Workbook

Sheet ALL
A1: 2015Ã. 1-ÇÝ ÏÇë³ÙÛ³Ï | C1: Ð²ÞìºîìàôÂÚàôÜ | K1: Ï³½Ùí³Í` ÐÐ Ï³é³í³ñáõÃÛ³Ý 19.03.2015Ã. ÃÇí 306-Ü áñáßÙ³Ý ÑÇÙ³Ý íñ³
A2: ØÇÝã¹³ï³Ï³Ý í³ñáõÛÃÇ ÝÏ³ïÙ³Ùµ ¹³ï³Ï³Ý í»ñ³ÑëÏáÕáõÃÛ³ÝÁ, ¹³ï³Ï³Ý ³Ïï»ñÇ ¨ ¹³ï³Ï³Ý Ñ³ÝÓÝ³ñ³ñáõÃÛáõÝÝ»ñÇ Ï³ï³ñÙ³ÝÁ Ñ»ï Ï³åí³Í ÙÇçÝáñ¹áõÃÛáõÝÝ»ñÇ í»ñ³µ»ñÛ³É ¹³ï³Ï³Ý ·áñÍ»ñáí ÐÐ ÁÝ¹Ñ³Ýáõñ Çñ³í³ëáõÃÛ³Ý ³é³çÇÝ ³ïÛ³ÝÇ ¹³ï³ñ³ÝÝ»ñÇ ·áñÍáõÝ»áõÃÛ³Ý í»ñ³µ»ñÛ³É
A3: êïáõ·Çã Ñ³í³ë³ñáõÙ` 1+2=7+8+9, 7=3+4+5+6, | D3: Ñ³ßí»ïáõ Å³Ù³Ý³Ï³Ñ³ïí³ÍÇ ëÏ½µáõÙ Ý³Ëáñ¹ Ñ³ßí»ïáõ Å³Ù³Ý³Ï³Ñ³ïí³ÍÇó ÷áË³Ýóí³Í ·áñÍ»ñÇ ÁÝ¹Ñ³Ýáõñ ÃÇíÁ | E3: Ñ³ßí»ïáõ Å³Ù³Ý³Ï³Ñ³ïí³ÍáõÙ ëï³óí³Í ·áñÍ»ñÇ ÁÝ¹Ñ³Ýáõñ ÃÇíÁ | F3: Ñ³ßí»ïáõ Å³Ù³Ý³Ï³Ñ³ïí³ÍáõÙ ³í³ñïí³Í ·áñÍ»ñÇ ÁÝ¹Ñ³Ýáõñ ÃÇíÁ | K3: áõÕ³ñÏí»É ¿ Áëï ÁÝ¹¹³ïáõÃÛ³Ý | L3: Ñ³ßí»ïáõ Å³Ù³Ý³Ï³Ñ³ïí³ÍáõÙ ³Ý³í³ñï ·áñÍ»ñÇ ÁÝ¹Ñ³Ýáõñ ÃÇíÁ | M3: µáÕáù³ñÏí»É ¿ í»ñ³ùÝÝÇã ¹³ï³ñ³Ý
F4: Ù»ñÅí»É ¿ | G4: µ³í³ñ³ñí»É ¿ | H4: µ³í³ñ³ñí»É ¿ Ù³ëÝ³ÏÇ | I4: ÃáÕÝí»É ¿ ³é³Ýó ùÝÝáõÃÛ³Ý | J4: ÁÝ¹³Ù»ÝÁ
A5: 1. ØÇÝã¹³ï³Ï³Ý í³ñáõÛÃÇ ÝÏ³ïÙ³Ùµ ¹³ï³Ï³Ý í»ñ³ÑëÏáÕáõÃÛ³Ý áÉáñï | D5: 1 | E5: 2 | F5: 3 | G5: 4 | H5: 5 | I5: 6 | J5: 7 | K5: 8 | L5: 9 | M5: 10
A6: 1 | B6: Ï³É³ÝùÁ áñå»ë Ë³÷³ÝÙ³Ý ÙÇçáó ÏÇñ³é»Éáõ Ù³ëÇÝ ÙÇçÝáñ¹áõÃÛáõÝÝ»ñ | D6: =Erebuni!D6+Kentron!D6+Ajapnyak!D6+Avan!D6+Arabkir!D6+Shengavit!D6+Malatia!D6+Kotayq!D6+Ararat!D6+Armavir!D6+Aragacotn!D6+Shirak!D6+Lori!D6+Tavush!D6+Gexarquniq!D6+Syuniq!D6 -> 0 | E6: =Erebuni!E6+Kentron!E6+Ajapnyak!E6+Avan!E6+Arabkir!E6+Shengavit!E6+Malatia!E6+Kotayq!E6+Ararat!E6+Armavir!E6+Aragacotn!E6+Shirak!E6+Lori!E6+Tavush!E6+Gexarquniq!E6+Syuniq!E6 -> 1253 | F6: =Erebuni!F6+Kentron!F6+Ajapnyak!F6+Avan!F6+Arabkir!F6+Shengavit!F6+Malatia!F6+Kotayq!F6+Ararat!F6+Armavir!F6+Aragacotn!F6+Shirak!F6+Lori!F6+Tavush!F6+Gexarquniq!F6+Syuniq!F6 -> 84 | G6: =Erebuni!G6+Kentron!G6+Ajapnyak!G6+Avan!G6+Arabkir!G6+Shengavit!G6+Malatia!G6+Kotayq!G6+Ararat!G6+Armavir!G6+Aragacotn!G6+Shirak!G6+Lori!G6+Tavush!G6+Gexarquniq!G6+Syuniq!G6 -> 1151 | H6: =Erebuni!H6+Kentron!H6+Ajapnyak!H6+Avan!H6+Arabkir!H6+Shengavit!H6+Malatia!H6+Kotayq!H6+Ararat!H6+Armavir!H6+Aragacotn!H6+Shirak!H6+Lori!H6+Tavush!H6+Gexarquniq!H6+Syuniq!H6 -> 13 | I6: =Erebuni!I6+Kentron!I6+Ajapnyak!I6+Avan!I6+Arabkir!I6+Shengavit!I6+Malatia!I6+Kotayq!I6+Ararat!I6+Armavir!I6+Aragacotn!I6+Shirak!I6+Lori!I6+Tavush!I6+Gexarquniq!I6+Syuniq!I6 -> 5 | J6: =Erebuni!J6+Kentron!J6+Ajapnyak!J6+Avan!J6+Arabkir!J6+Shengavit!J6+Malatia!J6+Kotayq!J6+Ararat!J6+Armavir!J6+Aragacotn!J6+Shirak!J6+Lori!J6+Tavush!J6+Gexarquniq!J6+Syuniq!J6 -> 1253 | K6: =Erebuni!K6+Kentron!K6+Ajapnyak!K6+Avan!K6+Arabkir!K6+Shengavit!K6+Malatia!K6+Kotayq!K6+Ararat!K6+Armavir!K6+Aragacotn!K6+Shirak!K6+Lori!K6+Tavush!K6+Gexarquniq!K6+Syuniq!K6 -> 0 | ... M6: =Erebuni!M6+Kentron!M6+Ajapnyak!M6+Avan!M6+Arabkir!M6+Shengavit!M6+Malatia!M6+Kotayq!M6+Ararat!M6+Armavir!M6+Aragacotn!M6+Shirak!M6+Lori!M6+Tavush!M6+Gexarquniq!M6+Syuniq!M6 -> 191
A7: 2 | B7: Ï³É³ÝùÇ Å³ÙÏ»ïÁ »ñÏ³ñ³óÝ»Éáõ Ù³ëÇÝ ÙÇçÝáñ¹áõÃÛáõÝÝ»ñ | D7: =Erebuni!D7+Kentron!D7+Ajapnyak!D7+Avan!D7+Arabkir!D7+Shengavit!D7+Malatia!D7+Kotayq!D7+Ararat!D7+Armavir!D7+Aragacotn!D7+Shirak!D7+Lori!D7+Tavush!D7+Gexarquniq!D7+Syuniq!D7 -> 31 | E7: =Erebuni!E7+Kentron!E7+Ajapnyak!E7+Avan!E7+Arabkir!E7+Shengavit!E7+Malatia!E7+Kotayq!E7+Ararat!E7+Armavir!E7+Aragacotn!E7+Shirak!E7+Lori!E7+Tavush!E7+Gexarquniq!E7+Syuniq!E7 -> 890 | F7: =Erebuni!F7+Kentron!F7+Ajapnyak!F7+Avan!F7+Arabkir!F7+Shengavit!F7+Malatia!F7+Kotayq!F7+Ararat!F7+Armavir!F7+Aragacotn!F7+Shirak!F7+Lori!F7+Tavush!F7+Gexarquniq!F7+Syuniq!F7 -> 20 | G7: =Erebuni!G7+Kentron!G7+Ajapnyak!G7+Avan!G7+Arabkir!G7+Shengavit!G7+Malatia!G7+Kotayq!G7+Ararat!G7+Armavir!G7+Aragacotn!G7+Shirak!G7+Lori!G7+Tavush!G7+Gexarquniq!G7+Syuniq!G7 -> 831 | H7: =Erebuni!H7+Kentron!H7+Ajapnyak!H7+Avan!H7+Arabkir!H7+Shengavit!H7+Malatia!H7+Kotayq!H7+Ararat!H7+Armavir!H7+Aragacotn!H7+Shirak!H7+Lori!H7+Tavush!H7+Gexarquniq!H7+Syuniq!H7 -> 51 | I7: =Erebuni!I7+Kentron!I7+Ajapnyak!I7+Avan!I7+Arabkir!I7+Shengavit!I7+Malatia!I7+Kotayq!I7+Ararat!I7+Armavir!I7+Aragacotn!I7+Shirak!I7+Lori!I7+Tavush!I7+Gexarquniq!I7+Syuniq!I7 -> 4 | J7: =Erebuni!J7+Kentron!J7+Ajapnyak!J7+Avan!J7+Arabkir!J7+Shengavit!J7+Malatia!J7+Kotayq!J7+Ararat!J7+Armavir!J7+Aragacotn!J7+Shirak!J7+Lori!J7+Tavush!J7+Gexarquniq!J7+Syuniq!J7 -> 906 | K7: =Erebuni!K7+Kentron!K7+Ajapnyak!K7+Avan!K7+Arabkir!K7+Shengavit!K7+Malatia!K7+Kotayq!K7+Ararat!K7+Armavir!K7+Aragacotn!K7+Shirak!K7+Lori!K7+Tavush!K7+Gexarquniq!K7+Syuniq!K7 -> 0 | ... M7: =Erebuni!M7+Kentron!M7+Ajapnyak!M7+Avan!M7+Arabkir!M7+Shengavit!M7+Malatia!M7+Kotayq!M7+Ararat!M7+Armavir!M7+Aragacotn!M7+Shirak!M7+Lori!M7+Tavush!M7+Gexarquniq!M7+Syuniq!M7 -> 172
A8: 3 | B8: Ï³É³ÝùÇ í»ñ³Ñ³ëï³ïÙ³Ý Ù³ëÇÝ ÙÇçÝáñ¹áõÃÛáõÝÝ»ñ | D8: =Erebuni!D8+Kentron!D8+Ajapnyak!D8+Avan!D8+Arabkir!D8+Shengavit!D8+Malatia!D8+Kotayq!D8+Ararat!D8+Armavir!D8+Aragacotn!D8+Shirak!D8+Lori!D8+Tavush!D8+Gexarquniq!D8+Syuniq!D8 -> 0 | E8: =Erebuni!E8+Kentron!E8+Ajapnyak!E8+Avan!E8+Arabkir!E8+Shengavit!E8+Malatia!E8+Kotayq!E8+Ararat!E8+Armavir!E8+Aragacotn!E8+Shirak!E8+Lori!E8+Tavush!E8+Gexarquniq!E8+Syuniq!E8 -> 116 | F8: =Erebuni!F8+Kentron!F8+Ajapnyak!F8+Avan!F8+Arabkir!F8+Shengavit!F8+Malatia!F8+Kotayq!F8+Ararat!F8+Armavir!F8+Aragacotn!F8+Shirak!F8+Lori!F8+Tavush!F8+Gexarquniq!F8+Syuniq!F8 -> 16 | G8: =Erebuni!G8+Kentron!G8+Ajapnyak!G8+Avan!G8+Arabkir!G8+Shengavit!G8+Malatia!G8+Kotayq!G8+Ararat!G8+Armavir!G8+Aragacotn!G8+Shirak!G8+Lori!G8+Tavush!G8+Gexarquniq!G8+Syuniq!G8 -> 99 | H8: =Erebuni!H8+Kentron!H8+Ajapnyak!H8+Avan!H8+Arabkir!H8+Shengavit!H8+Malatia!H8+Kotayq!H8+Ararat!H8+Armavir!H8+Aragacotn!H8+Shirak!H8+Lori!H8+Tavush!H8+Gexarquniq!H8+Syuniq!H8 -> 1 | I8: =Erebuni!I8+Kentron!I8+Ajapnyak!I8+Avan!I8+Arabkir!I8+Shengavit!I8+Malatia!I8+Kotayq!I8+Ararat!I8+Armavir!I8+Aragacotn!I8+Shirak!I8+Lori!I8+Tavush!I8+Gexarquniq!I8+Syuniq!I8 -> 0 | J8: =Erebuni!J8+Kentron!J8+Ajapnyak!J8+Avan!J8+Arabkir!J8+Shengavit!J8+Malatia!J8+Kotayq!J8+Ararat!J8+Armavir!J8+Aragacotn!J8+Shirak!J8+Lori!J8+Tavush!J8+Gexarquniq!J8+Syuniq!J8 -> 116 | K8: =Erebuni!K8+Kentron!K8+Ajapnyak!K8+Avan!K8+Arabkir!K8+Shengavit!K8+Malatia!K8+Kotayq!K8+Ararat!K8+Armavir!K8+Aragacotn!K8+Shirak!K8+Lori!K8+Tavush!K8+Gexarquniq!K8+Syuniq!K8 -> 0 | ... M8: =Erebuni!M8+Kentron!M8+Ajapnyak!M8+Avan!M8+Arabkir!M8+Shengavit!M8+Malatia!M8+Kotayq!M8+Ararat!M8+Armavir!M8+Aragacotn!M8+Shirak!M8+Lori!M8+Tavush!M8+Gexarquniq!M8+Syuniq!M8 -> 29
A9: 4 | B9: ·ñ³íÁ áñå»ë Ï³É³Ý³íáñÙ³Ý ³ÛÉÁÝïñ³Ýù³ÛÇÝ Ë³÷³ÝÙ³Ý ÙÇçáó ÏÇñ³é»Éáõ Ù³ëÇÝ ÙÇçÝáñ¹áõÃÛáõÝÝ»ñ | D9: =Erebuni!D9+Kentron!D9+Ajapnyak!D9+Avan!D9+Arabkir!D9+Shengavit!D9+Malatia!D9+Kotayq!D9+Ararat!D9+Armavir!D9+Aragacotn!D9+Shirak!D9+Lori!D9+Tavush!D9+Gexarquniq!D9+Syuniq!D9 -> 1 | E9: =Erebuni!E9+Kentron!E9+Ajapnyak!E9+Avan!E9+Arabkir!E9+Shengavit!E9+Malatia!E9+Kotayq!E9+Ararat!E9+Armavir!E9+Aragacotn!E9+Shirak!E9+Lori!E9+Tavush!E9+Gexarquniq!E9+Syuniq!E9 -> 324 | F9: =Erebuni!F9+Kentron!F9+Ajapnyak!F9+Avan!F9+Arabkir!F9+Shengavit!F9+Malatia!F9+Kotayq!F9+Ararat!F9+Armavir!F9+Aragacotn!F9+Shirak!F9+Lori!F9+Tavush!F9+Gexarquniq!F9+Syuniq!F9 -> 255 | G9: =Erebuni!G9+Kentron!G9+Ajapnyak!G9+Avan!G9+Arabkir!G9+Shengavit!G9+Malatia!G9+Kotayq!G9+Ararat!G9+Armavir!G9+Aragacotn!G9+Shirak!G9+Lori!G9+Tavush!G9+Gexarquniq!G9+Syuniq!G9 -> 56 | H9: =Erebuni!H9+Kentron!H9+Ajapnyak!H9+Avan!H9+Arabkir!H9+Shengavit!H9+Malatia!H9+Kotayq!H9+Ararat!H9+Armavir!H9+Aragacotn!H9+Shirak!H9+Lori!H9+Tavush!H9+Gexarquniq!H9+Syuniq!H9 -> 0 | I9: =Erebuni!I9+Kentron!I9+Ajapnyak!I9+Avan!I9+Arabkir!I9+Shengavit!I9+Malatia!I9+Kotayq!I9+Ararat!I9+Armavir!I9+Aragacotn!I9+Shirak!I9+Lori!I9+Tavush!I9+Gexarquniq!I9+Syuniq!I9 -> 9 | J9: =Erebuni!J9+Kentron!J9+Ajapnyak!J9+Avan!J9+Arabkir!J9+Shengavit!J9+Malatia!J9+Kotayq!J9+Ararat!J9+Armavir!J9+Aragacotn!J9+Shirak!J9+Lori!J9+Tavush!J9+Gexarquniq!J9+Syuniq!J9 -> 320 | K9: =Erebuni!K9+Kentron!K9+Ajapnyak!K9+Avan!K9+Arabkir!K9+Shengavit!K9+Malatia!K9+Kotayq!K9+Ararat!K9+Armavir!K9+Aragacotn!K9+Shirak!K9+Lori!K9+Tavush!K9+Gexarquniq!K9+Syuniq!K9 -> 0 | ... M9: =Erebuni!M9+Kentron!M9+Ajapnyak!M9+Avan!M9+Arabkir!M9+Shengavit!M9+Malatia!M9+Kotayq!M9+Ararat!M9+Armavir!M9+Aragacotn!M9+Shirak!M9+Lori!M9+Tavush!M9+Gexarquniq!M9+Syuniq!M9 -> 48
A10: 5 | B10: Ëáõ½³ñÏáõÃÛ³Ý Ï³ï³ñÙ³Ý Ù³ëÇÝ ÙÇçÝáñ¹áõÃÛáõÝÝ»ñ | D10: =Erebuni!D10+Kentron!D10+Ajapnyak!D10+Avan!D10+Arabkir!D10+Shengavit!D10+Malatia!D10+Kotayq!D10+Ararat!D10+Armavir!D10+Aragacotn!D10+Shirak!D10+Lori!D10+Tavush!D10+Gexarquniq!D10+Syuniq!D10 -> 0 | E10: =Erebuni!E10+Kentron!E10+Ajapnyak!E10+Avan!E10+Arabkir!E10+Shengavit!E10+Malatia!E10+Kotayq!E10+Ararat!E10+Armavir!E10+Aragacotn!E10+Shirak!E10+Lori!E10+Tavush!E10+Gexarquniq!E10+Syuniq!E10 -> 2323 | F10: =Erebuni!F10+Kentron!F10+Ajapnyak!F10+Avan!F10+Arabkir!F10+Shengavit!F10+Malatia!F10+Kotayq!F10+Ararat!F10+Armavir!F10+Aragacotn!F10+Shirak!F10+Lori!F10+Tavush!F10+Gexarquniq!F10+Syuniq!F10 -> 81 | G10: =Erebuni!G10+Kentron!G10+Ajapnyak!G10+Avan!G10+Arabkir!G10+Shengavit!G10+Malatia!G10+Kotayq!G10+Ararat!G10+Armavir!G10+Aragacotn!G10+Shirak!G10+Lori!G10+Tavush!G10+Gexarquniq!G10+Syuniq!G10 -> 2229 | H10: =Erebuni!H10+Kentron!H10+Ajapnyak!H10+Avan!H10+Arabkir!H10+Shengavit!H10+Malatia!H10+Kotayq!H10+Ararat!H10+Armavir!H10+Aragacotn!H10+Shirak!H10+Lori!H10+Tavush!H10+Gexarquniq!H10+Syuniq!H10 -> 8 | I10: =Erebuni!I10+Kentron!I10+Ajapnyak!I10+Avan!I10+Arabkir!I10+Shengavit!I10+Malatia!I10+Kotayq!I10+Ararat!I10+Armavir!I10+Aragacotn!I10+Shirak!I10+Lori!I10+Tavush!I10+Gexarquniq!I10+Syuniq!I10 -> 6 | J10: =Erebuni!J10+Kentron!J10+Ajapnyak!J10+Avan!J10+Arabkir!J10+Shengavit!J10+Malatia!J10+Kotayq!J10+Ararat!J10+Armavir!J10+Aragacotn!J10+Shirak!J10+Lori!J10+Tavush!J10+Gexarquniq!J10+Syuniq!J10 -> 2324 | K10: =Erebuni!K10+Kentron!K10+Ajapnyak!K10+Avan!K10+Arabkir!K10+Shengavit!K10+Malatia!K10+Kotayq!K10+Ararat!K10+Armavir!K10+Aragacotn!K10+Shirak!K10+Lori!K10+Tavush!K10+Gexarquniq!K10+Syuniq!K10 -> 0 | ... M10: =Erebuni!M10+Kentron!M10+Ajapnyak!M10+Avan!M10+Arabkir!M10+Shengavit!M10+Malatia!M10+Kotayq!M10+Ararat!M10+Armavir!M10+Aragacotn!M10+Shirak!M10+Lori!M10+Tavush!M10+Gexarquniq!M10+Syuniq!M10 -> 8
A11: 6 | B11: µ³ÝÏ³ÛÇÝ, ³å³Ñáí³·ñ³Ï³Ý, Ýáï³ñ³Ï³Ý ·³ÕïÝÇù Ï³½ÙáÕ ï»Õ»ÏáõÃÛáõÝÝ»ñÇ ëï³óÙ³Ý Ñ³Ù³ñ Ëáõ½³ñÏáõÃÛ³Ý Ï³Ù ³é·ñ³íÙ³Ý Ï³ï³ñÙ³Ý Ù³ëÇÝ ÙÇçÝáñ¹áõÃÛáõÝÝ»ñ | D11: =Erebuni!D11+Kentron!D11+Ajapnyak!D11+Avan!D11+Arabkir!D11+Shengavit!D11+Malatia!D11+Kotayq!D11+Ararat!D11+Armavir!D11+Aragacotn!D11+Shirak!D11+Lori!D11+Tavush!D11+Gexarquniq!D11+Syuniq!D11 -> 0 | E11: =Erebuni!E11+Kentron!E11+Ajapnyak!E11+Avan!E11+Arabkir!E11+Shengavit!E11+Malatia!E11+Kotayq!E11+Ararat!E11+Armavir!E11+Aragacotn!E11+Shirak!E11+Lori!E11+Tavush!E11+Gexarquniq!E11+Syuniq!E11 -> 132 | F11: =Erebuni!F11+Kentron!F11+Ajapnyak!F11+Avan!F11+Arabkir!F11+Shengavit!F11+Malatia!F11+Kotayq!F11+Ararat!F11+Armavir!F11+Aragacotn!F11+Shirak!F11+Lori!F11+Tavush!F11+Gexarquniq!F11+Syuniq!F11 -> 18 | G11: =Erebuni!G11+Kentron!G11+Ajapnyak!G11+Avan!G11+Arabkir!G11+Shengavit!G11+Malatia!G11+Kotayq!G11+Ararat!G11+Armavir!G11+Aragacotn!G11+Shirak!G11+Lori!G11+Tavush!G11+Gexarquniq!G11+Syuniq!G11 -> 102 | H11: =Erebuni!H11+Kentron!H11+Ajapnyak!H11+Avan!H11+Arabkir!H11+Shengavit!H11+Malatia!H11+Kotayq!H11+Ararat!H11+Armavir!H11+Aragacotn!H11+Shirak!H11+Lori!H11+Tavush!H11+Gexarquniq!H11+Syuniq!H11 -> 11 | I11: =Erebuni!I11+Kentron!I11+Ajapnyak!I11+Avan!I11+Arabkir!I11+Shengavit!I11+Malatia!I11+Kotayq!I11+Ararat!I11+Armavir!I11+Aragacotn!I11+Shirak!I11+Lori!I11+Tavush!I11+Gexarquniq!I11+Syuniq!I11 -> 1 | J11: =Erebuni!J11+Kentron!J11+Ajapnyak!J11+Avan!J11+Arabkir!J11+Shengavit!J11+Malatia!J11+Kotayq!J11+Ararat!J11+Armavir!J11+Aragacotn!J11+Shirak!J11+Lori!J11+Tavush!J11+Gexarquniq!J11+Syuniq!J11 -> 132 | K11: =Erebuni!K11+Kentron!K11+Ajapnyak!K11+Avan!K11+Arabkir!K11+Shengavit!K11+Malatia!K11+Kotayq!K11+Ararat!K11+Armavir!K11+Aragacotn!K11+Shirak!K11+Lori!K11+Tavush!K11+Gexarquniq!K11+Syuniq!K11 -> 0 | ... M11: =Erebuni!M11+Kentron!M11+Ajapnyak!M11+Avan!M11+Arabkir!M11+Shengavit!M11+Malatia!M11+Kotayq!M11+Ararat!M11+Armavir!M11+Aragacotn!M11+Shirak!M11+Lori!M11+Tavush!M11+Gexarquniq!M11+Syuniq!M11 -> 0
A12: 7 | B12: Ý³Ù³Ï³·ñáõÃÛ³Ý, Ñ»é³·ñ³Ï³Ý, ÷áuï³ÛÇÝ Ñ³Õáñ¹áõÙÝ»ñÇ ÑëÏáÕáõÃÛ³Ý Ù³ëÇÝ ÙÇçÝáñ¹áõÃÛáõÝÝ»ñ | D12: =Erebuni!D12+Kentron!D12+Ajapnyak!D12+Avan!D12+Arabkir!D12+Shengavit!D12+Malatia!D12+Kotayq!D12+Ararat!D12+Armavir!D12+Aragacotn!D12+Shirak!D12+Lori!D12+Tavush!D12+Gexarquniq!D12+Syuniq!D12 -> 0 | E12: =Erebuni!E12+Kentron!E12+Ajapnyak!E12+Avan!E12+Arabkir!E12+Shengavit!E12+Malatia!E12+Kotayq!E12+Ararat!E12+Armavir!E12+Aragacotn!E12+Shirak!E12+Lori!E12+Tavush!E12+Gexarquniq!E12+Syuniq!E12 -> 354 | F12: =Erebuni!F12+Kentron!F12+Ajapnyak!F12+Avan!F12+Arabkir!F12+Shengavit!F12+Malatia!F12+Kotayq!F12+Ararat!F12+Armavir!F12+Aragacotn!F12+Shirak!F12+Lori!F12+Tavush!F12+Gexarquniq!F12+Syuniq!F12 -> 1 | G12: =Erebuni!G12+Kentron!G12+Ajapnyak!G12+Avan!G12+Arabkir!G12+Shengavit!G12+Malatia!G12+Kotayq!G12+Ararat!G12+Armavir!G12+Aragacotn!G12+Shirak!G12+Lori!G12+Tavush!G12+Gexarquniq!G12+Syuniq!G12 -> 334 | H12: =Erebuni!H12+Kentron!H12+Ajapnyak!H12+Avan!H12+Arabkir!H12+Shengavit!H12+Malatia!H12+Kotayq!H12+Ararat!H12+Armavir!H12+Aragacotn!H12+Shirak!H12+Lori!H12+Tavush!H12+Gexarquniq!H12+Syuniq!H12 -> 4 | I12: =Erebuni!I12+Kentron!I12+Ajapnyak!I12+Avan!I12+Arabkir!I12+Shengavit!I12+Malatia!I12+Kotayq!I12+Ararat!I12+Armavir!I12+Aragacotn!I12+Shirak!I12+Lori!I12+Tavush!I12+Gexarquniq!I12+Syuniq!I12 -> 15 | J12: =Erebuni!J12+Kentron!J12+Ajapnyak!J12+Avan!J12+Arabkir!J12+Shengavit!J12+Malatia!J12+Kotayq!J12+Ararat!J12+Armavir!J12+Aragacotn!J12+Shirak!J12+Lori!J12+Tavush!J12+Gexarquniq!J12+Syuniq!J12 -> 354 | K12: =Erebuni!K12+Kentron!K12+Ajapnyak!K12+Avan!K12+Arabkir!K12+Shengavit!K12+Malatia!K12+Kotayq!K12+Ararat!K12+Armavir!K12+Aragacotn!K12+Shirak!K12+Lori!K12+Tavush!K12+Gexarquniq!K12+Syuniq!K12 -> 0 | ... M12: =Erebuni!M12+Kentron!M12+Ajapnyak!M12+Avan!M12+Arabkir!M12+Shengavit!M12+Malatia!M12+Kotayq!M12+Ararat!M12+Armavir!M12+Aragacotn!M12+Shirak!M12+Lori!M12+Tavush!M12+Gexarquniq!M12+Syuniq!M12 -> 1
A13: 8 | B13: Ñ»é³Ëáu³ÛÇÝ Ï³Ù Ï³åÇ ³ÛÉ ÙÇçáóÝ»ñáí ï³ñíáÕ Ëáu³ÏóáõÃÛáõÝÝ»ñÇ ÉuÙ³Ý ¨ Ó³ÛÝ³·ñ³éÙ³Ý Ù³ëÇÝ ÙÇçÝáñ¹áõÃÛáõÝÝ»ñ | D13: =Erebuni!D13+Kentron!D13+Ajapnyak!D13+Avan!D13+Arabkir!D13+Shengavit!D13+Malatia!D13+Kotayq!D13+Ararat!D13+Armavir!D13+Aragacotn!D13+Shirak!D13+Lori!D13+Tavush!D13+Gexarquniq!D13+Syuniq!D13 -> 0 | E13: =Erebuni!E13+Kentron!E13+Ajapnyak!E13+Avan!E13+Arabkir!E13+Shengavit!E13+Malatia!E13+Kotayq!E13+Ararat!E13+Armavir!E13+Aragacotn!E13+Shirak!E13+Lori!E13+Tavush!E13+Gexarquniq!E13+Syuniq!E13 -> 70 | F13: =Erebuni!F13+Kentron!F13+Ajapnyak!F13+Avan!F13+Arabkir!F13+Shengavit!F13+Malatia!F13+Kotayq!F13+Ararat!F13+Armavir!F13+Aragacotn!F13+Shirak!F13+Lori!F13+Tavush!F13+Gexarquniq!F13+Syuniq!F13 -> 0 | G13: =Erebuni!G13+Kentron!G13+Ajapnyak!G13+Avan!G13+Arabkir!G13+Shengavit!G13+Malatia!G13+Kotayq!G13+Ararat!G13+Armavir!G13+Aragacotn!G13+Shirak!G13+Lori!G13+Tavush!G13+Gexarquniq!G13+Syuniq!G13 -> 68 | H13: =Erebuni!H13+Kentron!H13+Ajapnyak!H13+Avan!H13+Arabkir!H13+Shengavit!H13+Malatia!H13+Kotayq!H13+Ararat!H13+Armavir!H13+Aragacotn!H13+Shirak!H13+Lori!H13+Tavush!H13+Gexarquniq!H13+Syuniq!H13 -> 1 | I13: =Erebuni!I13+Kentron!I13+Ajapnyak!I13+Avan!I13+Arabkir!I13+Shengavit!I13+Malatia!I13+Kotayq!I13+Ararat!I13+Armavir!I13+Aragacotn!I13+Shirak!I13+Lori!I13+Tavush!I13+Gexarquniq!I13+Syuniq!I13 -> 1 | J13: =Erebuni!J13+Kentron!J13+Ajapnyak!J13+Avan!J13+Arabkir!J13+Shengavit!J13+Malatia!J13+Kotayq!J13+Ararat!J13+Armavir!J13+Aragacotn!J13+Shirak!J13+Lori!J13+Tavush!J13+Gexarquniq!J13+Syuniq!J13 -> 70 | K13: =Erebuni!K13+Kentron!K13+Ajapnyak!K13+Avan!K13+Arabkir!K13+Shengavit!K13+Malatia!K13+Kotayq!K13+Ararat!K13+Armavir!K13+Aragacotn!K13+Shirak!K13+Lori!K13+Tavush!K13+Gexarquniq!K13+Syuniq!K13 -> 0 | ... M13: =Erebuni!M13+Kentron!M13+Ajapnyak!M13+Avan!M13+Arabkir!M13+Shengavit!M13+Malatia!M13+Kotayq!M13+Ararat!M13+Armavir!M13+Aragacotn!M13+Shirak!M13+Lori!M13+Tavush!M13+Gexarquniq!M13+Syuniq!M13 -> 0
A14: 9 | B14: Ñ»é³ËáëÝ»ñÇ Ùáõïù³ÛÇÝ ¨ »Éù³ÛÇÝ í»ñÍ³ÝÙ³Ý ÃáõÛÉïíáõÃÛáõÝ ëï³Ý³Éáõ Ù³ëÇÝ ÙÇçÝáñ¹áõÃÛáõÝÝ»ñ | D14: =Erebuni!D14+Kentron!D14+Ajapnyak!D14+Avan!D14+Arabkir!D14+Shengavit!D14+Malatia!D14+Kotayq!D14+Ararat!D14+Armavir!D14+Aragacotn!D14+Shirak!D14+Lori!D14+Tavush!D14+Gexarquniq!D14+Syuniq!D14 -> 0 | E14: =Erebuni!E14+Kentron!E14+Ajapnyak!E14+Avan!E14+Arabkir!E14+Shengavit!E14+Malatia!E14+Kotayq!E14+Ararat!E14+Armavir!E14+Aragacotn!E14+Shirak!E14+Lori!E14+Tavush!E14+Gexarquniq!E14+Syuniq!E14 -> 2055 | F14: =Erebuni!F14+Kentron!F14+Ajapnyak!F14+Avan!F14+Arabkir!F14+Shengavit!F14+Malatia!F14+Kotayq!F14+Ararat!F14+Armavir!F14+Aragacotn!F14+Shirak!F14+Lori!F14+Tavush!F14+Gexarquniq!F14+Syuniq!F14 -> 42 | G14: =Erebuni!G14+Kentron!G14+Ajapnyak!G14+Avan!G14+Arabkir!G14+Shengavit!G14+Malatia!G14+Kotayq!G14+Ararat!G14+Armavir!G14+Aragacotn!G14+Shirak!G14+Lori!G14+Tavush!G14+Gexarquniq!G14+Syuniq!G14 -> 1973 | H14: =Erebuni!H14+Kentron!H14+Ajapnyak!H14+Avan!H14+Arabkir!H14+Shengavit!H14+Malatia!H14+Kotayq!H14+Ararat!H14+Armavir!H14+Aragacotn!H14+Shirak!H14+Lori!H14+Tavush!H14+Gexarquniq!H14+Syuniq!H14 -> 34 | I14: =Erebuni!I14+Kentron!I14+Ajapnyak!I14+Avan!I14+Arabkir!I14+Shengavit!I14+Malatia!I14+Kotayq!I14+Ararat!I14+Armavir!I14+Aragacotn!I14+Shirak!I14+Lori!I14+Tavush!I14+Gexarquniq!I14+Syuniq!I14 -> 5 | J14: =Erebuni!J14+Kentron!J14+Ajapnyak!J14+Avan!J14+Arabkir!J14+Shengavit!J14+Malatia!J14+Kotayq!J14+Ararat!J14+Armavir!J14+Aragacotn!J14+Shirak!J14+Lori!J14+Tavush!J14+Gexarquniq!J14+Syuniq!J14 -> 2054 | K14: =Erebuni!K14+Kentron!K14+Ajapnyak!K14+Avan!K14+Arabkir!K14+Shengavit!K14+Malatia!K14+Kotayq!K14+Ararat!K14+Armavir!K14+Aragacotn!K14+Shirak!K14+Lori!K14+Tavush!K14+Gexarquniq!K14+Syuniq!K14 -> 0 | ... M14: =Erebuni!M14+Kentron!M14+Ajapnyak!M14+Avan!M14+Arabkir!M14+Shengavit!M14+Malatia!M14+Kotayq!M14+Ararat!M14+Armavir!M14+Aragacotn!M14+Shirak!M14+Lori!M14+Tavush!M14+Gexarquniq!M14+Syuniq!M14 -> 7
A15: 10 | B15: Ñ»ï³ùÝÝáõÃÛ³Ý Ù³ñÙÝÇ ³ßË³ïáÕÇ, ùÝÝÇãÇ, ¹³ï³Ë³½Ç oå»ñ³ïÇí-Ñ»ï³Ëáõ½³Ï³Ý ·áñÍáÕáõÃÛáõÝÝ»ñ Çñ³Ï³Ý³óÝáÕ Ù³ñÙÇÝÝ»ñÇ ³ÝoñÇÝ³Ï³Ý ¨ ³ÝÑÇÙÝ áñáßáõÙÝ»ñÇ ¨ ·áñÍáÕáõÃÛáõÝÝ»ñÇ ¹»Ù µáÕáùÝ»ñ | D15: =Erebuni!D15+Kentron!D15+Ajapnyak!D15+Avan!D15+Arabkir!D15+Shengavit!D15+Malatia!D15+Kotayq!D15+Ararat!D15+Armavir!D15+Aragacotn!D15+Shirak!D15+Lori!D15+Tavush!D15+Gexarquniq!D15+Syuniq!D15 -> 106 | E15: =Erebuni!E15+Kentron!E15+Ajapnyak!E15+Avan!E15+Arabkir!E15+Shengavit!E15+Malatia!E15+Kotayq!E15+Ararat!E15+Armavir!E15+Aragacotn!E15+Shirak!E15+Lori!E15+Tavush!E15+Gexarquniq!E15+Syuniq!E15 -> 403 | F15: =Erebuni!F15+Kentron!F15+Ajapnyak!F15+Avan!F15+Arabkir!F15+Shengavit!F15+Malatia!F15+Kotayq!F15+Ararat!F15+Armavir!F15+Aragacotn!F15+Shirak!F15+Lori!F15+Tavush!F15+Gexarquniq!F15+Syuniq!F15 -> 273 | G15: =Erebuni!G15+Kentron!G15+Ajapnyak!G15+Avan!G15+Arabkir!G15+Shengavit!G15+Malatia!G15+Kotayq!G15+Ararat!G15+Armavir!G15+Aragacotn!G15+Shirak!G15+Lori!G15+Tavush!G15+Gexarquniq!G15+Syuniq!G15 -> 53 | H15: =Erebuni!H15+Kentron!H15+Ajapnyak!H15+Avan!H15+Arabkir!H15+Shengavit!H15+Malatia!H15+Kotayq!H15+Ararat!H15+Armavir!H15+Aragacotn!H15+Shirak!H15+Lori!H15+Tavush!H15+Gexarquniq!H15+Syuniq!H15 -> 6 | I15: =Erebuni!I15+Kentron!I15+Ajapnyak!I15+Avan!I15+Arabkir!I15+Shengavit!I15+Malatia!I15+Kotayq!I15+Ararat!I15+Armavir!I15+Aragacotn!I15+Shirak!I15+Lori!I15+Tavush!I15+Gexarquniq!I15+Syuniq!I15 -> 13 | J15: =Erebuni!J15+Kentron!J15+Ajapnyak!J15+Avan!J15+Arabkir!J15+Shengavit!J15+Malatia!J15+Kotayq!J15+Ararat!J15+Armavir!J15+Aragacotn!J15+Shirak!J15+Lori!J15+Tavush!J15+Gexarquniq!J15+Syuniq!J15 -> 345 | K15: =Erebuni!K15+Kentron!K15+Ajapnyak!K15+Avan!K15+Arabkir!K15+Shengavit!K15+Malatia!K15+Kotayq!K15+Ararat!K15+Armavir!K15+Aragacotn!K15+Shirak!K15+Lori!K15+Tavush!K15+Gexarquniq!K15+Syuniq!K15 -> 27 | ... M15: =Erebuni!M15+Kentron!M15+Ajapnyak!M15+Avan!M15+Arabkir!M15+Shengavit!M15+Malatia!M15+Kotayq!M15+Ararat!M15+Armavir!M15+Aragacotn!M15+Shirak!M15+Lori!M15+Tavush!M15+Gexarquniq!M15+Syuniq!M15 -> 177
A16: 2. ¸³ï³Ï³Ý ³Ïï»ñÇ ¨ ¹³ï³Ï³Ý Ñ³ÝÓÝ³ñ³ñáõÃÛáõÝÝ»ñÇ Ï³ï³ñÙ³Ý Ñ»ï Ï³åí³Í Ñ³ñó»ñÇ ÉáõÍÙ³Ý áÉáñï
A17: 1 | B17: å³ïÅÇó å³ÛÙ³Ý³Ï³Ý í³Õ³Å³ÙÏ»ï ³½³ï»Éáõ Ù³ëÇÝ ÙÇçÝáñ¹áõÃÛáõÝÝ»ñ | D17: =Erebuni!D17+Kentron!D17+Ajapnyak!D17+Avan!D17+Arabkir!D17+Shengavit!D17+Malatia!D17+Kotayq!D17+Ararat!D17+Armavir!D17+Aragacotn!D17+Shirak!D17+Lori!D17+Tavush!D17+Gexarquniq!D17+Syuniq!D17 -> 2 | E17: =Erebuni!E17+Kentron!E17+Ajapnyak!E17+Avan!E17+Arabkir!E17+Shengavit!E17+Malatia!E17+Kotayq!E17+Ararat!E17+Armavir!E17+Aragacotn!E17+Shirak!E17+Lori!E17+Tavush!E17+Gexarquniq!E17+Syuniq!E17 -> 103 | F17: =Erebuni!F17+Kentron!F17+Ajapnyak!F17+Avan!F17+Arabkir!F17+Shengavit!F17+Malatia!F17+Kotayq!F17+Ararat!F17+Armavir!F17+Aragacotn!F17+Shirak!F17+Lori!F17+Tavush!F17+Gexarquniq!F17+Syuniq!F17 -> 17 | G17: =Erebuni!G17+Kentron!G17+Ajapnyak!G17+Avan!G17+Arabkir!G17+Shengavit!G17+Malatia!G17+Kotayq!G17+Ararat!G17+Armavir!G17+Aragacotn!G17+Shirak!G17+Lori!G17+Tavush!G17+Gexarquniq!G17+Syuniq!G17 -> 84 | H17: =Erebuni!H17+Kentron!H17+Ajapnyak!H17+Avan!H17+Arabkir!H17+Shengavit!H17+Malatia!H17+Kotayq!H17+Ararat!H17+Armavir!H17+Aragacotn!H17+Shirak!H17+Lori!H17+Tavush!H17+Gexarquniq!H17+Syuniq!H17 -> 0 | I17: =Erebuni!I17+Kentron!I17+Ajapnyak!I17+Avan!I17+Arabkir!I17+Shengavit!I17+Malatia!I17+Kotayq!I17+Ararat!I17+Armavir!I17+Aragacotn!I17+Shirak!I17+Lori!I17+Tavush!I17+Gexarquniq!I17+Syuniq!I17 -> 1 | J17: =Erebuni!J17+Kentron!J17+Ajapnyak!J17+Avan!J17+Arabkir!J17+Shengavit!J17+Malatia!J17+Kotayq!J17+Ararat!J17+Armavir!J17+Aragacotn!J17+Shirak!J17+Lori!J17+Tavush!J17+Gexarquniq!J17+Syuniq!J17 -> 102 | K17: =Erebuni!K17+Kentron!K17+Ajapnyak!K17+Avan!K17+Arabkir!K17+Shengavit!K17+Malatia!K17+Kotayq!K17+Ararat!K17+Armavir!K17+Aragacotn!K17+Shirak!K17+Lori!K17+Tavush!K17+Gexarquniq!K17+Syuniq!K17 -> 0 | ... M17: =Erebuni!M17+Kentron!M17+Ajapnyak!M17+Avan!M17+Arabkir!M17+Shengavit!M17+Malatia!M17+Kotayq!M17+Ararat!M17+Armavir!M17+Aragacotn!M17+Shirak!M17+Lori!M17+Tavush!M17+Gexarquniq!M17+Syuniq!M17 -> 15
A18: 2 | B18: å³ïÇÅÁ ÷á÷áË»Éáõ, Ñ»ï³Ó·»Éáõ ¨ å³ïÅÇó ³½³ï»Éáõ Ù³uÇÝ ÙÇçÝáñ¹áõÃÛáõÝÝ»ñ | D18: =Erebuni!D18+Kentron!D18+Ajapnyak!D18+Avan!D18+Arabkir!D18+Shengavit!D18+Malatia!D18+Kotayq!D18+Ararat!D18+Armavir!D18+Aragacotn!D18+Shirak!D18+Lori!D18+Tavush!D18+Gexarquniq!D18+Syuniq!D18 -> 44 | E18: =Erebuni!E18+Kentron!E18+Ajapnyak!E18+Avan!E18+Arabkir!E18+Shengavit!E18+Malatia!E18+Kotayq!E18+Ararat!E18+Armavir!E18+Aragacotn!E18+Shirak!E18+Lori!E18+Tavush!E18+Gexarquniq!E18+Syuniq!E18 -> 156 | F18: =Erebuni!F18+Kentron!F18+Ajapnyak!F18+Avan!F18+Arabkir!F18+Shengavit!F18+Malatia!F18+Kotayq!F18+Ararat!F18+Armavir!F18+Aragacotn!F18+Shirak!F18+Lori!F18+Tavush!F18+Gexarquniq!F18+Syuniq!F18 -> 46 | G18: =Erebuni!G18+Kentron!G18+Ajapnyak!G18+Avan!G18+Arabkir!G18+Shengavit!G18+Malatia!G18+Kotayq!G18+Ararat!G18+Armavir!G18+Aragacotn!G18+Shirak!G18+Lori!G18+Tavush!G18+Gexarquniq!G18+Syuniq!G18 -> 99 | H18: =Erebuni!H18+Kentron!H18+Ajapnyak!H18+Avan!H18+Arabkir!H18+Shengavit!H18+Malatia!H18+Kotayq!H18+Ararat!H18+Armavir!H18+Aragacotn!H18+Shirak!H18+Lori!H18+Tavush!H18+Gexarquniq!H18+Syuniq!H18 -> 8 | I18: =Erebuni!I18+Kentron!I18+Ajapnyak!I18+Avan!I18+Arabkir!I18+Shengavit!I18+Malatia!I18+Kotayq!I18+Ararat!I18+Armavir!I18+Aragacotn!I18+Shirak!I18+Lori!I18+Tavush!I18+Gexarquniq!I18+Syuniq!I18 -> 19 | J18: =Erebuni!J18+Kentron!J18+Ajapnyak!J18+Avan!J18+Arabkir!J18+Shengavit!J18+Malatia!J18+Kotayq!J18+Ararat!J18+Armavir!J18+Aragacotn!J18+Shirak!J18+Lori!J18+Tavush!J18+Gexarquniq!J18+Syuniq!J18 -> 172 | K18: =Erebuni!K18+Kentron!K18+Ajapnyak!K18+Avan!K18+Arabkir!K18+Shengavit!K18+Malatia!K18+Kotayq!K18+Ararat!K18+Armavir!K18+Aragacotn!K18+Shirak!K18+Lori!K18+Tavush!K18+Gexarquniq!K18+Syuniq!K18 -> 1 | ... M18: =Erebuni!M18+Kentron!M18+Ajapnyak!M18+Avan!M18+Arabkir!M18+Shengavit!M18+Malatia!M18+Kotayq!M18+Ararat!M18+Armavir!M18+Aragacotn!M18+Shirak!M18+Lori!M18+Tavush!M18+Gexarquniq!M18+Syuniq!M18 -> 5
A19: 3 | B19: Ñ³ñÏ³¹Çñ µáõÅÙ³Ý ï»ë³ÏÇ ÷á÷áËáõÃÛ³Ý Ù³ëÇÝ ÙÇçÝáñ¹áõÃÛáõÝÝ»ñ | D19: =Erebuni!D19+Kentron!D19+Ajapnyak!D19+Avan!D19+Arabkir!D19+Shengavit!D19+Malatia!D19+Kotayq!D19+Ararat!D19+Armavir!D19+Aragacotn!D19+Shirak!D19+Lori!D19+Tavush!D19+Gexarquniq!D19+Syuniq!D19 -> 0 | E19: =Erebuni!E19+Kentron!E19+Ajapnyak!E19+Avan!E19+Arabkir!E19+Shengavit!E19+Malatia!E19+Kotayq!E19+Ararat!E19+Armavir!E19+Aragacotn!E19+Shirak!E19+Lori!E19+Tavush!E19+Gexarquniq!E19+Syuniq!E19 -> 109 | F19: =Erebuni!F19+Kentron!F19+Ajapnyak!F19+Avan!F19+Arabkir!F19+Shengavit!F19+Malatia!F19+Kotayq!F19+Ararat!F19+Armavir!F19+Aragacotn!F19+Shirak!F19+Lori!F19+Tavush!F19+Gexarquniq!F19+Syuniq!F19 -> 13 | G19: =Erebuni!G19+Kentron!G19+Ajapnyak!G19+Avan!G19+Arabkir!G19+Shengavit!G19+Malatia!G19+Kotayq!G19+Ararat!G19+Armavir!G19+Aragacotn!G19+Shirak!G19+Lori!G19+Tavush!G19+Gexarquniq!G19+Syuniq!G19 -> 94 | H19: =Erebuni!H19+Kentron!H19+Ajapnyak!H19+Avan!H19+Arabkir!H19+Shengavit!H19+Malatia!H19+Kotayq!H19+Ararat!H19+Armavir!H19+Aragacotn!H19+Shirak!H19+Lori!H19+Tavush!H19+Gexarquniq!H19+Syuniq!H19 -> 0 | I19: =Erebuni!I19+Kentron!I19+Ajapnyak!I19+Avan!I19+Arabkir!I19+Shengavit!I19+Malatia!I19+Kotayq!I19+Ararat!I19+Armavir!I19+Aragacotn!I19+Shirak!I19+Lori!I19+Tavush!I19+Gexarquniq!I19+Syuniq!I19 -> 1 | J19: =Erebuni!J19+Kentron!J19+Ajapnyak!J19+Avan!J19+Arabkir!J19+Shengavit!J19+Malatia!J19+Kotayq!J19+Ararat!J19+Armavir!J19+Aragacotn!J19+Shirak!J19+Lori!J19+Tavush!J19+Gexarquniq!J19+Syuniq!J19 -> 108 | K19: =Erebuni!K19+Kentron!K19+Ajapnyak!K19+Avan!K19+Arabkir!K19+Shengavit!K19+Malatia!K19+Kotayq!K19+Ararat!K19+Armavir!K19+Aragacotn!K19+Shirak!K19+Lori!K19+Tavush!K19+Gexarquniq!K19+Syuniq!K19 -> 0 | ... M19: =Erebuni!M19+Kentron!M19+Ajapnyak!M19+Avan!M19+Arabkir!M19+Shengavit!M19+Malatia!M19+Kotayq!M19+Ararat!M19+Armavir!M19+Aragacotn!M19+Shirak!M19+Lori!M19+Tavush!M19+Gexarquniq!M19+Syuniq!M19 -> 6
A20: 4 | B20: ³ÛÉ ÙÇçÝáñ¹áõÃÛáõÝÝ»ñ | D20: =Erebuni!D20+Kentron!D20+Ajapnyak!D20+Avan!D20+Arabkir!D20+Shengavit!D20+Malatia!D20+Kotayq!D20+Ararat!D20+Armavir!D20+Aragacotn!D20+Shirak!D20+Lori!D20+Tavush!D20+Gexarquniq!D20+Syuniq!D20 -> 13 | E20: =Erebuni!E20+Kentron!E20+Ajapnyak!E20+Avan!E20+Arabkir!E20+Shengavit!E20+Malatia!E20+Kotayq!E20+Ararat!E20+Armavir!E20+Aragacotn!E20+Shirak!E20+Lori!E20+Tavush!E20+Gexarquniq!E20+Syuniq!E20 -> 246 | F20: =Erebuni!F20+Kentron!F20+Ajapnyak!F20+Avan!F20+Arabkir!F20+Shengavit!F20+Malatia!F20+Kotayq!F20+Ararat!F20+Armavir!F20+Aragacotn!F20+Shirak!F20+Lori!F20+Tavush!F20+Gexarquniq!F20+Syuniq!F20 -> 77 | G20: =Erebuni!G20+Kentron!G20+Ajapnyak!G20+Avan!G20+Arabkir!G20+Shengavit!G20+Malatia!G20+Kotayq!G20+Ararat!G20+Armavir!G20+Aragacotn!G20+Shirak!G20+Lori!G20+Tavush!G20+Gexarquniq!G20+Syuniq!G20 -> 117 | H20: =Erebuni!H20+Kentron!H20+Ajapnyak!H20+Avan!H20+Arabkir!H20+Shengavit!H20+Malatia!H20+Kotayq!H20+Ararat!H20+Armavir!H20+Aragacotn!H20+Shirak!H20+Lori!H20+Tavush!H20+Gexarquniq!H20+Syuniq!H20 -> 1 | I20: =Erebuni!I20+Kentron!I20+Ajapnyak!I20+Avan!I20+Arabkir!I20+Shengavit!I20+Malatia!I20+Kotayq!I20+Ararat!I20+Armavir!I20+Aragacotn!I20+Shirak!I20+Lori!I20+Tavush!I20+Gexarquniq!I20+Syuniq!I20 -> 23 | J20: =Erebuni!J20+Kentron!J20+Ajapnyak!J20+Avan!J20+Arabkir!J20+Shengavit!J20+Malatia!J20+Kotayq!J20+Ararat!J20+Armavir!J20+Aragacotn!J20+Shirak!J20+Lori!J20+Tavush!J20+Gexarquniq!J20+Syuniq!J20 -> 218 | K20: =Erebuni!K20+Kentron!K20+Ajapnyak!K20+Avan!K20+Arabkir!K20+Shengavit!K20+Malatia!K20+Kotayq!K20+Ararat!K20+Armavir!K20+Aragacotn!K20+Shirak!K20+Lori!K20+Tavush!K20+Gexarquniq!K20+Syuniq!K20 -> 7 | ... M20: =Erebuni!M20+Kentron!M20+Ajapnyak!M20+Avan!M20+Arabkir!M20+Shengavit!M20+Malatia!M20+Kotayq!M20+Ararat!M20+Armavir!M20+Aragacotn!M20+Shirak!M20+Lori!M20+Tavush!M20+Gexarquniq!M20+Syuniq!M20 -> 16
A21: 5 | B21: ¹³ï³Ï³Ý Ñ³ÝÓÝ³ñ³ñáõÃÛáõÝÝ»ñ | D21: =Erebuni!D21+Kentron!D21+Ajapnyak!D21+Avan!D21+Arabkir!D21+Shengavit!D21+Malatia!D21+Kotayq!D21+Ararat!D21+Armavir!D21+Aragacotn!D21+Shirak!D21+Lori!D21+Tavush!D21+Gexarquniq!D21+Syuniq!D21 -> 86 | E21: =Erebuni!E21+Kentron!E21+Ajapnyak!E21+Avan!E21+Arabkir!E21+Shengavit!E21+Malatia!E21+Kotayq!E21+Ararat!E21+Armavir!E21+Aragacotn!E21+Shirak!E21+Lori!E21+Tavush!E21+Gexarquniq!E21+Syuniq!E21 -> 104 | F21: =Erebuni!F21+Kentron!F21+Ajapnyak!F21+Avan!F21+Arabkir!F21+Shengavit!F21+Malatia!F21+Kotayq!F21+Ararat!F21+Armavir!F21+Aragacotn!F21+Shirak!F21+Lori!F21+Tavush!F21+Gexarquniq!F21+Syuniq!F21 -> 10 | G21: =Erebuni!G21+Kentron!G21+Ajapnyak!G21+Avan!G21+Arabkir!G21+Shengavit!G21+Malatia!G21+Kotayq!G21+Ararat!G21+Armavir!G21+Aragacotn!G21+Shirak!G21+Lori!G21+Tavush!G21+Gexarquniq!G21+Syuniq!G21 -> 54 | H21: =Erebuni!H21+Kentron!H21+Ajapnyak!H21+Avan!H21+Arabkir!H21+Shengavit!H21+Malatia!H21+Kotayq!H21+Ararat!H21+Armavir!H21+Aragacotn!H21+Shirak!H21+Lori!H21+Tavush!H21+Gexarquniq!H21+Syuniq!H21 -> 1 | I21: =Erebuni!I21+Kentron!I21+Ajapnyak!I21+Avan!I21+Arabkir!I21+Shengavit!I21+Malatia!I21+Kotayq!I21+Ararat!I21+Armavir!I21+Aragacotn!I21+Shirak!I21+Lori!I21+Tavush!I21+Gexarquniq!I21+Syuniq!I21 -> 5 | J21: =Erebuni!J21+Kentron!J21+Ajapnyak!J21+Avan!J21+Arabkir!J21+Shengavit!J21+Malatia!J21+Kotayq!J21+Ararat!J21+Armavir!J21+Aragacotn!J21+Shirak!J21+Lori!J21+Tavush!J21+Gexarquniq!J21+Syuniq!J21 -> 70 | K21: =Erebuni!K21+Kentron!K21+Ajapnyak!K21+Avan!K21+Arabkir!K21+Shengavit!K21+Malatia!K21+Kotayq!K21+Ararat!K21+Armavir!K21+Aragacotn!K21+Shirak!K21+Lori!K21+Tavush!K21+Gexarquniq!K21+Syuniq!K21 -> 1 | ... M21: =Erebuni!M21+Kentron!M21+Ajapnyak!M21+Avan!M21+Arabkir!M21+Shengavit!M21+Malatia!M21+Kotayq!M21+Ararat!M21+Armavir!M21+Aragacotn!M21+Shirak!M21+Lori!M21+Tavush!M21+Gexarquniq!M21+Syuniq!M21 -> 5
A22: ÀÜ¸²ØºÜÀ | D22: =SUM(D6:D15,D17:D21) -> 283 | E22: =SUM(E6:E15,E17:E21) -> 8638 | F22: =SUM(F6:F15,F17:F21) -> 953 | G22: =SUM(G6:G15,G17:G21) -> 7344 | H22: =SUM(H6:H15,H17:H21) -> 139 | I22: =SUM(I6:I15,I17:I21) -> 108 | J22: =SUM(J6:J15,J17:J21) -> 8544 | K22: =SUM(K6:K15,K17:K21) -> 36 | ... M22: =SUM(M6:M15,M17:M21) -> 680
C25: å³ïÇÅÁ ÷á÷áË»Éáõ, Ñ»ï³Ó·»Éáõ ¨ å³ïÅÇó ³½³ï»Éáõ Ù³uÇÝ ÙÇçÝáñ¹áõÃÛáõÝÝ»ñ Ù»ç 1 ·áñÍ ÙÇ³óí»É ¿
C26: դատական հանձնարարությունների մեջ 11 գործով որոշում չի կայացվել
C27: այլ միջնորդությունների մեջ 2 գործ վերադարձվել է
C28: դատական հանձնարարությունների մեջ 1 գործ հետ է վերադարձվել
C29: այլ միջնորդությունների մեջ 2 գործ ÙÇ³óí»É ¿

Sheet Erebuni
A1: 2015Ã. 1-ÇÝ ÏÇë³ÙÛ³Ï | C1: Ð²ÞìºîìàôÂÚàôÜ | K1: Ï³½Ùí³Í` ÐÐ Ï³é³í³ñáõÃÛ³Ý 19.03.2015Ã. ÃÇí 306-Ü áñáßÙ³Ý ÑÇÙ³Ý íñ³
A2: ØÇÝã¹³ï³Ï³Ý í³ñáõÛÃÇ ÝÏ³ïÙ³Ùµ ¹³ï³Ï³Ý í»ñ³ÑëÏáÕáõÃÛ³ÝÁ, ¹³ï³Ï³Ý ³Ïï»ñÇ ¨ ¹³ï³Ï³Ý Ñ³ÝÓÝ³ñ³ñáõÃÛáõÝÝ»ñÇ Ï³ï³ñÙ³ÝÁ Ñ»ï Ï³åí³Í ÙÇçÝáñ¹áõÃÛáõÝÝ»ñÇ í»ñ³µ»ñÛ³É ¹³ï³Ï³Ý ·áñÍ»ñáí ºñ¨³Ý ù³Õ³ùÇ ¾ñ»µáõÝÇ ¨ Üáõµ³ñ³ß»Ý í³ñã³Ï³Ý ßñç³ÝÝ»ñÇ ÁÝ¹Ñ³Ýáõñ Çñ³í³ëáõÃÛ³Ý ³é³çÇÝ ³ïÛ³ÝÇ ¹³ï³ñ³ÝÇ ·áñÍáõÝ»áõÃÛ³Ý í»ñ³µ»ñÛ³É
A3: êïáõ·Çã Ñ³í³ë³ñáõÙ` 1+2=7+8+9, 7=3+4+5+6, | D3: Ñ³ßí»ïáõ Å³Ù³Ý³Ï³Ñ³ïí³ÍÇ ëÏ½µáõÙ Ý³Ëáñ¹ Ñ³ßí»ïáõ Å³Ù³Ý³Ï³Ñ³ïí³ÍÇó ÷áË³Ýóí³Í ·áñÍ»ñÇ ÁÝ¹Ñ³Ýáõñ ÃÇíÁ | E3: Ñ³ßí»ïáõ Å³Ù³Ý³Ï³Ñ³ïí³ÍáõÙ ëï³óí³Í ·áñÍ»ñÇ ÁÝ¹Ñ³Ýáõñ ÃÇíÁ | F3: Ñ³ßí»ïáõ Å³Ù³Ý³Ï³Ñ³ïí³ÍáõÙ ³í³ñïí³Í ·áñÍ»ñÇ ÁÝ¹Ñ³Ýáõñ ÃÇíÁ | K3: áõÕ³ñÏí»É ¿ Áëï ÁÝ¹¹³ïáõÃÛ³Ý | L3: Ñ³ßí»ïáõ Å³Ù³Ý³Ï³Ñ³ïí³ÍáõÙ ³Ý³í³ñï ·áñÍ»ñÇ ÁÝ¹Ñ³Ýáõñ ÃÇíÁ | M3: µáÕáù³ñÏí»É ¿ í»ñ³ùÝÝÇã ¹³ï³ñ³Ý
F4: Ù»ñÅí»É ¿ | G4: µ³í³ñ³ñí»É ¿ | H4: µ³í³ñ³ñí»É ¿ Ù³ëÝ³ÏÇ | I4: ÃáÕÝí»É ¿ ³é³Ýó ùÝÝáõÃÛ³Ý | J4: ÁÝ¹³Ù»ÝÁ
A5: 1. ØÇÝã¹³ï³Ï³Ý í³ñáõÛÃÇ ÝÏ³ïÙ³Ùµ ¹³ï³Ï³Ý í»ñ³ÑëÏáÕáõÃÛ³Ý áÉáñï | D5: 1 | E5: 2 | F5: 3 | G5: 4 | H5: 5 | I5: 6 | J5: 7 | K5: 8 | L5: 9 | M5: 10
A6: 1 | B6: Ï³É³ÝùÁ áñå»ë Ë³÷³ÝÙ³Ý ÙÇçáó ÏÇñ³é»Éáõ Ù³ëÇÝ ÙÇçÝáñ¹áõÃÛáõÝÝ»ñ | D6: 0 | E6: 25 | F6: 3 | G6: 22 | H6: 0 | I6: 0 | J6: 25 | K6: 0 | L6: 0 | M6: 3
A7: 2 | B7: Ï³É³ÝùÇ Å³ÙÏ»ïÁ »ñÏ³ñ³óÝ»Éáõ Ù³ëÇÝ ÙÇçÝáñ¹áõÃÛáõÝÝ»ñ | D7: 4 | E7: 47 | F7: 0 | G7: 46 | H7: 4 | I7: 0 | J7: 50 | K7: 0 | L7: 1 | M7: 2
A8: 3 | B8: Ï³É³ÝùÇ í»ñ³Ñ³ëï³ïÙ³Ý Ù³ëÇÝ ÙÇçÝáñ¹áõÃÛáõÝÝ»ñ | D8: 0 | E8: 3 | F8: 0 | G8: 3 | H8: 0 | I8: 0 | J8: 3 | K8: 0 | L8: 0 | M8: 0
A9: 4 | B9: ·ñ³íÁ áñå»ë Ï³É³Ý³íáñÙ³Ý ³ÛÉÁÝïñ³Ýù³ÛÇÝ Ë³÷³ÝÙ³Ý ÙÇçáó ÏÇñ³é»Éáõ Ù³ëÇÝ ÙÇçÝáñ¹áõÃÛáõÝÝ»ñ | D9: 0 | E9: 32 | F9: 24 | G9: 8 | H9: 0 | I9: 0 | J9: 32 | K9: 0 | L9: 0 | M9: 9
A10: 5 | B10: Ëáõ½³ñÏáõÃÛ³Ý Ï³ï³ñÙ³Ý Ù³ëÇÝ ÙÇçÝáñ¹áõÃÛáõÝÝ»ñ | D10: 0 | E10: 76 | F10: 0 | G10: 77 | H10: 0 | I10: 0 | J10: 77 | K10: 0 | L10: 0 | M10: 0
A11: 6 | B11: µ³ÝÏ³ÛÇÝ, ³å³Ñáí³·ñ³Ï³Ý, Ýáï³ñ³Ï³Ý ·³ÕïÝÇù Ï³½ÙáÕ ï»Õ»ÏáõÃÛáõÝÝ»ñÇ ëï³óÙ³Ý Ñ³Ù³ñ Ëáõ½³ñÏáõÃÛ³Ý Ï³Ù ³é·ñ³íÙ³Ý Ï³ï³ñÙ³Ý Ù³ëÇÝ ÙÇçÝáñ¹áõÃÛáõÝÝ»ñ | D11: 0 | E11: 4 | F11: 0 | G11: 3 | H11: 1 | I11: 0 | J11: 4 | K11: 0 | L11: 0 | M11: 0
A12: 7 | B12: Ý³Ù³Ï³·ñáõÃÛ³Ý, Ñ»é³·ñ³Ï³Ý, ÷áuï³ÛÇÝ Ñ³Õáñ¹áõÙÝ»ñÇ ÑëÏáÕáõÃÛ³Ý Ù³ëÇÝ ÙÇçÝáñ¹áõÃÛáõÝÝ»ñ | D12: 0 | E12: 0 | F12: 0 | G12: 0 | H12: 0 | I12: 0 | J12: 0 | K12: 0 | L12: 0 | M12: 0
A13: 8 | B13: Ñ»é³Ëáu³ÛÇÝ Ï³Ù Ï³åÇ ³ÛÉ ÙÇçáóÝ»ñáí ï³ñíáÕ Ëáu³ÏóáõÃÛáõÝÝ»ñÇ ÉuÙ³Ý ¨ Ó³ÛÝ³·ñ³éÙ³Ý Ù³ëÇÝ ÙÇçÝáñ¹áõÃÛáõÝÝ»ñ | D13: 0 | E13: 0 | F13: 0 | G13: 0 | H13: 0 | I13: 0 | J13: 0 | K13: 0 | L13: 0 | M13: 0
A14: 9 | B14: Ñ»é³ËáëÝ»ñÇ Ùáõïù³ÛÇÝ ¨ »Éù³ÛÇÝ í»ñÍ³ÝÙ³Ý ÃáõÛÉïíáõÃÛáõÝ ëï³Ý³Éáõ Ù³ëÇÝ ÙÇçÝáñ¹áõÃÛáõÝÝ»ñ | D14: 0 | E14: 129 | F14: 0 | G14: 128 | H14: 0 | I14: 0 | J14: 128 | K14: 0 | L14: 1 | M14: 0
A15: 10 | B15: Ñ»ï³ùÝÝáõÃÛ³Ý Ù³ñÙÝÇ ³ßË³ïáÕÇ, ùÝÝÇãÇ, ¹³ï³Ë³½Ç oå»ñ³ïÇí-Ñ»ï³Ëáõ½³Ï³Ý ·áñÍáÕáõÃÛáõÝÝ»ñ Çñ³Ï³Ý³óÝáÕ Ù³ñÙÇÝÝ»ñÇ ³ÝoñÇÝ³Ï³Ý ¨ ³ÝÑÇÙÝ áñáßáõÙÝ»ñÇ ¨ ·áñÍáÕáõÃÛáõÝÝ»ñÇ ¹»Ù µáÕáùÝ»ñ | D15: 5 | E15: 21 | F15: 10 | G15: 2 | H15: 0 | I15: 1 | J15: 13 | K15: 0 | L15: 13 | M15: 4
A16: 2. ¸³ï³Ï³Ý ³Ïï»ñÇ ¨ ¹³ï³Ï³Ý Ñ³ÝÓÝ³ñ³ñáõÃÛáõÝÝ»ñÇ Ï³ï³ñÙ³Ý Ñ»ï Ï³åí³Í Ñ³ñó»ñÇ ÉáõÍÙ³Ý áÉáñï
A17: 1 | B17: å³ïÅÇó å³ÛÙ³Ý³Ï³Ý í³Õ³Å³ÙÏ»ï ³½³ï»Éáõ Ù³ëÇÝ ÙÇçÝáñ¹áõÃÛáõÝÝ»ñ | D17: 0 | E17: 6 | F17: 1 | G17: 3 | H17: 0 | I17: 0 | J17: 4 | K17: 0 | L17: 2 | M17: 0
A18: 2 | B18: å³ïÇÅÁ ÷á÷áË»Éáõ, Ñ»ï³Ó·»Éáõ ¨ å³ïÅÇó ³½³ï»Éáõ Ù³uÇÝ ÙÇçÝáñ¹áõÃÛáõÝÝ»ñ | D18: 0 | E18: 14 | F18: 2 | G18: 9 | H18: 0 | I18: 0 | J18: 11 | K18: 0 | L18: 2 | M18: 0
A19: 3 | B19: Ñ³ñÏ³¹Çñ µáõÅÙ³Ý ï»ë³ÏÇ ÷á÷áËáõÃÛ³Ý Ù³ëÇÝ ÙÇçÝáñ¹áõÃÛáõÝÝ»ñ | D19: 0 | E19: 16 | F19: 8 | G19: 8 | H19: 0 | I19: 0 | J19: 16 | K19: 0 | L19: 0 | M19: 0
A20: 4 | B20: ³ÛÉ ÙÇçÝáñ¹áõÃÛáõÝÝ»ñ | D20: 2 | E20: 26 | F20: 8 | G20: 12 | H20: 0 | I20: 1 | J20: 21 | K20: 1 | L20: 6 | M20: 2
A21: 5 | B21: ¹³ï³Ï³Ý Ñ³ÝÓÝ³ñ³ñáõÃÛáõÝÝ»ñ | D21: 2 | E21: 8 | F21: 0 | G21: 3 | H21: 0 | I21: 0 | J21: 3 | K21: 0 | L21: 7 | M21: 0
A22: ÀÜ¸²ØºÜÀ | D22: =SUM(D6:D15,D17:D21) -> 13 | E22: =SUM(E6:E15,E17:E21) -> 407 | F22: =SUM(F6:F15,F17:F21) -> 56 | G22: =SUM(G6:G15,G17:G21) -> 324 | H22: =SUM(H6:H15,H17:H21) -> 5 | I22: =SUM(I6:I15,I17:I21) -> 2 | J22: =SUM(J6:J15,J17:J21) -> 387 | K22: =SUM(K6:K15,K17:K21) -> 1 | ... M22: =SUM(M6:M15,M17:M21) -> 20

Sheet Kentron
A1: 2015Ã. 1-ÇÝ ÏÇë³ÙÛ³Ï | C1: Ð²ÞìºîìàôÂÚàôÜ | K1: Ï³½Ùí³Í` ÐÐ Ï³é³í³ñáõÃÛ³Ý 19.03.2015Ã. ÃÇí 306-Ü áñáßÙ³Ý ÑÇÙ³Ý íñ³
A2: ØÇÝã¹³ï³Ï³Ý í³ñáõÛÃÇ ÝÏ³ïÙ³Ùµ ¹³ï³Ï³Ý í»ñ³ÑëÏáÕáõÃÛ³ÝÁ, ¹³ï³Ï³Ý ³Ïï»ñÇ ¨ ¹³ï³Ï³Ý Ñ³ÝÓÝ³ñ³ñáõÃÛáõÝÝ»ñÇ Ï³ï³ñÙ³ÝÁ Ñ»ï Ï³åí³Í ÙÇçÝáñ¹áõÃÛáõÝÝ»ñÇ í»ñ³µ»ñÛ³É ¹³ï³Ï³Ý ·áñÍ»ñáí ºñ¨³Ý ù³Õ³ùÇ Î»ÝïñáÝ ¨ Üáñù-Ø³ñ³ß í³ñã³Ï³Ý ßñç³ÝÝ»ñÇ ÁÝ¹Ñ³Ýáõñ Çñ³í³ëáõÃÛ³Ý ³é³çÇÝ ³ïÛ³ÝÇ ¹³ï³ñ³ÝÇ ·áñÍáõÝ»áõÃÛ³Ý í»ñ³µ»ñÛ³É
A3: êïáõ·Çã Ñ³í³ë³ñáõÙ` 1+2=7+8+9, 7=3+4+5+6, | D3: Ñ³ßí»ïáõ Å³Ù³Ý³Ï³Ñ³ïí³ÍÇ ëÏ½µáõÙ Ý³Ëáñ¹ Ñ³ßí»ïáõ Å³Ù³Ý³Ï³Ñ³ïí³ÍÇó ÷áË³Ýóí³Í ·áñÍ»ñÇ ÁÝ¹Ñ³Ýáõñ ÃÇíÁ | E3: Ñ³ßí»ïáõ Å³Ù³Ý³Ï³Ñ³ïí³ÍáõÙ ëï³óí³Í ·áñÍ»ñÇ ÁÝ¹Ñ³Ýáõñ ÃÇíÁ | F3: Ñ³ßí»ïáõ Å³Ù³Ý³Ï³Ñ³ïí³ÍáõÙ ³í³ñïí³Í ·áñÍ»ñÇ ÁÝ¹Ñ³Ýáõñ ÃÇíÁ | K3: áõÕ³ñÏí»É ¿ Áëï ÁÝ¹¹³ïáõÃÛ³Ý | L3: Ñ³ßí»ïáõ Å³Ù³Ý³Ï³Ñ³ïí³ÍáõÙ ³Ý³í³ñï ·áñÍ»ñÇ ÁÝ¹Ñ³Ýáõñ ÃÇíÁ | M3: µáÕáù³ñÏí»É ¿ í»ñ³ùÝÝÇã ¹³ï³ñ³Ý
F4: Ù»ñÅí»É ¿ | G4: µ³í³ñ³ñí»É ¿ | H4: µ³í³ñ³ñí»É ¿ Ù³ëÝ³ÏÇ | I4: ÃáÕÝí»É ¿ ³é³Ýó ùÝÝáõÃÛ³Ý | J4: ÁÝ¹³Ù»ÝÁ
A5: 1. ØÇÝã¹³ï³Ï³Ý í³ñáõÛÃÇ ÝÏ³ïÙ³Ùµ ¹³ï³Ï³Ý í»ñ³ÑëÏáÕáõÃÛ³Ý áÉáñï | D5: 1 | E5: 2 | F5: 3 | G5: 4 | H5: 5 | I5: 6 | J5: 7 | K5: 8 | L5: 9 | M5: 10
A6: 1 | B6: Ï³É³ÝùÁ áñå»ë Ë³÷³ÝÙ³Ý ÙÇçáó ÏÇñ³é»Éáõ Ù³ëÇÝ ÙÇçÝáñ¹áõÃÛáõÝÝ»ñ | E6: 160 | F6: 5 | G6: 152 | H6: 1 | I6: 2 | J6: 160 | M6: 65
A7: 2 | B7: Ï³É³ÝùÇ Å³ÙÏ»ïÁ »ñÏ³ñ³óÝ»Éáõ Ù³ëÇÝ ÙÇçÝáñ¹áõÃÛáõÝÝ»ñ | D7: 8 | E7: 240 | F7: 4 | G7: 226 | H7: 10 | I7: 1 | J7: 241 | L7: 7 | M7: 67
A8: 3 | B8: Ï³É³ÝùÇ í»ñ³Ñ³ëï³ïÙ³Ý Ù³ëÇÝ ÙÇçÝáñ¹áõÃÛáõÝÝ»ñ | E8: 30 | F8: 4 | G8: 26 | J8: 30 | M8: 8
A9: 4 | B9: ·ñ³íÁ áñå»ë Ï³É³Ý³íáñÙ³Ý ³ÛÉÁÝïñ³Ýù³ÛÇÝ Ë³÷³ÝÙ³Ý ÙÇçáó ÏÇñ³é»Éáõ Ù³ëÇÝ ÙÇçÝáñ¹áõÃÛáõÝÝ»ñ | E9: 16 | F9: 8 | G9: 3 | I9: 4 | J9: 15 | L9: 1 | M9: 4
A10: 5 | B10: Ëáõ½³ñÏáõÃÛ³Ý Ï³ï³ñÙ³Ý Ù³ëÇÝ ÙÇçÝáñ¹áõÃÛáõÝÝ»ñ | E10: 445 | F10: 24 | G10: 418 | I10: 3 | J10: 445 | M10: 2
A11: 6 | B11: µ³ÝÏ³ÛÇÝ, ³å³Ñáí³·ñ³Ï³Ý, Ýáï³ñ³Ï³Ý ·³ÕïÝÇù Ï³½ÙáÕ ï»Õ»ÏáõÃÛáõÝÝ»ñÇ ëï³óÙ³Ý Ñ³Ù³ñ Ëáõ½³ñÏáõÃÛ³Ý Ï³Ù ³é·ñ³íÙ³Ý Ï³ï³ñÙ³Ý Ù³ëÇÝ ÙÇçÝáñ¹áõÃÛáõÝÝ»ñ | E11: 73 | F11: 6 | G11: 66 | I11: 1 | J11: 73
A12: 7 | B12: Ý³Ù³Ï³·ñáõÃÛ³Ý, Ñ»é³·ñ³Ï³Ý, ÷áuï³ÛÇÝ Ñ³Õáñ¹áõÙÝ»ñÇ ÑëÏáÕáõÃÛ³Ý Ù³ëÇÝ ÙÇçÝáñ¹áõÃÛáõÝÝ»ñ | E12: 36 | G12: 36 | J12: 36
A13: 8 | B13: Ñ»é³Ëáu³ÛÇÝ Ï³Ù Ï³åÇ ³ÛÉ ÙÇçáóÝ»ñáí ï³ñíáÕ Ëáu³ÏóáõÃÛáõÝÝ»ñÇ ÉuÙ³Ý ¨ Ó³ÛÝ³·ñ³éÙ³Ý Ù³ëÇÝ ÙÇçÝáñ¹áõÃÛáõÝÝ»ñ | E13: 18 | G13: 18 | J13: 18
A14: 9 | B14: Ñ»é³ËáëÝ»ñÇ Ùáõïù³ÛÇÝ ¨ »Éù³ÛÇÝ í»ñÍ³ÝÙ³Ý ÃáõÛÉïíáõÃÛáõÝ ëï³Ý³Éáõ Ù³ëÇÝ ÙÇçÝáñ¹áõÃÛáõÝÝ»ñ | E14: 489 | F14: 9 | G14: 478 | H14: 1 | I14: 1 | J14: 489
A15: 10 | B15: Ñ»ï³ùÝÝáõÃÛ³Ý Ù³ñÙÝÇ ³ßË³ïáÕÇ, ùÝÝÇãÇ, ¹³ï³Ë³½Ç oå»ñ³ïÇí-Ñ»ï³Ëáõ½³Ï³Ý ·áñÍáÕáõÃÛáõÝÝ»ñ Çñ³Ï³Ý³óÝáÕ Ù³ñÙÇÝÝ»ñÇ ³ÝoñÇÝ³Ï³Ý ¨ ³ÝÑÇÙÝ áñáßáõÙÝ»ñÇ ¨ ·áñÍáÕáõÃÛáõÝÝ»ñÇ ¹»Ù µáÕáùÝ»ñ | D15: 34 | E15: 124 | F15: 68 | G15: 20 | H15: 3 | I15: 4 | J15: 95 | K15: 22 | L15: 41 | M15: 46
A16: 2. ¸³ï³Ï³Ý ³Ïï»ñÇ ¨ ¹³ï³Ï³Ý Ñ³ÝÓÝ³ñ³ñáõÃÛáõÝÝ»ñÇ Ï³ï³ñÙ³Ý Ñ»ï Ï³åí³Í Ñ³ñó»ñÇ ÉáõÍÙ³Ý áÉáñï
A17: 1 | B17: å³ïÅÇó å³ÛÙ³Ý³Ï³Ý í³Õ³Å³ÙÏ»ï ³½³ï»Éáõ Ù³ëÇÝ ÙÇçÝáñ¹áõÃÛáõÝÝ»ñ | E17: 6 | F17: 2 | G17: 3 | J17: 5 | L17: 1 | M17: 1
A18: 2 | B18: å³ïÇÅÁ ÷á÷áË»Éáõ, Ñ»ï³Ó·»Éáõ ¨ å³ïÅÇó ³½³ï»Éáõ Ù³uÇÝ ÙÇçÝáñ¹áõÃÛáõÝÝ»ñ | D18: 3 | E18: 13 | F18: 2 | G18: 8 | J18: 10 | L18: 6 | M18: 1
A19: 3 | B19: Ñ³ñÏ³¹Çñ µáõÅÙ³Ý ï»ë³ÏÇ ÷á÷áËáõÃÛ³Ý Ù³ëÇÝ ÙÇçÝáñ¹áõÃÛáõÝÝ»ñ | E19: 40 | F19: 2 | G19: 38 | J19: 40 | M19: 4
A20: 4 | B20: ³ÛÉ ÙÇçÝáñ¹áõÃÛáõÝÝ»ñ | D20: 3 | E20: 35 | F20: 12 | G20: 18 | I20: 3 | J20: 33 | L20: 5 | M20: 7
A21: 5 | B21: ¹³ï³Ï³Ý Ñ³ÝÓÝ³ñ³ñáõÃÛáõÝÝ»ñ | D21: 6 | E21: 11 | G21: 6 | I21: 4 | J21: 10 | L21: 7 | M21: 2
A22: ÀÜ¸²ØºÜÀ | D22: =SUM(D6:D15,D17:D21) -> 54 | E22: =SUM(E6:E15,E17:E21) -> 1736 | F22: =SUM(F6:F15,F17:F21) -> 146 | G22: =SUM(G6:G15,G17:G21) -> 1516 | H22: =SUM(H6:H15,H17:H21) -> 15 | I22: =SUM(I6:I15,I17:I21) -> 23 | J22: =SUM(J6:J15,J17:J21) -> 1700 | K22: =SUM(K6:K15,K17:K21) -> 22 | ... M22: =SUM(M6:M15,M17:M21) -> 207

Sheet Ajapnyak
A1: 2015Ã. 1-ÇÝ ÏÇë³ÙÛ³Ï | C1: Ð²ÞìºîìàôÂÚàôÜ | K1: Ï³½Ùí³Í` ÐÐ Ï³é³í³ñáõÃÛ³Ý 19.03.2015Ã. ÃÇí 306-Ü áñáßÙ³Ý ÑÇÙ³Ý íñ³
A2: ØÇÝã¹³ï³Ï³Ý í³ñáõÛÃÇ ÝÏ³ïÙ³Ùµ ¹³ï³Ï³Ý í»ñ³ÑëÏáÕáõÃÛ³ÝÁ, ¹³ï³Ï³Ý ³Ïï»ñÇ ¨ ¹³ï³Ï³Ý Ñ³ÝÓÝ³ñ³ñáõÃÛáõÝÝ»ñÇ Ï³ï³ñÙ³ÝÁ Ñ»ï Ï³åí³Í ÙÇçÝáñ¹áõÃÛáõÝÝ»ñÇ í»ñ³µ»ñÛ³É ¹³ï³Ï³Ý ·áñÍ»ñáí ºñ¨³Ý ù³Õ³ùÇ ²ç³÷ÝÛ³Ï ¨ ¸³íÃ³ß»Ý í³ñã³Ï³Ý ßñç³ÝÝ»ñÇ ÁÝ¹Ñ³Ýáõñ Çñ³í³ëáõÃÛ³Ý ³é³çÇÝ ³ïÛ³ÝÇ ¹³ï³ñ³ÝÇ ·áñÍáõÝ»áõÃÛ³Ý í»ñ³µ»ñÛ³É
A3: êïáõ·Çã Ñ³í³ë³ñáõÙ` 1+2=7+8+9, 7=3+4+5+6, | D3: Ñ³ßí»ïáõ Å³Ù³Ý³Ï³Ñ³ïí³ÍÇ ëÏ½µáõÙ Ý³Ëáñ¹ Ñ³ßí»ïáõ Å³Ù³Ý³Ï³Ñ³ïí³ÍÇó ÷áË³Ýóí³Í ·áñÍ»ñÇ ÁÝ¹Ñ³Ýáõñ ÃÇíÁ | E3: Ñ³ßí»ïáõ Å³Ù³Ý³Ï³Ñ³ïí³ÍáõÙ ëï³óí³Í ·áñÍ»ñÇ ÁÝ¹Ñ³Ýáõñ ÃÇíÁ | F3: Ñ³ßí»ïáõ Å³Ù³Ý³Ï³Ñ³ïí³ÍáõÙ ³í³ñïí³Í ·áñÍ»ñÇ ÁÝ¹Ñ³Ýáõñ ÃÇíÁ | K3: áõÕ³ñÏí»É ¿ Áëï ÁÝ¹¹³ïáõÃÛ³Ý | L3: Ñ³ßí»ïáõ Å³Ù³Ý³Ï³Ñ³ïí³ÍáõÙ ³Ý³í³ñï ·áñÍ»ñÇ ÁÝ¹Ñ³Ýáõñ ÃÇíÁ | M3: µáÕáù³ñÏí»É ¿ í»ñ³ùÝÝÇã ¹³ï³ñ³Ý
F4: Ù»ñÅí»É ¿ | G4: µ³í³ñ³ñí»É ¿ | H4: µ³í³ñ³ñí»É ¿ Ù³ëÝ³ÏÇ | I4: ÃáÕÝí»É ¿ ³é³Ýó ùÝÝáõÃÛ³Ý | J4: ÁÝ¹³Ù»ÝÁ
A5: 1. ØÇÝã¹³ï³Ï³Ý í³ñáõÛÃÇ ÝÏ³ïÙ³Ùµ ¹³ï³Ï³Ý í»ñ³ÑëÏáÕáõÃÛ³Ý áÉáñï | D5: 1 | E5: 2 | F5: 3 | G5: 4 | H5: 5 | I5: 6 | J5: 7 | K5: 8 | L5: 9 | M5: 10
A6: 1 | B6: Ï³É³ÝùÁ áñå»ë Ë³÷³ÝÙ³Ý ÙÇçáó ÏÇñ³é»Éáõ Ù³ëÇÝ ÙÇçÝáñ¹áõÃÛáõÝÝ»ñ | E6: 24 | F6: 3 | G6: 20 | H6: 1 | J6: 24 | L6: 0 | M6: 2
A7: 2 | B7: Ï³É³ÝùÇ Å³ÙÏ»ïÁ »ñÏ³ñ³óÝ»Éáõ Ù³ëÇÝ ÙÇçÝáñ¹áõÃÛáõÝÝ»ñ | E7: 18 | F7: 1 | G7: 13 | H7: 4 | J7: 18 | L7: 0 | M7: 4
A8: 3 | B8: Ï³É³ÝùÇ í»ñ³Ñ³ëï³ïÙ³Ý Ù³ëÇÝ ÙÇçÝáñ¹áõÃÛáõÝÝ»ñ | E8: 6 | G8: 6 | J8: 6 | L8: 0 | M8: 2
A9: 4 | B9: ·ñ³íÁ áñå»ë Ï³É³Ý³íáñÙ³Ý ³ÛÉÁÝïñ³Ýù³ÛÇÝ Ë³÷³ÝÙ³Ý ÙÇçáó ÏÇñ³é»Éáõ Ù³ëÇÝ ÙÇçÝáñ¹áõÃÛáõÝÝ»ñ | E9: 14 | F9: 9 | G9: 5 | J9: 14 | L9: 0 | M9: 3
A10: 5 | B10: Ëáõ½³ñÏáõÃÛ³Ý Ï³ï³ñÙ³Ý Ù³ëÇÝ ÙÇçÝáñ¹áõÃÛáõÝÝ»ñ | E10: 95 | F10: 5 | G10: 89 | H10: 1 | J10: 95 | L10: 0 | M10: 0
A11: 6 | B11: µ³ÝÏ³ÛÇÝ, ³å³Ñáí³·ñ³Ï³Ý, Ýáï³ñ³Ï³Ý ·³ÕïÝÇù Ï³½ÙáÕ ï»Õ»ÏáõÃÛáõÝÝ»ñÇ ëï³óÙ³Ý Ñ³Ù³ñ Ëáõ½³ñÏáõÃÛ³Ý Ï³Ù ³é·ñ³íÙ³Ý Ï³ï³ñÙ³Ý Ù³ëÇÝ ÙÇçÝáñ¹áõÃÛáõÝÝ»ñ | E11: 2 | F11: 1 | G11: 1 | J11: 2 | L11: 0 | M11: 0
A12: 7 | B12: Ý³Ù³Ï³·ñáõÃÛ³Ý, Ñ»é³·ñ³Ï³Ý, ÷áuï³ÛÇÝ Ñ³Õáñ¹áõÙÝ»ñÇ ÑëÏáÕáõÃÛ³Ý Ù³ëÇÝ ÙÇçÝáñ¹áõÃÛáõÝÝ»ñ | E12: 2 | F12: 1 | G12: 1 | J12: 2 | L12: 0 | M12: 1
A13: 8 | B13: Ñ»é³Ëáu³ÛÇÝ Ï³Ù Ï³åÇ ³ÛÉ ÙÇçáóÝ»ñáí ï³ñíáÕ Ëáu³ÏóáõÃÛáõÝÝ»ñÇ ÉuÙ³Ý ¨ Ó³ÛÝ³·ñ³éÙ³Ý Ù³ëÇÝ ÙÇçÝáñ¹áõÃÛáõÝÝ»ñ | E13: 3 | G13: 2 | H13: 1 | J13: 3 | L13: 0 | M13: 0
A14: 9 | B14: Ñ»é³ËáëÝ»ñÇ Ùáõïù³ÛÇÝ ¨ »Éù³ÛÇÝ í»ñÍ³ÝÙ³Ý ÃáõÛÉïíáõÃÛáõÝ ëï³Ý³Éáõ Ù³ëÇÝ ÙÇçÝáñ¹áõÃÛáõÝÝ»ñ | E14: 87 | F14: 2 | G14: 82 | H14: 3 | J14: 87 | L14: 0 | M14: 0
A15: 10 | B15: Ñ»ï³ùÝÝáõÃÛ³Ý Ù³ñÙÝÇ ³ßË³ïáÕÇ, ùÝÝÇãÇ, ¹³ï³Ë³½Ç oå»ñ³ïÇí-Ñ»ï³Ëáõ½³Ï³Ý ·áñÍáÕáõÃÛáõÝÝ»ñ Çñ³Ï³Ý³óÝáÕ Ù³ñÙÇÝÝ»ñÇ ³ÝoñÇÝ³Ï³Ý ¨ ³ÝÑÇÙÝ áñáßáõÙÝ»ñÇ ¨ ·áñÍáÕáõÃÛáõÝÝ»ñÇ ¹»Ù µáÕáùÝ»ñ | D15: 5 | E15: 13 | F15: 12 | J15: 12 | K15: 1 | L15: 5 | M15: 7
A16: 2. ¸³ï³Ï³Ý ³Ïï»ñÇ ¨ ¹³ï³Ï³Ý Ñ³ÝÓÝ³ñ³ñáõÃÛáõÝÝ»ñÇ Ï³ï³ñÙ³Ý Ñ»ï Ï³åí³Í Ñ³ñó»ñÇ ÉáõÍÙ³Ý áÉáñï
A17: 1 | B17: å³ïÅÇó å³ÛÙ³Ý³Ï³Ý í³Õ³Å³ÙÏ»ï ³½³ï»Éáõ Ù³ëÇÝ ÙÇçÝáñ¹áõÃÛáõÝÝ»ñ
A18: 2 | B18: å³ïÇÅÁ ÷á÷áË»Éáõ, Ñ»ï³Ó·»Éáõ ¨ å³ïÅÇó ³½³ï»Éáõ Ù³uÇÝ ÙÇçÝáñ¹áõÃÛáõÝÝ»ñ | D18: 2 | E18: 7 | F18: 2 | G18: 5 | H18: 2 | J18: 9 | K18: 0 | L18: 0 | M18: 0
A19: 3 | B19: Ñ³ñÏ³¹Çñ µáõÅÙ³Ý ï»ë³ÏÇ ÷á÷áËáõÃÛ³Ý Ù³ëÇÝ ÙÇçÝáñ¹áõÃÛáõÝÝ»ñ
A20: 4 | B20: ³ÛÉ ÙÇçÝáñ¹áõÃÛáõÝÝ»ñ | D20: 0 | E20: 4 | F20: 2 | G20: 1 | I20: 1 | J20: 4 | K20: 0 | L20: 0 | M20: 0
A21: 5 | B21: ¹³ï³Ï³Ý Ñ³ÝÓÝ³ñ³ñáõÃÛáõÝÝ»ñ | D21: 10 | E21: 6 | F21: 1 | G21: 2 | J21: 3 | K21: 0 | L21: 13 | M21: 0
A22: ÀÜ¸²ØºÜÀ | D22: =SUM(D6:D15,D17:D21) -> 17 | E22: =SUM(E6:E15,E17:E21) -> 281 | F22: =SUM(F6:F15,F17:F21) -> 39 | G22: =SUM(G6:G15,G17:G21) -> 227 | H22: =SUM(H6:H15,H17:H21) -> 12 | I22: =SUM(I6:I15,I17:I21) -> 1 | J22: =SUM(J6:J15,J17:J21) -> 279 | K22: =SUM(K6:K15,K17:K21) -> 1 | ... M22: =SUM(M6:M15,M17:M21) -> 19

Sheet Avan
A1: 2015Ã. 1-ÇÝ ÏÇë³ÙÛ³Ï | C1: Ð²ÞìºîìàôÂÚàôÜ | K1: Ï³½Ùí³Í` ÐÐ Ï³é³í³ñáõÃÛ³Ý 19.03.2015Ã. ÃÇí 306-Ü áñáßÙ³Ý ÑÇÙ³Ý íñ³
A2: ØÇÝã¹³ï³Ï³Ý í³ñáõÛÃÇ ÝÏ³ïÙ³Ùµ ¹³ï³Ï³Ý í»ñ³ÑëÏáÕáõÃÛ³ÝÁ, ¹³ï³Ï³Ý ³Ïï»ñÇ ¨ ¹³ï³Ï³Ý Ñ³ÝÓÝ³ñ³ñáõÃÛáõÝÝ»ñÇ Ï³ï³ñÙ³ÝÁ Ñ»ï Ï³åí³Í ÙÇçÝáñ¹áõÃÛáõÝÝ»ñÇ í»ñ³µ»ñÛ³É ¹³ï³Ï³Ý ·áñÍ»ñáí ºñ¨³Ý ù³Õ³ùÇ ²í³Ý ¨ Üáñ Üáñù í³ñã³Ï³Ý ßñç³ÝÝ»ñÇ ÁÝ¹Ñ³Ýáõñ Çñ³í³ëáõÃÛ³Ý ³é³çÇÝ ³ïÛ³ÝÇ ¹³ï³ñ³ÝÇ ·áñÍáõÝ»áõÃÛ³Ý í»ñ³µ»ñÛ³É
A3: êïáõ·Çã Ñ³í³ë³ñáõÙ` 1+2=7+8+9, 7=3+4+5+6, | D3: Ñ³ßí»ïáõ Å³Ù³Ý³Ï³Ñ³ïí³ÍÇ ëÏ½µáõÙ Ý³Ëáñ¹ Ñ³ßí»ïáõ Å³Ù³Ý³Ï³Ñ³ïí³ÍÇó ÷áË³Ýóí³Í ·áñÍ»ñÇ ÁÝ¹Ñ³Ýáõñ ÃÇíÁ | E3: Ñ³ßí»ïáõ Å³Ù³Ý³Ï³Ñ³ïí³ÍáõÙ ëï³óí³Í ·áñÍ»ñÇ ÁÝ¹Ñ³Ýáõñ ÃÇíÁ | F3: Ñ³ßí»ïáõ Å³Ù³Ý³Ï³Ñ³ïí³ÍáõÙ ³í³ñïí³Í ·áñÍ»ñÇ ÁÝ¹Ñ³Ýáõñ ÃÇíÁ | K3: áõÕ³ñÏí»É ¿ Áëï ÁÝ¹¹³ïáõÃÛ³Ý | L3: Ñ³ßí»ïáõ Å³Ù³Ý³Ï³Ñ³ïí³ÍáõÙ ³Ý³í³ñï ·áñÍ»ñÇ ÁÝ¹Ñ³Ýáõñ ÃÇíÁ | M3: µáÕáù³ñÏí»É ¿ í»ñ³ùÝÝÇã ¹³ï³ñ³Ý
F4: Ù»ñÅí»É ¿ | G4: µ³í³ñ³ñí»É ¿ | H4: µ³í³ñ³ñí»É ¿ Ù³ëÝ³ÏÇ | I4: ÃáÕÝí»É ¿ ³é³Ýó ùÝÝáõÃÛ³Ý | J4: ÁÝ¹³Ù»ÝÁ
A5: 1. ØÇÝã¹³ï³Ï³Ý í³ñáõÛÃÇ ÝÏ³ïÙ³Ùµ ¹³ï³Ï³Ý í»ñ³ÑëÏáÕáõÃÛ³Ý áÉáñï | D5: 1 | E5: 2 | F5: 3 | G5: 4 | H5: 5 | I5: 6 | J5: 7 | K5: 8 | L5: 9 | M5: 10
A6: 1 | B6: Ï³É³ÝùÁ áñå»ë Ë³÷³ÝÙ³Ý ÙÇçáó ÏÇñ³é»Éáõ Ù³ëÇÝ ÙÇçÝáñ¹áõÃÛáõÝÝ»ñ | E6: 12 | F6: 2 | G6: 10 | J6: 12 | M6: 2
A7: 2 | B7: Ï³É³ÝùÇ Å³ÙÏ»ïÁ »ñÏ³ñ³óÝ»Éáõ Ù³ëÇÝ ÙÇçÝáñ¹áõÃÛáõÝÝ»ñ | D7: 2 | E7: 10 | F7: 1 | G7: 11 | J7: 12
A8: 3 | B8: Ï³É³ÝùÇ í»ñ³Ñ³ëï³ïÙ³Ý Ù³ëÇÝ ÙÇçÝáñ¹áõÃÛáõÝÝ»ñ | E8: 2 | F8: 1 | G8: 1 | J8: 2 | M8: 1
A9: 4 | B9: ·ñ³íÁ áñå»ë Ï³É³Ý³íáñÙ³Ý ³ÛÉÁÝïñ³Ýù³ÛÇÝ Ë³÷³ÝÙ³Ý ÙÇçáó ÏÇñ³é»Éáõ Ù³ëÇÝ ÙÇçÝáñ¹áõÃÛáõÝÝ»ñ | E9: 11 | F9: 10 | I9: 1 | J9: 11 | M9: 2
A10: 5 | B10: Ëáõ½³ñÏáõÃÛ³Ý Ï³ï³ñÙ³Ý Ù³ëÇÝ ÙÇçÝáñ¹áõÃÛáõÝÝ»ñ | E10: 88 | G10: 88 | J10: 88
A11: 6 | B11: µ³ÝÏ³ÛÇÝ, ³å³Ñáí³·ñ³Ï³Ý, Ýáï³ñ³Ï³Ý ·³ÕïÝÇù Ï³½ÙáÕ ï»Õ»ÏáõÃÛáõÝÝ»ñÇ ëï³óÙ³Ý Ñ³Ù³ñ Ëáõ½³ñÏáõÃÛ³Ý Ï³Ù ³é·ñ³íÙ³Ý Ï³ï³ñÙ³Ý Ù³ëÇÝ ÙÇçÝáñ¹áõÃÛáõÝÝ»ñ | E11: 2 | G11: 2 | J11: 2
A12: 7 | B12: Ý³Ù³Ï³·ñáõÃÛ³Ý, Ñ»é³·ñ³Ï³Ý, ÷áuï³ÛÇÝ Ñ³Õáñ¹áõÙÝ»ñÇ ÑëÏáÕáõÃÛ³Ý Ù³ëÇÝ ÙÇçÝáñ¹áõÃÛáõÝÝ»ñ
A13: 8 | B13: Ñ»é³Ëáu³ÛÇÝ Ï³Ù Ï³åÇ ³ÛÉ ÙÇçáóÝ»ñáí ï³ñíáÕ Ëáu³ÏóáõÃÛáõÝÝ»ñÇ ÉuÙ³Ý ¨ Ó³ÛÝ³·ñ³éÙ³Ý Ù³ëÇÝ ÙÇçÝáñ¹áõÃÛáõÝÝ»ñ
A14: 9 | B14: Ñ»é³ËáëÝ»ñÇ Ùáõïù³ÛÇÝ ¨ »Éù³ÛÇÝ í»ñÍ³ÝÙ³Ý ÃáõÛÉïíáõÃÛáõÝ ëï³Ý³Éáõ Ù³ëÇÝ ÙÇçÝáñ¹áõÃÛáõÝÝ»ñ | E14: 70 | F14: 4 | G14: 66 | J14: 70 | M14: 1
A15: 10 | B15: Ñ»ï³ùÝÝáõÃÛ³Ý Ù³ñÙÝÇ ³ßË³ïáÕÇ, ùÝÝÇãÇ, ¹³ï³Ë³½Ç oå»ñ³ïÇí-Ñ»ï³Ëáõ½³Ï³Ý ·áñÍáÕáõÃÛáõÝÝ»ñ Çñ³Ï³Ý³óÝáÕ Ù³ñÙÇÝÝ»ñÇ ³ÝoñÇÝ³Ï³Ý ¨ ³ÝÑÇÙÝ áñáßáõÙÝ»ñÇ ¨ ·áñÍáÕáõÃÛáõÝÝ»ñÇ ¹»Ù µáÕáùÝ»ñ | D15: 3 | E15: 12 | F15: 6 | G15: 5 | J15: 11 | L15: 4 | M15: 5
A16: 2. ¸³ï³Ï³Ý ³Ïï»ñÇ ¨ ¹³ï³Ï³Ý Ñ³ÝÓÝ³ñ³ñáõÃÛáõÝÝ»ñÇ Ï³ï³ñÙ³Ý Ñ»ï Ï³åí³Í Ñ³ñó»ñÇ ÉáõÍÙ³Ý áÉáñï
A17: 1 | B17: å³ïÅÇó å³ÛÙ³Ý³Ï³Ý í³Õ³Å³ÙÏ»ï ³½³ï»Éáõ Ù³ëÇÝ ÙÇçÝáñ¹áõÃÛáõÝÝ»ñ
A18: 2 | B18: å³ïÇÅÁ ÷á÷áË»Éáõ, Ñ»ï³Ó·»Éáõ ¨ å³ïÅÇó ³½³ï»Éáõ Ù³uÇÝ ÙÇçÝáñ¹áõÃÛáõÝÝ»ñ | D18: 2 | E18: 4 | F18: 3 | G18: 3 | J18: 6 | M18: 1
A19: 3 | B19: Ñ³ñÏ³¹Çñ µáõÅÙ³Ý ï»ë³ÏÇ ÷á÷áËáõÃÛ³Ý Ù³ëÇÝ ÙÇçÝáñ¹áõÃÛáõÝÝ»ñ | E19: 4 | F19: 2 | G19: 2 | J19: 4 | M19: 1
A20: 4 | B20: ³ÛÉ ÙÇçÝáñ¹áõÃÛáõÝÝ»ñ | E20: 11 | F20: 1 | G20: 9 | J20: 10
A21: 5 | B21: ¹³ï³Ï³Ý Ñ³ÝÓÝ³ñ³ñáõÃÛáõÝÝ»ñ | D21: 4 | E21: 11 | G21: 1 | J21: 1 | L21: 14
A22: ÀÜ¸²ØºÜÀ | D22: =SUM(D6:D15,D17:D21) -> 11 | E22: =SUM(E6:E15,E17:E21) -> 237 | F22: =SUM(F6:F15,F17:F21) -> 30 | G22: =SUM(G6:G15,G17:G21) -> 198 | H22: =SUM(H6:H15,H17:H21) -> 0 | I22: =SUM(I6:I15,I17:I21) -> 1 | J22: =SUM(J6:J15,J17:J21) -> 229 | K22: =SUM(K6:K15,K17:K21) -> 0 | ... M22: =SUM(M6:M15,M17:M21) -> 13
C24: այլ միջնորդությունների մեջ 1 գործ ÙÇ³óí»É ¿

Sheet Arabkir
A1: 2015Ã. 1-ÇÝ ÏÇë³ÙÛ³Ï | C1: Ð²ÞìºîìàôÂÚàôÜ | K1: Ï³½Ùí³Í` ÐÐ Ï³é³í³ñáõÃÛ³Ý 19.03.2015Ã. ÃÇí 306-Ü áñáßÙ³Ý ÑÇÙ³Ý íñ³
A2: ØÇÝã¹³ï³Ï³Ý í³ñáõÛÃÇ ÝÏ³ïÙ³Ùµ ¹³ï³Ï³Ý í»ñ³ÑëÏáÕáõÃÛ³ÝÁ, ¹³ï³Ï³Ý ³Ïï»ñÇ ¨ ¹³ï³Ï³Ý Ñ³ÝÓÝ³ñ³ñáõÃÛáõÝÝ»ñÇ Ï³ï³ñÙ³ÝÁ Ñ»ï Ï³åí³Í ÙÇçÝáñ¹áõÃÛáõÝÝ»ñÇ í»ñ³µ»ñÛ³É ¹³ï³Ï³Ý ·áñÍ»ñáí Երևան քաղաքի Արաբկիր և Քանաքեռ-Զեյթուն վարչական ßñç³ÝÝ»ñÇ ÁÝ¹Ñ³Ýáõñ Çñ³í³ëáõÃÛ³Ý ³é³çÇÝ ³ïÛ³ÝÇ ¹³ï³ñ³ÝÇ ·áñÍáõÝ»áõÃÛ³Ý í»ñ³µ»ñÛ³É
A3: êïáõ·Çã Ñ³í³ë³ñáõÙ` 1+2=7+8+9, 7=3+4+5+6, | D3: Ñ³ßí»ïáõ Å³Ù³Ý³Ï³Ñ³ïí³ÍÇ ëÏ½µáõÙ Ý³Ëáñ¹ Ñ³ßí»ïáõ Å³Ù³Ý³Ï³Ñ³ïí³ÍÇó ÷áË³Ýóí³Í ·áñÍ»ñÇ ÁÝ¹Ñ³Ýáõñ ÃÇíÁ | E3: Ñ³ßí»ïáõ Å³Ù³Ý³Ï³Ñ³ïí³ÍáõÙ ëï³óí³Í ·áñÍ»ñÇ ÁÝ¹Ñ³Ýáõñ ÃÇíÁ | F3: Ñ³ßí»ïáõ Å³Ù³Ý³Ï³Ñ³ïí³ÍáõÙ ³í³ñïí³Í ·áñÍ»ñÇ ÁÝ¹Ñ³Ýáõñ ÃÇíÁ | K3: áõÕ³ñÏí»É ¿ Áëï ÁÝ¹¹³ïáõÃÛ³Ý | L3: Ñ³ßí»ïáõ Å³Ù³Ý³Ï³Ñ³ïí³ÍáõÙ ³Ý³í³ñï ·áñÍ»ñÇ ÁÝ¹Ñ³Ýáõñ ÃÇíÁ | M3: µáÕáù³ñÏí»É ¿ í»ñ³ùÝÝÇã ¹³ï³ñ³Ý
F4: Ù»ñÅí»É ¿ | G4: µ³í³ñ³ñí»É ¿ | H4: µ³í³ñ³ñí»É ¿ Ù³ëÝ³ÏÇ | I4: ÃáÕÝí»É ¿ ³é³Ýó ùÝÝáõÃÛ³Ý | J4: ÁÝ¹³Ù»ÝÁ
A5: 1. ØÇÝã¹³ï³Ï³Ý í³ñáõÛÃÇ ÝÏ³ïÙ³Ùµ ¹³ï³Ï³Ý í»ñ³ÑëÏáÕáõÃÛ³Ý áÉáñï | D5: 1 | E5: 2 | F5: 3 | G5: 4 | H5: 5 | I5: 6 | J5: 7 | K5: 8 | L5: 9 | M5: 10
A6: 1 | B6: Ï³É³ÝùÁ áñå»ë Ë³÷³ÝÙ³Ý ÙÇçáó ÏÇñ³é»Éáõ Ù³ëÇÝ ÙÇçÝáñ¹áõÃÛáõÝÝ»ñ | D6: 0 | E6: 397 | F6: 10 | G6: 384 | H6: 1 | I6: 2 | J6: 397 | K6: 0 | L6: 0 | M6: 25
A7: 2 | B7: Ï³É³ÝùÇ Å³ÙÏ»ïÁ »ñÏ³ñ³óÝ»Éáõ Ù³ëÇÝ ÙÇçÝáñ¹áõÃÛáõÝÝ»ñ | D7: 4 | E7: 91 | F7: 1 | G7: 88 | H7: 2 | I7: 3 | J7: 94 | K7: 0 | L7: 1 | M7: 22
A8: 3 | B8: Ï³É³ÝùÇ í»ñ³Ñ³ëï³ïÙ³Ý Ù³ëÇÝ ÙÇçÝáñ¹áõÃÛáõÝÝ»ñ | D8: 0 | E8: 14 | F8: 1 | G8: 12 | H8: 1 | I8: 0 | J8: 14 | K8: 0 | L8: 0 | M8: 5
A9: 4 | B9: ·ñ³íÁ áñå»ë Ï³É³Ý³íáñÙ³Ý ³ÛÉÁÝïñ³Ýù³ÛÇÝ Ë³÷³ÝÙ³Ý ÙÇçáó ÏÇñ³é»Éáõ Ù³ëÇÝ ÙÇçÝáñ¹áõÃÛáõÝÝ»ñ | D9: 1 | E9: 6 | F9: 1 | G9: 3 | H9: 0 | I9: 2 | J9: 6 | K9: 0 | L9: 1 | M9: 0
A10: 5 | B10: Ëáõ½³ñÏáõÃÛ³Ý Ï³ï³ñÙ³Ý Ù³ëÇÝ ÙÇçÝáñ¹áõÃÛáõÝÝ»ñ | D10: 0 | E10: 282 | F10: 1 | G10: 279 | H10: 1 | I10: 1 | J10: 282 | K10: 0 | L10: 0 | M10: 1
A11: 6 | B11: µ³ÝÏ³ÛÇÝ, ³å³Ñáí³·ñ³Ï³Ý, Ýáï³ñ³Ï³Ý ·³ÕïÝÇù Ï³½ÙáÕ ï»Õ»ÏáõÃÛáõÝÝ»ñÇ ëï³óÙ³Ý Ñ³Ù³ñ Ëáõ½³ñÏáõÃÛ³Ý Ï³Ù ³é·ñ³íÙ³Ý Ï³ï³ñÙ³Ý Ù³ëÇÝ ÙÇçÝáñ¹áõÃÛáõÝÝ»ñ | D11: 0 | E11: 12 | F11: 1 | G11: 10 | H11: 1 | I11: 0 | J11: 12 | K11: 0 | L11: 0 | M11: 0
A12: 7 | B12: Ý³Ù³Ï³·ñáõÃÛ³Ý, Ñ»é³·ñ³Ï³Ý, ÷áuï³ÛÇÝ Ñ³Õáñ¹áõÙÝ»ñÇ ÑëÏáÕáõÃÛ³Ý Ù³ëÇÝ ÙÇçÝáñ¹áõÃÛáõÝÝ»ñ | D12: 0 | E12: 78 | F12: 0 | G12: 64 | H12: 0 | I12: 14 | J12: 78 | K12: 0 | L12: 0 | M12: 0
A13: 8 | B13: Ñ»é³Ëáu³ÛÇÝ Ï³Ù Ï³åÇ ³ÛÉ ÙÇçáóÝ»ñáí ï³ñíáÕ Ëáu³ÏóáõÃÛáõÝÝ»ñÇ ÉuÙ³Ý ¨ Ó³ÛÝ³·ñ³éÙ³Ý Ù³ëÇÝ ÙÇçÝáñ¹áõÃÛáõÝÝ»ñ | D13: 0 | E13: 32 | F13: 0 | G13: 32 | H13: 0 | I13: 0 | J13: 32 | K13: 0 | L13: 0 | M13: 0
A14: 9 | B14: Ñ»é³ËáëÝ»ñÇ Ùáõïù³ÛÇÝ ¨ »Éù³ÛÇÝ í»ñÍ³ÝÙ³Ý ÃáõÛÉïíáõÃÛáõÝ ëï³Ý³Éáõ Ù³ëÇÝ ÙÇçÝáñ¹áõÃÛáõÝÝ»ñ | D14: 0 | E14: 373 | F14: 1 | G14: 360 | H14: 9 | I14: 3 | J14: 373 | K14: 0 | L14: 0 | M14: 2
A15: 10 | B15: Ñ»ï³ùÝÝáõÃÛ³Ý Ù³ñÙÝÇ ³ßË³ïáÕÇ, ùÝÝÇãÇ, ¹³ï³Ë³½Ç oå»ñ³ïÇí-Ñ»ï³Ëáõ½³Ï³Ý ·áñÍáÕáõÃÛáõÝÝ»ñ Çñ³Ï³Ý³óÝáÕ Ù³ñÙÇÝÝ»ñÇ ³ÝoñÇÝ³Ï³Ý ¨ ³ÝÑÇÙÝ áñáßáõÙÝ»ñÇ ¨ ·áñÍáÕáõÃÛáõÝÝ»ñÇ ¹»Ù µáÕáùÝ»ñ | D15: 30 | E15: 91 | F15: 73 | G15: 9 | H15: 0 | I15: 4 | J15: 86 | K15: 4 | L15: 31 | M15: 62
A16: 2. ¸³ï³Ï³Ý ³Ïï»ñÇ ¨ ¹³ï³Ï³Ý Ñ³ÝÓÝ³ñ³ñáõÃÛáõÝÝ»ñÇ Ï³ï³ñÙ³Ý Ñ»ï Ï³åí³Í Ñ³ñó»ñÇ ÉáõÍÙ³Ý áÉáñï
A17: 1 | B17: å³ïÅÇó å³ÛÙ³Ý³Ï³Ý í³Õ³Å³ÙÏ»ï ³½³ï»Éáõ Ù³ëÇÝ ÙÇçÝáñ¹áõÃÛáõÝÝ»ñ | D17: 0 | E17: 0 | F17: 0 | G17: 0 | H17: 0 | I17: 0 | J17: 0 | K17: 0 | L17: 0 | M17: 0
A18: 2 | B18: å³ïÇÅÁ ÷á÷áË»Éáõ, Ñ»ï³Ó·»Éáõ ¨ å³ïÅÇó ³½³ï»Éáõ Ù³uÇÝ ÙÇçÝáñ¹áõÃÛáõÝÝ»ñ | D18: 10 | E18: 11 | F18: 1 | G18: 16 | H18: 0 | I18: 2 | J18: 19 | K18: 0 | L18: 2 | M18: 0
A19: 3 | B19: Ñ³ñÏ³¹Çñ µáõÅÙ³Ý ï»ë³ÏÇ ÷á÷áËáõÃÛ³Ý Ù³ëÇÝ ÙÇçÝáñ¹áõÃÛáõÝÝ»ñ | D19: 0 | E19: 14 | F19: 1 | G19: 13 | H19: 0 | I19: 0 | J19: 14 | K19: 0 | L19: 0 | M19: 1
A20: 4 | B20: ³ÛÉ ÙÇçÝáñ¹áõÃÛáõÝÝ»ñ | D20: 0 | E20: 1 | F20: 0 | G20: 0 | H20: 0 | I20: 1 | J20: 1 | K20: 0 | L20: 0 | M20: 0
A21: 5 | B21: ¹³ï³Ï³Ý Ñ³ÝÓÝ³ñ³ñáõÃÛáõÝÝ»ñ | D21: 8 | E21: 2 | F21: 1 | G21: 4 | H21: 0 | I21: 0 | J21: 5 | K21: 1 | L21: 4 | M21: 1
A22: ÀÜ¸²ØºÜÀ | D22: =SUM(D6:D15,D17:D21) -> 53 | E22: =SUM(E6:E15,E17:E21) -> 1404 | F22: =SUM(F6:F15,F17:F21) -> 92 | G22: =SUM(G6:G15,G17:G21) -> 1274 | H22: =SUM(H6:H15,H17:H21) -> 15 | I22: =SUM(I6:I15,I17:I21) -> 32 | J22: =SUM(J6:J15,J17:J21) -> 1413 | K22: =SUM(K6:K15,K17:K21) -> 5 | ... M22: =SUM(M6:M15,M17:M21) -> 119

Sheet Shengavit
A1: 2015Ã. 1-ÇÝ ÏÇë³ÙÛ³Ï | C1: Ð²ÞìºîìàôÂÚàôÜ | K1: Ï³½Ùí³Í` ÐÐ Ï³é³í³ñáõÃÛ³Ý 19.03.2015Ã. ÃÇí 306-Ü áñáßÙ³Ý ÑÇÙ³Ý íñ³
A2: ØÇÝã¹³ï³Ï³Ý í³ñáõÛÃÇ ÝÏ³ïÙ³Ùµ ¹³ï³Ï³Ý í»ñ³ÑëÏáÕáõÃÛ³ÝÁ, ¹³ï³Ï³Ý ³Ïï»ñÇ ¨ ¹³ï³Ï³Ý Ñ³ÝÓÝ³ñ³ñáõÃÛáõÝÝ»ñÇ Ï³ï³ñÙ³ÝÁ Ñ»ï Ï³åí³Í ÙÇçÝáñ¹áõÃÛáõÝÝ»ñÇ í»ñ³µ»ñÛ³É ¹³ï³Ï³Ý ·áñÍ»ñáí Երևան քաղաքի Շենգավիթ վարչական շրջանի ÁÝ¹Ñ³Ýáõñ Çñ³í³ëáõÃÛ³Ý ³é³çÇÝ ³ïÛ³ÝÇ ¹³ï³ñ³ÝÇ ·áñÍáõÝ»áõÃÛ³Ý í»ñ³µ»ñÛ³É
A3: êïáõ·Çã Ñ³í³ë³ñáõÙ` 1+2=7+8+9, 7=3+4+5+6, | D3: Ñ³ßí»ïáõ Å³Ù³Ý³Ï³Ñ³ïí³ÍÇ ëÏ½µáõÙ Ý³Ëáñ¹ Ñ³ßí»ïáõ Å³Ù³Ý³Ï³Ñ³ïí³ÍÇó ÷áË³Ýóí³Í ·áñÍ»ñÇ ÁÝ¹Ñ³Ýáõñ ÃÇíÁ | E3: Ñ³ßí»ïáõ Å³Ù³Ý³Ï³Ñ³ïí³ÍáõÙ ëï³óí³Í ·áñÍ»ñÇ ÁÝ¹Ñ³Ýáõñ ÃÇíÁ | F3: Ñ³ßí»ïáõ Å³Ù³Ý³Ï³Ñ³ïí³ÍáõÙ ³í³ñïí³Í ·áñÍ»ñÇ ÁÝ¹Ñ³Ýáõñ ÃÇíÁ | K3: áõÕ³ñÏí»É ¿ Áëï ÁÝ¹¹³ïáõÃÛ³Ý | L3: Ñ³ßí»ïáõ Å³Ù³Ý³Ï³Ñ³ïí³ÍáõÙ ³Ý³í³ñï ·áñÍ»ñÇ ÁÝ¹Ñ³Ýáõñ ÃÇíÁ | M3: µáÕáù³ñÏí»É ¿ í»ñ³ùÝÝÇã ¹³ï³ñ³Ý
F4: Ù»ñÅí»É ¿ | G4: µ³í³ñ³ñí»É ¿ | H4: µ³í³ñ³ñí»É ¿ Ù³ëÝ³ÏÇ | I4: ÃáÕÝí»É ¿ ³é³Ýó ùÝÝáõÃÛ³Ý | J4: ÁÝ¹³Ù»ÝÁ
A5: 1. ØÇÝã¹³ï³Ï³Ý í³ñáõÛÃÇ ÝÏ³ïÙ³Ùµ ¹³ï³Ï³Ý í»ñ³ÑëÏáÕáõÃÛ³Ý áÉáñï | D5: 1 | E5: 2 | F5: 3 | G5: 4 | H5: 5 | I5: 6 | J5: 7 | K5: 8 | L5: 9 | M5: 10
A6: 1 | B6: Ï³É³ÝùÁ áñå»ë Ë³÷³ÝÙ³Ý ÙÇçáó ÏÇñ³é»Éáõ Ù³ëÇÝ ÙÇçÝáñ¹áõÃÛáõÝÝ»ñ | E6: 39 | F6: 4 | G6: 35 | J6: 39 | M6: 11
A7: 2 | B7: Ï³É³ÝùÇ Å³ÙÏ»ïÁ »ñÏ³ñ³óÝ»Éáõ Ù³ëÇÝ ÙÇçÝáñ¹áõÃÛáõÝÝ»ñ | D7: 1 | E7: 59 | F7: 2 | G7: 50 | H7: 8 | J7: 60 | M7: 18
A8: 3 | B8: Ï³É³ÝùÇ í»ñ³Ñ³ëï³ïÙ³Ý Ù³ëÇÝ ÙÇçÝáñ¹áõÃÛáõÝÝ»ñ | E8: 12 | F8: 1 | G8: 11 | J8: 12 | M8: 2
A9: 4 | B9: ·ñ³íÁ áñå»ë Ï³É³Ý³íáñÙ³Ý ³ÛÉÁÝïñ³Ýù³ÛÇÝ Ë³÷³ÝÙ³Ý ÙÇçáó ÏÇñ³é»Éáõ Ù³ëÇÝ ÙÇçÝáñ¹áõÃÛáõÝÝ»ñ | E9: 36 | F9: 31 | G9: 4 | I9: 1 | J9: 36 | M9: 10
A10: 5 | B10: Ëáõ½³ñÏáõÃÛ³Ý Ï³ï³ñÙ³Ý Ù³ëÇÝ ÙÇçÝáñ¹áõÃÛáõÝÝ»ñ | E10: 127 | F10: 8 | G10: 116 | H10: 3 | J10: 127 | M10: 1
A11: 6 | B11: µ³ÝÏ³ÛÇÝ, ³å³Ñáí³·ñ³Ï³Ý, Ýáï³ñ³Ï³Ý ·³ÕïÝÇù Ï³½ÙáÕ ï»Õ»ÏáõÃÛáõÝÝ»ñÇ ëï³óÙ³Ý Ñ³Ù³ñ Ëáõ½³ñÏáõÃÛ³Ý Ï³Ù ³é·ñ³íÙ³Ý Ï³ï³ñÙ³Ý Ù³ëÇÝ ÙÇçÝáñ¹áõÃÛáõÝÝ»ñ | E11: 6 | F11: 1 | G11: 4 | H11: 1 | J11: 6
A12: 7 | B12: Ý³Ù³Ï³·ñáõÃÛ³Ý, Ñ»é³·ñ³Ï³Ý, ÷áuï³ÛÇÝ Ñ³Õáñ¹áõÙÝ»ñÇ ÑëÏáÕáõÃÛ³Ý Ù³ëÇÝ ÙÇçÝáñ¹áõÃÛáõÝÝ»ñ
A13: 8 | B13: Ñ»é³Ëáu³ÛÇÝ Ï³Ù Ï³åÇ ³ÛÉ ÙÇçáóÝ»ñáí ï³ñíáÕ Ëáu³ÏóáõÃÛáõÝÝ»ñÇ ÉuÙ³Ý ¨ Ó³ÛÝ³·ñ³éÙ³Ý Ù³ëÇÝ ÙÇçÝáñ¹áõÃÛáõÝÝ»ñ | E13: 3 | G13: 2 | I13: 1 | J13: 3
A14: 9 | B14: Ñ»é³ËáëÝ»ñÇ Ùáõïù³ÛÇÝ ¨ »Éù³ÛÇÝ í»ñÍ³ÝÙ³Ý ÃáõÛÉïíáõÃÛáõÝ ëï³Ý³Éáõ Ù³ëÇÝ ÙÇçÝáñ¹áõÃÛáõÝÝ»ñ | E14: 129 | F14: 4 | G14: 123 | H14: 2 | J14: 129 | M14: 2
A15: 10 | B15: Ñ»ï³ùÝÝáõÃÛ³Ý Ù³ñÙÝÇ ³ßË³ïáÕÇ, ùÝÝÇãÇ, ¹³ï³Ë³½Ç oå»ñ³ïÇí-Ñ»ï³Ëáõ½³Ï³Ý ·áñÍáÕáõÃÛáõÝÝ»ñ Çñ³Ï³Ý³óÝáÕ Ù³ñÙÇÝÝ»ñÇ ³ÝoñÇÝ³Ï³Ý ¨ ³ÝÑÇÙÝ áñáßáõÙÝ»ñÇ ¨ ·áñÍáÕáõÃÛáõÝÝ»ñÇ ¹»Ù µáÕáùÝ»ñ | D15: 9 | E15: 22 | F15: 15 | G15: 6 | J15: 21 | L15: 10 | M15: 4
A16: 2. ¸³ï³Ï³Ý ³Ïï»ñÇ ¨ ¹³ï³Ï³Ý Ñ³ÝÓÝ³ñ³ñáõÃÛáõÝÝ»ñÇ Ï³ï³ñÙ³Ý Ñ»ï Ï³åí³Í Ñ³ñó»ñÇ ÉáõÍÙ³Ý áÉáñï
A17: 1 | B17: å³ïÅÇó å³ÛÙ³Ý³Ï³Ý í³Õ³Å³ÙÏ»ï ³½³ï»Éáõ Ù³ëÇÝ ÙÇçÝáñ¹áõÃÛáõÝÝ»ñ
A18: 2 | B18: å³ïÇÅÁ ÷á÷áË»Éáõ, Ñ»ï³Ó·»Éáõ ¨ å³ïÅÇó ³½³ï»Éáõ Ù³uÇÝ ÙÇçÝáñ¹áõÃÛáõÝÝ»ñ | D18: 4 | E18: 16 | F18: 3 | G18: 12 | I18: 3 | J18: 18 | L18: 2
A19: 3 | B19: Ñ³ñÏ³¹Çñ µáõÅÙ³Ý ï»ë³ÏÇ ÷á÷áËáõÃÛ³Ý Ù³ëÇÝ ÙÇçÝáñ¹áõÃÛáõÝÝ»ñ
A20: 4 | B20: ³ÛÉ ÙÇçÝáñ¹áõÃÛáõÝÝ»ñ | E20: 19 | F20: 3 | G20: 13 | I20: 2 | J20: 18 | L20: 1 | M20: 1
A21: 5 | B21: ¹³ï³Ï³Ý Ñ³ÝÓÝ³ñ³ñáõÃÛáõÝÝ»ñ | D21: 2 | E21: 9 | F21: 1 | G21: 5 | J21: 6 | L21: 5
A22: ÀÜ¸²ØºÜÀ | D22: =SUM(D6:D15,D17:D21) -> 16 | E22: =SUM(E6:E15,E17:E21) -> 477 | F22: =SUM(F6:F15,F17:F21) -> 73 | G22: =SUM(G6:G15,G17:G21) -> 381 | H22: =SUM(H6:H15,H17:H21) -> 14 | I22: =SUM(I6:I15,I17:I21) -> 7 | J22: =SUM(J6:J15,J17:J21) -> 475 | K22: =SUM(K6:K15,K17:K21) -> 0 | ... M22: =SUM(M6:M15,M17:M21) -> 49

Sheet Malatia
A1: 2015Ã. 1-ÇÝ ÏÇë³ÙÛ³Ï | C1: Ð²ÞìºîìàôÂÚàôÜ | K1: Ï³½Ùí³Í` ÐÐ Ï³é³í³ñáõÃÛ³Ý 19.03.2015Ã. ÃÇí 306-Ü áñáßÙ³Ý ÑÇÙ³Ý íñ³
A2: ØÇÝã¹³ï³Ï³Ý í³ñáõÛÃÇ ÝÏ³ïÙ³Ùµ ¹³ï³Ï³Ý í»ñ³ÑëÏáÕáõÃÛ³ÝÁ, ¹³ï³Ï³Ý ³Ïï»ñÇ ¨ ¹³ï³Ï³Ý Ñ³ÝÓÝ³ñ³ñáõÃÛáõÝÝ»ñÇ Ï³ï³ñÙ³ÝÁ Ñ»ï Ï³åí³Í ÙÇçÝáñ¹áõÃÛáõÝÝ»ñÇ í»ñ³µ»ñÛ³É ¹³ï³Ï³Ý ·áñÍ»ñáí Երևան քաղաքի Մալաթիա-Սեբաստիա վարչական ßñç³ÝÇ ÁÝ¹Ñ³Ýáõñ Çñ³í³ëáõÃÛ³Ý ³é³çÇÝ ³ïÛ³ÝÇ ¹³ï³ñ³ÝÇ ·áñÍáõÝ»áõÃÛ³Ý í»ñ³µ»ñÛ³É
A3: êïáõ·Çã Ñ³í³ë³ñáõÙ` 1+2=7+8+9, 7=3+4+5+6, | D3: Ñ³ßí»ïáõ Å³Ù³Ý³Ï³Ñ³ïí³ÍÇ ëÏ½µáõÙ Ý³Ëáñ¹ Ñ³ßí»ïáõ Å³Ù³Ý³Ï³Ñ³ïí³ÍÇó ÷áË³Ýóí³Í ·áñÍ»ñÇ ÁÝ¹Ñ³Ýáõñ ÃÇíÁ | E3: Ñ³ßí»ïáõ Å³Ù³Ý³Ï³Ñ³ïí³ÍáõÙ ëï³óí³Í ·áñÍ»ñÇ ÁÝ¹Ñ³Ýáõñ ÃÇíÁ | F3: Ñ³ßí»ïáõ Å³Ù³Ý³Ï³Ñ³ïí³ÍáõÙ ³í³ñïí³Í ·áñÍ»ñÇ ÁÝ¹Ñ³Ýáõñ ÃÇíÁ | K3: áõÕ³ñÏí»É ¿ Áëï ÁÝ¹¹³ïáõÃÛ³Ý | L3: Ñ³ßí»ïáõ Å³Ù³Ý³Ï³Ñ³ïí³ÍáõÙ ³Ý³í³ñï ·áñÍ»ñÇ ÁÝ¹Ñ³Ýáõñ ÃÇíÁ | M3: µáÕáù³ñÏí»É ¿ í»ñ³ùÝÝÇã ¹³ï³ñ³Ý
F4: Ù»ñÅí»É ¿ | G4: µ³í³ñ³ñí»É ¿ | H4: µ³í³ñ³ñí»É ¿ Ù³ëÝ³ÏÇ | I4: ÃáÕÝí»É ¿ ³é³Ýó ùÝÝáõÃÛ³Ý | J4: ÁÝ¹³Ù»ÝÁ
A5: 1. ØÇÝã¹³ï³Ï³Ý í³ñáõÛÃÇ ÝÏ³ïÙ³Ùµ ¹³ï³Ï³Ý í»ñ³ÑëÏáÕáõÃÛ³Ý áÉáñï | D5: 1 | E5: 2 | F5: 3 | G5: 4 | H5: 5 | I5: 6 | J5: 7 | K5: 8 | L5: 9 | M5: 10
A6: 1 | B6: Ï³É³ÝùÁ áñå»ë Ë³÷³ÝÙ³Ý ÙÇçáó ÏÇñ³é»Éáõ Ù³ëÇÝ ÙÇçÝáñ¹áõÃÛáõÝÝ»ñ | E6: 22 | F6: 2 | G6: 20 | J6: 22 | M6: 5
A7: 2 | B7: Ï³É³ÝùÇ Å³ÙÏ»ïÁ »ñÏ³ñ³óÝ»Éáõ Ù³ëÇÝ ÙÇçÝáñ¹áõÃÛáõÝÝ»ñ | D7: 1 | E7: 35 | F7: 2 | G7: 26 | H7: 7 | J7: 35 | L7: 1 | M7: 2
A8: 3 | B8: Ï³É³ÝùÇ í»ñ³Ñ³ëï³ïÙ³Ý Ù³ëÇÝ ÙÇçÝáñ¹áõÃÛáõÝÝ»ñ | E8: 5 | F8: 1 | G8: 4 | J8: 5
A9: 4 | B9: ·ñ³íÁ áñå»ë Ï³É³Ý³íáñÙ³Ý ³ÛÉÁÝïñ³Ýù³ÛÇÝ Ë³÷³ÝÙ³Ý ÙÇçáó ÏÇñ³é»Éáõ Ù³ëÇÝ ÙÇçÝáñ¹áõÃÛáõÝÝ»ñ | E9: 25 | F9: 23 | G9: 2 | J9: 25 | M9: 9
A10: 5 | B10: Ëáõ½³ñÏáõÃÛ³Ý Ï³ï³ñÙ³Ý Ù³ëÇÝ ÙÇçÝáñ¹áõÃÛáõÝÝ»ñ | E10: 93 | F10: 5 | G10: 88 | J10: 93
A11: 6 | B11: µ³ÝÏ³ÛÇÝ, ³å³Ñáí³·ñ³Ï³Ý, Ýáï³ñ³Ï³Ý ·³ÕïÝÇù Ï³½ÙáÕ ï»Õ»ÏáõÃÛáõÝÝ»ñÇ ëï³óÙ³Ý Ñ³Ù³ñ Ëáõ½³ñÏáõÃÛ³Ý Ï³Ù ³é·ñ³íÙ³Ý Ï³ï³ñÙ³Ý Ù³ëÇÝ ÙÇçÝáñ¹áõÃÛáõÝÝ»ñ | E11: 10 | F11: 1 | G11: 9 | J11: 10
A12: 7 | B12: Ý³Ù³Ï³·ñáõÃÛ³Ý, Ñ»é³·ñ³Ï³Ý, ÷áuï³ÛÇÝ Ñ³Õáñ¹áõÙÝ»ñÇ ÑëÏáÕáõÃÛ³Ý Ù³ëÇÝ ÙÇçÝáñ¹áõÃÛáõÝÝ»ñ
A13: 8 | B13: Ñ»é³Ëáu³ÛÇÝ Ï³Ù Ï³åÇ ³ÛÉ ÙÇçáóÝ»ñáí ï³ñíáÕ Ëáu³ÏóáõÃÛáõÝÝ»ñÇ ÉuÙ³Ý ¨ Ó³ÛÝ³·ñ³éÙ³Ý Ù³ëÇÝ ÙÇçÝáñ¹áõÃÛáõÝÝ»ñ | E13: 6 | G13: 6 | J13: 6
A14: 9 | B14: Ñ»é³ËáëÝ»ñÇ Ùáõïù³ÛÇÝ ¨ »Éù³ÛÇÝ í»ñÍ³ÝÙ³Ý ÃáõÛÉïíáõÃÛáõÝ ëï³Ý³Éáõ Ù³ëÇÝ ÙÇçÝáñ¹áõÃÛáõÝÝ»ñ | E14: 80 | G14: 80 | J14: 80
A15: 10 | B15: Ñ»ï³ùÝÝáõÃÛ³Ý Ù³ñÙÝÇ ³ßË³ïáÕÇ, ùÝÝÇãÇ, ¹³ï³Ë³½Ç oå»ñ³ïÇí-Ñ»ï³Ëáõ½³Ï³Ý ·áñÍáÕáõÃÛáõÝÝ»ñ Çñ³Ï³Ý³óÝáÕ Ù³ñÙÇÝÝ»ñÇ ³ÝoñÇÝ³Ï³Ý ¨ ³ÝÑÇÙÝ áñáßáõÙÝ»ñÇ ¨ ·áñÍáÕáõÃÛáõÝÝ»ñÇ ¹»Ù µáÕáùÝ»ñ | D15: 4 | E15: 14 | F15: 8 | G15: 3 | H15: 1 | J15: 12 | L15: 6 | M15: 7
A16: 2. ¸³ï³Ï³Ý ³Ïï»ñÇ ¨ ¹³ï³Ï³Ý Ñ³ÝÓÝ³ñ³ñáõÃÛáõÝÝ»ñÇ Ï³ï³ñÙ³Ý Ñ»ï Ï³åí³Í Ñ³ñó»ñÇ ÉáõÍÙ³Ý áÉáñï
A17: 1 | B17: å³ïÅÇó å³ÛÙ³Ý³Ï³Ý í³Õ³Å³ÙÏ»ï ³½³ï»Éáõ Ù³ëÇÝ ÙÇçÝáñ¹áõÃÛáõÝÝ»ñ
A18: 2 | B18: å³ïÇÅÁ ÷á÷áË»Éáõ, Ñ»ï³Ó·»Éáõ ¨ å³ïÅÇó ³½³ï»Éáõ Ù³uÇÝ ÙÇçÝáñ¹áõÃÛáõÝÝ»ñ | E18: 4 | G18: 4 | J18: 4 | M18: 1
A19: 3 | B19: Ñ³ñÏ³¹Çñ µáõÅÙ³Ý ï»ë³ÏÇ ÷á÷áËáõÃÛ³Ý Ù³ëÇÝ ÙÇçÝáñ¹áõÃÛáõÝÝ»ñ | E19: 4 | G19: 4 | J19: 4
A20: 4 | B20: ³ÛÉ ÙÇçÝáñ¹áõÃÛáõÝÝ»ñ | D20: 2 | E20: 3 | F20: 2 | G20: 2 | I20: 1 | J20: 5 | M20: 1
A21: 5 | B21: ¹³ï³Ï³Ý Ñ³ÝÓÝ³ñ³ñáõÃÛáõÝÝ»ñ | D21: 9 | E21: 5 | G21: 5 | I21: 1 | J21: 6 | L21: 8
A22: ÀÜ¸²ØºÜÀ | D22: =SUM(D6:D15,D17:D21) -> 16 | E22: =SUM(E6:E15,E17:E21) -> 306 | F22: =SUM(F6:F15,F17:F21) -> 44 | G22: =SUM(G6:G15,G17:G21) -> 253 | H22: =SUM(H6:H15,H17:H21) -> 8 | I22: =SUM(I6:I15,I17:I21) -> 2 | J22: =SUM(J6:J15,J17:J21) -> 307 | K22: =SUM(K6:K15,K17:K21) -> 0 | ... M22: =SUM(M6:M15,M17:M21) -> 25

Sheet Kotayq
A1: 2015Ã. 1-ÇÝ ÏÇë³ÙÛ³Ï | C1: Ð²ÞìºîìàôÂÚàôÜ | K1: Ï³½Ùí³Í` ÐÐ Ï³é³í³ñáõÃÛ³Ý 19.03.2015Ã. ÃÇí 306-Ü áñáßÙ³Ý ÑÇÙ³Ý íñ³
A2: ØÇÝã¹³ï³Ï³Ý í³ñáõÛÃÇ ÝÏ³ïÙ³Ùµ ¹³ï³Ï³Ý í»ñ³ÑëÏáÕáõÃÛ³ÝÁ, ¹³ï³Ï³Ý ³Ïï»ñÇ ¨ ¹³ï³Ï³Ý Ñ³ÝÓÝ³ñ³ñáõÃÛáõÝÝ»ñÇ Ï³ï³ñÙ³ÝÁ Ñ»ï Ï³åí³Í ÙÇçÝáñ¹áõÃÛáõÝÝ»ñÇ í»ñ³µ»ñÛ³É ¹³ï³Ï³Ý ·áñÍ»ñáí ÐÐ Կոտայքի մարզի ÁÝ¹Ñ³Ýáõñ Çñ³í³ëáõÃÛ³Ý ³é³çÇÝ ³ïÛ³ÝÇ ¹³ï³ñ³ÝÇ ·áñÍáõÝ»áõÃÛ³Ý í»ñ³µ»ñÛ³É
A3: êïáõ·Çã Ñ³í³ë³ñáõÙ` 1+2=7+8+9, 7=3+4+5+6, | D3: Ñ³ßí»ïáõ Å³Ù³Ý³Ï³Ñ³ïí³ÍÇ ëÏ½µáõÙ Ý³Ëáñ¹ Ñ³ßí»ïáõ Å³Ù³Ý³Ï³Ñ³ïí³ÍÇó ÷áË³Ýóí³Í ·áñÍ»ñÇ ÁÝ¹Ñ³Ýáõñ ÃÇíÁ | E3: Ñ³ßí»ïáõ Å³Ù³Ý³Ï³Ñ³ïí³ÍáõÙ ëï³óí³Í ·áñÍ»ñÇ ÁÝ¹Ñ³Ýáõñ ÃÇíÁ | F3: Ñ³ßí»ïáõ Å³Ù³Ý³Ï³Ñ³ïí³ÍáõÙ ³í³ñïí³Í ·áñÍ»ñÇ ÁÝ¹Ñ³Ýáõñ ÃÇíÁ | K3: áõÕ³ñÏí»É ¿ Áëï ÁÝ¹¹³ïáõÃÛ³Ý | L3: Ñ³ßí»ïáõ Å³Ù³Ý³Ï³Ñ³ïí³ÍáõÙ ³Ý³í³ñï ·áñÍ»ñÇ ÁÝ¹Ñ³Ýáõñ ÃÇíÁ | M3: µáÕáù³ñÏí»É ¿ í»ñ³ùÝÝÇã ¹³ï³ñ³Ý
F4: Ù»ñÅí»É ¿ | G4: µ³í³ñ³ñí»É ¿ | H4: µ³í³ñ³ñí»É ¿ Ù³ëÝ³ÏÇ | I4: ÃáÕÝí»É ¿ ³é³Ýó ùÝÝáõÃÛ³Ý | J4: ÁÝ¹³Ù»ÝÁ
A5: 1. ØÇÝã¹³ï³Ï³Ý í³ñáõÛÃÇ ÝÏ³ïÙ³Ùµ ¹³ï³Ï³Ý í»ñ³ÑëÏáÕáõÃÛ³Ý áÉáñï | D5: 1 | E5: 2 | F5: 3 | G5: 4 | H5: 5 | I5: 6 | J5: 7 | K5: 8 | L5: 9 | M5: 10
A6: 1 | B6: Ï³É³ÝùÁ áñå»ë Ë³÷³ÝÙ³Ý ÙÇçáó ÏÇñ³é»Éáõ Ù³ëÇÝ ÙÇçÝáñ¹áõÃÛáõÝÝ»ñ | E6: 33 | F6: 2 | G6: 31 | J6: 33 | M6: 10
A7: 2 | B7: Ï³É³ÝùÇ Å³ÙÏ»ïÁ »ñÏ³ñ³óÝ»Éáõ Ù³ëÇÝ ÙÇçÝáñ¹áõÃÛáõÝÝ»ñ | E7: 78 | F7: 2 | G7: 76 | J7: 78 | M7: 9
A8: 3 | B8: Ï³É³ÝùÇ í»ñ³Ñ³ëï³ïÙ³Ý Ù³ëÇÝ ÙÇçÝáñ¹áõÃÛáõÝÝ»ñ | E8: 5 | F8: 1 | G8: 4 | J8: 5
A9: 4 | B9: ·ñ³íÁ áñå»ë Ï³É³Ý³íáñÙ³Ý ³ÛÉÁÝïñ³Ýù³ÛÇÝ Ë³÷³ÝÙ³Ý ÙÇçáó ÏÇñ³é»Éáõ Ù³ëÇÝ ÙÇçÝáñ¹áõÃÛáõÝÝ»ñ | E9: 37 | F9: 28 | G9: 9 | J9: 37
A10: 5 | B10: Ëáõ½³ñÏáõÃÛ³Ý Ï³ï³ñÙ³Ý Ù³ëÇÝ ÙÇçÝáñ¹áõÃÛáõÝÝ»ñ | E10: 147 | F10: 4 | G10: 143 | J10: 147
A11: 6 | B11: µ³ÝÏ³ÛÇÝ, ³å³Ñáí³·ñ³Ï³Ý, Ýáï³ñ³Ï³Ý ·³ÕïÝÇù Ï³½ÙáÕ ï»Õ»ÏáõÃÛáõÝÝ»ñÇ ëï³óÙ³Ý Ñ³Ù³ñ Ëáõ½³ñÏáõÃÛ³Ý Ï³Ù ³é·ñ³íÙ³Ý Ï³ï³ñÙ³Ý Ù³ëÇÝ ÙÇçÝáñ¹áõÃÛáõÝÝ»ñ
A12: 7 | B12: Ý³Ù³Ï³·ñáõÃÛ³Ý, Ñ»é³·ñ³Ï³Ý, ÷áuï³ÛÇÝ Ñ³Õáñ¹áõÙÝ»ñÇ ÑëÏáÕáõÃÛ³Ý Ù³ëÇÝ ÙÇçÝáñ¹áõÃÛáõÝÝ»ñ | E12: 9 | G12: 9 | J12: 9
A13: 8 | B13: Ñ»é³Ëáu³ÛÇÝ Ï³Ù Ï³åÇ ³ÛÉ ÙÇçáóÝ»ñáí ï³ñíáÕ Ëáu³ÏóáõÃÛáõÝÝ»ñÇ ÉuÙ³Ý ¨ Ó³ÛÝ³·ñ³éÙ³Ý Ù³ëÇÝ ÙÇçÝáñ¹áõÃÛáõÝÝ»ñ | E13: 3 | G13: 3 | J13: 3
A14: 9 | B14: Ñ»é³ËáëÝ»ñÇ Ùáõïù³ÛÇÝ ¨ »Éù³ÛÇÝ í»ñÍ³ÝÙ³Ý ÃáõÛÉïíáõÃÛáõÝ ëï³Ý³Éáõ Ù³ëÇÝ ÙÇçÝáñ¹áõÃÛáõÝÝ»ñ | E14: 190 | F14: 2 | G14: 184 | H14: 4 | J14: 190
A15: 10 | B15: Ñ»ï³ùÝÝáõÃÛ³Ý Ù³ñÙÝÇ ³ßË³ïáÕÇ, ùÝÝÇãÇ, ¹³ï³Ë³½Ç oå»ñ³ïÇí-Ñ»ï³Ëáõ½³Ï³Ý ·áñÍáÕáõÃÛáõÝÝ»ñ Çñ³Ï³Ý³óÝáÕ Ù³ñÙÇÝÝ»ñÇ ³ÝoñÇÝ³Ï³Ý ¨ ³ÝÑÇÙÝ áñáßáõÙÝ»ñÇ ¨ ·áñÍáÕáõÃÛáõÝÝ»ñÇ ¹»Ù µáÕáùÝ»ñ | D15: 5 | E15: 11 | F15: 12 | G15: 1 | I15: 1 | J15: 14 | L15: 2 | M15: 5
A16: 2. ¸³ï³Ï³Ý ³Ïï»ñÇ ¨ ¹³ï³Ï³Ý Ñ³ÝÓÝ³ñ³ñáõÃÛáõÝÝ»ñÇ Ï³ï³ñÙ³Ý Ñ»ï Ï³åí³Í Ñ³ñó»ñÇ ÉáõÍÙ³Ý áÉáñï
A17: 1 | B17: å³ïÅÇó å³ÛÙ³Ý³Ï³Ý í³Õ³Å³ÙÏ»ï ³½³ï»Éáõ Ù³ëÇÝ ÙÇçÝáñ¹áõÃÛáõÝÝ»ñ | D17: 1 | E17: 56 | F17: 10 | G17: 46 | I17: 1 | J17: 57 | M17: 5
A18: 2 | B18: å³ïÇÅÁ ÷á÷áË»Éáõ, Ñ»ï³Ó·»Éáõ ¨ å³ïÅÇó ³½³ï»Éáõ Ù³uÇÝ ÙÇçÝáñ¹áõÃÛáõÝÝ»ñ | D18: 11 | E18: 30 | F18: 24 | G18: 8 | H18: 2 | I18: 1 | J18: 35 | L18: 6 | M18: 2
A19: 3 | B19: Ñ³ñÏ³¹Çñ µáõÅÙ³Ý ï»ë³ÏÇ ÷á÷áËáõÃÛ³Ý Ù³ëÇÝ ÙÇçÝáñ¹áõÃÛáõÝÝ»ñ | E19: 5 | G19: 5 | J19: 5
A20: 4 | B20: ³ÛÉ ÙÇçÝáñ¹áõÃÛáõÝÝ»ñ | D20: 1 | E20: 23 | F20: 7 | G20: 6 | H20: 1 | I20: 2 | J20: 16 | K20: 5 | L20: 2 | M20: 3
A21: 5 | B21: ¹³ï³Ï³Ý Ñ³ÝÓÝ³ñ³ñáõÃÛáõÝÝ»ñ | D21: 6 | E21: 7 | F21: 1 | J21: 1 | L21: 9
A22: ÀÜ¸²ØºÜÀ | D22: =SUM(D6:D15,D17:D21) -> 24 | E22: =SUM(E6:E15,E17:E21) -> 634 | F22: =SUM(F6:F15,F17:F21) -> 93 | G22: =SUM(G6:G15,G17:G21) -> 525 | H22: =SUM(H6:H15,H17:H21) -> 7 | I22: =SUM(I6:I15,I17:I21) -> 5 | J22: =SUM(J6:J15,J17:J21) -> 630 | K22: =SUM(K6:K15,K17:K21) -> 5 | ... M22: =SUM(M6:M15,M17:M21) -> 34
C24: դատական հանձնարարությունների մեջ 3 գործով որոշում չի կայացվել
C25: այլ միջնորդությունների մեջ 1 գործ ÙÇ³óí»É ¿

Sheet Armavir
A1: 2015Ã. 1-ÇÝ ÏÇë³ÙÛ³Ï | C1: Ð²ÞìºîìàôÂÚàôÜ | K1: Ï³½Ùí³Í` ÐÐ Ï³é³í³ñáõÃÛ³Ý 19.03.2015Ã. ÃÇí 306-Ü áñáßÙ³Ý ÑÇÙ³Ý íñ³
A2: ØÇÝã¹³ï³Ï³Ý í³ñáõÛÃÇ ÝÏ³ïÙ³Ùµ ¹³ï³Ï³Ý í»ñ³ÑëÏáÕáõÃÛ³ÝÁ, ¹³ï³Ï³Ý ³Ïï»ñÇ ¨ ¹³ï³Ï³Ý Ñ³ÝÓÝ³ñ³ñáõÃÛáõÝÝ»ñÇ Ï³ï³ñÙ³ÝÁ Ñ»ï Ï³åí³Í ÙÇçÝáñ¹áõÃÛáõÝÝ»ñÇ í»ñ³µ»ñÛ³É ¹³ï³Ï³Ý ·áñÍ»ñáí ÐÐ Արմավիրի մարզի ÁÝ¹Ñ³Ýáõñ Çñ³í³ëáõÃÛ³Ý ³é³çÇÝ ³ïÛ³ÝÇ ¹³ï³ñ³ÝÇ ·áñÍáõÝ»áõÃÛ³Ý í»ñ³µ»ñÛ³É
A3: êïáõ·Çã Ñ³í³ë³ñáõÙ` 1+2=7+8+9, 7=3+4+5+6, | D3: Ñ³ßí»ïáõ Å³Ù³Ý³Ï³Ñ³ïí³ÍÇ ëÏ½µáõÙ Ý³Ëáñ¹ Ñ³ßí»ïáõ Å³Ù³Ý³Ï³Ñ³ïí³ÍÇó ÷áË³Ýóí³Í ·áñÍ»ñÇ ÁÝ¹Ñ³Ýáõñ ÃÇíÁ | E3: Ñ³ßí»ïáõ Å³Ù³Ý³Ï³Ñ³ïí³ÍáõÙ ëï³óí³Í ·áñÍ»ñÇ ÁÝ¹Ñ³Ýáõñ ÃÇíÁ | F3: Ñ³ßí»ïáõ Å³Ù³Ý³Ï³Ñ³ïí³ÍáõÙ ³í³ñïí³Í ·áñÍ»ñÇ ÁÝ¹Ñ³Ýáõñ ÃÇíÁ | K3: áõÕ³ñÏí»É ¿ Áëï ÁÝ¹¹³ïáõÃÛ³Ý | L3: Ñ³ßí»ïáõ Å³Ù³Ý³Ï³Ñ³ïí³ÍáõÙ ³Ý³í³ñï ·áñÍ»ñÇ ÁÝ¹Ñ³Ýáõñ ÃÇíÁ | M3: µáÕáù³ñÏí»É ¿ í»ñ³ùÝÝÇã ¹³ï³ñ³Ý
F4: Ù»ñÅí»É ¿ | G4: µ³í³ñ³ñí»É ¿ | H4: µ³í³ñ³ñí»É ¿ Ù³ëÝ³ÏÇ | I4: ÃáÕÝí»É ¿ ³é³Ýó ùÝÝáõÃÛ³Ý | J4: ÁÝ¹³Ù»ÝÁ
A5: 1. ØÇÝã¹³ï³Ï³Ý í³ñáõÛÃÇ ÝÏ³ïÙ³Ùµ ¹³ï³Ï³Ý í»ñ³ÑëÏáÕáõÃÛ³Ý áÉáñï | D5: 1 | E5: 2 | F5: 3 | G5: 4 | H5: 5 | I5: 6 | J5: 7 | K5: 8 | L5: 9 | M5: 10
A6: 1 | B6: Ï³É³ÝùÁ áñå»ë Ë³÷³ÝÙ³Ý ÙÇçáó ÏÇñ³é»Éáõ Ù³ëÇÝ ÙÇçÝáñ¹áõÃÛáõÝÝ»ñ | E6: 38 | F6: 2 | G6: 36 | J6: 38 | M6: 8
A7: 2 | B7: Ï³É³ÝùÇ Å³ÙÏ»ïÁ »ñÏ³ñ³óÝ»Éáõ Ù³ëÇÝ ÙÇçÝáñ¹áõÃÛáõÝÝ»ñ | E7: 33 | F7: 2 | G7: 29 | H7: 1 | J7: 32 | L7: 1 | M7: 4
A8: 3 | B8: Ï³É³ÝùÇ í»ñ³Ñ³ëï³ïÙ³Ý Ù³ëÇÝ ÙÇçÝáñ¹áõÃÛáõÝÝ»ñ | E8: 4 | G8: 4 | J8: 4
A9: 4 | B9: ·ñ³íÁ áñå»ë Ï³É³Ý³íáñÙ³Ý ³ÛÉÁÝïñ³Ýù³ÛÇÝ Ë³÷³ÝÙ³Ý ÙÇçáó ÏÇñ³é»Éáõ Ù³ëÇÝ ÙÇçÝáñ¹áõÃÛáõÝÝ»ñ | E9: 14 | F9: 8 | G9: 5 | J9: 13 | L9: 1 | M9: 2
A10: 5 | B10: Ëáõ½³ñÏáõÃÛ³Ý Ï³ï³ñÙ³Ý Ù³ëÇÝ ÙÇçÝáñ¹áõÃÛáõÝÝ»ñ | E10: 147 | F10: 2 | G10: 145 | J10: 147
A11: 6 | B11: µ³ÝÏ³ÛÇÝ, ³å³Ñáí³·ñ³Ï³Ý, Ýáï³ñ³Ï³Ý ·³ÕïÝÇù Ï³½ÙáÕ ï»Õ»ÏáõÃÛáõÝÝ»ñÇ ëï³óÙ³Ý Ñ³Ù³ñ Ëáõ½³ñÏáõÃÛ³Ý Ï³Ù ³é·ñ³íÙ³Ý Ï³ï³ñÙ³Ý Ù³ëÇÝ ÙÇçÝáñ¹áõÃÛáõÝÝ»ñ | E11: 3 | G11: 3 | J11: 3
A12: 7 | B12: Ý³Ù³Ï³·ñáõÃÛ³Ý, Ñ»é³·ñ³Ï³Ý, ÷áuï³ÛÇÝ Ñ³Õáñ¹áõÙÝ»ñÇ ÑëÏáÕáõÃÛ³Ý Ù³ëÇÝ ÙÇçÝáñ¹áõÃÛáõÝÝ»ñ | E12: 2 | G12: 2 | J12: 2
A13: 8 | B13: Ñ»é³Ëáu³ÛÇÝ Ï³Ù Ï³åÇ ³ÛÉ ÙÇçáóÝ»ñáí ï³ñíáÕ Ëáu³ÏóáõÃÛáõÝÝ»ñÇ ÉuÙ³Ý ¨ Ó³ÛÝ³·ñ³éÙ³Ý Ù³ëÇÝ ÙÇçÝáñ¹áõÃÛáõÝÝ»ñ
A14: 9 | B14: Ñ»é³ËáëÝ»ñÇ Ùáõïù³ÛÇÝ ¨ »Éù³ÛÇÝ í»ñÍ³ÝÙ³Ý ÃáõÛÉïíáõÃÛáõÝ ëï³Ý³Éáõ Ù³ëÇÝ ÙÇçÝáñ¹áõÃÛáõÝÝ»ñ | E14: 66 | G14: 58 | H14: 8 | J14: 66
A15: 10 | B15: Ñ»ï³ùÝÝáõÃÛ³Ý Ù³ñÙÝÇ ³ßË³ïáÕÇ, ùÝÝÇãÇ, ¹³ï³Ë³½Ç oå»ñ³ïÇí-Ñ»ï³Ëáõ½³Ï³Ý ·áñÍáÕáõÃÛáõÝÝ»ñ Çñ³Ï³Ý³óÝáÕ Ù³ñÙÇÝÝ»ñÇ ³ÝoñÇÝ³Ï³Ý ¨ ³ÝÑÇÙÝ áñáßáõÙÝ»ñÇ ¨ ·áñÍáÕáõÃÛáõÝÝ»ñÇ ¹»Ù µáÕáùÝ»ñ | D15: 3 | E15: 12 | F15: 7 | G15: 2 | J15: 9 | K15: 0 | L15: 5 | M15: 5
A16: 2. ¸³ï³Ï³Ý ³Ïï»ñÇ ¨ ¹³ï³Ï³Ý Ñ³ÝÓÝ³ñ³ñáõÃÛáõÝÝ»ñÇ Ï³ï³ñÙ³Ý Ñ»ï Ï³åí³Í Ñ³ñó»ñÇ ÉáõÍÙ³Ý áÉáñï
A17: 1 | B17: å³ïÅÇó å³ÛÙ³Ý³Ï³Ý í³Õ³Å³ÙÏ»ï ³½³ï»Éáõ Ù³ëÇÝ ÙÇçÝáñ¹áõÃÛáõÝÝ»ñ
A18: 2 | B18: å³ïÇÅÁ ÷á÷áË»Éáõ, Ñ»ï³Ó·»Éáõ ¨ å³ïÅÇó ³½³ï»Éáõ Ù³uÇÝ ÙÇçÝáñ¹áõÃÛáõÝÝ»ñ | D18: 1 | G18: 1 | J18: 1
A19: 3 | B19: Ñ³ñÏ³¹Çñ µáõÅÙ³Ý ï»ë³ÏÇ ÷á÷áËáõÃÛ³Ý Ù³ëÇÝ ÙÇçÝáñ¹áõÃÛáõÝÝ»ñ | E19: 12 | G19: 12 | J19: 12
A20: 4 | B20: ³ÛÉ ÙÇçÝáñ¹áõÃÛáõÝÝ»ñ | E20: 7 | F20: 1 | G20: 6 | J20: 7
A21: 5 | B21: ¹³ï³Ï³Ý Ñ³ÝÓÝ³ñ³ñáõÃÛáõÝÝ»ñ | D21: 7 | E21: 6 | F21: 1 | G21: 7 | J21: 8 | L21: 5
A22: ÀÜ¸²ØºÜÀ | D22: =SUM(D6:D15,D17:D21) -> 11 | E22: =SUM(E6:E15,E17:E21) -> 344 | F22: =SUM(F6:F15,F17:F21) -> 23 | G22: =SUM(G6:G15,G17:G21) -> 310 | H22: =SUM(H6:H15,H17:H21) -> 9 | I22: =SUM(I6:I15,I17:I21) -> 0 | J22: =SUM(J6:J15,J17:J21) -> 342 | K22: =SUM(K6:K15,K17:K21) -> 0 | ... M22: =SUM(M6:M15,M17:M21) -> 19
B25: å³ïÇÅÁ ÷á÷áË»Éáõ, Ñ»ï³Ó·»Éáõ ¨ å³ïÅÇó ³½³ï»Éáõ Ù³uÇÝ ÙÇçÝáñ¹áõÃÛáõÝÝ»ñ Ù»ç 1 ·áñÍ ÙÇ³óí»É ¿

Sheet Ararat
A1: 2015Ã. 1-ÇÝ ÏÇë³ÙÛ³Ï | C1: Ð²ÞìºîìàôÂÚàôÜ | K1: Ï³½Ùí³Í` ÐÐ Ï³é³í³ñáõÃÛ³Ý 19.03.2015Ã. ÃÇí 306-Ü áñáßÙ³Ý ÑÇÙ³Ý íñ³
A2: ØÇÝã¹³ï³Ï³Ý í³ñáõÛÃÇ ÝÏ³ïÙ³Ùµ ¹³ï³Ï³Ý í»ñ³ÑëÏáÕáõÃÛ³ÝÁ, ¹³ï³Ï³Ý ³Ïï»ñÇ ¨ ¹³ï³Ï³Ý Ñ³ÝÓÝ³ñ³ñáõÃÛáõÝÝ»ñÇ Ï³ï³ñÙ³ÝÁ Ñ»ï Ï³åí³Í ÙÇçÝáñ¹áõÃÛáõÝÝ»ñÇ í»ñ³µ»ñÛ³É ¹³ï³Ï³Ý ·áñÍ»ñáí ÐÐ Արարատի և Վայոց Ձորի մարզերի ÁÝ¹Ñ³Ýáõñ Çñ³í³ëáõÃÛ³Ý ³é³çÇÝ ³ïÛ³ÝÇ ¹³ï³ñ³ÝÇ ·áñÍáõÝ»áõÃÛ³Ý í»ñ³µ»ñÛ³É
A3: êïáõ·Çã Ñ³í³ë³ñáõÙ` 1+2=7+8+9, 7=3+4+5+6, | D3: Ñ³ßí»ïáõ Å³Ù³Ý³Ï³Ñ³ïí³ÍÇ ëÏ½µáõÙ Ý³Ëáñ¹ Ñ³ßí»ïáõ Å³Ù³Ý³Ï³Ñ³ïí³ÍÇó ÷áË³Ýóí³Í ·áñÍ»ñÇ ÁÝ¹Ñ³Ýáõñ ÃÇíÁ | E3: Ñ³ßí»ïáõ Å³Ù³Ý³Ï³Ñ³ïí³ÍáõÙ ëï³óí³Í ·áñÍ»ñÇ ÁÝ¹Ñ³Ýáõñ ÃÇíÁ | F3: Ñ³ßí»ïáõ Å³Ù³Ý³Ï³Ñ³ïí³ÍáõÙ ³í³ñïí³Í ·áñÍ»ñÇ ÁÝ¹Ñ³Ýáõñ ÃÇíÁ | K3: áõÕ³ñÏí»É ¿ Áëï ÁÝ¹¹³ïáõÃÛ³Ý | L3: Ñ³ßí»ïáõ Å³Ù³Ý³Ï³Ñ³ïí³ÍáõÙ ³Ý³í³ñï ·áñÍ»ñÇ ÁÝ¹Ñ³Ýáõñ ÃÇíÁ | M3: µáÕáù³ñÏí»É ¿ í»ñ³ùÝÝÇã ¹³ï³ñ³Ý
F4: Ù»ñÅí»É ¿ | G4: µ³í³ñ³ñí»É ¿ | H4: µ³í³ñ³ñí»É ¿ Ù³ëÝ³ÏÇ | I4: ÃáÕÝí»É ¿ ³é³Ýó ùÝÝáõÃÛ³Ý | J4: ÁÝ¹³Ù»ÝÁ
A5: 1. ØÇÝã¹³ï³Ï³Ý í³ñáõÛÃÇ ÝÏ³ïÙ³Ùµ ¹³ï³Ï³Ý í»ñ³ÑëÏáÕáõÃÛ³Ý áÉáñï | D5: 1 | E5: 2 | F5: 3 | G5: 4 | H5: 5 | I5: 6 | J5: 7 | K5: 8 | L5: 9 | M5: 10
A6: 1 | B6: Ï³É³ÝùÁ áñå»ë Ë³÷³ÝÙ³Ý ÙÇçáó ÏÇñ³é»Éáõ Ù³ëÇÝ ÙÇçÝáñ¹áõÃÛáõÝÝ»ñ | E6: 109 | F6: 4 | G6: 105 | J6: 109 | M6: 16
A7: 2 | B7: Ï³É³ÝùÇ Å³ÙÏ»ïÁ »ñÏ³ñ³óÝ»Éáõ Ù³ëÇÝ ÙÇçÝáñ¹áõÃÛáõÝÝ»ñ | E7: 55 | F7: 2 | G7: 52 | J7: 54 | L7: 1 | M7: 6
A8: 3 | B8: Ï³É³ÝùÇ í»ñ³Ñ³ëï³ïÙ³Ý Ù³ëÇÝ ÙÇçÝáñ¹áõÃÛáõÝÝ»ñ | E8: 4 | G8: 4 | J8: 4 | M8: 4
A9: 4 | B9: ·ñ³íÁ áñå»ë Ï³É³Ý³íáñÙ³Ý ³ÛÉÁÝïñ³Ýù³ÛÇÝ Ë³÷³ÝÙ³Ý ÙÇçáó ÏÇñ³é»Éáõ Ù³ëÇÝ ÙÇçÝáñ¹áõÃÛáõÝÝ»ñ | E9: 18 | F9: 16 | G9: 2 | J9: 18 | M9: 2
A10: 5 | B10: Ëáõ½³ñÏáõÃÛ³Ý Ï³ï³ñÙ³Ý Ù³ëÇÝ ÙÇçÝáñ¹áõÃÛáõÝÝ»ñ | E10: 127 | F10: 3 | G10: 124 | J10: 127 | M10: 1
A11: 6 | B11: µ³ÝÏ³ÛÇÝ, ³å³Ñáí³·ñ³Ï³Ý, Ýáï³ñ³Ï³Ý ·³ÕïÝÇù Ï³½ÙáÕ ï»Õ»ÏáõÃÛáõÝÝ»ñÇ ëï³óÙ³Ý Ñ³Ù³ñ Ëáõ½³ñÏáõÃÛ³Ý Ï³Ù ³é·ñ³íÙ³Ý Ï³ï³ñÙ³Ý Ù³ëÇÝ ÙÇçÝáñ¹áõÃÛáõÝÝ»ñ
A12: 7 | B12: Ý³Ù³Ï³·ñáõÃÛ³Ý, Ñ»é³·ñ³Ï³Ý, ÷áuï³ÛÇÝ Ñ³Õáñ¹áõÙÝ»ñÇ ÑëÏáÕáõÃÛ³Ý Ù³ëÇÝ ÙÇçÝáñ¹áõÃÛáõÝÝ»ñ | E12: 59 | G12: 58 | I12: 1 | J12: 59
A13: 8 | B13: Ñ»é³Ëáu³ÛÇÝ Ï³Ù Ï³åÇ ³ÛÉ ÙÇçáóÝ»ñáí ï³ñíáÕ Ëáu³ÏóáõÃÛáõÝÝ»ñÇ ÉuÙ³Ý ¨ Ó³ÛÝ³·ñ³éÙ³Ý Ù³ëÇÝ ÙÇçÝáñ¹áõÃÛáõÝÝ»ñ
A14: 9 | B14: Ñ»é³ËáëÝ»ñÇ Ùáõïù³ÛÇÝ ¨ »Éù³ÛÇÝ í»ñÍ³ÝÙ³Ý ÃáõÛÉïíáõÃÛáõÝ ëï³Ý³Éáõ Ù³ëÇÝ ÙÇçÝáñ¹áõÃÛáõÝÝ»ñ | E14: 58 | F14: 1 | G14: 57 | J14: 58
A15: 10 | B15: Ñ»ï³ùÝÝáõÃÛ³Ý Ù³ñÙÝÇ ³ßË³ïáÕÇ, ùÝÝÇãÇ, ¹³ï³Ë³½Ç oå»ñ³ïÇí-Ñ»ï³Ëáõ½³Ï³Ý ·áñÍáÕáõÃÛáõÝÝ»ñ Çñ³Ï³Ý³óÝáÕ Ù³ñÙÇÝÝ»ñÇ ³ÝoñÇÝ³Ï³Ý ¨ ³ÝÑÇÙÝ áñáßáõÙÝ»ñÇ ¨ ·áñÍáÕáõÃÛáõÝÝ»ñÇ ¹»Ù µáÕáùÝ»ñ | D15: 1 | E15: 9 | F15: 5 | H15: 1 | I15: 1 | J15: 7 | L15: 3 | M15: 5
A16: 2. ¸³ï³Ï³Ý ³Ïï»ñÇ ¨ ¹³ï³Ï³Ý Ñ³ÝÓÝ³ñ³ñáõÃÛáõÝÝ»ñÇ Ï³ï³ñÙ³Ý Ñ»ï Ï³åí³Í Ñ³ñó»ñÇ ÉáõÍÙ³Ý áÉáñï
A17: 1 | B17: å³ïÅÇó å³ÛÙ³Ý³Ï³Ý í³Õ³Å³ÙÏ»ï ³½³ï»Éáõ Ù³ëÇÝ ÙÇçÝáñ¹áõÃÛáõÝÝ»ñ
A18: 2 | B18: å³ïÇÅÁ ÷á÷áË»Éáõ, Ñ»ï³Ó·»Éáõ ¨ å³ïÅÇó ³½³ï»Éáõ Ù³uÇÝ ÙÇçÝáñ¹áõÃÛáõÝÝ»ñ | D18: 3 | E18: 15 | G18: 2 | H18: 1 | I18: 12 | J18: 15 | L18: 3
A19: 3 | B19: Ñ³ñÏ³¹Çñ µáõÅÙ³Ý ï»ë³ÏÇ ÷á÷áËáõÃÛ³Ý Ù³ëÇÝ ÙÇçÝáñ¹áõÃÛáõÝÝ»ñ | E19: 1 | G19: 1 | J19: 1
A20: 4 | B20: ³ÛÉ ÙÇçÝáñ¹áõÃÛáõÝÝ»ñ | D20: 3 | E20: 46 | F20: 28 | G20: 11 | I20: 6 | J20: 45 | L20: 4
A21: 5 | B21: ¹³ï³Ï³Ý Ñ³ÝÓÝ³ñ³ñáõÃÛáõÝÝ»ñ | D21: 7 | E21: 8 | G21: 3 | J21: 3 | L21: 12
A22: ÀÜ¸²ØºÜÀ | D22: =SUM(D6:D15,D17:D21) -> 14 | E22: =SUM(E6:E15,E17:E21) -> 509 | F22: =SUM(F6:F15,F17:F21) -> 59 | G22: =SUM(G6:G15,G17:G21) -> 419 | H22: =SUM(H6:H15,H17:H21) -> 2 | I22: =SUM(I6:I15,I17:I21) -> 20 | J22: =SUM(J6:J15,J17:J21) -> 500 | K22: =SUM(K6:K15,K17:K21) -> 0 | ... M22: =SUM(M6:M15,M17:M21) -> 34

Sheet Aragacotn
A1: 2015Ã. 1-ÇÝ ÏÇë³ÙÛ³Ï | C1: Ð²ÞìºîìàôÂÚàôÜ | K1: Ï³½Ùí³Í` ÐÐ Ï³é³í³ñáõÃÛ³Ý 19.03.2015Ã. ÃÇí 306-Ü áñáßÙ³Ý ÑÇÙ³Ý íñ³
A2: ØÇÝã¹³ï³Ï³Ý í³ñáõÛÃÇ ÝÏ³ïÙ³Ùµ ¹³ï³Ï³Ý í»ñ³ÑëÏáÕáõÃÛ³ÝÁ, ¹³ï³Ï³Ý ³Ïï»ñÇ ¨ ¹³ï³Ï³Ý Ñ³ÝÓÝ³ñ³ñáõÃÛáõÝÝ»ñÇ Ï³ï³ñÙ³ÝÁ Ñ»ï Ï³åí³Í ÙÇçÝáñ¹áõÃÛáõÝÝ»ñÇ í»ñ³µ»ñÛ³É ¹³ï³Ï³Ý ·áñÍ»ñáí ÐÐ Արագածոտնի մարզի ÁÝ¹Ñ³Ýáõñ Çñ³í³ëáõÃÛ³Ý ³é³çÇÝ ³ïÛ³ÝÇ ¹³ï³ñ³ÝÇ ·áñÍáõÝ»áõÃÛ³Ý í»ñ³µ»ñÛ³É
A3: êïáõ·Çã Ñ³í³ë³ñáõÙ` 1+2=7+8+9, 7=3+4+5+6, | D3: Ñ³ßí»ïáõ Å³Ù³Ý³Ï³Ñ³ïí³ÍÇ ëÏ½µáõÙ Ý³Ëáñ¹ Ñ³ßí»ïáõ Å³Ù³Ý³Ï³Ñ³ïí³ÍÇó ÷áË³Ýóí³Í ·áñÍ»ñÇ ÁÝ¹Ñ³Ýáõñ ÃÇíÁ | E3: Ñ³ßí»ïáõ Å³Ù³Ý³Ï³Ñ³ïí³ÍáõÙ ëï³óí³Í ·áñÍ»ñÇ ÁÝ¹Ñ³Ýáõñ ÃÇíÁ | F3: Ñ³ßí»ïáõ Å³Ù³Ý³Ï³Ñ³ïí³ÍáõÙ ³í³ñïí³Í ·áñÍ»ñÇ ÁÝ¹Ñ³Ýáõñ ÃÇíÁ | K3: áõÕ³ñÏí»É ¿ Áëï ÁÝ¹¹³ïáõÃÛ³Ý | L3: Ñ³ßí»ïáõ Å³Ù³Ý³Ï³Ñ³ïí³ÍáõÙ ³Ý³í³ñï ·áñÍ»ñÇ ÁÝ¹Ñ³Ýáõñ ÃÇíÁ | M3: µáÕáù³ñÏí»É ¿ í»ñ³ùÝÝÇã ¹³ï³ñ³Ý
F4: Ù»ñÅí»É ¿ | G4: µ³í³ñ³ñí»É ¿ | H4: µ³í³ñ³ñí»É ¿ Ù³ëÝ³ÏÇ | I4: ÃáÕÝí»É ¿ ³é³Ýó ùÝÝáõÃÛ³Ý | J4: ÁÝ¹³Ù»ÝÁ
A5: 1. ØÇÝã¹³ï³Ï³Ý í³ñáõÛÃÇ ÝÏ³ïÙ³Ùµ ¹³ï³Ï³Ý í»ñ³ÑëÏáÕáõÃÛ³Ý áÉáñï | D5: 1 | E5: 2 | F5: 3 | G5: 4 | H5: 5 | I5: 6 | J5: 7 | K5: 8 | L5: 9 | M5: 10
A6: 1 | B6: Ï³É³ÝùÁ áñå»ë Ë³÷³ÝÙ³Ý ÙÇçáó ÏÇñ³é»Éáõ Ù³ëÇÝ ÙÇçÝáñ¹áõÃÛáõÝÝ»ñ | E6: 13 | G6: 8 | H6: 5 | J6: 13 | M6: 6
A7: 2 | B7: Ï³É³ÝùÇ Å³ÙÏ»ïÁ »ñÏ³ñ³óÝ»Éáõ Ù³ëÇÝ ÙÇçÝáñ¹áõÃÛáõÝÝ»ñ | E7: 22 | F7: 1 | G7: 16 | H7: 4 | J7: 21 | L7: 1 | M7: 7
A8: 3 | B8: Ï³É³ÝùÇ í»ñ³Ñ³ëï³ïÙ³Ý Ù³ëÇÝ ÙÇçÝáñ¹áõÃÛáõÝÝ»ñ | E8: 3 | G8: 3 | J8: 3 | M8: 2
A9: 4 | B9: ·ñ³íÁ áñå»ë Ï³É³Ý³íáñÙ³Ý ³ÛÉÁÝïñ³Ýù³ÛÇÝ Ë³÷³ÝÙ³Ý ÙÇçáó ÏÇñ³é»Éáõ Ù³ëÇÝ ÙÇçÝáñ¹áõÃÛáõÝÝ»ñ | E9: 2 | F9: 2 | J9: 2 | M9: 1
A10: 5 | B10: Ëáõ½³ñÏáõÃÛ³Ý Ï³ï³ñÙ³Ý Ù³ëÇÝ ÙÇçÝáñ¹áõÃÛáõÝÝ»ñ | E10: 47 | F10: 6 | G10: 41 | J10: 47 | M10: 2
A11: 6 | B11: µ³ÝÏ³ÛÇÝ, ³å³Ñáí³·ñ³Ï³Ý, Ýáï³ñ³Ï³Ý ·³ÕïÝÇù Ï³½ÙáÕ ï»Õ»ÏáõÃÛáõÝÝ»ñÇ ëï³óÙ³Ý Ñ³Ù³ñ Ëáõ½³ñÏáõÃÛ³Ý Ï³Ù ³é·ñ³íÙ³Ý Ï³ï³ñÙ³Ý Ù³ëÇÝ ÙÇçÝáñ¹áõÃÛáõÝÝ»ñ | E11: 1 | G11: 1 | J11: 1
A12: 7 | B12: Ý³Ù³Ï³·ñáõÃÛ³Ý, Ñ»é³·ñ³Ï³Ý, ÷áuï³ÛÇÝ Ñ³Õáñ¹áõÙÝ»ñÇ ÑëÏáÕáõÃÛ³Ý Ù³ëÇÝ ÙÇçÝáñ¹áõÃÛáõÝÝ»ñ | E12: 1 | G12: 1 | J12: 1
A13: 8 | B13: Ñ»é³Ëáu³ÛÇÝ Ï³Ù Ï³åÇ ³ÛÉ ÙÇçáóÝ»ñáí ï³ñíáÕ Ëáu³ÏóáõÃÛáõÝÝ»ñÇ ÉuÙ³Ý ¨ Ó³ÛÝ³·ñ³éÙ³Ý Ù³ëÇÝ ÙÇçÝáñ¹áõÃÛáõÝÝ»ñ
A14: 9 | B14: Ñ»é³ËáëÝ»ñÇ Ùáõïù³ÛÇÝ ¨ »Éù³ÛÇÝ í»ñÍ³ÝÙ³Ý ÃáõÛÉïíáõÃÛáõÝ ëï³Ý³Éáõ Ù³ëÇÝ ÙÇçÝáñ¹áõÃÛáõÝÝ»ñ | E14: 30 | F14: 4 | G14: 25 | H14: 1 | J14: 30 | M14: 1
A15: 10 | B15: Ñ»ï³ùÝÝáõÃÛ³Ý Ù³ñÙÝÇ ³ßË³ïáÕÇ, ùÝÝÇãÇ, ¹³ï³Ë³½Ç oå»ñ³ïÇí-Ñ»ï³Ëáõ½³Ï³Ý ·áñÍáÕáõÃÛáõÝÝ»ñ Çñ³Ï³Ý³óÝáÕ Ù³ñÙÇÝÝ»ñÇ ³ÝoñÇÝ³Ï³Ý ¨ ³ÝÑÇÙÝ áñáßáõÙÝ»ñÇ ¨ ·áñÍáÕáõÃÛáõÝÝ»ñÇ ¹»Ù µáÕáùÝ»ñ | E15: 5 | F15: 4 | I15: 1 | J15: 5 | M15: 2
A16: 2. ¸³ï³Ï³Ý ³Ïï»ñÇ ¨ ¹³ï³Ï³Ý Ñ³ÝÓÝ³ñ³ñáõÃÛáõÝÝ»ñÇ Ï³ï³ñÙ³Ý Ñ»ï Ï³åí³Í Ñ³ñó»ñÇ ÉáõÍÙ³Ý áÉáñï
A17: 1 | B17: å³ïÅÇó å³ÛÙ³Ý³Ï³Ý í³Õ³Å³ÙÏ»ï ³½³ï»Éáõ Ù³ëÇÝ ÙÇçÝáñ¹áõÃÛáõÝÝ»ñ | E17: 25 | F17: 2 | G17: 23 | J17: 25 | M17: 7
A18: 2 | B18: å³ïÇÅÁ ÷á÷áË»Éáõ, Ñ»ï³Ó·»Éáõ ¨ å³ïÅÇó ³½³ï»Éáõ Ù³uÇÝ ÙÇçÝáñ¹áõÃÛáõÝÝ»ñ | E18: 2 | F18: 1 | G18: 1 | J18: 2
A19: 3 | B19: Ñ³ñÏ³¹Çñ µáõÅÙ³Ý ï»ë³ÏÇ ÷á÷áËáõÃÛ³Ý Ù³ëÇÝ ÙÇçÝáñ¹áõÃÛáõÝÝ»ñ | E19: 3 | G19: 3 | J19: 3
A20: 4 | B20: ³ÛÉ ÙÇçÝáñ¹áõÃÛáõÝÝ»ñ | E20: 13 | F20: 3 | G20: 7 | I20: 1 | J20: 11 | L20: 2 | M20: 1
A21: 5 | B21: ¹³ï³Ï³Ý Ñ³ÝÓÝ³ñ³ñáõÃÛáõÝÝ»ñ | D21: 2 | E21: 1 | G21: 1 | H21: 1 | J21: 2
A22: ÀÜ¸²ØºÜÀ | D22: =SUM(D6:D15,D17:D21) -> 2 | E22: =SUM(E6:E15,E17:E21) -> 168 | F22: =SUM(F6:F15,F17:F21) -> 23 | G22: =SUM(G6:G15,G17:G21) -> 130 | H22: =SUM(H6:H15,H17:H21) -> 11 | I22: =SUM(I6:I15,I17:I21) -> 2 | J22: =SUM(J6:J15,J17:J21) -> 166 | K22: =SUM(K6:K15,K17:K21) -> 0 | ... M22: =SUM(M6:M15,M17:M21) -> 29
C24: դատական հանձնարարությունների մեջ 1 գործով որոշում չի կայացվել

Sheet Shirak
A1: 2015Ã. 1-ÇÝ ÏÇë³ÙÛ³Ï | C1: Ð²ÞìºîìàôÂÚàôÜ | K1: Ï³½Ùí³Í` ÐÐ Ï³é³í³ñáõÃÛ³Ý 19.03.2015Ã. ÃÇí 306-Ü áñáßÙ³Ý ÑÇÙ³Ý íñ³
A2: ØÇÝã¹³ï³Ï³Ý í³ñáõÛÃÇ ÝÏ³ïÙ³Ùµ ¹³ï³Ï³Ý í»ñ³ÑëÏáÕáõÃÛ³ÝÁ, ¹³ï³Ï³Ý ³Ïï»ñÇ ¨ ¹³ï³Ï³Ý Ñ³ÝÓÝ³ñ³ñáõÃÛáõÝÝ»ñÇ Ï³ï³ñÙ³ÝÁ Ñ»ï Ï³åí³Í ÙÇçÝáñ¹áõÃÛáõÝÝ»ñÇ í»ñ³µ»ñÛ³É ¹³ï³Ï³Ý ·áñÍ»ñáí ÐÐ Շիրակի մարզի ÁÝ¹Ñ³Ýáõñ Çñ³í³ëáõÃÛ³Ý ³é³çÇÝ ³ïÛ³ÝÇ ¹³ï³ñ³ÝÇ ·áñÍáõÝ»áõÃÛ³Ý í»ñ³µ»ñÛ³É
A3: êïáõ·Çã Ñ³í³ë³ñáõÙ` 1+2=7+8+9, 7=3+4+5+6, | D3: Ñ³ßí»ïáõ Å³Ù³Ý³Ï³Ñ³ïí³ÍÇ ëÏ½µáõÙ Ý³Ëáñ¹ Ñ³ßí»ïáõ Å³Ù³Ý³Ï³Ñ³ïí³ÍÇó ÷áË³Ýóí³Í ·áñÍ»ñÇ ÁÝ¹Ñ³Ýáõñ ÃÇíÁ | E3: Ñ³ßí»ïáõ Å³Ù³Ý³Ï³Ñ³ïí³ÍáõÙ ëï³óí³Í ·áñÍ»ñÇ ÁÝ¹Ñ³Ýáõñ ÃÇíÁ | F3: Ñ³ßí»ïáõ Å³Ù³Ý³Ï³Ñ³ïí³ÍáõÙ ³í³ñïí³Í ·áñÍ»ñÇ ÁÝ¹Ñ³Ýáõñ ÃÇíÁ | K3: áõÕ³ñÏí»É ¿ Áëï ÁÝ¹¹³ïáõÃÛ³Ý | L3: Ñ³ßí»ïáõ Å³Ù³Ý³Ï³Ñ³ïí³ÍáõÙ ³Ý³í³ñï ·áñÍ»ñÇ ÁÝ¹Ñ³Ýáõñ ÃÇíÁ | M3: µáÕáù³ñÏí»É ¿ í»ñ³ùÝÝÇã ¹³ï³ñ³Ý
F4: Ù»ñÅí»É ¿ | G4: µ³í³ñ³ñí»É ¿ | H4: µ³í³ñ³ñí»É ¿ Ù³ëÝ³ÏÇ | I4: ÃáÕÝí»É ¿ ³é³Ýó ùÝÝáõÃÛ³Ý | J4: ÁÝ¹³Ù»ÝÁ
A5: 1. ØÇÝã¹³ï³Ï³Ý í³ñáõÛÃÇ ÝÏ³ïÙ³Ùµ ¹³ï³Ï³Ý í»ñ³ÑëÏáÕáõÃÛ³Ý áÉáñï | D5: 1 | E5: 2 | F5: 3 | G5: 4 | H5: 5 | I5: 6 | J5: 7 | K5: 8 | L5: 9 | M5: 10
A6: 1 | B6: Ï³É³ÝùÁ áñå»ë Ë³÷³ÝÙ³Ý ÙÇçáó ÏÇñ³é»Éáõ Ù³ëÇÝ ÙÇçÝáñ¹áõÃÛáõÝÝ»ñ | E6: 134 | F6: 8 | G6: 126 | J6: =+F6+G6+H6+I6 -> 134 | M6: 10
A7: 2 | B7: Ï³É³ÝùÇ Å³ÙÏ»ïÁ »ñÏ³ñ³óÝ»Éáõ Ù³ëÇÝ ÙÇçÝáñ¹áõÃÛáõÝÝ»ñ | D7: 4 | E7: 68 | F7: 1 | G7: 65 | H7: 5 | J7: =+F7+G7+H7+I7 -> 71 | L7: 1 | M7: 14
A8: 3 | B8: Ï³É³ÝùÇ í»ñ³Ñ³ëï³ïÙ³Ý Ù³ëÇÝ ÙÇçÝáñ¹áõÃÛáõÝÝ»ñ | E8: 10 | F8: 5 | G8: 5 | J8: =+F8+G8+H8+I8 -> 10 | M8: 2
A9: 4 | B9: ·ñ³íÁ áñå»ë Ï³É³Ý³íáñÙ³Ý ³ÛÉÁÝïñ³Ýù³ÛÇÝ Ë³÷³ÝÙ³Ý ÙÇçáó ÏÇñ³é»Éáõ Ù³ëÇÝ ÙÇçÝáñ¹áõÃÛáõÝÝ»ñ | E9: 30 | F9: 23 | G9: 6 | J9: =+F9+G9+H9+I9 -> 29 | L9: 1 | M9: 1
A10: 5 | B10: Ëáõ½³ñÏáõÃÛ³Ý Ï³ï³ñÙ³Ý Ù³ëÇÝ ÙÇçÝáñ¹áõÃÛáõÝÝ»ñ | E10: 247 | F10: 10 | G10: 236 | H10: 1 | J10: =+F10+G10+H10+I10 -> 247
A11: 6 | B11: µ³ÝÏ³ÛÇÝ, ³å³Ñáí³·ñ³Ï³Ý, Ýáï³ñ³Ï³Ý ·³ÕïÝÇù Ï³½ÙáÕ ï»Õ»ÏáõÃÛáõÝÝ»ñÇ ëï³óÙ³Ý Ñ³Ù³ñ Ëáõ½³ñÏáõÃÛ³Ý Ï³Ù ³é·ñ³íÙ³Ý Ï³ï³ñÙ³Ý Ù³ëÇÝ ÙÇçÝáñ¹áõÃÛáõÝÝ»ñ | E11: 14 | F11: 6 | G11: 3 | H11: 5 | J11: =+F11+G11+H11+I11 -> 14
A12: 7 | B12: Ý³Ù³Ï³·ñáõÃÛ³Ý, Ñ»é³·ñ³Ï³Ý, ÷áuï³ÛÇÝ Ñ³Õáñ¹áõÙÝ»ñÇ ÑëÏáÕáõÃÛ³Ý Ù³ëÇÝ ÙÇçÝáñ¹áõÃÛáõÝÝ»ñ | E12: 96 | G12: 95 | H12: 1 | J12: =+F12+G12+H12+I12 -> 96
A13: 8 | B13: Ñ»é³Ëáu³ÛÇÝ Ï³Ù Ï³åÇ ³ÛÉ ÙÇçáóÝ»ñáí ï³ñíáÕ Ëáu³ÏóáõÃÛáõÝÝ»ñÇ ÉuÙ³Ý ¨ Ó³ÛÝ³·ñ³éÙ³Ý Ù³ëÇÝ ÙÇçÝáñ¹áõÃÛáõÝÝ»ñ | J13: =+F13+G13+H13+I13 -> 0
A14: 9 | B14: Ñ»é³ËáëÝ»ñÇ Ùáõïù³ÛÇÝ ¨ »Éù³ÛÇÝ í»ñÍ³ÝÙ³Ý ÃáõÛÉïíáõÃÛáõÝ ëï³Ý³Éáõ Ù³ëÇÝ ÙÇçÝáñ¹áõÃÛáõÝÝ»ñ | E14: 120 | F14: 7 | G14: 110 | H14: 3 | J14: =+F14+G14+H14+I14 -> 120
A15: 10 | B15: Ñ»ï³ùÝÝáõÃÛ³Ý Ù³ñÙÝÇ ³ßË³ïáÕÇ, ùÝÝÇãÇ, ¹³ï³Ë³½Ç oå»ñ³ïÇí-Ñ»ï³Ëáõ½³Ï³Ý ·áñÍáÕáõÃÛáõÝÝ»ñ Çñ³Ï³Ý³óÝáÕ Ù³ñÙÇÝÝ»ñÇ ³ÝoñÇÝ³Ï³Ý ¨ ³ÝÑÇÙÝ áñáßáõÙÝ»ñÇ ¨ ·áñÍáÕáõÃÛáõÝÝ»ñÇ ¹»Ù µáÕáùÝ»ñ | D15: 2 | E15: 10 | F15: 10 | J15: =+F15+G15+H15+I15 -> 10 | L15: 2 | M15: 7
A16: 2. ¸³ï³Ï³Ý ³Ïï»ñÇ ¨ ¹³ï³Ï³Ý Ñ³ÝÓÝ³ñ³ñáõÃÛáõÝÝ»ñÇ Ï³ï³ñÙ³Ý Ñ»ï Ï³åí³Í Ñ³ñó»ñÇ ÉáõÍÙ³Ý áÉáñï
A17: 1 | B17: å³ïÅÇó å³ÛÙ³Ý³Ï³Ý í³Õ³Å³ÙÏ»ï ³½³ï»Éáõ Ù³ëÇÝ ÙÇçÝáñ¹áõÃÛáõÝÝ»ñ | D17: 1 | E17: 7 | F17: 1 | G17: 7 | J17: =+F17+G17+H17+I17 -> 8 | M17: 2
A18: 2 | B18: å³ïÇÅÁ ÷á÷áË»Éáõ, Ñ»ï³Ó·»Éáõ ¨ å³ïÅÇó ³½³ï»Éáõ Ù³uÇÝ ÙÇçÝáñ¹áõÃÛáõÝÝ»ñ | E18: 18 | F18: 1 | G18: 12 | H18: 3 | J18: =+F18+G18+H18+I18 -> 16 | K18: 1 | L18: 1
A19: 3 | B19: Ñ³ñÏ³¹Çñ µáõÅÙ³Ý ï»ë³ÏÇ ÷á÷áËáõÃÛ³Ý Ù³ëÇÝ ÙÇçÝáñ¹áõÃÛáõÝÝ»ñ | E19: 1 | G19: 1 | J19: =+F19+G19+H19+I19 -> 1
A20: 4 | B20: ³ÛÉ ÙÇçÝáñ¹áõÃÛáõÝÝ»ñ | E20: 14 | G20: 8 | I20: 1 | J20: =+F20+G20+H20+I20 -> 9 | K20: 1 | L20: 2
A21: 5 | B21: ¹³ï³Ï³Ý Ñ³ÝÓÝ³ñ³ñáõÃÛáõÝÝ»ñ | D21: 12 | E21: 12 | G21: 11 | J21: =+F21+G21+H21+I21 -> 11 | L21: 5 | M21: 2
A22: ÀÜ¸²ØºÜÀ | D22: =SUM(D6:D15,D17:D21) -> 19 | E22: =SUM(E6:E15,E17:E21) -> 781 | F22: =SUM(F6:F15,F17:F21) -> 72 | G22: =SUM(G6:G15,G17:G21) -> 685 | H22: =SUM(H6:H15,H17:H21) -> 18 | I22: =SUM(I6:I15,I17:I21) -> 1 | J22: =SUM(J6:J15,J17:J21) -> 776 | K22: =SUM(K6:K15,K17:K21) -> 2 | ... M22: =SUM(M6:M15,M17:M21) -> 38
C25: այլ միջնորդությունների մեջ 2 գործ վերադարձվել է
C26: դատական հանձնարարությունների մեջ 7 գործով որոշում չի կայացվել
C27: դատական հանձնարարությունների մեջ 1 գործ հետ է վերադարձվել

Sheet Lori
A1: 2015Ã. 1-ÇÝ ÏÇë³ÙÛ³Ï | C1: Ð²ÞìºîìàôÂÚàôÜ | K1: Ï³½Ùí³Í` ÐÐ Ï³é³í³ñáõÃÛ³Ý 19.03.2015Ã. ÃÇí 306-Ü áñáßÙ³Ý ÑÇÙ³Ý íñ³
A2: ØÇÝã¹³ï³Ï³Ý í³ñáõÛÃÇ ÝÏ³ïÙ³Ùµ ¹³ï³Ï³Ý í»ñ³ÑëÏáÕáõÃÛ³ÝÁ, ¹³ï³Ï³Ý ³Ïï»ñÇ ¨ ¹³ï³Ï³Ý Ñ³ÝÓÝ³ñ³ñáõÃÛáõÝÝ»ñÇ Ï³ï³ñÙ³ÝÁ Ñ»ï Ï³åí³Í ÙÇçÝáñ¹áõÃÛáõÝÝ»ñÇ í»ñ³µ»ñÛ³É ¹³ï³Ï³Ý ·áñÍ»ñáí ÐÐ Լոռու մարզի ÁÝ¹Ñ³Ýáõñ Çñ³í³ëáõÃÛ³Ý ³é³çÇÝ ³ïÛ³ÝÇ ¹³ï³ñ³ÝÇ ·áñÍáõÝ»áõÃÛ³Ý í»ñ³µ»ñÛ³É
A3: êïáõ·Çã Ñ³í³ë³ñáõÙ` 1+2=7+8+9, 7=3+4+5+6, | D3: Ñ³ßí»ïáõ Å³Ù³Ý³Ï³Ñ³ïí³ÍÇ ëÏ½µáõÙ Ý³Ëáñ¹ Ñ³ßí»ïáõ Å³Ù³Ý³Ï³Ñ³ïí³ÍÇó ÷áË³Ýóí³Í ·áñÍ»ñÇ ÁÝ¹Ñ³Ýáõñ ÃÇíÁ | E3: Ñ³ßí»ïáõ Å³Ù³Ý³Ï³Ñ³ïí³ÍáõÙ ëï³óí³Í ·áñÍ»ñÇ ÁÝ¹Ñ³Ýáõñ ÃÇíÁ | F3: Ñ³ßí»ïáõ Å³Ù³Ý³Ï³Ñ³ïí³ÍáõÙ ³í³ñïí³Í ·áñÍ»ñÇ ÁÝ¹Ñ³Ýáõñ ÃÇíÁ | K3: áõÕ³ñÏí»É ¿ Áëï ÁÝ¹¹³ïáõÃÛ³Ý | L3: Ñ³ßí»ïáõ Å³Ù³Ý³Ï³Ñ³ïí³ÍáõÙ ³Ý³í³ñï ·áñÍ»ñÇ ÁÝ¹Ñ³Ýáõñ ÃÇíÁ | M3: µáÕáù³ñÏí»É ¿ í»ñ³ùÝÝÇã ¹³ï³ñ³Ý
F4: Ù»ñÅí»É ¿ | G4: µ³í³ñ³ñí»É ¿ | H4: µ³í³ñ³ñí»É ¿ Ù³ëÝ³ÏÇ | I4: ÃáÕÝí»É ¿ ³é³Ýó ùÝÝáõÃÛ³Ý | J4: ÁÝ¹³Ù»ÝÁ
A5: 1. ØÇÝã¹³ï³Ï³Ý í³ñáõÛÃÇ ÝÏ³ïÙ³Ùµ ¹³ï³Ï³Ý í»ñ³ÑëÏáÕáõÃÛ³Ý áÉáñï | D5: 1 | E5: 2 | F5: 3 | G5: 4 | H5: 5 | I5: 6 | J5: 7 | K5: 8 | L5: 9 | M5: 10
A6: 1 | B6: Ï³É³ÝùÁ áñå»ë Ë³÷³ÝÙ³Ý ÙÇçáó ÏÇñ³é»Éáõ Ù³ëÇÝ ÙÇçÝáñ¹áõÃÛáõÝÝ»ñ | E6: 73 | F6: 6 | G6: 66 | H6: 1 | J6: 73
A7: 2 | B7: Ï³É³ÝùÇ Å³ÙÏ»ïÁ »ñÏ³ñ³óÝ»Éáõ Ù³ëÇÝ ÙÇçÝáñ¹áõÃÛáõÝÝ»ñ | D7: 5 | E7: 43 | G7: 43 | H7: 4 | J7: 47 | L7: 1
A8: 3 | B8: Ï³É³ÝùÇ í»ñ³Ñ³ëï³ïÙ³Ý Ù³ëÇÝ ÙÇçÝáñ¹áõÃÛáõÝÝ»ñ | E8: 4 | G8: 4 | J8: 4
A9: 4 | B9: ·ñ³íÁ áñå»ë Ï³É³Ý³íáñÙ³Ý ³ÛÉÁÝïñ³Ýù³ÛÇÝ Ë³÷³ÝÙ³Ý ÙÇçáó ÏÇñ³é»Éáõ Ù³ëÇÝ ÙÇçÝáñ¹áõÃÛáõÝÝ»ñ | E9: 25 | F9: 22 | G9: 3 | J9: 25
A10: 5 | B10: Ëáõ½³ñÏáõÃÛ³Ý Ï³ï³ñÙ³Ý Ù³ëÇÝ ÙÇçÝáñ¹áõÃÛáõÝÝ»ñ | E10: 178 | F10: 4 | G10: 171 | H10: 2 | I10: 1 | J10: 178
A11: 6 | B11: µ³ÝÏ³ÛÇÝ, ³å³Ñáí³·ñ³Ï³Ý, Ýáï³ñ³Ï³Ý ·³ÕïÝÇù Ï³½ÙáÕ ï»Õ»ÏáõÃÛáõÝÝ»ñÇ ëï³óÙ³Ý Ñ³Ù³ñ Ëáõ½³ñÏáõÃÛ³Ý Ï³Ù ³é·ñ³íÙ³Ý Ï³ï³ñÙ³Ý Ù³ëÇÝ ÙÇçÝáñ¹áõÃÛáõÝÝ»ñ | E11: 2 | F11: 1 | H11: 1 | J11: 2
A12: 7 | B12: Ý³Ù³Ï³·ñáõÃÛ³Ý, Ñ»é³·ñ³Ï³Ý, ÷áuï³ÛÇÝ Ñ³Õáñ¹áõÙÝ»ñÇ ÑëÏáÕáõÃÛ³Ý Ù³ëÇÝ ÙÇçÝáñ¹áõÃÛáõÝÝ»ñ | E12: 50 | G12: 47 | H12: 3 | J12: 50
A13: 8 | B13: Ñ»é³Ëáu³ÛÇÝ Ï³Ù Ï³åÇ ³ÛÉ ÙÇçáóÝ»ñáí ï³ñíáÕ Ëáu³ÏóáõÃÛáõÝÝ»ñÇ ÉuÙ³Ý ¨ Ó³ÛÝ³·ñ³éÙ³Ý Ù³ëÇÝ ÙÇçÝáñ¹áõÃÛáõÝÝ»ñ
A14: 9 | B14: Ñ»é³ËáëÝ»ñÇ Ùáõïù³ÛÇÝ ¨ »Éù³ÛÇÝ í»ñÍ³ÝÙ³Ý ÃáõÛÉïíáõÃÛáõÝ ëï³Ý³Éáõ Ù³ëÇÝ ÙÇçÝáñ¹áõÃÛáõÝÝ»ñ | E14: 78 | F14: 3 | G14: 71 | H14: 3 | I14: 1 | J14: 78
A15: 10 | B15: Ñ»ï³ùÝÝáõÃÛ³Ý Ù³ñÙÝÇ ³ßË³ïáÕÇ, ùÝÝÇãÇ, ¹³ï³Ë³½Ç oå»ñ³ïÇí-Ñ»ï³Ëáõ½³Ï³Ý ·áñÍáÕáõÃÛáõÝÝ»ñ Çñ³Ï³Ý³óÝáÕ Ù³ñÙÇÝÝ»ñÇ ³ÝoñÇÝ³Ï³Ý ¨ ³ÝÑÇÙÝ áñáßáõÙÝ»ñÇ ¨ ·áñÍáÕáõÃÛáõÝÝ»ñÇ ¹»Ù µáÕáùÝ»ñ | D15: 3 | E15: 24 | F15: 16 | H15: 1 | I15: 1 | J15: 18 | L15: 9
A16: 2. ¸³ï³Ï³Ý ³Ïï»ñÇ ¨ ¹³ï³Ï³Ý Ñ³ÝÓÝ³ñ³ñáõÃÛáõÝÝ»ñÇ Ï³ï³ñÙ³Ý Ñ»ï Ï³åí³Í Ñ³ñó»ñÇ ÉáõÍÙ³Ý áÉáñï
A17: 1 | B17: å³ïÅÇó å³ÛÙ³Ý³Ï³Ý í³Õ³Å³ÙÏ»ï ³½³ï»Éáõ Ù³ëÇÝ ÙÇçÝáñ¹áõÃÛáõÝÝ»ñ | E17: 1 | G17: 1 | J17: 1
A18: 2 | B18: å³ïÇÅÁ ÷á÷áË»Éáõ, Ñ»ï³Ó·»Éáõ ¨ å³ïÅÇó ³½³ï»Éáõ Ù³uÇÝ ÙÇçÝáñ¹áõÃÛáõÝÝ»ñ | D18: 6 | E18: 12 | F18: 2 | G18: 12 | I18: 1 | J18: 15 | L18: 3
A19: 3 | B19: Ñ³ñÏ³¹Çñ µáõÅÙ³Ý ï»ë³ÏÇ ÷á÷áËáõÃÛ³Ý Ù³ëÇÝ ÙÇçÝáñ¹áõÃÛáõÝÝ»ñ | E19: 4 | G19: 3 | J19: 3 | L19: 1
A20: 4 | B20: ³ÛÉ ÙÇçÝáñ¹áõÃÛáõÝÝ»ñ | D20: 2 | E20: 8 | F20: 1 | G20: 5 | I20: 2 | J20: 8 | L20: 2
A21: 5 | B21: ¹³ï³Ï³Ý Ñ³ÝÓÝ³ñ³ñáõÃÛáõÝÝ»ñ | D21: 8 | E21: 8 | F21: 5 | G21: 2 | J21: 7 | L21: 9
A22: ÀÜ¸²ØºÜÀ | D22: =SUM(D6:D15,D17:D21) -> 24 | E22: =SUM(E6:E15,E17:E21) -> 510 | F22: =SUM(F6:F15,F17:F21) -> 60 | G22: =SUM(G6:G15,G17:G21) -> 428 | H22: =SUM(H6:H15,H17:H21) -> 15 | I22: =SUM(I6:I15,I17:I21) -> 6 | J22: =SUM(J6:J15,J17:J21) -> 509 | K22: =SUM(K6:K15,K17:K21) -> 0 | ... M22: =SUM(M6:M15,M17:M21) -> 0

Sheet Tavush
A1: 2015Ã. 1-ÇÝ ÏÇë³ÙÛ³Ï | C1: Ð²ÞìºîìàôÂÚàôÜ | K1: Ï³½Ùí³Í` ÐÐ Ï³é³í³ñáõÃÛ³Ý 19.03.2015Ã. ÃÇí 306-Ü áñáßÙ³Ý ÑÇÙ³Ý íñ³
A2: ØÇÝã¹³ï³Ï³Ý í³ñáõÛÃÇ ÝÏ³ïÙ³Ùµ ¹³ï³Ï³Ý í»ñ³ÑëÏáÕáõÃÛ³ÝÁ, ¹³ï³Ï³Ý ³Ïï»ñÇ ¨ ¹³ï³Ï³Ý Ñ³ÝÓÝ³ñ³ñáõÃÛáõÝÝ»ñÇ Ï³ï³ñÙ³ÝÁ Ñ»ï Ï³åí³Í ÙÇçÝáñ¹áõÃÛáõÝÝ»ñÇ í»ñ³µ»ñÛ³É ¹³ï³Ï³Ý ·áñÍ»ñáí ÐÐ Տավուշի մարզի ÁÝ¹Ñ³Ýáõñ Çñ³í³ëáõÃÛ³Ý ³é³çÇÝ ³ïÛ³ÝÇ ¹³ï³ñ³ÝÇ ·áñÍáõÝ»áõÃÛ³Ý í»ñ³µ»ñÛ³É
A3: êïáõ·Çã Ñ³í³ë³ñáõÙ` 1+2=7+8+9, 7=3+4+5+6, | D3: Ñ³ßí»ïáõ Å³Ù³Ý³Ï³Ñ³ïí³ÍÇ ëÏ½µáõÙ Ý³Ëáñ¹ Ñ³ßí»ïáõ Å³Ù³Ý³Ï³Ñ³ïí³ÍÇó ÷áË³Ýóí³Í ·áñÍ»ñÇ ÁÝ¹Ñ³Ýáõñ ÃÇíÁ | E3: Ñ³ßí»ïáõ Å³Ù³Ý³Ï³Ñ³ïí³ÍáõÙ ëï³óí³Í ·áñÍ»ñÇ ÁÝ¹Ñ³Ýáõñ ÃÇíÁ | F3: Ñ³ßí»ïáõ Å³Ù³Ý³Ï³Ñ³ïí³ÍáõÙ ³í³ñïí³Í ·áñÍ»ñÇ ÁÝ¹Ñ³Ýáõñ ÃÇíÁ | K3: áõÕ³ñÏí»É ¿ Áëï ÁÝ¹¹³ïáõÃÛ³Ý | L3: Ñ³ßí»ïáõ Å³Ù³Ý³Ï³Ñ³ïí³ÍáõÙ ³Ý³í³ñï ·áñÍ»ñÇ ÁÝ¹Ñ³Ýáõñ ÃÇíÁ | M3: µáÕáù³ñÏí»É ¿ í»ñ³ùÝÝÇã ¹³ï³ñ³Ý
F4: Ù»ñÅí»É ¿ | G4: µ³í³ñ³ñí»É ¿ | H4: µ³í³ñ³ñí»É ¿ Ù³ëÝ³ÏÇ | I4: ÃáÕÝí»É ¿ ³é³Ýó ùÝÝáõÃÛ³Ý | J4: ÁÝ¹³Ù»ÝÁ
A5: 1. ØÇÝã¹³ï³Ï³Ý í³ñáõÛÃÇ ÝÏ³ïÙ³Ùµ ¹³ï³Ï³Ý í»ñ³ÑëÏáÕáõÃÛ³Ý áÉáñï | D5: 1 | E5: 2 | F5: 3 | G5: 4 | H5: 5 | I5: 6 | J5: 7 | K5: 8 | L5: 9 | M5: 10
A6: 1 | B6: Ï³É³ÝùÁ áñå»ë Ë³÷³ÝÙ³Ý ÙÇçáó ÏÇñ³é»Éáõ Ù³ëÇÝ ÙÇçÝáñ¹áõÃÛáõÝÝ»ñ | E6: 40 | F6: 8 | G6: 32 | J6: 40 | M6: 7
A7: 2 | B7: Ï³É³ÝùÇ Å³ÙÏ»ïÁ »ñÏ³ñ³óÝ»Éáõ Ù³ëÇÝ ÙÇçÝáñ¹áõÃÛáõÝÝ»ñ | E7: 20 | F7: 1 | G7: 19 | J7: 20 | M7: 6
A8: 3 | B8: Ï³É³ÝùÇ í»ñ³Ñ³ëï³ïÙ³Ý Ù³ëÇÝ ÙÇçÝáñ¹áõÃÛáõÝÝ»ñ | E8: 6 | F8: 1 | G8: 5 | J8: 6 | M8: 3
A9: 4 | B9: ·ñ³íÁ áñå»ë Ï³É³Ý³íáñÙ³Ý ³ÛÉÁÝïñ³Ýù³ÛÇÝ Ë³÷³ÝÙ³Ý ÙÇçáó ÏÇñ³é»Éáõ Ù³ëÇÝ ÙÇçÝáñ¹áõÃÛáõÝÝ»ñ | E9: 3 | F9: 1 | G9: 2 | J9: 3 | M9: 1
A10: 5 | B10: Ëáõ½³ñÏáõÃÛ³Ý Ï³ï³ñÙ³Ý Ù³ëÇÝ ÙÇçÝáñ¹áõÃÛáõÝÝ»ñ | E10: 21 | F10: 3 | G10: 18 | J10: 21 | M10: 1
A11: 6 | B11: µ³ÝÏ³ÛÇÝ, ³å³Ñáí³·ñ³Ï³Ý, Ýáï³ñ³Ï³Ý ·³ÕïÝÇù Ï³½ÙáÕ ï»Õ»ÏáõÃÛáõÝÝ»ñÇ ëï³óÙ³Ý Ñ³Ù³ñ Ëáõ½³ñÏáõÃÛ³Ý Ï³Ù ³é·ñ³íÙ³Ý Ï³ï³ñÙ³Ý Ù³ëÇÝ ÙÇçÝáñ¹áõÃÛáõÝÝ»ñ
A12: 7 | B12: Ý³Ù³Ï³·ñáõÃÛ³Ý, Ñ»é³·ñ³Ï³Ý, ÷áuï³ÛÇÝ Ñ³Õáñ¹áõÙÝ»ñÇ ÑëÏáÕáõÃÛ³Ý Ù³ëÇÝ ÙÇçÝáñ¹áõÃÛáõÝÝ»ñ
A13: 8 | B13: Ñ»é³Ëáu³ÛÇÝ Ï³Ù Ï³åÇ ³ÛÉ ÙÇçáóÝ»ñáí ï³ñíáÕ Ëáu³ÏóáõÃÛáõÝÝ»ñÇ ÉuÙ³Ý ¨ Ó³ÛÝ³·ñ³éÙ³Ý Ù³ëÇÝ ÙÇçÝáñ¹áõÃÛáõÝÝ»ñ
A14: 9 | B14: Ñ»é³ËáëÝ»ñÇ Ùáõïù³ÛÇÝ ¨ »Éù³ÛÇÝ í»ñÍ³ÝÙ³Ý ÃáõÛÉïíáõÃÛáõÝ ëï³Ý³Éáõ Ù³ëÇÝ ÙÇçÝáñ¹áõÃÛáõÝÝ»ñ | E14: 30 | F14: 2 | G14: 28 | J14: 30
A15: 10 | B15: Ñ»ï³ùÝÝáõÃÛ³Ý Ù³ñÙÝÇ ³ßË³ïáÕÇ, ùÝÝÇãÇ, ¹³ï³Ë³½Ç oå»ñ³ïÇí-Ñ»ï³Ëáõ½³Ï³Ý ·áñÍáÕáõÃÛáõÝÝ»ñ Çñ³Ï³Ý³óÝáÕ Ù³ñÙÇÝÝ»ñÇ ³ÝoñÇÝ³Ï³Ý ¨ ³ÝÑÇÙÝ áñáßáõÙÝ»ñÇ ¨ ·áñÍáÕáõÃÛáõÝÝ»ñÇ ¹»Ù µáÕáùÝ»ñ | E15: 11 | F15: 7 | G15: 4 | J15: 11 | M15: 8
A16: 2. ¸³ï³Ï³Ý ³Ïï»ñÇ ¨ ¹³ï³Ï³Ý Ñ³ÝÓÝ³ñ³ñáõÃÛáõÝÝ»ñÇ Ï³ï³ñÙ³Ý Ñ»ï Ï³åí³Í Ñ³ñó»ñÇ ÉáõÍÙ³Ý áÉáñï
A17: 1 | B17: å³ïÅÇó å³ÛÙ³Ý³Ï³Ý í³Õ³Å³ÙÏ»ï ³½³ï»Éáõ Ù³ëÇÝ ÙÇçÝáñ¹áõÃÛáõÝÝ»ñ
A18: 2 | B18: å³ïÇÅÁ ÷á÷áË»Éáõ, Ñ»ï³Ó·»Éáõ ¨ å³ïÅÇó ³½³ï»Éáõ Ù³uÇÝ ÙÇçÝáñ¹áõÃÛáõÝÝ»ñ | E18: 1 | F18: 1 | J18: 1
A19: 3 | B19: Ñ³ñÏ³¹Çñ µáõÅÙ³Ý ï»ë³ÏÇ ÷á÷áËáõÃÛ³Ý Ù³ëÇÝ ÙÇçÝáñ¹áõÃÛáõÝÝ»ñ
A20: 4 | B20: ³ÛÉ ÙÇçÝáñ¹áõÃÛáõÝÝ»ñ | E20: 12 | F20: 3 | G20: 7 | J20: 10 | L20: 2
A21: 5 | B21: ¹³ï³Ï³Ý Ñ³ÝÓÝ³ñ³ñáõÃÛáõÝÝ»ñ | E21: 3 | L21: 3
A22: ÀÜ¸²ØºÜÀ | D22: =SUM(D6:D15,D17:D21) -> 0 | E22: =SUM(E6:E15,E17:E21) -> 147 | F22: =SUM(F6:F15,F17:F21) -> 27 | G22: =SUM(G6:G15,G17:G21) -> 115 | H22: =SUM(H6:H15,H17:H21) -> 0 | I22: =SUM(I6:I15,I17:I21) -> 0 | J22: =SUM(J6:J15,J17:J21) -> 142 | K22: =SUM(K6:K15,K17:K21) -> 0 | ... M22: =SUM(M6:M15,M17:M21) -> 26

Sheet Gexarquniq
A1: 2015Ã. 1-ÇÝ ÏÇë³ÙÛ³Ï | C1: Ð²ÞìºîìàôÂÚàôÜ | K1: Ï³½Ùí³Í` ÐÐ Ï³é³í³ñáõÃÛ³Ý 19.03.2015Ã. ÃÇí 306-Ü áñáßÙ³Ý ÑÇÙ³Ý íñ³
A2: ØÇÝã¹³ï³Ï³Ý í³ñáõÛÃÇ ÝÏ³ïÙ³Ùµ ¹³ï³Ï³Ý í»ñ³ÑëÏáÕáõÃÛ³ÝÁ, ¹³ï³Ï³Ý ³Ïï»ñÇ ¨ ¹³ï³Ï³Ý Ñ³ÝÓÝ³ñ³ñáõÃÛáõÝÝ»ñÇ Ï³ï³ñÙ³ÝÁ Ñ»ï Ï³åí³Í ÙÇçÝáñ¹áõÃÛáõÝÝ»ñÇ í»ñ³µ»ñÛ³É ¹³ï³Ï³Ý ·áñÍ»ñáí ÐÐ Գեղարքունիքի մարզի ÁÝ¹Ñ³Ýáõñ Çñ³í³ëáõÃÛ³Ý ³é³çÇÝ ³ïÛ³ÝÇ ¹³ï³ñ³ÝÇ ·áñÍáõÝ»áõÃÛ³Ý í»ñ³µ»ñÛ³É
A3: êïáõ·Çã Ñ³í³ë³ñáõÙ` 1+2=7+8+9, 7=3+4+5+6, | D3: Ñ³ßí»ïáõ Å³Ù³Ý³Ï³Ñ³ïí³ÍÇ ëÏ½µáõÙ Ý³Ëáñ¹ Ñ³ßí»ïáõ Å³Ù³Ý³Ï³Ñ³ïí³ÍÇó ÷áË³Ýóí³Í ·áñÍ»ñÇ ÁÝ¹Ñ³Ýáõñ ÃÇíÁ | E3: Ñ³ßí»ïáõ Å³Ù³Ý³Ï³Ñ³ïí³ÍáõÙ ëï³óí³Í ·áñÍ»ñÇ ÁÝ¹Ñ³Ýáõñ ÃÇíÁ | F3: Ñ³ßí»ïáõ Å³Ù³Ý³Ï³Ñ³ïí³ÍáõÙ ³í³ñïí³Í ·áñÍ»ñÇ ÁÝ¹Ñ³Ýáõñ ÃÇíÁ | K3: áõÕ³ñÏí»É ¿ Áëï ÁÝ¹¹³ïáõÃÛ³Ý | L3: Ñ³ßí»ïáõ Å³Ù³Ý³Ï³Ñ³ïí³ÍáõÙ ³Ý³í³ñï ·áñÍ»ñÇ ÁÝ¹Ñ³Ýáõñ ÃÇíÁ | M3: µáÕáù³ñÏí»É ¿ í»ñ³ùÝÝÇã ¹³ï³ñ³Ý
F4: Ù»ñÅí»É ¿ | G4: µ³í³ñ³ñí»É ¿ | H4: µ³í³ñ³ñí»É ¿ Ù³ëÝ³ÏÇ | I4: ÃáÕÝí»É ¿ ³é³Ýó ùÝÝáõÃÛ³Ý | J4: ÁÝ¹³Ù»ÝÁ
A5: 1. ØÇÝã¹³ï³Ï³Ý í³ñáõÛÃÇ ÝÏ³ïÙ³Ùµ ¹³ï³Ï³Ý í»ñ³ÑëÏáÕáõÃÛ³Ý áÉáñï | D5: 1 | E5: 2 | F5: 3 | G5: 4 | H5: 5 | I5: 6 | J5: 7 | K5: 8 | L5: 9 | M5: 10
A6: 1 | B6: Ï³É³ÝùÁ áñå»ë Ë³÷³ÝÙ³Ý ÙÇçáó ÏÇñ³é»Éáõ Ù³ëÇÝ ÙÇçÝáñ¹áõÃÛáõÝÝ»ñ | E6: 65 | F6: 17 | G6: 47 | I6: 1 | J6: 65 | M6: 2
A7: 2 | B7: Ï³É³ÝùÇ Å³ÙÏ»ïÁ »ñÏ³ñ³óÝ»Éáõ Ù³ëÇÝ ÙÇçÝáñ¹áõÃÛáõÝÝ»ñ | E7: 33 | G7: 31 | H7: 2 | J7: 33 | M7: 6
A8: 3 | B8: Ï³É³ÝùÇ í»ñ³Ñ³ëï³ïÙ³Ý Ù³ëÇÝ ÙÇçÝáñ¹áõÃÛáõÝÝ»ñ | E8: 7 | G8: 7 | J8: 7
A9: 4 | B9: ·ñ³íÁ áñå»ë Ï³É³Ý³íáñÙ³Ý ³ÛÉÁÝïñ³Ýù³ÛÇÝ Ë³÷³ÝÙ³Ý ÙÇçáó ÏÇñ³é»Éáõ Ù³ëÇÝ ÙÇçÝáñ¹áõÃÛáõÝÝ»ñ | E9: 20 | F9: 15 | G9: 3 | I9: 1 | J9: 19 | L9: 1 | M9: 4
A10: 5 | B10: Ëáõ½³ñÏáõÃÛ³Ý Ï³ï³ñÙ³Ý Ù³ëÇÝ ÙÇçÝáñ¹áõÃÛáõÝÝ»ñ | E10: 163 | F10: 1 | G10: 161 | I10: 1 | J10: 163
A11: 6 | B11: µ³ÝÏ³ÛÇÝ, ³å³Ñáí³·ñ³Ï³Ý, Ýáï³ñ³Ï³Ý ·³ÕïÝÇù Ï³½ÙáÕ ï»Õ»ÏáõÃÛáõÝÝ»ñÇ ëï³óÙ³Ý Ñ³Ù³ñ Ëáõ½³ñÏáõÃÛ³Ý Ï³Ù ³é·ñ³íÙ³Ý Ï³ï³ñÙ³Ý Ù³ëÇÝ ÙÇçÝáñ¹áõÃÛáõÝÝ»ñ | E11: 3 | F11: 1 | H11: 2 | J11: 3
A12: 7 | B12: Ý³Ù³Ï³·ñáõÃÛ³Ý, Ñ»é³·ñ³Ï³Ý, ÷áuï³ÛÇÝ Ñ³Õáñ¹áõÙÝ»ñÇ ÑëÏáÕáõÃÛ³Ý Ù³ëÇÝ ÙÇçÝáñ¹áõÃÛáõÝÝ»ñ | E12: 21 | G12: 21 | J12: 21
A13: 8 | B13: Ñ»é³Ëáu³ÛÇÝ Ï³Ù Ï³åÇ ³ÛÉ ÙÇçáóÝ»ñáí ï³ñíáÕ Ëáu³ÏóáõÃÛáõÝÝ»ñÇ ÉuÙ³Ý ¨ Ó³ÛÝ³·ñ³éÙ³Ý Ù³ëÇÝ ÙÇçÝáñ¹áõÃÛáõÝÝ»ñ | E13: 2 | G13: 2 | J13: 2
A14: 9 | B14: Ñ»é³ËáëÝ»ñÇ Ùáõïù³ÛÇÝ ¨ »Éù³ÛÇÝ í»ñÍ³ÝÙ³Ý ÃáõÛÉïíáõÃÛáõÝ ëï³Ý³Éáõ Ù³ëÇÝ ÙÇçÝáñ¹áõÃÛáõÝÝ»ñ | E14: 79 | G14: 79 | J14: 79
A15: 10 | B15: Ñ»ï³ùÝÝáõÃÛ³Ý Ù³ñÙÝÇ ³ßË³ïáÕÇ, ùÝÝÇãÇ, ¹³ï³Ë³½Ç oå»ñ³ïÇí-Ñ»ï³Ëáõ½³Ï³Ý ·áñÍáÕáõÃÛáõÝÝ»ñ Çñ³Ï³Ý³óÝáÕ Ù³ñÙÇÝÝ»ñÇ ³ÝoñÇÝ³Ï³Ý ¨ ³ÝÑÇÙÝ áñáßáõÙÝ»ñÇ ¨ ·áñÍáÕáõÃÛáõÝÝ»ñÇ ¹»Ù µáÕáùÝ»ñ | D15: 1 | E15: 10 | F15: 8 | G15: 1 | J15: 9 | L15: 2 | M15: 3
A16: 2. ¸³ï³Ï³Ý ³Ïï»ñÇ ¨ ¹³ï³Ï³Ý Ñ³ÝÓÝ³ñ³ñáõÃÛáõÝÝ»ñÇ Ï³ï³ñÙ³Ý Ñ»ï Ï³åí³Í Ñ³ñó»ñÇ ÉáõÍÙ³Ý áÉáñï
A17: 1 | B17: å³ïÅÇó å³ÛÙ³Ý³Ï³Ý í³Õ³Å³ÙÏ»ï ³½³ï»Éáõ Ù³ëÇÝ ÙÇçÝáñ¹áõÃÛáõÝÝ»ñ
A18: 2 | B18: å³ïÇÅÁ ÷á÷áË»Éáõ, Ñ»ï³Ó·»Éáõ ¨ å³ïÅÇó ³½³ï»Éáõ Ù³uÇÝ ÙÇçÝáñ¹áõÃÛáõÝÝ»ñ | D18: 2 | E18: 3 | F18: 3 | G18: 2 | J18: 5
A19: 3 | B19: Ñ³ñÏ³¹Çñ µáõÅÙ³Ý ï»ë³ÏÇ ÷á÷áËáõÃÛ³Ý Ù³ëÇÝ ÙÇçÝáñ¹áõÃÛáõÝÝ»ñ | E19: 4 | G19: 3 | I19: 1 | J19: 4
A20: 4 | B20: ³ÛÉ ÙÇçÝáñ¹áõÃÛáõÝÝ»ñ | E20: 9 | F20: 3 | G20: 2 | I20: 1 | J20: 6 | L20: 3 | M20: 1
A21: 5 | B21: ¹³ï³Ï³Ý Ñ³ÝÓÝ³ñ³ñáõÃÛáõÝÝ»ñ | D21: 1 | E21: 3 | G21: 2 | J21: 2 | L21: 2
A22: ÀÜ¸²ØºÜÀ | D22: =SUM(D6:D15,D17:D21) -> 4 | E22: =SUM(E6:E15,E17:E21) -> 422 | F22: =SUM(F6:F15,F17:F21) -> 48 | G22: =SUM(G6:G15,G17:G21) -> 361 | H22: =SUM(H6:H15,H17:H21) -> 4 | I22: =SUM(I6:I15,I17:I21) -> 5 | J22: =SUM(J6:J15,J17:J21) -> 418 | K22: =SUM(K6:K15,K17:K21) -> 0 | ... M22: =SUM(M6:M15,M17:M21) -> 16

Sheet Syuniq
A1: 2015Ã. 1-ÇÝ ÏÇë³ÙÛ³Ï | C1: Ð²ÞìºîìàôÂÚàôÜ | K1: Ï³½Ùí³Í` ÐÐ Ï³é³í³ñáõÃÛ³Ý 19.03.2015Ã. ÃÇí 306-Ü áñáßÙ³Ý ÑÇÙ³Ý íñ³
A2: ØÇÝã¹³ï³Ï³Ý í³ñáõÛÃÇ ÝÏ³ïÙ³Ùµ ¹³ï³Ï³Ý í»ñ³ÑëÏáÕáõÃÛ³ÝÁ, ¹³ï³Ï³Ý ³Ïï»ñÇ ¨ ¹³ï³Ï³Ý Ñ³ÝÓÝ³ñ³ñáõÃÛáõÝÝ»ñÇ Ï³ï³ñÙ³ÝÁ Ñ»ï Ï³åí³Í ÙÇçÝáñ¹áõÃÛáõÝÝ»ñÇ í»ñ³µ»ñÛ³É ¹³ï³Ï³Ý ·áñÍ»ñáí ÐÐ Սյունիքի մարզի ÁÝ¹Ñ³Ýáõñ Çñ³í³ëáõÃÛ³Ý ³é³çÇÝ ³ïÛ³ÝÇ ¹³ï³ñ³ÝÇ ·áñÍáõÝ»áõÃÛ³Ý í»ñ³µ»ñÛ³É
A3: êïáõ·Çã Ñ³í³ë³ñáõÙ` 1+2=7+8+9, 7=3+4+5+6, | D3: Ñ³ßí»ïáõ Å³Ù³Ý³Ï³Ñ³ïí³ÍÇ ëÏ½µáõÙ Ý³Ëáñ¹ Ñ³ßí»ïáõ Å³Ù³Ý³Ï³Ñ³ïí³ÍÇó ÷áË³Ýóí³Í ·áñÍ»ñÇ ÁÝ¹Ñ³Ýáõñ ÃÇíÁ | E3: Ñ³ßí»ïáõ Å³Ù³Ý³Ï³Ñ³ïí³ÍáõÙ ëï³óí³Í ·áñÍ»ñÇ ÁÝ¹Ñ³Ýáõñ ÃÇíÁ | F3: Ñ³ßí»ïáõ Å³Ù³Ý³Ï³Ñ³ïí³ÍáõÙ ³í³ñïí³Í ·áñÍ»ñÇ ÁÝ¹Ñ³Ýáõñ ÃÇíÁ | K3: áõÕ³ñÏí»É ¿ Áëï ÁÝ¹¹³ïáõÃÛ³Ý | L3: Ñ³ßí»ïáõ Å³Ù³Ý³Ï³Ñ³ïí³ÍáõÙ ³Ý³í³ñï ·áñÍ»ñÇ ÁÝ¹Ñ³Ýáõñ ÃÇíÁ | M3: µáÕáù³ñÏí»É ¿ í»ñ³ùÝÝÇã ¹³ï³ñ³Ý
F4: Ù»ñÅí»É ¿ | G4: µ³í³ñ³ñí»É ¿ | H4: µ³í³ñ³ñí»É ¿ Ù³ëÝ³ÏÇ | I4: ÃáÕÝí»É ¿ ³é³Ýó ùÝÝáõÃÛ³Ý | J4: ÁÝ¹³Ù»ÝÁ
A5: 1. ØÇÝã¹³ï³Ï³Ý í³ñáõÛÃÇ ÝÏ³ïÙ³Ùµ ¹³ï³Ï³Ý í»ñ³ÑëÏáÕáõÃÛ³Ý áÉáñï | D5: 1 | E5: 2 | F5: 3 | G5: 4 | H5: 5 | I5: 6 | J5: 7 | K5: 8 | L5: 9 | M5: 10
A6: 1 | B6: Ï³É³ÝùÁ áñå»ë Ë³÷³ÝÙ³Ý ÙÇçáó ÏÇñ³é»Éáõ Ù³ëÇÝ ÙÇçÝáñ¹áõÃÛáõÝÝ»ñ | D6: 0 | E6: 69 | F6: 8 | G6: 57 | H6: 4 | I6: 0 | J6: 69 | K6: 0 | L6: 0 | M6: 19
A7: 2 | B7: Ï³É³ÝùÇ Å³ÙÏ»ïÁ »ñÏ³ñ³óÝ»Éáõ Ù³ëÇÝ ÙÇçÝáñ¹áõÃÛáõÝÝ»ñ | D7: 2 | E7: 38 | F7: 0 | G7: 40 | H7: 0 | I7: 0 | J7: 40 | K7: 0 | L7: 0 | M7: 5
A8: 3 | B8: Ï³É³ÝùÇ í»ñ³Ñ³ëï³ïÙ³Ý Ù³ëÇÝ ÙÇçÝáñ¹áõÃÛáõÝÝ»ñ | D8: 0 | E8: 1 | F8: 1 | G8: 0 | H8: 0 | I8: 0 | J8: 1 | K8: 0 | L8: 0 | M8: 0
A9: 4 | B9: ·ñ³íÁ áñå»ë Ï³É³Ý³íáñÙ³Ý ³ÛÉÁÝïñ³Ýù³ÛÇÝ Ë³÷³ÝÙ³Ý ÙÇçáó ÏÇñ³é»Éáõ Ù³ëÇÝ ÙÇçÝáñ¹áõÃÛáõÝÝ»ñ | D9: 0 | E9: 35 | F9: 34 | G9: 1 | H9: 0 | I9: 0 | J9: 35 | K9: 0 | L9: 0 | M9: 0
A10: 5 | B10: Ëáõ½³ñÏáõÃÛ³Ý Ï³ï³ñÙ³Ý Ù³ëÇÝ ÙÇçÝáñ¹áõÃÛáõÝÝ»ñ | D10: 0 | E10: 40 | F10: 5 | G10: 35 | H10: 0 | I10: 0 | J10: 40 | K10: 0 | L10: 0 | M10: 0
A11: 6 | B11: µ³ÝÏ³ÛÇÝ, ³å³Ñáí³·ñ³Ï³Ý, Ýáï³ñ³Ï³Ý ·³ÕïÝÇù Ï³½ÙáÕ ï»Õ»ÏáõÃÛáõÝÝ»ñÇ ëï³óÙ³Ý Ñ³Ù³ñ Ëáõ½³ñÏáõÃÛ³Ý Ï³Ù ³é·ñ³íÙ³Ý Ï³ï³ñÙ³Ý Ù³ëÇÝ ÙÇçÝáñ¹áõÃÛáõÝÝ»ñ | D11: 0 | E11: 0 | F11: 0 | G11: 0 | H11: 0 | I11: 0 | J11: 0 | K11: 0 | L11: 0 | M11: 0
A12: 7 | B12: Ý³Ù³Ï³·ñáõÃÛ³Ý, Ñ»é³·ñ³Ï³Ý, ÷áuï³ÛÇÝ Ñ³Õáñ¹áõÙÝ»ñÇ ÑëÏáÕáõÃÛ³Ý Ù³ëÇÝ ÙÇçÝáñ¹áõÃÛáõÝÝ»ñ | D12: 0 | E12: 0 | F12: 0 | G12: 0 | H12: 0 | I12: 0 | J12: 0 | K12: 0 | L12: 0 | M12: 0
A13: 8 | B13: Ñ»é³Ëáu³ÛÇÝ Ï³Ù Ï³åÇ ³ÛÉ ÙÇçáóÝ»ñáí ï³ñíáÕ Ëáu³ÏóáõÃÛáõÝÝ»ñÇ ÉuÙ³Ý ¨ Ó³ÛÝ³·ñ³éÙ³Ý Ù³ëÇÝ ÙÇçÝáñ¹áõÃÛáõÝÝ»ñ | D13: 0 | E13: 3 | F13: 0 | G13: 3 | H13: 0 | I13: 0 | J13: 3 | K13: 0 | L13: 0 | M13: 0
A14: 9 | B14: Ñ»é³ËáëÝ»ñÇ Ùáõïù³ÛÇÝ ¨ »Éù³ÛÇÝ í»ñÍ³ÝÙ³Ý ÃáõÛÉïíáõÃÛáõÝ ëï³Ý³Éáõ Ù³ëÇÝ ÙÇçÝáñ¹áõÃÛáõÝÝ»ñ | D14: 0 | E14: 47 | F14: 3 | G14: 44 | H14: 0 | I14: 0 | J14: 47 | K14: 0 | L14: 0 | M14: 1
A15: 10 | B15: Ñ»ï³ùÝÝáõÃÛ³Ý Ù³ñÙÝÇ ³ßË³ïáÕÇ, ùÝÝÇãÇ, ¹³ï³Ë³½Ç oå»ñ³ïÇí-Ñ»ï³Ëáõ½³Ï³Ý ·áñÍáÕáõÃÛáõÝÝ»ñ Çñ³Ï³Ý³óÝáÕ Ù³ñÙÇÝÝ»ñÇ ³ÝoñÇÝ³Ï³Ý ¨ ³ÝÑÇÙÝ áñáßáõÙÝ»ñÇ ¨ ·áñÍáÕáõÃÛáõÝÝ»ñÇ ¹»Ù µáÕáùÝ»ñ | D15: 1 | E15: 14 | F15: 12 | G15: 0 | H15: 0 | I15: 0 | J15: 12 | K15: 0 | L15: 3 | M15: 7
A16: 2. ¸³ï³Ï³Ý ³Ïï»ñÇ ¨ ¹³ï³Ï³Ý Ñ³ÝÓÝ³ñ³ñáõÃÛáõÝÝ»ñÇ Ï³ï³ñÙ³Ý Ñ»ï Ï³åí³Í Ñ³ñó»ñÇ ÉáõÍÙ³Ý áÉáñï
A17: 1 | B17: å³ïÅÇó å³ÛÙ³Ý³Ï³Ý í³Õ³Å³ÙÏ»ï ³½³ï»Éáõ Ù³ëÇÝ ÙÇçÝáñ¹áõÃÛáõÝÝ»ñ | D17: 0 | E17: 2 | F17: 1 | G17: 1 | H17: 0 | I17: 0 | J17: 2 | K17: 0 | L17: 0 | M17: 0
A18: 2 | B18: å³ïÇÅÁ ÷á÷áË»Éáõ, Ñ»ï³Ó·»Éáõ ¨ å³ïÅÇó ³½³ï»Éáõ Ù³uÇÝ ÙÇçÝáñ¹áõÃÛáõÝÝ»ñ | D18: 0 | E18: 6 | F18: 1 | G18: 4 | H18: 0 | I18: 0 | J18: 5 | K18: 0 | L18: 1 | M18: 0
A19: 3 | B19: Ñ³ñÏ³¹Çñ µáõÅÙ³Ý ï»ë³ÏÇ ÷á÷áËáõÃÛ³Ý Ù³ëÇÝ ÙÇçÝáñ¹áõÃÛáõÝÝ»ñ | D19: 0 | E19: 1 | F19: 0 | G19: 1 | H19: 0 | I19: 0 | J19: 1 | K19: 0 | L19: 0 | M19: 0
A20: 4 | B20: ³ÛÉ ÙÇçÝáñ¹áõÃÛáõÝÝ»ñ | D20: 0 | E20: 15 | F20: 3 | G20: 10 | H20: 0 | I20: 1 | J20: 14 | K20: 0 | L20: 1 | M20: 0
A21: 5 | B21: ¹³ï³Ï³Ý Ñ³ÝÓÝ³ñ³ñáõÃÛáõÝÝ»ñ | D21: 2 | E21: 4 | F21: 0 | G21: 2 | H21: 0 | I21: 0 | J21: 2 | K21: 0 | L21: 4 | M21: 0
A22: ÀÜ¸²ØºÜÀ | D22: =SUM(D6:D15,D17:D21) -> 5 | E22: =SUM(E6:E15,E17:E21) -> 275 | F22: =SUM(F6:F15,F17:F21) -> 68 | G22: =SUM(G6:G15,G17:G21) -> 198 | H22: =SUM(H6:H15,H17:H21) -> 4 | I22: =SUM(I6:I15,I17:I21) -> 1 | J22: =SUM(J6:J15,J17:J21) -> 271 | K22: =SUM(K6:K15,K17:K21) -> 0 | ... M22: =SUM(M6:M15,M17:M21) -> 32
