Workbook

Sheet Ընդհանուր
A1: 2017թ. | G1: Ð²ÞìºîìàôÂÚàôÜ | AM1: Ð³í»Éí³Í Ð³Û³ëï³ÝÇ Ð³Ýñ³å»ïáõÃÛ³Ý ¸³ï³ñ³ÝÝ»ñÇ Ý³Ë³·³ÑÝ»ñÇ ËáñÑñ¹Ç 29.01.2018Ã. ÃÇí 10-È áñáßÙ³Ý
A2: ՀՀ ÞÆð²ÎÆ ՄԱՐԶԻ ÀÜ¸Ð²Üàôð Æð²ì²êàôÂÚ²Ü ²è²æÆÜ ²îÚ²ÜÆ ¸²î²ð²ÜÆ ¶àðÌàôÜºàôÂÚ²Ü ìºð²´ºðÚ²È
A3: ø²Ô²ø²òÆ²Î²Ü ¶àðÌºðàì
A4: ՀՀ ÞÇñ³ÏÇ մարզի ÁÝ¹Ñ³Ýáõñ Çñ³í³ëáõÃÛ³Ý ³é³çÇÝ ³ïÛ³ÝÇ ¹³ï³ñ³ÝÇ ù³Õ³ù³óÇ³Ï³Ý Ù³ëÝ³·Çï³óáõÙ áõÝ»óáÕ ¹³ï³íáñÝ»ñÇ Ñ³ëïÇùÝ»ñÇ ù³Ý³ÏÁ` 9
E5: Ð³ßí»ïáõ Å³Ù³Ý³Ï³Ñ³ïí³ÍáõÙ Ý³Ëáñ¹ Ñ³ßí»ïáõ Å³Ù³Ý³Ï³Ñ³ïí³ÍÇó ÷áË³Ýóí³Í ·áñÍ»ñÇ ÁÝ¹Ñ³Ýáõñ ÃÇíÁ | J5: Ð³ßí»ïáõ Å³Ù³Ý³Ï³Ñ³ïí³ÍáõÙëï³óí³Í ·áñÍ»ñÇ (³Û¹ ÃíáõÙ` Ñ³Ûó³¹ÇÙáõÙÝ»ñÇ, ¹ÇÙáõÙÝ»ñÇ) ÁÝ¹Ñ³Ýáõñ ÃÇíÁ | N5: öáË³Ýóí»É ¿ ³ÛÉ ¹³ï³íáñÇ (Ï³½ÙÇ ÷á÷áËáõÃÛáõÝ) | O5: Ð³ßí»ïáõ Å³Ù³Ý³Ï³Ñ³ïí³ÍáõÙ ³í³ñïí³Í ·áñÍ»ñÇ ÁÝ¹Ñ³Ýáõñ ÃÇíÁ | Z5: ¶áñÍÝ áõÕ³ñÏí»É ¿ Áëï ÁÝ¹¹³ïáõÃÛ³Ý | AA5: Ð³ßí»ïáõ Å³Ù³Ý³Ï³Ñ³ïí³ÍáõÙ Ï³ë»óí³Í í³ñáõÛÃÝ»ñáí ·áñÍ»ñÇ ÁÝ¹Ñ³Ýáõñ ÃÇíÁ | AB5: Ð³ßí»ïáõ Å³Ù³Ý³Ï³Ñ³ïí³ÍáõÙ ³Ý³í³ñï ·áñÍ»ñÇ ÁÝ¹Ñ³Ýáõñ ÃÇíÁ | AC5: ²Û¹ ÃíáõÙª Ï³ë»óí³Í | AD5: ´áÕáù³ñÏí³Í ¹³ï³Ï³Ý ³Ïï»ñÁ | AI5: ²í³ñïí³Í ¹³ï³Ï³Ý ·áñÍ»ñÇ µáÕáù³ñÏÙ³Ý ïáÏáëÁ (Ñ³ßí»ïáõ Å³Ù³Ý³Ï³ßñç³ÝáõÙ) | AJ5: ²Ý³í³ñï µáÕáùÝ»ñ | AK5: ´»Ï³Ýí³Í ¹³ï³Ï³Ý ³Ïï»ñÁ | AP5: µ»Ï³ÝáõÙÝ»ñÇ ïáÏáëÁ ³í³ñïí³Í ·áñÍ»ñÇó(Ñ³ßí»ïáõ Å³Ù³Ý³Ï³ßñç³ÝáõÙ) | AQ5: Î³ÛáõÝáõÃÛ³Ý ïáÏáëÁ ³í³ñïí³Í ·áñÍ»ñÇó(Ñ³ßí»ïáõ Å³Ù³Ý³Ï³ßñç³ÝáõÙ) | AR5: µ»Ï³ÝáõÙÝ»ñÇ ïáÏáëÁ µáÕáù³ñÏí³Í ·áñÍ»ñÇó(Ñ³ßí»ïáõ Å³Ù³Ý³Ï³ßñç³ÝáõÙ) | AS5: Ï³ÛáõÝáõÃÛ³Ý ïáÏáëÁ(Ñ³ßí»ïáõ Å³Ù³Ý³Ï³ßñç³ÝáõÙ)
F6: ²Û¹ ÃíáõÙ`Ï³ë»óí³Í íÇ×³ÏáõÙ ÷áË³Ýóí³Í | G6: ²Û¹ ÃíáõÙª ÁÝ¹áõÝí»É ¿ í³ñáõÛÃ | H6: ²Û¹ ÃíáõÙª í»ñ³¹³ñÓí»É ¿ | I6: ²Û¹ ÃíáõÙª ÁÝ¹áõÝáõÙÁ Ù»ñÅí»É ¿ | J6: ÀÝ¹³Ù»ÝÁ | K6: ²Û¹ ÃíáõÙª ÁÝ¹áõÝí»É ¿ í³ñáõÛÃ | L6: ²Û¹ ÃíáõÙª í»ñ³¹³ñÓí»É ¿ | M6: ²Û¹ ÃíáõÙª ÁÝ¹áõÝáõÙÁ Ù»ñÅí»É ¿ | O6: ÀÝ¹³Ù»ÝÁ ³í³ñïí»É »Ý ·áñÍ»ñ ·áñÍÝ Áëï ¿áõÃÛ³Ý ÉáõÍáÕ ¹³ï³Ï³Ý ³Ïï»ñÇ (í×ÇéÝ»ñÇ) Ï³Û³óÙ³Ùµ | P6: ²Û¹ ÃíáõÙª Ñ³ÛóÇ µ³í³ñ³ñÙ³Ùµ | Q6: ²Û¹ ÃíáõÙª Ñ³ÛóÇ Ù³ëÝ³ÏÇ µ³í³ñ³ñÙ³Ùµ | R6: ²Û¹ ÃíáõÙª Ñ³ÛóÇ Ù»ñÅÙ³Ùµ | S6: Ø³ëáí Ï³ñ×í»É ¿, Ù³ëáí Ù»ñÅí»É | T6: ²Û¹ ÃíáõÙª Ï³ñ×í»É »Ý | X6: Ð³ÛóÁ ÃáÕÝí»É ¿ ³é³Ýó ùÝÝáõÃÛ³Ý | Y6: ÀÝ¹³Ù»ÝÝ ³í³ñïí»É »Ý ·áñÍ»ñ | AD6: ²Û¹ ÃíáõÙ` ·áñÍÝ Áëï ¿áõÃÛ³Ý ÉáõÍáÕ ¹³ï³Ï³Ý ³Ïï»ñÁ | AE6: ²Û¹ ÃíáõÙ` ÙÇç³ÝÏÛ³É ¹³ï³Ï³Ý ³Ïï»ñÁ | AF6: ÀÝ¹³Ù»ÝÁ | AG6: Ü³Ëáñ¹ ï³ñÇÝ»ñÇÝ Ï³Û³óí³Í ³Ïï»ñÇ µáÕáù³ñÏáõÙÁ Ñ³ßí»ïáõ Å³Ù³Ý³Ï³ßñç³ÝáõÙ | AH6: Ð³ßí»ïáõ Å³Ù³Ý³Ï³ßñç³ÝáõÙ Ï³Û³óí³Í ³Ïï»ñÇ µáÕáù³ñÏáõÙÁ | AK6: ²Û¹ ÃíáõÙ` ·áñÍÝ Áëï ¿áõÃÛ³Ý ÉáõÍáÕ ¹³ï³Ï³Ý ³Ïï»ñÁ | AL6: ²Û¹ ÃíáõÙ` ÙÇç³ÝÏÛ³É ¹³ï³Ï³Ý ³Ïï»ñÁ | AM6: ÀÝ¹³Ù»ÝÁ | AN6: Ü³Ëáñ¹ ï³ñÇÝ»ñÇÝ Ï³Û³óí³Í ³Ïï»ñÇ µ»Ï³ÝáõÙÝ»ñÁ Ñ³ßí»ïáõ Å³Ù³Ý³Ï³ßñç³ÝáõÙ | AO6: Ð³ßí»ïáõ Å³Ù³Ý³Ï³ßñç³ÝáõÙ Ï³Û³óí³Í ³Ïï»ñÇ µ»Ï³ÝáõÙÁ
T7: ÀÝ¹³Ù»ÝÁ Ï³ñ×í»É »Ý | U7: ²Û¹ ÃíáõÙª Ñ³ëï³ïí»É ¿ ÏÝùí³Í Ñ³ßïáõÃÛ³Ý Ñ³Ù³Ó³ÛÝáõÃÛáõÝÁ | V7: ²Û¹ ÃíáõÙª Ñ³óÇó, ¹ÇÙáõÙÇó Ññ³Å³ñí»Éáõ ÑÇÙùáí | W7: ²Û¹ ÃíáõÙª ³ÛÉ ÑÇÙùáí
E8: 1 | F8: 2 | G8: 3 | H8: 4 | I8: 5 | J8: 6 | K8: 7 | L8: 8 | M8: 9 | N8: 10 | O8: 11 | P8: 12 | Q8: 13 | R8: 14 | S8: 15 | T8: 16 | U8: 17 | V8: 18 | W8: 19 | X8: 20 | Y8: 21 | Z8: 22 | AA8: 23 | AB8: 24 | AC8: 25 | AD8: 26 | AE8: 27 | AF8: 28 | AG8: 29 | AH8: 30 | AI8: 31 | AJ8: 32 | AK8: 33 | AL8: 34 | AM8: 35 | AN8: 36 | AO8: 37 | AP8: 38 | AQ8: 39 | AR8: 40 | AS8: 41
A9: 1. | B9: ¶áõÛù³ÛÇÝ Çñ³í³Ñ³ñ³µ»ñáõÃÛáõÝÝ»ñÇ í»ñ³µ»ñÛ³É ¹³ï³Ï³Ý ·áñÍ»ñ | E9: =SUM(E10:E28) -> 194 | F9: =SUM(F10:F28) -> 90 | G9: =SUM(G10:G28) -> 104 | H9: =SUM(H10:H28) -> 0 | I9: =SUM(I10:I28) -> 0 | J9: =SUM(J10:J28) -> 367 | K9: =SUM(K10:K28) -> 309 | L9: =SUM(L10:L28) -> 52 | ... AS9: =SUM(AS10:AS28) -> 0
A10: 1.1 | B10: ¶áõÛùÇ ÝÏ³ïÙ³Ùµ ë»÷³Ï³ÝáõÃÛ³Ý Çñ³íáõÝùÁ ×³Ý³ã»Éáõ í»ñ³µ»ñÛ³É | E10: =SUM('Մ.Մարտիրոսյան:Գ. Հովհաննիսյան'!E10) -> 13 | F10: =SUM('Մ.Մարտիրոսյան:Գ. Հովհաննիսյան'!F10) -> 2 | G10: =SUM('Մ.Մարտիրոսյան:Գ. Հովհաննիսյան'!G10) -> 11 | H10: =SUM('Մ.Մարտիրոսյան:Գ. Հովհաննիսյան'!H10) -> 0 | I10: =SUM('Մ.Մարտիրոսյան:Գ. Հովհաննիսյան'!I10) -> 0 | J10: =SUM('Մ.Մարտիրոսյան:Գ. Հովհաննիսյան'!J10) -> 31 | K10: =SUM('Մ.Մարտիրոսյան:Գ. Հովհաննիսյան'!K10) -> 22 | L10: =SUM('Մ.Մարտիրոսյան:Գ. Հովհաննիսյան'!L10) -> 4 | ... AS10: =SUM('Մ.Մարտիրոսյան:Գ. Հովհաննիսյան'!AS10) -> 0
A11: 1.1.1 | B11: ²Û¹ ÃíáõÙª Ó»éùµ»ñÙ³Ý í³Õ»ÙáõÃÛ³Ý áõÅáí | E11: =SUM('Մ.Մարտիրոսյան:Գ. Հովհաննիսյան'!E11) -> 17 | F11: =SUM('Մ.Մարտիրոսյան:Գ. Հովհաննիսյան'!F11) -> 0 | G11: =SUM('Մ.Մարտիրոսյան:Գ. Հովհաննիսյան'!G11) -> 17 | H11: =SUM('Մ.Մարտիրոսյան:Գ. Հովհաննիսյան'!H11) -> 0 | I11: =SUM('Մ.Մարտիրոսյան:Գ. Հովհաննիսյան'!I11) -> 0 | J11: =SUM('Մ.Մարտիրոսյան:Գ. Հովհաննիսյան'!J11) -> 22 | K11: =SUM('Մ.Մարտիրոսյան:Գ. Հովհաննիսյան'!K11) -> 21 | L11: =SUM('Մ.Մարտիրոսյան:Գ. Հովհաննիսյան'!L11) -> 1 | ... AS11: =SUM('Մ.Մարտիրոսյան:Գ. Հովհաննիսյան'!AS11) -> 0
A12: 1.1.2 | B12: ²Û¹ ÃíáõÙª ïÇñ³½áõñÏ ·áõÛùÇ ÝÏ³ïÙ³Ùµ | E12: =SUM('Մ.Մարտիրոսյան:Գ. Հովհաննիսյան'!E12) -> 3 | F12: =SUM('Մ.Մարտիրոսյան:Գ. Հովհաննիսյան'!F12) -> 0 | G12: =SUM('Մ.Մարտիրոսյան:Գ. Հովհաննիսյան'!G12) -> 3 | H12: =SUM('Մ.Մարտիրոսյան:Գ. Հովհաննիսյան'!H12) -> 0 | I12: =SUM('Մ.Մարտիրոսյան:Գ. Հովհաննիսյան'!I12) -> 0 | J12: =SUM('Մ.Մարտիրոսյան:Գ. Հովհաննիսյան'!J12) -> 11 | K12: =SUM('Մ.Մարտիրոսյան:Գ. Հովհաննիսյան'!K12) -> 9 | L12: =SUM('Մ.Մարտիրոսյան:Գ. Հովհաննիսյան'!L12) -> 2 | ... AS12: =SUM('Մ.Մարտիրոսյան:Գ. Հովհաննիսյան'!AS12) -> 0
A13: 1.1.3 | B13: ²Û¹ ÃíáõÙª ÇÝùÝ³Ï³Ù Ï³éáõÛóÇ ÝÏ³ïÙ³Ùµ | E13: =SUM('Մ.Մարտիրոսյան:Գ. Հովհաննիսյան'!E13) -> 0 | F13: =SUM('Մ.Մարտիրոսյան:Գ. Հովհաննիսյան'!F13) -> 0 | G13: =SUM('Մ.Մարտիրոսյան:Գ. Հովհաննիսյան'!G13) -> 0 | H13: =SUM('Մ.Մարտիրոսյան:Գ. Հովհաննիսյան'!H13) -> 0 | I13: =SUM('Մ.Մարտիրոսյան:Գ. Հովհաննիսյան'!I13) -> 0 | J13: =SUM('Մ.Մարտիրոսյան:Գ. Հովհաննիսյան'!J13) -> 0 | K13: =SUM('Մ.Մարտիրոսյան:Գ. Հովհաննիսյան'!K13) -> 0 | L13: =SUM('Մ.Մարտիրոսյան:Գ. Հովհաննիսյան'!L13) -> 0 | ... AS13: =SUM('Մ.Մարտիրոսյան:Գ. Հովհաննիսյան'!AS13) -> 0
A14: 1.2 | B14: ê»÷³Ï³ÝáõÃÛ³Ý Çñ³íáõÝùÇ ¹³¹³ñ»óÙ³Ý í»ñ³µ»ñÛ³É | E14: =SUM('Մ.Մարտիրոսյան:Գ. Հովհաննիսյան'!E14) -> 1 | F14: =SUM('Մ.Մարտիրոսյան:Գ. Հովհաննիսյան'!F14) -> 0 | G14: =SUM('Մ.Մարտիրոսյան:Գ. Հովհաննիսյան'!G14) -> 1 | H14: =SUM('Մ.Մարտիրոսյան:Գ. Հովհաննիսյան'!H14) -> 0 | I14: =SUM('Մ.Մարտիրոսյան:Գ. Հովհաննիսյան'!I14) -> 0 | J14: =SUM('Մ.Մարտիրոսյան:Գ. Հովհաննիսյան'!J14) -> 1 | K14: =SUM('Մ.Մարտիրոսյան:Գ. Հովհաննիսյան'!K14) -> 1 | L14: =SUM('Մ.Մարտիրոսյան:Գ. Հովհաննիսյան'!L14) -> 0 | ... AS14: =SUM('Մ.Մարտիրոսյան:Գ. Հովհաննիսյան'!AS14) -> 0
A15: 1.3 | B15: ¶áõÛùÇ ÝÏ³ïÙ³Ùµ û·ï³·áñÍÙ³Ý Çñ³íáõÝùÁ ×³Ý³ã»Éáõ í»ñ³µ»ñÛ³É | E15: =SUM('Մ.Մարտիրոսյան:Գ. Հովհաննիսյան'!E15) -> 0 | F15: =SUM('Մ.Մարտիրոսյան:Գ. Հովհաննիսյան'!F15) -> 0 | G15: =SUM('Մ.Մարտիրոսյան:Գ. Հովհաննիսյան'!G15) -> 0 | H15: =SUM('Մ.Մարտիրոսյան:Գ. Հովհաննիսյան'!H15) -> 0 | I15: =SUM('Մ.Մարտիրոսյան:Գ. Հովհաննիսյան'!I15) -> 0 | J15: =SUM('Մ.Մարտիրոսյան:Գ. Հովհաննիսյան'!J15) -> 1 | K15: =SUM('Մ.Մարտիրոսյան:Գ. Հովհաննիսյան'!K15) -> 1 | L15: =SUM('Մ.Մարտիրոսյան:Գ. Հովհաննիսյան'!L15) -> 0 | ... AS15: =SUM('Մ.Մարտիրոսյան:Գ. Հովհաննիսյան'!AS15) -> 0
A16: 1.3.1 | B16: ²Û¹ ÃíáõÙª µÝ³Ïû·ï³·áñÍÙ³Ý Çñ³íáõÝùÁ ×³Ý³ã»Éáõ í»ñ³µ»ñÛ³É | E16: =SUM('Մ.Մարտիրոսյան:Գ. Հովհաննիսյան'!E16) -> 0 | F16: =SUM('Մ.Մարտիրոսյան:Գ. Հովհաննիսյան'!F16) -> 0 | G16: =SUM('Մ.Մարտիրոսյան:Գ. Հովհաննիսյան'!G16) -> 0 | H16: =SUM('Մ.Մարտիրոսյան:Գ. Հովհաննիսյան'!H16) -> 0 | I16: =SUM('Մ.Մարտիրոսյան:Գ. Հովհաննիսյան'!I16) -> 0 | J16: =SUM('Մ.Մարտիրոսյան:Գ. Հովհաննիսյան'!J16) -> 0 | K16: =SUM('Մ.Մարտիրոսյան:Գ. Հովհաննիսյան'!K16) -> 0 | L16: =SUM('Մ.Մարտիրոսյան:Գ. Հովհաննիսյան'!L16) -> 0 | ... AS16: =SUM('Մ.Մարտիրոսյան:Գ. Հովհաննիսյան'!AS16) -> 0
A17: 1.3.2 | B17: ²Û¹ ÃíáõÙª ÑáÕ³Ù³ëÇ ÝÏ³ïÙ³Ùµ û·ï³·áñÍÙ³Ý Çñ³íáõÝùÁ ×³Ý³ã»Éáõ í»ñ³µ»ñÛ³É | E17: =SUM('Մ.Մարտիրոսյան:Գ. Հովհաննիսյան'!E17) -> 0 | F17: =SUM('Մ.Մարտիրոսյան:Գ. Հովհաննիսյան'!F17) -> 0 | G17: =SUM('Մ.Մարտիրոսյան:Գ. Հովհաննիսյան'!G17) -> 0 | H17: =SUM('Մ.Մարտիրոսյան:Գ. Հովհաննիսյան'!H17) -> 0 | I17: =SUM('Մ.Մարտիրոսյան:Գ. Հովհաննիսյան'!I17) -> 0 | J17: =SUM('Մ.Մարտիրոսյան:Գ. Հովհաննիսյան'!J17) -> 0 | K17: =SUM('Մ.Մարտիրոսյան:Գ. Հովհաննիսյան'!K17) -> 0 | L17: =SUM('Մ.Մարտիրոսյան:Գ. Հովհաննիսյան'!L17) -> 0 | ... AS17: =SUM('Մ.Մարտիրոսյան:Գ. Հովհաննիսյան'!AS17) -> 0
A18: 1.4 | B18: ¶áõÛùÇ ÝÏ³ïÙ³Ùµ û·ï³·áñÍÙ³Ý Çñ³íáõÝùÁ ¹³¹³ñ»óÝ»Éáõ í»ñ³µ»ñÛ³É | E18: =SUM('Մ.Մարտիրոսյան:Գ. Հովհաննիսյան'!E18) -> 0 | F18: =SUM('Մ.Մարտիրոսյան:Գ. Հովհաննիսյան'!F18) -> 0 | G18: =SUM('Մ.Մարտիրոսյան:Գ. Հովհաննիսյան'!G18) -> 0 | H18: =SUM('Մ.Մարտիրոսյան:Գ. Հովհաննիսյան'!H18) -> 0 | I18: =SUM('Մ.Մարտիրոսյան:Գ. Հովհաննիսյան'!I18) -> 0 | J18: =SUM('Մ.Մարտիրոսյան:Գ. Հովհաննիսյան'!J18) -> 0 | K18: =SUM('Մ.Մարտիրոսյան:Գ. Հովհաննիսյան'!K18) -> 0 | L18: =SUM('Մ.Մարտիրոսյան:Գ. Հովհաննիսյան'!L18) -> 0 | ... AS18: =SUM('Մ.Մարտիրոսյան:Գ. Հովհաննիսյան'!AS18) -> 0
A19: 1.4.1 | B19: ²Û¹ ÃíáõÙª µÝ³Ïû·ï³·áñÍÙ³Ý Çñ³íáõÝùÁ ¹³¹³ñ»óÝ»Éáõ í»ñ³µ»ñÛ³É | E19: =SUM('Մ.Մարտիրոսյան:Գ. Հովհաննիսյան'!E19) -> 0 | F19: =SUM('Մ.Մարտիրոսյան:Գ. Հովհաննիսյան'!F19) -> 0 | G19: =SUM('Մ.Մարտիրոսյան:Գ. Հովհաննիսյան'!G19) -> 0 | H19: =SUM('Մ.Մարտիրոսյան:Գ. Հովհաննիսյան'!H19) -> 0 | I19: =SUM('Մ.Մարտիրոսյան:Գ. Հովհաննիսյան'!I19) -> 0 | J19: =SUM('Մ.Մարտիրոսյան:Գ. Հովհաննիսյան'!J19) -> 1 | K19: =SUM('Մ.Մարտիրոսյան:Գ. Հովհաննիսյան'!K19) -> 1 | L19: =SUM('Մ.Մարտիրոսյան:Գ. Հովհաննիսյան'!L19) -> 0 | ... AS19: =SUM('Մ.Մարտիրոսյան:Գ. Հովհաննիսյան'!AS19) -> 0
A20: 1.4.1/1 | B20: ²Û¹ ÃíáõÙª ÷áËÑ³ïáõóÙ³Ùµ | E20: =SUM('Մ.Մարտիրոսյան:Գ. Հովհաննիսյան'!E20) -> 0 | F20: =SUM('Մ.Մարտիրոսյան:Գ. Հովհաննիսյան'!F20) -> 0 | G20: =SUM('Մ.Մարտիրոսյան:Գ. Հովհաննիսյան'!G20) -> 0 | H20: =SUM('Մ.Մարտիրոսյան:Գ. Հովհաննիսյան'!H20) -> 0 | I20: =SUM('Մ.Մարտիրոսյան:Գ. Հովհաննիսյան'!I20) -> 0 | J20: =SUM('Մ.Մարտիրոսյան:Գ. Հովհաննիսյան'!J20) -> 0 | K20: =SUM('Մ.Մարտիրոսյան:Գ. Հովհաննիսյան'!K20) -> 0 | L20: =SUM('Մ.Մարտիրոսյան:Գ. Հովհաննիսյան'!L20) -> 0 | ... AS20: =SUM('Մ.Մարտիրոսյան:Գ. Հովհաննիսյան'!AS20) -> 0
A21: 1.5 | B21: ´Ý³Ï³ñ³ÝÇó/ ï³ñ³ÍùÇó/ íï³ñ»Éáõ í»ñ³µ»ñÛ³É | E21: =SUM('Մ.Մարտիրոսյան:Գ. Հովհաննիսյան'!E21) -> 6 | F21: =SUM('Մ.Մարտիրոսյան:Գ. Հովհաննիսյան'!F21) -> 5 | G21: =SUM('Մ.Մարտիրոսյան:Գ. Հովհաննիսյան'!G21) -> 1 | H21: =SUM('Մ.Մարտիրոսյան:Գ. Հովհաննիսյան'!H21) -> 0 | I21: =SUM('Մ.Մարտիրոսյան:Գ. Հովհաննիսյան'!I21) -> 0 | J21: =SUM('Մ.Մարտիրոսյան:Գ. Հովհաննիսյան'!J21) -> 15 | K21: =SUM('Մ.Մարտիրոսյան:Գ. Հովհաննիսյան'!K21) -> 14 | L21: =SUM('Մ.Մարտիրոսյան:Գ. Հովհաննիսյան'!L21) -> 1 | ... AS21: =SUM('Մ.Մարտիրոսյան:Գ. Հովհաննիսյան'!AS21) -> 0
A22: 1.6 | B22: ¶áõÛùÝ áõñÇßÇ ³åûñÇÝÇ ïÇñ³å»ïáõÙÇó »ï í»ñ³¹³ñÓÝ»Éáõ í»ñ³µ»ñÛ³É | E22: =SUM('Մ.Մարտիրոսյան:Գ. Հովհաննիսյան'!E22) -> 17 | F22: =SUM('Մ.Մարտիրոսյան:Գ. Հովհաննիսյան'!F22) -> 11 | G22: =SUM('Մ.Մարտիրոսյան:Գ. Հովհաննիսյան'!G22) -> 6 | H22: =SUM('Մ.Մարտիրոսյան:Գ. Հովհաննիսյան'!H22) -> 0 | I22: =SUM('Մ.Մարտիրոսյան:Գ. Հովհաննիսյան'!I22) -> 0 | J22: =SUM('Մ.Մարտիրոսյան:Գ. Հովհաննիսյան'!J22) -> 16 | K22: =SUM('Մ.Մարտիրոսյան:Գ. Հովհաննիսյան'!K22) -> 14 | L22: =SUM('Մ.Մարտիրոսյան:Գ. Հովհաննիսյան'!L22) -> 2 | ... AS22: =SUM('Մ.Մարտիրոսյան:Գ. Հովհաննիսյան'!AS22) -> 0
A23: 1.6.1 | B23: ´³ñ»ËÇÕ× Ó»éùµ»ñáÕÇó Çñ ·áõÛùÁ Ñ»ï å³Ñ³Ýç»Éáõ í»ñ³µ»ñÛ³É | E23: =SUM('Մ.Մարտիրոսյան:Գ. Հովհաննիսյան'!E23) -> 0 | F23: =SUM('Մ.Մարտիրոսյան:Գ. Հովհաննիսյան'!F23) -> 0 | G23: =SUM('Մ.Մարտիրոսյան:Գ. Հովհաննիսյան'!G23) -> 0 | H23: =SUM('Մ.Մարտիրոսյան:Գ. Հովհաննիսյան'!H23) -> 0 | I23: =SUM('Մ.Մարտիրոսյան:Գ. Հովհաննիսյան'!I23) -> 0 | J23: =SUM('Մ.Մարտիրոսյան:Գ. Հովհաննիսյան'!J23) -> 0 | K23: =SUM('Մ.Մարտիրոսյան:Գ. Հովհաննիսյան'!K23) -> 0 | L23: =SUM('Մ.Մարտիրոսյան:Գ. Հովհաննիսյան'!L23) -> 0 | ... AS23: =SUM('Մ.Մարտիրոսյան:Գ. Հովհաննիսյան'!AS23) -> 0
A24: 1.7 | B24: îÇñ³å»ïáõÙÇó ½ñÏ»Éáõ Ñ»ï ãÏ³åí³Í Çñ³íáõÝùÝ»ñÇ Ë³ËïáõÙÁ í»ñ³óÝ»Éáõ í»ñ³µ»ñÛ³É | E24: =SUM('Մ.Մարտիրոսյան:Գ. Հովհաննիսյան'!E24) -> 1 | F24: =SUM('Մ.Մարտիրոսյան:Գ. Հովհաննիսյան'!F24) -> 1 | G24: =SUM('Մ.Մարտիրոսյան:Գ. Հովհաննիսյան'!G24) -> 0 | H24: =SUM('Մ.Մարտիրոսյան:Գ. Հովհաննիսյան'!H24) -> 0 | I24: =SUM('Մ.Մարտիրոսյան:Գ. Հովհաննիսյան'!I24) -> 0 | J24: =SUM('Մ.Մարտիրոսյան:Գ. Հովհաննիսյան'!J24) -> 0 | K24: =SUM('Մ.Մարտիրոսյան:Գ. Հովհաննիսյան'!K24) -> 0 | L24: =SUM('Մ.Մարտիրոսյան:Գ. Հովհաննիսյան'!L24) -> 0 | ... AS24: =SUM('Մ.Մարտիրոսյան:Գ. Հովհաննիսյան'!AS24) -> 0
A25: 1.8 | B25: ÀÝ¹Ñ³Ýáõñ µ³ÅÝ³ÛÇÝ ë»÷³Ï³ÝáõÃÛáõÝÇó µ³ÅÇÝÝ ³é³ÝÓÝ³óÝ»Éáõ í»ñ³µ»ñÛ³É | E25: =SUM('Մ.Մարտիրոսյան:Գ. Հովհաննիսյան'!E25) -> 46 | F25: =SUM('Մ.Մարտիրոսյան:Գ. Հովհաննիսյան'!F25) -> 25 | G25: =SUM('Մ.Մարտիրոսյան:Գ. Հովհաննիսյան'!G25) -> 21 | H25: =SUM('Մ.Մարտիրոսյան:Գ. Հովհաննիսյան'!H25) -> 0 | I25: =SUM('Մ.Մարտիրոսյան:Գ. Հովհաննիսյան'!I25) -> 0 | J25: =SUM('Մ.Մարտիրոսյան:Գ. Հովհաննիսյան'!J25) -> 132 | K25: =SUM('Մ.Մարտիրոսյան:Գ. Հովհաննիսյան'!K25) -> 113 | L25: =SUM('Մ.Մարտիրոսյան:Գ. Հովհաննիսյան'!L25) -> 19 | ... AS25: =SUM('Մ.Մարտիրոսյան:Գ. Հովհաննիսյան'!AS25) -> 0
A26: 1.8.1 | B26: Ð³Ù³ï»Õ ë»÷³Ï³ÝáõÃÛ³Ý Ý»ñùá ·ïÝíáÕ ·áõÛùÁ µ³Å³Ý»Éáõ ¨ ¹ñ³ÝÇó µ³ÅÇÝÝ ³é³ÝÓÝ³óÝ»Éáõ í»ñ³µ»ñÛ³É | E26: =SUM('Մ.Մարտիրոսյան:Գ. Հովհաննիսյան'!E26) -> 63 | F26: =SUM('Մ.Մարտիրոսյան:Գ. Հովհաննիսյան'!F26) -> 32 | G26: =SUM('Մ.Մարտիրոսյան:Գ. Հովհաննիսյան'!G26) -> 31 | H26: =SUM('Մ.Մարտիրոսյան:Գ. Հովհաննիսյան'!H26) -> 0 | I26: =SUM('Մ.Մարտիրոսյան:Գ. Հովհաննիսյան'!I26) -> 0 | J26: =SUM('Մ.Մարտիրոսյան:Գ. Հովհաննիսյան'!J26) -> 82 | K26: =SUM('Մ.Մարտիրոսյան:Գ. Հովհաննիսյան'!K26) -> 70 | L26: =SUM('Մ.Մարտիրոսյան:Գ. Հովհաննիսյան'!L26) -> 12 | ... AS26: =SUM('Մ.Մարտիրոսյան:Գ. Հովհաննիսյան'!AS26) -> 0
... A28: 1.9 | B28: ²ÛÉ í»×»ñ | E28: =SUM('Մ.Մարտիրոսյան:Գ. Հովհաննիսյան'!E28) -> 24 | F28: =SUM('Մ.Մարտիրոսյան:Գ. Հովհաննիսյան'!F28) -> 12 | G28: =SUM('Մ.Մարտիրոսյան:Գ. Հովհաննիսյան'!G28) -> 12 | H28: =SUM('Մ.Մարտիրոսյան:Գ. Հովհաննիսյան'!H28) -> 0 | I28: =SUM('Մ.Մարտիրոսյան:Գ. Հովհաննիսյան'!I28) -> 0 | J28: =SUM('Մ.Մարտիրոսյան:Գ. Հովհաննիսյան'!J28) -> 51 | K28: =SUM('Մ.Մարտիրոսյան:Գ. Հովհաննիսյան'!K28) -> 41 | L28: =SUM('Մ.Մարտիրոսյան:Գ. Հովհաննիսյան'!L28) -> 9 | ... AS28: =SUM('Մ.Մարտիրոսյան:Գ. Հովհաննիսյան'!AS28) -> 0
A29: 2. | B29: ¶áñÍ³ñùÝ»ñÇ Ñ»ï Ï³åí³Í Çñ³í³Ñ³ñ³µ»ñáõÃÛáõÝÝ»ñÇ í»ñ³µ»ñÛ³É ¹³ï³Ï³Ý ·áñÍ»ñ | E29: =SUM(E30:E40) -> 22 | F29: =SUM(F30:F40) -> 10 | G29: =SUM(G30:G40) -> 12 | H29: =SUM(H30:H40) -> 0 | I29: =SUM(I30:I40) -> 0 | J29: =SUM(J30:J40) -> 61 | K29: =SUM(K30:K40) -> 50 | L29: =SUM(L30:L40) -> 8 | ... AS29: =SUM(AS30:AS40) -> 0
A30: 2.1 | B30: ·áñÍ³ñùÝ»ñÇ ³Ýí³í»ñáõÃÛ³Ý Ñ»ï Ï³åí³Í í»×»ñ | E30: =SUM('Մ.Մարտիրոսյան:Գ. Հովհաննիսյան'!E30) -> 0 | F30: =SUM('Մ.Մարտիրոսյան:Գ. Հովհաննիսյան'!F30) -> 0 | G30: =SUM('Մ.Մարտիրոսյան:Գ. Հովհաննիսյան'!G30) -> 0 | H30: =SUM('Մ.Մարտիրոսյան:Գ. Հովհաննիսյան'!H30) -> 0 | I30: =SUM('Մ.Մարտիրոսյան:Գ. Հովհաննիսյան'!I30) -> 0 | J30: =SUM('Մ.Մարտիրոսյան:Գ. Հովհաննիսյան'!J30) -> 5 | K30: =SUM('Մ.Մարտիրոսյան:Գ. Հովհաննիսյան'!K30) -> 4 | L30: =SUM('Մ.Մարտիրոսյան:Գ. Հովհաննիսյան'!L30) -> 1 | ... AS30: =SUM('Մ.Մարտիրոսյան:Գ. Հովհաննիսյան'!AS30) -> 0
A31: 2.1.1 | B31: ³Û¹ ÃíáõÙ` íÇ×³Ñ³ñáõÛó ·áñÍ³ñùÝ»ñÝ ³Ýí³í»ñ ×³Ý³ã»Éáõ í»ñ³µ»ñÛ³É | E31: =SUM('Մ.Մարտիրոսյան:Գ. Հովհաննիսյան'!E31) -> 0 | F31: =SUM('Մ.Մարտիրոսյան:Գ. Հովհաննիսյան'!F31) -> 0 | G31: =SUM('Մ.Մարտիրոսյան:Գ. Հովհաննիսյան'!G31) -> 0 | H31: =SUM('Մ.Մարտիրոսյան:Գ. Հովհաննիսյան'!H31) -> 0 | I31: =SUM('Մ.Մարտիրոսյան:Գ. Հովհաննիսյան'!I31) -> 0 | J31: =SUM('Մ.Մարտիրոսյան:Գ. Հովհաննիսյան'!J31) -> 0 | K31: =SUM('Մ.Մարտիրոսյան:Գ. Հովհաննիսյան'!K31) -> 0 | L31: =SUM('Մ.Մարտիրոսյան:Գ. Հովհաննիսյան'!L31) -> 0 | ... AS31: =SUM('Մ.Մարտիրոսյան:Գ. Հովհաննիսյան'!AS31) -> 0
A32: 2.1.2 | B32: ³Û¹ ÃíáõÙ` ·áñÍ³ñùÇ ³éáãÝãáõÃÛ³Ý Ñ»ï¨³ÝùÝ»ñ ÏÇñ³é»Éáõ í»ñ³µ»ñÛ³É | E32: =SUM('Մ.Մարտիրոսյան:Գ. Հովհաննիսյան'!E32) -> 1 | F32: =SUM('Մ.Մարտիրոսյան:Գ. Հովհաննիսյան'!F32) -> 0 | G32: =SUM('Մ.Մարտիրոսյան:Գ. Հովհաննիսյան'!G32) -> 1 | H32: =SUM('Մ.Մարտիրոսյան:Գ. Հովհաննիսյան'!H32) -> 0 | I32: =SUM('Մ.Մարտիրոսյան:Գ. Հովհաննիսյան'!I32) -> 0 | J32: =SUM('Մ.Մարտիրոսյան:Գ. Հովհաննիսյան'!J32) -> 5 | K32: =SUM('Մ.Մարտիրոսյան:Գ. Հովհաննիսյան'!K32) -> 4 | L32: =SUM('Մ.Մարտիրոսյան:Գ. Հովհաննիսյան'!L32) -> 1 | ... AS32: =SUM('Մ.Մարտիրոսյան:Գ. Հովհաննիսյան'!AS32) -> 0
A33: 2.2 | B33: ¶áñÍ³ñùÁ í³í»ñ ×³Ý³ã»Éáõ í»ñ³µ»ñÛ³É | E33: =SUM('Մ.Մարտիրոսյան:Գ. Հովհաննիսյան'!E33) -> 4 | F33: =SUM('Մ.Մարտիրոսյան:Գ. Հովհաննիսյան'!F33) -> 0 | G33: =SUM('Մ.Մարտիրոսյան:Գ. Հովհաննիսյան'!G33) -> 4 | H33: =SUM('Մ.Մարտիրոսյան:Գ. Հովհաննիսյան'!H33) -> 0 | I33: =SUM('Մ.Մարտիրոսյան:Գ. Հովհաննիսյան'!I33) -> 0 | J33: =SUM('Մ.Մարտիրոսյան:Գ. Հովհաննիսյան'!J33) -> 21 | K33: =SUM('Մ.Մարտիրոսյան:Գ. Հովհաննիսյան'!K33) -> 17 | L33: =SUM('Մ.Մարտիրոսյան:Գ. Հովհաննիսյան'!L33) -> 2 | ... AS33: =SUM('Մ.Մարտիրոսյան:Գ. Հովհաննիսյան'!AS33) -> 0
A34: 2.3 | B34: ¶áñÍ³ñùÇó Í³·áÕ Çñ³íáõÝùÝ»ñÁ ·ñ³Ýó»Éáõ í»ñ³µ»ñÛ³É | E34: =SUM('Մ.Մարտիրոսյան:Գ. Հովհաննիսյան'!E34) -> 0 | F34: =SUM('Մ.Մարտիրոսյան:Գ. Հովհաննիսյան'!F34) -> 0 | G34: =SUM('Մ.Մարտիրոսյան:Գ. Հովհաննիսյան'!G34) -> 0 | H34: =SUM('Մ.Մարտիրոսյան:Գ. Հովհաննիսյան'!H34) -> 0 | I34: =SUM('Մ.Մարտիրոսյան:Գ. Հովհաննիսյան'!I34) -> 0 | J34: =SUM('Մ.Մարտիրոսյան:Գ. Հովհաննիսյան'!J34) -> 0 | K34: =SUM('Մ.Մարտիրոսյան:Գ. Հովհաննիսյան'!K34) -> 0 | L34: =SUM('Մ.Մարտիրոսյան:Գ. Հովհաննիսյան'!L34) -> 0 | ... AS34: =SUM('Մ.Մարտիրոսյան:Գ. Հովհաննիսյան'!AS34) -> 0
A35: 2.4 | B35: ä³ÛÙ³Ý³·ÇñÝ ³Ýí³í»ñ ×³Ý³ã»Éáõ í»ñ³µ»ñÛ³É | E35: =SUM('Մ.Մարտիրոսյան:Գ. Հովհաննիսյան'!E35) -> 8 | F35: =SUM('Մ.Մարտիրոսյան:Գ. Հովհաննիսյան'!F35) -> 5 | G35: =SUM('Մ.Մարտիրոսյան:Գ. Հովհաննիսյան'!G35) -> 3 | H35: =SUM('Մ.Մարտիրոսյան:Գ. Հովհաննիսյան'!H35) -> 0 | I35: =SUM('Մ.Մարտիրոսյան:Գ. Հովհաննիսյան'!I35) -> 0 | J35: =SUM('Մ.Մարտիրոսյան:Գ. Հովհաննիսյան'!J35) -> 9 | K35: =SUM('Մ.Մարտիրոսյան:Գ. Հովհաննիսյան'!K35) -> 8 | L35: =SUM('Մ.Մարտիրոսյան:Գ. Հովհաննիսյան'!L35) -> 1 | ... AS35: =SUM('Մ.Մարտիրոսյան:Գ. Հովհաննիսյան'!AS35) -> 0
A36: 2.5 | B36: ä³ÛÙ³Ý³·ñÇÁ í³í»ñ ×³Ý³ã»Éáõ í»ñ³µ»ñÛ³É | E36: =SUM('Մ.Մարտիրոսյան:Գ. Հովհաննիսյան'!E36) -> 1 | F36: =SUM('Մ.Մարտիրոսյան:Գ. Հովհաննիսյան'!F36) -> 0 | G36: =SUM('Մ.Մարտիրոսյան:Գ. Հովհաննիսյան'!G36) -> 1 | H36: =SUM('Մ.Մարտիրոսյան:Գ. Հովհաննիսյան'!H36) -> 0 | I36: =SUM('Մ.Մարտիրոսյան:Գ. Հովհաննիսյան'!I36) -> 0 | J36: =SUM('Մ.Մարտիրոսյան:Գ. Հովհաննիսյան'!J36) -> 12 | K36: =SUM('Մ.Մարտիրոսյան:Գ. Հովհաննիսյան'!K36) -> 10 | L36: =SUM('Մ.Մարտիրոսյան:Գ. Հովհաննիսյան'!L36) -> 2 | ... AS36: =SUM('Մ.Մարտիրոսյան:Գ. Հովհաննիսյան'!AS36) -> 0
A37: 2.6 | B37: ä³ÛÙ³Ý³·ñÇó Í³·áÕ Çñ³íáõÝùÝ»ñÁ ·ñ³Ýó»Éáõ í»ñ³µ»ñÛ³É | E37: =SUM('Մ.Մարտիրոսյան:Գ. Հովհաննիսյան'!E37) -> 0 | F37: =SUM('Մ.Մարտիրոսյան:Գ. Հովհաննիսյան'!F37) -> 0 | G37: =SUM('Մ.Մարտիրոսյան:Գ. Հովհաննիսյան'!G37) -> 0 | H37: =SUM('Մ.Մարտիրոսյան:Գ. Հովհաննիսյան'!H37) -> 0 | I37: =SUM('Մ.Մարտիրոսյան:Գ. Հովհաննիսյան'!I37) -> 0 | J37: =SUM('Մ.Մարտիրոսյան:Գ. Հովհաննիսյան'!J37) -> 2 | K37: =SUM('Մ.Մարտիրոսյան:Գ. Հովհաննիսյան'!K37) -> 1 | L37: =SUM('Մ.Մարտիրոսյան:Գ. Հովհաննիսյան'!L37) -> 1 | ... AS37: =SUM('Մ.Մարտիրոսյան:Գ. Հովհաննիսյան'!AS37) -> 0
A38: 2.7 | B38: ä³ÛÙ³Ý³·ÇñÁ ÷á÷áË»Éáõ ¨ ÉáõÍ»Éáõ í»ñ³µ»ñÛ³É | E38: =SUM('Մ.Մարտիրոսյան:Գ. Հովհաննիսյան'!E38) -> 2 | F38: =SUM('Մ.Մարտիրոսյան:Գ. Հովհաննիսյան'!F38) -> 0 | G38: =SUM('Մ.Մարտիրոսյան:Գ. Հովհաննիսյան'!G38) -> 2 | H38: =SUM('Մ.Մարտիրոսյան:Գ. Հովհաննիսյան'!H38) -> 0 | I38: =SUM('Մ.Մարտիրոսյան:Գ. Հովհաննիսյան'!I38) -> 0 | J38: =SUM('Մ.Մարտիրոսյան:Գ. Հովհաննիսյան'!J38) -> 4 | K38: =SUM('Մ.Մարտիրոսյան:Գ. Հովհաննիսյան'!K38) -> 4 | L38: =SUM('Մ.Մարտիրոսյան:Գ. Հովհաննիսյան'!L38) -> 0 | ... AS38: =SUM('Մ.Մարտիրոսյան:Գ. Հովհաննիսյան'!AS38) -> 0
A39: 2.8 | B39: ä³ÛÙ³Ý³·Çñ ÏÝù»ÉáõÝ å³ñï³íáñ»óÝ»Éáõ í»ñ³µ»ñÛ³É | E39: =SUM('Մ.Մարտիրոսյան:Գ. Հովհաննիսյան'!E39) -> 3 | F39: =SUM('Մ.Մարտիրոսյան:Գ. Հովհաննիսյան'!F39) -> 2 | G39: =SUM('Մ.Մարտիրոսյան:Գ. Հովհաննիսյան'!G39) -> 1 | H39: =SUM('Մ.Մարտիրոսյան:Գ. Հովհաննիսյան'!H39) -> 0 | I39: =SUM('Մ.Մարտիրոսյան:Գ. Հովհաննիսյան'!I39) -> 0 | J39: =SUM('Մ.Մարտիրոսյան:Գ. Հովհաննիսյան'!J39) -> 0 | K39: =SUM('Մ.Մարտիրոսյան:Գ. Հովհաննիսյան'!K39) -> 0 | L39: =SUM('Մ.Մարտիրոսյան:Գ. Հովհաննիսյան'!L39) -> 0 | ... AS39: =SUM('Մ.Մարտիրոսյան:Գ. Հովհաննիսյան'!AS39) -> 0
A40: 2.9 | B40: ²ÛÉ í»×»ñ | E40: =SUM('Մ.Մարտիրոսյան:Գ. Հովհաննիսյան'!E40) -> 3 | F40: =SUM('Մ.Մարտիրոսյան:Գ. Հովհաննիսյան'!F40) -> 3 | G40: =SUM('Մ.Մարտիրոսյան:Գ. Հովհաննիսյան'!G40) -> 0 | H40: =SUM('Մ.Մարտիրոսյան:Գ. Հովհաննիսյան'!H40) -> 0 | I40: =SUM('Մ.Մարտիրոսյան:Գ. Հովհաննիսյան'!I40) -> 0 | J40: =SUM('Մ.Մարտիրոսյան:Գ. Հովհաննիսյան'!J40) -> 3 | K40: =SUM('Մ.Մարտիրոսյան:Գ. Հովհաննիսյան'!K40) -> 2 | L40: =SUM('Մ.Մարտիրոսյան:Գ. Հովհաննիսյան'!L40) -> 0 | ... AS40: =SUM('Մ.Մարտիրոսյան:Գ. Հովհաննիսյան'!AS40) -> 0
A41: 3. | B41: Ä³é³Ý·áõÃÛ³Ý Ñ»ï Ï³åí³Í Çñ³í³Ñ³ñ³µ»ñáõÃÛáõÝÝ»ñÇ í»ñ³µ»ñÛ³É ¹³ï³Ï³Ý ·áñÍ»ñ | E41: =SUM(E42:E48) -> 17 | F41: =SUM(F42:F48) -> 2 | G41: =SUM(G42:G48) -> 15 | H41: =SUM(H42:H48) -> 0 | I41: =SUM(I42:I48) -> 0 | J41: =SUM(J42:J48) -> 27 | K41: =SUM(K42:K48) -> 17 | L41: =SUM(L42:L48) -> 10 | ... AS41: =SUM(AS42:AS48) -> 0
A42: 3.1 | B42: Îï³ÏÝ ³Ýí³í»ñ ×³Ý³ã»Éáõ í»ñ³µ»ñÛ³É | E42: =SUM('Մ.Մարտիրոսյան:Գ. Հովհաննիսյան'!E42) -> 1 | F42: =SUM('Մ.Մարտիրոսյան:Գ. Հովհաննիսյան'!F42) -> 0 | G42: =SUM('Մ.Մարտիրոսյան:Գ. Հովհաննիսյան'!G42) -> 1 | H42: =SUM('Մ.Մարտիրոսյան:Գ. Հովհաննիսյան'!H42) -> 0 | I42: =SUM('Մ.Մարտիրոսյան:Գ. Հովհաննիսյան'!I42) -> 0 | J42: =SUM('Մ.Մարտիրոսյան:Գ. Հովհաննիսյան'!J42) -> 1 | K42: =SUM('Մ.Մարտիրոսյան:Գ. Հովհաննիսյան'!K42) -> 1 | L42: =SUM('Մ.Մարտիրոսյան:Գ. Հովհաննիսյան'!L42) -> 0 | ... AS42: =SUM('Մ.Մարտիրոսյան:Գ. Հովհաննիսյան'!AS42) -> 0
A43: 3.2 | B43: ²Ý³ñÅ³Ý Å³é³Ý· ×³Ý³ã»Éáõ í»ñ³µ»ñÛ³É | E43: =SUM('Մ.Մարտիրոսյան:Գ. Հովհաննիսյան'!E43) -> 0 | F43: =SUM('Մ.Մարտիրոսյան:Գ. Հովհաննիսյան'!F43) -> 0 | G43: =SUM('Մ.Մարտիրոսյան:Գ. Հովհաննիսյան'!G43) -> 0 | H43: =SUM('Մ.Մարտիրոսյան:Գ. Հովհաննիսյան'!H43) -> 0 | I43: =SUM('Մ.Մարտիրոսյան:Գ. Հովհաննիսյան'!I43) -> 0 | J43: =SUM('Մ.Մարտիրոսյան:Գ. Հովհաննիսյան'!J43) -> 0 | K43: =SUM('Մ.Մարտիրոսյան:Գ. Հովհաննիսյան'!K43) -> 0 | L43: =SUM('Մ.Մարտիրոսյան:Գ. Հովհաննիսյան'!L43) -> 0 | ... AS43: =SUM('Մ.Մարտիրոսյան:Գ. Հովհաննիսյան'!AS43) -> 0
A44: 3.3 | B44: Ä³é³Ý·áõÃÛáõÝÁ µ³Å³Ý»Éáõ í»ñ³µ»ñÛ³É | E44: =SUM('Մ.Մարտիրոսյան:Գ. Հովհաննիսյան'!E44) -> 0 | F44: =SUM('Մ.Մարտիրոսյան:Գ. Հովհաննիսյան'!F44) -> 0 | G44: =SUM('Մ.Մարտիրոսյան:Գ. Հովհաննիսյան'!G44) -> 0 | H44: =SUM('Մ.Մարտիրոսյան:Գ. Հովհաննիսյան'!H44) -> 0 | I44: =SUM('Մ.Մարտիրոսյան:Գ. Հովհաննիսյան'!I44) -> 0 | J44: =SUM('Մ.Մարտիրոսյան:Գ. Հովհաննիսյան'!J44) -> 0 | K44: =SUM('Մ.Մարտիրոսյան:Գ. Հովհաննիսյան'!K44) -> 0 | L44: =SUM('Մ.Մարտիրոսյան:Գ. Հովհաննիսյան'!L44) -> 0 | ... AS44: =SUM('Մ.Մարտիրոսյան:Գ. Հովհաննիսյան'!AS44) -> 0
A45: 3.4 | B45: ¶áõÛùÝ ³ÝÅ³é³Ý· ×³Ý³ã»Éáõ í»ñ³µ»ñÛ³É | E45: =SUM('Մ.Մարտիրոսյան:Գ. Հովհաննիսյան'!E45) -> 0 | F45: =SUM('Մ.Մարտիրոսյան:Գ. Հովհաննիսյան'!F45) -> 0 | G45: =SUM('Մ.Մարտիրոսյան:Գ. Հովհաննիսյան'!G45) -> 0 | H45: =SUM('Մ.Մարտիրոսյան:Գ. Հովհաննիսյան'!H45) -> 0 | I45: =SUM('Մ.Մարտիրոսյան:Գ. Հովհաննիսյան'!I45) -> 0 | J45: =SUM('Մ.Մարտիրոսյան:Գ. Հովհաննիսյան'!J45) -> 0 | K45: =SUM('Մ.Մարտիրոսյան:Գ. Հովհաննիսյան'!K45) -> 0 | L45: =SUM('Մ.Մարտիրոսյան:Գ. Հովհաննիսյան'!L45) -> 0 | ... AS45: =SUM('Մ.Մարտիրոսյան:Գ. Հովհաննիսյան'!AS45) -> 0
A46: 3.5 | B46: Àëï ûñ»ÝùÇ Å³é³Ý·áõÃÛ³Ý Çñ³íáõÝùÇ íÏ³Û³·ÇñÝ ³Ýí³í»ñ ×³Ý³ã»Éáõ í»ñ³µ»ñÛ³É | E46: =SUM('Մ.Մարտիրոսյան:Գ. Հովհաննիսյան'!E46) -> 1 | F46: =SUM('Մ.Մարտիրոսյան:Գ. Հովհաննիսյան'!F46) -> 0 | G46: =SUM('Մ.Մարտիրոսյան:Գ. Հովհաննիսյան'!G46) -> 1 | H46: =SUM('Մ.Մարտիրոսյան:Գ. Հովհաննիսյան'!H46) -> 0 | I46: =SUM('Մ.Մարտիրոսյան:Գ. Հովհաննիսյան'!I46) -> 0 | J46: =SUM('Մ.Մարտիրոսյան:Գ. Հովհաննիսյան'!J46) -> 0 | K46: =SUM('Մ.Մարտիրոսյան:Գ. Հովհաննիսյան'!K46) -> 0 | L46: =SUM('Մ.Մարտիրոսյան:Գ. Հովհաննիսյան'!L46) -> 0 | ... AS46: =SUM('Մ.Մարտիրոսյան:Գ. Հովհաննիսյան'!AS46) -> 0
A47: 3.6 | B47: Ä³é³Ý·áõÃÛáõÝÝ ÁÝ¹áõÝ»Éáõ µ³ó ÃáÕÝí³Í Å³ÙÏ»ïÁ Ñ³ñ·»ÉÇ Ñ³Ù³ñ»Éáõ í»ñ³µ»ñÛ³É | E47: =SUM('Մ.Մարտիրոսյան:Գ. Հովհաննիսյան'!E47) -> 2 | F47: =SUM('Մ.Մարտիրոսյան:Գ. Հովհաննիսյան'!F47) -> 1 | G47: =SUM('Մ.Մարտիրոսյան:Գ. Հովհաննիսյան'!G47) -> 1 | H47: =SUM('Մ.Մարտիրոսյան:Գ. Հովհաննիսյան'!H47) -> 0 | I47: =SUM('Մ.Մարտիրոսյան:Գ. Հովհաննիսյան'!I47) -> 0 | J47: =SUM('Մ.Մարտիրոսյան:Գ. Հովհաննիսյան'!J47) -> 12 | K47: =SUM('Մ.Մարտիրոսյան:Գ. Հովհաննիսյան'!K47) -> 8 | L47: =SUM('Մ.Մարտիրոսյան:Գ. Հովհաննիսյան'!L47) -> 4 | ... AS47: =SUM('Մ.Մարտիրոսյան:Գ. Հովհաննիսյան'!AS47) -> 0
A48: 3.7 | B48: ²ÛÉ í»×»ñ | E48: =SUM('Մ.Մարտիրոսյան:Գ. Հովհաննիսյան'!E48) -> 13 | F48: =SUM('Մ.Մարտիրոսյան:Գ. Հովհաննիսյան'!F48) -> 1 | G48: =SUM('Մ.Մարտիրոսյան:Գ. Հովհաննիսյան'!G48) -> 12 | H48: =SUM('Մ.Մարտիրոսյան:Գ. Հովհաննիսյան'!H48) -> 0 | I48: =SUM('Մ.Մարտիրոսյան:Գ. Հովհաննիսյան'!I48) -> 0 | J48: =SUM('Մ.Մարտիրոսյան:Գ. Հովհաննիսյան'!J48) -> 14 | K48: =SUM('Մ.Մարտիրոսյան:Գ. Հովհաննիսյան'!K48) -> 8 | L48: =SUM('Մ.Մարտիրոսյան:Գ. Հովհաննիսյան'!L48) -> 6 | ... AS48: =SUM('Մ.Մարտիրոսյան:Գ. Հովհաննիսյան'!AS48) -> 0
A49: 4 | B49: ÀÝï³Ý»Ï³Ý Çñ³í³Ñ³ñ³µ»ñáõÃÛáõÝÝ»ñÇ í»ñ³µ»ñÛ³É ¹³ï³Ï³Ý ·áñÍ»ñ | E49: =SUM(E50:E62) -> 108 | F49: =SUM(F50:F62) -> 6 | G49: =SUM(G50:G62) -> 102 | H49: =SUM(H50:H62) -> 0 | I49: =SUM(I50:I62) -> 0 | J49: =SUM(J50:J62) -> 238 | K49: =SUM(K50:K62) -> 215 | L49: =SUM(L50:L62) -> 23 | ... AS49: =SUM(AS50:AS62) -> 0
A50: 4.1 | B50: ²ÙáõëÝ³ÉáõÍáõÃÛ³Ý í»ñ³µ»ñÛ³É | E50: =SUM('Մ.Մարտիրոսյան:Գ. Հովհաննիսյան'!E50) -> 51 | F50: =SUM('Մ.Մարտիրոսյան:Գ. Հովհաննիսյան'!F50) -> 1 | G50: =SUM('Մ.Մարտիրոսյան:Գ. Հովհաննիսյան'!G50) -> 50 | I50: =SUM('Մ.Մարտիրոսյան:Գ. Հովհաննիսյան'!I50) -> 0 | J50: =SUM('Մ.Մարտիրոսյան:Գ. Հովհաննիսյան'!J50) -> 131 | K50: =SUM('Մ.Մարտիրոսյան:Գ. Հովհաննիսյան'!K50) -> 116 | L50: =SUM('Մ.Մարտիրոսյան:Գ. Հովհաննիսյան'!L50) -> 15 | M50: =SUM('Մ.Մարտիրոսյան:Գ. Հովհաննիսյան'!M50) -> 0 | N50: =SUM('Մ.Մարտիրոսյան:Գ. Հովհաննիսյան'!N50) -> 1 | O50: =SUM('Մ.Մարտիրոսյան:Գ. Հովհաննիսյան'!O50) -> 121 | P50: =SUM('Մ.Մարտիրոսյան:Գ. Հովհաննիսյան'!P50) -> 105 | ... AS50: =SUM('Մ.Մարտիրոսյան:Գ. Հովհաննիսյան'!AS50) -> 0
A51: 4.2 | B51: ²ÉÇÙ»ÝïÇ å³Ñ³ÝçÇ í»ñ³µ»ñÛ³É | E51: =SUM('Մ.Մարտիրոսյան:Գ. Հովհաննիսյան'!E51) -> 28 | F51: =SUM('Մ.Մարտիրոսյան:Գ. Հովհաննիսյան'!F51) -> 2 | G51: =SUM('Մ.Մարտիրոսյան:Գ. Հովհաննիսյան'!G51) -> 26 | H51: =SUM('Մ.Մարտիրոսյան:Գ. Հովհաննիսյան'!H51) -> 0 | I51: =SUM('Մ.Մարտիրոսյան:Գ. Հովհաննիսյան'!I51) -> 0 | J51: =SUM('Մ.Մարտիրոսյան:Գ. Հովհաննիսյան'!J51) -> 39 | K51: =SUM('Մ.Մարտիրոսյան:Գ. Հովհաննիսյան'!K51) -> 36 | L51: =SUM('Մ.Մարտիրոսյան:Գ. Հովհաննիսյան'!L51) -> 3 | ... AS51: =SUM('Մ.Մարտիրոսյան:Գ. Հովհաննիսյան'!AS51) -> 0
A52: 4.3 | B52: ²ÉÇÙ»ÝïÇ ã³÷Á ÷á÷áË»Éáõ í»ñ³µ»ñÛ³É | E52: =SUM('Մ.Մարտիրոսյան:Գ. Հովհաննիսյան'!E52) -> 2 | F52: =SUM('Մ.Մարտիրոսյան:Գ. Հովհաննիսյան'!F52) -> 0 | G52: =SUM('Մ.Մարտիրոսյան:Գ. Հովհաննիսյան'!G52) -> 2 | H52: =SUM('Մ.Մարտիրոսյան:Գ. Հովհաննիսյան'!H52) -> 0 | I52: =SUM('Մ.Մարտիրոսյան:Գ. Հովհաննիսյան'!I52) -> 0 | J52: =SUM('Մ.Մարտիրոսյան:Գ. Հովհաննիսյան'!J52) -> 4 | K52: =SUM('Մ.Մարտիրոսյան:Գ. Հովհաննիսյան'!K52) -> 3 | L52: =SUM('Մ.Մարտիրոսյան:Գ. Հովհաննիսյան'!L52) -> 1 | ... AS52: =SUM('Մ.Մարտիրոսյան:Գ. Հովհաննիսյան'!AS52) -> 0
A53: 4.4 | B53: ÌÝáÕ³Ï³Ý Çñ³íáõÝùÝ»ñÇó ½ñÏ»Éáõ í»ñ³µ»ñÛ³É | E53: =SUM('Մ.Մարտիրոսյան:Գ. Հովհաննիսյան'!E53) -> 2 | F53: =SUM('Մ.Մարտիրոսյան:Գ. Հովհաննիսյան'!F53) -> 0 | G53: =SUM('Մ.Մարտիրոսյան:Գ. Հովհաննիսյան'!G53) -> 2 | H53: =SUM('Մ.Մարտիրոսյան:Գ. Հովհաննիսյան'!H53) -> 0 | I53: =SUM('Մ.Մարտիրոսյան:Գ. Հովհաննիսյան'!I53) -> 0 | J53: =SUM('Մ.Մարտիրոսյան:Գ. Հովհաննիսյան'!J53) -> 4 | K53: =SUM('Մ.Մարտիրոսյան:Գ. Հովհաննիսյան'!K53) -> 3 | L53: =SUM('Մ.Մարտիրոսյան:Գ. Հովհաննիսյան'!L53) -> 1 | ... AS53: =SUM('Մ.Մարտիրոսյան:Գ. Հովհաննիսյան'!AS53) -> 0
A54: 4.5 | B54: ÌÝáÕ³Ï³Ý Çñ³íáõÝùÝ»ñÁ í»ñ³Ï³Ý·Ý»Éáõ í»ñ³µ»ñÛ³É | E54: =SUM('Մ.Մարտիրոսյան:Գ. Հովհաննիսյան'!E54) -> 0 | F54: =SUM('Մ.Մարտիրոսյան:Գ. Հովհաննիսյան'!F54) -> 0 | G54: =SUM('Մ.Մարտիրոսյան:Գ. Հովհաննիսյան'!G54) -> 0 | H54: =SUM('Մ.Մարտիրոսյան:Գ. Հովհաննիսյան'!H54) -> 0 | I54: =SUM('Մ.Մարտիրոսյան:Գ. Հովհաննիսյան'!I54) -> 0 | J54: =SUM('Մ.Մարտիրոսյան:Գ. Հովհաննիսյան'!J54) -> 0 | K54: =SUM('Մ.Մարտիրոսյան:Գ. Հովհաննիսյան'!K54) -> 0 | L54: =SUM('Մ.Մարտիրոսյան:Գ. Հովհաննիսյան'!L54) -> 0 | ... AS54: =SUM('Մ.Մարտիրոսյան:Գ. Հովհաննիսյան'!AS54) -> 0
A55: 4.6 | B55: ºñ»Ë³ÛÇ áñ¹»·ñÙ³Ý í»ñ³µ»ñÛ³É | E55: =SUM('Մ.Մարտիրոսյան:Գ. Հովհաննիսյան'!E55) -> 1 | F55: =SUM('Մ.Մարտիրոսյան:Գ. Հովհաննիսյան'!F55) -> 0 | G55: =SUM('Մ.Մարտիրոսյան:Գ. Հովհաննիսյան'!G55) -> 1 | H55: =SUM('Մ.Մարտիրոսյան:Գ. Հովհաննիսյան'!H55) -> 0 | I55: =SUM('Մ.Մարտիրոսյան:Գ. Հովհաննիսյան'!I55) -> 0 | J55: =SUM('Մ.Մարտիրոսյան:Գ. Հովհաննիսյան'!J55) -> 6 | K55: =SUM('Մ.Մարտիրոսյան:Գ. Հովհաննիսյան'!K55) -> 6 | L55: =SUM('Մ.Մարտիրոսյան:Գ. Հովհաննիսյան'!L55) -> 0 | ... AS55: =SUM('Մ.Մարտիրոսյան:Գ. Հովհաննիսյան'!AS55) -> 0
A56: 4.7 | B56: ºñ»Ë³ÛÇ áñ¹»·ñáõÙÁ í»ñ³óÝ»Éáõ í»ñ³µ»ñÛ³É | E56: =SUM('Մ.Մարտիրոսյան:Գ. Հովհաննիսյան'!E56) -> 0 | F56: =SUM('Մ.Մարտիրոսյան:Գ. Հովհաննիսյան'!F56) -> 0 | G56: =SUM('Մ.Մարտիրոսյան:Գ. Հովհաննիսյան'!G56) -> 0 | H56: =SUM('Մ.Մարտիրոսյան:Գ. Հովհաննիսյան'!H56) -> 0 | I56: =SUM('Մ.Մարտիրոսյան:Գ. Հովհաննիսյան'!I56) -> 0 | J56: =SUM('Մ.Մարտիրոսյան:Գ. Հովհաննիսյան'!J56) -> 1 | K56: =SUM('Մ.Մարտիրոսյան:Գ. Հովհաննիսյան'!K56) -> 1 | L56: =SUM('Մ.Մարտիրոսյան:Գ. Հովհաննիսյան'!L56) -> 0 | ... AS56: =SUM('Մ.Մարտիրոսյան:Գ. Հովհաննիսյան'!AS56) -> 0
A57: 4.8 | B57: Ð³ÛñáõÃÛáõÝÁ ×³Ý³ã»Éáõ í»ñ³µ»ñÛ³É | E57: =SUM('Մ.Մարտիրոսյան:Գ. Հովհաննիսյան'!E57) -> 5 | F57: =SUM('Մ.Մարտիրոսյան:Գ. Հովհաննիսյան'!F57) -> 3 | G57: =SUM('Մ.Մարտիրոսյան:Գ. Հովհաննիսյան'!G57) -> 2 | H57: =SUM('Մ.Մարտիրոսյան:Գ. Հովհաննիսյան'!H57) -> 0 | I57: =SUM('Մ.Մարտիրոսյան:Գ. Հովհաննիսյան'!I57) -> 0 | J57: =SUM('Մ.Մարտիրոսյան:Գ. Հովհաննիսյան'!J57) -> 13 | K57: =SUM('Մ.Մարտիրոսյան:Գ. Հովհաննիսյան'!K57) -> 13 | L57: =SUM('Մ.Մարտիրոսյան:Գ. Հովհաննիսյան'!L57) -> 0 | ... AS57: =SUM('Մ.Մարտիրոսյան:Գ. Հովհաննիսյան'!AS57) -> 0
A58: 4.9 | B58: ºñ»Ë³ÛÇ µÝ³ÏáõÃÛ³Ý í³ÛñÁ áñáß»Éáõ í»ñ³µ»ñÛ³É | E58: =SUM('Մ.Մարտիրոսյան:Գ. Հովհաննիսյան'!E58) -> 3 | F58: =SUM('Մ.Մարտիրոսյան:Գ. Հովհաննիսյան'!F58) -> 0 | G58: =SUM('Մ.Մարտիրոսյան:Գ. Հովհաննիսյան'!G58) -> 3 | H58: =SUM('Մ.Մարտիրոսյան:Գ. Հովհաննիսյան'!H58) -> 0 | I58: =SUM('Մ.Մարտիրոսյան:Գ. Հովհաննիսյան'!I58) -> 0 | J58: =SUM('Մ.Մարտիրոսյան:Գ. Հովհաննիսյան'!J58) -> 15 | K58: =SUM('Մ.Մարտիրոսյան:Գ. Հովհաննիսյան'!K58) -> 15 | L58: =SUM('Մ.Մարտիրոսյան:Գ. Հովհաննիսյան'!L58) -> 0 | ... AS58: =SUM('Մ.Մարտիրոսյան:Գ. Հովհաննիսյան'!AS58) -> 0
A59: 4.10 | B59: ºñ»Ë³ÛÇ Ñ»ï ï»ë³ÏóáõÃÛ³Ý Ï³ñ· ë³ÑÙ³Ý»Éáõ í»ñ³µ»ñÛ³É | E59: =SUM('Մ.Մարտիրոսյան:Գ. Հովհաննիսյան'!E59) -> 10 | F59: =SUM('Մ.Մարտիրոսյան:Գ. Հովհաննիսյան'!F59) -> 0 | G59: =SUM('Մ.Մարտիրոսյան:Գ. Հովհաննիսյան'!G59) -> 10 | H59: =SUM('Մ.Մարտիրոսյան:Գ. Հովհաննիսյան'!H59) -> 0 | I59: =SUM('Մ.Մարտիրոսյան:Գ. Հովհաննիսյան'!I59) -> 0 | J59: =SUM('Մ.Մարտիրոսյան:Գ. Հովհաննիսյան'!J59) -> 13 | K59: =SUM('Մ.Մարտիրոսյան:Գ. Հովհաննիսյան'!K59) -> 13 | L59: =SUM('Մ.Մարտիրոսյան:Գ. Հովհաննիսյան'!L59) -> 0 | ... AS59: =SUM('Մ.Մարտիրոսյան:Գ. Հովհաննիսյան'!AS59) -> 0
A60: 4.11 | B60: ²ÙáõëÇÝÝ»ñÇ ÁÝ¹Ñ³Ýáõñ ·áõÛùÁ µ³Å³Ý»Éáõ í»ñ³µ»ñÛ³É | E60: =SUM('Մ.Մարտիրոսյան:Գ. Հովհաննիսյան'!E60) -> 3 | F60: =SUM('Մ.Մարտիրոսյան:Գ. Հովհաննիսյան'!F60) -> 0 | G60: =SUM('Մ.Մարտիրոսյան:Գ. Հովհաննիսյան'!G60) -> 3 | H60: =SUM('Մ.Մարտիրոսյան:Գ. Հովհաննիսյան'!H60) -> 0 | I60: =SUM('Մ.Մարտիրոսյան:Գ. Հովհաննիսյան'!I60) -> 0 | J60: =SUM('Մ.Մարտիրոսյան:Գ. Հովհաննիսյան'!J60) -> 5 | K60: =SUM('Մ.Մարտիրոսյան:Գ. Հովհաննիսյան'!K60) -> 4 | L60: =SUM('Մ.Մարտիրոսյան:Գ. Հովհաննիսյան'!L60) -> 1 | ... AS60: =SUM('Մ.Մարտիրոսյան:Գ. Հովհաննիսյան'!AS60) -> 0
A61: 4.12 | B61: ²ÙáõëÝ³Ï³Ý å³ÛÙ³Ý³·ñÇ ÷á÷áËÙ³Ý Ï³Ù ÉáõÍÙ³Ý í»ñ³µ»ñÛ³É | E61: =SUM('Մ.Մարտիրոսյան:Գ. Հովհաննիսյան'!E61) -> 0 | F61: =SUM('Մ.Մարտիրոսյան:Գ. Հովհաննիսյան'!F61) -> 0 | G61: =SUM('Մ.Մարտիրոսյան:Գ. Հովհաննիսյան'!G61) -> 0 | H61: =SUM('Մ.Մարտիրոսյան:Գ. Հովհաննիսյան'!H61) -> 0 | I61: =SUM('Մ.Մարտիրոսյան:Գ. Հովհաննիսյան'!I61) -> 0 | J61: =SUM('Մ.Մարտիրոսյան:Գ. Հովհաննիսյան'!J61) -> 0 | K61: =SUM('Մ.Մարտիրոսյան:Գ. Հովհաննիսյան'!K61) -> 0 | L61: =SUM('Մ.Մարտիրոսյան:Գ. Հովհաննիսյան'!L61) -> 0 | ... AS61: =SUM('Մ.Մարտիրոսյան:Գ. Հովհաննիսյան'!AS61) -> 0
A62: 4.13 | B62: ²ÛÉ í»×»ñ | E62: =SUM('Մ.Մարտիրոսյան:Գ. Հովհաննիսյան'!E62) -> 3 | F62: =SUM('Մ.Մարտիրոսյան:Գ. Հովհաննիսյան'!F62) -> 0 | G62: =SUM('Մ.Մարտիրոսյան:Գ. Հովհաննիսյան'!G62) -> 3 | H62: =SUM('Մ.Մարտիրոսյան:Գ. Հովհաննիսյան'!H62) -> 0 | I62: =SUM('Մ.Մարտիրոսյան:Գ. Հովհաննիսյան'!I62) -> 0 | J62: =SUM('Մ.Մարտիրոսյան:Գ. Հովհաննիսյան'!J62) -> 7 | K62: =SUM('Մ.Մարտիրոսյան:Գ. Հովհաննիսյան'!K62) -> 5 | L62: =SUM('Մ.Մարտիրոսյան:Գ. Հովհաննիսյան'!L62) -> 2 | ... AS62: =SUM('Մ.Մարտիրոսյան:Գ. Հովհաննիսյան'!AS62) -> 0
A63: 5. | B63: Øï³íáñ ë»÷³Ï³ÝáõÃÛ³Ý Ñ»ï Ï³åí³ÍÇñ³í³Ñ³ñ³µ»ñáõÃÛáõÝÝ»ñÇ í»ñ³µ»ñÛ³É ¹³ï³Ï³Ý ·áñÍ»ñ | E63: =SUM(E64:E69) -> 0 | F63: =SUM(F64:F69) -> 0 | G63: =SUM(G64:G69) -> 0 | H63: =SUM(H64:H69) -> 0 | I63: =SUM(I64:I69) -> 0 | J63: =SUM(J64:J69) -> 0 | K63: =SUM(K64:K69) -> 0 | L63: =SUM(L64:L69) -> 0 | ... AS63: =SUM(AS64:AS69) -> 0
A64: 5.1 | B64: ÈÇó»Ý½³ÛÇÝ å³ÛÙ³Ý³·ñÇ ÉáõÍÙ³Ý, ÷á÷áËÙ³Ý ¨ ³Ýí³í»ñáõÃÛ³Ý í»ñ³µ»ñÛ³É | E64: =SUM('Մ.Մարտիրոսյան:Գ. Հովհաննիսյան'!E64) -> 0 | F64: =SUM('Մ.Մարտիրոսյան:Գ. Հովհաննիսյան'!F64) -> 0 | G64: =SUM('Մ.Մարտիրոսյան:Գ. Հովհաննիսյան'!G64) -> 0 | H64: =SUM('Մ.Մարտիրոսյան:Գ. Հովհաննիսյան'!H64) -> 0 | I64: =SUM('Մ.Մարտիրոսյան:Գ. Հովհաննիսյան'!I64) -> 0 | J64: =SUM('Մ.Մարտիրոսյան:Գ. Հովհաննիսյան'!J64) -> 0 | K64: =SUM('Մ.Մարտիրոսյան:Գ. Հովհաննիսյան'!K64) -> 0 | L64: =SUM('Մ.Մարտիրոսյան:Գ. Հովհաննիսյան'!L64) -> 0 | ... AS64: =SUM('Մ.Մարտիրոսյան:Գ. Հովհաննիսյան'!AS64) -> 0
A65: 5.2 | B65: Øï³íáñ ·áñÍáõÝ»áõÃÛ³Ý ³ñ¹ÛáõÝùÝ»ñ ëï»ÕÍ»Éáõ ¨ û·ï³·áñÍ»Éáõ å³ÛÙ³Ý³·ñÇ ÉáõÍÙ³Ý, ÷á÷áËÙ³Ý áõ ³Ýí³í»ñáõÃÛ³Ý í»ñ³µ»ñÛ³É | E65: =SUM('Մ.Մարտիրոսյան:Գ. Հովհաննիսյան'!E65) -> 0 | F65: =SUM('Մ.Մարտիրոսյան:Գ. Հովհաննիսյան'!F65) -> 0 | G65: =SUM('Մ.Մարտիրոսյան:Գ. Հովհաննիսյան'!G65) -> 0 | H65: =SUM('Մ.Մարտիրոսյան:Գ. Հովհաննիսյան'!H65) -> 0 | I65: =SUM('Մ.Մարտիրոսյան:Գ. Հովհաննիսյան'!I65) -> 0 | J65: =SUM('Մ.Մարտիրոսյան:Գ. Հովհաննիսյան'!J65) -> 0 | K65: =SUM('Մ.Մարտիրոսյան:Գ. Հովհաննիսյան'!K65) -> 0 | L65: =SUM('Մ.Մարտիրոսյան:Գ. Հովհաննիսյան'!L65) -> 0 | ... AS65: =SUM('Մ.Մարտիրոսյան:Գ. Հովհաննիսյան'!AS65) -> 0
A66: 5.3 | B66: Ð»ÕÇÝ³Ï³ÛÇÝ ¨ Ñ³ñ³ÏÇó Çñ³íáõÝùÝ»ñÇ í»ñ³µ»ñÛ³É | E66: =SUM('Մ.Մարտիրոսյան:Գ. Հովհաննիսյան'!E66) -> 0 | F66: =SUM('Մ.Մարտիրոսյան:Գ. Հովհաննիսյան'!F66) -> 0 | G66: =SUM('Մ.Մարտիրոսյան:Գ. Հովհաննիսյան'!G66) -> 0 | H66: =SUM('Մ.Մարտիրոսյան:Գ. Հովհաննիսյան'!H66) -> 0 | I66: =SUM('Մ.Մարտիրոսյան:Գ. Հովհաննիսյան'!I66) -> 0 | J66: =SUM('Մ.Մարտիրոսյան:Գ. Հովհաննիսյան'!J66) -> 0 | K66: =SUM('Մ.Մարտիրոսյան:Գ. Հովհաննիսյան'!K66) -> 0 | L66: =SUM('Մ.Մարտիրոսյան:Գ. Հովհաննիսյան'!L66) -> 0 | ... AS66: =SUM('Մ.Մարտիրոսյան:Գ. Հովհաննիսյան'!AS66) -> 0
A67: 5.4 | B67: üÇñÙ³ÛÇÝ ³Ýí³ÝÙ³Ý í»ñ³µ»ñÛ³É | E67: =SUM('Մ.Մարտիրոսյան:Գ. Հովհաննիսյան'!E67) -> 0 | F67: =SUM('Մ.Մարտիրոսյան:Գ. Հովհաննիսյան'!F67) -> 0 | G67: =SUM('Մ.Մարտիրոսյան:Գ. Հովհաննիսյան'!G67) -> 0 | H67: =SUM('Մ.Մարտիրոսյան:Գ. Հովհաննիսյան'!H67) -> 0 | I67: =SUM('Մ.Մարտիրոսյան:Գ. Հովհաննիսյան'!I67) -> 0 | J67: =SUM('Մ.Մարտիրոսյան:Գ. Հովհաննիսյան'!J67) -> 0 | K67: =SUM('Մ.Մարտիրոսյան:Գ. Հովհաննիսյան'!K67) -> 0 | L67: =SUM('Մ.Մարտիրոսյան:Գ. Հովհաննիսյան'!L67) -> 0 | ... AS67: =SUM('Մ.Մարտիրոսյան:Գ. Հովհաննիսյան'!AS67) -> 0
A68: 5.5 | B68: ²åñ³Ýù³ÛÇÝ Ýß³ÝÇ í»ñ³µ»ñÛ³É | E68: =SUM('Մ.Մարտիրոսյան:Գ. Հովհաննիսյան'!E68) -> 0 | F68: =SUM('Մ.Մարտիրոսյան:Գ. Հովհաննիսյան'!F68) -> 0 | G68: =SUM('Մ.Մարտիրոսյան:Գ. Հովհաննիսյան'!G68) -> 0 | H68: =SUM('Մ.Մարտիրոսյան:Գ. Հովհաննիսյան'!H68) -> 0 | I68: =SUM('Մ.Մարտիրոսյան:Գ. Հովհաննիսյան'!I68) -> 0 | J68: =SUM('Մ.Մարտիրոսյան:Գ. Հովհաննիսյան'!J68) -> 0 | K68: =SUM('Մ.Մարտիրոսյան:Գ. Հովհաննիսյան'!K68) -> 0 | L68: =SUM('Մ.Մարտիրոսյան:Գ. Հովհաննիսյան'!L68) -> 0 | ... AS68: =SUM('Մ.Մարտիրոսյան:Գ. Հովհաննիսյան'!AS68) -> 0
A69: 5.6 | B69: ²ÛÉ í»×»ñ | E69: =SUM('Մ.Մարտիրոսյան:Գ. Հովհաննիսյան'!E69) -> 0 | F69: =SUM('Մ.Մարտիրոսյան:Գ. Հովհաննիսյան'!F69) -> 0 | G69: =SUM('Մ.Մարտիրոսյան:Գ. Հովհաննիսյան'!G69) -> 0 | H69: =SUM('Մ.Մարտիրոսյան:Գ. Հովհաննիսյան'!H69) -> 0 | I69: =SUM('Մ.Մարտիրոսյան:Գ. Հովհաննիսյան'!I69) -> 0 | J69: =SUM('Մ.Մարտիրոսյան:Գ. Հովհաննիսյան'!J69) -> 0 | K69: =SUM('Մ.Մարտիրոսյան:Գ. Հովհաննիսյան'!K69) -> 0 | L69: =SUM('Մ.Մարտիրոսյան:Գ. Հովհաննիսյան'!L69) -> 0 | ... AS69: =SUM('Մ.Մարտիրոսյան:Գ. Հովհաննիսյան'!AS69) -> 0
A70: 6. | B70: ²ßË³ï³Ýù³ÛÇÝ Çñ³í³Ñ³ñ³µ»ñáõÃÛáõÝÝ»ñÇ í»ñ³µ»ñÛ³É ¹³ï³Ï³Ý ·áñÍ»ñ | E70: =SUM(E71:E76) -> 15 | F70: =SUM(F71:F76) -> 1 | G70: =SUM(G71:G76) -> 14 | H70: =SUM(H71:H76) -> 0 | I70: =SUM(I71:I76) -> 0 | J70: =SUM(J71:J76) -> 10 | K70: =SUM(K71:K76) -> 7 | L70: =SUM(L71:L76) -> 3 | ... AS70: =SUM(AS71:AS76) -> 0
A71: 6.1 | B71: ²ßË³ï³Ýù³ÛÇÝ å³ÛÙ³Ý³·ñ»ñÇ í»ñ³µ»ñÛ³É | E71: =SUM('Մ.Մարտիրոսյան:Գ. Հովհաննիսյան'!E71) -> 0 | F71: =SUM('Մ.Մարտիրոսյան:Գ. Հովհաննիսյան'!F71) -> 0 | G71: =SUM('Մ.Մարտիրոսյան:Գ. Հովհաննիսյան'!G71) -> 0 | H71: =SUM('Մ.Մարտիրոսյան:Գ. Հովհաննիսյան'!H71) -> 0 | I71: =SUM('Մ.Մարտիրոսյան:Գ. Հովհաննիսյան'!I71) -> 0 | J71: =SUM('Մ.Մարտիրոսյան:Գ. Հովհաննիսյան'!J71) -> 1 | K71: =SUM('Մ.Մարտիրոսյան:Գ. Հովհաննիսյան'!K71) -> 0 | L71: =SUM('Մ.Մարտիրոսյան:Գ. Հովհաննիսյան'!L71) -> 1 | ... AS71: =SUM('Մ.Մարտիրոսյան:Գ. Հովհաննիսյան'!AS71) -> 0
A72: 6.2 | B72: ²ßË³ï³ÝùáõÙ í»ñ³Ï³Ý·Ý»Éáõ í»ñ³µ»ñÛ³É | E72: =SUM('Մ.Մարտիրոսյան:Գ. Հովհաննիսյան'!E72) -> 4 | F72: =SUM('Մ.Մարտիրոսյան:Գ. Հովհաննիսյան'!F72) -> 1 | G72: =SUM('Մ.Մարտիրոսյան:Գ. Հովհաննիսյան'!G72) -> 3 | H72: =SUM('Մ.Մարտիրոսյան:Գ. Հովհաննիսյան'!H72) -> 0 | I72: =SUM('Մ.Մարտիրոսյան:Գ. Հովհաննիսյան'!I72) -> 0 | J72: =SUM('Մ.Մարտիրոսյան:Գ. Հովհաննիսյան'!J72) -> 7 | K72: =SUM('Մ.Մարտիրոսյան:Գ. Հովհաննիսյան'!K72) -> 7 | L72: =SUM('Մ.Մարտիրոսյան:Գ. Հովհաննիսյան'!L72) -> 0 | ... AS72: =SUM('Մ.Մարտիրոսյան:Գ. Հովհաննիսյան'!AS72) -> 0
A73: 6.3 | B73: ¶áñÍ³¹áõÉÝ ³ÝûñÇÝ³Ï³Ý ×³Ý³ã»Éáõ í»ñ³µ»ñÛ³É | E73: =SUM('Մ.Մարտիրոսյան:Գ. Հովհաննիսյան'!E73) -> 0 | F73: =SUM('Մ.Մարտիրոսյան:Գ. Հովհաննիսյան'!F73) -> 0 | G73: =SUM('Մ.Մարտիրոսյան:Գ. Հովհաննիսյան'!G73) -> 0 | H73: =SUM('Մ.Մարտիրոսյան:Գ. Հովհաննիսյան'!H73) -> 0 | I73: =SUM('Մ.Մարտիրոսյան:Գ. Հովհաննիսյան'!I73) -> 0 | J73: =SUM('Մ.Մարտիրոսյան:Գ. Հովհաննիսյան'!J73) -> 0 | K73: =SUM('Մ.Մարտիրոսյան:Գ. Հովհաննիսյան'!K73) -> 0 | L73: =SUM('Մ.Մարտիրոսյան:Գ. Հովհաննիսյան'!L73) -> 0 | ... AS73: =SUM('Մ.Մարտիրոսյան:Գ. Հովհաննիսյան'!AS73) -> 0
A74: 6.4 | B74: Ð³ñÏ³¹Çñ å³ñ³åáõñ¹Ç Ñ³ïáõóÙ³Ý í»ñ³µ»ñÛ³É | E74: =SUM('Մ.Մարտիրոսյան:Գ. Հովհաննիսյան'!E74) -> 0 | F74: =SUM('Մ.Մարտիրոսյան:Գ. Հովհաննիսյան'!F74) -> 0 | G74: =SUM('Մ.Մարտիրոսյան:Գ. Հովհաննիսյան'!G74) -> 0 | H74: =SUM('Մ.Մարտիրոսյան:Գ. Հովհաննիսյան'!H74) -> 0 | I74: =SUM('Մ.Մարտիրոսյան:Գ. Հովհաննիսյան'!I74) -> 0 | J74: =SUM('Մ.Մարտիրոսյան:Գ. Հովհաննիսյան'!J74) -> 0 | K74: =SUM('Մ.Մարտիրոսյան:Գ. Հովհաննիսյան'!K74) -> 0 | L74: =SUM('Մ.Մարտիրոսյան:Գ. Հովհաննիսյան'!L74) -> 0 | ... AS74: =SUM('Մ.Մարտիրոսյան:Գ. Հովհաննիսյան'!AS74) -> 0
A75: 6.5 | B75: âí×³ñí³Í ³ßË³ï³í³ñÓÇ ¨/Ï³Ù ³ÛÉ í×³ñÝ»ñÇ µéÝ³·³ÝÓÙ³Ý í»ñ³µ»ñÛ³É | E75: =SUM('Մ.Մարտիրոսյան:Գ. Հովհաննիսյան'!E75) -> 3 | F75: =SUM('Մ.Մարտիրոսյան:Գ. Հովհաննիսյան'!F75) -> 0 | G75: =SUM('Մ.Մարտիրոսյան:Գ. Հովհաննիսյան'!G75) -> 3 | H75: =SUM('Մ.Մարտիրոսյան:Գ. Հովհաննիսյան'!H75) -> 0 | I75: =SUM('Մ.Մարտիրոսյան:Գ. Հովհաննիսյան'!I75) -> 0 | J75: =SUM('Մ.Մարտիրոսյան:Գ. Հովհաննիսյան'!J75) -> 1 | K75: =SUM('Մ.Մարտիրոսյան:Գ. Հովհաննիսյան'!K75) -> 0 | L75: =SUM('Մ.Մարտիրոսյան:Գ. Հովհաննիսյան'!L75) -> 1 | ... AS75: =SUM('Մ.Մարտիրոսյան:Գ. Հովհաննիսյան'!AS75) -> 0
A76: 6.6 | B76: ²ÛÉ í»×»ñ | E76: =SUM('Մ.Մարտիրոսյան:Գ. Հովհաննիսյան'!E76) -> 8 | F76: =SUM('Մ.Մարտիրոսյան:Գ. Հովհաննիսյան'!F76) -> 0 | G76: =SUM('Մ.Մարտիրոսյան:Գ. Հովհաննիսյան'!G76) -> 8 | H76: =SUM('Մ.Մարտիրոսյան:Գ. Հովհաննիսյան'!H76) -> 0 | I76: =SUM('Մ.Մարտիրոսյան:Գ. Հովհաննիսյան'!I76) -> 0 | J76: =SUM('Մ.Մարտիրոսյան:Գ. Հովհաննիսյան'!J76) -> 1 | K76: =SUM('Մ.Մարտիրոսյան:Գ. Հովհաննիսյան'!K76) -> 0 | L76: =SUM('Մ.Մարտիրոսյան:Գ. Հովհաննիսյան'!L76) -> 1 | ... AS76: =SUM('Մ.Մարտիրոսյան:Գ. Հովհաննիսյան'!AS76) -> 0
A77: 7. | B77: Æñ³í³µ³Ý³Ï³Ý ³ÝÓÇ ·áñÍáõÝ»áõÃÛáõÝÇó µËáÕ Çñ³í³Ñ³ñ³µ»ñáõÃÛáõÝÝ»ñÇ í»ñ³µ»ñÛ³É ¹³ï³Ï³Ý ·áñÍ»ñ | E77: =SUM(E78:E79) -> 0 | F77: =SUM(F78:F79) -> 0 | G77: =SUM(G78:G79) -> 0 | H77: =SUM(H78:H79) -> 0 | I77: =SUM(I78:I79) -> 0 | J77: =SUM(J78:J79) -> 2 | K77: =SUM(K78:K79) -> 1 | L77: =SUM(L78:L79) -> 1 | ... AS77: =SUM(AS78:AS79) -> 0
A78: 7.1 | B78: Îáñåáñ³ïÇí í»×»ñ | E78: =SUM('Մ.Մարտիրոսյան:Գ. Հովհաննիսյան'!E78) -> 0 | F78: =SUM('Մ.Մարտիրոսյան:Գ. Հովհաննիսյան'!F78) -> 0 | G78: =SUM('Մ.Մարտիրոսյան:Գ. Հովհաննիսյան'!G78) -> 0 | H78: =SUM('Մ.Մարտիրոսյան:Գ. Հովհաննիսյան'!H78) -> 0 | I78: =SUM('Մ.Մարտիրոսյան:Գ. Հովհաննիսյան'!I78) -> 0 | J78: =SUM('Մ.Մարտիրոսյան:Գ. Հովհաննիսյան'!J78) -> 2 | K78: =SUM('Մ.Մարտիրոսյան:Գ. Հովհաննիսյան'!K78) -> 1 | L78: =SUM('Մ.Մարտիրոսյան:Գ. Հովհաննիսյան'!L78) -> 1 | ... AS78: =SUM('Մ.Մարտիրոսյան:Գ. Հովհաննիսյան'!AS78) -> 0
A79: 7.2 | B79: ²ÛÉ í»×»ñ | E79: =SUM('Մ.Մարտիրոսյան:Գ. Հովհաննիսյան'!E79) -> 0 | F79: =SUM('Մ.Մարտիրոսյան:Գ. Հովհաննիսյան'!F79) -> 0 | G79: =SUM('Մ.Մարտիրոսյան:Գ. Հովհաննիսյան'!G79) -> 0 | H79: =SUM('Մ.Մարտիրոսյան:Գ. Հովհաննիսյան'!H79) -> 0 | I79: =SUM('Մ.Մարտիրոսյան:Գ. Հովհաննիսյան'!I79) -> 0 | J79: =SUM('Մ.Մարտիրոսյան:Գ. Հովհաննիսյան'!J79) -> 0 | K79: =SUM('Մ.Մարտիրոսյան:Գ. Հովհաննիսյան'!K79) -> 0 | L79: =SUM('Մ.Մարտիրոսյան:Գ. Հովհաննիսյան'!L79) -> 0 | ... AS79: =SUM('Մ.Մարտիրոսյան:Գ. Հովհաննիսյան'!AS79) -> 0
A80: 8. | B80: Ð³ïáõÏ í³ñáõÛÃÇ ¹³ï³Ï³Ý ·áñÍ»ñ | E80: =SUM(E81:E101) -> 63 | F80: =SUM(F81:F101) -> 9 | G80: =SUM(G81:G101) -> 54 | H80: =SUM(H81:H101) -> 0 | I80: =SUM(I81:I101) -> 0 | J80: =SUM(J81:J101) -> 202 | K80: =SUM(K81:K101) -> 166 | L80: =SUM(L81:L101) -> 39 | ... AS80: =SUM(AS81:AS101) -> 0
A81: 8.1 | B81: ²Ýã³÷³Ñ³ëÇÝ ÉñÇí ·áñÍáõÝ³Ï ×³Ý³ã»Éáõ /¿Ù³ÝëÇå³óÇ³/ í»ñ³µ»ñÛ³É | E81: =SUM('Մ.Մարտիրոսյան:Գ. Հովհաննիսյան'!E81) -> 0 | F81: =SUM('Մ.Մարտիրոսյան:Գ. Հովհաննիսյան'!F81) -> 0 | G81: =SUM('Մ.Մարտիրոսյան:Գ. Հովհաննիսյան'!G81) -> 0 | H81: =SUM('Մ.Մարտիրոսյան:Գ. Հովհաննիսյան'!H81) -> 0 | I81: =SUM('Մ.Մարտիրոսյան:Գ. Հովհաննիսյան'!I81) -> 0 | J81: =SUM('Մ.Մարտիրոսյան:Գ. Հովհաննիսյան'!J81) -> 0 | K81: =SUM('Մ.Մարտիրոսյան:Գ. Հովհաննիսյան'!K81) -> 0 | L81: =SUM('Մ.Մարտիրոսյան:Գ. Հովհաննիսյան'!L81) -> 0 | ... AS81: =SUM('Մ.Մարտիրոսյան:Գ. Հովհաննիսյան'!AS81) -> 0
A82: 8.2 | B82: ø³Õ³ù³óáõÝ ³Ý·áñÍáõÝ³Ï Ï³Ù ë³ÑÙ³Ý³÷³Ï ·áñÍáõÝ³Ï ×³Ý³ã»Éáõ í»ñ³µ»ñÛ³É | E82: =SUM('Մ.Մարտիրոսյան:Գ. Հովհաննիսյան'!E82) -> 12 | F82: =SUM('Մ.Մարտիրոսյան:Գ. Հովհաննիսյան'!F82) -> 8 | G82: =SUM('Մ.Մարտիրոսյան:Գ. Հովհաննիսյան'!G82) -> 4 | H82: =SUM('Մ.Մարտիրոսյան:Գ. Հովհաննիսյան'!H82) -> 0 | I82: =SUM('Մ.Մարտիրոսյան:Գ. Հովհաննիսյան'!I82) -> 0 | J82: =SUM('Մ.Մարտիրոսյան:Գ. Հովհաննիսյան'!J82) -> 13 | K82: =SUM('Մ.Մարտիրոսյան:Գ. Հովհաննիսյան'!K82) -> 13 | L82: =SUM('Մ.Մարտիրոսյան:Գ. Հովհաննիսյան'!L82) -> 0 | ... AS82: =SUM('Մ.Մարտիրոսյան:Գ. Հովհաննիսյան'!AS82) -> 0
A83: 8.3 | B83: ø³Õ³ù³óáõÝ Ñá·»µáõÅ³Ï³Ý ÑÇí³Ý¹³Ýáó³ÛÇÝ Ñ³ñÏ³¹Çñ µáõÅÙ³Ý »ÝÃ³ñÏ»Éáõ í»ñ³µ»ñÛ³É | E83: =SUM('Մ.Մարտիրոսյան:Գ. Հովհաննիսյան'!E83) -> 0 | F83: =SUM('Մ.Մարտիրոսյան:Գ. Հովհաննիսյան'!F83) -> 0 | G83: =SUM('Մ.Մարտիրոսյան:Գ. Հովհաննիսյան'!G83) -> 0 | H83: =SUM('Մ.Մարտիրոսյան:Գ. Հովհաննիսյան'!H83) -> 0 | I83: =SUM('Մ.Մարտիրոսյան:Գ. Հովհաննիսյան'!I83) -> 0 | J83: =SUM('Մ.Մարտիրոսյան:Գ. Հովհաննիսյան'!J83) -> 1 | K83: =SUM('Մ.Մարտիրոսյան:Գ. Հովհաննիսյան'!K83) -> 1 | L83: =SUM('Մ.Մարտիրոսյան:Գ. Հովհաննիսյան'!L83) -> 0 | ... AS83: =SUM('Մ.Մարտիրոսյան:Գ. Հովհաննիսյան'!AS83) -> 0
A84: 8.4 | B84: ø³Õ³ù³óáõÝ ³ÝÑ³Ûï µ³ó³Ï³ÛáÕ Ï³Ù Ù³Ñ³ó³Í ×³Ý³ã»Éáõ í»ñ³µ»ñÛ³É | E84: =SUM('Մ.Մարտիրոսյան:Գ. Հովհաննիսյան'!E84) -> 9 | F84: =SUM('Մ.Մարտիրոսյան:Գ. Հովհաննիսյան'!F84) -> 0 | G84: =SUM('Մ.Մարտիրոսյան:Գ. Հովհաննիսյան'!G84) -> 9 | H84: =SUM('Մ.Մարտիրոսյան:Գ. Հովհաննիսյան'!H84) -> 0 | I84: =SUM('Մ.Մարտիրոսյան:Գ. Հովհաննիսյան'!I84) -> 0 | J84: =SUM('Մ.Մարտիրոսյան:Գ. Հովհաննիսյան'!J84) -> 34 | K84: =SUM('Մ.Մարտիրոսյան:Գ. Հովհաննիսյան'!K84) -> 25 | L84: =SUM('Մ.Մարտիրոսյան:Գ. Հովհաննիսյան'!L84) -> 9 | ... AS84: =SUM('Մ.Մարտիրոսյան:Գ. Հովհաննիսյան'!AS84) -> 0
A85: 8.5 | B85: ø³Õ³ù³óÇ³Ï³Ý Ï³óáõÃÛ³Ý ³Ïï»ñÇ ·ñ³éáõÙÝ»ñÇ ³Ý×ßïáõÃÛáõÝÝ»ñÁ å³ñ½»Éáõ í»ñ³µ»ñÛ³É | E85: =SUM('Մ.Մարտիրոսյան:Գ. Հովհաննիսյան'!E85) -> 0 | F85: =SUM('Մ.Մարտիրոսյան:Գ. Հովհաննիսյան'!F85) -> 0 | G85: =SUM('Մ.Մարտիրոսյան:Գ. Հովհաննիսյան'!G85) -> 0 | H85: =SUM('Մ.Մարտիրոսյան:Գ. Հովհաննիսյան'!H85) -> 0 | I85: =SUM('Մ.Մարտիրոսյան:Գ. Հովհաննիսյան'!I85) -> 0 | J85: =SUM('Մ.Մարտիրոսյան:Գ. Հովհաննիսյան'!J85) -> 1 | K85: =SUM('Մ.Մարտիրոսյան:Գ. Հովհաննիսյան'!K85) -> 0 | L85: =SUM('Մ.Մարտիրոսյան:Գ. Հովհաննիսյան'!L85) -> 1 | ... AS85: =SUM('Մ.Մարտիրոսյան:Գ. Հովհաննիսյան'!AS85) -> 0
A86: 8.6 | B86: ¶áõÛùÁ ïÇñ³½áõñÏ ×³Ý³ã»Éáõ í»ñ³µ»ñÛ³É | E86: =SUM('Մ.Մարտիրոսյան:Գ. Հովհաննիսյան'!E86) -> 1 | F86: =SUM('Մ.Մարտիրոսյան:Գ. Հովհաննիսյան'!F86) -> 0 | G86: =SUM('Մ.Մարտիրոսյան:Գ. Հովհաննիսյան'!G86) -> 1 | H86: =SUM('Մ.Մարտիրոսյան:Գ. Հովհաննիսյան'!H86) -> 0 | I86: =SUM('Մ.Մարտիրոսյան:Գ. Հովհաննիսյան'!I86) -> 0 | J86: =SUM('Մ.Մարտիրոսյան:Գ. Հովհաննիսյան'!J86) -> 0 | K86: =SUM('Մ.Մարտիրոսյան:Գ. Հովհաննիսյան'!K86) -> 0 | L86: =SUM('Մ.Մարտիրոսյան:Գ. Հովհաննիսյան'!L86) -> 0 | ... AS86: =SUM('Մ.Մարտիրոսյան:Գ. Հովհաննիսյան'!AS86) -> 0
A87: 8.6.1 | B87: ²Û¹ ÃíáõÙª ³Ýß³ñÅ ·áõÛùÁ | E87: =SUM('Մ.Մարտիրոսյան:Գ. Հովհաննիսյան'!E87) -> 0 | F87: =SUM('Մ.Մարտիրոսյան:Գ. Հովհաննիսյան'!F87) -> 0 | G87: =SUM('Մ.Մարտիրոսյան:Գ. Հովհաննիսյան'!G87) -> 0 | H87: =SUM('Մ.Մարտիրոսյան:Գ. Հովհաննիսյան'!H87) -> 0 | I87: =SUM('Մ.Մարտիրոսյան:Գ. Հովհաննիսյան'!I87) -> 0 | J87: =SUM('Մ.Մարտիրոսյան:Գ. Հովհաննիսյան'!J87) -> 0 | K87: =SUM('Մ.Մարտիրոսյան:Գ. Հովհաննիսյան'!K87) -> 0 | L87: =SUM('Մ.Մարտիրոսյան:Գ. Հովհաննիսյան'!L87) -> 0 | ... AS87: =SUM('Մ.Մարտիրոսյան:Գ. Հովհաննիսյան'!AS87) -> 0
A88: 8.6.2 | B88: ²Û¹ ÃíáõÙª ß³ñÅ³Ï³Ý ·áõÛùÁ | E88: =SUM('Մ.Մարտիրոսյան:Գ. Հովհաննիսյան'!E88) -> 0 | F88: =SUM('Մ.Մարտիրոսյան:Գ. Հովհաննիսյան'!F88) -> 0 | G88: =SUM('Մ.Մարտիրոսյան:Գ. Հովհաննիսյան'!G88) -> 0 | H88: =SUM('Մ.Մարտիրոսյան:Գ. Հովհաննիսյան'!H88) -> 0 | I88: =SUM('Մ.Մարտիրոսյան:Գ. Հովհաննիսյան'!I88) -> 0 | J88: =SUM('Մ.Մարտիրոսյան:Գ. Հովհաննիսյան'!J88) -> 0 | K88: =SUM('Մ.Մարտիրոսյան:Գ. Հովհաննիսյան'!K88) -> 0 | L88: =SUM('Մ.Մարտիրոսյան:Գ. Հովհաննիսյան'!L88) -> 0 | ... AS88: =SUM('Մ.Մարտիրոսյան:Գ. Հովհաննիսյան'!AS88) -> 0
A89: 8.7 | B89: Æñ³í³µ³Ý³Ï³Ý Ýß³Ý³ÏáõÃÛáõÝ áõÝ»óáÕ ÷³ëï»ñÇ Ñ³ëï³ïÙ³Ý í»ñ³µ»ñÛ³É | E89: =SUM('Մ.Մարտիրոսյան:Գ. Հովհաննիսյան'!E89) -> 1 | F89: =SUM('Մ.Մարտիրոսյան:Գ. Հովհաննիսյան'!F89) -> 0 | G89: =SUM('Մ.Մարտիրոսյան:Գ. Հովհաննիսյան'!G89) -> 1 | H89: =SUM('Մ.Մարտիրոսյան:Գ. Հովհաննիսյան'!H89) -> 0 | I89: =SUM('Մ.Մարտիրոսյան:Գ. Հովհաննիսյան'!I89) -> 0 | J89: =SUM('Մ.Մարտիրոսյան:Գ. Հովհաննիսյան'!J89) -> 6 | K89: =SUM('Մ.Մարտիրոսյան:Գ. Հովհաննիսյան'!K89) -> 5 | L89: =SUM('Մ.Մարտիրոսյան:Գ. Հովհաննիսյան'!L89) -> 1 | ... AS89: =SUM('Մ.Մարտիրոսյան:Գ. Հովհաննիսյան'!AS89) -> 0
A90: 8.7.1 | B90: ²ÝÓ³Ýó ³½·³Ïó³Ï³Ý Ï³åÁ Ñ³ëï³ï»Éáõ í»ñ³µ»ñÛ³É | E90: =SUM('Մ.Մարտիրոսյան:Գ. Հովհաննիսյան'!E90) -> 10 | F90: =SUM('Մ.Մարտիրոսյան:Գ. Հովհաննիսյան'!F90) -> 0 | G90: =SUM('Մ.Մարտիրոսյան:Գ. Հովհաննիսյան'!G90) -> 10 | H90: =SUM('Մ.Մարտիրոսյան:Գ. Հովհաննիսյան'!H90) -> 0 | I90: =SUM('Մ.Մարտիրոսյան:Գ. Հովհաննիսյան'!I90) -> 0 | J90: =SUM('Մ.Մարտիրոսյան:Գ. Հովհաննիսյան'!J90) -> 22 | K90: =SUM('Մ.Մարտիրոսյան:Գ. Հովհաննիսյան'!K90) -> 17 | L90: =SUM('Մ.Մարտիրոսյան:Գ. Հովհաննիսյան'!L90) -> 5 | ... AS90: =SUM('Մ.Մարտիրոսյան:Գ. Հովհաննիսյան'!AS90) -> 0
A91: 8.7.2 | B91: ²ÝÓÇª áõñÇßÇ ËÝ³ÙùÇ ï³Ï ·ïÝí»Éáõ í»ñ³µ»ñÛ³É | E91: =SUM('Մ.Մարտիրոսյան:Գ. Հովհաննիսյան'!E91) -> 0 | F91: =SUM('Մ.Մարտիրոսյան:Գ. Հովհաննիսյան'!F91) -> 0 | G91: =SUM('Մ.Մարտիրոսյան:Գ. Հովհաննիսյան'!G91) -> 0 | H91: =SUM('Մ.Մարտիրոսյան:Գ. Հովհաննիսյան'!H91) -> 0 | I91: =SUM('Մ.Մարտիրոսյան:Գ. Հովհաննիսյան'!I91) -> 0 | J91: =SUM('Մ.Մարտիրոսյան:Գ. Հովհաննիսյան'!J91) -> 4 | K91: =SUM('Մ.Մարտիրոսյան:Գ. Հովհաննիսյան'!K91) -> 3 | L91: =SUM('Մ.Մարտիրոսյան:Գ. Հովհաննիսյան'!L91) -> 1 | ... AS91: =SUM('Մ.Մարտիրոսյան:Գ. Հովհաննիսյան'!AS91) -> 0
A92: 8.7.3 | B92: ÌÝÝ¹Û³Ý, áñ¹»·ñÙ³Ý, ³ÙáõëÝáõÃÛ³Ý, ³å³Ñ³ñ½³ÝÇ ¨ Ù³Ñí³Ý ·ñ³ÝóÙ³Ý í»ñ³µ»ñÛ³É | E92: =SUM('Մ.Մարտիրոսյան:Գ. Հովհաննիսյան'!E92) -> 3 | F92: =SUM('Մ.Մարտիրոսյան:Գ. Հովհաննիսյան'!F92) -> 0 | G92: =SUM('Մ.Մարտիրոսյան:Գ. Հովհաննիսյան'!G92) -> 3 | H92: =SUM('Մ.Մարտիրոսյան:Գ. Հովհաննիսյան'!H92) -> 0 | I92: =SUM('Մ.Մարտիրոսյան:Գ. Հովհաննիսյան'!I92) -> 0 | J92: =SUM('Մ.Մարտիրոսյան:Գ. Հովհաննիսյան'!J92) -> 18 | K92: =SUM('Մ.Մարտիրոսյան:Գ. Հովհաննիսյան'!K92) -> 14 | L92: =SUM('Մ.Մարտիրոսյան:Գ. Հովհաննիսյան'!L92) -> 4 | ... AS92: =SUM('Մ.Մարտիրոսյան:Գ. Հովհաննիսյան'!AS92) -> 0
... A100: 8.8 | B100: Àëï Ý»ñÏ³Û³óÝáÕÇ ¨ ûñ¹»ñ³ÛÇÝ Ïáñóñ³Í ³ñÅ»ÃÕÃ»ñáí Ñ³í³ëïí³Í Çñ³íáõÝùÝ»ñÁ í»ñ³Ï³Ý·Ý»Éáõ í»ñ³µ»ñÛ³É | E100: =SUM('Մ.Մարտիրոսյան:Գ. Հովհաննիսյան'!E100) -> 0 | F100: =SUM('Մ.Մարտիրոսյան:Գ. Հովհաննիսյան'!F100) -> 0 | G100: =SUM('Մ.Մարտիրոսյան:Գ. Հովհաննիսյան'!G100) -> 0 | H100: =SUM('Մ.Մարտիրոսյան:Գ. Հովհաննիսյան'!H100) -> 0 | I100: =SUM('Մ.Մարտիրոսյան:Գ. Հովհաննիսյան'!I100) -> 0 | J100: =SUM('Մ.Մարտիրոսյան:Գ. Հովհաննիսյան'!J100) -> 0 | K100: =SUM('Մ.Մարտիրոսյան:Գ. Հովհաննիսյան'!K100) -> 0 | L100: =SUM('Մ.Մարտիրոսյան:Գ. Հովհաննիսյան'!L100) -> 0 | ... AS100: =SUM('Մ.Մարտիրոսյան:Գ. Հովհաննիսյան'!AS100) -> 0
A101: 8.10 | B101: ²ÛÉ í»×»ñ | E101: =SUM('Մ.Մարտիրոսյան:Գ. Հովհաննիսյան'!E101) -> 0 | F101: =SUM('Մ.Մարտիրոսյան:Գ. Հովհաննիսյան'!F101) -> 0 | G101: =SUM('Մ.Մարտիրոսյան:Գ. Հովհաննիսյան'!G101) -> 0 | H101: =SUM('Մ.Մարտիրոսյան:Գ. Հովհաննիսյան'!H101) -> 0 | I101: =SUM('Մ.Մարտիրոսյան:Գ. Հովհաննիսյան'!I101) -> 0 | J101: 1 | K101: =SUM('Մ.Մարտիրոսյան:Գ. Հովհաննիսյան'!K101) -> 4 | L101: 1 | M101: =SUM('Մ.Մարտիրոսյան:Գ. Հովհաննիսյան'!M101) -> 1 | N101: =SUM('Մ.Մարտիրոսյան:Գ. Հովհաննիսյան'!N101) -> 0 | O101: =SUM('Մ.Մարտիրոսյան:Գ. Հովհաննիսյան'!O101) -> 4 | P101: =SUM('Մ.Մարտիրոսյան:Գ. Հովհաննիսյան'!P101) -> 4 | Q101: =SUM('Մ.Մարտիրոսյան:Գ. Հովհաննիսյան'!Q101) -> 0 | R101: =SUM('Մ.Մարտիրոսյան:Գ. Հովհաննիսյան'!R101) -> 0 | S101: =SUM('Մ.Մարտիրոսյան:Գ. Հովհաննիսյան'!S101) -> 0 | T101: =SUM('Մ.Մարտիրոսյան:Գ. Հովհաննիսյան'!T101) -> 0 | ... AS101: =SUM('Մ.Մարտիրոսյան:Գ. Հովհաննիսյան'!AS101) -> 0
A102: 9. | B102: Ð³ïáõÏ Ñ³Ûó³ÛÇÝ í³ñáõÛÃÇ ¹³ï³Ï³Ý ·áñÍ»ñ | E102: =SUM(E103:E105) -> 0 | F102: =SUM(F103:F105) -> 0 | G102: =SUM(G103:G105) -> 0 | H102: =SUM(H103:H105) -> 0 | I102: =SUM(I103:I105) -> 0 | J102: =SUM(J103:J105) -> 0 | K102: =SUM(K103:K105) -> 0 | L102: =SUM(L103:L105) -> 0 | ... AS102: =SUM(AS103:AS105) -> 0
A103: 9.1 | B103: ø³Õ³ù³óáõ ÏÛ³ÝùÇÝ Ï³Ù ³éáÕçáõÃÛ³ÝÝ ëå³éÝ³óáÕ íï³Ý·Ç í»ñ³µ»ñÛ³É | E103: =SUM('Մ.Մարտիրոսյան:Գ. Հովհաննիսյան'!E103) -> 0 | F103: =SUM('Մ.Մարտիրոսյան:Գ. Հովհաննիսյան'!F103) -> 0 | G103: =SUM('Մ.Մարտիրոսյան:Գ. Հովհաննիսյան'!G103) -> 0 | H103: =SUM('Մ.Մարտիրոսյան:Գ. Հովհաննիսյան'!H103) -> 0 | I103: =SUM('Մ.Մարտիրոսյան:Գ. Հովհաննիսյան'!I103) -> 0 | J103: =SUM('Մ.Մարտիրոսյան:Գ. Հովհաննիսյան'!J103) -> 0 | K103: =SUM('Մ.Մարտիրոսյան:Գ. Հովհաննիսյան'!K103) -> 0 | L103: =SUM('Մ.Մարտիրոսյան:Գ. Հովհաննիսյան'!L103) -> 0 | ... AS103: =SUM('Մ.Մարտիրոսյան:Գ. Հովհաննիսյան'!AS103) -> 0
A104: 9.2 | B104: ÐÐ Î»ÝïñáÝ³Ï³Ý µ³ÝÏÇ ¨ ³Ýí×³ñáõÝ³Ï µ³ÝÏÇ Ï³Ù í³ñÏ³ÛÇÝ Ï³½Ù³Ï»ñåáõÃÛ³Ý Å³Ù³Ý³Ï³íáñ ³¹ÙÇÝÇëïñ³óÇ³ÛÇ áñáßáõÙÝ»ñÇ µáÕáù³ñÏÙ³Ý í»ñ³µ»ñÛ³É | E104: =SUM('Մ.Մարտիրոսյան:Գ. Հովհաննիսյան'!E104) -> 0 | F104: =SUM('Մ.Մարտիրոսյան:Գ. Հովհաննիսյան'!F104) -> 0 | G104: =SUM('Մ.Մարտիրոսյան:Գ. Հովհաննիսյան'!G104) -> 0 | H104: =SUM('Մ.Մարտիրոսյան:Գ. Հովհաննիսյան'!H104) -> 0 | I104: =SUM('Մ.Մարտիրոսյան:Գ. Հովհաննիսյան'!I104) -> 0 | J104: =SUM('Մ.Մարտիրոսյան:Գ. Հովհաննիսյան'!J104) -> 0 | K104: =SUM('Մ.Մարտիրոսյան:Գ. Հովհաննիսյան'!K104) -> 0 | L104: =SUM('Մ.Մարտիրոսյան:Գ. Հովհաննիսյան'!L104) -> 0 | ... AS104: =SUM('Մ.Մարտիրոսյան:Գ. Հովհաննիսյան'!AS104) -> 0
A105: 9.3 | B105: ²ÛÉ í»×»ñ | E105: =SUM('Մ.Մարտիրոսյան:Գ. Հովհաննիսյան'!E105) -> 0 | F105: =SUM('Մ.Մարտիրոսյան:Գ. Հովհաննիսյան'!F105) -> 0 | G105: =SUM('Մ.Մարտիրոսյան:Գ. Հովհաննիսյան'!G105) -> 0 | H105: =SUM('Մ.Մարտիրոսյան:Գ. Հովհաննիսյան'!H105) -> 0 | I105: =SUM('Մ.Մարտիրոսյան:Գ. Հովհաննիսյան'!I105) -> 0 | J105: =SUM('Մ.Մարտիրոսյան:Գ. Հովհաննիսյան'!J105) -> 0 | K105: =SUM('Մ.Մարտիրոսյան:Գ. Հովհաննիսյան'!K105) -> 0 | L105: =SUM('Մ.Մարտիրոսյան:Գ. Հովհաննիսյան'!L105) -> 0 | ... AS105: =SUM('Մ.Մարտիրոսյան:Գ. Հովհաննիսյան'!AS105) -> 0
A106: 11. | B106: ä³ñï³íáñ³Ï³Ý Çñ³í³Ñ³ñ³µ»ñáõÃÛáõÝÝ»ñÇ í»ñ³µ»ñÛ³É ¹³ï³Ï³Ý ·áñÍ»ñ | E106: =SUM(E107:E114) -> 4233 | F106: =SUM(F107:F114) -> 145 | G106: =SUM(G107:G114) -> 4088 | H106: =SUM(H107:H114) -> 0 | I106: =SUM(I107:I114) -> 0 | J106: =SUM(J107:J114) -> 7489 | K106: =SUM(K107:K114) -> 7275 | L106: =SUM(L107:L114) -> 211 | ... AS106: =SUM(AS107:AS114) -> 0
A107: 11.1 | B107: ¶áõÙ³ñÇ å³Ñ³ÝçÇ Ù³ëÇÝ | E107: =SUM('Մ.Մարտիրոսյան:Գ. Հովհաննիսյան'!E107) -> 4213 | F107: =SUM('Մ.Մարտիրոսյան:Գ. Հովհաննիսյան'!F107) -> 136 | G107: =SUM('Մ.Մարտիրոսյան:Գ. Հովհաննիսյան'!G107) -> 4077 | H107: =SUM('Մ.Մարտիրոսյան:Գ. Հովհաննիսյան'!H107) -> 0 | I107: =SUM('Մ.Մարտիրոսյան:Գ. Հովհաննիսյան'!I107) -> 0 | J107: =SUM('Մ.Մարտիրոսյան:Գ. Հովհաննիսյան'!J107) -> 7458 | K107: =SUM('Մ.Մարտիրոսյան:Գ. Հովհաննիսյան'!K107) -> 7250 | L107: =SUM('Մ.Մարտիրոսյան:Գ. Հովհաննիսյան'!L107) -> 205 | ... AE107: =SUM('Մ.Մարտիրոսյան:Գ. Հովհաննիսյան'!AE107) -> 6 | AF107: 20 | AG107: =SUM('Մ.Մարտիրոսյան:Գ. Հովհաննիսյան'!AG107) -> 8 | AH107: =SUM('Մ.Մարտիրոսյան:Գ. Հովհաննիսյան'!AH107) -> 41 | AI107: =SUM('Մ.Մարտիրոսյան:Գ. Հովհաննիսյան'!AI107) -> 0 | AJ107: =SUM('Մ.Մարտիրոսյան:Գ. Հովհաննիսյան'!AJ107) -> 20 | AK107: =SUM('Մ.Մարտիրոսյան:Գ. Հովհաննիսյան'!AK107) -> 5 | AL107: =SUM('Մ.Մարտիրոսյան:Գ. Հովհաննիսյան'!AL107) -> 1 | AM107: =SUM('Մ.Մարտիրոսյան:Գ. Հովհաննիսյան'!AM107) -> 6 | AN107: =SUM('Մ.Մարտիրոսյան:Գ. Հովհաննիսյան'!AN107) -> 1 | ... AS107: =SUM('Մ.Մարտիրոսյան:Գ. Հովհաննիսյան'!AS107) -> 0
A108: 11.2 | B108: ä³ñï³íáñáõÃÛáõÝÁ µÝ»Õ»Ýáí Ï³ï³ñ»Éáõ å³Ñ³ÝçÇ Ù³ëÇÝ | E108: =SUM('Մ.Մարտիրոսյան:Գ. Հովհաննիսյան'!E108) -> 1 | F108: =SUM('Մ.Մարտիրոսյան:Գ. Հովհաննիսյան'!F108) -> 1 | G108: =SUM('Մ.Մարտիրոսյան:Գ. Հովհաննիսյան'!G108) -> 0 | H108: =SUM('Մ.Մարտիրոսյան:Գ. Հովհաննիսյան'!H108) -> 0 | I108: =SUM('Մ.Մարտիրոսյան:Գ. Հովհաննիսյան'!I108) -> 0 | J108: =SUM('Մ.Մարտիրոսյան:Գ. Հովհաննիսյան'!J108) -> 0 | K108: =SUM('Մ.Մարտիրոսյան:Գ. Հովհաննիսյան'!K108) -> 0 | L108: =SUM('Մ.Մարտիրոսյան:Գ. Հովհաննիսյան'!L108) -> 0 | ... AS108: =SUM('Մ.Մարտիրոսյան:Գ. Հովհաննիսյան'!AS108) -> 0
...

Sheet Մ.Մարտիրոսյան
A1: 2017թ. | G1: Ð²ÞìºîìàôÂÚàôÜ | AM1: Ð³í»Éí³Í Ð³Û³ëï³ÝÇ Ð³Ýñ³å»ïáõÃÛ³Ý ¸³ï³ñ³ÝÝ»ñÇ Ý³Ë³·³ÑÝ»ñÇ ËáñÑñ¹Ç 29.01.2018Ã. ÃÇí 10-È áñáßÙ³Ý
A2: ՀՀ ÞÆð²ÎÆ ՄԱՐԶԻ ÀÜ¸Ð²Üàôð Æð²ì²êàôÂÚ²Ü ²è²æÆÜ ²îÚ²ÜÆ ¸²î²ð²ÜÆ ¸²î²ìàð | Z2: Մ. ՄԱՐՏԻՐՈՍÚ²ÜÆ | AH2: ¶àðÌàôÜºàôÂÚ²Ü ìºð²´ºðÚ²È
A3: ø²Ô²ø²òÆ²Î²Ü ¶àðÌºðàì
A4: ՀՀ ÞÇñ³ÏÇ մարզի ÁÝ¹Ñ³Ýáõñ Çñ³í³ëáõÃÛ³Ý ³é³çÇÝ ³ïÛ³ÝÇ ¹³ï³ñ³ÝÇ ù³Õ³ù³óÇ³Ï³Ý Ù³ëÝ³·Çï³óáõÙ áõÝ»óáÕ ¹³ï³íáñÝ»ñÇ Ñ³ëïÇùÝ»ñÇ ù³Ý³ÏÁ` 9
E5: Ð³ßí»ïáõ Å³Ù³Ý³Ï³Ñ³ïí³ÍáõÙ Ý³Ëáñ¹ Ñ³ßí»ïáõ Å³Ù³Ý³Ï³Ñ³ïí³ÍÇó ÷áË³Ýóí³Í ·áñÍ»ñÇ ÁÝ¹Ñ³Ýáõñ ÃÇíÁ | J5: Ð³ßí»ïáõ Å³Ù³Ý³Ï³Ñ³ïí³ÍáõÙëï³óí³Í ·áñÍ»ñÇ (³Û¹ ÃíáõÙ` Ñ³Ûó³¹ÇÙáõÙÝ»ñÇ, ¹ÇÙáõÙÝ»ñÇ) ÁÝ¹Ñ³Ýáõñ ÃÇíÁ | N5: öáË³Ýóí»É ¿ ³ÛÉ ¹³ï³íáñÇ (Ï³½ÙÇ ÷á÷áËáõÃÛáõÝ) | O5: Ð³ßí»ïáõ Å³Ù³Ý³Ï³Ñ³ïí³ÍáõÙ ³í³ñïí³Í ·áñÍ»ñÇ ÁÝ¹Ñ³Ýáõñ ÃÇíÁ | Z5: ¶áñÍÝ áõÕ³ñÏí»É ¿ Áëï ÁÝ¹¹³ïáõÃÛ³Ý | AA5: Ð³ßí»ïáõ Å³Ù³Ý³Ï³Ñ³ïí³ÍáõÙ Ï³ë»óí³Í í³ñáõÛÃÝ»ñáí ·áñÍ»ñÇ ÁÝ¹Ñ³Ýáõñ ÃÇíÁ | AB5: Ð³ßí»ïáõ Å³Ù³Ý³Ï³Ñ³ïí³ÍáõÙ ³Ý³í³ñï ·áñÍ»ñÇ ÁÝ¹Ñ³Ýáõñ ÃÇíÁ | AC5: ²Û¹ ÃíáõÙª Ï³ë»óí³Í | AD5: ´áÕáù³ñÏí³Í ¹³ï³Ï³Ý ³Ïï»ñÁ | AI5: ²í³ñïí³Í ¹³ï³Ï³Ý ·áñÍ»ñÇ µáÕáù³ñÏÙ³Ý ïáÏáëÁ (Ñ³ßí»ïáõ Å³Ù³Ý³Ï³ßñç³ÝáõÙ) | AJ5: ²Ý³í³ñï µáÕáùÝ»ñ | AK5: ´»Ï³Ýí³Í ¹³ï³Ï³Ý ³Ïï»ñÁ | AP5: µ»Ï³ÝáõÙÝ»ñÇ ïáÏáëÁ ³í³ñïí³Í ·áñÍ»ñÇó(Ñ³ßí»ïáõ Å³Ù³Ý³Ï³ßñç³ÝáõÙ) | AQ5: Î³ÛáõÝáõÃÛ³Ý ïáÏáëÁ ³í³ñïí³Í ·áñÍ»ñÇó(Ñ³ßí»ïáõ Å³Ù³Ý³Ï³ßñç³ÝáõÙ) | AR5: µ»Ï³ÝáõÙÝ»ñÇ ïáÏáëÁ µáÕáù³ñÏí³Í ·áñÍ»ñÇó(Ñ³ßí»ïáõ Å³Ù³Ý³Ï³ßñç³ÝáõÙ) | AS5: Ï³ÛáõÝáõÃÛ³Ý ïáÏáëÁ(Ñ³ßí»ïáõ Å³Ù³Ý³Ï³ßñç³ÝáõÙ)
E6: ÀÝ¹³Ù»ÝÁ | F6: ²Û¹ ÃíáõÙ`Ï³ë»óí³Í íÇ×³ÏáõÙ ÷áË³Ýóí³Í | G6: ²Û¹ ÃíáõÙª ÁÝ¹áõÝí»É ¿ í³ñáõÛÃ | H6: ²Û¹ ÃíáõÙª í»ñ³¹³ñÓí»É ¿ | I6: ²Û¹ ÃíáõÙª ÁÝ¹áõÝáõÙÁ Ù»ñÅí»É ¿ | J6: ÀÝ¹³Ù»ÝÁ | K6: ²Û¹ ÃíáõÙª ÁÝ¹áõÝí»É ¿ í³ñáõÛÃ | L6: ²Û¹ ÃíáõÙª í»ñ³¹³ñÓí»É ¿ | M6: ²Û¹ ÃíáõÙª ÁÝ¹áõÝáõÙÁ Ù»ñÅí»É ¿ | O6: ÀÝ¹³Ù»ÝÁ ³í³ñïí»É »Ý ·áñÍ»ñ ·áñÍÝ Áëï ¿áõÃÛ³Ý ÉáõÍáÕ ¹³ï³Ï³Ý ³Ïï»ñÇ (í×ÇéÝ»ñÇ) Ï³Û³óÙ³Ùµ | P6: ²Û¹ ÃíáõÙª Ñ³ÛóÇ µ³í³ñ³ñÙ³Ùµ | Q6: ²Û¹ ÃíáõÙª Ñ³ÛóÇ Ù³ëÝ³ÏÇ µ³í³ñ³ñÙ³Ùµ | R6: ²Û¹ ÃíáõÙª Ñ³ÛóÇ Ù»ñÅÙ³Ùµ | S6: Ø³ëáí Ï³ñ×í»É ¿, Ù³ëáí Ù»ñÅí»É | T6: ²Û¹ ÃíáõÙª Ï³ñ×í»É »Ý | X6: Ð³ÛóÁ ÃáÕÝí»É ¿ ³é³Ýó ùÝÝáõÃÛ³Ý | Y6: ÀÝ¹³Ù»ÝÝ ³í³ñïí»É »Ý ·áñÍ»ñ | AD6: ²Û¹ ÃíáõÙ` ·áñÍÝ Áëï ¿áõÃÛ³Ý ÉáõÍáÕ ¹³ï³Ï³Ý ³Ïï»ñÁ | AE6: ²Û¹ ÃíáõÙ` ÙÇç³ÝÏÛ³É ¹³ï³Ï³Ý ³Ïï»ñÁ | AF6: ÀÝ¹³Ù»ÝÁ | AG6: Ü³Ëáñ¹ ï³ñÇÝ»ñÇÝ Ï³Û³óí³Í ³Ïï»ñÇ µáÕáù³ñÏáõÙÁ Ñ³ßí»ïáõ Å³Ù³Ý³Ï³ßñç³ÝáõÙ | AH6: Ð³ßí»ïáõ Å³Ù³Ý³Ï³ßñç³ÝáõÙ Ï³Û³óí³Í ³Ïï»ñÇ µáÕáù³ñÏáõÙÁ | AK6: ²Û¹ ÃíáõÙ` ·áñÍÝ Áëï ¿áõÃÛ³Ý ÉáõÍáÕ ¹³ï³Ï³Ý ³Ïï»ñÁ | AL6: ²Û¹ ÃíáõÙ` ÙÇç³ÝÏÛ³É ¹³ï³Ï³Ý ³Ïï»ñÁ | AM6: ÀÝ¹³Ù»ÝÁ | AN6: Ü³Ëáñ¹ ï³ñÇÝ»ñÇÝ Ï³Û³óí³Í ³Ïï»ñÇ µ»Ï³ÝáõÙÝ»ñÁ Ñ³ßí»ïáõ Å³Ù³Ý³Ï³ßñç³ÝáõÙ | AO6: Ð³ßí»ïáõ Å³Ù³Ý³Ï³ßñç³ÝáõÙ Ï³Û³óí³Í ³Ïï»ñÇ µ»Ï³ÝáõÙÁ
T7: ÀÝ¹³Ù»ÝÁ Ï³ñ×í»É »Ý | U7: ²Û¹ ÃíáõÙª Ñ³ëï³ïí»É ¿ ÏÝùí³Í Ñ³ßïáõÃÛ³Ý Ñ³Ù³Ó³ÛÝáõÃÛáõÝÁ | V7: ²Û¹ ÃíáõÙª Ñ³óÇó, ¹ÇÙáõÙÇó Ññ³Å³ñí»Éáõ ÑÇÙùáí | W7: ²Û¹ ÃíáõÙª ³ÛÉ ÑÇÙùáí
E8: 1 | F8: 2 | G8: 3 | H8: 4 | I8: 5 | J8: 6 | K8: 7 | L8: 8 | M8: 9 | N8: 10 | O8: 11 | P8: 12 | Q8: 13 | R8: 14 | S8: 15 | T8: 16 | U8: 17 | V8: 18 | W8: 19 | X8: 20 | Y8: 21 | Z8: 22 | AA8: 23 | AB8: 24 | AC8: 25 | AD8: 26 | AE8: 27 | AF8: 28 | AG8: 29 | AH8: 30 | AI8: 31 | AJ8: 32 | AK8: 33 | AL8: 34 | AM8: 35 | AN8: 36 | AO8: 37 | AP8: 38 | AQ8: 39 | AR8: 40 | AS8: 41
A9: 1. | B9: ¶áõÛù³ÛÇÝ Çñ³í³Ñ³ñ³µ»ñáõÃÛáõÝÝ»ñÇ í»ñ³µ»ñÛ³É ¹³ï³Ï³Ý ·áñÍ»ñ | E9: =SUM(E10:E28) -> 26 | F9: =SUM(F10:F28) -> 22 | G9: =SUM(G10:G28) -> 4 | H9: =SUM(H10:H28) -> 0 | I9: =SUM(I10:I28) -> 0 | J9: =SUM(J10:J28) -> 0 | K9: =SUM(K10:K28) -> 0 | L9: =SUM(L10:L28) -> 0 | ... AS9: =SUM(AS10:AS28) -> 0
A10: 1.1 | B10: ¶áõÛùÇ ÝÏ³ïÙ³Ùµ ë»÷³Ï³ÝáõÃÛ³Ý Çñ³íáõÝùÁ ×³Ý³ã»Éáõ í»ñ³µ»ñÛ³É | E10: =+F10+G10+H10+I10 -> 3 | F10: 1 | G10: 2 | J10: =+K10+L10+M10 -> 0 | N10: 3 | O10: =+P10+Q10+R10+S10+T10 -> 0 | T10: =+U10+V10+W10 -> 0 | Y10: =+O10+X10 -> 0 | AF10: =+AG10+AH10 -> 0 | AM10: =+AK10+AL10 -> 0
A11: 1.1.1 | B11: ²Û¹ ÃíáõÙª Ó»éùµ»ñÙ³Ý í³Õ»ÙáõÃÛ³Ý áõÅáí | E11: =+F11+G11+H11+I11 -> 1 | G11: 1 | J11: =+K11+L11+M11 -> 0 | O11: =+P11+Q11+R11+S11+T11 -> 1 | T11: =+U11+V11+W11 -> 1 | V11: 1 | Y11: =+O11+X11 -> 1 | AF11: =+AG11+AH11 -> 0 | AM11: =+AK11+AL11 -> 0
A12: 1.1.2 | B12: ²Û¹ ÃíáõÙª ïÇñ³½áõñÏ ·áõÛùÇ ÝÏ³ïÙ³Ùµ | E12: =+F12+G12+H12+I12 -> 1 | G12: 1 | J12: =+K12+L12+M12 -> 0 | N12: 1 | O12: =+P12+Q12+R12+S12+T12 -> 0 | T12: =+U12+V12+W12 -> 0 | Y12: =+O12+X12 -> 0 | AF12: =+AG12+AH12 -> 0 | AM12: =+AK12+AL12 -> 0
A13: 1.1.3 | B13: ²Û¹ ÃíáõÙª ÇÝùÝ³Ï³Ù Ï³éáõÛóÇ ÝÏ³ïÙ³Ùµ | E13: =+F13+G13+H13+I13 -> 0 | J13: =+K13+L13+M13 -> 0 | O13: =+P13+Q13+R13+S13+T13 -> 0 | T13: =+U13+V13+W13 -> 0 | Y13: =+O13+X13 -> 0 | AF13: =+AG13+AH13 -> 0 | AM13: =+AK13+AL13 -> 0
A14: 1.2 | B14: ê»÷³Ï³ÝáõÃÛ³Ý Çñ³íáõÝùÇ ¹³¹³ñ»óÙ³Ý í»ñ³µ»ñÛ³É | E14: =+F14+G14+H14+I14 -> 0 | J14: =+K14+L14+M14 -> 0 | O14: =+P14+Q14+R14+S14+T14 -> 0 | T14: =+U14+V14+W14 -> 0 | Y14: =+O14+X14 -> 0 | AF14: =+AG14+AH14 -> 0 | AM14: =+AK14+AL14 -> 0
A15: 1.3 | B15: ¶áõÛùÇ ÝÏ³ïÙ³Ùµ û·ï³·áñÍÙ³Ý Çñ³íáõÝùÁ ×³Ý³ã»Éáõ í»ñ³µ»ñÛ³É | E15: =+F15+G15+H15+I15 -> 0 | J15: =+K15+L15+M15 -> 0 | O15: =+P15+Q15+R15+S15+T15 -> 0 | T15: =+U15+V15+W15 -> 0 | Y15: =+O15+X15 -> 0 | AF15: =+AG15+AH15 -> 0 | AM15: =+AK15+AL15 -> 0
A16: 1.3.1 | B16: ²Û¹ ÃíáõÙª µÝ³Ïû·ï³·áñÍÙ³Ý Çñ³íáõÝùÁ ×³Ý³ã»Éáõ í»ñ³µ»ñÛ³É | E16: =+F16+G16+H16+I16 -> 0 | J16: =+K16+L16+M16 -> 0 | O16: =+P16+Q16+R16+S16+T16 -> 0 | T16: =+U16+V16+W16 -> 0 | Y16: =+O16+X16 -> 0 | AF16: =+AG16+AH16 -> 0 | AM16: =+AK16+AL16 -> 0
A17: 1.3.2 | B17: ²Û¹ ÃíáõÙª ÑáÕ³Ù³ëÇ ÝÏ³ïÙ³Ùµ û·ï³·áñÍÙ³Ý Çñ³íáõÝùÁ ×³Ý³ã»Éáõ í»ñ³µ»ñÛ³É | E17: =+F17+G17+H17+I17 -> 0 | J17: =+K17+L17+M17 -> 0 | O17: =+P17+Q17+R17+S17+T17 -> 0 | T17: =+U17+V17+W17 -> 0 | Y17: =+O17+X17 -> 0 | AF17: =+AG17+AH17 -> 0 | AM17: =+AK17+AL17 -> 0
A18: 1.4 | B18: ¶áõÛùÇ ÝÏ³ïÙ³Ùµ û·ï³·áñÍÙ³Ý Çñ³íáõÝùÁ ¹³¹³ñ»óÝ»Éáõ í»ñ³µ»ñÛ³É | E18: =+F18+G18+H18+I18 -> 0 | J18: =+K18+L18+M18 -> 0 | O18: =+P18+Q18+R18+S18+T18 -> 0 | T18: =+U18+V18+W18 -> 0 | Y18: =+O18+X18 -> 0 | AF18: =+AG18+AH18 -> 0 | AM18: =+AK18+AL18 -> 0
A19: 1.4.1 | B19: ²Û¹ ÃíáõÙª µÝ³Ïû·ï³·áñÍÙ³Ý Çñ³íáõÝùÁ ¹³¹³ñ»óÝ»Éáõ í»ñ³µ»ñÛ³É | E19: =+F19+G19+H19+I19 -> 0 | J19: =+K19+L19+M19 -> 0 | O19: =+P19+Q19+R19+S19+T19 -> 0 | T19: =+U19+V19+W19 -> 0 | Y19: =+O19+X19 -> 0 | AF19: =+AG19+AH19 -> 0 | AM19: =+AK19+AL19 -> 0
A20: 1.4.1/1 | B20: ²Û¹ ÃíáõÙª ÷áËÑ³ïáõóÙ³Ùµ | E20: =+F20+G20+H20+I20 -> 0 | J20: =+K20+L20+M20 -> 0 | O20: =+P20+Q20+R20+S20+T20 -> 0 | T20: =+U20+V20+W20 -> 0 | Y20: =+O20+X20 -> 0 | AF20: =+AG20+AH20 -> 0 | AM20: =+AK20+AL20 -> 0
A21: 1.5 | B21: ´Ý³Ï³ñ³ÝÇó/ ï³ñ³ÍùÇó/ íï³ñ»Éáõ í»ñ³µ»ñÛ³É | E21: =+F21+G21+H21+I21 -> 0 | J21: =+K21+L21+M21 -> 0 | O21: =+P21+Q21+R21+S21+T21 -> 0 | T21: =+U21+V21+W21 -> 0 | Y21: =+O21+X21 -> 0 | AF21: =+AG21+AH21 -> 0 | AM21: =+AK21+AL21 -> 0
A22: 1.6 | B22: ¶áõÛùÝ áõñÇßÇ ³åûñÇÝÇ ïÇñ³å»ïáõÙÇó »ï í»ñ³¹³ñÓÝ»Éáõ í»ñ³µ»ñÛ³É | E22: =+F22+G22+H22+I22 -> 2 | F22: 2 | J22: =+K22+L22+M22 -> 0 | N22: 2 | O22: =+P22+Q22+R22+S22+T22 -> 0 | T22: =+U22+V22+W22 -> 0 | Y22: =+O22+X22 -> 0 | AF22: =+AG22+AH22 -> 0 | AM22: =+AK22+AL22 -> 0
A23: 1.6.1 | B23: ´³ñ»ËÇÕ× Ó»éùµ»ñáÕÇó Çñ ·áõÛùÁ Ñ»ï å³Ñ³Ýç»Éáõ í»ñ³µ»ñÛ³É | E23: =+F23+G23+H23+I23 -> 0 | J23: =+K23+L23+M23 -> 0 | O23: =+P23+Q23+R23+S23+T23 -> 0 | T23: =+U23+V23+W23 -> 0 | Y23: =+O23+X23 -> 0 | AF23: =+AG23+AH23 -> 0 | AM23: =+AK23+AL23 -> 0
A24: 1.7 | B24: îÇñ³å»ïáõÙÇó ½ñÏ»Éáõ Ñ»ï ãÏ³åí³Í Çñ³íáõÝùÝ»ñÇ Ë³ËïáõÙÁ í»ñ³óÝ»Éáõ í»ñ³µ»ñÛ³É | E24: =+F24+G24+H24+I24 -> 0 | J24: =+K24+L24+M24 -> 0 | O24: =+P24+Q24+R24+S24+T24 -> 0 | T24: =+U24+V24+W24 -> 0 | Y24: =+O24+X24 -> 0 | AF24: =+AG24+AH24 -> 0 | AM24: =+AK24+AL24 -> 0
A25: 1.8 | B25: ÀÝ¹Ñ³Ýáõñ µ³ÅÝ³ÛÇÝ ë»÷³Ï³ÝáõÃÛáõÝÇó µ³ÅÇÝÝ ³é³ÝÓÝ³óÝ»Éáõ í»ñ³µ»ñÛ³É | E25: =+F25+G25+H25+I25 -> 5 | F25: 5 | J25: =+K25+L25+M25 -> 0 | N25: 5 | O25: =+P25+Q25+R25+S25+T25 -> 0 | T25: =+U25+V25+W25 -> 0 | Y25: =+O25+X25 -> 0 | AF25: =+AG25+AH25 -> 0 | AM25: =+AK25+AL25 -> 0
A26: 1.8.1 | B26: Ð³Ù³ï»Õ ë»÷³Ï³ÝáõÃÛ³Ý Ý»ñùá ·ïÝíáÕ ·áõÛùÁ µ³Å³Ý»Éáõ ¨ ¹ñ³ÝÇó µ³ÅÇÝÝ ³é³ÝÓÝ³óÝ»Éáõ í»ñ³µ»ñÛ³É | E26: =+F26+G26+H26+I26 -> 11 | F26: 11 | J26: =+K26+L26+M26 -> 0 | N26: 11 | O26: =+P26+Q26+R26+S26+T26 -> 0 | T26: =+U26+V26+W26 -> 0 | Y26: =+O26+X26 -> 0 | AF26: =+AG26+AH26 -> 0 | AM26: =+AK26+AL26 -> 0
A27: 1.8.3 | B27: ¶áõÛùÇ íñ³ µéÝ³·³ÝÓáõÙ ï³ñ³Í»Éáõ å³Ñ³ÝçÇ Ù³ëÇÝ | E27: =+F27+G27+H27+I27 -> 1 | F27: 1 | J27: =+K27+L27+M27 -> 0 | N27: 1 | O27: =+P27+Q27+R27+S27+T27 -> 0 | T27: =+U27+V27+W27 -> 0 | Y27: =+O27+X27 -> 0 | AF27: =+AG27+AH27 -> 0 | AM27: =+AK27+AL27 -> 0
A28: 1.9 | B28: ²ÛÉ í»×»ñ | E28: =+F28+G28+H28+I28 -> 2 | F28: 2 | J28: =+K28+L28+M28 -> 0 | N28: 2 | O28: =+P28+Q28+R28+S28+T28 -> 0 | T28: =+U28+V28+W28 -> 0 | Y28: =+O28+X28 -> 0 | AF28: =+AG28+AH28 -> 0 | AM28: =+AK28+AL28 -> 0
A29: 2. | B29: ¶áñÍ³ñùÝ»ñÇ Ñ»ï Ï³åí³Í Çñ³í³Ñ³ñ³µ»ñáõÃÛáõÝÝ»ñÇ í»ñ³µ»ñÛ³É ¹³ï³Ï³Ý ·áñÍ»ñ | E29: =SUM(E30:E40) -> 3 | F29: =SUM(F30:F40) -> 1 | G29: =SUM(G30:G40) -> 2 | H29: =SUM(H30:H40) -> 0 | I29: =SUM(I30:I40) -> 0 | J29: =SUM(J30:J40) -> 0 | K29: =SUM(K30:K40) -> 0 | L29: =SUM(L30:L40) -> 0 | ... AS29: =SUM(AS30:AS40) -> 0
A30: 2.1 | B30: ·áñÍ³ñùÝ»ñÇ ³Ýí³í»ñáõÃÛ³Ý Ñ»ï Ï³åí³Í í»×»ñ | E30: =+F30+G30+H30+I30 -> 0 | J30: =+K30+L30+M30 -> 0 | O30: =+P30+Q30+R30+S30+T30 -> 0 | T30: =+U30+V30+W30 -> 0 | Y30: =+O30+X30 -> 0 | AF30: =+AG30+AH30 -> 0 | AM30: =+AK30+AL30 -> 0
A31: 2.1.1 | B31: ³Û¹ ÃíáõÙ` íÇ×³Ñ³ñáõÛó ·áñÍ³ñùÝ»ñÝ ³Ýí³í»ñ ×³Ý³ã»Éáõ í»ñ³µ»ñÛ³É | E31: =+F31+G31+H31+I31 -> 0 | J31: =+K31+L31+M31 -> 0 | O31: =+P31+Q31+R31+S31+T31 -> 0 | T31: =+U31+V31+W31 -> 0 | Y31: =+O31+X31 -> 0 | AF31: =+AG31+AH31 -> 0 | AM31: =+AK31+AL31 -> 0
A32: 2.1.2 | B32: ³Û¹ ÃíáõÙ` ·áñÍ³ñùÇ ³éáãÝãáõÃÛ³Ý Ñ»ï¨³ÝùÝ»ñ ÏÇñ³é»Éáõ í»ñ³µ»ñÛ³É | E32: =+F32+G32+H32+I32 -> 0 | J32: =+K32+L32+M32 -> 0 | O32: =+P32+Q32+R32+S32+T32 -> 0 | T32: =+U32+V32+W32 -> 0 | Y32: =+O32+X32 -> 0 | AF32: =+AG32+AH32 -> 0 | AM32: =+AK32+AL32 -> 0
A33: 2.2 | B33: ¶áñÍ³ñùÁ í³í»ñ ×³Ý³ã»Éáõ í»ñ³µ»ñÛ³É | E33: =+F33+G33+H33+I33 -> 0 | J33: =+K33+L33+M33 -> 0 | O33: =+P33+Q33+R33+S33+T33 -> 0 | T33: =+U33+V33+W33 -> 0 | Y33: =+O33+X33 -> 0 | AD33: 1 | AF33: =+AG33+AH33 -> 1 | AG33: 1 | AK33: 1 | AM33: =+AK33+AL33 -> 1 | AN33: 1
A34: 2.3 | B34: ¶áñÍ³ñùÇó Í³·áÕ Çñ³íáõÝùÝ»ñÁ ·ñ³Ýó»Éáõ í»ñ³µ»ñÛ³É | E34: =+F34+G34+H34+I34 -> 0 | J34: =+K34+L34+M34 -> 0 | O34: =+P34+Q34+R34+S34+T34 -> 0 | T34: =+U34+V34+W34 -> 0 | Y34: =+O34+X34 -> 0 | AF34: =+AG34+AH34 -> 0 | AM34: =+AK34+AL34 -> 0
A35: 2.4 | B35: ä³ÛÙ³Ý³·ÇñÝ ³Ýí³í»ñ ×³Ý³ã»Éáõ í»ñ³µ»ñÛ³É | E35: =+F35+G35+H35+I35 -> 3 | F35: 1 | G35: 2 | J35: =+K35+L35+M35 -> 0 | N35: 2 | O35: =+P35+Q35+R35+S35+T35 -> 1 | S35: 1 | T35: =+U35+V35+W35 -> 0 | Y35: =+O35+X35 -> 1 | AF35: =+AG35+AH35 -> 0 | AM35: =+AK35+AL35 -> 0
A36: 2.5 | B36: ä³ÛÙ³Ý³·ñÇÁ í³í»ñ ×³Ý³ã»Éáõ í»ñ³µ»ñÛ³É | E36: =+F36+G36+H36+I36 -> 0 | J36: =+K36+L36+M36 -> 0 | O36: =+P36+Q36+R36+S36+T36 -> 0 | T36: =+U36+V36+W36 -> 0 | Y36: =+O36+X36 -> 0 | AF36: =+AG36+AH36 -> 0 | AM36: =+AK36+AL36 -> 0
A37: 2.6 | B37: ä³ÛÙ³Ý³·ñÇó Í³·áÕ Çñ³íáõÝùÝ»ñÁ ·ñ³Ýó»Éáõ í»ñ³µ»ñÛ³É | E37: =+F37+G37+H37+I37 -> 0 | J37: =+K37+L37+M37 -> 0 | O37: =+P37+Q37+R37+S37+T37 -> 0 | T37: =+U37+V37+W37 -> 0 | Y37: =+O37+X37 -> 0 | AF37: =+AG37+AH37 -> 0 | AM37: =+AK37+AL37 -> 0
A38: 2.7 | B38: ä³ÛÙ³Ý³·ÇñÁ ÷á÷áË»Éáõ ¨ ÉáõÍ»Éáõ í»ñ³µ»ñÛ³É | E38: =+F38+G38+H38+I38 -> 0 | J38: =+K38+L38+M38 -> 0 | O38: =+P38+Q38+R38+S38+T38 -> 0 | T38: =+U38+V38+W38 -> 0 | Y38: =+O38+X38 -> 0 | AF38: =+AG38+AH38 -> 0 | AM38: =+AK38+AL38 -> 0
A39: 2.8 | B39: ä³ÛÙ³Ý³·Çñ ÏÝù»ÉáõÝ å³ñï³íáñ»óÝ»Éáõ í»ñ³µ»ñÛ³É | E39: =+F39+G39+H39+I39 -> 0 | J39: =+K39+L39+M39 -> 0 | O39: =+P39+Q39+R39+S39+T39 -> 0 | T39: =+U39+V39+W39 -> 0 | Y39: =+O39+X39 -> 0 | AF39: =+AG39+AH39 -> 0 | AM39: =+AK39+AL39 -> 0
A40: 2.9 | B40: ²ÛÉ í»×»ñ | E40: =+F40+G40+H40+I40 -> 0 | J40: =+K40+L40+M40 -> 0 | O40: =+P40+Q40+R40+S40+T40 -> 0 | T40: =+U40+V40+W40 -> 0 | Y40: =+O40+X40 -> 0 | AF40: =+AG40+AH40 -> 0 | AM40: =+AK40+AL40 -> 0
A41: 3. | B41: Ä³é³Ý·áõÃÛ³Ý Ñ»ï Ï³åí³Í Çñ³í³Ñ³ñ³µ»ñáõÃÛáõÝÝ»ñÇ í»ñ³µ»ñÛ³É ¹³ï³Ï³Ý ·áñÍ»ñ | E41: =SUM(E42:E48) -> 1 | F41: =SUM(F42:F48) -> 1 | G41: =SUM(G42:G48) -> 0 | H41: =SUM(H42:H48) -> 0 | I41: =SUM(I42:I48) -> 0 | J41: =SUM(J42:J48) -> 0 | K41: =SUM(K42:K48) -> 0 | L41: =SUM(L42:L48) -> 0 | ... AS41: =SUM(AS42:AS48) -> 0
A42: 3.1 | B42: Îï³ÏÝ ³Ýí³í»ñ ×³Ý³ã»Éáõ í»ñ³µ»ñÛ³É | E42: =+F42+G42+H42+I42 -> 0 | J42: =+K42+L42+M42 -> 0 | O42: =+P42+Q42+R42+S42+T42 -> 0 | T42: =+U42+V42+W42 -> 0 | Y42: =+O42+X42 -> 0 | AF42: =+AG42+AH42 -> 0 | AM42: =+AK42+AL42 -> 0
A43: 3.2 | B43: ²Ý³ñÅ³Ý Å³é³Ý· ×³Ý³ã»Éáõ í»ñ³µ»ñÛ³É | E43: =+F43+G43+H43+I43 -> 0 | J43: =+K43+L43+M43 -> 0 | O43: =+P43+Q43+R43+S43+T43 -> 0 | T43: =+U43+V43+W43 -> 0 | Y43: =+O43+X43 -> 0 | AF43: =+AG43+AH43 -> 0 | AM43: =+AK43+AL43 -> 0
A44: 3.3 | B44: Ä³é³Ý·áõÃÛáõÝÁ µ³Å³Ý»Éáõ í»ñ³µ»ñÛ³É | E44: =+F44+G44+H44+I44 -> 0 | J44: =+K44+L44+M44 -> 0 | O44: =+P44+Q44+R44+S44+T44 -> 0 | T44: =+U44+V44+W44 -> 0 | Y44: =+O44+X44 -> 0 | AF44: =+AG44+AH44 -> 0 | AM44: =+AK44+AL44 -> 0
A45: 3.4 | B45: ¶áõÛùÝ ³ÝÅ³é³Ý· ×³Ý³ã»Éáõ í»ñ³µ»ñÛ³É | E45: =+F45+G45+H45+I45 -> 0 | J45: =+K45+L45+M45 -> 0 | O45: =+P45+Q45+R45+S45+T45 -> 0 | T45: =+U45+V45+W45 -> 0 | Y45: =+O45+X45 -> 0 | AF45: =+AG45+AH45 -> 0 | AM45: =+AK45+AL45 -> 0
A46: 3.5 | B46: Àëï ûñ»ÝùÇ Å³é³Ý·áõÃÛ³Ý Çñ³íáõÝùÇ íÏ³Û³·ÇñÝ ³Ýí³í»ñ ×³Ý³ã»Éáõ í»ñ³µ»ñÛ³É | E46: =+F46+G46+H46+I46 -> 0 | J46: =+K46+L46+M46 -> 0 | O46: =+P46+Q46+R46+S46+T46 -> 0 | T46: =+U46+V46+W46 -> 0 | Y46: =+O46+X46 -> 0 | AF46: =+AG46+AH46 -> 0 | AM46: =+AK46+AL46 -> 0
A47: 3.6 | B47: Ä³é³Ý·áõÃÛáõÝÝ ÁÝ¹áõÝ»Éáõ µ³ó ÃáÕÝí³Í Å³ÙÏ»ïÁ Ñ³ñ·»ÉÇ Ñ³Ù³ñ»Éáõ í»ñ³µ»ñÛ³É | E47: =+F47+G47+H47+I47 -> 1 | F47: 1 | J47: =+K47+L47+M47 -> 0 | N47: 1 | O47: =+P47+Q47+R47+S47+T47 -> 0 | T47: =+U47+V47+W47 -> 0 | Y47: =+O47+X47 -> 0 | AF47: =+AG47+AH47 -> 0 | AM47: =+AK47+AL47 -> 0
A48: 3.7 | B48: ²ÛÉ í»×»ñ | E48: =+F48+G48+H48+I48 -> 0 | J48: =+K48+L48+M48 -> 0 | O48: =+P48+Q48+R48+S48+T48 -> 0 | T48: =+U48+V48+W48 -> 0 | Y48: =+O48+X48 -> 0 | AF48: =+AG48+AH48 -> 0 | AM48: =+AK48+AL48 -> 0
A49: 4 | B49: ÀÝï³Ý»Ï³Ý Çñ³í³Ñ³ñ³µ»ñáõÃÛáõÝÝ»ñÇ í»ñ³µ»ñÛ³É ¹³ï³Ï³Ý ·áñÍ»ñ | E49: =SUM(E50:E62) -> 3 | F49: =SUM(F50:F62) -> 2 | G49: =SUM(G50:G62) -> 1 | H49: =SUM(H50:H62) -> 0 | I49: =SUM(I50:I62) -> 0 | J49: =SUM(J50:J62) -> 0 | K49: =SUM(K50:K62) -> 0 | L49: =SUM(L50:L62) -> 0 | ... AS49: =SUM(AS50:AS62) -> 0
A50: 4.1 | B50: ²ÙáõëÝ³ÉáõÍáõÃÛ³Ý í»ñ³µ»ñÛ³É | E50: =+F50+G50+H50+I50 -> 1 | G50: 1 | J50: =+K50+L50+M50 -> 0 | N50: 1 | O50: =+P50+Q50+R50+S50+T50 -> 0 | T50: =+U50+V50+W50 -> 0 | Y50: =+O50+X50 -> 0 | AF50: =+AG50+AH50 -> 0 | AM50: =+AK50+AL50 -> 0
A51: 4.2 | B51: ²ÉÇÙ»ÝïÇ å³Ñ³ÝçÇ í»ñ³µ»ñÛ³É | E51: =+F51+G51+H51+I51 -> 0 | J51: =+K51+L51+M51 -> 0 | O51: =+P51+Q51+R51+S51+T51 -> 0 | T51: =+U51+V51+W51 -> 0 | Y51: =+O51+X51 -> 0 | AF51: =+AG51+AH51 -> 0 | AM51: =+AK51+AL51 -> 0
A52: 4.3 | B52: ²ÉÇÙ»ÝïÇ ã³÷Á ÷á÷áË»Éáõ í»ñ³µ»ñÛ³É | E52: =+F52+G52+H52+I52 -> 0 | J52: =+K52+L52+M52 -> 0 | O52: =+P52+Q52+R52+S52+T52 -> 0 | T52: =+U52+V52+W52 -> 0 | Y52: =+O52+X52 -> 0 | AF52: =+AG52+AH52 -> 0 | AM52: =+AK52+AL52 -> 0
A53: 4.4 | B53: ÌÝáÕ³Ï³Ý Çñ³íáõÝùÝ»ñÇó ½ñÏ»Éáõ í»ñ³µ»ñÛ³É | E53: =+F53+G53+H53+I53 -> 0 | J53: =+K53+L53+M53 -> 0 | O53: =+P53+Q53+R53+S53+T53 -> 0 | T53: =+U53+V53+W53 -> 0 | Y53: =+O53+X53 -> 0 | AF53: =+AG53+AH53 -> 0 | AM53: =+AK53+AL53 -> 0
A54: 4.5 | B54: ÌÝáÕ³Ï³Ý Çñ³íáõÝùÝ»ñÁ í»ñ³Ï³Ý·Ý»Éáõ í»ñ³µ»ñÛ³É | E54: =+F54+G54+H54+I54 -> 0 | J54: =+K54+L54+M54 -> 0 | O54: =+P54+Q54+R54+S54+T54 -> 0 | T54: =+U54+V54+W54 -> 0 | Y54: =+O54+X54 -> 0 | AF54: =+AG54+AH54 -> 0 | AM54: =+AK54+AL54 -> 0
A55: 4.6 | B55: ºñ»Ë³ÛÇ áñ¹»·ñÙ³Ý í»ñ³µ»ñÛ³É | E55: =+F55+G55+H55+I55 -> 0 | J55: =+K55+L55+M55 -> 0 | O55: =+P55+Q55+R55+S55+T55 -> 0 | T55: =+U55+V55+W55 -> 0 | Y55: =+O55+X55 -> 0 | AF55: =+AG55+AH55 -> 0 | AM55: =+AK55+AL55 -> 0
A56: 4.7 | B56: ºñ»Ë³ÛÇ áñ¹»·ñáõÙÁ í»ñ³óÝ»Éáõ í»ñ³µ»ñÛ³É | E56: =+F56+G56+H56+I56 -> 0 | J56: =+K56+L56+M56 -> 0 | O56: =+P56+Q56+R56+S56+T56 -> 0 | T56: =+U56+V56+W56 -> 0 | Y56: =+O56+X56 -> 0 | AF56: =+AG56+AH56 -> 0 | AM56: =+AK56+AL56 -> 0
A57: 4.8 | B57: Ð³ÛñáõÃÛáõÝÁ ×³Ý³ã»Éáõ í»ñ³µ»ñÛ³É | E57: =+F57+G57+H57+I57 -> 2 | F57: 2 | J57: =+K57+L57+M57 -> 0 | N57: 2 | O57: =+P57+Q57+R57+S57+T57 -> 0 | T57: =+U57+V57+W57 -> 0 | Y57: =+O57+X57 -> 0 | AF57: =+AG57+AH57 -> 0 | AM57: =+AK57+AL57 -> 0
A58: 4.9 | B58: ºñ»Ë³ÛÇ µÝ³ÏáõÃÛ³Ý í³ÛñÁ áñáß»Éáõ í»ñ³µ»ñÛ³É | E58: =+F58+G58+H58+I58 -> 0 | J58: =+K58+L58+M58 -> 0 | O58: =+P58+Q58+R58+S58+T58 -> 0 | T58: =+U58+V58+W58 -> 0 | Y58: =+O58+X58 -> 0 | AF58: =+AG58+AH58 -> 0 | AM58: =+AK58+AL58 -> 0
A59: 4.10 | B59: ºñ»Ë³ÛÇ Ñ»ï ï»ë³ÏóáõÃÛ³Ý Ï³ñ· ë³ÑÙ³Ý»Éáõ í»ñ³µ»ñÛ³É | E59: =+F59+G59+H59+I59 -> 0 | J59: =+K59+L59+M59 -> 0 | O59: =+P59+Q59+R59+S59+T59 -> 0 | T59: =+U59+V59+W59 -> 0 | Y59: =+O59+X59 -> 0 | AF59: =+AG59+AH59 -> 0 | AM59: =+AK59+AL59 -> 0
A60: 4.11 | B60: ²ÙáõëÇÝÝ»ñÇ ÁÝ¹Ñ³Ýáõñ ·áõÛùÁ µ³Å³Ý»Éáõ í»ñ³µ»ñÛ³É | E60: =+F60+G60+H60+I60 -> 0 | J60: =+K60+L60+M60 -> 0 | O60: =+P60+Q60+R60+S60+T60 -> 0 | T60: =+U60+V60+W60 -> 0 | Y60: =+O60+X60 -> 0 | AF60: =+AG60+AH60 -> 0 | AM60: =+AK60+AL60 -> 0
A61: 4.12 | B61: ²ÙáõëÝ³Ï³Ý å³ÛÙ³Ý³·ñÇ ÷á÷áËÙ³Ý Ï³Ù ÉáõÍÙ³Ý í»ñ³µ»ñÛ³É | E61: =+F61+G61+H61+I61 -> 0 | J61: =+K61+L61+M61 -> 0 | O61: =+P61+Q61+R61+S61+T61 -> 0 | T61: =+U61+V61+W61 -> 0 | Y61: =+O61+X61 -> 0 | AF61: =+AG61+AH61 -> 0 | AM61: =+AK61+AL61 -> 0
A62: 4.13 | B62: ²ÛÉ í»×»ñ | E62: =+F62+G62+H62+I62 -> 0 | J62: =+K62+L62+M62 -> 0 | O62: =+P62+Q62+R62+S62+T62 -> 0 | T62: =+U62+V62+W62 -> 0 | Y62: =+O62+X62 -> 0 | AF62: =+AG62+AH62 -> 0 | AM62: =+AK62+AL62 -> 0
A63: 5. | B63: Øï³íáñ ë»÷³Ï³ÝáõÃÛ³Ý Ñ»ï Ï³åí³ÍÇñ³í³Ñ³ñ³µ»ñáõÃÛáõÝÝ»ñÇ í»ñ³µ»ñÛ³É ¹³ï³Ï³Ý ·áñÍ»ñ | E63: =SUM(E64:E69) -> 0 | F63: =SUM(F64:F69) -> 0 | G63: =SUM(G64:G69) -> 0 | H63: =SUM(H64:H69) -> 0 | I63: =SUM(I64:I69) -> 0 | J63: =SUM(J64:J69) -> 0 | K63: =SUM(K64:K69) -> 0 | L63: =SUM(L64:L69) -> 0 | ... AS63: =SUM(AS64:AS69) -> 0
A64: 5.1 | B64: ÈÇó»Ý½³ÛÇÝ å³ÛÙ³Ý³·ñÇ ÉáõÍÙ³Ý, ÷á÷áËÙ³Ý ¨ ³Ýí³í»ñáõÃÛ³Ý í»ñ³µ»ñÛ³É | E64: =+F64+G64+H64+I64 -> 0 | J64: =+K64+L64+M64 -> 0 | O64: =+P64+Q64+R64+S64+T64 -> 0 | T64: =+U64+V64+W64 -> 0 | Y64: =+O64+X64 -> 0 | AF64: =+AG64+AH64 -> 0 | AM64: =+AK64+AL64 -> 0
A65: 5.2 | B65: Øï³íáñ ·áñÍáõÝ»áõÃÛ³Ý ³ñ¹ÛáõÝùÝ»ñ ëï»ÕÍ»Éáõ ¨ û·ï³·áñÍ»Éáõ å³ÛÙ³Ý³·ñÇ ÉáõÍÙ³Ý, ÷á÷áËÙ³Ý áõ ³Ýí³í»ñáõÃÛ³Ý í»ñ³µ»ñÛ³É | E65: =+F65+G65+H65+I65 -> 0 | J65: =+K65+L65+M65 -> 0 | O65: =+P65+Q65+R65+S65+T65 -> 0 | T65: =+U65+V65+W65 -> 0 | Y65: =+O65+X65 -> 0 | AF65: =+AG65+AH65 -> 0 | AM65: =+AK65+AL65 -> 0
A66: 5.3 | B66: Ð»ÕÇÝ³Ï³ÛÇÝ ¨ Ñ³ñ³ÏÇó Çñ³íáõÝùÝ»ñÇ í»ñ³µ»ñÛ³É | E66: =+F66+G66+H66+I66 -> 0 | J66: =+K66+L66+M66 -> 0 | O66: =+P66+Q66+R66+S66+T66 -> 0 | T66: =+U66+V66+W66 -> 0 | Y66: =+O66+X66 -> 0 | AF66: =+AG66+AH66 -> 0 | AM66: =+AK66+AL66 -> 0
A67: 5.4 | B67: üÇñÙ³ÛÇÝ ³Ýí³ÝÙ³Ý í»ñ³µ»ñÛ³É | E67: =+F67+G67+H67+I67 -> 0 | J67: =+K67+L67+M67 -> 0 | O67: =+P67+Q67+R67+S67+T67 -> 0 | T67: =+U67+V67+W67 -> 0 | Y67: =+O67+X67 -> 0 | AF67: =+AG67+AH67 -> 0 | AM67: =+AK67+AL67 -> 0
A68: 5.5 | B68: ²åñ³Ýù³ÛÇÝ Ýß³ÝÇ í»ñ³µ»ñÛ³É | E68: =+F68+G68+H68+I68 -> 0 | J68: =+K68+L68+M68 -> 0 | O68: =+P68+Q68+R68+S68+T68 -> 0 | T68: =+U68+V68+W68 -> 0 | Y68: =+O68+X68 -> 0 | AF68: =+AG68+AH68 -> 0 | AM68: =+AK68+AL68 -> 0
A69: 5.6 | B69: ²ÛÉ í»×»ñ | E69: =+F69+G69+H69+I69 -> 0 | J69: =+K69+L69+M69 -> 0 | O69: =+P69+Q69+R69+S69+T69 -> 0 | T69: =+U69+V69+W69 -> 0 | Y69: =+O69+X69 -> 0 | AF69: =+AG69+AH69 -> 0 | AM69: =+AK69+AL69 -> 0
A70: 6. | B70: ²ßË³ï³Ýù³ÛÇÝ Çñ³í³Ñ³ñ³µ»ñáõÃÛáõÝÝ»ñÇ í»ñ³µ»ñÛ³É ¹³ï³Ï³Ý ·áñÍ»ñ | E70: =SUM(E71:E76) -> 0 | F70: =SUM(F71:F76) -> 0 | G70: =SUM(G71:G76) -> 0 | H70: =SUM(H71:H76) -> 0 | I70: =SUM(I71:I76) -> 0 | J70: =SUM(J71:J76) -> 0 | K70: =SUM(K71:K76) -> 0 | L70: =SUM(L71:L76) -> 0 | ... AS70: =SUM(AS71:AS76) -> 0
A71: 6.1 | B71: ²ßË³ï³Ýù³ÛÇÝ å³ÛÙ³Ý³·ñ»ñÇ í»ñ³µ»ñÛ³É | E71: =+F71+G71+H71+I71 -> 0 | J71: =+K71+L71+M71 -> 0 | O71: =+P71+Q71+R71+S71+T71 -> 0 | T71: =+U71+V71+W71 -> 0 | Y71: =+O71+X71 -> 0 | AF71: =+AG71+AH71 -> 0 | AM71: =+AK71+AL71 -> 0
A72: 6.2 | B72: ²ßË³ï³ÝùáõÙ í»ñ³Ï³Ý·Ý»Éáõ í»ñ³µ»ñÛ³É | E72: =+F72+G72+H72+I72 -> 0 | J72: =+K72+L72+M72 -> 0 | O72: =+P72+Q72+R72+S72+T72 -> 0 | T72: =+U72+V72+W72 -> 0 | Y72: =+O72+X72 -> 0 | AF72: =+AG72+AH72 -> 0 | AM72: =+AK72+AL72 -> 0
A73: 6.3 | B73: ¶áñÍ³¹áõÉÝ ³ÝûñÇÝ³Ï³Ý ×³Ý³ã»Éáõ í»ñ³µ»ñÛ³É | E73: =+F73+G73+H73+I73 -> 0 | J73: =+K73+L73+M73 -> 0 | O73: =+P73+Q73+R73+S73+T73 -> 0 | T73: =+U73+V73+W73 -> 0 | Y73: =+O73+X73 -> 0 | AF73: =+AG73+AH73 -> 0 | AM73: =+AK73+AL73 -> 0
A74: 6.4 | B74: Ð³ñÏ³¹Çñ å³ñ³åáõñ¹Ç Ñ³ïáõóÙ³Ý í»ñ³µ»ñÛ³É | E74: =+F74+G74+H74+I74 -> 0 | J74: =+K74+L74+M74 -> 0 | O74: =+P74+Q74+R74+S74+T74 -> 0 | T74: =+U74+V74+W74 -> 0 | Y74: =+O74+X74 -> 0 | AF74: =+AG74+AH74 -> 0 | AM74: =+AK74+AL74 -> 0
A75: 6.5 | B75: âí×³ñí³Í ³ßË³ï³í³ñÓÇ ¨/Ï³Ù ³ÛÉ í×³ñÝ»ñÇ µéÝ³·³ÝÓÙ³Ý í»ñ³µ»ñÛ³É | E75: =+F75+G75+H75+I75 -> 0 | J75: =+K75+L75+M75 -> 0 | O75: =+P75+Q75+R75+S75+T75 -> 0 | T75: =+U75+V75+W75 -> 0 | Y75: =+O75+X75 -> 0 | AF75: =+AG75+AH75 -> 0 | AM75: =+AK75+AL75 -> 0
A76: 6.6 | B76: ²ÛÉ í»×»ñ | E76: =+F76+G76+H76+I76 -> 0 | J76: =+K76+L76+M76 -> 0 | O76: =+P76+Q76+R76+S76+T76 -> 0 | T76: =+U76+V76+W76 -> 0 | Y76: =+O76+X76 -> 0 | AF76: =+AG76+AH76 -> 0 | AM76: =+AK76+AL76 -> 0
A77: 7. | B77: Æñ³í³µ³Ý³Ï³Ý ³ÝÓÇ ·áñÍáõÝ»áõÃÛáõÝÇó µËáÕ Çñ³í³Ñ³ñ³µ»ñáõÃÛáõÝÝ»ñÇ í»ñ³µ»ñÛ³É ¹³ï³Ï³Ý ·áñÍ»ñ | E77: =SUM(E78:E79) -> 0 | F77: =SUM(F78:F79) -> 0 | G77: =SUM(G78:G79) -> 0 | H77: =SUM(H78:H79) -> 0 | I77: =SUM(I78:I79) -> 0 | J77: =SUM(J78:J79) -> 0 | K77: =SUM(K78:K79) -> 0 | L77: =SUM(L78:L79) -> 0 | ... AS77: =SUM(AS78:AS79) -> 0
A78: 7.1 | B78: Îáñåáñ³ïÇí í»×»ñ | E78: =+F78+G78+H78+I78 -> 0 | J78: =+K78+L78+M78 -> 0 | O78: =+P78+Q78+R78+S78+T78 -> 0 | T78: =+U78+V78+W78 -> 0 | Y78: =+O78+X78 -> 0 | AF78: =+AG78+AH78 -> 0 | AM78: =+AK78+AL78 -> 0
A79: 7.2 | B79: ²ÛÉ í»×»ñ | E79: =+F79+G79+H79+I79 -> 0 | J79: =+K79+L79+M79 -> 0 | O79: =+P79+Q79+R79+S79+T79 -> 0 | T79: =+U79+V79+W79 -> 0 | Y79: =+O79+X79 -> 0 | AF79: =+AG79+AH79 -> 0 | AM79: =+AK79+AL79 -> 0
A80: 8. | B80: Ð³ïáõÏ í³ñáõÛÃÇ ¹³ï³Ï³Ý ·áñÍ»ñ | E80: =+F80+G80+H80+I80 -> 5 | F80: =SUM(F81:F101) -> 5 | G80: =SUM(G81:G101) -> 0 | H80: =SUM(H81:H101) -> 0 | I80: =SUM(I81:I101) -> 0 | J80: =+K80+L80+M80 -> 0 | K80: =SUM(K81:K101) -> 0 | L80: =SUM(L81:L101) -> 0 | M80: =SUM(M81:M101) -> 0 | N80: =SUM(N81:N101) -> 5 | O80: =+P80+Q80+R80+S80+T80 -> 0 | P80: =SUM(P81:P101) -> 0 | Q80: =SUM(Q81:Q101) -> 0 | R80: =SUM(R81:R101) -> 0 | S80: =SUM(S81:S101) -> 0 | T80: =+U80+V80+W80 -> 0 | U80: =SUM(U81:U101) -> 0 | V80: =SUM(V81:V101) -> 0 | W80: =SUM(W81:W101) -> 0 | X80: =SUM(X81:X101) -> 0 | Y80: =+O80+X80 -> 0 | Z80: =SUM(Z81:Z101) -> 0 | AA80: =SUM(AA81:AA101) -> 0 | AB80: =SUM(AB81:AB101) -> 0 | AC80: =SUM(AC81:AC101) -> 0 | AD80: =SUM(AD81:AD101) -> 0 | AE80: =SUM(AE81:AE101) -> 0 | AF80: =+AG80+AH80 -> 0 | AG80: =SUM(AG81:AG101) -> 0 | AH80: =SUM(AH81:AH101) -> 0 | AI80: =SUM(AI81:AI101) -> 0 | AJ80: =SUM(AJ81:AJ101) -> 0 | AK80: =SUM(AK81:AK101) -> 0 | AL80: =SUM(AL81:AL101) -> 0 | AM80: =+AK80+AL80 -> 0 | AN80: =SUM(AN81:AN101) -> 0 | AO80: =SUM(AO81:AO101) -> 0 | AP80: =SUM(AP81:AP101) -> 0 | AQ80: =SUM(AQ81:AQ101) -> 0 | AR80: =SUM(AR81:AR101) -> 0 | AS80: =SUM(AS81:AS101) -> 0
A81: 8.1 | B81: ²Ýã³÷³Ñ³ëÇÝ ÉñÇí ·áñÍáõÝ³Ï ×³Ý³ã»Éáõ /¿Ù³ÝëÇå³óÇ³/ í»ñ³µ»ñÛ³É | E81: =+F81+G81+H81+I81 -> 0 | J81: =+K81+L81+M81 -> 0 | O81: =+P81+Q81+R81+S81+T81 -> 0 | T81: =+U81+V81+W81 -> 0 | Y81: =+O81+X81 -> 0 | AF81: =+AG81+AH81 -> 0 | AM81: =+AK81+AL81 -> 0
A82: 8.2 | B82: ø³Õ³ù³óáõÝ ³Ý·áñÍáõÝ³Ï Ï³Ù ë³ÑÙ³Ý³÷³Ï ·áñÍáõÝ³Ï ×³Ý³ã»Éáõ í»ñ³µ»ñÛ³É | E82: =+F82+G82+H82+I82 -> 5 | F82: 5 | J82: =+K82+L82+M82 -> 0 | N82: 5 | O82: =+P82+Q82+R82+S82+T82 -> 0 | T82: =+U82+V82+W82 -> 0 | Y82: =+O82+X82 -> 0 | AF82: =+AG82+AH82 -> 0 | AM82: =+AK82+AL82 -> 0
A83: 8.3 | B83: ø³Õ³ù³óáõÝ Ñá·»µáõÅ³Ï³Ý ÑÇí³Ý¹³Ýáó³ÛÇÝ Ñ³ñÏ³¹Çñ µáõÅÙ³Ý »ÝÃ³ñÏ»Éáõ í»ñ³µ»ñÛ³É | E83: =+F83+G83+H83+I83 -> 0 | J83: =+K83+L83+M83 -> 0 | O83: =+P83+Q83+R83+S83+T83 -> 0 | T83: =+U83+V83+W83 -> 0 | Y83: =+O83+X83 -> 0 | AF83: =+AG83+AH83 -> 0 | AM83: =+AK83+AL83 -> 0
A84: 8.4 | B84: ø³Õ³ù³óáõÝ ³ÝÑ³Ûï µ³ó³Ï³ÛáÕ Ï³Ù Ù³Ñ³ó³Í ×³Ý³ã»Éáõ í»ñ³µ»ñÛ³É | E84: =+F84+G84+H84+I84 -> 0 | J84: =+K84+L84+M84 -> 0 | O84: =+P84+Q84+R84+S84+T84 -> 0 | T84: =+U84+V84+W84 -> 0 | Y84: =+O84+X84 -> 0 | AF84: =+AG84+AH84 -> 0 | AM84: =+AK84+AL84 -> 0
A85: 8.5 | B85: ø³Õ³ù³óÇ³Ï³Ý Ï³óáõÃÛ³Ý ³Ïï»ñÇ ·ñ³éáõÙÝ»ñÇ ³Ý×ßïáõÃÛáõÝÝ»ñÁ å³ñ½»Éáõ í»ñ³µ»ñÛ³É | E85: =+F85+G85+H85+I85 -> 0 | J85: =+K85+L85+M85 -> 0 | O85: =+P85+Q85+R85+S85+T85 -> 0 | T85: =+U85+V85+W85 -> 0 | Y85: =+O85+X85 -> 0 | AF85: =+AG85+AH85 -> 0 | AM85: =+AK85+AL85 -> 0
A86: 8.6 | B86: ¶áõÛùÁ ïÇñ³½áõñÏ ×³Ý³ã»Éáõ í»ñ³µ»ñÛ³É | E86: =+F86+G86+H86+I86 -> 0 | J86: =+K86+L86+M86 -> 0 | O86: =+P86+Q86+R86+S86+T86 -> 0 | T86: =+U86+V86+W86 -> 0 | Y86: =+O86+X86 -> 0 | AF86: =+AG86+AH86 -> 0 | AM86: =+AK86+AL86 -> 0
A87: 8.6.1 | B87: ²Û¹ ÃíáõÙª ³Ýß³ñÅ ·áõÛùÁ | E87: =+F87+G87+H87+I87 -> 0 | J87: =+K87+L87+M87 -> 0 | O87: =+P87+Q87+R87+S87+T87 -> 0 | T87: =+U87+V87+W87 -> 0 | Y87: =+O87+X87 -> 0 | AF87: =+AG87+AH87 -> 0 | AM87: =+AK87+AL87 -> 0
A88: 8.6.2 | B88: ²Û¹ ÃíáõÙª ß³ñÅ³Ï³Ý ·áõÛùÁ | E88: =+F88+G88+H88+I88 -> 0 | J88: =+K88+L88+M88 -> 0 | O88: =+P88+Q88+R88+S88+T88 -> 0 | T88: =+U88+V88+W88 -> 0 | Y88: =+O88+X88 -> 0 | AF88: =+AG88+AH88 -> 0 | AM88: =+AK88+AL88 -> 0
A89: 8.7 | B89: Æñ³í³µ³Ý³Ï³Ý Ýß³Ý³ÏáõÃÛáõÝ áõÝ»óáÕ ÷³ëï»ñÇ Ñ³ëï³ïÙ³Ý í»ñ³µ»ñÛ³É | E89: =+F89+G89+H89+I89 -> 0 | J89: =+K89+L89+M89 -> 0 | O89: =+P89+Q89+R89+S89+T89 -> 0 | T89: =+U89+V89+W89 -> 0 | Y89: =+O89+X89 -> 0 | AF89: =+AG89+AH89 -> 0 | AM89: =+AK89+AL89 -> 0
A90: 8.7.1 | B90: ²ÝÓ³Ýó ³½·³Ïó³Ï³Ý Ï³åÁ Ñ³ëï³ï»Éáõ í»ñ³µ»ñÛ³É | E90: =+F90+G90+H90+I90 -> 0 | J90: =+K90+L90+M90 -> 0 | O90: =+P90+Q90+R90+S90+T90 -> 0 | T90: =+U90+V90+W90 -> 0 | Y90: =+O90+X90 -> 0 | AF90: =+AG90+AH90 -> 0 | AM90: =+AK90+AL90 -> 0
A91: 8.7.2 | B91: ²ÝÓÇª áõñÇßÇ ËÝ³ÙùÇ ï³Ï ·ïÝí»Éáõ í»ñ³µ»ñÛ³É | E91: =+F91+G91+H91+I91 -> 0 | J91: =+K91+L91+M91 -> 0 | O91: =+P91+Q91+R91+S91+T91 -> 0 | T91: =+U91+V91+W91 -> 0 | Y91: =+O91+X91 -> 0 | AF91: =+AG91+AH91 -> 0 | AM91: =+AK91+AL91 -> 0
A92: 8.7.3 | B92: ÌÝÝ¹Û³Ý, áñ¹»·ñÙ³Ý, ³ÙáõëÝáõÃÛ³Ý, ³å³Ñ³ñ½³ÝÇ ¨ Ù³Ñí³Ý ·ñ³ÝóÙ³Ý í»ñ³µ»ñÛ³É | E92: =+F92+G92+H92+I92 -> 0 | J92: =+K92+L92+M92 -> 0 | O92: =+P92+Q92+R92+S92+T92 -> 0 | T92: =+U92+V92+W92 -> 0 | Y92: =+O92+X92 -> 0 | AF92: =+AG92+AH92 -> 0 | AM92: =+AK92+AL92 -> 0
A93: 8.7.4 | B93: ²ÝÓÇª áñáß³ÏÇ Å³Ù³Ý³ÏáõÙ ¨ áñáß³ÏÇ Ñ³Ý·³Ù³ÝùÝ»ñáõÙ Ù³Ñí³Ý í»ñ³µ»ñÛ³É | E93: =+F93+G93+H93+I93 -> 0 | J93: =+K93+L93+M93 -> 0 | O93: =+P93+Q93+R93+S93+T93 -> 0 | T93: =+U93+V93+W93 -> 0 | Y93: =+O93+X93 -> 0 | AF93: =+AG93+AH93 -> 0 | AM93: =+AK93+AL93 -> 0
A94: 8.7.5 | B94: Ä³é³Ý·áõÃÛáõÝÝ ÁÝ¹áõÝ»Éáõ ¨ Å³é³Ý·áõÃÛ³Ý µ³óÙ³Ý í³ÛñÇ í»ñ³µ»ñÛ³É | E94: =+F94+G94+H94+I94 -> 0 | J94: =+K94+L94+M94 -> 0 | O94: =+P94+Q94+R94+S94+T94 -> 0 | T94: =+U94+V94+W94 -> 0 | Y94: =+O94+X94 -> 0 | AF94: =+AG94+AH94 -> 0 | AM94: =+AK94+AL94 -> 0
A95: 8.7.6 | B95: ¸Åµ³Ëï å³ï³Ñ³ñÇ í»ñ³µ»ñÛ³É | E95: =+F95+G95+H95+I95 -> 0 | J95: =+K95+L95+M95 -> 0 | O95: =+P95+Q95+R95+S95+T95 -> 0 | Y95: =+O95+X95 -> 0 | AF95: =+AG95+AH95 -> 0 | AM95: =+AK95+AL95 -> 0
A96: 8.7.7 | B96: Æñ³íáõÝù ë³ÑÙ³ÝáÕ ÷³ëï³ÃÕÃ»ñÇ å³ïÏ³Ý»ÉáõÃÛ³Ý í»ñ³µ»ñÛ³É | E96: =+F96+G96+H96+I96 -> 0 | J96: =+K96+L96+M96 -> 0 | O96: =+P96+Q96+R96+S96+T96 -> 0 | Y96: =+O96+X96 -> 0 | AF96: =+AG96+AH96 -> 0 | AM96: =+AK96+AL96 -> 0
A97: 8.7.8 | B97: ê»÷³Ï³ÝáõÃÛ³Ý Çñ³íáõÝùáí ·áõÛùÇ ïÇñ³å»ïÙ³Ý í»ñ³µ»ñÛ³É | E97: =+F97+G97+H97+I97 -> 0 | J97: =+K97+L97+M97 -> 0 | O97: =+P97+Q97+R97+S97+T97 -> 0 | Y97: =+O97+X97 -> 0 | AF97: =+AG97+AH97 -> 0 | AM97: =+AK97+AL97 -> 0
A98: 8.7.9 | B98: ²ÝÑ³ÕÃ³Ñ³ñ»ÉÇ áõÅÇ ³éÏ³ÛáõÃÛ³Ý í»ñ³µ»ñÛ³É | E98: =+F98+G98+H98+I98 -> 0 | J98: =+K98+L98+M98 -> 0 | O98: =+P98+Q98+R98+S98+T98 -> 0 | Y98: =+O98+X98 -> 0 | AF98: =+AG98+AH98 -> 0 | AM98: =+AK98+AL98 -> 0
A99: 8.7.10 | B99: úñ»Ýùáí Ý³Ë³ï»ëí³Í ³ÛÉ Çñ³í³µ³Ý³Ï³Ý ÷³ëï»ñÇ í»ñ³µ»ñÛ³É | E99: =+F99+G99+H99+I99 -> 0 | J99: =+K99+L99+M99 -> 0 | O99: =+P99+Q99+R99+S99+T99 -> 0 | Y99: =+O99+X99 -> 0 | AF99: =+AG99+AH99 -> 0 | AM99: =+AK99+AL99 -> 0
A100: 8.8 | B100: Àëï Ý»ñÏ³Û³óÝáÕÇ ¨ ûñ¹»ñ³ÛÇÝ Ïáñóñ³Í ³ñÅ»ÃÕÃ»ñáí Ñ³í³ëïí³Í Çñ³íáõÝùÝ»ñÁ í»ñ³Ï³Ý·Ý»Éáõ í»ñ³µ»ñÛ³É | E100: =+F100+G100+H100+I100 -> 0 | J100: =+K100+L100+M100 -> 0 | O100: =+P100+Q100+R100+S100+T100 -> 0 | T100: =+U100+V100+W100 -> 0 | Y100: =+O100+X100 -> 0 | AF100: =+AG100+AH100 -> 0 | AM100: =+AK100+AL100 -> 0
...

Sheet Ս.Մնացյան
A1: 2017թ. | G1: Ð²ÞìºîìàôÂÚàôÜ | AM1: Ð³í»Éí³Í Ð³Û³ëï³ÝÇ Ð³Ýñ³å»ïáõÃÛ³Ý ¸³ï³ñ³ÝÝ»ñÇ Ý³Ë³·³ÑÝ»ñÇ ËáñÑñ¹Ç 29.01.2018Ã. ÃÇí 10-È áñáßÙ³Ý
A2: ՀՀ ÞÆð²ÎÆ ՄԱՐԶԻ ÀÜ¸Ð²Üàôð Æð²ì²êàôÂÚ²Ü ²è²æÆÜ ²îÚ²ÜÆ ¸²î²ð²ÜÆ ¸²î²ìàð | Z2: Ս. ՄՆԱՑÚ²ÜÆ | AH2: ¶àðÌàôÜºàôÂÚ²Ü ìºð²´ºðÚ²È
A3: ø²Ô²ø²òÆ²Î²Ü ¶àðÌºðàì
A4: ՀՀ ÞÇñ³ÏÇ մարզի ÁÝ¹Ñ³Ýáõñ Çñ³í³ëáõÃÛ³Ý ³é³çÇÝ ³ïÛ³ÝÇ ¹³ï³ñ³ÝÇ ù³Õ³ù³óÇ³Ï³Ý Ù³ëÝ³·Çï³óáõÙ áõÝ»óáÕ ¹³ï³íáñÝ»ñÇ Ñ³ëïÇùÝ»ñÇ ù³Ý³ÏÁ` 9
E5: Ð³ßí»ïáõ Å³Ù³Ý³Ï³Ñ³ïí³ÍáõÙ Ý³Ëáñ¹ Ñ³ßí»ïáõ Å³Ù³Ý³Ï³Ñ³ïí³ÍÇó ÷áË³Ýóí³Í ·áñÍ»ñÇ ÁÝ¹Ñ³Ýáõñ ÃÇíÁ | J5: Ð³ßí»ïáõ Å³Ù³Ý³Ï³Ñ³ïí³ÍáõÙëï³óí³Í ·áñÍ»ñÇ (³Û¹ ÃíáõÙ` Ñ³Ûó³¹ÇÙáõÙÝ»ñÇ, ¹ÇÙáõÙÝ»ñÇ) ÁÝ¹Ñ³Ýáõñ ÃÇíÁ | N5: öáË³Ýóí»É ¿ ³ÛÉ ¹³ï³íáñÇ (Ï³½ÙÇ ÷á÷áËáõÃÛáõÝ) | O5: Ð³ßí»ïáõ Å³Ù³Ý³Ï³Ñ³ïí³ÍáõÙ ³í³ñïí³Í ·áñÍ»ñÇ ÁÝ¹Ñ³Ýáõñ ÃÇíÁ | Z5: ¶áñÍÝ áõÕ³ñÏí»É ¿ Áëï ÁÝ¹¹³ïáõÃÛ³Ý | AA5: Ð³ßí»ïáõ Å³Ù³Ý³Ï³Ñ³ïí³ÍáõÙ Ï³ë»óí³Í í³ñáõÛÃÝ»ñáí ·áñÍ»ñÇ ÁÝ¹Ñ³Ýáõñ ÃÇíÁ | AB5: Ð³ßí»ïáõ Å³Ù³Ý³Ï³Ñ³ïí³ÍáõÙ ³Ý³í³ñï ·áñÍ»ñÇ ÁÝ¹Ñ³Ýáõñ ÃÇíÁ | AC5: ²Û¹ ÃíáõÙª Ï³ë»óí³Í | AD5: ´áÕáù³ñÏí³Í ¹³ï³Ï³Ý ³Ïï»ñÁ | AI5: ²í³ñïí³Í ¹³ï³Ï³Ý ·áñÍ»ñÇ µáÕáù³ñÏÙ³Ý ïáÏáëÁ (Ñ³ßí»ïáõ Å³Ù³Ý³Ï³ßñç³ÝáõÙ) | AJ5: ²Ý³í³ñï µáÕáùÝ»ñ | AK5: ´»Ï³Ýí³Í ¹³ï³Ï³Ý ³Ïï»ñÁ | AP5: µ»Ï³ÝáõÙÝ»ñÇ ïáÏáëÁ ³í³ñïí³Í ·áñÍ»ñÇó(Ñ³ßí»ïáõ Å³Ù³Ý³Ï³ßñç³ÝáõÙ) | AQ5: Î³ÛáõÝáõÃÛ³Ý ïáÏáëÁ ³í³ñïí³Í ·áñÍ»ñÇó(Ñ³ßí»ïáõ Å³Ù³Ý³Ï³ßñç³ÝáõÙ) | AR5: µ»Ï³ÝáõÙÝ»ñÇ ïáÏáëÁ µáÕáù³ñÏí³Í ·áñÍ»ñÇó(Ñ³ßí»ïáõ Å³Ù³Ý³Ï³ßñç³ÝáõÙ) | AS5: Ï³ÛáõÝáõÃÛ³Ý ïáÏáëÁ(Ñ³ßí»ïáõ Å³Ù³Ý³Ï³ßñç³ÝáõÙ)
E6: ÀÝ¹³Ù»ÝÁ | F6: ²Û¹ ÃíáõÙ`Ï³ë»óí³Í íÇ×³ÏáõÙ ÷áË³Ýóí³Í | G6: ²Û¹ ÃíáõÙª ÁÝ¹áõÝí»É ¿ í³ñáõÛÃ | H6: ²Û¹ ÃíáõÙª í»ñ³¹³ñÓí»É ¿ | I6: ²Û¹ ÃíáõÙª ÁÝ¹áõÝáõÙÁ Ù»ñÅí»É ¿ | J6: ÀÝ¹³Ù»ÝÁ | K6: ²Û¹ ÃíáõÙª ÁÝ¹áõÝí»É ¿ í³ñáõÛÃ | L6: ²Û¹ ÃíáõÙª í»ñ³¹³ñÓí»É ¿ | M6: ²Û¹ ÃíáõÙª ÁÝ¹áõÝáõÙÁ Ù»ñÅí»É ¿ | O6: ÀÝ¹³Ù»ÝÁ ³í³ñïí»É »Ý ·áñÍ»ñ ·áñÍÝ Áëï ¿áõÃÛ³Ý ÉáõÍáÕ ¹³ï³Ï³Ý ³Ïï»ñÇ (í×ÇéÝ»ñÇ) Ï³Û³óÙ³Ùµ | P6: ²Û¹ ÃíáõÙª Ñ³ÛóÇ µ³í³ñ³ñÙ³Ùµ | Q6: ²Û¹ ÃíáõÙª Ñ³ÛóÇ Ù³ëÝ³ÏÇ µ³í³ñ³ñÙ³Ùµ | R6: ²Û¹ ÃíáõÙª Ñ³ÛóÇ Ù»ñÅÙ³Ùµ | S6: Ø³ëáí Ï³ñ×í»É ¿, Ù³ëáí Ù»ñÅí»É | T6: ²Û¹ ÃíáõÙª Ï³ñ×í»É »Ý | X6: Ð³ÛóÁ ÃáÕÝí»É ¿ ³é³Ýó ùÝÝáõÃÛ³Ý | Y6: ÀÝ¹³Ù»ÝÝ ³í³ñïí»É »Ý ·áñÍ»ñ | AD6: ²Û¹ ÃíáõÙ` ·áñÍÝ Áëï ¿áõÃÛ³Ý ÉáõÍáÕ ¹³ï³Ï³Ý ³Ïï»ñÁ | AE6: ²Û¹ ÃíáõÙ` ÙÇç³ÝÏÛ³É ¹³ï³Ï³Ý ³Ïï»ñÁ | AF6: ÀÝ¹³Ù»ÝÁ | AG6: Ü³Ëáñ¹ ï³ñÇÝ»ñÇÝ Ï³Û³óí³Í ³Ïï»ñÇ µáÕáù³ñÏáõÙÁ Ñ³ßí»ïáõ Å³Ù³Ý³Ï³ßñç³ÝáõÙ | AH6: Ð³ßí»ïáõ Å³Ù³Ý³Ï³ßñç³ÝáõÙ Ï³Û³óí³Í ³Ïï»ñÇ µáÕáù³ñÏáõÙÁ | AK6: ²Û¹ ÃíáõÙ` ·áñÍÝ Áëï ¿áõÃÛ³Ý ÉáõÍáÕ ¹³ï³Ï³Ý ³Ïï»ñÁ | AL6: ²Û¹ ÃíáõÙ` ÙÇç³ÝÏÛ³É ¹³ï³Ï³Ý ³Ïï»ñÁ | AM6: ÀÝ¹³Ù»ÝÁ | AN6: Ü³Ëáñ¹ ï³ñÇÝ»ñÇÝ Ï³Û³óí³Í ³Ïï»ñÇ µ»Ï³ÝáõÙÝ»ñÁ Ñ³ßí»ïáõ Å³Ù³Ý³Ï³ßñç³ÝáõÙ | AO6: Ð³ßí»ïáõ Å³Ù³Ý³Ï³ßñç³ÝáõÙ Ï³Û³óí³Í ³Ïï»ñÇ µ»Ï³ÝáõÙÁ
T7: ÀÝ¹³Ù»ÝÁ Ï³ñ×í»É »Ý | U7: ²Û¹ ÃíáõÙª Ñ³ëï³ïí»É ¿ ÏÝùí³Í Ñ³ßïáõÃÛ³Ý Ñ³Ù³Ó³ÛÝáõÃÛáõÝÁ | V7: ²Û¹ ÃíáõÙª Ñ³óÇó, ¹ÇÙáõÙÇó Ññ³Å³ñí»Éáõ ÑÇÙùáí | W7: ²Û¹ ÃíáõÙª ³ÛÉ ÑÇÙùáí
E8: 1 | F8: 2 | G8: 3 | H8: 4 | I8: 5 | J8: 6 | K8: 7 | L8: 8 | M8: 9 | N8: 10 | O8: 11 | P8: 12 | Q8: 13 | R8: 14 | S8: 15 | T8: 16 | U8: 17 | V8: 18 | W8: 19 | X8: 20 | Y8: 21 | Z8: 22 | AA8: 23 | AB8: 24 | AC8: 25 | AD8: 26 | AE8: 27 | AF8: 28 | AG8: 29 | AH8: 30 | AI8: 31 | AJ8: 32 | AK8: 33 | AL8: 34 | AM8: 35 | AN8: 36 | AO8: 37 | AP8: 38 | AQ8: 39 | AR8: 40 | AS8: 41
A9: 1. | B9: ¶áõÛù³ÛÇÝ Çñ³í³Ñ³ñ³µ»ñáõÃÛáõÝÝ»ñÇ í»ñ³µ»ñÛ³É ¹³ï³Ï³Ý ·áñÍ»ñ | E9: =SUM(E10:E28) -> 36 | F9: =SUM(F10:F28) -> 16 | G9: =SUM(G10:G28) -> 20 | H9: =SUM(H10:H28) -> 0 | I9: =SUM(I10:I28) -> 0 | J9: =SUM(J10:J28) -> 52 | K9: =SUM(K10:K28) -> 50 | L9: =SUM(L10:L28) -> 2 | ... AS9: =SUM(AS10:AS28) -> 0
A10: 1.1 | B10: ¶áõÛùÇ ÝÏ³ïÙ³Ùµ ë»÷³Ï³ÝáõÃÛ³Ý Çñ³íáõÝùÁ ×³Ý³ã»Éáõ í»ñ³µ»ñÛ³É | E10: =+F10+G10+H10+I10 -> 2 | G10: 2 | J10: =+K10+L10+M10 -> 1 | K10: 1 | O10: =+P10+Q10+R10+S10+T10 -> 3 | P10: 2 | Q10: 1 | T10: =+U10+V10+W10 -> 0 | Y10: =+O10+X10 -> 3 | AD10: 1 | AF10: 1 | AH10: 1 | AM10: =+AK10+AL10 -> 0
A11: 1.1.1 | B11: ²Û¹ ÃíáõÙª Ó»éùµ»ñÙ³Ý í³Õ»ÙáõÃÛ³Ý áõÅáí | E11: =+F11+G11+H11+I11 -> 4 | G11: 4 | J11: =+K11+L11+M11 -> 8 | K11: 8 | O11: =+P11+Q11+R11+S11+T11 -> 8 | P11: 8 | T11: =+U11+V11+W11 -> 0 | Y11: =+O11+X11 -> 8 | AA11: 1 | AB11: 4 | AC11: 1 | AD11: 1 | AF11: 1 | AH11: 1 | AM11: =+AK11+AL11 -> 0
A12: 1.1.2 | B12: ²Û¹ ÃíáõÙª ïÇñ³½áõñÏ ·áõÛùÇ ÝÏ³ïÙ³Ùµ | E12: =+F12+G12+H12+I12 -> 0 | J12: =+K12+L12+M12 -> 1 | K12: 1 | O12: =+P12+Q12+R12+S12+T12 -> 0 | T12: =+U12+V12+W12 -> 0 | Y12: =+O12+X12 -> 0 | AB12: 1 | AF12: =+AG12+AH12 -> 0 | AM12: =+AK12+AL12 -> 0
A13: 1.1.3 | B13: ²Û¹ ÃíáõÙª ÇÝùÝ³Ï³Ù Ï³éáõÛóÇ ÝÏ³ïÙ³Ùµ | E13: =+F13+G13+H13+I13 -> 0 | J13: =+K13+L13+M13 -> 0 | O13: =+P13+Q13+R13+S13+T13 -> 0 | T13: =+U13+V13+W13 -> 0 | Y13: =+O13+X13 -> 0 | AF13: =+AG13+AH13 -> 0 | AM13: =+AK13+AL13 -> 0
A14: 1.2 | B14: ê»÷³Ï³ÝáõÃÛ³Ý Çñ³íáõÝùÇ ¹³¹³ñ»óÙ³Ý í»ñ³µ»ñÛ³É | E14: =+F14+G14+H14+I14 -> 0 | J14: =+K14+L14+M14 -> 0 | O14: =+P14+Q14+R14+S14+T14 -> 0 | T14: =+U14+V14+W14 -> 0 | Y14: =+O14+X14 -> 0 | AF14: =+AG14+AH14 -> 0 | AM14: =+AK14+AL14 -> 0
A15: 1.3 | B15: ¶áõÛùÇ ÝÏ³ïÙ³Ùµ û·ï³·áñÍÙ³Ý Çñ³íáõÝùÁ ×³Ý³ã»Éáõ í»ñ³µ»ñÛ³É | E15: =+F15+G15+H15+I15 -> 0 | J15: =+K15+L15+M15 -> 0 | O15: =+P15+Q15+R15+S15+T15 -> 0 | T15: =+U15+V15+W15 -> 0 | Y15: =+O15+X15 -> 0 | AF15: =+AG15+AH15 -> 0 | AM15: =+AK15+AL15 -> 0
A16: 1.3.1 | B16: ²Û¹ ÃíáõÙª µÝ³Ïû·ï³·áñÍÙ³Ý Çñ³íáõÝùÁ ×³Ý³ã»Éáõ í»ñ³µ»ñÛ³É | E16: =+F16+G16+H16+I16 -> 0 | J16: =+K16+L16+M16 -> 0 | O16: =+P16+Q16+R16+S16+T16 -> 0 | T16: =+U16+V16+W16 -> 0 | Y16: =+O16+X16 -> 0 | AF16: =+AG16+AH16 -> 0 | AM16: =+AK16+AL16 -> 0
A17: 1.3.2 | B17: ²Û¹ ÃíáõÙª ÑáÕ³Ù³ëÇ ÝÏ³ïÙ³Ùµ û·ï³·áñÍÙ³Ý Çñ³íáõÝùÁ ×³Ý³ã»Éáõ í»ñ³µ»ñÛ³É | E17: =+F17+G17+H17+I17 -> 0 | J17: =+K17+L17+M17 -> 0 | O17: =+P17+Q17+R17+S17+T17 -> 0 | T17: =+U17+V17+W17 -> 0 | Y17: =+O17+X17 -> 0 | AF17: =+AG17+AH17 -> 0 | AM17: =+AK17+AL17 -> 0
A18: 1.4 | B18: ¶áõÛùÇ ÝÏ³ïÙ³Ùµ û·ï³·áñÍÙ³Ý Çñ³íáõÝùÁ ¹³¹³ñ»óÝ»Éáõ í»ñ³µ»ñÛ³É | E18: =+F18+G18+H18+I18 -> 0 | J18: =+K18+L18+M18 -> 0 | O18: =+P18+Q18+R18+S18+T18 -> 0 | T18: =+U18+V18+W18 -> 0 | Y18: =+O18+X18 -> 0 | AF18: =+AG18+AH18 -> 0 | AM18: =+AK18+AL18 -> 0
A19: 1.4.1 | B19: ²Û¹ ÃíáõÙª µÝ³Ïû·ï³·áñÍÙ³Ý Çñ³íáõÝùÁ ¹³¹³ñ»óÝ»Éáõ í»ñ³µ»ñÛ³É | E19: =+F19+G19+H19+I19 -> 0 | J19: =+K19+L19+M19 -> 0 | O19: =+P19+Q19+R19+S19+T19 -> 0 | T19: =+U19+V19+W19 -> 0 | Y19: =+O19+X19 -> 0 | AF19: =+AG19+AH19 -> 0 | AM19: =+AK19+AL19 -> 0
A20: 1.4.1/1 | B20: ²Û¹ ÃíáõÙª ÷áËÑ³ïáõóÙ³Ùµ | E20: =+F20+G20+H20+I20 -> 0 | J20: =+K20+L20+M20 -> 0 | O20: =+P20+Q20+R20+S20+T20 -> 0 | T20: =+U20+V20+W20 -> 0 | Y20: =+O20+X20 -> 0 | AF20: =+AG20+AH20 -> 0 | AM20: =+AK20+AL20 -> 0
A21: 1.5 | B21: ´Ý³Ï³ñ³ÝÇó/ ï³ñ³ÍùÇó/ íï³ñ»Éáõ í»ñ³µ»ñÛ³É | E21: =+F21+G21+H21+I21 -> 2 | F21: 1 | G21: 1 | J21: =+K21+L21+M21 -> 0 | O21: =+P21+Q21+R21+S21+T21 -> 2 | R21: 1 | T21: =+U21+V21+W21 -> 1 | V21: 1 | Y21: =+O21+X21 -> 2 | AF21: =+AG21+AH21 -> 0 | AM21: =+AK21+AL21 -> 0
A22: 1.6 | B22: ¶áõÛùÝ áõñÇßÇ ³åûñÇÝÇ ïÇñ³å»ïáõÙÇó »ï í»ñ³¹³ñÓÝ»Éáõ í»ñ³µ»ñÛ³É | E22: =+F22+G22+H22+I22 -> 3 | F22: 2 | G22: 1 | J22: =+K22+L22+M22 -> 1 | K22: 1 | O22: =+P22+Q22+R22+S22+T22 -> 2 | P22: 1 | Q22: 1 | T22: =+U22+V22+W22 -> 0 | Y22: =+O22+X22 -> 2 | AA22: 1 | AB22: 2 | AC22: 2 | AD22: 2 | AF22: =+AG22+AH22 -> 2 | AH22: 2 | AM22: =+AK22+AL22 -> 0
A23: 1.6.1 | B23: ´³ñ»ËÇÕ× Ó»éùµ»ñáÕÇó Çñ ·áõÛùÁ Ñ»ï å³Ñ³Ýç»Éáõ í»ñ³µ»ñÛ³É | E23: =+F23+G23+H23+I23 -> 0 | J23: =+K23+L23+M23 -> 0 | O23: =+P23+Q23+R23+S23+T23 -> 0 | T23: =+U23+V23+W23 -> 0 | Y23: =+O23+X23 -> 0 | AF23: =+AG23+AH23 -> 0 | AM23: =+AK23+AL23 -> 0
A24: 1.7 | B24: îÇñ³å»ïáõÙÇó ½ñÏ»Éáõ Ñ»ï ãÏ³åí³Í Çñ³íáõÝùÝ»ñÇ Ë³ËïáõÙÁ í»ñ³óÝ»Éáõ í»ñ³µ»ñÛ³É | E24: =+F24+G24+H24+I24 -> 0 | J24: =+K24+L24+M24 -> 0 | O24: =+P24+Q24+R24+S24+T24 -> 0 | T24: =+U24+V24+W24 -> 0 | Y24: =+O24+X24 -> 0 | AF24: =+AG24+AH24 -> 0 | AM24: =+AK24+AL24 -> 0
A25: 1.8 | B25: ÀÝ¹Ñ³Ýáõñ µ³ÅÝ³ÛÇÝ ë»÷³Ï³ÝáõÃÛáõÝÇó µ³ÅÇÝÝ ³é³ÝÓÝ³óÝ»Éáõ í»ñ³µ»ñÛ³É | E25: =+F25+G25+H25+I25 -> 8 | F25: 5 | G25: 3 | J25: =+K25+L25+M25 -> 20 | K25: 20 | O25: =+P25+Q25+R25+S25+T25 -> 3 | P25: 1 | T25: =+U25+V25+W25 -> 2 | U25: 1 | V25: 1 | Y25: =+O25+X25 -> 3 | AA25: 12 | AB25: 25 | AC25: 14 | AF25: =+AG25+AH25 -> 0 | AM25: =+AK25+AL25 -> 0
A26: 1.8.1 | B26: Ð³Ù³ï»Õ ë»÷³Ï³ÝáõÃÛ³Ý Ý»ñùá ·ïÝíáÕ ·áõÛùÁ µ³Å³Ý»Éáõ ¨ ¹ñ³ÝÇó µ³ÅÇÝÝ ³é³ÝÓÝ³óÝ»Éáõ í»ñ³µ»ñÛ³É | E26: =+F26+G26+H26+I26 -> 16 | F26: 8 | G26: 8 | J26: =+K26+L26+M26 -> 15 | K26: 14 | L26: 1 | O26: =+P26+Q26+R26+S26+T26 -> 4 | P26: 4 | T26: =+U26+V26+W26 -> 0 | Y26: =+O26+X26 -> 4 | AA26: 6 | AB26: 26 | AC26: 12 | AF26: =+AG26+AH26 -> 0 | AM26: =+AK26+AL26 -> 0
A27: 1.8.3 | B27: ¶áõÛùÇ íñ³ µéÝ³·³ÝÓáõÙ ï³ñ³Í»Éáõ å³Ñ³ÝçÇ Ù³ëÇÝ | E27: =+F27+G27+H27+I27 -> 0 | J27: =+K27+L27+M27 -> 0 | O27: =+P27+Q27+R27+S27+T27 -> 0 | T27: =+U27+V27+W27 -> 0 | Y27: =+O27+X27 -> 0 | AF27: =+AG27+AH27 -> 0 | AM27: =+AK27+AL27 -> 0
A28: 1.9 | B28: ²ÛÉ í»×»ñ | E28: =+F28+G28+H28+I28 -> 1 | G28: 1 | J28: =+K28+L28+M28 -> 6 | K28: 5 | L28: 1 | O28: =+P28+Q28+R28+S28+T28 -> 2 | P28: 1 | T28: =+U28+V28+W28 -> 1 | U28: 1 | Y28: =+O28+X28 -> 2 | AB28: 4 | AD28: 1 | AF28: =+AG28+AH28 -> 1 | AH28: 1 | AJ28: 1 | AM28: =+AK28+AL28 -> 0
A29: 2. | B29: ¶áñÍ³ñùÝ»ñÇ Ñ»ï Ï³åí³Í Çñ³í³Ñ³ñ³µ»ñáõÃÛáõÝÝ»ñÇ í»ñ³µ»ñÛ³É ¹³ï³Ï³Ý ·áñÍ»ñ | E29: =SUM(E30:E40) -> 3 | F29: =SUM(F30:F40) -> 1 | G29: =SUM(G30:G40) -> 2 | H29: =SUM(H30:H40) -> 0 | I29: =SUM(I30:I40) -> 0 | J29: =+K29+L29+M29 -> 9 | K29: =SUM(K30:K40) -> 9 | L29: =SUM(L30:L40) -> 0 | M29: =SUM(M30:M40) -> 0 | N29: =SUM(N30:N40) -> 0 | O29: =+P29+Q29+R29+S29+T29 -> 7 | P29: =SUM(P30:P40) -> 5 | Q29: =SUM(Q30:Q40) -> 0 | R29: =SUM(R30:R40) -> 1 | S29: =SUM(S30:S40) -> 0 | T29: =+U29+V29+W29 -> 1 | U29: =SUM(U30:U40) -> 0 | V29: =SUM(V30:V40) -> 1 | W29: =SUM(W30:W40) -> 0 | X29: =SUM(X30:X40) -> 0 | Y29: =+O29+X29 -> 7 | Z29: =SUM(Z30:Z40) -> 0 | AA29: =SUM(AA30:AA40) -> 0 | AB29: =SUM(AB30:AB40) -> 5 | AC29: =SUM(AC30:AC40) -> 1 | AD29: =SUM(AD30:AD40) -> 1 | AE29: =SUM(AE30:AE40) -> 0 | AF29: =+AG29+AH29 -> 1 | AG29: =SUM(AG30:AG40) -> 0 | AH29: =SUM(AH30:AH40) -> 1 | AI29: =SUM(AI30:AI40) -> 0 | AJ29: =SUM(AJ30:AJ40) -> 0 | AK29: =SUM(AK30:AK40) -> 1 | AL29: =SUM(AL30:AL40) -> 0 | AM29: =+AK29+AL29 -> 1 | AN29: =SUM(AN30:AN40) -> 0 | AO29: =SUM(AO30:AO40) -> 1 | AP29: =SUM(AP30:AP40) -> 1 | AQ29: =SUM(AQ30:AQ40) -> 0 | AR29: =SUM(AR30:AR40) -> 0 | AS29: =SUM(AS30:AS40) -> 0
A30: 2.1 | B30: ·áñÍ³ñùÝ»ñÇ ³Ýí³í»ñáõÃÛ³Ý Ñ»ï Ï³åí³Í í»×»ñ | E30: =+F30+G30+H30+I30 -> 0 | J30: =+K30+L30+M30 -> 1 | K30: 1 | O30: =+P30+Q30+R30+S30+T30 -> 0 | T30: =+U30+V30+W30 -> 0 | Y30: =+O30+X30 -> 0 | AB30: 1 | AF30: =+AG30+AH30 -> 0 | AM30: =+AK30+AL30 -> 0
A31: 2.1.1 | B31: ³Û¹ ÃíáõÙ` íÇ×³Ñ³ñáõÛó ·áñÍ³ñùÝ»ñÝ ³Ýí³í»ñ ×³Ý³ã»Éáõ í»ñ³µ»ñÛ³É | E31: =+F31+G31+H31+I31 -> 0 | J31: =+K31+L31+M31 -> 0 | O31: =+P31+Q31+R31+S31+T31 -> 0 | T31: =+U31+V31+W31 -> 0 | Y31: =+O31+X31 -> 0 | AF31: =+AG31+AH31 -> 0 | AM31: =+AK31+AL31 -> 0
A32: 2.1.2 | B32: ³Û¹ ÃíáõÙ` ·áñÍ³ñùÇ ³éáãÝãáõÃÛ³Ý Ñ»ï¨³ÝùÝ»ñ ÏÇñ³é»Éáõ í»ñ³µ»ñÛ³É | E32: =+F32+G32+H32+I32 -> 0 | J32: =+K32+L32+M32 -> 0 | O32: =+P32+Q32+R32+S32+T32 -> 0 | T32: =+U32+V32+W32 -> 0 | Y32: =+O32+X32 -> 0 | AF32: =+AG32+AH32 -> 0 | AM32: =+AK32+AL32 -> 0
A33: 2.2 | B33: ¶áñÍ³ñùÁ í³í»ñ ×³Ý³ã»Éáõ í»ñ³µ»ñÛ³É | E33: =+F33+G33+H33+I33 -> 0 | J33: =+K33+L33+M33 -> 1 | K33: 1 | O33: =+P33+Q33+R33+S33+T33 -> 1 | P33: 1 | T33: =+U33+V33+W33 -> 0 | Y33: =+O33+X33 -> 1 | AF33: =+AG33+AH33 -> 0 | AM33: =+AK33+AL33 -> 0
A34: 2.3 | B34: ¶áñÍ³ñùÇó Í³·áÕ Çñ³íáõÝùÝ»ñÁ ·ñ³Ýó»Éáõ í»ñ³µ»ñÛ³É | E34: =+F34+G34+H34+I34 -> 0 | J34: =+K34+L34+M34 -> 0 | O34: =+P34+Q34+R34+S34+T34 -> 0 | T34: =+U34+V34+W34 -> 0 | Y34: =+O34+X34 -> 0 | AF34: =+AG34+AH34 -> 0 | AM34: =+AK34+AL34 -> 0
A35: 2.4 | B35: ä³ÛÙ³Ý³·ÇñÝ ³Ýí³í»ñ ×³Ý³ã»Éáõ í»ñ³µ»ñÛ³É | E35: =+F35+G35+H35+I35 -> 0 | J35: =+K35+L35+M35 -> 0 | O35: =+P35+Q35+R35+S35+T35 -> 0 | T35: =+U35+V35+W35 -> 0 | Y35: =+O35+X35 -> 0 | AF35: =+AG35+AH35 -> 0 | AM35: =+AK35+AL35 -> 0
A36: 2.5 | B36: ä³ÛÙ³Ý³·ñÇÁ í³í»ñ ×³Ý³ã»Éáõ í»ñ³µ»ñÛ³É | E36: =+F36+G36+H36+I36 -> 1 | G36: 1 | J36: =+K36+L36+M36 -> 6 | K36: 6 | O36: =+P36+Q36+R36+S36+T36 -> 5 | P36: 4 | T36: =+U36+V36+W36 -> 1 | V36: 1 | Y36: =+O36+X36 -> 5 | AB36: 2 | AF36: =+AG36+AH36 -> 0 | AM36: =+AK36+AL36 -> 0
A37: 2.6 | B37: ä³ÛÙ³Ý³·ñÇó Í³·áÕ Çñ³íáõÝùÝ»ñÁ ·ñ³Ýó»Éáõ í»ñ³µ»ñÛ³É | E37: =+F37+G37+H37+I37 -> 0 | J37: =+K37+L37+M37 -> 1 | K37: 1 | O37: =+P37+Q37+R37+S37+T37 -> 0 | T37: =+U37+V37+W37 -> 0 | Y37: =+O37+X37 -> 0 | AB37: 1 | AF37: =+AG37+AH37 -> 0 | AM37: =+AK37+AL37 -> 0
A38: 2.7 | B38: ä³ÛÙ³Ý³·ÇñÁ ÷á÷áË»Éáõ ¨ ÉáõÍ»Éáõ í»ñ³µ»ñÛ³É | E38: =+F38+G38+H38+I38 -> 1 | G38: 1 | J38: =+K38+L38+M38 -> 0 | O38: =+P38+Q38+R38+S38+T38 -> 1 | R38: 1 | T38: =+U38+V38+W38 -> 0 | Y38: =+O38+X38 -> 1 | AD38: 1 | AF38: =+AG38+AH38 -> 1 | AH38: 1 | AK38: 1 | AM38: =+AK38+AL38 -> 1 | AO38: 1 | AP38: 1
A39: 2.8 | B39: ä³ÛÙ³Ý³·Çñ ÏÝù»ÉáõÝ å³ñï³íáñ»óÝ»Éáõ í»ñ³µ»ñÛ³É | E39: =+F39+G39+H39+I39 -> 0 | J39: =+K39+L39+M39 -> 0 | O39: =+P39+Q39+R39+S39+T39 -> 0 | T39: =+U39+V39+W39 -> 0 | Y39: =+O39+X39 -> 0 | AF39: =+AG39+AH39 -> 0 | AM39: =+AK39+AL39 -> 0
A40: 2.9 | B40: ²ÛÉ í»×»ñ | E40: =+F40+G40+H40+I40 -> 1 | F40: 1 | J40: =+K40+L40+M40 -> 0 | O40: =+P40+Q40+R40+S40+T40 -> 0 | T40: =+U40+V40+W40 -> 0 | Y40: =+O40+X40 -> 0 | AB40: 1 | AC40: 1 | AF40: =+AG40+AH40 -> 0 | AM40: =+AK40+AL40 -> 0
A41: 3. | B41: Ä³é³Ý·áõÃÛ³Ý Ñ»ï Ï³åí³Í Çñ³í³Ñ³ñ³µ»ñáõÃÛáõÝÝ»ñÇ í»ñ³µ»ñÛ³É ¹³ï³Ï³Ý ·áñÍ»ñ | E41: =SUM(E42:E48) -> 4 | F41: =SUM(F42:F48) -> 0 | G41: =SUM(G42:G48) -> 4 | H41: =SUM(H42:H48) -> 0 | I41: =SUM(I42:I48) -> 0 | J41: =+K41+L41+M41 -> 1 | K41: =SUM(K42:K48) -> 1 | L41: =SUM(L42:L48) -> 0 | M41: =SUM(M42:M48) -> 0 | N41: =SUM(N42:N48) -> 0 | O41: =+P41+Q41+R41+S41+T41 -> 5 | P41: =SUM(P42:P48) -> 2 | Q41: =SUM(Q42:Q48) -> 0 | R41: =SUM(R42:R48) -> 2 | S41: =SUM(S42:S48) -> 0 | T41: =+U41+V41+W41 -> 1 | U41: =SUM(U42:U48) -> 0 | V41: =SUM(V42:V48) -> 1 | W41: =SUM(W42:W48) -> 0 | X41: =SUM(X42:X48) -> 0 | Y41: =+O41+X41 -> 5 | Z41: =SUM(Z42:Z48) -> 0 | AA41: =SUM(AA42:AA48) -> 0 | AB41: =SUM(AB42:AB48) -> 0 | AC41: =SUM(AC42:AC48) -> 0 | AD41: =SUM(AD42:AD48) -> 0 | AE41: =SUM(AE42:AE48) -> 0 | AF41: =+AG41+AH41 -> 0 | AG41: =SUM(AG42:AG48) -> 0 | AH41: =SUM(AH42:AH48) -> 0 | AI41: =SUM(AI42:AI48) -> 0 | AJ41: =SUM(AJ42:AJ48) -> 0 | AK41: =SUM(AK42:AK48) -> 0 | AL41: =SUM(AL42:AL48) -> 0 | AM41: =+AK41+AL41 -> 0 | AN41: =SUM(AN42:AN48) -> 0 | AO41: =SUM(AO42:AO48) -> 0 | AP41: =SUM(AP42:AP48) -> 0 | AQ41: =SUM(AQ42:AQ48) -> 0 | AR41: =SUM(AR42:AR48) -> 0 | AS41: =SUM(AS42:AS48) -> 0
A42: 3.1 | B42: Îï³ÏÝ ³Ýí³í»ñ ×³Ý³ã»Éáõ í»ñ³µ»ñÛ³É | E42: =+F42+G42+H42+I42 -> 0 | J42: =+K42+L42+M42 -> 0 | O42: =+P42+Q42+R42+S42+T42 -> 0 | T42: =+U42+V42+W42 -> 0 | Y42: =+O42+X42 -> 0 | AF42: =+AG42+AH42 -> 0 | AM42: =+AK42+AL42 -> 0
A43: 3.2 | B43: ²Ý³ñÅ³Ý Å³é³Ý· ×³Ý³ã»Éáõ í»ñ³µ»ñÛ³É | E43: =+F43+G43+H43+I43 -> 0 | J43: =+K43+L43+M43 -> 0 | O43: =+P43+Q43+R43+S43+T43 -> 0 | T43: =+U43+V43+W43 -> 0 | Y43: =+O43+X43 -> 0 | AF43: =+AG43+AH43 -> 0 | AM43: =+AK43+AL43 -> 0
A44: 3.3 | B44: Ä³é³Ý·áõÃÛáõÝÁ µ³Å³Ý»Éáõ í»ñ³µ»ñÛ³É | E44: =+F44+G44+H44+I44 -> 0 | J44: =+K44+L44+M44 -> 0 | O44: =+P44+Q44+R44+S44+T44 -> 0 | T44: =+U44+V44+W44 -> 0 | Y44: =+O44+X44 -> 0 | AF44: =+AG44+AH44 -> 0 | AM44: =+AK44+AL44 -> 0
A45: 3.4 | B45: ¶áõÛùÝ ³ÝÅ³é³Ý· ×³Ý³ã»Éáõ í»ñ³µ»ñÛ³É | E45: =+F45+G45+H45+I45 -> 0 | J45: =+K45+L45+M45 -> 0 | O45: =+P45+Q45+R45+S45+T45 -> 0 | T45: =+U45+V45+W45 -> 0 | Y45: =+O45+X45 -> 0 | AF45: =+AG45+AH45 -> 0 | AM45: =+AK45+AL45 -> 0
A46: 3.5 | B46: Àëï ûñ»ÝùÇ Å³é³Ý·áõÃÛ³Ý Çñ³íáõÝùÇ íÏ³Û³·ÇñÝ ³Ýí³í»ñ ×³Ý³ã»Éáõ í»ñ³µ»ñÛ³É | E46: =+F46+G46+H46+I46 -> 0 | J46: =+K46+L46+M46 -> 0 | O46: =+P46+Q46+R46+S46+T46 -> 0 | T46: =+U46+V46+W46 -> 0 | Y46: =+O46+X46 -> 0 | AF46: =+AG46+AH46 -> 0 | AM46: =+AK46+AL46 -> 0
A47: 3.6 | B47: Ä³é³Ý·áõÃÛáõÝÝ ÁÝ¹áõÝ»Éáõ µ³ó ÃáÕÝí³Í Å³ÙÏ»ïÁ Ñ³ñ·»ÉÇ Ñ³Ù³ñ»Éáõ í»ñ³µ»ñÛ³É | E47: =+F47+G47+H47+I47 -> 0 | J47: =+K47+L47+M47 -> 0 | O47: =+P47+Q47+R47+S47+T47 -> 0 | T47: =+U47+V47+W47 -> 0 | Y47: =+O47+X47 -> 0 | AF47: =+AG47+AH47 -> 0 | AM47: =+AK47+AL47 -> 0
A48: 3.7 | B48: ²ÛÉ í»×»ñ | E48: =+F48+G48+H48+I48 -> 4 | G48: 4 | J48: =+K48+L48+M48 -> 1 | K48: 1 | O48: =+P48+Q48+R48+S48+T48 -> 5 | P48: 2 | R48: 2 | T48: =+U48+V48+W48 -> 1 | V48: 1 | Y48: =+O48+X48 -> 5 | AF48: =+AG48+AH48 -> 0 | AM48: =+AK48+AL48 -> 0
A49: 4 | B49: ÀÝï³Ý»Ï³Ý Çñ³í³Ñ³ñ³µ»ñáõÃÛáõÝÝ»ñÇ í»ñ³µ»ñÛ³É ¹³ï³Ï³Ý ·áñÍ»ñ | E49: =SUM(E50:E62) -> 6 | F49: =SUM(F50:F62) -> 0 | G49: =SUM(G50:G62) -> 6 | H49: =SUM(H50:H62) -> 0 | I49: =SUM(I50:I62) -> 0 | J49: =+K49+L49+M49 -> 36 | K49: =SUM(K50:K62) -> 35 | L49: =SUM(L50:L62) -> 1 | M49: =SUM(M50:M62) -> 0 | N49: =SUM(N50:N62) -> 0 | O49: =+P49+Q49+R49+S49+T49 -> 30 | P49: =SUM(P50:P62) -> 23 | Q49: =SUM(Q50:Q62) -> 6 | R49: =SUM(R50:R62) -> 0 | S49: =SUM(S50:S62) -> 0 | T49: =+U49+V49+W49 -> 1 | U49: =SUM(U50:U62) -> 1 | V49: =SUM(V50:V62) -> 0 | W49: =SUM(W50:W62) -> 0 | X49: =SUM(X50:X62) -> 0 | Y49: =+O49+X49 -> 30 | Z49: =SUM(Z50:Z62) -> 1 | AA49: =SUM(AA50:AA62) -> 2 | AB49: =SUM(AB50:AB62) -> 10 | AC49: =SUM(AC50:AC62) -> 2 | AD49: =SUM(AD50:AD62) -> 2 | AE49: =SUM(AE50:AE62) -> 0 | AF49: =+AG49+AH49 -> 2 | AG49: =SUM(AG50:AG62) -> 0 | AH49: =SUM(AH50:AH62) -> 2 | AI49: =SUM(AI50:AI62) -> 0 | AJ49: =SUM(AJ50:AJ62) -> 2 | AK49: =SUM(AK50:AK62) -> 0 | AL49: =SUM(AL50:AL62) -> 0 | AM49: =+AK49+AL49 -> 0 | AN49: =SUM(AN50:AN62) -> 0 | AO49: =SUM(AO50:AO62) -> 0 | AP49: =SUM(AP50:AP62) -> 0 | AQ49: =SUM(AQ50:AQ62) -> 0 | AR49: =SUM(AR50:AR62) -> 0 | AS49: =SUM(AS50:AS62) -> 0
A50: 4.1 | B50: ²ÙáõëÝ³ÉáõÍáõÃÛ³Ý í»ñ³µ»ñÛ³É | E50: =+F50+G50+H50+I50 -> 1 | G50: 1 | J50: =+K50+L50+M50 -> 17 | K50: 16 | L50: 1 | O50: =+P50+Q50+R50+S50+T50 -> 14 | P50: 13 | Q50: 1 | T50: =+U50+V50+W50 -> 0 | Y50: =+O50+X50 -> 14 | AB50: 3 | AF50: =+AG50+AH50 -> 0 | AM50: =+AK50+AL50 -> 0
A51: 4.2 | B51: ²ÉÇÙ»ÝïÇ å³Ñ³ÝçÇ í»ñ³µ»ñÛ³É | E51: =+F51+G51+H51+I51 -> 1 | G51: 1 | J51: =+K51+L51+M51 -> 5 | K51: 5 | O51: =+P51+Q51+R51+S51+T51 -> 3 | P51: 1 | Q51: 2 | T51: =+U51+V51+W51 -> 0 | Y51: =+O51+X51 -> 3 | AA51: 1 | AB51: 3 | AC51: 1 | AF51: =+AG51+AH51 -> 0 | AM51: =+AK51+AL51 -> 0
A52: 4.3 | B52: ²ÉÇÙ»ÝïÇ ã³÷Á ÷á÷áË»Éáõ í»ñ³µ»ñÛ³É | E52: =+F52+G52+H52+I52 -> 0 | J52: =+K52+L52+M52 -> 0 | O52: =+P52+Q52+R52+S52+T52 -> 0 | T52: =+U52+V52+W52 -> 0 | Y52: =+O52+X52 -> 0 | AF52: =+AG52+AH52 -> 0 | AM52: =+AK52+AL52 -> 0
A53: 4.4 | B53: ÌÝáÕ³Ï³Ý Çñ³íáõÝùÝ»ñÇó ½ñÏ»Éáõ í»ñ³µ»ñÛ³É | E53: =+F53+G53+H53+I53 -> 2 | G53: 2 | J53: =+K53+L53+M53 -> 0 | O53: =+P53+Q53+R53+S53+T53 -> 2 | P53: 2 | T53: =+U53+V53+W53 -> 0 | Y53: =+O53+X53 -> 2 | AF53: =+AG53+AH53 -> 0 | AM53: =+AK53+AL53 -> 0
A54: 4.5 | B54: ÌÝáÕ³Ï³Ý Çñ³íáõÝùÝ»ñÁ í»ñ³Ï³Ý·Ý»Éáõ í»ñ³µ»ñÛ³É | E54: =+F54+G54+H54+I54 -> 0 | J54: =+K54+L54+M54 -> 0 | O54: =+P54+Q54+R54+S54+T54 -> 0 | T54: =+U54+V54+W54 -> 0 | Y54: =+O54+X54 -> 0 | AF54: =+AG54+AH54 -> 0 | AM54: =+AK54+AL54 -> 0
A55: 4.6 | B55: ºñ»Ë³ÛÇ áñ¹»·ñÙ³Ý í»ñ³µ»ñÛ³É | E55: =+F55+G55+H55+I55 -> 1 | G55: 1 | J55: =+K55+L55+M55 -> 1 | K55: 1 | O55: =+P55+Q55+R55+S55+T55 -> 2 | P55: 2 | T55: =+U55+V55+W55 -> 0 | Y55: =+O55+X55 -> 2 | AF55: =+AG55+AH55 -> 0 | AM55: =+AK55+AL55 -> 0
A56: 4.7 | B56: ºñ»Ë³ÛÇ áñ¹»·ñáõÙÁ í»ñ³óÝ»Éáõ í»ñ³µ»ñÛ³É | E56: =+F56+G56+H56+I56 -> 0 | J56: =+K56+L56+M56 -> 1 | K56: 1 | O56: =+P56+Q56+R56+S56+T56 -> 1 | P56: 1 | T56: =+U56+V56+W56 -> 0 | Y56: =+O56+X56 -> 1 | AF56: =+AG56+AH56 -> 0 | AM56: =+AK56+AL56 -> 0
A57: 4.8 | B57: Ð³ÛñáõÃÛáõÝÁ ×³Ý³ã»Éáõ í»ñ³µ»ñÛ³É | E57: =+F57+G57+H57+I57 -> 0 | J57: =+K57+L57+M57 -> 4 | K57: 4 | O57: =+P57+Q57+R57+S57+T57 -> 3 | P57: 3 | T57: =+U57+V57+W57 -> 0 | Y57: =+O57+X57 -> 3 | AA57: 1 | AB57: 1 | AC57: 1 | AF57: =+AG57+AH57 -> 0 | AM57: =+AK57+AL57 -> 0
A58: 4.9 | B58: ºñ»Ë³ÛÇ µÝ³ÏáõÃÛ³Ý í³ÛñÁ áñáß»Éáõ í»ñ³µ»ñÛ³É | E58: =+F58+G58+H58+I58 -> 0 | J58: =+K58+L58+M58 -> 2 | K58: 2 | O58: =+P58+Q58+R58+S58+T58 -> 1 | P58: 1 | T58: =+U58+V58+W58 -> 0 | Y58: =+O58+X58 -> 1 | AB58: 1 | AF58: =+AG58+AH58 -> 0 | AM58: =+AK58+AL58 -> 0
A59: 4.10 | B59: ºñ»Ë³ÛÇ Ñ»ï ï»ë³ÏóáõÃÛ³Ý Ï³ñ· ë³ÑÙ³Ý»Éáõ í»ñ³µ»ñÛ³É | E59: =+F59+G59+H59+I59 -> 1 | G59: 1 | J59: =+K59+L59+M59 -> 4 | K59: 4 | O59: =+P59+Q59+R59+S59+T59 -> 4 | Q59: 3 | T59: =+U59+V59+W59 -> 1 | U59: 1 | Y59: =+O59+X59 -> 4 | Z59: 1 | AD59: 2 | AF59: =+AG59+AH59 -> 2 | AH59: 2 | AJ59: 2 | AM59: =+AK59+AL59 -> 0
A60: 4.11 | B60: ²ÙáõëÇÝÝ»ñÇ ÁÝ¹Ñ³Ýáõñ ·áõÛùÁ µ³Å³Ý»Éáõ í»ñ³µ»ñÛ³É | E60: =+F60+G60+H60+I60 -> 0 | J60: =+K60+L60+M60 -> 1 | K60: 1 | O60: =+P60+Q60+R60+S60+T60 -> 0 | T60: =+U60+V60+W60 -> 0 | Y60: =+O60+X60 -> 0 | AB60: 1 | AF60: =+AG60+AH60 -> 0 | AM60: =+AK60+AL60 -> 0
A61: 4.12 | B61: ²ÙáõëÝ³Ï³Ý å³ÛÙ³Ý³·ñÇ ÷á÷áËÙ³Ý Ï³Ù ÉáõÍÙ³Ý í»ñ³µ»ñÛ³É | E61: =+F61+G61+H61+I61 -> 0 | J61: =+K61+L61+M61 -> 0 | O61: =+P61+Q61+R61+S61+T61 -> 0 | T61: =+U61+V61+W61 -> 0 | Y61: =+O61+X61 -> 0 | AF61: =+AG61+AH61 -> 0 | AM61: =+AK61+AL61 -> 0
A62: 4.13 | B62: ²ÛÉ í»×»ñ | E62: =+F62+G62+H62+I62 -> 0 | J62: =+K62+L62+M62 -> 1 | K62: 1 | O62: =+P62+Q62+R62+S62+T62 -> 0 | T62: =+U62+V62+W62 -> 0 | Y62: =+O62+X62 -> 0 | AB62: 1 | AF62: =+AG62+AH62 -> 0 | AM62: =+AK62+AL62 -> 0
A63: 5. | B63: Øï³íáñ ë»÷³Ï³ÝáõÃÛ³Ý Ñ»ï Ï³åí³ÍÇñ³í³Ñ³ñ³µ»ñáõÃÛáõÝÝ»ñÇ í»ñ³µ»ñÛ³É ¹³ï³Ï³Ý ·áñÍ»ñ | E63: =SUM(E64:E69) -> 0 | F63: =SUM(F64:F69) -> 0 | G63: =SUM(G64:G69) -> 0 | H63: =SUM(H64:H69) -> 0 | I63: =SUM(I64:I69) -> 0 | J63: =+K63+L63+M63 -> 0 | K63: =SUM(K64:K69) -> 0 | L63: =SUM(L64:L69) -> 0 | M63: =SUM(M64:M69) -> 0 | N63: =SUM(N64:N69) -> 0 | O63: =+P63+Q63+R63+S63+T63 -> 0 | P63: =SUM(P64:P69) -> 0 | Q63: =SUM(Q64:Q69) -> 0 | R63: =SUM(R64:R69) -> 0 | S63: =SUM(S64:S69) -> 0 | T63: =+U63+V63+W63 -> 0 | U63: =SUM(U64:U69) -> 0 | V63: =SUM(V64:V69) -> 0 | W63: =SUM(W64:W69) -> 0 | X63: =SUM(X64:X69) -> 0 | Y63: =+O63+X63 -> 0 | Z63: =SUM(Z64:Z69) -> 0 | AA63: =SUM(AA64:AA69) -> 0 | AB63: =SUM(AB64:AB69) -> 0 | AC63: =SUM(AC64:AC69) -> 0 | AD63: =SUM(AD64:AD69) -> 0 | AE63: =SUM(AE64:AE69) -> 0 | AF63: =+AG63+AH63 -> 0 | AG63: =SUM(AG64:AG69) -> 0 | AH63: =SUM(AH64:AH69) -> 0 | AI63: =SUM(AI64:AI69) -> 0 | AJ63: =SUM(AJ64:AJ69) -> 0 | AK63: =SUM(AK64:AK69) -> 0 | AL63: =SUM(AL64:AL69) -> 0 | AM63: =+AK63+AL63 -> 0 | AN63: =SUM(AN64:AN69) -> 0 | AO63: =SUM(AO64:AO69) -> 0 | AP63: =SUM(AP64:AP69) -> 0 | AQ63: =SUM(AQ64:AQ69) -> 0 | AR63: =SUM(AR64:AR69) -> 0 | AS63: =SUM(AS64:AS69) -> 0
A64: 5.1 | B64: ÈÇó»Ý½³ÛÇÝ å³ÛÙ³Ý³·ñÇ ÉáõÍÙ³Ý, ÷á÷áËÙ³Ý ¨ ³Ýí³í»ñáõÃÛ³Ý í»ñ³µ»ñÛ³É | E64: =+F64+G64+H64+I64 -> 0 | J64: =+K64+L64+M64 -> 0 | O64: =+P64+Q64+R64+S64+T64 -> 0 | T64: =+U64+V64+W64 -> 0 | Y64: =+O64+X64 -> 0 | AF64: =+AG64+AH64 -> 0 | AM64: =+AK64+AL64 -> 0
A65: 5.2 | B65: Øï³íáñ ·áñÍáõÝ»áõÃÛ³Ý ³ñ¹ÛáõÝùÝ»ñ ëï»ÕÍ»Éáõ ¨ û·ï³·áñÍ»Éáõ å³ÛÙ³Ý³·ñÇ ÉáõÍÙ³Ý, ÷á÷áËÙ³Ý áõ ³Ýí³í»ñáõÃÛ³Ý í»ñ³µ»ñÛ³É | E65: =+F65+G65+H65+I65 -> 0 | J65: =+K65+L65+M65 -> 0 | O65: =+P65+Q65+R65+S65+T65 -> 0 | T65: =+U65+V65+W65 -> 0 | Y65: =+O65+X65 -> 0 | AF65: =+AG65+AH65 -> 0 | AM65: =+AK65+AL65 -> 0
A66: 5.3 | B66: Ð»ÕÇÝ³Ï³ÛÇÝ ¨ Ñ³ñ³ÏÇó Çñ³íáõÝùÝ»ñÇ í»ñ³µ»ñÛ³É | E66: =+F66+G66+H66+I66 -> 0 | J66: =+K66+L66+M66 -> 0 | O66: =+P66+Q66+R66+S66+T66 -> 0 | T66: =+U66+V66+W66 -> 0 | Y66: =+O66+X66 -> 0 | AF66: =+AG66+AH66 -> 0 | AM66: =+AK66+AL66 -> 0
A67: 5.4 | B67: üÇñÙ³ÛÇÝ ³Ýí³ÝÙ³Ý í»ñ³µ»ñÛ³É | E67: =+F67+G67+H67+I67 -> 0 | J67: =+K67+L67+M67 -> 0 | O67: =+P67+Q67+R67+S67+T67 -> 0 | T67: =+U67+V67+W67 -> 0 | Y67: =+O67+X67 -> 0 | AF67: =+AG67+AH67 -> 0 | AM67: =+AK67+AL67 -> 0
A68: 5.5 | B68: ²åñ³Ýù³ÛÇÝ Ýß³ÝÇ í»ñ³µ»ñÛ³É | E68: =+F68+G68+H68+I68 -> 0 | J68: =+K68+L68+M68 -> 0 | O68: =+P68+Q68+R68+S68+T68 -> 0 | T68: =+U68+V68+W68 -> 0 | Y68: =+O68+X68 -> 0 | AF68: =+AG68+AH68 -> 0 | AM68: =+AK68+AL68 -> 0
A69: 5.6 | B69: ²ÛÉ í»×»ñ | E69: =+F69+G69+H69+I69 -> 0 | J69: =+K69+L69+M69 -> 0 | O69: =+P69+Q69+R69+S69+T69 -> 0 | T69: =+U69+V69+W69 -> 0 | Y69: =+O69+X69 -> 0 | AF69: =+AG69+AH69 -> 0 | AM69: =+AK69+AL69 -> 0
A70: 6. | B70: ²ßË³ï³Ýù³ÛÇÝ Çñ³í³Ñ³ñ³µ»ñáõÃÛáõÝÝ»ñÇ í»ñ³µ»ñÛ³É ¹³ï³Ï³Ý ·áñÍ»ñ | E70: =SUM(E71:E76) -> 1 | F70: =SUM(F71:F76) -> 1 | G70: =SUM(G71:G76) -> 0 | H70: =SUM(H71:H76) -> 0 | I70: =SUM(I71:I76) -> 0 | J70: =+K70+L70+M70 -> 0 | K70: =SUM(K71:K76) -> 0 | L70: =SUM(L71:L76) -> 0 | M70: =SUM(M71:M76) -> 0 | N70: =SUM(N71:N76) -> 0 | O70: =+P70+Q70+R70+S70+T70 -> 0 | P70: =SUM(P71:P76) -> 0 | Q70: =SUM(Q71:Q76) -> 0 | R70: =SUM(R71:R76) -> 0 | S70: =SUM(S71:S76) -> 0 | T70: =+U70+V70+W70 -> 0 | U70: =SUM(U71:U76) -> 0 | V70: =SUM(V71:V76) -> 0 | W70: =SUM(W71:W76) -> 0 | X70: =SUM(X71:X76) -> 0 | Y70: =+O70+X70 -> 0 | Z70: =SUM(Z71:Z76) -> 0 | AA70: =SUM(AA71:AA76) -> 0 | AB70: =SUM(AB71:AB76) -> 1 | AC70: =SUM(AC71:AC76) -> 1 | AD70: =SUM(AD71:AD76) -> 0 | AE70: =SUM(AE71:AE76) -> 0 | AF70: =+AG70+AH70 -> 0 | AG70: =SUM(AG71:AG76) -> 0 | AH70: =SUM(AH71:AH76) -> 0 | AI70: =SUM(AI71:AI76) -> 0 | AJ70: =SUM(AJ71:AJ76) -> 0 | AK70: =SUM(AK71:AK76) -> 0 | AL70: =SUM(AL71:AL76) -> 0 | AM70: =+AK70+AL70 -> 0 | AN70: =SUM(AN71:AN76) -> 0 | AO70: =SUM(AO71:AO76) -> 0 | AP70: =SUM(AP71:AP76) -> 0 | AQ70: =SUM(AQ71:AQ76) -> 0 | AR70: =SUM(AR71:AR76) -> 0 | AS70: =SUM(AS71:AS76) -> 0
A71: 6.1 | B71: ²ßË³ï³Ýù³ÛÇÝ å³ÛÙ³Ý³·ñ»ñÇ í»ñ³µ»ñÛ³É | E71: =+F71+G71+H71+I71 -> 0 | J71: =+K71+L71+M71 -> 0 | O71: =+P71+Q71+R71+S71+T71 -> 0 | T71: =+U71+V71+W71 -> 0 | Y71: =+O71+X71 -> 0 | AF71: =+AG71+AH71 -> 0 | AM71: =+AK71+AL71 -> 0
A72: 6.2 | B72: ²ßË³ï³ÝùáõÙ í»ñ³Ï³Ý·Ý»Éáõ í»ñ³µ»ñÛ³É | E72: =+F72+G72+H72+I72 -> 1 | F72: 1 | J72: =+K72+L72+M72 -> 0 | O72: =+P72+Q72+R72+S72+T72 -> 0 | T72: =+U72+V72+W72 -> 0 | Y72: =+O72+X72 -> 0 | AB72: 1 | AC72: 1 | AF72: =+AG72+AH72 -> 0 | AM72: =+AK72+AL72 -> 0
A73: 6.3 | B73: ¶áñÍ³¹áõÉÝ ³ÝûñÇÝ³Ï³Ý ×³Ý³ã»Éáõ í»ñ³µ»ñÛ³É | E73: =+F73+G73+H73+I73 -> 0 | J73: =+K73+L73+M73 -> 0 | O73: =+P73+Q73+R73+S73+T73 -> 0 | T73: =+U73+V73+W73 -> 0 | Y73: =+O73+X73 -> 0 | AF73: =+AG73+AH73 -> 0 | AM73: =+AK73+AL73 -> 0
A74: 6.4 | B74: Ð³ñÏ³¹Çñ å³ñ³åáõñ¹Ç Ñ³ïáõóÙ³Ý í»ñ³µ»ñÛ³É | E74: =+F74+G74+H74+I74 -> 0 | J74: =+K74+L74+M74 -> 0 | O74: =+P74+Q74+R74+S74+T74 -> 0 | T74: =+U74+V74+W74 -> 0 | Y74: =+O74+X74 -> 0 | AF74: =+AG74+AH74 -> 0 | AM74: =+AK74+AL74 -> 0
A75: 6.5 | B75: âí×³ñí³Í ³ßË³ï³í³ñÓÇ ¨/Ï³Ù ³ÛÉ í×³ñÝ»ñÇ µéÝ³·³ÝÓÙ³Ý í»ñ³µ»ñÛ³É | E75: =+F75+G75+H75+I75 -> 0 | J75: =+K75+L75+M75 -> 0 | O75: =+P75+Q75+R75+S75+T75 -> 0 | T75: =+U75+V75+W75 -> 0 | Y75: =+O75+X75 -> 0 | AF75: =+AG75+AH75 -> 0 | AM75: =+AK75+AL75 -> 0
A76: 6.6 | B76: ²ÛÉ í»×»ñ | E76: =+F76+G76+H76+I76 -> 0 | J76: =+K76+L76+M76 -> 0 | O76: =+P76+Q76+R76+S76+T76 -> 0 | T76: =+U76+V76+W76 -> 0 | Y76: =+O76+X76 -> 0 | AF76: =+AG76+AH76 -> 0 | AM76: =+AK76+AL76 -> 0
A77: 7. | B77: Æñ³í³µ³Ý³Ï³Ý ³ÝÓÇ ·áñÍáõÝ»áõÃÛáõÝÇó µËáÕ Çñ³í³Ñ³ñ³µ»ñáõÃÛáõÝÝ»ñÇ í»ñ³µ»ñÛ³É ¹³ï³Ï³Ý ·áñÍ»ñ | E77: =SUM(E78:E79) -> 0 | F77: =SUM(F78:F79) -> 0 | G77: =SUM(G78:G79) -> 0 | H77: =SUM(H78:H79) -> 0 | I77: =SUM(I78:I79) -> 0 | J77: =+K77+L77+M77 -> 0 | K77: =SUM(K78:K79) -> 0 | L77: =SUM(L78:L79) -> 0 | M77: =SUM(M78:M79) -> 0 | N77: =SUM(N78:N79) -> 0 | O77: =+P77+Q77+R77+S77+T77 -> 0 | P77: =SUM(P78:P79) -> 0 | Q77: =SUM(Q78:Q79) -> 0 | R77: =SUM(R78:R79) -> 0 | S77: =SUM(S78:S79) -> 0 | T77: =+U77+V77+W77 -> 0 | U77: =SUM(U78:U79) -> 0 | V77: =SUM(V78:V79) -> 0 | W77: =SUM(W78:W79) -> 0 | X77: =SUM(X78:X79) -> 0 | Y77: =+O77+X77 -> 0 | Z77: =SUM(Z78:Z79) -> 0 | AA77: =SUM(AA78:AA79) -> 0 | AB77: =SUM(AB78:AB79) -> 0 | AC77: =SUM(AC78:AC79) -> 0 | AD77: =SUM(AD78:AD79) -> 0 | AE77: =SUM(AE78:AE79) -> 0 | AF77: =+AG77+AH77 -> 0 | AG77: =SUM(AG78:AG79) -> 0 | AH77: =SUM(AH78:AH79) -> 0 | AI77: =SUM(AI78:AI79) -> 0 | AJ77: =SUM(AJ78:AJ79) -> 0 | AK77: =SUM(AK78:AK79) -> 0 | AL77: =SUM(AL78:AL79) -> 0 | AM77: =+AK77+AL77 -> 0 | AN77: =SUM(AN78:AN79) -> 0 | AO77: =SUM(AO78:AO79) -> 0 | AP77: =SUM(AP78:AP79) -> 0 | AQ77: =SUM(AQ78:AQ79) -> 0 | AR77: =SUM(AR78:AR79) -> 0 | AS77: =SUM(AS78:AS79) -> 0
A78: 7.1 | B78: Îáñåáñ³ïÇí í»×»ñ | E78: =+F78+G78+H78+I78 -> 0 | J78: =+K78+L78+M78 -> 0 | O78: =+P78+Q78+R78+S78+T78 -> 0 | T78: =+U78+V78+W78 -> 0 | Y78: =+O78+X78 -> 0 | AF78: =+AG78+AH78 -> 0 | AM78: =+AK78+AL78 -> 0
A79: 7.2 | B79: ²ÛÉ í»×»ñ | E79: =+F79+G79+H79+I79 -> 0 | J79: =+K79+L79+M79 -> 0 | O79: =+P79+Q79+R79+S79+T79 -> 0 | T79: =+U79+V79+W79 -> 0 | Y79: =+O79+X79 -> 0 | AF79: =+AG79+AH79 -> 0 | AM79: =+AK79+AL79 -> 0
A80: 8. | B80: Ð³ïáõÏ í³ñáõÛÃÇ ¹³ï³Ï³Ý ·áñÍ»ñ | E80: =SUM(E81:E101) -> 7 | F80: =SUM(F81:F101) -> 1 | G80: =SUM(G81:G101) -> 6 | H80: =SUM(H81:H101) -> 0 | I80: =SUM(I81:I101) -> 0 | J80: =+K80+L80+M80 -> 30 | K80: =SUM(K81:K101) -> 29 | L80: =SUM(L81:L101) -> 1 | M80: =SUM(M81:M101) -> 0 | N80: =SUM(N81:N101) -> 0 | O80: =+P80+Q80+R80+S80+T80 -> 31 | P80: =SUM(P81:P101) -> 26 | Q80: =SUM(Q81:Q101) -> 1 | R80: =SUM(R81:R101) -> 3 | S80: =SUM(S81:S101) -> 0 | T80: =+U80+V80+W80 -> 1 | U80: =SUM(U81:U101) -> 0 | V80: =SUM(V81:V101) -> 1 | W80: =SUM(W81:W101) -> 0 | X80: =SUM(X81:X101) -> 0 | Y80: =+O80+X80 -> 31 | Z80: =SUM(Z81:Z101) -> 0 | AA80: =SUM(AA81:AA101) -> 0 | AB80: =SUM(AB81:AB101) -> 5 | AC80: =SUM(AC81:AC101) -> 0 | AD80: =SUM(AD81:AD101) -> 2 | AE80: =SUM(AE81:AE101) -> 0 | AF80: =+AG80+AH80 -> 2 | AG80: =SUM(AG81:AG101) -> 0 | AH80: =SUM(AH81:AH101) -> 2 | AI80: =SUM(AI81:AI101) -> 0 | AJ80: =SUM(AJ81:AJ101) -> 1 | AK80: =SUM(AK81:AK101) -> 0 | AL80: =SUM(AL81:AL101) -> 0 | AM80: =+AK80+AL80 -> 0 | AN80: =SUM(AN81:AN101) -> 0 | AO80: =SUM(AO81:AO101) -> 0 | AP80: =SUM(AP81:AP101) -> 0 | AQ80: =SUM(AQ81:AQ101) -> 0 | AR80: =SUM(AR81:AR101) -> 0 | AS80: =SUM(AS81:AS101) -> 0
A81: 8.1 | B81: ²Ýã³÷³Ñ³ëÇÝ ÉñÇí ·áñÍáõÝ³Ï ×³Ý³ã»Éáõ /¿Ù³ÝëÇå³óÇ³/ í»ñ³µ»ñÛ³É | E81: =+F81+G81+H81+I81 -> 0 | J81: =+K81+L81+M81 -> 0 | O81: =+P81+Q81+R81+S81+T81 -> 0 | T81: =+U81+V81+W81 -> 0 | Y81: =+O81+X81 -> 0 | AF81: =+AG81+AH81 -> 0 | AM81: =+AK81+AL81 -> 0
A82: 8.2 | B82: ø³Õ³ù³óáõÝ ³Ý·áñÍáõÝ³Ï Ï³Ù ë³ÑÙ³Ý³÷³Ï ·áñÍáõÝ³Ï ×³Ý³ã»Éáõ í»ñ³µ»ñÛ³É | E82: =+F82+G82+H82+I82 -> 0 | J82: =+K82+L82+M82 -> 0 | O82: =+P82+Q82+R82+S82+T82 -> 0 | T82: =+U82+V82+W82 -> 0 | Y82: =+O82+X82 -> 0 | AF82: =+AG82+AH82 -> 0 | AM82: =+AK82+AL82 -> 0
A83: 8.3 | B83: ø³Õ³ù³óáõÝ Ñá·»µáõÅ³Ï³Ý ÑÇí³Ý¹³Ýáó³ÛÇÝ Ñ³ñÏ³¹Çñ µáõÅÙ³Ý »ÝÃ³ñÏ»Éáõ í»ñ³µ»ñÛ³É | E83: =+F83+G83+H83+I83 -> 0 | J83: =+K83+L83+M83 -> 0 | O83: =+P83+Q83+R83+S83+T83 -> 0 | T83: =+U83+V83+W83 -> 0 | Y83: =+O83+X83 -> 0 | AF83: =+AG83+AH83 -> 0 | AM83: =+AK83+AL83 -> 0
A84: 8.4 | B84: ø³Õ³ù³óáõÝ ³ÝÑ³Ûï µ³ó³Ï³ÛáÕ Ï³Ù Ù³Ñ³ó³Í ×³Ý³ã»Éáõ í»ñ³µ»ñÛ³É | E84: =+F84+G84+H84+I84 -> 1 | G84: 1 | J84: =+K84+L84+M84 -> 3 | K84: 3 | O84: =+P84+Q84+R84+S84+T84 -> 3 | P84: 3 | T84: =+U84+V84+W84 -> 0 | Y84: =+O84+X84 -> 3 | AB84: 1 | AF84: =+AG84+AH84 -> 0 | AM84: =+AK84+AL84 -> 0
A85: 8.5 | B85: ø³Õ³ù³óÇ³Ï³Ý Ï³óáõÃÛ³Ý ³Ïï»ñÇ ·ñ³éáõÙÝ»ñÇ ³Ý×ßïáõÃÛáõÝÝ»ñÁ å³ñ½»Éáõ í»ñ³µ»ñÛ³É | E85: =+F85+G85+H85+I85 -> 0 | J85: =+K85+L85+M85 -> 0 | O85: =+P85+Q85+R85+S85+T85 -> 0 | T85: =+U85+V85+W85 -> 0 | Y85: =+O85+X85 -> 0 | AF85: =+AG85+AH85 -> 0 | AM85: =+AK85+AL85 -> 0
A86: 8.6 | B86: ¶áõÛùÁ ïÇñ³½áõñÏ ×³Ý³ã»Éáõ í»ñ³µ»ñÛ³É | E86: =+F86+G86+H86+I86 -> 0 | J86: =+K86+L86+M86 -> 0 | O86: =+P86+Q86+R86+S86+T86 -> 0 | T86: =+U86+V86+W86 -> 0 | Y86: =+O86+X86 -> 0 | AF86: =+AG86+AH86 -> 0 | AM86: =+AK86+AL86 -> 0
A87: 8.6.1 | B87: ²Û¹ ÃíáõÙª ³Ýß³ñÅ ·áõÛùÁ | E87: =+F87+G87+H87+I87 -> 0 | J87: =+K87+L87+M87 -> 0 | O87: =+P87+Q87+R87+S87+T87 -> 0 | T87: =+U87+V87+W87 -> 0 | Y87: =+O87+X87 -> 0 | AF87: =+AG87+AH87 -> 0 | AM87: =+AK87+AL87 -> 0
A88: 8.6.2 | B88: ²Û¹ ÃíáõÙª ß³ñÅ³Ï³Ý ·áõÛùÁ | E88: =+F88+G88+H88+I88 -> 0 | J88: =+K88+L88+M88 -> 0 | O88: =+P88+Q88+R88+S88+T88 -> 0 | T88: =+U88+V88+W88 -> 0 | Y88: =+O88+X88 -> 0 | AF88: =+AG88+AH88 -> 0 | AM88: =+AK88+AL88 -> 0
A89: 8.7 | B89: Æñ³í³µ³Ý³Ï³Ý Ýß³Ý³ÏáõÃÛáõÝ áõÝ»óáÕ ÷³ëï»ñÇ Ñ³ëï³ïÙ³Ý í»ñ³µ»ñÛ³É | E89: =+F89+G89+H89+I89 -> 1 | G89: 1 | J89: =+K89+L89+M89 -> 2 | K89: 2 | O89: =+P89+Q89+R89+S89+T89 -> 3 | R89: 2 | T89: =+U89+V89+W89 -> 1 | V89: 1 | Y89: =+O89+X89 -> 3 | AD89: 1 | AF89: =+AG89+AH89 -> 1 | AH89: 1 | AM89: =+AK89+AL89 -> 0
A90: 8.7.1 | B90: ²ÝÓ³Ýó ³½·³Ïó³Ï³Ý Ï³åÁ Ñ³ëï³ï»Éáõ í»ñ³µ»ñÛ³É | E90: =+F90+G90+H90+I90 -> 0 | J90: =+K90+L90+M90 -> 3 | K90: 3 | O90: =+P90+Q90+R90+S90+T90 -> 3 | P90: 3 | T90: =+U90+V90+W90 -> 0 | Y90: =+O90+X90 -> 3 | AF90: =+AG90+AH90 -> 0 | AM90: =+AK90+AL90 -> 0
A91: 8.7.2 | B91: ²ÝÓÇª áõñÇßÇ ËÝ³ÙùÇ ï³Ï ·ïÝí»Éáõ í»ñ³µ»ñÛ³É | E91: =+F91+G91+H91+I91 -> 0 | J91: =+K91+L91+M91 -> 2 | K91: 2 | O91: =+P91+Q91+R91+S91+T91 -> 2 | P91: 2 | T91: =+U91+V91+W91 -> 0 | Y91: =+O91+X91 -> 2 | AF91: =+AG91+AH91 -> 0 | AM91: =+AK91+AL91 -> 0
A92: 8.7.3 | B92: ÌÝÝ¹Û³Ý, áñ¹»·ñÙ³Ý, ³ÙáõëÝáõÃÛ³Ý, ³å³Ñ³ñ½³ÝÇ ¨ Ù³Ñí³Ý ·ñ³ÝóÙ³Ý í»ñ³µ»ñÛ³É | E92: =+F92+G92+H92+I92 -> 0 | J92: =+K92+L92+M92 -> 2 | K92: 2 | O92: =+P92+Q92+R92+S92+T92 -> 1 | P92: 1 | T92: =+U92+V92+W92 -> 0 | Y92: =+O92+X92 -> 1 | AB92: 1 | AF92: =+AG92+AH92 -> 0 | AM92: =+AK92+AL92 -> 0
A93: 8.7.4 | B93: ²ÝÓÇª áñáß³ÏÇ Å³Ù³Ý³ÏáõÙ ¨ áñáß³ÏÇ Ñ³Ý·³Ù³ÝùÝ»ñáõÙ Ù³Ñí³Ý í»ñ³µ»ñÛ³É | E93: =+F93+G93+H93+I93 -> 0 | J93: =+K93+L93+M93 -> 0 | O93: =+P93+Q93+R93+S93+T93 -> 0 | T93: =+U93+V93+W93 -> 0 | Y93: =+O93+X93 -> 0 | AF93: =+AG93+AH93 -> 0 | AM93: =+AK93+AL93 -> 0
A94: 8.7.5 | B94: Ä³é³Ý·áõÃÛáõÝÝ ÁÝ¹áõÝ»Éáõ ¨ Å³é³Ý·áõÃÛ³Ý µ³óÙ³Ý í³ÛñÇ í»ñ³µ»ñÛ³É | E94: =+F94+G94+H94+I94 -> 0 | J94: =+K94+L94+M94 -> 0 | O94: =+P94+Q94+R94+S94+T94 -> 0 | T94: =+U94+V94+W94 -> 0 | Y94: =+O94+X94 -> 0 | AF94: =+AG94+AH94 -> 0 | AM94: =+AK94+AL94 -> 0
A95: 8.7.6 | B95: ¸Åµ³Ëï å³ï³Ñ³ñÇ í»ñ³µ»ñÛ³É | E95: =+F95+G95+H95+I95 -> 0 | J95: =+K95+L95+M95 -> 0 | O95: =+P95+Q95+R95+S95+T95 -> 0 | T95: =+U95+V95+W95 -> 0 | Y95: =+O95+X95 -> 0 | AF95: =+AG95+AH95 -> 0 | AM95: =+AK95+AL95 -> 0
A96: 8.7.7 | B96: Æñ³íáõÝù ë³ÑÙ³ÝáÕ ÷³ëï³ÃÕÃ»ñÇ å³ïÏ³Ý»ÉáõÃÛ³Ý í»ñ³µ»ñÛ³É | E96: =+F96+G96+H96+I96 -> 4 | F96: 1 | G96: 3 | J96: =+K96+L96+M96 -> 13 | K96: 12 | L96: 1 | O96: =+P96+Q96+R96+S96+T96 -> 13 | P96: 13 | T96: =+U96+V96+W96 -> 0 | Y96: =+O96+X96 -> 13 | AB96: 3 | AF96: =+AG96+AH96 -> 0 | AM96: =+AK96+AL96 -> 0
A97: 8.7.8 | B97: ê»÷³Ï³ÝáõÃÛ³Ý Çñ³íáõÝùáí ·áõÛùÇ ïÇñ³å»ïÙ³Ý í»ñ³µ»ñÛ³É | E97: =+F97+G97+H97+I97 -> 0 | J97: =+K97+L97+M97 -> 0 | O97: =+P97+Q97+R97+S97+T97 -> 0 | T97: =+U97+V97+W97 -> 0 | Y97: =+O97+X97 -> 0 | AF97: =+AG97+AH97 -> 0 | AM97: =+AK97+AL97 -> 0
A98: 8.7.9 | B98: ²ÝÑ³ÕÃ³Ñ³ñ»ÉÇ áõÅÇ ³éÏ³ÛáõÃÛ³Ý í»ñ³µ»ñÛ³É | E98: =+F98+G98+H98+I98 -> 0 | J98: =+K98+L98+M98 -> 0 | O98: =+P98+Q98+R98+S98+T98 -> 0 | T98: =+U98+V98+W98 -> 0 | Y98: =+O98+X98 -> 0 | AF98: =+AG98+AH98 -> 0 | AM98: =+AK98+AL98 -> 0
A99: 8.7.10 | B99: úñ»Ýùáí Ý³Ë³ï»ëí³Í ³ÛÉ Çñ³í³µ³Ý³Ï³Ý ÷³ëï»ñÇ í»ñ³µ»ñÛ³É | E99: =+F99+G99+H99+I99 -> 1 | G99: 1 | J99: =+K99+L99+M99 -> 5 | K99: 5 | O99: =+P99+Q99+R99+S99+T99 -> 6 | P99: 4 | Q99: 1 | R99: 1 | T99: =+U99+V99+W99 -> 0 | Y99: =+O99+X99 -> 6 | AD99: 1 | AF99: =+AG99+AH99 -> 1 | AH99: 1 | AJ99: 1 | AM99: =+AK99+AL99 -> 0
A100: 8.8 | B100: Àëï Ý»ñÏ³Û³óÝáÕÇ ¨ ûñ¹»ñ³ÛÇÝ Ïáñóñ³Í ³ñÅ»ÃÕÃ»ñáí Ñ³í³ëïí³Í Çñ³íáõÝùÝ»ñÁ í»ñ³Ï³Ý·Ý»Éáõ í»ñ³µ»ñÛ³É | E100: =+F100+G100+H100+I100 -> 0 | J100: =+K100+L100+M100 -> 0 | O100: =+P100+Q100+R100+S100+T100 -> 0 | T100: =+U100+V100+W100 -> 0 | Y100: =+O100+X100 -> 0 | AF100: =+AG100+AH100 -> 0 | AM100: =+AK100+AL100 -> 0
...

Sheet Բ.Մկրտչյան
A1: 2017թ. | G1: Ð²ÞìºîìàôÂÚàôÜ | AM1: Ð³í»Éí³Í Ð³Û³ëï³ÝÇ Ð³Ýñ³å»ïáõÃÛ³Ý ¸³ï³ñ³ÝÝ»ñÇ Ý³Ë³·³ÑÝ»ñÇ ËáñÑñ¹Ç 29.01.2018Ã. ÃÇí 10-È áñáßÙ³Ý
A2: ՀՀ ÞÆð²ÎÆ ՄԱՐԶԻ ÀÜ¸Ð²Üàôð Æð²ì²êàôÂÚ²Ü ²è²æÆÜ ²îÚ²ÜÆ ¸²î²ð²ÜÆ ¸²î²ìàð | Z2: Բ. ՄԿՐՏՉÚ²ÜÆ | AH2: ¶àðÌàôÜºàôÂÚ²Ü ìºð²´ºðÚ²È
A3: ø²Ô²ø²òÆ²Î²Ü ¶àðÌºðàì
A4: ՀՀ ÞÇñ³ÏÇ մարզի ÁÝ¹Ñ³Ýáõñ Çñ³í³ëáõÃÛ³Ý ³é³çÇÝ ³ïÛ³ÝÇ ¹³ï³ñ³ÝÇ ù³Õ³ù³óÇ³Ï³Ý Ù³ëÝ³·Çï³óáõÙ áõÝ»óáÕ ¹³ï³íáñÝ»ñÇ Ñ³ëïÇùÝ»ñÇ ù³Ý³ÏÁ` 9
E5: Ð³ßí»ïáõ Å³Ù³Ý³Ï³Ñ³ïí³ÍáõÙ Ý³Ëáñ¹ Ñ³ßí»ïáõ Å³Ù³Ý³Ï³Ñ³ïí³ÍÇó ÷áË³Ýóí³Í ·áñÍ»ñÇ ÁÝ¹Ñ³Ýáõñ ÃÇíÁ | J5: Ð³ßí»ïáõ Å³Ù³Ý³Ï³Ñ³ïí³ÍáõÙëï³óí³Í ·áñÍ»ñÇ (³Û¹ ÃíáõÙ` Ñ³Ûó³¹ÇÙáõÙÝ»ñÇ, ¹ÇÙáõÙÝ»ñÇ) ÁÝ¹Ñ³Ýáõñ ÃÇíÁ | N5: öáË³Ýóí»É ¿ ³ÛÉ ¹³ï³íáñÇ (Ï³½ÙÇ ÷á÷áËáõÃÛáõÝ) | O5: Ð³ßí»ïáõ Å³Ù³Ý³Ï³Ñ³ïí³ÍáõÙ ³í³ñïí³Í ·áñÍ»ñÇ ÁÝ¹Ñ³Ýáõñ ÃÇíÁ | Z5: ¶áñÍÝ áõÕ³ñÏí»É ¿ Áëï ÁÝ¹¹³ïáõÃÛ³Ý | AA5: Ð³ßí»ïáõ Å³Ù³Ý³Ï³Ñ³ïí³ÍáõÙ Ï³ë»óí³Í í³ñáõÛÃÝ»ñáí ·áñÍ»ñÇ ÁÝ¹Ñ³Ýáõñ ÃÇíÁ | AB5: Ð³ßí»ïáõ Å³Ù³Ý³Ï³Ñ³ïí³ÍáõÙ ³Ý³í³ñï ·áñÍ»ñÇ ÁÝ¹Ñ³Ýáõñ ÃÇíÁ | AC5: ²Û¹ ÃíáõÙª Ï³ë»óí³Í | AD5: ´áÕáù³ñÏí³Í ¹³ï³Ï³Ý ³Ïï»ñÁ | AI5: ²í³ñïí³Í ¹³ï³Ï³Ý ·áñÍ»ñÇ µáÕáù³ñÏÙ³Ý ïáÏáëÁ (Ñ³ßí»ïáõ Å³Ù³Ý³Ï³ßñç³ÝáõÙ) | AJ5: ²Ý³í³ñï µáÕáùÝ»ñ | AK5: ´»Ï³Ýí³Í ¹³ï³Ï³Ý ³Ïï»ñÁ | AP5: µ»Ï³ÝáõÙÝ»ñÇ ïáÏáëÁ ³í³ñïí³Í ·áñÍ»ñÇó(Ñ³ßí»ïáõ Å³Ù³Ý³Ï³ßñç³ÝáõÙ) | AQ5: Î³ÛáõÝáõÃÛ³Ý ïáÏáëÁ ³í³ñïí³Í ·áñÍ»ñÇó(Ñ³ßí»ïáõ Å³Ù³Ý³Ï³ßñç³ÝáõÙ) | AR5: µ»Ï³ÝáõÙÝ»ñÇ ïáÏáëÁ µáÕáù³ñÏí³Í ·áñÍ»ñÇó(Ñ³ßí»ïáõ Å³Ù³Ý³Ï³ßñç³ÝáõÙ) | AS5: Ï³ÛáõÝáõÃÛ³Ý ïáÏáëÁ(Ñ³ßí»ïáõ Å³Ù³Ý³Ï³ßñç³ÝáõÙ)
E6: ÀÝ¹³Ù»ÝÁ | F6: ²Û¹ ÃíáõÙ`Ï³ë»óí³Í íÇ×³ÏáõÙ ÷áË³Ýóí³Í | G6: ²Û¹ ÃíáõÙª ÁÝ¹áõÝí»É ¿ í³ñáõÛÃ | H6: ²Û¹ ÃíáõÙª í»ñ³¹³ñÓí»É ¿ | I6: ²Û¹ ÃíáõÙª ÁÝ¹áõÝáõÙÁ Ù»ñÅí»É ¿ | J6: ÀÝ¹³Ù»ÝÁ | K6: ²Û¹ ÃíáõÙª ÁÝ¹áõÝí»É ¿ í³ñáõÛÃ | L6: ²Û¹ ÃíáõÙª í»ñ³¹³ñÓí»É ¿ | M6: ²Û¹ ÃíáõÙª ÁÝ¹áõÝáõÙÁ Ù»ñÅí»É ¿ | O6: ÀÝ¹³Ù»ÝÁ ³í³ñïí»É »Ý ·áñÍ»ñ ·áñÍÝ Áëï ¿áõÃÛ³Ý ÉáõÍáÕ ¹³ï³Ï³Ý ³Ïï»ñÇ (í×ÇéÝ»ñÇ) Ï³Û³óÙ³Ùµ | P6: ²Û¹ ÃíáõÙª Ñ³ÛóÇ µ³í³ñ³ñÙ³Ùµ | Q6: ²Û¹ ÃíáõÙª Ñ³ÛóÇ Ù³ëÝ³ÏÇ µ³í³ñ³ñÙ³Ùµ | R6: ²Û¹ ÃíáõÙª Ñ³ÛóÇ Ù»ñÅÙ³Ùµ | S6: Ø³ëáí Ï³ñ×í»É ¿, Ù³ëáí Ù»ñÅí»É | T6: ²Û¹ ÃíáõÙª Ï³ñ×í»É »Ý | X6: Ð³ÛóÁ ÃáÕÝí»É ¿ ³é³Ýó ùÝÝáõÃÛ³Ý | Y6: ÀÝ¹³Ù»ÝÝ ³í³ñïí»É »Ý ·áñÍ»ñ | AD6: ²Û¹ ÃíáõÙ` ·áñÍÝ Áëï ¿áõÃÛ³Ý ÉáõÍáÕ ¹³ï³Ï³Ý ³Ïï»ñÁ | AE6: ²Û¹ ÃíáõÙ` ÙÇç³ÝÏÛ³É ¹³ï³Ï³Ý ³Ïï»ñÁ | AF6: ÀÝ¹³Ù»ÝÁ | AG6: Ü³Ëáñ¹ ï³ñÇÝ»ñÇÝ Ï³Û³óí³Í ³Ïï»ñÇ µáÕáù³ñÏáõÙÁ Ñ³ßí»ïáõ Å³Ù³Ý³Ï³ßñç³ÝáõÙ | AH6: Ð³ßí»ïáõ Å³Ù³Ý³Ï³ßñç³ÝáõÙ Ï³Û³óí³Í ³Ïï»ñÇ µáÕáù³ñÏáõÙÁ | AK6: ²Û¹ ÃíáõÙ` ·áñÍÝ Áëï ¿áõÃÛ³Ý ÉáõÍáÕ ¹³ï³Ï³Ý ³Ïï»ñÁ | AL6: ²Û¹ ÃíáõÙ` ÙÇç³ÝÏÛ³É ¹³ï³Ï³Ý ³Ïï»ñÁ | AM6: ÀÝ¹³Ù»ÝÁ | AN6: Ü³Ëáñ¹ ï³ñÇÝ»ñÇÝ Ï³Û³óí³Í ³Ïï»ñÇ µ»Ï³ÝáõÙÝ»ñÁ Ñ³ßí»ïáõ Å³Ù³Ý³Ï³ßñç³ÝáõÙ | AO6: Ð³ßí»ïáõ Å³Ù³Ý³Ï³ßñç³ÝáõÙ Ï³Û³óí³Í ³Ïï»ñÇ µ»Ï³ÝáõÙÁ
T7: ÀÝ¹³Ù»ÝÁ Ï³ñ×í»É »Ý | U7: ²Û¹ ÃíáõÙª Ñ³ëï³ïí»É ¿ ÏÝùí³Í Ñ³ßïáõÃÛ³Ý Ñ³Ù³Ó³ÛÝáõÃÛáõÝÁ | V7: ²Û¹ ÃíáõÙª Ñ³óÇó, ¹ÇÙáõÙÇó Ññ³Å³ñí»Éáõ ÑÇÙùáí | W7: ²Û¹ ÃíáõÙª ³ÛÉ ÑÇÙùáí
E8: 1 | F8: 2 | G8: 3 | H8: 4 | I8: 5 | J8: 6 | K8: 7 | L8: 8 | M8: 9 | N8: 10 | O8: 11 | P8: 12 | Q8: 13 | R8: 14 | S8: 15 | T8: 16 | U8: 17 | V8: 18 | W8: 19 | X8: 20 | Y8: 21 | Z8: 22 | AA8: 23 | AB8: 24 | AC8: 25 | AD8: 26 | AE8: 27 | AF8: 28 | AG8: 29 | AH8: 30 | AI8: 31 | AJ8: 32 | AK8: 33 | AL8: 34 | AM8: 35 | AN8: 36 | AO8: 37 | AP8: 38 | AQ8: 39 | AR8: 40 | AS8: 41
A9: 1. | B9: ¶áõÛù³ÛÇÝ Çñ³í³Ñ³ñ³µ»ñáõÃÛáõÝÝ»ñÇ í»ñ³µ»ñÛ³É ¹³ï³Ï³Ý ·áñÍ»ñ | E9: =SUM(E10:E28) -> 13 | F9: =SUM(F10:F28) -> 8 | G9: =SUM(G10:G28) -> 5 | H9: =SUM(H10:H28) -> 0 | I9: =SUM(I10:I28) -> 0 | J9: =SUM(J10:J28) -> 17 | K9: =SUM(K10:K28) -> 15 | L9: =SUM(L10:L28) -> 2 | ... AS9: =SUM(AS10:AS28) -> 0
A10: 1.1 | B10: ¶áõÛùÇ ÝÏ³ïÙ³Ùµ ë»÷³Ï³ÝáõÃÛ³Ý Çñ³íáõÝùÁ ×³Ý³ã»Éáõ í»ñ³µ»ñÛ³É | E10: =+F10+G10+H10+I10 -> 0 | J10: =+K10+L10+M10 -> 0 | O10: =+P10+Q10+R10+S10+T10 -> 0 | T10: =+U10+V10+W10 -> 0 | Y10: =+O10+X10 -> 0 | AF10: =+AG10+AH10 -> 0 | AM10: =+AK10+AL10 -> 0
A11: 1.1.1 | B11: ²Û¹ ÃíáõÙª Ó»éùµ»ñÙ³Ý í³Õ»ÙáõÃÛ³Ý áõÅáí | E11: =+F11+G11+H11+I11 -> 0 | J11: =+K11+L11+M11 -> 1 | K11: 1 | O11: =+P11+Q11+R11+S11+T11 -> 1 | R11: 1 | T11: =+U11+V11+W11 -> 0 | Y11: =+O11+X11 -> 1 | AF11: =+AG11+AH11 -> 0 | AM11: =+AK11+AL11 -> 0
A12: 1.1.2 | B12: ²Û¹ ÃíáõÙª ïÇñ³½áõñÏ ·áõÛùÇ ÝÏ³ïÙ³Ùµ | E12: =+F12+G12+H12+I12 -> 0 | J12: =+K12+L12+M12 -> 0 | O12: =+P12+Q12+R12+S12+T12 -> 0 | T12: =+U12+V12+W12 -> 0 | Y12: =+O12+X12 -> 0 | AF12: =+AG12+AH12 -> 0 | AM12: =+AK12+AL12 -> 0
A13: 1.1.3 | B13: ²Û¹ ÃíáõÙª ÇÝùÝ³Ï³Ù Ï³éáõÛóÇ ÝÏ³ïÙ³Ùµ | E13: =+F13+G13+H13+I13 -> 0 | J13: =+K13+L13+M13 -> 0 | O13: =+P13+Q13+R13+S13+T13 -> 0 | T13: =+U13+V13+W13 -> 0 | Y13: =+O13+X13 -> 0 | AF13: =+AG13+AH13 -> 0 | AM13: =+AK13+AL13 -> 0
A14: 1.2 | B14: ê»÷³Ï³ÝáõÃÛ³Ý Çñ³íáõÝùÇ ¹³¹³ñ»óÙ³Ý í»ñ³µ»ñÛ³É | E14: =+F14+G14+H14+I14 -> 0 | J14: =+K14+L14+M14 -> 1 | K14: 1 | O14: =+P14+Q14+R14+S14+T14 -> 0 | T14: =+U14+V14+W14 -> 0 | Y14: =+O14+X14 -> 0 | AB14: 1 | AF14: =+AG14+AH14 -> 0 | AM14: =+AK14+AL14 -> 0
A15: 1.3 | B15: ¶áõÛùÇ ÝÏ³ïÙ³Ùµ û·ï³·áñÍÙ³Ý Çñ³íáõÝùÁ ×³Ý³ã»Éáõ í»ñ³µ»ñÛ³É | E15: =+F15+G15+H15+I15 -> 0 | J15: =+K15+L15+M15 -> 0 | O15: =+P15+Q15+R15+S15+T15 -> 0 | T15: =+U15+V15+W15 -> 0 | Y15: =+O15+X15 -> 0 | AF15: =+AG15+AH15 -> 0 | AM15: =+AK15+AL15 -> 0
A16: 1.3.1 | B16: ²Û¹ ÃíáõÙª µÝ³Ïû·ï³·áñÍÙ³Ý Çñ³íáõÝùÁ ×³Ý³ã»Éáõ í»ñ³µ»ñÛ³É | E16: =+F16+G16+H16+I16 -> 0 | J16: =+K16+L16+M16 -> 0 | O16: =+P16+Q16+R16+S16+T16 -> 0 | T16: =+U16+V16+W16 -> 0 | Y16: =+O16+X16 -> 0 | AF16: =+AG16+AH16 -> 0 | AM16: =+AK16+AL16 -> 0
A17: 1.3.2 | B17: ²Û¹ ÃíáõÙª ÑáÕ³Ù³ëÇ ÝÏ³ïÙ³Ùµ û·ï³·áñÍÙ³Ý Çñ³íáõÝùÁ ×³Ý³ã»Éáõ í»ñ³µ»ñÛ³É | E17: =+F17+G17+H17+I17 -> 0 | J17: =+K17+L17+M17 -> 0 | O17: =+P17+Q17+R17+S17+T17 -> 0 | T17: =+U17+V17+W17 -> 0 | Y17: =+O17+X17 -> 0 | AF17: =+AG17+AH17 -> 0 | AM17: =+AK17+AL17 -> 0
A18: 1.4 | B18: ¶áõÛùÇ ÝÏ³ïÙ³Ùµ û·ï³·áñÍÙ³Ý Çñ³íáõÝùÁ ¹³¹³ñ»óÝ»Éáõ í»ñ³µ»ñÛ³É | E18: =+F18+G18+H18+I18 -> 0 | J18: =+K18+L18+M18 -> 0 | O18: =+P18+Q18+R18+S18+T18 -> 0 | T18: =+U18+V18+W18 -> 0 | Y18: =+O18+X18 -> 0 | AF18: =+AG18+AH18 -> 0 | AM18: =+AK18+AL18 -> 0
A19: 1.4.1 | B19: ²Û¹ ÃíáõÙª µÝ³Ïû·ï³·áñÍÙ³Ý Çñ³íáõÝùÁ ¹³¹³ñ»óÝ»Éáõ í»ñ³µ»ñÛ³É | E19: =+F19+G19+H19+I19 -> 0 | J19: =+K19+L19+M19 -> 0 | O19: =+P19+Q19+R19+S19+T19 -> 0 | T19: =+U19+V19+W19 -> 0 | Y19: =+O19+X19 -> 0 | AF19: =+AG19+AH19 -> 0 | AM19: =+AK19+AL19 -> 0
A20: 1.4.1/1 | B20: ²Û¹ ÃíáõÙª ÷áËÑ³ïáõóÙ³Ùµ | E20: =+F20+G20+H20+I20 -> 0 | J20: =+K20+L20+M20 -> 0 | O20: =+P20+Q20+R20+S20+T20 -> 0 | T20: =+U20+V20+W20 -> 0 | Y20: =+O20+X20 -> 0 | AF20: =+AG20+AH20 -> 0 | AM20: =+AK20+AL20 -> 0
A21: 1.5 | B21: ´Ý³Ï³ñ³ÝÇó/ ï³ñ³ÍùÇó/ íï³ñ»Éáõ í»ñ³µ»ñÛ³É | E21: =+F21+G21+H21+I21 -> 0 | J21: =+K21+L21+M21 -> 1 | K21: 1 | O21: =+P21+Q21+R21+S21+T21 -> 0 | T21: =+U21+V21+W21 -> 0 | Y21: =+O21+X21 -> 0 | AB21: 1 | AF21: =+AG21+AH21 -> 0 | AM21: =+AK21+AL21 -> 0
A22: 1.6 | B22: ¶áõÛùÝ áõñÇßÇ ³åûñÇÝÇ ïÇñ³å»ïáõÙÇó »ï í»ñ³¹³ñÓÝ»Éáõ í»ñ³µ»ñÛ³É | E22: =+F22+G22+H22+I22 -> 1 | G22: 1 | J22: =+K22+L22+M22 -> 1 | K22: 1 | O22: =+P22+Q22+R22+S22+T22 -> 1 | P22: 1 | T22: =+U22+V22+W22 -> 0 | Y22: =+O22+X22 -> 1 | AB22: 1 | AF22: =+AG22+AH22 -> 0 | AM22: =+AK22+AL22 -> 0
A23: 1.6.1 | B23: ´³ñ»ËÇÕ× Ó»éùµ»ñáÕÇó Çñ ·áõÛùÁ Ñ»ï å³Ñ³Ýç»Éáõ í»ñ³µ»ñÛ³É | E23: =+F23+G23+H23+I23 -> 0 | J23: =+K23+L23+M23 -> 0 | O23: =+P23+Q23+R23+S23+T23 -> 0 | T23: =+U23+V23+W23 -> 0 | Y23: =+O23+X23 -> 0 | AF23: =+AG23+AH23 -> 0 | AM23: =+AK23+AL23 -> 0
A24: 1.7 | B24: îÇñ³å»ïáõÙÇó ½ñÏ»Éáõ Ñ»ï ãÏ³åí³Í Çñ³íáõÝùÝ»ñÇ Ë³ËïáõÙÁ í»ñ³óÝ»Éáõ í»ñ³µ»ñÛ³É | E24: =+F24+G24+H24+I24 -> 0 | J24: =+K24+L24+M24 -> 0 | O24: =+P24+Q24+R24+S24+T24 -> 0 | T24: =+U24+V24+W24 -> 0 | Y24: =+O24+X24 -> 0 | AF24: =+AG24+AH24 -> 0 | AM24: =+AK24+AL24 -> 0
A25: 1.8 | B25: ÀÝ¹Ñ³Ýáõñ µ³ÅÝ³ÛÇÝ ë»÷³Ï³ÝáõÃÛáõÝÇó µ³ÅÇÝÝ ³é³ÝÓÝ³óÝ»Éáõ í»ñ³µ»ñÛ³É | E25: =+F25+G25+H25+I25 -> 5 | F25: 3 | G25: 2 | J25: =+K25+L25+M25 -> 10 | K25: 9 | L25: 1 | O25: =+P25+Q25+R25+S25+T25 -> 4 | P25: 4 | T25: =+U25+V25+W25 -> 0 | Y25: =+O25+X25 -> 4 | AA25: 3 | AB25: 10 | AC25: 4 | AF25: =+AG25+AH25 -> 0 | AM25: =+AK25+AL25 -> 0
A26: 1.8.1 | B26: Ð³Ù³ï»Õ ë»÷³Ï³ÝáõÃÛ³Ý Ý»ñùá ·ïÝíáÕ ·áõÛùÁ µ³Å³Ý»Éáõ ¨ ¹ñ³ÝÇó µ³ÅÇÝÝ ³é³ÝÓÝ³óÝ»Éáõ í»ñ³µ»ñÛ³É | E26: =+F26+G26+H26+I26 -> 6 | F26: 4 | G26: 2 | J26: =+K26+L26+M26 -> 3 | K26: 2 | L26: 1 | O26: =+P26+Q26+R26+S26+T26 -> 3 | P26: 1 | T26: =+U26+V26+W26 -> 2 | V26: 2 | Y26: =+O26+X26 -> 3 | AA26: 3 | AB26: 5 | AC26: 5 | AF26: =+AG26+AH26 -> 0 | AM26: =+AK26+AL26 -> 0
A27: 1.8.3 | B27: ¶áõÛùÇ íñ³ µéÝ³·³ÝÓáõÙ ï³ñ³Í»Éáõ å³Ñ³ÝçÇ Ù³ëÇÝ | E27: =+F27+G27+H27+I27 -> 0 | J27: =+K27+L27+M27 -> 0 | O27: =+P27+Q27+R27+S27+T27 -> 0 | T27: =+U27+V27+W27 -> 0 | Y27: =+O27+X27 -> 0 | AF27: =+AG27+AH27 -> 0 | AM27: =+AK27+AL27 -> 0
A28: 1.9 | B28: ²ÛÉ í»×»ñ | E28: =+F28+G28+H28+I28 -> 1 | F28: 1 | J28: =+K28+L28+M28 -> 0 | O28: =+P28+Q28+R28+S28+T28 -> 0 | T28: =+U28+V28+W28 -> 0 | Y28: =+O28+X28 -> 0 | AB28: 1 | AC28: 1 | AF28: =+AG28+AH28 -> 0 | AM28: =+AK28+AL28 -> 0
A29: 2. | B29: ¶áñÍ³ñùÝ»ñÇ Ñ»ï Ï³åí³Í Çñ³í³Ñ³ñ³µ»ñáõÃÛáõÝÝ»ñÇ í»ñ³µ»ñÛ³É ¹³ï³Ï³Ý ·áñÍ»ñ | E29: =SUM(E30:E40) -> 2 | F29: =SUM(F30:F40) -> 0 | G29: =SUM(G30:G40) -> 2 | H29: =SUM(H30:H40) -> 0 | I29: =SUM(I30:I40) -> 0 | J29: =+K29+L29+M29 -> 5 | K29: =SUM(K30:K40) -> 5 | L29: =SUM(L30:L40) -> 0 | M29: =SUM(M30:M40) -> 0 | N29: =SUM(N30:N40) -> 0 | O29: =+P29+Q29+R29+S29+T29 -> 3 | P29: =SUM(P30:P40) -> 0 | Q29: =SUM(Q30:Q40) -> 0 | R29: =SUM(R30:R40) -> 2 | S29: =SUM(S30:S40) -> 0 | T29: =+U29+V29+W29 -> 1 | U29: =SUM(U30:U40) -> 0 | V29: =SUM(V30:V40) -> 1 | W29: =SUM(W30:W40) -> 0 | X29: =SUM(X30:X40) -> 0 | Y29: =+O29+X29 -> 3 | Z29: =SUM(Z30:Z40) -> 0 | AA29: =SUM(AA30:AA40) -> 0 | AB29: =SUM(AB30:AB40) -> 4 | AC29: =SUM(AC30:AC40) -> 0 | AD29: =SUM(AD30:AD40) -> 1 | AE29: =SUM(AE30:AE40) -> 1 | AF29: =+AG29+AH29 -> 2 | AG29: =SUM(AG30:AG40) -> 0 | AH29: =SUM(AH30:AH40) -> 2 | AI29: =SUM(AI30:AI40) -> 0 | AJ29: =SUM(AJ30:AJ40) -> 1 | AK29: =SUM(AK30:AK40) -> 0 | AL29: =SUM(AL30:AL40) -> 1 | AM29: =+AK29+AL29 -> 1 | AN29: =SUM(AN30:AN40) -> 0 | AO29: =SUM(AO30:AO40) -> 1 | AP29: =SUM(AP30:AP40) -> 0 | AQ29: =SUM(AQ30:AQ40) -> 0 | AR29: =SUM(AR30:AR40) -> 0 | AS29: =SUM(AS30:AS40) -> 0
A30: 2.1 | B30: ·áñÍ³ñùÝ»ñÇ ³Ýí³í»ñáõÃÛ³Ý Ñ»ï Ï³åí³Í í»×»ñ | E30: =+F30+G30+H30+I30 -> 0 | J30: =+K30+L30+M30 -> 0 | O30: =+P30+Q30+R30+S30+T30 -> 0 | T30: =+U30+V30+W30 -> 0 | Y30: =+O30+X30 -> 0 | AF30: =+AG30+AH30 -> 0 | AM30: =+AK30+AL30 -> 0
A31: 2.1.1 | B31: ³Û¹ ÃíáõÙ` íÇ×³Ñ³ñáõÛó ·áñÍ³ñùÝ»ñÝ ³Ýí³í»ñ ×³Ý³ã»Éáõ í»ñ³µ»ñÛ³É | E31: =+F31+G31+H31+I31 -> 0 | J31: =+K31+L31+M31 -> 0 | O31: =+P31+Q31+R31+S31+T31 -> 0 | T31: =+U31+V31+W31 -> 0 | Y31: =+O31+X31 -> 0 | AF31: =+AG31+AH31 -> 0 | AM31: =+AK31+AL31 -> 0
A32: 2.1.2 | B32: ³Û¹ ÃíáõÙ` ·áñÍ³ñùÇ ³éáãÝãáõÃÛ³Ý Ñ»ï¨³ÝùÝ»ñ ÏÇñ³é»Éáõ í»ñ³µ»ñÛ³É | E32: =+F32+G32+H32+I32 -> 1 | G32: 1 | J32: =+K32+L32+M32 -> 1 | K32: 1 | O32: =+P32+Q32+R32+S32+T32 -> 1 | R32: 1 | T32: =+U32+V32+W32 -> 0 | Y32: =+O32+X32 -> 1 | AB32: 1 | AF32: =+AG32+AH32 -> 0 | AM32: =+AK32+AL32 -> 0
A33: 2.2 | B33: ¶áñÍ³ñùÁ í³í»ñ ×³Ý³ã»Éáõ í»ñ³µ»ñÛ³É | E33: =+F33+G33+H33+I33 -> 0 | J33: =+K33+L33+M33 -> 1 | K33: 1 | O33: =+P33+Q33+R33+S33+T33 -> 0 | T33: =+U33+V33+W33 -> 0 | Y33: =+O33+X33 -> 0 | AB33: 1 | AF33: =+AG33+AH33 -> 0 | AM33: =+AK33+AL33 -> 0
A34: 2.3 | B34: ¶áñÍ³ñùÇó Í³·áÕ Çñ³íáõÝùÝ»ñÁ ·ñ³Ýó»Éáõ í»ñ³µ»ñÛ³É | E34: =+F34+G34+H34+I34 -> 0 | J34: =+K34+L34+M34 -> 0 | O34: =+P34+Q34+R34+S34+T34 -> 0 | T34: =+U34+V34+W34 -> 0 | Y34: =+O34+X34 -> 0 | AF34: =+AG34+AH34 -> 0 | AM34: =+AK34+AL34 -> 0
A35: 2.4 | B35: ä³ÛÙ³Ý³·ÇñÝ ³Ýí³í»ñ ×³Ý³ã»Éáõ í»ñ³µ»ñÛ³É | E35: =+F35+G35+H35+I35 -> 0 | J35: =+K35+L35+M35 -> 2 | K35: 2 | O35: =+P35+Q35+R35+S35+T35 -> 1 | T35: =+U35+V35+W35 -> 1 | V35: 1 | Y35: =+O35+X35 -> 1 | AB35: 1 | AE35: 1 | AF35: =+AG35+AH35 -> 1 | AH35: 1 | AL35: 1 | AM35: =+AK35+AL35 -> 1 | AO35: 1
A36: 2.5 | B36: ä³ÛÙ³Ý³·ñÇÁ í³í»ñ ×³Ý³ã»Éáõ í»ñ³µ»ñÛ³É | E36: =+F36+G36+H36+I36 -> 0 | J36: =+K36+L36+M36 -> 0 | O36: =+P36+Q36+R36+S36+T36 -> 0 | T36: =+U36+V36+W36 -> 0 | Y36: =+O36+X36 -> 0 | AF36: =+AG36+AH36 -> 0 | AM36: =+AK36+AL36 -> 0
A37: 2.6 | B37: ä³ÛÙ³Ý³·ñÇó Í³·áÕ Çñ³íáõÝùÝ»ñÁ ·ñ³Ýó»Éáõ í»ñ³µ»ñÛ³É | E37: =+F37+G37+H37+I37 -> 0 | J37: =+K37+L37+M37 -> 0 | O37: =+P37+Q37+R37+S37+T37 -> 0 | T37: =+U37+V37+W37 -> 0 | Y37: =+O37+X37 -> 0 | AF37: =+AG37+AH37 -> 0 | AM37: =+AK37+AL37 -> 0
A38: 2.7 | B38: ä³ÛÙ³Ý³·ÇñÁ ÷á÷áË»Éáõ ¨ ÉáõÍ»Éáõ í»ñ³µ»ñÛ³É | E38: =+F38+G38+H38+I38 -> 0 | J38: =+K38+L38+M38 -> 1 | K38: 1 | O38: =+P38+Q38+R38+S38+T38 -> 0 | T38: =+U38+V38+W38 -> 0 | Y38: =+O38+X38 -> 0 | AB38: 1 | AF38: =+AG38+AH38 -> 0 | AM38: =+AK38+AL38 -> 0
A39: 2.8 | B39: ä³ÛÙ³Ý³·Çñ ÏÝù»ÉáõÝ å³ñï³íáñ»óÝ»Éáõ í»ñ³µ»ñÛ³É | E39: =+F39+G39+H39+I39 -> 1 | G39: 1 | J39: =+K39+L39+M39 -> 0 | O39: =+P39+Q39+R39+S39+T39 -> 1 | R39: 1 | T39: =+U39+V39+W39 -> 0 | Y39: =+O39+X39 -> 1 | AD39: 1 | AF39: =+AG39+AH39 -> 1 | AH39: 1 | AJ39: 1 | AM39: =+AK39+AL39 -> 0
A40: 2.9 | B40: ²ÛÉ í»×»ñ | E40: =+F40+G40+H40+I40 -> 0 | J40: =+K40+L40+M40 -> 0 | O40: =+P40+Q40+R40+S40+T40 -> 0 | T40: =+U40+V40+W40 -> 0 | Y40: =+O40+X40 -> 0 | AF40: =+AG40+AH40 -> 0 | AM40: =+AK40+AL40 -> 0
A41: 3. | B41: Ä³é³Ý·áõÃÛ³Ý Ñ»ï Ï³åí³Í Çñ³í³Ñ³ñ³µ»ñáõÃÛáõÝÝ»ñÇ í»ñ³µ»ñÛ³É ¹³ï³Ï³Ý ·áñÍ»ñ | E41: =SUM(E42:E48) -> 2 | F41: =SUM(F42:F48) -> 0 | G41: =SUM(G42:G48) -> 2 | H41: =SUM(H42:H48) -> 0 | I41: =SUM(I42:I48) -> 0 | J41: =+K41+L41+M41 -> 5 | K41: =SUM(K42:K48) -> 1 | L41: =SUM(L42:L48) -> 4 | M41: =SUM(M42:M48) -> 0 | N41: =SUM(N42:N48) -> 0 | O41: =+P41+Q41+R41+S41+T41 -> 3 | P41: =SUM(P42:P48) -> 1 | Q41: =SUM(Q42:Q48) -> 1 | R41: =SUM(R42:R48) -> 1 | S41: =SUM(S42:S48) -> 0 | T41: =+U41+V41+W41 -> 0 | U41: =SUM(U42:U48) -> 0 | V41: =SUM(V42:V48) -> 0 | W41: =SUM(W42:W48) -> 0 | X41: =SUM(X42:X48) -> 0 | Y41: =+O41+X41 -> 3 | Z41: =SUM(Z42:Z48) -> 0 | AA41: =SUM(AA42:AA48) -> 0 | AB41: =SUM(AB42:AB48) -> 0 | AC41: =SUM(AC42:AC48) -> 0 | AD41: =SUM(AD42:AD48) -> 1 | AE41: =SUM(AE42:AE48) -> 0 | AF41: =+AG41+AH41 -> 1 | AG41: =SUM(AG42:AG48) -> 0 | AH41: =SUM(AH42:AH48) -> 1 | AI41: =SUM(AI42:AI48) -> 0 | AJ41: =SUM(AJ42:AJ48) -> 1 | AK41: =SUM(AK42:AK48) -> 0 | AL41: =SUM(AL42:AL48) -> 0 | AM41: =+AK41+AL41 -> 0 | AN41: =SUM(AN42:AN48) -> 0 | AO41: =SUM(AO42:AO48) -> 0 | AP41: =SUM(AP42:AP48) -> 0 | AQ41: =SUM(AQ42:AQ48) -> 0 | AR41: =SUM(AR42:AR48) -> 0 | AS41: =SUM(AS42:AS48) -> 0
A42: 3.1 | B42: Îï³ÏÝ ³Ýí³í»ñ ×³Ý³ã»Éáõ í»ñ³µ»ñÛ³É | E42: =+F42+G42+H42+I42 -> 1 | G42: 1 | J42: =+K42+L42+M42 -> 0 | O42: =+P42+Q42+R42+S42+T42 -> 1 | Q42: 1 | T42: =+U42+V42+W42 -> 0 | Y42: =+O42+X42 -> 1 | AD42: 1 | AF42: =+AG42+AH42 -> 1 | AH42: 1 | AJ42: 1 | AM42: =+AK42+AL42 -> 0
A43: 3.2 | B43: ²Ý³ñÅ³Ý Å³é³Ý· ×³Ý³ã»Éáõ í»ñ³µ»ñÛ³É | E43: =+F43+G43+H43+I43 -> 0 | J43: =+K43+L43+M43 -> 0 | O43: =+P43+Q43+R43+S43+T43 -> 0 | T43: =+U43+V43+W43 -> 0 | Y43: =+O43+X43 -> 0 | AF43: =+AG43+AH43 -> 0 | AM43: =+AK43+AL43 -> 0
A44: 3.3 | B44: Ä³é³Ý·áõÃÛáõÝÁ µ³Å³Ý»Éáõ í»ñ³µ»ñÛ³É | E44: =+F44+G44+H44+I44 -> 0 | J44: =+K44+L44+M44 -> 0 | O44: =+P44+Q44+R44+S44+T44 -> 0 | T44: =+U44+V44+W44 -> 0 | Y44: =+O44+X44 -> 0 | AF44: =+AG44+AH44 -> 0 | AM44: =+AK44+AL44 -> 0
A45: 3.4 | B45: ¶áõÛùÝ ³ÝÅ³é³Ý· ×³Ý³ã»Éáõ í»ñ³µ»ñÛ³É | E45: =+F45+G45+H45+I45 -> 0 | J45: =+K45+L45+M45 -> 0 | O45: =+P45+Q45+R45+S45+T45 -> 0 | T45: =+U45+V45+W45 -> 0 | Y45: =+O45+X45 -> 0 | AF45: =+AG45+AH45 -> 0 | AM45: =+AK45+AL45 -> 0
A46: 3.5 | B46: Àëï ûñ»ÝùÇ Å³é³Ý·áõÃÛ³Ý Çñ³íáõÝùÇ íÏ³Û³·ÇñÝ ³Ýí³í»ñ ×³Ý³ã»Éáõ í»ñ³µ»ñÛ³É | E46: =+F46+G46+H46+I46 -> 0 | J46: =+K46+L46+M46 -> 0 | O46: =+P46+Q46+R46+S46+T46 -> 0 | T46: =+U46+V46+W46 -> 0 | Y46: =+O46+X46 -> 0 | AF46: =+AG46+AH46 -> 0 | AM46: =+AK46+AL46 -> 0
A47: 3.6 | B47: Ä³é³Ý·áõÃÛáõÝÝ ÁÝ¹áõÝ»Éáõ µ³ó ÃáÕÝí³Í Å³ÙÏ»ïÁ Ñ³ñ·»ÉÇ Ñ³Ù³ñ»Éáõ í»ñ³µ»ñÛ³É | E47: =+F47+G47+H47+I47 -> 1 | G47: 1 | J47: =+K47+L47+M47 -> 4 | K47: 1 | L47: 3 | O47: =+P47+Q47+R47+S47+T47 -> 2 | P47: 1 | R47: 1 | T47: =+U47+V47+W47 -> 0 | Y47: =+O47+X47 -> 2 | AF47: =+AG47+AH47 -> 0 | AM47: =+AK47+AL47 -> 0
A48: 3.7 | B48: ²ÛÉ í»×»ñ | E48: =+F48+G48+H48+I48 -> 0 | J48: =+K48+L48+M48 -> 1 | L48: 1 | O48: =+P48+Q48+R48+S48+T48 -> 0 | T48: =+U48+V48+W48 -> 0 | Y48: =+O48+X48 -> 0 | AF48: =+AG48+AH48 -> 0 | AM48: =+AK48+AL48 -> 0
A49: 4 | B49: ÀÝï³Ý»Ï³Ý Çñ³í³Ñ³ñ³µ»ñáõÃÛáõÝÝ»ñÇ í»ñ³µ»ñÛ³É ¹³ï³Ï³Ý ·áñÍ»ñ | E49: =SUM(E50:E62) -> 8 | F49: =SUM(F50:F62) -> 1 | G49: =SUM(G50:G62) -> 7 | H49: =SUM(H50:H62) -> 0 | I49: =SUM(I50:I62) -> 0 | J49: =+K49+L49+M49 -> 36 | K49: =SUM(K50:K62) -> 32 | L49: =SUM(L50:L62) -> 4 | M49: =SUM(M50:M62) -> 0 | N49: =SUM(N50:N62) -> 0 | O49: =+P49+Q49+R49+S49+T49 -> 32 | P49: =SUM(P50:P62) -> 21 | Q49: =SUM(Q50:Q62) -> 8 | R49: =SUM(R50:R62) -> 1 | S49: =SUM(S50:S62) -> 0 | T49: =+U49+V49+W49 -> 2 | U49: =SUM(U50:U62) -> 1 | V49: =SUM(V50:V62) -> 1 | W49: =SUM(W50:W62) -> 0 | X49: =SUM(X50:X62) -> 0 | Y49: =+O49+X49 -> 32 | Z49: =SUM(Z50:Z62) -> 1 | AA49: =SUM(AA50:AA62) -> 0 | AB49: =SUM(AB50:AB62) -> 7 | AC49: =SUM(AC50:AC62) -> 1 | AD49: =SUM(AD50:AD62) -> 6 | AE49: =SUM(AE50:AE62) -> 0 | AF49: =+AG49+AH49 -> 6 | AG49: =SUM(AG50:AG62) -> 3 | AH49: =SUM(AH50:AH62) -> 3 | AI49: =SUM(AI50:AI62) -> 0 | AJ49: =SUM(AJ50:AJ62) -> 5 | AK49: =SUM(AK50:AK62) -> 1 | AL49: =SUM(AL50:AL62) -> 0 | AM49: =+AK49+AL49 -> 1 | AN49: =SUM(AN50:AN62) -> 0 | AO49: =SUM(AO50:AO62) -> 1 | AP49: =SUM(AP50:AP62) -> 0 | AQ49: =SUM(AQ50:AQ62) -> 0 | AR49: =SUM(AR50:AR62) -> 0 | AS49: =SUM(AS50:AS62) -> 0
A50: 4.1 | B50: ²ÙáõëÝ³ÉáõÍáõÃÛ³Ý í»ñ³µ»ñÛ³É | E50: =+F50+G50+H50+I50 -> 2 | G50: 2 | J50: =+K50+L50+M50 -> 20 | K50: 16 | L50: 4 | O50: =+P50+Q50+R50+S50+T50 -> 14 | P50: 14 | T50: =+U50+V50+W50 -> 0 | Y50: =+O50+X50 -> 14 | Z50: 1 | AB50: 3 | AF50: =+AG50+AH50 -> 0 | AM50: =+AK50+AL50 -> 0
A51: 4.2 | B51: ²ÉÇÙ»ÝïÇ å³Ñ³ÝçÇ í»ñ³µ»ñÛ³É | E51: =+F51+G51+H51+I51 -> 1 | G51: 1 | J51: =+K51+L51+M51 -> 5 | K51: 5 | O51: =+P51+Q51+R51+S51+T51 -> 6 | P51: 1 | Q51: 4 | T51: =+U51+V51+W51 -> 1 | V51: 1 | Y51: =+O51+X51 -> 6 | AD51: 1 | AF51: =+AG51+AH51 -> 1 | AH51: 1 | AJ51: 1 | AM51: =+AK51+AL51 -> 0
A52: 4.3 | B52: ²ÉÇÙ»ÝïÇ ã³÷Á ÷á÷áË»Éáõ í»ñ³µ»ñÛ³É | E52: =+F52+G52+H52+I52 -> 0 | J52: =+K52+L52+M52 -> 1 | K52: 1 | O52: =+P52+Q52+R52+S52+T52 -> 1 | P52: 1 | T52: =+U52+V52+W52 -> 0 | Y52: =+O52+X52 -> 1 | AF52: =+AG52+AH52 -> 0 | AM52: =+AK52+AL52 -> 0
A53: 4.4 | B53: ÌÝáÕ³Ï³Ý Çñ³íáõÝùÝ»ñÇó ½ñÏ»Éáõ í»ñ³µ»ñÛ³É | E53: =+F53+G53+H53+I53 -> 0 | J53: =+K53+L53+M53 -> 1 | K53: 1 | O53: =+P53+Q53+R53+S53+T53 -> 0 | T53: =+U53+V53+W53 -> 0 | Y53: =+O53+X53 -> 0 | AB53: 1 | AF53: =+AG53+AH53 -> 0 | AM53: =+AK53+AL53 -> 0
A54: 4.5 | B54: ÌÝáÕ³Ï³Ý Çñ³íáõÝùÝ»ñÁ í»ñ³Ï³Ý·Ý»Éáõ í»ñ³µ»ñÛ³É | E54: =+F54+G54+H54+I54 -> 0 | J54: =+K54+L54+M54 -> 0 | O54: =+P54+Q54+R54+S54+T54 -> 0 | T54: =+U54+V54+W54 -> 0 | Y54: =+O54+X54 -> 0 | AF54: =+AG54+AH54 -> 0 | AM54: =+AK54+AL54 -> 0
A55: 4.6 | B55: ºñ»Ë³ÛÇ áñ¹»·ñÙ³Ý í»ñ³µ»ñÛ³É | E55: =+F55+G55+H55+I55 -> 0 | J55: =+K55+L55+M55 -> 0 | O55: =+P55+Q55+R55+S55+T55 -> 0 | T55: =+U55+V55+W55 -> 0 | Y55: =+O55+X55 -> 0 | AF55: =+AG55+AH55 -> 0 | AM55: =+AK55+AL55 -> 0
A56: 4.7 | B56: ºñ»Ë³ÛÇ áñ¹»·ñáõÙÁ í»ñ³óÝ»Éáõ í»ñ³µ»ñÛ³É | E56: =+F56+G56+H56+I56 -> 0 | J56: =+K56+L56+M56 -> 0 | O56: =+P56+Q56+R56+S56+T56 -> 0 | T56: =+U56+V56+W56 -> 0 | Y56: =+O56+X56 -> 0 | AF56: =+AG56+AH56 -> 0 | AM56: =+AK56+AL56 -> 0
A57: 4.8 | B57: Ð³ÛñáõÃÛáõÝÁ ×³Ý³ã»Éáõ í»ñ³µ»ñÛ³É | E57: =+F57+G57+H57+I57 -> 1 | F57: 1 | J57: =+K57+L57+M57 -> 1 | K57: 1 | O57: =+P57+Q57+R57+S57+T57 -> 1 | P57: 1 | T57: =+U57+V57+W57 -> 0 | Y57: =+O57+X57 -> 1 | AB57: 1 | AC57: 1 | AF57: =+AG57+AH57 -> 0 | AM57: =+AK57+AL57 -> 0
A58: 4.9 | B58: ºñ»Ë³ÛÇ µÝ³ÏáõÃÛ³Ý í³ÛñÁ áñáß»Éáõ í»ñ³µ»ñÛ³É | E58: =+F58+G58+H58+I58 -> 1 | G58: 1 | J58: =+K58+L58+M58 -> 2 | K58: 2 | O58: =+P58+Q58+R58+S58+T58 -> 2 | P58: 2 | T58: =+U58+V58+W58 -> 0 | Y58: =+O58+X58 -> 2 | AB58: 1 | AD58: 1 | AF58: =+AG58+AH58 -> 1 | AG58: 1 | AK58: 1 | AM58: =+AK58+AL58 -> 1 | AO58: 1
A59: 4.10 | B59: ºñ»Ë³ÛÇ Ñ»ï ï»ë³ÏóáõÃÛ³Ý Ï³ñ· ë³ÑÙ³Ý»Éáõ í»ñ³µ»ñÛ³É | E59: =+F59+G59+H59+I59 -> 3 | G59: 3 | J59: =+K59+L59+M59 -> 3 | K59: 3 | O59: =+P59+Q59+R59+S59+T59 -> 5 | P59: 1 | Q59: 3 | T59: =+U59+V59+W59 -> 1 | U59: 1 | Y59: =+O59+X59 -> 5 | AB59: 1 | AD59: 2 | AF59: =+AG59+AH59 -> 2 | AG59: 1 | AH59: 1 | AJ59: 2 | AM59: =+AK59+AL59 -> 0
A60: 4.11 | B60: ²ÙáõëÇÝÝ»ñÇ ÁÝ¹Ñ³Ýáõñ ·áõÛùÁ µ³Å³Ý»Éáõ í»ñ³µ»ñÛ³É | E60: =+F60+G60+H60+I60 -> 0 | J60: =+K60+L60+M60 -> 2 | K60: 2 | O60: =+P60+Q60+R60+S60+T60 -> 2 | P60: 1 | R60: 1 | T60: =+U60+V60+W60 -> 0 | Y60: =+O60+X60 -> 2 | AF60: =+AG60+AH60 -> 0 | AM60: =+AK60+AL60 -> 0
A61: 4.12 | B61: ²ÙáõëÝ³Ï³Ý å³ÛÙ³Ý³·ñÇ ÷á÷áËÙ³Ý Ï³Ù ÉáõÍÙ³Ý í»ñ³µ»ñÛ³É | E61: =+F61+G61+H61+I61 -> 0 | J61: =+K61+L61+M61 -> 0 | O61: =+P61+Q61+R61+S61+T61 -> 0 | T61: =+U61+V61+W61 -> 0 | Y61: =+O61+X61 -> 0 | AF61: =+AG61+AH61 -> 0 | AM61: =+AK61+AL61 -> 0
A62: 4.13 | B62: ²ÛÉ í»×»ñ | E62: =+F62+G62+H62+I62 -> 0 | J62: =+K62+L62+M62 -> 1 | K62: 1 | O62: =+P62+Q62+R62+S62+T62 -> 1 | Q62: 1 | T62: =+U62+V62+W62 -> 0 | Y62: =+O62+X62 -> 1 | AD62: 2 | AF62: =+AG62+AH62 -> 2 | AG62: 1 | AH62: 1 | AJ62: 2 | AM62: =+AK62+AL62 -> 0
A63: 5. | B63: Øï³íáñ ë»÷³Ï³ÝáõÃÛ³Ý Ñ»ï Ï³åí³ÍÇñ³í³Ñ³ñ³µ»ñáõÃÛáõÝÝ»ñÇ í»ñ³µ»ñÛ³É ¹³ï³Ï³Ý ·áñÍ»ñ | E63: =SUM(E64:E69) -> 0 | F63: =SUM(F64:F69) -> 0 | G63: =SUM(G64:G69) -> 0 | H63: =SUM(H64:H69) -> 0 | I63: =SUM(I64:I69) -> 0 | J63: =+K63+L63+M63 -> 0 | K63: =SUM(K64:K69) -> 0 | L63: =SUM(L64:L69) -> 0 | M63: =SUM(M64:M69) -> 0 | N63: =SUM(N64:N69) -> 0 | O63: =+P63+Q63+R63+S63+T63 -> 0 | P63: =SUM(P64:P69) -> 0 | Q63: =SUM(Q64:Q69) -> 0 | R63: =SUM(R64:R69) -> 0 | S63: =SUM(S64:S69) -> 0 | T63: =+U63+V63+W63 -> 0 | U63: =SUM(U64:U69) -> 0 | V63: =SUM(V64:V69) -> 0 | W63: =SUM(W64:W69) -> 0 | X63: =SUM(X64:X69) -> 0 | Y63: =+O63+X63 -> 0 | Z63: =SUM(Z64:Z69) -> 0 | AA63: =SUM(AA64:AA69) -> 0 | AB63: =SUM(AB64:AB69) -> 0 | AC63: =SUM(AC64:AC69) -> 0 | AD63: =SUM(AD64:AD69) -> 0 | AE63: =SUM(AE64:AE69) -> 0 | AF63: =+AG63+AH63 -> 0 | AG63: =SUM(AG64:AG69) -> 0 | AH63: =SUM(AH64:AH69) -> 0 | AI63: =SUM(AI64:AI69) -> 0 | AJ63: =SUM(AJ64:AJ69) -> 0 | AK63: =SUM(AK64:AK69) -> 0 | AL63: =SUM(AL64:AL69) -> 0 | AM63: =+AK63+AL63 -> 0 | AN63: =SUM(AN64:AN69) -> 0 | AO63: =SUM(AO64:AO69) -> 0 | AP63: =SUM(AP64:AP69) -> 0 | AQ63: =SUM(AQ64:AQ69) -> 0 | AR63: =SUM(AR64:AR69) -> 0 | AS63: =SUM(AS64:AS69) -> 0
A64: 5.1 | B64: ÈÇó»Ý½³ÛÇÝ å³ÛÙ³Ý³·ñÇ ÉáõÍÙ³Ý, ÷á÷áËÙ³Ý ¨ ³Ýí³í»ñáõÃÛ³Ý í»ñ³µ»ñÛ³É | E64: =+F64+G64+H64+I64 -> 0 | J64: =+K64+L64+M64 -> 0 | O64: =+P64+Q64+R64+S64+T64 -> 0 | T64: =+U64+V64+W64 -> 0 | Y64: =+O64+X64 -> 0 | AF64: =+AG64+AH64 -> 0 | AM64: =+AK64+AL64 -> 0
A65: 5.2 | B65: Øï³íáñ ·áñÍáõÝ»áõÃÛ³Ý ³ñ¹ÛáõÝùÝ»ñ ëï»ÕÍ»Éáõ ¨ û·ï³·áñÍ»Éáõ å³ÛÙ³Ý³·ñÇ ÉáõÍÙ³Ý, ÷á÷áËÙ³Ý áõ ³Ýí³í»ñáõÃÛ³Ý í»ñ³µ»ñÛ³É | E65: =+F65+G65+H65+I65 -> 0 | J65: =+K65+L65+M65 -> 0 | O65: =+P65+Q65+R65+S65+T65 -> 0 | T65: =+U65+V65+W65 -> 0 | Y65: =+O65+X65 -> 0 | AF65: =+AG65+AH65 -> 0 | AM65: =+AK65+AL65 -> 0
A66: 5.3 | B66: Ð»ÕÇÝ³Ï³ÛÇÝ ¨ Ñ³ñ³ÏÇó Çñ³íáõÝùÝ»ñÇ í»ñ³µ»ñÛ³É | E66: =+F66+G66+H66+I66 -> 0 | J66: =+K66+L66+M66 -> 0 | O66: =+P66+Q66+R66+S66+T66 -> 0 | T66: =+U66+V66+W66 -> 0 | Y66: =+O66+X66 -> 0 | AF66: =+AG66+AH66 -> 0 | AM66: =+AK66+AL66 -> 0
A67: 5.4 | B67: üÇñÙ³ÛÇÝ ³Ýí³ÝÙ³Ý í»ñ³µ»ñÛ³É | E67: =+F67+G67+H67+I67 -> 0 | J67: =+K67+L67+M67 -> 0 | O67: =+P67+Q67+R67+S67+T67 -> 0 | T67: =+U67+V67+W67 -> 0 | Y67: =+O67+X67 -> 0 | AF67: =+AG67+AH67 -> 0 | AM67: =+AK67+AL67 -> 0
A68: 5.5 | B68: ²åñ³Ýù³ÛÇÝ Ýß³ÝÇ í»ñ³µ»ñÛ³É | E68: =+F68+G68+H68+I68 -> 0 | J68: =+K68+L68+M68 -> 0 | O68: =+P68+Q68+R68+S68+T68 -> 0 | T68: =+U68+V68+W68 -> 0 | Y68: =+O68+X68 -> 0 | AF68: =+AG68+AH68 -> 0 | AM68: =+AK68+AL68 -> 0
A69: 5.6 | B69: ²ÛÉ í»×»ñ | E69: =+F69+G69+H69+I69 -> 0 | J69: =+K69+L69+M69 -> 0 | O69: =+P69+Q69+R69+S69+T69 -> 0 | T69: =+U69+V69+W69 -> 0 | Y69: =+O69+X69 -> 0 | AF69: =+AG69+AH69 -> 0 | AM69: =+AK69+AL69 -> 0
A70: 6. | B70: ²ßË³ï³Ýù³ÛÇÝ Çñ³í³Ñ³ñ³µ»ñáõÃÛáõÝÝ»ñÇ í»ñ³µ»ñÛ³É ¹³ï³Ï³Ý ·áñÍ»ñ | E70: =SUM(E71:E76) -> 2 | F70: =SUM(F71:F76) -> 0 | G70: =SUM(G71:G76) -> 2 | H70: =SUM(H71:H76) -> 0 | I70: =SUM(I71:I76) -> 0 | J70: =+K70+L70+M70 -> 1 | K70: =SUM(K71:K76) -> 0 | L70: =SUM(L71:L76) -> 1 | M70: =SUM(M71:M76) -> 0 | N70: =SUM(N71:N76) -> 0 | O70: =+P70+Q70+R70+S70+T70 -> 2 | P70: =SUM(P71:P76) -> 2 | Q70: =SUM(Q71:Q76) -> 0 | R70: =SUM(R71:R76) -> 0 | S70: =SUM(S71:S76) -> 0 | T70: =+U70+V70+W70 -> 0 | U70: =SUM(U71:U76) -> 0 | V70: =SUM(V71:V76) -> 0 | W70: =SUM(W71:W76) -> 0 | X70: =SUM(X71:X76) -> 0 | Y70: =+O70+X70 -> 2 | Z70: =SUM(Z71:Z76) -> 0 | AA70: =SUM(AA71:AA76) -> 0 | AB70: =SUM(AB71:AB76) -> 0 | AC70: =SUM(AC71:AC76) -> 0 | AD70: =SUM(AD71:AD76) -> 0 | AE70: =SUM(AE71:AE76) -> 0 | AF70: =+AG70+AH70 -> 0 | AG70: =SUM(AG71:AG76) -> 0 | AH70: =SUM(AH71:AH76) -> 0 | AI70: =SUM(AI71:AI76) -> 0 | AJ70: =SUM(AJ71:AJ76) -> 0 | AK70: =SUM(AK71:AK76) -> 0 | AL70: =SUM(AL71:AL76) -> 0 | AM70: =+AK70+AL70 -> 0 | AN70: =SUM(AN71:AN76) -> 0 | AO70: =SUM(AO71:AO76) -> 0 | AP70: =SUM(AP71:AP76) -> 0 | AQ70: =SUM(AQ71:AQ76) -> 0 | AR70: =SUM(AR71:AR76) -> 0 | AS70: =SUM(AS71:AS76) -> 0
A71: 6.1 | B71: ²ßË³ï³Ýù³ÛÇÝ å³ÛÙ³Ý³·ñ»ñÇ í»ñ³µ»ñÛ³É | E71: =+F71+G71+H71+I71 -> 0 | J71: =+K71+L71+M71 -> 0 | O71: =+P71+Q71+R71+S71+T71 -> 0 | T71: =+U71+V71+W71 -> 0 | Y71: =+O71+X71 -> 0 | AF71: =+AG71+AH71 -> 0 | AM71: =+AK71+AL71 -> 0
A72: 6.2 | B72: ²ßË³ï³ÝùáõÙ í»ñ³Ï³Ý·Ý»Éáõ í»ñ³µ»ñÛ³É | E72: =+F72+G72+H72+I72 -> 0 | J72: =+K72+L72+M72 -> 0 | O72: =+P72+Q72+R72+S72+T72 -> 0 | T72: =+U72+V72+W72 -> 0 | Y72: =+O72+X72 -> 0 | AF72: =+AG72+AH72 -> 0 | AM72: =+AK72+AL72 -> 0
A73: 6.3 | B73: ¶áñÍ³¹áõÉÝ ³ÝûñÇÝ³Ï³Ý ×³Ý³ã»Éáõ í»ñ³µ»ñÛ³É | E73: =+F73+G73+H73+I73 -> 0 | J73: =+K73+L73+M73 -> 0 | O73: =+P73+Q73+R73+S73+T73 -> 0 | T73: =+U73+V73+W73 -> 0 | Y73: =+O73+X73 -> 0 | AF73: =+AG73+AH73 -> 0 | AM73: =+AK73+AL73 -> 0
A74: 6.4 | B74: Ð³ñÏ³¹Çñ å³ñ³åáõñ¹Ç Ñ³ïáõóÙ³Ý í»ñ³µ»ñÛ³É | E74: =+F74+G74+H74+I74 -> 0 | J74: =+K74+L74+M74 -> 0 | O74: =+P74+Q74+R74+S74+T74 -> 0 | T74: =+U74+V74+W74 -> 0 | Y74: =+O74+X74 -> 0 | AF74: =+AG74+AH74 -> 0 | AM74: =+AK74+AL74 -> 0
A75: 6.5 | B75: âí×³ñí³Í ³ßË³ï³í³ñÓÇ ¨/Ï³Ù ³ÛÉ í×³ñÝ»ñÇ µéÝ³·³ÝÓÙ³Ý í»ñ³µ»ñÛ³É | E75: =+F75+G75+H75+I75 -> 0 | J75: =+K75+L75+M75 -> 0 | O75: =+P75+Q75+R75+S75+T75 -> 0 | T75: =+U75+V75+W75 -> 0 | Y75: =+O75+X75 -> 0 | AF75: =+AG75+AH75 -> 0 | AM75: =+AK75+AL75 -> 0
A76: 6.6 | B76: ²ÛÉ í»×»ñ | E76: =+F76+G76+H76+I76 -> 2 | G76: 2 | J76: =+K76+L76+M76 -> 1 | L76: 1 | O76: =+P76+Q76+R76+S76+T76 -> 2 | P76: 2 | T76: =+U76+V76+W76 -> 0 | Y76: =+O76+X76 -> 2 | AF76: =+AG76+AH76 -> 0 | AM76: =+AK76+AL76 -> 0
A77: 7. | B77: Æñ³í³µ³Ý³Ï³Ý ³ÝÓÇ ·áñÍáõÝ»áõÃÛáõÝÇó µËáÕ Çñ³í³Ñ³ñ³µ»ñáõÃÛáõÝÝ»ñÇ í»ñ³µ»ñÛ³É ¹³ï³Ï³Ý ·áñÍ»ñ | E77: =SUM(E78:E79) -> 0 | F77: =SUM(F78:F79) -> 0 | G77: =SUM(G78:G79) -> 0 | H77: =SUM(H78:H79) -> 0 | I77: =SUM(I78:I79) -> 0 | J77: =+K77+L77+M77 -> 0 | K77: =SUM(K78:K79) -> 0 | L77: =SUM(L78:L79) -> 0 | M77: =SUM(M78:M79) -> 0 | N77: =SUM(N78:N79) -> 0 | O77: =+P77+Q77+R77+S77+T77 -> 0 | P77: =SUM(P78:P79) -> 0 | Q77: =SUM(Q78:Q79) -> 0 | R77: =SUM(R78:R79) -> 0 | S77: =SUM(S78:S79) -> 0 | T77: =+U77+V77+W77 -> 0 | U77: =SUM(U78:U79) -> 0 | V77: =SUM(V78:V79) -> 0 | W77: =SUM(W78:W79) -> 0 | X77: =SUM(X78:X79) -> 0 | Y77: =+O77+X77 -> 0 | Z77: =SUM(Z78:Z79) -> 0 | AA77: =SUM(AA78:AA79) -> 0 | AB77: =SUM(AB78:AB79) -> 0 | AC77: =SUM(AC78:AC79) -> 0 | AD77: =SUM(AD78:AD79) -> 0 | AE77: =SUM(AE78:AE79) -> 0 | AF77: =+AG77+AH77 -> 0 | AG77: =SUM(AG78:AG79) -> 0 | AH77: =SUM(AH78:AH79) -> 0 | AI77: =SUM(AI78:AI79) -> 0 | AJ77: =SUM(AJ78:AJ79) -> 0 | AK77: =SUM(AK78:AK79) -> 0 | AL77: =SUM(AL78:AL79) -> 0 | AM77: =+AK77+AL77 -> 0 | AN77: =SUM(AN78:AN79) -> 0 | AO77: =SUM(AO78:AO79) -> 0 | AP77: =SUM(AP78:AP79) -> 0 | AQ77: =SUM(AQ78:AQ79) -> 0 | AR77: =SUM(AR78:AR79) -> 0 | AS77: =SUM(AS78:AS79) -> 0
A78: 7.1 | B78: Îáñåáñ³ïÇí í»×»ñ | E78: =+F78+G78+H78+I78 -> 0 | J78: =+K78+L78+M78 -> 0 | O78: =+P78+Q78+R78+S78+T78 -> 0 | T78: =+U78+V78+W78 -> 0 | Y78: =+O78+X78 -> 0 | AF78: =+AG78+AH78 -> 0 | AM78: =+AK78+AL78 -> 0
A79: 7.2 | B79: ²ÛÉ í»×»ñ | E79: =+F79+G79+H79+I79 -> 0 | J79: =+K79+L79+M79 -> 0 | O79: =+P79+Q79+R79+S79+T79 -> 0 | T79: =+U79+V79+W79 -> 0 | Y79: =+O79+X79 -> 0 | AF79: =+AG79+AH79 -> 0 | AM79: =+AK79+AL79 -> 0
A80: 8. | B80: Ð³ïáõÏ í³ñáõÛÃÇ ¹³ï³Ï³Ý ·áñÍ»ñ | E80: =SUM(E81:E101) -> 3 | F80: =SUM(F81:F101) -> 1 | G80: =SUM(G81:G101) -> 2 | H80: =SUM(H81:H101) -> 0 | I80: =SUM(I81:I101) -> 0 | J80: =+K80+L80+M80 -> 31 | K80: =SUM(K81:K101) -> 18 | L80: =SUM(L81:L101) -> 13 | M80: =SUM(M81:M101) -> 0 | N80: =SUM(N81:N101) -> 1 | O80: =+P80+Q80+R80+S80+T80 -> 15 | P80: =SUM(P81:P101) -> 12 | Q80: =SUM(Q81:Q101) -> 0 | R80: =SUM(R81:R101) -> 1 | S80: =SUM(S81:S101) -> 0 | T80: =+U80+V80+W80 -> 2 | U80: =SUM(U81:U101) -> 0 | V80: =SUM(V81:V101) -> 2 | W80: =SUM(W81:W101) -> 0 | X80: =SUM(X81:X101) -> 0 | Y80: =+O80+X80 -> 15 | Z80: =SUM(Z81:Z101) -> 0 | AA80: =SUM(AA81:AA101) -> 1 | AB80: =SUM(AB81:AB101) -> 5 | AC80: =SUM(AC81:AC101) -> 1 | AD80: =SUM(AD81:AD101) -> 0 | AE80: =SUM(AE81:AE101) -> 0 | AF80: =+AG80+AH80 -> 0 | AG80: =SUM(AG81:AG101) -> 0 | AH80: =SUM(AH81:AH101) -> 0 | AI80: =SUM(AI81:AI101) -> 0 | AJ80: =SUM(AJ81:AJ101) -> 0 | AK80: =SUM(AK81:AK101) -> 0 | AL80: =SUM(AL81:AL101) -> 0 | AM80: =+AK80+AL80 -> 0 | AN80: =SUM(AN81:AN101) -> 0 | AO80: =SUM(AO81:AO101) -> 0 | AP80: =SUM(AP81:AP101) -> 0 | AQ80: =SUM(AQ81:AQ101) -> 0 | AR80: =SUM(AR81:AR101) -> 0 | AS80: =SUM(AS81:AS101) -> 0
A81: 8.1 | B81: ²Ýã³÷³Ñ³ëÇÝ ÉñÇí ·áñÍáõÝ³Ï ×³Ý³ã»Éáõ /¿Ù³ÝëÇå³óÇ³/ í»ñ³µ»ñÛ³É | E81: =+F81+G81+H81+I81 -> 0 | J81: =+K81+L81+M81 -> 0 | O81: =+P81+Q81+R81+S81+T81 -> 0 | T81: =+U81+V81+W81 -> 0 | Y81: =+O81+X81 -> 0 | AF81: =+AG81+AH81 -> 0 | AM81: =+AK81+AL81 -> 0
A82: 8.2 | B82: ø³Õ³ù³óáõÝ ³Ý·áñÍáõÝ³Ï Ï³Ù ë³ÑÙ³Ý³÷³Ï ·áñÍáõÝ³Ï ×³Ý³ã»Éáõ í»ñ³µ»ñÛ³É | E82: =+F82+G82+H82+I82 -> 2 | F82: 1 | G82: 1 | J82: =+K82+L82+M82 -> 1 | K82: 1 | O82: =+P82+Q82+R82+S82+T82 -> 1 | P82: 1 | T82: =+U82+V82+W82 -> 0 | Y82: =+O82+X82 -> 1 | AA82: 1 | AB82: 2 | AC82: 1 | AF82: =+AG82+AH82 -> 0 | AM82: =+AK82+AL82 -> 0
A83: 8.3 | B83: ø³Õ³ù³óáõÝ Ñá·»µáõÅ³Ï³Ý ÑÇí³Ý¹³Ýáó³ÛÇÝ Ñ³ñÏ³¹Çñ µáõÅÙ³Ý »ÝÃ³ñÏ»Éáõ í»ñ³µ»ñÛ³É | E83: =+F83+G83+H83+I83 -> 0 | J83: =+K83+L83+M83 -> 0 | O83: =+P83+Q83+R83+S83+T83 -> 0 | T83: =+U83+V83+W83 -> 0 | Y83: =+O83+X83 -> 0 | AF83: =+AG83+AH83 -> 0 | AM83: =+AK83+AL83 -> 0
A84: 8.4 | B84: ø³Õ³ù³óáõÝ ³ÝÑ³Ûï µ³ó³Ï³ÛáÕ Ï³Ù Ù³Ñ³ó³Í ×³Ý³ã»Éáõ í»ñ³µ»ñÛ³É | E84: =+F84+G84+H84+I84 -> 0 | J84: =+K84+L84+M84 -> 8 | K84: 5 | L84: 3 | O84: =+P84+Q84+R84+S84+T84 -> 4 | P84: 3 | T84: =+U84+V84+W84 -> 1 | V84: 1 | Y84: =+O84+X84 -> 4 | AB84: 1 | AF84: =+AG84+AH84 -> 0 | AM84: =+AK84+AL84 -> 0
A85: 8.5 | B85: ø³Õ³ù³óÇ³Ï³Ý Ï³óáõÃÛ³Ý ³Ïï»ñÇ ·ñ³éáõÙÝ»ñÇ ³Ý×ßïáõÃÛáõÝÝ»ñÁ å³ñ½»Éáõ í»ñ³µ»ñÛ³É | E85: =+F85+G85+H85+I85 -> 0 | J85: =+K85+L85+M85 -> 0 | O85: =+P85+Q85+R85+S85+T85 -> 0 | T85: =+U85+V85+W85 -> 0 | Y85: =+O85+X85 -> 0 | AF85: =+AG85+AH85 -> 0 | AM85: =+AK85+AL85 -> 0
A86: 8.6 | B86: ¶áõÛùÁ ïÇñ³½áõñÏ ×³Ý³ã»Éáõ í»ñ³µ»ñÛ³É | E86: =+F86+G86+H86+I86 -> 0 | J86: =+K86+L86+M86 -> 0 | O86: =+P86+Q86+R86+S86+T86 -> 0 | T86: =+U86+V86+W86 -> 0 | Y86: =+O86+X86 -> 0 | AF86: =+AG86+AH86 -> 0 | AM86: =+AK86+AL86 -> 0
A87: 8.6.1 | B87: ²Û¹ ÃíáõÙª ³Ýß³ñÅ ·áõÛùÁ | E87: =+F87+G87+H87+I87 -> 0 | J87: =+K87+L87+M87 -> 0 | O87: =+P87+Q87+R87+S87+T87 -> 0 | T87: =+U87+V87+W87 -> 0 | Y87: =+O87+X87 -> 0 | AF87: =+AG87+AH87 -> 0 | AM87: =+AK87+AL87 -> 0
A88: 8.6.2 | B88: ²Û¹ ÃíáõÙª ß³ñÅ³Ï³Ý ·áõÛùÁ | E88: =+F88+G88+H88+I88 -> 0 | J88: =+K88+L88+M88 -> 0 | O88: =+P88+Q88+R88+S88+T88 -> 0 | T88: =+U88+V88+W88 -> 0 | Y88: =+O88+X88 -> 0 | AF88: =+AG88+AH88 -> 0 | AM88: =+AK88+AL88 -> 0
A89: 8.7 | B89: Æñ³í³µ³Ý³Ï³Ý Ýß³Ý³ÏáõÃÛáõÝ áõÝ»óáÕ ÷³ëï»ñÇ Ñ³ëï³ïÙ³Ý í»ñ³µ»ñÛ³É | E89: =+F89+G89+H89+I89 -> 0 | J89: =+K89+L89+M89 -> 1 | L89: 1 | O89: =+P89+Q89+R89+S89+T89 -> 0 | T89: =+U89+V89+W89 -> 0 | Y89: =+O89+X89 -> 0 | AF89: =+AG89+AH89 -> 0 | AM89: =+AK89+AL89 -> 0
A90: 8.7.1 | B90: ²ÝÓ³Ýó ³½·³Ïó³Ï³Ý Ï³åÁ Ñ³ëï³ï»Éáõ í»ñ³µ»ñÛ³É | E90: =+F90+G90+H90+I90 -> 1 | G90: 1 | J90: =+K90+L90+M90 -> 4 | K90: 2 | L90: 2 | O90: =+P90+Q90+R90+S90+T90 -> 2 | P90: 1 | R90: 1 | T90: =+U90+V90+W90 -> 0 | Y90: =+O90+X90 -> 2 | AB90: 1 | AF90: =+AG90+AH90 -> 0 | AM90: =+AK90+AL90 -> 0
A91: 8.7.2 | B91: ²ÝÓÇª áõñÇßÇ ËÝ³ÙùÇ ï³Ï ·ïÝí»Éáõ í»ñ³µ»ñÛ³É | E91: =+F91+G91+H91+I91 -> 0 | J91: =+K91+L91+M91 -> 2 | K91: 1 | L91: 1 | O91: =+P91+Q91+R91+S91+T91 -> 1 | T91: =+U91+V91+W91 -> 1 | V91: 1 | Y91: =+O91+X91 -> 1 | AF91: =+AG91+AH91 -> 0 | AM91: =+AK91+AL91 -> 0
A92: 8.7.3 | B92: ÌÝÝ¹Û³Ý, áñ¹»·ñÙ³Ý, ³ÙáõëÝáõÃÛ³Ý, ³å³Ñ³ñ½³ÝÇ ¨ Ù³Ñí³Ý ·ñ³ÝóÙ³Ý í»ñ³µ»ñÛ³É | E92: =+F92+G92+H92+I92 -> 0 | J92: =+K92+L92+M92 -> 1 | K92: 1 | O92: =+P92+Q92+R92+S92+T92 -> 1 | P92: 1 | T92: =+U92+V92+W92 -> 0 | Y92: =+O92+X92 -> 1 | AF92: =+AG92+AH92 -> 0 | AM92: =+AK92+AL92 -> 0
A93: 8.7.4 | B93: ²ÝÓÇª áñáß³ÏÇ Å³Ù³Ý³ÏáõÙ ¨ áñáß³ÏÇ Ñ³Ý·³Ù³ÝùÝ»ñáõÙ Ù³Ñí³Ý í»ñ³µ»ñÛ³É | E93: =+F93+G93+H93+I93 -> 0 | J93: =+K93+L93+M93 -> 0 | O93: =+P93+Q93+R93+S93+T93 -> 0 | T93: =+U93+V93+W93 -> 0 | Y93: =+O93+X93 -> 0 | AF93: =+AG93+AH93 -> 0 | AM93: =+AK93+AL93 -> 0
A94: 8.7.5 | B94: Ä³é³Ý·áõÃÛáõÝÝ ÁÝ¹áõÝ»Éáõ ¨ Å³é³Ý·áõÃÛ³Ý µ³óÙ³Ý í³ÛñÇ í»ñ³µ»ñÛ³É | E94: =+F94+G94+H94+I94 -> 0 | J94: =+K94+L94+M94 -> 0 | O94: =+P94+Q94+R94+S94+T94 -> 0 | T94: =+U94+V94+W94 -> 0 | Y94: =+O94+X94 -> 0 | AF94: =+AG94+AH94 -> 0 | AM94: =+AK94+AL94 -> 0
A95: 8.7.6 | B95: ¸Åµ³Ëï å³ï³Ñ³ñÇ í»ñ³µ»ñÛ³É | E95: =+F95+G95+H95+I95 -> 0 | J95: =+K95+L95+M95 -> 0 | O95: =+P95+Q95+R95+S95+T95 -> 0 | T95: =+U95+V95+W95 -> 0 | Y95: =+O95+X95 -> 0 | AF95: =+AG95+AH95 -> 0 | AM95: =+AK95+AL95 -> 0
A96: 8.7.7 | B96: Æñ³íáõÝù ë³ÑÙ³ÝáÕ ÷³ëï³ÃÕÃ»ñÇ å³ïÏ³Ý»ÉáõÃÛ³Ý í»ñ³µ»ñÛ³É | E96: =+F96+G96+H96+I96 -> 0 | J96: =+K96+L96+M96 -> 6 | K96: 2 | L96: 4 | O96: =+P96+Q96+R96+S96+T96 -> 2 | P96: 2 | T96: =+U96+V96+W96 -> 0 | Y96: =+O96+X96 -> 2 | AF96: =+AG96+AH96 -> 0 | AM96: =+AK96+AL96 -> 0
A97: 8.7.8 | B97: ê»÷³Ï³ÝáõÃÛ³Ý Çñ³íáõÝùáí ·áõÛùÇ ïÇñ³å»ïÙ³Ý í»ñ³µ»ñÛ³É | E97: =+F97+G97+H97+I97 -> 0 | J97: =+K97+L97+M97 -> 0 | O97: =+P97+Q97+R97+S97+T97 -> 0 | T97: =+U97+V97+W97 -> 0 | Y97: =+O97+X97 -> 0 | AF97: =+AG97+AH97 -> 0 | AM97: =+AK97+AL97 -> 0
A98: 8.7.9 | B98: ²ÝÑ³ÕÃ³Ñ³ñ»ÉÇ áõÅÇ ³éÏ³ÛáõÃÛ³Ý í»ñ³µ»ñÛ³É | E98: =+F98+G98+H98+I98 -> 0 | J98: =+K98+L98+M98 -> 0 | O98: =+P98+Q98+R98+S98+T98 -> 0 | T98: =+U98+V98+W98 -> 0 | Y98: =+O98+X98 -> 0 | AF98: =+AG98+AH98 -> 0 | AM98: =+AK98+AL98 -> 0
A99: 8.7.10 | B99: úñ»Ýùáí Ý³Ë³ï»ëí³Í ³ÛÉ Çñ³í³µ³Ý³Ï³Ý ÷³ëï»ñÇ í»ñ³µ»ñÛ³É | E99: =+F99+G99+H99+I99 -> 0 | J99: =+K99+L99+M99 -> 6 | K99: 4 | L99: 2 | N99: 1 | O99: =+P99+Q99+R99+S99+T99 -> 2 | P99: 2 | T99: =+U99+V99+W99 -> 0 | Y99: =+O99+X99 -> 2 | AB99: 1 | AF99: =+AG99+AH99 -> 0 | AM99: =+AK99+AL99 -> 0
A100: 8.8 | B100: Àëï Ý»ñÏ³Û³óÝáÕÇ ¨ ûñ¹»ñ³ÛÇÝ Ïáñóñ³Í ³ñÅ»ÃÕÃ»ñáí Ñ³í³ëïí³Í Çñ³íáõÝùÝ»ñÁ í»ñ³Ï³Ý·Ý»Éáõ í»ñ³µ»ñÛ³É | E100: =+F100+G100+H100+I100 -> 0 | J100: =+K100+L100+M100 -> 0 | O100: =+P100+Q100+R100+S100+T100 -> 0 | T100: =+U100+V100+W100 -> 0 | Y100: =+O100+X100 -> 0 | AF100: =+AG100+AH100 -> 0 | AM100: =+AK100+AL100 -> 0
...

Sheet Հ.Ղազարյան
A1: 2017թ. | G1: Ð²ÞìºîìàôÂÚàôÜ | AM1: Ð³í»Éí³Í Ð³Û³ëï³ÝÇ Ð³Ýñ³å»ïáõÃÛ³Ý ¸³ï³ñ³ÝÝ»ñÇ Ý³Ë³·³ÑÝ»ñÇ ËáñÑñ¹Ç 29.01.2018Ã. ÃÇí 10-È áñáßÙ³Ý
A2: ՀՀ ÞÆð²ÎÆ ՄԱՐԶԻ ÀÜ¸Ð²Üàôð Æð²ì²êàôÂÚ²Ü ²è²æÆÜ ²îÚ²ÜÆ ¸²î²ð²ÜÆ ¸²î²ìàð | Z2: Հ. ՂԱԶԱՐÚ²ÜÆ | AH2: ¶àðÌàôÜºàôÂÚ²Ü ìºð²´ºðÚ²È
A3: ø²Ô²ø²òÆ²Î²Ü ¶àðÌºðàì
A4: ՀՀ ÞÇñ³ÏÇ մարզի ÁÝ¹Ñ³Ýáõñ Çñ³í³ëáõÃÛ³Ý ³é³çÇÝ ³ïÛ³ÝÇ ¹³ï³ñ³ÝÇ ù³Õ³ù³óÇ³Ï³Ý Ù³ëÝ³·Çï³óáõÙ áõÝ»óáÕ ¹³ï³íáñÝ»ñÇ Ñ³ëïÇùÝ»ñÇ ù³Ý³ÏÁ` 9
E5: Ð³ßí»ïáõ Å³Ù³Ý³Ï³Ñ³ïí³ÍáõÙ Ý³Ëáñ¹ Ñ³ßí»ïáõ Å³Ù³Ý³Ï³Ñ³ïí³ÍÇó ÷áË³Ýóí³Í ·áñÍ»ñÇ ÁÝ¹Ñ³Ýáõñ ÃÇíÁ | J5: Ð³ßí»ïáõ Å³Ù³Ý³Ï³Ñ³ïí³ÍáõÙëï³óí³Í ·áñÍ»ñÇ (³Û¹ ÃíáõÙ` Ñ³Ûó³¹ÇÙáõÙÝ»ñÇ, ¹ÇÙáõÙÝ»ñÇ) ÁÝ¹Ñ³Ýáõñ ÃÇíÁ | N5: öáË³Ýóí»É ¿ ³ÛÉ ¹³ï³íáñÇ (Ï³½ÙÇ ÷á÷áËáõÃÛáõÝ) | O5: Ð³ßí»ïáõ Å³Ù³Ý³Ï³Ñ³ïí³ÍáõÙ ³í³ñïí³Í ·áñÍ»ñÇ ÁÝ¹Ñ³Ýáõñ ÃÇíÁ | Z5: ¶áñÍÝ áõÕ³ñÏí»É ¿ Áëï ÁÝ¹¹³ïáõÃÛ³Ý | AA5: Ð³ßí»ïáõ Å³Ù³Ý³Ï³Ñ³ïí³ÍáõÙ Ï³ë»óí³Í í³ñáõÛÃÝ»ñáí ·áñÍ»ñÇ ÁÝ¹Ñ³Ýáõñ ÃÇíÁ | AB5: Ð³ßí»ïáõ Å³Ù³Ý³Ï³Ñ³ïí³ÍáõÙ ³Ý³í³ñï ·áñÍ»ñÇ ÁÝ¹Ñ³Ýáõñ ÃÇíÁ | AC5: ²Û¹ ÃíáõÙª Ï³ë»óí³Í | AD5: ´áÕáù³ñÏí³Í ¹³ï³Ï³Ý ³Ïï»ñÁ | AI5: ²í³ñïí³Í ¹³ï³Ï³Ý ·áñÍ»ñÇ µáÕáù³ñÏÙ³Ý ïáÏáëÁ (Ñ³ßí»ïáõ Å³Ù³Ý³Ï³ßñç³ÝáõÙ) | AJ5: ²Ý³í³ñï µáÕáùÝ»ñ | AK5: ´»Ï³Ýí³Í ¹³ï³Ï³Ý ³Ïï»ñÁ | AP5: µ»Ï³ÝáõÙÝ»ñÇ ïáÏáëÁ ³í³ñïí³Í ·áñÍ»ñÇó(Ñ³ßí»ïáõ Å³Ù³Ý³Ï³ßñç³ÝáõÙ) | AQ5: Î³ÛáõÝáõÃÛ³Ý ïáÏáëÁ ³í³ñïí³Í ·áñÍ»ñÇó(Ñ³ßí»ïáõ Å³Ù³Ý³Ï³ßñç³ÝáõÙ) | AR5: µ»Ï³ÝáõÙÝ»ñÇ ïáÏáëÁ µáÕáù³ñÏí³Í ·áñÍ»ñÇó(Ñ³ßí»ïáõ Å³Ù³Ý³Ï³ßñç³ÝáõÙ) | AS5: Ï³ÛáõÝáõÃÛ³Ý ïáÏáëÁ(Ñ³ßí»ïáõ Å³Ù³Ý³Ï³ßñç³ÝáõÙ)
E6: ÀÝ¹³Ù»ÝÁ | F6: ²Û¹ ÃíáõÙ`Ï³ë»óí³Í íÇ×³ÏáõÙ ÷áË³Ýóí³Í | G6: ²Û¹ ÃíáõÙª ÁÝ¹áõÝí»É ¿ í³ñáõÛÃ | H6: ²Û¹ ÃíáõÙª í»ñ³¹³ñÓí»É ¿ | I6: ²Û¹ ÃíáõÙª ÁÝ¹áõÝáõÙÁ Ù»ñÅí»É ¿ | J6: ÀÝ¹³Ù»ÝÁ | K6: ²Û¹ ÃíáõÙª ÁÝ¹áõÝí»É ¿ í³ñáõÛÃ | L6: ²Û¹ ÃíáõÙª í»ñ³¹³ñÓí»É ¿ | M6: ²Û¹ ÃíáõÙª ÁÝ¹áõÝáõÙÁ Ù»ñÅí»É ¿ | O6: ÀÝ¹³Ù»ÝÁ ³í³ñïí»É »Ý ·áñÍ»ñ ·áñÍÝ Áëï ¿áõÃÛ³Ý ÉáõÍáÕ ¹³ï³Ï³Ý ³Ïï»ñÇ (í×ÇéÝ»ñÇ) Ï³Û³óÙ³Ùµ | P6: ²Û¹ ÃíáõÙª Ñ³ÛóÇ µ³í³ñ³ñÙ³Ùµ | Q6: ²Û¹ ÃíáõÙª Ñ³ÛóÇ Ù³ëÝ³ÏÇ µ³í³ñ³ñÙ³Ùµ | R6: ²Û¹ ÃíáõÙª Ñ³ÛóÇ Ù»ñÅÙ³Ùµ | S6: Ø³ëáí Ï³ñ×í»É ¿, Ù³ëáí Ù»ñÅí»É | T6: ²Û¹ ÃíáõÙª Ï³ñ×í»É »Ý | X6: Ð³ÛóÁ ÃáÕÝí»É ¿ ³é³Ýó ùÝÝáõÃÛ³Ý | Y6: ÀÝ¹³Ù»ÝÝ ³í³ñïí»É »Ý ·áñÍ»ñ | AD6: ²Û¹ ÃíáõÙ` ·áñÍÝ Áëï ¿áõÃÛ³Ý ÉáõÍáÕ ¹³ï³Ï³Ý ³Ïï»ñÁ | AE6: ²Û¹ ÃíáõÙ` ÙÇç³ÝÏÛ³É ¹³ï³Ï³Ý ³Ïï»ñÁ | AF6: ÀÝ¹³Ù»ÝÁ | AG6: Ü³Ëáñ¹ ï³ñÇÝ»ñÇÝ Ï³Û³óí³Í ³Ïï»ñÇ µáÕáù³ñÏáõÙÁ Ñ³ßí»ïáõ Å³Ù³Ý³Ï³ßñç³ÝáõÙ | AH6: Ð³ßí»ïáõ Å³Ù³Ý³Ï³ßñç³ÝáõÙ Ï³Û³óí³Í ³Ïï»ñÇ µáÕáù³ñÏáõÙÁ | AK6: ²Û¹ ÃíáõÙ` ·áñÍÝ Áëï ¿áõÃÛ³Ý ÉáõÍáÕ ¹³ï³Ï³Ý ³Ïï»ñÁ | AL6: ²Û¹ ÃíáõÙ` ÙÇç³ÝÏÛ³É ¹³ï³Ï³Ý ³Ïï»ñÁ | AM6: ÀÝ¹³Ù»ÝÁ | AN6: Ü³Ëáñ¹ ï³ñÇÝ»ñÇÝ Ï³Û³óí³Í ³Ïï»ñÇ µ»Ï³ÝáõÙÝ»ñÁ Ñ³ßí»ïáõ Å³Ù³Ý³Ï³ßñç³ÝáõÙ | AO6: Ð³ßí»ïáõ Å³Ù³Ý³Ï³ßñç³ÝáõÙ Ï³Û³óí³Í ³Ïï»ñÇ µ»Ï³ÝáõÙÁ
T7: ÀÝ¹³Ù»ÝÁ Ï³ñ×í»É »Ý | U7: ²Û¹ ÃíáõÙª Ñ³ëï³ïí»É ¿ ÏÝùí³Í Ñ³ßïáõÃÛ³Ý Ñ³Ù³Ó³ÛÝáõÃÛáõÝÁ | V7: ²Û¹ ÃíáõÙª Ñ³óÇó, ¹ÇÙáõÙÇó Ññ³Å³ñí»Éáõ ÑÇÙùáí | W7: ²Û¹ ÃíáõÙª ³ÛÉ ÑÇÙùáí
E8: 1 | F8: 2 | G8: 3 | H8: 4 | I8: 5 | J8: 6 | K8: 7 | L8: 8 | M8: 9 | N8: 10 | O8: 11 | P8: 12 | Q8: 13 | R8: 14 | S8: 15 | T8: 16 | U8: 17 | V8: 18 | W8: 19 | X8: 20 | Y8: 21 | Z8: 22 | AA8: 23 | AB8: 24 | AC8: 25 | AD8: 26 | AE8: 27 | AF8: 28 | AG8: 29 | AH8: 30 | AI8: 31 | AJ8: 32 | AK8: 33 | AL8: 34 | AM8: 35 | AN8: 36 | AO8: 37 | AP8: 38 | AQ8: 39 | AR8: 40 | AS8: 41
A9: 1. | B9: ¶áõÛù³ÛÇÝ Çñ³í³Ñ³ñ³µ»ñáõÃÛáõÝÝ»ñÇ í»ñ³µ»ñÛ³É ¹³ï³Ï³Ý ·áñÍ»ñ | E9: =SUM(E10:E28) -> 36 | F9: =SUM(F10:F28) -> 13 | G9: =SUM(G10:G28) -> 23 | H9: =SUM(H10:H28) -> 0 | I9: =SUM(I10:I28) -> 0 | J9: =SUM(J10:J28) -> 44 | K9: =SUM(K10:K28) -> 36 | L9: =SUM(L10:L28) -> 5 | ... AS9: =SUM(AS10:AS28) -> 0
A10: 1.1 | B10: ¶áõÛùÇ ÝÏ³ïÙ³Ùµ ë»÷³Ï³ÝáõÃÛ³Ý Çñ³íáõÝùÁ ×³Ý³ã»Éáõ í»ñ³µ»ñÛ³É | E10: =+F10+G10+H10+I10 -> 3 | G10: 3 | J10: =+K10+L10+M10 -> 8 | K10: 5 | L10: 1 | M10: 2 | O10: =+P10+Q10+R10+S10+T10 -> 4 | P10: 4 | T10: =+U10+V10+W10 -> 0 | Y10: =+O10+X10 -> 4 | AB10: 4 | AD10: 1 | AF10: =+AG10+AH10 -> 1 | AH10: 1 | AM10: =+AK10+AL10 -> 0
A11: 1.1.1 | B11: ²Û¹ ÃíáõÙª Ó»éùµ»ñÙ³Ý í³Õ»ÙáõÃÛ³Ý áõÅáí | E11: =+F11+G11+H11+I11 -> 0 | J11: =+K11+L11+M11 -> 2 | K11: 2 | O11: =+P11+Q11+R11+S11+T11 -> 1 | P11: 1 | T11: =+U11+V11+W11 -> 0 | Y11: =+O11+X11 -> 1 | AB11: 1 | AF11: =+AG11+AH11 -> 0 | AM11: =+AK11+AL11 -> 0
A12: 1.1.2 | B12: ²Û¹ ÃíáõÙª ïÇñ³½áõñÏ ·áõÛùÇ ÝÏ³ïÙ³Ùµ | E12: =+F12+G12+H12+I12 -> 1 | G12: 1 | J12: =+K12+L12+M12 -> 2 | K12: 2 | O12: =+P12+Q12+R12+S12+T12 -> 2 | P12: 2 | T12: =+U12+V12+W12 -> 0 | Y12: =+O12+X12 -> 2 | AB12: 1 | AF12: =+AG12+AH12 -> 0 | AM12: =+AK12+AL12 -> 0
A13: 1.1.3 | B13: ²Û¹ ÃíáõÙª ÇÝùÝ³Ï³Ù Ï³éáõÛóÇ ÝÏ³ïÙ³Ùµ | E13: =+F13+G13+H13+I13 -> 0 | J13: =+K13+L13+M13 -> 0 | O13: =+P13+Q13+R13+S13+T13 -> 0 | T13: =+U13+V13+W13 -> 0 | Y13: =+O13+X13 -> 0 | AF13: =+AG13+AH13 -> 0 | AM13: =+AK13+AL13 -> 0
A14: 1.2 | B14: ê»÷³Ï³ÝáõÃÛ³Ý Çñ³íáõÝùÇ ¹³¹³ñ»óÙ³Ý í»ñ³µ»ñÛ³É | E14: =+F14+G14+H14+I14 -> 1 | G14: 1 | J14: =+K14+L14+M14 -> 0 | O14: =+P14+Q14+R14+S14+T14 -> 1 | T14: =+U14+V14+W14 -> 1 | U14: 1 | Y14: =+O14+X14 -> 1 | AF14: =+AG14+AH14 -> 0 | AM14: =+AK14+AL14 -> 0
A15: 1.3 | B15: ¶áõÛùÇ ÝÏ³ïÙ³Ùµ û·ï³·áñÍÙ³Ý Çñ³íáõÝùÁ ×³Ý³ã»Éáõ í»ñ³µ»ñÛ³É | E15: =+F15+G15+H15+I15 -> 0 | J15: =+K15+L15+M15 -> 0 | O15: =+P15+Q15+R15+S15+T15 -> 0 | T15: =+U15+V15+W15 -> 0 | Y15: =+O15+X15 -> 0 | AF15: =+AG15+AH15 -> 0 | AM15: =+AK15+AL15 -> 0
A16: 1.3.1 | B16: ²Û¹ ÃíáõÙª µÝ³Ïû·ï³·áñÍÙ³Ý Çñ³íáõÝùÁ ×³Ý³ã»Éáõ í»ñ³µ»ñÛ³É | E16: =+F16+G16+H16+I16 -> 0 | J16: =+K16+L16+M16 -> 0 | O16: =+P16+Q16+R16+S16+T16 -> 0 | T16: =+U16+V16+W16 -> 0 | Y16: =+O16+X16 -> 0 | AF16: =+AG16+AH16 -> 0 | AM16: =+AK16+AL16 -> 0
A17: 1.3.2 | B17: ²Û¹ ÃíáõÙª ÑáÕ³Ù³ëÇ ÝÏ³ïÙ³Ùµ û·ï³·áñÍÙ³Ý Çñ³íáõÝùÁ ×³Ý³ã»Éáõ í»ñ³µ»ñÛ³É | E17: =+F17+G17+H17+I17 -> 0 | J17: =+K17+L17+M17 -> 0 | O17: =+P17+Q17+R17+S17+T17 -> 0 | T17: =+U17+V17+W17 -> 0 | Y17: =+O17+X17 -> 0 | AF17: =+AG17+AH17 -> 0 | AM17: =+AK17+AL17 -> 0
A18: 1.4 | B18: ¶áõÛùÇ ÝÏ³ïÙ³Ùµ û·ï³·áñÍÙ³Ý Çñ³íáõÝùÁ ¹³¹³ñ»óÝ»Éáõ í»ñ³µ»ñÛ³É | E18: =+F18+G18+H18+I18 -> 0 | J18: =+K18+L18+M18 -> 0 | O18: =+P18+Q18+R18+S18+T18 -> 0 | T18: =+U18+V18+W18 -> 0 | Y18: =+O18+X18 -> 0 | AF18: =+AG18+AH18 -> 0 | AM18: =+AK18+AL18 -> 0
A19: 1.4.1 | B19: ²Û¹ ÃíáõÙª µÝ³Ïû·ï³·áñÍÙ³Ý Çñ³íáõÝùÁ ¹³¹³ñ»óÝ»Éáõ í»ñ³µ»ñÛ³É | E19: =+F19+G19+H19+I19 -> 0 | J19: =+K19+L19+M19 -> 0 | O19: =+P19+Q19+R19+S19+T19 -> 0 | T19: =+U19+V19+W19 -> 0 | Y19: =+O19+X19 -> 0 | AF19: =+AG19+AH19 -> 0 | AM19: =+AK19+AL19 -> 0
A20: 1.4.1/1 | B20: ²Û¹ ÃíáõÙª ÷áËÑ³ïáõóÙ³Ùµ | E20: =+F20+G20+H20+I20 -> 0 | J20: =+K20+L20+M20 -> 0 | O20: =+P20+Q20+R20+S20+T20 -> 0 | T20: =+U20+V20+W20 -> 0 | Y20: =+O20+X20 -> 0 | AF20: =+AG20+AH20 -> 0 | AM20: =+AK20+AL20 -> 0
A21: 1.5 | B21: ´Ý³Ï³ñ³ÝÇó/ ï³ñ³ÍùÇó/ íï³ñ»Éáõ í»ñ³µ»ñÛ³É | E21: =+F21+G21+H21+I21 -> 0 | J21: =+K21+L21+M21 -> 6 | K21: 6 | O21: =+P21+Q21+R21+S21+T21 -> 1 | T21: =+U21+V21+W21 -> 1 | V21: 1 | Y21: =+O21+X21 -> 1 | AA21: 2 | AB21: 5 | AC21: 2 | AF21: =+AG21+AH21 -> 0 | AM21: =+AK21+AL21 -> 0
A22: 1.6 | B22: ¶áõÛùÝ áõñÇßÇ ³åûñÇÝÇ ïÇñ³å»ïáõÙÇó »ï í»ñ³¹³ñÓÝ»Éáõ í»ñ³µ»ñÛ³É | E22: =+F22+G22+H22+I22 -> 4 | F22: 3 | G22: 1 | J22: =+K22+L22+M22 -> 1 | L22: 1 | O22: =+P22+Q22+R22+S22+T22 -> 0 | T22: =+U22+V22+W22 -> 0 | Y22: =+O22+X22 -> 0 | AA22: 1 | AB22: 4 | AC22: 3 | AF22: =+AG22+AH22 -> 0 | AM22: =+AK22+AL22 -> 0
A23: 1.6.1 | B23: ´³ñ»ËÇÕ× Ó»éùµ»ñáÕÇó Çñ ·áõÛùÁ Ñ»ï å³Ñ³Ýç»Éáõ í»ñ³µ»ñÛ³É | E23: =+F23+G23+H23+I23 -> 0 | J23: =+K23+L23+M23 -> 0 | O23: =+P23+Q23+R23+S23+T23 -> 0 | T23: =+U23+V23+W23 -> 0 | Y23: =+O23+X23 -> 0 | AF23: =+AG23+AH23 -> 0 | AM23: =+AK23+AL23 -> 0
A24: 1.7 | B24: îÇñ³å»ïáõÙÇó ½ñÏ»Éáõ Ñ»ï ãÏ³åí³Í Çñ³íáõÝùÝ»ñÇ Ë³ËïáõÙÁ í»ñ³óÝ»Éáõ í»ñ³µ»ñÛ³É | E24: =+F24+G24+H24+I24 -> 0 | J24: =+K24+L24+M24 -> 0 | O24: =+P24+Q24+R24+S24+T24 -> 0 | T24: =+U24+V24+W24 -> 0 | Y24: =+O24+X24 -> 0 | AF24: =+AG24+AH24 -> 0 | AM24: =+AK24+AL24 -> 0
A25: 1.8 | B25: ÀÝ¹Ñ³Ýáõñ µ³ÅÝ³ÛÇÝ ë»÷³Ï³ÝáõÃÛáõÝÇó µ³ÅÇÝÝ ³é³ÝÓÝ³óÝ»Éáõ í»ñ³µ»ñÛ³É | E25: =+F25+G25+H25+I25 -> 10 | F25: 5 | G25: 5 | J25: =+K25+L25+M25 -> 5 | K25: 5 | O25: =+P25+Q25+R25+S25+T25 -> 5 | P25: 1 | R25: 1 | T25: =+U25+V25+W25 -> 3 | U25: 1 | V25: 2 | Y25: =+O25+X25 -> 5 | AA25: 3 | AB25: 10 | AC25: 4 | AF25: =+AG25+AH25 -> 0 | AM25: =+AK25+AL25 -> 0
A26: 1.8.1 | B26: Ð³Ù³ï»Õ ë»÷³Ï³ÝáõÃÛ³Ý Ý»ñùá ·ïÝíáÕ ·áõÛùÁ µ³Å³Ý»Éáõ ¨ ¹ñ³ÝÇó µ³ÅÇÝÝ ³é³ÝÓÝ³óÝ»Éáõ í»ñ³µ»ñÛ³É | E26: =+F26+G26+H26+I26 -> 10 | F26: 2 | G26: 8 | J26: =+K26+L26+M26 -> 8 | K26: 6 | L26: 2 | O26: =+P26+Q26+R26+S26+T26 -> 6 | P26: 3 | T26: =+U26+V26+W26 -> 3 | V26: 3 | Y26: =+O26+X26 -> 6 | AA26: 3 | AB26: 10 | AC26: 3 | AF26: =+AG26+AH26 -> 0 | AM26: =+AK26+AL26 -> 0
A27: 1.8.3 | B27: ¶áõÛùÇ íñ³ µéÝ³·³ÝÓáõÙ ï³ñ³Í»Éáõ å³Ñ³ÝçÇ Ù³ëÇÝ | E27: =+F27+G27+H27+I27 -> 0 | J27: =+K27+L27+M27 -> 0 | O27: =+P27+Q27+R27+S27+T27 -> 0 | T27: =+U27+V27+W27 -> 0 | Y27: =+O27+X27 -> 0 | AF27: =+AG27+AH27 -> 0 | AM27: =+AK27+AL27 -> 0
A28: 1.9 | B28: ²ÛÉ í»×»ñ | E28: =+F28+G28+H28+I28 -> 7 | F28: 3 | G28: 4 | J28: =+K28+L28+M28 -> 12 | K28: 10 | L28: 1 | M28: 1 | O28: =+P28+Q28+R28+S28+T28 -> 7 | P28: 4 | R28: 2 | T28: =+U28+V28+W28 -> 1 | W28: 1 | Y28: =+O28+X28 -> 7 | AA28: 2 | AB28: 10 | AC28: 3 | AD28: 3 | AF28: =+AG28+AH28 -> 3 | AH28: 3 | AJ28: 2 | AM28: =+AK28+AL28 -> 0
A29: 2. | B29: ¶áñÍ³ñùÝ»ñÇ Ñ»ï Ï³åí³Í Çñ³í³Ñ³ñ³µ»ñáõÃÛáõÝÝ»ñÇ í»ñ³µ»ñÛ³É ¹³ï³Ï³Ý ·áñÍ»ñ | E29: =SUM(E30:E40) -> 2 | F29: =SUM(F30:F40) -> 1 | G29: =SUM(G30:G40) -> 1 | H29: =SUM(H30:H40) -> 0 | I29: =SUM(I30:I40) -> 0 | J29: =+K29+L29+M29 -> 7 | K29: =SUM(K30:K40) -> 6 | L29: =SUM(L30:L40) -> 0 | M29: =SUM(M30:M40) -> 1 | N29: =SUM(N30:N40) -> 0 | O29: =+P29+Q29+R29+S29+T29 -> 1 | P29: =SUM(P30:P40) -> 1 | Q29: =SUM(Q30:Q40) -> 0 | R29: =SUM(R30:R40) -> 0 | S29: =SUM(S30:S40) -> 0 | T29: =+U29+V29+W29 -> 0 | U29: =SUM(U30:U40) -> 0 | V29: =SUM(V30:V40) -> 0 | W29: =SUM(W30:W40) -> 0 | X29: =SUM(X30:X40) -> 1 | Y29: =+O29+X29 -> 2 | Z29: =SUM(Z30:Z40) -> 0 | AA29: =SUM(AA30:AA40) -> 1 | AB29: =SUM(AB30:AB40) -> 6 | AC29: =SUM(AC30:AC40) -> 0 | AD29: =SUM(AD30:AD40) -> 0 | AE29: =SUM(AE30:AE40) -> 1 | AF29: =+AG29+AH29 -> 1 | AG29: =SUM(AG30:AG40) -> 0 | AH29: =SUM(AH30:AH40) -> 1 | AI29: =SUM(AI30:AI40) -> 0 | AJ29: =SUM(AJ30:AJ40) -> 0 | AK29: =SUM(AK30:AK40) -> 0 | AL29: =SUM(AL30:AL40) -> 0 | AM29: =+AK29+AL29 -> 0 | AN29: =SUM(AN30:AN40) -> 0 | AO29: =SUM(AO30:AO40) -> 0 | AP29: =SUM(AP30:AP40) -> 0 | AQ29: =SUM(AQ30:AQ40) -> 0 | AR29: =SUM(AR30:AR40) -> 0 | AS29: =SUM(AS30:AS40) -> 0
A30: 2.1 | B30: ·áñÍ³ñùÝ»ñÇ ³Ýí³í»ñáõÃÛ³Ý Ñ»ï Ï³åí³Í í»×»ñ | E30: =+F30+G30+H30+I30 -> 0 | J30: =+K30+L30+M30 -> 1 | K30: 1 | T30: =+U30+V30+W30 -> 0 | X30: 1 | Y30: =+O30+X30 -> 1 | AF30: =+AG30+AH30 -> 0 | AM30: =+AK30+AL30 -> 0
A31: 2.1.1 | B31: ³Û¹ ÃíáõÙ` íÇ×³Ñ³ñáõÛó ·áñÍ³ñùÝ»ñÝ ³Ýí³í»ñ ×³Ý³ã»Éáõ í»ñ³µ»ñÛ³É | E31: =+F31+G31+H31+I31 -> 0 | J31: =+K31+L31+M31 -> 0 | O31: =+P31+Q31+R31+S31+T31 -> 0 | T31: =+U31+V31+W31 -> 0 | Y31: =+O31+X31 -> 0 | AF31: =+AG31+AH31 -> 0 | AM31: =+AK31+AL31 -> 0
A32: 2.1.2 | B32: ³Û¹ ÃíáõÙ` ·áñÍ³ñùÇ ³éáãÝãáõÃÛ³Ý Ñ»ï¨³ÝùÝ»ñ ÏÇñ³é»Éáõ í»ñ³µ»ñÛ³É | E32: =+F32+G32+H32+I32 -> 0 | J32: =+K32+L32+M32 -> 0 | O32: =+P32+Q32+R32+S32+T32 -> 0 | T32: =+U32+V32+W32 -> 0 | Y32: =+O32+X32 -> 0 | AF32: =+AG32+AH32 -> 0 | AM32: =+AK32+AL32 -> 0
A33: 2.2 | B33: ¶áñÍ³ñùÁ í³í»ñ ×³Ý³ã»Éáõ í»ñ³µ»ñÛ³É | E33: =+F33+G33+H33+I33 -> 0 | J33: =+K33+L33+M33 -> 3 | K33: 3 | O33: =+P33+Q33+R33+S33+T33 -> 1 | P33: 1 | T33: =+U33+V33+W33 -> 0 | Y33: =+O33+X33 -> 1 | AB33: 2 | AF33: =+AG33+AH33 -> 0 | AM33: =+AK33+AL33 -> 0
A34: 2.3 | B34: ¶áñÍ³ñùÇó Í³·áÕ Çñ³íáõÝùÝ»ñÁ ·ñ³Ýó»Éáõ í»ñ³µ»ñÛ³É | E34: =+F34+G34+H34+I34 -> 0 | J34: =+K34+L34+M34 -> 0 | O34: =+P34+Q34+R34+S34+T34 -> 0 | T34: =+U34+V34+W34 -> 0 | Y34: =+O34+X34 -> 0 | AF34: =+AG34+AH34 -> 0 | AM34: =+AK34+AL34 -> 0
A35: 2.4 | B35: ä³ÛÙ³Ý³·ÇñÝ ³Ýí³í»ñ ×³Ý³ã»Éáõ í»ñ³µ»ñÛ³É | E35: =+F35+G35+H35+I35 -> 1 | G35: 1 | J35: =+K35+L35+M35 -> 2 | K35: 2 | O35: =+P35+Q35+R35+S35+T35 -> 0 | T35: =+U35+V35+W35 -> 0 | Y35: =+O35+X35 -> 0 | AB35: 3 | AF35: =+AG35+AH35 -> 0 | AM35: =+AK35+AL35 -> 0
A36: 2.5 | B36: ä³ÛÙ³Ý³·ñÇÁ í³í»ñ ×³Ý³ã»Éáõ í»ñ³µ»ñÛ³É | E36: =+F36+G36+H36+I36 -> 0 | J36: =+K36+L36+M36 -> 0 | O36: =+P36+Q36+R36+S36+T36 -> 0 | T36: =+U36+V36+W36 -> 0 | Y36: =+O36+X36 -> 0 | AF36: =+AG36+AH36 -> 0 | AM36: =+AK36+AL36 -> 0
A37: 2.6 | B37: ä³ÛÙ³Ý³·ñÇó Í³·áÕ Çñ³íáõÝùÝ»ñÁ ·ñ³Ýó»Éáõ í»ñ³µ»ñÛ³É | E37: =+F37+G37+H37+I37 -> 0 | J37: =+K37+L37+M37 -> 0 | O37: =+P37+Q37+R37+S37+T37 -> 0 | T37: =+U37+V37+W37 -> 0 | Y37: =+O37+X37 -> 0 | AF37: =+AG37+AH37 -> 0 | AM37: =+AK37+AL37 -> 0
A38: 2.7 | B38: ä³ÛÙ³Ý³·ÇñÁ ÷á÷áË»Éáõ ¨ ÉáõÍ»Éáõ í»ñ³µ»ñÛ³É | E38: =+F38+G38+H38+I38 -> 0 | J38: =+K38+L38+M38 -> 0 | O38: =+P38+Q38+R38+S38+T38 -> 0 | T38: =+U38+V38+W38 -> 0 | Y38: =+O38+X38 -> 0 | AF38: =+AG38+AH38 -> 0 | AM38: =+AK38+AL38 -> 0
A39: 2.8 | B39: ä³ÛÙ³Ý³·Çñ ÏÝù»ÉáõÝ å³ñï³íáñ»óÝ»Éáõ í»ñ³µ»ñÛ³É | E39: =+F39+G39+H39+I39 -> 1 | F39: 1 | J39: =+K39+L39+M39 -> 0 | O39: =+P39+Q39+R39+S39+T39 -> 0 | T39: =+U39+V39+W39 -> 0 | Y39: =+O39+X39 -> 0 | AA39: 1 | AB39: 1 | AF39: =+AG39+AH39 -> 0 | AM39: =+AK39+AL39 -> 0
A40: 2.9 | B40: ²ÛÉ í»×»ñ | E40: =+F40+G40+H40+I40 -> 0 | J40: =+K40+L40+M40 -> 1 | M40: 1 | O40: =+P40+Q40+R40+S40+T40 -> 0 | T40: =+U40+V40+W40 -> 0 | Y40: =+O40+X40 -> 0 | AE40: 1 | AF40: =+AG40+AH40 -> 1 | AH40: 1 | AM40: =+AK40+AL40 -> 0
A41: 3. | B41: Ä³é³Ý·áõÃÛ³Ý Ñ»ï Ï³åí³Í Çñ³í³Ñ³ñ³µ»ñáõÃÛáõÝÝ»ñÇ í»ñ³µ»ñÛ³É ¹³ï³Ï³Ý ·áñÍ»ñ | E41: =SUM(E42:E48) -> 4 | F41: =SUM(F42:F48) -> 1 | G41: =SUM(G42:G48) -> 3 | H41: =SUM(H42:H48) -> 0 | I41: =SUM(I42:I48) -> 0 | J41: =+K41+L41+M41 -> 6 | K41: =SUM(K42:K48) -> 5 | L41: =SUM(L42:L48) -> 1 | M41: =SUM(M42:M48) -> 0 | N41: =SUM(N42:N48) -> 0 | O41: =+P41+Q41+R41+S41+T41 -> 5 | P41: =SUM(P42:P48) -> 2 | Q41: =SUM(Q42:Q48) -> 1 | R41: =SUM(R42:R48) -> 2 | S41: =SUM(S42:S48) -> 0 | T41: =+U41+V41+W41 -> 0 | U41: =SUM(U42:U48) -> 0 | V41: =SUM(V42:V48) -> 0 | W41: =SUM(W42:W48) -> 0 | X41: =SUM(X42:X48) -> 0 | Y41: =+O41+X41 -> 5 | Z41: =SUM(Z42:Z48) -> 0 | AA41: =SUM(AA42:AA48) -> 0 | AB41: =SUM(AB42:AB48) -> 4 | AC41: =SUM(AC42:AC48) -> 1 | AD41: =SUM(AD42:AD48) -> 2 | AE41: =SUM(AE42:AE48) -> 0 | AF41: =+AG41+AH41 -> 2 | AG41: =SUM(AG42:AG48) -> 0 | AH41: =SUM(AH42:AH48) -> 2 | AI41: =SUM(AI42:AI48) -> 0 | AJ41: =SUM(AJ42:AJ48) -> 1 | AK41: =SUM(AK42:AK48) -> 0 | AL41: =SUM(AL42:AL48) -> 0 | AM41: =+AK41+AL41 -> 0 | AN41: =SUM(AN42:AN48) -> 0 | AO41: =SUM(AO42:AO48) -> 0 | AP41: =SUM(AP42:AP48) -> 0 | AQ41: =SUM(AQ42:AQ48) -> 0 | AR41: =SUM(AR42:AR48) -> 0 | AS41: =SUM(AS42:AS48) -> 0
A42: 3.1 | B42: Îï³ÏÝ ³Ýí³í»ñ ×³Ý³ã»Éáõ í»ñ³µ»ñÛ³É | E42: =+F42+G42+H42+I42 -> 0 | J42: =+K42+L42+M42 -> 0 | O42: =+P42+Q42+R42+S42+T42 -> 0 | T42: =+U42+V42+W42 -> 0 | Y42: =+O42+X42 -> 0 | AF42: =+AG42+AH42 -> 0 | AM42: =+AK42+AL42 -> 0
A43: 3.2 | B43: ²Ý³ñÅ³Ý Å³é³Ý· ×³Ý³ã»Éáõ í»ñ³µ»ñÛ³É | E43: =+F43+G43+H43+I43 -> 0 | J43: =+K43+L43+M43 -> 0 | O43: =+P43+Q43+R43+S43+T43 -> 0 | T43: =+U43+V43+W43 -> 0 | Y43: =+O43+X43 -> 0 | AF43: =+AG43+AH43 -> 0 | AM43: =+AK43+AL43 -> 0
A44: 3.3 | B44: Ä³é³Ý·áõÃÛáõÝÁ µ³Å³Ý»Éáõ í»ñ³µ»ñÛ³É | E44: =+F44+G44+H44+I44 -> 0 | J44: =+K44+L44+M44 -> 0 | O44: =+P44+Q44+R44+S44+T44 -> 0 | T44: =+U44+V44+W44 -> 0 | Y44: =+O44+X44 -> 0 | AF44: =+AG44+AH44 -> 0 | AM44: =+AK44+AL44 -> 0
A45: 3.4 | B45: ¶áõÛùÝ ³ÝÅ³é³Ý· ×³Ý³ã»Éáõ í»ñ³µ»ñÛ³É | E45: =+F45+G45+H45+I45 -> 0 | J45: =+K45+L45+M45 -> 0 | O45: =+P45+Q45+R45+S45+T45 -> 0 | T45: =+U45+V45+W45 -> 0 | Y45: =+O45+X45 -> 0 | AF45: =+AG45+AH45 -> 0 | AM45: =+AK45+AL45 -> 0
A46: 3.5 | B46: Àëï ûñ»ÝùÇ Å³é³Ý·áõÃÛ³Ý Çñ³íáõÝùÇ íÏ³Û³·ÇñÝ ³Ýí³í»ñ ×³Ý³ã»Éáõ í»ñ³µ»ñÛ³É | E46: =+F46+G46+H46+I46 -> 0 | J46: =+K46+L46+M46 -> 0 | O46: =+P46+Q46+R46+S46+T46 -> 0 | T46: =+U46+V46+W46 -> 0 | Y46: =+O46+X46 -> 0 | AF46: =+AG46+AH46 -> 0 | AM46: =+AK46+AL46 -> 0
A47: 3.6 | B47: Ä³é³Ý·áõÃÛáõÝÝ ÁÝ¹áõÝ»Éáõ µ³ó ÃáÕÝí³Í Å³ÙÏ»ïÁ Ñ³ñ·»ÉÇ Ñ³Ù³ñ»Éáõ í»ñ³µ»ñÛ³É | E47: =+F47+G47+H47+I47 -> 0 | J47: =+K47+L47+M47 -> 2 | K47: 2 | O47: =+P47+Q47+R47+S47+T47 -> 2 | R47: 2 | T47: =+U47+V47+W47 -> 0 | Y47: =+O47+X47 -> 2 | AD47: 1 | AF47: =+AG47+AH47 -> 1 | AH47: 1 | AJ47: 1 | AM47: =+AK47+AL47 -> 0
A48: 3.7 | B48: ²ÛÉ í»×»ñ | E48: =+F48+G48+H48+I48 -> 4 | F48: 1 | G48: 3 | J48: =+K48+L48+M48 -> 4 | K48: 3 | L48: 1 | O48: =+P48+Q48+R48+S48+T48 -> 3 | P48: 2 | Q48: 1 | T48: =+U48+V48+W48 -> 0 | Y48: =+O48+X48 -> 3 | AB48: 4 | AC48: 1 | AD48: 1 | AF48: =+AG48+AH48 -> 1 | AH48: 1 | AM48: =+AK48+AL48 -> 0
A49: 4 | B49: ÀÝï³Ý»Ï³Ý Çñ³í³Ñ³ñ³µ»ñáõÃÛáõÝÝ»ñÇ í»ñ³µ»ñÛ³É ¹³ï³Ï³Ý ·áñÍ»ñ | E49: =SUM(E50:E62) -> 19 | F49: =SUM(F50:F62) -> 1 | G49: =SUM(G50:G62) -> 18 | H49: =SUM(H50:H62) -> 0 | I49: =SUM(I50:I62) -> 0 | J49: =+K49+L49+M49 -> 33 | K49: =SUM(K50:K62) -> 29 | L49: =SUM(L50:L62) -> 4 | M49: =SUM(M50:M62) -> 0 | N49: =SUM(N50:N62) -> 0 | O49: =+P49+Q49+R49+S49+T49 -> 28 | P49: =SUM(P50:P62) -> 21 | Q49: =SUM(Q50:Q62) -> 4 | R49: =SUM(R50:R62) -> 2 | S49: =SUM(S50:S62) -> 0 | T49: =+U49+V49+W49 -> 1 | U49: =SUM(U50:U62) -> 1 | V49: =SUM(V50:V62) -> 0 | W49: =SUM(W50:W62) -> 0 | X49: =SUM(X50:X62) -> 0 | Y49: =+O49+X49 -> 28 | Z49: =SUM(Z50:Z62) -> 0 | AA49: =SUM(AA50:AA62) -> 1 | AB49: =SUM(AB50:AB62) -> 20 | AC49: =SUM(AC50:AC62) -> 2 | AD49: =SUM(AD50:AD62) -> 3 | AE49: =SUM(AE50:AE62) -> 0 | AF49: =+AG49+AH49 -> 3 | AG49: =SUM(AG50:AG62) -> 0 | AH49: =SUM(AH50:AH62) -> 3 | AI49: =SUM(AI50:AI62) -> 0 | AJ49: =SUM(AJ50:AJ62) -> 2 | AK49: =SUM(AK50:AK62) -> 0 | AL49: =SUM(AL50:AL62) -> 0 | AM49: =+AK49+AL49 -> 0 | AN49: =SUM(AN50:AN62) -> 0 | AO49: =SUM(AO50:AO62) -> 0 | AP49: =SUM(AP50:AP62) -> 0 | AQ49: =SUM(AQ50:AQ62) -> 0 | AR49: =SUM(AR50:AR62) -> 0 | AS49: =SUM(AS50:AS62) -> 0
A50: 4.1 | B50: ²ÙáõëÝ³ÉáõÍáõÃÛ³Ý í»ñ³µ»ñÛ³É | E50: =+F50+G50+H50+I50 -> 9 | G50: 9 | J50: =+K50+L50+M50 -> 22 | K50: 21 | L50: 1 | O50: =+P50+Q50+R50+S50+T50 -> 18 | P50: 17 | T50: 1 | U50: 1 | Y50: =+O50+X50 -> 18 | AA50: 1 | AB50: 12 | AC50: 1 | AF50: =+AG50+AH50 -> 0 | AM50: =+AK50+AL50 -> 0
A51: 4.2 | B51: ²ÉÇÙ»ÝïÇ å³Ñ³ÝçÇ í»ñ³µ»ñÛ³É | E51: =+F51+G51+H51+I51 -> 6 | F51: 1 | G51: 5 | J51: =+K51+L51+M51 -> 2 | K51: 2 | O51: =+P51+Q51+R51+S51+T51 -> 5 | P51: 1 | Q51: 3 | R51: 1 | Y51: =+O51+X51 -> 5 | AB51: 3 | AC51: 1 | AD51: 1 | AF51: =+AG51+AH51 -> 1 | AH51: 1 | AJ51: 1 | AM51: =+AK51+AL51 -> 0
A52: 4.3 | B52: ²ÉÇÙ»ÝïÇ ã³÷Á ÷á÷áË»Éáõ í»ñ³µ»ñÛ³É | E52: =+F52+G52+H52+I52 -> 0 | J52: =+K52+L52+M52 -> 1 | K52: 1 | O52: =+P52+Q52+R52+S52+T52 -> 0 | T52: =+U52+V52+W52 -> 0 | Y52: =+O52+X52 -> 0 | AB52: 1 | AF52: =+AG52+AH52 -> 0 | AM52: =+AK52+AL52 -> 0
A53: 4.4 | B53: ÌÝáÕ³Ï³Ý Çñ³íáõÝùÝ»ñÇó ½ñÏ»Éáõ í»ñ³µ»ñÛ³É | E53: =+F53+G53+H53+I53 -> 0 | J53: =+K53+L53+M53 -> 1 | L53: 1 | O53: =+P53+Q53+R53+S53+T53 -> 0 | T53: =+U53+V53+W53 -> 0 | Y53: =+O53+X53 -> 0 | AF53: =+AG53+AH53 -> 0 | AM53: =+AK53+AL53 -> 0
A54: 4.5 | B54: ÌÝáÕ³Ï³Ý Çñ³íáõÝùÝ»ñÁ í»ñ³Ï³Ý·Ý»Éáõ í»ñ³µ»ñÛ³É | E54: =+F54+G54+H54+I54 -> 0 | J54: =+K54+L54+M54 -> 0 | O54: =+P54+Q54+R54+S54+T54 -> 0 | T54: =+U54+V54+W54 -> 0 | Y54: =+O54+X54 -> 0 | AF54: =+AG54+AH54 -> 0 | AM54: =+AK54+AL54 -> 0
A55: 4.6 | B55: ºñ»Ë³ÛÇ áñ¹»·ñÙ³Ý í»ñ³µ»ñÛ³É | E55: =+F55+G55+H55+I55 -> 0 | J55: =+K55+L55+M55 -> 0 | O55: =+P55+Q55+R55+S55+T55 -> 0 | T55: =+U55+V55+W55 -> 0 | Y55: =+O55+X55 -> 0 | AF55: =+AG55+AH55 -> 0 | AM55: =+AK55+AL55 -> 0
A56: 4.7 | B56: ºñ»Ë³ÛÇ áñ¹»·ñáõÙÁ í»ñ³óÝ»Éáõ í»ñ³µ»ñÛ³É | E56: =+F56+G56+H56+I56 -> 0 | J56: =+K56+L56+M56 -> 0 | O56: =+P56+Q56+R56+S56+T56 -> 0 | T56: =+U56+V56+W56 -> 0 | Y56: =+O56+X56 -> 0 | AF56: =+AG56+AH56 -> 0 | AM56: =+AK56+AL56 -> 0
A57: 4.8 | B57: Ð³ÛñáõÃÛáõÝÁ ×³Ý³ã»Éáõ í»ñ³µ»ñÛ³É | E57: =+F57+G57+H57+I57 -> 0 | J57: =+K57+L57+M57 -> 0 | O57: =+P57+Q57+R57+S57+T57 -> 0 | T57: =+U57+V57+W57 -> 0 | Y57: =+O57+X57 -> 0 | AF57: =+AG57+AH57 -> 0 | AM57: =+AK57+AL57 -> 0
A58: 4.9 | B58: ºñ»Ë³ÛÇ µÝ³ÏáõÃÛ³Ý í³ÛñÁ áñáß»Éáõ í»ñ³µ»ñÛ³É | E58: =+F58+G58+H58+I58 -> 0 | J58: =+K58+L58+M58 -> 2 | K58: 2 | O58: =+P58+Q58+R58+S58+T58 -> 0 | T58: =+U58+V58+W58 -> 0 | Y58: =+O58+X58 -> 0 | AB58: 2 | AF58: =+AG58+AH58 -> 0 | AM58: =+AK58+AL58 -> 0
A59: 4.10 | B59: ºñ»Ë³ÛÇ Ñ»ï ï»ë³ÏóáõÃÛ³Ý Ï³ñ· ë³ÑÙ³Ý»Éáõ í»ñ³µ»ñÛ³É | E59: =+F59+G59+H59+I59 -> 3 | G59: 3 | J59: =+K59+L59+M59 -> 0 | O59: =+P59+Q59+R59+S59+T59 -> 3 | P59: 1 | Q59: 1 | R59: 1 | T59: =+U59+V59+W59 -> 0 | Y59: =+O59+X59 -> 3 | AD59: 1 | AF59: =+AG59+AH59 -> 1 | AH59: 1 | AJ59: 1 | AM59: =+AK59+AL59 -> 0
A60: 4.11 | B60: ²ÙáõëÇÝÝ»ñÇ ÁÝ¹Ñ³Ýáõñ ·áõÛùÁ µ³Å³Ý»Éáõ í»ñ³µ»ñÛ³É | E60: =+F60+G60+H60+I60 -> 1 | G60: 1 | J60: =+K60+L60+M60 -> 2 | K60: 1 | L60: 1 | O60: =+P60+Q60+R60+S60+T60 -> 1 | P60: 1 | T60: =+U60+V60+W60 -> 0 | Y60: =+O60+X60 -> 1 | AB60: 1 | AD60: 1 | AF60: =+AG60+AH60 -> 1 | AH60: 1 | AM60: =+AK60+AL60 -> 0
A61: 4.12 | B61: ²ÙáõëÝ³Ï³Ý å³ÛÙ³Ý³·ñÇ ÷á÷áËÙ³Ý Ï³Ù ÉáõÍÙ³Ý í»ñ³µ»ñÛ³É | E61: =+F61+G61+H61+I61 -> 0 | J61: =+K61+L61+M61 -> 0 | O61: =+P61+Q61+R61+S61+T61 -> 0 | T61: =+U61+V61+W61 -> 0 | Y61: =+O61+X61 -> 0 | AF61: =+AG61+AH61 -> 0 | AM61: =+AK61+AL61 -> 0
A62: 4.13 | B62: ²ÛÉ í»×»ñ | E62: =+F62+G62+H62+I62 -> 0 | J62: =+K62+L62+M62 -> 3 | K62: 2 | L62: 1 | O62: =+P62+Q62+R62+S62+T62 -> 1 | P62: 1 | T62: =+U62+V62+W62 -> 0 | Y62: =+O62+X62 -> 1 | AB62: 1 | AF62: =+AG62+AH62 -> 0 | AM62: =+AK62+AL62 -> 0
A63: 5. | B63: Øï³íáñ ë»÷³Ï³ÝáõÃÛ³Ý Ñ»ï Ï³åí³ÍÇñ³í³Ñ³ñ³µ»ñáõÃÛáõÝÝ»ñÇ í»ñ³µ»ñÛ³É ¹³ï³Ï³Ý ·áñÍ»ñ | E63: =SUM(E64:E69) -> 0 | F63: =SUM(F64:F69) -> 0 | G63: =SUM(G64:G69) -> 0 | H63: =SUM(H64:H69) -> 0 | I63: =SUM(I64:I69) -> 0 | J63: =+K63+L63+M63 -> 0 | K63: =SUM(K64:K69) -> 0 | L63: =SUM(L64:L69) -> 0 | M63: =SUM(M64:M69) -> 0 | N63: =SUM(N64:N69) -> 0 | O63: =+P63+Q63+R63+S63+T63 -> 0 | P63: =SUM(P64:P69) -> 0 | Q63: =SUM(Q64:Q69) -> 0 | R63: =SUM(R64:R69) -> 0 | S63: =SUM(S64:S69) -> 0 | T63: =+U63+V63+W63 -> 0 | U63: =SUM(U64:U69) -> 0 | V63: =SUM(V64:V69) -> 0 | W63: =SUM(W64:W69) -> 0 | X63: =SUM(X64:X69) -> 0 | Y63: =+O63+X63 -> 0 | Z63: =SUM(Z64:Z69) -> 0 | AA63: =SUM(AA64:AA69) -> 0 | AB63: =SUM(AB64:AB69) -> 0 | AC63: =SUM(AC64:AC69) -> 0 | AD63: =SUM(AD64:AD69) -> 0 | AE63: =SUM(AE64:AE69) -> 0 | AF63: =+AG63+AH63 -> 0 | AG63: =SUM(AG64:AG69) -> 0 | AH63: =SUM(AH64:AH69) -> 0 | AI63: =SUM(AI64:AI69) -> 0 | AJ63: =SUM(AJ64:AJ69) -> 0 | AK63: =SUM(AK64:AK69) -> 0 | AL63: =SUM(AL64:AL69) -> 0 | AM63: =+AK63+AL63 -> 0 | AN63: =SUM(AN64:AN69) -> 0 | AO63: =SUM(AO64:AO69) -> 0 | AP63: =SUM(AP64:AP69) -> 0 | AQ63: =SUM(AQ64:AQ69) -> 0 | AR63: =SUM(AR64:AR69) -> 0 | AS63: =SUM(AS64:AS69) -> 0
A64: 5.1 | B64: ÈÇó»Ý½³ÛÇÝ å³ÛÙ³Ý³·ñÇ ÉáõÍÙ³Ý, ÷á÷áËÙ³Ý ¨ ³Ýí³í»ñáõÃÛ³Ý í»ñ³µ»ñÛ³É | E64: =+F64+G64+H64+I64 -> 0 | J64: =+K64+L64+M64 -> 0 | O64: =+P64+Q64+R64+S64+T64 -> 0 | T64: =+U64+V64+W64 -> 0 | Y64: =+O64+X64 -> 0 | AF64: =+AG64+AH64 -> 0 | AM64: =+AK64+AL64 -> 0
A65: 5.2 | B65: Øï³íáñ ·áñÍáõÝ»áõÃÛ³Ý ³ñ¹ÛáõÝùÝ»ñ ëï»ÕÍ»Éáõ ¨ û·ï³·áñÍ»Éáõ å³ÛÙ³Ý³·ñÇ ÉáõÍÙ³Ý, ÷á÷áËÙ³Ý áõ ³Ýí³í»ñáõÃÛ³Ý í»ñ³µ»ñÛ³É | E65: =+F65+G65+H65+I65 -> 0 | J65: =+K65+L65+M65 -> 0 | O65: =+P65+Q65+R65+S65+T65 -> 0 | T65: =+U65+V65+W65 -> 0 | Y65: =+O65+X65 -> 0 | AF65: =+AG65+AH65 -> 0 | AM65: =+AK65+AL65 -> 0
A66: 5.3 | B66: Ð»ÕÇÝ³Ï³ÛÇÝ ¨ Ñ³ñ³ÏÇó Çñ³íáõÝùÝ»ñÇ í»ñ³µ»ñÛ³É | E66: =+F66+G66+H66+I66 -> 0 | J66: =+K66+L66+M66 -> 0 | O66: =+P66+Q66+R66+S66+T66 -> 0 | T66: =+U66+V66+W66 -> 0 | Y66: =+O66+X66 -> 0 | AF66: =+AG66+AH66 -> 0 | AM66: =+AK66+AL66 -> 0
A67: 5.4 | B67: üÇñÙ³ÛÇÝ ³Ýí³ÝÙ³Ý í»ñ³µ»ñÛ³É | E67: =+F67+G67+H67+I67 -> 0 | J67: =+K67+L67+M67 -> 0 | O67: =+P67+Q67+R67+S67+T67 -> 0 | T67: =+U67+V67+W67 -> 0 | Y67: =+O67+X67 -> 0 | AF67: =+AG67+AH67 -> 0 | AM67: =+AK67+AL67 -> 0
A68: 5.5 | B68: ²åñ³Ýù³ÛÇÝ Ýß³ÝÇ í»ñ³µ»ñÛ³É | E68: =+F68+G68+H68+I68 -> 0 | J68: =+K68+L68+M68 -> 0 | O68: =+P68+Q68+R68+S68+T68 -> 0 | T68: =+U68+V68+W68 -> 0 | Y68: =+O68+X68 -> 0 | AF68: =+AG68+AH68 -> 0 | AM68: =+AK68+AL68 -> 0
A69: 5.6 | B69: ²ÛÉ í»×»ñ | E69: =+F69+G69+H69+I69 -> 0 | J69: =+K69+L69+M69 -> 0 | O69: =+P69+Q69+R69+S69+T69 -> 0 | T69: =+U69+V69+W69 -> 0 | Y69: =+O69+X69 -> 0 | AF69: =+AG69+AH69 -> 0 | AM69: =+AK69+AL69 -> 0
A70: 6. | B70: ²ßË³ï³Ýù³ÛÇÝ Çñ³í³Ñ³ñ³µ»ñáõÃÛáõÝÝ»ñÇ í»ñ³µ»ñÛ³É ¹³ï³Ï³Ý ·áñÍ»ñ | E70: =SUM(E71:E76) -> 4 | F70: =SUM(F71:F76) -> 0 | G70: =SUM(G71:G76) -> 4 | H70: =SUM(H71:H76) -> 0 | I70: =SUM(I71:I76) -> 0 | J70: =+K70+L70+M70 -> 0 | K70: =SUM(K71:K76) -> 0 | L70: =SUM(L71:L76) -> 0 | M70: =SUM(M71:M76) -> 0 | N70: =SUM(N71:N76) -> 0 | O70: =+P70+Q70+R70+S70+T70 -> 4 | P70: =SUM(P71:P76) -> 0 | Q70: =SUM(Q71:Q76) -> 2 | R70: =SUM(R71:R76) -> 0 | S70: =SUM(S71:S76) -> 0 | T70: =+U70+V70+W70 -> 2 | U70: =SUM(U71:U76) -> 0 | V70: =SUM(V71:V76) -> 2 | W70: =SUM(W71:W76) -> 0 | X70: =SUM(X71:X76) -> 0 | Y70: =+O70+X70 -> 4 | Z70: =SUM(Z71:Z76) -> 0 | AA70: =SUM(AA71:AA76) -> 0 | AB70: =SUM(AB71:AB76) -> 0 | AC70: =SUM(AC71:AC76) -> 0 | AD70: =SUM(AD71:AD76) -> 0 | AE70: =SUM(AE71:AE76) -> 0 | AF70: =+AG70+AH70 -> 0 | AG70: =SUM(AG71:AG76) -> 0 | AH70: =SUM(AH71:AH76) -> 0 | AI70: =SUM(AI71:AI76) -> 0 | AJ70: =SUM(AJ71:AJ76) -> 0 | AK70: =SUM(AK71:AK76) -> 0 | AL70: =SUM(AL71:AL76) -> 0 | AM70: =+AK70+AL70 -> 0 | AN70: =SUM(AN71:AN76) -> 0 | AO70: =SUM(AO71:AO76) -> 0 | AP70: =SUM(AP71:AP76) -> 0 | AQ70: =SUM(AQ71:AQ76) -> 0 | AR70: =SUM(AR71:AR76) -> 0 | AS70: =SUM(AS71:AS76) -> 0
A71: 6.1 | B71: ²ßË³ï³Ýù³ÛÇÝ å³ÛÙ³Ý³·ñ»ñÇ í»ñ³µ»ñÛ³É | E71: =+F71+G71+H71+I71 -> 0 | J71: =+K71+L71+M71 -> 0 | O71: =+P71+Q71+R71+S71+T71 -> 0 | T71: =+U71+V71+W71 -> 0 | Y71: =+O71+X71 -> 0 | AF71: =+AG71+AH71 -> 0 | AM71: =+AK71+AL71 -> 0
A72: 6.2 | B72: ²ßË³ï³ÝùáõÙ í»ñ³Ï³Ý·Ý»Éáõ í»ñ³µ»ñÛ³É | E72: =+F72+G72+H72+I72 -> 0 | J72: =+K72+L72+M72 -> 0 | O72: =+P72+Q72+R72+S72+T72 -> 0 | T72: =+U72+V72+W72 -> 0 | Y72: =+O72+X72 -> 0 | AF72: =+AG72+AH72 -> 0 | AM72: =+AK72+AL72 -> 0
A73: 6.3 | B73: ¶áñÍ³¹áõÉÝ ³ÝûñÇÝ³Ï³Ý ×³Ý³ã»Éáõ í»ñ³µ»ñÛ³É | E73: =+F73+G73+H73+I73 -> 0 | J73: =+K73+L73+M73 -> 0 | O73: =+P73+Q73+R73+S73+T73 -> 0 | T73: =+U73+V73+W73 -> 0 | Y73: =+O73+X73 -> 0 | AF73: =+AG73+AH73 -> 0 | AM73: =+AK73+AL73 -> 0
A74: 6.4 | B74: Ð³ñÏ³¹Çñ å³ñ³åáõñ¹Ç Ñ³ïáõóÙ³Ý í»ñ³µ»ñÛ³É | E74: =+F74+G74+H74+I74 -> 0 | J74: =+K74+L74+M74 -> 0 | O74: =+P74+Q74+R74+S74+T74 -> 0 | T74: =+U74+V74+W74 -> 0 | Y74: =+O74+X74 -> 0 | AF74: =+AG74+AH74 -> 0 | AM74: =+AK74+AL74 -> 0
A75: 6.5 | B75: âí×³ñí³Í ³ßË³ï³í³ñÓÇ ¨/Ï³Ù ³ÛÉ í×³ñÝ»ñÇ µéÝ³·³ÝÓÙ³Ý í»ñ³µ»ñÛ³É | E75: =+F75+G75+H75+I75 -> 2 | G75: 2 | J75: =+K75+L75+M75 -> 0 | O75: =+P75+Q75+R75+S75+T75 -> 2 | T75: =+U75+V75+W75 -> 2 | V75: 2 | Y75: =+O75+X75 -> 2 | AF75: =+AG75+AH75 -> 0 | AM75: =+AK75+AL75 -> 0
A76: 6.6 | B76: ²ÛÉ í»×»ñ | E76: =+F76+G76+H76+I76 -> 2 | G76: 2 | J76: =+K76+L76+M76 -> 0 | O76: =+P76+Q76+R76+S76+T76 -> 2 | Q76: 2 | T76: =+U76+V76+W76 -> 0 | Y76: =+O76+X76 -> 2 | AF76: =+AG76+AH76 -> 0 | AM76: =+AK76+AL76 -> 0
A77: 7. | B77: Æñ³í³µ³Ý³Ï³Ý ³ÝÓÇ ·áñÍáõÝ»áõÃÛáõÝÇó µËáÕ Çñ³í³Ñ³ñ³µ»ñáõÃÛáõÝÝ»ñÇ í»ñ³µ»ñÛ³É ¹³ï³Ï³Ý ·áñÍ»ñ | E77: =SUM(E78:E79) -> 0 | F77: =SUM(F78:F79) -> 0 | G77: =SUM(G78:G79) -> 0 | H77: =SUM(H78:H79) -> 0 | I77: =SUM(I78:I79) -> 0 | J77: =+K77+L77+M77 -> 2 | K77: =SUM(K78:K79) -> 1 | L77: =SUM(L78:L79) -> 1 | M77: =SUM(M78:M79) -> 0 | N77: =SUM(N78:N79) -> 0 | O77: =+P77+Q77+R77+S77+T77 -> 0 | P77: =SUM(P78:P79) -> 0 | Q77: =SUM(Q78:Q79) -> 0 | R77: =SUM(R78:R79) -> 0 | S77: =SUM(S78:S79) -> 0 | T77: =+U77+V77+W77 -> 0 | U77: =SUM(U78:U79) -> 0 | V77: =SUM(V78:V79) -> 0 | W77: =SUM(W78:W79) -> 0 | X77: =SUM(X78:X79) -> 0 | Y77: =+O77+X77 -> 0 | Z77: =SUM(Z78:Z79) -> 0 | AA77: =SUM(AA78:AA79) -> 0 | AB77: =SUM(AB78:AB79) -> 1 | AC77: =SUM(AC78:AC79) -> 0 | AD77: =SUM(AD78:AD79) -> 0 | AE77: =SUM(AE78:AE79) -> 0 | AF77: =+AG77+AH77 -> 0 | AG77: =SUM(AG78:AG79) -> 0 | AH77: =SUM(AH78:AH79) -> 0 | AI77: =SUM(AI78:AI79) -> 0 | AJ77: =SUM(AJ78:AJ79) -> 0 | AK77: =SUM(AK78:AK79) -> 0 | AL77: =SUM(AL78:AL79) -> 0 | AM77: =+AK77+AL77 -> 0 | AN77: =SUM(AN78:AN79) -> 0 | AO77: =SUM(AO78:AO79) -> 0 | AP77: =SUM(AP78:AP79) -> 0 | AQ77: =SUM(AQ78:AQ79) -> 0 | AR77: =SUM(AR78:AR79) -> 0 | AS77: =SUM(AS78:AS79) -> 0
A78: 7.1 | B78: Îáñåáñ³ïÇí í»×»ñ | E78: =+F78+G78+H78+I78 -> 0 | J78: =+K78+L78+M78 -> 2 | K78: 1 | L78: 1 | O78: =+P78+Q78+R78+S78+T78 -> 0 | T78: =+U78+V78+W78 -> 0 | Y78: =+O78+X78 -> 0 | AB78: 1 | AF78: =+AG78+AH78 -> 0 | AM78: =+AK78+AL78 -> 0
A79: 7.2 | B79: ²ÛÉ í»×»ñ | E79: =+F79+G79+H79+I79 -> 0 | J79: =+K79+L79+M79 -> 0 | O79: =+P79+Q79+R79+S79+T79 -> 0 | T79: =+U79+V79+W79 -> 0 | Y79: =+O79+X79 -> 0 | AF79: =+AG79+AH79 -> 0 | AM79: =+AK79+AL79 -> 0
A80: 8. | B80: Ð³ïáõÏ í³ñáõÛÃÇ ¹³ï³Ï³Ý ·áñÍ»ñ | E80: =SUM(E81:E101) -> 7 | F80: =SUM(F81:F101) -> 0 | G80: =SUM(G81:G101) -> 7 | H80: =SUM(H81:H101) -> 0 | I80: =SUM(I81:I101) -> 0 | J80: =+K80+L80+M80 -> 33 | K80: =SUM(K81:K101) -> 30 | L80: =SUM(L81:L101) -> 3 | M80: =SUM(M81:M101) -> 0 | N80: =SUM(N81:N101) -> 0 | O80: =+P80+Q80+R80+S80+T80 -> 26 | P80: =SUM(P81:P101) -> 25 | Q80: =SUM(Q81:Q101) -> 0 | R80: =SUM(R81:R101) -> 1 | S80: =SUM(S81:S101) -> 0 | T80: =+U80+V80+W80 -> 0 | U80: =SUM(U81:U101) -> 0 | V80: =SUM(V81:V101) -> 0 | W80: =SUM(W81:W101) -> 0 | X80: =SUM(X81:X101) -> 0 | Y80: =+O80+X80 -> 26 | Z80: =SUM(Z81:Z101) -> 0 | AA80: =SUM(AA81:AA101) -> 3 | AB80: =SUM(AB81:AB101) -> 11 | AC80: =SUM(AC81:AC101) -> 3 | AD80: =SUM(AD81:AD101) -> 1 | AE80: =SUM(AE81:AE101) -> 0 | AF80: =+AG80+AH80 -> 1 | AG80: =SUM(AG81:AG101) -> 0 | AH80: =SUM(AH81:AH101) -> 1 | AI80: =SUM(AI81:AI101) -> 0 | AJ80: =SUM(AJ81:AJ101) -> 0 | AK80: =SUM(AK81:AK101) -> 0 | AL80: =SUM(AL81:AL101) -> 0 | AM80: =+AK80+AL80 -> 0 | AN80: =SUM(AN81:AN101) -> 0 | AO80: =SUM(AO81:AO101) -> 0 | AP80: =SUM(AP81:AP101) -> 0 | AQ80: =SUM(AQ81:AQ101) -> 0 | AR80: =SUM(AR81:AR101) -> 0 | AS80: =SUM(AS81:AS101) -> 0
A81: 8.1 | B81: ²Ýã³÷³Ñ³ëÇÝ ÉñÇí ·áñÍáõÝ³Ï ×³Ý³ã»Éáõ /¿Ù³ÝëÇå³óÇ³/ í»ñ³µ»ñÛ³É | E81: =+F81+G81+H81+I81 -> 0 | J81: =+K81+L81+M81 -> 0 | O81: =+P81+Q81+R81+S81+T81 -> 0 | T81: =+U81+V81+W81 -> 0 | Y81: =+O81+X81 -> 0 | AF81: =+AG81+AH81 -> 0 | AM81: =+AK81+AL81 -> 0
A82: 8.2 | B82: ø³Õ³ù³óáõÝ ³Ý·áñÍáõÝ³Ï Ï³Ù ë³ÑÙ³Ý³÷³Ï ·áñÍáõÝ³Ï ×³Ý³ã»Éáõ í»ñ³µ»ñÛ³É | E82: =+F82+G82+H82+I82 -> 1 | G82: 1 | J82: =+K82+L82+M82 -> 3 | K82: 3 | O82: =+P82+Q82+R82+S82+T82 -> 0 | T82: =+U82+V82+W82 -> 0 | Y82: =+O82+X82 -> 0 | AA82: 3 | AB82: 4 | AC82: 3 | AF82: =+AG82+AH82 -> 0 | AM82: =+AK82+AL82 -> 0
A83: 8.3 | B83: ø³Õ³ù³óáõÝ Ñá·»µáõÅ³Ï³Ý ÑÇí³Ý¹³Ýáó³ÛÇÝ Ñ³ñÏ³¹Çñ µáõÅÙ³Ý »ÝÃ³ñÏ»Éáõ í»ñ³µ»ñÛ³É | E83: =+F83+G83+H83+I83 -> 0 | J83: =+K83+L83+M83 -> 1 | K83: 1 | O83: =+P83+Q83+R83+S83+T83 -> 1 | R83: 1 | T83: =+U83+V83+W83 -> 0 | Y83: =+O83+X83 -> 1 | AF83: =+AG83+AH83 -> 0 | AM83: =+AK83+AL83 -> 0
A84: 8.4 | B84: ø³Õ³ù³óáõÝ ³ÝÑ³Ûï µ³ó³Ï³ÛáÕ Ï³Ù Ù³Ñ³ó³Í ×³Ý³ã»Éáõ í»ñ³µ»ñÛ³É | E84: =+F84+G84+H84+I84 -> 0 | J84: =+K84+L84+M84 -> 6 | K84: 3 | L84: 3 | O84: =+P84+Q84+R84+S84+T84 -> 1 | P84: 1 | T84: =+U84+V84+W84 -> 0 | Y84: =+O84+X84 -> 1 | AB84: 2 | AF84: =+AG84+AH84 -> 0 | AM84: =+AK84+AL84 -> 0
A85: 8.5 | B85: ø³Õ³ù³óÇ³Ï³Ý Ï³óáõÃÛ³Ý ³Ïï»ñÇ ·ñ³éáõÙÝ»ñÇ ³Ý×ßïáõÃÛáõÝÝ»ñÁ å³ñ½»Éáõ í»ñ³µ»ñÛ³É | E85: =+F85+G85+H85+I85 -> 0 | J85: =+K85+L85+M85 -> 0 | O85: =+P85+Q85+R85+S85+T85 -> 0 | T85: =+U85+V85+W85 -> 0 | Y85: =+O85+X85 -> 0 | AF85: =+AG85+AH85 -> 0 | AM85: =+AK85+AL85 -> 0
A86: 8.6 | B86: ¶áõÛùÁ ïÇñ³½áõñÏ ×³Ý³ã»Éáõ í»ñ³µ»ñÛ³É | E86: =+F86+G86+H86+I86 -> 0 | J86: =+K86+L86+M86 -> 0 | O86: =+P86+Q86+R86+S86+T86 -> 0 | T86: =+U86+V86+W86 -> 0 | Y86: =+O86+X86 -> 0 | AF86: =+AG86+AH86 -> 0 | AM86: =+AK86+AL86 -> 0
A87: 8.6.1 | B87: ²Û¹ ÃíáõÙª ³Ýß³ñÅ ·áõÛùÁ | E87: =+F87+G87+H87+I87 -> 0 | J87: =+K87+L87+M87 -> 0 | O87: =+P87+Q87+R87+S87+T87 -> 0 | T87: =+U87+V87+W87 -> 0 | Y87: =+O87+X87 -> 0 | AF87: =+AG87+AH87 -> 0 | AM87: =+AK87+AL87 -> 0
A88: 8.6.2 | B88: ²Û¹ ÃíáõÙª ß³ñÅ³Ï³Ý ·áõÛùÁ | E88: =+F88+G88+H88+I88 -> 0 | J88: =+K88+L88+M88 -> 0 | O88: =+P88+Q88+R88+S88+T88 -> 0 | T88: =+U88+V88+W88 -> 0 | Y88: =+O88+X88 -> 0 | AF88: =+AG88+AH88 -> 0 | AM88: =+AK88+AL88 -> 0
A89: 8.7 | B89: Æñ³í³µ³Ý³Ï³Ý Ýß³Ý³ÏáõÃÛáõÝ áõÝ»óáÕ ÷³ëï»ñÇ Ñ³ëï³ïÙ³Ý í»ñ³µ»ñÛ³É | E89: =+F89+G89+H89+I89 -> 0 | J89: =+K89+L89+M89 -> 1 | K89: 1 | O89: =+P89+Q89+R89+S89+T89 -> 1 | P89: 1 | T89: =+U89+V89+W89 -> 0 | Y89: =+O89+X89 -> 1 | AF89: =+AG89+AH89 -> 0 | AM89: =+AK89+AL89 -> 0
A90: 8.7.1 | B90: ²ÝÓ³Ýó ³½·³Ïó³Ï³Ý Ï³åÁ Ñ³ëï³ï»Éáõ í»ñ³µ»ñÛ³É | E90: =+F90+G90+H90+I90 -> 2 | G90: 2 | J90: =+K90+L90+M90 -> 4 | K90: 4 | O90: =+P90+Q90+R90+S90+T90 -> 4 | P90: 4 | T90: =+U90+V90+W90 -> 0 | Y90: =+O90+X90 -> 4 | AB90: 2 | AF90: =+AG90+AH90 -> 0 | AM90: =+AK90+AL90 -> 0
A91: 8.7.2 | B91: ²ÝÓÇª áõñÇßÇ ËÝ³ÙùÇ ï³Ï ·ïÝí»Éáõ í»ñ³µ»ñÛ³É | E91: =+F91+G91+H91+I91 -> 0 | J91: =+K91+L91+M91 -> 0 | O91: =+P91+Q91+R91+S91+T91 -> 0 | T91: =+U91+V91+W91 -> 0 | Y91: =+O91+X91 -> 0 | AF91: =+AG91+AH91 -> 0 | AM91: =+AK91+AL91 -> 0
A92: 8.7.3 | B92: ÌÝÝ¹Û³Ý, áñ¹»·ñÙ³Ý, ³ÙáõëÝáõÃÛ³Ý, ³å³Ñ³ñ½³ÝÇ ¨ Ù³Ñí³Ý ·ñ³ÝóÙ³Ý í»ñ³µ»ñÛ³É | E92: =+F92+G92+H92+I92 -> 1 | G92: 1 | J92: =+K92+L92+M92 -> 1 | K92: 1 | O92: =+P92+Q92+R92+S92+T92 -> 2 | P92: 2 | T92: =+U92+V92+W92 -> 0 | Y92: =+O92+X92 -> 2 | AF92: =+AG92+AH92 -> 0 | AM92: =+AK92+AL92 -> 0
A93: 8.7.4 | B93: ²ÝÓÇª áñáß³ÏÇ Å³Ù³Ý³ÏáõÙ ¨ áñáß³ÏÇ Ñ³Ý·³Ù³ÝùÝ»ñáõÙ Ù³Ñí³Ý í»ñ³µ»ñÛ³É | E93: =+F93+G93+H93+I93 -> 0 | J93: =+K93+L93+M93 -> 0 | O93: =+P93+Q93+R93+S93+T93 -> 0 | T93: =+U93+V93+W93 -> 0 | Y93: =+O93+X93 -> 0 | AF93: =+AG93+AH93 -> 0 | AM93: =+AK93+AL93 -> 0
A94: 8.7.5 | B94: Ä³é³Ý·áõÃÛáõÝÝ ÁÝ¹áõÝ»Éáõ ¨ Å³é³Ý·áõÃÛ³Ý µ³óÙ³Ý í³ÛñÇ í»ñ³µ»ñÛ³É | E94: =+F94+G94+H94+I94 -> 0 | J94: =+K94+L94+M94 -> 0 | O94: =+P94+Q94+R94+S94+T94 -> 0 | T94: =+U94+V94+W94 -> 0 | Y94: =+O94+X94 -> 0 | AF94: =+AG94+AH94 -> 0 | AM94: =+AK94+AL94 -> 0
A95: 8.7.6 | B95: ¸Åµ³Ëï å³ï³Ñ³ñÇ í»ñ³µ»ñÛ³É | E95: =+F95+G95+H95+I95 -> 0 | J95: =+K95+L95+M95 -> 0 | O95: =+P95+Q95+R95+S95+T95 -> 0 | T95: =+U95+V95+W95 -> 0 | Y95: =+O95+X95 -> 0 | AF95: =+AG95+AH95 -> 0 | AM95: =+AK95+AL95 -> 0
A96: 8.7.7 | B96: Æñ³íáõÝù ë³ÑÙ³ÝáÕ ÷³ëï³ÃÕÃ»ñÇ å³ïÏ³Ý»ÉáõÃÛ³Ý í»ñ³µ»ñÛ³É | E96: =+F96+G96+H96+I96 -> 1 | G96: 1 | J96: =+K96+L96+M96 -> 2 | K96: 2 | O96: =+P96+Q96+R96+S96+T96 -> 3 | P96: 3 | T96: =+U96+V96+W96 -> 0 | Y96: =+O96+X96 -> 3 | AF96: =+AG96+AH96 -> 0 | AM96: =+AK96+AL96 -> 0
A97: 8.7.8 | B97: ê»÷³Ï³ÝáõÃÛ³Ý Çñ³íáõÝùáí ·áõÛùÇ ïÇñ³å»ïÙ³Ý í»ñ³µ»ñÛ³É | E97: =+F97+G97+H97+I97 -> 0 | J97: =+K97+L97+M97 -> 0 | O97: =+P97+Q97+R97+S97+T97 -> 0 | T97: =+U97+V97+W97 -> 0 | Y97: =+O97+X97 -> 0 | AF97: =+AG97+AH97 -> 0 | AM97: =+AK97+AL97 -> 0
A98: 8.7.9 | B98: ²ÝÑ³ÕÃ³Ñ³ñ»ÉÇ áõÅÇ ³éÏ³ÛáõÃÛ³Ý í»ñ³µ»ñÛ³É | E98: =+F98+G98+H98+I98 -> 0 | J98: =+K98+L98+M98 -> 0 | O98: =+P98+Q98+R98+S98+T98 -> 0 | T98: =+U98+V98+W98 -> 0 | Y98: =+O98+X98 -> 0 | AF98: =+AG98+AH98 -> 0 | AM98: =+AK98+AL98 -> 0
A99: 8.7.10 | B99: úñ»Ýùáí Ý³Ë³ï»ëí³Í ³ÛÉ Çñ³í³µ³Ý³Ï³Ý ÷³ëï»ñÇ í»ñ³µ»ñÛ³É | E99: =+F99+G99+H99+I99 -> 2 | G99: 2 | J99: =+K99+L99+M99 -> 13 | K99: 13 | O99: =+P99+Q99+R99+S99+T99 -> 12 | P99: 12 | T99: =+U99+V99+W99 -> 0 | Y99: =+O99+X99 -> 12 | AB99: 3 | AD99: 1 | AF99: =+AG99+AH99 -> 1 | AH99: 1 | AM99: =+AK99+AL99 -> 0
A100: 8.8 | B100: Àëï Ý»ñÏ³Û³óÝáÕÇ ¨ ûñ¹»ñ³ÛÇÝ Ïáñóñ³Í ³ñÅ»ÃÕÃ»ñáí Ñ³í³ëïí³Í Çñ³íáõÝùÝ»ñÁ í»ñ³Ï³Ý·Ý»Éáõ í»ñ³µ»ñÛ³É | E100: =+F100+G100+H100+I100 -> 0 | J100: =+K100+L100+M100 -> 0 | O100: =+P100+Q100+R100+S100+T100 -> 0 | T100: =+U100+V100+W100 -> 0 | Y100: =+O100+X100 -> 0 | AF100: =+AG100+AH100 -> 0 | AM100: =+AK100+AL100 -> 0
...

Sheet Մ.Գևորգյան
A1: 2017թ. | G1: Ð²ÞìºîìàôÂÚàôÜ | AM1: Ð³í»Éí³Í Ð³Û³ëï³ÝÇ Ð³Ýñ³å»ïáõÃÛ³Ý ¸³ï³ñ³ÝÝ»ñÇ Ý³Ë³·³ÑÝ»ñÇ ËáñÑñ¹Ç 29.01.2018Ã. ÃÇí 10-È áñáßÙ³Ý
A2: ՀՀ ÞÆð²ÎÆ ՄԱՐԶԻ ÀÜ¸Ð²Üàôð Æð²ì²êàôÂÚ²Ü ²è²æÆÜ ²îÚ²ÜÆ ¸²î²ð²ÜÆ ¸²î²ìàð | Z2: Մ. ԳԵՎՈՐԳÚ²ÜÆ | AH2: ¶àðÌàôÜºàôÂÚ²Ü ìºð²´ºðÚ²È
A3: ø²Ô²ø²òÆ²Î²Ü ¶àðÌºðàì
A4: ՀՀ ÞÇñ³ÏÇ մարզի ÁÝ¹Ñ³Ýáõñ Çñ³í³ëáõÃÛ³Ý ³é³çÇÝ ³ïÛ³ÝÇ ¹³ï³ñ³ÝÇ ù³Õ³ù³óÇ³Ï³Ý Ù³ëÝ³·Çï³óáõÙ áõÝ»óáÕ ¹³ï³íáñÝ»ñÇ Ñ³ëïÇùÝ»ñÇ ù³Ý³ÏÁ` 9
E5: Ð³ßí»ïáõ Å³Ù³Ý³Ï³Ñ³ïí³ÍáõÙ Ý³Ëáñ¹ Ñ³ßí»ïáõ Å³Ù³Ý³Ï³Ñ³ïí³ÍÇó ÷áË³Ýóí³Í ·áñÍ»ñÇ ÁÝ¹Ñ³Ýáõñ ÃÇíÁ | J5: Ð³ßí»ïáõ Å³Ù³Ý³Ï³Ñ³ïí³ÍáõÙëï³óí³Í ·áñÍ»ñÇ (³Û¹ ÃíáõÙ` Ñ³Ûó³¹ÇÙáõÙÝ»ñÇ, ¹ÇÙáõÙÝ»ñÇ) ÁÝ¹Ñ³Ýáõñ ÃÇíÁ | N5: öáË³Ýóí»É ¿ ³ÛÉ ¹³ï³íáñÇ (Ï³½ÙÇ ÷á÷áËáõÃÛáõÝ) | O5: Ð³ßí»ïáõ Å³Ù³Ý³Ï³Ñ³ïí³ÍáõÙ ³í³ñïí³Í ·áñÍ»ñÇ ÁÝ¹Ñ³Ýáõñ ÃÇíÁ | Z5: ¶áñÍÝ áõÕ³ñÏí»É ¿ Áëï ÁÝ¹¹³ïáõÃÛ³Ý | AA5: Ð³ßí»ïáõ Å³Ù³Ý³Ï³Ñ³ïí³ÍáõÙ Ï³ë»óí³Í í³ñáõÛÃÝ»ñáí ·áñÍ»ñÇ ÁÝ¹Ñ³Ýáõñ ÃÇíÁ | AB5: Ð³ßí»ïáõ Å³Ù³Ý³Ï³Ñ³ïí³ÍáõÙ ³Ý³í³ñï ·áñÍ»ñÇ ÁÝ¹Ñ³Ýáõñ ÃÇíÁ | AC5: ²Û¹ ÃíáõÙª Ï³ë»óí³Í | AD5: ´áÕáù³ñÏí³Í ¹³ï³Ï³Ý ³Ïï»ñÁ | AI5: ²í³ñïí³Í ¹³ï³Ï³Ý ·áñÍ»ñÇ µáÕáù³ñÏÙ³Ý ïáÏáëÁ (Ñ³ßí»ïáõ Å³Ù³Ý³Ï³ßñç³ÝáõÙ) | AJ5: ²Ý³í³ñï µáÕáùÝ»ñ | AK5: ´»Ï³Ýí³Í ¹³ï³Ï³Ý ³Ïï»ñÁ | AP5: µ»Ï³ÝáõÙÝ»ñÇ ïáÏáëÁ ³í³ñïí³Í ·áñÍ»ñÇó(Ñ³ßí»ïáõ Å³Ù³Ý³Ï³ßñç³ÝáõÙ) | AQ5: Î³ÛáõÝáõÃÛ³Ý ïáÏáëÁ ³í³ñïí³Í ·áñÍ»ñÇó(Ñ³ßí»ïáõ Å³Ù³Ý³Ï³ßñç³ÝáõÙ) | AR5: µ»Ï³ÝáõÙÝ»ñÇ ïáÏáëÁ µáÕáù³ñÏí³Í ·áñÍ»ñÇó(Ñ³ßí»ïáõ Å³Ù³Ý³Ï³ßñç³ÝáõÙ) | AS5: Ï³ÛáõÝáõÃÛ³Ý ïáÏáëÁ(Ñ³ßí»ïáõ Å³Ù³Ý³Ï³ßñç³ÝáõÙ)
E6: ÀÝ¹³Ù»ÝÁ | F6: ²Û¹ ÃíáõÙ`Ï³ë»óí³Í íÇ×³ÏáõÙ ÷áË³Ýóí³Í | G6: ²Û¹ ÃíáõÙª ÁÝ¹áõÝí»É ¿ í³ñáõÛÃ | H6: ²Û¹ ÃíáõÙª í»ñ³¹³ñÓí»É ¿ | I6: ²Û¹ ÃíáõÙª ÁÝ¹áõÝáõÙÁ Ù»ñÅí»É ¿ | J6: ÀÝ¹³Ù»ÝÁ | K6: ²Û¹ ÃíáõÙª ÁÝ¹áõÝí»É ¿ í³ñáõÛÃ | L6: ²Û¹ ÃíáõÙª í»ñ³¹³ñÓí»É ¿ | M6: ²Û¹ ÃíáõÙª ÁÝ¹áõÝáõÙÁ Ù»ñÅí»É ¿ | O6: ÀÝ¹³Ù»ÝÁ ³í³ñïí»É »Ý ·áñÍ»ñ ·áñÍÝ Áëï ¿áõÃÛ³Ý ÉáõÍáÕ ¹³ï³Ï³Ý ³Ïï»ñÇ (í×ÇéÝ»ñÇ) Ï³Û³óÙ³Ùµ | P6: ²Û¹ ÃíáõÙª Ñ³ÛóÇ µ³í³ñ³ñÙ³Ùµ | Q6: ²Û¹ ÃíáõÙª Ñ³ÛóÇ Ù³ëÝ³ÏÇ µ³í³ñ³ñÙ³Ùµ | R6: ²Û¹ ÃíáõÙª Ñ³ÛóÇ Ù»ñÅÙ³Ùµ | S6: Ø³ëáí Ï³ñ×í»É ¿, Ù³ëáí Ù»ñÅí»É | T6: ²Û¹ ÃíáõÙª Ï³ñ×í»É »Ý | X6: Ð³ÛóÁ ÃáÕÝí»É ¿ ³é³Ýó ùÝÝáõÃÛ³Ý | Y6: ÀÝ¹³Ù»ÝÝ ³í³ñïí»É »Ý ·áñÍ»ñ | AD6: ²Û¹ ÃíáõÙ` ·áñÍÝ Áëï ¿áõÃÛ³Ý ÉáõÍáÕ ¹³ï³Ï³Ý ³Ïï»ñÁ | AE6: ²Û¹ ÃíáõÙ` ÙÇç³ÝÏÛ³É ¹³ï³Ï³Ý ³Ïï»ñÁ | AF6: ÀÝ¹³Ù»ÝÁ | AG6: Ü³Ëáñ¹ ï³ñÇÝ»ñÇÝ Ï³Û³óí³Í ³Ïï»ñÇ µáÕáù³ñÏáõÙÁ Ñ³ßí»ïáõ Å³Ù³Ý³Ï³ßñç³ÝáõÙ | AH6: Ð³ßí»ïáõ Å³Ù³Ý³Ï³ßñç³ÝáõÙ Ï³Û³óí³Í ³Ïï»ñÇ µáÕáù³ñÏáõÙÁ | AK6: ²Û¹ ÃíáõÙ` ·áñÍÝ Áëï ¿áõÃÛ³Ý ÉáõÍáÕ ¹³ï³Ï³Ý ³Ïï»ñÁ | AL6: ²Û¹ ÃíáõÙ` ÙÇç³ÝÏÛ³É ¹³ï³Ï³Ý ³Ïï»ñÁ | AM6: ÀÝ¹³Ù»ÝÁ | AN6: Ü³Ëáñ¹ ï³ñÇÝ»ñÇÝ Ï³Û³óí³Í ³Ïï»ñÇ µ»Ï³ÝáõÙÝ»ñÁ Ñ³ßí»ïáõ Å³Ù³Ý³Ï³ßñç³ÝáõÙ | AO6: Ð³ßí»ïáõ Å³Ù³Ý³Ï³ßñç³ÝáõÙ Ï³Û³óí³Í ³Ïï»ñÇ µ»Ï³ÝáõÙÁ
T7: ÀÝ¹³Ù»ÝÁ Ï³ñ×í»É »Ý | U7: ²Û¹ ÃíáõÙª Ñ³ëï³ïí»É ¿ ÏÝùí³Í Ñ³ßïáõÃÛ³Ý Ñ³Ù³Ó³ÛÝáõÃÛáõÝÁ | V7: ²Û¹ ÃíáõÙª Ñ³óÇó, ¹ÇÙáõÙÇó Ññ³Å³ñí»Éáõ ÑÇÙùáí | W7: ²Û¹ ÃíáõÙª ³ÛÉ ÑÇÙùáí
E8: 1 | F8: 2 | G8: 3 | H8: 4 | I8: 5 | J8: 6 | K8: 7 | L8: 8 | M8: 9 | N8: 10 | O8: 11 | P8: 12 | Q8: 13 | R8: 14 | S8: 15 | T8: 16 | U8: 17 | V8: 18 | W8: 19 | X8: 20 | Y8: 21 | Z8: 22 | AA8: 23 | AB8: 24 | AC8: 25 | AD8: 26 | AE8: 27 | AF8: 28 | AG8: 29 | AH8: 30 | AI8: 31 | AJ8: 32 | AK8: 33 | AL8: 34 | AM8: 35 | AN8: 36 | AO8: 37 | AP8: 38 | AQ8: 39 | AR8: 40 | AS8: 41
A9: 1. | B9: ¶áõÛù³ÛÇÝ Çñ³í³Ñ³ñ³µ»ñáõÃÛáõÝÝ»ñÇ í»ñ³µ»ñÛ³É ¹³ï³Ï³Ý ·áñÍ»ñ | E9: =SUM(E10:E28) -> 21 | F9: =SUM(F10:F28) -> 6 | G9: =SUM(G10:G28) -> 15 | H9: =SUM(H10:H28) -> 0 | I9: =SUM(I10:I28) -> 0 | J9: =SUM(J10:J28) -> 52 | K9: =SUM(K10:K28) -> 44 | L9: =SUM(L10:L28) -> 8 | ... AS9: =SUM(AS10:AS28) -> 0
A10: 1.1 | B10: ¶áõÛùÇ ÝÏ³ïÙ³Ùµ ë»÷³Ï³ÝáõÃÛ³Ý Çñ³íáõÝùÁ ×³Ý³ã»Éáõ í»ñ³µ»ñÛ³É | E10: =+F10+G10+H10+I10 -> 1 | G10: 1 | J10: =+K10+L10+M10 -> 7 | K10: 6 | L10: 1 | O10: =+P10+Q10+R10+S10+T10 -> 7 | P10: 6 | T10: =+U10+V10+W10 -> 1 | V10: 1 | Y10: =+O10+X10 -> 7 | AF10: =+AG10+AH10 -> 0 | AM10: =+AK10+AL10 -> 0
A11: 1.1.1 | B11: ²Û¹ ÃíáõÙª Ó»éùµ»ñÙ³Ý í³Õ»ÙáõÃÛ³Ý áõÅáí | E11: =+F11+G11+H11+I11 -> 2 | G11: 2 | J11: =+K11+L11+M11 -> 0 | O11: =+P11+Q11+R11+S11+T11 -> 2 | P11: 1 | T11: =+U11+V11+W11 -> 1 | V11: 1 | Y11: =+O11+X11 -> 2 | AF11: =+AG11+AH11 -> 0 | AM11: =+AK11+AL11 -> 0
A12: 1.1.2 | B12: ²Û¹ ÃíáõÙª ïÇñ³½áõñÏ ·áõÛùÇ ÝÏ³ïÙ³Ùµ | E12: =+F12+G12+H12+I12 -> 0 | J12: =+K12+L12+M12 -> 1 | K12: 1 | O12: =+P12+Q12+R12+S12+T12 -> 1 | P12: 1 | T12: =+U12+V12+W12 -> 0 | Y12: =+O12+X12 -> 1 | AF12: =+AG12+AH12 -> 0 | AM12: =+AK12+AL12 -> 0
A13: 1.1.3 | B13: ²Û¹ ÃíáõÙª ÇÝùÝ³Ï³Ù Ï³éáõÛóÇ ÝÏ³ïÙ³Ùµ | E13: =+F13+G13+H13+I13 -> 0 | J13: =+K13+L13+M13 -> 0 | O13: =+P13+Q13+R13+S13+T13 -> 0 | T13: =+U13+V13+W13 -> 0 | Y13: =+O13+X13 -> 0 | AF13: =+AG13+AH13 -> 0 | AM13: =+AK13+AL13 -> 0
A14: 1.2 | B14: ê»÷³Ï³ÝáõÃÛ³Ý Çñ³íáõÝùÇ ¹³¹³ñ»óÙ³Ý í»ñ³µ»ñÛ³É | E14: =+F14+G14+H14+I14 -> 0 | J14: =+K14+L14+M14 -> 0 | O14: =+P14+Q14+R14+S14+T14 -> 0 | T14: =+U14+V14+W14 -> 0 | Y14: =+O14+X14 -> 0 | AF14: =+AG14+AH14 -> 0 | AM14: =+AK14+AL14 -> 0
A15: 1.3 | B15: ¶áõÛùÇ ÝÏ³ïÙ³Ùµ û·ï³·áñÍÙ³Ý Çñ³íáõÝùÁ ×³Ý³ã»Éáõ í»ñ³µ»ñÛ³É | E15: =+F15+G15+H15+I15 -> 0 | J15: =+K15+L15+M15 -> 1 | K15: 1 | O15: =+P15+Q15+R15+S15+T15 -> 1 | T15: =+U15+V15+W15 -> 1 | U15: 1 | Y15: =+O15+X15 -> 1 | AF15: =+AG15+AH15 -> 0 | AM15: =+AK15+AL15 -> 0
A16: 1.3.1 | B16: ²Û¹ ÃíáõÙª µÝ³Ïû·ï³·áñÍÙ³Ý Çñ³íáõÝùÁ ×³Ý³ã»Éáõ í»ñ³µ»ñÛ³É | E16: =+F16+G16+H16+I16 -> 0 | J16: =+K16+L16+M16 -> 0 | O16: =+P16+Q16+R16+S16+T16 -> 0 | T16: =+U16+V16+W16 -> 0 | Y16: =+O16+X16 -> 0 | AF16: =+AG16+AH16 -> 0 | AM16: =+AK16+AL16 -> 0
A17: 1.3.2 | B17: ²Û¹ ÃíáõÙª ÑáÕ³Ù³ëÇ ÝÏ³ïÙ³Ùµ û·ï³·áñÍÙ³Ý Çñ³íáõÝùÁ ×³Ý³ã»Éáõ í»ñ³µ»ñÛ³É | E17: =+F17+G17+H17+I17 -> 0 | J17: =+K17+L17+M17 -> 0 | O17: =+P17+Q17+R17+S17+T17 -> 0 | T17: =+U17+V17+W17 -> 0 | Y17: =+O17+X17 -> 0 | AF17: =+AG17+AH17 -> 0 | AM17: =+AK17+AL17 -> 0
A18: 1.4 | B18: ¶áõÛùÇ ÝÏ³ïÙ³Ùµ û·ï³·áñÍÙ³Ý Çñ³íáõÝùÁ ¹³¹³ñ»óÝ»Éáõ í»ñ³µ»ñÛ³É | E18: =+F18+G18+H18+I18 -> 0 | J18: =+K18+L18+M18 -> 0 | O18: =+P18+Q18+R18+S18+T18 -> 0 | T18: =+U18+V18+W18 -> 0 | Y18: =+O18+X18 -> 0 | AF18: =+AG18+AH18 -> 0 | AM18: =+AK18+AL18 -> 0
A19: 1.4.1 | B19: ²Û¹ ÃíáõÙª µÝ³Ïû·ï³·áñÍÙ³Ý Çñ³íáõÝùÁ ¹³¹³ñ»óÝ»Éáõ í»ñ³µ»ñÛ³É | E19: =+F19+G19+H19+I19 -> 0 | J19: =+K19+L19+M19 -> 0 | O19: =+P19+Q19+R19+S19+T19 -> 0 | T19: =+U19+V19+W19 -> 0 | Y19: =+O19+X19 -> 0 | AF19: =+AG19+AH19 -> 0 | AM19: =+AK19+AL19 -> 0
A20: 1.4.1/1 | B20: ²Û¹ ÃíáõÙª ÷áËÑ³ïáõóÙ³Ùµ | E20: =+F20+G20+H20+I20 -> 0 | J20: =+K20+L20+M20 -> 0 | O20: =+P20+Q20+R20+S20+T20 -> 0 | T20: =+U20+V20+W20 -> 0 | Y20: =+O20+X20 -> 0 | AF20: =+AG20+AH20 -> 0 | AM20: =+AK20+AL20 -> 0
A21: 1.5 | B21: ´Ý³Ï³ñ³ÝÇó/ ï³ñ³ÍùÇó/ íï³ñ»Éáõ í»ñ³µ»ñÛ³É | E21: =+F21+G21+H21+I21 -> 0 | J21: =+K21+L21+M21 -> 1 | K21: 1 | O21: =+P21+Q21+R21+S21+T21 -> 0 | T21: =+U21+V21+W21 -> 0 | Y21: =+O21+X21 -> 0 | AB21: 1 | AF21: =+AG21+AH21 -> 0 | AM21: =+AK21+AL21 -> 0
A22: 1.6 | B22: ¶áõÛùÝ áõñÇßÇ ³åûñÇÝÇ ïÇñ³å»ïáõÙÇó »ï í»ñ³¹³ñÓÝ»Éáõ í»ñ³µ»ñÛ³É | E22: =+F22+G22+H22+I22 -> 2 | F22: 1 | G22: 1 | J22: =+K22+L22+M22 -> 5 | K22: 5 | O22: =+P22+Q22+R22+S22+T22 -> 5 | P22: 2 | R22: 1 | T22: =+U22+V22+W22 -> 2 | U22: 1 | V22: 1 | Y22: =+O22+X22 -> 5 | AB22: 2 | AC22: 1 | AD22: 1 | AF22: =+AG22+AH22 -> 1 | AH22: 1 | AJ22: 1 | AM22: =+AK22+AL22 -> 0
A23: 1.6.1 | B23: ´³ñ»ËÇÕ× Ó»éùµ»ñáÕÇó Çñ ·áõÛùÁ Ñ»ï å³Ñ³Ýç»Éáõ í»ñ³µ»ñÛ³É | E23: =+F23+G23+H23+I23 -> 0 | J23: =+K23+L23+M23 -> 0 | O23: =+P23+Q23+R23+S23+T23 -> 0 | T23: =+U23+V23+W23 -> 0 | Y23: =+O23+X23 -> 0 | AF23: =+AG23+AH23 -> 0 | AM23: =+AK23+AL23 -> 0
A24: 1.7 | B24: îÇñ³å»ïáõÙÇó ½ñÏ»Éáõ Ñ»ï ãÏ³åí³Í Çñ³íáõÝùÝ»ñÇ Ë³ËïáõÙÁ í»ñ³óÝ»Éáõ í»ñ³µ»ñÛ³É | E24: =+F24+G24+H24+I24 -> 0 | J24: =+K24+L24+M24 -> 0 | O24: =+P24+Q24+R24+S24+T24 -> 0 | T24: =+U24+V24+W24 -> 0 | Y24: =+O24+X24 -> 0 | AF24: =+AG24+AH24 -> 0 | AM24: =+AK24+AL24 -> 0
A25: 1.8 | B25: ÀÝ¹Ñ³Ýáõñ µ³ÅÝ³ÛÇÝ ë»÷³Ï³ÝáõÃÛáõÝÇó µ³ÅÇÝÝ ³é³ÝÓÝ³óÝ»Éáõ í»ñ³µ»ñÛ³É | E25: =+F25+G25+H25+I25 -> 4 | G25: 4 | J25: =+K25+L25+M25 -> 12 | K25: 6 | L25: 6 | O25: =+P25+Q25+R25+S25+T25 -> 4 | P25: 1 | R25: 1 | T25: =+U25+V25+W25 -> 2 | V25: 2 | Y25: =+O25+X25 -> 4 | AA25: 3 | AB25: 6 | AC25: 3 | AD25: 1 | AF25: =+AG25+AH25 -> 1 | AH25: 1 | AJ25: 1 | AM25: =+AK25+AL25 -> 0
A26: 1.8.1 | B26: Ð³Ù³ï»Õ ë»÷³Ï³ÝáõÃÛ³Ý Ý»ñùá ·ïÝíáÕ ·áõÛùÁ µ³Å³Ý»Éáõ ¨ ¹ñ³ÝÇó µ³ÅÇÝÝ ³é³ÝÓÝ³óÝ»Éáõ í»ñ³µ»ñÛ³É | E26: =+F26+G26+H26+I26 -> 7 | F26: 2 | G26: 5 | J26: =+K26+L26+M26 -> 10 | K26: 10 | O26: =+P26+Q26+R26+S26+T26 -> 4 | P26: 4 | T26: =+U26+V26+W26 -> 0 | Y26: =+O26+X26 -> 4 | AA26: 5 | AB26: 13 | AC26: 5 | AF26: =+AG26+AH26 -> 0 | AM26: =+AK26+AL26 -> 0
A27: 1.8.3 | B27: ¶áõÛùÇ íñ³ µéÝ³·³ÝÓáõÙ ï³ñ³Í»Éáõ å³Ñ³ÝçÇ Ù³ëÇÝ | E27: =+F27+G27+H27+I27 -> 1 | F27: 1 | J27: =+K27+L27+M27 -> 1 | K27: 1 | O27: =+P27+Q27+R27+S27+T27 -> 1 | T27: =+U27+V27+W27 -> 1 | V27: 1 | Y27: =+O27+X27 -> 1 | AB27: 1 | AF27: =+AG27+AH27 -> 0 | AM27: =+AK27+AL27 -> 0
A28: 1.9 | B28: ²ÛÉ í»×»ñ | E28: =+F28+G28+H28+I28 -> 4 | F28: 2 | G28: 2 | J28: =+K28+L28+M28 -> 14 | K28: 13 | L28: 1 | O28: =+P28+Q28+R28+S28+T28 -> 6 | P28: 3 | R28: 2 | T28: =+U28+V28+W28 -> 1 | V28: 1 | Y28: =+O28+X28 -> 6 | AA28: 2 | AB28: 11 | AC28: 2 | AD28: 4 | AF28: =+AG28+AH28 -> 4 | AH28: 4 | AJ28: 4 | AM28: =+AK28+AL28 -> 0
A29: 2. | B29: ¶áñÍ³ñùÝ»ñÇ Ñ»ï Ï³åí³Í Çñ³í³Ñ³ñ³µ»ñáõÃÛáõÝÝ»ñÇ í»ñ³µ»ñÛ³É ¹³ï³Ï³Ý ·áñÍ»ñ | E29: =SUM(E30:E40) -> 5 | F29: =SUM(F30:F40) -> 2 | G29: =SUM(G30:G40) -> 3 | H29: =SUM(H30:H40) -> 0 | I29: =SUM(I30:I40) -> 0 | J29: =+K29+L29+M29 -> 4 | K29: =SUM(K30:K40) -> 2 | L29: =SUM(L30:L40) -> 2 | M29: =SUM(M30:M40) -> 0 | N29: =SUM(N30:N40) -> 0 | O29: =+P29+Q29+R29+S29+T29 -> 3 | P29: =SUM(P30:P40) -> 3 | Q29: =SUM(Q30:Q40) -> 0 | R29: =SUM(R30:R40) -> 0 | S29: =SUM(S30:S40) -> 0 | T29: =+U29+V29+W29 -> 0 | U29: =SUM(U30:U40) -> 0 | V29: =SUM(V30:V40) -> 0 | W29: =SUM(W30:W40) -> 0 | X29: =SUM(X30:X40) -> 0 | Y29: =+O29+X29 -> 3 | Z29: =SUM(Z30:Z40) -> 0 | AA29: =SUM(AA30:AA40) -> 0 | AB29: =SUM(AB30:AB40) -> 4 | AC29: =SUM(AC30:AC40) -> 2 | AD29: =SUM(AD30:AD40) -> 0 | AE29: =SUM(AE30:AE40) -> 0 | AF29: =+AG29+AH29 -> 0 | AG29: =SUM(AG30:AG40) -> 0 | AH29: =SUM(AH30:AH40) -> 0 | AI29: =SUM(AI30:AI40) -> 0 | AJ29: =SUM(AJ30:AJ40) -> 0 | AK29: =SUM(AK30:AK40) -> 0 | AL29: =SUM(AL30:AL40) -> 0 | AM29: =+AK29+AL29 -> 0 | AN29: =SUM(AN30:AN40) -> 0 | AO29: =SUM(AO30:AO40) -> 0 | AP29: =SUM(AP30:AP40) -> 0 | AQ29: =SUM(AQ30:AQ40) -> 0 | AR29: =SUM(AR30:AR40) -> 0 | AS29: =SUM(AS30:AS40) -> 0
A30: 2.1 | B30: ·áñÍ³ñùÝ»ñÇ ³Ýí³í»ñáõÃÛ³Ý Ñ»ï Ï³åí³Í í»×»ñ | E30: =+F30+G30+H30+I30 -> 0 | J30: =+K30+L30+M30 -> 1 | K30: 1 | O30: =+P30+Q30+R30+S30+T30 -> 0 | T30: =+U30+V30+W30 -> 0 | Y30: =+O30+X30 -> 0 | AB30: 1 | AF30: =+AG30+AH30 -> 0 | AM30: =+AK30+AL30 -> 0
A31: 2.1.1 | B31: ³Û¹ ÃíáõÙ` íÇ×³Ñ³ñáõÛó ·áñÍ³ñùÝ»ñÝ ³Ýí³í»ñ ×³Ý³ã»Éáõ í»ñ³µ»ñÛ³É | E31: =+F31+G31+H31+I31 -> 0 | J31: =+K31+L31+M31 -> 0 | O31: =+P31+Q31+R31+S31+T31 -> 0 | T31: =+U31+V31+W31 -> 0 | Y31: =+O31+X31 -> 0 | AF31: =+AG31+AH31 -> 0 | AM31: =+AK31+AL31 -> 0
A32: 2.1.2 | B32: ³Û¹ ÃíáõÙ` ·áñÍ³ñùÇ ³éáãÝãáõÃÛ³Ý Ñ»ï¨³ÝùÝ»ñ ÏÇñ³é»Éáõ í»ñ³µ»ñÛ³É | E32: =+F32+G32+H32+I32 -> 0 | J32: =+K32+L32+M32 -> 0 | O32: =+P32+Q32+R32+S32+T32 -> 0 | T32: =+U32+V32+W32 -> 0 | Y32: =+O32+X32 -> 0 | AF32: =+AG32+AH32 -> 0 | AM32: =+AK32+AL32 -> 0
A33: 2.2 | B33: ¶áñÍ³ñùÁ í³í»ñ ×³Ý³ã»Éáõ í»ñ³µ»ñÛ³É | E33: =+F33+G33+H33+I33 -> 3 | G33: 3 | J33: =+K33+L33+M33 -> 2 | K33: 1 | L33: 1 | O33: =+P33+Q33+R33+S33+T33 -> 3 | P33: 3 | T33: =+U33+V33+W33 -> 0 | Y33: =+O33+X33 -> 3 | AB33: 1 | AF33: =+AG33+AH33 -> 0 | AM33: =+AK33+AL33 -> 0
A34: 2.3 | B34: ¶áñÍ³ñùÇó Í³·áÕ Çñ³íáõÝùÝ»ñÁ ·ñ³Ýó»Éáõ í»ñ³µ»ñÛ³É | E34: =+F34+G34+H34+I34 -> 0 | J34: =+K34+L34+M34 -> 0 | O34: =+P34+Q34+R34+S34+T34 -> 0 | T34: =+U34+V34+W34 -> 0 | Y34: =+O34+X34 -> 0 | AF34: =+AG34+AH34 -> 0 | AM34: =+AK34+AL34 -> 0
A35: 2.4 | B35: ä³ÛÙ³Ý³·ÇñÝ ³Ýí³í»ñ ×³Ý³ã»Éáõ í»ñ³µ»ñÛ³É | E35: =+F35+G35+H35+I35 -> 1 | F35: 1 | J35: =+K35+L35+M35 -> 1 | L35: 1 | O35: =+P35+Q35+R35+S35+T35 -> 0 | T35: =+U35+V35+W35 -> 0 | Y35: =+O35+X35 -> 0 | AB35: 1 | AC35: 1 | AF35: =+AG35+AH35 -> 0 | AM35: =+AK35+AL35 -> 0
A36: 2.5 | B36: ä³ÛÙ³Ý³·ñÇÁ í³í»ñ ×³Ý³ã»Éáõ í»ñ³µ»ñÛ³É | E36: =+F36+G36+H36+I36 -> 0 | J36: =+K36+L36+M36 -> 0 | O36: =+P36+Q36+R36+S36+T36 -> 0 | T36: =+U36+V36+W36 -> 0 | Y36: =+O36+X36 -> 0 | AF36: =+AG36+AH36 -> 0 | AM36: =+AK36+AL36 -> 0
A37: 2.6 | B37: ä³ÛÙ³Ý³·ñÇó Í³·áÕ Çñ³íáõÝùÝ»ñÁ ·ñ³Ýó»Éáõ í»ñ³µ»ñÛ³É | E37: =+F37+G37+H37+I37 -> 0 | J37: =+K37+L37+M37 -> 0 | O37: =+P37+Q37+R37+S37+T37 -> 0 | T37: =+U37+V37+W37 -> 0 | Y37: =+O37+X37 -> 0 | AF37: =+AG37+AH37 -> 0 | AM37: =+AK37+AL37 -> 0
A38: 2.7 | B38: ä³ÛÙ³Ý³·ÇñÁ ÷á÷áË»Éáõ ¨ ÉáõÍ»Éáõ í»ñ³µ»ñÛ³É | E38: =+F38+G38+H38+I38 -> 0 | J38: =+K38+L38+M38 -> 0 | O38: =+P38+Q38+R38+S38+T38 -> 0 | T38: =+U38+V38+W38 -> 0 | Y38: =+O38+X38 -> 0 | AF38: =+AG38+AH38 -> 0 | AM38: =+AK38+AL38 -> 0
A39: 2.8 | B39: ä³ÛÙ³Ý³·Çñ ÏÝù»ÉáõÝ å³ñï³íáñ»óÝ»Éáõ í»ñ³µ»ñÛ³É | E39: =+F39+G39+H39+I39 -> 1 | F39: 1 | J39: =+K39+L39+M39 -> 0 | O39: =+P39+Q39+R39+S39+T39 -> 0 | T39: =+U39+V39+W39 -> 0 | Y39: =+O39+X39 -> 0 | AB39: 1 | AC39: 1 | AF39: =+AG39+AH39 -> 0 | AM39: =+AK39+AL39 -> 0
A40: 2.9 | B40: ²ÛÉ í»×»ñ | E40: =+F40+G40+H40+I40 -> 0 | J40: =+K40+L40+M40 -> 0 | O40: =+P40+Q40+R40+S40+T40 -> 0 | T40: =+U40+V40+W40 -> 0 | Y40: =+O40+X40 -> 0 | AF40: =+AG40+AH40 -> 0 | AM40: =+AK40+AL40 -> 0
A41: 3. | B41: Ä³é³Ý·áõÃÛ³Ý Ñ»ï Ï³åí³Í Çñ³í³Ñ³ñ³µ»ñáõÃÛáõÝÝ»ñÇ í»ñ³µ»ñÛ³É ¹³ï³Ï³Ý ·áñÍ»ñ | E41: =SUM(E42:E48) -> 3 | F41: =SUM(F42:F48) -> 0 | G41: =SUM(G42:G48) -> 3 | H41: =SUM(H42:H48) -> 0 | I41: =SUM(I42:I48) -> 0 | J41: =+K41+L41+M41 -> 2 | K41: =SUM(K42:K48) -> 2 | L41: =SUM(L42:L48) -> 0 | M41: =SUM(M42:M48) -> 0 | N41: =SUM(N42:N48) -> 0 | O41: =+P41+Q41+R41+S41+T41 -> 5 | P41: =SUM(P42:P48) -> 4 | Q41: =SUM(Q42:Q48) -> 0 | R41: =SUM(R42:R48) -> 1 | S41: =SUM(S42:S48) -> 0 | T41: =+U41+V41+W41 -> 0 | U41: =SUM(U42:U48) -> 0 | V41: =SUM(V42:V48) -> 0 | W41: =SUM(W42:W48) -> 0 | X41: =SUM(X42:X48) -> 0 | Y41: =+O41+X41 -> 5 | Z41: =SUM(Z42:Z48) -> 0 | AA41: =SUM(AA42:AA48) -> 0 | AB41: =SUM(AB42:AB48) -> 0 | AC41: =SUM(AC42:AC48) -> 0 | AD41: =SUM(AD42:AD48) -> 1 | AE41: =SUM(AE42:AE48) -> 0 | AF41: =+AG41+AH41 -> 1 | AG41: =SUM(AG42:AG48) -> 0 | AH41: =SUM(AH42:AH48) -> 1 | AI41: =SUM(AI42:AI48) -> 0 | AJ41: =SUM(AJ42:AJ48) -> 1 | AK41: =SUM(AK42:AK48) -> 0 | AL41: =SUM(AL42:AL48) -> 0 | AM41: =+AK41+AL41 -> 0 | AN41: =SUM(AN42:AN48) -> 0 | AO41: =SUM(AO42:AO48) -> 0 | AP41: =SUM(AP42:AP48) -> 0 | AQ41: =SUM(AQ42:AQ48) -> 0 | AR41: =SUM(AR42:AR48) -> 0 | AS41: =SUM(AS42:AS48) -> 0
A42: 3.1 | B42: Îï³ÏÝ ³Ýí³í»ñ ×³Ý³ã»Éáõ í»ñ³µ»ñÛ³É | E42: =+F42+G42+H42+I42 -> 0 | J42: =+K42+L42+M42 -> 0 | O42: =+P42+Q42+R42+S42+T42 -> 0 | T42: =+U42+V42+W42 -> 0 | Y42: =+O42+X42 -> 0 | AF42: =+AG42+AH42 -> 0 | AM42: =+AK42+AL42 -> 0
A43: 3.2 | B43: ²Ý³ñÅ³Ý Å³é³Ý· ×³Ý³ã»Éáõ í»ñ³µ»ñÛ³É | E43: =+F43+G43+H43+I43 -> 0 | J43: =+K43+L43+M43 -> 0 | O43: =+P43+Q43+R43+S43+T43 -> 0 | T43: =+U43+V43+W43 -> 0 | Y43: =+O43+X43 -> 0 | AF43: =+AG43+AH43 -> 0 | AM43: =+AK43+AL43 -> 0
A44: 3.3 | B44: Ä³é³Ý·áõÃÛáõÝÁ µ³Å³Ý»Éáõ í»ñ³µ»ñÛ³É | E44: =+F44+G44+H44+I44 -> 0 | J44: =+K44+L44+M44 -> 0 | O44: =+P44+Q44+R44+S44+T44 -> 0 | T44: =+U44+V44+W44 -> 0 | Y44: =+O44+X44 -> 0 | AF44: =+AG44+AH44 -> 0 | AM44: =+AK44+AL44 -> 0
A45: 3.4 | B45: ¶áõÛùÝ ³ÝÅ³é³Ý· ×³Ý³ã»Éáõ í»ñ³µ»ñÛ³É | E45: =+F45+G45+H45+I45 -> 0 | J45: =+K45+L45+M45 -> 0 | O45: =+P45+Q45+R45+S45+T45 -> 0 | T45: =+U45+V45+W45 -> 0 | Y45: =+O45+X45 -> 0 | AF45: =+AG45+AH45 -> 0 | AM45: =+AK45+AL45 -> 0
