Workbook

Sheet Ընդհանուր
A1: 2017թ. | G1: Ð²ÞìºîìàôÂÚàôÜ | AM1: Ð³í»Éí³Í Ð³Û³ëï³ÝÇ Ð³Ýñ³å»ïáõÃÛ³Ý ¸³ï³ñ³ÝÝ»ñÇ Ý³Ë³·³ÑÝ»ñÇ ËáñÑñ¹Ç 29.01.2018Ã. ÃÇí 10-È áñáßÙ³Ý
A2: ՀՀ ÞÆð²ÎÆ ՄԱՐԶԻ ÀÜ¸Ð²Üàôð Æð²ì²êàôÂÚ²Ü ²è²æÆÜ ²îÚ²ÜÆ ¸²î²ð²ÜÆ ¶àðÌàôÜºàôÂÚ²Ü ìºð²´ºðÚ²È
A3: ø²Ô²ø²òÆ²Î²Ü ¶àðÌºðàì
A4: ՀՀ ÞÇñ³ÏÇ մարզի ÁÝ¹Ñ³Ýáõñ Çñ³í³ëáõÃÛ³Ý ³é³çÇÝ ³ïÛ³ÝÇ ¹³ï³ñ³ÝÇ ù³Õ³ù³óÇ³Ï³Ý Ù³ëÝ³·Çï³óáõÙ áõÝ»óáÕ ¹³ï³íáñÝ»ñÇ Ñ³ëïÇùÝ»ñÇ ù³Ý³ÏÁ` 9
E5: Ð³ßí»ïáõ Å³Ù³Ý³Ï³Ñ³ïí³ÍáõÙ Ý³Ëáñ¹ Ñ³ßí»ïáõ Å³Ù³Ý³Ï³Ñ³ïí³ÍÇó ÷áË³Ýóí³Í ·áñÍ»ñÇ ÁÝ¹Ñ³Ýáõñ ÃÇíÁ | J5: Ð³ßí»ïáõ Å³Ù³Ý³Ï³Ñ³ïí³ÍáõÙëï³óí³Í ·áñÍ»ñÇ (³Û¹ ÃíáõÙ` Ñ³Ûó³¹ÇÙáõÙÝ»ñÇ, ¹ÇÙáõÙÝ»ñÇ) ÁÝ¹Ñ³Ýáõñ ÃÇíÁ | N5: öáË³Ýóí»É ¿ ³ÛÉ ¹³ï³íáñÇ (Ï³½ÙÇ ÷á÷áËáõÃÛáõÝ) | O5: Ð³ßí»ïáõ Å³Ù³Ý³Ï³Ñ³ïí³ÍáõÙ ³í³ñïí³Í ·áñÍ»ñÇ ÁÝ¹Ñ³Ýáõñ ÃÇíÁ | Z5: ¶áñÍÝ áõÕ³ñÏí»É ¿ Áëï ÁÝ¹¹³ïáõÃÛ³Ý | AA5: Ð³ßí»ïáõ Å³Ù³Ý³Ï³Ñ³ïí³ÍáõÙ Ï³ë»óí³Í í³ñáõÛÃÝ»ñáí ·áñÍ»ñÇ ÁÝ¹Ñ³Ýáõñ ÃÇíÁ | AB5: Ð³ßí»ïáõ Å³Ù³Ý³Ï³Ñ³ïí³ÍáõÙ ³Ý³í³ñï ·áñÍ»ñÇ ÁÝ¹Ñ³Ýáõñ ÃÇíÁ | AC5: ²Û¹ ÃíáõÙª Ï³ë»óí³Í | AD5: ´áÕáù³ñÏí³Í ¹³ï³Ï³Ý ³Ïï»ñÁ | AI5: ²í³ñïí³Í ¹³ï³Ï³Ý ·áñÍ»ñÇ µáÕáù³ñÏÙ³Ý ïáÏáëÁ (Ñ³ßí»ïáõ Å³Ù³Ý³Ï³ßñç³ÝáõÙ) | AJ5: ²Ý³í³ñï µáÕáùÝ»ñ | AK5: ´»Ï³Ýí³Í ¹³ï³Ï³Ý ³Ïï»ñÁ | AP5: µ»Ï³ÝáõÙÝ»ñÇ ïáÏáëÁ ³í³ñïí³Í ·áñÍ»ñÇó(Ñ³ßí»ïáõ Å³Ù³Ý³Ï³ßñç³ÝáõÙ) | AQ5: Î³ÛáõÝáõÃÛ³Ý ïáÏáëÁ ³í³ñïí³Í ·áñÍ»ñÇó(Ñ³ßí»ïáõ Å³Ù³Ý³Ï³ßñç³ÝáõÙ) | AR5: µ»Ï³ÝáõÙÝ»ñÇ ïáÏáëÁ µáÕáù³ñÏí³Í ·áñÍ»ñÇó(Ñ³ßí»ïáõ Å³Ù³Ý³Ï³ßñç³ÝáõÙ) | AS5: Ï³ÛáõÝáõÃÛ³Ý ïáÏáëÁ(Ñ³ßí»ïáõ Å³Ù³Ý³Ï³ßñç³ÝáõÙ)
F6: ²Û¹ ÃíáõÙ`Ï³ë»óí³Í íÇ×³ÏáõÙ ÷áË³Ýóí³Í | G6: ²Û¹ ÃíáõÙª ÁÝ¹áõÝí»É ¿ í³ñáõÛÃ | H6: ²Û¹ ÃíáõÙª í»ñ³¹³ñÓí»É ¿ | I6: ²Û¹ ÃíáõÙª ÁÝ¹áõÝáõÙÁ Ù»ñÅí»É ¿ | J6: ÀÝ¹³Ù»ÝÁ | K6: ²Û¹ ÃíáõÙª ÁÝ¹áõÝí»É ¿ í³ñáõÛÃ | L6: ²Û¹ ÃíáõÙª í»ñ³¹³ñÓí»É ¿ | M6: ²Û¹ ÃíáõÙª ÁÝ¹áõÝáõÙÁ Ù»ñÅí»É ¿ | O6: ÀÝ¹³Ù»ÝÁ ³í³ñïí»É »Ý ·áñÍ»ñ ·áñÍÝ Áëï ¿áõÃÛ³Ý ÉáõÍáÕ ¹³ï³Ï³Ý ³Ïï»ñÇ (í×ÇéÝ»ñÇ) Ï³Û³óÙ³Ùµ | P6: ²Û¹ ÃíáõÙª Ñ³ÛóÇ µ³í³ñ³ñÙ³Ùµ | Q6: ²Û¹ ÃíáõÙª Ñ³ÛóÇ Ù³ëÝ³ÏÇ µ³í³ñ³ñÙ³Ùµ | R6: ²Û¹ ÃíáõÙª Ñ³ÛóÇ Ù»ñÅÙ³Ùµ | S6: Ø³ëáí Ï³ñ×í»É ¿, Ù³ëáí Ù»ñÅí»É | T6: ²Û¹ ÃíáõÙª Ï³ñ×í»É »Ý | X6: Ð³ÛóÁ ÃáÕÝí»É ¿ ³é³Ýó ùÝÝáõÃÛ³Ý | Y6: ÀÝ¹³Ù»ÝÝ ³í³ñïí»É »Ý ·áñÍ»ñ | AD6: ²Û¹ ÃíáõÙ` ·áñÍÝ Áëï ¿áõÃÛ³Ý ÉáõÍáÕ ¹³ï³Ï³Ý ³Ïï»ñÁ | AE6: ²Û¹ ÃíáõÙ` ÙÇç³ÝÏÛ³É ¹³ï³Ï³Ý ³Ïï»ñÁ | AF6: ÀÝ¹³Ù»ÝÁ | AG6: Ü³Ëáñ¹ ï³ñÇÝ»ñÇÝ Ï³Û³óí³Í ³Ïï»ñÇ µáÕáù³ñÏáõÙÁ Ñ³ßí»ïáõ Å³Ù³Ý³Ï³ßñç³ÝáõÙ | AH6: Ð³ßí»ïáõ Å³Ù³Ý³Ï³ßñç³ÝáõÙ Ï³Û³óí³Í ³Ïï»ñÇ µáÕáù³ñÏáõÙÁ | AK6: ²Û¹ ÃíáõÙ` ·áñÍÝ Áëï ¿áõÃÛ³Ý ÉáõÍáÕ ¹³ï³Ï³Ý ³Ïï»ñÁ | AL6: ²Û¹ ÃíáõÙ` ÙÇç³ÝÏÛ³É ¹³ï³Ï³Ý ³Ïï»ñÁ | AM6: ÀÝ¹³Ù»ÝÁ | AN6: Ü³Ëáñ¹ ï³ñÇÝ»ñÇÝ Ï³Û³óí³Í ³Ïï»ñÇ µ»Ï³ÝáõÙÝ»ñÁ Ñ³ßí»ïáõ Å³Ù³Ý³Ï³ßñç³ÝáõÙ | AO6: Ð³ßí»ïáõ Å³Ù³Ý³Ï³ßñç³ÝáõÙ Ï³Û³óí³Í ³Ïï»ñÇ µ»Ï³ÝáõÙÁ
T7: ÀÝ¹³Ù»ÝÁ Ï³ñ×í»É »Ý | U7: ²Û¹ ÃíáõÙª Ñ³ëï³ïí»É ¿ ÏÝùí³Í Ñ³ßïáõÃÛ³Ý Ñ³Ù³Ó³ÛÝáõÃÛáõÝÁ | V7: ²Û¹ ÃíáõÙª Ñ³óÇó, ¹ÇÙáõÙÇó Ññ³Å³ñí»Éáõ ÑÇÙùáí | W7: ²Û¹ ÃíáõÙª ³ÛÉ ÑÇÙùáí
E8: 1 | F8: 2 | G8: 3 | H8: 4 | I8: 5 | J8: 6 | K8: 7 | L8: 8 | M8: 9 | N8: 10 | O8: 11 | P8: 12 | Q8: 13 | R8: 14 | S8: 15 | T8: 16 | U8: 17 | V8: 18 | W8: 19 | X8: 20 | Y8: 21 | Z8: 22 | AA8: 23 | AB8: 24 | AC8: 25 | AD8: 26 | AE8: 27 | AF8: 28 | AG8: 29 | AH8: 30 | AI8: 31 | AJ8: 32 | AK8: 33 | AL8: 34 | AM8: 35 | AN8: 36 | AO8: 37 | AP8: 38 | AQ8: 39 | AR8: 40 | AS8: 41
A9: 1. | B9: ¶áõÛù³ÛÇÝ Çñ³í³Ñ³ñ³µ»ñáõÃÛáõÝÝ»ñÇ í»ñ³µ»ñÛ³É ¹³ï³Ï³Ý ·áñÍ»ñ | E9: =SUM(E10:E28) -> 194 | F9: =SUM(F10:F28) -> 90 | G9: =SUM(G10:G28) -> 104 | H9: =SUM(H10:H28) -> 0 | I9: =SUM(I10:I28) -> 0 | J9: =SUM(J10:J28) -> 367 | K9: =SUM(K10:K28) -> 309 | L9: =SUM(L10:L28) -> 52 | ... AS9: =SUM(AS10:AS28) -> 0
A10: 1.1 | B10: ¶áõÛùÇ ÝÏ³ïÙ³Ùµ ë»÷³Ï³ÝáõÃÛ³Ý Çñ³íáõÝùÁ ×³Ý³ã»Éáõ í»ñ³µ»ñÛ³É | E10: =SUM('Մ.Մարտիրոսյան:Գ. Հովհաննիսյան'!E10) -> 13 | F10: =SUM('Մ.Մարտիրոսյան:Գ. Հովհաննիսյան'!F10) -> 2 | G10: =SUM('Մ.Մարտիրոսյան:Գ. Հովհաննիսյան'!G10) -> 11 | H10: =SUM('Մ.Մարտիրոսյան:Գ. Հովհաննիսյան'!H10) -> 0 | I10: =SUM('Մ.Մարտիրոսյան:Գ. Հովհաննիսյան'!I10) -> 0 | J10: =SUM('Մ.Մարտիրոսյան:Գ. Հովհաննիսյան'!J10) -> 31 | K10: =SUM('Մ.Մարտիրոսյան:Գ. Հովհաննիսյան'!K10) -> 22 | L10: =SUM('Մ.Մարտիրոսյան:Գ. Հովհաննիսյան'!L10) -> 4 | ... AS10: =SUM('Մ.Մարտիրոսյան:Գ. Հովհաննիսյան'!AS10) -> 0
A11: 1.1.1 | B11: ²Û¹ ÃíáõÙª Ó»éùµ»ñÙ³Ý í³Õ»ÙáõÃÛ³Ý áõÅáí | E11: =SUM('Մ.Մարտիրոսյան:Գ. Հովհաննիսյան'!E11) -> 17 | F11: =SUM('Մ.Մարտիրոսյան:Գ. Հովհաննիսյան'!F11) -> 0 | G11: =SUM('Մ.Մարտիրոսյան:Գ. Հովհաննիսյան'!G11) -> 17 | H11: =SUM('Մ.Մարտիրոսյան:Գ. Հովհաննիսյան'!H11) -> 0 | I11: =SUM('Մ.Մարտիրոսյան:Գ. Հովհաննիսյան'!I11) -> 0 | J11: =SUM('Մ.Մարտիրոսյան:Գ. Հովհաննիսյան'!J11) -> 22 | K11: =SUM('Մ.Մարտիրոսյան:Գ. Հովհաննիսյան'!K11) -> 21 | L11: =SUM('Մ.Մարտիրոսյան:Գ. Հովհաննիսյան'!L11) -> 1 | ... AS11: =SUM('Մ.Մարտիրոսյան:Գ. Հովհաննիսյան'!AS11) -> 0
A12: 1.1.2 | B12: ²Û¹ ÃíáõÙª ïÇñ³½áõñÏ ·áõÛùÇ ÝÏ³ïÙ³Ùµ | E12: =SUM('Մ.Մարտիրոսյան:Գ. Հովհաննիսյան'!E12) -> 3 | F12: =SUM('Մ.Մարտիրոսյան:Գ. Հովհաննիսյան'!F12) -> 0 | G12: =SUM('Մ.Մարտիրոսյան:Գ. Հովհաննիսյան'!G12) -> 3 | H12: =SUM('Մ.Մարտիրոսյան:Գ. Հովհաննիսյան'!H12) -> 0 | I12: =SUM('Մ.Մարտիրոսյան:Գ. Հովհաննիսյան'!I12) -> 0 | J12: =SUM('Մ.Մարտիրոսյան:Գ. Հովհաննիսյան'!J12) -> 11 | K12: =SUM('Մ.Մարտիրոսյան:Գ. Հովհաննիսյան'!K12) -> 9 | L12: =SUM('Մ.Մարտիրոսյան:Գ. Հովհաննիսյան'!L12) -> 2 | ... AS12: =SUM('Մ.Մարտիրոսյան:Գ. Հովհաննիսյան'!AS12) -> 0
A13: 1.1.3 | B13: ²Û¹ ÃíáõÙª ÇÝùÝ³Ï³Ù Ï³éáõÛóÇ ÝÏ³ïÙ³Ùµ | E13: =SUM('Մ.Մարտիրոսյան:Գ. Հովհաննիսյան'!E13) -> 0 | F13: =SUM('Մ.Մարտիրոսյան:Գ. Հովհաննիսյան'!F13) -> 0 | G13: =SUM('Մ.Մարտիրոսյան:Գ. Հովհաննիսյան'!G13) -> 0 | H13: =SUM('Մ.Մարտիրոսյան:Գ. Հովհաննիսյան'!H13) -> 0 | I13: =SUM('Մ.Մարտիրոսյան:Գ. Հովհաննիսյան'!I13) -> 0 | J13: =SUM('Մ.Մարտիրոսյան:Գ. Հովհաննիսյան'!J13) -> 0 | K13: =SUM('Մ.Մարտիրոսյան:Գ. Հովհաննիսյան'!K13) -> 0 | L13: =SUM('Մ.Մարտիրոսյան:Գ. Հովհաննիսյան'!L13) -> 0 | ... AS13: =SUM('Մ.Մարտիրոսյան:Գ. Հովհաննիսյան'!AS13) -> 0
A14: 1.2 | B14: ê»÷³Ï³ÝáõÃÛ³Ý Çñ³íáõÝùÇ ¹³¹³ñ»óÙ³Ý í»ñ³µ»ñÛ³É | E14: =SUM('Մ.Մարտիրոսյան:Գ. Հովհաննիսյան'!E14) -> 1 | F14: =SUM('Մ.Մարտիրոսյան:Գ. Հովհաննիսյան'!F14) -> 0 | G14: =SUM('Մ.Մարտիրոսյան:Գ. Հովհաննիսյան'!G14) -> 1 | H14: =SUM('Մ.Մարտիրոսյան:Գ. Հովհաննիսյան'!H14) -> 0 | I14: =SUM('Մ.Մարտիրոսյան:Գ. Հովհաննիսյան'!I14) -> 0 | J14: =SUM('Մ.Մարտիրոսյան:Գ. Հովհաննիսյան'!J14) -> 1 | K14: =SUM('Մ.Մարտիրոսյան:Գ. Հովհաննիսյան'!K14) -> 1 | L14: =SUM('Մ.Մարտիրոսյան:Գ. Հովհաննիսյան'!L14) -> 0 | ... AS14: =SUM('Մ.Մարտիրոսյան:Գ. Հովհաննիսյան'!AS14) -> 0
A15: 1.3 | B15: ¶áõÛùÇ ÝÏ³ïÙ³Ùµ û·ï³·áñÍÙ³Ý Çñ³íáõÝùÁ ×³Ý³ã»Éáõ í»ñ³µ»ñÛ³É | E15: =SUM('Մ.Մարտիրոսյան:Գ. Հովհաննիսյան'!E15) -> 0 | F15: =SUM('Մ.Մարտիրոսյան:Գ. Հովհաննիսյան'!F15) -> 0 | G15: =SUM('Մ.Մարտիրոսյան:Գ. Հովհաննիսյան'!G15) -> 0 | H15: =SUM('Մ.Մարտիրոսյան:Գ. Հովհաննիսյան'!H15) -> 0 | I15: =SUM('Մ.Մարտիրոսյան:Գ. Հովհաննիսյան'!I15) -> 0 | J15: =SUM('Մ.Մարտիրոսյան:Գ. Հովհաննիսյան'!J15) -> 1 | K15: =SUM('Մ.Մարտիրոսյան:Գ. Հովհաննիսյան'!K15) -> 1 | L15: =SUM('Մ.Մարտիրոսյան:Գ. Հովհաննիսյան'!L15) -> 0 | ... AS15: =SUM('Մ.Մարտիրոսյան:Գ. Հովհաննիսյան'!AS15) -> 0
A16: 1.3.1 | B16: ²Û¹ ÃíáõÙª µÝ³Ïû·ï³·áñÍÙ³Ý Çñ³íáõÝùÁ ×³Ý³ã»Éáõ í»ñ³µ»ñÛ³É | E16: =SUM('Մ.Մարտիրոսյան:Գ. Հովհաննիսյան'!E16) -> 0 | F16: =SUM('Մ.Մարտիրոսյան:Գ. Հովհաննիսյան'!F16) -> 0 | G16: =SUM('Մ.Մարտիրոսյան:Գ. Հովհաննիսյան'!G16) -> 0 | H16: =SUM('Մ.Մարտիրոսյան:Գ. Հովհաննիսյան'!H16) -> 0 | I16: =SUM('Մ.Մարտիրոսյան:Գ. Հովհաննիսյան'!I16) -> 0 | J16: =SUM('Մ.Մարտիրոսյան:Գ. Հովհաննիսյան'!J16) -> 0 | K16: =SUM('Մ.Մարտիրոսյան:Գ. Հովհաննիսյան'!K16) -> 0 | L16: =SUM('Մ.Մարտիրոսյան:Գ. Հովհաննիսյան'!L16) -> 0 | ... AS16: =SUM('Մ.Մարտիրոսյան:Գ. Հովհաննիսյան'!AS16) -> 0
A17: 1.3.2 | B17: ²Û¹ ÃíáõÙª ÑáÕ³Ù³ëÇ ÝÏ³ïÙ³Ùµ û·ï³·áñÍÙ³Ý Çñ³íáõÝùÁ ×³Ý³ã»Éáõ í»ñ³µ»ñÛ³É | E17: =SUM('Մ.Մարտիրոսյան:Գ. Հովհաննիսյան'!E17) -> 0 | F17: =SUM('Մ.Մարտիրոսյան:Գ. Հովհաննիսյան'!F17) -> 0 | G17: =SUM('Մ.Մարտիրոսյան:Գ. Հովհաննիսյան'!G17) -> 0 | H17: =SUM('Մ.Մարտիրոսյան:Գ. Հովհաննիսյան'!H17) -> 0 | I17: =SUM('Մ.Մարտիրոսյան:Գ. Հովհաննիսյան'!I17) -> 0 | J17: =SUM('Մ.Մարտիրոսյան:Գ. Հովհաննիսյան'!J17) -> 0 | K17: =SUM('Մ.Մարտիրոսյան:Գ. Հովհաննիսյան'!K17) -> 0 | L17: =SUM('Մ.Մարտիրոսյան:Գ. Հովհաննիսյան'!L17) -> 0 | ... AS17: =SUM('Մ.Մարտիրոսյան:Գ. Հովհաննիսյան'!AS17) -> 0
A18: 1.4 | B18: ¶áõÛùÇ ÝÏ³ïÙ³Ùµ û·ï³·áñÍÙ³Ý Çñ³íáõÝùÁ ¹³¹³ñ»óÝ»Éáõ í»ñ³µ»ñÛ³É | E18: =SUM('Մ.Մարտիրոսյան:Գ. Հովհաննիսյան'!E18) -> 0 | F18: =SUM('Մ.Մարտիրոսյան:Գ. Հովհաննիսյան'!F18) -> 0 | G18: =SUM('Մ.Մարտիրոսյան:Գ. Հովհաննիսյան'!G18) -> 0 | H18: =SUM('Մ.Մարտիրոսյան:Գ. Հովհաննիսյան'!H18) -> 0 | I18: =SUM('Մ.Մարտիրոսյան:Գ. Հովհաննիսյան'!I18) -> 0 | J18: =SUM('Մ.Մարտիրոսյան:Գ. Հովհաննիսյան'!J18) -> 0 | K18: =SUM('Մ.Մարտիրոսյան:Գ. Հովհաննիսյան'!K18) -> 0 | L18: =SUM('Մ.Մարտիրոսյան:Գ. Հովհաննիսյան'!L18) -> 0 | ... AS18: =SUM('Մ.Մարտիրոսյան:Գ. Հովհաննիսյան'!AS18) -> 0
A19: 1.4.1 | B19: ²Û¹ ÃíáõÙª µÝ³Ïû·ï³·áñÍÙ³Ý Çñ³íáõÝùÁ ¹³¹³ñ»óÝ»Éáõ í»ñ³µ»ñÛ³É | E19: =SUM('Մ.Մարտիրոսյան:Գ. Հովհաննիսյան'!E19) -> 0 | F19: =SUM('Մ.Մարտիրոսյան:Գ. Հովհաննիսյան'!F19) -> 0 | G19: =SUM('Մ.Մարտիրոսյան:Գ. Հովհաննիսյան'!G19) -> 0 | H19: =SUM('Մ.Մարտիրոսյան:Գ. Հովհաննիսյան'!H19) -> 0 | I19: =SUM('Մ.Մարտիրոսյան:Գ. Հովհաննիսյան'!I19) -> 0 | J19: =SUM('Մ.Մարտիրոսյան:Գ. Հովհաննիսյան'!J19) -> 1 | K19: =SUM('Մ.Մարտիրոսյան:Գ. Հովհաննիսյան'!K19) -> 1 | L19: =SUM('Մ.Մարտիրոսյան:Գ. Հովհաննիսյան'!L19) -> 0 | ... AS19: =SUM('Մ.Մարտիրոսյան:Գ. Հովհաննիսյան'!AS19) -> 0
A20: 1.4.1/1 | B20: ²Û¹ ÃíáõÙª ÷áËÑ³ïáõóÙ³Ùµ | E20: =SUM('Մ.Մարտիրոսյան:Գ. Հովհաննիսյան'!E20) -> 0 | F20: =SUM('Մ.Մարտիրոսյան:Գ. Հովհաննիսյան'!F20) -> 0 | G20: =SUM('Մ.Մարտիրոսյան:Գ. Հովհաննիսյան'!G20) -> 0 | H20: =SUM('Մ.Մարտիրոսյան:Գ. Հովհաննիսյան'!H20) -> 0 | I20: =SUM('Մ.Մարտիրոսյան:Գ. Հովհաննիսյան'!I20) -> 0 | J20: =SUM('Մ.Մարտիրոսյան:Գ. Հովհաննիսյան'!J20) -> 0 | K20: =SUM('Մ.Մարտիրոսյան:Գ. Հովհաննիսյան'!K20) -> 0 | L20: =SUM('Մ.Մարտիրոսյան:Գ. Հովհաննիսյան'!L20) -> 0 | ... AS20: =SUM('Մ.Մարտիրոսյան:Գ. Հովհաննիսյան'!AS20) -> 0
A21: 1.5 | B21: ´Ý³Ï³ñ³ÝÇó/ ï³ñ³ÍùÇó/ íï³ñ»Éáõ í»ñ³µ»ñÛ³É | E21: =SUM('Մ.Մարտիրոսյան:Գ. Հովհաննիսյան'!E21) -> 6 | F21: =SUM('Մ.Մարտիրոսյան:Գ. Հովհաննիսյան'!F21) -> 5 | G21: =SUM('Մ.Մարտիրոսյան:Գ. Հովհաննիսյան'!G21) -> 1 | H21: =SUM('Մ.Մարտիրոսյան:Գ. Հովհաննիսյան'!H21) -> 0 | I21: =SUM('Մ.Մարտիրոսյան:Գ. Հովհաննիսյան'!I21) -> 0 | J21: =SUM('Մ.Մարտիրոսյան:Գ. Հովհաննիսյան'!J21) -> 15 | K21: =SUM('Մ.Մարտիրոսյան:Գ. Հովհաննիսյան'!K21) -> 14 | L21: =SUM('Մ.Մարտիրոսյան:Գ. Հովհաննիսյան'!L21) -> 1 | ... AS21: =SUM('Մ.Մարտիրոսյան:Գ. Հովհաննիսյան'!AS21) -> 0
A22: 1.6 | B22: ¶áõÛùÝ áõñÇßÇ ³åûñÇÝÇ ïÇñ³å»ïáõÙÇó »ï í»ñ³¹³ñÓÝ»Éáõ í»ñ³µ»ñÛ³É | E22: =SUM('Մ.Մարտիրոսյան:Գ. Հովհաննիսյան'!E22) -> 17 | F22: =SUM('Մ.Մարտիրոսյան:Գ. Հովհաննիսյան'!F22) -> 11 | G22: =SUM('Մ.Մարտիրոսյան:Գ. Հովհաննիսյան'!G22) -> 6 | H22: =SUM('Մ.Մարտիրոսյան:Գ. Հովհաննիսյան'!H22) -> 0 | I22: =SUM('Մ.Մարտիրոսյան:Գ. Հովհաննիսյան'!I22) -> 0 | J22: =SUM('Մ.Մարտիրոսյան:Գ. Հովհաննիսյան'!J22) -> 16 | K22: =SUM('Մ.Մարտիրոսյան:Գ. Հովհաննիսյան'!K22) -> 14 | L22: =SUM('Մ.Մարտիրոսյան:Գ. Հովհաննիսյան'!L22) -> 2 | ... AS22: =SUM('Մ.Մարտիրոսյան:Գ. Հովհաննիսյան'!AS22) -> 0
A23: 1.6.1 | B23: ´³ñ»ËÇÕ× Ó»éùµ»ñáÕÇó Çñ ·áõÛùÁ Ñ»ï å³Ñ³Ýç»Éáõ í»ñ³µ»ñÛ³É | E23: =SUM('Մ.Մարտիրոսյան:Գ. Հովհաննիսյան'!E23) -> 0 | F23: =SUM('Մ.Մարտիրոսյան:Գ. Հովհաննիսյան'!F23) -> 0 | G23: =SUM('Մ.Մարտիրոսյան:Գ. Հովհաննիսյան'!G23) -> 0 | H23: =SUM('Մ.Մարտիրոսյան:Գ. Հովհաննիսյան'!H23) -> 0 | I23: =SUM('Մ.Մարտիրոսյան:Գ. Հովհաննիսյան'!I23) -> 0 | J23: =SUM('Մ.Մարտիրոսյան:Գ. Հովհաննիսյան'!J23) -> 0 | K23: =SUM('Մ.Մարտիրոսյան:Գ. Հովհաննիսյան'!K23) -> 0 | L23: =SUM('Մ.Մարտիրոսյան:Գ. Հովհաննիսյան'!L23) -> 0 | ... AS23: =SUM('Մ.Մարտիրոսյան:Գ. Հովհաննիսյան'!AS23) -> 0
A24: 1.7 | B24: îÇñ³å»ïáõÙÇó ½ñÏ»Éáõ Ñ»ï ãÏ³åí³Í Çñ³íáõÝùÝ»ñÇ Ë³ËïáõÙÁ í»ñ³óÝ»Éáõ í»ñ³µ»ñÛ³É | E24: =SUM('Մ.Մարտիրոսյան:Գ. Հովհաննիսյան'!E24) -> 1 | F24: =SUM('Մ.Մարտիրոսյան:Գ. Հովհաննիսյան'!F24) -> 1 | G24: =SUM('Մ.Մարտիրոսյան:Գ. Հովհաննիսյան'!G24) -> 0 | H24: =SUM('Մ.Մարտիրոսյան:Գ. Հովհաննիսյան'!H24) -> 0 | I24: =SUM('Մ.Մարտիրոսյան:Գ. Հովհաննիսյան'!I24) -> 0 | J24: =SUM('Մ.Մարտիրոսյան:Գ. Հովհաննիսյան'!J24) -> 0 | K24: =SUM('Մ.Մարտիրոսյան:Գ. Հովհաննիսյան'!K24) -> 0 | L24: =SUM('Մ.Մարտիրոսյան:Գ. Հովհաննիսյան'!L24) -> 0 | ... AS24: =SUM('Մ.Մարտիրոսյան:Գ. Հովհաննիսյան'!AS24) -> 0
A25: 1.8 | B25: ÀÝ¹Ñ³Ýáõñ µ³ÅÝ³ÛÇÝ ë»÷³Ï³ÝáõÃÛáõÝÇó µ³ÅÇÝÝ ³é³ÝÓÝ³óÝ»Éáõ í»ñ³µ»ñÛ³É | E25: =SUM('Մ.Մարտիրոսյան:Գ. Հովհաննիսյան'!E25) -> 46 | F25: =SUM('Մ.Մարտիրոսյան:Գ. Հովհաննիսյան'!F25) -> 25 | G25: =SUM('Մ.Մարտիրոսյան:Գ. Հովհաննիսյան'!G25) -> 21 | H25: =SUM('Մ.Մարտիրոսյան:Գ. Հովհաննիսյան'!H25) -> 0 | I25: =SUM('Մ.Մարտիրոսյան:Գ. Հովհաննիսյան'!I25) -> 0 | J25: =SUM('Մ.Մարտիրոսյան:Գ. Հովհաննիսյան'!J25) -> 132 | K25: =SUM('Մ.Մարտիրոսյան:Գ. Հովհաննիսյան'!K25) -> 113 | L25: =SUM('Մ.Մարտիրոսյան:Գ. Հովհաննիսյան'!L25) -> 19 | ... AS25: =SUM('Մ.Մարտիրոսյան:Գ. Հովհաննիսյան'!AS25) -> 0
A26: 1.8.1 | B26: Ð³Ù³ï»Õ ë»÷³Ï³ÝáõÃÛ³Ý Ý»ñùá ·ïÝíáÕ ·áõÛùÁ µ³Å³Ý»Éáõ ¨ ¹ñ³ÝÇó µ³ÅÇÝÝ ³é³ÝÓÝ³óÝ»Éáõ í»ñ³µ»ñÛ³É | E26: =SUM('Մ.Մարտիրոսյան:Գ. Հովհաննիսյան'!E26) -> 63 | F26: =SUM('Մ.Մարտիրոսյան:Գ. Հովհաննիսյան'!F26) -> 32 | G26: =SUM('Մ.Մարտիրոսյան:Գ. Հովհաննիսյան'!G26) -> 31 | H26: =SUM('Մ.Մարտիրոսյան:Գ. Հովհաննիսյան'!H26) -> 0 | I26: =SUM('Մ.Մարտիրոսյան:Գ. Հովհաննիսյան'!I26) -> 0 | J26: =SUM('Մ.Մարտիրոսյան:Գ. Հովհաննիսյան'!J26) -> 82 | K26: =SUM('Մ.Մարտիրոսյան:Գ. Հովհաննիսյան'!K26) -> 70 | L26: =SUM('Մ.Մարտիրոսյան:Գ. Հովհաննիսյան'!L26) -> 12 | ... AS26: =SUM('Մ.Մարտիրոսյան:Գ. Հովհաննիսյան'!AS26) -> 0
... A28: 1.9 | B28: ²ÛÉ í»×»ñ | E28: =SUM('Մ.Մարտիրոսյան:Գ. Հովհաննիսյան'!E28) -> 24 | F28: =SUM('Մ.Մարտիրոսյան:Գ. Հովհաննիսյան'!F28) -> 12 | G28: =SUM('Մ.Մարտիրոսյան:Գ. Հովհաննիսյան'!G28) -> 12 | H28: =SUM('Մ.Մարտիրոսյան:Գ. Հովհաննիսյան'!H28) -> 0 | I28: =SUM('Մ.Մարտիրոսյան:Գ. Հովհաննիսյան'!I28) -> 0 | J28: =SUM('Մ.Մարտիրոսյան:Գ. Հովհաննիսյան'!J28) -> 51 | K28: =SUM('Մ.Մարտիրոսյան:Գ. Հովհաննիսյան'!K28) -> 41 | L28: =SUM('Մ.Մարտիրոսյան:Գ. Հովհաննիսյան'!L28) -> 9 | ... AS28: =SUM('Մ.Մարտիրոսյան:Գ. Հովհաննիսյան'!AS28) -> 0
A29: 2. | B29: ¶áñÍ³ñùÝ»ñÇ Ñ»ï Ï³åí³Í Çñ³í³Ñ³ñ³µ»ñáõÃÛáõÝÝ»ñÇ í»ñ³µ»ñÛ³É ¹³ï³Ï³Ý ·áñÍ»ñ | E29: =SUM(E30:E40) -> 22 | F29: =SUM(F30:F40) -> 10 | G29: =SUM(G30:G40) -> 12 | H29: =SUM(H30:H40) -> 0 | I29: =SUM(I30:I40) -> 0 | J29: =SUM(J30:J40) -> 61 | K29: =SUM(K30:K40) -> 50 | L29: =SUM(L30:L40) -> 8 | ... AS29: =SUM(AS30:AS40) -> 0
A30: 2.1 | B30: ·áñÍ³ñùÝ»ñÇ ³Ýí³í»ñáõÃÛ³Ý Ñ»ï Ï³åí³Í í»×»ñ | E30: =SUM('Մ.Մարտիրոսյան:Գ. Հովհաննիսյան'!E30) -> 0 | F30: =SUM('Մ.Մարտիրոսյան:Գ. Հովհաննիսյան'!F30) -> 0 | G30: =SUM('Մ.Մարտիրոսյան:Գ. Հովհաննիսյան'!G30) -> 0 | H30: =SUM('Մ.Մարտիրոսյան:Գ. Հովհաննիսյան'!H30) -> 0 | I30: =SUM('Մ.Մարտիրոսյան:Գ. Հովհաննիսյան'!I30) -> 0 | J30: =SUM('Մ.Մարտիրոսյան:Գ. Հովհաննիսյան'!J30) -> 5 | K30: =SUM('Մ.Մարտիրոսյան:Գ. Հովհաննիսյան'!K30) -> 4 | L30: =SUM('Մ.Մարտիրոսյան:Գ. Հովհաննիսյան'!L30) -> 1 | ... AS30: =SUM('Մ.Մարտիրոսյան:Գ. Հովհաննիսյան'!AS30) -> 0
A31: 2.1.1 | B31: ³Û¹ ÃíáõÙ` íÇ×³Ñ³ñáõÛó ·áñÍ³ñùÝ»ñÝ ³Ýí³í»ñ ×³Ý³ã»Éáõ í»ñ³µ»ñÛ³É | E31: =SUM('Մ.Մարտիրոսյան:Գ. Հովհաննիսյան'!E31) -> 0 | F31: =SUM('Մ.Մարտիրոսյան:Գ. Հովհաննիսյան'!F31) -> 0 | G31: =SUM('Մ.Մարտիրոսյան:Գ. Հովհաննիսյան'!G31) -> 0 | H31: =SUM('Մ.Մարտիրոսյան:Գ. Հովհաննիսյան'!H31) -> 0 | I31: =SUM('Մ.Մարտիրոսյան:Գ. Հովհաննիսյան'!I31) -> 0 | J31: =SUM('Մ.Մարտիրոսյան:Գ. Հովհաննիսյան'!J31) -> 0 | K31: =SUM('Մ.Մարտիրոսյան:Գ. Հովհաննիսյան'!K31) -> 0 | L31: =SUM('Մ.Մարտիրոսյան:Գ. Հովհաննիսյան'!L31) -> 0 | ... AS31: =SUM('Մ.Մարտիրոսյան:Գ. Հովհաննիսյան'!AS31) -> 0
A32: 2.1.2 | B32: ³Û¹ ÃíáõÙ` ·áñÍ³ñùÇ ³éáãÝãáõÃÛ³Ý Ñ»ï¨³ÝùÝ»ñ ÏÇñ³é»Éáõ í»ñ³µ»ñÛ³É | E32: =SUM('Մ.Մարտիրոսյան:Գ. Հովհաննիսյան'!E32) -> 1 | F32: =SUM('Մ.Մարտիրոսյան:Գ. Հովհաննիսյան'!F32) -> 0 | G32: =SUM('Մ.Մարտիրոսյան:Գ. Հովհաննիսյան'!G32) -> 1 | H32: =SUM('Մ.Մարտիրոսյան:Գ. Հովհաննիսյան'!H32) -> 0 | I32: =SUM('Մ.Մարտիրոսյան:Գ. Հովհաննիսյան'!I32) -> 0 | J32: =SUM('Մ.Մարտիրոսյան:Գ. Հովհաննիսյան'!J32) -> 5 | K32: =SUM('Մ.Մարտիրոսյան:Գ. Հովհաննիսյան'!K32) -> 4 | L32: =SUM('Մ.Մարտիրոսյան:Գ. Հովհաննիսյան'!L32) -> 1 | ... AS32: =SUM('Մ.Մարտիրոսյան:Գ. Հովհաննիսյան'!AS32) -> 0
A33: 2.2 | B33: ¶áñÍ³ñùÁ í³í»ñ ×³Ý³ã»Éáõ í»ñ³µ»ñÛ³É | E33: =SUM('Մ.Մարտիրոսյան:Գ. Հովհաննիսյան'!E33) -> 4 | F33: =SUM('Մ.Մարտիրոսյան:Գ. Հովհաննիսյան'!F33) -> 0 | G33: =SUM('Մ.Մարտիրոսյան:Գ. Հովհաննիսյան'!G33) -> 4 | H33: =SUM('Մ.Մարտիրոսյան:Գ. Հովհաննիսյան'!H33) -> 0 | I33: =SUM('Մ.Մարտիրոսյան:Գ. Հովհաննիսյան'!I33) -> 0 | J33: =SUM('Մ.Մարտիրոսյան:Գ. Հովհաննիսյան'!J33) -> 21 | K33: =SUM('Մ.Մարտիրոսյան:Գ. Հովհաննիսյան'!K33) -> 17 | L33: =SUM('Մ.Մարտիրոսյան:Գ. Հովհաննիսյան'!L33) -> 2 | ... AS33: =SUM('Մ.Մարտիրոսյան:Գ. Հովհաննիսյան'!AS33) -> 0
A34: 2.3 | B34: ¶áñÍ³ñùÇó Í³·áÕ Çñ³íáõÝùÝ»ñÁ ·ñ³Ýó»Éáõ í»ñ³µ»ñÛ³É | E34: =SUM('Մ.Մարտիրոսյան:Գ. Հովհաննիսյան'!E34) -> 0 | F34: =SUM('Մ.Մարտիրոսյան:Գ. Հովհաննիսյան'!F34) -> 0 | G34: =SUM('Մ.Մարտիրոսյան:Գ. Հովհաննիսյան'!G34) -> 0 | H34: =SUM('Մ.Մարտիրոսյան:Գ. Հովհաննիսյան'!H34) -> 0 | I34: =SUM('Մ.Մարտիրոսյան:Գ. Հովհաննիսյան'!I34) -> 0 | J34: =SUM('Մ.Մարտիրոսյան:Գ. Հովհաննիսյան'!J34) -> 0 | K34: =SUM('Մ.Մարտիրոսյան:Գ. Հովհաննիսյան'!K34) -> 0 | L34: =SUM('Մ.Մարտիրոսյան:Գ. Հովհաննիսյան'!L34) -> 0 | ... AS34: =SUM('Մ.Մարտիրոսյան:Գ. Հովհաննիսյան'!AS34) -> 0
A35: 2.4 | B35: ä³ÛÙ³Ý³·ÇñÝ ³Ýí³í»ñ ×³Ý³ã»Éáõ í»ñ³µ»ñÛ³É | E35: =SUM('Մ.Մարտիրոսյան:Գ. Հովհաննիսյան'!E35) -> 8 | F35: =SUM('Մ.Մարտիրոսյան:Գ. Հովհաննիսյան'!F35) -> 5 | G35: =SUM('Մ.Մարտիրոսյան:Գ. Հովհաննիսյան'!G35) -> 3 | H35: =SUM('Մ.Մարտիրոսյան:Գ. Հովհաննիսյան'!H35) -> 0 | I35: =SUM('Մ.Մարտիրոսյան:Գ. Հովհաննիսյան'!I35) -> 0 | J35: =SUM('Մ.Մարտիրոսյան:Գ. Հովհաննիսյան'!J35) -> 9 | K35: =SUM('Մ.Մարտիրոսյան:Գ. Հովհաննիսյան'!K35) -> 8 | L35: =SUM('Մ.Մարտիրոսյան:Գ. Հովհաննիսյան'!L35) -> 1 | ... AS35: =SUM('Մ.Մարտիրոսյան:Գ. Հովհաննիսյան'!AS35) -> 0
A36: 2.5 | B36: ä³ÛÙ³Ý³·ñÇÁ í³í»ñ ×³Ý³ã»Éáõ í»ñ³µ»ñÛ³É | E36: =SUM('Մ.Մարտիրոսյան:Գ. Հովհաննիսյան'!E36) -> 1 | F36: =SUM('Մ.Մարտիրոսյան:Գ. Հովհաննիսյան'!F36) -> 0 | G36: =SUM('Մ.Մարտիրոսյան:Գ. Հովհաննիսյան'!G36) -> 1 | H36: =SUM('Մ.Մարտիրոսյան:Գ. Հովհաննիսյան'!H36) -> 0 | I36: =SUM('Մ.Մարտիրոսյան:Գ. Հովհաննիսյան'!I36) -> 0 | J36: =SUM('Մ.Մարտիրոսյան:Գ. Հովհաննիսյան'!J36) -> 12 | K36: =SUM('Մ.Մարտիրոսյան:Գ. Հովհաննիսյան'!K36) -> 10 | L36: =SUM('Մ.Մարտիրոսյան:Գ. Հովհաննիսյան'!L36) -> 2 | ... AS36: =SUM('Մ.Մարտիրոսյան:Գ. Հովհաննիսյան'!AS36) -> 0
A37: 2.6 | B37: ä³ÛÙ³Ý³·ñÇó Í³·áÕ Çñ³íáõÝùÝ»ñÁ ·ñ³Ýó»Éáõ í»ñ³µ»ñÛ³É | E37: =SUM('Մ.Մարտիրոսյան:Գ. Հովհաննիսյան'!E37) -> 0 | F37: =SUM('Մ.Մարտիրոսյան:Գ. Հովհաննիսյան'!F37) -> 0 | G37: =SUM('Մ.Մարտիրոսյան:Գ. Հովհաննիսյան'!G37) -> 0 | H37: =SUM('Մ.Մարտիրոսյան:Գ. Հովհաննիսյան'!H37) -> 0 | I37: =SUM('Մ.Մարտիրոսյան:Գ. Հովհաննիսյան'!I37) -> 0 | J37: =SUM('Մ.Մարտիրոսյան:Գ. Հովհաննիսյան'!J37) -> 2 | K37: =SUM('Մ.Մարտիրոսյան:Գ. Հովհաննիսյան'!K37) -> 1 | L37: =SUM('Մ.Մարտիրոսյան:Գ. Հովհաննիսյան'!L37) -> 1 | ... AS37: =SUM('Մ.Մարտիրոսյան:Գ. Հովհաննիսյան'!AS37) -> 0
A38: 2.7 | B38: ä³ÛÙ³Ý³·ÇñÁ ÷á÷áË»Éáõ ¨ ÉáõÍ»Éáõ í»ñ³µ»ñÛ³É | E38: =SUM('Մ.Մարտիրոսյան:Գ. Հովհաննիսյան'!E38) -> 2 | F38: =SUM('Մ.Մարտիրոսյան:Գ. Հովհաննիսյան'!F38) -> 0 | G38: =SUM('Մ.Մարտիրոսյան:Գ. Հովհաննիսյան'!G38) -> 2 | H38: =SUM('Մ.Մարտիրոսյան:Գ. Հովհաննիսյան'!H38) -> 0 | I38: =SUM('Մ.Մարտիրոսյան:Գ. Հովհաննիսյան'!I38) -> 0 | J38: =SUM('Մ.Մարտիրոսյան:Գ. Հովհաննիսյան'!J38) -> 4 | K38: =SUM('Մ.Մարտիրոսյան:Գ. Հովհաննիսյան'!K38) -> 4 | L38: =SUM('Մ.Մարտիրոսյան:Գ. Հովհաննիսյան'!L38) -> 0 | ... AS38: =SUM('Մ.Մարտիրոսյան:Գ. Հովհաննիսյան'!AS38) -> 0
A39: 2.8 | B39: ä³ÛÙ³Ý³·Çñ ÏÝù»ÉáõÝ å³ñï³íáñ»óÝ»Éáõ í»ñ³µ»ñÛ³É | E39: =SUM('Մ.Մարտիրոսյան:Գ. Հովհաննիսյան'!E39) -> 3 | F39: =SUM('Մ.Մարտիրոսյան:Գ. Հովհաննիսյան'!F39) -> 2 | G39: =SUM('Մ.Մարտիրոսյան:Գ. Հովհաննիսյան'!G39) -> 1 | H39: =SUM('Մ.Մարտիրոսյան:Գ. Հովհաննիսյան'!H39) -> 0 | I39: =SUM('Մ.Մարտիրոսյան:Գ. Հովհաննիսյան'!I39) -> 0 | J39: =SUM('Մ.Մարտիրոսյան:Գ. Հովհաննիսյան'!J39) -> 0 | K39: =SUM('Մ.Մարտիրոսյան:Գ. Հովհաննիսյան'!K39) -> 0 | L39: =SUM('Մ.Մարտիրոսյան:Գ. Հովհաննիսյան'!L39) -> 0 | ... AS39: =SUM('Մ.Մարտիրոսյան:Գ. Հովհաննիսյան'!AS39) -> 0
A40: 2.9 | B40: ²ÛÉ í»×»ñ | E40: =SUM('Մ.Մարտիրոսյան:Գ. Հովհաննիսյան'!E40) -> 3 | F40: =SUM('Մ.Մարտիրոսյան:Գ. Հովհաննիսյան'!F40) -> 3 | G40: =SUM('Մ.Մարտիրոսյան:Գ. Հովհաննիսյան'!G40) -> 0 | H40: =SUM('Մ.Մարտիրոսյան:Գ. Հովհաննիսյան'!H40) -> 0 | I40: =SUM('Մ.Մարտիրոսյան:Գ. Հովհաննիսյան'!I40) -> 0 | J40: =SUM('Մ.Մարտիրոսյան:Գ. Հովհաննիսյան'!J40) -> 3 | K40: =SUM('Մ.Մարտիրոսյան:Գ. Հովհաննիսյան'!K40) -> 2 | L40: =SUM('Մ.Մարտիրոսյան:Գ. Հովհաննիսյան'!L40) -> 0 | ... AS40: =SUM('Մ.Մարտիրոսյան:Գ. Հովհաննիսյան'!AS40) -> 0
A41: 3. | B41: Ä³é³Ý·áõÃÛ³Ý Ñ»ï Ï³åí³Í Çñ³í³Ñ³ñ³µ»ñáõÃÛáõÝÝ»ñÇ í»ñ³µ»ñÛ³É ¹³ï³Ï³Ý ·áñÍ»ñ | E41: =SUM(E42:E48) -> 17 | F41: =SUM(F42:F48) -> 2 | G41: =SUM(G42:G48) -> 15 | H41: =SUM(H42:H48) -> 0 | I41: =SUM(I42:I48) -> 0 | J41: =SUM(J42:J48) -> 27 | K41: =SUM(K42:K48) -> 17 | L41: =SUM(L42:L48) -> 10 | ... AS41: =SUM(AS42:AS48) -> 0
...

Sheet Մ.Մարտիրոսյան
A1: 2017թ. | G1: Ð²ÞìºîìàôÂÚàôÜ | AM1: Ð³í»Éí³Í Ð³Û³ëï³ÝÇ Ð³Ýñ³å»ïáõÃÛ³Ý ¸³ï³ñ³ÝÝ»ñÇ Ý³Ë³·³ÑÝ»ñÇ ËáñÑñ¹Ç 29.01.2018Ã. ÃÇí 10-È áñáßÙ³Ý
A2: ՀՀ ÞÆð²ÎÆ ՄԱՐԶԻ ÀÜ¸Ð²Üàôð Æð²ì²êàôÂÚ²Ü ²è²æÆÜ ²îÚ²ÜÆ ¸²î²ð²ÜÆ ¸²î²ìàð | Z2: Մ. ՄԱՐՏԻՐՈՍÚ²ÜÆ | AH2: ¶àðÌàôÜºàôÂÚ²Ü ìºð²´ºðÚ²È
A3: ø²Ô²ø²òÆ²Î²Ü ¶àðÌºðàì
A4: ՀՀ ÞÇñ³ÏÇ մարզի ÁÝ¹Ñ³Ýáõñ Çñ³í³ëáõÃÛ³Ý ³é³çÇÝ ³ïÛ³ÝÇ ¹³ï³ñ³ÝÇ ù³Õ³ù³óÇ³Ï³Ý Ù³ëÝ³·Çï³óáõÙ áõÝ»óáÕ ¹³ï³íáñÝ»ñÇ Ñ³ëïÇùÝ»ñÇ ù³Ý³ÏÁ` 9
E5: Ð³ßí»ïáõ Å³Ù³Ý³Ï³Ñ³ïí³ÍáõÙ Ý³Ëáñ¹ Ñ³ßí»ïáõ Å³Ù³Ý³Ï³Ñ³ïí³ÍÇó ÷áË³Ýóí³Í ·áñÍ»ñÇ ÁÝ¹Ñ³Ýáõñ ÃÇíÁ | J5: Ð³ßí»ïáõ Å³Ù³Ý³Ï³Ñ³ïí³ÍáõÙëï³óí³Í ·áñÍ»ñÇ (³Û¹ ÃíáõÙ` Ñ³Ûó³¹ÇÙáõÙÝ»ñÇ, ¹ÇÙáõÙÝ»ñÇ) ÁÝ¹Ñ³Ýáõñ ÃÇíÁ | N5: öáË³Ýóí»É ¿ ³ÛÉ ¹³ï³íáñÇ (Ï³½ÙÇ ÷á÷áËáõÃÛáõÝ) | O5: Ð³ßí»ïáõ Å³Ù³Ý³Ï³Ñ³ïí³ÍáõÙ ³í³ñïí³Í ·áñÍ»ñÇ ÁÝ¹Ñ³Ýáõñ ÃÇíÁ | Z5: ¶áñÍÝ áõÕ³ñÏí»É ¿ Áëï ÁÝ¹¹³ïáõÃÛ³Ý | AA5: Ð³ßí»ïáõ Å³Ù³Ý³Ï³Ñ³ïí³ÍáõÙ Ï³ë»óí³Í í³ñáõÛÃÝ»ñáí ·áñÍ»ñÇ ÁÝ¹Ñ³Ýáõñ ÃÇíÁ | AB5: Ð³ßí»ïáõ Å³Ù³Ý³Ï³Ñ³ïí³ÍáõÙ ³Ý³í³ñï ·áñÍ»ñÇ ÁÝ¹Ñ³Ýáõñ ÃÇíÁ | AC5: ²Û¹ ÃíáõÙª Ï³ë»óí³Í | AD5: ´áÕáù³ñÏí³Í ¹³ï³Ï³Ý ³Ïï»ñÁ | AI5: ²í³ñïí³Í ¹³ï³Ï³Ý ·áñÍ»ñÇ µáÕáù³ñÏÙ³Ý ïáÏáëÁ (Ñ³ßí»ïáõ Å³Ù³Ý³Ï³ßñç³ÝáõÙ) | AJ5: ²Ý³í³ñï µáÕáùÝ»ñ | AK5: ´»Ï³Ýí³Í ¹³ï³Ï³Ý ³Ïï»ñÁ | AP5: µ»Ï³ÝáõÙÝ»ñÇ ïáÏáëÁ ³í³ñïí³Í ·áñÍ»ñÇó(Ñ³ßí»ïáõ Å³Ù³Ý³Ï³ßñç³ÝáõÙ) | AQ5: Î³ÛáõÝáõÃÛ³Ý ïáÏáëÁ ³í³ñïí³Í ·áñÍ»ñÇó(Ñ³ßí»ïáõ Å³Ù³Ý³Ï³ßñç³ÝáõÙ) | AR5: µ»Ï³ÝáõÙÝ»ñÇ ïáÏáëÁ µáÕáù³ñÏí³Í ·áñÍ»ñÇó(Ñ³ßí»ïáõ Å³Ù³Ý³Ï³ßñç³ÝáõÙ) | AS5: Ï³ÛáõÝáõÃÛ³Ý ïáÏáëÁ(Ñ³ßí»ïáõ Å³Ù³Ý³Ï³ßñç³ÝáõÙ)
E6: ÀÝ¹³Ù»ÝÁ | F6: ²Û¹ ÃíáõÙ`Ï³ë»óí³Í íÇ×³ÏáõÙ ÷áË³Ýóí³Í | G6: ²Û¹ ÃíáõÙª ÁÝ¹áõÝí»É ¿ í³ñáõÛÃ | H6: ²Û¹ ÃíáõÙª í»ñ³¹³ñÓí»É ¿ | I6: ²Û¹ ÃíáõÙª ÁÝ¹áõÝáõÙÁ Ù»ñÅí»É ¿ | J6: ÀÝ¹³Ù»ÝÁ | K6: ²Û¹ ÃíáõÙª ÁÝ¹áõÝí»É ¿ í³ñáõÛÃ | L6: ²Û¹ ÃíáõÙª í»ñ³¹³ñÓí»É ¿ | M6: ²Û¹ ÃíáõÙª ÁÝ¹áõÝáõÙÁ Ù»ñÅí»É ¿ | O6: ÀÝ¹³Ù»ÝÁ ³í³ñïí»É »Ý ·áñÍ»ñ ·áñÍÝ Áëï ¿áõÃÛ³Ý ÉáõÍáÕ ¹³ï³Ï³Ý ³Ïï»ñÇ (í×ÇéÝ»ñÇ) Ï³Û³óÙ³Ùµ | P6: ²Û¹ ÃíáõÙª Ñ³ÛóÇ µ³í³ñ³ñÙ³Ùµ | Q6: ²Û¹ ÃíáõÙª Ñ³ÛóÇ Ù³ëÝ³ÏÇ µ³í³ñ³ñÙ³Ùµ | R6: ²Û¹ ÃíáõÙª Ñ³ÛóÇ Ù»ñÅÙ³Ùµ | S6: Ø³ëáí Ï³ñ×í»É ¿, Ù³ëáí Ù»ñÅí»É | T6: ²Û¹ ÃíáõÙª Ï³ñ×í»É »Ý | X6: Ð³ÛóÁ ÃáÕÝí»É ¿ ³é³Ýó ùÝÝáõÃÛ³Ý | Y6: ÀÝ¹³Ù»ÝÝ ³í³ñïí»É »Ý ·áñÍ»ñ | AD6: ²Û¹ ÃíáõÙ` ·áñÍÝ Áëï ¿áõÃÛ³Ý ÉáõÍáÕ ¹³ï³Ï³Ý ³Ïï»ñÁ | AE6: ²Û¹ ÃíáõÙ` ÙÇç³ÝÏÛ³É ¹³ï³Ï³Ý ³Ïï»ñÁ | AF6: ÀÝ¹³Ù»ÝÁ | AG6: Ü³Ëáñ¹ ï³ñÇÝ»ñÇÝ Ï³Û³óí³Í ³Ïï»ñÇ µáÕáù³ñÏáõÙÁ Ñ³ßí»ïáõ Å³Ù³Ý³Ï³ßñç³ÝáõÙ | AH6: Ð³ßí»ïáõ Å³Ù³Ý³Ï³ßñç³ÝáõÙ Ï³Û³óí³Í ³Ïï»ñÇ µáÕáù³ñÏáõÙÁ | AK6: ²Û¹ ÃíáõÙ` ·áñÍÝ Áëï ¿áõÃÛ³Ý ÉáõÍáÕ ¹³ï³Ï³Ý ³Ïï»ñÁ | AL6: ²Û¹ ÃíáõÙ` ÙÇç³ÝÏÛ³É ¹³ï³Ï³Ý ³Ïï»ñÁ | AM6: ÀÝ¹³Ù»ÝÁ | AN6: Ü³Ëáñ¹ ï³ñÇÝ»ñÇÝ Ï³Û³óí³Í ³Ïï»ñÇ µ»Ï³ÝáõÙÝ»ñÁ Ñ³ßí»ïáõ Å³Ù³Ý³Ï³ßñç³ÝáõÙ | AO6: Ð³ßí»ïáõ Å³Ù³Ý³Ï³ßñç³ÝáõÙ Ï³Û³óí³Í ³Ïï»ñÇ µ»Ï³ÝáõÙÁ
T7: ÀÝ¹³Ù»ÝÁ Ï³ñ×í»É »Ý | U7: ²Û¹ ÃíáõÙª Ñ³ëï³ïí»É ¿ ÏÝùí³Í Ñ³ßïáõÃÛ³Ý Ñ³Ù³Ó³ÛÝáõÃÛáõÝÁ | V7: ²Û¹ ÃíáõÙª Ñ³óÇó, ¹ÇÙáõÙÇó Ññ³Å³ñí»Éáõ ÑÇÙùáí | W7: ²Û¹ ÃíáõÙª ³ÛÉ ÑÇÙùáí
E8: 1 | F8: 2 | G8: 3 | H8: 4 | I8: 5 | J8: 6 | K8: 7 | L8: 8 | M8: 9 | N8: 10 | O8: 11 | P8: 12 | Q8: 13 | R8: 14 | S8: 15 | T8: 16 | U8: 17 | V8: 18 | W8: 19 | X8: 20 | Y8: 21 | Z8: 22 | AA8: 23 | AB8: 24 | AC8: 25 | AD8: 26 | AE8: 27 | AF8: 28 | AG8: 29 | AH8: 30 | AI8: 31 | AJ8: 32 | AK8: 33 | AL8: 34 | AM8: 35 | AN8: 36 | AO8: 37 | AP8: 38 | AQ8: 39 | AR8: 40 | AS8: 41
A9: 1. | B9: ¶áõÛù³ÛÇÝ Çñ³í³Ñ³ñ³µ»ñáõÃÛáõÝÝ»ñÇ í»ñ³µ»ñÛ³É ¹³ï³Ï³Ý ·áñÍ»ñ | E9: =SUM(E10:E28) -> 26 | F9: =SUM(F10:F28) -> 22 | G9: =SUM(G10:G28) -> 4 | H9: =SUM(H10:H28) -> 0 | I9: =SUM(I10:I28) -> 0 | J9: =SUM(J10:J28) -> 0 | K9: =SUM(K10:K28) -> 0 | L9: =SUM(L10:L28) -> 0 | ... AS9: =SUM(AS10:AS28) -> 0
A10: 1.1 | B10: ¶áõÛùÇ ÝÏ³ïÙ³Ùµ ë»÷³Ï³ÝáõÃÛ³Ý Çñ³íáõÝùÁ ×³Ý³ã»Éáõ í»ñ³µ»ñÛ³É | E10: =+F10+G10+H10+I10 -> 3 | F10: 1 | G10: 2 | J10: =+K10+L10+M10 -> 0 | N10: 3 | O10: =+P10+Q10+R10+S10+T10 -> 0 | T10: =+U10+V10+W10 -> 0 | Y10: =+O10+X10 -> 0 | AF10: =+AG10+AH10 -> 0 | AM10: =+AK10+AL10 -> 0
A11: 1.1.1 | B11: ²Û¹ ÃíáõÙª Ó»éùµ»ñÙ³Ý í³Õ»ÙáõÃÛ³Ý áõÅáí | E11: =+F11+G11+H11+I11 -> 1 | G11: 1 | J11: =+K11+L11+M11 -> 0 | O11: =+P11+Q11+R11+S11+T11 -> 1 | T11: =+U11+V11+W11 -> 1 | V11: 1 | Y11: =+O11+X11 -> 1 | AF11: =+AG11+AH11 -> 0 | AM11: =+AK11+AL11 -> 0
A12: 1.1.2 | B12: ²Û¹ ÃíáõÙª ïÇñ³½áõñÏ ·áõÛùÇ ÝÏ³ïÙ³Ùµ | E12: =+F12+G12+H12+I12 -> 1 | G12: 1 | J12: =+K12+L12+M12 -> 0 | N12: 1 | O12: =+P12+Q12+R12+S12+T12 -> 0 | T12: =+U12+V12+W12 -> 0 | Y12: =+O12+X12 -> 0 | AF12: =+AG12+AH12 -> 0 | AM12: =+AK12+AL12 -> 0
A13: 1.1.3 | B13: ²Û¹ ÃíáõÙª ÇÝùÝ³Ï³Ù Ï³éáõÛóÇ ÝÏ³ïÙ³Ùµ | E13: =+F13+G13+H13+I13 -> 0 | J13: =+K13+L13+M13 -> 0 | O13: =+P13+Q13+R13+S13+T13 -> 0 | T13: =+U13+V13+W13 -> 0 | Y13: =+O13+X13 -> 0 | AF13: =+AG13+AH13 -> 0 | AM13: =+AK13+AL13 -> 0
A14: 1.2 | B14: ê»÷³Ï³ÝáõÃÛ³Ý Çñ³íáõÝùÇ ¹³¹³ñ»óÙ³Ý í»ñ³µ»ñÛ³É | E14: =+F14+G14+H14+I14 -> 0 | J14: =+K14+L14+M14 -> 0 | O14: =+P14+Q14+R14+S14+T14 -> 0 | T14: =+U14+V14+W14 -> 0 | Y14: =+O14+X14 -> 0 | AF14: =+AG14+AH14 -> 0 | AM14: =+AK14+AL14 -> 0
A15: 1.3 | B15: ¶áõÛùÇ ÝÏ³ïÙ³Ùµ û·ï³·áñÍÙ³Ý Çñ³íáõÝùÁ ×³Ý³ã»Éáõ í»ñ³µ»ñÛ³É | E15: =+F15+G15+H15+I15 -> 0 | J15: =+K15+L15+M15 -> 0 | O15: =+P15+Q15+R15+S15+T15 -> 0 | T15: =+U15+V15+W15 -> 0 | Y15: =+O15+X15 -> 0 | AF15: =+AG15+AH15 -> 0 | AM15: =+AK15+AL15 -> 0
A16: 1.3.1 | B16: ²Û¹ ÃíáõÙª µÝ³Ïû·ï³·áñÍÙ³Ý Çñ³íáõÝùÁ ×³Ý³ã»Éáõ í»ñ³µ»ñÛ³É | E16: =+F16+G16+H16+I16 -> 0 | J16: =+K16+L16+M16 -> 0 | O16: =+P16+Q16+R16+S16+T16 -> 0 | T16: =+U16+V16+W16 -> 0 | Y16: =+O16+X16 -> 0 | AF16: =+AG16+AH16 -> 0 | AM16: =+AK16+AL16 -> 0
A17: 1.3.2 | B17: ²Û¹ ÃíáõÙª ÑáÕ³Ù³ëÇ ÝÏ³ïÙ³Ùµ û·ï³·áñÍÙ³Ý Çñ³íáõÝùÁ ×³Ý³ã»Éáõ í»ñ³µ»ñÛ³É | E17: =+F17+G17+H17+I17 -> 0 | J17: =+K17+L17+M17 -> 0 | O17: =+P17+Q17+R17+S17+T17 -> 0 | T17: =+U17+V17+W17 -> 0 | Y17: =+O17+X17 -> 0 | AF17: =+AG17+AH17 -> 0 | AM17: =+AK17+AL17 -> 0
A18: 1.4 | B18: ¶áõÛùÇ ÝÏ³ïÙ³Ùµ û·ï³·áñÍÙ³Ý Çñ³íáõÝùÁ ¹³¹³ñ»óÝ»Éáõ í»ñ³µ»ñÛ³É | E18: =+F18+G18+H18+I18 -> 0 | J18: =+K18+L18+M18 -> 0 | O18: =+P18+Q18+R18+S18+T18 -> 0 | T18: =+U18+V18+W18 -> 0 | Y18: =+O18+X18 -> 0 | AF18: =+AG18+AH18 -> 0 | AM18: =+AK18+AL18 -> 0
A19: 1.4.1 | B19: ²Û¹ ÃíáõÙª µÝ³Ïû·ï³·áñÍÙ³Ý Çñ³íáõÝùÁ ¹³¹³ñ»óÝ»Éáõ í»ñ³µ»ñÛ³É | E19: =+F19+G19+H19+I19 -> 0 | J19: =+K19+L19+M19 -> 0 | O19: =+P19+Q19+R19+S19+T19 -> 0 | T19: =+U19+V19+W19 -> 0 | Y19: =+O19+X19 -> 0 | AF19: =+AG19+AH19 -> 0 | AM19: =+AK19+AL19 -> 0
A20: 1.4.1/1 | B20: ²Û¹ ÃíáõÙª ÷áËÑ³ïáõóÙ³Ùµ | E20: =+F20+G20+H20+I20 -> 0 | J20: =+K20+L20+M20 -> 0 | O20: =+P20+Q20+R20+S20+T20 -> 0 | T20: =+U20+V20+W20 -> 0 | Y20: =+O20+X20 -> 0 | AF20: =+AG20+AH20 -> 0 | AM20: =+AK20+AL20 -> 0
A21: 1.5 | B21: ´Ý³Ï³ñ³ÝÇó/ ï³ñ³ÍùÇó/ íï³ñ»Éáõ í»ñ³µ»ñÛ³É | E21: =+F21+G21+H21+I21 -> 0 | J21: =+K21+L21+M21 -> 0 | O21: =+P21+Q21+R21+S21+T21 -> 0 | T21: =+U21+V21+W21 -> 0 | Y21: =+O21+X21 -> 0 | AF21: =+AG21+AH21 -> 0 | AM21: =+AK21+AL21 -> 0
A22: 1.6 | B22: ¶áõÛùÝ áõñÇßÇ ³åûñÇÝÇ ïÇñ³å»ïáõÙÇó »ï í»ñ³¹³ñÓÝ»Éáõ í»ñ³µ»ñÛ³É | E22: =+F22+G22+H22+I22 -> 2 | F22: 2 | J22: =+K22+L22+M22 -> 0 | N22: 2 | O22: =+P22+Q22+R22+S22+T22 -> 0 | T22: =+U22+V22+W22 -> 0 | Y22: =+O22+X22 -> 0 | AF22: =+AG22+AH22 -> 0 | AM22: =+AK22+AL22 -> 0
A23: 1.6.1 | B23: ´³ñ»ËÇÕ× Ó»éùµ»ñáÕÇó Çñ ·áõÛùÁ Ñ»ï å³Ñ³Ýç»Éáõ í»ñ³µ»ñÛ³É | E23: =+F23+G23+H23+I23 -> 0 | J23: =+K23+L23+M23 -> 0 | O23: =+P23+Q23+R23+S23+T23 -> 0 | T23: =+U23+V23+W23 -> 0 | Y23: =+O23+X23 -> 0 | AF23: =+AG23+AH23 -> 0 | AM23: =+AK23+AL23 -> 0
A24: 1.7 | B24: îÇñ³å»ïáõÙÇó ½ñÏ»Éáõ Ñ»ï ãÏ³åí³Í Çñ³íáõÝùÝ»ñÇ Ë³ËïáõÙÁ í»ñ³óÝ»Éáõ í»ñ³µ»ñÛ³É | E24: =+F24+G24+H24+I24 -> 0 | J24: =+K24+L24+M24 -> 0 | O24: =+P24+Q24+R24+S24+T24 -> 0 | T24: =+U24+V24+W24 -> 0 | Y24: =+O24+X24 -> 0 | AF24: =+AG24+AH24 -> 0 | AM24: =+AK24+AL24 -> 0
A25: 1.8 | B25: ÀÝ¹Ñ³Ýáõñ µ³ÅÝ³ÛÇÝ ë»÷³Ï³ÝáõÃÛáõÝÇó µ³ÅÇÝÝ ³é³ÝÓÝ³óÝ»Éáõ í»ñ³µ»ñÛ³É | E25: =+F25+G25+H25+I25 -> 5 | F25: 5 | J25: =+K25+L25+M25 -> 0 | N25: 5 | O25: =+P25+Q25+R25+S25+T25 -> 0 | T25: =+U25+V25+W25 -> 0 | Y25: =+O25+X25 -> 0 | AF25: =+AG25+AH25 -> 0 | AM25: =+AK25+AL25 -> 0
A26: 1.8.1 | B26: Ð³Ù³ï»Õ ë»÷³Ï³ÝáõÃÛ³Ý Ý»ñùá ·ïÝíáÕ ·áõÛùÁ µ³Å³Ý»Éáõ ¨ ¹ñ³ÝÇó µ³ÅÇÝÝ ³é³ÝÓÝ³óÝ»Éáõ í»ñ³µ»ñÛ³É | E26: =+F26+G26+H26+I26 -> 11 | F26: 11 | J26: =+K26+L26+M26 -> 0 | N26: 11 | O26: =+P26+Q26+R26+S26+T26 -> 0 | T26: =+U26+V26+W26 -> 0 | Y26: =+O26+X26 -> 0 | AF26: =+AG26+AH26 -> 0 | AM26: =+AK26+AL26 -> 0
A27: 1.8.3 | B27: ¶áõÛùÇ íñ³ µéÝ³·³ÝÓáõÙ ï³ñ³Í»Éáõ å³Ñ³ÝçÇ Ù³ëÇÝ | E27: =+F27+G27+H27+I27 -> 1 | F27: 1 | J27: =+K27+L27+M27 -> 0 | N27: 1 | O27: =+P27+Q27+R27+S27+T27 -> 0 | T27: =+U27+V27+W27 -> 0 | Y27: =+O27+X27 -> 0 | AF27: =+AG27+AH27 -> 0 | AM27: =+AK27+AL27 -> 0
A28: 1.9 | B28: ²ÛÉ í»×»ñ | E28: =+F28+G28+H28+I28 -> 2 | F28: 2 | J28: =+K28+L28+M28 -> 0 | N28: 2 | O28: =+P28+Q28+R28+S28+T28 -> 0 | T28: =+U28+V28+W28 -> 0 | Y28: =+O28+X28 -> 0 | AF28: =+AG28+AH28 -> 0 | AM28: =+AK28+AL28 -> 0
A29: 2. | B29: ¶áñÍ³ñùÝ»ñÇ Ñ»ï Ï³åí³Í Çñ³í³Ñ³ñ³µ»ñáõÃÛáõÝÝ»ñÇ í»ñ³µ»ñÛ³É ¹³ï³Ï³Ý ·áñÍ»ñ | E29: =SUM(E30:E40) -> 3 | F29: =SUM(F30:F40) -> 1 | G29: =SUM(G30:G40) -> 2 | H29: =SUM(H30:H40) -> 0 | I29: =SUM(I30:I40) -> 0 | J29: =SUM(J30:J40) -> 0 | K29: =SUM(K30:K40) -> 0 | L29: =SUM(L30:L40) -> 0 | ... AS29: =SUM(AS30:AS40) -> 0
A30: 2.1 | B30: ·áñÍ³ñùÝ»ñÇ ³Ýí³í»ñáõÃÛ³Ý Ñ»ï Ï³åí³Í í»×»ñ | E30: =+F30+G30+H30+I30 -> 0 | J30: =+K30+L30+M30 -> 0 | O30: =+P30+Q30+R30+S30+T30 -> 0 | T30: =+U30+V30+W30 -> 0 | Y30: =+O30+X30 -> 0 | AF30: =+AG30+AH30 -> 0 | AM30: =+AK30+AL30 -> 0
A31: 2.1.1 | B31: ³Û¹ ÃíáõÙ` íÇ×³Ñ³ñáõÛó ·áñÍ³ñùÝ»ñÝ ³Ýí³í»ñ ×³Ý³ã»Éáõ í»ñ³µ»ñÛ³É | E31: =+F31+G31+H31+I31 -> 0 | J31: =+K31+L31+M31 -> 0 | O31: =+P31+Q31+R31+S31+T31 -> 0 | T31: =+U31+V31+W31 -> 0 | Y31: =+O31+X31 -> 0 | AF31: =+AG31+AH31 -> 0 | AM31: =+AK31+AL31 -> 0
A32: 2.1.2 | B32: ³Û¹ ÃíáõÙ` ·áñÍ³ñùÇ ³éáãÝãáõÃÛ³Ý Ñ»ï¨³ÝùÝ»ñ ÏÇñ³é»Éáõ í»ñ³µ»ñÛ³É | E32: =+F32+G32+H32+I32 -> 0 | J32: =+K32+L32+M32 -> 0 | O32: =+P32+Q32+R32+S32+T32 -> 0 | T32: =+U32+V32+W32 -> 0 | Y32: =+O32+X32 -> 0 | AF32: =+AG32+AH32 -> 0 | AM32: =+AK32+AL32 -> 0
A33: 2.2 | B33: ¶áñÍ³ñùÁ í³í»ñ ×³Ý³ã»Éáõ í»ñ³µ»ñÛ³É | E33: =+F33+G33+H33+I33 -> 0 | J33: =+K33+L33+M33 -> 0 | O33: =+P33+Q33+R33+S33+T33 -> 0 | T33: =+U33+V33+W33 -> 0 | Y33: =+O33+X33 -> 0 | AD33: 1 | AF33: =+AG33+AH33 -> 1 | AG33: 1 | AK33: 1 | AM33: =+AK33+AL33 -> 1 | AN33: 1
A34: 2.3 | B34: ¶áñÍ³ñùÇó Í³·áÕ Çñ³íáõÝùÝ»ñÁ ·ñ³Ýó»Éáõ í»ñ³µ»ñÛ³É | E34: =+F34+G34+H34+I34 -> 0 | J34: =+K34+L34+M34 -> 0 | O34: =+P34+Q34+R34+S34+T34 -> 0 | T34: =+U34+V34+W34 -> 0 | Y34: =+O34+X34 -> 0 | AF34: =+AG34+AH34 -> 0 | AM34: =+AK34+AL34 -> 0
A35: 2.4 | B35: ä³ÛÙ³Ý³·ÇñÝ ³Ýí³í»ñ ×³Ý³ã»Éáõ í»ñ³µ»ñÛ³É | E35: =+F35+G35+H35+I35 -> 3 | F35: 1 | G35: 2 | J35: =+K35+L35+M35 -> 0 | N35: 2 | O35: =+P35+Q35+R35+S35+T35 -> 1 | S35: 1 | T35: =+U35+V35+W35 -> 0 | Y35: =+O35+X35 -> 1 | AF35: =+AG35+AH35 -> 0 | AM35: =+AK35+AL35 -> 0
A36: 2.5 | B36: ä³ÛÙ³Ý³·ñÇÁ í³í»ñ ×³Ý³ã»Éáõ í»ñ³µ»ñÛ³É | E36: =+F36+G36+H36+I36 -> 0 | J36: =+K36+L36+M36 -> 0 | O36: =+P36+Q36+R36+S36+T36 -> 0 | T36: =+U36+V36+W36 -> 0 | Y36: =+O36+X36 -> 0 | AF36: =+AG36+AH36 -> 0 | AM36: =+AK36+AL36 -> 0
A37: 2.6 | B37: ä³ÛÙ³Ý³·ñÇó Í³·áÕ Çñ³íáõÝùÝ»ñÁ ·ñ³Ýó»Éáõ í»ñ³µ»ñÛ³É | E37: =+F37+G37+H37+I37 -> 0 | J37: =+K37+L37+M37 -> 0 | O37: =+P37+Q37+R37+S37+T37 -> 0 | T37: =+U37+V37+W37 -> 0 | Y37: =+O37+X37 -> 0 | AF37: =+AG37+AH37 -> 0 | AM37: =+AK37+AL37 -> 0
A38: 2.7 | B38: ä³ÛÙ³Ý³·ÇñÁ ÷á÷áË»Éáõ ¨ ÉáõÍ»Éáõ í»ñ³µ»ñÛ³É | E38: =+F38+G38+H38+I38 -> 0 | J38: =+K38+L38+M38 -> 0 | O38: =+P38+Q38+R38+S38+T38 -> 0 | T38: =+U38+V38+W38 -> 0 | Y38: =+O38+X38 -> 0 | AF38: =+AG38+AH38 -> 0 | AM38: =+AK38+AL38 -> 0
A39: 2.8 | B39: ä³ÛÙ³Ý³·Çñ ÏÝù»ÉáõÝ å³ñï³íáñ»óÝ»Éáõ í»ñ³µ»ñÛ³É | E39: =+F39+G39+H39+I39 -> 0 | J39: =+K39+L39+M39 -> 0 | O39: =+P39+Q39+R39+S39+T39 -> 0 | T39: =+U39+V39+W39 -> 0 | Y39: =+O39+X39 -> 0 | AF39: =+AG39+AH39 -> 0 | AM39: =+AK39+AL39 -> 0
A40: 2.9 | B40: ²ÛÉ í»×»ñ | E40: =+F40+G40+H40+I40 -> 0 | J40: =+K40+L40+M40 -> 0 | O40: =+P40+Q40+R40+S40+T40 -> 0 | T40: =+U40+V40+W40 -> 0 | Y40: =+O40+X40 -> 0 | AF40: =+AG40+AH40 -> 0 | AM40: =+AK40+AL40 -> 0
...

Sheet Ս.Մնացյան
A1: 2017թ. | G1: Ð²ÞìºîìàôÂÚàôÜ | AM1: Ð³í»Éí³Í Ð³Û³ëï³ÝÇ Ð³Ýñ³å»ïáõÃÛ³Ý ¸³ï³ñ³ÝÝ»ñÇ Ý³Ë³·³ÑÝ»ñÇ ËáñÑñ¹Ç 29.01.2018Ã. ÃÇí 10-È áñáßÙ³Ý
A2: ՀՀ ÞÆð²ÎÆ ՄԱՐԶԻ ÀÜ¸Ð²Üàôð Æð²ì²êàôÂÚ²Ü ²è²æÆÜ ²îÚ²ÜÆ ¸²î²ð²ÜÆ ¸²î²ìàð | Z2: Ս. ՄՆԱՑÚ²ÜÆ | AH2: ¶àðÌàôÜºàôÂÚ²Ü ìºð²´ºðÚ²È
A3: ø²Ô²ø²òÆ²Î²Ü ¶àðÌºðàì
A4: ՀՀ ÞÇñ³ÏÇ մարզի ÁÝ¹Ñ³Ýáõñ Çñ³í³ëáõÃÛ³Ý ³é³çÇÝ ³ïÛ³ÝÇ ¹³ï³ñ³ÝÇ ù³Õ³ù³óÇ³Ï³Ý Ù³ëÝ³·Çï³óáõÙ áõÝ»óáÕ ¹³ï³íáñÝ»ñÇ Ñ³ëïÇùÝ»ñÇ ù³Ý³ÏÁ` 9
E5: Ð³ßí»ïáõ Å³Ù³Ý³Ï³Ñ³ïí³ÍáõÙ Ý³Ëáñ¹ Ñ³ßí»ïáõ Å³Ù³Ý³Ï³Ñ³ïí³ÍÇó ÷áË³Ýóí³Í ·áñÍ»ñÇ ÁÝ¹Ñ³Ýáõñ ÃÇíÁ | J5: Ð³ßí»ïáõ Å³Ù³Ý³Ï³Ñ³ïí³ÍáõÙëï³óí³Í ·áñÍ»ñÇ (³Û¹ ÃíáõÙ` Ñ³Ûó³¹ÇÙáõÙÝ»ñÇ, ¹ÇÙáõÙÝ»ñÇ) ÁÝ¹Ñ³Ýáõñ ÃÇíÁ | N5: öáË³Ýóí»É ¿ ³ÛÉ ¹³ï³íáñÇ (Ï³½ÙÇ ÷á÷áËáõÃÛáõÝ) | O5: Ð³ßí»ïáõ Å³Ù³Ý³Ï³Ñ³ïí³ÍáõÙ ³í³ñïí³Í ·áñÍ»ñÇ ÁÝ¹Ñ³Ýáõñ ÃÇíÁ | Z5: ¶áñÍÝ áõÕ³ñÏí»É ¿ Áëï ÁÝ¹¹³ïáõÃÛ³Ý | AA5: Ð³ßí»ïáõ Å³Ù³Ý³Ï³Ñ³ïí³ÍáõÙ Ï³ë»óí³Í í³ñáõÛÃÝ»ñáí ·áñÍ»ñÇ ÁÝ¹Ñ³Ýáõñ ÃÇíÁ | AB5: Ð³ßí»ïáõ Å³Ù³Ý³Ï³Ñ³ïí³ÍáõÙ ³Ý³í³ñï ·áñÍ»ñÇ ÁÝ¹Ñ³Ýáõñ ÃÇíÁ | AC5: ²Û¹ ÃíáõÙª Ï³ë»óí³Í | AD5: ´áÕáù³ñÏí³Í ¹³ï³Ï³Ý ³Ïï»ñÁ | AI5: ²í³ñïí³Í ¹³ï³Ï³Ý ·áñÍ»ñÇ µáÕáù³ñÏÙ³Ý ïáÏáëÁ (Ñ³ßí»ïáõ Å³Ù³Ý³Ï³ßñç³ÝáõÙ) | AJ5: ²Ý³í³ñï µáÕáùÝ»ñ | AK5: ´»Ï³Ýí³Í ¹³ï³Ï³Ý ³Ïï»ñÁ | AP5: µ»Ï³ÝáõÙÝ»ñÇ ïáÏáëÁ ³í³ñïí³Í ·áñÍ»ñÇó(Ñ³ßí»ïáõ Å³Ù³Ý³Ï³ßñç³ÝáõÙ) | AQ5: Î³ÛáõÝáõÃÛ³Ý ïáÏáëÁ ³í³ñïí³Í ·áñÍ»ñÇó(Ñ³ßí»ïáõ Å³Ù³Ý³Ï³ßñç³ÝáõÙ) | AR5: µ»Ï³ÝáõÙÝ»ñÇ ïáÏáëÁ µáÕáù³ñÏí³Í ·áñÍ»ñÇó(Ñ³ßí»ïáõ Å³Ù³Ý³Ï³ßñç³ÝáõÙ) | AS5: Ï³ÛáõÝáõÃÛ³Ý ïáÏáëÁ(Ñ³ßí»ïáõ Å³Ù³Ý³Ï³ßñç³ÝáõÙ)
E6: ÀÝ¹³Ù»ÝÁ | F6: ²Û¹ ÃíáõÙ`Ï³ë»óí³Í íÇ×³ÏáõÙ ÷áË³Ýóí³Í | G6: ²Û¹ ÃíáõÙª ÁÝ¹áõÝí»É ¿ í³ñáõÛÃ | H6: ²Û¹ ÃíáõÙª í»ñ³¹³ñÓí»É ¿ | I6: ²Û¹ ÃíáõÙª ÁÝ¹áõÝáõÙÁ Ù»ñÅí»É ¿ | J6: ÀÝ¹³Ù»ÝÁ | K6: ²Û¹ ÃíáõÙª ÁÝ¹áõÝí»É ¿ í³ñáõÛÃ | L6: ²Û¹ ÃíáõÙª í»ñ³¹³ñÓí»É ¿ | M6: ²Û¹ ÃíáõÙª ÁÝ¹áõÝáõÙÁ Ù»ñÅí»É ¿ | O6: ÀÝ¹³Ù»ÝÁ ³í³ñïí»É »Ý ·áñÍ»ñ ·áñÍÝ Áëï ¿áõÃÛ³Ý ÉáõÍáÕ ¹³ï³Ï³Ý ³Ïï»ñÇ (í×ÇéÝ»ñÇ) Ï³Û³óÙ³Ùµ | P6: ²Û¹ ÃíáõÙª Ñ³ÛóÇ µ³í³ñ³ñÙ³Ùµ | Q6: ²Û¹ ÃíáõÙª Ñ³ÛóÇ Ù³ëÝ³ÏÇ µ³í³ñ³ñÙ³Ùµ | R6: ²Û¹ ÃíáõÙª Ñ³ÛóÇ Ù»ñÅÙ³Ùµ | S6: Ø³ëáí Ï³ñ×í»É ¿, Ù³ëáí Ù»ñÅí»É | T6: ²Û¹ ÃíáõÙª Ï³ñ×í»É »Ý | X6: Ð³ÛóÁ ÃáÕÝí»É ¿ ³é³Ýó ùÝÝáõÃÛ³Ý | Y6: ÀÝ¹³Ù»ÝÝ ³í³ñïí»É »Ý ·áñÍ»ñ | AD6: ²Û¹ ÃíáõÙ` ·áñÍÝ Áëï ¿áõÃÛ³Ý ÉáõÍáÕ ¹³ï³Ï³Ý ³Ïï»ñÁ | AE6: ²Û¹ ÃíáõÙ` ÙÇç³ÝÏÛ³É ¹³ï³Ï³Ý ³Ïï»ñÁ | AF6: ÀÝ¹³Ù»ÝÁ | AG6: Ü³Ëáñ¹ ï³ñÇÝ»ñÇÝ Ï³Û³óí³Í ³Ïï»ñÇ µáÕáù³ñÏáõÙÁ Ñ³ßí»ïáõ Å³Ù³Ý³Ï³ßñç³ÝáõÙ | AH6: Ð³ßí»ïáõ Å³Ù³Ý³Ï³ßñç³ÝáõÙ Ï³Û³óí³Í ³Ïï»ñÇ µáÕáù³ñÏáõÙÁ | AK6: ²Û¹ ÃíáõÙ` ·áñÍÝ Áëï ¿áõÃÛ³Ý ÉáõÍáÕ ¹³ï³Ï³Ý ³Ïï»ñÁ | AL6: ²Û¹ ÃíáõÙ` ÙÇç³ÝÏÛ³É ¹³ï³Ï³Ý ³Ïï»ñÁ | AM6: ÀÝ¹³Ù»ÝÁ | AN6: Ü³Ëáñ¹ ï³ñÇÝ»ñÇÝ Ï³Û³óí³Í ³Ïï»ñÇ µ»Ï³ÝáõÙÝ»ñÁ Ñ³ßí»ïáõ Å³Ù³Ý³Ï³ßñç³ÝáõÙ | AO6: Ð³ßí»ïáõ Å³Ù³Ý³Ï³ßñç³ÝáõÙ Ï³Û³óí³Í ³Ïï»ñÇ µ»Ï³ÝáõÙÁ
T7: ÀÝ¹³Ù»ÝÁ Ï³ñ×í»É »Ý | U7: ²Û¹ ÃíáõÙª Ñ³ëï³ïí»É ¿ ÏÝùí³Í Ñ³ßïáõÃÛ³Ý Ñ³Ù³Ó³ÛÝáõÃÛáõÝÁ | V7: ²Û¹ ÃíáõÙª Ñ³óÇó, ¹ÇÙáõÙÇó Ññ³Å³ñí»Éáõ ÑÇÙùáí | W7: ²Û¹ ÃíáõÙª ³ÛÉ ÑÇÙùáí
E8: 1 | F8: 2 | G8: 3 | H8: 4 | I8: 5 | J8: 6 | K8: 7 | L8: 8 | M8: 9 | N8: 10 | O8: 11 | P8: 12 | Q8: 13 | R8: 14 | S8: 15 | T8: 16 | U8: 17 | V8: 18 | W8: 19 | X8: 20 | Y8: 21 | Z8: 22 | AA8: 23 | AB8: 24 | AC8: 25 | AD8: 26 | AE8: 27 | AF8: 28 | AG8: 29 | AH8: 30 | AI8: 31 | AJ8: 32 | AK8: 33 | AL8: 34 | AM8: 35 | AN8: 36 | AO8: 37 | AP8: 38 | AQ8: 39 | AR8: 40 | AS8: 41
A9: 1. | B9: ¶áõÛù³ÛÇÝ Çñ³í³Ñ³ñ³µ»ñáõÃÛáõÝÝ»ñÇ í»ñ³µ»ñÛ³É ¹³ï³Ï³Ý ·áñÍ»ñ | E9: =SUM(E10:E28) -> 36 | F9: =SUM(F10:F28) -> 16 | G9: =SUM(G10:G28) -> 20 | H9: =SUM(H10:H28) -> 0 | I9: =SUM(I10:I28) -> 0 | J9: =SUM(J10:J28) -> 52 | K9: =SUM(K10:K28) -> 50 | L9: =SUM(L10:L28) -> 2 | ... AS9: =SUM(AS10:AS28) -> 0
A10: 1.1 | B10: ¶áõÛùÇ ÝÏ³ïÙ³Ùµ ë»÷³Ï³ÝáõÃÛ³Ý Çñ³íáõÝùÁ ×³Ý³ã»Éáõ í»ñ³µ»ñÛ³É | E10: =+F10+G10+H10+I10 -> 2 | G10: 2 | J10: =+K10+L10+M10 -> 1 | K10: 1 | O10: =+P10+Q10+R10+S10+T10 -> 3 | P10: 2 | Q10: 1 | T10: =+U10+V10+W10 -> 0 | Y10: =+O10+X10 -> 3 | AD10: 1 | AF10: 1 | AH10: 1 | AM10: =+AK10+AL10 -> 0
A11: 1.1.1 | B11: ²Û¹ ÃíáõÙª Ó»éùµ»ñÙ³Ý í³Õ»ÙáõÃÛ³Ý áõÅáí | E11: =+F11+G11+H11+I11 -> 4 | G11: 4 | J11: =+K11+L11+M11 -> 8 | K11: 8 | O11: =+P11+Q11+R11+S11+T11 -> 8 | P11: 8 | T11: =+U11+V11+W11 -> 0 | Y11: =+O11+X11 -> 8 | AA11: 1 | AB11: 4 | AC11: 1 | AD11: 1 | AF11: 1 | AH11: 1 | AM11: =+AK11+AL11 -> 0
A12: 1.1.2 | B12: ²Û¹ ÃíáõÙª ïÇñ³½áõñÏ ·áõÛùÇ ÝÏ³ïÙ³Ùµ | E12: =+F12+G12+H12+I12 -> 0 | J12: =+K12+L12+M12 -> 1 | K12: 1 | O12: =+P12+Q12+R12+S12+T12 -> 0 | T12: =+U12+V12+W12 -> 0 | Y12: =+O12+X12 -> 0 | AB12: 1 | AF12: =+AG12+AH12 -> 0 | AM12: =+AK12+AL12 -> 0
A13: 1.1.3 | B13: ²Û¹ ÃíáõÙª ÇÝùÝ³Ï³Ù Ï³éáõÛóÇ ÝÏ³ïÙ³Ùµ | E13: =+F13+G13+H13+I13 -> 0 | J13: =+K13+L13+M13 -> 0 | O13: =+P13+Q13+R13+S13+T13 -> 0 | T13: =+U13+V13+W13 -> 0 | Y13: =+O13+X13 -> 0 | AF13: =+AG13+AH13 -> 0 | AM13: =+AK13+AL13 -> 0
A14: 1.2 | B14: ê»÷³Ï³ÝáõÃÛ³Ý Çñ³íáõÝùÇ ¹³¹³ñ»óÙ³Ý í»ñ³µ»ñÛ³É | E14: =+F14+G14+H14+I14 -> 0 | J14: =+K14+L14+M14 -> 0 | O14: =+P14+Q14+R14+S14+T14 -> 0 | T14: =+U14+V14+W14 -> 0 | Y14: =+O14+X14 -> 0 | AF14: =+AG14+AH14 -> 0 | AM14: =+AK14+AL14 -> 0
A15: 1.3 | B15: ¶áõÛùÇ ÝÏ³ïÙ³Ùµ û·ï³·áñÍÙ³Ý Çñ³íáõÝùÁ ×³Ý³ã»Éáõ í»ñ³µ»ñÛ³É | E15: =+F15+G15+H15+I15 -> 0 | J15: =+K15+L15+M15 -> 0 | O15: =+P15+Q15+R15+S15+T15 -> 0 | T15: =+U15+V15+W15 -> 0 | Y15: =+O15+X15 -> 0 | AF15: =+AG15+AH15 -> 0 | AM15: =+AK15+AL15 -> 0
A16: 1.3.1 | B16: ²Û¹ ÃíáõÙª µÝ³Ïû·ï³·áñÍÙ³Ý Çñ³íáõÝùÁ ×³Ý³ã»Éáõ í»ñ³µ»ñÛ³É | E16: =+F16+G16+H16+I16 -> 0 | J16: =+K16+L16+M16 -> 0 | O16: =+P16+Q16+R16+S16+T16 -> 0 | T16: =+U16+V16+W16 -> 0 | Y16: =+O16+X16 -> 0 | AF16: =+AG16+AH16 -> 0 | AM16: =+AK16+AL16 -> 0
A17: 1.3.2 | B17: ²Û¹ ÃíáõÙª ÑáÕ³Ù³ëÇ ÝÏ³ïÙ³Ùµ û·ï³·áñÍÙ³Ý Çñ³íáõÝùÁ ×³Ý³ã»Éáõ í»ñ³µ»ñÛ³É | E17: =+F17+G17+H17+I17 -> 0 | J17: =+K17+L17+M17 -> 0 | O17: =+P17+Q17+R17+S17+T17 -> 0 | T17: =+U17+V17+W17 -> 0 | Y17: =+O17+X17 -> 0 | AF17: =+AG17+AH17 -> 0 | AM17: =+AK17+AL17 -> 0
A18: 1.4 | B18: ¶áõÛùÇ ÝÏ³ïÙ³Ùµ û·ï³·áñÍÙ³Ý Çñ³íáõÝùÁ ¹³¹³ñ»óÝ»Éáõ í»ñ³µ»ñÛ³É | E18: =+F18+G18+H18+I18 -> 0 | J18: =+K18+L18+M18 -> 0 | O18: =+P18+Q18+R18+S18+T18 -> 0 | T18: =+U18+V18+W18 -> 0 | Y18: =+O18+X18 -> 0 | AF18: =+AG18+AH18 -> 0 | AM18: =+AK18+AL18 -> 0
A19: 1.4.1 | B19: ²Û¹ ÃíáõÙª µÝ³Ïû·ï³·áñÍÙ³Ý Çñ³íáõÝùÁ ¹³¹³ñ»óÝ»Éáõ í»ñ³µ»ñÛ³É | E19: =+F19+G19+H19+I19 -> 0 | J19: =+K19+L19+M19 -> 0 | O19: =+P19+Q19+R19+S19+T19 -> 0 | T19: =+U19+V19+W19 -> 0 | Y19: =+O19+X19 -> 0 | AF19: =+AG19+AH19 -> 0 | AM19: =+AK19+AL19 -> 0
A20: 1.4.1/1 | B20: ²Û¹ ÃíáõÙª ÷áËÑ³ïáõóÙ³Ùµ | E20: =+F20+G20+H20+I20 -> 0 | J20: =+K20+L20+M20 -> 0 | O20: =+P20+Q20+R20+S20+T20 -> 0 | T20: =+U20+V20+W20 -> 0 | Y20: =+O20+X20 -> 0 | AF20: =+AG20+AH20 -> 0 | AM20: =+AK20+AL20 -> 0
A21: 1.5 | B21: ´Ý³Ï³ñ³ÝÇó/ ï³ñ³ÍùÇó/ íï³ñ»Éáõ í»ñ³µ»ñÛ³É | E21: =+F21+G21+H21+I21 -> 2 | F21: 1 | G21: 1 | J21: =+K21+L21+M21 -> 0 | O21: =+P21+Q21+R21+S21+T21 -> 2 | R21: 1 | T21: =+U21+V21+W21 -> 1 | V21: 1 | Y21: =+O21+X21 -> 2 | AF21: =+AG21+AH21 -> 0 | AM21: =+AK21+AL21 -> 0
A22: 1.6 | B22: ¶áõÛùÝ áõñÇßÇ ³åûñÇÝÇ ïÇñ³å»ïáõÙÇó »ï í»ñ³¹³ñÓÝ»Éáõ í»ñ³µ»ñÛ³É | E22: =+F22+G22+H22+I22 -> 3 | F22: 2 | G22: 1 | J22: =+K22+L22+M22 -> 1 | K22: 1 | O22: =+P22+Q22+R22+S22+T22 -> 2 | P22: 1 | Q22: 1 | T22: =+U22+V22+W22 -> 0 | Y22: =+O22+X22 -> 2 | AA22: 1 | AB22: 2 | AC22: 2 | AD22: 2 | AF22: =+AG22+AH22 -> 2 | AH22: 2 | AM22: =+AK22+AL22 -> 0
A23: 1.6.1 | B23: ´³ñ»ËÇÕ× Ó»éùµ»ñáÕÇó Çñ ·áõÛùÁ Ñ»ï å³Ñ³Ýç»Éáõ í»ñ³µ»ñÛ³É | E23: =+F23+G23+H23+I23 -> 0 | J23: =+K23+L23+M23 -> 0 | O23: =+P23+Q23+R23+S23+T23 -> 0 | T23: =+U23+V23+W23 -> 0 | Y23: =+O23+X23 -> 0 | AF23: =+AG23+AH23 -> 0 | AM23: =+AK23+AL23 -> 0
A24: 1.7 | B24: îÇñ³å»ïáõÙÇó ½ñÏ»Éáõ Ñ»ï ãÏ³åí³Í Çñ³íáõÝùÝ»ñÇ Ë³ËïáõÙÁ í»ñ³óÝ»Éáõ í»ñ³µ»ñÛ³É | E24: =+F24+G24+H24+I24 -> 0 | J24: =+K24+L24+M24 -> 0 | O24: =+P24+Q24+R24+S24+T24 -> 0 | T24: =+U24+V24+W24 -> 0 | Y24: =+O24+X24 -> 0 | AF24: =+AG24+AH24 -> 0 | AM24: =+AK24+AL24 -> 0
A25: 1.8 | B25: ÀÝ¹Ñ³Ýáõñ µ³ÅÝ³ÛÇÝ ë»÷³Ï³ÝáõÃÛáõÝÇó µ³ÅÇÝÝ ³é³ÝÓÝ³óÝ»Éáõ í»ñ³µ»ñÛ³É | E25: =+F25+G25+H25+I25 -> 8 | F25: 5 | G25: 3 | J25: =+K25+L25+M25 -> 20 | K25: 20 | O25: =+P25+Q25+R25+S25+T25 -> 3 | P25: 1 | T25: =+U25+V25+W25 -> 2 | U25: 1 | V25: 1 | Y25: =+O25+X25 -> 3 | AA25: 12 | AB25: 25 | AC25: 14 | AF25: =+AG25+AH25 -> 0 | AM25: =+AK25+AL25 -> 0
A26: 1.8.1 | B26: Ð³Ù³ï»Õ ë»÷³Ï³ÝáõÃÛ³Ý Ý»ñùá ·ïÝíáÕ ·áõÛùÁ µ³Å³Ý»Éáõ ¨ ¹ñ³ÝÇó µ³ÅÇÝÝ ³é³ÝÓÝ³óÝ»Éáõ í»ñ³µ»ñÛ³É | E26: =+F26+G26+H26+I26 -> 16 | F26: 8 | G26: 8 | J26: =+K26+L26+M26 -> 15 | K26: 14 | L26: 1 | O26: =+P26+Q26+R26+S26+T26 -> 4 | P26: 4 | T26: =+U26+V26+W26 -> 0 | Y26: =+O26+X26 -> 4 | AA26: 6 | AB26: 26 | AC26: 12 | AF26: =+AG26+AH26 -> 0 | AM26: =+AK26+AL26 -> 0
A27: 1.8.3 | B27: ¶áõÛùÇ íñ³ µéÝ³·³ÝÓáõÙ ï³ñ³Í»Éáõ å³Ñ³ÝçÇ Ù³ëÇÝ | E27: =+F27+G27+H27+I27 -> 0 | J27: =+K27+L27+M27 -> 0 | O27: =+P27+Q27+R27+S27+T27 -> 0 | T27: =+U27+V27+W27 -> 0 | Y27: =+O27+X27 -> 0 | AF27: =+AG27+AH27 -> 0 | AM27: =+AK27+AL27 -> 0
A28: 1.9 | B28: ²ÛÉ í»×»ñ | E28: =+F28+G28+H28+I28 -> 1 | G28: 1 | J28: =+K28+L28+M28 -> 6 | K28: 5 | L28: 1 | O28: =+P28+Q28+R28+S28+T28 -> 2 | P28: 1 | T28: =+U28+V28+W28 -> 1 | U28: 1 | Y28: =+O28+X28 -> 2 | AB28: 4 | AD28: 1 | AF28: =+AG28+AH28 -> 1 | AH28: 1 | AJ28: 1 | AM28: =+AK28+AL28 -> 0
A29: 2. | B29: ¶áñÍ³ñùÝ»ñÇ Ñ»ï Ï³åí³Í Çñ³í³Ñ³ñ³µ»ñáõÃÛáõÝÝ»ñÇ í»ñ³µ»ñÛ³É ¹³ï³Ï³Ý ·áñÍ»ñ | E29: =SUM(E30:E40) -> 3 | F29: =SUM(F30:F40) -> 1 | G29: =SUM(G30:G40) -> 2 | H29: =SUM(H30:H40) -> 0 | I29: =SUM(I30:I40) -> 0 | J29: =+K29+L29+M29 -> 9 | K29: =SUM(K30:K40) -> 9 | L29: =SUM(L30:L40) -> 0 | M29: =SUM(M30:M40) -> 0 | N29: =SUM(N30:N40) -> 0 | O29: =+P29+Q29+R29+S29+T29 -> 7 | P29: =SUM(P30:P40) -> 5 | Q29: =SUM(Q30:Q40) -> 0 | R29: =SUM(R30:R40) -> 1 | S29: =SUM(S30:S40) -> 0 | T29: =+U29+V29+W29 -> 1 | U29: =SUM(U30:U40) -> 0 | V29: =SUM(V30:V40) -> 1 | W29: =SUM(W30:W40) -> 0 | X29: =SUM(X30:X40) -> 0 | Y29: =+O29+X29 -> 7 | Z29: =SUM(Z30:Z40) -> 0 | AA29: =SUM(AA30:AA40) -> 0 | AB29: =SUM(AB30:AB40) -> 5 | AC29: =SUM(AC30:AC40) -> 1 | AD29: =SUM(AD30:AD40) -> 1 | AE29: =SUM(AE30:AE40) -> 0 | AF29: =+AG29+AH29 -> 1 | AG29: =SUM(AG30:AG40) -> 0 | AH29: =SUM(AH30:AH40) -> 1 | AI29: =SUM(AI30:AI40) -> 0 | AJ29: =SUM(AJ30:AJ40) -> 0 | AK29: =SUM(AK30:AK40) -> 1 | AL29: =SUM(AL30:AL40) -> 0 | AM29: =+AK29+AL29 -> 1 | AN29: =SUM(AN30:AN40) -> 0 | AO29: =SUM(AO30:AO40) -> 1 | AP29: =SUM(AP30:AP40) -> 1 | AQ29: =SUM(AQ30:AQ40) -> 0 | AR29: =SUM(AR30:AR40) -> 0 | AS29: =SUM(AS30:AS40) -> 0
A30: 2.1 | B30: ·áñÍ³ñùÝ»ñÇ ³Ýí³í»ñáõÃÛ³Ý Ñ»ï Ï³åí³Í í»×»ñ | E30: =+F30+G30+H30+I30 -> 0 | J30: =+K30+L30+M30 -> 1 | K30: 1 | O30: =+P30+Q30+R30+S30+T30 -> 0 | T30: =+U30+V30+W30 -> 0 | Y30: =+O30+X30 -> 0 | AB30: 1 | AF30: =+AG30+AH30 -> 0 | AM30: =+AK30+AL30 -> 0
A31: 2.1.1 | B31: ³Û¹ ÃíáõÙ` íÇ×³Ñ³ñáõÛó ·áñÍ³ñùÝ»ñÝ ³Ýí³í»ñ ×³Ý³ã»Éáõ í»ñ³µ»ñÛ³É | E31: =+F31+G31+H31+I31 -> 0 | J31: =+K31+L31+M31 -> 0 | O31: =+P31+Q31+R31+S31+T31 -> 0 | T31: =+U31+V31+W31 -> 0 | Y31: =+O31+X31 -> 0 | AF31: =+AG31+AH31 -> 0 | AM31: =+AK31+AL31 -> 0
A32: 2.1.2 | B32: ³Û¹ ÃíáõÙ` ·áñÍ³ñùÇ ³éáãÝãáõÃÛ³Ý Ñ»ï¨³ÝùÝ»ñ ÏÇñ³é»Éáõ í»ñ³µ»ñÛ³É | E32: =+F32+G32+H32+I32 -> 0 | J32: =+K32+L32+M32 -> 0 | O32: =+P32+Q32+R32+S32+T32 -> 0 | T32: =+U32+V32+W32 -> 0 | Y32: =+O32+X32 -> 0 | AF32: =+AG32+AH32 -> 0 | AM32: =+AK32+AL32 -> 0
A33: 2.2 | B33: ¶áñÍ³ñùÁ í³í»ñ ×³Ý³ã»Éáõ í»ñ³µ»ñÛ³É | E33: =+F33+G33+H33+I33 -> 0 | J33: =+K33+L33+M33 -> 1 | K33: 1 | O33: =+P33+Q33+R33+S33+T33 -> 1 | P33: 1 | T33: =+U33+V33+W33 -> 0 | Y33: =+O33+X33 -> 1 | AF33: =+AG33+AH33 -> 0 | AM33: =+AK33+AL33 -> 0
A34: 2.3 | B34: ¶áñÍ³ñùÇó Í³·áÕ Çñ³íáõÝùÝ»ñÁ ·ñ³Ýó»Éáõ í»ñ³µ»ñÛ³É | E34: =+F34+G34+H34+I34 -> 0 | J34: =+K34+L34+M34 -> 0 | O34: =+P34+Q34+R34+S34+T34 -> 0 | T34: =+U34+V34+W34 -> 0 | Y34: =+O34+X34 -> 0 | AF34: =+AG34+AH34 -> 0 | AM34: =+AK34+AL34 -> 0
A35: 2.4 | B35: ä³ÛÙ³Ý³·ÇñÝ ³Ýí³í»ñ ×³Ý³ã»Éáõ í»ñ³µ»ñÛ³É | E35: =+F35+G35+H35+I35 -> 0 | J35: =+K35+L35+M35 -> 0 | O35: =+P35+Q35+R35+S35+T35 -> 0 | T35: =+U35+V35+W35 -> 0 | Y35: =+O35+X35 -> 0 | AF35: =+AG35+AH35 -> 0 | AM35: =+AK35+AL35 -> 0
A36: 2.5 | B36: ä³ÛÙ³Ý³·ñÇÁ í³í»ñ ×³Ý³ã»Éáõ í»ñ³µ»ñÛ³É | E36: =+F36+G36+H36+I36 -> 1 | G36: 1 | J36: =+K36+L36+M36 -> 6 | K36: 6 | O36: =+P36+Q36+R36+S36+T36 -> 5 | P36: 4 | T36: =+U36+V36+W36 -> 1 | V36: 1 | Y36: =+O36+X36 -> 5 | AB36: 2 | AF36: =+AG36+AH36 -> 0 | AM36: =+AK36+AL36 -> 0
A37: 2.6 | B37: ä³ÛÙ³Ý³·ñÇó Í³·áÕ Çñ³íáõÝùÝ»ñÁ ·ñ³Ýó»Éáõ í»ñ³µ»ñÛ³É | E37: =+F37+G37+H37+I37 -> 0 | J37: =+K37+L37+M37 -> 1 | K37: 1 | O37: =+P37+Q37+R37+S37+T37 -> 0 | T37: =+U37+V37+W37 -> 0 | Y37: =+O37+X37 -> 0 | AB37: 1 | AF37: =+AG37+AH37 -> 0 | AM37: =+AK37+AL37 -> 0
A38: 2.7 | B38: ä³ÛÙ³Ý³·ÇñÁ ÷á÷áË»Éáõ ¨ ÉáõÍ»Éáõ í»ñ³µ»ñÛ³É | E38: =+F38+G38+H38+I38 -> 1 | G38: 1 | J38: =+K38+L38+M38 -> 0 | O38: =+P38+Q38+R38+S38+T38 -> 1 | R38: 1 | T38: =+U38+V38+W38 -> 0 | Y38: =+O38+X38 -> 1 | AD38: 1 | AF38: =+AG38+AH38 -> 1 | AH38: 1 | AK38: 1 | AM38: =+AK38+AL38 -> 1 | AO38: 1 | AP38: 1
A39: 2.8 | B39: ä³ÛÙ³Ý³·Çñ ÏÝù»ÉáõÝ å³ñï³íáñ»óÝ»Éáõ í»ñ³µ»ñÛ³É | E39: =+F39+G39+H39+I39 -> 0 | J39: =+K39+L39+M39 -> 0 | O39: =+P39+Q39+R39+S39+T39 -> 0 | T39: =+U39+V39+W39 -> 0 | Y39: =+O39+X39 -> 0 | AF39: =+AG39+AH39 -> 0 | AM39: =+AK39+AL39 -> 0
A40: 2.9 | B40: ²ÛÉ í»×»ñ | E40: =+F40+G40+H40+I40 -> 1 | F40: 1 | J40: =+K40+L40+M40 -> 0 | O40: =+P40+Q40+R40+S40+T40 -> 0 | T40: =+U40+V40+W40 -> 0 | Y40: =+O40+X40 -> 0 | AB40: 1 | AC40: 1 | AF40: =+AG40+AH40 -> 0 | AM40: =+AK40+AL40 -> 0
...

Sheet Բ.Մկրտչյան
A1: 2017թ. | G1: Ð²ÞìºîìàôÂÚàôÜ | AM1: Ð³í»Éí³Í Ð³Û³ëï³ÝÇ Ð³Ýñ³å»ïáõÃÛ³Ý ¸³ï³ñ³ÝÝ»ñÇ Ý³Ë³·³ÑÝ»ñÇ ËáñÑñ¹Ç 29.01.2018Ã. ÃÇí 10-È áñáßÙ³Ý
A2: ՀՀ ÞÆð²ÎÆ ՄԱՐԶԻ ÀÜ¸Ð²Üàôð Æð²ì²êàôÂÚ²Ü ²è²æÆÜ ²îÚ²ÜÆ ¸²î²ð²ÜÆ ¸²î²ìàð | Z2: Բ. ՄԿՐՏՉÚ²ÜÆ | AH2: ¶àðÌàôÜºàôÂÚ²Ü ìºð²´ºðÚ²È
A3: ø²Ô²ø²òÆ²Î²Ü ¶àðÌºðàì
A4: ՀՀ ÞÇñ³ÏÇ մարզի ÁÝ¹Ñ³Ýáõñ Çñ³í³ëáõÃÛ³Ý ³é³çÇÝ ³ïÛ³ÝÇ ¹³ï³ñ³ÝÇ ù³Õ³ù³óÇ³Ï³Ý Ù³ëÝ³·Çï³óáõÙ áõÝ»óáÕ ¹³ï³íáñÝ»ñÇ Ñ³ëïÇùÝ»ñÇ ù³Ý³ÏÁ` 9
E5: Ð³ßí»ïáõ Å³Ù³Ý³Ï³Ñ³ïí³ÍáõÙ Ý³Ëáñ¹ Ñ³ßí»ïáõ Å³Ù³Ý³Ï³Ñ³ïí³ÍÇó ÷áË³Ýóí³Í ·áñÍ»ñÇ ÁÝ¹Ñ³Ýáõñ ÃÇíÁ | J5: Ð³ßí»ïáõ Å³Ù³Ý³Ï³Ñ³ïí³ÍáõÙëï³óí³Í ·áñÍ»ñÇ (³Û¹ ÃíáõÙ` Ñ³Ûó³¹ÇÙáõÙÝ»ñÇ, ¹ÇÙáõÙÝ»ñÇ) ÁÝ¹Ñ³Ýáõñ ÃÇíÁ | N5: öáË³Ýóí»É ¿ ³ÛÉ ¹³ï³íáñÇ (Ï³½ÙÇ ÷á÷áËáõÃÛáõÝ) | O5: Ð³ßí»ïáõ Å³Ù³Ý³Ï³Ñ³ïí³ÍáõÙ ³í³ñïí³Í ·áñÍ»ñÇ ÁÝ¹Ñ³Ýáõñ ÃÇíÁ | Z5: ¶áñÍÝ áõÕ³ñÏí»É ¿ Áëï ÁÝ¹¹³ïáõÃÛ³Ý | AA5: Ð³ßí»ïáõ Å³Ù³Ý³Ï³Ñ³ïí³ÍáõÙ Ï³ë»óí³Í í³ñáõÛÃÝ»ñáí ·áñÍ»ñÇ ÁÝ¹Ñ³Ýáõñ ÃÇíÁ | AB5: Ð³ßí»ïáõ Å³Ù³Ý³Ï³Ñ³ïí³ÍáõÙ ³Ý³í³ñï ·áñÍ»ñÇ ÁÝ¹Ñ³Ýáõñ ÃÇíÁ | AC5: ²Û¹ ÃíáõÙª Ï³ë»óí³Í | AD5: ´áÕáù³ñÏí³Í ¹³ï³Ï³Ý ³Ïï»ñÁ | AI5: ²í³ñïí³Í ¹³ï³Ï³Ý ·áñÍ»ñÇ µáÕáù³ñÏÙ³Ý ïáÏáëÁ (Ñ³ßí»ïáõ Å³Ù³Ý³Ï³ßñç³ÝáõÙ) | AJ5: ²Ý³í³ñï µáÕáùÝ»ñ | AK5: ´»Ï³Ýí³Í ¹³ï³Ï³Ý ³Ïï»ñÁ | AP5: µ»Ï³ÝáõÙÝ»ñÇ ïáÏáëÁ ³í³ñïí³Í ·áñÍ»ñÇó(Ñ³ßí»ïáõ Å³Ù³Ý³Ï³ßñç³ÝáõÙ) | AQ5: Î³ÛáõÝáõÃÛ³Ý ïáÏáëÁ ³í³ñïí³Í ·áñÍ»ñÇó(Ñ³ßí»ïáõ Å³Ù³Ý³Ï³ßñç³ÝáõÙ) | AR5: µ»Ï³ÝáõÙÝ»ñÇ ïáÏáëÁ µáÕáù³ñÏí³Í ·áñÍ»ñÇó(Ñ³ßí»ïáõ Å³Ù³Ý³Ï³ßñç³ÝáõÙ) | AS5: Ï³ÛáõÝáõÃÛ³Ý ïáÏáëÁ(Ñ³ßí»ïáõ Å³Ù³Ý³Ï³ßñç³ÝáõÙ)
E6: ÀÝ¹³Ù»ÝÁ | F6: ²Û¹ ÃíáõÙ`Ï³ë»óí³Í íÇ×³ÏáõÙ ÷áË³Ýóí³Í | G6: ²Û¹ ÃíáõÙª ÁÝ¹áõÝí»É ¿ í³ñáõÛÃ | H6: ²Û¹ ÃíáõÙª í»ñ³¹³ñÓí»É ¿ | I6: ²Û¹ ÃíáõÙª ÁÝ¹áõÝáõÙÁ Ù»ñÅí»É ¿ | J6: ÀÝ¹³Ù»ÝÁ | K6: ²Û¹ ÃíáõÙª ÁÝ¹áõÝí»É ¿ í³ñáõÛÃ | L6: ²Û¹ ÃíáõÙª í»ñ³¹³ñÓí»É ¿ | M6: ²Û¹ ÃíáõÙª ÁÝ¹áõÝáõÙÁ Ù»ñÅí»É ¿ | O6: ÀÝ¹³Ù»ÝÁ ³í³ñïí»É »Ý ·áñÍ»ñ ·áñÍÝ Áëï ¿áõÃÛ³Ý ÉáõÍáÕ ¹³ï³Ï³Ý ³Ïï»ñÇ (í×ÇéÝ»ñÇ) Ï³Û³óÙ³Ùµ | P6: ²Û¹ ÃíáõÙª Ñ³ÛóÇ µ³í³ñ³ñÙ³Ùµ | Q6: ²Û¹ ÃíáõÙª Ñ³ÛóÇ Ù³ëÝ³ÏÇ µ³í³ñ³ñÙ³Ùµ | R6: ²Û¹ ÃíáõÙª Ñ³ÛóÇ Ù»ñÅÙ³Ùµ | S6: Ø³ëáí Ï³ñ×í»É ¿, Ù³ëáí Ù»ñÅí»É | T6: ²Û¹ ÃíáõÙª Ï³ñ×í»É »Ý | X6: Ð³ÛóÁ ÃáÕÝí»É ¿ ³é³Ýó ùÝÝáõÃÛ³Ý | Y6: ÀÝ¹³Ù»ÝÝ ³í³ñïí»É »Ý ·áñÍ»ñ | AD6: ²Û¹ ÃíáõÙ` ·áñÍÝ Áëï ¿áõÃÛ³Ý ÉáõÍáÕ ¹³ï³Ï³Ý ³Ïï»ñÁ | AE6: ²Û¹ ÃíáõÙ` ÙÇç³ÝÏÛ³É ¹³ï³Ï³Ý ³Ïï»ñÁ | AF6: ÀÝ¹³Ù»ÝÁ | AG6: Ü³Ëáñ¹ ï³ñÇÝ»ñÇÝ Ï³Û³óí³Í ³Ïï»ñÇ µáÕáù³ñÏáõÙÁ Ñ³ßí»ïáõ Å³Ù³Ý³Ï³ßñç³ÝáõÙ | AH6: Ð³ßí»ïáõ Å³Ù³Ý³Ï³ßñç³ÝáõÙ Ï³Û³óí³Í ³Ïï»ñÇ µáÕáù³ñÏáõÙÁ | AK6: ²Û¹ ÃíáõÙ` ·áñÍÝ Áëï ¿áõÃÛ³Ý ÉáõÍáÕ ¹³ï³Ï³Ý ³Ïï»ñÁ | AL6: ²Û¹ ÃíáõÙ` ÙÇç³ÝÏÛ³É ¹³ï³Ï³Ý ³Ïï»ñÁ | AM6: ÀÝ¹³Ù»ÝÁ | AN6: Ü³Ëáñ¹ ï³ñÇÝ»ñÇÝ Ï³Û³óí³Í ³Ïï»ñÇ µ»Ï³ÝáõÙÝ»ñÁ Ñ³ßí»ïáõ Å³Ù³Ý³Ï³ßñç³ÝáõÙ | AO6: Ð³ßí»ïáõ Å³Ù³Ý³Ï³ßñç³ÝáõÙ Ï³Û³óí³Í ³Ïï»ñÇ µ»Ï³ÝáõÙÁ
T7: ÀÝ¹³Ù»ÝÁ Ï³ñ×í»É »Ý | U7: ²Û¹ ÃíáõÙª Ñ³ëï³ïí»É ¿ ÏÝùí³Í Ñ³ßïáõÃÛ³Ý Ñ³Ù³Ó³ÛÝáõÃÛáõÝÁ | V7: ²Û¹ ÃíáõÙª Ñ³óÇó, ¹ÇÙáõÙÇó Ññ³Å³ñí»Éáõ ÑÇÙùáí | W7: ²Û¹ ÃíáõÙª ³ÛÉ ÑÇÙùáí
E8: 1 | F8: 2 | G8: 3 | H8: 4 | I8: 5 | J8: 6 | K8: 7 | L8: 8 | M8: 9 | N8: 10 | O8: 11 | P8: 12 | Q8: 13 | R8: 14 | S8: 15 | T8: 16 | U8: 17 | V8: 18 | W8: 19 | X8: 20 | Y8: 21 | Z8: 22 | AA8: 23 | AB8: 24 | AC8: 25 | AD8: 26 | AE8: 27 | AF8: 28 | AG8: 29 | AH8: 30 | AI8: 31 | AJ8: 32 | AK8: 33 | AL8: 34 | AM8: 35 | AN8: 36 | AO8: 37 | AP8: 38 | AQ8: 39 | AR8: 40 | AS8: 41
A9: 1. | B9: ¶áõÛù³ÛÇÝ Çñ³í³Ñ³ñ³µ»ñáõÃÛáõÝÝ»ñÇ í»ñ³µ»ñÛ³É ¹³ï³Ï³Ý ·áñÍ»ñ | E9: =SUM(E10:E28) -> 13 | F9: =SUM(F10:F28) -> 8 | G9: =SUM(G10:G28) -> 5 | H9: =SUM(H10:H28) -> 0 | I9: =SUM(I10:I28) -> 0 | J9: =SUM(J10:J28) -> 17 | K9: =SUM(K10:K28) -> 15 | L9: =SUM(L10:L28) -> 2 | ... AS9: =SUM(AS10:AS28) -> 0
A10: 1.1 | B10: ¶áõÛùÇ ÝÏ³ïÙ³Ùµ ë»÷³Ï³ÝáõÃÛ³Ý Çñ³íáõÝùÁ ×³Ý³ã»Éáõ í»ñ³µ»ñÛ³É | E10: =+F10+G10+H10+I10 -> 0 | J10: =+K10+L10+M10 -> 0 | O10: =+P10+Q10+R10+S10+T10 -> 0 | T10: =+U10+V10+W10 -> 0 | Y10: =+O10+X10 -> 0 | AF10: =+AG10+AH10 -> 0 | AM10: =+AK10+AL10 -> 0
A11: 1.1.1 | B11: ²Û¹ ÃíáõÙª Ó»éùµ»ñÙ³Ý í³Õ»ÙáõÃÛ³Ý áõÅáí | E11: =+F11+G11+H11+I11 -> 0 | J11: =+K11+L11+M11 -> 1 | K11: 1 | O11: =+P11+Q11+R11+S11+T11 -> 1 | R11: 1 | T11: =+U11+V11+W11 -> 0 | Y11: =+O11+X11 -> 1 | AF11: =+AG11+AH11 -> 0 | AM11: =+AK11+AL11 -> 0
A12: 1.1.2 | B12: ²Û¹ ÃíáõÙª ïÇñ³½áõñÏ ·áõÛùÇ ÝÏ³ïÙ³Ùµ | E12: =+F12+G12+H12+I12 -> 0 | J12: =+K12+L12+M12 -> 0 | O12: =+P12+Q12+R12+S12+T12 -> 0 | T12: =+U12+V12+W12 -> 0 | Y12: =+O12+X12 -> 0 | AF12: =+AG12+AH12 -> 0 | AM12: =+AK12+AL12 -> 0
A13: 1.1.3 | B13: ²Û¹ ÃíáõÙª ÇÝùÝ³Ï³Ù Ï³éáõÛóÇ ÝÏ³ïÙ³Ùµ | E13: =+F13+G13+H13+I13 -> 0 | J13: =+K13+L13+M13 -> 0 | O13: =+P13+Q13+R13+S13+T13 -> 0 | T13: =+U13+V13+W13 -> 0 | Y13: =+O13+X13 -> 0 | AF13: =+AG13+AH13 -> 0 | AM13: =+AK13+AL13 -> 0
A14: 1.2 | B14: ê»÷³Ï³ÝáõÃÛ³Ý Çñ³íáõÝùÇ ¹³¹³ñ»óÙ³Ý í»ñ³µ»ñÛ³É | E14: =+F14+G14+H14+I14 -> 0 | J14: =+K14+L14+M14 -> 1 | K14: 1 | O14: =+P14+Q14+R14+S14+T14 -> 0 | T14: =+U14+V14+W14 -> 0 | Y14: =+O14+X14 -> 0 | AB14: 1 | AF14: =+AG14+AH14 -> 0 | AM14: =+AK14+AL14 -> 0
A15: 1.3 | B15: ¶áõÛùÇ ÝÏ³ïÙ³Ùµ û·ï³·áñÍÙ³Ý Çñ³íáõÝùÁ ×³Ý³ã»Éáõ í»ñ³µ»ñÛ³É | E15: =+F15+G15+H15+I15 -> 0 | J15: =+K15+L15+M15 -> 0 | O15: =+P15+Q15+R15+S15+T15 -> 0 | T15: =+U15+V15+W15 -> 0 | Y15: =+O15+X15 -> 0 | AF15: =+AG15+AH15 -> 0 | AM15: =+AK15+AL15 -> 0
A16: 1.3.1 | B16: ²Û¹ ÃíáõÙª µÝ³Ïû·ï³·áñÍÙ³Ý Çñ³íáõÝùÁ ×³Ý³ã»Éáõ í»ñ³µ»ñÛ³É | E16: =+F16+G16+H16+I16 -> 0 | J16: =+K16+L16+M16 -> 0 | O16: =+P16+Q16+R16+S16+T16 -> 0 | T16: =+U16+V16+W16 -> 0 | Y16: =+O16+X16 -> 0 | AF16: =+AG16+AH16 -> 0 | AM16: =+AK16+AL16 -> 0
A17: 1.3.2 | B17: ²Û¹ ÃíáõÙª ÑáÕ³Ù³ëÇ ÝÏ³ïÙ³Ùµ û·ï³·áñÍÙ³Ý Çñ³íáõÝùÁ ×³Ý³ã»Éáõ í»ñ³µ»ñÛ³É | E17: =+F17+G17+H17+I17 -> 0 | J17: =+K17+L17+M17 -> 0 | O17: =+P17+Q17+R17+S17+T17 -> 0 | T17: =+U17+V17+W17 -> 0 | Y17: =+O17+X17 -> 0 | AF17: =+AG17+AH17 -> 0 | AM17: =+AK17+AL17 -> 0
A18: 1.4 | B18: ¶áõÛùÇ ÝÏ³ïÙ³Ùµ û·ï³·áñÍÙ³Ý Çñ³íáõÝùÁ ¹³¹³ñ»óÝ»Éáõ í»ñ³µ»ñÛ³É | E18: =+F18+G18+H18+I18 -> 0 | J18: =+K18+L18+M18 -> 0 | O18: =+P18+Q18+R18+S18+T18 -> 0 | T18: =+U18+V18+W18 -> 0 | Y18: =+O18+X18 -> 0 | AF18: =+AG18+AH18 -> 0 | AM18: =+AK18+AL18 -> 0
A19: 1.4.1 | B19: ²Û¹ ÃíáõÙª µÝ³Ïû·ï³·áñÍÙ³Ý Çñ³íáõÝùÁ ¹³¹³ñ»óÝ»Éáõ í»ñ³µ»ñÛ³É | E19: =+F19+G19+H19+I19 -> 0 | J19: =+K19+L19+M19 -> 0 | O19: =+P19+Q19+R19+S19+T19 -> 0 | T19: =+U19+V19+W19 -> 0 | Y19: =+O19+X19 -> 0 | AF19: =+AG19+AH19 -> 0 | AM19: =+AK19+AL19 -> 0
A20: 1.4.1/1 | B20: ²Û¹ ÃíáõÙª ÷áËÑ³ïáõóÙ³Ùµ | E20: =+F20+G20+H20+I20 -> 0 | J20: =+K20+L20+M20 -> 0 | O20: =+P20+Q20+R20+S20+T20 -> 0 | T20: =+U20+V20+W20 -> 0 | Y20: =+O20+X20 -> 0 | AF20: =+AG20+AH20 -> 0 | AM20: =+AK20+AL20 -> 0
A21: 1.5 | B21: ´Ý³Ï³ñ³ÝÇó/ ï³ñ³ÍùÇó/ íï³ñ»Éáõ í»ñ³µ»ñÛ³É | E21: =+F21+G21+H21+I21 -> 0 | J21: =+K21+L21+M21 -> 1 | K21: 1 | O21: =+P21+Q21+R21+S21+T21 -> 0 | T21: =+U21+V21+W21 -> 0 | Y21: =+O21+X21 -> 0 | AB21: 1 | AF21: =+AG21+AH21 -> 0 | AM21: =+AK21+AL21 -> 0
A22: 1.6 | B22: ¶áõÛùÝ áõñÇßÇ ³åûñÇÝÇ ïÇñ³å»ïáõÙÇó »ï í»ñ³¹³ñÓÝ»Éáõ í»ñ³µ»ñÛ³É | E22: =+F22+G22+H22+I22 -> 1 | G22: 1 | J22: =+K22+L22+M22 -> 1 | K22: 1 | O22: =+P22+Q22+R22+S22+T22 -> 1 | P22: 1 | T22: =+U22+V22+W22 -> 0 | Y22: =+O22+X22 -> 1 | AB22: 1 | AF22: =+AG22+AH22 -> 0 | AM22: =+AK22+AL22 -> 0
A23: 1.6.1 | B23: ´³ñ»ËÇÕ× Ó»éùµ»ñáÕÇó Çñ ·áõÛùÁ Ñ»ï å³Ñ³Ýç»Éáõ í»ñ³µ»ñÛ³É | E23: =+F23+G23+H23+I23 -> 0 | J23: =+K23+L23+M23 -> 0 | O23: =+P23+Q23+R23+S23+T23 -> 0 | T23: =+U23+V23+W23 -> 0 | Y23: =+O23+X23 -> 0 | AF23: =+AG23+AH23 -> 0 | AM23: =+AK23+AL23 -> 0
A24: 1.7 | B24: îÇñ³å»ïáõÙÇó ½ñÏ»Éáõ Ñ»ï ãÏ³åí³Í Çñ³íáõÝùÝ»ñÇ Ë³ËïáõÙÁ í»ñ³óÝ»Éáõ í»ñ³µ»ñÛ³É | E24: =+F24+G24+H24+I24 -> 0 | J24: =+K24+L24+M24 -> 0 | O24: =+P24+Q24+R24+S24+T24 -> 0 | T24: =+U24+V24+W24 -> 0 | Y24: =+O24+X24 -> 0 | AF24: =+AG24+AH24 -> 0 | AM24: =+AK24+AL24 -> 0
A25: 1.8 | B25: ÀÝ¹Ñ³Ýáõñ µ³ÅÝ³ÛÇÝ ë»÷³Ï³ÝáõÃÛáõÝÇó µ³ÅÇÝÝ ³é³ÝÓÝ³óÝ»Éáõ í»ñ³µ»ñÛ³É | E25: =+F25+G25+H25+I25 -> 5 | F25: 3 | G25: 2 | J25: =+K25+L25+M25 -> 10 | K25: 9 | L25: 1 | O25: =+P25+Q25+R25+S25+T25 -> 4 | P25: 4 | T25: =+U25+V25+W25 -> 0 | Y25: =+O25+X25 -> 4 | AA25: 3 | AB25: 10 | AC25: 4 | AF25: =+AG25+AH25 -> 0 | AM25: =+AK25+AL25 -> 0
A26: 1.8.1 | B26: Ð³Ù³ï»Õ ë»÷³Ï³ÝáõÃÛ³Ý Ý»ñùá ·ïÝíáÕ ·áõÛùÁ µ³Å³Ý»Éáõ ¨ ¹ñ³ÝÇó µ³ÅÇÝÝ ³é³ÝÓÝ³óÝ»Éáõ í»ñ³µ»ñÛ³É | E26: =+F26+G26+H26+I26 -> 6 | F26: 4 | G26: 2 | J26: =+K26+L26+M26 -> 3 | K26: 2 | L26: 1 | O26: =+P26+Q26+R26+S26+T26 -> 3 | P26: 1 | T26: =+U26+V26+W26 -> 2 | V26: 2 | Y26: =+O26+X26 -> 3 | AA26: 3 | AB26: 5 | AC26: 5 | AF26: =+AG26+AH26 -> 0 | AM26: =+AK26+AL26 -> 0
A27: 1.8.3 | B27: ¶áõÛùÇ íñ³ µéÝ³·³ÝÓáõÙ ï³ñ³Í»Éáõ å³Ñ³ÝçÇ Ù³ëÇÝ | E27: =+F27+G27+H27+I27 -> 0 | J27: =+K27+L27+M27 -> 0 | O27: =+P27+Q27+R27+S27+T27 -> 0 | T27: =+U27+V27+W27 -> 0 | Y27: =+O27+X27 -> 0 | AF27: =+AG27+AH27 -> 0 | AM27: =+AK27+AL27 -> 0
A28: 1.9 | B28: ²ÛÉ í»×»ñ | E28: =+F28+G28+H28+I28 -> 1 | F28: 1 | J28: =+K28+L28+M28 -> 0 | O28: =+P28+Q28+R28+S28+T28 -> 0 | T28: =+U28+V28+W28 -> 0 | Y28: =+O28+X28 -> 0 | AB28: 1 | AC28: 1 | AF28: =+AG28+AH28 -> 0 | AM28: =+AK28+AL28 -> 0
A29: 2. | B29: ¶áñÍ³ñùÝ»ñÇ Ñ»ï Ï³åí³Í Çñ³í³Ñ³ñ³µ»ñáõÃÛáõÝÝ»ñÇ í»ñ³µ»ñÛ³É ¹³ï³Ï³Ý ·áñÍ»ñ | E29: =SUM(E30:E40) -> 2 | F29: =SUM(F30:F40) -> 0 | G29: =SUM(G30:G40) -> 2 | H29: =SUM(H30:H40) -> 0 | I29: =SUM(I30:I40) -> 0 | J29: =+K29+L29+M29 -> 5 | K29: =SUM(K30:K40) -> 5 | L29: =SUM(L30:L40) -> 0 | M29: =SUM(M30:M40) -> 0 | N29: =SUM(N30:N40) -> 0 | O29: =+P29+Q29+R29+S29+T29 -> 3 | P29: =SUM(P30:P40) -> 0 | Q29: =SUM(Q30:Q40) -> 0 | R29: =SUM(R30:R40) -> 2 | S29: =SUM(S30:S40) -> 0 | T29: =+U29+V29+W29 -> 1 | U29: =SUM(U30:U40) -> 0 | V29: =SUM(V30:V40) -> 1 | W29: =SUM(W30:W40) -> 0 | X29: =SUM(X30:X40) -> 0 | Y29: =+O29+X29 -> 3 | Z29: =SUM(Z30:Z40) -> 0 | AA29: =SUM(AA30:AA40) -> 0 | AB29: =SUM(AB30:AB40) -> 4 | AC29: =SUM(AC30:AC40) -> 0 | AD29: =SUM(AD30:AD40) -> 1 | AE29: =SUM(AE30:AE40) -> 1 | AF29: =+AG29+AH29 -> 2 | AG29: =SUM(AG30:AG40) -> 0 | AH29: =SUM(AH30:AH40) -> 2 | AI29: =SUM(AI30:AI40) -> 0 | AJ29: =SUM(AJ30:AJ40) -> 1 | AK29: =SUM(AK30:AK40) -> 0 | AL29: =SUM(AL30:AL40) -> 1 | AM29: =+AK29+AL29 -> 1 | AN29: =SUM(AN30:AN40) -> 0 | AO29: =SUM(AO30:AO40) -> 1 | AP29: =SUM(AP30:AP40) -> 0 | AQ29: =SUM(AQ30:AQ40) -> 0 | AR29: =SUM(AR30:AR40) -> 0 | AS29: =SUM(AS30:AS40) -> 0
A30: 2.1 | B30: ·áñÍ³ñùÝ»ñÇ ³Ýí³í»ñáõÃÛ³Ý Ñ»ï Ï³åí³Í í»×»ñ | E30: =+F30+G30+H30+I30 -> 0 | J30: =+K30+L30+M30 -> 0 | O30: =+P30+Q30+R30+S30+T30 -> 0 | T30: =+U30+V30+W30 -> 0 | Y30: =+O30+X30 -> 0 | AF30: =+AG30+AH30 -> 0 | AM30: =+AK30+AL30 -> 0
A31: 2.1.1 | B31: ³Û¹ ÃíáõÙ` íÇ×³Ñ³ñáõÛó ·áñÍ³ñùÝ»ñÝ ³Ýí³í»ñ ×³Ý³ã»Éáõ í»ñ³µ»ñÛ³É | E31: =+F31+G31+H31+I31 -> 0 | J31: =+K31+L31+M31 -> 0 | O31: =+P31+Q31+R31+S31+T31 -> 0 | T31: =+U31+V31+W31 -> 0 | Y31: =+O31+X31 -> 0 | AF31: =+AG31+AH31 -> 0 | AM31: =+AK31+AL31 -> 0
A32: 2.1.2 | B32: ³Û¹ ÃíáõÙ` ·áñÍ³ñùÇ ³éáãÝãáõÃÛ³Ý Ñ»ï¨³ÝùÝ»ñ ÏÇñ³é»Éáõ í»ñ³µ»ñÛ³É | E32: =+F32+G32+H32+I32 -> 1 | G32: 1 | J32: =+K32+L32+M32 -> 1 | K32: 1 | O32: =+P32+Q32+R32+S32+T32 -> 1 | R32: 1 | T32: =+U32+V32+W32 -> 0 | Y32: =+O32+X32 -> 1 | AB32: 1 | AF32: =+AG32+AH32 -> 0 | AM32: =+AK32+AL32 -> 0
A33: 2.2 | B33: ¶áñÍ³ñùÁ í³í»ñ ×³Ý³ã»Éáõ í»ñ³µ»ñÛ³É | E33: =+F33+G33+H33+I33 -> 0 | J33: =+K33+L33+M33 -> 1 | K33: 1 | O33: =+P33+Q33+R33+S33+T33 -> 0 | T33: =+U33+V33+W33 -> 0 | Y33: =+O33+X33 -> 0 | AB33: 1 | AF33: =+AG33+AH33 -> 0 | AM33: =+AK33+AL33 -> 0
A34: 2.3 | B34: ¶áñÍ³ñùÇó Í³·áÕ Çñ³íáõÝùÝ»ñÁ ·ñ³Ýó»Éáõ í»ñ³µ»ñÛ³É | E34: =+F34+G34+H34+I34 -> 0 | J34: =+K34+L34+M34 -> 0 | O34: =+P34+Q34+R34+S34+T34 -> 0 | T34: =+U34+V34+W34 -> 0 | Y34: =+O34+X34 -> 0 | AF34: =+AG34+AH34 -> 0 | AM34: =+AK34+AL34 -> 0
A35: 2.4 | B35: ä³ÛÙ³Ý³·ÇñÝ ³Ýí³í»ñ ×³Ý³ã»Éáõ í»ñ³µ»ñÛ³É | E35: =+F35+G35+H35+I35 -> 0 | J35: =+K35+L35+M35 -> 2 | K35: 2 | O35: =+P35+Q35+R35+S35+T35 -> 1 | T35: =+U35+V35+W35 -> 1 | V35: 1 | Y35: =+O35+X35 -> 1 | AB35: 1 | AE35: 1 | AF35: =+AG35+AH35 -> 1 | AH35: 1 | AL35: 1 | AM35: =+AK35+AL35 -> 1 | AO35: 1
A36: 2.5 | B36: ä³ÛÙ³Ý³·ñÇÁ í³í»ñ ×³Ý³ã»Éáõ í»ñ³µ»ñÛ³É | E36: =+F36+G36+H36+I36 -> 0 | J36: =+K36+L36+M36 -> 0 | O36: =+P36+Q36+R36+S36+T36 -> 0 | T36: =+U36+V36+W36 -> 0 | Y36: =+O36+X36 -> 0 | AF36: =+AG36+AH36 -> 0 | AM36: =+AK36+AL36 -> 0
A37: 2.6 | B37: ä³ÛÙ³Ý³·ñÇó Í³·áÕ Çñ³íáõÝùÝ»ñÁ ·ñ³Ýó»Éáõ í»ñ³µ»ñÛ³É | E37: =+F37+G37+H37+I37 -> 0 | J37: =+K37+L37+M37 -> 0 | O37: =+P37+Q37+R37+S37+T37 -> 0 | T37: =+U37+V37+W37 -> 0 | Y37: =+O37+X37 -> 0 | AF37: =+AG37+AH37 -> 0 | AM37: =+AK37+AL37 -> 0
A38: 2.7 | B38: ä³ÛÙ³Ý³·ÇñÁ ÷á÷áË»Éáõ ¨ ÉáõÍ»Éáõ í»ñ³µ»ñÛ³É | E38: =+F38+G38+H38+I38 -> 0 | J38: =+K38+L38+M38 -> 1 | K38: 1 | O38: =+P38+Q38+R38+S38+T38 -> 0 | T38: =+U38+V38+W38 -> 0 | Y38: =+O38+X38 -> 0 | AB38: 1 | AF38: =+AG38+AH38 -> 0 | AM38: =+AK38+AL38 -> 0
A39: 2.8 | B39: ä³ÛÙ³Ý³·Çñ ÏÝù»ÉáõÝ å³ñï³íáñ»óÝ»Éáõ í»ñ³µ»ñÛ³É | E39: =+F39+G39+H39+I39 -> 1 | G39: 1 | J39: =+K39+L39+M39 -> 0 | O39: =+P39+Q39+R39+S39+T39 -> 1 | R39: 1 | T39: =+U39+V39+W39 -> 0 | Y39: =+O39+X39 -> 1 | AD39: 1 | AF39: =+AG39+AH39 -> 1 | AH39: 1 | AJ39: 1 | AM39: =+AK39+AL39 -> 0
A40: 2.9 | B40: ²ÛÉ í»×»ñ | E40: =+F40+G40+H40+I40 -> 0 | J40: =+K40+L40+M40 -> 0 | O40: =+P40+Q40+R40+S40+T40 -> 0 | T40: =+U40+V40+W40 -> 0 | Y40: =+O40+X40 -> 0 | AF40: =+AG40+AH40 -> 0 | AM40: =+AK40+AL40 -> 0
...

Sheet Հ.Ղազարյան
A1: 2017թ. | G1: Ð²ÞìºîìàôÂÚàôÜ | AM1: Ð³í»Éí³Í Ð³Û³ëï³ÝÇ Ð³Ýñ³å»ïáõÃÛ³Ý ¸³ï³ñ³ÝÝ»ñÇ Ý³Ë³·³ÑÝ»ñÇ ËáñÑñ¹Ç 29.01.2018Ã. ÃÇí 10-È áñáßÙ³Ý
A2: ՀՀ ÞÆð²ÎÆ ՄԱՐԶԻ ÀÜ¸Ð²Üàôð Æð²ì²êàôÂÚ²Ü ²è²æÆÜ ²îÚ²ÜÆ ¸²î²ð²ÜÆ ¸²î²ìàð | Z2: Հ. ՂԱԶԱՐÚ²ÜÆ | AH2: ¶àðÌàôÜºàôÂÚ²Ü ìºð²´ºðÚ²È
A3: ø²Ô²ø²òÆ²Î²Ü ¶àðÌºðàì
A4: ՀՀ ÞÇñ³ÏÇ մարզի ÁÝ¹Ñ³Ýáõñ Çñ³í³ëáõÃÛ³Ý ³é³çÇÝ ³ïÛ³ÝÇ ¹³ï³ñ³ÝÇ ù³Õ³ù³óÇ³Ï³Ý Ù³ëÝ³·Çï³óáõÙ áõÝ»óáÕ ¹³ï³íáñÝ»ñÇ Ñ³ëïÇùÝ»ñÇ ù³Ý³ÏÁ` 9
E5: Ð³ßí»ïáõ Å³Ù³Ý³Ï³Ñ³ïí³ÍáõÙ Ý³Ëáñ¹ Ñ³ßí»ïáõ Å³Ù³Ý³Ï³Ñ³ïí³ÍÇó ÷áË³Ýóí³Í ·áñÍ»ñÇ ÁÝ¹Ñ³Ýáõñ ÃÇíÁ | J5: Ð³ßí»ïáõ Å³Ù³Ý³Ï³Ñ³ïí³ÍáõÙëï³óí³Í ·áñÍ»ñÇ (³Û¹ ÃíáõÙ` Ñ³Ûó³¹ÇÙáõÙÝ»ñÇ, ¹ÇÙáõÙÝ»ñÇ) ÁÝ¹Ñ³Ýáõñ ÃÇíÁ | N5: öáË³Ýóí»É ¿ ³ÛÉ ¹³ï³íáñÇ (Ï³½ÙÇ ÷á÷áËáõÃÛáõÝ) | O5: Ð³ßí»ïáõ Å³Ù³Ý³Ï³Ñ³ïí³ÍáõÙ ³í³ñïí³Í ·áñÍ»ñÇ ÁÝ¹Ñ³Ýáõñ ÃÇíÁ | Z5: ¶áñÍÝ áõÕ³ñÏí»É ¿ Áëï ÁÝ¹¹³ïáõÃÛ³Ý | AA5: Ð³ßí»ïáõ Å³Ù³Ý³Ï³Ñ³ïí³ÍáõÙ Ï³ë»óí³Í í³ñáõÛÃÝ»ñáí ·áñÍ»ñÇ ÁÝ¹Ñ³Ýáõñ ÃÇíÁ | AB5: Ð³ßí»ïáõ Å³Ù³Ý³Ï³Ñ³ïí³ÍáõÙ ³Ý³í³ñï ·áñÍ»ñÇ ÁÝ¹Ñ³Ýáõñ ÃÇíÁ | AC5: ²Û¹ ÃíáõÙª Ï³ë»óí³Í | AD5: ´áÕáù³ñÏí³Í ¹³ï³Ï³Ý ³Ïï»ñÁ | AI5: ²í³ñïí³Í ¹³ï³Ï³Ý ·áñÍ»ñÇ µáÕáù³ñÏÙ³Ý ïáÏáëÁ (Ñ³ßí»ïáõ Å³Ù³Ý³Ï³ßñç³ÝáõÙ) | AJ5: ²Ý³í³ñï µáÕáùÝ»ñ | AK5: ´»Ï³Ýí³Í ¹³ï³Ï³Ý ³Ïï»ñÁ | AP5: µ»Ï³ÝáõÙÝ»ñÇ ïáÏáëÁ ³í³ñïí³Í ·áñÍ»ñÇó(Ñ³ßí»ïáõ Å³Ù³Ý³Ï³ßñç³ÝáõÙ) | AQ5: Î³ÛáõÝáõÃÛ³Ý ïáÏáëÁ ³í³ñïí³Í ·áñÍ»ñÇó(Ñ³ßí»ïáõ Å³Ù³Ý³Ï³ßñç³ÝáõÙ) | AR5: µ»Ï³ÝáõÙÝ»ñÇ ïáÏáëÁ µáÕáù³ñÏí³Í ·áñÍ»ñÇó(Ñ³ßí»ïáõ Å³Ù³Ý³Ï³ßñç³ÝáõÙ) | AS5: Ï³ÛáõÝáõÃÛ³Ý ïáÏáëÁ(Ñ³ßí»ïáõ Å³Ù³Ý³Ï³ßñç³ÝáõÙ)
