Workbook

Sheet Ընդհանուր
A1: 2022թ. 1-ին կիսամյակի | C1: Ð²ÞìºîìàôÂÚàôÜ
A2: ØÇÝã¹³ï³Ï³Ý í³ñáõÛÃÇ ÝÏ³ïÙ³Ùµ ¹³ï³Ï³Ý í»ñ³ÑëÏáÕáõÃÛ³Ý, ¹³ï³Ï³Ý ³Ïï»ñÇ ¨ ¹³ï³Ï³Ý Ñ³ÝÓÝ³ñ³ñáõÃÛáõÝÝ»ñÇ Ï³ï³ñÙ³Ý Ñ»ï Ï³åí³Í ÙÇçÝáñ¹áõÃÛáõÝÝ»ñÇ í»ñ³µ»ñÛ³É ¹³ï³Ï³Ý ·áñÍ»ñáí ÐÐ ³é³çÇÝ ³ïÛ³ÝÇ ÁÝ¹Ñ³Ýáõñ Çñ³í³ëáõÃÛ³Ý ¹³ï³ñ³ÝÝերÇ ·áñÍáõÝ»áõÃÛ³Ý í»ñ³µ»ñÛ³É
A3: êïáõ·Çã Ñ³í³ë³ñáõÙ` 1+2=7+8+9, 7=3+4+5+6, | D3: Ñ³ßí»ïáõ Å³Ù³Ý³Ï³Ñ³ïí³ÍÇ ëÏ½µáõÙ Ý³Ëáñ¹ Ñ³ßí»ïáõ Å³Ù³Ý³Ï³Ñ³ïí³ÍÇó ÷áË³Ýóí³Í ·áñÍ»ñÇ ÁÝ¹Ñ³Ýáõñ ÃÇíÁ | E3: Ñ³ßí»ïáõ Å³Ù³Ý³Ï³Ñ³ïí³ÍáõÙ ëï³óí³Í ·áñÍ»ñÇ ÁÝ¹Ñ³Ýáõñ ÃÇíÁ | F3: Ñ³ßí»ïáõ Å³Ù³Ý³Ï³Ñ³ïí³ÍáõÙ ³í³ñïí³Í ·áñÍ»ñÇ ÁÝ¹Ñ³Ýáõñ ÃÇíÁ | K3: áõÕ³ñÏí»É ¿ Áëï ÁÝ¹¹³ïáõÃÛ³Ý | L3: Ñ³ßí»ïáõ Å³Ù³Ý³Ï³Ñ³ïí³ÍáõÙ ³Ý³í³ñï ·áñÍ»ñÇ ÁÝ¹Ñ³Ýáõñ ÃÇíÁ | M3: µáÕáù³ñÏí»É ¿ í»ñ³ùÝÝÇã ¹³ï³ñ³Ý
F4: Ù»ñÅí»É ¿ | G4: µ³í³ñ³ñí»É ¿ | H4: µ³í³ñ³ñí»É ¿ Ù³ëÝ³ÏÇ | I4: ÃáÕÝí»É ¿ ³é³Ýó ùÝÝáõÃÛ³Ý | J4: ÁÝ¹³Ù»ÝÁ
A5: 1. ØÇÝã¹³ï³Ï³Ý í³ñáõÛÃÇ ÝÏ³ïÙ³Ùµ ¹³ï³Ï³Ý í»ñ³ÑëÏáÕáõÃÛ³Ý áÉáñï | D5: 1 | E5: 2 | F5: 3 | G5: 4 | H5: 5 | I5: 6 | J5: 7 | K5: 8 | L5: 9 | M5: 10
A6: 1 | B6: Ï³É³ÝùÁ áñå»ë Ë³÷³ÝÙ³Ý ÙÇçáó ÏÇñ³é»Éáõ Ù³ëÇÝ ÙÇçÝáñ¹áõÃÛáõÝÝ»ñ | D6: =SUM(Տավուշ!D6+'Արագածոտն '!D6+'Երևան քաղաք'!D6+' Արարատ և Վայոց ձոր'!D6+Արմավիր!D6+Լոռի!D6+Կոտայք!D6+Սյունիք!D6+Գեղարքունիք!D6+Շիրակ!D6) -> 0 | E6: =SUM(Տավուշ!E6+'Արագածոտն '!E6+'Երևան քաղաք'!E6+' Արարատ և Վայոց ձոր'!E6+Արմավիր!E6+Լոռի!E6+Կոտայք!E6+Սյունիք!E6+Գեղարքունիք!E6+Շիրակ!E6) -> 1094 | F6: =SUM(Տավուշ!F6+'Արագածոտն '!F6+'Երևան քաղաք'!F6+' Արարատ և Վայոց ձոր'!F6+Արմավիր!F6+Լոռի!F6+Կոտայք!F6+Սյունիք!F6+Գեղարքունիք!F6+Շիրակ!F6) -> 205 | G6: =SUM(Տավուշ!G6+'Արագածոտն '!G6+'Երևան քաղաք'!G6+' Արարատ և Վայոց ձոր'!G6+Արմավիր!G6+Լոռի!G6+Կոտայք!G6+Սյունիք!G6+Գեղարքունիք!G6+Շիրակ!G6) -> 817 | H6: =SUM(Տավուշ!H6+'Արագածոտն '!H6+'Երևան քաղաք'!H6+' Արարատ և Վայոց ձոր'!H6+Արմավիր!H6+Լոռի!H6+Կոտայք!H6+Սյունիք!H6+Գեղարքունիք!H6+Շիրակ!H6) -> 62 | I6: =SUM(Տավուշ!I6+'Արագածոտն '!I6+'Երևան քաղաք'!I6+' Արարատ և Վայոց ձոր'!I6+Արմավիր!I6+Լոռի!I6+Կոտայք!I6+Սյունիք!I6+Գեղարքունիք!I6+Շիրակ!I6) -> 4 | J6: =SUM(Տավուշ!J6+'Արագածոտն '!J6+'Երևան քաղաք'!J6+' Արարատ և Վայոց ձոր'!J6+Արմավիր!J6+Լոռի!J6+Կոտայք!J6+Սյունիք!J6+Գեղարքունիք!J6+Շիրակ!J6) -> 1088 | K6: =SUM(Տավուշ!K6+'Արագածոտն '!K6+'Երևան քաղաք'!K6+' Արարատ և Վայոց ձոր'!K6+Արմավիր!K6+Լոռի!K6+Կոտայք!K6+Սյունիք!K6+Գեղարքունիք!K6+Շիրակ!K6) -> 1 | ... M6: =SUM(Տավուշ!M6+'Արագածոտն '!M6+'Երևան քաղաք'!M6+' Արարատ և Վայոց ձոր'!M6+Արմավիր!M6+Լոռի!M6+Կոտայք!M6+Սյունիք!M6+Գեղարքունիք!M6+Շիրակ!M6) -> 455
A7: 2 | B7: Ï³É³ÝùÇ Å³ÙÏ»ïÁ »ñÏ³ñ³óÝ»Éáõ Ù³ëÇÝ ÙÇçÝáñ¹áõÃÛáõÝÝ»ñ | D7: =SUM(Տավուշ!D7+'Արագածոտն '!D7+'Երևան քաղաք'!D7+' Արարատ և Վայոց ձոր'!D7+Արմավիր!D7+Լոռի!D7+Կոտայք!D7+Սյունիք!D7+Գեղարքունիք!D7+Շիրակ!D7) -> 11 | E7: =SUM(Տավուշ!E7+'Արագածոտն '!E7+'Երևան քաղաք'!E7+' Արարատ և Վայոց ձոր'!E7+Արմավիր!E7+Լոռի!E7+Կոտայք!E7+Սյունիք!E7+Գեղարքունիք!E7+Շիրակ!E7) -> 722 | F7: =SUM(Տավուշ!F7+'Արագածոտն '!F7+'Երևան քաղաք'!F7+' Արարատ և Վայոց ձոր'!F7+Արմավիր!F7+Լոռի!F7+Կոտայք!F7+Սյունիք!F7+Գեղարքունիք!F7+Շիրակ!F7) -> 159 | G7: =SUM(Տավուշ!G7+'Արագածոտն '!G7+'Երևան քաղաք'!G7+' Արարատ և Վայոց ձոր'!G7+Արմավիր!G7+Լոռի!G7+Կոտայք!G7+Սյունիք!G7+Գեղարքունիք!G7+Շիրակ!G7) -> 470 | H7: =SUM(Տավուշ!H7+'Արագածոտն '!H7+'Երևան քաղաք'!H7+' Արարատ և Վայոց ձոր'!H7+Արմավիր!H7+Լոռի!H7+Կոտայք!H7+Սյունիք!H7+Գեղարքունիք!H7+Շիրակ!H7) -> 92 | I7: =SUM(Տավուշ!I7+'Արագածոտն '!I7+'Երևան քաղաք'!I7+' Արարատ և Վայոց ձոր'!I7+Արմավիր!I7+Լոռի!I7+Կոտայք!I7+Սյունիք!I7+Գեղարքունիք!I7+Շիրակ!I7) -> 0 | J7: =SUM(Տավուշ!J7+'Արագածոտն '!J7+'Երևան քաղաք'!J7+' Արարատ և Վայոց ձոր'!J7+Արմավիր!J7+Լոռի!J7+Կոտայք!J7+Սյունիք!J7+Գեղարքունիք!J7+Շիրակ!J7) -> 721 | K7: =SUM(Տավուշ!K7+'Արագածոտն '!K7+'Երևան քաղաք'!K7+' Արարատ և Վայոց ձոր'!K7+Արմավիր!K7+Լոռի!K7+Կոտայք!K7+Սյունիք!K7+Գեղարքունիք!K7+Շիրակ!K7) -> 0 | ... M7: =SUM(Տավուշ!M7+'Արագածոտն '!M7+'Երևան քաղաք'!M7+' Արարատ և Վայոց ձոր'!M7+Արմավիր!M7+Լոռի!M7+Կոտայք!M7+Սյունիք!M7+Գեղարքունիք!M7+Շիրակ!M7) -> 378
A8: 3 | B8: Ï³É³ÝùÇ í»ñ³Ñ³ëï³ïÙ³Ý Ù³ëÇÝ ÙÇçÝáñ¹áõÃÛáõÝÝ»ñ | D8: =SUM(Տավուշ!D8+'Արագածոտն '!D8+'Երևան քաղաք'!D8+' Արարատ և Վայոց ձոր'!D8+Արմավիր!D8+Լոռի!D8+Կոտայք!D8+Սյունիք!D8+Գեղարքունիք!D8+Շիրակ!D8) -> 0 | E8: =SUM(Տավուշ!E8+'Արագածոտն '!E8+'Երևան քաղաք'!E8+' Արարատ և Վայոց ձոր'!E8+Արմավիր!E8+Լոռի!E8+Կոտայք!E8+Սյունիք!E8+Գեղարքունիք!E8+Շիրակ!E8) -> 91 | F8: =SUM(Տավուշ!F8+'Արագածոտն '!F8+'Երևան քաղաք'!F8+' Արարատ և Վայոց ձոր'!F8+Արմավիր!F8+Լոռի!F8+Կոտայք!F8+Սյունիք!F8+Գեղարքունիք!F8+Շիրակ!F8) -> 16 | G8: =SUM(Տավուշ!G8+'Արագածոտն '!G8+'Երևան քաղաք'!G8+' Արարատ և Վայոց ձոր'!G8+Արմավիր!G8+Լոռի!G8+Կոտայք!G8+Սյունիք!G8+Գեղարքունիք!G8+Շիրակ!G8) -> 65 | H8: =SUM(Տավուշ!H8+'Արագածոտն '!H8+'Երևան քաղաք'!H8+' Արարատ և Վայոց ձոր'!H8+Արմավիր!H8+Լոռի!H8+Կոտայք!H8+Սյունիք!H8+Գեղարքունիք!H8+Շիրակ!H8) -> 9 | I8: =SUM(Տավուշ!I8+'Արագածոտն '!I8+'Երևան քաղաք'!I8+' Արարատ և Վայոց ձոր'!I8+Արմավիր!I8+Լոռի!I8+Կոտայք!I8+Սյունիք!I8+Գեղարքունիք!I8+Շիրակ!I8) -> 0 | J8: =SUM(Տավուշ!J8+'Արագածոտն '!J8+'Երևան քաղաք'!J8+' Արարատ և Վայոց ձոր'!J8+Արմավիր!J8+Լոռի!J8+Կոտայք!J8+Սյունիք!J8+Գեղարքունիք!J8+Շիրակ!J8) -> 90 | K8: =SUM(Տավուշ!K8+'Արագածոտն '!K8+'Երևան քաղաք'!K8+' Արարատ և Վայոց ձոր'!K8+Արմավիր!K8+Լոռի!K8+Կոտայք!K8+Սյունիք!K8+Գեղարքունիք!K8+Շիրակ!K8) -> 0 | ... M8: =SUM(Տավուշ!M8+'Արագածոտն '!M8+'Երևան քաղաք'!M8+' Արարատ և Վայոց ձոր'!M8+Արմավիր!M8+Լոռի!M8+Կոտայք!M8+Սյունիք!M8+Գեղարքունիք!M8+Շիրակ!M8) -> 51
A9: 4 | B9: ·ñ³íÁ áñå»ë Ï³É³Ý³íáñÙ³Ý ³ÛÉÁÝïñ³Ýù³ÛÇÝ Ë³÷³ÝÙ³Ý ÙÇçáó ÏÇñ³é»Éáõ Ù³ëÇÝ ÙÇçÝáñ¹áõÃÛáõÝÝ»ñ | D9: =SUM(Տավուշ!D9+'Արագածոտն '!D9+'Երևան քաղաք'!D9+' Արարատ և Վայոց ձոր'!D9+Արմավիր!D9+Լոռի!D9+Կոտայք!D9+Սյունիք!D9+Գեղարքունիք!D9+Շիրակ!D9) -> 2 | E9: =SUM(Տավուշ!E9+'Արագածոտն '!E9+'Երևան քաղաք'!E9+' Արարատ և Վայոց ձոր'!E9+Արմավիր!E9+Լոռի!E9+Կոտայք!E9+Սյունիք!E9+Գեղարքունիք!E9+Շիրակ!E9) -> 54 | F9: =SUM(Տավուշ!F9+'Արագածոտն '!F9+'Երևան քաղաք'!F9+' Արարատ և Վայոց ձոր'!F9+Արմավիր!F9+Լոռի!F9+Կոտայք!F9+Սյունիք!F9+Գեղարքունիք!F9+Շիրակ!F9) -> 41 | G9: =SUM(Տավուշ!G9+'Արագածոտն '!G9+'Երևան քաղաք'!G9+' Արարատ և Վայոց ձոր'!G9+Արմավիր!G9+Լոռի!G9+Կոտայք!G9+Սյունիք!G9+Գեղարքունիք!G9+Շիրակ!G9) -> 3 | H9: =SUM(Տավուշ!H9+'Արագածոտն '!H9+'Երևան քաղաք'!H9+' Արարատ և Վայոց ձոր'!H9+Արմավիր!H9+Լոռի!H9+Կոտայք!H9+Սյունիք!H9+Գեղարքունիք!H9+Շիրակ!H9) -> 1 | I9: =SUM(Տավուշ!I9+'Արագածոտն '!I9+'Երևան քաղաք'!I9+' Արարատ և Վայոց ձոր'!I9+Արմավիր!I9+Լոռի!I9+Կոտայք!I9+Սյունիք!I9+Գեղարքունիք!I9+Շիրակ!I9) -> 0 | J9: =SUM(Տավուշ!J9+'Արագածոտն '!J9+'Երևան քաղաք'!J9+' Արարատ և Վայոց ձոր'!J9+Արմավիր!J9+Լոռի!J9+Կոտայք!J9+Սյունիք!J9+Գեղարքունիք!J9+Շիրակ!J9) -> 45 | K9: =SUM(Տավուշ!K9+'Արագածոտն '!K9+'Երևան քաղաք'!K9+' Արարատ և Վայոց ձոր'!K9+Արմավիր!K9+Լոռի!K9+Կոտայք!K9+Սյունիք!K9+Գեղարքունիք!K9+Շիրակ!K9) -> 0 | ... M9: =SUM(Տավուշ!M9+'Արագածոտն '!M9+'Երևան քաղաք'!M9+' Արարատ և Վայոց ձոր'!M9+Արմավիր!M9+Լոռի!M9+Կոտայք!M9+Սյունիք!M9+Գեղարքունիք!M9+Շիրակ!M9) -> 17
A10: 5 | B10: Ëáõ½³ñÏáõÃÛ³Ý Ï³ï³ñÙ³Ý Ù³ëÇÝ ÙÇçÝáñ¹áõÃÛáõÝÝ»ñ | D10: =SUM(Տավուշ!D10+'Արագածոտն '!D10+'Երևան քաղաք'!D10+' Արարատ և Վայոց ձոր'!D10+Արմավիր!D10+Լոռի!D10+Կոտայք!D10+Սյունիք!D10+Գեղարքունիք!D10+Շիրակ!D10) -> 0 | E10: =SUM(Տավուշ!E10+'Արագածոտն '!E10+'Երևան քաղաք'!E10+' Արարատ և Վայոց ձոր'!E10+Արմավիր!E10+Լոռի!E10+Կոտայք!E10+Սյունիք!E10+Գեղարքունիք!E10+Շիրակ!E10) -> 3658 | F10: =SUM(Տավուշ!F10+'Արագածոտն '!F10+'Երևան քաղաք'!F10+' Արարատ և Վայոց ձոր'!F10+Արմավիր!F10+Լոռի!F10+Կոտայք!F10+Սյունիք!F10+Գեղարքունիք!F10+Շիրակ!F10) -> 488 | G10: =SUM(Տավուշ!G10+'Արագածոտն '!G10+'Երևան քաղաք'!G10+' Արարատ և Վայոց ձոր'!G10+Արմավիր!G10+Լոռի!G10+Կոտայք!G10+Սյունիք!G10+Գեղարքունիք!G10+Շիրակ!G10) -> 2615 | H10: =SUM(Տավուշ!H10+'Արագածոտն '!H10+'Երևան քաղաք'!H10+' Արարատ և Վայոց ձոր'!H10+Արմավիր!H10+Լոռի!H10+Կոտայք!H10+Սյունիք!H10+Գեղարքունիք!H10+Շիրակ!H10) -> 553 | I10: =SUM(Տավուշ!I10+'Արագածոտն '!I10+'Երևան քաղաք'!I10+' Արարատ և Վայոց ձոր'!I10+Արմավիր!I10+Լոռի!I10+Կոտայք!I10+Սյունիք!I10+Գեղարքունիք!I10+Շիրակ!I10) -> 0 | J10: =SUM(Տավուշ!J10+'Արագածոտն '!J10+'Երևան քաղաք'!J10+' Արարատ և Վայոց ձոր'!J10+Արմավիր!J10+Լոռի!J10+Կոտայք!J10+Սյունիք!J10+Գեղարքունիք!J10+Շիրակ!J10) -> 3656 | K10: =SUM(Տավուշ!K10+'Արագածոտն '!K10+'Երևան քաղաք'!K10+' Արարատ և Վայոց ձոր'!K10+Արմավիր!K10+Լոռի!K10+Կոտայք!K10+Սյունիք!K10+Գեղարքունիք!K10+Շիրակ!K10) -> 0 | ... M10: =SUM(Տավուշ!M10+'Արագածոտն '!M10+'Երևան քաղաք'!M10+' Արարատ և Վայոց ձոր'!M10+Արմավիր!M10+Լոռի!M10+Կոտայք!M10+Սյունիք!M10+Գեղարքունիք!M10+Շիրակ!M10) -> 77
A11: 6 | B11: µ³ÝÏ³ÛÇÝ, ³å³Ñáí³·ñ³Ï³Ý, Ýáï³ñ³Ï³Ý ·³ÕïÝÇù Ï³½ÙáÕ ï»Õ»ÏáõÃÛáõÝÝ»ñÇ ëï³óÙ³Ý Ñ³Ù³ñ Ëáõ½³ñÏáõÃÛ³Ý Ï³Ù ³é·ñ³íÙ³Ý Ï³ï³ñÙ³Ý Ù³ëÇÝ ÙÇçÝáñ¹áõÃÛáõÝÝ»ñ | D11: =SUM(Տավուշ!D11+'Արագածոտն '!D11+'Երևան քաղաք'!D11+' Արարատ և Վայոց ձոր'!D11+Արմավիր!D11+Լոռի!D11+Կոտայք!D11+Սյունիք!D11+Գեղարքունիք!D11+Շիրակ!D11) -> 0 | E11: =SUM(Տավուշ!E11+'Արագածոտն '!E11+'Երևան քաղաք'!E11+' Արարատ և Վայոց ձոր'!E11+Արմավիր!E11+Լոռի!E11+Կոտայք!E11+Սյունիք!E11+Գեղարքունիք!E11+Շիրակ!E11) -> 345 | F11: =SUM(Տավուշ!F11+'Արագածոտն '!F11+'Երևան քաղաք'!F11+' Արարատ և Վայոց ձոր'!F11+Արմավիր!F11+Լոռի!F11+Կոտայք!F11+Սյունիք!F11+Գեղարքունիք!F11+Շիրակ!F11) -> 29 | G11: =SUM(Տավուշ!G11+'Արագածոտն '!G11+'Երևան քաղաք'!G11+' Արարատ և Վայոց ձոր'!G11+Արմավիր!G11+Լոռի!G11+Կոտայք!G11+Սյունիք!G11+Գեղարքունիք!G11+Շիրակ!G11) -> 283 | H11: =SUM(Տավուշ!H11+'Արագածոտն '!H11+'Երևան քաղաք'!H11+' Արարատ և Վայոց ձոր'!H11+Արմավիր!H11+Լոռի!H11+Կոտայք!H11+Սյունիք!H11+Գեղարքունիք!H11+Շիրակ!H11) -> 33 | I11: =SUM(Տավուշ!I11+'Արագածոտն '!I11+'Երևան քաղաք'!I11+' Արարատ և Վայոց ձոր'!I11+Արմավիր!I11+Լոռի!I11+Կոտայք!I11+Սյունիք!I11+Գեղարքունիք!I11+Շիրակ!I11) -> 0 | J11: =SUM(Տավուշ!J11+'Արագածոտն '!J11+'Երևան քաղաք'!J11+' Արարատ և Վայոց ձոր'!J11+Արմավիր!J11+Լոռի!J11+Կոտայք!J11+Սյունիք!J11+Գեղարքունիք!J11+Շիրակ!J11) -> 345 | K11: =SUM(Տավուշ!K11+'Արագածոտն '!K11+'Երևան քաղաք'!K11+' Արարատ և Վայոց ձոր'!K11+Արմավիր!K11+Լոռի!K11+Կոտայք!K11+Սյունիք!K11+Գեղարքունիք!K11+Շիրակ!K11) -> 0 | ... M11: =SUM(Տավուշ!M11+'Արագածոտն '!M11+'Երևան քաղաք'!M11+' Արարատ և Վայոց ձոր'!M11+Արմավիր!M11+Լոռի!M11+Կոտայք!M11+Սյունիք!M11+Գեղարքունիք!M11+Շիրակ!M11) -> 4
A12: 7 | B12: Ý³Ù³Ï³·ñáõÃÛ³Ý, Ñ»é³·ñ³Ï³Ý, ÷áuï³ÛÇÝ Ñ³Õáñ¹áõÙÝ»ñÇ ÑëÏáÕáõÃÛ³Ý Ù³ëÇÝ ÙÇçÝáñ¹áõÃÛáõÝÝ»ñ | D12: =SUM(Տավուշ!D12+'Արագածոտն '!D12+'Երևան քաղաք'!D12+' Արարատ և Վայոց ձոր'!D12+Արմավիր!D12+Լոռի!D12+Կոտայք!D12+Սյունիք!D12+Գեղարքունիք!D12+Շիրակ!D12) -> 0 | E12: =SUM(Տավուշ!E12+'Արագածոտն '!E12+'Երևան քաղաք'!E12+' Արարատ և Վայոց ձոր'!E12+Արմավիր!E12+Լոռի!E12+Կոտայք!E12+Սյունիք!E12+Գեղարքունիք!E12+Շիրակ!E12) -> 845 | F12: =SUM(Տավուշ!F12+'Արագածոտն '!F12+'Երևան քաղաք'!F12+' Արարատ և Վայոց ձոր'!F12+Արմավիր!F12+Լոռի!F12+Կոտայք!F12+Սյունիք!F12+Գեղարքունիք!F12+Շիրակ!F12) -> 107 | G12: =SUM(Տավուշ!G12+'Արագածոտն '!G12+'Երևան քաղաք'!G12+' Արարատ և Վայոց ձոր'!G12+Արմավիր!G12+Լոռի!G12+Կոտայք!G12+Սյունիք!G12+Գեղարքունիք!G12+Շիրակ!G12) -> 684 | H12: =SUM(Տավուշ!H12+'Արագածոտն '!H12+'Երևան քաղաք'!H12+' Արարատ և Վայոց ձոր'!H12+Արմավիր!H12+Լոռի!H12+Կոտայք!H12+Սյունիք!H12+Գեղարքունիք!H12+Շիրակ!H12) -> 54 | I12: =SUM(Տավուշ!I12+'Արագածոտն '!I12+'Երևան քաղաք'!I12+' Արարատ և Վայոց ձոր'!I12+Արմավիր!I12+Լոռի!I12+Կոտայք!I12+Սյունիք!I12+Գեղարքունիք!I12+Շիրակ!I12) -> 0 | J12: =SUM(Տավուշ!J12+'Արագածոտն '!J12+'Երևան քաղաք'!J12+' Արարատ և Վայոց ձոր'!J12+Արմավիր!J12+Լոռի!J12+Կոտայք!J12+Սյունիք!J12+Գեղարքունիք!J12+Շիրակ!J12) -> 845 | K12: =SUM(Տավուշ!K12+'Արագածոտն '!K12+'Երևան քաղաք'!K12+' Արարատ և Վայոց ձոր'!K12+Արմավիր!K12+Լոռի!K12+Կոտայք!K12+Սյունիք!K12+Գեղարքունիք!K12+Շիրակ!K12) -> 0 | ... M12: =SUM(Տավուշ!M12+'Արագածոտն '!M12+'Երևան քաղաք'!M12+' Արարատ և Վայոց ձոր'!M12+Արմավիր!M12+Լոռի!M12+Կոտայք!M12+Սյունիք!M12+Գեղարքունիք!M12+Շիրակ!M12) -> 24
A13: 8 | B13: Ñ»é³Ëáu³ÛÇÝ Ï³Ù Ï³åÇ ³ÛÉ ÙÇçáóÝ»ñáí ï³ñíáÕ Ëáu³ÏóáõÃÛáõÝÝ»ñÇ ÉuÙ³Ý ¨ Ó³ÛÝ³·ñ³éÙ³Ý Ù³ëÇÝ ÙÇçÝáñ¹áõÃÛáõÝÝ»ñ | D13: =SUM(Տավուշ!D13+'Արագածոտն '!D13+'Երևան քաղաք'!D13+' Արարատ և Վայոց ձոր'!D13+Արմավիր!D13+Լոռի!D13+Կոտայք!D13+Սյունիք!D13+Գեղարքունիք!D13+Շիրակ!D13) -> 0 | E13: =SUM(Տավուշ!E13+'Արագածոտն '!E13+'Երևան քաղաք'!E13+' Արարատ և Վայոց ձոր'!E13+Արմավիր!E13+Լոռի!E13+Կոտայք!E13+Սյունիք!E13+Գեղարքունիք!E13+Շիրակ!E13) -> 82 | F13: =SUM(Տավուշ!F13+'Արագածոտն '!F13+'Երևան քաղաք'!F13+' Արարատ և Վայոց ձոր'!F13+Արմավիր!F13+Լոռի!F13+Կոտայք!F13+Սյունիք!F13+Գեղարքունիք!F13+Շիրակ!F13) -> 17 | G13: =SUM(Տավուշ!G13+'Արագածոտն '!G13+'Երևան քաղաք'!G13+' Արարատ և Վայոց ձոր'!G13+Արմավիր!G13+Լոռի!G13+Կոտայք!G13+Սյունիք!G13+Գեղարքունիք!G13+Շիրակ!G13) -> 64 | H13: =SUM(Տավուշ!H13+'Արագածոտն '!H13+'Երևան քաղաք'!H13+' Արարատ և Վայոց ձոր'!H13+Արմավիր!H13+Լոռի!H13+Կոտայք!H13+Սյունիք!H13+Գեղարքունիք!H13+Շիրակ!H13) -> 1 | I13: =SUM(Տավուշ!I13+'Արագածոտն '!I13+'Երևան քաղաք'!I13+' Արարատ և Վայոց ձոր'!I13+Արմավիր!I13+Լոռի!I13+Կոտայք!I13+Սյունիք!I13+Գեղարքունիք!I13+Շիրակ!I13) -> 0 | J13: =SUM(Տավուշ!J13+'Արագածոտն '!J13+'Երևան քաղաք'!J13+' Արարատ և Վայոց ձոր'!J13+Արմավիր!J13+Լոռի!J13+Կոտայք!J13+Սյունիք!J13+Գեղարքունիք!J13+Շիրակ!J13) -> 82 | K13: =SUM(Տավուշ!K13+'Արագածոտն '!K13+'Երևան քաղաք'!K13+' Արարատ և Վայոց ձոր'!K13+Արմավիր!K13+Լոռի!K13+Կոտայք!K13+Սյունիք!K13+Գեղարքունիք!K13+Շիրակ!K13) -> 0 | ... M13: =SUM(Տավուշ!M13+'Արագածոտն '!M13+'Երևան քաղաք'!M13+' Արարատ և Վայոց ձոր'!M13+Արմավիր!M13+Լոռի!M13+Կոտայք!M13+Սյունիք!M13+Գեղարքունիք!M13+Շիրակ!M13) -> 7
A14: 9 | B14: Ñ»é³ËáëÝ»ñÇ Ùáõïù³ÛÇÝ ¨ »Éù³ÛÇÝ í»ñÍ³ÝÙ³Ý ÃáõÛÉïíáõÃÛáõÝ ëï³Ý³Éáõ Ù³ëÇÝ ÙÇçÝáñ¹áõÃÛáõÝÝ»ñ | D14: =SUM(Տավուշ!D14+'Արագածոտն '!D14+'Երևան քաղաք'!D14+' Արարատ և Վայոց ձոր'!D14+Արմավիր!D14+Լոռի!D14+Կոտայք!D14+Սյունիք!D14+Գեղարքունիք!D14+Շիրակ!D14) -> 0 | E14: =SUM(Տավուշ!E14+'Արագածոտն '!E14+'Երևան քաղաք'!E14+' Արարատ և Վայոց ձոր'!E14+Արմավիր!E14+Լոռի!E14+Կոտայք!E14+Սյունիք!E14+Գեղարքունիք!E14+Շիրակ!E14) -> 4406 | F14: =SUM(Տավուշ!F14+'Արագածոտն '!F14+'Երևան քաղաք'!F14+' Արարատ և Վայոց ձոր'!F14+Արմավիր!F14+Լոռի!F14+Կոտայք!F14+Սյունիք!F14+Գեղարքունիք!F14+Շիրակ!F14) -> 115 | G14: =SUM(Տավուշ!G14+'Արագածոտն '!G14+'Երևան քաղաք'!G14+' Արարատ և Վայոց ձոր'!G14+Արմավիր!G14+Լոռի!G14+Կոտայք!G14+Սյունիք!G14+Գեղարքունիք!G14+Շիրակ!G14) -> 3787 | H14: =SUM(Տավուշ!H14+'Արագածոտն '!H14+'Երևան քաղաք'!H14+' Արարատ և Վայոց ձոր'!H14+Արմավիր!H14+Լոռի!H14+Կոտայք!H14+Սյունիք!H14+Գեղարքունիք!H14+Շիրակ!H14) -> 494 | I14: =SUM(Տավուշ!I14+'Արագածոտն '!I14+'Երևան քաղաք'!I14+' Արարատ և Վայոց ձոր'!I14+Արմավիր!I14+Լոռի!I14+Կոտայք!I14+Սյունիք!I14+Գեղարքունիք!I14+Շիրակ!I14) -> 0 | J14: =SUM(Տավուշ!J14+'Արագածոտն '!J14+'Երևան քաղաք'!J14+' Արարատ և Վայոց ձոր'!J14+Արմավիր!J14+Լոռի!J14+Կոտայք!J14+Սյունիք!J14+Գեղարքունիք!J14+Շիրակ!J14) -> 4396 | K14: =SUM(Տավուշ!K14+'Արագածոտն '!K14+'Երևան քաղաք'!K14+' Արարատ և Վայոց ձոր'!K14+Արմավիր!K14+Լոռի!K14+Կոտայք!K14+Սյունիք!K14+Գեղարքունիք!K14+Շիրակ!K14) -> 0 | ... M14: =SUM(Տավուշ!M14+'Արագածոտն '!M14+'Երևան քաղաք'!M14+' Արարատ և Վայոց ձոր'!M14+Արմավիր!M14+Լոռի!M14+Կոտայք!M14+Սյունիք!M14+Գեղարքունիք!M14+Շիրակ!M14) -> 45
A15: 10 | B15: Ñ»ï³ùÝÝáõÃÛ³Ý Ù³ñÙÝÇ ³ßË³ïáÕÇ, ùÝÝÇãÇ, ¹³ï³Ë³½Ç oå»ñ³ïÇí-Ñ»ï³Ëáõ½³Ï³Ý ·áñÍáÕáõÃÛáõÝÝ»ñ Çñ³Ï³Ý³óÝáÕ Ù³ñÙÇÝÝ»ñÇ ³ÝoñÇÝ³Ï³Ý ¨ ³ÝÑÇÙÝ áñáßáõÙÝ»ñÇ ¨ ·áñÍáÕáõÃÛáõÝÝ»ñÇ ¹»Ù µáÕáùÝ»ñ | D15: =SUM(Տավուշ!D15+'Արագածոտն '!D15+'Երևան քաղաք'!D15+' Արարատ և Վայոց ձոր'!D15+Արմավիր!D15+Լոռի!D15+Կոտայք!D15+Սյունիք!D15+Գեղարքունիք!D15+Շիրակ!D15) -> 807 | E15: =SUM(Տավուշ!E15+'Արագածոտն '!E15+'Երևան քաղաք'!E15+' Արարատ և Վայոց ձոր'!E15+Արմավիր!E15+Լոռի!E15+Կոտայք!E15+Սյունիք!E15+Գեղարքունիք!E15+Շիրակ!E15) -> 746 | F15: =SUM(Տավուշ!F15+'Արագածոտն '!F15+'Երևան քաղաք'!F15+' Արարատ և Վայոց ձոր'!F15+Արմավիր!F15+Լոռի!F15+Կոտայք!F15+Սյունիք!F15+Գեղարքունիք!F15+Շիրակ!F15) -> 521 | G15: =SUM(Տավուշ!G15+'Արագածոտն '!G15+'Երևան քաղաք'!G15+' Արարատ և Վայոց ձոր'!G15+Արմավիր!G15+Լոռի!G15+Կոտայք!G15+Սյունիք!G15+Գեղարքունիք!G15+Շիրակ!G15) -> 118 | H15: =SUM(Տավուշ!H15+'Արագածոտն '!H15+'Երևան քաղաք'!H15+' Արարատ և Վայոց ձոր'!H15+Արմավիր!H15+Լոռի!H15+Կոտայք!H15+Սյունիք!H15+Գեղարքունիք!H15+Շիրակ!H15) -> 18 | I15: =SUM(Տավուշ!I15+'Արագածոտն '!I15+'Երևան քաղաք'!I15+' Արարատ և Վայոց ձոր'!I15+Արմավիր!I15+Լոռի!I15+Կոտայք!I15+Սյունիք!I15+Գեղարքունիք!I15+Շիրակ!I15) -> 1 | J15: =SUM(Տավուշ!J15+'Արագածոտն '!J15+'Երևան քաղաք'!J15+' Արարատ և Վայոց ձոր'!J15+Արմավիր!J15+Լոռի!J15+Կոտայք!J15+Սյունիք!J15+Գեղարքունիք!J15+Շիրակ!J15) -> 658 | K15: =SUM(Տավուշ!K15+'Արագածոտն '!K15+'Երևան քաղաք'!K15+' Արարատ և Վայոց ձոր'!K15+Արմավիր!K15+Լոռի!K15+Կոտայք!K15+Սյունիք!K15+Գեղարքունիք!K15+Շիրակ!K15) -> 7 | ... M15: =SUM(Տավուշ!M15+'Արագածոտն '!M15+'Երևան քաղաք'!M15+' Արարատ և Վայոց ձոր'!M15+Արմավիր!M15+Լոռի!M15+Կոտայք!M15+Սյունիք!M15+Գեղարքունիք!M15+Շիրակ!M15) -> 290
A16: 11 | B16: ²½³ïáõÃÛáõÝÇó ½ñÏ»Éáõ Çñ³í³ã³÷áõÃÛ³Ý í»ñ³µ»ñÛ³É µáÕáùÝ»ñáí ·áñÍ»ñ | D16: =SUM(Տավուշ!D16+'Արագածոտն '!D16+'Երևան քաղաք'!D16+' Արարատ և Վայոց ձոր'!D16+Արմավիր!D16+Լոռի!D16+Կոտայք!D16+Սյունիք!D16+Գեղարքունիք!D16+Շիրակ!D16) -> 0 | E16: =SUM(Տավուշ!E16+'Արագածոտն '!E16+'Երևան քաղաք'!E16+' Արարատ և Վայոց ձոր'!E16+Արմավիր!E16+Լոռի!E16+Կոտայք!E16+Սյունիք!E16+Գեղարքունիք!E16+Շիրակ!E16) -> 179 | F16: =SUM(Տավուշ!F16+'Արագածոտն '!F16+'Երևան քաղաք'!F16+' Արարատ և Վայոց ձոր'!F16+Արմավիր!F16+Լոռի!F16+Կոտայք!F16+Սյունիք!F16+Գեղարքունիք!F16+Շիրակ!F16) -> 34 | G16: =SUM(Տավուշ!G16+'Արագածոտն '!G16+'Երևան քաղաք'!G16+' Արարատ և Վայոց ձոր'!G16+Արմավիր!G16+Լոռի!G16+Կոտայք!G16+Սյունիք!G16+Գեղարքունիք!G16+Շիրակ!G16) -> 42 | H16: =SUM(Տավուշ!H16+'Արագածոտն '!H16+'Երևան քաղաք'!H16+' Արարատ և Վայոց ձոր'!H16+Արմավիր!H16+Լոռի!H16+Կոտայք!H16+Սյունիք!H16+Գեղարքունիք!H16+Շիրակ!H16) -> 1 | I16: =SUM(Տավուշ!I16+'Արագածոտն '!I16+'Երևան քաղաք'!I16+' Արարատ և Վայոց ձոր'!I16+Արմավիր!I16+Լոռի!I16+Կոտայք!I16+Սյունիք!I16+Գեղարքունիք!I16+Շիրակ!I16) -> 2 | J16: =SUM(Տավուշ!J16+'Արագածոտն '!J16+'Երևան քաղաք'!J16+' Արարատ և Վայոց ձոր'!J16+Արմավիր!J16+Լոռի!J16+Կոտայք!J16+Սյունիք!J16+Գեղարքունիք!J16+Շիրակ!J16) -> 79 | K16: =SUM(Տավուշ!K16+'Արագածոտն '!K16+'Երևան քաղաք'!K16+' Արարատ և Վայոց ձոր'!K16+Արմավիր!K16+Լոռի!K16+Կոտայք!K16+Սյունիք!K16+Գեղարքունիք!K16+Շիրակ!K16) -> 0 | ... M16: =SUM(Տավուշ!M16+'Արագածոտն '!M16+'Երևան քաղաք'!M16+' Արարատ և Վայոց ձոր'!M16+Արմավիր!M16+Լոռի!M16+Կոտայք!M16+Սյունիք!M16+Գեղարքունիք!M16+Շիրակ!M16) -> 11
A17: 2. ¸³ï³Ï³Ý ³Ïï»ñÇ ¨ ¹³ï³Ï³Ý Ñ³ÝÓÝ³ñ³ñáõÃÛáõÝÝ»ñÇ Ï³ï³ñÙ³Ý Ñ»ï Ï³åí³Í Ñ³ñó»ñÇ ÉáõÍÙ³Ý áÉáñï
A18: 1 | B18: å³ïÅÇó å³ÛÙ³Ý³Ï³Ý í³Õ³Å³ÙÏ»ï ³½³ï»Éáõ Ù³ëÇÝ ÙÇçÝáñ¹áõÃÛáõÝÝ»ñ | D18: =SUM(Տավուշ!D18+'Արագածոտն '!D18+'Երևան քաղաք'!D18+' Արարատ և Վայոց ձոր'!D18+Արմավիր!D18+Լոռի!D18+Կոտայք!D18+Սյունիք!D18+Գեղարքունիք!D18+Շիրակ!D18) -> 28 | E18: =SUM(Տավուշ!E18+'Արագածոտն '!E18+'Երևան քաղաք'!E18+' Արարատ և Վայոց ձոր'!E18+Արմավիր!E18+Լոռի!E18+Կոտայք!E18+Սյունիք!E18+Գեղարքունիք!E18+Շիրակ!E18) -> 126 | F18: =SUM(Տավուշ!F18+'Արագածոտն '!F18+'Երևան քաղաք'!F18+' Արարատ և Վայոց ձոր'!F18+Արմավիր!F18+Լոռի!F18+Կոտայք!F18+Սյունիք!F18+Գեղարքունիք!F18+Շիրակ!F18) -> 68 | G18: =SUM(Տավուշ!G18+'Արագածոտն '!G18+'Երևան քաղաք'!G18+' Արարատ և Վայոց ձոր'!G18+Արմավիր!G18+Լոռի!G18+Կոտայք!G18+Սյունիք!G18+Գեղարքունիք!G18+Շիրակ!G18) -> 51 | H18: =SUM(Տավուշ!H18+'Արագածոտն '!H18+'Երևան քաղաք'!H18+' Արարատ և Վայոց ձոր'!H18+Արմավիր!H18+Լոռի!H18+Կոտայք!H18+Սյունիք!H18+Գեղարքունիք!H18+Շիրակ!H18) -> 0 | I18: =SUM(Տավուշ!I18+'Արագածոտն '!I18+'Երևան քաղաք'!I18+' Արարատ և Վայոց ձոր'!I18+Արմավիր!I18+Լոռի!I18+Կոտայք!I18+Սյունիք!I18+Գեղարքունիք!I18+Շիրակ!I18) -> 0 | J18: =SUM(Տավուշ!J18+'Արագածոտն '!J18+'Երևան քաղաք'!J18+' Արարատ և Վայոց ձոր'!J18+Արմավիր!J18+Լոռի!J18+Կոտայք!J18+Սյունիք!J18+Գեղարքունիք!J18+Շիրակ!J18) -> 119 | K18: =SUM(Տավուշ!K18+'Արագածոտն '!K18+'Երևան քաղաք'!K18+' Արարատ և Վայոց ձոր'!K18+Արմավիր!K18+Լոռի!K18+Կոտայք!K18+Սյունիք!K18+Գեղարքունիք!K18+Շիրակ!K18) -> 1 | ... M18: =SUM(Տավուշ!M18+'Արագածոտն '!M18+'Երևան քաղաք'!M18+' Արարատ և Վայոց ձոր'!M18+Արմավիր!M18+Լոռի!M18+Կոտայք!M18+Սյունիք!M18+Գեղարքունիք!M18+Շիրակ!M18) -> 30
A19: 2 | B19: å³ïÇÅÁ ÷á÷áË»Éáõ, Ñ»ï³Ó·»Éáõ ¨ å³ïÅÇó ³½³ï»Éáõ Ù³uÇÝ ÙÇçÝáñ¹áõÃÛáõÝÝ»ñ | D19: =SUM(Տավուշ!D19+'Արագածոտն '!D19+'Երևան քաղաք'!D19+' Արարատ և Վայոց ձոր'!D19+Արմավիր!D19+Լոռի!D19+Կոտայք!D19+Սյունիք!D19+Գեղարքունիք!D19+Շիրակ!D19) -> 502 | E19: =SUM(Տավուշ!E19+'Արագածոտն '!E19+'Երևան քաղաք'!E19+' Արարատ և Վայոց ձոր'!E19+Արմավիր!E19+Լոռի!E19+Կոտայք!E19+Սյունիք!E19+Գեղարքունիք!E19+Շիրակ!E19) -> 575 | F19: =SUM(Տավուշ!F19+'Արագածոտն '!F19+'Երևան քաղաք'!F19+' Արարատ և Վայոց ձոր'!F19+Արմավիր!F19+Լոռի!F19+Կոտայք!F19+Սյունիք!F19+Գեղարքունիք!F19+Շիրակ!F19) -> 238 | G19: =SUM(Տավուշ!G19+'Արագածոտն '!G19+'Երևան քաղաք'!G19+' Արարատ և Վայոց ձոր'!G19+Արմավիր!G19+Լոռի!G19+Կոտայք!G19+Սյունիք!G19+Գեղարքունիք!G19+Շիրակ!G19) -> 251 | H19: =SUM(Տավուշ!H19+'Արագածոտն '!H19+'Երևան քաղաք'!H19+' Արարատ և Վայոց ձոր'!H19+Արմավիր!H19+Լոռի!H19+Կոտայք!H19+Սյունիք!H19+Գեղարքունիք!H19+Շիրակ!H19) -> 21 | I19: =SUM(Տավուշ!I19+'Արագածոտն '!I19+'Երևան քաղաք'!I19+' Արարատ և Վայոց ձոր'!I19+Արմավիր!I19+Լոռի!I19+Կոտայք!I19+Սյունիք!I19+Գեղարքունիք!I19+Շիրակ!I19) -> 12 | J19: =SUM(Տավուշ!J19+'Արագածոտն '!J19+'Երևան քաղաք'!J19+' Արարատ և Վայոց ձոր'!J19+Արմավիր!J19+Լոռի!J19+Կոտայք!J19+Սյունիք!J19+Գեղարքունիք!J19+Շիրակ!J19) -> 522 | K19: =SUM(Տավուշ!K19+'Արագածոտն '!K19+'Երևան քաղաք'!K19+' Արարատ և Վայոց ձոր'!K19+Արմավիր!K19+Լոռի!K19+Կոտայք!K19+Սյունիք!K19+Գեղարքունիք!K19+Շիրակ!K19) -> 13 | ... M19: =SUM(Տավուշ!M19+'Արագածոտն '!M19+'Երևան քաղաք'!M19+' Արարատ և Վայոց ձոր'!M19+Արմավիր!M19+Լոռի!M19+Կոտայք!M19+Սյունիք!M19+Գեղարքունիք!M19+Շիրակ!M19) -> 34
A20: 3 | B20: Ñ³ñÏ³¹Çñ µáõÅÙ³Ý ï»ë³ÏÇ ÷á÷áËáõÃÛ³Ý Ù³ëÇÝ ÙÇçÝáñ¹áõÃÛáõÝÝ»ñ | D20: =SUM(Տավուշ!D20+'Արագածոտն '!D20+'Երևան քաղաք'!D20+' Արարատ և Վայոց ձոր'!D20+Արմավիր!D20+Լոռի!D20+Կոտայք!D20+Սյունիք!D20+Գեղարքունիք!D20+Շիրակ!D20) -> 21 | E20: =SUM(Տավուշ!E20+'Արագածոտն '!E20+'Երևան քաղաք'!E20+' Արարատ և Վայոց ձոր'!E20+Արմավիր!E20+Լոռի!E20+Կոտայք!E20+Սյունիք!E20+Գեղարքունիք!E20+Շիրակ!E20) -> 40 | F20: =SUM(Տավուշ!F20+'Արագածոտն '!F20+'Երևան քաղաք'!F20+' Արարատ և Վայոց ձոր'!F20+Արմավիր!F20+Լոռի!F20+Կոտայք!F20+Սյունիք!F20+Գեղարքունիք!F20+Շիրակ!F20) -> 13 | G20: =SUM(Տավուշ!G20+'Արագածոտն '!G20+'Երևան քաղաք'!G20+' Արարատ և Վայոց ձոր'!G20+Արմավիր!G20+Լոռի!G20+Կոտայք!G20+Սյունիք!G20+Գեղարքունիք!G20+Շիրակ!G20) -> 36 | H20: =SUM(Տավուշ!H20+'Արագածոտն '!H20+'Երևան քաղաք'!H20+' Արարատ և Վայոց ձոր'!H20+Արմավիր!H20+Լոռի!H20+Կոտայք!H20+Սյունիք!H20+Գեղարքունիք!H20+Շիրակ!H20) -> 0 | I20: =SUM(Տավուշ!I20+'Արագածոտն '!I20+'Երևան քաղաք'!I20+' Արարատ և Վայոց ձոր'!I20+Արմավիր!I20+Լոռի!I20+Կոտայք!I20+Սյունիք!I20+Գեղարքունիք!I20+Շիրակ!I20) -> 0 | J20: =SUM(Տավուշ!J20+'Արագածոտն '!J20+'Երևան քաղաք'!J20+' Արարատ և Վայոց ձոր'!J20+Արմավիր!J20+Լոռի!J20+Կոտայք!J20+Սյունիք!J20+Գեղարքունիք!J20+Շիրակ!J20) -> 49 | K20: =SUM(Տավուշ!K20+'Արագածոտն '!K20+'Երևան քաղաք'!K20+' Արարատ և Վայոց ձոր'!K20+Արմավիր!K20+Լոռի!K20+Կոտայք!K20+Սյունիք!K20+Գեղարքունիք!K20+Շիրակ!K20) -> 0 | ... M20: =SUM(Տավուշ!M20+'Արագածոտն '!M20+'Երևան քաղաք'!M20+' Արարատ և Վայոց ձոր'!M20+Արմավիր!M20+Լոռի!M20+Կոտայք!M20+Սյունիք!M20+Գեղարքունիք!M20+Շիրակ!M20) -> 7
A21: 4 | B21: ³ÛÉ ÙÇçÝáñ¹áõÃÛáõÝÝ»ñ | D21: =SUM(Տավուշ!D21+'Արագածոտն '!D21+'Երևան քաղաք'!D21+' Արարատ և Վայոց ձոր'!D21+Արմավիր!D21+Լոռի!D21+Կոտայք!D21+Սյունիք!D21+Գեղարքունիք!D21+Շիրակ!D21) -> 88 | E21: =SUM(Տավուշ!E21+'Արագածոտն '!E21+'Երևան քաղաք'!E21+' Արարատ և Վայոց ձոր'!E21+Արմավիր!E21+Լոռի!E21+Կոտայք!E21+Սյունիք!E21+Գեղարքունիք!E21+Շիրակ!E21) -> 397 | F21: =SUM(Տավուշ!F21+'Արագածոտն '!F21+'Երևան քաղաք'!F21+' Արարատ և Վայոց ձոր'!F21+Արմավիր!F21+Լոռի!F21+Կոտայք!F21+Սյունիք!F21+Գեղարքունիք!F21+Շիրակ!F21) -> 197 | G21: =SUM(Տավուշ!G21+'Արագածոտն '!G21+'Երևան քաղաք'!G21+' Արարատ և Վայոց ձոր'!G21+Արմավիր!G21+Լոռի!G21+Կոտայք!G21+Սյունիք!G21+Գեղարքունիք!G21+Շիրակ!G21) -> 171 | H21: =SUM(Տավուշ!H21+'Արագածոտն '!H21+'Երևան քաղաք'!H21+' Արարատ և Վայոց ձոր'!H21+Արմավիր!H21+Լոռի!H21+Կոտայք!H21+Սյունիք!H21+Գեղարքունիք!H21+Շիրակ!H21) -> 8 | I21: =SUM(Տավուշ!I21+'Արագածոտն '!I21+'Երևան քաղաք'!I21+' Արարատ և Վայոց ձոր'!I21+Արմավիր!I21+Լոռի!I21+Կոտայք!I21+Սյունիք!I21+Գեղարքունիք!I21+Շիրակ!I21) -> 5 | J21: =SUM(Տավուշ!J21+'Արագածոտն '!J21+'Երևան քաղաք'!J21+' Արարատ և Վայոց ձոր'!J21+Արմավիր!J21+Լոռի!J21+Կոտայք!J21+Սյունիք!J21+Գեղարքունիք!J21+Շիրակ!J21) -> 381 | K21: =SUM(Տավուշ!K21+'Արագածոտն '!K21+'Երևան քաղաք'!K21+' Արարատ և Վայոց ձոր'!K21+Արմավիր!K21+Լոռի!K21+Կոտայք!K21+Սյունիք!K21+Գեղարքունիք!K21+Շիրակ!K21) -> 5 | ... M21: =SUM(Տավուշ!M21+'Արագածոտն '!M21+'Երևան քաղաք'!M21+' Արարատ և Վայոց ձոր'!M21+Արմավիր!M21+Լոռի!M21+Կոտայք!M21+Սյունիք!M21+Գեղարքունիք!M21+Շիրակ!M21) -> 77
A22: 5 | B22: ¹³ï³Ï³Ý Ñ³ÝÓÝ³ñ³ñáõÃÛáõÝÝ»ñ | D22: =SUM(Տավուշ!D22+'Արագածոտն '!D22+'Երևան քաղաք'!D22+' Արարատ և Վայոց ձոր'!D22+Արմավիր!D22+Լոռի!D22+Կոտայք!D22+Սյունիք!D22+Գեղարքունիք!D22+Շիրակ!D22) -> 244 | E22: =SUM(Տավուշ!E22+'Արագածոտն '!E22+'Երևան քաղաք'!E22+' Արարատ և Վայոց ձոր'!E22+Արմավիր!E22+Լոռի!E22+Կոտայք!E22+Սյունիք!E22+Գեղարքունիք!E22+Շիրակ!E22) -> 192 | F22: =SUM(Տավուշ!F22+'Արագածոտն '!F22+'Երևան քաղաք'!F22+' Արարատ և Վայոց ձոր'!F22+Արմավիր!F22+Լոռի!F22+Կոտայք!F22+Սյունիք!F22+Գեղարքունիք!F22+Շիրակ!F22) -> 14 | G22: =SUM(Տավուշ!G22+'Արագածոտն '!G22+'Երևան քաղաք'!G22+' Արարատ և Վայոց ձոր'!G22+Արմավիր!G22+Լոռի!G22+Կոտայք!G22+Սյունիք!G22+Գեղարքունիք!G22+Շիրակ!G22) -> 118 | H22: =SUM(Տավուշ!H22+'Արագածոտն '!H22+'Երևան քաղաք'!H22+' Արարատ և Վայոց ձոր'!H22+Արմավիր!H22+Լոռի!H22+Կոտայք!H22+Սյունիք!H22+Գեղարքունիք!H22+Շիրակ!H22) -> 1 | I22: =SUM(Տավուշ!I22+'Արագածոտն '!I22+'Երևան քաղաք'!I22+' Արարատ և Վայոց ձոր'!I22+Արմավիր!I22+Լոռի!I22+Կոտայք!I22+Սյունիք!I22+Գեղարքունիք!I22+Շիրակ!I22) -> 1 | J22: =SUM(Տավուշ!J22+'Արագածոտն '!J22+'Երևան քաղաք'!J22+' Արարատ և Վայոց ձոր'!J22+Արմավիր!J22+Լոռի!J22+Կոտայք!J22+Սյունիք!J22+Գեղարքունիք!J22+Շիրակ!J22) -> 134 | K22: =SUM(Տավուշ!K22+'Արագածոտն '!K22+'Երևան քաղաք'!K22+' Արարատ և Վայոց ձոր'!K22+Արմավիր!K22+Լոռի!K22+Կոտայք!K22+Սյունիք!K22+Գեղարքունիք!K22+Շիրակ!K22) -> 0 | ... M22: =SUM(Տավուշ!M22+'Արագածոտն '!M22+'Երևան քաղաք'!M22+' Արարատ և Վայոց ձոր'!M22+Արմավիր!M22+Լոռի!M22+Կոտայք!M22+Սյունիք!M22+Գեղարքունիք!M22+Շիրակ!M22) -> 1
A23: ÀÜ¸²ØºÜÀ | D23: =SUM(D6:D16,D18:D22) -> 1703 | E23: =SUM(E6:E16,E18:E22) -> 13552 | F23: =SUM(F6:F16,F18:F22) -> 2262 | G23: =SUM(G6:G16,G18:G22) -> 9575 | H23: =SUM(H6:H16,H18:H22) -> 1348 | I23: =SUM(I6:I16,I18:I22) -> 25 | J23: =SUM(J6:J16,J18:J22) -> 13210 | K23: =SUM(K6:K16,K18:K22) -> 27 | ... M23: =SUM(M6:M16,M18:M22) -> 1508
A24: Ծանոթություն՝ թվով 123 միջնորդություն միացվել է, 11-ը վերադարձվել է, 36-ով որոշում չի կայացվել, 3-ը կարճվել է:

Sheet Տավուշ
A1: 2022թ. 1-ին կիսամյակի | C1: Ð²ÞìºîìàôÂÚàôÜ
A2: ØÇÝã¹³ï³Ï³Ý í³ñáõÛÃÇ ÝÏ³ïÙ³Ùµ ¹³ï³Ï³Ý í»ñ³ÑëÏáÕáõÃÛ³ÝÁ, ¹³ï³Ï³Ý ³Ïï»ñÇ ¨ ¹³ï³Ï³Ý Ñ³ÝÓÝ³ñ³ñáõÃÛáõÝÝ»ñÇ Ï³ï³ñÙ³ÝÁ Ñ»ï Ï³åí³Í ÙÇçÝáñ¹áõÃÛáõÝÝ»ñÇ í»ñ³µ»ñÛ³É ¹³ï³Ï³Ý ·áñÍ»ñáí ÐÐ Տավուշի մարզի ³é³çÇÝ ³ïÛ³ÝÇ ÁÝ¹Ñ³Ýáõñ Çñ³í³ëáõÃÛ³Ý ¹³ï³ñ³ÝÇ ·áñÍáõÝ»áõÃÛ³Ý í»ñ³µ»ñÛ³É
A3: êïáõ·Çã Ñ³í³ë³ñáõÙ` 1+2=7+8+9, 7=3+4+5+6, | D3: Ñ³ßí»ïáõ Å³Ù³Ý³Ï³Ñ³ïí³ÍÇ ëÏ½µáõÙ Ý³Ëáñ¹ Ñ³ßí»ïáõ Å³Ù³Ý³Ï³Ñ³ïí³ÍÇó ÷áË³Ýóí³Í ·áñÍ»ñÇ ÁÝ¹Ñ³Ýáõñ ÃÇíÁ | E3: Ñ³ßí»ïáõ Å³Ù³Ý³Ï³Ñ³ïí³ÍáõÙ ëï³óí³Í ·áñÍ»ñÇ ÁÝ¹Ñ³Ýáõñ ÃÇíÁ | F3: Ñ³ßí»ïáõ Å³Ù³Ý³Ï³Ñ³ïí³ÍáõÙ ³í³ñïí³Í ·áñÍ»ñÇ ÁÝ¹Ñ³Ýáõñ ÃÇíÁ | K3: áõÕ³ñÏí»É ¿ Áëï ÁÝ¹¹³ïáõÃÛ³Ý | L3: Ñ³ßí»ïáõ Å³Ù³Ý³Ï³Ñ³ïí³ÍáõÙ ³Ý³í³ñï ·áñÍ»ñÇ ÁÝ¹Ñ³Ýáõñ ÃÇíÁ | M3: µáÕáù³ñÏí»É ¿ í»ñ³ùÝÝÇã ¹³ï³ñ³Ý
F4: Ù»ñÅí»É ¿ | G4: µ³í³ñ³ñí»É ¿ | H4: µ³í³ñ³ñí»É ¿ Ù³ëÝ³ÏÇ | I4: ÃáÕÝí»É ¿ ³é³Ýó ùÝÝáõÃÛ³Ý | J4: ÁÝ¹³Ù»ÝÁ
A5: 1. ØÇÝã¹³ï³Ï³Ý í³ñáõÛÃÇ ÝÏ³ïÙ³Ùµ ¹³ï³Ï³Ý í»ñ³ÑëÏáÕáõÃÛ³Ý áÉáñï | D5: 1 | E5: 2 | F5: 3 | G5: 4 | H5: 5 | I5: 6 | J5: 7 | K5: 8 | L5: 9 | M5: 10
A6: 1 | B6: Ï³É³ÝùÁ áñå»ë Ë³÷³ÝÙ³Ý ÙÇçáó ÏÇñ³é»Éáõ Ù³ëÇÝ ÙÇçÝáñ¹áõÃÛáõÝÝ»ñ | E6: 30 | F6: 3 | G6: 26 | H6: 1 | J6: 30 | M6: 16
A7: 2 | B7: Ï³É³ÝùÇ Å³ÙÏ»ïÁ »ñÏ³ñ³óÝ»Éáõ Ù³ëÇÝ ÙÇçÝáñ¹áõÃÛáõÝÝ»ñ | E7: 39 | F7: 9 | G7: 30 | J7: 39 | M7: 16
A8: 3 | B8: Ï³É³ÝùÇ í»ñ³Ñ³ëï³ïÙ³Ý Ù³ëÇÝ ÙÇçÝáñ¹áõÃÛáõÝÝ»ñ | E8: 1 | G8: 1 | J8: 1 | M8: 1
A9: 4 | B9: ·ñ³íÁ áñå»ë Ï³É³Ý³íáñÙ³Ý ³ÛÉÁÝïñ³Ýù³ÛÇÝ Ë³÷³ÝÙ³Ý ÙÇçáó ÏÇñ³é»Éáõ Ù³ëÇÝ ÙÇçÝáñ¹áõÃÛáõÝÝ»ñ
A10: 5 | B10: Ëáõ½³ñÏáõÃÛ³Ý Ï³ï³ñÙ³Ý Ù³ëÇÝ ÙÇçÝáñ¹áõÃÛáõÝÝ»ñ | E10: 94 | F10: 10 | G10: 83 | H10: 1 | J10: 94 | M10: 7
A11: 6 | B11: µ³ÝÏ³ÛÇÝ, ³å³Ñáí³·ñ³Ï³Ý, Ýáï³ñ³Ï³Ý ·³ÕïÝÇù Ï³½ÙáÕ ï»Õ»ÏáõÃÛáõÝÝ»ñÇ ëï³óÙ³Ý Ñ³Ù³ñ Ëáõ½³ñÏáõÃÛ³Ý Ï³Ù ³é·ñ³íÙ³Ý Ï³ï³ñÙ³Ý Ù³ëÇÝ ÙÇçÝáñ¹áõÃÛáõÝÝ»ñ | E11: 9 | F11: 3 | G11: 6 | J11: 9
A12: 7 | B12: Ý³Ù³Ï³·ñáõÃÛ³Ý, Ñ»é³·ñ³Ï³Ý, ÷áuï³ÛÇÝ Ñ³Õáñ¹áõÙÝ»ñÇ ÑëÏáÕáõÃÛ³Ý Ù³ëÇÝ ÙÇçÝáñ¹áõÃÛáõÝÝ»ñ | E12: 1 | G12: 1 | J12: 1
A13: 8 | B13: Ñ»é³Ëáu³ÛÇÝ Ï³Ù Ï³åÇ ³ÛÉ ÙÇçáóÝ»ñáí ï³ñíáÕ Ëáu³ÏóáõÃÛáõÝÝ»ñÇ ÉuÙ³Ý ¨ Ó³ÛÝ³·ñ³éÙ³Ý Ù³ëÇÝ ÙÇçÝáñ¹áõÃÛáõÝÝ»ñ | E13: 1 | G13: 1 | J13: 1
A14: 9 | B14: Ñ»é³ËáëÝ»ñÇ Ùáõïù³ÛÇÝ ¨ »Éù³ÛÇÝ í»ñÍ³ÝÙ³Ý ÃáõÛÉïíáõÃÛáõÝ ëï³Ý³Éáõ Ù³ëÇÝ ÙÇçÝáñ¹áõÃÛáõÝÝ»ñ | E14: 125 | G14: 120 | H14: 5 | J14: 125
A15: 10 | B15: Ñ»ï³ùÝÝáõÃÛ³Ý Ù³ñÙÝÇ ³ßË³ïáÕÇ, ùÝÝÇãÇ, ¹³ï³Ë³½Ç oå»ñ³ïÇí-Ñ»ï³Ëáõ½³Ï³Ý ·áñÍáÕáõÃÛáõÝÝ»ñ Çñ³Ï³Ý³óÝáÕ Ù³ñÙÇÝÝ»ñÇ ³ÝoñÇÝ³Ï³Ý ¨ ³ÝÑÇÙÝ áñáßáõÙÝ»ñÇ ¨ ·áñÍáÕáõÃÛáõÝÝ»ñÇ ¹»Ù µáÕáùÝ»ñ | D15: 2 | E15: 7 | F15: 3 | G15: 3 | J15: 6 | L15: 3 | M15: 5
A16: 11 | B16: ²½³ïáõÃÛáõÝÇó ½ñÏ»Éáõ Çñ³í³ã³÷áõÃÛ³Ý í»ñ³µ»ñÛ³É µáÕáùÝ»ñáí ·áñÍ»ñ | E16: 5 | F16: 1 | G16: 2 | J16: 3
A17: 2. ¸³ï³Ï³Ý ³Ïï»ñÇ ¨ ¹³ï³Ï³Ý Ñ³ÝÓÝ³ñ³ñáõÃÛáõÝÝ»ñÇ Ï³ï³ñÙ³Ý Ñ»ï Ï³åí³Í Ñ³ñó»ñÇ ÉáõÍÙ³Ý áÉáñï
A18: 1 | B18: å³ïÅÇó å³ÛÙ³Ý³Ï³Ý í³Õ³Å³ÙÏ»ï ³½³ï»Éáõ Ù³ëÇÝ ÙÇçÝáñ¹áõÃÛáõÝÝ»ñ
A19: 2 | B19: å³ïÇÅÁ ÷á÷áË»Éáõ, Ñ»ï³Ó·»Éáõ ¨ å³ïÅÇó ³½³ï»Éáõ Ù³uÇÝ ÙÇçÝáñ¹áõÃÛáõÝÝ»ñ | D19: 6 | E19: 13 | F19: 7 | G19: 7 | H19: 2 | J19: 16 | L19: 3 | M19: 2
A20: 3 | B20: Ñ³ñÏ³¹Çñ µáõÅÙ³Ý ï»ë³ÏÇ ÷á÷áËáõÃÛ³Ý Ù³ëÇÝ ÙÇçÝáñ¹áõÃÛáõÝÝ»ñ
A21: 4 | B21: ³ÛÉ ÙÇçÝáñ¹áõÃÛáõÝÝ»ñ | E21: 6 | F21: 1 | G21: 5 | J21: 6 | M21: 3
A22: 5 | B22: ¹³ï³Ï³Ý Ñ³ÝÓÝ³ñ³ñáõÃÛáõÝÝ»ñ | D22: 2 | E22: 3 | G22: 3 | J22: 3 | L22: 1
A23: ÀÜ¸²ØºÜÀ | D23: =SUM(D6:D16,D18:D22) -> 10 | E23: =SUM(E6:E16,E18:E22) -> 334 | F23: =SUM(F6:F16,F18:F22) -> 37 | G23: =SUM(G6:G16,G18:G22) -> 288 | H23: =SUM(H6:H16,H18:H22) -> 9 | I23: =SUM(I6:I16,I18:I22) -> 0 | J23: =SUM(J6:J16,J18:J22) -> 334 | K23: =SUM(K6:K16,K18:K22) -> 0 | ... M23: =SUM(M6:M16,M18:M22) -> 50
B24: Ծանոթություն՝ թվով 2 միջնորդություն միացվել է, 1-ը վերադարձվել է:

Sheet Արագածոտն 
A1: 2022թ. 1-ին կիսամյակի | C1: Ð²ÞìºîìàôÂÚàôÜ
A2: ØÇÝã¹³ï³Ï³Ý í³ñáõÛÃÇ ÝÏ³ïÙ³Ùµ ¹³ï³Ï³Ý í»ñ³ÑëÏáÕáõÃÛ³ÝÁ, ¹³ï³Ï³Ý ³Ïï»ñÇ ¨ ¹³ï³Ï³Ý Ñ³ÝÓÝ³ñ³ñáõÃÛáõÝÝ»ñÇ Ï³ï³ñÙ³ÝÁ Ñ»ï Ï³åí³Í ÙÇçÝáñ¹áõÃÛáõÝÝ»ñÇ í»ñ³µ»ñÛ³É ¹³ï³Ï³Ý ·áñÍ»ñáí ÐÐ Արագածոտնի մարզի ³é³çÇÝ ³ïÛ³ÝÇ ÁÝ¹Ñ³Ýáõñ Çñ³í³ëáõÃÛ³Ý ¹³ï³ñ³ÝÇ ·áñÍáõÝ»áõÃÛ³Ý í»ñ³µ»ñÛ³É
A3: êïáõ·Çã Ñ³í³ë³ñáõÙ` 1+2=7+8+9, 7=3+4+5+6, | D3: Ñ³ßí»ïáõ Å³Ù³Ý³Ï³Ñ³ïí³ÍÇ ëÏ½µáõÙ Ý³Ëáñ¹ Ñ³ßí»ïáõ Å³Ù³Ý³Ï³Ñ³ïí³ÍÇó ÷áË³Ýóí³Í ·áñÍ»ñÇ ÁÝ¹Ñ³Ýáõñ ÃÇíÁ | E3: Ñ³ßí»ïáõ Å³Ù³Ý³Ï³Ñ³ïí³ÍáõÙ ëï³óí³Í ·áñÍ»ñÇ ÁÝ¹Ñ³Ýáõñ ÃÇíÁ | F3: Ñ³ßí»ïáõ Å³Ù³Ý³Ï³Ñ³ïí³ÍáõÙ ³í³ñïí³Í ·áñÍ»ñÇ ÁÝ¹Ñ³Ýáõñ ÃÇíÁ | K3: áõÕ³ñÏí»É ¿ Áëï ÁÝ¹¹³ïáõÃÛ³Ý | L3: Ñ³ßí»ïáõ Å³Ù³Ý³Ï³Ñ³ïí³ÍáõÙ ³Ý³í³ñï ·áñÍ»ñÇ ÁÝ¹Ñ³Ýáõñ ÃÇíÁ | M3: µáÕáù³ñÏí»É ¿ í»ñ³ùÝÝÇã ¹³ï³ñ³Ý
F4: Ù»ñÅí»É ¿ | G4: µ³í³ñ³ñí»É ¿ | H4: µ³í³ñ³ñí»É ¿ Ù³ëÝ³ÏÇ | I4: ÃáÕÝí»É ¿ ³é³Ýó ùÝÝáõÃÛ³Ý | J4: ÁÝ¹³Ù»ÝÁ
A5: 1. ØÇÝã¹³ï³Ï³Ý í³ñáõÛÃÇ ÝÏ³ïÙ³Ùµ ¹³ï³Ï³Ý í»ñ³ÑëÏáÕáõÃÛ³Ý áÉáñï | D5: 1 | E5: 2 | F5: 3 | G5: 4 | H5: 5 | I5: 6 | J5: 7 | K5: 8 | L5: 9 | M5: 10
A6: 1 | B6: Ï³É³ÝùÁ áñå»ë Ë³÷³ÝÙ³Ý ÙÇçáó ÏÇñ³é»Éáõ Ù³ëÇÝ ÙÇçÝáñ¹áõÃÛáõÝÝ»ñ | E6: 7 | F6: 1 | G6: 6 | J6: 7 | M6: 1
A7: 2 | B7: Ï³É³ÝùÇ Å³ÙÏ»ïÁ »ñÏ³ñ³óÝ»Éáõ Ù³ëÇÝ ÙÇçÝáñ¹áõÃÛáõÝÝ»ñ | E7: 7 | G7: 7 | J7: 7 | M7: 3
A8: 3 | B8: Ï³É³ÝùÇ í»ñ³Ñ³ëï³ïÙ³Ý Ù³ëÇÝ ÙÇçÝáñ¹áõÃÛáõÝÝ»ñ | E8: 1 | G8: 1 | J8: 1 | M8: 1
A9: 4 | B9: ·ñ³íÁ áñå»ë Ï³É³Ý³íáñÙ³Ý ³ÛÉÁÝïñ³Ýù³ÛÇÝ Ë³÷³ÝÙ³Ý ÙÇçáó ÏÇñ³é»Éáõ Ù³ëÇÝ ÙÇçÝáñ¹áõÃÛáõÝÝ»ñ
A10: 5 | B10: Ëáõ½³ñÏáõÃÛ³Ý Ï³ï³ñÙ³Ý Ù³ëÇÝ ÙÇçÝáñ¹áõÃÛáõÝÝ»ñ | E10: 100 | G10: 100 | J10: 100
A11: 6 | B11: µ³ÝÏ³ÛÇÝ, ³å³Ñáí³·ñ³Ï³Ý, Ýáï³ñ³Ï³Ý ·³ÕïÝÇù Ï³½ÙáÕ ï»Õ»ÏáõÃÛáõÝÝ»ñÇ ëï³óÙ³Ý Ñ³Ù³ñ Ëáõ½³ñÏáõÃÛ³Ý Ï³Ù ³é·ñ³íÙ³Ý Ï³ï³ñÙ³Ý Ù³ëÇÝ ÙÇçÝáñ¹áõÃÛáõÝÝ»ñ
A12: 7 | B12: Ý³Ù³Ï³·ñáõÃÛ³Ý, Ñ»é³·ñ³Ï³Ý, ÷áuï³ÛÇÝ Ñ³Õáñ¹áõÙÝ»ñÇ ÑëÏáÕáõÃÛ³Ý Ù³ëÇÝ ÙÇçÝáñ¹áõÃÛáõÝÝ»ñ
A13: 8 | B13: Ñ»é³Ëáu³ÛÇÝ Ï³Ù Ï³åÇ ³ÛÉ ÙÇçáóÝ»ñáí ï³ñíáÕ Ëáu³ÏóáõÃÛáõÝÝ»ñÇ ÉuÙ³Ý ¨ Ó³ÛÝ³·ñ³éÙ³Ý Ù³ëÇÝ ÙÇçÝáñ¹áõÃÛáõÝÝ»ñ
A14: 9 | B14: Ñ»é³ËáëÝ»ñÇ Ùáõïù³ÛÇÝ ¨ »Éù³ÛÇÝ í»ñÍ³ÝÙ³Ý ÃáõÛÉïíáõÃÛáõÝ ëï³Ý³Éáõ Ù³ëÇÝ ÙÇçÝáñ¹áõÃÛáõÝÝ»ñ | E14: 81 | F14: 2 | G14: 79 | J14: 81
A15: 10 | B15: Ñ»ï³ùÝÝáõÃÛ³Ý Ù³ñÙÝÇ ³ßË³ïáÕÇ, ùÝÝÇãÇ, ¹³ï³Ë³½Ç oå»ñ³ïÇí-Ñ»ï³Ëáõ½³Ï³Ý ·áñÍáÕáõÃÛáõÝÝ»ñ Çñ³Ï³Ý³óÝáÕ Ù³ñÙÇÝÝ»ñÇ ³ÝoñÇÝ³Ï³Ý ¨ ³ÝÑÇÙÝ áñáßáõÙÝ»ñÇ ¨ ·áñÍáÕáõÃÛáõÝÝ»ñÇ ¹»Ù µáÕáùÝ»ñ | D15: 9 | E15: 15 | F15: 15 | G15: 2 | H15: 1 | J15: 18 | L15: 6 | M15: 11
A16: 11 | B16: ²½³ïáõÃÛáõÝÇó ½ñÏ»Éáõ Çñ³í³ã³÷áõÃÛ³Ý í»ñ³µ»ñÛ³É µáÕáùÝ»ñáí ·áñÍ»ñ
A17: 2. ¸³ï³Ï³Ý ³Ïï»ñÇ ¨ ¹³ï³Ï³Ý Ñ³ÝÓÝ³ñ³ñáõÃÛáõÝÝ»ñÇ Ï³ï³ñÙ³Ý Ñ»ï Ï³åí³Í Ñ³ñó»ñÇ ÉáõÍÙ³Ý áÉáñï
A18: 1 | B18: å³ïÅÇó å³ÛÙ³Ý³Ï³Ý í³Õ³Å³ÙÏ»ï ³½³ï»Éáõ Ù³ëÇÝ ÙÇçÝáñ¹áõÃÛáõÝÝ»ñ
A19: 2 | B19: å³ïÇÅÁ ÷á÷áË»Éáõ, Ñ»ï³Ó·»Éáõ ¨ å³ïÅÇó ³½³ï»Éáõ Ù³uÇÝ ÙÇçÝáñ¹áõÃÛáõÝÝ»ñ | D19: 2 | E19: 18 | G19: 12 | I19: 3 | J19: 15 | K19: 1 | L19: 4
A20: 3 | B20: Ñ³ñÏ³¹Çñ µáõÅÙ³Ý ï»ë³ÏÇ ÷á÷áËáõÃÛ³Ý Ù³ëÇÝ ÙÇçÝáñ¹áõÃÛáõÝÝ»ñ
A21: 4 | B21: ³ÛÉ ÙÇçÝáñ¹áõÃÛáõÝÝ»ñ | E21: 3 | G21: 2 | J21: 2 | L21: 1 | M21: 1
A22: 5 | B22: ¹³ï³Ï³Ý Ñ³ÝÓÝ³ñ³ñáõÃÛáõÝÝ»ñ | D22: 1 | E22: 3 | G22: 3 | J22: 3 | L22: 1
A23: ÀÜ¸²ØºÜÀ | D23: =SUM(D6:D16,D18:D22) -> 12 | E23: =SUM(E6:E16,E18:E22) -> 235 | F23: =SUM(F6:F16,F18:F22) -> 18 | G23: =SUM(G6:G16,G18:G22) -> 212 | H23: =SUM(H6:H16,H18:H22) -> 1 | I23: =SUM(I6:I16,I18:I22) -> 3 | J23: =SUM(J6:J16,J18:J22) -> 234 | K23: =SUM(K6:K16,K18:K22) -> 1 | ... M23: =SUM(M6:M16,M18:M22) -> 17

Sheet Երևան քաղաք
A1: 2022թ. 1-ին կիսամյակի | C1: Ð²ÞìºîìàôÂÚàôÜ
A2: ØÇÝã¹³ï³Ï³Ý í³ñáõÛÃÇ ÝÏ³ïÙ³Ùµ ¹³ï³Ï³Ý í»ñ³ÑëÏáÕáõÃÛ³Ý, ¹³ï³Ï³Ý ³Ïï»ñÇ ¨ ¹³ï³Ï³Ý Ñ³ÝÓÝ³ñ³ñáõÃÛáõÝÝ»ñÇ Ï³ï³ñÙ³Ý Ñ»ï Ï³åí³Í ÙÇçÝáñ¹áõÃÛáõÝÝ»ñÇ í»ñ³µ»ñÛ³É ¹³ï³Ï³Ý ·áñÍ»ñáí Երևան քաղաքի ³é³çÇÝ ³ïÛ³ÝÇ ÁÝ¹Ñ³Ýáõñ Çñ³í³ëáõÃÛ³Ý ¹³ï³ñ³ÝÇ ·áñÍáõÝ»áõÃÛ³Ý í»ñ³µ»ñÛ³É
A3: êïáõ·Çã Ñ³í³ë³ñáõÙ` 1+2=7+8+9, 7=3+4+5+6, | D3: Ñ³ßí»ïáõ Å³Ù³Ý³Ï³Ñ³ïí³ÍÇ ëÏ½µáõÙ Ý³Ëáñ¹ Ñ³ßí»ïáõ Å³Ù³Ý³Ï³Ñ³ïí³ÍÇó ÷áË³Ýóí³Í ·áñÍ»ñÇ ÁÝ¹Ñ³Ýáõñ ÃÇíÁ | E3: Ñ³ßí»ïáõ Å³Ù³Ý³Ï³Ñ³ïí³ÍáõÙ ëï³óí³Í ·áñÍ»ñÇ ÁÝ¹Ñ³Ýáõñ ÃÇíÁ | F3: Ñ³ßí»ïáõ Å³Ù³Ý³Ï³Ñ³ïí³ÍáõÙ ³í³ñïí³Í ·áñÍ»ñÇ ÁÝ¹Ñ³Ýáõñ ÃÇíÁ | K3: áõÕ³ñÏí»É ¿ Áëï ÁÝ¹¹³ïáõÃÛ³Ý | L3: Ñ³ßí»ïáõ Å³Ù³Ý³Ï³Ñ³ïí³ÍáõÙ ³Ý³í³ñï ·áñÍ»ñÇ ÁÝ¹Ñ³Ýáõñ ÃÇíÁ | M3: µáÕáù³ñÏí»É ¿ í»ñ³ùÝÝÇã ¹³ï³ñ³Ý
F4: Ù»ñÅí»É ¿ | G4: µ³í³ñ³ñí»É ¿ | H4: µ³í³ñ³ñí»É ¿ Ù³ëÝ³ÏÇ | I4: ÃáÕÝí»É ¿ ³é³Ýó ùÝÝáõÃÛ³Ý | J4: ÁÝ¹³Ù»ÝÁ
A5: 1. ØÇÝã¹³ï³Ï³Ý í³ñáõÛÃÇ ÝÏ³ïÙ³Ùµ ¹³ï³Ï³Ý í»ñ³ÑëÏáÕáõÃÛ³Ý áÉáñï | D5: 1 | E5: 2 | F5: 3 | G5: 4 | H5: 5 | I5: 6 | J5: 7 | K5: 8 | L5: 9 | M5: 10
A6: 1 | B6: Ï³É³ÝùÁ áñå»ë Ë³÷³ÝÙ³Ý ÙÇçáó ÏÇñ³é»Éáõ Ù³ëÇÝ ÙÇçÝáñ¹áõÃÛáõÝÝ»ñ | E6: 709 | F6: 141 | G6: 512 | H6: 51 | J6: 704 | L6: 4 | M6: 285
A7: 2 | B7: Ï³É³ÝùÇ Å³ÙÏ»ïÁ »ñÏ³ñ³óÝ»Éáõ Ù³ëÇÝ ÙÇçÝáñ¹áõÃÛáõÝÝ»ñ | D7: 9 | E7: 456 | F7: 111 | G7: 285 | H7: 61 | J7: 457 | L7: 4 | M7: 275
A8: 3 | B8: Ï³É³ÝùÇ í»ñ³Ñ³ëï³ïÙ³Ý Ù³ëÇÝ ÙÇçÝáñ¹áõÃÛáõÝÝ»ñ | E8: 60 | F8: 12 | G8: 41 | H8: 6 | J8: 59 | L8: 1 | M8: 37
A9: 4 | B9: ·ñ³íÁ áñå»ë Ï³É³Ý³íáñÙ³Ý ³ÛÉÁÝïñ³Ýù³ÛÇÝ Ë³÷³ÝÙ³Ý ÙÇçáó ÏÇñ³é»Éáõ Ù³ëÇÝ ÙÇçÝáñ¹áõÃÛáõÝÝ»ñ | E9: 39 | F9: 24 | G9: 3 | H9: 1 | J9: 28 | L9: 7 | M9: 12
A10: 5 | B10: Ëáõ½³ñÏáõÃÛ³Ý Ï³ï³ñÙ³Ý Ù³ëÇÝ ÙÇçÝáñ¹áõÃÛáõÝÝ»ñ | E10: 2094 | F10: 371 | G10: 1211 | H10: 510 | J10: 2092 | M10: 45
A11: 6 | B11: µ³ÝÏ³ÛÇÝ, ³å³Ñáí³·ñ³Ï³Ý, Ýáï³ñ³Ï³Ý ·³ÕïÝÇù Ï³½ÙáÕ ï»Õ»ÏáõÃÛáõÝÝ»ñÇ ëï³óÙ³Ý Ñ³Ù³ñ Ëáõ½³ñÏáõÃÛ³Ý Ï³Ù ³é·ñ³íÙ³Ý Ï³ï³ñÙ³Ý Ù³ëÇÝ ÙÇçÝáñ¹áõÃÛáõÝÝ»ñ | E11: 274 | F11: 23 | G11: 227 | H11: 24 | J11: 274 | M11: 3
A12: 7 | B12: Ý³Ù³Ï³·ñáõÃÛ³Ý, Ñ»é³·ñ³Ï³Ý, ÷áuï³ÛÇÝ Ñ³Õáñ¹áõÙÝ»ñÇ ÑëÏáÕáõÃÛ³Ý Ù³ëÇÝ ÙÇçÝáñ¹áõÃÛáõÝÝ»ñ | E12: 728 | F12: 97 | G12: 578 | H12: 53 | J12: 728 | M12: 23
A13: 8 | B13: Ñ»é³Ëáu³ÛÇÝ Ï³Ù Ï³åÇ ³ÛÉ ÙÇçáóÝ»ñáí ï³ñíáÕ Ëáu³ÏóáõÃÛáõÝÝ»ñÇ ÉuÙ³Ý ¨ Ó³ÛÝ³·ñ³éÙ³Ý Ù³ëÇÝ ÙÇçÝáñ¹áõÃÛáõÝÝ»ñ | E13: 64 | F13: 17 | G13: 47 | J13: 64 | M13: 7
A14: 9 | B14: Ñ»é³ËáëÝ»ñÇ Ùáõïù³ÛÇÝ ¨ »Éù³ÛÇÝ í»ñÍ³ÝÙ³Ý ÃáõÛÉïíáõÃÛáõÝ ëï³Ý³Éáõ Ù³ëÇÝ ÙÇçÝáñ¹áõÃÛáõÝÝ»ñ | E14: 2640 | F14: 86 | G14: 2122 | H14: 423 | J14: 2631 | M14: 26
A15: 10 | B15: Ñ»ï³ùÝÝáõÃÛ³Ý Ù³ñÙÝÇ ³ßË³ïáÕÇ, ùÝÝÇãÇ, ¹³ï³Ë³½Ç oå»ñ³ïÇí-Ñ»ï³Ëáõ½³Ï³Ý ·áñÍáÕáõÃÛáõÝÝ»ñ Çñ³Ï³Ý³óÝáÕ Ù³ñÙÇÝÝ»ñÇ ³ÝoñÇÝ³Ï³Ý ¨ ³ÝÑÇÙÝ áñáßáõÙÝ»ñÇ ¨ ·áñÍáÕáõÃÛáõÝÝ»ñÇ ¹»Ù µáÕáùÝ»ñ | D15: 604 | E15: 562 | F15: 369 | G15: 84 | H15: 10 | I15: 1 | J15: 464 | K15: 4 | L15: 685 | M15: 189
A16: 11 | B16: ²½³ïáõÃÛáõÝÇó ½ñÏ»Éáõ Çñ³í³ã³÷áõÃÛ³Ý í»ñ³µ»ñÛ³É µáÕáùÝ»ñáí ·áñÍ»ñ | E16: 133 | F16: 17 | G16: 22 | H16: 1 | J16: 40 | M16: 5
A17: 2. ¸³ï³Ï³Ý ³Ïï»ñÇ ¨ ¹³ï³Ï³Ý Ñ³ÝÓÝ³ñ³ñáõÃÛáõÝÝ»ñÇ Ï³ï³ñÙ³Ý Ñ»ï Ï³åí³Í Ñ³ñó»ñÇ ÉáõÍÙ³Ý áÉáñï
A18: 1 | B18: å³ïÅÇó å³ÛÙ³Ý³Ï³Ý í³Õ³Å³ÙÏ»ï ³½³ï»Éáõ Ù³ëÇÝ ÙÇçÝáñ¹áõÃÛáõÝÝ»ñ | D18: 8 | E18: 27 | F18: 16 | G18: 11 | J18: 27 | L18: 8 | M18: 14
A19: 2 | B19: å³ïÇÅÁ ÷á÷áË»Éáõ, Ñ»ï³Ó·»Éáõ ¨ å³ïÅÇó ³½³ï»Éáõ Ù³uÇÝ ÙÇçÝáñ¹áõÃÛáõÝÝ»ñ | D19: 240 | E19: 263 | F19: 102 | G19: 128 | H19: 6 | I19: 6 | J19: 242 | K19: 5 | L19: 253 | M19: 10
A20: 3 | B20: Ñ³ñÏ³¹Çñ µáõÅÙ³Ý ï»ë³ÏÇ ÷á÷áËáõÃÛ³Ý Ù³ëÇÝ ÙÇçÝáñ¹áõÃÛáõÝÝ»ñ | D20: 15 | E20: 23 | F20: 5 | G20: 22 | J20: 27 | L20: 11 | M20: 4
A21: 4 | B21: ³ÛÉ ÙÇçÝáñ¹áõÃÛáõÝÝ»ñ | D21: 57 | E21: 163 | F21: 88 | G21: 85 | I21: 3 | J21: 176 | K21: 4 | L21: 36 | M21: 40
A22: 5 | B22: ¹³ï³Ï³Ý Ñ³ÝÓÝ³ñ³ñáõÃÛáõÝÝ»ñ | D22: 148 | E22: 110 | F22: 6 | G22: 65 | J22: 71 | L22: 169 | M22: 0
A23: ÀÜ¸²ØºÜÀ | D23: =SUM(D6:D16,D18:D22) -> 1081 | E23: =SUM(E6:E16,E18:E22) -> 8345 | F23: =SUM(F6:F16,F18:F22) -> 1485 | G23: =SUM(G6:G16,G18:G22) -> 5443 | H23: =SUM(H6:H16,H18:H22) -> 1146 | I23: =SUM(I6:I16,I18:I22) -> 10 | J23: =SUM(J6:J16,J18:J22) -> 8084 | K23: =SUM(K6:K16,K18:K22) -> 13 | ... M23: =SUM(M6:M16,M18:M22) -> 975
B24: Ծանոթություն՝ թվով 110 միջնորդություն միացվել է, 6-ը վերադարձվել է,33-ով որոշում չի կայացվել, 2-ը կարճվել է:

Sheet  Արարատ և Վայոց ձոր
A1: 2022թ. 1-ին կիսամյակի | C1: Ð²ÞìºîìàôÂÚàôÜ
A2: ØÇÝã¹³ï³Ï³Ý í³ñáõÛÃÇ ÝÏ³ïÙ³Ùµ ¹³ï³Ï³Ý í»ñ³ÑëÏáÕáõÃÛ³ÝÁ, ¹³ï³Ï³Ý ³Ïï»ñÇ ¨ ¹³ï³Ï³Ý Ñ³ÝÓÝ³ñ³ñáõÃÛáõÝÝ»ñÇ Ï³ï³ñÙ³ÝÁ Ñ»ï Ï³åí³Í ÙÇçÝáñ¹áõÃÛáõÝÝ»ñÇ í»ñ³µ»ñÛ³É ¹³ï³Ï³Ý ·áñÍ»ñáí ÐÐ Արարատի և Վայոց Ձորի մարզերի ³é³çÇÝ ³ïÛ³ÝÇ ÁÝ¹Ñ³Ýáõñ Çñ³í³ëáõÃÛ³Ý ¹³ï³ñ³ÝÇ ·áñÍáõÝ»áõÃÛ³Ý í»ñ³µ»ñÛ³É
A3: êïáõ·Çã Ñ³í³ë³ñáõÙ` 1+2=7+8+9, 7=3+4+5+6, | D3: Ñ³ßí»ïáõ Å³Ù³Ý³Ï³Ñ³ïí³ÍÇ ëÏ½µáõÙ Ý³Ëáñ¹ Ñ³ßí»ïáõ Å³Ù³Ý³Ï³Ñ³ïí³ÍÇó ÷áË³Ýóí³Í ·áñÍ»ñÇ ÁÝ¹Ñ³Ýáõñ ÃÇíÁ | E3: Ñ³ßí»ïáõ Å³Ù³Ý³Ï³Ñ³ïí³ÍáõÙ ëï³óí³Í ·áñÍ»ñÇ ÁÝ¹Ñ³Ýáõñ ÃÇíÁ | F3: Ñ³ßí»ïáõ Å³Ù³Ý³Ï³Ñ³ïí³ÍáõÙ ³í³ñïí³Í ·áñÍ»ñÇ ÁÝ¹Ñ³Ýáõñ ÃÇíÁ | K3: áõÕ³ñÏí»É ¿ Áëï ÁÝ¹¹³ïáõÃÛ³Ý | L3: Ñ³ßí»ïáõ Å³Ù³Ý³Ï³Ñ³ïí³ÍáõÙ ³Ý³í³ñï ·áñÍ»ñÇ ÁÝ¹Ñ³Ýáõñ ÃÇíÁ | M3: µáÕáù³ñÏí»É ¿ í»ñ³ùÝÝÇã ¹³ï³ñ³Ý
F4: Ù»ñÅí»É ¿ | G4: µ³í³ñ³ñí»É ¿ | H4: µ³í³ñ³ñí»É ¿ Ù³ëÝ³ÏÇ | I4: ÃáÕÝí»É ¿ ³é³Ýó ùÝÝáõÃÛ³Ý | J4: ÁÝ¹³Ù»ÝÁ
A5: 1. ØÇÝã¹³ï³Ï³Ý í³ñáõÛÃÇ ÝÏ³ïÙ³Ùµ ¹³ï³Ï³Ý í»ñ³ÑëÏáÕáõÃÛ³Ý áÉáñï | D5: 1 | E5: 2 | F5: 3 | G5: 4 | H5: 5 | I5: 6 | J5: 7 | K5: 8 | L5: 9 | M5: 10
A6: 1 | B6: Ï³É³ÝùÁ áñå»ë Ë³÷³ÝÙ³Ý ÙÇçáó ÏÇñ³é»Éáõ Ù³ëÇÝ ÙÇçÝáñ¹áõÃÛáõÝÝ»ñ | E6: 62 | F6: 7 | G6: 53 | H6: 1 | I6: 1 | J6: 62 | M6: 17
A7: 2 | B7: Ï³É³ÝùÇ Å³ÙÏ»ïÁ »ñÏ³ñ³óÝ»Éáõ Ù³ëÇÝ ÙÇçÝáñ¹áõÃÛáõÝÝ»ñ | D7: 2 | E7: 44 | F7: 5 | G7: 35 | H7: 6 | J7: 46 | M7: 19
A8: 3 | B8: Ï³É³ÝùÇ í»ñ³Ñ³ëï³ïÙ³Ý Ù³ëÇÝ ÙÇçÝáñ¹áõÃÛáõÝÝ»ñ | E8: 3 | G8: 2 | H8: 1 | J8: 3 | M8: 2
A9: 4 | B9: ·ñ³íÁ áñå»ë Ï³É³Ý³íáñÙ³Ý ³ÛÉÁÝïñ³Ýù³ÛÇÝ Ë³÷³ÝÙ³Ý ÙÇçáó ÏÇñ³é»Éáõ Ù³ëÇÝ ÙÇçÝáñ¹áõÃÛáõÝÝ»ñ | D9: 1 | E9: 9 | F9: 10 | J9: 10 | M9: 2
A10: 5 | B10: Ëáõ½³ñÏáõÃÛ³Ý Ï³ï³ñÙ³Ý Ù³ëÇÝ ÙÇçÝáñ¹áõÃÛáõÝÝ»ñ | E10: 185 | F10: 12 | G10: 160 | H10: 13 | J10: 185
A11: 6 | B11: µ³ÝÏ³ÛÇÝ, ³å³Ñáí³·ñ³Ï³Ý, Ýáï³ñ³Ï³Ý ·³ÕïÝÇù Ï³½ÙáÕ ï»Õ»ÏáõÃÛáõÝÝ»ñÇ ëï³óÙ³Ý Ñ³Ù³ñ Ëáõ½³ñÏáõÃÛ³Ý Ï³Ù ³é·ñ³íÙ³Ý Ï³ï³ñÙ³Ý Ù³ëÇÝ ÙÇçÝáñ¹áõÃÛáõÝÝ»ñ | E11: 9 | G11: 9 | J11: 9
A12: 7 | B12: Ý³Ù³Ï³·ñáõÃÛ³Ý, Ñ»é³·ñ³Ï³Ý, ÷áuï³ÛÇÝ Ñ³Õáñ¹áõÙÝ»ñÇ ÑëÏáÕáõÃÛ³Ý Ù³ëÇÝ ÙÇçÝáñ¹áõÃÛáõÝÝ»ñ
A13: 8 | B13: Ñ»é³Ëáu³ÛÇÝ Ï³Ù Ï³åÇ ³ÛÉ ÙÇçáóÝ»ñáí ï³ñíáÕ Ëáu³ÏóáõÃÛáõÝÝ»ñÇ ÉuÙ³Ý ¨ Ó³ÛÝ³·ñ³éÙ³Ý Ù³ëÇÝ ÙÇçÝáñ¹áõÃÛáõÝÝ»ñ | E13: 5 | G13: 5 | J13: 5
A14: 9 | B14: Ñ»é³ËáëÝ»ñÇ Ùáõïù³ÛÇÝ ¨ »Éù³ÛÇÝ í»ñÍ³ÝÙ³Ý ÃáõÛÉïíáõÃÛáõÝ ëï³Ý³Éáõ Ù³ëÇÝ ÙÇçÝáñ¹áõÃÛáõÝÝ»ñ | E14: 202 | F14: 2 | G14: 199 | H14: 1 | J14: 202
A15: 10 | B15: Ñ»ï³ùÝÝáõÃÛ³Ý Ù³ñÙÝÇ ³ßË³ïáÕÇ, ùÝÝÇãÇ, ¹³ï³Ë³½Ç oå»ñ³ïÇí-Ñ»ï³Ëáõ½³Ï³Ý ·áñÍáÕáõÃÛáõÝÝ»ñ Çñ³Ï³Ý³óÝáÕ Ù³ñÙÇÝÝ»ñÇ ³ÝoñÇÝ³Ï³Ý ¨ ³ÝÑÇÙÝ áñáßáõÙÝ»ñÇ ¨ ·áñÍáÕáõÃÛáõÝÝ»ñÇ ¹»Ù µáÕáùÝ»ñ | D15: 38 | E15: 19 | F15: 15 | G15: 3 | J15: 18 | K15: 1 | L15: 38 | M15: 9
A16: 11 | B16: ²½³ïáõÃÛáõÝÇó ½ñÏ»Éáõ Çñ³í³ã³÷áõÃÛ³Ý í»ñ³µ»ñÛ³É µáÕáùÝ»ñáí ·áñÍ»ñ | E16: 11 | F16: 3 | G16: 5 | I16: 2 | J16: 10 | M16: 1
A17: 2. ¸³ï³Ï³Ý ³Ïï»ñÇ ¨ ¹³ï³Ï³Ý Ñ³ÝÓÝ³ñ³ñáõÃÛáõÝÝ»ñÇ Ï³ï³ñÙ³Ý Ñ»ï Ï³åí³Í Ñ³ñó»ñÇ ÉáõÍÙ³Ý áÉáñï
A18: 1 | B18: å³ïÅÇó å³ÛÙ³Ý³Ï³Ý í³Õ³Å³ÙÏ»ï ³½³ï»Éáõ Ù³ëÇÝ ÙÇçÝáñ¹áõÃÛáõÝÝ»ñ
A19: 2 | B19: å³ïÇÅÁ ÷á÷áË»Éáõ, Ñ»ï³Ó·»Éáõ ¨ å³ïÅÇó ³½³ï»Éáõ Ù³uÇÝ ÙÇçÝáñ¹áõÃÛáõÝÝ»ñ | D19: 68 | E19: 63 | F19: 30 | G19: 11 | H19: 3 | I19: 1 | J19: 45 | K19: 2 | L19: 83 | M19: 5
A20: 3 | B20: Ñ³ñÏ³¹Çñ µáõÅÙ³Ý ï»ë³ÏÇ ÷á÷áËáõÃÛ³Ý Ù³ëÇÝ ÙÇçÝáñ¹áõÃÛáõÝÝ»ñ
A21: 4 | B21: ³ÛÉ ÙÇçÝáñ¹áõÃÛáõÝÝ»ñ | D21: 8 | E21: 26 | F21: 7 | G21: 13 | H21: 3 | J21: 23 | L21: 11 | M21: 1
A22: 5 | B22: ¹³ï³Ï³Ý Ñ³ÝÓÝ³ñ³ñáõÃÛáõÝÝ»ñ | D22: 24 | E22: 13 | G22: 15 | J22: 15 | L22: 22 | M22: 1
A23: ÀÜ¸²ØºÜÀ | D23: =SUM(D6:D16,D18:D22) -> 141 | E23: =SUM(E6:E16,E18:E22) -> 651 | F23: =SUM(F6:F16,F18:F22) -> 91 | G23: =SUM(G6:G16,G18:G22) -> 510 | H23: =SUM(H6:H16,H18:H22) -> 28 | I23: =SUM(I6:I16,I18:I22) -> 4 | J23: =SUM(J6:J16,J18:J22) -> 633 | K23: =SUM(K6:K16,K18:K22) -> 3 | ... M23: =SUM(M6:M16,M18:M22) -> 57
B24: Ծանոթություն՝ թվով 2 միջնորդություն միացվել է:

Sheet Արմավիր
A1: 2022թ. 1-ին կիսամյակի | C1: Ð²ÞìºîìàôÂÚàôÜ
A2: ØÇÝã¹³ï³Ï³Ý í³ñáõÛÃÇ ÝÏ³ïÙ³Ùµ ¹³ï³Ï³Ý í»ñ³ÑëÏáÕáõÃÛ³ÝÁ, ¹³ï³Ï³Ý ³Ïï»ñÇ ¨ ¹³ï³Ï³Ý Ñ³ÝÓÝ³ñ³ñáõÃÛáõÝÝ»ñÇ Ï³ï³ñÙ³ÝÁ Ñ»ï Ï³åí³Í ÙÇçÝáñ¹áõÃÛáõÝÝ»ñÇ í»ñ³µ»ñÛ³É ¹³ï³Ï³Ý ·áñÍ»ñáí ÐÐ Արմավիրի մարզի ³é³çÇÝ ³ïÛ³ÝÇ ÁÝ¹Ñ³Ýáõñ Çñ³í³ëáõÃÛ³Ý ¹³ï³ñ³ÝÇ ·áñÍáõÝ»áõÃÛ³Ý í»ñ³µ»ñÛ³É
A3: êïáõ·Çã Ñ³í³ë³ñáõÙ` 1+2=7+8+9, 7=3+4+5+6, | D3: Ñ³ßí»ïáõ Å³Ù³Ý³Ï³Ñ³ïí³ÍÇ ëÏ½µáõÙ Ý³Ëáñ¹ Ñ³ßí»ïáõ Å³Ù³Ý³Ï³Ñ³ïí³ÍÇó ÷áË³Ýóí³Í ·áñÍ»ñÇ ÁÝ¹Ñ³Ýáõñ ÃÇíÁ | E3: Ñ³ßí»ïáõ Å³Ù³Ý³Ï³Ñ³ïí³ÍáõÙ ëï³óí³Í ·áñÍ»ñÇ ÁÝ¹Ñ³Ýáõñ ÃÇíÁ | F3: Ñ³ßí»ïáõ Å³Ù³Ý³Ï³Ñ³ïí³ÍáõÙ ³í³ñïí³Í ·áñÍ»ñÇ ÁÝ¹Ñ³Ýáõñ ÃÇíÁ | K3: áõÕ³ñÏí»É ¿ Áëï ÁÝ¹¹³ïáõÃÛ³Ý | L3: Ñ³ßí»ïáõ Å³Ù³Ý³Ï³Ñ³ïí³ÍáõÙ ³Ý³í³ñï ·áñÍ»ñÇ ÁÝ¹Ñ³Ýáõñ ÃÇíÁ | M3: µáÕáù³ñÏí»É ¿ í»ñ³ùÝÝÇã ¹³ï³ñ³Ý
F4: Ù»ñÅí»É ¿ | G4: µ³í³ñ³ñí»É ¿ | H4: µ³í³ñ³ñí»É ¿ Ù³ëÝ³ÏÇ | I4: ÃáÕÝí»É ¿ ³é³Ýó ùÝÝáõÃÛ³Ý | J4: ÁÝ¹³Ù»ÝÁ
A5: 1. ØÇÝã¹³ï³Ï³Ý í³ñáõÛÃÇ ÝÏ³ïÙ³Ùµ ¹³ï³Ï³Ý í»ñ³ÑëÏáÕáõÃÛ³Ý áÉáñï | D5: 1 | E5: 2 | F5: 3 | G5: 4 | H5: 5 | I5: 6 | J5: 7 | K5: 8 | L5: 9 | M5: 10
A6: 1 | B6: Ï³É³ÝùÁ áñå»ë Ë³÷³ÝÙ³Ý ÙÇçáó ÏÇñ³é»Éáõ Ù³ëÇÝ ÙÇçÝáñ¹áõÃÛáõÝÝ»ñ | E6: 31 | F6: 5 | G6: 24 | H6: 1 | I6: 1 | J6: 31 | M6: 15
A7: 2 | B7: Ï³É³ÝùÇ Å³ÙÏ»ïÁ »ñÏ³ñ³óÝ»Éáõ Ù³ëÇÝ ÙÇçÝáñ¹áõÃÛáõÝÝ»ñ | E7: 41 | F7: 11 | G7: 25 | H7: 5 | J7: 41 | M7: 10
A8: 3 | B8: Ï³É³ÝùÇ í»ñ³Ñ³ëï³ïÙ³Ý Ù³ëÇÝ ÙÇçÝáñ¹áõÃÛáõÝÝ»ñ | E8: 4 | F8: 1 | G8: 2 | H8: 1 | J8: 4
A9: 4 | B9: ·ñ³íÁ áñå»ë Ï³É³Ý³íáñÙ³Ý ³ÛÉÁÝïñ³Ýù³ÛÇÝ Ë³÷³ÝÙ³Ý ÙÇçáó ÏÇñ³é»Éáõ Ù³ëÇÝ ÙÇçÝáñ¹áõÃÛáõÝÝ»ñ | D9: 1 | E9: 1 | F9: 2 | J9: 2 | M9: 2
A10: 5 | B10: Ëáõ½³ñÏáõÃÛ³Ý Ï³ï³ñÙ³Ý Ù³ëÇÝ ÙÇçÝáñ¹áõÃÛáõÝÝ»ñ | E10: 233 | F10: 8 | G10: 203 | H10: 22 | J10: 233 | M10: 11
A11: 6 | B11: µ³ÝÏ³ÛÇÝ, ³å³Ñáí³·ñ³Ï³Ý, Ýáï³ñ³Ï³Ý ·³ÕïÝÇù Ï³½ÙáÕ ï»Õ»ÏáõÃÛáõÝÝ»ñÇ ëï³óÙ³Ý Ñ³Ù³ñ Ëáõ½³ñÏáõÃÛ³Ý Ï³Ù ³é·ñ³íÙ³Ý Ï³ï³ñÙ³Ý Ù³ëÇÝ ÙÇçÝáñ¹áõÃÛáõÝÝ»ñ
A12: 7 | B12: Ý³Ù³Ï³·ñáõÃÛ³Ý, Ñ»é³·ñ³Ï³Ý, ÷áuï³ÛÇÝ Ñ³Õáñ¹áõÙÝ»ñÇ ÑëÏáÕáõÃÛ³Ý Ù³ëÇÝ ÙÇçÝáñ¹áõÃÛáõÝÝ»ñ
A13: 8 | B13: Ñ»é³Ëáu³ÛÇÝ Ï³Ù Ï³åÇ ³ÛÉ ÙÇçáóÝ»ñáí ï³ñíáÕ Ëáu³ÏóáõÃÛáõÝÝ»ñÇ ÉuÙ³Ý ¨ Ó³ÛÝ³·ñ³éÙ³Ý Ù³ëÇÝ ÙÇçÝáñ¹áõÃÛáõÝÝ»ñ | E13: 2 | G13: 1 | H13: 1 | J13: 2
A14: 9 | B14: Ñ»é³ËáëÝ»ñÇ Ùáõïù³ÛÇÝ ¨ »Éù³ÛÇÝ í»ñÍ³ÝÙ³Ý ÃáõÛÉïíáõÃÛáõÝ ëï³Ý³Éáõ Ù³ëÇÝ ÙÇçÝáñ¹áõÃÛáõÝÝ»ñ | E14: 246 | F14: 3 | G14: 241 | H14: 2 | J14: 246 | M14: 3
A15: 10 | B15: Ñ»ï³ùÝÝáõÃÛ³Ý Ù³ñÙÝÇ ³ßË³ïáÕÇ, ùÝÝÇãÇ, ¹³ï³Ë³½Ç oå»ñ³ïÇí-Ñ»ï³Ëáõ½³Ï³Ý ·áñÍáÕáõÃÛáõÝÝ»ñ Çñ³Ï³Ý³óÝáÕ Ù³ñÙÇÝÝ»ñÇ ³ÝoñÇÝ³Ï³Ý ¨ ³ÝÑÇÙÝ áñáßáõÙÝ»ñÇ ¨ ·áñÍáÕáõÃÛáõÝÝ»ñÇ ¹»Ù µáÕáùÝ»ñ | D15: 29 | E15: 33 | F15: 22 | G15: 9 | H15: 7 | J15: 38 | L15: 24 | M15: 14
A16: 11 | B16: ²½³ïáõÃÛáõÝÇó ½ñÏ»Éáõ Çñ³í³ã³÷áõÃÛ³Ý í»ñ³µ»ñÛ³É µáÕáùÝ»ñáí ·áñÍ»ñ | E16: 7 | F16: 4 | G16: 3 | J16: 7 | M16: 2
A17: 2. ¸³ï³Ï³Ý ³Ïï»ñÇ ¨ ¹³ï³Ï³Ý Ñ³ÝÓÝ³ñ³ñáõÃÛáõÝÝ»ñÇ Ï³ï³ñÙ³Ý Ñ»ï Ï³åí³Í Ñ³ñó»ñÇ ÉáõÍÙ³Ý áÉáñï
A18: 1 | B18: å³ïÅÇó å³ÛÙ³Ý³Ï³Ý í³Õ³Å³ÙÏ»ï ³½³ï»Éáõ Ù³ëÇÝ ÙÇçÝáñ¹áõÃÛáõÝÝ»ñ | D18: 4 | E18: 23 | F18: 13 | G18: 6 | J18: 19 | L18: 8 | M18: 3
A19: 2 | B19: å³ïÇÅÁ ÷á÷áË»Éáõ, Ñ»ï³Ó·»Éáõ ¨ å³ïÅÇó ³½³ï»Éáõ Ù³uÇÝ ÙÇçÝáñ¹áõÃÛáõÝÝ»ñ | D19: 32 | E19: 64 | F19: 21 | G19: 21 | H19: 2 | I19: 1 | J19: 45 | L19: 51
A20: 3 | B20: Ñ³ñÏ³¹Çñ µáõÅÙ³Ý ï»ë³ÏÇ ÷á÷áËáõÃÛ³Ý Ù³ëÇÝ ÙÇçÝáñ¹áõÃÛáõÝÝ»ñ
A21: 4 | B21: ³ÛÉ ÙÇçÝáñ¹áõÃÛáõÝÝ»ñ | D21: 13 | E21: 87 | F21: 42 | G21: 27 | H21: 0 | I21: 0 | J21: 69 | K21: 0 | L21: 31 | M21: 14
A22: 5 | B22: ¹³ï³Ï³Ý Ñ³ÝÓÝ³ñ³ñáõÃÛáõÝÝ»ñ | D22: 10 | E22: 15 | F22: 1 | G22: 5 | J22: 6 | L22: 18
A23: ÀÜ¸²ØºÜÀ | D23: =SUM(D6:D16,D18:D22) -> 89 | E23: =SUM(E6:E16,E18:E22) -> 787 | F23: =SUM(F6:F16,F18:F22) -> 133 | G23: =SUM(G6:G16,G18:G22) -> 567 | H23: =SUM(H6:H16,H18:H22) -> 41 | I23: =SUM(I6:I16,I18:I22) -> 2 | J23: =SUM(J6:J16,J18:J22) -> 743 | K23: =SUM(K6:K16,K18:K22) -> 0 | ... M23: =SUM(M6:M16,M18:M22) -> 74
A25: Ծանոթություն՝ թվով 1 միջնորդություն որոշում չի կայացվել:

Sheet Լոռի
A1: 2022թ. 1-ին կիսամյակի | C1: Ð²ÞìºîìàôÂÚàôÜ
A2: ØÇÝã¹³ï³Ï³Ý í³ñáõÛÃÇ ÝÏ³ïÙ³Ùµ ¹³ï³Ï³Ý í»ñ³ÑëÏáÕáõÃÛ³ÝÁ, ¹³ï³Ï³Ý ³Ïï»ñÇ ¨ ¹³ï³Ï³Ý Ñ³ÝÓÝ³ñ³ñáõÃÛáõÝÝ»ñÇ Ï³ï³ñÙ³ÝÁ Ñ»ï Ï³åí³Í ÙÇçÝáñ¹áõÃÛáõÝÝ»ñÇ í»ñ³µ»ñÛ³É ¹³ï³Ï³Ý ·áñÍ»ñáí ÐÐ Լոռու մարզի ³é³çÇÝ ³ïÛ³ÝÇ ÁÝ¹Ñ³Ýáõñ Çñ³í³ëáõÃÛ³Ý ¹³ï³ñ³ÝÇ ·áñÍáõÝ»áõÃÛ³Ý í»ñ³µ»ñÛ³É
A3: êïáõ·Çã Ñ³í³ë³ñáõÙ` 1+2=7+8+9, 7=3+4+5+6, | D3: Ñ³ßí»ïáõ Å³Ù³Ý³Ï³Ñ³ïí³ÍÇ ëÏ½µáõÙ Ý³Ëáñ¹ Ñ³ßí»ïáõ Å³Ù³Ý³Ï³Ñ³ïí³ÍÇó ÷áË³Ýóí³Í ·áñÍ»ñÇ ÁÝ¹Ñ³Ýáõñ ÃÇíÁ | E3: Ñ³ßí»ïáõ Å³Ù³Ý³Ï³Ñ³ïí³ÍáõÙ ëï³óí³Í ·áñÍ»ñÇ ÁÝ¹Ñ³Ýáõñ ÃÇíÁ | F3: Ñ³ßí»ïáõ Å³Ù³Ý³Ï³Ñ³ïí³ÍáõÙ ³í³ñïí³Í ·áñÍ»ñÇ ÁÝ¹Ñ³Ýáõñ ÃÇíÁ | K3: áõÕ³ñÏí»É ¿ Áëï ÁÝ¹¹³ïáõÃÛ³Ý | L3: Ñ³ßí»ïáõ Å³Ù³Ý³Ï³Ñ³ïí³ÍáõÙ ³Ý³í³ñï ·áñÍ»ñÇ ÁÝ¹Ñ³Ýáõñ ÃÇíÁ | M3: µáÕáù³ñÏí»É ¿ í»ñ³ùÝÝÇã ¹³ï³ñ³Ý
F4: Ù»ñÅí»É ¿ | G4: µ³í³ñ³ñí»É ¿ | H4: µ³í³ñ³ñí»É ¿ Ù³ëÝ³ÏÇ | I4: ÃáÕÝí»É ¿ ³é³Ýó ùÝÝáõÃÛ³Ý | J4: ÁÝ¹³Ù»ÝÁ
A5: 1. ØÇÝã¹³ï³Ï³Ý í³ñáõÛÃÇ ÝÏ³ïÙ³Ùµ ¹³ï³Ï³Ý í»ñ³ÑëÏáÕáõÃÛ³Ý áÉáñï | D5: 1 | E5: 2 | F5: 3 | G5: 4 | H5: 5 | I5: 6 | J5: 7 | K5: 8 | L5: 9 | M5: 10
A6: 1 | B6: Ï³É³ÝùÁ áñå»ë Ë³÷³ÝÙ³Ý ÙÇçáó ÏÇñ³é»Éáõ Ù³ëÇÝ ÙÇçÝáñ¹áõÃÛáõÝÝ»ñ | E6: 65 | F6: 11 | G6: 53 | I6: 1 | J6: =+I6+H6+G6+F6 -> 65 | M6: 29
A7: 2 | B7: Ï³É³ÝùÇ Å³ÙÏ»ïÁ »ñÏ³ñ³óÝ»Éáõ Ù³ëÇÝ ÙÇçÝáñ¹áõÃÛáõÝÝ»ñ | E7: 31 | F7: 9 | G7: 17 | H7: 5 | J7: =+I7+H7+G7+F7 -> 31 | M7: 18
A8: 3 | B8: Ï³É³ÝùÇ í»ñ³Ñ³ëï³ïÙ³Ý Ù³ëÇÝ ÙÇçÝáñ¹áõÃÛáõÝÝ»ñ | E8: 5 | F8: 1 | G8: 3 | H8: 1 | J8: =+I8+H8+G8+F8 -> 5 | M8: 2
A9: 4 | B9: ·ñ³íÁ áñå»ë Ï³É³Ý³íáñÙ³Ý ³ÛÉÁÝïñ³Ýù³ÛÇÝ Ë³÷³ÝÙ³Ý ÙÇçáó ÏÇñ³é»Éáõ Ù³ëÇÝ ÙÇçÝáñ¹áõÃÛáõÝÝ»ñ | J9: =+I9+H9+G9+F9 -> 0
A10: 5 | B10: Ëáõ½³ñÏáõÃÛ³Ý Ï³ï³ñÙ³Ý Ù³ëÇÝ ÙÇçÝáñ¹áõÃÛáõÝÝ»ñ | E10: 364 | F10: 4 | G10: 359 | H10: 1 | J10: =+I10+H10+G10+F10 -> 364
A11: 6 | B11: µ³ÝÏ³ÛÇÝ, ³å³Ñáí³·ñ³Ï³Ý, Ýáï³ñ³Ï³Ý ·³ÕïÝÇù Ï³½ÙáÕ ï»Õ»ÏáõÃÛáõÝÝ»ñÇ ëï³óÙ³Ý Ñ³Ù³ñ Ëáõ½³ñÏáõÃÛ³Ý Ï³Ù ³é·ñ³íÙ³Ý Ï³ï³ñÙ³Ý Ù³ëÇÝ ÙÇçÝáñ¹áõÃÛáõÝÝ»ñ | E11: 12 | F11: 1 | G11: 11 | J11: =+I11+H11+G11+F11 -> 12 | M11: 1
A12: 7 | B12: Ý³Ù³Ï³·ñáõÃÛ³Ý, Ñ»é³·ñ³Ï³Ý, ÷áuï³ÛÇÝ Ñ³Õáñ¹áõÙÝ»ñÇ ÑëÏáÕáõÃÛ³Ý Ù³ëÇÝ ÙÇçÝáñ¹áõÃÛáõÝÝ»ñ | E12: 35 | F12: 7 | G12: 28 | J12: =+I12+H12+G12+F12 -> 35
A13: 8 | B13: Ñ»é³Ëáu³ÛÇÝ Ï³Ù Ï³åÇ ³ÛÉ ÙÇçáóÝ»ñáí ï³ñíáÕ Ëáu³ÏóáõÃÛáõÝÝ»ñÇ ÉuÙ³Ý ¨ Ó³ÛÝ³·ñ³éÙ³Ý Ù³ëÇÝ ÙÇçÝáñ¹áõÃÛáõÝÝ»ñ | E13: 7 | G13: 7 | J13: =+I13+H13+G13+F13 -> 7
A14: 9 | B14: Ñ»é³ËáëÝ»ñÇ Ùáõïù³ÛÇÝ ¨ »Éù³ÛÇÝ í»ñÍ³ÝÙ³Ý ÃáõÛÉïíáõÃÛáõÝ ëï³Ý³Éáõ Ù³ëÇÝ ÙÇçÝáñ¹áõÃÛáõÝÝ»ñ | E14: 403 | F14: 4 | G14: 398 | H14: 1 | J14: =+I14+H14+G14+F14 -> 403 | M14: 1
A15: 10 | B15: Ñ»ï³ùÝÝáõÃÛ³Ý Ù³ñÙÝÇ ³ßË³ïáÕÇ, ùÝÝÇãÇ, ¹³ï³Ë³½Ç oå»ñ³ïÇí-Ñ»ï³Ëáõ½³Ï³Ý ·áñÍáÕáõÃÛáõÝÝ»ñ Çñ³Ï³Ý³óÝáÕ Ù³ñÙÇÝÝ»ñÇ ³ÝoñÇÝ³Ï³Ý ¨ ³ÝÑÇÙÝ áñáßáõÙÝ»ñÇ ¨ ·áñÍáÕáõÃÛáõÝÝ»ñÇ ¹»Ù µáÕáùÝ»ñ | D15: 39 | E15: 20 | F15: 35 | G15: 5 | J15: =+I15+H15+G15+F15 -> 40 | L15: 19 | M15: 19
A16: 11 | B16: ²½³ïáõÃÛáõÝÇó ½ñÏ»Éáõ Çñ³í³ã³÷áõÃÛ³Ý í»ñ³µ»ñÛ³É µáÕáùÝ»ñáí ·áñÍ»ñ | E16: 6 | F16: 4 | G16: 2 | J16: =+I16+H16+G16+F16 -> 6 | M16: 1
A17: 2. ¸³ï³Ï³Ý ³Ïï»ñÇ ¨ ¹³ï³Ï³Ý Ñ³ÝÓÝ³ñ³ñáõÃÛáõÝÝ»ñÇ Ï³ï³ñÙ³Ý Ñ»ï Ï³åí³Í Ñ³ñó»ñÇ ÉáõÍÙ³Ý áÉáñï
A18: 1 | B18: å³ïÅÇó å³ÛÙ³Ý³Ï³Ý í³Õ³Å³ÙÏ»ï ³½³ï»Éáõ Ù³ëÇÝ ÙÇçÝáñ¹áõÃÛáõÝÝ»ñ | E18: 6 | G18: 6 | J18: =+I18+H18+G18+F18 -> 6
A19: 2 | B19: å³ïÇÅÁ ÷á÷áË»Éáõ, Ñ»ï³Ó·»Éáõ ¨ å³ïÅÇó ³½³ï»Éáõ Ù³uÇÝ ÙÇçÝáñ¹áõÃÛáõÝÝ»ñ | D19: 74 | E19: 42 | F19: 24 | G19: 13 | H19: 7 | I19: 1 | J19: =+I19+H19+G19+F19 -> 45 | K19: 4 | L19: 66 | M19: 4
A20: 3 | B20: Ñ³ñÏ³¹Çñ µáõÅÙ³Ý ï»ë³ÏÇ ÷á÷áËáõÃÛ³Ý Ù³ëÇÝ ÙÇçÝáñ¹áõÃÛáõÝÝ»ñ | D20: 1 | E20: 3 | G20: 3 | J20: =+I20+H20+G20+F20 -> 3 | L20: 1
A21: 4 | B21: ³ÛÉ ÙÇçÝáñ¹áõÃÛáõÝÝ»ñ | D21: 2 | E21: 49 | F21: 33 | G21: 10 | I21: 1 | J21: =+I21+H21+G21+F21 -> 44 | K21: 1 | L21: 6 | M21: 8
A22: 5 | B22: ¹³ï³Ï³Ý Ñ³ÝÓÝ³ñ³ñáõÃÛáõÝÝ»ñ | D22: 8 | E22: 10 | G22: 6 | J22: =+I22+H22+G22+F22 -> 6 | L22: 8
A23: ÀÜ¸²ØºÜÀ | D23: =SUM(D6:D16,D18:D22) -> 124 | E23: =SUM(E6:E16,E18:E22) -> 1058 | F23: =SUM(F6:F16,F18:F22) -> 133 | G23: =SUM(G6:G16,G18:G22) -> 921 | H23: =SUM(H6:H16,H18:H22) -> 15 | I23: =SUM(I6:I16,I18:I22) -> 3 | J23: =SUM(J6:J16,J18:J22) -> 1072 | K23: =SUM(K6:K16,K18:K22) -> 5 | ... M23: =SUM(M6:M16,M18:M22) -> 83
B24: Ծանոթություն՝ թվով 1 միջնորդություն միացվել է, 4-ը վերադարձվել է,

Sheet Կոտայք
A1: 2022թ. 1-ին կիսամյակի | C1: Ð²ÞìºîìàôÂÚàôÜ
A2: ØÇÝã¹³ï³Ï³Ý í³ñáõÛÃÇ ÝÏ³ïÙ³Ùµ ¹³ï³Ï³Ý í»ñ³ÑëÏáÕáõÃÛ³ÝÁ, ¹³ï³Ï³Ý ³Ïï»ñÇ ¨ ¹³ï³Ï³Ý Ñ³ÝÓÝ³ñ³ñáõÃÛáõÝÝ»ñÇ Ï³ï³ñÙ³ÝÁ Ñ»ï Ï³åí³Í ÙÇçÝáñ¹áõÃÛáõÝÝ»ñÇ í»ñ³µ»ñÛ³É ¹³ï³Ï³Ý ·áñÍ»ñáí ÐÐ Կոտայքի մարզի ³é³çÇÝ ³ïÛ³ÝÇ ÁÝ¹Ñ³Ýáõñ Çñ³í³ëáõÃÛ³Ý ¹³ï³ñ³ÝÇ ·áñÍáõÝ»áõÃÛ³Ý í»ñ³µ»ñÛ³É
A3: êïáõ·Çã Ñ³í³ë³ñáõÙ` 1+2=7+8+9, 7=3+4+5+6, | D3: Ñ³ßí»ïáõ Å³Ù³Ý³Ï³Ñ³ïí³ÍÇ ëÏ½µáõÙ Ý³Ëáñ¹ Ñ³ßí»ïáõ Å³Ù³Ý³Ï³Ñ³ïí³ÍÇó ÷áË³Ýóí³Í ·áñÍ»ñÇ ÁÝ¹Ñ³Ýáõñ ÃÇíÁ | E3: Ñ³ßí»ïáõ Å³Ù³Ý³Ï³Ñ³ïí³ÍáõÙ ëï³óí³Í ·áñÍ»ñÇ ÁÝ¹Ñ³Ýáõñ ÃÇíÁ | F3: Ñ³ßí»ïáõ Å³Ù³Ý³Ï³Ñ³ïí³ÍáõÙ ³í³ñïí³Í ·áñÍ»ñÇ ÁÝ¹Ñ³Ýáõñ ÃÇíÁ | K3: áõÕ³ñÏí»É ¿ Áëï ÁÝ¹¹³ïáõÃÛ³Ý | L3: Ñ³ßí»ïáõ Å³Ù³Ý³Ï³Ñ³ïí³ÍáõÙ ³Ý³í³ñï ·áñÍ»ñÇ ÁÝ¹Ñ³Ýáõñ ÃÇíÁ | M3: µáÕáù³ñÏí»É ¿ í»ñ³ùÝÝÇã ¹³ï³ñ³Ý
F4: Ù»ñÅí»É ¿ | G4: µ³í³ñ³ñí»É ¿ | H4: µ³í³ñ³ñí»É ¿ Ù³ëÝ³ÏÇ | I4: ÃáÕÝí»É ¿ ³é³Ýó ùÝÝáõÃÛ³Ý | J4: ÁÝ¹³Ù»ÝÁ
A5: 1. ØÇÝã¹³ï³Ï³Ý í³ñáõÛÃÇ ÝÏ³ïÙ³Ùµ ¹³ï³Ï³Ý í»ñ³ÑëÏáÕáõÃÛ³Ý áÉáñï | D5: 1 | E5: 2 | F5: 3 | G5: 4 | H5: 5 | I5: 6 | J5: 7 | K5: 8 | L5: 9 | M5: 10
A6: 1 | B6: Ï³É³ÝùÁ áñå»ë Ë³÷³ÝÙ³Ý ÙÇçáó ÏÇñ³é»Éáõ Ù³ëÇÝ ÙÇçÝáñ¹áõÃÛáõÝÝ»ñ | E6: 32 | F6: 7 | G6: 21 | H6: 3 | J6: 31 | K6: 1 | M6: 24
A7: 2 | B7: Ï³É³ÝùÇ Å³ÙÏ»ïÁ »ñÏ³ñ³óÝ»Éáõ Ù³ëÇÝ ÙÇçÝáñ¹áõÃÛáõÝÝ»ñ | M7: 2
A8: 3 | B8: Ï³É³ÝùÇ í»ñ³Ñ³ëï³ïÙ³Ý Ù³ëÇÝ ÙÇçÝáñ¹áõÃÛáõÝÝ»ñ
A9: 4 | B9: ·ñ³íÁ áñå»ë Ï³É³Ý³íáñÙ³Ý ³ÛÉÁÝïñ³Ýù³ÛÇÝ Ë³÷³ÝÙ³Ý ÙÇçáó ÏÇñ³é»Éáõ Ù³ëÇÝ ÙÇçÝáñ¹áõÃÛáõÝÝ»ñ
A10: 5 | B10: Ëáõ½³ñÏáõÃÛ³Ý Ï³ï³ñÙ³Ý Ù³ëÇÝ ÙÇçÝáñ¹áõÃÛáõÝÝ»ñ | E10: 116 | F10: 15 | G10: 100 | H10: 1 | J10: 116 | M10: 10
A11: 6 | B11: µ³ÝÏ³ÛÇÝ, ³å³Ñáí³·ñ³Ï³Ý, Ýáï³ñ³Ï³Ý ·³ÕïÝÇù Ï³½ÙáÕ ï»Õ»ÏáõÃÛáõÝÝ»ñÇ ëï³óÙ³Ý Ñ³Ù³ñ Ëáõ½³ñÏáõÃÛ³Ý Ï³Ù ³é·ñ³íÙ³Ý Ï³ï³ñÙ³Ý Ù³ëÇÝ ÙÇçÝáñ¹áõÃÛáõÝÝ»ñ | E11: 4 | G11: 3 | H11: 1 | J11: 4
A12: 7 | B12: Ý³Ù³Ï³·ñáõÃÛ³Ý, Ñ»é³·ñ³Ï³Ý, ÷áuï³ÛÇÝ Ñ³Õáñ¹áõÙÝ»ñÇ ÑëÏáÕáõÃÛ³Ý Ù³ëÇÝ ÙÇçÝáñ¹áõÃÛáõÝÝ»ñ | E12: 46 | F12: 2 | G12: 44 | J12: 46 | M12: 1
A13: 8 | B13: Ñ»é³Ëáu³ÛÇÝ Ï³Ù Ï³åÇ ³ÛÉ ÙÇçáóÝ»ñáí ï³ñíáÕ Ëáu³ÏóáõÃÛáõÝÝ»ñÇ ÉuÙ³Ý ¨ Ó³ÛÝ³·ñ³éÙ³Ý Ù³ëÇÝ ÙÇçÝáñ¹áõÃÛáõÝÝ»ñ
A14: 9 | B14: Ñ»é³ËáëÝ»ñÇ Ùáõïù³ÛÇÝ ¨ »Éù³ÛÇÝ í»ñÍ³ÝÙ³Ý ÃáõÛÉïíáõÃÛáõÝ ëï³Ý³Éáõ Ù³ëÇÝ ÙÇçÝáñ¹áõÃÛáõÝÝ»ñ | E14: 246 | F14: 11 | G14: 186 | H14: 49 | J14: 246 | M14: 13
A15: 10 | B15: Ñ»ï³ùÝÝáõÃÛ³Ý Ù³ñÙÝÇ ³ßË³ïáÕÇ, ùÝÝÇãÇ, ¹³ï³Ë³½Ç oå»ñ³ïÇí-Ñ»ï³Ëáõ½³Ï³Ý ·áñÍáÕáõÃÛáõÝÝ»ñ Çñ³Ï³Ý³óÝáÕ Ù³ñÙÇÝÝ»ñÇ ³ÝoñÇÝ³Ï³Ý ¨ ³ÝÑÇÙÝ áñáßáõÙÝ»ñÇ ¨ ·áñÍáÕáõÃÛáõÝÝ»ñÇ ¹»Ù µáÕáùÝ»ñ | D15: 31 | E15: 29 | F15: 22 | G15: 6 | J15: 28 | L15: 32 | M15: 19
A16: 11 | B16: ²½³ïáõÃÛáõÝÇó ½ñÏ»Éáõ Çñ³í³ã³÷áõÃÛ³Ý í»ñ³µ»ñÛ³É µáÕáùÝ»ñáí ·áñÍ»ñ | E16: 3 | G16: 3 | J16: 3
A17: 2. ¸³ï³Ï³Ý ³Ïï»ñÇ ¨ ¹³ï³Ï³Ý Ñ³ÝÓÝ³ñ³ñáõÃÛáõÝÝ»ñÇ Ï³ï³ñÙ³Ý Ñ»ï Ï³åí³Í Ñ³ñó»ñÇ ÉáõÍÙ³Ý áÉáñï
A18: 1 | B18: å³ïÅÇó å³ÛÙ³Ý³Ï³Ý í³Õ³Å³ÙÏ»ï ³½³ï»Éáõ Ù³ëÇÝ ÙÇçÝáñ¹áõÃÛáõÝÝ»ñ | D18: 8 | E18: 46 | F18: 19 | G18: 21 | J18: 40 | K18: 1 | L18: 13 | M18: 3
A19: 2 | B19: å³ïÇÅÁ ÷á÷áË»Éáõ, Ñ»ï³Ó·»Éáõ ¨ å³ïÅÇó ³½³ï»Éáõ Ù³uÇÝ ÙÇçÝáñ¹áõÃÛáõÝÝ»ñ | D19: 50 | E19: 51 | F19: 28 | G19: 29 | J19: 57 | L19: 43 | M19: 12
A20: 3 | B20: Ñ³ñÏ³¹Çñ µáõÅÙ³Ý ï»ë³ÏÇ ÷á÷áËáõÃÛ³Ý Ù³ëÇÝ ÙÇçÝáñ¹áõÃÛáõÝÝ»ñ | D20: 2 | G20: 2 | J20: 2
A21: 4 | B21: ³ÛÉ ÙÇçÝáñ¹áõÃÛáõÝÝ»ñ | D21: 1 | E21: 14 | F21: 4 | G21: 7 | I21: 1 | J21: 12 | L21: 3 | M21: 2
A22: 5 | B22: ¹³ï³Ï³Ý Ñ³ÝÓÝ³ñ³ñáõÃÛáõÝÝ»ñ | D22: 20 | E22: 23 | F22: 4 | G22: 5 | H22: 1 | I22: 1 | J22: 11 | L22: 32
A23: ÀÜ¸²ØºÜÀ | D23: =SUM(D6:D16,D18:D22) -> 112 | E23: =SUM(E6:E16,E18:E22) -> 610 | F23: =SUM(F6:F16,F18:F22) -> 112 | G23: =SUM(G6:G16,G18:G22) -> 427 | H23: =SUM(H6:H16,H18:H22) -> 55 | I23: =SUM(I6:I16,I18:I22) -> 2 | J23: =SUM(J6:J16,J18:J22) -> 596 | K23: =SUM(K6:K16,K18:K22) -> 2 | ... M23: =SUM(M6:M16,M18:M22) -> 86
B24: Ծանոթություն՝ թվով 1 միջնորդություն միացվել է:

Sheet Սյունիք
A1: 2022թ. 1-ին կիսամյակի | C1: Ð²ÞìºîìàôÂÚàôÜ
A2: ØÇÝã¹³ï³Ï³Ý í³ñáõÛÃÇ ÝÏ³ïÙ³Ùµ ¹³ï³Ï³Ý í»ñ³ÑëÏáÕáõÃÛ³ÝÁ, ¹³ï³Ï³Ý ³Ïï»ñÇ ¨ ¹³ï³Ï³Ý Ñ³ÝÓÝ³ñ³ñáõÃÛáõÝÝ»ñÇ Ï³ï³ñÙ³ÝÁ Ñ»ï Ï³åí³Í ÙÇçÝáñ¹áõÃÛáõÝÝ»ñÇ í»ñ³µ»ñÛ³É ¹³ï³Ï³Ý ·áñÍ»ñáí ÐÐ Սյունիքի մարզի ³é³çÇÝ ³ïÛ³ÝÇ ÁÝ¹Ñ³Ýáõñ Çñ³í³ëáõÃÛ³Ý ¹³ï³ñ³ÝÇ ·áñÍáõÝ»áõÃÛ³Ý í»ñ³µ»ñÛ³É
A3: êïáõ·Çã Ñ³í³ë³ñáõÙ` 1+2=7+8+9, 7=3+4+5+6, | D3: Ñ³ßí»ïáõ Å³Ù³Ý³Ï³Ñ³ïí³ÍÇ ëÏ½µáõÙ Ý³Ëáñ¹ Ñ³ßí»ïáõ Å³Ù³Ý³Ï³Ñ³ïí³ÍÇó ÷áË³Ýóí³Í ·áñÍ»ñÇ ÁÝ¹Ñ³Ýáõñ ÃÇíÁ | E3: Ñ³ßí»ïáõ Å³Ù³Ý³Ï³Ñ³ïí³ÍáõÙ ëï³óí³Í ·áñÍ»ñÇ ÁÝ¹Ñ³Ýáõñ ÃÇíÁ | F3: Ñ³ßí»ïáõ Å³Ù³Ý³Ï³Ñ³ïí³ÍáõÙ ³í³ñïí³Í ·áñÍ»ñÇ ÁÝ¹Ñ³Ýáõñ ÃÇíÁ | K3: áõÕ³ñÏí»É ¿ Áëï ÁÝ¹¹³ïáõÃÛ³Ý | L3: Ñ³ßí»ïáõ Å³Ù³Ý³Ï³Ñ³ïí³ÍáõÙ ³Ý³í³ñï ·áñÍ»ñÇ ÁÝ¹Ñ³Ýáõñ ÃÇíÁ | M3: µáÕáù³ñÏí»É ¿ í»ñ³ùÝÝÇã ¹³ï³ñ³Ý
F4: Ù»ñÅí»É ¿ | G4: µ³í³ñ³ñí»É ¿ | H4: µ³í³ñ³ñí»É ¿ Ù³ëÝ³ÏÇ | I4: ÃáÕÝí»É ¿ ³é³Ýó ùÝÝáõÃÛ³Ý | J4: ÁÝ¹³Ù»ÝÁ
A5: 1. ØÇÝã¹³ï³Ï³Ý í³ñáõÛÃÇ ÝÏ³ïÙ³Ùµ ¹³ï³Ï³Ý í»ñ³ÑëÏáÕáõÃÛ³Ý áÉáñï | D5: 1 | E5: 2 | F5: 3 | G5: 4 | H5: 5 | I5: 6 | J5: 7 | K5: 8 | L5: 9 | M5: 10
A6: 1 | B6: Ï³É³ÝùÁ áñå»ë Ë³÷³ÝÙ³Ý ÙÇçáó ÏÇñ³é»Éáõ Ù³ëÇÝ ÙÇçÝáñ¹áõÃÛáõÝÝ»ñ | E6: 34 | F6: 9 | G6: 22 | H6: 2 | I6: 1 | J6: 34 | M6: 20
A7: 2 | B7: Ï³É³ÝùÇ Å³ÙÏ»ïÁ »ñÏ³ñ³óÝ»Éáõ Ù³ëÇÝ ÙÇçÝáñ¹áõÃÛáõÝÝ»ñ | E7: 24 | F7: 2 | G7: 20 | H7: 2 | J7: 24 | M7: 9
A8: 3 | B8: Ï³É³ÝùÇ í»ñ³Ñ³ëï³ïÙ³Ý Ù³ëÇÝ ÙÇçÝáñ¹áõÃÛáõÝÝ»ñ | E8: 4 | F8: 1 | G8: 3 | J8: 4
A9: 4 | B9: ·ñ³íÁ áñå»ë Ï³É³Ý³íáñÙ³Ý ³ÛÉÁÝïñ³Ýù³ÛÇÝ Ë³÷³ÝÙ³Ý ÙÇçáó ÏÇñ³é»Éáõ Ù³ëÇÝ ÙÇçÝáñ¹áõÃÛáõÝÝ»ñ | E9: 2 | F9: 2 | J9: 2
A10: 5 | B10: Ëáõ½³ñÏáõÃÛ³Ý Ï³ï³ñÙ³Ý Ù³ëÇÝ ÙÇçÝáñ¹áõÃÛáõÝÝ»ñ | E10: 128 | F10: 26 | G10: 99 | H10: 3 | J10: 128
A11: 6 | B11: µ³ÝÏ³ÛÇÝ, ³å³Ñáí³·ñ³Ï³Ý, Ýáï³ñ³Ï³Ý ·³ÕïÝÇù Ï³½ÙáÕ ï»Õ»ÏáõÃÛáõÝÝ»ñÇ ëï³óÙ³Ý Ñ³Ù³ñ Ëáõ½³ñÏáõÃÛ³Ý Ï³Ù ³é·ñ³íÙ³Ý Ï³ï³ñÙ³Ý Ù³ëÇÝ ÙÇçÝáñ¹áõÃÛáõÝÝ»ñ | E11: 4 | F11: 1 | G11: 3 | J11: 4
A12: 7 | B12: Ý³Ù³Ï³·ñáõÃÛ³Ý, Ñ»é³·ñ³Ï³Ý, ÷áuï³ÛÇÝ Ñ³Õáñ¹áõÙÝ»ñÇ ÑëÏáÕáõÃÛ³Ý Ù³ëÇÝ ÙÇçÝáñ¹áõÃÛáõÝÝ»ñ | E12: 23 | F12: 1 | G12: 22 | J12: 23
A13: 8 | B13: Ñ»é³Ëáu³ÛÇÝ Ï³Ù Ï³åÇ ³ÛÉ ÙÇçáóÝ»ñáí ï³ñíáÕ Ëáu³ÏóáõÃÛáõÝÝ»ñÇ ÉuÙ³Ý ¨ Ó³ÛÝ³·ñ³éÙ³Ý Ù³ëÇÝ ÙÇçÝáñ¹áõÃÛáõÝÝ»ñ | E13: 1 | G13: 1 | J13: 1
A14: 9 | B14: Ñ»é³ËáëÝ»ñÇ Ùáõïù³ÛÇÝ ¨ »Éù³ÛÇÝ í»ñÍ³ÝÙ³Ý ÃáõÛÉïíáõÃÛáõÝ ëï³Ý³Éáõ Ù³ëÇÝ ÙÇçÝáñ¹áõÃÛáõÝÝ»ñ | E14: 111 | F14: 2 | G14: 108 | H14: 1 | J14: 111
A15: 10 | B15: Ñ»ï³ùÝÝáõÃÛ³Ý Ù³ñÙÝÇ ³ßË³ïáÕÇ, ùÝÝÇãÇ, ¹³ï³Ë³½Ç oå»ñ³ïÇí-Ñ»ï³Ëáõ½³Ï³Ý ·áñÍáÕáõÃÛáõÝÝ»ñ Çñ³Ï³Ý³óÝáÕ Ù³ñÙÇÝÝ»ñÇ ³ÝoñÇÝ³Ï³Ý ¨ ³ÝÑÇÙÝ áñáßáõÙÝ»ñÇ ¨ ·áñÍáÕáõÃÛáõÝÝ»ñÇ ¹»Ù µáÕáùÝ»ñ | D15: 17 | E15: 22 | F15: 17 | G15: 1 | J15: 18 | L15: 21 | M15: 9
A16: 11 | B16: ²½³ïáõÃÛáõÝÇó ½ñÏ»Éáõ Çñ³í³ã³÷áõÃÛ³Ý í»ñ³µ»ñÛ³É µáÕáùÝ»ñáí ·áñÍ»ñ | E16: 3 | F16: 2 | G16: 1 | J16: 3
A17: 2. ¸³ï³Ï³Ý ³Ïï»ñÇ ¨ ¹³ï³Ï³Ý Ñ³ÝÓÝ³ñ³ñáõÃÛáõÝÝ»ñÇ Ï³ï³ñÙ³Ý Ñ»ï Ï³åí³Í Ñ³ñó»ñÇ ÉáõÍÙ³Ý áÉáñï
A18: 1 | B18: å³ïÅÇó å³ÛÙ³Ý³Ï³Ý í³Õ³Å³ÙÏ»ï ³½³ï»Éáõ Ù³ëÇÝ ÙÇçÝáñ¹áõÃÛáõÝÝ»ñ | D18: 2 | E18: 17 | F18: 14 | G18: 4 | J18: 18 | L18: 1 | M18: 5
A19: 2 | B19: å³ïÇÅÁ ÷á÷áË»Éáõ, Ñ»ï³Ó·»Éáõ ¨ å³ïÅÇó ³½³ï»Éáõ Ù³uÇÝ ÙÇçÝáñ¹áõÃÛáõÝÝ»ñ | D19: 2 | E19: 4 | F19: 3 | G19: 3 | J19: 6
A20: 3 | B20: Ñ³ñÏ³¹Çñ µáõÅÙ³Ý ï»ë³ÏÇ ÷á÷áËáõÃÛ³Ý Ù³ëÇÝ ÙÇçÝáñ¹áõÃÛáõÝÝ»ñ | E20: 3 | G20: 3 | J20: 3
A21: 4 | B21: ³ÛÉ ÙÇçÝáñ¹áõÃÛáõÝÝ»ñ | D21: 1 | E21: 5 | F21: 2 | G21: 2 | J21: 4 | L21: 2
A22: 5 | B22: ¹³ï³Ï³Ý Ñ³ÝÓÝ³ñ³ñáõÃÛáõÝÝ»ñ | D22: 5 | E22: 3 | F22: 1 | G22: 2 | J22: 3 | L22: 5
A23: ÀÜ¸²ØºÜÀ | D23: =SUM(D6:D16,D18:D22) -> 27 | E23: =SUM(E6:E16,E18:E22) -> 388 | F23: =SUM(F6:F16,F18:F22) -> 83 | G23: =SUM(G6:G16,G18:G22) -> 294 | H23: =SUM(H6:H16,H18:H22) -> 8 | I23: =SUM(I6:I16,I18:I22) -> 1 | J23: =SUM(J6:J16,J18:J22) -> 386 | K23: =SUM(K6:K16,K18:K22) -> 0 | ... M23: =SUM(M6:M16,M18:M22) -> 43

Sheet Գեղարքունիք
A1: 2022թ. 1-ին կիսամյակի | C1: Ð²ÞìºîìàôÂÚàôÜ
A2: ØÇÝã¹³ï³Ï³Ý í³ñáõÛÃÇ ÝÏ³ïÙ³Ùµ ¹³ï³Ï³Ý í»ñ³ÑëÏáÕáõÃÛ³ÝÁ, ¹³ï³Ï³Ý ³Ïï»ñÇ ¨ ¹³ï³Ï³Ý Ñ³ÝÓÝ³ñ³ñáõÃÛáõÝÝ»ñÇ Ï³ï³ñÙ³ÝÁ Ñ»ï Ï³åí³Í ÙÇçÝáñ¹áõÃÛáõÝÝ»ñÇ í»ñ³µ»ñÛ³É ¹³ï³Ï³Ý ·áñÍ»ñáí ÐÐ Գեղարքունիքի մարզի ³é³çÇÝ ³ïÛ³ÝÇ ÁÝ¹Ñ³Ýáõñ Çñ³í³ëáõÃÛ³Ý ¹³ï³ñ³ÝÇ ·áñÍáõÝ»áõÃÛ³Ý í»ñ³µ»ñÛ³É
A3: êïáõ·Çã Ñ³í³ë³ñáõÙ` 1+2=7+8+9, 7=3+4+5+6, | D3: Ñ³ßí»ïáõ Å³Ù³Ý³Ï³Ñ³ïí³ÍÇ ëÏ½µáõÙ Ý³Ëáñ¹ Ñ³ßí»ïáõ Å³Ù³Ý³Ï³Ñ³ïí³ÍÇó ÷áË³Ýóí³Í ·áñÍ»ñÇ ÁÝ¹Ñ³Ýáõñ ÃÇíÁ | E3: Ñ³ßí»ïáõ Å³Ù³Ý³Ï³Ñ³ïí³ÍáõÙ ëï³óí³Í ·áñÍ»ñÇ ÁÝ¹Ñ³Ýáõñ ÃÇíÁ | F3: Ñ³ßí»ïáõ Å³Ù³Ý³Ï³Ñ³ïí³ÍáõÙ ³í³ñïí³Í ·áñÍ»ñÇ ÁÝ¹Ñ³Ýáõñ ÃÇíÁ | K3: áõÕ³ñÏí»É ¿ Áëï ÁÝ¹¹³ïáõÃÛ³Ý | L3: Ñ³ßí»ïáõ Å³Ù³Ý³Ï³Ñ³ïí³ÍáõÙ ³Ý³í³ñï ·áñÍ»ñÇ ÁÝ¹Ñ³Ýáõñ ÃÇíÁ | M3: µáÕáù³ñÏí»É ¿ í»ñ³ùÝÝÇã ¹³ï³ñ³Ý
F4: Ù»ñÅí»É ¿ | G4: µ³í³ñ³ñí»É ¿ | H4: µ³í³ñ³ñí»É ¿ Ù³ëÝ³ÏÇ | I4: ÃáÕÝí»É ¿ ³é³Ýó ùÝÝáõÃÛ³Ý | J4: ÁÝ¹³Ù»ÝÁ
A5: 1. ØÇÝã¹³ï³Ï³Ý í³ñáõÛÃÇ ÝÏ³ïÙ³Ùµ ¹³ï³Ï³Ý í»ñ³ÑëÏáÕáõÃÛ³Ý áÉáñï | D5: 1 | E5: 2 | F5: 3 | G5: 4 | H5: 5 | I5: 6 | J5: 7 | K5: 8 | L5: 9 | M5: 10
A6: 1 | B6: Ï³É³ÝùÁ áñå»ë Ë³÷³ÝÙ³Ý ÙÇçáó ÏÇñ³é»Éáõ Ù³ëÇÝ ÙÇçÝáñ¹áõÃÛáõÝÝ»ñ | E6: 36 | F6: 8 | G6: 27 | H6: 1 | J6: 36 | M6: 16
A7: 2 | B7: Ï³É³ÝùÇ Å³ÙÏ»ïÁ »ñÏ³ñ³óÝ»Éáõ Ù³ëÇÝ ÙÇçÝáñ¹áõÃÛáõÝÝ»ñ | E7: 30 | F7: 4 | G7: 14 | H7: 10 | J7: 28 | L7: 2 | M7: 11
A8: 3 | B8: Ï³É³ÝùÇ í»ñ³Ñ³ëï³ïÙ³Ý Ù³ëÇÝ ÙÇçÝáñ¹áõÃÛáõÝÝ»ñ | E8: 2 | G8: 2 | J8: 2
A9: 4 | B9: ·ñ³íÁ áñå»ë Ï³É³Ý³íáñÙ³Ý ³ÛÉÁÝïñ³Ýù³ÛÇÝ Ë³÷³ÝÙ³Ý ÙÇçáó ÏÇñ³é»Éáõ Ù³ëÇÝ ÙÇçÝáñ¹áõÃÛáõÝÝ»ñ | E9: 2 | F9: 2 | J9: 2
A10: 5 | B10: Ëáõ½³ñÏáõÃÛ³Ý Ï³ï³ñÙ³Ý Ù³ëÇÝ ÙÇçÝáñ¹áõÃÛáõÝÝ»ñ | E10: 135 | F10: 15 | G10: 118 | H10: 2 | J10: 135
A11: 6 | B11: µ³ÝÏ³ÛÇÝ, ³å³Ñáí³·ñ³Ï³Ý, Ýáï³ñ³Ï³Ý ·³ÕïÝÇù Ï³½ÙáÕ ï»Õ»ÏáõÃÛáõÝÝ»ñÇ ëï³óÙ³Ý Ñ³Ù³ñ Ëáõ½³ñÏáõÃÛ³Ý Ï³Ù ³é·ñ³íÙ³Ý Ï³ï³ñÙ³Ý Ù³ëÇÝ ÙÇçÝáñ¹áõÃÛáõÝÝ»ñ | E11: 13 | F11: 1 | G11: 4 | H11: 8 | J11: 13
A12: 7 | B12: Ý³Ù³Ï³·ñáõÃÛ³Ý, Ñ»é³·ñ³Ï³Ý, ÷áuï³ÛÇÝ Ñ³Õáñ¹áõÙÝ»ñÇ ÑëÏáÕáõÃÛ³Ý Ù³ëÇÝ ÙÇçÝáñ¹áõÃÛáõÝÝ»ñ | E12: 12 | G12: 11 | H12: 1 | J12: 12
A13: 8 | B13: Ñ»é³Ëáu³ÛÇÝ Ï³Ù Ï³åÇ ³ÛÉ ÙÇçáóÝ»ñáí ï³ñíáÕ Ëáu³ÏóáõÃÛáõÝÝ»ñÇ ÉuÙ³Ý ¨ Ó³ÛÝ³·ñ³éÙ³Ý Ù³ëÇÝ ÙÇçÝáñ¹áõÃÛáõÝÝ»ñ
A14: 9 | B14: Ñ»é³ËáëÝ»ñÇ Ùáõïù³ÛÇÝ ¨ »Éù³ÛÇÝ í»ñÍ³ÝÙ³Ý ÃáõÛÉïíáõÃÛáõÝ ëï³Ý³Éáõ Ù³ëÇÝ ÙÇçÝáñ¹áõÃÛáõÝÝ»ñ | E14: 134 | F14: 3 | G14: 121 | H14: 9 | J14: 133 | L14: 1
A15: 10 | B15: Ñ»ï³ùÝÝáõÃÛ³Ý Ù³ñÙÝÇ ³ßË³ïáÕÇ, ùÝÝÇãÇ, ¹³ï³Ë³½Ç oå»ñ³ïÇí-Ñ»ï³Ëáõ½³Ï³Ý ·áñÍáÕáõÃÛáõÝÝ»ñ Çñ³Ï³Ý³óÝáÕ Ù³ñÙÇÝÝ»ñÇ ³ÝoñÇÝ³Ï³Ý ¨ ³ÝÑÇÙÝ áñáßáõÙÝ»ñÇ ¨ ·áñÍáÕáõÃÛáõÝÝ»ñÇ ¹»Ù µáÕáùÝ»ñ | D15: 5 | E15: 10 | F15: 7 | G15: 1 | J15: 8 | K15: 1 | L15: 6 | M15: 5
A16: 11 | B16: ²½³ïáõÃÛáõÝÇó ½ñÏ»Éáõ Çñ³í³ã³÷áõÃÛ³Ý í»ñ³µ»ñÛ³É µáÕáùÝ»ñáí ·áñÍ»ñ | E16: 1 | G16: 1 | J16: 1
A17: 2. ¸³ï³Ï³Ý ³Ïï»ñÇ ¨ ¹³ï³Ï³Ý Ñ³ÝÓÝ³ñ³ñáõÃÛáõÝÝ»ñÇ Ï³ï³ñÙ³Ý Ñ»ï Ï³åí³Í Ñ³ñó»ñÇ ÉáõÍÙ³Ý áÉáñï
A18: 1 | B18: å³ïÅÇó å³ÛÙ³Ý³Ï³Ý í³Õ³Å³ÙÏ»ï ³½³ï»Éáõ Ù³ëÇÝ ÙÇçÝáñ¹áõÃÛáõÝÝ»ñ
A19: 2 | B19: å³ïÇÅÁ ÷á÷áË»Éáõ, Ñ»ï³Ó·»Éáõ ¨ å³ïÅÇó ³½³ï»Éáõ Ù³uÇÝ ÙÇçÝáñ¹áõÃÛáõÝÝ»ñ | D19: 7 | E19: 30 | F19: 14 | G19: 11 | H19: 1 | J19: 26 | K19: 1 | L19: 9
A20: 3 | B20: Ñ³ñÏ³¹Çñ µáõÅÙ³Ý ï»ë³ÏÇ ÷á÷áËáõÃÛ³Ý Ù³ëÇÝ ÙÇçÝáñ¹áõÃÛáõÝÝ»ñ | E20: 5 | F20: 3 | G20: 2 | J20: 5
A21: 4 | B21: ³ÛÉ ÙÇçÝáñ¹áõÃÛáõÝÝ»ñ | E21: 13 | F21: 4 | G21: 7 | H21: 2 | J21: 13 | M21: 2
A22: 5 | B22: ¹³ï³Ï³Ý Ñ³ÝÓÝ³ñ³ñáõÃÛáõÝÝ»ñ | E22: 5 | G22: 3 | J22: 3 | L22: 2
A23: ÀÜ¸²ØºÜÀ | D23: =SUM(D6:D16,D18:D22) -> 12 | E23: =SUM(E6:E16,E18:E22) -> 428 | F23: =SUM(F6:F16,F18:F22) -> 61 | G23: =SUM(G6:G16,G18:G22) -> 322 | H23: =SUM(H6:H16,H18:H22) -> 34 | I23: =SUM(I6:I16,I18:I22) -> 0 | J23: =SUM(J6:J16,J18:J22) -> 417 | K23: =SUM(K6:K16,K18:K22) -> 2 | ... M23: =SUM(M6:M16,M18:M22) -> 34
B24: Ծանոթություն՝ թվով 1 միջնորդություն միացվել է:

Sheet Շիրակ
A1: 2022թ. 1-ին կիսամյակի | C1: Ð²ÞìºîìàôÂÚàôÜ
A2: ØÇÝã¹³ï³Ï³Ý í³ñáõÛÃÇ ÝÏ³ïÙ³Ùµ ¹³ï³Ï³Ý í»ñ³ÑëÏáÕáõÃÛ³ÝÁ, ¹³ï³Ï³Ý ³Ïï»ñÇ ¨ ¹³ï³Ï³Ý Ñ³ÝÓÝ³ñ³ñáõÃÛáõÝÝ»ñÇ Ï³ï³ñÙ³ÝÁ Ñ»ï Ï³åí³Í ÙÇçÝáñ¹áõÃÛáõÝÝ»ñÇ í»ñ³µ»ñÛ³É ¹³ï³Ï³Ý ·áñÍ»ñáí ÐÐ Շիրակի մարզի առաջին ատյանի ÁÝ¹Ñ³Ýáõñ Çñ³í³ëáõÃÛ³Ý ¹³ï³ñ³ÝÇ ·áñÍáõÝ»áõÃÛ³Ý í»ñ³µ»ñÛ³É
A3: êïáõ·Çã Ñ³í³ë³ñáõÙ` 1+2=7+8+9, 7=3+4+5+6, | D3: Ñ³ßí»ïáõ Å³Ù³Ý³Ï³Ñ³ïí³ÍÇ ëÏ½µáõÙ Ý³Ëáñ¹ Ñ³ßí»ïáõ Å³Ù³Ý³Ï³Ñ³ïí³ÍÇó ÷áË³Ýóí³Í ·áñÍ»ñÇ ÁÝ¹Ñ³Ýáõñ ÃÇíÁ | E3: Ñ³ßí»ïáõ Å³Ù³Ý³Ï³Ñ³ïí³ÍáõÙ ëï³óí³Í ·áñÍ»ñÇ ÁÝ¹Ñ³Ýáõñ ÃÇíÁ | F3: Ñ³ßí»ïáõ Å³Ù³Ý³Ï³Ñ³ïí³ÍáõÙ ³í³ñïí³Í ·áñÍ»ñÇ ÁÝ¹Ñ³Ýáõñ ÃÇíÁ | K3: áõÕ³ñÏí»É ¿ Áëï ÁÝ¹¹³ïáõÃÛ³Ý | L3: Ñ³ßí»ïáõ Å³Ù³Ý³Ï³Ñ³ïí³ÍáõÙ ³Ý³í³ñï ·áñÍ»ñÇ ÁÝ¹Ñ³Ýáõñ ÃÇíÁ | M3: µáÕáù³ñÏí»É ¿ í»ñ³ùÝÝÇã ¹³ï³ñ³Ý
F4: Ù»ñÅí»É ¿ | G4: µ³í³ñ³ñí»É ¿ | H4: µ³í³ñ³ñí»É ¿ Ù³ëÝ³ÏÇ | I4: ÃáÕÝí»É ¿ ³é³Ýó ùÝÝáõÃÛ³Ý | J4: ÁÝ¹³Ù»ÝÁ
A5: 1. ØÇÝã¹³ï³Ï³Ý í³ñáõÛÃÇ ÝÏ³ïÙ³Ùµ ¹³ï³Ï³Ý í»ñ³ÑëÏáÕáõÃÛ³Ý áÉáñï | D5: 1 | E5: 2 | F5: 3 | G5: 4 | H5: 5 | I5: 6 | J5: 7 | K5: 8 | L5: 9 | M5: 10
A6: 1 | B6: Ï³É³ÝùÁ áñå»ë Ë³÷³ÝÙ³Ý ÙÇçáó ÏÇñ³é»Éáõ Ù³ëÇÝ ÙÇçÝáñ¹áõÃÛáõÝÝ»ñ | E6: 88 | F6: 13 | G6: 73 | H6: 2 | J6: =+F6+G6+H6+I6 -> 88 | M6: 32
A7: 2 | B7: Ï³É³ÝùÇ Å³ÙÏ»ïÁ »ñÏ³ñ³óÝ»Éáõ Ù³ëÇÝ ÙÇçÝáñ¹áõÃÛáõÝÝ»ñ | E7: 50 | F7: 8 | G7: 37 | H7: 3 | J7: =+F7+G7+H7+I7 -> 48 | L7: 2 | M7: 15
A8: 3 | B8: Ï³É³ÝùÇ í»ñ³Ñ³ëï³ïÙ³Ý Ù³ëÇÝ ÙÇçÝáñ¹áõÃÛáõÝÝ»ñ | E8: 11 | F8: 1 | G8: 10 | J8: =+F8+G8+H8+I8 -> 11 | M8: 8
A9: 4 | B9: ·ñ³íÁ áñå»ë Ï³É³Ý³íáñÙ³Ý ³ÛÉÁÝïñ³Ýù³ÛÇÝ Ë³÷³ÝÙ³Ý ÙÇçáó ÏÇñ³é»Éáõ Ù³ëÇÝ ÙÇçÝáñ¹áõÃÛáõÝÝ»ñ | E9: 1 | F9: 1 | J9: =+F9+G9+H9+I9 -> 1 | M9: 1
A10: 5 | B10: Ëáõ½³ñÏáõÃÛ³Ý Ï³ï³ñÙ³Ý Ù³ëÇÝ ÙÇçÝáñ¹áõÃÛáõÝÝ»ñ | E10: 209 | F10: 27 | G10: 182 | J10: =+F10+G10+H10+I10 -> 209 | M10: 4
A11: 6 | B11: µ³ÝÏ³ÛÇÝ, ³å³Ñáí³·ñ³Ï³Ý, Ýáï³ñ³Ï³Ý ·³ÕïÝÇù Ï³½ÙáÕ ï»Õ»ÏáõÃÛáõÝÝ»ñÇ ëï³óÙ³Ý Ñ³Ù³ñ Ëáõ½³ñÏáõÃÛ³Ý Ï³Ù ³é·ñ³íÙ³Ý Ï³ï³ñÙ³Ý Ù³ëÇÝ ÙÇçÝáñ¹áõÃÛáõÝÝ»ñ | E11: 20 | G11: 20 | J11: =+F11+G11+H11+I11 -> 20
A12: 7 | B12: Ý³Ù³Ï³·ñáõÃÛ³Ý, Ñ»é³·ñ³Ï³Ý, ÷áuï³ÛÇÝ Ñ³Õáñ¹áõÙÝ»ñÇ ÑëÏáÕáõÃÛ³Ý Ù³ëÇÝ ÙÇçÝáñ¹áõÃÛáõÝÝ»ñ | J12: =+F12+G12+H12+I12 -> 0
A13: 8 | B13: Ñ»é³Ëáu³ÛÇÝ Ï³Ù Ï³åÇ ³ÛÉ ÙÇçáóÝ»ñáí ï³ñíáÕ Ëáu³ÏóáõÃÛáõÝÝ»ñÇ ÉuÙ³Ý ¨ Ó³ÛÝ³·ñ³éÙ³Ý Ù³ëÇÝ ÙÇçÝáñ¹áõÃÛáõÝÝ»ñ | E13: 2 | G13: 2 | J13: =+F13+G13+H13+I13 -> 2
A14: 9 | B14: Ñ»é³ËáëÝ»ñÇ Ùáõïù³ÛÇÝ ¨ »Éù³ÛÇÝ í»ñÍ³ÝÙ³Ý ÃáõÛÉïíáõÃÛáõÝ ëï³Ý³Éáõ Ù³ëÇÝ ÙÇçÝáñ¹áõÃÛáõÝÝ»ñ | E14: 218 | F14: 2 | G14: 213 | H14: 3 | J14: =+F14+G14+H14+I14 -> 218 | M14: 2
A15: 10 | B15: Ñ»ï³ùÝÝáõÃÛ³Ý Ù³ñÙÝÇ ³ßË³ïáÕÇ, ùÝÝÇãÇ, ¹³ï³Ë³½Ç oå»ñ³ïÇí-Ñ»ï³Ëáõ½³Ï³Ý ·áñÍáÕáõÃÛáõÝÝ»ñ Çñ³Ï³Ý³óÝáÕ Ù³ñÙÇÝÝ»ñÇ ³ÝoñÇÝ³Ï³Ý ¨ ³ÝÑÇÙÝ áñáßáõÙÝ»ñÇ ¨ ·áñÍáÕáõÃÛáõÝÝ»ñÇ ¹»Ù µáÕáùÝ»ñ | D15: 33 | E15: 29 | F15: 16 | G15: 4 | J15: =+F15+G15+H15+I15 -> 20 | K15: 1 | L15: 39 | M15: 10
A16: 11 | B16: ²½³ïáõÃÛáõÝÇó ½ñÏ»Éáõ Çñ³í³ã³÷áõÃÛ³Ý í»ñ³µ»ñÛ³É µáÕáùÝ»ñáí ·áñÍ»ñ | E16: 10 | F16: 3 | G16: 3 | J16: =+F16+G16+H16+I16 -> 6 | M16: 2
A17: 2. ¸³ï³Ï³Ý ³Ïï»ñÇ ¨ ¹³ï³Ï³Ý Ñ³ÝÓÝ³ñ³ñáõÃÛáõÝÝ»ñÇ Ï³ï³ñÙ³Ý Ñ»ï Ï³åí³Í Ñ³ñó»ñÇ ÉáõÍÙ³Ý áÉáñï
A18: 1 | B18: å³ïÅÇó å³ÛÙ³Ý³Ï³Ý í³Õ³Å³ÙÏ»ï ³½³ï»Éáõ Ù³ëÇÝ ÙÇçÝáñ¹áõÃÛáõÝÝ»ñ | D18: 6 | E18: 7 | F18: 6 | G18: 3 | J18: =+F18+G18+H18+I18 -> 9 | L18: 4 | M18: 5
A19: 2 | B19: å³ïÇÅÁ ÷á÷áË»Éáõ, Ñ»ï³Ó·»Éáõ ¨ å³ïÅÇó ³½³ï»Éáõ Ù³uÇÝ ÙÇçÝáñ¹áõÃÛáõÝÝ»ñ | D19: 21 | E19: 27 | F19: 9 | G19: 16 | J19: =+F19+G19+H19+I19 -> 25 | L19: 23 | M19: 1
A20: 3 | B20: Ñ³ñÏ³¹Çñ µáõÅÙ³Ý ï»ë³ÏÇ ÷á÷áËáõÃÛ³Ý Ù³ëÇÝ ÙÇçÝáñ¹áõÃÛáõÝÝ»ñ | D20: 3 | E20: 6 | F20: 5 | G20: 4 | J20: =+F20+G20+H20+I20 -> 9 | M20: 3
A21: 4 | B21: ³ÛÉ ÙÇçÝáñ¹áõÃÛáõÝÝ»ñ | D21: 6 | E21: 31 | F21: 16 | G21: 13 | H21: 3 | J21: =+F21+G21+H21+I21 -> 32 | L21: 5 | M21: 6
A22: 5 | B22: ¹³ï³Ï³Ý Ñ³ÝÓÝ³ñ³ñáõÃÛáõÝÝ»ñ | D22: 26 | E22: 7 | F22: 2 | G22: 11 | J22: =+F22+G22+H22+I22 -> 13 | L22: 17
A23: ÀÜ¸²ØºÜÀ | D23: =SUM(D6:D22) -> 95 | E23: =SUM(E6:E16,E18:E22) -> 716 | F23: =SUM(F6:F22) -> 109 | G23: =SUM(G6:G22) -> 591 | H23: =SUM(H6:H22) -> 11 | I23: =SUM(I6:I22) -> 0 | J23: =SUM(J6:J22) -> 711 | K23: =SUM(K6:K22) -> 1 | L23: =SUM(L6:L22) -> 90 | M23: =SUM(M6:M22) -> 89
B24: Ծանոթություն՝ թվով 6 միջնորդություն միացվել է, 2-ով որոշում չի կայացվել, 1-ը կարճվել է:
