Workbook

Sheet Տավուշի   մարզի ԱԱԸԻ դ.
B1: 2025թվական | AD1: Հավելված 2 Բարձրագույն դատական խորհրդի 2022թվականի դեկտեմբերի 26-ի թիվ ԲԴԽ-122-Ո-408 որոշման
A2: ԹՎԱԿԱՆԻ ՏԱՐԵԿԱՆ ՀԱՇՎԵՏՎՈՒԹՅՈՒՆ ՀՀ ԱՌԱՋԻՆ ԱՏՅԱՆԻ ԸՆԴՀԱՆՈՒՐ ԻՐԱՎԱՍՈՒԹՅԱՆ ԴԱՏԱՐԱՆԻ ԴԱՏԱՎՈՐ --- ԳՈՐԾՈՒՆԵՈՒԹՅԱՆ ՎԵՐԱԲԵՐՅԱԼ
A3: Ստուգիչ հավասարումներ` 1+3=4+12+17+19, 12= 9+10+11, 25=21+22+23+24, 30=26+27+28+29 | C3: ՀՀ քրեական օրենսգրքի հոդվածներ | D3: Հաշվետու ժամանակահատվածի սկզբում նախորդ հաշվետու ժամանակահատվածից փոխանցված գործերի ընդհանուր թիվը | E3: Այդ թվում` կասեցված վիճակում փոխանցված | F3: Հաշվետու ժամանակահատվածում ստացված գործերի ընդհանուր թիվը | G3: փոխանցվել թ այլ դատավորի (վերաբաշխում) | H3: Որոշում է կայացվել քրեական գործը վերադարձնել հսկող դատախազին | I3: քանի գործով է կիրառվել համաձայնեցման վարույթ | J3: քանի գործով է կիրառվել համագործակցության վարույթ | K3: Հաշվետու ժամանակաշրջանում կայացվել է վերդիկտ | L3: Հաշվետու ժամանակաշրջանում կայացվել է դատավճիռ | M3: քրեական վարույթը կարճելու մաuին որոշում | N3: Հաշվետու ժամանակաշրջանում կայացվել է բժշկական հարկադրանքի դատավճիռ /ՀՀ ՔՐ. ԴԱՏ. ՕՐ. 432-ՐԴ ՀՈԴՎԱԾ/ | O3: ընդամենը | P3: Հաշվետու ժամանակահատվածում ավարտված գործերի ընդհանուր թիվը /ՀՀ ՔՐ. ԴԱՏ. ՕՐ. 14-ՐԴ ՀՈԴՎԱԾ/ | T3: Ուղարկվել է ըստ ընդդատության | U3: Հաշվետու ժամանակահատվածում կասեցված վարույթներով գործերի ընդհանուր թիվը | V3: Հաշվետու ժամանակահատվածում անավարտ գործերի ընդհանուր թիվը | W3: Այդ թվում՝ կասեցված | X3: Բողոքարկված վարութային ակտերի թիվը` ըստ տեսակների | AB3: ընդամենը բողոքարկվել են ակտեր | AC3: Բեկանված և փոփոխված ակտերի թիվը` ըստ տեսակների | AG3: ընդամենը բեկանվել են ակտեր
P4: քրեական վարույթը կարճելու մաuին որոշումն ուժի մեջ մտնելով. | Q4: Եզրափակիչ դատական ակտն ուժի մեջ է մտել | R4: Եզրափակիչ դատական ակտը հանձնվել է կատարման | S4: ավարտվել են քրեական գործեր | X4: Այդ թվում` եզրափակիչ դատական ակտերը | Z4: Այդ թվում` եզրափակիչ դատավարական ակտերը | AC4: Այդ թվում` եզրափակիչ դատական ակտերը | AE4: Այդ թվում` եզրափակիչ դատավարական ակտերը
X5: նախորդ տարիների կայացված ակտերի բողոքարկումը | Y5: հաշվետու ժամանակահատվածում կայացված ակտերի բողոքարկումը | Z5: նախորդ տարիների կայացված ակտերի բողոքարկումը | AA5: հաշվետու ժամանակահատվածում կայացված ակտերի բողոքարկումը | AC5: նախորդ տարիների կայացված ակտերի բողոքարկումը | AD5: հաշվետու ժամանակահատվածում կայացված ակտերի բողոքարկումը | AE5: նախորդ տարիների կայացված ակտերի բողոքարկումը | AF5: հաշվետու ժամանակահատվածում կայացված ակտերի բողոքարկումը | AH5: 1+3 | AI5: 4+12+17+19 | AJ5: 12 | AK5: 9+10+11 | AL5: 25 | AM5: 21+22+23+24 | AN5: 30 | AO5: 26+27+28+29
D6: 1 | E6: 2 | F6: 3 | G6: 4 | H6: 5 | I6: 6 | J6: 7 | K6: 8 | L6: 9 | M6: 10 | N6: 11 | O6: 12 | P6: 13 | Q6: 14 | R6: 15 | S6: 16 | T6: 17 | U6: 18 | V6: 19 | W6: 20 | X6: 21 | Y6: 22 | Z6: 23 | AA6: 24 | AB6: 25 | AC6: 26 | AD6: 27 | AE6: 28 | AF6: 29 | AG6: 30
A7: 1. | B7: Ընդամենը խաղաղության և մարդկության անվտանգության դեմ ուղղված հանցագործությունները | D7: =SUM('Ս. Մարդանյան'!D7+Ն.Բադալյան!D7+Ս.Մխիթարյան!D7+Մ.Կիրակոսյան!D7+#REF!+#REF!) -> #REF! | E7: =SUM('Ս. Մարդանյան'!E7+Ն.Բադալյան!E7+Ս.Մխիթարյան!E7+Մ.Կիրակոսյան!E7+#REF!+#REF!) -> #REF! | F7: =SUM('Ս. Մարդանյան'!F7+Ն.Բադալյան!F7+Ս.Մխիթարյան!F7+Մ.Կիրակոսյան!F7+#REF!+#REF!) -> #REF! | G7: =SUM('Ս. Մարդանյան'!G7+Ն.Բադալյան!G7+Ս.Մխիթարյան!G7+Մ.Կիրակոսյան!G7+#REF!+#REF!) -> #REF! | H7: =SUM('Ս. Մարդանյան'!H7+Ն.Բադալյան!H7+Ս.Մխիթարյան!H7+Մ.Կիրակոսյան!H7+#REF!+#REF!) -> #REF! | I7: =SUM('Ս. Մարդանյան'!I7+Ն.Բադալյան!I7+Ս.Մխիթարյան!I7+Մ.Կիրակոսյան!I7+#REF!+#REF!) -> #REF! | J7: =SUM('Ս. Մարդանյան'!J7+Ն.Բադալյան!J7+Ս.Մխիթարյան!J7+Մ.Կիրակոսյան!J7+#REF!+#REF!) -> #REF! | K7: =SUM('Ս. Մարդանյան'!K7+Ն.Բադալյան!K7+Ս.Մխիթարյան!K7+Մ.Կիրակոսյան!K7+#REF!+#REF!) -> #REF! | ... AG7: =SUM('Ս. Մարդանյան'!AG7+Ն.Բադալյան!AG7+Ս.Մխիթարյան!AG7+Մ.Կիրակոսյան!AG7+#REF!+#REF!) -> #REF! | AH7: =SUM('Ս. Մարդանյան'!#REF!+Ն.Բադալյան!#REF!+Ս.Մխիթարյան!#REF!+Մ.Կիրակոսյան!#REF!+#REF!+#REF!) -> #REF! | AI7: =SUM('Ս. Մարդանյան'!#REF!+Ն.Բադալյան!#REF!+Ս.Մխիթարյան!#REF!+Մ.Կիրակոսյան!#REF!+#REF!+#REF!) -> #REF! | AJ7: =SUM('Ս. Մարդանյան'!#REF!+Ն.Բադալյան!#REF!+Ս.Մխիթարյան!#REF!+Մ.Կիրակոսյան!#REF!+#REF!+#REF!) -> #REF! | AK7: =SUM('Ս. Մարդանյան'!#REF!+Ն.Բադալյան!#REF!+Ս.Մխիթարյան!#REF!+Մ.Կիրակոսյան!#REF!+#REF!+#REF!) -> #REF! | AL7: =SUM('Ս. Մարդանյան'!#REF!+Ն.Բադալյան!#REF!+Ս.Մխիթարյան!#REF!+Մ.Կիրակոսյան!#REF!+#REF!+#REF!) -> #REF! | AM7: =SUM('Ս. Մարդանյան'!#REF!+Ն.Բադալյան!#REF!+Ս.Մխիթարյան!#REF!+Մ.Կիրակոսյան!#REF!+#REF!+#REF!) -> #REF! | AN7: =SUM('Ս. Մարդանյան'!#REF!+Ն.Բադալյան!#REF!+Ս.Մխիթարյան!#REF!+Մ.Կիրակոսյան!#REF!+#REF!+#REF!) -> #REF! | AO7: =SUM('Ս. Մարդանյան'!#REF!+Ն.Բադալյան!#REF!+Ս.Մխիթարյան!#REF!+Մ.Կիրակոսյան!#REF!+#REF!+#REF!) -> #REF!
A8: 1.1 | B8: Ցեղասպանությունը | C8: 133 | D8: =SUM('Ս. Մարդանյան'!D8+Ն.Բադալյան!D8+Ս.Մխիթարյան!D8+Մ.Կիրակոսյան!D8+#REF!+#REF!) -> #REF! | E8: =SUM('Ս. Մարդանյան'!E8+Ն.Բադալյան!E8+Ս.Մխիթարյան!E8+Մ.Կիրակոսյան!E8+#REF!+#REF!) -> #REF! | F8: =SUM('Ս. Մարդանյան'!F8+Ն.Բադալյան!F8+Ս.Մխիթարյան!F8+Մ.Կիրակոսյան!F8+#REF!+#REF!) -> #REF! | G8: =SUM('Ս. Մարդանյան'!G8+Ն.Բադալյան!G8+Ս.Մխիթարյան!G8+Մ.Կիրակոսյան!G8+#REF!+#REF!) -> #REF! | H8: =SUM('Ս. Մարդանյան'!H8+Ն.Բադալյան!H8+Ս.Մխիթարյան!H8+Մ.Կիրակոսյան!H8+#REF!+#REF!) -> #REF! | I8: =SUM('Ս. Մարդանյան'!I8+Ն.Բադալյան!I8+Ս.Մխիթարյան!I8+Մ.Կիրակոսյան!I8+#REF!+#REF!) -> #REF! | J8: =SUM('Ս. Մարդանյան'!J8+Ն.Բադալյան!J8+Ս.Մխիթարյան!J8+Մ.Կիրակոսյան!J8+#REF!+#REF!) -> #REF! | K8: =SUM('Ս. Մարդանյան'!K8+Ն.Բադալյան!K8+Ս.Մխիթարյան!K8+Մ.Կիրակոսյան!K8+#REF!+#REF!) -> #REF! | ... AG8: =SUM('Ս. Մարդանյան'!AG8+Ն.Բադալյան!AG8+Ս.Մխիթարյան!AG8+Մ.Կիրակոսյան!AG8+#REF!+#REF!) -> #REF! | AH8: =SUM('Ս. Մարդանյան'!#REF!+Ն.Բադալյան!#REF!+Ս.Մխիթարյան!#REF!+Մ.Կիրակոսյան!#REF!+#REF!+#REF!) -> #REF! | AI8: =SUM('Ս. Մարդանյան'!#REF!+Ն.Բադալյան!#REF!+Ս.Մխիթարյան!#REF!+Մ.Կիրակոսյան!#REF!+#REF!+#REF!) -> #REF! | AJ8: =SUM('Ս. Մարդանյան'!#REF!+Ն.Բադալյան!#REF!+Ս.Մխիթարյան!#REF!+Մ.Կիրակոսյան!#REF!+#REF!+#REF!) -> #REF! | AK8: =SUM('Ս. Մարդանյան'!#REF!+Ն.Բադալյան!#REF!+Ս.Մխիթարյան!#REF!+Մ.Կիրակոսյան!#REF!+#REF!+#REF!) -> #REF! | AL8: =SUM('Ս. Մարդանյան'!#REF!+Ն.Բադալյան!#REF!+Ս.Մխիթարյան!#REF!+Մ.Կիրակոսյան!#REF!+#REF!+#REF!) -> #REF! | AM8: =SUM('Ս. Մարդանյան'!#REF!+Ն.Բադալյան!#REF!+Ս.Մխիթարյան!#REF!+Մ.Կիրակոսյան!#REF!+#REF!+#REF!) -> #REF! | AN8: =SUM('Ս. Մարդանյան'!#REF!+Ն.Բադալյան!#REF!+Ս.Մխիթարյան!#REF!+Մ.Կիրակոսյան!#REF!+#REF!+#REF!) -> #REF! | AO8: =SUM('Ս. Մարդանյան'!#REF!+Ն.Բադալյան!#REF!+Ս.Մխիթարյան!#REF!+Մ.Կիրակոսյան!#REF!+#REF!+#REF!) -> #REF!
A9: 1.2 | B9: Ցեղասպանության ուղղակի և հրապարակային հրահրումը | C9: 134 | D9: =SUM('Ս. Մարդանյան'!D9+Ն.Բադալյան!D9+Ս.Մխիթարյան!D9+Մ.Կիրակոսյան!D9+#REF!+#REF!) -> #REF! | E9: =SUM('Ս. Մարդանյան'!E9+Ն.Բադալյան!E9+Ս.Մխիթարյան!E9+Մ.Կիրակոսյան!E9+#REF!+#REF!) -> #REF! | F9: =SUM('Ս. Մարդանյան'!F9+Ն.Բադալյան!F9+Ս.Մխիթարյան!F9+Մ.Կիրակոսյան!F9+#REF!+#REF!) -> #REF! | G9: =SUM('Ս. Մարդանյան'!G9+Ն.Բադալյան!G9+Ս.Մխիթարյան!G9+Մ.Կիրակոսյան!G9+#REF!+#REF!) -> #REF! | H9: =SUM('Ս. Մարդանյան'!H9+Ն.Բադալյան!H9+Ս.Մխիթարյան!H9+Մ.Կիրակոսյան!H9+#REF!+#REF!) -> #REF! | I9: =SUM('Ս. Մարդանյան'!I9+Ն.Բադալյան!I9+Ս.Մխիթարյան!I9+Մ.Կիրակոսյան!I9+#REF!+#REF!) -> #REF! | J9: =SUM('Ս. Մարդանյան'!J9+Ն.Բադալյան!J9+Ս.Մխիթարյան!J9+Մ.Կիրակոսյան!J9+#REF!+#REF!) -> #REF! | K9: =SUM('Ս. Մարդանյան'!K9+Ն.Բադալյան!K9+Ս.Մխիթարյան!K9+Մ.Կիրակոսյան!K9+#REF!+#REF!) -> #REF! | ... AG9: =SUM('Ս. Մարդանյան'!AG9+Ն.Բադալյան!AG9+Ս.Մխիթարյան!AG9+Մ.Կիրակոսյան!AG9+#REF!+#REF!) -> #REF! | AH9: =SUM('Ս. Մարդանյան'!#REF!+Ն.Բադալյան!#REF!+Ս.Մխիթարյան!#REF!+Մ.Կիրակոսյան!#REF!+#REF!+#REF!) -> #REF! | AI9: =SUM('Ս. Մարդանյան'!#REF!+Ն.Բադալյան!#REF!+Ս.Մխիթարյան!#REF!+Մ.Կիրակոսյան!#REF!+#REF!+#REF!) -> #REF! | AJ9: =SUM('Ս. Մարդանյան'!#REF!+Ն.Բադալյան!#REF!+Ս.Մխիթարյան!#REF!+Մ.Կիրակոսյան!#REF!+#REF!+#REF!) -> #REF! | AK9: =SUM('Ս. Մարդանյան'!#REF!+Ն.Բադալյան!#REF!+Ս.Մխիթարյան!#REF!+Մ.Կիրակոսյան!#REF!+#REF!+#REF!) -> #REF! | AL9: =SUM('Ս. Մարդանյան'!#REF!+Ն.Բադալյան!#REF!+Ս.Մխիթարյան!#REF!+Մ.Կիրակոսյան!#REF!+#REF!+#REF!) -> #REF! | AM9: =SUM('Ս. Մարդանյան'!#REF!+Ն.Բադալյան!#REF!+Ս.Մխիթարյան!#REF!+Մ.Կիրակոսյան!#REF!+#REF!+#REF!) -> #REF! | AN9: =SUM('Ս. Մարդանյան'!#REF!+Ն.Բադալյան!#REF!+Ս.Մխիթարյան!#REF!+Մ.Կիրակոսյան!#REF!+#REF!+#REF!) -> #REF! | AO9: =SUM('Ս. Մարդանյան'!#REF!+Ն.Բադալյան!#REF!+Ս.Մխիթարյան!#REF!+Մ.Կիրակոսյան!#REF!+#REF!+#REF!) -> #REF!
A10: 1.3 | B10: Մարդկայնության դեմ ուղղված հանցագործությունները | C10: 135 | D10: =SUM('Ս. Մարդանյան'!D10+Ն.Բադալյան!D10+Ս.Մխիթարյան!D10+Մ.Կիրակոսյան!D10+#REF!+#REF!) -> #REF! | E10: =SUM('Ս. Մարդանյան'!E10+Ն.Բադալյան!E10+Ս.Մխիթարյան!E10+Մ.Կիրակոսյան!E10+#REF!+#REF!) -> #REF! | F10: =SUM('Ս. Մարդանյան'!F10+Ն.Բադալյան!F10+Ս.Մխիթարյան!F10+Մ.Կիրակոսյան!F10+#REF!+#REF!) -> #REF! | G10: =SUM('Ս. Մարդանյան'!G10+Ն.Բադալյան!G10+Ս.Մխիթարյան!G10+Մ.Կիրակոսյան!G10+#REF!+#REF!) -> #REF! | H10: =SUM('Ս. Մարդանյան'!H10+Ն.Բադալյան!H10+Ս.Մխիթարյան!H10+Մ.Կիրակոսյան!H10+#REF!+#REF!) -> #REF! | I10: =SUM('Ս. Մարդանյան'!I10+Ն.Բադալյան!I10+Ս.Մխիթարյան!I10+Մ.Կիրակոսյան!I10+#REF!+#REF!) -> #REF! | J10: =SUM('Ս. Մարդանյան'!J10+Ն.Բադալյան!J10+Ս.Մխիթարյան!J10+Մ.Կիրակոսյան!J10+#REF!+#REF!) -> #REF! | K10: =SUM('Ս. Մարդանյան'!K10+Ն.Բադալյան!K10+Ս.Մխիթարյան!K10+Մ.Կիրակոսյան!K10+#REF!+#REF!) -> #REF! | ... AG10: =SUM('Ս. Մարդանյան'!AG10+Ն.Բադալյան!AG10+Ս.Մխիթարյան!AG10+Մ.Կիրակոսյան!AG10+#REF!+#REF!) -> #REF! | AH10: =SUM('Ս. Մարդանյան'!#REF!+Ն.Բադալյան!#REF!+Ս.Մխիթարյան!#REF!+Մ.Կիրակոսյան!#REF!+#REF!+#REF!) -> #REF! | AI10: =SUM('Ս. Մարդանյան'!#REF!+Ն.Բադալյան!#REF!+Ս.Մխիթարյան!#REF!+Մ.Կիրակոսյան!#REF!+#REF!+#REF!) -> #REF! | AJ10: =SUM('Ս. Մարդանյան'!#REF!+Ն.Բադալյան!#REF!+Ս.Մխիթարյան!#REF!+Մ.Կիրակոսյան!#REF!+#REF!+#REF!) -> #REF! | AK10: =SUM('Ս. Մարդանյան'!#REF!+Ն.Բադալյան!#REF!+Ս.Մխիթարյան!#REF!+Մ.Կիրակոսյան!#REF!+#REF!+#REF!) -> #REF! | AL10: =SUM('Ս. Մարդանյան'!#REF!+Ն.Բադալյան!#REF!+Ս.Մխիթարյան!#REF!+Մ.Կիրակոսյան!#REF!+#REF!+#REF!) -> #REF! | AM10: =SUM('Ս. Մարդանյան'!#REF!+Ն.Բադալյան!#REF!+Ս.Մխիթարյան!#REF!+Մ.Կիրակոսյան!#REF!+#REF!+#REF!) -> #REF! | AN10: =SUM('Ս. Մարդանյան'!#REF!+Ն.Բադալյան!#REF!+Ս.Մխիթարյան!#REF!+Մ.Կիրակոսյան!#REF!+#REF!+#REF!) -> #REF! | AO10: =SUM('Ս. Մարդանյան'!#REF!+Ն.Բադալյան!#REF!+Ս.Մխիթարյան!#REF!+Մ.Կիրակոսյան!#REF!+#REF!+#REF!) -> #REF!
A11: 1.4 | B11: Ցեղասպանությունը կամ մարդկայնության դեմ ուղղված հանցագործությունները հրապարակայնորեն հերքելը, արդարացնելը, դրանք քարոզելը կամ դրանց վտանգավորությունը նսեմացնելը | C11: 136 | D11: =SUM('Ս. Մարդանյան'!D11+Ն.Բադալյան!D11+Ս.Մխիթարյան!D11+Մ.Կիրակոսյան!D11+#REF!+#REF!) -> #REF! | E11: =SUM('Ս. Մարդանյան'!E11+Ն.Բադալյան!E11+Ս.Մխիթարյան!E11+Մ.Կիրակոսյան!E11+#REF!+#REF!) -> #REF! | F11: =SUM('Ս. Մարդանյան'!F11+Ն.Բադալյան!F11+Ս.Մխիթարյան!F11+Մ.Կիրակոսյան!F11+#REF!+#REF!) -> #REF! | G11: =SUM('Ս. Մարդանյան'!G11+Ն.Բադալյան!G11+Ս.Մխիթարյան!G11+Մ.Կիրակոսյան!G11+#REF!+#REF!) -> #REF! | H11: =SUM('Ս. Մարդանյան'!H11+Ն.Բադալյան!H11+Ս.Մխիթարյան!H11+Մ.Կիրակոսյան!H11+#REF!+#REF!) -> #REF! | I11: =SUM('Ս. Մարդանյան'!I11+Ն.Բադալյան!I11+Ս.Մխիթարյան!I11+Մ.Կիրակոսյան!I11+#REF!+#REF!) -> #REF! | J11: =SUM('Ս. Մարդանյան'!J11+Ն.Բադալյան!J11+Ս.Մխիթարյան!J11+Մ.Կիրակոսյան!J11+#REF!+#REF!) -> #REF! | K11: =SUM('Ս. Մարդանյան'!K11+Ն.Բադալյան!K11+Ս.Մխիթարյան!K11+Մ.Կիրակոսյան!K11+#REF!+#REF!) -> #REF! | ... AG11: =SUM('Ս. Մարդանյան'!AG11+Ն.Բադալյան!AG11+Ս.Մխիթարյան!AG11+Մ.Կիրակոսյան!AG11+#REF!+#REF!) -> #REF! | AH11: =SUM('Ս. Մարդանյան'!#REF!+Ն.Բադալյան!#REF!+Ս.Մխիթարյան!#REF!+Մ.Կիրակոսյան!#REF!+#REF!+#REF!) -> #REF! | AI11: =SUM('Ս. Մարդանյան'!#REF!+Ն.Բադալյան!#REF!+Ս.Մխիթարյան!#REF!+Մ.Կիրակոսյան!#REF!+#REF!+#REF!) -> #REF! | AJ11: =SUM('Ս. Մարդանյան'!#REF!+Ն.Բադալյան!#REF!+Ս.Մխիթարյան!#REF!+Մ.Կիրակոսյան!#REF!+#REF!+#REF!) -> #REF! | AK11: =SUM('Ս. Մարդանյան'!#REF!+Ն.Բադալյան!#REF!+Ս.Մխիթարյան!#REF!+Մ.Կիրակոսյան!#REF!+#REF!+#REF!) -> #REF! | AL11: =SUM('Ս. Մարդանյան'!#REF!+Ն.Բադալյան!#REF!+Ս.Մխիթարյան!#REF!+Մ.Կիրակոսյան!#REF!+#REF!+#REF!) -> #REF! | AM11: =SUM('Ս. Մարդանյան'!#REF!+Ն.Բադալյան!#REF!+Ս.Մխիթարյան!#REF!+Մ.Կիրակոսյան!#REF!+#REF!+#REF!) -> #REF! | AN11: =SUM('Ս. Մարդանյան'!#REF!+Ն.Բադալյան!#REF!+Ս.Մխիթարյան!#REF!+Մ.Կիրակոսյան!#REF!+#REF!+#REF!) -> #REF! | AO11: =SUM('Ս. Մարդանյան'!#REF!+Ն.Բադալյան!#REF!+Ս.Մխիթարյան!#REF!+Մ.Կիրակոսյան!#REF!+#REF!+#REF!) -> #REF!
A12: 1.5 | B12: Հովանավորվող անձի դեմ ուղղված պատերազմական հանցագործությունները | C12: 137 | D12: =SUM('Ս. Մարդանյան'!D12+Ն.Բադալյան!D12+Ս.Մխիթարյան!D12+Մ.Կիրակոսյան!D12+#REF!+#REF!) -> #REF! | E12: =SUM('Ս. Մարդանյան'!E12+Ն.Բադալյան!E12+Ս.Մխիթարյան!E12+Մ.Կիրակոսյան!E12+#REF!+#REF!) -> #REF! | F12: =SUM('Ս. Մարդանյան'!F12+Ն.Բադալյան!F12+Ս.Մխիթարյան!F12+Մ.Կիրակոսյան!F12+#REF!+#REF!) -> #REF! | G12: =SUM('Ս. Մարդանյան'!G12+Ն.Բադալյան!G12+Ս.Մխիթարյան!G12+Մ.Կիրակոսյան!G12+#REF!+#REF!) -> #REF! | H12: =SUM('Ս. Մարդանյան'!H12+Ն.Բադալյան!H12+Ս.Մխիթարյան!H12+Մ.Կիրակոսյան!H12+#REF!+#REF!) -> #REF! | I12: =SUM('Ս. Մարդանյան'!I12+Ն.Բադալյան!I12+Ս.Մխիթարյան!I12+Մ.Կիրակոսյան!I12+#REF!+#REF!) -> #REF! | J12: =SUM('Ս. Մարդանյան'!J12+Ն.Բադալյան!J12+Ս.Մխիթարյան!J12+Մ.Կիրակոսյան!J12+#REF!+#REF!) -> #REF! | K12: =SUM('Ս. Մարդանյան'!K12+Ն.Բադալյան!K12+Ս.Մխիթարյան!K12+Մ.Կիրակոսյան!K12+#REF!+#REF!) -> #REF! | ... AG12: =SUM('Ս. Մարդանյան'!AG12+Ն.Բադալյան!AG12+Ս.Մխիթարյան!AG12+Մ.Կիրակոսյան!AG12+#REF!+#REF!) -> #REF! | AH12: =SUM('Ս. Մարդանյան'!#REF!+Ն.Բադալյան!#REF!+Ս.Մխիթարյան!#REF!+Մ.Կիրակոսյան!#REF!+#REF!+#REF!) -> #REF! | AI12: =SUM('Ս. Մարդանյան'!#REF!+Ն.Բադալյան!#REF!+Ս.Մխիթարյան!#REF!+Մ.Կիրակոսյան!#REF!+#REF!+#REF!) -> #REF! | AJ12: =SUM('Ս. Մարդանյան'!#REF!+Ն.Բադալյան!#REF!+Ս.Մխիթարյան!#REF!+Մ.Կիրակոսյան!#REF!+#REF!+#REF!) -> #REF! | AK12: =SUM('Ս. Մարդանյան'!#REF!+Ն.Բադալյան!#REF!+Ս.Մխիթարյան!#REF!+Մ.Կիրակոսյան!#REF!+#REF!+#REF!) -> #REF! | AL12: =SUM('Ս. Մարդանյան'!#REF!+Ն.Բադալյան!#REF!+Ս.Մխիթարյան!#REF!+Մ.Կիրակոսյան!#REF!+#REF!+#REF!) -> #REF! | AM12: =SUM('Ս. Մարդանյան'!#REF!+Ն.Բադալյան!#REF!+Ս.Մխիթարյան!#REF!+Մ.Կիրակոսյան!#REF!+#REF!+#REF!) -> #REF! | AN12: =SUM('Ս. Մարդանյան'!#REF!+Ն.Բադալյան!#REF!+Ս.Մխիթարյան!#REF!+Մ.Կիրակոսյան!#REF!+#REF!+#REF!) -> #REF! | AO12: =SUM('Ս. Մարդանյան'!#REF!+Ն.Բադալյան!#REF!+Ս.Մխիթարյան!#REF!+Մ.Կիրակոսյան!#REF!+#REF!+#REF!) -> #REF!
A13: 1.6 | B13: Սեփականության կամ այլ իրավունքների դեմ ուղղված պատերազմական հանցագործությունները | C13: 138 | D13: =SUM('Ս. Մարդանյան'!D13+Ն.Բադալյան!D13+Ս.Մխիթարյան!D13+Մ.Կիրակոսյան!D13+#REF!+#REF!) -> #REF! | E13: =SUM('Ս. Մարդանյան'!E13+Ն.Բադալյան!E13+Ս.Մխիթարյան!E13+Մ.Կիրակոսյան!E13+#REF!+#REF!) -> #REF! | F13: =SUM('Ս. Մարդանյան'!F13+Ն.Բադալյան!F13+Ս.Մխիթարյան!F13+Մ.Կիրակոսյան!F13+#REF!+#REF!) -> #REF! | G13: =SUM('Ս. Մարդանյան'!G13+Ն.Բադալյան!G13+Ս.Մխիթարյան!G13+Մ.Կիրակոսյան!G13+#REF!+#REF!) -> #REF! | H13: =SUM('Ս. Մարդանյան'!H13+Ն.Բադալյան!H13+Ս.Մխիթարյան!H13+Մ.Կիրակոսյան!H13+#REF!+#REF!) -> #REF! | I13: =SUM('Ս. Մարդանյան'!I13+Ն.Բադալյան!I13+Ս.Մխիթարյան!I13+Մ.Կիրակոսյան!I13+#REF!+#REF!) -> #REF! | J13: =SUM('Ս. Մարդանյան'!J13+Ն.Բադալյան!J13+Ս.Մխիթարյան!J13+Մ.Կիրակոսյան!J13+#REF!+#REF!) -> #REF! | K13: =SUM('Ս. Մարդանյան'!K13+Ն.Բադալյան!K13+Ս.Մխիթարյան!K13+Մ.Կիրակոսյան!K13+#REF!+#REF!) -> #REF! | ... AG13: =SUM('Ս. Մարդանյան'!AG13+Ն.Բադալյան!AG13+Ս.Մխիթարյան!AG13+Մ.Կիրակոսյան!AG13+#REF!+#REF!) -> #REF! | AH13: =SUM('Ս. Մարդանյան'!#REF!+Ն.Բադալյան!#REF!+Ս.Մխիթարյան!#REF!+Մ.Կիրակոսյան!#REF!+#REF!+#REF!) -> #REF! | AI13: =SUM('Ս. Մարդանյան'!#REF!+Ն.Բադալյան!#REF!+Ս.Մխիթարյան!#REF!+Մ.Կիրակոսյան!#REF!+#REF!+#REF!) -> #REF! | AJ13: =SUM('Ս. Մարդանյան'!#REF!+Ն.Բադալյան!#REF!+Ս.Մխիթարյան!#REF!+Մ.Կիրակոսյան!#REF!+#REF!+#REF!) -> #REF! | AK13: =SUM('Ս. Մարդանյան'!#REF!+Ն.Բադալյան!#REF!+Ս.Մխիթարյան!#REF!+Մ.Կիրակոսյան!#REF!+#REF!+#REF!) -> #REF! | AL13: =SUM('Ս. Մարդանյան'!#REF!+Ն.Բադալյան!#REF!+Ս.Մխիթարյան!#REF!+Մ.Կիրակոսյան!#REF!+#REF!+#REF!) -> #REF! | AM13: =SUM('Ս. Մարդանյան'!#REF!+Ն.Բադալյան!#REF!+Ս.Մխիթարյան!#REF!+Մ.Կիրակոսյան!#REF!+#REF!+#REF!) -> #REF! | AN13: =SUM('Ս. Մարդանյան'!#REF!+Ն.Բադալյան!#REF!+Ս.Մխիթարյան!#REF!+Մ.Կիրակոսյան!#REF!+#REF!+#REF!) -> #REF! | AO13: =SUM('Ս. Մարդանյան'!#REF!+Ն.Բադալյան!#REF!+Ս.Մխիթարյան!#REF!+Մ.Կիրակոսյան!#REF!+#REF!+#REF!) -> #REF!
A14: 1.7 | B14: Մարդասիրական օգնության ցուցաբերման կամ տարբերանշանների դեմ ուղղված պատերազմական հանցագործությունները | C14: 139 | D14: =SUM('Ս. Մարդանյան'!D14+Ն.Բադալյան!D14+Ս.Մխիթարյան!D14+Մ.Կիրակոսյան!D14+#REF!+#REF!) -> #REF! | E14: =SUM('Ս. Մարդանյան'!E14+Ն.Բադալյան!E14+Ս.Մխիթարյան!E14+Մ.Կիրակոսյան!E14+#REF!+#REF!) -> #REF! | F14: =SUM('Ս. Մարդանյան'!F14+Ն.Բադալյան!F14+Ս.Մխիթարյան!F14+Մ.Կիրակոսյան!F14+#REF!+#REF!) -> #REF! | G14: =SUM('Ս. Մարդանյան'!G14+Ն.Բադալյան!G14+Ս.Մխիթարյան!G14+Մ.Կիրակոսյան!G14+#REF!+#REF!) -> #REF! | H14: =SUM('Ս. Մարդանյան'!H14+Ն.Բադալյան!H14+Ս.Մխիթարյան!H14+Մ.Կիրակոսյան!H14+#REF!+#REF!) -> #REF! | I14: =SUM('Ս. Մարդանյան'!I14+Ն.Բադալյան!I14+Ս.Մխիթարյան!I14+Մ.Կիրակոսյան!I14+#REF!+#REF!) -> #REF! | J14: =SUM('Ս. Մարդանյան'!J14+Ն.Բադալյան!J14+Ս.Մխիթարյան!J14+Մ.Կիրակոսյան!J14+#REF!+#REF!) -> #REF! | K14: =SUM('Ս. Մարդանյան'!K14+Ն.Բադալյան!K14+Ս.Մխիթարյան!K14+Մ.Կիրակոսյան!K14+#REF!+#REF!) -> #REF! | ... AG14: =SUM('Ս. Մարդանյան'!AG14+Ն.Բադալյան!AG14+Ս.Մխիթարյան!AG14+Մ.Կիրակոսյան!AG14+#REF!+#REF!) -> #REF! | AH14: =SUM('Ս. Մարդանյան'!#REF!+Ն.Բադալյան!#REF!+Ս.Մխիթարյան!#REF!+Մ.Կիրակոսյան!#REF!+#REF!+#REF!) -> #REF! | AI14: =SUM('Ս. Մարդանյան'!#REF!+Ն.Բադալյան!#REF!+Ս.Մխիթարյան!#REF!+Մ.Կիրակոսյան!#REF!+#REF!+#REF!) -> #REF! | AJ14: =SUM('Ս. Մարդանյան'!#REF!+Ն.Բադալյան!#REF!+Ս.Մխիթարյան!#REF!+Մ.Կիրակոսյան!#REF!+#REF!+#REF!) -> #REF! | AK14: =SUM('Ս. Մարդանյան'!#REF!+Ն.Բադալյան!#REF!+Ս.Մխիթարյան!#REF!+Մ.Կիրակոսյան!#REF!+#REF!+#REF!) -> #REF! | AL14: =SUM('Ս. Մարդանյան'!#REF!+Ն.Բադալյան!#REF!+Ս.Մխիթարյան!#REF!+Մ.Կիրակոսյան!#REF!+#REF!+#REF!) -> #REF! | AM14: =SUM('Ս. Մարդանյան'!#REF!+Ն.Բադալյան!#REF!+Ս.Մխիթարյան!#REF!+Մ.Կիրակոսյան!#REF!+#REF!+#REF!) -> #REF! | AN14: =SUM('Ս. Մարդանյան'!#REF!+Ն.Բադալյան!#REF!+Ս.Մխիթարյան!#REF!+Մ.Կիրակոսյան!#REF!+#REF!+#REF!) -> #REF! | AO14: =SUM('Ս. Մարդանյան'!#REF!+Ն.Բադալյան!#REF!+Ս.Մխիթարյան!#REF!+Մ.Կիրակոսյան!#REF!+#REF!+#REF!) -> #REF!
A15: 1.8 | B15: Պատերազմ վարելու արգելված եղանակների կիրառմամբ պատերազմական հանցագործությունները | C15: 140 | D15: =SUM('Ս. Մարդանյան'!D15+Ն.Բադալյան!D15+Ս.Մխիթարյան!D15+Մ.Կիրակոսյան!D15+#REF!+#REF!) -> #REF! | E15: =SUM('Ս. Մարդանյան'!E15+Ն.Բադալյան!E15+Ս.Մխիթարյան!E15+Մ.Կիրակոսյան!E15+#REF!+#REF!) -> #REF! | F15: =SUM('Ս. Մարդանյան'!F15+Ն.Բադալյան!F15+Ս.Մխիթարյան!F15+Մ.Կիրակոսյան!F15+#REF!+#REF!) -> #REF! | G15: =SUM('Ս. Մարդանյան'!G15+Ն.Բադալյան!G15+Ս.Մխիթարյան!G15+Մ.Կիրակոսյան!G15+#REF!+#REF!) -> #REF! | H15: =SUM('Ս. Մարդանյան'!H15+Ն.Բադալյան!H15+Ս.Մխիթարյան!H15+Մ.Կիրակոսյան!H15+#REF!+#REF!) -> #REF! | I15: =SUM('Ս. Մարդանյան'!I15+Ն.Բադալյան!I15+Ս.Մխիթարյան!I15+Մ.Կիրակոսյան!I15+#REF!+#REF!) -> #REF! | J15: =SUM('Ս. Մարդանյան'!J15+Ն.Բադալյան!J15+Ս.Մխիթարյան!J15+Մ.Կիրակոսյան!J15+#REF!+#REF!) -> #REF! | K15: =SUM('Ս. Մարդանյան'!K15+Ն.Բադալյան!K15+Ս.Մխիթարյան!K15+Մ.Կիրակոսյան!K15+#REF!+#REF!) -> #REF! | ... AG15: =SUM('Ս. Մարդանյան'!AG15+Ն.Բադալյան!AG15+Ս.Մխիթարյան!AG15+Մ.Կիրակոսյան!AG15+#REF!+#REF!) -> #REF! | AH15: =SUM('Ս. Մարդանյան'!#REF!+Ն.Բադալյան!#REF!+Ս.Մխիթարյան!#REF!+Մ.Կիրակոսյան!#REF!+#REF!+#REF!) -> #REF! | AI15: =SUM('Ս. Մարդանյան'!#REF!+Ն.Բադալյան!#REF!+Ս.Մխիթարյան!#REF!+Մ.Կիրակոսյան!#REF!+#REF!+#REF!) -> #REF! | AJ15: =SUM('Ս. Մարդանյան'!#REF!+Ն.Բադալյան!#REF!+Ս.Մխիթարյան!#REF!+Մ.Կիրակոսյան!#REF!+#REF!+#REF!) -> #REF! | AK15: =SUM('Ս. Մարդանյան'!#REF!+Ն.Բադալյան!#REF!+Ս.Մխիթարյան!#REF!+Մ.Կիրակոսյան!#REF!+#REF!+#REF!) -> #REF! | AL15: =SUM('Ս. Մարդանյան'!#REF!+Ն.Բադալյան!#REF!+Ս.Մխիթարյան!#REF!+Մ.Կիրակոսյան!#REF!+#REF!+#REF!) -> #REF! | AM15: =SUM('Ս. Մարդանյան'!#REF!+Ն.Բադալյան!#REF!+Ս.Մխիթարյան!#REF!+Մ.Կիրակոսյան!#REF!+#REF!+#REF!) -> #REF! | AN15: =SUM('Ս. Մարդանյան'!#REF!+Ն.Բադալյան!#REF!+Ս.Մխիթարյան!#REF!+Մ.Կիրակոսյան!#REF!+#REF!+#REF!) -> #REF! | AO15: =SUM('Ս. Մարդանյան'!#REF!+Ն.Բադալյան!#REF!+Ս.Մխիթարյան!#REF!+Մ.Կիրակոսյան!#REF!+#REF!+#REF!) -> #REF!
A16: 1.9 | B16: Պատերազմ վարելու արգելված միջոցների կիրառմամբ պատերազմական հանցագործությունները | C16: 141 | D16: =SUM('Ս. Մարդանյան'!D16+Ն.Բադալյան!D16+Ս.Մխիթարյան!D16+Մ.Կիրակոսյան!D16+#REF!+#REF!) -> #REF! | E16: =SUM('Ս. Մարդանյան'!E16+Ն.Բադալյան!E16+Ս.Մխիթարյան!E16+Մ.Կիրակոսյան!E16+#REF!+#REF!) -> #REF! | F16: =SUM('Ս. Մարդանյան'!F16+Ն.Բադալյան!F16+Ս.Մխիթարյան!F16+Մ.Կիրակոսյան!F16+#REF!+#REF!) -> #REF! | G16: =SUM('Ս. Մարդանյան'!G16+Ն.Բադալյան!G16+Ս.Մխիթարյան!G16+Մ.Կիրակոսյան!G16+#REF!+#REF!) -> #REF! | H16: =SUM('Ս. Մարդանյան'!H16+Ն.Բադալյան!H16+Ս.Մխիթարյան!H16+Մ.Կիրակոսյան!H16+#REF!+#REF!) -> #REF! | I16: =SUM('Ս. Մարդանյան'!I16+Ն.Բադալյան!I16+Ս.Մխիթարյան!I16+Մ.Կիրակոսյան!I16+#REF!+#REF!) -> #REF! | J16: =SUM('Ս. Մարդանյան'!J16+Ն.Բադալյան!J16+Ս.Մխիթարյան!J16+Մ.Կիրակոսյան!J16+#REF!+#REF!) -> #REF! | K16: =SUM('Ս. Մարդանյան'!K16+Ն.Բադալյան!K16+Ս.Մխիթարյան!K16+Մ.Կիրակոսյան!K16+#REF!+#REF!) -> #REF! | ... AG16: =SUM('Ս. Մարդանյան'!AG16+Ն.Բադալյան!AG16+Ս.Մխիթարյան!AG16+Մ.Կիրակոսյան!AG16+#REF!+#REF!) -> #REF! | AH16: =SUM('Ս. Մարդանյան'!#REF!+Ն.Բադալյան!#REF!+Ս.Մխիթարյան!#REF!+Մ.Կիրակոսյան!#REF!+#REF!+#REF!) -> #REF! | AI16: =SUM('Ս. Մարդանյան'!#REF!+Ն.Բադալյան!#REF!+Ս.Մխիթարյան!#REF!+Մ.Կիրակոսյան!#REF!+#REF!+#REF!) -> #REF! | AJ16: =SUM('Ս. Մարդանյան'!#REF!+Ն.Բադալյան!#REF!+Ս.Մխիթարյան!#REF!+Մ.Կիրակոսյան!#REF!+#REF!+#REF!) -> #REF! | AK16: =SUM('Ս. Մարդանյան'!#REF!+Ն.Բադալյան!#REF!+Ս.Մխիթարյան!#REF!+Մ.Կիրակոսյան!#REF!+#REF!+#REF!) -> #REF! | AL16: =SUM('Ս. Մարդանյան'!#REF!+Ն.Բադալյան!#REF!+Ս.Մխիթարյան!#REF!+Մ.Կիրակոսյան!#REF!+#REF!+#REF!) -> #REF! | AM16: =SUM('Ս. Մարդանյան'!#REF!+Ն.Բադալյան!#REF!+Ս.Մխիթարյան!#REF!+Մ.Կիրակոսյան!#REF!+#REF!+#REF!) -> #REF! | AN16: =SUM('Ս. Մարդանյան'!#REF!+Ն.Բադալյան!#REF!+Ս.Մխիթարյան!#REF!+Մ.Կիրակոսյան!#REF!+#REF!+#REF!) -> #REF! | AO16: =SUM('Ս. Մարդանյան'!#REF!+Ն.Բադալյան!#REF!+Ս.Մխիթարյան!#REF!+Մ.Կիրակոսյան!#REF!+#REF!+#REF!) -> #REF!
A17: 1.10 | B17: Դիակապտությունը | C17: 142 | D17: =SUM('Ս. Մարդանյան'!D17+Ն.Բադալյան!D17+Ս.Մխիթարյան!D17+Մ.Կիրակոսյան!D17+#REF!+#REF!) -> #REF! | E17: =SUM('Ս. Մարդանյան'!E17+Ն.Բադալյան!E17+Ս.Մխիթարյան!E17+Մ.Կիրակոսյան!E17+#REF!+#REF!) -> #REF! | F17: =SUM('Ս. Մարդանյան'!F17+Ն.Բադալյան!F17+Ս.Մխիթարյան!F17+Մ.Կիրակոսյան!F17+#REF!+#REF!) -> #REF! | G17: =SUM('Ս. Մարդանյան'!G17+Ն.Բադալյան!G17+Ս.Մխիթարյան!G17+Մ.Կիրակոսյան!G17+#REF!+#REF!) -> #REF! | H17: =SUM('Ս. Մարդանյան'!H17+Ն.Բադալյան!H17+Ս.Մխիթարյան!H17+Մ.Կիրակոսյան!H17+#REF!+#REF!) -> #REF! | I17: =SUM('Ս. Մարդանյան'!I17+Ն.Բադալյան!I17+Ս.Մխիթարյան!I17+Մ.Կիրակոսյան!I17+#REF!+#REF!) -> #REF! | J17: =SUM('Ս. Մարդանյան'!J17+Ն.Բադալյան!J17+Ս.Մխիթարյան!J17+Մ.Կիրակոսյան!J17+#REF!+#REF!) -> #REF! | K17: =SUM('Ս. Մարդանյան'!K17+Ն.Բադալյան!K17+Ս.Մխիթարյան!K17+Մ.Կիրակոսյան!K17+#REF!+#REF!) -> #REF! | ... AG17: =SUM('Ս. Մարդանյան'!AG17+Ն.Բադալյան!AG17+Ս.Մխիթարյան!AG17+Մ.Կիրակոսյան!AG17+#REF!+#REF!) -> #REF! | AH17: =SUM('Ս. Մարդանյան'!#REF!+Ն.Բադալյան!#REF!+Ս.Մխիթարյան!#REF!+Մ.Կիրակոսյան!#REF!+#REF!+#REF!) -> #REF! | AI17: =SUM('Ս. Մարդանյան'!#REF!+Ն.Բադալյան!#REF!+Ս.Մխիթարյան!#REF!+Մ.Կիրակոսյան!#REF!+#REF!+#REF!) -> #REF! | AJ17: =SUM('Ս. Մարդանյան'!#REF!+Ն.Բադալյան!#REF!+Ս.Մխիթարյան!#REF!+Մ.Կիրակոսյան!#REF!+#REF!+#REF!) -> #REF! | AK17: =SUM('Ս. Մարդանյան'!#REF!+Ն.Բադալյան!#REF!+Ս.Մխիթարյան!#REF!+Մ.Կիրակոսյան!#REF!+#REF!+#REF!) -> #REF! | AL17: =SUM('Ս. Մարդանյան'!#REF!+Ն.Բադալյան!#REF!+Ս.Մխիթարյան!#REF!+Մ.Կիրակոսյան!#REF!+#REF!+#REF!) -> #REF! | AM17: =SUM('Ս. Մարդանյան'!#REF!+Ն.Բադալյան!#REF!+Ս.Մխիթարյան!#REF!+Մ.Կիրակոսյան!#REF!+#REF!+#REF!) -> #REF! | AN17: =SUM('Ս. Մարդանյան'!#REF!+Ն.Բադալյան!#REF!+Ս.Մխիթարյան!#REF!+Մ.Կիրակոսյան!#REF!+#REF!+#REF!) -> #REF! | AO17: =SUM('Ս. Մարդանյան'!#REF!+Ն.Բադալյան!#REF!+Ս.Մխիթարյան!#REF!+Մ.Կիրակոսյան!#REF!+#REF!+#REF!) -> #REF!
A18: 1.11 | B18: Մարտադաշտում սպանվածների դիակներն անարգելը | C18: 143 | D18: =SUM('Ս. Մարդանյան'!D18+Ն.Բադալյան!D18+Ս.Մխիթարյան!D18+Մ.Կիրակոսյան!D18+#REF!+#REF!) -> #REF! | E18: =SUM('Ս. Մարդանյան'!E18+Ն.Բադալյան!E18+Ս.Մխիթարյան!E18+Մ.Կիրակոսյան!E18+#REF!+#REF!) -> #REF! | F18: =SUM('Ս. Մարդանյան'!F18+Ն.Բադալյան!F18+Ս.Մխիթարյան!F18+Մ.Կիրակոսյան!F18+#REF!+#REF!) -> #REF! | G18: =SUM('Ս. Մարդանյան'!G18+Ն.Բադալյան!G18+Ս.Մխիթարյան!G18+Մ.Կիրակոսյան!G18+#REF!+#REF!) -> #REF! | H18: =SUM('Ս. Մարդանյան'!H18+Ն.Բադալյան!H18+Ս.Մխիթարյան!H18+Մ.Կիրակոսյան!H18+#REF!+#REF!) -> #REF! | I18: =SUM('Ս. Մարդանյան'!I18+Ն.Բադալյան!I18+Ս.Մխիթարյան!I18+Մ.Կիրակոսյան!I18+#REF!+#REF!) -> #REF! | J18: =SUM('Ս. Մարդանյան'!J18+Ն.Բադալյան!J18+Ս.Մխիթարյան!J18+Մ.Կիրակոսյան!J18+#REF!+#REF!) -> #REF! | K18: =SUM('Ս. Մարդանյան'!K18+Ն.Բադալյան!K18+Ս.Մխիթարյան!K18+Մ.Կիրակոսյան!K18+#REF!+#REF!) -> #REF! | ... AG18: =SUM('Ս. Մարդանյան'!AG18+Ն.Բադալյան!AG18+Ս.Մխիթարյան!AG18+Մ.Կիրակոսյան!AG18+#REF!+#REF!) -> #REF! | AH18: =SUM('Ս. Մարդանյան'!#REF!+Ն.Բադալյան!#REF!+Ս.Մխիթարյան!#REF!+Մ.Կիրակոսյան!#REF!+#REF!+#REF!) -> #REF! | AI18: =SUM('Ս. Մարդանյան'!#REF!+Ն.Բադալյան!#REF!+Ս.Մխիթարյան!#REF!+Մ.Կիրակոսյան!#REF!+#REF!+#REF!) -> #REF! | AJ18: =SUM('Ս. Մարդանյան'!#REF!+Ն.Բադալյան!#REF!+Ս.Մխիթարյան!#REF!+Մ.Կիրակոսյան!#REF!+#REF!+#REF!) -> #REF! | AK18: =SUM('Ս. Մարդանյան'!#REF!+Ն.Բադալյան!#REF!+Ս.Մխիթարյան!#REF!+Մ.Կիրակոսյան!#REF!+#REF!+#REF!) -> #REF! | AL18: =SUM('Ս. Մարդանյան'!#REF!+Ն.Բադալյան!#REF!+Ս.Մխիթարյան!#REF!+Մ.Կիրակոսյան!#REF!+#REF!+#REF!) -> #REF! | AM18: =SUM('Ս. Մարդանյան'!#REF!+Ն.Բադալյան!#REF!+Ս.Մխիթարյան!#REF!+Մ.Կիրակոսյան!#REF!+#REF!+#REF!) -> #REF! | AN18: =SUM('Ս. Մարդանյան'!#REF!+Ն.Բադալյան!#REF!+Ս.Մխիթարյան!#REF!+Մ.Կիրակոսյան!#REF!+#REF!+#REF!) -> #REF! | AO18: =SUM('Ս. Մարդանյան'!#REF!+Ն.Բադալյան!#REF!+Ս.Մխիթարյան!#REF!+Մ.Կիրակոսյան!#REF!+#REF!+#REF!) -> #REF!
A19: 1.12 | B19: Զինված ընդհարման ժամանակ մշակութային արժեքները ոչնչացնելը, վնասելը, հափշտակելը կամ առգրավելը կամ դրանց նպատակային նշանակությունը փոփոխելը | C19: 144 | D19: =SUM('Ս. Մարդանյան'!D19+Ն.Բադալյան!D19+Ս.Մխիթարյան!D19+Մ.Կիրակոսյան!D19+#REF!+#REF!) -> #REF! | E19: =SUM('Ս. Մարդանյան'!E19+Ն.Բադալյան!E19+Ս.Մխիթարյան!E19+Մ.Կիրակոսյան!E19+#REF!+#REF!) -> #REF! | F19: =SUM('Ս. Մարդանյան'!F19+Ն.Բադալյան!F19+Ս.Մխիթարյան!F19+Մ.Կիրակոսյան!F19+#REF!+#REF!) -> #REF! | G19: =SUM('Ս. Մարդանյան'!G19+Ն.Բադալյան!G19+Ս.Մխիթարյան!G19+Մ.Կիրակոսյան!G19+#REF!+#REF!) -> #REF! | H19: =SUM('Ս. Մարդանյան'!H19+Ն.Բադալյան!H19+Ս.Մխիթարյան!H19+Մ.Կիրակոսյան!H19+#REF!+#REF!) -> #REF! | I19: =SUM('Ս. Մարդանյան'!I19+Ն.Բադալյան!I19+Ս.Մխիթարյան!I19+Մ.Կիրակոսյան!I19+#REF!+#REF!) -> #REF! | J19: =SUM('Ս. Մարդանյան'!J19+Ն.Բադալյան!J19+Ս.Մխիթարյան!J19+Մ.Կիրակոսյան!J19+#REF!+#REF!) -> #REF! | K19: =SUM('Ս. Մարդանյան'!K19+Ն.Բադալյան!K19+Ս.Մխիթարյան!K19+Մ.Կիրակոսյան!K19+#REF!+#REF!) -> #REF! | ... AG19: =SUM('Ս. Մարդանյան'!AG19+Ն.Բադալյան!AG19+Ս.Մխիթարյան!AG19+Մ.Կիրակոսյան!AG19+#REF!+#REF!) -> #REF! | AH19: =SUM('Ս. Մարդանյան'!#REF!+Ն.Բադալյան!#REF!+Ս.Մխիթարյան!#REF!+Մ.Կիրակոսյան!#REF!+#REF!+#REF!) -> #REF! | AI19: =SUM('Ս. Մարդանյան'!#REF!+Ն.Բադալյան!#REF!+Ս.Մխիթարյան!#REF!+Մ.Կիրակոսյան!#REF!+#REF!+#REF!) -> #REF! | AJ19: =SUM('Ս. Մարդանյան'!#REF!+Ն.Բադալյան!#REF!+Ս.Մխիթարյան!#REF!+Մ.Կիրակոսյան!#REF!+#REF!+#REF!) -> #REF! | AK19: =SUM('Ս. Մարդանյան'!#REF!+Ն.Բադալյան!#REF!+Ս.Մխիթարյան!#REF!+Մ.Կիրակոսյան!#REF!+#REF!+#REF!) -> #REF! | AL19: =SUM('Ս. Մարդանյան'!#REF!+Ն.Բադալյան!#REF!+Ս.Մխիթարյան!#REF!+Մ.Կիրակոսյան!#REF!+#REF!+#REF!) -> #REF! | AM19: =SUM('Ս. Մարդանյան'!#REF!+Ն.Բադալյան!#REF!+Ս.Մխիթարյան!#REF!+Մ.Կիրակոսյան!#REF!+#REF!+#REF!) -> #REF! | AN19: =SUM('Ս. Մարդանյան'!#REF!+Ն.Բադալյան!#REF!+Ս.Մխիթարյան!#REF!+Մ.Կիրակոսյան!#REF!+#REF!+#REF!) -> #REF! | AO19: =SUM('Ս. Մարդանյան'!#REF!+Ն.Բադալյան!#REF!+Ս.Մխիթարյան!#REF!+Մ.Կիրակոսյան!#REF!+#REF!+#REF!) -> #REF!
A20: 1.13 | B20: Պատերազմի կամ զինված ընդհարման ժամանակ մշակութային արժեքների պաշտպանության կանոնները խախտելը | C20: 145 | D20: =SUM('Ս. Մարդանյան'!D20+Ն.Բադալյան!D20+Ս.Մխիթարյան!D20+Մ.Կիրակոսյան!D20+#REF!+#REF!) -> #REF! | E20: =SUM('Ս. Մարդանյան'!E20+Ն.Բադալյան!E20+Ս.Մխիթարյան!E20+Մ.Կիրակոսյան!E20+#REF!+#REF!) -> #REF! | F20: =SUM('Ս. Մարդանյան'!F20+Ն.Բադալյան!F20+Ս.Մխիթարյան!F20+Մ.Կիրակոսյան!F20+#REF!+#REF!) -> #REF! | G20: =SUM('Ս. Մարդանյան'!G20+Ն.Բադալյան!G20+Ս.Մխիթարյան!G20+Մ.Կիրակոսյան!G20+#REF!+#REF!) -> #REF! | H20: =SUM('Ս. Մարդանյան'!H20+Ն.Բադալյան!H20+Ս.Մխիթարյան!H20+Մ.Կիրակոսյան!H20+#REF!+#REF!) -> #REF! | I20: =SUM('Ս. Մարդանյան'!I20+Ն.Բադալյան!I20+Ս.Մխիթարյան!I20+Մ.Կիրակոսյան!I20+#REF!+#REF!) -> #REF! | J20: =SUM('Ս. Մարդանյան'!J20+Ն.Բադալյան!J20+Ս.Մխիթարյան!J20+Մ.Կիրակոսյան!J20+#REF!+#REF!) -> #REF! | K20: =SUM('Ս. Մարդանյան'!K20+Ն.Բադալյան!K20+Ս.Մխիթարյան!K20+Մ.Կիրակոսյան!K20+#REF!+#REF!) -> #REF! | ... AG20: =SUM('Ս. Մարդանյան'!AG20+Ն.Բադալյան!AG20+Ս.Մխիթարյան!AG20+Մ.Կիրակոսյան!AG20+#REF!+#REF!) -> #REF! | AH20: =SUM('Ս. Մարդանյան'!#REF!+Ն.Բադալյան!#REF!+Ս.Մխիթարյան!#REF!+Մ.Կիրակոսյան!#REF!+#REF!+#REF!) -> #REF! | AI20: =SUM('Ս. Մարդանյան'!#REF!+Ն.Բադալյան!#REF!+Ս.Մխիթարյան!#REF!+Մ.Կիրակոսյան!#REF!+#REF!+#REF!) -> #REF! | AJ20: =SUM('Ս. Մարդանյան'!#REF!+Ն.Բադալյան!#REF!+Ս.Մխիթարյան!#REF!+Մ.Կիրակոսյան!#REF!+#REF!+#REF!) -> #REF! | AK20: =SUM('Ս. Մարդանյան'!#REF!+Ն.Բադալյան!#REF!+Ս.Մխիթարյան!#REF!+Մ.Կիրակոսյան!#REF!+#REF!+#REF!) -> #REF! | AL20: =SUM('Ս. Մարդանյան'!#REF!+Ն.Բադալյան!#REF!+Ս.Մխիթարյան!#REF!+Մ.Կիրակոսյան!#REF!+#REF!+#REF!) -> #REF! | AM20: =SUM('Ս. Մարդանյան'!#REF!+Ն.Բադալյան!#REF!+Ս.Մխիթարյան!#REF!+Մ.Կիրակոսյան!#REF!+#REF!+#REF!) -> #REF! | AN20: =SUM('Ս. Մարդանյան'!#REF!+Ն.Բադալյան!#REF!+Ս.Մխիթարյան!#REF!+Մ.Կիրակոսյան!#REF!+#REF!+#REF!) -> #REF! | AO20: =SUM('Ս. Մարդանյան'!#REF!+Ն.Բադալյան!#REF!+Ս.Մխիթարյան!#REF!+Մ.Կիրակոսյան!#REF!+#REF!+#REF!) -> #REF!
A21: 1.14 | B21: Ռասայական, ազգային, էթնիկական կամ կրոնական թշնամանք հարուցելու նպատակով մշակութային արժեքները ոչնչացնելը կամ վնասելը | C21: 146 | D21: =SUM('Ս. Մարդանյան'!D21+Ն.Բադալյան!D21+Ս.Մխիթարյան!D21+Մ.Կիրակոսյան!D21+#REF!+#REF!) -> #REF! | E21: =SUM('Ս. Մարդանյան'!E21+Ն.Բադալյան!E21+Ս.Մխիթարյան!E21+Մ.Կիրակոսյան!E21+#REF!+#REF!) -> #REF! | F21: =SUM('Ս. Մարդանյան'!F21+Ն.Բադալյան!F21+Ս.Մխիթարյան!F21+Մ.Կիրակոսյան!F21+#REF!+#REF!) -> #REF! | G21: =SUM('Ս. Մարդանյան'!G21+Ն.Բադալյան!G21+Ս.Մխիթարյան!G21+Մ.Կիրակոսյան!G21+#REF!+#REF!) -> #REF! | H21: =SUM('Ս. Մարդանյան'!H21+Ն.Բադալյան!H21+Ս.Մխիթարյան!H21+Մ.Կիրակոսյան!H21+#REF!+#REF!) -> #REF! | I21: =SUM('Ս. Մարդանյան'!I21+Ն.Բադալյան!I21+Ս.Մխիթարյան!I21+Մ.Կիրակոսյան!I21+#REF!+#REF!) -> #REF! | J21: =SUM('Ս. Մարդանյան'!J21+Ն.Բադալյան!J21+Ս.Մխիթարյան!J21+Մ.Կիրակոսյան!J21+#REF!+#REF!) -> #REF! | K21: =SUM('Ս. Մարդանյան'!K21+Ն.Բադալյան!K21+Ս.Մխիթարյան!K21+Մ.Կիրակոսյան!K21+#REF!+#REF!) -> #REF! | ... AG21: =SUM('Ս. Մարդանյան'!AG21+Ն.Բադալյան!AG21+Ս.Մխիթարյան!AG21+Մ.Կիրակոսյան!AG21+#REF!+#REF!) -> #REF! | AH21: =SUM('Ս. Մարդանյան'!#REF!+Ն.Բադալյան!#REF!+Ս.Մխիթարյան!#REF!+Մ.Կիրակոսյան!#REF!+#REF!+#REF!) -> #REF! | AI21: =SUM('Ս. Մարդանյան'!#REF!+Ն.Բադալյան!#REF!+Ս.Մխիթարյան!#REF!+Մ.Կիրակոսյան!#REF!+#REF!+#REF!) -> #REF! | AJ21: =SUM('Ս. Մարդանյան'!#REF!+Ն.Բադալյան!#REF!+Ս.Մխիթարյան!#REF!+Մ.Կիրակոսյան!#REF!+#REF!+#REF!) -> #REF! | AK21: =SUM('Ս. Մարդանյան'!#REF!+Ն.Բադալյան!#REF!+Ս.Մխիթարյան!#REF!+Մ.Կիրակոսյան!#REF!+#REF!+#REF!) -> #REF! | AL21: =SUM('Ս. Մարդանյան'!#REF!+Ն.Բադալյան!#REF!+Ս.Մխիթարյան!#REF!+Մ.Կիրակոսյան!#REF!+#REF!+#REF!) -> #REF! | AM21: =SUM('Ս. Մարդանյան'!#REF!+Ն.Բադալյան!#REF!+Ս.Մխիթարյան!#REF!+Մ.Կիրակոսյան!#REF!+#REF!+#REF!) -> #REF! | AN21: =SUM('Ս. Մարդանյան'!#REF!+Ն.Բադալյան!#REF!+Ս.Մխիթարյան!#REF!+Մ.Կիրակոսյան!#REF!+#REF!+#REF!) -> #REF! | AO21: =SUM('Ս. Մարդանյան'!#REF!+Ն.Բադալյան!#REF!+Ս.Մխիթարյան!#REF!+Մ.Կիրակոսյան!#REF!+#REF!+#REF!) -> #REF!
A22: 1.15 | B22: Վարձկանությունը | C22: 147 | D22: =SUM('Ս. Մարդանյան'!D22+Ն.Բադալյան!D22+Ս.Մխիթարյան!D22+Մ.Կիրակոսյան!D22+#REF!+#REF!) -> #REF! | E22: =SUM('Ս. Մարդանյան'!E22+Ն.Բադալյան!E22+Ս.Մխիթարյան!E22+Մ.Կիրակոսյան!E22+#REF!+#REF!) -> #REF! | F22: =SUM('Ս. Մարդանյան'!F22+Ն.Բադալյան!F22+Ս.Մխիթարյան!F22+Մ.Կիրակոսյան!F22+#REF!+#REF!) -> #REF! | G22: =SUM('Ս. Մարդանյան'!G22+Ն.Բադալյան!G22+Ս.Մխիթարյան!G22+Մ.Կիրակոսյան!G22+#REF!+#REF!) -> #REF! | H22: =SUM('Ս. Մարդանյան'!H22+Ն.Բադալյան!H22+Ս.Մխիթարյան!H22+Մ.Կիրակոսյան!H22+#REF!+#REF!) -> #REF! | I22: =SUM('Ս. Մարդանյան'!I22+Ն.Բադալյան!I22+Ս.Մխիթարյան!I22+Մ.Կիրակոսյան!I22+#REF!+#REF!) -> #REF! | J22: =SUM('Ս. Մարդանյան'!J22+Ն.Բադալյան!J22+Ս.Մխիթարյան!J22+Մ.Կիրակոսյան!J22+#REF!+#REF!) -> #REF! | K22: =SUM('Ս. Մարդանյան'!K22+Ն.Բադալյան!K22+Ս.Մխիթարյան!K22+Մ.Կիրակոսյան!K22+#REF!+#REF!) -> #REF! | ... AG22: =SUM('Ս. Մարդանյան'!AG22+Ն.Բադալյան!AG22+Ս.Մխիթարյան!AG22+Մ.Կիրակոսյան!AG22+#REF!+#REF!) -> #REF! | AH22: =SUM('Ս. Մարդանյան'!#REF!+Ն.Բադալյան!#REF!+Ս.Մխիթարյան!#REF!+Մ.Կիրակոսյան!#REF!+#REF!+#REF!) -> #REF! | AI22: =SUM('Ս. Մարդանյան'!#REF!+Ն.Բադալյան!#REF!+Ս.Մխիթարյան!#REF!+Մ.Կիրակոսյան!#REF!+#REF!+#REF!) -> #REF! | AJ22: =SUM('Ս. Մարդանյան'!#REF!+Ն.Բադալյան!#REF!+Ս.Մխիթարյան!#REF!+Մ.Կիրակոսյան!#REF!+#REF!+#REF!) -> #REF! | AK22: =SUM('Ս. Մարդանյան'!#REF!+Ն.Բադալյան!#REF!+Ս.Մխիթարյան!#REF!+Մ.Կիրակոսյան!#REF!+#REF!+#REF!) -> #REF! | AL22: =SUM('Ս. Մարդանյան'!#REF!+Ն.Բադալյան!#REF!+Ս.Մխիթարյան!#REF!+Մ.Կիրակոսյան!#REF!+#REF!+#REF!) -> #REF! | AM22: =SUM('Ս. Մարդանյան'!#REF!+Ն.Բադալյան!#REF!+Ս.Մխիթարյան!#REF!+Մ.Կիրակոսյան!#REF!+#REF!+#REF!) -> #REF! | AN22: =SUM('Ս. Մարդանյան'!#REF!+Ն.Բադալյան!#REF!+Ս.Մխիթարյան!#REF!+Մ.Կիրակոսյան!#REF!+#REF!+#REF!) -> #REF! | AO22: =SUM('Ս. Մարդանյան'!#REF!+Ն.Բադալյան!#REF!+Ս.Մխիթարյան!#REF!+Մ.Կիրակոսյան!#REF!+#REF!+#REF!) -> #REF!
A23: 1.16 | B23: Անգործությունը զինված ընդհարման ժամանակ | C23: 148 | D23: =SUM('Ս. Մարդանյան'!D23+Ն.Բադալյան!D23+Ս.Մխիթարյան!D23+Մ.Կիրակոսյան!D23+#REF!+#REF!) -> #REF! | E23: =SUM('Ս. Մարդանյան'!E23+Ն.Բադալյան!E23+Ս.Մխիթարյան!E23+Մ.Կիրակոսյան!E23+#REF!+#REF!) -> #REF! | F23: =SUM('Ս. Մարդանյան'!F23+Ն.Բադալյան!F23+Ս.Մխիթարյան!F23+Մ.Կիրակոսյան!F23+#REF!+#REF!) -> #REF! | G23: =SUM('Ս. Մարդանյան'!G23+Ն.Բադալյան!G23+Ս.Մխիթարյան!G23+Մ.Կիրակոսյան!G23+#REF!+#REF!) -> #REF! | H23: =SUM('Ս. Մարդանյան'!H23+Ն.Բադալյան!H23+Ս.Մխիթարյան!H23+Մ.Կիրակոսյան!H23+#REF!+#REF!) -> #REF! | I23: =SUM('Ս. Մարդանյան'!I23+Ն.Բադալյան!I23+Ս.Մխիթարյան!I23+Մ.Կիրակոսյան!I23+#REF!+#REF!) -> #REF! | J23: =SUM('Ս. Մարդանյան'!J23+Ն.Բադալյան!J23+Ս.Մխիթարյան!J23+Մ.Կիրակոսյան!J23+#REF!+#REF!) -> #REF! | K23: =SUM('Ս. Մարդանյան'!K23+Ն.Բադալյան!K23+Ս.Մխիթարյան!K23+Մ.Կիրակոսյան!K23+#REF!+#REF!) -> #REF! | ... AG23: =SUM('Ս. Մարդանյան'!AG23+Ն.Բադալյան!AG23+Ս.Մխիթարյան!AG23+Մ.Կիրակոսյան!AG23+#REF!+#REF!) -> #REF! | AH23: =SUM('Ս. Մարդանյան'!#REF!+Ն.Բադալյան!#REF!+Ս.Մխիթարյան!#REF!+Մ.Կիրակոսյան!#REF!+#REF!+#REF!) -> #REF! | AI23: =SUM('Ս. Մարդանյան'!#REF!+Ն.Բադալյան!#REF!+Ս.Մխիթարյան!#REF!+Մ.Կիրակոսյան!#REF!+#REF!+#REF!) -> #REF! | AJ23: =SUM('Ս. Մարդանյան'!#REF!+Ն.Բադալյան!#REF!+Ս.Մխիթարյան!#REF!+Մ.Կիրակոսյան!#REF!+#REF!+#REF!) -> #REF! | AK23: =SUM('Ս. Մարդանյան'!#REF!+Ն.Բադալյան!#REF!+Ս.Մխիթարյան!#REF!+Մ.Կիրակոսյան!#REF!+#REF!+#REF!) -> #REF! | AL23: =SUM('Ս. Մարդանյան'!#REF!+Ն.Բադալյան!#REF!+Ս.Մխիթարյան!#REF!+Մ.Կիրակոսյան!#REF!+#REF!+#REF!) -> #REF! | AM23: =SUM('Ս. Մարդանյան'!#REF!+Ն.Բադալյան!#REF!+Ս.Մխիթարյան!#REF!+Մ.Կիրակոսյան!#REF!+#REF!+#REF!) -> #REF! | AN23: =SUM('Ս. Մարդանյան'!#REF!+Ն.Բադալյան!#REF!+Ս.Մխիթարյան!#REF!+Մ.Կիրակոսյան!#REF!+#REF!+#REF!) -> #REF! | AO23: =SUM('Ս. Մարդանյան'!#REF!+Ն.Բադալյան!#REF!+Ս.Մխիթարյան!#REF!+Մ.Կիրակոսյան!#REF!+#REF!+#REF!) -> #REF!
A24: 1.17 | B24: Ագրեսիան | C24: 149 | D24: =SUM('Ս. Մարդանյան'!D24+Ն.Բադալյան!D24+Ս.Մխիթարյան!D24+Մ.Կիրակոսյան!D24+#REF!+#REF!) -> #REF! | E24: =SUM('Ս. Մարդանյան'!E24+Ն.Բադալյան!E24+Ս.Մխիթարյան!E24+Մ.Կիրակոսյան!E24+#REF!+#REF!) -> #REF! | F24: =SUM('Ս. Մարդանյան'!F24+Ն.Բադալյան!F24+Ս.Մխիթարյան!F24+Մ.Կիրակոսյան!F24+#REF!+#REF!) -> #REF! | G24: =SUM('Ս. Մարդանյան'!G24+Ն.Բադալյան!G24+Ս.Մխիթարյան!G24+Մ.Կիրակոսյան!G24+#REF!+#REF!) -> #REF! | H24: =SUM('Ս. Մարդանյան'!H24+Ն.Բադալյան!H24+Ս.Մխիթարյան!H24+Մ.Կիրակոսյան!H24+#REF!+#REF!) -> #REF! | I24: =SUM('Ս. Մարդանյան'!I24+Ն.Բադալյան!I24+Ս.Մխիթարյան!I24+Մ.Կիրակոսյան!I24+#REF!+#REF!) -> #REF! | J24: =SUM('Ս. Մարդանյան'!J24+Ն.Բադալյան!J24+Ս.Մխիթարյան!J24+Մ.Կիրակոսյան!J24+#REF!+#REF!) -> #REF! | K24: =SUM('Ս. Մարդանյան'!K24+Ն.Բադալյան!K24+Ս.Մխիթարյան!K24+Մ.Կիրակոսյան!K24+#REF!+#REF!) -> #REF! | ... AG24: =SUM('Ս. Մարդանյան'!AG24+Ն.Բադալյան!AG24+Ս.Մխիթարյան!AG24+Մ.Կիրակոսյան!AG24+#REF!+#REF!) -> #REF! | AH24: =SUM('Ս. Մարդանյան'!#REF!+Ն.Բադալյան!#REF!+Ս.Մխիթարյան!#REF!+Մ.Կիրակոսյան!#REF!+#REF!+#REF!) -> #REF! | AI24: =SUM('Ս. Մարդանյան'!#REF!+Ն.Բադալյան!#REF!+Ս.Մխիթարյան!#REF!+Մ.Կիրակոսյան!#REF!+#REF!+#REF!) -> #REF! | AJ24: =SUM('Ս. Մարդանյան'!#REF!+Ն.Բադալյան!#REF!+Ս.Մխիթարյան!#REF!+Մ.Կիրակոսյան!#REF!+#REF!+#REF!) -> #REF! | AK24: =SUM('Ս. Մարդանյան'!#REF!+Ն.Բադալյան!#REF!+Ս.Մխիթարյան!#REF!+Մ.Կիրակոսյան!#REF!+#REF!+#REF!) -> #REF! | AL24: =SUM('Ս. Մարդանյան'!#REF!+Ն.Բադալյան!#REF!+Ս.Մխիթարյան!#REF!+Մ.Կիրակոսյան!#REF!+#REF!+#REF!) -> #REF! | AM24: =SUM('Ս. Մարդանյան'!#REF!+Ն.Բադալյան!#REF!+Ս.Մխիթարյան!#REF!+Մ.Կիրակոսյան!#REF!+#REF!+#REF!) -> #REF! | AN24: =SUM('Ս. Մարդանյան'!#REF!+Ն.Բադալյան!#REF!+Ս.Մխիթարյան!#REF!+Մ.Կիրակոսյան!#REF!+#REF!+#REF!) -> #REF! | AO24: =SUM('Ս. Մարդանյան'!#REF!+Ն.Բադալյան!#REF!+Ս.Մխիթարյան!#REF!+Մ.Կիրակոսյան!#REF!+#REF!+#REF!) -> #REF!
A25: 1.18 | B25: Համավարակի կամ մարդկության անվտանգությանն անմիջական սպառնալիքի իրավիճակի պայմաններում ագրեսիվ ռազմական գործողություններ նախաձեռնելը, իրականացնելը կամ դրանք չդադարեցնելը | C25: 150 | D25: =SUM('Ս. Մարդանյան'!D25+Ն.Բադալյան!D25+Ս.Մխիթարյան!D25+Մ.Կիրակոսյան!D25+#REF!+#REF!) -> #REF! | E25: =SUM('Ս. Մարդանյան'!E25+Ն.Բադալյան!E25+Ս.Մխիթարյան!E25+Մ.Կիրակոսյան!E25+#REF!+#REF!) -> #REF! | F25: =SUM('Ս. Մարդանյան'!F25+Ն.Բադալյան!F25+Ս.Մխիթարյան!F25+Մ.Կիրակոսյան!F25+#REF!+#REF!) -> #REF! | G25: =SUM('Ս. Մարդանյան'!G25+Ն.Բադալյան!G25+Ս.Մխիթարյան!G25+Մ.Կիրակոսյան!G25+#REF!+#REF!) -> #REF! | H25: =SUM('Ս. Մարդանյան'!H25+Ն.Բադալյան!H25+Ս.Մխիթարյան!H25+Մ.Կիրակոսյան!H25+#REF!+#REF!) -> #REF! | I25: =SUM('Ս. Մարդանյան'!I25+Ն.Բադալյան!I25+Ս.Մխիթարյան!I25+Մ.Կիրակոսյան!I25+#REF!+#REF!) -> #REF! | J25: =SUM('Ս. Մարդանյան'!J25+Ն.Բադալյան!J25+Ս.Մխիթարյան!J25+Մ.Կիրակոսյան!J25+#REF!+#REF!) -> #REF! | K25: =SUM('Ս. Մարդանյան'!K25+Ն.Բադալյան!K25+Ս.Մխիթարյան!K25+Մ.Կիրակոսյան!K25+#REF!+#REF!) -> #REF! | ... AG25: =SUM('Ս. Մարդանյան'!AG25+Ն.Բադալյան!AG25+Ս.Մխիթարյան!AG25+Մ.Կիրակոսյան!AG25+#REF!+#REF!) -> #REF! | AH25: =SUM('Ս. Մարդանյան'!#REF!+Ն.Բադալյան!#REF!+Ս.Մխիթարյան!#REF!+Մ.Կիրակոսյան!#REF!+#REF!+#REF!) -> #REF! | AI25: =SUM('Ս. Մարդանյան'!#REF!+Ն.Բադալյան!#REF!+Ս.Մխիթարյան!#REF!+Մ.Կիրակոսյան!#REF!+#REF!+#REF!) -> #REF! | AJ25: =SUM('Ս. Մարդանյան'!#REF!+Ն.Բադալյան!#REF!+Ս.Մխիթարյան!#REF!+Մ.Կիրակոսյան!#REF!+#REF!+#REF!) -> #REF! | AK25: =SUM('Ս. Մարդանյան'!#REF!+Ն.Բադալյան!#REF!+Ս.Մխիթարյան!#REF!+Մ.Կիրակոսյան!#REF!+#REF!+#REF!) -> #REF! | AL25: =SUM('Ս. Մարդանյան'!#REF!+Ն.Բադալյան!#REF!+Ս.Մխիթարյան!#REF!+Մ.Կիրակոսյան!#REF!+#REF!+#REF!) -> #REF! | AM25: =SUM('Ս. Մարդանյան'!#REF!+Ն.Բադալյան!#REF!+Ս.Մխիթարյան!#REF!+Մ.Կիրակոսյան!#REF!+#REF!+#REF!) -> #REF! | AN25: =SUM('Ս. Մարդանյան'!#REF!+Ն.Բադալյան!#REF!+Ս.Մխիթարյան!#REF!+Մ.Կիրակոսյան!#REF!+#REF!+#REF!) -> #REF! | AO25: =SUM('Ս. Մարդանյան'!#REF!+Ն.Բադալյան!#REF!+Ս.Մխիթարյան!#REF!+Մ.Կիրակոսյան!#REF!+#REF!+#REF!) -> #REF!
A26: 1.19 | B26: Ագրեսիա իրականացնելու ուղղակի և հրապարակային կոչերը | C26: 151 | D26: =SUM('Ս. Մարդանյան'!D26+Ն.Բադալյան!D26+Ս.Մխիթարյան!D26+Մ.Կիրակոսյան!D26+#REF!+#REF!) -> #REF! | E26: =SUM('Ս. Մարդանյան'!E26+Ն.Բադալյան!E26+Ս.Մխիթարյան!E26+Մ.Կիրակոսյան!E26+#REF!+#REF!) -> #REF! | F26: =SUM('Ս. Մարդանյան'!F26+Ն.Բադալյան!F26+Ս.Մխիթարյան!F26+Մ.Կիրակոսյան!F26+#REF!+#REF!) -> #REF! | G26: =SUM('Ս. Մարդանյան'!G26+Ն.Բադալյան!G26+Ս.Մխիթարյան!G26+Մ.Կիրակոսյան!G26+#REF!+#REF!) -> #REF! | H26: =SUM('Ս. Մարդանյան'!H26+Ն.Բադալյան!H26+Ս.Մխիթարյան!H26+Մ.Կիրակոսյան!H26+#REF!+#REF!) -> #REF! | I26: =SUM('Ս. Մարդանյան'!I26+Ն.Բադալյան!I26+Ս.Մխիթարյան!I26+Մ.Կիրակոսյան!I26+#REF!+#REF!) -> #REF! | J26: =SUM('Ս. Մարդանյան'!J26+Ն.Բադալյան!J26+Ս.Մխիթարյան!J26+Մ.Կիրակոսյան!J26+#REF!+#REF!) -> #REF! | K26: =SUM('Ս. Մարդանյան'!K26+Ն.Բադալյան!K26+Ս.Մխիթարյան!K26+Մ.Կիրակոսյան!K26+#REF!+#REF!) -> #REF! | ... AG26: =SUM('Ս. Մարդանյան'!AG26+Ն.Բադալյան!AG26+Ս.Մխիթարյան!AG26+Մ.Կիրակոսյան!AG26+#REF!+#REF!) -> #REF! | AH26: =SUM('Ս. Մարդանյան'!#REF!+Ն.Բադալյան!#REF!+Ս.Մխիթարյան!#REF!+Մ.Կիրակոսյան!#REF!+#REF!+#REF!) -> #REF! | AI26: =SUM('Ս. Մարդանյան'!#REF!+Ն.Բադալյան!#REF!+Ս.Մխիթարյան!#REF!+Մ.Կիրակոսյան!#REF!+#REF!+#REF!) -> #REF! | AJ26: =SUM('Ս. Մարդանյան'!#REF!+Ն.Բադալյան!#REF!+Ս.Մխիթարյան!#REF!+Մ.Կիրակոսյան!#REF!+#REF!+#REF!) -> #REF! | AK26: =SUM('Ս. Մարդանյան'!#REF!+Ն.Բադալյան!#REF!+Ս.Մխիթարյան!#REF!+Մ.Կիրակոսյան!#REF!+#REF!+#REF!) -> #REF! | AL26: =SUM('Ս. Մարդանյան'!#REF!+Ն.Բադալյան!#REF!+Ս.Մխիթարյան!#REF!+Մ.Կիրակոսյան!#REF!+#REF!+#REF!) -> #REF! | AM26: =SUM('Ս. Մարդանյան'!#REF!+Ն.Բադալյան!#REF!+Ս.Մխիթարյան!#REF!+Մ.Կիրակոսյան!#REF!+#REF!+#REF!) -> #REF! | AN26: =SUM('Ս. Մարդանյան'!#REF!+Ն.Բադալյան!#REF!+Ս.Մխիթարյան!#REF!+Մ.Կիրակոսյան!#REF!+#REF!+#REF!) -> #REF! | AO26: =SUM('Ս. Մարդանյան'!#REF!+Ն.Բադալյան!#REF!+Ս.Մխիթարյան!#REF!+Մ.Կիրակոսյան!#REF!+#REF!+#REF!) -> #REF!
A27: 1.20 | B27: Միջազգային ահաբեկչությունը | C27: 152 | D27: =SUM('Ս. Մարդանյան'!D27+Ն.Բադալյան!D27+Ս.Մխիթարյան!D27+Մ.Կիրակոսյան!D27+#REF!+#REF!) -> #REF! | E27: =SUM('Ս. Մարդանյան'!E27+Ն.Բադալյան!E27+Ս.Մխիթարյան!E27+Մ.Կիրակոսյան!E27+#REF!+#REF!) -> #REF! | F27: =SUM('Ս. Մարդանյան'!F27+Ն.Բադալյան!F27+Ս.Մխիթարյան!F27+Մ.Կիրակոսյան!F27+#REF!+#REF!) -> #REF! | G27: =SUM('Ս. Մարդանյան'!G27+Ն.Բադալյան!G27+Ս.Մխիթարյան!G27+Մ.Կիրակոսյան!G27+#REF!+#REF!) -> #REF! | H27: =SUM('Ս. Մարդանյան'!H27+Ն.Բադալյան!H27+Ս.Մխիթարյան!H27+Մ.Կիրակոսյան!H27+#REF!+#REF!) -> #REF! | I27: =SUM('Ս. Մարդանյան'!I27+Ն.Բադալյան!I27+Ս.Մխիթարյան!I27+Մ.Կիրակոսյան!I27+#REF!+#REF!) -> #REF! | J27: =SUM('Ս. Մարդանյան'!J27+Ն.Բադալյան!J27+Ս.Մխիթարյան!J27+Մ.Կիրակոսյան!J27+#REF!+#REF!) -> #REF! | K27: =SUM('Ս. Մարդանյան'!K27+Ն.Բադալյան!K27+Ս.Մխիթարյան!K27+Մ.Կիրակոսյան!K27+#REF!+#REF!) -> #REF! | ... AG27: =SUM('Ս. Մարդանյան'!AG27+Ն.Բադալյան!AG27+Ս.Մխիթարյան!AG27+Մ.Կիրակոսյան!AG27+#REF!+#REF!) -> #REF! | AH27: =SUM('Ս. Մարդանյան'!#REF!+Ն.Բադալյան!#REF!+Ս.Մխիթարյան!#REF!+Մ.Կիրակոսյան!#REF!+#REF!+#REF!) -> #REF! | AI27: =SUM('Ս. Մարդանյան'!#REF!+Ն.Բադալյան!#REF!+Ս.Մխիթարյան!#REF!+Մ.Կիրակոսյան!#REF!+#REF!+#REF!) -> #REF! | AJ27: =SUM('Ս. Մարդանյան'!#REF!+Ն.Բադալյան!#REF!+Ս.Մխիթարյան!#REF!+Մ.Կիրակոսյան!#REF!+#REF!+#REF!) -> #REF! | AK27: =SUM('Ս. Մարդանյան'!#REF!+Ն.Բադալյան!#REF!+Ս.Մխիթարյան!#REF!+Մ.Կիրակոսյան!#REF!+#REF!+#REF!) -> #REF! | AL27: =SUM('Ս. Մարդանյան'!#REF!+Ն.Բադալյան!#REF!+Ս.Մխիթարյան!#REF!+Մ.Կիրակոսյան!#REF!+#REF!+#REF!) -> #REF! | AM27: =SUM('Ս. Մարդանյան'!#REF!+Ն.Բադալյան!#REF!+Ս.Մխիթարյան!#REF!+Մ.Կիրակոսյան!#REF!+#REF!+#REF!) -> #REF! | AN27: =SUM('Ս. Մարդանյան'!#REF!+Ն.Բադալյան!#REF!+Ս.Մխիթարյան!#REF!+Մ.Կիրակոսյան!#REF!+#REF!+#REF!) -> #REF! | AO27: =SUM('Ս. Մարդանյան'!#REF!+Ն.Բադալյան!#REF!+Ս.Մխիթարյան!#REF!+Մ.Կիրակոսյան!#REF!+#REF!+#REF!) -> #REF!
A28: 1.21 | B28: Զանգվածային ոչնչացման զենք ստեղծելը, տրամադրելը, փորձարկելը կամ կիրառելը | C28: 153 | D28: =SUM('Ս. Մարդանյան'!D28+Ն.Բադալյան!D28+Ս.Մխիթարյան!D28+Մ.Կիրակոսյան!D28+#REF!+#REF!) -> #REF! | E28: =SUM('Ս. Մարդանյան'!E28+Ն.Բադալյան!E28+Ս.Մխիթարյան!E28+Մ.Կիրակոսյան!E28+#REF!+#REF!) -> #REF! | F28: =SUM('Ս. Մարդանյան'!F28+Ն.Բադալյան!F28+Ս.Մխիթարյան!F28+Մ.Կիրակոսյան!F28+#REF!+#REF!) -> #REF! | G28: =SUM('Ս. Մարդանյան'!G28+Ն.Բադալյան!G28+Ս.Մխիթարյան!G28+Մ.Կիրակոսյան!G28+#REF!+#REF!) -> #REF! | H28: =SUM('Ս. Մարդանյան'!H28+Ն.Բադալյան!H28+Ս.Մխիթարյան!H28+Մ.Կիրակոսյան!H28+#REF!+#REF!) -> #REF! | I28: =SUM('Ս. Մարդանյան'!I28+Ն.Բադալյան!I28+Ս.Մխիթարյան!I28+Մ.Կիրակոսյան!I28+#REF!+#REF!) -> #REF! | J28: =SUM('Ս. Մարդանյան'!J28+Ն.Բադալյան!J28+Ս.Մխիթարյան!J28+Մ.Կիրակոսյան!J28+#REF!+#REF!) -> #REF! | K28: =SUM('Ս. Մարդանյան'!K28+Ն.Բադալյան!K28+Ս.Մխիթարյան!K28+Մ.Կիրակոսյան!K28+#REF!+#REF!) -> #REF! | ... AG28: =SUM('Ս. Մարդանյան'!AG28+Ն.Բադալյան!AG28+Ս.Մխիթարյան!AG28+Մ.Կիրակոսյան!AG28+#REF!+#REF!) -> #REF! | AH28: =SUM('Ս. Մարդանյան'!#REF!+Ն.Բադալյան!#REF!+Ս.Մխիթարյան!#REF!+Մ.Կիրակոսյան!#REF!+#REF!+#REF!) -> #REF! | AI28: =SUM('Ս. Մարդանյան'!#REF!+Ն.Բադալյան!#REF!+Ս.Մխիթարյան!#REF!+Մ.Կիրակոսյան!#REF!+#REF!+#REF!) -> #REF! | AJ28: =SUM('Ս. Մարդանյան'!#REF!+Ն.Բադալյան!#REF!+Ս.Մխիթարյան!#REF!+Մ.Կիրակոսյան!#REF!+#REF!+#REF!) -> #REF! | AK28: =SUM('Ս. Մարդանյան'!#REF!+Ն.Բադալյան!#REF!+Ս.Մխիթարյան!#REF!+Մ.Կիրակոսյան!#REF!+#REF!+#REF!) -> #REF! | AL28: =SUM('Ս. Մարդանյան'!#REF!+Ն.Բադալյան!#REF!+Ս.Մխիթարյան!#REF!+Մ.Կիրակոսյան!#REF!+#REF!+#REF!) -> #REF! | AM28: =SUM('Ս. Մարդանյան'!#REF!+Ն.Բադալյան!#REF!+Ս.Մխիթարյան!#REF!+Մ.Կիրակոսյան!#REF!+#REF!+#REF!) -> #REF! | AN28: =SUM('Ս. Մարդանյան'!#REF!+Ն.Բադալյան!#REF!+Ս.Մխիթարյան!#REF!+Մ.Կիրակոսյան!#REF!+#REF!+#REF!) -> #REF! | AO28: =SUM('Ս. Մարդանյան'!#REF!+Ն.Բադալյան!#REF!+Ս.Մխիթարյան!#REF!+Մ.Կիրակոսյան!#REF!+#REF!+#REF!) -> #REF!
A29: 1.22 | B29: Էկոցիդը | C29: 154 | D29: =SUM('Ս. Մարդանյան'!D29+Ն.Բադալյան!D29+Ս.Մխիթարյան!D29+Մ.Կիրակոսյան!D29+#REF!+#REF!) -> #REF! | E29: =SUM('Ս. Մարդանյան'!E29+Ն.Բադալյան!E29+Ս.Մխիթարյան!E29+Մ.Կիրակոսյան!E29+#REF!+#REF!) -> #REF! | F29: =SUM('Ս. Մարդանյան'!F29+Ն.Բադալյան!F29+Ս.Մխիթարյան!F29+Մ.Կիրակոսյան!F29+#REF!+#REF!) -> #REF! | G29: =SUM('Ս. Մարդանյան'!G29+Ն.Բադալյան!G29+Ս.Մխիթարյան!G29+Մ.Կիրակոսյան!G29+#REF!+#REF!) -> #REF! | H29: =SUM('Ս. Մարդանյան'!H29+Ն.Բադալյան!H29+Ս.Մխիթարյան!H29+Մ.Կիրակոսյան!H29+#REF!+#REF!) -> #REF! | I29: =SUM('Ս. Մարդանյան'!I29+Ն.Բադալյան!I29+Ս.Մխիթարյան!I29+Մ.Կիրակոսյան!I29+#REF!+#REF!) -> #REF! | J29: =SUM('Ս. Մարդանյան'!J29+Ն.Բադալյան!J29+Ս.Մխիթարյան!J29+Մ.Կիրակոսյան!J29+#REF!+#REF!) -> #REF! | K29: =SUM('Ս. Մարդանյան'!K29+Ն.Բադալյան!K29+Ս.Մխիթարյան!K29+Մ.Կիրակոսյան!K29+#REF!+#REF!) -> #REF! | ... AG29: =SUM('Ս. Մարդանյան'!AG29+Ն.Բադալյան!AG29+Ս.Մխիթարյան!AG29+Մ.Կիրակոսյան!AG29+#REF!+#REF!) -> #REF! | AH29: =SUM('Ս. Մարդանյան'!#REF!+Ն.Բադալյան!#REF!+Ս.Մխիթարյան!#REF!+Մ.Կիրակոսյան!#REF!+#REF!+#REF!) -> #REF! | AI29: =SUM('Ս. Մարդանյան'!#REF!+Ն.Բադալյան!#REF!+Ս.Մխիթարյան!#REF!+Մ.Կիրակոսյան!#REF!+#REF!+#REF!) -> #REF! | AJ29: =SUM('Ս. Մարդանյան'!#REF!+Ն.Բադալյան!#REF!+Ս.Մխիթարյան!#REF!+Մ.Կիրակոսյան!#REF!+#REF!+#REF!) -> #REF! | AK29: =SUM('Ս. Մարդանյան'!#REF!+Ն.Բադալյան!#REF!+Ս.Մխիթարյան!#REF!+Մ.Կիրակոսյան!#REF!+#REF!+#REF!) -> #REF! | AL29: =SUM('Ս. Մարդանյան'!#REF!+Ն.Բադալյան!#REF!+Ս.Մխիթարյան!#REF!+Մ.Կիրակոսյան!#REF!+#REF!+#REF!) -> #REF! | AM29: =SUM('Ս. Մարդանյան'!#REF!+Ն.Բադալյան!#REF!+Ս.Մխիթարյան!#REF!+Մ.Կիրակոսյան!#REF!+#REF!+#REF!) -> #REF! | AN29: =SUM('Ս. Մարդանյան'!#REF!+Ն.Բադալյան!#REF!+Ս.Մխիթարյան!#REF!+Մ.Կիրակոսյան!#REF!+#REF!+#REF!) -> #REF! | AO29: =SUM('Ս. Մարդանյան'!#REF!+Ն.Բադալյան!#REF!+Ս.Մխիթարյան!#REF!+Մ.Կիրակոսյան!#REF!+#REF!+#REF!) -> #REF!
A30: 2 | B30: Ընդհամենը մարդու կյանքի դեմ ուղղված հանցագործությունները | D30: =SUM('Ս. Մարդանյան'!D30+Ն.Բադալյան!D30+Ս.Մխիթարյան!D30+Մ.Կիրակոսյան!D30+#REF!+#REF!) -> #REF! | E30: =SUM('Ս. Մարդանյան'!E30+Ն.Բադալյան!E30+Ս.Մխիթարյան!E30+Մ.Կիրակոսյան!E30+#REF!+#REF!) -> #REF! | F30: =SUM('Ս. Մարդանյան'!F30+Ն.Բադալյան!F30+Ս.Մխիթարյան!F30+Մ.Կիրակոսյան!F30+#REF!+#REF!) -> #REF! | G30: =SUM('Ս. Մարդանյան'!G30+Ն.Բադալյան!G30+Ս.Մխիթարյան!G30+Մ.Կիրակոսյան!G30+#REF!+#REF!) -> #REF! | H30: =SUM('Ս. Մարդանյան'!H30+Ն.Բադալյան!H30+Ս.Մխիթարյան!H30+Մ.Կիրակոսյան!H30+#REF!+#REF!) -> #REF! | I30: =SUM('Ս. Մարդանյան'!I30+Ն.Բադալյան!I30+Ս.Մխիթարյան!I30+Մ.Կիրակոսյան!I30+#REF!+#REF!) -> #REF! | J30: =SUM('Ս. Մարդանյան'!J30+Ն.Բադալյան!J30+Ս.Մխիթարյան!J30+Մ.Կիրակոսյան!J30+#REF!+#REF!) -> #REF! | K30: =SUM('Ս. Մարդանյան'!K30+Ն.Բադալյան!K30+Ս.Մխիթարյան!K30+Մ.Կիրակոսյան!K30+#REF!+#REF!) -> #REF! | ... AG30: =SUM('Ս. Մարդանյան'!AG30+Ն.Բադալյան!AG30+Ս.Մխիթարյան!AG30+Մ.Կիրակոսյան!AG30+#REF!+#REF!) -> #REF! | AH30: =SUM('Ս. Մարդանյան'!#REF!+Ն.Բադալյան!#REF!+Ս.Մխիթարյան!#REF!+Մ.Կիրակոսյան!#REF!+#REF!+#REF!) -> #REF! | AI30: =SUM('Ս. Մարդանյան'!#REF!+Ն.Բադալյան!#REF!+Ս.Մխիթարյան!#REF!+Մ.Կիրակոսյան!#REF!+#REF!+#REF!) -> #REF! | AJ30: =SUM('Ս. Մարդանյան'!#REF!+Ն.Բադալյան!#REF!+Ս.Մխիթարյան!#REF!+Մ.Կիրակոսյան!#REF!+#REF!+#REF!) -> #REF! | AK30: =SUM('Ս. Մարդանյան'!#REF!+Ն.Բադալյան!#REF!+Ս.Մխիթարյան!#REF!+Մ.Կիրակոսյան!#REF!+#REF!+#REF!) -> #REF! | AL30: =SUM('Ս. Մարդանյան'!#REF!+Ն.Բադալյան!#REF!+Ս.Մխիթարյան!#REF!+Մ.Կիրակոսյան!#REF!+#REF!+#REF!) -> #REF! | AM30: =SUM('Ս. Մարդանյան'!#REF!+Ն.Բադալյան!#REF!+Ս.Մխիթարյան!#REF!+Մ.Կիրակոսյան!#REF!+#REF!+#REF!) -> #REF! | AN30: =SUM('Ս. Մարդանյան'!#REF!+Ն.Բադալյան!#REF!+Ս.Մխիթարյան!#REF!+Մ.Կիրակոսյան!#REF!+#REF!+#REF!) -> #REF! | AO30: =SUM('Ս. Մարդանյան'!#REF!+Ն.Բադալյան!#REF!+Ս.Մխիթարյան!#REF!+Մ.Կիրակոսյան!#REF!+#REF!+#REF!) -> #REF!
A31: 2.1 | B31: Սպանությունը | C31: 155 | D31: =SUM('Ս. Մարդանյան'!D31+Ն.Բադալյան!D31+Ս.Մխիթարյան!D31+Մ.Կիրակոսյան!D31+#REF!+#REF!) -> #REF! | E31: =SUM('Ս. Մարդանյան'!E31+Ն.Բադալյան!E31+Ս.Մխիթարյան!E31+Մ.Կիրակոսյան!E31+#REF!+#REF!) -> #REF! | F31: =SUM('Ս. Մարդանյան'!F31+Ն.Բադալյան!F31+Ս.Մխիթարյան!F31+Մ.Կիրակոսյան!F31+#REF!+#REF!) -> #REF! | G31: =SUM('Ս. Մարդանյան'!G31+Ն.Բադալյան!G31+Ս.Մխիթարյան!G31+Մ.Կիրակոսյան!G31+#REF!+#REF!) -> #REF! | H31: =SUM('Ս. Մարդանյան'!H31+Ն.Բադալյան!H31+Ս.Մխիթարյան!H31+Մ.Կիրակոսյան!H31+#REF!+#REF!) -> #REF! | I31: =SUM('Ս. Մարդանյան'!I31+Ն.Բադալյան!I31+Ս.Մխիթարյան!I31+Մ.Կիրակոսյան!I31+#REF!+#REF!) -> #REF! | J31: =SUM('Ս. Մարդանյան'!J31+Ն.Բադալյան!J31+Ս.Մխիթարյան!J31+Մ.Կիրակոսյան!J31+#REF!+#REF!) -> #REF! | K31: =SUM('Ս. Մարդանյան'!K31+Ն.Բադալյան!K31+Ս.Մխիթարյան!K31+Մ.Կիրակոսյան!K31+#REF!+#REF!) -> #REF! | ... AG31: =SUM('Ս. Մարդանյան'!AG31+Ն.Բադալյան!AG31+Ս.Մխիթարյան!AG31+Մ.Կիրակոսյան!AG31+#REF!+#REF!) -> #REF! | AH31: =SUM('Ս. Մարդանյան'!#REF!+Ն.Բադալյան!#REF!+Ս.Մխիթարյան!#REF!+Մ.Կիրակոսյան!#REF!+#REF!+#REF!) -> #REF! | AI31: =SUM('Ս. Մարդանյան'!#REF!+Ն.Բադալյան!#REF!+Ս.Մխիթարյան!#REF!+Մ.Կիրակոսյան!#REF!+#REF!+#REF!) -> #REF! | AJ31: =SUM('Ս. Մարդանյան'!#REF!+Ն.Բադալյան!#REF!+Ս.Մխիթարյան!#REF!+Մ.Կիրակոսյան!#REF!+#REF!+#REF!) -> #REF! | AK31: =SUM('Ս. Մարդանյան'!#REF!+Ն.Բադալյան!#REF!+Ս.Մխիթարյան!#REF!+Մ.Կիրակոսյան!#REF!+#REF!+#REF!) -> #REF! | AL31: =SUM('Ս. Մարդանյան'!#REF!+Ն.Բադալյան!#REF!+Ս.Մխիթարյան!#REF!+Մ.Կիրակոսյան!#REF!+#REF!+#REF!) -> #REF! | AM31: =SUM('Ս. Մարդանյան'!#REF!+Ն.Բադալյան!#REF!+Ս.Մխիթարյան!#REF!+Մ.Կիրակոսյան!#REF!+#REF!+#REF!) -> #REF! | AN31: =SUM('Ս. Մարդանյան'!#REF!+Ն.Բադալյան!#REF!+Ս.Մխիթարյան!#REF!+Մ.Կիրակոսյան!#REF!+#REF!+#REF!) -> #REF! | AO31: =SUM('Ս. Մարդանյան'!#REF!+Ն.Բադալյան!#REF!+Ս.Մխիթարյան!#REF!+Մ.Կիրակոսյան!#REF!+#REF!+#REF!) -> #REF!
A32: 2.2 | B32: Հոգեկան խիստ հուզմունքի վիճակում կատարված սպանությունը | C32: 156 | D32: =SUM('Ս. Մարդանյան'!D32+Ն.Բադալյան!D32+Ս.Մխիթարյան!D32+Մ.Կիրակոսյան!D32+#REF!+#REF!) -> #REF! | E32: =SUM('Ս. Մարդանյան'!E32+Ն.Բադալյան!E32+Ս.Մխիթարյան!E32+Մ.Կիրակոսյան!E32+#REF!+#REF!) -> #REF! | F32: =SUM('Ս. Մարդանյան'!F32+Ն.Բադալյան!F32+Ս.Մխիթարյան!F32+Մ.Կիրակոսյան!F32+#REF!+#REF!) -> #REF! | G32: =SUM('Ս. Մարդանյան'!G32+Ն.Բադալյան!G32+Ս.Մխիթարյան!G32+Մ.Կիրակոսյան!G32+#REF!+#REF!) -> #REF! | H32: =SUM('Ս. Մարդանյան'!H32+Ն.Բադալյան!H32+Ս.Մխիթարյան!H32+Մ.Կիրակոսյան!H32+#REF!+#REF!) -> #REF! | I32: =SUM('Ս. Մարդանյան'!I32+Ն.Բադալյան!I32+Ս.Մխիթարյան!I32+Մ.Կիրակոսյան!I32+#REF!+#REF!) -> #REF! | J32: =SUM('Ս. Մարդանյան'!J32+Ն.Բադալյան!J32+Ս.Մխիթարյան!J32+Մ.Կիրակոսյան!J32+#REF!+#REF!) -> #REF! | K32: =SUM('Ս. Մարդանյան'!K32+Ն.Բադալյան!K32+Ս.Մխիթարյան!K32+Մ.Կիրակոսյան!K32+#REF!+#REF!) -> #REF! | ... AG32: =SUM('Ս. Մարդանյան'!AG32+Ն.Բադալյան!AG32+Ս.Մխիթարյան!AG32+Մ.Կիրակոսյան!AG32+#REF!+#REF!) -> #REF! | AH32: =SUM('Ս. Մարդանյան'!#REF!+Ն.Բադալյան!#REF!+Ս.Մխիթարյան!#REF!+Մ.Կիրակոսյան!#REF!+#REF!+#REF!) -> #REF! | AI32: =SUM('Ս. Մարդանյան'!#REF!+Ն.Բադալյան!#REF!+Ս.Մխիթարյան!#REF!+Մ.Կիրակոսյան!#REF!+#REF!+#REF!) -> #REF! | AJ32: =SUM('Ս. Մարդանյան'!#REF!+Ն.Բադալյան!#REF!+Ս.Մխիթարյան!#REF!+Մ.Կիրակոսյան!#REF!+#REF!+#REF!) -> #REF! | AK32: =SUM('Ս. Մարդանյան'!#REF!+Ն.Բադալյան!#REF!+Ս.Մխիթարյան!#REF!+Մ.Կիրակոսյան!#REF!+#REF!+#REF!) -> #REF! | AL32: =SUM('Ս. Մարդանյան'!#REF!+Ն.Բադալյան!#REF!+Ս.Մխիթարյան!#REF!+Մ.Կիրակոսյան!#REF!+#REF!+#REF!) -> #REF! | AM32: =SUM('Ս. Մարդանյան'!#REF!+Ն.Բադալյան!#REF!+Ս.Մխիթարյան!#REF!+Մ.Կիրակոսյան!#REF!+#REF!+#REF!) -> #REF! | AN32: =SUM('Ս. Մարդանյան'!#REF!+Ն.Բադալյան!#REF!+Ս.Մխիթարյան!#REF!+Մ.Կիրակոսյան!#REF!+#REF!+#REF!) -> #REF! | AO32: =SUM('Ս. Մարդանյան'!#REF!+Ն.Բադալյան!#REF!+Ս.Մխիթարյան!#REF!+Մ.Կիրակոսյան!#REF!+#REF!+#REF!) -> #REF!
A33: 2.3 | B33: Ծննդկանի կամ ծննդաբերի կողմից երեխայի սպանությունը | C33: 157 | D33: =SUM('Ս. Մարդանյան'!D33+Ն.Բադալյան!D33+Ս.Մխիթարյան!D33+Մ.Կիրակոսյան!D33+#REF!+#REF!) -> #REF! | E33: =SUM('Ս. Մարդանյան'!E33+Ն.Բադալյան!E33+Ս.Մխիթարյան!E33+Մ.Կիրակոսյան!E33+#REF!+#REF!) -> #REF! | F33: =SUM('Ս. Մարդանյան'!F33+Ն.Բադալյան!F33+Ս.Մխիթարյան!F33+Մ.Կիրակոսյան!F33+#REF!+#REF!) -> #REF! | G33: =SUM('Ս. Մարդանյան'!G33+Ն.Բադալյան!G33+Ս.Մխիթարյան!G33+Մ.Կիրակոսյան!G33+#REF!+#REF!) -> #REF! | H33: =SUM('Ս. Մարդանյան'!H33+Ն.Բադալյան!H33+Ս.Մխիթարյան!H33+Մ.Կիրակոսյան!H33+#REF!+#REF!) -> #REF! | I33: =SUM('Ս. Մարդանյան'!I33+Ն.Բադալյան!I33+Ս.Մխիթարյան!I33+Մ.Կիրակոսյան!I33+#REF!+#REF!) -> #REF! | J33: =SUM('Ս. Մարդանյան'!J33+Ն.Բադալյան!J33+Ս.Մխիթարյան!J33+Մ.Կիրակոսյան!J33+#REF!+#REF!) -> #REF! | K33: =SUM('Ս. Մարդանյան'!K33+Ն.Բադալյան!K33+Ս.Մխիթարյան!K33+Մ.Կիրակոսյան!K33+#REF!+#REF!) -> #REF! | ... AG33: =SUM('Ս. Մարդանյան'!AG33+Ն.Բադալյան!AG33+Ս.Մխիթարյան!AG33+Մ.Կիրակոսյան!AG33+#REF!+#REF!) -> #REF! | AH33: =SUM('Ս. Մարդանյան'!#REF!+Ն.Բադալյան!#REF!+Ս.Մխիթարյան!#REF!+Մ.Կիրակոսյան!#REF!+#REF!+#REF!) -> #REF! | AI33: =SUM('Ս. Մարդանյան'!#REF!+Ն.Բադալյան!#REF!+Ս.Մխիթարյան!#REF!+Մ.Կիրակոսյան!#REF!+#REF!+#REF!) -> #REF! | AJ33: =SUM('Ս. Մարդանյան'!#REF!+Ն.Բադալյան!#REF!+Ս.Մխիթարյան!#REF!+Մ.Կիրակոսյան!#REF!+#REF!+#REF!) -> #REF! | AK33: =SUM('Ս. Մարդանյան'!#REF!+Ն.Բադալյան!#REF!+Ս.Մխիթարյան!#REF!+Մ.Կիրակոսյան!#REF!+#REF!+#REF!) -> #REF! | AL33: =SUM('Ս. Մարդանյան'!#REF!+Ն.Բադալյան!#REF!+Ս.Մխիթարյան!#REF!+Մ.Կիրակոսյան!#REF!+#REF!+#REF!) -> #REF! | AM33: =SUM('Ս. Մարդանյան'!#REF!+Ն.Բադալյան!#REF!+Ս.Մխիթարյան!#REF!+Մ.Կիրակոսյան!#REF!+#REF!+#REF!) -> #REF! | AN33: =SUM('Ս. Մարդանյան'!#REF!+Ն.Բադալյան!#REF!+Ս.Մխիթարյան!#REF!+Մ.Կիրակոսյան!#REF!+#REF!+#REF!) -> #REF! | AO33: =SUM('Ս. Մարդանյան'!#REF!+Ն.Բադալյան!#REF!+Ս.Մխիթարյան!#REF!+Մ.Կիրակոսյան!#REF!+#REF!+#REF!) -> #REF!
A34: 2.4 | B34: Ծննդկանի կամ ծննդաբերի կողմից երեխայի սպանությանը հանցակցելը | C34: 158 | D34: =SUM('Ս. Մարդանյան'!D34+Ն.Բադալյան!D34+Ս.Մխիթարյան!D34+Մ.Կիրակոսյան!D34+#REF!+#REF!) -> #REF! | E34: =SUM('Ս. Մարդանյան'!E34+Ն.Բադալյան!E34+Ս.Մխիթարյան!E34+Մ.Կիրակոսյան!E34+#REF!+#REF!) -> #REF! | F34: =SUM('Ս. Մարդանյան'!F34+Ն.Բադալյան!F34+Ս.Մխիթարյան!F34+Մ.Կիրակոսյան!F34+#REF!+#REF!) -> #REF! | G34: =SUM('Ս. Մարդանյան'!G34+Ն.Բադալյան!G34+Ս.Մխիթարյան!G34+Մ.Կիրակոսյան!G34+#REF!+#REF!) -> #REF! | H34: =SUM('Ս. Մարդանյան'!H34+Ն.Բադալյան!H34+Ս.Մխիթարյան!H34+Մ.Կիրակոսյան!H34+#REF!+#REF!) -> #REF! | I34: =SUM('Ս. Մարդանյան'!I34+Ն.Բադալյան!I34+Ս.Մխիթարյան!I34+Մ.Կիրակոսյան!I34+#REF!+#REF!) -> #REF! | J34: =SUM('Ս. Մարդանյան'!J34+Ն.Բադալյան!J34+Ս.Մխիթարյան!J34+Մ.Կիրակոսյան!J34+#REF!+#REF!) -> #REF! | K34: =SUM('Ս. Մարդանյան'!K34+Ն.Բադալյան!K34+Ս.Մխիթարյան!K34+Մ.Կիրակոսյան!K34+#REF!+#REF!) -> #REF! | ... AG34: =SUM('Ս. Մարդանյան'!AG34+Ն.Բադալյան!AG34+Ս.Մխիթարյան!AG34+Մ.Կիրակոսյան!AG34+#REF!+#REF!) -> #REF! | AH34: =SUM('Ս. Մարդանյան'!#REF!+Ն.Բադալյան!#REF!+Ս.Մխիթարյան!#REF!+Մ.Կիրակոսյան!#REF!+#REF!+#REF!) -> #REF! | AI34: =SUM('Ս. Մարդանյան'!#REF!+Ն.Բադալյան!#REF!+Ս.Մխիթարյան!#REF!+Մ.Կիրակոսյան!#REF!+#REF!+#REF!) -> #REF! | AJ34: =SUM('Ս. Մարդանյան'!#REF!+Ն.Բադալյան!#REF!+Ս.Մխիթարյան!#REF!+Մ.Կիրակոսյան!#REF!+#REF!+#REF!) -> #REF! | AK34: =SUM('Ս. Մարդանյան'!#REF!+Ն.Բադալյան!#REF!+Ս.Մխիթարյան!#REF!+Մ.Կիրակոսյան!#REF!+#REF!+#REF!) -> #REF! | AL34: =SUM('Ս. Մարդանյան'!#REF!+Ն.Բադալյան!#REF!+Ս.Մխիթարյան!#REF!+Մ.Կիրակոսյան!#REF!+#REF!+#REF!) -> #REF! | AM34: =SUM('Ս. Մարդանյան'!#REF!+Ն.Բադալյան!#REF!+Ս.Մխիթարյան!#REF!+Մ.Կիրակոսյան!#REF!+#REF!+#REF!) -> #REF! | AN34: =SUM('Ս. Մարդանյան'!#REF!+Ն.Բադալյան!#REF!+Ս.Մխիթարյան!#REF!+Մ.Կիրակոսյան!#REF!+#REF!+#REF!) -> #REF! | AO34: =SUM('Ս. Մարդանյան'!#REF!+Ն.Բադալյան!#REF!+Ս.Մխիթարյան!#REF!+Մ.Կիրակոսյան!#REF!+#REF!+#REF!) -> #REF!
A35: 2.5 | B35: Անհրաժեշտ պաշտպանության սահմանազանցմամբ սպանությունը | C35: 159 | D35: =SUM('Ս. Մարդանյան'!D35+Ն.Բադալյան!D35+Ս.Մխիթարյան!D35+Մ.Կիրակոսյան!D35+#REF!+#REF!) -> #REF! | E35: =SUM('Ս. Մարդանյան'!E35+Ն.Բադալյան!E35+Ս.Մխիթարյան!E35+Մ.Կիրակոսյան!E35+#REF!+#REF!) -> #REF! | F35: =SUM('Ս. Մարդանյան'!F35+Ն.Բադալյան!F35+Ս.Մխիթարյան!F35+Մ.Կիրակոսյան!F35+#REF!+#REF!) -> #REF! | G35: =SUM('Ս. Մարդանյան'!G35+Ն.Բադալյան!G35+Ս.Մխիթարյան!G35+Մ.Կիրակոսյան!G35+#REF!+#REF!) -> #REF! | H35: =SUM('Ս. Մարդանյան'!H35+Ն.Բադալյան!H35+Ս.Մխիթարյան!H35+Մ.Կիրակոսյան!H35+#REF!+#REF!) -> #REF! | I35: =SUM('Ս. Մարդանյան'!I35+Ն.Բադալյան!I35+Ս.Մխիթարյան!I35+Մ.Կիրակոսյան!I35+#REF!+#REF!) -> #REF! | J35: =SUM('Ս. Մարդանյան'!J35+Ն.Բադալյան!J35+Ս.Մխիթարյան!J35+Մ.Կիրակոսյան!J35+#REF!+#REF!) -> #REF! | K35: =SUM('Ս. Մարդանյան'!K35+Ն.Բադալյան!K35+Ս.Մխիթարյան!K35+Մ.Կիրակոսյան!K35+#REF!+#REF!) -> #REF! | ... AG35: =SUM('Ս. Մարդանյան'!AG35+Ն.Բադալյան!AG35+Ս.Մխիթարյան!AG35+Մ.Կիրակոսյան!AG35+#REF!+#REF!) -> #REF! | AH35: =SUM('Ս. Մարդանյան'!#REF!+Ն.Բադալյան!#REF!+Ս.Մխիթարյան!#REF!+Մ.Կիրակոսյան!#REF!+#REF!+#REF!) -> #REF! | AI35: =SUM('Ս. Մարդանյան'!#REF!+Ն.Բադալյան!#REF!+Ս.Մխիթարյան!#REF!+Մ.Կիրակոսյան!#REF!+#REF!+#REF!) -> #REF! | AJ35: =SUM('Ս. Մարդանյան'!#REF!+Ն.Բադալյան!#REF!+Ս.Մխիթարյան!#REF!+Մ.Կիրակոսյան!#REF!+#REF!+#REF!) -> #REF! | AK35: =SUM('Ս. Մարդանյան'!#REF!+Ն.Բադալյան!#REF!+Ս.Մխիթարյան!#REF!+Մ.Կիրակոսյան!#REF!+#REF!+#REF!) -> #REF! | AL35: =SUM('Ս. Մարդանյան'!#REF!+Ն.Բադալյան!#REF!+Ս.Մխիթարյան!#REF!+Մ.Կիրակոսյան!#REF!+#REF!+#REF!) -> #REF! | AM35: =SUM('Ս. Մարդանյան'!#REF!+Ն.Բադալյան!#REF!+Ս.Մխիթարյան!#REF!+Մ.Կիրակոսյան!#REF!+#REF!+#REF!) -> #REF! | AN35: =SUM('Ս. Մարդանյան'!#REF!+Ն.Բադալյան!#REF!+Ս.Մխիթարյան!#REF!+Մ.Կիրակոսյան!#REF!+#REF!+#REF!) -> #REF! | AO35: =SUM('Ս. Մարդանյան'!#REF!+Ն.Բադալյան!#REF!+Ս.Մխիթարյան!#REF!+Մ.Կիրակոսյան!#REF!+#REF!+#REF!) -> #REF!
A36: 2.6 | B36: Հակաիրավական ոտնձգություն կատարած անձին բռնելու համար անհրաժեշտ միջոցների սահմանազանցմամբ սպանությունը | C36: 160 | D36: =SUM('Ս. Մարդանյան'!D36+Ն.Բադալյան!D36+Ս.Մխիթարյան!D36+Մ.Կիրակոսյան!D36+#REF!+#REF!) -> #REF! | E36: =SUM('Ս. Մարդանյան'!E36+Ն.Բադալյան!E36+Ս.Մխիթարյան!E36+Մ.Կիրակոսյան!E36+#REF!+#REF!) -> #REF! | F36: =SUM('Ս. Մարդանյան'!F36+Ն.Բադալյան!F36+Ս.Մխիթարյան!F36+Մ.Կիրակոսյան!F36+#REF!+#REF!) -> #REF! | G36: =SUM('Ս. Մարդանյան'!G36+Ն.Բադալյան!G36+Ս.Մխիթարյան!G36+Մ.Կիրակոսյան!G36+#REF!+#REF!) -> #REF! | H36: =SUM('Ս. Մարդանյան'!H36+Ն.Բադալյան!H36+Ս.Մխիթարյան!H36+Մ.Կիրակոսյան!H36+#REF!+#REF!) -> #REF! | I36: =SUM('Ս. Մարդանյան'!I36+Ն.Բադալյան!I36+Ս.Մխիթարյան!I36+Մ.Կիրակոսյան!I36+#REF!+#REF!) -> #REF! | J36: =SUM('Ս. Մարդանյան'!J36+Ն.Բադալյան!J36+Ս.Մխիթարյան!J36+Մ.Կիրակոսյան!J36+#REF!+#REF!) -> #REF! | K36: =SUM('Ս. Մարդանյան'!K36+Ն.Բադալյան!K36+Ս.Մխիթարյան!K36+Մ.Կիրակոսյան!K36+#REF!+#REF!) -> #REF! | ... AG36: =SUM('Ս. Մարդանյան'!AG36+Ն.Բադալյան!AG36+Ս.Մխիթարյան!AG36+Մ.Կիրակոսյան!AG36+#REF!+#REF!) -> #REF! | AH36: =SUM('Ս. Մարդանյան'!#REF!+Ն.Բադալյան!#REF!+Ս.Մխիթարյան!#REF!+Մ.Կիրակոսյան!#REF!+#REF!+#REF!) -> #REF! | AI36: =SUM('Ս. Մարդանյան'!#REF!+Ն.Բադալյան!#REF!+Ս.Մխիթարյան!#REF!+Մ.Կիրակոսյան!#REF!+#REF!+#REF!) -> #REF! | AJ36: =SUM('Ս. Մարդանյան'!#REF!+Ն.Բադալյան!#REF!+Ս.Մխիթարյան!#REF!+Մ.Կիրակոսյան!#REF!+#REF!+#REF!) -> #REF! | AK36: =SUM('Ս. Մարդանյան'!#REF!+Ն.Բադալյան!#REF!+Ս.Մխիթարյան!#REF!+Մ.Կիրակոսյան!#REF!+#REF!+#REF!) -> #REF! | AL36: =SUM('Ս. Մարդանյան'!#REF!+Ն.Բադալյան!#REF!+Ս.Մխիթարյան!#REF!+Մ.Կիրակոսյան!#REF!+#REF!+#REF!) -> #REF! | AM36: =SUM('Ս. Մարդանյան'!#REF!+Ն.Բադալյան!#REF!+Ս.Մխիթարյան!#REF!+Մ.Կիրակոսյան!#REF!+#REF!+#REF!) -> #REF! | AN36: =SUM('Ս. Մարդանյան'!#REF!+Ն.Բադալյան!#REF!+Ս.Մխիթարյան!#REF!+Մ.Կիրակոսյան!#REF!+#REF!+#REF!) -> #REF! | AO36: =SUM('Ս. Մարդանյան'!#REF!+Ն.Բադալյան!#REF!+Ս.Մխիթարյան!#REF!+Մ.Կիրակոսյան!#REF!+#REF!+#REF!) -> #REF!
A37: 2.7 | B37: Տուժողի խնդրանքով սպանությունը | C37: 161 | D37: =SUM('Ս. Մարդանյան'!D37+Ն.Բադալյան!D37+Ս.Մխիթարյան!D37+Մ.Կիրակոսյան!D37+#REF!+#REF!) -> #REF! | E37: =SUM('Ս. Մարդանյան'!E37+Ն.Բադալյան!E37+Ս.Մխիթարյան!E37+Մ.Կիրակոսյան!E37+#REF!+#REF!) -> #REF! | F37: =SUM('Ս. Մարդանյան'!F37+Ն.Բադալյան!F37+Ս.Մխիթարյան!F37+Մ.Կիրակոսյան!F37+#REF!+#REF!) -> #REF! | G37: =SUM('Ս. Մարդանյան'!G37+Ն.Բադալյան!G37+Ս.Մխիթարյան!G37+Մ.Կիրակոսյան!G37+#REF!+#REF!) -> #REF! | H37: =SUM('Ս. Մարդանյան'!H37+Ն.Բադալյան!H37+Ս.Մխիթարյան!H37+Մ.Կիրակոսյան!H37+#REF!+#REF!) -> #REF! | I37: =SUM('Ս. Մարդանյան'!I37+Ն.Բադալյան!I37+Ս.Մխիթարյան!I37+Մ.Կիրակոսյան!I37+#REF!+#REF!) -> #REF! | J37: =SUM('Ս. Մարդանյան'!J37+Ն.Բադալյան!J37+Ս.Մխիթարյան!J37+Մ.Կիրակոսյան!J37+#REF!+#REF!) -> #REF! | K37: =SUM('Ս. Մարդանյան'!K37+Ն.Բադալյան!K37+Ս.Մխիթարյան!K37+Մ.Կիրակոսյան!K37+#REF!+#REF!) -> #REF! | ... AG37: =SUM('Ս. Մարդանյան'!AG37+Ն.Բադալյան!AG37+Ս.Մխիթարյան!AG37+Մ.Կիրակոսյան!AG37+#REF!+#REF!) -> #REF! | AH37: =SUM('Ս. Մարդանյան'!#REF!+Ն.Բադալյան!#REF!+Ս.Մխիթարյան!#REF!+Մ.Կիրակոսյան!#REF!+#REF!+#REF!) -> #REF! | AI37: =SUM('Ս. Մարդանյան'!#REF!+Ն.Բադալյան!#REF!+Ս.Մխիթարյան!#REF!+Մ.Կիրակոսյան!#REF!+#REF!+#REF!) -> #REF! | AJ37: =SUM('Ս. Մարդանյան'!#REF!+Ն.Բադալյան!#REF!+Ս.Մխիթարյան!#REF!+Մ.Կիրակոսյան!#REF!+#REF!+#REF!) -> #REF! | AK37: =SUM('Ս. Մարդանյան'!#REF!+Ն.Բադալյան!#REF!+Ս.Մխիթարյան!#REF!+Մ.Կիրակոսյան!#REF!+#REF!+#REF!) -> #REF! | AL37: =SUM('Ս. Մարդանյան'!#REF!+Ն.Բադալյան!#REF!+Ս.Մխիթարյան!#REF!+Մ.Կիրակոսյան!#REF!+#REF!+#REF!) -> #REF! | AM37: =SUM('Ս. Մարդանյան'!#REF!+Ն.Բադալյան!#REF!+Ս.Մխիթարյան!#REF!+Մ.Կիրակոսյան!#REF!+#REF!+#REF!) -> #REF! | AN37: =SUM('Ս. Մարդանյան'!#REF!+Ն.Բադալյան!#REF!+Ս.Մխիթարյան!#REF!+Մ.Կիրակոսյան!#REF!+#REF!+#REF!) -> #REF! | AO37: =SUM('Ս. Մարդանյան'!#REF!+Ն.Բադալյան!#REF!+Ս.Մխիթարյան!#REF!+Մ.Կիրակոսյան!#REF!+#REF!+#REF!) -> #REF!
A38: 2.8 | B38: Ինքնասպանության հասցնելը | C38: 162 | D38: =SUM('Ս. Մարդանյան'!D38+Ն.Բադալյան!D38+Ս.Մխիթարյան!D38+Մ.Կիրակոսյան!D38+#REF!+#REF!) -> #REF! | E38: =SUM('Ս. Մարդանյան'!E38+Ն.Բադալյան!E38+Ս.Մխիթարյան!E38+Մ.Կիրակոսյան!E38+#REF!+#REF!) -> #REF! | F38: =SUM('Ս. Մարդանյան'!F38+Ն.Բադալյան!F38+Ս.Մխիթարյան!F38+Մ.Կիրակոսյան!F38+#REF!+#REF!) -> #REF! | G38: =SUM('Ս. Մարդանյան'!G38+Ն.Բադալյան!G38+Ս.Մխիթարյան!G38+Մ.Կիրակոսյան!G38+#REF!+#REF!) -> #REF! | H38: =SUM('Ս. Մարդանյան'!H38+Ն.Բադալյան!H38+Ս.Մխիթարյան!H38+Մ.Կիրակոսյան!H38+#REF!+#REF!) -> #REF! | I38: =SUM('Ս. Մարդանյան'!I38+Ն.Բադալյան!I38+Ս.Մխիթարյան!I38+Մ.Կիրակոսյան!I38+#REF!+#REF!) -> #REF! | J38: =SUM('Ս. Մարդանյան'!J38+Ն.Բադալյան!J38+Ս.Մխիթարյան!J38+Մ.Կիրակոսյան!J38+#REF!+#REF!) -> #REF! | K38: =SUM('Ս. Մարդանյան'!K38+Ն.Բադալյան!K38+Ս.Մխիթարյան!K38+Մ.Կիրակոսյան!K38+#REF!+#REF!) -> #REF! | ... AG38: =SUM('Ս. Մարդանյան'!AG38+Ն.Բադալյան!AG38+Ս.Մխիթարյան!AG38+Մ.Կիրակոսյան!AG38+#REF!+#REF!) -> #REF! | AH38: =SUM('Ս. Մարդանյան'!#REF!+Ն.Բադալյան!#REF!+Ս.Մխիթարյան!#REF!+Մ.Կիրակոսյան!#REF!+#REF!+#REF!) -> #REF! | AI38: =SUM('Ս. Մարդանյան'!#REF!+Ն.Բադալյան!#REF!+Ս.Մխիթարյան!#REF!+Մ.Կիրակոսյան!#REF!+#REF!+#REF!) -> #REF! | AJ38: =SUM('Ս. Մարդանյան'!#REF!+Ն.Բադալյան!#REF!+Ս.Մխիթարյան!#REF!+Մ.Կիրակոսյան!#REF!+#REF!+#REF!) -> #REF! | AK38: =SUM('Ս. Մարդանյան'!#REF!+Ն.Բադալյան!#REF!+Ս.Մխիթարյան!#REF!+Մ.Կիրակոսյան!#REF!+#REF!+#REF!) -> #REF! | AL38: =SUM('Ս. Մարդանյան'!#REF!+Ն.Բադալյան!#REF!+Ս.Մխիթարյան!#REF!+Մ.Կիրակոսյան!#REF!+#REF!+#REF!) -> #REF! | AM38: =SUM('Ս. Մարդանյան'!#REF!+Ն.Բադալյան!#REF!+Ս.Մխիթարյան!#REF!+Մ.Կիրակոսյան!#REF!+#REF!+#REF!) -> #REF! | AN38: =SUM('Ս. Մարդանյան'!#REF!+Ն.Բադալյան!#REF!+Ս.Մխիթարյան!#REF!+Մ.Կիրակոսյան!#REF!+#REF!+#REF!) -> #REF! | AO38: =SUM('Ս. Մարդանյան'!#REF!+Ն.Բադալյան!#REF!+Ս.Մխիթարյան!#REF!+Մ.Կիրակոսյան!#REF!+#REF!+#REF!) -> #REF!
A39: 2.9 | B39: Ինքնասպանության հակելը | C39: 163 | D39: =SUM('Ս. Մարդանյան'!D39+Ն.Բադալյան!D39+Ս.Մխիթարյան!D39+Մ.Կիրակոսյան!D39+#REF!+#REF!) -> #REF! | E39: =SUM('Ս. Մարդանյան'!E39+Ն.Բադալյան!E39+Ս.Մխիթարյան!E39+Մ.Կիրակոսյան!E39+#REF!+#REF!) -> #REF! | F39: =SUM('Ս. Մարդանյան'!F39+Ն.Բադալյան!F39+Ս.Մխիթարյան!F39+Մ.Կիրակոսյան!F39+#REF!+#REF!) -> #REF! | G39: =SUM('Ս. Մարդանյան'!G39+Ն.Բադալյան!G39+Ս.Մխիթարյան!G39+Մ.Կիրակոսյան!G39+#REF!+#REF!) -> #REF! | H39: =SUM('Ս. Մարդանյան'!H39+Ն.Բադալյան!H39+Ս.Մխիթարյան!H39+Մ.Կիրակոսյան!H39+#REF!+#REF!) -> #REF! | I39: =SUM('Ս. Մարդանյան'!I39+Ն.Բադալյան!I39+Ս.Մխիթարյան!I39+Մ.Կիրակոսյան!I39+#REF!+#REF!) -> #REF! | J39: =SUM('Ս. Մարդանյան'!J39+Ն.Բադալյան!J39+Ս.Մխիթարյան!J39+Մ.Կիրակոսյան!J39+#REF!+#REF!) -> #REF! | K39: =SUM('Ս. Մարդանյան'!K39+Ն.Բադալյան!K39+Ս.Մխիթարյան!K39+Մ.Կիրակոսյան!K39+#REF!+#REF!) -> #REF! | ... AG39: =SUM('Ս. Մարդանյան'!AG39+Ն.Բադալյան!AG39+Ս.Մխիթարյան!AG39+Մ.Կիրակոսյան!AG39+#REF!+#REF!) -> #REF! | AH39: =SUM('Ս. Մարդանյան'!#REF!+Ն.Բադալյան!#REF!+Ս.Մխիթարյան!#REF!+Մ.Կիրակոսյան!#REF!+#REF!+#REF!) -> #REF! | AI39: =SUM('Ս. Մարդանյան'!#REF!+Ն.Բադալյան!#REF!+Ս.Մխիթարյան!#REF!+Մ.Կիրակոսյան!#REF!+#REF!+#REF!) -> #REF! | AJ39: =SUM('Ս. Մարդանյան'!#REF!+Ն.Բադալյան!#REF!+Ս.Մխիթարյան!#REF!+Մ.Կիրակոսյան!#REF!+#REF!+#REF!) -> #REF! | AK39: =SUM('Ս. Մարդանյան'!#REF!+Ն.Բադալյան!#REF!+Ս.Մխիթարյան!#REF!+Մ.Կիրակոսյան!#REF!+#REF!+#REF!) -> #REF! | AL39: =SUM('Ս. Մարդանյան'!#REF!+Ն.Բադալյան!#REF!+Ս.Մխիթարյան!#REF!+Մ.Կիրակոսյան!#REF!+#REF!+#REF!) -> #REF! | AM39: =SUM('Ս. Մարդանյան'!#REF!+Ն.Բադալյան!#REF!+Ս.Մխիթարյան!#REF!+Մ.Կիրակոսյան!#REF!+#REF!+#REF!) -> #REF! | AN39: =SUM('Ս. Մարդանյան'!#REF!+Ն.Բադալյան!#REF!+Ս.Մխիթարյան!#REF!+Մ.Կիրակոսյան!#REF!+#REF!+#REF!) -> #REF! | AO39: =SUM('Ս. Մարդանյան'!#REF!+Ն.Բադալյան!#REF!+Ս.Մխիթարյան!#REF!+Մ.Կիրակոսյան!#REF!+#REF!+#REF!) -> #REF!
A40: 2.10 | B40: Ինքնասպանությանը նպաստելը | C40: 164 | D40: =SUM('Ս. Մարդանյան'!D40+Ն.Բադալյան!D40+Ս.Մխիթարյան!D40+Մ.Կիրակոսյան!D40+#REF!+#REF!) -> #REF! | E40: =SUM('Ս. Մարդանյան'!E40+Ն.Բադալյան!E40+Ս.Մխիթարյան!E40+Մ.Կիրակոսյան!E40+#REF!+#REF!) -> #REF! | F40: =SUM('Ս. Մարդանյան'!F40+Ն.Բադալյան!F40+Ս.Մխիթարյան!F40+Մ.Կիրակոսյան!F40+#REF!+#REF!) -> #REF! | G40: =SUM('Ս. Մարդանյան'!G40+Ն.Բադալյան!G40+Ս.Մխիթարյան!G40+Մ.Կիրակոսյան!G40+#REF!+#REF!) -> #REF! | H40: =SUM('Ս. Մարդանյան'!H40+Ն.Բադալյան!H40+Ս.Մխիթարյան!H40+Մ.Կիրակոսյան!H40+#REF!+#REF!) -> #REF! | I40: =SUM('Ս. Մարդանյան'!I40+Ն.Բադալյան!I40+Ս.Մխիթարյան!I40+Մ.Կիրակոսյան!I40+#REF!+#REF!) -> #REF! | J40: =SUM('Ս. Մարդանյան'!J40+Ն.Բադալյան!J40+Ս.Մխիթարյան!J40+Մ.Կիրակոսյան!J40+#REF!+#REF!) -> #REF! | K40: =SUM('Ս. Մարդանյան'!K40+Ն.Բադալյան!K40+Ս.Մխիթարյան!K40+Մ.Կիրակոսյան!K40+#REF!+#REF!) -> #REF! | ... AG40: =SUM('Ս. Մարդանյան'!AG40+Ն.Բադալյան!AG40+Ս.Մխիթարյան!AG40+Մ.Կիրակոսյան!AG40+#REF!+#REF!) -> #REF! | AH40: =SUM('Ս. Մարդանյան'!#REF!+Ն.Բադալյան!#REF!+Ս.Մխիթարյան!#REF!+Մ.Կիրակոսյան!#REF!+#REF!+#REF!) -> #REF! | AI40: =SUM('Ս. Մարդանյան'!#REF!+Ն.Բադալյան!#REF!+Ս.Մխիթարյան!#REF!+Մ.Կիրակոսյան!#REF!+#REF!+#REF!) -> #REF! | AJ40: =SUM('Ս. Մարդանյան'!#REF!+Ն.Բադալյան!#REF!+Ս.Մխիթարյան!#REF!+Մ.Կիրակոսյան!#REF!+#REF!+#REF!) -> #REF! | AK40: =SUM('Ս. Մարդանյան'!#REF!+Ն.Բադալյան!#REF!+Ս.Մխիթարյան!#REF!+Մ.Կիրակոսյան!#REF!+#REF!+#REF!) -> #REF! | AL40: =SUM('Ս. Մարդանյան'!#REF!+Ն.Բադալյան!#REF!+Ս.Մխիթարյան!#REF!+Մ.Կիրակոսյան!#REF!+#REF!+#REF!) -> #REF! | AM40: =SUM('Ս. Մարդանյան'!#REF!+Ն.Բադալյան!#REF!+Ս.Մխիթարյան!#REF!+Մ.Կիրակոսյան!#REF!+#REF!+#REF!) -> #REF! | AN40: =SUM('Ս. Մարդանյան'!#REF!+Ն.Բադալյան!#REF!+Ս.Մխիթարյան!#REF!+Մ.Կիրակոսյան!#REF!+#REF!+#REF!) -> #REF! | AO40: =SUM('Ս. Մարդանյան'!#REF!+Ն.Բադալյան!#REF!+Ս.Մխիթարյան!#REF!+Մ.Կիրակոսյան!#REF!+#REF!+#REF!) -> #REF!
A41: 2.11 | B41: Անզգուշությամբ կյանքից զրկելը | C41: 165 | D41: =SUM('Ս. Մարդանյան'!D41+Ն.Բադալյան!D41+Ս.Մխիթարյան!D41+Մ.Կիրակոսյան!D41+#REF!+#REF!) -> #REF! | E41: =SUM('Ս. Մարդանյան'!E41+Ն.Բադալյան!E41+Ս.Մխիթարյան!E41+Մ.Կիրակոսյան!E41+#REF!+#REF!) -> #REF! | F41: =SUM('Ս. Մարդանյան'!F41+Ն.Բադալյան!F41+Ս.Մխիթարյան!F41+Մ.Կիրակոսյան!F41+#REF!+#REF!) -> #REF! | G41: =SUM('Ս. Մարդանյան'!G41+Ն.Բադալյան!G41+Ս.Մխիթարյան!G41+Մ.Կիրակոսյան!G41+#REF!+#REF!) -> #REF! | H41: =SUM('Ս. Մարդանյան'!H41+Ն.Բադալյան!H41+Ս.Մխիթարյան!H41+Մ.Կիրակոսյան!H41+#REF!+#REF!) -> #REF! | I41: =SUM('Ս. Մարդանյան'!I41+Ն.Բադալյան!I41+Ս.Մխիթարյան!I41+Մ.Կիրակոսյան!I41+#REF!+#REF!) -> #REF! | J41: =SUM('Ս. Մարդանյան'!J41+Ն.Բադալյան!J41+Ս.Մխիթարյան!J41+Մ.Կիրակոսյան!J41+#REF!+#REF!) -> #REF! | K41: =SUM('Ս. Մարդանյան'!K41+Ն.Բադալյան!K41+Ս.Մխիթարյան!K41+Մ.Կիրակոսյան!K41+#REF!+#REF!) -> #REF! | ... AG41: =SUM('Ս. Մարդանյան'!AG41+Ն.Բադալյան!AG41+Ս.Մխիթարյան!AG41+Մ.Կիրակոսյան!AG41+#REF!+#REF!) -> #REF! | AH41: =SUM('Ս. Մարդանյան'!#REF!+Ն.Բադալյան!#REF!+Ս.Մխիթարյան!#REF!+Մ.Կիրակոսյան!#REF!+#REF!+#REF!) -> #REF! | AI41: =SUM('Ս. Մարդանյան'!#REF!+Ն.Բադալյան!#REF!+Ս.Մխիթարյան!#REF!+Մ.Կիրակոսյան!#REF!+#REF!+#REF!) -> #REF! | AJ41: =SUM('Ս. Մարդանյան'!#REF!+Ն.Բադալյան!#REF!+Ս.Մխիթարյան!#REF!+Մ.Կիրակոսյան!#REF!+#REF!+#REF!) -> #REF! | AK41: =SUM('Ս. Մարդանյան'!#REF!+Ն.Բադալյան!#REF!+Ս.Մխիթարյան!#REF!+Մ.Կիրակոսյան!#REF!+#REF!+#REF!) -> #REF! | AL41: =SUM('Ս. Մարդանյան'!#REF!+Ն.Բադալյան!#REF!+Ս.Մխիթարյան!#REF!+Մ.Կիրակոսյան!#REF!+#REF!+#REF!) -> #REF! | AM41: =SUM('Ս. Մարդանյան'!#REF!+Ն.Բադալյան!#REF!+Ս.Մխիթարյան!#REF!+Մ.Կիրակոսյան!#REF!+#REF!+#REF!) -> #REF! | AN41: =SUM('Ս. Մարդանյան'!#REF!+Ն.Բադալյան!#REF!+Ս.Մխիթարյան!#REF!+Մ.Կիրակոսյան!#REF!+#REF!+#REF!) -> #REF! | AO41: =SUM('Ս. Մարդանյան'!#REF!+Ն.Բադալյան!#REF!+Ս.Մխիթարյան!#REF!+Մ.Կիրակոսյան!#REF!+#REF!+#REF!) -> #REF!
A42: 3. | B42: Ընդհամենը ռողջության դեմ ուղղված հանցագործությունները | D42: =SUM('Ս. Մարդանյան'!D42+Ն.Բադալյան!D42+Ս.Մխիթարյան!D42+Մ.Կիրակոսյան!D42+#REF!+#REF!) -> #REF! | E42: =SUM('Ս. Մարդանյան'!E42+Ն.Բադալյան!E42+Ս.Մխիթարյան!E42+Մ.Կիրակոսյան!E42+#REF!+#REF!) -> #REF! | F42: =SUM('Ս. Մարդանյան'!F42+Ն.Բադալյան!F42+Ս.Մխիթարյան!F42+Մ.Կիրակոսյան!F42+#REF!+#REF!) -> #REF! | G42: =SUM('Ս. Մարդանյան'!G42+Ն.Բադալյան!G42+Ս.Մխիթարյան!G42+Մ.Կիրակոսյան!G42+#REF!+#REF!) -> #REF! | H42: =SUM('Ս. Մարդանյան'!H42+Ն.Բադալյան!H42+Ս.Մխիթարյան!H42+Մ.Կիրակոսյան!H42+#REF!+#REF!) -> #REF! | I42: =SUM('Ս. Մարդանյան'!I42+Ն.Բադալյան!I42+Ս.Մխիթարյան!I42+Մ.Կիրակոսյան!I42+#REF!+#REF!) -> #REF! | J42: =SUM('Ս. Մարդանյան'!J42+Ն.Բադալյան!J42+Ս.Մխիթարյան!J42+Մ.Կիրակոսյան!J42+#REF!+#REF!) -> #REF! | K42: =SUM('Ս. Մարդանյան'!K42+Ն.Բադալյան!K42+Ս.Մխիթարյան!K42+Մ.Կիրակոսյան!K42+#REF!+#REF!) -> #REF! | ... AG42: =SUM('Ս. Մարդանյան'!AG42+Ն.Բադալյան!AG42+Ս.Մխիթարյան!AG42+Մ.Կիրակոսյան!AG42+#REF!+#REF!) -> #REF! | AH42: =SUM('Ս. Մարդանյան'!#REF!+Ն.Բադալյան!#REF!+Ս.Մխիթարյան!#REF!+Մ.Կիրակոսյան!#REF!+#REF!+#REF!) -> #REF! | AI42: =SUM('Ս. Մարդանյան'!#REF!+Ն.Բադալյան!#REF!+Ս.Մխիթարյան!#REF!+Մ.Կիրակոսյան!#REF!+#REF!+#REF!) -> #REF! | AJ42: =SUM('Ս. Մարդանյան'!#REF!+Ն.Բադալյան!#REF!+Ս.Մխիթարյան!#REF!+Մ.Կիրակոսյան!#REF!+#REF!+#REF!) -> #REF! | AK42: =SUM('Ս. Մարդանյան'!#REF!+Ն.Բադալյան!#REF!+Ս.Մխիթարյան!#REF!+Մ.Կիրակոսյան!#REF!+#REF!+#REF!) -> #REF! | AL42: =SUM('Ս. Մարդանյան'!#REF!+Ն.Բադալյան!#REF!+Ս.Մխիթարյան!#REF!+Մ.Կիրակոսյան!#REF!+#REF!+#REF!) -> #REF! | AM42: =SUM('Ս. Մարդանյան'!#REF!+Ն.Բադալյան!#REF!+Ս.Մխիթարյան!#REF!+Մ.Կիրակոսյան!#REF!+#REF!+#REF!) -> #REF! | AN42: =SUM('Ս. Մարդանյան'!#REF!+Ն.Բադալյան!#REF!+Ս.Մխիթարյան!#REF!+Մ.Կիրակոսյան!#REF!+#REF!+#REF!) -> #REF! | AO42: =SUM('Ս. Մարդանյան'!#REF!+Ն.Բադալյան!#REF!+Ս.Մխիթարյան!#REF!+Մ.Կիրակոսյան!#REF!+#REF!+#REF!) -> #REF!
A43: 3.1 | B43: Առողջությանը ծանր վնաս պատճառելը | C43: 166 | D43: =SUM('Ս. Մարդանյան'!D43+Ն.Բադալյան!D43+Ս.Մխիթարյան!D43+Մ.Կիրակոսյան!D43+#REF!+#REF!) -> #REF! | E43: =SUM('Ս. Մարդանյան'!E43+Ն.Բադալյան!E43+Ս.Մխիթարյան!E43+Մ.Կիրակոսյան!E43+#REF!+#REF!) -> #REF! | F43: =SUM('Ս. Մարդանյան'!F43+Ն.Բադալյան!F43+Ս.Մխիթարյան!F43+Մ.Կիրակոսյան!F43+#REF!+#REF!) -> #REF! | G43: =SUM('Ս. Մարդանյան'!G43+Ն.Բադալյան!G43+Ս.Մխիթարյան!G43+Մ.Կիրակոսյան!G43+#REF!+#REF!) -> #REF! | H43: =SUM('Ս. Մարդանյան'!H43+Ն.Բադալյան!H43+Ս.Մխիթարյան!H43+Մ.Կիրակոսյան!H43+#REF!+#REF!) -> #REF! | I43: =SUM('Ս. Մարդանյան'!I43+Ն.Բադալյան!I43+Ս.Մխիթարյան!I43+Մ.Կիրակոսյան!I43+#REF!+#REF!) -> #REF! | J43: =SUM('Ս. Մարդանյան'!J43+Ն.Բադալյան!J43+Ս.Մխիթարյան!J43+Մ.Կիրակոսյան!J43+#REF!+#REF!) -> #REF! | K43: =SUM('Ս. Մարդանյան'!K43+Ն.Բադալյան!K43+Ս.Մխիթարյան!K43+Մ.Կիրակոսյան!K43+#REF!+#REF!) -> #REF! | ... AG43: =SUM('Ս. Մարդանյան'!AG43+Ն.Բադալյան!AG43+Ս.Մխիթարյան!AG43+Մ.Կիրակոսյան!AG43+#REF!+#REF!) -> #REF! | AH43: =SUM('Ս. Մարդանյան'!#REF!+Ն.Բադալյան!#REF!+Ս.Մխիթարյան!#REF!+Մ.Կիրակոսյան!#REF!+#REF!+#REF!) -> #REF! | AI43: =SUM('Ս. Մարդանյան'!#REF!+Ն.Բադալյան!#REF!+Ս.Մխիթարյան!#REF!+Մ.Կիրակոսյան!#REF!+#REF!+#REF!) -> #REF! | AJ43: =SUM('Ս. Մարդանյան'!#REF!+Ն.Բադալյան!#REF!+Ս.Մխիթարյան!#REF!+Մ.Կիրակոսյան!#REF!+#REF!+#REF!) -> #REF! | AK43: =SUM('Ս. Մարդանյան'!#REF!+Ն.Բադալյան!#REF!+Ս.Մխիթարյան!#REF!+Մ.Կիրակոսյան!#REF!+#REF!+#REF!) -> #REF! | AL43: =SUM('Ս. Մարդանյան'!#REF!+Ն.Բադալյան!#REF!+Ս.Մխիթարյան!#REF!+Մ.Կիրակոսյան!#REF!+#REF!+#REF!) -> #REF! | AM43: =SUM('Ս. Մարդանյան'!#REF!+Ն.Բադալյան!#REF!+Ս.Մխիթարյան!#REF!+Մ.Կիրակոսյան!#REF!+#REF!+#REF!) -> #REF! | AN43: =SUM('Ս. Մարդանյան'!#REF!+Ն.Բադալյան!#REF!+Ս.Մխիթարյան!#REF!+Մ.Կիրակոսյան!#REF!+#REF!+#REF!) -> #REF! | AO43: =SUM('Ս. Մարդանյան'!#REF!+Ն.Բադալյան!#REF!+Ս.Մխիթարյան!#REF!+Մ.Կիրակոսյան!#REF!+#REF!+#REF!) -> #REF!
A44: 3.2 | B44: Առողջությանը միջին ծանրության վնաս պատճառելը | C44: 167 | D44: =SUM('Ս. Մարդանյան'!D44+Ն.Բադալյան!D44+Ս.Մխիթարյան!D44+Մ.Կիրակոսյան!D44+#REF!+#REF!) -> #REF! | E44: =SUM('Ս. Մարդանյան'!E44+Ն.Բադալյան!E44+Ս.Մխիթարյան!E44+Մ.Կիրակոսյան!E44+#REF!+#REF!) -> #REF! | F44: =SUM('Ս. Մարդանյան'!F44+Ն.Բադալյան!F44+Ս.Մխիթարյան!F44+Մ.Կիրակոսյան!F44+#REF!+#REF!) -> #REF! | G44: =SUM('Ս. Մարդանյան'!G44+Ն.Բադալյան!G44+Ս.Մխիթարյան!G44+Մ.Կիրակոսյան!G44+#REF!+#REF!) -> #REF! | H44: =SUM('Ս. Մարդանյան'!H44+Ն.Բադալյան!H44+Ս.Մխիթարյան!H44+Մ.Կիրակոսյան!H44+#REF!+#REF!) -> #REF! | I44: =SUM('Ս. Մարդանյան'!I44+Ն.Բադալյան!I44+Ս.Մխիթարյան!I44+Մ.Կիրակոսյան!I44+#REF!+#REF!) -> #REF! | J44: =SUM('Ս. Մարդանյան'!J44+Ն.Բադալյան!J44+Ս.Մխիթարյան!J44+Մ.Կիրակոսյան!J44+#REF!+#REF!) -> #REF! | K44: =SUM('Ս. Մարդանյան'!K44+Ն.Բադալյան!K44+Ս.Մխիթարյան!K44+Մ.Կիրակոսյան!K44+#REF!+#REF!) -> #REF! | ... AG44: =SUM('Ս. Մարդանյան'!AG44+Ն.Բադալյան!AG44+Ս.Մխիթարյան!AG44+Մ.Կիրակոսյան!AG44+#REF!+#REF!) -> #REF! | AH44: =SUM('Ս. Մարդանյան'!#REF!+Ն.Բադալյան!#REF!+Ս.Մխիթարյան!#REF!+Մ.Կիրակոսյան!#REF!+#REF!+#REF!) -> #REF! | AI44: =SUM('Ս. Մարդանյան'!#REF!+Ն.Բադալյան!#REF!+Ս.Մխիթարյան!#REF!+Մ.Կիրակոսյան!#REF!+#REF!+#REF!) -> #REF! | AJ44: =SUM('Ս. Մարդանյան'!#REF!+Ն.Բադալյան!#REF!+Ս.Մխիթարյան!#REF!+Մ.Կիրակոսյան!#REF!+#REF!+#REF!) -> #REF! | AK44: =SUM('Ս. Մարդանյան'!#REF!+Ն.Բադալյան!#REF!+Ս.Մխիթարյան!#REF!+Մ.Կիրակոսյան!#REF!+#REF!+#REF!) -> #REF! | AL44: =SUM('Ս. Մարդանյան'!#REF!+Ն.Բադալյան!#REF!+Ս.Մխիթարյան!#REF!+Մ.Կիրակոսյան!#REF!+#REF!+#REF!) -> #REF! | AM44: =SUM('Ս. Մարդանյան'!#REF!+Ն.Բադալյան!#REF!+Ս.Մխիթարյան!#REF!+Մ.Կիրակոսյան!#REF!+#REF!+#REF!) -> #REF! | AN44: =SUM('Ս. Մարդանյան'!#REF!+Ն.Բադալյան!#REF!+Ս.Մխիթարյան!#REF!+Մ.Կիրակոսյան!#REF!+#REF!+#REF!) -> #REF! | AO44: =SUM('Ս. Մարդանյան'!#REF!+Ն.Բադալյան!#REF!+Ս.Մխիթարյան!#REF!+Մ.Կիրակոսյան!#REF!+#REF!+#REF!) -> #REF!
A45: 3.3 | B45: Առողջությանը ծանր կամ միջին ծանրության վնաս պատճառելը հոգեկան խիստ հուզմունքի վիճակում | C45: 168 | D45: =SUM('Ս. Մարդանյան'!D45+Ն.Բադալյան!D45+Ս.Մխիթարյան!D45+Մ.Կիրակոսյան!D45+#REF!+#REF!) -> #REF! | E45: =SUM('Ս. Մարդանյան'!E45+Ն.Բադալյան!E45+Ս.Մխիթարյան!E45+Մ.Կիրակոսյան!E45+#REF!+#REF!) -> #REF! | F45: =SUM('Ս. Մարդանյան'!F45+Ն.Բադալյան!F45+Ս.Մխիթարյան!F45+Մ.Կիրակոսյան!F45+#REF!+#REF!) -> #REF! | G45: =SUM('Ս. Մարդանյան'!G45+Ն.Բադալյան!G45+Ս.Մխիթարյան!G45+Մ.Կիրակոսյան!G45+#REF!+#REF!) -> #REF! | H45: =SUM('Ս. Մարդանյան'!H45+Ն.Բադալյան!H45+Ս.Մխիթարյան!H45+Մ.Կիրակոսյան!H45+#REF!+#REF!) -> #REF! | I45: =SUM('Ս. Մարդանյան'!I45+Ն.Բադալյան!I45+Ս.Մխիթարյան!I45+Մ.Կիրակոսյան!I45+#REF!+#REF!) -> #REF! | J45: =SUM('Ս. Մարդանյան'!J45+Ն.Բադալյան!J45+Ս.Մխիթարյան!J45+Մ.Կիրակոսյան!J45+#REF!+#REF!) -> #REF! | K45: =SUM('Ս. Մարդանյան'!K45+Ն.Բադալյան!K45+Ս.Մխիթարյան!K45+Մ.Կիրակոսյան!K45+#REF!+#REF!) -> #REF! | ... AG45: =SUM('Ս. Մարդանյան'!AG45+Ն.Բադալյան!AG45+Ս.Մխիթարյան!AG45+Մ.Կիրակոսյան!AG45+#REF!+#REF!) -> #REF! | AH45: =SUM('Ս. Մարդանյան'!#REF!+Ն.Բադալյան!#REF!+Ս.Մխիթարյան!#REF!+Մ.Կիրակոսյան!#REF!+#REF!+#REF!) -> #REF! | AI45: =SUM('Ս. Մարդանյան'!#REF!+Ն.Բադալյան!#REF!+Ս.Մխիթարյան!#REF!+Մ.Կիրակոսյան!#REF!+#REF!+#REF!) -> #REF! | AJ45: =SUM('Ս. Մարդանյան'!#REF!+Ն.Բադալյան!#REF!+Ս.Մխիթարյան!#REF!+Մ.Կիրակոսյան!#REF!+#REF!+#REF!) -> #REF! | AK45: =SUM('Ս. Մարդանյան'!#REF!+Ն.Բադալյան!#REF!+Ս.Մխիթարյան!#REF!+Մ.Կիրակոսյան!#REF!+#REF!+#REF!) -> #REF! | AL45: =SUM('Ս. Մարդանյան'!#REF!+Ն.Բադալյան!#REF!+Ս.Մխիթարյան!#REF!+Մ.Կիրակոսյան!#REF!+#REF!+#REF!) -> #REF! | AM45: =SUM('Ս. Մարդանյան'!#REF!+Ն.Բադալյան!#REF!+Ս.Մխիթարյան!#REF!+Մ.Կիրակոսյան!#REF!+#REF!+#REF!) -> #REF! | AN45: =SUM('Ս. Մարդանյան'!#REF!+Ն.Բադալյան!#REF!+Ս.Մխիթարյան!#REF!+Մ.Կիրակոսյան!#REF!+#REF!+#REF!) -> #REF! | AO45: =SUM('Ս. Մարդանյան'!#REF!+Ն.Բադալյան!#REF!+Ս.Մխիթարյան!#REF!+Մ.Կիրակոսյան!#REF!+#REF!+#REF!) -> #REF!
A46: 3.4 | B46: Առողջությանը ծանր կամ միջին ծանրության վնաս պատճառելը hակաիրավական ոտնձգություն կատարած անձին բռնելու համար անհրաժեշտ միջոցների սահմանազանցմամբ | C46: 169 | D46: =SUM('Ս. Մարդանյան'!D46+Ն.Բադալյան!D46+Ս.Մխիթարյան!D46+Մ.Կիրակոսյան!D46+#REF!+#REF!) -> #REF! | E46: =SUM('Ս. Մարդանյան'!E46+Ն.Բադալյան!E46+Ս.Մխիթարյան!E46+Մ.Կիրակոսյան!E46+#REF!+#REF!) -> #REF! | F46: =SUM('Ս. Մարդանյան'!F46+Ն.Բադալյան!F46+Ս.Մխիթարյան!F46+Մ.Կիրակոսյան!F46+#REF!+#REF!) -> #REF! | G46: =SUM('Ս. Մարդանյան'!G46+Ն.Բադալյան!G46+Ս.Մխիթարյան!G46+Մ.Կիրակոսյան!G46+#REF!+#REF!) -> #REF! | H46: =SUM('Ս. Մարդանյան'!H46+Ն.Բադալյան!H46+Ս.Մխիթարյան!H46+Մ.Կիրակոսյան!H46+#REF!+#REF!) -> #REF! | I46: =SUM('Ս. Մարդանյան'!I46+Ն.Բադալյան!I46+Ս.Մխիթարյան!I46+Մ.Կիրակոսյան!I46+#REF!+#REF!) -> #REF! | J46: =SUM('Ս. Մարդանյան'!J46+Ն.Բադալյան!J46+Ս.Մխիթարյան!J46+Մ.Կիրակոսյան!J46+#REF!+#REF!) -> #REF! | K46: =SUM('Ս. Մարդանյան'!K46+Ն.Բադալյան!K46+Ս.Մխիթարյան!K46+Մ.Կիրակոսյան!K46+#REF!+#REF!) -> #REF! | ... AG46: =SUM('Ս. Մարդանյան'!AG46+Ն.Բադալյան!AG46+Ս.Մխիթարյան!AG46+Մ.Կիրակոսյան!AG46+#REF!+#REF!) -> #REF! | AH46: =SUM('Ս. Մարդանյան'!#REF!+Ն.Բադալյան!#REF!+Ս.Մխիթարյան!#REF!+Մ.Կիրակոսյան!#REF!+#REF!+#REF!) -> #REF! | AI46: =SUM('Ս. Մարդանյան'!#REF!+Ն.Բադալյան!#REF!+Ս.Մխիթարյան!#REF!+Մ.Կիրակոսյան!#REF!+#REF!+#REF!) -> #REF! | AJ46: =SUM('Ս. Մարդանյան'!#REF!+Ն.Բադալյան!#REF!+Ս.Մխիթարյան!#REF!+Մ.Կիրակոսյան!#REF!+#REF!+#REF!) -> #REF! | AK46: =SUM('Ս. Մարդանյան'!#REF!+Ն.Բադալյան!#REF!+Ս.Մխիթարյան!#REF!+Մ.Կիրակոսյան!#REF!+#REF!+#REF!) -> #REF! | AL46: =SUM('Ս. Մարդանյան'!#REF!+Ն.Բադալյան!#REF!+Ս.Մխիթարյան!#REF!+Մ.Կիրակոսյան!#REF!+#REF!+#REF!) -> #REF! | AM46: =SUM('Ս. Մարդանյան'!#REF!+Ն.Բադալյան!#REF!+Ս.Մխիթարյան!#REF!+Մ.Կիրակոսյան!#REF!+#REF!+#REF!) -> #REF! | AN46: =SUM('Ս. Մարդանյան'!#REF!+Ն.Բադալյան!#REF!+Ս.Մխիթարյան!#REF!+Մ.Կիրակոսյան!#REF!+#REF!+#REF!) -> #REF! | AO46: =SUM('Ս. Մարդանյան'!#REF!+Ն.Բադալյան!#REF!+Ս.Մխիթարյան!#REF!+Մ.Կիրակոսյան!#REF!+#REF!+#REF!) -> #REF!
A47: 3.5 | B47: Առողջությանը ծանր կամ միջին ծանրության վնաս պատճառելն անհրաժեշտ պաշտպանության սահմանազանցմամբ | C47: 170 | D47: =SUM('Ս. Մարդանյան'!D47+Ն.Բադալյան!D47+Ս.Մխիթարյան!D47+Մ.Կիրակոսյան!D47+#REF!+#REF!) -> #REF! | E47: =SUM('Ս. Մարդանյան'!E47+Ն.Բադալյան!E47+Ս.Մխիթարյան!E47+Մ.Կիրակոսյան!E47+#REF!+#REF!) -> #REF! | F47: =SUM('Ս. Մարդանյան'!F47+Ն.Բադալյան!F47+Ս.Մխիթարյան!F47+Մ.Կիրակոսյան!F47+#REF!+#REF!) -> #REF! | G47: =SUM('Ս. Մարդանյան'!G47+Ն.Բադալյան!G47+Ս.Մխիթարյան!G47+Մ.Կիրակոսյան!G47+#REF!+#REF!) -> #REF! | H47: =SUM('Ս. Մարդանյան'!H47+Ն.Բադալյան!H47+Ս.Մխիթարյան!H47+Մ.Կիրակոսյան!H47+#REF!+#REF!) -> #REF! | I47: =SUM('Ս. Մարդանյան'!I47+Ն.Բադալյան!I47+Ս.Մխիթարյան!I47+Մ.Կիրակոսյան!I47+#REF!+#REF!) -> #REF! | J47: =SUM('Ս. Մարդանյան'!J47+Ն.Բադալյան!J47+Ս.Մխիթարյան!J47+Մ.Կիրակոսյան!J47+#REF!+#REF!) -> #REF! | K47: =SUM('Ս. Մարդանյան'!K47+Ն.Բադալյան!K47+Ս.Մխիթարյան!K47+Մ.Կիրակոսյան!K47+#REF!+#REF!) -> #REF! | ... AG47: =SUM('Ս. Մարդանյան'!AG47+Ն.Բադալյան!AG47+Ս.Մխիթարյան!AG47+Մ.Կիրակոսյան!AG47+#REF!+#REF!) -> #REF! | AH47: =SUM('Ս. Մարդանյան'!#REF!+Ն.Բադալյան!#REF!+Ս.Մխիթարյան!#REF!+Մ.Կիրակոսյան!#REF!+#REF!+#REF!) -> #REF! | AI47: =SUM('Ս. Մարդանյան'!#REF!+Ն.Բադալյան!#REF!+Ս.Մխիթարյան!#REF!+Մ.Կիրակոսյան!#REF!+#REF!+#REF!) -> #REF! | AJ47: =SUM('Ս. Մարդանյան'!#REF!+Ն.Բադալյան!#REF!+Ս.Մխիթարյան!#REF!+Մ.Կիրակոսյան!#REF!+#REF!+#REF!) -> #REF! | AK47: =SUM('Ս. Մարդանյան'!#REF!+Ն.Բադալյան!#REF!+Ս.Մխիթարյան!#REF!+Մ.Կիրակոսյան!#REF!+#REF!+#REF!) -> #REF! | AL47: =SUM('Ս. Մարդանյան'!#REF!+Ն.Բադալյան!#REF!+Ս.Մխիթարյան!#REF!+Մ.Կիրակոսյան!#REF!+#REF!+#REF!) -> #REF! | AM47: =SUM('Ս. Մարդանյան'!#REF!+Ն.Բադալյան!#REF!+Ս.Մխիթարյան!#REF!+Մ.Կիրակոսյան!#REF!+#REF!+#REF!) -> #REF! | AN47: =SUM('Ս. Մարդանյան'!#REF!+Ն.Բադալյան!#REF!+Ս.Մխիթարյան!#REF!+Մ.Կիրակոսյան!#REF!+#REF!+#REF!) -> #REF! | AO47: =SUM('Ս. Մարդանյան'!#REF!+Ն.Բադալյան!#REF!+Ս.Մխիթարյան!#REF!+Մ.Կիրակոսյան!#REF!+#REF!+#REF!) -> #REF!
A48: 3.6 | B48: Առողջությանը թեթև վնաս պատճառելը | C48: 171 | D48: =SUM('Ս. Մարդանյան'!D48+Ն.Բադալյան!D48+Ս.Մխիթարյան!D48+Մ.Կիրակոսյան!D48+#REF!+#REF!) -> #REF! | E48: =SUM('Ս. Մարդանյան'!E48+Ն.Բադալյան!E48+Ս.Մխիթարյան!E48+Մ.Կիրակոսյան!E48+#REF!+#REF!) -> #REF! | F48: =SUM('Ս. Մարդանյան'!F48+Ն.Բադալյան!F48+Ս.Մխիթարյան!F48+Մ.Կիրակոսյան!F48+#REF!+#REF!) -> #REF! | G48: =SUM('Ս. Մարդանյան'!G48+Ն.Բադալյան!G48+Ս.Մխիթարյան!G48+Մ.Կիրակոսյան!G48+#REF!+#REF!) -> #REF! | H48: =SUM('Ս. Մարդանյան'!H48+Ն.Բադալյան!H48+Ս.Մխիթարյան!H48+Մ.Կիրակոսյան!H48+#REF!+#REF!) -> #REF! | I48: =SUM('Ս. Մարդանյան'!I48+Ն.Բադալյան!I48+Ս.Մխիթարյան!I48+Մ.Կիրակոսյան!I48+#REF!+#REF!) -> #REF! | J48: =SUM('Ս. Մարդանյան'!J48+Ն.Բադալյան!J48+Ս.Մխիթարյան!J48+Մ.Կիրակոսյան!J48+#REF!+#REF!) -> #REF! | K48: =SUM('Ս. Մարդանյան'!K48+Ն.Բադալյան!K48+Ս.Մխիթարյան!K48+Մ.Կիրակոսյան!K48+#REF!+#REF!) -> #REF! | ... AG48: =SUM('Ս. Մարդանյան'!AG48+Ն.Բադալյան!AG48+Ս.Մխիթարյան!AG48+Մ.Կիրակոսյան!AG48+#REF!+#REF!) -> #REF! | AH48: =SUM('Ս. Մարդանյան'!#REF!+Ն.Բադալյան!#REF!+Ս.Մխիթարյան!#REF!+Մ.Կիրակոսյան!#REF!+#REF!+#REF!) -> #REF! | AI48: =SUM('Ս. Մարդանյան'!#REF!+Ն.Բադալյան!#REF!+Ս.Մխիթարյան!#REF!+Մ.Կիրակոսյան!#REF!+#REF!+#REF!) -> #REF! | AJ48: =SUM('Ս. Մարդանյան'!#REF!+Ն.Բադալյան!#REF!+Ս.Մխիթարյան!#REF!+Մ.Կիրակոսյան!#REF!+#REF!+#REF!) -> #REF! | AK48: =SUM('Ս. Մարդանյան'!#REF!+Ն.Բադալյան!#REF!+Ս.Մխիթարյան!#REF!+Մ.Կիրակոսյան!#REF!+#REF!+#REF!) -> #REF! | AL48: =SUM('Ս. Մարդանյան'!#REF!+Ն.Բադալյան!#REF!+Ս.Մխիթարյան!#REF!+Մ.Կիրակոսյան!#REF!+#REF!+#REF!) -> #REF! | AM48: =SUM('Ս. Մարդանյան'!#REF!+Ն.Բադալյան!#REF!+Ս.Մխիթարյան!#REF!+Մ.Կիրակոսյան!#REF!+#REF!+#REF!) -> #REF! | AN48: =SUM('Ս. Մարդանյան'!#REF!+Ն.Բադալյան!#REF!+Ս.Մխիթարյան!#REF!+Մ.Կիրակոսյան!#REF!+#REF!+#REF!) -> #REF! | AO48: =SUM('Ս. Մարդանյան'!#REF!+Ն.Բադալյան!#REF!+Ս.Մխիթարյան!#REF!+Մ.Կիրակոսյան!#REF!+#REF!+#REF!) -> #REF!
A49: 3.7 | B49: Անզգուշությամբ առողջությանը ծանր վնաս պատճառելը | C49: 172 | D49: =SUM('Ս. Մարդանյան'!D49+Ն.Բադալյան!D49+Ս.Մխիթարյան!D49+Մ.Կիրակոսյան!D49+#REF!+#REF!) -> #REF! | E49: =SUM('Ս. Մարդանյան'!E49+Ն.Բադալյան!E49+Ս.Մխիթարյան!E49+Մ.Կիրակոսյան!E49+#REF!+#REF!) -> #REF! | F49: =SUM('Ս. Մարդանյան'!F49+Ն.Բադալյան!F49+Ս.Մխիթարյան!F49+Մ.Կիրակոսյան!F49+#REF!+#REF!) -> #REF! | G49: =SUM('Ս. Մարդանյան'!G49+Ն.Բադալյան!G49+Ս.Մխիթարյան!G49+Մ.Կիրակոսյան!G49+#REF!+#REF!) -> #REF! | H49: =SUM('Ս. Մարդանյան'!H49+Ն.Բադալյան!H49+Ս.Մխիթարյան!H49+Մ.Կիրակոսյան!H49+#REF!+#REF!) -> #REF! | I49: =SUM('Ս. Մարդանյան'!I49+Ն.Բադալյան!I49+Ս.Մխիթարյան!I49+Մ.Կիրակոսյան!I49+#REF!+#REF!) -> #REF! | J49: =SUM('Ս. Մարդանյան'!J49+Ն.Բադալյան!J49+Ս.Մխիթարյան!J49+Մ.Կիրակոսյան!J49+#REF!+#REF!) -> #REF! | K49: =SUM('Ս. Մարդանյան'!K49+Ն.Բադալյան!K49+Ս.Մխիթարյան!K49+Մ.Կիրակոսյան!K49+#REF!+#REF!) -> #REF! | ... AG49: =SUM('Ս. Մարդանյան'!AG49+Ն.Բադալյան!AG49+Ս.Մխիթարյան!AG49+Մ.Կիրակոսյան!AG49+#REF!+#REF!) -> #REF! | AH49: =SUM('Ս. Մարդանյան'!#REF!+Ն.Բադալյան!#REF!+Ս.Մխիթարյան!#REF!+Մ.Կիրակոսյան!#REF!+#REF!+#REF!) -> #REF! | AI49: =SUM('Ս. Մարդանյան'!#REF!+Ն.Բադալյան!#REF!+Ս.Մխիթարյան!#REF!+Մ.Կիրակոսյան!#REF!+#REF!+#REF!) -> #REF! | AJ49: =SUM('Ս. Մարդանյան'!#REF!+Ն.Բադալյան!#REF!+Ս.Մխիթարյան!#REF!+Մ.Կիրակոսյան!#REF!+#REF!+#REF!) -> #REF! | AK49: =SUM('Ս. Մարդանյան'!#REF!+Ն.Բադալյան!#REF!+Ս.Մխիթարյան!#REF!+Մ.Կիրակոսյան!#REF!+#REF!+#REF!) -> #REF! | AL49: =SUM('Ս. Մարդանյան'!#REF!+Ն.Բադալյան!#REF!+Ս.Մխիթարյան!#REF!+Մ.Կիրակոսյան!#REF!+#REF!+#REF!) -> #REF! | AM49: =SUM('Ս. Մարդանյան'!#REF!+Ն.Բադալյան!#REF!+Ս.Մխիթարյան!#REF!+Մ.Կիրակոսյան!#REF!+#REF!+#REF!) -> #REF! | AN49: =SUM('Ս. Մարդանյան'!#REF!+Ն.Բադալյան!#REF!+Ս.Մխիթարյան!#REF!+Մ.Կիրակոսյան!#REF!+#REF!+#REF!) -> #REF! | AO49: =SUM('Ս. Մարդանյան'!#REF!+Ն.Բադալյան!#REF!+Ս.Մխիթարյան!#REF!+Մ.Կիրակոսյան!#REF!+#REF!+#REF!) -> #REF!
A50: 3.8 | B50: Անզգուշությամբ առողջությանը միջին ծանրության վնաս պատճառելը | C50: 173 | D50: =SUM('Ս. Մարդանյան'!D50+Ն.Բադալյան!D50+Ս.Մխիթարյան!D50+Մ.Կիրակոսյան!D50+#REF!+#REF!) -> #REF! | E50: =SUM('Ս. Մարդանյան'!E50+Ն.Բադալյան!E50+Ս.Մխիթարյան!E50+Մ.Կիրակոսյան!E50+#REF!+#REF!) -> #REF! | F50: =SUM('Ս. Մարդանյան'!F50+Ն.Բադալյան!F50+Ս.Մխիթարյան!F50+Մ.Կիրակոսյան!F50+#REF!+#REF!) -> #REF! | G50: =SUM('Ս. Մարդանյան'!G50+Ն.Բադալյան!G50+Ս.Մխիթարյան!G50+Մ.Կիրակոսյան!G50+#REF!+#REF!) -> #REF! | H50: =SUM('Ս. Մարդանյան'!H50+Ն.Բադալյան!H50+Ս.Մխիթարյան!H50+Մ.Կիրակոսյան!H50+#REF!+#REF!) -> #REF! | I50: =SUM('Ս. Մարդանյան'!I50+Ն.Բադալյան!I50+Ս.Մխիթարյան!I50+Մ.Կիրակոսյան!I50+#REF!+#REF!) -> #REF! | J50: =SUM('Ս. Մարդանյան'!J50+Ն.Բադալյան!J50+Ս.Մխիթարյան!J50+Մ.Կիրակոսյան!J50+#REF!+#REF!) -> #REF! | K50: =SUM('Ս. Մարդանյան'!K50+Ն.Բադալյան!K50+Ս.Մխիթարյան!K50+Մ.Կիրակոսյան!K50+#REF!+#REF!) -> #REF! | ... AG50: =SUM('Ս. Մարդանյան'!AG50+Ն.Բադալյան!AG50+Ս.Մխիթարյան!AG50+Մ.Կիրակոսյան!AG50+#REF!+#REF!) -> #REF! | AH50: =SUM('Ս. Մարդանյան'!#REF!+Ն.Բադալյան!#REF!+Ս.Մխիթարյան!#REF!+Մ.Կիրակոսյան!#REF!+#REF!+#REF!) -> #REF! | AI50: =SUM('Ս. Մարդանյան'!#REF!+Ն.Բադալյան!#REF!+Ս.Մխիթարյան!#REF!+Մ.Կիրակոսյան!#REF!+#REF!+#REF!) -> #REF! | AJ50: =SUM('Ս. Մարդանյան'!#REF!+Ն.Բադալյան!#REF!+Ս.Մխիթարյան!#REF!+Մ.Կիրակոսյան!#REF!+#REF!+#REF!) -> #REF! | AK50: =SUM('Ս. Մարդանյան'!#REF!+Ն.Բադալյան!#REF!+Ս.Մխիթարյան!#REF!+Մ.Կիրակոսյան!#REF!+#REF!+#REF!) -> #REF! | AL50: =SUM('Ս. Մարդանյան'!#REF!+Ն.Բադալյան!#REF!+Ս.Մխիթարյան!#REF!+Մ.Կիրակոսյան!#REF!+#REF!+#REF!) -> #REF! | AM50: =SUM('Ս. Մարդանյան'!#REF!+Ն.Բադալյան!#REF!+Ս.Մխիթարյան!#REF!+Մ.Կիրակոսյան!#REF!+#REF!+#REF!) -> #REF! | AN50: =SUM('Ս. Մարդանյան'!#REF!+Ն.Բադալյան!#REF!+Ս.Մխիթարյան!#REF!+Մ.Կիրակոսյան!#REF!+#REF!+#REF!) -> #REF! | AO50: =SUM('Ս. Մարդանյան'!#REF!+Ն.Բադալյան!#REF!+Ս.Մխիթարյան!#REF!+Մ.Կիրակոսյան!#REF!+#REF!+#REF!) -> #REF!
A51: 4. | B51: Ընդհամենը կյանքը և առողջությունը վտանգող հանցագործությունները | D51: =SUM('Ս. Մարդանյան'!D51+Ն.Բադալյան!D51+Ս.Մխիթարյան!D51+Մ.Կիրակոսյան!D51+#REF!+#REF!) -> #REF! | E51: =SUM('Ս. Մարդանյան'!E51+Ն.Բադալյան!E51+Ս.Մխիթարյան!E51+Մ.Կիրակոսյան!E51+#REF!+#REF!) -> #REF! | F51: =SUM('Ս. Մարդանյան'!F51+Ն.Բադալյան!F51+Ս.Մխիթարյան!F51+Մ.Կիրակոսյան!F51+#REF!+#REF!) -> #REF! | G51: =SUM('Ս. Մարդանյան'!G51+Ն.Բադալյան!G51+Ս.Մխիթարյան!G51+Մ.Կիրակոսյան!G51+#REF!+#REF!) -> #REF! | H51: =SUM('Ս. Մարդանյան'!H51+Ն.Բադալյան!H51+Ս.Մխիթարյան!H51+Մ.Կիրակոսյան!H51+#REF!+#REF!) -> #REF! | I51: =SUM('Ս. Մարդանյան'!I51+Ն.Բադալյան!I51+Ս.Մխիթարյան!I51+Մ.Կիրակոսյան!I51+#REF!+#REF!) -> #REF! | J51: =SUM('Ս. Մարդանյան'!J51+Ն.Բադալյան!J51+Ս.Մխիթարյան!J51+Մ.Կիրակոսյան!J51+#REF!+#REF!) -> #REF! | K51: =SUM('Ս. Մարդանյան'!K51+Ն.Բադալյան!K51+Ս.Մխիթարյան!K51+Մ.Կիրակոսյան!K51+#REF!+#REF!) -> #REF! | ... AG51: =SUM('Ս. Մարդանյան'!AG51+Ն.Բադալյան!AG51+Ս.Մխիթարյան!AG51+Մ.Կիրակոսյան!AG51+#REF!+#REF!) -> #REF! | AH51: =SUM('Ս. Մարդանյան'!#REF!+Ն.Բադալյան!#REF!+Ս.Մխիթարյան!#REF!+Մ.Կիրակոսյան!#REF!+#REF!+#REF!) -> #REF! | AI51: =SUM('Ս. Մարդանյան'!#REF!+Ն.Բադալյան!#REF!+Ս.Մխիթարյան!#REF!+Մ.Կիրակոսյան!#REF!+#REF!+#REF!) -> #REF! | AJ51: =SUM('Ս. Մարդանյան'!#REF!+Ն.Բադալյան!#REF!+Ս.Մխիթարյան!#REF!+Մ.Կիրակոսյան!#REF!+#REF!+#REF!) -> #REF! | AK51: =SUM('Ս. Մարդանյան'!#REF!+Ն.Բադալյան!#REF!+Ս.Մխիթարյան!#REF!+Մ.Կիրակոսյան!#REF!+#REF!+#REF!) -> #REF! | AL51: =SUM('Ս. Մարդանյան'!#REF!+Ն.Բադալյան!#REF!+Ս.Մխիթարյան!#REF!+Մ.Կիրակոսյան!#REF!+#REF!+#REF!) -> #REF! | AM51: =SUM('Ս. Մարդանյան'!#REF!+Ն.Բադալյան!#REF!+Ս.Մխիթարյան!#REF!+Մ.Կիրակոսյան!#REF!+#REF!+#REF!) -> #REF! | AN51: =SUM('Ս. Մարդանյան'!#REF!+Ն.Բադալյան!#REF!+Ս.Մխիթարյան!#REF!+Մ.Կիրակոսյան!#REF!+#REF!+#REF!) -> #REF! | AO51: =SUM('Ս. Մարդանյան'!#REF!+Ն.Բադալյան!#REF!+Ս.Մխիթարյան!#REF!+Մ.Կիրակոսյան!#REF!+#REF!+#REF!) -> #REF!
A52: 4.1 | B52: Հղիության ապօրինի արհեստական ընդհատում (աբորտ) կատարելը | C52: 174 | D52: =SUM('Ս. Մարդանյան'!D52+Ն.Բադալյան!D52+Ս.Մխիթարյան!D52+Մ.Կիրակոսյան!D52+#REF!+#REF!) -> #REF! | E52: =SUM('Ս. Մարդանյան'!E52+Ն.Բադալյան!E52+Ս.Մխիթարյան!E52+Մ.Կիրակոսյան!E52+#REF!+#REF!) -> #REF! | F52: =SUM('Ս. Մարդանյան'!F52+Ն.Բադալյան!F52+Ս.Մխիթարյան!F52+Մ.Կիրակոսյան!F52+#REF!+#REF!) -> #REF! | G52: =SUM('Ս. Մարդանյան'!G52+Ն.Բադալյան!G52+Ս.Մխիթարյան!G52+Մ.Կիրակոսյան!G52+#REF!+#REF!) -> #REF! | H52: =SUM('Ս. Մարդանյան'!H52+Ն.Բադալյան!H52+Ս.Մխիթարյան!H52+Մ.Կիրակոսյան!H52+#REF!+#REF!) -> #REF! | I52: =SUM('Ս. Մարդանյան'!I52+Ն.Բադալյան!I52+Ս.Մխիթարյան!I52+Մ.Կիրակոսյան!I52+#REF!+#REF!) -> #REF! | J52: =SUM('Ս. Մարդանյան'!J52+Ն.Բադալյան!J52+Ս.Մխիթարյան!J52+Մ.Կիրակոսյան!J52+#REF!+#REF!) -> #REF! | K52: =SUM('Ս. Մարդանյան'!K52+Ն.Բադալյան!K52+Ս.Մխիթարյան!K52+Մ.Կիրակոսյան!K52+#REF!+#REF!) -> #REF! | ... AG52: =SUM('Ս. Մարդանյան'!AG52+Ն.Բադալյան!AG52+Ս.Մխիթարյան!AG52+Մ.Կիրակոսյան!AG52+#REF!+#REF!) -> #REF! | AH52: =SUM('Ս. Մարդանյան'!#REF!+Ն.Բադալյան!#REF!+Ս.Մխիթարյան!#REF!+Մ.Կիրակոսյան!#REF!+#REF!+#REF!) -> #REF! | AI52: =SUM('Ս. Մարդանյան'!#REF!+Ն.Բադալյան!#REF!+Ս.Մխիթարյան!#REF!+Մ.Կիրակոսյան!#REF!+#REF!+#REF!) -> #REF! | AJ52: =SUM('Ս. Մարդանյան'!#REF!+Ն.Բադալյան!#REF!+Ս.Մխիթարյան!#REF!+Մ.Կիրակոսյան!#REF!+#REF!+#REF!) -> #REF! | AK52: =SUM('Ս. Մարդանյան'!#REF!+Ն.Բադալյան!#REF!+Ս.Մխիթարյան!#REF!+Մ.Կիրակոսյան!#REF!+#REF!+#REF!) -> #REF! | AL52: =SUM('Ս. Մարդանյան'!#REF!+Ն.Բադալյան!#REF!+Ս.Մխիթարյան!#REF!+Մ.Կիրակոսյան!#REF!+#REF!+#REF!) -> #REF! | AM52: =SUM('Ս. Մարդանյան'!#REF!+Ն.Բադալյան!#REF!+Ս.Մխիթարյան!#REF!+Մ.Կիրակոսյան!#REF!+#REF!+#REF!) -> #REF! | AN52: =SUM('Ս. Մարդանյան'!#REF!+Ն.Բադալյան!#REF!+Ս.Մխիթարյան!#REF!+Մ.Կիրակոսյան!#REF!+#REF!+#REF!) -> #REF! | AO52: =SUM('Ս. Մարդանյան'!#REF!+Ն.Բադալյան!#REF!+Ս.Մխիթարյան!#REF!+Մ.Կիրակոսյան!#REF!+#REF!+#REF!) -> #REF!
A53: 4.2 | B53: Հղիության արհեստական ընդհատում (աբորտ) կատարելը կամ ամլացումը | C53: 175 | D53: =SUM('Ս. Մարդանյան'!D53+Ն.Բադալյան!D53+Ս.Մխիթարյան!D53+Մ.Կիրակոսյան!D53+#REF!+#REF!) -> #REF! | E53: =SUM('Ս. Մարդանյան'!E53+Ն.Բադալյան!E53+Ս.Մխիթարյան!E53+Մ.Կիրակոսյան!E53+#REF!+#REF!) -> #REF! | F53: =SUM('Ս. Մարդանյան'!F53+Ն.Բադալյան!F53+Ս.Մխիթարյան!F53+Մ.Կիրակոսյան!F53+#REF!+#REF!) -> #REF! | G53: =SUM('Ս. Մարդանյան'!G53+Ն.Բադալյան!G53+Ս.Մխիթարյան!G53+Մ.Կիրակոսյան!G53+#REF!+#REF!) -> #REF! | H53: =SUM('Ս. Մարդանյան'!H53+Ն.Բադալյան!H53+Ս.Մխիթարյան!H53+Մ.Կիրակոսյան!H53+#REF!+#REF!) -> #REF! | I53: =SUM('Ս. Մարդանյան'!I53+Ն.Բադալյան!I53+Ս.Մխիթարյան!I53+Մ.Կիրակոսյան!I53+#REF!+#REF!) -> #REF! | J53: =SUM('Ս. Մարդանյան'!J53+Ն.Բադալյան!J53+Ս.Մխիթարյան!J53+Մ.Կիրակոսյան!J53+#REF!+#REF!) -> #REF! | K53: =SUM('Ս. Մարդանյան'!K53+Ն.Բադալյան!K53+Ս.Մխիթարյան!K53+Մ.Կիրակոսյան!K53+#REF!+#REF!) -> #REF! | ... AG53: =SUM('Ս. Մարդանյան'!AG53+Ն.Բադալյան!AG53+Ս.Մխիթարյան!AG53+Մ.Կիրակոսյան!AG53+#REF!+#REF!) -> #REF! | AH53: =SUM('Ս. Մարդանյան'!#REF!+Ն.Բադալյան!#REF!+Ս.Մխիթարյան!#REF!+Մ.Կիրակոսյան!#REF!+#REF!+#REF!) -> #REF! | AI53: =SUM('Ս. Մարդանյան'!#REF!+Ն.Բադալյան!#REF!+Ս.Մխիթարյան!#REF!+Մ.Կիրակոսյան!#REF!+#REF!+#REF!) -> #REF! | AJ53: =SUM('Ս. Մարդանյան'!#REF!+Ն.Բադալյան!#REF!+Ս.Մխիթարյան!#REF!+Մ.Կիրակոսյան!#REF!+#REF!+#REF!) -> #REF! | AK53: =SUM('Ս. Մարդանյան'!#REF!+Ն.Բադալյան!#REF!+Ս.Մխիթարյան!#REF!+Մ.Կիրակոսյան!#REF!+#REF!+#REF!) -> #REF! | AL53: =SUM('Ս. Մարդանյան'!#REF!+Ն.Բադալյան!#REF!+Ս.Մխիթարյան!#REF!+Մ.Կիրակոսյան!#REF!+#REF!+#REF!) -> #REF! | AM53: =SUM('Ս. Մարդանյան'!#REF!+Ն.Բադալյան!#REF!+Ս.Մխիթարյան!#REF!+Մ.Կիրակոսյան!#REF!+#REF!+#REF!) -> #REF! | AN53: =SUM('Ս. Մարդանյան'!#REF!+Ն.Բադալյան!#REF!+Ս.Մխիթարյան!#REF!+Մ.Կիրակոսյան!#REF!+#REF!+#REF!) -> #REF! | AO53: =SUM('Ս. Մարդանյան'!#REF!+Ն.Բադալյան!#REF!+Ս.Մխիթարյան!#REF!+Մ.Կիրակոսյան!#REF!+#REF!+#REF!) -> #REF!
A54: 4.3 | B54: Հղիության արհեստական ընդհատմանը (աբորտ կատարելուն) կամ ամլացմանը հարկադրելը | C54: 176 | D54: =SUM('Ս. Մարդանյան'!D54+Ն.Բադալյան!D54+Ս.Մխիթարյան!D54+Մ.Կիրակոսյան!D54+#REF!+#REF!) -> #REF! | E54: =SUM('Ս. Մարդանյան'!E54+Ն.Բադալյան!E54+Ս.Մխիթարյան!E54+Մ.Կիրակոսյան!E54+#REF!+#REF!) -> #REF! | F54: =SUM('Ս. Մարդանյան'!F54+Ն.Բադալյան!F54+Ս.Մխիթարյան!F54+Մ.Կիրակոսյան!F54+#REF!+#REF!) -> #REF! | G54: =SUM('Ս. Մարդանյան'!G54+Ն.Բադալյան!G54+Ս.Մխիթարյան!G54+Մ.Կիրակոսյան!G54+#REF!+#REF!) -> #REF! | H54: =SUM('Ս. Մարդանյան'!H54+Ն.Բադալյան!H54+Ս.Մխիթարյան!H54+Մ.Կիրակոսյան!H54+#REF!+#REF!) -> #REF! | I54: =SUM('Ս. Մարդանյան'!I54+Ն.Բադալյան!I54+Ս.Մխիթարյան!I54+Մ.Կիրակոսյան!I54+#REF!+#REF!) -> #REF! | J54: =SUM('Ս. Մարդանյան'!J54+Ն.Բադալյան!J54+Ս.Մխիթարյան!J54+Մ.Կիրակոսյան!J54+#REF!+#REF!) -> #REF! | K54: =SUM('Ս. Մարդանյան'!K54+Ն.Բադալյան!K54+Ս.Մխիթարյան!K54+Մ.Կիրակոսյան!K54+#REF!+#REF!) -> #REF! | ... AG54: =SUM('Ս. Մարդանյան'!AG54+Ն.Բադալյան!AG54+Ս.Մխիթարյան!AG54+Մ.Կիրակոսյան!AG54+#REF!+#REF!) -> #REF! | AH54: =SUM('Ս. Մարդանյան'!#REF!+Ն.Բադալյան!#REF!+Ս.Մխիթարյան!#REF!+Մ.Կիրակոսյան!#REF!+#REF!+#REF!) -> #REF! | AI54: =SUM('Ս. Մարդանյան'!#REF!+Ն.Բադալյան!#REF!+Ս.Մխիթարյան!#REF!+Մ.Կիրակոսյան!#REF!+#REF!+#REF!) -> #REF! | AJ54: =SUM('Ս. Մարդանյան'!#REF!+Ն.Բադալյան!#REF!+Ս.Մխիթարյան!#REF!+Մ.Կիրակոսյան!#REF!+#REF!+#REF!) -> #REF! | AK54: =SUM('Ս. Մարդանյան'!#REF!+Ն.Բադալյան!#REF!+Ս.Մխիթարյան!#REF!+Մ.Կիրակոսյան!#REF!+#REF!+#REF!) -> #REF! | AL54: =SUM('Ս. Մարդանյան'!#REF!+Ն.Բադալյան!#REF!+Ս.Մխիթարյան!#REF!+Մ.Կիրակոսյան!#REF!+#REF!+#REF!) -> #REF! | AM54: =SUM('Ս. Մարդանյան'!#REF!+Ն.Բադալյան!#REF!+Ս.Մխիթարյան!#REF!+Մ.Կիրակոսյան!#REF!+#REF!+#REF!) -> #REF! | AN54: =SUM('Ս. Մարդանյան'!#REF!+Ն.Բադալյան!#REF!+Ս.Մխիթարյան!#REF!+Մ.Կիրակոսյան!#REF!+#REF!+#REF!) -> #REF! | AO54: =SUM('Ս. Մարդանյան'!#REF!+Ն.Բադալյան!#REF!+Ս.Մխիթարյան!#REF!+Մ.Կիրակոսյան!#REF!+#REF!+#REF!) -> #REF!
A55: 4.4 | B55: Մարդու իմունային անբավարարության վիրուսով վարակելը | C55: 177 | D55: =SUM('Ս. Մարդանյան'!D55+Ն.Բադալյան!D55+Ս.Մխիթարյան!D55+Մ.Կիրակոսյան!D55+#REF!+#REF!) -> #REF! | E55: =SUM('Ս. Մարդանյան'!E55+Ն.Բադալյան!E55+Ս.Մխիթարյան!E55+Մ.Կիրակոսյան!E55+#REF!+#REF!) -> #REF! | F55: =SUM('Ս. Մարդանյան'!F55+Ն.Բադալյան!F55+Ս.Մխիթարյան!F55+Մ.Կիրակոսյան!F55+#REF!+#REF!) -> #REF! | G55: =SUM('Ս. Մարդանյան'!G55+Ն.Բադալյան!G55+Ս.Մխիթարյան!G55+Մ.Կիրակոսյան!G55+#REF!+#REF!) -> #REF! | H55: =SUM('Ս. Մարդանյան'!H55+Ն.Բադալյան!H55+Ս.Մխիթարյան!H55+Մ.Կիրակոսյան!H55+#REF!+#REF!) -> #REF! | I55: =SUM('Ս. Մարդանյան'!I55+Ն.Բադալյան!I55+Ս.Մխիթարյան!I55+Մ.Կիրակոսյան!I55+#REF!+#REF!) -> #REF! | J55: =SUM('Ս. Մարդանյան'!J55+Ն.Բադալյան!J55+Ս.Մխիթարյան!J55+Մ.Կիրակոսյան!J55+#REF!+#REF!) -> #REF! | K55: =SUM('Ս. Մարդանյան'!K55+Ն.Բադալյան!K55+Ս.Մխիթարյան!K55+Մ.Կիրակոսյան!K55+#REF!+#REF!) -> #REF! | ... AG55: =SUM('Ս. Մարդանյան'!AG55+Ն.Բադալյան!AG55+Ս.Մխիթարյան!AG55+Մ.Կիրակոսյան!AG55+#REF!+#REF!) -> #REF! | AH55: =SUM('Ս. Մարդանյան'!#REF!+Ն.Բադալյան!#REF!+Ս.Մխիթարյան!#REF!+Մ.Կիրակոսյան!#REF!+#REF!+#REF!) -> #REF! | AI55: =SUM('Ս. Մարդանյան'!#REF!+Ն.Բադալյան!#REF!+Ս.Մխիթարյան!#REF!+Մ.Կիրակոսյան!#REF!+#REF!+#REF!) -> #REF! | AJ55: =SUM('Ս. Մարդանյան'!#REF!+Ն.Բադալյան!#REF!+Ս.Մխիթարյան!#REF!+Մ.Կիրակոսյան!#REF!+#REF!+#REF!) -> #REF! | AK55: =SUM('Ս. Մարդանյան'!#REF!+Ն.Բադալյան!#REF!+Ս.Մխիթարյան!#REF!+Մ.Կիրակոսյան!#REF!+#REF!+#REF!) -> #REF! | AL55: =SUM('Ս. Մարդանյան'!#REF!+Ն.Բադալյան!#REF!+Ս.Մխիթարյան!#REF!+Մ.Կիրակոսյան!#REF!+#REF!+#REF!) -> #REF! | AM55: =SUM('Ս. Մարդանյան'!#REF!+Ն.Բադալյան!#REF!+Ս.Մխիթարյան!#REF!+Մ.Կիրակոսյան!#REF!+#REF!+#REF!) -> #REF! | AN55: =SUM('Ս. Մարդանյան'!#REF!+Ն.Բադալյան!#REF!+Ս.Մխիթարյան!#REF!+Մ.Կիրակոսյան!#REF!+#REF!+#REF!) -> #REF! | AO55: =SUM('Ս. Մարդանյան'!#REF!+Ն.Բադալյան!#REF!+Ս.Մխիթարյան!#REF!+Մ.Կիրակոսյան!#REF!+#REF!+#REF!) -> #REF!
A56: 4.5 | B56: Մարդու իմունային անբավարարության վիրուսով անզգուշությամբ վարակելը | C56: 178 | D56: =SUM('Ս. Մարդանյան'!D56+Ն.Բադալյան!D56+Ս.Մխիթարյան!D56+Մ.Կիրակոսյան!D56+#REF!+#REF!) -> #REF! | E56: =SUM('Ս. Մարդանյան'!E56+Ն.Բադալյան!E56+Ս.Մխիթարյան!E56+Մ.Կիրակոսյան!E56+#REF!+#REF!) -> #REF! | F56: =SUM('Ս. Մարդանյան'!F56+Ն.Բադալյան!F56+Ս.Մխիթարյան!F56+Մ.Կիրակոսյան!F56+#REF!+#REF!) -> #REF! | G56: =SUM('Ս. Մարդանյան'!G56+Ն.Բադալյան!G56+Ս.Մխիթարյան!G56+Մ.Կիրակոսյան!G56+#REF!+#REF!) -> #REF! | H56: =SUM('Ս. Մարդանյան'!H56+Ն.Բադալյան!H56+Ս.Մխիթարյան!H56+Մ.Կիրակոսյան!H56+#REF!+#REF!) -> #REF! | I56: =SUM('Ս. Մարդանյան'!I56+Ն.Բադալյան!I56+Ս.Մխիթարյան!I56+Մ.Կիրակոսյան!I56+#REF!+#REF!) -> #REF! | J56: =SUM('Ս. Մարդանյան'!J56+Ն.Բադալյան!J56+Ս.Մխիթարյան!J56+Մ.Կիրակոսյան!J56+#REF!+#REF!) -> #REF! | K56: =SUM('Ս. Մարդանյան'!K56+Ն.Բադալյան!K56+Ս.Մխիթարյան!K56+Մ.Կիրակոսյան!K56+#REF!+#REF!) -> #REF! | ... AG56: =SUM('Ս. Մարդանյան'!AG56+Ն.Բադալյան!AG56+Ս.Մխիթարյան!AG56+Մ.Կիրակոսյան!AG56+#REF!+#REF!) -> #REF! | AH56: =SUM('Ս. Մարդանյան'!#REF!+Ն.Բադալյան!#REF!+Ս.Մխիթարյան!#REF!+Մ.Կիրակոսյան!#REF!+#REF!+#REF!) -> #REF! | AI56: =SUM('Ս. Մարդանյան'!#REF!+Ն.Բադալյան!#REF!+Ս.Մխիթարյան!#REF!+Մ.Կիրակոսյան!#REF!+#REF!+#REF!) -> #REF! | AJ56: =SUM('Ս. Մարդանյան'!#REF!+Ն.Բադալյան!#REF!+Ս.Մխիթարյան!#REF!+Մ.Կիրակոսյան!#REF!+#REF!+#REF!) -> #REF! | AK56: =SUM('Ս. Մարդանյան'!#REF!+Ն.Բադալյան!#REF!+Ս.Մխիթարյան!#REF!+Մ.Կիրակոսյան!#REF!+#REF!+#REF!) -> #REF! | AL56: =SUM('Ս. Մարդանյան'!#REF!+Ն.Բադալյան!#REF!+Ս.Մխիթարյան!#REF!+Մ.Կիրակոսյան!#REF!+#REF!+#REF!) -> #REF! | AM56: =SUM('Ս. Մարդանյան'!#REF!+Ն.Բադալյան!#REF!+Ս.Մխիթարյան!#REF!+Մ.Կիրակոսյան!#REF!+#REF!+#REF!) -> #REF! | AN56: =SUM('Ս. Մարդանյան'!#REF!+Ն.Բադալյան!#REF!+Ս.Մխիթարյան!#REF!+Մ.Կիրակոսյան!#REF!+#REF!+#REF!) -> #REF! | AO56: =SUM('Ս. Մարդանյան'!#REF!+Ն.Բադալյան!#REF!+Ս.Մխիթարյան!#REF!+Մ.Կիրակոսյան!#REF!+#REF!+#REF!) -> #REF!
A57: 4.6 | B57: Սեռավարակով վարակելը | C57: 179 | D57: =SUM('Ս. Մարդանյան'!D57+Ն.Բադալյան!D57+Ս.Մխիթարյան!D57+Մ.Կիրակոսյան!D57+#REF!+#REF!) -> #REF! | E57: =SUM('Ս. Մարդանյան'!E57+Ն.Բադալյան!E57+Ս.Մխիթարյան!E57+Մ.Կիրակոսյան!E57+#REF!+#REF!) -> #REF! | F57: =SUM('Ս. Մարդանյան'!F57+Ն.Բադալյան!F57+Ս.Մխիթարյան!F57+Մ.Կիրակոսյան!F57+#REF!+#REF!) -> #REF! | G57: =SUM('Ս. Մարդանյան'!G57+Ն.Բադալյան!G57+Ս.Մխիթարյան!G57+Մ.Կիրակոսյան!G57+#REF!+#REF!) -> #REF! | H57: =SUM('Ս. Մարդանյան'!H57+Ն.Բադալյան!H57+Ս.Մխիթարյան!H57+Մ.Կիրակոսյան!H57+#REF!+#REF!) -> #REF! | I57: =SUM('Ս. Մարդանյան'!I57+Ն.Բադալյան!I57+Ս.Մխիթարյան!I57+Մ.Կիրակոսյան!I57+#REF!+#REF!) -> #REF! | J57: =SUM('Ս. Մարդանյան'!J57+Ն.Բադալյան!J57+Ս.Մխիթարյան!J57+Մ.Կիրակոսյան!J57+#REF!+#REF!) -> #REF! | K57: =SUM('Ս. Մարդանյան'!K57+Ն.Բադալյան!K57+Ս.Մխիթարյան!K57+Մ.Կիրակոսյան!K57+#REF!+#REF!) -> #REF! | ... AG57: =SUM('Ս. Մարդանյան'!AG57+Ն.Բադալյան!AG57+Ս.Մխիթարյան!AG57+Մ.Կիրակոսյան!AG57+#REF!+#REF!) -> #REF! | AH57: =SUM('Ս. Մարդանյան'!#REF!+Ն.Բադալյան!#REF!+Ս.Մխիթարյան!#REF!+Մ.Կիրակոսյան!#REF!+#REF!+#REF!) -> #REF! | AI57: =SUM('Ս. Մարդանյան'!#REF!+Ն.Բադալյան!#REF!+Ս.Մխիթարյան!#REF!+Մ.Կիրակոսյան!#REF!+#REF!+#REF!) -> #REF! | AJ57: =SUM('Ս. Մարդանյան'!#REF!+Ն.Բադալյան!#REF!+Ս.Մխիթարյան!#REF!+Մ.Կիրակոսյան!#REF!+#REF!+#REF!) -> #REF! | AK57: =SUM('Ս. Մարդանյան'!#REF!+Ն.Բադալյան!#REF!+Ս.Մխիթարյան!#REF!+Մ.Կիրակոսյան!#REF!+#REF!+#REF!) -> #REF! | AL57: =SUM('Ս. Մարդանյան'!#REF!+Ն.Բադալյան!#REF!+Ս.Մխիթարյան!#REF!+Մ.Կիրակոսյան!#REF!+#REF!+#REF!) -> #REF! | AM57: =SUM('Ս. Մարդանյան'!#REF!+Ն.Բադալյան!#REF!+Ս.Մխիթարյան!#REF!+Մ.Կիրակոսյան!#REF!+#REF!+#REF!) -> #REF! | AN57: =SUM('Ս. Մարդանյան'!#REF!+Ն.Բադալյան!#REF!+Ս.Մխիթարյան!#REF!+Մ.Կիրակոսյան!#REF!+#REF!+#REF!) -> #REF! | AO57: =SUM('Ս. Մարդանյան'!#REF!+Ն.Բադալյան!#REF!+Ս.Մխիթարյան!#REF!+Մ.Կիրակոսյան!#REF!+#REF!+#REF!) -> #REF!
A58: 4.7 | B58: Սեռավարակով անզգուշությամբ վարակելը | C58: 180 | D58: =SUM('Ս. Մարդանյան'!D58+Ն.Բադալյան!D58+Ս.Մխիթարյան!D58+Մ.Կիրակոսյան!D58+#REF!+#REF!) -> #REF! | E58: =SUM('Ս. Մարդանյան'!E58+Ն.Բադալյան!E58+Ս.Մխիթարյան!E58+Մ.Կիրակոսյան!E58+#REF!+#REF!) -> #REF! | F58: =SUM('Ս. Մարդանյան'!F58+Ն.Բադալյան!F58+Ս.Մխիթարյան!F58+Մ.Կիրակոսյան!F58+#REF!+#REF!) -> #REF! | G58: =SUM('Ս. Մարդանյան'!G58+Ն.Բադալյան!G58+Ս.Մխիթարյան!G58+Մ.Կիրակոսյան!G58+#REF!+#REF!) -> #REF! | H58: =SUM('Ս. Մարդանյան'!H58+Ն.Բադալյան!H58+Ս.Մխիթարյան!H58+Մ.Կիրակոսյան!H58+#REF!+#REF!) -> #REF! | I58: =SUM('Ս. Մարդանյան'!I58+Ն.Բադալյան!I58+Ս.Մխիթարյան!I58+Մ.Կիրակոսյան!I58+#REF!+#REF!) -> #REF! | J58: =SUM('Ս. Մարդանյան'!J58+Ն.Բադալյան!J58+Ս.Մխիթարյան!J58+Մ.Կիրակոսյան!J58+#REF!+#REF!) -> #REF! | K58: =SUM('Ս. Մարդանյան'!K58+Ն.Բադալյան!K58+Ս.Մխիթարյան!K58+Մ.Կիրակոսյան!K58+#REF!+#REF!) -> #REF! | ... AG58: =SUM('Ս. Մարդանյան'!AG58+Ն.Բադալյան!AG58+Ս.Մխիթարյան!AG58+Մ.Կիրակոսյան!AG58+#REF!+#REF!) -> #REF! | AH58: =SUM('Ս. Մարդանյան'!#REF!+Ն.Բադալյան!#REF!+Ս.Մխիթարյան!#REF!+Մ.Կիրակոսյան!#REF!+#REF!+#REF!) -> #REF! | AI58: =SUM('Ս. Մարդանյան'!#REF!+Ն.Բադալյան!#REF!+Ս.Մխիթարյան!#REF!+Մ.Կիրակոսյան!#REF!+#REF!+#REF!) -> #REF! | AJ58: =SUM('Ս. Մարդանյան'!#REF!+Ն.Բադալյան!#REF!+Ս.Մխիթարյան!#REF!+Մ.Կիրակոսյան!#REF!+#REF!+#REF!) -> #REF! | AK58: =SUM('Ս. Մարդանյան'!#REF!+Ն.Բադալյան!#REF!+Ս.Մխիթարյան!#REF!+Մ.Կիրակոսյան!#REF!+#REF!+#REF!) -> #REF! | AL58: =SUM('Ս. Մարդանյան'!#REF!+Ն.Բադալյան!#REF!+Ս.Մխիթարյան!#REF!+Մ.Կիրակոսյան!#REF!+#REF!+#REF!) -> #REF! | AM58: =SUM('Ս. Մարդանյան'!#REF!+Ն.Բադալյան!#REF!+Ս.Մխիթարյան!#REF!+Մ.Կիրակոսյան!#REF!+#REF!+#REF!) -> #REF! | AN58: =SUM('Ս. Մարդանյան'!#REF!+Ն.Բադալյան!#REF!+Ս.Մխիթարյան!#REF!+Մ.Կիրակոսյան!#REF!+#REF!+#REF!) -> #REF! | AO58: =SUM('Ս. Մարդանյան'!#REF!+Ն.Բադալյան!#REF!+Ս.Մխիթարյան!#REF!+Մ.Կիրակոսյան!#REF!+#REF!+#REF!) -> #REF!
A59: 4.8 | B59: Շրջապատի համար վտանգ ներկայացնող հիվանդությամբ վարակելը | C59: 181 | D59: =SUM('Ս. Մարդանյան'!D59+Ն.Բադալյան!D59+Ս.Մխիթարյան!D59+Մ.Կիրակոսյան!D59+#REF!+#REF!) -> #REF! | E59: =SUM('Ս. Մարդանյան'!E59+Ն.Բադալյան!E59+Ս.Մխիթարյան!E59+Մ.Կիրակոսյան!E59+#REF!+#REF!) -> #REF! | F59: =SUM('Ս. Մարդանյան'!F59+Ն.Բադալյան!F59+Ս.Մխիթարյան!F59+Մ.Կիրակոսյան!F59+#REF!+#REF!) -> #REF! | G59: =SUM('Ս. Մարդանյան'!G59+Ն.Բադալյան!G59+Ս.Մխիթարյան!G59+Մ.Կիրակոսյան!G59+#REF!+#REF!) -> #REF! | H59: =SUM('Ս. Մարդանյան'!H59+Ն.Բադալյան!H59+Ս.Մխիթարյան!H59+Մ.Կիրակոսյան!H59+#REF!+#REF!) -> #REF! | I59: =SUM('Ս. Մարդանյան'!I59+Ն.Բադալյան!I59+Ս.Մխիթարյան!I59+Մ.Կիրակոսյան!I59+#REF!+#REF!) -> #REF! | J59: =SUM('Ս. Մարդանյան'!J59+Ն.Բադալյան!J59+Ս.Մխիթարյան!J59+Մ.Կիրակոսյան!J59+#REF!+#REF!) -> #REF! | K59: =SUM('Ս. Մարդանյան'!K59+Ն.Բադալյան!K59+Ս.Մխիթարյան!K59+Մ.Կիրակոսյան!K59+#REF!+#REF!) -> #REF! | ... AG59: =SUM('Ս. Մարդանյան'!AG59+Ն.Բադալյան!AG59+Ս.Մխիթարյան!AG59+Մ.Կիրակոսյան!AG59+#REF!+#REF!) -> #REF! | AH59: =SUM('Ս. Մարդանյան'!#REF!+Ն.Բադալյան!#REF!+Ս.Մխիթարյան!#REF!+Մ.Կիրակոսյան!#REF!+#REF!+#REF!) -> #REF! | AI59: =SUM('Ս. Մարդանյան'!#REF!+Ն.Բադալյան!#REF!+Ս.Մխիթարյան!#REF!+Մ.Կիրակոսյան!#REF!+#REF!+#REF!) -> #REF! | AJ59: =SUM('Ս. Մարդանյան'!#REF!+Ն.Բադալյան!#REF!+Ս.Մխիթարյան!#REF!+Մ.Կիրակոսյան!#REF!+#REF!+#REF!) -> #REF! | AK59: =SUM('Ս. Մարդանյան'!#REF!+Ն.Բադալյան!#REF!+Ս.Մխիթարյան!#REF!+Մ.Կիրակոսյան!#REF!+#REF!+#REF!) -> #REF! | AL59: =SUM('Ս. Մարդանյան'!#REF!+Ն.Բադալյան!#REF!+Ս.Մխիթարյան!#REF!+Մ.Կիրակոսյան!#REF!+#REF!+#REF!) -> #REF! | AM59: =SUM('Ս. Մարդանյան'!#REF!+Ն.Բադալյան!#REF!+Ս.Մխիթարյան!#REF!+Մ.Կիրակոսյան!#REF!+#REF!+#REF!) -> #REF! | AN59: =SUM('Ս. Մարդանյան'!#REF!+Ն.Բադալյան!#REF!+Ս.Մխիթարյան!#REF!+Մ.Կիրակոսյան!#REF!+#REF!+#REF!) -> #REF! | AO59: =SUM('Ս. Մարդանյան'!#REF!+Ն.Բադալյան!#REF!+Ս.Մխիթարյան!#REF!+Մ.Կիրակոսյան!#REF!+#REF!+#REF!) -> #REF!
A60: 4.9 | B60: Վտանգի մեջ թողնելը | C60: 182 | D60: =SUM('Ս. Մարդանյան'!D60+Ն.Բադալյան!D60+Ս.Մխիթարյան!D60+Մ.Կիրակոսյան!D60+#REF!+#REF!) -> #REF! | E60: =SUM('Ս. Մարդանյան'!E60+Ն.Բադալյան!E60+Ս.Մխիթարյան!E60+Մ.Կիրակոսյան!E60+#REF!+#REF!) -> #REF! | F60: =SUM('Ս. Մարդանյան'!F60+Ն.Բադալյան!F60+Ս.Մխիթարյան!F60+Մ.Կիրակոսյան!F60+#REF!+#REF!) -> #REF! | G60: =SUM('Ս. Մարդանյան'!G60+Ն.Բադալյան!G60+Ս.Մխիթարյան!G60+Մ.Կիրակոսյան!G60+#REF!+#REF!) -> #REF! | H60: =SUM('Ս. Մարդանյան'!H60+Ն.Բադալյան!H60+Ս.Մխիթարյան!H60+Մ.Կիրակոսյան!H60+#REF!+#REF!) -> #REF! | I60: =SUM('Ս. Մարդանյան'!I60+Ն.Բադալյան!I60+Ս.Մխիթարյան!I60+Մ.Կիրակոսյան!I60+#REF!+#REF!) -> #REF! | J60: =SUM('Ս. Մարդանյան'!J60+Ն.Բադալյան!J60+Ս.Մխիթարյան!J60+Մ.Կիրակոսյան!J60+#REF!+#REF!) -> #REF! | K60: =SUM('Ս. Մարդանյան'!K60+Ն.Բադալյան!K60+Ս.Մխիթարյան!K60+Մ.Կիրակոսյան!K60+#REF!+#REF!) -> #REF! | ... AG60: =SUM('Ս. Մարդանյան'!AG60+Ն.Բադալյան!AG60+Ս.Մխիթարյան!AG60+Մ.Կիրակոսյան!AG60+#REF!+#REF!) -> #REF! | AH60: =SUM('Ս. Մարդանյան'!#REF!+Ն.Բադալյան!#REF!+Ս.Մխիթարյան!#REF!+Մ.Կիրակոսյան!#REF!+#REF!+#REF!) -> #REF! | AI60: =SUM('Ս. Մարդանյան'!#REF!+Ն.Բադալյան!#REF!+Ս.Մխիթարյան!#REF!+Մ.Կիրակոսյան!#REF!+#REF!+#REF!) -> #REF! | AJ60: =SUM('Ս. Մարդանյան'!#REF!+Ն.Բադալյան!#REF!+Ս.Մխիթարյան!#REF!+Մ.Կիրակոսյան!#REF!+#REF!+#REF!) -> #REF! | AK60: =SUM('Ս. Մարդանյան'!#REF!+Ն.Բադալյան!#REF!+Ս.Մխիթարյան!#REF!+Մ.Կիրակոսյան!#REF!+#REF!+#REF!) -> #REF! | AL60: =SUM('Ս. Մարդանյան'!#REF!+Ն.Բադալյան!#REF!+Ս.Մխիթարյան!#REF!+Մ.Կիրակոսյան!#REF!+#REF!+#REF!) -> #REF! | AM60: =SUM('Ս. Մարդանյան'!#REF!+Ն.Բադալյան!#REF!+Ս.Մխիթարյան!#REF!+Մ.Կիրակոսյան!#REF!+#REF!+#REF!) -> #REF! | AN60: =SUM('Ս. Մարդանյան'!#REF!+Ն.Բադալյան!#REF!+Ս.Մխիթարյան!#REF!+Մ.Կիրակոսյան!#REF!+#REF!+#REF!) -> #REF! | AO60: =SUM('Ս. Մարդանյան'!#REF!+Ն.Բադալյան!#REF!+Ս.Մխիթարյան!#REF!+Մ.Կիրակոսյան!#REF!+#REF!+#REF!) -> #REF!
A61: 4.10 | B61: Մարդու սաղմի, պտղի, մարդու կամ դիակի բջիջների, հյուսվածքների, օրգանների կամ կենսաբանական նյութերի կամ հեղուկների ապօրինի շրջանառությունը | C61: 183 | D61: =SUM('Ս. Մարդանյան'!D61+Ն.Բադալյան!D61+Ս.Մխիթարյան!D61+Մ.Կիրակոսյան!D61+#REF!+#REF!) -> #REF! | E61: =SUM('Ս. Մարդանյան'!E61+Ն.Բադալյան!E61+Ս.Մխիթարյան!E61+Մ.Կիրակոսյան!E61+#REF!+#REF!) -> #REF! | F61: =SUM('Ս. Մարդանյան'!F61+Ն.Բադալյան!F61+Ս.Մխիթարյան!F61+Մ.Կիրակոսյան!F61+#REF!+#REF!) -> #REF! | G61: =SUM('Ս. Մարդանյան'!G61+Ն.Բադալյան!G61+Ս.Մխիթարյան!G61+Մ.Կիրակոսյան!G61+#REF!+#REF!) -> #REF! | H61: =SUM('Ս. Մարդանյան'!H61+Ն.Բադալյան!H61+Ս.Մխիթարյան!H61+Մ.Կիրակոսյան!H61+#REF!+#REF!) -> #REF! | I61: =SUM('Ս. Մարդանյան'!I61+Ն.Բադալյան!I61+Ս.Մխիթարյան!I61+Մ.Կիրակոսյան!I61+#REF!+#REF!) -> #REF! | J61: =SUM('Ս. Մարդանյան'!J61+Ն.Բադալյան!J61+Ս.Մխիթարյան!J61+Մ.Կիրակոսյան!J61+#REF!+#REF!) -> #REF! | K61: =SUM('Ս. Մարդանյան'!K61+Ն.Բադալյան!K61+Ս.Մխիթարյան!K61+Մ.Կիրակոսյան!K61+#REF!+#REF!) -> #REF! | ... AG61: =SUM('Ս. Մարդանյան'!AG61+Ն.Բադալյան!AG61+Ս.Մխիթարյան!AG61+Մ.Կիրակոսյան!AG61+#REF!+#REF!) -> #REF! | AH61: =SUM('Ս. Մարդանյան'!#REF!+Ն.Բադալյան!#REF!+Ս.Մխիթարյան!#REF!+Մ.Կիրակոսյան!#REF!+#REF!+#REF!) -> #REF! | AI61: =SUM('Ս. Մարդանյան'!#REF!+Ն.Բադալյան!#REF!+Ս.Մխիթարյան!#REF!+Մ.Կիրակոսյան!#REF!+#REF!+#REF!) -> #REF! | AJ61: =SUM('Ս. Մարդանյան'!#REF!+Ն.Բադալյան!#REF!+Ս.Մխիթարյան!#REF!+Մ.Կիրակոսյան!#REF!+#REF!+#REF!) -> #REF! | AK61: =SUM('Ս. Մարդանյան'!#REF!+Ն.Բադալյան!#REF!+Ս.Մխիթարյան!#REF!+Մ.Կիրակոսյան!#REF!+#REF!+#REF!) -> #REF! | AL61: =SUM('Ս. Մարդանյան'!#REF!+Ն.Բադալյան!#REF!+Ս.Մխիթարյան!#REF!+Մ.Կիրակոսյան!#REF!+#REF!+#REF!) -> #REF! | AM61: =SUM('Ս. Մարդանյան'!#REF!+Ն.Բադալյան!#REF!+Ս.Մխիթարյան!#REF!+Մ.Կիրակոսյան!#REF!+#REF!+#REF!) -> #REF! | AN61: =SUM('Ս. Մարդանյան'!#REF!+Ն.Բադալյան!#REF!+Ս.Մխիթարյան!#REF!+Մ.Կիրակոսյան!#REF!+#REF!+#REF!) -> #REF! | AO61: =SUM('Ս. Մարդանյան'!#REF!+Ն.Բադալյան!#REF!+Ս.Մխիթարյան!#REF!+Մ.Կիրակոսյան!#REF!+#REF!+#REF!) -> #REF!
A62: 4.11 | B62: Փոխպատվաստման կանոնները խախտելը | C62: 184 | D62: =SUM('Ս. Մարդանյան'!D62+Ն.Բադալյան!D62+Ս.Մխիթարյան!D62+Մ.Կիրակոսյան!D62+#REF!+#REF!) -> #REF! | E62: =SUM('Ս. Մարդանյան'!E62+Ն.Բադալյան!E62+Ս.Մխիթարյան!E62+Մ.Կիրակոսյան!E62+#REF!+#REF!) -> #REF! | F62: =SUM('Ս. Մարդանյան'!F62+Ն.Բադալյան!F62+Ս.Մխիթարյան!F62+Մ.Կիրակոսյան!F62+#REF!+#REF!) -> #REF! | G62: =SUM('Ս. Մարդանյան'!G62+Ն.Բադալյան!G62+Ս.Մխիթարյան!G62+Մ.Կիրակոսյան!G62+#REF!+#REF!) -> #REF! | H62: =SUM('Ս. Մարդանյան'!H62+Ն.Բադալյան!H62+Ս.Մխիթարյան!H62+Մ.Կիրակոսյան!H62+#REF!+#REF!) -> #REF! | I62: =SUM('Ս. Մարդանյան'!I62+Ն.Բադալյան!I62+Ս.Մխիթարյան!I62+Մ.Կիրակոսյան!I62+#REF!+#REF!) -> #REF! | J62: =SUM('Ս. Մարդանյան'!J62+Ն.Բադալյան!J62+Ս.Մխիթարյան!J62+Մ.Կիրակոսյան!J62+#REF!+#REF!) -> #REF! | K62: =SUM('Ս. Մարդանյան'!K62+Ն.Բադալյան!K62+Ս.Մխիթարյան!K62+Մ.Կիրակոսյան!K62+#REF!+#REF!) -> #REF! | ... AG62: =SUM('Ս. Մարդանյան'!AG62+Ն.Բադալյան!AG62+Ս.Մխիթարյան!AG62+Մ.Կիրակոսյան!AG62+#REF!+#REF!) -> #REF! | AH62: =SUM('Ս. Մարդանյան'!#REF!+Ն.Բադալյան!#REF!+Ս.Մխիթարյան!#REF!+Մ.Կիրակոսյան!#REF!+#REF!+#REF!) -> #REF! | AI62: =SUM('Ս. Մարդանյան'!#REF!+Ն.Բադալյան!#REF!+Ս.Մխիթարյան!#REF!+Մ.Կիրակոսյան!#REF!+#REF!+#REF!) -> #REF! | AJ62: =SUM('Ս. Մարդանյան'!#REF!+Ն.Բադալյան!#REF!+Ս.Մխիթարյան!#REF!+Մ.Կիրակոսյան!#REF!+#REF!+#REF!) -> #REF! | AK62: =SUM('Ս. Մարդանյան'!#REF!+Ն.Բադալյան!#REF!+Ս.Մխիթարյան!#REF!+Մ.Կիրակոսյան!#REF!+#REF!+#REF!) -> #REF! | AL62: =SUM('Ս. Մարդանյան'!#REF!+Ն.Բադալյան!#REF!+Ս.Մխիթարյան!#REF!+Մ.Կիրակոսյան!#REF!+#REF!+#REF!) -> #REF! | AM62: =SUM('Ս. Մարդանյան'!#REF!+Ն.Բադալյան!#REF!+Ս.Մխիթարյան!#REF!+Մ.Կիրակոսյան!#REF!+#REF!+#REF!) -> #REF! | AN62: =SUM('Ս. Մարդանյան'!#REF!+Ն.Բադալյան!#REF!+Ս.Մխիթարյան!#REF!+Մ.Կիրակոսյան!#REF!+#REF!+#REF!) -> #REF! | AO62: =SUM('Ս. Մարդանյան'!#REF!+Ն.Բադալյան!#REF!+Ս.Մխիթարյան!#REF!+Մ.Կիրակոսյան!#REF!+#REF!+#REF!) -> #REF!
A63: 4.12 | B63: Անձին առանց իր համաձայնության բժշկական, գիտական կամ այլ փորձի ենթարկելը | C63: 185 | D63: =SUM('Ս. Մարդանյան'!D63+Ն.Բադալյան!D63+Ս.Մխիթարյան!D63+Մ.Կիրակոսյան!D63+#REF!+#REF!) -> #REF! | E63: =SUM('Ս. Մարդանյան'!E63+Ն.Բադալյան!E63+Ս.Մխիթարյան!E63+Մ.Կիրակոսյան!E63+#REF!+#REF!) -> #REF! | F63: =SUM('Ս. Մարդանյան'!F63+Ն.Բադալյան!F63+Ս.Մխիթարյան!F63+Մ.Կիրակոսյան!F63+#REF!+#REF!) -> #REF! | G63: =SUM('Ս. Մարդանյան'!G63+Ն.Բադալյան!G63+Ս.Մխիթարյան!G63+Մ.Կիրակոսյան!G63+#REF!+#REF!) -> #REF! | H63: =SUM('Ս. Մարդանյան'!H63+Ն.Բադալյան!H63+Ս.Մխիթարյան!H63+Մ.Կիրակոսյան!H63+#REF!+#REF!) -> #REF! | I63: =SUM('Ս. Մարդանյան'!I63+Ն.Բադալյան!I63+Ս.Մխիթարյան!I63+Մ.Կիրակոսյան!I63+#REF!+#REF!) -> #REF! | J63: =SUM('Ս. Մարդանյան'!J63+Ն.Բադալյան!J63+Ս.Մխիթարյան!J63+Մ.Կիրակոսյան!J63+#REF!+#REF!) -> #REF! | K63: =SUM('Ս. Մարդանյան'!K63+Ն.Բադալյան!K63+Ս.Մխիթարյան!K63+Մ.Կիրակոսյան!K63+#REF!+#REF!) -> #REF! | ... AG63: =SUM('Ս. Մարդանյան'!AG63+Ն.Բադալյան!AG63+Ս.Մխիթարյան!AG63+Մ.Կիրակոսյան!AG63+#REF!+#REF!) -> #REF! | AH63: =SUM('Ս. Մարդանյան'!#REF!+Ն.Բադալյան!#REF!+Ս.Մխիթարյան!#REF!+Մ.Կիրակոսյան!#REF!+#REF!+#REF!) -> #REF! | AI63: =SUM('Ս. Մարդանյան'!#REF!+Ն.Բադալյան!#REF!+Ս.Մխիթարյան!#REF!+Մ.Կիրակոսյան!#REF!+#REF!+#REF!) -> #REF! | AJ63: =SUM('Ս. Մարդանյան'!#REF!+Ն.Բադալյան!#REF!+Ս.Մխիթարյան!#REF!+Մ.Կիրակոսյան!#REF!+#REF!+#REF!) -> #REF! | AK63: =SUM('Ս. Մարդանյան'!#REF!+Ն.Բադալյան!#REF!+Ս.Մխիթարյան!#REF!+Մ.Կիրակոսյան!#REF!+#REF!+#REF!) -> #REF! | AL63: =SUM('Ս. Մարդանյան'!#REF!+Ն.Բադալյան!#REF!+Ս.Մխիթարյան!#REF!+Մ.Կիրակոսյան!#REF!+#REF!+#REF!) -> #REF! | AM63: =SUM('Ս. Մարդանյան'!#REF!+Ն.Բադալյան!#REF!+Ս.Մխիթարյան!#REF!+Մ.Կիրակոսյան!#REF!+#REF!+#REF!) -> #REF! | AN63: =SUM('Ս. Մարդանյան'!#REF!+Ն.Բադալյան!#REF!+Ս.Մխիթարյան!#REF!+Մ.Կիրակոսյան!#REF!+#REF!+#REF!) -> #REF! | AO63: =SUM('Ս. Մարդանյան'!#REF!+Ն.Բադալյան!#REF!+Ս.Մխիթարյան!#REF!+Մ.Կիրակոսյան!#REF!+#REF!+#REF!) -> #REF!
A64: 4.13 | B64: Մարդու վերարտադրողական կլոնավորումը կամ եվգենիկական փորձերը | C64: 186 | D64: =SUM('Ս. Մարդանյան'!D64+Ն.Բադալյան!D64+Ս.Մխիթարյան!D64+Մ.Կիրակոսյան!D64+#REF!+#REF!) -> #REF! | E64: =SUM('Ս. Մարդանյան'!E64+Ն.Բադալյան!E64+Ս.Մխիթարյան!E64+Մ.Կիրակոսյան!E64+#REF!+#REF!) -> #REF! | F64: =SUM('Ս. Մարդանյան'!F64+Ն.Բադալյան!F64+Ս.Մխիթարյան!F64+Մ.Կիրակոսյան!F64+#REF!+#REF!) -> #REF! | G64: =SUM('Ս. Մարդանյան'!G64+Ն.Բադալյան!G64+Ս.Մխիթարյան!G64+Մ.Կիրակոսյան!G64+#REF!+#REF!) -> #REF! | H64: =SUM('Ս. Մարդանյան'!H64+Ն.Բադալյան!H64+Ս.Մխիթարյան!H64+Մ.Կիրակոսյան!H64+#REF!+#REF!) -> #REF! | I64: =SUM('Ս. Մարդանյան'!I64+Ն.Բադալյան!I64+Ս.Մխիթարյան!I64+Մ.Կիրակոսյան!I64+#REF!+#REF!) -> #REF! | J64: =SUM('Ս. Մարդանյան'!J64+Ն.Բադալյան!J64+Ս.Մխիթարյան!J64+Մ.Կիրակոսյան!J64+#REF!+#REF!) -> #REF! | K64: =SUM('Ս. Մարդանյան'!K64+Ն.Բադալյան!K64+Ս.Մխիթարյան!K64+Մ.Կիրակոսյան!K64+#REF!+#REF!) -> #REF! | ... AG64: =SUM('Ս. Մարդանյան'!AG64+Ն.Բադալյան!AG64+Ս.Մխիթարյան!AG64+Մ.Կիրակոսյան!AG64+#REF!+#REF!) -> #REF! | AH64: =SUM('Ս. Մարդանյան'!#REF!+Ն.Բադալյան!#REF!+Ս.Մխիթարյան!#REF!+Մ.Կիրակոսյան!#REF!+#REF!+#REF!) -> #REF! | AI64: =SUM('Ս. Մարդանյան'!#REF!+Ն.Բադալյան!#REF!+Ս.Մխիթարյան!#REF!+Մ.Կիրակոսյան!#REF!+#REF!+#REF!) -> #REF! | AJ64: =SUM('Ս. Մարդանյան'!#REF!+Ն.Բադալյան!#REF!+Ս.Մխիթարյան!#REF!+Մ.Կիրակոսյան!#REF!+#REF!+#REF!) -> #REF! | AK64: =SUM('Ս. Մարդանյան'!#REF!+Ն.Բադալյան!#REF!+Ս.Մխիթարյան!#REF!+Մ.Կիրակոսյան!#REF!+#REF!+#REF!) -> #REF! | AL64: =SUM('Ս. Մարդանյան'!#REF!+Ն.Բադալյան!#REF!+Ս.Մխիթարյան!#REF!+Մ.Կիրակոսյան!#REF!+#REF!+#REF!) -> #REF! | AM64: =SUM('Ս. Մարդանյան'!#REF!+Ն.Բադալյան!#REF!+Ս.Մխիթարյան!#REF!+Մ.Կիրակոսյան!#REF!+#REF!+#REF!) -> #REF! | AN64: =SUM('Ս. Մարդանյան'!#REF!+Ն.Բադալյան!#REF!+Ս.Մխիթարյան!#REF!+Մ.Կիրակոսյան!#REF!+#REF!+#REF!) -> #REF! | AO64: =SUM('Ս. Մարդանյան'!#REF!+Ն.Բադալյան!#REF!+Ս.Մխիթարյան!#REF!+Մ.Կիրակոսյան!#REF!+#REF!+#REF!) -> #REF!
A65: 4.14 | B65: Բուժաշխատողի կողմից մասնագիտական պարտականությունները չկատարելը կամ ոչ պատշաճ կատարելը | C65: 187 | D65: =SUM('Ս. Մարդանյան'!D65+Ն.Բադալյան!D65+Ս.Մխիթարյան!D65+Մ.Կիրակոսյան!D65+#REF!+#REF!) -> #REF! | E65: =SUM('Ս. Մարդանյան'!E65+Ն.Բադալյան!E65+Ս.Մխիթարյան!E65+Մ.Կիրակոսյան!E65+#REF!+#REF!) -> #REF! | F65: =SUM('Ս. Մարդանյան'!F65+Ն.Բադալյան!F65+Ս.Մխիթարյան!F65+Մ.Կիրակոսյան!F65+#REF!+#REF!) -> #REF! | G65: =SUM('Ս. Մարդանյան'!G65+Ն.Բադալյան!G65+Ս.Մխիթարյան!G65+Մ.Կիրակոսյան!G65+#REF!+#REF!) -> #REF! | H65: =SUM('Ս. Մարդանյան'!H65+Ն.Բադալյան!H65+Ս.Մխիթարյան!H65+Մ.Կիրակոսյան!H65+#REF!+#REF!) -> #REF! | I65: =SUM('Ս. Մարդանյան'!I65+Ն.Բադալյան!I65+Ս.Մխիթարյան!I65+Մ.Կիրակոսյան!I65+#REF!+#REF!) -> #REF! | J65: =SUM('Ս. Մարդանյան'!J65+Ն.Բադալյան!J65+Ս.Մխիթարյան!J65+Մ.Կիրակոսյան!J65+#REF!+#REF!) -> #REF! | K65: =SUM('Ս. Մարդանյան'!K65+Ն.Բադալյան!K65+Ս.Մխիթարյան!K65+Մ.Կիրակոսյան!K65+#REF!+#REF!) -> #REF! | ... AG65: =SUM('Ս. Մարդանյան'!AG65+Ն.Բադալյան!AG65+Ս.Մխիթարյան!AG65+Մ.Կիրակոսյան!AG65+#REF!+#REF!) -> #REF! | AH65: =SUM('Ս. Մարդանյան'!#REF!+Ն.Բադալյան!#REF!+Ս.Մխիթարյան!#REF!+Մ.Կիրակոսյան!#REF!+#REF!+#REF!) -> #REF! | AI65: =SUM('Ս. Մարդանյան'!#REF!+Ն.Բադալյան!#REF!+Ս.Մխիթարյան!#REF!+Մ.Կիրակոսյան!#REF!+#REF!+#REF!) -> #REF! | AJ65: =SUM('Ս. Մարդանյան'!#REF!+Ն.Բադալյան!#REF!+Ս.Մխիթարյան!#REF!+Մ.Կիրակոսյան!#REF!+#REF!+#REF!) -> #REF! | AK65: =SUM('Ս. Մարդանյան'!#REF!+Ն.Բադալյան!#REF!+Ս.Մխիթարյան!#REF!+Մ.Կիրակոսյան!#REF!+#REF!+#REF!) -> #REF! | AL65: =SUM('Ս. Մարդանյան'!#REF!+Ն.Բադալյան!#REF!+Ս.Մխիթարյան!#REF!+Մ.Կիրակոսյան!#REF!+#REF!+#REF!) -> #REF! | AM65: =SUM('Ս. Մարդանյան'!#REF!+Ն.Բադալյան!#REF!+Ս.Մխիթարյան!#REF!+Մ.Կիրակոսյան!#REF!+#REF!+#REF!) -> #REF! | AN65: =SUM('Ս. Մարդանյան'!#REF!+Ն.Բադալյան!#REF!+Ս.Մխիթարյան!#REF!+Մ.Կիրակոսյան!#REF!+#REF!+#REF!) -> #REF! | AO65: =SUM('Ս. Մարդանյան'!#REF!+Ն.Բադալյան!#REF!+Ս.Մխիթարյան!#REF!+Մ.Կիրակոսյան!#REF!+#REF!+#REF!) -> #REF!
A66: 5. | B66: Ընդհամենը ազատության, պատվի, արժանապատվության, ֆիզիկական կամ հոգեկան անձեռնմխելիության դեմ ուղղված հանցագործությունները | D66: =SUM('Ս. Մարդանյան'!D66+Ն.Բադալյան!D66+Ս.Մխիթարյան!D66+Մ.Կիրակոսյան!D66+#REF!+#REF!) -> #REF! | E66: =SUM('Ս. Մարդանյան'!E66+Ն.Բադալյան!E66+Ս.Մխիթարյան!E66+Մ.Կիրակոսյան!E66+#REF!+#REF!) -> #REF! | F66: =SUM('Ս. Մարդանյան'!F66+Ն.Բադալյան!F66+Ս.Մխիթարյան!F66+Մ.Կիրակոսյան!F66+#REF!+#REF!) -> #REF! | G66: =SUM('Ս. Մարդանյան'!G66+Ն.Բադալյան!G66+Ս.Մխիթարյան!G66+Մ.Կիրակոսյան!G66+#REF!+#REF!) -> #REF! | H66: =SUM('Ս. Մարդանյան'!H66+Ն.Բադալյան!H66+Ս.Մխիթարյան!H66+Մ.Կիրակոսյան!H66+#REF!+#REF!) -> #REF! | I66: =SUM('Ս. Մարդանյան'!I66+Ն.Բադալյան!I66+Ս.Մխիթարյան!I66+Մ.Կիրակոսյան!I66+#REF!+#REF!) -> #REF! | J66: =SUM('Ս. Մարդանյան'!J66+Ն.Բադալյան!J66+Ս.Մխիթարյան!J66+Մ.Կիրակոսյան!J66+#REF!+#REF!) -> #REF! | K66: =SUM('Ս. Մարդանյան'!K66+Ն.Բադալյան!K66+Ս.Մխիթարյան!K66+Մ.Կիրակոսյան!K66+#REF!+#REF!) -> #REF! | ... AG66: =SUM('Ս. Մարդանյան'!AG66+Ն.Բադալյան!AG66+Ս.Մխիթարյան!AG66+Մ.Կիրակոսյան!AG66+#REF!+#REF!) -> #REF! | AH66: =SUM('Ս. Մարդանյան'!#REF!+Ն.Բադալյան!#REF!+Ս.Մխիթարյան!#REF!+Մ.Կիրակոսյան!#REF!+#REF!+#REF!) -> #REF! | AI66: =SUM('Ս. Մարդանյան'!#REF!+Ն.Բադալյան!#REF!+Ս.Մխիթարյան!#REF!+Մ.Կիրակոսյան!#REF!+#REF!+#REF!) -> #REF! | AJ66: =SUM('Ս. Մարդանյան'!#REF!+Ն.Բադալյան!#REF!+Ս.Մխիթարյան!#REF!+Մ.Կիրակոսյան!#REF!+#REF!+#REF!) -> #REF! | AK66: =SUM('Ս. Մարդանյան'!#REF!+Ն.Բադալյան!#REF!+Ս.Մխիթարյան!#REF!+Մ.Կիրակոսյան!#REF!+#REF!+#REF!) -> #REF! | AL66: =SUM('Ս. Մարդանյան'!#REF!+Ն.Բադալյան!#REF!+Ս.Մխիթարյան!#REF!+Մ.Կիրակոսյան!#REF!+#REF!+#REF!) -> #REF! | AM66: =SUM('Ս. Մարդանյան'!#REF!+Ն.Բադալյան!#REF!+Ս.Մխիթարյան!#REF!+Մ.Կիրակոսյան!#REF!+#REF!+#REF!) -> #REF! | AN66: =SUM('Ս. Մարդանյան'!#REF!+Ն.Բադալյան!#REF!+Ս.Մխիթարյան!#REF!+Մ.Կիրակոսյան!#REF!+#REF!+#REF!) -> #REF! | AO66: =SUM('Ս. Մարդանյան'!#REF!+Ն.Բադալյան!#REF!+Ս.Մխիթարյան!#REF!+Մ.Կիրակոսյան!#REF!+#REF!+#REF!) -> #REF!
A67: 5.1 | B67: Մարդու թրաֆիքինգը կամ շահագործումը | C67: 188 | D67: =SUM('Ս. Մարդանյան'!D67+Ն.Բադալյան!D67+Ս.Մխիթարյան!D67+Մ.Կիրակոսյան!D67+#REF!+#REF!) -> #REF! | E67: =SUM('Ս. Մարդանյան'!E67+Ն.Բադալյան!E67+Ս.Մխիթարյան!E67+Մ.Կիրակոսյան!E67+#REF!+#REF!) -> #REF! | F67: =SUM('Ս. Մարդանյան'!F67+Ն.Բադալյան!F67+Ս.Մխիթարյան!F67+Մ.Կիրակոսյան!F67+#REF!+#REF!) -> #REF! | G67: =SUM('Ս. Մարդանյան'!G67+Ն.Բադալյան!G67+Ս.Մխիթարյան!G67+Մ.Կիրակոսյան!G67+#REF!+#REF!) -> #REF! | H67: =SUM('Ս. Մարդանյան'!H67+Ն.Բադալյան!H67+Ս.Մխիթարյան!H67+Մ.Կիրակոսյան!H67+#REF!+#REF!) -> #REF! | I67: =SUM('Ս. Մարդանյան'!I67+Ն.Բադալյան!I67+Ս.Մխիթարյան!I67+Մ.Կիրակոսյան!I67+#REF!+#REF!) -> #REF! | J67: =SUM('Ս. Մարդանյան'!J67+Ն.Բադալյան!J67+Ս.Մխիթարյան!J67+Մ.Կիրակոսյան!J67+#REF!+#REF!) -> #REF! | K67: =SUM('Ս. Մարդանյան'!K67+Ն.Բադալյան!K67+Ս.Մխիթարյան!K67+Մ.Կիրակոսյան!K67+#REF!+#REF!) -> #REF! | ... AG67: =SUM('Ս. Մարդանյան'!AG67+Ն.Բադալյան!AG67+Ս.Մխիթարյան!AG67+Մ.Կիրակոսյան!AG67+#REF!+#REF!) -> #REF! | AH67: =SUM('Ս. Մարդանյան'!#REF!+Ն.Բադալյան!#REF!+Ս.Մխիթարյան!#REF!+Մ.Կիրակոսյան!#REF!+#REF!+#REF!) -> #REF! | AI67: =SUM('Ս. Մարդանյան'!#REF!+Ն.Բադալյան!#REF!+Ս.Մխիթարյան!#REF!+Մ.Կիրակոսյան!#REF!+#REF!+#REF!) -> #REF! | AJ67: =SUM('Ս. Մարդանյան'!#REF!+Ն.Բադալյան!#REF!+Ս.Մխիթարյան!#REF!+Մ.Կիրակոսյան!#REF!+#REF!+#REF!) -> #REF! | AK67: =SUM('Ս. Մարդանյան'!#REF!+Ն.Բադալյան!#REF!+Ս.Մխիթարյան!#REF!+Մ.Կիրակոսյան!#REF!+#REF!+#REF!) -> #REF! | AL67: =SUM('Ս. Մարդանյան'!#REF!+Ն.Բադալյան!#REF!+Ս.Մխիթարյան!#REF!+Մ.Կիրակոսյան!#REF!+#REF!+#REF!) -> #REF! | AM67: =SUM('Ս. Մարդանյան'!#REF!+Ն.Բադալյան!#REF!+Ս.Մխիթարյան!#REF!+Մ.Կիրակոսյան!#REF!+#REF!+#REF!) -> #REF! | AN67: =SUM('Ս. Մարդանյան'!#REF!+Ն.Բադալյան!#REF!+Ս.Մխիթարյան!#REF!+Մ.Կիրակոսյան!#REF!+#REF!+#REF!) -> #REF! | AO67: =SUM('Ս. Մարդանյան'!#REF!+Ն.Բադալյան!#REF!+Ս.Մխիթարյան!#REF!+Մ.Կիրակոսյան!#REF!+#REF!+#REF!) -> #REF!
A68: 5.2 | B68: Երեխայի կամ անօգնական վիճակում գտնվողի թրաֆիքինգը կամ շահագործումը | C68: 189 | D68: =SUM('Ս. Մարդանյան'!D68+Ն.Բադալյան!D68+Ս.Մխիթարյան!D68+Մ.Կիրակոսյան!D68+#REF!+#REF!) -> #REF! | E68: =SUM('Ս. Մարդանյան'!E68+Ն.Բադալյան!E68+Ս.Մխիթարյան!E68+Մ.Կիրակոսյան!E68+#REF!+#REF!) -> #REF! | F68: =SUM('Ս. Մարդանյան'!F68+Ն.Բադալյան!F68+Ս.Մխիթարյան!F68+Մ.Կիրակոսյան!F68+#REF!+#REF!) -> #REF! | G68: =SUM('Ս. Մարդանյան'!G68+Ն.Բադալյան!G68+Ս.Մխիթարյան!G68+Մ.Կիրակոսյան!G68+#REF!+#REF!) -> #REF! | H68: =SUM('Ս. Մարդանյան'!H68+Ն.Բադալյան!H68+Ս.Մխիթարյան!H68+Մ.Կիրակոսյան!H68+#REF!+#REF!) -> #REF! | I68: =SUM('Ս. Մարդանյան'!I68+Ն.Բադալյան!I68+Ս.Մխիթարյան!I68+Մ.Կիրակոսյան!I68+#REF!+#REF!) -> #REF! | J68: =SUM('Ս. Մարդանյան'!J68+Ն.Բադալյան!J68+Ս.Մխիթարյան!J68+Մ.Կիրակոսյան!J68+#REF!+#REF!) -> #REF! | K68: =SUM('Ս. Մարդանյան'!K68+Ն.Բադալյան!K68+Ս.Մխիթարյան!K68+Մ.Կիրակոսյան!K68+#REF!+#REF!) -> #REF! | ... AG68: =SUM('Ս. Մարդանյան'!AG68+Ն.Բադալյան!AG68+Ս.Մխիթարյան!AG68+Մ.Կիրակոսյան!AG68+#REF!+#REF!) -> #REF! | AH68: =SUM('Ս. Մարդանյան'!#REF!+Ն.Բադալյան!#REF!+Ս.Մխիթարյան!#REF!+Մ.Կիրակոսյան!#REF!+#REF!+#REF!) -> #REF! | AI68: =SUM('Ս. Մարդանյան'!#REF!+Ն.Բադալյան!#REF!+Ս.Մխիթարյան!#REF!+Մ.Կիրակոսյան!#REF!+#REF!+#REF!) -> #REF! | AJ68: =SUM('Ս. Մարդանյան'!#REF!+Ն.Բադալյան!#REF!+Ս.Մխիթարյան!#REF!+Մ.Կիրակոսյան!#REF!+#REF!+#REF!) -> #REF! | AK68: =SUM('Ս. Մարդանյան'!#REF!+Ն.Բադալյան!#REF!+Ս.Մխիթարյան!#REF!+Մ.Կիրակոսյան!#REF!+#REF!+#REF!) -> #REF! | AL68: =SUM('Ս. Մարդանյան'!#REF!+Ն.Բադալյան!#REF!+Ս.Մխիթարյան!#REF!+Մ.Կիրակոսյան!#REF!+#REF!+#REF!) -> #REF! | AM68: =SUM('Ս. Մարդանյան'!#REF!+Ն.Բադալյան!#REF!+Ս.Մխիթարյան!#REF!+Մ.Կիրակոսյան!#REF!+#REF!+#REF!) -> #REF! | AN68: =SUM('Ս. Մարդանյան'!#REF!+Ն.Բադալյան!#REF!+Ս.Մխիթարյան!#REF!+Մ.Կիրակոսյան!#REF!+#REF!+#REF!) -> #REF! | AO68: =SUM('Ս. Մարդանյան'!#REF!+Ն.Բադալյան!#REF!+Ս.Մխիթարյան!#REF!+Մ.Կիրակոսյան!#REF!+#REF!+#REF!) -> #REF!
A69: 5.3 | B69: Շահագործման վիճակում գտնվող մարդու ծառայությունից օգտվելը | C69: 190 | D69: =SUM('Ս. Մարդանյան'!D69+Ն.Բադալյան!D69+Ս.Մխիթարյան!D69+Մ.Կիրակոսյան!D69+#REF!+#REF!) -> #REF! | E69: =SUM('Ս. Մարդանյան'!E69+Ն.Բադալյան!E69+Ս.Մխիթարյան!E69+Մ.Կիրակոսյան!E69+#REF!+#REF!) -> #REF! | F69: =SUM('Ս. Մարդանյան'!F69+Ն.Բադալյան!F69+Ս.Մխիթարյան!F69+Մ.Կիրակոսյան!F69+#REF!+#REF!) -> #REF! | G69: =SUM('Ս. Մարդանյան'!G69+Ն.Բադալյան!G69+Ս.Մխիթարյան!G69+Մ.Կիրակոսյան!G69+#REF!+#REF!) -> #REF! | H69: =SUM('Ս. Մարդանյան'!H69+Ն.Բադալյան!H69+Ս.Մխիթարյան!H69+Մ.Կիրակոսյան!H69+#REF!+#REF!) -> #REF! | I69: =SUM('Ս. Մարդանյան'!I69+Ն.Բադալյան!I69+Ս.Մխիթարյան!I69+Մ.Կիրակոսյան!I69+#REF!+#REF!) -> #REF! | J69: =SUM('Ս. Մարդանյան'!J69+Ն.Բադալյան!J69+Ս.Մխիթարյան!J69+Մ.Կիրակոսյան!J69+#REF!+#REF!) -> #REF! | K69: =SUM('Ս. Մարդանյան'!K69+Ն.Բադալյան!K69+Ս.Մխիթարյան!K69+Մ.Կիրակոսյան!K69+#REF!+#REF!) -> #REF! | ... AG69: =SUM('Ս. Մարդանյան'!AG69+Ն.Բադալյան!AG69+Ս.Մխիթարյան!AG69+Մ.Կիրակոսյան!AG69+#REF!+#REF!) -> #REF! | AH69: =SUM('Ս. Մարդանյան'!#REF!+Ն.Բադալյան!#REF!+Ս.Մխիթարյան!#REF!+Մ.Կիրակոսյան!#REF!+#REF!+#REF!) -> #REF! | AI69: =SUM('Ս. Մարդանյան'!#REF!+Ն.Բադալյան!#REF!+Ս.Մխիթարյան!#REF!+Մ.Կիրակոսյան!#REF!+#REF!+#REF!) -> #REF! | AJ69: =SUM('Ս. Մարդանյան'!#REF!+Ն.Բադալյան!#REF!+Ս.Մխիթարյան!#REF!+Մ.Կիրակոսյան!#REF!+#REF!+#REF!) -> #REF! | AK69: =SUM('Ս. Մարդանյան'!#REF!+Ն.Բադալյան!#REF!+Ս.Մխիթարյան!#REF!+Մ.Կիրակոսյան!#REF!+#REF!+#REF!) -> #REF! | AL69: =SUM('Ս. Մարդանյան'!#REF!+Ն.Բադալյան!#REF!+Ս.Մխիթարյան!#REF!+Մ.Կիրակոսյան!#REF!+#REF!+#REF!) -> #REF! | AM69: =SUM('Ս. Մարդանյան'!#REF!+Ն.Բադալյան!#REF!+Ս.Մխիթարյան!#REF!+Մ.Կիրակոսյան!#REF!+#REF!+#REF!) -> #REF! | AN69: =SUM('Ս. Մարդանյան'!#REF!+Ն.Բադալյան!#REF!+Ս.Մխիթարյան!#REF!+Մ.Կիրակոսյան!#REF!+#REF!+#REF!) -> #REF! | AO69: =SUM('Ս. Մարդանյան'!#REF!+Ն.Բադալյան!#REF!+Ս.Մխիթարյան!#REF!+Մ.Կիրակոսյան!#REF!+#REF!+#REF!) -> #REF!
A70: 5.4 | B70: Մարդուն առևանգելը | C70: 191 | D70: =SUM('Ս. Մարդանյան'!D70+Ն.Բադալյան!D70+Ս.Մխիթարյան!D70+Մ.Կիրակոսյան!D70+#REF!+#REF!) -> #REF! | E70: =SUM('Ս. Մարդանյան'!E70+Ն.Բադալյան!E70+Ս.Մխիթարյան!E70+Մ.Կիրակոսյան!E70+#REF!+#REF!) -> #REF! | F70: =SUM('Ս. Մարդանյան'!F70+Ն.Բադալյան!F70+Ս.Մխիթարյան!F70+Մ.Կիրակոսյան!F70+#REF!+#REF!) -> #REF! | G70: =SUM('Ս. Մարդանյան'!G70+Ն.Բադալյան!G70+Ս.Մխիթարյան!G70+Մ.Կիրակոսյան!G70+#REF!+#REF!) -> #REF! | H70: =SUM('Ս. Մարդանյան'!H70+Ն.Բադալյան!H70+Ս.Մխիթարյան!H70+Մ.Կիրակոսյան!H70+#REF!+#REF!) -> #REF! | I70: =SUM('Ս. Մարդանյան'!I70+Ն.Բադալյան!I70+Ս.Մխիթարյան!I70+Մ.Կիրակոսյան!I70+#REF!+#REF!) -> #REF! | J70: =SUM('Ս. Մարդանյան'!J70+Ն.Բադալյան!J70+Ս.Մխիթարյան!J70+Մ.Կիրակոսյան!J70+#REF!+#REF!) -> #REF! | K70: =SUM('Ս. Մարդանյան'!K70+Ն.Բադալյան!K70+Ս.Մխիթարյան!K70+Մ.Կիրակոսյան!K70+#REF!+#REF!) -> #REF! | ... AG70: =SUM('Ս. Մարդանյան'!AG70+Ն.Բադալյան!AG70+Ս.Մխիթարյան!AG70+Մ.Կիրակոսյան!AG70+#REF!+#REF!) -> #REF! | AH70: =SUM('Ս. Մարդանյան'!#REF!+Ն.Բադալյան!#REF!+Ս.Մխիթարյան!#REF!+Մ.Կիրակոսյան!#REF!+#REF!+#REF!) -> #REF! | AI70: =SUM('Ս. Մարդանյան'!#REF!+Ն.Բադալյան!#REF!+Ս.Մխիթարյան!#REF!+Մ.Կիրակոսյան!#REF!+#REF!+#REF!) -> #REF! | AJ70: =SUM('Ս. Մարդանյան'!#REF!+Ն.Բադալյան!#REF!+Ս.Մխիթարյան!#REF!+Մ.Կիրակոսյան!#REF!+#REF!+#REF!) -> #REF! | AK70: =SUM('Ս. Մարդանյան'!#REF!+Ն.Բադալյան!#REF!+Ս.Մխիթարյան!#REF!+Մ.Կիրակոսյան!#REF!+#REF!+#REF!) -> #REF! | AL70: =SUM('Ս. Մարդանյան'!#REF!+Ն.Բադալյան!#REF!+Ս.Մխիթարյան!#REF!+Մ.Կիրակոսյան!#REF!+#REF!+#REF!) -> #REF! | AM70: =SUM('Ս. Մարդանյան'!#REF!+Ն.Բադալյան!#REF!+Ս.Մխիթարյան!#REF!+Մ.Կիրակոսյան!#REF!+#REF!+#REF!) -> #REF! | AN70: =SUM('Ս. Մարդանյան'!#REF!+Ն.Բադալյան!#REF!+Ս.Մխիթարյան!#REF!+Մ.Կիրակոսյան!#REF!+#REF!+#REF!) -> #REF! | AO70: =SUM('Ս. Մարդանյան'!#REF!+Ն.Բադալյան!#REF!+Ս.Մխիթարյան!#REF!+Մ.Կիրակոսյան!#REF!+#REF!+#REF!) -> #REF!
A71: 5.5 | B71: Ազատությունից ապօրինի զրկելը | C71: 192 | D71: =SUM('Ս. Մարդանյան'!D71+Ն.Բադալյան!D71+Ս.Մխիթարյան!D71+Մ.Կիրակոսյան!D71+#REF!+#REF!) -> #REF! | E71: =SUM('Ս. Մարդանյան'!E71+Ն.Բադալյան!E71+Ս.Մխիթարյան!E71+Մ.Կիրակոսյան!E71+#REF!+#REF!) -> #REF! | F71: =SUM('Ս. Մարդանյան'!F71+Ն.Բադալյան!F71+Ս.Մխիթարյան!F71+Մ.Կիրակոսյան!F71+#REF!+#REF!) -> #REF! | G71: =SUM('Ս. Մարդանյան'!G71+Ն.Բադալյան!G71+Ս.Մխիթարյան!G71+Մ.Կիրակոսյան!G71+#REF!+#REF!) -> #REF! | H71: =SUM('Ս. Մարդանյան'!H71+Ն.Բադալյան!H71+Ս.Մխիթարյան!H71+Մ.Կիրակոսյան!H71+#REF!+#REF!) -> #REF! | I71: =SUM('Ս. Մարդանյան'!I71+Ն.Բադալյան!I71+Ս.Մխիթարյան!I71+Մ.Կիրակոսյան!I71+#REF!+#REF!) -> #REF! | J71: =SUM('Ս. Մարդանյան'!J71+Ն.Բադալյան!J71+Ս.Մխիթարյան!J71+Մ.Կիրակոսյան!J71+#REF!+#REF!) -> #REF! | K71: =SUM('Ս. Մարդանյան'!K71+Ն.Բադալյան!K71+Ս.Մխիթարյան!K71+Մ.Կիրակոսյան!K71+#REF!+#REF!) -> #REF! | ... AG71: =SUM('Ս. Մարդանյան'!AG71+Ն.Բադալյան!AG71+Ս.Մխիթարյան!AG71+Մ.Կիրակոսյան!AG71+#REF!+#REF!) -> #REF! | AH71: =SUM('Ս. Մարդանյան'!#REF!+Ն.Բադալյան!#REF!+Ս.Մխիթարյան!#REF!+Մ.Կիրակոսյան!#REF!+#REF!+#REF!) -> #REF! | AI71: =SUM('Ս. Մարդանյան'!#REF!+Ն.Բադալյան!#REF!+Ս.Մխիթարյան!#REF!+Մ.Կիրակոսյան!#REF!+#REF!+#REF!) -> #REF! | AJ71: =SUM('Ս. Մարդանյան'!#REF!+Ն.Բադալյան!#REF!+Ս.Մխիթարյան!#REF!+Մ.Կիրակոսյան!#REF!+#REF!+#REF!) -> #REF! | AK71: =SUM('Ս. Մարդանյան'!#REF!+Ն.Բադալյան!#REF!+Ս.Մխիթարյան!#REF!+Մ.Կիրակոսյան!#REF!+#REF!+#REF!) -> #REF! | AL71: =SUM('Ս. Մարդանյան'!#REF!+Ն.Բադալյան!#REF!+Ս.Մխիթարյան!#REF!+Մ.Կիրակոսյան!#REF!+#REF!+#REF!) -> #REF! | AM71: =SUM('Ս. Մարդանյան'!#REF!+Ն.Բադալյան!#REF!+Ս.Մխիթարյան!#REF!+Մ.Կիրակոսյան!#REF!+#REF!+#REF!) -> #REF! | AN71: =SUM('Ս. Մարդանյան'!#REF!+Ն.Բադալյան!#REF!+Ս.Մխիթարյան!#REF!+Մ.Կիրակոսյան!#REF!+#REF!+#REF!) -> #REF! | AO71: =SUM('Ս. Մարդանյան'!#REF!+Ն.Բադալյան!#REF!+Ս.Մխիթարյան!#REF!+Մ.Կիրակոսյան!#REF!+#REF!+#REF!) -> #REF!
A72: 5.6 | B72: Հոգեբուժական կազմակերպությունում ապօրինի տեղավորելը կամ պահելը | C72: 193 | D72: =SUM('Ս. Մարդանյան'!D72+Ն.Բադալյան!D72+Ս.Մխիթարյան!D72+Մ.Կիրակոսյան!D72+#REF!+#REF!) -> #REF! | E72: =SUM('Ս. Մարդանյան'!E72+Ն.Բադալյան!E72+Ս.Մխիթարյան!E72+Մ.Կիրակոսյան!E72+#REF!+#REF!) -> #REF! | F72: =SUM('Ս. Մարդանյան'!F72+Ն.Բադալյան!F72+Ս.Մխիթարյան!F72+Մ.Կիրակոսյան!F72+#REF!+#REF!) -> #REF! | G72: =SUM('Ս. Մարդանյան'!G72+Ն.Բադալյան!G72+Ս.Մխիթարյան!G72+Մ.Կիրակոսյան!G72+#REF!+#REF!) -> #REF! | H72: =SUM('Ս. Մարդանյան'!H72+Ն.Բադալյան!H72+Ս.Մխիթարյան!H72+Մ.Կիրակոսյան!H72+#REF!+#REF!) -> #REF! | I72: =SUM('Ս. Մարդանյան'!I72+Ն.Բադալյան!I72+Ս.Մխիթարյան!I72+Մ.Կիրակոսյան!I72+#REF!+#REF!) -> #REF! | J72: =SUM('Ս. Մարդանյան'!J72+Ն.Բադալյան!J72+Ս.Մխիթարյան!J72+Մ.Կիրակոսյան!J72+#REF!+#REF!) -> #REF! | K72: =SUM('Ս. Մարդանյան'!K72+Ն.Բադալյան!K72+Ս.Մխիթարյան!K72+Մ.Կիրակոսյան!K72+#REF!+#REF!) -> #REF! | ... AG72: =SUM('Ս. Մարդանյան'!AG72+Ն.Բադալյան!AG72+Ս.Մխիթարյան!AG72+Մ.Կիրակոսյան!AG72+#REF!+#REF!) -> #REF! | AH72: =SUM('Ս. Մարդանյան'!#REF!+Ն.Բադալյան!#REF!+Ս.Մխիթարյան!#REF!+Մ.Կիրակոսյան!#REF!+#REF!+#REF!) -> #REF! | AI72: =SUM('Ս. Մարդանյան'!#REF!+Ն.Բադալյան!#REF!+Ս.Մխիթարյան!#REF!+Մ.Կիրակոսյան!#REF!+#REF!+#REF!) -> #REF! | AJ72: =SUM('Ս. Մարդանյան'!#REF!+Ն.Բադալյան!#REF!+Ս.Մխիթարյան!#REF!+Մ.Կիրակոսյան!#REF!+#REF!+#REF!) -> #REF! | AK72: =SUM('Ս. Մարդանյան'!#REF!+Ն.Բադալյան!#REF!+Ս.Մխիթարյան!#REF!+Մ.Կիրակոսյան!#REF!+#REF!+#REF!) -> #REF! | AL72: =SUM('Ս. Մարդանյան'!#REF!+Ն.Բադալյան!#REF!+Ս.Մխիթարյան!#REF!+Մ.Կիրակոսյան!#REF!+#REF!+#REF!) -> #REF! | AM72: =SUM('Ս. Մարդանյան'!#REF!+Ն.Բադալյան!#REF!+Ս.Մխիթարյան!#REF!+Մ.Կիրակոսյան!#REF!+#REF!+#REF!) -> #REF! | AN72: =SUM('Ս. Մարդանյան'!#REF!+Ն.Բադալյան!#REF!+Ս.Մխիթարյան!#REF!+Մ.Կիրակոսյան!#REF!+#REF!+#REF!) -> #REF! | AO72: =SUM('Ս. Մարդանյան'!#REF!+Ն.Բադալյան!#REF!+Ս.Մխիթարյան!#REF!+Մ.Կիրակոսյան!#REF!+#REF!+#REF!) -> #REF!
A73: 5.7 | B73: Հոգեկան ներգործությունը | C73: 194 | D73: =SUM('Ս. Մարդանյան'!D73+Ն.Բադալյան!D73+Ս.Մխիթարյան!D73+Մ.Կիրակոսյան!D73+#REF!+#REF!) -> #REF! | E73: =SUM('Ս. Մարդանյան'!E73+Ն.Բադալյան!E73+Ս.Մխիթարյան!E73+Մ.Կիրակոսյան!E73+#REF!+#REF!) -> #REF! | F73: =SUM('Ս. Մարդանյան'!F73+Ն.Բադալյան!F73+Ս.Մխիթարյան!F73+Մ.Կիրակոսյան!F73+#REF!+#REF!) -> #REF! | G73: =SUM('Ս. Մարդանյան'!G73+Ն.Բադալյան!G73+Ս.Մխիթարյան!G73+Մ.Կիրակոսյան!G73+#REF!+#REF!) -> #REF! | H73: =SUM('Ս. Մարդանյան'!H73+Ն.Բադալյան!H73+Ս.Մխիթարյան!H73+Մ.Կիրակոսյան!H73+#REF!+#REF!) -> #REF! | I73: =SUM('Ս. Մարդանյան'!I73+Ն.Բադալյան!I73+Ս.Մխիթարյան!I73+Մ.Կիրակոսյան!I73+#REF!+#REF!) -> #REF! | J73: =SUM('Ս. Մարդանյան'!J73+Ն.Բադալյան!J73+Ս.Մխիթարյան!J73+Մ.Կիրակոսյան!J73+#REF!+#REF!) -> #REF! | K73: =SUM('Ս. Մարդանյան'!K73+Ն.Բադալյան!K73+Ս.Մխիթարյան!K73+Մ.Կիրակոսյան!K73+#REF!+#REF!) -> #REF! | ... AG73: =SUM('Ս. Մարդանյան'!AG73+Ն.Բադալյան!AG73+Ս.Մխիթարյան!AG73+Մ.Կիրակոսյան!AG73+#REF!+#REF!) -> #REF! | AH73: =SUM('Ս. Մարդանյան'!#REF!+Ն.Բադալյան!#REF!+Ս.Մխիթարյան!#REF!+Մ.Կիրակոսյան!#REF!+#REF!+#REF!) -> #REF! | AI73: =SUM('Ս. Մարդանյան'!#REF!+Ն.Բադալյան!#REF!+Ս.Մխիթարյան!#REF!+Մ.Կիրակոսյան!#REF!+#REF!+#REF!) -> #REF! | AJ73: =SUM('Ս. Մարդանյան'!#REF!+Ն.Բադալյան!#REF!+Ս.Մխիթարյան!#REF!+Մ.Կիրակոսյան!#REF!+#REF!+#REF!) -> #REF! | AK73: =SUM('Ս. Մարդանյան'!#REF!+Ն.Բադալյան!#REF!+Ս.Մխիթարյան!#REF!+Մ.Կիրակոսյան!#REF!+#REF!+#REF!) -> #REF! | AL73: =SUM('Ս. Մարդանյան'!#REF!+Ն.Բադալյան!#REF!+Ս.Մխիթարյան!#REF!+Մ.Կիրակոսյան!#REF!+#REF!+#REF!) -> #REF! | AM73: =SUM('Ս. Մարդանյան'!#REF!+Ն.Բադալյան!#REF!+Ս.Մխիթարյան!#REF!+Մ.Կիրակոսյան!#REF!+#REF!+#REF!) -> #REF! | AN73: =SUM('Ս. Մարդանյան'!#REF!+Ն.Բադալյան!#REF!+Ս.Մխիթարյան!#REF!+Մ.Կիրակոսյան!#REF!+#REF!+#REF!) -> #REF! | AO73: =SUM('Ս. Մարդանյան'!#REF!+Ն.Բադալյան!#REF!+Ս.Մխիթարյան!#REF!+Մ.Կիրակոսյան!#REF!+#REF!+#REF!) -> #REF!
A74: 5.8 | B74: Ֆիզիկական ներգործությունը | C74: 195 | D74: =SUM('Ս. Մարդանյան'!D74+Ն.Բադալյան!D74+Ս.Մխիթարյան!D74+Մ.Կիրակոսյան!D74+#REF!+#REF!) -> #REF! | E74: =SUM('Ս. Մարդանյան'!E74+Ն.Բադալյան!E74+Ս.Մխիթարյան!E74+Մ.Կիրակոսյան!E74+#REF!+#REF!) -> #REF! | F74: =SUM('Ս. Մարդանյան'!F74+Ն.Բադալյան!F74+Ս.Մխիթարյան!F74+Մ.Կիրակոսյան!F74+#REF!+#REF!) -> #REF! | G74: =SUM('Ս. Մարդանյան'!G74+Ն.Բադալյան!G74+Ս.Մխիթարյան!G74+Մ.Կիրակոսյան!G74+#REF!+#REF!) -> #REF! | H74: =SUM('Ս. Մարդանյան'!H74+Ն.Բադալյան!H74+Ս.Մխիթարյան!H74+Մ.Կիրակոսյան!H74+#REF!+#REF!) -> #REF! | I74: =SUM('Ս. Մարդանյան'!I74+Ն.Բադալյան!I74+Ս.Մխիթարյան!I74+Մ.Կիրակոսյան!I74+#REF!+#REF!) -> #REF! | J74: =SUM('Ս. Մարդանյան'!J74+Ն.Բադալյան!J74+Ս.Մխիթարյան!J74+Մ.Կիրակոսյան!J74+#REF!+#REF!) -> #REF! | K74: =SUM('Ս. Մարդանյան'!K74+Ն.Բադալյան!K74+Ս.Մխիթարյան!K74+Մ.Կիրակոսյան!K74+#REF!+#REF!) -> #REF! | ... AG74: =SUM('Ս. Մարդանյան'!AG74+Ն.Բադալյան!AG74+Ս.Մխիթարյան!AG74+Մ.Կիրակոսյան!AG74+#REF!+#REF!) -> #REF! | AH74: =SUM('Ս. Մարդանյան'!#REF!+Ն.Բադալյան!#REF!+Ս.Մխիթարյան!#REF!+Մ.Կիրակոսյան!#REF!+#REF!+#REF!) -> #REF! | AI74: =SUM('Ս. Մարդանյան'!#REF!+Ն.Բադալյան!#REF!+Ս.Մխիթարյան!#REF!+Մ.Կիրակոսյան!#REF!+#REF!+#REF!) -> #REF! | AJ74: =SUM('Ս. Մարդանյան'!#REF!+Ն.Բադալյան!#REF!+Ս.Մխիթարյան!#REF!+Մ.Կիրակոսյան!#REF!+#REF!+#REF!) -> #REF! | AK74: =SUM('Ս. Մարդանյան'!#REF!+Ն.Բադալյան!#REF!+Ս.Մխիթարյան!#REF!+Մ.Կիրակոսյան!#REF!+#REF!+#REF!) -> #REF! | AL74: =SUM('Ս. Մարդանյան'!#REF!+Ն.Բադալյան!#REF!+Ս.Մխիթարյան!#REF!+Մ.Կիրակոսյան!#REF!+#REF!+#REF!) -> #REF! | AM74: =SUM('Ս. Մարդանյան'!#REF!+Ն.Բադալյան!#REF!+Ս.Մխիթարյան!#REF!+Մ.Կիրակոսյան!#REF!+#REF!+#REF!) -> #REF! | AN74: =SUM('Ս. Մարդանյան'!#REF!+Ն.Բադալյան!#REF!+Ս.Մխիթարյան!#REF!+Մ.Կիրակոսյան!#REF!+#REF!+#REF!) -> #REF! | AO74: =SUM('Ս. Մարդանյան'!#REF!+Ն.Բադալյան!#REF!+Ս.Մխիթարյան!#REF!+Մ.Կիրակոսյան!#REF!+#REF!+#REF!) -> #REF!
A75: 5.9 | B75: Ֆիզիկական ուժեղ ցավ կամ հոգեկան ուժեղ տառապանք պատճառելը | C75: 196 | D75: =SUM('Ս. Մարդանյան'!D75+Ն.Բադալյան!D75+Ս.Մխիթարյան!D75+Մ.Կիրակոսյան!D75+#REF!+#REF!) -> #REF! | E75: =SUM('Ս. Մարդանյան'!E75+Ն.Բադալյան!E75+Ս.Մխիթարյան!E75+Մ.Կիրակոսյան!E75+#REF!+#REF!) -> #REF! | F75: =SUM('Ս. Մարդանյան'!F75+Ն.Բադալյան!F75+Ս.Մխիթարյան!F75+Մ.Կիրակոսյան!F75+#REF!+#REF!) -> #REF! | G75: =SUM('Ս. Մարդանյան'!G75+Ն.Բադալյան!G75+Ս.Մխիթարյան!G75+Մ.Կիրակոսյան!G75+#REF!+#REF!) -> #REF! | H75: =SUM('Ս. Մարդանյան'!H75+Ն.Բադալյան!H75+Ս.Մխիթարյան!H75+Մ.Կիրակոսյան!H75+#REF!+#REF!) -> #REF! | I75: =SUM('Ս. Մարդանյան'!I75+Ն.Բադալյան!I75+Ս.Մխիթարյան!I75+Մ.Կիրակոսյան!I75+#REF!+#REF!) -> #REF! | J75: =SUM('Ս. Մարդանյան'!J75+Ն.Բադալյան!J75+Ս.Մխիթարյան!J75+Մ.Կիրակոսյան!J75+#REF!+#REF!) -> #REF! | K75: =SUM('Ս. Մարդանյան'!K75+Ն.Բադալյան!K75+Ս.Մխիթարյան!K75+Մ.Կիրակոսյան!K75+#REF!+#REF!) -> #REF! | ... AG75: =SUM('Ս. Մարդանյան'!AG75+Ն.Բադալյան!AG75+Ս.Մխիթարյան!AG75+Մ.Կիրակոսյան!AG75+#REF!+#REF!) -> #REF! | AH75: =SUM('Ս. Մարդանյան'!#REF!+Ն.Բադալյան!#REF!+Ս.Մխիթարյան!#REF!+Մ.Կիրակոսյան!#REF!+#REF!+#REF!) -> #REF! | AI75: =SUM('Ս. Մարդանյան'!#REF!+Ն.Բադալյան!#REF!+Ս.Մխիթարյան!#REF!+Մ.Կիրակոսյան!#REF!+#REF!+#REF!) -> #REF! | AJ75: =SUM('Ս. Մարդանյան'!#REF!+Ն.Բադալյան!#REF!+Ս.Մխիթարյան!#REF!+Մ.Կիրակոսյան!#REF!+#REF!+#REF!) -> #REF! | AK75: =SUM('Ս. Մարդանյան'!#REF!+Ն.Բադալյան!#REF!+Ս.Մխիթարյան!#REF!+Մ.Կիրակոսյան!#REF!+#REF!+#REF!) -> #REF! | AL75: =SUM('Ս. Մարդանյան'!#REF!+Ն.Բադալյան!#REF!+Ս.Մխիթարյան!#REF!+Մ.Կիրակոսյան!#REF!+#REF!+#REF!) -> #REF! | AM75: =SUM('Ս. Մարդանյան'!#REF!+Ն.Բադալյան!#REF!+Ս.Մխիթարյան!#REF!+Մ.Կիրակոսյան!#REF!+#REF!+#REF!) -> #REF! | AN75: =SUM('Ս. Մարդանյան'!#REF!+Ն.Բադալյան!#REF!+Ս.Մխիթարյան!#REF!+Մ.Կիրակոսյան!#REF!+#REF!+#REF!) -> #REF! | AO75: =SUM('Ս. Մարդանյան'!#REF!+Ն.Բադալյան!#REF!+Ս.Մխիթարյան!#REF!+Մ.Կիրակոսյան!#REF!+#REF!+#REF!) -> #REF!
A76: 5.10 | B76: Ամուսնությանը, ամուսնալուծությանը կամ երեխա ունենալուն հարկադրելը | C76: 197 | D76: =SUM('Ս. Մարդանյան'!D76+Ն.Բադալյան!D76+Ս.Մխիթարյան!D76+Մ.Կիրակոսյան!D76+#REF!+#REF!) -> #REF! | E76: =SUM('Ս. Մարդանյան'!E76+Ն.Բադալյան!E76+Ս.Մխիթարյան!E76+Մ.Կիրակոսյան!E76+#REF!+#REF!) -> #REF! | F76: =SUM('Ս. Մարդանյան'!F76+Ն.Բադալյան!F76+Ս.Մխիթարյան!F76+Մ.Կիրակոսյան!F76+#REF!+#REF!) -> #REF! | G76: =SUM('Ս. Մարդանյան'!G76+Ն.Բադալյան!G76+Ս.Մխիթարյան!G76+Մ.Կիրակոսյան!G76+#REF!+#REF!) -> #REF! | H76: =SUM('Ս. Մարդանյան'!H76+Ն.Բադալյան!H76+Ս.Մխիթարյան!H76+Մ.Կիրակոսյան!H76+#REF!+#REF!) -> #REF! | I76: =SUM('Ս. Մարդանյան'!I76+Ն.Բադալյան!I76+Ս.Մխիթարյան!I76+Մ.Կիրակոսյան!I76+#REF!+#REF!) -> #REF! | J76: =SUM('Ս. Մարդանյան'!J76+Ն.Բադալյան!J76+Ս.Մխիթարյան!J76+Մ.Կիրակոսյան!J76+#REF!+#REF!) -> #REF! | K76: =SUM('Ս. Մարդանյան'!K76+Ն.Բադալյան!K76+Ս.Մխիթարյան!K76+Մ.Կիրակոսյան!K76+#REF!+#REF!) -> #REF! | ... AG76: =SUM('Ս. Մարդանյան'!AG76+Ն.Բադալյան!AG76+Ս.Մխիթարյան!AG76+Մ.Կիրակոսյան!AG76+#REF!+#REF!) -> #REF! | AH76: =SUM('Ս. Մարդանյան'!#REF!+Ն.Բադալյան!#REF!+Ս.Մխիթարյան!#REF!+Մ.Կիրակոսյան!#REF!+#REF!+#REF!) -> #REF! | AI76: =SUM('Ս. Մարդանյան'!#REF!+Ն.Բադալյան!#REF!+Ս.Մխիթարյան!#REF!+Մ.Կիրակոսյան!#REF!+#REF!+#REF!) -> #REF! | AJ76: =SUM('Ս. Մարդանյան'!#REF!+Ն.Բադալյան!#REF!+Ս.Մխիթարյան!#REF!+Մ.Կիրակոսյան!#REF!+#REF!+#REF!) -> #REF! | AK76: =SUM('Ս. Մարդանյան'!#REF!+Ն.Բադալյան!#REF!+Ս.Մխիթարյան!#REF!+Մ.Կիրակոսյան!#REF!+#REF!+#REF!) -> #REF! | AL76: =SUM('Ս. Մարդանյան'!#REF!+Ն.Բադալյան!#REF!+Ս.Մխիթարյան!#REF!+Մ.Կիրակոսյան!#REF!+#REF!+#REF!) -> #REF! | AM76: =SUM('Ս. Մարդանյան'!#REF!+Ն.Բադալյան!#REF!+Ս.Մխիթարյան!#REF!+Մ.Կիրակոսյան!#REF!+#REF!+#REF!) -> #REF! | AN76: =SUM('Ս. Մարդանյան'!#REF!+Ն.Բադալյան!#REF!+Ս.Մխիթարյան!#REF!+Մ.Կիրակոսյան!#REF!+#REF!+#REF!) -> #REF! | AO76: =SUM('Ս. Մարդանյան'!#REF!+Ն.Բադալյան!#REF!+Ս.Մխիթարյան!#REF!+Մ.Կիրակոսյան!#REF!+#REF!+#REF!) -> #REF!
A77: 6 | B77: Ընդհամենը սեռական ազատության և սեռական անձեռնմխելիության դեմ ուղղված հանցագործությունները | D77: =SUM('Ս. Մարդանյան'!D77+Ն.Բադալյան!D77+Ս.Մխիթարյան!D77+Մ.Կիրակոսյան!D77+#REF!+#REF!) -> #REF! | E77: =SUM('Ս. Մարդանյան'!E77+Ն.Բադալյան!E77+Ս.Մխիթարյան!E77+Մ.Կիրակոսյան!E77+#REF!+#REF!) -> #REF! | F77: =SUM('Ս. Մարդանյան'!F77+Ն.Բադալյան!F77+Ս.Մխիթարյան!F77+Մ.Կիրակոսյան!F77+#REF!+#REF!) -> #REF! | G77: =SUM('Ս. Մարդանյան'!G77+Ն.Բադալյան!G77+Ս.Մխիթարյան!G77+Մ.Կիրակոսյան!G77+#REF!+#REF!) -> #REF! | H77: =SUM('Ս. Մարդանյան'!H77+Ն.Բադալյան!H77+Ս.Մխիթարյան!H77+Մ.Կիրակոսյան!H77+#REF!+#REF!) -> #REF! | I77: =SUM('Ս. Մարդանյան'!I77+Ն.Բադալյան!I77+Ս.Մխիթարյան!I77+Մ.Կիրակոսյան!I77+#REF!+#REF!) -> #REF! | J77: =SUM('Ս. Մարդանյան'!J77+Ն.Բադալյան!J77+Ս.Մխիթարյան!J77+Մ.Կիրակոսյան!J77+#REF!+#REF!) -> #REF! | K77: =SUM('Ս. Մարդանյան'!K77+Ն.Բադալյան!K77+Ս.Մխիթարյան!K77+Մ.Կիրակոսյան!K77+#REF!+#REF!) -> #REF! | ... AG77: =SUM('Ս. Մարդանյան'!AG77+Ն.Բադալյան!AG77+Ս.Մխիթարյան!AG77+Մ.Կիրակոսյան!AG77+#REF!+#REF!) -> #REF! | AH77: =SUM('Ս. Մարդանյան'!#REF!+Ն.Բադալյան!#REF!+Ս.Մխիթարյան!#REF!+Մ.Կիրակոսյան!#REF!+#REF!+#REF!) -> #REF! | AI77: =SUM('Ս. Մարդանյան'!#REF!+Ն.Բադալյան!#REF!+Ս.Մխիթարյան!#REF!+Մ.Կիրակոսյան!#REF!+#REF!+#REF!) -> #REF! | AJ77: =SUM('Ս. Մարդանյան'!#REF!+Ն.Բադալյան!#REF!+Ս.Մխիթարյան!#REF!+Մ.Կիրակոսյան!#REF!+#REF!+#REF!) -> #REF! | AK77: =SUM('Ս. Մարդանյան'!#REF!+Ն.Բադալյան!#REF!+Ս.Մխիթարյան!#REF!+Մ.Կիրակոսյան!#REF!+#REF!+#REF!) -> #REF! | AL77: =SUM('Ս. Մարդանյան'!#REF!+Ն.Բադալյան!#REF!+Ս.Մխիթարյան!#REF!+Մ.Կիրակոսյան!#REF!+#REF!+#REF!) -> #REF! | AM77: =SUM('Ս. Մարդանյան'!#REF!+Ն.Բադալյան!#REF!+Ս.Մխիթարյան!#REF!+Մ.Կիրակոսյան!#REF!+#REF!+#REF!) -> #REF! | AN77: =SUM('Ս. Մարդանյան'!#REF!+Ն.Բադալյան!#REF!+Ս.Մխիթարյան!#REF!+Մ.Կիրակոսյան!#REF!+#REF!+#REF!) -> #REF! | AO77: =SUM('Ս. Մարդանյան'!#REF!+Ն.Բադալյան!#REF!+Ս.Մխիթարյան!#REF!+Մ.Կիրակոսյան!#REF!+#REF!+#REF!) -> #REF!
A78: 6.1 | B78: Սեքսուալ բնույթի բռնի գործողությունները | C78: 198 | D78: =SUM('Ս. Մարդանյան'!D78+Ն.Բադալյան!D78+Ս.Մխիթարյան!D78+Մ.Կիրակոսյան!D78+#REF!+#REF!) -> #REF! | E78: =SUM('Ս. Մարդանյան'!E78+Ն.Բադալյան!E78+Ս.Մխիթարյան!E78+Մ.Կիրակոսյան!E78+#REF!+#REF!) -> #REF! | F78: =SUM('Ս. Մարդանյան'!F78+Ն.Բադալյան!F78+Ս.Մխիթարյան!F78+Մ.Կիրակոսյան!F78+#REF!+#REF!) -> #REF! | G78: =SUM('Ս. Մարդանյան'!G78+Ն.Բադալյան!G78+Ս.Մխիթարյան!G78+Մ.Կիրակոսյան!G78+#REF!+#REF!) -> #REF! | H78: =SUM('Ս. Մարդանյան'!H78+Ն.Բադալյան!H78+Ս.Մխիթարյան!H78+Մ.Կիրակոսյան!H78+#REF!+#REF!) -> #REF! | I78: =SUM('Ս. Մարդանյան'!I78+Ն.Բադալյան!I78+Ս.Մխիթարյան!I78+Մ.Կիրակոսյան!I78+#REF!+#REF!) -> #REF! | J78: =SUM('Ս. Մարդանյան'!J78+Ն.Բադալյան!J78+Ս.Մխիթարյան!J78+Մ.Կիրակոսյան!J78+#REF!+#REF!) -> #REF! | K78: =SUM('Ս. Մարդանյան'!K78+Ն.Բադալյան!K78+Ս.Մխիթարյան!K78+Մ.Կիրակոսյան!K78+#REF!+#REF!) -> #REF! | ... AG78: =SUM('Ս. Մարդանյան'!AG78+Ն.Բադալյան!AG78+Ս.Մխիթարյան!AG78+Մ.Կիրակոսյան!AG78+#REF!+#REF!) -> #REF! | AH78: =SUM('Ս. Մարդանյան'!#REF!+Ն.Բադալյան!#REF!+Ս.Մխիթարյան!#REF!+Մ.Կիրակոսյան!#REF!+#REF!+#REF!) -> #REF! | AI78: =SUM('Ս. Մարդանյան'!#REF!+Ն.Բադալյան!#REF!+Ս.Մխիթարյան!#REF!+Մ.Կիրակոսյան!#REF!+#REF!+#REF!) -> #REF! | AJ78: =SUM('Ս. Մարդանյան'!#REF!+Ն.Բադալյան!#REF!+Ս.Մխիթարյան!#REF!+Մ.Կիրակոսյան!#REF!+#REF!+#REF!) -> #REF! | AK78: =SUM('Ս. Մարդանյան'!#REF!+Ն.Բադալյան!#REF!+Ս.Մխիթարյան!#REF!+Մ.Կիրակոսյան!#REF!+#REF!+#REF!) -> #REF! | AL78: =SUM('Ս. Մարդանյան'!#REF!+Ն.Բադալյան!#REF!+Ս.Մխիթարյան!#REF!+Մ.Կիրակոսյան!#REF!+#REF!+#REF!) -> #REF! | AM78: =SUM('Ս. Մարդանյան'!#REF!+Ն.Բադալյան!#REF!+Ս.Մխիթարյան!#REF!+Մ.Կիրակոսյան!#REF!+#REF!+#REF!) -> #REF! | AN78: =SUM('Ս. Մարդանյան'!#REF!+Ն.Բադալյան!#REF!+Ս.Մխիթարյան!#REF!+Մ.Կիրակոսյան!#REF!+#REF!+#REF!) -> #REF! | AO78: =SUM('Ս. Մարդանյան'!#REF!+Ն.Բադալյան!#REF!+Ս.Մխիթարյան!#REF!+Մ.Կիրակոսյան!#REF!+#REF!+#REF!) -> #REF!
A79: 6.2 | B79: Սեքսուալ բնույթի գործողություններին հարկադրելը | C79: 199 | D79: =SUM('Ս. Մարդանյան'!D79+Ն.Բադալյան!D79+Ս.Մխիթարյան!D79+Մ.Կիրակոսյան!D79+#REF!+#REF!) -> #REF! | E79: =SUM('Ս. Մարդանյան'!E79+Ն.Բադալյան!E79+Ս.Մխիթարյան!E79+Մ.Կիրակոսյան!E79+#REF!+#REF!) -> #REF! | F79: =SUM('Ս. Մարդանյան'!F79+Ն.Բադալյան!F79+Ս.Մխիթարյան!F79+Մ.Կիրակոսյան!F79+#REF!+#REF!) -> #REF! | G79: =SUM('Ս. Մարդանյան'!G79+Ն.Բադալյան!G79+Ս.Մխիթարյան!G79+Մ.Կիրակոսյան!G79+#REF!+#REF!) -> #REF! | H79: =SUM('Ս. Մարդանյան'!H79+Ն.Բադալյան!H79+Ս.Մխիթարյան!H79+Մ.Կիրակոսյան!H79+#REF!+#REF!) -> #REF! | I79: =SUM('Ս. Մարդանյան'!I79+Ն.Բադալյան!I79+Ս.Մխիթարյան!I79+Մ.Կիրակոսյան!I79+#REF!+#REF!) -> #REF! | J79: =SUM('Ս. Մարդանյան'!J79+Ն.Բադալյան!J79+Ս.Մխիթարյան!J79+Մ.Կիրակոսյան!J79+#REF!+#REF!) -> #REF! | K79: =SUM('Ս. Մարդանյան'!K79+Ն.Բադալյան!K79+Ս.Մխիթարյան!K79+Մ.Կիրակոսյան!K79+#REF!+#REF!) -> #REF! | ... AG79: =SUM('Ս. Մարդանյան'!AG79+Ն.Բադալյան!AG79+Ս.Մխիթարյան!AG79+Մ.Կիրակոսյան!AG79+#REF!+#REF!) -> #REF! | AH79: =SUM('Ս. Մարդանյան'!#REF!+Ն.Բադալյան!#REF!+Ս.Մխիթարյան!#REF!+Մ.Կիրակոսյան!#REF!+#REF!+#REF!) -> #REF! | AI79: =SUM('Ս. Մարդանյան'!#REF!+Ն.Բադալյան!#REF!+Ս.Մխիթարյան!#REF!+Մ.Կիրակոսյան!#REF!+#REF!+#REF!) -> #REF! | AJ79: =SUM('Ս. Մարդանյան'!#REF!+Ն.Բադալյան!#REF!+Ս.Մխիթարյան!#REF!+Մ.Կիրակոսյան!#REF!+#REF!+#REF!) -> #REF! | AK79: =SUM('Ս. Մարդանյան'!#REF!+Ն.Բադալյան!#REF!+Ս.Մխիթարյան!#REF!+Մ.Կիրակոսյան!#REF!+#REF!+#REF!) -> #REF! | AL79: =SUM('Ս. Մարդանյան'!#REF!+Ն.Բադալյան!#REF!+Ս.Մխիթարյան!#REF!+Մ.Կիրակոսյան!#REF!+#REF!+#REF!) -> #REF! | AM79: =SUM('Ս. Մարդանյան'!#REF!+Ն.Բադալյան!#REF!+Ս.Մխիթարյան!#REF!+Մ.Կիրակոսյան!#REF!+#REF!+#REF!) -> #REF! | AN79: =SUM('Ս. Մարդանյան'!#REF!+Ն.Բադալյան!#REF!+Ս.Մխիթարյան!#REF!+Մ.Կիրակոսյան!#REF!+#REF!+#REF!) -> #REF! | AO79: =SUM('Ս. Մարդանյան'!#REF!+Ն.Բադալյան!#REF!+Ս.Մխիթարյան!#REF!+Մ.Կիրակոսյան!#REF!+#REF!+#REF!) -> #REF!
A80: 6.3 | B80: Սեքսուալ բնույթի գործողություններ կատարելը 16 տարին չլրացած անձի նկատմամբ | C80: 200 | D80: =SUM('Ս. Մարդանյան'!D80+Ն.Բադալյան!D80+Ս.Մխիթարյան!D80+Մ.Կիրակոսյան!D80+#REF!+#REF!) -> #REF! | E80: =SUM('Ս. Մարդանյան'!E80+Ն.Բադալյան!E80+Ս.Մխիթարյան!E80+Մ.Կիրակոսյան!E80+#REF!+#REF!) -> #REF! | F80: =SUM('Ս. Մարդանյան'!F80+Ն.Բադալյան!F80+Ս.Մխիթարյան!F80+Մ.Կիրակոսյան!F80+#REF!+#REF!) -> #REF! | G80: =SUM('Ս. Մարդանյան'!G80+Ն.Բադալյան!G80+Ս.Մխիթարյան!G80+Մ.Կիրակոսյան!G80+#REF!+#REF!) -> #REF! | H80: =SUM('Ս. Մարդանյան'!H80+Ն.Բադալյան!H80+Ս.Մխիթարյան!H80+Մ.Կիրակոսյան!H80+#REF!+#REF!) -> #REF! | I80: =SUM('Ս. Մարդանյան'!I80+Ն.Բադալյան!I80+Ս.Մխիթարյան!I80+Մ.Կիրակոսյան!I80+#REF!+#REF!) -> #REF! | J80: =SUM('Ս. Մարդանյան'!J80+Ն.Բադալյան!J80+Ս.Մխիթարյան!J80+Մ.Կիրակոսյան!J80+#REF!+#REF!) -> #REF! | K80: =SUM('Ս. Մարդանյան'!K80+Ն.Բադալյան!K80+Ս.Մխիթարյան!K80+Մ.Կիրակոսյան!K80+#REF!+#REF!) -> #REF! | ... AG80: =SUM('Ս. Մարդանյան'!AG80+Ն.Բադալյան!AG80+Ս.Մխիթարյան!AG80+Մ.Կիրակոսյան!AG80+#REF!+#REF!) -> #REF! | AH80: =SUM('Ս. Մարդանյան'!#REF!+Ն.Բադալյան!#REF!+Ս.Մխիթարյան!#REF!+Մ.Կիրակոսյան!#REF!+#REF!+#REF!) -> #REF! | AI80: =SUM('Ս. Մարդանյան'!#REF!+Ն.Բադալյան!#REF!+Ս.Մխիթարյան!#REF!+Մ.Կիրակոսյան!#REF!+#REF!+#REF!) -> #REF! | AJ80: =SUM('Ս. Մարդանյան'!#REF!+Ն.Բադալյան!#REF!+Ս.Մխիթարյան!#REF!+Մ.Կիրակոսյան!#REF!+#REF!+#REF!) -> #REF! | AK80: =SUM('Ս. Մարդանյան'!#REF!+Ն.Բադալյան!#REF!+Ս.Մխիթարյան!#REF!+Մ.Կիրակոսյան!#REF!+#REF!+#REF!) -> #REF! | AL80: =SUM('Ս. Մարդանյան'!#REF!+Ն.Բադալյան!#REF!+Ս.Մխիթարյան!#REF!+Մ.Կիրակոսյան!#REF!+#REF!+#REF!) -> #REF! | AM80: =SUM('Ս. Մարդանյան'!#REF!+Ն.Բադալյան!#REF!+Ս.Մխիթարյան!#REF!+Մ.Կիրակոսյան!#REF!+#REF!+#REF!) -> #REF! | AN80: =SUM('Ս. Մարդանյան'!#REF!+Ն.Բադալյան!#REF!+Ս.Մխիթարյան!#REF!+Մ.Կիրակոսյան!#REF!+#REF!+#REF!) -> #REF! | AO80: =SUM('Ս. Մարդանյան'!#REF!+Ն.Բադալյան!#REF!+Ս.Մխիթարյան!#REF!+Մ.Կիրակոսյան!#REF!+#REF!+#REF!) -> #REF!
A81: 6.4 | B81: Անառակաբարո արարք կատարելը | C81: 201 | D81: =SUM('Ս. Մարդանյան'!D81+Ն.Բադալյան!D81+Ս.Մխիթարյան!D81+Մ.Կիրակոսյան!D81+#REF!+#REF!) -> #REF! | E81: =SUM('Ս. Մարդանյան'!E81+Ն.Բադալյան!E81+Ս.Մխիթարյան!E81+Մ.Կիրակոսյան!E81+#REF!+#REF!) -> #REF! | F81: =SUM('Ս. Մարդանյան'!F81+Ն.Բադալյան!F81+Ս.Մխիթարյան!F81+Մ.Կիրակոսյան!F81+#REF!+#REF!) -> #REF! | G81: =SUM('Ս. Մարդանյան'!G81+Ն.Բադալյան!G81+Ս.Մխիթարյան!G81+Մ.Կիրակոսյան!G81+#REF!+#REF!) -> #REF! | H81: =SUM('Ս. Մարդանյան'!H81+Ն.Բադալյան!H81+Ս.Մխիթարյան!H81+Մ.Կիրակոսյան!H81+#REF!+#REF!) -> #REF! | I81: =SUM('Ս. Մարդանյան'!I81+Ն.Բադալյան!I81+Ս.Մխիթարյան!I81+Մ.Կիրակոսյան!I81+#REF!+#REF!) -> #REF! | J81: =SUM('Ս. Մարդանյան'!J81+Ն.Բադալյան!J81+Ս.Մխիթարյան!J81+Մ.Կիրակոսյան!J81+#REF!+#REF!) -> #REF! | K81: =SUM('Ս. Մարդանյան'!K81+Ն.Բադալյան!K81+Ս.Մխիթարյան!K81+Մ.Կիրակոսյան!K81+#REF!+#REF!) -> #REF! | ... AG81: =SUM('Ս. Մարդանյան'!AG81+Ն.Բադալյան!AG81+Ս.Մխիթարյան!AG81+Մ.Կիրակոսյան!AG81+#REF!+#REF!) -> #REF! | AH81: =SUM('Ս. Մարդանյան'!#REF!+Ն.Բադալյան!#REF!+Ս.Մխիթարյան!#REF!+Մ.Կիրակոսյան!#REF!+#REF!+#REF!) -> #REF! | AI81: =SUM('Ս. Մարդանյան'!#REF!+Ն.Բադալյան!#REF!+Ս.Մխիթարյան!#REF!+Մ.Կիրակոսյան!#REF!+#REF!+#REF!) -> #REF! | AJ81: =SUM('Ս. Մարդանյան'!#REF!+Ն.Բադալյան!#REF!+Ս.Մխիթարյան!#REF!+Մ.Կիրակոսյան!#REF!+#REF!+#REF!) -> #REF! | AK81: =SUM('Ս. Մարդանյան'!#REF!+Ն.Բադալյան!#REF!+Ս.Մխիթարյան!#REF!+Մ.Կիրակոսյան!#REF!+#REF!+#REF!) -> #REF! | AL81: =SUM('Ս. Մարդանյան'!#REF!+Ն.Բադալյան!#REF!+Ս.Մխիթարյան!#REF!+Մ.Կիրակոսյան!#REF!+#REF!+#REF!) -> #REF! | AM81: =SUM('Ս. Մարդանյան'!#REF!+Ն.Բադալյան!#REF!+Ս.Մխիթարյան!#REF!+Մ.Կիրակոսյան!#REF!+#REF!+#REF!) -> #REF! | AN81: =SUM('Ս. Մարդանյան'!#REF!+Ն.Բադալյան!#REF!+Ս.Մխիթարյան!#REF!+Մ.Կիրակոսյան!#REF!+#REF!+#REF!) -> #REF! | AO81: =SUM('Ս. Մարդանյան'!#REF!+Ն.Բադալյան!#REF!+Ս.Մխիթարյան!#REF!+Մ.Կիրակոսյան!#REF!+#REF!+#REF!) -> #REF!
A82: 6.5 | B82: 16 տարին չլրացած անձին սեռական հարաբերություն կամ սեքսուալ բնույթի այլ գործողություններ կամ մանկական պոռնոգրաֆիա ստեղծել կամ արտադրել առաջարկելը (գրումինգ) | C82: 202 | D82: =SUM('Ս. Մարդանյան'!D82+Ն.Բադալյան!D82+Ս.Մխիթարյան!D82+Մ.Կիրակոսյան!D82+#REF!+#REF!) -> #REF! | E82: =SUM('Ս. Մարդանյան'!E82+Ն.Բադալյան!E82+Ս.Մխիթարյան!E82+Մ.Կիրակոսյան!E82+#REF!+#REF!) -> #REF! | F82: =SUM('Ս. Մարդանյան'!F82+Ն.Բադալյան!F82+Ս.Մխիթարյան!F82+Մ.Կիրակոսյան!F82+#REF!+#REF!) -> #REF! | G82: =SUM('Ս. Մարդանյան'!G82+Ն.Բադալյան!G82+Ս.Մխիթարյան!G82+Մ.Կիրակոսյան!G82+#REF!+#REF!) -> #REF! | H82: =SUM('Ս. Մարդանյան'!H82+Ն.Բադալյան!H82+Ս.Մխիթարյան!H82+Մ.Կիրակոսյան!H82+#REF!+#REF!) -> #REF! | I82: =SUM('Ս. Մարդանյան'!I82+Ն.Բադալյան!I82+Ս.Մխիթարյան!I82+Մ.Կիրակոսյան!I82+#REF!+#REF!) -> #REF! | J82: =SUM('Ս. Մարդանյան'!J82+Ն.Բադալյան!J82+Ս.Մխիթարյան!J82+Մ.Կիրակոսյան!J82+#REF!+#REF!) -> #REF! | K82: =SUM('Ս. Մարդանյան'!K82+Ն.Բադալյան!K82+Ս.Մխիթարյան!K82+Մ.Կիրակոսյան!K82+#REF!+#REF!) -> #REF! | ... AG82: =SUM('Ս. Մարդանյան'!AG82+Ն.Բադալյան!AG82+Ս.Մխիթարյան!AG82+Մ.Կիրակոսյան!AG82+#REF!+#REF!) -> #REF! | AH82: =SUM('Ս. Մարդանյան'!#REF!+Ն.Բադալյան!#REF!+Ս.Մխիթարյան!#REF!+Մ.Կիրակոսյան!#REF!+#REF!+#REF!) -> #REF! | AI82: =SUM('Ս. Մարդանյան'!#REF!+Ն.Բադալյան!#REF!+Ս.Մխիթարյան!#REF!+Մ.Կիրակոսյան!#REF!+#REF!+#REF!) -> #REF! | AJ82: =SUM('Ս. Մարդանյան'!#REF!+Ն.Բադալյան!#REF!+Ս.Մխիթարյան!#REF!+Մ.Կիրակոսյան!#REF!+#REF!+#REF!) -> #REF! | AK82: =SUM('Ս. Մարդանյան'!#REF!+Ն.Բադալյան!#REF!+Ս.Մխիթարյան!#REF!+Մ.Կիրակոսյան!#REF!+#REF!+#REF!) -> #REF! | AL82: =SUM('Ս. Մարդանյան'!#REF!+Ն.Բադալյան!#REF!+Ս.Մխիթարյան!#REF!+Մ.Կիրակոսյան!#REF!+#REF!+#REF!) -> #REF! | AM82: =SUM('Ս. Մարդանյան'!#REF!+Ն.Բադալյան!#REF!+Ս.Մխիթարյան!#REF!+Մ.Կիրակոսյան!#REF!+#REF!+#REF!) -> #REF! | AN82: =SUM('Ս. Մարդանյան'!#REF!+Ն.Բադալյան!#REF!+Ս.Մխիթարյան!#REF!+Մ.Կիրակոսյան!#REF!+#REF!+#REF!) -> #REF! | AO82: =SUM('Ս. Մարդանյան'!#REF!+Ն.Բադալյան!#REF!+Ս.Մխիթարյան!#REF!+Մ.Կիրակոսյան!#REF!+#REF!+#REF!) -> #REF!
A83: 7 | B83: Սահմանադրական իրավունքների և ազատությունների դեմ ուղղված հանցագործությունները | D83: =SUM('Ս. Մարդանյան'!D83+Ն.Բադալյան!D83+Ս.Մխիթարյան!D83+Մ.Կիրակոսյան!D83+#REF!+#REF!) -> #REF! | E83: =SUM('Ս. Մարդանյան'!E83+Ն.Բադալյան!E83+Ս.Մխիթարյան!E83+Մ.Կիրակոսյան!E83+#REF!+#REF!) -> #REF! | F83: =SUM('Ս. Մարդանյան'!F83+Ն.Բադալյան!F83+Ս.Մխիթարյան!F83+Մ.Կիրակոսյան!F83+#REF!+#REF!) -> #REF! | G83: =SUM('Ս. Մարդանյան'!G83+Ն.Բադալյան!G83+Ս.Մխիթարյան!G83+Մ.Կիրակոսյան!G83+#REF!+#REF!) -> #REF! | H83: =SUM('Ս. Մարդանյան'!H83+Ն.Բադալյան!H83+Ս.Մխիթարյան!H83+Մ.Կիրակոսյան!H83+#REF!+#REF!) -> #REF! | I83: =SUM('Ս. Մարդանյան'!I83+Ն.Բադալյան!I83+Ս.Մխիթարյան!I83+Մ.Կիրակոսյան!I83+#REF!+#REF!) -> #REF! | J83: =SUM('Ս. Մարդանյան'!J83+Ն.Բադալյան!J83+Ս.Մխիթարյան!J83+Մ.Կիրակոսյան!J83+#REF!+#REF!) -> #REF! | K83: =SUM('Ս. Մարդանյան'!K83+Ն.Բադալյան!K83+Ս.Մխիթարյան!K83+Մ.Կիրակոսյան!K83+#REF!+#REF!) -> #REF! | ... AG83: =SUM('Ս. Մարդանյան'!AG83+Ն.Բադալյան!AG83+Ս.Մխիթարյան!AG83+Մ.Կիրակոսյան!AG83+#REF!+#REF!) -> #REF! | AH83: =SUM('Ս. Մարդանյան'!#REF!+Ն.Բադալյան!#REF!+Ս.Մխիթարյան!#REF!+Մ.Կիրակոսյան!#REF!+#REF!+#REF!) -> #REF! | AI83: =SUM('Ս. Մարդանյան'!#REF!+Ն.Բադալյան!#REF!+Ս.Մխիթարյան!#REF!+Մ.Կիրակոսյան!#REF!+#REF!+#REF!) -> #REF! | AJ83: =SUM('Ս. Մարդանյան'!#REF!+Ն.Բադալյան!#REF!+Ս.Մխիթարյան!#REF!+Մ.Կիրակոսյան!#REF!+#REF!+#REF!) -> #REF! | AK83: =SUM('Ս. Մարդանյան'!#REF!+Ն.Բադալյան!#REF!+Ս.Մխիթարյան!#REF!+Մ.Կիրակոսյան!#REF!+#REF!+#REF!) -> #REF! | AL83: =SUM('Ս. Մարդանյան'!#REF!+Ն.Բադալյան!#REF!+Ս.Մխիթարյան!#REF!+Մ.Կիրակոսյան!#REF!+#REF!+#REF!) -> #REF! | AM83: =SUM('Ս. Մարդանյան'!#REF!+Ն.Բադալյան!#REF!+Ս.Մխիթարյան!#REF!+Մ.Կիրակոսյան!#REF!+#REF!+#REF!) -> #REF! | AN83: =SUM('Ս. Մարդանյան'!#REF!+Ն.Բադալյան!#REF!+Ս.Մխիթարյան!#REF!+Մ.Կիրակոսյան!#REF!+#REF!+#REF!) -> #REF! | AO83: =SUM('Ս. Մարդանյան'!#REF!+Ն.Բադալյան!#REF!+Ս.Մխիթարյան!#REF!+Մ.Կիրակոսյան!#REF!+#REF!+#REF!) -> #REF!
A84: 7.1 | B84: Խտրականությունը | C84: 203 | D84: =SUM('Ս. Մարդանյան'!D84+Ն.Բադալյան!D84+Ս.Մխիթարյան!D84+Մ.Կիրակոսյան!D84+#REF!+#REF!) -> #REF! | E84: =SUM('Ս. Մարդանյան'!E84+Ն.Բադալյան!E84+Ս.Մխիթարյան!E84+Մ.Կիրակոսյան!E84+#REF!+#REF!) -> #REF! | F84: =SUM('Ս. Մարդանյան'!F84+Ն.Բադալյան!F84+Ս.Մխիթարյան!F84+Մ.Կիրակոսյան!F84+#REF!+#REF!) -> #REF! | G84: =SUM('Ս. Մարդանյան'!G84+Ն.Բադալյան!G84+Ս.Մխիթարյան!G84+Մ.Կիրակոսյան!G84+#REF!+#REF!) -> #REF! | H84: =SUM('Ս. Մարդանյան'!H84+Ն.Բադալյան!H84+Ս.Մխիթարյան!H84+Մ.Կիրակոսյան!H84+#REF!+#REF!) -> #REF! | I84: =SUM('Ս. Մարդանյան'!I84+Ն.Բադալյան!I84+Ս.Մխիթարյան!I84+Մ.Կիրակոսյան!I84+#REF!+#REF!) -> #REF! | J84: =SUM('Ս. Մարդանյան'!J84+Ն.Բադալյան!J84+Ս.Մխիթարյան!J84+Մ.Կիրակոսյան!J84+#REF!+#REF!) -> #REF! | K84: =SUM('Ս. Մարդանյան'!K84+Ն.Բադալյան!K84+Ս.Մխիթարյան!K84+Մ.Կիրակոսյան!K84+#REF!+#REF!) -> #REF! | ... AG84: =SUM('Ս. Մարդանյան'!AG84+Ն.Բադալյան!AG84+Ս.Մխիթարյան!AG84+Մ.Կիրակոսյան!AG84+#REF!+#REF!) -> #REF! | AH84: =SUM('Ս. Մարդանյան'!#REF!+Ն.Բադալյան!#REF!+Ս.Մխիթարյան!#REF!+Մ.Կիրակոսյան!#REF!+#REF!+#REF!) -> #REF! | AI84: =SUM('Ս. Մարդանյան'!#REF!+Ն.Բադալյան!#REF!+Ս.Մխիթարյան!#REF!+Մ.Կիրակոսյան!#REF!+#REF!+#REF!) -> #REF! | AJ84: =SUM('Ս. Մարդանյան'!#REF!+Ն.Բադալյան!#REF!+Ս.Մխիթարյան!#REF!+Մ.Կիրակոսյան!#REF!+#REF!+#REF!) -> #REF! | AK84: =SUM('Ս. Մարդանյան'!#REF!+Ն.Բադալյան!#REF!+Ս.Մխիթարյան!#REF!+Մ.Կիրակոսյան!#REF!+#REF!+#REF!) -> #REF! | AL84: =SUM('Ս. Մարդանյան'!#REF!+Ն.Բադալյան!#REF!+Ս.Մխիթարյան!#REF!+Մ.Կիրակոսյան!#REF!+#REF!+#REF!) -> #REF! | AM84: =SUM('Ս. Մարդանյան'!#REF!+Ն.Բադալյան!#REF!+Ս.Մխիթարյան!#REF!+Մ.Կիրակոսյան!#REF!+#REF!+#REF!) -> #REF! | AN84: =SUM('Ս. Մարդանյան'!#REF!+Ն.Բադալյան!#REF!+Ս.Մխիթարյան!#REF!+Մ.Կիրակոսյան!#REF!+#REF!+#REF!) -> #REF! | AO84: =SUM('Ս. Մարդանյան'!#REF!+Ն.Բադալյան!#REF!+Ս.Մխիթարյան!#REF!+Մ.Կիրակոսյան!#REF!+#REF!+#REF!) -> #REF!
A85: 7.2 | B85: Անձնական կամ ընտանեկան կյանքի գաղտնիությունը խախտելը | C85: 204 | D85: =SUM('Ս. Մարդանյան'!D85+Ն.Բադալյան!D85+Ս.Մխիթարյան!D85+Մ.Կիրակոսյան!D85+#REF!+#REF!) -> #REF! | E85: =SUM('Ս. Մարդանյան'!E85+Ն.Բադալյան!E85+Ս.Մխիթարյան!E85+Մ.Կիրակոսյան!E85+#REF!+#REF!) -> #REF! | F85: =SUM('Ս. Մարդանյան'!F85+Ն.Բադալյան!F85+Ս.Մխիթարյան!F85+Մ.Կիրակոսյան!F85+#REF!+#REF!) -> #REF! | G85: =SUM('Ս. Մարդանյան'!G85+Ն.Բադալյան!G85+Ս.Մխիթարյան!G85+Մ.Կիրակոսյան!G85+#REF!+#REF!) -> #REF! | H85: =SUM('Ս. Մարդանյան'!H85+Ն.Բադալյան!H85+Ս.Մխիթարյան!H85+Մ.Կիրակոսյան!H85+#REF!+#REF!) -> #REF! | I85: =SUM('Ս. Մարդանյան'!I85+Ն.Բադալյան!I85+Ս.Մխիթարյան!I85+Մ.Կիրակոսյան!I85+#REF!+#REF!) -> #REF! | J85: =SUM('Ս. Մարդանյան'!J85+Ն.Բադալյան!J85+Ս.Մխիթարյան!J85+Մ.Կիրակոսյան!J85+#REF!+#REF!) -> #REF! | K85: =SUM('Ս. Մարդանյան'!K85+Ն.Բադալյան!K85+Ս.Մխիթարյան!K85+Մ.Կիրակոսյան!K85+#REF!+#REF!) -> #REF! | ... AG85: =SUM('Ս. Մարդանյան'!AG85+Ն.Բադալյան!AG85+Ս.Մխիթարյան!AG85+Մ.Կիրակոսյան!AG85+#REF!+#REF!) -> #REF! | AH85: =SUM('Ս. Մարդանյան'!#REF!+Ն.Բադալյան!#REF!+Ս.Մխիթարյան!#REF!+Մ.Կիրակոսյան!#REF!+#REF!+#REF!) -> #REF! | AI85: =SUM('Ս. Մարդանյան'!#REF!+Ն.Բադալյան!#REF!+Ս.Մխիթարյան!#REF!+Մ.Կիրակոսյան!#REF!+#REF!+#REF!) -> #REF! | AJ85: =SUM('Ս. Մարդանյան'!#REF!+Ն.Բադալյան!#REF!+Ս.Մխիթարյան!#REF!+Մ.Կիրակոսյան!#REF!+#REF!+#REF!) -> #REF! | AK85: =SUM('Ս. Մարդանյան'!#REF!+Ն.Բադալյան!#REF!+Ս.Մխիթարյան!#REF!+Մ.Կիրակոսյան!#REF!+#REF!+#REF!) -> #REF! | AL85: =SUM('Ս. Մարդանյան'!#REF!+Ն.Բադալյան!#REF!+Ս.Մխիթարյան!#REF!+Մ.Կիրակոսյան!#REF!+#REF!+#REF!) -> #REF! | AM85: =SUM('Ս. Մարդանյան'!#REF!+Ն.Բադալյան!#REF!+Ս.Մխիթարյան!#REF!+Մ.Կիրակոսյան!#REF!+#REF!+#REF!) -> #REF! | AN85: =SUM('Ս. Մարդանյան'!#REF!+Ն.Բադալյան!#REF!+Ս.Մխիթարյան!#REF!+Մ.Կիրակոսյան!#REF!+#REF!+#REF!) -> #REF! | AO85: =SUM('Ս. Մարդանյան'!#REF!+Ն.Բադալյան!#REF!+Ս.Մխիթարյան!#REF!+Մ.Կիրակոսյան!#REF!+#REF!+#REF!) -> #REF!
A86: 7.3 | B86: Բժշկական գաղտնիքը հրապարակելը | C86: 205 | D86: =SUM('Ս. Մարդանյան'!D86+Ն.Բադալյան!D86+Ս.Մխիթարյան!D86+Մ.Կիրակոսյան!D86+#REF!+#REF!) -> #REF! | E86: =SUM('Ս. Մարդանյան'!E86+Ն.Բադալյան!E86+Ս.Մխիթարյան!E86+Մ.Կիրակոսյան!E86+#REF!+#REF!) -> #REF! | F86: =SUM('Ս. Մարդանյան'!F86+Ն.Բադալյան!F86+Ս.Մխիթարյան!F86+Մ.Կիրակոսյան!F86+#REF!+#REF!) -> #REF! | G86: =SUM('Ս. Մարդանյան'!G86+Ն.Բադալյան!G86+Ս.Մխիթարյան!G86+Մ.Կիրակոսյան!G86+#REF!+#REF!) -> #REF! | H86: =SUM('Ս. Մարդանյան'!H86+Ն.Բադալյան!H86+Ս.Մխիթարյան!H86+Մ.Կիրակոսյան!H86+#REF!+#REF!) -> #REF! | I86: =SUM('Ս. Մարդանյան'!I86+Ն.Բադալյան!I86+Ս.Մխիթարյան!I86+Մ.Կիրակոսյան!I86+#REF!+#REF!) -> #REF! | J86: =SUM('Ս. Մարդանյան'!J86+Ն.Բադալյան!J86+Ս.Մխիթարյան!J86+Մ.Կիրակոսյան!J86+#REF!+#REF!) -> #REF! | K86: =SUM('Ս. Մարդանյան'!K86+Ն.Բադալյան!K86+Ս.Մխիթարյան!K86+Մ.Կիրակոսյան!K86+#REF!+#REF!) -> #REF! | ... AG86: =SUM('Ս. Մարդանյան'!AG86+Ն.Բադալյան!AG86+Ս.Մխիթարյան!AG86+Մ.Կիրակոսյան!AG86+#REF!+#REF!) -> #REF! | AH86: =SUM('Ս. Մարդանյան'!#REF!+Ն.Բադալյան!#REF!+Ս.Մխիթարյան!#REF!+Մ.Կիրակոսյան!#REF!+#REF!+#REF!) -> #REF! | AI86: =SUM('Ս. Մարդանյան'!#REF!+Ն.Բադալյան!#REF!+Ս.Մխիթարյան!#REF!+Մ.Կիրակոսյան!#REF!+#REF!+#REF!) -> #REF! | AJ86: =SUM('Ս. Մարդանյան'!#REF!+Ն.Բադալյան!#REF!+Ս.Մխիթարյան!#REF!+Մ.Կիրակոսյան!#REF!+#REF!+#REF!) -> #REF! | AK86: =SUM('Ս. Մարդանյան'!#REF!+Ն.Բադալյան!#REF!+Ս.Մխիթարյան!#REF!+Մ.Կիրակոսյան!#REF!+#REF!+#REF!) -> #REF! | AL86: =SUM('Ս. Մարդանյան'!#REF!+Ն.Բադալյան!#REF!+Ս.Մխիթարյան!#REF!+Մ.Կիրակոսյան!#REF!+#REF!+#REF!) -> #REF! | AM86: =SUM('Ս. Մարդանյան'!#REF!+Ն.Բադալյան!#REF!+Ս.Մխիթարյան!#REF!+Մ.Կիրակոսյան!#REF!+#REF!+#REF!) -> #REF! | AN86: =SUM('Ս. Մարդանյան'!#REF!+Ն.Բադալյան!#REF!+Ս.Մխիթարյան!#REF!+Մ.Կիրակոսյան!#REF!+#REF!+#REF!) -> #REF! | AO86: =SUM('Ս. Մարդանյան'!#REF!+Ն.Բադալյան!#REF!+Ս.Մխիթարյան!#REF!+Մ.Կիրակոսյան!#REF!+#REF!+#REF!) -> #REF!
A87: 7.4 | B87: Նամակագրության, հեռախոսային խոսակցությունների և հաղորդակցության այլ ձևերի գաղտնիությունը խախտելը | C87: 206 | D87: =SUM('Ս. Մարդանյան'!D87+Ն.Բադալյան!D87+Ս.Մխիթարյան!D87+Մ.Կիրակոսյան!D87+#REF!+#REF!) -> #REF! | E87: =SUM('Ս. Մարդանյան'!E87+Ն.Բադալյան!E87+Ս.Մխիթարյան!E87+Մ.Կիրակոսյան!E87+#REF!+#REF!) -> #REF! | F87: =SUM('Ս. Մարդանյան'!F87+Ն.Բադալյան!F87+Ս.Մխիթարյան!F87+Մ.Կիրակոսյան!F87+#REF!+#REF!) -> #REF! | G87: =SUM('Ս. Մարդանյան'!G87+Ն.Բադալյան!G87+Ս.Մխիթարյան!G87+Մ.Կիրակոսյան!G87+#REF!+#REF!) -> #REF! | H87: =SUM('Ս. Մարդանյան'!H87+Ն.Բադալյան!H87+Ս.Մխիթարյան!H87+Մ.Կիրակոսյան!H87+#REF!+#REF!) -> #REF! | I87: =SUM('Ս. Մարդանյան'!I87+Ն.Բադալյան!I87+Ս.Մխիթարյան!I87+Մ.Կիրակոսյան!I87+#REF!+#REF!) -> #REF! | J87: =SUM('Ս. Մարդանյան'!J87+Ն.Բադալյան!J87+Ս.Մխիթարյան!J87+Մ.Կիրակոսյան!J87+#REF!+#REF!) -> #REF! | K87: =SUM('Ս. Մարդանյան'!K87+Ն.Բադալյան!K87+Ս.Մխիթարյան!K87+Մ.Կիրակոսյան!K87+#REF!+#REF!) -> #REF! | ... AG87: =SUM('Ս. Մարդանյան'!AG87+Ն.Բադալյան!AG87+Ս.Մխիթարյան!AG87+Մ.Կիրակոսյան!AG87+#REF!+#REF!) -> #REF! | AH87: =SUM('Ս. Մարդանյան'!#REF!+Ն.Բադալյան!#REF!+Ս.Մխիթարյան!#REF!+Մ.Կիրակոսյան!#REF!+#REF!+#REF!) -> #REF! | AI87: =SUM('Ս. Մարդանյան'!#REF!+Ն.Բադալյան!#REF!+Ս.Մխիթարյան!#REF!+Մ.Կիրակոսյան!#REF!+#REF!+#REF!) -> #REF! | AJ87: =SUM('Ս. Մարդանյան'!#REF!+Ն.Բադալյան!#REF!+Ս.Մխիթարյան!#REF!+Մ.Կիրակոսյան!#REF!+#REF!+#REF!) -> #REF! | AK87: =SUM('Ս. Մարդանյան'!#REF!+Ն.Բադալյան!#REF!+Ս.Մխիթարյան!#REF!+Մ.Կիրակոսյան!#REF!+#REF!+#REF!) -> #REF! | AL87: =SUM('Ս. Մարդանյան'!#REF!+Ն.Բադալյան!#REF!+Ս.Մխիթարյան!#REF!+Մ.Կիրակոսյան!#REF!+#REF!+#REF!) -> #REF! | AM87: =SUM('Ս. Մարդանյան'!#REF!+Ն.Բադալյան!#REF!+Ս.Մխիթարյան!#REF!+Մ.Կիրակոսյան!#REF!+#REF!+#REF!) -> #REF! | AN87: =SUM('Ս. Մարդանյան'!#REF!+Ն.Բադալյան!#REF!+Ս.Մխիթարյան!#REF!+Մ.Կիրակոսյան!#REF!+#REF!+#REF!) -> #REF! | AO87: =SUM('Ս. Մարդանյան'!#REF!+Ն.Բադալյան!#REF!+Ս.Մխիթարյան!#REF!+Մ.Կիրակոսյան!#REF!+#REF!+#REF!) -> #REF!
A88: 7.5 | B88: Բնակարանի անձեռնմխելիությունը խախտելը | C88: 207 | D88: =SUM('Ս. Մարդանյան'!D88+Ն.Բադալյան!D88+Ս.Մխիթարյան!D88+Մ.Կիրակոսյան!D88+#REF!+#REF!) -> #REF! | E88: =SUM('Ս. Մարդանյան'!E88+Ն.Բադալյան!E88+Ս.Մխիթարյան!E88+Մ.Կիրակոսյան!E88+#REF!+#REF!) -> #REF! | F88: =SUM('Ս. Մարդանյան'!F88+Ն.Բադալյան!F88+Ս.Մխիթարյան!F88+Մ.Կիրակոսյան!F88+#REF!+#REF!) -> #REF! | G88: =SUM('Ս. Մարդանյան'!G88+Ն.Բադալյան!G88+Ս.Մխիթարյան!G88+Մ.Կիրակոսյան!G88+#REF!+#REF!) -> #REF! | H88: =SUM('Ս. Մարդանյան'!H88+Ն.Բադալյան!H88+Ս.Մխիթարյան!H88+Մ.Կիրակոսյան!H88+#REF!+#REF!) -> #REF! | I88: =SUM('Ս. Մարդանյան'!I88+Ն.Բադալյան!I88+Ս.Մխիթարյան!I88+Մ.Կիրակոսյան!I88+#REF!+#REF!) -> #REF! | J88: =SUM('Ս. Մարդանյան'!J88+Ն.Բադալյան!J88+Ս.Մխիթարյան!J88+Մ.Կիրակոսյան!J88+#REF!+#REF!) -> #REF! | K88: =SUM('Ս. Մարդանյան'!K88+Ն.Բադալյան!K88+Ս.Մխիթարյան!K88+Մ.Կիրակոսյան!K88+#REF!+#REF!) -> #REF! | ... AG88: =SUM('Ս. Մարդանյան'!AG88+Ն.Բադալյան!AG88+Ս.Մխիթարյան!AG88+Մ.Կիրակոսյան!AG88+#REF!+#REF!) -> #REF! | AH88: =SUM('Ս. Մարդանյան'!#REF!+Ն.Բադալյան!#REF!+Ս.Մխիթարյան!#REF!+Մ.Կիրակոսյան!#REF!+#REF!+#REF!) -> #REF! | AI88: =SUM('Ս. Մարդանյան'!#REF!+Ն.Բադալյան!#REF!+Ս.Մխիթարյան!#REF!+Մ.Կիրակոսյան!#REF!+#REF!+#REF!) -> #REF! | AJ88: =SUM('Ս. Մարդանյան'!#REF!+Ն.Բադալյան!#REF!+Ս.Մխիթարյան!#REF!+Մ.Կիրակոսյան!#REF!+#REF!+#REF!) -> #REF! | AK88: =SUM('Ս. Մարդանյան'!#REF!+Ն.Բադալյան!#REF!+Ս.Մխիթարյան!#REF!+Մ.Կիրակոսյան!#REF!+#REF!+#REF!) -> #REF! | AL88: =SUM('Ս. Մարդանյան'!#REF!+Ն.Բադալյան!#REF!+Ս.Մխիթարյան!#REF!+Մ.Կիրակոսյան!#REF!+#REF!+#REF!) -> #REF! | AM88: =SUM('Ս. Մարդանյան'!#REF!+Ն.Բադալյան!#REF!+Ս.Մխիթարյան!#REF!+Մ.Կիրակոսյան!#REF!+#REF!+#REF!) -> #REF! | AN88: =SUM('Ս. Մարդանյան'!#REF!+Ն.Բադալյան!#REF!+Ս.Մխիթարյան!#REF!+Մ.Կիրակոսյան!#REF!+#REF!+#REF!) -> #REF! | AO88: =SUM('Ս. Մարդանյան'!#REF!+Ն.Բադալյան!#REF!+Ս.Մխիթարյան!#REF!+Մ.Կիրակոսյան!#REF!+#REF!+#REF!) -> #REF!
A89: 7.6 | B89: Անձին տեղեկություններ տրամադրելուց հրաժարվելը | C89: 208 | D89: =SUM('Ս. Մարդանյան'!D89+Ն.Բադալյան!D89+Ս.Մխիթարյան!D89+Մ.Կիրակոսյան!D89+#REF!+#REF!) -> #REF! | E89: =SUM('Ս. Մարդանյան'!E89+Ն.Բադալյան!E89+Ս.Մխիթարյան!E89+Մ.Կիրակոսյան!E89+#REF!+#REF!) -> #REF! | F89: =SUM('Ս. Մարդանյան'!F89+Ն.Բադալյան!F89+Ս.Մխիթարյան!F89+Մ.Կիրակոսյան!F89+#REF!+#REF!) -> #REF! | G89: =SUM('Ս. Մարդանյան'!G89+Ն.Բադալյան!G89+Ս.Մխիթարյան!G89+Մ.Կիրակոսյան!G89+#REF!+#REF!) -> #REF! | H89: =SUM('Ս. Մարդանյան'!H89+Ն.Բադալյան!H89+Ս.Մխիթարյան!H89+Մ.Կիրակոսյան!H89+#REF!+#REF!) -> #REF! | I89: =SUM('Ս. Մարդանյան'!I89+Ն.Բադալյան!I89+Ս.Մխիթարյան!I89+Մ.Կիրակոսյան!I89+#REF!+#REF!) -> #REF! | J89: =SUM('Ս. Մարդանյան'!J89+Ն.Բադալյան!J89+Ս.Մխիթարյան!J89+Մ.Կիրակոսյան!J89+#REF!+#REF!) -> #REF! | K89: =SUM('Ս. Մարդանյան'!K89+Ն.Բադալյան!K89+Ս.Մխիթարյան!K89+Մ.Կիրակոսյան!K89+#REF!+#REF!) -> #REF! | ... AG89: =SUM('Ս. Մարդանյան'!AG89+Ն.Բադալյան!AG89+Ս.Մխիթարյան!AG89+Մ.Կիրակոսյան!AG89+#REF!+#REF!) -> #REF! | AH89: =SUM('Ս. Մարդանյան'!#REF!+Ն.Բադալյան!#REF!+Ս.Մխիթարյան!#REF!+Մ.Կիրակոսյան!#REF!+#REF!+#REF!) -> #REF! | AI89: =SUM('Ս. Մարդանյան'!#REF!+Ն.Բադալյան!#REF!+Ս.Մխիթարյան!#REF!+Մ.Կիրակոսյան!#REF!+#REF!+#REF!) -> #REF! | AJ89: =SUM('Ս. Մարդանյան'!#REF!+Ն.Բադալյան!#REF!+Ս.Մխիթարյան!#REF!+Մ.Կիրակոսյան!#REF!+#REF!+#REF!) -> #REF! | AK89: =SUM('Ս. Մարդանյան'!#REF!+Ն.Բադալյան!#REF!+Ս.Մխիթարյան!#REF!+Մ.Կիրակոսյան!#REF!+#REF!+#REF!) -> #REF! | AL89: =SUM('Ս. Մարդանյան'!#REF!+Ն.Բադալյան!#REF!+Ս.Մխիթարյան!#REF!+Մ.Կիրակոսյան!#REF!+#REF!+#REF!) -> #REF! | AM89: =SUM('Ս. Մարդանյան'!#REF!+Ն.Բադալյան!#REF!+Ս.Մխիթարյան!#REF!+Մ.Կիրակոսյան!#REF!+#REF!+#REF!) -> #REF! | AN89: =SUM('Ս. Մարդանյան'!#REF!+Ն.Բադալյան!#REF!+Ս.Մխիթարյան!#REF!+Մ.Կիրակոսյան!#REF!+#REF!+#REF!) -> #REF! | AO89: =SUM('Ս. Մարդանյան'!#REF!+Ն.Բադալյան!#REF!+Ս.Մխիթարյան!#REF!+Մ.Կիրակոսյան!#REF!+#REF!+#REF!) -> #REF!
A90: 7.7 | B90: Խղճի կամ դավանանքի ազատության իրավունքի իրականացումը խոչընդոտելը | C90: 209 | D90: =SUM('Ս. Մարդանյան'!D90+Ն.Բադալյան!D90+Ս.Մխիթարյան!D90+Մ.Կիրակոսյան!D90+#REF!+#REF!) -> #REF! | E90: =SUM('Ս. Մարդանյան'!E90+Ն.Բադալյան!E90+Ս.Մխիթարյան!E90+Մ.Կիրակոսյան!E90+#REF!+#REF!) -> #REF! | F90: =SUM('Ս. Մարդանյան'!F90+Ն.Բադալյան!F90+Ս.Մխիթարյան!F90+Մ.Կիրակոսյան!F90+#REF!+#REF!) -> #REF! | G90: =SUM('Ս. Մարդանյան'!G90+Ն.Բադալյան!G90+Ս.Մխիթարյան!G90+Մ.Կիրակոսյան!G90+#REF!+#REF!) -> #REF! | H90: =SUM('Ս. Մարդանյան'!H90+Ն.Բադալյան!H90+Ս.Մխիթարյան!H90+Մ.Կիրակոսյան!H90+#REF!+#REF!) -> #REF! | I90: =SUM('Ս. Մարդանյան'!I90+Ն.Բադալյան!I90+Ս.Մխիթարյան!I90+Մ.Կիրակոսյան!I90+#REF!+#REF!) -> #REF! | J90: =SUM('Ս. Մարդանյան'!J90+Ն.Բադալյան!J90+Ս.Մխիթարյան!J90+Մ.Կիրակոսյան!J90+#REF!+#REF!) -> #REF! | K90: =SUM('Ս. Մարդանյան'!K90+Ն.Բադալյան!K90+Ս.Մխիթարյան!K90+Մ.Կիրակոսյան!K90+#REF!+#REF!) -> #REF! | ... AG90: =SUM('Ս. Մարդանյան'!AG90+Ն.Բադալյան!AG90+Ս.Մխիթարյան!AG90+Մ.Կիրակոսյան!AG90+#REF!+#REF!) -> #REF! | AH90: =SUM('Ս. Մարդանյան'!#REF!+Ն.Բադալյան!#REF!+Ս.Մխիթարյան!#REF!+Մ.Կիրակոսյան!#REF!+#REF!+#REF!) -> #REF! | AI90: =SUM('Ս. Մարդանյան'!#REF!+Ն.Բադալյան!#REF!+Ս.Մխիթարյան!#REF!+Մ.Կիրակոսյան!#REF!+#REF!+#REF!) -> #REF! | AJ90: =SUM('Ս. Մարդանյան'!#REF!+Ն.Բադալյան!#REF!+Ս.Մխիթարյան!#REF!+Մ.Կիրակոսյան!#REF!+#REF!+#REF!) -> #REF! | AK90: =SUM('Ս. Մարդանյան'!#REF!+Ն.Բադալյան!#REF!+Ս.Մխիթարյան!#REF!+Մ.Կիրակոսյան!#REF!+#REF!+#REF!) -> #REF! | AL90: =SUM('Ս. Մարդանյան'!#REF!+Ն.Բադալյան!#REF!+Ս.Մխիթարյան!#REF!+Մ.Կիրակոսյան!#REF!+#REF!+#REF!) -> #REF! | AM90: =SUM('Ս. Մարդանյան'!#REF!+Ն.Բադալյան!#REF!+Ս.Մխիթարյան!#REF!+Մ.Կիրակոսյան!#REF!+#REF!+#REF!) -> #REF! | AN90: =SUM('Ս. Մարդանյան'!#REF!+Ն.Բադալյան!#REF!+Ս.Մխիթարյան!#REF!+Մ.Կիրակոսյան!#REF!+#REF!+#REF!) -> #REF! | AO90: =SUM('Ս. Մարդանյան'!#REF!+Ն.Բադալյան!#REF!+Ս.Մխիթարյան!#REF!+Մ.Կիրակոսյան!#REF!+#REF!+#REF!) -> #REF!
A91: 7.8 | B91: Ընտրական կամ հանրաքվեին մասնակցելու իրավունքի իրականացումը, ընտրական հանձնաժողովների աշխատանքներին կամ ընտրությանը կամ հանրաքվեին մասնակցող անձանց իրավունքների կամ պարտականությունների իրականացումը խոչընդոտելը | C91: 210 | D91: =SUM('Ս. Մարդանյան'!D91+Ն.Բադալյան!D91+Ս.Մխիթարյան!D91+Մ.Կիրակոսյան!D91+#REF!+#REF!) -> #REF! | E91: =SUM('Ս. Մարդանյան'!E91+Ն.Բադալյան!E91+Ս.Մխիթարյան!E91+Մ.Կիրակոսյան!E91+#REF!+#REF!) -> #REF! | F91: =SUM('Ս. Մարդանյան'!F91+Ն.Բադալյան!F91+Ս.Մխիթարյան!F91+Մ.Կիրակոսյան!F91+#REF!+#REF!) -> #REF! | G91: =SUM('Ս. Մարդանյան'!G91+Ն.Բադալյան!G91+Ս.Մխիթարյան!G91+Մ.Կիրակոսյան!G91+#REF!+#REF!) -> #REF! | H91: =SUM('Ս. Մարդանյան'!H91+Ն.Բադալյան!H91+Ս.Մխիթարյան!H91+Մ.Կիրակոսյան!H91+#REF!+#REF!) -> #REF! | I91: =SUM('Ս. Մարդանյան'!I91+Ն.Բադալյան!I91+Ս.Մխիթարյան!I91+Մ.Կիրակոսյան!I91+#REF!+#REF!) -> #REF! | J91: =SUM('Ս. Մարդանյան'!J91+Ն.Բադալյան!J91+Ս.Մխիթարյան!J91+Մ.Կիրակոսյան!J91+#REF!+#REF!) -> #REF! | K91: =SUM('Ս. Մարդանյան'!K91+Ն.Բադալյան!K91+Ս.Մխիթարյան!K91+Մ.Կիրակոսյան!K91+#REF!+#REF!) -> #REF! | ... AG91: =SUM('Ս. Մարդանյան'!AG91+Ն.Բադալյան!AG91+Ս.Մխիթարյան!AG91+Մ.Կիրակոսյան!AG91+#REF!+#REF!) -> #REF! | AH91: =SUM('Ս. Մարդանյան'!#REF!+Ն.Բադալյան!#REF!+Ս.Մխիթարյան!#REF!+Մ.Կիրակոսյան!#REF!+#REF!+#REF!) -> #REF! | AI91: =SUM('Ս. Մարդանյան'!#REF!+Ն.Բադալյան!#REF!+Ս.Մխիթարյան!#REF!+Մ.Կիրակոսյան!#REF!+#REF!+#REF!) -> #REF! | AJ91: =SUM('Ս. Մարդանյան'!#REF!+Ն.Բադալյան!#REF!+Ս.Մխիթարյան!#REF!+Մ.Կիրակոսյան!#REF!+#REF!+#REF!) -> #REF! | AK91: =SUM('Ս. Մարդանյան'!#REF!+Ն.Բադալյան!#REF!+Ս.Մխիթարյան!#REF!+Մ.Կիրակոսյան!#REF!+#REF!+#REF!) -> #REF! | AL91: =SUM('Ս. Մարդանյան'!#REF!+Ն.Բադալյան!#REF!+Ս.Մխիթարյան!#REF!+Մ.Կիրակոսյան!#REF!+#REF!+#REF!) -> #REF! | AM91: =SUM('Ս. Մարդանյան'!#REF!+Ն.Բադալյան!#REF!+Ս.Մխիթարյան!#REF!+Մ.Կիրակոսյան!#REF!+#REF!+#REF!) -> #REF! | AN91: =SUM('Ս. Մարդանյան'!#REF!+Ն.Բադալյան!#REF!+Ս.Մխիթարյան!#REF!+Մ.Կիրակոսյան!#REF!+#REF!+#REF!) -> #REF! | AO91: =SUM('Ս. Մարդանյան'!#REF!+Ն.Բադալյան!#REF!+Ս.Մխիթարյան!#REF!+Մ.Կիրակոսյան!#REF!+#REF!+#REF!) -> #REF!
A92: 7.9 | B92: Քարոզչություն կատարելուն կամ քարոզչություն կատարելուց հրաժարվելուն հարկադրելը կամ քարոզչություն կատարելուն այլ կերպ խոչընդոտելը | C92: 211 | D92: =SUM('Ս. Մարդանյան'!D92+Ն.Բադալյան!D92+Ս.Մխիթարյան!D92+Մ.Կիրակոսյան!D92+#REF!+#REF!) -> #REF! | E92: =SUM('Ս. Մարդանյան'!E92+Ն.Բադալյան!E92+Ս.Մխիթարյան!E92+Մ.Կիրակոսյան!E92+#REF!+#REF!) -> #REF! | F92: =SUM('Ս. Մարդանյան'!F92+Ն.Բադալյան!F92+Ս.Մխիթարյան!F92+Մ.Կիրակոսյան!F92+#REF!+#REF!) -> #REF! | G92: =SUM('Ս. Մարդանյան'!G92+Ն.Բադալյան!G92+Ս.Մխիթարյան!G92+Մ.Կիրակոսյան!G92+#REF!+#REF!) -> #REF! | H92: =SUM('Ս. Մարդանյան'!H92+Ն.Բադալյան!H92+Ս.Մխիթարյան!H92+Մ.Կիրակոսյան!H92+#REF!+#REF!) -> #REF! | I92: =SUM('Ս. Մարդանյան'!I92+Ն.Բադալյան!I92+Ս.Մխիթարյան!I92+Մ.Կիրակոսյան!I92+#REF!+#REF!) -> #REF! | J92: =SUM('Ս. Մարդանյան'!J92+Ն.Բադալյան!J92+Ս.Մխիթարյան!J92+Մ.Կիրակոսյան!J92+#REF!+#REF!) -> #REF! | K92: =SUM('Ս. Մարդանյան'!K92+Ն.Բադալյան!K92+Ս.Մխիթարյան!K92+Մ.Կիրակոսյան!K92+#REF!+#REF!) -> #REF! | ... AG92: =SUM('Ս. Մարդանյան'!AG92+Ն.Բադալյան!AG92+Ս.Մխիթարյան!AG92+Մ.Կիրակոսյան!AG92+#REF!+#REF!) -> #REF! | AH92: =SUM('Ս. Մարդանյան'!#REF!+Ն.Բադալյան!#REF!+Ս.Մխիթարյան!#REF!+Մ.Կիրակոսյան!#REF!+#REF!+#REF!) -> #REF! | AI92: =SUM('Ս. Մարդանյան'!#REF!+Ն.Բադալյան!#REF!+Ս.Մխիթարյան!#REF!+Մ.Կիրակոսյան!#REF!+#REF!+#REF!) -> #REF! | AJ92: =SUM('Ս. Մարդանյան'!#REF!+Ն.Բադալյան!#REF!+Ս.Մխիթարյան!#REF!+Մ.Կիրակոսյան!#REF!+#REF!+#REF!) -> #REF! | AK92: =SUM('Ս. Մարդանյան'!#REF!+Ն.Բադալյան!#REF!+Ս.Մխիթարյան!#REF!+Մ.Կիրակոսյան!#REF!+#REF!+#REF!) -> #REF! | AL92: =SUM('Ս. Մարդանյան'!#REF!+Ն.Բադալյան!#REF!+Ս.Մխիթարյան!#REF!+Մ.Կիրակոսյան!#REF!+#REF!+#REF!) -> #REF! | AM92: =SUM('Ս. Մարդանյան'!#REF!+Ն.Բադալյան!#REF!+Ս.Մխիթարյան!#REF!+Մ.Կիրակոսյան!#REF!+#REF!+#REF!) -> #REF! | AN92: =SUM('Ս. Մարդանյան'!#REF!+Ն.Բադալյան!#REF!+Ս.Մխիթարյան!#REF!+Մ.Կիրակոսյան!#REF!+#REF!+#REF!) -> #REF! | AO92: =SUM('Ս. Մարդանյան'!#REF!+Ն.Բադալյան!#REF!+Ս.Մխիթարյան!#REF!+Մ.Կիրակոսյան!#REF!+#REF!+#REF!) -> #REF!
A93: 7.10 | B93: Ընտրությունների կամ քվեարկության արդյունքները կեղծելը | C93: 212 | D93: =SUM('Ս. Մարդանյան'!D93+Ն.Բադալյան!D93+Ս.Մխիթարյան!D93+Մ.Կիրակոսյան!D93+#REF!+#REF!) -> #REF! | E93: =SUM('Ս. Մարդանյան'!E93+Ն.Բադալյան!E93+Ս.Մխիթարյան!E93+Մ.Կիրակոսյան!E93+#REF!+#REF!) -> #REF! | F93: =SUM('Ս. Մարդանյան'!F93+Ն.Բադալյան!F93+Ս.Մխիթարյան!F93+Մ.Կիրակոսյան!F93+#REF!+#REF!) -> #REF! | G93: =SUM('Ս. Մարդանյան'!G93+Ն.Բադալյան!G93+Ս.Մխիթարյան!G93+Մ.Կիրակոսյան!G93+#REF!+#REF!) -> #REF! | H93: =SUM('Ս. Մարդանյան'!H93+Ն.Բադալյան!H93+Ս.Մխիթարյան!H93+Մ.Կիրակոսյան!H93+#REF!+#REF!) -> #REF! | I93: =SUM('Ս. Մարդանյան'!I93+Ն.Բադալյան!I93+Ս.Մխիթարյան!I93+Մ.Կիրակոսյան!I93+#REF!+#REF!) -> #REF! | J93: =SUM('Ս. Մարդանյան'!J93+Ն.Բադալյան!J93+Ս.Մխիթարյան!J93+Մ.Կիրակոսյան!J93+#REF!+#REF!) -> #REF! | K93: =SUM('Ս. Մարդանյան'!K93+Ն.Բադալյան!K93+Ս.Մխիթարյան!K93+Մ.Կիրակոսյան!K93+#REF!+#REF!) -> #REF! | ... AG93: =SUM('Ս. Մարդանյան'!AG93+Ն.Բադալյան!AG93+Ս.Մխիթարյան!AG93+Մ.Կիրակոսյան!AG93+#REF!+#REF!) -> #REF! | AH93: =SUM('Ս. Մարդանյան'!#REF!+Ն.Բադալյան!#REF!+Ս.Մխիթարյան!#REF!+Մ.Կիրակոսյան!#REF!+#REF!+#REF!) -> #REF! | AI93: =SUM('Ս. Մարդանյան'!#REF!+Ն.Բադալյան!#REF!+Ս.Մխիթարյան!#REF!+Մ.Կիրակոսյան!#REF!+#REF!+#REF!) -> #REF! | AJ93: =SUM('Ս. Մարդանյան'!#REF!+Ն.Բադալյան!#REF!+Ս.Մխիթարյան!#REF!+Մ.Կիրակոսյան!#REF!+#REF!+#REF!) -> #REF! | AK93: =SUM('Ս. Մարդանյան'!#REF!+Ն.Բադալյան!#REF!+Ս.Մխիթարյան!#REF!+Մ.Կիրակոսյան!#REF!+#REF!+#REF!) -> #REF! | AL93: =SUM('Ս. Մարդանյան'!#REF!+Ն.Բադալյան!#REF!+Ս.Մխիթարյան!#REF!+Մ.Կիրակոսյան!#REF!+#REF!+#REF!) -> #REF! | AM93: =SUM('Ս. Մարդանյան'!#REF!+Ն.Բադալյան!#REF!+Ս.Մխիթարյան!#REF!+Մ.Կիրակոսյան!#REF!+#REF!+#REF!) -> #REF! | AN93: =SUM('Ս. Մարդանյան'!#REF!+Ն.Բադալյան!#REF!+Ս.Մխիթարյան!#REF!+Մ.Կիրակոսյան!#REF!+#REF!+#REF!) -> #REF! | AO93: =SUM('Ս. Մարդանյան'!#REF!+Ն.Բադալյան!#REF!+Ս.Մխիթարյան!#REF!+Մ.Կիրակոսյան!#REF!+#REF!+#REF!) -> #REF!
A94: 7.11 | B94: Ընտրողների ցուցակները կազմելու, դրանք քաղաքացիներին կամ կուսակցություններին տրամադրելու կամ հրապարակելու կարգը խախտելը | C94: 213 | D94: =SUM('Ս. Մարդանյան'!D94+Ն.Բադալյան!D94+Ս.Մխիթարյան!D94+Մ.Կիրակոսյան!D94+#REF!+#REF!) -> #REF! | E94: =SUM('Ս. Մարդանյան'!E94+Ն.Բադալյան!E94+Ս.Մխիթարյան!E94+Մ.Կիրակոսյան!E94+#REF!+#REF!) -> #REF! | F94: =SUM('Ս. Մարդանյան'!F94+Ն.Բադալյան!F94+Ս.Մխիթարյան!F94+Մ.Կիրակոսյան!F94+#REF!+#REF!) -> #REF! | G94: =SUM('Ս. Մարդանյան'!G94+Ն.Բադալյան!G94+Ս.Մխիթարյան!G94+Մ.Կիրակոսյան!G94+#REF!+#REF!) -> #REF! | H94: =SUM('Ս. Մարդանյան'!H94+Ն.Բադալյան!H94+Ս.Մխիթարյան!H94+Մ.Կիրակոսյան!H94+#REF!+#REF!) -> #REF! | I94: =SUM('Ս. Մարդանյան'!I94+Ն.Բադալյան!I94+Ս.Մխիթարյան!I94+Մ.Կիրակոսյան!I94+#REF!+#REF!) -> #REF! | J94: =SUM('Ս. Մարդանյան'!J94+Ն.Բադալյան!J94+Ս.Մխիթարյան!J94+Մ.Կիրակոսյան!J94+#REF!+#REF!) -> #REF! | K94: =SUM('Ս. Մարդանյան'!K94+Ն.Բադալյան!K94+Ս.Մխիթարյան!K94+Մ.Կիրակոսյան!K94+#REF!+#REF!) -> #REF! | ... AG94: =SUM('Ս. Մարդանյան'!AG94+Ն.Բադալյան!AG94+Ս.Մխիթարյան!AG94+Մ.Կիրակոսյան!AG94+#REF!+#REF!) -> #REF! | AH94: =SUM('Ս. Մարդանյան'!#REF!+Ն.Բադալյան!#REF!+Ս.Մխիթարյան!#REF!+Մ.Կիրակոսյան!#REF!+#REF!+#REF!) -> #REF! | AI94: =SUM('Ս. Մարդանյան'!#REF!+Ն.Բադալյան!#REF!+Ս.Մխիթարյան!#REF!+Մ.Կիրակոսյան!#REF!+#REF!+#REF!) -> #REF! | AJ94: =SUM('Ս. Մարդանյան'!#REF!+Ն.Բադալյան!#REF!+Ս.Մխիթարյան!#REF!+Մ.Կիրակոսյան!#REF!+#REF!+#REF!) -> #REF! | AK94: =SUM('Ս. Մարդանյան'!#REF!+Ն.Բադալյան!#REF!+Ս.Մխիթարյան!#REF!+Մ.Կիրակոսյան!#REF!+#REF!+#REF!) -> #REF! | AL94: =SUM('Ս. Մարդանյան'!#REF!+Ն.Բադալյան!#REF!+Ս.Մխիթարյան!#REF!+Մ.Կիրակոսյան!#REF!+#REF!+#REF!) -> #REF! | AM94: =SUM('Ս. Մարդանյան'!#REF!+Ն.Բադալյան!#REF!+Ս.Մխիթարյան!#REF!+Մ.Կիրակոսյան!#REF!+#REF!+#REF!) -> #REF! | AN94: =SUM('Ս. Մարդանյան'!#REF!+Ն.Բադալյան!#REF!+Ս.Մխիթարյան!#REF!+Մ.Կիրակոսյան!#REF!+#REF!+#REF!) -> #REF! | AO94: =SUM('Ս. Մարդանյան'!#REF!+Ն.Բադալյան!#REF!+Ս.Մխիթարյան!#REF!+Մ.Կիրակոսյան!#REF!+#REF!+#REF!) -> #REF!
A95: 7.12 | B95: Մեկից ավելի անգամ կամ այլ անձի փոխարեն քվեարկելը | C95: 214 | D95: =SUM('Ս. Մարդանյան'!D95+Ն.Բադալյան!D95+Ս.Մխիթարյան!D95+Մ.Կիրակոսյան!D95+#REF!+#REF!) -> #REF! | E95: =SUM('Ս. Մարդանյան'!E95+Ն.Բադալյան!E95+Ս.Մխիթարյան!E95+Մ.Կիրակոսյան!E95+#REF!+#REF!) -> #REF! | F95: =SUM('Ս. Մարդանյան'!F95+Ն.Բադալյան!F95+Ս.Մխիթարյան!F95+Մ.Կիրակոսյան!F95+#REF!+#REF!) -> #REF! | G95: =SUM('Ս. Մարդանյան'!G95+Ն.Բադալյան!G95+Ս.Մխիթարյան!G95+Մ.Կիրակոսյան!G95+#REF!+#REF!) -> #REF! | H95: =SUM('Ս. Մարդանյան'!H95+Ն.Բադալյան!H95+Ս.Մխիթարյան!H95+Մ.Կիրակոսյան!H95+#REF!+#REF!) -> #REF! | I95: =SUM('Ս. Մարդանյան'!I95+Ն.Բադալյան!I95+Ս.Մխիթարյան!I95+Մ.Կիրակոսյան!I95+#REF!+#REF!) -> #REF! | J95: =SUM('Ս. Մարդանյան'!J95+Ն.Բադալյան!J95+Ս.Մխիթարյան!J95+Մ.Կիրակոսյան!J95+#REF!+#REF!) -> #REF! | K95: =SUM('Ս. Մարդանյան'!K95+Ն.Բադալյան!K95+Ս.Մխիթարյան!K95+Մ.Կիրակոսյան!K95+#REF!+#REF!) -> #REF! | ... AG95: =SUM('Ս. Մարդանյան'!AG95+Ն.Բադալյան!AG95+Ս.Մխիթարյան!AG95+Մ.Կիրակոսյան!AG95+#REF!+#REF!) -> #REF! | AH95: =SUM('Ս. Մարդանյան'!#REF!+Ն.Բադալյան!#REF!+Ս.Մխիթարյան!#REF!+Մ.Կիրակոսյան!#REF!+#REF!+#REF!) -> #REF! | AI95: =SUM('Ս. Մարդանյան'!#REF!+Ն.Բադալյան!#REF!+Ս.Մխիթարյան!#REF!+Մ.Կիրակոսյան!#REF!+#REF!+#REF!) -> #REF! | AJ95: =SUM('Ս. Մարդանյան'!#REF!+Ն.Բադալյան!#REF!+Ս.Մխիթարյան!#REF!+Մ.Կիրակոսյան!#REF!+#REF!+#REF!) -> #REF! | AK95: =SUM('Ս. Մարդանյան'!#REF!+Ն.Բադալյան!#REF!+Ս.Մխիթարյան!#REF!+Մ.Կիրակոսյան!#REF!+#REF!+#REF!) -> #REF! | AL95: =SUM('Ս. Մարդանյան'!#REF!+Ն.Բադալյան!#REF!+Ս.Մխիթարյան!#REF!+Մ.Կիրակոսյան!#REF!+#REF!+#REF!) -> #REF! | AM95: =SUM('Ս. Մարդանյան'!#REF!+Ն.Բադալյան!#REF!+Ս.Մխիթարյան!#REF!+Մ.Կիրակոսյան!#REF!+#REF!+#REF!) -> #REF! | AN95: =SUM('Ս. Մարդանյան'!#REF!+Ն.Բադալյան!#REF!+Ս.Մխիթարյան!#REF!+Մ.Կիրակոսյան!#REF!+#REF!+#REF!) -> #REF! | AO95: =SUM('Ս. Մարդանյան'!#REF!+Ն.Բադալյան!#REF!+Ս.Մխիթարյան!#REF!+Մ.Կիրակոսյան!#REF!+#REF!+#REF!) -> #REF!
A96: 7.13 | B96: Քվեարկության գաղտնիությունը խախտելը | C96: 215 | D96: =SUM('Ս. Մարդանյան'!D96+Ն.Բադալյան!D96+Ս.Մխիթարյան!D96+Մ.Կիրակոսյան!D96+#REF!+#REF!) -> #REF! | E96: =SUM('Ս. Մարդանյան'!E96+Ն.Բադալյան!E96+Ս.Մխիթարյան!E96+Մ.Կիրակոսյան!E96+#REF!+#REF!) -> #REF! | F96: =SUM('Ս. Մարդանյան'!F96+Ն.Բադալյան!F96+Ս.Մխիթարյան!F96+Մ.Կիրակոսյան!F96+#REF!+#REF!) -> #REF! | G96: =SUM('Ս. Մարդանյան'!G96+Ն.Բադալյան!G96+Ս.Մխիթարյան!G96+Մ.Կիրակոսյան!G96+#REF!+#REF!) -> #REF! | H96: =SUM('Ս. Մարդանյան'!H96+Ն.Բադալյան!H96+Ս.Մխիթարյան!H96+Մ.Կիրակոսյան!H96+#REF!+#REF!) -> #REF! | I96: =SUM('Ս. Մարդանյան'!I96+Ն.Բադալյան!I96+Ս.Մխիթարյան!I96+Մ.Կիրակոսյան!I96+#REF!+#REF!) -> #REF! | J96: =SUM('Ս. Մարդանյան'!J96+Ն.Բադալյան!J96+Ս.Մխիթարյան!J96+Մ.Կիրակոսյան!J96+#REF!+#REF!) -> #REF! | K96: =SUM('Ս. Մարդանյան'!K96+Ն.Բադալյան!K96+Ս.Մխիթարյան!K96+Մ.Կիրակոսյան!K96+#REF!+#REF!) -> #REF! | ... AG96: =SUM('Ս. Մարդանյան'!AG96+Ն.Բադալյան!AG96+Ս.Մխիթարյան!AG96+Մ.Կիրակոսյան!AG96+#REF!+#REF!) -> #REF! | AH96: =SUM('Ս. Մարդանյան'!#REF!+Ն.Բադալյան!#REF!+Ս.Մխիթարյան!#REF!+Մ.Կիրակոսյան!#REF!+#REF!+#REF!) -> #REF! | AI96: =SUM('Ս. Մարդանյան'!#REF!+Ն.Բադալյան!#REF!+Ս.Մխիթարյան!#REF!+Մ.Կիրակոսյան!#REF!+#REF!+#REF!) -> #REF! | AJ96: =SUM('Ս. Մարդանյան'!#REF!+Ն.Բադալյան!#REF!+Ս.Մխիթարյան!#REF!+Մ.Կիրակոսյան!#REF!+#REF!+#REF!) -> #REF! | AK96: =SUM('Ս. Մարդանյան'!#REF!+Ն.Բադալյան!#REF!+Ս.Մխիթարյան!#REF!+Մ.Կիրակոսյան!#REF!+#REF!+#REF!) -> #REF! | AL96: =SUM('Ս. Մարդանյան'!#REF!+Ն.Բադալյան!#REF!+Ս.Մխիթարյան!#REF!+Մ.Կիրակոսյան!#REF!+#REF!+#REF!) -> #REF! | AM96: =SUM('Ս. Մարդանյան'!#REF!+Ն.Բադալյան!#REF!+Ս.Մխիթարյան!#REF!+Մ.Կիրակոսյան!#REF!+#REF!+#REF!) -> #REF! | AN96: =SUM('Ս. Մարդանյան'!#REF!+Ն.Բադալյան!#REF!+Ս.Մխիթարյան!#REF!+Մ.Կիրակոսյան!#REF!+#REF!+#REF!) -> #REF! | AO96: =SUM('Ս. Մարդանյան'!#REF!+Ն.Բադալյան!#REF!+Ս.Մխիթարյան!#REF!+Մ.Կիրակոսյան!#REF!+#REF!+#REF!) -> #REF!
A97: 7.14 | B97: Կեղծ ընտրական քվեաթերթիկներ կամ քվեարկության ծրարներ, դրոշմանիշներ, կտրոններ պատրաստելը կամ ակնհայտ կեղծ ընտրական քվեաթերթիկներ կամ քվեարկության ծրարներ, դրոշմանիշներ, կտրոններ հանձնելը կամ դրանք իրացնելը | C97: 216 | D97: =SUM('Ս. Մարդանյան'!D97+Ն.Բադալյան!D97+Ս.Մխիթարյան!D97+Մ.Կիրակոսյան!D97+#REF!+#REF!) -> #REF! | E97: =SUM('Ս. Մարդանյան'!E97+Ն.Բադալյան!E97+Ս.Մխիթարյան!E97+Մ.Կիրակոսյան!E97+#REF!+#REF!) -> #REF! | F97: =SUM('Ս. Մարդանյան'!F97+Ն.Բադալյան!F97+Ս.Մխիթարյան!F97+Մ.Կիրակոսյան!F97+#REF!+#REF!) -> #REF! | G97: =SUM('Ս. Մարդանյան'!G97+Ն.Բադալյան!G97+Ս.Մխիթարյան!G97+Մ.Կիրակոսյան!G97+#REF!+#REF!) -> #REF! | H97: =SUM('Ս. Մարդանյան'!H97+Ն.Բադալյան!H97+Ս.Մխիթարյան!H97+Մ.Կիրակոսյան!H97+#REF!+#REF!) -> #REF! | I97: =SUM('Ս. Մարդանյան'!I97+Ն.Բադալյան!I97+Ս.Մխիթարյան!I97+Մ.Կիրակոսյան!I97+#REF!+#REF!) -> #REF! | J97: =SUM('Ս. Մարդանյան'!J97+Ն.Բադալյան!J97+Ս.Մխիթարյան!J97+Մ.Կիրակոսյան!J97+#REF!+#REF!) -> #REF! | K97: =SUM('Ս. Մարդանյան'!K97+Ն.Բադալյան!K97+Ս.Մխիթարյան!K97+Մ.Կիրակոսյան!K97+#REF!+#REF!) -> #REF! | ... AG97: =SUM('Ս. Մարդանյան'!AG97+Ն.Բադալյան!AG97+Ս.Մխիթարյան!AG97+Մ.Կիրակոսյան!AG97+#REF!+#REF!) -> #REF! | AH97: =SUM('Ս. Մարդանյան'!#REF!+Ն.Բադալյան!#REF!+Ս.Մխիթարյան!#REF!+Մ.Կիրակոսյան!#REF!+#REF!+#REF!) -> #REF! | AI97: =SUM('Ս. Մարդանյան'!#REF!+Ն.Բադալյան!#REF!+Ս.Մխիթարյան!#REF!+Մ.Կիրակոսյան!#REF!+#REF!+#REF!) -> #REF! | AJ97: =SUM('Ս. Մարդանյան'!#REF!+Ն.Բադալյան!#REF!+Ս.Մխիթարյան!#REF!+Մ.Կիրակոսյան!#REF!+#REF!+#REF!) -> #REF! | AK97: =SUM('Ս. Մարդանյան'!#REF!+Ն.Բադալյան!#REF!+Ս.Մխիթարյան!#REF!+Մ.Կիրակոսյան!#REF!+#REF!+#REF!) -> #REF! | AL97: =SUM('Ս. Մարդանյան'!#REF!+Ն.Բադալյան!#REF!+Ս.Մխիթարյան!#REF!+Մ.Կիրակոսյան!#REF!+#REF!+#REF!) -> #REF! | AM97: =SUM('Ս. Մարդանյան'!#REF!+Ն.Բադալյան!#REF!+Ս.Մխիթարյան!#REF!+Մ.Կիրակոսյան!#REF!+#REF!+#REF!) -> #REF! | AN97: =SUM('Ս. Մարդանյան'!#REF!+Ն.Բադալյան!#REF!+Ս.Մխիթարյան!#REF!+Մ.Կիրակոսյան!#REF!+#REF!+#REF!) -> #REF! | AO97: =SUM('Ս. Մարդանյան'!#REF!+Ն.Բադալյան!#REF!+Ս.Մխիթարյան!#REF!+Մ.Կիրակոսյան!#REF!+#REF!+#REF!) -> #REF!
A98: 7.15 | B98: Ընտրական գործընթացի պատշաճ կազմակերպման համար անհրաժեշտ առարկաները հափշտակելը | C98: 217 | D98: =SUM('Ս. Մարդանյան'!D98+Ն.Բադալյան!D98+Ս.Մխիթարյան!D98+Մ.Կիրակոսյան!D98+#REF!+#REF!) -> #REF! | E98: =SUM('Ս. Մարդանյան'!E98+Ն.Բադալյան!E98+Ս.Մխիթարյան!E98+Մ.Կիրակոսյան!E98+#REF!+#REF!) -> #REF! | F98: =SUM('Ս. Մարդանյան'!F98+Ն.Բադալյան!F98+Ս.Մխիթարյան!F98+Մ.Կիրակոսյան!F98+#REF!+#REF!) -> #REF! | G98: =SUM('Ս. Մարդանյան'!G98+Ն.Բադալյան!G98+Ս.Մխիթարյան!G98+Մ.Կիրակոսյան!G98+#REF!+#REF!) -> #REF! | H98: =SUM('Ս. Մարդանյան'!H98+Ն.Բադալյան!H98+Ս.Մխիթարյան!H98+Մ.Կիրակոսյան!H98+#REF!+#REF!) -> #REF! | I98: =SUM('Ս. Մարդանյան'!I98+Ն.Բադալյան!I98+Ս.Մխիթարյան!I98+Մ.Կիրակոսյան!I98+#REF!+#REF!) -> #REF! | J98: =SUM('Ս. Մարդանյան'!J98+Ն.Բադալյան!J98+Ս.Մխիթարյան!J98+Մ.Կիրակոսյան!J98+#REF!+#REF!) -> #REF! | K98: =SUM('Ս. Մարդանյան'!K98+Ն.Բադալյան!K98+Ս.Մխիթարյան!K98+Մ.Կիրակոսյան!K98+#REF!+#REF!) -> #REF! | ... AG98: =SUM('Ս. Մարդանյան'!AG98+Ն.Բադալյան!AG98+Ս.Մխիթարյան!AG98+Մ.Կիրակոսյան!AG98+#REF!+#REF!) -> #REF! | AH98: =SUM('Ս. Մարդանյան'!#REF!+Ն.Բադալյան!#REF!+Ս.Մխիթարյան!#REF!+Մ.Կիրակոսյան!#REF!+#REF!+#REF!) -> #REF! | AI98: =SUM('Ս. Մարդանյան'!#REF!+Ն.Բադալյան!#REF!+Ս.Մխիթարյան!#REF!+Մ.Կիրակոսյան!#REF!+#REF!+#REF!) -> #REF! | AJ98: =SUM('Ս. Մարդանյան'!#REF!+Ն.Բադալյան!#REF!+Ս.Մխիթարյան!#REF!+Մ.Կիրակոսյան!#REF!+#REF!+#REF!) -> #REF! | AK98: =SUM('Ս. Մարդանյան'!#REF!+Ն.Բադալյան!#REF!+Ս.Մխիթարյան!#REF!+Մ.Կիրակոսյան!#REF!+#REF!+#REF!) -> #REF! | AL98: =SUM('Ս. Մարդանյան'!#REF!+Ն.Բադալյան!#REF!+Ս.Մխիթարյան!#REF!+Մ.Կիրակոսյան!#REF!+#REF!+#REF!) -> #REF! | AM98: =SUM('Ս. Մարդանյան'!#REF!+Ն.Բադալյան!#REF!+Ս.Մխիթարյան!#REF!+Մ.Կիրակոսյան!#REF!+#REF!+#REF!) -> #REF! | AN98: =SUM('Ս. Մարդանյան'!#REF!+Ն.Բադալյան!#REF!+Ս.Մխիթարյան!#REF!+Մ.Կիրակոսյան!#REF!+#REF!+#REF!) -> #REF! | AO98: =SUM('Ս. Մարդանյան'!#REF!+Ն.Բադալյան!#REF!+Ս.Մխիթարյան!#REF!+Մ.Կիրակոսյան!#REF!+#REF!+#REF!) -> #REF!
A99: 7.16 | B99: Ընտրակաշառք ստանալը | C99: 218 | D99: =SUM('Ս. Մարդանյան'!D99+Ն.Բադալյան!D99+Ս.Մխիթարյան!D99+Մ.Կիրակոսյան!D99+#REF!+#REF!) -> #REF! | E99: =SUM('Ս. Մարդանյան'!E99+Ն.Բադալյան!E99+Ս.Մխիթարյան!E99+Մ.Կիրակոսյան!E99+#REF!+#REF!) -> #REF! | F99: =SUM('Ս. Մարդանյան'!F99+Ն.Բադալյան!F99+Ս.Մխիթարյան!F99+Մ.Կիրակոսյան!F99+#REF!+#REF!) -> #REF! | G99: =SUM('Ս. Մարդանյան'!G99+Ն.Բադալյան!G99+Ս.Մխիթարյան!G99+Մ.Կիրակոսյան!G99+#REF!+#REF!) -> #REF! | H99: =SUM('Ս. Մարդանյան'!H99+Ն.Բադալյան!H99+Ս.Մխիթարյան!H99+Մ.Կիրակոսյան!H99+#REF!+#REF!) -> #REF! | I99: =SUM('Ս. Մարդանյան'!I99+Ն.Բադալյան!I99+Ս.Մխիթարյան!I99+Մ.Կիրակոսյան!I99+#REF!+#REF!) -> #REF! | J99: =SUM('Ս. Մարդանյան'!J99+Ն.Բադալյան!J99+Ս.Մխիթարյան!J99+Մ.Կիրակոսյան!J99+#REF!+#REF!) -> #REF! | K99: =SUM('Ս. Մարդանյան'!K99+Ն.Բադալյան!K99+Ս.Մխիթարյան!K99+Մ.Կիրակոսյան!K99+#REF!+#REF!) -> #REF! | ... AG99: =SUM('Ս. Մարդանյան'!AG99+Ն.Բադալյան!AG99+Ս.Մխիթարյան!AG99+Մ.Կիրակոսյան!AG99+#REF!+#REF!) -> #REF! | AH99: =SUM('Ս. Մարդանյան'!#REF!+Ն.Բադալյան!#REF!+Ս.Մխիթարյան!#REF!+Մ.Կիրակոսյան!#REF!+#REF!+#REF!) -> #REF! | AI99: =SUM('Ս. Մարդանյան'!#REF!+Ն.Բադալյան!#REF!+Ս.Մխիթարյան!#REF!+Մ.Կիրակոսյան!#REF!+#REF!+#REF!) -> #REF! | AJ99: =SUM('Ս. Մարդանյան'!#REF!+Ն.Բադալյան!#REF!+Ս.Մխիթարյան!#REF!+Մ.Կիրակոսյան!#REF!+#REF!+#REF!) -> #REF! | AK99: =SUM('Ս. Մարդանյան'!#REF!+Ն.Բադալյան!#REF!+Ս.Մխիթարյան!#REF!+Մ.Կիրակոսյան!#REF!+#REF!+#REF!) -> #REF! | AL99: =SUM('Ս. Մարդանյան'!#REF!+Ն.Բադալյան!#REF!+Ս.Մխիթարյան!#REF!+Մ.Կիրակոսյան!#REF!+#REF!+#REF!) -> #REF! | AM99: =SUM('Ս. Մարդանյան'!#REF!+Ն.Բադալյան!#REF!+Ս.Մխիթարյան!#REF!+Մ.Կիրակոսյան!#REF!+#REF!+#REF!) -> #REF! | AN99: =SUM('Ս. Մարդանյան'!#REF!+Ն.Բադալյան!#REF!+Ս.Մխիթարյան!#REF!+Մ.Կիրակոսյան!#REF!+#REF!+#REF!) -> #REF! | AO99: =SUM('Ս. Մարդանյան'!#REF!+Ն.Բադալյան!#REF!+Ս.Մխիթարյան!#REF!+Մ.Կիրակոսյան!#REF!+#REF!+#REF!) -> #REF!
A100: 7.17 | B100: Ընտրակաշառք տալը | C100: 219 | D100: =SUM('Ս. Մարդանյան'!D100+Ն.Բադալյան!D100+Ս.Մխիթարյան!D100+Մ.Կիրակոսյան!D100+#REF!+#REF!) -> #REF! | E100: =SUM('Ս. Մարդանյան'!E100+Ն.Բադալյան!E100+Ս.Մխիթարյան!E100+Մ.Կիրակոսյան!E100+#REF!+#REF!) -> #REF! | F100: =SUM('Ս. Մարդանյան'!F100+Ն.Բադալյան!F100+Ս.Մխիթարյան!F100+Մ.Կիրակոսյան!F100+#REF!+#REF!) -> #REF! | G100: =SUM('Ս. Մարդանյան'!G100+Ն.Բադալյան!G100+Ս.Մխիթարյան!G100+Մ.Կիրակոսյան!G100+#REF!+#REF!) -> #REF! | H100: =SUM('Ս. Մարդանյան'!H100+Ն.Բադալյան!H100+Ս.Մխիթարյան!H100+Մ.Կիրակոսյան!H100+#REF!+#REF!) -> #REF! | I100: =SUM('Ս. Մարդանյան'!I100+Ն.Բադալյան!I100+Ս.Մխիթարյան!I100+Մ.Կիրակոսյան!I100+#REF!+#REF!) -> #REF! | J100: =SUM('Ս. Մարդանյան'!J100+Ն.Բադալյան!J100+Ս.Մխիթարյան!J100+Մ.Կիրակոսյան!J100+#REF!+#REF!) -> #REF! | K100: =SUM('Ս. Մարդանյան'!K100+Ն.Բադալյան!K100+Ս.Մխիթարյան!K100+Մ.Կիրակոսյան!K100+#REF!+#REF!) -> #REF! | ... AG100: =SUM('Ս. Մարդանյան'!AG100+Ն.Բադալյան!AG100+Ս.Մխիթարյան!AG100+Մ.Կիրակոսյան!AG100+#REF!+#REF!) -> #REF! | AH100: =SUM('Ս. Մարդանյան'!#REF!+Ն.Բադալյան!#REF!+Ս.Մխիթարյան!#REF!+Մ.Կիրակոսյան!#REF!+#REF!+#REF!) -> #REF! | AI100: =SUM('Ս. Մարդանյան'!#REF!+Ն.Բադալյան!#REF!+Ս.Մխիթարյան!#REF!+Մ.Կիրակոսյան!#REF!+#REF!+#REF!) -> #REF! | AJ100: =SUM('Ս. Մարդանյան'!#REF!+Ն.Բադալյան!#REF!+Ս.Մխիթարյան!#REF!+Մ.Կիրակոսյան!#REF!+#REF!+#REF!) -> #REF! | AK100: =SUM('Ս. Մարդանյան'!#REF!+Ն.Բադալյան!#REF!+Ս.Մխիթարյան!#REF!+Մ.Կիրակոսյան!#REF!+#REF!+#REF!) -> #REF! | AL100: =SUM('Ս. Մարդանյան'!#REF!+Ն.Բադալյան!#REF!+Ս.Մխիթարյան!#REF!+Մ.Կիրակոսյան!#REF!+#REF!+#REF!) -> #REF! | AM100: =SUM('Ս. Մարդանյան'!#REF!+Ն.Բադալյան!#REF!+Ս.Մխիթարյան!#REF!+Մ.Կիրակոսյան!#REF!+#REF!+#REF!) -> #REF! | AN100: =SUM('Ս. Մարդանյան'!#REF!+Ն.Բադալյան!#REF!+Ս.Մխիթարյան!#REF!+Մ.Կիրակոսյան!#REF!+#REF!+#REF!) -> #REF! | AO100: =SUM('Ս. Մարդանյան'!#REF!+Ն.Բադալյան!#REF!+Ս.Մխիթարյան!#REF!+Մ.Կիրակոսյան!#REF!+#REF!+#REF!) -> #REF!
...

Sheet Ս. Մարդանյան
AD1: Հավելված 2 Բարձրագույն դատական խորհրդի 2022թվականի դեկտեմբերի 26-ի թիվ ԲԴԽ-122-Ո-408 որոշման
A2: 2025 ԹՎԱԿԱՆԻ ՏԱՐԵԿԱՆ ՀԱՇՎԵՏՎՈՒԹՅՈՒՆ ՀՀ ՏԱՎՈՒՇԻ ՄԱՐԶԻ ԱՌԱՋԻՆ ԱՏՅԱՆԻ ԸՆԴՀԱՆՈՒՐ ԻՐԱՎԱՍՈՒԹՅԱՆ ԴԱՏԱՐԱՆԻ ԴԱՏԱՎՈՐ ՍԱՄՎԵԼ ՄԱՐԴԱՆՅԱՆԻ ԳՈՐԾՈՒՆԵՈՒԹՅԱՆ ՎԵՐԱԲԵՐՅԱԼ
A3: Ստուգիչ հավասարումներ` 1+3=4+12+17+19, 12= 9+10+11, 25=21+22+23+24, 30=26+27+28+29 | C3: ՀՀ քրեական օրենսգրքի հոդվածներ | D3: Հաշվետու ժամանակահատվածի սկզբում նախորդ հաշվետու ժամանակահատվածից փոխանցված գործերի ընդհանուր թիվը | E3: Այդ թվում` կասեցված վիճակում փոխանցված | F3: Հաշվետու ժամանակահատվածում ստացված գործերի ընդհանուր թիվը | G3: փոխանցվել թ այլ դատավորի (վերաբաշխում) | H3: Որոշում է կայացվել քրեական գործը վերադարձնել հսկող դատախազին | I3: քանի գործով է կիրառվել համաձայնեցման վարույթ | J3: քանի գործով է կիրառվել համագործակցության վարույթ | K3: Հաշվետու ժամանակաշրջանում կայացվել է վերդիկտ | L3: Հաշվետու ժամանակաշրջանում կայացվել է դատավճիռ | M3: քրեական վարույթը կարճելու մաuին որոշում | N3: Հաշվետու ժամանակաշրջանում կայացվել է բժշկական հարկադրանքի դատավճիռ /ՀՀ ՔՐ. ԴԱՏ. ՕՐ. 432-ՐԴ ՀՈԴՎԱԾ/ | O3: Ընդամենը | P3: Հաշվետու ժամանակահատվածում ավարտված գործերի ընդհանուր թիվը /ՀՀ ՔՐ. ԴԱՏ. ՕՐ. 14-ՐԴ ՀՈԴՎԱԾ/ | T3: Ուղարկվել է ըստ ընդդատության | U3: Հաշվետու ժամանակահատվածում կասեցված վարույթներով գործերի ընդհանուր թիվը | V3: Հաշվետու ժամանակահատվածում անավարտ գործերի ընդհանուր թիվը | W3: Այդ թվում՝ կասեցված | X3: Բողոքարկված վարութային ակտերի թիվը` ըստ տեսակների | AB3: Ընդամենը բողոքարկվել են ակտեր | AC3: Բեկանված և փոփոխված ակտերի թիվը` ըստ տեսակների | AG3: Ընդամենը բեկանվել են ակտեր
P4: քրեական վարույթը կարճելու մաuին որոշումն ուժի մեջ մտնելով. | Q4: Եզրափակիչ դատական ակտն ուժի մեջ է մտել | R4: Եզրափակիչ դատական ակտը հանձնվել է կատարման | S4: ավարտվել են քրեական գործեր | X4: Այդ թվում` եզրափակիչ դատական ակտերը | Z4: Այդ թվում` եզրափակիչ դատավարական ակտերը | AC4: Այդ թվում` եզրափակիչ դատական ակտերը | AE4: Այդ թվում` եզրափակիչ դատավարական ակտերը
X5: նախորդ տարիների կայացված ակտերի բողոքարկումը | Y5: հաշվետու ժամանակահատվածում կայացված ակտերի բողոքարկումը | Z5: նախորդ տարիների կայացված ակտերի բողոքարկումը | AA5: հաշվետու ժամանակահատվածում կայացված ակտերի բողոքարկումը | AC5: նախորդ տարիների կայացված ակտերի բողոքարկումը | AD5: հաշվետու ժամանակահատվածում կայացված ակտերի բողոքարկումը | AE5: նախորդ տարիների կայացված ակտերի բողոքարկումը | AF5: հաշվետու ժամանակահատվածում կայացված ակտերի բողոքարկումը
D6: 1 | E6: 2 | F6: 3 | G6: 4 | H6: 5 | I6: 6 | J6: 7 | K6: 8 | L6: 9 | M6: 10 | N6: 11 | O6: 12 | P6: 13 | Q6: 14 | R6: 15 | S6: 16 | T6: 17 | U6: 18 | V6: 19 | W6: 20 | X6: 21 | Y6: 22 | Z6: 23 | AA6: 24 | AB6: 25 | AC6: 26 | AD6: 27 | AE6: 28 | AF6: 29 | AG6: 30
A7: 1. | B7: Ընդամենը խաղաղության և մարդկության անվտանգության դեմ ուղղված հանցագործությունները | D7: =SUM(D8:D29) -> 0 | E7: =SUM(E8:E29) -> 0 | F7: =SUM(F8:F29) -> 0 | G7: =SUM(G8:G29) -> 0 | H7: =SUM(H8:H29) -> 0 | I7: =SUM(I8:I29) -> 0 | J7: =SUM(J8:J29) -> 0 | K7: =SUM(K8:K29) -> 0 | ... AG7: =SUM(AG8:AG29) -> 0
A8: 1.1 | B8: Ցեղասպանությունը | C8: 133
A9: 1.2 | B9: Ցեղասպանության ուղղակի և հրապարակային հրահրումը | C9: 134
A10: 1.3 | B10: Մարդկայնության դեմ ուղղված հանցագործությունները | C10: 135
A11: 1.4 | B11: Ցեղասպանությունը կամ մարդկայնության դեմ ուղղված հանցագործությունները հրապարակայնորեն հերքելը, արդարացնելը, դրանք քարոզելը կամ դրանց վտանգավորությունը նսեմացնելը | C11: 136
A12: 1.5 | B12: Հովանավորվող անձի դեմ ուղղված պատերազմական հանցագործությունները | C12: 137
A13: 1.6 | B13: Սեփականության կամ այլ իրավունքների դեմ ուղղված պատերազմական հանցագործությունները | C13: 138
A14: 1.7 | B14: Մարդասիրական օգնության ցուցաբերման կամ տարբերանշանների դեմ ուղղված պատերազմական հանցագործությունները | C14: 139
A15: 1.8 | B15: Պատերազմ վարելու արգելված եղանակների կիրառմամբ պատերազմական հանցագործությունները | C15: 140
A16: 1.9 | B16: Պատերազմ վարելու արգելված միջոցների կիրառմամբ պատերազմական հանցագործությունները | C16: 141
A17: 1.10 | B17: Դիակապտությունը | C17: 142
A18: 1.11 | B18: Մարտադաշտում սպանվածների դիակներն անարգելը | C18: 143
A19: 1.12 | B19: Զինված ընդհարման ժամանակ մշակութային արժեքները ոչնչացնելը, վնասելը, հափշտակելը կամ առգրավելը կամ դրանց նպատակային նշանակությունը փոփոխելը | C19: 144
A20: 1.13 | B20: Պատերազմի կամ զինված ընդհարման ժամանակ մշակութային արժեքների պաշտպանության կանոնները խախտելը | C20: 145
A21: 1.14 | B21: Ռասայական, ազգային, էթնիկական կամ կրոնական թշնամանք հարուցելու նպատակով մշակութային արժեքները ոչնչացնելը կամ վնասելը | C21: 146
A22: 1.15 | B22: Վարձկանությունը | C22: 147
A23: 1.16 | B23: Անգործությունը զինված ընդհարման ժամանակ | C23: 148
A24: 1.17 | B24: Ագրեսիան | C24: 149
A25: 1.18 | B25: Համավարակի կամ մարդկության անվտանգությանն անմիջական սպառնալիքի իրավիճակի պայմաններում ագրեսիվ ռազմական գործողություններ նախաձեռնելը, իրականացնելը կամ դրանք չդադարեցնելը | C25: 150
A26: 1.19 | B26: Ագրեսիա իրականացնելու ուղղակի և հրապարակային կոչերը | C26: 151
A27: 1.20 | B27: Միջազգային ահաբեկչությունը | C27: 152
A28: 1.21 | B28: Զանգվածային ոչնչացման զենք ստեղծելը, տրամադրելը, փորձարկելը կամ կիրառելը | C28: 153
A29: 1.22 | B29: Էկոցիդը | C29: 154
A30: 2 | B30: Ընդամենը մարդու կյանքի դեմ ուղղված հանցագործությունները | D30: =SUM(D31:D41) -> 3 | E30: =SUM(E31:E41) -> 0 | F30: =SUM(F31:F41) -> 2 | G30: =SUM(G31:G41) -> 2 | H30: =SUM(H31:H41) -> 0 | I30: =SUM(I31:I41) -> 0 | J30: =SUM(J31:J41) -> 0 | K30: =SUM(K31:K41) -> 0 | ... AG30: =SUM(AG31:AG41) -> 0
A31: 2.1 | B31: Սպանությունը | C31: 155 | D31: 2 | F31: 2 | G31: 2 | V31: 2 | AA31: 3 | AB31: 3
A32: 2.2 | B32: Հոգեկան խիստ հուզմունքի վիճակում կատարված սպանությունը | C32: 156
A33: 2.3 | B33: Ծննդկանի կամ ծննդաբերի կողմից երեխայի սպանությունը | C33: 157
A34: 2.4 | B34: Ծննդկանի կամ ծննդաբերի կողմից երեխայի սպանությանը հանցակցելը | C34: 158
A35: 2.5 | B35: Անհրաժեշտ պաշտպանության սահմանազանցմամբ սպանությունը | C35: 159
A36: 2.6 | B36: Հակաիրավական ոտնձգություն կատարած անձին բռնելու համար անհրաժեշտ միջոցների սահմանազանցմամբ սպանությունը | C36: 160
A37: 2.7 | B37: Տուժողի խնդրանքով սպանությունը | C37: 161
A38: 2.8 | B38: Ինքնասպանության հասցնելը | C38: 162 | D38: 1 | V38: 1
A39: 2.9 | B39: Ինքնասպանության հակելը | C39: 163
A40: 2.10 | B40: Ինքնասպանությանը նպաստելը | C40: 164
A41: 2.11 | B41: Անզգուշությամբ կյանքից զրկելը | C41: 165
A42: 3. | B42: Ընդամենը ռողջության դեմ ուղղված հանցագործությունները | D42: =SUM(D43:D50) -> 3 | E42: =SUM(E43:E50) -> 0 | F42: =SUM(F43:F50) -> 5 | G42: =SUM(G43:G50) -> 0 | H42: =SUM(H43:H50) -> 0 | I42: =SUM(I43:I50) -> 0 | J42: =SUM(J43:J50) -> 0 | K42: =SUM(K43:K50) -> 2 | ... AG42: =SUM(AG43:AG50) -> 1
A43: 3.1 | B43: Առողջությանը ծանր վնաս պատճառելը | C43: 166 | D43: 2 | V43: 2
A44: 3.2 | B44: Առողջությանը միջին ծանրության վնաս պատճառելը | C44: 167 | F44: 1 | V44: 1
A45: 3.3 | B45: Առողջությանը ծանր կամ միջին ծանրության վնաս պատճառելը հոգեկան խիստ հուզմունքի վիճակում | C45: 168
A46: 3.4 | B46: Առողջությանը ծանր կամ միջին ծանրության վնաս պատճառելը hակաիրավական ոտնձգություն կատարած անձին բռնելու համար անհրաժեշտ միջոցների սահմանազանցմամբ | C46: 169
A47: 3.5 | B47: Առողջությանը ծանր կամ միջին ծանրության վնաս պատճառելն անհրաժեշտ պաշտպանության սահմանազանցմամբ | C47: 170
A48: 3.6 | B48: Առողջությանը թեթև վնաս պատճառելը | C48: 171 | D48: 1 | F48: 4 | K48: 2 | L48: 3 | O48: 3 | R48: 1 | S48: 1 | V48: 2 | Y48: 1 | AA48: 3 | AB48: 4 | AC48: 1 | AG48: 1
A49: 3.7 | B49: Անզգուշությամբ առողջությանը ծանր վնաս պատճառելը | C49: 172
A50: 3.8 | B50: Անզգուշությամբ առողջությանը միջին ծանրության վնաս պատճառելը | C50: 173
A51: 4. | B51: Ընդամենը կյանքը և առողջությունը վտանգող հանցագործությունները | D51: =SUM(D52:D65) -> 0 | E51: =SUM(E52:E65) -> 0 | F51: =SUM(F52:F65) -> 0 | G51: =SUM(G52:G65) -> 0 | H51: =SUM(H52:H65) -> 0 | I51: =SUM(I52:I65) -> 0 | J51: =SUM(J52:J65) -> 0 | K51: =SUM(K52:K65) -> 0 | ... AG51: =SUM(AG52:AG65) -> 0
A52: 4.1 | B52: Հղիության ապօրինի արհեստական ընդհատում (աբորտ) կատարելը | C52: 174
A53: 4.2 | B53: Հղիության արհեստական ընդհատում (աբորտ) կատարելը կամ ամլացումը | C53: 175
A54: 4.3 | B54: Հղիության արհեստական ընդհատմանը (աբորտ կատարելուն) կամ ամլացմանը հարկադրելը | C54: 176
A55: 4.4 | B55: Մարդու իմունային անբավարարության վիրուսով վարակելը | C55: 177
A56: 4.5 | B56: Մարդու իմունային անբավարարության վիրուսով անզգուշությամբ վարակելը | C56: 178
A57: 4.6 | B57: Սեռավարակով վարակելը | C57: 179
A58: 4.7 | B58: Սեռավարակով անզգուշությամբ վարակելը | C58: 180
A59: 4.8 | B59: Շրջապատի համար վտանգ ներկայացնող հիվանդությամբ վարակելը | C59: 181
A60: 4.9 | B60: Վտանգի մեջ թողնելը | C60: 182
A61: 4.10 | B61: Մարդու սաղմի, պտղի, մարդու կամ դիակի բջիջների, հյուսվածքների, օրգանների կամ կենսաբանական նյութերի կամ հեղուկների ապօրինի շրջանառությունը | C61: 183
A62: 4.11 | B62: Փոխպատվաստման կանոնները խախտելը | C62: 184
A63: 4.12 | B63: Անձին առանց իր համաձայնության բժշկական, գիտական կամ այլ փորձի ենթարկելը | C63: 185
A64: 4.13 | B64: Մարդու վերարտադրողական կլոնավորումը կամ եվգենիկական փորձերը | C64: 186
A65: 4.14 | B65: Բուժաշխատողի կողմից մասնագիտական պարտականությունները չկատարելը կամ ոչ պատշաճ կատարելը | C65: 187
A66: 5. | B66: Ընդամենը ազատության, պատվի, արժանապատվության, ֆիզիկական կամ հոգեկան անձեռնմխելիության դեմ ուղղված հանցագործությունները | D66: =SUM(D67:D76) -> 2 | E66: =SUM(E67:E76) -> 0 | F66: =SUM(F67:F76) -> 0 | G66: =SUM(G67:G76) -> 0 | H66: =SUM(H67:H76) -> 0 | I66: =SUM(I67:I76) -> 0 | J66: =SUM(J67:J76) -> 0 | K66: =SUM(K67:K76) -> 1 | ... AG66: =SUM(AG67:AG76) -> 0
A67: 5.1 | B67: Մարդու թրաֆիքինգը կամ շահագործումը | C67: 188
A68: 5.2 | B68: Երեխայի կամ անօգնական վիճակում գտնվողի թրաֆիքինգը կամ շահագործումը | C68: 189
A69: 5.3 | B69: Շահագործման վիճակում գտնվող մարդու ծառայությունից օգտվելը | C69: 190
A70: 5.4 | B70: Մարդուն առևանգելը | C70: 191
A71: 5.5 | B71: Ազատությունից ապօրինի զրկելը | C71: 192
A72: 5.6 | B72: Հոգեբուժական կազմակերպությունում ապօրինի տեղավորելը կամ պահելը | C72: 193
A73: 5.7 | B73: Հոգեկան ներգործությունը | C73: 194
A74: 5.8 | B74: Ֆիզիկական ներգործությունը | C74: 195 | D74: 2 | K74: 1 | L74: 2 | O74: 2 | R74: 2 | S74: 2 | Y74: 1 | AB74: 1
A75: 5.9 | B75: Ֆիզիկական ուժեղ ցավ կամ հոգեկան ուժեղ տառապանք պատճառելը | C75: 196
A76: 5.10 | B76: Ամուսնությանը, ամուսնալուծությանը կամ երեխա ունենալուն հարկադրելը | C76: 197
A77: 6 | B77: Ընդամենը սեռական ազատության և սեռական անձեռնմխելիության դեմ ուղղված հանցագործությունները | D77: =SUM(D78:D82) -> 2 | E77: =SUM(E78:E82) -> 0 | F77: =SUM(F78:F82) -> 1 | G77: =SUM(G78:G82) -> 0 | H77: =SUM(H78:H82) -> 0 | I77: =SUM(I78:I82) -> 0 | J77: =SUM(J78:J82) -> 0 | K77: =SUM(K78:K82) -> 2 | ... AG77: =SUM(AG78:AG82) -> 0
A78: 6.1 | B78: Սեքսուալ բնույթի բռնի գործողությունները | C78: 198 | D78: 1 | F78: 1 | K78: 1 | L78: 1 | O78: 1 | V78: 1 | Y78: 1 | AB78: 1
A79: 6.2 | B79: Սեքսուալ բնույթի գործողություններին հարկադրելը | C79: 199
A80: 6.3 | B80: Սեքսուալ բնույթի գործողություններ կատարելը 16 տարին չլրացած անձի նկատմամբ | C80: 200
A81: 6.4 | B81: Անառակաբարո արարք կատարելը | C81: 201 | D81: 1 | K81: 1 | L81: 1 | O81: 1 | Y81: 1 | AB81: 1
A82: 6.5 | B82: 16 տարին չլրացած անձին սեռական հարաբերություն կամ սեքսուալ բնույթի այլ գործողություններ կամ մանկական պոռնոգրաֆիա ստեղծել կամ արտադրել առաջարկելը (գրումինգ) | C82: 202
A83: 7 | B83: Ընդամենը Սահմանադրական իրավունքների և ազատությունների դեմ ուղղված հանցագործությունները | D83: =SUM(D84:D119) -> 0 | E83: =SUM(E84:E119) -> 0 | F83: =SUM(F84:F119) -> 0 | G83: =SUM(G84:G119) -> 0 | H83: =SUM(H84:H119) -> 0 | I83: =SUM(I84:I119) -> 0 | J83: =SUM(J84:J119) -> 0 | K83: =SUM(K84:K119) -> 0 | ... AG83: =SUM(AG84:AG119) -> 0
A84: 7.1 | B84: Խտրականությունը | C84: 203
A85: 7.2 | B85: Անձնական կամ ընտանեկան կյանքի գաղտնիությունը խախտելը | C85: 204
A86: 7.3 | B86: Բժշկական գաղտնիքը հրապարակելը | C86: 205
A87: 7.4 | B87: Նամակագրության, հեռախոսային խոսակցությունների և հաղորդակցության այլ ձևերի գաղտնիությունը խախտելը | C87: 206
A88: 7.5 | B88: Բնակարանի անձեռնմխելիությունը խախտելը | C88: 207
A89: 7.6 | B89: Անձին տեղեկություններ տրամադրելուց հրաժարվելը | C89: 208
A90: 7.7 | B90: Խղճի կամ դավանանքի ազատության իրավունքի իրականացումը խոչընդոտելը | C90: 209
A91: 7.8 | B91: Ընտրական կամ հանրաքվեին մասնակցելու իրավունքի իրականացումը, ընտրական հանձնաժողովների աշխատանքներին կամ ընտրությանը կամ հանրաքվեին մասնակցող անձանց իրավունքների կամ պարտականությունների իրականացումը խոչընդոտելը | C91: 210
A92: 7.9 | B92: Քարոզչություն կատարելուն կամ քարոզչություն կատարելուց հրաժարվելուն հարկադրելը կամ քարոզչություն կատարելուն այլ կերպ խոչընդոտելը | C92: 211
A93: 7.10 | B93: Ընտրությունների կամ քվեարկության արդյունքները կեղծելը | C93: 212
A94: 7.11 | B94: Ընտրողների ցուցակները կազմելու, դրանք քաղաքացիներին կամ կուսակցություններին տրամադրելու կամ հրապարակելու կարգը խախտելը | C94: 213
A95: 7.12 | B95: Մեկից ավելի անգամ կամ այլ անձի փոխարեն քվեարկելը | C95: 214
A96: 7.13 | B96: Քվեարկության գաղտնիությունը խախտելը | C96: 215
A97: 7.14 | B97: Կեղծ ընտրական քվեաթերթիկներ կամ քվեարկության ծրարներ, դրոշմանիշներ, կտրոններ պատրաստելը կամ ակնհայտ կեղծ ընտրական քվեաթերթիկներ կամ քվեարկության ծրարներ, դրոշմանիշներ, կտրոններ հանձնելը կամ դրանք իրացնելը | C97: 216
A98: 7.15 | B98: Ընտրական գործընթացի պատշաճ կազմակերպման համար անհրաժեշտ առարկաները հափշտակելը | C98: 217
A99: 7.16 | B99: Ընտրակաշառք ստանալը | C99: 218
A100: 7.17 | B100: Ընտրակաշառք տալը | C100: 219
...

Sheet Ն.Բադալյան
AD1: Հավելված 2 Բարձրագույն դատական խորհրդի 2022թվականի դեկտեմբերի 26-ի թիվ ԲԴԽ-122-Ո-408 որոշման
A2: 2025 ԹՎԱԿԱՆԻ ՏԱՐԵԿԱՆ ՀԱՇՎԵՏՎՈՒԹՅՈՒՆ ՀՀ ՏԱՎՈՒՇԻ ՄԱՐԶԻ ԱՌԱՋԻՆ ԱՏՅԱՆԻ ԸՆԴՀԱՆՈՒՐ ԻՐԱՎԱՍՈՒԹՅԱՆ ԴԱՏԱՐԱՆԻ ԴԱՏԱՎՈՐ ՆԱՐԵԿ ԲԱԴԱԼՅԱՆԻ ԳՈՐԾՈՒՆԵՈՒԹՅԱՆ ՎԵՐԱԲԵՐՅԱԼ
A3: Ստուգիչ հավասարումներ` 1+3=4+12+17+19, 12= 9+10+11, 25=21+22+23+24, 30=26+27+28+29 | C3: ՀՀ քրեական օրենսգրքի հոդվածներ | D3: Հաշվետու ժամանակահատվածի սկզբում նախորդ հաշվետու ժամանակահատվածից փոխանցված գործերի ընդհանուր թիվը | E3: Այդ թվում` կասեցված վիճակում փոխանցված | F3: Հաշվետու ժամանակահատվածում ստացված գործերի ընդհանուր թիվը | G3: փոխանցվել թ այլ դատավորի (վերաբաշխում) | H3: Որոշում է կայացվել քրեական գործը վերադարձնել հսկող դատախազին | I3: քանի գործով է կիրառվել համաձայնեցման վարույթ | J3: քանի գործով է կիրառվել համագործակցության վարույթ | K3: Հաշվետու ժամանակաշրջանում կայացվել է վերդիկտ | L3: Հաշվետու ժամանակաշրջանում կայացվել է դատավճիռ | M3: քրեական վարույթը կարճելու մաuին որոշում | N3: Հաշվետու ժամանակաշրջանում կայացվել է բժշկական հարկադրանքի դատավճիռ /ՀՀ ՔՐ. ԴԱՏ. ՕՐ. 432-ՐԴ ՀՈԴՎԱԾ/ | O3: Ընդամենը | P3: Հաշվետու ժամանակահատվածում ավարտված գործերի ընդհանուր թիվը /ՀՀ ՔՐ. ԴԱՏ. ՕՐ. 14-ՐԴ ՀՈԴՎԱԾ/ | T3: Ուղարկվել է ըստ ընդդատության | U3: Հաշվետու ժամանակահատվածում կասեցված վարույթներով գործերի ընդհանուր թիվը | V3: Հաշվետու ժամանակահատվածում անավարտ գործերի ընդհանուր թիվը | W3: Այդ թվում՝ կասեցված | X3: Բողոքարկված վարութային ակտերի թիվը` ըստ տեսակների | AB3: Ընդամենը բողոքարկվել են ակտեր | AC3: Բեկանված և փոփոխված ակտերի թիվը` ըստ տեսակների | AG3: Ընդամենը բեկանվել են ակտեր
P4: քրեական վարույթը կարճելու մաuին որոշումն ուժի մեջ մտնելով. | Q4: Եզրափակիչ դատական ակտն ուժի մեջ է մտել | R4: Եզրափակիչ դատական ակտը հանձնվել է կատարման | S4: ավարտվել են քրեական գործեր | X4: Այդ թվում` եզրափակիչ դատական ակտերը | Z4: Այդ թվում` եզրափակիչ դատավարական ակտերը | AC4: Այդ թվում` եզրափակիչ դատական ակտերը | AE4: Այդ թվում` եզրափակիչ դատավարական ակտերը
X5: նախորդ տարիների կայացված ակտերի բողոքարկումը | Y5: հաշվետու ժամանակահատվածում կայացված ակտերի բողոքարկումը | Z5: նախորդ տարիների կայացված ակտերի բողոքարկումը | AA5: հաշվետու ժամանակահատվածում կայացված ակտերի բողոքարկումը | AC5: նախորդ տարիների կայացված ակտերի բողոքարկումը | AD5: հաշվետու ժամանակահատվածում կայացված ակտերի բողոքարկումը | AE5: նախորդ տարիների կայացված ակտերի բողոքարկումը | AF5: հաշվետու ժամանակահատվածում կայացված ակտերի բողոքարկումը
D6: 1 | E6: 2 | F6: 3 | G6: 4 | H6: 5 | I6: 6 | J6: 7 | K6: 8 | L6: 9 | M6: 10 | N6: 11 | O6: 12 | P6: 13 | Q6: 14 | R6: 15 | S6: 16 | T6: 17 | U6: 18 | V6: 19 | W6: 20 | X6: 21 | Y6: 22 | Z6: 23 | AA6: 24 | AB6: 25 | AC6: 26 | AD6: 27 | AE6: 28 | AF6: 29 | AG6: 30
A7: 1. | B7: Ընդամենը խաղաղության և մարդկության անվտանգության դեմ ուղղված հանցագործությունները | D7: =SUM(D8:D29) -> 0 | E7: =SUM(E8:E29) -> 0 | F7: =SUM(F8:F29) -> 0 | G7: =SUM(G8:G29) -> 0 | H7: =SUM(H8:H29) -> 0 | I7: =SUM(I8:I29) -> 0 | J7: =SUM(J8:J29) -> 0 | K7: =SUM(K8:K29) -> 0 | ... AG7: =SUM(AG8:AG29) -> 0
A8: 1.1 | B8: Ցեղասպանությունը | C8: 133
A9: 1.2 | B9: Ցեղասպանության ուղղակի և հրապարակային հրահրումը | C9: 134
A10: 1.3 | B10: Մարդկայնության դեմ ուղղված հանցագործությունները | C10: 135
A11: 1.4 | B11: Ցեղասպանությունը կամ մարդկայնության դեմ ուղղված հանցագործությունները հրապարակայնորեն հերքելը, արդարացնելը, դրանք քարոզելը կամ դրանց վտանգավորությունը նսեմացնելը | C11: 136
A12: 1.5 | B12: Հովանավորվող անձի դեմ ուղղված պատերազմական հանցագործությունները | C12: 137
A13: 1.6 | B13: Սեփականության կամ այլ իրավունքների դեմ ուղղված պատերազմական հանցագործությունները | C13: 138
A14: 1.7 | B14: Մարդասիրական օգնության ցուցաբերման կամ տարբերանշանների դեմ ուղղված պատերազմական հանցագործությունները | C14: 139
A15: 1.8 | B15: Պատերազմ վարելու արգելված եղանակների կիրառմամբ պատերազմական հանցագործությունները | C15: 140
A16: 1.9 | B16: Պատերազմ վարելու արգելված միջոցների կիրառմամբ պատերազմական հանցագործությունները | C16: 141
A17: 1.10 | B17: Դիակապտությունը | C17: 142
A18: 1.11 | B18: Մարտադաշտում սպանվածների դիակներն անարգելը | C18: 143
A19: 1.12 | B19: Զինված ընդհարման ժամանակ մշակութային արժեքները ոչնչացնելը, վնասելը, հափշտակելը կամ առգրավելը կամ դրանց նպատակային նշանակությունը փոփոխելը | C19: 144
A20: 1.13 | B20: Պատերազմի կամ զինված ընդհարման ժամանակ մշակութային արժեքների պաշտպանության կանոնները խախտելը | C20: 145
A21: 1.14 | B21: Ռասայական, ազգային, էթնիկական կամ կրոնական թշնամանք հարուցելու նպատակով մշակութային արժեքները ոչնչացնելը կամ վնասելը | C21: 146
A22: 1.15 | B22: Վարձկանությունը | C22: 147
A23: 1.16 | B23: Անգործությունը զինված ընդհարման ժամանակ | C23: 148
A24: 1.17 | B24: Ագրեսիան | C24: 149
A25: 1.18 | B25: Համավարակի կամ մարդկության անվտանգությանն անմիջական սպառնալիքի իրավիճակի պայմաններում ագրեսիվ ռազմական գործողություններ նախաձեռնելը, իրականացնելը կամ դրանք չդադարեցնելը | C25: 150
A26: 1.19 | B26: Ագրեսիա իրականացնելու ուղղակի և հրապարակային կոչերը | C26: 151
A27: 1.20 | B27: Միջազգային ահաբեկչությունը | C27: 152
A28: 1.21 | B28: Զանգվածային ոչնչացման զենք ստեղծելը, տրամադրելը, փորձարկելը կամ կիրառելը | C28: 153
A29: 1.22 | B29: Էկոցիդը | C29: 154
A30: 2 | B30: Ընդամենը մարդու կյանքի դեմ ուղղված հանցագործությունները | D30: =SUM(D31:D41) -> 0 | E30: =SUM(E31:E41) -> 0 | F30: =SUM(F31:F41) -> 2 | G30: =SUM(G31:G41) -> 0 | H30: =SUM(H31:H41) -> 0 | I30: =SUM(I31:I41) -> 0 | J30: =SUM(J31:J41) -> 0 | K30: =SUM(K31:K41) -> 0 | ... AG30: =SUM(AG31:AG41) -> 0
A31: 2.1 | B31: Սպանությունը | C31: 155 | F31: 2 | V31: 2
A32: 2.2 | B32: Հոգեկան խիստ հուզմունքի վիճակում կատարված սպանությունը | C32: 156
A33: 2.3 | B33: Ծննդկանի կամ ծննդաբերի կողմից երեխայի սպանությունը | C33: 157
A34: 2.4 | B34: Ծննդկանի կամ ծննդաբերի կողմից երեխայի սպանությանը հանցակցելը | C34: 158
A35: 2.5 | B35: Անհրաժեշտ պաշտպանության սահմանազանցմամբ սպանությունը | C35: 159
A36: 2.6 | B36: Հակաիրավական ոտնձգություն կատարած անձին բռնելու համար անհրաժեշտ միջոցների սահմանազանցմամբ սպանությունը | C36: 160
A37: 2.7 | B37: Տուժողի խնդրանքով սպանությունը | C37: 161
A38: 2.8 | B38: Ինքնասպանության հասցնելը | C38: 162
A39: 2.9 | B39: Ինքնասպանության հակելը | C39: 163
A40: 2.10 | B40: Ինքնասպանությանը նպաստելը | C40: 164
A41: 2.11 | B41: Անզգուշությամբ կյանքից զրկելը | C41: 165
A42: 3. | B42: Ընդամենը ռողջության դեմ ուղղված հանցագործությունները | D42: =SUM(D43:D50) -> 2 | E42: =SUM(E43:E50) -> 0 | F42: =SUM(F43:F50) -> 5 | G42: =SUM(G43:G50) -> 0 | H42: =SUM(H43:H50) -> 0 | I42: =SUM(I43:I50) -> 0 | J42: =SUM(J43:J50) -> 0 | K42: =SUM(K43:K50) -> 0 | ... AG42: =SUM(AG43:AG50) -> 0
A43: 3.1 | B43: Առողջությանը ծանր վնաս պատճառելը | C43: 166 | D43: 2 | F43: 2 | V43: 4
A44: 3.2 | B44: Առողջությանը միջին ծանրության վնաս պատճառելը | C44: 167
