Workbook

Sheet Տավուշի   մարզի ԱԱԸԻ դ.
B1: 2025թվական | AD1: Հավելված 2 Բարձրագույն դատական խորհրդի 2022թվականի դեկտեմբերի 26-ի թիվ ԲԴԽ-122-Ո-408 որոշման
A2: ԹՎԱԿԱՆԻ ՏԱՐԵԿԱՆ ՀԱՇՎԵՏՎՈՒԹՅՈՒՆ ՀՀ ԱՌԱՋԻՆ ԱՏՅԱՆԻ ԸՆԴՀԱՆՈՒՐ ԻՐԱՎԱՍՈՒԹՅԱՆ ԴԱՏԱՐԱՆԻ ԴԱՏԱՎՈՐ --- ԳՈՐԾՈՒՆԵՈՒԹՅԱՆ ՎԵՐԱԲԵՐՅԱԼ
A3: Ստուգիչ հավասարումներ` 1+3=4+12+17+19, 12= 9+10+11, 25=21+22+23+24, 30=26+27+28+29 | C3: ՀՀ քրեական օրենսգրքի հոդվածներ | D3: Հաշվետու ժամանակահատվածի սկզբում նախորդ հաշվետու ժամանակահատվածից փոխանցված գործերի ընդհանուր թիվը | E3: Այդ թվում` կասեցված վիճակում փոխանցված | F3: Հաշվետու ժամանակահատվածում ստացված գործերի ընդհանուր թիվը | G3: փոխանցվել թ այլ դատավորի (վերաբաշխում) | H3: Որոշում է կայացվել քրեական գործը վերադարձնել հսկող դատախազին | I3: քանի գործով է կիրառվել համաձայնեցման վարույթ | J3: քանի գործով է կիրառվել համագործակցության վարույթ | K3: Հաշվետու ժամանակաշրջանում կայացվել է վերդիկտ | L3: Հաշվետու ժամանակաշրջանում կայացվել է դատավճիռ | M3: քրեական վարույթը կարճելու մաuին որոշում | N3: Հաշվետու ժամանակաշրջանում կայացվել է բժշկական հարկադրանքի դատավճիռ /ՀՀ ՔՐ. ԴԱՏ. ՕՐ. 432-ՐԴ ՀՈԴՎԱԾ/ | O3: ընդամենը | P3: Հաշվետու ժամանակահատվածում ավարտված գործերի ընդհանուր թիվը /ՀՀ ՔՐ. ԴԱՏ. ՕՐ. 14-ՐԴ ՀՈԴՎԱԾ/ | T3: Ուղարկվել է ըստ ընդդատության | U3: Հաշվետու ժամանակահատվածում կասեցված վարույթներով գործերի ընդհանուր թիվը | V3: Հաշվետու ժամանակահատվածում անավարտ գործերի ընդհանուր թիվը | W3: Այդ թվում՝ կասեցված | X3: Բողոքարկված վարութային ակտերի թիվը` ըստ տեսակների | AB3: ընդամենը բողոքարկվել են ակտեր | AC3: Բեկանված և փոփոխված ակտերի թիվը` ըստ տեսակների | AG3: ընդամենը բեկանվել են ակտեր
P4: քրեական վարույթը կարճելու մաuին որոշումն ուժի մեջ մտնելով. | Q4: Եզրափակիչ դատական ակտն ուժի մեջ է մտել | R4: Եզրափակիչ դատական ակտը հանձնվել է կատարման | S4: ավարտվել են քրեական գործեր | X4: Այդ թվում` եզրափակիչ դատական ակտերը | Z4: Այդ թվում` եզրափակիչ դատավարական ակտերը | AC4: Այդ թվում` եզրափակիչ դատական ակտերը | AE4: Այդ թվում` եզրափակիչ դատավարական ակտերը
X5: նախորդ տարիների կայացված ակտերի բողոքարկումը | Y5: հաշվետու ժամանակահատվածում կայացված ակտերի բողոքարկումը | Z5: նախորդ տարիների կայացված ակտերի բողոքարկումը | AA5: հաշվետու ժամանակահատվածում կայացված ակտերի բողոքարկումը | AC5: նախորդ տարիների կայացված ակտերի բողոքարկումը | AD5: հաշվետու ժամանակահատվածում կայացված ակտերի բողոքարկումը | AE5: նախորդ տարիների կայացված ակտերի բողոքարկումը | AF5: հաշվետու ժամանակահատվածում կայացված ակտերի բողոքարկումը | AH5: 1+3 | AI5: 4+12+17+19 | AJ5: 12 | AK5: 9+10+11 | AL5: 25 | AM5: 21+22+23+24 | AN5: 30 | AO5: 26+27+28+29
D6: 1 | E6: 2 | F6: 3 | G6: 4 | H6: 5 | I6: 6 | J6: 7 | K6: 8 | L6: 9 | M6: 10 | N6: 11 | O6: 12 | P6: 13 | Q6: 14 | R6: 15 | S6: 16 | T6: 17 | U6: 18 | V6: 19 | W6: 20 | X6: 21 | Y6: 22 | Z6: 23 | AA6: 24 | AB6: 25 | AC6: 26 | AD6: 27 | AE6: 28 | AF6: 29 | AG6: 30
A7: 1. | B7: Ընդամենը խաղաղության և մարդկության անվտանգության դեմ ուղղված հանցագործությունները | D7: =SUM('Ս. Մարդանյան'!D7+Ն.Բադալյան!D7+Ս.Մխիթարյան!D7+Մ.Կիրակոսյան!D7+#REF!+#REF!) -> #REF! | E7: =SUM('Ս. Մարդանյան'!E7+Ն.Բադալյան!E7+Ս.Մխիթարյան!E7+Մ.Կիրակոսյան!E7+#REF!+#REF!) -> #REF! | F7: =SUM('Ս. Մարդանյան'!F7+Ն.Բադալյան!F7+Ս.Մխիթարյան!F7+Մ.Կիրակոսյան!F7+#REF!+#REF!) -> #REF! | G7: =SUM('Ս. Մարդանյան'!G7+Ն.Բադալյան!G7+Ս.Մխիթարյան!G7+Մ.Կիրակոսյան!G7+#REF!+#REF!) -> #REF! | H7: =SUM('Ս. Մարդանյան'!H7+Ն.Բադալյան!H7+Ս.Մխիթարյան!H7+Մ.Կիրակոսյան!H7+#REF!+#REF!) -> #REF! | I7: =SUM('Ս. Մարդանյան'!I7+Ն.Բադալյան!I7+Ս.Մխիթարյան!I7+Մ.Կիրակոսյան!I7+#REF!+#REF!) -> #REF! | J7: =SUM('Ս. Մարդանյան'!J7+Ն.Բադալյան!J7+Ս.Մխիթարյան!J7+Մ.Կիրակոսյան!J7+#REF!+#REF!) -> #REF! | K7: =SUM('Ս. Մարդանյան'!K7+Ն.Բադալյան!K7+Ս.Մխիթարյան!K7+Մ.Կիրակոսյան!K7+#REF!+#REF!) -> #REF! | ... AG7: =SUM('Ս. Մարդանյան'!AG7+Ն.Բադալյան!AG7+Ս.Մխիթարյան!AG7+Մ.Կիրակոսյան!AG7+#REF!+#REF!) -> #REF! | AH7: =SUM('Ս. Մարդանյան'!#REF!+Ն.Բադալյան!#REF!+Ս.Մխիթարյան!#REF!+Մ.Կիրակոսյան!#REF!+#REF!+#REF!) -> #REF! | AI7: =SUM('Ս. Մարդանյան'!#REF!+Ն.Բադալյան!#REF!+Ս.Մխիթարյան!#REF!+Մ.Կիրակոսյան!#REF!+#REF!+#REF!) -> #REF! | AJ7: =SUM('Ս. Մարդանյան'!#REF!+Ն.Բադալյան!#REF!+Ս.Մխիթարյան!#REF!+Մ.Կիրակոսյան!#REF!+#REF!+#REF!) -> #REF! | AK7: =SUM('Ս. Մարդանյան'!#REF!+Ն.Բադալյան!#REF!+Ս.Մխիթարյան!#REF!+Մ.Կիրակոսյան!#REF!+#REF!+#REF!) -> #REF! | AL7: =SUM('Ս. Մարդանյան'!#REF!+Ն.Բադալյան!#REF!+Ս.Մխիթարյան!#REF!+Մ.Կիրակոսյան!#REF!+#REF!+#REF!) -> #REF! | AM7: =SUM('Ս. Մարդանյան'!#REF!+Ն.Բադալյան!#REF!+Ս.Մխիթարյան!#REF!+Մ.Կիրակոսյան!#REF!+#REF!+#REF!) -> #REF! | AN7: =SUM('Ս. Մարդանյան'!#REF!+Ն.Բադալյան!#REF!+Ս.Մխիթարյան!#REF!+Մ.Կիրակոսյան!#REF!+#REF!+#REF!) -> #REF! | AO7: =SUM('Ս. Մարդանյան'!#REF!+Ն.Բադալյան!#REF!+Ս.Մխիթարյան!#REF!+Մ.Կիրակոսյան!#REF!+#REF!+#REF!) -> #REF!
A8: 1.1 | B8: Ցեղասպանությունը | C8: 133 | D8: =SUM('Ս. Մարդանյան'!D8+Ն.Բադալյան!D8+Ս.Մխիթարյան!D8+Մ.Կիրակոսյան!D8+#REF!+#REF!) -> #REF! | E8: =SUM('Ս. Մարդանյան'!E8+Ն.Բադալյան!E8+Ս.Մխիթարյան!E8+Մ.Կիրակոսյան!E8+#REF!+#REF!) -> #REF! | F8: =SUM('Ս. Մարդանյան'!F8+Ն.Բադալյան!F8+Ս.Մխիթարյան!F8+Մ.Կիրակոսյան!F8+#REF!+#REF!) -> #REF! | G8: =SUM('Ս. Մարդանյան'!G8+Ն.Բադալյան!G8+Ս.Մխիթարյան!G8+Մ.Կիրակոսյան!G8+#REF!+#REF!) -> #REF! | H8: =SUM('Ս. Մարդանյան'!H8+Ն.Բադալյան!H8+Ս.Մխիթարյան!H8+Մ.Կիրակոսյան!H8+#REF!+#REF!) -> #REF! | I8: =SUM('Ս. Մարդանյան'!I8+Ն.Բադալյան!I8+Ս.Մխիթարյան!I8+Մ.Կիրակոսյան!I8+#REF!+#REF!) -> #REF! | J8: =SUM('Ս. Մարդանյան'!J8+Ն.Բադալյան!J8+Ս.Մխիթարյան!J8+Մ.Կիրակոսյան!J8+#REF!+#REF!) -> #REF! | K8: =SUM('Ս. Մարդանյան'!K8+Ն.Բադալյան!K8+Ս.Մխիթարյան!K8+Մ.Կիրակոսյան!K8+#REF!+#REF!) -> #REF! | ... AG8: =SUM('Ս. Մարդանյան'!AG8+Ն.Բադալյան!AG8+Ս.Մխիթարյան!AG8+Մ.Կիրակոսյան!AG8+#REF!+#REF!) -> #REF! | AH8: =SUM('Ս. Մարդանյան'!#REF!+Ն.Բադալյան!#REF!+Ս.Մխիթարյան!#REF!+Մ.Կիրակոսյան!#REF!+#REF!+#REF!) -> #REF! | AI8: =SUM('Ս. Մարդանյան'!#REF!+Ն.Բադալյան!#REF!+Ս.Մխիթարյան!#REF!+Մ.Կիրակոսյան!#REF!+#REF!+#REF!) -> #REF! | AJ8: =SUM('Ս. Մարդանյան'!#REF!+Ն.Բադալյան!#REF!+Ս.Մխիթարյան!#REF!+Մ.Կիրակոսյան!#REF!+#REF!+#REF!) -> #REF! | AK8: =SUM('Ս. Մարդանյան'!#REF!+Ն.Բադալյան!#REF!+Ս.Մխիթարյան!#REF!+Մ.Կիրակոսյան!#REF!+#REF!+#REF!) -> #REF! | AL8: =SUM('Ս. Մարդանյան'!#REF!+Ն.Բադալյան!#REF!+Ս.Մխիթարյան!#REF!+Մ.Կիրակոսյան!#REF!+#REF!+#REF!) -> #REF! | AM8: =SUM('Ս. Մարդանյան'!#REF!+Ն.Բադալյան!#REF!+Ս.Մխիթարյան!#REF!+Մ.Կիրակոսյան!#REF!+#REF!+#REF!) -> #REF! | AN8: =SUM('Ս. Մարդանյան'!#REF!+Ն.Բադալյան!#REF!+Ս.Մխիթարյան!#REF!+Մ.Կիրակոսյան!#REF!+#REF!+#REF!) -> #REF! | AO8: =SUM('Ս. Մարդանյան'!#REF!+Ն.Բադալյան!#REF!+Ս.Մխիթարյան!#REF!+Մ.Կիրակոսյան!#REF!+#REF!+#REF!) -> #REF!
A9: 1.2 | B9: Ցեղասպանության ուղղակի և հրապարակային հրահրումը | C9: 134 | D9: =SUM('Ս. Մարդանյան'!D9+Ն.Բադալյան!D9+Ս.Մխիթարյան!D9+Մ.Կիրակոսյան!D9+#REF!+#REF!) -> #REF! | E9: =SUM('Ս. Մարդանյան'!E9+Ն.Բադալյան!E9+Ս.Մխիթարյան!E9+Մ.Կիրակոսյան!E9+#REF!+#REF!) -> #REF! | F9: =SUM('Ս. Մարդանյան'!F9+Ն.Բադալյան!F9+Ս.Մխիթարյան!F9+Մ.Կիրակոսյան!F9+#REF!+#REF!) -> #REF! | G9: =SUM('Ս. Մարդանյան'!G9+Ն.Բադալյան!G9+Ս.Մխիթարյան!G9+Մ.Կիրակոսյան!G9+#REF!+#REF!) -> #REF! | H9: =SUM('Ս. Մարդանյան'!H9+Ն.Բադալյան!H9+Ս.Մխիթարյան!H9+Մ.Կիրակոսյան!H9+#REF!+#REF!) -> #REF! | I9: =SUM('Ս. Մարդանյան'!I9+Ն.Բադալյան!I9+Ս.Մխիթարյան!I9+Մ.Կիրակոսյան!I9+#REF!+#REF!) -> #REF! | J9: =SUM('Ս. Մարդանյան'!J9+Ն.Բադալյան!J9+Ս.Մխիթարյան!J9+Մ.Կիրակոսյան!J9+#REF!+#REF!) -> #REF! | K9: =SUM('Ս. Մարդանյան'!K9+Ն.Բադալյան!K9+Ս.Մխիթարյան!K9+Մ.Կիրակոսյան!K9+#REF!+#REF!) -> #REF! | ... AG9: =SUM('Ս. Մարդանյան'!AG9+Ն.Բադալյան!AG9+Ս.Մխիթարյան!AG9+Մ.Կիրակոսյան!AG9+#REF!+#REF!) -> #REF! | AH9: =SUM('Ս. Մարդանյան'!#REF!+Ն.Բադալյան!#REF!+Ս.Մխիթարյան!#REF!+Մ.Կիրակոսյան!#REF!+#REF!+#REF!) -> #REF! | AI9: =SUM('Ս. Մարդանյան'!#REF!+Ն.Բադալյան!#REF!+Ս.Մխիթարյան!#REF!+Մ.Կիրակոսյան!#REF!+#REF!+#REF!) -> #REF! | AJ9: =SUM('Ս. Մարդանյան'!#REF!+Ն.Բադալյան!#REF!+Ս.Մխիթարյան!#REF!+Մ.Կիրակոսյան!#REF!+#REF!+#REF!) -> #REF! | AK9: =SUM('Ս. Մարդանյան'!#REF!+Ն.Բադալյան!#REF!+Ս.Մխիթարյան!#REF!+Մ.Կիրակոսյան!#REF!+#REF!+#REF!) -> #REF! | AL9: =SUM('Ս. Մարդանյան'!#REF!+Ն.Բադալյան!#REF!+Ս.Մխիթարյան!#REF!+Մ.Կիրակոսյան!#REF!+#REF!+#REF!) -> #REF! | AM9: =SUM('Ս. Մարդանյան'!#REF!+Ն.Բադալյան!#REF!+Ս.Մխիթարյան!#REF!+Մ.Կիրակոսյան!#REF!+#REF!+#REF!) -> #REF! | AN9: =SUM('Ս. Մարդանյան'!#REF!+Ն.Բադալյան!#REF!+Ս.Մխիթարյան!#REF!+Մ.Կիրակոսյան!#REF!+#REF!+#REF!) -> #REF! | AO9: =SUM('Ս. Մարդանյան'!#REF!+Ն.Բադալյան!#REF!+Ս.Մխիթարյան!#REF!+Մ.Կիրակոսյան!#REF!+#REF!+#REF!) -> #REF!
A10: 1.3 | B10: Մարդկայնության դեմ ուղղված հանցագործությունները | C10: 135 | D10: =SUM('Ս. Մարդանյան'!D10+Ն.Բադալյան!D10+Ս.Մխիթարյան!D10+Մ.Կիրակոսյան!D10+#REF!+#REF!) -> #REF! | E10: =SUM('Ս. Մարդանյան'!E10+Ն.Բադալյան!E10+Ս.Մխիթարյան!E10+Մ.Կիրակոսյան!E10+#REF!+#REF!) -> #REF! | F10: =SUM('Ս. Մարդանյան'!F10+Ն.Բադալյան!F10+Ս.Մխիթարյան!F10+Մ.Կիրակոսյան!F10+#REF!+#REF!) -> #REF! | G10: =SUM('Ս. Մարդանյան'!G10+Ն.Բադալյան!G10+Ս.Մխիթարյան!G10+Մ.Կիրակոսյան!G10+#REF!+#REF!) -> #REF! | H10: =SUM('Ս. Մարդանյան'!H10+Ն.Բադալյան!H10+Ս.Մխիթարյան!H10+Մ.Կիրակոսյան!H10+#REF!+#REF!) -> #REF! | I10: =SUM('Ս. Մարդանյան'!I10+Ն.Բադալյան!I10+Ս.Մխիթարյան!I10+Մ.Կիրակոսյան!I10+#REF!+#REF!) -> #REF! | J10: =SUM('Ս. Մարդանյան'!J10+Ն.Բադալյան!J10+Ս.Մխիթարյան!J10+Մ.Կիրակոսյան!J10+#REF!+#REF!) -> #REF! | K10: =SUM('Ս. Մարդանյան'!K10+Ն.Բադալյան!K10+Ս.Մխիթարյան!K10+Մ.Կիրակոսյան!K10+#REF!+#REF!) -> #REF! | ... AG10: =SUM('Ս. Մարդանյան'!AG10+Ն.Բադալյան!AG10+Ս.Մխիթարյան!AG10+Մ.Կիրակոսյան!AG10+#REF!+#REF!) -> #REF! | AH10: =SUM('Ս. Մարդանյան'!#REF!+Ն.Բադալյան!#REF!+Ս.Մխիթարյան!#REF!+Մ.Կիրակոսյան!#REF!+#REF!+#REF!) -> #REF! | AI10: =SUM('Ս. Մարդանյան'!#REF!+Ն.Բադալյան!#REF!+Ս.Մխիթարյան!#REF!+Մ.Կիրակոսյան!#REF!+#REF!+#REF!) -> #REF! | AJ10: =SUM('Ս. Մարդանյան'!#REF!+Ն.Բադալյան!#REF!+Ս.Մխիթարյան!#REF!+Մ.Կիրակոսյան!#REF!+#REF!+#REF!) -> #REF! | AK10: =SUM('Ս. Մարդանյան'!#REF!+Ն.Բադալյան!#REF!+Ս.Մխիթարյան!#REF!+Մ.Կիրակոսյան!#REF!+#REF!+#REF!) -> #REF! | AL10: =SUM('Ս. Մարդանյան'!#REF!+Ն.Բադալյան!#REF!+Ս.Մխիթարյան!#REF!+Մ.Կիրակոսյան!#REF!+#REF!+#REF!) -> #REF! | AM10: =SUM('Ս. Մարդանյան'!#REF!+Ն.Բադալյան!#REF!+Ս.Մխիթարյան!#REF!+Մ.Կիրակոսյան!#REF!+#REF!+#REF!) -> #REF! | AN10: =SUM('Ս. Մարդանյան'!#REF!+Ն.Բադալյան!#REF!+Ս.Մխիթարյան!#REF!+Մ.Կիրակոսյան!#REF!+#REF!+#REF!) -> #REF! | AO10: =SUM('Ս. Մարդանյան'!#REF!+Ն.Բադալյան!#REF!+Ս.Մխիթարյան!#REF!+Մ.Կիրակոսյան!#REF!+#REF!+#REF!) -> #REF!
A11: 1.4 | B11: Ցեղասպանությունը կամ մարդկայնության դեմ ուղղված հանցագործությունները հրապարակայնորեն հերքելը, արդարացնելը, դրանք քարոզելը կամ դրանց վտանգավորությունը նսեմացնելը | C11: 136 | D11: =SUM('Ս. Մարդանյան'!D11+Ն.Բադալյան!D11+Ս.Մխիթարյան!D11+Մ.Կիրակոսյան!D11+#REF!+#REF!) -> #REF! | E11: =SUM('Ս. Մարդանյան'!E11+Ն.Բադալյան!E11+Ս.Մխիթարյան!E11+Մ.Կիրակոսյան!E11+#REF!+#REF!) -> #REF! | F11: =SUM('Ս. Մարդանյան'!F11+Ն.Բադալյան!F11+Ս.Մխիթարյան!F11+Մ.Կիրակոսյան!F11+#REF!+#REF!) -> #REF! | G11: =SUM('Ս. Մարդանյան'!G11+Ն.Բադալյան!G11+Ս.Մխիթարյան!G11+Մ.Կիրակոսյան!G11+#REF!+#REF!) -> #REF! | H11: =SUM('Ս. Մարդանյան'!H11+Ն.Բադալյան!H11+Ս.Մխիթարյան!H11+Մ.Կիրակոսյան!H11+#REF!+#REF!) -> #REF! | I11: =SUM('Ս. Մարդանյան'!I11+Ն.Բադալյան!I11+Ս.Մխիթարյան!I11+Մ.Կիրակոսյան!I11+#REF!+#REF!) -> #REF! | J11: =SUM('Ս. Մարդանյան'!J11+Ն.Բադալյան!J11+Ս.Մխիթարյան!J11+Մ.Կիրակոսյան!J11+#REF!+#REF!) -> #REF! | K11: =SUM('Ս. Մարդանյան'!K11+Ն.Բադալյան!K11+Ս.Մխիթարյան!K11+Մ.Կիրակոսյան!K11+#REF!+#REF!) -> #REF! | ... AG11: =SUM('Ս. Մարդանյան'!AG11+Ն.Բադալյան!AG11+Ս.Մխիթարյան!AG11+Մ.Կիրակոսյան!AG11+#REF!+#REF!) -> #REF! | AH11: =SUM('Ս. Մարդանյան'!#REF!+Ն.Բադալյան!#REF!+Ս.Մխիթարյան!#REF!+Մ.Կիրակոսյան!#REF!+#REF!+#REF!) -> #REF! | AI11: =SUM('Ս. Մարդանյան'!#REF!+Ն.Բադալյան!#REF!+Ս.Մխիթարյան!#REF!+Մ.Կիրակոսյան!#REF!+#REF!+#REF!) -> #REF! | AJ11: =SUM('Ս. Մարդանյան'!#REF!+Ն.Բադալյան!#REF!+Ս.Մխիթարյան!#REF!+Մ.Կիրակոսյան!#REF!+#REF!+#REF!) -> #REF! | AK11: =SUM('Ս. Մարդանյան'!#REF!+Ն.Բադալյան!#REF!+Ս.Մխիթարյան!#REF!+Մ.Կիրակոսյան!#REF!+#REF!+#REF!) -> #REF! | AL11: =SUM('Ս. Մարդանյան'!#REF!+Ն.Բադալյան!#REF!+Ս.Մխիթարյան!#REF!+Մ.Կիրակոսյան!#REF!+#REF!+#REF!) -> #REF! | AM11: =SUM('Ս. Մարդանյան'!#REF!+Ն.Բադալյան!#REF!+Ս.Մխիթարյան!#REF!+Մ.Կիրակոսյան!#REF!+#REF!+#REF!) -> #REF! | AN11: =SUM('Ս. Մարդանյան'!#REF!+Ն.Բադալյան!#REF!+Ս.Մխիթարյան!#REF!+Մ.Կիրակոսյան!#REF!+#REF!+#REF!) -> #REF! | AO11: =SUM('Ս. Մարդանյան'!#REF!+Ն.Բադալյան!#REF!+Ս.Մխիթարյան!#REF!+Մ.Կիրակոսյան!#REF!+#REF!+#REF!) -> #REF!
A12: 1.5 | B12: Հովանավորվող անձի դեմ ուղղված պատերազմական հանցագործությունները | C12: 137 | D12: =SUM('Ս. Մարդանյան'!D12+Ն.Բադալյան!D12+Ս.Մխիթարյան!D12+Մ.Կիրակոսյան!D12+#REF!+#REF!) -> #REF! | E12: =SUM('Ս. Մարդանյան'!E12+Ն.Բադալյան!E12+Ս.Մխիթարյան!E12+Մ.Կիրակոսյան!E12+#REF!+#REF!) -> #REF! | F12: =SUM('Ս. Մարդանյան'!F12+Ն.Բադալյան!F12+Ս.Մխիթարյան!F12+Մ.Կիրակոսյան!F12+#REF!+#REF!) -> #REF! | G12: =SUM('Ս. Մարդանյան'!G12+Ն.Բադալյան!G12+Ս.Մխիթարյան!G12+Մ.Կիրակոսյան!G12+#REF!+#REF!) -> #REF! | H12: =SUM('Ս. Մարդանյան'!H12+Ն.Բադալյան!H12+Ս.Մխիթարյան!H12+Մ.Կիրակոսյան!H12+#REF!+#REF!) -> #REF! | I12: =SUM('Ս. Մարդանյան'!I12+Ն.Բադալյան!I12+Ս.Մխիթարյան!I12+Մ.Կիրակոսյան!I12+#REF!+#REF!) -> #REF! | J12: =SUM('Ս. Մարդանյան'!J12+Ն.Բադալյան!J12+Ս.Մխիթարյան!J12+Մ.Կիրակոսյան!J12+#REF!+#REF!) -> #REF! | K12: =SUM('Ս. Մարդանյան'!K12+Ն.Բադալյան!K12+Ս.Մխիթարյան!K12+Մ.Կիրակոսյան!K12+#REF!+#REF!) -> #REF! | ... AG12: =SUM('Ս. Մարդանյան'!AG12+Ն.Բադալյան!AG12+Ս.Մխիթարյան!AG12+Մ.Կիրակոսյան!AG12+#REF!+#REF!) -> #REF! | AH12: =SUM('Ս. Մարդանյան'!#REF!+Ն.Բադալյան!#REF!+Ս.Մխիթարյան!#REF!+Մ.Կիրակոսյան!#REF!+#REF!+#REF!) -> #REF! | AI12: =SUM('Ս. Մարդանյան'!#REF!+Ն.Բադալյան!#REF!+Ս.Մխիթարյան!#REF!+Մ.Կիրակոսյան!#REF!+#REF!+#REF!) -> #REF! | AJ12: =SUM('Ս. Մարդանյան'!#REF!+Ն.Բադալյան!#REF!+Ս.Մխիթարյան!#REF!+Մ.Կիրակոսյան!#REF!+#REF!+#REF!) -> #REF! | AK12: =SUM('Ս. Մարդանյան'!#REF!+Ն.Բադալյան!#REF!+Ս.Մխիթարյան!#REF!+Մ.Կիրակոսյան!#REF!+#REF!+#REF!) -> #REF! | AL12: =SUM('Ս. Մարդանյան'!#REF!+Ն.Բադալյան!#REF!+Ս.Մխիթարյան!#REF!+Մ.Կիրակոսյան!#REF!+#REF!+#REF!) -> #REF! | AM12: =SUM('Ս. Մարդանյան'!#REF!+Ն.Բադալյան!#REF!+Ս.Մխիթարյան!#REF!+Մ.Կիրակոսյան!#REF!+#REF!+#REF!) -> #REF! | AN12: =SUM('Ս. Մարդանյան'!#REF!+Ն.Բադալյան!#REF!+Ս.Մխիթարյան!#REF!+Մ.Կիրակոսյան!#REF!+#REF!+#REF!) -> #REF! | AO12: =SUM('Ս. Մարդանյան'!#REF!+Ն.Բադալյան!#REF!+Ս.Մխիթարյան!#REF!+Մ.Կիրակոսյան!#REF!+#REF!+#REF!) -> #REF!
A13: 1.6 | B13: Սեփականության կամ այլ իրավունքների դեմ ուղղված պատերազմական հանցագործությունները | C13: 138 | D13: =SUM('Ս. Մարդանյան'!D13+Ն.Բադալյան!D13+Ս.Մխիթարյան!D13+Մ.Կիրակոսյան!D13+#REF!+#REF!) -> #REF! | E13: =SUM('Ս. Մարդանյան'!E13+Ն.Բադալյան!E13+Ս.Մխիթարյան!E13+Մ.Կիրակոսյան!E13+#REF!+#REF!) -> #REF! | F13: =SUM('Ս. Մարդանյան'!F13+Ն.Բադալյան!F13+Ս.Մխիթարյան!F13+Մ.Կիրակոսյան!F13+#REF!+#REF!) -> #REF! | G13: =SUM('Ս. Մարդանյան'!G13+Ն.Բադալյան!G13+Ս.Մխիթարյան!G13+Մ.Կիրակոսյան!G13+#REF!+#REF!) -> #REF! | H13: =SUM('Ս. Մարդանյան'!H13+Ն.Բադալյան!H13+Ս.Մխիթարյան!H13+Մ.Կիրակոսյան!H13+#REF!+#REF!) -> #REF! | I13: =SUM('Ս. Մարդանյան'!I13+Ն.Բադալյան!I13+Ս.Մխիթարյան!I13+Մ.Կիրակոսյան!I13+#REF!+#REF!) -> #REF! | J13: =SUM('Ս. Մարդանյան'!J13+Ն.Բադալյան!J13+Ս.Մխիթարյան!J13+Մ.Կիրակոսյան!J13+#REF!+#REF!) -> #REF! | K13: =SUM('Ս. Մարդանյան'!K13+Ն.Բադալյան!K13+Ս.Մխիթարյան!K13+Մ.Կիրակոսյան!K13+#REF!+#REF!) -> #REF! | ... AG13: =SUM('Ս. Մարդանյան'!AG13+Ն.Բադալյան!AG13+Ս.Մխիթարյան!AG13+Մ.Կիրակոսյան!AG13+#REF!+#REF!) -> #REF! | AH13: =SUM('Ս. Մարդանյան'!#REF!+Ն.Բադալյան!#REF!+Ս.Մխիթարյան!#REF!+Մ.Կիրակոսյան!#REF!+#REF!+#REF!) -> #REF! | AI13: =SUM('Ս. Մարդանյան'!#REF!+Ն.Բադալյան!#REF!+Ս.Մխիթարյան!#REF!+Մ.Կիրակոսյան!#REF!+#REF!+#REF!) -> #REF! | AJ13: =SUM('Ս. Մարդանյան'!#REF!+Ն.Բադալյան!#REF!+Ս.Մխիթարյան!#REF!+Մ.Կիրակոսյան!#REF!+#REF!+#REF!) -> #REF! | AK13: =SUM('Ս. Մարդանյան'!#REF!+Ն.Բադալյան!#REF!+Ս.Մխիթարյան!#REF!+Մ.Կիրակոսյան!#REF!+#REF!+#REF!) -> #REF! | AL13: =SUM('Ս. Մարդանյան'!#REF!+Ն.Բադալյան!#REF!+Ս.Մխիթարյան!#REF!+Մ.Կիրակոսյան!#REF!+#REF!+#REF!) -> #REF! | AM13: =SUM('Ս. Մարդանյան'!#REF!+Ն.Բադալյան!#REF!+Ս.Մխիթարյան!#REF!+Մ.Կիրակոսյան!#REF!+#REF!+#REF!) -> #REF! | AN13: =SUM('Ս. Մարդանյան'!#REF!+Ն.Բադալյան!#REF!+Ս.Մխիթարյան!#REF!+Մ.Կիրակոսյան!#REF!+#REF!+#REF!) -> #REF! | AO13: =SUM('Ս. Մարդանյան'!#REF!+Ն.Բադալյան!#REF!+Ս.Մխիթարյան!#REF!+Մ.Կիրակոսյան!#REF!+#REF!+#REF!) -> #REF!
A14: 1.7 | B14: Մարդասիրական օգնության ցուցաբերման կամ տարբերանշանների դեմ ուղղված պատերազմական հանցագործությունները | C14: 139 | D14: =SUM('Ս. Մարդանյան'!D14+Ն.Բադալյան!D14+Ս.Մխիթարյան!D14+Մ.Կիրակոսյան!D14+#REF!+#REF!) -> #REF! | E14: =SUM('Ս. Մարդանյան'!E14+Ն.Բադալյան!E14+Ս.Մխիթարյան!E14+Մ.Կիրակոսյան!E14+#REF!+#REF!) -> #REF! | F14: =SUM('Ս. Մարդանյան'!F14+Ն.Բադալյան!F14+Ս.Մխիթարյան!F14+Մ.Կիրակոսյան!F14+#REF!+#REF!) -> #REF! | G14: =SUM('Ս. Մարդանյան'!G14+Ն.Բադալյան!G14+Ս.Մխիթարյան!G14+Մ.Կիրակոսյան!G14+#REF!+#REF!) -> #REF! | H14: =SUM('Ս. Մարդանյան'!H14+Ն.Բադալյան!H14+Ս.Մխիթարյան!H14+Մ.Կիրակոսյան!H14+#REF!+#REF!) -> #REF! | I14: =SUM('Ս. Մարդանյան'!I14+Ն.Բադալյան!I14+Ս.Մխիթարյան!I14+Մ.Կիրակոսյան!I14+#REF!+#REF!) -> #REF! | J14: =SUM('Ս. Մարդանյան'!J14+Ն.Բադալյան!J14+Ս.Մխիթարյան!J14+Մ.Կիրակոսյան!J14+#REF!+#REF!) -> #REF! | K14: =SUM('Ս. Մարդանյան'!K14+Ն.Բադալյան!K14+Ս.Մխիթարյան!K14+Մ.Կիրակոսյան!K14+#REF!+#REF!) -> #REF! | ... AG14: =SUM('Ս. Մարդանյան'!AG14+Ն.Բադալյան!AG14+Ս.Մխիթարյան!AG14+Մ.Կիրակոսյան!AG14+#REF!+#REF!) -> #REF! | AH14: =SUM('Ս. Մարդանյան'!#REF!+Ն.Բադալյան!#REF!+Ս.Մխիթարյան!#REF!+Մ.Կիրակոսյան!#REF!+#REF!+#REF!) -> #REF! | AI14: =SUM('Ս. Մարդանյան'!#REF!+Ն.Բադալյան!#REF!+Ս.Մխիթարյան!#REF!+Մ.Կիրակոսյան!#REF!+#REF!+#REF!) -> #REF! | AJ14: =SUM('Ս. Մարդանյան'!#REF!+Ն.Բադալյան!#REF!+Ս.Մխիթարյան!#REF!+Մ.Կիրակոսյան!#REF!+#REF!+#REF!) -> #REF! | AK14: =SUM('Ս. Մարդանյան'!#REF!+Ն.Բադալյան!#REF!+Ս.Մխիթարյան!#REF!+Մ.Կիրակոսյան!#REF!+#REF!+#REF!) -> #REF! | AL14: =SUM('Ս. Մարդանյան'!#REF!+Ն.Բադալյան!#REF!+Ս.Մխիթարյան!#REF!+Մ.Կիրակոսյան!#REF!+#REF!+#REF!) -> #REF! | AM14: =SUM('Ս. Մարդանյան'!#REF!+Ն.Բադալյան!#REF!+Ս.Մխիթարյան!#REF!+Մ.Կիրակոսյան!#REF!+#REF!+#REF!) -> #REF! | AN14: =SUM('Ս. Մարդանյան'!#REF!+Ն.Բադալյան!#REF!+Ս.Մխիթարյան!#REF!+Մ.Կիրակոսյան!#REF!+#REF!+#REF!) -> #REF! | AO14: =SUM('Ս. Մարդանյան'!#REF!+Ն.Բադալյան!#REF!+Ս.Մխիթարյան!#REF!+Մ.Կիրակոսյան!#REF!+#REF!+#REF!) -> #REF!
A15: 1.8 | B15: Պատերազմ վարելու արգելված եղանակների կիրառմամբ պատերազմական հանցագործությունները | C15: 140 | D15: =SUM('Ս. Մարդանյան'!D15+Ն.Բադալյան!D15+Ս.Մխիթարյան!D15+Մ.Կիրակոսյան!D15+#REF!+#REF!) -> #REF! | E15: =SUM('Ս. Մարդանյան'!E15+Ն.Բադալյան!E15+Ս.Մխիթարյան!E15+Մ.Կիրակոսյան!E15+#REF!+#REF!) -> #REF! | F15: =SUM('Ս. Մարդանյան'!F15+Ն.Բադալյան!F15+Ս.Մխիթարյան!F15+Մ.Կիրակոսյան!F15+#REF!+#REF!) -> #REF! | G15: =SUM('Ս. Մարդանյան'!G15+Ն.Բադալյան!G15+Ս.Մխիթարյան!G15+Մ.Կիրակոսյան!G15+#REF!+#REF!) -> #REF! | H15: =SUM('Ս. Մարդանյան'!H15+Ն.Բադալյան!H15+Ս.Մխիթարյան!H15+Մ.Կիրակոսյան!H15+#REF!+#REF!) -> #REF! | I15: =SUM('Ս. Մարդանյան'!I15+Ն.Բադալյան!I15+Ս.Մխիթարյան!I15+Մ.Կիրակոսյան!I15+#REF!+#REF!) -> #REF! | J15: =SUM('Ս. Մարդանյան'!J15+Ն.Բադալյան!J15+Ս.Մխիթարյան!J15+Մ.Կիրակոսյան!J15+#REF!+#REF!) -> #REF! | K15: =SUM('Ս. Մարդանյան'!K15+Ն.Բադալյան!K15+Ս.Մխիթարյան!K15+Մ.Կիրակոսյան!K15+#REF!+#REF!) -> #REF! | ... AG15: =SUM('Ս. Մարդանյան'!AG15+Ն.Բադալյան!AG15+Ս.Մխիթարյան!AG15+Մ.Կիրակոսյան!AG15+#REF!+#REF!) -> #REF! | AH15: =SUM('Ս. Մարդանյան'!#REF!+Ն.Բադալյան!#REF!+Ս.Մխիթարյան!#REF!+Մ.Կիրակոսյան!#REF!+#REF!+#REF!) -> #REF! | AI15: =SUM('Ս. Մարդանյան'!#REF!+Ն.Բադալյան!#REF!+Ս.Մխիթարյան!#REF!+Մ.Կիրակոսյան!#REF!+#REF!+#REF!) -> #REF! | AJ15: =SUM('Ս. Մարդանյան'!#REF!+Ն.Բադալյան!#REF!+Ս.Մխիթարյան!#REF!+Մ.Կիրակոսյան!#REF!+#REF!+#REF!) -> #REF! | AK15: =SUM('Ս. Մարդանյան'!#REF!+Ն.Բադալյան!#REF!+Ս.Մխիթարյան!#REF!+Մ.Կիրակոսյան!#REF!+#REF!+#REF!) -> #REF! | AL15: =SUM('Ս. Մարդանյան'!#REF!+Ն.Բադալյան!#REF!+Ս.Մխիթարյան!#REF!+Մ.Կիրակոսյան!#REF!+#REF!+#REF!) -> #REF! | AM15: =SUM('Ս. Մարդանյան'!#REF!+Ն.Բադալյան!#REF!+Ս.Մխիթարյան!#REF!+Մ.Կիրակոսյան!#REF!+#REF!+#REF!) -> #REF! | AN15: =SUM('Ս. Մարդանյան'!#REF!+Ն.Բադալյան!#REF!+Ս.Մխիթարյան!#REF!+Մ.Կիրակոսյան!#REF!+#REF!+#REF!) -> #REF! | AO15: =SUM('Ս. Մարդանյան'!#REF!+Ն.Բադալյան!#REF!+Ս.Մխիթարյան!#REF!+Մ.Կիրակոսյան!#REF!+#REF!+#REF!) -> #REF!
A16: 1.9 | B16: Պատերազմ վարելու արգելված միջոցների կիրառմամբ պատերազմական հանցագործությունները | C16: 141 | D16: =SUM('Ս. Մարդանյան'!D16+Ն.Բադալյան!D16+Ս.Մխիթարյան!D16+Մ.Կիրակոսյան!D16+#REF!+#REF!) -> #REF! | E16: =SUM('Ս. Մարդանյան'!E16+Ն.Բադալյան!E16+Ս.Մխիթարյան!E16+Մ.Կիրակոսյան!E16+#REF!+#REF!) -> #REF! | F16: =SUM('Ս. Մարդանյան'!F16+Ն.Բադալյան!F16+Ս.Մխիթարյան!F16+Մ.Կիրակոսյան!F16+#REF!+#REF!) -> #REF! | G16: =SUM('Ս. Մարդանյան'!G16+Ն.Բադալյան!G16+Ս.Մխիթարյան!G16+Մ.Կիրակոսյան!G16+#REF!+#REF!) -> #REF! | H16: =SUM('Ս. Մարդանյան'!H16+Ն.Բադալյան!H16+Ս.Մխիթարյան!H16+Մ.Կիրակոսյան!H16+#REF!+#REF!) -> #REF! | I16: =SUM('Ս. Մարդանյան'!I16+Ն.Բադալյան!I16+Ս.Մխիթարյան!I16+Մ.Կիրակոսյան!I16+#REF!+#REF!) -> #REF! | J16: =SUM('Ս. Մարդանյան'!J16+Ն.Բադալյան!J16+Ս.Մխիթարյան!J16+Մ.Կիրակոսյան!J16+#REF!+#REF!) -> #REF! | K16: =SUM('Ս. Մարդանյան'!K16+Ն.Բադալյան!K16+Ս.Մխիթարյան!K16+Մ.Կիրակոսյան!K16+#REF!+#REF!) -> #REF! | ... AG16: =SUM('Ս. Մարդանյան'!AG16+Ն.Բադալյան!AG16+Ս.Մխիթարյան!AG16+Մ.Կիրակոսյան!AG16+#REF!+#REF!) -> #REF! | AH16: =SUM('Ս. Մարդանյան'!#REF!+Ն.Բադալյան!#REF!+Ս.Մխիթարյան!#REF!+Մ.Կիրակոսյան!#REF!+#REF!+#REF!) -> #REF! | AI16: =SUM('Ս. Մարդանյան'!#REF!+Ն.Բադալյան!#REF!+Ս.Մխիթարյան!#REF!+Մ.Կիրակոսյան!#REF!+#REF!+#REF!) -> #REF! | AJ16: =SUM('Ս. Մարդանյան'!#REF!+Ն.Բադալյան!#REF!+Ս.Մխիթարյան!#REF!+Մ.Կիրակոսյան!#REF!+#REF!+#REF!) -> #REF! | AK16: =SUM('Ս. Մարդանյան'!#REF!+Ն.Բադալյան!#REF!+Ս.Մխիթարյան!#REF!+Մ.Կիրակոսյան!#REF!+#REF!+#REF!) -> #REF! | AL16: =SUM('Ս. Մարդանյան'!#REF!+Ն.Բադալյան!#REF!+Ս.Մխիթարյան!#REF!+Մ.Կիրակոսյան!#REF!+#REF!+#REF!) -> #REF! | AM16: =SUM('Ս. Մարդանյան'!#REF!+Ն.Բադալյան!#REF!+Ս.Մխիթարյան!#REF!+Մ.Կիրակոսյան!#REF!+#REF!+#REF!) -> #REF! | AN16: =SUM('Ս. Մարդանյան'!#REF!+Ն.Բադալյան!#REF!+Ս.Մխիթարյան!#REF!+Մ.Կիրակոսյան!#REF!+#REF!+#REF!) -> #REF! | AO16: =SUM('Ս. Մարդանյան'!#REF!+Ն.Բադալյան!#REF!+Ս.Մխիթարյան!#REF!+Մ.Կիրակոսյան!#REF!+#REF!+#REF!) -> #REF!
A17: 1.10 | B17: Դիակապտությունը | C17: 142 | D17: =SUM('Ս. Մարդանյան'!D17+Ն.Բադալյան!D17+Ս.Մխիթարյան!D17+Մ.Կիրակոսյան!D17+#REF!+#REF!) -> #REF! | E17: =SUM('Ս. Մարդանյան'!E17+Ն.Բադալյան!E17+Ս.Մխիթարյան!E17+Մ.Կիրակոսյան!E17+#REF!+#REF!) -> #REF! | F17: =SUM('Ս. Մարդանյան'!F17+Ն.Բադալյան!F17+Ս.Մխիթարյան!F17+Մ.Կիրակոսյան!F17+#REF!+#REF!) -> #REF! | G17: =SUM('Ս. Մարդանյան'!G17+Ն.Բադալյան!G17+Ս.Մխիթարյան!G17+Մ.Կիրակոսյան!G17+#REF!+#REF!) -> #REF! | H17: =SUM('Ս. Մարդանյան'!H17+Ն.Բադալյան!H17+Ս.Մխիթարյան!H17+Մ.Կիրակոսյան!H17+#REF!+#REF!) -> #REF! | I17: =SUM('Ս. Մարդանյան'!I17+Ն.Բադալյան!I17+Ս.Մխիթարյան!I17+Մ.Կիրակոսյան!I17+#REF!+#REF!) -> #REF! | J17: =SUM('Ս. Մարդանյան'!J17+Ն.Բադալյան!J17+Ս.Մխիթարյան!J17+Մ.Կիրակոսյան!J17+#REF!+#REF!) -> #REF! | K17: =SUM('Ս. Մարդանյան'!K17+Ն.Բադալյան!K17+Ս.Մխիթարյան!K17+Մ.Կիրակոսյան!K17+#REF!+#REF!) -> #REF! | ... AG17: =SUM('Ս. Մարդանյան'!AG17+Ն.Բադալյան!AG17+Ս.Մխիթարյան!AG17+Մ.Կիրակոսյան!AG17+#REF!+#REF!) -> #REF! | AH17: =SUM('Ս. Մարդանյան'!#REF!+Ն.Բադալյան!#REF!+Ս.Մխիթարյան!#REF!+Մ.Կիրակոսյան!#REF!+#REF!+#REF!) -> #REF! | AI17: =SUM('Ս. Մարդանյան'!#REF!+Ն.Բադալյան!#REF!+Ս.Մխիթարյան!#REF!+Մ.Կիրակոսյան!#REF!+#REF!+#REF!) -> #REF! | AJ17: =SUM('Ս. Մարդանյան'!#REF!+Ն.Բադալյան!#REF!+Ս.Մխիթարյան!#REF!+Մ.Կիրակոսյան!#REF!+#REF!+#REF!) -> #REF! | AK17: =SUM('Ս. Մարդանյան'!#REF!+Ն.Բադալյան!#REF!+Ս.Մխիթարյան!#REF!+Մ.Կիրակոսյան!#REF!+#REF!+#REF!) -> #REF! | AL17: =SUM('Ս. Մարդանյան'!#REF!+Ն.Բադալյան!#REF!+Ս.Մխիթարյան!#REF!+Մ.Կիրակոսյան!#REF!+#REF!+#REF!) -> #REF! | AM17: =SUM('Ս. Մարդանյան'!#REF!+Ն.Բադալյան!#REF!+Ս.Մխիթարյան!#REF!+Մ.Կիրակոսյան!#REF!+#REF!+#REF!) -> #REF! | AN17: =SUM('Ս. Մարդանյան'!#REF!+Ն.Բադալյան!#REF!+Ս.Մխիթարյան!#REF!+Մ.Կիրակոսյան!#REF!+#REF!+#REF!) -> #REF! | AO17: =SUM('Ս. Մարդանյան'!#REF!+Ն.Բադալյան!#REF!+Ս.Մխիթարյան!#REF!+Մ.Կիրակոսյան!#REF!+#REF!+#REF!) -> #REF!
A18: 1.11 | B18: Մարտադաշտում սպանվածների դիակներն անարգելը | C18: 143 | D18: =SUM('Ս. Մարդանյան'!D18+Ն.Բադալյան!D18+Ս.Մխիթարյան!D18+Մ.Կիրակոսյան!D18+#REF!+#REF!) -> #REF! | E18: =SUM('Ս. Մարդանյան'!E18+Ն.Բադալյան!E18+Ս.Մխիթարյան!E18+Մ.Կիրակոսյան!E18+#REF!+#REF!) -> #REF! | F18: =SUM('Ս. Մարդանյան'!F18+Ն.Բադալյան!F18+Ս.Մխիթարյան!F18+Մ.Կիրակոսյան!F18+#REF!+#REF!) -> #REF! | G18: =SUM('Ս. Մարդանյան'!G18+Ն.Բադալյան!G18+Ս.Մխիթարյան!G18+Մ.Կիրակոսյան!G18+#REF!+#REF!) -> #REF! | H18: =SUM('Ս. Մարդանյան'!H18+Ն.Բադալյան!H18+Ս.Մխիթարյան!H18+Մ.Կիրակոսյան!H18+#REF!+#REF!) -> #REF! | I18: =SUM('Ս. Մարդանյան'!I18+Ն.Բադալյան!I18+Ս.Մխիթարյան!I18+Մ.Կիրակոսյան!I18+#REF!+#REF!) -> #REF! | J18: =SUM('Ս. Մարդանյան'!J18+Ն.Բադալյան!J18+Ս.Մխիթարյան!J18+Մ.Կիրակոսյան!J18+#REF!+#REF!) -> #REF! | K18: =SUM('Ս. Մարդանյան'!K18+Ն.Բադալյան!K18+Ս.Մխիթարյան!K18+Մ.Կիրակոսյան!K18+#REF!+#REF!) -> #REF! | ... AG18: =SUM('Ս. Մարդանյան'!AG18+Ն.Բադալյան!AG18+Ս.Մխիթարյան!AG18+Մ.Կիրակոսյան!AG18+#REF!+#REF!) -> #REF! | AH18: =SUM('Ս. Մարդանյան'!#REF!+Ն.Բադալյան!#REF!+Ս.Մխիթարյան!#REF!+Մ.Կիրակոսյան!#REF!+#REF!+#REF!) -> #REF! | AI18: =SUM('Ս. Մարդանյան'!#REF!+Ն.Բադալյան!#REF!+Ս.Մխիթարյան!#REF!+Մ.Կիրակոսյան!#REF!+#REF!+#REF!) -> #REF! | AJ18: =SUM('Ս. Մարդանյան'!#REF!+Ն.Բադալյան!#REF!+Ս.Մխիթարյան!#REF!+Մ.Կիրակոսյան!#REF!+#REF!+#REF!) -> #REF! | AK18: =SUM('Ս. Մարդանյան'!#REF!+Ն.Բադալյան!#REF!+Ս.Մխիթարյան!#REF!+Մ.Կիրակոսյան!#REF!+#REF!+#REF!) -> #REF! | AL18: =SUM('Ս. Մարդանյան'!#REF!+Ն.Բադալյան!#REF!+Ս.Մխիթարյան!#REF!+Մ.Կիրակոսյան!#REF!+#REF!+#REF!) -> #REF! | AM18: =SUM('Ս. Մարդանյան'!#REF!+Ն.Բադալյան!#REF!+Ս.Մխիթարյան!#REF!+Մ.Կիրակոսյան!#REF!+#REF!+#REF!) -> #REF! | AN18: =SUM('Ս. Մարդանյան'!#REF!+Ն.Բադալյան!#REF!+Ս.Մխիթարյան!#REF!+Մ.Կիրակոսյան!#REF!+#REF!+#REF!) -> #REF! | AO18: =SUM('Ս. Մարդանյան'!#REF!+Ն.Բադալյան!#REF!+Ս.Մխիթարյան!#REF!+Մ.Կիրակոսյան!#REF!+#REF!+#REF!) -> #REF!
A19: 1.12 | B19: Զինված ընդհարման ժամանակ մշակութային արժեքները ոչնչացնելը, վնասելը, հափշտակելը կամ առգրավելը կամ դրանց նպատակային նշանակությունը փոփոխելը | C19: 144 | D19: =SUM('Ս. Մարդանյան'!D19+Ն.Բադալյան!D19+Ս.Մխիթարյան!D19+Մ.Կիրակոսյան!D19+#REF!+#REF!) -> #REF! | E19: =SUM('Ս. Մարդանյան'!E19+Ն.Բադալյան!E19+Ս.Մխիթարյան!E19+Մ.Կիրակոսյան!E19+#REF!+#REF!) -> #REF! | F19: =SUM('Ս. Մարդանյան'!F19+Ն.Բադալյան!F19+Ս.Մխիթարյան!F19+Մ.Կիրակոսյան!F19+#REF!+#REF!) -> #REF! | G19: =SUM('Ս. Մարդանյան'!G19+Ն.Բադալյան!G19+Ս.Մխիթարյան!G19+Մ.Կիրակոսյան!G19+#REF!+#REF!) -> #REF! | H19: =SUM('Ս. Մարդանյան'!H19+Ն.Բադալյան!H19+Ս.Մխիթարյան!H19+Մ.Կիրակոսյան!H19+#REF!+#REF!) -> #REF! | I19: =SUM('Ս. Մարդանյան'!I19+Ն.Բադալյան!I19+Ս.Մխիթարյան!I19+Մ.Կիրակոսյան!I19+#REF!+#REF!) -> #REF! | J19: =SUM('Ս. Մարդանյան'!J19+Ն.Բադալյան!J19+Ս.Մխիթարյան!J19+Մ.Կիրակոսյան!J19+#REF!+#REF!) -> #REF! | K19: =SUM('Ս. Մարդանյան'!K19+Ն.Բադալյան!K19+Ս.Մխիթարյան!K19+Մ.Կիրակոսյան!K19+#REF!+#REF!) -> #REF! | ... AG19: =SUM('Ս. Մարդանյան'!AG19+Ն.Բադալյան!AG19+Ս.Մխիթարյան!AG19+Մ.Կիրակոսյան!AG19+#REF!+#REF!) -> #REF! | AH19: =SUM('Ս. Մարդանյան'!#REF!+Ն.Բադալյան!#REF!+Ս.Մխիթարյան!#REF!+Մ.Կիրակոսյան!#REF!+#REF!+#REF!) -> #REF! | AI19: =SUM('Ս. Մարդանյան'!#REF!+Ն.Բադալյան!#REF!+Ս.Մխիթարյան!#REF!+Մ.Կիրակոսյան!#REF!+#REF!+#REF!) -> #REF! | AJ19: =SUM('Ս. Մարդանյան'!#REF!+Ն.Բադալյան!#REF!+Ս.Մխիթարյան!#REF!+Մ.Կիրակոսյան!#REF!+#REF!+#REF!) -> #REF! | AK19: =SUM('Ս. Մարդանյան'!#REF!+Ն.Բադալյան!#REF!+Ս.Մխիթարյան!#REF!+Մ.Կիրակոսյան!#REF!+#REF!+#REF!) -> #REF! | AL19: =SUM('Ս. Մարդանյան'!#REF!+Ն.Բադալյան!#REF!+Ս.Մխիթարյան!#REF!+Մ.Կիրակոսյան!#REF!+#REF!+#REF!) -> #REF! | AM19: =SUM('Ս. Մարդանյան'!#REF!+Ն.Բադալյան!#REF!+Ս.Մխիթարյան!#REF!+Մ.Կիրակոսյան!#REF!+#REF!+#REF!) -> #REF! | AN19: =SUM('Ս. Մարդանյան'!#REF!+Ն.Բադալյան!#REF!+Ս.Մխիթարյան!#REF!+Մ.Կիրակոսյան!#REF!+#REF!+#REF!) -> #REF! | AO19: =SUM('Ս. Մարդանյան'!#REF!+Ն.Բադալյան!#REF!+Ս.Մխիթարյան!#REF!+Մ.Կիրակոսյան!#REF!+#REF!+#REF!) -> #REF!
A20: 1.13 | B20: Պատերազմի կամ զինված ընդհարման ժամանակ մշակութային արժեքների պաշտպանության կանոնները խախտելը | C20: 145 | D20: =SUM('Ս. Մարդանյան'!D20+Ն.Բադալյան!D20+Ս.Մխիթարյան!D20+Մ.Կիրակոսյան!D20+#REF!+#REF!) -> #REF! | E20: =SUM('Ս. Մարդանյան'!E20+Ն.Բադալյան!E20+Ս.Մխիթարյան!E20+Մ.Կիրակոսյան!E20+#REF!+#REF!) -> #REF! | F20: =SUM('Ս. Մարդանյան'!F20+Ն.Բադալյան!F20+Ս.Մխիթարյան!F20+Մ.Կիրակոսյան!F20+#REF!+#REF!) -> #REF! | G20: =SUM('Ս. Մարդանյան'!G20+Ն.Բադալյան!G20+Ս.Մխիթարյան!G20+Մ.Կիրակոսյան!G20+#REF!+#REF!) -> #REF! | H20: =SUM('Ս. Մարդանյան'!H20+Ն.Բադալյան!H20+Ս.Մխիթարյան!H20+Մ.Կիրակոսյան!H20+#REF!+#REF!) -> #REF! | I20: =SUM('Ս. Մարդանյան'!I20+Ն.Բադալյան!I20+Ս.Մխիթարյան!I20+Մ.Կիրակոսյան!I20+#REF!+#REF!) -> #REF! | J20: =SUM('Ս. Մարդանյան'!J20+Ն.Բադալյան!J20+Ս.Մխիթարյան!J20+Մ.Կիրակոսյան!J20+#REF!+#REF!) -> #REF! | K20: =SUM('Ս. Մարդանյան'!K20+Ն.Բադալյան!K20+Ս.Մխիթարյան!K20+Մ.Կիրակոսյան!K20+#REF!+#REF!) -> #REF! | ... AG20: =SUM('Ս. Մարդանյան'!AG20+Ն.Բադալյան!AG20+Ս.Մխիթարյան!AG20+Մ.Կիրակոսյան!AG20+#REF!+#REF!) -> #REF! | AH20: =SUM('Ս. Մարդանյան'!#REF!+Ն.Բադալյան!#REF!+Ս.Մխիթարյան!#REF!+Մ.Կիրակոսյան!#REF!+#REF!+#REF!) -> #REF! | AI20: =SUM('Ս. Մարդանյան'!#REF!+Ն.Բադալյան!#REF!+Ս.Մխիթարյան!#REF!+Մ.Կիրակոսյան!#REF!+#REF!+#REF!) -> #REF! | AJ20: =SUM('Ս. Մարդանյան'!#REF!+Ն.Բադալյան!#REF!+Ս.Մխիթարյան!#REF!+Մ.Կիրակոսյան!#REF!+#REF!+#REF!) -> #REF! | AK20: =SUM('Ս. Մարդանյան'!#REF!+Ն.Բադալյան!#REF!+Ս.Մխիթարյան!#REF!+Մ.Կիրակոսյան!#REF!+#REF!+#REF!) -> #REF! | AL20: =SUM('Ս. Մարդանյան'!#REF!+Ն.Բադալյան!#REF!+Ս.Մխիթարյան!#REF!+Մ.Կիրակոսյան!#REF!+#REF!+#REF!) -> #REF! | AM20: =SUM('Ս. Մարդանյան'!#REF!+Ն.Բադալյան!#REF!+Ս.Մխիթարյան!#REF!+Մ.Կիրակոսյան!#REF!+#REF!+#REF!) -> #REF! | AN20: =SUM('Ս. Մարդանյան'!#REF!+Ն.Բադալյան!#REF!+Ս.Մխիթարյան!#REF!+Մ.Կիրակոսյան!#REF!+#REF!+#REF!) -> #REF! | AO20: =SUM('Ս. Մարդանյան'!#REF!+Ն.Բադալյան!#REF!+Ս.Մխիթարյան!#REF!+Մ.Կիրակոսյան!#REF!+#REF!+#REF!) -> #REF!
A21: 1.14 | B21: Ռասայական, ազգային, էթնիկական կամ կրոնական թշնամանք հարուցելու նպատակով մշակութային արժեքները ոչնչացնելը կամ վնասելը | C21: 146 | D21: =SUM('Ս. Մարդանյան'!D21+Ն.Բադալյան!D21+Ս.Մխիթարյան!D21+Մ.Կիրակոսյան!D21+#REF!+#REF!) -> #REF! | E21: =SUM('Ս. Մարդանյան'!E21+Ն.Բադալյան!E21+Ս.Մխիթարյան!E21+Մ.Կիրակոսյան!E21+#REF!+#REF!) -> #REF! | F21: =SUM('Ս. Մարդանյան'!F21+Ն.Բադալյան!F21+Ս.Մխիթարյան!F21+Մ.Կիրակոսյան!F21+#REF!+#REF!) -> #REF! | G21: =SUM('Ս. Մարդանյան'!G21+Ն.Բադալյան!G21+Ս.Մխիթարյան!G21+Մ.Կիրակոսյան!G21+#REF!+#REF!) -> #REF! | H21: =SUM('Ս. Մարդանյան'!H21+Ն.Բադալյան!H21+Ս.Մխիթարյան!H21+Մ.Կիրակոսյան!H21+#REF!+#REF!) -> #REF! | I21: =SUM('Ս. Մարդանյան'!I21+Ն.Բադալյան!I21+Ս.Մխիթարյան!I21+Մ.Կիրակոսյան!I21+#REF!+#REF!) -> #REF! | J21: =SUM('Ս. Մարդանյան'!J21+Ն.Բադալյան!J21+Ս.Մխիթարյան!J21+Մ.Կիրակոսյան!J21+#REF!+#REF!) -> #REF! | K21: =SUM('Ս. Մարդանյան'!K21+Ն.Բադալյան!K21+Ս.Մխիթարյան!K21+Մ.Կիրակոսյան!K21+#REF!+#REF!) -> #REF! | ... AG21: =SUM('Ս. Մարդանյան'!AG21+Ն.Բադալյան!AG21+Ս.Մխիթարյան!AG21+Մ.Կիրակոսյան!AG21+#REF!+#REF!) -> #REF! | AH21: =SUM('Ս. Մարդանյան'!#REF!+Ն.Բադալյան!#REF!+Ս.Մխիթարյան!#REF!+Մ.Կիրակոսյան!#REF!+#REF!+#REF!) -> #REF! | AI21: =SUM('Ս. Մարդանյան'!#REF!+Ն.Բադալյան!#REF!+Ս.Մխիթարյան!#REF!+Մ.Կիրակոսյան!#REF!+#REF!+#REF!) -> #REF! | AJ21: =SUM('Ս. Մարդանյան'!#REF!+Ն.Բադալյան!#REF!+Ս.Մխիթարյան!#REF!+Մ.Կիրակոսյան!#REF!+#REF!+#REF!) -> #REF! | AK21: =SUM('Ս. Մարդանյան'!#REF!+Ն.Բադալյան!#REF!+Ս.Մխիթարյան!#REF!+Մ.Կիրակոսյան!#REF!+#REF!+#REF!) -> #REF! | AL21: =SUM('Ս. Մարդանյան'!#REF!+Ն.Բադալյան!#REF!+Ս.Մխիթարյան!#REF!+Մ.Կիրակոսյան!#REF!+#REF!+#REF!) -> #REF! | AM21: =SUM('Ս. Մարդանյան'!#REF!+Ն.Բադալյան!#REF!+Ս.Մխիթարյան!#REF!+Մ.Կիրակոսյան!#REF!+#REF!+#REF!) -> #REF! | AN21: =SUM('Ս. Մարդանյան'!#REF!+Ն.Բադալյան!#REF!+Ս.Մխիթարյան!#REF!+Մ.Կիրակոսյան!#REF!+#REF!+#REF!) -> #REF! | AO21: =SUM('Ս. Մարդանյան'!#REF!+Ն.Բադալյան!#REF!+Ս.Մխիթարյան!#REF!+Մ.Կիրակոսյան!#REF!+#REF!+#REF!) -> #REF!
A22: 1.15 | B22: Վարձկանությունը | C22: 147 | D22: =SUM('Ս. Մարդանյան'!D22+Ն.Բադալյան!D22+Ս.Մխիթարյան!D22+Մ.Կիրակոսյան!D22+#REF!+#REF!) -> #REF! | E22: =SUM('Ս. Մարդանյան'!E22+Ն.Բադալյան!E22+Ս.Մխիթարյան!E22+Մ.Կիրակոսյան!E22+#REF!+#REF!) -> #REF! | F22: =SUM('Ս. Մարդանյան'!F22+Ն.Բադալյան!F22+Ս.Մխիթարյան!F22+Մ.Կիրակոսյան!F22+#REF!+#REF!) -> #REF! | G22: =SUM('Ս. Մարդանյան'!G22+Ն.Բադալյան!G22+Ս.Մխիթարյան!G22+Մ.Կիրակոսյան!G22+#REF!+#REF!) -> #REF! | H22: =SUM('Ս. Մարդանյան'!H22+Ն.Բադալյան!H22+Ս.Մխիթարյան!H22+Մ.Կիրակոսյան!H22+#REF!+#REF!) -> #REF! | I22: =SUM('Ս. Մարդանյան'!I22+Ն.Բադալյան!I22+Ս.Մխիթարյան!I22+Մ.Կիրակոսյան!I22+#REF!+#REF!) -> #REF! | J22: =SUM('Ս. Մարդանյան'!J22+Ն.Բադալյան!J22+Ս.Մխիթարյան!J22+Մ.Կիրակոսյան!J22+#REF!+#REF!) -> #REF! | K22: =SUM('Ս. Մարդանյան'!K22+Ն.Բադալյան!K22+Ս.Մխիթարյան!K22+Մ.Կիրակոսյան!K22+#REF!+#REF!) -> #REF! | ... AG22: =SUM('Ս. Մարդանյան'!AG22+Ն.Բադալյան!AG22+Ս.Մխիթարյան!AG22+Մ.Կիրակոսյան!AG22+#REF!+#REF!) -> #REF! | AH22: =SUM('Ս. Մարդանյան'!#REF!+Ն.Բադալյան!#REF!+Ս.Մխիթարյան!#REF!+Մ.Կիրակոսյան!#REF!+#REF!+#REF!) -> #REF! | AI22: =SUM('Ս. Մարդանյան'!#REF!+Ն.Բադալյան!#REF!+Ս.Մխիթարյան!#REF!+Մ.Կիրակոսյան!#REF!+#REF!+#REF!) -> #REF! | AJ22: =SUM('Ս. Մարդանյան'!#REF!+Ն.Բադալյան!#REF!+Ս.Մխիթարյան!#REF!+Մ.Կիրակոսյան!#REF!+#REF!+#REF!) -> #REF! | AK22: =SUM('Ս. Մարդանյան'!#REF!+Ն.Բադալյան!#REF!+Ս.Մխիթարյան!#REF!+Մ.Կիրակոսյան!#REF!+#REF!+#REF!) -> #REF! | AL22: =SUM('Ս. Մարդանյան'!#REF!+Ն.Բադալյան!#REF!+Ս.Մխիթարյան!#REF!+Մ.Կիրակոսյան!#REF!+#REF!+#REF!) -> #REF! | AM22: =SUM('Ս. Մարդանյան'!#REF!+Ն.Բադալյան!#REF!+Ս.Մխիթարյան!#REF!+Մ.Կիրակոսյան!#REF!+#REF!+#REF!) -> #REF! | AN22: =SUM('Ս. Մարդանյան'!#REF!+Ն.Բադալյան!#REF!+Ս.Մխիթարյան!#REF!+Մ.Կիրակոսյան!#REF!+#REF!+#REF!) -> #REF! | AO22: =SUM('Ս. Մարդանյան'!#REF!+Ն.Բադալյան!#REF!+Ս.Մխիթարյան!#REF!+Մ.Կիրակոսյան!#REF!+#REF!+#REF!) -> #REF!
A23: 1.16 | B23: Անգործությունը զինված ընդհարման ժամանակ | C23: 148 | D23: =SUM('Ս. Մարդանյան'!D23+Ն.Բադալյան!D23+Ս.Մխիթարյան!D23+Մ.Կիրակոսյան!D23+#REF!+#REF!) -> #REF! | E23: =SUM('Ս. Մարդանյան'!E23+Ն.Բադալյան!E23+Ս.Մխիթարյան!E23+Մ.Կիրակոսյան!E23+#REF!+#REF!) -> #REF! | F23: =SUM('Ս. Մարդանյան'!F23+Ն.Բադալյան!F23+Ս.Մխիթարյան!F23+Մ.Կիրակոսյան!F23+#REF!+#REF!) -> #REF! | G23: =SUM('Ս. Մարդանյան'!G23+Ն.Բադալյան!G23+Ս.Մխիթարյան!G23+Մ.Կիրակոսյան!G23+#REF!+#REF!) -> #REF! | H23: =SUM('Ս. Մարդանյան'!H23+Ն.Բադալյան!H23+Ս.Մխիթարյան!H23+Մ.Կիրակոսյան!H23+#REF!+#REF!) -> #REF! | I23: =SUM('Ս. Մարդանյան'!I23+Ն.Բադալյան!I23+Ս.Մխիթարյան!I23+Մ.Կիրակոսյան!I23+#REF!+#REF!) -> #REF! | J23: =SUM('Ս. Մարդանյան'!J23+Ն.Բադալյան!J23+Ս.Մխիթարյան!J23+Մ.Կիրակոսյան!J23+#REF!+#REF!) -> #REF! | K23: =SUM('Ս. Մարդանյան'!K23+Ն.Բադալյան!K23+Ս.Մխիթարյան!K23+Մ.Կիրակոսյան!K23+#REF!+#REF!) -> #REF! | ... AG23: =SUM('Ս. Մարդանյան'!AG23+Ն.Բադալյան!AG23+Ս.Մխիթարյան!AG23+Մ.Կիրակոսյան!AG23+#REF!+#REF!) -> #REF! | AH23: =SUM('Ս. Մարդանյան'!#REF!+Ն.Բադալյան!#REF!+Ս.Մխիթարյան!#REF!+Մ.Կիրակոսյան!#REF!+#REF!+#REF!) -> #REF! | AI23: =SUM('Ս. Մարդանյան'!#REF!+Ն.Բադալյան!#REF!+Ս.Մխիթարյան!#REF!+Մ.Կիրակոսյան!#REF!+#REF!+#REF!) -> #REF! | AJ23: =SUM('Ս. Մարդանյան'!#REF!+Ն.Բադալյան!#REF!+Ս.Մխիթարյան!#REF!+Մ.Կիրակոսյան!#REF!+#REF!+#REF!) -> #REF! | AK23: =SUM('Ս. Մարդանյան'!#REF!+Ն.Բադալյան!#REF!+Ս.Մխիթարյան!#REF!+Մ.Կիրակոսյան!#REF!+#REF!+#REF!) -> #REF! | AL23: =SUM('Ս. Մարդանյան'!#REF!+Ն.Բադալյան!#REF!+Ս.Մխիթարյան!#REF!+Մ.Կիրակոսյան!#REF!+#REF!+#REF!) -> #REF! | AM23: =SUM('Ս. Մարդանյան'!#REF!+Ն.Բադալյան!#REF!+Ս.Մխիթարյան!#REF!+Մ.Կիրակոսյան!#REF!+#REF!+#REF!) -> #REF! | AN23: =SUM('Ս. Մարդանյան'!#REF!+Ն.Բադալյան!#REF!+Ս.Մխիթարյան!#REF!+Մ.Կիրակոսյան!#REF!+#REF!+#REF!) -> #REF! | AO23: =SUM('Ս. Մարդանյան'!#REF!+Ն.Բադալյան!#REF!+Ս.Մխիթարյան!#REF!+Մ.Կիրակոսյան!#REF!+#REF!+#REF!) -> #REF!
A24: 1.17 | B24: Ագրեսիան | C24: 149 | D24: =SUM('Ս. Մարդանյան'!D24+Ն.Բադալյան!D24+Ս.Մխիթարյան!D24+Մ.Կիրակոսյան!D24+#REF!+#REF!) -> #REF! | E24: =SUM('Ս. Մարդանյան'!E24+Ն.Բադալյան!E24+Ս.Մխիթարյան!E24+Մ.Կիրակոսյան!E24+#REF!+#REF!) -> #REF! | F24: =SUM('Ս. Մարդանյան'!F24+Ն.Բադալյան!F24+Ս.Մխիթարյան!F24+Մ.Կիրակոսյան!F24+#REF!+#REF!) -> #REF! | G24: =SUM('Ս. Մարդանյան'!G24+Ն.Բադալյան!G24+Ս.Մխիթարյան!G24+Մ.Կիրակոսյան!G24+#REF!+#REF!) -> #REF! | H24: =SUM('Ս. Մարդանյան'!H24+Ն.Բադալյան!H24+Ս.Մխիթարյան!H24+Մ.Կիրակոսյան!H24+#REF!+#REF!) -> #REF! | I24: =SUM('Ս. Մարդանյան'!I24+Ն.Բադալյան!I24+Ս.Մխիթարյան!I24+Մ.Կիրակոսյան!I24+#REF!+#REF!) -> #REF! | J24: =SUM('Ս. Մարդանյան'!J24+Ն.Բադալյան!J24+Ս.Մխիթարյան!J24+Մ.Կիրակոսյան!J24+#REF!+#REF!) -> #REF! | K24: =SUM('Ս. Մարդանյան'!K24+Ն.Բադալյան!K24+Ս.Մխիթարյան!K24+Մ.Կիրակոսյան!K24+#REF!+#REF!) -> #REF! | ... AG24: =SUM('Ս. Մարդանյան'!AG24+Ն.Բադալյան!AG24+Ս.Մխիթարյան!AG24+Մ.Կիրակոսյան!AG24+#REF!+#REF!) -> #REF! | AH24: =SUM('Ս. Մարդանյան'!#REF!+Ն.Բադալյան!#REF!+Ս.Մխիթարյան!#REF!+Մ.Կիրակոսյան!#REF!+#REF!+#REF!) -> #REF! | AI24: =SUM('Ս. Մարդանյան'!#REF!+Ն.Բադալյան!#REF!+Ս.Մխիթարյան!#REF!+Մ.Կիրակոսյան!#REF!+#REF!+#REF!) -> #REF! | AJ24: =SUM('Ս. Մարդանյան'!#REF!+Ն.Բադալյան!#REF!+Ս.Մխիթարյան!#REF!+Մ.Կիրակոսյան!#REF!+#REF!+#REF!) -> #REF! | AK24: =SUM('Ս. Մարդանյան'!#REF!+Ն.Բադալյան!#REF!+Ս.Մխիթարյան!#REF!+Մ.Կիրակոսյան!#REF!+#REF!+#REF!) -> #REF! | AL24: =SUM('Ս. Մարդանյան'!#REF!+Ն.Բադալյան!#REF!+Ս.Մխիթարյան!#REF!+Մ.Կիրակոսյան!#REF!+#REF!+#REF!) -> #REF! | AM24: =SUM('Ս. Մարդանյան'!#REF!+Ն.Բադալյան!#REF!+Ս.Մխիթարյան!#REF!+Մ.Կիրակոսյան!#REF!+#REF!+#REF!) -> #REF! | AN24: =SUM('Ս. Մարդանյան'!#REF!+Ն.Բադալյան!#REF!+Ս.Մխիթարյան!#REF!+Մ.Կիրակոսյան!#REF!+#REF!+#REF!) -> #REF! | AO24: =SUM('Ս. Մարդանյան'!#REF!+Ն.Բադալյան!#REF!+Ս.Մխիթարյան!#REF!+Մ.Կիրակոսյան!#REF!+#REF!+#REF!) -> #REF!
A25: 1.18 | B25: Համավարակի կամ մարդկության անվտանգությանն անմիջական սպառնալիքի իրավիճակի պայմաններում ագրեսիվ ռազմական գործողություններ նախաձեռնելը, իրականացնելը կամ դրանք չդադարեցնելը | C25: 150 | D25: =SUM('Ս. Մարդանյան'!D25+Ն.Բադալյան!D25+Ս.Մխիթարյան!D25+Մ.Կիրակոսյան!D25+#REF!+#REF!) -> #REF! | E25: =SUM('Ս. Մարդանյան'!E25+Ն.Բադալյան!E25+Ս.Մխիթարյան!E25+Մ.Կիրակոսյան!E25+#REF!+#REF!) -> #REF! | F25: =SUM('Ս. Մարդանյան'!F25+Ն.Բադալյան!F25+Ս.Մխիթարյան!F25+Մ.Կիրակոսյան!F25+#REF!+#REF!) -> #REF! | G25: =SUM('Ս. Մարդանյան'!G25+Ն.Բադալյան!G25+Ս.Մխիթարյան!G25+Մ.Կիրակոսյան!G25+#REF!+#REF!) -> #REF! | H25: =SUM('Ս. Մարդանյան'!H25+Ն.Բադալյան!H25+Ս.Մխիթարյան!H25+Մ.Կիրակոսյան!H25+#REF!+#REF!) -> #REF! | I25: =SUM('Ս. Մարդանյան'!I25+Ն.Բադալյան!I25+Ս.Մխիթարյան!I25+Մ.Կիրակոսյան!I25+#REF!+#REF!) -> #REF! | J25: =SUM('Ս. Մարդանյան'!J25+Ն.Բադալյան!J25+Ս.Մխիթարյան!J25+Մ.Կիրակոսյան!J25+#REF!+#REF!) -> #REF! | K25: =SUM('Ս. Մարդանյան'!K25+Ն.Բադալյան!K25+Ս.Մխիթարյան!K25+Մ.Կիրակոսյան!K25+#REF!+#REF!) -> #REF! | ... AG25: =SUM('Ս. Մարդանյան'!AG25+Ն.Բադալյան!AG25+Ս.Մխիթարյան!AG25+Մ.Կիրակոսյան!AG25+#REF!+#REF!) -> #REF! | AH25: =SUM('Ս. Մարդանյան'!#REF!+Ն.Բադալյան!#REF!+Ս.Մխիթարյան!#REF!+Մ.Կիրակոսյան!#REF!+#REF!+#REF!) -> #REF! | AI25: =SUM('Ս. Մարդանյան'!#REF!+Ն.Բադալյան!#REF!+Ս.Մխիթարյան!#REF!+Մ.Կիրակոսյան!#REF!+#REF!+#REF!) -> #REF! | AJ25: =SUM('Ս. Մարդանյան'!#REF!+Ն.Բադալյան!#REF!+Ս.Մխիթարյան!#REF!+Մ.Կիրակոսյան!#REF!+#REF!+#REF!) -> #REF! | AK25: =SUM('Ս. Մարդանյան'!#REF!+Ն.Բադալյան!#REF!+Ս.Մխիթարյան!#REF!+Մ.Կիրակոսյան!#REF!+#REF!+#REF!) -> #REF! | AL25: =SUM('Ս. Մարդանյան'!#REF!+Ն.Բադալյան!#REF!+Ս.Մխիթարյան!#REF!+Մ.Կիրակոսյան!#REF!+#REF!+#REF!) -> #REF! | AM25: =SUM('Ս. Մարդանյան'!#REF!+Ն.Բադալյան!#REF!+Ս.Մխիթարյան!#REF!+Մ.Կիրակոսյան!#REF!+#REF!+#REF!) -> #REF! | AN25: =SUM('Ս. Մարդանյան'!#REF!+Ն.Բադալյան!#REF!+Ս.Մխիթարյան!#REF!+Մ.Կիրակոսյան!#REF!+#REF!+#REF!) -> #REF! | AO25: =SUM('Ս. Մարդանյան'!#REF!+Ն.Բադալյան!#REF!+Ս.Մխիթարյան!#REF!+Մ.Կիրակոսյան!#REF!+#REF!+#REF!) -> #REF!
A26: 1.19 | B26: Ագրեսիա իրականացնելու ուղղակի և հրապարակային կոչերը | C26: 151 | D26: =SUM('Ս. Մարդանյան'!D26+Ն.Բադալյան!D26+Ս.Մխիթարյան!D26+Մ.Կիրակոսյան!D26+#REF!+#REF!) -> #REF! | E26: =SUM('Ս. Մարդանյան'!E26+Ն.Բադալյան!E26+Ս.Մխիթարյան!E26+Մ.Կիրակոսյան!E26+#REF!+#REF!) -> #REF! | F26: =SUM('Ս. Մարդանյան'!F26+Ն.Բադալյան!F26+Ս.Մխիթարյան!F26+Մ.Կիրակոսյան!F26+#REF!+#REF!) -> #REF! | G26: =SUM('Ս. Մարդանյան'!G26+Ն.Բադալյան!G26+Ս.Մխիթարյան!G26+Մ.Կիրակոսյան!G26+#REF!+#REF!) -> #REF! | H26: =SUM('Ս. Մարդանյան'!H26+Ն.Բադալյան!H26+Ս.Մխիթարյան!H26+Մ.Կիրակոսյան!H26+#REF!+#REF!) -> #REF! | I26: =SUM('Ս. Մարդանյան'!I26+Ն.Բադալյան!I26+Ս.Մխիթարյան!I26+Մ.Կիրակոսյան!I26+#REF!+#REF!) -> #REF! | J26: =SUM('Ս. Մարդանյան'!J26+Ն.Բադալյան!J26+Ս.Մխիթարյան!J26+Մ.Կիրակոսյան!J26+#REF!+#REF!) -> #REF! | K26: =SUM('Ս. Մարդանյան'!K26+Ն.Բադալյան!K26+Ս.Մխիթարյան!K26+Մ.Կիրակոսյան!K26+#REF!+#REF!) -> #REF! | ... AG26: =SUM('Ս. Մարդանյան'!AG26+Ն.Բադալյան!AG26+Ս.Մխիթարյան!AG26+Մ.Կիրակոսյան!AG26+#REF!+#REF!) -> #REF! | AH26: =SUM('Ս. Մարդանյան'!#REF!+Ն.Բադալյան!#REF!+Ս.Մխիթարյան!#REF!+Մ.Կիրակոսյան!#REF!+#REF!+#REF!) -> #REF! | AI26: =SUM('Ս. Մարդանյան'!#REF!+Ն.Բադալյան!#REF!+Ս.Մխիթարյան!#REF!+Մ.Կիրակոսյան!#REF!+#REF!+#REF!) -> #REF! | AJ26: =SUM('Ս. Մարդանյան'!#REF!+Ն.Բադալյան!#REF!+Ս.Մխիթարյան!#REF!+Մ.Կիրակոսյան!#REF!+#REF!+#REF!) -> #REF! | AK26: =SUM('Ս. Մարդանյան'!#REF!+Ն.Բադալյան!#REF!+Ս.Մխիթարյան!#REF!+Մ.Կիրակոսյան!#REF!+#REF!+#REF!) -> #REF! | AL26: =SUM('Ս. Մարդանյան'!#REF!+Ն.Բադալյան!#REF!+Ս.Մխիթարյան!#REF!+Մ.Կիրակոսյան!#REF!+#REF!+#REF!) -> #REF! | AM26: =SUM('Ս. Մարդանյան'!#REF!+Ն.Բադալյան!#REF!+Ս.Մխիթարյան!#REF!+Մ.Կիրակոսյան!#REF!+#REF!+#REF!) -> #REF! | AN26: =SUM('Ս. Մարդանյան'!#REF!+Ն.Բադալյան!#REF!+Ս.Մխիթարյան!#REF!+Մ.Կիրակոսյան!#REF!+#REF!+#REF!) -> #REF! | AO26: =SUM('Ս. Մարդանյան'!#REF!+Ն.Բադալյան!#REF!+Ս.Մխիթարյան!#REF!+Մ.Կիրակոսյան!#REF!+#REF!+#REF!) -> #REF!
A27: 1.20 | B27: Միջազգային ահաբեկչությունը | C27: 152 | D27: =SUM('Ս. Մարդանյան'!D27+Ն.Բադալյան!D27+Ս.Մխիթարյան!D27+Մ.Կիրակոսյան!D27+#REF!+#REF!) -> #REF! | E27: =SUM('Ս. Մարդանյան'!E27+Ն.Բադալյան!E27+Ս.Մխիթարյան!E27+Մ.Կիրակոսյան!E27+#REF!+#REF!) -> #REF! | F27: =SUM('Ս. Մարդանյան'!F27+Ն.Բադալյան!F27+Ս.Մխիթարյան!F27+Մ.Կիրակոսյան!F27+#REF!+#REF!) -> #REF! | G27: =SUM('Ս. Մարդանյան'!G27+Ն.Բադալյան!G27+Ս.Մխիթարյան!G27+Մ.Կիրակոսյան!G27+#REF!+#REF!) -> #REF! | H27: =SUM('Ս. Մարդանյան'!H27+Ն.Բադալյան!H27+Ս.Մխիթարյան!H27+Մ.Կիրակոսյան!H27+#REF!+#REF!) -> #REF! | I27: =SUM('Ս. Մարդանյան'!I27+Ն.Բադալյան!I27+Ս.Մխիթարյան!I27+Մ.Կիրակոսյան!I27+#REF!+#REF!) -> #REF! | J27: =SUM('Ս. Մարդանյան'!J27+Ն.Բադալյան!J27+Ս.Մխիթարյան!J27+Մ.Կիրակոսյան!J27+#REF!+#REF!) -> #REF! | K27: =SUM('Ս. Մարդանյան'!K27+Ն.Բադալյան!K27+Ս.Մխիթարյան!K27+Մ.Կիրակոսյան!K27+#REF!+#REF!) -> #REF! | ... AG27: =SUM('Ս. Մարդանյան'!AG27+Ն.Բադալյան!AG27+Ս.Մխիթարյան!AG27+Մ.Կիրակոսյան!AG27+#REF!+#REF!) -> #REF! | AH27: =SUM('Ս. Մարդանյան'!#REF!+Ն.Բադալյան!#REF!+Ս.Մխիթարյան!#REF!+Մ.Կիրակոսյան!#REF!+#REF!+#REF!) -> #REF! | AI27: =SUM('Ս. Մարդանյան'!#REF!+Ն.Բադալյան!#REF!+Ս.Մխիթարյան!#REF!+Մ.Կիրակոսյան!#REF!+#REF!+#REF!) -> #REF! | AJ27: =SUM('Ս. Մարդանյան'!#REF!+Ն.Բադալյան!#REF!+Ս.Մխիթարյան!#REF!+Մ.Կիրակոսյան!#REF!+#REF!+#REF!) -> #REF! | AK27: =SUM('Ս. Մարդանյան'!#REF!+Ն.Բադալյան!#REF!+Ս.Մխիթարյան!#REF!+Մ.Կիրակոսյան!#REF!+#REF!+#REF!) -> #REF! | AL27: =SUM('Ս. Մարդանյան'!#REF!+Ն.Բադալյան!#REF!+Ս.Մխիթարյան!#REF!+Մ.Կիրակոսյան!#REF!+#REF!+#REF!) -> #REF! | AM27: =SUM('Ս. Մարդանյան'!#REF!+Ն.Բադալյան!#REF!+Ս.Մխիթարյան!#REF!+Մ.Կիրակոսյան!#REF!+#REF!+#REF!) -> #REF! | AN27: =SUM('Ս. Մարդանյան'!#REF!+Ն.Բադալյան!#REF!+Ս.Մխիթարյան!#REF!+Մ.Կիրակոսյան!#REF!+#REF!+#REF!) -> #REF! | AO27: =SUM('Ս. Մարդանյան'!#REF!+Ն.Բադալյան!#REF!+Ս.Մխիթարյան!#REF!+Մ.Կիրակոսյան!#REF!+#REF!+#REF!) -> #REF!
A28: 1.21 | B28: Զանգվածային ոչնչացման զենք ստեղծելը, տրամադրելը, փորձարկելը կամ կիրառելը | C28: 153 | D28: =SUM('Ս. Մարդանյան'!D28+Ն.Բադալյան!D28+Ս.Մխիթարյան!D28+Մ.Կիրակոսյան!D28+#REF!+#REF!) -> #REF! | E28: =SUM('Ս. Մարդանյան'!E28+Ն.Բադալյան!E28+Ս.Մխիթարյան!E28+Մ.Կիրակոսյան!E28+#REF!+#REF!) -> #REF! | F28: =SUM('Ս. Մարդանյան'!F28+Ն.Բադալյան!F28+Ս.Մխիթարյան!F28+Մ.Կիրակոսյան!F28+#REF!+#REF!) -> #REF! | G28: =SUM('Ս. Մարդանյան'!G28+Ն.Բադալյան!G28+Ս.Մխիթարյան!G28+Մ.Կիրակոսյան!G28+#REF!+#REF!) -> #REF! | H28: =SUM('Ս. Մարդանյան'!H28+Ն.Բադալյան!H28+Ս.Մխիթարյան!H28+Մ.Կիրակոսյան!H28+#REF!+#REF!) -> #REF! | I28: =SUM('Ս. Մարդանյան'!I28+Ն.Բադալյան!I28+Ս.Մխիթարյան!I28+Մ.Կիրակոսյան!I28+#REF!+#REF!) -> #REF! | J28: =SUM('Ս. Մարդանյան'!J28+Ն.Բադալյան!J28+Ս.Մխիթարյան!J28+Մ.Կիրակոսյան!J28+#REF!+#REF!) -> #REF! | K28: =SUM('Ս. Մարդանյան'!K28+Ն.Բադալյան!K28+Ս.Մխիթարյան!K28+Մ.Կիրակոսյան!K28+#REF!+#REF!) -> #REF! | ... AG28: =SUM('Ս. Մարդանյան'!AG28+Ն.Բադալյան!AG28+Ս.Մխիթարյան!AG28+Մ.Կիրակոսյան!AG28+#REF!+#REF!) -> #REF! | AH28: =SUM('Ս. Մարդանյան'!#REF!+Ն.Բադալյան!#REF!+Ս.Մխիթարյան!#REF!+Մ.Կիրակոսյան!#REF!+#REF!+#REF!) -> #REF! | AI28: =SUM('Ս. Մարդանյան'!#REF!+Ն.Բադալյան!#REF!+Ս.Մխիթարյան!#REF!+Մ.Կիրակոսյան!#REF!+#REF!+#REF!) -> #REF! | AJ28: =SUM('Ս. Մարդանյան'!#REF!+Ն.Բադալյան!#REF!+Ս.Մխիթարյան!#REF!+Մ.Կիրակոսյան!#REF!+#REF!+#REF!) -> #REF! | AK28: =SUM('Ս. Մարդանյան'!#REF!+Ն.Բադալյան!#REF!+Ս.Մխիթարյան!#REF!+Մ.Կիրակոսյան!#REF!+#REF!+#REF!) -> #REF! | AL28: =SUM('Ս. Մարդանյան'!#REF!+Ն.Բադալյան!#REF!+Ս.Մխիթարյան!#REF!+Մ.Կիրակոսյան!#REF!+#REF!+#REF!) -> #REF! | AM28: =SUM('Ս. Մարդանյան'!#REF!+Ն.Բադալյան!#REF!+Ս.Մխիթարյան!#REF!+Մ.Կիրակոսյան!#REF!+#REF!+#REF!) -> #REF! | AN28: =SUM('Ս. Մարդանյան'!#REF!+Ն.Բադալյան!#REF!+Ս.Մխիթարյան!#REF!+Մ.Կիրակոսյան!#REF!+#REF!+#REF!) -> #REF! | AO28: =SUM('Ս. Մարդանյան'!#REF!+Ն.Բադալյան!#REF!+Ս.Մխիթարյան!#REF!+Մ.Կիրակոսյան!#REF!+#REF!+#REF!) -> #REF!
A29: 1.22 | B29: Էկոցիդը | C29: 154 | D29: =SUM('Ս. Մարդանյան'!D29+Ն.Բադալյան!D29+Ս.Մխիթարյան!D29+Մ.Կիրակոսյան!D29+#REF!+#REF!) -> #REF! | E29: =SUM('Ս. Մարդանյան'!E29+Ն.Բադալյան!E29+Ս.Մխիթարյան!E29+Մ.Կիրակոսյան!E29+#REF!+#REF!) -> #REF! | F29: =SUM('Ս. Մարդանյան'!F29+Ն.Բադալյան!F29+Ս.Մխիթարյան!F29+Մ.Կիրակոսյան!F29+#REF!+#REF!) -> #REF! | G29: =SUM('Ս. Մարդանյան'!G29+Ն.Բադալյան!G29+Ս.Մխիթարյան!G29+Մ.Կիրակոսյան!G29+#REF!+#REF!) -> #REF! | H29: =SUM('Ս. Մարդանյան'!H29+Ն.Բադալյան!H29+Ս.Մխիթարյան!H29+Մ.Կիրակոսյան!H29+#REF!+#REF!) -> #REF! | I29: =SUM('Ս. Մարդանյան'!I29+Ն.Բադալյան!I29+Ս.Մխիթարյան!I29+Մ.Կիրակոսյան!I29+#REF!+#REF!) -> #REF! | J29: =SUM('Ս. Մարդանյան'!J29+Ն.Բադալյան!J29+Ս.Մխիթարյան!J29+Մ.Կիրակոսյան!J29+#REF!+#REF!) -> #REF! | K29: =SUM('Ս. Մարդանյան'!K29+Ն.Բադալյան!K29+Ս.Մխիթարյան!K29+Մ.Կիրակոսյան!K29+#REF!+#REF!) -> #REF! | ... AG29: =SUM('Ս. Մարդանյան'!AG29+Ն.Բադալյան!AG29+Ս.Մխիթարյան!AG29+Մ.Կիրակոսյան!AG29+#REF!+#REF!) -> #REF! | AH29: =SUM('Ս. Մարդանյան'!#REF!+Ն.Բադալյան!#REF!+Ս.Մխիթարյան!#REF!+Մ.Կիրակոսյան!#REF!+#REF!+#REF!) -> #REF! | AI29: =SUM('Ս. Մարդանյան'!#REF!+Ն.Բադալյան!#REF!+Ս.Մխիթարյան!#REF!+Մ.Կիրակոսյան!#REF!+#REF!+#REF!) -> #REF! | AJ29: =SUM('Ս. Մարդանյան'!#REF!+Ն.Բադալյան!#REF!+Ս.Մխիթարյան!#REF!+Մ.Կիրակոսյան!#REF!+#REF!+#REF!) -> #REF! | AK29: =SUM('Ս. Մարդանյան'!#REF!+Ն.Բադալյան!#REF!+Ս.Մխիթարյան!#REF!+Մ.Կիրակոսյան!#REF!+#REF!+#REF!) -> #REF! | AL29: =SUM('Ս. Մարդանյան'!#REF!+Ն.Բադալյան!#REF!+Ս.Մխիթարյան!#REF!+Մ.Կիրակոսյան!#REF!+#REF!+#REF!) -> #REF! | AM29: =SUM('Ս. Մարդանյան'!#REF!+Ն.Բադալյան!#REF!+Ս.Մխիթարյան!#REF!+Մ.Կիրակոսյան!#REF!+#REF!+#REF!) -> #REF! | AN29: =SUM('Ս. Մարդանյան'!#REF!+Ն.Բադալյան!#REF!+Ս.Մխիթարյան!#REF!+Մ.Կիրակոսյան!#REF!+#REF!+#REF!) -> #REF! | AO29: =SUM('Ս. Մարդանյան'!#REF!+Ն.Բադալյան!#REF!+Ս.Մխիթարյան!#REF!+Մ.Կիրակոսյան!#REF!+#REF!+#REF!) -> #REF!
A30: 2 | B30: Ընդհամենը մարդու կյանքի դեմ ուղղված հանցագործությունները | D30: =SUM('Ս. Մարդանյան'!D30+Ն.Բադալյան!D30+Ս.Մխիթարյան!D30+Մ.Կիրակոսյան!D30+#REF!+#REF!) -> #REF! | E30: =SUM('Ս. Մարդանյան'!E30+Ն.Բադալյան!E30+Ս.Մխիթարյան!E30+Մ.Կիրակոսյան!E30+#REF!+#REF!) -> #REF! | F30: =SUM('Ս. Մարդանյան'!F30+Ն.Բադալյան!F30+Ս.Մխիթարյան!F30+Մ.Կիրակոսյան!F30+#REF!+#REF!) -> #REF! | G30: =SUM('Ս. Մարդանյան'!G30+Ն.Բադալյան!G30+Ս.Մխիթարյան!G30+Մ.Կիրակոսյան!G30+#REF!+#REF!) -> #REF! | H30: =SUM('Ս. Մարդանյան'!H30+Ն.Բադալյան!H30+Ս.Մխիթարյան!H30+Մ.Կիրակոսյան!H30+#REF!+#REF!) -> #REF! | I30: =SUM('Ս. Մարդանյան'!I30+Ն.Բադալյան!I30+Ս.Մխիթարյան!I30+Մ.Կիրակոսյան!I30+#REF!+#REF!) -> #REF! | J30: =SUM('Ս. Մարդանյան'!J30+Ն.Բադալյան!J30+Ս.Մխիթարյան!J30+Մ.Կիրակոսյան!J30+#REF!+#REF!) -> #REF! | K30: =SUM('Ս. Մարդանյան'!K30+Ն.Բադալյան!K30+Ս.Մխիթարյան!K30+Մ.Կիրակոսյան!K30+#REF!+#REF!) -> #REF! | ... AG30: =SUM('Ս. Մարդանյան'!AG30+Ն.Բադալյան!AG30+Ս.Մխիթարյան!AG30+Մ.Կիրակոսյան!AG30+#REF!+#REF!) -> #REF! | AH30: =SUM('Ս. Մարդանյան'!#REF!+Ն.Բադալյան!#REF!+Ս.Մխիթարյան!#REF!+Մ.Կիրակոսյան!#REF!+#REF!+#REF!) -> #REF! | AI30: =SUM('Ս. Մարդանյան'!#REF!+Ն.Բադալյան!#REF!+Ս.Մխիթարյան!#REF!+Մ.Կիրակոսյան!#REF!+#REF!+#REF!) -> #REF! | AJ30: =SUM('Ս. Մարդանյան'!#REF!+Ն.Բադալյան!#REF!+Ս.Մխիթարյան!#REF!+Մ.Կիրակոսյան!#REF!+#REF!+#REF!) -> #REF! | AK30: =SUM('Ս. Մարդանյան'!#REF!+Ն.Բադալյան!#REF!+Ս.Մխիթարյան!#REF!+Մ.Կիրակոսյան!#REF!+#REF!+#REF!) -> #REF! | AL30: =SUM('Ս. Մարդանյան'!#REF!+Ն.Բադալյան!#REF!+Ս.Մխիթարյան!#REF!+Մ.Կիրակոսյան!#REF!+#REF!+#REF!) -> #REF! | AM30: =SUM('Ս. Մարդանյան'!#REF!+Ն.Բադալյան!#REF!+Ս.Մխիթարյան!#REF!+Մ.Կիրակոսյան!#REF!+#REF!+#REF!) -> #REF! | AN30: =SUM('Ս. Մարդանյան'!#REF!+Ն.Բադալյան!#REF!+Ս.Մխիթարյան!#REF!+Մ.Կիրակոսյան!#REF!+#REF!+#REF!) -> #REF! | AO30: =SUM('Ս. Մարդանյան'!#REF!+Ն.Բադալյան!#REF!+Ս.Մխիթարյան!#REF!+Մ.Կիրակոսյան!#REF!+#REF!+#REF!) -> #REF!
A31: 2.1 | B31: Սպանությունը | C31: 155 | D31: =SUM('Ս. Մարդանյան'!D31+Ն.Բադալյան!D31+Ս.Մխիթարյան!D31+Մ.Կիրակոսյան!D31+#REF!+#REF!) -> #REF! | E31: =SUM('Ս. Մարդանյան'!E31+Ն.Բադալյան!E31+Ս.Մխիթարյան!E31+Մ.Կիրակոսյան!E31+#REF!+#REF!) -> #REF! | F31: =SUM('Ս. Մարդանյան'!F31+Ն.Բադալյան!F31+Ս.Մխիթարյան!F31+Մ.Կիրակոսյան!F31+#REF!+#REF!) -> #REF! | G31: =SUM('Ս. Մարդանյան'!G31+Ն.Բադալյան!G31+Ս.Մխիթարյան!G31+Մ.Կիրակոսյան!G31+#REF!+#REF!) -> #REF! | H31: =SUM('Ս. Մարդանյան'!H31+Ն.Բադալյան!H31+Ս.Մխիթարյան!H31+Մ.Կիրակոսյան!H31+#REF!+#REF!) -> #REF! | I31: =SUM('Ս. Մարդանյան'!I31+Ն.Բադալյան!I31+Ս.Մխիթարյան!I31+Մ.Կիրակոսյան!I31+#REF!+#REF!) -> #REF! | J31: =SUM('Ս. Մարդանյան'!J31+Ն.Բադալյան!J31+Ս.Մխիթարյան!J31+Մ.Կիրակոսյան!J31+#REF!+#REF!) -> #REF! | K31: =SUM('Ս. Մարդանյան'!K31+Ն.Բադալյան!K31+Ս.Մխիթարյան!K31+Մ.Կիրակոսյան!K31+#REF!+#REF!) -> #REF! | ... AG31: =SUM('Ս. Մարդանյան'!AG31+Ն.Բադալյան!AG31+Ս.Մխիթարյան!AG31+Մ.Կիրակոսյան!AG31+#REF!+#REF!) -> #REF! | AH31: =SUM('Ս. Մարդանյան'!#REF!+Ն.Բադալյան!#REF!+Ս.Մխիթարյան!#REF!+Մ.Կիրակոսյան!#REF!+#REF!+#REF!) -> #REF! | AI31: =SUM('Ս. Մարդանյան'!#REF!+Ն.Բադալյան!#REF!+Ս.Մխիթարյան!#REF!+Մ.Կիրակոսյան!#REF!+#REF!+#REF!) -> #REF! | AJ31: =SUM('Ս. Մարդանյան'!#REF!+Ն.Բադալյան!#REF!+Ս.Մխիթարյան!#REF!+Մ.Կիրակոսյան!#REF!+#REF!+#REF!) -> #REF! | AK31: =SUM('Ս. Մարդանյան'!#REF!+Ն.Բադալյան!#REF!+Ս.Մխիթարյան!#REF!+Մ.Կիրակոսյան!#REF!+#REF!+#REF!) -> #REF! | AL31: =SUM('Ս. Մարդանյան'!#REF!+Ն.Բադալյան!#REF!+Ս.Մխիթարյան!#REF!+Մ.Կիրակոսյան!#REF!+#REF!+#REF!) -> #REF! | AM31: =SUM('Ս. Մարդանյան'!#REF!+Ն.Բադալյան!#REF!+Ս.Մխիթարյան!#REF!+Մ.Կիրակոսյան!#REF!+#REF!+#REF!) -> #REF! | AN31: =SUM('Ս. Մարդանյան'!#REF!+Ն.Բադալյան!#REF!+Ս.Մխիթարյան!#REF!+Մ.Կիրակոսյան!#REF!+#REF!+#REF!) -> #REF! | AO31: =SUM('Ս. Մարդանյան'!#REF!+Ն.Բադալյան!#REF!+Ս.Մխիթարյան!#REF!+Մ.Կիրակոսյան!#REF!+#REF!+#REF!) -> #REF!
A32: 2.2 | B32: Հոգեկան խիստ հուզմունքի վիճակում կատարված սպանությունը | C32: 156 | D32: =SUM('Ս. Մարդանյան'!D32+Ն.Բադալյան!D32+Ս.Մխիթարյան!D32+Մ.Կիրակոսյան!D32+#REF!+#REF!) -> #REF! | E32: =SUM('Ս. Մարդանյան'!E32+Ն.Բադալյան!E32+Ս.Մխիթարյան!E32+Մ.Կիրակոսյան!E32+#REF!+#REF!) -> #REF! | F32: =SUM('Ս. Մարդանյան'!F32+Ն.Բադալյան!F32+Ս.Մխիթարյան!F32+Մ.Կիրակոսյան!F32+#REF!+#REF!) -> #REF! | G32: =SUM('Ս. Մարդանյան'!G32+Ն.Բադալյան!G32+Ս.Մխիթարյան!G32+Մ.Կիրակոսյան!G32+#REF!+#REF!) -> #REF! | H32: =SUM('Ս. Մարդանյան'!H32+Ն.Բադալյան!H32+Ս.Մխիթարյան!H32+Մ.Կիրակոսյան!H32+#REF!+#REF!) -> #REF! | I32: =SUM('Ս. Մարդանյան'!I32+Ն.Բադալյան!I32+Ս.Մխիթարյան!I32+Մ.Կիրակոսյան!I32+#REF!+#REF!) -> #REF! | J32: =SUM('Ս. Մարդանյան'!J32+Ն.Բադալյան!J32+Ս.Մխիթարյան!J32+Մ.Կիրակոսյան!J32+#REF!+#REF!) -> #REF! | K32: =SUM('Ս. Մարդանյան'!K32+Ն.Բադալյան!K32+Ս.Մխիթարյան!K32+Մ.Կիրակոսյան!K32+#REF!+#REF!) -> #REF! | ... AG32: =SUM('Ս. Մարդանյան'!AG32+Ն.Բադալյան!AG32+Ս.Մխիթարյան!AG32+Մ.Կիրակոսյան!AG32+#REF!+#REF!) -> #REF! | AH32: =SUM('Ս. Մարդանյան'!#REF!+Ն.Բադալյան!#REF!+Ս.Մխիթարյան!#REF!+Մ.Կիրակոսյան!#REF!+#REF!+#REF!) -> #REF! | AI32: =SUM('Ս. Մարդանյան'!#REF!+Ն.Բադալյան!#REF!+Ս.Մխիթարյան!#REF!+Մ.Կիրակոսյան!#REF!+#REF!+#REF!) -> #REF! | AJ32: =SUM('Ս. Մարդանյան'!#REF!+Ն.Բադալյան!#REF!+Ս.Մխիթարյան!#REF!+Մ.Կիրակոսյան!#REF!+#REF!+#REF!) -> #REF! | AK32: =SUM('Ս. Մարդանյան'!#REF!+Ն.Բադալյան!#REF!+Ս.Մխիթարյան!#REF!+Մ.Կիրակոսյան!#REF!+#REF!+#REF!) -> #REF! | AL32: =SUM('Ս. Մարդանյան'!#REF!+Ն.Բադալյան!#REF!+Ս.Մխիթարյան!#REF!+Մ.Կիրակոսյան!#REF!+#REF!+#REF!) -> #REF! | AM32: =SUM('Ս. Մարդանյան'!#REF!+Ն.Բադալյան!#REF!+Ս.Մխիթարյան!#REF!+Մ.Կիրակոսյան!#REF!+#REF!+#REF!) -> #REF! | AN32: =SUM('Ս. Մարդանյան'!#REF!+Ն.Բադալյան!#REF!+Ս.Մխիթարյան!#REF!+Մ.Կիրակոսյան!#REF!+#REF!+#REF!) -> #REF! | AO32: =SUM('Ս. Մարդանյան'!#REF!+Ն.Բադալյան!#REF!+Ս.Մխիթարյան!#REF!+Մ.Կիրակոսյան!#REF!+#REF!+#REF!) -> #REF!
A33: 2.3 | B33: Ծննդկանի կամ ծննդաբերի կողմից երեխայի սպանությունը | C33: 157 | D33: =SUM('Ս. Մարդանյան'!D33+Ն.Բադալյան!D33+Ս.Մխիթարյան!D33+Մ.Կիրակոսյան!D33+#REF!+#REF!) -> #REF! | E33: =SUM('Ս. Մարդանյան'!E33+Ն.Բադալյան!E33+Ս.Մխիթարյան!E33+Մ.Կիրակոսյան!E33+#REF!+#REF!) -> #REF! | F33: =SUM('Ս. Մարդանյան'!F33+Ն.Բադալյան!F33+Ս.Մխիթարյան!F33+Մ.Կիրակոսյան!F33+#REF!+#REF!) -> #REF! | G33: =SUM('Ս. Մարդանյան'!G33+Ն.Բադալյան!G33+Ս.Մխիթարյան!G33+Մ.Կիրակոսյան!G33+#REF!+#REF!) -> #REF! | H33: =SUM('Ս. Մարդանյան'!H33+Ն.Բադալյան!H33+Ս.Մխիթարյան!H33+Մ.Կիրակոսյան!H33+#REF!+#REF!) -> #REF! | I33: =SUM('Ս. Մարդանյան'!I33+Ն.Բադալյան!I33+Ս.Մխիթարյան!I33+Մ.Կիրակոսյան!I33+#REF!+#REF!) -> #REF! | J33: =SUM('Ս. Մարդանյան'!J33+Ն.Բադալյան!J33+Ս.Մխիթարյան!J33+Մ.Կիրակոսյան!J33+#REF!+#REF!) -> #REF! | K33: =SUM('Ս. Մարդանյան'!K33+Ն.Բադալյան!K33+Ս.Մխիթարյան!K33+Մ.Կիրակոսյան!K33+#REF!+#REF!) -> #REF! | ... AG33: =SUM('Ս. Մարդանյան'!AG33+Ն.Բադալյան!AG33+Ս.Մխիթարյան!AG33+Մ.Կիրակոսյան!AG33+#REF!+#REF!) -> #REF! | AH33: =SUM('Ս. Մարդանյան'!#REF!+Ն.Բադալյան!#REF!+Ս.Մխիթարյան!#REF!+Մ.Կիրակոսյան!#REF!+#REF!+#REF!) -> #REF! | AI33: =SUM('Ս. Մարդանյան'!#REF!+Ն.Բադալյան!#REF!+Ս.Մխիթարյան!#REF!+Մ.Կիրակոսյան!#REF!+#REF!+#REF!) -> #REF! | AJ33: =SUM('Ս. Մարդանյան'!#REF!+Ն.Բադալյան!#REF!+Ս.Մխիթարյան!#REF!+Մ.Կիրակոսյան!#REF!+#REF!+#REF!) -> #REF! | AK33: =SUM('Ս. Մարդանյան'!#REF!+Ն.Բադալյան!#REF!+Ս.Մխիթարյան!#REF!+Մ.Կիրակոսյան!#REF!+#REF!+#REF!) -> #REF! | AL33: =SUM('Ս. Մարդանյան'!#REF!+Ն.Բադալյան!#REF!+Ս.Մխիթարյան!#REF!+Մ.Կիրակոսյան!#REF!+#REF!+#REF!) -> #REF! | AM33: =SUM('Ս. Մարդանյան'!#REF!+Ն.Բադալյան!#REF!+Ս.Մխիթարյան!#REF!+Մ.Կիրակոսյան!#REF!+#REF!+#REF!) -> #REF! | AN33: =SUM('Ս. Մարդանյան'!#REF!+Ն.Բադալյան!#REF!+Ս.Մխիթարյան!#REF!+Մ.Կիրակոսյան!#REF!+#REF!+#REF!) -> #REF! | AO33: =SUM('Ս. Մարդանյան'!#REF!+Ն.Բադալյան!#REF!+Ս.Մխիթարյան!#REF!+Մ.Կիրակոսյան!#REF!+#REF!+#REF!) -> #REF!
A34: 2.4 | B34: Ծննդկանի կամ ծննդաբերի կողմից երեխայի սպանությանը հանցակցելը | C34: 158 | D34: =SUM('Ս. Մարդանյան'!D34+Ն.Բադալյան!D34+Ս.Մխիթարյան!D34+Մ.Կիրակոսյան!D34+#REF!+#REF!) -> #REF! | E34: =SUM('Ս. Մարդանյան'!E34+Ն.Բադալյան!E34+Ս.Մխիթարյան!E34+Մ.Կիրակոսյան!E34+#REF!+#REF!) -> #REF! | F34: =SUM('Ս. Մարդանյան'!F34+Ն.Բադալյան!F34+Ս.Մխիթարյան!F34+Մ.Կիրակոսյան!F34+#REF!+#REF!) -> #REF! | G34: =SUM('Ս. Մարդանյան'!G34+Ն.Բադալյան!G34+Ս.Մխիթարյան!G34+Մ.Կիրակոսյան!G34+#REF!+#REF!) -> #REF! | H34: =SUM('Ս. Մարդանյան'!H34+Ն.Բադալյան!H34+Ս.Մխիթարյան!H34+Մ.Կիրակոսյան!H34+#REF!+#REF!) -> #REF! | I34: =SUM('Ս. Մարդանյան'!I34+Ն.Բադալյան!I34+Ս.Մխիթարյան!I34+Մ.Կիրակոսյան!I34+#REF!+#REF!) -> #REF! | J34: =SUM('Ս. Մարդանյան'!J34+Ն.Բադալյան!J34+Ս.Մխիթարյան!J34+Մ.Կիրակոսյան!J34+#REF!+#REF!) -> #REF! | K34: =SUM('Ս. Մարդանյան'!K34+Ն.Բադալյան!K34+Ս.Մխիթարյան!K34+Մ.Կիրակոսյան!K34+#REF!+#REF!) -> #REF! | ... AG34: =SUM('Ս. Մարդանյան'!AG34+Ն.Բադալյան!AG34+Ս.Մխիթարյան!AG34+Մ.Կիրակոսյան!AG34+#REF!+#REF!) -> #REF! | AH34: =SUM('Ս. Մարդանյան'!#REF!+Ն.Բադալյան!#REF!+Ս.Մխիթարյան!#REF!+Մ.Կիրակոսյան!#REF!+#REF!+#REF!) -> #REF! | AI34: =SUM('Ս. Մարդանյան'!#REF!+Ն.Բադալյան!#REF!+Ս.Մխիթարյան!#REF!+Մ.Կիրակոսյան!#REF!+#REF!+#REF!) -> #REF! | AJ34: =SUM('Ս. Մարդանյան'!#REF!+Ն.Բադալյան!#REF!+Ս.Մխիթարյան!#REF!+Մ.Կիրակոսյան!#REF!+#REF!+#REF!) -> #REF! | AK34: =SUM('Ս. Մարդանյան'!#REF!+Ն.Բադալյան!#REF!+Ս.Մխիթարյան!#REF!+Մ.Կիրակոսյան!#REF!+#REF!+#REF!) -> #REF! | AL34: =SUM('Ս. Մարդանյան'!#REF!+Ն.Բադալյան!#REF!+Ս.Մխիթարյան!#REF!+Մ.Կիրակոսյան!#REF!+#REF!+#REF!) -> #REF! | AM34: =SUM('Ս. Մարդանյան'!#REF!+Ն.Բադալյան!#REF!+Ս.Մխիթարյան!#REF!+Մ.Կիրակոսյան!#REF!+#REF!+#REF!) -> #REF! | AN34: =SUM('Ս. Մարդանյան'!#REF!+Ն.Բադալյան!#REF!+Ս.Մխիթարյան!#REF!+Մ.Կիրակոսյան!#REF!+#REF!+#REF!) -> #REF! | AO34: =SUM('Ս. Մարդանյան'!#REF!+Ն.Բադալյան!#REF!+Ս.Մխիթարյան!#REF!+Մ.Կիրակոսյան!#REF!+#REF!+#REF!) -> #REF!
A35: 2.5 | B35: Անհրաժեշտ պաշտպանության սահմանազանցմամբ սպանությունը | C35: 159 | D35: =SUM('Ս. Մարդանյան'!D35+Ն.Բադալյան!D35+Ս.Մխիթարյան!D35+Մ.Կիրակոսյան!D35+#REF!+#REF!) -> #REF! | E35: =SUM('Ս. Մարդանյան'!E35+Ն.Բադալյան!E35+Ս.Մխիթարյան!E35+Մ.Կիրակոսյան!E35+#REF!+#REF!) -> #REF! | F35: =SUM('Ս. Մարդանյան'!F35+Ն.Բադալյան!F35+Ս.Մխիթարյան!F35+Մ.Կիրակոսյան!F35+#REF!+#REF!) -> #REF! | G35: =SUM('Ս. Մարդանյան'!G35+Ն.Բադալյան!G35+Ս.Մխիթարյան!G35+Մ.Կիրակոսյան!G35+#REF!+#REF!) -> #REF! | H35: =SUM('Ս. Մարդանյան'!H35+Ն.Բադալյան!H35+Ս.Մխիթարյան!H35+Մ.Կիրակոսյան!H35+#REF!+#REF!) -> #REF! | I35: =SUM('Ս. Մարդանյան'!I35+Ն.Բադալյան!I35+Ս.Մխիթարյան!I35+Մ.Կիրակոսյան!I35+#REF!+#REF!) -> #REF! | J35: =SUM('Ս. Մարդանյան'!J35+Ն.Բադալյան!J35+Ս.Մխիթարյան!J35+Մ.Կիրակոսյան!J35+#REF!+#REF!) -> #REF! | K35: =SUM('Ս. Մարդանյան'!K35+Ն.Բադալյան!K35+Ս.Մխիթարյան!K35+Մ.Կիրակոսյան!K35+#REF!+#REF!) -> #REF! | ... AG35: =SUM('Ս. Մարդանյան'!AG35+Ն.Բադալյան!AG35+Ս.Մխիթարյան!AG35+Մ.Կիրակոսյան!AG35+#REF!+#REF!) -> #REF! | AH35: =SUM('Ս. Մարդանյան'!#REF!+Ն.Բադալյան!#REF!+Ս.Մխիթարյան!#REF!+Մ.Կիրակոսյան!#REF!+#REF!+#REF!) -> #REF! | AI35: =SUM('Ս. Մարդանյան'!#REF!+Ն.Բադալյան!#REF!+Ս.Մխիթարյան!#REF!+Մ.Կիրակոսյան!#REF!+#REF!+#REF!) -> #REF! | AJ35: =SUM('Ս. Մարդանյան'!#REF!+Ն.Բադալյան!#REF!+Ս.Մխիթարյան!#REF!+Մ.Կիրակոսյան!#REF!+#REF!+#REF!) -> #REF! | AK35: =SUM('Ս. Մարդանյան'!#REF!+Ն.Բադալյան!#REF!+Ս.Մխիթարյան!#REF!+Մ.Կիրակոսյան!#REF!+#REF!+#REF!) -> #REF! | AL35: =SUM('Ս. Մարդանյան'!#REF!+Ն.Բադալյան!#REF!+Ս.Մխիթարյան!#REF!+Մ.Կիրակոսյան!#REF!+#REF!+#REF!) -> #REF! | AM35: =SUM('Ս. Մարդանյան'!#REF!+Ն.Բադալյան!#REF!+Ս.Մխիթարյան!#REF!+Մ.Կիրակոսյան!#REF!+#REF!+#REF!) -> #REF! | AN35: =SUM('Ս. Մարդանյան'!#REF!+Ն.Բադալյան!#REF!+Ս.Մխիթարյան!#REF!+Մ.Կիրակոսյան!#REF!+#REF!+#REF!) -> #REF! | AO35: =SUM('Ս. Մարդանյան'!#REF!+Ն.Բադալյան!#REF!+Ս.Մխիթարյան!#REF!+Մ.Կիրակոսյան!#REF!+#REF!+#REF!) -> #REF!
A36: 2.6 | B36: Հակաիրավական ոտնձգություն կատարած անձին բռնելու համար անհրաժեշտ միջոցների սահմանազանցմամբ սպանությունը | C36: 160 | D36: =SUM('Ս. Մարդանյան'!D36+Ն.Բադալյան!D36+Ս.Մխիթարյան!D36+Մ.Կիրակոսյան!D36+#REF!+#REF!) -> #REF! | E36: =SUM('Ս. Մարդանյան'!E36+Ն.Բադալյան!E36+Ս.Մխիթարյան!E36+Մ.Կիրակոսյան!E36+#REF!+#REF!) -> #REF! | F36: =SUM('Ս. Մարդանյան'!F36+Ն.Բադալյան!F36+Ս.Մխիթարյան!F36+Մ.Կիրակոսյան!F36+#REF!+#REF!) -> #REF! | G36: =SUM('Ս. Մարդանյան'!G36+Ն.Բադալյան!G36+Ս.Մխիթարյան!G36+Մ.Կիրակոսյան!G36+#REF!+#REF!) -> #REF! | H36: =SUM('Ս. Մարդանյան'!H36+Ն.Բադալյան!H36+Ս.Մխիթարյան!H36+Մ.Կիրակոսյան!H36+#REF!+#REF!) -> #REF! | I36: =SUM('Ս. Մարդանյան'!I36+Ն.Բադալյան!I36+Ս.Մխիթարյան!I36+Մ.Կիրակոսյան!I36+#REF!+#REF!) -> #REF! | J36: =SUM('Ս. Մարդանյան'!J36+Ն.Բադալյան!J36+Ս.Մխիթարյան!J36+Մ.Կիրակոսյան!J36+#REF!+#REF!) -> #REF! | K36: =SUM('Ս. Մարդանյան'!K36+Ն.Բադալյան!K36+Ս.Մխիթարյան!K36+Մ.Կիրակոսյան!K36+#REF!+#REF!) -> #REF! | ... AG36: =SUM('Ս. Մարդանյան'!AG36+Ն.Բադալյան!AG36+Ս.Մխիթարյան!AG36+Մ.Կիրակոսյան!AG36+#REF!+#REF!) -> #REF! | AH36: =SUM('Ս. Մարդանյան'!#REF!+Ն.Բադալյան!#REF!+Ս.Մխիթարյան!#REF!+Մ.Կիրակոսյան!#REF!+#REF!+#REF!) -> #REF! | AI36: =SUM('Ս. Մարդանյան'!#REF!+Ն.Բադալյան!#REF!+Ս.Մխիթարյան!#REF!+Մ.Կիրակոսյան!#REF!+#REF!+#REF!) -> #REF! | AJ36: =SUM('Ս. Մարդանյան'!#REF!+Ն.Բադալյան!#REF!+Ս.Մխիթարյան!#REF!+Մ.Կիրակոսյան!#REF!+#REF!+#REF!) -> #REF! | AK36: =SUM('Ս. Մարդանյան'!#REF!+Ն.Բադալյան!#REF!+Ս.Մխիթարյան!#REF!+Մ.Կիրակոսյան!#REF!+#REF!+#REF!) -> #REF! | AL36: =SUM('Ս. Մարդանյան'!#REF!+Ն.Բադալյան!#REF!+Ս.Մխիթարյան!#REF!+Մ.Կիրակոսյան!#REF!+#REF!+#REF!) -> #REF! | AM36: =SUM('Ս. Մարդանյան'!#REF!+Ն.Բադալյան!#REF!+Ս.Մխիթարյան!#REF!+Մ.Կիրակոսյան!#REF!+#REF!+#REF!) -> #REF! | AN36: =SUM('Ս. Մարդանյան'!#REF!+Ն.Բադալյան!#REF!+Ս.Մխիթարյան!#REF!+Մ.Կիրակոսյան!#REF!+#REF!+#REF!) -> #REF! | AO36: =SUM('Ս. Մարդանյան'!#REF!+Ն.Բադալյան!#REF!+Ս.Մխիթարյան!#REF!+Մ.Կիրակոսյան!#REF!+#REF!+#REF!) -> #REF!
