Workbook

Sheet Ընդամենը
A1: Ð²ÞìºîìàôÂÚàôÜ
A2: Èàèàô Ø²ð¼Æ ÀÜ¸Ð²Üàôð Æð²ì²êàôÂÚ²Ü ²è²æÆÜ ²îÚ²ÜÆ ¸²î²ð²ÜÆ
H3: ¶àðÌàôÜºàôÂÚ²Ü ìºð²´ºðÚ²È êÜ²ÜÎàôÂÚ²Ü ¶àðÌºðՈՎ 2016թ.
A4: ìÇ×³Ï³·ñ³Ï³Ý ïáÕÇ Ñ³Ù³ñÁ | B4: êïáõ·Çã Ñ³í³ë³ñáõÙÝ»ñ` 1+7=8+16+17, 2=3+4, 2=5+6+7, 7=9+10+11+12 | E4: ²Ý³í³ñï ·áñÍ»ñÇ ÙÝ³óáñ¹Á Ñ³ßí»ïáõ Å³Ù³Ý³Ï³ßñç³ÝÇ ëÏ½µáõÙ | F4: êï³óí³Í ¹ÇÙáõÙÝ»ñÇ (·áñÍ»ñ) ù³Ý³ÏÁ | L4: öáË³Ýóí»É ¿ ³ÛÉ ¹³ï³íáñÇ (Ï³½ÙÇ ÷á÷áËáõÃÛáõÝ) | M4: ì³ñáõÛÃ ÁÝ¹áõÝí³Í ¹ÇÙáõÙÝ»ñáí Ï³Û³óí³Í ¹³ï³Ï³Ý ³Ïï»ñ | Q4: Ü»ñÏ³Û³óí»É ¿ ýÇÝ³Ýë³Ï³Ý ³éáÕç³óÙ³Ý Íñ³·Çñ | T4: ²í³ñïí»É »Ý ·áñÍ»ñ Ñ³ßí»ïáõ Å³Ù³Ý³Ï³ßñç³ÝáõÙ | U4: ²Ý³í³ñï ·áñÍ»ñÇ ÙÝ³óáñ¹Á Ñ³ßí»ïáõ Å³Ù³Ý³Ï³ßñç³ÝÇ í»ñçáõÙ | V4: ´áÕáù³ñÏí»É »Ý í»ñ³ùÝÝÇã ¹³ï³ñ³Ý
F6: ÀÝ¹³Ù»ÝÁ | G6: ³Û¹ ÃíáõÙ Ñ³ñÏ³¹ñí³Í ëÝ³ÝÏáõÃÛáõÝ | H6: ³Û¹ ÃíáõÙ Ï³Ù³íáñ ëÝ³ÝÏáõÃÛáõÝ | I6: ëï³óí³Í ¹ÇÙáõÙÝ»ñÇ ÁÝÃ³óùÁ | M6: Ï³Û³óí»É ¿ å³ñï³å³ÝÇÝ ëÝ³ÝÏ ×³Ý³ã»Éáõ Ù³ëÇÝ í×Çé | N6: å³ñï³å³ÝÇÝ ëÝ³ÝÏ ×³Ý³ã»Éáõ ¹ÇÙáõÙÁ Ù»ñÅí»É ¿ | O6: ¹ÇÙáõÙÁ ÃáÕÝí»É ¿ ³é³Ýó ùÝÝáõÃÛ³Ý | P6: ³Ý³í³ñï (³Û¹ ÃíáõÙ Ï³ë»óí³Í) | Q6: ÀÝ¹³Ù»ÝÁ | R6: ÃáÕÝí»É ¿ ³é³Ýó ùÝÝ³ñÏÙ³Ý | S6: Ñ³ëï³ïí»É ¿
I8: ¸ÇÙáõÙÇ ÁÝ¹áõÝáõÙÁ Ù»ñÅí»É ¿ | J8: ¸ÇÙáõÙÁ í»ñ³¹³ñÓí»É ¿ | K8: ÀÝ¹áõÝí»É ¿ í³ñáõÛÃ
E18: 1 | F18: 2 | G18: 3 | H18: 4 | I18: 5 | J18: 6 | K18: 7 | L18: 8 | M18: 9 | N18: 10 | O18: 11 | P18: 12 | Q18: 13 | R18: 14 | S18: 15 | T18: 16 | U18: 17 | V18: 18 | W18: 1+7=8+16+17 | Y18: 2=3+4 | AA18: 2=5+6+7 | AC18: 7=9+10+11+12
A19: 1 | B19: Æñ³í³µ³Ý³Ï³Ý ³ÝÓÇ ëÝ³ÝÏáõÃÛ³Ý í»ñ³µ»ñÛ³É | E19: =Գ.Զաքարյան!E19+Ա.Աթաբեկյան!E19 -> 122 | F19: =Գ.Զաքարյան!F19+Ա.Աթաբեկյան!F19 -> 54 | G19: =Գ.Զաքարյան!G19+Ա.Աթաբեկյան!G19 -> 52 | H19: =Գ.Զաքարյան!H19+Ա.Աթաբեկյան!H19 -> 2 | I19: =Գ.Զաքարյան!I19+Ա.Աթաբեկյան!I19 -> 0 | J19: =Գ.Զաքարյան!J19+Ա.Աթաբեկյան!J19 -> 11 | K19: =Գ.Զաքարյան!K19+Ա.Աթաբեկյան!K19 -> 43 | L19: =Գ.Զաքարյան!L19+Ա.Աթաբեկյան!L19 -> 0 | ... V19: =Գ.Զաքարյան!V19+Ա.Աթաբեկյան!V19 -> 1 | W19: =E19+K19 -> 165 | X19: =L19+T19+U19 -> 165 | Y19: =F19 -> 54 | Z19: =G19+H19 -> 54 | AA19: =F19 -> 54 | AB19: =I19+J19+K19 -> 54 | AC19: =K19 -> 43 | AD19: =M19+N19+O19+P19 -> 43
A20: 2 | B20: ²ÝÑ³ï Ó»éÝ»ñ»óÇ ëÝ³ÝÏáõÃÛ³Ý í»ñ³µ»ñÛ³É | E20: =Գ.Զաքարյան!E20+Ա.Աթաբեկյան!E20 -> 31 | F20: =Գ.Զաքարյան!F20+Ա.Աթաբեկյան!F20 -> 17 | G20: =Գ.Զաքարյան!G20+Ա.Աթաբեկյան!G20 -> 15 | H20: =Գ.Զաքարյան!H20+Ա.Աթաբեկյան!H20 -> 2 | I20: =Գ.Զաքարյան!I20+Ա.Աթաբեկյան!I20 -> 0 | J20: =Գ.Զաքարյան!J20+Ա.Աթաբեկյան!J20 -> 4 | K20: =Գ.Զաքարյան!K20+Ա.Աթաբեկյան!K20 -> 13 | L20: =Գ.Զաքարյան!L20+Ա.Աթաբեկյան!L20 -> 0 | ... V20: =Գ.Զաքարյան!V20+Ա.Աթաբեկյան!V20 -> 0 | W20: =E20+K20 -> 44 | X20: =L20+T20+U20 -> 44 | Y20: =F20 -> 17 | Z20: =G20+H20 -> 17 | AA20: =F20 -> 17 | AB20: =I20+J20+K20 -> 17 | AC20: =K20 -> 13 | AD20: =M20+N20+O20+P20 -> 13
A21: 3 | B21: üÇ½ÇÏ³Ï³Ý ³ÝÓ³Ýó ëÝ³ÝÏáõÃÛ³Ý í»ñ³µ»ñÛ³É | E21: =Գ.Զաքարյան!E21+Ա.Աթաբեկյան!E21 -> 99 | F21: =Գ.Զաքարյան!F21+Ա.Աթաբեկյան!F21 -> 66 | G21: =Գ.Զաքարյան!G21+Ա.Աթաբեկյան!G21 -> 48 | H21: =Գ.Զաքարյան!H21+Ա.Աթաբեկյան!H21 -> 18 | I21: =Գ.Զաքարյան!I21+Ա.Աթաբեկյան!I21 -> 0 | J21: =Գ.Զաքարյան!J21+Ա.Աթաբեկյան!J21 -> 13 | K21: =Գ.Զաքարյան!K21+Ա.Աթաբեկյան!K21 -> 53 | L21: =Գ.Զաքարյան!L21+Ա.Աթաբեկյան!L21 -> 4 | ... V21: =Գ.Զաքարյան!V21+Ա.Աթաբեկյան!V21 -> 5 | W21: =E21+K21 -> 152 | X21: =L21+T21+U21 -> 152 | Y21: =F21 -> 66 | Z21: =G21+H21 -> 66 | AA21: =F21 -> 66 | AB21: =I21+J21+K21 -> 66 | AC21: =K21 -> 53 | AD21: =M21+N21+O21+P21 -> 51
A22: 4 | B22: ԸՆԴՀԱՄԵՆԸ | E22: =Գ.Զաքարյան!E22+Ա.Աթաբեկյան!E22 -> 252 | F22: =Գ.Զաքարյան!F22+Ա.Աթաբեկյան!F22 -> 137 | G22: =Գ.Զաքարյան!G22+Ա.Աթաբեկյան!G22 -> 115 | H22: =Գ.Զաքարյան!H22+Ա.Աթաբեկյան!H22 -> 22 | I22: =Գ.Զաքարյան!I22+Ա.Աթաբեկյան!I22 -> 0 | J22: =Գ.Զաքարյան!J22+Ա.Աթաբեկյան!J22 -> 28 | K22: =Գ.Զաքարյան!K22+Ա.Աթաբեկյան!K22 -> 109 | L22: =Գ.Զաքարյան!L22+Ա.Աթաբեկյան!L22 -> 4 | ... V22: =Գ.Զաքարյան!V22+Ա.Աթաբեկյան!V22 -> 6 | W22: =E22+K22 -> 361 | X22: =L22+T22+U22 -> 361 | Y22: =F22 -> 137 | Z22: =G22+H22 -> 137 | AA22: =F22 -> 137 | AB22: =I22+J22+K22 -> 137 | AC22: =K22 -> 109 | AD22: =M22+N22+O22+P22 -> 107

Sheet Գ.Զաքարյան
A1: Ð²ÞìºîìàôÂÚàôÜ
A2: Èàèàô Ø²ð¼Æ ÀÜ¸Ð²Üàôð Æð²ì²êàôÂÚ²Ü ²è²æÆÜ ²îÚ²ÜÆ ¸²î²ð²ÜÆ ¸²î²ìàð
A3: ¶. ¼²ø²ðÚ²ÜÆ | H3: ¶àðÌàôÜºàôÂÚ²Ü ìºð²´ºðÚ²È êÜ²ÜÎàôÂÚ²Ü ¶àðÌºðàì | U3: 2016թ.
B4: êïáõ·Çã Ñ³í³ë³ñáõÙÝ»ñ` 1+7=8+16+17, 2=3+4, 2=5+6+7, 7=9+10+11+12 | E4: ²Ý³í³ñï ·áñÍ»ñÇ ÙÝ³óáñ¹Á Ñ³ßí»ïáõ Å³Ù³Ý³Ï³ßñç³ÝÇ ëÏ½µáõÙ | F4: êï³óí³Í ¹ÇÙáõÙÝ»ñÇ (·áñÍ»ñ) ù³Ý³ÏÁ | L4: öáË³Ýóí»É ¿ ³ÛÉ ¹³ï³íáñÇ (Ï³½ÙÇ ÷á÷áËáõÃÛáõÝ) | M4: ì³ñáõÛÃ ÁÝ¹áõÝí³Í ¹ÇÙáõÙÝ»ñáí Ï³Û³óí³Í ¹³ï³Ï³Ý ³Ïï»ñ | Q4: Ü»ñÏ³Û³óí»É ¿ ýÇÝ³Ýë³Ï³Ý ³éáÕç³óÙ³Ý Íñ³·Çñ | T4: ²í³ñïí»É »Ý ·áñÍ»ñ Ñ³ßí»ïáõ Å³Ù³Ý³Ï³ßñç³ÝáõÙ | U4: ²Ý³í³ñï ·áñÍ»ñÇ ÙÝ³óáñ¹Á Ñ³ßí»ïáõ Å³Ù³Ý³Ï³ßñç³ÝÇ í»ñçáõÙ | V4: ´áÕáù³ñÏí»É »Ý í»ñ³ùÝÝÇã ¹³ï³ñ³Ý
F6: ÀÝ¹³Ù»ÝÁ | G6: ³Û¹ ÃíáõÙ Ñ³ñÏ³¹ñí³Í ëÝ³ÝÏáõÃÛáõÝ | H6: ³Û¹ ÃíáõÙ Ï³Ù³íáñ ëÝ³ÝÏáõÃÛáõÝ | I6: ëï³óí³Í ¹ÇÙáõÙÝ»ñÇ ÁÝÃ³óùÁ | M6: Ï³Û³óí»É ¿ å³ñï³å³ÝÇÝ ëÝ³ÝÏ ×³Ý³ã»Éáõ Ù³ëÇÝ í×Çé | N6: å³ñï³å³ÝÇÝ ëÝ³ÝÏ ×³Ý³ã»Éáõ ¹ÇÙáõÙÁ Ù»ñÅí»É ¿ | O6: ¹ÇÙáõÙÁ ÃáÕÝí»É ¿ ³é³Ýó ùÝÝáõÃÛ³Ý | P6: ³Ý³í³ñï (³Û¹ ÃíáõÙ Ï³ë»óí³Í) | Q6: ÀÝ¹³Ù»ÝÁ | R6: ÃáÕÝí»É ¿ ³é³Ýó ùÝÝ³ñÏÙ³Ý | S6: Ñ³ëï³ïí»É ¿
I8: ¸ÇÙáõÙÇ ÁÝ¹áõÝáõÙÁ Ù»ñÅí»É ¿ | J8: ¸ÇÙáõÙÁ í»ñ³¹³ñÓí»É ¿ | K8: ÀÝ¹áõÝí»É ¿ í³ñáõÛÃ
E18: 1 | F18: 2 | G18: 3 | H18: 4 | I18: 5 | J18: 6 | K18: 7 | L18: 8 | M18: 9 | N18: 10 | O18: 11 | P18: 12 | Q18: 13 | R18: 14 | S18: 15 | T18: 16 | U18: 17 | V18: 18 | W18: 1+7=8+16+17 | Y18: 2=3+4 | AA18: 2=5+6+7 | AC18: 7=9+10+11+12
A19: 1 | B19: Æñ³í³µ³Ý³Ï³Ý ³ÝÓÇ ëÝ³ÝÏáõÃÛ³Ý í»ñ³µ»ñÛ³É | E19: 9 | F19: 2 | G19: 2 | K19: 2 | M19: 1 | P19: 1 | T19: 4 | U19: 7 | W19: =E19+K19 -> 11 | X19: =L19+T19+U19 -> 11 | Y19: =F19 -> 2 | Z19: =G19+H19 -> 2 | AA19: =F19 -> 2 | AB19: =I19+J19+K19 -> 2 | AC19: =K19 -> 2 | AD19: =M19+N19+O19+P19 -> 2
A20: 2 | B20: ²ÝÑ³ï Ó»éÝ»ñ»óÇ ëÝ³ÝÏáõÃÛ³Ý í»ñ³µ»ñÛ³É | E20: 4 | F20: 1 | G20: 1 | K20: 1 | P20: 1 | T20: 1 | U20: 4 | W20: =E20+K20 -> 5 | X20: =L20+T20+U20 -> 5 | Y20: =F20 -> 1 | Z20: =G20+H20 -> 1 | AA20: =F20 -> 1 | AB20: =I20+J20+K20 -> 1 | AC20: =K20 -> 1 | AD20: =M20+N20+O20+P20 -> 1
A21: 3 | B21: üÇ½ÇÏ³Ï³Ý ³ÝÓ³Ýó ëÝ³ÝÏáõÃÛ³Ý í»ñ³µ»ñÛ³É | E21: 8 | F21: 5 | G21: 5 | J21: 1 | K21: 4 | L21: 4 | M21: 3 | P21: 1 | T21: 1 | U21: 7 | W21: =E21+K21 -> 12 | X21: =L21+T21+U21 -> 12 | Y21: =F21 -> 5 | Z21: =G21+H21 -> 5 | AA21: =F21 -> 5 | AB21: =I21+J21+K21 -> 5 | AC21: =K21 -> 4 | AD21: =M21+N21+O21+P21 -> 4
A22: 4 | B22: ԸՆԴՀԱՄԵՆԸ | E22: =+E19+E20+E21 -> 21 | F22: =+F19+F20+F21 -> 8 | G22: =+G19+G20+G21 -> 8 | H22: =+H19+H20+H21 -> 0 | I22: =+I19+I20+I21 -> 0 | J22: =+J19+J20+J21 -> 1 | K22: =+K19+K20+K21 -> 7 | L22: =+L19+L20+L21 -> 4 | ... V22: =+V19+V20+V21 -> 0 | W22: =E22+K22 -> 28 | X22: =L22+T22+U22 -> 28 | Y22: =F22 -> 8 | Z22: =G22+H22 -> 8 | AA22: =F22 -> 8 | AB22: =I22+J22+K22 -> 8 | AC22: =K22 -> 7 | AD22: =M22+N22+O22+P22 -> 7

Sheet Ա.Աթաբեկյան
A1: Ð²ÞìºîìàôÂÚàôÜ
A2: Èàèàô Ø²ð¼Æ ÀÜ¸Ð²Üàôð Æð²ì²êàôÂÚ²Ü ²è²æÆÜ ²îÚ²ÜÆ ¸²î²ð²ÜÆ ¸²î²ìàð
A3: ². ²Â²´ºÎÚ²ÜÆ | H3: ¶àðÌàôÜºàôÂÚ²Ü ìºð²´ºðÚ²È êÜ²ÜÎàôÂÚ²Ü ¶àðÌºðàì | U3: 2016թ.
B4: êïáõ·Çã Ñ³í³ë³ñáõÙÝ»ñ` 1+7=8+16+17, 2=3+4, 2=5+6+7, 7=9+10+11+12 | E4: ²Ý³í³ñï ·áñÍ»ñÇ ÙÝ³óáñ¹Á Ñ³ßí»ïáõ Å³Ù³Ý³Ï³ßñç³ÝÇ ëÏ½µáõÙ | F4: êï³óí³Í ¹ÇÙáõÙÝ»ñÇ (·áñÍ»ñ) ù³Ý³ÏÁ | L4: öáË³Ýóí»É ¿ ³ÛÉ ¹³ï³íáñÇ (Ï³½ÙÇ ÷á÷áËáõÃÛáõÝ) | M4: ì³ñáõÛÃ ÁÝ¹áõÝí³Í ¹ÇÙáõÙÝ»ñáí Ï³Û³óí³Í ¹³ï³Ï³Ý ³Ïï»ñ | Q4: Ü»ñÏ³Û³óí»É ¿ ýÇÝ³Ýë³Ï³Ý ³éáÕç³óÙ³Ý Íñ³·Çñ | T4: ²í³ñïí»É »Ý ·áñÍ»ñ Ñ³ßí»ïáõ Å³Ù³Ý³Ï³ßñç³ÝáõÙ | U4: ²Ý³í³ñï ·áñÍ»ñÇ ÙÝ³óáñ¹Á Ñ³ßí»ïáõ Å³Ù³Ý³Ï³ßñç³ÝÇ í»ñçáõÙ | V4: ´áÕáù³ñÏí»É »Ý í»ñ³ùÝÝÇã ¹³ï³ñ³Ý
F6: ÀÝ¹³Ù»ÝÁ | G6: ³Û¹ ÃíáõÙ Ñ³ñÏ³¹ñí³Í ëÝ³ÝÏáõÃÛáõÝ | H6: ³Û¹ ÃíáõÙ Ï³Ù³íáñ ëÝ³ÝÏáõÃÛáõÝ | I6: ëï³óí³Í ¹ÇÙáõÙÝ»ñÇ ÁÝÃ³óùÁ | M6: Ï³Û³óí»É ¿ å³ñï³å³ÝÇÝ ëÝ³ÝÏ ×³Ý³ã»Éáõ Ù³ëÇÝ í×Çé | N6: å³ñï³å³ÝÇÝ ëÝ³ÝÏ ×³Ý³ã»Éáõ ¹ÇÙáõÙÁ Ù»ñÅí»É ¿ | O6: ¹ÇÙáõÙÁ ÃáÕÝí»É ¿ ³é³Ýó ùÝÝáõÃÛ³Ý | P6: ³Ý³í³ñï (³Û¹ ÃíáõÙ Ï³ë»óí³Í) | Q6: ÀÝ¹³Ù»ÝÁ | R6: ÃáÕÝí»É ¿ ³é³Ýó ùÝÝ³ñÏÙ³Ý | S6: Ñ³ëï³ïí»É ¿
I8: ¸ÇÙáõÙÇ ÁÝ¹áõÝáõÙÁ Ù»ñÅí»É ¿ | J8: ¸ÇÙáõÙÁ í»ñ³¹³ñÓí»É ¿ | K8: ÀÝ¹áõÝí»É ¿ í³ñáõÛÃ
E18: 1 | F18: 2 | G18: 3 | H18: 4 | I18: 5 | J18: 6 | K18: 7 | L18: 8 | M18: 9 | N18: 10 | O18: 11 | P18: 12 | Q18: 13 | R18: 14 | S18: 15 | T18: 16 | U18: 17 | V18: 18 | W18: 1+7=8+16+17 | Y18: 2=3+4 | AA18: 2=5+6+7 | AC18: 7=9+10+11+12
A19: 1 | B19: Æñ³í³µ³Ý³Ï³Ý ³ÝÓÇ ëÝ³ÝÏáõÃÛ³Ý í»ñ³µ»ñÛ³É | E19: 113 | F19: =+G19+H19 -> 52 | G19: 50 | H19: 2 | J19: 11 | K19: 41 | M19: 25 | P19: 16 | T19: 9 | U19: 145 | V19: 1 | W19: =E19+K19 -> 154 | X19: =L19+T19+U19 -> 154 | Y19: =F19 -> 52 | Z19: =G19+H19 -> 52 | AA19: =F19 -> 52 | AB19: =I19+J19+K19 -> 52 | AC19: =K19 -> 41 | AD19: =M19+N19+O19+P19 -> 41
A20: 2 | B20: ²ÝÑ³ï Ó»éÝ»ñ»óÇ ëÝ³ÝÏáõÃÛ³Ý í»ñ³µ»ñÛ³É | E20: 27 | F20: =+G20+H20 -> 16 | G20: 14 | H20: 2 | J20: 4 | K20: 12 | M20: 9 | P20: 3 | Q20: 2 | S20: 2 | T20: 3 | U20: 36 | W20: =E20+K20 -> 39 | X20: =L20+T20+U20 -> 39 | Y20: =F20 -> 16 | Z20: =G20+H20 -> 16 | AA20: =F20 -> 16 | AB20: =I20+J20+K20 -> 16 | AC20: =K20 -> 12 | AD20: =M20+N20+O20+P20 -> 12
A21: 3 | B21: üÇ½ÇÏ³Ï³Ý ³ÝÓ³Ýó ëÝ³ÝÏáõÃÛ³Ý í»ñ³µ»ñÛ³É | E21: 91 | F21: 61 | G21: 43 | H21: 18 | J21: 12 | K21: 49 | M21: 32 | N21: 1 | P21: 14 | Q21: 1 | S21: 1 | T21: 14 | U21: 126 | V21: 5 | W21: =E21+K21 -> 140 | X21: =L21+T21+U21 -> 140 | Y21: =F21 -> 61 | Z21: =G21+H21 -> 61 | AA21: =F21 -> 61 | AB21: =I21+J21+K21 -> 61 | AC21: =K21 -> 49 | AD21: =M21+N21+O21+P21 -> 47
A22: 4 | B22: ԸՆԴՀԱՄԵՆԸ | E22: =+E21+E20+E19 -> 231 | F22: =+F21+F20+F19 -> 129 | G22: =+G21+G20+G19 -> 107 | H22: =+H21+H20+H19 -> 22 | I22: =+I21+I20+I19 -> 0 | J22: =+J21+J20+J19 -> 27 | K22: =+K21+K20+K19 -> 102 | L22: =+L21+L20+L19 -> 0 | ... V22: =+V21+V20+V19 -> 6 | W22: =E22+K22 -> 333 | X22: =L22+T22+U22 -> 333 | Y22: =F22 -> 129 | Z22: =G22+H22 -> 129 | AA22: =F22 -> 129 | AB22: =I22+J22+K22 -> 129 | AC22: =K22 -> 102 | AD22: =M22+N22+O22+P22 -> 100
B26: Թվով 2 գործ կարճվել է
