Workbook

Sheet Ընդհամենը
A1: 2016Ã. Տարի | D1: Ð²ÞìºîìàôÂÚàôÜ | P1: Ï³½Ùí³Í` ÐÐ Ï³é³í³ñáõÃÛ³Ý 19.03.2015Ã. ÃÇí 306-Ü áñáßÙ³Ý ÑÇÙ³Ý íñ³
A2: ØÇÝã¹³ï³Ï³Ý í³ñáõÛÃÇ ÝÏ³ïÙ³Ùµ ¹³ï³Ï³Ý í»ñ³ÑëÏáÕáõÃÛ³ÝÁ, ¹³ï³Ï³Ý ³Ïï»ñÇ ¨ ¹³ï³Ï³Ý Ñ³ÝÓÝ³ñ³ñáõÃÛáõÝÝ»ñÇ Ï³ï³ñÙ³ÝÁ Ñ»ï Ï³åí³Í ÙÇçÝáñ¹áõÃÛáõÝÝ»ñÇ í»ñ³µ»ñÛ³É ¹³ï³Ï³Ý ·áñÍ»ñáí ÐÐ ¶»Õ³ñùáõÝÇùÇ Ù³ñ½Ç ÁÝ¹Ñ³Ýáõñ Çñ³í³ëáõÃÛ³Ý ³é³çÇÝ ³ïÛ³ÝÇ ¹³ï³ñ³ÝÇ ·áñÍáõÝ»áõÃÛ³Ý í»ñ³µ»ñÛ³É
A3: êïáõ·Çã Ñ³í³ë³ñáõÙ` 1+2=3+8+9, 8=4+5+6+7, | D3: Ð³ßí»ïáõ Å³Ù³Ý³Ï³Ñ³ïí³ÍÇ ëÏ½µáõÙ Ý³Ëáñ¹ Ñ³ßí»ïáõ Å³Ù³Ý³Ï³Ñ³ïí³ÍÇó ÷áË³Ýóí³Í ·áñÍ»ñÇ ÁÝ¹Ñ³Ýáõñ ÃÇíÁ | E3: Ð³ßí»ïáõ Å³Ù³Ý³Ï³Ñ³ïí³ÍáõÙ ëï³óí³Í ·áñÍ»ñÇ ÁÝ¹Ñ³Ýáõñ ÃÇíÁ | F3: öáË³Ýóí»É ¿ ³ÛÉ ¹³ï³íáñÇ Ï³Ù ³ÛÉ ¹³ï³ñ³Ý (Ï³½ÙÇ ÷á÷áËáõÃÛáõÝ, ÁÝ¹¹³ïáõÃÛáõÝ) | G3: Ð³ßí»ïáõ Å³Ù³Ý³Ï³Ñ³ïí³ÍáõÙ ³í³ñïí³Í ·áñÍ»ñÇ ÁÝ¹Ñ³Ýáõñ ÃÇíÁ | L3: Ð³ßí»ïáõ Å³Ù³Ý³Ï³Ñ³ïí³ÍáõÙ ³Ý³í³ñï ·áñÍ»ñÇ ÁÝ¹Ñ³Ýáõñ ÃÇíÁ | M3: ØÇçÝáñ¹áõÃÛáõÝÝ»ñáí Ï³Û³óí³Í ¹³ï³Ï³Ý ³Ïï»ñÇó µáÕáù³ñÏí³ÍÝ»ñÇ ù³Ý³ÏÁ | O3: ²Ý³í³ñï µáÕáùÝ»ñ | P3: ØÇçÝáñ¹áõÃÛáõÝÝ»ñáí Ï³Û³óí³Í ¨ µáÕáù³ñÏí³Í ¹³ï³Ï³Ý ³Ïï»ñÇó µ»Ï³Ýí³ÍÝ»ñÇ ù³Ý³ÏÁ | R3: ÙÇçÝáñ¹áõÃÛáõÝÝ»ñáí Ï³Û³óí³Í ¨ µáÕáù³ñÏí³Í ¹³ï³Ï³Ý ³Ïï»ñÇó ³Ý÷á÷áË ÃáÕÝí³ÍÝ»ñÇ ù³Ý³ÏÁ
G4: Ù»ñÅí»É ¿ | H4: µ³í³ñ³ñí»É ¿ | I4: µ³í³ñ³ñí»É ¿ Ù³ëÝ³ÏÇ | J4: ÃáÕÝí»É ¿ ³é³Ýó ùÝÝáõÃÛ³Ý | K4: ÀÝ¹³Ù»ÝÁ
M5: Ý³Ëáñ¹ ï³ñÇÝ»ñÇÝ Ï³Û³óí³Í ³Ïï»ñÇ ¹»Ù | N5: Ñ³ßí»ïáõ Å³Ù³Ý³Ï³ßñç³ÝáõÙ Ï³Û³óí³Í ³Ïï»ñÇ ¹»Ù | P5: Ý³Ëáñ¹ ï³ñÇÝ»ñÇÝ Ï³Û³óí³Í ³Ïï»ñÇ µ»Ï³ÝáõÙÝ»ñÁ | Q5: Ñ³ßí»ïáõ Å³Ù³Ý³Ï³ßñç³ÝáõÙ Ï³Û³óí³Í ³Ïï»ñÇ µ»Ï³ÝáõÙÝ»ñÁ
A6: 1. ØÇÝã¹³ï³Ï³Ý í³ñáõÛÃÇ ÝÏ³ïÙ³Ùµ ¹³ï³Ï³Ý í»ñ³ÑëÏáÕáõÃÛ³Ý áÉáñï | D6: 1 | E6: 2 | F6: 3 | G6: 4 | H6: 5 | I6: 6 | J6: 7 | K6: 8 | L6: 9 | M6: 10 | N6: 11 | O6: 12 | P6: 13 | Q6: 14 | R6: 15 | T6: 1+2=3+8+9 | V6: 8=4+5+6+7
A7: 1 | B7: Ï³É³ÝùÁ áñå»ë Ë³÷³ÝÙ³Ý ÙÇçáó ÏÇñ³é»Éáõ Ù³ëÇÝ ÙÇçÝáñ¹áõÃÛáõÝÝ»ñ | D7: ='Ա. Պետրոսյան'!D7+'Յու. Իսկոյան '!D7+'Վ. Հարությունյան'!D7+'Մ. Հարությունյան'!D7+Վ.Մելիքյան!D7+'Ա. Թամրազյան'!D7+Վ.Վարդանյան!D7 -> 0 | E7: ='Ա. Պետրոսյան'!E7+'Յու. Իսկոյան '!E7+'Վ. Հարությունյան'!E7+'Մ. Հարությունյան'!E7+Վ.Մելիքյան!E7+'Ա. Թամրազյան'!E7+Վ.Վարդանյան!E7 -> 93 | F7: ='Ա. Պետրոսյան'!F7+'Յու. Իսկոյան '!F7+'Վ. Հարությունյան'!F7+'Մ. Հարությունյան'!F7+Վ.Մելիքյան!F7+'Ա. Թամրազյան'!F7+Վ.Վարդանյան!F7 -> 0 | G7: ='Ա. Պետրոսյան'!G7+'Յու. Իսկոյան '!G7+'Վ. Հարությունյան'!G7+'Մ. Հարությունյան'!G7+Վ.Մելիքյան!G7+'Ա. Թամրազյան'!G7+Վ.Վարդանյան!G7 -> 2 | H7: ='Ա. Պետրոսյան'!H7+'Յու. Իսկոյան '!H7+'Վ. Հարությունյան'!H7+'Մ. Հարությունյան'!H7+Վ.Մելիքյան!H7+'Ա. Թամրազյան'!H7+Վ.Վարդանյան!H7 -> 91 | I7: ='Ա. Պետրոսյան'!I7+'Յու. Իսկոյան '!I7+'Վ. Հարությունյան'!I7+'Մ. Հարությունյան'!I7+Վ.Մելիքյան!I7+'Ա. Թամրազյան'!I7+Վ.Վարդանյան!I7 -> 0 | J7: ='Ա. Պետրոսյան'!J7+'Յու. Իսկոյան '!J7+'Վ. Հարությունյան'!J7+'Մ. Հարությունյան'!J7+Վ.Մելիքյան!J7+'Ա. Թամրազյան'!J7+Վ.Վարդանյան!J7 -> 0 | K7: ='Ա. Պետրոսյան'!K7+'Յու. Իսկոյան '!K7+'Վ. Հարությունյան'!K7+'Մ. Հարությունյան'!K7+Վ.Մելիքյան!K7+'Ա. Թամրազյան'!K7+Վ.Վարդանյան!K7 -> 93 | ... R7: ='Ա. Պետրոսյան'!R7+'Յու. Իսկոյան '!R7+'Վ. Հարությունյան'!R7+'Մ. Հարությունյան'!R7+Վ.Մելիքյան!R7+'Ա. Թամրազյան'!R7+Վ.Վարդանյան!R7 -> 4 | S7: ='Ա. Պետրոսյան'!#REF!+'Յու. Իսկոյան '!#REF!+'Վ. Հարությունյան'!#REF!+'Մ. Հարությունյան'!#REF!+Վ.Մելիքյան!#REF!+'Ա. Թամրազյան'!#REF!+Վ.Վարդանյան!#REF!+#REF! -> #REF! | T7: =D7+E7 -> 93 | U7: =F7+K7+L7 -> 93 | V7: =K7 -> 93 | W7: =G7+H7+I7+J7 -> 93
A8: 2 | B8: Ï³É³ÝùÇ Å³ÙÏ»ïÁ »ñÏ³ñ³óÝ»Éáõ Ù³ëÇÝ ÙÇçÝáñ¹áõÃÛáõÝÝ»ñ | D8: ='Ա. Պետրոսյան'!D8+'Յու. Իսկոյան '!D8+'Վ. Հարությունյան'!D8+'Մ. Հարությունյան'!D8+Վ.Մելիքյան!D8+'Ա. Թամրազյան'!D8+Վ.Վարդանյան!D8 -> 0 | E8: ='Ա. Պետրոսյան'!E8+'Յու. Իսկոյան '!E8+'Վ. Հարությունյան'!E8+'Մ. Հարությունյան'!E8+Վ.Մելիքյան!E8+'Ա. Թամրազյան'!E8+Վ.Վարդանյան!E8 -> 65 | F8: ='Ա. Պետրոսյան'!F8+'Յու. Իսկոյան '!F8+'Վ. Հարությունյան'!F8+'Մ. Հարությունյան'!F8+Վ.Մելիքյան!F8+'Ա. Թամրազյան'!F8+Վ.Վարդանյան!F8 -> 0 | G8: ='Ա. Պետրոսյան'!G8+'Յու. Իսկոյան '!G8+'Վ. Հարությունյան'!G8+'Մ. Հարությունյան'!G8+Վ.Մելիքյան!G8+'Ա. Թամրազյան'!G8+Վ.Վարդանյան!G8 -> 2 | H8: ='Ա. Պետրոսյան'!H8+'Յու. Իսկոյան '!H8+'Վ. Հարությունյան'!H8+'Մ. Հարությունյան'!H8+Վ.Մելիքյան!H8+'Ա. Թամրազյան'!H8+Վ.Վարդանյան!H8 -> 56 | I8: ='Ա. Պետրոսյան'!I8+'Յու. Իսկոյան '!I8+'Վ. Հարությունյան'!I8+'Մ. Հարությունյան'!I8+Վ.Մելիքյան!I8+'Ա. Թամրազյան'!I8+Վ.Վարդանյան!I8 -> 6 | J8: ='Ա. Պետրոսյան'!J8+'Յու. Իսկոյան '!J8+'Վ. Հարությունյան'!J8+'Մ. Հարությունյան'!J8+Վ.Մելիքյան!J8+'Ա. Թամրազյան'!J8+Վ.Վարդանյան!J8 -> 1 | K8: ='Ա. Պետրոսյան'!K8+'Յու. Իսկոյան '!K8+'Վ. Հարությունյան'!K8+'Մ. Հարությունյան'!K8+Վ.Մելիքյան!K8+'Ա. Թամրազյան'!K8+Վ.Վարդանյան!K8 -> 65 | ... R8: ='Ա. Պետրոսյան'!R8+'Յու. Իսկոյան '!R8+'Վ. Հարությունյան'!R8+'Մ. Հարությունյան'!R8+Վ.Մելիքյան!R8+'Ա. Թամրազյան'!R8+Վ.Վարդանյան!R8 -> 6 | S8: ='Ա. Պետրոսյան'!#REF!+'Յու. Իսկոյան '!#REF!+'Վ. Հարությունյան'!#REF!+'Մ. Հարությունյան'!#REF!+Վ.Մելիքյան!#REF!+'Ա. Թամրազյան'!#REF!+Վ.Վարդանյան!#REF!+#REF! -> #REF! | T8: =D8+E8 -> 65 | U8: =F8+K8+L8 -> 65 | V8: =K8 -> 65 | W8: =G8+H8+I8+J8 -> 65
A9: 3 | B9: Ï³É³ÝùÇ í»ñ³Ñ³ëï³ïÙ³Ý Ù³ëÇÝ ÙÇçÝáñ¹áõÃÛáõÝÝ»ñ | D9: ='Ա. Պետրոսյան'!D9+'Յու. Իսկոյան '!D9+'Վ. Հարությունյան'!D9+'Մ. Հարությունյան'!D9+Վ.Մելիքյան!D9+'Ա. Թամրազյան'!D9+Վ.Վարդանյան!D9 -> 0 | E9: ='Ա. Պետրոսյան'!E9+'Յու. Իսկոյան '!E9+'Վ. Հարությունյան'!E9+'Մ. Հարությունյան'!E9+Վ.Մելիքյան!E9+'Ա. Թամրազյան'!E9+Վ.Վարդանյան!E9 -> 12 | F9: ='Ա. Պետրոսյան'!F9+'Յու. Իսկոյան '!F9+'Վ. Հարությունյան'!F9+'Մ. Հարությունյան'!F9+Վ.Մելիքյան!F9+'Ա. Թամրազյան'!F9+Վ.Վարդանյան!F9 -> 0 | G9: ='Ա. Պետրոսյան'!G9+'Յու. Իսկոյան '!G9+'Վ. Հարությունյան'!G9+'Մ. Հարությունյան'!G9+Վ.Մելիքյան!G9+'Ա. Թամրազյան'!G9+Վ.Վարդանյան!G9 -> 0 | H9: ='Ա. Պետրոսյան'!H9+'Յու. Իսկոյան '!H9+'Վ. Հարությունյան'!H9+'Մ. Հարությունյան'!H9+Վ.Մելիքյան!H9+'Ա. Թամրազյան'!H9+Վ.Վարդանյան!H9 -> 12 | I9: ='Ա. Պետրոսյան'!I9+'Յու. Իսկոյան '!I9+'Վ. Հարությունյան'!I9+'Մ. Հարությունյան'!I9+Վ.Մելիքյան!I9+'Ա. Թամրազյան'!I9+Վ.Վարդանյան!I9 -> 0 | J9: ='Ա. Պետրոսյան'!J9+'Յու. Իսկոյան '!J9+'Վ. Հարությունյան'!J9+'Մ. Հարությունյան'!J9+Վ.Մելիքյան!J9+'Ա. Թամրազյան'!J9+Վ.Վարդանյան!J9 -> 0 | K9: ='Ա. Պետրոսյան'!K9+'Յու. Իսկոյան '!K9+'Վ. Հարությունյան'!K9+'Մ. Հարությունյան'!K9+Վ.Մելիքյան!K9+'Ա. Թամրազյան'!K9+Վ.Վարդանյան!K9 -> 12 | ... R9: ='Ա. Պետրոսյան'!R9+'Յու. Իսկոյան '!R9+'Վ. Հարությունյան'!R9+'Մ. Հարությունյան'!R9+Վ.Մելիքյան!R9+'Ա. Թամրազյան'!R9+Վ.Վարդանյան!R9 -> 0 | S9: ='Ա. Պետրոսյան'!#REF!+'Յու. Իսկոյան '!#REF!+'Վ. Հարությունյան'!#REF!+'Մ. Հարությունյան'!#REF!+Վ.Մելիքյան!#REF!+'Ա. Թամրազյան'!#REF!+Վ.Վարդանյան!#REF!+#REF! -> #REF! | T9: =D9+E9 -> 12 | U9: =F9+K9+L9 -> 12 | V9: =K9 -> 12 | W9: =G9+H9+I9+J9 -> 12
A10: 4 | B10: ·ñ³íÁ áñå»ë Ï³É³Ý³íáñÙ³Ý ³ÛÉÁÝïñ³Ýù³ÛÇÝ Ë³÷³ÝÙ³Ý ÙÇçáó ÏÇñ³é»Éáõ Ù³ëÇÝ ÙÇçÝáñ¹áõÃÛáõÝÝ»ñ | D10: ='Ա. Պետրոսյան'!D10+'Յու. Իսկոյան '!D10+'Վ. Հարությունյան'!D10+'Մ. Հարությունյան'!D10+Վ.Մելիքյան!D10+'Ա. Թամրազյան'!D10+Վ.Վարդանյան!D10 -> 0 | E10: ='Ա. Պետրոսյան'!E10+'Յու. Իսկոյան '!E10+'Վ. Հարությունյան'!E10+'Մ. Հարությունյան'!E10+Վ.Մելիքյան!E10+'Ա. Թամրազյան'!E10+Վ.Վարդանյան!E10 -> 50 | F10: ='Ա. Պետրոսյան'!F10+'Յու. Իսկոյան '!F10+'Վ. Հարությունյան'!F10+'Մ. Հարությունյան'!F10+Վ.Մելիքյան!F10+'Ա. Թամրազյան'!F10+Վ.Վարդանյան!F10 -> 0 | G10: ='Ա. Պետրոսյան'!G10+'Յու. Իսկոյան '!G10+'Վ. Հարությունյան'!G10+'Մ. Հարությունյան'!G10+Վ.Մելիքյան!G10+'Ա. Թամրազյան'!G10+Վ.Վարդանյան!G10 -> 43 | H10: ='Ա. Պետրոսյան'!H10+'Յու. Իսկոյան '!H10+'Վ. Հարությունյան'!H10+'Մ. Հարությունյան'!H10+Վ.Մելիքյան!H10+'Ա. Թամրազյան'!H10+Վ.Վարդանյան!H10 -> 6 | I10: ='Ա. Պետրոսյան'!I10+'Յու. Իսկոյան '!I10+'Վ. Հարությունյան'!I10+'Մ. Հարությունյան'!I10+Վ.Մելիքյան!I10+'Ա. Թամրազյան'!I10+Վ.Վարդանյան!I10 -> 0 | J10: ='Ա. Պետրոսյան'!J10+'Յու. Իսկոյան '!J10+'Վ. Հարությունյան'!J10+'Մ. Հարությունյան'!J10+Վ.Մելիքյան!J10+'Ա. Թամրազյան'!J10+Վ.Վարդանյան!J10 -> 1 | K10: ='Ա. Պետրոսյան'!K10+'Յու. Իսկոյան '!K10+'Վ. Հարությունյան'!K10+'Մ. Հարությունյան'!K10+Վ.Մելիքյան!K10+'Ա. Թամրազյան'!K10+Վ.Վարդանյան!K10 -> 50 | ... R10: ='Ա. Պետրոսյան'!R10+'Յու. Իսկոյան '!R10+'Վ. Հարությունյան'!R10+'Մ. Հարությունյան'!R10+Վ.Մելիքյան!R10+'Ա. Թամրազյան'!R10+Վ.Վարդանյան!R10 -> 4 | S10: ='Ա. Պետրոսյան'!#REF!+'Յու. Իսկոյան '!#REF!+'Վ. Հարությունյան'!#REF!+'Մ. Հարությունյան'!#REF!+Վ.Մելիքյան!#REF!+'Ա. Թամրազյան'!#REF!+Վ.Վարդանյան!#REF!+#REF! -> #REF! | T10: =D10+E10 -> 50 | U10: =F10+K10+L10 -> 50 | V10: =K10 -> 50 | W10: =G10+H10+I10+J10 -> 50
A11: 5 | B11: Ëáõ½³ñÏáõÃÛ³Ý Ï³ï³ñÙ³Ý Ù³ëÇÝ ÙÇçÝáñ¹áõÃÛáõÝÝ»ñ | D11: ='Ա. Պետրոսյան'!D11+'Յու. Իսկոյան '!D11+'Վ. Հարությունյան'!D11+'Մ. Հարությունյան'!D11+Վ.Մելիքյան!D11+'Ա. Թամրազյան'!D11+Վ.Վարդանյան!D11 -> 0 | E11: ='Ա. Պետրոսյան'!E11+'Յու. Իսկոյան '!E11+'Վ. Հարությունյան'!E11+'Մ. Հարությունյան'!E11+Վ.Մելիքյան!E11+'Ա. Թամրազյան'!E11+Վ.Վարդանյան!E11 -> 230 | F11: ='Ա. Պետրոսյան'!F11+'Յու. Իսկոյան '!F11+'Վ. Հարությունյան'!F11+'Մ. Հարությունյան'!F11+Վ.Մելիքյան!F11+'Ա. Թամրազյան'!F11+Վ.Վարդանյան!F11 -> 0 | G11: ='Ա. Պետրոսյան'!G11+'Յու. Իսկոյան '!G11+'Վ. Հարությունյան'!G11+'Մ. Հարությունյան'!G11+Վ.Մելիքյան!G11+'Ա. Թամրազյան'!G11+Վ.Վարդանյան!G11 -> 19 | H11: ='Ա. Պետրոսյան'!H11+'Յու. Իսկոյան '!H11+'Վ. Հարությունյան'!H11+'Մ. Հարությունյան'!H11+Վ.Մելիքյան!H11+'Ա. Թամրազյան'!H11+Վ.Վարդանյան!H11 -> 211 | I11: ='Ա. Պետրոսյան'!I11+'Յու. Իսկոյան '!I11+'Վ. Հարությունյան'!I11+'Մ. Հարությունյան'!I11+Վ.Մելիքյան!I11+'Ա. Թամրազյան'!I11+Վ.Վարդանյան!I11 -> 0 | J11: ='Ա. Պետրոսյան'!J11+'Յու. Իսկոյան '!J11+'Վ. Հարությունյան'!J11+'Մ. Հարությունյան'!J11+Վ.Մելիքյան!J11+'Ա. Թամրազյան'!J11+Վ.Վարդանյան!J11 -> 0 | K11: ='Ա. Պետրոսյան'!K11+'Յու. Իսկոյան '!K11+'Վ. Հարությունյան'!K11+'Մ. Հարությունյան'!K11+Վ.Մելիքյան!K11+'Ա. Թամրազյան'!K11+Վ.Վարդանյան!K11 -> 230 | ... R11: ='Ա. Պետրոսյան'!R11+'Յու. Իսկոյան '!R11+'Վ. Հարությունյան'!R11+'Մ. Հարությունյան'!R11+Վ.Մելիքյան!R11+'Ա. Թամրազյան'!R11+Վ.Վարդանյան!R11 -> 2 | S11: ='Ա. Պետրոսյան'!#REF!+'Յու. Իսկոյան '!#REF!+'Վ. Հարությունյան'!#REF!+'Մ. Հարությունյան'!#REF!+Վ.Մելիքյան!#REF!+'Ա. Թամրազյան'!#REF!+Վ.Վարդանյան!#REF!+#REF! -> #REF! | T11: =D11+E11 -> 230 | U11: =F11+K11+L11 -> 230 | V11: =K11 -> 230 | W11: =G11+H11+I11+J11 -> 230
A12: 6 | B12: µ³ÝÏ³ÛÇÝ, ³å³Ñáí³·ñ³Ï³Ý, Ýáï³ñ³Ï³Ý ·³ÕïÝÇù Ï³½ÙáÕ ï»Õ»ÏáõÃÛáõÝÝ»ñÇ ëï³óÙ³Ý Ñ³Ù³ñ Ëáõ½³ñÏáõÃÛ³Ý Ï³Ù ³é·ñ³íÙ³Ý Ï³ï³ñÙ³Ý Ù³ëÇÝ ÙÇçÝáñ¹áõÃÛáõÝÝ»ñ | D12: ='Ա. Պետրոսյան'!D12+'Յու. Իսկոյան '!D12+'Վ. Հարությունյան'!D12+'Մ. Հարությունյան'!D12+Վ.Մելիքյան!D12+'Ա. Թամրազյան'!D12+Վ.Վարդանյան!D12 -> 0 | E12: ='Ա. Պետրոսյան'!E12+'Յու. Իսկոյան '!E12+'Վ. Հարությունյան'!E12+'Մ. Հարությունյան'!E12+Վ.Մելիքյան!E12+'Ա. Թամրազյան'!E12+Վ.Վարդանյան!E12 -> 5 | F12: ='Ա. Պետրոսյան'!F12+'Յու. Իսկոյան '!F12+'Վ. Հարությունյան'!F12+'Մ. Հարությունյան'!F12+Վ.Մելիքյան!F12+'Ա. Թամրազյան'!F12+Վ.Վարդանյան!F12 -> 0 | G12: ='Ա. Պետրոսյան'!G12+'Յու. Իսկոյան '!G12+'Վ. Հարությունյան'!G12+'Մ. Հարությունյան'!G12+Վ.Մելիքյան!G12+'Ա. Թամրազյան'!G12+Վ.Վարդանյան!G12 -> 0 | H12: ='Ա. Պետրոսյան'!H12+'Յու. Իսկոյան '!H12+'Վ. Հարությունյան'!H12+'Մ. Հարությունյան'!H12+Վ.Մելիքյան!H12+'Ա. Թամրազյան'!H12+Վ.Վարդանյան!H12 -> 5 | I12: ='Ա. Պետրոսյան'!I12+'Յու. Իսկոյան '!I12+'Վ. Հարությունյան'!I12+'Մ. Հարությունյան'!I12+Վ.Մելիքյան!I12+'Ա. Թամրազյան'!I12+Վ.Վարդանյան!I12 -> 0 | J12: ='Ա. Պետրոսյան'!J12+'Յու. Իսկոյան '!J12+'Վ. Հարությունյան'!J12+'Մ. Հարությունյան'!J12+Վ.Մելիքյան!J12+'Ա. Թամրազյան'!J12+Վ.Վարդանյան!J12 -> 0 | K12: ='Ա. Պետրոսյան'!K12+'Յու. Իսկոյան '!K12+'Վ. Հարությունյան'!K12+'Մ. Հարությունյան'!K12+Վ.Մելիքյան!K12+'Ա. Թամրազյան'!K12+Վ.Վարդանյան!K12 -> 5 | ... R12: ='Ա. Պետրոսյան'!R12+'Յու. Իսկոյան '!R12+'Վ. Հարությունյան'!R12+'Մ. Հարությունյան'!R12+Վ.Մելիքյան!R12+'Ա. Թամրազյան'!R12+Վ.Վարդանյան!R12 -> 0 | S12: ='Ա. Պետրոսյան'!#REF!+'Յու. Իսկոյան '!#REF!+'Վ. Հարությունյան'!#REF!+'Մ. Հարությունյան'!#REF!+Վ.Մելիքյան!#REF!+'Ա. Թամրազյան'!#REF!+Վ.Վարդանյան!#REF!+#REF! -> #REF! | T12: =D12+E12 -> 5 | U12: =F12+K12+L12 -> 5 | V12: =K12 -> 5 | W12: =G12+H12+I12+J12 -> 5
A13: 7 | B13: Ý³Ù³Ï³·ñáõÃÛ³Ý, Ñ»é³·ñ³Ï³Ý, ÷áuï³ÛÇÝ Ñ³Õáñ¹áõÙÝ»ñÇ ÑëÏáÕáõÃÛ³Ý Ù³ëÇÝ ÙÇçÝáñ¹áõÃÛáõÝÝ»ñ | D13: ='Ա. Պետրոսյան'!D13+'Յու. Իսկոյան '!D13+'Վ. Հարությունյան'!D13+'Մ. Հարությունյան'!D13+Վ.Մելիքյան!D13+'Ա. Թամրազյան'!D13+Վ.Վարդանյան!D13 -> 0 | E13: ='Ա. Պետրոսյան'!E13+'Յու. Իսկոյան '!E13+'Վ. Հարությունյան'!E13+'Մ. Հարությունյան'!E13+Վ.Մելիքյան!E13+'Ա. Թամրազյան'!E13+Վ.Վարդանյան!E13 -> 0 | F13: ='Ա. Պետրոսյան'!F13+'Յու. Իսկոյան '!F13+'Վ. Հարությունյան'!F13+'Մ. Հարությունյան'!F13+Վ.Մելիքյան!F13+'Ա. Թամրազյան'!F13+Վ.Վարդանյան!F13 -> 0 | G13: ='Ա. Պետրոսյան'!G13+'Յու. Իսկոյան '!G13+'Վ. Հարությունյան'!G13+'Մ. Հարությունյան'!G13+Վ.Մելիքյան!G13+'Ա. Թամրազյան'!G13+Վ.Վարդանյան!G13 -> 0 | H13: ='Ա. Պետրոսյան'!H13+'Յու. Իսկոյան '!H13+'Վ. Հարությունյան'!H13+'Մ. Հարությունյան'!H13+Վ.Մելիքյան!H13+'Ա. Թամրազյան'!H13+Վ.Վարդանյան!H13 -> 0 | I13: ='Ա. Պետրոսյան'!I13+'Յու. Իսկոյան '!I13+'Վ. Հարությունյան'!I13+'Մ. Հարությունյան'!I13+Վ.Մելիքյան!I13+'Ա. Թամրազյան'!I13+Վ.Վարդանյան!I13 -> 0 | J13: ='Ա. Պետրոսյան'!J13+'Յու. Իսկոյան '!J13+'Վ. Հարությունյան'!J13+'Մ. Հարությունյան'!J13+Վ.Մելիքյան!J13+'Ա. Թամրազյան'!J13+Վ.Վարդանյան!J13 -> 0 | K13: ='Ա. Պետրոսյան'!K13+'Յու. Իսկոյան '!K13+'Վ. Հարությունյան'!K13+'Մ. Հարությունյան'!K13+Վ.Մելիքյան!K13+'Ա. Թամրազյան'!K13+Վ.Վարդանյան!K13 -> 0 | ... R13: ='Ա. Պետրոսյան'!R13+'Յու. Իսկոյան '!R13+'Վ. Հարությունյան'!R13+'Մ. Հարությունյան'!R13+Վ.Մելիքյան!R13+'Ա. Թամրազյան'!R13+Վ.Վարդանյան!R13 -> 0 | S13: ='Ա. Պետրոսյան'!#REF!+'Յու. Իսկոյան '!#REF!+'Վ. Հարությունյան'!#REF!+'Մ. Հարությունյան'!#REF!+Վ.Մելիքյան!#REF!+'Ա. Թամրազյան'!#REF!+Վ.Վարդանյան!#REF!+#REF! -> #REF! | T13: =D13+E13 -> 0 | U13: =F13+K13+L13 -> 0 | V13: =K13 -> 0 | W13: =G13+H13+I13+J13 -> 0
A14: 8 | B14: Ñ»é³Ëáu³ÛÇÝ Ï³Ù Ï³åÇ ³ÛÉ ÙÇçáóÝ»ñáí ï³ñíáÕ Ëáu³ÏóáõÃÛáõÝÝ»ñÇ ÉuÙ³Ý ¨ Ó³ÛÝ³·ñ³éÙ³Ý Ù³ëÇÝ ÙÇçÝáñ¹áõÃÛáõÝÝ»ñ | D14: ='Ա. Պետրոսյան'!D14+'Յու. Իսկոյան '!D14+'Վ. Հարությունյան'!D14+'Մ. Հարությունյան'!D14+Վ.Մելիքյան!D14+'Ա. Թամրազյան'!D14+Վ.Վարդանյան!D14 -> 0 | E14: ='Ա. Պետրոսյան'!E14+'Յու. Իսկոյան '!E14+'Վ. Հարությունյան'!E14+'Մ. Հարությունյան'!E14+Վ.Մելիքյան!E14+'Ա. Թամրազյան'!E14+Վ.Վարդանյան!E14 -> 2 | F14: ='Ա. Պետրոսյան'!F14+'Յու. Իսկոյան '!F14+'Վ. Հարությունյան'!F14+'Մ. Հարությունյան'!F14+Վ.Մելիքյան!F14+'Ա. Թամրազյան'!F14+Վ.Վարդանյան!F14 -> 0 | G14: ='Ա. Պետրոսյան'!G14+'Յու. Իսկոյան '!G14+'Վ. Հարությունյան'!G14+'Մ. Հարությունյան'!G14+Վ.Մելիքյան!G14+'Ա. Թամրազյան'!G14+Վ.Վարդանյան!G14 -> 0 | H14: ='Ա. Պետրոսյան'!H14+'Յու. Իսկոյան '!H14+'Վ. Հարությունյան'!H14+'Մ. Հարությունյան'!H14+Վ.Մելիքյան!H14+'Ա. Թամրազյան'!H14+Վ.Վարդանյան!H14 -> 2 | I14: ='Ա. Պետրոսյան'!I14+'Յու. Իսկոյան '!I14+'Վ. Հարությունյան'!I14+'Մ. Հարությունյան'!I14+Վ.Մելիքյան!I14+'Ա. Թամրազյան'!I14+Վ.Վարդանյան!I14 -> 0 | J14: ='Ա. Պետրոսյան'!J14+'Յու. Իսկոյան '!J14+'Վ. Հարությունյան'!J14+'Մ. Հարությունյան'!J14+Վ.Մելիքյան!J14+'Ա. Թամրազյան'!J14+Վ.Վարդանյան!J14 -> 0 | K14: ='Ա. Պետրոսյան'!K14+'Յու. Իսկոյան '!K14+'Վ. Հարությունյան'!K14+'Մ. Հարությունյան'!K14+Վ.Մելիքյան!K14+'Ա. Թամրազյան'!K14+Վ.Վարդանյան!K14 -> 2 | ... R14: ='Ա. Պետրոսյան'!R14+'Յու. Իսկոյան '!R14+'Վ. Հարությունյան'!R14+'Մ. Հարությունյան'!R14+Վ.Մելիքյան!R14+'Ա. Թամրազյան'!R14+Վ.Վարդանյան!R14 -> 0 | S14: ='Ա. Պետրոսյան'!#REF!+'Յու. Իսկոյան '!#REF!+'Վ. Հարությունյան'!#REF!+'Մ. Հարությունյան'!#REF!+Վ.Մելիքյան!#REF!+'Ա. Թամրազյան'!#REF!+Վ.Վարդանյան!#REF!+#REF! -> #REF! | T14: =D14+E14 -> 2 | U14: =F14+K14+L14 -> 2 | V14: =K14 -> 2 | W14: =G14+H14+I14+J14 -> 2
A15: 9 | B15: Ñ»é³ËáëÝ»ñÇ Ùáõïù³ÛÇÝ ¨ »Éù³ÛÇÝ í»ñÍ³ÝÙ³Ý ÃáõÛÉïíáõÃÛáõÝ ëï³Ý³Éáõ Ù³ëÇÝ ÙÇçÝáñ¹áõÃÛáõÝÝ»ñ | D15: ='Ա. Պետրոսյան'!D15+'Յու. Իսկոյան '!D15+'Վ. Հարությունյան'!D15+'Մ. Հարությունյան'!D15+Վ.Մելիքյան!D15+'Ա. Թամրազյան'!D15+Վ.Վարդանյան!D15 -> 0 | E15: ='Ա. Պետրոսյան'!E15+'Յու. Իսկոյան '!E15+'Վ. Հարությունյան'!E15+'Մ. Հարությունյան'!E15+Վ.Մելիքյան!E15+'Ա. Թամրազյան'!E15+Վ.Վարդանյան!E15 -> 178 | F15: ='Ա. Պետրոսյան'!F15+'Յու. Իսկոյան '!F15+'Վ. Հարությունյան'!F15+'Մ. Հարությունյան'!F15+Վ.Մելիքյան!F15+'Ա. Թամրազյան'!F15+Վ.Վարդանյան!F15 -> 0 | G15: ='Ա. Պետրոսյան'!G15+'Յու. Իսկոյան '!G15+'Վ. Հարությունյան'!G15+'Մ. Հարությունյան'!G15+Վ.Մելիքյան!G15+'Ա. Թամրազյան'!G15+Վ.Վարդանյան!G15 -> 3 | H15: ='Ա. Պետրոսյան'!H15+'Յու. Իսկոյան '!H15+'Վ. Հարությունյան'!H15+'Մ. Հարությունյան'!H15+Վ.Մելիքյան!H15+'Ա. Թամրազյան'!H15+Վ.Վարդանյան!H15 -> 174 | I15: ='Ա. Պետրոսյան'!I15+'Յու. Իսկոյան '!I15+'Վ. Հարությունյան'!I15+'Մ. Հարությունյան'!I15+Վ.Մելիքյան!I15+'Ա. Թամրազյան'!I15+Վ.Վարդանյան!I15 -> 0 | J15: ='Ա. Պետրոսյան'!J15+'Յու. Իսկոյան '!J15+'Վ. Հարությունյան'!J15+'Մ. Հարությունյան'!J15+Վ.Մելիքյան!J15+'Ա. Թամրազյան'!J15+Վ.Վարդանյան!J15 -> 1 | K15: ='Ա. Պետրոսյան'!K15+'Յու. Իսկոյան '!K15+'Վ. Հարությունյան'!K15+'Մ. Հարությունյան'!K15+Վ.Մելիքյան!K15+'Ա. Թամրազյան'!K15+Վ.Վարդանյան!K15 -> 178 | ... R15: ='Ա. Պետրոսյան'!R15+'Յու. Իսկոյան '!R15+'Վ. Հարությունյան'!R15+'Մ. Հարությունյան'!R15+Վ.Մելիքյան!R15+'Ա. Թամրազյան'!R15+Վ.Վարդանյան!R15 -> 0 | S15: ='Ա. Պետրոսյան'!#REF!+'Յու. Իսկոյան '!#REF!+'Վ. Հարությունյան'!#REF!+'Մ. Հարությունյան'!#REF!+Վ.Մելիքյան!#REF!+'Ա. Թամրազյան'!#REF!+Վ.Վարդանյան!#REF!+#REF! -> #REF! | T15: =D15+E15 -> 178 | U15: =F15+K15+L15 -> 178 | V15: =K15 -> 178 | W15: =G15+H15+I15+J15 -> 178
A16: 10 | B16: Ñ»ï³ùÝÝáõÃÛ³Ý Ù³ñÙÝÇ ³ßË³ïáÕÇ, ùÝÝÇãÇ, ¹³ï³Ë³½Ç oå»ñ³ïÇí-Ñ»ï³Ëáõ½³Ï³Ý ·áñÍáÕáõÃÛáõÝÝ»ñ Çñ³Ï³Ý³óÝáÕ Ù³ñÙÇÝÝ»ñÇ ³ÝoñÇÝ³Ï³Ý ¨ ³ÝÑÇÙÝ áñáßáõÙÝ»ñÇ ¨ ·áñÍáÕáõÃÛáõÝÝ»ñÇ ¹»Ù µáÕáùÝ»ñ | T16: =D16+E16 -> 0 | U16: =F16+K16+L16 -> 0 | V16: =K16 -> 0 | W16: =G16+H16+I16+J16 -> 0
A17: 11 | B17: ²½³ïáõÃÛáõÝÇó ½ñÏ»Éáõ Çñ³í³ã³÷áõÃÛ³Ý í»ñ³µ»ñÛ³É µáÕáùÝ»ñáí ·áñÍ»ñ | D17: ='Ա. Պետրոսյան'!D17+'Յու. Իսկոյան '!D17+'Վ. Հարությունյան'!D17+'Մ. Հարությունյան'!D17+Վ.Մելիքյան!D17+'Ա. Թամրազյան'!D17+Վ.Վարդանյան!D17 -> 0 | E17: ='Ա. Պետրոսյան'!E17+'Յու. Իսկոյան '!E17+'Վ. Հարությունյան'!E17+'Մ. Հարությունյան'!E17+Վ.Մելիքյան!E17+'Ա. Թամրազյան'!E17+Վ.Վարդանյան!E17 -> 1 | F17: ='Ա. Պետրոսյան'!F17+'Յու. Իսկոյան '!F17+'Վ. Հարությունյան'!F17+'Մ. Հարությունյան'!F17+Վ.Մելիքյան!F17+'Ա. Թամրազյան'!F17+Վ.Վարդանյան!F17 -> 0 | G17: ='Ա. Պետրոսյան'!G17+'Յու. Իսկոյան '!G17+'Վ. Հարությունյան'!G17+'Մ. Հարությունյան'!G17+Վ.Մելիքյան!G17+'Ա. Թամրազյան'!G17+Վ.Վարդանյան!G17 -> 1 | H17: ='Ա. Պետրոսյան'!H17+'Յու. Իսկոյան '!H17+'Վ. Հարությունյան'!H17+'Մ. Հարությունյան'!H17+Վ.Մելիքյան!H17+'Ա. Թամրազյան'!H17+Վ.Վարդանյան!H17 -> 0 | I17: ='Ա. Պետրոսյան'!I17+'Յու. Իսկոյան '!I17+'Վ. Հարությունյան'!I17+'Մ. Հարությունյան'!I17+Վ.Մելիքյան!I17+'Ա. Թամրազյան'!I17+Վ.Վարդանյան!I17 -> 0 | J17: ='Ա. Պետրոսյան'!J17+'Յու. Իսկոյան '!J17+'Վ. Հարությունյան'!J17+'Մ. Հարությունյան'!J17+Վ.Մելիքյան!J17+'Ա. Թամրազյան'!J17+Վ.Վարդանյան!J17 -> 0 | K17: ='Ա. Պետրոսյան'!K17+'Յու. Իսկոյան '!K17+'Վ. Հարությունյան'!K17+'Մ. Հարությունյան'!K17+Վ.Մելիքյան!K17+'Ա. Թամրազյան'!K17+Վ.Վարդանյան!K17 -> 1 | ... R17: ='Ա. Պետրոսյան'!R17+'Յու. Իսկոյան '!R17+'Վ. Հարությունյան'!R17+'Մ. Հարությունյան'!R17+Վ.Մելիքյան!R17+'Ա. Թամրազյան'!R17+Վ.Վարդանյան!R17 -> 0 | S17: ='Ա. Պետրոսյան'!#REF!+'Յու. Իսկոյան '!#REF!+'Վ. Հարությունյան'!#REF!+'Մ. Հարությունյան'!#REF!+Վ.Մելիքյան!#REF!+'Ա. Թամրազյան'!#REF!+Վ.Վարդանյան!#REF!+#REF! -> #REF! | T17: =D17+E17 -> 1 | U17: =F17+K17+L17 -> 1 | V17: =K17 -> 1 | W17: =G17+H17+I17+J17 -> 1
A18: 2. ¸³ï³Ï³Ý ³Ïï»ñÇ ¨ ¹³ï³Ï³Ý Ñ³ÝÓÝ³ñ³ñáõÃÛáõÝÝ»ñÇ Ï³ï³ñÙ³Ý Ñ»ï Ï³åí³Í Ñ³ñó»ñÇ ÉáõÍÙ³Ý áÉáñï | S18: ='Ա. Պետրոսյան'!#REF!+'Յու. Իսկոյան '!#REF!+'Վ. Հարությունյան'!#REF!+'Մ. Հարությունյան'!#REF!+Վ.Մելիքյան!#REF!+'Ա. Թամրազյան'!#REF!+Վ.Վարդանյան!#REF!+#REF! -> #REF!
A19: 1 | B19: å³ïÅÇó å³ÛÙ³Ý³Ï³Ý í³Õ³Å³ÙÏ»ï ³½³ï»Éáõ Ù³ëÇÝ ÙÇçÝáñ¹áõÃÛáõÝÝ»ñ | D19: ='Ա. Պետրոսյան'!D19+'Յու. Իսկոյան '!D19+'Վ. Հարությունյան'!D19+'Մ. Հարությունյան'!D19+Վ.Մելիքյան!D19+'Ա. Թամրազյան'!D19+Վ.Վարդանյան!D19 -> 0 | E19: ='Ա. Պետրոսյան'!E19+'Յու. Իսկոյան '!E19+'Վ. Հարությունյան'!E19+'Մ. Հարությունյան'!E19+Վ.Մելիքյան!E19+'Ա. Թամրազյան'!E19+Վ.Վարդանյան!E19 -> 0 | F19: ='Ա. Պետրոսյան'!F19+'Յու. Իսկոյան '!F19+'Վ. Հարությունյան'!F19+'Մ. Հարությունյան'!F19+Վ.Մելիքյան!F19+'Ա. Թամրազյան'!F19+Վ.Վարդանյան!F19 -> 0 | G19: ='Ա. Պետրոսյան'!G19+'Յու. Իսկոյան '!G19+'Վ. Հարությունյան'!G19+'Մ. Հարությունյան'!G19+Վ.Մելիքյան!G19+'Ա. Թամրազյան'!G19+Վ.Վարդանյան!G19 -> 0 | H19: ='Ա. Պետրոսյան'!H19+'Յու. Իսկոյան '!H19+'Վ. Հարությունյան'!H19+'Մ. Հարությունյան'!H19+Վ.Մելիքյան!H19+'Ա. Թամրազյան'!H19+Վ.Վարդանյան!H19 -> 0 | I19: ='Ա. Պետրոսյան'!I19+'Յու. Իսկոյան '!I19+'Վ. Հարությունյան'!I19+'Մ. Հարությունյան'!I19+Վ.Մելիքյան!I19+'Ա. Թամրազյան'!I19+Վ.Վարդանյան!I19 -> 0 | J19: ='Ա. Պետրոսյան'!J19+'Յու. Իսկոյան '!J19+'Վ. Հարությունյան'!J19+'Մ. Հարությունյան'!J19+Վ.Մելիքյան!J19+'Ա. Թամրազյան'!J19+Վ.Վարդանյան!J19 -> 0 | K19: ='Ա. Պետրոսյան'!K19+'Յու. Իսկոյան '!K19+'Վ. Հարությունյան'!K19+'Մ. Հարությունյան'!K19+Վ.Մելիքյան!K19+'Ա. Թամրազյան'!K19+Վ.Վարդանյան!K19 -> 0 | ... R19: ='Ա. Պետրոսյան'!R19+'Յու. Իսկոյան '!R19+'Վ. Հարությունյան'!R19+'Մ. Հարությունյան'!R19+Վ.Մելիքյան!R19+'Ա. Թամրազյան'!R19+Վ.Վարդանյան!R19 -> 0 | S19: ='Ա. Պետրոսյան'!#REF!+'Յու. Իսկոյան '!#REF!+'Վ. Հարությունյան'!#REF!+'Մ. Հարությունյան'!#REF!+Վ.Մելիքյան!#REF!+'Ա. Թամրազյան'!#REF!+Վ.Վարդանյան!#REF!+#REF! -> #REF! | T19: =D19+E19 -> 0 | U19: =F19+K19+L19 -> 0 | V19: =K19 -> 0 | W19: =G19+H19+I19+J19 -> 0
A20: 2 | B20: å³ïÇÅÁ ÷á÷áË»Éáõ, Ñ»ï³Ó·»Éáõ ¨ å³ïÅÇó ³½³ï»Éáõ Ù³uÇÝ ÙÇçÝáñ¹áõÃÛáõÝÝ»ñ | D20: ='Ա. Պետրոսյան'!D20+'Յու. Իսկոյան '!D20+'Վ. Հարությունյան'!D20+'Մ. Հարությունյան'!D20+Վ.Մելիքյան!D20+'Ա. Թամրազյան'!D20+Վ.Վարդանյան!D20 -> 0 | E20: ='Ա. Պետրոսյան'!E20+'Յու. Իսկոյան '!E20+'Վ. Հարությունյան'!E20+'Մ. Հարությունյան'!E20+Վ.Մելիքյան!E20+'Ա. Թամրազյան'!E20+Վ.Վարդանյան!E20 -> 11 | F20: ='Ա. Պետրոսյան'!F20+'Յու. Իսկոյան '!F20+'Վ. Հարությունյան'!F20+'Մ. Հարությունյան'!F20+Վ.Մելիքյան!F20+'Ա. Թամրազյան'!F20+Վ.Վարդանյան!F20 -> 0 | G20: ='Ա. Պետրոսյան'!G20+'Յու. Իսկոյան '!G20+'Վ. Հարությունյան'!G20+'Մ. Հարությունյան'!G20+Վ.Մելիքյան!G20+'Ա. Թամրազյան'!G20+Վ.Վարդանյան!G20 -> 2 | H20: ='Ա. Պետրոսյան'!H20+'Յու. Իսկոյան '!H20+'Վ. Հարությունյան'!H20+'Մ. Հարությունյան'!H20+Վ.Մելիքյան!H20+'Ա. Թամրազյան'!H20+Վ.Վարդանյան!H20 -> 1 | I20: ='Ա. Պետրոսյան'!I20+'Յու. Իսկոյան '!I20+'Վ. Հարությունյան'!I20+'Մ. Հարությունյան'!I20+Վ.Մելիքյան!I20+'Ա. Թամրազյան'!I20+Վ.Վարդանյան!I20 -> 3 | J20: ='Ա. Պետրոսյան'!J20+'Յու. Իսկոյան '!J20+'Վ. Հարությունյան'!J20+'Մ. Հարությունյան'!J20+Վ.Մելիքյան!J20+'Ա. Թամրազյան'!J20+Վ.Վարդանյան!J20 -> 0 | K20: ='Ա. Պետրոսյան'!K20+'Յու. Իսկոյան '!K20+'Վ. Հարությունյան'!K20+'Մ. Հարությունյան'!K20+Վ.Մելիքյան!K20+'Ա. Թամրազյան'!K20+Վ.Վարդանյան!K20 -> 6 | ... R20: ='Ա. Պետրոսյան'!R20+'Յու. Իսկոյան '!R20+'Վ. Հարությունյան'!R20+'Մ. Հարությունյան'!R20+Վ.Մելիքյան!R20+'Ա. Թամրազյան'!R20+Վ.Վարդանյան!R20 -> 0 | S20: ='Ա. Պետրոսյան'!#REF!+'Յու. Իսկոյան '!#REF!+'Վ. Հարությունյան'!#REF!+'Մ. Հարությունյան'!#REF!+Վ.Մելիքյան!#REF!+'Ա. Թամրազյան'!#REF!+Վ.Վարդանյան!#REF!+#REF! -> #REF! | T20: =D20+E20 -> 11 | U20: =F20+K20+L20 -> 11 | V20: =K20 -> 6 | W20: =G20+H20+I20+J20 -> 6
A21: 3 | B21: Ñ³ñÏ³¹Çñ µáõÅÙ³Ý ï»ë³ÏÇ ÷á÷áËáõÃÛ³Ý Ù³ëÇÝ ÙÇçÝáñ¹áõÃÛáõÝÝ»ñ | D21: ='Ա. Պետրոսյան'!D21+'Յու. Իսկոյան '!D21+'Վ. Հարությունյան'!D21+'Մ. Հարությունյան'!D21+Վ.Մելիքյան!D21+'Ա. Թամրազյան'!D21+Վ.Վարդանյան!D21 -> 0 | E21: ='Ա. Պետրոսյան'!E21+'Յու. Իսկոյան '!E21+'Վ. Հարությունյան'!E21+'Մ. Հարությունյան'!E21+Վ.Մելիքյան!E21+'Ա. Թամրազյան'!E21+Վ.Վարդանյան!E21 -> 9 | F21: ='Ա. Պետրոսյան'!F21+'Յու. Իսկոյան '!F21+'Վ. Հարությունյան'!F21+'Մ. Հարությունյան'!F21+Վ.Մելիքյան!F21+'Ա. Թամրազյան'!F21+Վ.Վարդանյան!F21 -> 0 | G21: ='Ա. Պետրոսյան'!G21+'Յու. Իսկոյան '!G21+'Վ. Հարությունյան'!G21+'Մ. Հարությունյան'!G21+Վ.Մելիքյան!G21+'Ա. Թամրազյան'!G21+Վ.Վարդանյան!G21 -> 2 | H21: ='Ա. Պետրոսյան'!H21+'Յու. Իսկոյան '!H21+'Վ. Հարությունյան'!H21+'Մ. Հարությունյան'!H21+Վ.Մելիքյան!H21+'Ա. Թամրազյան'!H21+Վ.Վարդանյան!H21 -> 7 | I21: ='Ա. Պետրոսյան'!I21+'Յու. Իսկոյան '!I21+'Վ. Հարությունյան'!I21+'Մ. Հարությունյան'!I21+Վ.Մելիքյան!I21+'Ա. Թամրազյան'!I21+Վ.Վարդանյան!I21 -> 0 | J21: ='Ա. Պետրոսյան'!J21+'Յու. Իսկոյան '!J21+'Վ. Հարությունյան'!J21+'Մ. Հարությունյան'!J21+Վ.Մելիքյան!J21+'Ա. Թամրազյան'!J21+Վ.Վարդանյան!J21 -> 0 | K21: ='Ա. Պետրոսյան'!K21+'Յու. Իսկոյան '!K21+'Վ. Հարությունյան'!K21+'Մ. Հարությունյան'!K21+Վ.Մելիքյան!K21+'Ա. Թամրազյան'!K21+Վ.Վարդանյան!K21 -> 9 | ... R21: ='Ա. Պետրոսյան'!R21+'Յու. Իսկոյան '!R21+'Վ. Հարությունյան'!R21+'Մ. Հարությունյան'!R21+Վ.Մելիքյան!R21+'Ա. Թամրազյան'!R21+Վ.Վարդանյան!R21 -> 0 | S21: ='Ա. Պետրոսյան'!#REF!+'Յու. Իսկոյան '!#REF!+'Վ. Հարությունյան'!#REF!+'Մ. Հարությունյան'!#REF!+Վ.Մելիքյան!#REF!+'Ա. Թամրազյան'!#REF!+Վ.Վարդանյան!#REF!+#REF! -> #REF! | T21: =D21+E21 -> 9 | U21: =F21+K21+L21 -> 9 | V21: =K21 -> 9 | W21: =G21+H21+I21+J21 -> 9
A22: 4 | B22: ³ÛÉ ÙÇçÝáñ¹áõÃÛáõÝÝ»ñ | D22: ='Ա. Պետրոսյան'!D22+'Յու. Իսկոյան '!D22+'Վ. Հարությունյան'!D22+'Մ. Հարությունյան'!D22+Վ.Մելիքյան!D22+'Ա. Թամրազյան'!D22+Վ.Վարդանյան!D22 -> 1 | E22: ='Ա. Պետրոսյան'!E22+'Յու. Իսկոյան '!E22+'Վ. Հարությունյան'!E22+'Մ. Հարությունյան'!E22+Վ.Մելիքյան!E22+'Ա. Թամրազյան'!E22+Վ.Վարդանյան!E22 -> 27 | F22: ='Ա. Պետրոսյան'!F22+'Յու. Իսկոյան '!F22+'Վ. Հարությունյան'!F22+'Մ. Հարությունյան'!F22+Վ.Մելիքյան!F22+'Ա. Թամրազյան'!F22+Վ.Վարդանյան!F22 -> 0 | G22: ='Ա. Պետրոսյան'!G22+'Յու. Իսկոյան '!G22+'Վ. Հարությունյան'!G22+'Մ. Հարությունյան'!G22+Վ.Մելիքյան!G22+'Ա. Թամրազյան'!G22+Վ.Վարդանյան!G22 -> 6 | H22: ='Ա. Պետրոսյան'!H22+'Յու. Իսկոյան '!H22+'Վ. Հարությունյան'!H22+'Մ. Հարությունյան'!H22+Վ.Մելիքյան!H22+'Ա. Թամրազյան'!H22+Վ.Վարդանյան!H22 -> 16 | I22: ='Ա. Պետրոսյան'!I22+'Յու. Իսկոյան '!I22+'Վ. Հարությունյան'!I22+'Մ. Հարությունյան'!I22+Վ.Մելիքյան!I22+'Ա. Թամրազյան'!I22+Վ.Վարդանյան!I22 -> 2 | J22: ='Ա. Պետրոսյան'!J22+'Յու. Իսկոյան '!J22+'Վ. Հարությունյան'!J22+'Մ. Հարությունյան'!J22+Վ.Մելիքյան!J22+'Ա. Թամրազյան'!J22+Վ.Վարդանյան!J22 -> 0 | K22: ='Ա. Պետրոսյան'!K22+'Յու. Իսկոյան '!K22+'Վ. Հարությունյան'!K22+'Մ. Հարությունյան'!K22+Վ.Մելիքյան!K22+'Ա. Թամրազյան'!K22+Վ.Վարդանյան!K22 -> 24 | ... R22: ='Ա. Պետրոսյան'!R22+'Յու. Իսկոյան '!R22+'Վ. Հարությունյան'!R22+'Մ. Հարությունյան'!R22+Վ.Մելիքյան!R22+'Ա. Թամրազյան'!R22+Վ.Վարդանյան!R22 -> 0 | S22: ='Ա. Պետրոսյան'!#REF!+'Յու. Իսկոյան '!#REF!+'Վ. Հարությունյան'!#REF!+'Մ. Հարությունյան'!#REF!+Վ.Մելիքյան!#REF!+'Ա. Թամրազյան'!#REF!+Վ.Վարդանյան!#REF!+#REF! -> #REF! | T22: =D22+E22 -> 28 | U22: =F22+K22+L22 -> 28 | V22: =K22 -> 24 | W22: =G22+H22+I22+J22 -> 24
A23: 5 | B23: ¹³ï³Ï³Ý Ñ³ÝÓÝ³ñ³ñáõÃÛáõÝÝ»ñ | D23: ='Ա. Պետրոսյան'!D23+'Յու. Իսկոյան '!D23+'Վ. Հարությունյան'!D23+'Մ. Հարությունյան'!D23+Վ.Մելիքյան!D23+'Ա. Թամրազյան'!D23+Վ.Վարդանյան!D23 -> 4 | E23: ='Ա. Պետրոսյան'!E23+'Յու. Իսկոյան '!E23+'Վ. Հարությունյան'!E23+'Մ. Հարությունյան'!E23+Վ.Մելիքյան!E23+'Ա. Թամրազյան'!E23+Վ.Վարդանյան!E23 -> 8 | F23: ='Ա. Պետրոսյան'!F23+'Յու. Իսկոյան '!F23+'Վ. Հարությունյան'!F23+'Մ. Հարությունյան'!F23+Վ.Մելիքյան!F23+'Ա. Թամրազյան'!F23+Վ.Վարդանյան!F23 -> 0 | G23: ='Ա. Պետրոսյան'!G23+'Յու. Իսկոյան '!G23+'Վ. Հարությունյան'!G23+'Մ. Հարությունյան'!G23+Վ.Մելիքյան!G23+'Ա. Թամրազյան'!G23+Վ.Վարդանյան!G23 -> 0 | H23: ='Ա. Պետրոսյան'!H23+'Յու. Իսկոյան '!H23+'Վ. Հարությունյան'!H23+'Մ. Հարությունյան'!H23+Վ.Մելիքյան!H23+'Ա. Թամրազյան'!H23+Վ.Վարդանյան!H23 -> 8 | I23: ='Ա. Պետրոսյան'!I23+'Յու. Իսկոյան '!I23+'Վ. Հարությունյան'!I23+'Մ. Հարությունյան'!I23+Վ.Մելիքյան!I23+'Ա. Թամրազյան'!I23+Վ.Վարդանյան!I23 -> 1 | J23: ='Ա. Պետրոսյան'!J23+'Յու. Իսկոյան '!J23+'Վ. Հարությունյան'!J23+'Մ. Հարությունյան'!J23+Վ.Մելիքյան!J23+'Ա. Թամրազյան'!J23+Վ.Վարդանյան!J23 -> 0 | K23: ='Ա. Պետրոսյան'!K23+'Յու. Իսկոյան '!K23+'Վ. Հարությունյան'!K23+'Մ. Հարությունյան'!K23+Վ.Մելիքյան!K23+'Ա. Թամրազյան'!K23+Վ.Վարդանյան!K23 -> 9 | ... R23: ='Ա. Պետրոսյան'!R23+'Յու. Իսկոյան '!R23+'Վ. Հարությունյան'!R23+'Մ. Հարությունյան'!R23+Վ.Մելիքյան!R23+'Ա. Թամրազյան'!R23+Վ.Վարդանյան!R23 -> 0 | S23: ='Ա. Պետրոսյան'!#REF!+'Յու. Իսկոյան '!#REF!+'Վ. Հարությունյան'!#REF!+'Մ. Հարությունյան'!#REF!+Վ.Մելիքյան!#REF!+'Ա. Թամրազյան'!#REF!+Վ.Վարդանյան!#REF!+#REF! -> #REF! | T23: =D23+E23 -> 12 | U23: =F23+K23+L23 -> 12 | V23: =K23 -> 9 | W23: =G23+H23+I23+J23 -> 9
A24: ÀÜ¸²ØºÜÀ | D24: ='Ա. Պետրոսյան'!D24+'Յու. Իսկոյան '!D24+'Վ. Հարությունյան'!D24+'Մ. Հարությունյան'!D24+Վ.Մելիքյան!D24+'Ա. Թամրազյան'!D24+Վ.Վարդանյան!D24 -> 7 | E24: ='Ա. Պետրոսյան'!E24+'Յու. Իսկոյան '!E24+'Վ. Հարությունյան'!E24+'Մ. Հարությունյան'!E24+Վ.Մելիքյան!E24+'Ա. Թամրազյան'!E24+Վ.Վարդանյան!E24 -> 717 | F24: ='Ա. Պետրոսյան'!F24+'Յու. Իսկոյան '!F24+'Վ. Հարությունյան'!F24+'Մ. Հարությունյան'!F24+Վ.Մելիքյան!F24+'Ա. Թամրազյան'!F24+Վ.Վարդանյան!F24 -> 1 | G24: ='Ա. Պետրոսյան'!G24+'Յու. Իսկոյան '!G24+'Վ. Հարությունյան'!G24+'Մ. Հարությունյան'!G24+Վ.Մելիքյան!G24+'Ա. Թամրազյան'!G24+Վ.Վարդանյան!G24 -> 98 | H24: ='Ա. Պետրոսյան'!H24+'Յու. Իսկոյան '!H24+'Վ. Հարությունյան'!H24+'Մ. Հարությունյան'!H24+Վ.Մելիքյան!H24+'Ա. Թամրազյան'!H24+Վ.Վարդանյան!H24 -> 592 | I24: ='Ա. Պետրոսյան'!I24+'Յու. Իսկոյան '!I24+'Վ. Հարությունյան'!I24+'Մ. Հարությունյան'!I24+Վ.Մելիքյան!I24+'Ա. Թամրազյան'!I24+Վ.Վարդանյան!I24 -> 13 | J24: ='Ա. Պետրոսյան'!J24+'Յու. Իսկոյան '!J24+'Վ. Հարությունյան'!J24+'Մ. Հարությունյան'!J24+Վ.Մելիքյան!J24+'Ա. Թամրազյան'!J24+Վ.Վարդանյան!J24 -> 3 | K24: ='Ա. Պետրոսյան'!K24+'Յու. Իսկոյան '!K24+'Վ. Հարությունյան'!K24+'Մ. Հարությունյան'!K24+Վ.Մելիքյան!K24+'Ա. Թամրազյան'!K24+Վ.Վարդանյան!K24 -> 706 | ... R24: ='Ա. Պետրոսյան'!R24+'Յու. Իսկոյան '!R24+'Վ. Հարությունյան'!R24+'Մ. Հարությունյան'!R24+Վ.Մելիքյան!R24+'Ա. Թամրազյան'!R24+Վ.Վարդանյան!R24 -> 18 | S24: ='Ա. Պետրոսյան'!#REF!+'Յու. Իսկոյան '!#REF!+'Վ. Հարությունյան'!#REF!+'Մ. Հարությունյան'!#REF!+Վ.Մելիքյան!#REF!+'Ա. Թամրազյան'!#REF!+Վ.Վարդանյան!#REF!+#REF! -> #REF! | T24: =D24+E24 -> 724 | U24: =F24+K24+L24 -> 724 | V24: =K24 -> 706 | W24: =G24+H24+I24+J24 -> 706

Sheet Ա. Պետրոսյան
A1: 2016Ã. | D1: Ð²ÞìºîìàôÂÚàôÜ | P1: Ð³í»Éí³Í Ð³Û³ëï³ÝÇ Ð³Ýñ³å»ïáõÃÛ³Ý ¸³ï³ñ³ÝÝ»ñÇ Ý³Ë³·³ÑÝ»ñÇ ËáñÑñ¹Ç 27.01.2017Ã. ÃÇí 01-È áñáßÙ³Ý
A2: ØÇÝã¹³ï³Ï³Ý í³ñáõÛÃÇ ÝÏ³ïÙ³Ùµ ¹³ï³Ï³Ý í»ñ³ÑëÏáÕáõÃÛ³ÝÁ, ¹³ï³Ï³Ý ³Ïï»ñÇ ¨ ¹³ï³Ï³Ý Ñ³ÝÓÝ³ñ³ñáõÃÛáõÝÝ»ñÇ Ï³ï³ñÙ³ÝÁ Ñ»ï Ï³åí³Í ÙÇçÝáñ¹áõÃÛáõÝÝ»ñÇ í»ñ³µ»ñÛ³É ¹³ï³Ï³Ý ·áñÍ»ñáí ÐÐ ¶»Õ³ñùáõÝÇùÇ Ù³ñ½Ç ÁÝ¹Ñ³Ýáõñ Çñ³í³ëáõÃÛ³Ý ³é³çÇÝ ³ïÛ³ÝÇ ¹³ï³ñ³ÝÇ ¹³ï³íáñ Ա. Պետրոսյան ·áñÍáõÝ»áõÃÛ³Ý í»ñ³µ»ñÛ³É
A3: êïáõ·Çã Ñ³í³ë³ñáõÙ` 1+2=3+8+9, 8=4+5+6+7, | D3: Ð³ßí»ïáõ Å³Ù³Ý³Ï³Ñ³ïí³ÍÇ ëÏ½µáõÙ Ý³Ëáñ¹ Ñ³ßí»ïáõ Å³Ù³Ý³Ï³Ñ³ïí³ÍÇó ÷áË³Ýóí³Í ·áñÍ»ñÇ ÁÝ¹Ñ³Ýáõñ ÃÇíÁ | E3: Ð³ßí»ïáõ Å³Ù³Ý³Ï³Ñ³ïí³ÍáõÙ ëï³óí³Í ·áñÍ»ñÇ ÁÝ¹Ñ³Ýáõñ ÃÇíÁ | F3: öáË³Ýóí»É ¿ ³ÛÉ ¹³ï³íáñÇ Ï³Ù ³ÛÉ ¹³ï³ñ³Ý (Ï³½ÙÇ ÷á÷áËáõÃÛáõÝ, ÁÝ¹¹³ïáõÃÛáõÝ) | G3: Ð³ßí»ïáõ Å³Ù³Ý³Ï³Ñ³ïí³ÍáõÙ ³í³ñïí³Í ·áñÍ»ñÇ ÁÝ¹Ñ³Ýáõñ ÃÇíÁ | L3: Ð³ßí»ïáõ Å³Ù³Ý³Ï³Ñ³ïí³ÍáõÙ ³Ý³í³ñï ·áñÍ»ñÇ ÁÝ¹Ñ³Ýáõñ ÃÇíÁ | M3: ØÇçÝáñ¹áõÃÛáõÝÝ»ñáí Ï³Û³óí³Í ¹³ï³Ï³Ý ³Ïï»ñÇó µáÕáù³ñÏí³ÍÝ»ñÇ ù³Ý³ÏÁ | O3: ²Ý³í³ñï µáÕáùÝ»ñ | P3: ØÇçÝáñ¹áõÃÛáõÝÝ»ñáí Ï³Û³óí³Í ¨ µáÕáù³ñÏí³Í ¹³ï³Ï³Ý ³Ïï»ñÇó µ»Ï³Ýí³ÍÝ»ñÇ ù³Ý³ÏÁ | R3: ÙÇçÝáñ¹áõÃÛáõÝÝ»ñáí Ï³Û³óí³Í ¨ µáÕáù³ñÏí³Í ¹³ï³Ï³Ý ³Ïï»ñÇó ³Ý÷á÷áË ÃáÕÝí³ÍÝ»ñÇ ù³Ý³ÏÁ
G4: Ù»ñÅí»É ¿ | H4: µ³í³ñ³ñí»É ¿ | I4: µ³í³ñ³ñí»É ¿ Ù³ëÝ³ÏÇ | J4: ÃáÕÝí»É ¿ ³é³Ýó ùÝÝáõÃÛ³Ý | K4: ÀÝ¹³Ù»ÝÁ
M5: Ý³Ëáñ¹ ï³ñÇÝ»ñÇÝ Ï³Û³óí³Í ³Ïï»ñÇ ¹»Ù | N5: Ñ³ßí»ïáõ Å³Ù³Ý³Ï³ßñç³ÝáõÙ Ï³Û³óí³Í ³Ïï»ñÇ ¹»Ù | P5: Ý³Ëáñ¹ ï³ñÇÝ»ñÇÝ Ï³Û³óí³Í ³Ïï»ñÇ µ»Ï³ÝáõÙÝ»ñÁ | Q5: Ñ³ßí»ïáõ Å³Ù³Ý³Ï³ßñç³ÝáõÙ Ï³Û³óí³Í ³Ïï»ñÇ µ»Ï³ÝáõÙÝ»ñÁ
A6: 1. ØÇÝã¹³ï³Ï³Ý í³ñáõÛÃÇ ÝÏ³ïÙ³Ùµ ¹³ï³Ï³Ý í»ñ³ÑëÏáÕáõÃÛ³Ý áÉáñï | D6: 1 | E6: 2 | F6: 3 | G6: 4 | H6: 5 | I6: 6 | J6: 7 | K6: 8 | L6: 9 | M6: 10 | N6: 11 | O6: 12 | P6: 13 | Q6: 14 | R6: 15 | S6: 1+2=3+8+9 | U6: 8=4+5+6+7
A7: 1 | B7: Ï³É³ÝùÁ áñå»ë Ë³÷³ÝÙ³Ý ÙÇçáó ÏÇñ³é»Éáõ Ù³ëÇÝ ÙÇçÝáñ¹áõÃÛáõÝÝ»ñ | E7: 51 | H7: 51 | K7: 51 | S7: =D7+E7 -> 51 | T7: =F7+K7+L7 -> 51 | U7: =K7 -> 51 | V7: =G7+H7+I7+J7 -> 51
A8: 2 | B8: Ï³É³ÝùÇ Å³ÙÏ»ïÁ »ñÏ³ñ³óÝ»Éáõ Ù³ëÇÝ ÙÇçÝáñ¹áõÃÛáõÝÝ»ñ | E8: 3 | G8: 1 | I8: 1 | J8: 1 | K8: 3 | S8: =D8+E8 -> 3 | T8: =F8+K8+L8 -> 3 | U8: =K8 -> 3 | V8: =G8+H8+I8+J8 -> 3
A9: 3 | B9: Ï³É³ÝùÇ í»ñ³Ñ³ëï³ïÙ³Ý Ù³ëÇÝ ÙÇçÝáñ¹áõÃÛáõÝÝ»ñ | S9: =D9+E9 -> 0 | T9: =F9+K9+L9 -> 0 | U9: =K9 -> 0 | V9: =G9+H9+I9+J9 -> 0
A10: 4 | B10: ·ñ³íÁ áñå»ë Ï³É³Ý³íáñÙ³Ý ³ÛÉÁÝïñ³Ýù³ÛÇÝ Ë³÷³ÝÙ³Ý ÙÇçáó ÏÇñ³é»Éáõ Ù³ëÇÝ ÙÇçÝáñ¹áõÃÛáõÝÝ»ñ | E10: 1 | J10: 1 | K10: 1 | S10: =D10+E10 -> 1 | T10: =F10+K10+L10 -> 1 | U10: =K10 -> 1 | V10: =G10+H10+I10+J10 -> 1
A11: 5 | B11: Ëáõ½³ñÏáõÃÛ³Ý Ï³ï³ñÙ³Ý Ù³ëÇÝ ÙÇçÝáñ¹áõÃÛáõÝÝ»ñ | E11: 50 | H11: 50 | K11: 50 | S11: =D11+E11 -> 50 | T11: =F11+K11+L11 -> 50 | U11: =K11 -> 50 | V11: =G11+H11+I11+J11 -> 50
A12: 6 | B12: µ³ÝÏ³ÛÇÝ, ³å³Ñáí³·ñ³Ï³Ý, Ýáï³ñ³Ï³Ý ·³ÕïÝÇù Ï³½ÙáÕ ï»Õ»ÏáõÃÛáõÝÝ»ñÇ ëï³óÙ³Ý Ñ³Ù³ñ Ëáõ½³ñÏáõÃÛ³Ý Ï³Ù ³é·ñ³íÙ³Ý Ï³ï³ñÙ³Ý Ù³ëÇÝ ÙÇçÝáñ¹áõÃÛáõÝÝ»ñ | E12: 1 | H12: 1 | K12: 1 | S12: =D12+E12 -> 1 | T12: =F12+K12+L12 -> 1 | U12: =K12 -> 1 | V12: =G12+H12+I12+J12 -> 1
A13: 7 | B13: Ý³Ù³Ï³·ñáõÃÛ³Ý, Ñ»é³·ñ³Ï³Ý, ÷áuï³ÛÇÝ Ñ³Õáñ¹áõÙÝ»ñÇ ÑëÏáÕáõÃÛ³Ý Ù³ëÇÝ ÙÇçÝáñ¹áõÃÛáõÝÝ»ñ | S13: =D13+E13 -> 0 | T13: =F13+K13+L13 -> 0 | U13: =K13 -> 0 | V13: =G13+H13+I13+J13 -> 0
A14: 8 | B14: Ñ»é³Ëáu³ÛÇÝ Ï³Ù Ï³åÇ ³ÛÉ ÙÇçáóÝ»ñáí ï³ñíáÕ Ëáu³ÏóáõÃÛáõÝÝ»ñÇ ÉuÙ³Ý ¨ Ó³ÛÝ³·ñ³éÙ³Ý Ù³ëÇÝ ÙÇçÝáñ¹áõÃÛáõÝÝ»ñ | S14: =D14+E14 -> 0 | T14: =F14+K14+L14 -> 0 | U14: =K14 -> 0 | V14: =G14+H14+I14+J14 -> 0
A15: 9 | B15: Ñ»é³ËáëÝ»ñÇ Ùáõïù³ÛÇÝ ¨ »Éù³ÛÇÝ í»ñÍ³ÝÙ³Ý ÃáõÛÉïíáõÃÛáõÝ ëï³Ý³Éáõ Ù³ëÇÝ ÙÇçÝáñ¹áõÃÛáõÝÝ»ñ | E15: 14 | H15: 14 | K15: 14 | S15: =D15+E15 -> 14 | T15: =F15+K15+L15 -> 14 | U15: =K15 -> 14 | V15: =G15+H15+I15+J15 -> 14
A16: 10 | B16: Ñ»ï³ùÝÝáõÃÛ³Ý Ù³ñÙÝÇ ³ßË³ïáÕÇ, ùÝÝÇãÇ, ¹³ï³Ë³½Ç oå»ñ³ïÇí-Ñ»ï³Ëáõ½³Ï³Ý ·áñÍáÕáõÃÛáõÝÝ»ñ Çñ³Ï³Ý³óÝáÕ Ù³ñÙÇÝÝ»ñÇ ³ÝoñÇÝ³Ï³Ý ¨ ³ÝÑÇÙÝ áñáßáõÙÝ»ñÇ ¨ ·áñÍáÕáõÃÛáõÝÝ»ñÇ ¹»Ù µáÕáùÝ»ñ | S16: =D16+E16 -> 0 | T16: =F16+K16+L16 -> 0 | U16: =K16 -> 0 | V16: =G16+H16+I16+J16 -> 0
A17: 11 | B17: ²½³ïáõÃÛáõÝÇó ½ñÏ»Éáõ Çñ³í³ã³÷áõÃÛ³Ý í»ñ³µ»ñÛ³É µáÕáùÝ»ñáí ·áñÍ»ñ | S17: =D17+E17 -> 0 | T17: =F17+K17+L17 -> 0 | U17: =K17 -> 0 | V17: =G17+H17+I17+J17 -> 0
A18: 2. ¸³ï³Ï³Ý ³Ïï»ñÇ ¨ ¹³ï³Ï³Ý Ñ³ÝÓÝ³ñ³ñáõÃÛáõÝÝ»ñÇ Ï³ï³ñÙ³Ý Ñ»ï Ï³åí³Í Ñ³ñó»ñÇ ÉáõÍÙ³Ý áÉáñï
A19: 1 | B19: å³ïÅÇó å³ÛÙ³Ý³Ï³Ý í³Õ³Å³ÙÏ»ï ³½³ï»Éáõ Ù³ëÇÝ ÙÇçÝáñ¹áõÃÛáõÝÝ»ñ | S19: =D19+E19 -> 0 | T19: =F19+K19+L19 -> 0 | U19: =K19 -> 0 | V19: =G19+H19+I19+J19 -> 0
A20: 2 | B20: å³ïÇÅÁ ÷á÷áË»Éáõ, Ñ»ï³Ó·»Éáõ ¨ å³ïÅÇó ³½³ï»Éáõ Ù³uÇÝ ÙÇçÝáñ¹áõÃÛáõÝÝ»ñ | S20: =D20+E20 -> 0 | T20: =F20+K20+L20 -> 0 | U20: =K20 -> 0 | V20: =G20+H20+I20+J20 -> 0
A21: 3 | B21: Ñ³ñÏ³¹Çñ µáõÅÙ³Ý ï»ë³ÏÇ ÷á÷áËáõÃÛ³Ý Ù³ëÇÝ ÙÇçÝáñ¹áõÃÛáõÝÝ»ñ | S21: =D21+E21 -> 0 | T21: =F21+K21+L21 -> 0 | U21: =K21 -> 0 | V21: =G21+H21+I21+J21 -> 0
A22: 4 | B22: ³ÛÉ ÙÇçÝáñ¹áõÃÛáõÝÝ»ñ | E22: 6 | G22: 1 | H22: 2 | I22: 1 | K22: 4 | L22: 2 | S22: =D22+E22 -> 6 | T22: =F22+K22+L22 -> 6 | U22: =K22 -> 4 | V22: =G22+H22+I22+J22 -> 4
A23: 5 | B23: ¹³ï³Ï³Ý Ñ³ÝÓÝ³ñ³ñáõÃÛáõÝÝ»ñ | S23: =D23+E23 -> 0 | T23: =F23+K23+L23 -> 0 | U23: =K23 -> 0 | V23: =G23+H23+I23+J23 -> 0
A24: ÀÜ¸²ØºÜÀ | D24: =D7+D8+D9+D10+D11+D12+D13+D14+D15+D17+D19+D20+D21+D22+D23+D16 -> 0 | E24: =E7+E8+E9+E10+E11+E12+E13+E14+E15+E17+E19+E20+E21+E22+E23+E16 -> 126 | F24: =F7+F8+F9+F10+F11+F12+F13+F14+F15+F17+F19+F20+F21+F22+F23+F16 -> 0 | G24: =G7+G8+G9+G10+G11+G12+G13+G14+G15+G17+G19+G20+G21+G22+G23+G16 -> 2 | H24: =H7+H8+H9+H10+H11+H12+H13+H14+H15+H17+H19+H20+H21+H22+H23+H16 -> 118 | I24: =I7+I8+I9+I10+I11+I12+I13+I14+I15+I17+I19+I20+I21+I22+I23+I16 -> 2 | J24: =J7+J8+J9+J10+J11+J12+J13+J14+J15+J17+J19+J20+J21+J22+J23+J16 -> 2 | K24: =K7+K8+K9+K10+K11+K12+K13+K14+K15+K17+K19+K20+K21+K22+K23+K16 -> 124 | ... R24: =R7+R8+R9+R10+R11+R12+R13+R14+R15+R17+R19+R20+R21+R22+R23+R16 -> 0 | S24: =D24+E24 -> 126 | T24: =F24+K24+L24 -> 126 | U24: =K24 -> 124 | V24: =G24+H24+I24+J24 -> 124

Sheet Յու. Իսկոյան 
A1: 2016Ã. | D1: Ð²ÞìºîìàôÂÚàôÜ | P1: Ð³í»Éí³Í Ð³Û³ëï³ÝÇ Ð³Ýñ³å»ïáõÃÛ³Ý ¸³ï³ñ³ÝÝ»ñÇ Ý³Ë³·³ÑÝ»ñÇ ËáñÑñ¹Ç 27.01.2017Ã. ÃÇí 01-È áñáßÙ³Ý
A2: ØÇÝã¹³ï³Ï³Ý í³ñáõÛÃÇ ÝÏ³ïÙ³Ùµ ¹³ï³Ï³Ý í»ñ³ÑëÏáÕáõÃÛ³ÝÁ, ¹³ï³Ï³Ý ³Ïï»ñÇ ¨ ¹³ï³Ï³Ý Ñ³ÝÓÝ³ñ³ñáõÃÛáõÝÝ»ñÇ Ï³ï³ñÙ³ÝÁ Ñ»ï Ï³åí³Í ÙÇçÝáñ¹áõÃÛáõÝÝ»ñÇ í»ñ³µ»ñÛ³É ¹³ï³Ï³Ý ·áñÍ»ñáí ÐÐ ¶»Õ³ñùáõÝÇùÇ Ù³ñ½Ç ÁÝ¹Ñ³Ýáõñ Çñ³í³ëáõÃÛ³Ý ³é³çÇÝ ³ïÛ³ÝÇ ¹³ï³ñ³ÝÇ ¹³ï³íáñ Յու. Իսկոյանի ·áñÍáõÝ»áõÃÛ³Ý í»ñ³µ»ñÛ³É
A3: êïáõ·Çã Ñ³í³ë³ñáõÙ` 1+2=3+8+9, 8=4+5+6+7, | D3: Ð³ßí»ïáõ Å³Ù³Ý³Ï³Ñ³ïí³ÍÇ ëÏ½µáõÙ Ý³Ëáñ¹ Ñ³ßí»ïáõ Å³Ù³Ý³Ï³Ñ³ïí³ÍÇó ÷áË³Ýóí³Í ·áñÍ»ñÇ ÁÝ¹Ñ³Ýáõñ ÃÇíÁ | E3: Ð³ßí»ïáõ Å³Ù³Ý³Ï³Ñ³ïí³ÍáõÙ ëï³óí³Í ·áñÍ»ñÇ ÁÝ¹Ñ³Ýáõñ ÃÇíÁ | F3: öáË³Ýóí»É ¿ ³ÛÉ ¹³ï³íáñÇ Ï³Ù ³ÛÉ ¹³ï³ñ³Ý (Ï³½ÙÇ ÷á÷áËáõÃÛáõÝ, ÁÝ¹¹³ïáõÃÛáõÝ) | G3: Ð³ßí»ïáõ Å³Ù³Ý³Ï³Ñ³ïí³ÍáõÙ ³í³ñïí³Í ·áñÍ»ñÇ ÁÝ¹Ñ³Ýáõñ ÃÇíÁ | L3: Ð³ßí»ïáõ Å³Ù³Ý³Ï³Ñ³ïí³ÍáõÙ ³Ý³í³ñï ·áñÍ»ñÇ ÁÝ¹Ñ³Ýáõñ ÃÇíÁ | M3: ØÇçÝáñ¹áõÃÛáõÝÝ»ñáí Ï³Û³óí³Í ¹³ï³Ï³Ý ³Ïï»ñÇó µáÕáù³ñÏí³ÍÝ»ñÇ ù³Ý³ÏÁ | O3: ²Ý³í³ñï µáÕáùÝ»ñ | P3: ØÇçÝáñ¹áõÃÛáõÝÝ»ñáí Ï³Û³óí³Í ¨ µáÕáù³ñÏí³Í ¹³ï³Ï³Ý ³Ïï»ñÇó µ»Ï³Ýí³ÍÝ»ñÇ ù³Ý³ÏÁ | R3: ÙÇçÝáñ¹áõÃÛáõÝÝ»ñáí Ï³Û³óí³Í ¨ µáÕáù³ñÏí³Í ¹³ï³Ï³Ý ³Ïï»ñÇó ³Ý÷á÷áË ÃáÕÝí³ÍÝ»ñÇ ù³Ý³ÏÁ
G4: Ù»ñÅí»É ¿ | H4: µ³í³ñ³ñí»É ¿ | I4: µ³í³ñ³ñí»É ¿ Ù³ëÝ³ÏÇ | J4: ÃáÕÝí»É ¿ ³é³Ýó ùÝÝáõÃÛ³Ý | K4: ÀÝ¹³Ù»ÝÁ
M5: Ý³Ëáñ¹ ï³ñÇÝ»ñÇÝ Ï³Û³óí³Í ³Ïï»ñÇ ¹»Ù | N5: Ñ³ßí»ïáõ Å³Ù³Ý³Ï³ßñç³ÝáõÙ Ï³Û³óí³Í ³Ïï»ñÇ ¹»Ù | P5: Ý³Ëáñ¹ ï³ñÇÝ»ñÇÝ Ï³Û³óí³Í ³Ïï»ñÇ µ»Ï³ÝáõÙÝ»ñÁ | Q5: Ñ³ßí»ïáõ Å³Ù³Ý³Ï³ßñç³ÝáõÙ Ï³Û³óí³Í ³Ïï»ñÇ µ»Ï³ÝáõÙÝ»ñÁ
A6: 1. ØÇÝã¹³ï³Ï³Ý í³ñáõÛÃÇ ÝÏ³ïÙ³Ùµ ¹³ï³Ï³Ý í»ñ³ÑëÏáÕáõÃÛ³Ý áÉáñï | D6: 1 | E6: 2 | F6: 3 | G6: 4 | H6: 5 | I6: 6 | J6: 7 | K6: 8 | L6: 9 | M6: 10 | N6: 11 | O6: 12 | P6: 13 | Q6: 14 | R6: 15 | S6: 1+2=3+8+9 | U6: 8=4+5+6+7
A7: 1 | B7: Ï³É³ÝùÁ áñå»ë Ë³÷³ÝÙ³Ý ÙÇçáó ÏÇñ³é»Éáõ Ù³ëÇÝ ÙÇçÝáñ¹áõÃÛáõÝÝ»ñ | E7: 18 | H7: 18 | K7: 18 | N7: 1 | O7: 1 | R7: 1 | S7: =D7+E7 -> 18 | T7: =F7+K7+L7 -> 18 | U7: =K7 -> 18 | V7: =G7+H7+I7+J7 -> 18
A8: 2 | B8: Ï³É³ÝùÇ Å³ÙÏ»ïÁ »ñÏ³ñ³óÝ»Éáõ Ù³ëÇÝ ÙÇçÝáñ¹áõÃÛáõÝÝ»ñ | E8: 20 | H8: 18 | I8: 2 | K8: 20 | N8: 2 | S8: =D8+E8 -> 20 | T8: =F8+K8+L8 -> 20 | U8: =K8 -> 20 | V8: =G8+H8+I8+J8 -> 20
A9: 3 | B9: Ï³É³ÝùÇ í»ñ³Ñ³ëï³ïÙ³Ý Ù³ëÇÝ ÙÇçÝáñ¹áõÃÛáõÝÝ»ñ | E9: 6 | H9: 6 | K9: 6 | N9: 4 | O9: 1 | S9: =D9+E9 -> 6 | T9: =F9+K9+L9 -> 6 | U9: =K9 -> 6 | V9: =G9+H9+I9+J9 -> 6
A10: 4 | B10: ·ñ³íÁ áñå»ë Ï³É³Ý³íáñÙ³Ý ³ÛÉÁÝïñ³Ýù³ÛÇÝ Ë³÷³ÝÙ³Ý ÙÇçáó ÏÇñ³é»Éáõ Ù³ëÇÝ ÙÇçÝáñ¹áõÃÛáõÝÝ»ñ | E10: 16 | G10: 15 | H10: 1 | K10: 16 | M10: 1 | N10: 7 | S10: =D10+E10 -> 16 | T10: =F10+K10+L10 -> 16 | U10: =K10 -> 16 | V10: =G10+H10+I10+J10 -> 16
A11: 5 | B11: Ëáõ½³ñÏáõÃÛ³Ý Ï³ï³ñÙ³Ý Ù³ëÇÝ ÙÇçÝáñ¹áõÃÛáõÝÝ»ñ | E11: 86 | G11: 6 | H11: 80 | K11: 86 | S11: =D11+E11 -> 86 | T11: =F11+K11+L11 -> 86 | U11: =K11 -> 86 | V11: =G11+H11+I11+J11 -> 86
A12: 6 | B12: µ³ÝÏ³ÛÇÝ, ³å³Ñáí³·ñ³Ï³Ý, Ýáï³ñ³Ï³Ý ·³ÕïÝÇù Ï³½ÙáÕ ï»Õ»ÏáõÃÛáõÝÝ»ñÇ ëï³óÙ³Ý Ñ³Ù³ñ Ëáõ½³ñÏáõÃÛ³Ý Ï³Ù ³é·ñ³íÙ³Ý Ï³ï³ñÙ³Ý Ù³ëÇÝ ÙÇçÝáñ¹áõÃÛáõÝÝ»ñ | E12: 1 | H12: 1 | K12: 1 | S12: =D12+E12 -> 1 | T12: =F12+K12+L12 -> 1 | U12: =K12 -> 1 | V12: =G12+H12+I12+J12 -> 1
A13: 7 | B13: Ý³Ù³Ï³·ñáõÃÛ³Ý, Ñ»é³·ñ³Ï³Ý, ÷áuï³ÛÇÝ Ñ³Õáñ¹áõÙÝ»ñÇ ÑëÏáÕáõÃÛ³Ý Ù³ëÇÝ ÙÇçÝáñ¹áõÃÛáõÝÝ»ñ | S13: =D13+E13 -> 0 | T13: =F13+K13+L13 -> 0 | U13: =K13 -> 0 | V13: =G13+H13+I13+J13 -> 0
A14: 8 | B14: Ñ»é³Ëáu³ÛÇÝ Ï³Ù Ï³åÇ ³ÛÉ ÙÇçáóÝ»ñáí ï³ñíáÕ Ëáu³ÏóáõÃÛáõÝÝ»ñÇ ÉuÙ³Ý ¨ Ó³ÛÝ³·ñ³éÙ³Ý Ù³ëÇÝ ÙÇçÝáñ¹áõÃÛáõÝÝ»ñ | E14: 2 | H14: 2 | K14: 2 | S14: =D14+E14 -> 2 | T14: =F14+K14+L14 -> 2 | U14: =K14 -> 2 | V14: =G14+H14+I14+J14 -> 2
A15: 9 | B15: Ñ»é³ËáëÝ»ñÇ Ùáõïù³ÛÇÝ ¨ »Éù³ÛÇÝ í»ñÍ³ÝÙ³Ý ÃáõÛÉïíáõÃÛáõÝ ëï³Ý³Éáõ Ù³ëÇÝ ÙÇçÝáñ¹áõÃÛáõÝÝ»ñ | E15: 54 | H15: 53 | J15: 1 | K15: 54 | S15: =D15+E15 -> 54 | T15: =F15+K15+L15 -> 54 | U15: =K15 -> 54 | V15: =G15+H15+I15+J15 -> 54
A16: 10 | B16: Ñ»ï³ùÝÝáõÃÛ³Ý Ù³ñÙÝÇ ³ßË³ïáÕÇ, ùÝÝÇãÇ, ¹³ï³Ë³½Ç oå»ñ³ïÇí-Ñ»ï³Ëáõ½³Ï³Ý ·áñÍáÕáõÃÛáõÝÝ»ñ Çñ³Ï³Ý³óÝáÕ Ù³ñÙÇÝÝ»ñÇ ³ÝoñÇÝ³Ï³Ý ¨ ³ÝÑÇÙÝ áñáßáõÙÝ»ñÇ ¨ ·áñÍáÕáõÃÛáõÝÝ»ñÇ ¹»Ù µáÕáùÝ»ñ | E16: 11 | G16: 8 | H16: 2 | K16: 10 | L16: 1 | N16: 5 | O16: 3 | Q16: 1 | S16: =D16+E16 -> 11 | T16: =F16+K16+L16 -> 11 | U16: =K16 -> 10 | V16: =G16+H16+I16+J16 -> 10
A17: 11 | B17: ²½³ïáõÃÛáõÝÇó ½ñÏ»Éáõ Çñ³í³ã³÷áõÃÛ³Ý í»ñ³µ»ñÛ³É µáÕáùÝ»ñáí ·áñÍ»ñ | S17: =D17+E17 -> 0 | T17: =F17+K17+L17 -> 0 | U17: =K17 -> 0 | V17: =G17+H17+I17+J17 -> 0
A18: 2. ¸³ï³Ï³Ý ³Ïï»ñÇ ¨ ¹³ï³Ï³Ý Ñ³ÝÓÝ³ñ³ñáõÃÛáõÝÝ»ñÇ Ï³ï³ñÙ³Ý Ñ»ï Ï³åí³Í Ñ³ñó»ñÇ ÉáõÍÙ³Ý áÉáñï
A19: 1 | B19: å³ïÅÇó å³ÛÙ³Ý³Ï³Ý í³Õ³Å³ÙÏ»ï ³½³ï»Éáõ Ù³ëÇÝ ÙÇçÝáñ¹áõÃÛáõÝÝ»ñ | S19: =D19+E19 -> 0 | T19: =F19+K19+L19 -> 0 | U19: =K19 -> 0 | V19: =G19+H19+I19+J19 -> 0
A20: 2 | B20: å³ïÇÅÁ ÷á÷áË»Éáõ, Ñ»ï³Ó·»Éáõ ¨ å³ïÅÇó ³½³ï»Éáõ Ù³uÇÝ ÙÇçÝáñ¹áõÃÛáõÝÝ»ñ | E20: 9 | G20: 2 | I20: 3 | K20: 5 | L20: 4 | S20: =D20+E20 -> 9 | T20: =F20+K20+L20 -> 9 | U20: =K20 -> 5 | V20: =G20+H20+I20+J20 -> 5
A21: 3 | B21: Ñ³ñÏ³¹Çñ µáõÅÙ³Ý ï»ë³ÏÇ ÷á÷áËáõÃÛ³Ý Ù³ëÇÝ ÙÇçÝáñ¹áõÃÛáõÝÝ»ñ | E21: 3 | G21: 2 | H21: 1 | K21: 3 | S21: =D21+E21 -> 3 | T21: =F21+K21+L21 -> 3 | U21: =K21 -> 3 | V21: =G21+H21+I21+J21 -> 3
A22: 4 | B22: ³ÛÉ ÙÇçÝáñ¹áõÃÛáõÝÝ»ñ | D22: 1 | E22: 7 | G22: 2 | H22: 5 | I22: 1 | K22: 8 | N22: 1 | O22: 1 | S22: =D22+E22 -> 8 | T22: =F22+K22+L22 -> 8 | U22: =K22 -> 8 | V22: =G22+H22+I22+J22 -> 8
A23: 5 | B23: ¹³ï³Ï³Ý Ñ³ÝÓÝ³ñ³ñáõÃÛáõÝÝ»ñ | D23: 2 | E23: 1 | H23: 3 | K23: 3 | S23: =D23+E23 -> 3 | T23: =F23+K23+L23 -> 3 | U23: =K23 -> 3 | V23: =G23+H23+I23+J23 -> 3
A24: ÀÜ¸²ØºÜÀ | D24: =D7+D8+D9+D10+D11+D12+D13+D14+D15+D17+D19+D20+D21+D22+D23+D16 -> 3 | E24: =E7+E8+E9+E10+E11+E12+E13+E14+E15+E17+E19+E20+E21+E22+E23+E16 -> 234 | F24: =F7+F8+F9+F10+F11+F12+F13+F14+F15+F17+F19+F20+F21+F22+F23+F16 -> 0 | G24: =G7+G8+G9+G10+G11+G12+G13+G14+G15+G17+G19+G20+G21+G22+G23+G16 -> 35 | H24: =H7+H8+H9+H10+H11+H12+H13+H14+H15+H17+H19+H20+H21+H22+H23+H16 -> 190 | I24: =I7+I8+I9+I10+I11+I12+I13+I14+I15+I17+I19+I20+I21+I22+I23+I16 -> 6 | J24: =J7+J8+J9+J10+J11+J12+J13+J14+J15+J17+J19+J20+J21+J22+J23+J16 -> 1 | K24: =K7+K8+K9+K10+K11+K12+K13+K14+K15+K17+K19+K20+K21+K22+K23+K16 -> 232 | ... R24: =R7+R8+R9+R10+R11+R12+R13+R14+R15+R17+R19+R20+R21+R22+R23+R16 -> 1 | S24: =D24+E24 -> 237 | T24: =F24+K24+L24 -> 237 | U24: =K24 -> 232 | V24: =G24+H24+I24+J24 -> 232

Sheet Վ. Հարությունյան
A1: 2016Ã. | D1: Ð²ÞìºîìàôÂÚàôÜ | P1: Ð³í»Éí³Í Ð³Û³ëï³ÝÇ Ð³Ýñ³å»ïáõÃÛ³Ý ¸³ï³ñ³ÝÝ»ñÇ Ý³Ë³·³ÑÝ»ñÇ ËáñÑñ¹Ç 27.01.2017Ã. ÃÇí 01-È áñáßÙ³Ý
A2: ØÇÝã¹³ï³Ï³Ý í³ñáõÛÃÇ ÝÏ³ïÙ³Ùµ ¹³ï³Ï³Ý í»ñ³ÑëÏáÕáõÃÛ³ÝÁ, ¹³ï³Ï³Ý ³Ïï»ñÇ ¨ ¹³ï³Ï³Ý Ñ³ÝÓÝ³ñ³ñáõÃÛáõÝÝ»ñÇ Ï³ï³ñÙ³ÝÁ Ñ»ï Ï³åí³Í ÙÇçÝáñ¹áõÃÛáõÝÝ»ñÇ í»ñ³µ»ñÛ³É ¹³ï³Ï³Ý ·áñÍ»ñáí ÐÐ ¶»Õ³ñùáõÝÇùÇ Ù³ñ½Ç ÁÝ¹Ñ³Ýáõñ Çñ³í³ëáõÃÛ³Ý ³é³çÇÝ ³ïÛ³ÝÇ ¹³ï³ñ³ÝÇ ¹³ï³íáñ ì. Ð³ñáõÃÛáõÝÛ³ÝÇ ·áñÍáõÝ»áõÃÛ³Ý í»ñ³µ»ñÛ³É
A3: êïáõ·Çã Ñ³í³ë³ñáõÙ` 1+2=3+8+9, 8=4+5+6+7, | D3: Ð³ßí»ïáõ Å³Ù³Ý³Ï³Ñ³ïí³ÍÇ ëÏ½µáõÙ Ý³Ëáñ¹ Ñ³ßí»ïáõ Å³Ù³Ý³Ï³Ñ³ïí³ÍÇó ÷áË³Ýóí³Í ·áñÍ»ñÇ ÁÝ¹Ñ³Ýáõñ ÃÇíÁ | E3: Ð³ßí»ïáõ Å³Ù³Ý³Ï³Ñ³ïí³ÍáõÙ ëï³óí³Í ·áñÍ»ñÇ ÁÝ¹Ñ³Ýáõñ ÃÇíÁ | F3: öáË³Ýóí»É ¿ ³ÛÉ ¹³ï³íáñÇ Ï³Ù ³ÛÉ ¹³ï³ñ³Ý (Ï³½ÙÇ ÷á÷áËáõÃÛáõÝ, ÁÝ¹¹³ïáõÃÛáõÝ) | G3: Ð³ßí»ïáõ Å³Ù³Ý³Ï³Ñ³ïí³ÍáõÙ ³í³ñïí³Í ·áñÍ»ñÇ ÁÝ¹Ñ³Ýáõñ ÃÇíÁ | L3: Ð³ßí»ïáõ Å³Ù³Ý³Ï³Ñ³ïí³ÍáõÙ ³Ý³í³ñï ·áñÍ»ñÇ ÁÝ¹Ñ³Ýáõñ ÃÇíÁ | M3: ØÇçÝáñ¹áõÃÛáõÝÝ»ñáí Ï³Û³óí³Í ¹³ï³Ï³Ý ³Ïï»ñÇó µáÕáù³ñÏí³ÍÝ»ñÇ ù³Ý³ÏÁ | O3: ²Ý³í³ñï µáÕáùÝ»ñ | P3: ØÇçÝáñ¹áõÃÛáõÝÝ»ñáí Ï³Û³óí³Í ¨ µáÕáù³ñÏí³Í ¹³ï³Ï³Ý ³Ïï»ñÇó µ»Ï³Ýí³ÍÝ»ñÇ ù³Ý³ÏÁ | R3: ÙÇçÝáñ¹áõÃÛáõÝÝ»ñáí Ï³Û³óí³Í ¨ µáÕáù³ñÏí³Í ¹³ï³Ï³Ý ³Ïï»ñÇó ³Ý÷á÷áË ÃáÕÝí³ÍÝ»ñÇ ù³Ý³ÏÁ
G4: Ù»ñÅí»É ¿ | H4: µ³í³ñ³ñí»É ¿ | I4: µ³í³ñ³ñí»É ¿ Ù³ëÝ³ÏÇ | J4: ÃáÕÝí»É ¿ ³é³Ýó ùÝÝáõÃÛ³Ý | K4: ÀÝ¹³Ù»ÝÁ
M5: Ý³Ëáñ¹ ï³ñÇÝ»ñÇÝ Ï³Û³óí³Í ³Ïï»ñÇ ¹»Ù | N5: Ñ³ßí»ïáõ Å³Ù³Ý³Ï³ßñç³ÝáõÙ Ï³Û³óí³Í ³Ïï»ñÇ ¹»Ù | P5: Ý³Ëáñ¹ ï³ñÇÝ»ñÇÝ Ï³Û³óí³Í ³Ïï»ñÇ µ»Ï³ÝáõÙÝ»ñÁ | Q5: Ñ³ßí»ïáõ Å³Ù³Ý³Ï³ßñç³ÝáõÙ Ï³Û³óí³Í ³Ïï»ñÇ µ»Ï³ÝáõÙÝ»ñÁ
A6: 1. ØÇÝã¹³ï³Ï³Ý í³ñáõÛÃÇ ÝÏ³ïÙ³Ùµ ¹³ï³Ï³Ý í»ñ³ÑëÏáÕáõÃÛ³Ý áÉáñï | D6: 1 | E6: 2 | F6: 3 | G6: 4 | H6: 5 | I6: 6 | J6: 7 | K6: 8 | L6: 9 | M6: 10 | N6: 11 | O6: 12 | P6: 13 | Q6: 14 | R6: 15 | S6: 1+2=3+8+9 | U6: 8=4+5+6+7
A7: 1 | B7: Ï³É³ÝùÁ áñå»ë Ë³÷³ÝÙ³Ý ÙÇçáó ÏÇñ³é»Éáõ Ù³ëÇÝ ÙÇçÝáñ¹áõÃÛáõÝÝ»ñ | E7: 11 | H7: 11 | K7: 11 | N7: 1 | R7: 1 | S7: =D7+E7 -> 11 | T7: =F7+K7+L7 -> 11 | U7: =K7 -> 11 | V7: =G7+H7+I7+J7 -> 11
A8: 2 | B8: Ï³É³ÝùÇ Å³ÙÏ»ïÁ »ñÏ³ñ³óÝ»Éáõ Ù³ëÇÝ ÙÇçÝáñ¹áõÃÛáõÝÝ»ñ | E8: 21 | H8: 19 | I8: 2 | K8: 21 | N8: 1 | R8: 1 | S8: =D8+E8 -> 21 | T8: =F8+K8+L8 -> 21 | U8: =K8 -> 21 | V8: =G8+H8+I8+J8 -> 21
A9: 3 | B9: Ï³É³ÝùÇ í»ñ³Ñ³ëï³ïÙ³Ý Ù³ëÇÝ ÙÇçÝáñ¹áõÃÛáõÝÝ»ñ | E9: 3 | H9: 3 | K9: 3 | S9: =D9+E9 -> 3 | T9: =F9+K9+L9 -> 3 | U9: =K9 -> 3 | V9: =G9+H9+I9+J9 -> 3
A10: 4 | B10: ·ñ³íÁ áñå»ë Ï³É³Ý³íáñÙ³Ý ³ÛÉÁÝïñ³Ýù³ÛÇÝ Ë³÷³ÝÙ³Ý ÙÇçáó ÏÇñ³é»Éáõ Ù³ëÇÝ ÙÇçÝáñ¹áõÃÛáõÝÝ»ñ | E10: 11 | G10: 8 | H10: 3 | K10: 11 | N10: 2 | R10: 2 | S10: =D10+E10 -> 11 | T10: =F10+K10+L10 -> 11 | U10: =K10 -> 11 | V10: =G10+H10+I10+J10 -> 11
A11: 5 | B11: Ëáõ½³ñÏáõÃÛ³Ý Ï³ï³ñÙ³Ý Ù³ëÇÝ ÙÇçÝáñ¹áõÃÛáõÝÝ»ñ | E11: 38 | G11: 5 | H11: 33 | K11: 38 | S11: =D11+E11 -> 38 | T11: =F11+K11+L11 -> 38 | U11: =K11 -> 38 | V11: =G11+H11+I11+J11 -> 38
A12: 6 | B12: µ³ÝÏ³ÛÇÝ, ³å³Ñáí³·ñ³Ï³Ý, Ýáï³ñ³Ï³Ý ·³ÕïÝÇù Ï³½ÙáÕ ï»Õ»ÏáõÃÛáõÝÝ»ñÇ ëï³óÙ³Ý Ñ³Ù³ñ Ëáõ½³ñÏáõÃÛ³Ý Ï³Ù ³é·ñ³íÙ³Ý Ï³ï³ñÙ³Ý Ù³ëÇÝ ÙÇçÝáñ¹áõÃÛáõÝÝ»ñ | E12: 2 | H12: 2 | K12: 2 | S12: =D12+E12 -> 2 | T12: =F12+K12+L12 -> 2 | U12: =K12 -> 2 | V12: =G12+H12+I12+J12 -> 2
A13: 7 | B13: Ý³Ù³Ï³·ñáõÃÛ³Ý, Ñ»é³·ñ³Ï³Ý, ÷áuï³ÛÇÝ Ñ³Õáñ¹áõÙÝ»ñÇ ÑëÏáÕáõÃÛ³Ý Ù³ëÇÝ ÙÇçÝáñ¹áõÃÛáõÝÝ»ñ | S13: =D13+E13 -> 0 | T13: =F13+K13+L13 -> 0 | U13: =K13 -> 0 | V13: =G13+H13+I13+J13 -> 0
A14: 8 | B14: Ñ»é³Ëáu³ÛÇÝ Ï³Ù Ï³åÇ ³ÛÉ ÙÇçáóÝ»ñáí ï³ñíáÕ Ëáu³ÏóáõÃÛáõÝÝ»ñÇ ÉuÙ³Ý ¨ Ó³ÛÝ³·ñ³éÙ³Ý Ù³ëÇÝ ÙÇçÝáñ¹áõÃÛáõÝÝ»ñ | S14: =D14+E14 -> 0 | T14: =F14+K14+L14 -> 0 | U14: =K14 -> 0 | V14: =G14+H14+I14+J14 -> 0
A15: 9 | B15: Ñ»é³ËáëÝ»ñÇ Ùáõïù³ÛÇÝ ¨ »Éù³ÛÇÝ í»ñÍ³ÝÙ³Ý ÃáõÛÉïíáõÃÛáõÝ ëï³Ý³Éáõ Ù³ëÇÝ ÙÇçÝáñ¹áõÃÛáõÝÝ»ñ | E15: 41 | G15: 1 | H15: 40 | K15: 41 | S15: =D15+E15 -> 41 | T15: =F15+K15+L15 -> 41 | U15: =K15 -> 41 | V15: =G15+H15+I15+J15 -> 41
A16: 10 | B16: Ñ»ï³ùÝÝáõÃÛ³Ý Ù³ñÙÝÇ ³ßË³ïáÕÇ, ùÝÝÇãÇ, ¹³ï³Ë³½Ç oå»ñ³ïÇí-Ñ»ï³Ëáõ½³Ï³Ý ·áñÍáÕáõÃÛáõÝÝ»ñ Çñ³Ï³Ý³óÝáÕ Ù³ñÙÇÝÝ»ñÇ ³ÝoñÇÝ³Ï³Ý ¨ ³ÝÑÇÙÝ áñáßáõÙÝ»ñÇ ¨ ·áñÍáÕáõÃÛáõÝÝ»ñÇ ¹»Ù µáÕáùÝ»ñ | D16: 2 | E16: 5 | G16: 4 | I16: 1 | K16: 5 | L16: 2 | N16: 1 | S16: =D16+E16 -> 7 | T16: =F16+K16+L16 -> 7 | U16: =K16 -> 5 | V16: =G16+H16+I16+J16 -> 5
A17: 11 | B17: ²½³ïáõÃÛáõÝÇó ½ñÏ»Éáõ Çñ³í³ã³÷áõÃÛ³Ý í»ñ³µ»ñÛ³É µáÕáùÝ»ñáí ·áñÍ»ñ | E17: 1 | G17: 1 | K17: 1 | N17: 1 | S17: =D17+E17 -> 1 | T17: =F17+K17+L17 -> 1 | U17: =K17 -> 1 | V17: =G17+H17+I17+J17 -> 1
A18: 2. ¸³ï³Ï³Ý ³Ïï»ñÇ ¨ ¹³ï³Ï³Ý Ñ³ÝÓÝ³ñ³ñáõÃÛáõÝÝ»ñÇ Ï³ï³ñÙ³Ý Ñ»ï Ï³åí³Í Ñ³ñó»ñÇ ÉáõÍÙ³Ý áÉáñï
A19: 1 | B19: å³ïÅÇó å³ÛÙ³Ý³Ï³Ý í³Õ³Å³ÙÏ»ï ³½³ï»Éáõ Ù³ëÇÝ ÙÇçÝáñ¹áõÃÛáõÝÝ»ñ | S19: =D19+E19 -> 0 | T19: =F19+K19+L19 -> 0 | U19: =K19 -> 0 | V19: =G19+H19+I19+J19 -> 0
A20: 2 | B20: å³ïÇÅÁ ÷á÷áË»Éáõ, Ñ»ï³Ó·»Éáõ ¨ å³ïÅÇó ³½³ï»Éáõ Ù³uÇÝ ÙÇçÝáñ¹áõÃÛáõÝÝ»ñ | E20: 1 | L20: 1 | S20: =D20+E20 -> 1 | T20: =F20+K20+L20 -> 1 | U20: =K20 -> 0 | V20: =G20+H20+I20+J20 -> 0
A21: 3 | B21: Ñ³ñÏ³¹Çñ µáõÅÙ³Ý ï»ë³ÏÇ ÷á÷áËáõÃÛ³Ý Ù³ëÇÝ ÙÇçÝáñ¹áõÃÛáõÝÝ»ñ | S21: =D21+E21 -> 0 | T21: =F21+K21+L21 -> 0 | U21: =K21 -> 0 | V21: =G21+H21+I21+J21 -> 0
A22: 4 | B22: ³ÛÉ ÙÇçÝáñ¹áõÃÛáõÝÝ»ñ | E22: 4 | G22: 2 | K22: 2 | L22: 2 | S22: =D22+E22 -> 4 | T22: =F22+K22+L22 -> 4 | U22: =K22 -> 2 | V22: =G22+H22+I22+J22 -> 2
A23: 5 | B23: ¹³ï³Ï³Ý Ñ³ÝÓÝ³ñ³ñáõÃÛáõÝÝ»ñ | S23: =D23+E23 -> 0 | T23: =F23+K23+L23 -> 0 | U23: =K23 -> 0 | V23: =G23+H23+I23+J23 -> 0
A24: ÀÜ¸²ØºÜÀ | D24: =D7+D8+D9+D10+D11+D12+D13+D14+D15+D17+D19+D20+D21+D22+D23+D16 -> 2 | E24: =E7+E8+E9+E10+E11+E12+E13+E14+E15+E17+E19+E20+E21+E22+E23+E16 -> 138 | F24: =F7+F8+F9+F10+F11+F12+F13+F14+F15+F17+F19+F20+F21+F22+F23+F16 -> 0 | G24: =G7+G8+G9+G10+G11+G12+G13+G14+G15+G17+G19+G20+G21+G22+G23+G16 -> 21 | H24: =H7+H8+H9+H10+H11+H12+H13+H14+H15+H17+H19+H20+H21+H22+H23+H16 -> 111 | I24: =I7+I8+I9+I10+I11+I12+I13+I14+I15+I17+I19+I20+I21+I22+I23+I16 -> 3 | J24: =J7+J8+J9+J10+J11+J12+J13+J14+J15+J17+J19+J20+J21+J22+J23+J16 -> 0 | K24: =K7+K8+K9+K10+K11+K12+K13+K14+K15+K17+K19+K20+K21+K22+K23+K16 -> 135 | ... R24: =R7+R8+R9+R10+R11+R12+R13+R14+R15+R17+R19+R20+R21+R22+R23+R16 -> 4 | S24: =D24+E24 -> 140 | T24: =F24+K24+L24 -> 140 | U24: =K24 -> 135 | V24: =G24+H24+I24+J24 -> 135

Sheet Մ. Հարությունյան
A1: 2016Ã. | D1: Ð²ÞìºîìàôÂÚàôÜ | P1: Ð³í»Éí³Í Ð³Û³ëï³ÝÇ Ð³Ýñ³å»ïáõÃÛ³Ý ¸³ï³ñ³ÝÝ»ñÇ Ý³Ë³·³ÑÝ»ñÇ ËáñÑñ¹Ç 27.01.2017Ã. ÃÇí 01-È áñáßÙ³Ý
A2: ØÇÝã¹³ï³Ï³Ý í³ñáõÛÃÇ ÝÏ³ïÙ³Ùµ ¹³ï³Ï³Ý í»ñ³ÑëÏáÕáõÃÛ³ÝÁ, ¹³ï³Ï³Ý ³Ïï»ñÇ ¨ ¹³ï³Ï³Ý Ñ³ÝÓÝ³ñ³ñáõÃÛáõÝÝ»ñÇ Ï³ï³ñÙ³ÝÁ Ñ»ï Ï³åí³Í ÙÇçÝáñ¹áõÃÛáõÝÝ»ñÇ í»ñ³µ»ñÛ³É ¹³ï³Ï³Ý ·áñÍ»ñáí ÐÐ ¶»Õ³ñùáõÝÇùÇ Ù³ñ½Ç ÁÝ¹Ñ³Ýáõñ Çñ³í³ëáõÃÛ³Ý ³é³çÇÝ ³ïÛ³ÝÇ ¹³ï³ñ³ÝÇ ¹³ï³íáñ Մ. Հարությունյանի ·áñÍáõÝ»áõÃÛ³Ý í»ñ³µ»ñÛ³É
A3: êïáõ·Çã Ñ³í³ë³ñáõÙ` 1+2=3+8+9, 8=4+5+6+7, | D3: Ð³ßí»ïáõ Å³Ù³Ý³Ï³Ñ³ïí³ÍÇ ëÏ½µáõÙ Ý³Ëáñ¹ Ñ³ßí»ïáõ Å³Ù³Ý³Ï³Ñ³ïí³ÍÇó ÷áË³Ýóí³Í ·áñÍ»ñÇ ÁÝ¹Ñ³Ýáõñ ÃÇíÁ | E3: Ð³ßí»ïáõ Å³Ù³Ý³Ï³Ñ³ïí³ÍáõÙ ëï³óí³Í ·áñÍ»ñÇ ÁÝ¹Ñ³Ýáõñ ÃÇíÁ | F3: öáË³Ýóí»É ¿ ³ÛÉ ¹³ï³íáñÇ Ï³Ù ³ÛÉ ¹³ï³ñ³Ý (Ï³½ÙÇ ÷á÷áËáõÃÛáõÝ, ÁÝ¹¹³ïáõÃÛáõÝ) | G3: Ð³ßí»ïáõ Å³Ù³Ý³Ï³Ñ³ïí³ÍáõÙ ³í³ñïí³Í ·áñÍ»ñÇ ÁÝ¹Ñ³Ýáõñ ÃÇíÁ | L3: Ð³ßí»ïáõ Å³Ù³Ý³Ï³Ñ³ïí³ÍáõÙ ³Ý³í³ñï ·áñÍ»ñÇ ÁÝ¹Ñ³Ýáõñ ÃÇíÁ | M3: ØÇçÝáñ¹áõÃÛáõÝÝ»ñáí Ï³Û³óí³Í ¹³ï³Ï³Ý ³Ïï»ñÇó µáÕáù³ñÏí³ÍÝ»ñÇ ù³Ý³ÏÁ | O3: ²Ý³í³ñï µáÕáùÝ»ñ | P3: ØÇçÝáñ¹áõÃÛáõÝÝ»ñáí Ï³Û³óí³Í ¨ µáÕáù³ñÏí³Í ¹³ï³Ï³Ý ³Ïï»ñÇó µ»Ï³Ýí³ÍÝ»ñÇ ù³Ý³ÏÁ | R3: ÙÇçÝáñ¹áõÃÛáõÝÝ»ñáí Ï³Û³óí³Í ¨ µáÕáù³ñÏí³Í ¹³ï³Ï³Ý ³Ïï»ñÇó ³Ý÷á÷áË ÃáÕÝí³ÍÝ»ñÇ ù³Ý³ÏÁ
G4: Ù»ñÅí»É ¿ | H4: µ³í³ñ³ñí»É ¿ | I4: µ³í³ñ³ñí»É ¿ Ù³ëÝ³ÏÇ | J4: ÃáÕÝí»É ¿ ³é³Ýó ùÝÝáõÃÛ³Ý | K4: ÀÝ¹³Ù»ÝÁ
M5: Ý³Ëáñ¹ ï³ñÇÝ»ñÇÝ Ï³Û³óí³Í ³Ïï»ñÇ ¹»Ù | N5: Ñ³ßí»ïáõ Å³Ù³Ý³Ï³ßñç³ÝáõÙ Ï³Û³óí³Í ³Ïï»ñÇ ¹»Ù | P5: Ý³Ëáñ¹ ï³ñÇÝ»ñÇÝ Ï³Û³óí³Í ³Ïï»ñÇ µ»Ï³ÝáõÙÝ»ñÁ | Q5: Ñ³ßí»ïáõ Å³Ù³Ý³Ï³ßñç³ÝáõÙ Ï³Û³óí³Í ³Ïï»ñÇ µ»Ï³ÝáõÙÝ»ñÁ
A6: 1. ØÇÝã¹³ï³Ï³Ý í³ñáõÛÃÇ ÝÏ³ïÙ³Ùµ ¹³ï³Ï³Ý í»ñ³ÑëÏáÕáõÃÛ³Ý áÉáñï | D6: 1 | E6: 2 | F6: 3 | G6: 4 | H6: 5 | I6: 6 | J6: 7 | K6: 8 | L6: 9 | M6: 10 | N6: 11 | O6: 12 | P6: 13 | Q6: 14 | R6: 15 | S6: 1+2=3+8+9 | U6: 8=4+5+6+7
A7: 1 | B7: Ï³É³ÝùÁ áñå»ë Ë³÷³ÝÙ³Ý ÙÇçáó ÏÇñ³é»Éáõ Ù³ëÇÝ ÙÇçÝáñ¹áõÃÛáõÝÝ»ñ | E7: 6 | H7: 6 | K7: 6 | N7: 1 | R7: 1 | S7: =D7+E7 -> 6 | T7: =F7+K7+L7 -> 6 | U7: =K7 -> 6 | V7: =G7+H7+I7+J7 -> 6
A8: 2 | B8: Ï³É³ÝùÇ Å³ÙÏ»ïÁ »ñÏ³ñ³óÝ»Éáõ Ù³ëÇÝ ÙÇçÝáñ¹áõÃÛáõÝÝ»ñ | E8: 10 | G8: 1 | H8: 8 | I8: 1 | K8: 10 | N8: 4 | R8: 4 | S8: =D8+E8 -> 10 | T8: =F8+K8+L8 -> 10 | U8: =K8 -> 10 | V8: =G8+H8+I8+J8 -> 10
A9: 3 | B9: Ï³É³ÝùÇ í»ñ³Ñ³ëï³ïÙ³Ý Ù³ëÇÝ ÙÇçÝáñ¹áõÃÛáõÝÝ»ñ | E9: 1 | H9: 1 | K9: 1 | S9: =D9+E9 -> 1 | T9: =F9+K9+L9 -> 1 | U9: =K9 -> 1 | V9: =G9+H9+I9+J9 -> 1
A10: 4 | B10: ·ñ³íÁ áñå»ë Ï³É³Ý³íáñÙ³Ý ³ÛÉÁÝïñ³Ýù³ÛÇÝ Ë³÷³ÝÙ³Ý ÙÇçáó ÏÇñ³é»Éáõ Ù³ëÇÝ ÙÇçÝáñ¹áõÃÛáõÝÝ»ñ | E10: 11 | G10: 9 | H10: 2 | K10: 11 | N10: 3 | O10: 1 | R10: 2 | S10: =D10+E10 -> 11 | T10: =F10+K10+L10 -> 11 | U10: =K10 -> 11 | V10: =G10+H10+I10+J10 -> 11
A11: 5 | B11: Ëáõ½³ñÏáõÃÛ³Ý Ï³ï³ñÙ³Ý Ù³ëÇÝ ÙÇçÝáñ¹áõÃÛáõÝÝ»ñ | E11: 14 | G11: 7 | H11: 7 | K11: 14 | N11: 2 | R11: 2 | S11: =D11+E11 -> 14 | T11: =F11+K11+L11 -> 14 | U11: =K11 -> 14 | V11: =G11+H11+I11+J11 -> 14
A12: 6 | B12: µ³ÝÏ³ÛÇÝ, ³å³Ñáí³·ñ³Ï³Ý, Ýáï³ñ³Ï³Ý ·³ÕïÝÇù Ï³½ÙáÕ ï»Õ»ÏáõÃÛáõÝÝ»ñÇ ëï³óÙ³Ý Ñ³Ù³ñ Ëáõ½³ñÏáõÃÛ³Ý Ï³Ù ³é·ñ³íÙ³Ý Ï³ï³ñÙ³Ý Ù³ëÇÝ ÙÇçÝáñ¹áõÃÛáõÝÝ»ñ | S12: =D12+E12 -> 0 | T12: =F12+K12+L12 -> 0 | U12: =K12 -> 0 | V12: =G12+H12+I12+J12 -> 0
A13: 7 | B13: Ý³Ù³Ï³·ñáõÃÛ³Ý, Ñ»é³·ñ³Ï³Ý, ÷áuï³ÛÇÝ Ñ³Õáñ¹áõÙÝ»ñÇ ÑëÏáÕáõÃÛ³Ý Ù³ëÇÝ ÙÇçÝáñ¹áõÃÛáõÝÝ»ñ | S13: =D13+E13 -> 0 | T13: =F13+K13+L13 -> 0 | U13: =K13 -> 0 | V13: =G13+H13+I13+J13 -> 0
A14: 8 | B14: Ñ»é³Ëáu³ÛÇÝ Ï³Ù Ï³åÇ ³ÛÉ ÙÇçáóÝ»ñáí ï³ñíáÕ Ëáu³ÏóáõÃÛáõÝÝ»ñÇ ÉuÙ³Ý ¨ Ó³ÛÝ³·ñ³éÙ³Ý Ù³ëÇÝ ÙÇçÝáñ¹áõÃÛáõÝÝ»ñ | S14: =D14+E14 -> 0 | T14: =F14+K14+L14 -> 0 | U14: =K14 -> 0 | V14: =G14+H14+I14+J14 -> 0
A15: 9 | B15: Ñ»é³ËáëÝ»ñÇ Ùáõïù³ÛÇÝ ¨ »Éù³ÛÇÝ í»ñÍ³ÝÙ³Ý ÃáõÛÉïíáõÃÛáõÝ ëï³Ý³Éáõ Ù³ëÇÝ ÙÇçÝáñ¹áõÃÛáõÝÝ»ñ | E15: 2 | G15: 2 | K15: 2 | S15: =D15+E15 -> 2 | T15: =F15+K15+L15 -> 2 | U15: =K15 -> 2 | V15: =G15+H15+I15+J15 -> 2
A16: 10 | B16: Ñ»ï³ùÝÝáõÃÛ³Ý Ù³ñÙÝÇ ³ßË³ïáÕÇ, ùÝÝÇãÇ, ¹³ï³Ë³½Ç oå»ñ³ïÇí-Ñ»ï³Ëáõ½³Ï³Ý ·áñÍáÕáõÃÛáõÝÝ»ñ Çñ³Ï³Ý³óÝáÕ Ù³ñÙÇÝÝ»ñÇ ³ÝoñÇÝ³Ï³Ý ¨ ³ÝÑÇÙÝ áñáßáõÙÝ»ñÇ ¨ ·áñÍáÕáõÃÛáõÝÝ»ñÇ ¹»Ù µáÕáùÝ»ñ | E16: 4 | G16: 3 | H16: 1 | K16: 4 | N16: 1 | O16: 1 | S16: =D16+E16 -> 4 | T16: =F16+K16+L16 -> 4 | U16: =K16 -> 4 | V16: =G16+H16+I16+J16 -> 4
A17: 11 | B17: ²½³ïáõÃÛáõÝÇó ½ñÏ»Éáõ Çñ³í³ã³÷áõÃÛ³Ý í»ñ³µ»ñÛ³É µáÕáùÝ»ñáí ·áñÍ»ñ | S17: =D17+E17 -> 0 | T17: =F17+K17+L17 -> 0 | U17: =K17 -> 0 | V17: =G17+H17+I17+J17 -> 0
A18: 2. ¸³ï³Ï³Ý ³Ïï»ñÇ ¨ ¹³ï³Ï³Ý Ñ³ÝÓÝ³ñ³ñáõÃÛáõÝÝ»ñÇ Ï³ï³ñÙ³Ý Ñ»ï Ï³åí³Í Ñ³ñó»ñÇ ÉáõÍÙ³Ý áÉáñï
A19: 1 | B19: å³ïÅÇó å³ÛÙ³Ý³Ï³Ý í³Õ³Å³ÙÏ»ï ³½³ï»Éáõ Ù³ëÇÝ ÙÇçÝáñ¹áõÃÛáõÝÝ»ñ | S19: =D19+E19 -> 0 | T19: =F19+K19+L19 -> 0 | U19: =K19 -> 0 | V19: =G19+H19+I19+J19 -> 0
A20: 2 | B20: å³ïÇÅÁ ÷á÷áË»Éáõ, Ñ»ï³Ó·»Éáõ ¨ å³ïÅÇó ³½³ï»Éáõ Ù³uÇÝ ÙÇçÝáñ¹áõÃÛáõÝÝ»ñ | S20: =D20+E20 -> 0 | T20: =F20+K20+L20 -> 0 | U20: =K20 -> 0 | V20: =G20+H20+I20+J20 -> 0
A21: 3 | B21: Ñ³ñÏ³¹Çñ µáõÅÙ³Ý ï»ë³ÏÇ ÷á÷áËáõÃÛ³Ý Ù³ëÇÝ ÙÇçÝáñ¹áõÃÛáõÝÝ»ñ | E21: 2 | H21: 2 | K21: 2 | S21: =D21+E21 -> 2 | T21: =F21+K21+L21 -> 2 | U21: =K21 -> 2 | V21: =G21+H21+I21+J21 -> 2
A22: 4 | B22: ³ÛÉ ÙÇçÝáñ¹áõÃÛáõÝÝ»ñ | S22: =D22+E22 -> 0 | T22: =F22+K22+L22 -> 0 | U22: =K22 -> 0 | V22: =G22+H22+I22+J22 -> 0
A23: 5 | B23: ¹³ï³Ï³Ý Ñ³ÝÓÝ³ñ³ñáõÃÛáõÝÝ»ñ | E23: 1 | H23: 1 | K23: 1 | S23: =D23+E23 -> 1 | T23: =F23+K23+L23 -> 1 | U23: =K23 -> 1 | V23: =G23+H23+I23+J23 -> 1
A24: ÀÜ¸²ØºÜÀ | D24: =D7+D8+D9+D10+D11+D12+D13+D14+D15+D17+D19+D20+D21+D22+D23+D16 -> 0 | E24: =E7+E8+E9+E10+E11+E12+E13+E14+E15+E17+E19+E20+E21+E22+E23+E16 -> 51 | F24: =F7+F8+F9+F10+F11+F12+F13+F14+F15+F17+F19+F20+F21+F22+F23+F16 -> 0 | G24: =G7+G8+G9+G10+G11+G12+G13+G14+G15+G17+G19+G20+G21+G22+G23+G16 -> 22 | H24: =H7+H8+H9+H10+H11+H12+H13+H14+H15+H17+H19+H20+H21+H22+H23+H16 -> 28 | I24: =I7+I8+I9+I10+I11+I12+I13+I14+I15+I17+I19+I20+I21+I22+I23+I16 -> 1 | J24: =J7+J8+J9+J10+J11+J12+J13+J14+J15+J17+J19+J20+J21+J22+J23+J16 -> 0 | K24: =K7+K8+K9+K10+K11+K12+K13+K14+K15+K17+K19+K20+K21+K22+K23+K16 -> 51 | ... R24: =R7+R8+R9+R10+R11+R12+R13+R14+R15+R17+R19+R20+R21+R22+R23+R16 -> 9 | S24: =D24+E24 -> 51 | T24: =F24+K24+L24 -> 51 | U24: =K24 -> 51 | V24: =G24+H24+I24+J24 -> 51

Sheet Վ.Մելիքյան
A1: 2016Ã. | D1: Ð²ÞìºîìàôÂÚàôÜ | P1: Ð³í»Éí³Í Ð³Û³ëï³ÝÇ Ð³Ýñ³å»ïáõÃÛ³Ý ¸³ï³ñ³ÝÝ»ñÇ Ý³Ë³·³ÑÝ»ñÇ ËáñÑñ¹Ç 27.01.2017Ã. ÃÇí 01-È áñáßÙ³Ý
A2: ØÇÝã¹³ï³Ï³Ý í³ñáõÛÃÇ ÝÏ³ïÙ³Ùµ ¹³ï³Ï³Ý í»ñ³ÑëÏáÕáõÃÛ³ÝÁ, ¹³ï³Ï³Ý ³Ïï»ñÇ ¨ ¹³ï³Ï³Ý Ñ³ÝÓÝ³ñ³ñáõÃÛáõÝÝ»ñÇ Ï³ï³ñÙ³ÝÁ Ñ»ï Ï³åí³Í ÙÇçÝáñ¹áõÃÛáõÝÝ»ñÇ í»ñ³µ»ñÛ³É ¹³ï³Ï³Ý ·áñÍ»ñáí ÐÐ ¶»Õ³ñùáõÝÇùÇ Ù³ñ½Ç ÁÝ¹Ñ³Ýáõñ Çñ³í³ëáõÃÛ³Ý ³é³çÇÝ ³ïÛ³ÝÇ ¹³ï³ñ³ÝÇ ¹³ï³íáր Վ. Մելիքյանի ·áñÍáõÝ»áõÃÛ³Ý í»ñ³µ»ñÛ³É
A3: êïáõ·Çã Ñ³í³ë³ñáõÙ` 1+2=3+8+9, 8=4+5+6+7, | D3: Ð³ßí»ïáõ Å³Ù³Ý³Ï³Ñ³ïí³ÍÇ ëÏ½µáõÙ Ý³Ëáñ¹ Ñ³ßí»ïáõ Å³Ù³Ý³Ï³Ñ³ïí³ÍÇó ÷áË³Ýóí³Í ·áñÍ»ñÇ ÁÝ¹Ñ³Ýáõñ ÃÇíÁ | E3: Ð³ßí»ïáõ Å³Ù³Ý³Ï³Ñ³ïí³ÍáõÙ ëï³óí³Í ·áñÍ»ñÇ ÁÝ¹Ñ³Ýáõñ ÃÇíÁ | F3: öáË³Ýóí»É ¿ ³ÛÉ ¹³ï³íáñÇ Ï³Ù ³ÛÉ ¹³ï³ñ³Ý (Ï³½ÙÇ ÷á÷áËáõÃÛáõÝ, ÁÝ¹¹³ïáõÃÛáõÝ) | G3: Ð³ßí»ïáõ Å³Ù³Ý³Ï³Ñ³ïí³ÍáõÙ ³í³ñïí³Í ·áñÍ»ñÇ ÁÝ¹Ñ³Ýáõñ ÃÇíÁ | L3: Ð³ßí»ïáõ Å³Ù³Ý³Ï³Ñ³ïí³ÍáõÙ ³Ý³í³ñï ·áñÍ»ñÇ ÁÝ¹Ñ³Ýáõñ ÃÇíÁ | M3: ØÇçÝáñ¹áõÃÛáõÝÝ»ñáí Ï³Û³óí³Í ¹³ï³Ï³Ý ³Ïï»ñÇó µáÕáù³ñÏí³ÍÝ»ñÇ ù³Ý³ÏÁ | O3: ²Ý³í³ñï µáÕáùÝ»ñ | P3: ØÇçÝáñ¹áõÃÛáõÝÝ»ñáí Ï³Û³óí³Í ¨ µáÕáù³ñÏí³Í ¹³ï³Ï³Ý ³Ïï»ñÇó µ»Ï³Ýí³ÍÝ»ñÇ ù³Ý³ÏÁ | R3: ÙÇçÝáñ¹áõÃÛáõÝÝ»ñáí Ï³Û³óí³Í ¨ µáÕáù³ñÏí³Í ¹³ï³Ï³Ý ³Ïï»ñÇó ³Ý÷á÷áË ÃáÕÝí³ÍÝ»ñÇ ù³Ý³ÏÁ
G4: Ù»ñÅí»É ¿ | H4: µ³í³ñ³ñí»É ¿ | I4: µ³í³ñ³ñí»É ¿ Ù³ëÝ³ÏÇ | J4: ÃáÕÝí»É ¿ ³é³Ýó ùÝÝáõÃÛ³Ý | K4: ÀÝ¹³Ù»ÝÁ
M5: Ý³Ëáñ¹ ï³ñÇÝ»ñÇÝ Ï³Û³óí³Í ³Ïï»ñÇ ¹»Ù | N5: Ñ³ßí»ïáõ Å³Ù³Ý³Ï³ßñç³ÝáõÙ Ï³Û³óí³Í ³Ïï»ñÇ ¹»Ù | P5: Ý³Ëáñ¹ ï³ñÇÝ»ñÇÝ Ï³Û³óí³Í ³Ïï»ñÇ µ»Ï³ÝáõÙÝ»ñÁ | Q5: Ñ³ßí»ïáõ Å³Ù³Ý³Ï³ßñç³ÝáõÙ Ï³Û³óí³Í ³Ïï»ñÇ µ»Ï³ÝáõÙÝ»ñÁ
A6: 1. ØÇÝã¹³ï³Ï³Ý í³ñáõÛÃÇ ÝÏ³ïÙ³Ùµ ¹³ï³Ï³Ý í»ñ³ÑëÏáÕáõÃÛ³Ý áÉáñï | D6: 1 | E6: 2 | F6: 3 | G6: 4 | H6: 5 | I6: 6 | J6: 7 | K6: 8 | L6: 9 | M6: 10 | N6: 11 | O6: 12 | P6: 13 | Q6: 14 | R6: 15 | S6: 1+2=3+8+9 | U6: 8=4+5+6+7
A7: 1 | B7: Ï³É³ÝùÁ áñå»ë Ë³÷³ÝÙ³Ý ÙÇçáó ÏÇñ³é»Éáõ Ù³ëÇÝ ÙÇçÝáñ¹áõÃÛáõÝÝ»ñ | E7: 7 | G7: 2 | H7: 5 | K7: 7 | N7: 2 | Q7: 1 | R7: 1 | S7: =D7+E7 -> 7 | T7: =F7+K7+L7 -> 7 | U7: =K7 -> 7 | V7: =G7+H7+I7+J7 -> 7
A8: 2 | B8: Ï³É³ÝùÇ Å³ÙÏ»ïÁ »ñÏ³ñ³óÝ»Éáõ Ù³ëÇÝ ÙÇçÝáñ¹áõÃÛáõÝÝ»ñ | E8: 11 | H8: 11 | K8: 11 | N8: 1 | R8: 1 | S8: =D8+E8 -> 11 | T8: =F8+K8+L8 -> 11 | U8: =K8 -> 11 | V8: =G8+H8+I8+J8 -> 11
A9: 3 | B9: Ï³É³ÝùÇ í»ñ³Ñ³ëï³ïÙ³Ý Ù³ëÇÝ ÙÇçÝáñ¹áõÃÛáõÝÝ»ñ | E9: 2 | H9: 2 | K9: 2 | S9: =D9+E9 -> 2 | T9: =F9+K9+L9 -> 2 | U9: =K9 -> 2 | V9: =G9+H9+I9+J9 -> 2
A10: 4 | B10: ·ñ³íÁ áñå»ë Ï³É³Ý³íáñÙ³Ý ³ÛÉÁÝïñ³Ýù³ÛÇÝ Ë³÷³ÝÙ³Ý ÙÇçáó ÏÇñ³é»Éáõ Ù³ëÇÝ ÙÇçÝáñ¹áõÃÛáõÝÝ»ñ | E10: 11 | G10: 11 | K10: 11 | S10: =D10+E10 -> 11 | T10: =F10+K10+L10 -> 11 | U10: =K10 -> 11 | V10: =G10+H10+I10+J10 -> 11
A11: 5 | B11: Ëáõ½³ñÏáõÃÛ³Ý Ï³ï³ñÙ³Ý Ù³ëÇÝ ÙÇçÝáñ¹áõÃÛáõÝÝ»ñ | E11: 42 | G11: 1 | H11: 41 | K11: 42 | S11: =D11+E11 -> 42 | T11: =F11+K11+L11 -> 42 | U11: =K11 -> 42 | V11: =G11+H11+I11+J11 -> 42
A12: 6 | B12: µ³ÝÏ³ÛÇÝ, ³å³Ñáí³·ñ³Ï³Ý, Ýáï³ñ³Ï³Ý ·³ÕïÝÇù Ï³½ÙáÕ ï»Õ»ÏáõÃÛáõÝÝ»ñÇ ëï³óÙ³Ý Ñ³Ù³ñ Ëáõ½³ñÏáõÃÛ³Ý Ï³Ù ³é·ñ³íÙ³Ý Ï³ï³ñÙ³Ý Ù³ëÇÝ ÙÇçÝáñ¹áõÃÛáõÝÝ»ñ | E12: 1 | H12: 1 | K12: 1 | S12: =D12+E12 -> 1 | T12: =F12+K12+L12 -> 1 | U12: =K12 -> 1 | V12: =G12+H12+I12+J12 -> 1
A13: 7 | B13: Ý³Ù³Ï³·ñáõÃÛ³Ý, Ñ»é³·ñ³Ï³Ý, ÷áuï³ÛÇÝ Ñ³Õáñ¹áõÙÝ»ñÇ ÑëÏáÕáõÃÛ³Ý Ù³ëÇÝ ÙÇçÝáñ¹áõÃÛáõÝÝ»ñ | S13: =D13+E13 -> 0 | T13: =F13+K13+L13 -> 0 | U13: =K13 -> 0 | V13: =G13+H13+I13+J13 -> 0
A14: 8 | B14: Ñ»é³Ëáu³ÛÇÝ Ï³Ù Ï³åÇ ³ÛÉ ÙÇçáóÝ»ñáí ï³ñíáÕ Ëáu³ÏóáõÃÛáõÝÝ»ñÇ ÉuÙ³Ý ¨ Ó³ÛÝ³·ñ³éÙ³Ý Ù³ëÇÝ ÙÇçÝáñ¹áõÃÛáõÝÝ»ñ | S14: =D14+E14 -> 0 | T14: =F14+K14+L14 -> 0 | U14: =K14 -> 0 | V14: =G14+H14+I14+J14 -> 0
A15: 9 | B15: Ñ»é³ËáëÝ»ñÇ Ùáõïù³ÛÇÝ ¨ »Éù³ÛÇÝ í»ñÍ³ÝÙ³Ý ÃáõÛÉïíáõÃÛáõÝ ëï³Ý³Éáõ Ù³ëÇÝ ÙÇçÝáñ¹áõÃÛáõÝÝ»ñ | E15: 67 | H15: 67 | K15: 67 | S15: =D15+E15 -> 67 | T15: =F15+K15+L15 -> 67 | U15: =K15 -> 67 | V15: =G15+H15+I15+J15 -> 67
A16: 10 | B16: Ñ»ï³ùÝÝáõÃÛ³Ý Ù³ñÙÝÇ ³ßË³ïáÕÇ, ùÝÝÇãÇ, ¹³ï³Ë³½Ç oå»ñ³ïÇí-Ñ»ï³Ëáõ½³Ï³Ý ·áñÍáÕáõÃÛáõÝÝ»ñ Çñ³Ï³Ý³óÝáÕ Ù³ñÙÇÝÝ»ñÇ ³ÝoñÇÝ³Ï³Ý ¨ ³ÝÑÇÙÝ áñáßáõÙÝ»ñÇ ¨ ·áñÍáÕáõÃÛáõÝÝ»ñÇ ¹»Ù µáÕáùÝ»ñ | E16: 6 | F16: 1 | G16: 3 | K16: 3 | L16: 2 | M16: 1 | N16: 1 | R16: 2 | S16: =D16+E16 -> 6 | T16: =F16+K16+L16 -> 6 | U16: =K16 -> 3 | V16: =G16+H16+I16+J16 -> 3
A17: 11 | B17: ²½³ïáõÃÛáõÝÇó ½ñÏ»Éáõ Çñ³í³ã³÷áõÃÛ³Ý í»ñ³µ»ñÛ³É µáÕáùÝ»ñáí ·áñÍ»ñ | S17: =D17+E17 -> 0 | T17: =F17+K17+L17 -> 0 | U17: =K17 -> 0 | V17: =G17+H17+I17+J17 -> 0
A18: 2. ¸³ï³Ï³Ý ³Ïï»ñÇ ¨ ¹³ï³Ï³Ý Ñ³ÝÓÝ³ñ³ñáõÃÛáõÝÝ»ñÇ Ï³ï³ñÙ³Ý Ñ»ï Ï³åí³Í Ñ³ñó»ñÇ ÉáõÍÙ³Ý áÉáñï
A19: 1 | B19: å³ïÅÇó å³ÛÙ³Ý³Ï³Ý í³Õ³Å³ÙÏ»ï ³½³ï»Éáõ Ù³ëÇÝ ÙÇçÝáñ¹áõÃÛáõÝÝ»ñ | S19: =D19+E19 -> 0 | T19: =F19+K19+L19 -> 0 | U19: =K19 -> 0 | V19: =G19+H19+I19+J19 -> 0
A20: 2 | B20: å³ïÇÅÁ ÷á÷áË»Éáõ, Ñ»ï³Ó·»Éáõ ¨ å³ïÅÇó ³½³ï»Éáõ Ù³uÇÝ ÙÇçÝáñ¹áõÃÛáõÝÝ»ñ | E20: 1 | H20: 1 | K20: 1 | S20: =D20+E20 -> 1 | T20: =F20+K20+L20 -> 1 | U20: =K20 -> 1 | V20: =G20+H20+I20+J20 -> 1
A21: 3 | B21: Ñ³ñÏ³¹Çñ µáõÅÙ³Ý ï»ë³ÏÇ ÷á÷áËáõÃÛ³Ý Ù³ëÇÝ ÙÇçÝáñ¹áõÃÛáõÝÝ»ñ | E21: 4 | H21: 4 | K21: 4 | S21: =D21+E21 -> 4 | T21: =F21+K21+L21 -> 4 | U21: =K21 -> 4 | V21: =G21+H21+I21+J21 -> 4
A22: 4 | B22: ³ÛÉ ÙÇçÝáñ¹áõÃÛáõÝÝ»ñ | E22: 10 | G22: 1 | H22: 9 | K22: 10 | S22: =D22+E22 -> 10 | T22: =F22+K22+L22 -> 10 | U22: =K22 -> 10 | V22: =G22+H22+I22+J22 -> 10
A23: 5 | B23: ¹³ï³Ï³Ý Ñ³ÝÓÝ³ñ³ñáõÃÛáõÝÝ»ñ | S23: =D23+E23 -> 0 | T23: =F23+K23+L23 -> 0 | U23: =K23 -> 0 | V23: =G23+H23+I23+J23 -> 0
A24: ÀÜ¸²ØºÜÀ | D24: =D7+D8+D9+D10+D11+D12+D13+D14+D15+D17+D19+D20+D21+D22+D23+D16 -> 0 | E24: =E7+E8+E9+E10+E11+E12+E13+E14+E15+E17+E19+E20+E21+E22+E23+E16 -> 162 | F24: =F7+F8+F9+F10+F11+F12+F13+F14+F15+F17+F19+F20+F21+F22+F23+F16 -> 1 | G24: =G7+G8+G9+G10+G11+G12+G13+G14+G15+G17+G19+G20+G21+G22+G23+G16 -> 18 | H24: =H7+H8+H9+H10+H11+H12+H13+H14+H15+H17+H19+H20+H21+H22+H23+H16 -> 141 | I24: =I7+I8+I9+I10+I11+I12+I13+I14+I15+I17+I19+I20+I21+I22+I23+I16 -> 0 | J24: =J7+J8+J9+J10+J11+J12+J13+J14+J15+J17+J19+J20+J21+J22+J23+J16 -> 0 | K24: =K7+K8+K9+K10+K11+K12+K13+K14+K15+K17+K19+K20+K21+K22+K23+K16 -> 159 | ... R24: =R7+R8+R9+R10+R11+R12+R13+R14+R15+R17+R19+R20+R21+R22+R23+R16 -> 4 | S24: =D24+E24 -> 162 | T24: =F24+K24+L24 -> 162 | U24: =K24 -> 159 | V24: =G24+H24+I24+J24 -> 159

Sheet Ա. Թամրազյան
A1: 2016Ã. | D1: Ð²ÞìºîìàôÂÚàôÜ | P1: Ð³í»Éí³Í Ð³Û³ëï³ÝÇ Ð³Ýñ³å»ïáõÃÛ³Ý ¸³ï³ñ³ÝÝ»ñÇ Ý³Ë³·³ÑÝ»ñÇ ËáñÑñ¹Ç 27.01.2017Ã. ÃÇí 01-È áñáßÙ³Ý
A2: ØÇÝã¹³ï³Ï³Ý í³ñáõÛÃÇ ÝÏ³ïÙ³Ùµ ¹³ï³Ï³Ý í»ñ³ÑëÏáÕáõÃÛ³ÝÁ, ¹³ï³Ï³Ý ³Ïï»ñÇ ¨ ¹³ï³Ï³Ý Ñ³ÝÓÝ³ñ³ñáõÃÛáõÝÝ»ñÇ Ï³ï³ñÙ³ÝÁ Ñ»ï Ï³åí³Í ÙÇçÝáñ¹áõÃÛáõÝÝ»ñÇ í»ñ³µ»ñÛ³É ¹³ï³Ï³Ý ·áñÍ»ñáí ÐÐ ¶»Õ³ñùáõÝÇùÇ Ù³ñ½Ç ÁÝ¹Ñ³Ýáõñ Çñ³í³ëáõÃÛ³Ý ³é³çÇÝ ³ïÛ³ÝÇ ¹³ï³ñ³ÝÇ ¹³ï³íáñ Ա. Թամրազյանի ·áñÍáõÝ»áõÃÛ³Ý í»ñ³µ»ñÛ³É
A3: êïáõ·Çã Ñ³í³ë³ñáõÙ` 1+2=3+8+9, 8=4+5+6+7, | D3: Ð³ßí»ïáõ Å³Ù³Ý³Ï³Ñ³ïí³ÍÇ ëÏ½µáõÙ Ý³Ëáñ¹ Ñ³ßí»ïáõ Å³Ù³Ý³Ï³Ñ³ïí³ÍÇó ÷áË³Ýóí³Í ·áñÍ»ñÇ ÁÝ¹Ñ³Ýáõñ ÃÇíÁ | E3: Ð³ßí»ïáõ Å³Ù³Ý³Ï³Ñ³ïí³ÍáõÙ ëï³óí³Í ·áñÍ»ñÇ ÁÝ¹Ñ³Ýáõñ ÃÇíÁ | F3: öáË³Ýóí»É ¿ ³ÛÉ ¹³ï³íáñÇ Ï³Ù ³ÛÉ ¹³ï³ñ³Ý (Ï³½ÙÇ ÷á÷áËáõÃÛáõÝ, ÁÝ¹¹³ïáõÃÛáõÝ) | G3: Ð³ßí»ïáõ Å³Ù³Ý³Ï³Ñ³ïí³ÍáõÙ ³í³ñïí³Í ·áñÍ»ñÇ ÁÝ¹Ñ³Ýáõñ ÃÇíÁ | L3: Ð³ßí»ïáõ Å³Ù³Ý³Ï³Ñ³ïí³ÍáõÙ ³Ý³í³ñï ·áñÍ»ñÇ ÁÝ¹Ñ³Ýáõñ ÃÇíÁ | M3: ØÇçÝáñ¹áõÃÛáõÝÝ»ñáí Ï³Û³óí³Í ¹³ï³Ï³Ý ³Ïï»ñÇó µáÕáù³ñÏí³ÍÝ»ñÇ ù³Ý³ÏÁ | O3: ²Ý³í³ñï µáÕáùÝ»ñ | P3: ØÇçÝáñ¹áõÃÛáõÝÝ»ñáí Ï³Û³óí³Í ¨ µáÕáù³ñÏí³Í ¹³ï³Ï³Ý ³Ïï»ñÇó µ»Ï³Ýí³ÍÝ»ñÇ ù³Ý³ÏÁ | R3: ÙÇçÝáñ¹áõÃÛáõÝÝ»ñáí Ï³Û³óí³Í ¨ µáÕáù³ñÏí³Í ¹³ï³Ï³Ý ³Ïï»ñÇó ³Ý÷á÷áË ÃáÕÝí³ÍÝ»ñÇ ù³Ý³ÏÁ
G4: Ù»ñÅí»É ¿ | H4: µ³í³ñ³ñí»É ¿ | I4: µ³í³ñ³ñí»É ¿ Ù³ëÝ³ÏÇ | J4: ÃáÕÝí»É ¿ ³é³Ýó ùÝÝáõÃÛ³Ý | K4: ÀÝ¹³Ù»ÝÁ
M5: Ý³Ëáñ¹ ï³ñÇÝ»ñÇÝ Ï³Û³óí³Í ³Ïï»ñÇ ¹»Ù | N5: Ñ³ßí»ïáõ Å³Ù³Ý³Ï³ßñç³ÝáõÙ Ï³Û³óí³Í ³Ïï»ñÇ ¹»Ù | P5: Ý³Ëáñ¹ ï³ñÇÝ»ñÇÝ Ï³Û³óí³Í ³Ïï»ñÇ µ»Ï³ÝáõÙÝ»ñÁ | Q5: Ñ³ßí»ïáõ Å³Ù³Ý³Ï³ßñç³ÝáõÙ Ï³Û³óí³Í ³Ïï»ñÇ µ»Ï³ÝáõÙÝ»ñÁ
A6: 1. ØÇÝã¹³ï³Ï³Ý í³ñáõÛÃÇ ÝÏ³ïÙ³Ùµ ¹³ï³Ï³Ý í»ñ³ÑëÏáÕáõÃÛ³Ý áÉáñï | D6: 1 | E6: 2 | F6: 3 | G6: 4 | H6: 5 | I6: 6 | J6: 7 | K6: 8 | L6: 9 | M6: 10 | N6: 11 | O6: 12 | P6: 13 | Q6: 14 | R6: 15 | S6: 1+2=3+8+9 | U6: 8=4+5+6+7
A7: 1 | B7: Ï³É³ÝùÁ áñå»ë Ë³÷³ÝÙ³Ý ÙÇçáó ÏÇñ³é»Éáõ Ù³ëÇÝ ÙÇçÝáñ¹áõÃÛáõÝÝ»ñ | S7: =D7+E7 -> 0 | T7: =F7+K7+L7 -> 0 | U7: =K7 -> 0 | V7: =G7+H7+I7+J7 -> 0
