Workbook

Sheet Ընդհամենը
A1: 2015Ã. | D1: Ð²ÞìºîìàôÂÚàôÜ | P1: Ï³½Ùí³Í` ÐÐ Ï³é³í³ñáõÃÛ³Ý 19.03.2015Ã. ÃÇí 306-Ü áñáßÙ³Ý ÑÇÙ³Ý íñ³
A2: ØÇÝã¹³ï³Ï³Ý í³ñáõÛÃÇ ÝÏ³ïÙ³Ùµ ¹³ï³Ï³Ý í»ñ³ÑëÏáÕáõÃÛ³ÝÁ, ¹³ï³Ï³Ý ³Ïï»ñÇ ¨ ¹³ï³Ï³Ý Ñ³ÝÓÝ³ñ³ñáõÃÛáõÝÝ»ñÇ Ï³ï³ñÙ³Ý Ñ»ï Ï³åí³Í ÙÇçÝáñ¹áõÃÛáõÝÝ»ñÇ í»ñ³µ»ñÛ³É ¹³ï³Ï³Ý ·áñÍ»ñáí ºñ¨³Ý ù³Õ³ùÇ ²í³Ý ¨ Üáñ Üáñù í³ñã³Ï³Ý ßñç³ÝÝ»ñÇ ÁÝ¹Ñ³Ýáõñ Çñ³í³ëáõÃÛ³Ý ³é³çÇÝ ³ïÛ³ÝÇ ¹³ï³ñ³ÝÇ ·áñÍáõÝ»áõÃÛ³Ý í»ñ³µ»ñÛ³É
A3: êïáõ·Çã Ñ³í³ë³ñáõÙ` 1+2=3+8+9, 8=4+5+6+7, | D3: Ð³ßí»ïáõ Å³Ù³Ý³Ï³Ñ³ïí³ÍÇ ëÏ½µáõÙ Ý³Ëáñ¹ Ñ³ßí»ïáõ Å³Ù³Ý³Ï³Ñ³ïí³ÍÇó ÷áË³Ýóí³Í ·áñÍ»ñÇ ÁÝ¹Ñ³Ýáõñ ÃÇíÁ | E3: Ð³ßí»ïáõ Å³Ù³Ý³Ï³Ñ³ïí³ÍáõÙ ëï³óí³Í ·áñÍ»ñÇ ÁÝ¹Ñ³Ýáõñ ÃÇíÁ | F3: öáË³Ýóí»É ¿ ³ÛÉ ¹³ï³íáñÇ Ï³Ù ³ÛÉ ¹³ï³ñ³Ý (Ï³½ÙÇ ÷á÷áËáõÃÛáõÝ, ÁÝ¹¹³ïáõÃÛáõÝ) | G3: Ð³ßí»ïáõ Å³Ù³Ý³Ï³Ñ³ïí³ÍáõÙ ³í³ñïí³Í ·áñÍ»ñÇ ÁÝ¹Ñ³Ýáõñ ÃÇíÁ | L3: Ð³ßí»ïáõ Å³Ù³Ý³Ï³Ñ³ïí³ÍáõÙ ³Ý³í³ñï ·áñÍ»ñÇ ÁÝ¹Ñ³Ýáõñ ÃÇíÁ | M3: ØÇçÝáñ¹áõÃÛáõÝÝ»ñáí Ï³Û³óí³Í ¹³ï³Ï³Ý ³Ïï»ñÇó µáÕáù³ñÏí³ÍÝ»ñÇ ù³Ý³ÏÁ | O3: ²Ý³í³ñï µáÕáùÝ»ñ | P3: ØÇçÝáñ¹áõÃÛáõÝÝ»ñáí Ï³Û³óí³Í ¨ µáÕáù³ñÏí³Í ¹³ï³Ï³Ý ³Ïï»ñÇó µ»Ï³Ýí³ÍÝ»ñÇ ù³Ý³ÏÁ | R3: ÙÇçÝáñ¹áõÃÛáõÝÝ»ñáí Ï³Û³óí³Í ¨ µáÕáù³ñÏí³Í ¹³ï³Ï³Ý ³Ïï»ñÇó ³Ý÷á÷áË ÃáÕÝí³ÍÝ»ñÇ ù³Ý³ÏÁ
G4: Ù»ñÅí»É ¿ | H4: µ³í³ñ³ñí»É ¿ | I4: µ³í³ñ³ñí»É ¿ Ù³ëÝ³ÏÇ | J4: ÃáÕÝí»É ¿ ³é³Ýó ùÝÝáõÃÛ³Ý | K4: ÀÝ¹³Ù»ÝÁ
M5: Ý³Ëáñ¹ ï³ñÇÝ»ñÇÝ Ï³Û³óí³Í ³Ïï»ñÇ ¹»Ù | N5: Ñ³ßí»ïáõ Å³Ù³Ý³Ï³ßñç³ÝáõÙ Ï³Û³óí³Í ³Ïï»ñÇ ¹»Ù | P5: Ý³Ëáñ¹ ï³ñÇÝ»ñÇÝ Ï³Û³óí³Í ³Ïï»ñÇ µ»Ï³ÝáõÙÝ»ñÁ | Q5: Ñ³ßí»ïáõ Å³Ù³Ý³Ï³ßñç³ÝáõÙ Ï³Û³óí³Í ³Ïï»ñÇ µ»Ï³ÝáõÙÝ»ñÁ
A6: 1. ØÇÝã¹³ï³Ï³Ý í³ñáõÛÃÇ ÝÏ³ïÙ³Ùµ ¹³ï³Ï³Ý í»ñ³ÑëÏáÕáõÃÛ³Ý áÉáñï | D6: 1 | E6: 2 | F6: 3 | G6: 4 | H6: 5 | I6: 6 | J6: 7 | K6: 8 | L6: 9 | M6: 10 | N6: 11 | O6: 12 | P6: 13 | Q6: 14 | R6: 15 | T6: 1+2=3+8+9 | V6: 8=4+5+6+7
A7: 1 | B7: Ï³É³ÝùÁ áñå»ë Ë³÷³ÝÙ³Ý ÙÇçáó ÏÇñ³é»Éáõ Ù³ëÇÝ ÙÇçÝáñ¹áõÃÛáõÝÝ»ñ | D7: =SUM('Ս. Ուզունյան:Ա. Բադիրյան'!D7) -> 0 | E7: =SUM('Ս. Ուզունյան:Ա. Բադիրյան'!E7) -> 13 | F7: =SUM('Ս. Ուզունյան:Ա. Բադիրյան'!F7) -> 0 | G7: =SUM('Ս. Ուզունյան:Ա. Բադիրյան'!G7) -> 3 | H7: =SUM('Ս. Ուզունյան:Ա. Բադիրյան'!H7) -> 10 | I7: =SUM('Ս. Ուզունյան:Ա. Բադիրյան'!I7) -> 0 | J7: =SUM('Ս. Ուզունյան:Ա. Բադիրյան'!J7) -> 0 | K7: =SUM('Ս. Ուզունյան:Ա. Բադիրյան'!K7) -> 13 | ... S7: =SUM('Ս. Ուզունյան:Ա. Բադիրյան'!S7) -> 0 | T7: =D7+E7 -> 13 | U7: =F7+K7+L7 -> 13 | V7: =K7 -> 13 | W7: =G7+H7+I7+J7 -> 13
A8: 2 | B8: Ï³É³ÝùÇ Å³ÙÏ»ïÁ »ñÏ³ñ³óÝ»Éáõ Ù³ëÇÝ ÙÇçÝáñ¹áõÃÛáõÝÝ»ñ | D8: =SUM('Ս. Ուզունյան:Ա. Բադիրյան'!D8) -> 3 | E8: =SUM('Ս. Ուզունյան:Ա. Բադիրյան'!E8) -> 31 | F8: =SUM('Ս. Ուզունյան:Ա. Բադիրյան'!F8) -> 2 | G8: =SUM('Ս. Ուզունյան:Ա. Բադիրյան'!G8) -> 0 | H8: =SUM('Ս. Ուզունյան:Ա. Բադիրյան'!H8) -> 32 | I8: =SUM('Ս. Ուզունյան:Ա. Բադիրյան'!I8) -> 0 | J8: =SUM('Ս. Ուզունյան:Ա. Բադիրյան'!J8) -> 0 | K8: =SUM('Ս. Ուզունյան:Ա. Բադիրյան'!K8) -> 32 | ... R8: =SUM('Ս. Ուզունյան:Ա. Բադիրյան'!R8) -> 7 | T8: =D8+E8 -> 34 | U8: =F8+K8+L8 -> 34 | V8: =K8 -> 32 | W8: =G8+H8+I8+J8 -> 32
A9: 3 | B9: Ï³É³ÝùÇ í»ñ³Ñ³ëï³ïÙ³Ý Ù³ëÇÝ ÙÇçÝáñ¹áõÃÛáõÝÝ»ñ | D9: =SUM('Ս. Ուզունյան:Ա. Բադիրյան'!D9) -> 0 | E9: =SUM('Ս. Ուզունյան:Ա. Բադիրյան'!E9) -> 1 | F9: =SUM('Ս. Ուզունյան:Ա. Բադիրյան'!F9) -> 0 | G9: =SUM('Ս. Ուզունյան:Ա. Բադիրյան'!G9) -> 0 | H9: =SUM('Ս. Ուզունյան:Ա. Բադիրյան'!H9) -> 1 | I9: =SUM('Ս. Ուզունյան:Ա. Բադիրյան'!I9) -> 0 | J9: =SUM('Ս. Ուզունյան:Ա. Բադիրյան'!J9) -> 0 | K9: =SUM('Ս. Ուզունյան:Ա. Բադիրյան'!K9) -> 1 | ... R9: =SUM('Ս. Ուզունյան:Ա. Բադիրյան'!R9) -> 0 | T9: =D9+E9 -> 1 | U9: =F9+K9+L9 -> 1 | V9: =K9 -> 1 | W9: =G9+H9+I9+J9 -> 1
A10: 4 | B10: ·ñ³íÁ áñå»ë Ï³É³Ý³íáñÙ³Ý ³ÛÉÁÝïñ³Ýù³ÛÇÝ Ë³÷³ÝÙ³Ý ÙÇçáó ÏÇñ³é»Éáõ Ù³ëÇÝ ÙÇçÝáñ¹áõÃÛáõÝÝ»ñ | D10: =SUM('Ս. Ուզունյան:Ա. Բադիրյան'!D10) -> 1 | E10: =SUM('Ս. Ուզունյան:Ա. Բադիրյան'!E10) -> 18 | F10: =SUM('Ս. Ուզունյան:Ա. Բադիրյան'!F10) -> 2 | G10: =SUM('Ս. Ուզունյան:Ա. Բադիրյան'!G10) -> 16 | H10: =SUM('Ս. Ուզունյան:Ա. Բադիրյան'!H10) -> 1 | I10: =SUM('Ս. Ուզունյան:Ա. Բադիրյան'!I10) -> 0 | J10: =SUM('Ս. Ուզունյան:Ա. Բադիրյան'!J10) -> 0 | K10: =SUM('Ս. Ուզունյան:Ա. Բադիրյան'!K10) -> 17 | ... R10: =SUM('Ս. Ուզունյան:Ա. Բադիրյան'!R10) -> 1 | T10: =D10+E10 -> 19 | U10: =F10+K10+L10 -> 19 | V10: =K10 -> 17 | W10: =G10+H10+I10+J10 -> 17
A11: 5 | B11: Ëáõ½³ñÏáõÃÛ³Ý Ï³ï³ñÙ³Ý Ù³ëÇÝ ÙÇçÝáñ¹áõÃÛáõÝÝ»ñ | D11: =SUM('Ս. Ուզունյան:Ա. Բադիրյան'!D11) -> 0 | E11: =SUM('Ս. Ուզունյան:Ա. Բադիրյան'!E11) -> 85 | F11: =SUM('Ս. Ուզունյան:Ա. Բադիրյան'!F11) -> 2 | G11: =SUM('Ս. Ուզունյան:Ա. Բադիրյան'!G11) -> 7 | H11: =SUM('Ս. Ուզունյան:Ա. Բադիրյան'!H11) -> 76 | I11: =SUM('Ս. Ուզունյան:Ա. Բադիրյան'!I11) -> 0 | J11: =SUM('Ս. Ուզունյան:Ա. Բադիրյան'!J11) -> 0 | K11: =SUM('Ս. Ուզունյան:Ա. Բադիրյան'!K11) -> 83 | ... R11: =SUM('Ս. Ուզունյան:Ա. Բադիրյան'!R11) -> 2 | T11: =D11+E11 -> 85 | U11: =F11+K11+L11 -> 85 | V11: =K11 -> 83 | W11: =G11+H11+I11+J11 -> 83
A12: 6 | B12: µ³ÝÏ³ÛÇÝ, ³å³Ñáí³·ñ³Ï³Ý, Ýáï³ñ³Ï³Ý ·³ÕïÝÇù Ï³½ÙáÕ ï»Õ»ÏáõÃÛáõÝÝ»ñÇ ëï³óÙ³Ý Ñ³Ù³ñ Ëáõ½³ñÏáõÃÛ³Ý Ï³Ù ³é·ñ³íÙ³Ý Ï³ï³ñÙ³Ý Ù³ëÇÝ ÙÇçÝáñ¹áõÃÛáõÝÝ»ñ | D12: =SUM('Ս. Ուզունյան:Ա. Բադիրյան'!D12) -> 0 | E12: =SUM('Ս. Ուզունյան:Ա. Բադիրյան'!E12) -> 4 | F12: =SUM('Ս. Ուզունյան:Ա. Բադիրյան'!F12) -> 0 | G12: =SUM('Ս. Ուզունյան:Ա. Բադիրյան'!G12) -> 3 | H12: =SUM('Ս. Ուզունյան:Ա. Բադիրյան'!H12) -> 1 | I12: =SUM('Ս. Ուզունյան:Ա. Բադիրյան'!I12) -> 0 | J12: =SUM('Ս. Ուզունյան:Ա. Բադիրյան'!J12) -> 0 | K12: =SUM('Ս. Ուզունյան:Ա. Բադիրյան'!K12) -> 4 | ... R12: =SUM('Ս. Ուզունյան:Ա. Բադիրյան'!R12) -> 0 | T12: =D12+E12 -> 4 | U12: =F12+K12+L12 -> 4 | V12: =K12 -> 4 | W12: =G12+H12+I12+J12 -> 4
A13: 7 | B13: Ý³Ù³Ï³·ñáõÃÛ³Ý, Ñ»é³·ñ³Ï³Ý, ÷áuï³ÛÇÝ Ñ³Õáñ¹áõÙÝ»ñÇ ÑëÏáÕáõÃÛ³Ý Ù³ëÇÝ ÙÇçÝáñ¹áõÃÛáõÝÝ»ñ | D13: =SUM('Ս. Ուզունյան:Ա. Բադիրյան'!D13) -> 0 | E13: =SUM('Ս. Ուզունյան:Ա. Բադիրյան'!E13) -> 0 | F13: =SUM('Ս. Ուզունյան:Ա. Բադիրյան'!F13) -> 0 | G13: =SUM('Ս. Ուզունյան:Ա. Բադիրյան'!G13) -> 0 | H13: =SUM('Ս. Ուզունյան:Ա. Բադիրյան'!H13) -> 0 | I13: =SUM('Ս. Ուզունյան:Ա. Բադիրյան'!I13) -> 0 | J13: =SUM('Ս. Ուզունյան:Ա. Բադիրյան'!J13) -> 0 | K13: =SUM('Ս. Ուզունյան:Ա. Բադիրյան'!K13) -> 0 | ... R13: =SUM('Ս. Ուզունյան:Ա. Բադիրյան'!R13) -> 0 | T13: =D13+E13 -> 0 | U13: =F13+K13+L13 -> 0 | V13: =K13 -> 0 | W13: =G13+H13+I13+J13 -> 0
A14: 8 | B14: Ñ»é³Ëáu³ÛÇÝ Ï³Ù Ï³åÇ ³ÛÉ ÙÇçáóÝ»ñáí ï³ñíáÕ Ëáu³ÏóáõÃÛáõÝÝ»ñÇ ÉuÙ³Ý ¨ Ó³ÛÝ³·ñ³éÙ³Ý Ù³ëÇÝ ÙÇçÝáñ¹áõÃÛáõÝÝ»ñ | D14: =SUM('Ս. Ուզունյան:Ա. Բադիրյան'!D14) -> 0 | E14: =SUM('Ս. Ուզունյան:Ա. Բադիրյան'!E14) -> 0 | F14: =SUM('Ս. Ուզունյան:Ա. Բադիրյան'!F14) -> 0 | G14: =SUM('Ս. Ուզունյան:Ա. Բադիրյան'!G14) -> 0 | H14: =SUM('Ս. Ուզունյան:Ա. Բադիրյան'!H14) -> 0 | I14: =SUM('Ս. Ուզունյան:Ա. Բադիրյան'!I14) -> 0 | J14: =SUM('Ս. Ուզունյան:Ա. Բադիրյան'!J14) -> 0 | K14: =SUM('Ս. Ուզունյան:Ա. Բադիրյան'!K14) -> 0 | ... R14: =SUM('Ս. Ուզունյան:Ա. Բադիրյան'!R14) -> 0 | T14: =D14+E14 -> 0 | U14: =F14+K14+L14 -> 0 | V14: =K14 -> 0 | W14: =G14+H14+I14+J14 -> 0
A15: 9 | B15: Ñ»é³ËáëÝ»ñÇ Ùáõïù³ÛÇÝ ¨ »Éù³ÛÇÝ í»ñÍ³ÝÙ³Ý ÃáõÛÉïíáõÃÛáõÝ ëï³Ý³Éáõ Ù³ëÇÝ ÙÇçÝáñ¹áõÃÛáõÝÝ»ñ | D15: =SUM('Ս. Ուզունյան:Ա. Բադիրյան'!D15) -> 0 | E15: =SUM('Ս. Ուզունյան:Ա. Բադիրյան'!E15) -> 56 | F15: =SUM('Ս. Ուզունյան:Ա. Բադիրյան'!F15) -> 1 | G15: =SUM('Ս. Ուզունյան:Ա. Բադիրյան'!G15) -> 0 | H15: =SUM('Ս. Ուզունյան:Ա. Բադիրյան'!H15) -> 54 | I15: =SUM('Ս. Ուզունյան:Ա. Բադիրյան'!I15) -> 1 | J15: =SUM('Ս. Ուզունյան:Ա. Բադիրյան'!J15) -> 0 | K15: =SUM('Ս. Ուզունյան:Ա. Բադիրյան'!K15) -> 55 | ... R15: =SUM('Ս. Ուզունյան:Ա. Բադիրյան'!R15) -> 0 | T15: =D15+E15 -> 56 | U15: =F15+K15+L15 -> 56 | V15: =K15 -> 55 | W15: =G15+H15+I15+J15 -> 55
A16: 10 | B16: Ñ»ï³ùÝÝáõÃÛ³Ý Ù³ñÙÝÇ ³ßË³ïáÕÇ, ùÝÝÇãÇ, ¹³ï³Ë³½Ç oå»ñ³ïÇí-Ñ»ï³Ëáõ½³Ï³Ý ·áñÍáÕáõÃÛáõÝÝ»ñ Çñ³Ï³Ý³óÝáÕ Ù³ñÙÇÝÝ»ñÇ ³ÝoñÇÝ³Ï³Ý ¨ ³ÝÑÇÙÝ áñáßáõÙÝ»ñÇ ¨ ·áñÍáÕáõÃÛáõÝÝ»ñÇ ¹»Ù µáÕáùÝ»ñ | D16: =SUM('Ս. Ուզունյան:Ա. Բադիրյան'!D16) -> 6 | E16: =SUM('Ս. Ուզունյան:Ա. Բադիրյան'!E16) -> 20 | F16: =SUM('Ս. Ուզունյան:Ա. Բադիրյան'!F16) -> 0 | G16: =SUM('Ս. Ուզունյան:Ա. Բադիրյան'!G16) -> 16 | H16: =SUM('Ս. Ուզունյան:Ա. Բադիրյան'!H16) -> 2 | I16: =SUM('Ս. Ուզունյան:Ա. Բադիրյան'!I16) -> 0 | J16: =SUM('Ս. Ուզունյան:Ա. Բադիրյան'!J16) -> 0 | K16: =SUM('Ս. Ուզունյան:Ա. Բադիրյան'!K16) -> 18 | ... R16: =SUM('Ս. Ուզունյան:Ա. Բադիրյան'!R16) -> 2 | T16: =D16+E16 -> 26 | U16: =F16+K16+L16 -> 26 | V16: =K16 -> 18 | W16: =G16+H16+I16+J16 -> 18
A17: 2. ¸³ï³Ï³Ý ³Ïï»ñÇ ¨ ¹³ï³Ï³Ý Ñ³ÝÓÝ³ñ³ñáõÃÛáõÝÝ»ñÇ Ï³ï³ñÙ³Ý Ñ»ï Ï³åí³Í Ñ³ñó»ñÇ ÉáõÍÙ³Ý áÉáñï
A18: 1 | B18: å³ïÅÇó å³ÛÙ³Ý³Ï³Ý í³Õ³Å³ÙÏ»ï ³½³ï»Éáõ Ù³ëÇÝ ÙÇçÝáñ¹áõÃÛáõÝÝ»ñ | D18: =SUM('Ս. Ուզունյան:Ա. Բադիրյան'!D18) -> 0 | E18: =SUM('Ս. Ուզունյան:Ա. Բադիրյան'!E18) -> 0 | F18: =SUM('Ս. Ուզունյան:Ա. Բադիրյան'!F18) -> 0 | G18: =SUM('Ս. Ուզունյան:Ա. Բադիրյան'!G18) -> 0 | H18: =SUM('Ս. Ուզունյան:Ա. Բադիրյան'!H18) -> 0 | I18: =SUM('Ս. Ուզունյան:Ա. Բադիրյան'!I18) -> 0 | J18: =SUM('Ս. Ուզունյան:Ա. Բադիրյան'!J18) -> 0 | K18: =SUM('Ս. Ուզունյան:Ա. Բադիրյան'!K18) -> 0 | ... R18: =SUM('Ս. Ուզունյան:Ա. Բադիրյան'!R18) -> 0 | T18: =D18+E18 -> 0 | U18: =F18+K18+L18 -> 0 | V18: =K18 -> 0 | W18: =G18+H18+I18+J18 -> 0
A19: 2 | B19: å³ïÇÅÁ ÷á÷áË»Éáõ, Ñ»ï³Ó·»Éáõ ¨ å³ïÅÇó ³½³ï»Éáõ Ù³uÇÝ ÙÇçÝáñ¹áõÃÛáõÝÝ»ñ | D19: =SUM('Ս. Ուզունյան:Ա. Բադիրյան'!D19) -> 0 | E19: =SUM('Ս. Ուզունյան:Ա. Բադիրյան'!E19) -> 8 | F19: =SUM('Ս. Ուզունյան:Ա. Բադիրյան'!F19) -> 0 | G19: =SUM('Ս. Ուզունյան:Ա. Բադիրյան'!G19) -> 2 | H19: =SUM('Ս. Ուզունյան:Ա. Բադիրյան'!H19) -> 4 | I19: =SUM('Ս. Ուզունյան:Ա. Բադիրյան'!I19) -> 0 | J19: =SUM('Ս. Ուզունյան:Ա. Բադիրյան'!J19) -> 0 | K19: =SUM('Ս. Ուզունյան:Ա. Բադիրյան'!K19) -> 6 | ... R19: =SUM('Ս. Ուզունյան:Ա. Բադիրյան'!R19) -> 0 | T19: =D19+E19 -> 8 | U19: =F19+K19+L19 -> 8 | V19: =K19 -> 6 | W19: =G19+H19+I19+J19 -> 6
A20: 3 | B20: Ñ³ñÏ³¹Çñ µáõÅÙ³Ý ï»ë³ÏÇ ÷á÷áËáõÃÛ³Ý Ù³ëÇÝ ÙÇçÝáñ¹áõÃÛáõÝÝ»ñ | D20: =SUM('Ս. Ուզունյան:Ա. Բադիրյան'!D20) -> 3 | E20: =SUM('Ս. Ուզունյան:Ա. Բադիրյան'!E20) -> 11 | F20: =SUM('Ս. Ուզունյան:Ա. Բադիրյան'!F20) -> 0 | G20: =SUM('Ս. Ուզունյան:Ա. Բադիրյան'!G20) -> 3 | H20: =SUM('Ս. Ուզունյան:Ա. Բադիրյան'!H20) -> 9 | I20: =SUM('Ս. Ուզունյան:Ա. Բադիրյան'!I20) -> 0 | J20: =SUM('Ս. Ուզունյան:Ա. Բադիրյան'!J20) -> 0 | K20: =SUM('Ս. Ուզունյան:Ա. Բադիրյան'!K20) -> 12 | ... R20: =SUM('Ս. Ուզունյան:Ա. Բադիրյան'!R20) -> 0 | T20: =D20+E20 -> 14 | U20: =F20+K20+L20 -> 14 | V20: =K20 -> 12 | W20: =G20+H20+I20+J20 -> 12
A21: 4 | B21: ³ÛÉ ÙÇçÝáñ¹áõÃÛáõÝÝ»ñ | D21: =SUM('Ս. Ուզունյան:Ա. Բադիրյան'!D21) -> 0 | E21: =SUM('Ս. Ուզունյան:Ա. Բադիրյան'!E21) -> 7 | F21: =SUM('Ս. Ուզունյան:Ա. Բադիրյան'!F21) -> 0 | G21: =SUM('Ս. Ուզունյան:Ա. Բադիրյան'!G21) -> 0 | H21: =SUM('Ս. Ուզունյան:Ա. Բադիրյան'!H21) -> 6 | I21: =SUM('Ս. Ուզունյան:Ա. Բադիրյան'!I21) -> 0 | J21: =SUM('Ս. Ուզունյան:Ա. Բադիրյան'!J21) -> 0 | K21: =SUM('Ս. Ուզունյան:Ա. Բադիրյան'!K21) -> 6 | ... R21: =SUM('Ս. Ուզունյան:Ա. Բադիրյան'!R21) -> 0 | T21: =D21+E21 -> 7 | U21: =F21+K21+L21 -> 7 | V21: =K21 -> 6 | W21: =G21+H21+I21+J21 -> 6
A22: 5 | B22: ¹³ï³Ï³Ý Ñ³ÝÓÝ³ñ³ñáõÃÛáõÝÝ»ñ | D22: =SUM('Ս. Ուզունյան:Ա. Բադիրյան'!D22) -> 5 | E22: =SUM('Ս. Ուզունյան:Ա. Բադիրյան'!E22) -> 13 | F22: =SUM('Ս. Ուզունյան:Ա. Բադիրյան'!F22) -> 2 | G22: =SUM('Ս. Ուզունյան:Ա. Բադիրյան'!G22) -> 1 | H22: =SUM('Ս. Ուզունյան:Ա. Բադիրյան'!H22) -> 2 | I22: =SUM('Ս. Ուզունյան:Ա. Բադիրյան'!I22) -> 0 | J22: =SUM('Ս. Ուզունյան:Ա. Բադիրյան'!J22) -> 0 | K22: =SUM('Ս. Ուզունյան:Ա. Բադիրյան'!K22) -> 3 | ... R22: =SUM('Ս. Ուզունյան:Ա. Բադիրյան'!R22) -> 0 | T22: =D22+E22 -> 18 | U22: =F22+K22+L22 -> 16 | V22: =K22 -> 3 | W22: =G22+H22+I22+J22 -> 3
A23: ÀÜ¸²ØºÜÀ | D23: =SUM('Ս. Ուզունյան:Ա. Բադիրյան'!D23) -> 18 | E23: =SUM('Ս. Ուզունյան:Ա. Բադիրյան'!E23) -> 267 | F23: =SUM('Ս. Ուզունյան:Ա. Բադիրյան'!F23) -> 9 | G23: =SUM('Ս. Ուզունյան:Ա. Բադիրյան'!G23) -> 51 | H23: =SUM('Ս. Ուզունյան:Ա. Բադիրյան'!H23) -> 198 | I23: =SUM('Ս. Ուզունյան:Ա. Բադիրյան'!I23) -> 1 | J23: =SUM('Ս. Ուզունյան:Ա. Բադիրյան'!J23) -> 0 | K23: =SUM('Ս. Ուզունյան:Ա. Բադիրյան'!K23) -> 250 | ... R23: =SUM('Ս. Ուզունյան:Ա. Բադիրյան'!R23) -> 15 | T23: =D23+E23 -> 285 | U23: =F23+K23+L23 -> 283 | V23: =K23 -> 250 | W23: =G23+H23+I23+J23 -> 250

Sheet Ս. Ուզունյան
A1: 2015Ã. | D1: Ð²ÞìºîìàôÂÚàôÜ | P1: Ð³í»Éí³Í Ð³Û³ëï³ÝÇ Ð³Ýñ³å»ïáõÃÛ³Ý ¸³ï³ñ³ÝÝ»ñÇ Ý³Ë³·³ÑÝ»ñÇ ËáñÑñ¹Ç 25.08.2016Ã. ÃÇí 44-È áñáßÙ³Ý
A2: ØÇÝã¹³ï³Ï³Ý í³ñáõÛÃÇ ÝÏ³ïÙ³Ùµ ¹³ï³Ï³Ý í»ñ³ÑëÏáÕáõÃÛ³ÝÁ, ¹³ï³Ï³Ý ³Ïï»ñÇ ¨ ¹³ï³Ï³Ý Ñ³ÝÓÝ³ñ³ñáõÃÛáõÝÝ»ñÇ Ï³ï³ñÙ³Ý Ñ»ï Ï³åí³Í ÙÇçÝáñ¹áõÃÛáõÝÝ»ñÇ í»ñ³µ»ñÛ³É ¹³ï³Ï³Ý ·áñÍ»ñáí ºñ¨³Ý ù³Õ³ùÇ ²í³Ý ¨ Üáñ Üáñù í³ñã³Ï³Ý ßñç³ÝÝ»ñÇ ÁÝ¹Ñ³Ýáõñ Çñ³í³ëáõÃÛ³Ý ³é³çÇÝ ³ïÛ³ÝÇ ¹³ï³ñ³ÝÇ ¹³ï³íáñ Ս.ՈՒզունյանի ·áñÍáõÝ»áõÃÛ³Ý í»ñ³µ»ñÛ³É
A3: êïáõ·Çã Ñ³í³ë³ñáõÙ` 1+2=3+8+9, 8=4+5+6+7, | D3: Ð³ßí»ïáõ Å³Ù³Ý³Ï³Ñ³ïí³ÍÇ ëÏ½µáõÙ Ý³Ëáñ¹ Ñ³ßí»ïáõ Å³Ù³Ý³Ï³Ñ³ïí³ÍÇó ÷áË³Ýóí³Í ·áñÍ»ñÇ ÁÝ¹Ñ³Ýáõñ ÃÇíÁ | E3: Ð³ßí»ïáõ Å³Ù³Ý³Ï³Ñ³ïí³ÍáõÙ ëï³óí³Í ·áñÍ»ñÇ ÁÝ¹Ñ³Ýáõñ ÃÇíÁ | F3: öáË³Ýóí»É ¿ ³ÛÉ ¹³ï³íáñÇ Ï³Ù ³ÛÉ ¹³ï³ñ³Ý (Ï³½ÙÇ ÷á÷áËáõÃÛáõÝ, ÁÝ¹¹³ïáõÃÛáõÝ) | G3: Ð³ßí»ïáõ Å³Ù³Ý³Ï³Ñ³ïí³ÍáõÙ ³í³ñïí³Í ·áñÍ»ñÇ ÁÝ¹Ñ³Ýáõñ ÃÇíÁ | L3: Ð³ßí»ïáõ Å³Ù³Ý³Ï³Ñ³ïí³ÍáõÙ ³Ý³í³ñï ·áñÍ»ñÇ ÁÝ¹Ñ³Ýáõñ ÃÇíÁ | M3: ØÇçÝáñ¹áõÃÛáõÝÝ»ñáí Ï³Û³óí³Í ¹³ï³Ï³Ý ³Ïï»ñÇó µáÕáù³ñÏí³ÍÝ»ñÇ ù³Ý³ÏÁ | O3: ²Ý³í³ñï µáÕáùÝ»ñ | P3: ØÇçÝáñ¹áõÃÛáõÝÝ»ñáí Ï³Û³óí³Í ¨ µáÕáù³ñÏí³Í ¹³ï³Ï³Ý ³Ïï»ñÇó µ»Ï³Ýí³ÍÝ»ñÇ ù³Ý³ÏÁ | R3: ÙÇçÝáñ¹áõÃÛáõÝÝ»ñáí Ï³Û³óí³Í ¨ µáÕáù³ñÏí³Í ¹³ï³Ï³Ý ³Ïï»ñÇó ³Ý÷á÷áË ÃáÕÝí³ÍÝ»ñÇ ù³Ý³ÏÁ
G4: Ù»ñÅí»É ¿ | H4: µ³í³ñ³ñí»É ¿ | I4: µ³í³ñ³ñí»É ¿ Ù³ëÝ³ÏÇ | J4: ÃáÕÝí»É ¿ ³é³Ýó ùÝÝáõÃÛ³Ý | K4: ÀÝ¹³Ù»ÝÁ
M5: Ý³Ëáñ¹ ï³ñÇÝ»ñÇÝ Ï³Û³óí³Í ³Ïï»ñÇ ¹»Ù | N5: Ñ³ßí»ïáõ Å³Ù³Ý³Ï³ßñç³ÝáõÙ Ï³Û³óí³Í ³Ïï»ñÇ ¹»Ù | P5: Ý³Ëáñ¹ ï³ñÇÝ»ñÇÝ Ï³Û³óí³Í ³Ïï»ñÇ µ»Ï³ÝáõÙÝ»ñÁ | Q5: Ñ³ßí»ïáõ Å³Ù³Ý³Ï³ßñç³ÝáõÙ Ï³Û³óí³Í ³Ïï»ñÇ µ»Ï³ÝáõÙÝ»ñÁ
A6: 1. ØÇÝã¹³ï³Ï³Ý í³ñáõÛÃÇ ÝÏ³ïÙ³Ùµ ¹³ï³Ï³Ý í»ñ³ÑëÏáÕáõÃÛ³Ý áÉáñï | D6: 1 | E6: 2 | F6: 3 | G6: 4 | H6: 5 | I6: 6 | J6: 7 | K6: 8 | L6: 9 | M6: 10 | N6: 11 | O6: 12 | P6: 13 | Q6: 14 | R6: 15 | T6: 1+2=3+8+9 | V6: 8=4+5+6+7
A7: 1 | B7: Ï³É³ÝùÁ áñå»ë Ë³÷³ÝÙ³Ý ÙÇçáó ÏÇñ³é»Éáõ Ù³ëÇÝ ÙÇçÝáñ¹áõÃÛáõÝÝ»ñ | E7: 4 | G7: 1 | H7: 3 | K7: 4 | M7: 2 | N7: 2 | O7: 1 | P7: 1 | R7: 2 | T7: =D7+E7 -> 4 | U7: =F7+K7+L7 -> 4 | V7: =K7 -> 4 | W7: =G7+H7+I7+J7 -> 4
A8: 2 | B8: Ï³É³ÝùÇ Å³ÙÏ»ïÁ »ñÏ³ñ³óÝ»Éáõ Ù³ëÇÝ ÙÇçÝáñ¹áõÃÛáõÝÝ»ñ | D8: 3 | E8: 22 | H8: 25 | K8: 25 | N8: 8 | O8: 2 | R8: 6 | T8: =D8+E8 -> 25 | U8: =F8+K8+L8 -> 25 | V8: =K8 -> 25 | W8: =G8+H8+I8+J8 -> 25
A9: 3 | B9: Ï³É³ÝùÇ í»ñ³Ñ³ëï³ïÙ³Ý Ù³ëÇÝ ÙÇçÝáñ¹áõÃÛáõÝÝ»ñ | E9: 1 | H9: 1 | K9: 1 | T9: =D9+E9 -> 1 | U9: =F9+K9+L9 -> 1 | V9: =K9 -> 1 | W9: =G9+H9+I9+J9 -> 1
A10: 4 | B10: ·ñ³íÁ áñå»ë Ï³É³Ý³íáñÙ³Ý ³ÛÉÁÝïñ³Ýù³ÛÇÝ Ë³÷³ÝÙ³Ý ÙÇçáó ÏÇñ³é»Éáõ Ù³ëÇÝ ÙÇçÝáñ¹áõÃÛáõÝÝ»ñ | D10: 1 | E10: 10 | F10: 1 | G10: 10 | K10: 10 | N10: 1 | O10: 1 | T10: =D10+E10 -> 11 | U10: =F10+K10+L10 -> 11 | V10: =K10 -> 10 | W10: =G10+H10+I10+J10 -> 10
A11: 5 | B11: Ëáõ½³ñÏáõÃÛ³Ý Ï³ï³ñÙ³Ý Ù³ëÇÝ ÙÇçÝáñ¹áõÃÛáõÝÝ»ñ | E11: 18 | H11: 18 | K11: 18 | T11: =D11+E11 -> 18 | U11: =F11+K11+L11 -> 18 | V11: =K11 -> 18 | W11: =G11+H11+I11+J11 -> 18
A12: 6 | B12: µ³ÝÏ³ÛÇÝ, ³å³Ñáí³·ñ³Ï³Ý, Ýáï³ñ³Ï³Ý ·³ÕïÝÇù Ï³½ÙáÕ ï»Õ»ÏáõÃÛáõÝÝ»ñÇ ëï³óÙ³Ý Ñ³Ù³ñ Ëáõ½³ñÏáõÃÛ³Ý Ï³Ù ³é·ñ³íÙ³Ý Ï³ï³ñÙ³Ý Ù³ëÇÝ ÙÇçÝáñ¹áõÃÛáõÝÝ»ñ | T12: =D12+E12 -> 0 | U12: =F12+K12+L12 -> 0 | V12: =K12 -> 0 | W12: =G12+H12+I12+J12 -> 0
A13: 7 | B13: Ý³Ù³Ï³·ñáõÃÛ³Ý, Ñ»é³·ñ³Ï³Ý, ÷áuï³ÛÇÝ Ñ³Õáñ¹áõÙÝ»ñÇ ÑëÏáÕáõÃÛ³Ý Ù³ëÇÝ ÙÇçÝáñ¹áõÃÛáõÝÝ»ñ | T13: =D13+E13 -> 0 | U13: =F13+K13+L13 -> 0 | V13: =K13 -> 0 | W13: =G13+H13+I13+J13 -> 0
A14: 8 | B14: Ñ»é³Ëáu³ÛÇÝ Ï³Ù Ï³åÇ ³ÛÉ ÙÇçáóÝ»ñáí ï³ñíáÕ Ëáu³ÏóáõÃÛáõÝÝ»ñÇ ÉuÙ³Ý ¨ Ó³ÛÝ³·ñ³éÙ³Ý Ù³ëÇÝ ÙÇçÝáñ¹áõÃÛáõÝÝ»ñ | T14: =D14+E14 -> 0 | U14: =F14+K14+L14 -> 0 | V14: =K14 -> 0 | W14: =G14+H14+I14+J14 -> 0
A15: 9 | B15: Ñ»é³ËáëÝ»ñÇ Ùáõïù³ÛÇÝ ¨ »Éù³ÛÇÝ í»ñÍ³ÝÙ³Ý ÃáõÛÉïíáõÃÛáõÝ ëï³Ý³Éáõ Ù³ëÇÝ ÙÇçÝáñ¹áõÃÛáõÝÝ»ñ | E15: 8 | F15: 1 | H15: 7 | K15: 7 | T15: =D15+E15 -> 8 | U15: =F15+K15+L15 -> 8 | V15: =K15 -> 7 | W15: =G15+H15+I15+J15 -> 7
A16: 10 | B16: Ñ»ï³ùÝÝáõÃÛ³Ý Ù³ñÙÝÇ ³ßË³ïáÕÇ, ùÝÝÇãÇ, ¹³ï³Ë³½Ç oå»ñ³ïÇí-Ñ»ï³Ëáõ½³Ï³Ý ·áñÍáÕáõÃÛáõÝÝ»ñ Çñ³Ï³Ý³óÝáÕ Ù³ñÙÇÝÝ»ñÇ ³ÝoñÇÝ³Ï³Ý ¨ ³ÝÑÇÙÝ áñáßáõÙÝ»ñÇ ¨ ·áñÍáÕáõÃÛáõÝÝ»ñÇ ¹»Ù µáÕáùÝ»ñ | D16: 2 | E16: 8 | G16: 4 | H16: 2 | K16: 6 | L16: 4 | N16: 2 | O16: 2 | T16: =D16+E16 -> 10 | U16: =F16+K16+L16 -> 10 | V16: =K16 -> 6 | W16: =G16+H16+I16+J16 -> 6
A17: 2. ¸³ï³Ï³Ý ³Ïï»ñÇ ¨ ¹³ï³Ï³Ý Ñ³ÝÓÝ³ñ³ñáõÃÛáõÝÝ»ñÇ Ï³ï³ñÙ³Ý Ñ»ï Ï³åí³Í Ñ³ñó»ñÇ ÉáõÍÙ³Ý áÉáñï
A18: 1 | B18: å³ïÅÇó å³ÛÙ³Ý³Ï³Ý í³Õ³Å³ÙÏ»ï ³½³ï»Éáõ Ù³ëÇÝ ÙÇçÝáñ¹áõÃÛáõÝÝ»ñ | T18: =D18+E18 -> 0 | U18: =F18+K18+L18 -> 0 | V18: =K18 -> 0 | W18: =G18+H18+I18+J18 -> 0
A19: 2 | B19: å³ïÇÅÁ ÷á÷áË»Éáõ, Ñ»ï³Ó·»Éáõ ¨ å³ïÅÇó ³½³ï»Éáõ Ù³uÇÝ ÙÇçÝáñ¹áõÃÛáõÝÝ»ñ | E19: 6 | G19: 2 | H19: 3 | K19: 5 | L19: 1 | T19: =D19+E19 -> 6 | U19: =F19+K19+L19 -> 6 | V19: =K19 -> 5 | W19: =G19+H19+I19+J19 -> 5
A20: 3 | B20: Ñ³ñÏ³¹Çñ µáõÅÙ³Ý ï»ë³ÏÇ ÷á÷áËáõÃÛ³Ý Ù³ëÇÝ ÙÇçÝáñ¹áõÃÛáõÝÝ»ñ | D20: 2 | E20: 4 | G20: 2 | H20: 4 | K20: 6 | T20: =D20+E20 -> 6 | U20: =F20+K20+L20 -> 6 | V20: =K20 -> 6 | W20: =G20+H20+I20+J20 -> 6
A21: 4 | B21: ³ÛÉ ÙÇçÝáñ¹áõÃÛáõÝÝ»ñ | E21: 3 | H21: 3 | K21: 3 | T21: =D21+E21 -> 3 | U21: =F21+K21+L21 -> 3 | V21: =K21 -> 3 | W21: =G21+H21+I21+J21 -> 3
A22: 5 | B22: ¹³ï³Ï³Ý Ñ³ÝÓÝ³ñ³ñáõÃÛáõÝÝ»ñ | E22: 5 | G22: 1 | H22: 2 | K22: 3 | L22: 2 | T22: =D22+E22 -> 5 | U22: =F22+K22+L22 -> 5 | V22: =K22 -> 3 | W22: =G22+H22+I22+J22 -> 3
A23: ÀÜ¸²ØºÜÀ | D23: =D7+D8+D9+D10+D11+D12+D13+D14+D15+D16+D18+D19+D20+D21+D22 -> 8 | E23: =E7+E8+E9+E10+E11+E12+E13+E14+E15+E16+E18+E19+E20+E21+E22 -> 89 | F23: =F7+F8+F9+F10+F11+F12+F13+F14+F15+F16+F18+F19+F20+F21+F22 -> 2 | G23: =G7+G8+G9+G10+G11+G12+G13+G14+G15+G16+G18+G19+G20+G21+G22 -> 20 | H23: =H7+H8+H9+H10+H11+H12+H13+H14+H15+H16+H18+H19+H20+H21+H22 -> 68 | I23: =I7+I8+I9+I10+I11+I12+I13+I14+I15+I16+I18+I19+I20+I21+I22 -> 0 | J23: =J7+J8+J9+J10+J11+J12+J13+J14+J15+J16+J18+J19+J20+J21+J22 -> 0 | K23: =K7+K8+K9+K10+K11+K12+K13+K14+K15+K16+K18+K19+K20+K21+K22 -> 88 | ... R23: =R7+R8+R9+R10+R11+R12+R13+R14+R15+R16+R18+R19+R20+R21+R22 -> 8 | T23: =D23+E23 -> 97 | U23: =F23+K23+L23 -> 97 | V23: =K23 -> 88 | W23: =G23+H23+I23+J23 -> 88

Sheet Ա. Վարդապետյան
A1: 2016Ã. 1-ԻՆ ԿԻՍԱՄՅԱԿ | D1: Ð²ÞìºîìàôÂÚàôÜ | P1: Ð³í»Éí³Í Ð³Û³ëï³ÝÇ Ð³Ýñ³å»ïáõÃÛ³Ý ¸³ï³ñ³ÝÝ»ñÇ Ý³Ë³·³ÑÝ»ñÇ ËáñÑñ¹Ç 25.08.2016Ã. ÃÇí 44-È áñáßÙ³Ý
A2: ØÇÝã¹³ï³Ï³Ý í³ñáõÛÃÇ ÝÏ³ïÙ³Ùµ ¹³ï³Ï³Ý í»ñ³ÑëÏáÕáõÃÛ³ÝÁ, ¹³ï³Ï³Ý ³Ïï»ñÇ ¨ ¹³ï³Ï³Ý Ñ³ÝÓÝ³ñ³ñáõÃÛáõÝÝ»ñÇ Ï³ï³ñÙ³Ý Ñ»ï Ï³åí³Í ÙÇçÝáñ¹áõÃÛáõÝÝ»ñÇ í»ñ³µ»ñÛ³É ¹³ï³Ï³Ý ·áñÍ»ñáí ºñ¨³Ý ù³Õ³ùÇ ²í³Ý ¨ Üáñ Üáñù í³ñã³Ï³Ý ßñç³ÝÝ»ñÇ ÁÝ¹Ñ³Ýáõñ Çñ³í³ëáõÃÛ³Ý ³é³çÇÝ ³ïÛ³ÝÇ ¹³ï³ñ³ÝÇ ¹³ï³íáñ Ա.Վարդապետյանի ·áñÍáõÝ»áõÃÛ³Ý í»ñ³µ»ñÛ³É
A3: êïáõ·Çã Ñ³í³ë³ñáõÙ` 1+2=3+8+9, 8=4+5+6+7, | D3: Ð³ßí»ïáõ Å³Ù³Ý³Ï³Ñ³ïí³ÍÇ ëÏ½µáõÙ Ý³Ëáñ¹ Ñ³ßí»ïáõ Å³Ù³Ý³Ï³Ñ³ïí³ÍÇó ÷áË³Ýóí³Í ·áñÍ»ñÇ ÁÝ¹Ñ³Ýáõñ ÃÇíÁ | E3: Ð³ßí»ïáõ Å³Ù³Ý³Ï³Ñ³ïí³ÍáõÙ ëï³óí³Í ·áñÍ»ñÇ ÁÝ¹Ñ³Ýáõñ ÃÇíÁ | F3: öáË³Ýóí»É ¿ ³ÛÉ ¹³ï³íáñÇ Ï³Ù ³ÛÉ ¹³ï³ñ³Ý (Ï³½ÙÇ ÷á÷áËáõÃÛáõÝ, ÁÝ¹¹³ïáõÃÛáõÝ) | G3: Ð³ßí»ïáõ Å³Ù³Ý³Ï³Ñ³ïí³ÍáõÙ ³í³ñïí³Í ·áñÍ»ñÇ ÁÝ¹Ñ³Ýáõñ ÃÇíÁ | L3: Ð³ßí»ïáõ Å³Ù³Ý³Ï³Ñ³ïí³ÍáõÙ ³Ý³í³ñï ·áñÍ»ñÇ ÁÝ¹Ñ³Ýáõñ ÃÇíÁ | M3: ØÇçÝáñ¹áõÃÛáõÝÝ»ñáí Ï³Û³óí³Í ¹³ï³Ï³Ý ³Ïï»ñÇó µáÕáù³ñÏí³ÍÝ»ñÇ ù³Ý³ÏÁ | O3: ²Ý³í³ñï µáÕáùÝ»ñ | P3: ØÇçÝáñ¹áõÃÛáõÝÝ»ñáí Ï³Û³óí³Í ¨ µáÕáù³ñÏí³Í ¹³ï³Ï³Ý ³Ïï»ñÇó µ»Ï³Ýí³ÍÝ»ñÇ ù³Ý³ÏÁ | R3: ÙÇçÝáñ¹áõÃÛáõÝÝ»ñáí Ï³Û³óí³Í ¨ µáÕáù³ñÏí³Í ¹³ï³Ï³Ý ³Ïï»ñÇó ³Ý÷á÷áË ÃáÕÝí³ÍÝ»ñÇ ù³Ý³ÏÁ
G4: Ù»ñÅí»É ¿ | H4: µ³í³ñ³ñí»É ¿ | I4: µ³í³ñ³ñí»É ¿ Ù³ëÝ³ÏÇ | J4: ÃáÕÝí»É ¿ ³é³Ýó ùÝÝáõÃÛ³Ý | K4: ÀÝ¹³Ù»ÝÁ
M5: Ý³Ëáñ¹ ï³ñÇÝ»ñÇÝ Ï³Û³óí³Í ³Ïï»ñÇ ¹»Ù | N5: Ñ³ßí»ïáõ Å³Ù³Ý³Ï³ßñç³ÝáõÙ Ï³Û³óí³Í ³Ïï»ñÇ ¹»Ù | P5: Ý³Ëáñ¹ ï³ñÇÝ»ñÇÝ Ï³Û³óí³Í ³Ïï»ñÇ µ»Ï³ÝáõÙÝ»ñÁ | Q5: Ñ³ßí»ïáõ Å³Ù³Ý³Ï³ßñç³ÝáõÙ Ï³Û³óí³Í ³Ïï»ñÇ µ»Ï³ÝáõÙÝ»ñÁ
A6: 1. ØÇÝã¹³ï³Ï³Ý í³ñáõÛÃÇ ÝÏ³ïÙ³Ùµ ¹³ï³Ï³Ý í»ñ³ÑëÏáÕáõÃÛ³Ý áÉáñï | D6: 1 | E6: 2 | F6: 3 | G6: 4 | H6: 5 | I6: 6 | J6: 7 | K6: 8 | L6: 9 | M6: 10 | N6: 11 | O6: 12 | P6: 13 | Q6: 14 | R6: 15 | T6: 1+2=3+8+9 | V6: 8=4+5+6+7
A7: 1 | B7: Ï³É³ÝùÁ áñå»ë Ë³÷³ÝÙ³Ý ÙÇçáó ÏÇñ³é»Éáõ Ù³ëÇÝ ÙÇçÝáñ¹áõÃÛáõÝÝ»ñ | E7: 1 | G7: 1 | K7: 1 | N7: 1 | R7: 1 | T7: =D7+E7 -> 1 | U7: =F7+K7+L7 -> 1 | V7: =K7 -> 1 | W7: =G7+H7+I7+J7 -> 1
A8: 2 | B8: Ï³É³ÝùÇ Å³ÙÏ»ïÁ »ñÏ³ñ³óÝ»Éáõ Ù³ëÇÝ ÙÇçÝáñ¹áõÃÛáõÝÝ»ñ | E8: 4 | F8: 1 | H8: 3 | K8: 3 | T8: =D8+E8 -> 4 | U8: =F8+K8+L8 -> 4 | V8: =K8 -> 3 | W8: =G8+H8+I8+J8 -> 3
A9: 3 | B9: Ï³É³ÝùÇ í»ñ³Ñ³ëï³ïÙ³Ý Ù³ëÇÝ ÙÇçÝáñ¹áõÃÛáõÝÝ»ñ | T9: =D9+E9 -> 0 | U9: =F9+K9+L9 -> 0 | V9: =K9 -> 0 | W9: =G9+H9+I9+J9 -> 0
A10: 4 | B10: ·ñ³íÁ áñå»ë Ï³É³Ý³íáñÙ³Ý ³ÛÉÁÝïñ³Ýù³ÛÇÝ Ë³÷³ÝÙ³Ý ÙÇçáó ÏÇñ³é»Éáõ Ù³ëÇÝ ÙÇçÝáñ¹áõÃÛáõÝÝ»ñ | E10: 2 | G10: 1 | H10: 1 | K10: 2 | N10: 1 | O10: 1 | T10: =D10+E10 -> 2 | U10: =F10+K10+L10 -> 2 | V10: =K10 -> 2 | W10: =G10+H10+I10+J10 -> 2
A11: 5 | B11: Ëáõ½³ñÏáõÃÛ³Ý Ï³ï³ñÙ³Ý Ù³ëÇÝ ÙÇçÝáñ¹áõÃÛáõÝÝ»ñ | E11: 7 | G11: 1 | H11: 6 | K11: 7 | N11: 1 | R11: 1 | T11: =D11+E11 -> 7 | U11: =F11+K11+L11 -> 7 | V11: =K11 -> 7 | W11: =G11+H11+I11+J11 -> 7
A12: 6 | B12: µ³ÝÏ³ÛÇÝ, ³å³Ñáí³·ñ³Ï³Ý, Ýáï³ñ³Ï³Ý ·³ÕïÝÇù Ï³½ÙáÕ ï»Õ»ÏáõÃÛáõÝÝ»ñÇ ëï³óÙ³Ý Ñ³Ù³ñ Ëáõ½³ñÏáõÃÛ³Ý Ï³Ù ³é·ñ³íÙ³Ý Ï³ï³ñÙ³Ý Ù³ëÇÝ ÙÇçÝáñ¹áõÃÛáõÝÝ»ñ | E12: 1 | H12: 1 | K12: 1 | T12: =D12+E12 -> 1 | U12: =F12+K12+L12 -> 1 | V12: =K12 -> 1 | W12: =G12+H12+I12+J12 -> 1
A13: 7 | B13: Ý³Ù³Ï³·ñáõÃÛ³Ý, Ñ»é³·ñ³Ï³Ý, ÷áuï³ÛÇÝ Ñ³Õáñ¹áõÙÝ»ñÇ ÑëÏáÕáõÃÛ³Ý Ù³ëÇÝ ÙÇçÝáñ¹áõÃÛáõÝÝ»ñ | T13: =D13+E13 -> 0 | U13: =F13+K13+L13 -> 0 | V13: =K13 -> 0 | W13: =G13+H13+I13+J13 -> 0
A14: 8 | B14: Ñ»é³Ëáu³ÛÇÝ Ï³Ù Ï³åÇ ³ÛÉ ÙÇçáóÝ»ñáí ï³ñíáÕ Ëáu³ÏóáõÃÛáõÝÝ»ñÇ ÉuÙ³Ý ¨ Ó³ÛÝ³·ñ³éÙ³Ý Ù³ëÇÝ ÙÇçÝáñ¹áõÃÛáõÝÝ»ñ | T14: =D14+E14 -> 0 | U14: =F14+K14+L14 -> 0 | V14: =K14 -> 0 | W14: =G14+H14+I14+J14 -> 0
A15: 9 | B15: Ñ»é³ËáëÝ»ñÇ Ùáõïù³ÛÇÝ ¨ »Éù³ÛÇÝ í»ñÍ³ÝÙ³Ý ÃáõÛÉïíáõÃÛáõÝ ëï³Ý³Éáõ Ù³ëÇÝ ÙÇçÝáñ¹áõÃÛáõÝÝ»ñ | E15: 8 | H15: 8 | K15: 8 | T15: =D15+E15 -> 8 | U15: =F15+K15+L15 -> 8 | V15: =K15 -> 8 | W15: =G15+H15+I15+J15 -> 8
A16: 10 | B16: Ñ»ï³ùÝÝáõÃÛ³Ý Ù³ñÙÝÇ ³ßË³ïáÕÇ, ùÝÝÇãÇ, ¹³ï³Ë³½Ç oå»ñ³ïÇí-Ñ»ï³Ëáõ½³Ï³Ý ·áñÍáÕáõÃÛáõÝÝ»ñ Çñ³Ï³Ý³óÝáÕ Ù³ñÙÇÝÝ»ñÇ ³ÝoñÇÝ³Ï³Ý ¨ ³ÝÑÇÙÝ áñáßáõÙÝ»ñÇ ¨ ·áñÍáÕáõÃÛáõÝÝ»ñÇ ¹»Ù µáÕáùÝ»ñ | D16: 1 | E16: 7 | G16: 5 | K16: 5 | L16: 3 | M16: 2 | N16: 4 | O16: 4 | R16: 2 | T16: =D16+E16 -> 8 | U16: =F16+K16+L16 -> 8 | V16: =K16 -> 5 | W16: =G16+H16+I16+J16 -> 5
A17: 2. ¸³ï³Ï³Ý ³Ïï»ñÇ ¨ ¹³ï³Ï³Ý Ñ³ÝÓÝ³ñ³ñáõÃÛáõÝÝ»ñÇ Ï³ï³ñÙ³Ý Ñ»ï Ï³åí³Í Ñ³ñó»ñÇ ÉáõÍÙ³Ý áÉáñï
A18: 1 | B18: å³ïÅÇó å³ÛÙ³Ý³Ï³Ý í³Õ³Å³ÙÏ»ï ³½³ï»Éáõ Ù³ëÇÝ ÙÇçÝáñ¹áõÃÛáõÝÝ»ñ | T18: =D18+E18 -> 0 | U18: =F18+K18+L18 -> 0 | V18: =K18 -> 0 | W18: =G18+H18+I18+J18 -> 0
A19: 2 | B19: å³ïÇÅÁ ÷á÷áË»Éáõ, Ñ»ï³Ó·»Éáõ ¨ å³ïÅÇó ³½³ï»Éáõ Ù³uÇÝ ÙÇçÝáñ¹áõÃÛáõÝÝ»ñ | E19: 2 | H19: 1 | K19: 1 | L19: 1 | T19: =D19+E19 -> 2 | U19: =F19+K19+L19 -> 2 | V19: =K19 -> 1 | W19: =G19+H19+I19+J19 -> 1
A20: 3 | B20: Ñ³ñÏ³¹Çñ µáõÅÙ³Ý ï»ë³ÏÇ ÷á÷áËáõÃÛ³Ý Ù³ëÇÝ ÙÇçÝáñ¹áõÃÛáõÝÝ»ñ | E20: 7 | H20: 5 | K20: 5 | L20: 2 | T20: =D20+E20 -> 7 | U20: =F20+K20+L20 -> 7 | V20: =K20 -> 5 | W20: =G20+H20+I20+J20 -> 5
A21: 4 | B21: ³ÛÉ ÙÇçÝáñ¹áõÃÛáõÝÝ»ñ | E21: 3 | H21: 2 | K21: 2 | L21: 1 | T21: =D21+E21 -> 3 | U21: =F21+K21+L21 -> 3 | V21: =K21 -> 2 | W21: =G21+H21+I21+J21 -> 2
A22: 5 | B22: ¹³ï³Ï³Ý Ñ³ÝÓÝ³ñ³ñáõÃÛáõÝÝ»ñ | T22: =D22+E22 -> 0 | U22: =F22+K22+L22 -> 0 | V22: =K22 -> 0 | W22: =G22+H22+I22+J22 -> 0
A23: ÀÜ¸²ØºÜÀ | D23: =D7+D8+D9+D10+D11+D12+D13+D14+D15+D16+D18+D19+D20+D21+D22 -> 1 | E23: =E7+E8+E9+E10+E11+E12+E13+E14+E15+E16+E18+E19+E20+E21+E22 -> 42 | F23: =F7+F8+F9+F10+F11+F12+F13+F14+F15+F16+F18+F19+F20+F21+F22 -> 1 | G23: =G7+G8+G9+G10+G11+G12+G13+G14+G15+G16+G18+G19+G20+G21+G22 -> 8 | H23: =H7+H8+H9+H10+H11+H12+H13+H14+H15+H16+H18+H19+H20+H21+H22 -> 27 | I23: =I7+I8+I9+I10+I11+I12+I13+I14+I15+I16+I18+I19+I20+I21+I22 -> 0 | J23: =J7+J8+J9+J10+J11+J12+J13+J14+J15+J16+J18+J19+J20+J21+J22 -> 0 | K23: =K7+K8+K9+K10+K11+K12+K13+K14+K15+K16+K18+K19+K20+K21+K22 -> 35 | ... R23: =R7+R8+R9+R10+R11+R12+R13+R14+R15+R16+R18+R19+R20+R21+R22 -> 4 | T23: =D23+E23 -> 43 | U23: =F23+K23+L23 -> 43 | V23: =K23 -> 35 | W23: =G23+H23+I23+J23 -> 35

Sheet Ա. Պետրոսյան
A1: 2016Ã. 1-ԻՆ ԿԻՍԱՄՅԱԿ | D1: Ð²ÞìºîìàôÂÚàôÜ | P1: Ð³í»Éí³Í Ð³Û³ëï³ÝÇ Ð³Ýñ³å»ïáõÃÛ³Ý ¸³ï³ñ³ÝÝ»ñÇ Ý³Ë³·³ÑÝ»ñÇ ËáñÑñ¹Ç 25.08.2016Ã. ÃÇí 44-È áñáßÙ³Ý
A2: ØÇÝã¹³ï³Ï³Ý í³ñáõÛÃÇ ÝÏ³ïÙ³Ùµ ¹³ï³Ï³Ý í»ñ³ÑëÏáÕáõÃÛ³ÝÁ, ¹³ï³Ï³Ý ³Ïï»ñÇ ¨ ¹³ï³Ï³Ý Ñ³ÝÓÝ³ñ³ñáõÃÛáõÝÝ»ñÇ Ï³ï³ñÙ³Ý Ñ»ï Ï³åí³Í ÙÇçÝáñ¹áõÃÛáõÝÝ»ñÇ í»ñ³µ»ñÛ³É ¹³ï³Ï³Ý ·áñÍ»ñáí ºñ¨³Ý ù³Õ³ùÇ ²í³Ý ¨ Üáñ Üáñù í³ñã³Ï³Ý ßñç³ÝÝ»ñÇ ÁÝ¹Ñ³Ýáõñ Çñ³í³ëáõÃÛ³Ý ³é³çÇÝ ³ïÛ³ÝÇ ¹³ï³ñ³ÝÇ ¹³ï³íáñ Ա.Պետրոսյանի ·áñÍáõÝ»áõÃÛ³Ý í»ñ³µ»ñÛ³É
A3: êïáõ·Çã Ñ³í³ë³ñáõÙ` 1+2=3+8+9, 8=4+5+6+7, | D3: Ð³ßí»ïáõ Å³Ù³Ý³Ï³Ñ³ïí³ÍÇ ëÏ½µáõÙ Ý³Ëáñ¹ Ñ³ßí»ïáõ Å³Ù³Ý³Ï³Ñ³ïí³ÍÇó ÷áË³Ýóí³Í ·áñÍ»ñÇ ÁÝ¹Ñ³Ýáõñ ÃÇíÁ | E3: Ð³ßí»ïáõ Å³Ù³Ý³Ï³Ñ³ïí³ÍáõÙ ëï³óí³Í ·áñÍ»ñÇ ÁÝ¹Ñ³Ýáõñ ÃÇíÁ | F3: öáË³Ýóí»É ¿ ³ÛÉ ¹³ï³íáñÇ Ï³Ù ³ÛÉ ¹³ï³ñ³Ý (Ï³½ÙÇ ÷á÷áËáõÃÛáõÝ, ÁÝ¹¹³ïáõÃÛáõÝ) | G3: Ð³ßí»ïáõ Å³Ù³Ý³Ï³Ñ³ïí³ÍáõÙ ³í³ñïí³Í ·áñÍ»ñÇ ÁÝ¹Ñ³Ýáõñ ÃÇíÁ | L3: Ð³ßí»ïáõ Å³Ù³Ý³Ï³Ñ³ïí³ÍáõÙ ³Ý³í³ñï ·áñÍ»ñÇ ÁÝ¹Ñ³Ýáõñ ÃÇíÁ | M3: ØÇçÝáñ¹áõÃÛáõÝÝ»ñáí Ï³Û³óí³Í ¹³ï³Ï³Ý ³Ïï»ñÇó µáÕáù³ñÏí³ÍÝ»ñÇ ù³Ý³ÏÁ | O3: ²Ý³í³ñï µáÕáùÝ»ñ | P3: ØÇçÝáñ¹áõÃÛáõÝÝ»ñáí Ï³Û³óí³Í ¨ µáÕáù³ñÏí³Í ¹³ï³Ï³Ý ³Ïï»ñÇó µ»Ï³Ýí³ÍÝ»ñÇ ù³Ý³ÏÁ | R3: ÙÇçÝáñ¹áõÃÛáõÝÝ»ñáí Ï³Û³óí³Í ¨ µáÕáù³ñÏí³Í ¹³ï³Ï³Ý ³Ïï»ñÇó ³Ý÷á÷áË ÃáÕÝí³ÍÝ»ñÇ ù³Ý³ÏÁ
G4: Ù»ñÅí»É ¿ | H4: µ³í³ñ³ñí»É ¿ | I4: µ³í³ñ³ñí»É ¿ Ù³ëÝ³ÏÇ | J4: ÃáÕÝí»É ¿ ³é³Ýó ùÝÝáõÃÛ³Ý | K4: ÀÝ¹³Ù»ÝÁ
M5: Ý³Ëáñ¹ ï³ñÇÝ»ñÇÝ Ï³Û³óí³Í ³Ïï»ñÇ ¹»Ù | N5: Ñ³ßí»ïáõ Å³Ù³Ý³Ï³ßñç³ÝáõÙ Ï³Û³óí³Í ³Ïï»ñÇ ¹»Ù | P5: Ý³Ëáñ¹ ï³ñÇÝ»ñÇÝ Ï³Û³óí³Í ³Ïï»ñÇ µ»Ï³ÝáõÙÝ»ñÁ | Q5: Ñ³ßí»ïáõ Å³Ù³Ý³Ï³ßñç³ÝáõÙ Ï³Û³óí³Í ³Ïï»ñÇ µ»Ï³ÝáõÙÝ»ñÁ
A6: 1. ØÇÝã¹³ï³Ï³Ý í³ñáõÛÃÇ ÝÏ³ïÙ³Ùµ ¹³ï³Ï³Ý í»ñ³ÑëÏáÕáõÃÛ³Ý áÉáñï | D6: 1 | E6: 2 | F6: 3 | G6: 4 | H6: 5 | I6: 6 | J6: 7 | K6: 8 | L6: 9 | M6: 10 | N6: 11 | O6: 12 | P6: 13 | Q6: 14 | R6: 15 | T6: 1+2=3+8+9 | V6: 8=4+5+6+7
A7: 1 | B7: Ï³É³ÝùÁ áñå»ë Ë³÷³ÝÙ³Ý ÙÇçáó ÏÇñ³é»Éáõ Ù³ëÇÝ ÙÇçÝáñ¹áõÃÛáõÝÝ»ñ | T7: =D7+E7 -> 0 | U7: =F7+K7+L7 -> 0 | V7: =K7 -> 0 | W7: =G7+H7+I7+J7 -> 0
A8: 2 | B8: Ï³É³ÝùÇ Å³ÙÏ»ïÁ »ñÏ³ñ³óÝ»Éáõ Ù³ëÇÝ ÙÇçÝáñ¹áõÃÛáõÝÝ»ñ | T8: =D8+E8 -> 0 | U8: =F8+K8+L8 -> 0 | V8: =K8 -> 0 | W8: =G8+H8+I8+J8 -> 0
A9: 3 | B9: Ï³É³ÝùÇ í»ñ³Ñ³ëï³ïÙ³Ý Ù³ëÇÝ ÙÇçÝáñ¹áõÃÛáõÝÝ»ñ | T9: =D9+E9 -> 0 | U9: =F9+K9+L9 -> 0 | V9: =K9 -> 0 | W9: =G9+H9+I9+J9 -> 0
A10: 4 | B10: ·ñ³íÁ áñå»ë Ï³É³Ý³íáñÙ³Ý ³ÛÉÁÝïñ³Ýù³ÛÇÝ Ë³÷³ÝÙ³Ý ÙÇçáó ÏÇñ³é»Éáõ Ù³ëÇÝ ÙÇçÝáñ¹áõÃÛáõÝÝ»ñ | T10: =D10+E10 -> 0 | U10: =F10+K10+L10 -> 0 | V10: =K10 -> 0 | W10: =G10+H10+I10+J10 -> 0
A11: 5 | B11: Ëáõ½³ñÏáõÃÛ³Ý Ï³ï³ñÙ³Ý Ù³ëÇÝ ÙÇçÝáñ¹áõÃÛáõÝÝ»ñ | E11: 10 | H11: 10 | K11: 10 | T11: =D11+E11 -> 10 | U11: =F11+K11+L11 -> 10 | V11: =K11 -> 10 | W11: =G11+H11+I11+J11 -> 10
A12: 6 | B12: µ³ÝÏ³ÛÇÝ, ³å³Ñáí³·ñ³Ï³Ý, Ýáï³ñ³Ï³Ý ·³ÕïÝÇù Ï³½ÙáÕ ï»Õ»ÏáõÃÛáõÝÝ»ñÇ ëï³óÙ³Ý Ñ³Ù³ñ Ëáõ½³ñÏáõÃÛ³Ý Ï³Ù ³é·ñ³íÙ³Ý Ï³ï³ñÙ³Ý Ù³ëÇÝ ÙÇçÝáñ¹áõÃÛáõÝÝ»ñ | T12: =D12+E12 -> 0 | U12: =F12+K12+L12 -> 0 | V12: =K12 -> 0 | W12: =G12+H12+I12+J12 -> 0
A13: 7 | B13: Ý³Ù³Ï³·ñáõÃÛ³Ý, Ñ»é³·ñ³Ï³Ý, ÷áuï³ÛÇÝ Ñ³Õáñ¹áõÙÝ»ñÇ ÑëÏáÕáõÃÛ³Ý Ù³ëÇÝ ÙÇçÝáñ¹áõÃÛáõÝÝ»ñ | T13: =D13+E13 -> 0 | U13: =F13+K13+L13 -> 0 | V13: =K13 -> 0 | W13: =G13+H13+I13+J13 -> 0
A14: 8 | B14: Ñ»é³Ëáu³ÛÇÝ Ï³Ù Ï³åÇ ³ÛÉ ÙÇçáóÝ»ñáí ï³ñíáÕ Ëáu³ÏóáõÃÛáõÝÝ»ñÇ ÉuÙ³Ý ¨ Ó³ÛÝ³·ñ³éÙ³Ý Ù³ëÇÝ ÙÇçÝáñ¹áõÃÛáõÝÝ»ñ | T14: =D14+E14 -> 0 | U14: =F14+K14+L14 -> 0 | V14: =K14 -> 0 | W14: =G14+H14+I14+J14 -> 0
A15: 9 | B15: Ñ»é³ËáëÝ»ñÇ Ùáõïù³ÛÇÝ ¨ »Éù³ÛÇÝ í»ñÍ³ÝÙ³Ý ÃáõÛÉïíáõÃÛáõÝ ëï³Ý³Éáõ Ù³ëÇÝ ÙÇçÝáñ¹áõÃÛáõÝÝ»ñ | E15: 8 | H15: 8 | K15: 8 | T15: =D15+E15 -> 8 | U15: =F15+K15+L15 -> 8 | V15: =K15 -> 8 | W15: =G15+H15+I15+J15 -> 8
A16: 10 | B16: Ñ»ï³ùÝÝáõÃÛ³Ý Ù³ñÙÝÇ ³ßË³ïáÕÇ, ùÝÝÇãÇ, ¹³ï³Ë³½Ç oå»ñ³ïÇí-Ñ»ï³Ëáõ½³Ï³Ý ·áñÍáÕáõÃÛáõÝÝ»ñ Çñ³Ï³Ý³óÝáÕ Ù³ñÙÇÝÝ»ñÇ ³ÝoñÇÝ³Ï³Ý ¨ ³ÝÑÇÙÝ áñáßáõÙÝ»ñÇ ¨ ·áñÍáÕáõÃÛáõÝÝ»ñÇ ¹»Ù µáÕáùÝ»ñ | T16: =D16+E16 -> 0 | U16: =F16+K16+L16 -> 0 | V16: =K16 -> 0 | W16: =G16+H16+I16+J16 -> 0
A17: 2. ¸³ï³Ï³Ý ³Ïï»ñÇ ¨ ¹³ï³Ï³Ý Ñ³ÝÓÝ³ñ³ñáõÃÛáõÝÝ»ñÇ Ï³ï³ñÙ³Ý Ñ»ï Ï³åí³Í Ñ³ñó»ñÇ ÉáõÍÙ³Ý áÉáñï
A18: 1 | B18: å³ïÅÇó å³ÛÙ³Ý³Ï³Ý í³Õ³Å³ÙÏ»ï ³½³ï»Éáõ Ù³ëÇÝ ÙÇçÝáñ¹áõÃÛáõÝÝ»ñ | T18: =D18+E18 -> 0 | U18: =F18+K18+L18 -> 0 | V18: =K18 -> 0 | W18: =G18+H18+I18+J18 -> 0
A19: 2 | B19: å³ïÇÅÁ ÷á÷áË»Éáõ, Ñ»ï³Ó·»Éáõ ¨ å³ïÅÇó ³½³ï»Éáõ Ù³uÇÝ ÙÇçÝáñ¹áõÃÛáõÝÝ»ñ | T19: =D19+E19 -> 0 | U19: =F19+K19+L19 -> 0 | V19: =K19 -> 0 | W19: =G19+H19+I19+J19 -> 0
A20: 3 | B20: Ñ³ñÏ³¹Çñ µáõÅÙ³Ý ï»ë³ÏÇ ÷á÷áËáõÃÛ³Ý Ù³ëÇÝ ÙÇçÝáñ¹áõÃÛáõÝÝ»ñ | T20: =D20+E20 -> 0 | U20: =F20+K20+L20 -> 0 | V20: =K20 -> 0 | W20: =G20+H20+I20+J20 -> 0
A21: 4 | B21: ³ÛÉ ÙÇçÝáñ¹áõÃÛáõÝÝ»ñ | T21: =D21+E21 -> 0 | U21: =F21+K21+L21 -> 0 | V21: =K21 -> 0 | W21: =G21+H21+I21+J21 -> 0
A22: 5 | B22: ¹³ï³Ï³Ý Ñ³ÝÓÝ³ñ³ñáõÃÛáõÝÝ»ñ | T22: =D22+E22 -> 0 | U22: =F22+K22+L22 -> 0 | V22: =K22 -> 0 | W22: =G22+H22+I22+J22 -> 0
A23: ÀÜ¸²ØºÜÀ | D23: =D7+D8+D9+D10+D11+D12+D13+D14+D15+D16+D18+D19+D20+D21+D22 -> 0 | E23: =E7+E8+E9+E10+E11+E12+E13+E14+E15+E16+E18+E19+E20+E21+E22 -> 18 | F23: =F7+F8+F9+F10+F11+F12+F13+F14+F15+F16+F18+F19+F20+F21+F22 -> 0 | G23: =G7+G8+G9+G10+G11+G12+G13+G14+G15+G16+G18+G19+G20+G21+G22 -> 0 | H23: =H7+H8+H9+H10+H11+H12+H13+H14+H15+H16+H18+H19+H20+H21+H22 -> 18 | I23: =I7+I8+I9+I10+I11+I12+I13+I14+I15+I16+I18+I19+I20+I21+I22 -> 0 | J23: =J7+J8+J9+J10+J11+J12+J13+J14+J15+J16+J18+J19+J20+J21+J22 -> 0 | K23: =K7+K8+K9+K10+K11+K12+K13+K14+K15+K16+K18+K19+K20+K21+K22 -> 18 | ... R23: =R7+R8+R9+R10+R11+R12+R13+R14+R15+R16+R18+R19+R20+R21+R22 -> 0 | T23: =D23+E23 -> 18 | U23: =F23+K23+L23 -> 18 | V23: =K23 -> 18 | W23: =G23+H23+I23+J23 -> 18

Sheet Գ. Մազմանյան
A1: 2016Ã. 1-ԻՆ ԿԻՍԱՄՅԱԿ | D1: Ð²ÞìºîìàôÂÚàôÜ | P1: Ð³í»Éí³Í Ð³Û³ëï³ÝÇ Ð³Ýñ³å»ïáõÃÛ³Ý ¸³ï³ñ³ÝÝ»ñÇ Ý³Ë³·³ÑÝ»ñÇ ËáñÑñ¹Ç 25.08.2016Ã. ÃÇí 44-È áñáßÙ³Ý
A2: ØÇÝã¹³ï³Ï³Ý í³ñáõÛÃÇ ÝÏ³ïÙ³Ùµ ¹³ï³Ï³Ý í»ñ³ÑëÏáÕáõÃÛ³ÝÁ, ¹³ï³Ï³Ý ³Ïï»ñÇ ¨ ¹³ï³Ï³Ý Ñ³ÝÓÝ³ñ³ñáõÃÛáõÝÝ»ñÇ Ï³ï³ñÙ³Ý Ñ»ï Ï³åí³Í ÙÇçÝáñ¹áõÃÛáõÝÝ»ñÇ í»ñ³µ»ñÛ³É ¹³ï³Ï³Ý ·áñÍ»ñáí ºñ¨³Ý ù³Õ³ùÇ ²í³Ý ¨ Üáñ Üáñù í³ñã³Ï³Ý ßñç³ÝÝ»ñÇ ÁÝ¹Ñ³Ýáõñ Çñ³í³ëáõÃÛ³Ý ³é³çÇÝ ³ïÛ³ÝÇ ¹³ï³ñ³ÝÇ ¹³ï³íáñ Գ.Մազմանյանի ·áñÍáõÝ»áõÃÛ³Ý í»ñ³µ»ñÛ³É
A3: êïáõ·Çã Ñ³í³ë³ñáõÙ` 1+2=3+8+9, 8=4+5+6+7, | D3: Ð³ßí»ïáõ Å³Ù³Ý³Ï³Ñ³ïí³ÍÇ ëÏ½µáõÙ Ý³Ëáñ¹ Ñ³ßí»ïáõ Å³Ù³Ý³Ï³Ñ³ïí³ÍÇó ÷áË³Ýóí³Í ·áñÍ»ñÇ ÁÝ¹Ñ³Ýáõñ ÃÇíÁ | E3: Ð³ßí»ïáõ Å³Ù³Ý³Ï³Ñ³ïí³ÍáõÙ ëï³óí³Í ·áñÍ»ñÇ ÁÝ¹Ñ³Ýáõñ ÃÇíÁ | F3: öáË³Ýóí»É ¿ ³ÛÉ ¹³ï³íáñÇ Ï³Ù ³ÛÉ ¹³ï³ñ³Ý (Ï³½ÙÇ ÷á÷áËáõÃÛáõÝ, ÁÝ¹¹³ïáõÃÛáõÝ) | G3: Ð³ßí»ïáõ Å³Ù³Ý³Ï³Ñ³ïí³ÍáõÙ ³í³ñïí³Í ·áñÍ»ñÇ ÁÝ¹Ñ³Ýáõñ ÃÇíÁ | L3: Ð³ßí»ïáõ Å³Ù³Ý³Ï³Ñ³ïí³ÍáõÙ ³Ý³í³ñï ·áñÍ»ñÇ ÁÝ¹Ñ³Ýáõñ ÃÇíÁ | M3: ØÇçÝáñ¹áõÃÛáõÝÝ»ñáí Ï³Û³óí³Í ¹³ï³Ï³Ý ³Ïï»ñÇó µáÕáù³ñÏí³ÍÝ»ñÇ ù³Ý³ÏÁ | O3: ²Ý³í³ñï µáÕáùÝ»ñ | P3: ØÇçÝáñ¹áõÃÛáõÝÝ»ñáí Ï³Û³óí³Í ¨ µáÕáù³ñÏí³Í ¹³ï³Ï³Ý ³Ïï»ñÇó µ»Ï³Ýí³ÍÝ»ñÇ ù³Ý³ÏÁ | R3: ÙÇçÝáñ¹áõÃÛáõÝÝ»ñáí Ï³Û³óí³Í ¨ µáÕáù³ñÏí³Í ¹³ï³Ï³Ý ³Ïï»ñÇó ³Ý÷á÷áË ÃáÕÝí³ÍÝ»ñÇ ù³Ý³ÏÁ
G4: Ù»ñÅí»É ¿ | H4: µ³í³ñ³ñí»É ¿ | I4: µ³í³ñ³ñí»É ¿ Ù³ëÝ³ÏÇ | J4: ÃáÕÝí»É ¿ ³é³Ýó ùÝÝáõÃÛ³Ý | K4: ÀÝ¹³Ù»ÝÁ
M5: Ý³Ëáñ¹ ï³ñÇÝ»ñÇÝ Ï³Û³óí³Í ³Ïï»ñÇ ¹»Ù | N5: Ñ³ßí»ïáõ Å³Ù³Ý³Ï³ßñç³ÝáõÙ Ï³Û³óí³Í ³Ïï»ñÇ ¹»Ù | P5: Ý³Ëáñ¹ ï³ñÇÝ»ñÇÝ Ï³Û³óí³Í ³Ïï»ñÇ µ»Ï³ÝáõÙÝ»ñÁ | Q5: Ñ³ßí»ïáõ Å³Ù³Ý³Ï³ßñç³ÝáõÙ Ï³Û³óí³Í ³Ïï»ñÇ µ»Ï³ÝáõÙÝ»ñÁ
A6: 1. ØÇÝã¹³ï³Ï³Ý í³ñáõÛÃÇ ÝÏ³ïÙ³Ùµ ¹³ï³Ï³Ý í»ñ³ÑëÏáÕáõÃÛ³Ý áÉáñï | D6: 1 | E6: 2 | F6: 3 | G6: 4 | H6: 5 | I6: 6 | J6: 7 | K6: 8 | L6: 9 | M6: 10 | N6: 11 | O6: 12 | P6: 13 | Q6: 14 | R6: 15 | T6: 1+2=3+8+9 | V6: 8=4+5+6+7
A7: 1 | B7: Ï³É³ÝùÁ áñå»ë Ë³÷³ÝÙ³Ý ÙÇçáó ÏÇñ³é»Éáõ Ù³ëÇÝ ÙÇçÝáñ¹áõÃÛáõÝÝ»ñ | T7: =D7+E7 -> 0 | U7: =F7+K7+L7 -> 0 | V7: =K7 -> 0 | W7: =G7+H7+I7+J7 -> 0
A8: 2 | B8: Ï³É³ÝùÇ Å³ÙÏ»ïÁ »ñÏ³ñ³óÝ»Éáõ Ù³ëÇÝ ÙÇçÝáñ¹áõÃÛáõÝÝ»ñ | T8: =D8+E8 -> 0 | U8: =F8+K8+L8 -> 0 | V8: =K8 -> 0 | W8: =G8+H8+I8+J8 -> 0
A9: 3 | B9: Ï³É³ÝùÇ í»ñ³Ñ³ëï³ïÙ³Ý Ù³ëÇÝ ÙÇçÝáñ¹áõÃÛáõÝÝ»ñ | T9: =D9+E9 -> 0 | U9: =F9+K9+L9 -> 0 | V9: =K9 -> 0 | W9: =G9+H9+I9+J9 -> 0
A10: 4 | B10: ·ñ³íÁ áñå»ë Ï³É³Ý³íáñÙ³Ý ³ÛÉÁÝïñ³Ýù³ÛÇÝ Ë³÷³ÝÙ³Ý ÙÇçáó ÏÇñ³é»Éáõ Ù³ëÇÝ ÙÇçÝáñ¹áõÃÛáõÝÝ»ñ | T10: =D10+E10 -> 0 | U10: =F10+K10+L10 -> 0 | V10: =K10 -> 0 | W10: =G10+H10+I10+J10 -> 0
A11: 5 | B11: Ëáõ½³ñÏáõÃÛ³Ý Ï³ï³ñÙ³Ý Ù³ëÇÝ ÙÇçÝáñ¹áõÃÛáõÝÝ»ñ | T11: =D11+E11 -> 0 | U11: =F11+K11+L11 -> 0 | V11: =K11 -> 0 | W11: =G11+H11+I11+J11 -> 0
A12: 6 | B12: µ³ÝÏ³ÛÇÝ, ³å³Ñáí³·ñ³Ï³Ý, Ýáï³ñ³Ï³Ý ·³ÕïÝÇù Ï³½ÙáÕ ï»Õ»ÏáõÃÛáõÝÝ»ñÇ ëï³óÙ³Ý Ñ³Ù³ñ Ëáõ½³ñÏáõÃÛ³Ý Ï³Ù ³é·ñ³íÙ³Ý Ï³ï³ñÙ³Ý Ù³ëÇÝ ÙÇçÝáñ¹áõÃÛáõÝÝ»ñ | T12: =D12+E12 -> 0 | U12: =F12+K12+L12 -> 0 | V12: =K12 -> 0 | W12: =G12+H12+I12+J12 -> 0
A13: 7 | B13: Ý³Ù³Ï³·ñáõÃÛ³Ý, Ñ»é³·ñ³Ï³Ý, ÷áuï³ÛÇÝ Ñ³Õáñ¹áõÙÝ»ñÇ ÑëÏáÕáõÃÛ³Ý Ù³ëÇÝ ÙÇçÝáñ¹áõÃÛáõÝÝ»ñ | T13: =D13+E13 -> 0 | U13: =F13+K13+L13 -> 0 | V13: =K13 -> 0 | W13: =G13+H13+I13+J13 -> 0
A14: 8 | B14: Ñ»é³Ëáu³ÛÇÝ Ï³Ù Ï³åÇ ³ÛÉ ÙÇçáóÝ»ñáí ï³ñíáÕ Ëáu³ÏóáõÃÛáõÝÝ»ñÇ ÉuÙ³Ý ¨ Ó³ÛÝ³·ñ³éÙ³Ý Ù³ëÇÝ ÙÇçÝáñ¹áõÃÛáõÝÝ»ñ | T14: =D14+E14 -> 0 | U14: =F14+K14+L14 -> 0 | V14: =K14 -> 0 | W14: =G14+H14+I14+J14 -> 0
A15: 9 | B15: Ñ»é³ËáëÝ»ñÇ Ùáõïù³ÛÇÝ ¨ »Éù³ÛÇÝ í»ñÍ³ÝÙ³Ý ÃáõÛÉïíáõÃÛáõÝ ëï³Ý³Éáõ Ù³ëÇÝ ÙÇçÝáñ¹áõÃÛáõÝÝ»ñ | T15: =D15+E15 -> 0 | U15: =F15+K15+L15 -> 0 | V15: =K15 -> 0 | W15: =G15+H15+I15+J15 -> 0
A16: 10 | B16: Ñ»ï³ùÝÝáõÃÛ³Ý Ù³ñÙÝÇ ³ßË³ïáÕÇ, ùÝÝÇãÇ, ¹³ï³Ë³½Ç oå»ñ³ïÇí-Ñ»ï³Ëáõ½³Ï³Ý ·áñÍáÕáõÃÛáõÝÝ»ñ Çñ³Ï³Ý³óÝáÕ Ù³ñÙÇÝÝ»ñÇ ³ÝoñÇÝ³Ï³Ý ¨ ³ÝÑÇÙÝ áñáßáõÙÝ»ñÇ ¨ ·áñÍáÕáõÃÛáõÝÝ»ñÇ ¹»Ù µáÕáùÝ»ñ | T16: =D16+E16 -> 0 | U16: =F16+K16+L16 -> 0 | V16: =K16 -> 0 | W16: =G16+H16+I16+J16 -> 0
A17: 2. ¸³ï³Ï³Ý ³Ïï»ñÇ ¨ ¹³ï³Ï³Ý Ñ³ÝÓÝ³ñ³ñáõÃÛáõÝÝ»ñÇ Ï³ï³ñÙ³Ý Ñ»ï Ï³åí³Í Ñ³ñó»ñÇ ÉáõÍÙ³Ý áÉáñï
A18: 1 | B18: å³ïÅÇó å³ÛÙ³Ý³Ï³Ý í³Õ³Å³ÙÏ»ï ³½³ï»Éáõ Ù³ëÇÝ ÙÇçÝáñ¹áõÃÛáõÝÝ»ñ | T18: =D18+E18 -> 0 | U18: =F18+K18+L18 -> 0 | V18: =K18 -> 0 | W18: =G18+H18+I18+J18 -> 0
A19: 2 | B19: å³ïÇÅÁ ÷á÷áË»Éáõ, Ñ»ï³Ó·»Éáõ ¨ å³ïÅÇó ³½³ï»Éáõ Ù³uÇÝ ÙÇçÝáñ¹áõÃÛáõÝÝ»ñ | T19: =D19+E19 -> 0 | U19: =F19+K19+L19 -> 0 | V19: =K19 -> 0 | W19: =G19+H19+I19+J19 -> 0
A20: 3 | B20: Ñ³ñÏ³¹Çñ µáõÅÙ³Ý ï»ë³ÏÇ ÷á÷áËáõÃÛ³Ý Ù³ëÇÝ ÙÇçÝáñ¹áõÃÛáõÝÝ»ñ | T20: =D20+E20 -> 0 | U20: =F20+K20+L20 -> 0 | V20: =K20 -> 0 | W20: =G20+H20+I20+J20 -> 0
A21: 4 | B21: ³ÛÉ ÙÇçÝáñ¹áõÃÛáõÝÝ»ñ | T21: =D21+E21 -> 0 | U21: =F21+K21+L21 -> 0 | V21: =K21 -> 0 | W21: =G21+H21+I21+J21 -> 0
A22: 5 | B22: ¹³ï³Ï³Ý Ñ³ÝÓÝ³ñ³ñáõÃÛáõÝÝ»ñ | D22: 2 | F22: 2 | T22: =D22+E22 -> 2 | U22: =F22+K22+L22 -> 2 | V22: =K22 -> 0 | W22: =G22+H22+I22+J22 -> 0
A23: ÀÜ¸²ØºÜÀ | D23: =D7+D8+D9+D10+D11+D12+D13+D14+D15+D16+D18+D19+D20+D21+D22 -> 2 | E23: =E7+E8+E9+E10+E11+E12+E13+E14+E15+E16+E18+E19+E20+E21+E22 -> 0 | F23: =F7+F8+F9+F10+F11+F12+F13+F14+F15+F16+F18+F19+F20+F21+F22 -> 2 | G23: =G7+G8+G9+G10+G11+G12+G13+G14+G15+G16+G18+G19+G20+G21+G22 -> 0 | H23: =H7+H8+H9+H10+H11+H12+H13+H14+H15+H16+H18+H19+H20+H21+H22 -> 0 | I23: =I7+I8+I9+I10+I11+I12+I13+I14+I15+I16+I18+I19+I20+I21+I22 -> 0 | J23: =J7+J8+J9+J10+J11+J12+J13+J14+J15+J16+J18+J19+J20+J21+J22 -> 0 | K23: =K7+K8+K9+K10+K11+K12+K13+K14+K15+K16+K18+K19+K20+K21+K22 -> 0 | ... R23: =R7+R8+R9+R10+R11+R12+R13+R14+R15+R16+R18+R19+R20+R21+R22 -> 0 | T23: =D23+E23 -> 2 | U23: =F23+K23+L23 -> 2 | V23: =K23 -> 0 | W23: =G23+H23+I23+J23 -> 0

Sheet Ն. Մարգարյան
A1: 2016Ã. 1-ԻՆ ԿԻՍԱՄՅԱԿ | D1: Ð²ÞìºîìàôÂÚàôÜ | P1: Ð³í»Éí³Í Ð³Û³ëï³ÝÇ Ð³Ýñ³å»ïáõÃÛ³Ý ¸³ï³ñ³ÝÝ»ñÇ Ý³Ë³·³ÑÝ»ñÇ ËáñÑñ¹Ç 25.08.2016Ã. ÃÇí 44-È áñáßÙ³Ý
A2: ØÇÝã¹³ï³Ï³Ý í³ñáõÛÃÇ ÝÏ³ïÙ³Ùµ ¹³ï³Ï³Ý í»ñ³ÑëÏáÕáõÃÛ³ÝÁ, ¹³ï³Ï³Ý ³Ïï»ñÇ ¨ ¹³ï³Ï³Ý Ñ³ÝÓÝ³ñ³ñáõÃÛáõÝÝ»ñÇ Ï³ï³ñÙ³Ý Ñ»ï Ï³åí³Í ÙÇçÝáñ¹áõÃÛáõÝÝ»ñÇ í»ñ³µ»ñÛ³É ¹³ï³Ï³Ý ·áñÍ»ñáí ºñ¨³Ý ù³Õ³ùÇ ²í³Ý ¨ Üáñ Üáñù í³ñã³Ï³Ý ßñç³ÝÝ»ñÇ ÁÝ¹Ñ³Ýáõñ Çñ³í³ëáõÃÛ³Ý ³é³çÇÝ ³ïÛ³ÝÇ ¹³ï³ñ³ÝÇ ¹³ï³íáñ Ն.Մարգարյանի ·áñÍáõÝ»áõÃÛ³Ý í»ñ³µ»ñÛ³É
A3: êïáõ·Çã Ñ³í³ë³ñáõÙ` 1+2=3+8+9, 8=4+5+6+7, | D3: Ð³ßí»ïáõ Å³Ù³Ý³Ï³Ñ³ïí³ÍÇ ëÏ½µáõÙ Ý³Ëáñ¹ Ñ³ßí»ïáõ Å³Ù³Ý³Ï³Ñ³ïí³ÍÇó ÷áË³Ýóí³Í ·áñÍ»ñÇ ÁÝ¹Ñ³Ýáõñ ÃÇíÁ | E3: Ð³ßí»ïáõ Å³Ù³Ý³Ï³Ñ³ïí³ÍáõÙ ëï³óí³Í ·áñÍ»ñÇ ÁÝ¹Ñ³Ýáõñ ÃÇíÁ | F3: öáË³Ýóí»É ¿ ³ÛÉ ¹³ï³íáñÇ Ï³Ù ³ÛÉ ¹³ï³ñ³Ý (Ï³½ÙÇ ÷á÷áËáõÃÛáõÝ, ÁÝ¹¹³ïáõÃÛáõÝ) | G3: Ð³ßí»ïáõ Å³Ù³Ý³Ï³Ñ³ïí³ÍáõÙ ³í³ñïí³Í ·áñÍ»ñÇ ÁÝ¹Ñ³Ýáõñ ÃÇíÁ | L3: Ð³ßí»ïáõ Å³Ù³Ý³Ï³Ñ³ïí³ÍáõÙ ³Ý³í³ñï ·áñÍ»ñÇ ÁÝ¹Ñ³Ýáõñ ÃÇíÁ | M3: ØÇçÝáñ¹áõÃÛáõÝÝ»ñáí Ï³Û³óí³Í ¹³ï³Ï³Ý ³Ïï»ñÇó µáÕáù³ñÏí³ÍÝ»ñÇ ù³Ý³ÏÁ | O3: ²Ý³í³ñï µáÕáùÝ»ñ | P3: ØÇçÝáñ¹áõÃÛáõÝÝ»ñáí Ï³Û³óí³Í ¨ µáÕáù³ñÏí³Í ¹³ï³Ï³Ý ³Ïï»ñÇó µ»Ï³Ýí³ÍÝ»ñÇ ù³Ý³ÏÁ | R3: ÙÇçÝáñ¹áõÃÛáõÝÝ»ñáí Ï³Û³óí³Í ¨ µáÕáù³ñÏí³Í ¹³ï³Ï³Ý ³Ïï»ñÇó ³Ý÷á÷áË ÃáÕÝí³ÍÝ»ñÇ ù³Ý³ÏÁ
G4: Ù»ñÅí»É ¿ | H4: µ³í³ñ³ñí»É ¿ | I4: µ³í³ñ³ñí»É ¿ Ù³ëÝ³ÏÇ | J4: ÃáÕÝí»É ¿ ³é³Ýó ùÝÝáõÃÛ³Ý | K4: ÀÝ¹³Ù»ÝÁ
M5: Ý³Ëáñ¹ ï³ñÇÝ»ñÇÝ Ï³Û³óí³Í ³Ïï»ñÇ ¹»Ù | N5: Ñ³ßí»ïáõ Å³Ù³Ý³Ï³ßñç³ÝáõÙ Ï³Û³óí³Í ³Ïï»ñÇ ¹»Ù | P5: Ý³Ëáñ¹ ï³ñÇÝ»ñÇÝ Ï³Û³óí³Í ³Ïï»ñÇ µ»Ï³ÝáõÙÝ»ñÁ | Q5: Ñ³ßí»ïáõ Å³Ù³Ý³Ï³ßñç³ÝáõÙ Ï³Û³óí³Í ³Ïï»ñÇ µ»Ï³ÝáõÙÝ»ñÁ
A6: 1. ØÇÝã¹³ï³Ï³Ý í³ñáõÛÃÇ ÝÏ³ïÙ³Ùµ ¹³ï³Ï³Ý í»ñ³ÑëÏáÕáõÃÛ³Ý áÉáñï | D6: 1 | E6: 2 | F6: 3 | G6: 4 | H6: 5 | I6: 6 | J6: 7 | K6: 8 | L6: 9 | M6: 10 | N6: 11 | O6: 12 | P6: 13 | Q6: 14 | R6: 15 | T6: 1+2=3+8+9 | V6: 8=4+5+6+7
A7: 1 | B7: Ï³É³ÝùÁ áñå»ë Ë³÷³ÝÙ³Ý ÙÇçáó ÏÇñ³é»Éáõ Ù³ëÇÝ ÙÇçÝáñ¹áõÃÛáõÝÝ»ñ | T7: =D7+E7 -> 0 | U7: =F7+K7+L7 -> 0 | V7: =K7 -> 0 | W7: =G7+H7+I7+J7 -> 0
A8: 2 | B8: Ï³É³ÝùÇ Å³ÙÏ»ïÁ »ñÏ³ñ³óÝ»Éáõ Ù³ëÇÝ ÙÇçÝáñ¹áõÃÛáõÝÝ»ñ | T8: =D8+E8 -> 0 | U8: =F8+K8+L8 -> 0 | V8: =K8 -> 0 | W8: =G8+H8+I8+J8 -> 0
A9: 3 | B9: Ï³É³ÝùÇ í»ñ³Ñ³ëï³ïÙ³Ý Ù³ëÇÝ ÙÇçÝáñ¹áõÃÛáõÝÝ»ñ | T9: =D9+E9 -> 0 | U9: =F9+K9+L9 -> 0 | V9: =K9 -> 0 | W9: =G9+H9+I9+J9 -> 0
A10: 4 | B10: ·ñ³íÁ áñå»ë Ï³É³Ý³íáñÙ³Ý ³ÛÉÁÝïñ³Ýù³ÛÇÝ Ë³÷³ÝÙ³Ý ÙÇçáó ÏÇñ³é»Éáõ Ù³ëÇÝ ÙÇçÝáñ¹áõÃÛáõÝÝ»ñ | T10: =D10+E10 -> 0 | U10: =F10+K10+L10 -> 0 | V10: =K10 -> 0 | W10: =G10+H10+I10+J10 -> 0
A11: 5 | B11: Ëáõ½³ñÏáõÃÛ³Ý Ï³ï³ñÙ³Ý Ù³ëÇÝ ÙÇçÝáñ¹áõÃÛáõÝÝ»ñ | E11: 1 | H11: 1 | K11: 1 | T11: =D11+E11 -> 1 | U11: =F11+K11+L11 -> 1 | V11: =K11 -> 1 | W11: =G11+H11+I11+J11 -> 1
A12: 6 | B12: µ³ÝÏ³ÛÇÝ, ³å³Ñáí³·ñ³Ï³Ý, Ýáï³ñ³Ï³Ý ·³ÕïÝÇù Ï³½ÙáÕ ï»Õ»ÏáõÃÛáõÝÝ»ñÇ ëï³óÙ³Ý Ñ³Ù³ñ Ëáõ½³ñÏáõÃÛ³Ý Ï³Ù ³é·ñ³íÙ³Ý Ï³ï³ñÙ³Ý Ù³ëÇÝ ÙÇçÝáñ¹áõÃÛáõÝÝ»ñ | T12: =D12+E12 -> 0 | U12: =F12+K12+L12 -> 0 | V12: =K12 -> 0 | W12: =G12+H12+I12+J12 -> 0
A13: 7 | B13: Ý³Ù³Ï³·ñáõÃÛ³Ý, Ñ»é³·ñ³Ï³Ý, ÷áuï³ÛÇÝ Ñ³Õáñ¹áõÙÝ»ñÇ ÑëÏáÕáõÃÛ³Ý Ù³ëÇÝ ÙÇçÝáñ¹áõÃÛáõÝÝ»ñ | T13: =D13+E13 -> 0 | U13: =F13+K13+L13 -> 0 | V13: =K13 -> 0 | W13: =G13+H13+I13+J13 -> 0
A14: 8 | B14: Ñ»é³Ëáu³ÛÇÝ Ï³Ù Ï³åÇ ³ÛÉ ÙÇçáóÝ»ñáí ï³ñíáÕ Ëáu³ÏóáõÃÛáõÝÝ»ñÇ ÉuÙ³Ý ¨ Ó³ÛÝ³·ñ³éÙ³Ý Ù³ëÇÝ ÙÇçÝáñ¹áõÃÛáõÝÝ»ñ | T14: =D14+E14 -> 0 | U14: =F14+K14+L14 -> 0 | V14: =K14 -> 0 | W14: =G14+H14+I14+J14 -> 0
A15: 9 | B15: Ñ»é³ËáëÝ»ñÇ Ùáõïù³ÛÇÝ ¨ »Éù³ÛÇÝ í»ñÍ³ÝÙ³Ý ÃáõÛÉïíáõÃÛáõÝ ëï³Ý³Éáõ Ù³ëÇÝ ÙÇçÝáñ¹áõÃÛáõÝÝ»ñ | E15: 4 | H15: 4 | K15: 4 | T15: =D15+E15 -> 4 | U15: =F15+K15+L15 -> 4 | V15: =K15 -> 4 | W15: =G15+H15+I15+J15 -> 4
A16: 10 | B16: Ñ»ï³ùÝÝáõÃÛ³Ý Ù³ñÙÝÇ ³ßË³ïáÕÇ, ùÝÝÇãÇ, ¹³ï³Ë³½Ç oå»ñ³ïÇí-Ñ»ï³Ëáõ½³Ï³Ý ·áñÍáÕáõÃÛáõÝÝ»ñ Çñ³Ï³Ý³óÝáÕ Ù³ñÙÇÝÝ»ñÇ ³ÝoñÇÝ³Ï³Ý ¨ ³ÝÑÇÙÝ áñáßáõÙÝ»ñÇ ¨ ·áñÍáÕáõÃÛáõÝÝ»ñÇ ¹»Ù µáÕáùÝ»ñ | T16: =D16+E16 -> 0 | U16: =F16+K16+L16 -> 0 | V16: =K16 -> 0 | W16: =G16+H16+I16+J16 -> 0
A17: 2. ¸³ï³Ï³Ý ³Ïï»ñÇ ¨ ¹³ï³Ï³Ý Ñ³ÝÓÝ³ñ³ñáõÃÛáõÝÝ»ñÇ Ï³ï³ñÙ³Ý Ñ»ï Ï³åí³Í Ñ³ñó»ñÇ ÉáõÍÙ³Ý áÉáñï
A18: 1 | B18: å³ïÅÇó å³ÛÙ³Ý³Ï³Ý í³Õ³Å³ÙÏ»ï ³½³ï»Éáõ Ù³ëÇÝ ÙÇçÝáñ¹áõÃÛáõÝÝ»ñ | T18: =D18+E18 -> 0 | U18: =F18+K18+L18 -> 0 | V18: =K18 -> 0 | W18: =G18+H18+I18+J18 -> 0
A19: 2 | B19: å³ïÇÅÁ ÷á÷áË»Éáõ, Ñ»ï³Ó·»Éáõ ¨ å³ïÅÇó ³½³ï»Éáõ Ù³uÇÝ ÙÇçÝáñ¹áõÃÛáõÝÝ»ñ | T19: =D19+E19 -> 0 | U19: =F19+K19+L19 -> 0 | V19: =K19 -> 0 | W19: =G19+H19+I19+J19 -> 0
A20: 3 | B20: Ñ³ñÏ³¹Çñ µáõÅÙ³Ý ï»ë³ÏÇ ÷á÷áËáõÃÛ³Ý Ù³ëÇÝ ÙÇçÝáñ¹áõÃÛáõÝÝ»ñ | T20: =D20+E20 -> 0 | U20: =F20+K20+L20 -> 0 | V20: =K20 -> 0 | W20: =G20+H20+I20+J20 -> 0
A21: 4 | B21: ³ÛÉ ÙÇçÝáñ¹áõÃÛáõÝÝ»ñ | T21: =D21+E21 -> 0 | U21: =F21+K21+L21 -> 0 | V21: =K21 -> 0 | W21: =G21+H21+I21+J21 -> 0
A22: 5 | B22: ¹³ï³Ï³Ý Ñ³ÝÓÝ³ñ³ñáõÃÛáõÝÝ»ñ | E22: 1 | L22: 1 | T22: =D22+E22 -> 1 | U22: =F22+K22+L22 -> 1 | V22: =K22 -> 0 | W22: =G22+H22+I22+J22 -> 0
A23: ÀÜ¸²ØºÜÀ | D23: =D7+D8+D9+D10+D11+D12+D13+D14+D15+D16+D18+D19+D20+D21+D22 -> 0 | E23: =E7+E8+E9+E10+E11+E12+E13+E14+E15+E16+E18+E19+E20+E21+E22 -> 6 | F23: =F7+F8+F9+F10+F11+F12+F13+F14+F15+F16+F18+F19+F20+F21+F22 -> 0 | G23: =G7+G8+G9+G10+G11+G12+G13+G14+G15+G16+G18+G19+G20+G21+G22 -> 0 | H23: =H7+H8+H9+H10+H11+H12+H13+H14+H15+H16+H18+H19+H20+H21+H22 -> 5 | I23: =I7+I8+I9+I10+I11+I12+I13+I14+I15+I16+I18+I19+I20+I21+I22 -> 0 | J23: =J7+J8+J9+J10+J11+J12+J13+J14+J15+J16+J18+J19+J20+J21+J22 -> 0 | K23: =K7+K8+K9+K10+K11+K12+K13+K14+K15+K16+K18+K19+K20+K21+K22 -> 5 | ... R23: =R7+R8+R9+R10+R11+R12+R13+R14+R15+R16+R18+R19+R20+R21+R22 -> 0 | T23: =D23+E23 -> 6 | U23: =F23+K23+L23 -> 6 | V23: =K23 -> 5 | W23: =G23+H23+I23+J23 -> 5

Sheet Դ. Հարությունյան
A1: 2016Ã. 1-ԻՆ ԿԻՍԱՄՅԱԿ | D1: Ð²ÞìºîìàôÂÚàôÜ | P1: Ð³í»Éí³Í Ð³Û³ëï³ÝÇ Ð³Ýñ³å»ïáõÃÛ³Ý ¸³ï³ñ³ÝÝ»ñÇ Ý³Ë³·³ÑÝ»ñÇ ËáñÑñ¹Ç 25.08.2016Ã. ÃÇí 44-È áñáßÙ³Ý
A2: ØÇÝã¹³ï³Ï³Ý í³ñáõÛÃÇ ÝÏ³ïÙ³Ùµ ¹³ï³Ï³Ý í»ñ³ÑëÏáÕáõÃÛ³ÝÁ, ¹³ï³Ï³Ý ³Ïï»ñÇ ¨ ¹³ï³Ï³Ý Ñ³ÝÓÝ³ñ³ñáõÃÛáõÝÝ»ñÇ Ï³ï³ñÙ³Ý Ñ»ï Ï³åí³Í ÙÇçÝáñ¹áõÃÛáõÝÝ»ñÇ í»ñ³µ»ñÛ³É ¹³ï³Ï³Ý ·áñÍ»ñáí ºñ¨³Ý ù³Õ³ùÇ ²í³Ý ¨ Üáñ Üáñù í³ñã³Ï³Ý ßñç³ÝÝ»ñÇ ÁÝ¹Ñ³Ýáõñ Çñ³í³ëáõÃÛ³Ý ³é³çÇÝ ³ïÛ³ÝÇ ¹³ï³ñ³ÝÇ ¹³ï³íáñ Դ. Հարությունյանի ·áñÍáõÝ»áõÃÛ³Ý í»ñ³µ»ñÛ³É
A3: êïáõ·Çã Ñ³í³ë³ñáõÙ` 1+2=3+8+9, 8=4+5+6+7, | D3: Ð³ßí»ïáõ Å³Ù³Ý³Ï³Ñ³ïí³ÍÇ ëÏ½µáõÙ Ý³Ëáñ¹ Ñ³ßí»ïáõ Å³Ù³Ý³Ï³Ñ³ïí³ÍÇó ÷áË³Ýóí³Í ·áñÍ»ñÇ ÁÝ¹Ñ³Ýáõñ ÃÇíÁ | E3: Ð³ßí»ïáõ Å³Ù³Ý³Ï³Ñ³ïí³ÍáõÙ ëï³óí³Í ·áñÍ»ñÇ ÁÝ¹Ñ³Ýáõñ ÃÇíÁ | F3: öáË³Ýóí»É ¿ ³ÛÉ ¹³ï³íáñÇ Ï³Ù ³ÛÉ ¹³ï³ñ³Ý (Ï³½ÙÇ ÷á÷áËáõÃÛáõÝ, ÁÝ¹¹³ïáõÃÛáõÝ) | G3: Ð³ßí»ïáõ Å³Ù³Ý³Ï³Ñ³ïí³ÍáõÙ ³í³ñïí³Í ·áñÍ»ñÇ ÁÝ¹Ñ³Ýáõñ ÃÇíÁ | L3: Ð³ßí»ïáõ Å³Ù³Ý³Ï³Ñ³ïí³ÍáõÙ ³Ý³í³ñï ·áñÍ»ñÇ ÁÝ¹Ñ³Ýáõñ ÃÇíÁ | M3: ØÇçÝáñ¹áõÃÛáõÝÝ»ñáí Ï³Û³óí³Í ¹³ï³Ï³Ý ³Ïï»ñÇó µáÕáù³ñÏí³ÍÝ»ñÇ ù³Ý³ÏÁ | O3: ²Ý³í³ñï µáÕáùÝ»ñ | P3: ØÇçÝáñ¹áõÃÛáõÝÝ»ñáí Ï³Û³óí³Í ¨ µáÕáù³ñÏí³Í ¹³ï³Ï³Ý ³Ïï»ñÇó µ»Ï³Ýí³ÍÝ»ñÇ ù³Ý³ÏÁ | R3: ÙÇçÝáñ¹áõÃÛáõÝÝ»ñáí Ï³Û³óí³Í ¨ µáÕáù³ñÏí³Í ¹³ï³Ï³Ý ³Ïï»ñÇó ³Ý÷á÷áË ÃáÕÝí³ÍÝ»ñÇ ù³Ý³ÏÁ
G4: Ù»ñÅí»É ¿ | H4: µ³í³ñ³ñí»É ¿ | I4: µ³í³ñ³ñí»É ¿ Ù³ëÝ³ÏÇ | J4: ÃáÕÝí»É ¿ ³é³Ýó ùÝÝáõÃÛ³Ý | K4: ÀÝ¹³Ù»ÝÁ
M5: Ý³Ëáñ¹ ï³ñÇÝ»ñÇÝ Ï³Û³óí³Í ³Ïï»ñÇ ¹»Ù | N5: Ñ³ßí»ïáõ Å³Ù³Ý³Ï³ßñç³ÝáõÙ Ï³Û³óí³Í ³Ïï»ñÇ ¹»Ù | P5: Ý³Ëáñ¹ ï³ñÇÝ»ñÇÝ Ï³Û³óí³Í ³Ïï»ñÇ µ»Ï³ÝáõÙÝ»ñÁ | Q5: Ñ³ßí»ïáõ Å³Ù³Ý³Ï³ßñç³ÝáõÙ Ï³Û³óí³Í ³Ïï»ñÇ µ»Ï³ÝáõÙÝ»ñÁ
A6: 1. ØÇÝã¹³ï³Ï³Ý í³ñáõÛÃÇ ÝÏ³ïÙ³Ùµ ¹³ï³Ï³Ý í»ñ³ÑëÏáÕáõÃÛ³Ý áÉáñï | D6: 1 | E6: 2 | F6: 3 | G6: 4 | H6: 5 | I6: 6 | J6: 7 | K6: 8 | L6: 9 | M6: 10 | N6: 11 | O6: 12 | P6: 13 | Q6: 14 | R6: 15 | T6: 1+2=3+8+9 | V6: 8=4+5+6+7
A7: 1 | B7: Ï³É³ÝùÁ áñå»ë Ë³÷³ÝÙ³Ý ÙÇçáó ÏÇñ³é»Éáõ Ù³ëÇÝ ÙÇçÝáñ¹áõÃÛáõÝÝ»ñ | E7: 8 | G7: 1 | H7: 7 | K7: 8 | N7: 1 | O7: 1 | T7: =D7+E7 -> 8 | U7: =F7+K7+L7 -> 8 | V7: =K7 -> 8 | W7: =G7+H7+I7+J7 -> 8
A8: 2 | B8: Ï³É³ÝùÇ Å³ÙÏ»ïÁ »ñÏ³ñ³óÝ»Éáõ Ù³ëÇÝ ÙÇçÝáñ¹áõÃÛáõÝÝ»ñ | E8: 5 | F8: 1 | H8: 4 | K8: 4 | N8: 1 | R8: 1 | T8: =D8+E8 -> 5 | U8: =F8+K8+L8 -> 5 | V8: =K8 -> 4 | W8: =G8+H8+I8+J8 -> 4
A9: 3 | B9: Ï³É³ÝùÇ í»ñ³Ñ³ëï³ïÙ³Ý Ù³ëÇÝ ÙÇçÝáñ¹áõÃÛáõÝÝ»ñ | T9: =D9+E9 -> 0 | U9: =F9+K9+L9 -> 0 | V9: =K9 -> 0 | W9: =G9+H9+I9+J9 -> 0
A10: 4 | B10: ·ñ³íÁ áñå»ë Ï³É³Ý³íáñÙ³Ý ³ÛÉÁÝïñ³Ýù³ÛÇÝ Ë³÷³ÝÙ³Ý ÙÇçáó ÏÇñ³é»Éáõ Ù³ëÇÝ ÙÇçÝáñ¹áõÃÛáõÝÝ»ñ | E10: 6 | F10: 1 | G10: 5 | K10: 5 | N10: 1 | R10: 1 | T10: =D10+E10 -> 6 | U10: =F10+K10+L10 -> 6 | V10: =K10 -> 5 | W10: =G10+H10+I10+J10 -> 5
A11: 5 | B11: Ëáõ½³ñÏáõÃÛ³Ý Ï³ï³ñÙ³Ý Ù³ëÇÝ ÙÇçÝáñ¹áõÃÛáõÝÝ»ñ | E11: 27 | G11: 3 | H11: 24 | K11: 27 | T11: =D11+E11 -> 27 | U11: =F11+K11+L11 -> 27 | V11: =K11 -> 27 | W11: =G11+H11+I11+J11 -> 27
A12: 6 | B12: µ³ÝÏ³ÛÇÝ, ³å³Ñáí³·ñ³Ï³Ý, Ýáï³ñ³Ï³Ý ·³ÕïÝÇù Ï³½ÙáÕ ï»Õ»ÏáõÃÛáõÝÝ»ñÇ ëï³óÙ³Ý Ñ³Ù³ñ Ëáõ½³ñÏáõÃÛ³Ý Ï³Ù ³é·ñ³íÙ³Ý Ï³ï³ñÙ³Ý Ù³ëÇÝ ÙÇçÝáñ¹áõÃÛáõÝÝ»ñ | T12: =D12+E12 -> 0 | U12: =F12+K12+L12 -> 0 | V12: =K12 -> 0 | W12: =G12+H12+I12+J12 -> 0
A13: 7 | B13: Ý³Ù³Ï³·ñáõÃÛ³Ý, Ñ»é³·ñ³Ï³Ý, ÷áuï³ÛÇÝ Ñ³Õáñ¹áõÙÝ»ñÇ ÑëÏáÕáõÃÛ³Ý Ù³ëÇÝ ÙÇçÝáñ¹áõÃÛáõÝÝ»ñ | T13: =D13+E13 -> 0 | U13: =F13+K13+L13 -> 0 | V13: =K13 -> 0 | W13: =G13+H13+I13+J13 -> 0
A14: 8 | B14: Ñ»é³Ëáu³ÛÇÝ Ï³Ù Ï³åÇ ³ÛÉ ÙÇçáóÝ»ñáí ï³ñíáÕ Ëáu³ÏóáõÃÛáõÝÝ»ñÇ ÉuÙ³Ý ¨ Ó³ÛÝ³·ñ³éÙ³Ý Ù³ëÇÝ ÙÇçÝáñ¹áõÃÛáõÝÝ»ñ | T14: =D14+E14 -> 0 | U14: =F14+K14+L14 -> 0 | V14: =K14 -> 0 | W14: =G14+H14+I14+J14 -> 0
A15: 9 | B15: Ñ»é³ËáëÝ»ñÇ Ùáõïù³ÛÇÝ ¨ »Éù³ÛÇÝ í»ñÍ³ÝÙ³Ý ÃáõÛÉïíáõÃÛáõÝ ëï³Ý³Éáõ Ù³ëÇÝ ÙÇçÝáñ¹áõÃÛáõÝÝ»ñ | E15: 6 | H15: 5 | I15: 1 | K15: 6 | T15: =D15+E15 -> 6 | U15: =F15+K15+L15 -> 6 | V15: =K15 -> 6 | W15: =G15+H15+I15+J15 -> 6
A16: 10 | B16: Ñ»ï³ùÝÝáõÃÛ³Ý Ù³ñÙÝÇ ³ßË³ïáÕÇ, ùÝÝÇãÇ, ¹³ï³Ë³½Ç oå»ñ³ïÇí-Ñ»ï³Ëáõ½³Ï³Ý ·áñÍáÕáõÃÛáõÝÝ»ñ Çñ³Ï³Ý³óÝáÕ Ù³ñÙÇÝÝ»ñÇ ³ÝoñÇÝ³Ï³Ý ¨ ³ÝÑÇÙÝ áñáßáõÙÝ»ñÇ ¨ ·áñÍáÕáõÃÛáõÝÝ»ñÇ ¹»Ù µáÕáùÝ»ñ | D16: 3 | E16: 5 | G16: 7 | K16: 7 | L16: 1 | N16: 3 | O16: 3 | T16: =D16+E16 -> 8 | U16: =F16+K16+L16 -> 8 | V16: =K16 -> 7 | W16: =G16+H16+I16+J16 -> 7
A17: 2. ¸³ï³Ï³Ý ³Ïï»ñÇ ¨ ¹³ï³Ï³Ý Ñ³ÝÓÝ³ñ³ñáõÃÛáõÝÝ»ñÇ Ï³ï³ñÙ³Ý Ñ»ï Ï³åí³Í Ñ³ñó»ñÇ ÉáõÍÙ³Ý áÉáñï
A18: 1 | B18: å³ïÅÇó å³ÛÙ³Ý³Ï³Ý í³Õ³Å³ÙÏ»ï ³½³ï»Éáõ Ù³ëÇÝ ÙÇçÝáñ¹áõÃÛáõÝÝ»ñ | T18: =D18+E18 -> 0 | U18: =F18+K18+L18 -> 0 | V18: =K18 -> 0 | W18: =G18+H18+I18+J18 -> 0
A19: 2 | B19: å³ïÇÅÁ ÷á÷áË»Éáõ, Ñ»ï³Ó·»Éáõ ¨ å³ïÅÇó ³½³ï»Éáõ Ù³uÇÝ ÙÇçÝáñ¹áõÃÛáõÝÝ»ñ | T19: =D19+E19 -> 0 | U19: =F19+K19+L19 -> 0 | V19: =K19 -> 0 | W19: =G19+H19+I19+J19 -> 0
A20: 3 | B20: Ñ³ñÏ³¹Çñ µáõÅÙ³Ý ï»ë³ÏÇ ÷á÷áËáõÃÛ³Ý Ù³ëÇÝ ÙÇçÝáñ¹áõÃÛáõÝÝ»ñ | D20: 1 | G20: 1 | K20: 1 | T20: =D20+E20 -> 1 | U20: =F20+K20+L20 -> 1 | V20: =K20 -> 1 | W20: =G20+H20+I20+J20 -> 1
A21: 4 | B21: ³ÛÉ ÙÇçÝáñ¹áõÃÛáõÝÝ»ñ | E21: 1 | H21: 1 | K21: 1 | T21: =D21+E21 -> 1 | U21: =F21+K21+L21 -> 1 | V21: =K21 -> 1 | W21: =G21+H21+I21+J21 -> 1
A22: 5 | B22: ¹³ï³Ï³Ý Ñ³ÝÓÝ³ñ³ñáõÃÛáõÝÝ»ñ | D22: 1 | E22: 2 | L22: 2 | T22: =D22+E22 -> 3 | U22: =F22+K22+L22 -> 2 | V22: =K22 -> 0 | W22: =G22+H22+I22+J22 -> 0
A23: ÀÜ¸²ØºÜÀ | D23: =D7+D8+D9+D10+D11+D12+D13+D14+D15+D16+D18+D19+D20+D21+D22 -> 5 | E23: =E7+E8+E9+E10+E11+E12+E13+E14+E15+E16+E18+E19+E20+E21+E22 -> 60 | F23: =F7+F8+F9+F10+F11+F12+F13+F14+F15+F16+F18+F19+F20+F21+F22 -> 2 | G23: =G7+G8+G9+G10+G11+G12+G13+G14+G15+G16+G18+G19+G20+G21+G22 -> 17 | H23: =H7+H8+H9+H10+H11+H12+H13+H14+H15+H16+H18+H19+H20+H21+H22 -> 41 | I23: =I7+I8+I9+I10+I11+I12+I13+I14+I15+I16+I18+I19+I20+I21+I22 -> 1 | J23: =J7+J8+J9+J10+J11+J12+J13+J14+J15+J16+J18+J19+J20+J21+J22 -> 0 | K23: =K7+K8+K9+K10+K11+K12+K13+K14+K15+K16+K18+K19+K20+K21+K22 -> 59 | ... R23: =R7+R8+R9+R10+R11+R12+R13+R14+R15+R16+R18+R19+R20+R21+R22 -> 2 | T23: =D23+E23 -> 65 | U23: =F23+K23+L23 -> 64 | V23: =K23 -> 59 | W23: =G23+H23+I23+J23 -> 59

Sheet Ա. Բաբայան
A1: 2016Ã. 1-ԻՆ ԿԻՍԱՄՅԱԿ | D1: Ð²ÞìºîìàôÂÚàôÜ | P1: Ð³í»Éí³Í Ð³Û³ëï³ÝÇ Ð³Ýñ³å»ïáõÃÛ³Ý ¸³ï³ñ³ÝÝ»ñÇ Ý³Ë³·³ÑÝ»ñÇ ËáñÑñ¹Ç 25.08.2016Ã. ÃÇí 44-È áñáßÙ³Ý
A2: ØÇÝã¹³ï³Ï³Ý í³ñáõÛÃÇ ÝÏ³ïÙ³Ùµ ¹³ï³Ï³Ý í»ñ³ÑëÏáÕáõÃÛ³ÝÁ, ¹³ï³Ï³Ý ³Ïï»ñÇ ¨ ¹³ï³Ï³Ý Ñ³ÝÓÝ³ñ³ñáõÃÛáõÝÝ»ñÇ Ï³ï³ñÙ³Ý Ñ»ï Ï³åí³Í ÙÇçÝáñ¹áõÃÛáõÝÝ»ñÇ í»ñ³µ»ñÛ³É ¹³ï³Ï³Ý ·áñÍ»ñáí ºñ¨³Ý ù³Õ³ùÇ ²í³Ý ¨ Üáñ Üáñù í³ñã³Ï³Ý ßñç³ÝÝ»ñÇ ÁÝ¹Ñ³Ýáõñ Çñ³í³ëáõÃÛ³Ý ³é³çÇÝ ³ïÛ³ÝÇ ¹³ï³ñ³ÝÇ ¹³ï³íáñ Ա. Բաբայանի ·áñÍáõÝ»áõÃÛ³Ý í»ñ³µ»ñÛ³É
A3: êïáõ·Çã Ñ³í³ë³ñáõÙ` 1+2=3+8+9, 8=4+5+6+7, | D3: Ð³ßí»ïáõ Å³Ù³Ý³Ï³Ñ³ïí³ÍÇ ëÏ½µáõÙ Ý³Ëáñ¹ Ñ³ßí»ïáõ Å³Ù³Ý³Ï³Ñ³ïí³ÍÇó ÷áË³Ýóí³Í ·áñÍ»ñÇ ÁÝ¹Ñ³Ýáõñ ÃÇíÁ | E3: Ð³ßí»ïáõ Å³Ù³Ý³Ï³Ñ³ïí³ÍáõÙ ëï³óí³Í ·áñÍ»ñÇ ÁÝ¹Ñ³Ýáõñ ÃÇíÁ | F3: öáË³Ýóí»É ¿ ³ÛÉ ¹³ï³íáñÇ Ï³Ù ³ÛÉ ¹³ï³ñ³Ý (Ï³½ÙÇ ÷á÷áËáõÃÛáõÝ, ÁÝ¹¹³ïáõÃÛáõÝ) | G3: Ð³ßí»ïáõ Å³Ù³Ý³Ï³Ñ³ïí³ÍáõÙ ³í³ñïí³Í ·áñÍ»ñÇ ÁÝ¹Ñ³Ýáõñ ÃÇíÁ | L3: Ð³ßí»ïáõ Å³Ù³Ý³Ï³Ñ³ïí³ÍáõÙ ³Ý³í³ñï ·áñÍ»ñÇ ÁÝ¹Ñ³Ýáõñ ÃÇíÁ | M3: ØÇçÝáñ¹áõÃÛáõÝÝ»ñáí Ï³Û³óí³Í ¹³ï³Ï³Ý ³Ïï»ñÇó µáÕáù³ñÏí³ÍÝ»ñÇ ù³Ý³ÏÁ | O3: ²Ý³í³ñï µáÕáùÝ»ñ | P3: ØÇçÝáñ¹áõÃÛáõÝÝ»ñáí Ï³Û³óí³Í ¨ µáÕáù³ñÏí³Í ¹³ï³Ï³Ý ³Ïï»ñÇó µ»Ï³Ýí³ÍÝ»ñÇ ù³Ý³ÏÁ | R3: ÙÇçÝáñ¹áõÃÛáõÝÝ»ñáí Ï³Û³óí³Í ¨ µáÕáù³ñÏí³Í ¹³ï³Ï³Ý ³Ïï»ñÇó ³Ý÷á÷áË ÃáÕÝí³ÍÝ»ñÇ ù³Ý³ÏÁ
G4: Ù»ñÅí»É ¿ | H4: µ³í³ñ³ñí»É ¿ | I4: µ³í³ñ³ñí»É ¿ Ù³ëÝ³ÏÇ | J4: ÃáÕÝí»É ¿ ³é³Ýó ùÝÝáõÃÛ³Ý | K4: ÀÝ¹³Ù»ÝÁ
M5: Ý³Ëáñ¹ ï³ñÇÝ»ñÇÝ Ï³Û³óí³Í ³Ïï»ñÇ ¹»Ù | N5: Ñ³ßí»ïáõ Å³Ù³Ý³Ï³ßñç³ÝáõÙ Ï³Û³óí³Í ³Ïï»ñÇ ¹»Ù | P5: Ý³Ëáñ¹ ï³ñÇÝ»ñÇÝ Ï³Û³óí³Í ³Ïï»ñÇ µ»Ï³ÝáõÙÝ»ñÁ | Q5: Ñ³ßí»ïáõ Å³Ù³Ý³Ï³ßñç³ÝáõÙ Ï³Û³óí³Í ³Ïï»ñÇ µ»Ï³ÝáõÙÝ»ñÁ
A6: 1. ØÇÝã¹³ï³Ï³Ý í³ñáõÛÃÇ ÝÏ³ïÙ³Ùµ ¹³ï³Ï³Ý í»ñ³ÑëÏáÕáõÃÛ³Ý áÉáñï | D6: 1 | E6: 2 | F6: 3 | G6: 4 | H6: 5 | I6: 6 | J6: 7 | K6: 8 | L6: 9 | M6: 10 | N6: 11 | O6: 12 | P6: 13 | Q6: 14 | R6: 15 | T6: 1+2=3+8+9 | V6: 8=4+5+6+7
A7: 1 | B7: Ï³É³ÝùÁ áñå»ë Ë³÷³ÝÙ³Ý ÙÇçáó ÏÇñ³é»Éáõ Ù³ëÇÝ ÙÇçÝáñ¹áõÃÛáõÝÝ»ñ | T7: =D7+E7 -> 0 | U7: =F7+K7+L7 -> 0 | V7: =K7 -> 0 | W7: =G7+H7+I7+J7 -> 0
A8: 2 | B8: Ï³É³ÝùÇ Å³ÙÏ»ïÁ »ñÏ³ñ³óÝ»Éáõ Ù³ëÇÝ ÙÇçÝáñ¹áõÃÛáõÝÝ»ñ | T8: =D8+E8 -> 0 | U8: =F8+K8+L8 -> 0 | V8: =K8 -> 0 | W8: =G8+H8+I8+J8 -> 0
A9: 3 | B9: Ï³É³ÝùÇ í»ñ³Ñ³ëï³ïÙ³Ý Ù³ëÇÝ ÙÇçÝáñ¹áõÃÛáõÝÝ»ñ | T9: =D9+E9 -> 0 | U9: =F9+K9+L9 -> 0 | V9: =K9 -> 0 | W9: =G9+H9+I9+J9 -> 0
A10: 4 | B10: ·ñ³íÁ áñå»ë Ï³É³Ý³íáñÙ³Ý ³ÛÉÁÝïñ³Ýù³ÛÇÝ Ë³÷³ÝÙ³Ý ÙÇçáó ÏÇñ³é»Éáõ Ù³ëÇÝ ÙÇçÝáñ¹áõÃÛáõÝÝ»ñ | T10: =D10+E10 -> 0 | U10: =F10+K10+L10 -> 0 | V10: =K10 -> 0 | W10: =G10+H10+I10+J10 -> 0
A11: 5 | B11: Ëáõ½³ñÏáõÃÛ³Ý Ï³ï³ñÙ³Ý Ù³ëÇÝ ÙÇçÝáñ¹áõÃÛáõÝÝ»ñ | E11: 13 | F11: 2 | G11: 2 | H11: 9 | K11: 11 | T11: =D11+E11 -> 13 | U11: =F11+K11+L11 -> 13 | V11: =K11 -> 11 | W11: =G11+H11+I11+J11 -> 11
A12: 6 | B12: µ³ÝÏ³ÛÇÝ, ³å³Ñáí³·ñ³Ï³Ý, Ýáï³ñ³Ï³Ý ·³ÕïÝÇù Ï³½ÙáÕ ï»Õ»ÏáõÃÛáõÝÝ»ñÇ ëï³óÙ³Ý Ñ³Ù³ñ Ëáõ½³ñÏáõÃÛ³Ý Ï³Ù ³é·ñ³íÙ³Ý Ï³ï³ñÙ³Ý Ù³ëÇÝ ÙÇçÝáñ¹áõÃÛáõÝÝ»ñ | T12: =D12+E12 -> 0 | U12: =F12+K12+L12 -> 0 | V12: =K12 -> 0 | W12: =G12+H12+I12+J12 -> 0
A13: 7 | B13: Ý³Ù³Ï³·ñáõÃÛ³Ý, Ñ»é³·ñ³Ï³Ý, ÷áuï³ÛÇÝ Ñ³Õáñ¹áõÙÝ»ñÇ ÑëÏáÕáõÃÛ³Ý Ù³ëÇÝ ÙÇçÝáñ¹áõÃÛáõÝÝ»ñ | T13: =D13+E13 -> 0 | U13: =F13+K13+L13 -> 0 | V13: =K13 -> 0 | W13: =G13+H13+I13+J13 -> 0
A14: 8 | B14: Ñ»é³Ëáu³ÛÇÝ Ï³Ù Ï³åÇ ³ÛÉ ÙÇçáóÝ»ñáí ï³ñíáÕ Ëáu³ÏóáõÃÛáõÝÝ»ñÇ ÉuÙ³Ý ¨ Ó³ÛÝ³·ñ³éÙ³Ý Ù³ëÇÝ ÙÇçÝáñ¹áõÃÛáõÝÝ»ñ | T14: =D14+E14 -> 0 | U14: =F14+K14+L14 -> 0 | V14: =K14 -> 0 | W14: =G14+H14+I14+J14 -> 0
A15: 9 | B15: Ñ»é³ËáëÝ»ñÇ Ùáõïù³ÛÇÝ ¨ »Éù³ÛÇÝ í»ñÍ³ÝÙ³Ý ÃáõÛÉïíáõÃÛáõÝ ëï³Ý³Éáõ Ù³ëÇÝ ÙÇçÝáñ¹áõÃÛáõÝÝ»ñ | E15: 10 | H15: 10 | K15: 10 | T15: =D15+E15 -> 10 | U15: =F15+K15+L15 -> 10 | V15: =K15 -> 10 | W15: =G15+H15+I15+J15 -> 10
A16: 10 | B16: Ñ»ï³ùÝÝáõÃÛ³Ý Ù³ñÙÝÇ ³ßË³ïáÕÇ, ùÝÝÇãÇ, ¹³ï³Ë³½Ç oå»ñ³ïÇí-Ñ»ï³Ëáõ½³Ï³Ý ·áñÍáÕáõÃÛáõÝÝ»ñ Çñ³Ï³Ý³óÝáÕ Ù³ñÙÇÝÝ»ñÇ ³ÝoñÇÝ³Ï³Ý ¨ ³ÝÑÇÙÝ áñáßáõÙÝ»ñÇ ¨ ·áñÍáÕáõÃÛáõÝÝ»ñÇ ¹»Ù µáÕáùÝ»ñ | T16: =D16+E16 -> 0 | U16: =F16+K16+L16 -> 0 | V16: =K16 -> 0 | W16: =G16+H16+I16+J16 -> 0
A17: 2. ¸³ï³Ï³Ý ³Ïï»ñÇ ¨ ¹³ï³Ï³Ý Ñ³ÝÓÝ³ñ³ñáõÃÛáõÝÝ»ñÇ Ï³ï³ñÙ³Ý Ñ»ï Ï³åí³Í Ñ³ñó»ñÇ ÉáõÍÙ³Ý áÉáñï
A18: 1 | B18: å³ïÅÇó å³ÛÙ³Ý³Ï³Ý í³Õ³Å³ÙÏ»ï ³½³ï»Éáõ Ù³ëÇÝ ÙÇçÝáñ¹áõÃÛáõÝÝ»ñ | T18: =D18+E18 -> 0 | U18: =F18+K18+L18 -> 0 | V18: =K18 -> 0 | W18: =G18+H18+I18+J18 -> 0
A19: 2 | B19: å³ïÇÅÁ ÷á÷áË»Éáõ, Ñ»ï³Ó·»Éáõ ¨ å³ïÅÇó ³½³ï»Éáõ Ù³uÇÝ ÙÇçÝáñ¹áõÃÛáõÝÝ»ñ | T19: =D19+E19 -> 0 | U19: =F19+K19+L19 -> 0 | V19: =K19 -> 0 | W19: =G19+H19+I19+J19 -> 0
A20: 3 | B20: Ñ³ñÏ³¹Çñ µáõÅÙ³Ý ï»ë³ÏÇ ÷á÷áËáõÃÛ³Ý Ù³ëÇÝ ÙÇçÝáñ¹áõÃÛáõÝÝ»ñ | T20: =D20+E20 -> 0 | U20: =F20+K20+L20 -> 0 | V20: =K20 -> 0 | W20: =G20+H20+I20+J20 -> 0
A21: 4 | B21: ³ÛÉ ÙÇçÝáñ¹áõÃÛáõÝÝ»ñ | T21: =D21+E21 -> 0 | U21: =F21+K21+L21 -> 0 | V21: =K21 -> 0 | W21: =G21+H21+I21+J21 -> 0
A22: 5 | B22: ¹³ï³Ï³Ý Ñ³ÝÓÝ³ñ³ñáõÃÛáõÝÝ»ñ | E22: 3 | L22: 2 | T22: =D22+E22 -> 3 | U22: =F22+K22+L22 -> 2 | V22: =K22 -> 0 | W22: =G22+H22+I22+J22 -> 0
A23: ÀÜ¸²ØºÜÀ | D23: =D7+D8+D9+D10+D11+D12+D13+D14+D15+D16+D18+D19+D20+D21+D22 -> 0 | E23: =E7+E8+E9+E10+E11+E12+E13+E14+E15+E16+E18+E19+E20+E21+E22 -> 26 | F23: =F7+F8+F9+F10+F11+F12+F13+F14+F15+F16+F18+F19+F20+F21+F22 -> 2 | G23: =G7+G8+G9+G10+G11+G12+G13+G14+G15+G16+G18+G19+G20+G21+G22 -> 2 | H23: =H7+H8+H9+H10+H11+H12+H13+H14+H15+H16+H18+H19+H20+H21+H22 -> 19 | I23: =I7+I8+I9+I10+I11+I12+I13+I14+I15+I16+I18+I19+I20+I21+I22 -> 0 | J23: =J7+J8+J9+J10+J11+J12+J13+J14+J15+J16+J18+J19+J20+J21+J22 -> 0 | K23: =K7+K8+K9+K10+K11+K12+K13+K14+K15+K16+K18+K19+K20+K21+K22 -> 21 | ... R23: =R7+R8+R9+R10+R11+R12+R13+R14+R15+R16+R18+R19+R20+R21+R22 -> 0 | T23: =D23+E23 -> 26 | U23: =F23+K23+L23 -> 25 | V23: =K23 -> 21 | W23: =G23+H23+I23+J23 -> 21

Sheet Է. Ամալյան
A1: 2016Ã. 1-ԻՆ ԿԻՍԱՄՅԱԿ | D1: Ð²ÞìºîìàôÂÚàôÜ | P1: Ð³í»Éí³Í Ð³Û³ëï³ÝÇ Ð³Ýñ³å»ïáõÃÛ³Ý ¸³ï³ñ³ÝÝ»ñÇ Ý³Ë³·³ÑÝ»ñÇ ËáñÑñ¹Ç 25.08.2016Ã. ÃÇí 44-È áñáßÙ³Ý
A2: ØÇÝã¹³ï³Ï³Ý í³ñáõÛÃÇ ÝÏ³ïÙ³Ùµ ¹³ï³Ï³Ý í»ñ³ÑëÏáÕáõÃÛ³ÝÁ, ¹³ï³Ï³Ý ³Ïï»ñÇ ¨ ¹³ï³Ï³Ý Ñ³ÝÓÝ³ñ³ñáõÃÛáõÝÝ»ñÇ Ï³ï³ñÙ³Ý Ñ»ï Ï³åí³Í ÙÇçÝáñ¹áõÃÛáõÝÝ»ñÇ í»ñ³µ»ñÛ³É ¹³ï³Ï³Ý ·áñÍ»ñáí ºñ¨³Ý ù³Õ³ùÇ ²í³Ý ¨ Üáñ Üáñù í³ñã³Ï³Ý ßñç³ÝÝ»ñÇ ÁÝ¹Ñ³Ýáõñ Çñ³í³ëáõÃÛ³Ý ³é³çÇÝ ³ïÛ³ÝÇ ¹³ï³ñ³ÝÇ ¹³ï³íáñ Է. Ամալյանի ·áñÍáõÝ»áõÃÛ³Ý í»ñ³µ»ñÛ³É
A3: êïáõ·Çã Ñ³í³ë³ñáõÙ` 1+2=3+8+9, 8=4+5+6+7, | D3: Ð³ßí»ïáõ Å³Ù³Ý³Ï³Ñ³ïí³ÍÇ ëÏ½µáõÙ Ý³Ëáñ¹ Ñ³ßí»ïáõ Å³Ù³Ý³Ï³Ñ³ïí³ÍÇó ÷áË³Ýóí³Í ·áñÍ»ñÇ ÁÝ¹Ñ³Ýáõñ ÃÇíÁ | E3: Ð³ßí»ïáõ Å³Ù³Ý³Ï³Ñ³ïí³ÍáõÙ ëï³óí³Í ·áñÍ»ñÇ ÁÝ¹Ñ³Ýáõñ ÃÇíÁ | F3: öáË³Ýóí»É ¿ ³ÛÉ ¹³ï³íáñÇ Ï³Ù ³ÛÉ ¹³ï³ñ³Ý (Ï³½ÙÇ ÷á÷áËáõÃÛáõÝ, ÁÝ¹¹³ïáõÃÛáõÝ) | G3: Ð³ßí»ïáõ Å³Ù³Ý³Ï³Ñ³ïí³ÍáõÙ ³í³ñïí³Í ·áñÍ»ñÇ ÁÝ¹Ñ³Ýáõñ ÃÇíÁ | L3: Ð³ßí»ïáõ Å³Ù³Ý³Ï³Ñ³ïí³ÍáõÙ ³Ý³í³ñï ·áñÍ»ñÇ ÁÝ¹Ñ³Ýáõñ ÃÇíÁ | M3: ØÇçÝáñ¹áõÃÛáõÝÝ»ñáí Ï³Û³óí³Í ¹³ï³Ï³Ý ³Ïï»ñÇó µáÕáù³ñÏí³ÍÝ»ñÇ ù³Ý³ÏÁ | O3: ²Ý³í³ñï µáÕáùÝ»ñ | P3: ØÇçÝáñ¹áõÃÛáõÝÝ»ñáí Ï³Û³óí³Í ¨ µáÕáù³ñÏí³Í ¹³ï³Ï³Ý ³Ïï»ñÇó µ»Ï³Ýí³ÍÝ»ñÇ ù³Ý³ÏÁ | R3: ÙÇçÝáñ¹áõÃÛáõÝÝ»ñáí Ï³Û³óí³Í ¨ µáÕáù³ñÏí³Í ¹³ï³Ï³Ý ³Ïï»ñÇó ³Ý÷á÷áË ÃáÕÝí³ÍÝ»ñÇ ù³Ý³ÏÁ
G4: Ù»ñÅí»É ¿ | H4: µ³í³ñ³ñí»É ¿ | I4: µ³í³ñ³ñí»É ¿ Ù³ëÝ³ÏÇ | J4: ÃáÕÝí»É ¿ ³é³Ýó ùÝÝáõÃÛ³Ý | K4: ÀÝ¹³Ù»ÝÁ
M5: Ý³Ëáñ¹ ï³ñÇÝ»ñÇÝ Ï³Û³óí³Í ³Ïï»ñÇ ¹»Ù | N5: Ñ³ßí»ïáõ Å³Ù³Ý³Ï³ßñç³ÝáõÙ Ï³Û³óí³Í ³Ïï»ñÇ ¹»Ù | P5: Ý³Ëáñ¹ ï³ñÇÝ»ñÇÝ Ï³Û³óí³Í ³Ïï»ñÇ µ»Ï³ÝáõÙÝ»ñÁ | Q5: Ñ³ßí»ïáõ Å³Ù³Ý³Ï³ßñç³ÝáõÙ Ï³Û³óí³Í ³Ïï»ñÇ µ»Ï³ÝáõÙÝ»ñÁ
A6: 1. ØÇÝã¹³ï³Ï³Ý í³ñáõÛÃÇ ÝÏ³ïÙ³Ùµ ¹³ï³Ï³Ý í»ñ³ÑëÏáÕáõÃÛ³Ý áÉáñï | D6: 1 | E6: 2 | F6: 3 | G6: 4 | H6: 5 | I6: 6 | J6: 7 | K6: 8 | L6: 9 | M6: 10 | N6: 11 | O6: 12 | P6: 13 | Q6: 14 | R6: 15 | T6: 1+2=3+8+9 | V6: 8=4+5+6+7
A7: 1 | B7: Ï³É³ÝùÁ áñå»ë Ë³÷³ÝÙ³Ý ÙÇçáó ÏÇñ³é»Éáõ Ù³ëÇÝ ÙÇçÝáñ¹áõÃÛáõÝÝ»ñ | T7: =D7+E7 -> 0 | U7: =F7+K7+L7 -> 0 | V7: =K7 -> 0 | W7: =G7+H7+I7+J7 -> 0
A8: 2 | B8: Ï³É³ÝùÇ Å³ÙÏ»ïÁ »ñÏ³ñ³óÝ»Éáõ Ù³ëÇÝ ÙÇçÝáñ¹áõÃÛáõÝÝ»ñ | T8: =D8+E8 -> 0 | U8: =F8+K8+L8 -> 0 | V8: =K8 -> 0 | W8: =G8+H8+I8+J8 -> 0
A9: 3 | B9: Ï³É³ÝùÇ í»ñ³Ñ³ëï³ïÙ³Ý Ù³ëÇÝ ÙÇçÝáñ¹áõÃÛáõÝÝ»ñ | T9: =D9+E9 -> 0 | U9: =F9+K9+L9 -> 0 | V9: =K9 -> 0 | W9: =G9+H9+I9+J9 -> 0
A10: 4 | B10: ·ñ³íÁ áñå»ë Ï³É³Ý³íáñÙ³Ý ³ÛÉÁÝïñ³Ýù³ÛÇÝ Ë³÷³ÝÙ³Ý ÙÇçáó ÏÇñ³é»Éáõ Ù³ëÇÝ ÙÇçÝáñ¹áõÃÛáõÝÝ»ñ | T10: =D10+E10 -> 0 | U10: =F10+K10+L10 -> 0 | V10: =K10 -> 0 | W10: =G10+H10+I10+J10 -> 0
A11: 5 | B11: Ëáõ½³ñÏáõÃÛ³Ý Ï³ï³ñÙ³Ý Ù³ëÇÝ ÙÇçÝáñ¹áõÃÛáõÝÝ»ñ | E11: 6 | G11: 1 | H11: 5 | K11: 6 | T11: =D11+E11 -> 6 | U11: =F11+K11+L11 -> 6 | V11: =K11 -> 6 | W11: =G11+H11+I11+J11 -> 6
A12: 6 | B12: µ³ÝÏ³ÛÇÝ, ³å³Ñáí³·ñ³Ï³Ý, Ýáï³ñ³Ï³Ý ·³ÕïÝÇù Ï³½ÙáÕ ï»Õ»ÏáõÃÛáõÝÝ»ñÇ ëï³óÙ³Ý Ñ³Ù³ñ Ëáõ½³ñÏáõÃÛ³Ý Ï³Ù ³é·ñ³íÙ³Ý Ï³ï³ñÙ³Ý Ù³ëÇÝ ÙÇçÝáñ¹áõÃÛáõÝÝ»ñ | E12: 3 | G12: 3 | K12: 3 | T12: =D12+E12 -> 3 | U12: =F12+K12+L12 -> 3 | V12: =K12 -> 3 | W12: =G12+H12+I12+J12 -> 3
A13: 7 | B13: Ý³Ù³Ï³·ñáõÃÛ³Ý, Ñ»é³·ñ³Ï³Ý, ÷áuï³ÛÇÝ Ñ³Õáñ¹áõÙÝ»ñÇ ÑëÏáÕáõÃÛ³Ý Ù³ëÇÝ ÙÇçÝáñ¹áõÃÛáõÝÝ»ñ | T13: =D13+E13 -> 0 | U13: =F13+K13+L13 -> 0 | V13: =K13 -> 0 | W13: =G13+H13+I13+J13 -> 0
A14: 8 | B14: Ñ»é³Ëáu³ÛÇÝ Ï³Ù Ï³åÇ ³ÛÉ ÙÇçáóÝ»ñáí ï³ñíáÕ Ëáu³ÏóáõÃÛáõÝÝ»ñÇ ÉuÙ³Ý ¨ Ó³ÛÝ³·ñ³éÙ³Ý Ù³ëÇÝ ÙÇçÝáñ¹áõÃÛáõÝÝ»ñ | T14: =D14+E14 -> 0 | U14: =F14+K14+L14 -> 0 | V14: =K14 -> 0 | W14: =G14+H14+I14+J14 -> 0
A15: 9 | B15: Ñ»é³ËáëÝ»ñÇ Ùáõïù³ÛÇÝ ¨ »Éù³ÛÇÝ í»ñÍ³ÝÙ³Ý ÃáõÛÉïíáõÃÛáõÝ ëï³Ý³Éáõ Ù³ëÇÝ ÙÇçÝáñ¹áõÃÛáõÝÝ»ñ | E15: 5 | H15: 5 | K15: 5 | T15: =D15+E15 -> 5 | U15: =F15+K15+L15 -> 5 | V15: =K15 -> 5 | W15: =G15+H15+I15+J15 -> 5
A16: 10 | B16: Ñ»ï³ùÝÝáõÃÛ³Ý Ù³ñÙÝÇ ³ßË³ïáÕÇ, ùÝÝÇãÇ, ¹³ï³Ë³½Ç oå»ñ³ïÇí-Ñ»ï³Ëáõ½³Ï³Ý ·áñÍáÕáõÃÛáõÝÝ»ñ Çñ³Ï³Ý³óÝáÕ Ù³ñÙÇÝÝ»ñÇ ³ÝoñÇÝ³Ï³Ý ¨ ³ÝÑÇÙÝ áñáßáõÙÝ»ñÇ ¨ ·áñÍáÕáõÃÛáõÝÝ»ñÇ ¹»Ù µáÕáùÝ»ñ | T16: =D16+E16 -> 0 | U16: =F16+K16+L16 -> 0 | V16: =K16 -> 0 | W16: =G16+H16+I16+J16 -> 0
A17: 2. ¸³ï³Ï³Ý ³Ïï»ñÇ ¨ ¹³ï³Ï³Ý Ñ³ÝÓÝ³ñ³ñáõÃÛáõÝÝ»ñÇ Ï³ï³ñÙ³Ý Ñ»ï Ï³åí³Í Ñ³ñó»ñÇ ÉáõÍÙ³Ý áÉáñï
A18: 1 | B18: å³ïÅÇó å³ÛÙ³Ý³Ï³Ý í³Õ³Å³ÙÏ»ï ³½³ï»Éáõ Ù³ëÇÝ ÙÇçÝáñ¹áõÃÛáõÝÝ»ñ | T18: =D18+E18 -> 0 | U18: =F18+K18+L18 -> 0 | V18: =K18 -> 0 | W18: =G18+H18+I18+J18 -> 0
A19: 2 | B19: å³ïÇÅÁ ÷á÷áË»Éáõ, Ñ»ï³Ó·»Éáõ ¨ å³ïÅÇó ³½³ï»Éáõ Ù³uÇÝ ÙÇçÝáñ¹áõÃÛáõÝÝ»ñ | T19: =D19+E19 -> 0 | U19: =F19+K19+L19 -> 0 | V19: =K19 -> 0 | W19: =G19+H19+I19+J19 -> 0
A20: 3 | B20: Ñ³ñÏ³¹Çñ µáõÅÙ³Ý ï»ë³ÏÇ ÷á÷áËáõÃÛ³Ý Ù³ëÇÝ ÙÇçÝáñ¹áõÃÛáõÝÝ»ñ | T20: =D20+E20 -> 0 | U20: =F20+K20+L20 -> 0 | V20: =K20 -> 0 | W20: =G20+H20+I20+J20 -> 0
A21: 4 | B21: ³ÛÉ ÙÇçÝáñ¹áõÃÛáõÝÝ»ñ | T21: =D21+E21 -> 0 | U21: =F21+K21+L21 -> 0 | V21: =K21 -> 0 | W21: =G21+H21+I21+J21 -> 0
A22: 5 | B22: ¹³ï³Ï³Ý Ñ³ÝÓÝ³ñ³ñáõÃÛáõÝÝ»ñ | D22: 1 | E22: 2 | L22: 3 | T22: =D22+E22 -> 3 | U22: =F22+K22+L22 -> 3 | V22: =K22 -> 0 | W22: =G22+H22+I22+J22 -> 0
A23: ÀÜ¸²ØºÜÀ | D23: =D7+D8+D9+D10+D11+D12+D13+D14+D15+D16+D18+D19+D20+D21+D22 -> 1 | E23: =E7+E8+E9+E10+E11+E12+E13+E14+E15+E16+E18+E19+E20+E21+E22 -> 16 | F23: =F7+F8+F9+F10+F11+F12+F13+F14+F15+F16+F18+F19+F20+F21+F22 -> 0 | G23: =G7+G8+G9+G10+G11+G12+G13+G14+G15+G16+G18+G19+G20+G21+G22 -> 4 | H23: =H7+H8+H9+H10+H11+H12+H13+H14+H15+H16+H18+H19+H20+H21+H22 -> 10 | I23: =I7+I8+I9+I10+I11+I12+I13+I14+I15+I16+I18+I19+I20+I21+I22 -> 0 | J23: =J7+J8+J9+J10+J11+J12+J13+J14+J15+J16+J18+J19+J20+J21+J22 -> 0 | K23: =K7+K8+K9+K10+K11+K12+K13+K14+K15+K16+K18+K19+K20+K21+K22 -> 14 | ... R23: =R7+R8+R9+R10+R11+R12+R13+R14+R15+R16+R18+R19+R20+R21+R22 -> 0 | T23: =D23+E23 -> 17 | U23: =F23+K23+L23 -> 17 | V23: =K23 -> 14 | W23: =G23+H23+I23+J23 -> 14

Sheet Ա. Դավթյան
A1: 2016Ã. 1-ԻՆ ԿԻՍԱՄՅԱԿ | D1: Ð²ÞìºîìàôÂÚàôÜ | P1: Ð³í»Éí³Í Ð³Û³ëï³ÝÇ Ð³Ýñ³å»ïáõÃÛ³Ý ¸³ï³ñ³ÝÝ»ñÇ Ý³Ë³·³ÑÝ»ñÇ ËáñÑñ¹Ç 25.08.2016Ã. ÃÇí 44-È áñáßÙ³Ý
A2: ØÇÝã¹³ï³Ï³Ý í³ñáõÛÃÇ ÝÏ³ïÙ³Ùµ ¹³ï³Ï³Ý í»ñ³ÑëÏáÕáõÃÛ³ÝÁ, ¹³ï³Ï³Ý ³Ïï»ñÇ ¨ ¹³ï³Ï³Ý Ñ³ÝÓÝ³ñ³ñáõÃÛáõÝÝ»ñÇ Ï³ï³ñÙ³Ý Ñ»ï Ï³åí³Í ÙÇçÝáñ¹áõÃÛáõÝÝ»ñÇ í»ñ³µ»ñÛ³É ¹³ï³Ï³Ý ·áñÍ»ñáí ºñ¨³Ý ù³Õ³ùÇ ²í³Ý ¨ Üáñ Üáñù í³ñã³Ï³Ý ßñç³ÝÝ»ñÇ ÁÝ¹Ñ³Ýáõñ Çñ³í³ëáõÃÛ³Ý ³é³çÇÝ ³ïÛ³ÝÇ ¹³ï³ñ³ÝÇ ¹³ï³íáñ Ա. Դավթյանի ·áñÍáõÝ»áõÃÛ³Ý í»ñ³µ»ñÛ³É
A3: êïáõ·Çã Ñ³í³ë³ñáõÙ` 1+2=3+8+9, 8=4+5+6+7, | D3: Ð³ßí»ïáõ Å³Ù³Ý³Ï³Ñ³ïí³ÍÇ ëÏ½µáõÙ Ý³Ëáñ¹ Ñ³ßí»ïáõ Å³Ù³Ý³Ï³Ñ³ïí³ÍÇó ÷áË³Ýóí³Í ·áñÍ»ñÇ ÁÝ¹Ñ³Ýáõñ ÃÇíÁ | E3: Ð³ßí»ïáõ Å³Ù³Ý³Ï³Ñ³ïí³ÍáõÙ ëï³óí³Í ·áñÍ»ñÇ ÁÝ¹Ñ³Ýáõñ ÃÇíÁ | F3: öáË³Ýóí»É ¿ ³ÛÉ ¹³ï³íáñÇ Ï³Ù ³ÛÉ ¹³ï³ñ³Ý (Ï³½ÙÇ ÷á÷áËáõÃÛáõÝ, ÁÝ¹¹³ïáõÃÛáõÝ) | G3: Ð³ßí»ïáõ Å³Ù³Ý³Ï³Ñ³ïí³ÍáõÙ ³í³ñïí³Í ·áñÍ»ñÇ ÁÝ¹Ñ³Ýáõñ ÃÇíÁ | L3: Ð³ßí»ïáõ Å³Ù³Ý³Ï³Ñ³ïí³ÍáõÙ ³Ý³í³ñï ·áñÍ»ñÇ ÁÝ¹Ñ³Ýáõñ ÃÇíÁ | M3: ØÇçÝáñ¹áõÃÛáõÝÝ»ñáí Ï³Û³óí³Í ¹³ï³Ï³Ý ³Ïï»ñÇó µáÕáù³ñÏí³ÍÝ»ñÇ ù³Ý³ÏÁ | O3: ²Ý³í³ñï µáÕáùÝ»ñ | P3: ØÇçÝáñ¹áõÃÛáõÝÝ»ñáí Ï³Û³óí³Í ¨ µáÕáù³ñÏí³Í ¹³ï³Ï³Ý ³Ïï»ñÇó µ»Ï³Ýí³ÍÝ»ñÇ ù³Ý³ÏÁ | R3: ÙÇçÝáñ¹áõÃÛáõÝÝ»ñáí Ï³Û³óí³Í ¨ µáÕáù³ñÏí³Í ¹³ï³Ï³Ý ³Ïï»ñÇó ³Ý÷á÷áË ÃáÕÝí³ÍÝ»ñÇ ù³Ý³ÏÁ
G4: Ù»ñÅí»É ¿ | H4: µ³í³ñ³ñí»É ¿ | I4: µ³í³ñ³ñí»É ¿ Ù³ëÝ³ÏÇ | J4: ÃáÕÝí»É ¿ ³é³Ýó ùÝÝáõÃÛ³Ý | K4: ÀÝ¹³Ù»ÝÁ
M5: Ý³Ëáñ¹ ï³ñÇÝ»ñÇÝ Ï³Û³óí³Í ³Ïï»ñÇ ¹»Ù | N5: Ñ³ßí»ïáõ Å³Ù³Ý³Ï³ßñç³ÝáõÙ Ï³Û³óí³Í ³Ïï»ñÇ ¹»Ù | P5: Ý³Ëáñ¹ ï³ñÇÝ»ñÇÝ Ï³Û³óí³Í ³Ïï»ñÇ µ»Ï³ÝáõÙÝ»ñÁ | Q5: Ñ³ßí»ïáõ Å³Ù³Ý³Ï³ßñç³ÝáõÙ Ï³Û³óí³Í ³Ïï»ñÇ µ»Ï³ÝáõÙÝ»ñÁ
A6: 1. ØÇÝã¹³ï³Ï³Ý í³ñáõÛÃÇ ÝÏ³ïÙ³Ùµ ¹³ï³Ï³Ý í»ñ³ÑëÏáÕáõÃÛ³Ý áÉáñï | D6: 1 | E6: 2 | F6: 3 | G6: 4 | H6: 5 | I6: 6 | J6: 7 | K6: 8 | L6: 9 | M6: 10 | N6: 11 | O6: 12 | P6: 13 | Q6: 14 | R6: 15 | T6: 1+2=3+8+9 | V6: 8=4+5+6+7
A7: 1 | B7: Ï³É³ÝùÁ áñå»ë Ë³÷³ÝÙ³Ý ÙÇçáó ÏÇñ³é»Éáõ Ù³ëÇÝ ÙÇçÝáñ¹áõÃÛáõÝÝ»ñ | T7: =D7+E7 -> 0 | U7: =F7+K7+L7 -> 0 | V7: =K7 -> 0 | W7: =G7+H7+I7+J7 -> 0
A8: 2 | B8: Ï³É³ÝùÇ Å³ÙÏ»ïÁ »ñÏ³ñ³óÝ»Éáõ Ù³ëÇÝ ÙÇçÝáñ¹áõÃÛáõÝÝ»ñ | T8: =D8+E8 -> 0 | U8: =F8+K8+L8 -> 0 | V8: =K8 -> 0 | W8: =G8+H8+I8+J8 -> 0
A9: 3 | B9: Ï³É³ÝùÇ í»ñ³Ñ³ëï³ïÙ³Ý Ù³ëÇÝ ÙÇçÝáñ¹áõÃÛáõÝÝ»ñ | T9: =D9+E9 -> 0 | U9: =F9+K9+L9 -> 0 | V9: =K9 -> 0 | W9: =G9+H9+I9+J9 -> 0
A10: 4 | B10: ·ñ³íÁ áñå»ë Ï³É³Ý³íáñÙ³Ý ³ÛÉÁÝïñ³Ýù³ÛÇÝ Ë³÷³ÝÙ³Ý ÙÇçáó ÏÇñ³é»Éáõ Ù³ëÇÝ ÙÇçÝáñ¹áõÃÛáõÝÝ»ñ | T10: =D10+E10 -> 0 | U10: =F10+K10+L10 -> 0 | V10: =K10 -> 0 | W10: =G10+H10+I10+J10 -> 0
A11: 5 | B11: Ëáõ½³ñÏáõÃÛ³Ý Ï³ï³ñÙ³Ý Ù³ëÇÝ ÙÇçÝáñ¹áõÃÛáõÝÝ»ñ | E11: 1 | H11: 1 | K11: 1 | T11: =D11+E11 -> 1 | U11: =F11+K11+L11 -> 1 | V11: =K11 -> 1 | W11: =G11+H11+I11+J11 -> 1
A12: 6 | B12: µ³ÝÏ³ÛÇÝ, ³å³Ñáí³·ñ³Ï³Ý, Ýáï³ñ³Ï³Ý ·³ÕïÝÇù Ï³½ÙáÕ ï»Õ»ÏáõÃÛáõÝÝ»ñÇ ëï³óÙ³Ý Ñ³Ù³ñ Ëáõ½³ñÏáõÃÛ³Ý Ï³Ù ³é·ñ³íÙ³Ý Ï³ï³ñÙ³Ý Ù³ëÇÝ ÙÇçÝáñ¹áõÃÛáõÝÝ»ñ | T12: =D12+E12 -> 0 | U12: =F12+K12+L12 -> 0 | V12: =K12 -> 0 | W12: =G12+H12+I12+J12 -> 0
A13: 7 | B13: Ý³Ù³Ï³·ñáõÃÛ³Ý, Ñ»é³·ñ³Ï³Ý, ÷áuï³ÛÇÝ Ñ³Õáñ¹áõÙÝ»ñÇ ÑëÏáÕáõÃÛ³Ý Ù³ëÇÝ ÙÇçÝáñ¹áõÃÛáõÝÝ»ñ | T13: =D13+E13 -> 0 | U13: =F13+K13+L13 -> 0 | V13: =K13 -> 0 | W13: =G13+H13+I13+J13 -> 0
A14: 8 | B14: Ñ»é³Ëáu³ÛÇÝ Ï³Ù Ï³åÇ ³ÛÉ ÙÇçáóÝ»ñáí ï³ñíáÕ Ëáu³ÏóáõÃÛáõÝÝ»ñÇ ÉuÙ³Ý ¨ Ó³ÛÝ³·ñ³éÙ³Ý Ù³ëÇÝ ÙÇçÝáñ¹áõÃÛáõÝÝ»ñ | T14: =D14+E14 -> 0 | U14: =F14+K14+L14 -> 0 | V14: =K14 -> 0 | W14: =G14+H14+I14+J14 -> 0
A15: 9 | B15: Ñ»é³ËáëÝ»ñÇ Ùáõïù³ÛÇÝ ¨ »Éù³ÛÇÝ í»ñÍ³ÝÙ³Ý ÃáõÛÉïíáõÃÛáõÝ ëï³Ý³Éáõ Ù³ëÇÝ ÙÇçÝáñ¹áõÃÛáõÝÝ»ñ | E15: 6 | H15: 6 | K15: 6 | T15: =D15+E15 -> 6 | U15: =F15+K15+L15 -> 6 | V15: =K15 -> 6 | W15: =G15+H15+I15+J15 -> 6
A16: 10 | B16: Ñ»ï³ùÝÝáõÃÛ³Ý Ù³ñÙÝÇ ³ßË³ïáÕÇ, ùÝÝÇãÇ, ¹³ï³Ë³½Ç oå»ñ³ïÇí-Ñ»ï³Ëáõ½³Ï³Ý ·áñÍáÕáõÃÛáõÝÝ»ñ Çñ³Ï³Ý³óÝáÕ Ù³ñÙÇÝÝ»ñÇ ³ÝoñÇÝ³Ï³Ý ¨ ³ÝÑÇÙÝ áñáßáõÙÝ»ñÇ ¨ ·áñÍáÕáõÃÛáõÝÝ»ñÇ ¹»Ù µáÕáùÝ»ñ | T16: =D16+E16 -> 0 | U16: =F16+K16+L16 -> 0 | V16: =K16 -> 0 | W16: =G16+H16+I16+J16 -> 0
A17: 2. ¸³ï³Ï³Ý ³Ïï»ñÇ ¨ ¹³ï³Ï³Ý Ñ³ÝÓÝ³ñ³ñáõÃÛáõÝÝ»ñÇ Ï³ï³ñÙ³Ý Ñ»ï Ï³åí³Í Ñ³ñó»ñÇ ÉáõÍÙ³Ý áÉáñï
A18: 1 | B18: å³ïÅÇó å³ÛÙ³Ý³Ï³Ý í³Õ³Å³ÙÏ»ï ³½³ï»Éáõ Ù³ëÇÝ ÙÇçÝáñ¹áõÃÛáõÝÝ»ñ | T18: =D18+E18 -> 0 | U18: =F18+K18+L18 -> 0 | V18: =K18 -> 0 | W18: =G18+H18+I18+J18 -> 0
A19: 2 | B19: å³ïÇÅÁ ÷á÷áË»Éáõ, Ñ»ï³Ó·»Éáõ ¨ å³ïÅÇó ³½³ï»Éáõ Ù³uÇÝ ÙÇçÝáñ¹áõÃÛáõÝÝ»ñ | T19: =D19+E19 -> 0 | U19: =F19+K19+L19 -> 0 | V19: =K19 -> 0 | W19: =G19+H19+I19+J19 -> 0
A20: 3 | B20: Ñ³ñÏ³¹Çñ µáõÅÙ³Ý ï»ë³ÏÇ ÷á÷áËáõÃÛ³Ý Ù³ëÇÝ ÙÇçÝáñ¹áõÃÛáõÝÝ»ñ | T20: =D20+E20 -> 0 | U20: =F20+K20+L20 -> 0 | V20: =K20 -> 0 | W20: =G20+H20+I20+J20 -> 0
A21: 4 | B21: ³ÛÉ ÙÇçÝáñ¹áõÃÛáõÝÝ»ñ | T21: =D21+E21 -> 0 | U21: =F21+K21+L21 -> 0 | V21: =K21 -> 0 | W21: =G21+H21+I21+J21 -> 0
A22: 5 | B22: ¹³ï³Ï³Ý Ñ³ÝÓÝ³ñ³ñáõÃÛáõÝÝ»ñ | T22: =D22+E22 -> 0 | U22: =F22+K22+L22 -> 0 | V22: =K22 -> 0 | W22: =G22+H22+I22+J22 -> 0
A23: ÀÜ¸²ØºÜÀ | D23: =D7+D8+D9+D10+D11+D12+D13+D14+D15+D16+D18+D19+D20+D21+D22 -> 0 | E23: =E7+E8+E9+E10+E11+E12+E13+E14+E15+E16+E18+E19+E20+E21+E22 -> 7 | F23: =F7+F8+F9+F10+F11+F12+F13+F14+F15+F16+F18+F19+F20+F21+F22 -> 0 | G23: =G7+G8+G9+G10+G11+G12+G13+G14+G15+G16+G18+G19+G20+G21+G22 -> 0 | H23: =H7+H8+H9+H10+H11+H12+H13+H14+H15+H16+H18+H19+H20+H21+H22 -> 7 | I23: =I7+I8+I9+I10+I11+I12+I13+I14+I15+I16+I18+I19+I20+I21+I22 -> 0 | J23: =J7+J8+J9+J10+J11+J12+J13+J14+J15+J16+J18+J19+J20+J21+J22 -> 0 | K23: =K7+K8+K9+K10+K11+K12+K13+K14+K15+K16+K18+K19+K20+K21+K22 -> 7 | ... R23: =R7+R8+R9+R10+R11+R12+R13+R14+R15+R16+R18+R19+R20+R21+R22 -> 0 | T23: =D23+E23 -> 7 | U23: =F23+K23+L23 -> 7 | V23: =K23 -> 7 | W23: =G23+H23+I23+J23 -> 7

Sheet Ա. Բադիրյան
A1: 2016Ã. 1-ԻՆ ԿԻՍԱՄՅԱԿ | D1: Ð²ÞìºîìàôÂÚàôÜ | P1: Ð³í»Éí³Í Ð³Û³ëï³ÝÇ Ð³Ýñ³å»ïáõÃÛ³Ý ¸³ï³ñ³ÝÝ»ñÇ Ý³Ë³·³ÑÝ»ñÇ ËáñÑñ¹Ç 25.08.2016Ã. ÃÇí 44-È áñáßÙ³Ý
A2: ØÇÝã¹³ï³Ï³Ý í³ñáõÛÃÇ ÝÏ³ïÙ³Ùµ ¹³ï³Ï³Ý í»ñ³ÑëÏáÕáõÃÛ³ÝÁ, ¹³ï³Ï³Ý ³Ïï»ñÇ ¨ ¹³ï³Ï³Ý Ñ³ÝÓÝ³ñ³ñáõÃÛáõÝÝ»ñÇ Ï³ï³ñÙ³Ý Ñ»ï Ï³åí³Í ÙÇçÝáñ¹áõÃÛáõÝÝ»ñÇ í»ñ³µ»ñÛ³É ¹³ï³Ï³Ý ·áñÍ»ñáí ºñ¨³Ý ù³Õ³ùÇ ²í³Ý ¨ Üáñ Üáñù í³ñã³Ï³Ý ßñç³ÝÝ»ñÇ ÁÝ¹Ñ³Ýáõñ Çñ³í³ëáõÃÛ³Ý ³é³çÇÝ ³ïÛ³ÝÇ ¹³ï³ñ³ÝÇ ¹³ï³íáñ Ա.Բադիրյանի ·áñÍáõÝ»áõÃÛ³Ý í»ñ³µ»ñÛ³É
A3: êïáõ·Çã Ñ³í³ë³ñáõÙ` 1+2=3+8+9, 8=4+5+6+7, | D3: Ð³ßí»ïáõ Å³Ù³Ý³Ï³Ñ³ïí³ÍÇ ëÏ½µáõÙ Ý³Ëáñ¹ Ñ³ßí»ïáõ Å³Ù³Ý³Ï³Ñ³ïí³ÍÇó ÷áË³Ýóí³Í ·áñÍ»ñÇ ÁÝ¹Ñ³Ýáõñ ÃÇíÁ | E3: Ð³ßí»ïáõ Å³Ù³Ý³Ï³Ñ³ïí³ÍáõÙ ëï³óí³Í ·áñÍ»ñÇ ÁÝ¹Ñ³Ýáõñ ÃÇíÁ | F3: öáË³Ýóí»É ¿ ³ÛÉ ¹³ï³íáñÇ Ï³Ù ³ÛÉ ¹³ï³ñ³Ý (Ï³½ÙÇ ÷á÷áËáõÃÛáõÝ, ÁÝ¹¹³ïáõÃÛáõÝ) | G3: Ð³ßí»ïáõ Å³Ù³Ý³Ï³Ñ³ïí³ÍáõÙ ³í³ñïí³Í ·áñÍ»ñÇ ÁÝ¹Ñ³Ýáõñ ÃÇíÁ | L3: Ð³ßí»ïáõ Å³Ù³Ý³Ï³Ñ³ïí³ÍáõÙ ³Ý³í³ñï ·áñÍ»ñÇ ÁÝ¹Ñ³Ýáõñ ÃÇíÁ | M3: ØÇçÝáñ¹áõÃÛáõÝÝ»ñáí Ï³Û³óí³Í ¹³ï³Ï³Ý ³Ïï»ñÇó µáÕáù³ñÏí³ÍÝ»ñÇ ù³Ý³ÏÁ | O3: ²Ý³í³ñï µáÕáùÝ»ñ | P3: ØÇçÝáñ¹áõÃÛáõÝÝ»ñáí Ï³Û³óí³Í ¨ µáÕáù³ñÏí³Í ¹³ï³Ï³Ý ³Ïï»ñÇó µ»Ï³Ýí³ÍÝ»ñÇ ù³Ý³ÏÁ | R3: ÙÇçÝáñ¹áõÃÛáõÝÝ»ñáí Ï³Û³óí³Í ¨ µáÕáù³ñÏí³Í ¹³ï³Ï³Ý ³Ïï»ñÇó ³Ý÷á÷áË ÃáÕÝí³ÍÝ»ñÇ ù³Ý³ÏÁ
G4: Ù»ñÅí»É ¿ | H4: µ³í³ñ³ñí»É ¿ | I4: µ³í³ñ³ñí»É ¿ Ù³ëÝ³ÏÇ | J4: ÃáÕÝí»É ¿ ³é³Ýó ùÝÝáõÃÛ³Ý | K4: ÀÝ¹³Ù»ÝÁ
M5: Ý³Ëáñ¹ ï³ñÇÝ»ñÇÝ Ï³Û³óí³Í ³Ïï»ñÇ ¹»Ù | N5: Ñ³ßí»ïáõ Å³Ù³Ý³Ï³ßñç³ÝáõÙ Ï³Û³óí³Í ³Ïï»ñÇ ¹»Ù | P5: Ý³Ëáñ¹ ï³ñÇÝ»ñÇÝ Ï³Û³óí³Í ³Ïï»ñÇ µ»Ï³ÝáõÙÝ»ñÁ | Q5: Ñ³ßí»ïáõ Å³Ù³Ý³Ï³ßñç³ÝáõÙ Ï³Û³óí³Í ³Ïï»ñÇ µ»Ï³ÝáõÙÝ»ñÁ
A6: 1. ØÇÝã¹³ï³Ï³Ý í³ñáõÛÃÇ ÝÏ³ïÙ³Ùµ ¹³ï³Ï³Ý í»ñ³ÑëÏáÕáõÃÛ³Ý áÉáñï | D6: 1 | E6: 2 | F6: 3 | G6: 4 | H6: 5 | I6: 6 | J6: 7 | K6: 8 | L6: 9 | M6: 10 | N6: 11 | O6: 12 | P6: 13 | Q6: 14 | R6: 15 | T6: 1+2=3+8+9 | V6: 8=4+5+6+7
A7: 1 | B7: Ï³É³ÝùÁ áñå»ë Ë³÷³ÝÙ³Ý ÙÇçáó ÏÇñ³é»Éáõ Ù³ëÇÝ ÙÇçÝáñ¹áõÃÛáõÝÝ»ñ | T7: =D7+E7 -> 0 | U7: =F7+K7+L7 -> 0 | V7: =K7 -> 0 | W7: =G7+H7+I7+J7 -> 0
A8: 2 | B8: Ï³É³ÝùÇ Å³ÙÏ»ïÁ »ñÏ³ñ³óÝ»Éáõ Ù³ëÇÝ ÙÇçÝáñ¹áõÃÛáõÝÝ»ñ | T8: =D8+E8 -> 0 | U8: =F8+K8+L8 -> 0 | V8: =K8 -> 0 | W8: =G8+H8+I8+J8 -> 0
A9: 3 | B9: Ï³É³ÝùÇ í»ñ³Ñ³ëï³ïÙ³Ý Ù³ëÇÝ ÙÇçÝáñ¹áõÃÛáõÝÝ»ñ | T9: =D9+E9 -> 0 | U9: =F9+K9+L9 -> 0 | V9: =K9 -> 0 | W9: =G9+H9+I9+J9 -> 0
A10: 4 | B10: ·ñ³íÁ áñå»ë Ï³É³Ý³íáñÙ³Ý ³ÛÉÁÝïñ³Ýù³ÛÇÝ Ë³÷³ÝÙ³Ý ÙÇçáó ÏÇñ³é»Éáõ Ù³ëÇÝ ÙÇçÝáñ¹áõÃÛáõÝÝ»ñ | T10: =D10+E10 -> 0 | U10: =F10+K10+L10 -> 0 | V10: =K10 -> 0 | W10: =G10+H10+I10+J10 -> 0
A11: 5 | B11: Ëáõ½³ñÏáõÃÛ³Ý Ï³ï³ñÙ³Ý Ù³ëÇÝ ÙÇçÝáñ¹áõÃÛáõÝÝ»ñ | E11: 2 | H11: 2 | K11: 2 | M11: 1 | R11: 1 | T11: =D11+E11 -> 2 | U11: =F11+K11+L11 -> 2 | V11: =K11 -> 2 | W11: =G11+H11+I11+J11 -> 2
A12: 6 | B12: µ³ÝÏ³ÛÇÝ, ³å³Ñáí³·ñ³Ï³Ý, Ýáï³ñ³Ï³Ý ·³ÕïÝÇù Ï³½ÙáÕ ï»Õ»ÏáõÃÛáõÝÝ»ñÇ ëï³óÙ³Ý Ñ³Ù³ñ Ëáõ½³ñÏáõÃÛ³Ý Ï³Ù ³é·ñ³íÙ³Ý Ï³ï³ñÙ³Ý Ù³ëÇÝ ÙÇçÝáñ¹áõÃÛáõÝÝ»ñ | T12: =D12+E12 -> 0 | U12: =F12+K12+L12 -> 0 | V12: =K12 -> 0 | W12: =G12+H12+I12+J12 -> 0
A13: 7 | B13: Ý³Ù³Ï³·ñáõÃÛ³Ý, Ñ»é³·ñ³Ï³Ý, ÷áuï³ÛÇÝ Ñ³Õáñ¹áõÙÝ»ñÇ ÑëÏáÕáõÃÛ³Ý Ù³ëÇÝ ÙÇçÝáñ¹áõÃÛáõÝÝ»ñ | T13: =D13+E13 -> 0 | U13: =F13+K13+L13 -> 0 | V13: =K13 -> 0 | W13: =G13+H13+I13+J13 -> 0
A14: 8 | B14: Ñ»é³Ëáu³ÛÇÝ Ï³Ù Ï³åÇ ³ÛÉ ÙÇçáóÝ»ñáí ï³ñíáÕ Ëáu³ÏóáõÃÛáõÝÝ»ñÇ ÉuÙ³Ý ¨ Ó³ÛÝ³·ñ³éÙ³Ý Ù³ëÇÝ ÙÇçÝáñ¹áõÃÛáõÝÝ»ñ | T14: =D14+E14 -> 0 | U14: =F14+K14+L14 -> 0 | V14: =K14 -> 0 | W14: =G14+H14+I14+J14 -> 0
A15: 9 | B15: Ñ»é³ËáëÝ»ñÇ Ùáõïù³ÛÇÝ ¨ »Éù³ÛÇÝ í»ñÍ³ÝÙ³Ý ÃáõÛÉïíáõÃÛáõÝ ëï³Ý³Éáõ Ù³ëÇÝ ÙÇçÝáñ¹áõÃÛáõÝÝ»ñ | E15: 1 | H15: 1 | K15: 1 | T15: =D15+E15 -> 1 | U15: =F15+K15+L15 -> 1 | V15: =K15 -> 1 | W15: =G15+H15+I15+J15 -> 1
A16: 10 | B16: Ñ»ï³ùÝÝáõÃÛ³Ý Ù³ñÙÝÇ ³ßË³ïáÕÇ, ùÝÝÇãÇ, ¹³ï³Ë³½Ç oå»ñ³ïÇí-Ñ»ï³Ëáõ½³Ï³Ý ·áñÍáÕáõÃÛáõÝÝ»ñ Çñ³Ï³Ý³óÝáÕ Ù³ñÙÇÝÝ»ñÇ ³ÝoñÇÝ³Ï³Ý ¨ ³ÝÑÇÙÝ áñáßáõÙÝ»ñÇ ¨ ·áñÍáÕáõÃÛáõÝÝ»ñÇ ¹»Ù µáÕáùÝ»ñ | T16: =D16+E16 -> 0 | U16: =F16+K16+L16 -> 0 | V16: =K16 -> 0 | W16: =G16+H16+I16+J16 -> 0
A17: 2. ¸³ï³Ï³Ý ³Ïï»ñÇ ¨ ¹³ï³Ï³Ý Ñ³ÝÓÝ³ñ³ñáõÃÛáõÝÝ»ñÇ Ï³ï³ñÙ³Ý Ñ»ï Ï³åí³Í Ñ³ñó»ñÇ ÉáõÍÙ³Ý áÉáñï
A18: 1 | B18: å³ïÅÇó å³ÛÙ³Ý³Ï³Ý í³Õ³Å³ÙÏ»ï ³½³ï»Éáõ Ù³ëÇÝ ÙÇçÝáñ¹áõÃÛáõÝÝ»ñ | T18: =D18+E18 -> 0 | U18: =F18+K18+L18 -> 0 | V18: =K18 -> 0 | W18: =G18+H18+I18+J18 -> 0
A19: 2 | B19: å³ïÇÅÁ ÷á÷áË»Éáõ, Ñ»ï³Ó·»Éáõ ¨ å³ïÅÇó ³½³ï»Éáõ Ù³uÇÝ ÙÇçÝáñ¹áõÃÛáõÝÝ»ñ | T19: =D19+E19 -> 0 | U19: =F19+K19+L19 -> 0 | V19: =K19 -> 0 | W19: =G19+H19+I19+J19 -> 0
A20: 3 | B20: Ñ³ñÏ³¹Çñ µáõÅÙ³Ý ï»ë³ÏÇ ÷á÷áËáõÃÛ³Ý Ù³ëÇÝ ÙÇçÝáñ¹áõÃÛáõÝÝ»ñ | T20: =D20+E20 -> 0 | U20: =F20+K20+L20 -> 0 | V20: =K20 -> 0 | W20: =G20+H20+I20+J20 -> 0
A21: 4 | B21: ³ÛÉ ÙÇçÝáñ¹áõÃÛáõÝÝ»ñ | T21: =D21+E21 -> 0 | U21: =F21+K21+L21 -> 0 | V21: =K21 -> 0 | W21: =G21+H21+I21+J21 -> 0
A22: 5 | B22: ¹³ï³Ï³Ý Ñ³ÝÓÝ³ñ³ñáõÃÛáõÝÝ»ñ | D22: 1 | L22: 1 | T22: =D22+E22 -> 1 | U22: =F22+K22+L22 -> 1 | V22: =K22 -> 0 | W22: =G22+H22+I22+J22 -> 0
A23: ÀÜ¸²ØºÜÀ | D23: =D7+D8+D9+D10+D11+D12+D13+D14+D15+D16+D18+D19+D20+D21+D22 -> 1 | E23: =E7+E8+E9+E10+E11+E12+E13+E14+E15+E16+E18+E19+E20+E21+E22 -> 3 | F23: =F7+F8+F9+F10+F11+F12+F13+F14+F15+F16+F18+F19+F20+F21+F22 -> 0 | G23: =G7+G8+G9+G10+G11+G12+G13+G14+G15+G16+G18+G19+G20+G21+G22 -> 0 | H23: =H7+H8+H9+H10+H11+H12+H13+H14+H15+H16+H18+H19+H20+H21+H22 -> 3 | I23: =I7+I8+I9+I10+I11+I12+I13+I14+I15+I16+I18+I19+I20+I21+I22 -> 0 | J23: =J7+J8+J9+J10+J11+J12+J13+J14+J15+J16+J18+J19+J20+J21+J22 -> 0 | K23: =K7+K8+K9+K10+K11+K12+K13+K14+K15+K16+K18+K19+K20+K21+K22 -> 3 | ... R23: =R7+R8+R9+R10+R11+R12+R13+R14+R15+R16+R18+R19+R20+R21+R22 -> 1 | T23: =D23+E23 -> 4 | U23: =F23+K23+L23 -> 4 | V23: =K23 -> 3 | W23: =G23+H23+I23+J23 -> 3
