Workbook

Sheet Ընդամենը
A1: 2015Ã. | C1: Ð²ÞìºîìàôÂÚàôÜ | AM1: Ï³½Ùí³Í` ÐÐ Ï³é³í³ñáõÃÛ³Ý 19.03.2015Ã. ÃÇí 306-Ü áñáßÙ³Ý ÑÇÙ³Ý íñ³
A2: ÐÐ ì²ðâ²Î²Ü ¸²î²ð²ÜÆ ¸²î²ìàð ԱԼԵՔՍԱՆԴՐԱ ՀԱՐՈՒԹՅՈՒՆՅԱՆԻ ¶àðÌàôÜºàôÂÚ²Ü ìºð²´ºðÚ²È
A3: ÐÐ í³ñã³Ï³Ý ¹³ï³ñ³ÝÇ ¹³ï³íáñÝ»ñÇ Ñ³ëïÇùÝ»ñÇ ÃÇíÁ` 26
A4: êïáõ·Çã Ñ³í³ë³ñáõÙÝ»ñª 1=2+3+4+5, 6=7+8+9, 2+3+7=10+20+21+23, 11=12+13+14+15, 16=17+18+19, 20=11+16, 27=25+26, 27=28+29, 34=32+33, 34=35+36 | C4: Ð³ßí»ïáõ Å³Ù³Ý³Ï³Ñ³ïí³ÍáõÙ Ý³Ëáñ¹ Ñ³ßí»ïáõ Å³Ù³Ý³Ï³Ñ³ïí³ÍÇó ÷áË³Ýóí³Í ·áñÍ»ñÇ ÁÝ¹Ñ³Ýáõñ ÃÇíÁ | H4: Ð³ßí»ïáõ Å³Ù³Ý³Ï³Ñ³ïí³ÍáõÙ ëï³óí³Í ·áñÍ»ñÇ (³Û¹ ÃíáõÙ` Ñ³Ûó³¹ÇÙáõÙÝ»ñÇ, ¹ÇÙáõÙÝ»ñÇ) ÁÝ¹Ñ³Ýáõñ ÃÇíÁ | L4: öáË³Ýóí»É ¿ ³ÛÉ ¹³ï³íáñÇ (Ï³½ÙÇ ÷á÷áËáõÃÛáõÝ) | M4: Ð³ßí»ïáõ Å³Ù³Ý³Ï³Ñ³ïí³ÍáõÙ ³í³ñïí³Í ·áñÍ»ñÇ ÁÝ¹Ñ³Ýáõñ ÃÇíÁ | W4: ¶áñÍÝ áõÕ³ñÏí»É ¿ Áëï ÁÝ¹¹³ïáõÃÛ³Ý | X4: Ð³ßí»ïáõ Å³Ù³Ý³Ï³Ñ³ïí³ÍáõÙ Ï³ë»óí³Í í³ñáõÛÃÝ»ñáí ·áñÍ»ñÇ ÁÝ¹Ñ³Ýáõñ ÃÇíÁ | Y4: Ð³ßí»ïáõ Å³Ù³Ý³Ï³Ñ³ïí³ÍáõÙ ³Ý³í³ñï ·áñÍ»ñÇ ÁÝ¹Ñ³Ýáõñ ÃÇíÁ | Z4: ²Û¹ ÃíáõÙ` Ï³ë»óí³Í | AA4: ´áÕáù³ñÏí³Í ¹³ï³Ï³Ý ³Ïï»ñÁ | AF4: ²í³ñïí³Í ¹³ï³Ï³Ý ·áñÍ»ñÇ µáÕáù³ñÏÙ³Ý ïáÏáëÁ (Ñ³ßí»ïáõ Å³Ù³Ý³Ï³Ñ³ïí³ÍáõÙ) | AG4: ²Ý³í³ñï µáÕáùÝ»ñ | AH4: ´»Ï³Ýí³Í ¹³ï³Ï³Ý ³Ïï»ñÁ | AM4: µ»Ï³ÝáõÙÝ»ñÇ ïáÏáëÁ ³í³ñïí³Í ·áñÍ»ñÇó (Ñ³ßí»ïáõ Å³Ù³Ý³Ï³Ñ³ïí³ÍáõÙ) | AN4: Î³ÛáõÝáõÃÛ³Ý ïáÏáëÁ ³í³ñïí³Í ·áñÍ»ñÇó (Ñ³ßí»ïáõ Å³Ù³Ý³Ï³Ñ³ïí³ÍáõÙ) | AO4: µ»Ï³ÝáõÙÝ»ñÇ ïáÏáëÁ µáÕáù³ñÏí³Í ·áñÍ»ñÇó(Ñ³ßí»ïáõ Å³Ù³Ý³Ï³Ñ³ïí³ÍáõÙ) | AP4: Ï³ÛáõÝáõÃÛ³Ý ïáÏáëÁ(Ñ³ßí»ïáõ Å³Ù³Ý³Ñ³ïí³ÍáõÙ)
C5: ÀÝ¹³Ù»ÝÁ | D5: ²Û¹ ÃíáõÙ`Ï³ë»óí³Í íÇ×³ÏáõÙ ÷áË³Ýóí³Í | E5: ²Û¹ ÃíáõÙª ÁÝ¹áõÝí»É ¿ í³ñáõÛÃ | F5: ²Û¹ ÃíáõÙª í»ñ³¹³ñÓí»É ¿ | G5: ²Û¹ ÃíáõÙª ÁÝ¹áõÝáõÙÁ Ù»ñÅí»É ¿ | H5: ÀÝ¹³Ù»ÝÁ | I5: ²Û¹ ÃíáõÙª ÁÝ¹áõÝí»É ¿ í³ñáõÛÃ | J5: ²Û¹ ÃíáõÙª í»ñ³¹³ñÓí»É ¿ | K5: ²Û¹ ÃíáõÙª ÁÝ¹áõÝáõÙÁ Ù»ñÅí»É ¿ | M5: ÀÝ¹³Ù»ÝÁ ³í³ñïí»É »Ý ·áñÍ»ñ ·áñÍÝ Áëï ¿áõÃÛ³Ý ÉáõÍáÕ ¹³ï³Ï³Ý ³Ïï»ñÇ (í×ÇéÝ»ñÇ) Ï³Û³óÙ³Ùµ | N5: ²Û¹ ÃíáõÙª Ñ³ÛóÇ µ³í³ñ³ñÙ³Ùµ | O5: ²Û¹ ÃíáõÙª Ñ³ÛóÇ Ù³ëÝ³ÏÇ µ³í³ñ³ñÙ³Ùµ | P5: ²Û¹ ÃíáõÙª Ñ³ÛóÇ Ù»ñÅÙ³Ùµ | Q5: ²Û¹ ÃíáõÙ` Ù³ëÝ³ÏÇ Ù»ñÅí»É ¿, Ù³ëÝ³ÏÇ Ï³ñ×í»É | R5: ²Û¹ ÃíáõÙª Ï³ñ×í»É »Ý | V5: ÀÝ¹³Ù»ÝÝ ³í³ñïí»É »Ý ·áñÍ»ñ | AA5: ²Û¹ ÃíáõÙ` ·áñÍÝ Áëï ¿áõÃÛ³Ý ÉáõÍáÕ ¹³ï³Ï³Ý ³Ïï»ñÁ | AB5: ²Û¹ ÃíáõÙ` ÙÇç³ÝÏÛ³É ¹³ï³Ï³Ý ³Ïï»ñÁ | AC5: ÀÝ¹³Ù»ÝÁ | AD5: Ü³Ëáñ¹ ï³ñÇÝ»ñÇÝ Ï³Û³óí³Í ³Ïï»ñÇ µáÕáù³ñÏáõÙÁ Ñ³ßí»ïáõ Å³Ù³Ý³Ï³ßñç³ÝáõÙ | AE5: Ð³ßí»ïáõ Å³Ù³Ý³Ï³ßñç³ÝáõÙ Ï³Û³óí³Í ³Ïï»ñÇ µáÕáù³ñÏáõÙÁ | AH5: ²Û¹ ÃíáõÙ` ·áñÍÝ Áëï ¿áõÃÛ³Ý ÉáõÍáÕ ¹³ï³Ï³Ý ³Ïï»ñÁ | AI5: ²Û¹ ÃíáõÙ` ÙÇç³ÝÏÛ³É ¹³ï³Ï³Ý ³Ïï»ñÁ | AJ5: ÀÝ¹³Ù»ÝÁ | AK5: Ü³Ëáñ¹ ï³ñÇÝ»ñÇÝ Ï³Û³óí³Í ³Ïï»ñÇ µ»Ï³ÝáõÙÝ»ñÁ Ñ³ßí»ïáõ Å³Ù³Ý³Ï³ßñç³ÝáõÙ | AL5: Ð³ßí»ïáõ Å³Ù³Ý³Ï³ßñç³ÝáõÙ Ï³Û³óí³Í ³Ïï»ñÇ µ»Ï³ÝáõÙÁ
R6: ÀÝ¹³Ù»ÝÁ Ï³ñ×í»É »Ý | S6: ²Û¹ ÃíáõÙª Ñ³ëï³ïí»É ¿ ÏÝùí³Í Ñ³ßïáõÃÛ³Ý Ñ³Ù³Ó³ÛÝáõÃÛáõÝÁ | T6: ²Û¹ ÃíáõÙª Ñ³óÇó, ¹ÇÙáõÙÇó Ññ³Å³ñí»Éáõ ÑÇÙùáí | U6: ²Û¹ ÃíáõÙª ³ÛÉ ÑÇÙùáí
B7: ì³ñã³Ï³Ý ·áñÍ»ñÇ ¹³ë³Ï³ñ·áõÙÁ | C7: 1 | D7: 2 | E7: 3 | F7: 4 | G7: 5 | H7: 6 | I7: 7 | J7: 8 | K7: 9 | L7: 10 | M7: 11 | N7: 12 | O7: 13 | P7: 14 | Q7: 15 | R7: 16 | S7: 17 | T7: 18 | U7: 19 | V7: 20 | W7: 21 | X7: 22 | Y7: 23 | Z7: 24 | AA7: 25 | AB7: 26 | AC7: 27 | AD7: 28 | AE7: 29 | AF7: 30 | AG7: 31 | AH7: 32 | AI7: 33 | AJ7: 34 | AK7: 35 | AL7: 36 | AM7: 37 | AN7: 38 | AO7: 39 | AP7: 40 | AQ7: 1=2+3+4+5 | AS7: 6=7+8+9 | AU7: 2+3+7=10+20+21+23 | AW7: 11=12+13+14+15 | AY7: 16=17+18+19 | BA7: 20=11+16 | BC7: 27=25+26 | BE7: 27=28+29 | BG7: 34=32+33 | BI7: 34=35+36
A8: 1 | B8: ä»ï³Ï³Ý Ù³ñÙÇÝÝ»ñÇ, ï»Õ³Ï³Ý ÇÝùÝ³Ï³é³í³ñÙ³Ý Ù³ñÙÇÝÝ»ñÇ áõ ¹ñ³Ýó å³ßïáÝ³ï³ñ ³ÝÓ³Ýó ³Ïï»ñÝ ³Ýí³í»ñ ×³Ý³ã»Éáõ Ñ»ï Ï³åí³Í Çñ³í³ñ³Ñ³µ»ñáõÃÛáõÝÝ»ñÇ í»ñ³µ»ñÛ³É ¹³ï³Ï³Ý ·áñÍ»ñ | C8: =SUM('Ալ. Հարությունյան:Ս.Հովակիմյան'!C8) -> 1941 | D8: =SUM('Ալ. Հարությունյան:Ս.Հովակիմյան'!D8) -> 52 | E8: =SUM('Ալ. Հարությունյան:Ս.Հովակիմյան'!E8) -> 1889 | F8: =SUM('Ալ. Հարությունյան:Ս.Հովակիմյան'!F8) -> 0 | G8: =SUM('Ալ. Հարությունյան:Ս.Հովակիմյան'!G8) -> 0 | H8: =SUM('Ալ. Հարությունյան:Ս.Հովակիմյան'!H8) -> 4474 | I8: =SUM('Ալ. Հարությունյան:Ս.Հովակիմյան'!I8) -> 3361 | J8: =SUM('Ալ. Հարությունյան:Ս.Հովակիմյան'!J8) -> 837 | ... AP8: =SUM('Ալ. Հարությունյան:Ս.Հովակիմյան'!AP8) -> 0 | AQ8: =SUM(AQ9:AQ10) -> 1941 | AR8: =SUM(AR9:AR10) -> 1941 | AS8: =SUM(AS9:AS10) -> 4474 | AT8: =SUM(AT9:AT10) -> 4474 | AU8: =SUM(AU9:AU10) -> 5302 | AV8: =SUM(AV9:AV10) -> 5302 | AW8: =SUM(AW9:AW10) -> 2699 | AX8: =SUM(AX9:AX10) -> 2699 | ... BJ8: =SUM(BJ9:BJ10) -> 81
A9: 1.1 | B9: ä»ï³Ï³Ý Ù³ñÙÇÝÝ»ñÇ áõ ¹ñ³Ýó å³ßïáÝ³ï³ñ ³ÝÓ³Ýó ³Ïï»ñÝ ³Ýí³í»ñ ×³Ý³ã»Éáõ Ñ»ï Ï³åí³Í Çñ³í³Ñ³ñ³µ»ñáõÃÛáõÝÝ»ñÇ í»ñ³µ»ñÛ³É ¹³ï³Ï³Ý ·áñÍ»ñ | C9: =SUM('Ալ. Հարությունյան:Ս.Հովակիմյան'!C9) -> 1559 | D9: =SUM('Ալ. Հարությունյան:Ս.Հովակիմյան'!D9) -> 41 | E9: =SUM('Ալ. Հարությունյան:Ս.Հովակիմյան'!E9) -> 1518 | F9: =SUM('Ալ. Հարությունյան:Ս.Հովակիմյան'!F9) -> 0 | G9: =SUM('Ալ. Հարությունյան:Ս.Հովակիմյան'!G9) -> 0 | H9: =SUM('Ալ. Հարությունյան:Ս.Հովակիմյան'!H9) -> 3528 | I9: =SUM('Ալ. Հարությունյան:Ս.Հովակիմյան'!I9) -> 2548 | J9: =SUM('Ալ. Հարությունյան:Ս.Հովակիմյան'!J9) -> 771 | ... AP9: =SUM('Ալ. Հարությունյան:Ս.Հովակիմյան'!AP9) -> 0 | AQ9: =C9 -> 1559 | AR9: =E9+F9+G9+D9 -> 1559 | AS9: =H9 -> 3528 | AT9: =I9+J9+K9 -> 3528 | AU9: =D9+E9+I9 -> 4107 | AV9: =L9+V9+W9+Y9 -> 4107 | AW9: =M9 -> 2332 | AX9: =N9+O9+P9+Q9 -> 2332 | AY9: =R9 -> 317 | AZ9: =S9+T9+U9 -> 317 | BA9: =V9 -> 2649 | BB9: =M9+R9 -> 2649 | BC9: =AC9 -> 811 | BD9: =AA9+AB9 -> 811 | BE9: =AC9 -> 811 | BF9: =AD9+AE9 -> 811 | BG9: =AJ9 -> 63 | BH9: =AH9+AI9 -> 63 | BI9: =AJ9 -> 63 | BJ9: =AK9+AL9 -> 63
A10: 1.2 | B10: î»Õ³Ï³Ý ÇÝùÝ³Ï³é³í³ñÙ³Ý Ù³ñÙÇÝÝ»ñÇ áõ ¹ñ³Ýó å³ßïáÝ³ï³ñ ³ÝÓ³Ýó ³Ïï»ñÝ ³Ýí³í»ñ ×³Ý³ã»Éáõ Ñ»ï Ï³åí³Í Çñ³í³Ñ³ñ³µ»ñáõÃÛáõÝÝ»ñÇ í»ñ³µ»ñÛ³É ¹³ï³Ï³Ý ·áñÍ»ñ | C10: =SUM('Ալ. Հարությունյան:Ս.Հովակիմյան'!C10) -> 382 | D10: =SUM('Ալ. Հարությունյան:Ս.Հովակիմյան'!D10) -> 11 | E10: =SUM('Ալ. Հարությունյան:Ս.Հովակիմյան'!E10) -> 371 | F10: =SUM('Ալ. Հարությունյան:Ս.Հովակիմյան'!F10) -> 0 | G10: =SUM('Ալ. Հարությունյան:Ս.Հովակիմյան'!G10) -> 0 | H10: =SUM('Ալ. Հարությունյան:Ս.Հովակիմյան'!H10) -> 946 | I10: =SUM('Ալ. Հարությունյան:Ս.Հովակիմյան'!I10) -> 813 | J10: =SUM('Ալ. Հարությունյան:Ս.Հովակիմյան'!J10) -> 66 | ... AP10: =SUM('Ալ. Հարությունյան:Ս.Հովակիմյան'!AP10) -> 0 | AQ10: =C10 -> 382 | AR10: =E10+F10+G10+D10 -> 382 | AS10: =H10 -> 946 | AT10: =I10+J10+K10 -> 946 | AU10: =D10+E10+I10 -> 1195 | AV10: =L10+V10+W10+Y10 -> 1195 | AW10: =M10 -> 367 | AX10: =N10+O10+P10+Q10 -> 367 | AY10: =R10 -> 188 | AZ10: =S10+T10+U10 -> 188 | BA10: =V10 -> 555 | BB10: =M10+R10 -> 555 | BC10: =AC10 -> 208 | BD10: =AA10+AB10 -> 208 | BE10: =AC10 -> 208 | BF10: =AD10+AE10 -> 208 | BG10: =AJ10 -> 18 | BH10: =AH10+AI10 -> 18 | BI10: =AJ10 -> 18 | BJ10: =AK10+AL10 -> 18
A11: 2 | B11: ä»ï³Ï³Ý Ù³ñÙÇÝÝ»ñÇ, ï»Õ³Ï³Ý ÇÝùÝ³Ï³é³í³ñÙ³Ý Ù³ñÙÇÝÝ»ñÇ ¨ ¹ñ³Ýó å³ßïáÝ³ï³ñ ³ÝÓ³Ýó ·áñÍáÕáõÃÛáõÝÝ»ñÁ /³Ý·áñÍáõÃÛáõÝÁ/ íÇ×³ñÏ»Éáõ Ñ»ï Ï³åí³Í Çñ³í³Ñ³ñ³µ»ñáõÃÛáõÝÝ»ñÇ í»ñ³µ»ñÛ³É ¹³ï³Ï³Ý ·áñÍ»ñ | C11: =SUM('Ալ. Հարությունյան:Ս.Հովակիմյան'!C11) -> 569 | D11: =SUM('Ալ. Հարությունյան:Ս.Հովակիմյան'!D11) -> 24 | E11: =SUM('Ալ. Հարությունյան:Ս.Հովակիմյան'!E11) -> 545 | F11: =SUM('Ալ. Հարությունյան:Ս.Հովակիմյան'!F11) -> 0 | G11: =SUM('Ալ. Հարությունյան:Ս.Հովակիմյան'!G11) -> 0 | H11: =SUM('Ալ. Հարությունյան:Ս.Հովակիմյան'!H11) -> 853 | I11: =SUM('Ալ. Հարությունյան:Ս.Հովակիմյան'!I11) -> 622 | J11: =SUM('Ալ. Հարությունյան:Ս.Հովակիմյան'!J11) -> 97 | ... AP11: =SUM('Ալ. Հարությունյան:Ս.Հովակիմյան'!AP11) -> 0 | AQ11: =SUM(AQ12:AQ13) -> 569 | AR11: =SUM(AR12:AR13) -> 569 | AS11: =SUM(AS12:AS13) -> 853 | AT11: =SUM(AT12:AT13) -> 853 | AU11: =SUM(AU12:AU13) -> 1191 | AV11: =SUM(AV12:AV13) -> 1191 | AW11: =SUM(AW12:AW13) -> 394 | AX11: =SUM(AX12:AX13) -> 394 | ... BJ11: =SUM(BJ12:BJ13) -> 25
A12: 2.1 | B12: ä»ï³Ï³Ý Ù³ñÙÇÝÝ»ñÇ ¨ ¹ñ³Ýó å³ßïáÝ³ï³ñ ³ÝÓ³Ýó ·áñÍáÕáõÃÛáõÝÝ»ñÁ /³Ý·áñÍáõÃÛáõÝÁ/ íÇ×³ñÏ»Éáõ Ñ»ï Ï³åí³Í Çñ³í³Ñ³ñ³µ»ñáõÃÛáõÝÝ»ñÇ í»ñ³µ»ñÛ³É ¹³ï³Ï³Ý ·áñÍ»ñ | C12: =SUM('Ալ. Հարությունյան:Ս.Հովակիմյան'!C12) -> 415 | D12: =SUM('Ալ. Հարությունյան:Ս.Հովակիմյան'!D12) -> 17 | E12: =SUM('Ալ. Հարությունյան:Ս.Հովակիմյան'!E12) -> 398 | F12: =SUM('Ալ. Հարությունյան:Ս.Հովակիմյան'!F12) -> 0 | G12: =SUM('Ալ. Հարությունյան:Ս.Հովակիմյան'!G12) -> 0 | H12: =SUM('Ալ. Հարությունյան:Ս.Հովակիմյան'!H12) -> 644 | I12: =SUM('Ալ. Հարությունյան:Ս.Հովակիմյան'!I12) -> 455 | J12: =SUM('Ալ. Հարությունյան:Ս.Հովակիմյան'!J12) -> 81 | ... AP12: =SUM('Ալ. Հարությունյան:Ս.Հովակիմյան'!AP12) -> 0 | AQ12: =C12 -> 415 | AR12: =E12+F12+G12+D12 -> 415 | AS12: =H12 -> 644 | AT12: =I12+J12+K12 -> 644 | AU12: =D12+E12+I12 -> 870 | AV12: =L12+V12+W12+Y12 -> 870 | AW12: =M12 -> 296 | AX12: =N12+O12+P12+Q12 -> 296 | AY12: =R12 -> 179 | AZ12: =S12+T12+U12 -> 179 | BA12: =V12 -> 475 | BB12: =M12+R12 -> 475 | BC12: =AC12 -> 180 | BD12: =AA12+AB12 -> 180 | BE12: =AC12 -> 180 | BF12: =AD12+AE12 -> 180 | BG12: =AJ12 -> 16 | BH12: =AH12+AI12 -> 16 | BI12: =AJ12 -> 16 | BJ12: =AK12+AL12 -> 16
A13: 2.2 | B13: î»Õ³Ï³Ý ÇÝùÝ³Ï³é³í³ñÙ³Ý Ù³ñÙÇÝÝ»ñÇ áõ ¹ñ³Ýó å³ßïáÝ³ï³ñ ³ÝÓ³Ýó ·áñÍáÕáõÃÛáõÝÝ»ñÁ /³Ý·áñÍáõÃÛáõÝÁ/ íÇ×³ñÏ»Éáõ Ñ»ï Ï³åí³Í Çñ³í³Ñ³ñ³µ»ñáõÃÛáõÝÝ»ñÇ í»ñ³µ»ñÛ³É ¹³ï³Ï³Ý ·áñÍ»ñ | C13: =SUM('Ալ. Հարությունյան:Ս.Հովակիմյան'!C13) -> 154 | D13: =SUM('Ալ. Հարությունյան:Ս.Հովակիմյան'!D13) -> 7 | E13: =SUM('Ալ. Հարությունյան:Ս.Հովակիմյան'!E13) -> 147 | F13: =SUM('Ալ. Հարությունյան:Ս.Հովակիմյան'!F13) -> 0 | G13: =SUM('Ալ. Հարությունյան:Ս.Հովակիմյան'!G13) -> 0 | H13: =SUM('Ալ. Հարությունյան:Ս.Հովակիմյան'!H13) -> 209 | I13: =SUM('Ալ. Հարությունյան:Ս.Հովակիմյան'!I13) -> 167 | J13: =SUM('Ալ. Հարությունյան:Ս.Հովակիմյան'!J13) -> 16 | ... AP13: =SUM('Ալ. Հարությունյան:Ս.Հովակիմյան'!AP13) -> 0 | AQ13: =C13 -> 154 | AR13: =E13+F13+G13+D13 -> 154 | AS13: =H13 -> 209 | AT13: =I13+J13+K13 -> 209 | AU13: =D13+E13+I13 -> 321 | AV13: =L13+V13+W13+Y13 -> 321 | AW13: =M13 -> 98 | AX13: =N13+O13+P13+Q13 -> 98 | AY13: =R13 -> 42 | AZ13: =S13+T13+U13 -> 42 | BA13: =V13 -> 140 | BB13: =M13+R13 -> 140 | BC13: =AC13 -> 56 | BD13: =AA13+AB13 -> 56 | BE13: =AC13 -> 56 | BF13: =AD13+AE13 -> 56 | BG13: =AJ13 -> 9 | BH13: =AH13+AI13 -> 9 | BI13: =AJ13 -> 9 | BJ13: =AK13+AL13 -> 9
A14: 3 | B14: üÇ½ÇÏ³Ï³Ý Ï³Ù Çñ³í³µ³Ý³Ï³Ý ³ÝÓÇÝ ¹ñ³Ù³Ï³Ý å³Ñ³ÝçÝ»ñÁ Ï³ï³ñ»ÉáõÝ å³ñï³íáñ»óÝ»Éáõ Ñ»ï Ï³åí³Í Çñ³í³Ñ³ñ³µ»ñáõÃÛáõÝÝ»ñÇ í»ñ³µ»ñÛ³É ¹³ï³Ï³Ý ·áñÍ»ñ | C14: =SUM('Ալ. Հարությունյան:Ս.Հովակիմյան'!C14) -> 1382 | D14: =SUM('Ալ. Հարությունյան:Ս.Հովակիմյան'!D14) -> 55 | E14: =SUM('Ալ. Հարությունյան:Ս.Հովակիմյան'!E14) -> 1327 | F14: =SUM('Ալ. Հարությունյան:Ս.Հովակիմյան'!F14) -> 0 | G14: =SUM('Ալ. Հարությունյան:Ս.Հովակիմյան'!G14) -> 0 | H14: =SUM('Ալ. Հարությունյան:Ս.Հովակիմյան'!H14) -> 2420 | I14: =SUM('Ալ. Հարությունյան:Ս.Հովակիմյան'!I14) -> 2113 | J14: =SUM('Ալ. Հարությունյան:Ս.Հովակիմյան'!J14) -> 159 | ... AP14: =SUM('Ալ. Հարությունյան:Ս.Հովակիմյան'!AP14) -> 0 | AQ14: =SUM(AQ15:AQ16) -> 1382 | AR14: =SUM(AR15:AR16) -> 1382 | AS14: =SUM(AS15:AS16) -> 2420 | AT14: =SUM(AT15:AT16) -> 2420 | AU14: =SUM(AU15:AU16) -> 3495 | AV14: =SUM(AV15:AV16) -> 3495 | AW14: =SUM(AW15:AW16) -> 1047 | AX14: =SUM(AX15:AX16) -> 1047 | ... BJ14: =SUM(BJ15:BJ16) -> 31
A15: 3.1 | B15: ì³ñã³Ï³Ý ³ÏïÇ ÑÇÙ³Ý íñ³ ýÇ½ÇÏ³Ï³Ý Ï³Ù Çñ³í³µ³Ý³Ï³Ý ³ÝÓÇó µéÝ³·³ÝÓáõÙ Çñ³Ï³Ý³óÝ»Éáõ Ñ»ï Ï³åí³Í Çñ³í³Ñ³ñ³µ»ñáõÃÛáõÝÝ»ñÇ í»ñ³µ»ñÛ³É ¹³ï³Ï³Ý ·áñÍ»ñ | C15: =SUM('Ալ. Հարությունյան:Ս.Հովակիմյան'!C15) -> 643 | D15: =SUM('Ալ. Հարությունյան:Ս.Հովակիմյան'!D15) -> 34 | E15: =SUM('Ալ. Հարությունյան:Ս.Հովակիմյան'!E15) -> 609 | F15: =SUM('Ալ. Հարությունյան:Ս.Հովակիմյան'!F15) -> 0 | G15: =SUM('Ալ. Հարությունյան:Ս.Հովակիմյան'!G15) -> 0 | H15: =SUM('Ալ. Հարությունյան:Ս.Հովակիմյան'!H15) -> 1409 | I15: =SUM('Ալ. Հարությունյան:Ս.Հովակիմյան'!I15) -> 1324 | J15: =SUM('Ալ. Հարությունյան:Ս.Հովակիմյան'!J15) -> 37 | ... AP15: =SUM('Ալ. Հարությունյան:Ս.Հովակիմյան'!AP15) -> 0 | AQ15: =C15 -> 643 | AR15: =E15+F15+G15+D15 -> 643 | AS15: =H15 -> 1409 | AT15: =I15+J15+K15 -> 1409 | AU15: =D15+E15+I15 -> 1967 | AV15: =L15+V15+W15+Y15 -> 1967 | AW15: =M15 -> 506 | AX15: =N15+O15+P15+Q15 -> 506 | AY15: =R15 -> 146 | AZ15: =S15+T15+U15 -> 146 | BA15: =V15 -> 652 | BB15: =M15+R15 -> 652 | BC15: =AC15 -> 62 | BD15: =AA15+AB15 -> 62 | BE15: =AC15 -> 62 | BF15: =AD15+AE15 -> 62 | BG15: =AJ15 -> 5 | BH15: =AH15+AI15 -> 5 | BI15: =AJ15 -> 5 | BJ15: =AK15+AL15 -> 5
A16: 3.2 | B16: ¸ñ³Ù³Ï³Ý å³ñï³íáñáõÃÛáõÝÝ»ñÁ Ï³ï³ñ»ÉáõÝ å³ñï³íáñ»óÝ»Éáõ Ñ»ï Ï³åí³Í Çñ³í³Ñ³ñ³µ»ñáõÃÛáõÝÝ»ñÇ í»ñ³µ»ñÛ³É ¹³ï³Ï³Ý ·áñÍ»ñ | C16: =SUM('Ալ. Հարությունյան:Ս.Հովակիմյան'!C16) -> 739 | D16: =SUM('Ալ. Հարությունյան:Ս.Հովակիմյան'!D16) -> 21 | E16: =SUM('Ալ. Հարությունյան:Ս.Հովակիմյան'!E16) -> 718 | F16: =SUM('Ալ. Հարությունյան:Ս.Հովակիմյան'!F16) -> 0 | G16: =SUM('Ալ. Հարությունյան:Ս.Հովակիմյան'!G16) -> 0 | H16: =SUM('Ալ. Հարությունյան:Ս.Հովակիմյան'!H16) -> 1011 | I16: =SUM('Ալ. Հարությունյան:Ս.Հովակիմյան'!I16) -> 789 | J16: =SUM('Ալ. Հարությունյան:Ս.Հովակիմյան'!J16) -> 122 | ... AP16: =SUM('Ալ. Հարությունյան:Ս.Հովակիմյան'!AP16) -> 0 | AQ16: =C16 -> 739 | AR16: =E16+F16+G16+D16 -> 739 | AS16: =H16 -> 1011 | AT16: =I16+J16+K16 -> 1011 | AU16: =D16+E16+I16 -> 1528 | AV16: =L16+V16+W16+Y16 -> 1528 | AW16: =M16 -> 541 | AX16: =N16+O16+P16+Q16 -> 541 | AY16: =R16 -> 155 | AZ16: =S16+T16+U16 -> 155 | BA16: =V16 -> 696 | BB16: =M16+R16 -> 696 | BC16: =AC16 -> 178 | BD16: =AA16+AB16 -> 178 | BE16: =AC16 -> 178 | BF16: =AD16+AE16 -> 178 | BG16: =AJ16 -> 26 | BH16: =AH16+AI16 -> 26 | BI16: =AJ16 -> 26 | BJ16: =AK16+AL16 -> 26
A17: 4 | B17: ì×³ñÙ³Ý Ï³ñ·³¹ñáõÃÛáõÝÇó Ñ³Ûó³ÛÇÝ í³ñáõÛÃÇ ³ÝóÝ»Éáõ í»ñ³µ»ñÛ³É ¹³ï³Ï³Ý ·áñÍ»ñ | C17: =SUM('Ալ. Հարությունյան:Ս.Հովակիմյան'!C17) -> 260 | D17: =SUM('Ալ. Հարությունյան:Ս.Հովակիմյան'!D17) -> 58 | E17: =SUM('Ալ. Հարությունյան:Ս.Հովակիմյան'!E17) -> 202 | F17: =SUM('Ալ. Հարությունյան:Ս.Հովակիմյան'!F17) -> 0 | G17: =SUM('Ալ. Հարությունյան:Ս.Հովակիմյան'!G17) -> 0 | H17: =SUM('Ալ. Հարությունյան:Ս.Հովակիմյան'!H17) -> 1491 | I17: =SUM('Ալ. Հարությունյան:Ս.Հովակիմյան'!I17) -> 1487 | J17: =SUM('Ալ. Հարությունյան:Ս.Հովակիմյան'!J17) -> 4 | ... AP17: =SUM('Ալ. Հարությունյան:Ս.Հովակիմյան'!AP17) -> 0 | AQ17: =C17 -> 260 | AR17: =E17+F17+G17+D17 -> 260 | AS17: =H17 -> 1491 | AT17: =I17+J17+K17 -> 1491 | AU17: =D17+E17+I17 -> 1747 | AV17: =L17+V17+W17+Y17 -> 1747 | AW17: =M17 -> 637 | AX17: =N17+O17+P17+Q17 -> 637 | AY17: =R17 -> 650 | AZ17: =S17+T17+U17 -> 650 | BA17: =V17 -> 1287 | BB17: =M17+R17 -> 1287 | BC17: =AC17 -> 93 | BD17: =AA17+AB17 -> 93 | BE17: =AC17 -> 93 | BF17: =AD17+AE17 -> 93 | BG17: =AJ17 -> 13 | BH17: =AH17+AI17 -> 13 | BI17: =AJ17 -> 13 | BJ17: =AK17+AL17 -> 13
A18: 5 | B18: Üáï³ñ³Ï³Ý ·áñÍáÕáõÃÛáõÝÝ»ñÁ Ï³Ù Ýáï³ñÇ ³Ý·áñÍáõÃÛáõÝÁ íÇ×³ñÏ»Éáõ Ñ»ï Ï³åí³Í Çñ³í³Ñ³ñ³µ»ñáõÃÛáõÝÝ»ñÇ í»ñ³µ»ñÛ³É ¹³ï³Ï³Ý ·áñÍ»ñ | C18: =SUM('Ալ. Հարությունյան:Ս.Հովակիմյան'!C18) -> 23 | D18: =SUM('Ալ. Հարությունյան:Ս.Հովակիմյան'!D18) -> 2 | E18: =SUM('Ալ. Հարությունյան:Ս.Հովակիմյան'!E18) -> 21 | F18: =SUM('Ալ. Հարությունյան:Ս.Հովակիմյան'!F18) -> 0 | G18: =SUM('Ալ. Հարությունյան:Ս.Հովակիմյան'!G18) -> 0 | H18: =SUM('Ալ. Հարությունյան:Ս.Հովակիմյան'!H18) -> 44 | I18: =SUM('Ալ. Հարությունյան:Ս.Հովակիմյան'!I18) -> 29 | J18: =SUM('Ալ. Հարությունյան:Ս.Հովակիմյան'!J18) -> 4 | ... AP18: =SUM('Ալ. Հարությունյան:Ս.Հովակիմյան'!AP18) -> 0 | AQ18: =C18 -> 23 | AR18: =E18+F18+G18+D18 -> 23 | AS18: =H18 -> 44 | AT18: =I18+J18+K18 -> 44 | AU18: =D18+E18+I18 -> 52 | AV18: =L18+V18+W18+Y18 -> 52 | AW18: =M18 -> 18 | AX18: =N18+O18+P18+Q18 -> 18 | AY18: =R18 -> 8 | AZ18: =S18+T18+U18 -> 8 | BA18: =V18 -> 26 | BB18: =M18+R18 -> 26 | BC18: =AC18 -> 19 | BD18: =AA18+AB18 -> 19 | BE18: =AC18 -> 19 | BF18: =AD18+AE18 -> 19 | BG18: =AJ18 -> 7 | BH18: =AH18+AI18 -> 7 | BI18: =AJ18 -> 7 | BJ18: =AK18+AL18 -> 7
A19: 6 | B19: ÜáñÙ³ïÇí Çñ³í³Ï³Ý ³Ïï»ñÇ Çñ³í³ã³÷áõÃÛáõÝÁ íÇ×³ñÏ»Éáõ Ñ»ï Ï³åí³Í Çñ³í³Ñ³ñ³µ»ñáõÃÛáõÝÝ»ñÇ í»ñ³µ»ñÛ³É ¹³ï³Ï³Ý ·áñÍ»ñ | C19: =SUM('Ալ. Հարությունյան:Ս.Հովակիմյան'!C19) -> 3 | D19: =SUM('Ալ. Հարությունյան:Ս.Հովակիմյան'!D19) -> 0 | E19: =SUM('Ալ. Հարությունյան:Ս.Հովակիմյան'!E19) -> 3 | F19: =SUM('Ալ. Հարությունյան:Ս.Հովակիմյան'!F19) -> 0 | G19: =SUM('Ալ. Հարությունյան:Ս.Հովակիմյան'!G19) -> 0 | H19: =SUM('Ալ. Հարությունյան:Ս.Հովակիմյան'!H19) -> 6 | I19: =SUM('Ալ. Հարությունյան:Ս.Հովակիմյան'!I19) -> 3 | J19: =SUM('Ալ. Հարությունյան:Ս.Հովակիմյան'!J19) -> 2 | ... AP19: =SUM('Ալ. Հարությունյան:Ս.Հովակիմյան'!AP19) -> 0 | AQ19: =SUM(AQ20:AQ26) -> 3 | AR19: =SUM(AR20:AR26) -> 3 | AS19: =SUM(AS20:AS26) -> 6 | AT19: =SUM(AT20:AT26) -> 6 | AU19: =SUM(AU20:AU26) -> 6 | AV19: =L19+V19+W19+Y19 -> 6 | AW19: =SUM(AW20:AW26) -> 1 | AX19: =SUM(AX20:AX26) -> 1 | AY19: =SUM(AY20:AY26) -> 2 | AZ19: =SUM(AZ20:AZ26) -> 2 | BA19: =SUM(BA20:BA26) -> 3 | BB19: =SUM(BB20:BB26) -> 3 | BC19: =SUM(BC20:BC26) -> 9 | BD19: =SUM(BD20:BD26) -> 9 | ... BJ19: =SUM(BJ20:BJ26) -> 0
A20: 6.1 | B20: ¶»ñ³ï»ëã³Ï³Ý ÝáñÙ³ïÇí Çñ³í³Ï³Ý ³Ïï»ñÇª ÐÐ ê³ÑÙ³Ý³¹ñáõÃÛ³ÝÁ Ñ³Ù³å³ï³ëË³ÝáõÃÛáõÝÁ íÇ×³ñÏ»Éáõ í»ñ³µ»ñÛ³É | C20: =SUM('Ալ. Հարությունյան:Ս.Հովակիմյան'!C20) -> 0 | D20: =SUM('Ալ. Հարությունյան:Ս.Հովակիմյան'!D20) -> 0 | E20: =SUM('Ալ. Հարությունյան:Ս.Հովակիմյան'!E20) -> 0 | F20: =SUM('Ալ. Հարությունյան:Ս.Հովակիմյան'!F20) -> 0 | G20: =SUM('Ալ. Հարությունյան:Ս.Հովակիմյան'!G20) -> 0 | H20: =SUM('Ալ. Հարությունյան:Ս.Հովակիմյան'!H20) -> 0 | I20: =SUM('Ալ. Հարությունյան:Ս.Հովակիմյան'!I20) -> 0 | J20: =SUM('Ալ. Հարությունյան:Ս.Հովակիմյան'!J20) -> 0 | ... AP20: =SUM('Ալ. Հարությունյան:Ս.Հովակիմյան'!AP20) -> 0 | AQ20: =C20 -> 0 | AR20: =E20+F20+G20+D20 -> 0 | AS20: =H20 -> 0 | AT20: =I20+J20+K20 -> 0 | AU20: =D20+E20+I20 -> 0 | AV20: =L20+V20+W20+Y20 -> 0 | AW20: =M20 -> 0 | AX20: =N20+O20+P20+Q20 -> 0 | AY20: =R20 -> 0 | AZ20: =S20+T20+U20 -> 0 | BA20: =V20 -> 0 | BB20: =M20+R20 -> 0 | BC20: =AC20 -> 0 | BD20: =AA20+AB20 -> 0 | BE20: =AC20 -> 0 | BF20: =AD20+AE20 -> 0 | BG20: =AJ20 -> 0 | BH20: =AH20+AI20 -> 0 | BI20: =AJ20 -> 0 | BJ20: =AK20+AL20 -> 0
A21: 6.2 | B21: Ü³Ë³·³ÑÇ ÝáñÙ³ïÇí µÝáõÛÃ áõÝ»óáÕ ³Ïï»ñÇ` ³í»ÉÇ µ³ñÓñ Çñ³í³µ³Ý³Ï³Ý áõÅ áõÝ»óáÕ ÝáñÙ³ïÇí ³Ïï»ñÇÝ Ñ³Ù³å³ï³ëË³ÝáõÃÛáõÝÁ íÇ×³ñÏ»Éáõ í»ñ³µ»ñÛ³É | C21: =SUM('Ալ. Հարությունյան:Ս.Հովակիմյան'!C21) -> 0 | D21: =SUM('Ալ. Հարությունյան:Ս.Հովակիմյան'!D21) -> 0 | E21: =SUM('Ալ. Հարությունյան:Ս.Հովակիմյան'!E21) -> 0 | F21: =SUM('Ալ. Հարությունյան:Ս.Հովակիմյան'!F21) -> 0 | G21: =SUM('Ալ. Հարությունյան:Ս.Հովակիմյան'!G21) -> 0 | H21: =SUM('Ալ. Հարությունյան:Ս.Հովակիմյան'!H21) -> 0 | I21: =SUM('Ալ. Հարությունյան:Ս.Հովակիմյան'!I21) -> 0 | J21: =SUM('Ալ. Հարությունյան:Ս.Հովակիմյան'!J21) -> 0 | ... AP21: =SUM('Ալ. Հարությունյան:Ս.Հովակիմյան'!AP21) -> 0 | AQ21: =C21 -> 0 | AR21: =E21+F21+G21+D21 -> 0 | AS21: =H21 -> 0 | AT21: =I21+J21+K21 -> 0 | AU21: =D21+E21+I21 -> 0 | AV21: =L21+V21+W21+Y21 -> 0 | AW21: =M21 -> 0 | AX21: =N21+O21+P21+Q21 -> 0 | AY21: =R21 -> 0 | AZ21: =S21+T21+U21 -> 0 | BA21: =V21 -> 0 | BB21: =M21+R21 -> 0 | BC21: =AC21 -> 0 | BD21: =AA21+AB21 -> 0 | BE21: =AC21 -> 0 | BF21: =AD21+AE21 -> 0 | BG21: =AJ21 -> 0 | BH21: =AH21+AI21 -> 0 | BI21: =AJ21 -> 0 | BJ21: =AK21+AL21 -> 0
A22: 6.3 | B22: Î³é³í³ñáõÃÛ³Ý ÝáñÙ³ïÇí áñáßáõÙÝ»ñÇ`³í»ÉÇ µ³ñÓñ Çñ³í³µ³Ý³Ï³Ý áõÅ áõÝ»óáÕ ÝáñÙ³ïÇí ³Ïï»ñÇÝ Ñ³Ù³å³ï³ëË³ÝáõÃÛáõÝÁ íÇ×³ñÏ»Éáõ í»ñ³µ»ñÛ³É | C22: =SUM('Ալ. Հարությունյան:Ս.Հովակիմյան'!C22) -> 2 | D22: =SUM('Ալ. Հարությունյան:Ս.Հովակիմյան'!D22) -> 0 | E22: =SUM('Ալ. Հարությունյան:Ս.Հովակիմյան'!E22) -> 2 | F22: =SUM('Ալ. Հարությունյան:Ս.Հովակիմյան'!F22) -> 0 | G22: =SUM('Ալ. Հարությունյան:Ս.Հովակիմյան'!G22) -> 0 | H22: =SUM('Ալ. Հարությունյան:Ս.Հովակիմյան'!H22) -> 6 | I22: =SUM('Ալ. Հարությունյան:Ս.Հովակիմյան'!I22) -> 3 | J22: =SUM('Ալ. Հարությունյան:Ս.Հովակիմյան'!J22) -> 2 | ... AP22: =SUM('Ալ. Հարությունյան:Ս.Հովակիմյան'!AP22) -> 0 | AQ22: =C22 -> 2 | AR22: =E22+F22+G22+D22 -> 2 | AS22: =H22 -> 6 | AT22: =I22+J22+K22 -> 6 | AU22: =D22+E22+I22 -> 5 | AV22: =L22+V22+W22+Y22 -> 5 | AW22: =M22 -> 0 | AX22: =N22+O22+P22+Q22 -> 0 | AY22: =R22 -> 2 | AZ22: =S22+T22+U22 -> 2 | BA22: =V22 -> 2 | BB22: =M22+R22 -> 2 | BC22: =AC22 -> 8 | BD22: =AA22+AB22 -> 8 | BE22: =AC22 -> 8 | BF22: =AD22+AE22 -> 8 | BG22: =AJ22 -> 0 | BH22: =AH22+AI22 -> 0 | BI22: =AJ22 -> 0 | BJ22: =AK22+AL22 -> 0
A23: 6.4 | B23: ì³ñã³å»ïÇ ÝáñÙ³ïÇí áñáßáõÙÝ»ñÇ` ³í»ÉÇ µ³ñÓñ Çñ³í³µ³Ý³Ï³Ý áõÅ áõÝ»óáÕ ÝáñÙ³ïÇí ³Ïï»ñÇÝ Ñ³Ù³å³ï³ëË³ÝáõÃÛáõÝÁ íÇ×³ñÏ»Éáõ í»ñ³µ»ñÛ³É | C23: =SUM('Ալ. Հարությունյան:Ս.Հովակիմյան'!C23) -> 0 | D23: =SUM('Ալ. Հարությունյան:Ս.Հովակիմյան'!D23) -> 0 | E23: =SUM('Ալ. Հարությունյան:Ս.Հովակիմյան'!E23) -> 0 | F23: =SUM('Ալ. Հարությունյան:Ս.Հովակիմյան'!F23) -> 0 | G23: =SUM('Ալ. Հարությունյան:Ս.Հովակիմյան'!G23) -> 0 | H23: =SUM('Ալ. Հարությունյան:Ս.Հովակիմյան'!H23) -> 0 | I23: =SUM('Ալ. Հարությունյան:Ս.Հովակիմյան'!I23) -> 0 | J23: =SUM('Ալ. Հարությունյան:Ս.Հովակիմյան'!J23) -> 0 | ... AP23: =SUM('Ալ. Հարությունյան:Ս.Հովակիմյան'!AP23) -> 0 | AQ23: =C23 -> 0 | AR23: =E23+F23+G23+D23 -> 0 | AS23: =H23 -> 0 | AT23: =I23+J23+K23 -> 0 | AU23: =D23+E23+I23 -> 0 | AV23: =L23+V23+W23+Y23 -> 0 | AW23: =M23 -> 0 | AX23: =N23+O23+P23+Q23 -> 0 | AY23: =R23 -> 0 | AZ23: =S23+T23+U23 -> 0 | BA23: =V23 -> 0 | BB23: =M23+R23 -> 0 | BC23: =AC23 -> 0 | BD23: =AA23+AB23 -> 0 | BE23: =AC23 -> 0 | BF23: =AD23+AE23 -> 0 | BG23: =AJ23 -> 0 | BH23: =AH23+AI23 -> 0 | BI23: =AJ23 -> 0 | BJ23: =AK23+AL23 -> 0
A24: 6.5 | B24: ¶»ñ³ï»ëã³Ï³Ý ÝáñÙ³ïÇí Çñ³í³Ï³Ý ³Ïï»ñÇ` ³í»ÉÇ µ³ñÓñ Çñ³í³µ³Ý³Ï³Ý áõÅ áõÝ»óáÕ ÝáñÙ³ïÇí ³Ïï»ñÇÝ Ñ³Ù³å³ï³ëË³ÝáõÃÛáõÝÁ íÇ×³ñÏ»Éáõ í»ñ³µ»ñÛ³É | C24: =SUM('Ալ. Հարությունյան:Ս.Հովակիմյան'!C24) -> 0 | D24: =SUM('Ալ. Հարությունյան:Ս.Հովակիմյան'!D24) -> 0 | E24: =SUM('Ալ. Հարությունյան:Ս.Հովակիմյան'!E24) -> 0 | F24: =SUM('Ալ. Հարությունյան:Ս.Հովակիմյան'!F24) -> 0 | G24: =SUM('Ալ. Հարությունյան:Ս.Հովակիմյան'!G24) -> 0 | H24: =SUM('Ալ. Հարությունյան:Ս.Հովակիմյան'!H24) -> 0 | I24: =SUM('Ալ. Հարությունյան:Ս.Հովակիմյան'!I24) -> 0 | J24: =SUM('Ալ. Հարությունյան:Ս.Հովակիմյան'!J24) -> 0 | ... AP24: =SUM('Ալ. Հարությունյան:Ս.Հովակիմյան'!AP24) -> 0 | AQ24: =C24 -> 0 | AR24: =E24+F24+G24+D24 -> 0 | AS24: =H24 -> 0 | AT24: =I24+J24+K24 -> 0 | AU24: =D24+E24+I24 -> 0 | AV24: =L24+V24+W24+Y24 -> 0 | AW24: =M24 -> 0 | AX24: =N24+O24+P24+Q24 -> 0 | AY24: =R24 -> 0 | AZ24: =S24+T24+U24 -> 0 | BA24: =V24 -> 0 | BB24: =M24+R24 -> 0 | BC24: =AC24 -> 0 | BD24: =AA24+AB24 -> 0 | BE24: =AC24 -> 0 | BF24: =AD24+AE24 -> 0 | BG24: =AJ24 -> 0 | BH24: =AH24+AI24 -> 0 | BI24: =AJ24 -> 0 | BJ24: =AK24+AL24 -> 0
A25: 6.6 | B25: Ð³Ù³ÛÝùÇ ³í³·³Ýáõ áñáßáõÙÝ»ñÇ` ³í»ÉÇ µ³ñÓñ Çñ³í³µ³Ý³Ï³Ý áõÅ áõÝ»óáÕ ÝáñÙ³ïÇí ³Ïï»ñÇÝ Ñ³Ù³å³ï³ëË³ÝáõÃÛáõÝÁ íÇ×³ñÏ»Éáõ í»ñ³µ»ñÛ³É | C25: =SUM('Ալ. Հարությունյան:Ս.Հովակիմյան'!C25) -> 1 | D25: =SUM('Ալ. Հարությունյան:Ս.Հովակիմյան'!D25) -> 0 | E25: =SUM('Ալ. Հարությունյան:Ս.Հովակիմյան'!E25) -> 1 | F25: =SUM('Ալ. Հարությունյան:Ս.Հովակիմյան'!F25) -> 0 | G25: =SUM('Ալ. Հարությունյան:Ս.Հովակիմյան'!G25) -> 0 | H25: =SUM('Ալ. Հարությունյան:Ս.Հովակիմյան'!H25) -> 0 | I25: =SUM('Ալ. Հարությունյան:Ս.Հովակիմյան'!I25) -> 0 | J25: =SUM('Ալ. Հարությունյան:Ս.Հովակիմյան'!J25) -> 0 | ... AP25: =SUM('Ալ. Հարությունյան:Ս.Հովակիմյան'!AP25) -> 0 | AQ25: =C25 -> 1 | AR25: =E25+F25+G25+D25 -> 1 | AS25: =H25 -> 0 | AT25: =I25+J25+K25 -> 0 | AU25: =D25+E25+I25 -> 1 | AV25: =L25+V25+W25+Y25 -> 1 | AW25: =M25 -> 1 | AX25: =N25+O25+P25+Q25 -> 1 | AY25: =R25 -> 0 | AZ25: =S25+T25+U25 -> 0 | BA25: =V25 -> 1 | BB25: =M25+R25 -> 1 | BC25: =AC25 -> 1 | BD25: =AA25+AB25 -> 1 | BE25: =AC25 -> 1 | BF25: =AD25+AE25 -> 1 | BG25: =AJ25 -> 0 | BH25: =AH25+AI25 -> 0 | BI25: =AJ25 -> 0 | BJ25: =AK25+AL25 -> 0
A26: 6.7 | B26: Ð³Ù³ÛÝùÇ Õ»Ï³í³ñÇ áñáßáõÙÝ»ñÇ` ³í»ÉÇ µ³ñÓñ Çñ³í³µ³Ý³Ï³Ý áõÅ áõÝ»óáÕ ÝáñÙ³ïÇí ³Ïï»ñÇÝ Ñ³Ù³å³ï³ëË³ÝáõÃÛáõÝÁ íÇ×³ñÏ»Éáõ í»ñ³µ»ñÛ³É | C26: =SUM('Ալ. Հարությունյան:Ս.Հովակիմյան'!C26) -> 0 | D26: =SUM('Ալ. Հարությունյան:Ս.Հովակիմյան'!D26) -> 0 | E26: =SUM('Ալ. Հարությունյան:Ս.Հովակիմյան'!E26) -> 0 | F26: =SUM('Ալ. Հարությունյան:Ս.Հովակիմյան'!F26) -> 0 | G26: =SUM('Ալ. Հարությունյան:Ս.Հովակիմյան'!G26) -> 0 | H26: =SUM('Ալ. Հարությունյան:Ս.Հովակիմյան'!H26) -> 0 | I26: =SUM('Ալ. Հարությունյան:Ս.Հովակիմյան'!I26) -> 0 | J26: =SUM('Ալ. Հարությունյան:Ս.Հովակիմյան'!J26) -> 0 | ... AP26: =SUM('Ալ. Հարությունյան:Ս.Հովակիմյան'!AP26) -> 0 | AQ26: =C26 -> 0 | AR26: =E26+F26+G26+D26 -> 0 | AS26: =H26 -> 0 | AT26: =I26+J26+K26 -> 0 | AU26: =D26+E26+I26 -> 0 | AV26: =L26+V26+W26+Y26 -> 0 | AW26: =M26 -> 0 | AX26: =N26+O26+P26+Q26 -> 0 | AY26: =R26 -> 0 | AZ26: =S26+T26+U26 -> 0 | BA26: =V26 -> 0 | BB26: =M26+R26 -> 0 | BC26: =AC26 -> 0 | BD26: =AA26+AB26 -> 0 | BE26: =AC26 -> 0 | BF26: =AD26+AE26 -> 0 | BG26: =AJ26 -> 0 | BH26: =AH26+AI26 -> 0 | BI26: =AJ26 -> 0 | BJ26: =AK26+AL26 -> 0
A27: 7 | B27: ÀÝïñ³Ï³Ý Çñ³íáõÝùÇ å³ßïå³ÝáõÃÛ³Ý Ñ»ï Ï³åí³Í Çñ³í³Ñ³ñ³µ»ñáõÃÛáõÝÝ»ñÇ í»ñ³µ»ñÛ³É ¹³ï³Ï³Ý ·áñÍ»ñ | C27: =SUM('Ալ. Հարությունյան:Ս.Հովակիմյան'!C27) -> 0 | D27: =SUM('Ալ. Հարությունյան:Ս.Հովակիմյան'!D27) -> 0 | E27: =SUM('Ալ. Հարությունյան:Ս.Հովակիմյան'!E27) -> 0 | F27: =SUM('Ալ. Հարությունյան:Ս.Հովակիմյան'!F27) -> 0 | G27: =SUM('Ալ. Հարությունյան:Ս.Հովակիմյան'!G27) -> 0 | H27: =SUM('Ալ. Հարությունյան:Ս.Հովակիմյան'!H27) -> 44 | I27: =SUM('Ալ. Հարությունյան:Ս.Հովակիմյան'!I27) -> 10 | J27: =SUM('Ալ. Հարությունյան:Ս.Հովակիմյան'!J27) -> 0 | ... AP27: =SUM('Ալ. Հարությունյան:Ս.Հովակիմյան'!AP27) -> 0 | AQ27: =SUM(AQ28:AQ32) -> 0 | AR27: =SUM(AR28:AR32) -> 0 | AS27: =SUM(AS28:AS32) -> 44 | AT27: =SUM(AT28:AT32) -> 44 | AU27: =SUM(AU28:AU32) -> 10 | AV27: =SUM(AV28:AV32) -> 10 | AW27: =SUM(AW28:AW32) -> 6 | AX27: =SUM(AX28:AX32) -> 6 | ... BJ27: =SUM(BJ28:BJ32) -> 0
A28: 7.1 | B28: Ü³Ë³·³ÑÇ ÁÝïñáõÃÛáõÝÝ»ñÇ Ñ»ï Ï³åí³Í | C28: =SUM('Ալ. Հարությունյան:Ս.Հովակիմյան'!C28) -> 0 | D28: =SUM('Ալ. Հարությունյան:Ս.Հովակիմյան'!D28) -> 0 | E28: =SUM('Ալ. Հարությունյան:Ս.Հովակիմյան'!E28) -> 0 | F28: =SUM('Ալ. Հարությունյան:Ս.Հովակիմյան'!F28) -> 0 | G28: =SUM('Ալ. Հարությունյան:Ս.Հովակիմյան'!G28) -> 0 | H28: =SUM('Ալ. Հարությունյան:Ս.Հովակիմյան'!H28) -> 0 | I28: =SUM('Ալ. Հարությունյան:Ս.Հովակիմյան'!I28) -> 0 | J28: =SUM('Ալ. Հարությունյան:Ս.Հովակիմյան'!J28) -> 0 | ... AP28: =SUM('Ալ. Հարությունյան:Ս.Հովակիմյան'!AP28) -> 0 | AQ28: =C28 -> 0 | AR28: =E28+F28+G28+D28 -> 0 | AS28: =H28 -> 0 | AT28: =I28+J28+K28 -> 0 | AU28: =D28+E28+I28 -> 0 | AV28: =L28+V28+W28+Y28 -> 0 | AW28: =M28 -> 0 | AX28: =N28+O28+P28+Q28 -> 0 | AY28: =R28 -> 0 | AZ28: =S28+T28+U28 -> 0 | BA28: =V28 -> 0 | BB28: =M28+R28 -> 0 | BC28: =AC28 -> 0 | BD28: =AA28+AB28 -> 0 | BE28: =AC28 -> 0 | BF28: =AD28+AE28 -> 0 | BG28: =AJ28 -> 0 | BH28: =AH28+AI28 -> 0 | BI28: =AJ28 -> 0 | BJ28: =AK28+AL28 -> 0
A29: 7.2 | B29: ²½·³ÛÇÝ ÅáÕáíÇ ÁÝïñáõÃÛáõÝÝ»ñÇ Ñ»ï Ï³åí³Í | C29: =SUM('Ալ. Հարությունյան:Ս.Հովակիմյան'!C29) -> 0 | D29: =SUM('Ալ. Հարությունյան:Ս.Հովակիմյան'!D29) -> 0 | E29: =SUM('Ալ. Հարությունյան:Ս.Հովակիմյան'!E29) -> 0 | F29: =SUM('Ալ. Հարությունյան:Ս.Հովակիմյան'!F29) -> 0 | G29: =SUM('Ալ. Հարությունյան:Ս.Հովակիմյան'!G29) -> 0 | H29: =SUM('Ալ. Հարությունյան:Ս.Հովակիմյան'!H29) -> 0 | I29: =SUM('Ալ. Հարությունյան:Ս.Հովակիմյան'!I29) -> 0 | J29: =SUM('Ալ. Հարությունյան:Ս.Հովակիմյան'!J29) -> 0 | ... AP29: =SUM('Ալ. Հարությունյան:Ս.Հովակիմյան'!AP29) -> 0 | AQ29: =C29 -> 0 | AR29: =E29+F29+G29+D29 -> 0 | AS29: =H29 -> 0 | AT29: =I29+J29+K29 -> 0 | AU29: =D29+E29+I29 -> 0 | AV29: =L29+V29+W29+Y29 -> 0 | AW29: =M29 -> 0 | AX29: =N29+O29+P29+Q29 -> 0 | AY29: =R29 -> 0 | AZ29: =S29+T29+U29 -> 0 | BA29: =V29 -> 0 | BB29: =M29+R29 -> 0 | BC29: =AC29 -> 0 | BD29: =AA29+AB29 -> 0 | BE29: =AC29 -> 0 | BF29: =AD29+AE29 -> 0 | BG29: =AJ29 -> 0 | BH29: =AH29+AI29 -> 0 | BI29: =AJ29 -> 0 | BJ29: =AK29+AL29 -> 0
A30: 7.3 | B30: î»Õ³Ï³Ý ÇÝùÝ³Ï³é³í³ñÙ³Ý Ù³ñÙÇÝÝ»ñÇ ÁÝïñáõÃÛáõÝÝ»ñÇ Ñ»ï Ï³åí³Í | C30: =SUM('Ալ. Հարությունյան:Ս.Հովակիմյան'!C30) -> 0 | D30: =SUM('Ալ. Հարությունյան:Ս.Հովակիմյան'!D30) -> 0 | E30: =SUM('Ալ. Հարությունյան:Ս.Հովակիմյան'!E30) -> 0 | F30: =SUM('Ալ. Հարությունյան:Ս.Հովակիմյան'!F30) -> 0 | G30: =SUM('Ալ. Հարությունյան:Ս.Հովակիմյան'!G30) -> 0 | H30: =SUM('Ալ. Հարությունյան:Ս.Հովակիմյան'!H30) -> 5 | I30: =SUM('Ալ. Հարությունյան:Ս.Հովակիմյան'!I30) -> 4 | J30: =SUM('Ալ. Հարությունյան:Ս.Հովակիմյան'!J30) -> 0 | ... AP30: =SUM('Ալ. Հարությունյան:Ս.Հովակիմյան'!AP30) -> 0 | AQ30: =C30 -> 0 | AR30: =E30+F30+G30+D30 -> 0 | AS30: =H30 -> 5 | AT30: =I30+J30+K30 -> 5 | AU30: =D30+E30+I30 -> 4 | AV30: =L30+V30+W30+Y30 -> 4 | AW30: =M30 -> 4 | AX30: =N30+O30+P30+Q30 -> 4 | AY30: =R30 -> 0 | AZ30: =S30+T30+U30 -> 0 | BA30: =V30 -> 4 | BB30: =M30+R30 -> 4 | BC30: =AC30 -> 1 | BD30: =AA30+AB30 -> 1 | BE30: =AC30 -> 1 | BF30: =AD30+AE30 -> 1 | BG30: =AJ30 -> 0 | BH30: =AH30+AI30 -> 0 | BI30: =AJ30 -> 0 | BJ30: =AK30+AL30 -> 0
A31: 7.4 | B31: Ð³Ýñ³ùí»Ç Ï³½Ù³Ï»ñåÙ³Ý ¨ ³ÝóÏ³óÙ³Ý Ñ»ï Ï³åí³Í | C31: =SUM('Ալ. Հարությունյան:Ս.Հովակիմյան'!C31) -> 0 | D31: =SUM('Ալ. Հարությունյան:Ս.Հովակիմյան'!D31) -> 0 | E31: =SUM('Ալ. Հարությունյան:Ս.Հովակիմյան'!E31) -> 0 | F31: =SUM('Ալ. Հարությունյան:Ս.Հովակիմյան'!F31) -> 0 | G31: =SUM('Ալ. Հարությունյան:Ս.Հովակիմյան'!G31) -> 0 | H31: =SUM('Ալ. Հարությունյան:Ս.Հովակիմյան'!H31) -> 39 | I31: =SUM('Ալ. Հարությունյան:Ս.Հովակիմյան'!I31) -> 6 | J31: =SUM('Ալ. Հարությունյան:Ս.Հովակիմյան'!J31) -> 0 | ... AP31: =SUM('Ալ. Հարությունյան:Ս.Հովակիմյան'!AP31) -> 0 | AQ31: =C31 -> 0 | AR31: =E31+F31+G31+D31 -> 0 | AS31: =H31 -> 39 | AT31: =I31+J31+K31 -> 39 | AU31: =D31+E31+I31 -> 6 | AV31: =L31+V31+W31+Y31 -> 6 | AW31: =M31 -> 2 | AX31: =N31+O31+P31+Q31 -> 2 | AY31: =R31 -> 0 | AZ31: =S31+T31+U31 -> 0 | BA31: =V31 -> 2 | BB31: =M31+R31 -> 2 | BC31: =AC31 -> 2 | BD31: =AA31+AB31 -> 2 | BE31: =AC31 -> 2 | BF31: =AD31+AE31 -> 2 | BG31: =AJ31 -> 0 | BH31: =AH31+AI31 -> 0 | BI31: =AJ31 -> 0 | BJ31: =AK31+AL31 -> 0
A32: 7.5 | B32: ²ÛÉ í»×»ñ | C32: =SUM('Ալ. Հարությունյան:Ս.Հովակիմյան'!C32) -> 0 | D32: =SUM('Ալ. Հարությունյան:Ս.Հովակիմյան'!D32) -> 0 | E32: =SUM('Ալ. Հարությունյան:Ս.Հովակիմյան'!E32) -> 0 | F32: =SUM('Ալ. Հարությունյան:Ս.Հովակիմյան'!F32) -> 0 | G32: =SUM('Ալ. Հարությունյան:Ս.Հովակիմյան'!G32) -> 0 | H32: =SUM('Ալ. Հարությունյան:Ս.Հովակիմյան'!H32) -> 0 | I32: =SUM('Ալ. Հարությունյան:Ս.Հովակիմյան'!I32) -> 0 | J32: =SUM('Ալ. Հարությունյան:Ս.Հովակիմյան'!J32) -> 0 | ... AP32: =SUM('Ալ. Հարությունյան:Ս.Հովակիմյան'!AP32) -> 0 | AQ32: =C32 -> 0 | AR32: =E32+F32+G32+D32 -> 0 | AS32: =H32 -> 0 | AT32: =I32+J32+K32 -> 0 | AU32: =D32+E32+I32 -> 0 | AV32: =L32+V32+W32+Y32 -> 0 | AW32: =M32 -> 0 | AX32: =N32+O32+P32+Q32 -> 0 | AY32: =R32 -> 0 | AZ32: =S32+T32+U32 -> 0 | BA32: =V32 -> 0 | BB32: =M32+R32 -> 0 | BC32: =AC32 -> 0 | BD32: =AA32+AB32 -> 0 | BE32: =AC32 -> 0 | BF32: =AD32+AE32 -> 0 | BG32: =AJ32 -> 0 | BH32: =AH32+AI32 -> 0 | BI32: =AJ32 -> 0 | BJ32: =AK32+AL32 -> 0
A33: 9 | B33: Ð³í³ùÇ ³ÝóÏ³óÙ³Ý Ù³ëÇÝ Ñ³Ù³ÛÝùÇ Õ»Ï³í³ñÇ áñáßáõÙÝ»ñÇ ¨ ·áñÍáÕáõÃÛáõÝÝ»ñÇ Çñ³í³ã³÷áõÃÛáõÝÁ íÇ×³ñÏ»Éáõ Ñ»ï Ï³åí³Í Çñ³í³Ñ³ñ³µ»ñáõÃÛáõÝÝ»ñÇ í»ñ³µ»ñÛ³É ¹³ï³Ï³Ý ·áñÍ»ñ | C33: =SUM('Ալ. Հարությունյան:Ս.Հովակիմյան'!C33) -> 0 | D33: =SUM('Ալ. Հարությունյան:Ս.Հովակիմյան'!D33) -> 0 | E33: =SUM('Ալ. Հարությունյան:Ս.Հովակիմյան'!E33) -> 0 | F33: =SUM('Ալ. Հարությունյան:Ս.Հովակիմյան'!F33) -> 0 | G33: =SUM('Ալ. Հարությունյան:Ս.Հովակիմյան'!G33) -> 0 | H33: =SUM('Ալ. Հարությունյան:Ս.Հովակիմյան'!H33) -> 0 | I33: =SUM('Ալ. Հարությունյան:Ս.Հովակիմյան'!I33) -> 0 | J33: =SUM('Ալ. Հարությունյան:Ս.Հովակիմյան'!J33) -> 0 | ... AP33: =SUM('Ալ. Հարությունյան:Ս.Հովակիմյան'!AP33) -> 0 | AQ33: =C33 -> 0 | AR33: =E33+F33+G33+D33 -> 0 | AS33: =H33 -> 0 | AT33: =I33+J33+K33 -> 0 | AU33: =D33+E33+I33 -> 0 | AV33: =L33+V33+W33+Y33 -> 0 | AW33: =M33 -> 0 | AX33: =N33+O33+P33+Q33 -> 0 | AY33: =R33 -> 0 | AZ33: =S33+T33+U33 -> 0 | BA33: =V33 -> 0 | BB33: =M33+R33 -> 0 | BC33: =AC33 -> 0 | BD33: =AA33+AB33 -> 0 | BE33: =AC33 -> 0 | BF33: =AD33+AE33 -> 0 | BG33: =AJ33 -> 0 | BH33: =AH33+AI33 -> 0 | BI33: =AJ33 -> 0 | BJ33: =AK33+AL33 -> 0
A34: 10 | B34: ä»ï³Ï³Ý, Ñ³Ù³ÛÝù³ÛÇÝ Ï³Ù ³ÛÉÁÝïñ³Ýù³ÛÇÝ Í³é³ÛáõÃÛ³Ý ³ÝóÝ»Éáõ Ï³Ù Çñ³Ï³Ý³óÝ»Éáõ Ñ»ï Ï³åí³Í Çñ³í³Ñ³ñ³µ»ñáõÃÛáõÝÝ»ñÇ í»ñ³µ»ñÛ³É ¹³ï³Ï³Ý ·áñÍ»ñ | C34: =SUM('Ալ. Հարությունյան:Ս.Հովակիմյան'!C34) -> 0 | D34: =SUM('Ալ. Հարությունյան:Ս.Հովակիմյան'!D34) -> 0 | E34: =SUM('Ալ. Հարությունյան:Ս.Հովակիմյան'!E34) -> 0 | F34: =SUM('Ալ. Հարությունյան:Ս.Հովակիմյան'!F34) -> 0 | G34: =SUM('Ալ. Հարությունյան:Ս.Հովակիմյան'!G34) -> 0 | H34: =SUM('Ալ. Հարությունյան:Ս.Հովակիմյան'!H34) -> 0 | I34: =SUM('Ալ. Հարությունյան:Ս.Հովակիմյան'!I34) -> 0 | J34: =SUM('Ալ. Հարությունյան:Ս.Հովակիմյան'!J34) -> 0 | ... AP34: =SUM('Ալ. Հարությունյան:Ս.Հովակիմյան'!AP34) -> 0 | AQ34: =C34 -> 0 | AR34: =E34+F34+G34+D34 -> 0 | AS34: =H34 -> 0 | AT34: =I34+J34+K34 -> 0 | AU34: =D34+E34+I34 -> 0 | AV34: =L34+V34+W34+Y34 -> 0 | AW34: =M34 -> 0 | AX34: =N34+O34+P34+Q34 -> 0 | AY34: =R34 -> 0 | AZ34: =S34+T34+U34 -> 0 | BA34: =V34 -> 0 | BB34: =M34+R34 -> 0 | BC34: =AC34 -> 0 | BD34: =AA34+AB34 -> 0 | BE34: =AC34 -> 0 | BF34: =AD34+AE34 -> 0 | BG34: =AJ34 -> 0 | BH34: =AH34+AI34 -> 0 | BI34: =AJ34 -> 0 | BJ34: =AK34+AL34 -> 0
A35: 11 | B35: ì³ñã³Ï³Ý Ù³ñÙÇÝÝ»ñÇ ÙÇç¨ Çñ³í³ëáõÃÛ³Ý Ñ³ñó»ñÇ í»ñ³µ»ñÛ³É í»×»ñÇ Ñ»ï Ï³åí³Í Çñ³í³Ñ³ñ³µ»ñáõÃÛáõÝÝ»ñÇ í»ñ³µ»ñÛ³É ¹³ï³Ï³Ý ·áñÍ»ñ | C35: =SUM('Ալ. Հարությունյան:Ս.Հովակիմյան'!C35) -> 0 | D35: =SUM('Ալ. Հարությունյան:Ս.Հովակիմյան'!D35) -> 0 | E35: =SUM('Ալ. Հարությունյան:Ս.Հովակիմյան'!E35) -> 0 | F35: =SUM('Ալ. Հարությունյան:Ս.Հովակիմյան'!F35) -> 0 | G35: =SUM('Ալ. Հարությունյան:Ս.Հովակիմյան'!G35) -> 0 | H35: =SUM('Ալ. Հարությունյան:Ս.Հովակիմյան'!H35) -> 0 | I35: =SUM('Ալ. Հարությունյան:Ս.Հովակիմյան'!I35) -> 0 | J35: =SUM('Ալ. Հարությունյան:Ս.Հովակիմյան'!J35) -> 0 | ... AP35: =SUM('Ալ. Հարությունյան:Ս.Հովակիմյան'!AP35) -> 0 | AQ35: =C35 -> 0 | AR35: =E35+F35+G35+D35 -> 0 | AS35: =H35 -> 0 | AT35: =I35+J35+K35 -> 0 | AU35: =D35+E35+I35 -> 0 | AV35: =L35+V35+W35+Y35 -> 0 | AW35: =M35 -> 0 | AX35: =N35+O35+P35+Q35 -> 0 | AY35: =R35 -> 0 | AZ35: =S35+T35+U35 -> 0 | BA35: =V35 -> 0 | BB35: =M35+R35 -> 0 | BC35: =AC35 -> 0 | BD35: =AA35+AB35 -> 0 | BE35: =AC35 -> 0 | BF35: =AD35+AE35 -> 0 | BG35: =AJ35 -> 0 | BH35: =AH35+AI35 -> 0 | BI35: =AJ35 -> 0 | BJ35: =AK35+AL35 -> 0
A36: 12 | B36: Ð³ë³ñ³Ï³Ï³Ý Ï³½Ù³Ï»ñåáõÃÛáõÝÝ»ñÇ ¨ ³ÛÉ ÙÇ³íáñáõÙÝ»ñÇ ·áñÍáõÝ»áõÃÛ³Ý Ï³ë»óÙ³Ý Ï³Ù ¹³¹³ñ»óÙ³Ý Ñ»ï Ï³åí³Í Çñ³í³Ñ³ñ³µ»ñáõÃÛáõÝÝ»ñÇ í»ñ³µ»ñÛ³É ¹³ï³Ï³Ý ·áñÍ»ñ | C36: =SUM('Ալ. Հարությունյան:Ս.Հովակիմյան'!C36) -> 0 | D36: =SUM('Ալ. Հարությունյան:Ս.Հովակիմյան'!D36) -> 0 | E36: =SUM('Ալ. Հարությունյան:Ս.Հովակիմյան'!E36) -> 0 | F36: =SUM('Ալ. Հարությունյան:Ս.Հովակիմյան'!F36) -> 0 | G36: =SUM('Ալ. Հարությունյան:Ս.Հովակիմյան'!G36) -> 0 | H36: =SUM('Ալ. Հարությունյան:Ս.Հովակիմյան'!H36) -> 0 | I36: =SUM('Ալ. Հարությունյան:Ս.Հովակիմյան'!I36) -> 0 | J36: =SUM('Ալ. Հարությունյան:Ս.Հովակիմյան'!J36) -> 0 | ... AP36: =SUM('Ալ. Հարությունյան:Ս.Հովակիմյան'!AP36) -> 0 | AQ36: =C36 -> 0 | AR36: =E36+F36+G36+D36 -> 0 | AS36: =H36 -> 0 | AT36: =I36+J36+K36 -> 0 | AU36: =D36+E36+I36 -> 0 | AV36: =L36+V36+W36+Y36 -> 0 | AW36: =M36 -> 0 | AX36: =N36+O36+P36+Q36 -> 0 | AY36: =R36 -> 0 | AZ36: =S36+T36+U36 -> 0 | BA36: =V36 -> 0 | BB36: =M36+R36 -> 0 | BC36: =AC36 -> 0 | BD36: =AA36+AB36 -> 0 | BE36: =AC36 -> 0 | BF36: =AD36+AE36 -> 0 | BG36: =AJ36 -> 0 | BH36: =AH36+AI36 -> 0 | BI36: =AJ36 -> 0 | BJ36: =AK36+AL36 -> 0
A37: 13 | B37: ì³ñã³ñ³ñáõÃÛ³Ùµ å³ï×³éí³Í íÝ³ëÇ å³ï³ëË³Ý³ïíáõÃÛ³Ý Ñ»ï Ï³åí³Í Çñ³í³Ñ³ñ³µ»ñáõÃÛáõÝÝ»ñÇ í»ñ³µ»ñÛ³É ¹³ï³Ï³Ý ·áñÍ»ñ | C37: =SUM('Ալ. Հարությունյան:Ս.Հովակիմյան'!C37) -> 0 | D37: =SUM('Ալ. Հարությունյան:Ս.Հովակիմյան'!D37) -> 0 | E37: =SUM('Ալ. Հարությունյան:Ս.Հովակիմյան'!E37) -> 0 | F37: =SUM('Ալ. Հարությունյան:Ս.Հովակիմյան'!F37) -> 0 | G37: =SUM('Ալ. Հարությունյան:Ս.Հովակիմյան'!G37) -> 0 | H37: =SUM('Ալ. Հարությունյան:Ս.Հովակիմյան'!H37) -> 0 | I37: =SUM('Ալ. Հարությունյան:Ս.Հովակիմյան'!I37) -> 0 | J37: =SUM('Ալ. Հարությունյան:Ս.Հովակիմյան'!J37) -> 0 | ... AP37: =SUM('Ալ. Հարությունյան:Ս.Հովակիմյան'!AP37) -> 0 | AQ37: =C37 -> 0 | AR37: =E37+F37+G37+D37 -> 0 | AS37: =H37 -> 0 | AT37: =I37+J37+K37 -> 0 | AU37: =D37+E37+I37 -> 0 | AV37: =L37+V37+W37+Y37 -> 0 | AW37: =M37 -> 0 | AX37: =N37+O37+P37+Q37 -> 0 | AY37: =R37 -> 0 | AZ37: =S37+T37+U37 -> 0 | BA37: =V37 -> 0 | BB37: =M37+R37 -> 0 | BC37: =AC37 -> 0 | BD37: =AA37+AB37 -> 0 | BE37: =AC37 -> 0 | BF37: =AD37+AE37 -> 0 | BG37: =AJ37 -> 0 | BH37: =AH37+AI37 -> 0 | BI37: =AJ37 -> 0 | BJ37: =AK37+AL37 -> 0
A38: 9.14 | B38: Ժողովներ, հանրահավաքներ, երթեր և ցույցեր անցկացնելու կարգը խախտելը | C38: =SUM('Ալ. Հարությունյան:Ս.Հովակիմյան'!C38) -> 20 | D38: =SUM('Ալ. Հարությունյան:Ս.Հովակիմյան'!D38) -> 0 | E38: =SUM('Ալ. Հարությունյան:Ս.Հովակիմյան'!E38) -> 20 | F38: =SUM('Ալ. Հարությունյան:Ս.Հովակիմյան'!F38) -> 0 | G38: =SUM('Ալ. Հարությունյան:Ս.Հովակիմյան'!G38) -> 0 | H38: =SUM('Ալ. Հարությունյան:Ս.Հովակիմյան'!H38) -> 8 | I38: =SUM('Ալ. Հարությունյան:Ս.Հովակիմյան'!I38) -> 8 | J38: =SUM('Ալ. Հարությունյան:Ս.Հովակիմյան'!J38) -> 0 | ... AP38: =SUM('Ալ. Հարությունյան:Ս.Հովակիմյան'!AP38) -> 0 | AQ38: =C38 -> 20 | AR38: =E38+F38+G38+D38 -> 20 | AS38: =H38 -> 8 | AT38: =I38+J38+K38 -> 8 | AU38: =D38+E38+I38 -> 28 | AV38: =L38+V38+W38+Y38 -> 28 | AW38: =M38 -> 16 | AX38: =N38+O38+P38+Q38 -> 16 | AY38: =R38 -> 6 | AZ38: =S38+T38+U38 -> 6 | BA38: =V38 -> 22 | BB38: =M38+R38 -> 22 | BC38: =AC38 -> 6 | BD38: =AA38+AB38 -> 6 | BE38: =AC38 -> 6 | BF38: =AD38+AE38 -> 6 | BG38: =AJ38 -> 0 | BH38: =AH38+AI38 -> 0 | BI38: =AJ38 -> 0 | BJ38: =AK38+AL38 -> 0
A39: 9.15 | B39: Զինծառայողների կամ ոստիկ. ծառայողի օրին. պահանջը չկատարելը | C39: =SUM('Ալ. Հարությունյան:Ս.Հովակիմյան'!C39) -> 82 | D39: =SUM('Ալ. Հարությունյան:Ս.Հովակիմյան'!D39) -> 3 | E39: =SUM('Ալ. Հարությունյան:Ս.Հովակիմյան'!E39) -> 79 | F39: =SUM('Ալ. Հարությունյան:Ս.Հովակիմյան'!F39) -> 0 | G39: =SUM('Ալ. Հարությունյան:Ս.Հովակիմյան'!G39) -> 0 | H39: =SUM('Ալ. Հարությունյան:Ս.Հովակիմյան'!H39) -> 70 | I39: =SUM('Ալ. Հարությունյան:Ս.Հովակիմյան'!I39) -> 70 | J39: =SUM('Ալ. Հարությունյան:Ս.Հովակիմյան'!J39) -> 0 | ... AP39: =SUM('Ալ. Հարությունյան:Ս.Հովակիմյան'!AP39) -> 0 | AQ39: =C39 -> 82 | AR39: =E39+F39+G39+D39 -> 82 | AS39: =H39 -> 70 | AT39: =I39+J39+K39 -> 70 | AU39: =D39+E39+I39 -> 152 | AV39: =L39+V39+W39+Y39 -> 152 | AW39: =M39 -> 78 | AX39: =N39+O39+P39+Q39 -> 78 | AY39: =R39 -> 3 | AZ39: =S39+T39+U39 -> 3 | BA39: =V39 -> 81 | BB39: =M39+R39 -> 81 | BC39: =AC39 -> 59 | BD39: =AA39+AB39 -> 59 | BE39: =AC39 -> 59 | BF39: =AD39+AE39 -> 59 | BG39: =AJ39 -> 6 | BH39: =AH39+AI39 -> 6 | BI39: =AJ39 -> 6 | BJ39: =AK39+AL39 -> 6
... A46: 8 | B46: ²ÛÉ í»×»ñ | C46: =SUM('Ալ. Հարությունյան:Ս.Հովակիմյան'!C46) -> 42 | D46: =SUM('Ալ. Հարությունյան:Ս.Հովակիմյան'!D46) -> 5 | E46: =SUM('Ալ. Հարությունյան:Ս.Հովակիմյան'!E46) -> 37 | F46: =SUM('Ալ. Հարությունյան:Ս.Հովակիմյան'!F46) -> 0 | G46: =SUM('Ալ. Հարությունյան:Ս.Հովակիմյան'!G46) -> 0 | H46: =SUM('Ալ. Հարությունյան:Ս.Հովակիմյան'!H46) -> 21 | I46: =SUM('Ալ. Հարությունյան:Ս.Հովակիմյան'!I46) -> 10 | J46: =SUM('Ալ. Հարությունյան:Ս.Հովակիմյան'!J46) -> 6 | ... AP46: =SUM('Ալ. Հարությունյան:Ս.Հովակիմյան'!AP46) -> 0 | AQ46: =C46 -> 42 | AR46: =E46+F46+G46+D46 -> 42 | AS46: =H46 -> 21 | AT46: =I46+J46+K46 -> 21 | AU46: =D46+E46+I46 -> 52 | AV46: =L46+V46+W46+Y46 -> 52 | AW46: =M46 -> 11 | AX46: =N46+O46+P46+Q46 -> 11 | AY46: =R46 -> 7 | AZ46: =S46+T46+U46 -> 7 | BA46: =V46 -> 18 | BB46: =M46+R46 -> 18 | BC46: =AC46 -> 16 | BD46: =AA46+AB46 -> 16 | BE46: =AC46 -> 16 | BF46: =AD46+AE46 -> 16 | BG46: =AJ46 -> 1 | BH46: =AH46+AI46 -> 1 | BI46: =AJ46 -> 1 | BJ46: =AK46+AL46 -> 1
...

Sheet Ալ. Հարությունյան
A1: 2015Ã. | C1: Ð²ÞìºîìàôÂÚàôÜ | AM1: Ð³í»Éí³Í Ð³Û³ëï³ÝÇ Ð³Ýñ³å»ïáõÃÛ³Ý ¸³ï³ñ³ÝÝ»ñÇ Ý³Ë³·³ÑÝ»ñÇ ËáñÑñ¹Ç 01.02.2016Ã. ÃÇí 11È áñáßÙ³Ý
A2: ÐÐ ì²ðâ²Î²Ü ¸²î²ð²ÜÆ ¸²î²ìàð ԱԼԵՔՍԱՆԴՐԱ ՀԱՐՈՒԹՅՈՒՆՅԱՆԻ ¶àðÌàôÜºàôÂÚ²Ü ìºð²´ºðÚ²È
A3: ÐÐ í³ñã³Ï³Ý ¹³ï³ñ³ÝÇ ¹³ï³íáñÝ»ñÇ Ñ³ëïÇùÝ»ñÇ ÃÇíÁ` 26
A4: êïáõ·Çã Ñ³í³ë³ñáõÙÝ»ñª 1=2+3+4+5, 6=7+8+9, 2+3+7=10+20+21+23, 11=12+13+14+15, 16=17+18+19, 20=11+16, 27=25+26, 27=28+29, 34=32+33, 34=35+36 | C4: Ð³ßí»ïáõ Å³Ù³Ý³Ï³Ñ³ïí³ÍáõÙ Ý³Ëáñ¹ Ñ³ßí»ïáõ Å³Ù³Ý³Ï³Ñ³ïí³ÍÇó ÷áË³Ýóí³Í ·áñÍ»ñÇ ÁÝ¹Ñ³Ýáõñ ÃÇíÁ | H4: Ð³ßí»ïáõ Å³Ù³Ý³Ï³Ñ³ïí³ÍáõÙ ëï³óí³Í ·áñÍ»ñÇ (³Û¹ ÃíáõÙ` Ñ³Ûó³¹ÇÙáõÙÝ»ñÇ, ¹ÇÙáõÙÝ»ñÇ) ÁÝ¹Ñ³Ýáõñ ÃÇíÁ | L4: öáË³Ýóí»É ¿ ³ÛÉ ¹³ï³íáñÇ (Ï³½ÙÇ ÷á÷áËáõÃÛáõÝ) | M4: Ð³ßí»ïáõ Å³Ù³Ý³Ï³Ñ³ïí³ÍáõÙ ³í³ñïí³Í ·áñÍ»ñÇ ÁÝ¹Ñ³Ýáõñ ÃÇíÁ | W4: ¶áñÍÝ áõÕ³ñÏí»É ¿ Áëï ÁÝ¹¹³ïáõÃÛ³Ý | X4: Ð³ßí»ïáõ Å³Ù³Ý³Ï³Ñ³ïí³ÍáõÙ Ï³ë»óí³Í í³ñáõÛÃÝ»ñáí ·áñÍ»ñÇ ÁÝ¹Ñ³Ýáõñ ÃÇíÁ | Y4: Ð³ßí»ïáõ Å³Ù³Ý³Ï³Ñ³ïí³ÍáõÙ ³Ý³í³ñï ·áñÍ»ñÇ ÁÝ¹Ñ³Ýáõñ ÃÇíÁ | Z4: ²Û¹ ÃíáõÙ` Ï³ë»óí³Í | AA4: ´áÕáù³ñÏí³Í ¹³ï³Ï³Ý ³Ïï»ñÁ | AF4: ²í³ñïí³Í ¹³ï³Ï³Ý ·áñÍ»ñÇ µáÕáù³ñÏÙ³Ý ïáÏáëÁ (Ñ³ßí»ïáõ Å³Ù³Ý³Ï³Ñ³ïí³ÍáõÙ) | AG4: ²Ý³í³ñï µáÕáùÝ»ñ | AH4: ´»Ï³Ýí³Í ¹³ï³Ï³Ý ³Ïï»ñÁ | AM4: µ»Ï³ÝáõÙÝ»ñÇ ïáÏáëÁ ³í³ñïí³Í ·áñÍ»ñÇó (Ñ³ßí»ïáõ Å³Ù³Ý³Ï³Ñ³ïí³ÍáõÙ) | AN4: Î³ÛáõÝáõÃÛ³Ý ïáÏáëÁ ³í³ñïí³Í ·áñÍ»ñÇó (Ñ³ßí»ïáõ Å³Ù³Ý³Ï³Ñ³ïí³ÍáõÙ) | AO4: µ»Ï³ÝáõÙÝ»ñÇ ïáÏáëÁ µáÕáù³ñÏí³Í ·áñÍ»ñÇó(Ñ³ßí»ïáõ Å³Ù³Ý³Ï³Ñ³ïí³ÍáõÙ) | AP4: Ï³ÛáõÝáõÃÛ³Ý ïáÏáëÁ(Ñ³ßí»ïáõ Å³Ù³Ý³Ñ³ïí³ÍáõÙ)
C5: ÀÝ¹³Ù»ÝÁ | D5: ²Û¹ ÃíáõÙ`Ï³ë»óí³Í íÇ×³ÏáõÙ ÷áË³Ýóí³Í | E5: ²Û¹ ÃíáõÙª ÁÝ¹áõÝí»É ¿ í³ñáõÛÃ | F5: ²Û¹ ÃíáõÙª í»ñ³¹³ñÓí»É ¿ | G5: ²Û¹ ÃíáõÙª ÁÝ¹áõÝáõÙÁ Ù»ñÅí»É ¿ | H5: ÀÝ¹³Ù»ÝÁ | I5: ²Û¹ ÃíáõÙª ÁÝ¹áõÝí»É ¿ í³ñáõÛÃ | J5: ²Û¹ ÃíáõÙª í»ñ³¹³ñÓí»É ¿ | K5: ²Û¹ ÃíáõÙª ÁÝ¹áõÝáõÙÁ Ù»ñÅí»É ¿ | M5: ÀÝ¹³Ù»ÝÁ ³í³ñïí»É »Ý ·áñÍ»ñ ·áñÍÝ Áëï ¿áõÃÛ³Ý ÉáõÍáÕ ¹³ï³Ï³Ý ³Ïï»ñÇ (í×ÇéÝ»ñÇ) Ï³Û³óÙ³Ùµ | N5: ²Û¹ ÃíáõÙª Ñ³ÛóÇ µ³í³ñ³ñÙ³Ùµ | O5: ²Û¹ ÃíáõÙª Ñ³ÛóÇ Ù³ëÝ³ÏÇ µ³í³ñ³ñÙ³Ùµ | P5: ²Û¹ ÃíáõÙª Ñ³ÛóÇ Ù»ñÅÙ³Ùµ | Q5: ²Û¹ ÃíáõÙ` Ù³ëÝ³ÏÇ Ù»ñÅí»É ¿, Ù³ëÝ³ÏÇ Ï³ñ×í»É | R5: ²Û¹ ÃíáõÙª Ï³ñ×í»É »Ý | V5: ÀÝ¹³Ù»ÝÝ ³í³ñïí»É »Ý ·áñÍ»ñ | AA5: ²Û¹ ÃíáõÙ` ·áñÍÝ Áëï ¿áõÃÛ³Ý ÉáõÍáÕ ¹³ï³Ï³Ý ³Ïï»ñÁ | AB5: ²Û¹ ÃíáõÙ` ÙÇç³ÝÏÛ³É ¹³ï³Ï³Ý ³Ïï»ñÁ | AC5: ÀÝ¹³Ù»ÝÁ | AD5: Ü³Ëáñ¹ ï³ñÇÝ»ñÇÝ Ï³Û³óí³Í ³Ïï»ñÇ µáÕáù³ñÏáõÙÁ Ñ³ßí»ïáõ Å³Ù³Ý³Ï³ßñç³ÝáõÙ | AE5: Ð³ßí»ïáõ Å³Ù³Ý³Ï³ßñç³ÝáõÙ Ï³Û³óí³Í ³Ïï»ñÇ µáÕáù³ñÏáõÙÁ | AH5: ²Û¹ ÃíáõÙ` ·áñÍÝ Áëï ¿áõÃÛ³Ý ÉáõÍáÕ ¹³ï³Ï³Ý ³Ïï»ñÁ | AI5: ²Û¹ ÃíáõÙ` ÙÇç³ÝÏÛ³É ¹³ï³Ï³Ý ³Ïï»ñÁ | AJ5: ÀÝ¹³Ù»ÝÁ | AK5: Ü³Ëáñ¹ ï³ñÇÝ»ñÇÝ Ï³Û³óí³Í ³Ïï»ñÇ µ»Ï³ÝáõÙÝ»ñÁ Ñ³ßí»ïáõ Å³Ù³Ý³Ï³ßñç³ÝáõÙ | AL5: Ð³ßí»ïáõ Å³Ù³Ý³Ï³ßñç³ÝáõÙ Ï³Û³óí³Í ³Ïï»ñÇ µ»Ï³ÝáõÙÁ
R6: ÀÝ¹³Ù»ÝÁ Ï³ñ×í»É »Ý | S6: ²Û¹ ÃíáõÙª Ñ³ëï³ïí»É ¿ ÏÝùí³Í Ñ³ßïáõÃÛ³Ý Ñ³Ù³Ó³ÛÝáõÃÛáõÝÁ | T6: ²Û¹ ÃíáõÙª Ñ³óÇó, ¹ÇÙáõÙÇó Ññ³Å³ñí»Éáõ ÑÇÙùáí | U6: ²Û¹ ÃíáõÙª ³ÛÉ ÑÇÙùáí
B7: ì³ñã³Ï³Ý ·áñÍ»ñÇ ¹³ë³Ï³ñ·áõÙÁ | C7: 1 | D7: 2 | E7: 3 | F7: 4 | G7: 5 | H7: 6 | I7: 7 | J7: 8 | K7: 9 | L7: 10 | M7: 11 | N7: 12 | O7: 13 | P7: 14 | Q7: 15 | R7: 16 | S7: 17 | T7: 18 | U7: 19 | V7: 20 | W7: 21 | X7: 22 | Y7: 23 | Z7: 24 | AA7: 25 | AB7: 26 | AC7: 27 | AD7: 28 | AE7: 29 | AF7: 30 | AG7: 31 | AH7: 32 | AI7: 33 | AJ7: 34 | AK7: 35 | AL7: 36 | AM7: 37 | AN7: 38 | AO7: 39 | AP7: 40 | AQ7: 1=2+3+4+5 | AS7: 6=7+8+9 | AU7: 2+3+7=10+20+21+23 | AW7: 11=12+13+14+15 | AY7: 16=17+18+19 | BA7: 20=11+16 | BC7: 27=25+26 | BE7: 27=28+29 | BG7: 34=32+33 | BI7: 34=35+36
A8: 1 | B8: ä»ï³Ï³Ý Ù³ñÙÇÝÝ»ñÇ, ï»Õ³Ï³Ý ÇÝùÝ³Ï³é³í³ñÙ³Ý Ù³ñÙÇÝÝ»ñÇ áõ ¹ñ³Ýó å³ßïáÝ³ï³ñ ³ÝÓ³Ýó ³Ïï»ñÝ ³Ýí³í»ñ ×³Ý³ã»Éáõ Ñ»ï Ï³åí³Í Çñ³í³ñ³Ñ³µ»ñáõÃÛáõÝÝ»ñÇ í»ñ³µ»ñÛ³É ¹³ï³Ï³Ý ·áñÍ»ñ | C8: =SUM(C9:C10) -> 69 | D8: =SUM(D9:D10) -> 1 | E8: =SUM(E9:E10) -> 68 | F8: =SUM(F9:F10) -> 0 | G8: =SUM(G9:G10) -> 0 | H8: =SUM(H9:H10) -> 279 | I8: =SUM(I9:I10) -> 157 | J8: =SUM(J9:J10) -> 108 | ... BJ8: =SUM(BJ9:BJ10) -> 1
A9: 1.1 | B9: ä»ï³Ï³Ý Ù³ñÙÇÝÝ»ñÇ áõ ¹ñ³Ýó å³ßïáÝ³ï³ñ ³ÝÓ³Ýó ³Ïï»ñÝ ³Ýí³í»ñ ×³Ý³ã»Éáõ Ñ»ï Ï³åí³Í Çñ³í³Ñ³ñ³µ»ñáõÃÛáõÝÝ»ñÇ í»ñ³µ»ñÛ³É ¹³ï³Ï³Ý ·áñÍ»ñ | C9: 54 | D9: 1 | E9: 53 | F9: 0 | G9: 0 | H9: 226 | I9: =H9-J9-K9 -> 110 | J9: 104 | K9: 12 | L9: 1 | M9: =N9+O9+P9+Q9 -> 89 | N9: 27 | O9: 2 | P9: 60 | Q9: 0 | R9: 13 | S9: 0 | T9: 11 | U9: 2 | V9: =M9+R9 -> 102 | W9: 1 | X9: 1 | Y9: =D9+E9+I9-L9-V9-W9 -> 60 | Z9: 2 | AA9: 13 | AB9: 6 | AC9: =AA9+AB9 -> 19 | AD9: 0 | AE9: =AA9+AB9-AD9 -> 19 | AG9: 14 | AH9: 0 | AI9: 1 | AJ9: =AH9+AI9 -> 1 | AK9: 0 | AL9: 1 | AQ9: =C9 -> 54 | AR9: =E9+F9+G9+D9 -> 54 | AS9: =H9 -> 226 | AT9: =I9+J9+K9 -> 226 | AU9: =D9+E9+I9 -> 164 | AV9: =L9+V9+W9+Y9 -> 164 | AW9: =M9 -> 89 | AX9: =N9+O9+P9+Q9 -> 89 | AY9: =R9 -> 13 | AZ9: =S9+T9+U9 -> 13 | BA9: =V9 -> 102 | BB9: =M9+R9 -> 102 | BC9: =AC9 -> 19 | BD9: =AA9+AB9 -> 19 | BE9: =AC9 -> 19 | BF9: =AD9+AE9 -> 19 | BG9: =AJ9 -> 1 | BH9: =AH9+AI9 -> 1 | BI9: =AJ9 -> 1 | BJ9: =AK9+AL9 -> 1
A10: 1.2 | B10: î»Õ³Ï³Ý ÇÝùÝ³Ï³é³í³ñÙ³Ý Ù³ñÙÇÝÝ»ñÇ áõ ¹ñ³Ýó å³ßïáÝ³ï³ñ ³ÝÓ³Ýó ³Ïï»ñÝ ³Ýí³í»ñ ×³Ý³ã»Éáõ Ñ»ï Ï³åí³Í Çñ³í³Ñ³ñ³µ»ñáõÃÛáõÝÝ»ñÇ í»ñ³µ»ñÛ³É ¹³ï³Ï³Ý ·áñÍ»ñ | C10: 15 | D10: 0 | E10: 15 | F10: 0 | G10: 0 | H10: 53 | I10: =H10-J10-K10 -> 47 | J10: 4 | K10: 2 | L10: 1 | M10: =N10+O10+P10+Q10 -> 12 | N10: 5 | O10: 2 | P10: 5 | Q10: 0 | R10: 14 | S10: 0 | T10: 4 | U10: 10 | V10: =M10+R10 -> 26 | W10: 0 | X10: 0 | Y10: =D10+E10+I10-L10-V10-W10 -> 35 | Z10: 0 | AA10: 1 | AB10: 2 | AC10: =AA10+AB10 -> 3 | AD10: 0 | AE10: =AA10+AB10-AD10 -> 3 | AG10: 1 | AH10: 0 | AI10: 0 | AJ10: =AH10+AI10 -> 0 | AK10: 0 | AL10: 0 | AQ10: =C10 -> 15 | AR10: =E10+F10+G10+D10 -> 15 | AS10: =H10 -> 53 | AT10: =I10+J10+K10 -> 53 | AU10: =D10+E10+I10 -> 62 | AV10: =L10+V10+W10+Y10 -> 62 | AW10: =M10 -> 12 | AX10: =N10+O10+P10+Q10 -> 12 | AY10: =R10 -> 14 | AZ10: =S10+T10+U10 -> 14 | BA10: =V10 -> 26 | BB10: =M10+R10 -> 26 | BC10: =AC10 -> 3 | BD10: =AA10+AB10 -> 3 | BE10: =AC10 -> 3 | BF10: =AD10+AE10 -> 3 | BG10: =AJ10 -> 0 | BH10: =AH10+AI10 -> 0 | BI10: =AJ10 -> 0 | BJ10: =AK10+AL10 -> 0
A11: 2 | B11: ä»ï³Ï³Ý Ù³ñÙÇÝÝ»ñÇ, ï»Õ³Ï³Ý ÇÝùÝ³Ï³é³í³ñÙ³Ý Ù³ñÙÇÝÝ»ñÇ ¨ ¹ñ³Ýó å³ßïáÝ³ï³ñ ³ÝÓ³Ýó ·áñÍáÕáõÃÛáõÝÝ»ñÁ /³Ý·áñÍáõÃÛáõÝÁ/ íÇ×³ñÏ»Éáõ Ñ»ï Ï³åí³Í Çñ³í³Ñ³ñ³µ»ñáõÃÛáõÝÝ»ñÇ í»ñ³µ»ñÛ³É ¹³ï³Ï³Ý ·áñÍ»ñ | C11: =SUM(C12:C13) -> 13 | D11: =SUM(D12:D13) -> 0 | E11: =SUM(E12:E13) -> 13 | F11: =SUM(F12:F13) -> 0 | G11: =SUM(G12:G13) -> 0 | H11: =SUM(H12:H13) -> 36 | I11: =SUM(I12:I13) -> 23 | J11: =SUM(J12:J13) -> 6 | ... BJ11: =SUM(BJ12:BJ13) -> 0
A12: 2.1 | B12: ä»ï³Ï³Ý Ù³ñÙÇÝÝ»ñÇ ¨ ¹ñ³Ýó å³ßïáÝ³ï³ñ ³ÝÓ³Ýó ·áñÍáÕáõÃÛáõÝÝ»ñÁ /³Ý·áñÍáõÃÛáõÝÁ/ íÇ×³ñÏ»Éáõ Ñ»ï Ï³åí³Í Çñ³í³Ñ³ñ³µ»ñáõÃÛáõÝÝ»ñÇ í»ñ³µ»ñÛ³É ¹³ï³Ï³Ý ·áñÍ»ñ | C12: 8 | D12: 0 | E12: 8 | F12: 0 | G12: 0 | H12: 26 | I12: =H12-J12-K12 -> 15 | J12: 6 | K12: 5 | L12: 0 | M12: =N12+O12+P12+Q12 -> 11 | N12: 1 | O12: 0 | P12: 10 | Q12: 0 | R12: 3 | S12: 0 | T12: 3 | U12: 0 | V12: =M12+R12 -> 14 | W12: 0 | X12: 1 | Y12: =D12+E12+I12-L12-V12-W12 -> 9 | Z12: 1 | AA12: 2 | AB12: 3 | AC12: =AA12+AB12 -> 5 | AD12: 0 | AE12: =AA12+AB12-AD12 -> 5 | AG12: 2 | AH12: 0 | AI12: 0 | AJ12: =AH12+AI12 -> 0 | AK12: 0 | AL12: 0 | AQ12: =C12 -> 8 | AR12: =E12+F12+G12+D12 -> 8 | AS12: =H12 -> 26 | AT12: =I12+J12+K12 -> 26 | AU12: =D12+E12+I12 -> 23 | AV12: =L12+V12+W12+Y12 -> 23 | AW12: =M12 -> 11 | AX12: =N12+O12+P12+Q12 -> 11 | AY12: =R12 -> 3 | AZ12: =S12+T12+U12 -> 3 | BA12: =V12 -> 14 | BB12: =M12+R12 -> 14 | BC12: =AC12 -> 5 | BD12: =AA12+AB12 -> 5 | BE12: =AC12 -> 5 | BF12: =AD12+AE12 -> 5 | BG12: =AJ12 -> 0 | BH12: =AH12+AI12 -> 0 | BI12: =AJ12 -> 0 | BJ12: =AK12+AL12 -> 0
A13: 2.2 | B13: î»Õ³Ï³Ý ÇÝùÝ³Ï³é³í³ñÙ³Ý Ù³ñÙÇÝÝ»ñÇ áõ ¹ñ³Ýó å³ßïáÝ³ï³ñ ³ÝÓ³Ýó ·áñÍáÕáõÃÛáõÝÝ»ñÁ /³Ý·áñÍáõÃÛáõÝÁ/ íÇ×³ñÏ»Éáõ Ñ»ï Ï³åí³Í Çñ³í³Ñ³ñ³µ»ñáõÃÛáõÝÝ»ñÇ í»ñ³µ»ñÛ³É ¹³ï³Ï³Ý ·áñÍ»ñ | C13: 5 | D13: 0 | E13: 5 | F13: 0 | G13: 0 | H13: 10 | I13: =H13-J13-K13 -> 8 | J13: 0 | K13: 2 | L13: 2 | M13: =N13+O13+P13+Q13 -> 0 | N13: 0 | O13: 0 | P13: 0 | Q13: 0 | R13: 0 | S13: 0 | T13: 0 | U13: 0 | V13: =M13+R13 -> 0 | W13: 0 | X13: 1 | Y13: =D13+E13+I13-L13-V13-W13 -> 11 | Z13: 1 | AA13: 0 | AB13: 0 | AC13: =AA13+AB13 -> 0 | AD13: 0 | AE13: =AA13+AB13-AD13 -> 0 | AG13: 0 | AH13: 0 | AI13: 0 | AJ13: =AH13+AI13 -> 0 | AK13: 0 | AL13: 0 | AQ13: =C13 -> 5 | AR13: =E13+F13+G13+D13 -> 5 | AS13: =H13 -> 10 | AT13: =I13+J13+K13 -> 10 | AU13: =D13+E13+I13 -> 13 | AV13: =L13+V13+W13+Y13 -> 13 | AW13: =M13 -> 0 | AX13: =N13+O13+P13+Q13 -> 0 | AY13: =R13 -> 0 | AZ13: =S13+T13+U13 -> 0 | BA13: =V13 -> 0 | BB13: =M13+R13 -> 0 | BC13: =AC13 -> 0 | BD13: =AA13+AB13 -> 0 | BE13: =AC13 -> 0 | BF13: =AD13+AE13 -> 0 | BG13: =AJ13 -> 0 | BH13: =AH13+AI13 -> 0 | BI13: =AJ13 -> 0 | BJ13: =AK13+AL13 -> 0
A14: 3 | B14: üÇ½ÇÏ³Ï³Ý Ï³Ù Çñ³í³µ³Ý³Ï³Ý ³ÝÓÇÝ ¹ñ³Ù³Ï³Ý å³Ñ³ÝçÝ»ñÁ Ï³ï³ñ»ÉáõÝ å³ñï³íáñ»óÝ»Éáõ Ñ»ï Ï³åí³Í Çñ³í³Ñ³ñ³µ»ñáõÃÛáõÝÝ»ñÇ í»ñ³µ»ñÛ³É ¹³ï³Ï³Ý ·áñÍ»ñ | C14: =SUM(C15:C16) -> 46 | D14: =SUM(D15:D16) -> 0 | E14: =SUM(E15:E16) -> 46 | F14: =SUM(F15:F16) -> 0 | G14: =SUM(G15:G16) -> 0 | H14: =SUM(H15:H16) -> 73 | I14: =SUM(I15:I16) -> 57 | J14: =SUM(J15:J16) -> 8 | ... BJ14: =SUM(BJ15:BJ16) -> 0
A15: 3.1 | B15: ì³ñã³Ï³Ý ³ÏïÇ ÑÇÙ³Ý íñ³ ýÇ½ÇÏ³Ï³Ý Ï³Ù Çñ³í³µ³Ý³Ï³Ý ³ÝÓÇó µéÝ³·³ÝÓáõÙ Çñ³Ï³Ý³óÝ»Éáõ Ñ»ï Ï³åí³Í Çñ³í³Ñ³ñ³µ»ñáõÃÛáõÝÝ»ñÇ í»ñ³µ»ñÛ³É ¹³ï³Ï³Ý ·áñÍ»ñ | C15: 27 | D15: 0 | E15: 27 | F15: 0 | G15: 0 | H15: 54 | I15: =H15-J15-K15 -> 53 | J15: 0 | K15: 1 | L15: 0 | M15: =N15+O15+P15+Q15 -> 14 | N15: 5 | O15: 1 | P15: 8 | Q15: 0 | R15: 3 | S15: 0 | T15: 0 | U15: 3 | V15: =M15+R15 -> 17 | W15: 0 | X15: 0 | Y15: =D15+E15+I15-L15-V15-W15 -> 63 | Z15: 0 | AA15: 0 | AB15: 0 | AC15: =AA15+AB15 -> 0 | AD15: 0 | AE15: =AA15+AB15-AD15 -> 0 | AG15: 0 | AH15: 0 | AI15: 0 | AJ15: =AH15+AI15 -> 0 | AK15: 0 | AL15: 0 | AQ15: =C15 -> 27 | AR15: =E15+F15+G15+D15 -> 27 | AS15: =H15 -> 54 | AT15: =I15+J15+K15 -> 54 | AU15: =D15+E15+I15 -> 80 | AV15: =L15+V15+W15+Y15+Z15 -> 80 | AW15: =M15 -> 14 | AX15: =N15+O15+P15+Q15 -> 14 | AY15: =R15 -> 3 | AZ15: =S15+T15+U15 -> 3 | BA15: =V15 -> 17 | BB15: =M15+R15 -> 17 | BC15: =AC15 -> 0 | BD15: =AA15+AB15 -> 0 | BE15: =AC15 -> 0 | BF15: =AD15+AE15 -> 0 | BG15: =AJ15 -> 0 | BH15: =AH15+AI15 -> 0 | BI15: =AJ15 -> 0 | BJ15: =AK15+AL15 -> 0
A16: 3.2 | B16: ¸ñ³Ù³Ï³Ý å³ñï³íáñáõÃÛáõÝÝ»ñÁ Ï³ï³ñ»ÉáõÝ å³ñï³íáñ»óÝ»Éáõ Ñ»ï Ï³åí³Í Çñ³í³Ñ³ñ³µ»ñáõÃÛáõÝÝ»ñÇ í»ñ³µ»ñÛ³É ¹³ï³Ï³Ý ·áñÍ»ñ | C16: 19 | D16: 0 | E16: 19 | F16: 0 | G16: 0 | H16: 19 | I16: =H16-J16-K16 -> 4 | J16: 8 | K16: 7 | L16: 2 | M16: =N16+O16+P16+Q16 -> 7 | N16: 4 | O16: 2 | P16: 1 | Q16: 0 | R16: 5 | S16: 0 | T16: 5 | U16: 0 | V16: =M16+R16 -> 12 | W16: 0 | X16: 0 | Y16: =D16+E16+I16-L16-V16-W16 -> 9 | Z16: 0 | AA16: 1 | AB16: 0 | AC16: =AA16+AB16 -> 1 | AD16: 0 | AE16: =AA16+AB16-AD16 -> 1 | AG16: 1 | AH16: 0 | AI16: 0 | AJ16: =AH16+AI16 -> 0 | AK16: 0 | AL16: 0 | AQ16: =C16 -> 19 | AR16: =E16+F16+G16+D16 -> 19 | AS16: =H16 -> 19 | AT16: =I16+J16+K16 -> 19 | AU16: =D16+E16+I16 -> 23 | AV16: =L16+V16+W16+Y16+Z16 -> 23 | AW16: =M16 -> 7 | AX16: =N16+O16+P16+Q16 -> 7 | AY16: =R16 -> 5 | AZ16: =S16+T16+U16 -> 5 | BA16: =V16 -> 12 | BB16: =M16+R16 -> 12 | BC16: =AC16 -> 1 | BD16: =AA16+AB16 -> 1 | BE16: =AC16 -> 1 | BF16: =AD16+AE16 -> 1 | BG16: =AJ16 -> 0 | BH16: =AH16+AI16 -> 0 | BI16: =AJ16 -> 0 | BJ16: =AK16+AL16 -> 0
A17: 4 | B17: ì×³ñÙ³Ý Ï³ñ·³¹ñáõÃÛáõÝÇó Ñ³Ûó³ÛÇÝ í³ñáõÛÃÇ ³ÝóÝ»Éáõ í»ñ³µ»ñÛ³É ¹³ï³Ï³Ý ·áñÍ»ñ | C17: 3 | D17: 0 | E17: 3 | F17: 0 | G17: 0 | H17: 35 | I17: =H17-J17-K17 -> 35 | J17: 0 | K17: 0 | L17: 0 | M17: =N17+O17+P17+Q17 -> 9 | N17: 3 | O17: 0 | P17: 6 | Q17: 0 | R17: 8 | S17: 0 | T17: 8 | U17: 0 | V17: =M17+R17 -> 17 | W17: 0 | X17: 1 | Y17: =D17+E17+I17-L17-V17-W17 -> 21 | Z17: 1 | AA17: 2 | AB17: 0 | AC17: =AA17+AB17 -> 2 | AD17: 0 | AE17: =AA17+AB17-AD17 -> 2 | AG17: 2 | AH17: 0 | AI17: 0 | AJ17: =AH17+AI17 -> 0 | AK17: 0 | AL17: 0 | AQ17: =C17 -> 3 | AR17: =E17+F17+G17+D17 -> 3 | AS17: =H17 -> 35 | AT17: =I17+J17+K17 -> 35 | AU17: =D17+E17+I17 -> 38 | AV17: =L17+V17+W17+Y17 -> 38 | AW17: =M17 -> 9 | AX17: =N17+O17+P17+Q17 -> 9 | AY17: =R17 -> 8 | AZ17: =S17+T17+U17 -> 8 | BA17: =V17 -> 17 | BB17: =M17+R17 -> 17 | BC17: =AC17 -> 2 | BD17: =AA17+AB17 -> 2 | BE17: =AC17 -> 2 | BF17: =AD17+AE17 -> 2 | BG17: =AJ17 -> 0 | BH17: =AH17+AI17 -> 0 | BI17: =AJ17 -> 0 | BJ17: =AK17+AL17 -> 0
A18: 5 | B18: Üáï³ñ³Ï³Ý ·áñÍáÕáõÃÛáõÝÝ»ñÁ Ï³Ù Ýáï³ñÇ ³Ý·áñÍáõÃÛáõÝÁ íÇ×³ñÏ»Éáõ Ñ»ï Ï³åí³Í Çñ³í³Ñ³ñ³µ»ñáõÃÛáõÝÝ»ñÇ í»ñ³µ»ñÛ³É ¹³ï³Ï³Ý ·áñÍ»ñ | C18: 0 | D18: 0 | E18: 0 | F18: 0 | G18: 0 | H18: 0 | I18: =H18-J18-K18 -> 0 | J18: 0 | K18: 0 | L18: 0 | M18: =N18+O18+P18+Q18 -> 0 | N18: 0 | O18: 0 | P18: 0 | Q18: 0 | R18: 0 | S18: 0 | T18: 0 | U18: 0 | V18: =M18+R18 -> 0 | W18: 0 | X18: 0 | Y18: =D18+E18+I18-L18-V18-W18 -> 0 | Z18: 0 | AA18: 0 | AB18: 0 | AC18: =AA18+AB18 -> 0 | AD18: 0 | AE18: =AA18+AB18-AD18 -> 0 | AG18: 0 | AH18: 0 | AI18: 0 | AJ18: =AH18+AI18 -> 0 | AK18: 0 | AL18: 0 | AQ18: =C18 -> 0 | AR18: =E18+F18+G18+D18 -> 0 | AS18: =H18 -> 0 | AT18: =I18+J18+K18 -> 0 | AU18: =D18+E18+I18 -> 0 | AV18: =L18+V18+W18+Y18+Z18 -> 0 | AW18: =M18 -> 0 | AX18: =N18+O18+P18+Q18 -> 0 | AY18: =R18 -> 0 | AZ18: =S18+T18+U18 -> 0 | BA18: =V18 -> 0 | BB18: =M18+R18 -> 0 | BC18: =AC18 -> 0 | BD18: =AA18+AB18 -> 0 | BE18: =AC18 -> 0 | BF18: =AD18+AE18 -> 0 | BG18: =AJ18 -> 0 | BH18: =AH18+AI18 -> 0 | BI18: =AJ18 -> 0 | BJ18: =AK18+AL18 -> 0
A19: 6 | B19: ÜáñÙ³ïÇí Çñ³í³Ï³Ý ³Ïï»ñÇ Çñ³í³ã³÷áõÃÛáõÝÁ íÇ×³ñÏ»Éáõ Ñ»ï Ï³åí³Í Çñ³í³Ñ³ñ³µ»ñáõÃÛáõÝÝ»ñÇ í»ñ³µ»ñÛ³É ¹³ï³Ï³Ý ·áñÍ»ñ | C19: =SUM(C20:C26) -> 0 | D19: =SUM(D20:D26) -> 0 | E19: =SUM(E20:E26) -> 0 | F19: =SUM(F20:F26) -> 0 | G19: =SUM(G20:G26) -> 0 | H19: =SUM(H20:H26) -> 0 | I19: =SUM(I20:I26) -> 0 | J19: =SUM(J20:J26) -> 0 | ... BJ19: =SUM(BJ20:BJ26) -> 0
A20: 6.1 | B20: ¶»ñ³ï»ëã³Ï³Ý ÝáñÙ³ïÇí Çñ³í³Ï³Ý ³Ïï»ñÇª ÐÐ ê³ÑÙ³Ý³¹ñáõÃÛ³ÝÁ Ñ³Ù³å³ï³ëË³ÝáõÃÛáõÝÁ íÇ×³ñÏ»Éáõ í»ñ³µ»ñÛ³É | C20: 0 | D20: 0 | E20: 0 | F20: 0 | G20: 0 | H20: 0 | I20: =H20-J20-K20 -> 0 | J20: 0 | K20: 0 | L20: 0 | M20: =N20+O20+P20+Q20 -> 0 | N20: 0 | O20: 0 | P20: 0 | Q20: 0 | R20: 0 | S20: 0 | T20: 0 | U20: 0 | V20: =M20+R20 -> 0 | W20: 0 | X20: 0 | Y20: =D20+E20+I20-L20-V20-W20 -> 0 | Z20: 0 | AA20: 0 | AB20: 0 | AC20: =AA20+AB20 -> 0 | AD20: 0 | AE20: =AA20+AB20-AD20 -> 0 | AG20: 0 | AH20: 0 | AI20: 0 | AJ20: =AH20+AI20 -> 0 | AK20: 0 | AL20: 0 | AQ20: =C20 -> 0 | AR20: =E20+F20+G20+D20 -> 0 | AS20: =H20 -> 0 | AT20: =I20+J20+K20 -> 0 | AU20: =D20+E20+I20 -> 0 | AV20: =L20+V20+W20+Y20+Z20 -> 0 | AW20: =M20 -> 0 | AX20: =N20+O20+P20+Q20 -> 0 | AY20: =R20 -> 0 | AZ20: =S20+T20+U20 -> 0 | BA20: =V20 -> 0 | BB20: =M20+R20 -> 0 | BC20: =AC20 -> 0 | BD20: =AA20+AB20 -> 0 | BE20: =AC20 -> 0 | BF20: =AD20+AE20 -> 0 | BG20: =AJ20 -> 0 | BH20: =AH20+AI20 -> 0 | BI20: =AJ20 -> 0 | BJ20: =AK20+AL20 -> 0
A21: 6.2 | B21: Ü³Ë³·³ÑÇ ÝáñÙ³ïÇí µÝáõÛÃ áõÝ»óáÕ ³Ïï»ñÇ` ³í»ÉÇ µ³ñÓñ Çñ³í³µ³Ý³Ï³Ý áõÅ áõÝ»óáÕ ÝáñÙ³ïÇí ³Ïï»ñÇÝ Ñ³Ù³å³ï³ëË³ÝáõÃÛáõÝÁ íÇ×³ñÏ»Éáõ í»ñ³µ»ñÛ³É | C21: 0 | D21: 0 | E21: 0 | F21: 0 | G21: 0 | H21: 0 | I21: =H21-J21-K21 -> 0 | J21: 0 | K21: 0 | L21: 0 | M21: =N21+O21+P21+Q21 -> 0 | N21: 0 | O21: 0 | P21: 0 | Q21: 0 | R21: 0 | S21: 0 | T21: 0 | U21: 0 | V21: =M21+R21 -> 0 | W21: 0 | X21: 0 | Y21: =D21+E21+I21-L21-V21-W21 -> 0 | Z21: 0 | AA21: 0 | AB21: 0 | AC21: =AA21+AB21 -> 0 | AD21: 0 | AE21: =AA21+AB21-AD21 -> 0 | AG21: 0 | AH21: 0 | AI21: 0 | AJ21: =AH21+AI21 -> 0 | AK21: 0 | AL21: 0 | AQ21: =C21 -> 0 | AR21: =E21+F21+G21+D21 -> 0 | AS21: =H21 -> 0 | AT21: =I21+J21+K21 -> 0 | AU21: =D21+E21+I21 -> 0 | AV21: =L21+V21+W21+Y21+Z21 -> 0 | AW21: =M21 -> 0 | AX21: =N21+O21+P21+Q21 -> 0 | AY21: =R21 -> 0 | AZ21: =S21+T21+U21 -> 0 | BA21: =V21 -> 0 | BB21: =M21+R21 -> 0 | BC21: =AC21 -> 0 | BD21: =AA21+AB21 -> 0 | BE21: =AC21 -> 0 | BF21: =AD21+AE21 -> 0 | BG21: =AJ21 -> 0 | BH21: =AH21+AI21 -> 0 | BI21: =AJ21 -> 0 | BJ21: =AK21+AL21 -> 0
A22: 6.3 | B22: Î³é³í³ñáõÃÛ³Ý ÝáñÙ³ïÇí áñáßáõÙÝ»ñÇ`³í»ÉÇ µ³ñÓñ Çñ³í³µ³Ý³Ï³Ý áõÅ áõÝ»óáÕ ÝáñÙ³ïÇí ³Ïï»ñÇÝ Ñ³Ù³å³ï³ëË³ÝáõÃÛáõÝÁ íÇ×³ñÏ»Éáõ í»ñ³µ»ñÛ³É | C22: 0 | D22: 0 | E22: 0 | F22: 0 | G22: 0 | H22: 0 | I22: =H22-J22-K22 -> 0 | J22: 0 | K22: 0 | L22: 0 | M22: =N22+O22+P22+Q22 -> 0 | N22: 0 | O22: 0 | P22: 0 | Q22: 0 | R22: 0 | S22: 0 | T22: 0 | U22: 0 | V22: =M22+R22 -> 0 | W22: 0 | X22: 0 | Y22: =D22+E22+I22-L22-V22-W22 -> 0 | Z22: 0 | AA22: 0 | AB22: 0 | AC22: =AA22+AB22 -> 0 | AD22: 0 | AE22: =AA22+AB22-AD22 -> 0 | AG22: 0 | AH22: 0 | AI22: 0 | AJ22: =AH22+AI22 -> 0 | AK22: 0 | AL22: 0 | AQ22: =C22 -> 0 | AR22: =E22+F22+G22+D22 -> 0 | AS22: =H22 -> 0 | AT22: =I22+J22+K22 -> 0 | AU22: =D22+E22+I22 -> 0 | AV22: =L22+V22+W22+Y22+Z22 -> 0 | AW22: =M22 -> 0 | AX22: =N22+O22+P22+Q22 -> 0 | AY22: =R22 -> 0 | AZ22: =S22+T22+U22 -> 0 | BA22: =V22 -> 0 | BB22: =M22+R22 -> 0 | BC22: =AC22 -> 0 | BD22: =AA22+AB22 -> 0 | BE22: =AC22 -> 0 | BF22: =AD22+AE22 -> 0 | BG22: =AJ22 -> 0 | BH22: =AH22+AI22 -> 0 | BI22: =AJ22 -> 0 | BJ22: =AK22+AL22 -> 0
A23: 6.4 | B23: ì³ñã³å»ïÇ ÝáñÙ³ïÇí áñáßáõÙÝ»ñÇ` ³í»ÉÇ µ³ñÓñ Çñ³í³µ³Ý³Ï³Ý áõÅ áõÝ»óáÕ ÝáñÙ³ïÇí ³Ïï»ñÇÝ Ñ³Ù³å³ï³ëË³ÝáõÃÛáõÝÁ íÇ×³ñÏ»Éáõ í»ñ³µ»ñÛ³É | C23: 0 | D23: 0 | E23: 0 | F23: 0 | G23: 0 | H23: 0 | I23: =H23-J23-K23 -> 0 | J23: 0 | K23: 0 | L23: 0 | M23: =N23+O23+P23+Q23 -> 0 | N23: 0 | O23: 0 | P23: 0 | Q23: 0 | R23: 0 | S23: 0 | T23: 0 | U23: 0 | V23: =M23+R23 -> 0 | W23: 0 | X23: 0 | Y23: =D23+E23+I23-L23-V23-W23 -> 0 | Z23: 0 | AA23: 0 | AB23: 0 | AC23: =AA23+AB23 -> 0 | AD23: 0 | AE23: =AA23+AB23-AD23 -> 0 | AG23: 0 | AH23: 0 | AI23: 0 | AJ23: =AH23+AI23 -> 0 | AK23: 0 | AL23: 0 | AQ23: =C23 -> 0 | AR23: =E23+F23+G23+D23 -> 0 | AS23: =H23 -> 0 | AT23: =I23+J23+K23 -> 0 | AU23: =D23+E23+I23 -> 0 | AV23: =L23+V23+W23+Y23+Z23 -> 0 | AW23: =M23 -> 0 | AX23: =N23+O23+P23+Q23 -> 0 | AY23: =R23 -> 0 | AZ23: =S23+T23+U23 -> 0 | BA23: =V23 -> 0 | BB23: =M23+R23 -> 0 | BC23: =AC23 -> 0 | BD23: =AA23+AB23 -> 0 | BE23: =AC23 -> 0 | BF23: =AD23+AE23 -> 0 | BG23: =AJ23 -> 0 | BH23: =AH23+AI23 -> 0 | BI23: =AJ23 -> 0 | BJ23: =AK23+AL23 -> 0
A24: 6.5 | B24: ¶»ñ³ï»ëã³Ï³Ý ÝáñÙ³ïÇí Çñ³í³Ï³Ý ³Ïï»ñÇ` ³í»ÉÇ µ³ñÓñ Çñ³í³µ³Ý³Ï³Ý áõÅ áõÝ»óáÕ ÝáñÙ³ïÇí ³Ïï»ñÇÝ Ñ³Ù³å³ï³ëË³ÝáõÃÛáõÝÁ íÇ×³ñÏ»Éáõ í»ñ³µ»ñÛ³É | C24: 0 | D24: 0 | E24: 0 | F24: 0 | G24: 0 | H24: 0 | I24: =H24-J24-K24 -> 0 | J24: 0 | K24: 0 | L24: 0 | M24: =N24+O24+P24+Q24 -> 0 | N24: 0 | O24: 0 | P24: 0 | Q24: 0 | R24: 0 | S24: 0 | T24: 0 | U24: 0 | V24: =M24+R24 -> 0 | W24: 0 | X24: 0 | Y24: =D24+E24+I24-L24-V24-W24 -> 0 | Z24: 0 | AA24: 0 | AB24: 0 | AC24: =AA24+AB24 -> 0 | AD24: 0 | AE24: =AA24+AB24-AD24 -> 0 | AG24: 0 | AH24: 0 | AI24: 0 | AJ24: =AH24+AI24 -> 0 | AK24: 0 | AL24: 0 | AQ24: =C24 -> 0 | AR24: =E24+F24+G24+D24 -> 0 | AS24: =H24 -> 0 | AT24: =I24+J24+K24 -> 0 | AU24: =D24+E24+I24 -> 0 | AV24: =L24+V24+W24+Y24+Z24 -> 0 | AW24: =M24 -> 0 | AX24: =N24+O24+P24+Q24 -> 0 | AY24: =R24 -> 0 | AZ24: =S24+T24+U24 -> 0 | BA24: =V24 -> 0 | BB24: =M24+R24 -> 0 | BC24: =AC24 -> 0 | BD24: =AA24+AB24 -> 0 | BE24: =AC24 -> 0 | BF24: =AD24+AE24 -> 0 | BG24: =AJ24 -> 0 | BH24: =AH24+AI24 -> 0 | BI24: =AJ24 -> 0 | BJ24: =AK24+AL24 -> 0
A25: 6.6 | B25: Ð³Ù³ÛÝùÇ ³í³·³Ýáõ áñáßáõÙÝ»ñÇ` ³í»ÉÇ µ³ñÓñ Çñ³í³µ³Ý³Ï³Ý áõÅ áõÝ»óáÕ ÝáñÙ³ïÇí ³Ïï»ñÇÝ Ñ³Ù³å³ï³ëË³ÝáõÃÛáõÝÁ íÇ×³ñÏ»Éáõ í»ñ³µ»ñÛ³É | C25: 0 | D25: 0 | E25: 0 | F25: 0 | G25: 0 | H25: 0 | I25: =H25-J25-K25 -> 0 | J25: 0 | K25: 0 | L25: 0 | M25: =N25+O25+P25+Q25 -> 0 | N25: 0 | O25: 0 | P25: 0 | Q25: 0 | R25: 0 | S25: 0 | T25: 0 | U25: 0 | V25: =M25+R25 -> 0 | W25: 0 | X25: 0 | Y25: =D25+E25+I25-L25-V25-W25 -> 0 | Z25: 0 | AA25: 0 | AB25: 0 | AC25: =AA25+AB25 -> 0 | AD25: 0 | AE25: =AA25+AB25-AD25 -> 0 | AG25: 0 | AH25: 0 | AI25: 0 | AJ25: =AH25+AI25 -> 0 | AK25: 0 | AL25: 0 | AQ25: =C25 -> 0 | AR25: =E25+F25+G25+D25 -> 0 | AS25: =H25 -> 0 | AT25: =I25+J25+K25 -> 0 | AU25: =D25+E25+I25 -> 0 | AV25: =L25+V25+W25+Y25+Z25 -> 0 | AW25: =M25 -> 0 | AX25: =N25+O25+P25+Q25 -> 0 | AY25: =R25 -> 0 | AZ25: =S25+T25+U25 -> 0 | BA25: =V25 -> 0 | BB25: =M25+R25 -> 0 | BC25: =AC25 -> 0 | BD25: =AA25+AB25 -> 0 | BE25: =AC25 -> 0 | BF25: =AD25+AE25 -> 0 | BG25: =AJ25 -> 0 | BH25: =AH25+AI25 -> 0 | BI25: =AJ25 -> 0 | BJ25: =AK25+AL25 -> 0
A26: 6.7 | B26: Ð³Ù³ÛÝùÇ Õ»Ï³í³ñÇ áñáßáõÙÝ»ñÇ` ³í»ÉÇ µ³ñÓñ Çñ³í³µ³Ý³Ï³Ý áõÅ áõÝ»óáÕ ÝáñÙ³ïÇí ³Ïï»ñÇÝ Ñ³Ù³å³ï³ëË³ÝáõÃÛáõÝÁ íÇ×³ñÏ»Éáõ í»ñ³µ»ñÛ³É | C26: 0 | D26: 0 | E26: 0 | F26: 0 | G26: 0 | H26: 0 | I26: =H26-J26-K26 -> 0 | J26: 0 | K26: 0 | L26: 0 | M26: =N26+O26+P26+Q26 -> 0 | N26: 0 | O26: 0 | P26: 0 | Q26: 0 | R26: 0 | S26: 0 | T26: 0 | U26: 0 | V26: =M26+R26 -> 0 | W26: 0 | X26: 0 | Y26: =D26+E26+I26-L26-V26-W26 -> 0 | Z26: 0 | AA26: 0 | AB26: 0 | AC26: =AA26+AB26 -> 0 | AD26: 0 | AE26: =AA26+AB26-AD26 -> 0 | AG26: 0 | AH26: 0 | AI26: 0 | AJ26: =AH26+AI26 -> 0 | AK26: 0 | AL26: 0 | AQ26: =C26 -> 0 | AR26: =E26+F26+G26+D26 -> 0 | AS26: =H26 -> 0 | AT26: =I26+J26+K26 -> 0 | AU26: =D26+E26+I26 -> 0 | AV26: =L26+V26+W26+Y26+Z26 -> 0 | AW26: =M26 -> 0 | AX26: =N26+O26+P26+Q26 -> 0 | AY26: =R26 -> 0 | AZ26: =S26+T26+U26 -> 0 | BA26: =V26 -> 0 | BB26: =M26+R26 -> 0 | BC26: =AC26 -> 0 | BD26: =AA26+AB26 -> 0 | BE26: =AC26 -> 0 | BF26: =AD26+AE26 -> 0 | BG26: =AJ26 -> 0 | BH26: =AH26+AI26 -> 0 | BI26: =AJ26 -> 0 | BJ26: =AK26+AL26 -> 0
A27: 7 | B27: ÀÝïñ³Ï³Ý Çñ³íáõÝùÇ å³ßïå³ÝáõÃÛ³Ý Ñ»ï Ï³åí³Í Çñ³í³Ñ³ñ³µ»ñáõÃÛáõÝÝ»ñÇ í»ñ³µ»ñÛ³É ¹³ï³Ï³Ý ·áñÍ»ñ | C27: =SUM(C28:C32) -> 0 | D27: =SUM(D28:D32) -> 0 | E27: =SUM(E28:E32) -> 0 | F27: =SUM(F28:F32) -> 0 | G27: =SUM(G28:G32) -> 0 | H27: =SUM(H28:H32) -> 3 | I27: =SUM(I28:I32) -> 0 | J27: =SUM(J28:J32) -> 0 | ... BJ27: =SUM(BJ28:BJ32) -> 0
