Workbook

Sheet Ընդհանուր
A1: 2019թ. տարեկան | C1: Ð²ÞìºîìàôÂÚàôÜ
A2: ØÇÝã¹³ï³Ï³Ý í³ñáõÛÃÇ ÝÏ³ïÙ³Ùµ ¹³ï³Ï³Ý í»ñ³ÑëÏáÕáõÃÛ³Ý, ¹³ï³Ï³Ý ³Ïï»ñÇ ¨ ¹³ï³Ï³Ý Ñ³ÝÓÝ³ñ³ñáõÃÛáõÝÝ»ñÇ Ï³ï³ñÙ³Ý Ñ»ï Ï³åí³Í ÙÇçÝáñ¹áõÃÛáõÝÝ»ñÇ í»ñ³µ»ñÛ³É ¹³ï³Ï³Ý ·áñÍ»ñáí ÐÐ ³é³çÇÝ ³ïÛ³ÝÇ ÁÝ¹Ñ³Ýáõñ Çñ³í³ëáõÃÛ³Ý ¹³ï³ñ³ÝÝերÇ ·áñÍáõÝ»áõÃÛ³Ý í»ñ³µ»ñÛ³É
A3: êïáõ·Çã Ñ³í³ë³ñáõÙ` 1+2=7+8+9, 7=3+4+5+6, | D3: Ñ³ßí»ïáõ Å³Ù³Ý³Ï³Ñ³ïí³ÍÇ ëÏ½µáõÙ Ý³Ëáñ¹ Ñ³ßí»ïáõ Å³Ù³Ý³Ï³Ñ³ïí³ÍÇó ÷áË³Ýóí³Í ·áñÍ»ñÇ ÁÝ¹Ñ³Ýáõñ ÃÇíÁ | E3: Ñ³ßí»ïáõ Å³Ù³Ý³Ï³Ñ³ïí³ÍáõÙ ëï³óí³Í ·áñÍ»ñÇ ÁÝ¹Ñ³Ýáõñ ÃÇíÁ | F3: Ñ³ßí»ïáõ Å³Ù³Ý³Ï³Ñ³ïí³ÍáõÙ ³í³ñïí³Í ·áñÍ»ñÇ ÁÝ¹Ñ³Ýáõñ ÃÇíÁ | K3: áõÕ³ñÏí»É ¿ Áëï ÁÝ¹¹³ïáõÃÛ³Ý | L3: Ñ³ßí»ïáõ Å³Ù³Ý³Ï³Ñ³ïí³ÍáõÙ ³Ý³í³ñï ·áñÍ»ñÇ ÁÝ¹Ñ³Ýáõñ ÃÇíÁ | M3: µáÕáù³ñÏí»É ¿ í»ñ³ùÝÝÇã ¹³ï³ñ³Ý
F4: Ù»ñÅí»É ¿ | G4: µ³í³ñ³ñí»É ¿ | H4: µ³í³ñ³ñí»É ¿ Ù³ëÝ³ÏÇ | I4: ÃáÕÝí»É ¿ ³é³Ýó ùÝÝáõÃÛ³Ý | J4: ÁÝ¹³Ù»ÝÁ
A5: 1. ØÇÝã¹³ï³Ï³Ý í³ñáõÛÃÇ ÝÏ³ïÙ³Ùµ ¹³ï³Ï³Ý í»ñ³ÑëÏáÕáõÃÛ³Ý áÉáñï | D5: 1 | E5: 2 | F5: 3 | G5: 4 | H5: 5 | I5: 6 | J5: 7 | K5: 8 | L5: 9 | M5: 10
A6: 1 | B6: Ï³É³ÝùÁ áñå»ë Ë³÷³ÝÙ³Ý ÙÇçáó ÏÇñ³é»Éáõ Ù³ëÇÝ ÙÇçÝáñ¹áõÃÛáõÝÝ»ñ | D6: =SUM(Տավուշ!D6+'Արագածոտն '!D6+'Երևան քաղաք'!D6+' Արարատ և Վայոց ձոր'!D6+Արմավիր!D6+Լոռի!D6+Սյունիք!D6+Կոտայք!D6+Գեղարքունիք!D6+Շիրակ!D6) -> 3 | E6: =SUM(Տավուշ!E6+'Արագածոտն '!E6+'Երևան քաղաք'!E6+' Արարատ և Վայոց ձոր'!E6+Արմավիր!E6+Լոռի!E6+Սյունիք!E6+Կոտայք!E6+Գեղարքունիք!E6+Շիրակ!E6) -> 1981 | F6: =SUM(Տավուշ!F6+'Արագածոտն '!F6+'Երևան քաղաք'!F6+' Արարատ և Վայոց ձոր'!F6+Արմավիր!F6+Լոռի!F6+Սյունիք!F6+Կոտայք!F6+Գեղարքունիք!F6+Շիրակ!F6) -> 176 | G6: =SUM(Տավուշ!G6+'Արագածոտն '!G6+'Երևան քաղաք'!G6+' Արարատ և Վայոց ձոր'!G6+Արմավիր!G6+Լոռի!G6+Սյունիք!G6+Կոտայք!G6+Գեղարքունիք!G6+Շիրակ!G6) -> 1802 | H6: =SUM(Տավուշ!H6+'Արագածոտն '!H6+'Երևան քաղաք'!H6+' Արարատ և Վայոց ձոր'!H6+Արմավիր!H6+Լոռի!H6+Սյունիք!H6+Կոտայք!H6+Գեղարքունիք!H6+Շիրակ!H6) -> 1 | I6: =SUM(Տավուշ!I6+'Արագածոտն '!I6+'Երևան քաղաք'!I6+' Արարատ և Վայոց ձոր'!I6+Արմավիր!I6+Լոռի!I6+Սյունիք!I6+Կոտայք!I6+Գեղարքունիք!I6+Շիրակ!I6) -> 2 | J6: =SUM(Տավուշ!J6+'Արագածոտն '!J6+'Երևան քաղաք'!J6+' Արարատ և Վայոց ձոր'!J6+Արմավիր!J6+Լոռի!J6+Սյունիք!J6+Կոտայք!J6+Գեղարքունիք!J6+Շիրակ!J6) -> 1981 | K6: =SUM(Տավուշ!K6+'Արագածոտն '!K6+'Երևան քաղաք'!K6+' Արարատ և Վայոց ձոր'!K6+Արմավիր!K6+Լոռի!K6+Սյունիք!K6+Կոտայք!K6+Գեղարքունիք!K6+Շիրակ!K6) -> 0 | ... M6: =SUM(Տավուշ!M6+'Արագածոտն '!M6+'Երևան քաղաք'!M6+' Արարատ և Վայոց ձոր'!M6+Արմավիր!M6+Լոռի!M6+Սյունիք!M6+Կոտայք!M6+Գեղարքունիք!M6+Շիրակ!M6) -> 638
A7: 2 | B7: Ï³É³ÝùÇ Å³ÙÏ»ïÁ »ñÏ³ñ³óÝ»Éáõ Ù³ëÇÝ ÙÇçÝáñ¹áõÃÛáõÝÝ»ñ | D7: =SUM(Տավուշ!D7+'Արագածոտն '!D7+'Երևան քաղաք'!D7+' Արարատ և Վայոց ձոր'!D7+Արմավիր!D7+Լոռի!D7+Սյունիք!D7+Կոտայք!D7+Գեղարքունիք!D7+Շիրակ!D7) -> 13 | E7: =SUM(Տավուշ!E7+'Արագածոտն '!E7+'Երևան քաղաք'!E7+' Արարատ և Վայոց ձոր'!E7+Արմավիր!E7+Լոռի!E7+Սյունիք!E7+Կոտայք!E7+Գեղարքունիք!E7+Շիրակ!E7) -> 1284 | F7: =SUM(Տավուշ!F7+'Արագածոտն '!F7+'Երևան քաղաք'!F7+' Արարատ և Վայոց ձոր'!F7+Արմավիր!F7+Լոռի!F7+Սյունիք!F7+Կոտայք!F7+Գեղարքունիք!F7+Շիրակ!F7) -> 44 | G7: =SUM(Տավուշ!G7+'Արագածոտն '!G7+'Երևան քաղաք'!G7+' Արարատ և Վայոց ձոր'!G7+Արմավիր!G7+Լոռի!G7+Սյունիք!G7+Կոտայք!G7+Գեղարքունիք!G7+Շիրակ!G7) -> 1197 | H7: =SUM(Տավուշ!H7+'Արագածոտն '!H7+'Երևան քաղաք'!H7+' Արարատ և Վայոց ձոր'!H7+Արմավիր!H7+Լոռի!H7+Սյունիք!H7+Կոտայք!H7+Գեղարքունիք!H7+Շիրակ!H7) -> 37 | I7: =SUM(Տավուշ!I7+'Արագածոտն '!I7+'Երևան քաղաք'!I7+' Արարատ և Վայոց ձոր'!I7+Արմավիր!I7+Լոռի!I7+Սյունիք!I7+Կոտայք!I7+Գեղարքունիք!I7+Շիրակ!I7) -> 9 | J7: =SUM(Տավուշ!J7+'Արագածոտն '!J7+'Երևան քաղաք'!J7+' Արարատ և Վայոց ձոր'!J7+Արմավիր!J7+Լոռի!J7+Սյունիք!J7+Կոտայք!J7+Գեղարքունիք!J7+Շիրակ!J7) -> 1287 | K7: =SUM(Տավուշ!K7+'Արագածոտն '!K7+'Երևան քաղաք'!K7+' Արարատ և Վայոց ձոր'!K7+Արմավիր!K7+Լոռի!K7+Սյունիք!K7+Կոտայք!K7+Գեղարքունիք!K7+Շիրակ!K7) -> 0 | ... M7: =SUM(Տավուշ!M7+'Արագածոտն '!M7+'Երևան քաղաք'!M7+' Արարատ և Վայոց ձոր'!M7+Արմավիր!M7+Լոռի!M7+Սյունիք!M7+Կոտայք!M7+Գեղարքունիք!M7+Շիրակ!M7) -> 444
A8: 3 | B8: Ï³É³ÝùÇ í»ñ³Ñ³ëï³ïÙ³Ý Ù³ëÇÝ ÙÇçÝáñ¹áõÃÛáõÝÝ»ñ | D8: =SUM(Տավուշ!D8+'Արագածոտն '!D8+'Երևան քաղաք'!D8+' Արարատ և Վայոց ձոր'!D8+Արմավիր!D8+Լոռի!D8+Սյունիք!D8+Կոտայք!D8+Գեղարքունիք!D8+Շիրակ!D8) -> 0 | E8: =SUM(Տավուշ!E8+'Արագածոտն '!E8+'Երևան քաղաք'!E8+' Արարատ և Վայոց ձոր'!E8+Արմավիր!E8+Լոռի!E8+Սյունիք!E8+Կոտայք!E8+Գեղարքունիք!E8+Շիրակ!E8) -> 141 | F8: =SUM(Տավուշ!F8+'Արագածոտն '!F8+'Երևան քաղաք'!F8+' Արարատ և Վայոց ձոր'!F8+Արմավիր!F8+Լոռի!F8+Սյունիք!F8+Կոտայք!F8+Գեղարքունիք!F8+Շիրակ!F8) -> 18 | G8: =SUM(Տավուշ!G8+'Արագածոտն '!G8+'Երևան քաղաք'!G8+' Արարատ և Վայոց ձոր'!G8+Արմավիր!G8+Լոռի!G8+Սյունիք!G8+Կոտայք!G8+Գեղարքունիք!G8+Շիրակ!G8) -> 123 | H8: =SUM(Տավուշ!H8+'Արագածոտն '!H8+'Երևան քաղաք'!H8+' Արարատ և Վայոց ձոր'!H8+Արմավիր!H8+Լոռի!H8+Սյունիք!H8+Կոտայք!H8+Գեղարքունիք!H8+Շիրակ!H8) -> 0 | I8: =SUM(Տավուշ!I8+'Արագածոտն '!I8+'Երևան քաղաք'!I8+' Արարատ և Վայոց ձոր'!I8+Արմավիր!I8+Լոռի!I8+Սյունիք!I8+Կոտայք!I8+Գեղարքունիք!I8+Շիրակ!I8) -> 0 | J8: =SUM(Տավուշ!J8+'Արագածոտն '!J8+'Երևան քաղաք'!J8+' Արարատ և Վայոց ձոր'!J8+Արմավիր!J8+Լոռի!J8+Սյունիք!J8+Կոտայք!J8+Գեղարքունիք!J8+Շիրակ!J8) -> 141 | K8: =SUM(Տավուշ!K8+'Արագածոտն '!K8+'Երևան քաղաք'!K8+' Արարատ և Վայոց ձոր'!K8+Արմավիր!K8+Լոռի!K8+Սյունիք!K8+Կոտայք!K8+Գեղարքունիք!K8+Շիրակ!K8) -> 0 | ... M8: =SUM(Տավուշ!M8+'Արագածոտն '!M8+'Երևան քաղաք'!M8+' Արարատ և Վայոց ձոր'!M8+Արմավիր!M8+Լոռի!M8+Սյունիք!M8+Կոտայք!M8+Գեղարքունիք!M8+Շիրակ!M8) -> 41
A9: 4 | B9: ·ñ³íÁ áñå»ë Ï³É³Ý³íáñÙ³Ý ³ÛÉÁÝïñ³Ýù³ÛÇÝ Ë³÷³ÝÙ³Ý ÙÇçáó ÏÇñ³é»Éáõ Ù³ëÇÝ ÙÇçÝáñ¹áõÃÛáõÝÝ»ñ | D9: =SUM(Տավուշ!D9+'Արագածոտն '!D9+'Երևան քաղաք'!D9+' Արարատ և Վայոց ձոր'!D9+Արմավիր!D9+Լոռի!D9+Սյունիք!D9+Կոտայք!D9+Գեղարքունիք!D9+Շիրակ!D9) -> 6 | E9: =SUM(Տավուշ!E9+'Արագածոտն '!E9+'Երևան քաղաք'!E9+' Արարատ և Վայոց ձոր'!E9+Արմավիր!E9+Լոռի!E9+Սյունիք!E9+Կոտայք!E9+Գեղարքունիք!E9+Շիրակ!E9) -> 1146 | F9: =SUM(Տավուշ!F9+'Արագածոտն '!F9+'Երևան քաղաք'!F9+' Արարատ և Վայոց ձոր'!F9+Արմավիր!F9+Լոռի!F9+Սյունիք!F9+Կոտայք!F9+Գեղարքունիք!F9+Շիրակ!F9) -> 932 | G9: =SUM(Տավուշ!G9+'Արագածոտն '!G9+'Երևան քաղաք'!G9+' Արարատ և Վայոց ձոր'!G9+Արմավիր!G9+Լոռի!G9+Սյունիք!G9+Կոտայք!G9+Գեղարքունիք!G9+Շիրակ!G9) -> 198 | H9: =SUM(Տավուշ!H9+'Արագածոտն '!H9+'Երևան քաղաք'!H9+' Արարատ և Վայոց ձոր'!H9+Արմավիր!H9+Լոռի!H9+Սյունիք!H9+Կոտայք!H9+Գեղարքունիք!H9+Շիրակ!H9) -> 0 | I9: =SUM(Տավուշ!I9+'Արագածոտն '!I9+'Երևան քաղաք'!I9+' Արարատ և Վայոց ձոր'!I9+Արմավիր!I9+Լոռի!I9+Սյունիք!I9+Կոտայք!I9+Գեղարքունիք!I9+Շիրակ!I9) -> 6 | J9: =SUM(Տավուշ!J9+'Արագածոտն '!J9+'Երևան քաղաք'!J9+' Արարատ և Վայոց ձոր'!J9+Արմավիր!J9+Լոռի!J9+Սյունիք!J9+Կոտայք!J9+Գեղարքունիք!J9+Շիրակ!J9) -> 1136 | K9: =SUM(Տավուշ!K9+'Արագածոտն '!K9+'Երևան քաղաք'!K9+' Արարատ և Վայոց ձոր'!K9+Արմավիր!K9+Լոռի!K9+Սյունիք!K9+Կոտայք!K9+Գեղարքունիք!K9+Շիրակ!K9) -> 2 | ... M9: =SUM(Տավուշ!M9+'Արագածոտն '!M9+'Երևան քաղաք'!M9+' Արարատ և Վայոց ձոր'!M9+Արմավիր!M9+Լոռի!M9+Սյունիք!M9+Կոտայք!M9+Գեղարքունիք!M9+Շիրակ!M9) -> 214
A10: 5 | B10: Ëáõ½³ñÏáõÃÛ³Ý Ï³ï³ñÙ³Ý Ù³ëÇÝ ÙÇçÝáñ¹áõÃÛáõÝÝ»ñ | D10: =SUM(Տավուշ!D10+'Արագածոտն '!D10+'Երևան քաղաք'!D10+' Արարատ և Վայոց ձոր'!D10+Արմավիր!D10+Լոռի!D10+Սյունիք!D10+Կոտայք!D10+Գեղարքունիք!D10+Շիրակ!D10) -> 0 | E10: =SUM(Տավուշ!E10+'Արագածոտն '!E10+'Երևան քաղաք'!E10+' Արարատ և Վայոց ձոր'!E10+Արմավիր!E10+Լոռի!E10+Սյունիք!E10+Կոտայք!E10+Գեղարքունիք!E10+Շիրակ!E10) -> 5303 | F10: =SUM(Տավուշ!F10+'Արագածոտն '!F10+'Երևան քաղաք'!F10+' Արարատ և Վայոց ձոր'!F10+Արմավիր!F10+Լոռի!F10+Սյունիք!F10+Կոտայք!F10+Գեղարքունիք!F10+Շիրակ!F10) -> 356 | G10: =SUM(Տավուշ!G10+'Արագածոտն '!G10+'Երևան քաղաք'!G10+' Արարատ և Վայոց ձոր'!G10+Արմավիր!G10+Լոռի!G10+Սյունիք!G10+Կոտայք!G10+Գեղարքունիք!G10+Շիրակ!G10) -> 4856 | H10: =SUM(Տավուշ!H10+'Արագածոտն '!H10+'Երևան քաղաք'!H10+' Արարատ և Վայոց ձոր'!H10+Արմավիր!H10+Լոռի!H10+Սյունիք!H10+Կոտայք!H10+Գեղարքունիք!H10+Շիրակ!H10) -> 88 | I10: =SUM(Տավուշ!I10+'Արագածոտն '!I10+'Երևան քաղաք'!I10+' Արարատ և Վայոց ձոր'!I10+Արմավիր!I10+Լոռի!I10+Սյունիք!I10+Կոտայք!I10+Գեղարքունիք!I10+Շիրակ!I10) -> 3 | J10: =SUM(Տավուշ!J10+'Արագածոտն '!J10+'Երևան քաղաք'!J10+' Արարատ և Վայոց ձոր'!J10+Արմավիր!J10+Լոռի!J10+Սյունիք!J10+Կոտայք!J10+Գեղարքունիք!J10+Շիրակ!J10) -> 5303 | K10: =SUM(Տավուշ!K10+'Արագածոտն '!K10+'Երևան քաղաք'!K10+' Արարատ և Վայոց ձոր'!K10+Արմավիր!K10+Լոռի!K10+Սյունիք!K10+Կոտայք!K10+Գեղարքունիք!K10+Շիրակ!K10) -> 0 | ... M10: =SUM(Տավուշ!M10+'Արագածոտն '!M10+'Երևան քաղաք'!M10+' Արարատ և Վայոց ձոր'!M10+Արմավիր!M10+Լոռի!M10+Սյունիք!M10+Կոտայք!M10+Գեղարքունիք!M10+Շիրակ!M10) -> 56
A11: 6 | B11: µ³ÝÏ³ÛÇÝ, ³å³Ñáí³·ñ³Ï³Ý, Ýáï³ñ³Ï³Ý ·³ÕïÝÇù Ï³½ÙáÕ ï»Õ»ÏáõÃÛáõÝÝ»ñÇ ëï³óÙ³Ý Ñ³Ù³ñ Ëáõ½³ñÏáõÃÛ³Ý Ï³Ù ³é·ñ³íÙ³Ý Ï³ï³ñÙ³Ý Ù³ëÇÝ ÙÇçÝáñ¹áõÃÛáõÝÝ»ñ | D11: =SUM(Տավուշ!D11+'Արագածոտն '!D11+'Երևան քաղաք'!D11+' Արարատ և Վայոց ձոր'!D11+Արմավիր!D11+Լոռի!D11+Սյունիք!D11+Կոտայք!D11+Գեղարքունիք!D11+Շիրակ!D11) -> 0 | E11: =SUM(Տավուշ!E11+'Արագածոտն '!E11+'Երևան քաղաք'!E11+' Արարատ և Վայոց ձոր'!E11+Արմավիր!E11+Լոռի!E11+Սյունիք!E11+Կոտայք!E11+Գեղարքունիք!E11+Շիրակ!E11) -> 326 | F11: =SUM(Տավուշ!F11+'Արագածոտն '!F11+'Երևան քաղաք'!F11+' Արարատ և Վայոց ձոր'!F11+Արմավիր!F11+Լոռի!F11+Սյունիք!F11+Կոտայք!F11+Գեղարքունիք!F11+Շիրակ!F11) -> 30 | G11: =SUM(Տավուշ!G11+'Արագածոտն '!G11+'Երևան քաղաք'!G11+' Արարատ և Վայոց ձոր'!G11+Արմավիր!G11+Լոռի!G11+Սյունիք!G11+Կոտայք!G11+Գեղարքունիք!G11+Շիրակ!G11) -> 323 | H11: =SUM(Տավուշ!H11+'Արագածոտն '!H11+'Երևան քաղաք'!H11+' Արարատ և Վայոց ձոր'!H11+Արմավիր!H11+Լոռի!H11+Սյունիք!H11+Կոտայք!H11+Գեղարքունիք!H11+Շիրակ!H11) -> 11 | I11: =SUM(Տավուշ!I11+'Արագածոտն '!I11+'Երևան քաղաք'!I11+' Արարատ և Վայոց ձոր'!I11+Արմավիր!I11+Լոռի!I11+Սյունիք!I11+Կոտայք!I11+Գեղարքունիք!I11+Շիրակ!I11) -> 0 | J11: =SUM(Տավուշ!J11+'Արագածոտն '!J11+'Երևան քաղաք'!J11+' Արարատ և Վայոց ձոր'!J11+Արմավիր!J11+Լոռի!J11+Սյունիք!J11+Կոտայք!J11+Գեղարքունիք!J11+Շիրակ!J11) -> 364 | K11: =SUM(Տավուշ!K11+'Արագածոտն '!K11+'Երևան քաղաք'!K11+' Արարատ և Վայոց ձոր'!K11+Արմավիր!K11+Լոռի!K11+Սյունիք!K11+Կոտայք!K11+Գեղարքունիք!K11+Շիրակ!K11) -> 0 | ... M11: =SUM(Տավուշ!M11+'Արագածոտն '!M11+'Երևան քաղաք'!M11+' Արարատ և Վայոց ձոր'!M11+Արմավիր!M11+Լոռի!M11+Սյունիք!M11+Կոտայք!M11+Գեղարքունիք!M11+Շիրակ!M11) -> 11
A12: 7 | B12: Ý³Ù³Ï³·ñáõÃÛ³Ý, Ñ»é³·ñ³Ï³Ý, ÷áuï³ÛÇÝ Ñ³Õáñ¹áõÙÝ»ñÇ ÑëÏáÕáõÃÛ³Ý Ù³ëÇÝ ÙÇçÝáñ¹áõÃÛáõÝÝ»ñ | D12: =SUM(Տավուշ!D12+'Արագածոտն '!D12+'Երևան քաղաք'!D12+' Արարատ և Վայոց ձոր'!D12+Արմավիր!D12+Լոռի!D12+Սյունիք!D12+Կոտայք!D12+Գեղարքունիք!D12+Շիրակ!D12) -> 0 | E12: =SUM(Տավուշ!E12+'Արագածոտն '!E12+'Երևան քաղաք'!E12+' Արարատ և Վայոց ձոր'!E12+Արմավիր!E12+Լոռի!E12+Սյունիք!E12+Կոտայք!E12+Գեղարքունիք!E12+Շիրակ!E12) -> 812 | F12: =SUM(Տավուշ!F12+'Արագածոտն '!F12+'Երևան քաղաք'!F12+' Արարատ և Վայոց ձոր'!F12+Արմավիր!F12+Լոռի!F12+Սյունիք!F12+Կոտայք!F12+Գեղարքունիք!F12+Շիրակ!F12) -> 15 | G12: =SUM(Տավուշ!G12+'Արագածոտն '!G12+'Երևան քաղաք'!G12+' Արարատ և Վայոց ձոր'!G12+Արմավիր!G12+Լոռի!G12+Սյունիք!G12+Կոտայք!G12+Գեղարքունիք!G12+Շիրակ!G12) -> 789 | H12: =SUM(Տավուշ!H12+'Արագածոտն '!H12+'Երևան քաղաք'!H12+' Արարատ և Վայոց ձոր'!H12+Արմավիր!H12+Լոռի!H12+Սյունիք!H12+Կոտայք!H12+Գեղարքունիք!H12+Շիրակ!H12) -> 6 | I12: =SUM(Տավուշ!I12+'Արագածոտն '!I12+'Երևան քաղաք'!I12+' Արարատ և Վայոց ձոր'!I12+Արմավիր!I12+Լոռի!I12+Սյունիք!I12+Կոտայք!I12+Գեղարքունիք!I12+Շիրակ!I12) -> 2 | J12: =SUM(Տավուշ!J12+'Արագածոտն '!J12+'Երևան քաղաք'!J12+' Արարատ և Վայոց ձոր'!J12+Արմավիր!J12+Լոռի!J12+Սյունիք!J12+Կոտայք!J12+Գեղարքունիք!J12+Շիրակ!J12) -> 812 | K12: =SUM(Տավուշ!K12+'Արագածոտն '!K12+'Երևան քաղաք'!K12+' Արարատ և Վայոց ձոր'!K12+Արմավիր!K12+Լոռի!K12+Սյունիք!K12+Կոտայք!K12+Գեղարքունիք!K12+Շիրակ!K12) -> 0 | ... M12: =SUM(Տավուշ!M12+'Արագածոտն '!M12+'Երևան քաղաք'!M12+' Արարատ և Վայոց ձոր'!M12+Արմավիր!M12+Լոռի!M12+Սյունիք!M12+Կոտայք!M12+Գեղարքունիք!M12+Շիրակ!M12) -> 0
A13: 8 | B13: Ñ»é³Ëáu³ÛÇÝ Ï³Ù Ï³åÇ ³ÛÉ ÙÇçáóÝ»ñáí ï³ñíáÕ Ëáu³ÏóáõÃÛáõÝÝ»ñÇ ÉuÙ³Ý ¨ Ó³ÛÝ³·ñ³éÙ³Ý Ù³ëÇÝ ÙÇçÝáñ¹áõÃÛáõÝÝ»ñ | D13: =SUM(Տավուշ!D13+'Արագածոտն '!D13+'Երևան քաղաք'!D13+' Արարատ և Վայոց ձոր'!D13+Արմավիր!D13+Լոռի!D13+Սյունիք!D13+Կոտայք!D13+Գեղարքունիք!D13+Շիրակ!D13) -> 0 | E13: =SUM(Տավուշ!E13+'Արագածոտն '!E13+'Երևան քաղաք'!E13+' Արարատ և Վայոց ձոր'!E13+Արմավիր!E13+Լոռի!E13+Սյունիք!E13+Կոտայք!E13+Գեղարքունիք!E13+Շիրակ!E13) -> 150 | F13: =SUM(Տավուշ!F13+'Արագածոտն '!F13+'Երևան քաղաք'!F13+' Արարատ և Վայոց ձոր'!F13+Արմավիր!F13+Լոռի!F13+Սյունիք!F13+Կոտայք!F13+Գեղարքունիք!F13+Շիրակ!F13) -> 8 | G13: =SUM(Տավուշ!G13+'Արագածոտն '!G13+'Երևան քաղաք'!G13+' Արարատ և Վայոց ձոր'!G13+Արմավիր!G13+Լոռի!G13+Սյունիք!G13+Կոտայք!G13+Գեղարքունիք!G13+Շիրակ!G13) -> 140 | H13: =SUM(Տավուշ!H13+'Արագածոտն '!H13+'Երևան քաղաք'!H13+' Արարատ և Վայոց ձոր'!H13+Արմավիր!H13+Լոռի!H13+Սյունիք!H13+Կոտայք!H13+Գեղարքունիք!H13+Շիրակ!H13) -> 2 | I13: =SUM(Տավուշ!I13+'Արագածոտն '!I13+'Երևան քաղաք'!I13+' Արարատ և Վայոց ձոր'!I13+Արմավիր!I13+Լոռի!I13+Սյունիք!I13+Կոտայք!I13+Գեղարքունիք!I13+Շիրակ!I13) -> 0 | J13: =SUM(Տավուշ!J13+'Արագածոտն '!J13+'Երևան քաղաք'!J13+' Արարատ և Վայոց ձոր'!J13+Արմավիր!J13+Լոռի!J13+Սյունիք!J13+Կոտայք!J13+Գեղարքունիք!J13+Շիրակ!J13) -> 150 | K13: =SUM(Տավուշ!K13+'Արագածոտն '!K13+'Երևան քաղաք'!K13+' Արարատ և Վայոց ձոր'!K13+Արմավիր!K13+Լոռի!K13+Սյունիք!K13+Կոտայք!K13+Գեղարքունիք!K13+Շիրակ!K13) -> 0 | ... M13: =SUM(Տավուշ!M13+'Արագածոտն '!M13+'Երևան քաղաք'!M13+' Արարատ և Վայոց ձոր'!M13+Արմավիր!M13+Լոռի!M13+Սյունիք!M13+Կոտայք!M13+Գեղարքունիք!M13+Շիրակ!M13) -> 2
A14: 9 | B14: Ñ»é³ËáëÝ»ñÇ Ùáõïù³ÛÇÝ ¨ »Éù³ÛÇÝ í»ñÍ³ÝÙ³Ý ÃáõÛÉïíáõÃÛáõÝ ëï³Ý³Éáõ Ù³ëÇÝ ÙÇçÝáñ¹áõÃÛáõÝÝ»ñ | D14: =SUM(Տավուշ!D14+'Արագածոտն '!D14+'Երևան քաղաք'!D14+' Արարատ և Վայոց ձոր'!D14+Արմավիր!D14+Լոռի!D14+Սյունիք!D14+Կոտայք!D14+Գեղարքունիք!D14+Շիրակ!D14) -> 0 | E14: =SUM(Տավուշ!E14+'Արագածոտն '!E14+'Երևան քաղաք'!E14+' Արարատ և Վայոց ձոր'!E14+Արմավիր!E14+Լոռի!E14+Սյունիք!E14+Կոտայք!E14+Գեղարքունիք!E14+Շիրակ!E14) -> 5761 | F14: =SUM(Տավուշ!F14+'Արագածոտն '!F14+'Երևան քաղաք'!F14+' Արարատ և Վայոց ձոր'!F14+Արմավիր!F14+Լոռի!F14+Սյունիք!F14+Կոտայք!F14+Գեղարքունիք!F14+Շիրակ!F14) -> 86 | G14: =SUM(Տավուշ!G14+'Արագածոտն '!G14+'Երևան քաղաք'!G14+' Արարատ և Վայոց ձոր'!G14+Արմավիր!G14+Լոռի!G14+Սյունիք!G14+Կոտայք!G14+Գեղարքունիք!G14+Շիրակ!G14) -> 5507 | H14: =SUM(Տավուշ!H14+'Արագածոտն '!H14+'Երևան քաղաք'!H14+' Արարատ և Վայոց ձոր'!H14+Արմավիր!H14+Լոռի!H14+Սյունիք!H14+Կոտայք!H14+Գեղարքունիք!H14+Շիրակ!H14) -> 168 | I14: =SUM(Տավուշ!I14+'Արագածոտն '!I14+'Երևան քաղաք'!I14+' Արարատ և Վայոց ձոր'!I14+Արմավիր!I14+Լոռի!I14+Սյունիք!I14+Կոտայք!I14+Գեղարքունիք!I14+Շիրակ!I14) -> 0 | J14: =SUM(Տավուշ!J14+'Արագածոտն '!J14+'Երևան քաղաք'!J14+' Արարատ և Վայոց ձոր'!J14+Արմավիր!J14+Լոռի!J14+Սյունիք!J14+Կոտայք!J14+Գեղարքունիք!J14+Շիրակ!J14) -> 5761 | K14: =SUM(Տավուշ!K14+'Արագածոտն '!K14+'Երևան քաղաք'!K14+' Արարատ և Վայոց ձոր'!K14+Արմավիր!K14+Լոռի!K14+Սյունիք!K14+Կոտայք!K14+Գեղարքունիք!K14+Շիրակ!K14) -> 0 | ... M14: =SUM(Տավուշ!M14+'Արագածոտն '!M14+'Երևան քաղաք'!M14+' Արարատ և Վայոց ձոր'!M14+Արմավիր!M14+Լոռի!M14+Սյունիք!M14+Կոտայք!M14+Գեղարքունիք!M14+Շիրակ!M14) -> 20
A15: 10 | B15: Ñ»ï³ùÝÝáõÃÛ³Ý Ù³ñÙÝÇ ³ßË³ïáÕÇ, ùÝÝÇãÇ, ¹³ï³Ë³½Ç oå»ñ³ïÇí-Ñ»ï³Ëáõ½³Ï³Ý ·áñÍáÕáõÃÛáõÝÝ»ñ Çñ³Ï³Ý³óÝáÕ Ù³ñÙÇÝÝ»ñÇ ³ÝoñÇÝ³Ï³Ý ¨ ³ÝÑÇÙÝ áñáßáõÙÝ»ñÇ ¨ ·áñÍáÕáõÃÛáõÝÝ»ñÇ ¹»Ù µáÕáùÝ»ñ | D15: =SUM(Տավուշ!D15+'Արագածոտն '!D15+'Երևան քաղաք'!D15+' Արարատ և Վայոց ձոր'!D15+Արմավիր!D15+Լոռի!D15+Սյունիք!D15+Կոտայք!D15+Գեղարքունիք!D15+Շիրակ!D15) -> 444 | E15: =SUM(Տավուշ!E15+'Արագածոտն '!E15+'Երևան քաղաք'!E15+' Արարատ և Վայոց ձոր'!E15+Արմավիր!E15+Լոռի!E15+Սյունիք!E15+Կոտայք!E15+Գեղարքունիք!E15+Շիրակ!E15) -> 1519 | F15: =SUM(Տավուշ!F15+'Արագածոտն '!F15+'Երևան քաղաք'!F15+' Արարատ և Վայոց ձոր'!F15+Արմավիր!F15+Լոռի!F15+Սյունիք!F15+Կոտայք!F15+Գեղարքունիք!F15+Շիրակ!F15) -> 891 | G15: =SUM(Տավուշ!G15+'Արագածոտն '!G15+'Երևան քաղաք'!G15+' Արարատ և Վայոց ձոր'!G15+Արմավիր!G15+Լոռի!G15+Սյունիք!G15+Կոտայք!G15+Գեղարքունիք!G15+Շիրակ!G15) -> 197 | H15: =SUM(Տավուշ!H15+'Արագածոտն '!H15+'Երևան քաղաք'!H15+' Արարատ և Վայոց ձոր'!H15+Արմավիր!H15+Լոռի!H15+Սյունիք!H15+Կոտայք!H15+Գեղարքունիք!H15+Շիրակ!H15) -> 35 | I15: =SUM(Տավուշ!I15+'Արագածոտն '!I15+'Երևան քաղաք'!I15+' Արարատ և Վայոց ձոր'!I15+Արմավիր!I15+Լոռի!I15+Սյունիք!I15+Կոտայք!I15+Գեղարքունիք!I15+Շիրակ!I15) -> 50 | J15: =SUM(Տավուշ!J15+'Արագածոտն '!J15+'Երևան քաղաք'!J15+' Արարատ և Վայոց ձոր'!J15+Արմավիր!J15+Լոռի!J15+Սյունիք!J15+Կոտայք!J15+Գեղարքունիք!J15+Շիրակ!J15) -> 1173 | K15: =SUM(Տավուշ!K15+'Արագածոտն '!K15+'Երևան քաղաք'!K15+' Արարատ և Վայոց ձոր'!K15+Արմավիր!K15+Լոռի!K15+Սյունիք!K15+Կոտայք!K15+Գեղարքունիք!K15+Շիրակ!K15) -> 9 | ... M15: =SUM(Տավուշ!M15+'Արագածոտն '!M15+'Երևան քաղաք'!M15+' Արարատ և Վայոց ձոր'!M15+Արմավիր!M15+Լոռի!M15+Սյունիք!M15+Կոտայք!M15+Գեղարքունիք!M15+Շիրակ!M15) -> 584
A16: 11 | B16: ²½³ïáõÃÛáõÝÇó ½ñÏ»Éáõ Çñ³í³ã³÷áõÃÛ³Ý í»ñ³µ»ñÛ³É µáÕáùÝ»ñáí ·áñÍ»ñ | D16: =SUM(Տավուշ!D16+'Արագածոտն '!D16+'Երևան քաղաք'!D16+' Արարատ և Վայոց ձոր'!D16+Արմավիր!D16+Լոռի!D16+Սյունիք!D16+Կոտայք!D16+Գեղարքունիք!D16+Շիրակ!D16) -> 0 | E16: =SUM(Տավուշ!E16+'Արագածոտն '!E16+'Երևան քաղաք'!E16+' Արարատ և Վայոց ձոր'!E16+Արմավիր!E16+Լոռի!E16+Սյունիք!E16+Կոտայք!E16+Գեղարքունիք!E16+Շիրակ!E16) -> 204 | F16: =SUM(Տավուշ!F16+'Արագածոտն '!F16+'Երևան քաղաք'!F16+' Արարատ և Վայոց ձոր'!F16+Արմավիր!F16+Լոռի!F16+Սյունիք!F16+Կոտայք!F16+Գեղարքունիք!F16+Շիրակ!F16) -> 76 | G16: =SUM(Տավուշ!G16+'Արագածոտն '!G16+'Երևան քաղաք'!G16+' Արարատ և Վայոց ձոր'!G16+Արմավիր!G16+Լոռի!G16+Սյունիք!G16+Կոտայք!G16+Գեղարքունիք!G16+Շիրակ!G16) -> 91 | H16: =SUM(Տավուշ!H16+'Արագածոտն '!H16+'Երևան քաղաք'!H16+' Արարատ և Վայոց ձոր'!H16+Արմավիր!H16+Լոռի!H16+Սյունիք!H16+Կոտայք!H16+Գեղարքունիք!H16+Շիրակ!H16) -> 3 | I16: =SUM(Տավուշ!I16+'Արագածոտն '!I16+'Երևան քաղաք'!I16+' Արարատ և Վայոց ձոր'!I16+Արմավիր!I16+Լոռի!I16+Սյունիք!I16+Կոտայք!I16+Գեղարքունիք!I16+Շիրակ!I16) -> 12 | J16: =SUM(Տավուշ!J16+'Արագածոտն '!J16+'Երևան քաղաք'!J16+' Արարատ և Վայոց ձոր'!J16+Արմավիր!J16+Լոռի!J16+Սյունիք!J16+Կոտայք!J16+Գեղարքունիք!J16+Շիրակ!J16) -> 182 | K16: =SUM(Տավուշ!K16+'Արագածոտն '!K16+'Երևան քաղաք'!K16+' Արարատ և Վայոց ձոր'!K16+Արմավիր!K16+Լոռի!K16+Սյունիք!K16+Կոտայք!K16+Գեղարքունիք!K16+Շիրակ!K16) -> 0 | ... M16: =SUM(Տավուշ!M16+'Արագածոտն '!M16+'Երևան քաղաք'!M16+' Արարատ և Վայոց ձոր'!M16+Արմավիր!M16+Լոռի!M16+Սյունիք!M16+Կոտայք!M16+Գեղարքունիք!M16+Շիրակ!M16) -> 32
A17: 2. ¸³ï³Ï³Ý ³Ïï»ñÇ ¨ ¹³ï³Ï³Ý Ñ³ÝÓÝ³ñ³ñáõÃÛáõÝÝ»ñÇ Ï³ï³ñÙ³Ý Ñ»ï Ï³åí³Í Ñ³ñó»ñÇ ÉáõÍÙ³Ý áÉáñï
A18: 1 | B18: å³ïÅÇó å³ÛÙ³Ý³Ï³Ý í³Õ³Å³ÙÏ»ï ³½³ï»Éáõ Ù³ëÇÝ ÙÇçÝáñ¹áõÃÛáõÝÝ»ñ | D18: =SUM(Տավուշ!D18+'Արագածոտն '!D18+'Երևան քաղաք'!D18+' Արարատ և Վայոց ձոր'!D18+Արմավիր!D18+Լոռի!D18+Սյունիք!D18+Կոտայք!D18+Գեղարքունիք!D18+Շիրակ!D18) -> 49 | E18: =SUM(Տավուշ!E18+'Արագածոտն '!E18+'Երևան քաղաք'!E18+' Արարատ և Վայոց ձոր'!E18+Արմավիր!E18+Լոռի!E18+Սյունիք!E18+Կոտայք!E18+Գեղարքունիք!E18+Շիրակ!E18) -> 345 | F18: =SUM(Տավուշ!F18+'Արագածոտն '!F18+'Երևան քաղաք'!F18+' Արարատ և Վայոց ձոր'!F18+Արմավիր!F18+Լոռի!F18+Սյունիք!F18+Կոտայք!F18+Գեղարքունիք!F18+Շիրակ!F18) -> 162 | G18: =SUM(Տավուշ!G18+'Արագածոտն '!G18+'Երևան քաղաք'!G18+' Արարատ և Վայոց ձոր'!G18+Արմավիր!G18+Լոռի!G18+Սյունիք!G18+Կոտայք!G18+Գեղարքունիք!G18+Շիրակ!G18) -> 180 | H18: =SUM(Տավուշ!H18+'Արագածոտն '!H18+'Երևան քաղաք'!H18+' Արարատ և Վայոց ձոր'!H18+Արմավիր!H18+Լոռի!H18+Սյունիք!H18+Կոտայք!H18+Գեղարքունիք!H18+Շիրակ!H18) -> 0 | I18: =SUM(Տավուշ!I18+'Արագածոտն '!I18+'Երևան քաղաք'!I18+' Արարատ և Վայոց ձոր'!I18+Արմավիր!I18+Լոռի!I18+Սյունիք!I18+Կոտայք!I18+Գեղարքունիք!I18+Շիրակ!I18) -> 9 | J18: =SUM(Տավուշ!J18+'Արագածոտն '!J18+'Երևան քաղաք'!J18+' Արարատ և Վայոց ձոր'!J18+Արմավիր!J18+Լոռի!J18+Սյունիք!J18+Կոտայք!J18+Գեղարքունիք!J18+Շիրակ!J18) -> 351 | K18: =SUM(Տավուշ!K18+'Արագածոտն '!K18+'Երևան քաղաք'!K18+' Արարատ և Վայոց ձոր'!K18+Արմավիր!K18+Լոռի!K18+Սյունիք!K18+Կոտայք!K18+Գեղարքունիք!K18+Շիրակ!K18) -> 4 | ... M18: =SUM(Տավուշ!M18+'Արագածոտն '!M18+'Երևան քաղաք'!M18+' Արարատ և Վայոց ձոր'!M18+Արմավիր!M18+Լոռի!M18+Սյունիք!M18+Կոտայք!M18+Գեղարքունիք!M18+Շիրակ!M18) -> 89
A19: 2 | B19: å³ïÇÅÁ ÷á÷áË»Éáõ, Ñ»ï³Ó·»Éáõ ¨ å³ïÅÇó ³½³ï»Éáõ Ù³uÇÝ ÙÇçÝáñ¹áõÃÛáõÝÝ»ñ | D19: =SUM(Տավուշ!D19+'Արագածոտն '!D19+'Երևան քաղաք'!D19+' Արարատ և Վայոց ձոր'!D19+Արմավիր!D19+Լոռի!D19+Սյունիք!D19+Կոտայք!D19+Գեղարքունիք!D19+Շիրակ!D19) -> 554 | E19: =SUM(Տավուշ!E19+'Արագածոտն '!E19+'Երևան քաղաք'!E19+' Արարատ և Վայոց ձոր'!E19+Արմավիր!E19+Լոռի!E19+Սյունիք!E19+Կոտայք!E19+Գեղարքունիք!E19+Շիրակ!E19) -> 447 | F19: =SUM(Տավուշ!F19+'Արագածոտն '!F19+'Երևան քաղաք'!F19+' Արարատ և Վայոց ձոր'!F19+Արմավիր!F19+Լոռի!F19+Սյունիք!F19+Կոտայք!F19+Գեղարքունիք!F19+Շիրակ!F19) -> 268 | G19: =SUM(Տավուշ!G19+'Արագածոտն '!G19+'Երևան քաղաք'!G19+' Արարատ և Վայոց ձոր'!G19+Արմավիր!G19+Լոռի!G19+Սյունիք!G19+Կոտայք!G19+Գեղարքունիք!G19+Շիրակ!G19) -> 571 | H19: =SUM(Տավուշ!H19+'Արագածոտն '!H19+'Երևան քաղաք'!H19+' Արարատ և Վայոց ձոր'!H19+Արմավիր!H19+Լոռի!H19+Սյունիք!H19+Կոտայք!H19+Գեղարքունիք!H19+Շիրակ!H19) -> 6 | I19: =SUM(Տավուշ!I19+'Արագածոտն '!I19+'Երևան քաղաք'!I19+' Արարատ և Վայոց ձոր'!I19+Արմավիր!I19+Լոռի!I19+Սյունիք!I19+Կոտայք!I19+Գեղարքունիք!I19+Շիրակ!I19) -> 38 | J19: =SUM(Տավուշ!J19+'Արագածոտն '!J19+'Երևան քաղաք'!J19+' Արարատ և Վայոց ձոր'!J19+Արմավիր!J19+Լոռի!J19+Սյունիք!J19+Կոտայք!J19+Գեղարքունիք!J19+Շիրակ!J19) -> 883 | K19: =SUM(Տավուշ!K19+'Արագածոտն '!K19+'Երևան քաղաք'!K19+' Արարատ և Վայոց ձոր'!K19+Արմավիր!K19+Լոռի!K19+Սյունիք!K19+Կոտայք!K19+Գեղարքունիք!K19+Շիրակ!K19) -> 6 | ... M19: =SUM(Տավուշ!M19+'Արագածոտն '!M19+'Երևան քաղաք'!M19+' Արարատ և Վայոց ձոր'!M19+Արմավիր!M19+Լոռի!M19+Սյունիք!M19+Կոտայք!M19+Գեղարքունիք!M19+Շիրակ!M19) -> 30
A20: 3 | B20: Ñ³ñÏ³¹Çñ µáõÅÙ³Ý ï»ë³ÏÇ ÷á÷áËáõÃÛ³Ý Ù³ëÇÝ ÙÇçÝáñ¹áõÃÛáõÝÝ»ñ | D20: =SUM(Տավուշ!D20+'Արագածոտն '!D20+'Երևան քաղաք'!D20+' Արարատ և Վայոց ձոր'!D20+Արմավիր!D20+Լոռի!D20+Սյունիք!D20+Կոտայք!D20+Գեղարքունիք!D20+Շիրակ!D20) -> 16 | E20: =SUM(Տավուշ!E20+'Արագածոտն '!E20+'Երևան քաղաք'!E20+' Արարատ և Վայոց ձոր'!E20+Արմավիր!E20+Լոռի!E20+Սյունիք!E20+Կոտայք!E20+Գեղարքունիք!E20+Շիրակ!E20) -> 133 | F20: =SUM(Տավուշ!F20+'Արագածոտն '!F20+'Երևան քաղաք'!F20+' Արարատ և Վայոց ձոր'!F20+Արմավիր!F20+Լոռի!F20+Սյունիք!F20+Կոտայք!F20+Գեղարքունիք!F20+Շիրակ!F20) -> 18 | G20: =SUM(Տավուշ!G20+'Արագածոտն '!G20+'Երևան քաղաք'!G20+' Արարատ և Վայոց ձոր'!G20+Արմավիր!G20+Լոռի!G20+Սյունիք!G20+Կոտայք!G20+Գեղարքունիք!G20+Շիրակ!G20) -> 103 | H20: =SUM(Տավուշ!H20+'Արագածոտն '!H20+'Երևան քաղաք'!H20+' Արարատ և Վայոց ձոր'!H20+Արմավիր!H20+Լոռի!H20+Սյունիք!H20+Կոտայք!H20+Գեղարքունիք!H20+Շիրակ!H20) -> 1 | I20: =SUM(Տավուշ!I20+'Արագածոտն '!I20+'Երևան քաղաք'!I20+' Արարատ և Վայոց ձոր'!I20+Արմավիր!I20+Լոռի!I20+Սյունիք!I20+Կոտայք!I20+Գեղարքունիք!I20+Շիրակ!I20) -> 3 | J20: =SUM(Տավուշ!J20+'Արագածոտն '!J20+'Երևան քաղաք'!J20+' Արարատ և Վայոց ձոր'!J20+Արմավիր!J20+Լոռի!J20+Սյունիք!J20+Կոտայք!J20+Գեղարքունիք!J20+Շիրակ!J20) -> 125 | K20: =SUM(Տավուշ!K20+'Արագածոտն '!K20+'Երևան քաղաք'!K20+' Արարատ և Վայոց ձոր'!K20+Արմավիր!K20+Լոռի!K20+Սյունիք!K20+Կոտայք!K20+Գեղարքունիք!K20+Շիրակ!K20) -> 0 | ... M20: =SUM(Տավուշ!M20+'Արագածոտն '!M20+'Երևան քաղաք'!M20+' Արարատ և Վայոց ձոր'!M20+Արմավիր!M20+Լոռի!M20+Սյունիք!M20+Կոտայք!M20+Գեղարքունիք!M20+Շիրակ!M20) -> 5
A21: 4 | B21: ³ÛÉ ÙÇçÝáñ¹áõÃÛáõÝÝ»ñ | D21: =SUM(Տավուշ!D21+'Արագածոտն '!D21+'Երևան քաղաք'!D21+' Արարատ և Վայոց ձոր'!D21+Արմավիր!D21+Լոռի!D21+Սյունիք!D21+Կոտայք!D21+Գեղարքունիք!D21+Շիրակ!D21) -> 61 | E21: =SUM(Տավուշ!E21+'Արագածոտն '!E21+'Երևան քաղաք'!E21+' Արարատ և Վայոց ձոր'!E21+Արմավիր!E21+Լոռի!E21+Սյունիք!E21+Կոտայք!E21+Գեղարքունիք!E21+Շիրակ!E21) -> 517 | F21: =SUM(Տավուշ!F21+'Արագածոտն '!F21+'Երևան քաղաք'!F21+' Արարատ և Վայոց ձոր'!F21+Արմավիր!F21+Լոռի!F21+Սյունիք!F21+Կոտայք!F21+Գեղարքունիք!F21+Շիրակ!F21) -> 233 | G21: =SUM(Տավուշ!G21+'Արագածոտն '!G21+'Երևան քաղաք'!G21+' Արարատ և Վայոց ձոր'!G21+Արմավիր!G21+Լոռի!G21+Սյունիք!G21+Կոտայք!G21+Գեղարքունիք!G21+Շիրակ!G21) -> 234 | H21: =SUM(Տավուշ!H21+'Արագածոտն '!H21+'Երևան քաղաք'!H21+' Արարատ և Վայոց ձոր'!H21+Արմավիր!H21+Լոռի!H21+Սյունիք!H21+Կոտայք!H21+Գեղարքունիք!H21+Շիրակ!H21) -> 11 | I21: =SUM(Տավուշ!I21+'Արագածոտն '!I21+'Երևան քաղաք'!I21+' Արարատ և Վայոց ձոր'!I21+Արմավիր!I21+Լոռի!I21+Սյունիք!I21+Կոտայք!I21+Գեղարքունիք!I21+Շիրակ!I21) -> 27 | J21: =SUM(Տավուշ!J21+'Արագածոտն '!J21+'Երևան քաղաք'!J21+' Արարատ և Վայոց ձոր'!J21+Արմավիր!J21+Լոռի!J21+Սյունիք!J21+Կոտայք!J21+Գեղարքունիք!J21+Շիրակ!J21) -> 505 | K21: =SUM(Տավուշ!K21+'Արագածոտն '!K21+'Երևան քաղաք'!K21+' Արարատ և Վայոց ձոր'!K21+Արմավիր!K21+Լոռի!K21+Սյունիք!K21+Կոտայք!K21+Գեղարքունիք!K21+Շիրակ!K21) -> 7 | ... M21: =SUM(Տավուշ!M21+'Արագածոտն '!M21+'Երևան քաղաք'!M21+' Արարատ և Վայոց ձոր'!M21+Արմավիր!M21+Լոռի!M21+Սյունիք!M21+Կոտայք!M21+Գեղարքունիք!M21+Շիրակ!M21) -> 65
A22: 5 | B22: ¹³ï³Ï³Ý Ñ³ÝÓÝ³ñ³ñáõÃÛáõÝÝ»ñ | D22: =SUM(Տավուշ!D22+'Արագածոտն '!D22+'Երևան քաղաք'!D22+' Արարատ և Վայոց ձոր'!D22+Արմավիր!D22+Լոռի!D22+Սյունիք!D22+Կոտայք!D22+Գեղարքունիք!D22+Շիրակ!D22) -> 189 | E22: =SUM(Տավուշ!E22+'Արագածոտն '!E22+'Երևան քաղաք'!E22+' Արարատ և Վայոց ձոր'!E22+Արմավիր!E22+Լոռի!E22+Սյունիք!E22+Կոտայք!E22+Գեղարքունիք!E22+Շիրակ!E22) -> 325 | F22: =SUM(Տավուշ!F22+'Արագածոտն '!F22+'Երևան քաղաք'!F22+' Արարատ և Վայոց ձոր'!F22+Արմավիր!F22+Լոռի!F22+Սյունիք!F22+Կոտայք!F22+Գեղարքունիք!F22+Շիրակ!F22) -> 25 | G22: =SUM(Տավուշ!G22+'Արագածոտն '!G22+'Երևան քաղաք'!G22+' Արարատ և Վայոց ձոր'!G22+Արմավիր!G22+Լոռի!G22+Սյունիք!G22+Կոտայք!G22+Գեղարքունիք!G22+Շիրակ!G22) -> 180 | H22: =SUM(Տավուշ!H22+'Արագածոտն '!H22+'Երևան քաղաք'!H22+' Արարատ և Վայոց ձոր'!H22+Արմավիր!H22+Լոռի!H22+Սյունիք!H22+Կոտայք!H22+Գեղարքունիք!H22+Շիրակ!H22) -> 7 | I22: =SUM(Տավուշ!I22+'Արագածոտն '!I22+'Երևան քաղաք'!I22+' Արարատ և Վայոց ձոր'!I22+Արմավիր!I22+Լոռի!I22+Սյունիք!I22+Կոտայք!I22+Գեղարքունիք!I22+Շիրակ!I22) -> 28 | J22: =SUM(Տավուշ!J22+'Արագածոտն '!J22+'Երևան քաղաք'!J22+' Արարատ և Վայոց ձոր'!J22+Արմավիր!J22+Լոռի!J22+Սյունիք!J22+Կոտայք!J22+Գեղարքունիք!J22+Շիրակ!J22) -> 240 | K22: =SUM(Տավուշ!K22+'Արագածոտն '!K22+'Երևան քաղաք'!K22+' Արարատ և Վայոց ձոր'!K22+Արմավիր!K22+Լոռի!K22+Սյունիք!K22+Կոտայք!K22+Գեղարքունիք!K22+Շիրակ!K22) -> 3 | ... M22: =SUM(Տավուշ!M22+'Արագածոտն '!M22+'Երևան քաղաք'!M22+' Արարատ և Վայոց ձոր'!M22+Արմավիր!M22+Լոռի!M22+Սյունիք!M22+Կոտայք!M22+Գեղարքունիք!M22+Շիրակ!M22) -> 4
A23: ÀÜ¸²ØºÜÀ | D23: =SUM(D6:D16,D18:D22) -> 1335 | E23: =SUM(E6:E16,E18:E22) -> 20394 | F23: =SUM(F6:F16,F18:F22) -> 3338 | G23: =SUM(G6:G16,G18:G22) -> 16491 | H23: =SUM(H6:H16,H18:H22) -> 376 | I23: =SUM(I6:I16,I18:I22) -> 189 | J23: =SUM(J6:J16,J18:J22) -> 20394 | K23: =SUM(K6:K16,K18:K22) -> 31 | ... M23: =SUM(M6:M16,M18:M22) -> 2235
C25: Ì³ÝáÃáõÃÛáõÝ. թվով 79 միջնորդություն միացվել է , 38-ը վերադարձվել է , 23-ով որոշում չի կայացվել:

Sheet Տավուշ
A1: 2019թ. տարեկան | C1: Ð²ÞìºîìàôÂÚàôÜ
A2: ØÇÝã¹³ï³Ï³Ý í³ñáõÛÃÇ ÝÏ³ïÙ³Ùµ ¹³ï³Ï³Ý í»ñ³ÑëÏáÕáõÃÛ³ÝÁ, ¹³ï³Ï³Ý ³Ïï»ñÇ ¨ ¹³ï³Ï³Ý Ñ³ÝÓÝ³ñ³ñáõÃÛáõÝÝ»ñÇ Ï³ï³ñÙ³ÝÁ Ñ»ï Ï³åí³Í ÙÇçÝáñ¹áõÃÛáõÝÝ»ñÇ í»ñ³µ»ñÛ³É ¹³ï³Ï³Ý ·áñÍ»ñáí ÐÐ Տավուշի մարզի ³é³çÇÝ ³ïÛ³ÝÇ ÁÝ¹Ñ³Ýáõñ Çñ³í³ëáõÃÛ³Ý ¹³ï³ñ³ÝÇ ·áñÍáõÝ»áõÃÛ³Ý í»ñ³µ»ñÛ³É
A3: êïáõ·Çã Ñ³í³ë³ñáõÙ` 1+2=7+8+9, 7=3+4+5+6, | D3: Ñ³ßí»ïáõ Å³Ù³Ý³Ï³Ñ³ïí³ÍÇ ëÏ½µáõÙ Ý³Ëáñ¹ Ñ³ßí»ïáõ Å³Ù³Ý³Ï³Ñ³ïí³ÍÇó ÷áË³Ýóí³Í ·áñÍ»ñÇ ÁÝ¹Ñ³Ýáõñ ÃÇíÁ | E3: Ñ³ßí»ïáõ Å³Ù³Ý³Ï³Ñ³ïí³ÍáõÙ ëï³óí³Í ·áñÍ»ñÇ ÁÝ¹Ñ³Ýáõñ ÃÇíÁ | F3: Ñ³ßí»ïáõ Å³Ù³Ý³Ï³Ñ³ïí³ÍáõÙ ³í³ñïí³Í ·áñÍ»ñÇ ÁÝ¹Ñ³Ýáõñ ÃÇíÁ | K3: áõÕ³ñÏí»É ¿ Áëï ÁÝ¹¹³ïáõÃÛ³Ý | L3: Ñ³ßí»ïáõ Å³Ù³Ý³Ï³Ñ³ïí³ÍáõÙ ³Ý³í³ñï ·áñÍ»ñÇ ÁÝ¹Ñ³Ýáõñ ÃÇíÁ | M3: µáÕáù³ñÏí»É ¿ í»ñ³ùÝÝÇã ¹³ï³ñ³Ý
F4: Ù»ñÅí»É ¿ | G4: µ³í³ñ³ñí»É ¿ | H4: µ³í³ñ³ñí»É ¿ Ù³ëÝ³ÏÇ | I4: ÃáÕÝí»É ¿ ³é³Ýó ùÝÝáõÃÛ³Ý | J4: ÁÝ¹³Ù»ÝÁ
A5: 1. ØÇÝã¹³ï³Ï³Ý í³ñáõÛÃÇ ÝÏ³ïÙ³Ùµ ¹³ï³Ï³Ý í»ñ³ÑëÏáÕáõÃÛ³Ý áÉáñï | D5: 1 | E5: 2 | F5: 3 | G5: 4 | H5: 5 | I5: 6 | J5: 7 | K5: 8 | L5: 9 | M5: 10
A6: 1 | B6: Ï³É³ÝùÁ áñå»ë Ë³÷³ÝÙ³Ý ÙÇçáó ÏÇñ³é»Éáõ Ù³ëÇÝ ÙÇçÝáñ¹áõÃÛáõÝÝ»ñ | E6: 63 | F6: 6 | G6: 56 | I6: 1 | J6: 63 | M6: 25
A7: 2 | B7: Ï³É³ÝùÇ Å³ÙÏ»ïÁ »ñÏ³ñ³óÝ»Éáõ Ù³ëÇÝ ÙÇçÝáñ¹áõÃÛáõÝÝ»ñ | E7: 52 | F7: 1 | G7: 47 | H7: 3 | J7: 51 | L7: 1 | M7: 16
A8: 3 | B8: Ï³É³ÝùÇ í»ñ³Ñ³ëï³ïÙ³Ý Ù³ëÇÝ ÙÇçÝáñ¹áõÃÛáõÝÝ»ñ | E8: 5 | F8: 2 | G8: 3 | J8: 5 | M8: 1
A9: 4 | B9: ·ñ³íÁ áñå»ë Ï³É³Ý³íáñÙ³Ý ³ÛÉÁÝïñ³Ýù³ÛÇÝ Ë³÷³ÝÙ³Ý ÙÇçáó ÏÇñ³é»Éáõ Ù³ëÇÝ ÙÇçÝáñ¹áõÃÛáõÝÝ»ñ | E9: 56 | F9: 34 | G9: 21 | J9: 55 | L9: 1 | M9: 9
A10: 5 | B10: Ëáõ½³ñÏáõÃÛ³Ý Ï³ï³ñÙ³Ý Ù³ëÇÝ ÙÇçÝáñ¹áõÃÛáõÝÝ»ñ | E10: 156 | F10: 6 | G10: 145 | H10: 5 | J10: 156
A11: 6 | B11: µ³ÝÏ³ÛÇÝ, ³å³Ñáí³·ñ³Ï³Ý, Ýáï³ñ³Ï³Ý ·³ÕïÝÇù Ï³½ÙáÕ ï»Õ»ÏáõÃÛáõÝÝ»ñÇ ëï³óÙ³Ý Ñ³Ù³ñ Ëáõ½³ñÏáõÃÛ³Ý Ï³Ù ³é·ñ³íÙ³Ý Ï³ï³ñÙ³Ý Ù³ëÇÝ ÙÇçÝáñ¹áõÃÛáõÝÝ»ñ
A12: 7 | B12: Ý³Ù³Ï³·ñáõÃÛ³Ý, Ñ»é³·ñ³Ï³Ý, ÷áuï³ÛÇÝ Ñ³Õáñ¹áõÙÝ»ñÇ ÑëÏáÕáõÃÛ³Ý Ù³ëÇÝ ÙÇçÝáñ¹áõÃÛáõÝÝ»ñ | E12: 2 | G12: 2 | J12: 2
A13: 8 | B13: Ñ»é³Ëáu³ÛÇÝ Ï³Ù Ï³åÇ ³ÛÉ ÙÇçáóÝ»ñáí ï³ñíáÕ Ëáu³ÏóáõÃÛáõÝÝ»ñÇ ÉuÙ³Ý ¨ Ó³ÛÝ³·ñ³éÙ³Ý Ù³ëÇÝ ÙÇçÝáñ¹áõÃÛáõÝÝ»ñ | E13: 1 | G13: 1 | J13: 1
A14: 9 | B14: Ñ»é³ËáëÝ»ñÇ Ùáõïù³ÛÇÝ ¨ »Éù³ÛÇÝ í»ñÍ³ÝÙ³Ý ÃáõÛÉïíáõÃÛáõÝ ëï³Ý³Éáõ Ù³ëÇÝ ÙÇçÝáñ¹áõÃÛáõÝÝ»ñ | E14: 133 | F14: 2 | G14: 130 | H14: 1 | J14: 133 | M14: 1
A15: 10 | B15: Ñ»ï³ùÝÝáõÃÛ³Ý Ù³ñÙÝÇ ³ßË³ïáÕÇ, ùÝÝÇãÇ, ¹³ï³Ë³½Ç oå»ñ³ïÇí-Ñ»ï³Ëáõ½³Ï³Ý ·áñÍáÕáõÃÛáõÝÝ»ñ Çñ³Ï³Ý³óÝáÕ Ù³ñÙÇÝÝ»ñÇ ³ÝoñÇÝ³Ï³Ý ¨ ³ÝÑÇÙÝ áñáßáõÙÝ»ñÇ ¨ ·áñÍáÕáõÃÛáõÝÝ»ñÇ ¹»Ù µáÕáùÝ»ñ | D15: 2 | E15: 14 | F15: 8 | G15: 1 | H15: 1 | J15: 10 | K15: 1 | L15: 5 | M15: 8
A16: 11 | B16: ²½³ïáõÃÛáõÝÇó ½ñÏ»Éáõ Çñ³í³ã³÷áõÃÛ³Ý í»ñ³µ»ñÛ³É µáÕáùÝ»ñáí ·áñÍ»ñ | E16: 8 | G16: 7 | J16: 7
A17: 2. ¸³ï³Ï³Ý ³Ïï»ñÇ ¨ ¹³ï³Ï³Ý Ñ³ÝÓÝ³ñ³ñáõÃÛáõÝÝ»ñÇ Ï³ï³ñÙ³Ý Ñ»ï Ï³åí³Í Ñ³ñó»ñÇ ÉáõÍÙ³Ý áÉáñï
A18: 1 | B18: å³ïÅÇó å³ÛÙ³Ý³Ï³Ý í³Õ³Å³ÙÏ»ï ³½³ï»Éáõ Ù³ëÇÝ ÙÇçÝáñ¹áõÃÛáõÝÝ»ñ
A19: 2 | B19: å³ïÇÅÁ ÷á÷áË»Éáõ, Ñ»ï³Ó·»Éáõ ¨ å³ïÅÇó ³½³ï»Éáõ Ù³uÇÝ ÙÇçÝáñ¹áõÃÛáõÝÝ»ñ | D19: 3 | E19: 4 | F19: 2 | G19: 5 | J19: 7 | M19: 1
A20: 3 | B20: Ñ³ñÏ³¹Çñ µáõÅÙ³Ý ï»ë³ÏÇ ÷á÷áËáõÃÛ³Ý Ù³ëÇÝ ÙÇçÝáñ¹áõÃÛáõÝÝ»ñ
A21: 4 | B21: ³ÛÉ ÙÇçÝáñ¹áõÃÛáõÝÝ»ñ | E21: 9 | F21: 1 | G21: 7 | J21: 8 | K21: 1
A22: 5 | B22: ¹³ï³Ï³Ý Ñ³ÝÓÝ³ñ³ñáõÃÛáõÝÝ»ñ | D22: 1 | E22: 15 | F22: 2 | G22: 4 | H22: 1 | I22: 2 | J22: 9 | K22: 1 | L22: 6
A23: ÀÜ¸²ØºÜÀ | D23: =SUM(D6:D16,D18:D22) -> 6 | E23: =SUM(E6:E16,E18:E22) -> 518 | F23: =SUM(F6:F16,F18:F22) -> 64 | G23: =SUM(G6:G16,G18:G22) -> 429 | H23: =SUM(H6:H16,H18:H22) -> 11 | I23: =SUM(I6:I16,I18:I22) -> 3 | J23: =SUM(J6:J16,J18:J22) -> 507 | K23: =SUM(K6:K16,K18:K22) -> 3 | ... M23: =SUM(M6:M16,M18:M22) -> 61
B25: Ì³ÝáÃáõÃÛáõÝ. 1 ÙÇçÝáñ¹áõÃÛáõÝ ÙÇ³óí»É ¿:

Sheet Արագածոտն 
A1: 2019Ã. տարեկան | C1: Ð²ÞìºîìàôÂÚàôÜ
A2: ØÇÝã¹³ï³Ï³Ý í³ñáõÛÃÇ ÝÏ³ïÙ³Ùµ ¹³ï³Ï³Ý í»ñ³ÑëÏáÕáõÃÛ³ÝÁ, ¹³ï³Ï³Ý ³Ïï»ñÇ ¨ ¹³ï³Ï³Ý Ñ³ÝÓÝ³ñ³ñáõÃÛáõÝÝ»ñÇ Ï³ï³ñÙ³ÝÁ Ñ»ï Ï³åí³Í ÙÇçÝáñ¹áõÃÛáõÝÝ»ñÇ í»ñ³µ»ñÛ³É ¹³ï³Ï³Ý ·áñÍ»ñáí ÐÐ Արագածոտնի մարզի ³é³çÇÝ ³ïÛ³ÝÇ ÁÝ¹Ñ³Ýáõñ Çñ³í³ëáõÃÛ³Ý ¹³ï³ñ³ÝÇ ·áñÍáõÝ»áõÃÛ³Ý í»ñ³µ»ñÛ³É
A3: êïáõ·Çã Ñ³í³ë³ñáõÙ` 1+2=7+8+9, 7=3+4+5+6, | D3: Ñ³ßí»ïáõ Å³Ù³Ý³Ï³Ñ³ïí³ÍÇ ëÏ½µáõÙ Ý³Ëáñ¹ Ñ³ßí»ïáõ Å³Ù³Ý³Ï³Ñ³ïí³ÍÇó ÷áË³Ýóí³Í ·áñÍ»ñÇ ÁÝ¹Ñ³Ýáõñ ÃÇíÁ | E3: Ñ³ßí»ïáõ Å³Ù³Ý³Ï³Ñ³ïí³ÍáõÙ ëï³óí³Í ·áñÍ»ñÇ ÁÝ¹Ñ³Ýáõñ ÃÇíÁ | F3: Ñ³ßí»ïáõ Å³Ù³Ý³Ï³Ñ³ïí³ÍáõÙ ³í³ñïí³Í ·áñÍ»ñÇ ÁÝ¹Ñ³Ýáõñ ÃÇíÁ | K3: áõÕ³ñÏí»É ¿ Áëï ÁÝ¹¹³ïáõÃÛ³Ý | L3: Ñ³ßí»ïáõ Å³Ù³Ý³Ï³Ñ³ïí³ÍáõÙ ³Ý³í³ñï ·áñÍ»ñÇ ÁÝ¹Ñ³Ýáõñ ÃÇíÁ | M3: µáÕáù³ñÏí»É ¿ í»ñ³ùÝÝÇã ¹³ï³ñ³Ý
F4: Ù»ñÅí»É ¿ | G4: µ³í³ñ³ñí»É ¿ | H4: µ³í³ñ³ñí»É ¿ Ù³ëÝ³ÏÇ | I4: ÃáÕÝí»É ¿ ³é³Ýó ùÝÝáõÃÛ³Ý | J4: ÁÝ¹³Ù»ÝÁ
A5: 1. ØÇÝã¹³ï³Ï³Ý í³ñáõÛÃÇ ÝÏ³ïÙ³Ùµ ¹³ï³Ï³Ý í»ñ³ÑëÏáÕáõÃÛ³Ý áÉáñï | D5: 1 | E5: 2 | F5: 3 | G5: 4 | H5: 5 | I5: 6 | J5: 7 | K5: 8 | L5: 9 | M5: 10
A6: 1 | B6: Ï³É³ÝùÁ áñå»ë Ë³÷³ÝÙ³Ý ÙÇçáó ÏÇñ³é»Éáõ Ù³ëÇÝ ÙÇçÝáñ¹áõÃÛáõÝÝ»ñ | E6: 43 | F6: 3 | G6: 40 | J6: 43 | M6: 6
A7: 2 | B7: Ï³É³ÝùÇ Å³ÙÏ»ïÁ »ñÏ³ñ³óÝ»Éáõ Ù³ëÇÝ ÙÇçÝáñ¹áõÃÛáõÝÝ»ñ | E7: 11 | F7: 2 | G7: 9 | J7: 11 | M7: 5
A8: 3 | B8: Ï³É³ÝùÇ í»ñ³Ñ³ëï³ïÙ³Ý Ù³ëÇÝ ÙÇçÝáñ¹áõÃÛáõÝÝ»ñ | E8: 6 | G8: 6 | J8: 6 | M8: 3
A9: 4 | B9: ·ñ³íÁ áñå»ë Ï³É³Ý³íáñÙ³Ý ³ÛÉÁÝïñ³Ýù³ÛÇÝ Ë³÷³ÝÙ³Ý ÙÇçáó ÏÇñ³é»Éáõ Ù³ëÇÝ ÙÇçÝáñ¹áõÃÛáõÝÝ»ñ | E9: 7 | F9: 2 | G9: 4 | J9: 6 | L9: 1
A10: 5 | B10: Ëáõ½³ñÏáõÃÛ³Ý Ï³ï³ñÙ³Ý Ù³ëÇÝ ÙÇçÝáñ¹áõÃÛáõÝÝ»ñ | E10: 95 | F10: 1 | G10: 94 | J10: 95
A11: 6 | B11: µ³ÝÏ³ÛÇÝ, ³å³Ñáí³·ñ³Ï³Ý, Ýáï³ñ³Ï³Ý ·³ÕïÝÇù Ï³½ÙáÕ ï»Õ»ÏáõÃÛáõÝÝ»ñÇ ëï³óÙ³Ý Ñ³Ù³ñ Ëáõ½³ñÏáõÃÛ³Ý Ï³Ù ³é·ñ³íÙ³Ý Ï³ï³ñÙ³Ý Ù³ëÇÝ ÙÇçÝáñ¹áõÃÛáõÝÝ»ñ
A12: 7 | B12: Ý³Ù³Ï³·ñáõÃÛ³Ý, Ñ»é³·ñ³Ï³Ý, ÷áuï³ÛÇÝ Ñ³Õáñ¹áõÙÝ»ñÇ ÑëÏáÕáõÃÛ³Ý Ù³ëÇÝ ÙÇçÝáñ¹áõÃÛáõÝÝ»ñ | E12: 3 | G12: 3 | J12: 3
A13: 8 | B13: Ñ»é³Ëáu³ÛÇÝ Ï³Ù Ï³åÇ ³ÛÉ ÙÇçáóÝ»ñáí ï³ñíáÕ Ëáu³ÏóáõÃÛáõÝÝ»ñÇ ÉuÙ³Ý ¨ Ó³ÛÝ³·ñ³éÙ³Ý Ù³ëÇÝ ÙÇçÝáñ¹áõÃÛáõÝÝ»ñ | E13: 1 | G13: 1 | J13: 1
A14: 9 | B14: Ñ»é³ËáëÝ»ñÇ Ùáõïù³ÛÇÝ ¨ »Éù³ÛÇÝ í»ñÍ³ÝÙ³Ý ÃáõÛÉïíáõÃÛáõÝ ëï³Ý³Éáõ Ù³ëÇÝ ÙÇçÝáñ¹áõÃÛáõÝÝ»ñ | E14: 115 | F14: 2 | G14: 112 | H14: 1 | J14: 115
A15: 10 | B15: Ñ»ï³ùÝÝáõÃÛ³Ý Ù³ñÙÝÇ ³ßË³ïáÕÇ, ùÝÝÇãÇ, ¹³ï³Ë³½Ç oå»ñ³ïÇí-Ñ»ï³Ëáõ½³Ï³Ý ·áñÍáÕáõÃÛáõÝÝ»ñ Çñ³Ï³Ý³óÝáÕ Ù³ñÙÇÝÝ»ñÇ ³ÝoñÇÝ³Ï³Ý ¨ ³ÝÑÇÙÝ áñáßáõÙÝ»ñÇ ¨ ·áñÍáÕáõÃÛáõÝÝ»ñÇ ¹»Ù µáÕáùÝ»ñ | D15: 4 | E15: 37 | F15: 20 | G15: 6 | I15: 3 | J15: 29 | L15: 12 | M15: 13
A16: 11 | B16: ²½³ïáõÃÛáõÝÇó ½ñÏ»Éáõ Çñ³í³ã³÷áõÃÛ³Ý í»ñ³µ»ñÛ³É µáÕáùÝ»ñáí ·áñÍ»ñ | E16: 5 | F16: 2 | G16: 2 | H16: 1 | J16: 5 | M16: 4
A17: 2. ¸³ï³Ï³Ý ³Ïï»ñÇ ¨ ¹³ï³Ï³Ý Ñ³ÝÓÝ³ñ³ñáõÃÛáõÝÝ»ñÇ Ï³ï³ñÙ³Ý Ñ»ï Ï³åí³Í Ñ³ñó»ñÇ ÉáõÍÙ³Ý áÉáñï
A18: 1 | B18: å³ïÅÇó å³ÛÙ³Ý³Ï³Ý í³Õ³Å³ÙÏ»ï ³½³ï»Éáõ Ù³ëÇÝ ÙÇçÝáñ¹áõÃÛáõÝÝ»ñ | D18: 1 | E18: 37 | F18: 7 | G18: 24 | I18: 4 | J18: 35 | L18: 3 | M18: 8
A19: 2 | B19: å³ïÇÅÁ ÷á÷áË»Éáõ, Ñ»ï³Ó·»Éáõ ¨ å³ïÅÇó ³½³ï»Éáõ Ù³uÇÝ ÙÇçÝáñ¹áõÃÛáõÝÝ»ñ | D19: 15 | E19: 9 | F19: 3 | G19: 11 | I19: 10 | J19: 24
A20: 3 | B20: Ñ³ñÏ³¹Çñ µáõÅÙ³Ý ï»ë³ÏÇ ÷á÷áËáõÃÛ³Ý Ù³ëÇÝ ÙÇçÝáñ¹áõÃÛáõÝÝ»ñ | E20: 2 | G20: 1 | I20: 1 | J20: 2
A21: 4 | B21: ³ÛÉ ÙÇçÝáñ¹áõÃÛáõÝÝ»ñ | D21: 3 | E21: 54 | F21: 39 | G21: 7 | I21: 8 | J21: 54 | L21: 3 | M21: 11
A22: 5 | B22: ¹³ï³Ï³Ý Ñ³ÝÓÝ³ñ³ñáõÃÛáõÝÝ»ñ | D22: 1 | E22: 11 | F22: 2 | G22: 5 | I22: 3 | J22: 10 | K22: 1 | L22: 1 | M22: 1
A23: ÀÜ¸²ØºÜÀ | D23: =SUM(D6:D16,D18:D22) -> 24 | E23: =SUM(E6:E16,E18:E22) -> 436 | F23: =SUM(F6:F16,F18:F22) -> 83 | G23: =SUM(G6:G16,G18:G22) -> 325 | H23: =SUM(H6:H16,H18:H22) -> 2 | I23: =SUM(I6:I16,I18:I22) -> 29 | J23: =SUM(J6:J16,J18:J22) -> 439 | K23: =SUM(K6:K16,K18:K22) -> 1 | ... M23: =SUM(M6:M16,M18:M22) -> 51

Sheet Երևան քաղաք
A1: 2019թ. տարեկան | C1: Ð²ÞìºîìàôÂÚàôÜ
A2: ØÇÝã¹³ï³Ï³Ý í³ñáõÛÃÇ ÝÏ³ïÙ³Ùµ ¹³ï³Ï³Ý í»ñ³ÑëÏáÕáõÃÛ³Ý, ¹³ï³Ï³Ý ³Ïï»ñÇ ¨ ¹³ï³Ï³Ý Ñ³ÝÓÝ³ñ³ñáõÃÛáõÝÝ»ñÇ Ï³ï³ñÙ³Ý Ñ»ï Ï³åí³Í ÙÇçÝáñ¹áõÃÛáõÝÝ»ñÇ í»ñ³µ»ñÛ³É ¹³ï³Ï³Ý ·áñÍ»ñáí Երևան քաղաքի ³é³çÇÝ ³ïÛ³ÝÇ ÁÝ¹Ñ³Ýáõñ Çñ³í³ëáõÃÛ³Ý ¹³ï³ñ³ÝÇ ·áñÍáõÝ»áõÃÛ³Ý í»ñ³µ»ñÛ³É
A3: êïáõ·Çã Ñ³í³ë³ñáõÙ` 1+2=7+8+9, 7=3+4+5+6, | D3: Ñ³ßí»ïáõ Å³Ù³Ý³Ï³Ñ³ïí³ÍÇ ëÏ½µáõÙ Ý³Ëáñ¹ Ñ³ßí»ïáõ Å³Ù³Ý³Ï³Ñ³ïí³ÍÇó ÷áË³Ýóí³Í ·áñÍ»ñÇ ÁÝ¹Ñ³Ýáõñ ÃÇíÁ | E3: Ñ³ßí»ïáõ Å³Ù³Ý³Ï³Ñ³ïí³ÍáõÙ ëï³óí³Í ·áñÍ»ñÇ ÁÝ¹Ñ³Ýáõñ ÃÇíÁ | F3: Ñ³ßí»ïáõ Å³Ù³Ý³Ï³Ñ³ïí³ÍáõÙ ³í³ñïí³Í ·áñÍ»ñÇ ÁÝ¹Ñ³Ýáõñ ÃÇíÁ | K3: áõÕ³ñÏí»É ¿ Áëï ÁÝ¹¹³ïáõÃÛ³Ý | L3: Ñ³ßí»ïáõ Å³Ù³Ý³Ï³Ñ³ïí³ÍáõÙ ³Ý³í³ñï ·áñÍ»ñÇ ÁÝ¹Ñ³Ýáõñ ÃÇíÁ | M3: µáÕáù³ñÏí»É ¿ í»ñ³ùÝÝÇã ¹³ï³ñ³Ý
F4: Ù»ñÅí»É ¿ | G4: µ³í³ñ³ñí»É ¿ | H4: µ³í³ñ³ñí»É ¿ Ù³ëÝ³ÏÇ | I4: ÃáÕÝí»É ¿ ³é³Ýó ùÝÝáõÃÛ³Ý | J4: ÁÝ¹³Ù»ÝÁ
A5: 1. ØÇÝã¹³ï³Ï³Ý í³ñáõÛÃÇ ÝÏ³ïÙ³Ùµ ¹³ï³Ï³Ý í»ñ³ÑëÏáÕáõÃÛ³Ý áÉáñï | D5: 1 | E5: 2 | F5: 3 | G5: 4 | H5: 5 | I5: 6 | J5: 7 | K5: 8 | L5: 9 | M5: 10
A6: 1 | B6: Ï³É³ÝùÁ áñå»ë Ë³÷³ÝÙ³Ý ÙÇçáó ÏÇñ³é»Éáõ Ù³ëÇÝ ÙÇçÝáñ¹áõÃÛáõÝÝ»ñ | D6: 2 | E6: 1318 | F6: 129 | G6: 1188 | H6: 1 | I6: 0 | J6: 1318 | L6: 0 | M6: 434
A7: 2 | B7: Ï³É³ÝùÇ Å³ÙÏ»ïÁ »ñÏ³ñ³óÝ»Éáõ Ù³ëÇÝ ÙÇçÝáñ¹áõÃÛáõÝÝ»ñ | D7: 6 | E7: 795 | F7: 26 | G7: 749 | H7: 20 | I7: 4 | J7: 799 | L7: 2 | M7: 306
A8: 3 | B8: Ï³É³ÝùÇ í»ñ³Ñ³ëï³ïÙ³Ý Ù³ëÇÝ ÙÇçÝáñ¹áõÃÛáõÝÝ»ñ | E8: 80 | F8: 11 | G8: 69 | H8: 0 | I8: 0 | J8: 80 | L8: 0 | M8: 23
A9: 4 | B9: ·ñ³íÁ áñå»ë Ï³É³Ý³íáñÙ³Ý ³ÛÉÁÝïñ³Ýù³ÛÇÝ Ë³÷³ÝÙ³Ý ÙÇçáó ÏÇñ³é»Éáõ Ù³ëÇÝ ÙÇçÝáñ¹áõÃÛáõÝÝ»ñ | D9: 5 | E9: 604 | F9: 501 | G9: 98 | H9: 0 | I9: 2 | J9: 601 | L9: 3 | M9: 121
A10: 5 | B10: Ëáõ½³ñÏáõÃÛ³Ý Ï³ï³ñÙ³Ý Ù³ëÇÝ ÙÇçÝáñ¹áõÃÛáõÝÝ»ñ | E10: 3005 | F10: 217 | G10: 2727 | H10: 61 | I10: 0 | J10: 3005 | L10: 0 | M10: 39
A11: 6 | B11: µ³ÝÏ³ÛÇÝ, ³å³Ñáí³·ñ³Ï³Ý, Ýáï³ñ³Ï³Ý ·³ÕïÝÇù Ï³½ÙáÕ ï»Õ»ÏáõÃÛáõÝÝ»ñÇ ëï³óÙ³Ý Ñ³Ù³ñ Ëáõ½³ñÏáõÃÛ³Ý Ï³Ù ³é·ñ³íÙ³Ý Ï³ï³ñÙ³Ý Ù³ëÇÝ ÙÇçÝáñ¹áõÃÛáõÝÝ»ñ | E11: 272 | F11: 18 | G11: 246 | H11: 8 | I11: 0 | J11: 272 | L11: 0 | M11: 3
A12: 7 | B12: Ý³Ù³Ï³·ñáõÃÛ³Ý, Ñ»é³·ñ³Ï³Ý, ÷áuï³ÛÇÝ Ñ³Õáñ¹áõÙÝ»ñÇ ÑëÏáÕáõÃÛ³Ý Ù³ëÇÝ ÙÇçÝáñ¹áõÃÛáõÝÝ»ñ | E12: 688 | F12: 11 | G12: 671 | H12: 4 | I12: 2 | J12: 688 | L12: 0 | M12: 0
A13: 8 | B13: Ñ»é³Ëáu³ÛÇÝ Ï³Ù Ï³åÇ ³ÛÉ ÙÇçáóÝ»ñáí ï³ñíáÕ Ëáu³ÏóáõÃÛáõÝÝ»ñÇ ÉuÙ³Ý ¨ Ó³ÛÝ³·ñ³éÙ³Ý Ù³ëÇÝ ÙÇçÝáñ¹áõÃÛáõÝÝ»ñ | E13: 119 | F13: 5 | G13: 112 | H13: 2 | I13: 0 | J13: 119 | L13: 0 | M13: 2
A14: 9 | B14: Ñ»é³ËáëÝ»ñÇ Ùáõïù³ÛÇÝ ¨ »Éù³ÛÇÝ í»ñÍ³ÝÙ³Ý ÃáõÛÉïíáõÃÛáõÝ ëï³Ý³Éáõ Ù³ëÇÝ ÙÇçÝáñ¹áõÃÛáõÝÝ»ñ | E14: 3565 | F14: 44 | G14: 3420 | H14: 101 | I14: 0 | J14: 3565 | L14: 0 | M14: 4
A15: 10 | B15: Ñ»ï³ùÝÝáõÃÛ³Ý Ù³ñÙÝÇ ³ßË³ïáÕÇ, ùÝÝÇãÇ, ¹³ï³Ë³½Ç oå»ñ³ïÇí-Ñ»ï³Ëáõ½³Ï³Ý ·áñÍáÕáõÃÛáõÝÝ»ñ Çñ³Ï³Ý³óÝáÕ Ù³ñÙÇÝÝ»ñÇ ³ÝoñÇÝ³Ï³Ý ¨ ³ÝÑÇÙÝ áñáßáõÙÝ»ñÇ ¨ ·áñÍáÕáõÃÛáõÝÝ»ñÇ ¹»Ù µáÕáùÝ»ñ | D15: 335 | E15: 1123 | F15: 612 | G15: 147 | H15: 25 | I15: 35 | J15: 819 | K15: 6 | L15: 589 | M15: 394
A16: 11 | B16: ²½³ïáõÃÛáõÝÇó ½ñÏ»Éáõ Çñ³í³ã³÷áõÃÛ³Ý í»ñ³µ»ñÛ³É µáÕáùÝ»ñáí ·áñÍ»ñ | E16: 148 | F16: 54 | G16: 62 | H16: 2 | I16: 10 | J16: 128 | L16: 0 | M16: 19
A17: 2. ¸³ï³Ï³Ý ³Ïï»ñÇ ¨ ¹³ï³Ï³Ý Ñ³ÝÓÝ³ñ³ñáõÃÛáõÝÝ»ñÇ Ï³ï³ñÙ³Ý Ñ»ï Ï³åí³Í Ñ³ñó»ñÇ ÉáõÍÙ³Ý áÉáñï
A18: 1 | B18: å³ïÅÇó å³ÛÙ³Ý³Ï³Ý í³Õ³Å³ÙÏ»ï ³½³ï»Éáõ Ù³ëÇÝ ÙÇçÝáñ¹áõÃÛáõÝÝ»ñ | D18: 19 | E18: 63 | F18: 38 | G18: 25 | H18: 0 | I18: 2 | J18: 65 | K18: 3 | L18: 14 | M18: 14
A19: 2 | B19: å³ïÇÅÁ ÷á÷áË»Éáõ, Ñ»ï³Ó·»Éáõ ¨ å³ïÅÇó ³½³ï»Éáõ Ù³uÇÝ ÙÇçÝáñ¹áõÃÛáõÝÝ»ñ | D19: 173 | E19: 185 | F19: 148 | G19: 138 | H19: 2 | I19: 6 | J19: 294 | K19: 2 | L19: 61 | M19: 8
A20: 3 | B20: Ñ³ñÏ³¹Çñ µáõÅÙ³Ý ï»ë³ÏÇ ÷á÷áËáõÃÛ³Ý Ù³ëÇÝ ÙÇçÝáñ¹áõÃÛáõÝÝ»ñ | D20: 16 | E20: 92 | F20: 14 | G20: 70 | H20: 1 | I20: 2 | J20: 87 | L20: 20 | M20: 5
A21: 4 | B21: ³ÛÉ ÙÇçÝáñ¹áõÃÛáõÝÝ»ñ | D21: 27 | E21: 200 | F21: 63 | G21: 118 | H21: 6 | I21: 10 | J21: 197 | K21: 2 | L21: 27 | M21: 17
A22: 5 | B22: ¹³ï³Ï³Ý Ñ³ÝÓÝ³ñ³ñáõÃÛáõÝÝ»ñ | D22: 123 | E22: 172 | F22: 13 | G22: 96 | H22: 6 | I22: 18 | J22: 133 | L22: 129 | M22: 3
A23: ÀÜ¸²ØºÜÀ | D23: =SUM(D6:D16,D18:D22) -> 706 | E23: =SUM(E6:E16,E18:E22) -> 12429 | F23: =SUM(F6:F16,F18:F22) -> 1904 | G23: =SUM(G6:G16,G18:G22) -> 9936 | H23: =SUM(H6:H16,H18:H22) -> 239 | I23: =SUM(I6:I16,I18:I22) -> 91 | J23: =SUM(J6:J16,J18:J22) -> 12170 | K23: =SUM(K6:K16,K18:K22) -> 13 | ... M23: =SUM(M6:M16,M18:M22) -> 1392
B24: Ծանոթություն թվով 70 միջնորդություն միացվել է , 28-ը վերադարձվել է , 9-ով որոշում չի կայացվել:

Sheet  Արարատ և Վայոց ձոր
A1: 2019թ. տարեկան | C1: Ð²ÞìºîìàôÂÚàôÜ
A2: ØÇÝã¹³ï³Ï³Ý í³ñáõÛÃÇ ÝÏ³ïÙ³Ùµ ¹³ï³Ï³Ý í»ñ³ÑëÏáÕáõÃÛ³ÝÁ, ¹³ï³Ï³Ý ³Ïï»ñÇ ¨ ¹³ï³Ï³Ý Ñ³ÝÓÝ³ñ³ñáõÃÛáõÝÝ»ñÇ Ï³ï³ñÙ³ÝÁ Ñ»ï Ï³åí³Í ÙÇçÝáñ¹áõÃÛáõÝÝ»ñÇ í»ñ³µ»ñÛ³É ¹³ï³Ï³Ý ·áñÍ»ñáí ÐÐ Արարատի և Վայոց ձորի մարզերի ³é³çÇÝ ³ïÛ³ÝÇ ÁÝ¹Ñ³Ýáõñ Çñ³í³ëáõÃÛ³Ý ¹³ï³ñ³ÝÇ ·áñÍáõÝ»áõÃÛ³Ý í»ñ³µ»ñÛ³É
A3: êïáõ·Çã Ñ³í³ë³ñáõÙ` 1+2=7+8+9, 7=3+4+5+6, | D3: Ñ³ßí»ïáõ Å³Ù³Ý³Ï³Ñ³ïí³ÍÇ ëÏ½µáõÙ Ý³Ëáñ¹ Ñ³ßí»ïáõ Å³Ù³Ý³Ï³Ñ³ïí³ÍÇó ÷áË³Ýóí³Í ·áñÍ»ñÇ ÁÝ¹Ñ³Ýáõñ ÃÇíÁ | E3: Ñ³ßí»ïáõ Å³Ù³Ý³Ï³Ñ³ïí³ÍáõÙ ëï³óí³Í ·áñÍ»ñÇ ÁÝ¹Ñ³Ýáõñ ÃÇíÁ | F3: Ñ³ßí»ïáõ Å³Ù³Ý³Ï³Ñ³ïí³ÍáõÙ ³í³ñïí³Í ·áñÍ»ñÇ ÁÝ¹Ñ³Ýáõñ ÃÇíÁ | K3: áõÕ³ñÏí»É ¿ Áëï ÁÝ¹¹³ïáõÃÛ³Ý | L3: Ñ³ßí»ïáõ Å³Ù³Ý³Ï³Ñ³ïí³ÍáõÙ ³Ý³í³ñï ·áñÍ»ñÇ ÁÝ¹Ñ³Ýáõñ ÃÇíÁ | M3: µáÕáù³ñÏí»É ¿ í»ñ³ùÝÝÇã ¹³ï³ñ³Ý
F4: Ù»ñÅí»É ¿ | G4: µ³í³ñ³ñí»É ¿ | H4: µ³í³ñ³ñí»É ¿ Ù³ëÝ³ÏÇ | I4: ÃáÕÝí»É ¿ ³é³Ýó ùÝÝáõÃÛ³Ý | J4: ÁÝ¹³Ù»ÝÁ
A5: 1. ØÇÝã¹³ï³Ï³Ý í³ñáõÛÃÇ ÝÏ³ïÙ³Ùµ ¹³ï³Ï³Ý í»ñ³ÑëÏáÕáõÃÛ³Ý áÉáñï | D5: 1 | E5: 2 | F5: 3 | G5: 4 | H5: 5 | I5: 6 | J5: 7 | K5: 8 | L5: 9 | M5: 10
A6: 1 | B6: Ï³É³ÝùÁ áñå»ë Ë³÷³ÝÙ³Ý ÙÇçáó ÏÇñ³é»Éáõ Ù³ëÇÝ ÙÇçÝáñ¹áõÃÛáõÝÝ»ñ | E6: 104 | F6: 5 | G6: 99 | J6: 104 | M6: 28
A7: 2 | B7: Ï³É³ÝùÇ Å³ÙÏ»ïÁ »ñÏ³ñ³óÝ»Éáõ Ù³ëÇÝ ÙÇçÝáñ¹áõÃÛáõÝÝ»ñ | E7: 46 | G7: 46 | J7: 46 | M7: 13
A8: 3 | B8: Ï³É³ÝùÇ í»ñ³Ñ³ëï³ïÙ³Ý Ù³ëÇÝ ÙÇçÝáñ¹áõÃÛáõÝÝ»ñ | E8: 8 | G8: 8 | J8: 8
A9: 4 | B9: ·ñ³íÁ áñå»ë Ï³É³Ý³íáñÙ³Ý ³ÛÉÁÝïñ³Ýù³ÛÇÝ Ë³÷³ÝÙ³Ý ÙÇçáó ÏÇñ³é»Éáõ Ù³ëÇÝ ÙÇçÝáñ¹áõÃÛáõÝÝ»ñ | E9: 62 | F9: 54 | G9: 6 | I9: 2 | J9: 62 | M9: 1
A10: 5 | B10: Ëáõ½³ñÏáõÃÛ³Ý Ï³ï³ñÙ³Ý Ù³ëÇÝ ÙÇçÝáñ¹áõÃÛáõÝÝ»ñ | E10: 218 | F10: 7 | G10: 210 | H10: 1 | J10: 218
A11: 6 | B11: µ³ÝÏ³ÛÇÝ, ³å³Ñáí³·ñ³Ï³Ý, Ýáï³ñ³Ï³Ý ·³ÕïÝÇù Ï³½ÙáÕ ï»Õ»ÏáõÃÛáõÝÝ»ñÇ ëï³óÙ³Ý Ñ³Ù³ñ Ëáõ½³ñÏáõÃÛ³Ý Ï³Ù ³é·ñ³íÙ³Ý Ï³ï³ñÙ³Ý Ù³ëÇÝ ÙÇçÝáñ¹áõÃÛáõÝÝ»ñ | E11: 13 | F11: 1 | G11: 12 | J11: 13
A12: 7 | B12: Ý³Ù³Ï³·ñáõÃÛ³Ý, Ñ»é³·ñ³Ï³Ý, ÷áuï³ÛÇÝ Ñ³Õáñ¹áõÙÝ»ñÇ ÑëÏáÕáõÃÛ³Ý Ù³ëÇÝ ÙÇçÝáñ¹áõÃÛáõÝÝ»ñ | E12: 8 | G12: 8 | J12: 8
A13: 8 | B13: Ñ»é³Ëáu³ÛÇÝ Ï³Ù Ï³åÇ ³ÛÉ ÙÇçáóÝ»ñáí ï³ñíáÕ Ëáu³ÏóáõÃÛáõÝÝ»ñÇ ÉuÙ³Ý ¨ Ó³ÛÝ³·ñ³éÙ³Ý Ù³ëÇÝ ÙÇçÝáñ¹áõÃÛáõÝÝ»ñ | E13: 4 | G13: 4 | J13: 4
A14: 9 | B14: Ñ»é³ËáëÝ»ñÇ Ùáõïù³ÛÇÝ ¨ »Éù³ÛÇÝ í»ñÍ³ÝÙ³Ý ÃáõÛÉïíáõÃÛáõÝ ëï³Ý³Éáõ Ù³ëÇÝ ÙÇçÝáñ¹áõÃÛáõÝÝ»ñ | E14: 243 | F14: 4 | G14: 239 | J14: 243 | M14: 4
A15: 10 | B15: Ñ»ï³ùÝÝáõÃÛ³Ý Ù³ñÙÝÇ ³ßË³ïáÕÇ, ùÝÝÇãÇ, ¹³ï³Ë³½Ç oå»ñ³ïÇí-Ñ»ï³Ëáõ½³Ï³Ý ·áñÍáÕáõÃÛáõÝÝ»ñ Çñ³Ï³Ý³óÝáÕ Ù³ñÙÇÝÝ»ñÇ ³ÝoñÇÝ³Ï³Ý ¨ ³ÝÑÇÙÝ áñáßáõÙÝ»ñÇ ¨ ·áñÍáÕáõÃÛáõÝÝ»ñÇ ¹»Ù µáÕáùÝ»ñ | D15: 18 | E15: 52 | F15: 34 | G15: 10 | I15: 1 | J15: 45 | L15: 25 | M15: 24
A16: 11 | B16: ²½³ïáõÃÛáõÝÇó ½ñÏ»Éáõ Çñ³í³ã³÷áõÃÛ³Ý í»ñ³µ»ñÛ³É µáÕáùÝ»ñáí ·áñÍ»ñ | E16: 6 | F16: 5 | I16: 1 | J16: 6 | M16: 1
A17: 2. ¸³ï³Ï³Ý ³Ïï»ñÇ ¨ ¹³ï³Ï³Ý Ñ³ÝÓÝ³ñ³ñáõÃÛáõÝÝ»ñÇ Ï³ï³ñÙ³Ý Ñ»ï Ï³åí³Í Ñ³ñó»ñÇ ÉáõÍÙ³Ý áÉáñï
A18: 1 | B18: å³ïÅÇó å³ÛÙ³Ý³Ï³Ý í³Õ³Å³ÙÏ»ï ³½³ï»Éáõ Ù³ëÇÝ ÙÇçÝáñ¹áõÃÛáõÝÝ»ñ
A19: 2 | B19: å³ïÇÅÁ ÷á÷áË»Éáõ, Ñ»ï³Ó·»Éáõ ¨ å³ïÅÇó ³½³ï»Éáõ Ù³uÇÝ ÙÇçÝáñ¹áõÃÛáõÝÝ»ñ | D19: 30 | E19: 29 | F19: 13 | G19: 26 | I19: 3 | J19: 42 | K19: 1 | L19: 16 | M19: 3
A20: 3 | B20: Ñ³ñÏ³¹Çñ µáõÅÙ³Ý ï»ë³ÏÇ ÷á÷áËáõÃÛ³Ý Ù³ëÇÝ ÙÇçÝáñ¹áõÃÛáõÝÝ»ñ
A21: 4 | B21: ³ÛÉ ÙÇçÝáñ¹áõÃÛáõÝÝ»ñ | D21: 2 | E21: 34 | F21: 3 | G21: 26 | H21: 5 | J21: 34 | L21: 2
A22: 5 | B22: ¹³ï³Ï³Ý Ñ³ÝÓÝ³ñ³ñáõÃÛáõÝÝ»ñ | D22: 10 | E22: 25 | F22: 1 | G22: 17 | I22: 4 | J22: 22 | L22: 13
A23: ÀÜ¸²ØºÜÀ | D23: =SUM(D6:D16,D18:D22) -> 60 | E23: =SUM(E6:E16,E18:E22) -> 852 | F23: =SUM(F6:F16,F18:F22) -> 127 | G23: =SUM(G6:G16,G18:G22) -> 711 | H23: =SUM(H6:H16,H18:H22) -> 6 | I23: =SUM(I6:I16,I18:I22) -> 11 | J23: =SUM(J6:J16,J18:J22) -> 855 | K23: =SUM(K6:K16,K18:K22) -> 1 | ... M23: =SUM(M6:M16,M18:M22) -> 74

Sheet Արմավիր
A1: 2019թ. տարեկան | C1: Ð²ÞìºîìàôÂÚàôÜ
A2: ØÇÝã¹³ï³Ï³Ý í³ñáõÛÃÇ ÝÏ³ïÙ³Ùµ ¹³ï³Ï³Ý í»ñ³ÑëÏáÕáõÃÛ³ÝÁ, ¹³ï³Ï³Ý ³Ïï»ñÇ ¨ ¹³ï³Ï³Ý Ñ³ÝÓÝ³ñ³ñáõÃÛáõÝÝ»ñÇ Ï³ï³ñÙ³ÝÁ Ñ»ï Ï³åí³Í ÙÇçÝáñ¹áõÃÛáõÝÝ»ñÇ í»ñ³µ»ñÛ³É ¹³ï³Ï³Ý ·áñÍ»ñáí ÐÐ Արմավիրի մարզի ³é³çÇÝ ³ïÛ³ÝÇ ÁÝ¹Ñ³Ýáõñ Çñ³í³ëáõÃÛ³Ý ¹³ï³ñ³ÝÇ ·áñÍáõÝ»áõÃÛ³Ý í»ñ³µ»ñÛ³É
A3: êïáõ·Çã Ñ³í³ë³ñáõÙ` 1+2=7+8+9, 7=3+4+5+6, | D3: Ñ³ßí»ïáõ Å³Ù³Ý³Ï³Ñ³ïí³ÍÇ ëÏ½µáõÙ Ý³Ëáñ¹ Ñ³ßí»ïáõ Å³Ù³Ý³Ï³Ñ³ïí³ÍÇó ÷áË³Ýóí³Í ·áñÍ»ñÇ ÁÝ¹Ñ³Ýáõñ ÃÇíÁ | E3: Ñ³ßí»ïáõ Å³Ù³Ý³Ï³Ñ³ïí³ÍáõÙ ëï³óí³Í ·áñÍ»ñÇ ÁÝ¹Ñ³Ýáõñ ÃÇíÁ | F3: Ñ³ßí»ïáõ Å³Ù³Ý³Ï³Ñ³ïí³ÍáõÙ ³í³ñïí³Í ·áñÍ»ñÇ ÁÝ¹Ñ³Ýáõñ ÃÇíÁ | K3: áõÕ³ñÏí»É ¿ Áëï ÁÝ¹¹³ïáõÃÛ³Ý | L3: Ñ³ßí»ïáõ Å³Ù³Ý³Ï³Ñ³ïí³ÍáõÙ ³Ý³í³ñï ·áñÍ»ñÇ ÁÝ¹Ñ³Ýáõñ ÃÇíÁ | M3: µáÕáù³ñÏí»É ¿ í»ñ³ùÝÝÇã ¹³ï³ñ³Ý
F4: Ù»ñÅí»É ¿ | G4: µ³í³ñ³ñí»É ¿ | H4: µ³í³ñ³ñí»É ¿ Ù³ëÝ³ÏÇ | I4: ÃáÕÝí»É ¿ ³é³Ýó ùÝÝáõÃÛ³Ý | J4: ÁÝ¹³Ù»ÝÁ
A5: 1. ØÇÝã¹³ï³Ï³Ý í³ñáõÛÃÇ ÝÏ³ïÙ³Ùµ ¹³ï³Ï³Ý í»ñ³ÑëÏáÕáõÃÛ³Ý áÉáñï | D5: 1 | E5: 2 | F5: 3 | G5: 4 | H5: 5 | I5: 6 | J5: 7 | K5: 8 | L5: 9 | M5: 10
A6: 1 | B6: Ï³É³ÝùÁ áñå»ë Ë³÷³ÝÙ³Ý ÙÇçáó ÏÇñ³é»Éáõ Ù³ëÇÝ ÙÇçÝáñ¹áõÃÛáõÝÝ»ñ | E6: 46 | F6: 3 | G6: 42 | J6: 45 | L6: 1 | M6: 20
A7: 2 | B7: Ï³É³ÝùÇ Å³ÙÏ»ïÁ »ñÏ³ñ³óÝ»Éáõ Ù³ëÇÝ ÙÇçÝáñ¹áõÃÛáõÝÝ»ñ | D7: 1 | E7: 51 | G7: 52 | J7: 52 | M7: 5
A8: 3 | B8: Ï³É³ÝùÇ í»ñ³Ñ³ëï³ïÙ³Ý Ù³ëÇÝ ÙÇçÝáñ¹áõÃÛáõÝÝ»ñ | E8: 1 | G8: 1 | J8: 1
A9: 4 | B9: ·ñ³íÁ áñå»ë Ï³É³Ý³íáñÙ³Ý ³ÛÉÁÝïñ³Ýù³ÛÇÝ Ë³÷³ÝÙ³Ý ÙÇçáó ÏÇñ³é»Éáõ Ù³ëÇÝ ÙÇçÝáñ¹áõÃÛáõÝÝ»ñ | D9: 1 | E9: 31 | F9: 18 | G9: 14 | J9: 32 | M9: 11
A10: 5 | B10: Ëáõ½³ñÏáõÃÛ³Ý Ï³ï³ñÙ³Ý Ù³ëÇÝ ÙÇçÝáñ¹áõÃÛáõÝÝ»ñ | E10: 271 | F10: 9 | G10: 262 | J10: 271
A11: 6 | B11: µ³ÝÏ³ÛÇÝ, ³å³Ñáí³·ñ³Ï³Ý, Ýáï³ñ³Ï³Ý ·³ÕïÝÇù Ï³½ÙáÕ ï»Õ»ÏáõÃÛáõÝÝ»ñÇ ëï³óÙ³Ý Ñ³Ù³ñ Ëáõ½³ñÏáõÃÛ³Ý Ï³Ù ³é·ñ³íÙ³Ý Ï³ï³ñÙ³Ý Ù³ëÇÝ ÙÇçÝáñ¹áõÃÛáõÝÝ»ñ | E11: 11 | F11: 2 | G11: 9 | J11: 11
A12: 7 | B12: Ý³Ù³Ï³·ñáõÃÛ³Ý, Ñ»é³·ñ³Ï³Ý, ÷áuï³ÛÇÝ Ñ³Õáñ¹áõÙÝ»ñÇ ÑëÏáÕáõÃÛ³Ý Ù³ëÇÝ ÙÇçÝáñ¹áõÃÛáõÝÝ»ñ
A13: 8 | B13: Ñ»é³Ëáu³ÛÇÝ Ï³Ù Ï³åÇ ³ÛÉ ÙÇçáóÝ»ñáí ï³ñíáÕ Ëáu³ÏóáõÃÛáõÝÝ»ñÇ ÉuÙ³Ý ¨ Ó³ÛÝ³·ñ³éÙ³Ý Ù³ëÇÝ ÙÇçÝáñ¹áõÃÛáõÝÝ»ñ | E13: 2 | G13: 2 | J13: 2
A14: 9 | B14: Ñ»é³ËáëÝ»ñÇ Ùáõïù³ÛÇÝ ¨ »Éù³ÛÇÝ í»ñÍ³ÝÙ³Ý ÃáõÛÉïíáõÃÛáõÝ ëï³Ý³Éáõ Ù³ëÇÝ ÙÇçÝáñ¹áõÃÛáõÝÝ»ñ | E14: 286 | F14: 1 | G14: 277 | H14: 8 | J14: 286
A15: 10 | B15: Ñ»ï³ùÝÝáõÃÛ³Ý Ù³ñÙÝÇ ³ßË³ïáÕÇ, ùÝÝÇãÇ, ¹³ï³Ë³½Ç oå»ñ³ïÇí-Ñ»ï³Ëáõ½³Ï³Ý ·áñÍáÕáõÃÛáõÝÝ»ñ Çñ³Ï³Ý³óÝáÕ Ù³ñÙÇÝÝ»ñÇ ³ÝoñÇÝ³Ï³Ý ¨ ³ÝÑÇÙÝ áñáßáõÙÝ»ñÇ ¨ ·áñÍáÕáõÃÛáõÝÝ»ñÇ ¹»Ù µáÕáùÝ»ñ | D15: 10 | E15: 32 | F15: 11 | G15: 6 | H15: 2 | I15: 1 | J15: 20 | L15: 22 | M15: 10
A16: 11 | B16: ²½³ïáõÃÛáõÝÇó ½ñÏ»Éáõ Çñ³í³ã³÷áõÃÛ³Ý í»ñ³µ»ñÛ³É µáÕáùÝ»ñáí ·áñÍ»ñ | E16: 2 | F16: 1 | G16: 1 | J16: 2
A17: 2. ¸³ï³Ï³Ý ³Ïï»ñÇ ¨ ¹³ï³Ï³Ý Ñ³ÝÓÝ³ñ³ñáõÃÛáõÝÝ»ñÇ Ï³ï³ñÙ³Ý Ñ»ï Ï³åí³Í Ñ³ñó»ñÇ ÉáõÍÙ³Ý áÉáñï
A18: 1 | B18: å³ïÅÇó å³ÛÙ³Ý³Ï³Ý í³Õ³Å³ÙÏ»ï ³½³ï»Éáõ Ù³ëÇÝ ÙÇçÝáñ¹áõÃÛáõÝÝ»ñ | D18: 10 | E18: 62 | F18: 21 | G18: 41 | I18: 1 | J18: 63 | L18: 9 | M18: 11
A19: 2 | B19: å³ïÇÅÁ ÷á÷áË»Éáõ, Ñ»ï³Ó·»Éáõ ¨ å³ïÅÇó ³½³ï»Éáõ Ù³uÇÝ ÙÇçÝáñ¹áõÃÛáõÝÝ»ñ | D19: 107 | E19: 51 | F19: 29 | G19: 118 | H19: 2 | I19: 1 | J19: 150 | K19: 1 | L19: 7 | M19: 6
A20: 3 | B20: Ñ³ñÏ³¹Çñ µáõÅÙ³Ý ï»ë³ÏÇ ÷á÷áËáõÃÛ³Ý Ù³ëÇÝ ÙÇçÝáñ¹áõÃÛáõÝÝ»ñ | E20: 5 | G20: 5 | J20: 5
A21: 4 | B21: ³ÛÉ ÙÇçÝáñ¹áõÃÛáõÝÝ»ñ | D21: 13 | E21: 81 | F21: 50 | G21: 17 | I21: 2 | J21: 69 | K21: 3 | L21: 22 | M21: 16
A22: 5 | B22: ¹³ï³Ï³Ý Ñ³ÝÓÝ³ñ³ñáõÃÛáõÝÝ»ñ | D22: 8 | E22: 15 | G22: 11 | J22: 11 | L22: 12
A23: ÀÜ¸²ØºÜÀ | D23: =SUM(D6:D16,D18:D22) -> 150 | E23: =SUM(E6:E15,E18:E22) -> 945 | F23: =SUM(F6:F16,F18:F22) -> 145 | G23: =SUM(G6:G16,G18:G22) -> 858 | H23: =SUM(H6:H16,H18:H22) -> 12 | I23: =SUM(I6:I16,I18:I22) -> 5 | J23: =SUM(J6:J16,J18:J22) -> 1020 | K23: =SUM(K6:K16,K18:K22) -> 4 | L23: =SUM(L6:L16,L18:L22) -> 73 | M23: =SUM(M6:M16,M18:M22) -> 79

Sheet Լոռի
A1: 2019թ. տարեկան | C1: Ð²ÞìºîìàôÂÚàôÜ
A2: ØÇÝã¹³ï³Ï³Ý í³ñáõÛÃÇ ÝÏ³ïÙ³Ùµ ¹³ï³Ï³Ý í»ñ³ÑëÏáÕáõÃÛ³ÝÁ, ¹³ï³Ï³Ý ³Ïï»ñÇ ¨ ¹³ï³Ï³Ý Ñ³ÝÓÝ³ñ³ñáõÃÛáõÝÝ»ñÇ Ï³ï³ñÙ³ÝÁ Ñ»ï Ï³åí³Í ÙÇçÝáñ¹áõÃÛáõÝÝ»ñÇ í»ñ³µ»ñÛ³É ¹³ï³Ï³Ý ·áñÍ»ñáí ÐÐ Լոռու մարզի ³é³çÇÝ ³ïÛ³ÝÇ ÁÝ¹Ñ³Ýáõñ Çñ³í³ëáõÃÛ³Ý ¹³ï³ñ³ÝÇ ·áñÍáõÝ»áõÃÛ³Ý í»ñ³µ»ñÛ³É
A3: êïáõ·Çã Ñ³í³ë³ñáõÙ` 1+2=7+8+9, 7=3+4+5+6, | D3: Ñ³ßí»ïáõ Å³Ù³Ý³Ï³Ñ³ïí³ÍÇ ëÏ½µáõÙ Ý³Ëáñ¹ Ñ³ßí»ïáõ Å³Ù³Ý³Ï³Ñ³ïí³ÍÇó ÷áË³Ýóí³Í ·áñÍ»ñÇ ÁÝ¹Ñ³Ýáõñ ÃÇíÁ | E3: Ñ³ßí»ïáõ Å³Ù³Ý³Ï³Ñ³ïí³ÍáõÙ ëï³óí³Í ·áñÍ»ñÇ ÁÝ¹Ñ³Ýáõñ ÃÇíÁ | F3: Ñ³ßí»ïáõ Å³Ù³Ý³Ï³Ñ³ïí³ÍáõÙ ³í³ñïí³Í ·áñÍ»ñÇ ÁÝ¹Ñ³Ýáõñ ÃÇíÁ | K3: áõÕ³ñÏí»É ¿ Áëï ÁÝ¹¹³ïáõÃÛ³Ý | L3: Ñ³ßí»ïáõ Å³Ù³Ý³Ï³Ñ³ïí³ÍáõÙ ³Ý³í³ñï ·áñÍ»ñÇ ÁÝ¹Ñ³Ýáõñ ÃÇíÁ | M3: µáÕáù³ñÏí»É ¿ í»ñ³ùÝÝÇã ¹³ï³ñ³Ý
F4: Ù»ñÅí»É ¿ | G4: µ³í³ñ³ñí»É ¿ | H4: µ³í³ñ³ñí»É ¿ Ù³ëÝ³ÏÇ | I4: ÃáÕÝí»É ¿ ³é³Ýó ùÝÝáõÃÛ³Ý | J4: ÁÝ¹³Ù»ÝÁ
A5: 1. ØÇÝã¹³ï³Ï³Ý í³ñáõÛÃÇ ÝÏ³ïÙ³Ùµ ¹³ï³Ï³Ý í»ñ³ÑëÏáÕáõÃÛ³Ý áÉáñï | D5: 1 | E5: 2 | F5: 3 | G5: 4 | H5: 5 | I5: 6 | J5: 7 | K5: 8 | L5: 9 | M5: 10
A6: 1 | B6: Ï³É³ÝùÁ áñå»ë Ë³÷³ÝÙ³Ý ÙÇçáó ÏÇñ³é»Éáõ Ù³ëÇÝ ÙÇçÝáñ¹áõÃÛáõÝÝ»ñ | E6: 91 | F6: 2 | G6: 89 | J6: =+I6+H6+G6+F6 -> 91 | M6: 19
A7: 2 | B7: Ï³É³ÝùÇ Å³ÙÏ»ïÁ »ñÏ³ñ³óÝ»Éáõ Ù³ëÇÝ ÙÇçÝáñ¹áõÃÛáõÝÝ»ñ | E7: 82 | G7: 72 | H7: 6 | I7: 4 | J7: =+I7+H7+G7+F7 -> 82 | M7: 35
A8: 3 | B8: Ï³É³ÝùÇ í»ñ³Ñ³ëï³ïÙ³Ý Ù³ëÇÝ ÙÇçÝáñ¹áõÃÛáõÝÝ»ñ | E8: 10 | G8: 10 | J8: =+I8+H8+G8+F8 -> 10 | M8: 5
A9: 4 | B9: ·ñ³íÁ áñå»ë Ï³É³Ý³íáñÙ³Ý ³ÛÉÁÝïñ³Ýù³ÛÇÝ Ë³÷³ÝÙ³Ý ÙÇçáó ÏÇñ³é»Éáõ Ù³ëÇÝ ÙÇçÝáñ¹áõÃÛáõÝÝ»ñ | E9: 107 | F9: 98 | G9: 8 | I9: 1 | J9: =+I9+H9+G9+F9 -> 107 | M9: 47
A10: 5 | B10: Ëáõ½³ñÏáõÃÛ³Ý Ï³ï³ñÙ³Ý Ù³ëÇÝ ÙÇçÝáñ¹áõÃÛáõÝÝ»ñ | E10: 270 | F10: 7 | G10: 259 | H10: 1 | I10: 3 | J10: =+I10+H10+G10+F10 -> 270 | M10: 3
A11: 6 | B11: µ³ÝÏ³ÛÇÝ, ³å³Ñáí³·ñ³Ï³Ý, Ýáï³ñ³Ï³Ý ·³ÕïÝÇù Ï³½ÙáÕ ï»Õ»ÏáõÃÛáõÝÝ»ñÇ ëï³óÙ³Ý Ñ³Ù³ñ Ëáõ½³ñÏáõÃÛ³Ý Ï³Ù ³é·ñ³íÙ³Ý Ï³ï³ñÙ³Ý Ù³ëÇÝ ÙÇçÝáñ¹áõÃÛáõÝÝ»ñ | E11: 9 | F11: 1 | G11: 8 | J11: =+I11+H11+G11+F11 -> 9
A12: 7 | B12: Ý³Ù³Ï³·ñáõÃÛ³Ý, Ñ»é³·ñ³Ï³Ý, ÷áuï³ÛÇÝ Ñ³Õáñ¹áõÙÝ»ñÇ ÑëÏáÕáõÃÛ³Ý Ù³ëÇÝ ÙÇçÝáñ¹áõÃÛáõÝÝ»ñ | E12: 10 | F12: 1 | G12: 8 | H12: 1 | J12: =+I12+H12+G12+F12 -> 10
A13: 8 | B13: Ñ»é³Ëáu³ÛÇÝ Ï³Ù Ï³åÇ ³ÛÉ ÙÇçáóÝ»ñáí ï³ñíáÕ Ëáu³ÏóáõÃÛáõÝÝ»ñÇ ÉuÙ³Ý ¨ Ó³ÛÝ³·ñ³éÙ³Ý Ù³ëÇÝ ÙÇçÝáñ¹áõÃÛáõÝÝ»ñ | J13: =+I13+H13+G13+F13 -> 0
A14: 9 | B14: Ñ»é³ËáëÝ»ñÇ Ùáõïù³ÛÇÝ ¨ »Éù³ÛÇÝ í»ñÍ³ÝÙ³Ý ÃáõÛÉïíáõÃÛáõÝ ëï³Ý³Éáõ Ù³ëÇÝ ÙÇçÝáñ¹áõÃÛáõÝÝ»ñ | E14: 322 | G14: 319 | H14: 3 | J14: =+I14+H14+G14+F14 -> 322
A15: 10 | B15: Ñ»ï³ùÝÝáõÃÛ³Ý Ù³ñÙÝÇ ³ßË³ïáÕÇ, ùÝÝÇãÇ, ¹³ï³Ë³½Ç oå»ñ³ïÇí-Ñ»ï³Ëáõ½³Ï³Ý ·áñÍáÕáõÃÛáõÝÝ»ñ Çñ³Ï³Ý³óÝáÕ Ù³ñÙÇÝÝ»ñÇ ³ÝoñÇÝ³Ï³Ý ¨ ³ÝÑÇÙÝ áñáßáõÙÝ»ñÇ ¨ ·áñÍáÕáõÃÛáõÝÝ»ñÇ ¹»Ù µáÕáùÝ»ñ | D15: 17 | E15: 80 | F15: 61 | G15: 3 | I15: 4 | J15: =+I15+H15+G15+F15 -> 68 | L15: 29 | M15: 25
A16: 11 | B16: ²½³ïáõÃÛáõÝÇó ½ñÏ»Éáõ Çñ³í³ã³÷áõÃÛ³Ý í»ñ³µ»ñÛ³É µáÕáùÝ»ñáí ·áñÍ»ñ | E16: 4 | F16: 3 | I16: 1 | J16: =+I16+H16+G16+F16 -> 4
A17: 2. ¸³ï³Ï³Ý ³Ïï»ñÇ ¨ ¹³ï³Ï³Ý Ñ³ÝÓÝ³ñ³ñáõÃÛáõÝÝ»ñÇ Ï³ï³ñÙ³Ý Ñ»ï Ï³åí³Í Ñ³ñó»ñÇ ÉáõÍÙ³Ý áÉáñï
A18: 1 | B18: å³ïÅÇó å³ÛÙ³Ý³Ï³Ý í³Õ³Å³ÙÏ»ï ³½³ï»Éáõ Ù³ëÇÝ ÙÇçÝáñ¹áõÃÛáõÝÝ»ñ | D18: 5 | E18: 14 | F18: 6 | G18: 10 | I18: 1 | J18: =+I18+H18+G18+F18 -> 17 | K18: 1 | L18: 1 | M18: 7
A19: 2 | B19: å³ïÇÅÁ ÷á÷áË»Éáõ, Ñ»ï³Ó·»Éáõ ¨ å³ïÅÇó ³½³ï»Éáõ Ù³uÇÝ ÙÇçÝáñ¹áõÃÛáõÝÝ»ñ | D19: 26 | E19: 33 | F19: 15 | G19: 30 | H19: 1 | I19: 5 | J19: =+I19+H19+G19+F19 -> 51 | K19: 2 | L19: 6 | M19: 2
A20: 3 | B20: Ñ³ñÏ³¹Çñ µáõÅÙ³Ý ï»ë³ÏÇ ÷á÷áËáõÃÛ³Ý Ù³ëÇÝ ÙÇçÝáñ¹áõÃÛáõÝÝ»ñ | E20: 6 | G20: 6 | J20: =+I20+H20+G20+F20 -> 6
A21: 4 | B21: ³ÛÉ ÙÇçÝáñ¹áõÃÛáõÝÝ»ñ | D21: 1 | E21: 42 | F21: 20 | G21: 17 | I21: 2 | J21: =+I21+H21+G21+F21 -> 39 | L21: 3 | M21: 3
A22: 5 | B22: ¹³ï³Ï³Ý Ñ³ÝÓÝ³ñ³ñáõÃÛáõÝÝ»ñ | D22: 9 | E22: 15 | G22: 4 | J22: =+I22+H22+G22+F22 -> 4 | L22: 10
A23: ÀÜ¸²ØºÜÀ | D23: =SUM(D6:D16,D18:D22) -> 58 | E23: =SUM(E6:E16,E18:E22) -> 1095 | F23: =SUM(F6:F16,F18:F22) -> 214 | G23: =SUM(G6:G16,G18:G22) -> 843 | H23: =SUM(H6:H16,H18:H22) -> 12 | I23: =SUM(I6:I16,I18:I22) -> 21 | J23: =SUM(J6:J16,J18:J22) -> 1090 | K23: =SUM(K6:K16,K18:K22) -> 3 | ... M23: =SUM(M6:M16,M18:M22) -> 146
B25: Ì³ÝáÃáõÃÛáõÝ. Ãíáí 1 ÙÇçÝáñ¹áõÃÛáõÝ ÙÇ³óí»É ¿, 10-ը վերադարձվել է:

Sheet Սյունիք
A1: 2019թ. տարեկան | C1: Ð²ÞìºîìàôÂÚàôÜ
A2: ØÇÝã¹³ï³Ï³Ý í³ñáõÛÃÇ ÝÏ³ïÙ³Ùµ ¹³ï³Ï³Ý í»ñ³ÑëÏáÕáõÃÛ³ÝÁ, ¹³ï³Ï³Ý ³Ïï»ñÇ ¨ ¹³ï³Ï³Ý Ñ³ÝÓÝ³ñ³ñáõÃÛáõÝÝ»ñÇ Ï³ï³ñÙ³ÝÁ Ñ»ï Ï³åí³Í ÙÇçÝáñ¹áõÃÛáõÝÝ»ñÇ í»ñ³µ»ñÛ³É ¹³ï³Ï³Ý ·áñÍ»ñáí ÐÐ Սյունիքի մարզի ³é³çÇÝ ³ïÛ³ÝÇ ÁÝ¹Ñ³Ýáõñ Çñ³í³ëáõÃÛ³Ý ¹³ï³ñ³ÝÇ ·áñÍáõÝ»áõÃÛ³Ý í»ñ³µ»ñÛ³É
A3: êïáõ·Çã Ñ³í³ë³ñáõÙ` 1+2=7+8+9, 7=3+4+5+6, | D3: Ñ³ßí»ïáõ Å³Ù³Ý³Ï³Ñ³ïí³ÍÇ ëÏ½µáõÙ Ý³Ëáñ¹ Ñ³ßí»ïáõ Å³Ù³Ý³Ï³Ñ³ïí³ÍÇó ÷áË³Ýóí³Í ·áñÍ»ñÇ ÁÝ¹Ñ³Ýáõñ ÃÇíÁ | E3: Ñ³ßí»ïáõ Å³Ù³Ý³Ï³Ñ³ïí³ÍáõÙ ëï³óí³Í ·áñÍ»ñÇ ÁÝ¹Ñ³Ýáõñ ÃÇíÁ | F3: Ñ³ßí»ïáõ Å³Ù³Ý³Ï³Ñ³ïí³ÍáõÙ ³í³ñïí³Í ·áñÍ»ñÇ ÁÝ¹Ñ³Ýáõñ ÃÇíÁ | K3: áõÕ³ñÏí»É ¿ Áëï ÁÝ¹¹³ïáõÃÛ³Ý | L3: Ñ³ßí»ïáõ Å³Ù³Ý³Ï³Ñ³ïí³ÍáõÙ ³Ý³í³ñï ·áñÍ»ñÇ ÁÝ¹Ñ³Ýáõñ ÃÇíÁ | M3: µáÕáù³ñÏí»É ¿ í»ñ³ùÝÝÇã ¹³ï³ñ³Ý
F4: Ù»ñÅí»É ¿ | G4: µ³í³ñ³ñí»É ¿ | H4: µ³í³ñ³ñí»É ¿ Ù³ëÝ³ÏÇ | I4: ÃáÕÝí»É ¿ ³é³Ýó ùÝÝáõÃÛ³Ý | J4: ÁÝ¹³Ù»ÝÁ
A5: 1. ØÇÝã¹³ï³Ï³Ý í³ñáõÛÃÇ ÝÏ³ïÙ³Ùµ ¹³ï³Ï³Ý í»ñ³ÑëÏáÕáõÃÛ³Ý áÉáñï | D5: 1 | E5: 2 | F5: 3 | G5: 4 | H5: 5 | I5: 6 | J5: 7 | K5: 8 | L5: 9 | M5: 10
A6: 1 | B6: Ï³É³ÝùÁ áñå»ë Ë³÷³ÝÙ³Ý ÙÇçáó ÏÇñ³é»Éáõ Ù³ëÇÝ ÙÇçÝáñ¹áõÃÛáõÝÝ»ñ | E6: 74 | F6: 9 | G6: 64 | I6: 1 | J6: 74 | M6: 25
A7: 2 | B7: Ï³É³ÝùÇ Å³ÙÏ»ïÁ »ñÏ³ñ³óÝ»Éáõ Ù³ëÇÝ ÙÇçÝáñ¹áõÃÛáõÝÝ»ñ | E7: 54 | F7: 9 | G7: 36 | H7: 6 | J7: 51 | L7: 3 | M7: 14
A8: 3 | B8: Ï³É³ÝùÇ í»ñ³Ñ³ëï³ïÙ³Ý Ù³ëÇÝ ÙÇçÝáñ¹áõÃÛáõÝÝ»ñ | E8: 6 | G8: 6 | J8: 6
A9: 4 | B9: ·ñ³íÁ áñå»ë Ï³É³Ý³íáñÙ³Ý ³ÛÉÁÝïñ³Ýù³ÛÇÝ Ë³÷³ÝÙ³Ý ÙÇçáó ÏÇñ³é»Éáõ Ù³ëÇÝ ÙÇçÝáñ¹áõÃÛáõÝÝ»ñ | E9: 62 | F9: 58 | G9: 4 | J9: 62 | M9: 4
A10: 5 | B10: Ëáõ½³ñÏáõÃÛ³Ý Ï³ï³ñÙ³Ý Ù³ëÇÝ ÙÇçÝáñ¹áõÃÛáõÝÝ»ñ | E10: 124 | F10: 7 | G10: 116 | H10: 1 | J10: 124
A11: 6 | B11: µ³ÝÏ³ÛÇÝ, ³å³Ñáí³·ñ³Ï³Ý, Ýáï³ñ³Ï³Ý ·³ÕïÝÇù Ï³½ÙáÕ ï»Õ»ÏáõÃÛáõÝÝ»ñÇ ëï³óÙ³Ý Ñ³Ù³ñ Ëáõ½³ñÏáõÃÛ³Ý Ï³Ù ³é·ñ³íÙ³Ý Ï³ï³ñÙ³Ý Ù³ëÇÝ ÙÇçÝáñ¹áõÃÛáõÝÝ»ñ | E11: 9 | G11: 9 | J11: 9
A12: 7 | B12: Ý³Ù³Ï³·ñáõÃÛ³Ý, Ñ»é³·ñ³Ï³Ý, ÷áuï³ÛÇÝ Ñ³Õáñ¹áõÙÝ»ñÇ ÑëÏáÕáõÃÛ³Ý Ù³ëÇÝ ÙÇçÝáñ¹áõÃÛáõÝÝ»ñ
A13: 8 | B13: Ñ»é³Ëáu³ÛÇÝ Ï³Ù Ï³åÇ ³ÛÉ ÙÇçáóÝ»ñáí ï³ñíáÕ Ëáu³ÏóáõÃÛáõÝÝ»ñÇ ÉuÙ³Ý ¨ Ó³ÛÝ³·ñ³éÙ³Ý Ù³ëÇÝ ÙÇçÝáñ¹áõÃÛáõÝÝ»ñ
A14: 9 | B14: Ñ»é³ËáëÝ»ñÇ Ùáõïù³ÛÇÝ ¨ »Éù³ÛÇÝ í»ñÍ³ÝÙ³Ý ÃáõÛÉïíáõÃÛáõÝ ëï³Ý³Éáõ Ù³ëÇÝ ÙÇçÝáñ¹áõÃÛáõÝÝ»ñ | E14: 150 | F14: 4 | G14: 138 | H14: 8 | J14: 150 | M14: 1
A15: 10 | B15: Ñ»ï³ùÝÝáõÃÛ³Ý Ù³ñÙÝÇ ³ßË³ïáÕÇ, ùÝÝÇãÇ, ¹³ï³Ë³½Ç oå»ñ³ïÇí-Ñ»ï³Ëáõ½³Ï³Ý ·áñÍáÕáõÃÛáõÝÝ»ñ Çñ³Ï³Ý³óÝáÕ Ù³ñÙÇÝÝ»ñÇ ³ÝoñÇÝ³Ï³Ý ¨ ³ÝÑÇÙÝ áñáßáõÙÝ»ñÇ ¨ ·áñÍáÕáõÃÛáõÝÝ»ñÇ ¹»Ù µáÕáùÝ»ñ | D15: 15 | E15: 41 | F15: 32 | G15: 7 | H15: 1 | I15: 2 | J15: 42 | K15: 2 | L15: 12 | M15: 28
A16: 11 | B16: ²½³ïáõÃÛáõÝÇó ½ñÏ»Éáõ Çñ³í³ã³÷áõÃÛ³Ý í»ñ³µ»ñÛ³É µáÕáùÝ»ñáí ·áñÍ»ñ | E16: 1 | F16: 1 | J16: 1
A17: 2. ¸³ï³Ï³Ý ³Ïï»ñÇ ¨ ¹³ï³Ï³Ý Ñ³ÝÓÝ³ñ³ñáõÃÛáõÝÝ»ñÇ Ï³ï³ñÙ³Ý Ñ»ï Ï³åí³Í Ñ³ñó»ñÇ ÉáõÍÙ³Ý áÉáñï
A18: 1 | B18: å³ïÅÇó å³ÛÙ³Ý³Ï³Ý í³Õ³Å³ÙÏ»ï ³½³ï»Éáõ Ù³ëÇÝ ÙÇçÝáñ¹áõÃÛáõÝÝ»ñ | D18: 4 | E18: 17 | F18: 13 | G18: 5 | J18: 18 | L18: 3 | M18: 5
A19: 2 | B19: å³ïÇÅÁ ÷á÷áË»Éáõ, Ñ»ï³Ó·»Éáõ ¨ å³ïÅÇó ³½³ï»Éáõ Ù³uÇÝ ÙÇçÝáñ¹áõÃÛáõÝÝ»ñ | D19: 15 | E19: 9 | F19: 2 | G19: 18 | I19: 4 | J19: 24 | M19: 1
A20: 3 | B20: Ñ³ñÏ³¹Çñ µáõÅÙ³Ý ï»ë³ÏÇ ÷á÷áËáõÃÛ³Ý Ù³ëÇÝ ÙÇçÝáñ¹áõÃÛáõÝÝ»ñ | E20: 2 | G20: 2 | J20: 2
A21: 4 | B21: ³ÛÉ ÙÇçÝáñ¹áõÃÛáõÝÝ»ñ | D21: 1 | E21: 9 | F21: 2 | G21: 5 | I21: 2 | J21: 9 | L21: 1 | M21: 2
A22: 5 | B22: ¹³ï³Ï³Ý Ñ³ÝÓÝ³ñ³ñáõÃÛáõÝÝ»ñ | D22: 4 | E22: 15 | F22: 2 | G22: 14 | J22: 16 | L22: 3
A23: ÀÜ¸²ØºÜÀ | D23: =SUM(D6:D16,D18:D22) -> 39 | E23: =SUM(E6:E16,E18:E22) -> 573 | F23: =SUM(F6:F16,F18:F22) -> 139 | G23: =SUM(G6:G16,G18:G22) -> 424 | H23: =SUM(H6:H16,H18:H22) -> 16 | I23: =SUM(I6:I16,I18:I22) -> 9 | J23: =SUM(J6:J16,J18:J22) -> 588 | K23: =SUM(K6:K16,K18:K22) -> 2 | ... M23: =SUM(M6:M16,M18:M22) -> 80

Sheet Կոտայք
A1: 2019թ. տարեկան | C1: Ð²ÞìºîìàôÂÚàôÜ
A2: ØÇÝã¹³ï³Ï³Ý í³ñáõÛÃÇ ÝÏ³ïÙ³Ùµ ¹³ï³Ï³Ý í»ñ³ÑëÏáÕáõÃÛ³ÝÁ, ¹³ï³Ï³Ý ³Ïï»ñÇ ¨ ¹³ï³Ï³Ý Ñ³ÝÓÝ³ñ³ñáõÃÛáõÝÝ»ñÇ Ï³ï³ñÙ³ÝÁ Ñ»ï Ï³åí³Í ÙÇçÝáñ¹áõÃÛáõÝÝ»ñÇ í»ñ³µ»ñÛ³É ¹³ï³Ï³Ý ·áñÍ»ñáí ÐÐ Կոտայքի մարզի ³é³çÇÝ ³ïÛ³ÝÇ ÁÝ¹Ñ³Ýáõñ Çñ³í³ëáõÃÛ³Ý ¹³ï³ñ³ÝÇ ·áñÍáõÝ»áõÃÛ³Ý í»ñ³µ»ñÛ³É
A3: êïáõ·Çã Ñ³í³ë³ñáõÙ` 1+2=7+8+9, 7=3+4+5+6, | D3: Ñ³ßí»ïáõ Å³Ù³Ý³Ï³Ñ³ïí³ÍÇ ëÏ½µáõÙ Ý³Ëáñ¹ Ñ³ßí»ïáõ Å³Ù³Ý³Ï³Ñ³ïí³ÍÇó ÷áË³Ýóí³Í ·áñÍ»ñÇ ÁÝ¹Ñ³Ýáõñ ÃÇíÁ | E3: Ñ³ßí»ïáõ Å³Ù³Ý³Ï³Ñ³ïí³ÍáõÙ ëï³óí³Í ·áñÍ»ñÇ ÁÝ¹Ñ³Ýáõñ ÃÇíÁ | F3: Ñ³ßí»ïáõ Å³Ù³Ý³Ï³Ñ³ïí³ÍáõÙ ³í³ñïí³Í ·áñÍ»ñÇ ÁÝ¹Ñ³Ýáõñ ÃÇíÁ | K3: áõÕ³ñÏí»É ¿ Áëï ÁÝ¹¹³ïáõÃÛ³Ý | L3: Ñ³ßí»ïáõ Å³Ù³Ý³Ï³Ñ³ïí³ÍáõÙ ³Ý³í³ñï ·áñÍ»ñÇ ÁÝ¹Ñ³Ýáõñ ÃÇíÁ | M3: µáÕáù³ñÏí»É ¿ í»ñ³ùÝÝÇã ¹³ï³ñ³Ý
F4: Ù»ñÅí»É ¿ | G4: µ³í³ñ³ñí»É ¿ | H4: µ³í³ñ³ñí»É ¿ Ù³ëÝ³ÏÇ | I4: ÃáÕÝí»É ¿ ³é³Ýó ùÝÝáõÃÛ³Ý | J4: ÁÝ¹³Ù»ÝÁ
A5: 1. ØÇÝã¹³ï³Ï³Ý í³ñáõÛÃÇ ÝÏ³ïÙ³Ùµ ¹³ï³Ï³Ý í»ñ³ÑëÏáÕáõÃÛ³Ý áÉáñï | D5: 1 | E5: 2 | F5: 3 | G5: 4 | H5: 5 | I5: 6 | J5: 7 | K5: 8 | L5: 9 | M5: 10
A6: 1 | B6: Ï³É³ÝùÁ áñå»ë Ë³÷³ÝÙ³Ý ÙÇçáó ÏÇñ³é»Éáõ Ù³ëÇÝ ÙÇçÝáñ¹áõÃÛáõÝÝ»ñ | E6: 60 | F6: 7 | G6: 53 | J6: 60 | M6: 26
A7: 2 | B7: Ï³É³ÝùÇ Å³ÙÏ»ïÁ »ñÏ³ñ³óÝ»Éáõ Ù³ëÇÝ ÙÇçÝáñ¹áõÃÛáõÝÝ»ñ | D7: 2 | E7: 94 | F7: 2 | G7: 89 | H7: 2 | J7: 93 | L7: 3 | M7: 21
A8: 3 | B8: Ï³É³ÝùÇ í»ñ³Ñ³ëï³ïÙ³Ý Ù³ëÇÝ ÙÇçÝáñ¹áõÃÛáõÝÝ»ñ | E8: 10 | F8: 3 | G8: 7 | J8: 10 | M8: 3
A9: 4 | B9: ·ñ³íÁ áñå»ë Ï³É³Ý³íáñÙ³Ý ³ÛÉÁÝïñ³Ýù³ÛÇÝ Ë³÷³ÝÙ³Ý ÙÇçáó ÏÇñ³é»Éáõ Ù³ëÇÝ ÙÇçÝáñ¹áõÃÛáõÝÝ»ñ | E9: 106 | F9: 88 | G9: 15 | J9: 103 | K9: 2 | L9: 1 | M9: 2
A10: 5 | B10: Ëáõ½³ñÏáõÃÛ³Ý Ï³ï³ñÙ³Ý Ù³ëÇÝ ÙÇçÝáñ¹áõÃÛáõÝÝ»ñ | E10: 375 | F10: 57 | G10: 317 | H10: 1 | J10: 375
A11: 6 | B11: µ³ÝÏ³ÛÇÝ, ³å³Ñáí³·ñ³Ï³Ý, Ýáï³ñ³Ï³Ý ·³ÕïÝÇù Ï³½ÙáÕ ï»Õ»ÏáõÃÛáõÝÝ»ñÇ ëï³óÙ³Ý Ñ³Ù³ñ Ëáõ½³ñÏáõÃÛ³Ý Ï³Ù ³é·ñ³íÙ³Ý Ï³ï³ñÙ³Ý Ù³ëÇÝ ÙÇçÝáñ¹áõÃÛáõÝÝ»ñ | E11: 7 | F11: 1 | G11: 6 | J11: 7
A12: 7 | B12: Ý³Ù³Ï³·ñáõÃÛ³Ý, Ñ»é³·ñ³Ï³Ý, ÷áuï³ÛÇÝ Ñ³Õáñ¹áõÙÝ»ñÇ ÑëÏáÕáõÃÛ³Ý Ù³ëÇÝ ÙÇçÝáñ¹áõÃÛáõÝÝ»ñ | E12: 77 | F12: 2 | G12: 75 | J12: 77
A13: 8 | B13: Ñ»é³Ëáu³ÛÇÝ Ï³Ù Ï³åÇ ³ÛÉ ÙÇçáóÝ»ñáí ï³ñíáÕ Ëáu³ÏóáõÃÛáõÝÝ»ñÇ ÉuÙ³Ý ¨ Ó³ÛÝ³·ñ³éÙ³Ý Ù³ëÇÝ ÙÇçÝáñ¹áõÃÛáõÝÝ»ñ | E13: 2 | G13: 2 | J13: 2
A14: 9 | B14: Ñ»é³ËáëÝ»ñÇ Ùáõïù³ÛÇÝ ¨ »Éù³ÛÇÝ í»ñÍ³ÝÙ³Ý ÃáõÛÉïíáõÃÛáõÝ ëï³Ý³Éáõ Ù³ëÇÝ ÙÇçÝáñ¹áõÃÛáõÝÝ»ñ | E14: 349 | F14: 11 | G14: 314 | H14: 24 | J14: 349
A15: 10 | B15: Ñ»ï³ùÝÝáõÃÛ³Ý Ù³ñÙÝÇ ³ßË³ïáÕÇ, ùÝÝÇãÇ, ¹³ï³Ë³½Ç oå»ñ³ïÇí-Ñ»ï³Ëáõ½³Ï³Ý ·áñÍáÕáõÃÛáõÝÝ»ñ Çñ³Ï³Ý³óÝáÕ Ù³ñÙÇÝÝ»ñÇ ³ÝoñÇÝ³Ï³Ý ¨ ³ÝÑÇÙÝ áñáßáõÙÝ»ñÇ ¨ ·áñÍáÕáõÃÛáõÝÝ»ñÇ ¹»Ù µáÕáùÝ»ñ | D15: 13 | E15: 66 | F15: 50 | G15: 12 | H15: 2 | J15: 64 | L15: 15 | M15: 44
A16: 11 | B16: ²½³ïáõÃÛáõÝÇó ½ñÏ»Éáõ Çñ³í³ã³÷áõÃÛ³Ý í»ñ³µ»ñÛ³É µáÕáùÝ»ñáí ·áñÍ»ñ | E16: 12 | F16: 6 | G16: 6 | J16: 12 | M16: 3
A17: 2. ¸³ï³Ï³Ý ³Ïï»ñÇ ¨ ¹³ï³Ï³Ý Ñ³ÝÓÝ³ñ³ñáõÃÛáõÝÝ»ñÇ Ï³ï³ñÙ³Ý Ñ»ï Ï³åí³Í Ñ³ñó»ñÇ ÉáõÍÙ³Ý áÉáñï
A18: 1 | B18: å³ïÅÇó å³ÛÙ³Ý³Ï³Ý í³Õ³Å³ÙÏ»ï ³½³ï»Éáõ Ù³ëÇÝ ÙÇçÝáñ¹áõÃÛáõÝÝ»ñ | D18: 8 | E18: 127 | F18: 62 | G18: 66 | I18: 1 | J18: 129 | L18: 6 | M18: 33
A19: 2 | B19: å³ïÇÅÁ ÷á÷áË»Éáõ, Ñ»ï³Ó·»Éáõ ¨ å³ïÅÇó ³½³ï»Éáõ Ù³uÇÝ ÙÇçÝáñ¹áõÃÛáõÝÝ»ñ | D19: 108 | E19: 68 | F19: 45 | G19: 117 | I19: 1 | J19: 163 | L19: 13 | M19: 5
A20: 3 | B20: Ñ³ñÏ³¹Çñ µáõÅÙ³Ý ï»ë³ÏÇ ÷á÷áËáõÃÛ³Ý Ù³ëÇÝ ÙÇçÝáñ¹áõÃÛáõÝÝ»ñ | E20: 10 | F20: 1 | G20: 9 | J20: 10
A21: 4 | B21: ³ÛÉ ÙÇçÝáñ¹áõÃÛáõÝÝ»ñ | D21: 7 | E21: 24 | F21: 17 | G21: 10 | I21: 1 | J21: 28 | L21: 1 | M21: 6
A22: 5 | B22: ¹³ï³Ï³Ý Ñ³ÝÓÝ³ñ³ñáõÃÛáõÝÝ»ñ | D22: 5 | E22: 19 | F22: 1 | G22: 19 | I22: 1 | J22: 21 | L22: 3
A23: ÀÜ¸²ØºÜÀ | D23: =SUM(D6:D16,D18:D22) -> 143 | E23: =SUM(E6:E16,E18:E22) -> 1406 | F23: =SUM(F6:F16,F18:F22) -> 353 | G23: =SUM(G6:G16,G18:G22) -> 1117 | H23: =SUM(H6:H16,H18:H22) -> 29 | I23: =SUM(I6:I16,I18:I22) -> 4 | J23: =SUM(J6:J16,J18:J22) -> 1503 | K23: =SUM(K6:K16,K18:K22) -> 2 | ... M23: =SUM(M6:M16,M18:M22) -> 143
C25: Ì³ÝáÃáõÃÛáõÝ. Ãíáí 2 ÙÇçÝáñ¹áõÃÛáõÝ ÙÇ³óí»É ¿

Sheet Գեղարքունիք
A1: 2019Ã. տարեկան | C1: Ð²ÞìºîìàôÂÚàôÜ
A2: ØÇÝã¹³ï³Ï³Ý í³ñáõÛÃÇ ÝÏ³ïÙ³Ùµ ¹³ï³Ï³Ý í»ñ³ÑëÏáÕáõÃÛ³ÝÁ, ¹³ï³Ï³Ý ³Ïï»ñÇ ¨ ¹³ï³Ï³Ý Ñ³ÝÓÝ³ñ³ñáõÃÛáõÝÝ»ñÇ Ï³ï³ñÙ³ÝÁ Ñ»ï Ï³åí³Í ÙÇçÝáñ¹áõÃÛáõÝÝ»ñÇ í»ñ³µ»ñÛ³É ¹³ï³Ï³Ý ·áñÍ»ñáí ÐÐ Գեղարքունիքի մարզի ³é³çÇÝ ³ïÛ³ÝÇ ÁÝ¹Ñ³Ýáõñ Çñ³í³ëáõÃÛ³Ý ¹³ï³ñ³ÝÇ ·áñÍáõÝ»áõÃÛ³Ý í»ñ³µ»ñÛ³É
A3: êïáõ·Çã Ñ³í³ë³ñáõÙ` 1+2=7+8+9, 7=3+4+5+6, | D3: Ñ³ßí»ïáõ Å³Ù³Ý³Ï³Ñ³ïí³ÍÇ ëÏ½µáõÙ Ý³Ëáñ¹ Ñ³ßí»ïáõ Å³Ù³Ý³Ï³Ñ³ïí³ÍÇó ÷áË³Ýóí³Í ·áñÍ»ñÇ ÁÝ¹Ñ³Ýáõñ ÃÇíÁ | E3: Ñ³ßí»ïáõ Å³Ù³Ý³Ï³Ñ³ïí³ÍáõÙ ëï³óí³Í ·áñÍ»ñÇ ÁÝ¹Ñ³Ýáõñ ÃÇíÁ | F3: Ñ³ßí»ïáõ Å³Ù³Ý³Ï³Ñ³ïí³ÍáõÙ ³í³ñïí³Í ·áñÍ»ñÇ ÁÝ¹Ñ³Ýáõñ ÃÇíÁ | K3: áõÕ³ñÏí»É ¿ Áëï ÁÝ¹¹³ïáõÃÛ³Ý | L3: Ñ³ßí»ïáõ Å³Ù³Ý³Ï³Ñ³ïí³ÍáõÙ ³Ý³í³ñï ·áñÍ»ñÇ ÁÝ¹Ñ³Ýáõñ ÃÇíÁ | M3: µáÕáù³ñÏí»É ¿ í»ñ³ùÝÝÇã ¹³ï³ñ³Ý
F4: Ù»ñÅí»É ¿ | G4: µ³í³ñ³ñí»É ¿ | H4: µ³í³ñ³ñí»É ¿ Ù³ëÝ³ÏÇ | I4: ÃáÕÝí»É ¿ ³é³Ýó ùÝÝáõÃÛ³Ý | J4: ÁÝ¹³Ù»ÝÁ
A5: 1. ØÇÝã¹³ï³Ï³Ý í³ñáõÛÃÇ ÝÏ³ïÙ³Ùµ ¹³ï³Ï³Ý í»ñ³ÑëÏáÕáõÃÛ³Ý áÉáñï | D5: 1 | E5: 2 | F5: 3 | G5: 4 | H5: 5 | I5: 6 | J5: 7 | K5: 8 | L5: 9 | M5: 10
A6: 1 | B6: Ï³É³ÝùÁ áñå»ë Ë³÷³ÝÙ³Ý ÙÇçáó ÏÇñ³é»Éáõ Ù³ëÇÝ ÙÇçÝáñ¹áõÃÛáõÝÝ»ñ | E6: 68 | F6: 4 | G6: 64 | J6: 68 | M6: 21
A7: 2 | B7: Ï³É³ÝùÇ Å³ÙÏ»ïÁ »ñÏ³ñ³óÝ»Éáõ Ù³ëÇÝ ÙÇçÝáñ¹áõÃÛáõÝÝ»ñ | D7: 1 | E7: 42 | F7: 3 | G7: 39 | J7: 42 | L7: 1 | M7: 14
A8: 3 | B8: Ï³É³ÝùÇ í»ñ³Ñ³ëï³ïÙ³Ý Ù³ëÇÝ ÙÇçÝáñ¹áõÃÛáõÝÝ»ñ | E8: 2 | G8: 2 | J8: 2
A9: 4 | B9: ·ñ³íÁ áñå»ë Ï³É³Ý³íáñÙ³Ý ³ÛÉÁÝïñ³Ýù³ÛÇÝ Ë³÷³ÝÙ³Ý ÙÇçáó ÏÇñ³é»Éáõ Ù³ëÇÝ ÙÇçÝáñ¹áõÃÛáõÝÝ»ñ | E9: 42 | F9: 33 | G9: 9 | J9: 42 | M9: 16
A10: 5 | B10: Ëáõ½³ñÏáõÃÛ³Ý Ï³ï³ñÙ³Ý Ù³ëÇÝ ÙÇçÝáñ¹áõÃÛáõÝÝ»ñ | E10: 283 | F10: 7 | G10: 276 | J10: 283 | M10: 2
A11: 6 | B11: µ³ÝÏ³ÛÇÝ, ³å³Ñáí³·ñ³Ï³Ý, Ýáï³ñ³Ï³Ý ·³ÕïÝÇù Ï³½ÙáÕ ï»Õ»ÏáõÃÛáõÝÝ»ñÇ ëï³óÙ³Ý Ñ³Ù³ñ Ëáõ½³ñÏáõÃÛ³Ý Ï³Ù ³é·ñ³íÙ³Ý Ï³ï³ñÙ³Ý Ù³ëÇÝ ÙÇçÝáñ¹áõÃÛáõÝÝ»ñ | E11: 5 | F11: 1 | G11: 4 | J11: 5 | M11: 1
A12: 7 | B12: Ý³Ù³Ï³·ñáõÃÛ³Ý, Ñ»é³·ñ³Ï³Ý, ÷áuï³ÛÇÝ Ñ³Õáñ¹áõÙÝ»ñÇ ÑëÏáÕáõÃÛ³Ý Ù³ëÇÝ ÙÇçÝáñ¹áõÃÛáõÝÝ»ñ | E12: 5 | G12: 4 | H12: 1 | J12: 5
A13: 8 | B13: Ñ»é³Ëáu³ÛÇÝ Ï³Ù Ï³åÇ ³ÛÉ ÙÇçáóÝ»ñáí ï³ñíáÕ Ëáu³ÏóáõÃÛáõÝÝ»ñÇ ÉuÙ³Ý ¨ Ó³ÛÝ³·ñ³éÙ³Ý Ù³ëÇÝ ÙÇçÝáñ¹áõÃÛáõÝÝ»ñ | E13: 4 | G13: 4 | J13: 4
A14: 9 | B14: Ñ»é³ËáëÝ»ñÇ Ùáõïù³ÛÇÝ ¨ »Éù³ÛÇÝ í»ñÍ³ÝÙ³Ý ÃáõÛÉïíáõÃÛáõÝ ëï³Ý³Éáõ Ù³ëÇÝ ÙÇçÝáñ¹áõÃÛáõÝÝ»ñ | E14: 223 | F14: 14 | G14: 207 | H14: 2 | J14: 223 | M14: 10
A15: 10 | B15: Ñ»ï³ùÝÝáõÃÛ³Ý Ù³ñÙÝÇ ³ßË³ïáÕÇ, ùÝÝÇãÇ, ¹³ï³Ë³½Ç oå»ñ³ïÇí-Ñ»ï³Ëáõ½³Ï³Ý ·áñÍáÕáõÃÛáõÝÝ»ñ Çñ³Ï³Ý³óÝáÕ Ù³ñÙÇÝÝ»ñÇ ³ÝoñÇÝ³Ï³Ý ¨ ³ÝÑÇÙÝ áñáßáõÙÝ»ñÇ ¨ ·áñÍáÕáõÃÛáõÝÝ»ñÇ ¹»Ù µáÕáùÝ»ñ | D15: 11 | E15: 24 | F15: 26 | G15: 3 | H15: 1 | J15: 30 | L15: 4 | M15: 18
A16: 11 | B16: ²½³ïáõÃÛáõÝÇó ½ñÏ»Éáõ Çñ³í³ã³÷áõÃÛ³Ý í»ñ³µ»ñÛ³É µáÕáùÝ»ñáí ·áñÍ»ñ | E16: 5 | F16: 1 | G16: 4 | J16: 5 | M16: 1
A17: 2. ¸³ï³Ï³Ý ³Ïï»ñÇ ¨ ¹³ï³Ï³Ý Ñ³ÝÓÝ³ñ³ñáõÃÛáõÝÝ»ñÇ Ï³ï³ñÙ³Ý Ñ»ï Ï³åí³Í Ñ³ñó»ñÇ ÉáõÍÙ³Ý áÉáñï
A18: 1 | B18: å³ïÅÇó å³ÛÙ³Ý³Ï³Ý í³Õ³Å³ÙÏ»ï ³½³ï»Éáõ Ù³ëÇÝ ÙÇçÝáñ¹áõÃÛáõÝÝ»ñ
A19: 2 | B19: å³ïÇÅÁ ÷á÷áË»Éáõ, Ñ»ï³Ó·»Éáõ ¨ å³ïÅÇó ³½³ï»Éáõ Ù³uÇÝ ÙÇçÝáñ¹áõÃÛáõÝÝ»ñ | D19: 9 | E19: 29 | F19: 7 | G19: 26 | H19: 1 | J19: 34 | L19: 4 | M19: 2
A20: 3 | B20: Ñ³ñÏ³¹Çñ µáõÅÙ³Ý ï»ë³ÏÇ ÷á÷áËáõÃÛ³Ý Ù³ëÇÝ ÙÇçÝáñ¹áõÃÛáõÝÝ»ñ | E20: 8 | F20: 1 | G20: 6 | J20: 7
A21: 4 | B21: ³ÛÉ ÙÇçÝáñ¹áõÃÛáõÝÝ»ñ | D21: 2 | E21: 16 | F21: 10 | G21: 8 | J21: 18 | M21: 2
A22: 5 | B22: ¹³ï³Ï³Ý Ñ³ÝÓÝ³ñ³ñáõÃÛáõÝÝ»ñ | D22: 7 | E22: 7 | F22: 3 | G22: 6 | J22: 9 | L22: 5
A23: ÀÜ¸²ØºÜÀ | D23: =SUM(D6:D16,D18:D22) -> 30 | E23: =SUM(E6:E16,E18:E22) -> 763 | F23: =SUM(F6:F16,F18:F22) -> 110 | G23: =SUM(G6:G16,G18:G22) -> 662 | H23: =SUM(H6:H16,H18:H22) -> 5 | I23: =SUM(I6:I16,I18:I22) -> 0 | J23: =SUM(J6:J16,J18:J22) -> 777 | K23: =SUM(K6:K16,K18:K22) -> 0 | ... M23: =SUM(M6:M16,M18:M22) -> 87
B24: Ì³ÝáÃáõÃÛáõÝ. Ãíáí 2 ÙÇçÝáñ¹áõÃÛáõÝ ÙÇ³óí»É ¿:

Sheet Շիրակ
A1: 2019Ã. տարեկան | C1: Ð²ÞìºîìàôÂÚàôÜ
A2: ØÇÝã¹³ï³Ï³Ý í³ñáõÛÃÇ ÝÏ³ïÙ³Ùµ ¹³ï³Ï³Ý í»ñ³ÑëÏáÕáõÃÛ³ÝÁ, ¹³ï³Ï³Ý ³Ïï»ñÇ ¨ ¹³ï³Ï³Ý Ñ³ÝÓÝ³ñ³ñáõÃÛáõÝÝ»ñÇ Ï³ï³ñÙ³ÝÁ Ñ»ï Ï³åí³Í ÙÇçÝáñ¹áõÃÛáõÝÝ»ñÇ í»ñ³µ»ñÛ³É ¹³ï³Ï³Ý ·áñÍ»ñáí ÐÐ Շիրակի մարզի առաջին ատյանի ÁÝ¹Ñ³Ýáõñ Çñ³í³ëáõÃÛ³Ý ¹³ï³ñ³ÝÇ ·áñÍáõÝ»áõÃÛ³Ý í»ñ³µ»ñÛ³É
A3: êïáõ·Çã Ñ³í³ë³ñáõÙ` 1+2=7+8+9, 7=3+4+5+6, | D3: Ñ³ßí»ïáõ Å³Ù³Ý³Ï³Ñ³ïí³ÍÇ ëÏ½µáõÙ Ý³Ëáñ¹ Ñ³ßí»ïáõ Å³Ù³Ý³Ï³Ñ³ïí³ÍÇó ÷áË³Ýóí³Í ·áñÍ»ñÇ ÁÝ¹Ñ³Ýáõñ ÃÇíÁ | E3: Ñ³ßí»ïáõ Å³Ù³Ý³Ï³Ñ³ïí³ÍáõÙ ëï³óí³Í ·áñÍ»ñÇ ÁÝ¹Ñ³Ýáõñ ÃÇíÁ | F3: Ñ³ßí»ïáõ Å³Ù³Ý³Ï³Ñ³ïí³ÍáõÙ ³í³ñïí³Í ·áñÍ»ñÇ ÁÝ¹Ñ³Ýáõñ ÃÇíÁ | K3: áõÕ³ñÏí»É ¿ Áëï ÁÝ¹¹³ïáõÃÛ³Ý | L3: Ñ³ßí»ïáõ Å³Ù³Ý³Ï³Ñ³ïí³ÍáõÙ ³Ý³í³ñï ·áñÍ»ñÇ ÁÝ¹Ñ³Ýáõñ ÃÇíÁ | M3: µáÕáù³ñÏí»É ¿ í»ñ³ùÝÝÇã ¹³ï³ñ³Ý
F4: Ù»ñÅí»É ¿ | G4: µ³í³ñ³ñí»É ¿ | H4: µ³í³ñ³ñí»É ¿ Ù³ëÝ³ÏÇ | I4: ÃáÕÝí»É ¿ ³é³Ýó ùÝÝáõÃÛ³Ý | J4: ÁÝ¹³Ù»ÝÁ
A5: 1. ØÇÝã¹³ï³Ï³Ý í³ñáõÛÃÇ ÝÏ³ïÙ³Ùµ ¹³ï³Ï³Ý í»ñ³ÑëÏáÕáõÃÛ³Ý áÉáñï | D5: 1 | E5: 2 | F5: 3 | G5: 4 | H5: 5 | I5: 6 | J5: 7 | K5: 8 | L5: 9 | M5: 10
A6: 1 | B6: Ï³É³ÝùÁ áñå»ë Ë³÷³ÝÙ³Ý ÙÇçáó ÏÇñ³é»Éáõ Ù³ëÇÝ ÙÇçÝáñ¹áõÃÛáõÝÝ»ñ | D6: 1 | E6: 114 | F6: 8 | G6: 107 | J6: =+F6+G6+H6+I6 -> 115 | M6: 34
A7: 2 | B7: Ï³É³ÝùÇ Å³ÙÏ»ïÁ »ñÏ³ñ³óÝ»Éáõ Ù³ëÇÝ ÙÇçÝáñ¹áõÃÛáõÝÝ»ñ | D7: 3 | E7: 57 | F7: 1 | G7: 58 | I7: 1 | J7: =+F7+G7+H7+I7 -> 60 | M7: 15
A8: 3 | B8: Ï³É³ÝùÇ í»ñ³Ñ³ëï³ïÙ³Ý Ù³ëÇÝ ÙÇçÝáñ¹áõÃÛáõÝÝ»ñ | D8: 0 | E8: 13 | F8: 2 | G8: 11 | J8: =+F8+G8+H8+I8 -> 13 | M8: 6
A9: 4 | B9: ·ñ³íÁ áñå»ë Ï³É³Ý³íáñÙ³Ý ³ÛÉÁÝïñ³Ýù³ÛÇÝ Ë³÷³ÝÙ³Ý ÙÇçáó ÏÇñ³é»Éáõ Ù³ëÇÝ ÙÇçÝáñ¹áõÃÛáõÝÝ»ñ | D9: 0 | E9: 69 | F9: 46 | G9: 19 | I9: 1 | J9: =+F9+G9+H9+I9 -> 66 | L9: 2 | M9: 3
A10: 5 | B10: Ëáõ½³ñÏáõÃÛ³Ý Ï³ï³ñÙ³Ý Ù³ëÇÝ ÙÇçÝáñ¹áõÃÛáõÝÝ»ñ | D10: 0 | E10: 506 | F10: 38 | G10: 450 | H10: 18 | J10: =+F10+G10+H10+I10 -> 506 | M10: 12
A11: 6 | B11: µ³ÝÏ³ÛÇÝ, ³å³Ñáí³·ñ³Ï³Ý, Ýáï³ñ³Ï³Ý ·³ÕïÝÇù Ï³½ÙáÕ ï»Õ»ÏáõÃÛáõÝÝ»ñÇ ëï³óÙ³Ý Ñ³Ù³ñ Ëáõ½³ñÏáõÃÛ³Ý Ï³Ù ³é·ñ³íÙ³Ý Ï³ï³ñÙ³Ý Ù³ëÇÝ ÙÇçÝáñ¹áõÃÛáõÝÝ»ñ | D11: 0 | F11: 6 | G11: 29 | H11: 3 | J11: =+F11+G11+H11+I11 -> 38 | M11: 7
A12: 7 | B12: Ý³Ù³Ï³·ñáõÃÛ³Ý, Ñ»é³·ñ³Ï³Ý, ÷áuï³ÛÇÝ Ñ³Õáñ¹áõÙÝ»ñÇ ÑëÏáÕáõÃÛ³Ý Ù³ëÇÝ ÙÇçÝáñ¹áõÃÛáõÝÝ»ñ | D12: 0 | E12: 19 | F12: 1 | G12: 18 | J12: =+F12+G12+H12+I12 -> 19
A13: 8 | B13: Ñ»é³Ëáu³ÛÇÝ Ï³Ù Ï³åÇ ³ÛÉ ÙÇçáóÝ»ñáí ï³ñíáÕ Ëáu³ÏóáõÃÛáõÝÝ»ñÇ ÉuÙ³Ý ¨ Ó³ÛÝ³·ñ³éÙ³Ý Ù³ëÇÝ ÙÇçÝáñ¹áõÃÛáõÝÝ»ñ | D13: 0 | E13: 17 | F13: 3 | G13: 14 | J13: =+F13+G13+H13+I13 -> 17
A14: 9 | B14: Ñ»é³ËáëÝ»ñÇ Ùáõïù³ÛÇÝ ¨ »Éù³ÛÇÝ í»ñÍ³ÝÙ³Ý ÃáõÛÉïíáõÃÛáõÝ ëï³Ý³Éáõ Ù³ëÇÝ ÙÇçÝáñ¹áõÃÛáõÝÝ»ñ | D14: 0 | E14: 375 | F14: 4 | G14: 351 | H14: 20 | J14: =+F14+G14+H14+I14 -> 375
A15: 10 | B15: Ñ»ï³ùÝÝáõÃÛ³Ý Ù³ñÙÝÇ ³ßË³ïáÕÇ, ùÝÝÇãÇ, ¹³ï³Ë³½Ç oå»ñ³ïÇí-Ñ»ï³Ëáõ½³Ï³Ý ·áñÍáÕáõÃÛáõÝÝ»ñ Çñ³Ï³Ý³óÝáÕ Ù³ñÙÇÝÝ»ñÇ ³ÝoñÇÝ³Ï³Ý ¨ ³ÝÑÇÙÝ áñáßáõÙÝ»ñÇ ¨ ·áñÍáÕáõÃÛáõÝÝ»ñÇ ¹»Ù µáÕáùÝ»ñ | D15: 19 | E15: 50 | F15: 37 | G15: 2 | H15: 3 | I15: 4 | J15: =+F15+G15+H15+I15 -> 46 | L15: 23 | M15: 20
A16: 11 | B16: ²½³ïáõÃÛáõÝÇó ½ñÏ»Éáõ Çñ³í³ã³÷áõÃÛ³Ý í»ñ³µ»ñÛ³É µáÕáùÝ»ñáí ·áñÍ»ñ | D16: 0 | E16: 13 | F16: 3 | G16: 9 | J16: =+F16+G16+H16+I16 -> 12 | M16: 4
A17: 2. ¸³ï³Ï³Ý ³Ïï»ñÇ ¨ ¹³ï³Ï³Ý Ñ³ÝÓÝ³ñ³ñáõÃÛáõÝÝ»ñÇ Ï³ï³ñÙ³Ý Ñ»ï Ï³åí³Í Ñ³ñó»ñÇ ÉáõÍÙ³Ý áÉáñï
A18: 1 | B18: å³ïÅÇó å³ÛÙ³Ý³Ï³Ý í³Õ³Å³ÙÏ»ï ³½³ï»Éáõ Ù³ëÇÝ ÙÇçÝáñ¹áõÃÛáõÝÝ»ñ | D18: 2 | E18: 25 | F18: 15 | G18: 9 | J18: =+F18+G18+H18+I18 -> 24 | L18: 3 | M18: 11
A19: 2 | B19: å³ïÇÅÁ ÷á÷áË»Éáõ, Ñ»ï³Ó·»Éáõ ¨ å³ïÅÇó ³½³ï»Éáõ Ù³uÇÝ ÙÇçÝáñ¹áõÃÛáõÝÝ»ñ | D19: 68 | E19: 30 | F19: 4 | G19: 82 | I19: 8 | J19: =+F19+G19+H19+I19 -> 94 | L19: 3 | M19: 2
A20: 3 | B20: Ñ³ñÏ³¹Çñ µáõÅÙ³Ý ï»ë³ÏÇ ÷á÷áËáõÃÛ³Ý Ù³ëÇÝ ÙÇçÝáñ¹áõÃÛáõÝÝ»ñ | E20: 8 | F20: 2 | G20: 4 | J20: =+F20+G20+H20+I20 -> 6 | L20: 2
A21: 4 | B21: ³ÛÉ ÙÇçÝáñ¹áõÃÛáõÝÝ»ñ | D21: 5 | E21: 48 | F21: 28 | G21: 19 | I21: 2 | J21: =+F21+G21+H21+I21 -> 49 | K21: 1 | L21: 3 | M21: 8
A22: 5 | B22: ¹³ï³Ï³Ý Ñ³ÝÓÝ³ñ³ñáõÃÛáõÝÝ»ñ | D22: 21 | E22: 31 | F22: 1 | G22: 4 | J22: =+F22+G22+H22+I22 -> 5 | K22: 1 | L22: 32
A23: ÀÜ¸²ØºÜÀ | D23: =SUM(D6:D22) -> 119 | E23: =SUM(E6:E22) -> 1375 | F23: =SUM(F6:F22) -> 199 | G23: =SUM(G6:G22) -> 1186 | H23: =SUM(H6:H22) -> 44 | I23: =SUM(I6:I22) -> 16 | J23: =SUM(J6:J22) -> 1445 | K23: =SUM(K6:K22) -> 2 | ... M23: =SUM(M6:M22) -> 122
C25: Ì³ÝáÃáõÃÛáõÝ. Ãíáí 3 ÙÇçÝáñ¹áõÃÛáõÝ ÙÇ³óí»É ¿, 14-áí áñáßáõÙ ãÇ Ï³Û³óí»É:
