Workbook

Sheet Ընդհամենը
A1: Ð²ÞìºîìàôÂÚàôÜ
A2: ºðºì²ÜÆ ԿԵՆՏՐՈՆ ºì ՆՈՐՔ ՄԱՐԱՇ ì²ðâ²Î²Ü Þðæ²ÜÜºðÆ ÀÜ¸Ð²Üàôð Æð²ì²êàôÂÚ²Ü ²è²æÆÜ ²îÚ²ÜÆ ¸²î²ð²ÜÆ
H3: ¶àðÌàôÜºàôÂÚ²Ü ìºð²´ºðÚ²È êÜ²ÜÎàôÂÚ²Ü ¶àðÌºðՈՎ 2015թ.
A4: ìÇ×³Ï³·ñ³Ï³Ý ïáÕÇ Ñ³Ù³ñÁ | B4: êïáõ·Çã Ñ³í³ë³ñáõÙÝ»ñ` 1+7=8+16+17, 2=3+4, 2=5+6+7, 7=9+10+11+12 | E4: ²Ý³í³ñï ·áñÍ»ñÇ ÙÝ³óáñ¹Á Ñ³ßí»ïáõ Å³Ù³Ý³Ï³ßñç³ÝÇ ëÏ½µáõÙ | F4: êï³óí³Í ¹ÇÙáõÙÝ»ñÇ (·áñÍ»ñ) ù³Ý³ÏÁ | L4: öáË³Ýóí»É ¿ ³ÛÉ ¹³ï³íáñÇ (Ï³½ÙÇ ÷á÷áËáõÃÛáõÝ) | M4: ì³ñáõÛÃ ÁÝ¹áõÝí³Í ¹ÇÙáõÙÝ»ñáí Ï³Û³óí³Í ¹³ï³Ï³Ý ³Ïï»ñ | Q4: Ü»ñÏ³Û³óí»É ¿ ýÇÝ³Ýë³Ï³Ý ³éáÕç³óÙ³Ý Íñ³·Çñ | T4: ²í³ñïí»É »Ý ·áñÍ»ñ Ñ³ßí»ïáõ Å³Ù³Ý³Ï³ßñç³ÝáõÙ | U4: ²Ý³í³ñï ·áñÍ»ñÇ ÙÝ³óáñ¹Á Ñ³ßí»ïáõ Å³Ù³Ý³Ï³ßñç³ÝÇ í»ñçáõÙ | V4: ´áÕáù³ñÏí»É »Ý í»ñ³ùÝÝÇã ¹³ï³ñ³Ý
F6: ÀÝ¹³Ù»ÝÁ | G6: ³Û¹ ÃíáõÙ Ñ³ñÏ³¹ñí³Í ëÝ³ÝÏáõÃÛáõÝ | H6: ³Û¹ ÃíáõÙ Ï³Ù³íáñ ëÝ³ÝÏáõÃÛáõÝ | I6: ëï³óí³Í ¹ÇÙáõÙÝ»ñÇ ÁÝÃ³óùÁ | M6: Ï³Û³óí»É ¿ å³ñï³å³ÝÇÝ ëÝ³ÝÏ ×³Ý³ã»Éáõ Ù³ëÇÝ í×Çé | N6: å³ñï³å³ÝÇÝ ëÝ³ÝÏ ×³Ý³ã»Éáõ ¹ÇÙáõÙÁ Ù»ñÅí»É ¿ | O6: ¹ÇÙáõÙÁ ÃáÕÝí»É ¿ ³é³Ýó ùÝÝáõÃÛ³Ý | P6: ³Ý³í³ñï (³Û¹ ÃíáõÙ Ï³ë»óí³Í) | Q6: ÀÝ¹³Ù»ÝÁ | R6: ÃáÕÝí»É ¿ ³é³Ýó ùÝÝ³ñÏÙ³Ý | S6: Ñ³ëï³ïí»É ¿
I8: ¸ÇÙáõÙÇ ÁÝ¹áõÝáõÙÁ Ù»ñÅí»É ¿ | J8: ¸ÇÙáõÙÁ í»ñ³¹³ñÓí»É ¿ | K8: ÀÝ¹áõÝí»É ¿ í³ñáõÛÃ
E18: 1 | F18: 2 | G18: 3 | H18: 4 | I18: 5 | J18: 6 | K18: 7 | L18: 8 | M18: 9 | N18: 10 | O18: 11 | P18: 12 | Q18: 13 | R18: 14 | S18: 15 | T18: 16 | U18: 17 | V18: 18 | W18: 1+7=8+16+17 | Y18: 2=3+4 | AA18: 2=5+6+7 | AC18: 7=9+10+11+12
A19: 1 | B19: Æñ³í³µ³Ý³Ï³Ý ³ÝÓÇ ëÝ³ÝÏáõÃÛ³Ý í»ñ³µ»ñÛ³É | E19: =Ա.Սուքոյան!E19+Կ.Պետրոսյան!E19 -> 563 | F19: =Ա.Սուքոյան!F19+Կ.Պետրոսյան!F19 -> 104 | G19: =Ա.Սուքոյան!G19+Կ.Պետրոսյան!G19 -> 101 | H19: =Ա.Սուքոյան!H19+Կ.Պետրոսյան!H19 -> 3 | I19: =Ա.Սուքոյան!I19+Կ.Պետրոսյան!I19 -> 0 | J19: =Ա.Սուքոյան!J19+Կ.Պետրոսյան!J19 -> 2 | K19: =Ա.Սուքոյան!K19+Կ.Պետրոսյան!K19 -> 102 | L19: =Ա.Սուքոյան!L19+Կ.Պետրոսյան!M19 -> 29 | M19: =Ա.Սուքոյան!M19+Կ.Պետրոսյան!M19 -> 57 | N19: =Ա.Սուքոյան!N19+Կ.Պետրոսյան!N19 -> 2 | O19: =Ա.Սուքոյան!O19+Կ.Պետրոսյան!O19 -> 0 | P19: =Ա.Սուքոյան!P19+Կ.Պետրոսյան!P19 -> 43 | Q19: =Ա.Սուքոյան!Q19+Կ.Պետրոսյան!Q19 -> 0 | R19: =Ա.Սուքոյան!R19+Կ.Պետրոսյան!R19 -> 0 | S19: =Ա.Սուքոյան!S19+Կ.Պետրոսյան!S19 -> 0 | T19: =Ա.Սուքոյան!T19+Կ.Պետրոսյան!T19 -> 27 | ... V19: =Ա.Սուքոյան!V19+Կ.Պետրոսյան!V19 -> 15 | W19: =E19+K19 -> 665 | X19: =L19+T19+U19 -> 694 | Y19: =F19 -> 104 | Z19: =G19+H19 -> 104 | AA19: =F19 -> 104 | AB19: =I19+J19+K19 -> 104 | AC19: =K19 -> 102 | AD19: =M19+N19+O19+P19 -> 102
A20: 2 | B20: ²ÝÑ³ï Ó»éÝ»ñ»óÇ ëÝ³ÝÏáõÃÛ³Ý í»ñ³µ»ñÛ³É | E20: =Ա.Սուքոյան!E20+Կ.Պետրոսյան!E20 -> 46 | F20: =Ա.Սուքոյան!F20+Կ.Պետրոսյան!F20 -> 17 | G20: =Ա.Սուքոյան!G20+Կ.Պետրոսյան!G20 -> 14 | H20: =Ա.Սուքոյան!H20+Կ.Պետրոսյան!H20 -> 3 | I20: =Ա.Սուքոյան!I20+Կ.Պետրոսյան!I20 -> 0 | J20: =Ա.Սուքոյան!J20+Կ.Պետրոսյան!J20 -> 0 | K20: =Ա.Սուքոյան!K20+Կ.Պետրոսյան!K20 -> 17 | L20: =Ա.Սուքոյան!L20+Կ.Պետրոսյան!M20 -> 7 | M20: =Ա.Սուքոյան!M20+Կ.Պետրոսյան!M20 -> 12 | N20: =Ա.Սուքոյան!N20+Կ.Պետրոսյան!N20 -> 0 | O20: =Ա.Սուքոյան!O20+Կ.Պետրոսյան!O20 -> 0 | P20: =Ա.Սուքոյան!P20+Կ.Պետրոսյան!P20 -> 5 | Q20: =Ա.Սուքոյան!Q20+Կ.Պետրոսյան!Q20 -> 0 | R20: =Ա.Սուքոյան!R20+Կ.Պետրոսյան!R20 -> 0 | S20: =Ա.Սուքոյան!S20+Կ.Պետրոսյան!S20 -> 0 | T20: =Ա.Սուքոյան!T20+Կ.Պետրոսյան!T20 -> 8 | ... V20: =Ա.Սուքոյան!V20+Կ.Պետրոսյան!V20 -> 1 | W20: =E20+K20 -> 63 | X20: =L20+T20+U20 -> 70 | Y20: =F20 -> 17 | Z20: =G20+H20 -> 17 | AA20: =F20 -> 17 | AB20: =I20+J20+K20 -> 17 | AC20: =K20 -> 17 | AD20: =M20+N20+O20+P20 -> 17
A21: 3 | B21: üÇ½ÇÏ³Ï³Ý ³ÝÓ³Ýó ëÝ³ÝÏáõÃÛ³Ý í»ñ³µ»ñÛ³É | E21: =Ա.Սուքոյան!E21+Կ.Պետրոսյան!E21 -> 390 | F21: =Ա.Սուքոյան!F21+Կ.Պետրոսյան!F21 -> 102 | G21: =Ա.Սուքոյան!G21+Կ.Պետրոսյան!G21 -> 93 | H21: =Ա.Սուքոյան!H21+Կ.Պետրոսյան!H21 -> 9 | I21: =Ա.Սուքոյան!I21+Կ.Պետրոսյան!I21 -> 0 | J21: =Ա.Սուքոյան!J21+Կ.Պետրոսյան!J21 -> 9 | K21: =Ա.Սուքոյան!K21+Կ.Պետրոսյան!K21 -> 93 | L21: =Ա.Սուքոյան!L21+Կ.Պետրոսյան!M21 -> 23 | M21: =Ա.Սուքոյան!M21+Կ.Պետրոսյան!M21 -> 59 | N21: =Ա.Սուքոյան!N21+Կ.Պետրոսյան!N21 -> 11 | O21: =Ա.Սուքոյան!O21+Կ.Պետրոսյան!O21 -> 0 | P21: =Ա.Սուքոյան!P21+Կ.Պետրոսյան!P21 -> 23 | Q21: =Ա.Սուքոյան!Q21+Կ.Պետրոսյան!Q21 -> 0 | R21: =Ա.Սուքոյան!R21+Կ.Պետրոսյան!R21 -> 0 | S21: =Ա.Սուքոյան!S21+Կ.Պետրոսյան!S21 -> 0 | T21: =Ա.Սուքոյան!T21+Կ.Պետրոսյան!T21 -> 17 | ... V21: =Ա.Սուքոյան!V21+Կ.Պետրոսյան!V21 -> 23 | W21: =E21+K21 -> 483 | X21: =L21+T21+U21 -> 506 | Y21: =F21 -> 102 | Z21: =G21+H21 -> 102 | AA21: =F21 -> 102 | AB21: =I21+J21+K21 -> 102 | AC21: =K21 -> 93 | AD21: =M21+N21+O21+P21 -> 93
A22: 4 | B22: ԸՆԴՀԱՄԵՆԸ | E22: =Ա.Սուքոյան!E22+Կ.Պետրոսյան!E22 -> 999 | F22: =Ա.Սուքոյան!F22+Կ.Պետրոսյան!F22 -> 223 | G22: =Ա.Սուքոյան!G22+Կ.Պետրոսյան!G22 -> 208 | H22: =Ա.Սուքոյան!H22+Կ.Պետրոսյան!H22 -> 15 | I22: =Ա.Սուքոյան!I22+Կ.Պետրոսյան!I22 -> 0 | J22: =Ա.Սուքոյան!J22+Կ.Պետրոսյան!J22 -> 11 | K22: =Ա.Սուքոյան!K22+Կ.Պետրոսյան!K22 -> 212 | L22: =Ա.Սուքոյան!L22+Կ.Պետրոսյան!M22 -> 59 | M22: =Ա.Սուքոյան!M22+Կ.Պետրոսյան!M22 -> 128 | N22: =Ա.Սուքոյան!N22+Կ.Պետրոսյան!N22 -> 13 | O22: =Ա.Սուքոյան!O22+Կ.Պետրոսյան!O22 -> 0 | P22: =Ա.Սուքոյան!P22+Կ.Պետրոսյան!P22 -> 71 | Q22: =Ա.Սուքոյան!Q22+Կ.Պետրոսյան!Q22 -> 0 | R22: =Ա.Սուքոյան!R22+Կ.Պետրոսյան!R22 -> 0 | S22: =Ա.Սուքոյան!S22+Կ.Պետրոսյան!S22 -> 0 | T22: =Ա.Սուքոյան!T22+Կ.Պետրոսյան!T22 -> 52 | ... V22: =Ա.Սուքոյան!V22+Կ.Պետրոսյան!V22 -> 39 | W22: =E22+K22 -> 1211 | X22: =L22+T22+U22 -> 1270 | Y22: =F22 -> 223 | Z22: =G22+H22 -> 223 | AA22: =F22 -> 223 | AB22: =I22+J22+K22 -> 223 | AC22: =K22 -> 212 | AD22: =M22+N22+O22+P22 -> 212

Sheet Ա.Սուքոյան
A1: Ð²ÞìºîìàôÂÚàôÜ
A2: ºðºì²ÜÆ ԿԵՆՏՐՈՆ ºì ՆՈՐՔ-ՄԱՐԱՇ ì²ðâ²Î²Ü Þðæ²ÜÜºðÆ ÀÜ¸Ð²Üàôð Æð²ì²êàôÂÚ²Ü ²è²æÆÜ ²îÚ²ÜÆ ¸²î²ð²ÜÆ ԴԱՏԱՎՈՐ
A3: Ա. ՍՈՒՔՈՅԱՆԻ | H3: ¶àðÌàôÜºàôÂÚ²Ü ìºð²´ºðÚ²È êÜ²ÜÎàôÂÚ²Ü ¶àðÌºðàì 2016թ. 1-ÆÜ ÎÆê²ØÚ²Î
A4: ìÇ×³Ï³·ñ³Ï³Ý ïáÕÇ Ñ³Ù³ñÁ | E4: ²Ý³í³ñï ·áñÍ»ñÇ ÙÝ³óáñ¹Á Ñ³ßí»ïáõ Å³Ù³Ý³Ï³ßñç³ÝÇ ëÏ½µáõÙ | F4: êï³óí³Í ¹ÇÙáõÙÝ»ñÇ (·áñÍ»ñ) ù³Ý³ÏÁ | L4: öáË³Ýóí»É ¿ ³ÛÉ ¹³ï³íáñÇ (Ï³½ÙÇ ÷á÷áËáõÃÛáõÝ) | M4: ì³ñáõÛÃ ÁÝ¹áõÝí³Í ¹ÇÙáõÙÝ»ñáí Ï³Û³óí³Í ¹³ï³Ï³Ý ³Ïï»ñ | Q4: Ü»ñÏ³Û³óí»É ¿ ýÇÝ³Ýë³Ï³Ý ³éáÕç³óÙ³Ý Íñ³·Çñ | T4: ²í³ñïí»É »Ý ·áñÍ»ñ Ñ³ßí»ïáõ Å³Ù³Ý³Ï³ßñç³ÝáõÙ | U4: ²Ý³í³ñï ·áñÍ»ñÇ ÙÝ³óáñ¹Á Ñ³ßí»ïáõ Å³Ù³Ý³Ï³ßñç³ÝÇ í»ñçáõÙ | V4: ´áÕáù³ñÏí»É »Ý í»ñ³ùÝÝÇã ¹³ï³ñ³Ý
F6: ÀÝ¹³Ù»ÝÁ | G6: ³Û¹ ÃíáõÙ Ñ³ñÏ³¹ñí³Í ëÝ³ÝÏáõÃÛáõÝ | H6: ³Û¹ ÃíáõÙ Ï³Ù³íáñ ëÝ³ÝÏáõÃÛáõÝ | I6: ëï³óí³Í ¹ÇÙáõÙÝ»ñÇ ÁÝÃ³óùÁ | M6: Ï³Û³óí»É ¿ å³ñï³å³ÝÇÝ ëÝ³ÝÏ ×³Ý³ã»Éáõ Ù³ëÇÝ í×Çé | N6: å³ñï³å³ÝÇÝ ëÝ³ÝÏ ×³Ý³ã»Éáõ ¹ÇÙáõÙÁ Ù»ñÅí»É ¿ | O6: ¹ÇÙáõÙÁ ÃáÕÝí»É ¿ ³é³Ýó ùÝÝáõÃÛ³Ý | P6: ³Ý³í³ñï (³Û¹ ÃíáõÙ Ï³ë»óí³Í) | Q6: ÀÝ¹³Ù»ÝÁ | R6: ÃáÕÝí»É ¿ ³é³Ýó ùÝÝ³ñÏÙ³Ý | S6: Ñ³ëï³ïí»É ¿
I8: ¸ÇÙáõÙÇ ÁÝ¹áõÝáõÙÁ Ù»ñÅí»É ¿ | J8: ¸ÇÙáõÙÁ í»ñ³¹³ñÓí»É ¿ | K8: ÀÝ¹áõÝí»É ¿ í³ñáõÛÃ
E18: 1 | F18: 2 | G18: 3 | H18: 4 | I18: 5 | J18: 6 | K18: 7 | L18: 8 | M18: 9 | N18: 10 | O18: 11 | P18: 12 | Q18: 13 | R18: 14 | S18: 15 | T18: 16 | U18: 17 | V18: 18 | W18: 1+7=8+16+17 | Y18: 2=3+4 | AA18: 2=5+6+7 | AC18: 7=9+10+11+12
A19: 1 | B19: Æñ³í³µ³Ý³Ï³Ý ³ÝÓÇ ëÝ³ÝÏáõÃÛ³Ý í»ñ³µ»ñÛ³É | E19: 266 | F19: 56 | G19: 54 | H19: 2 | J19: 1 | K19: 55 | M19: 28 | N19: 1 | P19: 26 | T19: 11 | U19: 310 | V19: 8 | W19: =E19+K19 -> 321 | X19: =L19+T19+U19 -> 321 | Y19: =F19 -> 56 | Z19: =G19+H19 -> 56 | AA19: =F19 -> 56 | AB19: =I19+J19+K19 -> 56 | AC19: =K19 -> 55 | AD19: =M19+N19+O19+P19 -> 55
A20: 2 | B20: ²ÝÑ³ï Ó»éÝ»ñ»óÇ ëÝ³ÝÏáõÃÛ³Ý í»ñ³µ»ñÛ³É | E20: 24 | F20: 8 | G20: 7 | H20: 1 | K20: 8 | M20: 5 | P20: 3 | T20: 4 | U20: 28 | V20: 1 | W20: =E20+K20 -> 32 | X20: =L20+T20+U20 -> 32 | Y20: =F20 -> 8 | Z20: =G20+H20 -> 8 | AA20: =F20 -> 8 | AB20: =I20+J20+K20 -> 8 | AC20: =K20 -> 8 | AD20: =M20+N20+O20+P20 -> 8
A21: 3 | B21: üÇ½ÇÏ³Ï³Ý ³ÝÓ³Ýó ëÝ³ÝÏáõÃÛ³Ý í»ñ³µ»ñÛ³É | E21: 211 | F21: 54 | G21: 51 | H21: 3 | J21: 4 | K21: 50 | M21: 36 | N21: 2 | P21: 12 | T21: 10 | U21: 251 | V21: 6 | W21: =E21+K21 -> 261 | X21: =L21+T21+U21 -> 261 | Y21: =F21 -> 54 | Z21: =G21+H21 -> 54 | AA21: =F21 -> 54 | AB21: =I21+J21+K21 -> 54 | AC21: =K21 -> 50 | AD21: =M21+N21+O21+P21 -> 50
A22: 4 | B22: ընդամենը | E22: =SUM(E19:E21) -> 501 | F22: =SUM(F19:F21) -> 118 | G22: =SUM(G19:G21) -> 112 | H22: =SUM(H19:H21) -> 6 | J22: =SUM(J19:J21) -> 5 | K22: =SUM(K19:K21) -> 113 | M22: =SUM(M19:M21) -> 69 | N22: =SUM(N19:N21) -> 3 | P22: =SUM(P19:P21) -> 41 | T22: =SUM(T19:T21) -> 25 | U22: =SUM(U19:U21) -> 589 | V22: =SUM(V19:V21) -> 15

Sheet Կ.Պետրոսյան
A1: Ð²ÞìºîìàôÂÚàôÜ
A2: ºðºì²ÜÆ ԿԵՆՏՐՈՆ ºì ՆՈՐՔ-ՄԱՐԱՇ ì²ðâ²Î²Ü Þðæ²ÜÜºðÆ ÀÜ¸Ð²Üàôð Æð²ì²êàôÂÚ²Ü ²è²æÆÜ ²îÚ²ÜÆ ¸²î²ð²ÜÆ ԴԱՏԱՎՈՐ
A3: Կ. ՊԵՏՐՈՍՅԱՆԻ | H3: ¶àðÌàôÜºàôÂÚ²Ü ìºð²´ºðÚ²È êÜ²ÜÎàôÂÚ²Ü ¶àðÌºðàì 2016թ. 1-ÆÜ ÎÆê²ØÚ²Î
A4: ìÇ×³Ï³·ñ³Ï³Ý ïáÕÇ Ñ³Ù³ñÁ | E4: ²Ý³í³ñï ·áñÍ»ñÇ ÙÝ³óáñ¹Á Ñ³ßí»ïáõ Å³Ù³Ý³Ï³ßñç³ÝÇ ëÏ½µáõÙ | F4: êï³óí³Í ¹ÇÙáõÙÝ»ñÇ (·áñÍ»ñ) ù³Ý³ÏÁ | L4: öáË³Ýóí»É ¿ ³ÛÉ ¹³ï³íáñÇ (Ï³½ÙÇ ÷á÷áËáõÃÛáõÝ) | M4: ì³ñáõÛÃ ÁÝ¹áõÝí³Í ¹ÇÙáõÙÝ»ñáí Ï³Û³óí³Í ¹³ï³Ï³Ý ³Ïï»ñ | Q4: Ü»ñÏ³Û³óí»É ¿ ýÇÝ³Ýë³Ï³Ý ³éáÕç³óÙ³Ý Íñ³·Çñ | T4: ²í³ñïí»É »Ý ·áñÍ»ñ Ñ³ßí»ïáõ Å³Ù³Ý³Ï³ßñç³ÝáõÙ | U4: ²Ý³í³ñï ·áñÍ»ñÇ ÙÝ³óáñ¹Á Ñ³ßí»ïáõ Å³Ù³Ý³Ï³ßñç³ÝÇ í»ñçáõÙ | V4: ´áÕáù³ñÏí»É »Ý í»ñ³ùÝÝÇã ¹³ï³ñ³Ý
F6: ÀÝ¹³Ù»ÝÁ | G6: ³Û¹ ÃíáõÙ Ñ³ñÏ³¹ñí³Í ëÝ³ÝÏáõÃÛáõÝ | H6: ³Û¹ ÃíáõÙ Ï³Ù³íáñ ëÝ³ÝÏáõÃÛáõÝ | I6: ëï³óí³Í ¹ÇÙáõÙÝ»ñÇ ÁÝÃ³óùÁ | M6: Ï³Û³óí»É ¿ å³ñï³å³ÝÇÝ ëÝ³ÝÏ ×³Ý³ã»Éáõ Ù³ëÇÝ í×Çé | N6: å³ñï³å³ÝÇÝ ëÝ³ÝÏ ×³Ý³ã»Éáõ ¹ÇÙáõÙÁ Ù»ñÅí»É ¿ | O6: ¹ÇÙáõÙÁ ÃáÕÝí»É ¿ ³é³Ýó ùÝÝáõÃÛ³Ý | P6: ³Ý³í³ñï (³Û¹ ÃíáõÙ Ï³ë»óí³Í) | Q6: ÀÝ¹³Ù»ÝÁ | R6: ÃáÕÝí»É ¿ ³é³Ýó ùÝÝ³ñÏÙ³Ý | S6: Ñ³ëï³ïí»É ¿
I8: ¸ÇÙáõÙÇ ÁÝ¹áõÝáõÙÁ Ù»ñÅí»É ¿ | J8: ¸ÇÙáõÙÁ í»ñ³¹³ñÓí»É ¿ | K8: ÀÝ¹áõÝí»É ¿ í³ñáõÛÃ
E18: 1 | F18: 2 | G18: 3 | H18: 4 | I18: 5 | J18: 6 | K18: 7 | L18: 8 | M18: 9 | N18: 10 | O18: 11 | P18: 12 | Q18: 13 | R18: 14 | S18: 15 | T18: 16 | U18: 17 | V18: 18 | W18: 1+7=8+16+17 | Y18: 2=3+4 | AA18: 2=5+6+7 | AC18: 7=9+10+11+12
A19: 1 | B19: Æñ³í³µ³Ý³Ï³Ý ³ÝÓÇ ëÝ³ÝÏáõÃÛ³Ý í»ñ³µ»ñÛ³É | E19: 297 | F19: 48 | G19: 47 | H19: 1 | J19: 1 | K19: 47 | M19: 29 | N19: 1 | P19: 17 | T19: 16 | U19: 328 | V19: 7 | W19: =E19+K19 -> 344 | X19: =L19+T19+U19 -> 344 | Y19: =F19 -> 48 | Z19: =G19+H19 -> 48 | AA19: =F19 -> 48 | AB19: =I19+J19+K19 -> 48 | AC19: =K19 -> 47 | AD19: =M19+N19+O19+P19 -> 47
A20: 2 | B20: ²ÝÑ³ï Ó»éÝ»ñ»óÇ ëÝ³ÝÏáõÃÛ³Ý í»ñ³µ»ñÛ³É | E20: 22 | F20: 9 | G20: 7 | H20: 2 | K20: 9 | M20: 7 | P20: 2 | T20: 4 | U20: 27 | W20: =E20+K20 -> 31 | X20: =L20+T20+U20 -> 31 | Y20: =F20 -> 9 | Z20: =G20+H20 -> 9 | AA20: =F20 -> 9 | AB20: =I20+J20+K20 -> 9 | AC20: =K20 -> 9 | AD20: =M20+N20+O20+P20 -> 9
A21: 3 | B21: üÇ½ÇÏ³Ï³Ý ³ÝÓ³Ýó ëÝ³ÝÏáõÃÛ³Ý í»ñ³µ»ñÛ³É | E21: 179 | F21: 48 | G21: 42 | H21: 6 | J21: 5 | K21: 43 | M21: 23 | N21: 9 | P21: 11 | T21: 7 | U21: 215 | V21: 17 | W21: =E21+K21 -> 222 | X21: =L21+T21+U21 -> 222 | Y21: =F21 -> 48 | Z21: =G21+H21 -> 48 | AA21: =F21 -> 48 | AB21: =I21+J21+K21 -> 48 | AC21: =K21 -> 43 | AD21: =M21+N21+O21+P21 -> 43
A22: 4 | B22: ԸՆԴՀԱՄԵՆԸ | E22: =SUM(E19:E21) -> 498 | F22: =SUM(F19:F21) -> 105 | G22: =SUM(G19:G21) -> 96 | H22: =SUM(H19:H21) -> 9 | J22: =SUM(J19:J21) -> 6 | K22: =SUM(K19:K21) -> 99 | M22: =SUM(M19:M21) -> 59 | N22: =SUM(N19:N21) -> 10 | P22: =SUM(P19:P21) -> 30 | T22: =SUM(T19:T21) -> 27 | U22: =SUM(U19:U21) -> 570 | V22: =SUM(V19:V21) -> 24 | W22: =E22+K22 -> 597 | X22: =L22+T22+U22 -> 597 | Y22: =F22 -> 105 | Z22: =G22+H22 -> 105 | AA22: =F22 -> 105 | AB22: =I22+J22+K22 -> 105 | AC22: =K22 -> 99 | AD22: =M22+N22+O22+P22 -> 99
