Workbook

Sheet arabkir
A1: Ð²ÞìºîìàôÂÚàôÜ
A2: ÀÜ¸Ð²Üàôð Æð²ì²êàôÂÚ²Ü ¸²î²ð²ÜàôØ
A3: 2011 թ. êÜ²ÜÎàôÂÚ²Ü ìºð²´ºðÚ²È ¶àðÌºðÆ øÜÜàôÂÚ²Ü Ø²êÆÜ
A6: ìÇ×³Ï³·ñ³Ï³Ý ïáÕÇ Ñ³Ù³ñÁ | B6: êïáõ·Çã Ñ³í³ë³ñáõÙÝ»ñ` 1+2=15+16,2=3+4, 2=5+6+7, 7=8+9+10+11 | E6: ²Ý³í³ñï ·áñÍ»ñÇ ÙÝ³óáñ¹Á Ñ³ßí»ïáõ Å³Ù³Ý³Ï³ßñç³ÝÇ ëÏ½µáõÙ | F6: êï³óí³Í ¹ÇÙáõÙÝ»ñÇ (·áñÍ»ñ) ù³Ý³ÏÁ | L6: ì³ñáõÛÃ ÁÝ¹áõÝí³Í ¹ÇÙáõÙÝ»ñáí Ï³Û³óí³Í ¹³ï³Ï³Ý ³Ïï»ñ | Q6: Ü»ñÏ³Û³óí»É ¿ ýÇÝ³Ýë³Ï³Ý ³éáÕç³óÙ³Ý Íñ³·Çñ | T6: ²í³ñïí»É »Ý ·áñÍ»ñ Ñ³ßí»ïáõ Å³Ù³Ý³Ï³ßñç³ÝáõÙ | U6: ²Ý³í³ñï ·áñÍ»ñÇ ÙÝ³óáñ¹Á Ñ³ßí»ïáõ Å³Ù³Ý³Ï³ßñç³ÝÇ í»ñçáõÙ | V6: ´áÕáù³ñÏí»É »Ý í»ñ³ùÝÝÇã ¹³ï³ñ³Ý
F8: ÀÝ¹³Ù»ÝÁ | G8: ³Û¹ ÃíáõÙ Ñ³ñÏ³¹ñí³Í ëÝ³ÝÏáõÃÛáõÝ | H8: ³Û¹ ÃíáõÙ Ï³Ù³íáñ ëÝ³ÝÏáõÃÛáõÝ | I8: ëï³óí³Í ¹ÇÙáõÙÝ»ñÇ ÁÝÃ³óùÁ | L8: Ï³Û³óí»É ¿ å³ñï³å³ÝÇÝ ëÝ³ÝÏ ×³Ý³ã»Éáõ Ù³ëÇÝ í×Çé | M8: å³ñï³å³ÝÇÝ ëÝ³ÝÏ ×³Ý³ã»Éáõ ¹ÇÙáõÙÁ Ù»ñÅí»É ¿ | N8: ¹ÇÙáõÙÁ ÃáÕÝí»É ¿ ³é³Ýó ùÝÝáõÃÛ³Ý | O8: ¶áñÍÝ áõÕ³ñÏí»É ¿ Áëï ÁÝ¹¹³ïáõÃÛ³Ý | P8: ³Ý³í³ñï (³Û¹ ÃíáõÙ Ï³ë»óí³Í) | Q8: ÀÝ¹³Ù»ÝÁ | R8: ÃáÕÝí»É ¿ ³é³Ýó ùÝÝ³ñÏÙ³Ý | S8: Ñ³ëï³ïí»É ¿
I10: ¸ÇÙáõÙÇ ÁÝ¹áõÝáõÙÁ Ù»ñÅí»É ¿ | J10: ¸ÇÙáõÙÁ í»ñ³¹³ñÓí»É ¿ | K10: ÀÝ¹áõÝí»É ¿ í³ñáõÛÃ
E20: 1 | F20: 2 | G20: 3 | H20: 4 | I20: 5 | J20: 6 | K20: 7 | L20: 8 | M20: 9 | N20: 10 | O20: 10ա | P20: 11 | Q20: 12 | R20: 13 | S20: 14 | T20: 15 | U20: 16 | V20: 17
A21: 1 | B21: Æñ³í³µ³Ý³Ï³Ý ³ÝÓÇ ëÝ³ÝÏáõÃÛ³Ý í»ñ³µ»ñÛ³É | E21: 64 | F21: 109 | G21: 100 | H21: 9 | I21: 1 | J21: 41 | K21: 67 | L21: 28 | M21: 4 | O21: 1 | P21: 34 | T21: 43 | U21: 130 | V21: 1
A22: 2 | B22: ²ÝÑ³ï Ó»éÝ»ñ»óÇ ëÝ³ÝÏáõÃÛ³Ý í»ñ³µ»ñÛ³É | E22: 8 | F22: 12 | G22: 10 | H22: 2 | J22: 5 | K22: 7 | L22: 1 | P22: 6 | T22: 5 | U22: 15
A23: 3 | B23: üÇ½ÇÏ³Ï³Ý ³ÝÓ³Ýó ëÝ³ÝÏáõÃÛ³Ý í»ñ³µ»ñÛ³É | E23: 34 | F23: 31 | G23: 16 | H23: 15 | J23: 10 | K23: 21 | L23: 9 | M23: 4 | P23: 8 | T23: 10 | U23: 55
B24: Ընդամենը | E24: 106 | F24: 152 | G24: 126 | H24: 26 | I24: 1 | J24: 56 | K24: 95 | L24: 38 | M24: 8 | N24: 0 | O24: 1 | P24: 48 | Q24: 0 | R24: 0 | S24: 0 | T24: 58 | U24: 200 | V24: 1

Sheet avan
A1: Ð²ÞìºîìàôÂÚàôÜ
A2: ԵՐԵՎԱՆ ՔԱՂԱՔԻ ԱՎԱՆ ԵՎ ՆՈՐ ՆՈՐՔ ՎԱՐՉԱԿԱՆ ՇՐՋԱՆՆԵՐԻ ÀÜ¸Ð²Üàôð Æð²ì²êàôÂÚ²Ü ¸²î²ð²ÜàôØ
A3: êÜ²ÜÎàôÂÚ²Ü ìºð²´ºðÚ²È 2011î²ðºÎ²Ü ¶àðÌºðÆ øÜÜàôÂÚ²Ü Ø²êÆÜ
A6: ìÇ×³Ï³·ñ³Ï³Ý ïáÕÇ Ñ³Ù³ñÁ | B6: êïáõ·Çã Ñ³í³ë³ñáõÙÝ»ñ` 1+2=15+16,2=3+4, 2=5+6+7, 7=8+9+10+11 | E6: ²Ý³í³ñï ·áñÍ»ñÇ ÙÝ³óáñ¹Á Ñ³ßí»ïáõ Å³Ù³Ý³Ï³ßñç³ÝÇ ëÏ½µáõÙ | F6: êï³óí³Í ¹ÇÙáõÙÝ»ñÇ (·áñÍ»ñ) ù³Ý³ÏÁ | L6: ì³ñáõÛÃ ÁÝ¹áõÝí³Í ¹ÇÙáõÙÝ»ñáí Ï³Û³óí³Í ¹³ï³Ï³Ý ³Ïï»ñ | Q6: Ü»ñÏ³Û³óí»É ¿ ýÇÝ³Ýë³Ï³Ý ³éáÕç³óÙ³Ý Íñ³·Çñ | T6: ²í³ñïí»É »Ý ·áñÍ»ñ Ñ³ßí»ïáõ Å³Ù³Ý³Ï³ßñç³ÝáõÙ | U6: ²Ý³í³ñï ·áñÍ»ñÇ ÙÝ³óáñ¹Á Ñ³ßí»ïáõ Å³Ù³Ý³Ï³ßñç³ÝÇ í»ñçáõÙ | V6: ´áÕáù³ñÏí»É »Ý í»ñ³ùÝÝÇã ¹³ï³ñ³Ý
F8: ÀÝ¹³Ù»ÝÁ | G8: ³Û¹ ÃíáõÙ Ñ³ñÏ³¹ñí³Í ëÝ³ÝÏáõÃÛáõÝ | H8: ³Û¹ ÃíáõÙ Ï³Ù³íáñ ëÝ³ÝÏáõÃÛáõÝ | I8: ëï³óí³Í ¹ÇÙáõÙÝ»ñÇ ÁÝÃ³óùÁ | L8: Ï³Û³óí»É ¿ å³ñï³å³ÝÇÝ ëÝ³ÝÏ ×³Ý³ã»Éáõ Ù³ëÇÝ í×Çé | M8: å³ñï³å³ÝÇÝ ëÝ³ÝÏ ×³Ý³ã»Éáõ ¹ÇÙáõÙÁ Ù»ñÅí»É ¿ | N8: ¹ÇÙáõÙÁ ÃáÕÝí»É ¿ ³é³Ýó ùÝÝáõÃÛ³Ý | O8: ¶áñÍÝ áõÕ³ñÏí»É ¿ Áëï ÁÝ¹¹³ïáõÃÛ³Ý | P8: ³Ý³í³ñï (³Û¹ ÃíáõÙ Ï³ë»óí³Í) | Q8: ÀÝ¹³Ù»ÝÁ | R8: ÃáÕÝí»É ¿ ³é³Ýó ùÝÝ³ñÏÙ³Ý | S8: Ñ³ëï³ïí»É ¿
I10: ¸ÇÙáõÙÇ ÁÝ¹áõÝáõÙÁ Ù»ñÅí»É ¿ | J10: ¸ÇÙáõÙÁ í»ñ³¹³ñÓí»É ¿ | K10: ÀÝ¹áõÝí»É ¿ í³ñáõÛÃ
E20: 1 | F20: 2 | G20: 3 | H20: 4 | I20: 5 | J20: 6 | K20: 7 | L20: 8 | M20: 9 | N20: 10 | O20: 10³ | P20: 11 | Q20: 12 | R20: 13 | S20: 14 | T20: 15 | U20: 16 | V20: 17
A21: 1 | B21: Æñ³í³µ³Ý³Ï³Ý ³ÝÓÇ ëÝ³ÝÏáõÃÛ³Ý í»ñ³µ»ñÛ³É | E21: 19 | F21: 19 | G21: 19 | J21: 10 | K21: 9 | M21: 3 | P21: 6 | T21: 19 | U21: 19 | V21: 1
A22: 2 | B22: ²ÝÑ³ï Ó»éÝ»ñ»óÇ ëÝ³ÝÏáõÃÛ³Ý í»ñ³µ»ñÛ³É | F22: 2 | G22: 2 | J22: 2 | T22: 2
A23: 3 | B23: üÇ½ÇÏ³Ï³Ý ³ÝÓ³Ýó ëÝ³ÝÏáõÃÛ³Ý í»ñ³µ»ñÛ³É | E23: 23 | F23: 17 | G23: 14 | H23: 3 | J23: 6 | K23: 11 | L23: 2 | O23: 2 | P23: 7 | T23: 15 | U23: 25
B24: Ընդամենը | E24: 42 | F24: 38 | G24: 35 | H24: 3 | J24: 18 | K24: 20 | L24: 2 | M24: 3 | O24: 2 | P24: 13 | T24: 36 | U24: 44 | V24: 1

Sheet kentron
A1: Ð²ÞìºîìàôÂÚàôÜ
A2: ÀÜ¸Ð²Üàôð Æð²ì²êàôÂÚ²Ü ¸²î²ð²ÜàôØ
A3: êÜ²ÜÎàôÂÚ²Ü ìºð²´ºðÚ²È ¶àðÌºðÆ øÜÜàôÂÚ²Ü Ø²êÆÜ
A4: 2011Ã. տարվա համար
A6: ìÇ×³Ï³·ñ³Ï³Ý ïáÕÇ Ñ³Ù³ñÁ | B6: êïáõ·Çã Ñ³í³ë³ñáõÙÝ»ñ` 1+2=15+16,2=3+4, 2=5+6+7, 7=8+9+10+11 | E6: ²Ý³í³ñï ·áñÍ»ñÇ ÙÝ³óáñ¹Á Ñ³ßí»ïáõ Å³Ù³Ý³Ï³ßñç³ÝÇ ëÏ½µáõÙ | F6: êï³óí³Í ¹ÇÙáõÙÝ»ñÇ (·áñÍ»ñ) ù³Ý³ÏÁ | L6: ì³ñáõÛÃ ÁÝ¹áõÝí³Í ¹ÇÙáõÙÝ»ñáí Ï³Û³óí³Í ¹³ï³Ï³Ý ³Ïï»ñ | Q6: Ü»ñÏ³Û³óí»É ¿ ýÇÝ³Ýë³Ï³Ý ³éáÕç³óÙ³Ý Íñ³·Çñ | T6: ²í³ñïí»É »Ý ·áñÍ»ñ Ñ³ßí»ïáõ Å³Ù³Ý³Ï³ßñç³ÝáõÙ | U6: ²Ý³í³ñï ·áñÍ»ñÇ ÙÝ³óáñ¹Á Ñ³ßí»ïáõ Å³Ù³Ý³Ï³ßñç³ÝÇ í»ñçáõÙ | V6: ´áÕáù³ñÏí»É »Ý í»ñ³ùÝÝÇã ¹³ï³ñ³Ý
F8: ÀÝ¹³Ù»ÝÁ | G8: ³Û¹ ÃíáõÙ Ñ³ñÏ³¹ñí³Í ëÝ³ÝÏáõÃÛáõÝ | H8: ³Û¹ ÃíáõÙ Ï³Ù³íáñ ëÝ³ÝÏáõÃÛáõÝ | I8: ëï³óí³Í ¹ÇÙáõÙÝ»ñÇ ÁÝÃ³óùÁ | L8: Ï³Û³óí»É ¿ å³ñï³å³ÝÇÝ ëÝ³ÝÏ ×³Ý³ã»Éáõ Ù³ëÇÝ í×Çé | M8: å³ñï³å³ÝÇÝ ëÝ³ÝÏ ×³Ý³ã»Éáõ ¹ÇÙáõÙÁ Ù»ñÅí»É ¿ | N8: ¹ÇÙáõÙÁ ÃáÕÝí»É ¿ ³é³Ýó ùÝÝáõÃÛ³Ý | P8: ³Ý³í³ñï (³Û¹ ÃíáõÙ Ï³ë»óí³Í) | Q8: ÀÝ¹³Ù»ÝÁ | R8: ÃáÕÝí»É ¿ ³é³Ýó ùÝÝ³ñÏÙ³Ý | S8: Ñ³ëï³ïí»É ¿
I10: ¸ÇÙáõÙÇ ÁÝ¹áõÝáõÙÁ Ù»ñÅí»É ¿ | J10: ¸ÇÙáõÙÁ í»ñ³¹³ñÓí»É ¿ | K10: ÀÝ¹áõÝí»É ¿ í³ñáõÛÃ
E20: 1 | F20: 2 | G20: 3 | H20: 4 | I20: 5 | J20: 6 | K20: 7 | L20: 8 | M20: 9 | N20: 10 | O20: 10ա | P20: 11 | Q20: 12 | R20: 13 | S20: 14 | T20: 15 | U20: 16 | V20: 17
A21: 1 | B21: Æñ³í³µ³Ý³Ï³Ý ³ÝÓÇ ëÝ³ÝÏáõÃÛ³Ý í»ñ³µ»ñÛ³É | E21: 148 | F21: 203 | G21: 202 | H21: 1 | I21: 1 | J21: 47 | K21: 155 | L21: 29 | M21: 36 | P21: 90 | T21: 36 | U21: 315 | V21: 13
A22: 2 | B22: ²ÝÑ³ï Ó»éÝ»ñ»óÇ ëÝ³ÝÏáõÃÛ³Ý í»ñ³µ»ñÛ³É | F22: 15 | G22: 15 | J22: 3 | K22: 12 | L22: 2 | M22: 2 | P22: 8 | T22: 2 | U22: 13
A23: 3 | B23: üÇ½ÇÏ³Ï³Ý ³ÝÓ³Ýó ëÝ³ÝÏáõÃÛ³Ý í»ñ³µ»ñÛ³É | E23: 47 | F23: 29 | G23: 29 | J23: 5 | K23: 24 | L23: 5 | M23: 1 | P23: 18 | T23: 17 | U23: 59 | V23: 1
B24: Ընդամենը | E24: 195 | F24: 247 | G24: 246 | H24: 1 | I24: 1 | J24: 55 | K24: 191 | L24: 36 | M24: 39 | N24: 0 | P24: 116 | Q24: 0 | R24: 0 | S24: 0 | T24: 55 | U24: 387 | V24: 14

Sheet erebuni
A1: Ð²ÞìºîìàôÂÚàôÜ
A2: ԷՐԵԲՈՒՆԻ և ՆՈՒԲԱՐԱՇԵՆ ÀÜ¸Ð²Üàôð Æð²ì²êàôÂÚ²Ü ¸²î²ð²ÜàôØ
A3: êÜ²ÜÎàôÂÚ²Ü ìºð²´ºðÚ²È ¶àðÌºðÆ øÜÜàôÂÚ²Ü Ø²êÆÜ 2011Թ-Ի ՏԱՐԵԿԱՆ
A4: Հավելված 2 Հայաստանի Հանրապետության Դատարանների նախագահների խորհրդի 2007թ. ¹»Ïï»Ùµ»ñÇ 21-ի թիվ 23Լ որոշման
A6: ìÇ×³Ï³·ñ³Ï³Ý ïáÕÇ Ñ³Ù³ñÁ | B6: êïáõ·Çã Ñ³í³ë³ñáõÙÝ»ñ` 1+2=15+16,2=3+4, 2=5+6+7, 7=8+9+10+11 | E6: ²Ý³í³ñï ·áñÍ»ñÇ ÙÝ³óáñ¹Á Ñ³ßí»ïáõ Å³Ù³Ý³Ï³ßñç³ÝÇ ëÏ½µáõÙ | F6: êï³óí³Í ¹ÇÙáõÙÝ»ñÇ (·áñÍ»ñ) ù³Ý³ÏÁ | L6: ì³ñáõÛÃ ÁÝ¹áõÝí³Í ¹ÇÙáõÙÝ»ñáí Ï³Û³óí³Í ¹³ï³Ï³Ý ³Ïï»ñ | Q6: Ü»ñÏ³Û³óí»É ¿ ýÇÝ³Ýë³Ï³Ý ³éáÕç³óÙ³Ý Íñ³·Çñ | T6: ²í³ñïí»É »Ý ·áñÍ»ñ Ñ³ßí»ïáõ Å³Ù³Ý³Ï³ßñç³ÝáõÙ | U6: ²Ý³í³ñï ·áñÍ»ñÇ ÙÝ³óáñ¹Á Ñ³ßí»ïáõ Å³Ù³Ý³Ï³ßñç³ÝÇ í»ñçáõÙ | V6: ´áÕáù³ñÏí»É »Ý í»ñ³ùÝÝÇã ¹³ï³ñ³Ý
F8: ÀÝ¹³Ù»ÝÁ | G8: ³Û¹ ÃíáõÙ Ñ³ñÏ³¹ñí³Í ëÝ³ÝÏáõÃÛáõÝ | H8: ³Û¹ ÃíáõÙ Ï³Ù³íáñ ëÝ³ÝÏáõÃÛáõÝ | I8: ëï³óí³Í ¹ÇÙáõÙÝ»ñÇ ÁÝÃ³óùÁ | L8: Ï³Û³óí»É ¿ å³ñï³å³ÝÇÝ ëÝ³ÝÏ ×³Ý³ã»Éáõ Ù³ëÇÝ í×Çé | M8: å³ñï³å³ÝÇÝ ëÝ³ÝÏ ×³Ý³ã»Éáõ ¹ÇÙáõÙÁ Ù»ñÅí»É ¿ | N8: ¹ÇÙáõÙÁ ÃáÕÝí»É ¿ ³é³Ýó ùÝÝáõÃÛ³Ý | O8: ¶áñÍÝ áõÕ³ñÏí»É ¿ Áëï ÁÝ¹¹³ïáõÃÛ³Ý | P8: ³Ý³í³ñï (³Û¹ ÃíáõÙ Ï³ë»óí³Í) | Q8: ÀÝ¹³Ù»ÝÁ | R8: ÃáÕÝí»É ¿ ³é³Ýó ùÝÝ³ñÏÙ³Ý | S8: Ñ³ëï³ïí»É ¿
I10: ¸ÇÙáõÙÇ ÁÝ¹áõÝáõÙÁ Ù»ñÅí»É ¿ | J10: ¸ÇÙáõÙÁ í»ñ³¹³ñÓí»É ¿ | K10: ÀÝ¹áõÝí»É ¿ í³ñáõÛÃ
E20: 1 | F20: 2 | G20: 3 | H20: 4 | I20: 5 | J20: 6 | K20: 7 | L20: 8 | M20: 9 | N20: 10 | O20: 10ա | P20: 11 | Q20: 12 | R20: 13 | S20: 14 | T20: 15 | U20: 16 | V20: 17
A21: 1 | B21: Æñ³í³µ³Ý³Ï³Ý ³ÝÓÇ ëÝ³ÝÏáõÃÛ³Ý í»ñ³µ»ñÛ³É | E21: 23 | F21: 20 | G21: 18 | H21: 2 | J21: 14 | K21: 6 | L21: 4 | M21: 2 | T21: 25 | U21: 18 | V21: 1
A22: 2 | B22: ²ÝÑ³ï Ó»éÝ»ñ»óÇ ëÝ³ÝÏáõÃÛ³Ý í»ñ³µ»ñÛ³É | E22: 1 | F22: 4 | G22: 4 | J22: 4 | T22: 4 | U22: 1
A23: 3 | B23: üÇ½ÇÏ³Ï³Ý ³ÝÓ³Ýó ëÝ³ÝÏáõÃÛ³Ý í»ñ³µ»ñÛ³É | E23: 37 | F23: 31 | G23: 20 | H23: 11 | J23: 14 | K23: 17 | L23: 13 | M23: 2 | P23: 2 | T23: 35 | U23: 33 | V23: 1
B24: Ընդամենը | E24: 61 | F24: 55 | G24: 42 | H24: 13 | I24: 0 | J24: 32 | K24: 23 | L24: 17 | M24: 4 | N24: 0 | O24: 0 | P24: 2 | Q24: 0 | R24: 0 | S24: 0 | T24: 64 | U24: 52 | V24: 2

Sheet shengavit
A1: Ð²ÞìºîìàôÂÚàôÜ
A2: ԵՐԵՎԱՆԻ ՇԵՆԳԱՎԻԹ ՎԱՐՉԱԿԱՆ ՇՐՋԱՆԻ ÀÜ¸Ð²Üàôð Æð²ì²êàôÂÚ²Ü ¸²î²ð²ÜàôØ
A3: 2011 ԹՎԱԿԱՆԻ êÜ²ÜÎàôÂÚ²Ü ìºð²´ºðÚ²È ¶àðÌºðÆ øÜÜàôÂÚ²Ü Ø²êÆÜ
A4: Հավելված 2 Հայաստանի Հանրապետության Դատարանների նախագահների խորհրդի 2007թ. ¹»Ïï»Ùµ»ñÇ 21-ի թիվ 23Լ որոշման
A6: ìÇ×³Ï³·ñ³Ï³Ý ïáÕÇ Ñ³Ù³ñÁ | B6: êïáõ·Çã Ñ³í³ë³ñáõÙÝ»ñ` 1+2=15+16,2=3+4, 2=5+6+7, 7=8+9+10+11 | E6: ²Ý³í³ñï ·áñÍ»ñÇ ÙÝ³óáñ¹Á Ñ³ßí»ïáõ Å³Ù³Ý³Ï³ßñç³ÝÇ ëÏ½µáõÙ | F6: êï³óí³Í ¹ÇÙáõÙÝ»ñÇ (·áñÍ»ñ) ù³Ý³ÏÁ | L6: ì³ñáõÛÃ ÁÝ¹áõÝí³Í ¹ÇÙáõÙÝ»ñáí Ï³Û³óí³Í ¹³ï³Ï³Ý ³Ïï»ñ | Q6: Ü»ñÏ³Û³óí»É ¿ ýÇÝ³Ýë³Ï³Ý ³éáÕç³óÙ³Ý Íñ³·Çñ | T6: ²í³ñïí»É »Ý ·áñÍ»ñ Ñ³ßí»ïáõ Å³Ù³Ý³Ï³ßñç³ÝáõÙ | U6: ²Ý³í³ñï ·áñÍ»ñÇ ÙÝ³óáñ¹Á Ñ³ßí»ïáõ Å³Ù³Ý³Ï³ßñç³ÝÇ í»ñçáõÙ | V6: ´áÕáù³ñÏí»É »Ý í»ñ³ùÝÝÇã ¹³ï³ñ³Ý
F8: ÀÝ¹³Ù»ÝÁ | G8: ³Û¹ ÃíáõÙ Ñ³ñÏ³¹ñí³Í ëÝ³ÝÏáõÃÛáõÝ | H8: ³Û¹ ÃíáõÙ Ï³Ù³íáñ ëÝ³ÝÏáõÃÛáõÝ | I8: ëï³óí³Í ¹ÇÙáõÙÝ»ñÇ ÁÝÃ³óùÁ | L8: Ï³Û³óí»É ¿ å³ñï³å³ÝÇÝ ëÝ³ÝÏ ×³Ý³ã»Éáõ Ù³ëÇÝ í×Çé | M8: å³ñï³å³ÝÇÝ ëÝ³ÝÏ ×³Ý³ã»Éáõ ¹ÇÙáõÙÁ Ù»ñÅí»É ¿ | N8: ¹ÇÙáõÙÁ ÃáÕÝí»É ¿ ³é³Ýó ùÝÝáõÃÛ³Ý | O8: ¶áñÍÝ áõÕ³ñÏí»É ¿ Áëï ÁÝ¹¹³ïáõÃÛ³Ý | P8: ³Ý³í³ñï (³Û¹ ÃíáõÙ Ï³ë»óí³Í) | Q8: ÀÝ¹³Ù»ÝÁ | R8: ÃáÕÝí»É ¿ ³é³Ýó ùÝÝ³ñÏÙ³Ý | S8: Ñ³ëï³ïí»É ¿
I10: ¸ÇÙáõÙÇ ÁÝ¹áõÝáõÙÁ Ù»ñÅí»É ¿ | J10: ¸ÇÙáõÙÁ í»ñ³¹³ñÓí»É ¿ | K10: ÀÝ¹áõÝí»É ¿ í³ñáõÛÃ
E20: 1 | F20: 2 | G20: 3 | H20: 4 | I20: 5 | J20: 6 | K20: 7 | L20: 8 | M20: 9 | N20: 10 | O20: 10ա | P20: 11 | Q20: 12 | R20: 13 | S20: 14 | T20: 15 | U20: 16 | V20: 17
A21: 1 | B21: Æñ³í³µ³Ý³Ï³Ý ³ÝÓÇ ëÝ³ÝÏáõÃÛ³Ý í»ñ³µ»ñÛ³É | E21: 40 | F21: 21 | G21: 20 | H21: 1 | K21: 21 | L21: 17 | P21: 4 | S21: 1 | T21: 17 | U21: 44 | V21: 1
A22: 2 | B22: ²ÝÑ³ï Ó»éÝ»ñ»óÇ ëÝ³ÝÏáõÃÛ³Ý í»ñ³µ»ñÛ³É | E22: 1 | F22: 6 | G22: 1 | H22: 5 | K22: 6 | L22: 3 | P22: 3 | T22: 2 | U22: 5
A23: 3 | B23: üÇ½ÇÏ³Ï³Ý ³ÝÓ³Ýó ëÝ³ÝÏáõÃÛ³Ý í»ñ³µ»ñÛ³É | E23: 30 | F23: 12 | G23: 3 | H23: 9 | K23: 12 | L23: 9 | M23: 1 | P23: 2 | T23: 16 | U23: 26
B24: Ընդամենը | E24: 71 | F24: 39 | G24: 24 | H24: 15 | I24: 0 | J24: 0 | K24: 39 | L24: 29 | M24: 1 | N24: 0 | P24: 9 | Q24: 0 | R24: 0 | S24: 1 | T24: 35 | U24: 75 | V24: 1

Sheet malatia
A1: Ð²ÞìºîìàôÂÚàôÜ
A2: ÀÜ¸Ð²Üàôð Æð²ì²êàôÂÚ²Ü ¸²î²ð²ÜàôØ
A3: êÜ²ÜÎàôÂÚ²Ü ìºð²´ºðÚ²È ¶àðÌºðÆ øÜÜàôÂÚ²Ü Ø²êÆÜ
A6: ìÇ×³Ï³·ñ³Ï³Ý ïáÕÇ Ñ³Ù³ñÁ | B6: êïáõ·Çã Ñ³í³ë³ñáõÙÝ»ñ` 1+2=15+16,2=3+4, 2=5+6+7, 7=8+9+10+11 | E6: ²Ý³í³ñï ·áñÍ»ñÇ ÙÝ³óáñ¹Á Ñ³ßí»ïáõ Å³Ù³Ý³Ï³ßñç³ÝÇ ëÏ½µáõÙ | F6: êï³óí³Í ¹ÇÙáõÙÝ»ñÇ (·áñÍ»ñ) ù³Ý³ÏÁ | L6: ì³ñáõÛÃ ÁÝ¹áõÝí³Í ¹ÇÙáõÙÝ»ñáí Ï³Û³óí³Í ¹³ï³Ï³Ý ³Ïï»ñ | Q6: Ü»ñÏ³Û³óí»É ¿ ýÇÝ³Ýë³Ï³Ý ³éáÕç³óÙ³Ý Íñ³·Çñ | T6: ²í³ñïí»É »Ý ·áñÍ»ñ Ñ³ßí»ïáõ Å³Ù³Ý³Ï³ßñç³ÝáõÙ | U6: ²Ý³í³ñï ·áñÍ»ñÇ ÙÝ³óáñ¹Á Ñ³ßí»ïáõ Å³Ù³Ý³Ï³ßñç³ÝÇ í»ñçáõÙ | V6: ´áÕáù³ñÏí»É »Ý í»ñ³ùÝÝÇã ¹³ï³ñ³Ý
F8: ÀÝ¹³Ù»ÝÁ | G8: ³Û¹ ÃíáõÙ Ñ³ñÏ³¹ñí³Í ëÝ³ÝÏáõÃÛáõÝ | H8: ³Û¹ ÃíáõÙ Ï³Ù³íáñ ëÝ³ÝÏáõÃÛáõÝ | I8: ëï³óí³Í ¹ÇÙáõÙÝ»ñÇ ÁÝÃ³óùÁ | L8: Ï³Û³óí»É ¿ å³ñï³å³ÝÇÝ ëÝ³ÝÏ ×³Ý³ã»Éáõ Ù³ëÇÝ í×Çé | M8: å³ñï³å³ÝÇÝ ëÝ³ÝÏ ×³Ý³ã»Éáõ ¹ÇÙáõÙÁ Ù»ñÅí»É ¿ | N8: ¹ÇÙáõÙÁ ÃáÕÝí»É ¿ ³é³Ýó ùÝÝáõÃÛ³Ý | O8: ¶áñÍÝ áõÕ³ñÏí»É ¿ Áëï ÁÝ¹¹³ïáõÃÛ³Ý | P8: ³Ý³í³ñï (³Û¹ ÃíáõÙ Ï³ë»óí³Í) | Q8: ÀÝ¹³Ù»ÝÁ | R8: ÃáÕÝí»É ¿ ³é³Ýó ùÝÝ³ñÏÙ³Ý | S8: Ñ³ëï³ïí»É ¿
I10: ¸ÇÙáõÙÇ ÁÝ¹áõÝáõÙÁ Ù»ñÅí»É ¿ | J10: ¸ÇÙáõÙÁ í»ñ³¹³ñÓí»É ¿ | K10: ÀÝ¹áõÝí»É ¿ í³ñáõÛÃ
E20: 1 | F20: 2 | G20: 3 | H20: 4 | I20: 5 | J20: 6 | K20: 7 | L20: 8 | M20: 9 | N20: 10 | O20: 10ա | P20: 11 | Q20: 12 | R20: 13 | S20: 14 | T20: 15 | U20: 16 | V20: 17
A21: 1 | B21: Æñ³í³µ³Ý³Ï³Ý ³ÝÓÇ ëÝ³ÝÏáõÃÛ³Ý í»ñ³µ»ñÛ³É | E21: 19 | F21: 32 | G21: 31 | H21: 1 | I21: 0 | J21: 12 | K21: 20 | L21: 13 | M21: 2 | N21: 1 | P21: 4 | Q21: 0 | R21: 0 | S21: 0 | T21: 21 | U21: 30 | V21: 1
A22: 2 | B22: ²ÝÑ³ï Ó»éÝ»ñ»óÇ ëÝ³ÝÏáõÃÛ³Ý í»ñ³µ»ñÛ³É | E22: 5 | F22: 10 | G22: 10 | H22: 0 | I22: 0 | J22: 6 | K22: 4 | L22: 2 | M22: 0 | N22: 0 | P22: 2 | Q22: 0 | R22: 0 | S22: 0 | T22: 7 | U22: 8 | V22: 0
A23: 3 | B23: üÇ½ÇÏ³Ï³Ý ³ÝÓ³Ýó ëÝ³ÝÏáõÃÛ³Ý í»ñ³µ»ñÛ³É | E23: 14 | F23: 20 | G23: 18 | H23: 2 | I23: 0 | J23: 4 | K23: 16 | L23: 9 | M23: 1 | N23: 0 | P23: 6 | Q23: 0 | R23: 0 | S23: 0 | T23: 9 | U23: 25 | V23: 2
B24: Ընդամենը | E24: 38 | F24: 62 | G24: 59 | H24: 3 | I24: 0 | J24: 22 | K24: 40 | L24: 24 | M24: 3 | N24: 1 | O24: 0 | P24: 12 | Q24: 0 | R24: 0 | S24: 0 | T24: 37 | U24: 63 | V24: 3

Sheet ararat
A1: Ð²ÞìºîìàôÂÚàôÜ 2011Թ.
A2: ՀՀ ԱՐԱՐԱՏԻ ԵՎ ՎԱՅՈՑ ՁՈՐԻ ՄԱՐԶԵՐԻ ÀÜ¸Ð²Üàôð Æð²ì²êàôÂÚ²Ü ¸²î²ð²ÜàôØ
A3: êÜ²ÜÎàôÂÚ²Ü ìºð²´ºðÚ²È ¶àðÌºðÆ øÜÜàôÂÚ²Ü Ø²êÆÜ
A6: ìÇ×³Ï³·ñ³Ï³Ý ïáÕÇ Ñ³Ù³ñÁ | B6: êïáõ·Çã Ñ³í³ë³ñáõÙÝ»ñ` 1+2=15+16,2=3+4, 2=5+6+7, 7=8+9+10+11 | E6: ²Ý³í³ñï ·áñÍ»ñÇ ÙÝ³óáñ¹Á Ñ³ßí»ïáõ Å³Ù³Ý³Ï³ßñç³ÝÇ ëÏ½µáõÙ | F6: êï³óí³Í ¹ÇÙáõÙÝ»ñÇ (·áñÍ»ñ) ù³Ý³ÏÁ | L6: ì³ñáõÛÃ ÁÝ¹áõÝí³Í ¹ÇÙáõÙÝ»ñáí Ï³Û³óí³Í ¹³ï³Ï³Ý ³Ïï»ñ | Q6: Ü»ñÏ³Û³óí»É ¿ ýÇÝ³Ýë³Ï³Ý ³éáÕç³óÙ³Ý Íñ³·Çñ | T6: ²í³ñïí»É »Ý ·áñÍ»ñ Ñ³ßí»ïáõ Å³Ù³Ý³Ï³ßñç³ÝáõÙ | U6: ²Ý³í³ñï ·áñÍ»ñÇ ÙÝ³óáñ¹Á Ñ³ßí»ïáõ Å³Ù³Ý³Ï³ßñç³ÝÇ í»ñçáõÙ | V6: ´áÕáù³ñÏí»É »Ý í»ñ³ùÝÝÇã ¹³ï³ñ³Ý
F8: ÀÝ¹³Ù»ÝÁ | G8: ³Û¹ ÃíáõÙ Ñ³ñÏ³¹ñí³Í ëÝ³ÝÏáõÃÛáõÝ | H8: ³Û¹ ÃíáõÙ Ï³Ù³íáñ ëÝ³ÝÏáõÃÛáõÝ | I8: ëï³óí³Í ¹ÇÙáõÙÝ»ñÇ ÁÝÃ³óùÁ | L8: Ï³Û³óí»É ¿ å³ñï³å³ÝÇÝ ëÝ³ÝÏ ×³Ý³ã»Éáõ Ù³ëÇÝ í×Çé | M8: å³ñï³å³ÝÇÝ ëÝ³ÝÏ ×³Ý³ã»Éáõ ¹ÇÙáõÙÁ Ù»ñÅí»É ¿ | N8: ¹ÇÙáõÙÁ ÃáÕÝí»É ¿ ³é³Ýó ùÝÝáõÃÛ³Ý | O8: ¶áñÍÝ áõÕ³ñÏí»É ¿ Áëï ÁÝ¹¹³ïáõÃÛ³Ý | P8: ³Ý³í³ñï (³Û¹ ÃíáõÙ Ï³ë»óí³Í) | Q8: ÀÝ¹³Ù»ÝÁ | R8: ÃáÕÝí»É ¿ ³é³Ýó ùÝÝ³ñÏÙ³Ý | S8: Ñ³ëï³ïí»É ¿
I10: ¸ÇÙáõÙÇ ÁÝ¹áõÝáõÙÁ Ù»ñÅí»É ¿ | J10: ¸ÇÙáõÙÁ í»ñ³¹³ñÓí»É ¿ | K10: ÀÝ¹áõÝí»É ¿ í³ñáõÛÃ
E20: 1 | F20: 2 | G20: 3 | H20: 4 | I20: 5 | J20: 6 | K20: 7 | L20: 8 | M20: 9 | N20: 10 | O20: 10ա | P20: 11 | Q20: 12 | R20: 13 | S20: 14 | T20: 15 | U20: 16 | V20: 17
A21: 1 | B21: Æñ³í³µ³Ý³Ï³Ý ³ÝÓÇ ëÝ³ÝÏáõÃÛ³Ý í»ñ³µ»ñÛ³É | E21: 40 | F21: 24 | G21: 22 | H21: 2 | K21: 24 | L21: 23 | P21: 1 | Q21: 1 | S21: 1 | T21: 13 | U21: 51 | V21: 1
A22: 2 | B22: ²ÝÑ³ï Ó»éÝ»ñ»óÇ ëÝ³ÝÏáõÃÛ³Ý í»ñ³µ»ñÛ³É | E22: 19 | F22: 4 | G22: 2 | H22: 2 | K22: 4 | L22: 4 | T22: 4 | U22: 19
A23: 3 | B23: üÇ½ÇÏ³Ï³Ý ³ÝÓ³Ýó ëÝ³ÝÏáõÃÛ³Ý í»ñ³µ»ñÛ³É | E23: 27 | F23: 19 | G23: 17 | H23: 2 | J23: 2 | K23: 17 | L23: 13 | P23: 4 | T23: 12 | U23: 34
B24: Ընդամենը | E24: =SUM(E21:E23) -> 86 | F24: =SUM(F21:F23) -> 47 | G24: =SUM(G21:G23) -> 41 | H24: =SUM(H21:H23) -> 6 | J24: =SUM(J21:J23) -> 2 | K24: =SUM(K21:K23) -> 45 | L24: =SUM(L21:L23) -> 40 | P24: =SUM(P21:P23) -> 5 | Q24: =SUM(Q21:Q23) -> 1 | S24: =SUM(S21:S23) -> 1 | T24: =SUM(T21:T23) -> 29 | U24: =SUM(U21:U23) -> 104 | V24: =SUM(V21:V23) -> 1

Sheet aragacotn
A1: Ð²ÞìºîìàôÂÚàôÜ
A2: ՀՀ ԱՐԱԳԱԾՈՏՆԻ ՄԱՐԶԻ ÀÜ¸Ð²Üàôð Æð²ì²êàôÂÚ²Ü ¸²î²ð²ÜàôØ
A3: êÜ²ÜÎàôÂÚ²Ü ìºð²´ºðÚ²È ¶àðÌºðÆ øÜÜàôÂÚ²Ü Ø²êÆÜ
A4: 2011Ã. (ï³ñí³) Ñ³Ù³ñ
A6: ìÇ×³Ï³·ñ³Ï³Ý ïáÕÇ Ñ³Ù³ñÁ | B6: êïáõ·Çã Ñ³í³ë³ñáõÙÝ»ñ` 1+2=15+16,2=3+4, 2=5+6+7, 7=8+9+10+11 | E6: ²Ý³í³ñï ·áñÍ»ñÇ ÙÝ³óáñ¹Á Ñ³ßí»ïáõ Å³Ù³Ý³Ï³ßñç³ÝÇ ëÏ½µáõÙ | F6: êï³óí³Í ¹ÇÙáõÙÝ»ñÇ (·áñÍ»ñ) ù³Ý³ÏÁ | L6: ì³ñáõÛÃ ÁÝ¹áõÝí³Í ¹ÇÙáõÙÝ»ñáí Ï³Û³óí³Í ¹³ï³Ï³Ý ³Ïï»ñ | Q6: Ü»ñÏ³Û³óí»É ¿ ýÇÝ³Ýë³Ï³Ý ³éáÕç³óÙ³Ý Íñ³·Çñ | T6: ²í³ñïí»É »Ý ·áñÍ»ñ Ñ³ßí»ïáõ Å³Ù³Ý³Ï³ßñç³ÝáõÙ | U6: ²Ý³í³ñï ·áñÍ»ñÇ ÙÝ³óáñ¹Á Ñ³ßí»ïáõ Å³Ù³Ý³Ï³ßñç³ÝÇ í»ñçáõÙ | V6: ´áÕáù³ñÏí»É »Ý í»ñ³ùÝÝÇã ¹³ï³ñ³Ý
F8: ÀÝ¹³Ù»ÝÁ | G8: ³Û¹ ÃíáõÙ Ñ³ñÏ³¹ñí³Í ëÝ³ÝÏáõÃÛáõÝ | H8: ³Û¹ ÃíáõÙ Ï³Ù³íáñ ëÝ³ÝÏáõÃÛáõÝ | I8: ëï³óí³Í ¹ÇÙáõÙÝ»ñÇ ÁÝÃ³óùÁ | L8: Ï³Û³óí»É ¿ å³ñï³å³ÝÇÝ ëÝ³ÝÏ ×³Ý³ã»Éáõ Ù³ëÇÝ í×Çé | M8: å³ñï³å³ÝÇÝ ëÝ³ÝÏ ×³Ý³ã»Éáõ ¹ÇÙáõÙÁ Ù»ñÅí»É ¿ | N8: ¹ÇÙáõÙÁ ÃáÕÝí»É ¿ ³é³Ýó ùÝÝáõÃÛ³Ý | O8: ¶áñÍÝ áõÕ³ñÏí»É ¿ Áëï ÁÝ¹¹³ïáõÃÛ³Ý | P8: ³Ý³í³ñï (³Û¹ ÃíáõÙ Ï³ë»óí³Í) | Q8: ÀÝ¹³Ù»ÝÁ | R8: ÃáÕÝí»É ¿ ³é³Ýó ùÝÝ³ñÏÙ³Ý | S8: Ñ³ëï³ïí»É ¿
I10: ¸ÇÙáõÙÇ ÁÝ¹áõÝáõÙÁ Ù»ñÅí»É ¿ | J10: ¸ÇÙáõÙÁ í»ñ³¹³ñÓí»É ¿ | K10: ÀÝ¹áõÝí»É ¿ í³ñáõÛÃ
E20: 1 | F20: 2 | G20: 3 | H20: 4 | I20: 5 | J20: 6 | K20: 7 | L20: 8 | M20: 9 | N20: 10 | O20: 10ա | P20: 11 | Q20: 12 | R20: 13 | S20: 14 | T20: 15 | U20: 16 | V20: 17
A21: 1 | B21: Æñ³í³µ³Ý³Ï³Ý ³ÝÓÇ ëÝ³ÝÏáõÃÛ³Ý í»ñ³µ»ñÛ³É | E21: 37 | F21: 18 | G21: 18 | J21: 3 | K21: 15 | L21: 11 | M21: 1 | P21: 3 | T21: 19 | U21: 36
A22: 2 | B22: ²ÝÑ³ï Ó»éÝ»ñ»óÇ ëÝ³ÝÏáõÃÛ³Ý í»ñ³µ»ñÛ³É | E22: 4 | F22: 4 | G22: 4 | J22: 2 | K22: 2 | L22: 1 | P22: 1 | T22: 3 | U22: 5
A23: 3 | B23: üÇ½ÇÏ³Ï³Ý ³ÝÓ³Ýó ëÝ³ÝÏáõÃÛ³Ý í»ñ³µ»ñÛ³É | E23: 16 | F23: 25 | G23: 22 | H23: 3 | J23: 8 | K23: 17 | L23: 7 | M23: 4 | P23: 6 | T23: 17 | U23: 24 | V23: 1
B24: Ընդամենը | E24: 57 | F24: 47 | G24: 44 | H24: 3 | I24: 0 | J24: 13 | K24: 34 | L24: 19 | M24: 5 | N24: 0 | O24: 0 | P24: 10 | Q24: 0 | R24: 0 | S24: 0 | T24: 39 | U24: 65 | V24: 1

Sheet armavir
A1: 2011թ, ՏԱՐԵԿԱՆ Ð²ÞìºîìàôÂÚàôÜ
A2: ԱՐՄԱՎԻՐԻ ՄԱՐԶԻ ÀÜ¸Ð²Üàôð Æð²ì²êàôÂÚ²Ü ¸²î²ð²ÜàôØ
A3: êÜ²ÜÎàôÂÚ²Ü ìºð²´ºðÚ²È ¶àðÌºðÆ øÜÜàôÂÚ²Ü Ø²êÆÜ
A4: Հավելված 2 Հայաստանի Հանրապետության Դատարանների նախագահների խորհրդի 2007թ. ¹»Ïï»Ùµ»ñÇ 21-ի թիվ 23Լ որոշման
A6: ìÇ×³Ï³·ñ³Ï³Ý ïáÕÇ Ñ³Ù³ñÁ | B6: êïáõ·Çã Ñ³í³ë³ñáõÙÝ»ñ` 1+2=15+16,2=3+4, 2=5+6+7, 7=8+9+10+11 | E6: ²Ý³í³ñï ·áñÍ»ñÇ ÙÝ³óáñ¹Á Ñ³ßí»ïáõ Å³Ù³Ý³Ï³ßñç³ÝÇ ëÏ½µáõÙ | F6: êï³óí³Í ¹ÇÙáõÙÝ»ñÇ (·áñÍ»ñ) ù³Ý³ÏÁ | L6: ì³ñáõÛÃ ÁÝ¹áõÝí³Í ¹ÇÙáõÙÝ»ñáí Ï³Û³óí³Í ¹³ï³Ï³Ý ³Ïï»ñ | Q6: Ü»ñÏ³Û³óí»É ¿ ýÇÝ³Ýë³Ï³Ý ³éáÕç³óÙ³Ý Íñ³·Çñ | T6: ²í³ñïí»É »Ý ·áñÍ»ñ Ñ³ßí»ïáõ Å³Ù³Ý³Ï³ßñç³ÝáõÙ | U6: ²Ý³í³ñï ·áñÍ»ñÇ ÙÝ³óáñ¹Á Ñ³ßí»ïáõ Å³Ù³Ý³Ï³ßñç³ÝÇ í»ñçáõÙ | V6: ´áÕáù³ñÏí»É »Ý í»ñ³ùÝÝÇã ¹³ï³ñ³Ý
F8: ÀÝ¹³Ù»ÝÁ | G8: ³Û¹ ÃíáõÙ Ñ³ñÏ³¹ñí³Í ëÝ³ÝÏáõÃÛáõÝ | H8: ³Û¹ ÃíáõÙ Ï³Ù³íáñ ëÝ³ÝÏáõÃÛáõÝ | I8: ëï³óí³Í ¹ÇÙáõÙÝ»ñÇ ÁÝÃ³óùÁ | L8: Ï³Û³óí»É ¿ å³ñï³å³ÝÇÝ ëÝ³ÝÏ ×³Ý³ã»Éáõ Ù³ëÇÝ í×Çé | M8: å³ñï³å³ÝÇÝ ëÝ³ÝÏ ×³Ý³ã»Éáõ ¹ÇÙáõÙÁ Ù»ñÅí»É ¿ | N8: ¹ÇÙáõÙÁ ÃáÕÝí»É ¿ ³é³Ýó ùÝÝáõÃÛ³Ý | O8: ¶áñÍÝ áõÕ³ñÏí»É ¿ Áëï ÁÝ¹¹³ïáõÃÛ³Ý | P8: ³Ý³í³ñï (³Û¹ ÃíáõÙ Ï³ë»óí³Í) | Q8: ÀÝ¹³Ù»ÝÁ | R8: ÃáÕÝí»É ¿ ³é³Ýó ùÝÝ³ñÏÙ³Ý | S8: Ñ³ëï³ïí»É ¿
I10: ¸ÇÙáõÙÇ ÁÝ¹áõÝáõÙÁ Ù»ñÅí»É ¿ | J10: ¸ÇÙáõÙÁ í»ñ³¹³ñÓí»É ¿ | K10: ÀÝ¹áõÝí»É ¿ í³ñáõÛÃ
E20: 1 | F20: 2 | G20: 3 | H20: 4 | I20: 5 | J20: 6 | K20: 7 | L20: 8 | M20: 9 | N20: 10 | O20: 10ա | P20: 11 | Q20: 12 | R20: 13 | S20: 14 | T20: 15 | U20: 16 | V20: 17
A21: 1 | B21: Æñ³í³µ³Ý³Ï³Ý ³ÝÓÇ ëÝ³ÝÏáõÃÛ³Ý í»ñ³µ»ñÛ³É | E21: 24 | F21: 28 | G21: 27 | H21: 1 | J21: 2 | K21: 26 | L21: 21 | M21: 1 | P21: 4 | Q21: 1 | S21: 1 | T21: 12 | U21: 40 | V21: 3
A22: 2 | B22: ²ÝÑ³ï Ó»éÝ»ñ»óÇ ëÝ³ÝÏáõÃÛ³Ý í»ñ³µ»ñÛ³É | E22: 6 | F22: 6 | G22: 6 | K22: 6 | L22: 4 | P22: 2 | T22: 1 | U22: 11 | V22: 1
A23: 3 | B23: üÇ½ÇÏ³Ï³Ý ³ÝÓ³Ýó ëÝ³ÝÏáõÃÛ³Ý í»ñ³µ»ñÛ³É | E23: 16 | F23: 10 | G23: 9 | H23: 1 | J23: 2 | K23: 8 | L23: 5 | P23: 3 | T23: 4 | U23: 22
B24: Ընդամենը | E24: 46 | F24: 44 | G24: 42 | H24: 2 | I24: 0 | J24: 4 | K24: 40 | L24: 30 | M24: 1 | N24: 0 | O24: 0 | P24: 9 | Q24: 1 | R24: 0 | S24: 1 | T24: 17 | U24: 73 | V24: 4

Sheet kotayq
A1: Ð²ÞìºîìàôÂÚàôÜ
A2: ÀÜ¸Ð²Üàôð Æð²ì²êàôÂÚ²Ü ¸²î²ð²ÜàôØ
A3: êÜ²ÜÎàôÂÚ²Ü ìºð²´ºðÚ²È ¶àðÌºðÆ øÜÜàôÂÚ²Ü Ø²êÆÜ
A6: ìÇ×³Ï³·ñ³Ï³Ý ïáÕÇ Ñ³Ù³ñÁ | B6: êïáõ·Çã Ñ³í³ë³ñáõÙÝ»ñ` 1+2=15+16,2=3+4, 2=5+6+7, 7=8+9+10+11 | E6: ²Ý³í³ñï ·áñÍ»ñÇ ÙÝ³óáñ¹Á Ñ³ßí»ïáõ Å³Ù³Ý³Ï³ßñç³ÝÇ ëÏ½µáõÙ | F6: êï³óí³Í ¹ÇÙáõÙÝ»ñÇ (·áñÍ»ñ) ù³Ý³ÏÁ | L6: ì³ñáõÛÃ ÁÝ¹áõÝí³Í ¹ÇÙáõÙÝ»ñáí Ï³Û³óí³Í ¹³ï³Ï³Ý ³Ïï»ñ | Q6: Ü»ñÏ³Û³óí»É ¿ ýÇÝ³Ýë³Ï³Ý ³éáÕç³óÙ³Ý Íñ³·Çñ | T6: ²í³ñïí»É »Ý ·áñÍ»ñ Ñ³ßí»ïáõ Å³Ù³Ý³Ï³ßñç³ÝáõÙ | U6: ²Ý³í³ñï ·áñÍ»ñÇ ÙÝ³óáñ¹Á Ñ³ßí»ïáõ Å³Ù³Ý³Ï³ßñç³ÝÇ í»ñçáõÙ | V6: ´áÕáù³ñÏí»É »Ý í»ñ³ùÝÝÇã ¹³ï³ñ³Ý
F8: ÀÝ¹³Ù»ÝÁ | G8: ³Û¹ ÃíáõÙ Ñ³ñÏ³¹ñí³Í ëÝ³ÝÏáõÃÛáõÝ | H8: ³Û¹ ÃíáõÙ Ï³Ù³íáñ ëÝ³ÝÏáõÃÛáõÝ | I8: ëï³óí³Í ¹ÇÙáõÙÝ»ñÇ ÁÝÃ³óùÁ | L8: Ï³Û³óí»É ¿ å³ñï³å³ÝÇÝ ëÝ³ÝÏ ×³Ý³ã»Éáõ Ù³ëÇÝ í×Çé | M8: å³ñï³å³ÝÇÝ ëÝ³ÝÏ ×³Ý³ã»Éáõ ¹ÇÙáõÙÁ Ù»ñÅí»É ¿ | N8: ¹ÇÙáõÙÁ ÃáÕÝí»É ¿ ³é³Ýó ùÝÝáõÃÛ³Ý | O8: ¶áñÍÝ áõÕ³ñÏí»É ¿ Áëï ÁÝ¹¹³ïáõÃÛ³Ý | P8: ³Ý³í³ñï (³Û¹ ÃíáõÙ Ï³ë»óí³Í) | Q8: ÀÝ¹³Ù»ÝÁ | R8: ÃáÕÝí»É ¿ ³é³Ýó ùÝÝ³ñÏÙ³Ý | S8: Ñ³ëï³ïí»É ¿
I10: ¸ÇÙáõÙÇ ÁÝ¹áõÝáõÙÁ Ù»ñÅí»É ¿ | J10: ¸ÇÙáõÙÁ í»ñ³¹³ñÓí»É ¿ | K10: ÀÝ¹áõÝí»É ¿ í³ñáõÛÃ
E20: 1 | F20: 2 | G20: 3 | H20: 4 | I20: 5 | J20: 6 | K20: 7 | L20: 8 | M20: 9 | N20: 10 | O20: 10ա | P20: 11 | Q20: 12 | R20: 13 | S20: 14 | T20: 15 | U20: 16 | V20: 17
A21: 1 | B21: Æñ³í³µ³Ý³Ï³Ý ³ÝÓÇ ëÝ³ÝÏáõÃÛ³Ý í»ñ³µ»ñÛ³É | E21: 63 | F21: 36 | G21: 35 | H21: 1 | I21: 3 | J21: 13 | K21: 20 | L21: 12 | M21: 2 | N21: 1 | P21: 5 | Q21: 1 | S21: 1 | T21: 34 | U21: 65 | V21: 1
A22: 2 | B22: ²ÝÑ³ï Ó»éÝ»ñ»óÇ ëÝ³ÝÏáõÃÛ³Ý í»ñ³µ»ñÛ³É | E22: 21 | F22: 8 | G22: 7 | H22: 1 | J22: 1 | K22: 7 | L22: 4 | P22: 3 | Q22: 1 | S22: 1 | T22: 7 | U22: 22
A23: 3 | B23: üÇ½ÇÏ³Ï³Ý ³ÝÓ³Ýó ëÝ³ÝÏáõÃÛ³Ý í»ñ³µ»ñÛ³É | E23: 28 | F23: 32 | G23: 18 | H23: 14 | J23: 7 | K23: 25 | L23: 17 | M23: 1 | P23: 7 | T23: 22 | U23: 38 | V23: 4
A24: 4 | B24: ԸՆԴԱՄԵՆԸ | E24: 112 | F24: 76 | G24: 60 | H24: 16 | I24: 3 | J24: 21 | K24: 52 | L24: 33 | M24: 3 | N24: 1 | O24: 0 | P24: 15 | Q24: 2 | S24: 2 | T24: 63 | U24: 125 | V24: 5

Sheet gexarquniq
A1: Ð²ÞìºîìàôÂÚàôÜ
A2: ÀÜ¸Ð²Üàôð Æð²ì²êàôÂÚ²Ü ¸²î²ð²ÜàôØ
A3: êÜ²ÜÎàôÂÚ²Ü ìºð²´ºðÚ²È ¶àðÌºðÆ øÜÜàôÂÚ²Ü Ø²êÆÜ 2011 թ. ï³ñÇ
A6: ìÇ×³Ï³·ñ³Ï³Ý ïáÕÇ Ñ³Ù³ñÁ | B6: êïáõ·Çã Ñ³í³ë³ñáõÙÝ»ñ` 1+2=15+16,2=3+4, 2=5+6+7, 7=8+9+10+11 | E6: ²Ý³í³ñï ·áñÍ»ñÇ ÙÝ³óáñ¹Á Ñ³ßí»ïáõ Å³Ù³Ý³Ï³ßñç³ÝÇ ëÏ½µáõÙ | F6: êï³óí³Í ¹ÇÙáõÙÝ»ñÇ (·áñÍ»ñ) ù³Ý³ÏÁ | L6: ì³ñáõÛÃ ÁÝ¹áõÝí³Í ¹ÇÙáõÙÝ»ñáí Ï³Û³óí³Í ¹³ï³Ï³Ý ³Ïï»ñ | Q6: Ü»ñÏ³Û³óí»É ¿ ýÇÝ³Ýë³Ï³Ý ³éáÕç³óÙ³Ý Íñ³·Çñ | T6: ²í³ñïí»É »Ý ·áñÍ»ñ Ñ³ßí»ïáõ Å³Ù³Ý³Ï³ßñç³ÝáõÙ | U6: ²Ý³í³ñï ·áñÍ»ñÇ ÙÝ³óáñ¹Á Ñ³ßí»ïáõ Å³Ù³Ý³Ï³ßñç³ÝÇ í»ñçáõÙ | V6: ´áÕáù³ñÏí»É »Ý í»ñ³ùÝÝÇã ¹³ï³ñ³Ý
F8: ÀÝ¹³Ù»ÝÁ | G8: ³Û¹ ÃíáõÙ Ñ³ñÏ³¹ñí³Í ëÝ³ÝÏáõÃÛáõÝ | H8: ³Û¹ ÃíáõÙ Ï³Ù³íáñ ëÝ³ÝÏáõÃÛáõÝ | I8: ëï³óí³Í ¹ÇÙáõÙÝ»ñÇ ÁÝÃ³óùÁ | L8: Ï³Û³óí»É ¿ å³ñï³å³ÝÇÝ ëÝ³ÝÏ ×³Ý³ã»Éáõ Ù³ëÇÝ í×Çé | M8: å³ñï³å³ÝÇÝ ëÝ³ÝÏ ×³Ý³ã»Éáõ ¹ÇÙáõÙÁ Ù»ñÅí»É ¿ | N8: ¹ÇÙáõÙÁ ÃáÕÝí»É ¿ ³é³Ýó ùÝÝáõÃÛ³Ý | O8: ¶áñÍÝ áõÕ³ñÏí»É ¿ Áëï ÁÝ¹¹³ïáõÃÛ³Ý | P8: ³Ý³í³ñï (³Û¹ ÃíáõÙ Ï³ë»óí³Í) | Q8: ÀÝ¹³Ù»ÝÁ | R8: ÃáÕÝí»É ¿ ³é³Ýó ùÝÝ³ñÏÙ³Ý | S8: Ñ³ëï³ïí»É ¿
I10: ¸ÇÙáõÙÇ ÁÝ¹áõÝáõÙÁ Ù»ñÅí»É ¿ | J10: ¸ÇÙáõÙÁ í»ñ³¹³ñÓí»É ¿ | K10: ÀÝ¹áõÝí»É ¿ í³ñáõÛÃ
E20: 1 | F20: 2 | G20: 3 | H20: 4 | I20: 5 | J20: 6 | K20: 7 | L20: 8 | M20: 9 | N20: 10 | O20: 10ա | P20: 11 | Q20: 12 | R20: 13 | S20: 14 | T20: 15 | U20: 16 | V20: 17
A21: 1 | B21: Æñ³í³µ³Ý³Ï³Ý ³ÝÓÇ ëÝ³ÝÏáõÃÛ³Ý í»ñ³µ»ñÛ³É | E21: 35 | F21: 32 | G21: 25 | H21: 7 | J21: 7 | K21: 25 | L21: 19 | M21: 3 | P21: 3 | T21: 21 | U21: 46 | V21: 2
A22: 2 | B22: ²ÝÑ³ï Ó»éÝ»ñ»óÇ ëÝ³ÝÏáõÃÛ³Ý í»ñ³µ»ñÛ³É | E22: 2 | F22: 2 | G22: 2 | J22: 1 | K22: 1 | L22: 1 | T22: 3 | U22: 1
A23: 3 | B23: üÇ½ÇÏ³Ï³Ý ³ÝÓ³Ýó ëÝ³ÝÏáõÃÛ³Ý í»ñ³µ»ñÛ³É | E23: 17 | F23: 20 | G23: 18 | H23: 2 | J23: 5 | K23: 15 | L23: 11 | M23: 3 | P23: 1 | Q23: 1 | T23: 11 | U23: 26
E24: 54 | F24: 54 | G24: 45 | H24: 9 | I24: 0 | J24: 13 | K24: 41 | L24: 31 | M24: 6 | N24: 0 | O24: 0 | P24: 4 | Q24: 1 | R24: 0 | S24: 0 | T24: 35 | U24: 73 | V24: 2

Sheet tavush
A1: Ð²ÞìºîìàôÂÚàôÜ
A2: ÀÜ¸Ð²Üàôð Æð²ì²êàôÂÚ²Ü ¸²î²ð²ÜàôØ
A3: êÜ²ÜÎàôÂÚ²Ü ìºð²´ºðÚ²È ¶àðÌºðÆ øÜÜàôÂÚ²Ü Ø²êÆÜ
A4: 2011Ã. (ï³ñí³) Ñ³Ù³ñ
A6: ìÇ×³Ï³·ñ³Ï³Ý ïáÕÇ Ñ³Ù³ñÁ | B6: êïáõ·Çã Ñ³í³ë³ñáõÙÝ»ñ` 1+2=15+16,2=3+4, 2=5+6+7, 7=8+9+10+11 | E6: ²Ý³í³ñï ·áñÍ»ñÇ ÙÝ³óáñ¹Á Ñ³ßí»ïáõ Å³Ù³Ý³Ï³ßñç³ÝÇ ëÏ½µáõÙ | F6: êï³óí³Í ¹ÇÙáõÙÝ»ñÇ (·áñÍ»ñ) ù³Ý³ÏÁ | L6: ì³ñáõÛÃ ÁÝ¹áõÝí³Í ¹ÇÙáõÙÝ»ñáí Ï³Û³óí³Í ¹³ï³Ï³Ý ³Ïï»ñ | Q6: Ü»ñÏ³Û³óí»É ¿ ýÇÝ³Ýë³Ï³Ý ³éáÕç³óÙ³Ý Íñ³·Çñ | T6: ²í³ñïí»É »Ý ·áñÍ»ñ Ñ³ßí»ïáõ Å³Ù³Ý³Ï³ßñç³ÝáõÙ | U6: ²Ý³í³ñï ·áñÍ»ñÇ ÙÝ³óáñ¹Á Ñ³ßí»ïáõ Å³Ù³Ý³Ï³ßñç³ÝÇ í»ñçáõÙ | V6: ´áÕáù³ñÏí»É »Ý í»ñ³ùÝÝÇã ¹³ï³ñ³Ý
F8: ÀÝ¹³Ù»ÝÁ | G8: ³Û¹ ÃíáõÙ Ñ³ñÏ³¹ñí³Í ëÝ³ÝÏáõÃÛáõÝ | H8: ³Û¹ ÃíáõÙ Ï³Ù³íáñ ëÝ³ÝÏáõÃÛáõÝ | I8: ëï³óí³Í ¹ÇÙáõÙÝ»ñÇ ÁÝÃ³óùÁ | L8: Ï³Û³óí»É ¿ å³ñï³å³ÝÇÝ ëÝ³ÝÏ ×³Ý³ã»Éáõ Ù³ëÇÝ í×Çé | M8: å³ñï³å³ÝÇÝ ëÝ³ÝÏ ×³Ý³ã»Éáõ ¹ÇÙáõÙÁ Ù»ñÅí»É ¿ | N8: ¹ÇÙáõÙÁ ÃáÕÝí»É ¿ ³é³Ýó ùÝÝáõÃÛ³Ý | O8: ¶áñÍÝ áõÕ³ñÏí»É ¿ Áëï ÁÝ¹¹³ïáõÃÛ³Ý | P8: ³Ý³í³ñï (³Û¹ ÃíáõÙ Ï³ë»óí³Í) | Q8: ÀÝ¹³Ù»ÝÁ | R8: ÃáÕÝí»É ¿ ³é³Ýó ùÝÝ³ñÏÙ³Ý | S8: Ñ³ëï³ïí»É ¿
I10: ¸ÇÙáõÙÇ ÁÝ¹áõÝáõÙÁ Ù»ñÅí»É ¿ | J10: ¸ÇÙáõÙÁ í»ñ³¹³ñÓí»É ¿ | K10: ÀÝ¹áõÝí»É ¿ í³ñáõÛÃ
E20: 1 | F20: 2 | G20: 3 | H20: 4 | I20: 5 | J20: 6 | K20: 7 | L20: 8 | M20: 9 | N20: 10 | O20: 10ա | P20: 11 | Q20: 12 | R20: 13 | S20: 14 | T20: 15 | U20: 16 | V20: 17
A21: 1 | B21: Æñ³í³µ³Ý³Ï³Ý ³ÝÓÇ ëÝ³ÝÏáõÃÛ³Ý í»ñ³µ»ñÛ³É | E21: 22 | F21: 23 | G21: 23 | J21: 10 | K21: 13 | L21: 13 | T21: 16 | U21: 29 | V21: 2
A22: 2 | B22: ²ÝÑ³ï Ó»éÝ»ñ»óÇ ëÝ³ÝÏáõÃÛ³Ý í»ñ³µ»ñÛ³É | E22: 3 | F22: 4 | G22: 4 | J22: 1 | K22: 3 | L22: 3 | T22: 3 | U22: 4 | V22: 1
A23: 3 | B23: üÇ½ÇÏ³Ï³Ý ³ÝÓ³Ýó ëÝ³ÝÏáõÃÛ³Ý í»ñ³µ»ñÛ³É | E23: 10 | T23: 4 | U23: 6
B24: ԸՆԴԱՄԵՆԸ | E24: 35 | F24: 27 | G24: 27 | H24: 0 | I24: 0 | J24: 11 | K24: 16 | L24: 16 | M24: 0 | N24: 0 | O24: 0 | P24: 0 | Q24: 0 | R24: 0 | S24: 0 | T24: 23 | U24: 39 | V24: 3

Sheet shirak
A1: Ð²ÞìºîìàôÂÚàôÜ 2011 տարվա
A2: ÀÜ¸Ð²Üàôð Æð²ì²êàôÂÚ²Ü ¸²î²ð²ÜàôØ
A3: êÜ²ÜÎàôÂÚ²Ü ìºð²´ºðÚ²È ¶àðÌºðÆ øÜÜàôÂÚ²Ü Ø²êÆÜ
A4: Հավելված 2 Հայաստանի Հանրապետության Դատարանների նախագահների խորհրդի 2007թ. ¹»Ïï»Ùµ»ñÇ 21-ի թիվ 23Լ որոշման
A6: ìÇ×³Ï³·ñ³Ï³Ý ïáÕÇ Ñ³Ù³ñÁ | B6: êïáõ·Çã Ñ³í³ë³ñáõÙÝ»ñ` 1+2=15+16,2=3+4, 2=5+6+7, 7=8+9+10+11 | E6: ²Ý³í³ñï ·áñÍ»ñÇ ÙÝ³óáñ¹Á Ñ³ßí»ïáõ Å³Ù³Ý³Ï³ßñç³ÝÇ ëÏ½µáõÙ | F6: êï³óí³Í ¹ÇÙáõÙÝ»ñÇ (·áñÍ»ñ) ù³Ý³ÏÁ | L6: ì³ñáõÛÃ ÁÝ¹áõÝí³Í ¹ÇÙáõÙÝ»ñáí Ï³Û³óí³Í ¹³ï³Ï³Ý ³Ïï»ñ | Q6: Ü»ñÏ³Û³óí»É ¿ ýÇÝ³Ýë³Ï³Ý ³éáÕç³óÙ³Ý Íñ³·Çñ | T6: ²í³ñïí»É »Ý ·áñÍ»ñ Ñ³ßí»ïáõ Å³Ù³Ý³Ï³ßñç³ÝáõÙ | U6: ²Ý³í³ñï ·áñÍ»ñÇ ÙÝ³óáñ¹Á Ñ³ßí»ïáõ Å³Ù³Ý³Ï³ßñç³ÝÇ í»ñçáõÙ | V6: ´áÕáù³ñÏí»É »Ý í»ñ³ùÝÝÇã ¹³ï³ñ³Ý
F8: ÀÝ¹³Ù»ÝÁ | G8: ³Û¹ ÃíáõÙ Ñ³ñÏ³¹ñí³Í ëÝ³ÝÏáõÃÛáõÝ | H8: ³Û¹ ÃíáõÙ Ï³Ù³íáñ ëÝ³ÝÏáõÃÛáõÝ | I8: ëï³óí³Í ¹ÇÙáõÙÝ»ñÇ ÁÝÃ³óùÁ | L8: Ï³Û³óí»É ¿ å³ñï³å³ÝÇÝ ëÝ³ÝÏ ×³Ý³ã»Éáõ Ù³ëÇÝ í×Çé | M8: å³ñï³å³ÝÇÝ ëÝ³ÝÏ ×³Ý³ã»Éáõ ¹ÇÙáõÙÁ Ù»ñÅí»É ¿ | N8: ¹ÇÙáõÙÁ ÃáÕÝí»É ¿ ³é³Ýó ùÝÝáõÃÛ³Ý | O8: ¶áñÍÝ áõÕ³ñÏí»É ¿ Áëï ÁÝ¹¹³ïáõÃÛ³Ý | P8: ³Ý³í³ñï (³Û¹ ÃíáõÙ Ï³ë»óí³Í) | Q8: ÀÝ¹³Ù»ÝÁ | R8: ÃáÕÝí»É ¿ ³é³Ýó ùÝÝ³ñÏÙ³Ý | S8: Ñ³ëï³ïí»É ¿
I10: ¸ÇÙáõÙÇ ÁÝ¹áõÝáõÙÁ Ù»ñÅí»É ¿ | J10: ¸ÇÙáõÙÁ í»ñ³¹³ñÓí»É ¿ | K10: ÀÝ¹áõÝí»É ¿ í³ñáõÛÃ
E20: 1 | F20: 2 | G20: 3 | H20: 4 | I20: 5 | J20: 6 | K20: 7 | L20: 8 | M20: 9 | N20: 10 | O20: 10ա | P20: 11 | Q20: 12 | R20: 13 | S20: 14 | T20: 15 | U20: 16 | V20: 17
A21: 1 | B21: Æñ³í³µ³Ý³Ï³Ý ³ÝÓÇ ëÝ³ÝÏáõÃÛ³Ý í»ñ³µ»ñÛ³É | E21: 81 | F21: 36 | G21: 35 | H21: 1 | J21: 19 | K21: 17 | L21: 10 | M21: 2 | P21: 5 | T21: 36 | U21: 81 | V21: 3
A22: 2 | B22: ²ÝÑ³ï Ó»éÝ»ñ»óÇ ëÝ³ÝÏáõÃÛ³Ý í»ñ³µ»ñÛ³É | E22: 5 | F22: 22 | G22: 22 | J22: 8 | K22: 14 | L22: 10 | M22: 2 | P22: 2 | T22: 11 | U22: 16
A23: 3 | B23: üÇ½ÇÏ³Ï³Ý ³ÝÓ³Ýó ëÝ³ÝÏáõÃÛ³Ý í»ñ³µ»ñÛ³É | E23: 44 | F23: 11 | G23: 10 | H23: 1 | J23: 3 | K23: 8 | L23: 7 | P23: 1 | T23: 21 | U23: 34 | V23: 2
B24: ԸՆԴԱՄԵՆԸ | E24: 130 | F24: 69 | G24: 67 | H24: 2 | I24: 0 | J24: 30 | K24: 39 | L24: 27 | M24: 4 | N24: 0 | O24: 0 | P24: 8 | Q24: 0 | R24: 0 | S24: 0 | T24: 68 | U24: 131 | V24: 5

Sheet ajapnyak
A1: Ð²ÞìºîìàôÂÚàôÜ
A2: ²æ²öÜÚ²Î ºì ¸²ìÂ²ÞºÜ ì²ðâ²Î²Ü Þðæ²ÜÜºðÆ ÀÜ¸Ð²Üàôð Æð²ì²êàôÂÚ²Ü ¸²î²ð²ÜàôØ
A3: êÜ²ÜÎàôÂÚ²Ü ìºð²´ºðÚ²È ¶àðÌºðÆ øÜÜàôÂÚ²Ü Ø²êÆÜ 2011Ã. ï³ñ»Ï³Ý
A6: ìÇ×³Ï³·ñ³Ï³Ý ïáÕÇ Ñ³Ù³ñÁ | B6: êïáõ·Çã Ñ³í³ë³ñáõÙÝ»ñ` 1+2=15+16,2=3+4, 2=5+6+7, 7=8+9+10+11 | E6: ²Ý³í³ñï ·áñÍ»ñÇ ÙÝ³óáñ¹Á Ñ³ßí»ïáõ Å³Ù³Ý³Ï³ßñç³ÝÇ ëÏ½µáõÙ | F6: êï³óí³Í ¹ÇÙáõÙÝ»ñÇ (·áñÍ»ñ) ù³Ý³ÏÁ | L6: ì³ñáõÛÃ ÁÝ¹áõÝí³Í ¹ÇÙáõÙÝ»ñáí Ï³Û³óí³Í ¹³ï³Ï³Ý ³Ïï»ñ | Q6: Ü»ñÏ³Û³óí»É ¿ ýÇÝ³Ýë³Ï³Ý ³éáÕç³óÙ³Ý Íñ³·Çñ | T6: ²í³ñïí»É »Ý ·áñÍ»ñ Ñ³ßí»ïáõ Å³Ù³Ý³Ï³ßñç³ÝáõÙ | U6: ²Ý³í³ñï ·áñÍ»ñÇ ÙÝ³óáñ¹Á Ñ³ßí»ïáõ Å³Ù³Ý³Ï³ßñç³ÝÇ í»ñçáõÙ | V6: ´áÕáù³ñÏí»É »Ý í»ñ³ùÝÝÇã ¹³ï³ñ³Ý
F8: ÀÝ¹³Ù»ÝÁ | G8: ³Û¹ ÃíáõÙ Ñ³ñÏ³¹ñí³Í ëÝ³ÝÏáõÃÛáõÝ | H8: ³Û¹ ÃíáõÙ Ï³Ù³íáñ ëÝ³ÝÏáõÃÛáõÝ | I8: ëï³óí³Í ¹ÇÙáõÙÝ»ñÇ ÁÝÃ³óùÁ | L8: Ï³Û³óí»É ¿ å³ñï³å³ÝÇÝ ëÝ³ÝÏ ×³Ý³ã»Éáõ Ù³ëÇÝ í×Çé | M8: å³ñï³å³ÝÇÝ ëÝ³ÝÏ ×³Ý³ã»Éáõ ¹ÇÙáõÙÁ Ù»ñÅí»É ¿ | N8: ¹ÇÙáõÙÁ ÃáÕÝí»É ¿ ³é³Ýó ùÝÝáõÃÛ³Ý | O8: ¶áñÍÝ áõÕ³ñÏí»É ¿ Áëï ÁÝ¹¹³ïáõÃÛ³Ý | P8: ³Ý³í³ñï (³Û¹ ÃíáõÙ Ï³ë»óí³Í) | Q8: ÀÝ¹³Ù»ÝÁ | R8: ÃáÕÝí»É ¿ ³é³Ýó ùÝÝ³ñÏÙ³Ý | S8: Ñ³ëï³ïí»É ¿
I10: ¸ÇÙáõÙÇ ÁÝ¹áõÝáõÙÁ Ù»ñÅí»É ¿ | J10: ¸ÇÙáõÙÁ í»ñ³¹³ñÓí»É ¿ | K10: ÀÝ¹áõÝí»É ¿ í³ñáõÛÃ
E20: 1 | F20: 2 | G20: 3 | H20: 4 | I20: 5 | J20: 6 | K20: 7 | L20: 8 | M20: 9 | N20: 10 | O20: 10ա | P20: 11 | Q20: 12 | R20: 13 | S20: 14 | T20: 15 | U20: 16 | V20: 17
A21: 1 | B21: Æñ³í³µ³Ý³Ï³Ý ³ÝÓÇ ëÝ³ÝÏáõÃÛ³Ý í»ñ³µ»ñÛ³É | E21: 19 | F21: 28 | G21: 28 | H21: 0 | I21: 0 | J21: 10 | K21: 18 | L21: 7 | M21: 1 | N21: 0 | O21: 0 | P21: 10 | Q21: 0 | R21: 0 | S21: 0 | T21: 21 | U21: 26 | V21: 0
A22: 2 | B22: ²ÝÑ³ï Ó»éÝ»ñ»óÇ ëÝ³ÝÏáõÃÛ³Ý í»ñ³µ»ñÛ³É | E22: 3 | F22: 2 | G22: 0 | H22: 2 | I22: 0 | J22: 1 | K22: 1 | L22: 0 | M22: 0 | N22: 0 | O22: 0 | P22: 1 | Q22: 0 | R22: 0 | S22: 0 | T22: 2 | U22: 3 | V22: 0
A23: 3 | B23: üÇ½ÇÏ³Ï³Ý ³ÝÓ³Ýó ëÝ³ÝÏáõÃÛ³Ý í»ñ³µ»ñÛ³É | E23: 8 | F23: 7 | G23: 5 | H23: 2 | I23: 0 | J23: 6 | K23: 1 | L23: 0 | M23: 0 | N23: 0 | O23: 0 | P23: 1 | Q23: 0 | R23: 0 | S23: 0 | T23: 7 | U23: 8 | V23: 0
B24: ԸՆԴԱՄԵՆԸ | E24: 30 | F24: 37 | G24: 33 | H24: 4 | I24: 0 | J24: 17 | K24: 20 | L24: 7 | M24: 1 | N24: 0 | O24: 0 | P24: 12 | Q24: 0 | R24: 0 | S24: 0 | T24: 30 | U24: 37 | V24: 0

Sheet syuniq
A1: Ð²ÞìºîìàôÂÚàôÜ
A2: ÀÜ¸Ð²Üàôð Æð²ì²êàôÂÚ²Ü ¸²î²ð²ÜàôØ
A3: êÜ²ÜÎàôÂÚ²Ü ìºð²´ºðÚ²È ¶àðÌºðÆ øÜÜàôÂÚ²Ü Ø²êÆÜ
A6: ìÇ×³Ï³·ñ³Ï³Ý ïáÕÇ Ñ³Ù³ñÁ | B6: êïáõ·Çã Ñ³í³ë³ñáõÙÝ»ñ` 1+2=15+16,2=3+4, 2=5+6+7, 7=8+9+10+11 | E6: ²Ý³í³ñï ·áñÍ»ñÇ ÙÝ³óáñ¹Á Ñ³ßí»ïáõ Å³Ù³Ý³Ï³ßñç³ÝÇ ëÏ½µáõÙ | F6: êï³óí³Í ¹ÇÙáõÙÝ»ñÇ (·áñÍ»ñ) ù³Ý³ÏÁ | L6: ì³ñáõÛÃ ÁÝ¹áõÝí³Í ¹ÇÙáõÙÝ»ñáí Ï³Û³óí³Í ¹³ï³Ï³Ý ³Ïï»ñ | Q6: Ü»ñÏ³Û³óí»É ¿ ýÇÝ³Ýë³Ï³Ý ³éáÕç³óÙ³Ý Íñ³·Çñ | T6: ²í³ñïí»É »Ý ·áñÍ»ñ Ñ³ßí»ïáõ Å³Ù³Ý³Ï³ßñç³ÝáõÙ | U6: ²Ý³í³ñï ·áñÍ»ñÇ ÙÝ³óáñ¹Á Ñ³ßí»ïáõ Å³Ù³Ý³Ï³ßñç³ÝÇ í»ñçáõÙ | V6: ´áÕáù³ñÏí»É »Ý í»ñ³ùÝÝÇã ¹³ï³ñ³Ý
F8: ÀÝ¹³Ù»ÝÁ | G8: ³Û¹ ÃíáõÙ Ñ³ñÏ³¹ñí³Í ëÝ³ÝÏáõÃÛáõÝ | H8: ³Û¹ ÃíáõÙ Ï³Ù³íáñ ëÝ³ÝÏáõÃÛáõÝ | I8: ëï³óí³Í ¹ÇÙáõÙÝ»ñÇ ÁÝÃ³óùÁ | L8: Ï³Û³óí»É ¿ å³ñï³å³ÝÇÝ ëÝ³ÝÏ ×³Ý³ã»Éáõ Ù³ëÇÝ í×Çé | M8: å³ñï³å³ÝÇÝ ëÝ³ÝÏ ×³Ý³ã»Éáõ ¹ÇÙáõÙÁ Ù»ñÅí»É ¿ | N8: ¹ÇÙáõÙÁ ÃáÕÝí»É ¿ ³é³Ýó ùÝÝáõÃÛ³Ý | O8: ¶áñÍÝ áõÕ³ñÏí»É ¿ Áëï ÁÝ¹¹³ïáõÃÛ³Ý | P8: ³Ý³í³ñï (³Û¹ ÃíáõÙ Ï³ë»óí³Í) | Q8: ÀÝ¹³Ù»ÝÁ | R8: ÃáÕÝí»É ¿ ³é³Ýó ùÝÝ³ñÏÙ³Ý | S8: Ñ³ëï³ïí»É ¿
I10: ¸ÇÙáõÙÇ ÁÝ¹áõÝáõÙÁ Ù»ñÅí»É ¿ | J10: ¸ÇÙáõÙÁ í»ñ³¹³ñÓí»É ¿ | K10: ÀÝ¹áõÝí»É ¿ í³ñáõÛÃ
E20: 1 | F20: 2 | G20: 3 | H20: 4 | I20: 5 | J20: 6 | K20: 7 | L20: 8 | M20: 9 | N20: 10 | O20: 10ա | P20: 11 | Q20: 12 | R20: 13 | S20: 14 | T20: 15 | U20: 16 | V20: 17
A21: 1 | B21: Æñ³í³µ³Ý³Ï³Ý ³ÝÓÇ ëÝ³ÝÏáõÃÛ³Ý í»ñ³µ»ñÛ³É | E21: 56 | F21: 46 | G21: 43 | H21: 3 | I21: 0 | J21: 6 | K21: 40 | L21: 37 | M21: 0 | N21: 0 | O21: 0 | P21: 3 | Q21: 0 | R21: 0 | S21: 0 | T21: 5 | U21: 97 | V21: 0
A22: 2 | B22: ²ÝÑ³ï Ó»éÝ»ñ»óÇ ëÝ³ÝÏáõÃÛ³Ý í»ñ³µ»ñÛ³É | E22: 42 | F22: 10 | G22: 9 | H22: 1 | I22: 0 | J22: 3 | K22: 7 | L22: 4 | M22: 0 | N22: 0 | O22: 0 | P22: 3 | Q22: 0 | R22: 0 | S22: 0 | T22: 3 | U22: 49 | V22: 1
A23: 3 | B23: üÇ½ÇÏ³Ï³Ý ³ÝÓ³Ýó ëÝ³ÝÏáõÃÛ³Ý í»ñ³µ»ñÛ³É | E23: 77 | F23: 13 | G23: 7 | H23: 6 | I23: 0 | J23: 3 | K23: 10 | L23: 9 | M23: 1 | N23: 0 | O23: 0 | P23: 0 | Q23: 0 | R23: 0 | S23: 0 | T23: 16 | U23: 74 | V23: 1
B24: ԸՆԴԱՄԵՆԸ | E24: 175 | F24: 69 | G24: 59 | H24: 10 | I24: 0 | J24: 12 | K24: 57 | L24: 50 | M24: 1 | N24: 0 | O24: 0 | P24: 6 | Q24: 0 | R24: 0 | S24: 0 | T24: 24 | U24: 220 | V24: 2

Sheet lori
A1: Ð²ÞìºîìàôÂÚàôÜ
A2: êÝ³ÝÏáõÃÛ³Ý í»ñ³µ»ñÛ³É ·áñÍ»ñÇ ùÝÝáõÃÛ³Ý Ù³ëÇÝ
A3: 2011Ã-Ç (ï³ñí³) Ñ³Ù³ñ
A4: ìÇ×³Ï³·ñ³Ï³Ý ïáÕÇ Ñ³Ù³ñÁ | B4: êïáõ·Çã Ñ³í³ë³ñáõÙÝ»ñ` 1+2=15+16,2=3+4,2=5+6+7,7=8+9+10+11 | D4: ²Ý³í³ñï ·áñÍ»ñÇ ÙÝ³óáñ¹Á Ñ³ßí»ïáõ Å³Ù³Ý³Ï³ßñç³ÝÇ ëÏ½µáõÙ | E4: êï³óí³Í ¹ÇÙáõÙÝ»ñÇ (·áñÍ»ñÇ) ù³Ý³ÏÁ | K4: ì³ñáõÛÃ ÁÝ¹áõÝí³Í ¹ÇÙáõÙÝ»ñáí Ï³Û³óí³Í ¹³ï³Ï³Ý ³Ïï»ñ | P4: Ü»ñÏ³Û³óí»É ¿ ýÇÝ³Ýë³Ï³Ý ³éáÕç³óÙ³Ý Íñ³·Çñ | S4: ²í³ñïí»É »Ý ·áñÍ»ñ Ñ³ßí»ïáõ Å³Ù³Ý³Ï³ßñç³ÝáõÙ | T4: ²Ý³í³ñï ·áñÍ»ñÇ ÙÝ³óáñ¹Á Ñ³ßí»ïáõ Å³Ù³Ý³Ï³ßñç³ÝÇ í»ñçáõÙ | U4: ´áÕáù³ñÏí»É »Ý í»ñ³ùÝÝÇã ¹³ï³ñ³Ý
E5: ÀÝ¹³Ù»ÝÁ | F5: ³Û¹ ÃíáõÙ Ñ³ñÏ³¹ñí³Í ëÝ³ÝÏáõÃÛáõÝ | G5: ³Û¹ ÃíáõÙ Ï³Ù³íáñ ëÝ³ÝÏáõÃÛáõÝ | H5: ëï³óí³Í ¹ÇÙáõÙÝ»ñÇ ÁÝÃ³óùÁ | K5: Ï³Û³óí»É ¿ å³ñï³å³ÝÇÝ ëÝ³ÝÏ ×³Ý³ã»Éáõ Ù³ëÇÝ í×Çé | L5: å³ñï³å³ÝÇÝ ëÝ³ÝÏ ×³Ý³ã»Éáõ ¹ÇÙáõÙÁ Ù»ñÅí»É ¿ | M5: ¹ÇÙáõÙÁ ÃáÕÝí»É ¿ ³é³Ýó ùÝÝáõÃÛ³Ý | N5: ¶áñÍÝ áõÕ³ñÏí»É ¿ Áëï ÁÝ¹¹³ïáõÃÛ³Ý | O5: ³Ý³í³ñï (³Û¹ ÃíáõÙ Ï³ë»óí³Í) | P5: ÀÝ¹³Ù»ÝÁ | Q5: ÃáÕÝí»É ¿ ³é³Ýó ùÝÝáõÃÛ³Ý | R5: Ñ³ëï³ïí»É ¿
H6: ¹ÇÙáõÙÇ ÁÝ¹áõÝáõÙÁ Ù»ñÅí»É ¿ | I6: ¹ÇÙáõÙÁ í»ñ³¹³ñÓí»É ¿ | J6: ÁÝ¹áõÝí»É ¿ í³ñáõÛÃ
D7: 1 | E7: 2 | F7: 3 | G7: 4 | H7: 5 | I7: 6 | J7: 7 | K7: 8 | L7: 9 | M7: 10 | N7: 10ա | O7: 11 | P7: 12 | Q7: 13 | R7: 14 | S7: 15 | T7: 16 | U7: 17
A8: 1 | B8: Æñ³í³µ³Ý³Ï³Ý ³ÝÓÇ ëÝ³ÝÏáõÃÛ³Ý í»ñ³µ»ñÛ³É | D8: 107 | E8: 19 | F8: 15 | G8: 4 | H8: 0 | I8: 3 | J8: 16 | K8: 12 | L8: 1 | M8: 0 | N8: 0 | O8: 3 | P8: 2 | Q8: 0 | R8: 2 | S8: 24 | T8: 102 | U8: 0
A9: 2 | B9: ²ÝÑ³ï Ó»éÝ³ñÏ³ïÇñáç ëÝ³ÝÏáõÃÛ³Ý í»ñ³µ»ñÛ³É | D9: 9 | E9: 8 | F9: 8 | G9: 0 | H9: 0 | I9: 3 | J9: 5 | K9: 5 | L9: 0 | M9: 0 | N9: 0 | O9: 0 | P9: 0 | Q9: 0 | R9: 0 | S9: 7 | T9: 10 | U9: 0
A10: 3 | B10: üÇ½ÇÏ³Ï³Ý ³ÝÓ³Ýó ëÝ³ÝÏáõÃÛ³Ý í»ñ³µ»ñÛ³É | D10: 56 | E10: 8 | F10: 8 | G10: 0 | H10: 0 | I10: 2 | J10: 6 | K10: 3 | L10: 1 | M10: 0 | N10: 0 | O10: 2 | P10: 0 | Q10: 0 | R10: 0 | S10: 19 | T10: 45 | U10: 0
B11: ընդամենը | D11: 172 | E11: 35 | F11: 31 | G11: 4 | H11: 0 | I11: 8 | J11: 27 | K11: 20 | L11: 2 | M11: 0 | N11: 0 | O11: 5 | P11: 2 | Q11: 0 | R11: 2 | S11: 50 | T11: 157 | U11: 0

Sheet @ndhanur
A1: Ð²ÞìºîìàôÂÚàôÜ
A2: ÀÜ¸Ð²Üàôð Æð²ì²êàôÂÚ²Ü ¸²î²ð²ÜàôØ
A3: 2011թ. êÜ²ÜÎàôÂÚ²Ü ìºð²´ºðÚ²È ¶àðÌºðÆ øÜÜàôÂÚ²Ü Ø²êÆÜ 2011 թ.
A6: ìÇ×³Ï³·ñ³Ï³Ý ïáÕÇ Ñ³Ù³ñÁ | B6: êïáõ·Çã Ñ³í³ë³ñáõÙÝ»ñ` 1+2=15+16,2=3+4, 2=5+6+7, 7=8+9+10+11 | E6: ²Ý³í³ñï ·áñÍ»ñÇ ÙÝ³óáñ¹Á Ñ³ßí»ïáõ Å³Ù³Ý³Ï³ßñç³ÝÇ ëÏ½µáõÙ | F6: êï³óí³Í ¹ÇÙáõÙÝ»ñÇ (·áñÍ»ñ) ù³Ý³ÏÁ | L6: ì³ñáõÛÃ ÁÝ¹áõÝí³Í ¹ÇÙáõÙÝ»ñáí Ï³Û³óí³Í ¹³ï³Ï³Ý ³Ïï»ñ | Q6: Ü»ñÏ³Û³óí»É ¿ ýÇÝ³Ýë³Ï³Ý ³éáÕç³óÙ³Ý Íñ³·Çñ | T6: ²í³ñïí»É »Ý ·áñÍ»ñ Ñ³ßí»ïáõ Å³Ù³Ý³Ï³ßñç³ÝáõÙ | U6: ²Ý³í³ñï ·áñÍ»ñÇ ÙÝ³óáñ¹Á Ñ³ßí»ïáõ Å³Ù³Ý³Ï³ßñç³ÝÇ í»ñçáõÙ | V6: ´áÕáù³ñÏí»É »Ý í»ñ³ùÝÝÇã ¹³ï³ñ³Ý
F8: ÀÝ¹³Ù»ÝÁ | G8: ³Û¹ ÃíáõÙ Ñ³ñÏ³¹ñí³Í ëÝ³ÝÏáõÃÛáõÝ | H8: ³Û¹ ÃíáõÙ Ï³Ù³íáñ ëÝ³ÝÏáõÃÛáõÝ | I8: ëï³óí³Í ¹ÇÙáõÙÝ»ñÇ ÁÝÃ³óùÁ | L8: Ï³Û³óí»É ¿ å³ñï³å³ÝÇÝ ëÝ³ÝÏ ×³Ý³ã»Éáõ Ù³ëÇÝ í×Çé | M8: å³ñï³å³ÝÇÝ ëÝ³ÝÏ ×³Ý³ã»Éáõ ¹ÇÙáõÙÁ Ù»ñÅí»É ¿ | N8: ¹ÇÙáõÙÁ ÃáÕÝí»É ¿ ³é³Ýó ùÝÝáõÃÛ³Ý | O8: ¶áñÍÝ áõÕ³ñÏí»É ¿ Áëï ÁÝ¹¹³ïáõÃÛ³Ý | P8: ³Ý³í³ñï (³Û¹ ÃíáõÙ Ï³ë»óí³Í) | Q8: ÀÝ¹³Ù»ÝÁ | R8: ÃáÕÝí»É ¿ ³é³Ýó ùÝÝ³ñÏÙ³Ý | S8: Ñ³ëï³ïí»É ¿
I10: ¸ÇÙáõÙÇ ÁÝ¹áõÝáõÙÁ Ù»ñÅí»É ¿ | J10: ¸ÇÙáõÙÁ í»ñ³¹³ñÓí»É ¿ | K10: ÀÝ¹áõÝí»É ¿ í³ñáõÛÃ
E20: 1 | F20: 2 | G20: 3 | H20: 4 | I20: 5 | J20: 6 | K20: 7 | L20: 8 | M20: 9 | N20: 10 | O20: 10ա | P20: 11 | Q20: 12 | R20: 13 | S20: 14 | T20: 15 | U20: 16 | V20: 17
A21: 1 | B21: Æñ³í³µ³Ý³Ï³Ý ³ÝÓÇ ëÝ³ÝÏáõÃÛ³Ý í»ñ³µ»ñÛ³É | E21: =SUM(arabkir!E21+avan!E21+kentron!E21+erebuni!E21+shengavit!E21+malatia!E21+ararat!E21+aragacotn!E21+armavir!E21+kotayq!E21+gexarquniq!E21+tavush!E21+shirak!E21+ajapnyak!E21+syuniq!E21+lori!D8) -> 797 | F21: =SUM(arabkir!F21+avan!F21+kentron!F21+erebuni!F21+shengavit!F21+malatia!F21+ararat!F21+aragacotn!F21+armavir!F21+kotayq!F21+gexarquniq!F21+tavush!F21+shirak!F21+ajapnyak!F21+syuniq!F21+lori!E8) -> 694 | G21: =SUM(arabkir!G21+avan!G21+kentron!G21+erebuni!G21+shengavit!G21+malatia!G21+ararat!G21+aragacotn!G21+armavir!G21+kotayq!G21+gexarquniq!G21+tavush!G21+shirak!G21+ajapnyak!G21+syuniq!G21+lori!F8) -> 661 | H21: =SUM(arabkir!H21+avan!H21+kentron!H21+erebuni!H21+shengavit!H21+malatia!H21+ararat!H21+aragacotn!H21+armavir!H21+kotayq!H21+gexarquniq!H21+tavush!H21+shirak!H21+ajapnyak!H21+syuniq!H21+lori!G8) -> 33 | I21: =SUM(arabkir!I21+avan!I21+kentron!I21+erebuni!I21+shengavit!I21+malatia!I21+ararat!I21+aragacotn!I21+armavir!I21+kotayq!I21+gexarquniq!I21+tavush!I21+shirak!I21+ajapnyak!I21+syuniq!I21+lori!H8) -> 5 | J21: =SUM(arabkir!J21+avan!J21+kentron!J21+erebuni!J21+shengavit!J21+malatia!J21+ararat!J21+aragacotn!J21+armavir!J21+kotayq!J21+gexarquniq!J21+tavush!J21+shirak!J21+ajapnyak!J21+syuniq!J21+lori!I8) -> 197 | K21: =SUM(arabkir!K21+avan!K21+kentron!K21+erebuni!K21+shengavit!K21+malatia!K21+ararat!K21+aragacotn!K21+armavir!K21+kotayq!K21+gexarquniq!K21+tavush!K21+shirak!K21+ajapnyak!K21+syuniq!K21+lori!J8) -> 492 | L21: =SUM(arabkir!L21+avan!L21+kentron!L21+erebuni!L21+shengavit!L21+malatia!L21+ararat!L21+aragacotn!L21+armavir!L21+kotayq!L21+gexarquniq!L21+tavush!L21+shirak!L21+ajapnyak!L21+syuniq!L21+lori!K8) -> 256 | ... V21: =SUM(arabkir!V21+avan!V21+kentron!V21+erebuni!V21+shengavit!V21+malatia!V21+ararat!V21+aragacotn!V21+armavir!V21+kotayq!V21+gexarquniq!V21+tavush!V21+shirak!V21+ajapnyak!V21+syuniq!V21+lori!U8) -> 30
A22: 2 | B22: ²ÝÑ³ï Ó»éÝ»ñ»óÇ ëÝ³ÝÏáõÃÛ³Ý í»ñ³µ»ñÛ³É | E22: =SUM(arabkir!E22+avan!E22+kentron!E22+erebuni!E22+shengavit!E22+malatia!E22+ararat!E22+aragacotn!E22+armavir!E22+kotayq!E22+gexarquniq!E22+tavush!E22+shirak!E22+ajapnyak!E22+syuniq!E22+lori!D9) -> 129 | F22: =SUM(arabkir!F22+avan!F22+kentron!F22+erebuni!F22+shengavit!F22+malatia!F22+ararat!F22+aragacotn!F22+armavir!F22+kotayq!F22+gexarquniq!F22+tavush!F22+shirak!F22+ajapnyak!F22+syuniq!F22+lori!E9) -> 119 | G22: =SUM(arabkir!G22+avan!G22+kentron!G22+erebuni!G22+shengavit!G22+malatia!G22+ararat!G22+aragacotn!G22+armavir!G22+kotayq!G22+gexarquniq!G22+tavush!G22+shirak!G22+ajapnyak!G22+syuniq!G22+lori!F9) -> 106 | H22: =SUM(arabkir!H22+avan!H22+kentron!H22+erebuni!H22+shengavit!H22+malatia!H22+ararat!H22+aragacotn!H22+armavir!H22+kotayq!H22+gexarquniq!H22+tavush!H22+shirak!H22+ajapnyak!H22+syuniq!H22+lori!G9) -> 13 | I22: =SUM(arabkir!I22+avan!I22+kentron!I22+erebuni!I22+shengavit!I22+malatia!I22+ararat!I22+aragacotn!I22+armavir!I22+kotayq!I22+gexarquniq!I22+tavush!I22+shirak!I22+ajapnyak!I22+syuniq!I22+lori!H9) -> 0 | J22: =SUM(arabkir!J22+avan!J22+kentron!J22+erebuni!J22+shengavit!J22+malatia!J22+ararat!J22+aragacotn!J22+armavir!J22+kotayq!J22+gexarquniq!J22+tavush!J22+shirak!J22+ajapnyak!J22+syuniq!J22+lori!I9) -> 40 | K22: =SUM(arabkir!K22+avan!K22+kentron!K22+erebuni!K22+shengavit!K22+malatia!K22+ararat!K22+aragacotn!K22+armavir!K22+kotayq!K22+gexarquniq!K22+tavush!K22+shirak!K22+ajapnyak!K22+syuniq!K22+lori!J9) -> 79 | L22: =SUM(arabkir!L22+avan!L22+kentron!L22+erebuni!L22+shengavit!L22+malatia!L22+ararat!L22+aragacotn!L22+armavir!L22+kotayq!L22+gexarquniq!L22+tavush!L22+shirak!L22+ajapnyak!L22+syuniq!L22+lori!K9) -> 44 | ... V22: =SUM(arabkir!V22+avan!V22+kentron!V22+erebuni!V22+shengavit!V22+malatia!V22+ararat!V22+aragacotn!V22+armavir!V22+kotayq!V22+gexarquniq!V22+tavush!V22+shirak!V22+ajapnyak!V22+syuniq!V22+lori!U9) -> 3
A23: 3 | B23: üÇ½ÇÏ³Ï³Ý ³ÝÓ³Ýó ëÝ³ÝÏáõÃÛ³Ý í»ñ³µ»ñÛ³É | E23: =SUM(arabkir!E23+avan!E23+kentron!E23+erebuni!E23+shengavit!E23+malatia!E23+ararat!E23+aragacotn!E23+armavir!E23+kotayq!E23+gexarquniq!E23+tavush!E23+shirak!E23+ajapnyak!E23+syuniq!E23+lori!D10) -> 484 | F23: =SUM(arabkir!F23+avan!F23+kentron!F23+erebuni!F23+shengavit!F23+malatia!F23+ararat!F23+aragacotn!F23+armavir!F23+kotayq!F23+gexarquniq!F23+tavush!F23+shirak!F23+ajapnyak!F23+syuniq!F23+lori!E10) -> 285 | G23: =SUM(arabkir!G23+avan!G23+kentron!G23+erebuni!G23+shengavit!G23+malatia!G23+ararat!G23+aragacotn!G23+armavir!G23+kotayq!G23+gexarquniq!G23+tavush!G23+shirak!G23+ajapnyak!G23+syuniq!G23+lori!F10) -> 214 | H23: =SUM(arabkir!H23+avan!H23+kentron!H23+erebuni!H23+shengavit!H23+malatia!H23+ararat!H23+aragacotn!H23+armavir!H23+kotayq!H23+gexarquniq!H23+tavush!H23+shirak!H23+ajapnyak!H23+syuniq!H23+lori!G10) -> 71 | I23: =SUM(arabkir!I23+avan!I23+kentron!I23+erebuni!I23+shengavit!I23+malatia!I23+ararat!I23+aragacotn!I23+armavir!I23+kotayq!I23+gexarquniq!I23+tavush!I23+shirak!I23+ajapnyak!I23+syuniq!I23+lori!H10) -> 0 | J23: =SUM(arabkir!J23+avan!J23+kentron!J23+erebuni!J23+shengavit!J23+malatia!J23+ararat!J23+aragacotn!J23+armavir!J23+kotayq!J23+gexarquniq!J23+tavush!J23+shirak!J23+ajapnyak!J23+syuniq!J23+lori!I10) -> 77 | K23: =SUM(arabkir!K23+avan!K23+kentron!K23+erebuni!K23+shengavit!K23+malatia!K23+ararat!K23+aragacotn!K23+armavir!K23+kotayq!K23+gexarquniq!K23+tavush!K23+shirak!K23+ajapnyak!K23+syuniq!K23+lori!J10) -> 208 | L23: =SUM(arabkir!L23+avan!L23+kentron!L23+erebuni!L23+shengavit!L23+malatia!L23+ararat!L23+aragacotn!L23+armavir!L23+kotayq!L23+gexarquniq!L23+tavush!L23+shirak!L23+ajapnyak!L23+syuniq!L23+lori!K10) -> 119 | ... N23: =SUM(arabkir!N23+avan!N23+kentron!N23+erebuni!N23+shengavit!N23+malatia!N23+ararat!N23+aragacotn!N23+armavir!N23+kotayq!N23+gexarquniq!N23+tavush!N23+shirak!N23+ajapnyak!N23+syuniq!N23+lori!M10) -> 0 | O23: =SUM(arabkir!N24+arabkir!N23+avan!O23+kentron!O23+erebuni!O23+shengavit!O23+malatia!O23+ararat!O23+aragacotn!O23+kotayq!O23+gexarquniq!O23+tavush!O23+shirak!O23+ajapnyak!O23+syuniq!O23+lori!N10) -> 2 | P23: =SUM(arabkir!P23+avan!P23+kentron!P23+erebuni!P23+shengavit!P23+malatia!P23+ararat!P23+aragacotn!P23+armavir!P23+kotayq!P23+gexarquniq!P23+tavush!P23+shirak!P23+ajapnyak!P23+syuniq!P23+lori!O10) -> 68 | Q23: =SUM(arabkir!Q23+avan!Q23+kentron!Q23+erebuni!Q23+shengavit!Q23+malatia!Q23+ararat!Q23+aragacotn!Q23+armavir!Q23+kotayq!Q23+gexarquniq!Q23+tavush!Q23+shirak!Q23+ajapnyak!Q23+syuniq!Q23+lori!P10) -> 1 | R23: =SUM(arabkir!R23+avan!R23+kentron!R23+erebuni!R23+shengavit!R23+malatia!R23+ararat!R23+aragacotn!R23+armavir!R23+kotayq!R23+gexarquniq!R23+tavush!R23+shirak!R23+ajapnyak!R23+syuniq!R23+lori!Q10) -> 0 | S23: =SUM(arabkir!S23+avan!S23+kentron!S23+erebuni!S23+shengavit!S23+malatia!S23+ararat!S23+aragacotn!S23+armavir!S23+kotayq!S23+gexarquniq!S23+tavush!S23+shirak!S23+ajapnyak!S23+syuniq!S23+lori!R10) -> 0 | T23: =SUM(arabkir!T23+avan!T23+kentron!T23+erebuni!T23+shengavit!T23+malatia!T23+ararat!T23+aragacotn!T23+armavir!T23+kotayq!T23+gexarquniq!T23+tavush!T23+shirak!T23+ajapnyak!T23+syuniq!T23+lori!S10) -> 235 | U23: =SUM(arabkir!U23+avan!U23+kentron!U23+erebuni!U23+shengavit!U23+malatia!U23+ararat!U23+aragacotn!U23+armavir!U23+kotayq!U23+gexarquniq!U23+tavush!U23+shirak!U23+ajapnyak!U23+syuniq!U23+lori!T10) -> 534 | V23: =SUM(arabkir!V23+avan!V23+kentron!V23+erebuni!V23+shengavit!V23+malatia!V23+ararat!V23+aragacotn!V23+armavir!V23+kotayq!V23+gexarquniq!V23+tavush!V23+shirak!V23+ajapnyak!V23+syuniq!V23+lori!U10) -> 12
B24: ԸՆԴԱՄԵՆԸ | E24: 1410 | F24: 1098 | G24: 981 | H24: 117 | I24: 5 | J24: 314 | K24: 779 | L24: 419 | M24: 81 | N24: 2 | O24: 3 | P24: 274 | Q24: 7 | R24: 0 | S24: 7 | T24: 663 | U24: 1845 | V24: 45
