Workbook

Sheet Ընդամենը
A1: Ð²ÞìºîìàôÂÚàôÜ
A2: ºðºì²ÜÆ ՇԵՆԳԱՎԻԹ ì²ðâ²Î²Ü Þðæ²ÜÆ ÀÜ¸Ð²Üàôð Æð²ì²êàôÂÚ²Ü ²è²æÆÜ ²îÚ²ÜÆ ¸²î²ð²ÜÆ
H3: ¶àðÌàôÜºàôÂÚ²Ü ìºð²´ºðÚ²È êÜ²ÜÎàôÂÚ²Ü ¶àðÌºðՈՎ | U3: 2017թ.
A4: ìÇ×³Ï³·ñ³Ï³Ý ïáÕÇ Ñ³Ù³ñÁ | E4: ²Ý³í³ñï ·áñÍ»ñÇ ÙÝ³óáñ¹Á Ñ³ßí»ïáõ Å³Ù³Ý³Ï³ßñç³ÝÇ ëÏ½µáõÙ | F4: êï³óí³Í ¹ÇÙáõÙÝ»ñÇ (·áñÍ»ñ) ù³Ý³ÏÁ | L4: öáË³Ýóí»É ¿ ³ÛÉ ¹³ï³íáñÇ (Ï³½ÙÇ ÷á÷áËáõÃÛáõÝ) | M4: ì³ñáõÛÃ ÁÝ¹áõÝí³Í ¹ÇÙáõÙÝ»ñáí Ï³Û³óí³Í ¹³ï³Ï³Ý ³Ïï»ñ | Q4: Ü»ñÏ³Û³óí»É ¿ ýÇÝ³Ýë³Ï³Ý ³éáÕç³óÙ³Ý Íñ³·Çñ | T4: ²í³ñïí»É »Ý ·áñÍ»ñ Ñ³ßí»ïáõ Å³Ù³Ý³Ï³ßñç³ÝáõÙ | U4: ²Ý³í³ñï ·áñÍ»ñÇ ÙÝ³óáñ¹Á Ñ³ßí»ïáõ Å³Ù³Ý³Ï³ßñç³ÝÇ í»ñçáõÙ | V4: ´áÕáù³ñÏí»É »Ý í»ñ³ùÝÝÇã ¹³ï³ñ³Ý
F6: ÀÝ¹³Ù»ÝÁ | G6: ³Û¹ ÃíáõÙ Ñ³ñÏ³¹ñí³Í ëÝ³ÝÏáõÃÛáõÝ | H6: ³Û¹ ÃíáõÙ Ï³Ù³íáñ ëÝ³ÝÏáõÃÛáõÝ | I6: ëï³óí³Í ¹ÇÙáõÙÝ»ñÇ ÁÝÃ³óùÁ | M6: Ï³Û³óí»É ¿ å³ñï³å³ÝÇÝ ëÝ³ÝÏ ×³Ý³ã»Éáõ Ù³ëÇÝ í×Çé | N6: å³ñï³å³ÝÇÝ ëÝ³ÝÏ ×³Ý³ã»Éáõ ¹ÇÙáõÙÁ Ù»ñÅí»É ¿ | O6: ¹ÇÙáõÙÁ ÃáÕÝí»É ¿ ³é³Ýó ùÝÝáõÃÛ³Ý | P6: ³Ý³í³ñï (³Û¹ ÃíáõÙ Ï³ë»óí³Í) | Q6: ÀÝ¹³Ù»ÝÁ | R6: ÃáÕÝí»É ¿ ³é³Ýó ùÝÝ³ñÏÙ³Ý | S6: Ñ³ëï³ïí»É ¿
I8: ¸ÇÙáõÙÇ ÁÝ¹áõÝáõÙÁ Ù»ñÅí»É ¿ | J8: ¸ÇÙáõÙÁ í»ñ³¹³ñÓí»É ¿ | K8: ÀÝ¹áõÝí»É ¿ í³ñáõÛÃ
E18: 1 | F18: 2 | G18: 3 | H18: 4 | I18: 5 | J18: 6 | K18: 7 | L18: 8 | M18: 9 | N18: 10 | O18: 11 | P18: 12 | Q18: 13 | R18: 14 | S18: 15 | T18: 16 | U18: 17 | V18: 18
A19: 1 | B19: Æñ³í³µ³Ý³Ï³Ý ³ÝÓÇ ëÝ³ÝÏáõÃÛ³Ý í»ñ³µ»ñÛ³É | E19: =Ա.Կուբանյան!E19+'Գ. Նարինյան'!E19+'--'!E19+Ն.Հովսեփյան!E19+Ա.Չիչոյան!E19 -> 191 | F19: =Ա.Կուբանյան!F19+'Գ. Նարինյան'!F19+'--'!F19+Ն.Հովսեփյան!F19+Ա.Չիչոյան!F19 -> 100 | G19: =Ա.Կուբանյան!G19+'Գ. Նարինյան'!G19+'--'!G19+Ն.Հովսեփյան!G19+Ա.Չիչոյան!G19 -> 100 | H19: =Ա.Կուբանյան!H19+'Գ. Նարինյան'!H19+'--'!H19+Ն.Հովսեփյան!H19+Ա.Չիչոյան!H19 -> 0 | I19: =Ա.Կուբանյան!I19+'Գ. Նարինյան'!I19+'--'!I19+Ն.Հովսեփյան!I19+Ա.Չիչոյան!I19 -> 0 | J19: =Ա.Կուբանյան!J19+'Գ. Նարինյան'!J19+'--'!J19+Ն.Հովսեփյան!J19+Ա.Չիչոյան!J19 -> 28 | K19: =Ա.Կուբանյան!K19+'Գ. Նարինյան'!K19+'--'!K19+Ն.Հովսեփյան!K19+Ա.Չիչոյան!K19 -> 72 | L19: =Ա.Կուբանյան!L19+'Գ. Նարինյան'!L19+'--'!L19+Ն.Հովսեփյան!L19+Ա.Չիչոյան!L19 -> 16 | ... V19: =Ա.Կուբանյան!V19+'Գ. Նարինյան'!V19+'--'!V19+Ն.Հովսեփյան!V19+Ա.Չիչոյան!V19 -> 18
A20: 2 | B20: ²ÝÑ³ï Ó»éÝ»ñ»óÇ ëÝ³ÝÏáõÃÛ³Ý í»ñ³µ»ñÛ³É | E20: =Ա.Կուբանյան!E20+'Գ. Նարինյան'!E20+'--'!E20+Ն.Հովսեփյան!E20+Ա.Չիչոյան!E20 -> 50 | F20: =Ա.Կուբանյան!F20+'Գ. Նարինյան'!F20+'--'!F20+Ն.Հովսեփյան!F20+Ա.Չիչոյան!F20 -> 55 | G20: =Ա.Կուբանյան!G20+'Գ. Նարինյան'!G20+'--'!G20+Ն.Հովսեփյան!G20+Ա.Չիչոյան!G20 -> 55 | H20: =Ա.Կուբանյան!H20+'Գ. Նարինյան'!H20+'--'!H20+Ն.Հովսեփյան!H20+Ա.Չիչոյան!H20 -> 0 | I20: =Ա.Կուբանյան!I20+'Գ. Նարինյան'!I20+'--'!I20+Ն.Հովսեփյան!I20+Ա.Չիչոյան!I20 -> 0 | J20: =Ա.Կուբանյան!J20+'Գ. Նարինյան'!J20+'--'!J20+Ն.Հովսեփյան!J20+Ա.Չիչոյան!J20 -> 14 | K20: =Ա.Կուբանյան!K20+'Գ. Նարինյան'!K20+'--'!K20+Ն.Հովսեփյան!K20+Ա.Չիչոյան!K20 -> 41 | L20: =Ա.Կուբանյան!L20+'Գ. Նարինյան'!L20+'--'!L20+Ն.Հովսեփյան!L20+Ա.Չիչոյան!L20 -> 11 | ... V20: =Ա.Կուբանյան!V20+'Գ. Նարինյան'!V20+'--'!V20+Ն.Հովսեփյան!V20+Ա.Չիչոյան!V20 -> 8
A21: 3 | B21: üÇ½ÇÏ³Ï³Ý ³ÝÓ³Ýó ëÝ³ÝÏáõÃÛ³Ý í»ñ³µ»ñÛ³É | E21: =Ա.Կուբանյան!E21+'Գ. Նարինյան'!E21+'--'!E21+Ն.Հովսեփյան!E21+Ա.Չիչոյան!E21 -> 133 | F21: =Ա.Կուբանյան!F21+'Գ. Նարինյան'!F21+'--'!F21+Ն.Հովսեփյան!F21+Ա.Չիչոյան!F21 -> 149 | G21: =Ա.Կուբանյան!G21+'Գ. Նարինյան'!G21+'--'!G21+Ն.Հովսեփյան!G21+Ա.Չիչոյան!G21 -> 124 | H21: =Ա.Կուբանյան!H21+'Գ. Նարինյան'!H21+'--'!H21+Ն.Հովսեփյան!H21+Ա.Չիչոյան!H21 -> 25 | I21: =Ա.Կուբանյան!I21+'Գ. Նարինյան'!I21+'--'!I21+Ն.Հովսեփյան!I21+Ա.Չիչոյան!I21 -> 3 | J21: =Ա.Կուբանյան!J21+'Գ. Նարինյան'!J21+'--'!J21+Ն.Հովսեփյան!J21+Ա.Չիչոյան!J21 -> 68 | K21: =Ա.Կուբանյան!K21+'Գ. Նարինյան'!K21+'--'!K21+Ն.Հովսեփյան!K21+Ա.Չիչոյան!K21 -> 78 | L21: =Ա.Կուբանյան!L21+'Գ. Նարինյան'!L21+'--'!L21+Ն.Հովսեփյան!L21+Ա.Չիչոյան!L21 -> 5 | ... V21: =Ա.Կուբանյան!V21+'Գ. Նարինյան'!V21+'--'!V21+Ն.Հովսեփյան!V21+Ա.Չիչոյան!V21 -> 8
A22: 4 | B22: ԸՆԴՀԱՄԵՆԸ | E22: =SUM(E19:E21) -> 374 | F22: =SUM(F19:F21) -> 304 | G22: =SUM(G19:G21) -> 279 | H22: =SUM(H19:H21) -> 25 | I22: =SUM(I19:I21) -> 3 | J22: =SUM(J19:J21) -> 110 | K22: =SUM(K19:K21) -> 191 | L22: =SUM(L19:L21) -> 32 | ... V22: =SUM(V19:V21) -> 34

Sheet Ա.Կուբանյան
A1: Ð²ÞìºîìàôÂÚàôÜ
A2: ºðºì²ÜÆ ՇԵՆԳԱՎԻԹ ì²ðâ²Î²Ü Þðæ²ÜÆ ÀÜ¸Ð²Üàôð Æð²ì²êàôÂÚ²Ü ²è²æÆÜ ²îÚ²ÜÆ ¸²î²ð²ÜÆ ԴԱՏԱՎՈՐ
A3: Ա. ԿՈՒԲԱՆՅԱՆԻ | H3: ¶àðÌàôÜºàôÂÚ²Ü ìºð²´ºðÚ²È êÜ²ÜÎàôÂÚ²Ü ¶àðÌºðՈՎ | U3: 2017
A4: ìÇ×³Ï³·ñ³Ï³Ý ïáÕÇ Ñ³Ù³ñÁ | E4: ²Ý³í³ñï ·áñÍ»ñÇ ÙÝ³óáñ¹Á Ñ³ßí»ïáõ Å³Ù³Ý³Ï³ßñç³ÝÇ ëÏ½µáõÙ | F4: êï³óí³Í ¹ÇÙáõÙÝ»ñÇ (·áñÍ»ñ) ù³Ý³ÏÁ | L4: öáË³Ýóí»É ¿ ³ÛÉ ¹³ï³íáñÇ (Ï³½ÙÇ ÷á÷áËáõÃÛáõÝ) | M4: ì³ñáõÛÃ ÁÝ¹áõÝí³Í ¹ÇÙáõÙÝ»ñáí Ï³Û³óí³Í ¹³ï³Ï³Ý ³Ïï»ñ | Q4: Ü»ñÏ³Û³óí»É ¿ ýÇÝ³Ýë³Ï³Ý ³éáÕç³óÙ³Ý Íñ³·Çñ | T4: ²í³ñïí»É »Ý ·áñÍ»ñ Ñ³ßí»ïáõ Å³Ù³Ý³Ï³ßñç³ÝáõÙ | U4: ²Ý³í³ñï ·áñÍ»ñÇ ÙÝ³óáñ¹Á Ñ³ßí»ïáõ Å³Ù³Ý³Ï³ßñç³ÝÇ í»ñçáõÙ | V4: ´áÕáù³ñÏí»É »Ý í»ñ³ùÝÝÇã ¹³ï³ñ³Ý
F6: ÀÝ¹³Ù»ÝÁ | G6: ³Û¹ ÃíáõÙ Ñ³ñÏ³¹ñí³Í ëÝ³ÝÏáõÃÛáõÝ | H6: ³Û¹ ÃíáõÙ Ï³Ù³íáñ ëÝ³ÝÏáõÃÛáõÝ | I6: ëï³óí³Í ¹ÇÙáõÙÝ»ñÇ ÁÝÃ³óùÁ | M6: Ï³Û³óí»É ¿ å³ñï³å³ÝÇÝ ëÝ³ÝÏ ×³Ý³ã»Éáõ Ù³ëÇÝ í×Çé | N6: å³ñï³å³ÝÇÝ ëÝ³ÝÏ ×³Ý³ã»Éáõ ¹ÇÙáõÙÁ Ù»ñÅí»É ¿ | O6: ¹ÇÙáõÙÁ ÃáÕÝí»É ¿ ³é³Ýó ùÝÝáõÃÛ³Ý | P6: ³Ý³í³ñï (³Û¹ ÃíáõÙ Ï³ë»óí³Í) | Q6: ÀÝ¹³Ù»ÝÁ | R6: ÃáÕÝí»É ¿ ³é³Ýó ùÝÝ³ñÏÙ³Ý | S6: Ñ³ëï³ïí»É ¿
I8: ¸ÇÙáõÙÇ ÁÝ¹áõÝáõÙÁ Ù»ñÅí»É ¿ | J8: ¸ÇÙáõÙÁ í»ñ³¹³ñÓí»É ¿ | K8: ÀÝ¹áõÝí»É ¿ í³ñáõÛÃ
E18: 1 | F18: 2 | G18: 3 | H18: 4 | I18: 5 | J18: 6 | K18: 7 | L18: 8 | M18: 9 | N18: 10 | O18: 11 | P18: 12 | Q18: 13 | R18: 14 | S18: 15 | T18: 16 | U18: 17 | V18: 18
A19: 1 | B19: Æñ³í³µ³Ý³Ï³Ý ³ÝÓÇ ëÝ³ÝÏáõÃÛ³Ý í»ñ³µ»ñÛ³É | E19: 90 | F19: 45 | G19: 45 | J19: 21 | K19: 24 | M19: 7 | N19: 2 | P19: 14 | T19: 25 | U19: 89 | V19: 13
A20: 2 | B20: ²ÝÑ³ï Ó»éÝ»ñ»óÇ ëÝ³ÝÏáõÃÛ³Ý í»ñ³µ»ñÛ³É | E20: 13 | F20: 18 | G20: 18 | J20: 12 | K20: 6 | M20: 1 | P20: 5 | T20: 5 | U20: 14 | V20: 6
A21: 3 | B21: üÇ½ÇÏ³Ï³Ý ³ÝÓ³Ýó ëÝ³ÝÏáõÃÛ³Ý í»ñ³µ»ñÛ³É | E21: 65 | F21: 66 | G21: 55 | H21: 11 | J21: 51 | K21: 15 | M21: 7 | N21: 4 | P21: 4 | T21: 14 | U21: 66 | V21: 2
A22: 4 | B22: ԸՆԴՀԱՄԵՆԸ | E22: =SUM(E19:E21) -> 168 | F22: =SUM(F19:F21) -> 129 | G22: =SUM(G19:G21) -> 118 | H22: =SUM(H19:H21) -> 11 | I22: =SUM(I19:I21) -> 0 | J22: =SUM(J19:J21) -> 84 | K22: =SUM(K19:K21) -> 45 | L22: =SUM(L19:L21) -> 0 | ... V22: =SUM(V19:V21) -> 21
D28: Ծանոթություն. 1 գործ կարճվել է

Sheet Գ. Նարինյան
A1: Ð²ÞìºîìàôÂÚàôÜ
A2: ºðºì²ÜÆ ՇԵՆԳԱՎԻԹ ì²ðâ²Î²Ü Þðæ²ÜÆ ÀÜ¸Ð²Üàôð Æð²ì²êàôÂÚ²Ü ²è²æÆÜ ²îÚ²ÜÆ ¸²î²ð²ÜÆ ԴԱՏԱՎՈՐ
A3: ¶.Ü²ðÆÜÚ²ÜÆ | H3: ¶àðÌàôÜºàôÂÚ²Ü ìºð²´ºðÚ²È êÜ²ÜÎàôÂÚ²Ü ¶àðÌºðՈՎ | U3: 2017թ.
A4: ìÇ×³Ï³·ñ³Ï³Ý ïáÕÇ Ñ³Ù³ñÁ | E4: ²Ý³í³ñï ·áñÍ»ñÇ ÙÝ³óáñ¹Á Ñ³ßí»ïáõ Å³Ù³Ý³Ï³ßñç³ÝÇ ëÏ½µáõÙ | F4: êï³óí³Í ¹ÇÙáõÙÝ»ñÇ (·áñÍ»ñ) ù³Ý³ÏÁ | L4: öáË³Ýóí»É ¿ ³ÛÉ ¹³ï³íáñÇ (Ï³½ÙÇ ÷á÷áËáõÃÛáõÝ) | M4: ì³ñáõÛÃ ÁÝ¹áõÝí³Í ¹ÇÙáõÙÝ»ñáí Ï³Û³óí³Í ¹³ï³Ï³Ý ³Ïï»ñ | Q4: Ü»ñÏ³Û³óí»É ¿ ýÇÝ³Ýë³Ï³Ý ³éáÕç³óÙ³Ý Íñ³·Çñ | T4: ²í³ñïí»É »Ý ·áñÍ»ñ Ñ³ßí»ïáõ Å³Ù³Ý³Ï³ßñç³ÝáõÙ | U4: ²Ý³í³ñï ·áñÍ»ñÇ ÙÝ³óáñ¹Á Ñ³ßí»ïáõ Å³Ù³Ý³Ï³ßñç³ÝÇ í»ñçáõÙ | V4: ´áÕáù³ñÏí»É »Ý í»ñ³ùÝÝÇã ¹³ï³ñ³Ý
F6: ÀÝ¹³Ù»ÝÁ | G6: ³Û¹ ÃíáõÙ Ñ³ñÏ³¹ñí³Í ëÝ³ÝÏáõÃÛáõÝ | H6: ³Û¹ ÃíáõÙ Ï³Ù³íáñ ëÝ³ÝÏáõÃÛáõÝ | I6: ëï³óí³Í ¹ÇÙáõÙÝ»ñÇ ÁÝÃ³óùÁ | M6: Ï³Û³óí»É ¿ å³ñï³å³ÝÇÝ ëÝ³ÝÏ ×³Ý³ã»Éáõ Ù³ëÇÝ í×Çé | N6: å³ñï³å³ÝÇÝ ëÝ³ÝÏ ×³Ý³ã»Éáõ ¹ÇÙáõÙÁ Ù»ñÅí»É ¿ | O6: ¹ÇÙáõÙÁ ÃáÕÝí»É ¿ ³é³Ýó ùÝÝáõÃÛ³Ý | P6: ³Ý³í³ñï (³Û¹ ÃíáõÙ Ï³ë»óí³Í) | Q6: ÀÝ¹³Ù»ÝÁ | R6: ÃáÕÝí»É ¿ ³é³Ýó ùÝÝ³ñÏÙ³Ý | S6: Ñ³ëï³ïí»É ¿
I8: ¸ÇÙáõÙÇ ÁÝ¹áõÝáõÙÁ Ù»ñÅí»É ¿ | J8: ¸ÇÙáõÙÁ í»ñ³¹³ñÓí»É ¿ | K8: ÀÝ¹áõÝí»É ¿ í³ñáõÛÃ
E18: 1 | F18: 2 | G18: 3 | H18: 4 | I18: 5 | J18: 6 | K18: 7 | L18: 8 | M18: 9 | N18: 10 | O18: 11 | P18: 12 | Q18: 13 | R18: 14 | S18: 15 | T18: 16 | U18: 17 | V18: 18
A19: 1 | B19: Æñ³í³µ³Ý³Ï³Ý ³ÝÓÇ ëÝ³ÝÏáõÃÛ³Ý í»ñ³µ»ñÛ³É | E19: 5 | F19: 15 | G19: 15 | K19: 15 | L19: 16 | M19: 11 | N19: 2 | P19: 2 | Q19: 1 | R19: 1 | T19: 4 | V19: 3
A20: 2 | B20: ²ÝÑ³ï Ó»éÝ»ñ»óÇ ëÝ³ÝÏáõÃÛ³Ý í»ñ³µ»ñÛ³É | E20: 2 | F20: 10 | G20: 10 | K20: 10 | L20: 11 | M20: 8 | P20: 2 | T20: 1
A21: 3 | B21: üÇ½ÇÏ³Ï³Ý ³ÝÓ³Ýó ëÝ³ÝÏáõÃÛ³Ý í»ñ³µ»ñÛ³É | E21: 1 | F21: 7 | G21: 4 | H21: 3 | J21: 2 | K21: 5 | L21: 5 | M21: 3 | N21: 1 | P21: 1 | T21: 1
A22: 4 | B22: ԸՆԴՀԱՄԵՆԸ | E22: =SUM(E19:E21) -> 8 | F22: =SUM(F19:F21) -> 32 | G22: =SUM(G19:G21) -> 29 | H22: =SUM(H19:H21) -> 3 | I22: =SUM(I19:I21) -> 0 | J22: =SUM(J19:J21) -> 2 | K22: =SUM(K19:K21) -> 30 | L22: =SUM(L19:L21) -> 32 | ... V22: =SUM(V19:V21) -> 3

Sheet --
A1: Ð²ÞìºîìàôÂÚàôÜ
A2: ºðºì²ÜÆ ՇԵՆԳԱՎԻԹ ì²ðâ²Î²Ü Þðæ²ÜÆ ÀÜ¸Ð²Üàôð Æð²ì²êàôÂÚ²Ü ²è²æÆÜ ²îÚ²ÜÆ ¸²î²ð²ÜÆ ԴԱՏԱՎՈՐ
H3: ¶àðÌàôÜºàôÂÚ²Ü ìºð²´ºðÚ²È êÜ²ÜÎàôÂÚ²Ü ¶àðÌºðՈՎ
A4: ìÇ×³Ï³·ñ³Ï³Ý ïáÕÇ Ñ³Ù³ñÁ | B4: êïáõ·Çã Ñ³í³ë³ñáõÙÝ»ñ` 1+7=8+16+17, 2=3+4, 2=5+6+7, 7=9+10+11+12 | E4: ²Ý³í³ñï ·áñÍ»ñÇ ÙÝ³óáñ¹Á Ñ³ßí»ïáõ Å³Ù³Ý³Ï³ßñç³ÝÇ ëÏ½µáõÙ | F4: êï³óí³Í ¹ÇÙáõÙÝ»ñÇ (·áñÍ»ñ) ù³Ý³ÏÁ | L4: öáË³Ýóí»É ¿ ³ÛÉ ¹³ï³íáñÇ (Ï³½ÙÇ ÷á÷áËáõÃÛáõÝ) | M4: ì³ñáõÛÃ ÁÝ¹áõÝí³Í ¹ÇÙáõÙÝ»ñáí Ï³Û³óí³Í ¹³ï³Ï³Ý ³Ïï»ñ | Q4: Ü»ñÏ³Û³óí»É ¿ ýÇÝ³Ýë³Ï³Ý ³éáÕç³óÙ³Ý Íñ³·Çñ | T4: ²í³ñïí»É »Ý ·áñÍ»ñ Ñ³ßí»ïáõ Å³Ù³Ý³Ï³ßñç³ÝáõÙ | U4: ²Ý³í³ñï ·áñÍ»ñÇ ÙÝ³óáñ¹Á Ñ³ßí»ïáõ Å³Ù³Ý³Ï³ßñç³ÝÇ í»ñçáõÙ | V4: ´áÕáù³ñÏí»É »Ý í»ñ³ùÝÝÇã ¹³ï³ñ³Ý
F6: ÀÝ¹³Ù»ÝÁ | G6: ³Û¹ ÃíáõÙ Ñ³ñÏ³¹ñí³Í ëÝ³ÝÏáõÃÛáõÝ | H6: ³Û¹ ÃíáõÙ Ï³Ù³íáñ ëÝ³ÝÏáõÃÛáõÝ | I6: ëï³óí³Í ¹ÇÙáõÙÝ»ñÇ ÁÝÃ³óùÁ | M6: Ï³Û³óí»É ¿ å³ñï³å³ÝÇÝ ëÝ³ÝÏ ×³Ý³ã»Éáõ Ù³ëÇÝ í×Çé | N6: å³ñï³å³ÝÇÝ ëÝ³ÝÏ ×³Ý³ã»Éáõ ¹ÇÙáõÙÁ Ù»ñÅí»É ¿ | O6: ¹ÇÙáõÙÁ ÃáÕÝí»É ¿ ³é³Ýó ùÝÝáõÃÛ³Ý | P6: ³Ý³í³ñï (³Û¹ ÃíáõÙ Ï³ë»óí³Í) | Q6: ÀÝ¹³Ù»ÝÁ | R6: ÃáÕÝí»É ¿ ³é³Ýó ùÝÝ³ñÏÙ³Ý | S6: Ñ³ëï³ïí»É ¿
I8: ¸ÇÙáõÙÇ ÁÝ¹áõÝáõÙÁ Ù»ñÅí»É ¿ | J8: ¸ÇÙáõÙÁ í»ñ³¹³ñÓí»É ¿ | K8: ÀÝ¹áõÝí»É ¿ í³ñáõÛÃ
E18: 1 | F18: 2 | G18: 3 | H18: 4 | I18: 5 | J18: 6 | K18: 7 | L18: 8 | M18: 9 | N18: 10 | O18: 11 | P18: 12 | Q18: 13 | R18: 14 | S18: 15 | T18: 16 | U18: 17 | V18: 18 | W18: 1+7=8+16+17 | Y18: 2=3+4 | AA18: 2=5+6+7 | AC18: 7=9+10+11+12
A19: 1 | B19: Æñ³í³µ³Ý³Ï³Ý ³ÝÓÇ ëÝ³ÝÏáõÃÛ³Ý í»ñ³µ»ñÛ³É | W19: =E19+K19 -> 0 | X19: =L19+T19+U19 -> 0 | Y19: =F19 -> 0 | Z19: =G19+H19 -> 0 | AA19: =F19 -> 0 | AB19: =I19+J19+K19 -> 0 | AC19: =K19 -> 0 | AD19: =M19+N19+O19+P19 -> 0
A20: 2 | B20: ²ÝÑ³ï Ó»éÝ»ñ»óÇ ëÝ³ÝÏáõÃÛ³Ý í»ñ³µ»ñÛ³É | W20: =E20+K20 -> 0 | X20: =L20+T20+U20 -> 0 | Y20: =F20 -> 0 | Z20: =G20+H20 -> 0 | AA20: =F20 -> 0 | AB20: =I20+J20+K20 -> 0 | AC20: =K20 -> 0 | AD20: =M20+N20+O20+P20 -> 0
A21: 3 | B21: üÇ½ÇÏ³Ï³Ý ³ÝÓ³Ýó ëÝ³ÝÏáõÃÛ³Ý í»ñ³µ»ñÛ³É | W21: =E21+K21 -> 0 | X21: =L21+T21+U21 -> 0 | Y21: =F21 -> 0 | Z21: =G21+H21 -> 0 | AA21: =F21 -> 0 | AB21: =I21+J21+K21 -> 0 | AC21: =K21 -> 0 | AD21: =M21+N21+O21+P21 -> 0
A22: 4 | B22: ԸՆԴՀԱՄԵՆԸ | W22: =E22+K22 -> 0 | X22: =L22+T22+U22 -> 0 | Y22: =F22 -> 0 | Z22: =G22+H22 -> 0 | AA22: =F22 -> 0 | AB22: =I22+J22+K22 -> 0 | AC22: =K22 -> 0 | AD22: =M22+N22+O22+P22 -> 0

Sheet Ն.Հովսեփյան
A1: Ð²ÞìºîìàôÂÚàôÜ
A2: ºðºì²ÜÆ ՇԵՆԳԱՎԻԹ ì²ðâ²Î²Ü Þðæ²ÜÆ ÀÜ¸Ð²Üàôð Æð²ì²êàôÂÚ²Ü ²è²æÆÜ ²îÚ²ÜÆ ¸²î²ð²ÜÆ ԴԱՏԱՎՈՐ
A3: Ü. ÐàìêºöÚ²Ü | H3: ¶àðÌàôÜºàôÂÚ²Ü ìºð²´ºðÚ²È êÜ²ÜÎàôÂÚ²Ü ¶àðÌºðՈՎ | U3: 2017թ.
A4: ìÇ×³Ï³·ñ³Ï³Ý ïáÕÇ Ñ³Ù³ñÁ | E4: ²Ý³í³ñï ·áñÍ»ñÇ ÙÝ³óáñ¹Á Ñ³ßí»ïáõ Å³Ù³Ý³Ï³ßñç³ÝÇ ëÏ½µáõÙ | F4: êï³óí³Í ¹ÇÙáõÙÝ»ñÇ (·áñÍ»ñ) ù³Ý³ÏÁ | L4: öáË³Ýóí»É ¿ ³ÛÉ ¹³ï³íáñÇ (Ï³½ÙÇ ÷á÷áËáõÃÛáõÝ) | M4: ì³ñáõÛÃ ÁÝ¹áõÝí³Í ¹ÇÙáõÙÝ»ñáí Ï³Û³óí³Í ¹³ï³Ï³Ý ³Ïï»ñ | Q4: Ü»ñÏ³Û³óí»É ¿ ýÇÝ³Ýë³Ï³Ý ³éáÕç³óÙ³Ý Íñ³·Çñ | T4: ²í³ñïí»É »Ý ·áñÍ»ñ Ñ³ßí»ïáõ Å³Ù³Ý³Ï³ßñç³ÝáõÙ | U4: ²Ý³í³ñï ·áñÍ»ñÇ ÙÝ³óáñ¹Á Ñ³ßí»ïáõ Å³Ù³Ý³Ï³ßñç³ÝÇ í»ñçáõÙ | V4: ´áÕáù³ñÏí»É »Ý í»ñ³ùÝÝÇã ¹³ï³ñ³Ý
F6: ÀÝ¹³Ù»ÝÁ | G6: ³Û¹ ÃíáõÙ Ñ³ñÏ³¹ñí³Í ëÝ³ÝÏáõÃÛáõÝ | H6: ³Û¹ ÃíáõÙ Ï³Ù³íáñ ëÝ³ÝÏáõÃÛáõÝ | I6: ëï³óí³Í ¹ÇÙáõÙÝ»ñÇ ÁÝÃ³óùÁ | M6: Ï³Û³óí»É ¿ å³ñï³å³ÝÇÝ ëÝ³ÝÏ ×³Ý³ã»Éáõ Ù³ëÇÝ í×Çé | N6: å³ñï³å³ÝÇÝ ëÝ³ÝÏ ×³Ý³ã»Éáõ ¹ÇÙáõÙÁ Ù»ñÅí»É ¿ | O6: ¹ÇÙáõÙÁ ÃáÕÝí»É ¿ ³é³Ýó ùÝÝáõÃÛ³Ý | P6: ³Ý³í³ñï (³Û¹ ÃíáõÙ Ï³ë»óí³Í) | Q6: ÀÝ¹³Ù»ÝÁ | R6: ÃáÕÝí»É ¿ ³é³Ýó ùÝÝ³ñÏÙ³Ý | S6: Ñ³ëï³ïí»É ¿
I8: ¸ÇÙáõÙÇ ÁÝ¹áõÝáõÙÁ Ù»ñÅí»É ¿ | J8: ¸ÇÙáõÙÁ í»ñ³¹³ñÓí»É ¿ | K8: ÀÝ¹áõÝí»É ¿ í³ñáõÛÃ
E18: 1 | F18: 2 | G18: 3 | H18: 4 | I18: 5 | J18: 6 | K18: 7 | L18: 8 | M18: 9 | N18: 10 | O18: 11 | P18: 12 | Q18: 13 | R18: 14 | S18: 15 | T18: 16 | U18: 17 | V18: 18
A19: 1 | B19: Æñ³í³µ³Ý³Ï³Ý ³ÝÓÇ ëÝ³ÝÏáõÃÛ³Ý í»ñ³µ»ñÛ³É | F19: 1 | G19: 1 | K19: 1 | P19: 1 | U19: 1
A20: 2 | B20: ²ÝÑ³ï Ó»éÝ»ñ»óÇ ëÝ³ÝÏáõÃÛ³Ý í»ñ³µ»ñÛ³É | F20: 1 | G20: 1 | K20: 1 | P20: 1 | U20: 1
A21: 3 | B21: üÇ½ÇÏ³Ï³Ý ³ÝÓ³Ýó ëÝ³ÝÏáõÃÛ³Ý í»ñ³µ»ñÛ³É | E21: 2 | F21: 1 | G21: 1 | K21: 1 | P21: 1 | U21: 3
A22: 4 | B22: ԸՆԴՀԱՄԵՆԸ | E22: 2 | F22: 3 | G22: 3 | K22: 3 | P22: 3 | U22: 5

Sheet Ա.Չիչոյան
A1: Ð²ÞìºîìàôÂÚàôÜ
A2: ºðºì²ÜÆ ՇԵՆԳԱՎԻԹ ì²ðâ²Î²Ü Þðæ²ÜÆ ÀÜ¸Ð²Üàôð Æð²ì²êàôÂÚ²Ü ²è²æÆÜ ²îÚ²ÜÆ ¸²î²ð²ÜÆ ԴԱՏԱՎՈՐ
A3: ². âÆâàÚ²ÜÆ | H3: ¶àðÌàôÜºàôÂÚ²Ü ìºð²´ºðÚ²È êÜ²ÜÎàôÂÚ²Ü ¶àðÌºðՈՎ | U3: 2017թ.
A4: ìÇ×³Ï³·ñ³Ï³Ý ïáÕÇ Ñ³Ù³ñÁ | E4: ²Ý³í³ñï ·áñÍ»ñÇ ÙÝ³óáñ¹Á Ñ³ßí»ïáõ Å³Ù³Ý³Ï³ßñç³ÝÇ ëÏ½µáõÙ | F4: êï³óí³Í ¹ÇÙáõÙÝ»ñÇ (·áñÍ»ñ) ù³Ý³ÏÁ | L4: öáË³Ýóí»É ¿ ³ÛÉ ¹³ï³íáñÇ (Ï³½ÙÇ ÷á÷áËáõÃÛáõÝ) | M4: ì³ñáõÛÃ ÁÝ¹áõÝí³Í ¹ÇÙáõÙÝ»ñáí Ï³Û³óí³Í ¹³ï³Ï³Ý ³Ïï»ñ | Q4: Ü»ñÏ³Û³óí»É ¿ ýÇÝ³Ýë³Ï³Ý ³éáÕç³óÙ³Ý Íñ³·Çñ | T4: ²í³ñïí»É »Ý ·áñÍ»ñ Ñ³ßí»ïáõ Å³Ù³Ý³Ï³ßñç³ÝáõÙ | U4: ²Ý³í³ñï ·áñÍ»ñÇ ÙÝ³óáñ¹Á Ñ³ßí»ïáõ Å³Ù³Ý³Ï³ßñç³ÝÇ í»ñçáõÙ | V4: ´áÕáù³ñÏí»É »Ý í»ñ³ùÝÝÇã ¹³ï³ñ³Ý
F6: ÀÝ¹³Ù»ÝÁ | G6: ³Û¹ ÃíáõÙ Ñ³ñÏ³¹ñí³Í ëÝ³ÝÏáõÃÛáõÝ | H6: ³Û¹ ÃíáõÙ Ï³Ù³íáñ ëÝ³ÝÏáõÃÛáõÝ | I6: ëï³óí³Í ¹ÇÙáõÙÝ»ñÇ ÁÝÃ³óùÁ | M6: Ï³Û³óí»É ¿ å³ñï³å³ÝÇÝ ëÝ³ÝÏ ×³Ý³ã»Éáõ Ù³ëÇÝ í×Çé | N6: å³ñï³å³ÝÇÝ ëÝ³ÝÏ ×³Ý³ã»Éáõ ¹ÇÙáõÙÁ Ù»ñÅí»É ¿ | O6: ¹ÇÙáõÙÁ ÃáÕÝí»É ¿ ³é³Ýó ùÝÝáõÃÛ³Ý | P6: ³Ý³í³ñï (³Û¹ ÃíáõÙ Ï³ë»óí³Í) | Q6: ÀÝ¹³Ù»ÝÁ | R6: ÃáÕÝí»É ¿ ³é³Ýó ùÝÝ³ñÏÙ³Ý | S6: Ñ³ëï³ïí»É ¿
I8: ¸ÇÙáõÙÇ ÁÝ¹áõÝáõÙÁ Ù»ñÅí»É ¿ | J8: ¸ÇÙáõÙÁ í»ñ³¹³ñÓí»É ¿ | K8: ÀÝ¹áõÝí»É ¿ í³ñáõÛÃ
E18: 1 | F18: 2 | G18: 3 | H18: 4 | I18: 5 | J18: 6 | K18: 7 | L18: 8 | M18: 9 | N18: 10 | O18: 11 | P18: 12 | Q18: 13 | R18: 14 | S18: 15 | T18: 16 | U18: 17 | V18: 18
A19: 1 | B19: Æñ³í³µ³Ý³Ï³Ý ³ÝÓÇ ëÝ³ÝÏáõÃÛ³Ý í»ñ³µ»ñÛ³É | E19: 96 | F19: 39 | G19: 39 | J19: 7 | K19: 32 | M19: 12 | N19: 3 | P19: 13 | Q19: 1 | S19: 1 | T19: 13 | U19: 115 | V19: 2
A20: 2 | B20: ²ÝÑ³ï Ó»éÝ»ñ»óÇ ëÝ³ÝÏáõÃÛ³Ý í»ñ³µ»ñÛ³É | E20: 35 | F20: 26 | G20: 26 | J20: 2 | K20: 24 | M20: 4 | N20: 3 | P20: 17 | Q20: 1 | S20: 1 | T20: 7 | U20: 52 | V20: 2
A21: 3 | B21: üÇ½ÇÏ³Ï³Ý ³ÝÓ³Ýó ëÝ³ÝÏáõÃÛ³Ý í»ñ³µ»ñÛ³É | E21: 65 | F21: 75 | G21: 64 | H21: 11 | I21: 3 | J21: 15 | K21: 57 | M21: 15 | N21: 2 | P21: 39 | Q21: 1 | S21: 1 | T21: 13 | U21: 109 | V21: 6
A22: 4 | B22: ԸՆԴՀԱՄԵՆԸ | E22: =SUM(E19:E21) -> 196 | F22: =SUM(F19:F21) -> 140 | G22: =SUM(G19:G21) -> 129 | H22: =SUM(H19:H21) -> 11 | I22: =SUM(I19:I21) -> 3 | J22: =SUM(J19:J21) -> 24 | K22: =SUM(K19:K21) -> 113 | L22: =SUM(L19:L21) -> 0 | ... V22: =SUM(V19:V21) -> 10
B25: Ծանոթություն. 5 գործ կարճվել է
