Workbook

Sheet Ընդհանուր
A1: 2019թ. 1-ին կիսամյակ | E1: Ð²ÞìºîìàôÂÚàôÜ
A2: ÐÐ ²è²æÆÜ ²îÚ²ÜÆ ÀÜ¸Ð²Üàôð Æð²ì²êàôÂÚ²Ü ¸²î²ð²ÜàôØ ø²Ô²ø²òÆ²Î²Ü ¶àðÌºðÆ øÜÜàôÂÚ²Ü ìºð²´ºðÚ²È
A4: êïáõ·Çã Ñ³í³ë³ñáõÙÝ»ñª 1=2+3+4+5, 6=7+8+9, 2+3+7=20+21+23, 10=11+12+13+14+15, 15=16+17+18, 20=10+19, 27=25+26, 30=28+29 | E4: Ð³ßí»ïáõ Å³Ù³Ý³Ï³Ñ³ïí³ÍáõÙ Ý³Ëáñ¹ Ñ³ßí»ïáõ Å³Ù³Ý³Ï³Ñ³ïí³ÍÇó ÷áË³Ýóí³Í ·áñÍ»ñÇ ÁÝ¹Ñ³Ýáõñ ÃÇíÁ | J4: Ð³ßí»ïáõ Å³Ù³Ý³Ï³Ñ³ïí³ÍáõÙëï³óí³Í ·áñÍ»ñÇ (³Û¹ ÃíáõÙ` Ñ³Ûó³¹ÇÙáõÙÝ»ñÇ, ¹ÇÙáõÙÝ»ñÇ) ÁÝ¹Ñ³Ýáõñ ÃÇíÁ | N4: Ð³ßí»ïáõ Å³Ù³Ý³Ï³Ñ³ïí³ÍáõÙ ³í³ñïí³Í ·áñÍ»ñÇ ÁÝ¹Ñ³Ýáõñ ÃÇíÁ | Y4: ¶áñÍÝ áõÕ³ñÏí»É ¿ Áëï ÁÝ¹¹³ïáõÃÛ³Ý | Z4: Ð³ßí»ïáõ Å³Ù³Ý³Ï³Ñ³ïí³ÍáõÙ Ï³ë»óí³Í í³ñáõÛÃÝ»ñáí ·áñÍ»ñÇ ÁÝ¹Ñ³Ýáõñ ÃÇíÁ | AA4: Ð³ßí»ïáõ Å³Ù³Ý³Ï³Ñ³ïí³ÍáõÙ ³Ý³í³ñï ·áñÍ»ñÇ ÁÝ¹Ñ³Ýáõñ ÃÇíÁ | AB4: ²Û¹ ÃíáõÙª Ï³ë»óí³Í | AC4: ´áÕáù³ñÏí³Í ¹³ï³Ï³Ý ³Ïï»ñÇ ÃÇíÁ` Áëï ï»ë³ÏÝ»ñÇ | AF4: ´»Ï³Ýí³Í ¹³ï³Ï³Ý ³Ïï»ñÇ ÃÇíÁ` Áëï ï»ë³ÏÝ»ñÇ
E7: ÀÝ¹³Ù»ÝÁ | F7: ²Û¹ ÃíáõÙ`Ï³ë»óí³Í íÇ×³ÏáõÙ ÷áË³Ýóí³Í | G7: ²Û¹ ÃíáõÙª ÁÝ¹áõÝí»É ¿ í³ñáõÛÃ | H7: ²Û¹ ÃíáõÙª í»ñ³¹³ñÓí»É ¿ | I7: ²Û¹ ÃíáõÙª ÁÝ¹áõÝáõÙÁ Ù»ñÅí»É ¿ | J7: ÀÝ¹³Ù»ÝÁ | K7: ²Û¹ ÃíáõÙª ÁÝ¹áõÝí»É ¿ í³ñáõÛÃ | L7: ²Û¹ ÃíáõÙª í»ñ³¹³ñÓí»É ¿ | M7: ²Û¹ ÃíáõÙª ÁÝ¹áõÝáõÙÁ Ù»ñÅí»É ¿ | N7: ÀÝ¹³Ù»ÝÁ ³í³ñïí»É »Ý ·áñÍ»ñ ·áñÍÝ Áëï ¿áõÃÛ³Ý ÉáõÍáÕ ¹³ï³Ï³Ý ³Ïï»ñÇ (í×ÇéÝ»ñÇ) Ï³Û³óÙ³Ùµ | O7: ²Û¹ ÃíáõÙª Ñ³ÛóÇ µ³í³ñ³ñÙ³Ùµ | P7: ²Û¹ ÃíáõÙª Ñ³ÛóÇ Ù³ëÝ³ÏÇ µ³í³ñ³ñÙ³Ùµ | Q7: ²Û¹ ÃíáõÙª Ñ³ÛóÇ Ù»ñÅÙ³Ùµ | R7: Ø³ëáí Ï³ñ×í»É ¿, Ù³ëáí Ù»ñÅí»É | S7: ²Û¹ ÃíáõÙª Ï³ñ×í»É »Ý | W7: Ð³ÛóÁ ÃáÕÝí»É ¿ ³é³Ýó ùÝÝáõÃÛ³Ý | X7: ÀÝ¹³Ù»ÝÝ ³í³ñïí»É »Ý ·áñÍ»ñ | AC7: ²Û¹ ÃíáõÙ` ·áñÍÝ Áëï ¿áõÃÛ³Ý ÉáõÍáÕ ¹³ï³Ï³Ý ³Ïï»ñ | AD7: ²Û¹ ÃíáõÙ` ÙÇç³ÝÏÛ³É ¹³ï³Ï³Ý ³Ïï»ñ | AE7: ÀÝ¹³Ù»ÝÁ | AF7: ²Û¹ ÃíáõÙ` ·áñÍÝ Áëï ¿áõÃÛ³Ý ÉáõÍáÕ ¹³ï³Ï³Ý ³Ïï»ñ | AG7: ²Û¹ ÃíáõÙ` ÙÇç³ÝÏÛ³É ¹³ï³Ï³Ý ³Ïï»ñ | AH7: ÀÝ¹³Ù»ÝÁ
S10: ÀÝ¹³Ù»ÝÁ Ï³ñ×í»É »Ý | T10: ²Û¹ ÃíáõÙª Ñ³ëï³ïí»É ¿ ÏÝùí³Í Ñ³ßïáõÃÛ³Ý Ñ³Ù³Ó³ÛÝáõÃÛáõÝÁ | U10: ²Û¹ ÃíáõÙª Ñ³óÇó, ¹ÇÙáõÙÇó Ññ³Å³ñí»Éáõ ÑÇÙùáí | V10: ²Û¹ ÃíáõÙª ³ÛÉ ÑÇÙùáí
A18: ø³Õ³ù³óÇ³Ï³Ý ·áñÍ»ñÇ ¹³ë³Ï³ñ·áõÙÁ | E18: 1 | F18: 2 | G18: 3 | H18: 4 | I18: 5 | J18: 6 | K18: 7 | L18: 8 | M18: 9 | N18: 10 | O18: 11 | P18: 12 | Q18: 13 | R18: 14 | S18: 15 | T18: 16 | U18: 17 | V18: 18 | W18: 19 | X18: 20 | Y18: 21 | Z18: 22 | AA18: 23 | AB18: 24 | AC18: 25 | AD18: 26 | AE18: 27 | AF18: 28 | AG18: 29 | AH18: 30
A19: 1. | B19: ¶áõÛù³ÛÇÝ Çñ³í³Ñ³ñ³µ»ñáõÃÛáõÝÝ»ñÇ í»ñ³µ»ñÛ³É ¹³ï³Ï³Ý ·áñÍ»ñ | E19: =SUM(Երևան:Սյունիք!E19) -> 4988 | F19: =SUM(Երևան:Սյունիք!F19) -> 1726 | G19: =SUM(Երևան:Սյունիք!G19) -> 3243 | H19: =SUM(Երևան:Սյունիք!H19) -> 17 | I19: =SUM(Երևան:Սյունիք!I19) -> 2 | J19: =SUM(Երևան:Սյունիք!J19) -> 1860 | K19: =SUM(Երևան:Սյունիք!K19) -> 1317 | L19: =SUM(Երևան:Սյունիք!L19) -> 407 | ... AH19: =SUM(Երևան:Սյունիք!AH19) -> 13
A20: 1.1 | B20: ¶áõÛùÇ ÝÏ³ïÙ³Ùµ ë»÷³Ï³ÝáõÃÛ³Ý Çñ³íáõÝùÁ ×³Ý³ã»Éáõ í»ñ³µ»ñÛ³É | E20: =SUM(Երևան:Սյունիք!E20) -> 401 | F20: =SUM(Երևան:Սյունիք!F20) -> 59 | G20: =SUM(Երևան:Սյունիք!G20) -> 340 | H20: =SUM(Երևան:Սյունիք!H20) -> 1 | I20: =SUM(Երևան:Սյունիք!I20) -> 1 | J20: =SUM(Երևան:Սյունիք!J20) -> 200 | K20: =SUM(Երևան:Սյունիք!K20) -> 113 | L20: =SUM(Երևան:Սյունիք!L20) -> 52 | ... AH20: =SUM(Երևան:Սյունիք!AH20) -> 1
A21: 1.1.1 | B21: ²Û¹ ÃíáõÙª Ó»éùµ»ñÙ³Ý í³Õ»ÙáõÃÛ³Ý áõÅáí | E21: =SUM(Երևան:Սյունիք!E21) -> 331 | F21: =SUM(Երևան:Սյունիք!F21) -> 22 | G21: =SUM(Երևան:Սյունիք!G21) -> 305 | H21: =SUM(Երևան:Սյունիք!H21) -> 4 | I21: =SUM(Երևան:Սյունիք!I21) -> 0 | J21: =SUM(Երևան:Սյունիք!J21) -> 238 | K21: =SUM(Երևան:Սյունիք!K21) -> 184 | L21: =SUM(Երևան:Սյունիք!L21) -> 32 | ... AH21: =SUM(Երևան:Սյունիք!AH21) -> 0
A22: 1.1.2 | B22: ²Û¹ ÃíáõÙª ïÇñ³½áõñÏ ·áõÛùÇ ÝÏ³ïÙ³Ùµ | E22: =SUM(Երևան:Սյունիք!E22) -> 13 | F22: =SUM(Երևան:Սյունիք!F22) -> 2 | G22: =SUM(Երևան:Սյունիք!G22) -> 11 | H22: =SUM(Երևան:Սյունիք!H22) -> 0 | I22: =SUM(Երևան:Սյունիք!I22) -> 0 | J22: =SUM(Երևան:Սյունիք!J22) -> 17 | K22: =SUM(Երևան:Սյունիք!K22) -> 10 | L22: =SUM(Երևան:Սյունիք!L22) -> 4 | ... AH22: =SUM(Երևան:Սյունիք!AH22) -> 0
A23: 1.1.3 | B23: ²Û¹ ÃíáõÙª ÇÝùÝ³Ï³Ù Ï³éáõÛóÇ ÝÏ³ïÙ³Ùµ | E23: =SUM(Երևան:Սյունիք!E23) -> 2 | F23: =SUM(Երևան:Սյունիք!F23) -> 2 | G23: =SUM(Երևան:Սյունիք!G23) -> 0 | H23: =SUM(Երևան:Սյունիք!H23) -> 0 | I23: =SUM(Երևան:Սյունիք!I23) -> 0 | J23: =SUM(Երևան:Սյունիք!J23) -> 0 | K23: =SUM(Երևան:Սյունիք!K23) -> 0 | L23: =SUM(Երևան:Սյունիք!L23) -> 0 | ... AH23: =SUM(Երևան:Սյունիք!AH23) -> 0
A24: 1.2 | B24: ê»÷³Ï³ÝáõÃÛ³Ý Çñ³íáõÝùÇ ¹³¹³ñ»óÙ³Ý í»ñ³µ»ñÛ³É | E24: =SUM(Երևան:Սյունիք!E24) -> 72 | F24: =SUM(Երևան:Սյունիք!F24) -> 7 | G24: =SUM(Երևան:Սյունիք!G24) -> 65 | H24: =SUM(Երևան:Սյունիք!H24) -> 0 | I24: =SUM(Երևան:Սյունիք!I24) -> 0 | J24: =SUM(Երևան:Սյունիք!J24) -> 20 | K24: =SUM(Երևան:Սյունիք!K24) -> 17 | L24: =SUM(Երևան:Սյունիք!L24) -> 2 | ... AH24: =SUM(Երևան:Սյունիք!AH24) -> 0
A25: 1.3 | B25: ¶áõÛùÇ ÝÏ³ïÙ³Ùµ û·ï³·áñÍÙ³Ý Çñ³íáõÝùÁ ×³Ý³ã»Éáõ í»ñ³µ»ñÛ³É | E25: =SUM(Երևան:Սյունիք!E25) -> 6 | F25: =SUM(Երևան:Սյունիք!F25) -> 3 | G25: =SUM(Երևան:Սյունիք!G25) -> 3 | H25: =SUM(Երևան:Սյունիք!H25) -> 0 | I25: =SUM(Երևան:Սյունիք!I25) -> 0 | J25: =SUM(Երևան:Սյունիք!J25) -> 1 | K25: =SUM(Երևան:Սյունիք!K25) -> 1 | L25: =SUM(Երևան:Սյունիք!L25) -> 0 | ... AH25: =SUM(Երևան:Սյունիք!AH25) -> 0
A26: 1.3.1 | B26: ²Û¹ ÃíáõÙª µÝ³Ïû·ï³·áñÍÙ³Ý Çñ³íáõÝùÁ ×³Ý³ã»Éáõ í»ñ³µ»ñÛ³É | E26: =SUM(Երևան:Սյունիք!E26) -> 4 | F26: =SUM(Երևան:Սյունիք!F26) -> 0 | G26: =SUM(Երևան:Սյունիք!G26) -> 4 | H26: =SUM(Երևան:Սյունիք!H26) -> 0 | I26: =SUM(Երևան:Սյունիք!I26) -> 0 | J26: =SUM(Երևան:Սյունիք!J26) -> 2 | K26: =SUM(Երևան:Սյունիք!K26) -> 1 | L26: =SUM(Երևան:Սյունիք!L26) -> 1 | ... AH26: =SUM(Երևան:Սյունիք!AH26) -> 0
A27: 1.3.2 | B27: ²Û¹ ÃíáõÙª ÑáÕ³Ù³ëÇ ÝÏ³ïÙ³Ùµ û·ï³·áñÍÙ³Ý Çñ³íáõÝùÁ ×³Ý³ã»Éáõ í»ñ³µ»ñÛ³É | E27: =SUM(Երևան:Սյունիք!E27) -> 2 | F27: =SUM(Երևան:Սյունիք!F27) -> 0 | G27: =SUM(Երևան:Սյունիք!G27) -> 2 | H27: =SUM(Երևան:Սյունիք!H27) -> 0 | I27: =SUM(Երևան:Սյունիք!I27) -> 0 | J27: =SUM(Երևան:Սյունիք!J27) -> 2 | K27: =SUM(Երևան:Սյունիք!K27) -> 1 | L27: =SUM(Երևան:Սյունիք!L27) -> 1 | ... AH27: =SUM(Երևան:Սյունիք!AH27) -> 1
A28: 1.4 | B28: ¶áõÛùÇ ÝÏ³ïÙ³Ùµ û·ï³·áñÍÙ³Ý Çñ³íáõÝùÁ ¹³¹³ñ»óÝ»Éáõ í»ñ³µ»ñÛ³É | E28: =SUM(Երևան:Սյունիք!E28) -> 7 | F28: =SUM(Երևան:Սյունիք!F28) -> 1 | G28: =SUM(Երևան:Սյունիք!G28) -> 6 | H28: =SUM(Երևան:Սյունիք!H28) -> 0 | I28: =SUM(Երևան:Սյունիք!I28) -> 0 | J28: =SUM(Երևան:Սյունիք!J28) -> 3 | K28: =SUM(Երևան:Սյունիք!K28) -> 2 | L28: =SUM(Երևան:Սյունիք!L28) -> 1 | ... AH28: =SUM(Երևան:Սյունիք!AH28) -> 1
A29: 1.4.1 | B29: ²Û¹ ÃíáõÙª µÝ³Ïû·ï³·áñÍÙ³Ý Çñ³íáõÝùÁ ¹³¹³ñ»óÝ»Éáõ í»ñ³µ»ñÛ³É | E29: =SUM(Երևան:Սյունիք!E29) -> 14 | F29: =SUM(Երևան:Սյունիք!F29) -> 7 | G29: =SUM(Երևան:Սյունիք!G29) -> 7 | H29: =SUM(Երևան:Սյունիք!H29) -> 0 | I29: =SUM(Երևան:Սյունիք!I29) -> 0 | J29: =SUM(Երևան:Սյունիք!J29) -> 1 | K29: =SUM(Երևան:Սյունիք!K29) -> 1 | L29: =SUM(Երևան:Սյունիք!L29) -> 0 | ... AH29: =SUM(Երևան:Սյունիք!AH29) -> 0
A30: 1.4.1/1 | B30: ²Û¹ ÃíáõÙª ÷áËÑ³ïáõóÙ³Ùµ | E30: =SUM(Երևան:Սյունիք!E30) -> 15 | F30: =SUM(Երևան:Սյունիք!F30) -> 6 | G30: =SUM(Երևան:Սյունիք!G30) -> 9 | H30: =SUM(Երևան:Սյունիք!H30) -> 0 | I30: =SUM(Երևան:Սյունիք!I30) -> 0 | J30: =SUM(Երևան:Սյունիք!J30) -> 2 | K30: =SUM(Երևան:Սյունիք!K30) -> 2 | L30: =SUM(Երևան:Սյունիք!L30) -> 0 | ... AH30: =SUM(Երևան:Սյունիք!AH30) -> 0
A31: 1.5 | B31: ´Ý³Ï³ñ³ÝÇó/ ï³ñ³ÍùÇó/ íï³ñ»Éáõ í»ñ³µ»ñÛ³É | E31: =SUM(Երևան:Սյունիք!E31) -> 224 | F31: =SUM(Երևան:Սյունիք!F31) -> 67 | G31: =SUM(Երևան:Սյունիք!G31) -> 156 | H31: =SUM(Երևան:Սյունիք!H31) -> 1 | I31: =SUM(Երևան:Սյունիք!I31) -> 0 | J31: =SUM(Երևան:Սյունիք!J31) -> 86 | K31: =SUM(Երևան:Սյունիք!K31) -> 65 | L31: =SUM(Երևան:Սյունիք!L31) -> 16 | ... AH31: =SUM(Երևան:Սյունիք!AH31) -> 0
A32: 1.6 | B32: ¶áõÛùÝ áõñÇßÇ ³åûñÇÝÇ ïÇñ³å»ïáõÙÇó »ï í»ñ³¹³ñÓÝ»Éáõ í»ñ³µ»ñÛ³É | E32: =SUM(Երևան:Սյունիք!E32) -> 261 | F32: =SUM(Երևան:Սյունիք!F32) -> 85 | G32: =SUM(Երևան:Սյունիք!G32) -> 176 | H32: =SUM(Երևան:Սյունիք!H32) -> 0 | I32: =SUM(Երևան:Սյունիք!I32) -> 0 | J32: =SUM(Երևան:Սյունիք!J32) -> 96 | K32: =SUM(Երևան:Սյունիք!K32) -> 69 | L32: =SUM(Երևան:Սյունիք!L32) -> 24 | ... AH32: =SUM(Երևան:Սյունիք!AH32) -> 1
A33: 1.6.1 | B33: ´³ñ»ËÇÕ× Ó»éùµ»ñáÕÇó Çñ ·áõÛùÁ Ñ»ï å³Ñ³Ýç»Éáõ í»ñ³µ»ñÛ³É | E33: =SUM(Երևան:Սյունիք!E33) -> 2 | F33: =SUM(Երևան:Սյունիք!F33) -> 0 | G33: =SUM(Երևան:Սյունիք!G33) -> 2 | H33: =SUM(Երևան:Սյունիք!H33) -> 0 | I33: =SUM(Երևան:Սյունիք!I33) -> 0 | J33: =SUM(Երևան:Սյունիք!J33) -> 1 | K33: =SUM(Երևան:Սյունիք!K33) -> 0 | L33: =SUM(Երևան:Սյունիք!L33) -> 1 | ... AH33: =SUM(Երևան:Սյունիք!AH33) -> 0
A34: 1.7 | B34: îÇñ³å»ïáõÙÇó ½ñÏ»Éáõ Ñ»ï ãÏ³åí³Í Çñ³íáõÝùÝ»ñÇ Ë³ËïáõÙÁ í»ñ³óÝ»Éáõ í»ñ³µ»ñÛ³É | E34: =SUM(Երևան:Սյունիք!E34) -> 84 | F34: =SUM(Երևան:Սյունիք!F34) -> 19 | G34: =SUM(Երևան:Սյունիք!G34) -> 65 | H34: =SUM(Երևան:Սյունիք!H34) -> 0 | I34: =SUM(Երևան:Սյունիք!I34) -> 0 | J34: =SUM(Երևան:Սյունիք!J34) -> 34 | K34: =SUM(Երևան:Սյունիք!K34) -> 25 | L34: =SUM(Երևան:Սյունիք!L34) -> 5 | ... AH34: =SUM(Երևան:Սյունիք!AH34) -> 1
A35: 1.8 | B35: ÀÝ¹Ñ³Ýáõñ µ³ÅÝ³ÛÇÝ ë»÷³Ï³ÝáõÃÛáõÝÇó µ³ÅÇÝÝ ³é³ÝÓÝ³óÝ»Éáõ í»ñ³µ»ñÛ³É | E35: =SUM(Երևան:Սյունիք!E35) -> 2067 | F35: =SUM(Երևան:Սյունիք!F35) -> 917 | G35: =SUM(Երևան:Սյունիք!G35) -> 1143 | H35: =SUM(Երևան:Սյունիք!H35) -> 6 | I35: =SUM(Երևան:Սյունիք!I35) -> 1 | J35: =SUM(Երևան:Սյունիք!J35) -> 653 | K35: =SUM(Երևան:Սյունիք!K35) -> 466 | L35: =SUM(Երևան:Սյունիք!L35) -> 159 | ... AH35: =SUM(Երևան:Սյունիք!AH35) -> 6
A36: 1.8.1 | B36: Ð³Ù³ï»Õ ë»÷³Ï³ÝáõÃÛ³Ý Ý»ñùá ·ïÝíáÕ ·áõÛùÁ µ³Å³Ý»Éáõ ¨ ¹ñ³ÝÇó µ³ÅÇÝÝ ³é³ÝÓÝ³óÝ»Éáõ í»ñ³µ»ñÛ³É | E36: =SUM(Երևան:Սյունիք!E36) -> 666 | F36: =SUM(Երևան:Սյունիք!F36) -> 282 | G36: =SUM(Երևան:Սյունիք!G36) -> 384 | H36: =SUM(Երևան:Սյունիք!H36) -> 0 | I36: =SUM(Երևան:Սյունիք!I36) -> 0 | J36: =SUM(Երևան:Սյունիք!J36) -> 207 | K36: =SUM(Երևան:Սյունիք!K36) -> 168 | L36: =SUM(Երևան:Սյունիք!L36) -> 32 | ... AH36: =SUM(Երևան:Սյունիք!AH36) -> 0
... A133: 13. | B133: ²ÛÉ í»×»ñ | E133: =SUM(Երևան:Սյունիք!E133) -> 551 | F133: =SUM(Երևան:Սյունիք!F133) -> 81 | G133: =SUM(Երևան:Սյունիք!G133) -> 450 | H133: =SUM(Երևան:Սյունիք!H133) -> 17 | I133: =SUM(Երևան:Սյունիք!I133) -> 3 | J133: =SUM(Երևան:Սյունիք!J133) -> 534 | K133: =SUM(Երևան:Սյունիք!K133) -> 322 | L133: =SUM(Երևան:Սյունիք!L133) -> 144 | ... AH133: =SUM(Երևան:Սյունիք!AH133) -> 5
B134: ÀÝ¹³Ù»ÝÁ | E134: =SUM(Երևան:Սյունիք!E134) -> 47430 | F134: =SUM(Երևան:Սյունիք!F134) -> 4187 | G134: =SUM(Երևան:Սյունիք!G134) -> 42952 | H134: =SUM(Երևան:Սյունիք!H134) -> 283 | I134: =SUM(Երևան:Սյունիք!I134) -> 8 | J134: =SUM(Երևան:Սյունիք!J134) -> 53787 | K134: =SUM(Երևան:Սյունիք!K134) -> 47267 | L134: =SUM(Երևան:Սյունիք!L134) -> 4145 | ... AH134: =SUM(Երևան:Սյունիք!AH134) -> 89
C135: Ծանոթություն. 2214 հայցադիմումի վերաբերյալ 28.06.2019թ. դրությամբ որոշում չի կայացվել, 18 գործ միացվել է:

Sheet Երևան
A1: 2019թ. 1-ին կիսամյակ | E1: Ð²ÞìºîìàôÂÚàôÜ
A2: ºðºì²Ü ø²Ô²øÆ ²è²æÆÜ ²îÚ²ÜÆ ÀÜ¸Ð²Üàôð Æð²ì²êàôÂÚ²Ü ¸²î²ð²ÜàôØ ø²Ô²ø²òÆ²Î²Ü ¶àðÌºðÆ øÜÜàôÂÚ²Ü ìºð²´ºðÚ²È
A3: ºñ¨³Ý ù³Õ³ùÇ ³é³çÇÝ ³ïÛ³ÝÇ ÁÝ¹Ñ³Ýáõñ Çñ³í³ëáõÃÛ³Ý ¹³ï³ñ³ÝáõÙ ù³Õ³ù³óÇ³Ï³Ý Ù³ëÝ³·Çï³óáõÙ áõÝ»óáÕ ¹³ï³íáñÝ»ñÇ Ñ³ëïÇùÝ»ñÇ ù³Ý³ÏÁ` 37
A4: êïáõ·Çã Ñ³í³ë³ñáõÙÝ»ñª 1=2+3+4+5, 6=7+8+9, 2+3+7=20+21+23, 10=11+12+13+14+15, 15=16+17+18, 20=10+19, 27=25+26, 30=28+29 | E4: Ð³ßí»ïáõ Å³Ù³Ý³Ï³Ñ³ïí³ÍáõÙ Ý³Ëáñ¹ Ñ³ßí»ïáõ Å³Ù³Ý³Ï³Ñ³ïí³ÍÇó ÷áË³Ýóí³Í ·áñÍ»ñÇ ÁÝ¹Ñ³Ýáõñ ÃÇíÁ | J4: Ð³ßí»ïáõ Å³Ù³Ý³Ï³Ñ³ïí³ÍáõÙëï³óí³Í ·áñÍ»ñÇ (³Û¹ ÃíáõÙ` Ñ³Ûó³¹ÇÙáõÙÝ»ñÇ, ¹ÇÙáõÙÝ»ñÇ) ÁÝ¹Ñ³Ýáõñ ÃÇíÁ | N4: Ð³ßí»ïáõ Å³Ù³Ý³Ï³Ñ³ïí³ÍáõÙ ³í³ñïí³Í ·áñÍ»ñÇ ÁÝ¹Ñ³Ýáõñ ÃÇíÁ | Y4: ¶áñÍÝ áõÕ³ñÏí»É ¿ Áëï ÁÝ¹¹³ïáõÃÛ³Ý | Z4: Ð³ßí»ïáõ Å³Ù³Ý³Ï³Ñ³ïí³ÍáõÙ Ï³ë»óí³Í í³ñáõÛÃÝ»ñáí ·áñÍ»ñÇ ÁÝ¹Ñ³Ýáõñ ÃÇíÁ | AA4: Ð³ßí»ïáõ Å³Ù³Ý³Ï³Ñ³ïí³ÍáõÙ ³Ý³í³ñï ·áñÍ»ñÇ ÁÝ¹Ñ³Ýáõñ ÃÇíÁ | AB4: ²Û¹ ÃíáõÙª Ï³ë»óí³Í | AC4: ´áÕáù³ñÏí³Í ¹³ï³Ï³Ý ³Ïï»ñÇ ÃÇíÁ` Áëï ï»ë³ÏÝ»ñÇ | AF4: ´»Ï³Ýí³Í ¹³ï³Ï³Ý ³Ïï»ñÇ ÃÇíÁ` Áëï ï»ë³ÏÝ»ñÇ
E7: ÀÝ¹³Ù»ÝÁ | F7: ²Û¹ ÃíáõÙ`Ï³ë»óí³Í íÇ×³ÏáõÙ ÷áË³Ýóí³Í | G7: ²Û¹ ÃíáõÙª ÁÝ¹áõÝí»É ¿ í³ñáõÛÃ | H7: ²Û¹ ÃíáõÙª í»ñ³¹³ñÓí»É ¿ | I7: ²Û¹ ÃíáõÙª ÁÝ¹áõÝáõÙÁ Ù»ñÅí»É ¿ | J7: ÀÝ¹³Ù»ÝÁ | K7: ²Û¹ ÃíáõÙª ÁÝ¹áõÝí»É ¿ í³ñáõÛÃ | L7: ²Û¹ ÃíáõÙª í»ñ³¹³ñÓí»É ¿ | M7: ²Û¹ ÃíáõÙª ÁÝ¹áõÝáõÙÁ Ù»ñÅí»É ¿ | N7: ÀÝ¹³Ù»ÝÁ ³í³ñïí»É »Ý ·áñÍ»ñ ·áñÍÝ Áëï ¿áõÃÛ³Ý ÉáõÍáÕ ¹³ï³Ï³Ý ³Ïï»ñÇ (í×ÇéÝ»ñÇ) Ï³Û³óÙ³Ùµ | O7: ²Û¹ ÃíáõÙª Ñ³ÛóÇ µ³í³ñ³ñÙ³Ùµ | P7: ²Û¹ ÃíáõÙª Ñ³ÛóÇ Ù³ëÝ³ÏÇ µ³í³ñ³ñÙ³Ùµ | Q7: ²Û¹ ÃíáõÙª Ñ³ÛóÇ Ù»ñÅÙ³Ùµ | R7: Ø³ëáí Ï³ñ×í»É ¿, Ù³ëáí Ù»ñÅí»É | S7: ²Û¹ ÃíáõÙª Ï³ñ×í»É »Ý | W7: Ð³ÛóÁ ÃáÕÝí»É ¿ ³é³Ýó ùÝÝáõÃÛ³Ý | X7: ÀÝ¹³Ù»ÝÝ ³í³ñïí»É »Ý ·áñÍ»ñ | AC7: ²Û¹ ÃíáõÙ` ·áñÍÝ Áëï ¿áõÃÛ³Ý ÉáõÍáÕ ¹³ï³Ï³Ý ³Ïï»ñ | AD7: ²Û¹ ÃíáõÙ` ÙÇç³ÝÏÛ³É ¹³ï³Ï³Ý ³Ïï»ñ | AE7: ÀÝ¹³Ù»ÝÁ | AF7: ²Û¹ ÃíáõÙ` ·áñÍÝ Áëï ¿áõÃÛ³Ý ÉáõÍáÕ ¹³ï³Ï³Ý ³Ïï»ñ | AG7: ²Û¹ ÃíáõÙ` ÙÇç³ÝÏÛ³É ¹³ï³Ï³Ý ³Ïï»ñ | AH7: ÀÝ¹³Ù»ÝÁ
S10: ÀÝ¹³Ù»ÝÁ Ï³ñ×í»É »Ý | T10: ²Û¹ ÃíáõÙª Ñ³ëï³ïí»É ¿ ÏÝùí³Í Ñ³ßïáõÃÛ³Ý Ñ³Ù³Ó³ÛÝáõÃÛáõÝÁ | U10: ²Û¹ ÃíáõÙª Ñ³óÇó, ¹ÇÙáõÙÇó Ññ³Å³ñí»Éáõ ÑÇÙùáí | V10: ²Û¹ ÃíáõÙª ³ÛÉ ÑÇÙùáí
A18: ø³Õ³ù³óÇ³Ï³Ý ·áñÍ»ñÇ ¹³ë³Ï³ñ·áõÙÁ | E18: 1 | F18: 2 | G18: 3 | H18: 4 | I18: 5 | J18: 6 | K18: 7 | L18: 8 | M18: 9 | N18: 10 | O18: 11 | P18: 12 | Q18: 13 | R18: 14 | S18: 15 | T18: 16 | U18: 17 | V18: 18 | W18: 19 | X18: 20 | Y18: 21 | Z18: 22 | AA18: 23 | AB18: 24 | AC18: 25 | AD18: 26 | AE18: 27 | AF18: 28 | AG18: 29 | AH18: 30
A19: 1. | B19: ¶áõÛù³ÛÇÝ Çñ³í³Ñ³ñ³µ»ñáõÃÛáõÝÝ»ñÇ í»ñ³µ»ñÛ³É ¹³ï³Ï³Ý ·áñÍ»ñ | E19: =SUM(E20:E38) -> 2184 | F19: =SUM(F20:F38) -> 493 | G19: =SUM(G20:G38) -> 1687 | H19: =SUM(H20:H38) -> 3 | I19: =SUM(I20:I38) -> 1 | J19: =SUM(J20:J38) -> 651 | K19: =SUM(K20:K38) -> 467 | L19: =SUM(L20:L38) -> 148 | ... AH19: =SUM(AH20:AH38) -> 6
A20: 1.1 | B20: ¶áõÛùÇ ÝÏ³ïÙ³Ùµ ë»÷³Ï³ÝáõÃÛ³Ý Çñ³íáõÝùÁ ×³Ý³ã»Éáõ í»ñ³µ»ñÛ³É | E20: 242 | F20: 33 | G20: 209 | J20: 87 | K20: 59 | L20: 19 | M20: 1 | N20: 46 | O20: 12 | P20: 2 | Q20: 17 | S20: 15 | T20: 3 | U20: 12 | W20: 1 | X20: 47 | Y20: 4 | Z20: 12 | AA20: 250 | AB20: 43 | AC20: 6 | AD20: 4 | AE20: 10 | AF20: 1 | AH20: 1
A21: 1.1.1 | B21: ²Û¹ ÃíáõÙª Ó»éùµ»ñÙ³Ý í³Õ»ÙáõÃÛ³Ý áõÅáí | E21: 153 | F21: 12 | G21: 139 | H21: 2 | J21: 81 | K21: 64 | L21: 10 | M21: 3 | N21: 26 | O21: 6 | P21: 3 | Q21: 4 | S21: 13 | T21: 2 | U21: 11 | W21: 1 | X21: 27 | Z21: 7 | AA21: 188 | AB21: 19 | AC21: 5 | AD21: 2 | AE21: 7
A22: 1.1.2 | B22: ²Û¹ ÃíáõÙª ïÇñ³½áõñÏ ·áõÛùÇ ÝÏ³ïÙ³Ùµ | E22: 3 | G22: 3 | N22: 1 | Q22: 1 | X22: 1 | AA22: 2 | AC22: 1 | AE22: 1
A23: 1.1.3 | B23: ²Û¹ ÃíáõÙª ÇÝùÝ³Ï³Ù Ï³éáõÛóÇ ÝÏ³ïÙ³Ùµ | E23: 2 | F23: 2 | G23: 0 | AA23: 2 | AB23: 2
A24: 1.2 | B24: ê»÷³Ï³ÝáõÃÛ³Ý Çñ³íáõÝùÇ ¹³¹³ñ»óÙ³Ý í»ñ³µ»ñÛ³É | E24: 47 | F24: 5 | G24: 42 | J24: 12 | K24: 11 | L24: 1 | N24: 14 | P24: 2 | Q24: 5 | S24: 7 | U24: 7 | W24: 1 | X24: 15 | Z24: 2 | AA24: 42 | AB24: 8
A25: 1.3 | B25: ¶áõÛùÇ ÝÏ³ïÙ³Ùµ û·ï³·áñÍÙ³Ý Çñ³íáõÝùÁ ×³Ý³ã»Éáõ í»ñ³µ»ñÛ³É | E25: 3 | F25: 1 | G25: 2 | J25: 1 | K25: 1 | N25: 1 | O25: 1 | X25: 1 | AA25: 3 | AB25: 1 | AC25: 1 | AE25: 1
A26: 1.3.1 | B26: ²Û¹ ÃíáõÙª µÝ³Ïû·ï³·áñÍÙ³Ý Çñ³íáõÝùÁ ×³Ý³ã»Éáõ í»ñ³µ»ñÛ³É | E26: 2 | G26: 2 | J26: 1 | L26: 1 | AA26: 2
A27: 1.3.2 | B27: ²Û¹ ÃíáõÙª ÑáÕ³Ù³ëÇ ÝÏ³ïÙ³Ùµ û·ï³·áñÍÙ³Ý Çñ³íáõÝùÁ ×³Ý³ã»Éáõ í»ñ³µ»ñÛ³É | E27: 2 | G27: 2 | N27: 1 | S27: 1 | T27: 1 | X27: 1 | AA27: 1
A28: 1.4 | B28: ¶áõÛùÇ ÝÏ³ïÙ³Ùµ û·ï³·áñÍÙ³Ý Çñ³íáõÝùÁ ¹³¹³ñ»óÝ»Éáõ í»ñ³µ»ñÛ³É | E28: 3 | F28: 1 | G28: 2 | J28: 2 | K28: 1 | L28: 1 | N28: 1 | O28: 1 | X28: 1 | AA28: 3 | AB28: 1
A29: 1.4.1 | B29: ²Û¹ ÃíáõÙª µÝ³Ïû·ï³·áñÍÙ³Ý Çñ³íáõÝùÁ ¹³¹³ñ»óÝ»Éáõ í»ñ³µ»ñÛ³É | E29: 11 | F29: 6 | G29: 5 | AA29: 11 | AB29: 8
A30: 1.4.1/1 | B30: ²Û¹ ÃíáõÙª ÷áËÑ³ïáõóÙ³Ùµ | E30: 12 | F30: 3 | G30: 9 | J30: 2 | K30: 2 | N30: 3 | S30: 3 | T30: 2 | U30: 1 | X30: 3 | AA30: 11 | AB30: 2
A31: 1.5 | B31: ´Ý³Ï³ñ³ÝÇó/ ï³ñ³ÍùÇó/ íï³ñ»Éáõ í»ñ³µ»ñÛ³É | E31: 135 | F31: 31 | G31: 103 | H31: 1 | J31: 44 | K31: 31 | L31: 12 | N31: 21 | O31: 7 | P31: 1 | Q31: 1 | S31: 12 | T31: 2 | U31: 10 | W31: 3 | X31: 24 | Y31: 1 | Z31: 5 | AA31: 140 | AB31: 23 | AC31: 7 | AD31: 5 | AE31: 12
A32: 1.6 | B32: ¶áõÛùÝ áõñÇßÇ ³åûñÇÝÇ ïÇñ³å»ïáõÙÇó »ï í»ñ³¹³ñÓÝ»Éáõ í»ñ³µ»ñÛ³É | E32: 123 | F32: 32 | G32: 91 | J32: 46 | K32: 34 | L32: 10 | N32: 22 | O32: 4 | P32: 1 | Q32: 7 | S32: 10 | T32: 1 | U32: 8 | V32: 1 | W32: 1 | X32: 23 | Z32: 5 | AA32: 134 | AB32: 28 | AC32: 1 | AD32: 2 | AE32: 3 | AF32: 1 | AH32: 1
A33: 1.6.1 | B33: ´³ñ»ËÇÕ× Ó»éùµ»ñáÕÇó Çñ ·áõÛùÁ Ñ»ï å³Ñ³Ýç»Éáõ í»ñ³µ»ñÛ³É | E33: 1 | G33: 1 | J33: 1 | L33: 1 | AA33: 1
A34: 1.7 | B34: îÇñ³å»ïáõÙÇó ½ñÏ»Éáõ Ñ»ï ãÏ³åí³Í Çñ³íáõÝùÝ»ñÇ Ë³ËïáõÙÁ í»ñ³óÝ»Éáõ í»ñ³µ»ñÛ³É | E34: 64 | F34: 13 | G34: 51 | J34: 21 | K34: 17 | L34: 3 | M34: 1 | N34: 9 | O34: 1 | Q34: 4 | S34: 4 | T34: 1 | U34: 3 | X34: 9 | Y34: 1 | Z34: 4 | AA34: 71 | AB34: 14 | AD34: 2 | AE34: 2
A35: 1.8 | B35: ÀÝ¹Ñ³Ýáõñ µ³ÅÝ³ÛÇÝ ë»÷³Ï³ÝáõÃÛáõÝÇó µ³ÅÇÝÝ ³é³ÝÓÝ³óÝ»Éáõ í»ñ³µ»ñÛ³É | E35: 645 | F35: 204 | G35: 440 | I35: 1 | J35: 184 | K35: 134 | L35: 46 | N35: 102 | O35: 29 | P35: 3 | Q35: 12 | S35: 58 | T35: 5 | U35: 51 | V35: 2 | W35: 2 | X35: 104 | Y35: 2 | Z35: 53 | AA35: 672 | AB35: 168 | AC35: 7 | AD35: 5 | AE35: 12 | AF35: 1 | AG35: 1 | AH35: 2
A36: 1.8.1 | B36: Ð³Ù³ï»Õ ë»÷³Ï³ÝáõÃÛ³Ý Ý»ñùá ·ïÝíáÕ ·áõÛùÁ µ³Å³Ý»Éáõ ¨ ¹ñ³ÝÇó µ³ÅÇÝÝ ³é³ÝÓÝ³óÝ»Éáõ í»ñ³µ»ñÛ³É | E36: 285 | F36: 67 | G36: 218 | J36: 35 | K36: 28 | L36: 5 | N36: 49 | O36: 15 | P36: 1 | Q36: 10 | R36: 1 | S36: 22 | T36: 5 | U36: 16 | V36: 1 | W36: 4 | X36: 53 | Z36: 16 | AA36: 260 | AB36: 104 | AC36: 3 | AE36: 3
A37: 1.8.3 | B37: ¶áõÛùÇ íñ³ µéÝ³·³ÝÓáõÙ ï³ñ³Í»Éáõ å³Ñ³ÝçÇ Ù³ëÇÝ | E37: 37 | F37: 8 | G37: 29 | J37: 10 | K37: 4 | L37: 5 | M37: 1 | N37: 7 | O37: 2 | P37: 1 | Q37: 1 | S37: 3 | U37: 3 | W37: 1 | X37: 8 | Z37: 3 | AA37: 33 | AB37: 11 | AC37: 1 | AE37: 1
A38: 1.9 | B38: ²ÛÉ í»×»ñ | E38: 414 | F38: 75 | G38: 339 | J38: 124 | K38: 81 | L38: 34 | M38: 1 | N38: 63 | O38: 13 | P38: 8 | Q38: 15 | S38: 27 | T38: 3 | U38: 21 | V38: 3 | W38: 2 | X38: 65 | Y38: 3 | Z38: 26 | AA38: 427 | AB38: 75 | AC38: 13 | AD38: 6 | AE38: 19 | AF38: 1 | AG38: 1 | AH38: 2
A39: 2. | B39: ¶áñÍ³ñùÝ»ñÇ Ñ»ï Ï³åí³Í Çñ³í³Ñ³ñ³µ»ñáõÃÛáõÝÝ»ñÇ í»ñ³µ»ñÛ³É ¹³ï³Ï³Ý ·áñÍ»ñ | E39: =SUM(E40:E50) -> 958 | F39: =SUM(F40:F50) -> 124 | G39: =SUM(G40:G50) -> 821 | H39: =SUM(H40:H50) -> 12 | I39: =SUM(I40:I50) -> 1 | J39: =SUM(J40:J50) -> 423 | K39: =SUM(K40:K50) -> 289 | L39: =SUM(L40:L50) -> 104 | ... AH39: =SUM(AH40:AH50) -> 7
A40: 2.1 | B40: ·áñÍ³ñùÝ»ñÇ ³Ýí³í»ñáõÃÛ³Ý Ñ»ï Ï³åí³Í í»×»ñ | E40: 100 | F40: 11 | G40: 89 | J40: 31 | K40: 28 | L40: 3 | N40: 18 | O40: 4 | Q40: 9 | S40: 5 | U40: 5 | X40: 18 | Y40: 2 | Z40: 3 | AA40: 108 | AB40: 12 | AC40: 3 | AD40: 4 | AE40: 7
A41: 2.1.1 | B41: ³Û¹ ÃíáõÙ` íÇ×³Ñ³ñáõÛó ·áñÍ³ñùÝ»ñÝ ³Ýí³í»ñ ×³Ý³ã»Éáõ í»ñ³µ»ñÛ³É | E41: 6 | G41: 6 | J41: 1 | K41: 1 | N41: 1 | O41: 1 | X41: 1 | AA41: 6
A42: 2.1.2 | B42: ³Û¹ ÃíáõÙ` ·áñÍ³ñùÇ ³éáãÝãáõÃÛ³Ý Ñ»ï¨³ÝùÝ»ñ ÏÇñ³é»Éáõ í»ñ³µ»ñÛ³É | E42: 119 | F42: 9 | G42: 110 | J42: 61 | K42: 49 | L42: 9 | M42: 1 | N42: 20 | O42: 2 | P42: 2 | Q42: 7 | S42: 9 | U42: 7 | V42: 2 | W42: 2 | X42: 22 | Y42: 6 | Z42: 1 | AA42: 140 | AB42: 7 | AC42: 5 | AD42: 8 | AE42: 13 | AF42: 2 | AG42: 1 | AH42: 3
A43: 2.2 | B43: ¶áñÍ³ñùÁ í³í»ñ ×³Ý³ã»Éáõ í»ñ³µ»ñÛ³É | E43: 17 | F43: 2 | G43: 15 | J43: 9 | K43: 5 | L43: 4 | N43: 2 | Q43: 1 | S43: 1 | U43: 1 | W43: 1 | X43: 3 | AA43: 19 | AB43: 1 | AD43: 1 | AE43: 1
A44: 2.3 | B44: ¶áñÍ³ñùÇó Í³·áÕ Çñ³íáõÝùÝ»ñÁ ·ñ³Ýó»Éáõ í»ñ³µ»ñÛ³É | E44: 1 | G44: 1 | J44: 1 | L44: 1 | AA44: 1
A45: 2.4 | B45: ä³ÛÙ³Ý³·ÇñÝ ³Ýí³í»ñ ×³Ý³ã»Éáõ í»ñ³µ»ñÛ³É | E45: 355 | F45: 30 | G45: 319 | H45: 6 | J45: 142 | K45: 90 | L45: 35 | M45: 10 | N45: 55 | O45: 8 | P45: 4 | Q45: 24 | S45: 19 | T45: 1 | U45: 16 | V45: 2 | W45: 5 | X45: 60 | Y45: 10 | Z45: 8 | AA45: 369 | AB45: 31 | AC45: 11 | AD45: 12 | AE45: 23 | AF45: 1 | AG45: 1 | AH45: 2
A46: 2.5 | B46: ä³ÛÙ³Ý³·ñÇÁ í³í»ñ ×³Ý³ã»Éáõ í»ñ³µ»ñÛ³É | E46: 26 | F46: 14 | G46: 12 | J46: 11 | K46: 8 | L46: 3 | N46: 2 | S46: 2 | U46: 2 | X46: 2 | Y46: 2 | AA46: 30 | AB46: 14
A47: 2.6 | B47: ä³ÛÙ³Ý³·ñÇó Í³·áÕ Çñ³íáõÝùÝ»ñÁ ·ñ³Ýó»Éáõ í»ñ³µ»ñÛ³É | J47: 1 | K47: 1 | AA47: 1
A48: 2.7 | B48: ä³ÛÙ³Ý³·ÇñÁ ÷á÷áË»Éáõ ¨ ÉáõÍ»Éáõ í»ñ³µ»ñÛ³É | E48: 79 | F48: 13 | G48: 63 | H48: 2 | I48: 1 | J48: 59 | K48: 40 | L48: 15 | M48: 1 | N48: 17 | O48: 7 | P48: 4 | Q48: 1 | S48: 5 | T48: 2 | U48: 3 | X48: 17 | Y48: 2 | Z48: 3 | AA48: 97 | AB48: 13 | AC48: 4 | AD48: 3 | AE48: 7 | AG48: 2 | AH48: 2
A49: 2.8 | B49: ä³ÛÙ³Ý³·Çñ ÏÝù»ÉáõÝ å³ñï³íáñ»óÝ»Éáõ í»ñ³µ»ñÛ³É | E49: 77 | F49: 20 | G49: 57 | J49: 13 | K49: 4 | L49: 9 | N49: 4 | O49: 2 | Q49: 1 | S49: 1 | U49: 1 | W49: 1 | X49: 5 | Y49: 11 | AA49: 65 | AB49: 9 | AC49: 2 | AD49: 1 | AE49: 3
A50: 2.9 | B50: ²ÛÉ í»×»ñ | E50: 178 | F50: 25 | G50: 149 | H50: 4 | J50: 94 | K50: 63 | L50: 25 | N50: 36 | O50: 14 | P50: 2 | Q50: 12 | S50: 8 | T50: 2 | U50: 4 | V50: 2 | W50: 1 | X50: 37 | Y50: 4 | Z50: 4 | AA50: 195 | AB50: 23 | AC50: 11 | AD50: 3 | AE50: 14
A51: 3. | B51: Ä³é³Ý·áõÃÛ³Ý Ñ»ï Ï³åí³Í Çñ³í³Ñ³ñ³µ»ñáõÃÛáõÝÝ»ñÇ í»ñ³µ»ñÛ³É ¹³ï³Ï³Ý ·áñÍ»ñ | E51: =SUM(E52:E58) -> 187 | F51: =SUM(F52:F58) -> 21 | G51: =SUM(G52:G58) -> 166 | H51: =SUM(H52:H58) -> 0 | I51: =SUM(I52:I58) -> 0 | J51: =SUM(J52:J58) -> 71 | K51: =SUM(K52:K58) -> 55 | L51: =SUM(L52:L58) -> 12 | ... AH51: =SUM(AH52:AH58) -> 0
A52: 3.1 | B52: Îï³ÏÝ ³Ýí³í»ñ ×³Ý³ã»Éáõ í»ñ³µ»ñÛ³É | E52: 12 | F52: 1 | G52: 11 | J52: 3 | K52: 3 | N52: 5 | O52: 2 | Q52: 2 | S52: 1 | U52: 1 | X52: 5 | AA52: 10 | AC52: 2 | AE52: 2
A53: 3.2 | B53: ²Ý³ñÅ³Ý Å³é³Ý· ×³Ý³ã»Éáõ í»ñ³µ»ñÛ³É
A54: 3.3 | B54: Ä³é³Ý·áõÃÛáõÝÁ µ³Å³Ý»Éáõ í»ñ³µ»ñÛ³É | E54: 2 | G54: 2 | AA54: 2
A55: 3.4 | B55: ¶áõÛùÝ ³ÝÅ³é³Ý· ×³Ý³ã»Éáõ í»ñ³µ»ñÛ³É | E55: 3 | G55: 3 | AA55: 3 | AB55: 1
A56: 3.5 | B56: Àëï ûñ»ÝùÇ Å³é³Ý·áõÃÛ³Ý Çñ³íáõÝùÇ íÏ³Û³·ÇñÝ ³Ýí³í»ñ ×³Ý³ã»Éáõ í»ñ³µ»ñÛ³É | E56: 26 | F56: 1 | G56: 25 | J56: 6 | K56: 6 | N56: 6 | Q56: 3 | S56: 3 | U56: 2 | V56: 1 | X56: 6 | Y56: 1 | Z56: 1 | AA56: 25 | AB56: 2 | AC56: 1 | AE56: 1
A57: 3.6 | B57: Ä³é³Ý·áõÃÛáõÝÝ ÁÝ¹áõÝ»Éáõ µ³ó ÃáÕÝí³Í Å³ÙÏ»ïÁ Ñ³ñ·»ÉÇ Ñ³Ù³ñ»Éáõ í»ñ³µ»ñÛ³É | E57: 28 | F57: 2 | G57: 26 | J57: 6 | K57: 2 | L57: 2 | N57: 8 | O57: 5 | P57: 1 | Q57: 1 | S57: 1 | T57: 1 | W57: 2 | X57: 10 | Z57: 1 | AA57: 20 | AB57: 2 | AD57: 1 | AE57: 1
A58: 3.7 | B58: ²ÛÉ í»×»ñ | E58: 116 | F58: 17 | G58: 99 | J58: 56 | K58: 44 | L58: 10 | M58: 1 | N58: 20 | O58: 10 | P58: 2 | Q58: 3 | S58: 5 | T58: 1 | U58: 4 | W58: 2 | X58: 22 | Y58: 1 | Z58: 6 | AA58: 137 | AB58: 18 | AC58: 4 | AD58: 1 | AE58: 5
A59: 4 | B59: ÀÝï³Ý»Ï³Ý Çñ³í³Ñ³ñ³µ»ñáõÃÛáõÝÝ»ñÇ í»ñ³µ»ñÛ³É ¹³ï³Ï³Ý ·áñÍ»ñ | E59: =SUM(E60:E72) -> 978 | F59: =SUM(F60:F72) -> 45 | G59: =SUM(G60:G72) -> 924 | H59: =SUM(H60:H72) -> 8 | I59: =SUM(I60:I72) -> 1 | J59: =SUM(J60:J72) -> 728 | K59: =SUM(K60:K72) -> 551 | L59: =SUM(L60:L72) -> 137 | ... AH59: =SUM(AH60:AH72) -> 1
A60: 4.1 | B60: ²ÙáõëÝ³ÉáõÍáõÃÛ³Ý í»ñ³µ»ñÛ³É | E60: 480 | F60: 19 | G60: 455 | H60: 6 | J60: 395 | K60: 307 | L60: 71 | N60: 247 | O60: 151 | P60: 37 | Q60: 3 | S60: 56 | T60: 17 | U60: 37 | V60: 2 | W60: 4 | X60: 251 | Y60: 2 | Z60: 5 | AA60: 528 | AB60: 15 | AC60: 9 | AD60: 7 | AE60: 16
A61: 4.2 | B61: ²ÉÇÙ»ÝïÇ å³Ñ³ÝçÇ í»ñ³µ»ñÛ³É | E61: 182 | F61: 8 | G61: 174 | J61: 129 | K61: 104 | L61: 18 | N61: 84 | O61: 25 | P61: 36 | Q61: 4 | S61: 19 | T61: 6 | U61: 12 | V61: 1 | W61: 1 | X61: 85 | Z61: 1 | AA61: 201 | AB61: 9 | AC61: 5 | AD61: 1 | AE61: 6
A62: 4.3 | B62: ²ÉÇÙ»ÝïÇ ã³÷Á ÷á÷áË»Éáõ í»ñ³µ»ñÛ³É | E62: 24 | F62: 2 | G62: 22 | J62: 23 | K62: 15 | L62: 4 | N62: 8 | O62: 1 | P62: 4 | Q62: 2 | S62: 1 | U62: 1 | X62: 8 | AA62: 31 | AB62: 2 | AD62: 1 | AE62: 1
A63: 4.4 | B63: ÌÝáÕ³Ï³Ý Çñ³íáõÝùÝ»ñÇó ½ñÏ»Éáõ í»ñ³µ»ñÛ³É | E63: 14 | G63: 14 | J63: 14 | K63: 8 | L63: 4 | N63: 6 | O63: 3 | R63: 1 | S63: 2 | U63: 1 | V63: 1 | X63: 6 | AA63: 16 | AD63: 1 | AE63: 1
A64: 4.5 | B64: ÌÝáÕ³Ï³Ý Çñ³íáõÝùÝ»ñÁ í»ñ³Ï³Ý·Ý»Éáõ í»ñ³µ»ñÛ³É | J64: 1 | L64: 1
A65: 4.6 | B65: ºñ»Ë³ÛÇ áñ¹»·ñÙ³Ý í»ñ³µ»ñÛ³É | E65: 16 | G65: 16 | J65: 11 | K65: 9 | L65: 2 | N65: 8 | O65: 8 | X65: 8 | AA65: 17
A66: 4.7 | B66: ºñ»Ë³ÛÇ áñ¹»·ñáõÙÁ í»ñ³óÝ»Éáõ í»ñ³µ»ñÛ³É | E66: 4 | G66: 4 | J66: 1 | L66: 1 | N66: 1 | O66: 1 | X66: 1 | AA66: 3
A67: 4.8 | B67: Ð³ÛñáõÃÛáõÝÁ ×³Ý³ã»Éáõ í»ñ³µ»ñÛ³É | E67: 51 | F67: 7 | G67: 44 | J67: 16 | K67: 10 | L67: 5 | N67: 12 | O67: 4 | P67: 1 | Q67: 3 | S67: 4 | T67: 1 | U67: 3 | W67: 1 | X67: 13 | Z67: 1 | AA67: 48 | AB67: 5 | AC67: 2 | AD67: 1 | AE67: 3 | AG67: 1 | AH67: 1
A68: 4.9 | B68: ºñ»Ë³ÛÇ µÝ³ÏáõÃÛ³Ý í³ÛñÁ áñáß»Éáõ í»ñ³µ»ñÛ³É | E68: 62 | F68: 1 | G68: 60 | H68: 1 | J68: 41 | K68: 27 | L68: 13 | N68: 15 | O68: 2 | P68: 4 | S68: 9 | T68: 2 | U68: 7 | W68: 1 | X68: 16 | Z68: 2 | AA68: 72 | AB68: 3 | AC68: 3 | AD68: 3 | AE68: 6
A69: 4.10 | B69: ºñ»Ë³ÛÇ Ñ»ï ï»ë³ÏóáõÃÛ³Ý Ï³ñ· ë³ÑÙ³Ý»Éáõ í»ñ³µ»ñÛ³É | E69: 82 | F69: 1 | G69: 80 | I69: 1 | J69: 58 | K69: 43 | L69: 11 | M69: 2 | N69: 31 | O69: 9 | P69: 2 | Q69: 3 | S69: 17 | T69: 4 | U69: 12 | V69: 1 | X69: 31 | Z69: 1 | AA69: 93 | AB69: 1 | AC69: 2 | AD69: 1 | AE69: 3
A70: 4.11 | B70: ²ÙáõëÇÝÝ»ñÇ ÁÝ¹Ñ³Ýáõñ ·áõÛùÁ µ³Å³Ý»Éáõ í»ñ³µ»ñÛ³É | E70: 29 | F70: 5 | G70: 24 | J70: 14 | K70: 9 | L70: 5 | N70: 6 | Q70: 1 | S70: 5 | T70: 2 | U70: 2 | V70: 1 | X70: 6 | Z70: 1 | AA70: 32 | AB70: 6 | AC70: 1 | AD70: 1 | AE70: 2
A71: 4.12 | B71: ²ÙáõëÝ³Ï³Ý å³ÛÙ³Ý³·ñÇ ÷á÷áËÙ³Ý Ï³Ù ÉáõÍÙ³Ý í»ñ³µ»ñÛ³É | E71: 0 | F71: 0 | G71: 0
A72: 4.13 | B72: ²ÛÉ í»×»ñ | E72: 34 | F72: 2 | G72: 31 | H72: 1 | J72: 25 | K72: 19 | L72: 2 | M72: 3 | N72: 7 | O72: 1 | P72: 2 | Q72: 1 | S72: 3 | T72: 2 | U72: 1 | X72: 7 | AA72: 45 | AB72: 2
A73: 5. | B73: Øï³íáñ ë»÷³Ï³ÝáõÃÛ³Ý Ñ»ï Ï³åí³ÍÇñ³í³Ñ³ñ³µ»ñáõÃÛáõÝÝ»ñÇ í»ñ³µ»ñÛ³É ¹³ï³Ï³Ý ·áñÍ»ñ | E73: =SUM(E74:E79) -> 25 | F73: =SUM(F74:F79) -> 2 | G73: =SUM(G74:G79) -> 23 | H73: =SUM(H74:H79) -> 0 | I73: =SUM(I74:I79) -> 0 | J73: =SUM(J74:J79) -> 10 | K73: =SUM(K74:K79) -> 7 | L73: =SUM(L74:L79) -> 2 | ... AH73: =SUM(AH74:AH79) -> 0
A74: 5.1 | B74: ÈÇó»Ý½³ÛÇÝ å³ÛÙ³Ý³·ñÇ ÉáõÍÙ³Ý, ÷á÷áËÙ³Ý ¨ ³Ýí³í»ñáõÃÛ³Ý í»ñ³µ»ñÛ³É
A75: 5.2 | B75: Øï³íáñ ·áñÍáõÝ»áõÃÛ³Ý ³ñ¹ÛáõÝùÝ»ñ ëï»ÕÍ»Éáõ ¨ û·ï³·áñÍ»Éáõ å³ÛÙ³Ý³·ñÇ ÉáõÍÙ³Ý, ÷á÷áËÙ³Ý áõ ³Ýí³í»ñáõÃÛ³Ý í»ñ³µ»ñÛ³É
A76: 5.3 | B76: Ð»ÕÇÝ³Ï³ÛÇÝ ¨ Ñ³ñ³ÏÇó Çñ³íáõÝùÝ»ñÇ í»ñ³µ»ñÛ³É | E76: 4 | G76: 4 | J76: 2 | K76: 2 | N76: 2 | P76: 1 | S76: 1 | V76: 1 | W76: 1 | X76: 3 | AA76: 3 | AD76: 1 | AE76: 1
A77: 5.4 | B77: üÇñÙ³ÛÇÝ ³Ýí³ÝÙ³Ý í»ñ³µ»ñÛ³É | E77: 0
A78: 5.5 | B78: ²åñ³Ýù³ÛÇÝ Ýß³ÝÇ í»ñ³µ»ñÛ³É | E78: 14 | F78: 2 | G78: 12 | J78: 5 | K78: 4 | L78: 1 | N78: 5 | O78: 1 | Q78: 1 | S78: 3 | T78: 2 | U78: 1 | X78: 5 | AA78: 13
A79: 5.6 | B79: ²ÛÉ í»×»ñ | E79: 7 | G79: 7 | J79: 3 | K79: 1 | L79: 1 | N79: 2 | P79: 2 | X79: 2 | AA79: 6
A80: 6. | B80: ²ßË³ï³Ýù³ÛÇÝ Çñ³í³Ñ³ñ³µ»ñáõÃÛáõÝÝ»ñÇ í»ñ³µ»ñÛ³É ¹³ï³Ï³Ý ·áñÍ»ñ | E80: =SUM(E81:E86) -> 181 | F80: =SUM(F81:F86) -> 10 | G80: =SUM(G81:G86) -> 168 | H80: =SUM(H81:H86) -> 3 | I80: =SUM(I81:I86) -> 0 | J80: =SUM(J81:J86) -> 196 | K80: =SUM(K81:K86) -> 151 | L80: =SUM(L81:L86) -> 36 | ... AH80: =SUM(AH81:AH86) -> 1
A81: 6.1 | B81: ²ßË³ï³Ýù³ÛÇÝ å³ÛÙ³Ý³·ñ»ñÇ í»ñ³µ»ñÛ³É | E81: 12 | F81: 3 | G81: 9 | J81: 6 | K81: 6 | N81: 1 | S81: 1 | T81: 1 | X81: 1 | AA81: 17 | AB81: 1
A82: 6.2 | B82: ²ßË³ï³ÝùáõÙ í»ñ³Ï³Ý·Ý»Éáõ í»ñ³µ»ñÛ³É | E82: 64 | F82: 2 | G82: 61 | H82: 1 | J82: 72 | K82: 61 | L82: 6 | M82: 4 | N82: 35 | O82: 6 | P82: 4 | Q82: 18 | S82: 7 | T82: 1 | U82: 3 | V82: 3 | W82: 1 | X82: 36 | Z82: 1 | AA82: 88 | AB82: 2 | AC82: 12 | AD82: 4 | AE82: 16 | AF82: 1 | AH82: 1
A83: 6.3 | B83: ¶áñÍ³¹áõÉÝ ³ÝûñÇÝ³Ï³Ý ×³Ý³ã»Éáõ í»ñ³µ»ñÛ³É
A84: 6.4 | B84: Ð³ñÏ³¹Çñ å³ñ³åáõñ¹Ç Ñ³ïáõóÙ³Ý í»ñ³µ»ñÛ³É | E84: 2 | G84: 2 | N84: 1 | O84: 1 | X84: 1 | AA84: 1
A85: 6.5 | B85: âí×³ñí³Í ³ßË³ï³í³ñÓÇ ¨/Ï³Ù ³ÛÉ í×³ñÝ»ñÇ µéÝ³·³ÝÓÙ³Ý í»ñ³µ»ñÛ³É | E85: 72 | F85: 5 | G85: 65 | H85: 2 | J85: 70 | K85: 50 | L85: 19 | N85: 18 | O85: 6 | P85: 4 | Q85: 4 | S85: 4 | U85: 4 | X85: 18 | Y85: 1 | Z85: 1 | AA85: 101 | AB85: 3 | AC85: 3 | AD85: 1 | AE85: 4
A86: 6.6 | B86: ²ÛÉ í»×»ñ | E86: 31 | G86: 31 | J86: 48 | K86: 34 | L86: 11 | M86: 2 | N86: 13 | O86: 1 | P86: 3 | Q86: 3 | S86: 6 | T86: 2 | U86: 2 | V86: 2 | W86: 1 | X86: 14 | AA86: 51 | AC86: 7 | AD86: 1 | AE86: 8
A87: 7. | B87: Æñ³í³µ³Ý³Ï³Ý ³ÝÓÇ ·áñÍáõÝ»áõÃÛáõÝÇó µËáÕ Çñ³í³Ñ³ñ³µ»ñáõÃÛáõÝÝ»ñÇ í»ñ³µ»ñÛ³É ¹³ï³Ï³Ý ·áñÍ»ñ | E87: =SUM(E88:E89) -> 7 | F87: =SUM(F88:F89) -> 1 | G87: =SUM(G88:G89) -> 6 | H87: =SUM(H88:H89) -> 0 | I87: =SUM(I88:I89) -> 0 | J87: =SUM(J88:J89) -> 3 | K87: =SUM(K88:K89) -> 1 | L87: =SUM(L88:L89) -> 1 | ... AH87: =SUM(AH88:AH89) -> 0
A88: 7.1 | B88: Îáñåáñ³ïÇí í»×»ñ | E88: 1 | G88: 1 | AA88: 1
A89: 7.2 | B89: ²ÛÉ í»×»ñ | E89: 6 | F89: 1 | G89: 5 | J89: 3 | K89: 1 | L89: 1 | N89: 2 | O89: 1 | S89: 1 | U89: 1 | X89: 2 | AA89: 5 | AB89: 1
A90: 8. | B90: Ð³ïáõÏ í³ñáõÛÃÇ ¹³ï³Ï³Ý ·áñÍ»ñ | E90: =SUM(E91:E111) -> 383 | F90: =SUM(F91:F111) -> 74 | G90: =SUM(G91:G111) -> 298 | H90: =SUM(H91:H111) -> 11 | I90: =SUM(I91:I111) -> 0 | J90: =SUM(J91:J111) -> 359 | K90: =SUM(K91:K111) -> 241 | L90: =SUM(L91:L111) -> 100 | ... AH90: =SUM(AH91:AH111) -> 0
A91: 8.1 | B91: ²Ýã³÷³Ñ³ëÇÝ ÉñÇí ·áñÍáõÝ³Ï ×³Ý³ã»Éáõ /¿Ù³ÝëÇå³óÇ³/ í»ñ³µ»ñÛ³É
A92: 8.2 | B92: ø³Õ³ù³óáõÝ ³Ý·áñÍáõÝ³Ï Ï³Ù ë³ÑÙ³Ý³÷³Ï ·áñÍáõÝ³Ï ×³Ý³ã»Éáõ í»ñ³µ»ñÛ³É | E92: 131 | F92: 66 | G92: 64 | H92: 1 | J92: 82 | K92: 57 | L92: 20 | N92: 38 | O92: 31 | P92: 1 | Q92: 2 | S92: 4 | U92: 3 | V92: 1 | X92: 38 | Z92: 22 | AA92: 149 | AB92: 55 | AD92: 1 | AE92: 1
A93: 8.3 | B93: ø³Õ³ù³óáõÝ Ñá·»µáõÅ³Ï³Ý ÑÇí³Ý¹³Ýáó³ÛÇÝ Ñ³ñÏ³¹Çñ µáõÅÙ³Ý »ÝÃ³ñÏ»Éáõ í»ñ³µ»ñÛ³É | E93: 8 | G93: 8 | J93: 46 | K93: 37 | L93: 9 | N93: 33 | O93: 22 | P93: 1 | Q93: 1 | S93: 9 | U93: 9 | X93: 33 | AA93: 12
A94: 8.4 | B94: ø³Õ³ù³óáõÝ ³ÝÑ³Ûï µ³ó³Ï³ÛáÕ Ï³Ù Ù³Ñ³ó³Í ×³Ý³ã»Éáõ í»ñ³µ»ñÛ³É | E94: 57 | G94: 56 | H94: 1 | J94: 48 | K94: 31 | L94: 17 | N94: 36 | O94: 23 | P94: 1 | Q94: 5 | S94: 7 | U94: 4 | V94: 3 | W94: 1 | X94: 37 | AA94: 50 | AC94: 2 | AD94: 1 | AE94: 3
A95: 8.5 | B95: ø³Õ³ù³óÇ³Ï³Ý Ï³óáõÃÛ³Ý ³Ïï»ñÇ ·ñ³éáõÙÝ»ñÇ ³Ý×ßïáõÃÛáõÝÝ»ñÁ å³ñ½»Éáõ í»ñ³µ»ñÛ³É | E95: 1 | G95: 1 | AA95: 1
A96: 8.6 | B96: ¶áõÛùÁ ïÇñ³½áõñÏ ×³Ý³ã»Éáõ í»ñ³µ»ñÛ³É | E96: 8 | F96: 1 | G96: 7 | J96: 4 | K96: 4 | N96: 2 | O96: 2 | X96: 2 | AA96: 10 | AC96: 1 | AE96: 1
A97: 8.6.1 | B97: ²Û¹ ÃíáõÙª ³Ýß³ñÅ ·áõÛùÁ | E97: 6 | G97: 6 | J97: 6 | K97: 3 | L97: 3 | N97: 2 | S97: 2 | U97: 1 | V97: 1 | X97: 2 | AA97: 7 | AD97: 2 | AE97: 2
A98: 8.6.2 | B98: ²Û¹ ÃíáõÙª ß³ñÅ³Ï³Ý ·áõÛùÁ | E98: 6 | F98: 1 | G98: 5 | J98: 7 | K98: 5 | L98: 2 | AA98: 11 | AB98: 1
A99: 8.7 | B99: Æñ³í³µ³Ý³Ï³Ý Ýß³Ý³ÏáõÃÛáõÝ áõÝ»óáÕ ÷³ëï»ñÇ Ñ³ëï³ïÙ³Ý í»ñ³µ»ñÛ³É | E99: 25 | F99: 2 | G99: 23 | J99: 56 | K99: 35 | L99: 17 | M99: 1 | N99: 11 | O99: 5 | P99: 3 | Q99: 3 | W99: 3 | X99: 14 | AA99: 46 | AB99: 3 | AC99: 2 | AD99: 1 | AE99: 3
A100: 8.7.1 | B100: ²ÝÓ³Ýó ³½·³Ïó³Ï³Ý Ï³åÁ Ñ³ëï³ï»Éáõ í»ñ³µ»ñÛ³É | E100: 27 | F100: 1 | G100: 24 | H100: 2 | J100: 31 | K100: 26 | L100: 4 | N100: 20 | O100: 16 | P100: 1 | Q100: 2 | S100: 1 | U100: 1 | X100: 20 | Z100: 1 | AA100: 31 | AB100: 2 | AC100: 3 | AE100: 3
A101: 8.7.2 | B101: ²ÝÓÇª áõñÇßÇ ËÝ³ÙùÇ ï³Ï ·ïÝí»Éáõ í»ñ³µ»ñÛ³É | E101: 1 | G101: 1 | N101: 1 | S101: 1 | U101: 1 | X101: 1
A102: 8.7.3 | B102: ÌÝÝ¹Û³Ý, áñ¹»·ñÙ³Ý, ³ÙáõëÝáõÃÛ³Ý, ³å³Ñ³ñ½³ÝÇ ¨ Ù³Ñí³Ý ·ñ³ÝóÙ³Ý í»ñ³µ»ñÛ³É | E102: 6 | G102: 5 | H102: 1 | J102: 10 | K102: 4 | L102: 5 | N102: 4 | O102: 4 | X102: 4 | AA102: 5
A103: 8.7.4 | B103: ²ÝÓÇª áñáß³ÏÇ Å³Ù³Ý³ÏáõÙ ¨ áñáß³ÏÇ Ñ³Ý·³Ù³ÝùÝ»ñáõÙ Ù³Ñí³Ý í»ñ³µ»ñÛ³É | J103: 3 | K103: 2 | L103: 1 | N103: 1 | O103: 1 | X103: 1 | AA103: 1
A104: 8.7.5 | B104: Ä³é³Ý·áõÃÛáõÝÝ ÁÝ¹áõÝ»Éáõ ¨ Å³é³Ý·áõÃÛ³Ý µ³óÙ³Ý í³ÛñÇ í»ñ³µ»ñÛ³É | E104: 30 | F104: 2 | G104: 28 | J104: 5 | K104: 2 | L104: 2 | N104: 11 | O104: 5 | P104: 1 | Q104: 1 | S104: 4 | T104: 2 | U104: 2 | W104: 1 | X104: 12 | Z104: 2 | AA104: 20 | AB104: 2 | AC104: 1 | AD104: 1 | AE104: 2
A105: 8.7.6 | B105: ¸Åµ³Ëï å³ï³Ñ³ñÇ í»ñ³µ»ñÛ³É
A106: 8.7.7 | B106: Æñ³íáõÝù ë³ÑÙ³ÝáÕ ÷³ëï³ÃÕÃ»ñÇ å³ïÏ³Ý»ÉáõÃÛ³Ý í»ñ³µ»ñÛ³É | E106: 18 | G106: 17 | H106: 1 | J106: 23 | K106: 11 | L106: 10 | N106: 7 | O106: 5 | S106: 2 | U106: 1 | V106: 1 | X106: 7 | AA106: 21
A107: 8.7.8 | B107: ê»÷³Ï³ÝáõÃÛ³Ý Çñ³íáõÝùáí ·áõÛùÇ ïÇñ³å»ïÙ³Ý í»ñ³µ»ñÛ³É | E107: 19 | F107: 1 | G107: 15 | H107: 3 | J107: 8 | K107: 6 | L107: 1 | N107: 2 | O107: 1 | Q107: 1 | X107: 2 | Z107: 1 | AA107: 20 | AB107: 2 | AC107: 1 | AD107: 1 | AE107: 2
A108: 8.7.9 | B108: ²ÝÑ³ÕÃ³Ñ³ñ»ÉÇ áõÅÇ ³éÏ³ÛáõÃÛ³Ý í»ñ³µ»ñÛ³É
A109: 8.7.10 | B109: úñ»Ýùáí Ý³Ë³ï»ëí³Í ³ÛÉ Çñ³í³µ³Ý³Ï³Ý ÷³ëï»ñÇ í»ñ³µ»ñÛ³É | E109: 12 | G109: 11 | H109: 1 | J109: 14 | K109: 10 | L109: 3 | M109: 1 | N109: 8 | O109: 4 | Q109: 4 | X109: 8 | AA109: 13 | AC109: 3 | AE109: 3
A110: 8.8 | B110: Àëï Ý»ñÏ³Û³óÝáÕÇ ¨ ûñ¹»ñ³ÛÇÝ Ïáñóñ³Í ³ñÅ»ÃÕÃ»ñáí Ñ³í³ëïí³Í Çñ³íáõÝùÝ»ñÁ í»ñ³Ï³Ý·Ý»Éáõ í»ñ³µ»ñÛ³É
A111: 8.10 | B111: ²ÛÉ í»×»ñ | E111: 28 | G111: 27 | H111: 1 | J111: 16 | K111: 8 | L111: 6 | N111: 10 | O111: 6 | P111: 2 | Q111: 2 | X111: 10 | AA111: 25
...

Sheet Արմավիր
A1: 2019թ. 1-ին կիսամյակ | E1: Ð²ÞìºîìàôÂÚàôÜ
A2: ÐÐ ²ðØ²ìÆðÆ Ø²ð¼Æ ²è²æÆÜ ²îÚ²ÜÆ ÀÜ¸Ð²Üàôð Æð²ì²êàôÂÚ²Ü ¸²î²ð²ÜàôØ ø²Ô²ø²òÆ²Î²Ü ¶àðÌºðÆ øÜÜàôÂÚ²Ü ìºð²´ºðÚ²È
A3: ÐÐ ²ñÙ³íÇñÇ Ù³ñ½Ç ³é³çÇÝ ³ïÛ³ÝÇ ÁÝ¹Ñ³Ýáõñ Çñ³í³ëáõÃÛ³Ý ¹³ï³ñ³ÝáõÙ ù³Õ³ù³óÇ³Ï³Ý Ù³ëÝ³·Çï³óáõÙ áõÝ»óáÕ ¹³ï³íáñÝ»ñÇ Ñ³ëïÇùÝ»ñÇ ù³Ý³ÏÁ` 5
A4: êïáõ·Çã Ñ³í³ë³ñáõÙÝ»ñª 1=2+3+4+5, 6=7+8+9, 2+3+7=20+21+23, 10=11+12+13+14+15, 15=16+17+18, 20=10+19, 27=25+26, 30=28+29 | E4: Ð³ßí»ïáõ Å³Ù³Ý³Ï³Ñ³ïí³ÍáõÙ Ý³Ëáñ¹ Ñ³ßí»ïáõ Å³Ù³Ý³Ï³Ñ³ïí³ÍÇó ÷áË³Ýóí³Í ·áñÍ»ñÇ ÁÝ¹Ñ³Ýáõñ ÃÇíÁ | J4: Ð³ßí»ïáõ Å³Ù³Ý³Ï³Ñ³ïí³ÍáõÙëï³óí³Í ·áñÍ»ñÇ (³Û¹ ÃíáõÙ` Ñ³Ûó³¹ÇÙáõÙÝ»ñÇ, ¹ÇÙáõÙÝ»ñÇ) ÁÝ¹Ñ³Ýáõñ ÃÇíÁ | N4: Ð³ßí»ïáõ Å³Ù³Ý³Ï³Ñ³ïí³ÍáõÙ ³í³ñïí³Í ·áñÍ»ñÇ ÁÝ¹Ñ³Ýáõñ ÃÇíÁ | Y4: ¶áñÍÝ áõÕ³ñÏí»É ¿ Áëï ÁÝ¹¹³ïáõÃÛ³Ý | Z4: Ð³ßí»ïáõ Å³Ù³Ý³Ï³Ñ³ïí³ÍáõÙ Ï³ë»óí³Í í³ñáõÛÃÝ»ñáí ·áñÍ»ñÇ ÁÝ¹Ñ³Ýáõñ ÃÇíÁ | AA4: Ð³ßí»ïáõ Å³Ù³Ý³Ï³Ñ³ïí³ÍáõÙ ³Ý³í³ñï ·áñÍ»ñÇ ÁÝ¹Ñ³Ýáõñ ÃÇíÁ | AB4: ²Û¹ ÃíáõÙª Ï³ë»óí³Í | AC4: ´áÕáù³ñÏí³Í ¹³ï³Ï³Ý ³Ïï»ñÇ ÃÇíÁ` Áëï ï»ë³ÏÝ»ñÇ | AF4: ´»Ï³Ýí³Í ¹³ï³Ï³Ý ³Ïï»ñÇ ÃÇíÁ` Áëï ï»ë³ÏÝ»ñÇ
E7: ÀÝ¹³Ù»ÝÁ | F7: ²Û¹ ÃíáõÙ`Ï³ë»óí³Í íÇ×³ÏáõÙ ÷áË³Ýóí³Í | G7: ²Û¹ ÃíáõÙª ÁÝ¹áõÝí»É ¿ í³ñáõÛÃ | H7: ²Û¹ ÃíáõÙª í»ñ³¹³ñÓí»É ¿ | I7: ²Û¹ ÃíáõÙª ÁÝ¹áõÝáõÙÁ Ù»ñÅí»É ¿ | J7: ÀÝ¹³Ù»ÝÁ | K7: ²Û¹ ÃíáõÙª ÁÝ¹áõÝí»É ¿ í³ñáõÛÃ | L7: ²Û¹ ÃíáõÙª í»ñ³¹³ñÓí»É ¿ | M7: ²Û¹ ÃíáõÙª ÁÝ¹áõÝáõÙÁ Ù»ñÅí»É ¿ | N7: ÀÝ¹³Ù»ÝÁ ³í³ñïí»É »Ý ·áñÍ»ñ ·áñÍÝ Áëï ¿áõÃÛ³Ý ÉáõÍáÕ ¹³ï³Ï³Ý ³Ïï»ñÇ (í×ÇéÝ»ñÇ) Ï³Û³óÙ³Ùµ | O7: ²Û¹ ÃíáõÙª Ñ³ÛóÇ µ³í³ñ³ñÙ³Ùµ | P7: ²Û¹ ÃíáõÙª Ñ³ÛóÇ Ù³ëÝ³ÏÇ µ³í³ñ³ñÙ³Ùµ | Q7: ²Û¹ ÃíáõÙª Ñ³ÛóÇ Ù»ñÅÙ³Ùµ | R7: Ø³ëáí Ï³ñ×í»É ¿, Ù³ëáí Ù»ñÅí»É | S7: ²Û¹ ÃíáõÙª Ï³ñ×í»É »Ý | W7: Ð³ÛóÁ ÃáÕÝí»É ¿ ³é³Ýó ùÝÝáõÃÛ³Ý | X7: ÀÝ¹³Ù»ÝÝ ³í³ñïí»É »Ý ·áñÍ»ñ | AC7: ²Û¹ ÃíáõÙ` ·áñÍÝ Áëï ¿áõÃÛ³Ý ÉáõÍáÕ ¹³ï³Ï³Ý ³Ïï»ñ | AD7: ²Û¹ ÃíáõÙ` ÙÇç³ÝÏÛ³É ¹³ï³Ï³Ý ³Ïï»ñ | AE7: ÀÝ¹³Ù»ÝÁ | AF7: ²Û¹ ÃíáõÙ` ·áñÍÝ Áëï ¿áõÃÛ³Ý ÉáõÍáÕ ¹³ï³Ï³Ý ³Ïï»ñ | AG7: ²Û¹ ÃíáõÙ` ÙÇç³ÝÏÛ³É ¹³ï³Ï³Ý ³Ïï»ñ | AH7: ÀÝ¹³Ù»ÝÁ
S10: ÀÝ¹³Ù»ÝÁ Ï³ñ×í»É »Ý | T10: ²Û¹ ÃíáõÙª Ñ³ëï³ïí»É ¿ ÏÝùí³Í Ñ³ßïáõÃÛ³Ý Ñ³Ù³Ó³ÛÝáõÃÛáõÝÁ | U10: ²Û¹ ÃíáõÙª Ñ³óÇó, ¹ÇÙáõÙÇó Ññ³Å³ñí»Éáõ ÑÇÙùáí | V10: ²Û¹ ÃíáõÙª ³ÛÉ ÑÇÙùáí
A18: ø³Õ³ù³óÇ³Ï³Ý ·áñÍ»ñÇ ¹³ë³Ï³ñ·áõÙÁ | E18: 1 | F18: 2 | G18: 3 | H18: 4 | I18: 5 | J18: 6 | K18: 7 | L18: 8 | M18: 9 | N18: 10 | O18: 11 | P18: 12 | Q18: 13 | R18: 14 | S18: 15 | T18: 16 | U18: 17 | V18: 18 | W18: 19 | X18: 20 | Y18: 21 | Z18: 22 | AA18: 23 | AB18: 24 | AC18: 25 | AD18: 26 | AE18: 27 | AF18: 28 | AG18: 29 | AH18: 30
A19: 1. | B19: ¶áõÛù³ÛÇÝ Çñ³í³Ñ³ñ³µ»ñáõÃÛáõÝÝ»ñÇ í»ñ³µ»ñÛ³É ¹³ï³Ï³Ý ·áñÍ»ñ | E19: =SUM(E20:E38) -> 331 | F19: =SUM(F20:F38) -> 131 | G19: =SUM(G20:G38) -> 199 | H19: =SUM(H20:H38) -> 1 | I19: =SUM(I20:I38) -> 0 | J19: =SUM(J20:J38) -> 165 | K19: =SUM(K20:K38) -> 123 | L19: =SUM(L20:L38) -> 28 | ... AH19: =SUM(AH20:AH38) -> 0
A20: 1.1 | B20: ¶áõÛùÇ ÝÏ³ïÙ³Ùµ ë»÷³Ï³ÝáõÃÛ³Ý Çñ³íáõÝùÁ ×³Ý³ã»Éáõ í»ñ³µ»ñÛ³É | E20: 16 | F20: 2 | G20: 14 | J20: 12 | K20: 7 | L20: 4 | M20: 1 | N20: 4 | O20: 4 | X20: 4 | AA20: 19 | AB20: 1 | AD20: 1 | AE20: 1
A21: 1.1.1 | B21: ²Û¹ ÃíáõÙª Ó»éùµ»ñÙ³Ý í³Õ»ÙáõÃÛ³Ý áõÅáí | E21: 35 | G21: 34 | H21: 1 | J21: 32 | K21: 24 | L21: 3 | M21: 5 | N21: 18 | O21: 13 | Q21: 2 | S21: 3 | U21: 3 | X21: 18 | Z21: 1 | AA21: 40 | AB21: 2 | AC21: 6 | AE21: 6
A22: 1.1.2 | B22: ²Û¹ ÃíáõÙª ïÇñ³½áõñÏ ·áõÛùÇ ÝÏ³ïÙ³Ùµ
A23: 1.1.3 | B23: ²Û¹ ÃíáõÙª ÇÝùÝ³Ï³Ù Ï³éáõÛóÇ ÝÏ³ïÙ³Ùµ
A24: 1.2 | B24: ê»÷³Ï³ÝáõÃÛ³Ý Çñ³íáõÝùÇ ¹³¹³ñ»óÙ³Ý í»ñ³µ»ñÛ³É | E24: 1 | G24: 1 | J24: 1 | L24: 1 | AA24: 1
A25: 1.3 | B25: ¶áõÛùÇ ÝÏ³ïÙ³Ùµ û·ï³·áñÍÙ³Ý Çñ³íáõÝùÁ ×³Ý³ã»Éáõ í»ñ³µ»ñÛ³É | AC25: 1 | AE25: 1
A26: 1.3.1 | B26: ²Û¹ ÃíáõÙª µÝ³Ïû·ï³·áñÍÙ³Ý Çñ³íáõÝùÁ ×³Ý³ã»Éáõ í»ñ³µ»ñÛ³É
A27: 1.3.2 | B27: ²Û¹ ÃíáõÙª ÑáÕ³Ù³ëÇ ÝÏ³ïÙ³Ùµ û·ï³·áñÍÙ³Ý Çñ³íáõÝùÁ ×³Ý³ã»Éáõ í»ñ³µ»ñÛ³É
A28: 1.4 | B28: ¶áõÛùÇ ÝÏ³ïÙ³Ùµ û·ï³·áñÍÙ³Ý Çñ³íáõÝùÁ ¹³¹³ñ»óÝ»Éáõ í»ñ³µ»ñÛ³É | E28: 3 | G28: 3 | N28: 3 | O28: 3 | X28: 3
A29: 1.4.1 | B29: ²Û¹ ÃíáõÙª µÝ³Ïû·ï³·áñÍÙ³Ý Çñ³íáõÝùÁ ¹³¹³ñ»óÝ»Éáõ í»ñ³µ»ñÛ³É | E29: 1 | G29: 1 | AA29: 1
A30: 1.4.1/1 | B30: ²Û¹ ÃíáõÙª ÷áËÑ³ïáõóÙ³Ùµ
A31: 1.5 | B31: ´Ý³Ï³ñ³ÝÇó/ ï³ñ³ÍùÇó/ íï³ñ»Éáõ í»ñ³µ»ñÛ³É | E31: 7 | F31: 2 | G31: 5 | J31: 4 | K31: 3 | N31: 2 | O31: 1 | S31: 1 | U31: 1 | X31: 2 | AA31: 8 | AB31: 2 | AC31: 1 | AE31: 1
A32: 1.6 | B32: ¶áõÛùÝ áõñÇßÇ ³åûñÇÝÇ ïÇñ³å»ïáõÙÇó »ï í»ñ³¹³ñÓÝ»Éáõ í»ñ³µ»ñÛ³É | E32: 10 | F32: 1 | G32: 9 | J32: 6 | K32: 4 | L32: 2 | N32: 3 | O32: 2 | Q32: 1 | X32: 3 | Z32: 1 | AA32: 11 | AB32: 1 | AC32: 1 | AE32: 1
A33: 1.6.1 | B33: ´³ñ»ËÇÕ× Ó»éùµ»ñáÕÇó Çñ ·áõÛùÁ Ñ»ï å³Ñ³Ýç»Éáõ í»ñ³µ»ñÛ³É
A34: 1.7 | B34: îÇñ³å»ïáõÙÇó ½ñÏ»Éáõ Ñ»ï ãÏ³åí³Í Çñ³íáõÝùÝ»ñÇ Ë³ËïáõÙÁ í»ñ³óÝ»Éáõ í»ñ³µ»ñÛ³É
A35: 1.8 | B35: ÀÝ¹Ñ³Ýáõñ µ³ÅÝ³ÛÇÝ ë»÷³Ï³ÝáõÃÛáõÝÇó µ³ÅÇÝÝ ³é³ÝÓÝ³óÝ»Éáõ í»ñ³µ»ñÛ³É | E35: 205 | F35: 102 | G35: 103 | J35: 65 | K35: 48 | L35: 12 | M35: 1 | N35: 39 | O35: 24 | P35: 1 | Q35: 2 | S35: 12 | T35: 1 | U35: 11 | W35: 1 | X35: 40 | Y35: 2 | Z35: 26 | AA35: 210 | AB35: 59 | AC35: 3 | AD35: 1 | AE35: 4
A36: 1.8.1 | B36: Ð³Ù³ï»Õ ë»÷³Ï³ÝáõÃÛ³Ý Ý»ñùá ·ïÝíáÕ ·áõÛùÁ µ³Å³Ý»Éáõ ¨ ¹ñ³ÝÇó µ³ÅÇÝÝ ³é³ÝÓÝ³óÝ»Éáõ í»ñ³µ»ñÛ³É | E36: 8 | F36: 3 | G36: 5 | J36: 29 | K36: 25 | L36: 3 | Z36: 1 | AA36: 33 | AB36: 2
A37: 1.8.3 | B37: ¶áõÛùÇ íñ³ µéÝ³·³ÝÓáõÙ ï³ñ³Í»Éáõ å³Ñ³ÝçÇ Ù³ëÇÝ | E37: 22 | F37: 15 | G37: 7 | J37: 5 | K37: 5 | N37: 3 | O37: 3 | X37: 3 | Z37: 1 | AA37: 24 | AB37: 12 | AC37: 1 | AE37: 1
A38: 1.9 | B38: ²ÛÉ í»×»ñ | E38: 23 | F38: 6 | G38: 17 | J38: 11 | K38: 7 | L38: 3 | N38: 6 | O38: 2 | Q38: 2 | S38: 2 | U38: 2 | W38: 1 | X38: 7 | Y38: 1 | Z38: 1 | AA38: 22 | AB38: 4 | AC38: 1 | AD38: 1 | AE38: 2
A39: 2. | B39: ¶áñÍ³ñùÝ»ñÇ Ñ»ï Ï³åí³Í Çñ³í³Ñ³ñ³µ»ñáõÃÛáõÝÝ»ñÇ í»ñ³µ»ñÛ³É ¹³ï³Ï³Ý ·áñÍ»ñ | E39: =SUM(E40:E50) -> 32 | F39: =SUM(F40:F50) -> 6 | G39: =SUM(G40:G50) -> 26 | H39: =SUM(H40:H50) -> 0 | I39: =SUM(I40:I50) -> 0 | J39: =SUM(J40:J50) -> 29 | K39: =SUM(K40:K50) -> 18 | L39: =SUM(L40:L50) -> 7 | ... AH39: =SUM(AH40:AH50) -> 0
A40: 2.1 | B40: ·áñÍ³ñùÝ»ñÇ ³Ýí³í»ñáõÃÛ³Ý Ñ»ï Ï³åí³Í í»×»ñ | E40: 11 | F40: 3 | G40: 8 | J40: 8 | K40: 3 | L40: 3 | M40: 2 | N40: 3 | O40: 1 | Q40: 1 | S40: 1 | U40: 1 | X40: 3 | Z40: 1 | AA40: 11 | AB40: 3 | AC40: 3 | AD40: 1 | AE40: 4
A41: 2.1.1 | B41: ³Û¹ ÃíáõÙ` íÇ×³Ñ³ñáõÛó ·áñÍ³ñùÝ»ñÝ ³Ýí³í»ñ ×³Ý³ã»Éáõ í»ñ³µ»ñÛ³É
A42: 2.1.2 | B42: ³Û¹ ÃíáõÙ` ·áñÍ³ñùÇ ³éáãÝãáõÃÛ³Ý Ñ»ï¨³ÝùÝ»ñ ÏÇñ³é»Éáõ í»ñ³µ»ñÛ³É | E42: 1 | G42: 1 | J42: 2 | K42: 2 | N42: 1 | P42: 1 | X42: 1 | AA42: 2
A43: 2.2 | B43: ¶áñÍ³ñùÁ í³í»ñ ×³Ý³ã»Éáõ í»ñ³µ»ñÛ³É | E43: 3 | G43: 3 | J43: 5 | K43: 4 | L43: 1 | N43: 3 | Q43: 1 | S43: 2 | U43: 1 | V43: 1 | X43: 3 | AA43: 4 | AC43: 1 | AE43: 1
A44: 2.3 | B44: ¶áñÍ³ñùÇó Í³·áÕ Çñ³íáõÝùÝ»ñÁ ·ñ³Ýó»Éáõ í»ñ³µ»ñÛ³É
A45: 2.4 | B45: ä³ÛÙ³Ý³·ÇñÝ ³Ýí³í»ñ ×³Ý³ã»Éáõ í»ñ³µ»ñÛ³É | E45: 6 | F45: 1 | G45: 5 | J45: 5 | K45: 1 | L45: 3 | M45: 1 | N45: 2 | O45: 1 | S45: 1 | U45: 1 | X45: 2 | Z45: 1 | AA45: 5 | AB45: 2 | AC45: 2 | AE45: 2
A46: 2.5 | B46: ä³ÛÙ³Ý³·ñÇÁ í³í»ñ ×³Ý³ã»Éáõ í»ñ³µ»ñÛ³É | E46: 1 | G46: 1 | J46: 1 | K46: 1 | AA46: 2
A47: 2.6 | B47: ä³ÛÙ³Ý³·ñÇó Í³·áÕ Çñ³íáõÝùÝ»ñÁ ·ñ³Ýó»Éáõ í»ñ³µ»ñÛ³É
A48: 2.7 | B48: ä³ÛÙ³Ý³·ÇñÁ ÷á÷áË»Éáõ ¨ ÉáõÍ»Éáõ í»ñ³µ»ñÛ³É | E48: 1 | G48: 1 | J48: 6 | K48: 6 | AA48: 7
A49: 2.8 | B49: ä³ÛÙ³Ý³·Çñ ÏÝù»ÉáõÝ å³ñï³íáñ»óÝ»Éáõ í»ñ³µ»ñÛ³É
A50: 2.9 | B50: ²ÛÉ í»×»ñ | E50: 9 | F50: 2 | G50: 7 | J50: 2 | K50: 1 | M50: 1 | N50: 3 | O50: 1 | P50: 1 | Q50: 1 | X50: 3 | Y50: 2 | AA50: 5 | AB50: 1 | AC50: 3 | AD50: 1 | AE50: 4
A51: 3. | B51: Ä³é³Ý·áõÃÛ³Ý Ñ»ï Ï³åí³Í Çñ³í³Ñ³ñ³µ»ñáõÃÛáõÝÝ»ñÇ í»ñ³µ»ñÛ³É ¹³ï³Ï³Ý ·áñÍ»ñ | E51: =SUM(E52:E58) -> 15 | F51: =SUM(F52:F58) -> 1 | G51: =SUM(G52:G58) -> 14 | H51: =SUM(H52:H58) -> 0 | I51: =SUM(I52:I58) -> 0 | J51: =SUM(J52:J58) -> 10 | K51: =SUM(K52:K58) -> 6 | L51: =SUM(L52:L58) -> 3 | ... AH51: =SUM(AH52:AH58) -> 0
A52: 3.1 | B52: Îï³ÏÝ ³Ýí³í»ñ ×³Ý³ã»Éáõ í»ñ³µ»ñÛ³É | J52: 1 | K52: 1 | AA52: 1
A53: 3.2 | B53: ²Ý³ñÅ³Ý Å³é³Ý· ×³Ý³ã»Éáõ í»ñ³µ»ñÛ³É
A54: 3.3 | B54: Ä³é³Ý·áõÃÛáõÝÁ µ³Å³Ý»Éáõ í»ñ³µ»ñÛ³É
A55: 3.4 | B55: ¶áõÛùÝ ³ÝÅ³é³Ý· ×³Ý³ã»Éáõ í»ñ³µ»ñÛ³É
A56: 3.5 | B56: Àëï ûñ»ÝùÇ Å³é³Ý·áõÃÛ³Ý Çñ³íáõÝùÇ íÏ³Û³·ÇñÝ ³Ýí³í»ñ ×³Ý³ã»Éáõ í»ñ³µ»ñÛ³É
A57: 3.6 | B57: Ä³é³Ý·áõÃÛáõÝÝ ÁÝ¹áõÝ»Éáõ µ³ó ÃáÕÝí³Í Å³ÙÏ»ïÁ Ñ³ñ·»ÉÇ Ñ³Ù³ñ»Éáõ í»ñ³µ»ñÛ³É | J57: 1 | K57: 1 | AA57: 1
A58: 3.7 | B58: ²ÛÉ í»×»ñ | E58: 15 | F58: 1 | G58: 14 | J58: 8 | K58: 4 | L58: 3 | M58: 1 | N58: 6 | O58: 4 | P58: 1 | Q58: 1 | X58: 6 | Z58: 3 | AA58: 13 | AB58: 3 | AC58: 1 | AE58: 1
A59: 4 | B59: ÀÝï³Ý»Ï³Ý Çñ³í³Ñ³ñ³µ»ñáõÃÛáõÝÝ»ñÇ í»ñ³µ»ñÛ³É ¹³ï³Ï³Ý ·áñÍ»ñ | E59: =SUM(E60:E72) -> 143 | F59: =SUM(F60:F72) -> 5 | G59: =SUM(G60:G72) -> 137 | H59: =SUM(H60:H72) -> 1 | I59: =SUM(I60:I72) -> 0 | J59: =SUM(J60:J72) -> 133 | K59: =SUM(K60:K72) -> 114 | L59: =SUM(L60:L72) -> 15 | ... AH59: =SUM(AH60:AH72) -> 2
A60: 4.1 | B60: ²ÙáõëÝ³ÉáõÍáõÃÛ³Ý í»ñ³µ»ñÛ³É | E60: 52 | G60: 51 | H60: 1 | J60: 63 | K60: 61 | L60: 2 | N60: 35 | O60: 23 | P60: 4 | Q60: 1 | S60: 7 | U60: 7 | X60: 35 | Y60: 1 | AA60: 76 | AC60: 3 | AD60: 1 | AE60: 4 | AF60: 1 | AH60: 1
A61: 4.2 | B61: ²ÉÇÙ»ÝïÇ å³Ñ³ÝçÇ í»ñ³µ»ñÛ³É | E61: 25 | G61: 25 | J61: 31 | K61: 23 | L61: 5 | M61: 2 | N61: 20 | O61: 9 | P61: 11 | X61: 20 | Z61: 1 | AA61: 28 | AB61: 1 | AC61: 1 | AE61: 1
A62: 4.3 | B62: ²ÉÇÙ»ÝïÇ ã³÷Á ÷á÷áË»Éáõ í»ñ³µ»ñÛ³É | E62: 5 | G62: 5 | J62: 2 | K62: 2 | N62: 2 | Q62: 1 | S62: 1 | T62: 1 | W62: 1 | X62: 3 | AA62: 4
A63: 4.4 | B63: ÌÝáÕ³Ï³Ý Çñ³íáõÝùÝ»ñÇó ½ñÏ»Éáõ í»ñ³µ»ñÛ³É | J63: 1 | K63: 1 | AA63: 1
A64: 4.5 | B64: ÌÝáÕ³Ï³Ý Çñ³íáõÝùÝ»ñÁ í»ñ³Ï³Ý·Ý»Éáõ í»ñ³µ»ñÛ³É
A65: 4.6 | B65: ºñ»Ë³ÛÇ áñ¹»·ñÙ³Ý í»ñ³µ»ñÛ³É
A66: 4.7 | B66: ºñ»Ë³ÛÇ áñ¹»·ñáõÙÁ í»ñ³óÝ»Éáõ í»ñ³µ»ñÛ³É | E66: 4 | G66: 4 | J66: 1 | K66: 1 | N66: 3 | O66: 2 | P66: 1 | X66: 3 | AA66: 2
A67: 4.8 | B67: Ð³ÛñáõÃÛáõÝÁ ×³Ý³ã»Éáõ í»ñ³µ»ñÛ³É | E67: 20 | F67: 1 | G67: 19 | J67: 8 | K67: 6 | L67: 1 | N67: 10 | O67: 7 | P67: 2 | S67: 1 | V67: 1 | X67: 10 | Z67: 3 | AA67: 16 | AB67: 4 | AF67: 1 | AH67: 1
A68: 4.9 | B68: ºñ»Ë³ÛÇ µÝ³ÏáõÃÛ³Ý í³ÛñÁ áñáß»Éáõ í»ñ³µ»ñÛ³É | E68: 14 | G68: 14 | J68: 5 | K68: 4 | L68: 1 | N68: 7 | O68: 5 | S68: 2 | U68: 2 | X68: 7 | AA68: 11
A69: 4.10 | B69: ºñ»Ë³ÛÇ Ñ»ï ï»ë³ÏóáõÃÛ³Ý Ï³ñ· ë³ÑÙ³Ý»Éáõ í»ñ³µ»ñÛ³É | E69: 19 | F69: 2 | G69: 17 | J69: 17 | K69: 15 | L69: 2 | N69: 7 | O69: 3 | P69: 2 | S69: 2 | U69: 2 | W69: 1 | X69: 8 | Z69: 1 | AA69: 26 | AB69: 1 | AC69: 2 | AE69: 2
A70: 4.11 | B70: ²ÙáõëÇÝÝ»ñÇ ÁÝ¹Ñ³Ýáõñ ·áõÛùÁ µ³Å³Ý»Éáõ í»ñ³µ»ñÛ³É | E70: 3 | F70: 2 | G70: 1 | N70: 2 | O70: 1 | P70: 1 | X70: 2 | AA70: 1 | AB70: 1
A71: 4.12 | B71: ²ÙáõëÝ³Ï³Ý å³ÛÙ³Ý³·ñÇ ÷á÷áËÙ³Ý Ï³Ù ÉáõÍÙ³Ý í»ñ³µ»ñÛ³É
A72: 4.13 | B72: ²ÛÉ í»×»ñ | E72: 1 | G72: 1 | J72: 5 | K72: 1 | L72: 4 | N72: 1 | O72: 1 | X72: 1 | AA72: 1
A73: 5. | B73: Øï³íáñ ë»÷³Ï³ÝáõÃÛ³Ý Ñ»ï Ï³åí³ÍÇñ³í³Ñ³ñ³µ»ñáõÃÛáõÝÝ»ñÇ í»ñ³µ»ñÛ³É ¹³ï³Ï³Ý ·áñÍ»ñ | E73: =SUM(E74:E79) -> 1 | F73: =SUM(F74:F79) -> 0 | G73: =SUM(G74:G79) -> 1 | H73: =SUM(H74:H79) -> 0 | I73: =SUM(I74:I79) -> 0 | J73: =SUM(J74:J79) -> 1 | K73: =SUM(K74:K79) -> 1 | L73: =SUM(L74:L79) -> 0 | ... AH73: =SUM(AH74:AH79) -> 0
A74: 5.1 | B74: ÈÇó»Ý½³ÛÇÝ å³ÛÙ³Ý³·ñÇ ÉáõÍÙ³Ý, ÷á÷áËÙ³Ý ¨ ³Ýí³í»ñáõÃÛ³Ý í»ñ³µ»ñÛ³É
A75: 5.2 | B75: Øï³íáñ ·áñÍáõÝ»áõÃÛ³Ý ³ñ¹ÛáõÝùÝ»ñ ëï»ÕÍ»Éáõ ¨ û·ï³·áñÍ»Éáõ å³ÛÙ³Ý³·ñÇ ÉáõÍÙ³Ý, ÷á÷áËÙ³Ý áõ ³Ýí³í»ñáõÃÛ³Ý í»ñ³µ»ñÛ³É
A76: 5.3 | B76: Ð»ÕÇÝ³Ï³ÛÇÝ ¨ Ñ³ñ³ÏÇó Çñ³íáõÝùÝ»ñÇ í»ñ³µ»ñÛ³É
A77: 5.4 | B77: üÇñÙ³ÛÇÝ ³Ýí³ÝÙ³Ý í»ñ³µ»ñÛ³É | E77: 1 | G77: 1 | N77: 1 | O77: 1 | X77: 1
A78: 5.5 | B78: ²åñ³Ýù³ÛÇÝ Ýß³ÝÇ í»ñ³µ»ñÛ³É | J78: 1 | K78: 1 | AA78: 1
A79: 5.6 | B79: ²ÛÉ í»×»ñ
A80: 6. | B80: ²ßË³ï³Ýù³ÛÇÝ Çñ³í³Ñ³ñ³µ»ñáõÃÛáõÝÝ»ñÇ í»ñ³µ»ñÛ³É ¹³ï³Ï³Ý ·áñÍ»ñ | E80: =SUM(E81:E86) -> 11 | F80: =SUM(F81:F86) -> 1 | G80: =SUM(G81:G86) -> 10 | H80: =SUM(H81:H86) -> 0 | I80: =SUM(I81:I86) -> 0 | J80: =SUM(J81:J86) -> 5 | K80: =SUM(K81:K86) -> 4 | L80: =SUM(L81:L86) -> 1 | ... AH80: =SUM(AH81:AH86) -> 0
A81: 6.1 | B81: ²ßË³ï³Ýù³ÛÇÝ å³ÛÙ³Ý³·ñ»ñÇ í»ñ³µ»ñÛ³É
A82: 6.2 | B82: ²ßË³ï³ÝùáõÙ í»ñ³Ï³Ý·Ý»Éáõ í»ñ³µ»ñÛ³É | E82: 2 | G82: 2 | J82: 2 | K82: 2 | N82: 3 | O82: 1 | P82: 1 | Q82: 1 | X82: 3 | AA82: 1 | AC82: 3 | AE82: 3
A83: 6.3 | B83: ¶áñÍ³¹áõÉÝ ³ÝûñÇÝ³Ï³Ý ×³Ý³ã»Éáõ í»ñ³µ»ñÛ³É
A84: 6.4 | B84: Ð³ñÏ³¹Çñ å³ñ³åáõñ¹Ç Ñ³ïáõóÙ³Ý í»ñ³µ»ñÛ³É
A85: 6.5 | B85: âí×³ñí³Í ³ßË³ï³í³ñÓÇ ¨/Ï³Ù ³ÛÉ í×³ñÝ»ñÇ µéÝ³·³ÝÓÙ³Ý í»ñ³µ»ñÛ³É | E85: 7 | F85: 1 | G85: 6 | J85: 1 | K85: 1 | N85: 4 | O85: 1 | Q85: 2 | S85: 1 | U85: 1 | X85: 4 | AA85: 4 | AB85: 1 | AC85: 1 | AE85: 1
A86: 6.6 | B86: ²ÛÉ í»×»ñ | E86: 2 | G86: 2 | J86: 2 | K86: 1 | L86: 1 | N86: 2 | O86: 1 | Q86: 1 | X86: 2 | AA86: 1 | AC86: 1 | AE86: 1
A87: 7. | B87: Æñ³í³µ³Ý³Ï³Ý ³ÝÓÇ ·áñÍáõÝ»áõÃÛáõÝÇó µËáÕ Çñ³í³Ñ³ñ³µ»ñáõÃÛáõÝÝ»ñÇ í»ñ³µ»ñÛ³É ¹³ï³Ï³Ý ·áñÍ»ñ | E87: =SUM(E88:E89) -> 0 | F87: =SUM(F88:F89) -> 0 | G87: =SUM(G88:G89) -> 0 | H87: =SUM(H88:H89) -> 0 | I87: =SUM(I88:I89) -> 0 | J87: =SUM(J88:J89) -> 0 | K87: =SUM(K88:K89) -> 0 | L87: =SUM(L88:L89) -> 0 | ... AH87: =SUM(AH88:AH89) -> 0
A88: 7.1 | B88: Îáñåáñ³ïÇí í»×»ñ
A89: 7.2 | B89: ²ÛÉ í»×»ñ
A90: 8. | B90: Ð³ïáõÏ í³ñáõÛÃÇ ¹³ï³Ï³Ý ·áñÍ»ñ | E90: =SUM(E91:E111) -> 49 | F90: =SUM(F91:F111) -> 2 | G90: =SUM(G91:G111) -> 46 | H90: =SUM(H91:H111) -> 1 | I90: =SUM(I91:I111) -> 0 | J90: =SUM(J91:J111) -> 104 | K90: =SUM(K91:K111) -> 69 | L90: =SUM(L91:L111) -> 30 | ... AH90: =SUM(AH91:AH111) -> 0
A91: 8.1 | B91: ²Ýã³÷³Ñ³ëÇÝ ÉñÇí ·áñÍáõÝ³Ï ×³Ý³ã»Éáõ /¿Ù³ÝëÇå³óÇ³/ í»ñ³µ»ñÛ³É
A92: 8.2 | B92: ø³Õ³ù³óáõÝ ³Ý·áñÍáõÝ³Ï Ï³Ù ë³ÑÙ³Ý³÷³Ï ·áñÍáõÝ³Ï ×³Ý³ã»Éáõ í»ñ³µ»ñÛ³É | E92: 4 | F92: 2 | G92: 2 | J92: 16 | K92: 10 | L92: 6 | N92: 1 | O92: 1 | X92: 1 | Z92: 5 | AA92: 13 | AB92: 6
A93: 8.3 | B93: ø³Õ³ù³óáõÝ Ñá·»µáõÅ³Ï³Ý ÑÇí³Ý¹³Ýáó³ÛÇÝ Ñ³ñÏ³¹Çñ µáõÅÙ³Ý »ÝÃ³ñÏ»Éáõ í»ñ³µ»ñÛ³É
A94: 8.4 | B94: ø³Õ³ù³óáõÝ ³ÝÑ³Ûï µ³ó³Ï³ÛáÕ Ï³Ù Ù³Ñ³ó³Í ×³Ý³ã»Éáõ í»ñ³µ»ñÛ³É | E94: 1 | G94: 1 | J94: 4 | K94: 2 | L94: 2 | N94: 2 | O94: 2 | X94: 2 | AA94: 1
A95: 8.5 | B95: ø³Õ³ù³óÇ³Ï³Ý Ï³óáõÃÛ³Ý ³Ïï»ñÇ ·ñ³éáõÙÝ»ñÇ ³Ý×ßïáõÃÛáõÝÝ»ñÁ å³ñ½»Éáõ í»ñ³µ»ñÛ³É
A96: 8.6 | B96: ¶áõÛùÁ ïÇñ³½áõñÏ ×³Ý³ã»Éáõ í»ñ³µ»ñÛ³É | J96: 1 | L96: 1
A97: 8.6.1 | B97: ²Û¹ ÃíáõÙª ³Ýß³ñÅ ·áõÛùÁ
A98: 8.6.2 | B98: ²Û¹ ÃíáõÙª ß³ñÅ³Ï³Ý ·áõÛùÁ
A99: 8.7 | B99: Æñ³í³µ³Ý³Ï³Ý Ýß³Ý³ÏáõÃÛáõÝ áõÝ»óáÕ ÷³ëï»ñÇ Ñ³ëï³ïÙ³Ý í»ñ³µ»ñÛ³É | E99: 24 | G99: 24 | J99: 24 | K99: 17 | L99: 6 | M99: 1 | N99: 24 | O99: 21 | P99: 1 | S99: 2 | U99: 2 | X99: 24 | AA99: 17 | AD99: 1 | AE99: 1
A100: 8.7.1 | B100: ²ÝÓ³Ýó ³½·³Ïó³Ï³Ý Ï³åÁ Ñ³ëï³ï»Éáõ í»ñ³µ»ñÛ³É | E100: 8 | G100: 7 | H100: 1 | J100: 18 | K100: 11 | L100: 7 | N100: 9 | O100: 9 | X100: 9 | AA100: 9 | AD100: 1 | AE100: 1
A101: 8.7.2 | B101: ²ÝÓÇª áõñÇßÇ ËÝ³ÙùÇ ï³Ï ·ïÝí»Éáõ í»ñ³µ»ñÛ³É
A102: 8.7.3 | B102: ÌÝÝ¹Û³Ý, áñ¹»·ñÙ³Ý, ³ÙáõëÝáõÃÛ³Ý, ³å³Ñ³ñ½³ÝÇ ¨ Ù³Ñí³Ý ·ñ³ÝóÙ³Ý í»ñ³µ»ñÛ³É | E102: 3 | G102: 3 | J102: 14 | K102: 9 | L102: 4 | N102: 8 | O102: 8 | X102: 8 | AA102: 4
A103: 8.7.4 | B103: ²ÝÓÇª áñáß³ÏÇ Å³Ù³Ý³ÏáõÙ ¨ áñáß³ÏÇ Ñ³Ý·³Ù³ÝùÝ»ñáõÙ Ù³Ñí³Ý í»ñ³µ»ñÛ³É | E103: 1 | G103: 1 | J103: 1 | K103: 1 | N103: 1 | O103: 1 | X103: 1 | AA103: 1 | AD103: 1 | AE103: 1
A104: 8.7.5 | B104: Ä³é³Ý·áõÃÛáõÝÝ ÁÝ¹áõÝ»Éáõ ¨ Å³é³Ý·áõÃÛ³Ý µ³óÙ³Ý í³ÛñÇ í»ñ³µ»ñÛ³É
A105: 8.7.6 | B105: ¸Åµ³Ëï å³ï³Ñ³ñÇ í»ñ³µ»ñÛ³É
A106: 8.7.7 | B106: Æñ³íáõÝù ë³ÑÙ³ÝáÕ ÷³ëï³ÃÕÃ»ñÇ å³ïÏ³Ý»ÉáõÃÛ³Ý í»ñ³µ»ñÛ³É | E106: 6 | G106: 6 | J106: 22 | K106: 17 | L106: 2 | M106: 1 | N106: 16 | O106: 15 | Q106: 1 | X106: 16 | AA106: 7
A107: 8.7.8 | B107: ê»÷³Ï³ÝáõÃÛ³Ý Çñ³íáõÝùáí ·áõÛùÇ ïÇñ³å»ïÙ³Ý í»ñ³µ»ñÛ³É | J107: 2 | K107: 1 | L107: 1 | N107: 1 | S107: 1 | U107: 1 | X107: 1
A108: 8.7.9 | B108: ²ÝÑ³ÕÃ³Ñ³ñ»ÉÇ áõÅÇ ³éÏ³ÛáõÃÛ³Ý í»ñ³µ»ñÛ³É
A109: 8.7.10 | B109: úñ»Ýùáí Ý³Ë³ï»ëí³Í ³ÛÉ Çñ³í³µ³Ý³Ï³Ý ÷³ëï»ñÇ í»ñ³µ»ñÛ³É
A110: 8.8 | B110: Àëï Ý»ñÏ³Û³óÝáÕÇ ¨ ûñ¹»ñ³ÛÇÝ Ïáñóñ³Í ³ñÅ»ÃÕÃ»ñáí Ñ³í³ëïí³Í Çñ³íáõÝùÝ»ñÁ í»ñ³Ï³Ý·Ý»Éáõ í»ñ³µ»ñÛ³É
A111: 8.10 | B111: ²ÛÉ í»×»ñ | E111: 2 | G111: 2 | J111: 2 | K111: 1 | L111: 1 | N111: 3 | O111: 2 | S111: 1 | U111: 1 | X111: 3
...

Sheet Արարատ և Վայոց ձոր
A1: 2019թ. 1-ին կիսամյակ | E1: Ð²ÞìºîìàôÂÚàôÜ
A2: ÐÐ ²ð²ð²îÆ ºì ì²Úàò ÒàðÆ Ø²ð¼ºðÆ ²è²æÆÜ ²îÚ²ÜÆ ÀÜ¸Ð²Üàôð Æð²ì²êàôÂÚ²Ü ¸²î²ð²ÜàôØ ø²Ô²ø²òÆ²Î²Ü ¶àðÌºðÆ øÜÜàôÂÚ²Ü ìºð²´ºðÚ²È
A3: ÐÐ ²ñ³ñ³ïÇ ¨ ì³Ûáó ÓáñÇ Ù³ñ½»ñÇ ³é³çÇÝ ³ïÛ³ÝÇ ÁÝ¹Ñ³Ýáõñ Çñ³í³ëáõÃÛ³Ý ¹³ï³ñ³ÝáõÙ ù³Õ³ù³óÇ³Ï³Ý Ù³ëÝ³·Çï³óáõÙ áõÝ»óáÕ ¹³ï³íáñÝ»ñÇ Ñ³ëïÇùÝ»ñÇ ù³Ý³ÏÁ` 7
A4: êïáõ·Çã Ñ³í³ë³ñáõÙÝ»ñª 1=2+3+4+5, 6=7+8+9, 2+3+7=20+21+23, 10=11+12+13+14+15, 15=16+17+18, 20=10+19, 27=25+26, 30=28+29 | E4: Ð³ßí»ïáõ Å³Ù³Ý³Ï³Ñ³ïí³ÍáõÙ Ý³Ëáñ¹ Ñ³ßí»ïáõ Å³Ù³Ý³Ï³Ñ³ïí³ÍÇó ÷áË³Ýóí³Í ·áñÍ»ñÇ ÁÝ¹Ñ³Ýáõñ ÃÇíÁ | J4: Ð³ßí»ïáõ Å³Ù³Ý³Ï³Ñ³ïí³ÍáõÙëï³óí³Í ·áñÍ»ñÇ (³Û¹ ÃíáõÙ` Ñ³Ûó³¹ÇÙáõÙÝ»ñÇ, ¹ÇÙáõÙÝ»ñÇ) ÁÝ¹Ñ³Ýáõñ ÃÇíÁ | N4: Ð³ßí»ïáõ Å³Ù³Ý³Ï³Ñ³ïí³ÍáõÙ ³í³ñïí³Í ·áñÍ»ñÇ ÁÝ¹Ñ³Ýáõñ ÃÇíÁ | Y4: ¶áñÍÝ áõÕ³ñÏí»É ¿ Áëï ÁÝ¹¹³ïáõÃÛ³Ý | Z4: Ð³ßí»ïáõ Å³Ù³Ý³Ï³Ñ³ïí³ÍáõÙ Ï³ë»óí³Í í³ñáõÛÃÝ»ñáí ·áñÍ»ñÇ ÁÝ¹Ñ³Ýáõñ ÃÇíÁ | AA4: Ð³ßí»ïáõ Å³Ù³Ý³Ï³Ñ³ïí³ÍáõÙ ³Ý³í³ñï ·áñÍ»ñÇ ÁÝ¹Ñ³Ýáõñ ÃÇíÁ | AB4: ²Û¹ ÃíáõÙª Ï³ë»óí³Í | AC4: ´áÕáù³ñÏí³Í ¹³ï³Ï³Ý ³Ïï»ñÇ ÃÇíÁ` Áëï ï»ë³ÏÝ»ñÇ | AF4: ´»Ï³Ýí³Í ¹³ï³Ï³Ý ³Ïï»ñÇ ÃÇíÁ` Áëï ï»ë³ÏÝ»ñÇ
E7: ÀÝ¹³Ù»ÝÁ | F7: ²Û¹ ÃíáõÙ`Ï³ë»óí³Í íÇ×³ÏáõÙ ÷áË³Ýóí³Í | G7: ²Û¹ ÃíáõÙª ÁÝ¹áõÝí»É ¿ í³ñáõÛÃ | H7: ²Û¹ ÃíáõÙª í»ñ³¹³ñÓí»É ¿ | I7: ²Û¹ ÃíáõÙª ÁÝ¹áõÝáõÙÁ Ù»ñÅí»É ¿ | J7: ÀÝ¹³Ù»ÝÁ | K7: ²Û¹ ÃíáõÙª ÁÝ¹áõÝí»É ¿ í³ñáõÛÃ | L7: ²Û¹ ÃíáõÙª í»ñ³¹³ñÓí»É ¿ | M7: ²Û¹ ÃíáõÙª ÁÝ¹áõÝáõÙÁ Ù»ñÅí»É ¿ | N7: ÀÝ¹³Ù»ÝÁ ³í³ñïí»É »Ý ·áñÍ»ñ ·áñÍÝ Áëï ¿áõÃÛ³Ý ÉáõÍáÕ ¹³ï³Ï³Ý ³Ïï»ñÇ (í×ÇéÝ»ñÇ) Ï³Û³óÙ³Ùµ | O7: ²Û¹ ÃíáõÙª Ñ³ÛóÇ µ³í³ñ³ñÙ³Ùµ | P7: ²Û¹ ÃíáõÙª Ñ³ÛóÇ Ù³ëÝ³ÏÇ µ³í³ñ³ñÙ³Ùµ | Q7: ²Û¹ ÃíáõÙª Ñ³ÛóÇ Ù»ñÅÙ³Ùµ | R7: Ø³ëáí Ï³ñ×í»É ¿, Ù³ëáí Ù»ñÅí»É | S7: ²Û¹ ÃíáõÙª Ï³ñ×í»É »Ý | W7: Ð³ÛóÁ ÃáÕÝí»É ¿ ³é³Ýó ùÝÝáõÃÛ³Ý | X7: ÀÝ¹³Ù»ÝÝ ³í³ñïí»É »Ý ·áñÍ»ñ | AC7: ²Û¹ ÃíáõÙ` ·áñÍÝ Áëï ¿áõÃÛ³Ý ÉáõÍáÕ ¹³ï³Ï³Ý ³Ïï»ñ | AD7: ²Û¹ ÃíáõÙ` ÙÇç³ÝÏÛ³É ¹³ï³Ï³Ý ³Ïï»ñ | AE7: ÀÝ¹³Ù»ÝÁ | AF7: ²Û¹ ÃíáõÙ` ·áñÍÝ Áëï ¿áõÃÛ³Ý ÉáõÍáÕ ¹³ï³Ï³Ý ³Ïï»ñ | AG7: ²Û¹ ÃíáõÙ` ÙÇç³ÝÏÛ³É ¹³ï³Ï³Ý ³Ïï»ñ | AH7: ÀÝ¹³Ù»ÝÁ
S10: ÀÝ¹³Ù»ÝÁ Ï³ñ×í»É »Ý | T10: ²Û¹ ÃíáõÙª Ñ³ëï³ïí»É ¿ ÏÝùí³Í Ñ³ßïáõÃÛ³Ý Ñ³Ù³Ó³ÛÝáõÃÛáõÝÁ | U10: ²Û¹ ÃíáõÙª Ñ³óÇó, ¹ÇÙáõÙÇó Ññ³Å³ñí»Éáõ ÑÇÙùáí | V10: ²Û¹ ÃíáõÙª ³ÛÉ ÑÇÙùáí
A18: ø³Õ³ù³óÇ³Ï³Ý ·áñÍ»ñÇ ¹³ë³Ï³ñ·áõÙÁ | E18: 1 | F18: 2 | G18: 3 | H18: 4 | I18: 5 | J18: 6 | K18: 7 | L18: 8 | M18: 9 | N18: 10 | O18: 11 | P18: 12 | Q18: 13 | R18: 14 | S18: 15 | T18: 16 | U18: 17 | V18: 18 | W18: 19 | X18: 20 | Y18: 21 | Z18: 22 | AA18: 23 | AB18: 24 | AC18: 25 | AD18: 26 | AE18: 27 | AF18: 28 | AG18: 29 | AH18: 30
A19: 1. | B19: ¶áõÛù³ÛÇÝ Çñ³í³Ñ³ñ³µ»ñáõÃÛáõÝÝ»ñÇ í»ñ³µ»ñÛ³É ¹³ï³Ï³Ý ·áñÍ»ñ | E19: =SUM(E20:E38) -> 680 | F19: =SUM(F20:F38) -> 290 | G19: =SUM(G20:G38) -> 384 | H19: =SUM(H20:H38) -> 5 | I19: =SUM(I20:I38) -> 1 | J19: =SUM(J20:J38) -> 192 | K19: =SUM(K20:K38) -> 129 | L19: =SUM(L20:L38) -> 32 | ... AE19: =SUM(AE20:AE38) -> 18 | AF19: 0 | AG19: =SUM(AG20:AG38) -> 0 | AH19: =SUM(AH20:AH38) -> 0
A20: 1.1 | B20: ¶áõÛùÇ ÝÏ³ïÙ³Ùµ ë»÷³Ï³ÝáõÃÛ³Ý Çñ³íáõÝùÁ ×³Ý³ã»Éáõ í»ñ³µ»ñÛ³É | E20: 38 | F20: 6 | G20: 30 | H20: 1 | I20: 1 | J20: 32 | K20: 9 | L20: 5 | N20: 15 | O20: 10 | Q20: 1 | S20: 4 | U20: 4 | X20: 15 | Z20: 2 | AA20: 30 | AB20: 7 | AC20: 2 | AD20: 1 | AE20: 3
A21: 1.1.1 | B21: ²Û¹ ÃíáõÙª Ó»éùµ»ñÙ³Ý í³Õ»ÙáõÃÛ³Ý áõÅáí | E21: 36 | F21: 4 | G21: 32 | J21: 22 | K21: 19 | L21: 1 | N21: 8 | O21: 6 | P21: 1 | S21: 1 | U21: 1 | X21: 8 | Z21: 1 | AA21: 47 | AB21: 2
A22: 1.1.2 | B22: ²Û¹ ÃíáõÙª ïÇñ³½áõñÏ ·áõÛùÇ ÝÏ³ïÙ³Ùµ | E22: 2 | G22: 2 | AA22: 2
A23: 1.1.3 | B23: ²Û¹ ÃíáõÙª ÇÝùÝ³Ï³Ù Ï³éáõÛóÇ ÝÏ³ïÙ³Ùµ
A24: 1.2 | B24: ê»÷³Ï³ÝáõÃÛ³Ý Çñ³íáõÝùÇ ¹³¹³ñ»óÙ³Ý í»ñ³µ»ñÛ³É | E24: 21 | F24: 1 | G24: 20 | J24: 2 | K24: 2 | N24: 14 | Q24: 11 | S24: 3 | U24: 3 | X24: 14 | Z24: 2 | AA24: 9 | AB24: 3
A25: 1.3 | B25: ¶áõÛùÇ ÝÏ³ïÙ³Ùµ û·ï³·áñÍÙ³Ý Çñ³íáõÝùÁ ×³Ý³ã»Éáõ í»ñ³µ»ñÛ³É
A26: 1.3.1 | B26: ²Û¹ ÃíáõÙª µÝ³Ïû·ï³·áñÍÙ³Ý Çñ³íáõÝùÁ ×³Ý³ã»Éáõ í»ñ³µ»ñÛ³É
A27: 1.3.2 | B27: ²Û¹ ÃíáõÙª ÑáÕ³Ù³ëÇ ÝÏ³ïÙ³Ùµ û·ï³·áñÍÙ³Ý Çñ³íáõÝùÁ ×³Ý³ã»Éáõ í»ñ³µ»ñÛ³É
A28: 1.4 | B28: ¶áõÛùÇ ÝÏ³ïÙ³Ùµ û·ï³·áñÍÙ³Ý Çñ³íáõÝùÁ ¹³¹³ñ»óÝ»Éáõ í»ñ³µ»ñÛ³É | E28: 1 | G28: 1 | N28: 1 | O28: 1 | X28: 1
A29: 1.4.1 | B29: ²Û¹ ÃíáõÙª µÝ³Ïû·ï³·áñÍÙ³Ý Çñ³íáõÝùÁ ¹³¹³ñ»óÝ»Éáõ í»ñ³µ»ñÛ³É | J29: 1 | K29: 1 | AA29: 1
A30: 1.4.1/1 | B30: ²Û¹ ÃíáõÙª ÷áËÑ³ïáõóÙ³Ùµ | E30: 3 | F30: 3 | AA30: 3 | AB30: 1
A31: 1.5 | B31: ´Ý³Ï³ñ³ÝÇó/ ï³ñ³ÍùÇó/ íï³ñ»Éáõ í»ñ³µ»ñÛ³É | E31: 23 | F31: 6 | G31: 17 | J31: 7 | K31: 4 | L31: 1 | N31: 7 | O31: 7 | X31: 7 | AA31: 20 | AB31: 5 | AC31: 4 | AE31: 4
A32: 1.6 | B32: ¶áõÛùÝ áõñÇßÇ ³åûñÇÝÇ ïÇñ³å»ïáõÙÇó »ï í»ñ³¹³ñÓÝ»Éáõ í»ñ³µ»ñÛ³É | E32: 29 | F32: 8 | G32: 21 | J32: 12 | K32: 7 | L32: 4 | N32: 5 | O32: 3 | P32: 2 | W32: 1 | X32: 6 | Z32: 4 | AA32: 30 | AB32: 9 | AC32: 3 | AD32: 1 | AE32: 4
A33: 1.6.1 | B33: ´³ñ»ËÇÕ× Ó»éùµ»ñáÕÇó Çñ ·áõÛùÁ Ñ»ï å³Ñ³Ýç»Éáõ í»ñ³µ»ñÛ³É
A34: 1.7 | B34: îÇñ³å»ïáõÙÇó ½ñÏ»Éáõ Ñ»ï ãÏ³åí³Í Çñ³íáõÝùÝ»ñÇ Ë³ËïáõÙÁ í»ñ³óÝ»Éáõ í»ñ³µ»ñÛ³É
A35: 1.8 | B35: ÀÝ¹Ñ³Ýáõñ µ³ÅÝ³ÛÇÝ ë»÷³Ï³ÝáõÃÛáõÝÇó µ³ÅÇÝÝ ³é³ÝÓÝ³óÝ»Éáõ í»ñ³µ»ñÛ³É | E35: 387 | F35: 193 | G35: 193 | H35: 1 | J35: 70 | K35: 52 | L35: 12 | N35: 78 | O35: 56 | Q35: 6 | S35: 16 | T35: 4 | U35: 12 | W35: 2 | X35: 80 | Y35: 1 | Z35: 24 | AA35: 357 | AB35: 148 | AC35: 4 | AD35: 1 | AE35: 5
A36: 1.8.1 | B36: Ð³Ù³ï»Õ ë»÷³Ï³ÝáõÃÛ³Ý Ý»ñùá ·ïÝíáÕ ·áõÛùÁ µ³Å³Ý»Éáõ ¨ ¹ñ³ÝÇó µ³ÅÇÝÝ ³é³ÝÓÝ³óÝ»Éáõ í»ñ³µ»ñÛ³É | E36: 35 | F36: 18 | G36: 17 | J36: 3 | K36: 2 | N36: 2 | O36: 1 | S36: 1 | U36: 1 | W36: 1 | X36: 3 | Z36: 1 | AA36: 34 | AB36: 13
A37: 1.8.3 | B37: ¶áõÛùÇ íñ³ µéÝ³·³ÝÓáõÙ ï³ñ³Í»Éáõ å³Ñ³ÝçÇ Ù³ëÇÝ | E37: 5 | F37: 4 | G37: 1 | Z37: 1 | AA37: 5 | AB37: 2
A38: 1.9 | B38: ²ÛÉ í»×»ñ | E38: 100 | F38: 47 | G38: 50 | H38: 3 | J38: 43 | K38: 33 | L38: 9 | N38: 19 | O38: 13 | P38: 1 | Q38: 1 | S38: 4 | T38: 1 | U38: 3 | W38: 3 | X38: 22 | Z38: 6 | AA38: 108 | AB38: 45 | AC38: 2 | AE38: 2
A39: 2. | B39: ¶áñÍ³ñùÝ»ñÇ Ñ»ï Ï³åí³Í Çñ³í³Ñ³ñ³µ»ñáõÃÛáõÝÝ»ñÇ í»ñ³µ»ñÛ³É ¹³ï³Ï³Ý ·áñÍ»ñ | E39: =SUM(E40:E50) -> 57 | F39: =SUM(F40:F50) -> 11 | G39: =SUM(G40:G50) -> 46 | H39: =SUM(H40:H50) -> 0 | I39: =SUM(I40:I50) -> 0 | J39: =SUM(J40:J50) -> 39 | K39: =SUM(K40:K50) -> 22 | L39: =SUM(L40:L50) -> 14 | ... AH39: =SUM(AH40:AH50) -> 0
A40: 2.1 | B40: ·áñÍ³ñùÝ»ñÇ ³Ýí³í»ñáõÃÛ³Ý Ñ»ï Ï³åí³Í í»×»ñ | E40: 13 | F40: 2 | G40: 11 | J40: 7 | K40: 3 | L40: 4 | N40: 3 | O40: 2 | S40: 1 | U40: 1 | X40: 3 | AA40: 13 | AB40: 1 | AD40: 1 | AE40: 1
A41: 2.1.1 | B41: ³Û¹ ÃíáõÙ` íÇ×³Ñ³ñáõÛó ·áñÍ³ñùÝ»ñÝ ³Ýí³í»ñ ×³Ý³ã»Éáõ í»ñ³µ»ñÛ³É
A42: 2.1.2 | B42: ³Û¹ ÃíáõÙ` ·áñÍ³ñùÇ ³éáãÝãáõÃÛ³Ý Ñ»ï¨³ÝùÝ»ñ ÏÇñ³é»Éáõ í»ñ³µ»ñÛ³É | E42: 6 | F42: 1 | G42: 5 | J42: 11 | K42: 6 | L42: 4 | N42: 1 | S42: 1 | U42: 1 | X42: 1 | Y42: 1 | AA42: 10
A43: 2.2 | B43: ¶áñÍ³ñùÁ í³í»ñ ×³Ý³ã»Éáõ í»ñ³µ»ñÛ³É | E43: 3 | G43: 3 | J43: 3 | K43: 3 | AA43: 6
A44: 2.3 | B44: ¶áñÍ³ñùÇó Í³·áÕ Çñ³íáõÝùÝ»ñÁ ·ñ³Ýó»Éáõ í»ñ³µ»ñÛ³É
A45: 2.4 | B45: ä³ÛÙ³Ý³·ÇñÝ ³Ýí³í»ñ ×³Ý³ã»Éáõ í»ñ³µ»ñÛ³É | E45: 17 | F45: 3 | G45: 14 | J45: 6 | K45: 3 | L45: 1 | N45: 4 | O45: 3 | Q45: 1 | W45: 2 | X45: 6 | Z45: 1 | AA45: 14 | AB45: 5 | AD45: 3 | AE45: 3
A46: 2.5 | B46: ä³ÛÙ³Ý³·ñÇÁ í³í»ñ ×³Ý³ã»Éáõ í»ñ³µ»ñÛ³É | E46: 2 | G46: 2 | J46: 2 | K46: 1 | L46: 1 | AA46: 3
A47: 2.6 | B47: ä³ÛÙ³Ý³·ñÇó Í³·áÕ Çñ³íáõÝùÝ»ñÁ ·ñ³Ýó»Éáõ í»ñ³µ»ñÛ³É
A48: 2.7 | B48: ä³ÛÙ³Ý³·ÇñÁ ÷á÷áË»Éáõ ¨ ÉáõÍ»Éáõ í»ñ³µ»ñÛ³É | E48: 9 | F48: 4 | G48: 5 | J48: 4 | K48: 4 | N48: 2 | O48: 1 | S48: 1 | U48: 1 | X48: 2 | Y48: 1 | Z48: 1 | AA48: 10 | AB48: 6 | AD48: 1 | AE48: 1
A49: 2.8 | B49: ä³ÛÙ³Ý³·Çñ ÏÝù»ÉáõÝ å³ñï³íáñ»óÝ»Éáõ í»ñ³µ»ñÛ³É | E49: 1 | G49: 1 | J49: 1 | L49: 1 | AA49: 1
A50: 2.9 | B50: ²ÛÉ í»×»ñ | E50: 6 | F50: 1 | G50: 5 | J50: 5 | K50: 2 | L50: 3 | N50: 2 | Q50: 2 | X50: 2 | Z50: 1 | AA50: 6 | AB50: 1 | AC50: 1 | AE50: 1
A51: 3. | B51: Ä³é³Ý·áõÃÛ³Ý Ñ»ï Ï³åí³Í Çñ³í³Ñ³ñ³µ»ñáõÃÛáõÝÝ»ñÇ í»ñ³µ»ñÛ³É ¹³ï³Ï³Ý ·áñÍ»ñ | E51: =SUM(E52:E58) -> 45 | F51: =SUM(F52:F58) -> 3 | G51: =SUM(G52:G58) -> 42 | H51: =SUM(H52:H58) -> 0 | I51: =SUM(I52:I58) -> 0 | J51: =SUM(J52:J58) -> 18 | K51: =SUM(K52:K58) -> 15 | L51: =SUM(L52:L58) -> 2 | ... AH51: =SUM(AH52:AH58) -> 0
A52: 3.1 | B52: Îï³ÏÝ ³Ýí³í»ñ ×³Ý³ã»Éáõ í»ñ³µ»ñÛ³É
A53: 3.2 | B53: ²Ý³ñÅ³Ý Å³é³Ý· ×³Ý³ã»Éáõ í»ñ³µ»ñÛ³É
A54: 3.3 | B54: Ä³é³Ý·áõÃÛáõÝÁ µ³Å³Ý»Éáõ í»ñ³µ»ñÛ³É
A55: 3.4 | B55: ¶áõÛùÝ ³ÝÅ³é³Ý· ×³Ý³ã»Éáõ í»ñ³µ»ñÛ³É | E55: 1 | G55: 1 | N55: 1 | S55: 1 | U55: 1 | X55: 1
A56: 3.5 | B56: Àëï ûñ»ÝùÇ Å³é³Ý·áõÃÛ³Ý Çñ³íáõÝùÇ íÏ³Û³·ÇñÝ ³Ýí³í»ñ ×³Ý³ã»Éáõ í»ñ³µ»ñÛ³É | E56: 1 | G56: 1 | AA56: 1
A57: 3.6 | B57: Ä³é³Ý·áõÃÛáõÝÝ ÁÝ¹áõÝ»Éáõ µ³ó ÃáÕÝí³Í Å³ÙÏ»ïÁ Ñ³ñ·»ÉÇ Ñ³Ù³ñ»Éáõ í»ñ³µ»ñÛ³É | E57: 2 | G57: 2 | J57: 2 | K57: 1 | L57: 1 | N57: 1 | O57: 1 | X57: 1 | AA57: 2
A58: 3.7 | B58: ²ÛÉ í»×»ñ | E58: 41 | F58: 3 | G58: 38 | J58: 16 | K58: 14 | L58: 1 | N58: 22 | O58: 16 | P58: 4 | S58: 2 | T58: 1 | U58: 1 | X58: 22 | Z58: 1 | AA58: 33 | AB58: 3 | AD58: 1 | AE58: 1
A59: 4 | B59: ÀÝï³Ý»Ï³Ý Çñ³í³Ñ³ñ³µ»ñáõÃÛáõÝÝ»ñÇ í»ñ³µ»ñÛ³É ¹³ï³Ï³Ý ·áñÍ»ñ | E59: =SUM(E60:E72) -> 164 | F59: =SUM(F60:F72) -> 13 | G59: =SUM(G60:G72) -> 149 | H59: =SUM(H60:H72) -> 2 | I59: =SUM(I60:I72) -> 0 | J59: =SUM(J60:J72) -> 143 | K59: =SUM(K60:K72) -> 122 | L59: =SUM(L60:L72) -> 19 | ... AH59: =SUM(AH60:AH72) -> 0
A60: 4.1 | B60: ²ÙáõëÝ³ÉáõÍáõÃÛ³Ý í»ñ³µ»ñÛ³É | E60: 89 | F60: 6 | G60: 82 | H60: 1 | J60: 69 | K60: 59 | L60: 9 | N60: 56 | O60: 38 | P60: 5 | Q60: 1 | S60: 12 | U60: 12 | X60: 56 | Y60: 1 | Z60: 1 | AA60: 90 | AB60: 6
A61: 4.2 | B61: ²ÉÇÙ»ÝïÇ å³Ñ³ÝçÇ í»ñ³µ»ñÛ³É | E61: 36 | F61: 4 | G61: 32 | J61: 32 | K61: 30 | L61: 1 | N61: 17 | O61: 7 | P61: 10 | W61: 1 | X61: 18 | AA61: 48 | AB61: 4 | AD61: 1 | AE61: 1
A62: 4.3 | B62: ²ÉÇÙ»ÝïÇ ã³÷Á ÷á÷áË»Éáõ í»ñ³µ»ñÛ³É | E62: 3 | G62: 3 | J62: 8 | K62: 5 | L62: 3 | N62: 2 | O62: 2 | X62: 2 | AA62: 6
A63: 4.4 | B63: ÌÝáÕ³Ï³Ý Çñ³íáõÝùÝ»ñÇó ½ñÏ»Éáõ í»ñ³µ»ñÛ³É | E63: 1 | F63: 1 | AA63: 1 | AB63: 1
A64: 4.5 | B64: ÌÝáÕ³Ï³Ý Çñ³íáõÝùÝ»ñÁ í»ñ³Ï³Ý·Ý»Éáõ í»ñ³µ»ñÛ³É
A65: 4.6 | B65: ºñ»Ë³ÛÇ áñ¹»·ñÙ³Ý í»ñ³µ»ñÛ³É
A66: 4.7 | B66: ºñ»Ë³ÛÇ áñ¹»·ñáõÙÁ í»ñ³óÝ»Éáõ í»ñ³µ»ñÛ³É
A67: 4.8 | B67: Ð³ÛñáõÃÛáõÝÁ ×³Ý³ã»Éáõ í»ñ³µ»ñÛ³É | E67: 11 | F67: 2 | G67: 9 | J67: 11 | K67: 10 | L67: 1 | N67: 8 | O67: 8 | X67: 8 | AA67: 13 | AB67: 2
A68: 4.9 | B68: ºñ»Ë³ÛÇ µÝ³ÏáõÃÛ³Ý í³ÛñÁ áñáß»Éáõ í»ñ³µ»ñÛ³É | E68: 12 | G68: 12 | J68: 6 | K68: 5 | L68: 1 | N68: 7 | O68: 2 | P68: 1 | S68: 4 | T68: 2 | U68: 2 | X68: 7 | AA68: 10 | AB68: 2
A69: 4.10 | B69: ºñ»Ë³ÛÇ Ñ»ï ï»ë³ÏóáõÃÛ³Ý Ï³ñ· ë³ÑÙ³Ý»Éáõ í»ñ³µ»ñÛ³É | E69: 7 | G69: 7 | J69: 7 | K69: 7 | N69: 3 | O69: 1 | S69: 2 | T69: 2 | X69: 3 | Y69: 1 | AA69: 10
A70: 4.11 | B70: ²ÙáõëÇÝÝ»ñÇ ÁÝ¹Ñ³Ýáõñ ·áõÛùÁ µ³Å³Ý»Éáõ í»ñ³µ»ñÛ³É | E70: 2 | G70: 2 | J70: 1 | L70: 1 | N70: 1 | Q70: 1 | X70: 1 | Y70: 1
A71: 4.12 | B71: ²ÙáõëÝ³Ï³Ý å³ÛÙ³Ý³·ñÇ ÷á÷áËÙ³Ý Ï³Ù ÉáõÍÙ³Ý í»ñ³µ»ñÛ³É
A72: 4.13 | B72: ²ÛÉ í»×»ñ | E72: 3 | G72: 2 | H72: 1 | J72: 9 | K72: 6 | L72: 3 | N72: 1 | P72: 1 | X72: 1 | AA72: 7
A73: 5. | B73: Øï³íáñ ë»÷³Ï³ÝáõÃÛ³Ý Ñ»ï Ï³åí³ÍÇñ³í³Ñ³ñ³µ»ñáõÃÛáõÝÝ»ñÇ í»ñ³µ»ñÛ³É ¹³ï³Ï³Ý ·áñÍ»ñ | E73: =SUM(E74:E79) -> 0 | F73: =SUM(F74:F79) -> 0 | G73: =SUM(G74:G79) -> 0 | H73: =SUM(H74:H79) -> 0 | I73: =SUM(I74:I79) -> 0 | J73: =SUM(J74:J79) -> 1 | K73: =SUM(K74:K79) -> 0 | L73: =SUM(L74:L79) -> 0 | ... AH73: =SUM(AH74:AH79) -> 0
A74: 5.1 | B74: ÈÇó»Ý½³ÛÇÝ å³ÛÙ³Ý³·ñÇ ÉáõÍÙ³Ý, ÷á÷áËÙ³Ý ¨ ³Ýí³í»ñáõÃÛ³Ý í»ñ³µ»ñÛ³É
A75: 5.2 | B75: Øï³íáñ ·áñÍáõÝ»áõÃÛ³Ý ³ñ¹ÛáõÝùÝ»ñ ëï»ÕÍ»Éáõ ¨ û·ï³·áñÍ»Éáõ å³ÛÙ³Ý³·ñÇ ÉáõÍÙ³Ý, ÷á÷áËÙ³Ý áõ ³Ýí³í»ñáõÃÛ³Ý í»ñ³µ»ñÛ³É
A76: 5.3 | B76: Ð»ÕÇÝ³Ï³ÛÇÝ ¨ Ñ³ñ³ÏÇó Çñ³íáõÝùÝ»ñÇ í»ñ³µ»ñÛ³É
A77: 5.4 | B77: üÇñÙ³ÛÇÝ ³Ýí³ÝÙ³Ý í»ñ³µ»ñÛ³É
A78: 5.5 | B78: ²åñ³Ýù³ÛÇÝ Ýß³ÝÇ í»ñ³µ»ñÛ³É
A79: 5.6 | B79: ²ÛÉ í»×»ñ | J79: 1
A80: 6. | B80: ²ßË³ï³Ýù³ÛÇÝ Çñ³í³Ñ³ñ³µ»ñáõÃÛáõÝÝ»ñÇ í»ñ³µ»ñÛ³É ¹³ï³Ï³Ý ·áñÍ»ñ | E80: =SUM(E81:E86) -> 18 | F80: =SUM(F81:F86) -> 2 | G80: =SUM(G81:G86) -> 16 | H80: =SUM(H81:H86) -> 0 | I80: =SUM(I81:I86) -> 0 | J80: =SUM(J81:J86) -> 11 | K80: =SUM(K81:K86) -> 10 | L80: =SUM(L81:L86) -> 1 | ... AH80: =SUM(AH81:AH86) -> 0
A81: 6.1 | B81: ²ßË³ï³Ýù³ÛÇÝ å³ÛÙ³Ý³·ñ»ñÇ í»ñ³µ»ñÛ³É | E81: 2 | G81: 2 | J81: 1 | K81: 1 | N81: 1 | S81: 1 | U81: 1 | X81: 1 | AA81: 2
A82: 6.2 | B82: ²ßË³ï³ÝùáõÙ í»ñ³Ï³Ý·Ý»Éáõ í»ñ³µ»ñÛ³É | E82: 8 | F82: 1 | G82: 7 | J82: 1 | K82: 1 | N82: 5 | O82: 2 | P82: 1 | Q82: 2 | X82: 5 | AA82: 4 | AB82: 1 | AC82: 3 | AE82: 3
A83: 6.3 | B83: ¶áñÍ³¹áõÉÝ ³ÝûñÇÝ³Ï³Ý ×³Ý³ã»Éáõ í»ñ³µ»ñÛ³É
A84: 6.4 | B84: Ð³ñÏ³¹Çñ å³ñ³åáõñ¹Ç Ñ³ïáõóÙ³Ý í»ñ³µ»ñÛ³É
A85: 6.5 | B85: âí×³ñí³Í ³ßË³ï³í³ñÓÇ ¨/Ï³Ù ³ÛÉ í×³ñÝ»ñÇ µéÝ³·³ÝÓÙ³Ý í»ñ³µ»ñÛ³É | E85: 1 | G85: 1 | J85: 2 | K85: 2 | AA85: 3
A86: 6.6 | B86: ²ÛÉ í»×»ñ | E86: 7 | F86: 1 | G86: 6 | J86: 7 | K86: 6 | L86: 1 | N86: 7 | O86: 4 | P86: 1 | S86: 2 | U86: 2 | X86: 7 | AA86: 6 | AC86: 3 | AE86: 3
A87: 7. | B87: Æñ³í³µ³Ý³Ï³Ý ³ÝÓÇ ·áñÍáõÝ»áõÃÛáõÝÇó µËáÕ Çñ³í³Ñ³ñ³µ»ñáõÃÛáõÝÝ»ñÇ í»ñ³µ»ñÛ³É ¹³ï³Ï³Ý ·áñÍ»ñ | E87: =SUM(E88:E89) -> 0 | F87: =SUM(F88:F89) -> 0 | G87: =SUM(G88:G89) -> 0 | H87: =SUM(H88:H89) -> 0 | I87: =SUM(I88:I89) -> 0 | J87: =SUM(J88:J89) -> 0 | K87: =SUM(K88:K89) -> 0 | L87: =SUM(L88:L89) -> 0 | ... AH87: =SUM(AH88:AH89) -> 0
A88: 7.1 | B88: Îáñåáñ³ïÇí í»×»ñ
A89: 7.2 | B89: ²ÛÉ í»×»ñ
A90: 8. | B90: Ð³ïáõÏ í³ñáõÛÃÇ ¹³ï³Ï³Ý ·áñÍ»ñ | E90: =SUM(E91:E111) -> 131 | F90: =SUM(F91:F111) -> 30 | G90: =SUM(G91:G111) -> 100 | H90: =SUM(H91:H111) -> 1 | I90: =SUM(I91:I111) -> 0 | J90: =SUM(J91:J111) -> 123 | K90: =SUM(K91:K111) -> 103 | L90: =SUM(L91:L111) -> 9 | ... AH90: =SUM(AH91:AH111) -> 0
A91: 8.1 | B91: ²Ýã³÷³Ñ³ëÇÝ ÉñÇí ·áñÍáõÝ³Ï ×³Ý³ã»Éáõ /¿Ù³ÝëÇå³óÇ³/ í»ñ³µ»ñÛ³É
A92: 8.2 | B92: ø³Õ³ù³óáõÝ ³Ý·áñÍáõÝ³Ï Ï³Ù ë³ÑÙ³Ý³÷³Ï ·áñÍáõÝ³Ï ×³Ý³ã»Éáõ í»ñ³µ»ñÛ³É | E92: 42 | F92: 28 | G92: 14 | J92: 46 | K92: 37 | L92: 3 | N92: 7 | O92: 4 | Q92: 1 | S92: 2 | U92: 2 | X92: 7 | Z92: 33 | AA92: 72 | AB92: 53
A93: 8.3 | B93: ø³Õ³ù³óáõÝ Ñá·»µáõÅ³Ï³Ý ÑÇí³Ý¹³Ýáó³ÛÇÝ Ñ³ñÏ³¹Çñ µáõÅÙ³Ý »ÝÃ³ñÏ»Éáõ í»ñ³µ»ñÛ³É
A94: 8.4 | B94: ø³Õ³ù³óáõÝ ³ÝÑ³Ûï µ³ó³Ï³ÛáÕ Ï³Ù Ù³Ñ³ó³Í ×³Ý³ã»Éáõ í»ñ³µ»ñÛ³É | E94: 15 | F94: 1 | G94: 14 | J94: 16 | K94: 13 | L94: 1 | N94: 10 | O94: 9 | S94: 1 | U94: 1 | X94: 10 | AA94: 18 | AB94: 1
A95: 8.5 | B95: ø³Õ³ù³óÇ³Ï³Ý Ï³óáõÃÛ³Ý ³Ïï»ñÇ ·ñ³éáõÙÝ»ñÇ ³Ý×ßïáõÃÛáõÝÝ»ñÁ å³ñ½»Éáõ í»ñ³µ»ñÛ³É
A96: 8.6 | B96: ¶áõÛùÁ ïÇñ³½áõñÏ ×³Ý³ã»Éáõ í»ñ³µ»ñÛ³É | E96: 1 | G96: 1 | J96: 2 | K96: 1 | M96: 1 | N96: 1 | S96: 1 | V96: 1 | X96: 1 | AA96: 1
A97: 8.6.1 | B97: ²Û¹ ÃíáõÙª ³Ýß³ñÅ ·áõÛùÁ | E97: 2 | G97: 2 | J97: 1 | K97: 1 | AA97: 3
A98: 8.6.2 | B98: ²Û¹ ÃíáõÙª ß³ñÅ³Ï³Ý ·áõÛùÁ | E98: 1 | G98: 1 | N98: 1 | O98: 1 | X98: 1
A99: 8.7 | B99: Æñ³í³µ³Ý³Ï³Ý Ýß³Ý³ÏáõÃÛáõÝ áõÝ»óáÕ ÷³ëï»ñÇ Ñ³ëï³ïÙ³Ý í»ñ³µ»ñÛ³É | E99: 16 | G99: 16 | J99: 14 | K99: 14 | N99: 12 | O99: 8 | P99: 3 | S99: 1 | U99: 1 | W99: 1 | X99: 13 | AA99: 17
A100: 8.7.1 | B100: ²ÝÓ³Ýó ³½·³Ïó³Ï³Ý Ï³åÁ Ñ³ëï³ï»Éáõ í»ñ³µ»ñÛ³É | E100: 11 | G100: 11 | J100: 10 | K100: 10 | N100: 6 | O100: 5 | P100: 1 | X100: 6 | Y100: 1 | AA100: 14
A101: 8.7.2 | B101: ²ÝÓÇª áõñÇßÇ ËÝ³ÙùÇ ï³Ï ·ïÝí»Éáõ í»ñ³µ»ñÛ³É | E101: 2 | G101: 2 | AA101: 2
A102: 8.7.3 | B102: ÌÝÝ¹Û³Ý, áñ¹»·ñÙ³Ý, ³ÙáõëÝáõÃÛ³Ý, ³å³Ñ³ñ½³ÝÇ ¨ Ù³Ñí³Ý ·ñ³ÝóÙ³Ý í»ñ³µ»ñÛ³É | E102: 10 | G102: 9 | H102: 1 | J102: 6 | K102: 6 | N102: 7 | O102: 5 | Q102: 1 | S102: 1 | U102: 1 | W102: 1 | X102: 8 | AA102: 7
A103: 8.7.4 | B103: ²ÝÓÇª áñáß³ÏÇ Å³Ù³Ý³ÏáõÙ ¨ áñáß³ÏÇ Ñ³Ý·³Ù³ÝùÝ»ñáõÙ Ù³Ñí³Ý í»ñ³µ»ñÛ³É | E103: 1 | G103: 1 | J103: 1 | K103: 1 | AA103: 2
A104: 8.7.5 | B104: Ä³é³Ý·áõÃÛáõÝÝ ÁÝ¹áõÝ»Éáõ ¨ Å³é³Ý·áõÃÛ³Ý µ³óÙ³Ý í³ÛñÇ í»ñ³µ»ñÛ³É
A105: 8.7.6 | B105: ¸Åµ³Ëï å³ï³Ñ³ñÇ í»ñ³µ»ñÛ³É
A106: 8.7.7 | B106: Æñ³íáõÝù ë³ÑÙ³ÝáÕ ÷³ëï³ÃÕÃ»ñÇ å³ïÏ³Ý»ÉáõÃÛ³Ý í»ñ³µ»ñÛ³É | E106: 20 | G106: 20 | J106: 14 | K106: 10 | L106: 4 | N106: 16 | O106: 16 | X106: 16 | AA106: 14
A107: 8.7.8 | B107: ê»÷³Ï³ÝáõÃÛ³Ý Çñ³íáõÝùáí ·áõÛùÇ ïÇñ³å»ïÙ³Ý í»ñ³µ»ñÛ³É | E107: 2 | F107: 1 | G107: 1 | J107: 4 | K107: 3 | M107: 1 | N107: 2 | O107: 2 | X107: 2 | AA107: 3 | AB107: 1
A108: 8.7.9 | B108: ²ÝÑ³ÕÃ³Ñ³ñ»ÉÇ áõÅÇ ³éÏ³ÛáõÃÛ³Ý í»ñ³µ»ñÛ³É
A109: 8.7.10 | B109: úñ»Ýùáí Ý³Ë³ï»ëí³Í ³ÛÉ Çñ³í³µ³Ý³Ï³Ý ÷³ëï»ñÇ í»ñ³µ»ñÛ³É
A110: 8.8 | B110: Àëï Ý»ñÏ³Û³óÝáÕÇ ¨ ûñ¹»ñ³ÛÇÝ Ïáñóñ³Í ³ñÅ»ÃÕÃ»ñáí Ñ³í³ëïí³Í Çñ³íáõÝùÝ»ñÁ í»ñ³Ï³Ý·Ý»Éáõ í»ñ³µ»ñÛ³É
A111: 8.10 | B111: ²ÛÉ í»×»ñ | E111: 8 | G111: 8 | J111: 9 | K111: 7 | L111: 1 | N111: 7 | O111: 6 | S111: 1 | U111: 1 | X111: 7 | AA111: 8
...

Sheet Արագածոտն
A1: 2019թ. 1-ին կիսամյակ | E1: Ð²ÞìºîìàôÂÚàôÜ
A2: ÐÐ ²ð²¶²ÌàîÜÆ Ø²ð¼Æ ²è²æÆÜ ²îÚ²ÜÆ ÀÜ¸Ð²Üàôð Æð²ì²êàôÂÚ²Ü ¸²î²ð²ÜàôØ ø²Ô²ø²òÆ²Î²Ü ¶àðÌºðÆ øÜÜàôÂÚ²Ü ìºð²´ºðÚ²È
A3: ÐÐ ²ñ³·³ÍáïÝÇ Ù³ñ½Ç ³é³çÇÝ ³ïÛ³ÝÇ ÁÝ¹Ñ³Ýáõñ Çñ³í³ëáõÃÛ³Ý ¹³ï³ñ³ÝáõÙ ù³Õ³ù³óÇ³Ï³Ý Ù³ëÝ³·Çï³óáõÙ áõÝ»óáÕ ¹³ï³íáñÝ»ñÇ Ñ³ëïÇùÝ»ñÇ ù³Ý³ÏÁ` 4
A4: êïáõ·Çã Ñ³í³ë³ñáõÙÝ»ñª 1=2+3+4+5, 6=7+8+9, 2+3+7=20+21+23, 10=11+12+13+14+15, 15=16+17+18, 20=10+19, 27=25+26, 30=28+29 | E4: Ð³ßí»ïáõ Å³Ù³Ý³Ï³Ñ³ïí³ÍáõÙ Ý³Ëáñ¹ Ñ³ßí»ïáõ Å³Ù³Ý³Ï³Ñ³ïí³ÍÇó ÷áË³Ýóí³Í ·áñÍ»ñÇ ÁÝ¹Ñ³Ýáõñ ÃÇíÁ | J4: Ð³ßí»ïáõ Å³Ù³Ý³Ï³Ñ³ïí³ÍáõÙëï³óí³Í ·áñÍ»ñÇ (³Û¹ ÃíáõÙ` Ñ³Ûó³¹ÇÙáõÙÝ»ñÇ, ¹ÇÙáõÙÝ»ñÇ) ÁÝ¹Ñ³Ýáõñ ÃÇíÁ | N4: Ð³ßí»ïáõ Å³Ù³Ý³Ï³Ñ³ïí³ÍáõÙ ³í³ñïí³Í ·áñÍ»ñÇ ÁÝ¹Ñ³Ýáõñ ÃÇíÁ | Y4: ¶áñÍÝ áõÕ³ñÏí»É ¿ Áëï ÁÝ¹¹³ïáõÃÛ³Ý | Z4: Ð³ßí»ïáõ Å³Ù³Ý³Ï³Ñ³ïí³ÍáõÙ Ï³ë»óí³Í í³ñáõÛÃÝ»ñáí ·áñÍ»ñÇ ÁÝ¹Ñ³Ýáõñ ÃÇíÁ | AA4: Ð³ßí»ïáõ Å³Ù³Ý³Ï³Ñ³ïí³ÍáõÙ ³Ý³í³ñï ·áñÍ»ñÇ ÁÝ¹Ñ³Ýáõñ ÃÇíÁ | AB4: ²Û¹ ÃíáõÙª Ï³ë»óí³Í | AC4: ´áÕáù³ñÏí³Í ¹³ï³Ï³Ý ³Ïï»ñÇ ÃÇíÁ` Áëï ï»ë³ÏÝ»ñÇ | AF4: ´»Ï³Ýí³Í ¹³ï³Ï³Ý ³Ïï»ñÇ ÃÇíÁ` Áëï ï»ë³ÏÝ»ñÇ
E7: ÀÝ¹³Ù»ÝÁ | F7: ²Û¹ ÃíáõÙ`Ï³ë»óí³Í íÇ×³ÏáõÙ ÷áË³Ýóí³Í | G7: ²Û¹ ÃíáõÙª ÁÝ¹áõÝí»É ¿ í³ñáõÛÃ | H7: ²Û¹ ÃíáõÙª í»ñ³¹³ñÓí»É ¿ | I7: ²Û¹ ÃíáõÙª ÁÝ¹áõÝáõÙÁ Ù»ñÅí»É ¿ | J7: ÀÝ¹³Ù»ÝÁ | K7: ²Û¹ ÃíáõÙª ÁÝ¹áõÝí»É ¿ í³ñáõÛÃ | L7: ²Û¹ ÃíáõÙª í»ñ³¹³ñÓí»É ¿ | M7: ²Û¹ ÃíáõÙª ÁÝ¹áõÝáõÙÁ Ù»ñÅí»É ¿ | N7: ÀÝ¹³Ù»ÝÁ ³í³ñïí»É »Ý ·áñÍ»ñ ·áñÍÝ Áëï ¿áõÃÛ³Ý ÉáõÍáÕ ¹³ï³Ï³Ý ³Ïï»ñÇ (í×ÇéÝ»ñÇ) Ï³Û³óÙ³Ùµ | O7: ²Û¹ ÃíáõÙª Ñ³ÛóÇ µ³í³ñ³ñÙ³Ùµ | P7: ²Û¹ ÃíáõÙª Ñ³ÛóÇ Ù³ëÝ³ÏÇ µ³í³ñ³ñÙ³Ùµ | Q7: ²Û¹ ÃíáõÙª Ñ³ÛóÇ Ù»ñÅÙ³Ùµ | R7: Ø³ëáí Ï³ñ×í»É ¿, Ù³ëáí Ù»ñÅí»É | S7: ²Û¹ ÃíáõÙª Ï³ñ×í»É »Ý | W7: Ð³ÛóÁ ÃáÕÝí»É ¿ ³é³Ýó ùÝÝáõÃÛ³Ý | X7: ÀÝ¹³Ù»ÝÝ ³í³ñïí»É »Ý ·áñÍ»ñ | AC7: ²Û¹ ÃíáõÙ` ·áñÍÝ Áëï ¿áõÃÛ³Ý ÉáõÍáÕ ¹³ï³Ï³Ý ³Ïï»ñ | AD7: ²Û¹ ÃíáõÙ` ÙÇç³ÝÏÛ³É ¹³ï³Ï³Ý ³Ïï»ñ | AE7: ÀÝ¹³Ù»ÝÁ | AF7: ²Û¹ ÃíáõÙ` ·áñÍÝ Áëï ¿áõÃÛ³Ý ÉáõÍáÕ ¹³ï³Ï³Ý ³Ïï»ñ | AG7: ²Û¹ ÃíáõÙ` ÙÇç³ÝÏÛ³É ¹³ï³Ï³Ý ³Ïï»ñ | AH7: ÀÝ¹³Ù»ÝÁ
S10: ÀÝ¹³Ù»ÝÁ Ï³ñ×í»É »Ý | T10: ²Û¹ ÃíáõÙª Ñ³ëï³ïí»É ¿ ÏÝùí³Í Ñ³ßïáõÃÛ³Ý Ñ³Ù³Ó³ÛÝáõÃÛáõÝÁ | U10: ²Û¹ ÃíáõÙª Ñ³óÇó, ¹ÇÙáõÙÇó Ññ³Å³ñí»Éáõ ÑÇÙùáí | V10: ²Û¹ ÃíáõÙª ³ÛÉ ÑÇÙùáí
A18: ø³Õ³ù³óÇ³Ï³Ý ·áñÍ»ñÇ ¹³ë³Ï³ñ·áõÙÁ | E18: 1 | F18: 2 | G18: 3 | H18: 4 | I18: 5 | J18: 6 | K18: 7 | L18: 8 | M18: 9 | N18: 10 | O18: 11 | P18: 12 | Q18: 13 | R18: 14 | S18: 15 | T18: 16 | U18: 17 | V18: 18 | W18: 19 | X18: 20 | Y18: 21 | Z18: 22 | AA18: 23 | AB18: 24 | AC18: 25 | AD18: 26 | AE18: 27 | AF18: 28 | AG18: 29 | AH18: 30
A19: 1. | B19: ¶áõÛù³ÛÇÝ Çñ³í³Ñ³ñ³µ»ñáõÃÛáõÝÝ»ñÇ í»ñ³µ»ñÛ³É ¹³ï³Ï³Ý ·áñÍ»ñ | E19: =SUM(E20:E38) -> 189 | F19: =SUM(F20:F38) -> 93 | G19: =SUM(G20:G38) -> 96 | H19: =SUM(H20:H38) -> 0 | I19: =SUM(I20:I38) -> 0 | J19: =SUM(J20:J38) -> 121 | K19: =SUM(K20:K38) -> 94 | L19: =SUM(L20:L38) -> 20 | ... AH19: =SUM(AH20:AH38) -> 2
A20: 1.1 | B20: ¶áõÛùÇ ÝÏ³ïÙ³Ùµ ë»÷³Ï³ÝáõÃÛ³Ý Çñ³íáõÝùÁ ×³Ý³ã»Éáõ í»ñ³µ»ñÛ³É | E20: 21 | F20: 1 | G20: 20 | J20: 19 | K20: 7 | L20: 11 | N20: 9 | O20: 4 | Q20: 4 | S20: 1 | U20: 1 | X20: 9 | AA20: 19 | AB20: 1 | AC20: 2 | AD20: 3 | AE20: 5
A21: 1.1.1 | B21: ²Û¹ ÃíáõÙª Ó»éùµ»ñÙ³Ý í³Õ»ÙáõÃÛ³Ý áõÅáí | E21: 12 | F21: 1 | G21: 11 | J21: 11 | K21: 9 | L21: 2 | N21: 9 | O21: 8 | S21: 1 | U21: 1 | X21: 9 | AA21: 12 | AB21: 1 | AC21: 3 | AE21: 3
A22: 1.1.2 | B22: ²Û¹ ÃíáõÙª ïÇñ³½áõñÏ ·áõÛùÇ ÝÏ³ïÙ³Ùµ
A23: 1.1.3 | B23: ²Û¹ ÃíáõÙª ÇÝùÝ³Ï³Ù Ï³éáõÛóÇ ÝÏ³ïÙ³Ùµ
A24: 1.2 | B24: ê»÷³Ï³ÝáõÃÛ³Ý Çñ³íáõÝùÇ ¹³¹³ñ»óÙ³Ý í»ñ³µ»ñÛ³É
A25: 1.3 | B25: ¶áõÛùÇ ÝÏ³ïÙ³Ùµ û·ï³·áñÍÙ³Ý Çñ³íáõÝùÁ ×³Ý³ã»Éáõ í»ñ³µ»ñÛ³É
A26: 1.3.1 | B26: ²Û¹ ÃíáõÙª µÝ³Ïû·ï³·áñÍÙ³Ý Çñ³íáõÝùÁ ×³Ý³ã»Éáõ í»ñ³µ»ñÛ³É
A27: 1.3.2 | B27: ²Û¹ ÃíáõÙª ÑáÕ³Ù³ëÇ ÝÏ³ïÙ³Ùµ û·ï³·áñÍÙ³Ý Çñ³íáõÝùÁ ×³Ý³ã»Éáõ í»ñ³µ»ñÛ³É
A28: 1.4 | B28: ¶áõÛùÇ ÝÏ³ïÙ³Ùµ û·ï³·áñÍÙ³Ý Çñ³íáõÝùÁ ¹³¹³ñ»óÝ»Éáõ í»ñ³µ»ñÛ³É
A29: 1.4.1 | B29: ²Û¹ ÃíáõÙª µÝ³Ïû·ï³·áñÍÙ³Ý Çñ³íáõÝùÁ ¹³¹³ñ»óÝ»Éáõ í»ñ³µ»ñÛ³É | E29: 1 | F29: 1 | AA29: 1
A30: 1.4.1/1 | B30: ²Û¹ ÃíáõÙª ÷áËÑ³ïáõóÙ³Ùµ
A31: 1.5 | B31: ´Ý³Ï³ñ³ÝÇó/ ï³ñ³ÍùÇó/ íï³ñ»Éáõ í»ñ³µ»ñÛ³É | E31: 6 | F31: 5 | G31: 1 | J31: 2 | K31: 2 | N31: 1 | P31: 1 | X31: 1 | AA31: 7 | AB31: 3
A32: 1.6 | B32: ¶áõÛùÝ áõñÇßÇ ³åûñÇÝÇ ïÇñ³å»ïáõÙÇó »ï í»ñ³¹³ñÓÝ»Éáõ í»ñ³µ»ñÛ³É | E32: 10 | F32: 5 | G32: 5 | J32: 4 | K32: 3 | L32: 1 | N32: 1 | O32: 1 | X32: 1 | AA32: 12 | AB32: 3 | AC32: 1 | AE32: 1
A33: 1.6.1 | B33: ´³ñ»ËÇÕ× Ó»éùµ»ñáÕÇó Çñ ·áõÛùÁ Ñ»ï å³Ñ³Ýç»Éáõ í»ñ³µ»ñÛ³É
A34: 1.7 | B34: îÇñ³å»ïáõÙÇó ½ñÏ»Éáõ Ñ»ï ãÏ³åí³Í Çñ³íáõÝùÝ»ñÇ Ë³ËïáõÙÁ í»ñ³óÝ»Éáõ í»ñ³µ»ñÛ³É | E34: 2 | G34: 2 | Z34: 1 | AA34: 2 | AB34: 1
A35: 1.8 | B35: ÀÝ¹Ñ³Ýáõñ µ³ÅÝ³ÛÇÝ ë»÷³Ï³ÝáõÃÛáõÝÇó µ³ÅÇÝÝ ³é³ÝÓÝ³óÝ»Éáõ í»ñ³µ»ñÛ³É | E35: 96 | F35: 54 | G35: 42 | J35: 40 | K35: 31 | L35: 4 | N35: 32 | O35: 19 | P35: 1 | Q35: 1 | S35: 11 | T35: 2 | U35: 7 | V35: 2 | X35: 32 | Y35: 4 | Z35: 3 | AA35: 91 | AB35: 35 | AD35: 2 | AE35: 2 | AG35: 2 | AH35: 2
A36: 1.8.1 | B36: Ð³Ù³ï»Õ ë»÷³Ï³ÝáõÃÛ³Ý Ý»ñùá ·ïÝíáÕ ·áõÛùÁ µ³Å³Ý»Éáõ ¨ ¹ñ³ÝÇó µ³ÅÇÝÝ ³é³ÝÓÝ³óÝ»Éáõ í»ñ³µ»ñÛ³É | E36: 37 | F36: 24 | G36: 13 | J36: 40 | K36: 37 | L36: 2 | N36: 9 | O36: 6 | S36: 3 | T36: 1 | U36: 2 | X36: 9 | Y36: 2 | Z36: 6 | AA36: 63 | AB36: 15
A37: 1.8.3 | B37: ¶áõÛùÇ íñ³ µéÝ³·³ÝÓáõÙ ï³ñ³Í»Éáõ å³Ñ³ÝçÇ Ù³ëÇÝ
A38: 1.9 | B38: ²ÛÉ í»×»ñ | E38: 4 | F38: 2 | G38: 2 | J38: 5 | K38: 5 | N38: 1 | O38: 1 | X38: 1 | Z38: 1 | AA38: 8 | AB38: 2
A39: 2. | B39: ¶áñÍ³ñùÝ»ñÇ Ñ»ï Ï³åí³Í Çñ³í³Ñ³ñ³µ»ñáõÃÛáõÝÝ»ñÇ í»ñ³µ»ñÛ³É ¹³ï³Ï³Ý ·áñÍ»ñ | E39: =SUM(E40:E50) -> 31 | F39: =SUM(F40:F50) -> 1 | G39: =SUM(G40:G50) -> 30 | H39: =SUM(H40:H50) -> 0 | I39: =SUM(I40:I50) -> 0 | J39: =SUM(J40:J50) -> 11 | K39: =SUM(K40:K50) -> 5 | L39: =SUM(L40:L50) -> 5 | ... AH39: =SUM(AH40:AH50) -> 0
A40: 2,1 | B40: ·áñÍ³ñùÝ»ñÇ ³Ýí³í»ñáõÃÛ³Ý Ñ»ï Ï³åí³Í í»×»ñ | E40: 7 | G40: 7 | J40: 3 | K40: 2 | L40: 1 | N40: 2 | O40: 1 | S40: 1 | U40: 1 | X40: 2 | Y40: 2 | AA40: 5 | AD40: 1 | AE40: 1
A41: 2.1.1 | B41: ³Û¹ ÃíáõÙ` íÇ×³Ñ³ñáõÛó ·áñÍ³ñùÝ»ñÝ ³Ýí³í»ñ ×³Ý³ã»Éáõ í»ñ³µ»ñÛ³É
A42: 2.1.2 | B42: ³Û¹ ÃíáõÙ` ·áñÍ³ñùÇ ³éáãÝãáõÃÛ³Ý Ñ»ï¨³ÝùÝ»ñ ÏÇñ³é»Éáõ í»ñ³µ»ñÛ³É | E42: 4 | G42: 4 | J42: 2 | K42: 1 | Y42: 2 | AA42: 4
A43: 2.2 | B43: ¶áñÍ³ñùÁ í³í»ñ ×³Ý³ã»Éáõ í»ñ³µ»ñÛ³É | E43: 14 | G43: 14 | J43: 1 | L43: 1 | Y43: 14
A44: 2.3 | B44: ¶áñÍ³ñùÇó Í³·áÕ Çñ³íáõÝùÝ»ñÁ ·ñ³Ýó»Éáõ í»ñ³µ»ñÛ³É
A45: 2.4 | B45: ä³ÛÙ³Ý³·ÇñÝ ³Ýí³í»ñ ×³Ý³ã»Éáõ í»ñ³µ»ñÛ³É | E45: 2 | F45: 1 | G45: 1 | AA45: 2
A46: 2.5 | B46: ä³ÛÙ³Ý³·ñÇÁ í³í»ñ ×³Ý³ã»Éáõ í»ñ³µ»ñÛ³É | E46: 2 | G46: 2 | N46: 1 | Q46: 1 | X46: 1 | Z46: 1 | AA46: 1 | AB46: 1
A47: 2.6 | B47: ä³ÛÙ³Ý³·ñÇó Í³·áÕ Çñ³íáõÝùÝ»ñÁ ·ñ³Ýó»Éáõ í»ñ³µ»ñÛ³É
A48: 2.7 | B48: ä³ÛÙ³Ý³·ÇñÁ ÷á÷áË»Éáõ ¨ ÉáõÍ»Éáõ í»ñ³µ»ñÛ³É | E48: 1 | G48: 1 | J48: 2 | L48: 2 | N48: 1 | O48: 1 | X48: 1
A49: 2.8 | B49: ä³ÛÙ³Ý³·Çñ ÏÝù»ÉáõÝ å³ñï³íáñ»óÝ»Éáõ í»ñ³µ»ñÛ³É
A50: 2.9 | B50: ²ÛÉ í»×»ñ | E50: 1 | G50: 1 | J50: 3 | K50: 2 | L50: 1 | N50: 1 | Q50: 1 | X50: 1 | AA50: 2 | AC50: 1 | AE50: 1
A51: 3. | B51: Ä³é³Ý·áõÃÛ³Ý Ñ»ï Ï³åí³Í Çñ³í³Ñ³ñ³µ»ñáõÃÛáõÝÝ»ñÇ í»ñ³µ»ñÛ³É ¹³ï³Ï³Ý ·áñÍ»ñ | E51: =SUM(E52:E58) -> 10 | F51: =SUM(F52:F58) -> 0 | G51: =SUM(G52:G58) -> 10 | H51: =SUM(H52:H58) -> 0 | I51: =SUM(I52:I58) -> 0 | J51: =SUM(J52:J58) -> 7 | K51: =SUM(K52:K58) -> 2 | L51: =SUM(L52:L58) -> 4 | ... AH51: =SUM(AH52:AH58) -> 0
A52: 3.1 | B52: Îï³ÏÝ ³Ýí³í»ñ ×³Ý³ã»Éáõ í»ñ³µ»ñÛ³É
A53: 3.2 | B53: ²Ý³ñÅ³Ý Å³é³Ý· ×³Ý³ã»Éáõ í»ñ³µ»ñÛ³É
A54: 3.3 | B54: Ä³é³Ý·áõÃÛáõÝÁ µ³Å³Ý»Éáõ í»ñ³µ»ñÛ³É | E54: 6 | G54: 6 | J54: 3 | L54: 3 | N54: 2 | Q54: 1 | S54: 1 | T54: 1 | X54: 2 | AA54: 4 | AC54: 2 | AE54: 2
A55: 3.4 | B55: ¶áõÛùÝ ³ÝÅ³é³Ý· ×³Ý³ã»Éáõ í»ñ³µ»ñÛ³É
A56: 3.5 | B56: Àëï ûñ»ÝùÇ Å³é³Ý·áõÃÛ³Ý Çñ³íáõÝùÇ íÏ³Û³·ÇñÝ ³Ýí³í»ñ ×³Ý³ã»Éáõ í»ñ³µ»ñÛ³É | E56: 1 | G56: 1 | AA56: 1
A57: 3.6 | B57: Ä³é³Ý·áõÃÛáõÝÝ ÁÝ¹áõÝ»Éáõ µ³ó ÃáÕÝí³Í Å³ÙÏ»ïÁ Ñ³ñ·»ÉÇ Ñ³Ù³ñ»Éáõ í»ñ³µ»ñÛ³É | E57: 1 | G57: 1 | J57: 2 | K57: 1 | M57: 1 | AA57: 2
A58: 3.7 | B58: ²ÛÉ í»×»ñ | E58: 2 | G58: 2 | J58: 2 | K58: 1 | L58: 1 | AA58: 3
A59: 4 | B59: ÀÝï³Ý»Ï³Ý Çñ³í³Ñ³ñ³µ»ñáõÃÛáõÝÝ»ñÇ í»ñ³µ»ñÛ³É ¹³ï³Ï³Ý ·áñÍ»ñ | E59: =SUM(E60:E72) -> 50 | F59: =SUM(F60:F72) -> 3 | G59: =SUM(G60:G72) -> 47 | H59: =SUM(H60:H72) -> 0 | I59: =SUM(I60:I72) -> 0 | J59: =SUM(J60:J72) -> 44 | K59: =SUM(K60:K72) -> 38 | L59: =SUM(L60:L72) -> 4 | ... AH59: =SUM(AH60:AH72) -> 2
A60: 4.1 | B60: ²ÙáõëÝ³ÉáõÍáõÃÛ³Ý í»ñ³µ»ñÛ³É | E60: 13 | G60: 13 | J60: 23 | K60: 20 | L60: 3 | N60: 12 | O60: 7 | P60: 4 | S60: 1 | T60: 1 | X60: 12 | AA60: 21
A61: 4.2 | B61: ²ÉÇÙ»ÝïÇ å³Ñ³ÝçÇ í»ñ³µ»ñÛ³É | E61: 11 | G61: 11 | J61: 8 | K61: 8 | N61: 9 | O61: 4 | P61: 3 | S61: 2 | T61: 1 | U61: 1 | X61: 9 | AA61: 10 | AC61: 2 | AE61: 2 | AF61: 1 | AH61: 1
A62: 4.3 | B62: ²ÉÇÙ»ÝïÇ ã³÷Á ÷á÷áË»Éáõ í»ñ³µ»ñÛ³É | E62: 1 | G62: 1 | AA62: 1
A63: 4.4 | B63: ÌÝáÕ³Ï³Ý Çñ³íáõÝùÝ»ñÇó ½ñÏ»Éáõ í»ñ³µ»ñÛ³É | J63: 1
A64: 4.5 | B64: ÌÝáÕ³Ï³Ý Çñ³íáõÝùÝ»ñÁ í»ñ³Ï³Ý·Ý»Éáõ í»ñ³µ»ñÛ³É
A65: 4.6 | B65: ºñ»Ë³ÛÇ áñ¹»·ñÙ³Ý í»ñ³µ»ñÛ³É
A66: 4.7 | B66: ºñ»Ë³ÛÇ áñ¹»·ñáõÙÁ í»ñ³óÝ»Éáõ í»ñ³µ»ñÛ³É | E66: 1 | G66: 1 | N66: 1 | O66: 1 | X66: 1
A67: 4.8 | B67: Ð³ÛñáõÃÛáõÝÁ ×³Ý³ã»Éáõ í»ñ³µ»ñÛ³É | E67: 6 | G67: 6 | J67: 4 | K67: 4 | N67: 5 | O67: 5 | X67: 5 | Z67: 2 | AA67: 5 | AB67: 2
A68: 4.9 | B68: ºñ»Ë³ÛÇ µÝ³ÏáõÃÛ³Ý í³ÛñÁ áñáß»Éáõ í»ñ³µ»ñÛ³É | E68: 9 | F68: 2 | G68: 7 | J68: 4 | K68: 4 | N68: 3 | P68: 1 | Q68: 2 | X68: 3 | AA68: 9
A69: 4.10 | B69: ºñ»Ë³ÛÇ Ñ»ï ï»ë³ÏóáõÃÛ³Ý Ï³ñ· ë³ÑÙ³Ý»Éáõ í»ñ³µ»ñÛ³É | E69: 2 | G69: 2 | J69: 4 | K69: 2 | L69: 1 | N69: 1 | P69: 1 | X69: 1 | AA69: 3 | AC69: 1 | AE69: 1 | AF69: 1 | AH69: 1
A70: 4.11 | B70: ²ÙáõëÇÝÝ»ñÇ ÁÝ¹Ñ³Ýáõñ ·áõÛùÁ µ³Å³Ý»Éáõ í»ñ³µ»ñÛ³É | E70: 6 | F70: 1 | G70: 5 | N70: 5 | O70: 2 | Q70: 2 | S70: 1 | U70: 1 | X70: 5 | AA70: 1 | AC70: 2 | AE70: 2
A71: 4.12 | B71: ²ÙáõëÝ³Ï³Ý å³ÛÙ³Ý³·ñÇ ÷á÷áËÙ³Ý Ï³Ù ÉáõÍÙ³Ý í»ñ³µ»ñÛ³É
A72: 4.13 | B72: ²ÛÉ í»×»ñ | E72: 1 | G72: 1 | AA72: 1
A73: 5. | B73: Øï³íáñ ë»÷³Ï³ÝáõÃÛ³Ý Ñ»ï Ï³åí³ÍÇñ³í³Ñ³ñ³µ»ñáõÃÛáõÝÝ»ñÇ í»ñ³µ»ñÛ³É ¹³ï³Ï³Ý ·áñÍ»ñ | E73: =SUM(E74:E79) -> 0 | F73: =SUM(F74:F79) -> 0 | G73: =SUM(G74:G79) -> 0 | H73: =SUM(H74:H79) -> 0 | I73: =SUM(I74:I79) -> 0 | J73: =SUM(J74:J79) -> 0 | K73: =SUM(K74:K79) -> 0 | L73: =SUM(L74:L79) -> 0 | ... AH73: =SUM(AH74:AH79) -> 0
A74: 5.1 | B74: ÈÇó»Ý½³ÛÇÝ å³ÛÙ³Ý³·ñÇ ÉáõÍÙ³Ý, ÷á÷áËÙ³Ý ¨ ³Ýí³í»ñáõÃÛ³Ý í»ñ³µ»ñÛ³É
A75: 5.2 | B75: Øï³íáñ ·áñÍáõÝ»áõÃÛ³Ý ³ñ¹ÛáõÝùÝ»ñ ëï»ÕÍ»Éáõ ¨ û·ï³·áñÍ»Éáõ å³ÛÙ³Ý³·ñÇ ÉáõÍÙ³Ý, ÷á÷áËÙ³Ý áõ ³Ýí³í»ñáõÃÛ³Ý í»ñ³µ»ñÛ³É
A76: 5.3 | B76: Ð»ÕÇÝ³Ï³ÛÇÝ ¨ Ñ³ñ³ÏÇó Çñ³íáõÝùÝ»ñÇ í»ñ³µ»ñÛ³É
A77: 5.4 | B77: üÇñÙ³ÛÇÝ ³Ýí³ÝÙ³Ý í»ñ³µ»ñÛ³É
A78: 5.5 | B78: ²åñ³Ýù³ÛÇÝ Ýß³ÝÇ í»ñ³µ»ñÛ³É
A79: 5.6 | B79: ²ÛÉ í»×»ñ
A80: 6. | B80: ²ßË³ï³Ýù³ÛÇÝ Çñ³í³Ñ³ñ³µ»ñáõÃÛáõÝÝ»ñÇ í»ñ³µ»ñÛ³É ¹³ï³Ï³Ý ·áñÍ»ñ | E80: =SUM(E81:E86) -> 9 | F80: =SUM(F81:F86) -> 0 | G80: =SUM(G81:G86) -> 9 | H80: =SUM(H81:H86) -> 0 | I80: =SUM(I81:I86) -> 0 | J80: =SUM(J81:J86) -> 5 | K80: =SUM(K81:K86) -> 4 | L80: =SUM(L81:L86) -> 1 | ... AH80: =SUM(AH81:AH86) -> 0
A81: 6.1 | B81: ²ßË³ï³Ýù³ÛÇÝ å³ÛÙ³Ý³·ñ»ñÇ í»ñ³µ»ñÛ³É | E81: 1 | G81: 1 | N81: 1 | Q81: 1 | X81: 1 | AC81: 1 | AE81: 1
A82: 6.2 | B82: ²ßË³ï³ÝùáõÙ í»ñ³Ï³Ý·Ý»Éáõ í»ñ³µ»ñÛ³É | E82: 3 | G82: 3 | J82: 1 | K82: 1 | N82: 2 | O82: 1 | P82: 1 | X82: 2 | AA82: 2 | AC82: 1 | AD82: 1 | AE82: 2
A83: 6.3 | B83: ¶áñÍ³¹áõÉÝ ³ÝûñÇÝ³Ï³Ý ×³Ý³ã»Éáõ í»ñ³µ»ñÛ³É
A84: 6.4 | B84: Ð³ñÏ³¹Çñ å³ñ³åáõñ¹Ç Ñ³ïáõóÙ³Ý í»ñ³µ»ñÛ³É
A85: 6.5 | B85: âí×³ñí³Í ³ßË³ï³í³ñÓÇ ¨/Ï³Ù ³ÛÉ í×³ñÝ»ñÇ µéÝ³·³ÝÓÙ³Ý í»ñ³µ»ñÛ³É | E85: 5 | G85: 5 | J85: 2 | K85: 2 | N85: 3 | O85: 1 | P85: 1 | Q85: 1 | X85: 3 | AA85: 4 | AC85: 1 | AE85: 1
A86: 6.6 | B86: ²ÛÉ í»×»ñ | J86: 2 | K86: 1 | L86: 1 | AA86: 1 | AD86: 1 | AE86: 1
A87: 7. | B87: Æñ³í³µ³Ý³Ï³Ý ³ÝÓÇ ·áñÍáõÝ»áõÃÛáõÝÇó µËáÕ Çñ³í³Ñ³ñ³µ»ñáõÃÛáõÝÝ»ñÇ í»ñ³µ»ñÛ³É ¹³ï³Ï³Ý ·áñÍ»ñ | E87: =SUM(E88:E89) -> 0 | F87: =SUM(F88:F89) -> 0 | G87: =SUM(G88:G89) -> 0 | H87: =SUM(H88:H89) -> 0 | I87: =SUM(I88:I89) -> 0 | J87: =SUM(J88:J89) -> 0 | K87: =SUM(K88:K89) -> 0 | L87: =SUM(L88:L89) -> 0 | ... AH87: =SUM(AH88:AH89) -> 0
A88: 7.1 | B88: Îáñåáñ³ïÇí í»×»ñ
A89: 7.2 | B89: ²ÛÉ í»×»ñ
A90: 8. | B90: Ð³ïáõÏ í³ñáõÛÃÇ ¹³ï³Ï³Ý ·áñÍ»ñ | E90: =SUM(E91:E111) -> 29 | F90: =SUM(F91:F111) -> 4 | G90: =SUM(G91:G111) -> 25 | H90: =SUM(H91:H111) -> 0 | I90: =SUM(I91:I111) -> 0 | J90: =SUM(J91:J111) -> 60 | K90: =SUM(K91:K111) -> 37 | L90: =SUM(L91:L111) -> 19 | ... AB90: =SUM(AB91:AB111) -> 4 | AC90: =AC91+AC92+AC93+AC94+AC95+AC96+AC97+AC98+AC99+AC100+AC101+AC102+AC103+AC104+AC105+AC106+AC107+AC108+AC109+AC110+AC111 -> 1 | AD90: =AD91+AD92+AD93+AD94+AD95+AD96+AD97+AD98+AD99+AD100+AD101+AD102+AD103+AD104+AD105+AD106++AD107+AD108+AD109+AD110+AD111 -> 0 | AE90: =AE91+AE92+AE93+AE94+AE95+AE96+AE97+AE98+AE99+AE100+AE101+AE102+AE103+AE104+AE105+AE106+AE107+AE108+AE109+AE110+AE111 -> 1 | AF90: =AF91+AF92+AF93+AF94+AF95+AF96+AF97+AF98+AF99+AF100+AF101+AF102+AF103+AF104+AF105+AF106+AF107+AF108+AF109+AF110+AF111 -> 0 | AG90: =AG91+AG92+AG93+AG94+AG95+AG96+AG97+AG98+AG99+AG100+AG101+AG102+AG103+AG104+AG105+AG106+AG107+AG108+AG109+AG110+AG111 -> 0 | AH90: =AH91+AH92+AH93+AH94+AH95+AH96+AH97+AH98+AH99+AH100+AH101+AH102+AH103+AH104+AH105+AH106+AH107+AH108+AH109+AH110+AH111 -> 0
A91: 8.1 | B91: ²Ýã³÷³Ñ³ëÇÝ ÉñÇí ·áñÍáõÝ³Ï ×³Ý³ã»Éáõ /¿Ù³ÝëÇå³óÇ³/ í»ñ³µ»ñÛ³É
A92: 8.2 | B92: ø³Õ³ù³óáõÝ ³Ý·áñÍáõÝ³Ï Ï³Ù ë³ÑÙ³Ý³÷³Ï ·áñÍáõÝ³Ï ×³Ý³ã»Éáõ í»ñ³µ»ñÛ³É | E92: 6 | F92: 3 | G92: 3 | J92: 4 | K92: 2 | L92: 2 | N92: 1 | O92: 1 | X92: 1 | Z92: 3 | AA92: 7 | AB92: 3
A93: 8.3 | B93: ø³Õ³ù³óáõÝ Ñá·»µáõÅ³Ï³Ý ÑÇí³Ý¹³Ýáó³ÛÇÝ Ñ³ñÏ³¹Çñ µáõÅÙ³Ý »ÝÃ³ñÏ»Éáõ í»ñ³µ»ñÛ³É
A94: 8.4 | B94: ø³Õ³ù³óáõÝ ³ÝÑ³Ûï µ³ó³Ï³ÛáÕ Ï³Ù Ù³Ñ³ó³Í ×³Ý³ã»Éáõ í»ñ³µ»ñÛ³É | E94: 2 | G94: 2 | J94: 1 | K94: 1 | N94: 2 | O94: 2 | X94: 2 | AA94: 1
A95: 8.5 | B95: ø³Õ³ù³óÇ³Ï³Ý Ï³óáõÃÛ³Ý ³Ïï»ñÇ ·ñ³éáõÙÝ»ñÇ ³Ý×ßïáõÃÛáõÝÝ»ñÁ å³ñ½»Éáõ í»ñ³µ»ñÛ³É
A96: 8.6 | B96: ¶áõÛùÁ ïÇñ³½áõñÏ ×³Ý³ã»Éáõ í»ñ³µ»ñÛ³É | J96: 1 | L96: 1
A97: 8.6.1 | B97: ²Û¹ ÃíáõÙª ³Ýß³ñÅ ·áõÛùÁ | J97: 5 | K97: 2 | L97: 2 | M97: 1 | W97: 1 | X97: 1 | AA97: 1
A98: 8.6.2 | B98: ²Û¹ ÃíáõÙª ß³ñÅ³Ï³Ý ·áõÛùÁ | E98: 1 | G98: 1 | J98: 1 | K98: 1 | N98: 1 | O98: 1 | X98: 1 | AA98: 1
A99: 8.7 | B99: Æñ³í³µ³Ý³Ï³Ý Ýß³Ý³ÏáõÃÛáõÝ áõÝ»óáÕ ÷³ëï»ñÇ Ñ³ëï³ïÙ³Ý í»ñ³µ»ñÛ³É | E99: 1 | G99: 1 | J99: 4 | K99: 4 | N99: 2 | O99: 1 | P99: 1 | X99: 2 | AA99: 3 | AC99: 1 | AE99: 1
A100: 8.7.1 | B100: ²ÝÓ³Ýó ³½·³Ïó³Ï³Ý Ï³åÁ Ñ³ëï³ï»Éáõ í»ñ³µ»ñÛ³É | E100: 4 | G100: 4 | J100: 12 | K100: 7 | L100: 3 | M100: 1 | N100: 6 | O100: 4 | S100: 2 | U100: 2 | X100: 6 | Y100: 1 | AA100: 4
A101: 8.7.2 | B101: ²ÝÓÇª áõñÇßÇ ËÝ³ÙùÇ ï³Ï ·ïÝí»Éáõ í»ñ³µ»ñÛ³É
A102: 8.7.3 | B102: ÌÝÝ¹Û³Ý, áñ¹»·ñÙ³Ý, ³ÙáõëÝáõÃÛ³Ý, ³å³Ñ³ñ½³ÝÇ ¨ Ù³Ñí³Ý ·ñ³ÝóÙ³Ý í»ñ³µ»ñÛ³É | E102: 2 | G102: 2 | J102: 6 | K102: 5 | L102: 1 | N102: 6 | O102: 5 | Q102: 1 | X102: 6 | AA102: 1
A103: 8.7.4 | B103: ²ÝÓÇª áñáß³ÏÇ Å³Ù³Ý³ÏáõÙ ¨ áñáß³ÏÇ Ñ³Ý·³Ù³ÝùÝ»ñáõÙ Ù³Ñí³Ý í»ñ³µ»ñÛ³É | E103: 1 | G103: 1 | J103: 3 | K103: 3 | N103: 3 | O103: 3 | X103: 3 | AA103: 1
A104: 8.7.5 | B104: Ä³é³Ý·áõÃÛáõÝÝ ÁÝ¹áõÝ»Éáõ ¨ Å³é³Ý·áõÃÛ³Ý µ³óÙ³Ý í³ÛñÇ í»ñ³µ»ñÛ³É | E104: 6 | F104: 1 | G104: 5 | J104: 8 | K104: 4 | L104: 4 | N104: 1 | O104: 1 | W104: 3 | X104: 4 | AA104: 6 | AB104: 1
A105: 8.7.6 | B105: ¸Åµ³Ëï å³ï³Ñ³ñÇ í»ñ³µ»ñÛ³É
A106: 8.7.7 | B106: Æñ³íáõÝù ë³ÑÙ³ÝáÕ ÷³ëï³ÃÕÃ»ñÇ å³ïÏ³Ý»ÉáõÃÛ³Ý í»ñ³µ»ñÛ³É | E106: 1 | G106: 1 | J106: 7 | K106: 4 | L106: 2 | M106: 1 | N106: 2 | O106: 2 | X106: 2 | AA106: 3
A107: 8.7.8 | B107: ê»÷³Ï³ÝáõÃÛ³Ý Çñ³íáõÝùáí ·áõÛùÇ ïÇñ³å»ïÙ³Ý í»ñ³µ»ñÛ³É | E107: 1 | G107: 1 | J107: 6 | K107: 3 | L107: 3 | N107: 3 | O107: 3 | X107: 3 | AA107: 1
A108: 8.7.9 | B108: ²ÝÑ³ÕÃ³Ñ³ñ»ÉÇ áõÅÇ ³éÏ³ÛáõÃÛ³Ý í»ñ³µ»ñÛ³É
A109: 8.7.10 | B109: úñ»Ýùáí Ý³Ë³ï»ëí³Í ³ÛÉ Çñ³í³µ³Ý³Ï³Ý ÷³ëï»ñÇ í»ñ³µ»ñÛ³É | E109: 2 | G109: 2 | J109: 1 | L109: 1 | W109: 2 | X109: 2
A110: 8.8 | B110: Àëï Ý»ñÏ³Û³óÝáÕÇ ¨ ûñ¹»ñ³ÛÇÝ Ïáñóñ³Í ³ñÅ»ÃÕÃ»ñáí Ñ³í³ëïí³Í Çñ³íáõÝùÝ»ñÁ í»ñ³Ï³Ý·Ý»Éáõ í»ñ³µ»ñÛ³É
A111: 8.10 | B111: ²ÛÉ í»×»ñ | E111: 2 | G111: 2 | J111: 1 | K111: 1 | N111: 2 | P111: 2 | X111: 2 | AA111: 1
...

Sheet Գեղարքունիք
A1: 2019թ. 1-ին կիսամյակ | E1: Ð²ÞìºîìàôÂÚàôÜ
A2: ÐÐ ¶ºÔ²ðøàôÜÆøÆ Ø²ð¼Æ ²è²æÆÜ ²îÚ²ÜÆ ÀÜ¸Ð²Üàôð Æð²ì²êàôÂÚ²Ü ¸²î²ð²ÜàôØ ø²Ô²ø²òÆ²Î²Ü ¶àðÌºðÆ øÜÜàôÂÚ²Ü ìºð²´ºðÚ²È
A3: ÐÐ ¶»Õ³ñùáõÝÇùÇ Ù³ñ½Ç ³é³çÇÝ ³ïÛ³ÝÇ ÁÝ¹Ñ³Ýáõñ Çñ³í³ëáõÃÛ³Ý ¹³ï³ñ³ÝáõÙ ù³Õ³ù³óÇ³Ï³Ý Ù³ëÝ³·Çï³óáõÙ áõÝ»óáÕ ¹³ï³íáñÝ»ñÇ Ñ³ëïÇùÝ»ñÇ ù³Ý³ÏÁ` 4
A4: êïáõ·Çã Ñ³í³ë³ñáõÙÝ»ñª 1=2+3+4+5, 6=7+8+9, 2+3+7=20+21+23, 10=11+12+13+14+15, 15=16+17+18, 20=10+19, 27=25+26, 30=28+29 | E4: Ð³ßí»ïáõ Å³Ù³Ý³Ï³Ñ³ïí³ÍáõÙ Ý³Ëáñ¹ Ñ³ßí»ïáõ Å³Ù³Ý³Ï³Ñ³ïí³ÍÇó ÷áË³Ýóí³Í ·áñÍ»ñÇ ÁÝ¹Ñ³Ýáõñ ÃÇíÁ | J4: Ð³ßí»ïáõ Å³Ù³Ý³Ï³Ñ³ïí³ÍáõÙëï³óí³Í ·áñÍ»ñÇ (³Û¹ ÃíáõÙ` Ñ³Ûó³¹ÇÙáõÙÝ»ñÇ, ¹ÇÙáõÙÝ»ñÇ) ÁÝ¹Ñ³Ýáõñ ÃÇíÁ | N4: Ð³ßí»ïáõ Å³Ù³Ý³Ï³Ñ³ïí³ÍáõÙ ³í³ñïí³Í ·áñÍ»ñÇ ÁÝ¹Ñ³Ýáõñ ÃÇíÁ | Y4: ¶áñÍÝ áõÕ³ñÏí»É ¿ Áëï ÁÝ¹¹³ïáõÃÛ³Ý | Z4: Ð³ßí»ïáõ Å³Ù³Ý³Ï³Ñ³ïí³ÍáõÙ Ï³ë»óí³Í í³ñáõÛÃÝ»ñáí ·áñÍ»ñÇ ÁÝ¹Ñ³Ýáõñ ÃÇíÁ | AA4: Ð³ßí»ïáõ Å³Ù³Ý³Ï³Ñ³ïí³ÍáõÙ ³Ý³í³ñï ·áñÍ»ñÇ ÁÝ¹Ñ³Ýáõñ ÃÇíÁ | AB4: ²Û¹ ÃíáõÙª Ï³ë»óí³Í | AC4: ´áÕáù³ñÏí³Í ¹³ï³Ï³Ý ³Ïï»ñÇ ÃÇíÁ` Áëï ï»ë³ÏÝ»ñÇ | AF4: ´»Ï³Ýí³Í ¹³ï³Ï³Ý ³Ïï»ñÇ ÃÇíÁ` Áëï ï»ë³ÏÝ»ñÇ
E7: ÀÝ¹³Ù»ÝÁ | F7: ²Û¹ ÃíáõÙ`Ï³ë»óí³Í íÇ×³ÏáõÙ ÷áË³Ýóí³Í | G7: ²Û¹ ÃíáõÙª ÁÝ¹áõÝí»É ¿ í³ñáõÛÃ | H7: ²Û¹ ÃíáõÙª í»ñ³¹³ñÓí»É ¿ | I7: ²Û¹ ÃíáõÙª ÁÝ¹áõÝáõÙÁ Ù»ñÅí»É ¿ | J7: ÀÝ¹³Ù»ÝÁ | K7: ²Û¹ ÃíáõÙª ÁÝ¹áõÝí»É ¿ í³ñáõÛÃ | L7: ²Û¹ ÃíáõÙª í»ñ³¹³ñÓí»É ¿ | M7: ²Û¹ ÃíáõÙª ÁÝ¹áõÝáõÙÁ Ù»ñÅí»É ¿ | N7: ÀÝ¹³Ù»ÝÁ ³í³ñïí»É »Ý ·áñÍ»ñ ·áñÍÝ Áëï ¿áõÃÛ³Ý ÉáõÍáÕ ¹³ï³Ï³Ý ³Ïï»ñÇ (í×ÇéÝ»ñÇ) Ï³Û³óÙ³Ùµ | O7: ²Û¹ ÃíáõÙª Ñ³ÛóÇ µ³í³ñ³ñÙ³Ùµ | P7: ²Û¹ ÃíáõÙª Ñ³ÛóÇ Ù³ëÝ³ÏÇ µ³í³ñ³ñÙ³Ùµ | Q7: ²Û¹ ÃíáõÙª Ñ³ÛóÇ Ù»ñÅÙ³Ùµ | R7: Ø³ëáí Ï³ñ×í»É ¿, Ù³ëáí Ù»ñÅí»É | S7: ²Û¹ ÃíáõÙª Ï³ñ×í»É »Ý | W7: Ð³ÛóÁ ÃáÕÝí»É ¿ ³é³Ýó ùÝÝáõÃÛ³Ý | X7: ÀÝ¹³Ù»ÝÝ ³í³ñïí»É »Ý ·áñÍ»ñ | AC7: ²Û¹ ÃíáõÙ` ·áñÍÝ Áëï ¿áõÃÛ³Ý ÉáõÍáÕ ¹³ï³Ï³Ý ³Ïï»ñ | AD7: ²Û¹ ÃíáõÙ` ÙÇç³ÝÏÛ³É ¹³ï³Ï³Ý ³Ïï»ñ | AE7: ÀÝ¹³Ù»ÝÁ | AF7: ²Û¹ ÃíáõÙ` ·áñÍÝ Áëï ¿áõÃÛ³Ý ÉáõÍáÕ ¹³ï³Ï³Ý ³Ïï»ñ | AG7: ²Û¹ ÃíáõÙ` ÙÇç³ÝÏÛ³É ¹³ï³Ï³Ý ³Ïï»ñ | AH7: ÀÝ¹³Ù»ÝÁ
S10: ÀÝ¹³Ù»ÝÁ Ï³ñ×í»É »Ý | T10: ²Û¹ ÃíáõÙª Ñ³ëï³ïí»É ¿ ÏÝùí³Í Ñ³ßïáõÃÛ³Ý Ñ³Ù³Ó³ÛÝáõÃÛáõÝÁ | U10: ²Û¹ ÃíáõÙª Ñ³óÇó, ¹ÇÙáõÙÇó Ññ³Å³ñí»Éáõ ÑÇÙùáí | V10: ²Û¹ ÃíáõÙª ³ÛÉ ÑÇÙùáí
A18: ø³Õ³ù³óÇ³Ï³Ý ·áñÍ»ñÇ ¹³ë³Ï³ñ·áõÙÁ | E18: 1 | F18: 2 | G18: 3 | H18: 4 | I18: 5 | J18: 6 | K18: 7 | L18: 8 | M18: 9 | N18: 10 | O18: 11 | P18: 12 | Q18: 13 | R18: 14 | S18: 15 | T18: 16 | U18: 17 | V18: 18 | W18: 19 | X18: 20 | Y18: 21 | Z18: 22 | AA18: 23 | AB18: 24 | AC18: 25 | AD18: 26 | AE18: 27 | AF18: 28 | AG18: 29 | AH18: 30
A19: 1. | B19: ¶áõÛù³ÛÇÝ Çñ³í³Ñ³ñ³µ»ñáõÃÛáõÝÝ»ñÇ í»ñ³µ»ñÛ³É ¹³ï³Ï³Ý ·áñÍ»ñ | E19: =SUM(E20:E38) -> 275 | F19: =SUM(F20:F38) -> 140 | G19: =SUM(G20:G38) -> 134 | H19: =SUM(H20:H38) -> 1 | I19: =SUM(I20:I38) -> 0 | J19: =SUM(J20:J38) -> 105 | K19: =SUM(K20:K38) -> 61 | L19: =SUM(L20:L38) -> 37 | ... AH19: =SUM(AH20:AH38) -> 3
A20: 1.1 | B20: ¶áõÛùÇ ÝÏ³ïÙ³Ùµ ë»÷³Ï³ÝáõÃÛ³Ý Çñ³íáõÝùÁ ×³Ý³ã»Éáõ í»ñ³µ»ñÛ³É | E20: =[1]Gavar!E20+[1]Sevan!E20+[1]Martuni!E20 -> 14 | F20: =[1]Gavar!F20+[1]Sevan!F20+[1]Martuni!F20 -> 2 | G20: =[1]Gavar!G20+[1]Sevan!G20+[1]Martuni!G20 -> 12 | J20: =[1]Gavar!J20+[1]Sevan!J20+[1]Martuni!J20 -> 9 | K20: =[1]Gavar!K20+[1]Sevan!K20+[1]Martuni!K20 -> 3 | L20: =[1]Gavar!L20+[1]Sevan!L20+[1]Martuni!L20 -> 5 | M20: =[1]Gavar!M20+[1]Sevan!M20+[1]Martuni!M20 -> 1 | N20: =[1]Gavar!N20+[1]Sevan!N20+[1]Martuni!N20 -> 1 | Q20: =[1]Gavar!Q20+[1]Sevan!Q20+[1]Martuni!Q20 -> 1 | X20: =[1]Gavar!X20+[1]Sevan!X20+[1]Martuni!X20 -> 1 | AA20: =[1]Gavar!AA20+[1]Sevan!AA20+[1]Martuni!AA20 -> 16 | AB20: =[1]Gavar!AB20+[1]Sevan!AB20+[1]Martuni!AB20 -> 2 | AD20: =[1]Gavar!AD20+[1]Sevan!AD20+[1]Martuni!AD20 -> 1 | AE20: =[1]Gavar!AE20+[1]Sevan!AE20+[1]Martuni!AE20 -> 1
A21: 1.1.1 | B21: ²Û¹ ÃíáõÙª Ó»éùµ»ñÙ³Ý í³Õ»ÙáõÃÛ³Ý áõÅáí | E21: =[1]Gavar!E21+[1]Sevan!E21+[1]Martuni!E21 -> 30 | F21: =[1]Gavar!F21+[1]Sevan!F21+[1]Martuni!F21 -> 2 | G21: =[1]Gavar!G21+[1]Sevan!G21+[1]Martuni!G21 -> 28 | J21: =[1]Gavar!J21+[1]Sevan!J21+[1]Martuni!J21 -> 16 | K21: =[1]Gavar!K21+[1]Sevan!K21+[1]Martuni!K21 -> 12 | L21: =[1]Gavar!L21+[1]Sevan!L21+[1]Martuni!L21 -> 2 | M21: =[1]Gavar!M21+[1]Sevan!M21+[1]Martuni!M21 -> 1 | N21: =[1]Gavar!N21+[1]Sevan!N21+[1]Martuni!N21 -> 4 | O21: =[1]Gavar!O21+[1]Sevan!O21+[1]Martuni!O21 -> 1 | Q21: =[1]Gavar!Q21+[1]Sevan!Q21+[1]Martuni!Q21 -> 2 | S21: =[1]Gavar!S21+[1]Sevan!S21+[1]Martuni!S21 -> 1 | U21: =[1]Gavar!U21+[1]Sevan!U21+[1]Martuni!U21 -> 1 | W21: =[1]Gavar!W21+[1]Sevan!W21+[1]Martuni!W21 -> 2 | X21: =[1]Gavar!X21+[1]Sevan!X21+[1]Martuni!X21 -> 6 | AA21: =[1]Gavar!AA21+[1]Sevan!AA21+[1]Martuni!AA21 -> 36 | AB21: =[1]Gavar!AB21+[1]Sevan!AB21+[1]Martuni!AB21 -> 2 | AD21: =[1]Gavar!AD21+[1]Sevan!AD21+[1]Martuni!AD21 -> 1 | AE21: =[1]Gavar!AE21+[1]Sevan!AE21+[1]Martuni!AE21 -> 1
A22: 1.1.2 | B22: ²Û¹ ÃíáõÙª ïÇñ³½áõñÏ ·áõÛùÇ ÝÏ³ïÙ³Ùµ
A23: 1.1.3 | B23: ²Û¹ ÃíáõÙª ÇÝùÝ³Ï³Ù Ï³éáõÛóÇ ÝÏ³ïÙ³Ùµ
A24: 1.2 | B24: ê»÷³Ï³ÝáõÃÛ³Ý Çñ³íáõÝùÇ ¹³¹³ñ»óÙ³Ý í»ñ³µ»ñÛ³É
A25: 1.3 | B25: ¶áõÛùÇ ÝÏ³ïÙ³Ùµ û·ï³·áñÍÙ³Ý Çñ³íáõÝùÁ ×³Ý³ã»Éáõ í»ñ³µ»ñÛ³É | E25: =[1]Gavar!E25+[1]Sevan!E25+[1]Martuni!E25 -> 1 | F25: =[1]Gavar!F25+[1]Sevan!F25+[1]Martuni!F25 -> 1 | AA25: =[1]Gavar!AA25+[1]Sevan!AA25+[1]Martuni!AA25 -> 1 | AB25: =[1]Gavar!AB25+[1]Sevan!AB25+[1]Martuni!AB25 -> 1
A26: 1.3.1 | B26: ²Û¹ ÃíáõÙª µÝ³Ïû·ï³·áñÍÙ³Ý Çñ³íáõÝùÁ ×³Ý³ã»Éáõ í»ñ³µ»ñÛ³É
A27: 1.3.2 | B27: ²Û¹ ÃíáõÙª ÑáÕ³Ù³ëÇ ÝÏ³ïÙ³Ùµ û·ï³·áñÍÙ³Ý Çñ³íáõÝùÁ ×³Ý³ã»Éáõ í»ñ³µ»ñÛ³É | J27: =[1]Gavar!J27+[1]Sevan!J27+[1]Martuni!J27 -> 1 | K27: =[1]Gavar!K27+[1]Sevan!K27+[1]Martuni!K27 -> 1 | AA27: =[1]Gavar!AA27+[1]Sevan!AA27+[1]Martuni!AA27 -> 1 | AD27: =[1]Gavar!AD27+[1]Sevan!AD27+[1]Martuni!AD27 -> 1 | AE27: =[1]Gavar!AE27+[1]Sevan!AE27+[1]Martuni!AE27 -> 1 | AG27: =[1]Gavar!AG27+[1]Sevan!AG27+[1]Martuni!AG27 -> 1 | AH27: =[1]Gavar!AH27+[1]Sevan!AH27+[1]Martuni!AH27 -> 1
A28: 1.4 | B28: ¶áõÛùÇ ÝÏ³ïÙ³Ùµ û·ï³·áñÍÙ³Ý Çñ³íáõÝùÁ ¹³¹³ñ»óÝ»Éáõ í»ñ³µ»ñÛ³É
A29: 1.4.1 | B29: ²Û¹ ÃíáõÙª µÝ³Ïû·ï³·áñÍÙ³Ý Çñ³íáõÝùÁ ¹³¹³ñ»óÝ»Éáõ í»ñ³µ»ñÛ³É
A30: 1.4.1/1 | B30: ²Û¹ ÃíáõÙª ÷áËÑ³ïáõóÙ³Ùµ
A31: 1.5 | B31: ´Ý³Ï³ñ³ÝÇó/ ï³ñ³ÍùÇó/ íï³ñ»Éáõ í»ñ³µ»ñÛ³É | E31: =[1]Gavar!E31+[1]Sevan!E31+[1]Martuni!E31 -> 4 | F31: =[1]Gavar!F31+[1]Sevan!F31+[1]Martuni!F31 -> 1 | G31: =[1]Gavar!G31+[1]Sevan!G31+[1]Martuni!G31 -> 3 | J31: =[1]Gavar!J31+[1]Sevan!J31+[1]Martuni!J31 -> 3 | K31: =[1]Gavar!K31+[1]Sevan!K31+[1]Martuni!K31 -> 3 | N31: =[1]Gavar!N31+[1]Sevan!N31+[1]Martuni!N31 -> 2 | O31: =[1]Gavar!O31+[1]Sevan!O31+[1]Martuni!O31 -> 2 | X31: =[1]Gavar!X31+[1]Sevan!X31+[1]Martuni!X31 -> 2 | AA31: =[1]Gavar!AA31+[1]Sevan!AA31+[1]Martuni!AA31 -> 5 | AB31: =[1]Gavar!AB31+[1]Sevan!AB31+[1]Martuni!AB31 -> 1
A32: 1.6 | B32: ¶áõÛùÝ áõñÇßÇ ³åûñÇÝÇ ïÇñ³å»ïáõÙÇó »ï í»ñ³¹³ñÓÝ»Éáõ í»ñ³µ»ñÛ³É | E32: =[1]Gavar!E32+[1]Sevan!E32+[1]Martuni!E32 -> 10 | F32: =[1]Gavar!F32+[1]Sevan!F32+[1]Martuni!F32 -> 3 | G32: =[1]Gavar!G32+[1]Sevan!G32+[1]Martuni!G32 -> 7 | J32: =[1]Gavar!J32+[1]Sevan!J32+[1]Martuni!J32 -> 4 | K32: =[1]Gavar!K32+[1]Sevan!K32+[1]Martuni!K32 -> 2 | L32: =[1]Gavar!L32+[1]Sevan!L32+[1]Martuni!L32 -> 2 | N32: =[1]Gavar!N32+[1]Sevan!N32+[1]Martuni!N32 -> 1 | O32: =[1]Gavar!O32+[1]Sevan!O32+[1]Martuni!O32 -> 1 | X32: =[1]Gavar!X32+[1]Sevan!X32+[1]Martuni!X32 -> 1 | AA32: =[1]Gavar!AA32+[1]Sevan!AA32+[1]Martuni!AA32 -> 11 | AB32: =[1]Gavar!AB32+[1]Sevan!AB32+[1]Martuni!AB32 -> 3
A33: 1.6.1 | B33: ´³ñ»ËÇÕ× Ó»éùµ»ñáÕÇó Çñ ·áõÛùÁ Ñ»ï å³Ñ³Ýç»Éáõ í»ñ³µ»ñÛ³É
A34: 1.7 | B34: îÇñ³å»ïáõÙÇó ½ñÏ»Éáõ Ñ»ï ãÏ³åí³Í Çñ³íáõÝùÝ»ñÇ Ë³ËïáõÙÁ í»ñ³óÝ»Éáõ í»ñ³µ»ñÛ³É
A35: 1.8 | B35: ÀÝ¹Ñ³Ýáõñ µ³ÅÝ³ÛÇÝ ë»÷³Ï³ÝáõÃÛáõÝÇó µ³ÅÇÝÝ ³é³ÝÓÝ³óÝ»Éáõ í»ñ³µ»ñÛ³É | E35: =[1]Gavar!E35+[1]Sevan!E35+[1]Martuni!E35 -> 174 | F35: 104 | G35: 69 | H35: =[1]Gavar!H35+[1]Sevan!H35+[1]Martuni!H35 -> 1 | J35: =[1]Gavar!J35+[1]Sevan!J35+[1]Martuni!J35 -> 52 | K35: =[1]Gavar!K35+[1]Sevan!K35+[1]Martuni!K35 -> 29 | L35: =[1]Gavar!L35+[1]Sevan!L35+[1]Martuni!L35 -> 21 | N35: =[1]Gavar!N35+[1]Sevan!N35+[1]Martuni!N35 -> 11 | O35: =[1]Gavar!O35+[1]Sevan!O35+[1]Martuni!O35 -> 3 | Q35: =[1]Gavar!Q35+[1]Sevan!Q35+[1]Martuni!Q35 -> 1 | S35: =[1]Gavar!S35+[1]Sevan!S35+[1]Martuni!S35 -> 7 | U35: =[1]Gavar!U35+[1]Sevan!U35+[1]Martuni!U35 -> 7 | X35: =[1]Gavar!X35+[1]Sevan!X35+[1]Martuni!X35 -> 11 | Z35: =[1]Gavar!Z35+[1]Sevan!Z35+[1]Martuni!Z35 -> 17 | AA35: =[1]Gavar!AA35+[1]Sevan!AA35+[1]Martuni!AA35 -> 191 | AB35: =[1]Gavar!AB35+[1]Sevan!AB35+[1]Martuni!AB35 -> 84 | AC35: =[1]Gavar!AC35+[1]Sevan!AC35+[1]Martuni!AC35 -> 1 | AD35: =[1]Gavar!AD35+[1]Sevan!AD35+[1]Martuni!AD35 -> 2 | AE35: =[1]Gavar!AE35+[1]Sevan!AE35+[1]Martuni!AE35 -> 3 | AG35: =[1]Gavar!AG35+[1]Sevan!AG35+[1]Martuni!AG35 -> 2 | AH35: =[1]Gavar!AH35+[1]Sevan!AH35+[1]Martuni!AH35 -> 2
A36: 1.8.1 | B36: Ð³Ù³ï»Õ ë»÷³Ï³ÝáõÃÛ³Ý Ý»ñùá ·ïÝíáÕ ·áõÛùÁ µ³Å³Ý»Éáõ ¨ ¹ñ³ÝÇó µ³ÅÇÝÝ ³é³ÝÓÝ³óÝ»Éáõ í»ñ³µ»ñÛ³É | E36: =[1]Gavar!E36+[1]Sevan!E36+[1]Martuni!E36 -> 16 | F36: 10 | G36: 6 | J36: =[1]Gavar!J36+[1]Sevan!J36+[1]Martuni!J36 -> 7 | K36: =[1]Gavar!K36+[1]Sevan!K36+[1]Martuni!K36 -> 5 | L36: =[1]Gavar!L36+[1]Sevan!L36+[1]Martuni!L36 -> 2 | N36: =[1]Gavar!N36+[1]Sevan!N36+[1]Martuni!N36 -> 1 | O36: =[1]Gavar!O36+[1]Sevan!O36+[1]Martuni!O36 -> 1 | X36: =[1]Gavar!X36+[1]Sevan!X36+[1]Martuni!X36 -> 1 | Z36: =[1]Gavar!Z36+[1]Sevan!Z36+[1]Martuni!Z36 -> 2 | AA36: =[1]Gavar!AA36+[1]Sevan!AA36+[1]Martuni!AA36 -> 20 | AB36: =[1]Gavar!AB36+[1]Sevan!AB36+[1]Martuni!AB36 -> 8 | AD36: =[1]Gavar!AD36+[1]Sevan!AD36+[1]Martuni!AD36 -> 1 | AE36: =[1]Gavar!AE36+[1]Sevan!AE36+[1]Martuni!AE36 -> 1
A37: 1.8.3 | B37: ¶áõÛùÇ íñ³ µéÝ³·³ÝÓáõÙ ï³ñ³Í»Éáõ å³Ñ³ÝçÇ Ù³ëÇÝ | E37: =[1]Gavar!E37+[1]Sevan!E37+[1]Martuni!E37 -> 17 | F37: 14 | G37: 3 | J37: =[1]Gavar!J37+[1]Sevan!J37+[1]Martuni!J37 -> 2 | K37: =[1]Gavar!K37+[1]Sevan!K37+[1]Martuni!K37 -> 1 | L37: =[1]Gavar!L37+[1]Sevan!L37+[1]Martuni!L37 -> 1 | N37: =[1]Gavar!N37+[1]Sevan!N37+[1]Martuni!N37 -> 1 | S37: =[1]Gavar!S37+[1]Sevan!S37+[1]Martuni!S37 -> 1 | U37: =[1]Gavar!U37+[1]Sevan!U37+[1]Martuni!U37 -> 1 | X37: =[1]Gavar!X37+[1]Sevan!X37+[1]Martuni!X37 -> 1 | Z37: =[1]Gavar!Z37+[1]Sevan!Z37+[1]Martuni!Z37 -> 1 | AA37: =[1]Gavar!AA37+[1]Sevan!AA37+[1]Martuni!AA37 -> 17 | AB37: =[1]Gavar!AB37+[1]Sevan!AB37+[1]Martuni!AB37 -> 14
A38: 1.9 | B38: ²ÛÉ í»×»ñ | E38: =[1]Gavar!E38+[1]Sevan!E38+[1]Martuni!E38 -> 9 | F38: =[1]Gavar!F38+[1]Sevan!F38+[1]Martuni!F38 -> 3 | G38: =[1]Gavar!G38+[1]Sevan!G38+[1]Martuni!G38 -> 6 | J38: =[1]Gavar!J38+[1]Sevan!J38+[1]Martuni!J38 -> 11 | K38: =[1]Gavar!K38+[1]Sevan!K38+[1]Martuni!K38 -> 5 | L38: =[1]Gavar!L38+[1]Sevan!L38+[1]Martuni!L38 -> 4 | M38: =[1]Gavar!M38+[1]Sevan!M38+[1]Martuni!M38 -> 2 | AA38: =[1]Gavar!AA38+[1]Sevan!AA38+[1]Martuni!AA38 -> 14 | AB38: =[1]Gavar!AB38+[1]Sevan!AB38+[1]Martuni!AB38 -> 1
A39: 2. | B39: ¶áñÍ³ñùÝ»ñÇ Ñ»ï Ï³åí³Í Çñ³í³Ñ³ñ³µ»ñáõÃÛáõÝÝ»ñÇ í»ñ³µ»ñÛ³É ¹³ï³Ï³Ý ·áñÍ»ñ | E39: =SUM(E40:E50) -> 37 | F39: =SUM(F40:F50) -> 10 | G39: =SUM(G40:G50) -> 27 | H39: =SUM(H40:H50) -> 0 | I39: =SUM(I40:I50) -> 0 | J39: =SUM(J40:J50) -> 19 | K39: =SUM(K40:K50) -> 12 | L39: =SUM(L40:L50) -> 5 | ... AH39: =SUM(AH40:AH50) -> 1
A40: 2.1 | B40: ·áñÍ³ñùÝ»ñÇ ³Ýí³í»ñáõÃÛ³Ý Ñ»ï Ï³åí³Í í»×»ñ | E40: =[1]Gavar!E40+[1]Sevan!E40+[1]Martuni!E40 -> 6 | F40: =[1]Gavar!F40+[1]Sevan!F40+[1]Martuni!F40 -> 2 | G40: =[1]Gavar!G40+[1]Sevan!G40+[1]Martuni!G40 -> 4 | J40: =[1]Gavar!J40+[1]Sevan!J40+[1]Martuni!J40 -> 4 | K40: =[1]Gavar!K40+[1]Sevan!K40+[1]Martuni!K40 -> 3 | M40: =[1]Gavar!M40+[1]Sevan!M40+[1]Martuni!M40 -> 1 | N40: =[1]Gavar!N40+[1]Sevan!N40+[1]Martuni!N40 -> 2 | Q40: =[1]Gavar!Q40+[1]Sevan!Q40+[1]Martuni!Q40 -> 1 | S40: =[1]Gavar!S40+[1]Sevan!S40+[1]Martuni!S40 -> 1 | U40: =[1]Gavar!U40+[1]Sevan!U40+[1]Martuni!U40 -> 1 | X40: =[1]Gavar!X40+[1]Sevan!X40+[1]Martuni!X40 -> 2 | Z40: =[1]Gavar!Z40+[1]Sevan!Z40+[1]Martuni!Z40 -> 2 | AA40: =[1]Gavar!AA40+[1]Sevan!AA40+[1]Martuni!AA40 -> 7 | AB40: =[1]Gavar!AB40+[1]Sevan!AB40+[1]Martuni!AB40 -> 3 | AC40: =[1]Gavar!AC40+[1]Sevan!AC40+[1]Martuni!AC40 -> 1 | AD40: =[1]Gavar!AD40+[1]Sevan!AD40+[1]Martuni!AD40 -> 1 | AE40: =[1]Gavar!AE40+[1]Sevan!AE40+[1]Martuni!AE40 -> 2 | AG40: =[1]Gavar!AG40+[1]Sevan!AG40+[1]Martuni!AG40 -> 1 | AH40: =[1]Gavar!AH40+[1]Sevan!AH40+[1]Martuni!AH40 -> 1
A41: 2.1.1 | B41: ³Û¹ ÃíáõÙ` íÇ×³Ñ³ñáõÛó ·áñÍ³ñùÝ»ñÝ ³Ýí³í»ñ ×³Ý³ã»Éáõ í»ñ³µ»ñÛ³É
A42: 2.1.2 | B42: ³Û¹ ÃíáõÙ` ·áñÍ³ñùÇ ³éáãÝãáõÃÛ³Ý Ñ»ï¨³ÝùÝ»ñ ÏÇñ³é»Éáõ í»ñ³µ»ñÛ³É | E42: =[1]Gavar!E42+[1]Sevan!E42+[1]Martuni!E42 -> 7 | F42: =[1]Gavar!F42+[1]Sevan!F42+[1]Martuni!F42 -> 2 | G42: =[1]Gavar!G42+[1]Sevan!G42+[1]Martuni!G42 -> 5 | J42: =[1]Gavar!J42+[1]Sevan!J42+[1]Martuni!J42 -> 3 | K42: =[1]Gavar!K42+[1]Sevan!K42+[1]Martuni!K42 -> 1 | L42: =[1]Gavar!L42+[1]Sevan!L42+[1]Martuni!L42 -> 2 | AA42: =[1]Gavar!AA42+[1]Sevan!AA42+[1]Martuni!AA42 -> 8 | AD42: =[1]Gavar!AD42+[1]Sevan!AD42+[1]Martuni!AD42 -> 1 | AE42: =[1]Gavar!AE42+[1]Sevan!AE42+[1]Martuni!AE42 -> 1
A43: 2.2 | B43: ¶áñÍ³ñùÁ í³í»ñ ×³Ý³ã»Éáõ í»ñ³µ»ñÛ³É | E43: =[1]Gavar!E43+[1]Sevan!E43+[1]Martuni!E43 -> 4 | G43: =[1]Gavar!G43+[1]Sevan!G43+[1]Martuni!G43 -> 4 | N43: =[1]Gavar!N43+[1]Sevan!N43+[1]Martuni!N43 -> 1 | S43: =[1]Gavar!S43+[1]Sevan!S43+[1]Martuni!S43 -> 1 | U43: =[1]Gavar!U43+[1]Sevan!U43+[1]Martuni!U43 -> 1 | W43: =[1]Gavar!W43+[1]Sevan!W43+[1]Martuni!W43 -> 1 | X43: =[1]Gavar!X43+[1]Sevan!X43+[1]Martuni!X43 -> 2 | AA43: =[1]Gavar!AA43+[1]Sevan!AA43+[1]Martuni!AA43 -> 2
A44: 2.3 | B44: ¶áñÍ³ñùÇó Í³·áÕ Çñ³íáõÝùÝ»ñÁ ·ñ³Ýó»Éáõ í»ñ³µ»ñÛ³É
A45: 2.4 | B45: ä³ÛÙ³Ý³·ÇñÝ ³Ýí³í»ñ ×³Ý³ã»Éáõ í»ñ³µ»ñÛ³É | E45: =[1]Gavar!E45+[1]Sevan!E45+[1]Martuni!E45 -> 7 | F45: =[1]Gavar!F45+[1]Sevan!F45+[1]Martuni!F45 -> 2 | G45: =[1]Gavar!G45+[1]Sevan!G45+[1]Martuni!G45 -> 5 | H45: =[1]Gavar!H45+[1]Sevan!H45+[1]Martuni!H45 -> 0 | I45: =[1]Gavar!I45+[1]Sevan!I45+[1]Martuni!I45 -> 0 | J45: =[1]Gavar!J45+[1]Sevan!J45+[1]Martuni!J45 -> 4 | K45: =[1]Gavar!K45+[1]Sevan!K45+[1]Martuni!K45 -> 3 | L45: =[1]Gavar!L45+[1]Sevan!L45+[1]Martuni!L45 -> 1 | W45: =[1]Gavar!W45+[1]Sevan!W45+[1]Martuni!W45 -> 1 | X45: =[1]Gavar!X45+[1]Sevan!X45+[1]Martuni!X45 -> 1 | AA45: =[1]Gavar!AA45+[1]Sevan!AA45+[1]Martuni!AA45 -> 9 | AB45: =[1]Gavar!AB45+[1]Sevan!AB45+[1]Martuni!AB45 -> 2
A46: 2.5 | B46: ä³ÛÙ³Ý³·ñÇÁ í³í»ñ ×³Ý³ã»Éáõ í»ñ³µ»ñÛ³É | J46: =[1]Gavar!J46+[1]Sevan!J46+[1]Martuni!J46 -> 2 | L46: =[1]Gavar!L46+[1]Sevan!L46+[1]Martuni!L46 -> 1
A47: 2.6 | B47: ä³ÛÙ³Ý³·ñÇó Í³·áÕ Çñ³íáõÝùÝ»ñÁ ·ñ³Ýó»Éáõ í»ñ³µ»ñÛ³É
A48: 2.7 | B48: ä³ÛÙ³Ý³·ÇñÁ ÷á÷áË»Éáõ ¨ ÉáõÍ»Éáõ í»ñ³µ»ñÛ³É | E48: =[1]Gavar!E48+[1]Sevan!E48+[1]Martuni!E48 -> 2 | G48: =[1]Gavar!G48+[1]Sevan!G48+[1]Martuni!G48 -> 2 | J48: =[1]Gavar!J48+[1]Sevan!J48+[1]Martuni!J48 -> 3 | K48: =[1]Gavar!K48+[1]Sevan!K48+[1]Martuni!K48 -> 3 | N48: =[1]Gavar!N48+[1]Sevan!N48+[1]Martuni!N48 -> 1 | Q48: =[1]Gavar!Q48+[1]Sevan!Q48+[1]Martuni!Q48 -> 1 | W48: =[1]Gavar!W48+[1]Sevan!W48+[1]Martuni!W48 -> 1 | X48: =[1]Gavar!X48+[1]Sevan!X48+[1]Martuni!X48 -> 2 | AA48: =[1]Gavar!AA48+[1]Sevan!AA48+[1]Martuni!AA48 -> 3
A49: 2.8 | B49: ä³ÛÙ³Ý³·Çñ ÏÝù»ÉáõÝ å³ñï³íáñ»óÝ»Éáõ í»ñ³µ»ñÛ³É | E49: =[1]Gavar!E49+[1]Sevan!E49+[1]Martuni!E49 -> 3 | F49: =[1]Gavar!F49+[1]Sevan!F49+[1]Martuni!F49 -> 1 | G49: =[1]Gavar!G49+[1]Sevan!G49+[1]Martuni!G49 -> 2 | J49: =[1]Gavar!J49+[1]Sevan!J49+[1]Martuni!J49 -> 1 | K49: =[1]Gavar!K49+[1]Sevan!K49+[1]Martuni!K49 -> 1 | AA49: =[1]Gavar!AA49+[1]Sevan!AA49+[1]Martuni!AA49 -> 4 | AB49: =[1]Gavar!AB49+[1]Sevan!AB49+[1]Martuni!AB49 -> 1
A50: 2.9 | B50: ²ÛÉ í»×»ñ | E50: =[1]Gavar!E50+[1]Sevan!E50+[1]Martuni!E50 -> 8 | F50: =[1]Gavar!F50+[1]Sevan!F50+[1]Martuni!F50 -> 3 | G50: =[1]Gavar!G50+[1]Sevan!G50+[1]Martuni!G50 -> 5 | J50: =[1]Gavar!J50+[1]Sevan!J50+[1]Martuni!J50 -> 2 | K50: =[1]Gavar!K50+[1]Sevan!K50+[1]Martuni!K50 -> 1 | L50: =[1]Gavar!L50+[1]Sevan!L50+[1]Martuni!L50 -> 1 | AA50: =[1]Gavar!AA50+[1]Sevan!AA50+[1]Martuni!AA50 -> 9 | AB50: =[1]Gavar!AB50+[1]Sevan!AB50+[1]Martuni!AB50 -> 3
A51: 3. | B51: Ä³é³Ý·áõÃÛ³Ý Ñ»ï Ï³åí³Í Çñ³í³Ñ³ñ³µ»ñáõÃÛáõÝÝ»ñÇ í»ñ³µ»ñÛ³É ¹³ï³Ï³Ý ·áñÍ»ñ | E51: =SUM(E52:E58) -> 6 | F51: =SUM(F52:F58) -> 1 | G51: =SUM(G52:G58) -> 5 | H51: =SUM(H52:H58) -> 0 | I51: =SUM(I52:I58) -> 0 | J51: =SUM(J52:J58) -> 7 | K51: =SUM(K52:K58) -> 5 | L51: =SUM(L52:L58) -> 2 | ... AH51: =SUM(AH52:AH58) -> 0
A52: 3.1 | B52: Îï³ÏÝ ³Ýí³í»ñ ×³Ý³ã»Éáõ í»ñ³µ»ñÛ³É | J52: =[1]Gavar!J52+[1]Sevan!J52+[1]Martuni!J52 -> 1 | K52: =[1]Gavar!K52+[1]Sevan!K52+[1]Martuni!K52 -> 1 | AA52: =[1]Gavar!AA52+[1]Sevan!AA52+[1]Martuni!AA52 -> 1
A53: 3.2 | B53: ²Ý³ñÅ³Ý Å³é³Ý· ×³Ý³ã»Éáõ í»ñ³µ»ñÛ³É
A54: 3.3 | B54: Ä³é³Ý·áõÃÛáõÝÁ µ³Å³Ý»Éáõ í»ñ³µ»ñÛ³É
A55: 3.4 | B55: ¶áõÛùÝ ³ÝÅ³é³Ý· ×³Ý³ã»Éáõ í»ñ³µ»ñÛ³É
A56: 3.5 | B56: Àëï ûñ»ÝùÇ Å³é³Ý·áõÃÛ³Ý Çñ³íáõÝùÇ íÏ³Û³·ÇñÝ ³Ýí³í»ñ ×³Ý³ã»Éáõ í»ñ³µ»ñÛ³É
A57: 3.6 | B57: Ä³é³Ý·áõÃÛáõÝÝ ÁÝ¹áõÝ»Éáõ µ³ó ÃáÕÝí³Í Å³ÙÏ»ïÁ Ñ³ñ·»ÉÇ Ñ³Ù³ñ»Éáõ í»ñ³µ»ñÛ³É | J57: =[1]Gavar!J57+[1]Sevan!J57+[1]Martuni!J57 -> 3 | K57: =[1]Gavar!K57+[1]Sevan!K57+[1]Martuni!K57 -> 3 | AA57: =[1]Gavar!AA57+[1]Sevan!AA57+[1]Martuni!AA57 -> 3
A58: 3.7 | B58: ²ÛÉ í»×»ñ | E58: =[1]Gavar!E58+[1]Sevan!E58+[1]Martuni!E58 -> 6 | F58: =[1]Gavar!F58+[1]Sevan!F58+[1]Martuni!F58 -> 1 | G58: =[1]Gavar!G58+[1]Sevan!G58+[1]Martuni!G58 -> 5 | J58: =[1]Gavar!J58+[1]Sevan!J58+[1]Martuni!J58 -> 3 | K58: =[1]Gavar!K58+[1]Sevan!K58+[1]Martuni!K58 -> 1 | L58: =[1]Gavar!L58+[1]Sevan!L58+[1]Martuni!L58 -> 2 | N58: =[1]Gavar!N58+[1]Sevan!N58+[1]Martuni!N58 -> 1 | S58: =[1]Gavar!S58+[1]Sevan!S58+[1]Martuni!S58 -> 1 | U58: =[1]Gavar!U58+[1]Sevan!U58+[1]Martuni!U58 -> 1 | X58: =[1]Gavar!X58+[1]Sevan!X58+[1]Martuni!X58 -> 1 | AA58: =[1]Gavar!AA58+[1]Sevan!AA58+[1]Martuni!AA58 -> 6 | AB58: =[1]Gavar!AB58+[1]Sevan!AB58+[1]Martuni!AB58 -> 1 | AD58: =[1]Gavar!AD58+[1]Sevan!AD58+[1]Martuni!AD58 -> 1 | AE58: =[1]Gavar!AE58+[1]Sevan!AE58+[1]Martuni!AE58 -> 1
A59: 4 | B59: ÀÝï³Ý»Ï³Ý Çñ³í³Ñ³ñ³µ»ñáõÃÛáõÝÝ»ñÇ í»ñ³µ»ñÛ³É ¹³ï³Ï³Ý ·áñÍ»ñ | E59: =SUM(E60:E72) -> 90 | F59: =SUM(F60:F72) -> 5 | G59: =SUM(G60:G72) -> 85 | H59: =SUM(H60:H72) -> 0 | I59: =SUM(I60:I72) -> 0 | J59: =SUM(J60:J72) -> 61 | K59: =SUM(K60:K72) -> 42 | L59: =SUM(L60:L72) -> 17 | ... AH59: =SUM(AH60:AH72) -> 1
A60: 4.1 | B60: ²ÙáõëÝ³ÉáõÍáõÃÛ³Ý í»ñ³µ»ñÛ³É | E60: =[1]Gavar!E60+[1]Sevan!E60+[1]Martuni!E60 -> 43 | G60: =[1]Gavar!G60+[1]Sevan!G60+[1]Martuni!G60 -> 43 | J60: =[1]Gavar!J60+[1]Sevan!J60+[1]Martuni!J60 -> 30 | K60: =[1]Gavar!K60+[1]Sevan!K60+[1]Martuni!K60 -> 18 | L60: =[1]Gavar!L60+[1]Sevan!L60+[1]Martuni!L60 -> 10 | N60: =[1]Gavar!N60+[1]Sevan!N60+[1]Martuni!N60 -> 23 | O60: =[1]Gavar!O60+[1]Sevan!O60+[1]Martuni!O60 -> 15 | P60: =[1]Gavar!P60+[1]Sevan!P60+[1]Martuni!P60 -> 2 | S60: =[1]Gavar!S60+[1]Sevan!S60+[1]Martuni!S60 -> 6 | T60: =[1]Gavar!T60+[1]Sevan!T60+[1]Martuni!T60 -> 1 | U60: =[1]Gavar!U60+[1]Sevan!U60+[1]Martuni!U60 -> 5 | W60: =[1]Gavar!W60+[1]Sevan!W60+[1]Martuni!W60 -> 1 | X60: =[1]Gavar!X60+[1]Sevan!X60+[1]Martuni!X60 -> 24 | AA60: =[1]Gavar!AA60+[1]Sevan!AA60+[1]Martuni!AA60 -> 37 | AC60: =[1]Gavar!AC60+[1]Sevan!AC60+[1]Martuni!AC60 -> 1 | AE60: =[1]Gavar!AE60+[1]Sevan!AE60+[1]Martuni!AE60 -> 1
A61: 4.2 | B61: ²ÉÇÙ»ÝïÇ å³Ñ³ÝçÇ í»ñ³µ»ñÛ³É | E61: =[1]Gavar!E61+[1]Sevan!E61+[1]Martuni!E61 -> 14 | F61: =[1]Gavar!F61+[1]Sevan!F61+[1]Martuni!F61 -> 1 | G61: =[1]Gavar!G61+[1]Sevan!G61+[1]Martuni!G61 -> 13 | J61: =[1]Gavar!J61+[1]Sevan!J61+[1]Martuni!J61 -> 11 | K61: =[1]Gavar!K61+[1]Sevan!K61+[1]Martuni!K61 -> 11 | N61: =[1]Gavar!N61+[1]Sevan!N61+[1]Martuni!N61 -> 11 | P61: =[1]Gavar!P61+[1]Sevan!P61+[1]Martuni!P61 -> 7 | S61: =[1]Gavar!S61+[1]Sevan!S61+[1]Martuni!S61 -> 4 | T61: =[1]Gavar!T61+[1]Sevan!T61+[1]Martuni!T61 -> 3 | U61: =[1]Gavar!U61+[1]Sevan!U61+[1]Martuni!U61 -> 1 | W61: =[1]Gavar!W61+[1]Sevan!W61+[1]Martuni!W61 -> 1 | X61: =[1]Gavar!X61+[1]Sevan!X61+[1]Martuni!X61 -> 12 | AA61: =[1]Gavar!AA61+[1]Sevan!AA61+[1]Martuni!AA61 -> 13 | AB61: =[1]Gavar!AB61+[1]Sevan!AB61+[1]Martuni!AB61 -> 1
A62: 4.3 | B62: ²ÉÇÙ»ÝïÇ ã³÷Á ÷á÷áË»Éáõ í»ñ³µ»ñÛ³É | E62: =[1]Gavar!E62+[1]Sevan!E62+[1]Martuni!E62 -> 4 | F62: =[1]Gavar!F62+[1]Sevan!F62+[1]Martuni!F62 -> 1 | G62: =[1]Gavar!G62+[1]Sevan!G62+[1]Martuni!G62 -> 3 | J62: =[1]Gavar!J62+[1]Sevan!J62+[1]Martuni!J62 -> 2 | L62: =[1]Gavar!L62+[1]Sevan!L62+[1]Martuni!L62 -> 2 | N62: =[1]Gavar!N62+[1]Sevan!N62+[1]Martuni!N62 -> 1 | O62: =[1]Gavar!O62+[1]Sevan!O62+[1]Martuni!O62 -> 1 | X62: =[1]Gavar!X62+[1]Sevan!X62+[1]Martuni!X62 -> 1 | AA62: =[1]Gavar!AA62+[1]Sevan!AA62+[1]Martuni!AA62 -> 3
A63: 4.4 | B63: ÌÝáÕ³Ï³Ý Çñ³íáõÝùÝ»ñÇó ½ñÏ»Éáõ í»ñ³µ»ñÛ³É
A64: 4.5 | B64: ÌÝáÕ³Ï³Ý Çñ³íáõÝùÝ»ñÁ í»ñ³Ï³Ý·Ý»Éáõ í»ñ³µ»ñÛ³É
A65: 4.6 | B65: ºñ»Ë³ÛÇ áñ¹»·ñÙ³Ý í»ñ³µ»ñÛ³É | E65: =[1]Gavar!E65+[1]Sevan!E65+[1]Martuni!E65 -> 2 | G65: =[1]Gavar!G65+[1]Sevan!G65+[1]Martuni!G65 -> 2 | N65: =[1]Gavar!N65+[1]Sevan!N65+[1]Martuni!N65 -> 1 | O65: =[1]Gavar!O65+[1]Sevan!O65+[1]Martuni!O65 -> 1 | X65: =[1]Gavar!X65+[1]Sevan!X65+[1]Martuni!X65 -> 1 | AA65: =[1]Gavar!AA65+[1]Sevan!AA65+[1]Martuni!AA65 -> 1
A66: 4.7 | B66: ºñ»Ë³ÛÇ áñ¹»·ñáõÙÁ í»ñ³óÝ»Éáõ í»ñ³µ»ñÛ³É | E66: =[1]Gavar!E66+[1]Sevan!E66+[1]Martuni!E66 -> 1 | G66: =[1]Gavar!G66+[1]Sevan!G66+[1]Martuni!G66 -> 1 | AA66: =[1]Gavar!AA66+[1]Sevan!AA66+[1]Martuni!AA66 -> 1
A67: 4.8 | B67: Ð³ÛñáõÃÛáõÝÁ ×³Ý³ã»Éáõ í»ñ³µ»ñÛ³É | E67: =[1]Gavar!E67+[1]Sevan!E67+[1]Martuni!E67 -> 6 | F67: =[1]Gavar!F67+[1]Sevan!F67+[1]Martuni!F67 -> 1 | G67: =[1]Gavar!G67+[1]Sevan!G67+[1]Martuni!G67 -> 5 | J67: =[1]Gavar!J67+[1]Sevan!J67+[1]Martuni!J67 -> 5 | K67: =[1]Gavar!K67+[1]Sevan!K67+[1]Martuni!K67 -> 4 | L67: =[1]Gavar!L67+[1]Sevan!L67+[1]Martuni!L67 -> 1 | N67: =[1]Gavar!N67+[1]Sevan!N67+[1]Martuni!N67 -> 3 | O67: =[1]Gavar!O67+[1]Sevan!O67+[1]Martuni!O67 -> 1 | P67: =[1]Gavar!P67+[1]Sevan!P67+[1]Martuni!P67 -> 1 | S67: =[1]Gavar!S67+[1]Sevan!S67+[1]Martuni!S67 -> 1 | U67: =[1]Gavar!U67+[1]Sevan!U67+[1]Martuni!U67 -> 1 | X67: =[1]Gavar!X67+[1]Sevan!X67+[1]Martuni!X67 -> 3 | AA67: =[1]Gavar!AA67+[1]Sevan!AA67+[1]Martuni!AA67 -> 7 | AB67: =[1]Gavar!AB67+[1]Sevan!AB67+[1]Martuni!AB67 -> 1
A68: 4.9 | B68: ºñ»Ë³ÛÇ µÝ³ÏáõÃÛ³Ý í³ÛñÁ áñáß»Éáõ í»ñ³µ»ñÛ³É | E68: =[1]Gavar!E68+[1]Sevan!E68+[1]Martuni!E68 -> 9 | F68: =[1]Gavar!F68+[1]Sevan!F68+[1]Martuni!F68 -> 1 | G68: =[1]Gavar!G68+[1]Sevan!G68+[1]Martuni!G68 -> 8 | J68: =[1]Gavar!J68+[1]Sevan!J68+[1]Martuni!J68 -> 6 | K68: =[1]Gavar!K68+[1]Sevan!K68+[1]Martuni!K68 -> 5 | L68: =[1]Gavar!L68+[1]Sevan!L68+[1]Martuni!L68 -> 1 | AA68: =[1]Gavar!AA68+[1]Sevan!AA68+[1]Martuni!AA68 -> 14 | AD68: =[1]Gavar!AD68+[1]Sevan!AD68+[1]Martuni!AD68 -> 3 | AE68: =[1]Gavar!AE68+[1]Sevan!AE68+[1]Martuni!AE68 -> 3 | AG68: =[1]Gavar!AG68+[1]Sevan!AG68+[1]Martuni!AG68 -> 1 | AH68: =[1]Gavar!AH68+[1]Sevan!AH68+[1]Martuni!AH68 -> 1
A69: 4.10 | B69: ºñ»Ë³ÛÇ Ñ»ï ï»ë³ÏóáõÃÛ³Ý Ï³ñ· ë³ÑÙ³Ý»Éáõ í»ñ³µ»ñÛ³É | E69: =[1]Gavar!E69+[1]Sevan!E69+[1]Martuni!E69 -> 10 | G69: =[1]Gavar!G69+[1]Sevan!G69+[1]Martuni!G69 -> 10 | J69: =[1]Gavar!J69+[1]Sevan!J69+[1]Martuni!J69 -> 5 | K69: =[1]Gavar!K69+[1]Sevan!K69+[1]Martuni!K69 -> 3 | L69: =[1]Gavar!L69+[1]Sevan!L69+[1]Martuni!L69 -> 2 | N69: =[1]Gavar!N69+[1]Sevan!N69+[1]Martuni!N69 -> 2 | P69: =[1]Gavar!P69+[1]Sevan!P69+[1]Martuni!P69 -> 2 | X69: =[1]Gavar!X69+[1]Sevan!X69+[1]Martuni!X69 -> 2 | AA69: =[1]Gavar!AA69+[1]Sevan!AA69+[1]Martuni!AA69 -> 11
A70: 4.11 | B70: ²ÙáõëÇÝÝ»ñÇ ÁÝ¹Ñ³Ýáõñ ·áõÛùÁ µ³Å³Ý»Éáõ í»ñ³µ»ñÛ³É | J70: =[1]Gavar!J70+[1]Sevan!J70+[1]Martuni!J70 -> 1 | K70: =[1]Gavar!K70+[1]Sevan!K70+[1]Martuni!K70 -> 1 | AA70: =[1]Gavar!AA70+[1]Sevan!AA70+[1]Martuni!AA70 -> 1
A71: 4.12 | B71: ²ÙáõëÝ³Ï³Ý å³ÛÙ³Ý³·ñÇ ÷á÷áËÙ³Ý Ï³Ù ÉáõÍÙ³Ý í»ñ³µ»ñÛ³É
A72: 4.13 | B72: ²ÛÉ í»×»ñ | E72: =[1]Gavar!E72+[1]Sevan!E72+[1]Martuni!E72 -> 1 | F72: =[1]Gavar!F72+[1]Sevan!F72+[1]Martuni!F72 -> 1 | J72: =[1]Gavar!J72+[1]Sevan!J72+[1]Martuni!J72 -> 1 | L72: =[1]Gavar!L72+[1]Sevan!L72+[1]Martuni!L72 -> 1 | AA72: =[1]Gavar!AA72+[1]Sevan!AA72+[1]Martuni!AA72 -> 1 | AB72: =[1]Gavar!AB72+[1]Sevan!AB72+[1]Martuni!AB72 -> 1
A73: 5. | B73: Øï³íáñ ë»÷³Ï³ÝáõÃÛ³Ý Ñ»ï Ï³åí³ÍÇñ³í³Ñ³ñ³µ»ñáõÃÛáõÝÝ»ñÇ í»ñ³µ»ñÛ³É ¹³ï³Ï³Ý ·áñÍ»ñ | E73: =SUM(E74:E79) -> 0 | F73: =SUM(F74:F79) -> 0 | G73: =SUM(G74:G79) -> 0 | H73: =SUM(H74:H79) -> 0 | I73: =SUM(I74:I79) -> 0 | J73: =SUM(J74:J79) -> 0 | K73: =SUM(K74:K79) -> 0 | L73: =SUM(L74:L79) -> 0 | ... AH73: =SUM(AH74:AH79) -> 0
A74: 5.1 | B74: ÈÇó»Ý½³ÛÇÝ å³ÛÙ³Ý³·ñÇ ÉáõÍÙ³Ý, ÷á÷áËÙ³Ý ¨ ³Ýí³í»ñáõÃÛ³Ý í»ñ³µ»ñÛ³É
A75: 5.2 | B75: Øï³íáñ ·áñÍáõÝ»áõÃÛ³Ý ³ñ¹ÛáõÝùÝ»ñ ëï»ÕÍ»Éáõ ¨ û·ï³·áñÍ»Éáõ å³ÛÙ³Ý³·ñÇ ÉáõÍÙ³Ý, ÷á÷áËÙ³Ý áõ ³Ýí³í»ñáõÃÛ³Ý í»ñ³µ»ñÛ³É
A76: 5.3 | B76: Ð»ÕÇÝ³Ï³ÛÇÝ ¨ Ñ³ñ³ÏÇó Çñ³íáõÝùÝ»ñÇ í»ñ³µ»ñÛ³É
A77: 5.4 | B77: üÇñÙ³ÛÇÝ ³Ýí³ÝÙ³Ý í»ñ³µ»ñÛ³É
A78: 5.5 | B78: ²åñ³Ýù³ÛÇÝ Ýß³ÝÇ í»ñ³µ»ñÛ³É
A79: 5.6 | B79: ²ÛÉ í»×»ñ
A80: 6. | B80: ²ßË³ï³Ýù³ÛÇÝ Çñ³í³Ñ³ñ³µ»ñáõÃÛáõÝÝ»ñÇ í»ñ³µ»ñÛ³É ¹³ï³Ï³Ý ·áñÍ»ñ | E80: =SUM(E81:E86) -> 18 | F80: =SUM(F81:F86) -> 1 | G80: =SUM(G81:G86) -> 17 | H80: =SUM(H81:H86) -> 0 | I80: =SUM(I81:I86) -> 0 | J80: =SUM(J81:J86) -> 3 | K80: =SUM(K81:K86) -> 3 | L80: =SUM(L81:L86) -> 0 | ... AH80: =SUM(AH81:AH86) -> 0
A81: 6.1 | B81: ²ßË³ï³Ýù³ÛÇÝ å³ÛÙ³Ý³·ñ»ñÇ í»ñ³µ»ñÛ³É
A82: 6.2 | B82: ²ßË³ï³ÝùáõÙ í»ñ³Ï³Ý·Ý»Éáõ í»ñ³µ»ñÛ³É | E82: =[1]Gavar!E82+[1]Sevan!E82+[1]Martuni!E82 -> 4 | F82: =[1]Gavar!F82+[1]Sevan!F82+[1]Martuni!F82 -> 0 | G82: =[1]Gavar!G82+[1]Sevan!G82+[1]Martuni!G82 -> 4 | H82: =[1]Gavar!H82+[1]Sevan!H82+[1]Martuni!H82 -> 0 | I82: =[1]Gavar!I82+[1]Sevan!I82+[1]Martuni!I82 -> 0 | J82: =[1]Gavar!J82+[1]Sevan!J82+[1]Martuni!J82 -> 1 | K82: =[1]Gavar!K82+[1]Sevan!K82+[1]Martuni!K82 -> 1 | L82: =[1]Gavar!L82+[1]Sevan!L82+[1]Martuni!L82 -> 0 | ... AH82: =[1]Gavar!AH82+[1]Sevan!AH82+[1]Martuni!AH82 -> 0
A83: 6.3 | B83: ¶áñÍ³¹áõÉÝ ³ÝûñÇÝ³Ï³Ý ×³Ý³ã»Éáõ í»ñ³µ»ñÛ³É
A84: 6.4 | B84: Ð³ñÏ³¹Çñ å³ñ³åáõñ¹Ç Ñ³ïáõóÙ³Ý í»ñ³µ»ñÛ³É
A85: 6.5 | B85: âí×³ñí³Í ³ßË³ï³í³ñÓÇ ¨/Ï³Ù ³ÛÉ í×³ñÝ»ñÇ µéÝ³·³ÝÓÙ³Ý í»ñ³µ»ñÛ³É | E85: =[1]Gavar!E85+[1]Sevan!E85+[1]Martuni!E85 -> 12 | F85: =[1]Gavar!F85+[1]Sevan!F85+[1]Martuni!F85 -> 1 | G85: =[1]Gavar!G85+[1]Sevan!G85+[1]Martuni!G85 -> 11 | J85: =[1]Gavar!J85+[1]Sevan!J85+[1]Martuni!J85 -> 1 | K85: =[1]Gavar!K85+[1]Sevan!K85+[1]Martuni!K85 -> 1 | N85: =[1]Gavar!N85+[1]Sevan!N85+[1]Martuni!N85 -> 1 | O85: =[1]Gavar!O85+[1]Sevan!O85+[1]Martuni!O85 -> 1 | X85: =[1]Gavar!X85+[1]Sevan!X85+[1]Martuni!X85 -> 1 | AA85: =[1]Gavar!AA85+[1]Sevan!AA85+[1]Martuni!AA85 -> 12 | AB85: =[1]Gavar!AB85+[1]Sevan!AB85+[1]Martuni!AB85 -> 1
A86: 6.6 | B86: ²ÛÉ í»×»ñ | E86: =[1]Gavar!E86+[1]Sevan!E86+[1]Martuni!E86 -> 2 | G86: =[1]Gavar!G86+[1]Sevan!G86+[1]Martuni!G86 -> 2 | J86: =[1]Gavar!J86+[1]Sevan!J86+[1]Martuni!J86 -> 1 | K86: =[1]Gavar!K86+[1]Sevan!K86+[1]Martuni!K86 -> 1 | N86: =[1]Gavar!N86+[1]Sevan!N86+[1]Martuni!N86 -> 1 | S86: =[1]Gavar!S86+[1]Sevan!S86+[1]Martuni!S86 -> 1 | U86: =[1]Gavar!U86+[1]Sevan!U86+[1]Martuni!U86 -> 1 | X86: =[1]Gavar!X86+[1]Sevan!X86+[1]Martuni!X86 -> 1 | AA86: =[1]Gavar!AA86+[1]Sevan!AA86+[1]Martuni!AA86 -> 2
A87: 7. | B87: Æñ³í³µ³Ý³Ï³Ý ³ÝÓÇ ·áñÍáõÝ»áõÃÛáõÝÇó µËáÕ Çñ³í³Ñ³ñ³µ»ñáõÃÛáõÝÝ»ñÇ í»ñ³µ»ñÛ³É ¹³ï³Ï³Ý ·áñÍ»ñ | E87: =SUM(E88:E89) -> 0 | F87: =SUM(F88:F89) -> 0 | G87: =SUM(G88:G89) -> 0 | H87: =SUM(H88:H89) -> 0 | I87: =SUM(I88:I89) -> 0 | J87: =SUM(J88:J89) -> 0 | K87: =SUM(K88:K89) -> 0 | L87: =SUM(L88:L89) -> 0 | ... AH87: =SUM(AH88:AH89) -> 0
A88: 7.1 | B88: Îáñåáñ³ïÇí í»×»ñ
A89: 7.2 | B89: ²ÛÉ í»×»ñ
A90: 8. | B90: Ð³ïáõÏ í³ñáõÛÃÇ ¹³ï³Ï³Ý ·áñÍ»ñ | E90: =SUM(E91:E111) -> 24 | F90: =SUM(F91:F111) -> 2 | G90: =SUM(G91:G111) -> 22 | H90: =SUM(H91:H111) -> 0 | I90: =SUM(I91:I111) -> 0 | J90: =SUM(J91:J111) -> 52 | K90: =SUM(K91:K111) -> 25 | L90: =SUM(L91:L111) -> 24 | ... AH90: =SUM(AH91:AH111) -> 0
A91: 8.1 | B91: ²Ýã³÷³Ñ³ëÇÝ ÉñÇí ·áñÍáõÝ³Ï ×³Ý³ã»Éáõ /¿Ù³ÝëÇå³óÇ³/ í»ñ³µ»ñÛ³É
A92: 8.2 | B92: ø³Õ³ù³óáõÝ ³Ý·áñÍáõÝ³Ï Ï³Ù ë³ÑÙ³Ý³÷³Ï ·áñÍáõÝ³Ï ×³Ý³ã»Éáõ í»ñ³µ»ñÛ³É | E92: 2 | F92: 2 | J92: 8 | K92: 3 | L92: 5 | N92: 1 | O92: 1 | X92: 1 | AA92: 4 | AB92: 1 | AD92: 1 | AE92: 1
A93: 8.3 | B93: ø³Õ³ù³óáõÝ Ñá·»µáõÅ³Ï³Ý ÑÇí³Ý¹³Ýáó³ÛÇÝ Ñ³ñÏ³¹Çñ µáõÅÙ³Ý »ÝÃ³ñÏ»Éáõ í»ñ³µ»ñÛ³É
A94: 8.4 | B94: ø³Õ³ù³óáõÝ ³ÝÑ³Ûï µ³ó³Ï³ÛáÕ Ï³Ù Ù³Ñ³ó³Í ×³Ý³ã»Éáõ í»ñ³µ»ñÛ³É | J94: 2 | L94: 2
A95: 8.5 | B95: ø³Õ³ù³óÇ³Ï³Ý Ï³óáõÃÛ³Ý ³Ïï»ñÇ ·ñ³éáõÙÝ»ñÇ ³Ý×ßïáõÃÛáõÝÝ»ñÁ å³ñ½»Éáõ í»ñ³µ»ñÛ³É
A96: 8.6 | B96: ¶áõÛùÁ ïÇñ³½áõñÏ ×³Ý³ã»Éáõ í»ñ³µ»ñÛ³É
A97: 8.6.1 | B97: ²Û¹ ÃíáõÙª ³Ýß³ñÅ ·áõÛùÁ
A98: 8.6.2 | B98: ²Û¹ ÃíáõÙª ß³ñÅ³Ï³Ý ·áõÛùÁ
A99: 8.7 | B99: Æñ³í³µ³Ý³Ï³Ý Ýß³Ý³ÏáõÃÛáõÝ áõÝ»óáÕ ÷³ëï»ñÇ Ñ³ëï³ïÙ³Ý í»ñ³µ»ñÛ³É | E99: 2 | G99: 2 | J99: 3 | K99: 1 | L99: 1 | M99: 1 | N99: 1 | S99: 1 | V99: 1 | X99: 1 | AA99: 2
A100: 8.7.1 | B100: ²ÝÓ³Ýó ³½·³Ïó³Ï³Ý Ï³åÁ Ñ³ëï³ï»Éáõ í»ñ³µ»ñÛ³É | E100: 6 | G100: 6 | J100: 4 | K100: 3 | L100: 1 | N100: 5 | O100: 4 | Q100: 1 | X100: 5 | AA100: 4 | AC100: 1 | AD100: 1 | AE100: 2
A101: 8.7.2 | B101: ²ÝÓÇª áõñÇßÇ ËÝ³ÙùÇ ï³Ï ·ïÝí»Éáõ í»ñ³µ»ñÛ³É | J101: 1 | L101: 1
A102: 8.7.3 | B102: ÌÝÝ¹Û³Ý, áñ¹»·ñÙ³Ý, ³ÙáõëÝáõÃÛ³Ý, ³å³Ñ³ñ½³ÝÇ ¨ Ù³Ñí³Ý ·ñ³ÝóÙ³Ý í»ñ³µ»ñÛ³É | E102: 6 | G102: 6 | J102: 7 | K102: 3 | L102: 3 | M102: 1 | N102: 5 | O102: 3 | Q102: 1 | S102: 1 | V102: 1 | X102: 5 | AA102: 4 | AC102: 1 | AE102: 1
A103: 8.7.4 | B103: ²ÝÓÇª áñáß³ÏÇ Å³Ù³Ý³ÏáõÙ ¨ áñáß³ÏÇ Ñ³Ý·³Ù³ÝùÝ»ñáõÙ Ù³Ñí³Ý í»ñ³µ»ñÛ³É | J103: 1 | K103: 1 | AA103: 1
A104: 8.7.5 | B104: Ä³é³Ý·áõÃÛáõÝÝ ÁÝ¹áõÝ»Éáõ ¨ Å³é³Ý·áõÃÛ³Ý µ³óÙ³Ý í³ÛñÇ í»ñ³µ»ñÛ³É | J104: 8 | K104: 2 | L104: 5 | M104: 1 | AA104: 2
A105: 8.7.6 | B105: ¸Åµ³Ëï å³ï³Ñ³ñÇ í»ñ³µ»ñÛ³É
A106: 8.7.7 | B106: Æñ³íáõÝù ë³ÑÙ³ÝáÕ ÷³ëï³ÃÕÃ»ñÇ å³ïÏ³Ý»ÉáõÃÛ³Ý í»ñ³µ»ñÛ³É | E106: 6 | G106: 6 | J106: 16 | K106: 10 | L106: 6 | N106: 7 | O106: 6 | P106: 1 | X106: 7 | AA106: 9
A107: 8.7.8 | B107: ê»÷³Ï³ÝáõÃÛ³Ý Çñ³íáõÝùáí ·áõÛùÇ ïÇñ³å»ïÙ³Ý í»ñ³µ»ñÛ³É
A108: 8.7.9 | B108: ²ÝÑ³ÕÃ³Ñ³ñ»ÉÇ áõÅÇ ³éÏ³ÛáõÃÛ³Ý í»ñ³µ»ñÛ³É
A109: 8.7.10 | B109: úñ»Ýùáí Ý³Ë³ï»ëí³Í ³ÛÉ Çñ³í³µ³Ý³Ï³Ý ÷³ëï»ñÇ í»ñ³µ»ñÛ³É | E109: 2 | F109: 0 | G109: 2 | J109: 2 | K109: 2 | N109: 2 | O109: 1 | Q109: 1 | X109: 2 | AA109: 2
A110: 8.8 | B110: Àëï Ý»ñÏ³Û³óÝáÕÇ ¨ ûñ¹»ñ³ÛÇÝ Ïáñóñ³Í ³ñÅ»ÃÕÃ»ñáí Ñ³í³ëïí³Í Çñ³íáõÝùÝ»ñÁ í»ñ³Ï³Ý·Ý»Éáõ í»ñ³µ»ñÛ³É
A111: 8.10 | B111: ²ÛÉ í»×»ñ
...

Sheet Կոտայք
A1: 2019թ. 1-ին կիսամյակ | E1: Ð²ÞìºîìàôÂÚàôÜ
A2: ÐÐ Îàî²ÚøÆ Ø²ð¼Æ ²è²æÆÜ ²îÚ²ÜÆ ÀÜ¸Ð²Üàôð Æð²ì²êàôÂÚ²Ü ¸²î²ð²ÜàôØ ø²Ô²ø²òÆ²Î²Ü ¶àðÌºðÆ øÜÜàôÂÚ²Ü ìºð²´ºðÚ²È
A3: ÐÐ Îáï³ÛùÇ Ù³ñ½Ç ³é³çÇÝ ³ïÛ³ÝÇ ÁÝ¹Ñ³Ýáõñ Çñ³í³ëáõÃÛ³Ý ¹³ï³ñ³ÝáõÙ ù³Õ³ù³óÇ³Ï³Ý Ù³ëÝ³·Çï³óáõÙ áõÝ»óáÕ ¹³ï³íáñÝ»ñÇ Ñ³ëïÇùÝ»ñÇ ù³Ý³ÏÁ` 6
A4: êïáõ·Çã Ñ³í³ë³ñáõÙÝ»ñª 1=2+3+4+5, 6=7+8+9, 2+3+7=20+21+23, 10=11+12+13+14+15, 15=16+17+18, 20=10+19, 27=25+26, 30=28+29 | E4: Ð³ßí»ïáõ Å³Ù³Ý³Ï³Ñ³ïí³ÍáõÙ Ý³Ëáñ¹ Ñ³ßí»ïáõ Å³Ù³Ý³Ï³Ñ³ïí³ÍÇó ÷áË³Ýóí³Í ·áñÍ»ñÇ ÁÝ¹Ñ³Ýáõñ ÃÇíÁ | J4: Ð³ßí»ïáõ Å³Ù³Ý³Ï³Ñ³ïí³ÍáõÙëï³óí³Í ·áñÍ»ñÇ (³Û¹ ÃíáõÙ` Ñ³Ûó³¹ÇÙáõÙÝ»ñÇ, ¹ÇÙáõÙÝ»ñÇ) ÁÝ¹Ñ³Ýáõñ ÃÇíÁ | N4: Ð³ßí»ïáõ Å³Ù³Ý³Ï³Ñ³ïí³ÍáõÙ ³í³ñïí³Í ·áñÍ»ñÇ ÁÝ¹Ñ³Ýáõñ ÃÇíÁ | Y4: ¶áñÍÝ áõÕ³ñÏí»É ¿ Áëï ÁÝ¹¹³ïáõÃÛ³Ý | Z4: Ð³ßí»ïáõ Å³Ù³Ý³Ï³Ñ³ïí³ÍáõÙ Ï³ë»óí³Í í³ñáõÛÃÝ»ñáí ·áñÍ»ñÇ ÁÝ¹Ñ³Ýáõñ ÃÇíÁ | AA4: Ð³ßí»ïáõ Å³Ù³Ý³Ï³Ñ³ïí³ÍáõÙ ³Ý³í³ñï ·áñÍ»ñÇ ÁÝ¹Ñ³Ýáõñ ÃÇíÁ | AB4: ²Û¹ ÃíáõÙª Ï³ë»óí³Í | AC4: ´áÕáù³ñÏí³Í ¹³ï³Ï³Ý ³Ïï»ñÇ ÃÇíÁ` Áëï ï»ë³ÏÝ»ñÇ | AF4: ´»Ï³Ýí³Í ¹³ï³Ï³Ý ³Ïï»ñÇ ÃÇíÁ` Áëï ï»ë³ÏÝ»ñÇ
E7: ÀÝ¹³Ù»ÝÁ | F7: ²Û¹ ÃíáõÙ`Ï³ë»óí³Í íÇ×³ÏáõÙ ÷áË³Ýóí³Í | G7: ²Û¹ ÃíáõÙª ÁÝ¹áõÝí»É ¿ í³ñáõÛÃ | H7: ²Û¹ ÃíáõÙª í»ñ³¹³ñÓí»É ¿ | I7: ²Û¹ ÃíáõÙª ÁÝ¹áõÝáõÙÁ Ù»ñÅí»É ¿ | J7: ÀÝ¹³Ù»ÝÁ | K7: ²Û¹ ÃíáõÙª ÁÝ¹áõÝí»É ¿ í³ñáõÛÃ | L7: ²Û¹ ÃíáõÙª í»ñ³¹³ñÓí»É ¿ | M7: ²Û¹ ÃíáõÙª ÁÝ¹áõÝáõÙÁ Ù»ñÅí»É ¿ | N7: ÀÝ¹³Ù»ÝÁ ³í³ñïí»É »Ý ·áñÍ»ñ ·áñÍÝ Áëï ¿áõÃÛ³Ý ÉáõÍáÕ ¹³ï³Ï³Ý ³Ïï»ñÇ (í×ÇéÝ»ñÇ) Ï³Û³óÙ³Ùµ | O7: ²Û¹ ÃíáõÙª Ñ³ÛóÇ µ³í³ñ³ñÙ³Ùµ | P7: ²Û¹ ÃíáõÙª Ñ³ÛóÇ Ù³ëÝ³ÏÇ µ³í³ñ³ñÙ³Ùµ | Q7: ²Û¹ ÃíáõÙª Ñ³ÛóÇ Ù»ñÅÙ³Ùµ | R7: Ø³ëáí Ï³ñ×í»É ¿, Ù³ëáí Ù»ñÅí»É | S7: ²Û¹ ÃíáõÙª Ï³ñ×í»É »Ý | W7: Ð³ÛóÁ ÃáÕÝí»É ¿ ³é³Ýó ùÝÝáõÃÛ³Ý | X7: ÀÝ¹³Ù»ÝÝ ³í³ñïí»É »Ý ·áñÍ»ñ | AC7: ²Û¹ ÃíáõÙ` ·áñÍÝ Áëï ¿áõÃÛ³Ý ÉáõÍáÕ ¹³ï³Ï³Ý ³Ïï»ñ | AD7: ²Û¹ ÃíáõÙ` ÙÇç³ÝÏÛ³É ¹³ï³Ï³Ý ³Ïï»ñ | AE7: ÀÝ¹³Ù»ÝÁ | AF7: ²Û¹ ÃíáõÙ` ·áñÍÝ Áëï ¿áõÃÛ³Ý ÉáõÍáÕ ¹³ï³Ï³Ý ³Ïï»ñ | AG7: ²Û¹ ÃíáõÙ` ÙÇç³ÝÏÛ³É ¹³ï³Ï³Ý ³Ïï»ñ | AH7: ÀÝ¹³Ù»ÝÁ
S10: ÀÝ¹³Ù»ÝÁ Ï³ñ×í»É »Ý | T10: ²Û¹ ÃíáõÙª Ñ³ëï³ïí»É ¿ ÏÝùí³Í Ñ³ßïáõÃÛ³Ý Ñ³Ù³Ó³ÛÝáõÃÛáõÝÁ | U10: ²Û¹ ÃíáõÙª Ñ³óÇó, ¹ÇÙáõÙÇó Ññ³Å³ñí»Éáõ ÑÇÙùáí | V10: ²Û¹ ÃíáõÙª ³ÛÉ ÑÇÙùáí
A18: ø³Õ³ù³óÇ³Ï³Ý ·áñÍ»ñÇ ¹³ë³Ï³ñ·áõÙÁ | E18: 1 | F18: 2 | G18: 3 | H18: 4 | I18: 5 | J18: 6 | K18: 7 | L18: 8 | M18: 9 | N18: 10 | O18: 11 | P18: 12 | Q18: 13 | R18: 14 | S18: 15 | T18: 16 | U18: 17 | V18: 18 | W18: 19 | X18: 20 | Y18: 21 | Z18: 22 | AA18: 23 | AB18: 24 | AC18: 25 | AD18: 26 | AE18: 27 | AF18: 28 | AG18: 29 | AH18: 30
A19: 1. | B19: ¶áõÛù³ÛÇÝ Çñ³í³Ñ³ñ³µ»ñáõÃÛáõÝÝ»ñÇ í»ñ³µ»ñÛ³É ¹³ï³Ï³Ý ·áñÍ»ñ | E19: =SUM(E20:E38) -> 418 | F19: =SUM(F20:F38) -> 171 | G19: =SUM(G20:G38) -> 243 | H19: =SUM(H20:H38) -> 4 | I19: =SUM(I20:I38) -> 0 | J19: =SUM(J20:J38) -> 172 | K19: =SUM(K20:K38) -> 126 | L19: =SUM(L20:L38) -> 38 | ... AH19: =SUM(AH20:AH38) -> 1
A20: 1.1 | B20: ¶áõÛùÇ ÝÏ³ïÙ³Ùµ ë»÷³Ï³ÝáõÃÛ³Ý Çñ³íáõÝùÁ ×³Ý³ã»Éáõ í»ñ³µ»ñÛ³É | E20: 29 | F20: 9 | G20: 20 | J20: 8 | K20: 6 | L20: 1 | M20: 1 | N20: 5 | O20: 2 | Q20: 2 | S20: 1 | U20: 1 | X20: 5 | AA20: 30 | AB20: 7 | AC20: 1 | AD20: 1 | AE20: 2
A21: 1.1.1 | B21: ²Û¹ ÃíáõÙª Ó»éùµ»ñÙ³Ý í³Õ»ÙáõÃÛ³Ý áõÅáí | E21: 17 | F21: 1 | G21: 16 | J21: 31 | K21: 23 | L21: 7 | N21: 11 | O21: 9 | Q21: 1 | S21: 1 | U21: 1 | X21: 11 | Z21: 2 | AA21: 29 | AB21: 3
A22: 1.1.2 | B22: ²Û¹ ÃíáõÙª ïÇñ³½áõñÏ ·áõÛùÇ ÝÏ³ïÙ³Ùµ | E22: 1 | G22: 1 | N22: 1 | O22: 1 | X22: 1
A23: 1.1.3 | B23: ²Û¹ ÃíáõÙª ÇÝùÝ³Ï³Ù Ï³éáõÛóÇ ÝÏ³ïÙ³Ùµ
A24: 1.2 | B24: ê»÷³Ï³ÝáõÃÛ³Ý Çñ³íáõÝùÇ ¹³¹³ñ»óÙ³Ý í»ñ³µ»ñÛ³É | E24: 2 | F24: 1 | G24: 1 | J24: 1 | K24: 1 | AA24: 3
A25: 1.3 | B25: ¶áõÛùÇ ÝÏ³ïÙ³Ùµ û·ï³·áñÍÙ³Ý Çñ³íáõÝùÁ ×³Ý³ã»Éáõ í»ñ³µ»ñÛ³É | E25: 1 | F25: 1 | AA25: 1 | AB25: 1
A26: 1.3.1 | B26: ²Û¹ ÃíáõÙª µÝ³Ïû·ï³·áñÍÙ³Ý Çñ³íáõÝùÁ ×³Ý³ã»Éáõ í»ñ³µ»ñÛ³É
A27: 1.3.2 | B27: ²Û¹ ÃíáõÙª ÑáÕ³Ù³ëÇ ÝÏ³ïÙ³Ùµ û·ï³·áñÍÙ³Ý Çñ³íáõÝùÁ ×³Ý³ã»Éáõ í»ñ³µ»ñÛ³É
A28: 1.4 | B28: ¶áõÛùÇ ÝÏ³ïÙ³Ùµ û·ï³·áñÍÙ³Ý Çñ³íáõÝùÁ ¹³¹³ñ»óÝ»Éáõ í»ñ³µ»ñÛ³É | J28: 1 | K28: 1 | AA28: 1 | AD28: 1 | AE28: 1 | AG28: 1 | AH28: 1
A29: 1.4.1 | B29: ²Û¹ ÃíáõÙª µÝ³Ïû·ï³·áñÍÙ³Ý Çñ³íáõÝùÁ ¹³¹³ñ»óÝ»Éáõ í»ñ³µ»ñÛ³É
A30: 1.4.1/1 | B30: ²Û¹ ÃíáõÙª ÷áËÑ³ïáõóÙ³Ùµ
A31: 1.5 | B31: ´Ý³Ï³ñ³ÝÇó/ ï³ñ³ÍùÇó/ íï³ñ»Éáõ í»ñ³µ»ñÛ³É | E31: 17 | F31: 8 | G31: 9 | J31: 11 | K31: 10 | L31: 1 | N31: 3 | O31: 3 | X31: 3 | AA31: 24 | AB31: 7 | AC31: 1 | AE31: 1
A32: 1.6 | B32: ¶áõÛùÝ áõñÇßÇ ³åûñÇÝÇ ïÇñ³å»ïáõÙÇó »ï í»ñ³¹³ñÓÝ»Éáõ í»ñ³µ»ñÛ³É | E32: 22 | F32: 10 | G32: 12 | J32: 2 | K32: 2 | N32: 2 | O32: 1 | P32: 1 | X32: 2 | AA32: 22 | AB32: 9 | AC32: 1 | AE32: 1
A33: 1.6.1 | B33: ´³ñ»ËÇÕ× Ó»éùµ»ñáÕÇó Çñ ·áõÛùÁ Ñ»ï å³Ñ³Ýç»Éáõ í»ñ³µ»ñÛ³É | E33: 1 | G33: 1 | N33: 1 | Q33: 1 | X33: 1 | AC33: 1 | AE33: 1
A34: 1.7 | B34: îÇñ³å»ïáõÙÇó ½ñÏ»Éáõ Ñ»ï ãÏ³åí³Í Çñ³íáõÝùÝ»ñÇ Ë³ËïáõÙÁ í»ñ³óÝ»Éáõ í»ñ³µ»ñÛ³É | E34: 4 | F34: 2 | G34: 2 | J34: 2 | K34: 2 | N34: 1 | S34: 1 | U34: 1 | X34: 1 | AA34: 5 | AB34: 1
A35: 1.8 | B35: ÀÝ¹Ñ³Ýáõñ µ³ÅÝ³ÛÇÝ ë»÷³Ï³ÝáõÃÛáõÝÇó µ³ÅÇÝÝ ³é³ÝÓÝ³óÝ»Éáõ í»ñ³µ»ñÛ³É | E35: 213 | F35: 97 | G35: 113 | H35: 3 | J35: 77 | K35: 55 | L35: 19 | N35: 50 | O35: 25 | P35: 3 | Q35: 7 | S35: 15 | T35: 1 | U35: 13 | V35: 1 | X35: 50 | Z35: 19 | AA35: 215 | AB35: 79 | AD35: 1 | AE35: 1
A36: 1.8.1 | B36: Ð³Ù³ï»Õ ë»÷³Ï³ÝáõÃÛ³Ý Ý»ñùá ·ïÝíáÕ ·áõÛùÁ µ³Å³Ý»Éáõ ¨ ¹ñ³ÝÇó µ³ÅÇÝÝ ³é³ÝÓÝ³óÝ»Éáõ í»ñ³µ»ñÛ³É | E36: 64 | F36: 27 | G36: 37 | J36: 20 | K36: 13 | L36: 6 | N36: 9 | O36: 6 | P36: 1 | S36: 2 | U36: 2 | X36: 9 | Z36: 5 | AA36: 68 | AB36: 22 | AC36: 1 | AE36: 1
A37: 1.8.3 | B37: ¶áõÛùÇ íñ³ µéÝ³·³ÝÓáõÙ ï³ñ³Í»Éáõ å³Ñ³ÝçÇ Ù³ëÇÝ | E37: 4 | F37: 2 | G37: 2 | J37: 1 | K37: 1 | AA37: 5 | AB37: 1
A38: 1.9 | B38: ²ÛÉ í»×»ñ | E38: 43 | F38: 13 | G38: 29 | H38: 1 | J38: 18 | K38: 12 | L38: 4 | N38: 7 | O38: 3 | P38: 2 | Q38: 2 | W38: 1 | X38: 8 | Z38: 1 | AA38: 46 | AB38: 14 | AC38: 3 | AE38: 3
A39: 2. | B39: ¶áñÍ³ñùÝ»ñÇ Ñ»ï Ï³åí³Í Çñ³í³Ñ³ñ³µ»ñáõÃÛáõÝÝ»ñÇ í»ñ³µ»ñÛ³É ¹³ï³Ï³Ý ·áñÍ»ñ | E39: =SUM(E40:E50) -> 77 | F39: =SUM(F40:F50) -> 20 | G39: =SUM(G40:G50) -> 56 | H39: =SUM(H40:H50) -> 1 | I39: =SUM(I40:I50) -> 0 | J39: =SUM(J40:J50) -> 74 | K39: =SUM(K40:K50) -> 56 | L39: =SUM(L40:L50) -> 15 | ... AH39: =SUM(AH40:AH50) -> 2
A40: 2.1 | B40: ·áñÍ³ñùÝ»ñÇ ³Ýí³í»ñáõÃÛ³Ý Ñ»ï Ï³åí³Í í»×»ñ | E40: 6 | F40: 3 | G40: 3 | J40: 4 | K40: 4 | N40: 1 | S40: 1 | V40: 1 | X40: 1 | AA40: 8 | AB40: 3
A41: 2.1.1 | B41: ³Û¹ ÃíáõÙ` íÇ×³Ñ³ñáõÛó ·áñÍ³ñùÝ»ñÝ ³Ýí³í»ñ ×³Ý³ã»Éáõ í»ñ³µ»ñÛ³É
A42: 2.1.2 | B42: ³Û¹ ÃíáõÙ` ·áñÍ³ñùÇ ³éáãÝãáõÃÛ³Ý Ñ»ï¨³ÝùÝ»ñ ÏÇñ³é»Éáõ í»ñ³µ»ñÛ³É | E42: 12 | F42: 2 | G42: 10 | J42: 3 | K42: 2 | W42: 7 | X42: 7 | Y42: 1 | AA42: 6 | AB42: 2 | AC42: 1 | AD42: 6 | AE42: 7 | AG42: 1 | AH42: 1
A43: 2.2 | B43: ¶áñÍ³ñùÁ í³í»ñ ×³Ý³ã»Éáõ í»ñ³µ»ñÛ³É | E43: 3 | F43: 1 | G43: 2 | J43: 9 | K43: 5 | L43: 3 | N43: 3 | O43: 2 | S43: 1 | U43: 1 | X43: 3 | AA43: 5 | AB43: 1
A44: 2.3 | B44: ¶áñÍ³ñùÇó Í³·áÕ Çñ³íáõÝùÝ»ñÁ ·ñ³Ýó»Éáõ í»ñ³µ»ñÛ³É
A45: 2.4 | B45: ä³ÛÙ³Ý³·ÇñÝ ³Ýí³í»ñ ×³Ý³ã»Éáõ í»ñ³µ»ñÛ³É | E45: 17 | F45: 3 | G45: 14 | J45: 13 | K45: 11 | L45: 1 | N45: 3 | Q45: 2 | S45: 1 | U45: 1 | X45: 3 | Y45: 1 | Z45: 1 | AA45: 18 | AB45: 4 | AD45: 1 | AE45: 1 | AG45: 1 | AH45: 1
A46: 2.5 | B46: ä³ÛÙ³Ý³·ñÇÁ í³í»ñ ×³Ý³ã»Éáõ í»ñ³µ»ñÛ³É | E46: 4 | G46: 3 | H46: 1 | J46: 2 | K46: 2 | N46: 2 | O46: 2 | X46: 2 | AA46: 2
A47: 2.6 | B47: ä³ÛÙ³Ý³·ñÇó Í³·áÕ Çñ³íáõÝùÝ»ñÁ ·ñ³Ýó»Éáõ í»ñ³µ»ñÛ³É
A48: 2.7 | B48: ä³ÛÙ³Ý³·ÇñÁ ÷á÷áË»Éáõ ¨ ÉáõÍ»Éáõ í»ñ³µ»ñÛ³É | E48: 2 | F48: 1 | G48: 1 | J48: 3 | K48: 1 | L48: 2 | N48: 1 | O48: 1 | X48: 1 | AA48: 2 | AB48: 1
A49: 2.8 | B49: ä³ÛÙ³Ý³·Çñ ÏÝù»ÉáõÝ å³ñï³íáñ»óÝ»Éáõ í»ñ³µ»ñÛ³É | E49: 2 | F49: 1 | G49: 1 | N49: 1 | O49: 1 | X49: 1 | AA49: 1 | AB49: 1
A50: 2.9 | B50: ²ÛÉ í»×»ñ | E50: 31 | F50: 9 | G50: 22 | J50: 40 | K50: 31 | L50: 9 | N50: 11 | O50: 10 | S50: 1 | U50: 1 | X50: 11 | Y50: 2 | Z50: 2 | AA50: 49 | AB50: 11 | AC50: 1 | AE50: 1
A51: 3. | B51: Ä³é³Ý·áõÃÛ³Ý Ñ»ï Ï³åí³Í Çñ³í³Ñ³ñ³µ»ñáõÃÛáõÝÝ»ñÇ í»ñ³µ»ñÛ³É ¹³ï³Ï³Ý ·áñÍ»ñ | E51: =SUM(E52:E58) -> 32 | F51: =SUM(F52:F58) -> 10 | G51: =SUM(G52:G58) -> 22 | H51: =SUM(H52:H58) -> 0 | I51: =SUM(I52:I58) -> 0 | J51: =SUM(J52:J58) -> 23 | K51: =SUM(K52:K58) -> 13 | L51: =SUM(L52:L58) -> 6 | ... AH51: =SUM(AH52:AH58) -> 0
A52: 3.1 | B52: Îï³ÏÝ ³Ýí³í»ñ ×³Ý³ã»Éáõ í»ñ³µ»ñÛ³É | E52: 2 | F52: 1 | G52: 1 | J52: 1 | K52: 1 | W52: 1 | X52: 1 | AA52: 2 | AB52: 1 | AC52: 1 | AE52: 1
A53: 3.2 | B53: ²Ý³ñÅ³Ý Å³é³Ý· ×³Ý³ã»Éáõ í»ñ³µ»ñÛ³É
A54: 3.3 | B54: Ä³é³Ý·áõÃÛáõÝÁ µ³Å³Ý»Éáõ í»ñ³µ»ñÛ³É
A55: 3.4 | B55: ¶áõÛùÝ ³ÝÅ³é³Ý· ×³Ý³ã»Éáõ í»ñ³µ»ñÛ³É
A56: 3.5 | B56: Àëï ûñ»ÝùÇ Å³é³Ý·áõÃÛ³Ý Çñ³íáõÝùÇ íÏ³Û³·ÇñÝ ³Ýí³í»ñ ×³Ý³ã»Éáõ í»ñ³µ»ñÛ³É | E56: 1 | F56: 1 | J56: 2 | K56: 1 | L56: 1 | AA56: 2 | AB56: 1
A57: 3.6 | B57: Ä³é³Ý·áõÃÛáõÝÝ ÁÝ¹áõÝ»Éáõ µ³ó ÃáÕÝí³Í Å³ÙÏ»ïÁ Ñ³ñ·»ÉÇ Ñ³Ù³ñ»Éáõ í»ñ³µ»ñÛ³É | J57: 5 | K57: 2 | L57: 2 | M57: 1 | AA57: 2
A58: 3.7 | B58: ²ÛÉ í»×»ñ | E58: 29 | F58: 8 | G58: 21 | J58: 15 | K58: 9 | L58: 3 | M58: 1 | N58: 9 | O58: 3 | P58: 1 | Q58: 1 | S58: 4 | T58: 4 | X58: 9 | AA58: 29 | AB58: 7 | AC58: 1 | AE58: 1
A59: 4 | B59: ÀÝï³Ý»Ï³Ý Çñ³í³Ñ³ñ³µ»ñáõÃÛáõÝÝ»ñÇ í»ñ³µ»ñÛ³É ¹³ï³Ï³Ý ·áñÍ»ñ | E59: =SUM(E60:E72) -> 152 | F59: =SUM(F60:F72) -> 10 | G59: =SUM(G60:G72) -> 142 | H59: =SUM(H60:H72) -> 0 | I59: =SUM(I60:I72) -> 0 | J59: =SUM(J60:J72) -> 164 | K59: =SUM(K60:K72) -> 117 | L59: =SUM(L60:L72) -> 37 | ... AH59: =SUM(AH60:AH72) -> 0
A60: 4.1 | B60: ²ÙáõëÝ³ÉáõÍáõÃÛ³Ý í»ñ³µ»ñÛ³É | E60: 78 | F60: 3 | G60: 75 | J60: 81 | K60: 59 | L60: 16 | M60: 2 | N60: 57 | O60: 31 | P60: 18 | S60: 8 | T60: 2 | U60: 6 | X60: 57 | AA60: 80 | AB60: 2 | AC60: 3 | AD60: 3 | AE60: 6
A61: 4.2 | B61: ²ÉÇÙ»ÝïÇ å³Ñ³ÝçÇ í»ñ³µ»ñÛ³É | E61: 35 | F61: 3 | G61: 32 | J61: 39 | K61: 32 | L61: 4 | N61: 17 | O61: 4 | P61: 12 | S61: 1 | U61: 1 | W61: 1 | X61: 18 | Z61: 1 | AA61: 49 | AB61: 4 | AC61: 5 | AE61: 5
A62: 4.3 | B62: ²ÉÇÙ»ÝïÇ ã³÷Á ÷á÷áË»Éáõ í»ñ³µ»ñÛ³É | E62: 4 | G62: 4 | J62: 7 | K62: 4 | L62: 3 | N62: 3 | O62: 1 | P62: 1 | Q62: 1 | X62: 3 | AA62: 5 | AC62: 1 | AE62: 1
A63: 4.4 | B63: ÌÝáÕ³Ï³Ý Çñ³íáõÝùÝ»ñÇó ½ñÏ»Éáõ í»ñ³µ»ñÛ³É | E63: 1 | G63: 1 | J63: 3 | K63: 1 | L63: 2 | N63: 1 | S63: 1 | U63: 1 | X63: 1 | AA63: 1 | AD63: 2 | AE63: 2
A64: 4.5 | B64: ÌÝáÕ³Ï³Ý Çñ³íáõÝùÝ»ñÁ í»ñ³Ï³Ý·Ý»Éáõ í»ñ³µ»ñÛ³É
A65: 4.6 | B65: ºñ»Ë³ÛÇ áñ¹»·ñÙ³Ý í»ñ³µ»ñÛ³É | J65: 1 | K65: 1 | AA65: 1
A66: 4.7 | B66: ºñ»Ë³ÛÇ áñ¹»·ñáõÙÁ í»ñ³óÝ»Éáõ í»ñ³µ»ñÛ³É
A67: 4.8 | B67: Ð³ÛñáõÃÛáõÝÁ ×³Ý³ã»Éáõ í»ñ³µ»ñÛ³É | E67: 7 | F67: 3 | G67: 4 | J67: 5 | K67: 3 | L67: 2 | N67: 3 | O67: 2 | P67: 1 | X67: 3 | AA67: 7 | AB67: 2
A68: 4.9 | B68: ºñ»Ë³ÛÇ µÝ³ÏáõÃÛ³Ý í³ÛñÁ áñáß»Éáõ í»ñ³µ»ñÛ³É | E68: 12 | G68: 12 | J68: 5 | K68: 5 | N68: 5 | O68: 1 | P68: 2 | Q68: 1 | S68: 1 | T68: 1 | X68: 5 | Y68: 1 | AA68: 11 | AC68: 1 | AE68: 1
A69: 4.10 | B69: ºñ»Ë³ÛÇ Ñ»ï ï»ë³ÏóáõÃÛ³Ý Ï³ñ· ë³ÑÙ³Ý»Éáõ í»ñ³µ»ñÛ³É | E69: 10 | G69: 10 | J69: 10 | K69: 7 | L69: 3 | N69: 4 | O69: 1 | P69: 3 | X69: 4 | AA69: 13
A70: 4.11 | B70: ²ÙáõëÇÝÝ»ñÇ ÁÝ¹Ñ³Ýáõñ ·áõÛùÁ µ³Å³Ý»Éáõ í»ñ³µ»ñÛ³É | E70: 3 | G70: 3 | N70: 1 | Q70: 1 | W70: 1 | X70: 2 | AA70: 1
A71: 4.12 | B71: ²ÙáõëÝ³Ï³Ý å³ÛÙ³Ý³·ñÇ ÷á÷áËÙ³Ý Ï³Ù ÉáõÍÙ³Ý í»ñ³µ»ñÛ³É
A72: 4.13 | B72: ²ÛÉ í»×»ñ | E72: 2 | F72: 1 | G72: 1 | J72: 13 | K72: 5 | L72: 7 | M72: 1 | N72: 2 | O72: 1 | S72: 1 | U72: 1 | W72: 1 | X72: 3 | AA72: 4 | AB72: 1
A73: 5. | B73: Øï³íáñ ë»÷³Ï³ÝáõÃÛ³Ý Ñ»ï Ï³åí³ÍÇñ³í³Ñ³ñ³µ»ñáõÃÛáõÝÝ»ñÇ í»ñ³µ»ñÛ³É ¹³ï³Ï³Ý ·áñÍ»ñ | E73: =SUM(E74:E79) -> 1 | F73: =SUM(F74:F79) -> 0 | G73: =SUM(G74:G79) -> 1 | H73: =SUM(H74:H79) -> 0 | I73: =SUM(I74:I79) -> 0 | J73: =SUM(J74:J79) -> 0 | K73: =SUM(K74:K79) -> 0 | L73: =SUM(L74:L79) -> 0 | ... AH73: =SUM(AH74:AH79) -> 0
A74: 5.1 | B74: ÈÇó»Ý½³ÛÇÝ å³ÛÙ³Ý³·ñÇ ÉáõÍÙ³Ý, ÷á÷áËÙ³Ý ¨ ³Ýí³í»ñáõÃÛ³Ý í»ñ³µ»ñÛ³É
A75: 5.2 | B75: Øï³íáñ ·áñÍáõÝ»áõÃÛ³Ý ³ñ¹ÛáõÝùÝ»ñ ëï»ÕÍ»Éáõ ¨ û·ï³·áñÍ»Éáõ å³ÛÙ³Ý³·ñÇ ÉáõÍÙ³Ý, ÷á÷áËÙ³Ý áõ ³Ýí³í»ñáõÃÛ³Ý í»ñ³µ»ñÛ³É
A76: 5.3 | B76: Ð»ÕÇÝ³Ï³ÛÇÝ ¨ Ñ³ñ³ÏÇó Çñ³íáõÝùÝ»ñÇ í»ñ³µ»ñÛ³É
A77: 5.4 | B77: üÇñÙ³ÛÇÝ ³Ýí³ÝÙ³Ý í»ñ³µ»ñÛ³É
A78: 5.5 | B78: ²åñ³Ýù³ÛÇÝ Ýß³ÝÇ í»ñ³µ»ñÛ³É | E78: 1 | G78: 1 | AA78: 1
A79: 5.6 | B79: ²ÛÉ í»×»ñ
A80: 6. | B80: ²ßË³ï³Ýù³ÛÇÝ Çñ³í³Ñ³ñ³µ»ñáõÃÛáõÝÝ»ñÇ í»ñ³µ»ñÛ³É ¹³ï³Ï³Ý ·áñÍ»ñ | E80: =SUM(E81:E86) -> 9 | F80: =SUM(F81:F86) -> 2 | G80: =SUM(G81:G86) -> 7 | H80: =SUM(H81:H86) -> 0 | I80: =SUM(I81:I86) -> 0 | J80: =SUM(J81:J86) -> 15 | K80: =SUM(K81:K86) -> 10 | L80: =SUM(L81:L86) -> 2 | ... AH80: =SUM(AH81:AH86) -> 0
A81: 6.1 | B81: ²ßË³ï³Ýù³ÛÇÝ å³ÛÙ³Ý³·ñ»ñÇ í»ñ³µ»ñÛ³É
A82: 6.2 | B82: ²ßË³ï³ÝùáõÙ í»ñ³Ï³Ý·Ý»Éáõ í»ñ³µ»ñÛ³É | E82: 1 | F82: 1 | J82: 2 | K82: 1 | L82: 1 | AA82: 2 | AB82: 1
A83: 6.3 | B83: ¶áñÍ³¹áõÉÝ ³ÝûñÇÝ³Ï³Ý ×³Ý³ã»Éáõ í»ñ³µ»ñÛ³É
A84: 6.4 | B84: Ð³ñÏ³¹Çñ å³ñ³åáõñ¹Ç Ñ³ïáõóÙ³Ý í»ñ³µ»ñÛ³É | E84: 1 | F84: 1 | J84: 1 | K84: 1 | AA84: 2 | AB84: 1
A85: 6.5 | B85: âí×³ñí³Í ³ßË³ï³í³ñÓÇ ¨/Ï³Ù ³ÛÉ í×³ñÝ»ñÇ µéÝ³·³ÝÓÙ³Ý í»ñ³µ»ñÛ³É | E85: 4 | G85: 4 | J85: 4 | K85: 3 | N85: 2 | O85: 1 | S85: 1 | V85: 1 | X85: 2 | AA85: 5
A86: 6.6 | B86: ²ÛÉ í»×»ñ | E86: 3 | G86: 3 | J86: 8 | K86: 5 | L86: 1 | N86: 3 | O86: 2 | Q86: 1 | X86: 3 | AA86: 5 | AC86: 1 | AE86: 1
A87: 7. | B87: Æñ³í³µ³Ý³Ï³Ý ³ÝÓÇ ·áñÍáõÝ»áõÃÛáõÝÇó µËáÕ Çñ³í³Ñ³ñ³µ»ñáõÃÛáõÝÝ»ñÇ í»ñ³µ»ñÛ³É ¹³ï³Ï³Ý ·áñÍ»ñ | E87: =SUM(E88:E89) -> 0 | F87: =SUM(F88:F89) -> 0 | G87: =SUM(G88:G89) -> 0 | H87: =SUM(H88:H89) -> 0 | I87: =SUM(I88:I89) -> 0 | J87: =SUM(J88:J89) -> 1 | K87: =SUM(K88:K89) -> 1 | L87: =SUM(L88:L89) -> 0 | ... AH87: =SUM(AH88:AH89) -> 0
A88: 7.1 | B88: Îáñåáñ³ïÇí í»×»ñ
A89: 7.2 | B89: ²ÛÉ í»×»ñ | J89: 1 | K89: 1 | AA89: 1
A90: 8. | B90: Ð³ïáõÏ í³ñáõÛÃÇ ¹³ï³Ï³Ý ·áñÍ»ñ | E90: =SUM(E91:E111) -> 75 | F90: =SUM(F91:F111) -> 15 | G90: =SUM(G91:G111) -> 60 | H90: =SUM(H91:H111) -> 0 | I90: =SUM(I91:I111) -> 0 | J90: =SUM(J91:J111) -> 73 | K90: =SUM(K91:K111) -> 50 | L90: =SUM(L91:L111) -> 18 | ... AH90: =SUM(AH91:AH111) -> 0
A91: 8.1 | B91: ²Ýã³÷³Ñ³ëÇÝ ÉñÇí ·áñÍáõÝ³Ï ×³Ý³ã»Éáõ /¿Ù³ÝëÇå³óÇ³/ í»ñ³µ»ñÛ³É
A92: 8.2 | B92: ø³Õ³ù³óáõÝ ³Ý·áñÍáõÝ³Ï Ï³Ù ë³ÑÙ³Ý³÷³Ï ·áñÍáõÝ³Ï ×³Ý³ã»Éáõ í»ñ³µ»ñÛ³É | E92: 26 | F92: 13 | G92: 13 | J92: 9 | K92: 6 | L92: 1 | N92: 11 | O92: 8 | S92: 3 | V92: 3 | X92: 11 | Z92: 7 | AA92: 21 | AB92: 14
A93: 8.3 | B93: ø³Õ³ù³óáõÝ Ñá·»µáõÅ³Ï³Ý ÑÇí³Ý¹³Ýáó³ÛÇÝ Ñ³ñÏ³¹Çñ µáõÅÙ³Ý »ÝÃ³ñÏ»Éáõ í»ñ³µ»ñÛ³É
A94: 8.4 | B94: ø³Õ³ù³óáõÝ ³ÝÑ³Ûï µ³ó³Ï³ÛáÕ Ï³Ù Ù³Ñ³ó³Í ×³Ý³ã»Éáõ í»ñ³µ»ñÛ³É | E94: 7 | G94: 7 | J94: 7 | K94: 5 | L94: 2 | N94: 4 | O94: 4 | X94: 4 | AA94: 8
A95: 8.5 | B95: ø³Õ³ù³óÇ³Ï³Ý Ï³óáõÃÛ³Ý ³Ïï»ñÇ ·ñ³éáõÙÝ»ñÇ ³Ý×ßïáõÃÛáõÝÝ»ñÁ å³ñ½»Éáõ í»ñ³µ»ñÛ³É
A96: 8.6 | B96: ¶áõÛùÁ ïÇñ³½áõñÏ ×³Ý³ã»Éáõ í»ñ³µ»ñÛ³É | E96: 1 | G96: 1 | J96: 2 | K96: 2 | N96: 2 | O96: 2 | X96: 2 | AA96: 1
A97: 8.6.1 | B97: ²Û¹ ÃíáõÙª ³Ýß³ñÅ ·áõÛùÁ | E97: 3 | G97: 3 | AA97: 3
A98: 8.6.2 | B98: ²Û¹ ÃíáõÙª ß³ñÅ³Ï³Ý ·áõÛùÁ | J98: 1 | K98: 1 | N98: 1 | S98: 1 | U98: 1 | X98: 1
A99: 8.7 | B99: Æñ³í³µ³Ý³Ï³Ý Ýß³Ý³ÏáõÃÛáõÝ áõÝ»óáÕ ÷³ëï»ñÇ Ñ³ëï³ïÙ³Ý í»ñ³µ»ñÛ³É
A100: 8.7.1 | B100: ²ÝÓ³Ýó ³½·³Ïó³Ï³Ý Ï³åÁ Ñ³ëï³ï»Éáõ í»ñ³µ»ñÛ³É | E100: 12 | F100: 1 | G100: 11 | J100: 15 | K100: 9 | L100: 5 | N100: 14 | O100: 11 | P100: 2 | Q100: 1 | X100: 14 | Z100: 1 | AA100: 7 | AB100: 2
A101: 8.7.2 | B101: ²ÝÓÇª áõñÇßÇ ËÝ³ÙùÇ ï³Ï ·ïÝí»Éáõ í»ñ³µ»ñÛ³É
A102: 8.7.3 | B102: ÌÝÝ¹Û³Ý, áñ¹»·ñÙ³Ý, ³ÙáõëÝáõÃÛ³Ý, ³å³Ñ³ñ½³ÝÇ ¨ Ù³Ñí³Ý ·ñ³ÝóÙ³Ý í»ñ³µ»ñÛ³É | E102: 4 | F102: 1 | G102: 3 | J102: 7 | K102: 5 | L102: 1 | M102: 1 | N102: 6 | O102: 4 | Q102: 1 | S102: 1 | U102: 1 | X102: 6 | AA102: 3 | AB102: 1
A103: 8.7.4 | B103: ²ÝÓÇª áñáß³ÏÇ Å³Ù³Ý³ÏáõÙ ¨ áñáß³ÏÇ Ñ³Ý·³Ù³ÝùÝ»ñáõÙ Ù³Ñí³Ý í»ñ³µ»ñÛ³É | E103: 1 | G103: 1 | J103: 1 | K103: 1 | N103: 1 | O103: 1 | X103: 1 | AA103: 1
A104: 8.7.5 | B104: Ä³é³Ý·áõÃÛáõÝÝ ÁÝ¹áõÝ»Éáõ ¨ Å³é³Ý·áõÃÛ³Ý µ³óÙ³Ý í³ÛñÇ í»ñ³µ»ñÛ³É | E104: 2 | G104: 2 | J104: 1 | L104: 1 | AA104: 2
A105: 8.7.6 | B105: ¸Åµ³Ëï å³ï³Ñ³ñÇ í»ñ³µ»ñÛ³É
A106: 8.7.7 | B106: Æñ³íáõÝù ë³ÑÙ³ÝáÕ ÷³ëï³ÃÕÃ»ñÇ å³ïÏ³Ý»ÉáõÃÛ³Ý í»ñ³µ»ñÛ³É | E106: 14 | G106: 14 | J106: 16 | K106: 12 | L106: 4 | N106: 13 | O106: 10 | P106: 1 | S106: 2 | U106: 1 | V106: 1 | X106: 13 | AA106: 13
A107: 8.7.8 | B107: ê»÷³Ï³ÝáõÃÛ³Ý Çñ³íáõÝùáí ·áõÛùÇ ïÇñ³å»ïÙ³Ý í»ñ³µ»ñÛ³É | J107: 4 | K107: 1 | L107: 3 | AA107: 1
A108: 8.7.9 | B108: ²ÝÑ³ÕÃ³Ñ³ñ»ÉÇ áõÅÇ ³éÏ³ÛáõÃÛ³Ý í»ñ³µ»ñÛ³É
A109: 8.7.10 | B109: úñ»Ýùáí Ý³Ë³ï»ëí³Í ³ÛÉ Çñ³í³µ³Ý³Ï³Ý ÷³ëï»ñÇ í»ñ³µ»ñÛ³É | E109: 2 | G109: 2 | J109: 3 | K109: 1 | L109: 1 | N109: 3 | O109: 2 | Q109: 1 | X109: 3 | AC109: 1 | AE109: 1
A110: 8.8 | B110: Àëï Ý»ñÏ³Û³óÝáÕÇ ¨ ûñ¹»ñ³ÛÇÝ Ïáñóñ³Í ³ñÅ»ÃÕÃ»ñáí Ñ³í³ëïí³Í Çñ³íáõÝùÝ»ñÁ í»ñ³Ï³Ý·Ý»Éáõ í»ñ³µ»ñÛ³É
A111: 8.10 | B111: ²ÛÉ í»×»ñ | E111: 3 | G111: 3 | J111: 7 | K111: 7 | N111: 3 | O111: 3 | W111: 1 | X111: 4 | AA111: 6 | AC111: 1 | AE111: 1
...

Sheet Լոռի
A1: 2019թ. 1-ին կիսամյակ | E1: Ð²ÞìºîìàôÂÚàôÜ
A2: ÐÐ Èàèàô Ø²ð¼Æ ²è²æÆÜ ²îÚ²ÜÆ ÀÜ¸Ð²Üàôð Æð²ì²êàôÂÚ²Ü ¸²î²ð²ÜàôØ ø²Ô²ø²òÆ²Î²Ü ¶àðÌºðÆ øÜÜàôÂÚ²Ü ìºð²´ºðÚ²È
A3: ÐÐ Èáéáõ Ù³ñ½Ç ³é³çÇÝ ³ïÛ³ÝÇ ÁÝ¹Ñ³Ýáõñ Çñ³í³ëáõÃÛ³Ý ¹³ï³ñ³ÝáõÙ ù³Õ³ù³óÇ³Ï³Ý Ù³ëÝ³·Çï³óáõÙ áõÝ»óáÕ ¹³ï³íáñÝ»ñÇ Ñ³ëïÇùÝ»ñÇ ù³Ý³ÏÁ` 8
A4: êïáõ·Çã Ñ³í³ë³ñáõÙÝ»ñª 1=2+3+4+5, 6=7+8+9, 2+3+7=20+21+23, 10=11+12+13+14+15, 15=16+17+18, 20=10+19, 27=25+26, 30=28+29 | E4: Ð³ßí»ïáõ Å³Ù³Ý³Ï³Ñ³ïí³ÍáõÙ Ý³Ëáñ¹ Ñ³ßí»ïáõ Å³Ù³Ý³Ï³Ñ³ïí³ÍÇó ÷áË³Ýóí³Í ·áñÍ»ñÇ ÁÝ¹Ñ³Ýáõñ ÃÇíÁ | J4: Ð³ßí»ïáõ Å³Ù³Ý³Ï³Ñ³ïí³ÍáõÙëï³óí³Í ·áñÍ»ñÇ (³Û¹ ÃíáõÙ` Ñ³Ûó³¹ÇÙáõÙÝ»ñÇ, ¹ÇÙáõÙÝ»ñÇ) ÁÝ¹Ñ³Ýáõñ ÃÇíÁ | N4: Ð³ßí»ïáõ Å³Ù³Ý³Ï³Ñ³ïí³ÍáõÙ ³í³ñïí³Í ·áñÍ»ñÇ ÁÝ¹Ñ³Ýáõñ ÃÇíÁ | Y4: ¶áñÍÝ áõÕ³ñÏí»É ¿ Áëï ÁÝ¹¹³ïáõÃÛ³Ý | Z4: Ð³ßí»ïáõ Å³Ù³Ý³Ï³Ñ³ïí³ÍáõÙ Ï³ë»óí³Í í³ñáõÛÃÝ»ñáí ·áñÍ»ñÇ ÁÝ¹Ñ³Ýáõñ ÃÇíÁ | AA4: Ð³ßí»ïáõ Å³Ù³Ý³Ï³Ñ³ïí³ÍáõÙ ³Ý³í³ñï ·áñÍ»ñÇ ÁÝ¹Ñ³Ýáõñ ÃÇíÁ | AB4: ²Û¹ ÃíáõÙª Ï³ë»óí³Í | AC4: ´áÕáù³ñÏí³Í ¹³ï³Ï³Ý ³Ïï»ñÇ ÃÇíÁ` Áëï ï»ë³ÏÝ»ñÇ | AF4: ´»Ï³Ýí³Í ¹³ï³Ï³Ý ³Ïï»ñÇ ÃÇíÁ` Áëï ï»ë³ÏÝ»ñÇ
E7: ÀÝ¹³Ù»ÝÁ | F7: ²Û¹ ÃíáõÙ`Ï³ë»óí³Í íÇ×³ÏáõÙ ÷áË³Ýóí³Í | G7: ²Û¹ ÃíáõÙª ÁÝ¹áõÝí»É ¿ í³ñáõÛÃ | H7: ²Û¹ ÃíáõÙª í»ñ³¹³ñÓí»É ¿ | I7: ²Û¹ ÃíáõÙª ÁÝ¹áõÝáõÙÁ Ù»ñÅí»É ¿ | J7: ÀÝ¹³Ù»ÝÁ | K7: ²Û¹ ÃíáõÙª ÁÝ¹áõÝí»É ¿ í³ñáõÛÃ | L7: ²Û¹ ÃíáõÙª í»ñ³¹³ñÓí»É ¿ | M7: ²Û¹ ÃíáõÙª ÁÝ¹áõÝáõÙÁ Ù»ñÅí»É ¿ | N7: ÀÝ¹³Ù»ÝÁ ³í³ñïí»É »Ý ·áñÍ»ñ ·áñÍÝ Áëï ¿áõÃÛ³Ý ÉáõÍáÕ ¹³ï³Ï³Ý ³Ïï»ñÇ (í×ÇéÝ»ñÇ) Ï³Û³óÙ³Ùµ | O7: ²Û¹ ÃíáõÙª Ñ³ÛóÇ µ³í³ñ³ñÙ³Ùµ | P7: ²Û¹ ÃíáõÙª Ñ³ÛóÇ Ù³ëÝ³ÏÇ µ³í³ñ³ñÙ³Ùµ | Q7: ²Û¹ ÃíáõÙª Ñ³ÛóÇ Ù»ñÅÙ³Ùµ | R7: Ø³ëáí Ï³ñ×í»É ¿, Ù³ëáí Ù»ñÅí»É | S7: ²Û¹ ÃíáõÙª Ï³ñ×í»É »Ý | W7: Ð³ÛóÁ ÃáÕÝí»É ¿ ³é³Ýó ùÝÝáõÃÛ³Ý | X7: ÀÝ¹³Ù»ÝÝ ³í³ñïí»É »Ý ·áñÍ»ñ | AC7: ²Û¹ ÃíáõÙ` ·áñÍÝ Áëï ¿áõÃÛ³Ý ÉáõÍáÕ ¹³ï³Ï³Ý ³Ïï»ñ | AD7: ²Û¹ ÃíáõÙ` ÙÇç³ÝÏÛ³É ¹³ï³Ï³Ý ³Ïï»ñ | AE7: ÀÝ¹³Ù»ÝÁ | AF7: ²Û¹ ÃíáõÙ` ·áñÍÝ Áëï ¿áõÃÛ³Ý ÉáõÍáÕ ¹³ï³Ï³Ý ³Ïï»ñ | AG7: ²Û¹ ÃíáõÙ` ÙÇç³ÝÏÛ³É ¹³ï³Ï³Ý ³Ïï»ñ | AH7: ÀÝ¹³Ù»ÝÁ
S10: ÀÝ¹³Ù»ÝÁ Ï³ñ×í»É »Ý | T10: ²Û¹ ÃíáõÙª Ñ³ëï³ïí»É ¿ ÏÝùí³Í Ñ³ßïáõÃÛ³Ý Ñ³Ù³Ó³ÛÝáõÃÛáõÝÁ | U10: ²Û¹ ÃíáõÙª Ñ³óÇó, ¹ÇÙáõÙÇó Ññ³Å³ñí»Éáõ ÑÇÙùáí | V10: ²Û¹ ÃíáõÙª ³ÛÉ ÑÇÙùáí
A18: ø³Õ³ù³óÇ³Ï³Ý ·áñÍ»ñÇ ¹³ë³Ï³ñ·áõÙÁ | E18: 1 | F18: 2 | G18: 3 | H18: 4 | I18: 5 | J18: 6 | K18: 7 | L18: 8 | M18: 9 | N18: 10 | O18: 11 | P18: 12 | Q18: 13 | R18: 14 | S18: 15 | T18: 16 | U18: 17 | V18: 18 | W18: 19 | X18: 20 | Y18: 21 | Z18: 22 | AA18: 23 | AB18: 24 | AC18: 25 | AD18: 26 | AE18: 27 | AF18: 28 | AG18: 29 | AH18: 30
A19: 1. | B19: ¶áõÛù³ÛÇÝ Çñ³í³Ñ³ñ³µ»ñáõÃÛáõÝÝ»ñÇ í»ñ³µ»ñÛ³É ¹³ï³Ï³Ý ·áñÍ»ñ | E19: =SUM(E20:E38) -> 233 | F19: =SUM(F20:F38) -> 96 | G19: =SUM(G20:G38) -> 135 | H19: =SUM(H20:H38) -> 2 | I19: =SUM(I20:I38) -> 0 | J19: =SUM(J20:J38) -> 165 | K19: =SUM(K20:K38) -> 120 | L19: =SUM(L20:L38) -> 38 | ... AH19: =SUM(AH20:AH38) -> 1
A20: 1.1 | B20: ¶áõÛùÇ ÝÏ³ïÙ³Ùµ ë»÷³Ï³ÝáõÃÛ³Ý Çñ³íáõÝùÁ ×³Ý³ã»Éáõ í»ñ³µ»ñÛ³É | E20: 13 | F20: 3 | G20: 10 | H20: 0 | I20: 0 | J20: 15 | K20: =+J20-L20-M20 -> 10 | L20: 4 | M20: 1 | N20: 6 | O20: 3 | P20: 0 | Q20: 0 | R20: 0 | S20: 3 | T20: 2 | U20: 1 | V20: 0 | W20: 0 | X20: 6 | Y20: 0 | Z20: 0 | AA20: 17 | AB20: 0 | AD20: 1 | AE20: =SUM(AC20:AD20) -> 1 | AH20: =+AF20+AG20 -> 0
A21: 1.1.1 | B21: ²Û¹ ÃíáõÙª Ó»éùµ»ñÙ³Ý í³Õ»ÙáõÃÛ³Ý áõÅáí | E21: 7 | F21: 1 | G21: 6 | H21: 0 | I21: 0 | J21: 14 | K21: =+J21-L21-M21 -> 10 | L21: 4 | M21: 0 | N21: 8 | O21: 7 | P21: 0 | Q21: 0 | R21: 0 | S21: 1 | T21: 0 | U21: 1 | V21: 0 | W21: 0 | X21: 8 | Y21: 0 | Z21: 0 | AA21: 9 | AB21: 1 | AE21: =SUM(AC21:AD21) -> 0 | AH21: =+AF21+AG21 -> 0
A22: 1.1.2 | B22: ²Û¹ ÃíáõÙª ïÇñ³½áõñÏ ·áõÛùÇ ÝÏ³ïÙ³Ùµ | E22: 0 | F22: 0 | G22: 0 | H22: 0 | I22: 0 | J22: 0 | K22: =+J22-L22-M22 -> 0 | L22: 0 | M22: 0 | N22: 0 | O22: 0 | P22: 0 | Q22: 0 | R22: 0 | S22: 0 | T22: 0 | U22: 0 | V22: 0 | W22: 0 | X22: 0 | Y22: 0 | Z22: 0 | AA22: 0 | AB22: 0 | AE22: =SUM(AC22:AD22) -> 0 | AH22: =+AF22+AG22 -> 0
A23: 1.1.3 | B23: ²Û¹ ÃíáõÙª ÇÝùÝ³Ï³Ù Ï³éáõÛóÇ ÝÏ³ïÙ³Ùµ | E23: 0 | F23: 0 | G23: 0 | H23: 0 | I23: 0 | J23: 0 | K23: =+J23-L23-M23 -> 0 | L23: 0 | M23: 0 | N23: 0 | O23: 0 | P23: 0 | Q23: 0 | R23: 0 | S23: 0 | T23: 0 | U23: 0 | V23: 0 | W23: 0 | X23: 0 | Y23: 0 | Z23: 0 | AA23: 0 | AB23: 0 | AE23: =SUM(AC23:AD23) -> 0 | AH23: =+AF23+AG23 -> 0
A24: 1.2 | B24: ê»÷³Ï³ÝáõÃÛ³Ý Çñ³íáõÝùÇ ¹³¹³ñ»óÙ³Ý í»ñ³µ»ñÛ³É | E24: 0 | F24: 0 | G24: 0 | H24: 0 | I24: 0 | J24: 1 | K24: =+J24-L24-M24 -> 1 | L24: 0 | M24: 0 | N24: 0 | O24: 0 | P24: 0 | Q24: 0 | R24: 0 | S24: 0 | T24: 0 | U24: 0 | V24: 0 | W24: 0 | X24: 0 | Y24: 0 | Z24: 0 | AA24: 1 | AB24: 0 | AE24: =SUM(AC24:AD24) -> 0 | AH24: =+AF24+AG24 -> 0
A25: 1.3 | B25: ¶áõÛùÇ ÝÏ³ïÙ³Ùµ û·ï³·áñÍÙ³Ý Çñ³íáõÝùÁ ×³Ý³ã»Éáõ í»ñ³µ»ñÛ³É | E25: 0 | F25: 0 | G25: 0 | H25: 0 | I25: 0 | J25: 0 | K25: =+J25-L25-M25 -> 0 | L25: 0 | M25: 0 | N25: 0 | O25: 0 | P25: 0 | Q25: 0 | R25: 0 | S25: 0 | T25: 0 | U25: 0 | V25: 0 | W25: 0 | X25: 0 | Y25: 0 | Z25: 0 | AA25: 0 | AB25: 0 | AE25: =SUM(AC25:AD25) -> 0 | AH25: =+AF25+AG25 -> 0
A26: 1.3.1 | B26: ²Û¹ ÃíáõÙª µÝ³Ïû·ï³·áñÍÙ³Ý Çñ³íáõÝùÁ ×³Ý³ã»Éáõ í»ñ³µ»ñÛ³É | E26: 1 | F26: 0 | G26: 1 | H26: 0 | I26: 0 | J26: 0 | K26: =+J26-L26-M26 -> 0 | L26: 0 | M26: 0 | N26: 1 | O26: 0 | P26: 0 | Q26: 1 | R26: 0 | S26: 0 | T26: 0 | U26: 0 | V26: 0 | W26: 0 | X26: 1 | Y26: 0 | Z26: 0 | AA26: 0 | AB26: 0 | AC26: 1 | AE26: =SUM(AC26:AD26) -> 1 | AH26: =+AF26+AG26 -> 0
A27: 1.3.2 | B27: ²Û¹ ÃíáõÙª ÑáÕ³Ù³ëÇ ÝÏ³ïÙ³Ùµ û·ï³·áñÍÙ³Ý Çñ³íáõÝùÁ ×³Ý³ã»Éáõ í»ñ³µ»ñÛ³É | E27: 0 | F27: 0 | G27: 0 | H27: 0 | I27: 0 | J27: 0 | K27: =+J27-L27-M27 -> 0 | L27: 0 | M27: 0 | N27: 0 | O27: 0 | P27: 0 | Q27: 0 | R27: 0 | S27: 0 | T27: 0 | U27: 0 | V27: 0 | W27: 0 | X27: 0 | Y27: 0 | Z27: 0 | AA27: 0 | AB27: 0 | AE27: =SUM(AC27:AD27) -> 0 | AH27: =+AF27+AG27 -> 0
A28: 1.4 | B28: ¶áõÛùÇ ÝÏ³ïÙ³Ùµ û·ï³·áñÍÙ³Ý Çñ³íáõÝùÁ ¹³¹³ñ»óÝ»Éáõ í»ñ³µ»ñÛ³É | E28: 0 | F28: 0 | G28: 0 | H28: 0 | I28: 0 | J28: 0 | K28: =+J28-L28-M28 -> 0 | L28: 0 | M28: 0 | N28: 0 | O28: 0 | P28: 0 | Q28: 0 | R28: 0 | S28: 0 | T28: 0 | U28: 0 | V28: 0 | W28: 0 | X28: 0 | Y28: 0 | Z28: 0 | AA28: 0 | AB28: 0 | AE28: =SUM(AC28:AD28) -> 0 | AH28: =+AF28+AG28 -> 0
A29: 1.4.1 | B29: ²Û¹ ÃíáõÙª µÝ³Ïû·ï³·áñÍÙ³Ý Çñ³íáõÝùÁ ¹³¹³ñ»óÝ»Éáõ í»ñ³µ»ñÛ³É | E29: 0 | F29: 0 | G29: 0 | H29: 0 | I29: 0 | J29: 0 | K29: =+J29-L29-M29 -> 0 | L29: 0 | M29: 0 | N29: 0 | O29: 0 | P29: 0 | Q29: 0 | R29: 0 | S29: 0 | T29: 0 | U29: 0 | V29: 0 | W29: 0 | X29: 0 | Y29: 0 | Z29: 0 | AA29: 0 | AB29: 0 | AE29: =SUM(AC29:AD29) -> 0 | AH29: =+AF29+AG29 -> 0
A30: 1.4.1/1 | B30: ²Û¹ ÃíáõÙª ÷áËÑ³ïáõóÙ³Ùµ | E30: 0 | F30: 0 | G30: 0 | H30: 0 | I30: 0 | J30: 0 | K30: =+J30-L30-M30 -> 0 | L30: 0 | M30: 0 | N30: 0 | O30: 0 | P30: 0 | Q30: 0 | R30: 0 | S30: 0 | T30: 0 | U30: 0 | V30: 0 | W30: 0 | X30: 0 | Y30: 0 | Z30: 0 | AA30: 0 | AB30: 0 | AE30: =SUM(AC30:AD30) -> 0 | AH30: =+AF30+AG30 -> 0
A31: 1.5 | B31: ´Ý³Ï³ñ³ÝÇó/ ï³ñ³ÍùÇó/ íï³ñ»Éáõ í»ñ³µ»ñÛ³É | E31: 6 | F31: 4 | G31: 2 | H31: 0 | I31: 0 | J31: 4 | K31: =+J31-L31-M31 -> 3 | L31: 1 | M31: 0 | N31: 1 | O31: 1 | P31: 0 | Q31: 0 | R31: 0 | S31: 0 | T31: 0 | U31: 0 | V31: 0 | W31: 0 | X31: 1 | Y31: 0 | Z31: 0 | AA31: 8 | AB31: 2 | AC31: 1 | AE31: =SUM(AC31:AD31) -> 1 | AH31: =+AF31+AG31 -> 0
A32: 1.6 | B32: ¶áõÛùÝ áõñÇßÇ ³åûñÇÝÇ ïÇñ³å»ïáõÙÇó »ï í»ñ³¹³ñÓÝ»Éáõ í»ñ³µ»ñÛ³É | E32: 24 | F32: 11 | G32: 13 | H32: 0 | I32: 0 | J32: 13 | K32: =+J32-L32-M32 -> 10 | L32: 3 | M32: 0 | N32: 3 | O32: 2 | P32: 0 | Q32: 0 | R32: 0 | S32: 1 | T32: 0 | U32: 1 | V32: 0 | W32: 1 | X32: 4 | Y32: 0 | Z32: 1 | AA32: 30 | AB32: 6 | AD32: 2 | AE32: =SUM(AC32:AD32) -> 2 | AH32: =+AF32+AG32 -> 0
A33: 1.6.1 | B33: ´³ñ»ËÇÕ× Ó»éùµ»ñáÕÇó Çñ ·áõÛùÁ Ñ»ï å³Ñ³Ýç»Éáõ í»ñ³µ»ñÛ³É | E33: 0 | F33: 0 | G33: 0 | H33: 0 | I33: 0 | J33: 0 | K33: =+J33-L33-M33 -> 0 | L33: 0 | M33: 0 | N33: 0 | O33: 0 | P33: 0 | Q33: 0 | R33: 0 | S33: 0 | T33: 0 | U33: 0 | V33: 0 | W33: 0 | X33: 0 | Y33: 0 | Z33: 0 | AA33: 0 | AB33: 0 | AE33: =SUM(AC33:AD33) -> 0 | AH33: =+AF33+AG33 -> 0
A34: 1.7 | B34: îÇñ³å»ïáõÙÇó ½ñÏ»Éáõ Ñ»ï ãÏ³åí³Í Çñ³íáõÝùÝ»ñÇ Ë³ËïáõÙÁ í»ñ³óÝ»Éáõ í»ñ³µ»ñÛ³É | E34: 6 | F34: 2 | G34: 4 | H34: 0 | I34: 0 | J34: 9 | K34: =+J34-L34-M34-2 -> 5 | L34: 1 | M34: 1 | N34: 5 | O34: 1 | P34: 0 | Q34: 3 | R34: 0 | S34: 1 | T34: 0 | U34: 1 | V34: 0 | W34: 0 | X34: 5 | Y34: 0 | Z34: 0 | AA34: 6 | AB34: 0 | AC34: 1 | AD34: 1 | AE34: =SUM(AC34:AD34) -> 2 | AG34: 1 | AH34: =+AF34+AG34 -> 1
A35: 1.8 | B35: ÀÝ¹Ñ³Ýáõñ µ³ÅÝ³ÛÇÝ ë»÷³Ï³ÝáõÃÛáõÝÇó µ³ÅÇÝÝ ³é³ÝÓÝ³óÝ»Éáõ í»ñ³µ»ñÛ³É | E35: 106 | F35: 42 | G35: 63 | H35: 1 | I35: 0 | J35: 92 | K35: =+J35-L35-M35-3 -> 71 | L35: 18 | M35: 0 | N35: 18 | O35: 9 | P35: 0 | Q35: 2 | R35: 0 | S35: 7 | T35: 0 | U35: 6 | V35: 1 | W35: 0 | X35: 18 | Y35: 0 | Z35: 15 | AA35: 158 | AB35: 24 | AC35: 1 | AE35: =SUM(AC35:AD35) -> 1 | AH35: =+AF35+AG35 -> 0
A36: 1.8.1 | B36: Ð³Ù³ï»Õ ë»÷³Ï³ÝáõÃÛ³Ý Ý»ñùá ·ïÝíáÕ ·áõÛùÁ µ³Å³Ý»Éáõ ¨ ¹ñ³ÝÇó µ³ÅÇÝÝ ³é³ÝÓÝ³óÝ»Éáõ í»ñ³µ»ñÛ³É | E36: 14 | F36: 5 | G36: 9 | H36: 0 | I36: 0 | J36: 5 | K36: =+J36-L36-M36 -> 1 | L36: 4 | M36: 0 | N36: 3 | O36: 2 | P36: 0 | Q36: 0 | R36: 0 | S36: 1 | T36: 0 | U36: 1 | V36: 0 | W36: 0 | X36: 3 | Y36: 0 | Z36: 2 | AA36: 12 | AB36: 5 | AE36: =SUM(AC36:AD36) -> 0 | AH36: =+AF36+AG36 -> 0
A37: 1.8.3 | B37: ¶áõÛùÇ íñ³ µéÝ³·³ÝÓáõÙ ï³ñ³Í»Éáõ å³Ñ³ÝçÇ Ù³ëÇÝ | E37: 13 | F37: 7 | G37: 5 | H37: 1 | I37: 0 | J37: 2 | K37: =+J37-L37-M37 -> 2 | L37: 0 | M37: 0 | N37: 1 | O37: 1 | P37: 0 | Q37: 0 | R37: 0 | S37: 0 | T37: 0 | U37: 0 | V37: 0 | W37: 1 | X37: 2 | Y37: 0 | Z37: 1 | AA37: 12 | AB37: 2 | AC37: 1 | AE37: =SUM(AC37:AD37) -> 1 | AH37: =+AF37+AG37 -> 0
A38: 1.9 | B38: ²ÛÉ í»×»ñ | E38: 43 | F38: 21 | G38: 22 | H38: 0 | I38: 0 | J38: 10 | K38: =+J38-L38-M38 -> 7 | L38: 3 | M38: 0 | N38: 13 | O38: 2 | P38: 2 | Q38: 3 | R38: 1 | S38: 5 | T38: 1 | U38: 4 | V38: 0 | W38: 1 | X38: 14 | Y38: 0 | Z38: 0 | AA38: 36 | AB38: 16 | AC38: 1 | AE38: =SUM(AC38:AD38) -> 1 | AH38: =+AF38+AG38 -> 0
A39: 2. | B39: ¶áñÍ³ñùÝ»ñÇ Ñ»ï Ï³åí³Í Çñ³í³Ñ³ñ³µ»ñáõÃÛáõÝÝ»ñÇ í»ñ³µ»ñÛ³É ¹³ï³Ï³Ý ·áñÍ»ñ | E39: =SUM(E40:E50) -> 41 | F39: =SUM(F40:F50) -> 9 | G39: =SUM(G40:G50) -> 32 | H39: =SUM(H40:H50) -> 0 | I39: =SUM(I40:I50) -> 0 | J39: =SUM(J40:J50) -> 16 | K39: =SUM(K40:K50) -> 11 | L39: =SUM(L40:L50) -> 4 | ... AH39: =SUM(AH40:AH50) -> 0
A40: 2.1 | B40: ·áñÍ³ñùÝ»ñÇ ³Ýí³í»ñáõÃÛ³Ý Ñ»ï Ï³åí³Í í»×»ñ | E40: 9 | F40: 3 | G40: 6 | H40: 0 | I40: 0 | J40: 0 | K40: =+J40-L40-M40 -> 0 | L40: 0 | M40: 0 | N40: 0 | O40: 0 | P40: 0 | Q40: 0 | R40: 0 | S40: 0 | T40: 0 | U40: 0 | V40: 0 | W40: 0 | X40: 0 | Y40: 0 | Z40: 1 | AA40: 9 | AB40: 3 | AE40: =SUM(AC40:AD40) -> 0 | AH40: =+AF40+AG40 -> 0
A41: 2.1.1 | B41: ³Û¹ ÃíáõÙ` íÇ×³Ñ³ñáõÛó ·áñÍ³ñùÝ»ñÝ ³Ýí³í»ñ ×³Ý³ã»Éáõ í»ñ³µ»ñÛ³É | E41: 0 | F41: 0 | G41: 0 | H41: 0 | I41: 0 | J41: 0 | K41: =+J41-L41-M41 -> 0 | L41: 0 | M41: 0 | N41: 0 | O41: 0 | P41: 0 | Q41: 0 | R41: 0 | S41: 0 | T41: 0 | U41: 0 | V41: 0 | W41: 0 | X41: 0 | Y41: 0 | Z41: 0 | AA41: 0 | AB41: 0 | AE41: =SUM(AC41:AD41) -> 0 | AH41: =+AF41+AG41 -> 0
A42: 2.1.2 | B42: ³Û¹ ÃíáõÙ` ·áñÍ³ñùÇ ³éáãÝãáõÃÛ³Ý Ñ»ï¨³ÝùÝ»ñ ÏÇñ³é»Éáõ í»ñ³µ»ñÛ³É | E42: 6 | F42: 0 | G42: 6 | H42: 0 | I42: 0 | J42: 2 | K42: =+J42-L42-M42 -> 2 | L42: 0 | M42: 0 | N42: 0 | O42: 0 | P42: 0 | Q42: 0 | R42: 0 | S42: 0 | T42: 0 | U42: 0 | V42: 0 | W42: 0 | X42: 0 | Y42: 0 | Z42: 0 | AA42: 8 | AB42: 0 | AE42: =SUM(AC42:AD42) -> 0 | AH42: =+AF42+AG42 -> 0
A43: 2.2 | B43: ¶áñÍ³ñùÁ í³í»ñ ×³Ý³ã»Éáõ í»ñ³µ»ñÛ³É | E43: 6 | F43: 0 | G43: 6 | H43: 0 | I43: 0 | J43: 5 | K43: =+J43-L43-M43 -> 5 | L43: 0 | M43: 0 | N43: 8 | O43: 7 | P43: 0 | Q43: 1 | R43: 0 | S43: 0 | T43: 0 | U43: 0 | V43: 0 | W43: 0 | X43: 8 | Y43: 0 | Z43: 0 | AA43: 3 | AB43: 0 | AE43: =SUM(AC43:AD43) -> 0 | AH43: =+AF43+AG43 -> 0
A44: 2.3 | B44: ¶áñÍ³ñùÇó Í³·áÕ Çñ³íáõÝùÝ»ñÁ ·ñ³Ýó»Éáõ í»ñ³µ»ñÛ³É | E44: 0 | F44: 0 | G44: 0 | H44: 0 | I44: 0 | J44: 0 | K44: =+J44-L44-M44 -> 0 | L44: 0 | M44: 0 | N44: 0 | O44: 0 | P44: 0 | Q44: 0 | R44: 0 | S44: 0 | T44: 0 | U44: 0 | V44: 0 | W44: 0 | X44: 0 | Y44: 0 | Z44: 0 | AA44: 0 | AB44: 0 | AE44: =SUM(AC44:AD44) -> 0 | AH44: =+AF44+AG44 -> 0
A45: 2.4 | B45: ä³ÛÙ³Ý³·ÇñÝ ³Ýí³í»ñ ×³Ý³ã»Éáõ í»ñ³µ»ñÛ³É | E45: 12 | F45: 4 | G45: 8 | H45: 0 | I45: 0 | J45: 4 | K45: =+J45-L45-M45 -> 3 | L45: 1 | M45: 0 | N45: 0 | O45: 0 | P45: 0 | Q45: 0 | R45: 0 | S45: 0 | T45: 0 | U45: 0 | V45: 0 | W45: 0 | X45: 0 | Y45: 1 | Z45: 0 | AA45: 14 | AB45: 3 | AE45: =SUM(AC45:AD45) -> 0 | AH45: =+AF45+AG45 -> 0
A46: 2.5 | B46: ä³ÛÙ³Ý³·ñÇÁ í³í»ñ ×³Ý³ã»Éáõ í»ñ³µ»ñÛ³É | E46: 0 | F46: 0 | G46: 0 | H46: 0 | I46: 0 | J46: 1 | K46: =+J46-L46-M46 -> 0 | L46: 1 | M46: 0 | N46: 0 | O46: 0 | P46: 0 | Q46: 0 | R46: 0 | S46: 0 | T46: 0 | U46: 0 | V46: 0 | W46: 0 | X46: 0 | Y46: 0 | Z46: 0 | AA46: 0 | AB46: 0 | AE46: =SUM(AC46:AD46) -> 0 | AH46: =+AF46+AG46 -> 0
A47: 2.6 | B47: ä³ÛÙ³Ý³·ñÇó Í³·áÕ Çñ³íáõÝùÝ»ñÁ ·ñ³Ýó»Éáõ í»ñ³µ»ñÛ³É | E47: 0 | F47: 0 | G47: 0 | H47: 0 | I47: 0 | J47: 0 | K47: =+J47-L47-M47 -> 0 | L47: 0 | M47: 0 | N47: 0 | O47: 0 | P47: 0 | Q47: 0 | R47: 0 | S47: 0 | T47: 0 | U47: 0 | V47: 0 | W47: 0 | X47: 0 | Y47: 0 | Z47: 0 | AA47: 0 | AB47: 0 | AE47: =SUM(AC47:AD47) -> 0 | AH47: =+AF47+AG47 -> 0
A48: 2.7 | B48: ä³ÛÙ³Ý³·ÇñÁ ÷á÷áË»Éáõ ¨ ÉáõÍ»Éáõ í»ñ³µ»ñÛ³É | E48: 2 | F48: 1 | G48: 1 | H48: 0 | I48: 0 | J48: 1 | K48: =+J48-L48-M48 -> 0 | L48: 1 | M48: 0 | N48: 0 | O48: 0 | P48: 0 | Q48: 0 | R48: 0 | S48: 0 | T48: 0 | U48: 0 | V48: 0 | W48: 0 | X48: 0 | Y48: 0 | Z48: 1 | AA48: 2 | AB48: 1 | AE48: =SUM(AC48:AD48) -> 0 | AH48: =+AF48+AG48 -> 0
A49: 2.8 | B49: ä³ÛÙ³Ý³·Çñ ÏÝù»ÉáõÝ å³ñï³íáñ»óÝ»Éáõ í»ñ³µ»ñÛ³É | E49: 1 | F49: 0 | G49: 1 | H49: 0 | I49: 0 | J49: 0 | K49: =+J49-L49-M49 -> 0 | L49: 0 | M49: 0 | N49: 0 | O49: 0 | P49: 0 | Q49: 0 | R49: 0 | S49: 0 | T49: 0 | U49: 0 | V49: 0 | W49: 0 | X49: 0 | Y49: 0 | Z49: 0 | AA49: 1 | AB49: 0 | AE49: =SUM(AC49:AD49) -> 0 | AH49: =+AF49+AG49 -> 0
A50: 2.9 | B50: ²ÛÉ í»×»ñ | E50: 5 | F50: 1 | G50: 4 | H50: 0 | I50: 0 | J50: 3 | K50: =+J50-L50-M50-1 -> 1 | L50: 1 | M50: 0 | N50: 2 | O50: 0 | P50: 0 | Q50: 2 | R50: 0 | S50: 0 | T50: 0 | U50: 0 | V50: 0 | W50: 0 | X50: 2 | Y50: 1 | Z50: 0 | AA50: 3 | AB50: 1 | AC50: 2 | AE50: =SUM(AC50:AD50) -> 2 | AH50: =+AF50+AG50 -> 0
A51: 3. | B51: Ä³é³Ý·áõÃÛ³Ý Ñ»ï Ï³åí³Í Çñ³í³Ñ³ñ³µ»ñáõÃÛáõÝÝ»ñÇ í»ñ³µ»ñÛ³É ¹³ï³Ï³Ý ·áñÍ»ñ | E51: =SUM(E52:E58) -> 13 | F51: =SUM(F52:F58) -> 4 | G51: =SUM(G52:G58) -> 9 | H51: =SUM(H52:H58) -> 0 | I51: =SUM(I52:I58) -> 0 | J51: =SUM(J52:J58) -> 3 | K51: =SUM(K52:K58) -> 3 | L51: =SUM(L52:L58) -> 0 | ... AH51: =SUM(AH52:AH58) -> 0
A52: 3.1 | B52: Îï³ÏÝ ³Ýí³í»ñ ×³Ý³ã»Éáõ í»ñ³µ»ñÛ³É | E52: 0 | F52: 0 | G52: 0 | H52: 0 | I52: 0 | J52: 0 | K52: =+J52-L52-M52 -> 0 | L52: 0 | M52: 0 | N52: 0 | O52: 0 | P52: 0 | Q52: 0 | R52: 0 | S52: 0 | T52: 0 | U52: 0 | V52: 0 | W52: 0 | X52: 0 | Y52: 0 | Z52: 0 | AA52: 0 | AB52: 0 | AE52: =SUM(AC52:AD52) -> 0 | AH52: =+AF52+AG52 -> 0
A53: 3.2 | B53: ²Ý³ñÅ³Ý Å³é³Ý· ×³Ý³ã»Éáõ í»ñ³µ»ñÛ³É | E53: 0 | F53: 0 | G53: 0 | H53: 0 | I53: 0 | J53: 0 | K53: =+J53-L53-M53 -> 0 | L53: 0 | M53: 0 | N53: 0 | O53: 0 | P53: 0 | Q53: 0 | R53: 0 | S53: 0 | T53: 0 | U53: 0 | V53: 0 | W53: 0 | X53: 0 | Y53: 0 | Z53: 0 | AA53: 0 | AB53: 0 | AE53: =SUM(AC53:AD53) -> 0 | AH53: =+AF53+AG53 -> 0
A54: 3.3 | B54: Ä³é³Ý·áõÃÛáõÝÁ µ³Å³Ý»Éáõ í»ñ³µ»ñÛ³É | E54: 0 | F54: 0 | G54: 0 | H54: 0 | I54: 0 | J54: 0 | K54: =+J54-L54-M54 -> 0 | L54: 0 | M54: 0 | N54: 0 | O54: 0 | P54: 0 | Q54: 0 | R54: 0 | S54: 0 | T54: 0 | U54: 0 | V54: 0 | W54: 0 | X54: 0 | Y54: 0 | Z54: 0 | AA54: 0 | AB54: 0 | AE54: =SUM(AC54:AD54) -> 0 | AH54: =+AF54+AG54 -> 0
A55: 3.4 | B55: ¶áõÛùÝ ³ÝÅ³é³Ý· ×³Ý³ã»Éáõ í»ñ³µ»ñÛ³É | E55: 0 | F55: 0 | G55: 0 | H55: 0 | I55: 0 | J55: 0 | K55: =+J55-L55-M55 -> 0 | L55: 0 | M55: 0 | N55: 0 | O55: 0 | P55: 0 | Q55: 0 | R55: 0 | S55: 0 | T55: 0 | U55: 0 | V55: 0 | W55: 0 | X55: 0 | Y55: 0 | Z55: 0 | AA55: 0 | AB55: 0 | AE55: =SUM(AC55:AD55) -> 0 | AH55: =+AF55+AG55 -> 0
A56: 3.5 | B56: Àëï ûñ»ÝùÇ Å³é³Ý·áõÃÛ³Ý Çñ³íáõÝùÇ íÏ³Û³·ÇñÝ ³Ýí³í»ñ ×³Ý³ã»Éáõ í»ñ³µ»ñÛ³É | E56: 0 | F56: 0 | G56: 0 | H56: 0 | I56: 0 | J56: 0 | K56: =+J56-L56-M56 -> 0 | L56: 0 | M56: 0 | N56: 0 | O56: 0 | P56: 0 | Q56: 0 | R56: 0 | S56: 0 | T56: 0 | U56: 0 | V56: 0 | W56: 0 | X56: 0 | Y56: 0 | Z56: 0 | AA56: 0 | AB56: 0 | AE56: =SUM(AC56:AD56) -> 0 | AH56: =+AF56+AG56 -> 0
A57: 3.6 | B57: Ä³é³Ý·áõÃÛáõÝÝ ÁÝ¹áõÝ»Éáõ µ³ó ÃáÕÝí³Í Å³ÙÏ»ïÁ Ñ³ñ·»ÉÇ Ñ³Ù³ñ»Éáõ í»ñ³µ»ñÛ³É | E57: 2 | F57: 1 | G57: 1 | H57: 0 | I57: 0 | J57: 0 | K57: =+J57-L57-M57 -> 0 | L57: 0 | M57: 0 | N57: 0 | O57: 0 | P57: 0 | Q57: 0 | R57: 0 | S57: 0 | T57: 0 | U57: 0 | V57: 0 | W57: 0 | X57: 0 | Y57: 0 | Z57: 0 | AA57: 2 | AB57: 1 | AE57: =SUM(AC57:AD57) -> 0 | AH57: =+AF57+AG57 -> 0
A58: 3.7 | B58: ²ÛÉ í»×»ñ | E58: 11 | F58: 3 | G58: 8 | H58: 0 | I58: 0 | J58: 3 | K58: =+J58-L58-M58 -> 3 | L58: 0 | M58: 0 | N58: 2 | O58: 1 | P58: 0 | Q58: 0 | R58: 0 | S58: 1 | T58: 0 | U58: 1 | V58: 0 | W58: 0 | X58: 2 | Y58: 0 | Z58: 0 | AA58: 12 | AB58: 2 | AE58: =SUM(AC58:AD58) -> 0 | AH58: =+AF58+AG58 -> 0
A59: 4 | B59: ÀÝï³Ý»Ï³Ý Çñ³í³Ñ³ñ³µ»ñáõÃÛáõÝÝ»ñÇ í»ñ³µ»ñÛ³É ¹³ï³Ï³Ý ·áñÍ»ñ | E59: =SUM(E60:E72) -> 132 | F59: =SUM(F60:F72) -> 7 | G59: =SUM(G60:G72) -> 125 | H59: =SUM(H60:H72) -> 0 | I59: =SUM(I60:I72) -> 0 | J59: =SUM(J60:J72) -> 136 | K59: =SUM(K60:K72) -> 111 | L59: =SUM(L60:L72) -> 20 | ... AH59: =SUM(AH60:AH72) -> 0
A60: 4.1 | B60: ²ÙáõëÝ³ÉáõÍáõÃÛ³Ý í»ñ³µ»ñÛ³É | E60: 65 | F60: 0 | G60: 65 | H60: 0 | I60: 0 | J60: 65 | K60: =+J60-L60-M60-1 -> 56 | L60: 8 | M60: 0 | N60: 44 | O60: 30 | P60: 8 | Q60: 0 | R60: 0 | S60: 6 | T60: 2 | U60: 4 | V60: 0 | W60: 0 | X60: 44 | Y60: 1 | Z60: 0 | AA60: 76 | AB60: 0 | AC60: 3 | AE60: =SUM(AC60:AD60) -> 3 | AH60: =+AF60+AG60 -> 0
A61: 4.2 | B61: ²ÉÇÙ»ÝïÇ å³Ñ³ÝçÇ í»ñ³µ»ñÛ³É | E61: 22 | F61: 2 | G61: 20 | H61: 0 | I61: 0 | J61: 37 | K61: =+J61-L61-M61-2 -> 30 | L61: 5 | M61: 0 | N61: 12 | O61: 4 | P61: 4 | Q61: 0 | R61: 0 | S61: 4 | T61: 2 | U61: 2 | V61: 0 | W61: 0 | X61: 12 | Y61: 0 | Z61: 0 | AA61: 40 | AB61: 0 | AC61: 1 | AE61: =SUM(AC61:AD61) -> 1 | AH61: =+AF61+AG61 -> 0
A62: 4.3 | B62: ²ÉÇÙ»ÝïÇ ã³÷Á ÷á÷áË»Éáõ í»ñ³µ»ñÛ³É | E62: 6 | F62: 1 | G62: 5 | H62: 0 | I62: 0 | J62: 6 | K62: =+J62-L62-M62 -> 4 | L62: 2 | M62: 0 | N62: 2 | O62: 1 | P62: 1 | Q62: 0 | R62: 0 | S62: 0 | T62: 0 | U62: 0 | V62: 0 | W62: 1 | X62: 3 | Y62: 0 | Z62: 0 | AA62: 7 | AB62: 0 | AC62: 1 | AE62: =SUM(AC62:AD62) -> 1 | AH62: =+AF62+AG62 -> 0
A63: 4.4 | B63: ÌÝáÕ³Ï³Ý Çñ³íáõÝùÝ»ñÇó ½ñÏ»Éáõ í»ñ³µ»ñÛ³É | E63: 1 | F63: 0 | G63: 1 | H63: 0 | I63: 0 | J63: 0 | K63: =+J63-L63-M63 -> 0 | L63: 0 | M63: 0 | N63: 1 | O63: 0 | P63: 0 | Q63: 1 | R63: 0 | S63: 0 | T63: 0 | U63: 0 | V63: 0 | W63: 0 | X63: 1 | Y63: 0 | Z63: 0 | AA63: 0 | AB63: 0 | AE63: =SUM(AC63:AD63) -> 0 | AH63: =+AF63+AG63 -> 0
A64: 4.5 | B64: ÌÝáÕ³Ï³Ý Çñ³íáõÝùÝ»ñÁ í»ñ³Ï³Ý·Ý»Éáõ í»ñ³µ»ñÛ³É | E64: 0 | F64: 0 | G64: 0 | H64: 0 | I64: 0 | J64: 0 | K64: =+J64-L64-M64 -> 0 | L64: 0 | M64: 0 | N64: 0 | O64: 0 | P64: 0 | Q64: 0 | R64: 0 | S64: 0 | T64: 0 | U64: 0 | V64: 0 | W64: 0 | X64: 0 | Y64: 0 | Z64: 0 | AA64: 0 | AB64: 0 | AE64: =SUM(AC64:AD64) -> 0 | AH64: =+AF64+AG64 -> 0
A65: 4.6 | B65: ºñ»Ë³ÛÇ áñ¹»·ñÙ³Ý í»ñ³µ»ñÛ³É | E65: 0 | F65: 0 | G65: 0 | H65: 0 | I65: 0 | J65: 1 | K65: =+J65-L65-M65 -> 1 | L65: 0 | M65: 0 | N65: 0 | O65: 0 | P65: 0 | Q65: 0 | R65: 0 | S65: 0 | T65: 0 | U65: 0 | V65: 0 | W65: 0 | X65: 0 | Y65: 0 | Z65: 0 | AA65: 1 | AB65: 0 | AE65: =SUM(AC65:AD65) -> 0 | AH65: =+AF65+AG65 -> 0
A66: 4.7 | B66: ºñ»Ë³ÛÇ áñ¹»·ñáõÙÁ í»ñ³óÝ»Éáõ í»ñ³µ»ñÛ³É | E66: 0 | F66: 0 | G66: 0 | H66: 0 | I66: 0 | J66: 0 | K66: =+J66-L66-M66 -> 0 | L66: 0 | M66: 0 | N66: 0 | O66: 0 | P66: 0 | Q66: 0 | R66: 0 | S66: 0 | T66: 0 | U66: 0 | V66: 0 | W66: 0 | X66: 0 | Y66: 0 | Z66: 0 | AA66: 0 | AB66: 0 | AE66: =SUM(AC66:AD66) -> 0 | AH66: =+AF66+AG66 -> 0
A67: 4.8 | B67: Ð³ÛñáõÃÛáõÝÁ ×³Ý³ã»Éáõ í»ñ³µ»ñÛ³É | E67: 7 | F67: 2 | G67: 5 | H67: 0 | I67: 0 | J67: 6 | K67: =+J67-L67-M67 -> 5 | L67: 1 | M67: 0 | N67: 1 | O67: 0 | P67: 1 | Q67: 0 | R67: 0 | S67: 0 | T67: 0 | U67: 0 | V67: 0 | W67: 0 | X67: 1 | Y67: 0 | Z67: 0 | AA67: 11 | AB67: 0 | AE67: =SUM(AC67:AD67) -> 0 | AH67: =+AF67+AG67 -> 0
A68: 4.9 | B68: ºñ»Ë³ÛÇ µÝ³ÏáõÃÛ³Ý í³ÛñÁ áñáß»Éáõ í»ñ³µ»ñÛ³É | E68: 12 | F68: 1 | G68: 11 | H68: 0 | I68: 0 | J68: 14 | K68: =+J68-L68-M68 -> 10 | L68: 4 | M68: 0 | N68: 4 | O68: 2 | P68: 1 | Q68: 0 | R68: 0 | S68: 1 | T68: 0 | U68: 1 | V68: 0 | W68: 0 | X68: 4 | Y68: 0 | Z68: 0 | AA68: 17 | AB68: 0 | AD68: 1 | AE68: =SUM(AC68:AD68) -> 1 | AH68: =+AF68+AG68 -> 0
A69: 4.10 | B69: ºñ»Ë³ÛÇ Ñ»ï ï»ë³ÏóáõÃÛ³Ý Ï³ñ· ë³ÑÙ³Ý»Éáõ í»ñ³µ»ñÛ³É | E69: 15 | F69: 0 | G69: 15 | H69: 0 | I69: 0 | J69: 5 | K69: =+J69-L69-M69 -> 4 | L69: 0 | M69: 1 | N69: 6 | O69: 0 | P69: 2 | Q69: 0 | R69: 0 | S69: 4 | T69: 2 | U69: 2 | V69: 0 | W69: 1 | X69: 7 | Y69: 0 | Z69: 0 | AA69: 12 | AB69: 0 | AC69: 2 | AD69: 1 | AE69: =SUM(AC69:AD69) -> 3 | AH69: =+AF69+AG69 -> 0
A70: 4.11 | B70: ²ÙáõëÇÝÝ»ñÇ ÁÝ¹Ñ³Ýáõñ ·áõÛùÁ µ³Å³Ý»Éáõ í»ñ³µ»ñÛ³É | E70: 1 | F70: 0 | G70: 1 | H70: 0 | I70: 0 | J70: 0 | K70: =+J70-L70-M70 -> 0 | L70: 0 | M70: 0 | N70: 1 | O70: 0 | P70: 0 | Q70: 0 | R70: 0 | S70: 1 | T70: 1 | U70: 0 | V70: 0 | W70: 0 | X70: 1 | Y70: 0 | Z70: 0 | AA70: 0 | AB70: 0 | AE70: =SUM(AC70:AD70) -> 0 | AH70: =+AF70+AG70 -> 0
A71: 4.12 | B71: ²ÙáõëÝ³Ï³Ý å³ÛÙ³Ý³·ñÇ ÷á÷áËÙ³Ý Ï³Ù ÉáõÍÙ³Ý í»ñ³µ»ñÛ³É | E71: 0 | F71: 0 | G71: 0 | H71: 0 | I71: 0 | J71: 0 | K71: =+J71-L71-M71 -> 0 | L71: 0 | M71: 0 | N71: 0 | O71: 0 | P71: 0 | Q71: 0 | R71: 0 | S71: 0 | T71: 0 | U71: 0 | V71: 0 | W71: 0 | X71: 0 | Y71: 0 | Z71: 0 | AA71: 0 | AB71: 0 | AE71: =SUM(AC71:AD71) -> 0 | AH71: =+AF71+AG71 -> 0
A72: 4.13 | B72: ²ÛÉ í»×»ñ | E72: 3 | F72: 1 | G72: 2 | H72: 0 | I72: 0 | J72: 2 | K72: =+J72-L72-M72-1 -> 1 | L72: 0 | M72: 0 | N72: 2 | O72: 1 | P72: 0 | Q72: 0 | R72: 0 | S72: 1 | T72: 1 | U72: 0 | V72: 0 | W72: 0 | X72: 2 | Y72: 0 | Z72: 0 | AA72: 2 | AB72: 0 | AE72: =SUM(AC72:AD72) -> 0 | AH72: =+AF72+AG72 -> 0
A73: 5. | B73: Øï³íáñ ë»÷³Ï³ÝáõÃÛ³Ý Ñ»ï Ï³åí³ÍÇñ³í³Ñ³ñ³µ»ñáõÃÛáõÝÝ»ñÇ í»ñ³µ»ñÛ³É ¹³ï³Ï³Ý ·áñÍ»ñ | E73: =SUM(E74:E79) -> 0 | F73: =SUM(F74:F79) -> 0 | G73: =SUM(G74:G79) -> 0 | H73: =SUM(H74:H79) -> 0 | I73: =SUM(I74:I79) -> 0 | J73: =SUM(J74:J79) -> 0 | K73: =SUM(K74:K79) -> 0 | L73: =SUM(L74:L79) -> 0 | ... AH73: =SUM(AH74:AH79) -> 0
A74: 5.1 | B74: ÈÇó»Ý½³ÛÇÝ å³ÛÙ³Ý³·ñÇ ÉáõÍÙ³Ý, ÷á÷áËÙ³Ý ¨ ³Ýí³í»ñáõÃÛ³Ý í»ñ³µ»ñÛ³É | E74: 0 | F74: 0 | G74: 0 | H74: 0 | I74: 0 | J74: 0 | K74: =+J74-L74-M74 -> 0 | L74: 0 | M74: 0 | N74: 0 | O74: 0 | P74: 0 | Q74: 0 | R74: 0 | S74: 0 | T74: 0 | U74: 0 | V74: 0 | W74: 0 | X74: 0 | Y74: 0 | Z74: 0 | AA74: 0 | AB74: 0 | AE74: =SUM(AC74:AD74) -> 0 | AH74: =+AF74+AG74 -> 0
A75: 5.2 | B75: Øï³íáñ ·áñÍáõÝ»áõÃÛ³Ý ³ñ¹ÛáõÝùÝ»ñ ëï»ÕÍ»Éáõ ¨ û·ï³·áñÍ»Éáõ å³ÛÙ³Ý³·ñÇ ÉáõÍÙ³Ý, ÷á÷áËÙ³Ý áõ ³Ýí³í»ñáõÃÛ³Ý í»ñ³µ»ñÛ³É | E75: 0 | F75: 0 | G75: 0 | H75: 0 | I75: 0 | J75: 0 | K75: =+J75-L75-M75 -> 0 | L75: 0 | M75: 0 | N75: 0 | O75: 0 | P75: 0 | Q75: 0 | R75: 0 | S75: 0 | T75: 0 | U75: 0 | V75: 0 | W75: 0 | X75: 0 | Y75: 0 | Z75: 0 | AA75: 0 | AB75: 0 | AE75: =SUM(AC75:AD75) -> 0 | AH75: =+AF75+AG75 -> 0
A76: 5.3 | B76: Ð»ÕÇÝ³Ï³ÛÇÝ ¨ Ñ³ñ³ÏÇó Çñ³íáõÝùÝ»ñÇ í»ñ³µ»ñÛ³É | E76: 0 | F76: 0 | G76: 0 | H76: 0 | I76: 0 | J76: 0 | K76: =+J76-L76-M76 -> 0 | L76: 0 | M76: 0 | N76: 0 | O76: 0 | P76: 0 | Q76: 0 | R76: 0 | S76: 0 | T76: 0 | U76: 0 | V76: 0 | W76: 0 | X76: 0 | Y76: 0 | Z76: 0 | AA76: 0 | AB76: 0 | AE76: =SUM(AC76:AD76) -> 0 | AH76: =+AF76+AG76 -> 0
A77: 5.4 | B77: üÇñÙ³ÛÇÝ ³Ýí³ÝÙ³Ý í»ñ³µ»ñÛ³É | E77: 0 | F77: 0 | G77: 0 | H77: 0 | I77: 0 | J77: 0 | K77: =+J77-L77-M77 -> 0 | L77: 0 | M77: 0 | N77: 0 | O77: 0 | P77: 0 | Q77: 0 | R77: 0 | S77: 0 | T77: 0 | U77: 0 | V77: 0 | W77: 0 | X77: 0 | Y77: 0 | Z77: 0 | AA77: 0 | AB77: 0 | AE77: =SUM(AC77:AD77) -> 0 | AH77: =+AF77+AG77 -> 0
A78: 5.5 | B78: ²åñ³Ýù³ÛÇÝ Ýß³ÝÇ í»ñ³µ»ñÛ³É | E78: 0 | F78: 0 | G78: 0 | H78: 0 | I78: 0 | J78: 0 | K78: =+J78-L78-M78 -> 0 | L78: 0 | M78: 0 | N78: 0 | O78: 0 | P78: 0 | Q78: 0 | R78: 0 | S78: 0 | T78: 0 | U78: 0 | V78: 0 | W78: 0 | X78: 0 | Y78: 0 | Z78: 0 | AA78: 0 | AB78: 0 | AE78: =SUM(AC78:AD78) -> 0 | AH78: =+AF78+AG78 -> 0
A79: 5.6 | B79: ²ÛÉ í»×»ñ | E79: 0 | F79: 0 | G79: 0 | H79: 0 | I79: 0 | J79: 0 | K79: =+J79-L79-M79 -> 0 | L79: 0 | M79: 0 | N79: 0 | O79: 0 | P79: 0 | Q79: 0 | R79: 0 | S79: 0 | T79: 0 | U79: 0 | V79: 0 | W79: 0 | X79: 0 | Y79: 0 | Z79: 0 | AA79: 0 | AB79: 0 | AE79: =SUM(AC79:AD79) -> 0 | AH79: =+AF79+AG79 -> 0
A80: 6. | B80: ²ßË³ï³Ýù³ÛÇÝ Çñ³í³Ñ³ñ³µ»ñáõÃÛáõÝÝ»ñÇ í»ñ³µ»ñÛ³É ¹³ï³Ï³Ý ·áñÍ»ñ | E80: =SUM(E81:E86) -> 17 | F80: =SUM(F81:F86) -> 1 | G80: =SUM(G81:G86) -> 16 | H80: =SUM(H81:H86) -> 0 | I80: =SUM(I81:I86) -> 0 | J80: =SUM(J81:J86) -> 22 | K80: =SUM(K81:K86) -> 17 | L80: =SUM(L81:L86) -> 3 | ... AH80: =SUM(AH81:AH86) -> 0
A81: 6.1 | B81: ²ßË³ï³Ýù³ÛÇÝ å³ÛÙ³Ý³·ñ»ñÇ í»ñ³µ»ñÛ³É | E81: 2 | F81: 0 | G81: 2 | H81: 0 | I81: 0 | J81: 2 | K81: =+J81-L81-M81 -> 2 | L81: 0 | M81: 0 | N81: 0 | O81: 0 | P81: 0 | Q81: 0 | R81: 0 | S81: 0 | T81: 0 | U81: 0 | V81: 0 | W81: 0 | X81: 0 | Y81: 0 | Z81: 0 | AA81: 4 | AB81: 0 | AE81: =SUM(AC81:AD81) -> 0 | AH81: =+AF81+AG81 -> 0
A82: 6.2 | B82: ²ßË³ï³ÝùáõÙ í»ñ³Ï³Ý·Ý»Éáõ í»ñ³µ»ñÛ³É | E82: 2 | F82: 0 | G82: 2 | H82: 0 | I82: 0 | J82: 0 | K82: =+J82-L82-M82 -> 0 | L82: 0 | M82: 0 | N82: 1 | O82: 0 | P82: 0 | Q82: 1 | R82: 0 | S82: 0 | T82: 0 | U82: 0 | V82: 0 | W82: 0 | X82: 1 | Y82: 0 | Z82: 0 | AA82: 1 | AB82: 0 | AC82: 1 | AE82: =SUM(AC82:AD82) -> 1 | AH82: =+AF82+AG82 -> 0
A83: 6.3 | B83: ¶áñÍ³¹áõÉÝ ³ÝûñÇÝ³Ï³Ý ×³Ý³ã»Éáõ í»ñ³µ»ñÛ³É | E83: 0 | F83: 0 | G83: 0 | H83: 0 | I83: 0 | J83: 0 | K83: =+J83-L83-M83 -> 0 | L83: 0 | M83: 0 | N83: 0 | O83: 0 | P83: 0 | Q83: 0 | R83: 0 | S83: 0 | T83: 0 | U83: 0 | V83: 0 | W83: 0 | X83: 0 | Y83: 0 | Z83: 0 | AA83: 0 | AB83: 0 | AE83: =SUM(AC83:AD83) -> 0 | AH83: =+AF83+AG83 -> 0
A84: 6.4 | B84: Ð³ñÏ³¹Çñ å³ñ³åáõñ¹Ç Ñ³ïáõóÙ³Ý í»ñ³µ»ñÛ³É | E84: 1 | F84: 0 | G84: 1 | H84: 0 | I84: 0 | J84: 0 | K84: =+J84-L84-M84 -> 0 | L84: 0 | M84: 0 | N84: 0 | O84: 0 | P84: 0 | Q84: 0 | R84: 0 | S84: 0 | T84: 0 | U84: 0 | V84: 0 | W84: 0 | X84: 0 | Y84: 0 | Z84: 0 | AA84: 1 | AB84: 0 | AE84: =SUM(AC84:AD84) -> 0 | AH84: =+AF84+AG84 -> 0
A85: 6.5 | B85: âí×³ñí³Í ³ßË³ï³í³ñÓÇ ¨/Ï³Ù ³ÛÉ í×³ñÝ»ñÇ µéÝ³·³ÝÓÙ³Ý í»ñ³µ»ñÛ³É | E85: 4 | F85: 1 | G85: 3 | H85: 0 | I85: 0 | J85: 4 | K85: =+J85-L85-M85 -> 4 | L85: 0 | M85: 0 | N85: 1 | O85: 0 | P85: 0 | Q85: 0 | R85: 0 | S85: 1 | T85: 0 | U85: 1 | V85: 0 | W85: 0 | X85: 1 | Y85: 0 | Z85: 0 | AA85: 7 | AB85: 0 | AE85: =SUM(AC85:AD85) -> 0 | AH85: =+AF85+AG85 -> 0
A86: 6.6 | B86: ²ÛÉ í»×»ñ | E86: 8 | F86: 0 | G86: 8 | H86: 0 | I86: 0 | J86: 16 | K86: =+J86-L86-M86-2 -> 11 | L86: 3 | M86: 0 | N86: 4 | O86: 1 | P86: 2 | Q86: 0 | R86: 0 | S86: 1 | T86: 0 | U86: 1 | V86: 0 | W86: 0 | X86: 4 | Y86: 0 | Z86: 0 | AA86: 15 | AB86: 0 | AC86: 1 | AE86: =SUM(AC86:AD86) -> 1 | AH86: =+AF86+AG86 -> 0
A87: 7. | B87: Æñ³í³µ³Ý³Ï³Ý ³ÝÓÇ ·áñÍáõÝ»áõÃÛáõÝÇó µËáÕ Çñ³í³Ñ³ñ³µ»ñáõÃÛáõÝÝ»ñÇ í»ñ³µ»ñÛ³É ¹³ï³Ï³Ý ·áñÍ»ñ | E87: =SUM(E88:E89) -> 4 | F87: =SUM(F88:F89) -> 1 | G87: =SUM(G88:G89) -> 3 | H87: =SUM(H88:H89) -> 0 | I87: =SUM(I88:I89) -> 0 | J87: =SUM(J88:J89) -> 0 | K87: =SUM(K88:K89) -> 0 | L87: =SUM(L88:L89) -> 0 | ... AH87: =SUM(AH88:AH89) -> 0
A88: 7.1 | B88: Îáñåáñ³ïÇí í»×»ñ | E88: 3 | F88: 1 | G88: 2 | H88: 0 | I88: 0 | J88: 0 | K88: =+J88-L88-M88 -> 0 | L88: 0 | N88: 2 | O88: 0 | P88: 0 | Q88: 1 | R88: 0 | S88: 1 | T88: 0 | U88: 1 | V88: 0 | W88: 0 | X88: 2 | Y88: 0 | Z88: 0 | AA88: 1 | AB88: 0 | AC88: 1 | AE88: =SUM(AC88:AD88) -> 1 | AH88: =+AF88+AG88 -> 0
A89: 7.2 | B89: ²ÛÉ í»×»ñ | E89: 1 | F89: 0 | G89: 1 | H89: 0 | I89: 0 | J89: 0 | K89: =+J89-L89-M89 -> 0 | L89: 0 | N89: 0 | O89: 0 | P89: 0 | Q89: 0 | R89: 0 | S89: 0 | T89: 0 | U89: 0 | V89: 0 | W89: 0 | X89: 0 | Y89: 0 | Z89: 0 | AA89: 1 | AB89: 0 | AE89: =SUM(AC89:AD89) -> 0 | AH89: =+AF89+AG89 -> 0
A90: 8. | B90: Ð³ïáõÏ í³ñáõÛÃÇ ¹³ï³Ï³Ý ·áñÍ»ñ | E90: =SUM(E91:E111) -> 90 | F90: =SUM(F91:F111) -> 7 | G90: =SUM(G91:G111) -> 82 | H90: =SUM(H91:H111) -> 1 | I90: =SUM(I91:I111) -> 0 | J90: =SUM(J91:J111) -> 159 | K90: =SUM(K91:K111) -> 110 | L90: =SUM(L91:L111) -> 33 | ... AH90: =SUM(AH91:AH111) -> 2
A91: 8.1 | B91: ²Ýã³÷³Ñ³ëÇÝ ÉñÇí ·áñÍáõÝ³Ï ×³Ý³ã»Éáõ /¿Ù³ÝëÇå³óÇ³/ í»ñ³µ»ñÛ³É | E91: 0 | F91: 0 | G91: 0 | H91: 0 | I91: 0 | J91: 0 | K91: =+J91-L91-M91 -> 0 | L91: 0 | M91: 0 | N91: 0 | O91: 0 | P91: 0 | Q91: 0 | R91: 0 | S91: 0 | T91: 0 | U91: 0 | V91: 0 | W91: 0 | X91: 0 | Y91: 0 | Z91: 0 | AA91: 0 | AB91: 0 | AE91: =SUM(AC91:AD91) -> 0 | AH91: =+AF91+AG91 -> 0
A92: 8.2 | B92: ø³Õ³ù³óáõÝ ³Ý·áñÍáõÝ³Ï Ï³Ù ë³ÑÙ³Ý³÷³Ï ·áñÍáõÝ³Ï ×³Ý³ã»Éáõ í»ñ³µ»ñÛ³É | E92: 10 | F92: 5 | G92: 5 | H92: 0 | I92: 0 | J92: 35 | K92: =+J92-L92-M92-6 -> 21 | L92: 8 | M92: 0 | N92: 6 | O92: 5 | P92: 0 | Q92: 0 | R92: 0 | S92: 1 | T92: 0 | U92: 1 | V92: 0 | W92: 0 | X92: 6 | Y92: 0 | Z92: 11 | AA92: 25 | AB92: 11 | AE92: =SUM(AC92:AD92) -> 0 | AH92: =+AF92+AG92 -> 0
A93: 8.3 | B93: ø³Õ³ù³óáõÝ Ñá·»µáõÅ³Ï³Ý ÑÇí³Ý¹³Ýáó³ÛÇÝ Ñ³ñÏ³¹Çñ µáõÅÙ³Ý »ÝÃ³ñÏ»Éáõ í»ñ³µ»ñÛ³É | E93: 0 | F93: 0 | G93: 0 | H93: 0 | I93: 0 | J93: 0 | K93: =+J93-L93-M93 -> 0 | L93: 0 | M93: 0 | N93: 0 | O93: 0 | P93: 0 | Q93: 0 | R93: 0 | S93: 0 | T93: 0 | U93: 0 | V93: 0 | W93: 0 | X93: 0 | Y93: 0 | Z93: 0 | AA93: 0 | AB93: 0 | AE93: =SUM(AC93:AD93) -> 0 | AH93: =+AF93+AG93 -> 0
A94: 8.4 | B94: ø³Õ³ù³óáõÝ ³ÝÑ³Ûï µ³ó³Ï³ÛáÕ Ï³Ù Ù³Ñ³ó³Í ×³Ý³ã»Éáõ í»ñ³µ»ñÛ³É | E94: 5 | F94: 0 | G94: 5 | H94: 0 | I94: 0 | J94: 12 | K94: =+J94-L94-M94-1 -> 8 | L94: 3 | M94: 0 | N94: 4 | O94: 1 | P94: 0 | Q94: 1 | R94: 0 | S94: 2 | T94: 0 | U94: 2 | V94: 0 | W94: 0 | X94: 4 | Y94: 0 | Z94: 0 | AA94: 9 | AB94: 0 | AE94: =SUM(AC94:AD94) -> 0 | AH94: =+AF94+AG94 -> 0
A95: 8.5 | B95: ø³Õ³ù³óÇ³Ï³Ý Ï³óáõÃÛ³Ý ³Ïï»ñÇ ·ñ³éáõÙÝ»ñÇ ³Ý×ßïáõÃÛáõÝÝ»ñÁ å³ñ½»Éáõ í»ñ³µ»ñÛ³É | E95: 0 | F95: 0 | G95: 0 | H95: 0 | I95: 0 | J95: 0 | K95: =+J95-L95-M95 -> 0 | L95: 0 | M95: 0 | N95: 0 | O95: 0 | P95: 0 | Q95: 0 | R95: 0 | S95: 0 | T95: 0 | U95: 0 | V95: 0 | W95: 0 | X95: 0 | Y95: 0 | Z95: 0 | AA95: 0 | AB95: 0 | AE95: =SUM(AC95:AD95) -> 0 | AH95: =+AF95+AG95 -> 0
A96: 8.6 | B96: ¶áõÛùÁ ïÇñ³½áõñÏ ×³Ý³ã»Éáõ í»ñ³µ»ñÛ³É | E96: 1 | F96: 0 | G96: 1 | H96: 0 | I96: 0 | J96: 1 | K96: =+J96-L96-M96 -> 0 | L96: 1 | M96: 0 | N96: 0 | O96: 0 | P96: 0 | Q96: 0 | R96: 0 | S96: 0 | T96: 0 | U96: 0 | V96: 0 | W96: 0 | X96: 0 | Y96: 0 | Z96: 0 | AA96: 1 | AB96: 0 | AE96: =SUM(AC96:AD96) -> 0 | AH96: =+AF96+AG96 -> 0
A97: 8.6.1 | B97: ²Û¹ ÃíáõÙª ³Ýß³ñÅ ·áõÛùÁ | E97: 0 | F97: 0 | G97: 0 | H97: 0 | I97: 0 | J97: 3 | K97: =+J97-L97-M97 -> 1 | L97: 1 | M97: 1 | N97: 1 | O97: 1 | P97: 0 | Q97: 0 | R97: 0 | S97: 0 | T97: 0 | U97: 0 | V97: 0 | W97: 0 | X97: 1 | Y97: 0 | Z97: 0 | AA97: 0 | AB97: 0 | AE97: =SUM(AC97:AD97) -> 0 | AH97: =+AF97+AG97 -> 0
A98: 8.6.2 | B98: ²Û¹ ÃíáõÙª ß³ñÅ³Ï³Ý ·áõÛùÁ | E98: 4 | F98: 1 | G98: 3 | H98: 0 | I98: 0 | J98: 2 | K98: =+J98-L98-M98 -> 2 | L98: 0 | M98: 0 | N98: 4 | O98: 4 | P98: 0 | Q98: 0 | R98: 0 | S98: 0 | T98: 0 | U98: 0 | V98: 0 | W98: 0 | X98: 4 | Y98: 0 | Z98: 0 | AA98: 2 | AB98: 1 | AE98: =SUM(AC98:AD98) -> 0 | AH98: =+AF98+AG98 -> 0
A99: 8.7 | B99: Æñ³í³µ³Ý³Ï³Ý Ýß³Ý³ÏáõÃÛáõÝ áõÝ»óáÕ ÷³ëï»ñÇ Ñ³ëï³ïÙ³Ý í»ñ³µ»ñÛ³É | E99: 0 | F99: 0 | G99: 0 | H99: 0 | I99: 0 | J99: 0 | K99: =+J99-L99-M99 -> 0 | L99: 0 | M99: 0 | N99: 0 | O99: 0 | P99: 0 | Q99: 0 | R99: 0 | S99: 0 | T99: 0 | U99: 0 | V99: 0 | W99: 0 | X99: 0 | Y99: 0 | Z99: 0 | AA99: 0 | AB99: 0 | AE99: =SUM(AC99:AD99) -> 0 | AH99: =+AF99+AG99 -> 0
A100: 8.7.1 | B100: ²ÝÓ³Ýó ³½·³Ïó³Ï³Ý Ï³åÁ Ñ³ëï³ï»Éáõ í»ñ³µ»ñÛ³É | E100: 6 | F100: 0 | G100: 6 | H100: 0 | I100: 0 | J100: 15 | K100: =+J100-L100-M100 -> 12 | L100: 3 | M100: 0 | N100: 9 | O100: 7 | P100: 0 | Q100: 1 | R100: 0 | S100: 1 | T100: 0 | U100: 1 | V100: 0 | W100: 0 | X100: 9 | Y100: 0 | Z100: 0 | AA100: 9 | AB100: 0 | AC100: 1 | AD100: 1 | AE100: =SUM(AC100:AD100) -> 2 | AG100: 1 | AH100: =+AF100+AG100 -> 1
A101: 8.7.2 | B101: ²ÝÓÇª áõñÇßÇ ËÝ³ÙùÇ ï³Ï ·ïÝí»Éáõ í»ñ³µ»ñÛ³É | E101: 0 | F101: 0 | G101: 0 | H101: 0 | I101: 0 | J101: 0 | K101: =+J101-L101-M101 -> 0 | L101: 0 | M101: 0 | N101: 0 | O101: 0 | P101: 0 | Q101: 0 | R101: 0 | S101: 0 | T101: 0 | U101: 0 | V101: 0 | W101: 0 | X101: 0 | Y101: 0 | Z101: 0 | AA101: 0 | AB101: 0 | AE101: =SUM(AC101:AD101) -> 0 | AH101: =+AF101+AG101 -> 0
A102: 8.7.3 | B102: ÌÝÝ¹Û³Ý, áñ¹»·ñÙ³Ý, ³ÙáõëÝáõÃÛ³Ý, ³å³Ñ³ñ½³ÝÇ ¨ Ù³Ñí³Ý ·ñ³ÝóÙ³Ý í»ñ³µ»ñÛ³É | E102: 9 | F102: 0 | G102: 9 | H102: 0 | I102: 0 | J102: 11 | K102: =+J102-L102-M102 -> 9 | L102: 2 | M102: 0 | N102: 12 | O102: 10 | P102: 1 | Q102: 1 | R102: 0 | S102: 0 | T102: 0 | U102: 0 | V102: 0 | W102: 0 | X102: 12 | Y102: 0 | Z102: 0 | AA102: 6 | AB102: 0 | AE102: =SUM(AC102:AD102) -> 0 | AH102: =+AF102+AG102 -> 0
A103: 8.7.4 | B103: ²ÝÓÇª áñáß³ÏÇ Å³Ù³Ý³ÏáõÙ ¨ áñáß³ÏÇ Ñ³Ý·³Ù³ÝùÝ»ñáõÙ Ù³Ñí³Ý í»ñ³µ»ñÛ³É | E103: 2 | F103: 0 | G103: 2 | H103: 0 | I103: 0 | J103: 7 | K103: =+J103-L103-M103 -> 7 | L103: 0 | M103: 0 | N103: 7 | O103: 7 | P103: 0 | Q103: 0 | R103: 0 | S103: 0 | T103: 0 | U103: 0 | V103: 0 | W103: 0 | X103: 7 | Y103: 0 | Z103: 0 | AA103: 2 | AB103: 0 | AE103: =SUM(AC103:AD103) -> 0 | AH103: =+AF103+AG103 -> 0
A104: 8.7.5 | B104: Ä³é³Ý·áõÃÛáõÝÝ ÁÝ¹áõÝ»Éáõ ¨ Å³é³Ý·áõÃÛ³Ý µ³óÙ³Ý í³ÛñÇ í»ñ³µ»ñÛ³É | E104: 7 | F104: 0 | G104: 7 | H104: 0 | I104: 0 | J104: 11 | K104: =+J104-L104-M104 -> 10 | L104: 1 | M104: 0 | N104: 10 | O104: 10 | P104: 0 | Q104: 0 | R104: 0 | S104: 0 | T104: 0 | U104: 0 | V104: 0 | W104: 0 | X104: 10 | Y104: 0 | Z104: 0 | AA104: 7 | AB104: 0 | AE104: =SUM(AC104:AD104) -> 0 | AH104: =+AF104+AG104 -> 0
A105: 8.7.6 | B105: ¸Åµ³Ëï å³ï³Ñ³ñÇ í»ñ³µ»ñÛ³É | E105: 0 | F105: 0 | G105: 0 | H105: 0 | I105: 0 | J105: 0 | K105: =+J105-L105-M105 -> 0 | L105: 0 | M105: 0 | N105: 0 | O105: 0 | P105: 0 | Q105: 0 | R105: 0 | S105: 0 | T105: 0 | U105: 0 | V105: 0 | W105: 0 | X105: 0 | Y105: 0 | Z105: 0 | AA105: 0 | AB105: 0 | AE105: =SUM(AC105:AD105) -> 0 | AH105: =+AF105+AG105 -> 0
A106: 8.7.7 | B106: Æñ³íáõÝù ë³ÑÙ³ÝáÕ ÷³ëï³ÃÕÃ»ñÇ å³ïÏ³Ý»ÉáõÃÛ³Ý í»ñ³µ»ñÛ³É | E106: 36 | F106: 0 | G106: 35 | H106: 1 | I106: 0 | J106: 41 | K106: =+J106-L106-M106-4 -> 24 | L106: 11 | M106: 2 | N106: 31 | O106: 19 | P106: =8+1 -> 9 | Q106: 0 | R106: 0 | S106: 3 | T106: 0 | U106: 2 | V106: 1 | W106: 2 | X106: 33 | Y106: 0 | Z106: 0 | AA106: 26 | AB106: 0 | AD106: 2 | AE106: =SUM(AC106:AD106) -> 2 | AG106: 1 | AH106: =+AF106+AG106 -> 1
A107: 8.7.8 | B107: ê»÷³Ï³ÝáõÃÛ³Ý Çñ³íáõÝùáí ·áõÛùÇ ïÇñ³å»ïÙ³Ý í»ñ³µ»ñÛ³É | E107: 2 | F107: 0 | G107: 2 | H107: 0 | I107: 0 | J107: 0 | K107: =+J107-L107-M107 -> 0 | L107: 0 | M107: 0 | N107: 2 | O107: 2 | P107: 0 | Q107: 0 | R107: 0 | S107: 0 | T107: 0 | U107: 0 | V107: 0 | W107: 0 | X107: 2 | Y107: 0 | Z107: 0 | AA107: 0 | AB107: 0 | AE107: =SUM(AC107:AD107) -> 0 | AH107: =+AF107+AG107 -> 0
A108: 8.7.9 | B108: ²ÝÑ³ÕÃ³Ñ³ñ»ÉÇ áõÅÇ ³éÏ³ÛáõÃÛ³Ý í»ñ³µ»ñÛ³É | E108: 0 | F108: 0 | G108: 0 | H108: 0 | I108: 0 | J108: 0 | K108: =+J108-L108-M108 -> 0 | L108: 0 | M108: 0 | N108: 0 | O108: 0 | P108: 0 | Q108: 0 | R108: 0 | S108: 0 | T108: 0 | U108: 0 | V108: 0 | W108: 0 | X108: 0 | Y108: 0 | Z108: 0 | AA108: 0 | AB108: 0 | AE108: =SUM(AC108:AD108) -> 0 | AH108: =+AF108+AG108 -> 0
A109: 8.7.10 | B109: úñ»Ýùáí Ý³Ë³ï»ëí³Í ³ÛÉ Çñ³í³µ³Ý³Ï³Ý ÷³ëï»ñÇ í»ñ³µ»ñÛ³É | E109: 8 | F109: 1 | G109: 7 | H109: 0 | I109: 0 | J109: 18 | K109: =+J109-L109-M109 -> 13 | L109: 3 | M109: 2 | N109: 11 | O109: 8 | P109: 2 | Q109: 1 | R109: 0 | S109: 0 | T109: 0 | U109: 0 | V109: 0 | W109: 1 | X109: 12 | Y109: 0 | Z109: 0 | AA109: 9 | AB109: 0 | AC109: 2 | AD109: 1 | AE109: =SUM(AC109:AD109) -> 3 | AH109: =+AF109+AG109 -> 0
A110: 8.8 | B110: Àëï Ý»ñÏ³Û³óÝáÕÇ ¨ ûñ¹»ñ³ÛÇÝ Ïáñóñ³Í ³ñÅ»ÃÕÃ»ñáí Ñ³í³ëïí³Í Çñ³íáõÝùÝ»ñÁ í»ñ³Ï³Ý·Ý»Éáõ í»ñ³µ»ñÛ³É | E110: 0 | F110: 0 | G110: 0 | H110: 0 | I110: 0 | J110: 0 | K110: =+J110-L110-M110 -> 0 | L110: 0 | M110: 0 | N110: 0 | O110: 0 | P110: 0 | Q110: 0 | R110: 0 | S110: 0 | T110: 0 | U110: 0 | V110: 0 | W110: 0 | X110: 0 | Y110: 0 | Z110: 0 | AA110: 0 | AB110: 0 | AE110: =SUM(AC110:AD110) -> 0 | AH110: =+AF110+AG110 -> 0
A111: 8.10 | B111: ²ÛÉ í»×»ñ | E111: 0 | F111: 0 | G111: 0 | H111: 0 | I111: 0 | J111: 3 | K111: =+J111-L111-M111 -> 3 | L111: 0 | M111: 0 | N111: 3 | O111: 3 | P111: 0 | Q111: 0 | R111: 0 | S111: 0 | T111: 0 | U111: 0 | V111: 0 | W111: 0 | X111: 3 | Y111: 0 | Z111: 0 | AA111: 0 | AB111: 0 | AE111: =SUM(AC111:AD111) -> 0 | AH111: =+AF111+AG111 -> 0
...

Sheet Շիրակ
A1: 2019թ. 1-ին կիսամյակ | E1: Ð²ÞìºîìàôÂÚàôÜ
A2: ÐÐ ÞÆð²ÎÆ Ø²ð¼Æ ²è²æÆÜ ²îÚ²ÜÆ ÀÜ¸Ð²Üàôð Æð²ì²êàôÂÚ²Ü ¸²î²ð²ÜàôØ ø²Ô²ø²òÆ²Î²Ü ¶àðÌºðÆ øÜÜàôÂÚ²Ü ìºð²´ºðÚ²È
A3: ÐÐ ÞÇñ³ÏÇ Ù³ñ½Ç ³é³çÇÝ ³ïÛ³ÝÇ ÁÝ¹Ñ³Ýáõñ Çñ³í³ëáõÃÛ³Ý ¹³ï³ñ³ÝáõÙ ù³Õ³ù³óÇ³Ï³Ý Ù³ëÝ³·Çï³óáõÙ áõÝ»óáÕ ¹³ï³íáñÝ»ñÇ Ñ³ëïÇùÝ»ñÇ ù³Ý³ÏÁ` 8
A4: êïáõ·Çã Ñ³í³ë³ñáõÙÝ»ñª 1=2+3+4+5, 6=7+8+9, 2+3+7=20+21+23, 10=11+12+13+14+15, 15=16+17+18, 20=10+19, 27=25+26, 30=28+29 | E4: Ð³ßí»ïáõ Å³Ù³Ý³Ï³Ñ³ïí³ÍáõÙ Ý³Ëáñ¹ Ñ³ßí»ïáõ Å³Ù³Ý³Ï³Ñ³ïí³ÍÇó ÷áË³Ýóí³Í ·áñÍ»ñÇ ÁÝ¹Ñ³Ýáõñ ÃÇíÁ | J4: Ð³ßí»ïáõ Å³Ù³Ý³Ï³Ñ³ïí³ÍáõÙëï³óí³Í ·áñÍ»ñÇ (³Û¹ ÃíáõÙ` Ñ³Ûó³¹ÇÙáõÙÝ»ñÇ, ¹ÇÙáõÙÝ»ñÇ) ÁÝ¹Ñ³Ýáõñ ÃÇíÁ | N4: Ð³ßí»ïáõ Å³Ù³Ý³Ï³Ñ³ïí³ÍáõÙ ³í³ñïí³Í ·áñÍ»ñÇ ÁÝ¹Ñ³Ýáõñ ÃÇíÁ | Y4: ¶áñÍÝ áõÕ³ñÏí»É ¿ Áëï ÁÝ¹¹³ïáõÃÛ³Ý | Z4: Ð³ßí»ïáõ Å³Ù³Ý³Ï³Ñ³ïí³ÍáõÙ Ï³ë»óí³Í í³ñáõÛÃÝ»ñáí ·áñÍ»ñÇ ÁÝ¹Ñ³Ýáõñ ÃÇíÁ | AA4: Ð³ßí»ïáõ Å³Ù³Ý³Ï³Ñ³ïí³ÍáõÙ ³Ý³í³ñï ·áñÍ»ñÇ ÁÝ¹Ñ³Ýáõñ ÃÇíÁ | AB4: ²Û¹ ÃíáõÙª Ï³ë»óí³Í | AC4: ´áÕáù³ñÏí³Í ¹³ï³Ï³Ý ³Ïï»ñÇ ÃÇíÁ` Áëï ï»ë³ÏÝ»ñÇ | AF4: ´»Ï³Ýí³Í ¹³ï³Ï³Ý ³Ïï»ñÇ ÃÇíÁ` Áëï ï»ë³ÏÝ»ñÇ
E7: ÀÝ¹³Ù»ÝÁ | F7: ²Û¹ ÃíáõÙ`Ï³ë»óí³Í íÇ×³ÏáõÙ ÷áË³Ýóí³Í | G7: ²Û¹ ÃíáõÙª ÁÝ¹áõÝí»É ¿ í³ñáõÛÃ | H7: ²Û¹ ÃíáõÙª í»ñ³¹³ñÓí»É ¿ | I7: ²Û¹ ÃíáõÙª ÁÝ¹áõÝáõÙÁ Ù»ñÅí»É ¿ | J7: ÀÝ¹³Ù»ÝÁ | K7: ²Û¹ ÃíáõÙª ÁÝ¹áõÝí»É ¿ í³ñáõÛÃ | L7: ²Û¹ ÃíáõÙª í»ñ³¹³ñÓí»É ¿ | M7: ²Û¹ ÃíáõÙª ÁÝ¹áõÝáõÙÁ Ù»ñÅí»É ¿ | N7: ÀÝ¹³Ù»ÝÁ ³í³ñïí»É »Ý ·áñÍ»ñ ·áñÍÝ Áëï ¿áõÃÛ³Ý ÉáõÍáÕ ¹³ï³Ï³Ý ³Ïï»ñÇ (í×ÇéÝ»ñÇ) Ï³Û³óÙ³Ùµ | P7: ²Û¹ ÃíáõÙª Ñ³ÛóÇ Ù³ëÝ³ÏÇ µ³í³ñ³ñÙ³Ùµ | Q7: ²Û¹ ÃíáõÙª Ñ³ÛóÇ Ù»ñÅÙ³Ùµ | R7: Ø³ëáí Ï³ñ×í»É ¿, Ù³ëáí Ù»ñÅí»É | S7: ²Û¹ ÃíáõÙª Ï³ñ×í»É »Ý | W7: Ð³ÛóÁ ÃáÕÝí»É ¿ ³é³Ýó ùÝÝáõÃÛ³Ý | X7: ÀÝ¹³Ù»ÝÝ ³í³ñïí»É »Ý ·áñÍ»ñ | AC7: ²Û¹ ÃíáõÙ` ·áñÍÝ Áëï ¿áõÃÛ³Ý ÉáõÍáÕ ¹³ï³Ï³Ý ³Ïï»ñ | AD7: ²Û¹ ÃíáõÙ` ÙÇç³ÝÏÛ³É ¹³ï³Ï³Ý ³Ïï»ñ | AE7: ÀÝ¹³Ù»ÝÁ | AF7: ²Û¹ ÃíáõÙ` ·áñÍÝ Áëï ¿áõÃÛ³Ý ÉáõÍáÕ ¹³ï³Ï³Ý ³Ïï»ñ | AG7: ²Û¹ ÃíáõÙ` ÙÇç³ÝÏÛ³É ¹³ï³Ï³Ý ³Ïï»ñ | AH7: ÀÝ¹³Ù»ÝÁ
S10: ÀÝ¹³Ù»ÝÁ Ï³ñ×í»É »Ý | T10: ²Û¹ ÃíáõÙª Ñ³ëï³ïí»É ¿ ÏÝùí³Í Ñ³ßïáõÃÛ³Ý Ñ³Ù³Ó³ÛÝáõÃÛáõÝÁ | U10: ²Û¹ ÃíáõÙª Ñ³óÇó, ¹ÇÙáõÙÇó Ññ³Å³ñí»Éáõ ÑÇÙùáí | V10: ²Û¹ ÃíáõÙª ³ÛÉ ÑÇÙùáí
A18: ø³Õ³ù³óÇ³Ï³Ý ·áñÍ»ñÇ ¹³ë³Ï³ñ·áõÙÁ | E18: 1 | F18: 2 | G18: 3 | H18: 4 | I18: 5 | J18: 6 | K18: 7 | L18: 8 | M18: 9 | N18: 10 | O18: 11 | P18: 12 | Q18: 13 | R18: 14 | S18: 15 | T18: 16 | U18: 17 | V18: 18 | W18: 19 | X18: 20 | Y18: 21 | Z18: 22 | AA18: 23 | AB18: 24 | AC18: 25 | AD18: 26 | AE18: 27 | AF18: 28 | AG18: 29 | AH18: 30
A19: 1. | B19: ¶áõÛù³ÛÇÝ Çñ³í³Ñ³ñ³µ»ñáõÃÛáõÝÝ»ñÇ í»ñ³µ»ñÛ³É ¹³ï³Ï³Ý ·áñÍ»ñ | E19: =SUM(E20:E38) -> 305 | F19: =SUM(F20:F38) -> 126 | G19: =SUM(G20:G38) -> 179 | H19: =SUM(H20:H38) -> 0 | I19: =SUM(I20:I38) -> 0 | J19: =SUM(J20:J38) -> 164 | K19: =SUM(K20:K38) -> 115 | L19: =SUM(L20:L38) -> 35 | ... AH19: =SUM(AH20:AH38) -> 0
A20: 1.1 | B20: ¶áõÛùÇ ÝÏ³ïÙ³Ùµ ë»÷³Ï³ÝáõÃÛ³Ý Çñ³íáõÝùÁ ×³Ý³ã»Éáõ í»ñ³µ»ñÛ³É | E20: =+F20+G20+H20+I20 -> 17 | F20: 2 | G20: 15 | J20: =+K20+L20+M20 -> 13 | K20: 7 | L20: 3 | M20: 3 | N20: =+O20+P20+Q20+R20+S20 -> 5 | O20: 4 | P20: 0 | Q20: 1 | R20: 0 | S20: =+T20+U20+V20 -> 0 | T20: 0 | U20: 0 | V20: 0 | X20: =+N20+W20 -> 5 | Y20: 1 | Z20: 1 | AA20: 18 | AB20: 2 | AD20: 0 | AE20: =+AC20+AD20 -> 0 | AF20: 0 | AH20: =+AF20+AG20 -> 0
A21: 1.1.1 | B21: ²Û¹ ÃíáõÙª Ó»éùµ»ñÙ³Ý í³Õ»ÙáõÃÛ³Ý áõÅáí | E21: =+F21+G21+H21+I21 -> 18 | F21: 0 | G21: 18 | J21: 16 | K21: 11 | L21: 2 | M21: 2 | N21: =+O21+P21+Q21+R21+S21 -> 10 | O21: 8 | P21: 1 | Q21: 1 | R21: 0 | S21: 0 | T21: 0 | U21: 0 | V21: 0 | W21: 0 | X21: =+N21+W21 -> 10 | Y21: 0 | Z21: 0 | AA21: 19 | AB21: 0 | AC21: 1 | AD21: 0 | AE21: =+AC21+AD21 -> 1 | AF21: 0 | AH21: =+AF21+AG21 -> 0
A22: 1.1.2 | B22: ²Û¹ ÃíáõÙª ïÇñ³½áõñÏ ·áõÛùÇ ÝÏ³ïÙ³Ùµ | E22: =+F22+G22+H22+I22 -> 3 | F22: 0 | G22: 3 | J22: 9 | K22: 6 | L22: 1 | M22: 1 | N22: =+O22+P22+Q22+R22+S22 -> 1 | O22: 1 | P22: 0 | Q22: 0 | R22: 0 | S22: 0 | T22: 0 | U22: 0 | V22: 0 | W22: 0 | X22: =+N22+W22 -> 1 | Y22: 0 | Z22: 0 | AA22: 8 | AB22: 0 | AD22: 0 | AE22: =+AC22+AD22 -> 0 | AF22: 0 | AH22: =+AF22+AG22 -> 0
A23: 1.1.3 | B23: ²Û¹ ÃíáõÙª ÇÝùÝ³Ï³Ù Ï³éáõÛóÇ ÝÏ³ïÙ³Ùµ | E23: =+F23+G23+H23+I23 -> 0 | F23: 0 | G23: 0 | J23: =+K23+L23+M23 -> 0 | K23: 0 | L23: 0 | M23: 0 | N23: =+O23+P23+Q23+R23+S23 -> 0 | O23: 0 | P23: 0 | Q23: 0 | R23: 0 | S23: =+T23+U23+V23 -> 0 | T23: 0 | U23: 0 | V23: 0 | W23: 0 | X23: =+N23+W23 -> 0 | Y23: 0 | Z23: 0 | AA23: 0 | AB23: 0 | AC23: 0 | AD23: 0 | AE23: =+AC23+AD23 -> 0 | AF23: 0 | AH23: =+AF23+AG23 -> 0
A24: 1.2 | B24: ê»÷³Ï³ÝáõÃÛ³Ý Çñ³íáõÝùÇ ¹³¹³ñ»óÙ³Ý í»ñ³µ»ñÛ³É | E24: =+F24+G24+H24+I24 -> 1 | F24: 0 | G24: 1 | J24: =+K24+L24+M24 -> 3 | K24: 2 | L24: 0 | M24: 1 | N24: =+O24+P24+Q24+R24+S24 -> 0 | O24: 0 | P24: 0 | Q24: 0 | R24: 0 | S24: =+T24+U24+V24 -> 0 | T24: 0 | U24: 0 | V24: 0 | W24: 0 | X24: =+N24+W24 -> 0 | Y24: 0 | Z24: 0 | AA24: 3 | AB24: 0 | AD24: 0 | AE24: =+AC24+AD24 -> 0 | AF24: 0 | AG24: 0 | AH24: =+AF24+AG24 -> 0
A25: 1.3 | B25: ¶áõÛùÇ ÝÏ³ïÙ³Ùµ û·ï³·áñÍÙ³Ý Çñ³íáõÝùÁ ×³Ý³ã»Éáõ í»ñ³µ»ñÛ³É | E25: =+F25+G25+H25+I25 -> 1 | F25: 0 | G25: 1 | J25: =+K25+L25+M25 -> 0 | K25: 0 | L25: 0 | M25: 0 | N25: =+O25+P25+Q25+R25+S25 -> 1 | O25: 0 | P25: 1 | Q25: 0 | R25: 0 | S25: =+T25+U25+V25 -> 0 | T25: 0 | U25: 0 | V25: 0 | W25: 0 | X25: =+N25+W25 -> 1 | Y25: 0 | Z25: 0 | AB25: 0 | AC25: 0 | AD25: 0 | AE25: =+AC25+AD25 -> 0 | AF25: 0 | AG25: 0 | AH25: =+AF25+AG25 -> 0
A26: 1.3.1 | B26: ²Û¹ ÃíáõÙª µÝ³Ïû·ï³·áñÍÙ³Ý Çñ³íáõÝùÁ ×³Ý³ã»Éáõ í»ñ³µ»ñÛ³É | E26: =+F26+G26+H26+I26 -> 0 | F26: 0 | G26: 0 | J26: =+K26+L26+M26 -> 1 | K26: 1 | L26: 0 | M26: 0 | N26: =+O26+P26+Q26+R26+S26 -> 0 | O26: 0 | P26: 0 | Q26: 0 | R26: 0 | S26: =+T26+U26+V26 -> 0 | T26: 0 | U26: 0 | V26: 0 | W26: 0 | X26: =+N26+W26 -> 0 | Y26: 0 | Z26: 0 | AA26: 1 | AB26: 0 | AC26: 0 | AD26: 0 | AE26: =+AC26+AD26 -> 0 | AF26: 0 | AG26: 0 | AH26: =+AF26+AG26 -> 0
A27: 1.3.2 | B27: ²Û¹ ÃíáõÙª ÑáÕ³Ù³ëÇ ÝÏ³ïÙ³Ùµ û·ï³·áñÍÙ³Ý Çñ³íáõÝùÁ ×³Ý³ã»Éáõ í»ñ³µ»ñÛ³É | E27: =+F27+G27+H27+I27 -> 0 | F27: 0 | G27: 0 | J27: =+K27+L27+M27 -> 0 | K27: 0 | L27: 0 | M27: 0 | N27: =+O27+P27+Q27+R27+S27 -> 0 | O27: 0 | P27: 0 | Q27: 0 | R27: 0 | S27: =+T27+U27+V27 -> 0 | T27: 0 | U27: 0 | V27: 0 | W27: 0 | X27: =+N27+W27 -> 0 | Y27: 0 | Z27: 0 | AA27: 0 | AB27: 0 | AC27: 0 | AD27: 0 | AE27: =+AC27+AD27 -> 0 | AF27: 0 | AG27: 0 | AH27: =+AF27+AG27 -> 0
A28: 1.4 | B28: ¶áõÛùÇ ÝÏ³ïÙ³Ùµ û·ï³·áñÍÙ³Ý Çñ³íáõÝùÁ ¹³¹³ñ»óÝ»Éáõ í»ñ³µ»ñÛ³É | E28: =+F28+G28+H28+I28 -> 0 | F28: 0 | G28: 0 | J28: =+K28+L28+M28 -> 0 | K28: 0 | L28: 0 | M28: 0 | N28: =+O28+P28+Q28+R28+S28 -> 0 | O28: 0 | P28: 0 | Q28: 0 | R28: 0 | S28: =+T28+U28+V28 -> 0 | T28: 0 | U28: 0 | V28: 0 | W28: 0 | X28: =+N28+W28 -> 0 | Y28: 0 | Z28: 0 | AB28: 0 | AC28: 0 | AD28: 0 | AE28: =+AC28+AD28 -> 0 | AF28: 0 | AG28: 0 | AH28: =+AF28+AG28 -> 0
A29: 1.4.1 | B29: ²Û¹ ÃíáõÙª µÝ³Ïû·ï³·áñÍÙ³Ý Çñ³íáõÝùÁ ¹³¹³ñ»óÝ»Éáõ í»ñ³µ»ñÛ³É | E29: =+F29+G29+H29+I29 -> 1 | F29: 0 | G29: 1 | J29: =+K29+L29+M29 -> 0 | K29: 0 | L29: 0 | M29: 0 | N29: =+O29+P29+Q29+R29+S29 -> 0 | O29: 0 | P29: 0 | Q29: 0 | R29: 0 | S29: =+T29+U29+V29 -> 0 | T29: 0 | U29: 0 | V29: 0 | W29: 0 | X29: =+N29+W29 -> 0 | Y29: 0 | Z29: 0 | AA29: 1 | AB29: 0 | AD29: 0 | AE29: =+AC29+AD29 -> 0 | AF29: 0 | AG29: 0 | AH29: =+AF29+AG29 -> 0
A30: 1.4.1/1 | B30: ²Û¹ ÃíáõÙª ÷áËÑ³ïáõóÙ³Ùµ | E30: =+F30+G30+H30+I30 -> 0 | F30: 0 | G30: 0 | J30: =+K30+L30+M30 -> 0 | N30: =+O30+P30+Q30+R30+S30 -> 0 | O30: 0 | P30: 0 | Q30: 0 | R30: 0 | S30: =+T30+U30+V30 -> 0 | T30: 0 | U30: 0 | V30: 0 | W30: 0 | X30: =+N30+W30 -> 0 | Y30: 0 | Z30: 0 | AA30: 0 | AB30: 0 | AC30: 0 | AD30: 0 | AE30: =+AC30+AD30 -> 0 | AF30: 0 | AG30: 0 | AH30: =+AF30+AG30 -> 0
A31: 1.5 | B31: ´Ý³Ï³ñ³ÝÇó/ ï³ñ³ÍùÇó/ íï³ñ»Éáõ í»ñ³µ»ñÛ³É | E31: =+F31+G31+H31+I31 -> 19 | F31: 6 | G31: 13 | J31: =+K31+L31+M31 -> 6 | K31: 5 | L31: 1 | N31: =+O31+P31+Q31+R31+S31 -> 1 | P31: 0 | Q31: 0 | R31: 0 | S31: =+T31+U31+V31 -> 1 | T31: 0 | U31: 1 | V31: 0 | W31: 2 | X31: =+N31+W31 -> 3 | Y31: 0 | Z31: 2 | AA31: 21 | AB31: 9 | AD31: 1 | AE31: =+AC31+AD31 -> 1 | AF31: 0 | AG31: 0 | AH31: =+AF31+AG31 -> 0
A32: 1.6 | B32: ¶áõÛùÝ áõñÇßÇ ³åûñÇÝÇ ïÇñ³å»ïáõÙÇó »ï í»ñ³¹³ñÓÝ»Éáõ í»ñ³µ»ñÛ³É | E32: =+F32+G32+H32+I32 -> 19 | F32: 10 | G32: 9 | J32: =+K32+L32+M32 -> 8 | K32: 6 | L32: 2 | N32: =+O32+P32+Q32+R32+S32 -> 2 | Q32: 1 | R32: 0 | S32: =+T32+U32+V32 -> 1 | T32: 0 | U32: 1 | V32: 0 | W32: 0 | X32: =+N32+W32 -> 2 | Y32: 0 | Z32: 0 | AA32: 23 | AB32: 3 | AC32: 1 | AD32: 0 | AE32: =+AC32+AD32 -> 1 | AF32: 0 | AG32: 0 | AH32: =+AF32+AG32 -> 0
A33: 1.6.1 | B33: ´³ñ»ËÇÕ× Ó»éùµ»ñáÕÇó Çñ ·áõÛùÁ Ñ»ï å³Ñ³Ýç»Éáõ í»ñ³µ»ñÛ³É | E33: =+F33+G33+H33+I33 -> 0 | F33: 0 | G33: 0 | J33: =+K33+L33+M33 -> 0 | N33: =+O33+P33+Q33+R33+S33 -> 0 | O33: 0 | P33: 0 | Q33: 0 | R33: 0 | S33: =+T33+U33+V33 -> 0 | T33: 0 | U33: 0 | V33: 0 | W33: 0 | X33: =+N33+W33 -> 0 | Y33: 0 | Z33: 0 | AA33: 0 | AB33: 0 | AC33: 0 | AD33: 0 | AE33: =+AC33+AD33 -> 0 | AF33: 0 | AH33: =+AF33+AG33 -> 0
A34: 1.7 | B34: îÇñ³å»ïáõÙÇó ½ñÏ»Éáõ Ñ»ï ãÏ³åí³Í Çñ³íáõÝùÝ»ñÇ Ë³ËïáõÙÁ í»ñ³óÝ»Éáõ í»ñ³µ»ñÛ³É | E34: =+F34+G34+H34+I34 -> 5 | G34: 5 | J34: =+K34+L34+M34 -> 2 | K34: 1 | L34: 1 | N34: =+O34+P34+Q34+R34+S34 -> 3 | O34: 1 | P34: 0 | Q34: 2 | R34: 0 | S34: =+T34+U34+V34 -> 0 | T34: 0 | U34: 0 | V34: 0 | W34: 0 | X34: =+N34+W34 -> 3 | Y34: 0 | Z34: 0 | AA34: 3 | AB34: 0 | AC34: 1 | AD34: 0 | AE34: =+AC34+AD34 -> 1 | AF34: 0 | AG34: 0 | AH34: =+AF34+AG34 -> 0
A35: 1.8 | B35: ÀÝ¹Ñ³Ýáõñ µ³ÅÝ³ÛÇÝ ë»÷³Ï³ÝáõÃÛáõÝÇó µ³ÅÇÝÝ ³é³ÝÓÝ³óÝ»Éáõ í»ñ³µ»ñÛ³É | E35: =+F35+G35+H35+I35 -> 112 | F35: 65 | G35: 47 | J35: =+K35+L35+M35 -> 32 | K35: 23 | L35: 9 | N35: =+O35+P35+Q35+R35+S35 -> 14 | O35: 10 | Q35: 3 | R35: 0 | S35: =+T35+U35+V35 -> 1 | T35: 0 | U35: 1 | W35: 1 | X35: =+N35+W35 -> 15 | Y35: 0 | Z35: 6 | AA35: 120 | AB35: 41 | AC35: 3 | AD35: 0 | AE35: =+AC35+AD35 -> 3 | AF35: 0 | AG35: 0 | AH35: =+AF35+AG35 -> 0
A36: 1.8.1 | B36: Ð³Ù³ï»Õ ë»÷³Ï³ÝáõÃÛ³Ý Ý»ñùá ·ïÝíáÕ ·áõÛùÁ µ³Å³Ý»Éáõ ¨ ¹ñ³ÝÇó µ³ÅÇÝÝ ³é³ÝÓÝ³óÝ»Éáõ í»ñ³µ»ñÛ³É | E36: =+F36+G36+H36+I36 -> 58 | F36: 29 | G36: 29 | J36: =+K36+L36+M36 -> 45 | K36: 36 | L36: 9 | N36: =+O36+P36+Q36+R36+S36 -> 8 | O36: 3 | Q36: 1 | R36: 0 | S36: =+T36+U36+V36 -> 4 | T36: 0 | U36: 4 | V36: 0 | W36: 1 | X36: =+N36+W36 -> 9 | Y36: 0 | Z36: 5 | AA36: 85 | AB36: 18 | AD36: 1 | AE36: =+AC36+AD36 -> 1 | AF36: 0 | AH36: =+AF36+AG36 -> 0
A37: 1.8.3 | B37: ¶áõÛùÇ íñ³ µéÝ³·³ÝÓáõÙ ï³ñ³Í»Éáõ å³Ñ³ÝçÇ Ù³ëÇÝ | E37: =+F37+G37+H37+I37 -> 3 | F37: 2 | G37: 1 | J37: 2 | K37: 1 | N37: =+O37+P37+Q37+R37+S37 -> 0 | Q37: 0 | R37: 0 | S37: =+T37+U37+V37 -> 0 | T37: 0 | U37: 0 | V37: 0 | W37: 0 | X37: =+N37+W37 -> 0 | Y37: 0 | Z37: 2 | AA37: 4 | AB37: 2 | AC37: 0 | AD37: 0 | AE37: =+AC37+AD37 -> 0 | AF37: 0 | AH37: =+AF37+AG37 -> 0
A38: 1.9 | B38: ²ÛÉ í»×»ñ | E38: =+F38+G38+H38+I38 -> 48 | F38: 12 | G38: 36 | J38: =+K38+L38+M38 -> 27 | K38: 16 | L38: 7 | M38: 4 | N38: =+O38+P38+Q38+R38+S38 -> 11 | O38: 2 | P38: 1 | Q38: 3 | R38: 0 | S38: 5 | T38: 2 | U38: 3 | W38: 2 | X38: =+N38+W38 -> 13 | Y38: 0 | AA38: 51 | AB38: 9 | AC38: 2 | AE38: =+AC38+AD38 -> 2 | AF38: 0 | AG38: 0 | AH38: =+AF38+AG38 -> 0
A39: 2. | B39: ¶áñÍ³ñùÝ»ñÇ Ñ»ï Ï³åí³Í Çñ³í³Ñ³ñ³µ»ñáõÃÛáõÝÝ»ñÇ í»ñ³µ»ñÛ³É ¹³ï³Ï³Ý ·áñÍ»ñ | E39: =SUM(E40:E50) -> 36 | F39: =SUM(F40:F50) -> 8 | G39: =SUM(G40:G50) -> 28 | H39: =SUM(H40:H50) -> 0 | I39: =SUM(I40:I50) -> 0 | J39: =SUM(J40:J50) -> 23 | K39: =SUM(K40:K50) -> 15 | L39: =SUM(L40:L50) -> 4 | ... AH39: =SUM(AH40:AH50) -> 0
A40: 2.1 | B40: ·áñÍ³ñùÝ»ñÇ ³Ýí³í»ñáõÃÛ³Ý Ñ»ï Ï³åí³Í í»×»ñ | E40: =+F40+G40+H40+I40 -> 3 | F40: 1 | G40: 2 | J40: =+K40+L40+M40 -> 5 | K40: 5 | N40: =+O40+P40+Q40+R40+S40 -> 1 | P40: 0 | Q40: 1 | R40: 0 | S40: =+T40+U40+V40 -> 0 | T40: 0 | U40: 0 | V40: 0 | W40: 0 | X40: =+N40+W40 -> 1 | Y40: 0 | AA40: 7 | AC40: 1 | AD40: 1 | AE40: =+AC40+AD40 -> 2 | AH40: =+AF40+AG40 -> 0
A41: 2.1.1 | B41: ³Û¹ ÃíáõÙ` íÇ×³Ñ³ñáõÛó ·áñÍ³ñùÝ»ñÝ ³Ýí³í»ñ ×³Ý³ã»Éáõ í»ñ³µ»ñÛ³É | E41: =+F41+G41+H41+I41 -> 1 | F41: 0 | G41: 1 | J41: =+K41+L41+M41 -> 0 | N41: =+O41+P41+Q41+R41+S41 -> 0 | O41: 0 | P41: 0 | Q41: 0 | R41: 0 | S41: =+T41+U41+V41 -> 0 | T41: 0 | U41: 0 | V41: 0 | W41: 0 | X41: =+N41+W41 -> 0 | Y41: 0 | Z41: 0 | AA41: 1 | AB41: 0 | AC41: 0 | AD41: 0 | AE41: =+AC41+AD41 -> 0 | AF41: 0 | AG41: 0 | AH41: =+AF41+AG41 -> 0
A42: 2.1.2 | B42: ³Û¹ ÃíáõÙ` ·áñÍ³ñùÇ ³éáãÝãáõÃÛ³Ý Ñ»ï¨³ÝùÝ»ñ ÏÇñ³é»Éáõ í»ñ³µ»ñÛ³É | E42: =+F42+G42+H42+I42 -> 2 | F42: 1 | G42: 1 | J42: 1 | N42: =+O42+P42+Q42+R42+S42 -> 0 | O42: 0 | P42: 0 | Q42: 0 | R42: 0 | S42: =+T42+U42+V42 -> 0 | T42: 0 | V42: 0 | W42: 0 | X42: =+N42+W42 -> 0 | Y42: 0 | AA42: 2 | AC42: 0 | AD42: 0 | AE42: =+AC42+AD42 -> 0 | AF42: 0 | AG42: 0 | AH42: =+AF42+AG42 -> 0
A43: 2.2 | B43: ¶áñÍ³ñùÁ í³í»ñ ×³Ý³ã»Éáõ í»ñ³µ»ñÛ³É | E43: =+F43+G43+H43+I43 -> 11 | F43: 0 | G43: 11 | J43: 7 | K43: 5 | N43: =+O43+P43+Q43+R43+S43 -> 4 | O43: 2 | Q43: 2 | R43: 0 | S43: =+T43+U43+V43 -> 0 | T43: 0 | U43: 0 | V43: 0 | W43: 0 | X43: =+N43+W43 -> 4 | Y43: 0 | Z43: 1 | AA43: 12 | AB43: 1 | AC43: 2 | AD43: 0 | AE43: 2 | AF43: 0 | AG43: 0 | AH43: =+AF43+AG43 -> 0
A44: 2.3 | B44: ¶áñÍ³ñùÇó Í³·áÕ Çñ³íáõÝùÝ»ñÁ ·ñ³Ýó»Éáõ í»ñ³µ»ñÛ³É | E44: =+F44+G44+H44+I44 -> 0 | F44: 0 | G44: 0 | J44: =+K44+L44+M44 -> 0 | N44: =+O44+P44+Q44+R44+S44 -> 0 | O44: 0 | P44: 0 | Q44: 0 | R44: 0 | S44: =+T44+U44+V44 -> 0 | T44: 0 | U44: 0 | V44: 0 | W44: 0 | X44: =+N44+W44 -> 0 | Y44: 0 | Z44: 0 | AA44: 0 | AB44: 0 | AC44: 0 | AD44: 0 | AE44: =+AC44+AD44 -> 0 | AG44: 0 | AH44: =+AF44+AG44 -> 0
A45: 2.4 | B45: ä³ÛÙ³Ý³·ÇñÝ ³Ýí³í»ñ ×³Ý³ã»Éáõ í»ñ³µ»ñÛ³É | E45: =+F45+G45+H45+I45 -> 8 | F45: 3 | G45: 5 | J45: 5 | K45: 2 | L45: 2 | N45: =+O45+P45+Q45+R45+S45 -> 1 | O45: 0 | P45: 0 | Q45: 1 | R45: 0 | S45: =+T45+U45+V45 -> 0 | T45: 0 | U45: 0 | V45: 0 | W45: 0 | X45: =+N45+W45 -> 1 | Y45: 0 | AA45: 9 | AB45: 5 | AE45: =+AC45+AD45 -> 0 | AF45: 0 | AG45: 0 | AH45: =+AF45+AG45 -> 0
A46: 2.5 | B46: ä³ÛÙ³Ý³·ñÇÁ í³í»ñ ×³Ý³ã»Éáõ í»ñ³µ»ñÛ³É | E46: =+F46+G46+H46+I46 -> 2 | F46: 0 | G46: 2 | J46: =+K46+L46+M46 -> 4 | K46: 3 | L46: 1 | N46: =+O46+P46+Q46+R46+S46 -> 1 | O46: 1 | P46: 0 | R46: 0 | S46: =+T46+U46+V46 -> 0 | T46: 0 | U46: 0 | V46: 0 | W46: 0 | X46: =+N46+W46 -> 1 | Y46: 0 | Z46: 0 | AA46: 4 | AB46: 0 | AC46: 0 | AD46: 1 | AE46: =+AC46+AD46 -> 1 | AF46: 0 | AH46: =+AF46+AG46 -> 0
A47: 2.6 | B47: ä³ÛÙ³Ý³·ñÇó Í³·áÕ Çñ³íáõÝùÝ»ñÁ ·ñ³Ýó»Éáõ í»ñ³µ»ñÛ³É | E47: =+F47+G47+H47+I47 -> 0 | F47: 0 | J47: =+K47+L47+M47 -> 0 | N47: =+O47+P47+Q47+R47+S47 -> 0 | O47: 0 | P47: 0 | Q47: 0 | R47: 0 | S47: =+T47+U47+V47 -> 0 | T47: 0 | U47: 0 | V47: 0 | W47: 0 | X47: =+N47+W47 -> 0 | Y47: 0 | Z47: 0 | AA47: 0 | AB47: 0 | AC47: 0 | AD47: 0 | AE47: =+AC47+AD47 -> 0 | AF47: 0 | AG47: 0 | AH47: =+AF47+AG47 -> 0
A48: 2.7 | B48: ä³ÛÙ³Ý³·ÇñÁ ÷á÷áË»Éáõ ¨ ÉáõÍ»Éáõ í»ñ³µ»ñÛ³É | E48: =+F48+G48+H48+I48 -> 5 | F48: 0 | G48: 5 | J48: =+K48+L48+M48 -> 1 | L48: 1 | N48: =+O48+P48+Q48+R48+S48 -> 2 | O48: 2 | P48: 0 | Q48: 0 | R48: 0 | S48: =+T48+U48+V48 -> 0 | T48: 0 | U48: 0 | V48: 0 | W48: 0 | X48: =+N48+W48 -> 2 | Y48: 0 | Z48: 0 | AA48: 3 | AB48: 0 | AD48: 0 | AE48: =+AC48+AD48 -> 0 | AF48: 0 | AG48: 0 | AH48: =+AF48+AG48 -> 0
A49: 2.8 | B49: ä³ÛÙ³Ý³·Çñ ÏÝù»ÉáõÝ å³ñï³íáñ»óÝ»Éáõ í»ñ³µ»ñÛ³É | E49: =+F49+G49+H49+I49 -> 2 | F49: 1 | G49: 1 | J49: =+K49+L49+M49 -> 0 | N49: =+O49+P49+Q49+R49+S49 -> 0 | O49: 0 | P49: 0 | Q49: 0 | R49: 0 | S49: =+T49+U49+V49 -> 0 | T49: 0 | U49: 0 | V49: 0 | W49: 0 | X49: =+N49+W49 -> 0 | Y49: 0 | Z49: 0 | AA49: 2 | AB49: 1 | AD49: 0 | AE49: =+AC49+AD49 -> 0 | AF49: 0 | AH49: =+AF49+AG49 -> 0
A50: 2.9 | B50: ²ÛÉ í»×»ñ | E50: =+F50+G50+H50+I50 -> 2 | F50: 2 | J50: =+K50+L50+M50 -> 0 | N50: =+O50+P50+Q50+R50+S50 -> 0 | O50: 0 | P50: 0 | Q50: 0 | R50: 0 | S50: =+T50+U50+V50 -> 0 | T50: 0 | U50: 0 | V50: 0 | W50: 0 | X50: =+N50+W50 -> 0 | Y50: 0 | Z50: 0 | AA50: 2 | AC50: 0 | AE50: =+AC50+AD50 -> 0 | AF50: 0 | AH50: =+AF50+AG50 -> 0
A51: 3. | B51: Ä³é³Ý·áõÃÛ³Ý Ñ»ï Ï³åí³Í Çñ³í³Ñ³ñ³µ»ñáõÃÛáõÝÝ»ñÇ í»ñ³µ»ñÛ³É ¹³ï³Ï³Ý ·áñÍ»ñ | E51: =SUM(E52:E58) -> 16 | F51: =SUM(F52:F58) -> 0 | G51: =SUM(G52:G58) -> 16 | H51: =SUM(H52:H58) -> 0 | I51: =SUM(I52:I58) -> 0 | J51: =SUM(J52:J58) -> 20 | K51: =SUM(K52:K58) -> 13 | L51: =SUM(L52:L58) -> 4 | ... AH51: =SUM(AH52:AH58) -> 0
A52: 3.1 | B52: Îï³ÏÝ ³Ýí³í»ñ ×³Ý³ã»Éáõ í»ñ³µ»ñÛ³É | E52: =+F52+G52+H52+I52 -> 1 | F52: 0 | G52: 1 | J52: =+K52+L52+M52 -> 0 | N52: =+O52+P52+Q52+R52+S52 -> 1 | O52: 1 | P52: 0 | Q52: 0 | R52: 0 | S52: =+T52+U52+V52 -> 0 | T52: 0 | U52: 0 | V52: 0 | W52: 0 | X52: =+N52+W52 -> 1 | Y52: 0 | Z52: 0 | AB52: 0 | AC52: 0 | AD52: 0 | AE52: =+AC52+AD52 -> 0 | AH52: =+AF52+AG52 -> 0
A53: 3.2 | B53: ²Ý³ñÅ³Ý Å³é³Ý· ×³Ý³ã»Éáõ í»ñ³µ»ñÛ³É | E53: =+F53+G53+H53+I53 -> 0 | F53: 0 | G53: 0 | J53: =+K53+L53+M53 -> 2 | L53: 2 | N53: =+O53+P53+Q53+R53+S53 -> 0 | O53: 0 | P53: 0 | Q53: 0 | R53: 0 | S53: =+T53+U53+V53 -> 0 | T53: 0 | U53: 0 | V53: 0 | W53: 0 | X53: =+N53+W53 -> 0 | Y53: 0 | Z53: 0 | AA53: 0 | AB53: 0 | AC53: 0 | AD53: 0 | AE53: =+AC53+AD53 -> 0 | AF53: 0 | AG53: 0 | AH53: =+AF53+AG53 -> 0
A54: 3.3 | B54: Ä³é³Ý·áõÃÛáõÝÁ µ³Å³Ý»Éáõ í»ñ³µ»ñÛ³É | E54: =+F54+G54+H54+I54 -> 1 | F54: 0 | G54: 1 | J54: =+K54+L54+M54 -> 0 | N54: =+O54+P54+Q54+R54+S54 -> 0 | O54: 0 | P54: 0 | Q54: 0 | R54: 0 | S54: =+T54+U54+V54 -> 0 | T54: 0 | U54: 0 | V54: 0 | W54: 0 | X54: =+N54+W54 -> 0 | Y54: 0 | Z54: 0 | AA54: 1 | AB54: 0 | AC54: 0 | AD54: 0 | AE54: =+AC54+AD54 -> 0 | AF54: 0 | AG54: 0 | AH54: =+AF54+AG54 -> 0
A55: 3.4 | B55: ¶áõÛùÝ ³ÝÅ³é³Ý· ×³Ý³ã»Éáõ í»ñ³µ»ñÛ³É | E55: =+F55+G55+H55+I55 -> 0 | F55: 0 | G55: 0 | J55: =+K55+L55+M55 -> 0 | N55: =+O55+P55+Q55+R55+S55 -> 0 | O55: 0 | P55: 0 | Q55: 0 | R55: 0 | S55: =+T55+U55+V55 -> 0 | T55: 0 | U55: 0 | V55: 0 | W55: 0 | X55: =+N55+W55 -> 0 | Y55: 0 | Z55: 0 | AA55: 0 | AB55: 0 | AC55: 0 | AD55: 0 | AE55: =+AC55+AD55 -> 0 | AF55: 0 | AG55: 0 | AH55: =+AF55+AG55 -> 0
A56: 3.5 | B56: Àëï ûñ»ÝùÇ Å³é³Ý·áõÃÛ³Ý Çñ³íáõÝùÇ íÏ³Û³·ÇñÝ ³Ýí³í»ñ ×³Ý³ã»Éáõ í»ñ³µ»ñÛ³É | E56: =+F56+G56+H56+I56 -> 2 | F56: 0 | G56: 2 | J56: =+K56+L56+M56 -> 0 | K56: 0 | N56: =+O56+P56+Q56+R56+S56 -> 1 | O56: 0 | P56: 1 | Q56: 0 | R56: 0 | S56: =+T56+U56+V56 -> 0 | T56: 0 | U56: 0 | V56: 0 | W56: 0 | X56: =+N56+W56 -> 1 | Y56: 0 | Z56: 0 | AA56: 1 | AB56: 0 | AC56: 0 | AD56: 0 | AE56: =+AC56+AD56 -> 0 | AF56: 0 | AG56: 0 | AH56: =+AF56+AG56 -> 0
A57: 3.6 | B57: Ä³é³Ý·áõÃÛáõÝÝ ÁÝ¹áõÝ»Éáõ µ³ó ÃáÕÝí³Í Å³ÙÏ»ïÁ Ñ³ñ·»ÉÇ Ñ³Ù³ñ»Éáõ í»ñ³µ»ñÛ³É | E57: =+F57+G57+H57+I57 -> 5 | G57: 5 | J57: 9 | K57: 6 | L57: 1 | M57: 1 | N57: =+O57+P57+Q57+R57+S57 -> 2 | P57: 1 | Q57: 1 | R57: 0 | S57: =+T57+U57+V57 -> 0 | T57: 0 | U57: 0 | V57: 0 | X57: =+N57+W57 -> 2 | Y57: 0 | Z57: 0 | AA57: 9 | AB57: 0 | AD57: 0 | AE57: =+AC57+AD57 -> 0 | AF57: 0 | AG57: 0 | AH57: =+AF57+AG57 -> 0
A58: 3.7 | B58: ²ÛÉ í»×»ñ | E58: =+F58+G58+H58+I58 -> 7 | G58: 7 | J58: =+K58+L58+M58 -> 9 | K58: 7 | L58: 1 | M58: 1 | N58: =+O58+P58+Q58+R58+S58 -> 5 | O58: 2 | P58: 1 | Q58: 1 | R58: 0 | S58: =+T58+U58+V58 -> 1 | T58: 0 | U58: 1 | V58: 0 | X58: =+N58+W58 -> 5 | Y58: 0 | Z58: 0 | AA58: 9 | AB58: 0 | AD58: 1 | AE58: =+AC58+AD58 -> 1 | AF58: 0 | AG58: 0 | AH58: =+AF58+AG58 -> 0
A59: 4 | B59: ÀÝï³Ý»Ï³Ý Çñ³í³Ñ³ñ³µ»ñáõÃÛáõÝÝ»ñÇ í»ñ³µ»ñÛ³É ¹³ï³Ï³Ý ·áñÍ»ñ | E59: =SUM(E60:E72) -> 121 | F59: =SUM(F60:F72) -> 8 | G59: =SUM(G60:G72) -> 113 | H59: =SUM(H60:H72) -> 0 | I59: =SUM(I60:I72) -> 0 | J59: =SUM(J60:J72) -> 127 | K59: =SUM(K60:K72) -> 100 | L59: =SUM(L60:L72) -> 24 | ... AH59: =SUM(AH60:AH72) -> 0
A60: 4.1 | B60: ²ÙáõëÝ³ÉáõÍáõÃÛ³Ý í»ñ³µ»ñÛ³É | E60: =+F60+G60+H60+I60 -> 58 | F60: 2 | G60: 56 | J60: 56 | K60: 44 | L60: 11 | N60: =+O60+P60+Q60+R60+S60 -> 49 | O60: 40 | P60: 3 | R60: 0 | S60: 6 | T60: 0 | U60: 6 | V60: 0 | W60: 2 | X60: =+N60+W60 -> 51 | Y60: 1 | Z60: 0 | AA60: 50 | AD60: 1 | AE60: =+AC60+AD60 -> 1 | AH60: =+AF60+AG60 -> 0
A61: 4.2 | B61: ²ÉÇÙ»ÝïÇ å³Ñ³ÝçÇ í»ñ³µ»ñÛ³É | E61: =+F61+G61+H61+I61 -> 28 | F61: 2 | G61: 26 | J61: =+K61+L61+M61 -> 37 | K61: 33 | L61: 4 | N61: =+O61+P61+Q61+R61+S61 -> 25 | O61: 9 | P61: 14 | Q61: 0 | R61: 0 | S61: 2 | T61: 0 | U61: 2 | V61: 0 | W61: 0 | X61: =+N61+W61 -> 25 | Y61: 0 | Z61: 1 | AA61: 36 | AB61: 2 | AD61: 0 | AE61: =+AC61+AD61 -> 0 | AF61: 0 | AH61: =+AF61+AG61 -> 0
A62: 4.3 | B62: ²ÉÇÙ»ÝïÇ ã³÷Á ÷á÷áË»Éáõ í»ñ³µ»ñÛ³É | E62: =+F62+G62+H62+I62 -> 6 | F62: 0 | G62: 6 | J62: =+K62+L62+M62 -> 4 | K62: 4 | N62: =+O62+P62+Q62+R62+S62 -> 3 | O62: 3 | R62: 0 | S62: =+T62+U62+V62 -> 0 | T62: 0 | U62: 0 | V62: 0 | W62: 1 | X62: =+N62+W62 -> 4 | Y62: 0 | Z62: 0 | AA62: 6 | AB62: 0 | AD62: 0 | AE62: =+AC62+AD62 -> 0 | AH62: =+AF62+AG62 -> 0
A63: 4.4 | B63: ÌÝáÕ³Ï³Ý Çñ³íáõÝùÝ»ñÇó ½ñÏ»Éáõ í»ñ³µ»ñÛ³É | E63: =+F63+G63+H63+I63 -> 0 | F63: 0 | G63: 0 | N63: =+O63+P63+Q63+R63+S63 -> 0 | O63: 0 | P63: 0 | R63: 0 | S63: =+T63+U63+V63 -> 0 | T63: 0 | U63: 0 | V63: 0 | W63: 0 | Y63: 0 | Z63: 0 | AA63: 0 | AB63: 0 | AC63: 0 | AD63: 0 | AE63: =+AC63+AD63 -> 0 | AF63: 0 | AG63: 0 | AH63: =+AF63+AG63 -> 0
A64: 4.5 | B64: ÌÝáÕ³Ï³Ý Çñ³íáõÝùÝ»ñÁ í»ñ³Ï³Ý·Ý»Éáõ í»ñ³µ»ñÛ³É | E64: =+F64+G64+H64+I64 -> 0 | F64: 0 | G64: 0 | J64: =+K64+L64+M64 -> 0 | N64: =+O64+P64+Q64+R64+S64 -> 0 | O64: 0 | P64: 0 | Q64: 0 | R64: 0 | S64: =+T64+U64+V64 -> 0 | T64: 0 | U64: 0 | V64: 0 | W64: 0 | X64: =+N64+W64 -> 0 | Y64: 0 | Z64: 0 | AA64: 0 | AB64: 0 | AC64: 0 | AD64: 0 | AE64: =+AC64+AD64 -> 0 | AF64: 0 | AG64: 0 | AH64: =+AF64+AG64 -> 0
A65: 4.6 | B65: ºñ»Ë³ÛÇ áñ¹»·ñÙ³Ý í»ñ³µ»ñÛ³É | E65: =+F65+G65+H65+I65 -> 0 | F65: 0 | J65: =+K65+L65+M65 -> 1 | K65: 1 | N65: =+O65+P65+Q65+R65+S65 -> 1 | O65: 1 | P65: 0 | Q65: 0 | R65: 0 | S65: =+T65+U65+V65 -> 0 | T65: 0 | U65: 0 | V65: 0 | W65: 0 | X65: =+N65+W65 -> 1 | Y65: 0 | Z65: 0 | AA65: 0 | AB65: 0 | AC65: 0 | AD65: 0 | AE65: =+AC65+AD65 -> 0 | AF65: 0 | AG65: 0 | AH65: =+AF65+AG65 -> 0
A66: 4.7 | B66: ºñ»Ë³ÛÇ áñ¹»·ñáõÙÁ í»ñ³óÝ»Éáõ í»ñ³µ»ñÛ³É | E66: =+F66+G66+H66+I66 -> 0 | F66: 0 | G66: 0 | J66: =+K66+L66+M66 -> 1 | K66: 1 | N66: =+O66+P66+Q66+R66+S66 -> 0 | O66: 0 | P66: 0 | Q66: 0 | R66: 0 | S66: =+T66+U66+V66 -> 0 | T66: 0 | U66: 0 | V66: 0 | W66: 0 | X66: =+N66+W66 -> 0 | Y66: 0 | Z66: 0 | AA66: 1 | AB66: 0 | AC66: 0 | AD66: 0 | AE66: =+AC66+AD66 -> 0 | AF66: 0 | AG66: 0 | AH66: =+AF66+AG66 -> 0
A67: 4.8 | B67: Ð³ÛñáõÃÛáõÝÁ ×³Ý³ã»Éáõ í»ñ³µ»ñÛ³É | E67: =+F67+G67+H67+I67 -> 9 | F67: 4 | G67: 5 | J67: 4 | K67: 1 | L67: 2 | N67: =+O67+P67+Q67+R67+S67 -> 3 | O67: 1 | P67: 1 | Q67: 0 | R67: 0 | S67: =+T67+U67+V67 -> 1 | T67: 0 | U67: 1 | V67: 0 | X67: =+N67+W67 -> 3 | Y67: 0 | Z67: 1 | AA67: 7 | AB67: 3 | AD67: 1 | AE67: =+AC67+AD67 -> 1 | AF67: 0 | AG67: 0 | AH67: =+AF67+AG67 -> 0
A68: 4.9 | B68: ºñ»Ë³ÛÇ µÝ³ÏáõÃÛ³Ý í³ÛñÁ áñáß»Éáõ í»ñ³µ»ñÛ³É | E68: =+F68+G68+H68+I68 -> 7 | F68: 0 | G68: 7 | J68: =+K68+L68+M68 -> 9 | K68: 6 | L68: 3 | N68: =+O68+P68+Q68+R68+S68 -> 4 | O68: 0 | P68: 1 | Q68: 1 | R68: 0 | S68: =+T68+U68+V68 -> 2 | T68: 1 | U68: 1 | W68: 0 | X68: =+N68+W68 -> 4 | Y68: 0 | Z68: 0 | AA68: 9 | AB68: 0 | AC68: 1 | AD68: 0 | AE68: =+AC68+AD68 -> 1 | AF68: 0 | AG68: 0 | AH68: =+AF68+AG68 -> 0
A69: 4.10 | B69: ºñ»Ë³ÛÇ Ñ»ï ï»ë³ÏóáõÃÛ³Ý Ï³ñ· ë³ÑÙ³Ý»Éáõ í»ñ³µ»ñÛ³É | E69: =+F69+G69+H69+I69 -> 12 | F69: 0 | G69: 12 | J69: =+K69+L69+M69 -> 12 | K69: 9 | L69: 3 | N69: =+O69+P69+Q69+R69+S69 -> 9 | O69: 4 | P69: 4 | Q69: 0 | R69: 0 | S69: =+T69+U69+V69 -> 1 | T69: 1 | V69: 0 | W69: 0 | X69: =+N69+W69 -> 9 | Y69: 0 | Z69: 0 | AA69: 12 | AB69: 0 | AE69: =+AC69+AD69 -> 0 | AH69: =+AF69+AG69 -> 0
A70: 4.11 | B70: ²ÙáõëÇÝÝ»ñÇ ÁÝ¹Ñ³Ýáõñ ·áõÛùÁ µ³Å³Ý»Éáõ í»ñ³µ»ñÛ³É | E70: =+F70+G70+H70+I70 -> 0 | F70: 0 | J70: =+K70+L70+M70 -> 0 | N70: =+O70+P70+Q70+R70+S70 -> 0 | O70: 0 | Q70: 0 | R70: 0 | S70: 0 | T70: 0 | V70: 0 | W70: 0 | X70: =+N70+W70 -> 0 | Y70: 0 | Z70: 0 | AA70: 0 | AB70: 0 | AD70: 0 | AE70: =+AC70+AD70 -> 0 | AH70: =+AF70+AG70 -> 0
A71: 4.12 | B71: ²ÙáõëÝ³Ï³Ý å³ÛÙ³Ý³·ñÇ ÷á÷áËÙ³Ý Ï³Ù ÉáõÍÙ³Ý í»ñ³µ»ñÛ³É | E71: =+F71+G71+H71+I71 -> 0 | F71: 0 | G71: 0 | J71: =+K71+L71+M71 -> 0 | N71: =+O71+P71+Q71+R71+S71 -> 0 | O71: 0 | P71: 0 | Q71: 0 | R71: 0 | S71: =+T71+U71+V71 -> 0 | T71: 0 | U71: 0 | V71: 0 | W71: 0 | X71: =+N71+W71 -> 0 | Y71: 0 | Z71: 0 | AA71: 0 | AB71: 0 | AC71: 0 | AD71: 0 | AE71: =+AC71+AD71 -> 0 | AF71: 0 | AH71: =+AF71+AG71 -> 0
A72: 4.13 | B72: ²ÛÉ í»×»ñ | E72: =+F72+G72+H72+I72 -> 1 | F72: 0 | G72: 1 | J72: 3 | K72: 1 | L72: 1 | N72: =+O72+P72+Q72+R72+S72 -> 2 | O72: 0 | P72: 0 | Q72: 1 | R72: 0 | S72: =+T72+U72+V72 -> 1 | T72: 1 | U72: 0 | V72: 0 | W72: 0 | X72: =+N72+W72 -> 2 | Y72: 0 | Z72: 0 | AA72: 0 | AB72: 0 | AD72: 0 | AE72: =+AC72+AD72 -> 0 | AF72: 0 | AG72: 0 | AH72: =+AF72+AG72 -> 0
A73: 5. | B73: Øï³íáñ ë»÷³Ï³ÝáõÃÛ³Ý Ñ»ï Ï³åí³ÍÇñ³í³Ñ³ñ³µ»ñáõÃÛáõÝÝ»ñÇ í»ñ³µ»ñÛ³É ¹³ï³Ï³Ý ·áñÍ»ñ | E73: =SUM(E74:E79) -> 0 | F73: =SUM(F74:F79) -> 0 | G73: =SUM(G74:G79) -> 0 | H73: =SUM(H74:H79) -> 0 | I73: =SUM(I74:I79) -> 0 | J73: =SUM(J74:J79) -> 0 | K73: =SUM(K74:K79) -> 0 | L73: =SUM(L74:L79) -> 0 | ... AH73: =SUM(AH74:AH79) -> 0
A74: 5.1 | B74: ÈÇó»Ý½³ÛÇÝ å³ÛÙ³Ý³·ñÇ ÉáõÍÙ³Ý, ÷á÷áËÙ³Ý ¨ ³Ýí³í»ñáõÃÛ³Ý í»ñ³µ»ñÛ³É | E74: =+F74+G74+H74+I74 -> 0 | F74: 0 | G74: 0 | J74: =+K74+L74+M74 -> 0 | N74: =+O74+P74+Q74+R74+S74 -> 0 | O74: 0 | P74: 0 | Q74: 0 | R74: 0 | S74: =+T74+U74+V74 -> 0 | T74: 0 | U74: 0 | V74: 0 | W74: 0 | X74: =+N74+W74 -> 0 | Y74: 0 | Z74: 0 | AA74: 0 | AB74: 0 | AC74: 0 | AD74: 0 | AE74: =+AC74+AD74 -> 0 | AF74: 0 | AG74: 0 | AH74: =+AF74+AG74 -> 0
A75: 5.2 | B75: Øï³íáñ ·áñÍáõÝ»áõÃÛ³Ý ³ñ¹ÛáõÝùÝ»ñ ëï»ÕÍ»Éáõ ¨ û·ï³·áñÍ»Éáõ å³ÛÙ³Ý³·ñÇ ÉáõÍÙ³Ý, ÷á÷áËÙ³Ý áõ ³Ýí³í»ñáõÃÛ³Ý í»ñ³µ»ñÛ³É | E75: =+F75+G75+H75+I75 -> 0 | F75: 0 | G75: 0 | J75: =+K75+L75+M75 -> 0 | N75: =+O75+P75+Q75+R75+S75 -> 0 | O75: 0 | P75: 0 | Q75: 0 | R75: 0 | S75: =+T75+U75+V75 -> 0 | T75: 0 | U75: 0 | V75: 0 | W75: 0 | X75: =+N75+W75 -> 0 | Y75: 0 | Z75: 0 | AA75: 0 | AB75: 0 | AC75: 0 | AD75: 0 | AE75: =+AC75+AD75 -> 0 | AF75: 0 | AG75: 0 | AH75: =+AF75+AG75 -> 0
A76: 5.3 | B76: Ð»ÕÇÝ³Ï³ÛÇÝ ¨ Ñ³ñ³ÏÇó Çñ³íáõÝùÝ»ñÇ í»ñ³µ»ñÛ³É | E76: =+F76+G76+H76+I76 -> 0 | F76: 0 | G76: 0 | J76: =+K76+L76+M76 -> 0 | N76: =+O76+P76+Q76+R76+S76 -> 0 | O76: 0 | P76: 0 | Q76: 0 | R76: 0 | S76: =+T76+U76+V76 -> 0 | T76: 0 | U76: 0 | V76: 0 | W76: 0 | X76: =+N76+W76 -> 0 | Y76: 0 | Z76: 0 | AA76: 0 | AB76: 0 | AC76: 0 | AD76: 0 | AE76: =+AC76+AD76 -> 0 | AF76: 0 | AG76: 0 | AH76: =+AF76+AG76 -> 0
A77: 5.4 | B77: üÇñÙ³ÛÇÝ ³Ýí³ÝÙ³Ý í»ñ³µ»ñÛ³É | E77: =+F77+G77+H77+I77 -> 0 | F77: 0 | G77: 0 | J77: =+K77+L77+M77 -> 0 | N77: =+O77+P77+Q77+R77+S77 -> 0 | O77: 0 | P77: 0 | Q77: 0 | R77: 0 | S77: =+T77+U77+V77 -> 0 | T77: 0 | U77: 0 | V77: 0 | W77: 0 | X77: =+N77+W77 -> 0 | Y77: 0 | Z77: 0 | AA77: 0 | AB77: 0 | AC77: 0 | AD77: 0 | AE77: =+AC77+AD77 -> 0 | AF77: 0 | AG77: 0 | AH77: =+AF77+AG77 -> 0
A78: 5.5 | B78: ²åñ³Ýù³ÛÇÝ Ýß³ÝÇ í»ñ³µ»ñÛ³É | E78: =+F78+G78+H78+I78 -> 0 | F78: 0 | G78: 0 | J78: =+K78+L78+M78 -> 0 | N78: =+O78+P78+Q78+R78+S78 -> 0 | O78: 0 | P78: 0 | Q78: 0 | R78: 0 | S78: =+T78+U78+V78 -> 0 | T78: 0 | U78: 0 | V78: 0 | W78: 0 | X78: =+N78+W78 -> 0 | Y78: 0 | Z78: 0 | AA78: 0 | AB78: 0 | AC78: 0 | AD78: 0 | AE78: =+AC78+AD78 -> 0 | AF78: 0 | AG78: 0 | AH78: =+AF78+AG78 -> 0
A79: 5.6 | B79: ²ÛÉ í»×»ñ | E79: =+F79+G79+H79+I79 -> 0 | F79: 0 | G79: 0 | J79: =+K79+L79+M79 -> 0 | N79: =+O79+P79+Q79+R79+S79 -> 0 | O79: 0 | P79: 0 | Q79: 0 | R79: 0 | S79: =+T79+U79+V79 -> 0 | T79: 0 | U79: 0 | V79: 0 | W79: 0 | X79: =+N79+W79 -> 0 | Y79: 0 | Z79: 0 | AA79: 0 | AB79: 0 | AC79: 0 | AD79: 0 | AE79: =+AC79+AD79 -> 0 | AF79: 0 | AG79: 0 | AH79: =+AF79+AG79 -> 0
A80: 6. | B80: ²ßË³ï³Ýù³ÛÇÝ Çñ³í³Ñ³ñ³µ»ñáõÃÛáõÝÝ»ñÇ í»ñ³µ»ñÛ³É ¹³ï³Ï³Ý ·áñÍ»ñ | E80: =SUM(E81:E86) -> 9 | F80: =SUM(F81:F86) -> 1 | G80: =SUM(G81:G86) -> 8 | H80: =SUM(H81:H86) -> 0 | I80: =SUM(I81:I86) -> 0 | J80: =SUM(J81:J86) -> 9 | K80: =SUM(K81:K86) -> 8 | L80: =SUM(L81:L86) -> 1 | ... AH80: =SUM(AH81:AH86) -> 9
A81: 6.1 | B81: ²ßË³ï³Ýù³ÛÇÝ å³ÛÙ³Ý³·ñ»ñÇ í»ñ³µ»ñÛ³É | E81: =+F81+G81+H81+I81 -> 0 | F81: 0 | G81: 0 | J81: =+K81+L81+M81 -> 0 | N81: =+O81+P81+Q81+R81+S81 -> 0 | O81: 0 | P81: 0 | Q81: 0 | R81: 0 | S81: =+T81+U81+V81 -> 0 | T81: 0 | U81: 0 | V81: 0 | W81: 0 | X81: =+N81+W81 -> 0 | Y81: 0 | Z81: 0 | AA81: 0 | AB81: 0 | AC81: 0 | AD81: 0 | AE81: =+AC81+AD81 -> 0 | AF81: 0 | AH81: =+AF81+AG81 -> 0
A82: 6.2 | B82: ²ßË³ï³ÝùáõÙ í»ñ³Ï³Ý·Ý»Éáõ í»ñ³µ»ñÛ³É | E82: =+F82+G82+H82+I82 -> 5 | F82: 1 | G82: 4 | J82: =+K82+L82+M82 -> 4 | K82: 4 | N82: =+O82+P82+Q82+R82+S82 -> 6 | Q82: 4 | R82: 0 | S82: =+T82+U82+V82 -> 2 | T82: 0 | U82: 2 | V82: 0 | W82: 0 | X82: =+N82+W82 -> 6 | Z82: 1 | AA82: 3 | AB82: 1 | AC82: 5 | AE82: =+AC82+AD82 -> 5 | AF82: 0 | AG82: 0 | AH82: =+AF82+AG82 -> 0
A83: 6.3 | B83: ¶áñÍ³¹áõÉÝ ³ÝûñÇÝ³Ï³Ý ×³Ý³ã»Éáõ í»ñ³µ»ñÛ³É | E83: =+F83+G83+H83+I83 -> 0 | F83: 0 | G83: 0 | J83: =+K83+L83+M83 -> 0 | N83: =+O83+P83+Q83+R83+S83 -> 0 | O83: 0 | P83: 0 | Q83: 0 | R83: 0 | S83: =+T83+U83+V83 -> 0 | T83: 0 | U83: 0 | V83: 0 | W83: 0 | X83: =+N83+W83 -> 0 | Y83: 0 | Z83: 0 | AA83: 0 | AB83: 0 | AC83: 0 | AD83: 0 | AE83: =+AC83+AD83 -> 0 | AF83: 0 | AG83: 9 | AH83: =+AF83+AG83 -> 9
A84: 6.4 | B84: Ð³ñÏ³¹Çñ å³ñ³åáõñ¹Ç Ñ³ïáõóÙ³Ý í»ñ³µ»ñÛ³É | E84: =+F84+G84+H84+I84 -> 0 | F84: 0 | G84: 0 | J84: =+K84+L84+M84 -> 0 | N84: =+O84+P84+Q84+R84+S84 -> 0 | O84: 0 | P84: 0 | Q84: 0 | R84: 0 | S84: =+T84+U84+V84 -> 0 | T84: 0 | U84: 0 | V84: 0 | W84: 0 | X84: =+N84+W84 -> 0 | Y84: 0 | Z84: 0 | AA84: 0 | AB84: 0 | AC84: 0 | AD84: 0 | AE84: =+AC84+AD84 -> 0 | AF84: 0 | AG84: 0 | AH84: =+AF84+AG84 -> 0
A85: 6.5 | B85: âí×³ñí³Í ³ßË³ï³í³ñÓÇ ¨/Ï³Ù ³ÛÉ í×³ñÝ»ñÇ µéÝ³·³ÝÓÙ³Ý í»ñ³µ»ñÛ³É | E85: =+F85+G85+H85+I85 -> 2 | F85: 0 | G85: 2 | J85: =+K85+L85+M85 -> 2 | K85: 2 | N85: =+O85+P85+Q85+R85+S85 -> 2 | O85: 1 | P85: 1 | Q85: 0 | R85: 0 | S85: =+T85+U85+V85 -> 0 | T85: 0 | V85: 0 | W85: 0 | X85: =+N85+W85 -> 2 | Y85: 0 | Z85: 0 | AA85: 2 | AB85: 0 | AC85: 1 | AD85: 0 | AE85: =+AC85+AD85 -> 1 | AF85: 0 | AG85: 0 | AH85: =+AF85+AG85 -> 0
A86: 6.6 | B86: ²ÛÉ í»×»ñ | E86: =+F86+G86+H86+I86 -> 2 | F86: 0 | G86: 2 | J86: =+K86+L86+M86 -> 3 | K86: 2 | L86: 1 | N86: =+O86+P86+Q86+R86+S86 -> 0 | P86: 0 | R86: 0 | S86: =+T86+U86+V86 -> 0 | T86: 0 | U86: 0 | V86: 0 | W86: 1 | X86: =+N86+W86 -> 1 | Y86: 0 | Z86: 0 | AA86: 3 | AB86: 0 | AC86: 1 | AD86: 1 | AE86: =+AC86+AD86 -> 2 | AF86: 0 | AG86: 0 | AH86: =+AF86+AG86 -> 0
A87: 7. | B87: Æñ³í³µ³Ý³Ï³Ý ³ÝÓÇ ·áñÍáõÝ»áõÃÛáõÝÇó µËáÕ Çñ³í³Ñ³ñ³µ»ñáõÃÛáõÝÝ»ñÇ í»ñ³µ»ñÛ³É ¹³ï³Ï³Ý ·áñÍ»ñ | E87: =SUM(E88:E89) -> 0 | F87: =SUM(F88:F89) -> 0 | G87: =SUM(G88:G89) -> 0 | H87: =SUM(H88:H89) -> 0 | I87: =SUM(I88:I89) -> 0 | J87: =SUM(J88:J89) -> 0 | K87: =SUM(K88:K89) -> 0 | L87: =SUM(L88:L89) -> 0 | ... AH87: =SUM(AH88:AH89) -> 0
A88: 7.1 | B88: Îáñåáñ³ïÇí í»×»ñ | E88: =+F88+G88+H88+I88 -> 0 | F88: 0 | J88: =+K88+L88+M88 -> 0 | N88: =+O88+P88+Q88+R88+S88 -> 0 | O88: 0 | P88: 0 | R88: 0 | S88: =+T88+U88+V88 -> 0 | T88: 0 | U88: 0 | V88: 0 | W88: 0 | X88: =+N88+W88 -> 0 | Y88: 0 | Z88: 0 | AA88: 0 | AB88: 0 | AD88: 0 | AE88: =+AC88+AD88 -> 0 | AF88: 0 | AG88: 0 | AH88: =+AF88+AG88 -> 0
A89: 7.2 | B89: ²ÛÉ í»×»ñ | E89: =+F89+G89+H89+I89 -> 0 | F89: 0 | G89: 0 | J89: =+K89+L89+M89 -> 0 | N89: =+O89+P89+Q89+R89+S89 -> 0 | O89: 0 | P89: 0 | Q89: 0 | R89: 0 | S89: =+T89+U89+V89 -> 0 | T89: 0 | U89: 0 | V89: 0 | W89: 0 | X89: =+N89+W89 -> 0 | Y89: 0 | Z89: 0 | AA89: 0 | AB89: 0 | AC89: 0 | AD89: 0 | AE89: =+AC89+AD89 -> 0 | AF89: 0 | AG89: 0 | AH89: =+AF89+AG89 -> 0
A90: 8. | B90: Ð³ïáõÏ í³ñáõÛÃÇ ¹³ï³Ï³Ý ·áñÍ»ñ | E90: =SUM(E91:E111) -> 56 | F90: =SUM(F91:F111) -> 11 | G90: =SUM(G91:G111) -> 45 | H90: =SUM(H91:H111) -> 0 | I90: =SUM(I91:I111) -> 0 | J90: =SUM(J91:J111) -> 82 | K90: =SUM(K91:K111) -> 64 | L90: =SUM(L91:L111) -> 14 | ... AH90: =SUM(AH91:AH111) -> 0
A91: 8.1 | B91: ²Ýã³÷³Ñ³ëÇÝ ÉñÇí ·áñÍáõÝ³Ï ×³Ý³ã»Éáõ /¿Ù³ÝëÇå³óÇ³/ í»ñ³µ»ñÛ³É | E91: =+F91+G91+H91+I91 -> 0 | F91: 0 | G91: 0 | J91: =+K91+L91+M91 -> 0 | N91: =+O91+P91+Q91+R91+S91 -> 0 | O91: 0 | P91: 0 | Q91: 0 | R91: 0 | S91: =+T91+U91+V91 -> 0 | T91: 0 | U91: 0 | V91: 0 | W91: 0 | X91: =+N91+W91 -> 0 | Y91: 0 | Z91: 0 | AA91: 0 | AB91: 0 | AC91: 0 | AD91: 0 | AE91: =+AC91+AD91 -> 0 | AH91: =+AF91+AG91 -> 0
A92: 8.2 | B92: ø³Õ³ù³óáõÝ ³Ý·áñÍáõÝ³Ï Ï³Ù ë³ÑÙ³Ý³÷³Ï ·áñÍáõÝ³Ï ×³Ý³ã»Éáõ í»ñ³µ»ñÛ³É | E92: =+F92+G92+H92+I92 -> 24 | F92: 11 | G92: 13 | J92: =+K92+L92+M92 -> 15 | K92: 12 | L92: 3 | N92: =+O92+P92+Q92+R92+S92 -> 18 | O92: 10 | P92: 0 | Q92: 2 | R92: 0 | S92: =+T92+U92+V92 -> 6 | T92: 0 | U92: 6 | V92: 0 | W92: 0 | X92: =+N92+W92 -> 18 | Y92: 0 | Z92: 4 | AA92: 18 | AB92: 10 | AC92: 0 | AD92: 0 | AE92: =+AC92+AD92 -> 0 | AF92: 0 | AG92: 0 | AH92: =+AF92+AG92 -> 0
A93: 8.3 | B93: ø³Õ³ù³óáõÝ Ñá·»µáõÅ³Ï³Ý ÑÇí³Ý¹³Ýáó³ÛÇÝ Ñ³ñÏ³¹Çñ µáõÅÙ³Ý »ÝÃ³ñÏ»Éáõ í»ñ³µ»ñÛ³É | E93: =+F93+G93+H93+I93 -> 0 | F93: 0 | G93: 0 | J93: =+K93+L93+M93 -> 0 | N93: =+O93+P93+Q93+R93+S93 -> 0 | O93: 0 | P93: 0 | Q93: 0 | R93: 0 | S93: =+T93+U93+V93 -> 0 | T93: 0 | U93: 0 | V93: 0 | W93: 0 | X93: =+N93+W93 -> 0 | Y93: 0 | Z93: 0 | AA93: 0 | AB93: 0 | AC93: 0 | AD93: 0 | AE93: =+AC93+AD93 -> 0 | AF93: 0 | AG93: 0 | AH93: =+AF93+AG93 -> 0
A94: 8.4 | B94: ø³Õ³ù³óáõÝ ³ÝÑ³Ûï µ³ó³Ï³ÛáÕ Ï³Ù Ù³Ñ³ó³Í ×³Ý³ã»Éáõ í»ñ³µ»ñÛ³É | E94: =+F94+G94+H94+I94 -> 8 | F94: 0 | G94: 8 | J94: =+K94+L94+M94 -> 9 | K94: 8 | L94: 1 | N94: =+O94+P94+Q94+R94+S94 -> 10 | O94: 6 | P94: 0 | Q94: 2 | R94: 0 | S94: =+T94+U94+V94 -> 2 | T94: 0 | U94: 2 | V94: 0 | W94: 0 | X94: =+N94+W94 -> 10 | Y94: 0 | Z94: 0 | AA94: 6 | AC94: 1 | AD94: 0 | AE94: =+AC94+AD94 -> 1 | AF94: 0 | AG94: 0 | AH94: =+AF94+AG94 -> 0
A95: 8.5 | B95: ø³Õ³ù³óÇ³Ï³Ý Ï³óáõÃÛ³Ý ³Ïï»ñÇ ·ñ³éáõÙÝ»ñÇ ³Ý×ßïáõÃÛáõÝÝ»ñÁ å³ñ½»Éáõ í»ñ³µ»ñÛ³É | E95: =+F95+G95+H95+I95 -> 0 | F95: 0 | G95: 0 | J95: =+K95+L95+M95 -> 0 | N95: =+O95+P95+Q95+R95+S95 -> 0 | O95: 0 | P95: 0 | Q95: 0 | R95: 0 | S95: =+T95+U95+V95 -> 0 | T95: 0 | U95: 0 | V95: 0 | W95: 0 | X95: =+N95+W95 -> 0 | Y95: 0 | Z95: 0 | AA95: 0 | AB95: 0 | AC95: 0 | AD95: 0 | AE95: =+AC95+AD95 -> 0 | AF95: 0 | AG95: 0 | AH95: =+AF95+AG95 -> 0
A96: 8.6 | B96: ¶áõÛùÁ ïÇñ³½áõñÏ ×³Ý³ã»Éáõ í»ñ³µ»ñÛ³É | E96: =+F96+G96+H96+I96 -> 1 | F96: 0 | G96: 1 | J96: =+K96+L96+M96 -> 0 | N96: =+O96+P96+Q96+R96+S96 -> 1 | O96: 0 | P96: 1 | Q96: 0 | R96: 0 | S96: =+T96+U96+V96 -> 0 | T96: 0 | U96: 0 | V96: 0 | W96: 0 | X96: =+N96+W96 -> 1 | Y96: 0 | Z96: 0 | AB96: 0 | AC96: 0 | AD96: 1 | AE96: =+AC96+AD96 -> 1 | AF96: 0 | AG96: 0 | AH96: =+AF96+AG96 -> 0
A97: 8.6.1 | B97: ²Û¹ ÃíáõÙª ³Ýß³ñÅ ·áõÛùÁ | E97: =+F97+G97+H97+I97 -> 0 | F97: 0 | G97: 0 | J97: =+K97+L97+M97 -> 0 | N97: =+O97+P97+Q97+R97+S97 -> 0 | O97: 0 | P97: 0 | Q97: 0 | R97: 0 | S97: =+T97+U97+V97 -> 0 | T97: 0 | U97: 0 | V97: 0 | W97: 0 | X97: =+N97+W97 -> 0 | Y97: 0 | Z97: 0 | AA97: 0 | AB97: 0 | AC97: 0 | AD97: 0 | AE97: =+AC97+AD97 -> 0 | AF97: 0 | AG97: 0 | AH97: =+AF97+AG97 -> 0
A98: 8.6.2 | B98: ²Û¹ ÃíáõÙª ß³ñÅ³Ï³Ý ·áõÛùÁ | E98: =+F98+G98+H98+I98 -> 0 | F98: 0 | G98: 0 | J98: =+K98+L98+M98 -> 0 | N98: =+O98+P98+Q98+R98+S98 -> 0 | O98: 0 | P98: 0 | Q98: 0 | R98: 0 | S98: =+T98+U98+V98 -> 0 | T98: 0 | U98: 0 | V98: 0 | W98: 0 | X98: =+N98+W98 -> 0 | Y98: 0 | Z98: 0 | AA98: 0 | AB98: 0 | AC98: 0 | AD98: 0 | AE98: =+AC98+AD98 -> 0 | AF98: 0 | AG98: 0 | AH98: =+AF98+AG98 -> 0
A99: 8.7 | B99: Æñ³í³µ³Ý³Ï³Ý Ýß³Ý³ÏáõÃÛáõÝ áõÝ»óáÕ ÷³ëï»ñÇ Ñ³ëï³ïÙ³Ý í»ñ³µ»ñÛ³É | E99: =+F99+G99+H99+I99 -> 1 | F99: 0 | G99: 1 | J99: =+K99+L99+M99 -> 1 | L99: 1 | N99: =+O99+P99+Q99+R99+S99 -> 1 | O99: 1 | Q99: 0 | R99: 0 | S99: =+T99+U99+V99 -> 0 | T99: 0 | U99: 0 | V99: 0 | W99: 0 | X99: =+N99+W99 -> 1 | Y99: 0 | Z99: 0 | AB99: 0 | AD99: 0 | AE99: =+AC99+AD99 -> 0 | AF99: 0 | AG99: 0 | AH99: =+AF99+AG99 -> 0
A100: 8.7.1 | B100: ²ÝÓ³Ýó ³½·³Ïó³Ï³Ý Ï³åÁ Ñ³ëï³ï»Éáõ í»ñ³µ»ñÛ³É | E100: =+F100+G100+H100+I100 -> 3 | F100: 0 | G100: 3 | J100: 7 | K100: 5 | L100: 1 | N100: =+O100+P100+Q100+R100+S100 -> 3 | O100: 3 | Q100: 0 | R100: 0 | S100: =+T100+U100+V100 -> 0 | T100: 0 | V100: 0 | W100: 0 | X100: =+N100+W100 -> 3 | Y100: 0 | Z100: 0 | AA100: 5 | AB100: 0 | AC100: 0 | AD100: 0 | AE100: =+AC100+AD100 -> 0 | AF100: 0 | AH100: =+AF100+AG100 -> 0
A101: 8.7.2 | B101: ²ÝÓÇª áõñÇßÇ ËÝ³ÙùÇ ï³Ï ·ïÝí»Éáõ í»ñ³µ»ñÛ³É | E101: =+F101+G101+H101+I101 -> 0 | F101: 0 | G101: 0 | J101: =+K101+L101+M101 -> 0 | N101: =+O101+P101+Q101+R101+S101 -> 0 | O101: 0 | P101: 0 | Q101: 0 | R101: 0 | S101: =+T101+U101+V101 -> 0 | T101: 0 | U101: 0 | V101: 0 | W101: 0 | X101: =+N101+W101 -> 0 | Y101: 0 | Z101: 0 | AA101: 0 | AB101: 0 | AC101: 0 | AD101: 0 | AE101: =+AC101+AD101 -> 0 | AF101: 0 | AG101: 0 | AH101: =+AF101+AG101 -> 0
A102: 8.7.3 | B102: ÌÝÝ¹Û³Ý, áñ¹»·ñÙ³Ý, ³ÙáõëÝáõÃÛ³Ý, ³å³Ñ³ñ½³ÝÇ ¨ Ù³Ñí³Ý ·ñ³ÝóÙ³Ý í»ñ³µ»ñÛ³É | E102: =+F102+G102+H102+I102 -> 1 | F102: 0 | G102: 1 | J102: =+K102+L102+M102 -> 6 | K102: 5 | L102: 1 | N102: =+O102+P102+Q102+R102+S102 -> 2 | O102: 2 | P102: 0 | Q102: 0 | R102: 0 | S102: =+T102+U102+V102 -> 0 | T102: 0 | U102: 0 | V102: 0 | W102: 0 | X102: =+N102+W102 -> 2 | Y102: 0 | Z102: 0 | AA102: 4 | AB102: 0 | AC102: 0 | AD102: 0 | AE102: =+AC102+AD102 -> 0 | AF102: 0 | AG102: 0 | AH102: =+AF102+AG102 -> 0
A103: 8.7.4 | B103: ²ÝÓÇª áñáß³ÏÇ Å³Ù³Ý³ÏáõÙ ¨ áñáß³ÏÇ Ñ³Ý·³Ù³ÝùÝ»ñáõÙ Ù³Ñí³Ý í»ñ³µ»ñÛ³É | E103: =+F103+G103+H103+I103 -> 0 | F103: 0 | G103: 0 | J103: =+K103+L103+M103 -> 1 | K103: 1 | N103: =+O103+P103+Q103+R103+S103 -> 1 | O103: 1 | P103: 0 | Q103: 0 | R103: 0 | S103: =+T103+U103+V103 -> 0 | T103: 0 | U103: 0 | V103: 0 | W103: 0 | X103: =+N103+W103 -> 1 | Y103: 0 | Z103: 0 | AA103: 0 | AB103: 0 | AC103: 0 | AD103: 0 | AE103: =+AC103+AD103 -> 0 | AF103: 0 | AG103: 0 | AH103: =+AF103+AG103 -> 0
A104: 8.7.5 | B104: Ä³é³Ý·áõÃÛáõÝÝ ÁÝ¹áõÝ»Éáõ ¨ Å³é³Ý·áõÃÛ³Ý µ³óÙ³Ý í³ÛñÇ í»ñ³µ»ñÛ³É | E104: =+F104+G104+H104+I104 -> 0 | F104: 0 | J104: =+K104+L104+M104 -> 7 | K104: 6 | L104: 1 | N104: =+O104+P104+Q104+R104+S104 -> 1 | O104: 0 | P104: 0 | Q104: 1 | R104: 0 | S104: =+T104+U104+V104 -> 0 | T104: 0 | U104: 0 | V104: 0 | X104: =+N104+W104 -> 1 | Y104: 0 | Z104: 0 | AA104: 5 | AB104: 0 | AC104: 1 | AD104: 0 | AE104: =+AC104+AD104 -> 1 | AF104: 0 | AG104: 0 | AH104: =+AF104+AG104 -> 0
A105: 8.7.6 | B105: ¸Åµ³Ëï å³ï³Ñ³ñÇ í»ñ³µ»ñÛ³É | E105: =+F105+G105+H105+I105 -> 0 | F105: 0 | G105: 0 | J105: =+K105+L105+M105 -> 0 | N105: =+O105+P105+Q105+R105+S105 -> 0 | O105: 0 | P105: 0 | Q105: 0 | R105: 0 | S105: =+T105+U105+V105 -> 0 | T105: 0 | U105: 0 | V105: 0 | W105: 0 | X105: =+N105+W105 -> 0 | Y105: 0 | Z105: 0 | AA105: 0 | AB105: 0 | AC105: 0 | AD105: 0 | AE105: =+AC105+AD105 -> 0 | AF105: 0 | AG105: 0 | AH105: =+AF105+AG105 -> 0
A106: 8.7.7 | B106: Æñ³íáõÝù ë³ÑÙ³ÝáÕ ÷³ëï³ÃÕÃ»ñÇ å³ïÏ³Ý»ÉáõÃÛ³Ý í»ñ³µ»ñÛ³É | E106: =+F106+G106+H106+I106 -> 4 | G106: 4 | J106: 14 | K106: 7 | L106: 5 | M106: 1 | N106: =+O106+P106+Q106+R106+S106 -> 8 | O106: 7 | R106: 0 | S106: =+T106+U106+V106 -> 1 | T106: 0 | U106: 0 | V106: 1 | X106: =+N106+W106 -> 8 | Y106: 0 | Z106: 0 | AA106: 3 | AB106: 0 | AC106: 0 | AD106: 1 | AE106: =+AC106+AD106 -> 1 | AF106: 0 | AG106: 0 | AH106: =+AF106+AG106 -> 0
A107: 8.7.8 | B107: ê»÷³Ï³ÝáõÃÛ³Ý Çñ³íáõÝùáí ·áõÛùÇ ïÇñ³å»ïÙ³Ý í»ñ³µ»ñÛ³É | E107: =+F107+G107+H107+I107 -> 1 | F107: 0 | G107: 1 | J107: =+K107+L107+M107 -> 2 | K107: 2 | N107: =+O107+P107+Q107+R107+S107 -> 0 | P107: 0 | Q107: 0 | R107: 0 | S107: =+T107+U107+V107 -> 0 | T107: 0 | U107: 0 | V107: 0 | W107: 0 | X107: =+N107+W107 -> 0 | Y107: 0 | Z107: 1 | AA107: 3 | AB107: 1 | AD107: 0 | AE107: =+AC107+AD107 -> 0 | AF107: 0 | AH107: =+AF107+AG107 -> 0
A108: 8.7.9 | B108: ²ÝÑ³ÕÃ³Ñ³ñ»ÉÇ áõÅÇ ³éÏ³ÛáõÃÛ³Ý í»ñ³µ»ñÛ³É | E108: =+F108+G108+H108+I108 -> 0 | F108: 0 | G108: 0 | J108: =+K108+L108+M108 -> 0 | N108: =+O108+P108+Q108+R108+S108 -> 0 | O108: 0 | P108: 0 | Q108: 0 | R108: 0 | S108: =+T108+U108+V108 -> 0 | T108: 0 | U108: 0 | V108: 0 | W108: 0 | X108: =+N108+W108 -> 0 | Y108: 0 | Z108: 0 | AA108: 0 | AB108: 0 | AC108: 0 | AD108: 0 | AE108: =+AC108+AD108 -> 0 | AF108: 0 | AG108: 0 | AH108: =+AF108+AG108 -> 0
A109: 8.7.10 | B109: úñ»Ýùáí Ý³Ë³ï»ëí³Í ³ÛÉ Çñ³í³µ³Ý³Ï³Ý ÷³ëï»ñÇ í»ñ³µ»ñÛ³É | E109: =+F109+G109+H109+I109 -> 12 | F109: 0 | G109: 12 | J109: 15 | K109: 13 | L109: 1 | N109: =+O109+P109+Q109+R109+S109 -> 9 | O109: 4 | P109: 5 | Q109: 0 | R109: 0 | S109: =+T109+U109+V109 -> 0 | T109: 0 | V109: 0 | W109: 4 | X109: =+N109+W109 -> 13 | Y109: 0 | Z109: 0 | AA109: 12 | AB109: 0 | AC109: 1 | AD109: 1 | AE109: =+AC109+AD109 -> 2 | AF109: 0 | AG109: 0 | AH109: =+AF109+AG109 -> 0
