Workbook

Sheet Ընդհանուր
A1: 2019թ. 1-ին կիսամյակ | E1: Ð²ÞìºîìàôÂÚàôÜ
A2: ÐÐ ²è²æÆÜ ²îÚ²ÜÆ ÀÜ¸Ð²Üàôð Æð²ì²êàôÂÚ²Ü ¸²î²ð²ÜàôØ ø²Ô²ø²òÆ²Î²Ü ¶àðÌºðÆ øÜÜàôÂÚ²Ü ìºð²´ºðÚ²È
A4: êïáõ·Çã Ñ³í³ë³ñáõÙÝ»ñª 1=2+3+4+5, 6=7+8+9, 2+3+7=20+21+23, 10=11+12+13+14+15, 15=16+17+18, 20=10+19, 27=25+26, 30=28+29 | E4: Ð³ßí»ïáõ Å³Ù³Ý³Ï³Ñ³ïí³ÍáõÙ Ý³Ëáñ¹ Ñ³ßí»ïáõ Å³Ù³Ý³Ï³Ñ³ïí³ÍÇó ÷áË³Ýóí³Í ·áñÍ»ñÇ ÁÝ¹Ñ³Ýáõñ ÃÇíÁ | J4: Ð³ßí»ïáõ Å³Ù³Ý³Ï³Ñ³ïí³ÍáõÙëï³óí³Í ·áñÍ»ñÇ (³Û¹ ÃíáõÙ` Ñ³Ûó³¹ÇÙáõÙÝ»ñÇ, ¹ÇÙáõÙÝ»ñÇ) ÁÝ¹Ñ³Ýáõñ ÃÇíÁ | N4: Ð³ßí»ïáõ Å³Ù³Ý³Ï³Ñ³ïí³ÍáõÙ ³í³ñïí³Í ·áñÍ»ñÇ ÁÝ¹Ñ³Ýáõñ ÃÇíÁ | Y4: ¶áñÍÝ áõÕ³ñÏí»É ¿ Áëï ÁÝ¹¹³ïáõÃÛ³Ý | Z4: Ð³ßí»ïáõ Å³Ù³Ý³Ï³Ñ³ïí³ÍáõÙ Ï³ë»óí³Í í³ñáõÛÃÝ»ñáí ·áñÍ»ñÇ ÁÝ¹Ñ³Ýáõñ ÃÇíÁ | AA4: Ð³ßí»ïáõ Å³Ù³Ý³Ï³Ñ³ïí³ÍáõÙ ³Ý³í³ñï ·áñÍ»ñÇ ÁÝ¹Ñ³Ýáõñ ÃÇíÁ | AB4: ²Û¹ ÃíáõÙª Ï³ë»óí³Í | AC4: ´áÕáù³ñÏí³Í ¹³ï³Ï³Ý ³Ïï»ñÇ ÃÇíÁ` Áëï ï»ë³ÏÝ»ñÇ | AF4: ´»Ï³Ýí³Í ¹³ï³Ï³Ý ³Ïï»ñÇ ÃÇíÁ` Áëï ï»ë³ÏÝ»ñÇ
E7: ÀÝ¹³Ù»ÝÁ | F7: ²Û¹ ÃíáõÙ`Ï³ë»óí³Í íÇ×³ÏáõÙ ÷áË³Ýóí³Í | G7: ²Û¹ ÃíáõÙª ÁÝ¹áõÝí»É ¿ í³ñáõÛÃ | H7: ²Û¹ ÃíáõÙª í»ñ³¹³ñÓí»É ¿ | I7: ²Û¹ ÃíáõÙª ÁÝ¹áõÝáõÙÁ Ù»ñÅí»É ¿ | J7: ÀÝ¹³Ù»ÝÁ | K7: ²Û¹ ÃíáõÙª ÁÝ¹áõÝí»É ¿ í³ñáõÛÃ | L7: ²Û¹ ÃíáõÙª í»ñ³¹³ñÓí»É ¿ | M7: ²Û¹ ÃíáõÙª ÁÝ¹áõÝáõÙÁ Ù»ñÅí»É ¿ | N7: ÀÝ¹³Ù»ÝÁ ³í³ñïí»É »Ý ·áñÍ»ñ ·áñÍÝ Áëï ¿áõÃÛ³Ý ÉáõÍáÕ ¹³ï³Ï³Ý ³Ïï»ñÇ (í×ÇéÝ»ñÇ) Ï³Û³óÙ³Ùµ | O7: ²Û¹ ÃíáõÙª Ñ³ÛóÇ µ³í³ñ³ñÙ³Ùµ | P7: ²Û¹ ÃíáõÙª Ñ³ÛóÇ Ù³ëÝ³ÏÇ µ³í³ñ³ñÙ³Ùµ | Q7: ²Û¹ ÃíáõÙª Ñ³ÛóÇ Ù»ñÅÙ³Ùµ | R7: Ø³ëáí Ï³ñ×í»É ¿, Ù³ëáí Ù»ñÅí»É | S7: ²Û¹ ÃíáõÙª Ï³ñ×í»É »Ý | W7: Ð³ÛóÁ ÃáÕÝí»É ¿ ³é³Ýó ùÝÝáõÃÛ³Ý | X7: ÀÝ¹³Ù»ÝÝ ³í³ñïí»É »Ý ·áñÍ»ñ | AC7: ²Û¹ ÃíáõÙ` ·áñÍÝ Áëï ¿áõÃÛ³Ý ÉáõÍáÕ ¹³ï³Ï³Ý ³Ïï»ñ | AD7: ²Û¹ ÃíáõÙ` ÙÇç³ÝÏÛ³É ¹³ï³Ï³Ý ³Ïï»ñ | AE7: ÀÝ¹³Ù»ÝÁ | AF7: ²Û¹ ÃíáõÙ` ·áñÍÝ Áëï ¿áõÃÛ³Ý ÉáõÍáÕ ¹³ï³Ï³Ý ³Ïï»ñ | AG7: ²Û¹ ÃíáõÙ` ÙÇç³ÝÏÛ³É ¹³ï³Ï³Ý ³Ïï»ñ | AH7: ÀÝ¹³Ù»ÝÁ
S10: ÀÝ¹³Ù»ÝÁ Ï³ñ×í»É »Ý | T10: ²Û¹ ÃíáõÙª Ñ³ëï³ïí»É ¿ ÏÝùí³Í Ñ³ßïáõÃÛ³Ý Ñ³Ù³Ó³ÛÝáõÃÛáõÝÁ | U10: ²Û¹ ÃíáõÙª Ñ³óÇó, ¹ÇÙáõÙÇó Ññ³Å³ñí»Éáõ ÑÇÙùáí | V10: ²Û¹ ÃíáõÙª ³ÛÉ ÑÇÙùáí
A18: ø³Õ³ù³óÇ³Ï³Ý ·áñÍ»ñÇ ¹³ë³Ï³ñ·áõÙÁ | E18: 1 | F18: 2 | G18: 3 | H18: 4 | I18: 5 | J18: 6 | K18: 7 | L18: 8 | M18: 9 | N18: 10 | O18: 11 | P18: 12 | Q18: 13 | R18: 14 | S18: 15 | T18: 16 | U18: 17 | V18: 18 | W18: 19 | X18: 20 | Y18: 21 | Z18: 22 | AA18: 23 | AB18: 24 | AC18: 25 | AD18: 26 | AE18: 27 | AF18: 28 | AG18: 29 | AH18: 30
A19: 1. | B19: ¶áõÛù³ÛÇÝ Çñ³í³Ñ³ñ³µ»ñáõÃÛáõÝÝ»ñÇ í»ñ³µ»ñÛ³É ¹³ï³Ï³Ý ·áñÍ»ñ | E19: =SUM(Երևան:Սյունիք!E19) -> 4988 | F19: =SUM(Երևան:Սյունիք!F19) -> 1726 | G19: =SUM(Երևան:Սյունիք!G19) -> 3243 | H19: =SUM(Երևան:Սյունիք!H19) -> 17 | I19: =SUM(Երևան:Սյունիք!I19) -> 2 | J19: =SUM(Երևան:Սյունիք!J19) -> 1860 | K19: =SUM(Երևան:Սյունիք!K19) -> 1317 | L19: =SUM(Երևան:Սյունիք!L19) -> 407 | ... AH19: =SUM(Երևան:Սյունիք!AH19) -> 13
A20: 1.1 | B20: ¶áõÛùÇ ÝÏ³ïÙ³Ùµ ë»÷³Ï³ÝáõÃÛ³Ý Çñ³íáõÝùÁ ×³Ý³ã»Éáõ í»ñ³µ»ñÛ³É | E20: =SUM(Երևան:Սյունիք!E20) -> 401 | F20: =SUM(Երևան:Սյունիք!F20) -> 59 | G20: =SUM(Երևան:Սյունիք!G20) -> 340 | H20: =SUM(Երևան:Սյունիք!H20) -> 1 | I20: =SUM(Երևան:Սյունիք!I20) -> 1 | J20: =SUM(Երևան:Սյունիք!J20) -> 200 | K20: =SUM(Երևան:Սյունիք!K20) -> 113 | L20: =SUM(Երևան:Սյունիք!L20) -> 52 | ... AH20: =SUM(Երևան:Սյունիք!AH20) -> 1
A21: 1.1.1 | B21: ²Û¹ ÃíáõÙª Ó»éùµ»ñÙ³Ý í³Õ»ÙáõÃÛ³Ý áõÅáí | E21: =SUM(Երևան:Սյունիք!E21) -> 331 | F21: =SUM(Երևան:Սյունիք!F21) -> 22 | G21: =SUM(Երևան:Սյունիք!G21) -> 305 | H21: =SUM(Երևան:Սյունիք!H21) -> 4 | I21: =SUM(Երևան:Սյունիք!I21) -> 0 | J21: =SUM(Երևան:Սյունիք!J21) -> 238 | K21: =SUM(Երևան:Սյունիք!K21) -> 184 | L21: =SUM(Երևան:Սյունիք!L21) -> 32 | ... AH21: =SUM(Երևան:Սյունիք!AH21) -> 0
A22: 1.1.2 | B22: ²Û¹ ÃíáõÙª ïÇñ³½áõñÏ ·áõÛùÇ ÝÏ³ïÙ³Ùµ | E22: =SUM(Երևան:Սյունիք!E22) -> 13 | F22: =SUM(Երևան:Սյունիք!F22) -> 2 | G22: =SUM(Երևան:Սյունիք!G22) -> 11 | H22: =SUM(Երևան:Սյունիք!H22) -> 0 | I22: =SUM(Երևան:Սյունիք!I22) -> 0 | J22: =SUM(Երևան:Սյունիք!J22) -> 17 | K22: =SUM(Երևան:Սյունիք!K22) -> 10 | L22: =SUM(Երևան:Սյունիք!L22) -> 4 | ... AH22: =SUM(Երևան:Սյունիք!AH22) -> 0
A23: 1.1.3 | B23: ²Û¹ ÃíáõÙª ÇÝùÝ³Ï³Ù Ï³éáõÛóÇ ÝÏ³ïÙ³Ùµ | E23: =SUM(Երևան:Սյունիք!E23) -> 2 | F23: =SUM(Երևան:Սյունիք!F23) -> 2 | G23: =SUM(Երևան:Սյունիք!G23) -> 0 | H23: =SUM(Երևան:Սյունիք!H23) -> 0 | I23: =SUM(Երևան:Սյունիք!I23) -> 0 | J23: =SUM(Երևան:Սյունիք!J23) -> 0 | K23: =SUM(Երևան:Սյունիք!K23) -> 0 | L23: =SUM(Երևան:Սյունիք!L23) -> 0 | ... AH23: =SUM(Երևան:Սյունիք!AH23) -> 0
A24: 1.2 | B24: ê»÷³Ï³ÝáõÃÛ³Ý Çñ³íáõÝùÇ ¹³¹³ñ»óÙ³Ý í»ñ³µ»ñÛ³É | E24: =SUM(Երևան:Սյունիք!E24) -> 72 | F24: =SUM(Երևան:Սյունիք!F24) -> 7 | G24: =SUM(Երևան:Սյունիք!G24) -> 65 | H24: =SUM(Երևան:Սյունիք!H24) -> 0 | I24: =SUM(Երևան:Սյունիք!I24) -> 0 | J24: =SUM(Երևան:Սյունիք!J24) -> 20 | K24: =SUM(Երևան:Սյունիք!K24) -> 17 | L24: =SUM(Երևան:Սյունիք!L24) -> 2 | ... AH24: =SUM(Երևան:Սյունիք!AH24) -> 0
A25: 1.3 | B25: ¶áõÛùÇ ÝÏ³ïÙ³Ùµ û·ï³·áñÍÙ³Ý Çñ³íáõÝùÁ ×³Ý³ã»Éáõ í»ñ³µ»ñÛ³É | E25: =SUM(Երևան:Սյունիք!E25) -> 6 | F25: =SUM(Երևան:Սյունիք!F25) -> 3 | G25: =SUM(Երևան:Սյունիք!G25) -> 3 | H25: =SUM(Երևան:Սյունիք!H25) -> 0 | I25: =SUM(Երևան:Սյունիք!I25) -> 0 | J25: =SUM(Երևան:Սյունիք!J25) -> 1 | K25: =SUM(Երևան:Սյունիք!K25) -> 1 | L25: =SUM(Երևան:Սյունիք!L25) -> 0 | ... AH25: =SUM(Երևան:Սյունիք!AH25) -> 0
A26: 1.3.1 | B26: ²Û¹ ÃíáõÙª µÝ³Ïû·ï³·áñÍÙ³Ý Çñ³íáõÝùÁ ×³Ý³ã»Éáõ í»ñ³µ»ñÛ³É | E26: =SUM(Երևան:Սյունիք!E26) -> 4 | F26: =SUM(Երևան:Սյունիք!F26) -> 0 | G26: =SUM(Երևան:Սյունիք!G26) -> 4 | H26: =SUM(Երևան:Սյունիք!H26) -> 0 | I26: =SUM(Երևան:Սյունիք!I26) -> 0 | J26: =SUM(Երևան:Սյունիք!J26) -> 2 | K26: =SUM(Երևան:Սյունիք!K26) -> 1 | L26: =SUM(Երևան:Սյունիք!L26) -> 1 | ... AH26: =SUM(Երևան:Սյունիք!AH26) -> 0
A27: 1.3.2 | B27: ²Û¹ ÃíáõÙª ÑáÕ³Ù³ëÇ ÝÏ³ïÙ³Ùµ û·ï³·áñÍÙ³Ý Çñ³íáõÝùÁ ×³Ý³ã»Éáõ í»ñ³µ»ñÛ³É | E27: =SUM(Երևան:Սյունիք!E27) -> 2 | F27: =SUM(Երևան:Սյունիք!F27) -> 0 | G27: =SUM(Երևան:Սյունիք!G27) -> 2 | H27: =SUM(Երևան:Սյունիք!H27) -> 0 | I27: =SUM(Երևան:Սյունիք!I27) -> 0 | J27: =SUM(Երևան:Սյունիք!J27) -> 2 | K27: =SUM(Երևան:Սյունիք!K27) -> 1 | L27: =SUM(Երևան:Սյունիք!L27) -> 1 | ... AH27: =SUM(Երևան:Սյունիք!AH27) -> 1
A28: 1.4 | B28: ¶áõÛùÇ ÝÏ³ïÙ³Ùµ û·ï³·áñÍÙ³Ý Çñ³íáõÝùÁ ¹³¹³ñ»óÝ»Éáõ í»ñ³µ»ñÛ³É | E28: =SUM(Երևան:Սյունիք!E28) -> 7 | F28: =SUM(Երևան:Սյունիք!F28) -> 1 | G28: =SUM(Երևան:Սյունիք!G28) -> 6 | H28: =SUM(Երևան:Սյունիք!H28) -> 0 | I28: =SUM(Երևան:Սյունիք!I28) -> 0 | J28: =SUM(Երևան:Սյունիք!J28) -> 3 | K28: =SUM(Երևան:Սյունիք!K28) -> 2 | L28: =SUM(Երևան:Սյունիք!L28) -> 1 | ... AH28: =SUM(Երևան:Սյունիք!AH28) -> 1
A29: 1.4.1 | B29: ²Û¹ ÃíáõÙª µÝ³Ïû·ï³·áñÍÙ³Ý Çñ³íáõÝùÁ ¹³¹³ñ»óÝ»Éáõ í»ñ³µ»ñÛ³É | E29: =SUM(Երևան:Սյունիք!E29) -> 14 | F29: =SUM(Երևան:Սյունիք!F29) -> 7 | G29: =SUM(Երևան:Սյունիք!G29) -> 7 | H29: =SUM(Երևան:Սյունիք!H29) -> 0 | I29: =SUM(Երևան:Սյունիք!I29) -> 0 | J29: =SUM(Երևան:Սյունիք!J29) -> 1 | K29: =SUM(Երևան:Սյունիք!K29) -> 1 | L29: =SUM(Երևան:Սյունիք!L29) -> 0 | ... AH29: =SUM(Երևան:Սյունիք!AH29) -> 0
A30: 1.4.1/1 | B30: ²Û¹ ÃíáõÙª ÷áËÑ³ïáõóÙ³Ùµ | E30: =SUM(Երևան:Սյունիք!E30) -> 15 | F30: =SUM(Երևան:Սյունիք!F30) -> 6 | G30: =SUM(Երևան:Սյունիք!G30) -> 9 | H30: =SUM(Երևան:Սյունիք!H30) -> 0 | I30: =SUM(Երևան:Սյունիք!I30) -> 0 | J30: =SUM(Երևան:Սյունիք!J30) -> 2 | K30: =SUM(Երևան:Սյունիք!K30) -> 2 | L30: =SUM(Երևան:Սյունիք!L30) -> 0 | ... AH30: =SUM(Երևան:Սյունիք!AH30) -> 0
A31: 1.5 | B31: ´Ý³Ï³ñ³ÝÇó/ ï³ñ³ÍùÇó/ íï³ñ»Éáõ í»ñ³µ»ñÛ³É | E31: =SUM(Երևան:Սյունիք!E31) -> 224 | F31: =SUM(Երևան:Սյունիք!F31) -> 67 | G31: =SUM(Երևան:Սյունիք!G31) -> 156 | H31: =SUM(Երևան:Սյունիք!H31) -> 1 | I31: =SUM(Երևան:Սյունիք!I31) -> 0 | J31: =SUM(Երևան:Սյունիք!J31) -> 86 | K31: =SUM(Երևան:Սյունիք!K31) -> 65 | L31: =SUM(Երևան:Սյունիք!L31) -> 16 | ... AH31: =SUM(Երևան:Սյունիք!AH31) -> 0
A32: 1.6 | B32: ¶áõÛùÝ áõñÇßÇ ³åûñÇÝÇ ïÇñ³å»ïáõÙÇó »ï í»ñ³¹³ñÓÝ»Éáõ í»ñ³µ»ñÛ³É | E32: =SUM(Երևան:Սյունիք!E32) -> 261 | F32: =SUM(Երևան:Սյունիք!F32) -> 85 | G32: =SUM(Երևան:Սյունիք!G32) -> 176 | H32: =SUM(Երևան:Սյունիք!H32) -> 0 | I32: =SUM(Երևան:Սյունիք!I32) -> 0 | J32: =SUM(Երևան:Սյունիք!J32) -> 96 | K32: =SUM(Երևան:Սյունիք!K32) -> 69 | L32: =SUM(Երևան:Սյունիք!L32) -> 24 | ... AH32: =SUM(Երևան:Սյունիք!AH32) -> 1
A33: 1.6.1 | B33: ´³ñ»ËÇÕ× Ó»éùµ»ñáÕÇó Çñ ·áõÛùÁ Ñ»ï å³Ñ³Ýç»Éáõ í»ñ³µ»ñÛ³É | E33: =SUM(Երևան:Սյունիք!E33) -> 2 | F33: =SUM(Երևան:Սյունիք!F33) -> 0 | G33: =SUM(Երևան:Սյունիք!G33) -> 2 | H33: =SUM(Երևան:Սյունիք!H33) -> 0 | I33: =SUM(Երևան:Սյունիք!I33) -> 0 | J33: =SUM(Երևան:Սյունիք!J33) -> 1 | K33: =SUM(Երևան:Սյունիք!K33) -> 0 | L33: =SUM(Երևան:Սյունիք!L33) -> 1 | ... AH33: =SUM(Երևան:Սյունիք!AH33) -> 0
A34: 1.7 | B34: îÇñ³å»ïáõÙÇó ½ñÏ»Éáõ Ñ»ï ãÏ³åí³Í Çñ³íáõÝùÝ»ñÇ Ë³ËïáõÙÁ í»ñ³óÝ»Éáõ í»ñ³µ»ñÛ³É | E34: =SUM(Երևան:Սյունիք!E34) -> 84 | F34: =SUM(Երևան:Սյունիք!F34) -> 19 | G34: =SUM(Երևան:Սյունիք!G34) -> 65 | H34: =SUM(Երևան:Սյունիք!H34) -> 0 | I34: =SUM(Երևան:Սյունիք!I34) -> 0 | J34: =SUM(Երևան:Սյունիք!J34) -> 34 | K34: =SUM(Երևան:Սյունիք!K34) -> 25 | L34: =SUM(Երևան:Սյունիք!L34) -> 5 | ... AH34: =SUM(Երևան:Սյունիք!AH34) -> 1
A35: 1.8 | B35: ÀÝ¹Ñ³Ýáõñ µ³ÅÝ³ÛÇÝ ë»÷³Ï³ÝáõÃÛáõÝÇó µ³ÅÇÝÝ ³é³ÝÓÝ³óÝ»Éáõ í»ñ³µ»ñÛ³É | E35: =SUM(Երևան:Սյունիք!E35) -> 2067 | F35: =SUM(Երևան:Սյունիք!F35) -> 917 | G35: =SUM(Երևան:Սյունիք!G35) -> 1143 | H35: =SUM(Երևան:Սյունիք!H35) -> 6 | I35: =SUM(Երևան:Սյունիք!I35) -> 1 | J35: =SUM(Երևան:Սյունիք!J35) -> 653 | K35: =SUM(Երևան:Սյունիք!K35) -> 466 | L35: =SUM(Երևան:Սյունիք!L35) -> 159 | ... AH35: =SUM(Երևան:Սյունիք!AH35) -> 6
A36: 1.8.1 | B36: Ð³Ù³ï»Õ ë»÷³Ï³ÝáõÃÛ³Ý Ý»ñùá ·ïÝíáÕ ·áõÛùÁ µ³Å³Ý»Éáõ ¨ ¹ñ³ÝÇó µ³ÅÇÝÝ ³é³ÝÓÝ³óÝ»Éáõ í»ñ³µ»ñÛ³É | E36: =SUM(Երևան:Սյունիք!E36) -> 666 | F36: =SUM(Երևան:Սյունիք!F36) -> 282 | G36: =SUM(Երևան:Սյունիք!G36) -> 384 | H36: =SUM(Երևան:Սյունիք!H36) -> 0 | I36: =SUM(Երևան:Սյունիք!I36) -> 0 | J36: =SUM(Երևան:Սյունիք!J36) -> 207 | K36: =SUM(Երևան:Սյունիք!K36) -> 168 | L36: =SUM(Երևան:Սյունիք!L36) -> 32 | ... AH36: =SUM(Երևան:Սյունիք!AH36) -> 0
... A133: 13. | B133: ²ÛÉ í»×»ñ | E133: =SUM(Երևան:Սյունիք!E133) -> 551 | F133: =SUM(Երևան:Սյունիք!F133) -> 81 | G133: =SUM(Երևան:Սյունիք!G133) -> 450 | H133: =SUM(Երևան:Սյունիք!H133) -> 17 | I133: =SUM(Երևան:Սյունիք!I133) -> 3 | J133: =SUM(Երևան:Սյունիք!J133) -> 534 | K133: =SUM(Երևան:Սյունիք!K133) -> 322 | L133: =SUM(Երևան:Սյունիք!L133) -> 144 | ... AH133: =SUM(Երևան:Սյունիք!AH133) -> 5
B134: ÀÝ¹³Ù»ÝÁ | E134: =SUM(Երևան:Սյունիք!E134) -> 47430 | F134: =SUM(Երևան:Սյունիք!F134) -> 4187 | G134: =SUM(Երևան:Սյունիք!G134) -> 42952 | H134: =SUM(Երևան:Սյունիք!H134) -> 283 | I134: =SUM(Երևան:Սյունիք!I134) -> 8 | J134: =SUM(Երևան:Սյունիք!J134) -> 53787 | K134: =SUM(Երևան:Սյունիք!K134) -> 47267 | L134: =SUM(Երևան:Սյունիք!L134) -> 4145 | ... AH134: =SUM(Երևան:Սյունիք!AH134) -> 89
C135: Ծանոթություն. 2214 հայցադիմումի վերաբերյալ 28.06.2019թ. դրությամբ որոշում չի կայացվել, 18 գործ միացվել է:

Sheet Երևան
A1: 2019թ. 1-ին կիսամյակ | E1: Ð²ÞìºîìàôÂÚàôÜ
A2: ºðºì²Ü ø²Ô²øÆ ²è²æÆÜ ²îÚ²ÜÆ ÀÜ¸Ð²Üàôð Æð²ì²êàôÂÚ²Ü ¸²î²ð²ÜàôØ ø²Ô²ø²òÆ²Î²Ü ¶àðÌºðÆ øÜÜàôÂÚ²Ü ìºð²´ºðÚ²È
A3: ºñ¨³Ý ù³Õ³ùÇ ³é³çÇÝ ³ïÛ³ÝÇ ÁÝ¹Ñ³Ýáõñ Çñ³í³ëáõÃÛ³Ý ¹³ï³ñ³ÝáõÙ ù³Õ³ù³óÇ³Ï³Ý Ù³ëÝ³·Çï³óáõÙ áõÝ»óáÕ ¹³ï³íáñÝ»ñÇ Ñ³ëïÇùÝ»ñÇ ù³Ý³ÏÁ` 37
A4: êïáõ·Çã Ñ³í³ë³ñáõÙÝ»ñª 1=2+3+4+5, 6=7+8+9, 2+3+7=20+21+23, 10=11+12+13+14+15, 15=16+17+18, 20=10+19, 27=25+26, 30=28+29 | E4: Ð³ßí»ïáõ Å³Ù³Ý³Ï³Ñ³ïí³ÍáõÙ Ý³Ëáñ¹ Ñ³ßí»ïáõ Å³Ù³Ý³Ï³Ñ³ïí³ÍÇó ÷áË³Ýóí³Í ·áñÍ»ñÇ ÁÝ¹Ñ³Ýáõñ ÃÇíÁ | J4: Ð³ßí»ïáõ Å³Ù³Ý³Ï³Ñ³ïí³ÍáõÙëï³óí³Í ·áñÍ»ñÇ (³Û¹ ÃíáõÙ` Ñ³Ûó³¹ÇÙáõÙÝ»ñÇ, ¹ÇÙáõÙÝ»ñÇ) ÁÝ¹Ñ³Ýáõñ ÃÇíÁ | N4: Ð³ßí»ïáõ Å³Ù³Ý³Ï³Ñ³ïí³ÍáõÙ ³í³ñïí³Í ·áñÍ»ñÇ ÁÝ¹Ñ³Ýáõñ ÃÇíÁ | Y4: ¶áñÍÝ áõÕ³ñÏí»É ¿ Áëï ÁÝ¹¹³ïáõÃÛ³Ý | Z4: Ð³ßí»ïáõ Å³Ù³Ý³Ï³Ñ³ïí³ÍáõÙ Ï³ë»óí³Í í³ñáõÛÃÝ»ñáí ·áñÍ»ñÇ ÁÝ¹Ñ³Ýáõñ ÃÇíÁ | AA4: Ð³ßí»ïáõ Å³Ù³Ý³Ï³Ñ³ïí³ÍáõÙ ³Ý³í³ñï ·áñÍ»ñÇ ÁÝ¹Ñ³Ýáõñ ÃÇíÁ | AB4: ²Û¹ ÃíáõÙª Ï³ë»óí³Í | AC4: ´áÕáù³ñÏí³Í ¹³ï³Ï³Ý ³Ïï»ñÇ ÃÇíÁ` Áëï ï»ë³ÏÝ»ñÇ | AF4: ´»Ï³Ýí³Í ¹³ï³Ï³Ý ³Ïï»ñÇ ÃÇíÁ` Áëï ï»ë³ÏÝ»ñÇ
E7: ÀÝ¹³Ù»ÝÁ | F7: ²Û¹ ÃíáõÙ`Ï³ë»óí³Í íÇ×³ÏáõÙ ÷áË³Ýóí³Í | G7: ²Û¹ ÃíáõÙª ÁÝ¹áõÝí»É ¿ í³ñáõÛÃ | H7: ²Û¹ ÃíáõÙª í»ñ³¹³ñÓí»É ¿ | I7: ²Û¹ ÃíáõÙª ÁÝ¹áõÝáõÙÁ Ù»ñÅí»É ¿ | J7: ÀÝ¹³Ù»ÝÁ | K7: ²Û¹ ÃíáõÙª ÁÝ¹áõÝí»É ¿ í³ñáõÛÃ | L7: ²Û¹ ÃíáõÙª í»ñ³¹³ñÓí»É ¿ | M7: ²Û¹ ÃíáõÙª ÁÝ¹áõÝáõÙÁ Ù»ñÅí»É ¿ | N7: ÀÝ¹³Ù»ÝÁ ³í³ñïí»É »Ý ·áñÍ»ñ ·áñÍÝ Áëï ¿áõÃÛ³Ý ÉáõÍáÕ ¹³ï³Ï³Ý ³Ïï»ñÇ (í×ÇéÝ»ñÇ) Ï³Û³óÙ³Ùµ | O7: ²Û¹ ÃíáõÙª Ñ³ÛóÇ µ³í³ñ³ñÙ³Ùµ | P7: ²Û¹ ÃíáõÙª Ñ³ÛóÇ Ù³ëÝ³ÏÇ µ³í³ñ³ñÙ³Ùµ | Q7: ²Û¹ ÃíáõÙª Ñ³ÛóÇ Ù»ñÅÙ³Ùµ | R7: Ø³ëáí Ï³ñ×í»É ¿, Ù³ëáí Ù»ñÅí»É | S7: ²Û¹ ÃíáõÙª Ï³ñ×í»É »Ý | W7: Ð³ÛóÁ ÃáÕÝí»É ¿ ³é³Ýó ùÝÝáõÃÛ³Ý | X7: ÀÝ¹³Ù»ÝÝ ³í³ñïí»É »Ý ·áñÍ»ñ | AC7: ²Û¹ ÃíáõÙ` ·áñÍÝ Áëï ¿áõÃÛ³Ý ÉáõÍáÕ ¹³ï³Ï³Ý ³Ïï»ñ | AD7: ²Û¹ ÃíáõÙ` ÙÇç³ÝÏÛ³É ¹³ï³Ï³Ý ³Ïï»ñ | AE7: ÀÝ¹³Ù»ÝÁ | AF7: ²Û¹ ÃíáõÙ` ·áñÍÝ Áëï ¿áõÃÛ³Ý ÉáõÍáÕ ¹³ï³Ï³Ý ³Ïï»ñ | AG7: ²Û¹ ÃíáõÙ` ÙÇç³ÝÏÛ³É ¹³ï³Ï³Ý ³Ïï»ñ | AH7: ÀÝ¹³Ù»ÝÁ
S10: ÀÝ¹³Ù»ÝÁ Ï³ñ×í»É »Ý | T10: ²Û¹ ÃíáõÙª Ñ³ëï³ïí»É ¿ ÏÝùí³Í Ñ³ßïáõÃÛ³Ý Ñ³Ù³Ó³ÛÝáõÃÛáõÝÁ | U10: ²Û¹ ÃíáõÙª Ñ³óÇó, ¹ÇÙáõÙÇó Ññ³Å³ñí»Éáõ ÑÇÙùáí | V10: ²Û¹ ÃíáõÙª ³ÛÉ ÑÇÙùáí
A18: ø³Õ³ù³óÇ³Ï³Ý ·áñÍ»ñÇ ¹³ë³Ï³ñ·áõÙÁ | E18: 1 | F18: 2 | G18: 3 | H18: 4 | I18: 5 | J18: 6 | K18: 7 | L18: 8 | M18: 9 | N18: 10 | O18: 11 | P18: 12 | Q18: 13 | R18: 14 | S18: 15 | T18: 16 | U18: 17 | V18: 18 | W18: 19 | X18: 20 | Y18: 21 | Z18: 22 | AA18: 23 | AB18: 24 | AC18: 25 | AD18: 26 | AE18: 27 | AF18: 28 | AG18: 29 | AH18: 30
A19: 1. | B19: ¶áõÛù³ÛÇÝ Çñ³í³Ñ³ñ³µ»ñáõÃÛáõÝÝ»ñÇ í»ñ³µ»ñÛ³É ¹³ï³Ï³Ý ·áñÍ»ñ | E19: =SUM(E20:E38) -> 2184 | F19: =SUM(F20:F38) -> 493 | G19: =SUM(G20:G38) -> 1687 | H19: =SUM(H20:H38) -> 3 | I19: =SUM(I20:I38) -> 1 | J19: =SUM(J20:J38) -> 651 | K19: =SUM(K20:K38) -> 467 | L19: =SUM(L20:L38) -> 148 | ... AH19: =SUM(AH20:AH38) -> 6
A20: 1.1 | B20: ¶áõÛùÇ ÝÏ³ïÙ³Ùµ ë»÷³Ï³ÝáõÃÛ³Ý Çñ³íáõÝùÁ ×³Ý³ã»Éáõ í»ñ³µ»ñÛ³É | E20: 242 | F20: 33 | G20: 209 | J20: 87 | K20: 59 | L20: 19 | M20: 1 | N20: 46 | O20: 12 | P20: 2 | Q20: 17 | S20: 15 | T20: 3 | U20: 12 | W20: 1 | X20: 47 | Y20: 4 | Z20: 12 | AA20: 250 | AB20: 43 | AC20: 6 | AD20: 4 | AE20: 10 | AF20: 1 | AH20: 1
A21: 1.1.1 | B21: ²Û¹ ÃíáõÙª Ó»éùµ»ñÙ³Ý í³Õ»ÙáõÃÛ³Ý áõÅáí | E21: 153 | F21: 12 | G21: 139 | H21: 2 | J21: 81 | K21: 64 | L21: 10 | M21: 3 | N21: 26 | O21: 6 | P21: 3 | Q21: 4 | S21: 13 | T21: 2 | U21: 11 | W21: 1 | X21: 27 | Z21: 7 | AA21: 188 | AB21: 19 | AC21: 5 | AD21: 2 | AE21: 7
A22: 1.1.2 | B22: ²Û¹ ÃíáõÙª ïÇñ³½áõñÏ ·áõÛùÇ ÝÏ³ïÙ³Ùµ | E22: 3 | G22: 3 | N22: 1 | Q22: 1 | X22: 1 | AA22: 2 | AC22: 1 | AE22: 1
A23: 1.1.3 | B23: ²Û¹ ÃíáõÙª ÇÝùÝ³Ï³Ù Ï³éáõÛóÇ ÝÏ³ïÙ³Ùµ | E23: 2 | F23: 2 | G23: 0 | AA23: 2 | AB23: 2
A24: 1.2 | B24: ê»÷³Ï³ÝáõÃÛ³Ý Çñ³íáõÝùÇ ¹³¹³ñ»óÙ³Ý í»ñ³µ»ñÛ³É | E24: 47 | F24: 5 | G24: 42 | J24: 12 | K24: 11 | L24: 1 | N24: 14 | P24: 2 | Q24: 5 | S24: 7 | U24: 7 | W24: 1 | X24: 15 | Z24: 2 | AA24: 42 | AB24: 8
A25: 1.3 | B25: ¶áõÛùÇ ÝÏ³ïÙ³Ùµ û·ï³·áñÍÙ³Ý Çñ³íáõÝùÁ ×³Ý³ã»Éáõ í»ñ³µ»ñÛ³É | E25: 3 | F25: 1 | G25: 2 | J25: 1 | K25: 1 | N25: 1 | O25: 1 | X25: 1 | AA25: 3 | AB25: 1 | AC25: 1 | AE25: 1
A26: 1.3.1 | B26: ²Û¹ ÃíáõÙª µÝ³Ïû·ï³·áñÍÙ³Ý Çñ³íáõÝùÁ ×³Ý³ã»Éáõ í»ñ³µ»ñÛ³É | E26: 2 | G26: 2 | J26: 1 | L26: 1 | AA26: 2
A27: 1.3.2 | B27: ²Û¹ ÃíáõÙª ÑáÕ³Ù³ëÇ ÝÏ³ïÙ³Ùµ û·ï³·áñÍÙ³Ý Çñ³íáõÝùÁ ×³Ý³ã»Éáõ í»ñ³µ»ñÛ³É | E27: 2 | G27: 2 | N27: 1 | S27: 1 | T27: 1 | X27: 1 | AA27: 1
A28: 1.4 | B28: ¶áõÛùÇ ÝÏ³ïÙ³Ùµ û·ï³·áñÍÙ³Ý Çñ³íáõÝùÁ ¹³¹³ñ»óÝ»Éáõ í»ñ³µ»ñÛ³É | E28: 3 | F28: 1 | G28: 2 | J28: 2 | K28: 1 | L28: 1 | N28: 1 | O28: 1 | X28: 1 | AA28: 3 | AB28: 1
A29: 1.4.1 | B29: ²Û¹ ÃíáõÙª µÝ³Ïû·ï³·áñÍÙ³Ý Çñ³íáõÝùÁ ¹³¹³ñ»óÝ»Éáõ í»ñ³µ»ñÛ³É | E29: 11 | F29: 6 | G29: 5 | AA29: 11 | AB29: 8
A30: 1.4.1/1 | B30: ²Û¹ ÃíáõÙª ÷áËÑ³ïáõóÙ³Ùµ | E30: 12 | F30: 3 | G30: 9 | J30: 2 | K30: 2 | N30: 3 | S30: 3 | T30: 2 | U30: 1 | X30: 3 | AA30: 11 | AB30: 2
A31: 1.5 | B31: ´Ý³Ï³ñ³ÝÇó/ ï³ñ³ÍùÇó/ íï³ñ»Éáõ í»ñ³µ»ñÛ³É | E31: 135 | F31: 31 | G31: 103 | H31: 1 | J31: 44 | K31: 31 | L31: 12 | N31: 21 | O31: 7 | P31: 1 | Q31: 1 | S31: 12 | T31: 2 | U31: 10 | W31: 3 | X31: 24 | Y31: 1 | Z31: 5 | AA31: 140 | AB31: 23 | AC31: 7 | AD31: 5 | AE31: 12
A32: 1.6 | B32: ¶áõÛùÝ áõñÇßÇ ³åûñÇÝÇ ïÇñ³å»ïáõÙÇó »ï í»ñ³¹³ñÓÝ»Éáõ í»ñ³µ»ñÛ³É | E32: 123 | F32: 32 | G32: 91 | J32: 46 | K32: 34 | L32: 10 | N32: 22 | O32: 4 | P32: 1 | Q32: 7 | S32: 10 | T32: 1 | U32: 8 | V32: 1 | W32: 1 | X32: 23 | Z32: 5 | AA32: 134 | AB32: 28 | AC32: 1 | AD32: 2 | AE32: 3 | AF32: 1 | AH32: 1
A33: 1.6.1 | B33: ´³ñ»ËÇÕ× Ó»éùµ»ñáÕÇó Çñ ·áõÛùÁ Ñ»ï å³Ñ³Ýç»Éáõ í»ñ³µ»ñÛ³É | E33: 1 | G33: 1 | J33: 1 | L33: 1 | AA33: 1
A34: 1.7 | B34: îÇñ³å»ïáõÙÇó ½ñÏ»Éáõ Ñ»ï ãÏ³åí³Í Çñ³íáõÝùÝ»ñÇ Ë³ËïáõÙÁ í»ñ³óÝ»Éáõ í»ñ³µ»ñÛ³É | E34: 64 | F34: 13 | G34: 51 | J34: 21 | K34: 17 | L34: 3 | M34: 1 | N34: 9 | O34: 1 | Q34: 4 | S34: 4 | T34: 1 | U34: 3 | X34: 9 | Y34: 1 | Z34: 4 | AA34: 71 | AB34: 14 | AD34: 2 | AE34: 2
A35: 1.8 | B35: ÀÝ¹Ñ³Ýáõñ µ³ÅÝ³ÛÇÝ ë»÷³Ï³ÝáõÃÛáõÝÇó µ³ÅÇÝÝ ³é³ÝÓÝ³óÝ»Éáõ í»ñ³µ»ñÛ³É | E35: 645 | F35: 204 | G35: 440 | I35: 1 | J35: 184 | K35: 134 | L35: 46 | N35: 102 | O35: 29 | P35: 3 | Q35: 12 | S35: 58 | T35: 5 | U35: 51 | V35: 2 | W35: 2 | X35: 104 | Y35: 2 | Z35: 53 | AA35: 672 | AB35: 168 | AC35: 7 | AD35: 5 | AE35: 12 | AF35: 1 | AG35: 1 | AH35: 2
A36: 1.8.1 | B36: Ð³Ù³ï»Õ ë»÷³Ï³ÝáõÃÛ³Ý Ý»ñùá ·ïÝíáÕ ·áõÛùÁ µ³Å³Ý»Éáõ ¨ ¹ñ³ÝÇó µ³ÅÇÝÝ ³é³ÝÓÝ³óÝ»Éáõ í»ñ³µ»ñÛ³É | E36: 285 | F36: 67 | G36: 218 | J36: 35 | K36: 28 | L36: 5 | N36: 49 | O36: 15 | P36: 1 | Q36: 10 | R36: 1 | S36: 22 | T36: 5 | U36: 16 | V36: 1 | W36: 4 | X36: 53 | Z36: 16 | AA36: 260 | AB36: 104 | AC36: 3 | AE36: 3
A37: 1.8.3 | B37: ¶áõÛùÇ íñ³ µéÝ³·³ÝÓáõÙ ï³ñ³Í»Éáõ å³Ñ³ÝçÇ Ù³ëÇÝ | E37: 37 | F37: 8 | G37: 29 | J37: 10 | K37: 4 | L37: 5 | M37: 1 | N37: 7 | O37: 2 | P37: 1 | Q37: 1 | S37: 3 | U37: 3 | W37: 1 | X37: 8 | Z37: 3 | AA37: 33 | AB37: 11 | AC37: 1 | AE37: 1
A38: 1.9 | B38: ²ÛÉ í»×»ñ | E38: 414 | F38: 75 | G38: 339 | J38: 124 | K38: 81 | L38: 34 | M38: 1 | N38: 63 | O38: 13 | P38: 8 | Q38: 15 | S38: 27 | T38: 3 | U38: 21 | V38: 3 | W38: 2 | X38: 65 | Y38: 3 | Z38: 26 | AA38: 427 | AB38: 75 | AC38: 13 | AD38: 6 | AE38: 19 | AF38: 1 | AG38: 1 | AH38: 2
A39: 2. | B39: ¶áñÍ³ñùÝ»ñÇ Ñ»ï Ï³åí³Í Çñ³í³Ñ³ñ³µ»ñáõÃÛáõÝÝ»ñÇ í»ñ³µ»ñÛ³É ¹³ï³Ï³Ý ·áñÍ»ñ | E39: =SUM(E40:E50) -> 958 | F39: =SUM(F40:F50) -> 124 | G39: =SUM(G40:G50) -> 821 | H39: =SUM(H40:H50) -> 12 | I39: =SUM(I40:I50) -> 1 | J39: =SUM(J40:J50) -> 423 | K39: =SUM(K40:K50) -> 289 | L39: =SUM(L40:L50) -> 104 | ... AH39: =SUM(AH40:AH50) -> 7
A40: 2.1 | B40: ·áñÍ³ñùÝ»ñÇ ³Ýí³í»ñáõÃÛ³Ý Ñ»ï Ï³åí³Í í»×»ñ | E40: 100 | F40: 11 | G40: 89 | J40: 31 | K40: 28 | L40: 3 | N40: 18 | O40: 4 | Q40: 9 | S40: 5 | U40: 5 | X40: 18 | Y40: 2 | Z40: 3 | AA40: 108 | AB40: 12 | AC40: 3 | AD40: 4 | AE40: 7
A41: 2.1.1 | B41: ³Û¹ ÃíáõÙ` íÇ×³Ñ³ñáõÛó ·áñÍ³ñùÝ»ñÝ ³Ýí³í»ñ ×³Ý³ã»Éáõ í»ñ³µ»ñÛ³É | E41: 6 | G41: 6 | J41: 1 | K41: 1 | N41: 1 | O41: 1 | X41: 1 | AA41: 6
A42: 2.1.2 | B42: ³Û¹ ÃíáõÙ` ·áñÍ³ñùÇ ³éáãÝãáõÃÛ³Ý Ñ»ï¨³ÝùÝ»ñ ÏÇñ³é»Éáõ í»ñ³µ»ñÛ³É | E42: 119 | F42: 9 | G42: 110 | J42: 61 | K42: 49 | L42: 9 | M42: 1 | N42: 20 | O42: 2 | P42: 2 | Q42: 7 | S42: 9 | U42: 7 | V42: 2 | W42: 2 | X42: 22 | Y42: 6 | Z42: 1 | AA42: 140 | AB42: 7 | AC42: 5 | AD42: 8 | AE42: 13 | AF42: 2 | AG42: 1 | AH42: 3
A43: 2.2 | B43: ¶áñÍ³ñùÁ í³í»ñ ×³Ý³ã»Éáõ í»ñ³µ»ñÛ³É | E43: 17 | F43: 2 | G43: 15 | J43: 9 | K43: 5 | L43: 4 | N43: 2 | Q43: 1 | S43: 1 | U43: 1 | W43: 1 | X43: 3 | AA43: 19 | AB43: 1 | AD43: 1 | AE43: 1
A44: 2.3 | B44: ¶áñÍ³ñùÇó Í³·áÕ Çñ³íáõÝùÝ»ñÁ ·ñ³Ýó»Éáõ í»ñ³µ»ñÛ³É | E44: 1 | G44: 1 | J44: 1 | L44: 1 | AA44: 1
A45: 2.4 | B45: ä³ÛÙ³Ý³·ÇñÝ ³Ýí³í»ñ ×³Ý³ã»Éáõ í»ñ³µ»ñÛ³É | E45: 355 | F45: 30 | G45: 319 | H45: 6 | J45: 142 | K45: 90 | L45: 35 | M45: 10 | N45: 55 | O45: 8 | P45: 4 | Q45: 24 | S45: 19 | T45: 1 | U45: 16 | V45: 2 | W45: 5 | X45: 60 | Y45: 10 | Z45: 8 | AA45: 369 | AB45: 31 | AC45: 11 | AD45: 12 | AE45: 23 | AF45: 1 | AG45: 1 | AH45: 2
A46: 2.5 | B46: ä³ÛÙ³Ý³·ñÇÁ í³í»ñ ×³Ý³ã»Éáõ í»ñ³µ»ñÛ³É | E46: 26 | F46: 14 | G46: 12 | J46: 11 | K46: 8 | L46: 3 | N46: 2 | S46: 2 | U46: 2 | X46: 2 | Y46: 2 | AA46: 30 | AB46: 14
A47: 2.6 | B47: ä³ÛÙ³Ý³·ñÇó Í³·áÕ Çñ³íáõÝùÝ»ñÁ ·ñ³Ýó»Éáõ í»ñ³µ»ñÛ³É | J47: 1 | K47: 1 | AA47: 1
A48: 2.7 | B48: ä³ÛÙ³Ý³·ÇñÁ ÷á÷áË»Éáõ ¨ ÉáõÍ»Éáõ í»ñ³µ»ñÛ³É | E48: 79 | F48: 13 | G48: 63 | H48: 2 | I48: 1 | J48: 59 | K48: 40 | L48: 15 | M48: 1 | N48: 17 | O48: 7 | P48: 4 | Q48: 1 | S48: 5 | T48: 2 | U48: 3 | X48: 17 | Y48: 2 | Z48: 3 | AA48: 97 | AB48: 13 | AC48: 4 | AD48: 3 | AE48: 7 | AG48: 2 | AH48: 2
A49: 2.8 | B49: ä³ÛÙ³Ý³·Çñ ÏÝù»ÉáõÝ å³ñï³íáñ»óÝ»Éáõ í»ñ³µ»ñÛ³É | E49: 77 | F49: 20 | G49: 57 | J49: 13 | K49: 4 | L49: 9 | N49: 4 | O49: 2 | Q49: 1 | S49: 1 | U49: 1 | W49: 1 | X49: 5 | Y49: 11 | AA49: 65 | AB49: 9 | AC49: 2 | AD49: 1 | AE49: 3
A50: 2.9 | B50: ²ÛÉ í»×»ñ | E50: 178 | F50: 25 | G50: 149 | H50: 4 | J50: 94 | K50: 63 | L50: 25 | N50: 36 | O50: 14 | P50: 2 | Q50: 12 | S50: 8 | T50: 2 | U50: 4 | V50: 2 | W50: 1 | X50: 37 | Y50: 4 | Z50: 4 | AA50: 195 | AB50: 23 | AC50: 11 | AD50: 3 | AE50: 14
A51: 3. | B51: Ä³é³Ý·áõÃÛ³Ý Ñ»ï Ï³åí³Í Çñ³í³Ñ³ñ³µ»ñáõÃÛáõÝÝ»ñÇ í»ñ³µ»ñÛ³É ¹³ï³Ï³Ý ·áñÍ»ñ | E51: =SUM(E52:E58) -> 187 | F51: =SUM(F52:F58) -> 21 | G51: =SUM(G52:G58) -> 166 | H51: =SUM(H52:H58) -> 0 | I51: =SUM(I52:I58) -> 0 | J51: =SUM(J52:J58) -> 71 | K51: =SUM(K52:K58) -> 55 | L51: =SUM(L52:L58) -> 12 | ... AH51: =SUM(AH52:AH58) -> 0
...

Sheet Արմավիր
A1: 2019թ. 1-ին կիսամյակ | E1: Ð²ÞìºîìàôÂÚàôÜ
A2: ÐÐ ²ðØ²ìÆðÆ Ø²ð¼Æ ²è²æÆÜ ²îÚ²ÜÆ ÀÜ¸Ð²Üàôð Æð²ì²êàôÂÚ²Ü ¸²î²ð²ÜàôØ ø²Ô²ø²òÆ²Î²Ü ¶àðÌºðÆ øÜÜàôÂÚ²Ü ìºð²´ºðÚ²È
A3: ÐÐ ²ñÙ³íÇñÇ Ù³ñ½Ç ³é³çÇÝ ³ïÛ³ÝÇ ÁÝ¹Ñ³Ýáõñ Çñ³í³ëáõÃÛ³Ý ¹³ï³ñ³ÝáõÙ ù³Õ³ù³óÇ³Ï³Ý Ù³ëÝ³·Çï³óáõÙ áõÝ»óáÕ ¹³ï³íáñÝ»ñÇ Ñ³ëïÇùÝ»ñÇ ù³Ý³ÏÁ` 5
A4: êïáõ·Çã Ñ³í³ë³ñáõÙÝ»ñª 1=2+3+4+5, 6=7+8+9, 2+3+7=20+21+23, 10=11+12+13+14+15, 15=16+17+18, 20=10+19, 27=25+26, 30=28+29 | E4: Ð³ßí»ïáõ Å³Ù³Ý³Ï³Ñ³ïí³ÍáõÙ Ý³Ëáñ¹ Ñ³ßí»ïáõ Å³Ù³Ý³Ï³Ñ³ïí³ÍÇó ÷áË³Ýóí³Í ·áñÍ»ñÇ ÁÝ¹Ñ³Ýáõñ ÃÇíÁ | J4: Ð³ßí»ïáõ Å³Ù³Ý³Ï³Ñ³ïí³ÍáõÙëï³óí³Í ·áñÍ»ñÇ (³Û¹ ÃíáõÙ` Ñ³Ûó³¹ÇÙáõÙÝ»ñÇ, ¹ÇÙáõÙÝ»ñÇ) ÁÝ¹Ñ³Ýáõñ ÃÇíÁ | N4: Ð³ßí»ïáõ Å³Ù³Ý³Ï³Ñ³ïí³ÍáõÙ ³í³ñïí³Í ·áñÍ»ñÇ ÁÝ¹Ñ³Ýáõñ ÃÇíÁ | Y4: ¶áñÍÝ áõÕ³ñÏí»É ¿ Áëï ÁÝ¹¹³ïáõÃÛ³Ý | Z4: Ð³ßí»ïáõ Å³Ù³Ý³Ï³Ñ³ïí³ÍáõÙ Ï³ë»óí³Í í³ñáõÛÃÝ»ñáí ·áñÍ»ñÇ ÁÝ¹Ñ³Ýáõñ ÃÇíÁ | AA4: Ð³ßí»ïáõ Å³Ù³Ý³Ï³Ñ³ïí³ÍáõÙ ³Ý³í³ñï ·áñÍ»ñÇ ÁÝ¹Ñ³Ýáõñ ÃÇíÁ | AB4: ²Û¹ ÃíáõÙª Ï³ë»óí³Í | AC4: ´áÕáù³ñÏí³Í ¹³ï³Ï³Ý ³Ïï»ñÇ ÃÇíÁ` Áëï ï»ë³ÏÝ»ñÇ | AF4: ´»Ï³Ýí³Í ¹³ï³Ï³Ý ³Ïï»ñÇ ÃÇíÁ` Áëï ï»ë³ÏÝ»ñÇ
E7: ÀÝ¹³Ù»ÝÁ | F7: ²Û¹ ÃíáõÙ`Ï³ë»óí³Í íÇ×³ÏáõÙ ÷áË³Ýóí³Í | G7: ²Û¹ ÃíáõÙª ÁÝ¹áõÝí»É ¿ í³ñáõÛÃ | H7: ²Û¹ ÃíáõÙª í»ñ³¹³ñÓí»É ¿ | I7: ²Û¹ ÃíáõÙª ÁÝ¹áõÝáõÙÁ Ù»ñÅí»É ¿ | J7: ÀÝ¹³Ù»ÝÁ | K7: ²Û¹ ÃíáõÙª ÁÝ¹áõÝí»É ¿ í³ñáõÛÃ | L7: ²Û¹ ÃíáõÙª í»ñ³¹³ñÓí»É ¿ | M7: ²Û¹ ÃíáõÙª ÁÝ¹áõÝáõÙÁ Ù»ñÅí»É ¿ | N7: ÀÝ¹³Ù»ÝÁ ³í³ñïí»É »Ý ·áñÍ»ñ ·áñÍÝ Áëï ¿áõÃÛ³Ý ÉáõÍáÕ ¹³ï³Ï³Ý ³Ïï»ñÇ (í×ÇéÝ»ñÇ) Ï³Û³óÙ³Ùµ | O7: ²Û¹ ÃíáõÙª Ñ³ÛóÇ µ³í³ñ³ñÙ³Ùµ | P7: ²Û¹ ÃíáõÙª Ñ³ÛóÇ Ù³ëÝ³ÏÇ µ³í³ñ³ñÙ³Ùµ | Q7: ²Û¹ ÃíáõÙª Ñ³ÛóÇ Ù»ñÅÙ³Ùµ | R7: Ø³ëáí Ï³ñ×í»É ¿, Ù³ëáí Ù»ñÅí»É | S7: ²Û¹ ÃíáõÙª Ï³ñ×í»É »Ý | W7: Ð³ÛóÁ ÃáÕÝí»É ¿ ³é³Ýó ùÝÝáõÃÛ³Ý | X7: ÀÝ¹³Ù»ÝÝ ³í³ñïí»É »Ý ·áñÍ»ñ | AC7: ²Û¹ ÃíáõÙ` ·áñÍÝ Áëï ¿áõÃÛ³Ý ÉáõÍáÕ ¹³ï³Ï³Ý ³Ïï»ñ | AD7: ²Û¹ ÃíáõÙ` ÙÇç³ÝÏÛ³É ¹³ï³Ï³Ý ³Ïï»ñ | AE7: ÀÝ¹³Ù»ÝÁ | AF7: ²Û¹ ÃíáõÙ` ·áñÍÝ Áëï ¿áõÃÛ³Ý ÉáõÍáÕ ¹³ï³Ï³Ý ³Ïï»ñ | AG7: ²Û¹ ÃíáõÙ` ÙÇç³ÝÏÛ³É ¹³ï³Ï³Ý ³Ïï»ñ | AH7: ÀÝ¹³Ù»ÝÁ
S10: ÀÝ¹³Ù»ÝÁ Ï³ñ×í»É »Ý | T10: ²Û¹ ÃíáõÙª Ñ³ëï³ïí»É ¿ ÏÝùí³Í Ñ³ßïáõÃÛ³Ý Ñ³Ù³Ó³ÛÝáõÃÛáõÝÁ | U10: ²Û¹ ÃíáõÙª Ñ³óÇó, ¹ÇÙáõÙÇó Ññ³Å³ñí»Éáõ ÑÇÙùáí | V10: ²Û¹ ÃíáõÙª ³ÛÉ ÑÇÙùáí
A18: ø³Õ³ù³óÇ³Ï³Ý ·áñÍ»ñÇ ¹³ë³Ï³ñ·áõÙÁ | E18: 1 | F18: 2 | G18: 3 | H18: 4 | I18: 5 | J18: 6 | K18: 7 | L18: 8 | M18: 9 | N18: 10 | O18: 11 | P18: 12 | Q18: 13 | R18: 14 | S18: 15 | T18: 16 | U18: 17 | V18: 18 | W18: 19 | X18: 20 | Y18: 21 | Z18: 22 | AA18: 23 | AB18: 24 | AC18: 25 | AD18: 26 | AE18: 27 | AF18: 28 | AG18: 29 | AH18: 30
A19: 1. | B19: ¶áõÛù³ÛÇÝ Çñ³í³Ñ³ñ³µ»ñáõÃÛáõÝÝ»ñÇ í»ñ³µ»ñÛ³É ¹³ï³Ï³Ý ·áñÍ»ñ | E19: =SUM(E20:E38) -> 331 | F19: =SUM(F20:F38) -> 131 | G19: =SUM(G20:G38) -> 199 | H19: =SUM(H20:H38) -> 1 | I19: =SUM(I20:I38) -> 0 | J19: =SUM(J20:J38) -> 165 | K19: =SUM(K20:K38) -> 123 | L19: =SUM(L20:L38) -> 28 | ... AH19: =SUM(AH20:AH38) -> 0
A20: 1.1 | B20: ¶áõÛùÇ ÝÏ³ïÙ³Ùµ ë»÷³Ï³ÝáõÃÛ³Ý Çñ³íáõÝùÁ ×³Ý³ã»Éáõ í»ñ³µ»ñÛ³É | E20: 16 | F20: 2 | G20: 14 | J20: 12 | K20: 7 | L20: 4 | M20: 1 | N20: 4 | O20: 4 | X20: 4 | AA20: 19 | AB20: 1 | AD20: 1 | AE20: 1
A21: 1.1.1 | B21: ²Û¹ ÃíáõÙª Ó»éùµ»ñÙ³Ý í³Õ»ÙáõÃÛ³Ý áõÅáí | E21: 35 | G21: 34 | H21: 1 | J21: 32 | K21: 24 | L21: 3 | M21: 5 | N21: 18 | O21: 13 | Q21: 2 | S21: 3 | U21: 3 | X21: 18 | Z21: 1 | AA21: 40 | AB21: 2 | AC21: 6 | AE21: 6
A22: 1.1.2 | B22: ²Û¹ ÃíáõÙª ïÇñ³½áõñÏ ·áõÛùÇ ÝÏ³ïÙ³Ùµ
A23: 1.1.3 | B23: ²Û¹ ÃíáõÙª ÇÝùÝ³Ï³Ù Ï³éáõÛóÇ ÝÏ³ïÙ³Ùµ
A24: 1.2 | B24: ê»÷³Ï³ÝáõÃÛ³Ý Çñ³íáõÝùÇ ¹³¹³ñ»óÙ³Ý í»ñ³µ»ñÛ³É | E24: 1 | G24: 1 | J24: 1 | L24: 1 | AA24: 1
A25: 1.3 | B25: ¶áõÛùÇ ÝÏ³ïÙ³Ùµ û·ï³·áñÍÙ³Ý Çñ³íáõÝùÁ ×³Ý³ã»Éáõ í»ñ³µ»ñÛ³É | AC25: 1 | AE25: 1
A26: 1.3.1 | B26: ²Û¹ ÃíáõÙª µÝ³Ïû·ï³·áñÍÙ³Ý Çñ³íáõÝùÁ ×³Ý³ã»Éáõ í»ñ³µ»ñÛ³É
A27: 1.3.2 | B27: ²Û¹ ÃíáõÙª ÑáÕ³Ù³ëÇ ÝÏ³ïÙ³Ùµ û·ï³·áñÍÙ³Ý Çñ³íáõÝùÁ ×³Ý³ã»Éáõ í»ñ³µ»ñÛ³É
A28: 1.4 | B28: ¶áõÛùÇ ÝÏ³ïÙ³Ùµ û·ï³·áñÍÙ³Ý Çñ³íáõÝùÁ ¹³¹³ñ»óÝ»Éáõ í»ñ³µ»ñÛ³É | E28: 3 | G28: 3 | N28: 3 | O28: 3 | X28: 3
A29: 1.4.1 | B29: ²Û¹ ÃíáõÙª µÝ³Ïû·ï³·áñÍÙ³Ý Çñ³íáõÝùÁ ¹³¹³ñ»óÝ»Éáõ í»ñ³µ»ñÛ³É | E29: 1 | G29: 1 | AA29: 1
A30: 1.4.1/1 | B30: ²Û¹ ÃíáõÙª ÷áËÑ³ïáõóÙ³Ùµ
A31: 1.5 | B31: ´Ý³Ï³ñ³ÝÇó/ ï³ñ³ÍùÇó/ íï³ñ»Éáõ í»ñ³µ»ñÛ³É | E31: 7 | F31: 2 | G31: 5 | J31: 4 | K31: 3 | N31: 2 | O31: 1 | S31: 1 | U31: 1 | X31: 2 | AA31: 8 | AB31: 2 | AC31: 1 | AE31: 1
A32: 1.6 | B32: ¶áõÛùÝ áõñÇßÇ ³åûñÇÝÇ ïÇñ³å»ïáõÙÇó »ï í»ñ³¹³ñÓÝ»Éáõ í»ñ³µ»ñÛ³É | E32: 10 | F32: 1 | G32: 9 | J32: 6 | K32: 4 | L32: 2 | N32: 3 | O32: 2 | Q32: 1 | X32: 3 | Z32: 1 | AA32: 11 | AB32: 1 | AC32: 1 | AE32: 1
A33: 1.6.1 | B33: ´³ñ»ËÇÕ× Ó»éùµ»ñáÕÇó Çñ ·áõÛùÁ Ñ»ï å³Ñ³Ýç»Éáõ í»ñ³µ»ñÛ³É
A34: 1.7 | B34: îÇñ³å»ïáõÙÇó ½ñÏ»Éáõ Ñ»ï ãÏ³åí³Í Çñ³íáõÝùÝ»ñÇ Ë³ËïáõÙÁ í»ñ³óÝ»Éáõ í»ñ³µ»ñÛ³É
A35: 1.8 | B35: ÀÝ¹Ñ³Ýáõñ µ³ÅÝ³ÛÇÝ ë»÷³Ï³ÝáõÃÛáõÝÇó µ³ÅÇÝÝ ³é³ÝÓÝ³óÝ»Éáõ í»ñ³µ»ñÛ³É | E35: 205 | F35: 102 | G35: 103 | J35: 65 | K35: 48 | L35: 12 | M35: 1 | N35: 39 | O35: 24 | P35: 1 | Q35: 2 | S35: 12 | T35: 1 | U35: 11 | W35: 1 | X35: 40 | Y35: 2 | Z35: 26 | AA35: 210 | AB35: 59 | AC35: 3 | AD35: 1 | AE35: 4
A36: 1.8.1 | B36: Ð³Ù³ï»Õ ë»÷³Ï³ÝáõÃÛ³Ý Ý»ñùá ·ïÝíáÕ ·áõÛùÁ µ³Å³Ý»Éáõ ¨ ¹ñ³ÝÇó µ³ÅÇÝÝ ³é³ÝÓÝ³óÝ»Éáõ í»ñ³µ»ñÛ³É | E36: 8 | F36: 3 | G36: 5 | J36: 29 | K36: 25 | L36: 3 | Z36: 1 | AA36: 33 | AB36: 2
A37: 1.8.3 | B37: ¶áõÛùÇ íñ³ µéÝ³·³ÝÓáõÙ ï³ñ³Í»Éáõ å³Ñ³ÝçÇ Ù³ëÇÝ | E37: 22 | F37: 15 | G37: 7 | J37: 5 | K37: 5 | N37: 3 | O37: 3 | X37: 3 | Z37: 1 | AA37: 24 | AB37: 12 | AC37: 1 | AE37: 1
A38: 1.9 | B38: ²ÛÉ í»×»ñ | E38: 23 | F38: 6 | G38: 17 | J38: 11 | K38: 7 | L38: 3 | N38: 6 | O38: 2 | Q38: 2 | S38: 2 | U38: 2 | W38: 1 | X38: 7 | Y38: 1 | Z38: 1 | AA38: 22 | AB38: 4 | AC38: 1 | AD38: 1 | AE38: 2
A39: 2. | B39: ¶áñÍ³ñùÝ»ñÇ Ñ»ï Ï³åí³Í Çñ³í³Ñ³ñ³µ»ñáõÃÛáõÝÝ»ñÇ í»ñ³µ»ñÛ³É ¹³ï³Ï³Ý ·áñÍ»ñ | E39: =SUM(E40:E50) -> 32 | F39: =SUM(F40:F50) -> 6 | G39: =SUM(G40:G50) -> 26 | H39: =SUM(H40:H50) -> 0 | I39: =SUM(I40:I50) -> 0 | J39: =SUM(J40:J50) -> 29 | K39: =SUM(K40:K50) -> 18 | L39: =SUM(L40:L50) -> 7 | ... AH39: =SUM(AH40:AH50) -> 0
A40: 2.1 | B40: ·áñÍ³ñùÝ»ñÇ ³Ýí³í»ñáõÃÛ³Ý Ñ»ï Ï³åí³Í í»×»ñ | E40: 11 | F40: 3 | G40: 8 | J40: 8 | K40: 3 | L40: 3 | M40: 2 | N40: 3 | O40: 1 | Q40: 1 | S40: 1 | U40: 1 | X40: 3 | Z40: 1 | AA40: 11 | AB40: 3 | AC40: 3 | AD40: 1 | AE40: 4
A41: 2.1.1 | B41: ³Û¹ ÃíáõÙ` íÇ×³Ñ³ñáõÛó ·áñÍ³ñùÝ»ñÝ ³Ýí³í»ñ ×³Ý³ã»Éáõ í»ñ³µ»ñÛ³É
A42: 2.1.2 | B42: ³Û¹ ÃíáõÙ` ·áñÍ³ñùÇ ³éáãÝãáõÃÛ³Ý Ñ»ï¨³ÝùÝ»ñ ÏÇñ³é»Éáõ í»ñ³µ»ñÛ³É | E42: 1 | G42: 1 | J42: 2 | K42: 2 | N42: 1 | P42: 1 | X42: 1 | AA42: 2
A43: 2.2 | B43: ¶áñÍ³ñùÁ í³í»ñ ×³Ý³ã»Éáõ í»ñ³µ»ñÛ³É | E43: 3 | G43: 3 | J43: 5 | K43: 4 | L43: 1 | N43: 3 | Q43: 1 | S43: 2 | U43: 1 | V43: 1 | X43: 3 | AA43: 4 | AC43: 1 | AE43: 1
A44: 2.3 | B44: ¶áñÍ³ñùÇó Í³·áÕ Çñ³íáõÝùÝ»ñÁ ·ñ³Ýó»Éáõ í»ñ³µ»ñÛ³É
A45: 2.4 | B45: ä³ÛÙ³Ý³·ÇñÝ ³Ýí³í»ñ ×³Ý³ã»Éáõ í»ñ³µ»ñÛ³É | E45: 6 | F45: 1 | G45: 5 | J45: 5 | K45: 1 | L45: 3 | M45: 1 | N45: 2 | O45: 1 | S45: 1 | U45: 1 | X45: 2 | Z45: 1 | AA45: 5 | AB45: 2 | AC45: 2 | AE45: 2
A46: 2.5 | B46: ä³ÛÙ³Ý³·ñÇÁ í³í»ñ ×³Ý³ã»Éáõ í»ñ³µ»ñÛ³É | E46: 1 | G46: 1 | J46: 1 | K46: 1 | AA46: 2
A47: 2.6 | B47: ä³ÛÙ³Ý³·ñÇó Í³·áÕ Çñ³íáõÝùÝ»ñÁ ·ñ³Ýó»Éáõ í»ñ³µ»ñÛ³É
A48: 2.7 | B48: ä³ÛÙ³Ý³·ÇñÁ ÷á÷áË»Éáõ ¨ ÉáõÍ»Éáõ í»ñ³µ»ñÛ³É | E48: 1 | G48: 1 | J48: 6 | K48: 6 | AA48: 7
A49: 2.8 | B49: ä³ÛÙ³Ý³·Çñ ÏÝù»ÉáõÝ å³ñï³íáñ»óÝ»Éáõ í»ñ³µ»ñÛ³É
A50: 2.9 | B50: ²ÛÉ í»×»ñ | E50: 9 | F50: 2 | G50: 7 | J50: 2 | K50: 1 | M50: 1 | N50: 3 | O50: 1 | P50: 1 | Q50: 1 | X50: 3 | Y50: 2 | AA50: 5 | AB50: 1 | AC50: 3 | AD50: 1 | AE50: 4
A51: 3. | B51: Ä³é³Ý·áõÃÛ³Ý Ñ»ï Ï³åí³Í Çñ³í³Ñ³ñ³µ»ñáõÃÛáõÝÝ»ñÇ í»ñ³µ»ñÛ³É ¹³ï³Ï³Ý ·áñÍ»ñ | E51: =SUM(E52:E58) -> 15 | F51: =SUM(F52:F58) -> 1 | G51: =SUM(G52:G58) -> 14 | H51: =SUM(H52:H58) -> 0 | I51: =SUM(I52:I58) -> 0 | J51: =SUM(J52:J58) -> 10 | K51: =SUM(K52:K58) -> 6 | L51: =SUM(L52:L58) -> 3 | ... AH51: =SUM(AH52:AH58) -> 0
...

Sheet Արարատ և Վայոց ձոր
A1: 2019թ. 1-ին կիսամյակ | E1: Ð²ÞìºîìàôÂÚàôÜ
A2: ÐÐ ²ð²ð²îÆ ºì ì²Úàò ÒàðÆ Ø²ð¼ºðÆ ²è²æÆÜ ²îÚ²ÜÆ ÀÜ¸Ð²Üàôð Æð²ì²êàôÂÚ²Ü ¸²î²ð²ÜàôØ ø²Ô²ø²òÆ²Î²Ü ¶àðÌºðÆ øÜÜàôÂÚ²Ü ìºð²´ºðÚ²È
A3: ÐÐ ²ñ³ñ³ïÇ ¨ ì³Ûáó ÓáñÇ Ù³ñ½»ñÇ ³é³çÇÝ ³ïÛ³ÝÇ ÁÝ¹Ñ³Ýáõñ Çñ³í³ëáõÃÛ³Ý ¹³ï³ñ³ÝáõÙ ù³Õ³ù³óÇ³Ï³Ý Ù³ëÝ³·Çï³óáõÙ áõÝ»óáÕ ¹³ï³íáñÝ»ñÇ Ñ³ëïÇùÝ»ñÇ ù³Ý³ÏÁ` 7
A4: êïáõ·Çã Ñ³í³ë³ñáõÙÝ»ñª 1=2+3+4+5, 6=7+8+9, 2+3+7=20+21+23, 10=11+12+13+14+15, 15=16+17+18, 20=10+19, 27=25+26, 30=28+29 | E4: Ð³ßí»ïáõ Å³Ù³Ý³Ï³Ñ³ïí³ÍáõÙ Ý³Ëáñ¹ Ñ³ßí»ïáõ Å³Ù³Ý³Ï³Ñ³ïí³ÍÇó ÷áË³Ýóí³Í ·áñÍ»ñÇ ÁÝ¹Ñ³Ýáõñ ÃÇíÁ | J4: Ð³ßí»ïáõ Å³Ù³Ý³Ï³Ñ³ïí³ÍáõÙëï³óí³Í ·áñÍ»ñÇ (³Û¹ ÃíáõÙ` Ñ³Ûó³¹ÇÙáõÙÝ»ñÇ, ¹ÇÙáõÙÝ»ñÇ) ÁÝ¹Ñ³Ýáõñ ÃÇíÁ | N4: Ð³ßí»ïáõ Å³Ù³Ý³Ï³Ñ³ïí³ÍáõÙ ³í³ñïí³Í ·áñÍ»ñÇ ÁÝ¹Ñ³Ýáõñ ÃÇíÁ | Y4: ¶áñÍÝ áõÕ³ñÏí»É ¿ Áëï ÁÝ¹¹³ïáõÃÛ³Ý | Z4: Ð³ßí»ïáõ Å³Ù³Ý³Ï³Ñ³ïí³ÍáõÙ Ï³ë»óí³Í í³ñáõÛÃÝ»ñáí ·áñÍ»ñÇ ÁÝ¹Ñ³Ýáõñ ÃÇíÁ | AA4: Ð³ßí»ïáõ Å³Ù³Ý³Ï³Ñ³ïí³ÍáõÙ ³Ý³í³ñï ·áñÍ»ñÇ ÁÝ¹Ñ³Ýáõñ ÃÇíÁ | AB4: ²Û¹ ÃíáõÙª Ï³ë»óí³Í | AC4: ´áÕáù³ñÏí³Í ¹³ï³Ï³Ý ³Ïï»ñÇ ÃÇíÁ` Áëï ï»ë³ÏÝ»ñÇ | AF4: ´»Ï³Ýí³Í ¹³ï³Ï³Ý ³Ïï»ñÇ ÃÇíÁ` Áëï ï»ë³ÏÝ»ñÇ
E7: ÀÝ¹³Ù»ÝÁ | F7: ²Û¹ ÃíáõÙ`Ï³ë»óí³Í íÇ×³ÏáõÙ ÷áË³Ýóí³Í | G7: ²Û¹ ÃíáõÙª ÁÝ¹áõÝí»É ¿ í³ñáõÛÃ | H7: ²Û¹ ÃíáõÙª í»ñ³¹³ñÓí»É ¿ | I7: ²Û¹ ÃíáõÙª ÁÝ¹áõÝáõÙÁ Ù»ñÅí»É ¿ | J7: ÀÝ¹³Ù»ÝÁ | K7: ²Û¹ ÃíáõÙª ÁÝ¹áõÝí»É ¿ í³ñáõÛÃ | L7: ²Û¹ ÃíáõÙª í»ñ³¹³ñÓí»É ¿ | M7: ²Û¹ ÃíáõÙª ÁÝ¹áõÝáõÙÁ Ù»ñÅí»É ¿ | N7: ÀÝ¹³Ù»ÝÁ ³í³ñïí»É »Ý ·áñÍ»ñ ·áñÍÝ Áëï ¿áõÃÛ³Ý ÉáõÍáÕ ¹³ï³Ï³Ý ³Ïï»ñÇ (í×ÇéÝ»ñÇ) Ï³Û³óÙ³Ùµ | O7: ²Û¹ ÃíáõÙª Ñ³ÛóÇ µ³í³ñ³ñÙ³Ùµ | P7: ²Û¹ ÃíáõÙª Ñ³ÛóÇ Ù³ëÝ³ÏÇ µ³í³ñ³ñÙ³Ùµ | Q7: ²Û¹ ÃíáõÙª Ñ³ÛóÇ Ù»ñÅÙ³Ùµ | R7: Ø³ëáí Ï³ñ×í»É ¿, Ù³ëáí Ù»ñÅí»É | S7: ²Û¹ ÃíáõÙª Ï³ñ×í»É »Ý | W7: Ð³ÛóÁ ÃáÕÝí»É ¿ ³é³Ýó ùÝÝáõÃÛ³Ý | X7: ÀÝ¹³Ù»ÝÝ ³í³ñïí»É »Ý ·áñÍ»ñ | AC7: ²Û¹ ÃíáõÙ` ·áñÍÝ Áëï ¿áõÃÛ³Ý ÉáõÍáÕ ¹³ï³Ï³Ý ³Ïï»ñ | AD7: ²Û¹ ÃíáõÙ` ÙÇç³ÝÏÛ³É ¹³ï³Ï³Ý ³Ïï»ñ | AE7: ÀÝ¹³Ù»ÝÁ | AF7: ²Û¹ ÃíáõÙ` ·áñÍÝ Áëï ¿áõÃÛ³Ý ÉáõÍáÕ ¹³ï³Ï³Ý ³Ïï»ñ | AG7: ²Û¹ ÃíáõÙ` ÙÇç³ÝÏÛ³É ¹³ï³Ï³Ý ³Ïï»ñ | AH7: ÀÝ¹³Ù»ÝÁ
S10: ÀÝ¹³Ù»ÝÁ Ï³ñ×í»É »Ý | T10: ²Û¹ ÃíáõÙª Ñ³ëï³ïí»É ¿ ÏÝùí³Í Ñ³ßïáõÃÛ³Ý Ñ³Ù³Ó³ÛÝáõÃÛáõÝÁ | U10: ²Û¹ ÃíáõÙª Ñ³óÇó, ¹ÇÙáõÙÇó Ññ³Å³ñí»Éáõ ÑÇÙùáí | V10: ²Û¹ ÃíáõÙª ³ÛÉ ÑÇÙùáí
A18: ø³Õ³ù³óÇ³Ï³Ý ·áñÍ»ñÇ ¹³ë³Ï³ñ·áõÙÁ | E18: 1 | F18: 2 | G18: 3 | H18: 4 | I18: 5 | J18: 6 | K18: 7 | L18: 8 | M18: 9 | N18: 10 | O18: 11 | P18: 12 | Q18: 13 | R18: 14 | S18: 15 | T18: 16 | U18: 17 | V18: 18 | W18: 19 | X18: 20 | Y18: 21 | Z18: 22 | AA18: 23 | AB18: 24 | AC18: 25 | AD18: 26 | AE18: 27 | AF18: 28 | AG18: 29 | AH18: 30
A19: 1. | B19: ¶áõÛù³ÛÇÝ Çñ³í³Ñ³ñ³µ»ñáõÃÛáõÝÝ»ñÇ í»ñ³µ»ñÛ³É ¹³ï³Ï³Ý ·áñÍ»ñ | E19: =SUM(E20:E38) -> 680 | F19: =SUM(F20:F38) -> 290 | G19: =SUM(G20:G38) -> 384 | H19: =SUM(H20:H38) -> 5 | I19: =SUM(I20:I38) -> 1 | J19: =SUM(J20:J38) -> 192 | K19: =SUM(K20:K38) -> 129 | L19: =SUM(L20:L38) -> 32 | ... AE19: =SUM(AE20:AE38) -> 18 | AF19: 0 | AG19: =SUM(AG20:AG38) -> 0 | AH19: =SUM(AH20:AH38) -> 0
A20: 1.1 | B20: ¶áõÛùÇ ÝÏ³ïÙ³Ùµ ë»÷³Ï³ÝáõÃÛ³Ý Çñ³íáõÝùÁ ×³Ý³ã»Éáõ í»ñ³µ»ñÛ³É | E20: 38 | F20: 6 | G20: 30 | H20: 1 | I20: 1 | J20: 32 | K20: 9 | L20: 5 | N20: 15 | O20: 10 | Q20: 1 | S20: 4 | U20: 4 | X20: 15 | Z20: 2 | AA20: 30 | AB20: 7 | AC20: 2 | AD20: 1 | AE20: 3
A21: 1.1.1 | B21: ²Û¹ ÃíáõÙª Ó»éùµ»ñÙ³Ý í³Õ»ÙáõÃÛ³Ý áõÅáí | E21: 36 | F21: 4 | G21: 32 | J21: 22 | K21: 19 | L21: 1 | N21: 8 | O21: 6 | P21: 1 | S21: 1 | U21: 1 | X21: 8 | Z21: 1 | AA21: 47 | AB21: 2
A22: 1.1.2 | B22: ²Û¹ ÃíáõÙª ïÇñ³½áõñÏ ·áõÛùÇ ÝÏ³ïÙ³Ùµ | E22: 2 | G22: 2 | AA22: 2
A23: 1.1.3 | B23: ²Û¹ ÃíáõÙª ÇÝùÝ³Ï³Ù Ï³éáõÛóÇ ÝÏ³ïÙ³Ùµ
A24: 1.2 | B24: ê»÷³Ï³ÝáõÃÛ³Ý Çñ³íáõÝùÇ ¹³¹³ñ»óÙ³Ý í»ñ³µ»ñÛ³É | E24: 21 | F24: 1 | G24: 20 | J24: 2 | K24: 2 | N24: 14 | Q24: 11 | S24: 3 | U24: 3 | X24: 14 | Z24: 2 | AA24: 9 | AB24: 3
A25: 1.3 | B25: ¶áõÛùÇ ÝÏ³ïÙ³Ùµ û·ï³·áñÍÙ³Ý Çñ³íáõÝùÁ ×³Ý³ã»Éáõ í»ñ³µ»ñÛ³É
A26: 1.3.1 | B26: ²Û¹ ÃíáõÙª µÝ³Ïû·ï³·áñÍÙ³Ý Çñ³íáõÝùÁ ×³Ý³ã»Éáõ í»ñ³µ»ñÛ³É
A27: 1.3.2 | B27: ²Û¹ ÃíáõÙª ÑáÕ³Ù³ëÇ ÝÏ³ïÙ³Ùµ û·ï³·áñÍÙ³Ý Çñ³íáõÝùÁ ×³Ý³ã»Éáõ í»ñ³µ»ñÛ³É
A28: 1.4 | B28: ¶áõÛùÇ ÝÏ³ïÙ³Ùµ û·ï³·áñÍÙ³Ý Çñ³íáõÝùÁ ¹³¹³ñ»óÝ»Éáõ í»ñ³µ»ñÛ³É | E28: 1 | G28: 1 | N28: 1 | O28: 1 | X28: 1
A29: 1.4.1 | B29: ²Û¹ ÃíáõÙª µÝ³Ïû·ï³·áñÍÙ³Ý Çñ³íáõÝùÁ ¹³¹³ñ»óÝ»Éáõ í»ñ³µ»ñÛ³É | J29: 1 | K29: 1 | AA29: 1
A30: 1.4.1/1 | B30: ²Û¹ ÃíáõÙª ÷áËÑ³ïáõóÙ³Ùµ | E30: 3 | F30: 3 | AA30: 3 | AB30: 1
A31: 1.5 | B31: ´Ý³Ï³ñ³ÝÇó/ ï³ñ³ÍùÇó/ íï³ñ»Éáõ í»ñ³µ»ñÛ³É | E31: 23 | F31: 6 | G31: 17 | J31: 7 | K31: 4 | L31: 1 | N31: 7 | O31: 7 | X31: 7 | AA31: 20 | AB31: 5 | AC31: 4 | AE31: 4
A32: 1.6 | B32: ¶áõÛùÝ áõñÇßÇ ³åûñÇÝÇ ïÇñ³å»ïáõÙÇó »ï í»ñ³¹³ñÓÝ»Éáõ í»ñ³µ»ñÛ³É | E32: 29 | F32: 8 | G32: 21 | J32: 12 | K32: 7 | L32: 4 | N32: 5 | O32: 3 | P32: 2 | W32: 1 | X32: 6 | Z32: 4 | AA32: 30 | AB32: 9 | AC32: 3 | AD32: 1 | AE32: 4
A33: 1.6.1 | B33: ´³ñ»ËÇÕ× Ó»éùµ»ñáÕÇó Çñ ·áõÛùÁ Ñ»ï å³Ñ³Ýç»Éáõ í»ñ³µ»ñÛ³É
A34: 1.7 | B34: îÇñ³å»ïáõÙÇó ½ñÏ»Éáõ Ñ»ï ãÏ³åí³Í Çñ³íáõÝùÝ»ñÇ Ë³ËïáõÙÁ í»ñ³óÝ»Éáõ í»ñ³µ»ñÛ³É
A35: 1.8 | B35: ÀÝ¹Ñ³Ýáõñ µ³ÅÝ³ÛÇÝ ë»÷³Ï³ÝáõÃÛáõÝÇó µ³ÅÇÝÝ ³é³ÝÓÝ³óÝ»Éáõ í»ñ³µ»ñÛ³É | E35: 387 | F35: 193 | G35: 193 | H35: 1 | J35: 70 | K35: 52 | L35: 12 | N35: 78 | O35: 56 | Q35: 6 | S35: 16 | T35: 4 | U35: 12 | W35: 2 | X35: 80 | Y35: 1 | Z35: 24 | AA35: 357 | AB35: 148 | AC35: 4 | AD35: 1 | AE35: 5
A36: 1.8.1 | B36: Ð³Ù³ï»Õ ë»÷³Ï³ÝáõÃÛ³Ý Ý»ñùá ·ïÝíáÕ ·áõÛùÁ µ³Å³Ý»Éáõ ¨ ¹ñ³ÝÇó µ³ÅÇÝÝ ³é³ÝÓÝ³óÝ»Éáõ í»ñ³µ»ñÛ³É | E36: 35 | F36: 18 | G36: 17 | J36: 3 | K36: 2 | N36: 2 | O36: 1 | S36: 1 | U36: 1 | W36: 1 | X36: 3 | Z36: 1 | AA36: 34 | AB36: 13
A37: 1.8.3 | B37: ¶áõÛùÇ íñ³ µéÝ³·³ÝÓáõÙ ï³ñ³Í»Éáõ å³Ñ³ÝçÇ Ù³ëÇÝ | E37: 5 | F37: 4 | G37: 1 | Z37: 1 | AA37: 5 | AB37: 2
A38: 1.9 | B38: ²ÛÉ í»×»ñ | E38: 100 | F38: 47 | G38: 50 | H38: 3 | J38: 43 | K38: 33 | L38: 9 | N38: 19 | O38: 13 | P38: 1 | Q38: 1 | S38: 4 | T38: 1 | U38: 3 | W38: 3 | X38: 22 | Z38: 6 | AA38: 108 | AB38: 45 | AC38: 2 | AE38: 2
A39: 2. | B39: ¶áñÍ³ñùÝ»ñÇ Ñ»ï Ï³åí³Í Çñ³í³Ñ³ñ³µ»ñáõÃÛáõÝÝ»ñÇ í»ñ³µ»ñÛ³É ¹³ï³Ï³Ý ·áñÍ»ñ | E39: =SUM(E40:E50) -> 57 | F39: =SUM(F40:F50) -> 11 | G39: =SUM(G40:G50) -> 46 | H39: =SUM(H40:H50) -> 0 | I39: =SUM(I40:I50) -> 0 | J39: =SUM(J40:J50) -> 39 | K39: =SUM(K40:K50) -> 22 | L39: =SUM(L40:L50) -> 14 | ... AH39: =SUM(AH40:AH50) -> 0
A40: 2.1 | B40: ·áñÍ³ñùÝ»ñÇ ³Ýí³í»ñáõÃÛ³Ý Ñ»ï Ï³åí³Í í»×»ñ | E40: 13 | F40: 2 | G40: 11 | J40: 7 | K40: 3 | L40: 4 | N40: 3 | O40: 2 | S40: 1 | U40: 1 | X40: 3 | AA40: 13 | AB40: 1 | AD40: 1 | AE40: 1
A41: 2.1.1 | B41: ³Û¹ ÃíáõÙ` íÇ×³Ñ³ñáõÛó ·áñÍ³ñùÝ»ñÝ ³Ýí³í»ñ ×³Ý³ã»Éáõ í»ñ³µ»ñÛ³É
A42: 2.1.2 | B42: ³Û¹ ÃíáõÙ` ·áñÍ³ñùÇ ³éáãÝãáõÃÛ³Ý Ñ»ï¨³ÝùÝ»ñ ÏÇñ³é»Éáõ í»ñ³µ»ñÛ³É | E42: 6 | F42: 1 | G42: 5 | J42: 11 | K42: 6 | L42: 4 | N42: 1 | S42: 1 | U42: 1 | X42: 1 | Y42: 1 | AA42: 10
A43: 2.2 | B43: ¶áñÍ³ñùÁ í³í»ñ ×³Ý³ã»Éáõ í»ñ³µ»ñÛ³É | E43: 3 | G43: 3 | J43: 3 | K43: 3 | AA43: 6
A44: 2.3 | B44: ¶áñÍ³ñùÇó Í³·áÕ Çñ³íáõÝùÝ»ñÁ ·ñ³Ýó»Éáõ í»ñ³µ»ñÛ³É
A45: 2.4 | B45: ä³ÛÙ³Ý³·ÇñÝ ³Ýí³í»ñ ×³Ý³ã»Éáõ í»ñ³µ»ñÛ³É | E45: 17 | F45: 3 | G45: 14 | J45: 6 | K45: 3 | L45: 1 | N45: 4 | O45: 3 | Q45: 1 | W45: 2 | X45: 6 | Z45: 1 | AA45: 14 | AB45: 5 | AD45: 3 | AE45: 3
A46: 2.5 | B46: ä³ÛÙ³Ý³·ñÇÁ í³í»ñ ×³Ý³ã»Éáõ í»ñ³µ»ñÛ³É | E46: 2 | G46: 2 | J46: 2 | K46: 1 | L46: 1 | AA46: 3
A47: 2.6 | B47: ä³ÛÙ³Ý³·ñÇó Í³·áÕ Çñ³íáõÝùÝ»ñÁ ·ñ³Ýó»Éáõ í»ñ³µ»ñÛ³É
A48: 2.7 | B48: ä³ÛÙ³Ý³·ÇñÁ ÷á÷áË»Éáõ ¨ ÉáõÍ»Éáõ í»ñ³µ»ñÛ³É | E48: 9 | F48: 4 | G48: 5 | J48: 4 | K48: 4 | N48: 2 | O48: 1 | S48: 1 | U48: 1 | X48: 2 | Y48: 1 | Z48: 1 | AA48: 10 | AB48: 6 | AD48: 1 | AE48: 1
A49: 2.8 | B49: ä³ÛÙ³Ý³·Çñ ÏÝù»ÉáõÝ å³ñï³íáñ»óÝ»Éáõ í»ñ³µ»ñÛ³É | E49: 1 | G49: 1 | J49: 1 | L49: 1 | AA49: 1
A50: 2.9 | B50: ²ÛÉ í»×»ñ | E50: 6 | F50: 1 | G50: 5 | J50: 5 | K50: 2 | L50: 3 | N50: 2 | Q50: 2 | X50: 2 | Z50: 1 | AA50: 6 | AB50: 1 | AC50: 1 | AE50: 1
A51: 3. | B51: Ä³é³Ý·áõÃÛ³Ý Ñ»ï Ï³åí³Í Çñ³í³Ñ³ñ³µ»ñáõÃÛáõÝÝ»ñÇ í»ñ³µ»ñÛ³É ¹³ï³Ï³Ý ·áñÍ»ñ | E51: =SUM(E52:E58) -> 45 | F51: =SUM(F52:F58) -> 3 | G51: =SUM(G52:G58) -> 42 | H51: =SUM(H52:H58) -> 0 | I51: =SUM(I52:I58) -> 0 | J51: =SUM(J52:J58) -> 18 | K51: =SUM(K52:K58) -> 15 | L51: =SUM(L52:L58) -> 2 | ... AH51: =SUM(AH52:AH58) -> 0
...

Sheet Արագածոտն
A1: 2019թ. 1-ին կիսամյակ | E1: Ð²ÞìºîìàôÂÚàôÜ
A2: ÐÐ ²ð²¶²ÌàîÜÆ Ø²ð¼Æ ²è²æÆÜ ²îÚ²ÜÆ ÀÜ¸Ð²Üàôð Æð²ì²êàôÂÚ²Ü ¸²î²ð²ÜàôØ ø²Ô²ø²òÆ²Î²Ü ¶àðÌºðÆ øÜÜàôÂÚ²Ü ìºð²´ºðÚ²È
A3: ÐÐ ²ñ³·³ÍáïÝÇ Ù³ñ½Ç ³é³çÇÝ ³ïÛ³ÝÇ ÁÝ¹Ñ³Ýáõñ Çñ³í³ëáõÃÛ³Ý ¹³ï³ñ³ÝáõÙ ù³Õ³ù³óÇ³Ï³Ý Ù³ëÝ³·Çï³óáõÙ áõÝ»óáÕ ¹³ï³íáñÝ»ñÇ Ñ³ëïÇùÝ»ñÇ ù³Ý³ÏÁ` 4
A4: êïáõ·Çã Ñ³í³ë³ñáõÙÝ»ñª 1=2+3+4+5, 6=7+8+9, 2+3+7=20+21+23, 10=11+12+13+14+15, 15=16+17+18, 20=10+19, 27=25+26, 30=28+29 | E4: Ð³ßí»ïáõ Å³Ù³Ý³Ï³Ñ³ïí³ÍáõÙ Ý³Ëáñ¹ Ñ³ßí»ïáõ Å³Ù³Ý³Ï³Ñ³ïí³ÍÇó ÷áË³Ýóí³Í ·áñÍ»ñÇ ÁÝ¹Ñ³Ýáõñ ÃÇíÁ | J4: Ð³ßí»ïáõ Å³Ù³Ý³Ï³Ñ³ïí³ÍáõÙëï³óí³Í ·áñÍ»ñÇ (³Û¹ ÃíáõÙ` Ñ³Ûó³¹ÇÙáõÙÝ»ñÇ, ¹ÇÙáõÙÝ»ñÇ) ÁÝ¹Ñ³Ýáõñ ÃÇíÁ | N4: Ð³ßí»ïáõ Å³Ù³Ý³Ï³Ñ³ïí³ÍáõÙ ³í³ñïí³Í ·áñÍ»ñÇ ÁÝ¹Ñ³Ýáõñ ÃÇíÁ | Y4: ¶áñÍÝ áõÕ³ñÏí»É ¿ Áëï ÁÝ¹¹³ïáõÃÛ³Ý | Z4: Ð³ßí»ïáõ Å³Ù³Ý³Ï³Ñ³ïí³ÍáõÙ Ï³ë»óí³Í í³ñáõÛÃÝ»ñáí ·áñÍ»ñÇ ÁÝ¹Ñ³Ýáõñ ÃÇíÁ | AA4: Ð³ßí»ïáõ Å³Ù³Ý³Ï³Ñ³ïí³ÍáõÙ ³Ý³í³ñï ·áñÍ»ñÇ ÁÝ¹Ñ³Ýáõñ ÃÇíÁ | AB4: ²Û¹ ÃíáõÙª Ï³ë»óí³Í | AC4: ´áÕáù³ñÏí³Í ¹³ï³Ï³Ý ³Ïï»ñÇ ÃÇíÁ` Áëï ï»ë³ÏÝ»ñÇ | AF4: ´»Ï³Ýí³Í ¹³ï³Ï³Ý ³Ïï»ñÇ ÃÇíÁ` Áëï ï»ë³ÏÝ»ñÇ
E7: ÀÝ¹³Ù»ÝÁ | F7: ²Û¹ ÃíáõÙ`Ï³ë»óí³Í íÇ×³ÏáõÙ ÷áË³Ýóí³Í | G7: ²Û¹ ÃíáõÙª ÁÝ¹áõÝí»É ¿ í³ñáõÛÃ | H7: ²Û¹ ÃíáõÙª í»ñ³¹³ñÓí»É ¿ | I7: ²Û¹ ÃíáõÙª ÁÝ¹áõÝáõÙÁ Ù»ñÅí»É ¿ | J7: ÀÝ¹³Ù»ÝÁ | K7: ²Û¹ ÃíáõÙª ÁÝ¹áõÝí»É ¿ í³ñáõÛÃ | L7: ²Û¹ ÃíáõÙª í»ñ³¹³ñÓí»É ¿ | M7: ²Û¹ ÃíáõÙª ÁÝ¹áõÝáõÙÁ Ù»ñÅí»É ¿ | N7: ÀÝ¹³Ù»ÝÁ ³í³ñïí»É »Ý ·áñÍ»ñ ·áñÍÝ Áëï ¿áõÃÛ³Ý ÉáõÍáÕ ¹³ï³Ï³Ý ³Ïï»ñÇ (í×ÇéÝ»ñÇ) Ï³Û³óÙ³Ùµ | O7: ²Û¹ ÃíáõÙª Ñ³ÛóÇ µ³í³ñ³ñÙ³Ùµ | P7: ²Û¹ ÃíáõÙª Ñ³ÛóÇ Ù³ëÝ³ÏÇ µ³í³ñ³ñÙ³Ùµ | Q7: ²Û¹ ÃíáõÙª Ñ³ÛóÇ Ù»ñÅÙ³Ùµ | R7: Ø³ëáí Ï³ñ×í»É ¿, Ù³ëáí Ù»ñÅí»É | S7: ²Û¹ ÃíáõÙª Ï³ñ×í»É »Ý | W7: Ð³ÛóÁ ÃáÕÝí»É ¿ ³é³Ýó ùÝÝáõÃÛ³Ý | X7: ÀÝ¹³Ù»ÝÝ ³í³ñïí»É »Ý ·áñÍ»ñ | AC7: ²Û¹ ÃíáõÙ` ·áñÍÝ Áëï ¿áõÃÛ³Ý ÉáõÍáÕ ¹³ï³Ï³Ý ³Ïï»ñ | AD7: ²Û¹ ÃíáõÙ` ÙÇç³ÝÏÛ³É ¹³ï³Ï³Ý ³Ïï»ñ | AE7: ÀÝ¹³Ù»ÝÁ | AF7: ²Û¹ ÃíáõÙ` ·áñÍÝ Áëï ¿áõÃÛ³Ý ÉáõÍáÕ ¹³ï³Ï³Ý ³Ïï»ñ | AG7: ²Û¹ ÃíáõÙ` ÙÇç³ÝÏÛ³É ¹³ï³Ï³Ý ³Ïï»ñ | AH7: ÀÝ¹³Ù»ÝÁ
S10: ÀÝ¹³Ù»ÝÁ Ï³ñ×í»É »Ý | T10: ²Û¹ ÃíáõÙª Ñ³ëï³ïí»É ¿ ÏÝùí³Í Ñ³ßïáõÃÛ³Ý Ñ³Ù³Ó³ÛÝáõÃÛáõÝÁ | U10: ²Û¹ ÃíáõÙª Ñ³óÇó, ¹ÇÙáõÙÇó Ññ³Å³ñí»Éáõ ÑÇÙùáí | V10: ²Û¹ ÃíáõÙª ³ÛÉ ÑÇÙùáí
A18: ø³Õ³ù³óÇ³Ï³Ý ·áñÍ»ñÇ ¹³ë³Ï³ñ·áõÙÁ | E18: 1 | F18: 2 | G18: 3 | H18: 4 | I18: 5 | J18: 6 | K18: 7 | L18: 8 | M18: 9 | N18: 10 | O18: 11 | P18: 12 | Q18: 13 | R18: 14 | S18: 15 | T18: 16 | U18: 17 | V18: 18 | W18: 19 | X18: 20 | Y18: 21 | Z18: 22 | AA18: 23 | AB18: 24 | AC18: 25 | AD18: 26 | AE18: 27 | AF18: 28 | AG18: 29 | AH18: 30
A19: 1. | B19: ¶áõÛù³ÛÇÝ Çñ³í³Ñ³ñ³µ»ñáõÃÛáõÝÝ»ñÇ í»ñ³µ»ñÛ³É ¹³ï³Ï³Ý ·áñÍ»ñ | E19: =SUM(E20:E38) -> 189 | F19: =SUM(F20:F38) -> 93 | G19: =SUM(G20:G38) -> 96 | H19: =SUM(H20:H38) -> 0 | I19: =SUM(I20:I38) -> 0 | J19: =SUM(J20:J38) -> 121 | K19: =SUM(K20:K38) -> 94 | L19: =SUM(L20:L38) -> 20 | ... AH19: =SUM(AH20:AH38) -> 2
A20: 1.1 | B20: ¶áõÛùÇ ÝÏ³ïÙ³Ùµ ë»÷³Ï³ÝáõÃÛ³Ý Çñ³íáõÝùÁ ×³Ý³ã»Éáõ í»ñ³µ»ñÛ³É | E20: 21 | F20: 1 | G20: 20 | J20: 19 | K20: 7 | L20: 11 | N20: 9 | O20: 4 | Q20: 4 | S20: 1 | U20: 1 | X20: 9 | AA20: 19 | AB20: 1 | AC20: 2 | AD20: 3 | AE20: 5
A21: 1.1.1 | B21: ²Û¹ ÃíáõÙª Ó»éùµ»ñÙ³Ý í³Õ»ÙáõÃÛ³Ý áõÅáí | E21: 12 | F21: 1 | G21: 11 | J21: 11 | K21: 9 | L21: 2 | N21: 9 | O21: 8 | S21: 1 | U21: 1 | X21: 9 | AA21: 12 | AB21: 1 | AC21: 3 | AE21: 3
A22: 1.1.2 | B22: ²Û¹ ÃíáõÙª ïÇñ³½áõñÏ ·áõÛùÇ ÝÏ³ïÙ³Ùµ
A23: 1.1.3 | B23: ²Û¹ ÃíáõÙª ÇÝùÝ³Ï³Ù Ï³éáõÛóÇ ÝÏ³ïÙ³Ùµ
A24: 1.2 | B24: ê»÷³Ï³ÝáõÃÛ³Ý Çñ³íáõÝùÇ ¹³¹³ñ»óÙ³Ý í»ñ³µ»ñÛ³É
A25: 1.3 | B25: ¶áõÛùÇ ÝÏ³ïÙ³Ùµ û·ï³·áñÍÙ³Ý Çñ³íáõÝùÁ ×³Ý³ã»Éáõ í»ñ³µ»ñÛ³É
A26: 1.3.1 | B26: ²Û¹ ÃíáõÙª µÝ³Ïû·ï³·áñÍÙ³Ý Çñ³íáõÝùÁ ×³Ý³ã»Éáõ í»ñ³µ»ñÛ³É
A27: 1.3.2 | B27: ²Û¹ ÃíáõÙª ÑáÕ³Ù³ëÇ ÝÏ³ïÙ³Ùµ û·ï³·áñÍÙ³Ý Çñ³íáõÝùÁ ×³Ý³ã»Éáõ í»ñ³µ»ñÛ³É
A28: 1.4 | B28: ¶áõÛùÇ ÝÏ³ïÙ³Ùµ û·ï³·áñÍÙ³Ý Çñ³íáõÝùÁ ¹³¹³ñ»óÝ»Éáõ í»ñ³µ»ñÛ³É
A29: 1.4.1 | B29: ²Û¹ ÃíáõÙª µÝ³Ïû·ï³·áñÍÙ³Ý Çñ³íáõÝùÁ ¹³¹³ñ»óÝ»Éáõ í»ñ³µ»ñÛ³É | E29: 1 | F29: 1 | AA29: 1
A30: 1.4.1/1 | B30: ²Û¹ ÃíáõÙª ÷áËÑ³ïáõóÙ³Ùµ
A31: 1.5 | B31: ´Ý³Ï³ñ³ÝÇó/ ï³ñ³ÍùÇó/ íï³ñ»Éáõ í»ñ³µ»ñÛ³É | E31: 6 | F31: 5 | G31: 1 | J31: 2 | K31: 2 | N31: 1 | P31: 1 | X31: 1 | AA31: 7 | AB31: 3
A32: 1.6 | B32: ¶áõÛùÝ áõñÇßÇ ³åûñÇÝÇ ïÇñ³å»ïáõÙÇó »ï í»ñ³¹³ñÓÝ»Éáõ í»ñ³µ»ñÛ³É | E32: 10 | F32: 5 | G32: 5 | J32: 4 | K32: 3 | L32: 1 | N32: 1 | O32: 1 | X32: 1 | AA32: 12 | AB32: 3 | AC32: 1 | AE32: 1
A33: 1.6.1 | B33: ´³ñ»ËÇÕ× Ó»éùµ»ñáÕÇó Çñ ·áõÛùÁ Ñ»ï å³Ñ³Ýç»Éáõ í»ñ³µ»ñÛ³É
A34: 1.7 | B34: îÇñ³å»ïáõÙÇó ½ñÏ»Éáõ Ñ»ï ãÏ³åí³Í Çñ³íáõÝùÝ»ñÇ Ë³ËïáõÙÁ í»ñ³óÝ»Éáõ í»ñ³µ»ñÛ³É | E34: 2 | G34: 2 | Z34: 1 | AA34: 2 | AB34: 1
A35: 1.8 | B35: ÀÝ¹Ñ³Ýáõñ µ³ÅÝ³ÛÇÝ ë»÷³Ï³ÝáõÃÛáõÝÇó µ³ÅÇÝÝ ³é³ÝÓÝ³óÝ»Éáõ í»ñ³µ»ñÛ³É | E35: 96 | F35: 54 | G35: 42 | J35: 40 | K35: 31 | L35: 4 | N35: 32 | O35: 19 | P35: 1 | Q35: 1 | S35: 11 | T35: 2 | U35: 7 | V35: 2 | X35: 32 | Y35: 4 | Z35: 3 | AA35: 91 | AB35: 35 | AD35: 2 | AE35: 2 | AG35: 2 | AH35: 2
A36: 1.8.1 | B36: Ð³Ù³ï»Õ ë»÷³Ï³ÝáõÃÛ³Ý Ý»ñùá ·ïÝíáÕ ·áõÛùÁ µ³Å³Ý»Éáõ ¨ ¹ñ³ÝÇó µ³ÅÇÝÝ ³é³ÝÓÝ³óÝ»Éáõ í»ñ³µ»ñÛ³É | E36: 37 | F36: 24 | G36: 13 | J36: 40 | K36: 37 | L36: 2 | N36: 9 | O36: 6 | S36: 3 | T36: 1 | U36: 2 | X36: 9 | Y36: 2 | Z36: 6 | AA36: 63 | AB36: 15
A37: 1.8.3 | B37: ¶áõÛùÇ íñ³ µéÝ³·³ÝÓáõÙ ï³ñ³Í»Éáõ å³Ñ³ÝçÇ Ù³ëÇÝ
A38: 1.9 | B38: ²ÛÉ í»×»ñ | E38: 4 | F38: 2 | G38: 2 | J38: 5 | K38: 5 | N38: 1 | O38: 1 | X38: 1 | Z38: 1 | AA38: 8 | AB38: 2
A39: 2. | B39: ¶áñÍ³ñùÝ»ñÇ Ñ»ï Ï³åí³Í Çñ³í³Ñ³ñ³µ»ñáõÃÛáõÝÝ»ñÇ í»ñ³µ»ñÛ³É ¹³ï³Ï³Ý ·áñÍ»ñ | E39: =SUM(E40:E50) -> 31 | F39: =SUM(F40:F50) -> 1 | G39: =SUM(G40:G50) -> 30 | H39: =SUM(H40:H50) -> 0 | I39: =SUM(I40:I50) -> 0 | J39: =SUM(J40:J50) -> 11 | K39: =SUM(K40:K50) -> 5 | L39: =SUM(L40:L50) -> 5 | ... AH39: =SUM(AH40:AH50) -> 0
A40: 2,1 | B40: ·áñÍ³ñùÝ»ñÇ ³Ýí³í»ñáõÃÛ³Ý Ñ»ï Ï³åí³Í í»×»ñ | E40: 7 | G40: 7 | J40: 3 | K40: 2 | L40: 1 | N40: 2 | O40: 1 | S40: 1 | U40: 1 | X40: 2 | Y40: 2 | AA40: 5 | AD40: 1 | AE40: 1
A41: 2.1.1 | B41: ³Û¹ ÃíáõÙ` íÇ×³Ñ³ñáõÛó ·áñÍ³ñùÝ»ñÝ ³Ýí³í»ñ ×³Ý³ã»Éáõ í»ñ³µ»ñÛ³É
A42: 2.1.2 | B42: ³Û¹ ÃíáõÙ` ·áñÍ³ñùÇ ³éáãÝãáõÃÛ³Ý Ñ»ï¨³ÝùÝ»ñ ÏÇñ³é»Éáõ í»ñ³µ»ñÛ³É | E42: 4 | G42: 4 | J42: 2 | K42: 1 | Y42: 2 | AA42: 4
A43: 2.2 | B43: ¶áñÍ³ñùÁ í³í»ñ ×³Ý³ã»Éáõ í»ñ³µ»ñÛ³É | E43: 14 | G43: 14 | J43: 1 | L43: 1 | Y43: 14
A44: 2.3 | B44: ¶áñÍ³ñùÇó Í³·áÕ Çñ³íáõÝùÝ»ñÁ ·ñ³Ýó»Éáõ í»ñ³µ»ñÛ³É
A45: 2.4 | B45: ä³ÛÙ³Ý³·ÇñÝ ³Ýí³í»ñ ×³Ý³ã»Éáõ í»ñ³µ»ñÛ³É | E45: 2 | F45: 1 | G45: 1 | AA45: 2
A46: 2.5 | B46: ä³ÛÙ³Ý³·ñÇÁ í³í»ñ ×³Ý³ã»Éáõ í»ñ³µ»ñÛ³É | E46: 2 | G46: 2 | N46: 1 | Q46: 1 | X46: 1 | Z46: 1 | AA46: 1 | AB46: 1
A47: 2.6 | B47: ä³ÛÙ³Ý³·ñÇó Í³·áÕ Çñ³íáõÝùÝ»ñÁ ·ñ³Ýó»Éáõ í»ñ³µ»ñÛ³É
A48: 2.7 | B48: ä³ÛÙ³Ý³·ÇñÁ ÷á÷áË»Éáõ ¨ ÉáõÍ»Éáõ í»ñ³µ»ñÛ³É | E48: 1 | G48: 1 | J48: 2 | L48: 2 | N48: 1 | O48: 1 | X48: 1
A49: 2.8 | B49: ä³ÛÙ³Ý³·Çñ ÏÝù»ÉáõÝ å³ñï³íáñ»óÝ»Éáõ í»ñ³µ»ñÛ³É
A50: 2.9 | B50: ²ÛÉ í»×»ñ | E50: 1 | G50: 1 | J50: 3 | K50: 2 | L50: 1 | N50: 1 | Q50: 1 | X50: 1 | AA50: 2 | AC50: 1 | AE50: 1
A51: 3. | B51: Ä³é³Ý·áõÃÛ³Ý Ñ»ï Ï³åí³Í Çñ³í³Ñ³ñ³µ»ñáõÃÛáõÝÝ»ñÇ í»ñ³µ»ñÛ³É ¹³ï³Ï³Ý ·áñÍ»ñ | E51: =SUM(E52:E58) -> 10 | F51: =SUM(F52:F58) -> 0 | G51: =SUM(G52:G58) -> 10 | H51: =SUM(H52:H58) -> 0 | I51: =SUM(I52:I58) -> 0 | J51: =SUM(J52:J58) -> 7 | K51: =SUM(K52:K58) -> 2 | L51: =SUM(L52:L58) -> 4 | ... AH51: =SUM(AH52:AH58) -> 0
...

Sheet Գեղարքունիք
A1: 2019թ. 1-ին կիսամյակ | E1: Ð²ÞìºîìàôÂÚàôÜ
A2: ÐÐ ¶ºÔ²ðøàôÜÆøÆ Ø²ð¼Æ ²è²æÆÜ ²îÚ²ÜÆ ÀÜ¸Ð²Üàôð Æð²ì²êàôÂÚ²Ü ¸²î²ð²ÜàôØ ø²Ô²ø²òÆ²Î²Ü ¶àðÌºðÆ øÜÜàôÂÚ²Ü ìºð²´ºðÚ²È
A3: ÐÐ ¶»Õ³ñùáõÝÇùÇ Ù³ñ½Ç ³é³çÇÝ ³ïÛ³ÝÇ ÁÝ¹Ñ³Ýáõñ Çñ³í³ëáõÃÛ³Ý ¹³ï³ñ³ÝáõÙ ù³Õ³ù³óÇ³Ï³Ý Ù³ëÝ³·Çï³óáõÙ áõÝ»óáÕ ¹³ï³íáñÝ»ñÇ Ñ³ëïÇùÝ»ñÇ ù³Ý³ÏÁ` 4
A4: êïáõ·Çã Ñ³í³ë³ñáõÙÝ»ñª 1=2+3+4+5, 6=7+8+9, 2+3+7=20+21+23, 10=11+12+13+14+15, 15=16+17+18, 20=10+19, 27=25+26, 30=28+29 | E4: Ð³ßí»ïáõ Å³Ù³Ý³Ï³Ñ³ïí³ÍáõÙ Ý³Ëáñ¹ Ñ³ßí»ïáõ Å³Ù³Ý³Ï³Ñ³ïí³ÍÇó ÷áË³Ýóí³Í ·áñÍ»ñÇ ÁÝ¹Ñ³Ýáõñ ÃÇíÁ | J4: Ð³ßí»ïáõ Å³Ù³Ý³Ï³Ñ³ïí³ÍáõÙëï³óí³Í ·áñÍ»ñÇ (³Û¹ ÃíáõÙ` Ñ³Ûó³¹ÇÙáõÙÝ»ñÇ, ¹ÇÙáõÙÝ»ñÇ) ÁÝ¹Ñ³Ýáõñ ÃÇíÁ | N4: Ð³ßí»ïáõ Å³Ù³Ý³Ï³Ñ³ïí³ÍáõÙ ³í³ñïí³Í ·áñÍ»ñÇ ÁÝ¹Ñ³Ýáõñ ÃÇíÁ | Y4: ¶áñÍÝ áõÕ³ñÏí»É ¿ Áëï ÁÝ¹¹³ïáõÃÛ³Ý | Z4: Ð³ßí»ïáõ Å³Ù³Ý³Ï³Ñ³ïí³ÍáõÙ Ï³ë»óí³Í í³ñáõÛÃÝ»ñáí ·áñÍ»ñÇ ÁÝ¹Ñ³Ýáõñ ÃÇíÁ | AA4: Ð³ßí»ïáõ Å³Ù³Ý³Ï³Ñ³ïí³ÍáõÙ ³Ý³í³ñï ·áñÍ»ñÇ ÁÝ¹Ñ³Ýáõñ ÃÇíÁ | AB4: ²Û¹ ÃíáõÙª Ï³ë»óí³Í | AC4: ´áÕáù³ñÏí³Í ¹³ï³Ï³Ý ³Ïï»ñÇ ÃÇíÁ` Áëï ï»ë³ÏÝ»ñÇ | AF4: ´»Ï³Ýí³Í ¹³ï³Ï³Ý ³Ïï»ñÇ ÃÇíÁ` Áëï ï»ë³ÏÝ»ñÇ
E7: ÀÝ¹³Ù»ÝÁ | F7: ²Û¹ ÃíáõÙ`Ï³ë»óí³Í íÇ×³ÏáõÙ ÷áË³Ýóí³Í | G7: ²Û¹ ÃíáõÙª ÁÝ¹áõÝí»É ¿ í³ñáõÛÃ | H7: ²Û¹ ÃíáõÙª í»ñ³¹³ñÓí»É ¿ | I7: ²Û¹ ÃíáõÙª ÁÝ¹áõÝáõÙÁ Ù»ñÅí»É ¿ | J7: ÀÝ¹³Ù»ÝÁ | K7: ²Û¹ ÃíáõÙª ÁÝ¹áõÝí»É ¿ í³ñáõÛÃ | L7: ²Û¹ ÃíáõÙª í»ñ³¹³ñÓí»É ¿ | M7: ²Û¹ ÃíáõÙª ÁÝ¹áõÝáõÙÁ Ù»ñÅí»É ¿ | N7: ÀÝ¹³Ù»ÝÁ ³í³ñïí»É »Ý ·áñÍ»ñ ·áñÍÝ Áëï ¿áõÃÛ³Ý ÉáõÍáÕ ¹³ï³Ï³Ý ³Ïï»ñÇ (í×ÇéÝ»ñÇ) Ï³Û³óÙ³Ùµ | O7: ²Û¹ ÃíáõÙª Ñ³ÛóÇ µ³í³ñ³ñÙ³Ùµ | P7: ²Û¹ ÃíáõÙª Ñ³ÛóÇ Ù³ëÝ³ÏÇ µ³í³ñ³ñÙ³Ùµ | Q7: ²Û¹ ÃíáõÙª Ñ³ÛóÇ Ù»ñÅÙ³Ùµ | R7: Ø³ëáí Ï³ñ×í»É ¿, Ù³ëáí Ù»ñÅí»É | S7: ²Û¹ ÃíáõÙª Ï³ñ×í»É »Ý | W7: Ð³ÛóÁ ÃáÕÝí»É ¿ ³é³Ýó ùÝÝáõÃÛ³Ý | X7: ÀÝ¹³Ù»ÝÝ ³í³ñïí»É »Ý ·áñÍ»ñ | AC7: ²Û¹ ÃíáõÙ` ·áñÍÝ Áëï ¿áõÃÛ³Ý ÉáõÍáÕ ¹³ï³Ï³Ý ³Ïï»ñ | AD7: ²Û¹ ÃíáõÙ` ÙÇç³ÝÏÛ³É ¹³ï³Ï³Ý ³Ïï»ñ | AE7: ÀÝ¹³Ù»ÝÁ | AF7: ²Û¹ ÃíáõÙ` ·áñÍÝ Áëï ¿áõÃÛ³Ý ÉáõÍáÕ ¹³ï³Ï³Ý ³Ïï»ñ | AG7: ²Û¹ ÃíáõÙ` ÙÇç³ÝÏÛ³É ¹³ï³Ï³Ý ³Ïï»ñ | AH7: ÀÝ¹³Ù»ÝÁ
S10: ÀÝ¹³Ù»ÝÁ Ï³ñ×í»É »Ý | T10: ²Û¹ ÃíáõÙª Ñ³ëï³ïí»É ¿ ÏÝùí³Í Ñ³ßïáõÃÛ³Ý Ñ³Ù³Ó³ÛÝáõÃÛáõÝÁ | U10: ²Û¹ ÃíáõÙª Ñ³óÇó, ¹ÇÙáõÙÇó Ññ³Å³ñí»Éáõ ÑÇÙùáí | V10: ²Û¹ ÃíáõÙª ³ÛÉ ÑÇÙùáí
A18: ø³Õ³ù³óÇ³Ï³Ý ·áñÍ»ñÇ ¹³ë³Ï³ñ·áõÙÁ | E18: 1 | F18: 2 | G18: 3 | H18: 4 | I18: 5 | J18: 6 | K18: 7 | L18: 8 | M18: 9 | N18: 10 | O18: 11 | P18: 12 | Q18: 13 | R18: 14 | S18: 15 | T18: 16 | U18: 17 | V18: 18 | W18: 19 | X18: 20 | Y18: 21 | Z18: 22 | AA18: 23 | AB18: 24 | AC18: 25 | AD18: 26 | AE18: 27 | AF18: 28 | AG18: 29 | AH18: 30
A19: 1. | B19: ¶áõÛù³ÛÇÝ Çñ³í³Ñ³ñ³µ»ñáõÃÛáõÝÝ»ñÇ í»ñ³µ»ñÛ³É ¹³ï³Ï³Ý ·áñÍ»ñ | E19: =SUM(E20:E38) -> 275 | F19: =SUM(F20:F38) -> 140 | G19: =SUM(G20:G38) -> 134 | H19: =SUM(H20:H38) -> 1 | I19: =SUM(I20:I38) -> 0 | J19: =SUM(J20:J38) -> 105 | K19: =SUM(K20:K38) -> 61 | L19: =SUM(L20:L38) -> 37 | ... AH19: =SUM(AH20:AH38) -> 3
A20: 1.1 | B20: ¶áõÛùÇ ÝÏ³ïÙ³Ùµ ë»÷³Ï³ÝáõÃÛ³Ý Çñ³íáõÝùÁ ×³Ý³ã»Éáõ í»ñ³µ»ñÛ³É | E20: =[1]Gavar!E20+[1]Sevan!E20+[1]Martuni!E20 -> 14 | F20: =[1]Gavar!F20+[1]Sevan!F20+[1]Martuni!F20 -> 2 | G20: =[1]Gavar!G20+[1]Sevan!G20+[1]Martuni!G20 -> 12 | J20: =[1]Gavar!J20+[1]Sevan!J20+[1]Martuni!J20 -> 9 | K20: =[1]Gavar!K20+[1]Sevan!K20+[1]Martuni!K20 -> 3 | L20: =[1]Gavar!L20+[1]Sevan!L20+[1]Martuni!L20 -> 5 | M20: =[1]Gavar!M20+[1]Sevan!M20+[1]Martuni!M20 -> 1 | N20: =[1]Gavar!N20+[1]Sevan!N20+[1]Martuni!N20 -> 1 | Q20: =[1]Gavar!Q20+[1]Sevan!Q20+[1]Martuni!Q20 -> 1 | X20: =[1]Gavar!X20+[1]Sevan!X20+[1]Martuni!X20 -> 1 | AA20: =[1]Gavar!AA20+[1]Sevan!AA20+[1]Martuni!AA20 -> 16 | AB20: =[1]Gavar!AB20+[1]Sevan!AB20+[1]Martuni!AB20 -> 2 | AD20: =[1]Gavar!AD20+[1]Sevan!AD20+[1]Martuni!AD20 -> 1 | AE20: =[1]Gavar!AE20+[1]Sevan!AE20+[1]Martuni!AE20 -> 1
A21: 1.1.1 | B21: ²Û¹ ÃíáõÙª Ó»éùµ»ñÙ³Ý í³Õ»ÙáõÃÛ³Ý áõÅáí | E21: =[1]Gavar!E21+[1]Sevan!E21+[1]Martuni!E21 -> 30 | F21: =[1]Gavar!F21+[1]Sevan!F21+[1]Martuni!F21 -> 2 | G21: =[1]Gavar!G21+[1]Sevan!G21+[1]Martuni!G21 -> 28 | J21: =[1]Gavar!J21+[1]Sevan!J21+[1]Martuni!J21 -> 16 | K21: =[1]Gavar!K21+[1]Sevan!K21+[1]Martuni!K21 -> 12 | L21: =[1]Gavar!L21+[1]Sevan!L21+[1]Martuni!L21 -> 2 | M21: =[1]Gavar!M21+[1]Sevan!M21+[1]Martuni!M21 -> 1 | N21: =[1]Gavar!N21+[1]Sevan!N21+[1]Martuni!N21 -> 4 | O21: =[1]Gavar!O21+[1]Sevan!O21+[1]Martuni!O21 -> 1 | Q21: =[1]Gavar!Q21+[1]Sevan!Q21+[1]Martuni!Q21 -> 2 | S21: =[1]Gavar!S21+[1]Sevan!S21+[1]Martuni!S21 -> 1 | U21: =[1]Gavar!U21+[1]Sevan!U21+[1]Martuni!U21 -> 1 | W21: =[1]Gavar!W21+[1]Sevan!W21+[1]Martuni!W21 -> 2 | X21: =[1]Gavar!X21+[1]Sevan!X21+[1]Martuni!X21 -> 6 | AA21: =[1]Gavar!AA21+[1]Sevan!AA21+[1]Martuni!AA21 -> 36 | AB21: =[1]Gavar!AB21+[1]Sevan!AB21+[1]Martuni!AB21 -> 2 | AD21: =[1]Gavar!AD21+[1]Sevan!AD21+[1]Martuni!AD21 -> 1 | AE21: =[1]Gavar!AE21+[1]Sevan!AE21+[1]Martuni!AE21 -> 1
A22: 1.1.2 | B22: ²Û¹ ÃíáõÙª ïÇñ³½áõñÏ ·áõÛùÇ ÝÏ³ïÙ³Ùµ
A23: 1.1.3 | B23: ²Û¹ ÃíáõÙª ÇÝùÝ³Ï³Ù Ï³éáõÛóÇ ÝÏ³ïÙ³Ùµ
A24: 1.2 | B24: ê»÷³Ï³ÝáõÃÛ³Ý Çñ³íáõÝùÇ ¹³¹³ñ»óÙ³Ý í»ñ³µ»ñÛ³É
A25: 1.3 | B25: ¶áõÛùÇ ÝÏ³ïÙ³Ùµ û·ï³·áñÍÙ³Ý Çñ³íáõÝùÁ ×³Ý³ã»Éáõ í»ñ³µ»ñÛ³É | E25: =[1]Gavar!E25+[1]Sevan!E25+[1]Martuni!E25 -> 1 | F25: =[1]Gavar!F25+[1]Sevan!F25+[1]Martuni!F25 -> 1 | AA25: =[1]Gavar!AA25+[1]Sevan!AA25+[1]Martuni!AA25 -> 1 | AB25: =[1]Gavar!AB25+[1]Sevan!AB25+[1]Martuni!AB25 -> 1
A26: 1.3.1 | B26: ²Û¹ ÃíáõÙª µÝ³Ïû·ï³·áñÍÙ³Ý Çñ³íáõÝùÁ ×³Ý³ã»Éáõ í»ñ³µ»ñÛ³É
A27: 1.3.2 | B27: ²Û¹ ÃíáõÙª ÑáÕ³Ù³ëÇ ÝÏ³ïÙ³Ùµ û·ï³·áñÍÙ³Ý Çñ³íáõÝùÁ ×³Ý³ã»Éáõ í»ñ³µ»ñÛ³É | J27: =[1]Gavar!J27+[1]Sevan!J27+[1]Martuni!J27 -> 1 | K27: =[1]Gavar!K27+[1]Sevan!K27+[1]Martuni!K27 -> 1 | AA27: =[1]Gavar!AA27+[1]Sevan!AA27+[1]Martuni!AA27 -> 1 | AD27: =[1]Gavar!AD27+[1]Sevan!AD27+[1]Martuni!AD27 -> 1 | AE27: =[1]Gavar!AE27+[1]Sevan!AE27+[1]Martuni!AE27 -> 1 | AG27: =[1]Gavar!AG27+[1]Sevan!AG27+[1]Martuni!AG27 -> 1 | AH27: =[1]Gavar!AH27+[1]Sevan!AH27+[1]Martuni!AH27 -> 1
A28: 1.4 | B28: ¶áõÛùÇ ÝÏ³ïÙ³Ùµ û·ï³·áñÍÙ³Ý Çñ³íáõÝùÁ ¹³¹³ñ»óÝ»Éáõ í»ñ³µ»ñÛ³É
A29: 1.4.1 | B29: ²Û¹ ÃíáõÙª µÝ³Ïû·ï³·áñÍÙ³Ý Çñ³íáõÝùÁ ¹³¹³ñ»óÝ»Éáõ í»ñ³µ»ñÛ³É
A30: 1.4.1/1 | B30: ²Û¹ ÃíáõÙª ÷áËÑ³ïáõóÙ³Ùµ
A31: 1.5 | B31: ´Ý³Ï³ñ³ÝÇó/ ï³ñ³ÍùÇó/ íï³ñ»Éáõ í»ñ³µ»ñÛ³É | E31: =[1]Gavar!E31+[1]Sevan!E31+[1]Martuni!E31 -> 4 | F31: =[1]Gavar!F31+[1]Sevan!F31+[1]Martuni!F31 -> 1 | G31: =[1]Gavar!G31+[1]Sevan!G31+[1]Martuni!G31 -> 3 | J31: =[1]Gavar!J31+[1]Sevan!J31+[1]Martuni!J31 -> 3 | K31: =[1]Gavar!K31+[1]Sevan!K31+[1]Martuni!K31 -> 3 | N31: =[1]Gavar!N31+[1]Sevan!N31+[1]Martuni!N31 -> 2 | O31: =[1]Gavar!O31+[1]Sevan!O31+[1]Martuni!O31 -> 2 | X31: =[1]Gavar!X31+[1]Sevan!X31+[1]Martuni!X31 -> 2 | AA31: =[1]Gavar!AA31+[1]Sevan!AA31+[1]Martuni!AA31 -> 5 | AB31: =[1]Gavar!AB31+[1]Sevan!AB31+[1]Martuni!AB31 -> 1
A32: 1.6 | B32: ¶áõÛùÝ áõñÇßÇ ³åûñÇÝÇ ïÇñ³å»ïáõÙÇó »ï í»ñ³¹³ñÓÝ»Éáõ í»ñ³µ»ñÛ³É | E32: =[1]Gavar!E32+[1]Sevan!E32+[1]Martuni!E32 -> 10 | F32: =[1]Gavar!F32+[1]Sevan!F32+[1]Martuni!F32 -> 3 | G32: =[1]Gavar!G32+[1]Sevan!G32+[1]Martuni!G32 -> 7 | J32: =[1]Gavar!J32+[1]Sevan!J32+[1]Martuni!J32 -> 4 | K32: =[1]Gavar!K32+[1]Sevan!K32+[1]Martuni!K32 -> 2 | L32: =[1]Gavar!L32+[1]Sevan!L32+[1]Martuni!L32 -> 2 | N32: =[1]Gavar!N32+[1]Sevan!N32+[1]Martuni!N32 -> 1 | O32: =[1]Gavar!O32+[1]Sevan!O32+[1]Martuni!O32 -> 1 | X32: =[1]Gavar!X32+[1]Sevan!X32+[1]Martuni!X32 -> 1 | AA32: =[1]Gavar!AA32+[1]Sevan!AA32+[1]Martuni!AA32 -> 11 | AB32: =[1]Gavar!AB32+[1]Sevan!AB32+[1]Martuni!AB32 -> 3
A33: 1.6.1 | B33: ´³ñ»ËÇÕ× Ó»éùµ»ñáÕÇó Çñ ·áõÛùÁ Ñ»ï å³Ñ³Ýç»Éáõ í»ñ³µ»ñÛ³É
A34: 1.7 | B34: îÇñ³å»ïáõÙÇó ½ñÏ»Éáõ Ñ»ï ãÏ³åí³Í Çñ³íáõÝùÝ»ñÇ Ë³ËïáõÙÁ í»ñ³óÝ»Éáõ í»ñ³µ»ñÛ³É
A35: 1.8 | B35: ÀÝ¹Ñ³Ýáõñ µ³ÅÝ³ÛÇÝ ë»÷³Ï³ÝáõÃÛáõÝÇó µ³ÅÇÝÝ ³é³ÝÓÝ³óÝ»Éáõ í»ñ³µ»ñÛ³É | E35: =[1]Gavar!E35+[1]Sevan!E35+[1]Martuni!E35 -> 174 | F35: 104 | G35: 69 | H35: =[1]Gavar!H35+[1]Sevan!H35+[1]Martuni!H35 -> 1 | J35: =[1]Gavar!J35+[1]Sevan!J35+[1]Martuni!J35 -> 52 | K35: =[1]Gavar!K35+[1]Sevan!K35+[1]Martuni!K35 -> 29 | L35: =[1]Gavar!L35+[1]Sevan!L35+[1]Martuni!L35 -> 21 | N35: =[1]Gavar!N35+[1]Sevan!N35+[1]Martuni!N35 -> 11 | O35: =[1]Gavar!O35+[1]Sevan!O35+[1]Martuni!O35 -> 3 | Q35: =[1]Gavar!Q35+[1]Sevan!Q35+[1]Martuni!Q35 -> 1 | S35: =[1]Gavar!S35+[1]Sevan!S35+[1]Martuni!S35 -> 7 | U35: =[1]Gavar!U35+[1]Sevan!U35+[1]Martuni!U35 -> 7 | X35: =[1]Gavar!X35+[1]Sevan!X35+[1]Martuni!X35 -> 11 | Z35: =[1]Gavar!Z35+[1]Sevan!Z35+[1]Martuni!Z35 -> 17 | AA35: =[1]Gavar!AA35+[1]Sevan!AA35+[1]Martuni!AA35 -> 191 | AB35: =[1]Gavar!AB35+[1]Sevan!AB35+[1]Martuni!AB35 -> 84 | AC35: =[1]Gavar!AC35+[1]Sevan!AC35+[1]Martuni!AC35 -> 1 | AD35: =[1]Gavar!AD35+[1]Sevan!AD35+[1]Martuni!AD35 -> 2 | AE35: =[1]Gavar!AE35+[1]Sevan!AE35+[1]Martuni!AE35 -> 3 | AG35: =[1]Gavar!AG35+[1]Sevan!AG35+[1]Martuni!AG35 -> 2 | AH35: =[1]Gavar!AH35+[1]Sevan!AH35+[1]Martuni!AH35 -> 2
A36: 1.8.1 | B36: Ð³Ù³ï»Õ ë»÷³Ï³ÝáõÃÛ³Ý Ý»ñùá ·ïÝíáÕ ·áõÛùÁ µ³Å³Ý»Éáõ ¨ ¹ñ³ÝÇó µ³ÅÇÝÝ ³é³ÝÓÝ³óÝ»Éáõ í»ñ³µ»ñÛ³É | E36: =[1]Gavar!E36+[1]Sevan!E36+[1]Martuni!E36 -> 16 | F36: 10 | G36: 6 | J36: =[1]Gavar!J36+[1]Sevan!J36+[1]Martuni!J36 -> 7 | K36: =[1]Gavar!K36+[1]Sevan!K36+[1]Martuni!K36 -> 5 | L36: =[1]Gavar!L36+[1]Sevan!L36+[1]Martuni!L36 -> 2 | N36: =[1]Gavar!N36+[1]Sevan!N36+[1]Martuni!N36 -> 1 | O36: =[1]Gavar!O36+[1]Sevan!O36+[1]Martuni!O36 -> 1 | X36: =[1]Gavar!X36+[1]Sevan!X36+[1]Martuni!X36 -> 1 | Z36: =[1]Gavar!Z36+[1]Sevan!Z36+[1]Martuni!Z36 -> 2 | AA36: =[1]Gavar!AA36+[1]Sevan!AA36+[1]Martuni!AA36 -> 20 | AB36: =[1]Gavar!AB36+[1]Sevan!AB36+[1]Martuni!AB36 -> 8 | AD36: =[1]Gavar!AD36+[1]Sevan!AD36+[1]Martuni!AD36 -> 1 | AE36: =[1]Gavar!AE36+[1]Sevan!AE36+[1]Martuni!AE36 -> 1
A37: 1.8.3 | B37: ¶áõÛùÇ íñ³ µéÝ³·³ÝÓáõÙ ï³ñ³Í»Éáõ å³Ñ³ÝçÇ Ù³ëÇÝ | E37: =[1]Gavar!E37+[1]Sevan!E37+[1]Martuni!E37 -> 17 | F37: 14 | G37: 3 | J37: =[1]Gavar!J37+[1]Sevan!J37+[1]Martuni!J37 -> 2 | K37: =[1]Gavar!K37+[1]Sevan!K37+[1]Martuni!K37 -> 1 | L37: =[1]Gavar!L37+[1]Sevan!L37+[1]Martuni!L37 -> 1 | N37: =[1]Gavar!N37+[1]Sevan!N37+[1]Martuni!N37 -> 1 | S37: =[1]Gavar!S37+[1]Sevan!S37+[1]Martuni!S37 -> 1 | U37: =[1]Gavar!U37+[1]Sevan!U37+[1]Martuni!U37 -> 1 | X37: =[1]Gavar!X37+[1]Sevan!X37+[1]Martuni!X37 -> 1 | Z37: =[1]Gavar!Z37+[1]Sevan!Z37+[1]Martuni!Z37 -> 1 | AA37: =[1]Gavar!AA37+[1]Sevan!AA37+[1]Martuni!AA37 -> 17 | AB37: =[1]Gavar!AB37+[1]Sevan!AB37+[1]Martuni!AB37 -> 14
A38: 1.9 | B38: ²ÛÉ í»×»ñ | E38: =[1]Gavar!E38+[1]Sevan!E38+[1]Martuni!E38 -> 9 | F38: =[1]Gavar!F38+[1]Sevan!F38+[1]Martuni!F38 -> 3 | G38: =[1]Gavar!G38+[1]Sevan!G38+[1]Martuni!G38 -> 6 | J38: =[1]Gavar!J38+[1]Sevan!J38+[1]Martuni!J38 -> 11 | K38: =[1]Gavar!K38+[1]Sevan!K38+[1]Martuni!K38 -> 5 | L38: =[1]Gavar!L38+[1]Sevan!L38+[1]Martuni!L38 -> 4 | M38: =[1]Gavar!M38+[1]Sevan!M38+[1]Martuni!M38 -> 2 | AA38: =[1]Gavar!AA38+[1]Sevan!AA38+[1]Martuni!AA38 -> 14 | AB38: =[1]Gavar!AB38+[1]Sevan!AB38+[1]Martuni!AB38 -> 1
A39: 2. | B39: ¶áñÍ³ñùÝ»ñÇ Ñ»ï Ï³åí³Í Çñ³í³Ñ³ñ³µ»ñáõÃÛáõÝÝ»ñÇ í»ñ³µ»ñÛ³É ¹³ï³Ï³Ý ·áñÍ»ñ | E39: =SUM(E40:E50) -> 37 | F39: =SUM(F40:F50) -> 10 | G39: =SUM(G40:G50) -> 27 | H39: =SUM(H40:H50) -> 0 | I39: =SUM(I40:I50) -> 0 | J39: =SUM(J40:J50) -> 19 | K39: =SUM(K40:K50) -> 12 | L39: =SUM(L40:L50) -> 5 | ... AH39: =SUM(AH40:AH50) -> 1
A40: 2.1 | B40: ·áñÍ³ñùÝ»ñÇ ³Ýí³í»ñáõÃÛ³Ý Ñ»ï Ï³åí³Í í»×»ñ | E40: =[1]Gavar!E40+[1]Sevan!E40+[1]Martuni!E40 -> 6 | F40: =[1]Gavar!F40+[1]Sevan!F40+[1]Martuni!F40 -> 2 | G40: =[1]Gavar!G40+[1]Sevan!G40+[1]Martuni!G40 -> 4 | J40: =[1]Gavar!J40+[1]Sevan!J40+[1]Martuni!J40 -> 4 | K40: =[1]Gavar!K40+[1]Sevan!K40+[1]Martuni!K40 -> 3 | M40: =[1]Gavar!M40+[1]Sevan!M40+[1]Martuni!M40 -> 1 | N40: =[1]Gavar!N40+[1]Sevan!N40+[1]Martuni!N40 -> 2 | Q40: =[1]Gavar!Q40+[1]Sevan!Q40+[1]Martuni!Q40 -> 1 | S40: =[1]Gavar!S40+[1]Sevan!S40+[1]Martuni!S40 -> 1 | U40: =[1]Gavar!U40+[1]Sevan!U40+[1]Martuni!U40 -> 1 | X40: =[1]Gavar!X40+[1]Sevan!X40+[1]Martuni!X40 -> 2 | Z40: =[1]Gavar!Z40+[1]Sevan!Z40+[1]Martuni!Z40 -> 2 | AA40: =[1]Gavar!AA40+[1]Sevan!AA40+[1]Martuni!AA40 -> 7 | AB40: =[1]Gavar!AB40+[1]Sevan!AB40+[1]Martuni!AB40 -> 3 | AC40: =[1]Gavar!AC40+[1]Sevan!AC40+[1]Martuni!AC40 -> 1 | AD40: =[1]Gavar!AD40+[1]Sevan!AD40+[1]Martuni!AD40 -> 1 | AE40: =[1]Gavar!AE40+[1]Sevan!AE40+[1]Martuni!AE40 -> 2 | AG40: =[1]Gavar!AG40+[1]Sevan!AG40+[1]Martuni!AG40 -> 1 | AH40: =[1]Gavar!AH40+[1]Sevan!AH40+[1]Martuni!AH40 -> 1
A41: 2.1.1 | B41: ³Û¹ ÃíáõÙ` íÇ×³Ñ³ñáõÛó ·áñÍ³ñùÝ»ñÝ ³Ýí³í»ñ ×³Ý³ã»Éáõ í»ñ³µ»ñÛ³É
A42: 2.1.2 | B42: ³Û¹ ÃíáõÙ` ·áñÍ³ñùÇ ³éáãÝãáõÃÛ³Ý Ñ»ï¨³ÝùÝ»ñ ÏÇñ³é»Éáõ í»ñ³µ»ñÛ³É | E42: =[1]Gavar!E42+[1]Sevan!E42+[1]Martuni!E42 -> 7 | F42: =[1]Gavar!F42+[1]Sevan!F42+[1]Martuni!F42 -> 2 | G42: =[1]Gavar!G42+[1]Sevan!G42+[1]Martuni!G42 -> 5 | J42: =[1]Gavar!J42+[1]Sevan!J42+[1]Martuni!J42 -> 3 | K42: =[1]Gavar!K42+[1]Sevan!K42+[1]Martuni!K42 -> 1 | L42: =[1]Gavar!L42+[1]Sevan!L42+[1]Martuni!L42 -> 2 | AA42: =[1]Gavar!AA42+[1]Sevan!AA42+[1]Martuni!AA42 -> 8 | AD42: =[1]Gavar!AD42+[1]Sevan!AD42+[1]Martuni!AD42 -> 1 | AE42: =[1]Gavar!AE42+[1]Sevan!AE42+[1]Martuni!AE42 -> 1
A43: 2.2 | B43: ¶áñÍ³ñùÁ í³í»ñ ×³Ý³ã»Éáõ í»ñ³µ»ñÛ³É | E43: =[1]Gavar!E43+[1]Sevan!E43+[1]Martuni!E43 -> 4 | G43: =[1]Gavar!G43+[1]Sevan!G43+[1]Martuni!G43 -> 4 | N43: =[1]Gavar!N43+[1]Sevan!N43+[1]Martuni!N43 -> 1 | S43: =[1]Gavar!S43+[1]Sevan!S43+[1]Martuni!S43 -> 1 | U43: =[1]Gavar!U43+[1]Sevan!U43+[1]Martuni!U43 -> 1 | W43: =[1]Gavar!W43+[1]Sevan!W43+[1]Martuni!W43 -> 1 | X43: =[1]Gavar!X43+[1]Sevan!X43+[1]Martuni!X43 -> 2 | AA43: =[1]Gavar!AA43+[1]Sevan!AA43+[1]Martuni!AA43 -> 2
A44: 2.3 | B44: ¶áñÍ³ñùÇó Í³·áÕ Çñ³íáõÝùÝ»ñÁ ·ñ³Ýó»Éáõ í»ñ³µ»ñÛ³É
A45: 2.4 | B45: ä³ÛÙ³Ý³·ÇñÝ ³Ýí³í»ñ ×³Ý³ã»Éáõ í»ñ³µ»ñÛ³É | E45: =[1]Gavar!E45+[1]Sevan!E45+[1]Martuni!E45 -> 7 | F45: =[1]Gavar!F45+[1]Sevan!F45+[1]Martuni!F45 -> 2 | G45: =[1]Gavar!G45+[1]Sevan!G45+[1]Martuni!G45 -> 5 | H45: =[1]Gavar!H45+[1]Sevan!H45+[1]Martuni!H45 -> 0 | I45: =[1]Gavar!I45+[1]Sevan!I45+[1]Martuni!I45 -> 0 | J45: =[1]Gavar!J45+[1]Sevan!J45+[1]Martuni!J45 -> 4 | K45: =[1]Gavar!K45+[1]Sevan!K45+[1]Martuni!K45 -> 3 | L45: =[1]Gavar!L45+[1]Sevan!L45+[1]Martuni!L45 -> 1 | W45: =[1]Gavar!W45+[1]Sevan!W45+[1]Martuni!W45 -> 1 | X45: =[1]Gavar!X45+[1]Sevan!X45+[1]Martuni!X45 -> 1 | AA45: =[1]Gavar!AA45+[1]Sevan!AA45+[1]Martuni!AA45 -> 9 | AB45: =[1]Gavar!AB45+[1]Sevan!AB45+[1]Martuni!AB45 -> 2
A46: 2.5 | B46: ä³ÛÙ³Ý³·ñÇÁ í³í»ñ ×³Ý³ã»Éáõ í»ñ³µ»ñÛ³É | J46: =[1]Gavar!J46+[1]Sevan!J46+[1]Martuni!J46 -> 2 | L46: =[1]Gavar!L46+[1]Sevan!L46+[1]Martuni!L46 -> 1
A47: 2.6 | B47: ä³ÛÙ³Ý³·ñÇó Í³·áÕ Çñ³íáõÝùÝ»ñÁ ·ñ³Ýó»Éáõ í»ñ³µ»ñÛ³É
A48: 2.7 | B48: ä³ÛÙ³Ý³·ÇñÁ ÷á÷áË»Éáõ ¨ ÉáõÍ»Éáõ í»ñ³µ»ñÛ³É | E48: =[1]Gavar!E48+[1]Sevan!E48+[1]Martuni!E48 -> 2 | G48: =[1]Gavar!G48+[1]Sevan!G48+[1]Martuni!G48 -> 2 | J48: =[1]Gavar!J48+[1]Sevan!J48+[1]Martuni!J48 -> 3 | K48: =[1]Gavar!K48+[1]Sevan!K48+[1]Martuni!K48 -> 3 | N48: =[1]Gavar!N48+[1]Sevan!N48+[1]Martuni!N48 -> 1 | Q48: =[1]Gavar!Q48+[1]Sevan!Q48+[1]Martuni!Q48 -> 1 | W48: =[1]Gavar!W48+[1]Sevan!W48+[1]Martuni!W48 -> 1 | X48: =[1]Gavar!X48+[1]Sevan!X48+[1]Martuni!X48 -> 2 | AA48: =[1]Gavar!AA48+[1]Sevan!AA48+[1]Martuni!AA48 -> 3
A49: 2.8 | B49: ä³ÛÙ³Ý³·Çñ ÏÝù»ÉáõÝ å³ñï³íáñ»óÝ»Éáõ í»ñ³µ»ñÛ³É | E49: =[1]Gavar!E49+[1]Sevan!E49+[1]Martuni!E49 -> 3 | F49: =[1]Gavar!F49+[1]Sevan!F49+[1]Martuni!F49 -> 1 | G49: =[1]Gavar!G49+[1]Sevan!G49+[1]Martuni!G49 -> 2 | J49: =[1]Gavar!J49+[1]Sevan!J49+[1]Martuni!J49 -> 1 | K49: =[1]Gavar!K49+[1]Sevan!K49+[1]Martuni!K49 -> 1 | AA49: =[1]Gavar!AA49+[1]Sevan!AA49+[1]Martuni!AA49 -> 4 | AB49: =[1]Gavar!AB49+[1]Sevan!AB49+[1]Martuni!AB49 -> 1
A50: 2.9 | B50: ²ÛÉ í»×»ñ | E50: =[1]Gavar!E50+[1]Sevan!E50+[1]Martuni!E50 -> 8 | F50: =[1]Gavar!F50+[1]Sevan!F50+[1]Martuni!F50 -> 3 | G50: =[1]Gavar!G50+[1]Sevan!G50+[1]Martuni!G50 -> 5 | J50: =[1]Gavar!J50+[1]Sevan!J50+[1]Martuni!J50 -> 2 | K50: =[1]Gavar!K50+[1]Sevan!K50+[1]Martuni!K50 -> 1 | L50: =[1]Gavar!L50+[1]Sevan!L50+[1]Martuni!L50 -> 1 | AA50: =[1]Gavar!AA50+[1]Sevan!AA50+[1]Martuni!AA50 -> 9 | AB50: =[1]Gavar!AB50+[1]Sevan!AB50+[1]Martuni!AB50 -> 3
A51: 3. | B51: Ä³é³Ý·áõÃÛ³Ý Ñ»ï Ï³åí³Í Çñ³í³Ñ³ñ³µ»ñáõÃÛáõÝÝ»ñÇ í»ñ³µ»ñÛ³É ¹³ï³Ï³Ý ·áñÍ»ñ | E51: =SUM(E52:E58) -> 6 | F51: =SUM(F52:F58) -> 1 | G51: =SUM(G52:G58) -> 5 | H51: =SUM(H52:H58) -> 0 | I51: =SUM(I52:I58) -> 0 | J51: =SUM(J52:J58) -> 7 | K51: =SUM(K52:K58) -> 5 | L51: =SUM(L52:L58) -> 2 | ... AH51: =SUM(AH52:AH58) -> 0
...

Sheet Կոտայք
A1: 2019թ. 1-ին կիսամյակ | E1: Ð²ÞìºîìàôÂÚàôÜ
A2: ÐÐ Îàî²ÚøÆ Ø²ð¼Æ ²è²æÆÜ ²îÚ²ÜÆ ÀÜ¸Ð²Üàôð Æð²ì²êàôÂÚ²Ü ¸²î²ð²ÜàôØ ø²Ô²ø²òÆ²Î²Ü ¶àðÌºðÆ øÜÜàôÂÚ²Ü ìºð²´ºðÚ²È
A3: ÐÐ Îáï³ÛùÇ Ù³ñ½Ç ³é³çÇÝ ³ïÛ³ÝÇ ÁÝ¹Ñ³Ýáõñ Çñ³í³ëáõÃÛ³Ý ¹³ï³ñ³ÝáõÙ ù³Õ³ù³óÇ³Ï³Ý Ù³ëÝ³·Çï³óáõÙ áõÝ»óáÕ ¹³ï³íáñÝ»ñÇ Ñ³ëïÇùÝ»ñÇ ù³Ý³ÏÁ` 6
A4: êïáõ·Çã Ñ³í³ë³ñáõÙÝ»ñª 1=2+3+4+5, 6=7+8+9, 2+3+7=20+21+23, 10=11+12+13+14+15, 15=16+17+18, 20=10+19, 27=25+26, 30=28+29 | E4: Ð³ßí»ïáõ Å³Ù³Ý³Ï³Ñ³ïí³ÍáõÙ Ý³Ëáñ¹ Ñ³ßí»ïáõ Å³Ù³Ý³Ï³Ñ³ïí³ÍÇó ÷áË³Ýóí³Í ·áñÍ»ñÇ ÁÝ¹Ñ³Ýáõñ ÃÇíÁ | J4: Ð³ßí»ïáõ Å³Ù³Ý³Ï³Ñ³ïí³ÍáõÙëï³óí³Í ·áñÍ»ñÇ (³Û¹ ÃíáõÙ` Ñ³Ûó³¹ÇÙáõÙÝ»ñÇ, ¹ÇÙáõÙÝ»ñÇ) ÁÝ¹Ñ³Ýáõñ ÃÇíÁ | N4: Ð³ßí»ïáõ Å³Ù³Ý³Ï³Ñ³ïí³ÍáõÙ ³í³ñïí³Í ·áñÍ»ñÇ ÁÝ¹Ñ³Ýáõñ ÃÇíÁ | Y4: ¶áñÍÝ áõÕ³ñÏí»É ¿ Áëï ÁÝ¹¹³ïáõÃÛ³Ý | Z4: Ð³ßí»ïáõ Å³Ù³Ý³Ï³Ñ³ïí³ÍáõÙ Ï³ë»óí³Í í³ñáõÛÃÝ»ñáí ·áñÍ»ñÇ ÁÝ¹Ñ³Ýáõñ ÃÇíÁ | AA4: Ð³ßí»ïáõ Å³Ù³Ý³Ï³Ñ³ïí³ÍáõÙ ³Ý³í³ñï ·áñÍ»ñÇ ÁÝ¹Ñ³Ýáõñ ÃÇíÁ | AB4: ²Û¹ ÃíáõÙª Ï³ë»óí³Í | AC4: ´áÕáù³ñÏí³Í ¹³ï³Ï³Ý ³Ïï»ñÇ ÃÇíÁ` Áëï ï»ë³ÏÝ»ñÇ | AF4: ´»Ï³Ýí³Í ¹³ï³Ï³Ý ³Ïï»ñÇ ÃÇíÁ` Áëï ï»ë³ÏÝ»ñÇ
