Workbook

Sheet Ընդհամենը
A1: 2017Ã. 1-ÇÝ ÏÇë³ÙÛ³Ï | D1: Ð²ÞìºîìàôÂÚàôÜ | P1: Ð³í»Éí³Í Ð³Û³ëï³ÝÇ Ð³Ýñ³å»ïáõÃÛ³Ý ¸³ï³ñ³ÝÝ»ñÇ Ý³Ë³·³ÑÝ»ñÇ ËáñÑñ¹Ç 25.08.2017Ã. ÃÇí 35-È áñáßÙ³Ý
A2: ØÇÝã¹³ï³Ï³Ý í³ñáõÛÃÇ ÝÏ³ïÙ³Ùµ ¹³ï³Ï³Ý í»ñ³ÑëÏáÕáõÃÛ³ÝÁ, ¹³ï³Ï³Ý ³Ïï»ñÇ ¨ ¹³ï³Ï³Ý Ñ³ÝÓÝ³ñ³ñáõÃÛáõÝÝ»ñÇ Ï³ï³ñÙ³Ý Ñ»ï Ï³åí³Í ÙÇçÝáñ¹áõÃÛáõÝÝ»ñÇ í»ñ³µ»ñÛ³É ¹³ï³Ï³Ý ·áñÍ»ñáí ºñ¨³Ý ù³Õ³ùÇ Î»ÝïñáÝ ¨ Üáñù-Ø³ñ³ß í³ñã³Ï³Ý ßñç³ÝÝ»ñÇ ÁÝ¹Ñ³Ýáõñ Çñ³í³ëáõÃÛ³Ý ³é³çÇÝ ³ïÛ³ÝÇ ¹³ï³ñ³ÝÇ ·áñÍáõÝ»áõÃÛ³Ý í»ñ³µ»ñÛ³É
A3: êïáõ·Çã Ñ³í³ë³ñáõÙ` 1+2=3+8+9, 8=4+5+6+7, | D3: Ð³ßí»ïáõ Å³Ù³Ý³Ï³Ñ³ïí³ÍÇ ëÏ½µáõÙ Ý³Ëáñ¹ Ñ³ßí»ïáõ Å³Ù³Ý³Ï³Ñ³ïí³ÍÇó ÷áË³Ýóí³Í ·áñÍ»ñÇ ÁÝ¹Ñ³Ýáõñ ÃÇíÁ | E3: Ð³ßí»ïáõ Å³Ù³Ý³Ï³Ñ³ïí³ÍáõÙ ëï³óí³Í ·áñÍ»ñÇ ÁÝ¹Ñ³Ýáõñ ÃÇíÁ | F3: öáË³Ýóí»É ¿ ³ÛÉ ¹³ï³íáñÇ Ï³Ù ³ÛÉ ¹³ï³ñ³Ý (Ï³½ÙÇ ÷á÷áËáõÃÛáõÝ, ÁÝ¹¹³ïáõÃÛáõÝ) | G3: Ð³ßí»ïáõ Å³Ù³Ý³Ï³Ñ³ïí³ÍáõÙ ³í³ñïí³Í ·áñÍ»ñÇ ÁÝ¹Ñ³Ýáõñ ÃÇíÁ | L3: Ð³ßí»ïáõ Å³Ù³Ý³Ï³Ñ³ïí³ÍáõÙ ³Ý³í³ñï ·áñÍ»ñÇ ÁÝ¹Ñ³Ýáõñ ÃÇíÁ | M3: ØÇçÝáñ¹áõÃÛáõÝÝ»ñáí Ï³Û³óí³Í ¹³ï³Ï³Ý ³Ïï»ñÇó µáÕáù³ñÏí³ÍÝ»ñÇ ù³Ý³ÏÁ | O3: ²Ý³í³ñï µáÕáùÝ»ñ | P3: ØÇçÝáñ¹áõÃÛáõÝÝ»ñáí Ï³Û³óí³Í ¨ µáÕáù³ñÏí³Í ¹³ï³Ï³Ý ³Ïï»ñÇó µ»Ï³Ýí³ÍÝ»ñÇ ù³Ý³ÏÁ | R3: ÙÇçÝáñ¹áõÃÛáõÝÝ»ñáí Ï³Û³óí³Í ¨ µáÕáù³ñÏí³Í ¹³ï³Ï³Ý ³Ïï»ñÇó ³Ý÷á÷áË ÃáÕÝí³ÍÝ»ñÇ ù³Ý³ÏÁ
G4: Ù»ñÅí»É ¿ | H4: µ³í³ñ³ñí»É ¿ | I4: µ³í³ñ³ñí»É ¿ Ù³ëÝ³ÏÇ | J4: ÃáÕÝí»É ¿ ³é³Ýó ùÝÝáõÃÛ³Ý | K4: ÀÝ¹³Ù»ÝÁ
M5: Ý³Ëáñ¹ ï³ñÇÝ»ñÇÝ Ï³Û³óí³Í ³Ïï»ñÇ ¹»Ù | N5: Ñ³ßí»ïáõ Å³Ù³Ý³Ï³ßñç³ÝáõÙ Ï³Û³óí³Í ³Ïï»ñÇ ¹»Ù | P5: Ý³Ëáñ¹ ï³ñÇÝ»ñÇÝ Ï³Û³óí³Í ³Ïï»ñÇ µ»Ï³ÝáõÙÝ»ñÁ | Q5: Ñ³ßí»ïáõ Å³Ù³Ý³Ï³ßñç³ÝáõÙ Ï³Û³óí³Í ³Ïï»ñÇ µ»Ï³ÝáõÙÝ»ñÁ
A6: 1. ØÇÝã¹³ï³Ï³Ý í³ñáõÛÃÇ ÝÏ³ïÙ³Ùµ ¹³ï³Ï³Ý í»ñ³ÑëÏáÕáõÃÛ³Ý áÉáñï | D6: 1 | E6: 2 | F6: 3 | G6: 4 | H6: 5 | I6: 6 | J6: 7 | K6: 8 | L6: 9 | M6: 10 | N6: 11 | O6: 12 | P6: 13 | Q6: 14 | R6: 15 | T6: 1+2=3+8+9 | V6: 8=4+5+6+7
A7: 1 | B7: Ï³É³ÝùÁ áñå»ë Ë³÷³ÝÙ³Ý ÙÇçáó ÏÇñ³é»Éáõ Ù³ëÇÝ ÙÇçÝáñ¹áõÃÛáõÝÝ»ñ | D7: ='Գ. Մազմանյան'!D7+'Ա. Մելքումյան'!D7+'Հ. Զարգարյան'!D7+'Ռ. Ափինյան'!D7+'Ա. Վարդանյան'!D7+'Գ. Պողոսյան'!D7+'Գ. Խանդանյան'!D7+'Մ. Մակյան'!D7+'Ռ. Ներսիսյան'!D7+Կ.Պետրոսյան!D7+'Մ. Մարտիրոսյան'!D7+Ա.Բեկթաշյան!D7+Էդ.Ավետիսյան!D7+Ալ.Սուքոյան!D7 -> 0 | E7: ='Գ. Մազմանյան'!E7+'Ա. Մելքումյան'!E7+'Հ. Զարգարյան'!E7+'Ռ. Ափինյան'!E7+'Ա. Վարդանյան'!E7+'Գ. Պողոսյան'!E7+'Գ. Խանդանյան'!E7+'Մ. Մակյան'!E7+'Ռ. Ներսիսյան'!E7+Կ.Պետրոսյան!E7+'Մ. Մարտիրոսյան'!E7+Ա.Բեկթաշյան!E7+Էդ.Ավետիսյան!E7+Ալ.Սուքոյան!E7 -> 156 | F7: ='Գ. Մազմանյան'!F7+'Ա. Մելքումյան'!F7+'Հ. Զարգարյան'!F7+'Ռ. Ափինյան'!F7+'Ա. Վարդանյան'!F7+'Գ. Պողոսյան'!F7+'Գ. Խանդանյան'!F7+'Մ. Մակյան'!F7+'Ռ. Ներսիսյան'!F7+Կ.Պետրոսյան!F7+'Մ. Մարտիրոսյան'!F7+Ա.Բեկթաշյան!F7+Էդ.Ավետիսյան!F7+Ալ.Սուքոյան!F7 -> 1 | G7: ='Գ. Մազմանյան'!G7+'Ա. Մելքումյան'!G7+'Հ. Զարգարյան'!G7+'Ռ. Ափինյան'!G7+'Ա. Վարդանյան'!G7+'Գ. Պողոսյան'!G7+'Գ. Խանդանյան'!G7+'Մ. Մակյան'!G7+'Ռ. Ներսիսյան'!G7+Կ.Պետրոսյան!G7+'Մ. Մարտիրոսյան'!G7+Ա.Բեկթաշյան!G7+Էդ.Ավետիսյան!G7+Ալ.Սուքոյան!G7 -> 3 | H7: ='Գ. Մազմանյան'!H7+'Ա. Մելքումյան'!H7+'Հ. Զարգարյան'!H7+'Ռ. Ափինյան'!H7+'Ա. Վարդանյան'!H7+'Գ. Պողոսյան'!H7+'Գ. Խանդանյան'!H7+'Մ. Մակյան'!H7+'Ռ. Ներսիսյան'!H7+Կ.Պետրոսյան!H7+'Մ. Մարտիրոսյան'!H7+Ա.Բեկթաշյան!H7+Էդ.Ավետիսյան!H7+Ալ.Սուքոյան!H7 -> 151 | I7: ='Գ. Մազմանյան'!I7+'Ա. Մելքումյան'!I7+'Հ. Զարգարյան'!I7+'Ռ. Ափինյան'!I7+'Ա. Վարդանյան'!I7+'Գ. Պողոսյան'!I7+'Գ. Խանդանյան'!I7+'Մ. Մակյան'!I7+'Ռ. Ներսիսյան'!I7+Կ.Պետրոսյան!I7+'Մ. Մարտիրոսյան'!I7+Ա.Բեկթաշյան!I7+Էդ.Ավետիսյան!I7+Ալ.Սուքոյան!I7 -> 0 | J7: ='Գ. Մազմանյան'!J7+'Ա. Մելքումյան'!J7+'Հ. Զարգարյան'!J7+'Ռ. Ափինյան'!J7+'Ա. Վարդանյան'!J7+'Գ. Պողոսյան'!J7+'Գ. Խանդանյան'!J7+'Մ. Մակյան'!J7+'Ռ. Ներսիսյան'!J7+Կ.Պետրոսյան!J7+'Մ. Մարտիրոսյան'!J7+Ա.Բեկթաշյան!J7+Էդ.Ավետիսյան!J7+Ալ.Սուքոյան!J7 -> 0 | K7: ='Գ. Մազմանյան'!K7+'Ա. Մելքումյան'!K7+'Հ. Զարգարյան'!K7+'Ռ. Ափինյան'!K7+'Ա. Վարդանյան'!K7+'Գ. Պողոսյան'!K7+'Գ. Խանդանյան'!K7+'Մ. Մակյան'!K7+'Ռ. Ներսիսյան'!K7+Կ.Պետրոսյան!K7+'Մ. Մարտիրոսյան'!K7+Ա.Բեկթաշյան!K7+Էդ.Ավետիսյան!K7+Ալ.Սուքոյան!K7 -> 154 | ... S7: ='Գ. Մազմանյան'!S7+'Ա. Մելքումյան'!S7+'Հ. Զարգարյան'!S7+'Ռ. Ափինյան'!S7+'Ա. Վարդանյան'!S7+'Գ. Պողոսյան'!S7+'Գ. Խանդանյան'!S7+'Մ. Մակյան'!S7+'Ռ. Ներսիսյան'!S7+Կ.Պետրոսյան!S7+'Մ. Մարտիրոսյան'!S7+Ա.Բեկթաշյան!S7+Էդ.Ավետիսյան!S7+Ալ.Սուքոյան!S7 -> 0 | T7: =D7+E7 -> 156 | U7: =F7+K7+L7 -> 156 | V7: =K7 -> 154 | W7: =G7+H7+I7+J7 -> 154
A8: 2 | B8: Ï³É³ÝùÇ Å³ÙÏ»ïÁ »ñÏ³ñ³óÝ»Éáõ Ù³ëÇÝ ÙÇçÝáñ¹áõÃÛáõÝÝ»ñ | D8: ='Գ. Մազմանյան'!D8+'Ա. Մելքումյան'!D8+'Հ. Զարգարյան'!D8+'Ռ. Ափինյան'!D8+'Ա. Վարդանյան'!D8+'Գ. Պողոսյան'!D8+'Գ. Խանդանյան'!D8+'Մ. Մակյան'!D8+'Ռ. Ներսիսյան'!D8+Կ.Պետրոսյան!D8+'Մ. Մարտիրոսյան'!D8+Ա.Բեկթաշյան!D8+Էդ.Ավետիսյան!D8+Ալ.Սուքոյան!D8 -> 1 | E8: ='Գ. Մազմանյան'!E8+'Ա. Մելքումյան'!E8+'Հ. Զարգարյան'!E8+'Ռ. Ափինյան'!E8+'Ա. Վարդանյան'!E8+'Գ. Պողոսյան'!E8+'Գ. Խանդանյան'!E8+'Մ. Մակյան'!E8+'Ռ. Ներսիսյան'!E8+Կ.Պետրոսյան!E8+'Մ. Մարտիրոսյան'!E8+Ա.Բեկթաշյան!E8+Էդ.Ավետիսյան!E8+Ալ.Սուքոյան!E8 -> 114 | F8: ='Գ. Մազմանյան'!F8+'Ա. Մելքումյան'!F8+'Հ. Զարգարյան'!F8+'Ռ. Ափինյան'!F8+'Ա. Վարդանյան'!F8+'Գ. Պողոսյան'!F8+'Գ. Խանդանյան'!F8+'Մ. Մակյան'!F8+'Ռ. Ներսիսյան'!F8+Կ.Պետրոսյան!F8+'Մ. Մարտիրոսյան'!F8+Ա.Բեկթաշյան!F8+Էդ.Ավետիսյան!F8+Ալ.Սուքոյան!F8 -> 0 | G8: ='Գ. Մազմանյան'!G8+'Ա. Մելքումյան'!G8+'Հ. Զարգարյան'!G8+'Ռ. Ափինյան'!G8+'Ա. Վարդանյան'!G8+'Գ. Պողոսյան'!G8+'Գ. Խանդանյան'!G8+'Մ. Մակյան'!G8+'Ռ. Ներսիսյան'!G8+Կ.Պետրոսյան!G8+'Մ. Մարտիրոսյան'!G8+Ա.Բեկթաշյան!G8+Էդ.Ավետիսյան!G8+Ալ.Սուքոյան!G8 -> 2 | H8: ='Գ. Մազմանյան'!H8+'Ա. Մելքումյան'!H8+'Հ. Զարգարյան'!H8+'Ռ. Ափինյան'!H8+'Ա. Վարդանյան'!H8+'Գ. Պողոսյան'!H8+'Գ. Խանդանյան'!H8+'Մ. Մակյան'!H8+'Ռ. Ներսիսյան'!H8+Կ.Պետրոսյան!H8+'Մ. Մարտիրոսյան'!H8+Ա.Բեկթաշյան!H8+Էդ.Ավետիսյան!H8+Ալ.Սուքոյան!H8 -> 111 | I8: ='Գ. Մազմանյան'!I8+'Ա. Մելքումյան'!I8+'Հ. Զարգարյան'!I8+'Ռ. Ափինյան'!I8+'Ա. Վարդանյան'!I8+'Գ. Պողոսյան'!I8+'Գ. Խանդանյան'!I8+'Մ. Մակյան'!I8+'Ռ. Ներսիսյան'!I8+Կ.Պետրոսյան!I8+'Մ. Մարտիրոսյան'!I8+Ա.Բեկթաշյան!I8+Էդ.Ավետիսյան!I8+Ալ.Սուքոյան!I8 -> 2 | J8: ='Գ. Մազմանյան'!J8+'Ա. Մելքումյան'!J8+'Հ. Զարգարյան'!J8+'Ռ. Ափինյան'!J8+'Ա. Վարդանյան'!J8+'Գ. Պողոսյան'!J8+'Գ. Խանդանյան'!J8+'Մ. Մակյան'!J8+'Ռ. Ներսիսյան'!J8+Կ.Պետրոսյան!J8+'Մ. Մարտիրոսյան'!J8+Ա.Բեկթաշյան!J8+Էդ.Ավետիսյան!J8+Ալ.Սուքոյան!J8 -> 0 | K8: ='Գ. Մազմանյան'!K8+'Ա. Մելքումյան'!K8+'Հ. Զարգարյան'!K8+'Ռ. Ափինյան'!K8+'Ա. Վարդանյան'!K8+'Գ. Պողոսյան'!K8+'Գ. Խանդանյան'!K8+'Մ. Մակյան'!K8+'Ռ. Ներսիսյան'!K8+Կ.Պետրոսյան!K8+'Մ. Մարտիրոսյան'!K8+Ա.Բեկթաշյան!K8+Էդ.Ավետիսյան!K8+Ալ.Սուքոյան!K8 -> 115 | ... R8: ='Գ. Մազմանյան'!R8+'Ա. Մելքումյան'!R8+'Հ. Զարգարյան'!R8+'Ռ. Ափինյան'!R8+'Ա. Վարդանյան'!R8+'Գ. Պողոսյան'!R8+'Գ. Խանդանյան'!R8+'Մ. Մակյան'!R8+'Ռ. Ներսիսյան'!R8+Կ.Պետրոսյան!R8+'Մ. Մարտիրոսյան'!R8+Ա.Բեկթաշյան!R8+Էդ.Ավետիսյան!R8+Ալ.Սուքոյան!R8 -> 14 | T8: =D8+E8 -> 115 | U8: =F8+K8+L8 -> 115 | V8: =K8 -> 115 | W8: =G8+H8+I8+J8 -> 115
A9: 3 | B9: Ï³É³ÝùÇ í»ñ³Ñ³ëï³ïÙ³Ý Ù³ëÇÝ ÙÇçÝáñ¹áõÃÛáõÝÝ»ñ | D9: ='Գ. Մազմանյան'!D9+'Ա. Մելքումյան'!D9+'Հ. Զարգարյան'!D9+'Ռ. Ափինյան'!D9+'Ա. Վարդանյան'!D9+'Գ. Պողոսյան'!D9+'Գ. Խանդանյան'!D9+'Մ. Մակյան'!D9+'Ռ. Ներսիսյան'!D9+Կ.Պետրոսյան!D9+'Մ. Մարտիրոսյան'!D9+Ա.Բեկթաշյան!D9+Էդ.Ավետիսյան!D9+Ալ.Սուքոյան!D9 -> 0 | E9: ='Գ. Մազմանյան'!E9+'Ա. Մելքումյան'!E9+'Հ. Զարգարյան'!E9+'Ռ. Ափինյան'!E9+'Ա. Վարդանյան'!E9+'Գ. Պողոսյան'!E9+'Գ. Խանդանյան'!E9+'Մ. Մակյան'!E9+'Ռ. Ներսիսյան'!E9+Կ.Պետրոսյան!E9+'Մ. Մարտիրոսյան'!E9+Ա.Բեկթաշյան!E9+Էդ.Ավետիսյան!E9+Ալ.Սուքոյան!E9 -> 19 | F9: ='Գ. Մազմանյան'!F9+'Ա. Մելքումյան'!F9+'Հ. Զարգարյան'!F9+'Ռ. Ափինյան'!F9+'Ա. Վարդանյան'!F9+'Գ. Պողոսյան'!F9+'Գ. Խանդանյան'!F9+'Մ. Մակյան'!F9+'Ռ. Ներսիսյան'!F9+Կ.Պետրոսյան!F9+'Մ. Մարտիրոսյան'!F9+Ա.Բեկթաշյան!F9+Էդ.Ավետիսյան!F9+Ալ.Սուքոյան!F9 -> 0 | G9: ='Գ. Մազմանյան'!G9+'Ա. Մելքումյան'!G9+'Հ. Զարգարյան'!G9+'Ռ. Ափինյան'!G9+'Ա. Վարդանյան'!G9+'Գ. Պողոսյան'!G9+'Գ. Խանդանյան'!G9+'Մ. Մակյան'!G9+'Ռ. Ներսիսյան'!G9+Կ.Պետրոսյան!G9+'Մ. Մարտիրոսյան'!G9+Ա.Բեկթաշյան!G9+Էդ.Ավետիսյան!G9+Ալ.Սուքոյան!G9 -> 0 | H9: ='Գ. Մազմանյան'!H9+'Ա. Մելքումյան'!H9+'Հ. Զարգարյան'!H9+'Ռ. Ափինյան'!H9+'Ա. Վարդանյան'!H9+'Գ. Պողոսյան'!H9+'Գ. Խանդանյան'!H9+'Մ. Մակյան'!H9+'Ռ. Ներսիսյան'!H9+Կ.Պետրոսյան!H9+'Մ. Մարտիրոսյան'!H9+Ա.Բեկթաշյան!H9+Էդ.Ավետիսյան!H9+Ալ.Սուքոյան!H9 -> 19 | I9: ='Գ. Մազմանյան'!I9+'Ա. Մելքումյան'!I9+'Հ. Զարգարյան'!I9+'Ռ. Ափինյան'!I9+'Ա. Վարդանյան'!I9+'Գ. Պողոսյան'!I9+'Գ. Խանդանյան'!I9+'Մ. Մակյան'!I9+'Ռ. Ներսիսյան'!I9+Կ.Պետրոսյան!I9+'Մ. Մարտիրոսյան'!I9+Ա.Բեկթաշյան!I9+Էդ.Ավետիսյան!I9+Ալ.Սուքոյան!I9 -> 0 | J9: ='Գ. Մազմանյան'!J9+'Ա. Մելքումյան'!J9+'Հ. Զարգարյան'!J9+'Ռ. Ափինյան'!J9+'Ա. Վարդանյան'!J9+'Գ. Պողոսյան'!J9+'Գ. Խանդանյան'!J9+'Մ. Մակյան'!J9+'Ռ. Ներսիսյան'!J9+Կ.Պետրոսյան!J9+'Մ. Մարտիրոսյան'!J9+Ա.Բեկթաշյան!J9+Էդ.Ավետիսյան!J9+Ալ.Սուքոյան!J9 -> 0 | K9: ='Գ. Մազմանյան'!K9+'Ա. Մելքումյան'!K9+'Հ. Զարգարյան'!K9+'Ռ. Ափինյան'!K9+'Ա. Վարդանյան'!K9+'Գ. Պողոսյան'!K9+'Գ. Խանդանյան'!K9+'Մ. Մակյան'!K9+'Ռ. Ներսիսյան'!K9+Կ.Պետրոսյան!K9+'Մ. Մարտիրոսյան'!K9+Ա.Բեկթաշյան!K9+Էդ.Ավետիսյան!K9+Ալ.Սուքոյան!K9 -> 19 | ... R9: ='Գ. Մազմանյան'!R9+'Ա. Մելքումյան'!R9+'Հ. Զարգարյան'!R9+'Ռ. Ափինյան'!R9+'Ա. Վարդանյան'!R9+'Գ. Պողոսյան'!R9+'Գ. Խանդանյան'!R9+'Մ. Մակյան'!R9+'Ռ. Ներսիսյան'!R9+Կ.Պետրոսյան!R9+'Մ. Մարտիրոսյան'!R9+Ա.Բեկթաշյան!R9+Էդ.Ավետիսյան!R9+Ալ.Սուքոյան!R9 -> 6 | T9: =D9+E9 -> 19 | U9: =F9+K9+L9 -> 19 | V9: =K9 -> 19 | W9: =G9+H9+I9+J9 -> 19
A10: 4 | B10: ·ñ³íÁ áñå»ë Ï³É³Ý³íáñÙ³Ý ³ÛÉÁÝïñ³Ýù³ÛÇÝ Ë³÷³ÝÙ³Ý ÙÇçáó ÏÇñ³é»Éáõ Ù³ëÇÝ ÙÇçÝáñ¹áõÃÛáõÝÝ»ñ | D10: ='Գ. Մազմանյան'!D10+'Ա. Մելքումյան'!D10+'Հ. Զարգարյան'!D10+'Ռ. Ափինյան'!D10+'Ա. Վարդանյան'!D10+'Գ. Պողոսյան'!D10+'Գ. Խանդանյան'!D10+'Մ. Մակյան'!D10+'Ռ. Ներսիսյան'!D10+Կ.Պետրոսյան!D10+'Մ. Մարտիրոսյան'!D10+Ա.Բեկթաշյան!D10+Էդ.Ավետիսյան!D10+Ալ.Սուքոյան!D10 -> 1 | E10: ='Գ. Մազմանյան'!E10+'Ա. Մելքումյան'!E10+'Հ. Զարգարյան'!E10+'Ռ. Ափինյան'!E10+'Ա. Վարդանյան'!E10+'Գ. Պողոսյան'!E10+'Գ. Խանդանյան'!E10+'Մ. Մակյան'!E10+'Ռ. Ներսիսյան'!E10+Կ.Պետրոսյան!E10+'Մ. Մարտիրոսյան'!E10+Ա.Բեկթաշյան!E10+Էդ.Ավետիսյան!E10+Ալ.Սուքոյան!E10 -> 18 | F10: ='Գ. Մազմանյան'!F10+'Ա. Մելքումյան'!F10+'Հ. Զարգարյան'!F10+'Ռ. Ափինյան'!F10+'Ա. Վարդանյան'!F10+'Գ. Պողոսյան'!F10+'Գ. Խանդանյան'!F10+'Մ. Մակյան'!F10+'Ռ. Ներսիսյան'!F10+Կ.Պետրոսյան!F10+'Մ. Մարտիրոսյան'!F10+Ա.Բեկթաշյան!F10+Էդ.Ավետիսյան!F10+Ալ.Սուքոյան!F10 -> 0 | G10: ='Գ. Մազմանյան'!G10+'Ա. Մելքումյան'!G10+'Հ. Զարգարյան'!G10+'Ռ. Ափինյան'!G10+'Ա. Վարդանյան'!G10+'Գ. Պողոսյան'!G10+'Գ. Խանդանյան'!G10+'Մ. Մակյան'!G10+'Ռ. Ներսիսյան'!G10+Կ.Պետրոսյան!G10+'Մ. Մարտիրոսյան'!G10+Ա.Բեկթաշյան!G10+Էդ.Ավետիսյան!G10+Ալ.Սուքոյան!G10 -> 12 | H10: ='Գ. Մազմանյան'!H10+'Ա. Մելքումյան'!H10+'Հ. Զարգարյան'!H10+'Ռ. Ափինյան'!H10+'Ա. Վարդանյան'!H10+'Գ. Պողոսյան'!H10+'Գ. Խանդանյան'!H10+'Մ. Մակյան'!H10+'Ռ. Ներսիսյան'!H10+Կ.Պետրոսյան!H10+'Մ. Մարտիրոսյան'!H10+Ա.Բեկթաշյան!H10+Էդ.Ավետիսյան!H10+Ալ.Սուքոյան!H10 -> 5 | I10: ='Գ. Մազմանյան'!I10+'Ա. Մելքումյան'!I10+'Հ. Զարգարյան'!I10+'Ռ. Ափինյան'!I10+'Ա. Վարդանյան'!I10+'Գ. Պողոսյան'!I10+'Գ. Խանդանյան'!I10+'Մ. Մակյան'!I10+'Ռ. Ներսիսյան'!I10+Կ.Պետրոսյան!I10+'Մ. Մարտիրոսյան'!I10+Ա.Բեկթաշյան!I10+Էդ.Ավետիսյան!I10+Ալ.Սուքոյան!I10 -> 0 | J10: ='Գ. Մազմանյան'!J10+'Ա. Մելքումյան'!J10+'Հ. Զարգարյան'!J10+'Ռ. Ափինյան'!J10+'Ա. Վարդանյան'!J10+'Գ. Պողոսյան'!J10+'Գ. Խանդանյան'!J10+'Մ. Մակյան'!J10+'Ռ. Ներսիսյան'!J10+Կ.Պետրոսյան!J10+'Մ. Մարտիրոսյան'!J10+Ա.Բեկթաշյան!J10+Էդ.Ավետիսյան!J10+Ալ.Սուքոյան!J10 -> 2 | K10: ='Գ. Մազմանյան'!K10+'Ա. Մելքումյան'!K10+'Հ. Զարգարյան'!K10+'Ռ. Ափինյան'!K10+'Ա. Վարդանյան'!K10+'Գ. Պողոսյան'!K10+'Գ. Խանդանյան'!K10+'Մ. Մակյան'!K10+'Ռ. Ներսիսյան'!K10+Կ.Պետրոսյան!K10+'Մ. Մարտիրոսյան'!K10+Ա.Բեկթաշյան!K10+Էդ.Ավետիսյան!K10+Ալ.Սուքոյան!K10 -> 19 | ... R10: ='Գ. Մազմանյան'!R10+'Ա. Մելքումյան'!R10+'Հ. Զարգարյան'!R10+'Ռ. Ափինյան'!R10+'Ա. Վարդանյան'!R10+'Գ. Պողոսյան'!R10+'Գ. Խանդանյան'!R10+'Մ. Մակյան'!R10+'Ռ. Ներսիսյան'!R10+Կ.Պետրոսյան!R10+'Մ. Մարտիրոսյան'!R10+Ա.Բեկթաշյան!R10+Էդ.Ավետիսյան!R10+Ալ.Սուքոյան!R10 -> 3 | T10: =D10+E10 -> 19 | U10: =F10+K10+L10 -> 19 | V10: =K10 -> 19 | W10: =G10+H10+I10+J10 -> 19
A11: 5 | B11: Ëáõ½³ñÏáõÃÛ³Ý Ï³ï³ñÙ³Ý Ù³ëÇÝ ÙÇçÝáñ¹áõÃÛáõÝÝ»ñ | D11: ='Գ. Մազմանյան'!D11+'Ա. Մելքումյան'!D11+'Հ. Զարգարյան'!D11+'Ռ. Ափինյան'!D11+'Ա. Վարդանյան'!D11+'Գ. Պողոսյան'!D11+'Գ. Խանդանյան'!D11+'Մ. Մակյան'!D11+'Ռ. Ներսիսյան'!D11+Կ.Պետրոսյան!D11+'Մ. Մարտիրոսյան'!D11+Ա.Բեկթաշյան!D11+Էդ.Ավետիսյան!D11+Ալ.Սուքոյան!D11 -> 0 | E11: ='Գ. Մազմանյան'!E11+'Ա. Մելքումյան'!E11+'Հ. Զարգարյան'!E11+'Ռ. Ափինյան'!E11+'Ա. Վարդանյան'!E11+'Գ. Պողոսյան'!E11+'Գ. Խանդանյան'!E11+'Մ. Մակյան'!E11+'Ռ. Ներսիսյան'!E11+Կ.Պետրոսյան!E11+'Մ. Մարտիրոսյան'!E11+Ա.Բեկթաշյան!E11+Էդ.Ավետիսյան!E11+Ալ.Սուքոյան!E11 -> 389 | F11: ='Գ. Մազմանյան'!F11+'Ա. Մելքումյան'!F11+'Հ. Զարգարյան'!F11+'Ռ. Ափինյան'!F11+'Ա. Վարդանյան'!F11+'Գ. Պողոսյան'!F11+'Գ. Խանդանյան'!F11+'Մ. Մակյան'!F11+'Ռ. Ներսիսյան'!F11+Կ.Պետրոսյան!F11+'Մ. Մարտիրոսյան'!F11+Ա.Բեկթաշյան!F11+Էդ.Ավետիսյան!F11+Ալ.Սուքոյան!F11 -> 0 | G11: ='Գ. Մազմանյան'!G11+'Ա. Մելքումյան'!G11+'Հ. Զարգարյան'!G11+'Ռ. Ափինյան'!G11+'Ա. Վարդանյան'!G11+'Գ. Պողոսյան'!G11+'Գ. Խանդանյան'!G11+'Մ. Մակյան'!G11+'Ռ. Ներսիսյան'!G11+Կ.Պետրոսյան!G11+'Մ. Մարտիրոսյան'!G11+Ա.Բեկթաշյան!G11+Էդ.Ավետիսյան!G11+Ալ.Սուքոյան!G11 -> 18 | H11: ='Գ. Մազմանյան'!H11+'Ա. Մելքումյան'!H11+'Հ. Զարգարյան'!H11+'Ռ. Ափինյան'!H11+'Ա. Վարդանյան'!H11+'Գ. Պողոսյան'!H11+'Գ. Խանդանյան'!H11+'Մ. Մակյան'!H11+'Ռ. Ներսիսյան'!H11+Կ.Պետրոսյան!H11+'Մ. Մարտիրոսյան'!H11+Ա.Բեկթաշյան!H11+Էդ.Ավետիսյան!H11+Ալ.Սուքոյան!H11 -> 360 | I11: ='Գ. Մազմանյան'!I11+'Ա. Մելքումյան'!I11+'Հ. Զարգարյան'!I11+'Ռ. Ափինյան'!I11+'Ա. Վարդանյան'!I11+'Գ. Պողոսյան'!I11+'Գ. Խանդանյան'!I11+'Մ. Մակյան'!I11+'Ռ. Ներսիսյան'!I11+Կ.Պետրոսյան!I11+'Մ. Մարտիրոսյան'!I11+Ա.Բեկթաշյան!I11+Էդ.Ավետիսյան!I11+Ալ.Սուքոյան!I11 -> 11 | J11: ='Գ. Մազմանյան'!J11+'Ա. Մելքումյան'!J11+'Հ. Զարգարյան'!J11+'Ռ. Ափինյան'!J11+'Ա. Վարդանյան'!J11+'Գ. Պողոսյան'!J11+'Գ. Խանդանյան'!J11+'Մ. Մակյան'!J11+'Ռ. Ներսիսյան'!J11+Կ.Պետրոսյան!J11+'Մ. Մարտիրոսյան'!J11+Ա.Բեկթաշյան!J11+Էդ.Ավետիսյան!J11+Ալ.Սուքոյան!J11 -> 0 | K11: ='Գ. Մազմանյան'!K11+'Ա. Մելքումյան'!K11+'Հ. Զարգարյան'!K11+'Ռ. Ափինյան'!K11+'Ա. Վարդանյան'!K11+'Գ. Պողոսյան'!K11+'Գ. Խանդանյան'!K11+'Մ. Մակյան'!K11+'Ռ. Ներսիսյան'!K11+Կ.Պետրոսյան!K11+'Մ. Մարտիրոսյան'!K11+Ա.Բեկթաշյան!K11+Էդ.Ավետիսյան!K11+Ալ.Սուքոյան!K11 -> 389 | ... R11: ='Գ. Մազմանյան'!R11+'Ա. Մելքումյան'!R11+'Հ. Զարգարյան'!R11+'Ռ. Ափինյան'!R11+'Ա. Վարդանյան'!R11+'Գ. Պողոսյան'!R11+'Գ. Խանդանյան'!R11+'Մ. Մակյան'!R11+'Ռ. Ներսիսյան'!R11+Կ.Պետրոսյան!R11+'Մ. Մարտիրոսյան'!R11+Ա.Բեկթաշյան!R11+Էդ.Ավետիսյան!R11+Ալ.Սուքոյան!R11 -> 1 | T11: =D11+E11 -> 389 | U11: =F11+K11+L11 -> 389 | V11: =K11 -> 389 | W11: =G11+H11+I11+J11 -> 389
A12: 6 | B12: µ³ÝÏ³ÛÇÝ, ³å³Ñáí³·ñ³Ï³Ý, Ýáï³ñ³Ï³Ý ·³ÕïÝÇù Ï³½ÙáÕ ï»Õ»ÏáõÃÛáõÝÝ»ñÇ ëï³óÙ³Ý Ñ³Ù³ñ Ëáõ½³ñÏáõÃÛ³Ý Ï³Ù ³é·ñ³íÙ³Ý Ï³ï³ñÙ³Ý Ù³ëÇÝ ÙÇçÝáñ¹áõÃÛáõÝÝ»ñ | D12: ='Գ. Մազմանյան'!D12+'Ա. Մելքումյան'!D12+'Հ. Զարգարյան'!D12+'Ռ. Ափինյան'!D12+'Ա. Վարդանյան'!D12+'Գ. Պողոսյան'!D12+'Գ. Խանդանյան'!D12+'Մ. Մակյան'!D12+'Ռ. Ներսիսյան'!D12+Կ.Պետրոսյան!D12+'Մ. Մարտիրոսյան'!D12+Ա.Բեկթաշյան!D12+Էդ.Ավետիսյան!D12+Ալ.Սուքոյան!D12 -> 0 | E12: ='Գ. Մազմանյան'!E12+'Ա. Մելքումյան'!E12+'Հ. Զարգարյան'!E12+'Ռ. Ափինյան'!E12+'Ա. Վարդանյան'!E12+'Գ. Պողոսյան'!E12+'Գ. Խանդանյան'!E12+'Մ. Մակյան'!E12+'Ռ. Ներսիսյան'!E12+Կ.Պետրոսյան!E12+'Մ. Մարտիրոսյան'!E12+Ա.Բեկթաշյան!E12+Էդ.Ավետիսյան!E12+Ալ.Սուքոյան!E12 -> 54 | F12: ='Գ. Մազմանյան'!F12+'Ա. Մելքումյան'!F12+'Հ. Զարգարյան'!F12+'Ռ. Ափինյան'!F12+'Ա. Վարդանյան'!F12+'Գ. Պողոսյան'!F12+'Գ. Խանդանյան'!F12+'Մ. Մակյան'!F12+'Ռ. Ներսիսյան'!F12+Կ.Պետրոսյան!F12+'Մ. Մարտիրոսյան'!F12+Ա.Բեկթաշյան!F12+Էդ.Ավետիսյան!F12+Ալ.Սուքոյան!F12 -> 0 | G12: ='Գ. Մազմանյան'!G12+'Ա. Մելքումյան'!G12+'Հ. Զարգարյան'!G12+'Ռ. Ափինյան'!G12+'Ա. Վարդանյան'!G12+'Գ. Պողոսյան'!G12+'Գ. Խանդանյան'!G12+'Մ. Մակյան'!G12+'Ռ. Ներսիսյան'!G12+Կ.Պետրոսյան!G12+'Մ. Մարտիրոսյան'!G12+Ա.Բեկթաշյան!G12+Էդ.Ավետիսյան!G12+Ալ.Սուքոյան!G12 -> 1 | H12: ='Գ. Մազմանյան'!H12+'Ա. Մելքումյան'!H12+'Հ. Զարգարյան'!H12+'Ռ. Ափինյան'!H12+'Ա. Վարդանյան'!H12+'Գ. Պողոսյան'!H12+'Գ. Խանդանյան'!H12+'Մ. Մակյան'!H12+'Ռ. Ներսիսյան'!H12+Կ.Պետրոսյան!H12+'Մ. Մարտիրոսյան'!H12+Ա.Բեկթաշյան!H12+Էդ.Ավետիսյան!H12+Ալ.Սուքոյան!H12 -> 53 | I12: ='Գ. Մազմանյան'!I12+'Ա. Մելքումյան'!I12+'Հ. Զարգարյան'!I12+'Ռ. Ափինյան'!I12+'Ա. Վարդանյան'!I12+'Գ. Պողոսյան'!I12+'Գ. Խանդանյան'!I12+'Մ. Մակյան'!I12+'Ռ. Ներսիսյան'!I12+Կ.Պետրոսյան!I12+'Մ. Մարտիրոսյան'!I12+Ա.Բեկթաշյան!I12+Էդ.Ավետիսյան!I12+Ալ.Սուքոյան!I12 -> 0 | J12: ='Գ. Մազմանյան'!J12+'Ա. Մելքումյան'!J12+'Հ. Զարգարյան'!J12+'Ռ. Ափինյան'!J12+'Ա. Վարդանյան'!J12+'Գ. Պողոսյան'!J12+'Գ. Խանդանյան'!J12+'Մ. Մակյան'!J12+'Ռ. Ներսիսյան'!J12+Կ.Պետրոսյան!J12+'Մ. Մարտիրոսյան'!J12+Ա.Բեկթաշյան!J12+Էդ.Ավետիսյան!J12+Ալ.Սուքոյան!J12 -> 0 | K12: ='Գ. Մազմանյան'!K12+'Ա. Մելքումյան'!K12+'Հ. Զարգարյան'!K12+'Ռ. Ափինյան'!K12+'Ա. Վարդանյան'!K12+'Գ. Պողոսյան'!K12+'Գ. Խանդանյան'!K12+'Մ. Մակյան'!K12+'Ռ. Ներսիսյան'!K12+Կ.Պետրոսյան!K12+'Մ. Մարտիրոսյան'!K12+Ա.Բեկթաշյան!K12+Էդ.Ավետիսյան!K12+Ալ.Սուքոյան!K12 -> 54 | ... R12: ='Գ. Մազմանյան'!R12+'Ա. Մելքումյան'!R12+'Հ. Զարգարյան'!R12+'Ռ. Ափինյան'!R12+'Ա. Վարդանյան'!R12+'Գ. Պողոսյան'!R12+'Գ. Խանդանյան'!R12+'Մ. Մակյան'!R12+'Ռ. Ներսիսյան'!R12+Կ.Պետրոսյան!R12+'Մ. Մարտիրոսյան'!R12+Ա.Բեկթաշյան!R12+Էդ.Ավետիսյան!R12+Ալ.Սուքոյան!R12 -> 0 | T12: =D12+E12 -> 54 | U12: =F12+K12+L12 -> 54 | V12: =K12 -> 54 | W12: =G12+H12+I12+J12 -> 54
A13: 7 | B13: Ý³Ù³Ï³·ñáõÃÛ³Ý, Ñ»é³·ñ³Ï³Ý, ÷áuï³ÛÇÝ Ñ³Õáñ¹áõÙÝ»ñÇ ÑëÏáÕáõÃÛ³Ý Ù³ëÇÝ ÙÇçÝáñ¹áõÃÛáõÝÝ»ñ | D13: ='Գ. Մազմանյան'!D13+'Ա. Մելքումյան'!D13+'Հ. Զարգարյան'!D13+'Ռ. Ափինյան'!D13+'Ա. Վարդանյան'!D13+'Գ. Պողոսյան'!D13+'Գ. Խանդանյան'!D13+'Մ. Մակյան'!D13+'Ռ. Ներսիսյան'!D13+Կ.Պետրոսյան!D13+'Մ. Մարտիրոսյան'!D13+Ա.Բեկթաշյան!D13+Էդ.Ավետիսյան!D13+Ալ.Սուքոյան!D13 -> 0 | E13: ='Գ. Մազմանյան'!E13+'Ա. Մելքումյան'!E13+'Հ. Զարգարյան'!E13+'Ռ. Ափինյան'!E13+'Ա. Վարդանյան'!E13+'Գ. Պողոսյան'!E13+'Գ. Խանդանյան'!E13+'Մ. Մակյան'!E13+'Ռ. Ներսիսյան'!E13+Կ.Պետրոսյան!E13+'Մ. Մարտիրոսյան'!E13+Ա.Բեկթաշյան!E13+Էդ.Ավետիսյան!E13+Ալ.Սուքոյան!E13 -> 33 | F13: ='Գ. Մազմանյան'!F13+'Ա. Մելքումյան'!F13+'Հ. Զարգարյան'!F13+'Ռ. Ափինյան'!F13+'Ա. Վարդանյան'!F13+'Գ. Պողոսյան'!F13+'Գ. Խանդանյան'!F13+'Մ. Մակյան'!F13+'Ռ. Ներսիսյան'!F13+Կ.Պետրոսյան!F13+'Մ. Մարտիրոսյան'!F13+Ա.Բեկթաշյան!F13+Էդ.Ավետիսյան!F13+Ալ.Սուքոյան!F13 -> 0 | G13: ='Գ. Մազմանյան'!G13+'Ա. Մելքումյան'!G13+'Հ. Զարգարյան'!G13+'Ռ. Ափինյան'!G13+'Ա. Վարդանյան'!G13+'Գ. Պողոսյան'!G13+'Գ. Խանդանյան'!G13+'Մ. Մակյան'!G13+'Ռ. Ներսիսյան'!G13+Կ.Պետրոսյան!G13+'Մ. Մարտիրոսյան'!G13+Ա.Բեկթաշյան!G13+Էդ.Ավետիսյան!G13+Ալ.Սուքոյան!G13 -> 0 | H13: ='Գ. Մազմանյան'!H13+'Ա. Մելքումյան'!H13+'Հ. Զարգարյան'!H13+'Ռ. Ափինյան'!H13+'Ա. Վարդանյան'!H13+'Գ. Պողոսյան'!H13+'Գ. Խանդանյան'!H13+'Մ. Մակյան'!H13+'Ռ. Ներսիսյան'!H13+Կ.Պետրոսյան!H13+'Մ. Մարտիրոսյան'!H13+Ա.Բեկթաշյան!H13+Էդ.Ավետիսյան!H13+Ալ.Սուքոյան!H13 -> 33 | I13: ='Գ. Մազմանյան'!I13+'Ա. Մելքումյան'!I13+'Հ. Զարգարյան'!I13+'Ռ. Ափինյան'!I13+'Ա. Վարդանյան'!I13+'Գ. Պողոսյան'!I13+'Գ. Խանդանյան'!I13+'Մ. Մակյան'!I13+'Ռ. Ներսիսյան'!I13+Կ.Պետրոսյան!I13+'Մ. Մարտիրոսյան'!I13+Ա.Բեկթաշյան!I13+Էդ.Ավետիսյան!I13+Ալ.Սուքոյան!I13 -> 0 | J13: ='Գ. Մազմանյան'!J13+'Ա. Մելքումյան'!J13+'Հ. Զարգարյան'!J13+'Ռ. Ափինյան'!J13+'Ա. Վարդանյան'!J13+'Գ. Պողոսյան'!J13+'Գ. Խանդանյան'!J13+'Մ. Մակյան'!J13+'Ռ. Ներսիսյան'!J13+Կ.Պետրոսյան!J13+'Մ. Մարտիրոսյան'!J13+Ա.Բեկթաշյան!J13+Էդ.Ավետիսյան!J13+Ալ.Սուքոյան!J13 -> 0 | K13: ='Գ. Մազմանյան'!K13+'Ա. Մելքումյան'!K13+'Հ. Զարգարյան'!K13+'Ռ. Ափինյան'!K13+'Ա. Վարդանյան'!K13+'Գ. Պողոսյան'!K13+'Գ. Խանդանյան'!K13+'Մ. Մակյան'!K13+'Ռ. Ներսիսյան'!K13+Կ.Պետրոսյան!K13+'Մ. Մարտիրոսյան'!K13+Ա.Բեկթաշյան!K13+Էդ.Ավետիսյան!K13+Ալ.Սուքոյան!K13 -> 33 | ... R13: ='Գ. Մազմանյան'!R13+'Ա. Մելքումյան'!R13+'Հ. Զարգարյան'!R13+'Ռ. Ափինյան'!R13+'Ա. Վարդանյան'!R13+'Գ. Պողոսյան'!R13+'Գ. Խանդանյան'!R13+'Մ. Մակյան'!R13+'Ռ. Ներսիսյան'!R13+Կ.Պետրոսյան!R13+'Մ. Մարտիրոսյան'!R13+Ա.Բեկթաշյան!R13+Էդ.Ավետիսյան!R13+Ալ.Սուքոյան!R13 -> 0 | T13: =D13+E13 -> 33 | U13: =F13+K13+L13 -> 33 | V13: =K13 -> 33 | W13: =G13+H13+I13+J13 -> 33
A14: 8 | B14: Ñ»é³Ëáu³ÛÇÝ Ï³Ù Ï³åÇ ³ÛÉ ÙÇçáóÝ»ñáí ï³ñíáÕ Ëáu³ÏóáõÃÛáõÝÝ»ñÇ ÉuÙ³Ý ¨ Ó³ÛÝ³·ñ³éÙ³Ý Ù³ëÇÝ ÙÇçÝáñ¹áõÃÛáõÝÝ»ñ | D14: ='Գ. Մազմանյան'!D14+'Ա. Մելքումյան'!D14+'Հ. Զարգարյան'!D14+'Ռ. Ափինյան'!D14+'Ա. Վարդանյան'!D14+'Գ. Պողոսյան'!D14+'Գ. Խանդանյան'!D14+'Մ. Մակյան'!D14+'Ռ. Ներսիսյան'!D14+Կ.Պետրոսյան!D14+'Մ. Մարտիրոսյան'!D14+Ա.Բեկթաշյան!D14+Էդ.Ավետիսյան!D14+Ալ.Սուքոյան!D14 -> 0 | E14: ='Գ. Մազմանյան'!E14+'Ա. Մելքումյան'!E14+'Հ. Զարգարյան'!E14+'Ռ. Ափինյան'!E14+'Ա. Վարդանյան'!E14+'Գ. Պողոսյան'!E14+'Գ. Խանդանյան'!E14+'Մ. Մակյան'!E14+'Ռ. Ներսիսյան'!E14+Կ.Պետրոսյան!E14+'Մ. Մարտիրոսյան'!E14+Ա.Բեկթաշյան!E14+Էդ.Ավետիսյան!E14+Ալ.Սուքոյան!E14 -> 16 | F14: ='Գ. Մազմանյան'!F14+'Ա. Մելքումյան'!F14+'Հ. Զարգարյան'!F14+'Ռ. Ափինյան'!F14+'Ա. Վարդանյան'!F14+'Գ. Պողոսյան'!F14+'Գ. Խանդանյան'!F14+'Մ. Մակյան'!F14+'Ռ. Ներսիսյան'!F14+Կ.Պետրոսյան!F14+'Մ. Մարտիրոսյան'!F14+Ա.Բեկթաշյան!F14+Էդ.Ավետիսյան!F14+Ալ.Սուքոյան!F14 -> 0 | G14: ='Գ. Մազմանյան'!G14+'Ա. Մելքումյան'!G14+'Հ. Զարգարյան'!G14+'Ռ. Ափինյան'!G14+'Ա. Վարդանյան'!G14+'Գ. Պողոսյան'!G14+'Գ. Խանդանյան'!G14+'Մ. Մակյան'!G14+'Ռ. Ներսիսյան'!G14+Կ.Պետրոսյան!G14+'Մ. Մարտիրոսյան'!G14+Ա.Բեկթաշյան!G14+Էդ.Ավետիսյան!G14+Ալ.Սուքոյան!G14 -> 0 | H14: ='Գ. Մազմանյան'!H14+'Ա. Մելքումյան'!H14+'Հ. Զարգարյան'!H14+'Ռ. Ափինյան'!H14+'Ա. Վարդանյան'!H14+'Գ. Պողոսյան'!H14+'Գ. Խանդանյան'!H14+'Մ. Մակյան'!H14+'Ռ. Ներսիսյան'!H14+Կ.Պետրոսյան!H14+'Մ. Մարտիրոսյան'!H14+Ա.Բեկթաշյան!H14+Էդ.Ավետիսյան!H14+Ալ.Սուքոյան!H14 -> 16 | I14: ='Գ. Մազմանյան'!I14+'Ա. Մելքումյան'!I14+'Հ. Զարգարյան'!I14+'Ռ. Ափինյան'!I14+'Ա. Վարդանյան'!I14+'Գ. Պողոսյան'!I14+'Գ. Խանդանյան'!I14+'Մ. Մակյան'!I14+'Ռ. Ներսիսյան'!I14+Կ.Պետրոսյան!I14+'Մ. Մարտիրոսյան'!I14+Ա.Բեկթաշյան!I14+Էդ.Ավետիսյան!I14+Ալ.Սուքոյան!I14 -> 0 | J14: ='Գ. Մազմանյան'!J14+'Ա. Մելքումյան'!J14+'Հ. Զարգարյան'!J14+'Ռ. Ափինյան'!J14+'Ա. Վարդանյան'!J14+'Գ. Պողոսյան'!J14+'Գ. Խանդանյան'!J14+'Մ. Մակյան'!J14+'Ռ. Ներսիսյան'!J14+Կ.Պետրոսյան!J14+'Մ. Մարտիրոսյան'!J14+Ա.Բեկթաշյան!J14+Էդ.Ավետիսյան!J14+Ալ.Սուքոյան!J14 -> 0 | K14: ='Գ. Մազմանյան'!K14+'Ա. Մելքումյան'!K14+'Հ. Զարգարյան'!K14+'Ռ. Ափինյան'!K14+'Ա. Վարդանյան'!K14+'Գ. Պողոսյան'!K14+'Գ. Խանդանյան'!K14+'Մ. Մակյան'!K14+'Ռ. Ներսիսյան'!K14+Կ.Պետրոսյան!K14+'Մ. Մարտիրոսյան'!K14+Ա.Բեկթաշյան!K14+Էդ.Ավետիսյան!K14+Ալ.Սուքոյան!K14 -> 16 | ... R14: ='Գ. Մազմանյան'!R14+'Ա. Մելքումյան'!R14+'Հ. Զարգարյան'!R14+'Ռ. Ափինյան'!R14+'Ա. Վարդանյան'!R14+'Գ. Պողոսյան'!R14+'Գ. Խանդանյան'!R14+'Մ. Մակյան'!R14+'Ռ. Ներսիսյան'!R14+Կ.Պետրոսյան!R14+'Մ. Մարտիրոսյան'!R14+Ա.Բեկթաշյան!R14+Էդ.Ավետիսյան!R14+Ալ.Սուքոյան!R14 -> 0 | T14: =D14+E14 -> 16 | U14: =F14+K14+L14 -> 16 | V14: =K14 -> 16 | W14: =G14+H14+I14+J14 -> 16
A15: 9 | B15: Ñ»é³ËáëÝ»ñÇ Ùáõïù³ÛÇÝ ¨ »Éù³ÛÇÝ í»ñÍ³ÝÙ³Ý ÃáõÛÉïíáõÃÛáõÝ ëï³Ý³Éáõ Ù³ëÇÝ ÙÇçÝáñ¹áõÃÛáõÝÝ»ñ | D15: ='Գ. Մազմանյան'!D15+'Ա. Մելքումյան'!D15+'Հ. Զարգարյան'!D15+'Ռ. Ափինյան'!D15+'Ա. Վարդանյան'!D15+'Գ. Պողոսյան'!D15+'Գ. Խանդանյան'!D15+'Մ. Մակյան'!D15+'Ռ. Ներսիսյան'!D15+Կ.Պետրոսյան!D15+'Մ. Մարտիրոսյան'!D15+Ա.Բեկթաշյան!D15+Էդ.Ավետիսյան!D15+Ալ.Սուքոյան!D15 -> 0 | E15: ='Գ. Մազմանյան'!E15+'Ա. Մելքումյան'!E15+'Հ. Զարգարյան'!E15+'Ռ. Ափինյան'!E15+'Ա. Վարդանյան'!E15+'Գ. Պողոսյան'!E15+'Գ. Խանդանյան'!E15+'Մ. Մակյան'!E15+'Ռ. Ներսիսյան'!E15+Կ.Պետրոսյան!E15+'Մ. Մարտիրոսյան'!E15+Ա.Բեկթաշյան!E15+Էդ.Ավետիսյան!E15+Ալ.Սուքոյան!E15 -> 538 | F15: ='Գ. Մազմանյան'!F15+'Ա. Մելքումյան'!F15+'Հ. Զարգարյան'!F15+'Ռ. Ափինյան'!F15+'Ա. Վարդանյան'!F15+'Գ. Պողոսյան'!F15+'Գ. Խանդանյան'!F15+'Մ. Մակյան'!F15+'Ռ. Ներսիսյան'!F15+Կ.Պետրոսյան!F15+'Մ. Մարտիրոսյան'!F15+Ա.Բեկթաշյան!F15+Էդ.Ավետիսյան!F15+Ալ.Սուքոյան!F15 -> 1 | G15: ='Գ. Մազմանյան'!G15+'Ա. Մելքումյան'!G15+'Հ. Զարգարյան'!G15+'Ռ. Ափինյան'!G15+'Ա. Վարդանյան'!G15+'Գ. Պողոսյան'!G15+'Գ. Խանդանյան'!G15+'Մ. Մակյան'!G15+'Ռ. Ներսիսյան'!G15+Կ.Պետրոսյան!G15+'Մ. Մարտիրոսյան'!G15+Ա.Բեկթաշյան!G15+Էդ.Ավետիսյան!G15+Ալ.Սուքոյան!G15 -> 1 | H15: ='Գ. Մազմանյան'!H15+'Ա. Մելքումյան'!H15+'Հ. Զարգարյան'!H15+'Ռ. Ափինյան'!H15+'Ա. Վարդանյան'!H15+'Գ. Պողոսյան'!H15+'Գ. Խանդանյան'!H15+'Մ. Մակյան'!H15+'Ռ. Ներսիսյան'!H15+Կ.Պետրոսյան!H15+'Մ. Մարտիրոսյան'!H15+Ա.Բեկթաշյան!H15+Էդ.Ավետիսյան!H15+Ալ.Սուքոյան!H15 -> 535 | I15: ='Գ. Մազմանյան'!I15+'Ա. Մելքումյան'!I15+'Հ. Զարգարյան'!I15+'Ռ. Ափինյան'!I15+'Ա. Վարդանյան'!I15+'Գ. Պողոսյան'!I15+'Գ. Խանդանյան'!I15+'Մ. Մակյան'!I15+'Ռ. Ներսիսյան'!I15+Կ.Պետրոսյան!I15+'Մ. Մարտիրոսյան'!I15+Ա.Բեկթաշյան!I15+Էդ.Ավետիսյան!I15+Ալ.Սուքոյան!I15 -> 1 | J15: ='Գ. Մազմանյան'!J15+'Ա. Մելքումյան'!J15+'Հ. Զարգարյան'!J15+'Ռ. Ափինյան'!J15+'Ա. Վարդանյան'!J15+'Գ. Պողոսյան'!J15+'Գ. Խանդանյան'!J15+'Մ. Մակյան'!J15+'Ռ. Ներսիսյան'!J15+Կ.Պետրոսյան!J15+'Մ. Մարտիրոսյան'!J15+Ա.Բեկթաշյան!J15+Էդ.Ավետիսյան!J15+Ալ.Սուքոյան!J15 -> 0 | K15: ='Գ. Մազմանյան'!K15+'Ա. Մելքումյան'!K15+'Հ. Զարգարյան'!K15+'Ռ. Ափինյան'!K15+'Ա. Վարդանյան'!K15+'Գ. Պողոսյան'!K15+'Գ. Խանդանյան'!K15+'Մ. Մակյան'!K15+'Ռ. Ներսիսյան'!K15+Կ.Պետրոսյան!K15+'Մ. Մարտիրոսյան'!K15+Ա.Բեկթաշյան!K15+Էդ.Ավետիսյան!K15+Ալ.Սուքոյան!K15 -> 537 | ... R15: ='Գ. Մազմանյան'!R15+'Ա. Մելքումյան'!R15+'Հ. Զարգարյան'!R15+'Ռ. Ափինյան'!R15+'Ա. Վարդանյան'!R15+'Գ. Պողոսյան'!R15+'Գ. Խանդանյան'!R15+'Մ. Մակյան'!R15+'Ռ. Ներսիսյան'!R15+Կ.Պետրոսյան!R15+'Մ. Մարտիրոսյան'!R15+Ա.Բեկթաշյան!R15+Էդ.Ավետիսյան!R15+Ալ.Սուքոյան!R15 -> 0 | T15: =D15+E15 -> 538 | U15: =F15+K15+L15 -> 538 | V15: =K15 -> 537 | W15: =G15+H15+I15+J15 -> 537
A16: 10 | B16: Ñ»ï³ùÝÝáõÃÛ³Ý Ù³ñÙÝÇ ³ßË³ïáÕÇ, ùÝÝÇãÇ, ¹³ï³Ë³½Ç oå»ñ³ïÇí-Ñ»ï³Ëáõ½³Ï³Ý ·áñÍáÕáõÃÛáõÝÝ»ñ Çñ³Ï³Ý³óÝáÕ Ù³ñÙÇÝÝ»ñÇ ³ÝoñÇÝ³Ï³Ý ¨ ³ÝÑÇÙÝ áñáßáõÙÝ»ñÇ ¨ ·áñÍáÕáõÃÛáõÝÝ»ñÇ ¹»Ù µáÕáùÝ»ñ | D16: ='Գ. Մազմանյան'!D16+'Ա. Մելքումյան'!D16+'Հ. Զարգարյան'!D16+'Ռ. Ափինյան'!D16+'Ա. Վարդանյան'!D16+'Գ. Պողոսյան'!D16+'Գ. Խանդանյան'!D16+'Մ. Մակյան'!D16+'Ռ. Ներսիսյան'!D16+Կ.Պետրոսյան!D16+'Մ. Մարտիրոսյան'!D16+Ա.Բեկթաշյան!D16+Էդ.Ավետիսյան!D16+Ալ.Սուքոյան!D16 -> 43 | E16: ='Գ. Մազմանյան'!E16+'Ա. Մելքումյան'!E16+'Հ. Զարգարյան'!E16+'Ռ. Ափինյան'!E16+'Ա. Վարդանյան'!E16+'Գ. Պողոսյան'!E16+'Գ. Խանդանյան'!E16+'Մ. Մակյան'!E16+'Ռ. Ներսիսյան'!E16+Կ.Պետրոսյան!E16+'Մ. Մարտիրոսյան'!E16+Ա.Բեկթաշյան!E16+Էդ.Ավետիսյան!E16+Ալ.Սուքոյան!E16 -> 130 | F16: ='Գ. Մազմանյան'!F16+'Ա. Մելքումյան'!F16+'Հ. Զարգարյան'!F16+'Ռ. Ափինյան'!F16+'Ա. Վարդանյան'!F16+'Գ. Պողոսյան'!F16+'Գ. Խանդանյան'!F16+'Մ. Մակյան'!F16+'Ռ. Ներսիսյան'!F16+Կ.Պետրոսյան!F16+'Մ. Մարտիրոսյան'!F16+Ա.Բեկթաշյան!F16+Էդ.Ավետիսյան!F16+Ալ.Սուքոյան!F16 -> 20 | G16: ='Գ. Մազմանյան'!G16+'Ա. Մելքումյան'!G16+'Հ. Զարգարյան'!G16+'Ռ. Ափինյան'!G16+'Ա. Վարդանյան'!G16+'Գ. Պողոսյան'!G16+'Գ. Խանդանյան'!G16+'Մ. Մակյան'!G16+'Ռ. Ներսիսյան'!G16+Կ.Պետրոսյան!G16+'Մ. Մարտիրոսյան'!G16+Ա.Բեկթաշյան!G16+Էդ.Ավետիսյան!G16+Ալ.Սուքոյան!G16 -> 84 | H16: ='Գ. Մազմանյան'!H16+'Ա. Մելքումյան'!H16+'Հ. Զարգարյան'!H16+'Ռ. Ափինյան'!H16+'Ա. Վարդանյան'!H16+'Գ. Պողոսյան'!H16+'Գ. Խանդանյան'!H16+'Մ. Մակյան'!H16+'Ռ. Ներսիսյան'!H16+Կ.Պետրոսյան!H16+'Մ. Մարտիրոսյան'!H16+Ա.Բեկթաշյան!H16+Էդ.Ավետիսյան!H16+Ալ.Սուքոյան!H16 -> 17 | I16: ='Գ. Մազմանյան'!I16+'Ա. Մելքումյան'!I16+'Հ. Զարգարյան'!I16+'Ռ. Ափինյան'!I16+'Ա. Վարդանյան'!I16+'Գ. Պողոսյան'!I16+'Գ. Խանդանյան'!I16+'Մ. Մակյան'!I16+'Ռ. Ներսիսյան'!I16+Կ.Պետրոսյան!I16+'Մ. Մարտիրոսյան'!I16+Ա.Բեկթաշյան!I16+Էդ.Ավետիսյան!I16+Ալ.Սուքոյան!I16 -> 1 | J16: ='Գ. Մազմանյան'!J16+'Ա. Մելքումյան'!J16+'Հ. Զարգարյան'!J16+'Ռ. Ափինյան'!J16+'Ա. Վարդանյան'!J16+'Գ. Պողոսյան'!J16+'Գ. Խանդանյան'!J16+'Մ. Մակյան'!J16+'Ռ. Ներսիսյան'!J16+Կ.Պետրոսյան!J16+'Մ. Մարտիրոսյան'!J16+Ա.Բեկթաշյան!J16+Էդ.Ավետիսյան!J16+Ալ.Սուքոյան!J16 -> 1 | K16: ='Գ. Մազմանյան'!K16+'Ա. Մելքումյան'!K16+'Հ. Զարգարյան'!K16+'Ռ. Ափինյան'!K16+'Ա. Վարդանյան'!K16+'Գ. Պողոսյան'!K16+'Գ. Խանդանյան'!K16+'Մ. Մակյան'!K16+'Ռ. Ներսիսյան'!K16+Կ.Պետրոսյան!K16+'Մ. Մարտիրոսյան'!K16+Ա.Բեկթաշյան!K16+Էդ.Ավետիսյան!K16+Ալ.Սուքոյան!K16 -> 103 | ... R16: ='Գ. Մազմանյան'!R16+'Ա. Մելքումյան'!R16+'Հ. Զարգարյան'!R16+'Ռ. Ափինյան'!R16+'Ա. Վարդանյան'!R16+'Գ. Պողոսյան'!R16+'Գ. Խանդանյան'!R16+'Մ. Մակյան'!R16+'Ռ. Ներսիսյան'!R16+Կ.Պետրոսյան!R16+'Մ. Մարտիրոսյան'!R16+Ա.Բեկթաշյան!R16+Էդ.Ավետիսյան!R16+Ալ.Սուքոյան!R16 -> 13 | T16: =D16+E16 -> 173 | U16: =F16+K16+L16 -> 171 | V16: =K16 -> 103 | W16: =G16+H16+I16+J16 -> 103
A17: 11 | B17: ²½³ïáõÃÛáõÝÇó ½ñÏ»Éáõ Çñ³í³ã³÷áõÃÛ³Ý í»ñ³µ»ñÛ³É µáÕáùÝ»ñáí ·áñÍ»ñ | D17: ='Գ. Մազմանյան'!D17+'Ա. Մելքումյան'!D17+'Հ. Զարգարյան'!D17+'Ռ. Ափինյան'!D17+'Ա. Վարդանյան'!D17+'Գ. Պողոսյան'!D17+'Գ. Խանդանյան'!D17+'Մ. Մակյան'!D17+'Ռ. Ներսիսյան'!D17+Կ.Պետրոսյան!D17+'Մ. Մարտիրոսյան'!D17+Ա.Բեկթաշյան!D17+Էդ.Ավետիսյան!D17+Ալ.Սուքոյան!D17 -> 0 | E17: ='Գ. Մազմանյան'!E17+'Ա. Մելքումյան'!E17+'Հ. Զարգարյան'!E17+'Ռ. Ափինյան'!E17+'Ա. Վարդանյան'!E17+'Գ. Պողոսյան'!E17+'Գ. Խանդանյան'!E17+'Մ. Մակյան'!E17+'Ռ. Ներսիսյան'!E17+Կ.Պետրոսյան!E17+'Մ. Մարտիրոսյան'!E17+Ա.Բեկթաշյան!E17+Էդ.Ավետիսյան!E17+Ալ.Սուքոյան!E17 -> 4 | F17: ='Գ. Մազմանյան'!F17+'Ա. Մելքումյան'!F17+'Հ. Զարգարյան'!F17+'Ռ. Ափինյան'!F17+'Ա. Վարդանյան'!F17+'Գ. Պողոսյան'!F17+'Գ. Խանդանյան'!F17+'Մ. Մակյան'!F17+'Ռ. Ներսիսյան'!F17+Կ.Պետրոսյան!F17+'Մ. Մարտիրոսյան'!F17+Ա.Բեկթաշյան!F17+Էդ.Ավետիսյան!F17+Ալ.Սուքոյան!F17 -> 0 | G17: ='Գ. Մազմանյան'!G17+'Ա. Մելքումյան'!G17+'Հ. Զարգարյան'!G17+'Ռ. Ափինյան'!G17+'Ա. Վարդանյան'!G17+'Գ. Պողոսյան'!G17+'Գ. Խանդանյան'!G17+'Մ. Մակյան'!G17+'Ռ. Ներսիսյան'!G17+Կ.Պետրոսյան!G17+'Մ. Մարտիրոսյան'!G17+Ա.Բեկթաշյան!G17+Էդ.Ավետիսյան!G17+Ալ.Սուքոյան!G17 -> 2 | H17: ='Գ. Մազմանյան'!H17+'Ա. Մելքումյան'!H17+'Հ. Զարգարյան'!H17+'Ռ. Ափինյան'!H17+'Ա. Վարդանյան'!H17+'Գ. Պողոսյան'!H17+'Գ. Խանդանյան'!H17+'Մ. Մակյան'!H17+'Ռ. Ներսիսյան'!H17+Կ.Պետրոսյան!H17+'Մ. Մարտիրոսյան'!H17+Ա.Բեկթաշյան!H17+Էդ.Ավետիսյան!H17+Ալ.Սուքոյան!H17 -> 2 | I17: ='Գ. Մազմանյան'!I17+'Ա. Մելքումյան'!I17+'Հ. Զարգարյան'!I17+'Ռ. Ափինյան'!I17+'Ա. Վարդանյան'!I17+'Գ. Պողոսյան'!I17+'Գ. Խանդանյան'!I17+'Մ. Մակյան'!I17+'Ռ. Ներսիսյան'!I17+Կ.Պետրոսյան!I17+'Մ. Մարտիրոսյան'!I17+Ա.Բեկթաշյան!I17+Էդ.Ավետիսյան!I17+Ալ.Սուքոյան!I17 -> 0 | J17: ='Գ. Մազմանյան'!J17+'Ա. Մելքումյան'!J17+'Հ. Զարգարյան'!J17+'Ռ. Ափինյան'!J17+'Ա. Վարդանյան'!J17+'Գ. Պողոսյան'!J17+'Գ. Խանդանյան'!J17+'Մ. Մակյան'!J17+'Ռ. Ներսիսյան'!J17+Կ.Պետրոսյան!J17+'Մ. Մարտիրոսյան'!J17+Ա.Բեկթաշյան!J17+Էդ.Ավետիսյան!J17+Ալ.Սուքոյան!J17 -> 0 | K17: ='Գ. Մազմանյան'!K17+'Ա. Մելքումյան'!K17+'Հ. Զարգարյան'!K17+'Ռ. Ափինյան'!K17+'Ա. Վարդանյան'!K17+'Գ. Պողոսյան'!K17+'Գ. Խանդանյան'!K17+'Մ. Մակյան'!K17+'Ռ. Ներսիսյան'!K17+Կ.Պետրոսյան!K17+'Մ. Մարտիրոսյան'!K17+Ա.Բեկթաշյան!K17+Էդ.Ավետիսյան!K17+Ալ.Սուքոյան!K17 -> 4 | ... R17: ='Գ. Մազմանյան'!R17+'Ա. Մելքումյան'!R17+'Հ. Զարգարյան'!R17+'Ռ. Ափինյան'!R17+'Ա. Վարդանյան'!R17+'Գ. Պողոսյան'!R17+'Գ. Խանդանյան'!R17+'Մ. Մակյան'!R17+'Ռ. Ներսիսյան'!R17+Կ.Պետրոսյան!R17+'Մ. Մարտիրոսյան'!R17+Ա.Բեկթաշյան!R17+Էդ.Ավետիսյան!R17+Ալ.Սուքոյան!R17 -> 0 | T17: =D17+E17 -> 4 | U17: =F17+K17+L17 -> 4 | V17: =K17 -> 4 | W17: =G17+H17+I17+J17 -> 4
A18: 2. ¸³ï³Ï³Ý ³Ïï»ñÇ ¨ ¹³ï³Ï³Ý Ñ³ÝÓÝ³ñ³ñáõÃÛáõÝÝ»ñÇ Ï³ï³ñÙ³Ý Ñ»ï Ï³åí³Í Ñ³ñó»ñÇ ÉáõÍÙ³Ý áÉáñï
A19: 1 | B19: å³ïÅÇó å³ÛÙ³Ý³Ï³Ý í³Õ³Å³ÙÏ»ï ³½³ï»Éáõ Ù³ëÇÝ ÙÇçÝáñ¹áõÃÛáõÝÝ»ñ | D19: ='Գ. Մազմանյան'!D19+'Ա. Մելքումյան'!D19+'Հ. Զարգարյան'!D19+'Ռ. Ափինյան'!D19+'Ա. Վարդանյան'!D19+'Գ. Պողոսյան'!D19+'Գ. Խանդանյան'!D19+'Մ. Մակյան'!D19+'Ռ. Ներսիսյան'!D19+Կ.Պետրոսյան!D19+'Մ. Մարտիրոսյան'!D19+Ա.Բեկթաշյան!D19+Էդ.Ավետիսյան!D19+Ալ.Սուքոյան!D19 -> 0 | E19: ='Գ. Մազմանյան'!E19+'Ա. Մելքումյան'!E19+'Հ. Զարգարյան'!E19+'Ռ. Ափինյան'!E19+'Ա. Վարդանյան'!E19+'Գ. Պողոսյան'!E19+'Գ. Խանդանյան'!E19+'Մ. Մակյան'!E19+'Ռ. Ներսիսյան'!E19+Կ.Պետրոսյան!E19+'Մ. Մարտիրոսյան'!E19+Ա.Բեկթաշյան!E19+Էդ.Ավետիսյան!E19+Ալ.Սուքոյան!E19 -> 2 | F19: ='Գ. Մազմանյան'!F19+'Ա. Մելքումյան'!F19+'Հ. Զարգարյան'!F19+'Ռ. Ափինյան'!F19+'Ա. Վարդանյան'!F19+'Գ. Պողոսյան'!F19+'Գ. Խանդանյան'!F19+'Մ. Մակյան'!F19+'Ռ. Ներսիսյան'!F19+Կ.Պետրոսյան!F19+'Մ. Մարտիրոսյան'!F19+Ա.Բեկթաշյան!F19+Էդ.Ավետիսյան!F19+Ալ.Սուքոյան!F19 -> 0 | G19: ='Գ. Մազմանյան'!G19+'Ա. Մելքումյան'!G19+'Հ. Զարգարյան'!G19+'Ռ. Ափինյան'!G19+'Ա. Վարդանյան'!G19+'Գ. Պողոսյան'!G19+'Գ. Խանդանյան'!G19+'Մ. Մակյան'!G19+'Ռ. Ներսիսյան'!G19+Կ.Պետրոսյան!G19+'Մ. Մարտիրոսյան'!G19+Ա.Բեկթաշյան!G19+Էդ.Ավետիսյան!G19+Ալ.Սուքոյան!G19 -> 0 | H19: ='Գ. Մազմանյան'!H19+'Ա. Մելքումյան'!H19+'Հ. Զարգարյան'!H19+'Ռ. Ափինյան'!H19+'Ա. Վարդանյան'!H19+'Գ. Պողոսյան'!H19+'Գ. Խանդանյան'!H19+'Մ. Մակյան'!H19+'Ռ. Ներսիսյան'!H19+Կ.Պետրոսյան!H19+'Մ. Մարտիրոսյան'!H19+Ա.Բեկթաշյան!H19+Էդ.Ավետիսյան!H19+Ալ.Սուքոյան!H19 -> 1 | I19: ='Գ. Մազմանյան'!I19+'Ա. Մելքումյան'!I19+'Հ. Զարգարյան'!I19+'Ռ. Ափինյան'!I19+'Ա. Վարդանյան'!I19+'Գ. Պողոսյան'!I19+'Գ. Խանդանյան'!I19+'Մ. Մակյան'!I19+'Ռ. Ներսիսյան'!I19+Կ.Պետրոսյան!I19+'Մ. Մարտիրոսյան'!I19+Ա.Բեկթաշյան!I19+Էդ.Ավետիսյան!I19+Ալ.Սուքոյան!I19 -> 1 | J19: ='Գ. Մազմանյան'!J19+'Ա. Մելքումյան'!J19+'Հ. Զարգարյան'!J19+'Ռ. Ափինյան'!J19+'Ա. Վարդանյան'!J19+'Գ. Պողոսյան'!J19+'Գ. Խանդանյան'!J19+'Մ. Մակյան'!J19+'Ռ. Ներսիսյան'!J19+Կ.Պետրոսյան!J19+'Մ. Մարտիրոսյան'!J19+Ա.Բեկթաշյան!J19+Էդ.Ավետիսյան!J19+Ալ.Սուքոյան!J19 -> 0 | K19: ='Գ. Մազմանյան'!K19+'Ա. Մելքումյան'!K19+'Հ. Զարգարյան'!K19+'Ռ. Ափինյան'!K19+'Ա. Վարդանյան'!K19+'Գ. Պողոսյան'!K19+'Գ. Խանդանյան'!K19+'Մ. Մակյան'!K19+'Ռ. Ներսիսյան'!K19+Կ.Պետրոսյան!K19+'Մ. Մարտիրոսյան'!K19+Ա.Բեկթաշյան!K19+Էդ.Ավետիսյան!K19+Ալ.Սուքոյան!K19 -> 2 | ... R19: ='Գ. Մազմանյան'!R19+'Ա. Մելքումյան'!R19+'Հ. Զարգարյան'!R19+'Ռ. Ափինյան'!R19+'Ա. Վարդանյան'!R19+'Գ. Պողոսյան'!R19+'Գ. Խանդանյան'!R19+'Մ. Մակյան'!R19+'Ռ. Ներսիսյան'!R19+Կ.Պետրոսյան!R19+'Մ. Մարտիրոսյան'!R19+Ա.Բեկթաշյան!R19+Էդ.Ավետիսյան!R19+Ալ.Սուքոյան!R19 -> 0 | S19: ='Մ. Մարտիրոսյան'!S19+'Ա. Մելքումյան'!S19+'Հ. Զարգարյան'!S19+'Ռ. Ափինյան'!S19+'Ա. Վարդանյան'!S19+'Գ. Պողոսյան'!S19+'Գ. Խանդանյան'!S19+'Մ. Մակյան'!S19+'Ռ. Ներսիսյան'!S19+Կ.Պետրոսյան!S19+'Մ. Մարտիրոսյան'!S19+Ա.Բեկթաշյան!S19+Էդ.Ավետիսյան!S19+Ալ.Սուքոյան!S19 -> 0 | T19: =D19+E19 -> 2 | U19: =F19+K19+L19 -> 2 | V19: =K19 -> 2 | W19: =G19+H19+I19+J19 -> 2
A20: 2 | B20: å³ïÇÅÁ ÷á÷áË»Éáõ, Ñ»ï³Ó·»Éáõ ¨ å³ïÅÇó ³½³ï»Éáõ Ù³uÇÝ ÙÇçÝáñ¹áõÃÛáõÝÝ»ñ | D20: ='Գ. Մազմանյան'!D20+'Ա. Մելքումյան'!D20+'Հ. Զարգարյան'!D20+'Ռ. Ափինյան'!D20+'Ա. Վարդանյան'!D20+'Գ. Պողոսյան'!D20+'Գ. Խանդանյան'!D20+'Մ. Մակյան'!D20+'Ռ. Ներսիսյան'!D20+Կ.Պետրոսյան!D20+'Մ. Մարտիրոսյան'!D20+Ա.Բեկթաշյան!D20+Էդ.Ավետիսյան!D20+Ալ.Սուքոյան!D20 -> 2 | E20: ='Գ. Մազմանյան'!E20+'Ա. Մելքումյան'!E20+'Հ. Զարգարյան'!E20+'Ռ. Ափինյան'!E20+'Ա. Վարդանյան'!E20+'Գ. Պողոսյան'!E20+'Գ. Խանդանյան'!E20+'Մ. Մակյան'!E20+'Ռ. Ներսիսյան'!E20+Կ.Պետրոսյան!E20+'Մ. Մարտիրոսյան'!E20+Ա.Բեկթաշյան!E20+Էդ.Ավետիսյան!E20+Ալ.Սուքոյան!E20 -> 50 | F20: ='Գ. Մազմանյան'!F20+'Ա. Մելքումյան'!F20+'Հ. Զարգարյան'!F20+'Ռ. Ափինյան'!F20+'Ա. Վարդանյան'!F20+'Գ. Պողոսյան'!F20+'Գ. Խանդանյան'!F20+'Մ. Մակյան'!F20+'Ռ. Ներսիսյան'!F20+Կ.Պետրոսյան!F20+'Մ. Մարտիրոսյան'!F20+Ա.Բեկթաշյան!F20+Էդ.Ավետիսյան!F20+Ալ.Սուքոյան!F20 -> 4 | G20: ='Գ. Մազմանյան'!G20+'Ա. Մելքումյան'!G20+'Հ. Զարգարյան'!G20+'Ռ. Ափինյան'!G20+'Ա. Վարդանյան'!G20+'Գ. Պողոսյան'!G20+'Գ. Խանդանյան'!G20+'Մ. Մակյան'!G20+'Ռ. Ներսիսյան'!G20+Կ.Պետրոսյան!G20+'Մ. Մարտիրոսյան'!G20+Ա.Բեկթաշյան!G20+Էդ.Ավետիսյան!G20+Ալ.Սուքոյան!G20 -> 4 | H20: ='Գ. Մազմանյան'!H20+'Ա. Մելքումյան'!H20+'Հ. Զարգարյան'!H20+'Ռ. Ափինյան'!H20+'Ա. Վարդանյան'!H20+'Գ. Պողոսյան'!H20+'Գ. Խանդանյան'!H20+'Մ. Մակյան'!H20+'Ռ. Ներսիսյան'!H20+Կ.Պետրոսյան!H20+'Մ. Մարտիրոսյան'!H20+Ա.Բեկթաշյան!H20+Էդ.Ավետիսյան!H20+Ալ.Սուքոյան!H20 -> 20 | I20: ='Գ. Մազմանյան'!I20+'Ա. Մելքումյան'!I20+'Հ. Զարգարյան'!I20+'Ռ. Ափինյան'!I20+'Ա. Վարդանյան'!I20+'Գ. Պողոսյան'!I20+'Գ. Խանդանյան'!I20+'Մ. Մակյան'!I20+'Ռ. Ներսիսյան'!I20+Կ.Պետրոսյան!I20+'Մ. Մարտիրոսյան'!I20+Ա.Բեկթաշյան!I20+Էդ.Ավետիսյան!I20+Ալ.Սուքոյան!I20 -> 5 | J20: ='Գ. Մազմանյան'!J20+'Ա. Մելքումյան'!J20+'Հ. Զարգարյան'!J20+'Ռ. Ափինյան'!J20+'Ա. Վարդանյան'!J20+'Գ. Պողոսյան'!J20+'Գ. Խանդանյան'!J20+'Մ. Մակյան'!J20+'Ռ. Ներսիսյան'!J20+Կ.Պետրոսյան!J20+'Մ. Մարտիրոսյան'!J20+Ա.Բեկթաշյան!J20+Էդ.Ավետիսյան!J20+Ալ.Սուքոյան!J20 -> 2 | K20: ='Գ. Մազմանյան'!K20+'Ա. Մելքումյան'!K20+'Հ. Զարգարյան'!K20+'Ռ. Ափինյան'!K20+'Ա. Վարդանյան'!K20+'Գ. Պողոսյան'!K20+'Գ. Խանդանյան'!K20+'Մ. Մակյան'!K20+'Ռ. Ներսիսյան'!K20+Կ.Պետրոսյան!K20+'Մ. Մարտիրոսյան'!K20+Ա.Բեկթաշյան!K20+Էդ.Ավետիսյան!K20+Ալ.Սուքոյան!K20 -> 31 | ... R20: ='Գ. Մազմանյան'!R20+'Ա. Մելքումյան'!R20+'Հ. Զարգարյան'!R20+'Ռ. Ափինյան'!R20+'Ա. Վարդանյան'!R20+'Գ. Պողոսյան'!R20+'Գ. Խանդանյան'!R20+'Մ. Մակյան'!R20+'Ռ. Ներսիսյան'!R20+Կ.Պետրոսյան!R20+'Մ. Մարտիրոսյան'!R20+Ա.Բեկթաշյան!R20+Էդ.Ավետիսյան!R20+Ալ.Սուքոյան!R20 -> 4 | T20: =D20+E20 -> 52 | U20: =F20+K20+L20 -> 51 | V20: =K20 -> 31 | W20: =G20+H20+I20+J20 -> 31
A21: 3 | B21: Ñ³ñÏ³¹Çñ µáõÅÙ³Ý ï»ë³ÏÇ ÷á÷áËáõÃÛ³Ý Ù³ëÇÝ ÙÇçÝáñ¹áõÃÛáõÝÝ»ñ | D21: ='Գ. Մազմանյան'!D21+'Ա. Մելքումյան'!D21+'Հ. Զարգարյան'!D21+'Ռ. Ափինյան'!D21+'Ա. Վարդանյան'!D21+'Գ. Պողոսյան'!D21+'Գ. Խանդանյան'!D21+'Մ. Մակյան'!D21+'Ռ. Ներսիսյան'!D21+Կ.Պետրոսյան!D21+'Մ. Մարտիրոսյան'!D21+Ա.Բեկթաշյան!D21+Էդ.Ավետիսյան!D21+Ալ.Սուքոյան!D21 -> 0 | E21: ='Գ. Մազմանյան'!E21+'Ա. Մելքումյան'!E21+'Հ. Զարգարյան'!E21+'Ռ. Ափինյան'!E21+'Ա. Վարդանյան'!E21+'Գ. Պողոսյան'!E21+'Գ. Խանդանյան'!E21+'Մ. Մակյան'!E21+'Ռ. Ներսիսյան'!E21+Կ.Պետրոսյան!E21+'Մ. Մարտիրոսյան'!E21+Ա.Բեկթաշյան!E21+Էդ.Ավետիսյան!E21+Ալ.Սուքոյան!E21 -> 32 | F21: ='Գ. Մազմանյան'!F21+'Ա. Մելքումյան'!F21+'Հ. Զարգարյան'!F21+'Ռ. Ափինյան'!F21+'Ա. Վարդանյան'!F21+'Գ. Պողոսյան'!F21+'Գ. Խանդանյան'!F21+'Մ. Մակյան'!F21+'Ռ. Ներսիսյան'!F21+Կ.Պետրոսյան!F21+'Մ. Մարտիրոսյան'!F21+Ա.Բեկթաշյան!F21+Էդ.Ավետիսյան!F21+Ալ.Սուքոյան!F21 -> 2 | G21: ='Գ. Մազմանյան'!G21+'Ա. Մելքումյան'!G21+'Հ. Զարգարյան'!G21+'Ռ. Ափինյան'!G21+'Ա. Վարդանյան'!G21+'Գ. Պողոսյան'!G21+'Գ. Խանդանյան'!G21+'Մ. Մակյան'!G21+'Ռ. Ներսիսյան'!G21+Կ.Պետրոսյան!G21+'Մ. Մարտիրոսյան'!G21+Ա.Բեկթաշյան!G21+Էդ.Ավետիսյան!G21+Ալ.Սուքոյան!G21 -> 1 | H21: ='Գ. Մազմանյան'!H21+'Ա. Մելքումյան'!H21+'Հ. Զարգարյան'!H21+'Ռ. Ափինյան'!H21+'Ա. Վարդանյան'!H21+'Գ. Պողոսյան'!H21+'Գ. Խանդանյան'!H21+'Մ. Մակյան'!H21+'Ռ. Ներսիսյան'!H21+Կ.Պետրոսյան!H21+'Մ. Մարտիրոսյան'!H21+Ա.Բեկթաշյան!H21+Էդ.Ավետիսյան!H21+Ալ.Սուքոյան!H21 -> 28 | I21: ='Գ. Մազմանյան'!I21+'Ա. Մելքումյան'!I21+'Հ. Զարգարյան'!I21+'Ռ. Ափինյան'!I21+'Ա. Վարդանյան'!I21+'Գ. Պողոսյան'!I21+'Գ. Խանդանյան'!I21+'Մ. Մակյան'!I21+'Ռ. Ներսիսյան'!I21+Կ.Պետրոսյան!I21+'Մ. Մարտիրոսյան'!I21+Ա.Բեկթաշյան!I21+Էդ.Ավետիսյան!I21+Ալ.Սուքոյան!I21 -> 0 | J21: ='Գ. Մազմանյան'!J21+'Ա. Մելքումյան'!J21+'Հ. Զարգարյան'!J21+'Ռ. Ափինյան'!J21+'Ա. Վարդանյան'!J21+'Գ. Պողոսյան'!J21+'Գ. Խանդանյան'!J21+'Մ. Մակյան'!J21+'Ռ. Ներսիսյան'!J21+Կ.Պետրոսյան!J21+'Մ. Մարտիրոսյան'!J21+Ա.Բեկթաշյան!J21+Էդ.Ավետիսյան!J21+Ալ.Սուքոյան!J21 -> 0 | K21: ='Գ. Մազմանյան'!K21+'Ա. Մելքումյան'!K21+'Հ. Զարգարյան'!K21+'Ռ. Ափինյան'!K21+'Ա. Վարդանյան'!K21+'Գ. Պողոսյան'!K21+'Գ. Խանդանյան'!K21+'Մ. Մակյան'!K21+'Ռ. Ներսիսյան'!K21+Կ.Պետրոսյան!K21+'Մ. Մարտիրոսյան'!K21+Ա.Բեկթաշյան!K21+Էդ.Ավետիսյան!K21+Ալ.Սուքոյան!K21 -> 29 | ... R21: ='Գ. Մազմանյան'!R21+'Ա. Մելքումյան'!R21+'Հ. Զարգարյան'!R21+'Ռ. Ափինյան'!R21+'Ա. Վարդանյան'!R21+'Գ. Պողոսյան'!R21+'Գ. Խանդանյան'!R21+'Մ. Մակյան'!R21+'Ռ. Ներսիսյան'!R21+Կ.Պետրոսյան!R21+'Մ. Մարտիրոսյան'!R21+Ա.Բեկթաշյան!R21+Էդ.Ավետիսյան!R21+Ալ.Սուքոյան!R21 -> 0 | T21: =D21+E21 -> 32 | U21: =F21+K21+L21 -> 31 | V21: =K21 -> 29 | W21: =G21+H21+I21+J21 -> 29
A22: 4 | B22: ³ÛÉ ÙÇçÝáñ¹áõÃÛáõÝÝ»ñ | D22: ='Գ. Մազմանյան'!D22+'Ա. Մելքումյան'!D22+'Հ. Զարգարյան'!D22+'Ռ. Ափինյան'!D22+'Ա. Վարդանյան'!D22+'Գ. Պողոսյան'!D22+'Գ. Խանդանյան'!D22+'Մ. Մակյան'!D22+'Ռ. Ներսիսյան'!D22+Կ.Պետրոսյան!D22+'Մ. Մարտիրոսյան'!D22+Ա.Բեկթաշյան!D22+Էդ.Ավետիսյան!D22+Ալ.Սուքոյան!D22 -> 7 | E22: ='Գ. Մազմանյան'!E22+'Ա. Մելքումյան'!E22+'Հ. Զարգարյան'!E22+'Ռ. Ափինյան'!E22+'Ա. Վարդանյան'!E22+'Գ. Պողոսյան'!E22+'Գ. Խանդանյան'!E22+'Մ. Մակյան'!E22+'Ռ. Ներսիսյան'!E22+Կ.Պետրոսյան!E22+'Մ. Մարտիրոսյան'!E22+Ա.Բեկթաշյան!E22+Էդ.Ավետիսյան!E22+Ալ.Սուքոյան!E22 -> 53 | F22: ='Գ. Մազմանյան'!F22+'Ա. Մելքումյան'!F22+'Հ. Զարգարյան'!F22+'Ռ. Ափինյան'!F22+'Ա. Վարդանյան'!F22+'Գ. Պողոսյան'!F22+'Գ. Խանդանյան'!F22+'Մ. Մակյան'!F22+'Ռ. Ներսիսյան'!F22+Կ.Պետրոսյան!F22+'Մ. Մարտիրոսյան'!F22+Ա.Բեկթաշյան!F22+Էդ.Ավետիսյան!F22+Ալ.Սուքոյան!F22 -> 6 | G22: ='Գ. Մազմանյան'!G22+'Ա. Մելքումյան'!G22+'Հ. Զարգարյան'!G22+'Ռ. Ափինյան'!G22+'Ա. Վարդանյան'!G22+'Գ. Պողոսյան'!G22+'Գ. Խանդանյան'!G22+'Մ. Մակյան'!G22+'Ռ. Ներսիսյան'!G22+Կ.Պետրոսյան!G22+'Մ. Մարտիրոսյան'!G22+Ա.Բեկթաշյան!G22+Էդ.Ավետիսյան!G22+Ալ.Սուքոյան!G22 -> 17 | H22: ='Գ. Մազմանյան'!H22+'Ա. Մելքումյան'!H22+'Հ. Զարգարյան'!H22+'Ռ. Ափինյան'!H22+'Ա. Վարդանյան'!H22+'Գ. Պողոսյան'!H22+'Գ. Խանդանյան'!H22+'Մ. Մակյան'!H22+'Ռ. Ներսիսյան'!H22+Կ.Պետրոսյան!H22+'Մ. Մարտիրոսյան'!H22+Ա.Բեկթաշյան!H22+Էդ.Ավետիսյան!H22+Ալ.Սուքոյան!H22 -> 20 | I22: ='Գ. Մազմանյան'!I22+'Ա. Մելքումյան'!I22+'Հ. Զարգարյան'!I22+'Ռ. Ափինյան'!I22+'Ա. Վարդանյան'!I22+'Գ. Պողոսյան'!I22+'Գ. Խանդանյան'!I22+'Մ. Մակյան'!I22+'Ռ. Ներսիսյան'!I22+Կ.Պետրոսյան!I22+'Մ. Մարտիրոսյան'!I22+Ա.Բեկթաշյան!I22+Էդ.Ավետիսյան!I22+Ալ.Սուքոյան!I22 -> 1 | J22: ='Գ. Մազմանյան'!J22+'Ա. Մելքումյան'!J22+'Հ. Զարգարյան'!J22+'Ռ. Ափինյան'!J22+'Ա. Վարդանյան'!J22+'Գ. Պողոսյան'!J22+'Գ. Խանդանյան'!J22+'Մ. Մակյան'!J22+'Ռ. Ներսիսյան'!J22+Կ.Պետրոսյան!J22+'Մ. Մարտիրոսյան'!J22+Ա.Բեկթաշյան!J22+Էդ.Ավետիսյան!J22+Ալ.Սուքոյան!J22 -> 5 | K22: ='Գ. Մազմանյան'!K22+'Ա. Մելքումյան'!K22+'Հ. Զարգարյան'!K22+'Ռ. Ափինյան'!K22+'Ա. Վարդանյան'!K22+'Գ. Պողոսյան'!K22+'Գ. Խանդանյան'!K22+'Մ. Մակյան'!K22+'Ռ. Ներսիսյան'!K22+Կ.Պետրոսյան!K22+'Մ. Մարտիրոսյան'!K22+Ա.Բեկթաշյան!K22+Էդ.Ավետիսյան!K22+Ալ.Սուքոյան!K22 -> 43 | ... R22: ='Գ. Մազմանյան'!R22+'Ա. Մելքումյան'!R22+'Հ. Զարգարյան'!R22+'Ռ. Ափինյան'!R22+'Ա. Վարդանյան'!R22+'Գ. Պողոսյան'!R22+'Գ. Խանդանյան'!R22+'Մ. Մակյան'!R22+'Ռ. Ներսիսյան'!R22+Կ.Պետրոսյան!R22+'Մ. Մարտիրոսյան'!R22+Ա.Բեկթաշյան!R22+Էդ.Ավետիսյան!R22+Ալ.Սուքոյան!R22 -> 3 | T22: =D22+E22 -> 60 | U22: =F22+K22+L22 -> 60 | V22: =K22 -> 43 | W22: =G22+H22+I22+J22 -> 43
A23: 5 | B23: ¹³ï³Ï³Ý Ñ³ÝÓÝ³ñ³ñáõÃÛáõÝÝ»ñ | D23: ='Գ. Մազմանյան'!D23+'Ա. Մելքումյան'!D23+'Հ. Զարգարյան'!D23+'Ռ. Ափինյան'!D23+'Ա. Վարդանյան'!D23+'Գ. Պողոսյան'!D23+'Գ. Խանդանյան'!D23+'Մ. Մակյան'!D23+'Ռ. Ներսիսյան'!D23+Կ.Պետրոսյան!D23+'Մ. Մարտիրոսյան'!D23+Ա.Բեկթաշյան!D23+Էդ.Ավետիսյան!D23+Ալ.Սուքոյան!D23 -> 10 | E23: ='Գ. Մազմանյան'!E23+'Ա. Մելքումյան'!E23+'Հ. Զարգարյան'!E23+'Ռ. Ափինյան'!E23+'Ա. Վարդանյան'!E23+'Գ. Պողոսյան'!E23+'Գ. Խանդանյան'!E23+'Մ. Մակյան'!E23+'Ռ. Ներսիսյան'!E23+Կ.Պետրոսյան!E23+'Մ. Մարտիրոսյան'!E23+Ա.Բեկթաշյան!E23+Էդ.Ավետիսյան!E23+Ալ.Սուքոյան!E23 -> 9 | F23: ='Գ. Մազմանյան'!F23+'Ա. Մելքումյան'!F23+'Հ. Զարգարյան'!F23+'Ռ. Ափինյան'!F23+'Ա. Վարդանյան'!F23+'Գ. Պողոսյան'!F23+'Գ. Խանդանյան'!F23+'Մ. Մակյան'!F23+'Ռ. Ներսիսյան'!F23+Կ.Պետրոսյան!F23+'Մ. Մարտիրոսյան'!F23+Ա.Բեկթաշյան!F23+Էդ.Ավետիսյան!F23+Ալ.Սուքոյան!F23 -> 0 | G23: ='Գ. Մազմանյան'!G23+'Ա. Մելքումյան'!G23+'Հ. Զարգարյան'!G23+'Ռ. Ափինյան'!G23+'Ա. Վարդանյան'!G23+'Գ. Պողոսյան'!G23+'Գ. Խանդանյան'!G23+'Մ. Մակյան'!G23+'Ռ. Ներսիսյան'!G23+Կ.Պետրոսյան!G23+'Մ. Մարտիրոսյան'!G23+Ա.Բեկթաշյան!G23+Էդ.Ավետիսյան!G23+Ալ.Սուքոյան!G23 -> 0 | H23: ='Գ. Մազմանյան'!H23+'Ա. Մելքումյան'!H23+'Հ. Զարգարյան'!H23+'Ռ. Ափինյան'!H23+'Ա. Վարդանյան'!H23+'Գ. Պողոսյան'!H23+'Գ. Խանդանյան'!H23+'Մ. Մակյան'!H23+'Ռ. Ներսիսյան'!H23+Կ.Պետրոսյան!H23+'Մ. Մարտիրոսյան'!H23+Ա.Բեկթաշյան!H23+Էդ.Ավետիսյան!H23+Ալ.Սուքոյան!H23 -> 10 | I23: ='Գ. Մազմանյան'!I23+'Ա. Մելքումյան'!I23+'Հ. Զարգարյան'!I23+'Ռ. Ափինյան'!I23+'Ա. Վարդանյան'!I23+'Գ. Պողոսյան'!I23+'Գ. Խանդանյան'!I23+'Մ. Մակյան'!I23+'Ռ. Ներսիսյան'!I23+Կ.Պետրոսյան!I23+'Մ. Մարտիրոսյան'!I23+Ա.Բեկթաշյան!I23+Էդ.Ավետիսյան!I23+Ալ.Սուքոյան!I23 -> 0 | J23: ='Գ. Մազմանյան'!J23+'Ա. Մելքումյան'!J23+'Հ. Զարգարյան'!J23+'Ռ. Ափինյան'!J23+'Ա. Վարդանյան'!J23+'Գ. Պողոսյան'!J23+'Գ. Խանդանյան'!J23+'Մ. Մակյան'!J23+'Ռ. Ներսիսյան'!J23+Կ.Պետրոսյան!J23+'Մ. Մարտիրոսյան'!J23+Ա.Բեկթաշյան!J23+Էդ.Ավետիսյան!J23+Ալ.Սուքոյան!J23 -> 3 | K23: ='Գ. Մազմանյան'!K23+'Ա. Մելքումյան'!K23+'Հ. Զարգարյան'!K23+'Ռ. Ափինյան'!K23+'Ա. Վարդանյան'!K23+'Գ. Պողոսյան'!K23+'Գ. Խանդանյան'!K23+'Մ. Մակյան'!K23+'Ռ. Ներսիսյան'!K23+Կ.Պետրոսյան!K23+'Մ. Մարտիրոսյան'!K23+Ա.Բեկթաշյան!K23+Էդ.Ավետիսյան!K23+Ալ.Սուքոյան!K23 -> 13 | ... R23: ='Գ. Մազմանյան'!R23+'Ա. Մելքումյան'!R23+'Հ. Զարգարյան'!R23+'Ռ. Ափինյան'!R23+'Ա. Վարդանյան'!R23+'Գ. Պողոսյան'!R23+'Գ. Խանդանյան'!R23+'Մ. Մակյան'!R23+'Ռ. Ներսիսյան'!R23+Կ.Պետրոսյան!R23+'Մ. Մարտիրոսյան'!R23+Ա.Բեկթաշյան!R23+Էդ.Ավետիսյան!R23+Ալ.Սուքոյան!R23 -> 0 | T23: =D23+E23 -> 19 | U23: =F23+K23+L23 -> 19 | V23: =K23 -> 13 | W23: =G23+H23+I23+J23 -> 13
A24: ÀÜ¸²ØºÜÀ | D24: ='Գ. Մազմանյան'!D24+'Ա. Մելքումյան'!D24+'Հ. Զարգարյան'!D24+'Ռ. Ափինյան'!D24+'Ա. Վարդանյան'!D24+'Գ. Պողոսյան'!D24+'Գ. Խանդանյան'!D24+'Մ. Մակյան'!D24+'Ռ. Ներսիսյան'!D24+Կ.Պետրոսյան!D24+'Մ. Մարտիրոսյան'!D24+Ա.Բեկթաշյան!D24+Էդ.Ավետիսյան!D24+Ալ.Սուքոյան!D24 -> 64 | E24: ='Գ. Մազմանյան'!E24+'Ա. Մելքումյան'!E24+'Հ. Զարգարյան'!E24+'Ռ. Ափինյան'!E24+'Ա. Վարդանյան'!E24+'Գ. Պողոսյան'!E24+'Գ. Խանդանյան'!E24+'Մ. Մակյան'!E24+'Ռ. Ներսիսյան'!E24+Կ.Պետրոսյան!E24+'Մ. Մարտիրոսյան'!E24+Ա.Բեկթաշյան!E24+Էդ.Ավետիսյան!E24+Ալ.Սուքոյան!E24 -> 1617 | F24: ='Գ. Մազմանյան'!F24+'Ա. Մելքումյան'!F24+'Հ. Զարգարյան'!F24+'Ռ. Ափինյան'!F24+'Ա. Վարդանյան'!F24+'Գ. Պողոսյան'!F24+'Գ. Խանդանյան'!F24+'Մ. Մակյան'!F24+'Ռ. Ներսիսյան'!F24+Կ.Պետրոսյան!F24+'Մ. Մարտիրոսյան'!F24+Ա.Բեկթաշյան!F24+Էդ.Ավետիսյան!F24+Ալ.Սուքոյան!F24 -> 34 | G24: ='Գ. Մազմանյան'!G24+'Ա. Մելքումյան'!G24+'Հ. Զարգարյան'!G24+'Ռ. Ափինյան'!G24+'Ա. Վարդանյան'!G24+'Գ. Պողոսյան'!G24+'Գ. Խանդանյան'!G24+'Մ. Մակյան'!G24+'Ռ. Ներսիսյան'!G24+Կ.Պետրոսյան!G24+'Մ. Մարտիրոսյան'!G24+Ա.Բեկթաշյան!G24+Էդ.Ավետիսյան!G24+Ալ.Սուքոյան!G24 -> 145 | H24: ='Գ. Մազմանյան'!H24+'Ա. Մելքումյան'!H24+'Հ. Զարգարյան'!H24+'Ռ. Ափինյան'!H24+'Ա. Վարդանյան'!H24+'Գ. Պողոսյան'!H24+'Գ. Խանդանյան'!H24+'Մ. Մակյան'!H24+'Ռ. Ներսիսյան'!H24+Կ.Պետրոսյան!H24+'Մ. Մարտիրոսյան'!H24+Ա.Բեկթաշյան!H24+Էդ.Ավետիսյան!H24+Ալ.Սուքոյան!H24 -> 1381 | I24: ='Գ. Մազմանյան'!I24+'Ա. Մելքումյան'!I24+'Հ. Զարգարյան'!I24+'Ռ. Ափինյան'!I24+'Ա. Վարդանյան'!I24+'Գ. Պողոսյան'!I24+'Գ. Խանդանյան'!I24+'Մ. Մակյան'!I24+'Ռ. Ներսիսյան'!I24+Կ.Պետրոսյան!I24+'Մ. Մարտիրոսյան'!I24+Ա.Բեկթաշյան!I24+Էդ.Ավետիսյան!I24+Ալ.Սուքոյան!I24 -> 22 | J24: ='Գ. Մազմանյան'!J24+'Ա. Մելքումյան'!J24+'Հ. Զարգարյան'!J24+'Ռ. Ափինյան'!J24+'Ա. Վարդանյան'!J24+'Գ. Պողոսյան'!J24+'Գ. Խանդանյան'!J24+'Մ. Մակյան'!J24+'Ռ. Ներսիսյան'!J24+Կ.Պետրոսյան!J24+'Մ. Մարտիրոսյան'!J24+Ա.Բեկթաշյան!J24+Էդ.Ավետիսյան!J24+Ալ.Սուքոյան!J24 -> 13 | K24: ='Գ. Մազմանյան'!K24+'Ա. Մելքումյան'!K24+'Հ. Զարգարյան'!K24+'Ռ. Ափինյան'!K24+'Ա. Վարդանյան'!K24+'Գ. Պողոսյան'!K24+'Գ. Խանդանյան'!K24+'Մ. Մակյան'!K24+'Ռ. Ներսիսյան'!K24+Կ.Պետրոսյան!K24+'Մ. Մարտիրոսյան'!K24+Ա.Բեկթաշյան!K24+Էդ.Ավետիսյան!K24+Ալ.Սուքոյան!K24 -> 1561 | ... R24: ='Գ. Մազմանյան'!R24+'Ա. Մելքումյան'!R24+'Հ. Զարգարյան'!R24+'Ռ. Ափինյան'!R24+'Ա. Վարդանյան'!R24+'Գ. Պողոսյան'!R24+'Գ. Խանդանյան'!R24+'Մ. Մակյան'!R24+'Ռ. Ներսիսյան'!R24+Կ.Պետրոսյան!R24+'Մ. Մարտիրոսյան'!R24+Ա.Բեկթաշյան!R24+Էդ.Ավետիսյան!R24+Ալ.Սուքոյան!R24 -> 72 | T24: =D24+E24 -> 1681 | U24: =F24+K24+L24 -> 1677 | V24: =K24 -> 1561 | W24: =G24+H24+I24+J24 -> 1561

Sheet Մ. Մարտիրոսյան
A1: 2017Ã. 1-ÇÝ ÏÇë³ÙÛ³Ï | D1: Ð²ÞìºîìàôÂÚàôÜ | P1: Ð³í»Éí³Í Ð³Û³ëï³ÝÇ Ð³Ýñ³å»ïáõÃÛ³Ý ¸³ï³ñ³ÝÝ»ñÇ Ý³Ë³·³ÑÝ»ñÇ ËáñÑñ¹Ç 25.08.2017Ã. ÃÇí 35-È áñáßÙ³Ý
A2: ØÇÝã¹³ï³Ï³Ý í³ñáõÛÃÇ ÝÏ³ïÙ³Ùµ ¹³ï³Ï³Ý í»ñ³ÑëÏáÕáõÃÛ³Ý, ¹³ï³Ï³Ý ³Ïï»ñÇ ¨ ¹³ï³Ï³Ý Ñ³ÝÓÝ³ñ³ñáõÃÛáõÝÝ»ñÇ Ï³ï³ñÙ³Ý Ñ»ï Ï³åí³Í ÙÇçÝáñ¹áõÃÛáõÝÝ»ñÇ í»ñ³µ»ñÛ³É ¹³ï³Ï³Ý ·áñÍ»ñáí ºñ¨³Ý ù³Õ³ùÇ Î»ÝïñáÝ ¨ Üáñù-Ø³ñ³ß í³ñã³Ï³Ý ßñç³ÝÝ»ñÇ ÁÝ¹Ñ³Ýáõñ Çñ³í³ëáõÃÛ³Ý ³é³çÇÝ ³ïÛ³ÝÇ ¹³ï³ñ³ÝÇ ¹³ï³íáñ Մ. Մարտիրոսյանի ·áñÍáõÝ»áõÃÛ³Ý í»ñ³µ»ñÛ³É
D3: Ð³ßí»ïáõ Å³Ù³Ý³Ï³Ñ³ïí³ÍÇ ëÏ½µáõÙ Ý³Ëáñ¹ Ñ³ßí»ïáõ Å³Ù³Ý³Ï³Ñ³ïí³ÍÇó ÷áË³Ýóí³Í ·áñÍ»ñÇ ÁÝ¹Ñ³Ýáõñ ÃÇíÁ | E3: Ð³ßí»ïáõ Å³Ù³Ý³Ï³Ñ³ïí³ÍáõÙ ëï³óí³Í ·áñÍ»ñÇ ÁÝ¹Ñ³Ýáõñ ÃÇíÁ | F3: öáË³Ýóí»É ¿ ³ÛÉ ¹³ï³íáñÇ Ï³Ù ³ÛÉ ¹³ï³ñ³Ý (Ï³½ÙÇ ÷á÷áËáõÃÛáõÝ, ÁÝ¹¹³ïáõÃÛáõÝ) | G3: Ð³ßí»ïáõ Å³Ù³Ý³Ï³Ñ³ïí³ÍáõÙ ³í³ñïí³Í ·áñÍ»ñÇ ÁÝ¹Ñ³Ýáõñ ÃÇíÁ | L3: Ð³ßí»ïáõ Å³Ù³Ý³Ï³Ñ³ïí³ÍáõÙ ³Ý³í³ñï ·áñÍ»ñÇ ÁÝ¹Ñ³Ýáõñ ÃÇíÁ | M3: ØÇçÝáñ¹áõÃÛáõÝÝ»ñáí Ï³Û³óí³Í ¹³ï³Ï³Ý ³Ïï»ñÇó µáÕáù³ñÏí³ÍÝ»ñÇ ù³Ý³ÏÁ | O3: ²Ý³í³ñï µáÕáùÝ»ñ | P3: ØÇçÝáñ¹áõÃÛáõÝÝ»ñáí Ï³Û³óí³Í ¨ µáÕáù³ñÏí³Í ¹³ï³Ï³Ý ³Ïï»ñÇó µ»Ï³Ýí³ÍÝ»ñÇ ù³Ý³ÏÁ | R3: ÙÇçÝáñ¹áõÃÛáõÝÝ»ñáí Ï³Û³óí³Í ¨ µáÕáù³ñÏí³Í ¹³ï³Ï³Ý ³Ïï»ñÇó ³Ý÷á÷áË ÃáÕÝí³ÍÝ»ñÇ ù³Ý³ÏÁ
G4: Ù»ñÅí»É ¿ | H4: µ³í³ñ³ñí»É ¿ | I4: µ³í³ñ³ñí»É ¿ Ù³ëÝ³ÏÇ | J4: ÃáÕÝí»É ¿ ³é³Ýó ùÝÝáõÃÛ³Ý | K4: ÀÝ¹³Ù»ÝÁ
M5: Ý³Ëáñ¹ ï³ñÇÝ»ñÇÝ Ï³Û³óí³Í ³Ïï»ñÇ ¹»Ù | N5: Ñ³ßí»ïáõ Å³Ù³Ý³Ï³ßñç³ÝáõÙ Ï³Û³óí³Í ³Ïï»ñÇ ¹»Ù | P5: Ý³Ëáñ¹ ï³ñÇÝ»ñÇÝ Ï³Û³óí³Í ³Ïï»ñÇ µ»Ï³ÝáõÙÝ»ñÁ | Q5: Ñ³ßí»ïáõ Å³Ù³Ý³Ï³ßñç³ÝáõÙ Ï³Û³óí³Í ³Ïï»ñÇ µ»Ï³ÝáõÙÝ»ñÁ
A6: 1. ØÇÝã¹³ï³Ï³Ý í³ñáõÛÃÇ ÝÏ³ïÙ³Ùµ ¹³ï³Ï³Ý í»ñ³ÑëÏáÕáõÃÛ³Ý áÉáñï | D6: 1 | E6: 2 | F6: 3 | G6: 4 | H6: 5 | I6: 6 | J6: 7 | K6: 8 | L6: 9 | M6: 10 | N6: 11 | O6: 12 | P6: 13 | Q6: 14 | R6: 15 | T6: 1+2=3+8+9 | V6: 8=4+5+6+7
A7: 1 | B7: Ï³É³ÝùÁ áñå»ë Ë³÷³ÝÙ³Ý ÙÇçáó ÏÇñ³é»Éáõ Ù³ëÇÝ ÙÇçÝáñ¹áõÃÛáõÝÝ»ñ | E7: 23 | F7: 1 | G7: 1 | H7: 21 | K7: 22 | N7: 5 | O7: 3 | Q7: 2 | T7: =D7+E7 -> 23 | U7: =F7+K7+L7 -> 23 | V7: =K7 -> 22 | W7: =G7+H7+I7+J7 -> 22
A8: 2 | B8: Ï³É³ÝùÇ Å³ÙÏ»ïÁ »ñÏ³ñ³óÝ»Éáõ Ù³ëÇÝ ÙÇçÝáñ¹áõÃÛáõÝÝ»ñ | D8: 1 | E8: 7 | H8: 7 | I8: 1 | K8: 8 | M8: 2 | N8: 1 | O8: 1 | R8: 2 | T8: =D8+E8 -> 8 | U8: =F8+K8+L8 -> 8 | V8: =K8 -> 8 | W8: =G8+H8+I8+J8 -> 8
A9: 3 | B9: Ï³É³ÝùÇ í»ñ³Ñ³ëï³ïÙ³Ý Ù³ëÇÝ ÙÇçÝáñ¹áõÃÛáõÝÝ»ñ | E9: 1 | H9: 1 | K9: 1 | N9: 1 | R9: 1 | T9: =D9+E9 -> 1 | U9: =F9+K9+L9 -> 1 | V9: =K9 -> 1 | W9: =G9+H9+I9+J9 -> 1
A10: 4 | B10: ·ñ³íÁ áñå»ë Ï³É³Ý³íáñÙ³Ý ³ÛÉÁÝïñ³Ýù³ÛÇÝ Ë³÷³ÝÙ³Ý ÙÇçáó ÏÇñ³é»Éáõ Ù³ëÇÝ ÙÇçÝáñ¹áõÃÛáõÝÝ»ñ | E10: 3 | G10: 3 | K10: 3 | M10: 1 | N10: 1 | O10: 1 | R10: 1 | T10: =D10+E10 -> 3 | U10: =F10+K10+L10 -> 3 | V10: =K10 -> 3 | W10: =G10+H10+I10+J10 -> 3
A11: 5 | B11: Ëáõ½³ñÏáõÃÛ³Ý Ï³ï³ñÙ³Ý Ù³ëÇÝ ÙÇçÝáñ¹áõÃÛáõÝÝ»ñ | E11: 48 | G11: 5 | H11: 43 | K11: 48 | N11: 1 | Q11: 1 | T11: =D11+E11 -> 48 | U11: =F11+K11+L11 -> 48 | V11: =K11 -> 48 | W11: =G11+H11+I11+J11 -> 48
A12: 6 | B12: µ³ÝÏ³ÛÇÝ, ³å³Ñáí³·ñ³Ï³Ý, Ýáï³ñ³Ï³Ý ·³ÕïÝÇù Ï³½ÙáÕ ï»Õ»ÏáõÃÛáõÝÝ»ñÇ ëï³óÙ³Ý Ñ³Ù³ñ Ëáõ½³ñÏáõÃÛ³Ý Ï³Ù ³é·ñ³íÙ³Ý Ï³ï³ñÙ³Ý Ù³ëÇÝ ÙÇçÝáñ¹áõÃÛáõÝÝ»ñ | E12: 14 | H12: 14 | K12: 14 | T12: =D12+E12 -> 14 | U12: =F12+K12+L12 -> 14 | V12: =K12 -> 14 | W12: =G12+H12+I12+J12 -> 14
A13: 7 | B13: Ý³Ù³Ï³·ñáõÃÛ³Ý, Ñ»é³·ñ³Ï³Ý, ÷áuï³ÛÇÝ Ñ³Õáñ¹áõÙÝ»ñÇ ÑëÏáÕáõÃÛ³Ý Ù³ëÇÝ ÙÇçÝáñ¹áõÃÛáõÝÝ»ñ | E13: 5 | H13: 5 | K13: 5 | T13: =D13+E13 -> 5 | U13: =F13+K13+L13 -> 5 | V13: =K13 -> 5 | W13: =G13+H13+I13+J13 -> 5
A14: 8 | B14: Ñ»é³Ëáu³ÛÇÝ Ï³Ù Ï³åÇ ³ÛÉ ÙÇçáóÝ»ñáí ï³ñíáÕ Ëáu³ÏóáõÃÛáõÝÝ»ñÇ ÉuÙ³Ý ¨ Ó³ÛÝ³·ñ³éÙ³Ý Ù³ëÇÝ ÙÇçÝáñ¹áõÃÛáõÝÝ»ñ | E14: 1 | H14: 1 | K14: 1 | T14: =D14+E14 -> 1 | U14: =F14+K14+L14 -> 1 | V14: =K14 -> 1 | W14: =G14+H14+I14+J14 -> 1
A15: 9 | B15: Ñ»é³ËáëÝ»ñÇ Ùáõïù³ÛÇÝ ¨ »Éù³ÛÇÝ í»ñÍ³ÝÙ³Ý ÃáõÛÉïíáõÃÛáõÝ ëï³Ý³Éáõ Ù³ëÇÝ ÙÇçÝáñ¹áõÃÛáõÝÝ»ñ | E15: 73 | G15: 1 | H15: 72 | K15: 73 | T15: =D15+E15 -> 73 | U15: =F15+K15+L15 -> 73 | V15: =K15 -> 73 | W15: =G15+H15+I15+J15 -> 73
A16: 10 | B16: Ñ»ï³ùÝÝáõÃÛ³Ý Ù³ñÙÝÇ ³ßË³ïáÕÇ, ùÝÝÇãÇ, ¹³ï³Ë³½Ç oå»ñ³ïÇí-Ñ»ï³Ëáõ½³Ï³Ý ·áñÍáÕáõÃÛáõÝÝ»ñ Çñ³Ï³Ý³óÝáÕ Ù³ñÙÇÝÝ»ñÇ ³ÝoñÇÝ³Ï³Ý ¨ ³ÝÑÇÙÝ áñáßáõÙÝ»ñÇ ¨ ·áñÍáÕáõÃÛáõÝÝ»ñÇ ¹»Ù µáÕáùÝ»ñ | D16: 5 | E16: 26 | F16: 2 | G16: 25 | H16: 1 | I16: 1 | K16: 27 | L16: 1 | N16: 13 | O16: 12 | R16: 1 | T16: =D16+E16 -> 31 | U16: =F16+K16+L16 -> 30 | V16: =K16 -> 27 | W16: =G16+H16+I16+J16 -> 27
A17: 11 | B17: ²½³ïáõÃÛáõÝÇó ½ñÏ»Éáõ Çñ³í³ã³÷áõÃÛ³Ý í»ñ³µ»ñÛ³É µáÕáùÝ»ñáí ·áñÍ»ñ | T17: =D17+E17 -> 0 | U17: =F17+K17+L17 -> 0 | V17: =K17 -> 0 | W17: =G17+H17+I17+J17 -> 0
A18: 2. ¸³ï³Ï³Ý ³Ïï»ñÇ ¨ ¹³ï³Ï³Ý Ñ³ÝÓÝ³ñ³ñáõÃÛáõÝÝ»ñÇ Ï³ï³ñÙ³Ý Ñ»ï Ï³åí³Í Ñ³ñó»ñÇ ÉáõÍÙ³Ý áÉáñï
A19: 1 | B19: å³ïÅÇó å³ÛÙ³Ý³Ï³Ý í³Õ³Å³ÙÏ»ï ³½³ï»Éáõ Ù³ëÇÝ ÙÇçÝáñ¹áõÃÛáõÝÝ»ñ | E19: 1 | H19: 1 | K19: 1 | T19: =D19+E19 -> 1 | U19: =F19+K19+L19 -> 1 | V19: =K19 -> 1 | W19: =G19+H19+I19+J19 -> 1
A20: 2 | B20: å³ïÇÅÁ ÷á÷áË»Éáõ, Ñ»ï³Ó·»Éáõ ¨ å³ïÅÇó ³½³ï»Éáõ Ù³uÇÝ ÙÇçÝáñ¹áõÃÛáõÝÝ»ñ | E20: 12 | F20: 1 | H20: 3 | I20: 5 | K20: 8 | L20: 3 | M20: 2 | N20: 1 | R20: 3 | T20: =D20+E20 -> 12 | U20: =F20+K20+L20 -> 12 | V20: =K20 -> 8 | W20: =G20+H20+I20+J20 -> 8
A21: 3 | B21: Ñ³ñÏ³¹Çñ µáõÅÙ³Ý ï»ë³ÏÇ ÷á÷áËáõÃÛ³Ý Ù³ëÇÝ ÙÇçÝáñ¹áõÃÛáõÝÝ»ñ | E21: 20 | F21: 1 | G21: 1 | H21: 18 | K21: 19 | T21: =D21+E21 -> 20 | U21: =F21+K21+L21 -> 20 | V21: =K21 -> 19 | W21: =G21+H21+I21+J21 -> 19
A22: 4 | B22: ³ÛÉ ÙÇçÝáñ¹áõÃÛáõÝÝ»ñ | D22: 3 | E22: 15 | F22: 4 | G22: 7 | H22: 3 | J22: 2 | K22: 12 | L22: 2 | M22: 1 | N22: 1 | R22: 2 | T22: =D22+E22 -> 18 | U22: =F22+K22+L22 -> 18 | V22: =K22 -> 12 | W22: =G22+H22+I22+J22 -> 12
A23: 5 | B23: ¹³ï³Ï³Ý Ñ³ÝÓÝ³ñ³ñáõÃÛáõÝÝ»ñ | D23: 1 | L23: 1 | T23: =D23+E23 -> 1 | U23: =F23+K23+L23 -> 1 | V23: =K23 -> 0 | W23: =G23+H23+I23+J23 -> 0
A24: ÀÜ¸²ØºÜÀ | D24: =D7+D8+D9+D10+D11+D12+D13+D14+D15+D17+D19+D20+D21+D22+D23+D16 -> 10 | E24: =E7+E8+E9+E10+E11+E12+E13+E14+E15+E17+E19+E20+E21+E22+E23+E16 -> 249 | F24: =F7+F8+F9+F10+F11+F12+F13+F14+F15+F17+F19+F20+F21+F22+F23+F16 -> 9 | G24: =G7+G8+G9+G10+G11+G12+G13+G14+G15+G17+G19+G20+G21+G22+G23+G16 -> 43 | H24: =H7+H8+H9+H10+H11+H12+H13+H14+H15+H17+H19+H20+H21+H22+H23+H16 -> 190 | I24: =I7+I8+I9+I10+I11+I12+I13+I14+I15+I17+I19+I20+I21+I22+I23+I16 -> 7 | J24: =J7+J8+J9+J10+J11+J12+J13+J14+J15+J17+J19+J20+J21+J22+J23+J16 -> 2 | K24: =K7+K8+K9+K10+K11+K12+K13+K14+K15+K17+K19+K20+K21+K22+K23+K16 -> 242 | ... R24: =R7+R8+R9+R10+R11+R12+R13+R14+R15+R17+R19+R20+R21+R22+R23+R16 -> 10 | T24: =D24+E24 -> 259 | U24: =F24+K24+L24 -> 258 | V24: =K24 -> 242 | W24: =G24+H24+I24+J24 -> 242
C27: 1 գործ միացել է

Sheet Գ. Մազմանյան
A1: 2017Ã. 1-ÇÝ ÏÇë³ÙÛ³Ï | D1: Ð²ÞìºîìàôÂÚàôÜ | P1: Ð³í»Éí³Í Ð³Û³ëï³ÝÇ Ð³Ýñ³å»ïáõÃÛ³Ý ¸³ï³ñ³ÝÝ»ñÇ Ý³Ë³·³ÑÝ»ñÇ ËáñÑñ¹Ç 25.08.2017Ã. ÃÇí 35-È áñáßÙ³Ý
A2: ØÇÝã¹³ï³Ï³Ý í³ñáõÛÃÇ ÝÏ³ïÙ³Ùµ ¹³ï³Ï³Ý í»ñ³ÑëÏáÕáõÃÛ³Ý, ¹³ï³Ï³Ý ³Ïï»ñÇ ¨ ¹³ï³Ï³Ý Ñ³ÝÓÝ³ñ³ñáõÃÛáõÝÝ»ñÇ Ï³ï³ñÙ³Ý Ñ»ï Ï³åí³Í ÙÇçÝáñ¹áõÃÛáõÝÝ»ñÇ í»ñ³µ»ñÛ³É ¹³ï³Ï³Ý ·áñÍ»ñáí ºñ¨³Ý ù³Õ³ùÇ Î»ÝïñáÝ ¨ Üáñù-Ø³ñ³ß í³ñã³Ï³Ý ßñç³ÝÝ»ñÇ ÁÝ¹Ñ³Ýáõñ Çñ³í³ëáõÃÛ³Ý ³é³çÇÝ ³ïÛ³ÝÇ ¹³ï³ñ³ÝÇ ¹³ï³íáñ Գ. Մազմանյանի ·áñÍáõÝ»áõÃÛ³Ý í»ñ³µ»ñÛ³É
D3: Ð³ßí»ïáõ Å³Ù³Ý³Ï³Ñ³ïí³ÍÇ ëÏ½µáõÙ Ý³Ëáñ¹ Ñ³ßí»ïáõ Å³Ù³Ý³Ï³Ñ³ïí³ÍÇó ÷áË³Ýóí³Í ·áñÍ»ñÇ ÁÝ¹Ñ³Ýáõñ ÃÇíÁ | E3: Ð³ßí»ïáõ Å³Ù³Ý³Ï³Ñ³ïí³ÍáõÙ ëï³óí³Í ·áñÍ»ñÇ ÁÝ¹Ñ³Ýáõñ ÃÇíÁ | F3: öáË³Ýóí»É ¿ ³ÛÉ ¹³ï³íáñÇ Ï³Ù ³ÛÉ ¹³ï³ñ³Ý (Ï³½ÙÇ ÷á÷áËáõÃÛáõÝ, ÁÝ¹¹³ïáõÃÛáõÝ) | G3: Ð³ßí»ïáõ Å³Ù³Ý³Ï³Ñ³ïí³ÍáõÙ ³í³ñïí³Í ·áñÍ»ñÇ ÁÝ¹Ñ³Ýáõñ ÃÇíÁ | L3: Ð³ßí»ïáõ Å³Ù³Ý³Ï³Ñ³ïí³ÍáõÙ ³Ý³í³ñï ·áñÍ»ñÇ ÁÝ¹Ñ³Ýáõñ ÃÇíÁ | M3: ØÇçÝáñ¹áõÃÛáõÝÝ»ñáí Ï³Û³óí³Í ¹³ï³Ï³Ý ³Ïï»ñÇó µáÕáù³ñÏí³ÍÝ»ñÇ ù³Ý³ÏÁ | O3: ²Ý³í³ñï µáÕáùÝ»ñ | P3: ØÇçÝáñ¹áõÃÛáõÝÝ»ñáí Ï³Û³óí³Í ¨ µáÕáù³ñÏí³Í ¹³ï³Ï³Ý ³Ïï»ñÇó µ»Ï³Ýí³ÍÝ»ñÇ ù³Ý³ÏÁ | R3: ÙÇçÝáñ¹áõÃÛáõÝÝ»ñáí Ï³Û³óí³Í ¨ µáÕáù³ñÏí³Í ¹³ï³Ï³Ý ³Ïï»ñÇó ³Ý÷á÷áË ÃáÕÝí³ÍÝ»ñÇ ù³Ý³ÏÁ
G4: Ù»ñÅí»É ¿ | H4: µ³í³ñ³ñí»É ¿ | I4: µ³í³ñ³ñí»É ¿ Ù³ëÝ³ÏÇ | J4: ÃáÕÝí»É ¿ ³é³Ýó ùÝÝáõÃÛ³Ý | K4: ÀÝ¹³Ù»ÝÁ
M5: Ý³Ëáñ¹ ï³ñÇÝ»ñÇÝ Ï³Û³óí³Í ³Ïï»ñÇ ¹»Ù | N5: Ñ³ßí»ïáõ Å³Ù³Ý³Ï³ßñç³ÝáõÙ Ï³Û³óí³Í ³Ïï»ñÇ ¹»Ù | P5: Ý³Ëáñ¹ ï³ñÇÝ»ñÇÝ Ï³Û³óí³Í ³Ïï»ñÇ µ»Ï³ÝáõÙÝ»ñÁ | Q5: Ñ³ßí»ïáõ Å³Ù³Ý³Ï³ßñç³ÝáõÙ Ï³Û³óí³Í ³Ïï»ñÇ µ»Ï³ÝáõÙÝ»ñÁ
A6: 1. ØÇÝã¹³ï³Ï³Ý í³ñáõÛÃÇ ÝÏ³ïÙ³Ùµ ¹³ï³Ï³Ý í»ñ³ÑëÏáÕáõÃÛ³Ý áÉáñï | D6: 1 | E6: 2 | F6: 3 | G6: 4 | H6: 5 | I6: 6 | J6: 7 | K6: 8 | L6: 9 | M6: 10 | N6: 11 | O6: 12 | P6: 13 | Q6: 14 | R6: 15 | T6: 1+2=3+8+9 | V6: 8=4+5+6+7
A7: 1 | B7: Ï³É³ÝùÁ áñå»ë Ë³÷³ÝÙ³Ý ÙÇçáó ÏÇñ³é»Éáõ Ù³ëÇÝ ÙÇçÝáñ¹áõÃÛáõÝÝ»ñ | E7: 14 | H7: 13 | K7: 13 | L7: 1 | N7: 5 | O7: 3 | Q7: 1 | R7: 1 | T7: =D7+E7 -> 14 | U7: =F7+K7+L7 -> 14 | V7: =K7 -> 13 | W7: =G7+H7+I7+J7 -> 13
A8: 2 | B8: Ï³É³ÝùÇ Å³ÙÏ»ïÁ »ñÏ³ñ³óÝ»Éáõ Ù³ëÇÝ ÙÇçÝáñ¹áõÃÛáõÝÝ»ñ | E8: 15 | H8: 15 | K8: 15 | N8: 4 | R8: 4 | T8: =D8+E8 -> 15 | U8: =F8+K8+L8 -> 15 | V8: =K8 -> 15 | W8: =G8+H8+I8+J8 -> 15
A9: 3 | B9: Ï³É³ÝùÇ í»ñ³Ñ³ëï³ïÙ³Ý Ù³ëÇÝ ÙÇçÝáñ¹áõÃÛáõÝÝ»ñ | T9: =D9+E9 -> 0 | U9: =F9+K9+L9 -> 0 | V9: =K9 -> 0 | W9: =G9+H9+I9+J9 -> 0
A10: 4 | B10: ·ñ³íÁ áñå»ë Ï³É³Ý³íáñÙ³Ý ³ÛÉÁÝïñ³Ýù³ÛÇÝ Ë³÷³ÝÙ³Ý ÙÇçáó ÏÇñ³é»Éáõ Ù³ëÇÝ ÙÇçÝáñ¹áõÃÛáõÝÝ»ñ | E10: 1 | G10: 1 | K10: 1 | T10: =D10+E10 -> 1 | U10: =F10+K10+L10 -> 1 | V10: =K10 -> 1 | W10: =G10+H10+I10+J10 -> 1
A11: 5 | B11: Ëáõ½³ñÏáõÃÛ³Ý Ï³ï³ñÙ³Ý Ù³ëÇÝ ÙÇçÝáñ¹áõÃÛáõÝÝ»ñ | E11: 53 | G11: 2 | H11: 51 | K11: 53 | N11: 2 | O11: 2 | T11: =D11+E11 -> 53 | U11: =F11+K11+L11 -> 53 | V11: =K11 -> 53 | W11: =G11+H11+I11+J11 -> 53
A12: 6 | B12: µ³ÝÏ³ÛÇÝ, ³å³Ñáí³·ñ³Ï³Ý, Ýáï³ñ³Ï³Ý ·³ÕïÝÇù Ï³½ÙáÕ ï»Õ»ÏáõÃÛáõÝÝ»ñÇ ëï³óÙ³Ý Ñ³Ù³ñ Ëáõ½³ñÏáõÃÛ³Ý Ï³Ù ³é·ñ³íÙ³Ý Ï³ï³ñÙ³Ý Ù³ëÇÝ ÙÇçÝáñ¹áõÃÛáõÝÝ»ñ | E12: 10 | H12: 10 | K12: 10 | T12: =D12+E12 -> 10 | U12: =F12+K12+L12 -> 10 | V12: =K12 -> 10 | W12: =G12+H12+I12+J12 -> 10
A13: 7 | B13: Ý³Ù³Ï³·ñáõÃÛ³Ý, Ñ»é³·ñ³Ï³Ý, ÷áuï³ÛÇÝ Ñ³Õáñ¹áõÙÝ»ñÇ ÑëÏáÕáõÃÛ³Ý Ù³ëÇÝ ÙÇçÝáñ¹áõÃÛáõÝÝ»ñ | E13: 1 | H13: 1 | K13: 1 | T13: =D13+E13 -> 1 | U13: =F13+K13+L13 -> 1 | V13: =K13 -> 1 | W13: =G13+H13+I13+J13 -> 1
A14: 8 | B14: Ñ»é³Ëáu³ÛÇÝ Ï³Ù Ï³åÇ ³ÛÉ ÙÇçáóÝ»ñáí ï³ñíáÕ Ëáu³ÏóáõÃÛáõÝÝ»ñÇ ÉuÙ³Ý ¨ Ó³ÛÝ³·ñ³éÙ³Ý Ù³ëÇÝ ÙÇçÝáñ¹áõÃÛáõÝÝ»ñ | T14: =D14+E14 -> 0 | U14: =F14+K14+L14 -> 0 | V14: =K14 -> 0 | W14: =G14+H14+I14+J14 -> 0
A15: 9 | B15: Ñ»é³ËáëÝ»ñÇ Ùáõïù³ÛÇÝ ¨ »Éù³ÛÇÝ í»ñÍ³ÝÙ³Ý ÃáõÛÉïíáõÃÛáõÝ ëï³Ý³Éáõ Ù³ëÇÝ ÙÇçÝáñ¹áõÃÛáõÝÝ»ñ | E15: 63 | H15: 63 | K15: 63 | T15: =D15+E15 -> 63 | U15: =F15+K15+L15 -> 63 | V15: =K15 -> 63 | W15: =G15+H15+I15+J15 -> 63
A16: 10 | B16: Ñ»ï³ùÝÝáõÃÛ³Ý Ù³ñÙÝÇ ³ßË³ïáÕÇ, ùÝÝÇãÇ, ¹³ï³Ë³½Ç oå»ñ³ïÇí-Ñ»ï³Ëáõ½³Ï³Ý ·áñÍáÕáõÃÛáõÝÝ»ñ Çñ³Ï³Ý³óÝáÕ Ù³ñÙÇÝÝ»ñÇ ³ÝoñÇÝ³Ï³Ý ¨ ³ÝÑÇÙÝ áñáßáõÙÝ»ñÇ ¨ ·áñÍáÕáõÃÛáõÝÝ»ñÇ ¹»Ù µáÕáùÝ»ñ | T16: =D16+E16 -> 0 | U16: =F16+K16+L16 -> 0 | V16: =K16 -> 0 | W16: =G16+H16+I16+J16 -> 0
A17: 11 | B17: ²½³ïáõÃÛáõÝÇó ½ñÏ»Éáõ Çñ³í³ã³÷áõÃÛ³Ý í»ñ³µ»ñÛ³É µáÕáùÝ»ñáí ·áñÍ»ñ | E17: 1 | G17: 1 | K17: 1 | T17: =D17+E17 -> 1 | U17: =F17+K17+L17 -> 1 | V17: =K17 -> 1 | W17: =G17+H17+I17+J17 -> 1
A18: 2. ¸³ï³Ï³Ý ³Ïï»ñÇ ¨ ¹³ï³Ï³Ý Ñ³ÝÓÝ³ñ³ñáõÃÛáõÝÝ»ñÇ Ï³ï³ñÙ³Ý Ñ»ï Ï³åí³Í Ñ³ñó»ñÇ ÉáõÍÙ³Ý áÉáñï
A19: 1 | B19: å³ïÅÇó å³ÛÙ³Ý³Ï³Ý í³Õ³Å³ÙÏ»ï ³½³ï»Éáõ Ù³ëÇÝ ÙÇçÝáñ¹áõÃÛáõÝÝ»ñ | T19: =D19+E19 -> 0 | U19: =F19+K19+L19 -> 0 | V19: =K19 -> 0 | W19: =G19+H19+I19+J19 -> 0
A20: 2 | B20: å³ïÇÅÁ ÷á÷áË»Éáõ, Ñ»ï³Ó·»Éáõ ¨ å³ïÅÇó ³½³ï»Éáõ Ù³uÇÝ ÙÇçÝáñ¹áõÃÛáõÝÝ»ñ | T20: =D20+E20 -> 0 | U20: =F20+K20+L20 -> 0 | V20: =K20 -> 0 | W20: =G20+H20+I20+J20 -> 0
A21: 3 | B21: Ñ³ñÏ³¹Çñ µáõÅÙ³Ý ï»ë³ÏÇ ÷á÷áËáõÃÛ³Ý Ù³ëÇÝ ÙÇçÝáñ¹áõÃÛáõÝÝ»ñ | T21: =D21+E21 -> 0 | U21: =F21+K21+L21 -> 0 | V21: =K21 -> 0 | W21: =G21+H21+I21+J21 -> 0
A22: 4 | B22: ³ÛÉ ÙÇçÝáñ¹áõÃÛáõÝÝ»ñ | E22: 1 | H22: 1 | K22: 1 | T22: =D22+E22 -> 1 | U22: =F22+K22+L22 -> 1 | V22: =K22 -> 1 | W22: =G22+H22+I22+J22 -> 1
A23: 5 | B23: ¹³ï³Ï³Ý Ñ³ÝÓÝ³ñ³ñáõÃÛáõÝÝ»ñ | T23: =D23+E23 -> 0 | U23: =F23+K23+L23 -> 0 | V23: =K23 -> 0 | W23: =G23+H23+I23+J23 -> 0
A24: ÀÜ¸²ØºÜÀ | D24: =D7+D8+D9+D10+D11+D12+D13+D14+D15+D17+D19+D20+D21+D22+D23+D16 -> 0 | E24: =E7+E8+E9+E10+E11+E12+E13+E14+E15+E17+E19+E20+E21+E22+E23+E16 -> 159 | F24: =F7+F8+F9+F10+F11+F12+F13+F14+F15+F17+F19+F20+F21+F22+F23+F16 -> 0 | G24: =G7+G8+G9+G10+G11+G12+G13+G14+G15+G17+G19+G20+G21+G22+G23+G16 -> 4 | H24: =H7+H8+H9+H10+H11+H12+H13+H14+H15+H17+H19+H20+H21+H22+H23+H16 -> 154 | I24: =I7+I8+I9+I10+I11+I12+I13+I14+I15+I17+I19+I20+I21+I22+I23+I16 -> 0 | J24: =J7+J8+J9+J10+J11+J12+J13+J14+J15+J17+J19+J20+J21+J22+J23+J16 -> 0 | K24: =K7+K8+K9+K10+K11+K12+K13+K14+K15+K17+K19+K20+K21+K22+K23+K16 -> 158 | ... R24: =R7+R8+R9+R10+R11+R12+R13+R14+R15+R17+R19+R20+R21+R22+R23+R16 -> 5 | T24: =D24+E24 -> 159 | U24: =F24+K24+L24 -> 159 | V24: =K24 -> 158 | W24: =G24+H24+I24+J24 -> 158

Sheet Ա. Մելքումյան
A1: 2017Ã. 1-ÇÝ ÏÇë³ÙÛ³Ï | D1: Ð²ÞìºîìàôÂÚàôÜ | P1: Ð³í»Éí³Í Ð³Û³ëï³ÝÇ Ð³Ýñ³å»ïáõÃÛ³Ý ¸³ï³ñ³ÝÝ»ñÇ Ý³Ë³·³ÑÝ»ñÇ ËáñÑñ¹Ç 25.08.2017Ã. ÃÇí 35-È áñáßÙ³Ý
A2: ØÇÝã¹³ï³Ï³Ý í³ñáõÛÃÇ ÝÏ³ïÙ³Ùµ ¹³ï³Ï³Ý í»ñ³ÑëÏáÕáõÃÛ³Ý, ¹³ï³Ï³Ý ³Ïï»ñÇ ¨ ¹³ï³Ï³Ý Ñ³ÝÓÝ³ñ³ñáõÃÛáõÝÝ»ñÇ Ï³ï³ñÙ³Ý Ñ»ï Ï³åí³Í ÙÇçÝáñ¹áõÃÛáõÝÝ»ñÇ í»ñ³µ»ñÛ³É ¹³ï³Ï³Ý ·áñÍ»ñáí ºñ¨³Ý ù³Õ³ùÇ Î»ÝïñáÝ ¨ Üáñù-Ø³ñ³ß í³ñã³Ï³Ý ßñç³ÝÝ»ñÇ ÁÝ¹Ñ³Ýáõñ Çñ³í³ëáõÃÛ³Ý ³é³çÇÝ ³ïÛ³ÝÇ ¹³ï³ñ³ÝÇ ¹³ï³íáñ Ա. Մելքումյանի ·áñÍáõÝ»áõÃÛ³Ý í»ñ³µ»ñÛ³É
D3: Ð³ßí»ïáõ Å³Ù³Ý³Ï³Ñ³ïí³ÍÇ ëÏ½µáõÙ Ý³Ëáñ¹ Ñ³ßí»ïáõ Å³Ù³Ý³Ï³Ñ³ïí³ÍÇó ÷áË³Ýóí³Í ·áñÍ»ñÇ ÁÝ¹Ñ³Ýáõñ ÃÇíÁ | E3: Ð³ßí»ïáõ Å³Ù³Ý³Ï³Ñ³ïí³ÍáõÙ ëï³óí³Í ·áñÍ»ñÇ ÁÝ¹Ñ³Ýáõñ ÃÇíÁ | F3: öáË³Ýóí»É ¿ ³ÛÉ ¹³ï³íáñÇ Ï³Ù ³ÛÉ ¹³ï³ñ³Ý (Ï³½ÙÇ ÷á÷áËáõÃÛáõÝ, ÁÝ¹¹³ïáõÃÛáõÝ) | G3: Ð³ßí»ïáõ Å³Ù³Ý³Ï³Ñ³ïí³ÍáõÙ ³í³ñïí³Í ·áñÍ»ñÇ ÁÝ¹Ñ³Ýáõñ ÃÇíÁ | L3: Ð³ßí»ïáõ Å³Ù³Ý³Ï³Ñ³ïí³ÍáõÙ ³Ý³í³ñï ·áñÍ»ñÇ ÁÝ¹Ñ³Ýáõñ ÃÇíÁ | M3: ØÇçÝáñ¹áõÃÛáõÝÝ»ñáí Ï³Û³óí³Í ¹³ï³Ï³Ý ³Ïï»ñÇó µáÕáù³ñÏí³ÍÝ»ñÇ ù³Ý³ÏÁ | O3: ²Ý³í³ñï µáÕáùÝ»ñ | P3: ØÇçÝáñ¹áõÃÛáõÝÝ»ñáí Ï³Û³óí³Í ¨ µáÕáù³ñÏí³Í ¹³ï³Ï³Ý ³Ïï»ñÇó µ»Ï³Ýí³ÍÝ»ñÇ ù³Ý³ÏÁ | R3: ÙÇçÝáñ¹áõÃÛáõÝÝ»ñáí Ï³Û³óí³Í ¨ µáÕáù³ñÏí³Í ¹³ï³Ï³Ý ³Ïï»ñÇó ³Ý÷á÷áË ÃáÕÝí³ÍÝ»ñÇ ù³Ý³ÏÁ
G4: Ù»ñÅí»É ¿ | H4: µ³í³ñ³ñí»É ¿ | I4: µ³í³ñ³ñí»É ¿ Ù³ëÝ³ÏÇ | J4: ÃáÕÝí»É ¿ ³é³Ýó ùÝÝáõÃÛ³Ý | K4: ÀÝ¹³Ù»ÝÁ
M5: Ý³Ëáñ¹ ï³ñÇÝ»ñÇÝ Ï³Û³óí³Í ³Ïï»ñÇ ¹»Ù | N5: Ñ³ßí»ïáõ Å³Ù³Ý³Ï³ßñç³ÝáõÙ Ï³Û³óí³Í ³Ïï»ñÇ ¹»Ù | P5: Ý³Ëáñ¹ ï³ñÇÝ»ñÇÝ Ï³Û³óí³Í ³Ïï»ñÇ µ»Ï³ÝáõÙÝ»ñÁ | Q5: Ñ³ßí»ïáõ Å³Ù³Ý³Ï³ßñç³ÝáõÙ Ï³Û³óí³Í ³Ïï»ñÇ µ»Ï³ÝáõÙÝ»ñÁ
A6: 1. ØÇÝã¹³ï³Ï³Ý í³ñáõÛÃÇ ÝÏ³ïÙ³Ùµ ¹³ï³Ï³Ý í»ñ³ÑëÏáÕáõÃÛ³Ý áÉáñï | D6: 1 | E6: 2 | F6: 3 | G6: 4 | H6: 5 | I6: 6 | J6: 7 | K6: 8 | L6: 9 | M6: 10 | N6: 11 | O6: 12 | P6: 13 | Q6: 14 | R6: 15 | T6: 1+2=3+8+9 | V6: 8=4+5+6+7
A7: 1 | B7: Ï³É³ÝùÁ áñå»ë Ë³÷³ÝÙ³Ý ÙÇçáó ÏÇñ³é»Éáõ Ù³ëÇÝ ÙÇçÝáñ¹áõÃÛáõÝÝ»ñ | T7: =D7+E7 -> 0 | U7: =F7+K7+L7 -> 0 | V7: =K7 -> 0 | W7: =G7+H7+I7+J7 -> 0
A8: 2 | B8: Ï³É³ÝùÇ Å³ÙÏ»ïÁ »ñÏ³ñ³óÝ»Éáõ Ù³ëÇÝ ÙÇçÝáñ¹áõÃÛáõÝÝ»ñ | T8: =D8+E8 -> 0 | U8: =F8+K8+L8 -> 0 | V8: =K8 -> 0 | W8: =G8+H8+I8+J8 -> 0
A9: 3 | B9: Ï³É³ÝùÇ í»ñ³Ñ³ëï³ïÙ³Ý Ù³ëÇÝ ÙÇçÝáñ¹áõÃÛáõÝÝ»ñ | T9: =D9+E9 -> 0 | U9: =F9+K9+L9 -> 0 | V9: =K9 -> 0 | W9: =G9+H9+I9+J9 -> 0
A10: 4 | B10: ·ñ³íÁ áñå»ë Ï³É³Ý³íáñÙ³Ý ³ÛÉÁÝïñ³Ýù³ÛÇÝ Ë³÷³ÝÙ³Ý ÙÇçáó ÏÇñ³é»Éáõ Ù³ëÇÝ ÙÇçÝáñ¹áõÃÛáõÝÝ»ñ | T10: =D10+E10 -> 0 | U10: =F10+K10+L10 -> 0 | V10: =K10 -> 0 | W10: =G10+H10+I10+J10 -> 0
A11: 5 | B11: Ëáõ½³ñÏáõÃÛ³Ý Ï³ï³ñÙ³Ý Ù³ëÇÝ ÙÇçÝáñ¹áõÃÛáõÝÝ»ñ | T11: =D11+E11 -> 0 | U11: =F11+K11+L11 -> 0 | V11: =K11 -> 0 | W11: =G11+H11+I11+J11 -> 0
A12: 6 | B12: µ³ÝÏ³ÛÇÝ, ³å³Ñáí³·ñ³Ï³Ý, Ýáï³ñ³Ï³Ý ·³ÕïÝÇù Ï³½ÙáÕ ï»Õ»ÏáõÃÛáõÝÝ»ñÇ ëï³óÙ³Ý Ñ³Ù³ñ Ëáõ½³ñÏáõÃÛ³Ý Ï³Ù ³é·ñ³íÙ³Ý Ï³ï³ñÙ³Ý Ù³ëÇÝ ÙÇçÝáñ¹áõÃÛáõÝÝ»ñ | T12: =D12+E12 -> 0 | U12: =F12+K12+L12 -> 0 | V12: =K12 -> 0 | W12: =G12+H12+I12+J12 -> 0
A13: 7 | B13: Ý³Ù³Ï³·ñáõÃÛ³Ý, Ñ»é³·ñ³Ï³Ý, ÷áuï³ÛÇÝ Ñ³Õáñ¹áõÙÝ»ñÇ ÑëÏáÕáõÃÛ³Ý Ù³ëÇÝ ÙÇçÝáñ¹áõÃÛáõÝÝ»ñ | T13: =D13+E13 -> 0 | U13: =F13+K13+L13 -> 0 | V13: =K13 -> 0 | W13: =G13+H13+I13+J13 -> 0
A14: 8 | B14: Ñ»é³Ëáu³ÛÇÝ Ï³Ù Ï³åÇ ³ÛÉ ÙÇçáóÝ»ñáí ï³ñíáÕ Ëáu³ÏóáõÃÛáõÝÝ»ñÇ ÉuÙ³Ý ¨ Ó³ÛÝ³·ñ³éÙ³Ý Ù³ëÇÝ ÙÇçÝáñ¹áõÃÛáõÝÝ»ñ | T14: =D14+E14 -> 0 | U14: =F14+K14+L14 -> 0 | V14: =K14 -> 0 | W14: =G14+H14+I14+J14 -> 0
A15: 9 | B15: Ñ»é³ËáëÝ»ñÇ Ùáõïù³ÛÇÝ ¨ »Éù³ÛÇÝ í»ñÍ³ÝÙ³Ý ÃáõÛÉïíáõÃÛáõÝ ëï³Ý³Éáõ Ù³ëÇÝ ÙÇçÝáñ¹áõÃÛáõÝÝ»ñ | T15: =D15+E15 -> 0 | U15: =F15+K15+L15 -> 0 | V15: =K15 -> 0 | W15: =G15+H15+I15+J15 -> 0
A16: 10 | B16: Ñ»ï³ùÝÝáõÃÛ³Ý Ù³ñÙÝÇ ³ßË³ïáÕÇ, ùÝÝÇãÇ, ¹³ï³Ë³½Ç oå»ñ³ïÇí-Ñ»ï³Ëáõ½³Ï³Ý ·áñÍáÕáõÃÛáõÝÝ»ñ Çñ³Ï³Ý³óÝáÕ Ù³ñÙÇÝÝ»ñÇ ³ÝoñÇÝ³Ï³Ý ¨ ³ÝÑÇÙÝ áñáßáõÙÝ»ñÇ ¨ ·áñÍáÕáõÃÛáõÝÝ»ñÇ ¹»Ù µáÕáùÝ»ñ | T16: =D16+E16 -> 0 | U16: =F16+K16+L16 -> 0 | V16: =K16 -> 0 | W16: =G16+H16+I16+J16 -> 0
A17: 11 | B17: ²½³ïáõÃÛáõÝÇó ½ñÏ»Éáõ Çñ³í³ã³÷áõÃÛ³Ý í»ñ³µ»ñÛ³É µáÕáùÝ»ñáí ·áñÍ»ñ | T17: =D17+E17 -> 0 | U17: =F17+K17+L17 -> 0 | V17: =K17 -> 0 | W17: =G17+H17+I17+J17 -> 0
A18: 2. ¸³ï³Ï³Ý ³Ïï»ñÇ ¨ ¹³ï³Ï³Ý Ñ³ÝÓÝ³ñ³ñáõÃÛáõÝÝ»ñÇ Ï³ï³ñÙ³Ý Ñ»ï Ï³åí³Í Ñ³ñó»ñÇ ÉáõÍÙ³Ý áÉáñï
A19: 1 | B19: å³ïÅÇó å³ÛÙ³Ý³Ï³Ý í³Õ³Å³ÙÏ»ï ³½³ï»Éáõ Ù³ëÇÝ ÙÇçÝáñ¹áõÃÛáõÝÝ»ñ | T19: =D19+E19 -> 0 | U19: =F19+K19+L19 -> 0 | V19: =K19 -> 0 | W19: =G19+H19+I19+J19 -> 0
A20: 2 | B20: å³ïÇÅÁ ÷á÷áË»Éáõ, Ñ»ï³Ó·»Éáõ ¨ å³ïÅÇó ³½³ï»Éáõ Ù³uÇÝ ÙÇçÝáñ¹áõÃÛáõÝÝ»ñ | T20: =D20+E20 -> 0 | U20: =F20+K20+L20 -> 0 | V20: =K20 -> 0 | W20: =G20+H20+I20+J20 -> 0
A21: 3 | B21: Ñ³ñÏ³¹Çñ µáõÅÙ³Ý ï»ë³ÏÇ ÷á÷áËáõÃÛ³Ý Ù³ëÇÝ ÙÇçÝáñ¹áõÃÛáõÝÝ»ñ | T21: =D21+E21 -> 0 | U21: =F21+K21+L21 -> 0 | V21: =K21 -> 0 | W21: =G21+H21+I21+J21 -> 0
A22: 4 | B22: ³ÛÉ ÙÇçÝáñ¹áõÃÛáõÝÝ»ñ | T22: =D22+E22 -> 0 | U22: =F22+K22+L22 -> 0 | V22: =K22 -> 0 | W22: =G22+H22+I22+J22 -> 0
A23: 5 | B23: ¹³ï³Ï³Ý Ñ³ÝÓÝ³ñ³ñáõÃÛáõÝÝ»ñ | D23: 2 | E23: 2 | H23: 1 | J23: 1 | K23: 2 | L23: 2 | T23: =D23+E23 -> 4 | U23: =F23+K23+L23 -> 4 | V23: =K23 -> 2 | W23: =G23+H23+I23+J23 -> 2
A24: ÀÜ¸²ØºÜÀ | D24: =D7+D8+D9+D10+D11+D12+D13+D14+D15+D17+D19+D20+D21+D22+D23+D16 -> 2 | E24: =E7+E8+E9+E10+E11+E12+E13+E14+E15+E17+E19+E20+E21+E22+E23+E16 -> 2 | F24: =F7+F8+F9+F10+F11+F12+F13+F14+F15+F17+F19+F20+F21+F22+F23+F16 -> 0 | G24: =G7+G8+G9+G10+G11+G12+G13+G14+G15+G17+G19+G20+G21+G22+G23+G16 -> 0 | H24: =H7+H8+H9+H10+H11+H12+H13+H14+H15+H17+H19+H20+H21+H22+H23+H16 -> 1 | I24: =I7+I8+I9+I10+I11+I12+I13+I14+I15+I17+I19+I20+I21+I22+I23+I16 -> 0 | J24: =J7+J8+J9+J10+J11+J12+J13+J14+J15+J17+J19+J20+J21+J22+J23+J16 -> 1 | K24: =K7+K8+K9+K10+K11+K12+K13+K14+K15+K17+K19+K20+K21+K22+K23+K16 -> 2 | ... R24: =R7+R8+R9+R10+R11+R12+R13+R14+R15+R17+R19+R20+R21+R22+R23+R16 -> 0 | T24: =D24+E24 -> 4 | U24: =F24+K24+L24 -> 4 | V24: =K24 -> 2 | W24: =G24+H24+I24+J24 -> 2

Sheet Հ. Զարգարյան
A1: 2017Ã. 1-ÇÝ ÏÇë³ÙÛ³Ï | D1: Ð²ÞìºîìàôÂÚàôÜ | P1: Ð³í»Éí³Í Ð³Û³ëï³ÝÇ Ð³Ýñ³å»ïáõÃÛ³Ý ¸³ï³ñ³ÝÝ»ñÇ Ý³Ë³·³ÑÝ»ñÇ ËáñÑñ¹Ç 25.08.2017Ã. ÃÇí 35-È áñáßÙ³Ý
A2: ØÇÝã¹³ï³Ï³Ý í³ñáõÛÃÇ ÝÏ³ïÙ³Ùµ ¹³ï³Ï³Ý í»ñ³ÑëÏáÕáõÃÛ³Ý, ¹³ï³Ï³Ý ³Ïï»ñÇ ¨ ¹³ï³Ï³Ý Ñ³ÝÓÝ³ñ³ñáõÃÛáõÝÝ»ñÇ Ï³ï³ñÙ³Ý Ñ»ï Ï³åí³Í ÙÇçÝáñ¹áõÃÛáõÝÝ»ñÇ í»ñ³µ»ñÛ³É ¹³ï³Ï³Ý ·áñÍ»ñáí ºñ¨³Ý ù³Õ³ùÇ Î»ÝïñáÝ ¨ Üáñù-Ø³ñ³ß í³ñã³Ï³Ý ßñç³ÝÝ»ñÇ ÁÝ¹Ñ³Ýáõñ Çñ³í³ëáõÃÛ³Ý ³é³çÇÝ ³ïÛ³ÝÇ ¹³ï³ñ³ÝÇ ¹³ï³íáñ Հ. Զարգարյանի ·áñÍáõÝ»áõÃÛ³Ý í»ñ³µ»ñÛ³É
D3: Ð³ßí»ïáõ Å³Ù³Ý³Ï³Ñ³ïí³ÍÇ ëÏ½µáõÙ Ý³Ëáñ¹ Ñ³ßí»ïáõ Å³Ù³Ý³Ï³Ñ³ïí³ÍÇó ÷áË³Ýóí³Í ·áñÍ»ñÇ ÁÝ¹Ñ³Ýáõñ ÃÇíÁ | E3: Ð³ßí»ïáõ Å³Ù³Ý³Ï³Ñ³ïí³ÍáõÙ ëï³óí³Í ·áñÍ»ñÇ ÁÝ¹Ñ³Ýáõñ ÃÇíÁ | F3: öáË³Ýóí»É ¿ ³ÛÉ ¹³ï³íáñÇ Ï³Ù ³ÛÉ ¹³ï³ñ³Ý (Ï³½ÙÇ ÷á÷áËáõÃÛáõÝ, ÁÝ¹¹³ïáõÃÛáõÝ) | G3: Ð³ßí»ïáõ Å³Ù³Ý³Ï³Ñ³ïí³ÍáõÙ ³í³ñïí³Í ·áñÍ»ñÇ ÁÝ¹Ñ³Ýáõñ ÃÇíÁ | L3: Ð³ßí»ïáõ Å³Ù³Ý³Ï³Ñ³ïí³ÍáõÙ ³Ý³í³ñï ·áñÍ»ñÇ ÁÝ¹Ñ³Ýáõñ ÃÇíÁ | M3: ØÇçÝáñ¹áõÃÛáõÝÝ»ñáí Ï³Û³óí³Í ¹³ï³Ï³Ý ³Ïï»ñÇó µáÕáù³ñÏí³ÍÝ»ñÇ ù³Ý³ÏÁ | O3: ²Ý³í³ñï µáÕáùÝ»ñ | P3: ØÇçÝáñ¹áõÃÛáõÝÝ»ñáí Ï³Û³óí³Í ¨ µáÕáù³ñÏí³Í ¹³ï³Ï³Ý ³Ïï»ñÇó µ»Ï³Ýí³ÍÝ»ñÇ ù³Ý³ÏÁ | R3: ÙÇçÝáñ¹áõÃÛáõÝÝ»ñáí Ï³Û³óí³Í ¨ µáÕáù³ñÏí³Í ¹³ï³Ï³Ý ³Ïï»ñÇó ³Ý÷á÷áË ÃáÕÝí³ÍÝ»ñÇ ù³Ý³ÏÁ
G4: Ù»ñÅí»É ¿ | H4: µ³í³ñ³ñí»É ¿ | I4: µ³í³ñ³ñí»É ¿ Ù³ëÝ³ÏÇ | J4: ÃáÕÝí»É ¿ ³é³Ýó ùÝÝáõÃÛ³Ý | K4: ÀÝ¹³Ù»ÝÁ
M5: Ý³Ëáñ¹ ï³ñÇÝ»ñÇÝ Ï³Û³óí³Í ³Ïï»ñÇ ¹»Ù | N5: Ñ³ßí»ïáõ Å³Ù³Ý³Ï³ßñç³ÝáõÙ Ï³Û³óí³Í ³Ïï»ñÇ ¹»Ù | P5: Ý³Ëáñ¹ ï³ñÇÝ»ñÇÝ Ï³Û³óí³Í ³Ïï»ñÇ µ»Ï³ÝáõÙÝ»ñÁ | Q5: Ñ³ßí»ïáõ Å³Ù³Ý³Ï³ßñç³ÝáõÙ Ï³Û³óí³Í ³Ïï»ñÇ µ»Ï³ÝáõÙÝ»ñÁ
A6: 1. ØÇÝã¹³ï³Ï³Ý í³ñáõÛÃÇ ÝÏ³ïÙ³Ùµ ¹³ï³Ï³Ý í»ñ³ÑëÏáÕáõÃÛ³Ý áÉáñï | D6: 1 | E6: 2 | F6: 3 | G6: 4 | H6: 5 | I6: 6 | J6: 7 | K6: 8 | L6: 9 | M6: 10 | N6: 11 | O6: 12 | P6: 13 | Q6: 14 | R6: 15 | T6: 1+2=3+8+9 | V6: 8=4+5+6+7
A7: 1 | B7: Ï³É³ÝùÁ áñå»ë Ë³÷³ÝÙ³Ý ÙÇçáó ÏÇñ³é»Éáõ Ù³ëÇÝ ÙÇçÝáñ¹áõÃÛáõÝÝ»ñ | T7: =D7+E7 -> 0 | U7: =F7+K7+L7 -> 0 | V7: =K7 -> 0 | W7: =G7+H7+I7+J7 -> 0
A8: 2 | B8: Ï³É³ÝùÇ Å³ÙÏ»ïÁ »ñÏ³ñ³óÝ»Éáõ Ù³ëÇÝ ÙÇçÝáñ¹áõÃÛáõÝÝ»ñ | T8: =D8+E8 -> 0 | U8: =F8+K8+L8 -> 0 | V8: =K8 -> 0 | W8: =G8+H8+I8+J8 -> 0
A9: 3 | B9: Ï³É³ÝùÇ í»ñ³Ñ³ëï³ïÙ³Ý Ù³ëÇÝ ÙÇçÝáñ¹áõÃÛáõÝÝ»ñ | T9: =D9+E9 -> 0 | U9: =F9+K9+L9 -> 0 | V9: =K9 -> 0 | W9: =G9+H9+I9+J9 -> 0
A10: 4 | B10: ·ñ³íÁ áñå»ë Ï³É³Ý³íáñÙ³Ý ³ÛÉÁÝïñ³Ýù³ÛÇÝ Ë³÷³ÝÙ³Ý ÙÇçáó ÏÇñ³é»Éáõ Ù³ëÇÝ ÙÇçÝáñ¹áõÃÛáõÝÝ»ñ | T10: =D10+E10 -> 0 | U10: =F10+K10+L10 -> 0 | V10: =K10 -> 0 | W10: =G10+H10+I10+J10 -> 0
A11: 5 | B11: Ëáõ½³ñÏáõÃÛ³Ý Ï³ï³ñÙ³Ý Ù³ëÇÝ ÙÇçÝáñ¹áõÃÛáõÝÝ»ñ | T11: =D11+E11 -> 0 | U11: =F11+K11+L11 -> 0 | V11: =K11 -> 0 | W11: =G11+H11+I11+J11 -> 0
A12: 6 | B12: µ³ÝÏ³ÛÇÝ, ³å³Ñáí³·ñ³Ï³Ý, Ýáï³ñ³Ï³Ý ·³ÕïÝÇù Ï³½ÙáÕ ï»Õ»ÏáõÃÛáõÝÝ»ñÇ ëï³óÙ³Ý Ñ³Ù³ñ Ëáõ½³ñÏáõÃÛ³Ý Ï³Ù ³é·ñ³íÙ³Ý Ï³ï³ñÙ³Ý Ù³ëÇÝ ÙÇçÝáñ¹áõÃÛáõÝÝ»ñ | T12: =D12+E12 -> 0 | U12: =F12+K12+L12 -> 0 | V12: =K12 -> 0 | W12: =G12+H12+I12+J12 -> 0
A13: 7 | B13: Ý³Ù³Ï³·ñáõÃÛ³Ý, Ñ»é³·ñ³Ï³Ý, ÷áuï³ÛÇÝ Ñ³Õáñ¹áõÙÝ»ñÇ ÑëÏáÕáõÃÛ³Ý Ù³ëÇÝ ÙÇçÝáñ¹áõÃÛáõÝÝ»ñ | T13: =D13+E13 -> 0 | U13: =F13+K13+L13 -> 0 | V13: =K13 -> 0 | W13: =G13+H13+I13+J13 -> 0
A14: 8 | B14: Ñ»é³Ëáu³ÛÇÝ Ï³Ù Ï³åÇ ³ÛÉ ÙÇçáóÝ»ñáí ï³ñíáÕ Ëáu³ÏóáõÃÛáõÝÝ»ñÇ ÉuÙ³Ý ¨ Ó³ÛÝ³·ñ³éÙ³Ý Ù³ëÇÝ ÙÇçÝáñ¹áõÃÛáõÝÝ»ñ | T14: =D14+E14 -> 0 | U14: =F14+K14+L14 -> 0 | V14: =K14 -> 0 | W14: =G14+H14+I14+J14 -> 0
A15: 9 | B15: Ñ»é³ËáëÝ»ñÇ Ùáõïù³ÛÇÝ ¨ »Éù³ÛÇÝ í»ñÍ³ÝÙ³Ý ÃáõÛÉïíáõÃÛáõÝ ëï³Ý³Éáõ Ù³ëÇÝ ÙÇçÝáñ¹áõÃÛáõÝÝ»ñ | T15: =D15+E15 -> 0 | U15: =F15+K15+L15 -> 0 | V15: =K15 -> 0 | W15: =G15+H15+I15+J15 -> 0
A16: 10 | B16: Ñ»ï³ùÝÝáõÃÛ³Ý Ù³ñÙÝÇ ³ßË³ïáÕÇ, ùÝÝÇãÇ, ¹³ï³Ë³½Ç oå»ñ³ïÇí-Ñ»ï³Ëáõ½³Ï³Ý ·áñÍáÕáõÃÛáõÝÝ»ñ Çñ³Ï³Ý³óÝáÕ Ù³ñÙÇÝÝ»ñÇ ³ÝoñÇÝ³Ï³Ý ¨ ³ÝÑÇÙÝ áñáßáõÙÝ»ñÇ ¨ ·áñÍáÕáõÃÛáõÝÝ»ñÇ ¹»Ù µáÕáùÝ»ñ | T16: =D16+E16 -> 0 | U16: =F16+K16+L16 -> 0 | V16: =K16 -> 0 | W16: =G16+H16+I16+J16 -> 0
A17: 11 | B17: ²½³ïáõÃÛáõÝÇó ½ñÏ»Éáõ Çñ³í³ã³÷áõÃÛ³Ý í»ñ³µ»ñÛ³É µáÕáùÝ»ñáí ·áñÍ»ñ | T17: =D17+E17 -> 0 | U17: =F17+K17+L17 -> 0 | V17: =K17 -> 0 | W17: =G17+H17+I17+J17 -> 0
A18: 2. ¸³ï³Ï³Ý ³Ïï»ñÇ ¨ ¹³ï³Ï³Ý Ñ³ÝÓÝ³ñ³ñáõÃÛáõÝÝ»ñÇ Ï³ï³ñÙ³Ý Ñ»ï Ï³åí³Í Ñ³ñó»ñÇ ÉáõÍÙ³Ý áÉáñï
A19: 1 | B19: å³ïÅÇó å³ÛÙ³Ý³Ï³Ý í³Õ³Å³ÙÏ»ï ³½³ï»Éáõ Ù³ëÇÝ ÙÇçÝáñ¹áõÃÛáõÝÝ»ñ | T19: =D19+E19 -> 0 | U19: =F19+K19+L19 -> 0 | V19: =K19 -> 0 | W19: =G19+H19+I19+J19 -> 0
A20: 2 | B20: å³ïÇÅÁ ÷á÷áË»Éáõ, Ñ»ï³Ó·»Éáõ ¨ å³ïÅÇó ³½³ï»Éáõ Ù³uÇÝ ÙÇçÝáñ¹áõÃÛáõÝÝ»ñ | T20: =D20+E20 -> 0 | U20: =F20+K20+L20 -> 0 | V20: =K20 -> 0 | W20: =G20+H20+I20+J20 -> 0
A21: 3 | B21: Ñ³ñÏ³¹Çñ µáõÅÙ³Ý ï»ë³ÏÇ ÷á÷áËáõÃÛ³Ý Ù³ëÇÝ ÙÇçÝáñ¹áõÃÛáõÝÝ»ñ | T21: =D21+E21 -> 0 | U21: =F21+K21+L21 -> 0 | V21: =K21 -> 0 | W21: =G21+H21+I21+J21 -> 0
A22: 4 | B22: ³ÛÉ ÙÇçÝáñ¹áõÃÛáõÝÝ»ñ | T22: =D22+E22 -> 0 | U22: =F22+K22+L22 -> 0 | V22: =K22 -> 0 | W22: =G22+H22+I22+J22 -> 0
A23: 5 | B23: ¹³ï³Ï³Ý Ñ³ÝÓÝ³ñ³ñáõÃÛáõÝÝ»ñ | D23: 3 | E23: 2 | H23: 3 | J23: 1 | K23: 4 | L23: 1 | T23: =D23+E23 -> 5 | U23: =F23+K23+L23 -> 5 | V23: =K23 -> 4 | W23: =G23+H23+I23+J23 -> 4
A24: ÀÜ¸²ØºÜÀ | D24: =D7+D8+D9+D10+D11+D12+D13+D14+D15+D17+D19+D20+D21+D22+D23+D16 -> 3 | E24: =E7+E8+E9+E10+E11+E12+E13+E14+E15+E17+E19+E20+E21+E22+E23+E16 -> 2 | F24: =F7+F8+F9+F10+F11+F12+F13+F14+F15+F17+F19+F20+F21+F22+F23+F16 -> 0 | G24: =G7+G8+G9+G10+G11+G12+G13+G14+G15+G17+G19+G20+G21+G22+G23+G16 -> 0 | H24: =H7+H8+H9+H10+H11+H12+H13+H14+H15+H17+H19+H20+H21+H22+H23+H16 -> 3 | I24: =I7+I8+I9+I10+I11+I12+I13+I14+I15+I17+I19+I20+I21+I22+I23+I16 -> 0 | J24: =J7+J8+J9+J10+J11+J12+J13+J14+J15+J17+J19+J20+J21+J22+J23+J16 -> 1 | K24: =K7+K8+K9+K10+K11+K12+K13+K14+K15+K17+K19+K20+K21+K22+K23+K16 -> 4 | ... R24: =R7+R8+R9+R10+R11+R12+R13+R14+R15+R17+R19+R20+R21+R22+R23+R16 -> 0 | T24: =D24+E24 -> 5 | U24: =F24+K24+L24 -> 5 | V24: =K24 -> 4 | W24: =G24+H24+I24+J24 -> 4

Sheet Ռ. Ափինյան
A1: 2017Ã. 1-ÇÝ ÏÇë³ÙÛ³Ï | D1: Ð²ÞìºîìàôÂÚàôÜ | P1: Ð³í»Éí³Í Ð³Û³ëï³ÝÇ Ð³Ýñ³å»ïáõÃÛ³Ý ¸³ï³ñ³ÝÝ»ñÇ Ý³Ë³·³ÑÝ»ñÇ ËáñÑñ¹Ç 25.08.2016Ã. ÃÇí 44-È áñáßÙ³Ý
A2: ØÇÝã¹³ï³Ï³Ý í³ñáõÛÃÇ ÝÏ³ïÙ³Ùµ ¹³ï³Ï³Ý í»ñ³ÑëÏáÕáõÃÛ³ÝÁ, ¹³ï³Ï³Ý ³Ïï»ñÇ ¨ ¹³ï³Ï³Ý Ñ³ÝÓÝ³ñ³ñáõÃÛáõÝÝ»ñÇ Ï³ï³ñÙ³Ý Ñ»ï Ï³åí³Í ÙÇçÝáñ¹áõÃÛáõÝÝ»ñÇ í»ñ³µ»ñÛ³É ¹³ï³Ï³Ý ·áñÍ»ñáí ºñ¨³Ý ù³Õ³ùÇ Î»ÝïñáÝ ¨ Üáñù-Ø³ñ³ß í³ñã³Ï³Ý ßñç³ÝÝ»ñÇ ÁÝ¹Ñ³Ýáõñ Çñ³í³ëáõÃÛ³Ý ³é³çÇÝ ³ïÛ³ÝÇ ¹³ï³ñ³ÝÇ ¹³ï³íáñ Ռ. Ափինյանի ·áñÍáõÝ»áõÃÛ³Ý í»ñ³µ»ñÛ³É
A3: êïáõ·Çã Ñ³í³ë³ñáõÙ` 1+2=3+8+9, 8=4+5+6+7, | D3: Ð³ßí»ïáõ Å³Ù³Ý³Ï³Ñ³ïí³ÍÇ ëÏ½µáõÙ Ý³Ëáñ¹ Ñ³ßí»ïáõ Å³Ù³Ý³Ï³Ñ³ïí³ÍÇó ÷áË³Ýóí³Í ·áñÍ»ñÇ ÁÝ¹Ñ³Ýáõñ ÃÇíÁ | E3: Ð³ßí»ïáõ Å³Ù³Ý³Ï³Ñ³ïí³ÍáõÙ ëï³óí³Í ·áñÍ»ñÇ ÁÝ¹Ñ³Ýáõñ ÃÇíÁ | F3: öáË³Ýóí»É ¿ ³ÛÉ ¹³ï³íáñÇ Ï³Ù ³ÛÉ ¹³ï³ñ³Ý (Ï³½ÙÇ ÷á÷áËáõÃÛáõÝ, ÁÝ¹¹³ïáõÃÛáõÝ) | G3: Ð³ßí»ïáõ Å³Ù³Ý³Ï³Ñ³ïí³ÍáõÙ ³í³ñïí³Í ·áñÍ»ñÇ ÁÝ¹Ñ³Ýáõñ ÃÇíÁ | L3: Ð³ßí»ïáõ Å³Ù³Ý³Ï³Ñ³ïí³ÍáõÙ ³Ý³í³ñï ·áñÍ»ñÇ ÁÝ¹Ñ³Ýáõñ ÃÇíÁ | M3: ØÇçÝáñ¹áõÃÛáõÝÝ»ñáí Ï³Û³óí³Í ¹³ï³Ï³Ý ³Ïï»ñÇó µáÕáù³ñÏí³ÍÝ»ñÇ ù³Ý³ÏÁ | O3: ²Ý³í³ñï µáÕáùÝ»ñ | P3: ØÇçÝáñ¹áõÃÛáõÝÝ»ñáí Ï³Û³óí³Í ¨ µáÕáù³ñÏí³Í ¹³ï³Ï³Ý ³Ïï»ñÇó µ»Ï³Ýí³ÍÝ»ñÇ ù³Ý³ÏÁ | R3: ÙÇçÝáñ¹áõÃÛáõÝÝ»ñáí Ï³Û³óí³Í ¨ µáÕáù³ñÏí³Í ¹³ï³Ï³Ý ³Ïï»ñÇó ³Ý÷á÷áË ÃáÕÝí³ÍÝ»ñÇ ù³Ý³ÏÁ
G4: Ù»ñÅí»É ¿ | H4: µ³í³ñ³ñí»É ¿ | I4: µ³í³ñ³ñí»É ¿ Ù³ëÝ³ÏÇ | J4: ÃáÕÝí»É ¿ ³é³Ýó ùÝÝáõÃÛ³Ý | K4: ÀÝ¹³Ù»ÝÁ
M5: Ý³Ëáñ¹ ï³ñÇÝ»ñÇÝ Ï³Û³óí³Í ³Ïï»ñÇ ¹»Ù | N5: Ñ³ßí»ïáõ Å³Ù³Ý³Ï³ßñç³ÝáõÙ Ï³Û³óí³Í ³Ïï»ñÇ ¹»Ù | P5: Ý³Ëáñ¹ ï³ñÇÝ»ñÇÝ Ï³Û³óí³Í ³Ïï»ñÇ µ»Ï³ÝáõÙÝ»ñÁ | Q5: Ñ³ßí»ïáõ Å³Ù³Ý³Ï³ßñç³ÝáõÙ Ï³Û³óí³Í ³Ïï»ñÇ µ»Ï³ÝáõÙÝ»ñÁ
A6: 1. ØÇÝã¹³ï³Ï³Ý í³ñáõÛÃÇ ÝÏ³ïÙ³Ùµ ¹³ï³Ï³Ý í»ñ³ÑëÏáÕáõÃÛ³Ý áÉáñï | D6: 1 | E6: 2 | F6: 3 | G6: 4 | H6: 5 | I6: 6 | J6: 7 | K6: 8 | L6: 9 | M6: 10 | N6: 11 | O6: 12 | P6: 13 | Q6: 14 | R6: 15 | T6: 1+2=3+8+9 | V6: 8=4+5+6+7
A7: 1 | B7: Ï³É³ÝùÁ áñå»ë Ë³÷³ÝÙ³Ý ÙÇçáó ÏÇñ³é»Éáõ Ù³ëÇÝ ÙÇçÝáñ¹áõÃÛáõÝÝ»ñ | T7: =D7+E7 -> 0 | U7: =F7+K7+L7 -> 0 | V7: =K7 -> 0 | W7: =G7+H7+I7+J7 -> 0
A8: 2 | B8: Ï³É³ÝùÇ Å³ÙÏ»ïÁ »ñÏ³ñ³óÝ»Éáõ Ù³ëÇÝ ÙÇçÝáñ¹áõÃÛáõÝÝ»ñ | T8: =D8+E8 -> 0 | U8: =F8+K8+L8 -> 0 | V8: =K8 -> 0 | W8: =G8+H8+I8+J8 -> 0
A9: 3 | B9: Ï³É³ÝùÇ í»ñ³Ñ³ëï³ïÙ³Ý Ù³ëÇÝ ÙÇçÝáñ¹áõÃÛáõÝÝ»ñ | T9: =D9+E9 -> 0 | U9: =F9+K9+L9 -> 0 | V9: =K9 -> 0 | W9: =G9+H9+I9+J9 -> 0
A10: 4 | B10: ·ñ³íÁ áñå»ë Ï³É³Ý³íáñÙ³Ý ³ÛÉÁÝïñ³Ýù³ÛÇÝ Ë³÷³ÝÙ³Ý ÙÇçáó ÏÇñ³é»Éáõ Ù³ëÇÝ ÙÇçÝáñ¹áõÃÛáõÝÝ»ñ | T10: =D10+E10 -> 0 | U10: =F10+K10+L10 -> 0 | V10: =K10 -> 0 | W10: =G10+H10+I10+J10 -> 0
A11: 5 | B11: Ëáõ½³ñÏáõÃÛ³Ý Ï³ï³ñÙ³Ý Ù³ëÇÝ ÙÇçÝáñ¹áõÃÛáõÝÝ»ñ | T11: =D11+E11 -> 0 | U11: =F11+K11+L11 -> 0 | V11: =K11 -> 0 | W11: =G11+H11+I11+J11 -> 0
A12: 6 | B12: µ³ÝÏ³ÛÇÝ, ³å³Ñáí³·ñ³Ï³Ý, Ýáï³ñ³Ï³Ý ·³ÕïÝÇù Ï³½ÙáÕ ï»Õ»ÏáõÃÛáõÝÝ»ñÇ ëï³óÙ³Ý Ñ³Ù³ñ Ëáõ½³ñÏáõÃÛ³Ý Ï³Ù ³é·ñ³íÙ³Ý Ï³ï³ñÙ³Ý Ù³ëÇÝ ÙÇçÝáñ¹áõÃÛáõÝÝ»ñ | T12: =D12+E12 -> 0 | U12: =F12+K12+L12 -> 0 | V12: =K12 -> 0 | W12: =G12+H12+I12+J12 -> 0
A13: 7 | B13: Ý³Ù³Ï³·ñáõÃÛ³Ý, Ñ»é³·ñ³Ï³Ý, ÷áuï³ÛÇÝ Ñ³Õáñ¹áõÙÝ»ñÇ ÑëÏáÕáõÃÛ³Ý Ù³ëÇÝ ÙÇçÝáñ¹áõÃÛáõÝÝ»ñ | T13: =D13+E13 -> 0 | U13: =F13+K13+L13 -> 0 | V13: =K13 -> 0 | W13: =G13+H13+I13+J13 -> 0
A14: 8 | B14: Ñ»é³Ëáu³ÛÇÝ Ï³Ù Ï³åÇ ³ÛÉ ÙÇçáóÝ»ñáí ï³ñíáÕ Ëáu³ÏóáõÃÛáõÝÝ»ñÇ ÉuÙ³Ý ¨ Ó³ÛÝ³·ñ³éÙ³Ý Ù³ëÇÝ ÙÇçÝáñ¹áõÃÛáõÝÝ»ñ | T14: =D14+E14 -> 0 | U14: =F14+K14+L14 -> 0 | V14: =K14 -> 0 | W14: =G14+H14+I14+J14 -> 0
A15: 9 | B15: Ñ»é³ËáëÝ»ñÇ Ùáõïù³ÛÇÝ ¨ »Éù³ÛÇÝ í»ñÍ³ÝÙ³Ý ÃáõÛÉïíáõÃÛáõÝ ëï³Ý³Éáõ Ù³ëÇÝ ÙÇçÝáñ¹áõÃÛáõÝÝ»ñ | T15: =D15+E15 -> 0 | U15: =F15+K15+L15 -> 0 | V15: =K15 -> 0 | W15: =G15+H15+I15+J15 -> 0
A16: 10 | B16: Ñ»ï³ùÝÝáõÃÛ³Ý Ù³ñÙÝÇ ³ßË³ïáÕÇ, ùÝÝÇãÇ, ¹³ï³Ë³½Ç oå»ñ³ïÇí-Ñ»ï³Ëáõ½³Ï³Ý ·áñÍáÕáõÃÛáõÝÝ»ñ Çñ³Ï³Ý³óÝáÕ Ù³ñÙÇÝÝ»ñÇ ³ÝoñÇÝ³Ï³Ý ¨ ³ÝÑÇÙÝ áñáßáõÙÝ»ñÇ ¨ ·áñÍáÕáõÃÛáõÝÝ»ñÇ ¹»Ù µáÕáùÝ»ñ | T16: =D16+E16 -> 0 | U16: =F16+K16+L16 -> 0 | V16: =K16 -> 0 | W16: =G16+H16+I16+J16 -> 0
A17: 11 | B17: ²½³ïáõÃÛáõÝÇó ½ñÏ»Éáõ Çñ³í³ã³÷áõÃÛ³Ý í»ñ³µ»ñÛ³É µáÕáùÝ»ñáí ·áñÍ»ñ | T17: =D17+E17 -> 0 | U17: =F17+K17+L17 -> 0 | V17: =K17 -> 0 | W17: =G17+H17+I17+J17 -> 0
A18: 2. ¸³ï³Ï³Ý ³Ïï»ñÇ ¨ ¹³ï³Ï³Ý Ñ³ÝÓÝ³ñ³ñáõÃÛáõÝÝ»ñÇ Ï³ï³ñÙ³Ý Ñ»ï Ï³åí³Í Ñ³ñó»ñÇ ÉáõÍÙ³Ý áÉáñï
A19: 1 | B19: å³ïÅÇó å³ÛÙ³Ý³Ï³Ý í³Õ³Å³ÙÏ»ï ³½³ï»Éáõ Ù³ëÇÝ ÙÇçÝáñ¹áõÃÛáõÝÝ»ñ | T19: =D19+E19 -> 0 | U19: =F19+K19+L19 -> 0 | V19: =K19 -> 0 | W19: =G19+H19+I19+J19 -> 0
A20: 2 | B20: å³ïÇÅÁ ÷á÷áË»Éáõ, Ñ»ï³Ó·»Éáõ ¨ å³ïÅÇó ³½³ï»Éáõ Ù³uÇÝ ÙÇçÝáñ¹áõÃÛáõÝÝ»ñ | T20: =D20+E20 -> 0 | U20: =F20+K20+L20 -> 0 | V20: =K20 -> 0 | W20: =G20+H20+I20+J20 -> 0
A21: 3 | B21: Ñ³ñÏ³¹Çñ µáõÅÙ³Ý ï»ë³ÏÇ ÷á÷áËáõÃÛ³Ý Ù³ëÇÝ ÙÇçÝáñ¹áõÃÛáõÝÝ»ñ | T21: =D21+E21 -> 0 | U21: =F21+K21+L21 -> 0 | V21: =K21 -> 0 | W21: =G21+H21+I21+J21 -> 0
A22: 4 | B22: ³ÛÉ ÙÇçÝáñ¹áõÃÛáõÝÝ»ñ | T22: =D22+E22 -> 0 | U22: =F22+K22+L22 -> 0 | V22: =K22 -> 0 | W22: =G22+H22+I22+J22 -> 0
A23: 5 | B23: ¹³ï³Ï³Ý Ñ³ÝÓÝ³ñ³ñáõÃÛáõÝÝ»ñ | T23: =D23+E23 -> 0 | U23: =F23+K23+L23 -> 0 | V23: =K23 -> 0 | W23: =G23+H23+I23+J23 -> 0
A24: ÀÜ¸²ØºÜÀ | D24: =D7+D8+D9+D10+D11+D12+D13+D14+D15+D17+D19+D20+D21+D22+D23+D16 -> 0 | E24: =E7+E8+E9+E10+E11+E12+E13+E14+E15+E17+E19+E20+E21+E22+E23+E16 -> 0 | F24: =F7+F8+F9+F10+F11+F12+F13+F14+F15+F17+F19+F20+F21+F22+F23+F16 -> 0 | G24: =G7+G8+G9+G10+G11+G12+G13+G14+G15+G17+G19+G20+G21+G22+G23+G16 -> 0 | H24: =H7+H8+H9+H10+H11+H12+H13+H14+H15+H17+H19+H20+H21+H22+H23+H16 -> 0 | I24: =I7+I8+I9+I10+I11+I12+I13+I14+I15+I17+I19+I20+I21+I22+I23+I16 -> 0 | J24: =J7+J8+J9+J10+J11+J12+J13+J14+J15+J17+J19+J20+J21+J22+J23+J16 -> 0 | K24: =K7+K8+K9+K10+K11+K12+K13+K14+K15+K17+K19+K20+K21+K22+K23+K16 -> 0 | ... R24: =R7+R8+R9+R10+R11+R12+R13+R14+R15+R17+R19+R20+R21+R22+R23+R16 -> 0 | T24: =D24+E24 -> 0 | U24: =F24+K24+L24 -> 0 | V24: =K24 -> 0 | W24: =G24+H24+I24+J24 -> 0

Sheet Ա. Վարդանյան
A1: 2017Ã. 1-ÇÝ ÏÇë³ÙÛ³Ï | D1: Ð²ÞìºîìàôÂÚàôÜ | P1: Ð³í»Éí³Í Ð³Û³ëï³ÝÇ Ð³Ýñ³å»ïáõÃÛ³Ý ¸³ï³ñ³ÝÝ»ñÇ Ý³Ë³·³ÑÝ»ñÇ ËáñÑñ¹Ç 25.08.2017Ã. ÃÇí 35-È áñáßÙ³Ý
A2: ØÇÝã¹³ï³Ï³Ý í³ñáõÛÃÇ ÝÏ³ïÙ³Ùµ ¹³ï³Ï³Ý í»ñ³ÑëÏáÕáõÃÛ³Ý, ¹³ï³Ï³Ý ³Ïï»ñÇ ¨ ¹³ï³Ï³Ý Ñ³ÝÓÝ³ñ³ñáõÃÛáõÝÝ»ñÇ Ï³ï³ñÙ³Ý Ñ»ï Ï³åí³Í ÙÇçÝáñ¹áõÃÛáõÝÝ»ñÇ í»ñ³µ»ñÛ³É ¹³ï³Ï³Ý ·áñÍ»ñáí ºñ¨³Ý ù³Õ³ùÇ Î»ÝïñáÝ ¨ Üáñù-Ø³ñ³ß í³ñã³Ï³Ý ßñç³ÝÝ»ñÇ ÁÝ¹Ñ³Ýáõñ Çñ³í³ëáõÃÛ³Ý ³é³çÇÝ ³ïÛ³ÝÇ ¹³ï³ñ³ÝÇ ¹³ï³íáñ Ա. Վարդանյանի ·áñÍáõÝ»áõÃÛ³Ý í»ñ³µ»ñÛ³É
D3: Ð³ßí»ïáõ Å³Ù³Ý³Ï³Ñ³ïí³ÍÇ ëÏ½µáõÙ Ý³Ëáñ¹ Ñ³ßí»ïáõ Å³Ù³Ý³Ï³Ñ³ïí³ÍÇó ÷áË³Ýóí³Í ·áñÍ»ñÇ ÁÝ¹Ñ³Ýáõñ ÃÇíÁ | E3: Ð³ßí»ïáõ Å³Ù³Ý³Ï³Ñ³ïí³ÍáõÙ ëï³óí³Í ·áñÍ»ñÇ ÁÝ¹Ñ³Ýáõñ ÃÇíÁ | F3: öáË³Ýóí»É ¿ ³ÛÉ ¹³ï³íáñÇ Ï³Ù ³ÛÉ ¹³ï³ñ³Ý (Ï³½ÙÇ ÷á÷áËáõÃÛáõÝ, ÁÝ¹¹³ïáõÃÛáõÝ) | G3: Ð³ßí»ïáõ Å³Ù³Ý³Ï³Ñ³ïí³ÍáõÙ ³í³ñïí³Í ·áñÍ»ñÇ ÁÝ¹Ñ³Ýáõñ ÃÇíÁ | L3: Ð³ßí»ïáõ Å³Ù³Ý³Ï³Ñ³ïí³ÍáõÙ ³Ý³í³ñï ·áñÍ»ñÇ ÁÝ¹Ñ³Ýáõñ ÃÇíÁ | M3: ØÇçÝáñ¹áõÃÛáõÝÝ»ñáí Ï³Û³óí³Í ¹³ï³Ï³Ý ³Ïï»ñÇó µáÕáù³ñÏí³ÍÝ»ñÇ ù³Ý³ÏÁ | O3: ²Ý³í³ñï µáÕáùÝ»ñ | P3: ØÇçÝáñ¹áõÃÛáõÝÝ»ñáí Ï³Û³óí³Í ¨ µáÕáù³ñÏí³Í ¹³ï³Ï³Ý ³Ïï»ñÇó µ»Ï³Ýí³ÍÝ»ñÇ ù³Ý³ÏÁ | R3: ÙÇçÝáñ¹áõÃÛáõÝÝ»ñáí Ï³Û³óí³Í ¨ µáÕáù³ñÏí³Í ¹³ï³Ï³Ý ³Ïï»ñÇó ³Ý÷á÷áË ÃáÕÝí³ÍÝ»ñÇ ù³Ý³ÏÁ
G4: Ù»ñÅí»É ¿ | H4: µ³í³ñ³ñí»É ¿ | I4: µ³í³ñ³ñí»É ¿ Ù³ëÝ³ÏÇ | J4: ÃáÕÝí»É ¿ ³é³Ýó ùÝÝáõÃÛ³Ý | K4: ÀÝ¹³Ù»ÝÁ
M5: Ý³Ëáñ¹ ï³ñÇÝ»ñÇÝ Ï³Û³óí³Í ³Ïï»ñÇ ¹»Ù | N5: Ñ³ßí»ïáõ Å³Ù³Ý³Ï³ßñç³ÝáõÙ Ï³Û³óí³Í ³Ïï»ñÇ ¹»Ù | P5: Ý³Ëáñ¹ ï³ñÇÝ»ñÇÝ Ï³Û³óí³Í ³Ïï»ñÇ µ»Ï³ÝáõÙÝ»ñÁ | Q5: Ñ³ßí»ïáõ Å³Ù³Ý³Ï³ßñç³ÝáõÙ Ï³Û³óí³Í ³Ïï»ñÇ µ»Ï³ÝáõÙÝ»ñÁ
A6: 1. ØÇÝã¹³ï³Ï³Ý í³ñáõÛÃÇ ÝÏ³ïÙ³Ùµ ¹³ï³Ï³Ý í»ñ³ÑëÏáÕáõÃÛ³Ý áÉáñï | D6: 1 | E6: 2 | F6: 3 | G6: 4 | H6: 5 | I6: 6 | J6: 7 | K6: 8 | L6: 9 | M6: 10 | N6: 11 | O6: 12 | P6: 13 | Q6: 14 | R6: 15 | T6: 1+2=3+8+9 | V6: 8=4+5+6+7
A7: 1 | B7: Ï³É³ÝùÁ áñå»ë Ë³÷³ÝÙ³Ý ÙÇçáó ÏÇñ³é»Éáõ Ù³ëÇÝ ÙÇçÝáñ¹áõÃÛáõÝÝ»ñ | E7: 9 | H7: 9 | K7: 9 | N7: 4 | O7: 1 | R7: 3 | T7: =D7+E7 -> 9 | U7: =F7+K7+L7 -> 9 | V7: =K7 -> 9 | W7: =G7+H7+I7+J7 -> 9
A8: 2 | B8: Ï³É³ÝùÇ Å³ÙÏ»ïÁ »ñÏ³ñ³óÝ»Éáõ Ù³ëÇÝ ÙÇçÝáñ¹áõÃÛáõÝÝ»ñ | E8: 8 | H8: 8 | K8: 8 | N8: 3 | O8: 2 | R8: 1 | T8: =D8+E8 -> 8 | U8: =F8+K8+L8 -> 8 | V8: =K8 -> 8 | W8: =G8+H8+I8+J8 -> 8
A9: 3 | B9: Ï³É³ÝùÇ í»ñ³Ñ³ëï³ïÙ³Ý Ù³ëÇÝ ÙÇçÝáñ¹áõÃÛáõÝÝ»ñ | E9: 3 | H9: 3 | K9: 3 | M9: 1 | N9: 3 | O9: 1 | Q9: 1 | R9: 2 | T9: =D9+E9 -> 3 | U9: =F9+K9+L9 -> 3 | V9: =K9 -> 3 | W9: =G9+H9+I9+J9 -> 3
A10: 4 | B10: ·ñ³íÁ áñå»ë Ï³É³Ý³íáñÙ³Ý ³ÛÉÁÝïñ³Ýù³ÛÇÝ Ë³÷³ÝÙ³Ý ÙÇçáó ÏÇñ³é»Éáõ Ù³ëÇÝ ÙÇçÝáñ¹áõÃÛáõÝÝ»ñ | T10: =D10+E10 -> 0 | U10: =F10+K10+L10 -> 0 | V10: =K10 -> 0 | W10: =G10+H10+I10+J10 -> 0
A11: 5 | B11: Ëáõ½³ñÏáõÃÛ³Ý Ï³ï³ñÙ³Ý Ù³ëÇÝ ÙÇçÝáñ¹áõÃÛáõÝÝ»ñ | E11: 23 | G11: 1 | H11: 22 | K11: 23 | N11: 1 | O11: 1 | T11: =D11+E11 -> 23 | U11: =F11+K11+L11 -> 23 | V11: =K11 -> 23 | W11: =G11+H11+I11+J11 -> 23
A12: 6 | B12: µ³ÝÏ³ÛÇÝ, ³å³Ñáí³·ñ³Ï³Ý, Ýáï³ñ³Ï³Ý ·³ÕïÝÇù Ï³½ÙáÕ ï»Õ»ÏáõÃÛáõÝÝ»ñÇ ëï³óÙ³Ý Ñ³Ù³ñ Ëáõ½³ñÏáõÃÛ³Ý Ï³Ù ³é·ñ³íÙ³Ý Ï³ï³ñÙ³Ý Ù³ëÇÝ ÙÇçÝáñ¹áõÃÛáõÝÝ»ñ | E12: 4 | H12: 4 | K12: 4 | T12: =D12+E12 -> 4 | U12: =F12+K12+L12 -> 4 | V12: =K12 -> 4 | W12: =G12+H12+I12+J12 -> 4
A13: 7 | B13: Ý³Ù³Ï³·ñáõÃÛ³Ý, Ñ»é³·ñ³Ï³Ý, ÷áuï³ÛÇÝ Ñ³Õáñ¹áõÙÝ»ñÇ ÑëÏáÕáõÃÛ³Ý Ù³ëÇÝ ÙÇçÝáñ¹áõÃÛáõÝÝ»ñ | E13: 2 | H13: 2 | K13: 2 | T13: =D13+E13 -> 2 | U13: =F13+K13+L13 -> 2 | V13: =K13 -> 2 | W13: =G13+H13+I13+J13 -> 2
A14: 8 | B14: Ñ»é³Ëáu³ÛÇÝ Ï³Ù Ï³åÇ ³ÛÉ ÙÇçáóÝ»ñáí ï³ñíáÕ Ëáu³ÏóáõÃÛáõÝÝ»ñÇ ÉuÙ³Ý ¨ Ó³ÛÝ³·ñ³éÙ³Ý Ù³ëÇÝ ÙÇçÝáñ¹áõÃÛáõÝÝ»ñ | E14: 1 | H14: 1 | K14: 1 | T14: =D14+E14 -> 1 | U14: =F14+K14+L14 -> 1 | V14: =K14 -> 1 | W14: =G14+H14+I14+J14 -> 1
A15: 9 | B15: Ñ»é³ËáëÝ»ñÇ Ùáõïù³ÛÇÝ ¨ »Éù³ÛÇÝ í»ñÍ³ÝÙ³Ý ÃáõÛÉïíáõÃÛáõÝ ëï³Ý³Éáõ Ù³ëÇÝ ÙÇçÝáñ¹áõÃÛáõÝÝ»ñ | E15: 47 | H15: 47 | K15: 47 | T15: =D15+E15 -> 47 | U15: =F15+K15+L15 -> 47 | V15: =K15 -> 47 | W15: =G15+H15+I15+J15 -> 47
A16: 10 | B16: Ñ»ï³ùÝÝáõÃÛ³Ý Ù³ñÙÝÇ ³ßË³ïáÕÇ, ùÝÝÇãÇ, ¹³ï³Ë³½Ç oå»ñ³ïÇí-Ñ»ï³Ëáõ½³Ï³Ý ·áñÍáÕáõÃÛáõÝÝ»ñ Çñ³Ï³Ý³óÝáÕ Ù³ñÙÇÝÝ»ñÇ ³ÝoñÇÝ³Ï³Ý ¨ ³ÝÑÇÙÝ áñáßáõÙÝ»ñÇ ¨ ·áñÍáÕáõÃÛáõÝÝ»ñÇ ¹»Ù µáÕáùÝ»ñ | D16: 4 | E16: 27 | F16: 3 | G16: 18 | H16: 2 | K16: 20 | L16: 8 | M16: 1 | N16: 8 | O16: 4 | R16: 4 | T16: =D16+E16 -> 31 | U16: =F16+K16+L16 -> 31 | V16: =K16 -> 20 | W16: =G16+H16+I16+J16 -> 20
A17: 11 | B17: ²½³ïáõÃÛáõÝÇó ½ñÏ»Éáõ Çñ³í³ã³÷áõÃÛ³Ý í»ñ³µ»ñÛ³É µáÕáùÝ»ñáí ·áñÍ»ñ | T17: =D17+E17 -> 0 | U17: =F17+K17+L17 -> 0 | V17: =K17 -> 0 | W17: =G17+H17+I17+J17 -> 0
A18: 2. ¸³ï³Ï³Ý ³Ïï»ñÇ ¨ ¹³ï³Ï³Ý Ñ³ÝÓÝ³ñ³ñáõÃÛáõÝÝ»ñÇ Ï³ï³ñÙ³Ý Ñ»ï Ï³åí³Í Ñ³ñó»ñÇ ÉáõÍÙ³Ý áÉáñï
A19: 1 | B19: å³ïÅÇó å³ÛÙ³Ý³Ï³Ý í³Õ³Å³ÙÏ»ï ³½³ï»Éáõ Ù³ëÇÝ ÙÇçÝáñ¹áõÃÛáõÝÝ»ñ | E19: 1 | I19: 1 | K19: 1 | T19: =D19+E19 -> 1 | U19: =F19+K19+L19 -> 1 | V19: =K19 -> 1 | W19: =G19+H19+I19+J19 -> 1
A20: 2 | B20: å³ïÇÅÁ ÷á÷áË»Éáõ, Ñ»ï³Ó·»Éáõ ¨ å³ïÅÇó ³½³ï»Éáõ Ù³uÇÝ ÙÇçÝáñ¹áõÃÛáõÝÝ»ñ | E20: 13 | G20: 2 | H20: 7 | K20: 9 | L20: 3 | M20: 1 | N20: 1 | O20: 1 | R20: 1 | T20: =D20+E20 -> 13 | U20: =F20+K20+L20 -> 12 | V20: =K20 -> 9 | W20: =G20+H20+I20+J20 -> 9
A21: 3 | B21: Ñ³ñÏ³¹Çñ µáõÅÙ³Ý ï»ë³ÏÇ ÷á÷áËáõÃÛ³Ý Ù³ëÇÝ ÙÇçÝáñ¹áõÃÛáõÝÝ»ñ | E21: 12 | F21: 1 | H21: 10 | K21: 10 | O21: 1 | T21: =D21+E21 -> 12 | U21: =F21+K21+L21 -> 11 | V21: =K21 -> 10 | W21: =G21+H21+I21+J21 -> 10
A22: 4 | B22: ³ÛÉ ÙÇçÝáñ¹áõÃÛáõÝÝ»ñ | D22: 2 | E22: 2 | H22: 4 | K22: 4 | T22: =D22+E22 -> 4 | U22: =F22+K22+L22 -> 4 | V22: =K22 -> 4 | W22: =G22+H22+I22+J22 -> 4
A23: 5 | B23: ¹³ï³Ï³Ý Ñ³ÝÓÝ³ñ³ñáõÃÛáõÝÝ»ñ | E23: 1 | L23: 1 | T23: =D23+E23 -> 1 | U23: =F23+K23+L23 -> 1 | V23: =K23 -> 0 | W23: =G23+H23+I23+J23 -> 0
A24: ÀÜ¸²ØºÜÀ | D24: =D7+D8+D9+D10+D11+D12+D13+D14+D15+D17+D19+D20+D21+D22+D23+D16 -> 6 | E24: =E7+E8+E9+E10+E11+E12+E13+E14+E15+E17+E19+E20+E21+E22+E23+E16 -> 153 | F24: =F7+F8+F9+F10+F11+F12+F13+F14+F15+F17+F19+F20+F21+F22+F23+F16 -> 4 | G24: =G7+G8+G9+G10+G11+G12+G13+G14+G15+G17+G19+G20+G21+G22+G23+G16 -> 21 | H24: =H7+H8+H9+H10+H11+H12+H13+H14+H15+H17+H19+H20+H21+H22+H23+H16 -> 119 | I24: =I7+I8+I9+I10+I11+I12+I13+I14+I15+I17+I19+I20+I21+I22+I23+I16 -> 1 | J24: =J7+J8+J9+J10+J11+J12+J13+J14+J15+J17+J19+J20+J21+J22+J23+J16 -> 0 | K24: =K7+K8+K9+K10+K11+K12+K13+K14+K15+K17+K19+K20+K21+K22+K23+K16 -> 141 | ... R24: =R7+R8+R9+R10+R11+R12+R13+R14+R15+R17+R19+R20+R21+R22+R23+R16 -> 11 | T24: =D24+E24 -> 159 | U24: =F24+K24+L24 -> 157 | V24: =K24 -> 141 | W24: =G24+H24+I24+J24 -> 141
B26: 2 գործ միացվել է

Sheet Գ. Պողոսյան
A1: 2017Ã. 1-ÇÝ ÏÇë³ÙÛ³Ï | D1: Ð²ÞìºîìàôÂÚàôÜ | P1: Ð³í»Éí³Í Ð³Û³ëï³ÝÇ Ð³Ýñ³å»ïáõÃÛ³Ý ¸³ï³ñ³ÝÝ»ñÇ Ý³Ë³·³ÑÝ»ñÇ ËáñÑñ¹Ç 25.08.2017Ã. ÃÇí 35-È áñáßÙ³Ý
A2: ØÇÝã¹³ï³Ï³Ý í³ñáõÛÃÇ ÝÏ³ïÙ³Ùµ ¹³ï³Ï³Ý í»ñ³ÑëÏáÕáõÃÛ³Ý, ¹³ï³Ï³Ý ³Ïï»ñÇ ¨ ¹³ï³Ï³Ý Ñ³ÝÓÝ³ñ³ñáõÃÛáõÝÝ»ñÇ Ï³ï³ñÙ³Ý Ñ»ï Ï³åí³Í ÙÇçÝáñ¹áõÃÛáõÝÝ»ñÇ í»ñ³µ»ñÛ³É ¹³ï³Ï³Ý ·áñÍ»ñáí ºñ¨³Ý ù³Õ³ùÇ Î»ÝïñáÝ ¨ Üáñù-Ø³ñ³ß í³ñã³Ï³Ý ßñç³ÝÝ»ñÇ ÁÝ¹Ñ³Ýáõñ Çñ³í³ëáõÃÛ³Ý ³é³çÇÝ ³ïÛ³ÝÇ ¹³ï³ñ³ÝÇ ¹³ï³íáñ Գ. Պողոսյանի ·áñÍáõÝ»áõÃÛ³Ý í»ñ³µ»ñÛ³É
D3: Ð³ßí»ïáõ Å³Ù³Ý³Ï³Ñ³ïí³ÍÇ ëÏ½µáõÙ Ý³Ëáñ¹ Ñ³ßí»ïáõ Å³Ù³Ý³Ï³Ñ³ïí³ÍÇó ÷áË³Ýóí³Í ·áñÍ»ñÇ ÁÝ¹Ñ³Ýáõñ ÃÇíÁ | E3: Ð³ßí»ïáõ Å³Ù³Ý³Ï³Ñ³ïí³ÍáõÙ ëï³óí³Í ·áñÍ»ñÇ ÁÝ¹Ñ³Ýáõñ ÃÇíÁ | F3: öáË³Ýóí»É ¿ ³ÛÉ ¹³ï³íáñÇ Ï³Ù ³ÛÉ ¹³ï³ñ³Ý (Ï³½ÙÇ ÷á÷áËáõÃÛáõÝ, ÁÝ¹¹³ïáõÃÛáõÝ) | G3: Ð³ßí»ïáõ Å³Ù³Ý³Ï³Ñ³ïí³ÍáõÙ ³í³ñïí³Í ·áñÍ»ñÇ ÁÝ¹Ñ³Ýáõñ ÃÇíÁ | L3: Ð³ßí»ïáõ Å³Ù³Ý³Ï³Ñ³ïí³ÍáõÙ ³Ý³í³ñï ·áñÍ»ñÇ ÁÝ¹Ñ³Ýáõñ ÃÇíÁ | M3: ØÇçÝáñ¹áõÃÛáõÝÝ»ñáí Ï³Û³óí³Í ¹³ï³Ï³Ý ³Ïï»ñÇó µáÕáù³ñÏí³ÍÝ»ñÇ ù³Ý³ÏÁ | O3: ²Ý³í³ñï µáÕáùÝ»ñ | P3: ØÇçÝáñ¹áõÃÛáõÝÝ»ñáí Ï³Û³óí³Í ¨ µáÕáù³ñÏí³Í ¹³ï³Ï³Ý ³Ïï»ñÇó µ»Ï³Ýí³ÍÝ»ñÇ ù³Ý³ÏÁ | R3: ÙÇçÝáñ¹áõÃÛáõÝÝ»ñáí Ï³Û³óí³Í ¨ µáÕáù³ñÏí³Í ¹³ï³Ï³Ý ³Ïï»ñÇó ³Ý÷á÷áË ÃáÕÝí³ÍÝ»ñÇ ù³Ý³ÏÁ
G4: Ù»ñÅí»É ¿ | H4: µ³í³ñ³ñí»É ¿ | I4: µ³í³ñ³ñí»É ¿ Ù³ëÝ³ÏÇ | J4: ÃáÕÝí»É ¿ ³é³Ýó ùÝÝáõÃÛ³Ý | K4: ÀÝ¹³Ù»ÝÁ
M5: Ý³Ëáñ¹ ï³ñÇÝ»ñÇÝ Ï³Û³óí³Í ³Ïï»ñÇ ¹»Ù | N5: Ñ³ßí»ïáõ Å³Ù³Ý³Ï³ßñç³ÝáõÙ Ï³Û³óí³Í ³Ïï»ñÇ ¹»Ù | P5: Ý³Ëáñ¹ ï³ñÇÝ»ñÇÝ Ï³Û³óí³Í ³Ïï»ñÇ µ»Ï³ÝáõÙÝ»ñÁ | Q5: Ñ³ßí»ïáõ Å³Ù³Ý³Ï³ßñç³ÝáõÙ Ï³Û³óí³Í ³Ïï»ñÇ µ»Ï³ÝáõÙÝ»ñÁ
A6: 1. ØÇÝã¹³ï³Ï³Ý í³ñáõÛÃÇ ÝÏ³ïÙ³Ùµ ¹³ï³Ï³Ý í»ñ³ÑëÏáÕáõÃÛ³Ý áÉáñï | D6: 1 | E6: 2 | F6: 3 | G6: 4 | H6: 5 | I6: 6 | J6: 7 | K6: 8 | L6: 9 | M6: 10 | N6: 11 | O6: 12 | P6: 13 | Q6: 14 | R6: 15 | T6: 1+2=3+8+9 | V6: 8=4+5+6+7
A7: 1 | B7: Ï³É³ÝùÁ áñå»ë Ë³÷³ÝÙ³Ý ÙÇçáó ÏÇñ³é»Éáõ Ù³ëÇÝ ÙÇçÝáñ¹áõÃÛáõÝÝ»ñ | E7: 10 | H7: 10 | K7: 10 | N7: 2 | R7: 2 | T7: =D7+E7 -> 10 | U7: =F7+K7+L7 -> 10 | V7: =K7 -> 10 | W7: =G7+H7+I7+J7 -> 10
A8: 2 | B8: Ï³É³ÝùÇ Å³ÙÏ»ïÁ »ñÏ³ñ³óÝ»Éáõ Ù³ëÇÝ ÙÇçÝáñ¹áõÃÛáõÝÝ»ñ | E8: 5 | H8: 5 | K8: 5 | N8: 1 | O8: 1 | T8: =D8+E8 -> 5 | U8: =F8+K8+L8 -> 5 | V8: =K8 -> 5 | W8: =G8+H8+I8+J8 -> 5
A9: 3 | B9: Ï³É³ÝùÇ í»ñ³Ñ³ëï³ïÙ³Ý Ù³ëÇÝ ÙÇçÝáñ¹áõÃÛáõÝÝ»ñ | E9: 3 | H9: 3 | K9: 3 | N9: 2 | O9: 1 | R9: 1 | T9: =D9+E9 -> 3 | U9: =F9+K9+L9 -> 3 | V9: =K9 -> 3 | W9: =G9+H9+I9+J9 -> 3
A10: 4 | B10: ·ñ³íÁ áñå»ë Ï³É³Ý³íáñÙ³Ý ³ÛÉÁÝïñ³Ýù³ÛÇÝ Ë³÷³ÝÙ³Ý ÙÇçáó ÏÇñ³é»Éáõ Ù³ëÇÝ ÙÇçÝáñ¹áõÃÛáõÝÝ»ñ | E10: 1 | G10: 1 | K10: 1 | N10: 1 | R10: 1 | T10: =D10+E10 -> 1 | U10: =F10+K10+L10 -> 1 | V10: =K10 -> 1 | W10: =G10+H10+I10+J10 -> 1
A11: 5 | B11: Ëáõ½³ñÏáõÃÛ³Ý Ï³ï³ñÙ³Ý Ù³ëÇÝ ÙÇçÝáñ¹áõÃÛáõÝÝ»ñ | E11: 50 | G11: 5 | H11: 45 | K11: 50 | T11: =D11+E11 -> 50 | U11: =F11+K11+L11 -> 50 | V11: =K11 -> 50 | W11: =G11+H11+I11+J11 -> 50
A12: 6 | B12: µ³ÝÏ³ÛÇÝ, ³å³Ñáí³·ñ³Ï³Ý, Ýáï³ñ³Ï³Ý ·³ÕïÝÇù Ï³½ÙáÕ ï»Õ»ÏáõÃÛáõÝÝ»ñÇ ëï³óÙ³Ý Ñ³Ù³ñ Ëáõ½³ñÏáõÃÛ³Ý Ï³Ù ³é·ñ³íÙ³Ý Ï³ï³ñÙ³Ý Ù³ëÇÝ ÙÇçÝáñ¹áõÃÛáõÝÝ»ñ | E12: 3 | G12: 1 | H12: 2 | K12: 3 | T12: =D12+E12 -> 3 | U12: =F12+K12+L12 -> 3 | V12: =K12 -> 3 | W12: =G12+H12+I12+J12 -> 3
A13: 7 | B13: Ý³Ù³Ï³·ñáõÃÛ³Ý, Ñ»é³·ñ³Ï³Ý, ÷áuï³ÛÇÝ Ñ³Õáñ¹áõÙÝ»ñÇ ÑëÏáÕáõÃÛ³Ý Ù³ëÇÝ ÙÇçÝáñ¹áõÃÛáõÝÝ»ñ | E13: 2 | H13: 2 | K13: 2 | T13: =D13+E13 -> 2 | U13: =F13+K13+L13 -> 2 | V13: =K13 -> 2 | W13: =G13+H13+I13+J13 -> 2
A14: 8 | B14: Ñ»é³Ëáu³ÛÇÝ Ï³Ù Ï³åÇ ³ÛÉ ÙÇçáóÝ»ñáí ï³ñíáÕ Ëáu³ÏóáõÃÛáõÝÝ»ñÇ ÉuÙ³Ý ¨ Ó³ÛÝ³·ñ³éÙ³Ý Ù³ëÇÝ ÙÇçÝáñ¹áõÃÛáõÝÝ»ñ | T14: =D14+E14 -> 0 | U14: =F14+K14+L14 -> 0 | V14: =K14 -> 0 | W14: =G14+H14+I14+J14 -> 0
A15: 9 | B15: Ñ»é³ËáëÝ»ñÇ Ùáõïù³ÛÇÝ ¨ »Éù³ÛÇÝ í»ñÍ³ÝÙ³Ý ÃáõÛÉïíáõÃÛáõÝ ëï³Ý³Éáõ Ù³ëÇÝ ÙÇçÝáñ¹áõÃÛáõÝÝ»ñ | E15: 53 | H15: 53 | K15: 53 | T15: =D15+E15 -> 53 | U15: =F15+K15+L15 -> 53 | V15: =K15 -> 53 | W15: =G15+H15+I15+J15 -> 53
A16: 10 | B16: Ñ»ï³ùÝÝáõÃÛ³Ý Ù³ñÙÝÇ ³ßË³ïáÕÇ, ùÝÝÇãÇ, ¹³ï³Ë³½Ç oå»ñ³ïÇí-Ñ»ï³Ëáõ½³Ï³Ý ·áñÍáÕáõÃÛáõÝÝ»ñ Çñ³Ï³Ý³óÝáÕ Ù³ñÙÇÝÝ»ñÇ ³ÝoñÇÝ³Ï³Ý ¨ ³ÝÑÇÙÝ áñáßáõÙÝ»ñÇ ¨ ·áñÍáÕáõÃÛáõÝÝ»ñÇ ¹»Ù µáÕáùÝ»ñ | D16: 8 | E16: 26 | F16: 3 | G16: 15 | H16: 2 | J16: 1 | K16: 18 | L16: 13 | M16: 4 | N16: 7 | O16: 2 | P16: 1 | R16: 4 | T16: =D16+E16 -> 34 | U16: =F16+K16+L16 -> 34 | V16: =K16 -> 18 | W16: =G16+H16+I16+J16 -> 18
A17: 11 | B17: ²½³ïáõÃÛáõÝÇó ½ñÏ»Éáõ Çñ³í³ã³÷áõÃÛ³Ý í»ñ³µ»ñÛ³É µáÕáùÝ»ñáí ·áñÍ»ñ | T17: =D17+E17 -> 0 | U17: =F17+K17+L17 -> 0 | V17: =K17 -> 0 | W17: =G17+H17+I17+J17 -> 0
A18: 2. ¸³ï³Ï³Ý ³Ïï»ñÇ ¨ ¹³ï³Ï³Ý Ñ³ÝÓÝ³ñ³ñáõÃÛáõÝÝ»ñÇ Ï³ï³ñÙ³Ý Ñ»ï Ï³åí³Í Ñ³ñó»ñÇ ÉáõÍÙ³Ý áÉáñï
A19: 1 | B19: å³ïÅÇó å³ÛÙ³Ý³Ï³Ý í³Õ³Å³ÙÏ»ï ³½³ï»Éáõ Ù³ëÇÝ ÙÇçÝáñ¹áõÃÛáõÝÝ»ñ | T19: =D19+E19 -> 0 | U19: =F19+K19+L19 -> 0 | V19: =K19 -> 0 | W19: =G19+H19+I19+J19 -> 0
A20: 2 | B20: å³ïÇÅÁ ÷á÷áË»Éáõ, Ñ»ï³Ó·»Éáõ ¨ å³ïÅÇó ³½³ï»Éáõ Ù³uÇÝ ÙÇçÝáñ¹áõÃÛáõÝÝ»ñ | D20: 2 | E20: 7 | F20: 1 | H20: 4 | J20: 2 | K20: 6 | L20: 2 | N20: 1 | O20: 1 | T20: =D20+E20 -> 9 | U20: =F20+K20+L20 -> 9 | V20: =K20 -> 6 | W20: =G20+H20+I20+J20 -> 6
A21: 3 | B21: Ñ³ñÏ³¹Çñ µáõÅÙ³Ý ï»ë³ÏÇ ÷á÷áËáõÃÛ³Ý Ù³ëÇÝ ÙÇçÝáñ¹áõÃÛáõÝÝ»ñ | T21: =D21+E21 -> 0 | U21: =F21+K21+L21 -> 0 | V21: =K21 -> 0 | W21: =G21+H21+I21+J21 -> 0
A22: 4 | B22: ³ÛÉ ÙÇçÝáñ¹áõÃÛáõÝÝ»ñ | E22: 16 | F22: 2 | G22: 4 | H22: 2 | J22: 3 | K22: 9 | L22: 5 | N22: 1 | O22: 1 | T22: =D22+E22 -> 16 | U22: =F22+K22+L22 -> 16 | V22: =K22 -> 9 | W22: =G22+H22+I22+J22 -> 9
A23: 5 | B23: ¹³ï³Ï³Ý Ñ³ÝÓÝ³ñ³ñáõÃÛáõÝÝ»ñ | T23: =D23+E23 -> 0 | U23: =F23+K23+L23 -> 0 | V23: =K23 -> 0 | W23: =G23+H23+I23+J23 -> 0
A24: ÀÜ¸²ØºÜÀ | D24: =D7+D8+D9+D10+D11+D12+D13+D14+D15+D17+D19+D20+D21+D22+D23+D16 -> 10 | E24: =E7+E8+E9+E10+E11+E12+E13+E14+E15+E17+E19+E20+E21+E22+E23+E16 -> 176 | F24: =F7+F8+F9+F10+F11+F12+F13+F14+F15+F17+F19+F20+F21+F22+F23+F16 -> 6 | G24: =G7+G8+G9+G10+G11+G12+G13+G14+G15+G17+G19+G20+G21+G22+G23+G16 -> 26 | H24: =H7+H8+H9+H10+H11+H12+H13+H14+H15+H17+H19+H20+H21+H22+H23+H16 -> 128 | I24: =I7+I8+I9+I10+I11+I12+I13+I14+I15+I17+I19+I20+I21+I22+I23+I16 -> 0 | J24: =J7+J8+J9+J10+J11+J12+J13+J14+J15+J17+J19+J20+J21+J22+J23+J16 -> 6 | K24: =K7+K8+K9+K10+K11+K12+K13+K14+K15+K17+K19+K20+K21+K22+K23+K16 -> 160 | ... R24: =R7+R8+R9+R10+R11+R12+R13+R14+R15+R17+R19+R20+R21+R22+R23+R16 -> 8 | T24: =D24+E24 -> 186 | U24: =F24+K24+L24 -> 186 | V24: =K24 -> 160 | W24: =G24+H24+I24+J24 -> 160

Sheet Կ.Պետրոսյան
A1: 2017Ã. 1-ÇÝ ÏÇë³ÙÛ³Ï | D1: Ð²ÞìºîìàôÂÚàôÜ | P1: Ð³í»Éí³Í Ð³Û³ëï³ÝÇ Ð³Ýñ³å»ïáõÃÛ³Ý ¸³ï³ñ³ÝÝ»ñÇ Ý³Ë³·³ÑÝ»ñÇ ËáñÑñ¹Ç 25.08.2017Ã. ÃÇí 35-È áñáßÙ³Ý
A2: ØÇÝã¹³ï³Ï³Ý í³ñáõÛÃÇ ÝÏ³ïÙ³Ùµ ¹³ï³Ï³Ý í»ñ³ÑëÏáÕáõÃÛ³Ý, ¹³ï³Ï³Ý ³Ïï»ñÇ ¨ ¹³ï³Ï³Ý Ñ³ÝÓÝ³ñ³ñáõÃÛáõÝÝ»ñÇ Ï³ï³ñÙ³Ý Ñ»ï Ï³åí³Í ÙÇçÝáñ¹áõÃÛáõÝÝ»ñÇ í»ñ³µ»ñÛ³É ¹³ï³Ï³Ý ·áñÍ»ñáí ºñ¨³Ý ù³Õ³ùÇ Î»ÝïñáÝ ¨ Üáñù-Ø³ñ³ß í³ñã³Ï³Ý ßñç³ÝÝ»ñÇ ÁÝ¹Ñ³Ýáõñ Çñ³í³ëáõÃÛ³Ý ³é³çÇÝ ³ïÛ³ÝÇ ¹³ï³ñ³ÝÇ ¹³ï³íáñ Î.ä»ïñáëÛ³Ý ·áñÍáõÝ»áõÃÛ³Ý í»ñ³µ»ñÛ³É
D3: Ð³ßí»ïáõ Å³Ù³Ý³Ï³Ñ³ïí³ÍÇ ëÏ½µáõÙ Ý³Ëáñ¹ Ñ³ßí»ïáõ Å³Ù³Ý³Ï³Ñ³ïí³ÍÇó ÷áË³Ýóí³Í ·áñÍ»ñÇ ÁÝ¹Ñ³Ýáõñ ÃÇíÁ | E3: Ð³ßí»ïáõ Å³Ù³Ý³Ï³Ñ³ïí³ÍáõÙ ëï³óí³Í ·áñÍ»ñÇ ÁÝ¹Ñ³Ýáõñ ÃÇíÁ | F3: öáË³Ýóí»É ¿ ³ÛÉ ¹³ï³íáñÇ Ï³Ù ³ÛÉ ¹³ï³ñ³Ý (Ï³½ÙÇ ÷á÷áËáõÃÛáõÝ, ÁÝ¹¹³ïáõÃÛáõÝ) | G3: Ð³ßí»ïáõ Å³Ù³Ý³Ï³Ñ³ïí³ÍáõÙ ³í³ñïí³Í ·áñÍ»ñÇ ÁÝ¹Ñ³Ýáõñ ÃÇíÁ | L3: Ð³ßí»ïáõ Å³Ù³Ý³Ï³Ñ³ïí³ÍáõÙ ³Ý³í³ñï ·áñÍ»ñÇ ÁÝ¹Ñ³Ýáõñ ÃÇíÁ | M3: ØÇçÝáñ¹áõÃÛáõÝÝ»ñáí Ï³Û³óí³Í ¹³ï³Ï³Ý ³Ïï»ñÇó µáÕáù³ñÏí³ÍÝ»ñÇ ù³Ý³ÏÁ | O3: ²Ý³í³ñï µáÕáùÝ»ñ | P3: ØÇçÝáñ¹áõÃÛáõÝÝ»ñáí Ï³Û³óí³Í ¨ µáÕáù³ñÏí³Í ¹³ï³Ï³Ý ³Ïï»ñÇó µ»Ï³Ýí³ÍÝ»ñÇ ù³Ý³ÏÁ | R3: ÙÇçÝáñ¹áõÃÛáõÝÝ»ñáí Ï³Û³óí³Í ¨ µáÕáù³ñÏí³Í ¹³ï³Ï³Ý ³Ïï»ñÇó ³Ý÷á÷áË ÃáÕÝí³ÍÝ»ñÇ ù³Ý³ÏÁ
G4: Ù»ñÅí»É ¿ | H4: µ³í³ñ³ñí»É ¿ | I4: µ³í³ñ³ñí»É ¿ Ù³ëÝ³ÏÇ | J4: ÃáÕÝí»É ¿ ³é³Ýó ùÝÝáõÃÛ³Ý | K4: ÀÝ¹³Ù»ÝÁ
M5: Ý³Ëáñ¹ ï³ñÇÝ»ñÇÝ Ï³Û³óí³Í ³Ïï»ñÇ ¹»Ù | N5: Ñ³ßí»ïáõ Å³Ù³Ý³Ï³ßñç³ÝáõÙ Ï³Û³óí³Í ³Ïï»ñÇ ¹»Ù | P5: Ý³Ëáñ¹ ï³ñÇÝ»ñÇÝ Ï³Û³óí³Í ³Ïï»ñÇ µ»Ï³ÝáõÙÝ»ñÁ | Q5: Ñ³ßí»ïáõ Å³Ù³Ý³Ï³ßñç³ÝáõÙ Ï³Û³óí³Í ³Ïï»ñÇ µ»Ï³ÝáõÙÝ»ñÁ
A6: 1. ØÇÝã¹³ï³Ï³Ý í³ñáõÛÃÇ ÝÏ³ïÙ³Ùµ ¹³ï³Ï³Ý í»ñ³ÑëÏáÕáõÃÛ³Ý áÉáñï | D6: 1 | E6: 2 | F6: 3 | G6: 4 | H6: 5 | I6: 6 | J6: 7 | K6: 8 | L6: 9 | M6: 10 | N6: 11 | O6: 12 | P6: 13 | Q6: 14 | R6: 15 | T6: 1+2=3+8+9 | V6: 8=4+5+6+7
A7: 1 | B7: Ï³É³ÝùÁ áñå»ë Ë³÷³ÝÙ³Ý ÙÇçáó ÏÇñ³é»Éáõ Ù³ëÇÝ ÙÇçÝáñ¹áõÃÛáõÝÝ»ñ | T7: =D7+E7 -> 0 | U7: =F7+K7+L7 -> 0 | V7: =K7 -> 0 | W7: =G7+H7+I7+J7 -> 0
A8: 2 | B8: Ï³É³ÝùÇ Å³ÙÏ»ïÁ »ñÏ³ñ³óÝ»Éáõ Ù³ëÇÝ ÙÇçÝáñ¹áõÃÛáõÝÝ»ñ | T8: =D8+E8 -> 0 | U8: =F8+K8+L8 -> 0 | V8: =K8 -> 0 | W8: =G8+H8+I8+J8 -> 0
A9: 3 | B9: Ï³É³ÝùÇ í»ñ³Ñ³ëï³ïÙ³Ý Ù³ëÇÝ ÙÇçÝáñ¹áõÃÛáõÝÝ»ñ | T9: =D9+E9 -> 0 | U9: =F9+K9+L9 -> 0 | V9: =K9 -> 0 | W9: =G9+H9+I9+J9 -> 0
A10: 4 | B10: ·ñ³íÁ áñå»ë Ï³É³Ý³íáñÙ³Ý ³ÛÉÁÝïñ³Ýù³ÛÇÝ Ë³÷³ÝÙ³Ý ÙÇçáó ÏÇñ³é»Éáõ Ù³ëÇÝ ÙÇçÝáñ¹áõÃÛáõÝÝ»ñ | T10: =D10+E10 -> 0 | U10: =F10+K10+L10 -> 0 | V10: =K10 -> 0 | W10: =G10+H10+I10+J10 -> 0
A11: 5 | B11: Ëáõ½³ñÏáõÃÛ³Ý Ï³ï³ñÙ³Ý Ù³ëÇÝ ÙÇçÝáñ¹áõÃÛáõÝÝ»ñ | T11: =D11+E11 -> 0 | U11: =F11+K11+L11 -> 0 | V11: =K11 -> 0 | W11: =G11+H11+I11+J11 -> 0
A12: 6 | B12: µ³ÝÏ³ÛÇÝ, ³å³Ñáí³·ñ³Ï³Ý, Ýáï³ñ³Ï³Ý ·³ÕïÝÇù Ï³½ÙáÕ ï»Õ»ÏáõÃÛáõÝÝ»ñÇ ëï³óÙ³Ý Ñ³Ù³ñ Ëáõ½³ñÏáõÃÛ³Ý Ï³Ù ³é·ñ³íÙ³Ý Ï³ï³ñÙ³Ý Ù³ëÇÝ ÙÇçÝáñ¹áõÃÛáõÝÝ»ñ | T12: =D12+E12 -> 0 | U12: =F12+K12+L12 -> 0 | V12: =K12 -> 0 | W12: =G12+H12+I12+J12 -> 0
A13: 7 | B13: Ý³Ù³Ï³·ñáõÃÛ³Ý, Ñ»é³·ñ³Ï³Ý, ÷áuï³ÛÇÝ Ñ³Õáñ¹áõÙÝ»ñÇ ÑëÏáÕáõÃÛ³Ý Ù³ëÇÝ ÙÇçÝáñ¹áõÃÛáõÝÝ»ñ | T13: =D13+E13 -> 0 | U13: =F13+K13+L13 -> 0 | V13: =K13 -> 0 | W13: =G13+H13+I13+J13 -> 0
A14: 8 | B14: Ñ»é³Ëáu³ÛÇÝ Ï³Ù Ï³åÇ ³ÛÉ ÙÇçáóÝ»ñáí ï³ñíáÕ Ëáu³ÏóáõÃÛáõÝÝ»ñÇ ÉuÙ³Ý ¨ Ó³ÛÝ³·ñ³éÙ³Ý Ù³ëÇÝ ÙÇçÝáñ¹áõÃÛáõÝÝ»ñ | T14: =D14+E14 -> 0 | U14: =F14+K14+L14 -> 0 | V14: =K14 -> 0 | W14: =G14+H14+I14+J14 -> 0
A15: 9 | B15: Ñ»é³ËáëÝ»ñÇ Ùáõïù³ÛÇÝ ¨ »Éù³ÛÇÝ í»ñÍ³ÝÙ³Ý ÃáõÛÉïíáõÃÛáõÝ ëï³Ý³Éáõ Ù³ëÇÝ ÙÇçÝáñ¹áõÃÛáõÝÝ»ñ | T15: =D15+E15 -> 0 | U15: =F15+K15+L15 -> 0 | V15: =K15 -> 0 | W15: =G15+H15+I15+J15 -> 0
A16: 10 | B16: Ñ»ï³ùÝÝáõÃÛ³Ý Ù³ñÙÝÇ ³ßË³ïáÕÇ, ùÝÝÇãÇ, ¹³ï³Ë³½Ç oå»ñ³ïÇí-Ñ»ï³Ëáõ½³Ï³Ý ·áñÍáÕáõÃÛáõÝÝ»ñ Çñ³Ï³Ý³óÝáÕ Ù³ñÙÇÝÝ»ñÇ ³ÝoñÇÝ³Ï³Ý ¨ ³ÝÑÇÙÝ áñáßáõÙÝ»ñÇ ¨ ·áñÍáÕáõÃÛáõÝÝ»ñÇ ¹»Ù µáÕáùÝ»ñ | T16: =D16+E16 -> 0 | U16: =F16+K16+L16 -> 0 | V16: =K16 -> 0 | W16: =G16+H16+I16+J16 -> 0
A17: 11 | B17: ²½³ïáõÃÛáõÝÇó ½ñÏ»Éáõ Çñ³í³ã³÷áõÃÛ³Ý í»ñ³µ»ñÛ³É µáÕáùÝ»ñáí ·áñÍ»ñ | T17: =D17+E17 -> 0 | U17: =F17+K17+L17 -> 0 | V17: =K17 -> 0 | W17: =G17+H17+I17+J17 -> 0
A18: 2. ¸³ï³Ï³Ý ³Ïï»ñÇ ¨ ¹³ï³Ï³Ý Ñ³ÝÓÝ³ñ³ñáõÃÛáõÝÝ»ñÇ Ï³ï³ñÙ³Ý Ñ»ï Ï³åí³Í Ñ³ñó»ñÇ ÉáõÍÙ³Ý áÉáñï
A19: 1 | B19: å³ïÅÇó å³ÛÙ³Ý³Ï³Ý í³Õ³Å³ÙÏ»ï ³½³ï»Éáõ Ù³ëÇÝ ÙÇçÝáñ¹áõÃÛáõÝÝ»ñ | T19: =D19+E19 -> 0 | U19: =F19+K19+L19 -> 0 | V19: =K19 -> 0 | W19: =G19+H19+I19+J19 -> 0
A20: 2 | B20: å³ïÇÅÁ ÷á÷áË»Éáõ, Ñ»ï³Ó·»Éáõ ¨ å³ïÅÇó ³½³ï»Éáõ Ù³uÇÝ ÙÇçÝáñ¹áõÃÛáõÝÝ»ñ | T20: =D20+E20 -> 0 | U20: =F20+K20+L20 -> 0 | V20: =K20 -> 0 | W20: =G20+H20+I20+J20 -> 0
A21: 3 | B21: Ñ³ñÏ³¹Çñ µáõÅÙ³Ý ï»ë³ÏÇ ÷á÷áËáõÃÛ³Ý Ù³ëÇÝ ÙÇçÝáñ¹áõÃÛáõÝÝ»ñ | T21: =D21+E21 -> 0 | U21: =F21+K21+L21 -> 0 | V21: =K21 -> 0 | W21: =G21+H21+I21+J21 -> 0
A22: 4 | B22: ³ÛÉ ÙÇçÝáñ¹áõÃÛáõÝÝ»ñ | T22: =D22+E22 -> 0 | U22: =F22+K22+L22 -> 0 | V22: =K22 -> 0 | W22: =G22+H22+I22+J22 -> 0
A23: 5 | B23: ¹³ï³Ï³Ý Ñ³ÝÓÝ³ñ³ñáõÃÛáõÝÝ»ñ | E23: 1 | H23: 1 | K23: 1 | T23: =D23+E23 -> 1 | U23: =F23+K23+L23 -> 1 | V23: =K23 -> 1 | W23: =G23+H23+I23+J23 -> 1
A24: ÀÜ¸²ØºÜÀ | D24: =D7+D8+D9+D10+D11+D12+D13+D14+D15+D17+D19+D20+D21+D22+D23+D16 -> 0 | E24: =E7+E8+E9+E10+E11+E12+E13+E14+E15+E17+E19+E20+E21+E22+E23+E16 -> 1 | F24: =F7+F8+F9+F10+F11+F12+F13+F14+F15+F17+F19+F20+F21+F22+F23+F16 -> 0 | G24: =G7+G8+G9+G10+G11+G12+G13+G14+G15+G17+G19+G20+G21+G22+G23+G16 -> 0 | H24: =H7+H8+H9+H10+H11+H12+H13+H14+H15+H17+H19+H20+H21+H22+H23+H16 -> 1 | I24: =I7+I8+I9+I10+I11+I12+I13+I14+I15+I17+I19+I20+I21+I22+I23+I16 -> 0 | J24: =J7+J8+J9+J10+J11+J12+J13+J14+J15+J17+J19+J20+J21+J22+J23+J16 -> 0 | K24: =K7+K8+K9+K10+K11+K12+K13+K14+K15+K17+K19+K20+K21+K22+K23+K16 -> 1 | ... R24: =R7+R8+R9+R10+R11+R12+R13+R14+R15+R17+R19+R20+R21+R22+R23+R16 -> 0 | T24: =D24+E24 -> 1 | U24: =F24+K24+L24 -> 1 | V24: =K24 -> 1 | W24: =G24+H24+I24+J24 -> 1

Sheet Ա.Բեկթաշյան
A1: 2017Ã. 1-ÇÝ ÏÇë³ÙÛ³Ï | D1: Ð²ÞìºîìàôÂÚàôÜ | P1: Ð³í»Éí³Í Ð³Û³ëï³ÝÇ Ð³Ýñ³å»ïáõÃÛ³Ý ¸³ï³ñ³ÝÝ»ñÇ Ý³Ë³·³ÑÝ»ñÇ ËáñÑñ¹Ç 25.08.2017Ã. ÃÇí 35-È áñáßÙ³Ý
A2: ØÇÝã¹³ï³Ï³Ý í³ñáõÛÃÇ ÝÏ³ïÙ³Ùµ ¹³ï³Ï³Ý í»ñ³ÑëÏáÕáõÃÛ³Ý, ¹³ï³Ï³Ý ³Ïï»ñÇ ¨ ¹³ï³Ï³Ý Ñ³ÝÓÝ³ñ³ñáõÃÛáõÝÝ»ñÇ Ï³ï³ñÙ³Ý Ñ»ï Ï³åí³Í ÙÇçÝáñ¹áõÃÛáõÝÝ»ñÇ í»ñ³µ»ñÛ³É ¹³ï³Ï³Ý ·áñÍ»ñáí ºñ¨³Ý ù³Õ³ùÇ Î»ÝïñáÝ ¨ Üáñù-Ø³ñ³ß í³ñã³Ï³Ý ßñç³ÝÝ»ñÇ ÁÝ¹Ñ³Ýáõñ Çñ³í³ëáõÃÛ³Ý ³é³çÇÝ ³ïÛ³ÝÇ ¹³ï³ñ³ÝÇ ¹³ï³íáñ ². ´»ÏÃ³ßÛ³ÝÇ ·áñÍáõÝ»áõÃÛ³Ý í»ñ³µ»ñÛ³É
D3: Ð³ßí»ïáõ Å³Ù³Ý³Ï³Ñ³ïí³ÍÇ ëÏ½µáõÙ Ý³Ëáñ¹ Ñ³ßí»ïáõ Å³Ù³Ý³Ï³Ñ³ïí³ÍÇó ÷áË³Ýóí³Í ·áñÍ»ñÇ ÁÝ¹Ñ³Ýáõñ ÃÇíÁ | E3: Ð³ßí»ïáõ Å³Ù³Ý³Ï³Ñ³ïí³ÍáõÙ ëï³óí³Í ·áñÍ»ñÇ ÁÝ¹Ñ³Ýáõñ ÃÇíÁ | F3: öáË³Ýóí»É ¿ ³ÛÉ ¹³ï³íáñÇ Ï³Ù ³ÛÉ ¹³ï³ñ³Ý (Ï³½ÙÇ ÷á÷áËáõÃÛáõÝ, ÁÝ¹¹³ïáõÃÛáõÝ) | G3: Ð³ßí»ïáõ Å³Ù³Ý³Ï³Ñ³ïí³ÍáõÙ ³í³ñïí³Í ·áñÍ»ñÇ ÁÝ¹Ñ³Ýáõñ ÃÇíÁ | L3: Ð³ßí»ïáõ Å³Ù³Ý³Ï³Ñ³ïí³ÍáõÙ ³Ý³í³ñï ·áñÍ»ñÇ ÁÝ¹Ñ³Ýáõñ ÃÇíÁ | M3: ØÇçÝáñ¹áõÃÛáõÝÝ»ñáí Ï³Û³óí³Í ¹³ï³Ï³Ý ³Ïï»ñÇó µáÕáù³ñÏí³ÍÝ»ñÇ ù³Ý³ÏÁ | O3: ²Ý³í³ñï µáÕáùÝ»ñ | P3: ØÇçÝáñ¹áõÃÛáõÝÝ»ñáí Ï³Û³óí³Í ¨ µáÕáù³ñÏí³Í ¹³ï³Ï³Ý ³Ïï»ñÇó µ»Ï³Ýí³ÍÝ»ñÇ ù³Ý³ÏÁ | R3: ÙÇçÝáñ¹áõÃÛáõÝÝ»ñáí Ï³Û³óí³Í ¨ µáÕáù³ñÏí³Í ¹³ï³Ï³Ý ³Ïï»ñÇó ³Ý÷á÷áË ÃáÕÝí³ÍÝ»ñÇ ù³Ý³ÏÁ
G4: Ù»ñÅí»É ¿ | H4: µ³í³ñ³ñí»É ¿ | I4: µ³í³ñ³ñí»É ¿ Ù³ëÝ³ÏÇ | J4: ÃáÕÝí»É ¿ ³é³Ýó ùÝÝáõÃÛ³Ý | K4: ÀÝ¹³Ù»ÝÁ
M5: Ý³Ëáñ¹ ï³ñÇÝ»ñÇÝ Ï³Û³óí³Í ³Ïï»ñÇ ¹»Ù | N5: Ñ³ßí»ïáõ Å³Ù³Ý³Ï³ßñç³ÝáõÙ Ï³Û³óí³Í ³Ïï»ñÇ ¹»Ù | P5: Ý³Ëáñ¹ ï³ñÇÝ»ñÇÝ Ï³Û³óí³Í ³Ïï»ñÇ µ»Ï³ÝáõÙÝ»ñÁ | Q5: Ñ³ßí»ïáõ Å³Ù³Ý³Ï³ßñç³ÝáõÙ Ï³Û³óí³Í ³Ïï»ñÇ µ»Ï³ÝáõÙÝ»ñÁ
A6: 1. ØÇÝã¹³ï³Ï³Ý í³ñáõÛÃÇ ÝÏ³ïÙ³Ùµ ¹³ï³Ï³Ý í»ñ³ÑëÏáÕáõÃÛ³Ý áÉáñï | D6: 1 | E6: 2 | F6: 3 | G6: 4 | H6: 5 | I6: 6 | J6: 7 | K6: 8 | L6: 9 | M6: 10 | N6: 11 | O6: 12 | P6: 13 | Q6: 14 | R6: 15 | T6: 1+2=3+8+9 | V6: 8=4+5+6+7
A7: 1 | B7: Ï³É³ÝùÁ áñå»ë Ë³÷³ÝÙ³Ý ÙÇçáó ÏÇñ³é»Éáõ Ù³ëÇÝ ÙÇçÝáñ¹áõÃÛáõÝÝ»ñ | E7: 32 | G7: 1 | H7: 31 | K7: 32 | N7: 16 | O7: 6 | Q7: 4 | R7: 6 | T7: =D7+E7 -> 32 | U7: =F7+K7+L7 -> 32 | V7: =K7 -> 32 | W7: =G7+H7+I7+J7 -> 32
A8: 2 | B8: Ï³É³ÝùÇ Å³ÙÏ»ïÁ »ñÏ³ñ³óÝ»Éáõ Ù³ëÇÝ ÙÇçÝáñ¹áõÃÛáõÝÝ»ñ | E8: 20 | H8: 19 | I8: 1 | K8: 20 | N8: 7 | O8: 3 | P8: 1 | Q8: 1 | R8: 2 | T8: =D8+E8 -> 20 | U8: =F8+K8+L8 -> 20 | V8: =K8 -> 20 | W8: =G8+H8+I8+J8 -> 20
A9: 3 | B9: Ï³É³ÝùÇ í»ñ³Ñ³ëï³ïÙ³Ý Ù³ëÇÝ ÙÇçÝáñ¹áõÃÛáõÝÝ»ñ | E9: 3 | H9: 3 | K9: 3 | N9: 2 | O9: 2 | R9: 1 | T9: =D9+E9 -> 3 | U9: =F9+K9+L9 -> 3 | V9: =K9 -> 3 | W9: =G9+H9+I9+J9 -> 3
A10: 4 | B10: ·ñ³íÁ áñå»ë Ï³É³Ý³íáñÙ³Ý ³ÛÉÁÝïñ³Ýù³ÛÇÝ Ë³÷³ÝÙ³Ý ÙÇçáó ÏÇñ³é»Éáõ Ù³ëÇÝ ÙÇçÝáñ¹áõÃÛáõÝÝ»ñ | E10: 4 | G10: 3 | H10: 1 | K10: 4 | T10: =D10+E10 -> 4 | U10: =F10+K10+L10 -> 4 | V10: =K10 -> 4 | W10: =G10+H10+I10+J10 -> 4
A11: 5 | B11: Ëáõ½³ñÏáõÃÛ³Ý Ï³ï³ñÙ³Ý Ù³ëÇÝ ÙÇçÝáñ¹áõÃÛáõÝÝ»ñ | E11: 52 | G11: 2 | H11: 50 | K11: 52 | T11: =D11+E11 -> 52 | U11: =F11+K11+L11 -> 52 | V11: =K11 -> 52 | W11: =G11+H11+I11+J11 -> 52
A12: 6 | B12: µ³ÝÏ³ÛÇÝ, ³å³Ñáí³·ñ³Ï³Ý, Ýáï³ñ³Ï³Ý ·³ÕïÝÇù Ï³½ÙáÕ ï»Õ»ÏáõÃÛáõÝÝ»ñÇ ëï³óÙ³Ý Ñ³Ù³ñ Ëáõ½³ñÏáõÃÛ³Ý Ï³Ù ³é·ñ³íÙ³Ý Ï³ï³ñÙ³Ý Ù³ëÇÝ ÙÇçÝáñ¹áõÃÛáõÝÝ»ñ | E12: 8 | H12: 8 | K12: 8 | T12: =D12+E12 -> 8 | U12: =F12+K12+L12 -> 8 | V12: =K12 -> 8 | W12: =G12+H12+I12+J12 -> 8
A13: 7 | B13: Ý³Ù³Ï³·ñáõÃÛ³Ý, Ñ»é³·ñ³Ï³Ý, ÷áuï³ÛÇÝ Ñ³Õáñ¹áõÙÝ»ñÇ ÑëÏáÕáõÃÛ³Ý Ù³ëÇÝ ÙÇçÝáñ¹áõÃÛáõÝÝ»ñ | E13: 7 | H13: 7 | K13: 7 | T13: =D13+E13 -> 7 | U13: =F13+K13+L13 -> 7 | V13: =K13 -> 7 | W13: =G13+H13+I13+J13 -> 7
A14: 8 | B14: Ñ»é³Ëáu³ÛÇÝ Ï³Ù Ï³åÇ ³ÛÉ ÙÇçáóÝ»ñáí ï³ñíáÕ Ëáu³ÏóáõÃÛáõÝÝ»ñÇ ÉuÙ³Ý ¨ Ó³ÛÝ³·ñ³éÙ³Ý Ù³ëÇÝ ÙÇçÝáñ¹áõÃÛáõÝÝ»ñ | E14: 1 | H14: 1 | K14: 1 | T14: =D14+E14 -> 1 | U14: =F14+K14+L14 -> 1 | V14: =K14 -> 1 | W14: =G14+H14+I14+J14 -> 1
A15: 9 | B15: Ñ»é³ËáëÝ»ñÇ Ùáõïù³ÛÇÝ ¨ »Éù³ÛÇÝ í»ñÍ³ÝÙ³Ý ÃáõÛÉïíáõÃÛáõÝ ëï³Ý³Éáõ Ù³ëÇÝ ÙÇçÝáñ¹áõÃÛáõÝÝ»ñ | E15: 76 | H15: 76 | K15: 76 | T15: =D15+E15 -> 76 | U15: =F15+K15+L15 -> 76 | V15: =K15 -> 76 | W15: =G15+H15+I15+J15 -> 76
A16: 10 | B16: Ñ»ï³ùÝÝáõÃÛ³Ý Ù³ñÙÝÇ ³ßË³ïáÕÇ, ùÝÝÇãÇ, ¹³ï³Ë³½Ç oå»ñ³ïÇí-Ñ»ï³Ëáõ½³Ï³Ý ·áñÍáÕáõÃÛáõÝÝ»ñ Çñ³Ï³Ý³óÝáÕ Ù³ñÙÇÝÝ»ñÇ ³ÝoñÇÝ³Ï³Ý ¨ ³ÝÑÇÙÝ áñáßáõÙÝ»ñÇ ¨ ·áñÍáÕáõÃÛáõÝÝ»ñÇ ¹»Ù µáÕáùÝ»ñ | D16: 23 | E16: 25 | F16: 3 | G16: 13 | H16: 5 | K16: 18 | L16: 26 | M16: 1 | N16: 9 | O16: 8 | R16: 2 | T16: =D16+E16 -> 48 | U16: =F16+K16+L16 -> 47 | V16: =K16 -> 18 | W16: =G16+H16+I16+J16 -> 18
A17: 11 | B17: ²½³ïáõÃÛáõÝÇó ½ñÏ»Éáõ Çñ³í³ã³÷áõÃÛ³Ý í»ñ³µ»ñÛ³É µáÕáùÝ»ñáí ·áñÍ»ñ | E17: 3 | G17: 1 | H17: 2 | K17: 3 | T17: =D17+E17 -> 3 | U17: =F17+K17+L17 -> 3 | V17: =K17 -> 3 | W17: =G17+H17+I17+J17 -> 3
A18: 2. ¸³ï³Ï³Ý ³Ïï»ñÇ ¨ ¹³ï³Ï³Ý Ñ³ÝÓÝ³ñ³ñáõÃÛáõÝÝ»ñÇ Ï³ï³ñÙ³Ý Ñ»ï Ï³åí³Í Ñ³ñó»ñÇ ÉáõÍÙ³Ý áÉáñï
A19: 1 | B19: å³ïÅÇó å³ÛÙ³Ý³Ï³Ý í³Õ³Å³ÙÏ»ï ³½³ï»Éáõ Ù³ëÇÝ ÙÇçÝáñ¹áõÃÛáõÝÝ»ñ | T19: =D19+E19 -> 0 | U19: =F19+K19+L19 -> 0 | V19: =K19 -> 0 | W19: =G19+H19+I19+J19 -> 0
A20: 2 | B20: å³ïÇÅÁ ÷á÷áË»Éáõ, Ñ»ï³Ó·»Éáõ ¨ å³ïÅÇó ³½³ï»Éáõ Ù³uÇÝ ÙÇçÝáñ¹áõÃÛáõÝÝ»ñ | E20: 5 | G20: 1 | K20: 1 | L20: 4 | T20: =D20+E20 -> 5 | U20: =F20+K20+L20 -> 5 | V20: =K20 -> 1 | W20: =G20+H20+I20+J20 -> 1
A21: 3 | B21: Ñ³ñÏ³¹Çñ µáõÅÙ³Ý ï»ë³ÏÇ ÷á÷áËáõÃÛ³Ý Ù³ëÇÝ ÙÇçÝáñ¹áõÃÛáõÝÝ»ñ | T21: =D21+E21 -> 0 | U21: =F21+K21+L21 -> 0 | V21: =K21 -> 0 | W21: =G21+H21+I21+J21 -> 0
A22: 4 | B22: ³ÛÉ ÙÇçÝáñ¹áõÃÛáõÝÝ»ñ | D22: 1 | E22: 12 | G22: 6 | H22: 4 | I22: 1 | K22: 11 | L22: 2 | N22: 1 | R22: 1 | T22: =D22+E22 -> 13 | U22: =F22+K22+L22 -> 13 | V22: =K22 -> 11 | W22: =G22+H22+I22+J22 -> 11
A23: 5 | B23: ¹³ï³Ï³Ý Ñ³ÝÓÝ³ñ³ñáõÃÛáõÝÝ»ñ | T23: =D23+E23 -> 0 | U23: =F23+K23+L23 -> 0 | V23: =K23 -> 0 | W23: =G23+H23+I23+J23 -> 0
A24: ÀÜ¸²ØºÜÀ | D24: =D7+D8+D9+D10+D11+D12+D13+D14+D15+D17+D19+D20+D21+D22+D23+D16 -> 24 | E24: =E7+E8+E9+E10+E11+E12+E13+E14+E15+E17+E19+E20+E21+E22+E23+E16 -> 248 | F24: =F7+F8+F9+F10+F11+F12+F13+F14+F15+F17+F19+F20+F21+F22+F23+F16 -> 3 | G24: =G7+G8+G9+G10+G11+G12+G13+G14+G15+G17+G19+G20+G21+G22+G23+G16 -> 27 | H24: =H7+H8+H9+H10+H11+H12+H13+H14+H15+H17+H19+H20+H21+H22+H23+H16 -> 207 | I24: =I7+I8+I9+I10+I11+I12+I13+I14+I15+I17+I19+I20+I21+I22+I23+I16 -> 2 | J24: =J7+J8+J9+J10+J11+J12+J13+J14+J15+J17+J19+J20+J21+J22+J23+J16 -> 0 | K24: =K7+K8+K9+K10+K11+K12+K13+K14+K15+K17+K19+K20+K21+K22+K23+K16 -> 236 | ... R24: =R7+R8+R9+R10+R11+R12+R13+R14+R15+R17+R19+R20+R21+R22+R23+R16 -> 12 | T24: =D24+E24 -> 272 | U24: =F24+K24+L24 -> 271 | V24: =K24 -> 236 | W24: =G24+H24+I24+J24 -> 236
B26: 1 գործ միացել է

Sheet Էդ.Ավետիսյան
A1: 2017Ã. 1-ÇÝ ÏÇë³ÙÛ³Ï | D1: Ð²ÞìºîìàôÂÚàôÜ | P1: Ð³í»Éí³Í Ð³Û³ëï³ÝÇ Ð³Ýñ³å»ïáõÃÛ³Ý ¸³ï³ñ³ÝÝ»ñÇ Ý³Ë³·³ÑÝ»ñÇ ËáñÑñ¹Ç 25.08.2017Ã. ÃÇí 35-È áñáßÙ³Ý
A2: ØÇÝã¹³ï³Ï³Ý í³ñáõÛÃÇ ÝÏ³ïÙ³Ùµ ¹³ï³Ï³Ý í»ñ³ÑëÏáÕáõÃÛ³Ý, ¹³ï³Ï³Ý ³Ïï»ñÇ ¨ ¹³ï³Ï³Ý Ñ³ÝÓÝ³ñ³ñáõÃÛáõÝÝ»ñÇ Ï³ï³ñÙ³Ý Ñ»ï Ï³åí³Í ÙÇçÝáñ¹áõÃÛáõÝÝ»ñÇ í»ñ³µ»ñÛ³É ¹³ï³Ï³Ý ·áñÍ»ñáí ºñ¨³Ý ù³Õ³ùÇ Î»ÝïñáÝ ¨ Üáñù-Ø³ñ³ß í³ñã³Ï³Ý ßñç³ÝÝ»ñÇ ÁÝ¹Ñ³Ýáõñ Çñ³í³ëáõÃÛ³Ý ³é³çÇÝ ³ïÛ³ÝÇ ¹³ï³ñ³ÝÇ ¹³ï³íáñ ¾¹.²í»ïÇëÛ³ÝÇ ·áñÍáõÝ»áõÃÛ³Ý í»ñ³µ»ñÛ³É
D3: Ð³ßí»ïáõ Å³Ù³Ý³Ï³Ñ³ïí³ÍÇ ëÏ½µáõÙ Ý³Ëáñ¹ Ñ³ßí»ïáõ Å³Ù³Ý³Ï³Ñ³ïí³ÍÇó ÷áË³Ýóí³Í ·áñÍ»ñÇ ÁÝ¹Ñ³Ýáõñ ÃÇíÁ | E3: Ð³ßí»ïáõ Å³Ù³Ý³Ï³Ñ³ïí³ÍáõÙ ëï³óí³Í ·áñÍ»ñÇ ÁÝ¹Ñ³Ýáõñ ÃÇíÁ | F3: öáË³Ýóí»É ¿ ³ÛÉ ¹³ï³íáñÇ Ï³Ù ³ÛÉ ¹³ï³ñ³Ý (Ï³½ÙÇ ÷á÷áËáõÃÛáõÝ, ÁÝ¹¹³ïáõÃÛáõÝ) | G3: Ð³ßí»ïáõ Å³Ù³Ý³Ï³Ñ³ïí³ÍáõÙ ³í³ñïí³Í ·áñÍ»ñÇ ÁÝ¹Ñ³Ýáõñ ÃÇíÁ | L3: Ð³ßí»ïáõ Å³Ù³Ý³Ï³Ñ³ïí³ÍáõÙ ³Ý³í³ñï ·áñÍ»ñÇ ÁÝ¹Ñ³Ýáõñ ÃÇíÁ | M3: ØÇçÝáñ¹áõÃÛáõÝÝ»ñáí Ï³Û³óí³Í ¹³ï³Ï³Ý ³Ïï»ñÇó µáÕáù³ñÏí³ÍÝ»ñÇ ù³Ý³ÏÁ | O3: ²Ý³í³ñï µáÕáùÝ»ñ | P3: ØÇçÝáñ¹áõÃÛáõÝÝ»ñáí Ï³Û³óí³Í ¨ µáÕáù³ñÏí³Í ¹³ï³Ï³Ý ³Ïï»ñÇó µ»Ï³Ýí³ÍÝ»ñÇ ù³Ý³ÏÁ | R3: ÙÇçÝáñ¹áõÃÛáõÝÝ»ñáí Ï³Û³óí³Í ¨ µáÕáù³ñÏí³Í ¹³ï³Ï³Ý ³Ïï»ñÇó ³Ý÷á÷áË ÃáÕÝí³ÍÝ»ñÇ ù³Ý³ÏÁ
G4: Ù»ñÅí»É ¿ | H4: µ³í³ñ³ñí»É ¿ | I4: µ³í³ñ³ñí»É ¿ Ù³ëÝ³ÏÇ | J4: ÃáÕÝí»É ¿ ³é³Ýó ùÝÝáõÃÛ³Ý | K4: ÀÝ¹³Ù»ÝÁ
M5: Ý³Ëáñ¹ ï³ñÇÝ»ñÇÝ Ï³Û³óí³Í ³Ïï»ñÇ ¹»Ù | N5: Ñ³ßí»ïáõ Å³Ù³Ý³Ï³ßñç³ÝáõÙ Ï³Û³óí³Í ³Ïï»ñÇ ¹»Ù | P5: Ý³Ëáñ¹ ï³ñÇÝ»ñÇÝ Ï³Û³óí³Í ³Ïï»ñÇ µ»Ï³ÝáõÙÝ»ñÁ | Q5: Ñ³ßí»ïáõ Å³Ù³Ý³Ï³ßñç³ÝáõÙ Ï³Û³óí³Í ³Ïï»ñÇ µ»Ï³ÝáõÙÝ»ñÁ
A6: 1. ØÇÝã¹³ï³Ï³Ý í³ñáõÛÃÇ ÝÏ³ïÙ³Ùµ ¹³ï³Ï³Ý í»ñ³ÑëÏáÕáõÃÛ³Ý áÉáñï | D6: 1 | E6: 2 | F6: 3 | G6: 4 | H6: 5 | I6: 6 | J6: 7 | K6: 8 | L6: 9 | M6: 10 | N6: 11 | O6: 12 | P6: 13 | Q6: 14 | R6: 15 | T6: 1+2=3+8+9 | V6: 8=4+5+6+7
A7: 1 | B7: Ï³É³ÝùÁ áñå»ë Ë³÷³ÝÙ³Ý ÙÇçáó ÏÇñ³é»Éáõ Ù³ëÇÝ ÙÇçÝáñ¹áõÃÛáõÝÝ»ñ | E7: 27 | H7: 27 | K7: 27 | N7: 11 | O7: 7 | R7: 4 | T7: =D7+E7 -> 27 | U7: =F7+K7+L7 -> 27 | V7: =K7 -> 27 | W7: =G7+H7+I7+J7 -> 27
A8: 2 | B8: Ï³É³ÝùÇ Å³ÙÏ»ïÁ »ñÏ³ñ³óÝ»Éáõ Ù³ëÇÝ ÙÇçÝáñ¹áõÃÛáõÝÝ»ñ | E8: 23 | G8: 1 | H8: 22 | K8: 23 | N8: 4 | O8: 2 | Q8: 2 | T8: =D8+E8 -> 23 | U8: =F8+K8+L8 -> 23 | V8: =K8 -> 23 | W8: =G8+H8+I8+J8 -> 23
A9: 3 | B9: Ï³É³ÝùÇ í»ñ³Ñ³ëï³ïÙ³Ý Ù³ëÇÝ ÙÇçÝáñ¹áõÃÛáõÝÝ»ñ | E9: 2 | H9: 2 | K9: 2 | T9: =D9+E9 -> 2 | U9: =F9+K9+L9 -> 2 | V9: =K9 -> 2 | W9: =G9+H9+I9+J9 -> 2
A10: 4 | B10: ·ñ³íÁ áñå»ë Ï³É³Ý³íáñÙ³Ý ³ÛÉÁÝïñ³Ýù³ÛÇÝ Ë³÷³ÝÙ³Ý ÙÇçáó ÏÇñ³é»Éáõ Ù³ëÇÝ ÙÇçÝáñ¹áõÃÛáõÝÝ»ñ | E10: 3 | G10: 3 | K10: 3 | N10: 3 | O10: 1 | Q10: 1 | R10: 1 | T10: =D10+E10 -> 3 | U10: =F10+K10+L10 -> 3 | V10: =K10 -> 3 | W10: =G10+H10+I10+J10 -> 3
A11: 5 | B11: Ëáõ½³ñÏáõÃÛ³Ý Ï³ï³ñÙ³Ý Ù³ëÇÝ ÙÇçÝáñ¹áõÃÛáõÝÝ»ñ | E11: 59 | H11: 59 | K11: 59 | T11: =D11+E11 -> 59 | U11: =F11+K11+L11 -> 59 | V11: =K11 -> 59 | W11: =G11+H11+I11+J11 -> 59
A12: 6 | B12: µ³ÝÏ³ÛÇÝ, ³å³Ñáí³·ñ³Ï³Ý, Ýáï³ñ³Ï³Ý ·³ÕïÝÇù Ï³½ÙáÕ ï»Õ»ÏáõÃÛáõÝÝ»ñÇ ëï³óÙ³Ý Ñ³Ù³ñ Ëáõ½³ñÏáõÃÛ³Ý Ï³Ù ³é·ñ³íÙ³Ý Ï³ï³ñÙ³Ý Ù³ëÇÝ ÙÇçÝáñ¹áõÃÛáõÝÝ»ñ | E12: 4 | H12: 4 | K12: 4 | T12: =D12+E12 -> 4 | U12: =F12+K12+L12 -> 4 | V12: =K12 -> 4 | W12: =G12+H12+I12+J12 -> 4
A13: 7 | B13: Ý³Ù³Ï³·ñáõÃÛ³Ý, Ñ»é³·ñ³Ï³Ý, ÷áuï³ÛÇÝ Ñ³Õáñ¹áõÙÝ»ñÇ ÑëÏáÕáõÃÛ³Ý Ù³ëÇÝ ÙÇçÝáñ¹áõÃÛáõÝÝ»ñ | E13: 7 | H13: 7 | K13: 7 | T13: =D13+E13 -> 7 | U13: =F13+K13+L13 -> 7 | V13: =K13 -> 7 | W13: =G13+H13+I13+J13 -> 7
A14: 8 | B14: Ñ»é³Ëáu³ÛÇÝ Ï³Ù Ï³åÇ ³ÛÉ ÙÇçáóÝ»ñáí ï³ñíáÕ Ëáu³ÏóáõÃÛáõÝÝ»ñÇ ÉuÙ³Ý ¨ Ó³ÛÝ³·ñ³éÙ³Ý Ù³ëÇÝ ÙÇçÝáñ¹áõÃÛáõÝÝ»ñ | E14: 3 | H14: 3 | K14: 3 | T14: =D14+E14 -> 3 | U14: =F14+K14+L14 -> 3 | V14: =K14 -> 3 | W14: =G14+H14+I14+J14 -> 3
A15: 9 | B15: Ñ»é³ËáëÝ»ñÇ Ùáõïù³ÛÇÝ ¨ »Éù³ÛÇÝ í»ñÍ³ÝÙ³Ý ÃáõÛÉïíáõÃÛáõÝ ëï³Ý³Éáõ Ù³ëÇÝ ÙÇçÝáñ¹áõÃÛáõÝÝ»ñ | E15: 64 | H15: 64 | K15: 64 | T15: =D15+E15 -> 64 | U15: =F15+K15+L15 -> 64 | V15: =K15 -> 64 | W15: =G15+H15+I15+J15 -> 64
A16: 10 | B16: Ñ»ï³ùÝÝáõÃÛ³Ý Ù³ñÙÝÇ ³ßË³ïáÕÇ, ùÝÝÇãÇ, ¹³ï³Ë³½Ç oå»ñ³ïÇí-Ñ»ï³Ëáõ½³Ï³Ý ·áñÍáÕáõÃÛáõÝÝ»ñ Çñ³Ï³Ý³óÝáÕ Ù³ñÙÇÝÝ»ñÇ ³ÝoñÇÝ³Ï³Ý ¨ ³ÝÑÇÙÝ áñáßáõÙÝ»ñÇ ¨ ·áñÍáÕáõÃÛáõÝÝ»ñÇ ¹»Ù µáÕáùÝ»ñ | T16: =D16+E16 -> 0 | U16: =F16+K16+L16 -> 0 | V16: =K16 -> 0 | W16: =G16+H16+I16+J16 -> 0
A17: 11 | B17: ²½³ïáõÃÛáõÝÇó ½ñÏ»Éáõ Çñ³í³ã³÷áõÃÛ³Ý í»ñ³µ»ñÛ³É µáÕáùÝ»ñáí ·áñÍ»ñ | T17: =D17+E17 -> 0 | U17: =F17+K17+L17 -> 0 | V17: =K17 -> 0 | W17: =G17+H17+I17+J17 -> 0
A18: 2. ¸³ï³Ï³Ý ³Ïï»ñÇ ¨ ¹³ï³Ï³Ý Ñ³ÝÓÝ³ñ³ñáõÃÛáõÝÝ»ñÇ Ï³ï³ñÙ³Ý Ñ»ï Ï³åí³Í Ñ³ñó»ñÇ ÉáõÍÙ³Ý áÉáñï
A19: 1 | B19: å³ïÅÇó å³ÛÙ³Ý³Ï³Ý í³Õ³Å³ÙÏ»ï ³½³ï»Éáõ Ù³ëÇÝ ÙÇçÝáñ¹áõÃÛáõÝÝ»ñ | T19: =D19+E19 -> 0 | U19: =F19+K19+L19 -> 0 | V19: =K19 -> 0 | W19: =G19+H19+I19+J19 -> 0
A20: 2 | B20: å³ïÇÅÁ ÷á÷áË»Éáõ, Ñ»ï³Ó·»Éáõ ¨ å³ïÅÇó ³½³ï»Éáõ Ù³uÇÝ ÙÇçÝáñ¹áõÃÛáõÝÝ»ñ | T20: =D20+E20 -> 0 | U20: =F20+K20+L20 -> 0 | V20: =K20 -> 0 | W20: =G20+H20+I20+J20 -> 0
A21: 3 | B21: Ñ³ñÏ³¹Çñ µáõÅÙ³Ý ï»ë³ÏÇ ÷á÷áËáõÃÛ³Ý Ù³ëÇÝ ÙÇçÝáñ¹áõÃÛáõÝÝ»ñ | T21: =D21+E21 -> 0 | U21: =F21+K21+L21 -> 0 | V21: =K21 -> 0 | W21: =G21+H21+I21+J21 -> 0
A22: 4 | B22: ³ÛÉ ÙÇçÝáñ¹áõÃÛáõÝÝ»ñ | T22: =D22+E22 -> 0 | U22: =F22+K22+L22 -> 0 | V22: =K22 -> 0 | W22: =G22+H22+I22+J22 -> 0
A23: 5 | B23: ¹³ï³Ï³Ý Ñ³ÝÓÝ³ñ³ñáõÃÛáõÝÝ»ñ | D23: 2 | H23: 2 | K23: 2 | T23: =D23+E23 -> 2 | U23: =F23+K23+L23 -> 2 | V23: =K23 -> 2 | W23: =G23+H23+I23+J23 -> 2
A24: ÀÜ¸²ØºÜÀ | D24: =D7+D8+D9+D10+D11+D12+D13+D14+D15+D17+D19+D20+D21+D22+D23+D16 -> 2 | E24: =E7+E8+E9+E10+E11+E12+E13+E14+E15+E17+E19+E20+E21+E22+E23+E16 -> 192 | F24: =F7+F8+F9+F10+F11+F12+F13+F14+F15+F17+F19+F20+F21+F22+F23+F16 -> 0 | G24: =G7+G8+G9+G10+G11+G12+G13+G14+G15+G17+G19+G20+G21+G22+G23+G16 -> 4 | H24: =H7+H8+H9+H10+H11+H12+H13+H14+H15+H17+H19+H20+H21+H22+H23+H16 -> 190 | I24: =I7+I8+I9+I10+I11+I12+I13+I14+I15+I17+I19+I20+I21+I22+I23+I16 -> 0 | J24: =J7+J8+J9+J10+J11+J12+J13+J14+J15+J17+J19+J20+J21+J22+J23+J16 -> 0 | K24: =K7+K8+K9+K10+K11+K12+K13+K14+K15+K17+K19+K20+K21+K22+K23+K16 -> 194 | ... R24: =R7+R8+R9+R10+R11+R12+R13+R14+R15+R17+R19+R20+R21+R22+R23+R16 -> 5 | T24: =D24+E24 -> 194 | U24: =F24+K24+L24 -> 194 | V24: =K24 -> 194 | W24: =G24+H24+I24+J24 -> 194

Sheet Ալ.Սուքոյան
A1: 2017Ã. 1-ÇÝ ÏÇë³ÙÛ³Ï | D1: Ð²ÞìºîìàôÂÚàôÜ | P1: Ð³í»Éí³Í Ð³Û³ëï³ÝÇ Ð³Ýñ³å»ïáõÃÛ³Ý ¸³ï³ñ³ÝÝ»ñÇ Ý³Ë³·³ÑÝ»ñÇ ËáñÑñ¹Ç 25.08.2017Ã. ÃÇí 35-È áñáßÙ³Ý
A2: ØÇÝã¹³ï³Ï³Ý í³ñáõÛÃÇ ÝÏ³ïÙ³Ùµ ¹³ï³Ï³Ý í»ñ³ÑëÏáÕáõÃÛ³Ý, ¹³ï³Ï³Ý ³Ïï»ñÇ ¨ ¹³ï³Ï³Ý Ñ³ÝÓÝ³ñ³ñáõÃÛáõÝÝ»ñÇ Ï³ï³ñÙ³Ý Ñ»ï Ï³åí³Í ÙÇçÝáñ¹áõÃÛáõÝÝ»ñÇ í»ñ³µ»ñÛ³É ¹³ï³Ï³Ý ·áñÍ»ñáí ºñ¨³Ý ù³Õ³ùÇ Î»ÝïñáÝ ¨ Üáñù-Ø³ñ³ß í³ñã³Ï³Ý ßñç³ÝÝ»ñÇ ÁÝ¹Ñ³Ýáõñ Çñ³í³ëáõÃÛ³Ý ³é³çÇÝ ³ïÛ³ÝÇ ¹³ï³ñ³ÝÇ ¹³ï³íáñ ². êáõùáÛ³ÝÇ ·áñÍáõÝ»áõÃÛ³Ý í»ñ³µ»ñÛ³É
D3: Ð³ßí»ïáõ Å³Ù³Ý³Ï³Ñ³ïí³ÍÇ ëÏ½µáõÙ Ý³Ëáñ¹ Ñ³ßí»ïáõ Å³Ù³Ý³Ï³Ñ³ïí³ÍÇó ÷áË³Ýóí³Í ·áñÍ»ñÇ ÁÝ¹Ñ³Ýáõñ ÃÇíÁ | E3: Ð³ßí»ïáõ Å³Ù³Ý³Ï³Ñ³ïí³ÍáõÙ ëï³óí³Í ·áñÍ»ñÇ ÁÝ¹Ñ³Ýáõñ ÃÇíÁ | F3: öáË³Ýóí»É ¿ ³ÛÉ ¹³ï³íáñÇ Ï³Ù ³ÛÉ ¹³ï³ñ³Ý (Ï³½ÙÇ ÷á÷áËáõÃÛáõÝ, ÁÝ¹¹³ïáõÃÛáõÝ) | G3: Ð³ßí»ïáõ Å³Ù³Ý³Ï³Ñ³ïí³ÍáõÙ ³í³ñïí³Í ·áñÍ»ñÇ ÁÝ¹Ñ³Ýáõñ ÃÇíÁ | L3: Ð³ßí»ïáõ Å³Ù³Ý³Ï³Ñ³ïí³ÍáõÙ ³Ý³í³ñï ·áñÍ»ñÇ ÁÝ¹Ñ³Ýáõñ ÃÇíÁ | M3: ØÇçÝáñ¹áõÃÛáõÝÝ»ñáí Ï³Û³óí³Í ¹³ï³Ï³Ý ³Ïï»ñÇó µáÕáù³ñÏí³ÍÝ»ñÇ ù³Ý³ÏÁ | O3: ²Ý³í³ñï µáÕáùÝ»ñ | P3: ØÇçÝáñ¹áõÃÛáõÝÝ»ñáí Ï³Û³óí³Í ¨ µáÕáù³ñÏí³Í ¹³ï³Ï³Ý ³Ïï»ñÇó µ»Ï³Ýí³ÍÝ»ñÇ ù³Ý³ÏÁ | R3: ÙÇçÝáñ¹áõÃÛáõÝÝ»ñáí Ï³Û³óí³Í ¨ µáÕáù³ñÏí³Í ¹³ï³Ï³Ý ³Ïï»ñÇó ³Ý÷á÷áË ÃáÕÝí³ÍÝ»ñÇ ù³Ý³ÏÁ
G4: Ù»ñÅí»É ¿ | H4: µ³í³ñ³ñí»É ¿ | I4: µ³í³ñ³ñí»É ¿ Ù³ëÝ³ÏÇ | J4: ÃáÕÝí»É ¿ ³é³Ýó ùÝÝáõÃÛ³Ý | K4: ÀÝ¹³Ù»ÝÁ
M5: Ý³Ëáñ¹ ï³ñÇÝ»ñÇÝ Ï³Û³óí³Í ³Ïï»ñÇ ¹»Ù | N5: Ñ³ßí»ïáõ Å³Ù³Ý³Ï³ßñç³ÝáõÙ Ï³Û³óí³Í ³Ïï»ñÇ ¹»Ù | P5: Ý³Ëáñ¹ ï³ñÇÝ»ñÇÝ Ï³Û³óí³Í ³Ïï»ñÇ µ»Ï³ÝáõÙÝ»ñÁ | Q5: Ñ³ßí»ïáõ Å³Ù³Ý³Ï³ßñç³ÝáõÙ Ï³Û³óí³Í ³Ïï»ñÇ µ»Ï³ÝáõÙÝ»ñÁ
A6: 1. ØÇÝã¹³ï³Ï³Ý í³ñáõÛÃÇ ÝÏ³ïÙ³Ùµ ¹³ï³Ï³Ý í»ñ³ÑëÏáÕáõÃÛ³Ý áÉáñï | D6: 1 | E6: 2 | F6: 3 | G6: 4 | H6: 5 | I6: 6 | J6: 7 | K6: 8 | L6: 9 | M6: 10 | N6: 11 | O6: 12 | P6: 13 | Q6: 14 | R6: 15 | T6: 1+2=3+8+9 | V6: 8=4+5+6+7
A7: 1 | B7: Ï³É³ÝùÁ áñå»ë Ë³÷³ÝÙ³Ý ÙÇçáó ÏÇñ³é»Éáõ Ù³ëÇÝ ÙÇçÝáñ¹áõÃÛáõÝÝ»ñ | T7: =D7+E7 -> 0 | U7: =F7+K7+L7 -> 0 | V7: =K7 -> 0 | W7: =G7+H7+I7+J7 -> 0
A8: 2 | B8: Ï³É³ÝùÇ Å³ÙÏ»ïÁ »ñÏ³ñ³óÝ»Éáõ Ù³ëÇÝ ÙÇçÝáñ¹áõÃÛáõÝÝ»ñ | T8: =D8+E8 -> 0 | U8: =F8+K8+L8 -> 0 | V8: =K8 -> 0 | W8: =G8+H8+I8+J8 -> 0
A9: 3 | B9: Ï³É³ÝùÇ í»ñ³Ñ³ëï³ïÙ³Ý Ù³ëÇÝ ÙÇçÝáñ¹áõÃÛáõÝÝ»ñ | T9: =D9+E9 -> 0 | U9: =F9+K9+L9 -> 0 | V9: =K9 -> 0 | W9: =G9+H9+I9+J9 -> 0
A10: 4 | B10: ·ñ³íÁ áñå»ë Ï³É³Ý³íáñÙ³Ý ³ÛÉÁÝïñ³Ýù³ÛÇÝ Ë³÷³ÝÙ³Ý ÙÇçáó ÏÇñ³é»Éáõ Ù³ëÇÝ ÙÇçÝáñ¹áõÃÛáõÝÝ»ñ | T10: =D10+E10 -> 0 | U10: =F10+K10+L10 -> 0 | V10: =K10 -> 0 | W10: =G10+H10+I10+J10 -> 0
A11: 5 | B11: Ëáõ½³ñÏáõÃÛ³Ý Ï³ï³ñÙ³Ý Ù³ëÇÝ ÙÇçÝáñ¹áõÃÛáõÝÝ»ñ | T11: =D11+E11 -> 0 | U11: =F11+K11+L11 -> 0 | V11: =K11 -> 0 | W11: =G11+H11+I11+J11 -> 0
A12: 6 | B12: µ³ÝÏ³ÛÇÝ, ³å³Ñáí³·ñ³Ï³Ý, Ýáï³ñ³Ï³Ý ·³ÕïÝÇù Ï³½ÙáÕ ï»Õ»ÏáõÃÛáõÝÝ»ñÇ ëï³óÙ³Ý Ñ³Ù³ñ Ëáõ½³ñÏáõÃÛ³Ý Ï³Ù ³é·ñ³íÙ³Ý Ï³ï³ñÙ³Ý Ù³ëÇÝ ÙÇçÝáñ¹áõÃÛáõÝÝ»ñ | T12: =D12+E12 -> 0 | U12: =F12+K12+L12 -> 0 | V12: =K12 -> 0 | W12: =G12+H12+I12+J12 -> 0
A13: 7 | B13: Ý³Ù³Ï³·ñáõÃÛ³Ý, Ñ»é³·ñ³Ï³Ý, ÷áuï³ÛÇÝ Ñ³Õáñ¹áõÙÝ»ñÇ ÑëÏáÕáõÃÛ³Ý Ù³ëÇÝ ÙÇçÝáñ¹áõÃÛáõÝÝ»ñ | T13: =D13+E13 -> 0 | U13: =F13+K13+L13 -> 0 | V13: =K13 -> 0 | W13: =G13+H13+I13+J13 -> 0
A14: 8 | B14: Ñ»é³Ëáu³ÛÇÝ Ï³Ù Ï³åÇ ³ÛÉ ÙÇçáóÝ»ñáí ï³ñíáÕ Ëáu³ÏóáõÃÛáõÝÝ»ñÇ ÉuÙ³Ý ¨ Ó³ÛÝ³·ñ³éÙ³Ý Ù³ëÇÝ ÙÇçÝáñ¹áõÃÛáõÝÝ»ñ | T14: =D14+E14 -> 0 | U14: =F14+K14+L14 -> 0 | V14: =K14 -> 0 | W14: =G14+H14+I14+J14 -> 0
A15: 9 | B15: Ñ»é³ËáëÝ»ñÇ Ùáõïù³ÛÇÝ ¨ »Éù³ÛÇÝ í»ñÍ³ÝÙ³Ý ÃáõÛÉïíáõÃÛáõÝ ëï³Ý³Éáõ Ù³ëÇÝ ÙÇçÝáñ¹áõÃÛáõÝÝ»ñ | T15: =D15+E15 -> 0 | U15: =F15+K15+L15 -> 0 | V15: =K15 -> 0 | W15: =G15+H15+I15+J15 -> 0
A16: 10 | B16: Ñ»ï³ùÝÝáõÃÛ³Ý Ù³ñÙÝÇ ³ßË³ïáÕÇ, ùÝÝÇãÇ, ¹³ï³Ë³½Ç oå»ñ³ïÇí-Ñ»ï³Ëáõ½³Ï³Ý ·áñÍáÕáõÃÛáõÝÝ»ñ Çñ³Ï³Ý³óÝáÕ Ù³ñÙÇÝÝ»ñÇ ³ÝoñÇÝ³Ï³Ý ¨ ³ÝÑÇÙÝ áñáßáõÙÝ»ñÇ ¨ ·áñÍáÕáõÃÛáõÝÝ»ñÇ ¹»Ù µáÕáùÝ»ñ | T16: =D16+E16 -> 0 | U16: =F16+K16+L16 -> 0 | V16: =K16 -> 0 | W16: =G16+H16+I16+J16 -> 0
A17: 11 | B17: ²½³ïáõÃÛáõÝÇó ½ñÏ»Éáõ Çñ³í³ã³÷áõÃÛ³Ý í»ñ³µ»ñÛ³É µáÕáùÝ»ñáí ·áñÍ»ñ | T17: =D17+E17 -> 0 | U17: =F17+K17+L17 -> 0 | V17: =K17 -> 0 | W17: =G17+H17+I17+J17 -> 0
A18: 2. ¸³ï³Ï³Ý ³Ïï»ñÇ ¨ ¹³ï³Ï³Ý Ñ³ÝÓÝ³ñ³ñáõÃÛáõÝÝ»ñÇ Ï³ï³ñÙ³Ý Ñ»ï Ï³åí³Í Ñ³ñó»ñÇ ÉáõÍÙ³Ý áÉáñï
A19: 1 | B19: å³ïÅÇó å³ÛÙ³Ý³Ï³Ý í³Õ³Å³ÙÏ»ï ³½³ï»Éáõ Ù³ëÇÝ ÙÇçÝáñ¹áõÃÛáõÝÝ»ñ | T19: =D19+E19 -> 0 | U19: =F19+K19+L19 -> 0 | V19: =K19 -> 0 | W19: =G19+H19+I19+J19 -> 0
A20: 2 | B20: å³ïÇÅÁ ÷á÷áË»Éáõ, Ñ»ï³Ó·»Éáõ ¨ å³ïÅÇó ³½³ï»Éáõ Ù³uÇÝ ÙÇçÝáñ¹áõÃÛáõÝÝ»ñ | T20: =D20+E20 -> 0 | U20: =F20+K20+L20 -> 0 | V20: =K20 -> 0 | W20: =G20+H20+I20+J20 -> 0
A21: 3 | B21: Ñ³ñÏ³¹Çñ µáõÅÙ³Ý ï»ë³ÏÇ ÷á÷áËáõÃÛ³Ý Ù³ëÇÝ ÙÇçÝáñ¹áõÃÛáõÝÝ»ñ | T21: =D21+E21 -> 0 | U21: =F21+K21+L21 -> 0 | V21: =K21 -> 0 | W21: =G21+H21+I21+J21 -> 0
A22: 4 | B22: ³ÛÉ ÙÇçÝáñ¹áõÃÛáõÝÝ»ñ | T22: =D22+E22 -> 0 | U22: =F22+K22+L22 -> 0 | V22: =K22 -> 0 | W22: =G22+H22+I22+J22 -> 0
A23: 5 | B23: ¹³ï³Ï³Ý Ñ³ÝÓÝ³ñ³ñáõÃÛáõÝÝ»ñ | D23: 1 | H23: 1 | K23: 1 | T23: =D23+E23 -> 1 | U23: =F23+K23+L23 -> 1 | V23: =K23 -> 1 | W23: =G23+H23+I23+J23 -> 1
A24: ÀÜ¸²ØºÜÀ | D24: =D7+D8+D9+D10+D11+D12+D13+D14+D15+D17+D19+D20+D21+D22+D23+D16 -> 1 | E24: =E7+E8+E9+E10+E11+E12+E13+E14+E15+E17+E19+E20+E21+E22+E23+E16 -> 0 | F24: =F7+F8+F9+F10+F11+F12+F13+F14+F15+F17+F19+F20+F21+F22+F23+F16 -> 0 | G24: =G7+G8+G9+G10+G11+G12+G13+G14+G15+G17+G19+G20+G21+G22+G23+G16 -> 0 | H24: =H7+H8+H9+H10+H11+H12+H13+H14+H15+H17+H19+H20+H21+H22+H23+H16 -> 1 | I24: =I7+I8+I9+I10+I11+I12+I13+I14+I15+I17+I19+I20+I21+I22+I23+I16 -> 0 | J24: =J7+J8+J9+J10+J11+J12+J13+J14+J15+J17+J19+J20+J21+J22+J23+J16 -> 0 | K24: =K7+K8+K9+K10+K11+K12+K13+K14+K15+K17+K19+K20+K21+K22+K23+K16 -> 1 | ... R24: =R7+R8+R9+R10+R11+R12+R13+R14+R15+R17+R19+R20+R21+R22+R23+R16 -> 0 | T24: =D24+E24 -> 1 | U24: =F24+K24+L24 -> 1 | V24: =K24 -> 1 | W24: =G24+H24+I24+J24 -> 1

Sheet Գ. Խանդանյան
A1: 2016Ã. | D1: Ð²ÞìºîìàôÂÚàôÜ | P1: Ð³í»Éí³Í Ð³Û³ëï³ÝÇ Ð³Ýñ³å»ïáõÃÛ³Ý ¸³ï³ñ³ÝÝ»ñÇ Ý³Ë³·³ÑÝ»ñÇ ËáñÑñ¹Ç 25.08.2016Ã. ÃÇí 44-È áñáßÙ³Ý
A2: ØÇÝã¹³ï³Ï³Ý í³ñáõÛÃÇ ÝÏ³ïÙ³Ùµ ¹³ï³Ï³Ý í»ñ³ÑëÏáÕáõÃÛ³ÝÁ, ¹³ï³Ï³Ý ³Ïï»ñÇ ¨ ¹³ï³Ï³Ý Ñ³ÝÓÝ³ñ³ñáõÃÛáõÝÝ»ñÇ Ï³ï³ñÙ³Ý Ñ»ï Ï³åí³Í ÙÇçÝáñ¹áõÃÛáõÝÝ»ñÇ í»ñ³µ»ñÛ³É ¹³ï³Ï³Ý ·áñÍ»ñáí ºñ¨³Ý ù³Õ³ùÇ Î»ÝïñáÝ ¨ Üáñù-Ø³ñ³ß í³ñã³Ï³Ý ßñç³ÝÝ»ñÇ ÁÝ¹Ñ³Ýáõñ Çñ³í³ëáõÃÛ³Ý ³é³çÇÝ ³ïÛ³ÝÇ ¹³ï³ñ³ÝÇ ¹³ï³íáñ Գ. Խանդանյանի ·áñÍáõÝ»áõÃÛ³Ý í»ñ³µ»ñÛ³É
A3: êïáõ·Çã Ñ³í³ë³ñáõÙ` 1+2=3+8+9, 8=4+5+6+7, | D3: Ð³ßí»ïáõ Å³Ù³Ý³Ï³Ñ³ïí³ÍÇ ëÏ½µáõÙ Ý³Ëáñ¹ Ñ³ßí»ïáõ Å³Ù³Ý³Ï³Ñ³ïí³ÍÇó ÷áË³Ýóí³Í ·áñÍ»ñÇ ÁÝ¹Ñ³Ýáõñ ÃÇíÁ | E3: Ð³ßí»ïáõ Å³Ù³Ý³Ï³Ñ³ïí³ÍáõÙ ëï³óí³Í ·áñÍ»ñÇ ÁÝ¹Ñ³Ýáõñ ÃÇíÁ | F3: öáË³Ýóí»É ¿ ³ÛÉ ¹³ï³íáñÇ Ï³Ù ³ÛÉ ¹³ï³ñ³Ý (Ï³½ÙÇ ÷á÷áËáõÃÛáõÝ, ÁÝ¹¹³ïáõÃÛáõÝ) | G3: Ð³ßí»ïáõ Å³Ù³Ý³Ï³Ñ³ïí³ÍáõÙ ³í³ñïí³Í ·áñÍ»ñÇ ÁÝ¹Ñ³Ýáõñ ÃÇíÁ | L3: Ð³ßí»ïáõ Å³Ù³Ý³Ï³Ñ³ïí³ÍáõÙ ³Ý³í³ñï ·áñÍ»ñÇ ÁÝ¹Ñ³Ýáõñ ÃÇíÁ | M3: ØÇçÝáñ¹áõÃÛáõÝÝ»ñáí Ï³Û³óí³Í ¹³ï³Ï³Ý ³Ïï»ñÇó µáÕáù³ñÏí³ÍÝ»ñÇ ù³Ý³ÏÁ | O3: ²Ý³í³ñï µáÕáùÝ»ñ | P3: ØÇçÝáñ¹áõÃÛáõÝÝ»ñáí Ï³Û³óí³Í ¨ µáÕáù³ñÏí³Í ¹³ï³Ï³Ý ³Ïï»ñÇó µ»Ï³Ýí³ÍÝ»ñÇ ù³Ý³ÏÁ | R3: ÙÇçÝáñ¹áõÃÛáõÝÝ»ñáí Ï³Û³óí³Í ¨ µáÕáù³ñÏí³Í ¹³ï³Ï³Ý ³Ïï»ñÇó ³Ý÷á÷áË ÃáÕÝí³ÍÝ»ñÇ ù³Ý³ÏÁ
G4: Ù»ñÅí»É ¿ | H4: µ³í³ñ³ñí»É ¿ | I4: µ³í³ñ³ñí»É ¿ Ù³ëÝ³ÏÇ | J4: ÃáÕÝí»É ¿ ³é³Ýó ùÝÝáõÃÛ³Ý | K4: ÀÝ¹³Ù»ÝÁ
M5: Ý³Ëáñ¹ ï³ñÇÝ»ñÇÝ Ï³Û³óí³Í ³Ïï»ñÇ ¹»Ù | N5: Ñ³ßí»ïáõ Å³Ù³Ý³Ï³ßñç³ÝáõÙ Ï³Û³óí³Í ³Ïï»ñÇ ¹»Ù | P5: Ý³Ëáñ¹ ï³ñÇÝ»ñÇÝ Ï³Û³óí³Í ³Ïï»ñÇ µ»Ï³ÝáõÙÝ»ñÁ | Q5: Ñ³ßí»ïáõ Å³Ù³Ý³Ï³ßñç³ÝáõÙ Ï³Û³óí³Í ³Ïï»ñÇ µ»Ï³ÝáõÙÝ»ñÁ
A6: 1. ØÇÝã¹³ï³Ï³Ý í³ñáõÛÃÇ ÝÏ³ïÙ³Ùµ ¹³ï³Ï³Ý í»ñ³ÑëÏáÕáõÃÛ³Ý áÉáñï | D6: 1 | E6: 2 | F6: 3 | G6: 4 | H6: 5 | I6: 6 | J6: 7 | K6: 8 | L6: 9 | M6: 10 | N6: 11 | O6: 12 | P6: 13 | Q6: 14 | R6: 15 | T6: 1+2=3+8+9 | V6: 8=4+5+6+7
A7: 1 | B7: Ï³É³ÝùÁ áñå»ë Ë³÷³ÝÙ³Ý ÙÇçáó ÏÇñ³é»Éáõ Ù³ëÇÝ ÙÇçÝáñ¹áõÃÛáõÝÝ»ñ | T7: =D7+E7 -> 0 | U7: =F7+K7+L7 -> 0 | V7: =K7 -> 0 | W7: =G7+H7+I7+J7 -> 0
A8: 2 | B8: Ï³É³ÝùÇ Å³ÙÏ»ïÁ »ñÏ³ñ³óÝ»Éáõ Ù³ëÇÝ ÙÇçÝáñ¹áõÃÛáõÝÝ»ñ | T8: =D8+E8 -> 0 | U8: =F8+K8+L8 -> 0 | V8: =K8 -> 0 | W8: =G8+H8+I8+J8 -> 0
A9: 3 | B9: Ï³É³ÝùÇ í»ñ³Ñ³ëï³ïÙ³Ý Ù³ëÇÝ ÙÇçÝáñ¹áõÃÛáõÝÝ»ñ | T9: =D9+E9 -> 0 | U9: =F9+K9+L9 -> 0 | V9: =K9 -> 0 | W9: =G9+H9+I9+J9 -> 0
A10: 4 | B10: ·ñ³íÁ áñå»ë Ï³É³Ý³íáñÙ³Ý ³ÛÉÁÝïñ³Ýù³ÛÇÝ Ë³÷³ÝÙ³Ý ÙÇçáó ÏÇñ³é»Éáõ Ù³ëÇÝ ÙÇçÝáñ¹áõÃÛáõÝÝ»ñ | T10: =D10+E10 -> 0 | U10: =F10+K10+L10 -> 0 | V10: =K10 -> 0 | W10: =G10+H10+I10+J10 -> 0
A11: 5 | B11: Ëáõ½³ñÏáõÃÛ³Ý Ï³ï³ñÙ³Ý Ù³ëÇÝ ÙÇçÝáñ¹áõÃÛáõÝÝ»ñ | T11: =D11+E11 -> 0 | U11: =F11+K11+L11 -> 0 | V11: =K11 -> 0 | W11: =G11+H11+I11+J11 -> 0
A12: 6 | B12: µ³ÝÏ³ÛÇÝ, ³å³Ñáí³·ñ³Ï³Ý, Ýáï³ñ³Ï³Ý ·³ÕïÝÇù Ï³½ÙáÕ ï»Õ»ÏáõÃÛáõÝÝ»ñÇ ëï³óÙ³Ý Ñ³Ù³ñ Ëáõ½³ñÏáõÃÛ³Ý Ï³Ù ³é·ñ³íÙ³Ý Ï³ï³ñÙ³Ý Ù³ëÇÝ ÙÇçÝáñ¹áõÃÛáõÝÝ»ñ | T12: =D12+E12 -> 0 | U12: =F12+K12+L12 -> 0 | V12: =K12 -> 0 | W12: =G12+H12+I12+J12 -> 0
A13: 7 | B13: Ý³Ù³Ï³·ñáõÃÛ³Ý, Ñ»é³·ñ³Ï³Ý, ÷áuï³ÛÇÝ Ñ³Õáñ¹áõÙÝ»ñÇ ÑëÏáÕáõÃÛ³Ý Ù³ëÇÝ ÙÇçÝáñ¹áõÃÛáõÝÝ»ñ | T13: =D13+E13 -> 0 | U13: =F13+K13+L13 -> 0 | V13: =K13 -> 0 | W13: =G13+H13+I13+J13 -> 0
A14: 8 | B14: Ñ»é³Ëáu³ÛÇÝ Ï³Ù Ï³åÇ ³ÛÉ ÙÇçáóÝ»ñáí ï³ñíáÕ Ëáu³ÏóáõÃÛáõÝÝ»ñÇ ÉuÙ³Ý ¨ Ó³ÛÝ³·ñ³éÙ³Ý Ù³ëÇÝ ÙÇçÝáñ¹áõÃÛáõÝÝ»ñ | T14: =D14+E14 -> 0 | U14: =F14+K14+L14 -> 0 | V14: =K14 -> 0 | W14: =G14+H14+I14+J14 -> 0
A15: 9 | B15: Ñ»é³ËáëÝ»ñÇ Ùáõïù³ÛÇÝ ¨ »Éù³ÛÇÝ í»ñÍ³ÝÙ³Ý ÃáõÛÉïíáõÃÛáõÝ ëï³Ý³Éáõ Ù³ëÇÝ ÙÇçÝáñ¹áõÃÛáõÝÝ»ñ | T15: =D15+E15 -> 0 | U15: =F15+K15+L15 -> 0 | V15: =K15 -> 0 | W15: =G15+H15+I15+J15 -> 0
A16: 10 | B16: Ñ»ï³ùÝÝáõÃÛ³Ý Ù³ñÙÝÇ ³ßË³ïáÕÇ, ùÝÝÇãÇ, ¹³ï³Ë³½Ç oå»ñ³ïÇí-Ñ»ï³Ëáõ½³Ï³Ý ·áñÍáÕáõÃÛáõÝÝ»ñ Çñ³Ï³Ý³óÝáÕ Ù³ñÙÇÝÝ»ñÇ ³ÝoñÇÝ³Ï³Ý ¨ ³ÝÑÇÙÝ áñáßáõÙÝ»ñÇ ¨ ·áñÍáÕáõÃÛáõÝÝ»ñÇ ¹»Ù µáÕáùÝ»ñ | T16: =D16+E16 -> 0 | U16: =F16+K16+L16 -> 0 | V16: =K16 -> 0 | W16: =G16+H16+I16+J16 -> 0
A17: 11 | B17: ²½³ïáõÃÛáõÝÇó ½ñÏ»Éáõ Çñ³í³ã³÷áõÃÛ³Ý í»ñ³µ»ñÛ³É µáÕáùÝ»ñáí ·áñÍ»ñ | T17: =D17+E17 -> 0 | U17: =F17+K17+L17 -> 0 | V17: =K17 -> 0 | W17: =G17+H17+I17+J17 -> 0
A18: 2. ¸³ï³Ï³Ý ³Ïï»ñÇ ¨ ¹³ï³Ï³Ý Ñ³ÝÓÝ³ñ³ñáõÃÛáõÝÝ»ñÇ Ï³ï³ñÙ³Ý Ñ»ï Ï³åí³Í Ñ³ñó»ñÇ ÉáõÍÙ³Ý áÉáñï
A19: 1 | B19: å³ïÅÇó å³ÛÙ³Ý³Ï³Ý í³Õ³Å³ÙÏ»ï ³½³ï»Éáõ Ù³ëÇÝ ÙÇçÝáñ¹áõÃÛáõÝÝ»ñ | T19: =D19+E19 -> 0 | U19: =F19+K19+L19 -> 0 | V19: =K19 -> 0 | W19: =G19+H19+I19+J19 -> 0
A20: 2 | B20: å³ïÇÅÁ ÷á÷áË»Éáõ, Ñ»ï³Ó·»Éáõ ¨ å³ïÅÇó ³½³ï»Éáõ Ù³uÇÝ ÙÇçÝáñ¹áõÃÛáõÝÝ»ñ | T20: =D20+E20 -> 0 | U20: =F20+K20+L20 -> 0 | V20: =K20 -> 0 | W20: =G20+H20+I20+J20 -> 0
A21: 3 | B21: Ñ³ñÏ³¹Çñ µáõÅÙ³Ý ï»ë³ÏÇ ÷á÷áËáõÃÛ³Ý Ù³ëÇÝ ÙÇçÝáñ¹áõÃÛáõÝÝ»ñ | T21: =D21+E21 -> 0 | U21: =F21+K21+L21 -> 0 | V21: =K21 -> 0 | W21: =G21+H21+I21+J21 -> 0
A22: 4 | B22: ³ÛÉ ÙÇçÝáñ¹áõÃÛáõÝÝ»ñ | T22: =D22+E22 -> 0 | U22: =F22+K22+L22 -> 0 | V22: =K22 -> 0 | W22: =G22+H22+I22+J22 -> 0
A23: 5 | B23: ¹³ï³Ï³Ý Ñ³ÝÓÝ³ñ³ñáõÃÛáõÝÝ»ñ | T23: =D23+E23 -> 0 | U23: =F23+K23+L23 -> 0 | V23: =K23 -> 0 | W23: =G23+H23+I23+J23 -> 0
A24: ÀÜ¸²ØºÜÀ | D24: =D7+D8+D9+D10+D11+D12+D13+D14+D15+D17+D19+D20+D21+D22+D23+D16 -> 0 | E24: =E7+E8+E9+E10+E11+E12+E13+E14+E15+E17+E19+E20+E21+E22+E23+E16 -> 0 | F24: =F7+F8+F9+F10+F11+F12+F13+F14+F15+F17+F19+F20+F21+F22+F23+F16 -> 0 | G24: =G7+G8+G9+G10+G11+G12+G13+G14+G15+G17+G19+G20+G21+G22+G23+G16 -> 0 | H24: =H7+H8+H9+H10+H11+H12+H13+H14+H15+H17+H19+H20+H21+H22+H23+H16 -> 0 | I24: =I7+I8+I9+I10+I11+I12+I13+I14+I15+I17+I19+I20+I21+I22+I23+I16 -> 0 | J24: =J7+J8+J9+J10+J11+J12+J13+J14+J15+J17+J19+J20+J21+J22+J23+J16 -> 0 | K24: =K7+K8+K9+K10+K11+K12+K13+K14+K15+K17+K19+K20+K21+K22+K23+K16 -> 0 | ... R24: =R7+R8+R9+R10+R11+R12+R13+R14+R15+R17+R19+R20+R21+R22+R23+R16 -> 0 | T24: =D24+E24 -> 0 | U24: =F24+K24+L24 -> 0 | V24: =K24 -> 0 | W24: =G24+H24+I24+J24 -> 0

Sheet Մ. Մակյան
A1: 2017Ã. 1-ÇÝ ÏÇë³ÙÛ³Ï | D1: Ð²ÞìºîìàôÂÚàôÜ | P1: Ð³í»Éí³Í Ð³Û³ëï³ÝÇ Ð³Ýñ³å»ïáõÃÛ³Ý ¸³ï³ñ³ÝÝ»ñÇ Ý³Ë³·³ÑÝ»ñÇ ËáñÑñ¹Ç 25.08.2017Ã. ÃÇí 35-È áñáßÙ³Ý
A2: ØÇÝã¹³ï³Ï³Ý í³ñáõÛÃÇ ÝÏ³ïÙ³Ùµ ¹³ï³Ï³Ý í»ñ³ÑëÏáÕáõÃÛ³Ý, ¹³ï³Ï³Ý ³Ïï»ñÇ ¨ ¹³ï³Ï³Ý Ñ³ÝÓÝ³ñ³ñáõÃÛáõÝÝ»ñÇ Ï³ï³ñÙ³Ý Ñ»ï Ï³åí³Í ÙÇçÝáñ¹áõÃÛáõÝÝ»ñÇ í»ñ³µ»ñÛ³É ¹³ï³Ï³Ý ·áñÍ»ñáí ºñ¨³Ý ù³Õ³ùÇ Î»ÝïñáÝ ¨ Üáñù-Ø³ñ³ß í³ñã³Ï³Ý ßñç³ÝÝ»ñÇ ÁÝ¹Ñ³Ýáõñ Çñ³í³ëáõÃÛ³Ý ³é³çÇÝ ³ïÛ³ÝÇ ¹³ï³ñ³ÝÇ ¹³ï³íáñ Մ. Մակյանի ·áñÍáõÝ»áõÃÛ³Ý í»ñ³µ»ñÛ³É
D3: Ð³ßí»ïáõ Å³Ù³Ý³Ï³Ñ³ïí³ÍÇ ëÏ½µáõÙ Ý³Ëáñ¹ Ñ³ßí»ïáõ Å³Ù³Ý³Ï³Ñ³ïí³ÍÇó ÷áË³Ýóí³Í ·áñÍ»ñÇ ÁÝ¹Ñ³Ýáõñ ÃÇíÁ | E3: Ð³ßí»ïáõ Å³Ù³Ý³Ï³Ñ³ïí³ÍáõÙ ëï³óí³Í ·áñÍ»ñÇ ÁÝ¹Ñ³Ýáõñ ÃÇíÁ | F3: öáË³Ýóí»É ¿ ³ÛÉ ¹³ï³íáñÇ Ï³Ù ³ÛÉ ¹³ï³ñ³Ý (Ï³½ÙÇ ÷á÷áËáõÃÛáõÝ, ÁÝ¹¹³ïáõÃÛáõÝ) | G3: Ð³ßí»ïáõ Å³Ù³Ý³Ï³Ñ³ïí³ÍáõÙ ³í³ñïí³Í ·áñÍ»ñÇ ÁÝ¹Ñ³Ýáõñ ÃÇíÁ | L3: Ð³ßí»ïáõ Å³Ù³Ý³Ï³Ñ³ïí³ÍáõÙ ³Ý³í³ñï ·áñÍ»ñÇ ÁÝ¹Ñ³Ýáõñ ÃÇíÁ | M3: ØÇçÝáñ¹áõÃÛáõÝÝ»ñáí Ï³Û³óí³Í ¹³ï³Ï³Ý ³Ïï»ñÇó µáÕáù³ñÏí³ÍÝ»ñÇ ù³Ý³ÏÁ | O3: ²Ý³í³ñï µáÕáùÝ»ñ | P3: ØÇçÝáñ¹áõÃÛáõÝÝ»ñáí Ï³Û³óí³Í ¨ µáÕáù³ñÏí³Í ¹³ï³Ï³Ý ³Ïï»ñÇó µ»Ï³Ýí³ÍÝ»ñÇ ù³Ý³ÏÁ | R3: ÙÇçÝáñ¹áõÃÛáõÝÝ»ñáí Ï³Û³óí³Í ¨ µáÕáù³ñÏí³Í ¹³ï³Ï³Ý ³Ïï»ñÇó ³Ý÷á÷áË ÃáÕÝí³ÍÝ»ñÇ ù³Ý³ÏÁ
G4: Ù»ñÅí»É ¿ | H4: µ³í³ñ³ñí»É ¿ | I4: µ³í³ñ³ñí»É ¿ Ù³ëÝ³ÏÇ | J4: ÃáÕÝí»É ¿ ³é³Ýó ùÝÝáõÃÛ³Ý | K4: ÀÝ¹³Ù»ÝÁ
M5: Ý³Ëáñ¹ ï³ñÇÝ»ñÇÝ Ï³Û³óí³Í ³Ïï»ñÇ ¹»Ù | N5: Ñ³ßí»ïáõ Å³Ù³Ý³Ï³ßñç³ÝáõÙ Ï³Û³óí³Í ³Ïï»ñÇ ¹»Ù | P5: Ý³Ëáñ¹ ï³ñÇÝ»ñÇÝ Ï³Û³óí³Í ³Ïï»ñÇ µ»Ï³ÝáõÙÝ»ñÁ | Q5: Ñ³ßí»ïáõ Å³Ù³Ý³Ï³ßñç³ÝáõÙ Ï³Û³óí³Í ³Ïï»ñÇ µ»Ï³ÝáõÙÝ»ñÁ
A6: 1. ØÇÝã¹³ï³Ï³Ý í³ñáõÛÃÇ ÝÏ³ïÙ³Ùµ ¹³ï³Ï³Ý í»ñ³ÑëÏáÕáõÃÛ³Ý áÉáñï | D6: 1 | E6: 2 | F6: 3 | G6: 4 | H6: 5 | I6: 6 | J6: 7 | K6: 8 | L6: 9 | M6: 10 | N6: 11 | O6: 12 | P6: 13 | Q6: 14 | R6: 15 | T6: 1+2=3+8+9 | V6: 8=4+5+6+7
A7: 1 | B7: Ï³É³ÝùÁ áñå»ë Ë³÷³ÝÙ³Ý ÙÇçáó ÏÇñ³é»Éáõ Ù³ëÇÝ ÙÇçÝáñ¹áõÃÛáõÝÝ»ñ | E7: 24 | H7: 24 | K7: 24 | N7: 12 | O7: 6 | Q7: 1 | R7: 5 | T7: =D7+E7 -> 24 | U7: =F7+K7+L7 -> 24 | V7: =K7 -> 24 | W7: =G7+H7+I7+J7 -> 24
A8: 2 | B8: Ï³É³ÝùÇ Å³ÙÏ»ïÁ »ñÏ³ñ³óÝ»Éáõ Ù³ëÇÝ ÙÇçÝáñ¹áõÃÛáõÝÝ»ñ | E8: 19 | G8: 1 | H8: 18 | K8: 19 | N8: 8 | O8: 5 | Q8: 1 | R8: 2 | T8: =D8+E8 -> 19 | U8: =F8+K8+L8 -> 19 | V8: =K8 -> 19 | W8: =G8+H8+I8+J8 -> 19
A9: 3 | B9: Ï³É³ÝùÇ í»ñ³Ñ³ëï³ïÙ³Ý Ù³ëÇÝ ÙÇçÝáñ¹áõÃÛáõÝÝ»ñ | E9: 4 | H9: 4 | K9: 4 | T9: =D9+E9 -> 4 | U9: =F9+K9+L9 -> 4 | V9: =K9 -> 4 | W9: =G9+H9+I9+J9 -> 4
A10: 4 | B10: ·ñ³íÁ áñå»ë Ï³É³Ý³íáñÙ³Ý ³ÛÉÁÝïñ³Ýù³ÛÇÝ Ë³÷³ÝÙ³Ý ÙÇçáó ÏÇñ³é»Éáõ Ù³ëÇÝ ÙÇçÝáñ¹áõÃÛáõÝÝ»ñ | E10: 2 | G10: 1 | H10: 1 | K10: 2 | N10: 1 | O10: 1 | T10: =D10+E10 -> 2 | U10: =F10+K10+L10 -> 2 | V10: =K10 -> 2 | W10: =G10+H10+I10+J10 -> 2
A11: 5 | B11: Ëáõ½³ñÏáõÃÛ³Ý Ï³ï³ñÙ³Ý Ù³ëÇÝ ÙÇçÝáñ¹áõÃÛáõÝÝ»ñ | E11: 58 | G11: 3 | H11: 44 | I11: 11 | K11: 58 | T11: =D11+E11 -> 58 | U11: =F11+K11+L11 -> 58 | V11: =K11 -> 58 | W11: =G11+H11+I11+J11 -> 58
A12: 6 | B12: µ³ÝÏ³ÛÇÝ, ³å³Ñáí³·ñ³Ï³Ý, Ýáï³ñ³Ï³Ý ·³ÕïÝÇù Ï³½ÙáÕ ï»Õ»ÏáõÃÛáõÝÝ»ñÇ ëï³óÙ³Ý Ñ³Ù³ñ Ëáõ½³ñÏáõÃÛ³Ý Ï³Ù ³é·ñ³íÙ³Ý Ï³ï³ñÙ³Ý Ù³ëÇÝ ÙÇçÝáñ¹áõÃÛáõÝÝ»ñ | E12: 9 | H12: 9 | K12: 9 | T12: =D12+E12 -> 9 | U12: =F12+K12+L12 -> 9 | V12: =K12 -> 9 | W12: =G12+H12+I12+J12 -> 9
A13: 7 | B13: Ý³Ù³Ï³·ñáõÃÛ³Ý, Ñ»é³·ñ³Ï³Ý, ÷áuï³ÛÇÝ Ñ³Õáñ¹áõÙÝ»ñÇ ÑëÏáÕáõÃÛ³Ý Ù³ëÇÝ ÙÇçÝáñ¹áõÃÛáõÝÝ»ñ | E13: 6 | H13: 6 | K13: 6 | T13: =D13+E13 -> 6 | U13: =F13+K13+L13 -> 6 | V13: =K13 -> 6 | W13: =G13+H13+I13+J13 -> 6
A14: 8 | B14: Ñ»é³Ëáu³ÛÇÝ Ï³Ù Ï³åÇ ³ÛÉ ÙÇçáóÝ»ñáí ï³ñíáÕ Ëáu³ÏóáõÃÛáõÝÝ»ñÇ ÉuÙ³Ý ¨ Ó³ÛÝ³·ñ³éÙ³Ý Ù³ëÇÝ ÙÇçÝáñ¹áõÃÛáõÝÝ»ñ | E14: 6 | H14: 6 | K14: 6 | T14: =D14+E14 -> 6 | U14: =F14+K14+L14 -> 6 | V14: =K14 -> 6 | W14: =G14+H14+I14+J14 -> 6
A15: 9 | B15: Ñ»é³ËáëÝ»ñÇ Ùáõïù³ÛÇÝ ¨ »Éù³ÛÇÝ í»ñÍ³ÝÙ³Ý ÃáõÛÉïíáõÃÛáõÝ ëï³Ý³Éáõ Ù³ëÇÝ ÙÇçÝáñ¹áõÃÛáõÝÝ»ñ | E15: 81 | F15: 1 | H15: 80 | K15: 80 | T15: =D15+E15 -> 81 | U15: =F15+K15+L15 -> 81 | V15: =K15 -> 80 | W15: =G15+H15+I15+J15 -> 80
A16: 10 | B16: Ñ»ï³ùÝÝáõÃÛ³Ý Ù³ñÙÝÇ ³ßË³ïáÕÇ, ùÝÝÇãÇ, ¹³ï³Ë³½Ç oå»ñ³ïÇí-Ñ»ï³Ëáõ½³Ï³Ý ·áñÍáÕáõÃÛáõÝÝ»ñ Çñ³Ï³Ý³óÝáÕ Ù³ñÙÇÝÝ»ñÇ ³ÝoñÇÝ³Ï³Ý ¨ ³ÝÑÇÙÝ áñáßáõÙÝ»ñÇ ¨ ·áñÍáÕáõÃÛáõÝÝ»ñÇ ¹»Ù µáÕáùÝ»ñ | D16: 3 | E16: 26 | F16: 9 | G16: 13 | H16: 7 | K16: 20 | N16: 13 | O16: 11 | R16: 2 | T16: =D16+E16 -> 29 | U16: =F16+K16+L16 -> 29 | V16: =K16 -> 20 | W16: =G16+H16+I16+J16 -> 20
A17: 11 | B17: ²½³ïáõÃÛáõÝÇó ½ñÏ»Éáõ Çñ³í³ã³÷áõÃÛ³Ý í»ñ³µ»ñÛ³É µáÕáùÝ»ñáí ·áñÍ»ñ | T17: =D17+E17 -> 0 | U17: =F17+K17+L17 -> 0 | V17: =K17 -> 0 | W17: =G17+H17+I17+J17 -> 0
A18: 2. ¸³ï³Ï³Ý ³Ïï»ñÇ ¨ ¹³ï³Ï³Ý Ñ³ÝÓÝ³ñ³ñáõÃÛáõÝÝ»ñÇ Ï³ï³ñÙ³Ý Ñ»ï Ï³åí³Í Ñ³ñó»ñÇ ÉáõÍÙ³Ý áÉáñï
A19: 1 | B19: å³ïÅÇó å³ÛÙ³Ý³Ï³Ý í³Õ³Å³ÙÏ»ï ³½³ï»Éáõ Ù³ëÇÝ ÙÇçÝáñ¹áõÃÛáõÝÝ»ñ | T19: =D19+E19 -> 0 | U19: =F19+K19+L19 -> 0 | V19: =K19 -> 0 | W19: =G19+H19+I19+J19 -> 0
A20: 2 | B20: å³ïÇÅÁ ÷á÷áË»Éáõ, Ñ»ï³Ó·»Éáõ ¨ å³ïÅÇó ³½³ï»Éáõ Ù³uÇÝ ÙÇçÝáñ¹áõÃÛáõÝÝ»ñ | E20: 13 | F20: 2 | G20: 1 | H20: 6 | K20: 7 | L20: 4 | T20: =D20+E20 -> 13 | U20: =F20+K20+L20 -> 13 | V20: =K20 -> 7 | W20: =G20+H20+I20+J20 -> 7
A21: 3 | B21: Ñ³ñÏ³¹Çñ µáõÅÙ³Ý ï»ë³ÏÇ ÷á÷áËáõÃÛ³Ý Ù³ëÇÝ ÙÇçÝáñ¹áõÃÛáõÝÝ»ñ | T21: =D21+E21 -> 0 | U21: =F21+K21+L21 -> 0 | V21: =K21 -> 0 | W21: =G21+H21+I21+J21 -> 0
A22: 4 | B22: ³ÛÉ ÙÇçÝáñ¹áõÃÛáõÝÝ»ñ | E22: 7 | H22: 5 | K22: 5 | L22: 2 | T22: =D22+E22 -> 7 | U22: =F22+K22+L22 -> 7 | V22: =K22 -> 5 | W22: =G22+H22+I22+J22 -> 5
A23: 5 | B23: ¹³ï³Ï³Ý Ñ³ÝÓÝ³ñ³ñáõÃÛáõÝÝ»ñ | D23: 1 | E23: 3 | H23: 2 | J23: 1 | K23: 3 | L23: 1 | T23: =D23+E23 -> 4 | U23: =F23+K23+L23 -> 4 | V23: =K23 -> 3 | W23: =G23+H23+I23+J23 -> 3
A24: ÀÜ¸²ØºÜÀ | D24: =D7+D8+D9+D10+D11+D12+D13+D14+D15+D17+D19+D20+D21+D22+D23+D16 -> 4 | E24: =E7+E8+E9+E10+E11+E12+E13+E14+E15+E17+E19+E20+E21+E22+E23+E16 -> 258 | F24: =F7+F8+F9+F10+F11+F12+F13+F14+F15+F17+F19+F20+F21+F22+F23+F16 -> 12 | G24: =G7+G8+G9+G10+G11+G12+G13+G14+G15+G17+G19+G20+G21+G22+G23+G16 -> 19 | H24: =H7+H8+H9+H10+H11+H12+H13+H14+H15+H17+H19+H20+H21+H22+H23+H16 -> 212 | I24: =I7+I8+I9+I10+I11+I12+I13+I14+I15+I17+I19+I20+I21+I22+I23+I16 -> 11 | J24: =J7+J8+J9+J10+J11+J12+J13+J14+J15+J17+J19+J20+J21+J22+J23+J16 -> 1 | K24: =K7+K8+K9+K10+K11+K12+K13+K14+K15+K17+K19+K20+K21+K22+K23+K16 -> 243 | ... R24: =R7+R8+R9+R10+R11+R12+R13+R14+R15+R17+R19+R20+R21+R22+R23+R16 -> 9 | T24: =D24+E24 -> 262 | U24: =F24+K24+L24 -> 262 | V24: =K24 -> 243 | W24: =G24+H24+I24+J24 -> 243

Sheet Ռ. Ներսիսյան
A1: 2017Ã. 1-ÇÝ ÏÇë³ÙÛ³Ï | D1: Ð²ÞìºîìàôÂÚàôÜ | P1: Ð³í»Éí³Í Ð³Û³ëï³ÝÇ Ð³Ýñ³å»ïáõÃÛ³Ý ¸³ï³ñ³ÝÝ»ñÇ Ý³Ë³·³ÑÝ»ñÇ ËáñÑñ¹Ç 25.08.2017Ã. ÃÇí 35-È áñáßÙ³Ý
A2: ØÇÝã¹³ï³Ï³Ý í³ñáõÛÃÇ ÝÏ³ïÙ³Ùµ ¹³ï³Ï³Ý í»ñ³ÑëÏáÕáõÃÛ³Ý, ¹³ï³Ï³Ý ³Ïï»ñÇ ¨ ¹³ï³Ï³Ý Ñ³ÝÓÝ³ñ³ñáõÃÛáõÝÝ»ñÇ Ï³ï³ñÙ³Ý Ñ»ï Ï³åí³Í ÙÇçÝáñ¹áõÃÛáõÝÝ»ñÇ í»ñ³µ»ñÛ³É ¹³ï³Ï³Ý ·áñÍ»ñáí ºñ¨³Ý ù³Õ³ùÇ Î»ÝïñáÝ ¨ Üáñù-Ø³ñ³ß í³ñã³Ï³Ý ßñç³ÝÝ»ñÇ ÁÝ¹Ñ³Ýáõñ Çñ³í³ëáõÃÛ³Ý ³é³çÇÝ ³ïÛ³ÝÇ ¹³ï³ñ³ÝÇ ¹³ï³íáñ Ռ. Ներսիսյանի ·áñÍáõÝ»áõÃÛ³Ý í»ñ³µ»ñÛ³É
D3: Ð³ßí»ïáõ Å³Ù³Ý³Ï³Ñ³ïí³ÍÇ ëÏ½µáõÙ Ý³Ëáñ¹ Ñ³ßí»ïáõ Å³Ù³Ý³Ï³Ñ³ïí³ÍÇó ÷áË³Ýóí³Í ·áñÍ»ñÇ ÁÝ¹Ñ³Ýáõñ ÃÇíÁ | E3: Ð³ßí»ïáõ Å³Ù³Ý³Ï³Ñ³ïí³ÍáõÙ ëï³óí³Í ·áñÍ»ñÇ ÁÝ¹Ñ³Ýáõñ ÃÇíÁ | F3: öáË³Ýóí»É ¿ ³ÛÉ ¹³ï³íáñÇ Ï³Ù ³ÛÉ ¹³ï³ñ³Ý (Ï³½ÙÇ ÷á÷áËáõÃÛáõÝ, ÁÝ¹¹³ïáõÃÛáõÝ) | G3: Ð³ßí»ïáõ Å³Ù³Ý³Ï³Ñ³ïí³ÍáõÙ ³í³ñïí³Í ·áñÍ»ñÇ ÁÝ¹Ñ³Ýáõñ ÃÇíÁ | L3: Ð³ßí»ïáõ Å³Ù³Ý³Ï³Ñ³ïí³ÍáõÙ ³Ý³í³ñï ·áñÍ»ñÇ ÁÝ¹Ñ³Ýáõñ ÃÇíÁ | M3: ØÇçÝáñ¹áõÃÛáõÝÝ»ñáí Ï³Û³óí³Í ¹³ï³Ï³Ý ³Ïï»ñÇó µáÕáù³ñÏí³ÍÝ»ñÇ ù³Ý³ÏÁ | O3: ²Ý³í³ñï µáÕáùÝ»ñ | P3: ØÇçÝáñ¹áõÃÛáõÝÝ»ñáí Ï³Û³óí³Í ¨ µáÕáù³ñÏí³Í ¹³ï³Ï³Ý ³Ïï»ñÇó µ»Ï³Ýí³ÍÝ»ñÇ ù³Ý³ÏÁ | R3: ÙÇçÝáñ¹áõÃÛáõÝÝ»ñáí Ï³Û³óí³Í ¨ µáÕáù³ñÏí³Í ¹³ï³Ï³Ý ³Ïï»ñÇó ³Ý÷á÷áË ÃáÕÝí³ÍÝ»ñÇ ù³Ý³ÏÁ
G4: Ù»ñÅí»É ¿ | H4: µ³í³ñ³ñí»É ¿ | I4: µ³í³ñ³ñí»É ¿ Ù³ëÝ³ÏÇ | J4: ÃáÕÝí»É ¿ ³é³Ýó ùÝÝáõÃÛ³Ý | K4: ÀÝ¹³Ù»ÝÁ
M5: Ý³Ëáñ¹ ï³ñÇÝ»ñÇÝ Ï³Û³óí³Í ³Ïï»ñÇ ¹»Ù | N5: Ñ³ßí»ïáõ Å³Ù³Ý³Ï³ßñç³ÝáõÙ Ï³Û³óí³Í ³Ïï»ñÇ ¹»Ù | P5: Ý³Ëáñ¹ ï³ñÇÝ»ñÇÝ Ï³Û³óí³Í ³Ïï»ñÇ µ»Ï³ÝáõÙÝ»ñÁ | Q5: Ñ³ßí»ïáõ Å³Ù³Ý³Ï³ßñç³ÝáõÙ Ï³Û³óí³Í ³Ïï»ñÇ µ»Ï³ÝáõÙÝ»ñÁ
A6: 1. ØÇÝã¹³ï³Ï³Ý í³ñáõÛÃÇ ÝÏ³ïÙ³Ùµ ¹³ï³Ï³Ý í»ñ³ÑëÏáÕáõÃÛ³Ý áÉáñï | D6: 1 | E6: 2 | F6: 3 | G6: 4 | H6: 5 | I6: 6 | J6: 7 | K6: 8 | L6: 9 | M6: 10 | N6: 11 | O6: 12 | P6: 13 | Q6: 14 | R6: 15 | T6: 1+2=3+8+9 | V6: 8=4+5+6+7
A7: 1 | B7: Ï³É³ÝùÁ áñå»ë Ë³÷³ÝÙ³Ý ÙÇçáó ÏÇñ³é»Éáõ Ù³ëÇÝ ÙÇçÝáñ¹áõÃÛáõÝÝ»ñ | E7: 17 | G7: 1 | H7: 16 | K7: 17 | M7: 4 | N7: 7 | O7: 4 | R7: 7 | T7: =D7+E7 -> 17 | U7: =F7+K7+L7 -> 17 | V7: =K7 -> 17 | W7: =G7+H7+I7+J7 -> 17
A8: 2 | B8: Ï³É³ÝùÇ Å³ÙÏ»ïÁ »ñÏ³ñ³óÝ»Éáõ Ù³ëÇÝ ÙÇçÝáñ¹áõÃÛáõÝÝ»ñ | E8: 17 | H8: 17 | K8: 17 | N8: 6 | O8: 3 | R8: 3 | T8: =D8+E8 -> 17 | U8: =F8+K8+L8 -> 17 | V8: =K8 -> 17 | W8: =G8+H8+I8+J8 -> 17
A9: 3 | B9: Ï³É³ÝùÇ í»ñ³Ñ³ëï³ïÙ³Ý Ù³ëÇÝ ÙÇçÝáñ¹áõÃÛáõÝÝ»ñ | E9: 3 | H9: 3 | K9: 3 | N9: 2 | P9: 1 | R9: 1 | T9: =D9+E9 -> 3 | U9: =F9+K9+L9 -> 3 | V9: =K9 -> 3 | W9: =G9+H9+I9+J9 -> 3
A10: 4 | B10: ·ñ³íÁ áñå»ë Ï³É³Ý³íáñÙ³Ý ³ÛÉÁÝïñ³Ýù³ÛÇÝ Ë³÷³ÝÙ³Ý ÙÇçáó ÏÇñ³é»Éáõ Ù³ëÇÝ ÙÇçÝáñ¹áõÃÛáõÝÝ»ñ | D10: 1 | E10: 4 | H10: 3 | J10: 2 | K10: 5 | T10: =D10+E10 -> 5 | U10: =F10+K10+L10 -> 5 | V10: =K10 -> 5 | W10: =G10+H10+I10+J10 -> 5
A11: 5 | B11: Ëáõ½³ñÏáõÃÛ³Ý Ï³ï³ñÙ³Ý Ù³ëÇÝ ÙÇçÝáñ¹áõÃÛáõÝÝ»ñ | E11: 46 | H11: 46 | K11: 46 | N11: 2 | O11: 1 | R11: 1 | T11: =D11+E11 -> 46 | U11: =F11+K11+L11 -> 46 | V11: =K11 -> 46 | W11: =G11+H11+I11+J11 -> 46
A12: 6 | B12: µ³ÝÏ³ÛÇÝ, ³å³Ñáí³·ñ³Ï³Ý, Ýáï³ñ³Ï³Ý ·³ÕïÝÇù Ï³½ÙáÕ ï»Õ»ÏáõÃÛáõÝÝ»ñÇ ëï³óÙ³Ý Ñ³Ù³ñ Ëáõ½³ñÏáõÃÛ³Ý Ï³Ù ³é·ñ³íÙ³Ý Ï³ï³ñÙ³Ý Ù³ëÇÝ ÙÇçÝáñ¹áõÃÛáõÝÝ»ñ | E12: 2 | H12: 2 | K12: 2 | T12: =D12+E12 -> 2 | U12: =F12+K12+L12 -> 2 | V12: =K12 -> 2 | W12: =G12+H12+I12+J12 -> 2
A13: 7 | B13: Ý³Ù³Ï³·ñáõÃÛ³Ý, Ñ»é³·ñ³Ï³Ý, ÷áuï³ÛÇÝ Ñ³Õáñ¹áõÙÝ»ñÇ ÑëÏáÕáõÃÛ³Ý Ù³ëÇÝ ÙÇçÝáñ¹áõÃÛáõÝÝ»ñ | E13: 3 | H13: 3 | K13: 3 | T13: =D13+E13 -> 3 | U13: =F13+K13+L13 -> 3 | V13: =K13 -> 3 | W13: =G13+H13+I13+J13 -> 3
A14: 8 | B14: Ñ»é³Ëáu³ÛÇÝ Ï³Ù Ï³åÇ ³ÛÉ ÙÇçáóÝ»ñáí ï³ñíáÕ Ëáu³ÏóáõÃÛáõÝÝ»ñÇ ÉuÙ³Ý ¨ Ó³ÛÝ³·ñ³éÙ³Ý Ù³ëÇÝ ÙÇçÝáñ¹áõÃÛáõÝÝ»ñ | E14: 4 | H14: 4 | K14: 4 | T14: =D14+E14 -> 4 | U14: =F14+K14+L14 -> 4 | V14: =K14 -> 4 | W14: =G14+H14+I14+J14 -> 4
A15: 9 | B15: Ñ»é³ËáëÝ»ñÇ Ùáõïù³ÛÇÝ ¨ »Éù³ÛÇÝ í»ñÍ³ÝÙ³Ý ÃáõÛÉïíáõÃÛáõÝ ëï³Ý³Éáõ Ù³ëÇÝ ÙÇçÝáñ¹áõÃÛáõÝÝ»ñ | E15: 81 | H15: 80 | I15: 1 | K15: 81 | T15: =D15+E15 -> 81 | U15: =F15+K15+L15 -> 81 | V15: =K15 -> 81 | W15: =G15+H15+I15+J15 -> 81
A16: 10 | B16: Ñ»ï³ùÝÝáõÃÛ³Ý Ù³ñÙÝÇ ³ßË³ïáÕÇ, ùÝÝÇãÇ, ¹³ï³Ë³½Ç oå»ñ³ïÇí-Ñ»ï³Ëáõ½³Ï³Ý ·áñÍáÕáõÃÛáõÝÝ»ñ Çñ³Ï³Ý³óÝáÕ Ù³ñÙÇÝÝ»ñÇ ³ÝoñÇÝ³Ï³Ý ¨ ³ÝÑÇÙÝ áñáßáõÙÝ»ñÇ ¨ ·áñÍáÕáõÃÛáõÝÝ»ñÇ ¹»Ù µáÕáùÝ»ñ | T16: =D16+E16 -> 0 | U16: =F16+K16+L16 -> 0 | V16: =K16 -> 0 | W16: =G16+H16+I16+J16 -> 0
A17: 11 | B17: ²½³ïáõÃÛáõÝÇó ½ñÏ»Éáõ Çñ³í³ã³÷áõÃÛ³Ý í»ñ³µ»ñÛ³É µáÕáùÝ»ñáí ·áñÍ»ñ | T17: =D17+E17 -> 0 | U17: =F17+K17+L17 -> 0 | V17: =K17 -> 0 | W17: =G17+H17+I17+J17 -> 0
A18: 2. ¸³ï³Ï³Ý ³Ïï»ñÇ ¨ ¹³ï³Ï³Ý Ñ³ÝÓÝ³ñ³ñáõÃÛáõÝÝ»ñÇ Ï³ï³ñÙ³Ý Ñ»ï Ï³åí³Í Ñ³ñó»ñÇ ÉáõÍÙ³Ý áÉáñï
A19: 1 | B19: å³ïÅÇó å³ÛÙ³Ý³Ï³Ý í³Õ³Å³ÙÏ»ï ³½³ï»Éáõ Ù³ëÇÝ ÙÇçÝáñ¹áõÃÛáõÝÝ»ñ | T19: =D19+E19 -> 0 | U19: =F19+K19+L19 -> 0 | V19: =K19 -> 0 | W19: =G19+H19+I19+J19 -> 0
A20: 2 | B20: å³ïÇÅÁ ÷á÷áË»Éáõ, Ñ»ï³Ó·»Éáõ ¨ å³ïÅÇó ³½³ï»Éáõ Ù³uÇÝ ÙÇçÝáñ¹áõÃÛáõÝÝ»ñ | T20: =D20+E20 -> 0 | U20: =F20+K20+L20 -> 0 | V20: =K20 -> 0 | W20: =G20+H20+I20+J20 -> 0
A21: 3 | B21: Ñ³ñÏ³¹Çñ µáõÅÙ³Ý ï»ë³ÏÇ ÷á÷áËáõÃÛ³Ý Ù³ëÇÝ ÙÇçÝáñ¹áõÃÛáõÝÝ»ñ | T21: =D21+E21 -> 0 | U21: =F21+K21+L21 -> 0 | V21: =K21 -> 0 | W21: =G21+H21+I21+J21 -> 0
A22: 4 | B22: ³ÛÉ ÙÇçÝáñ¹áõÃÛáõÝÝ»ñ | D22: 1 | H22: 1 | K22: 1 | M22: 1 | O22: 1 | T22: =D22+E22 -> 1 | U22: =F22+K22+L22 -> 1 | V22: =K22 -> 1 | W22: =G22+H22+I22+J22 -> 1
A23: 5 | B23: ¹³ï³Ï³Ý Ñ³ÝÓÝ³ñ³ñáõÃÛáõÝÝ»ñ | T23: =D23+E23 -> 0 | U23: =F23+K23+L23 -> 0 | V23: =K23 -> 0 | W23: =G23+H23+I23+J23 -> 0
A24: ÀÜ¸²ØºÜÀ | D24: =D7+D8+D9+D10+D11+D12+D13+D14+D15+D17+D19+D20+D21+D22+D23+D16 -> 2 | E24: =E7+E8+E9+E10+E11+E12+E13+E14+E15+E17+E19+E20+E21+E22+E23+E16 -> 177 | F24: =F7+F8+F9+F10+F11+F12+F13+F14+F15+F17+F19+F20+F21+F22+F23+F16 -> 0 | G24: =G7+G8+G9+G10+G11+G12+G13+G14+G15+G17+G19+G20+G21+G22+G23+G16 -> 1 | H24: =H7+H8+H9+H10+H11+H12+H13+H14+H15+H17+H19+H20+H21+H22+H23+H16 -> 175 | I24: =I7+I8+I9+I10+I11+I12+I13+I14+I15+I17+I19+I20+I21+I22+I23+I16 -> 1 | J24: =J7+J8+J9+J10+J11+J12+J13+J14+J15+J17+J19+J20+J21+J22+J23+J16 -> 2 | K24: =K7+K8+K9+K10+K11+K12+K13+K14+K15+K17+K19+K20+K21+K22+K23+K16 -> 179 | ... R24: =R7+R8+R9+R10+R11+R12+R13+R14+R15+R17+R19+R20+R21+R22+R23+R16 -> 12 | T24: =D24+E24 -> 179 | U24: =F24+K24+L24 -> 179 | V24: =K24 -> 179 | W24: =G24+H24+I24+J24 -> 179
