Workbook

Sheet Ընդհանուր
A1: ՀԱՇՎԵՏՎՈՒԹՅՈՒՆ
A2: 2020թ. 1-ին կիսամյակի | C2: ԱՆՁԱՆՑ ՎԵՐԱԲԵՐՅԱԼ, ՈՐՈՆՑ ԿԱՊԱԿՑՈՒԹՅԱՄԲ ԿԱՅԱՑՎԱԾ ԴԱՏԱԿԱՆ ԱԿՏԵՐԸ ՄՏԵԼ ԵՆ ՕՐԻՆԱԿԱՆ ՈւԺԻ ՄԵՋ
A3: Վիճակագրական տողի համարը | B3: ՀԱՆՑԱԳՈՐԾՈՒԹՅՈՒՆՆԵՐԻ ՏԵՍԱԿՆԵՐԸ | C3: ՀՀ Քրեական օրենսգրքի հոդվածը | D3: Անձանց թիվը, որոնց վերաբերյալ գործերը կարճվել կամ քրեական հետապնդումը դադարեցվել է | G3: Անմեղսունակներ, որոնց նկատմամբ կիրառվել են բժշկական բնույթի հարկադրական միջոցներ | H3: Արդարացվածների թիվը | I3: Դատապարտյալների թիվը (ծանոթություն.Մեղադրյալը, որի վերաբերյալ կա օրինական ուժի մեջ մտած դատարանի դատավճիռ, որն ամբողջությամբ կամ մասնակիորեն մեղադրական է, կոչվում է դատապարտյալ) | O3: Դատապարտյալների նկատմամբ նշանակված հիմնական պատիժներ | AD3: նշանակված պատիժը պայմանականորեն չի կիրառվել | AE3: կիրառվել է համաներման ակտ | AF3: Լրացուցիչ պատիժներ | AI3: Օրենքով նախատեսվածից ավելի մեղմ պատիժ է նշանակվել | AJ3: Հանցանքը կատարվել է | AR3: Անձի զբաղմունքի տեսակը` նախքան դատապարտվելը | AY3: Անձի քաղաքացիությունը | BB3: Դատապարտվածների թիվը, որոնց նախկին դատվածությունը հանվել կամ մարվել է | BC3: Դատապարտյալների թիվը, որոնք ունեն չհանված կամ չմարված դատվածություն | BG3: Դրանցից (սյունակ 55) եղել են դատապարտված | BK3: Չհանված, չմարված դատվածությամբ դատապարտյալը պատժից ազատվել է | BO3: Նոր հանցագործությունը կատարել է պատիժը չկրած | BT3: Նոր հանցագործությունը կատարել է ազատազրկման վայրից ազատվելուց առաջին տարվա ընթացքում | BU3: Անձանց թիվը, որոնց վերաբերյալ հաշվետու տարվա ընթացքում քննվել են գործեր | BV3: Դատապարտյալը հանձնվել է վերադաստիրակման կամ հսկողության | BW3: Դատապարտյալի նկատմամբ նշանակվել է հարկադիր բուժում գինեմոլության դեմ | BX3: Դատապարտյալի նկատմամբ նշանակվել է հարկադիր բուժում թմրամոլության դեմ | BY3: Դատվածությունների շարժը
D4: Այդ թվում՝ հանցադեպի կամ հանցակազմի բացակայության և մեղադրանքի չապացուցված լինելու պատճառով | E4: այլ հիմքով | F4: Ընդամենը | I4: որից դատապարտվել են | L4: Ընդամենը(6,7,8 սյունակներ) | M4: Այդ թվում՝ կանայք | N4: Այդ թվում` անչափահասներ | O4: Ա զ ա տ ա զ ր կ ու մ | X4: հանրային աշխատանքներ | Y4: տուգանք | Z4: Որոշակի պաշտոններ զբաղ. կամ որոշակի գործ. զբաղվ. իրավ. զրկում | AA4: Կարգապահական գումարտակում պահելը | AB4: զին. Ծառայության մեջ սահմանափակում | AC4: կալանք | AF4: գույքի բռնագրավում | AG4: հատուկ կամ զին. կոչումից, կարգից, աստիճանից կամ որակավորման դասից զրկելը | AH4: որոշակի պաշտ. զբաղ. կամ որոշակի գործ.զբաղվ. իրավ. զրկում | AJ4: ալկ., թմրամիջ. կամ թնրեցնող այլ նյութերի ազդ. | AK4: Մի խումբ անձանց կազմում | AL4: Կազմակերպված խմբի կամ հանցավոր համագործակցության կազմում | AM4: 14-16 տարեկան հասակում | AN4: 16-18 տարեկան հասակում | AO4: 18-29 տարեկան հասակում | AP4: 30-49 տարեկան հասակում | AQ4: 50 տարեկան և բարձր | AR4: Պաշտոնատար անձինք | AS4: Զին. ծառայողներ | AT4: Այլ զբաղմունք | AU4: Սովորողներ | AW4: Չաշխատող և չսովորող աշխատունակներ | AX4: արգելանքի տակ գտնվող անձ | AY4: ՀՀ քաղաքացի | AZ4: Քաղաքացիություն չունեցող անձ | BA4: Օտարերկրյա պետության քաղաքացի | BC4: Մեկ դատվածություն | BD4: Երկու դատվածություն | BE4: Երեք և ավելի դատվածություն | BF4: Ընդամենը | BG4: Սպանության, դիտավորյամբ առողջությանը ծանր վնաս պատճառելու, բռնաբարության համար | BH4: Գույքի հափշտակության համար | BI4: Խուլիգանության համար | BJ4: այլ հանցագործությունների համար | BK4: Պատիժը կրել է լրիվ չափով | BL4: Պայմանական վաղաժամկետ | BM4: Համաներման ակտի կիրառմամբ | BN4: Այլ հիմքերով | BO4: Ազատազրկման վայրում | BP4: Այլ պատիժ կրելիս | BQ4: Դատավճռի կատարման հետաձգման ժամանակահատվածում | BR4: Փորձաշրջանի ընթացքում | BS4: Ընդամենը | BY4: Հաշվետու տարվա ընթացքում դատապարտված անձանց թիվը | BZ4: Հաշվետու տարվան նախորդող տարվա ընթացքում դատապարտված անձանց թիվը | CA4: ավելացել է պակասել է
B5: ՍՏՈՒԳԻՉ ՀԱՎԱՍԱՐՈՒՄՆԵՐ 3=1+2, 9=6+7+8, 20=12+13+14+15+16+17+18+19, 9=20+21+22+23+24+25+26 9=36+37+38+39+40, 9=41+42+43+44+45+46+47,9=48+49+50, 55=52+53+54,55=56+57+58+59, 68=64+65+66+67 | I5: Ավարտված հանցագործության համար | J5: Հանցափորձի համար(ՀՀ քր. օր-ի 34-րդ հոդ.) | K5: Հանցակցության համար(ՀՀ քր.օր-ի 38-րդ հոդ.) | O5: 1 տարի ներառյալ | P5: 1 տարուց ավել, մինչև 2 տարի ներառյալ | Q5: 2 տարուց ավել, մինչև 3 տարի ներառյալ | R5: 3 տարուց ավել, մինչև 5 տարի ներառյալ | S5: 5 տարուց ավել, մինչև 8 տարի ներառյալ | T5: 8 տարուց ավել, մինչև 10 տարի ներառյալ | U5: 10 տարուց ավել, մինչև 15 տարի ներառյալ | V5: ցմահ ազատազրկում | W5: ընդամենը | AU5: 18 տարեկանից ցածր | AV5: 18 տարեկանից բարձր
D6: 1 | E6: 2 | F6: 3 | G6: 4 | H6: 5 | I6: 6 | J6: 7 | K6: 8 | L6: 9 | M6: 10 | N6: 11 | O6: 12 | P6: 13 | Q6: 14 | R6: 15 | S6: 16 | T6: 17 | U6: 18 | V6: 19 | W6: 20 | X6: 21 | Y6: 22 | Z6: 23 | AA6: 24 | AB6: 25 | AC6: 26 | AD6: 27 | AE6: 28 | AF6: 29 | AG6: 30 | AH6: 31 | AI6: 32 | AJ6: 33 | AK6: 34 | AL6: 35 | AM6: 36 | AN6: 37 | AO6: 38 | AP6: 39 | AQ6: 40 | AR6: 41 | AS6: 42 | AT6: 43 | AU6: 44 | AV6: 45 | AW6: 46 | AX6: 47 | AY6: 48 | AZ6: 49 | BA6: 50 | BB6: 51 | BC6: 52 | BD6: 53 | BE6: 54 | BF6: 55 | BG6: 56 | BH6: 57 | BI6: 58 | BJ6: 59 | BK6: 60 | BL6: 61 | BM6: 62 | BN6: 63 | BO6: 64 | BP6: 65 | BQ6: 66 | BR6: 67 | BS6: 68 | BT6: 69 | BU6: 70 | BV6: 71 | BW6: 72 | BX6: 73 | BY6: 74 | BZ6: 75 | CA6: 76
A7: 1. | B7: Ընդամենը կյանքի և առողջության դեմ ուղղված հանցագործությունները | D7: =SUM('Լոռի :Կոտայք'!D7) -> 0 | E7: =SUM('Լոռի :Կոտայք'!E7) -> 38 | F7: =SUM('Լոռի :Կոտայք'!F7) -> 38 | G7: =SUM('Լոռի :Կոտայք'!G7) -> 4 | H7: =SUM('Լոռի :Կոտայք'!H7) -> 2 | I7: =SUM('Լոռի :Կոտայք'!I7) -> 66 | J7: =SUM('Լոռի :Կոտայք'!J7) -> 0 | K7: =SUM('Լոռի :Կոտայք'!K7) -> 0 | ... CA7: =SUM('Լոռի :Կոտայք'!CA7) -> -18
A8: 1.1 | B8: Սպանությունը | C8: 104 | D8: =SUM('Լոռի :Կոտայք'!D8) -> 0 | E8: =SUM('Լոռի :Կոտայք'!E8) -> 2 | F8: =SUM('Լոռի :Կոտայք'!F8) -> 2 | G8: =SUM('Լոռի :Կոտայք'!G8) -> 1 | H8: =SUM('Լոռի :Կոտայք'!H8) -> 1 | I8: =SUM('Լոռի :Կոտայք'!I8) -> 3 | J8: =SUM('Լոռի :Կոտայք'!J8) -> 0 | K8: =SUM('Լոռի :Կոտայք'!K8) -> 0 | ... CA8: =SUM('Լոռի :Կոտայք'!CA8) -> -3
A9: 1.2 | B9: Հոգեկան խիստ հուզմունքի վիճակում կատարված սպանությունը | C9: 105 | D9: =SUM('Լոռի :Կոտայք'!D9) -> 0 | E9: =SUM('Լոռի :Կոտայք'!E9) -> 0 | F9: =SUM('Լոռի :Կոտայք'!F9) -> 0 | G9: =SUM('Լոռի :Կոտայք'!G9) -> 0 | H9: =SUM('Լոռի :Կոտայք'!H9) -> 0 | I9: =SUM('Լոռի :Կոտայք'!I9) -> 0 | J9: =SUM('Լոռի :Կոտայք'!J9) -> 0 | K9: =SUM('Լոռի :Կոտայք'!K9) -> 0 | ... CA9: =SUM('Լոռի :Կոտայք'!CA9) -> 0
A10: 1.3 | B10: Մոր կողմից նորածին երեխայի սպանությունը | C10: 106 | D10: =SUM('Լոռի :Կոտայք'!D10) -> 0 | E10: =SUM('Լոռի :Կոտայք'!E10) -> 0 | F10: =SUM('Լոռի :Կոտայք'!F10) -> 0 | G10: =SUM('Լոռի :Կոտայք'!G10) -> 0 | H10: =SUM('Լոռի :Կոտայք'!H10) -> 0 | I10: =SUM('Լոռի :Կոտայք'!I10) -> 0 | J10: =SUM('Լոռի :Կոտայք'!J10) -> 0 | K10: =SUM('Լոռի :Կոտայք'!K10) -> 0 | ... CA10: =SUM('Լոռի :Կոտայք'!CA10) -> 0
A11: 1.4 | B11: Հանցանք կատարած անձին բռնելու համար անհրաժեշտ միջոցների սահմանազանցմամբ սպանությունը | C11: 107 | D11: =SUM('Լոռի :Կոտայք'!D11) -> 0 | E11: =SUM('Լոռի :Կոտայք'!E11) -> 0 | F11: =SUM('Լոռի :Կոտայք'!F11) -> 0 | G11: =SUM('Լոռի :Կոտայք'!G11) -> 0 | H11: =SUM('Լոռի :Կոտայք'!H11) -> 0 | I11: =SUM('Լոռի :Կոտայք'!I11) -> 0 | J11: =SUM('Լոռի :Կոտայք'!J11) -> 0 | K11: =SUM('Լոռի :Կոտայք'!K11) -> 0 | ... AS11: =SUM('Լոռի :Կոտայք'!AS11) -> 0 | AT11: 0 | AU11: 0 | AV11: =SUM('Լոռի :Կոտայք'!AV11) -> 0 | AW11: =SUM('Լոռի :Կոտայք'!AW11) -> 0 | AX11: =SUM('Լոռի :Կոտայք'!AX11) -> 0 | AY11: =SUM('Լոռի :Կոտայք'!AY11) -> 0 | AZ11: =SUM('Լոռի :Կոտայք'!AZ11) -> 0 | BA11: =SUM('Լոռի :Կոտայք'!BA11) -> 0 | BB11: =SUM('Լոռի :Կոտայք'!BB11) -> 0 | BC11: =SUM('Լոռի :Կոտայք'!BC11) -> 0 | ... CA11: =SUM('Լոռի :Կոտայք'!CA11) -> 0
A12: 1.5 | B12: Անհրաժեշտ պաշտպանության սահմանազանցմամբ սպանությունը | C12: 108 | D12: =SUM('Լոռի :Կոտայք'!D12) -> 0 | E12: =SUM('Լոռի :Կոտայք'!E12) -> 0 | F12: =SUM('Լոռի :Կոտայք'!F12) -> 0 | G12: =SUM('Լոռի :Կոտայք'!G12) -> 0 | H12: =SUM('Լոռի :Կոտայք'!H12) -> 0 | I12: =SUM('Լոռի :Կոտայք'!I12) -> 0 | J12: =SUM('Լոռի :Կոտայք'!J12) -> 0 | K12: =SUM('Լոռի :Կոտայք'!K12) -> 0 | ... CA12: =SUM('Լոռի :Կոտայք'!CA12) -> -1
A13: 1.6 | B13: Անզգուշությամբ մահ պատճառելը | C13: 109 | D13: =SUM('Լոռի :Կոտայք'!D13) -> 0 | E13: =SUM('Լոռի :Կոտայք'!E13) -> 0 | F13: =SUM('Լոռի :Կոտայք'!F13) -> 0 | G13: =SUM('Լոռի :Կոտայք'!G13) -> 0 | H13: =SUM('Լոռի :Կոտայք'!H13) -> 0 | I13: =SUM('Լոռի :Կոտայք'!I13) -> 0 | J13: =SUM('Լոռի :Կոտայք'!J13) -> 0 | K13: =SUM('Լոռի :Կոտայք'!K13) -> 0 | ... CA13: =SUM('Լոռի :Կոտայք'!CA13) -> 0
A14: 1.7 | B14: Ինքնասպանության հասցնելը | C14: 110 | D14: =SUM('Լոռի :Կոտայք'!D14) -> 0 | E14: =SUM('Լոռի :Կոտայք'!E14) -> 0 | F14: =SUM('Լոռի :Կոտայք'!F14) -> 0 | G14: =SUM('Լոռի :Կոտայք'!G14) -> 0 | H14: =SUM('Լոռի :Կոտայք'!H14) -> 0 | I14: =SUM('Լոռի :Կոտայք'!I14) -> 0 | J14: =SUM('Լոռի :Կոտայք'!J14) -> 0 | K14: =SUM('Լոռի :Կոտայք'!K14) -> 0 | ... CA14: =SUM('Լոռի :Կոտայք'!CA14) -> 0
A15: 1.8 | B15: Ինքնասպանության հակելը | C15: 111 | D15: =SUM('Լոռի :Կոտայք'!D15) -> 0 | E15: =SUM('Լոռի :Կոտայք'!E15) -> 0 | F15: =SUM('Լոռի :Կոտայք'!F15) -> 0 | G15: =SUM('Լոռի :Կոտայք'!G15) -> 0 | H15: =SUM('Լոռի :Կոտայք'!H15) -> 0 | I15: =SUM('Լոռի :Կոտայք'!I15) -> 0 | J15: =SUM('Լոռի :Կոտայք'!J15) -> 0 | K15: =SUM('Լոռի :Կոտայք'!K15) -> 0 | ... CA15: =SUM('Լոռի :Կոտայք'!CA15) -> 0
A16: 1.9 | B16: Դիտավորությամբ առողջությանը ծանր վնաս պատճառելը | C16: 112 | D16: =SUM('Լոռի :Կոտայք'!D16) -> 0 | E16: =SUM('Լոռի :Կոտայք'!E16) -> 2 | F16: =SUM('Լոռի :Կոտայք'!F16) -> 2 | G16: =SUM('Լոռի :Կոտայք'!G16) -> 1 | H16: =SUM('Լոռի :Կոտայք'!H16) -> 0 | I16: =SUM('Լոռի :Կոտայք'!I16) -> 23 | J16: =SUM('Լոռի :Կոտայք'!J16) -> 0 | K16: =SUM('Լոռի :Կոտայք'!K16) -> 0 | ... CA16: =SUM('Լոռի :Կոտայք'!CA16) -> -15
A17: 1.10 | B17: Դիտավորությամբ առողջությանը միջին ծանրության վնաս պատճառելը | C17: 113 | D17: =SUM('Լոռի :Կոտայք'!D17) -> 0 | E17: =SUM('Լոռի :Կոտայք'!E17) -> 0 | F17: =SUM('Լոռի :Կոտայք'!F17) -> 0 | G17: =SUM('Լոռի :Կոտայք'!G17) -> 0 | H17: =SUM('Լոռի :Կոտայք'!H17) -> 1 | I17: =SUM('Լոռի :Կոտայք'!I17) -> 2 | J17: =SUM('Լոռի :Կոտայք'!J17) -> 0 | K17: =SUM('Լոռի :Կոտայք'!K17) -> 0 | ... CA17: =SUM('Լոռի :Կոտայք'!CA17) -> 0
A18: 1.11 | B18: Հոգեկան խիստ հուզմունքի վիճակում առողջությանը ծանր կամ միջին ծանրության վնաս պատճառելը | C18: 114 | D18: =SUM('Լոռի :Կոտայք'!D18) -> 0 | E18: =SUM('Լոռի :Կոտայք'!E18) -> 0 | F18: =SUM('Լոռի :Կոտայք'!F18) -> 0 | G18: =SUM('Լոռի :Կոտայք'!G18) -> 0 | H18: =SUM('Լոռի :Կոտայք'!H18) -> 0 | I18: =SUM('Լոռի :Կոտայք'!I18) -> 0 | J18: =SUM('Լոռի :Կոտայք'!J18) -> 0 | K18: =SUM('Լոռի :Կոտայք'!K18) -> 0 | ... CA18: =SUM('Լոռի :Կոտայք'!CA18) -> 0
A19: 1.12 | B19: Հանցանք կատարած անձին բռնելու համար անհրաժեշտ միջոցների սահմանզանցմամբ առողջությանը ծանր կամ միջին ծանրության վնաս պատճառելը | C19: 115 | D19: =SUM('Լոռի :Կոտայք'!D19) -> 0 | E19: =SUM('Լոռի :Կոտայք'!E19) -> 0 | F19: =SUM('Լոռի :Կոտայք'!F19) -> 0 | G19: =SUM('Լոռի :Կոտայք'!G19) -> 0 | H19: =SUM('Լոռի :Կոտայք'!H19) -> 0 | I19: =SUM('Լոռի :Կոտայք'!I19) -> 0 | J19: =SUM('Լոռի :Կոտայք'!J19) -> 0 | K19: =SUM('Լոռի :Կոտայք'!K19) -> 0 | ... CA19: =SUM('Լոռի :Կոտայք'!CA19) -> 0
A20: 1.13 | B20: Առողջությանը ծանր կամ միջին ծանրության վնաս պատճառելը անհրաժեշտ պաշտպանության սահմանանազանցմամբ | C20: 116 | D20: =SUM('Լոռի :Կոտայք'!D20) -> 0 | E20: =SUM('Լոռի :Կոտայք'!E20) -> 0 | F20: =SUM('Լոռի :Կոտայք'!F20) -> 0 | G20: =SUM('Լոռի :Կոտայք'!G20) -> 0 | H20: =SUM('Լոռի :Կոտայք'!H20) -> 0 | I20: =SUM('Լոռի :Կոտայք'!I20) -> 1 | J20: =SUM('Լոռի :Կոտայք'!J20) -> 0 | K20: =SUM('Լոռի :Կոտայք'!K20) -> 0 | ... CA20: =SUM('Լոռի :Կոտայք'!CA20) -> 0
A21: 1.14 | B21: Դիտավորությամբ առողջությանը թեթև վնաս պատճառելը | C21: 117 | D21: =SUM('Լոռի :Կոտայք'!D21) -> 0 | E21: =SUM('Լոռի :Կոտայք'!E21) -> 1 | F21: =SUM('Լոռի :Կոտայք'!F21) -> 1 | G21: =SUM('Լոռի :Կոտայք'!G21) -> 0 | H21: =SUM('Լոռի :Կոտայք'!H21) -> 0 | I21: =SUM('Լոռի :Կոտայք'!I21) -> 10 | J21: =SUM('Լոռի :Կոտայք'!J21) -> 0 | K21: =SUM('Լոռի :Կոտայք'!K21) -> 0 | ... CA21: =SUM('Լոռի :Կոտայք'!CA21) -> 2
A22: 1.15 | B22: Ծեծը | C22: 118 | D22: =SUM('Լոռի :Կոտայք'!D22) -> 0 | E22: =SUM('Լոռի :Կոտայք'!E22) -> 32 | F22: =SUM('Լոռի :Կոտայք'!F22) -> 32 | G22: =SUM('Լոռի :Կոտայք'!G22) -> 2 | H22: =SUM('Լոռի :Կոտայք'!H22) -> 0 | I22: =SUM('Լոռի :Կոտայք'!I22) -> 24 | J22: =SUM('Լոռի :Կոտայք'!J22) -> 0 | K22: =SUM('Լոռի :Կոտայք'!K22) -> 0 | ... CA22: =SUM('Լոռի :Կոտայք'!CA22) -> -2
A23: 1.16 | B23: Ֆիզիկական ուժեղ ցավ կամ հոգեկան ուժեղ տառապանք պատճառելը | C23: 119 | D23: =SUM('Լոռի :Կոտայք'!D23) -> 0 | E23: =SUM('Լոռի :Կոտայք'!E23) -> 1 | F23: =SUM('Լոռի :Կոտայք'!F23) -> 1 | G23: =SUM('Լոռի :Կոտայք'!G23) -> 0 | H23: =SUM('Լոռի :Կոտայք'!H23) -> 0 | I23: =SUM('Լոռի :Կոտայք'!I23) -> 2 | J23: =SUM('Լոռի :Կոտայք'!J23) -> 0 | K23: =SUM('Լոռի :Կոտայք'!K23) -> 0 | ... CA23: =SUM('Լոռի :Կոտայք'!CA23) -> 1
... A33: 1.27 | B33: Բժշկական օգնություն և սպասարկում իրականացնողների կողմից մասնագիտական պարտականությունները չկատարելը կամ ոչ պատշաճ կատարելը | C33: 130 | D33: =SUM('Լոռի :Կոտայք'!D33) -> 0 | E33: =SUM('Լոռի :Կոտայք'!E33) -> 0 | F33: =SUM('Լոռի :Կոտայք'!F33) -> 0 | G33: =SUM('Լոռի :Կոտայք'!G33) -> 0 | H33: =SUM('Լոռի :Կոտայք'!H33) -> 0 | I33: =SUM('Լոռի :Կոտայք'!I33) -> 0 | J33: =SUM('Լոռի :Կոտայք'!J33) -> 0 | K33: =SUM('Լոռի :Կոտայք'!K33) -> 0 | ... CA33: =SUM('Լոռի :Կոտայք'!CA33) -> 0
A34: 1.28 | B34: Այլ հանցագործություններ | D34: =SUM('Լոռի :Կոտայք'!D34) -> 0 | E34: =SUM('Լոռի :Կոտայք'!E34) -> 0 | F34: =SUM('Լոռի :Կոտայք'!F34) -> 0 | G34: =SUM('Լոռի :Կոտայք'!G34) -> 0 | H34: =SUM('Լոռի :Կոտայք'!H34) -> 0 | I34: =SUM('Լոռի :Կոտայք'!I34) -> 0 | J34: =SUM('Լոռի :Կոտայք'!J34) -> 0 | K34: =SUM('Լոռի :Կոտայք'!K34) -> 0 | ... CA34: =SUM('Լոռի :Կոտայք'!CA34) -> 0
A35: 2. | B35: Ընդամենը անձի ազատության, պատվի և արժանապատվության դեմ ուղղված հանցագործությունները | D35: =SUM('Լոռի :Կոտայք'!D35) -> 0 | E35: =SUM('Լոռի :Կոտայք'!E35) -> 1 | F35: =SUM('Լոռի :Կոտայք'!F35) -> 1 | G35: =SUM('Լոռի :Կոտայք'!G35) -> 0 | H35: =SUM('Լոռի :Կոտայք'!H35) -> 2 | I35: =SUM('Լոռի :Կոտայք'!I35) -> 9 | J35: =SUM('Լոռի :Կոտայք'!J35) -> 0 | K35: =SUM('Լոռի :Կոտայք'!K35) -> 0 | ... CA35: =SUM('Լոռի :Կոտայք'!CA35) -> -3
A36: 2.1 | B36: Մարդուն առևանգելը | C36: 131 | D36: =SUM('Լոռի :Կոտայք'!D36) -> 0 | E36: =SUM('Լոռի :Կոտայք'!E36) -> 0 | F36: =SUM('Լոռի :Կոտայք'!F36) -> 0 | G36: =SUM('Լոռի :Կոտայք'!G36) -> 0 | H36: =SUM('Լոռի :Կոտայք'!H36) -> 1 | I36: =SUM('Լոռի :Կոտայք'!I36) -> 8 | J36: =SUM('Լոռի :Կոտայք'!J36) -> 0 | K36: =SUM('Լոռի :Կոտայք'!K36) -> 0 | ... CA36: =SUM('Լոռի :Կոտայք'!CA36) -> -3
A37: 2.2 | B37: Մարդու թրաֆիքինգը կամ շահագործումը | C37: 132 | D37: =SUM('Լոռի :Կոտայք'!D37) -> 0 | E37: =SUM('Լոռի :Կոտայք'!E37) -> 0 | F37: =SUM('Լոռի :Կոտայք'!F37) -> 0 | G37: =SUM('Լոռի :Կոտայք'!G37) -> 0 | H37: =SUM('Լոռի :Կոտայք'!H37) -> 0 | I37: =SUM('Լոռի :Կոտայք'!I37) -> 0 | J37: =SUM('Լոռի :Կոտայք'!J37) -> 0 | K37: =SUM('Լոռի :Կոտայք'!K37) -> 0 | ... CA37: =SUM('Լոռի :Կոտայք'!CA37) -> 0
A38: 2.2.2 | B38: Երեխայի կամ հոգեկան խանգարման հետևանքով իր արարքի բնույթն ու նշանակությունը գիտակցելու կամ դա ղեկավարելու հնարավորությունից զրկված անձի թրաֆիքինգը կամ շահագործումը | C38: 132.2 | D38: =SUM('Լոռի :Կոտայք'!D38) -> 0 | E38: =SUM('Լոռի :Կոտայք'!E38) -> 0 | F38: =SUM('Լոռի :Կոտայք'!F38) -> 0 | G38: =SUM('Լոռի :Կոտայք'!G38) -> 0 | H38: =SUM('Լոռի :Կոտայք'!H38) -> 0 | I38: =SUM('Լոռի :Կոտայք'!I38) -> 0 | J38: =SUM('Լոռի :Կոտայք'!J38) -> 0 | K38: =SUM('Լոռի :Կոտայք'!K38) -> 0 | ... CA38: =SUM('Լոռի :Կոտայք'!CA38) -> 0
A39: 2.2.3 | B39: Շահագործման վիճակում գտնվող անձի ծառայությունից օգտվելը | C39: 132.3 | D39: =SUM('Լոռի :Կոտայք'!D39) -> 0 | E39: =SUM('Լոռի :Կոտայք'!E39) -> 0 | F39: =SUM('Լոռի :Կոտայք'!F39) -> 0 | G39: =SUM('Լոռի :Կոտայք'!G39) -> 0 | H39: =SUM('Լոռի :Կոտայք'!H39) -> 0 | I39: =SUM('Լոռի :Կոտայք'!I39) -> 0 | J39: =SUM('Լոռի :Կոտայք'!J39) -> 0 | K39: =SUM('Լոռի :Կոտայք'!K39) -> 0 | ... CA39: =SUM('Լոռի :Կոտայք'!CA39) -> 0
A40: 2.3 | B40: Ազատությունից ապօրինի զրկելը | C40: 133 | D40: =SUM('Լոռի :Կոտայք'!D40) -> 0 | E40: =SUM('Լոռի :Կոտայք'!E40) -> 1 | F40: =SUM('Լոռի :Կոտայք'!F40) -> 1 | G40: =SUM('Լոռի :Կոտայք'!G40) -> 0 | H40: =SUM('Լոռի :Կոտայք'!H40) -> 1 | I40: =SUM('Լոռի :Կոտայք'!I40) -> 0 | J40: =SUM('Լոռի :Կոտայք'!J40) -> 0 | K40: =SUM('Լոռի :Կոտայք'!K40) -> 0 | ... CA40: =SUM('Լոռի :Կոտայք'!CA40) -> 0
A41: 2.4 | B41: Հոգեբուժական հիվանդանոցում ապօրինի տեղավորելը կամ պահելը | C41: 134 | D41: =SUM('Լոռի :Կոտայք'!D41) -> 0 | E41: =SUM('Լոռի :Կոտայք'!E41) -> 0 | F41: =SUM('Լոռի :Կոտայք'!F41) -> 0 | G41: =SUM('Լոռի :Կոտայք'!G41) -> 0 | H41: =SUM('Լոռի :Կոտայք'!H41) -> 0 | I41: =SUM('Լոռի :Կոտայք'!I41) -> 0 | J41: =SUM('Լոռի :Կոտայք'!J41) -> 0 | K41: =SUM('Լոռի :Կոտայք'!K41) -> 0 | ... CA41: =SUM('Լոռի :Կոտայք'!CA41) -> 0
A42: 2.7 | B42: Սպանության, առողջությանը ծանր վնաս պատճառելու կամ գույք ոչնչացնելու սպառնալիքը | C42: 137 | D42: =SUM('Լոռի :Կոտայք'!D42) -> 0 | E42: =SUM('Լոռի :Կոտայք'!E42) -> 0 | F42: =SUM('Լոռի :Կոտայք'!F42) -> 0 | G42: =SUM('Լոռի :Կոտայք'!G42) -> 0 | H42: =SUM('Լոռի :Կոտայք'!H42) -> 0 | I42: =SUM('Լոռի :Կոտայք'!I42) -> 1 | J42: =SUM('Լոռի :Կոտայք'!J42) -> 0 | K42: =SUM('Լոռի :Կոտայք'!K42) -> 0 | ... CA42: =SUM('Լոռի :Կոտայք'!CA42) -> 0
A43: 2.8 | B43: Այլ հանցագործություններ | D43: =SUM('Լոռի :Կոտայք'!D43) -> 0 | E43: =SUM('Լոռի :Կոտայք'!E43) -> 0 | F43: =SUM('Լոռի :Կոտայք'!F43) -> 0 | G43: =SUM('Լոռի :Կոտայք'!G43) -> 0 | H43: =SUM('Լոռի :Կոտայք'!H43) -> 0 | I43: =SUM('Լոռի :Կոտայք'!I43) -> 0 | J43: =SUM('Լոռի :Կոտայք'!J43) -> 0 | K43: =SUM('Լոռի :Կոտայք'!K43) -> 0 | ... CA43: =SUM('Լոռի :Կոտայք'!CA43) -> 0
A44: 3. | B44: Ընդամենը սեռական անձեռնմխելիության և սեռական ազատության դեմ ուղղված հանցագործությունները | D44: =SUM('Լոռի :Կոտայք'!D44) -> 0 | E44: =SUM('Լոռի :Կոտայք'!E44) -> 0 | F44: =SUM('Լոռի :Կոտայք'!F44) -> 0 | G44: =SUM('Լոռի :Կոտայք'!G44) -> 0 | H44: =SUM('Լոռի :Կոտայք'!H44) -> 0 | I44: =SUM('Լոռի :Կոտայք'!I44) -> 12 | J44: =SUM('Լոռի :Կոտայք'!J44) -> 0 | K44: =SUM('Լոռի :Կոտայք'!K44) -> 0 | ... CA44: =SUM('Լոռի :Կոտայք'!CA44) -> -3
A45: 3.1 | B45: Բռնաբարությունը | C45: 138 | D45: =SUM('Լոռի :Կոտայք'!D45) -> 0 | E45: =SUM('Լոռի :Կոտայք'!E45) -> 0 | F45: =SUM('Լոռի :Կոտայք'!F45) -> 0 | G45: =SUM('Լոռի :Կոտայք'!G45) -> 0 | H45: =SUM('Լոռի :Կոտայք'!H45) -> 0 | I45: =SUM('Լոռի :Կոտայք'!I45) -> 0 | J45: =SUM('Լոռի :Կոտայք'!J45) -> 0 | K45: =SUM('Լոռի :Կոտայք'!K45) -> 0 | ... CA45: =SUM('Լոռի :Կոտայք'!CA45) -> -1
A46: 3.2 | B46: Սեքսուալ բնույթի բռնի գործողությունները | C46: 139 | D46: =SUM('Լոռի :Կոտայք'!D46) -> 0 | E46: =SUM('Լոռի :Կոտայք'!E46) -> 0 | F46: =SUM('Լոռի :Կոտայք'!F46) -> 0 | G46: =SUM('Լոռի :Կոտայք'!G46) -> 0 | H46: =SUM('Լոռի :Կոտայք'!H46) -> 0 | I46: =SUM('Լոռի :Կոտայք'!I46) -> 1 | J46: =SUM('Լոռի :Կոտայք'!J46) -> 0 | K46: =SUM('Լոռի :Կոտայք'!K46) -> 0 | ... CA46: =SUM('Լոռի :Կոտայք'!CA46) -> 0
A47: 3.3 | B47: Սեռական հարաբերության կամ սեքսուալ բնույթի գործողություններին հարկադրելը | C47: 140 | D47: =SUM('Լոռի :Կոտայք'!D47) -> 0 | E47: =SUM('Լոռի :Կոտայք'!E47) -> 0 | F47: =SUM('Լոռի :Կոտայք'!F47) -> 0 | G47: =SUM('Լոռի :Կոտայք'!G47) -> 0 | H47: =SUM('Լոռի :Կոտայք'!H47) -> 0 | I47: =SUM('Լոռի :Կոտայք'!I47) -> 0 | J47: =SUM('Լոռի :Կոտայք'!J47) -> 0 | K47: =SUM('Լոռի :Կոտայք'!K47) -> 0 | ... CA47: =SUM('Լոռի :Կոտայք'!CA47) -> 0
A48: 3.4 | B48: Սեռական հարաբերությունը տասնվեց տարին չլրացած անձի հետ կամ սեքսուալ բնույթի գործողություններ կատարելը տասնվեց տարին չլրացած անձի նկատմամբ | C48: 141 | D48: =SUM('Լոռի :Կոտայք'!D48) -> 0 | E48: =SUM('Լոռի :Կոտայք'!E48) -> 0 | F48: =SUM('Լոռի :Կոտայք'!F48) -> 0 | G48: =SUM('Լոռի :Կոտայք'!G48) -> 0 | H48: =SUM('Լոռի :Կոտայք'!H48) -> 0 | I48: =SUM('Լոռի :Կոտայք'!I48) -> 11 | J48: =SUM('Լոռի :Կոտայք'!J48) -> 0 | K48: =SUM('Լոռի :Կոտայք'!K48) -> 0 | ... CA48: =SUM('Լոռի :Կոտայք'!CA48) -> -2
A49: 3.5 | B49: Անառակաբարո գործողությունները | C49: 142 | D49: =SUM('Լոռի :Կոտայք'!D49) -> 0 | E49: =SUM('Լոռի :Կոտայք'!E49) -> 0 | F49: =SUM('Լոռի :Կոտայք'!F49) -> 0 | G49: =SUM('Լոռի :Կոտայք'!G49) -> 0 | H49: =SUM('Լոռի :Կոտայք'!H49) -> 0 | I49: =SUM('Լոռի :Կոտայք'!I49) -> 0 | J49: =SUM('Լոռի :Կոտայք'!J49) -> 0 | K49: =SUM('Լոռի :Կոտայք'!K49) -> 0 | ... CA49: =SUM('Լոռի :Կոտայք'!CA49) -> 0
A50: 3.6 | B50: Այլ հանցագործություններ | D50: =SUM('Լոռի :Կոտայք'!D50) -> 0 | E50: =SUM('Լոռի :Կոտայք'!E50) -> 0 | F50: =SUM('Լոռի :Կոտայք'!F50) -> 0 | G50: =SUM('Լոռի :Կոտայք'!G50) -> 0 | H50: =SUM('Լոռի :Կոտայք'!H50) -> 0 | I50: =SUM('Լոռի :Կոտայք'!I50) -> 0 | J50: =SUM('Լոռի :Կոտայք'!J50) -> 0 | K50: =SUM('Լոռի :Կոտայք'!K50) -> 0 | ... CA50: =SUM('Լոռի :Կոտայք'!CA50) -> 0
A51: 4. | B51: Ընդամենը մարդու և քաղաքացու սահմանադրական իրավունքների և ազատությունների դեմ ուղղված հանցագործությունները | D51: =SUM('Լոռի :Կոտայք'!D51) -> 0 | E51: =SUM('Լոռի :Կոտայք'!E51) -> 0 | F51: =SUM('Լոռի :Կոտայք'!F51) -> 0 | G51: =SUM('Լոռի :Կոտայք'!G51) -> 0 | H51: =SUM('Լոռի :Կոտայք'!H51) -> 0 | I51: =SUM('Լոռի :Կոտայք'!I51) -> 10 | J51: =SUM('Լոռի :Կոտայք'!J51) -> 0 | K51: =SUM('Լոռի :Կոտայք'!K51) -> 0 | ... AX51: =SUM('Լոռի :Կոտայք'!AX51) -> 0 | AY51: 10 | AZ51: =SUM('Լոռի :Կոտայք'!AZ51) -> 0 | BA51: =SUM('Լոռի :Կոտայք'!BA51) -> 0 | BB51: =SUM('Լոռի :Կոտայք'!BB51) -> 0 | BC51: =SUM('Լոռի :Կոտայք'!BC51) -> 0 | BD51: =SUM('Լոռի :Կոտայք'!BD51) -> 0 | BE51: =SUM('Լոռի :Կոտայք'!BE51) -> 0 | BF51: =SUM('Լոռի :Կոտայք'!BF51) -> 0 | BG51: =SUM('Լոռի :Կոտայք'!BG51) -> 0 | ... CA51: =SUM('Լոռի :Կոտայք'!CA51) -> -2
A52: 4.1 | B52: Մարդու և քաղաքացու իրավահավասարությունը խախտելը | C52: 143 | D52: =SUM('Լոռի :Կոտայք'!D52) -> 0 | E52: =SUM('Լոռի :Կոտայք'!E52) -> 0 | F52: =SUM('Լոռի :Կոտայք'!F52) -> 0 | G52: =SUM('Լոռի :Կոտայք'!G52) -> 0 | H52: =SUM('Լոռի :Կոտայք'!H52) -> 0 | I52: =SUM('Լոռի :Կոտայք'!I52) -> 0 | J52: =SUM('Լոռի :Կոտայք'!J52) -> 0 | K52: =SUM('Լոռի :Կոտայք'!K52) -> 0 | ... CA52: =SUM('Լոռի :Կոտայք'!CA52) -> 0
A53: 4.2 | B53: Անձնական կամ ընտանեկան կյանքի մասին տեղեկություններ ապօրինի հավաքելը, պահելը, օգտագործելը կամ տարածելը | C53: 144 | D53: =SUM('Լոռի :Կոտայք'!D53) -> 0 | E53: =SUM('Լոռի :Կոտայք'!E53) -> 0 | F53: =SUM('Լոռի :Կոտայք'!F53) -> 0 | G53: =SUM('Լոռի :Կոտայք'!G53) -> 0 | H53: =SUM('Լոռի :Կոտայք'!H53) -> 0 | I53: =SUM('Լոռի :Կոտայք'!I53) -> 3 | J53: =SUM('Լոռի :Կոտայք'!J53) -> 0 | K53: =SUM('Լոռի :Կոտայք'!K53) -> 0 | ... CA53: =SUM('Լոռի :Կոտայք'!CA53) -> 0
A54: 4.3 | B54: Բժշկական գաղտնիքը հրապարակելը | C54: 145 | D54: =SUM('Լոռի :Կոտայք'!D54) -> 0 | E54: =SUM('Լոռի :Կոտայք'!E54) -> 0 | F54: =SUM('Լոռի :Կոտայք'!F54) -> 0 | G54: =SUM('Լոռի :Կոտայք'!G54) -> 0 | H54: =SUM('Լոռի :Կոտայք'!H54) -> 0 | I54: =SUM('Լոռի :Կոտայք'!I54) -> 0 | J54: =SUM('Լոռի :Կոտայք'!J54) -> 0 | K54: =SUM('Լոռի :Կոտայք'!K54) -> 0 | ... CA54: =SUM('Լոռի :Կոտայք'!CA54) -> 0
A55: 4.4 | B55: Նամակագրության, հեռախոսային խոսակցությունների, փոստային, հեռագրական կամ այլ հաղորդումների գաղտնիությունը խախտելը | C55: 146 | D55: =SUM('Լոռի :Կոտայք'!D55) -> 0 | E55: =SUM('Լոռի :Կոտայք'!E55) -> 0 | F55: =SUM('Լոռի :Կոտայք'!F55) -> 0 | G55: =SUM('Լոռի :Կոտայք'!G55) -> 0 | H55: =SUM('Լոռի :Կոտայք'!H55) -> 0 | I55: =SUM('Լոռի :Կոտայք'!I55) -> 0 | J55: =SUM('Լոռի :Կոտայք'!J55) -> 0 | K55: =SUM('Լոռի :Կոտայք'!K55) -> 0 | ... CA55: =SUM('Լոռի :Կոտայք'!CA55) -> 0
A56: 4.5 | B56: Բնակարանի անձեռնմխելիությունը խախտելը | C56: 147 | D56: =SUM('Լոռի :Կոտայք'!D56) -> 0 | E56: =SUM('Լոռի :Կոտայք'!E56) -> 0 | F56: =SUM('Լոռի :Կոտայք'!F56) -> 0 | G56: =SUM('Լոռի :Կոտայք'!G56) -> 0 | H56: =SUM('Լոռի :Կոտայք'!H56) -> 0 | I56: =SUM('Լոռի :Կոտայք'!I56) -> 6 | J56: =SUM('Լոռի :Կոտայք'!J56) -> 0 | K56: =SUM('Լոռի :Կոտայք'!K56) -> 0 | ... CA56: =SUM('Լոռի :Կոտայք'!CA56) -> -2
A57: 4.6 | B57: Անձին տեղեկություն ներկայացնելուց հրաժարվելը | C57: 148 | D57: =SUM('Լոռի :Կոտայք'!D57) -> 0 | E57: =SUM('Լոռի :Կոտայք'!E57) -> 0 | F57: =SUM('Լոռի :Կոտայք'!F57) -> 0 | G57: =SUM('Լոռի :Կոտայք'!G57) -> 0 | H57: =SUM('Լոռի :Կոտայք'!H57) -> 0 | I57: =SUM('Լոռի :Կոտայք'!I57) -> 0 | J57: =SUM('Լոռի :Կոտայք'!J57) -> 0 | K57: =SUM('Լոռի :Կոտայք'!K57) -> 0 | ... CA57: =SUM('Լոռի :Կոտայք'!CA57) -> 0
A58: 4.7 | B58: Ընտրական իրավունքի իրականացմանը, ընտրական հանձնաժողովների աշխատանքներին կամ ընտրությանը մասնակցող անձանց լիազորությունների իրականացմանը խոչընդոտելը | C58: 149 | D58: =SUM('Լոռի :Կոտայք'!D58) -> 0 | E58: =SUM('Լոռի :Կոտայք'!E58) -> 0 | F58: =SUM('Լոռի :Կոտայք'!F58) -> 0 | G58: =SUM('Լոռի :Կոտայք'!G58) -> 0 | H58: =SUM('Լոռի :Կոտայք'!H58) -> 0 | I58: =SUM('Լոռի :Կոտայք'!I58) -> 0 | J58: =SUM('Լոռի :Կոտայք'!J58) -> 0 | K58: =SUM('Լոռի :Կոտայք'!K58) -> 0 | ... CA58: =SUM('Լոռի :Կոտայք'!CA58) -> -1
A59: 4.8 | B59: Ընտրությունների կամ քվեարկության արդյունքները կեղծելը | C59: 150 | D59: =SUM('Լոռի :Կոտայք'!D59) -> 0 | E59: =SUM('Լոռի :Կոտայք'!E59) -> 0 | F59: =SUM('Լոռի :Կոտայք'!F59) -> 0 | G59: =SUM('Լոռի :Կոտայք'!G59) -> 0 | H59: =SUM('Լոռի :Կոտայք'!H59) -> 0 | I59: =SUM('Լոռի :Կոտայք'!I59) -> 0 | J59: =SUM('Լոռի :Կոտայք'!J59) -> 0 | K59: =SUM('Լոռի :Կոտայք'!K59) -> 0 | ... CA59: =SUM('Լոռի :Կոտայք'!CA59) -> 0
A60: 4.10 | B60: Ընտրողների ցուցակները կազմելու, դրանք քաղաքացիներին և կուսակցություններին տրամադրելու կամ հրապարակելու կարգը խախտելը | C60: 152 | D60: =SUM('Լոռի :Կոտայք'!D60) -> 0 | E60: =SUM('Լոռի :Կոտայք'!E60) -> 0 | F60: =SUM('Լոռի :Կոտայք'!F60) -> 0 | G60: =SUM('Լոռի :Կոտայք'!G60) -> 0 | H60: =SUM('Լոռի :Կոտայք'!H60) -> 0 | I60: =SUM('Լոռի :Կոտայք'!I60) -> 0 | J60: =SUM('Լոռի :Կոտայք'!J60) -> 0 | K60: =SUM('Լոռի :Կոտայք'!K60) -> 0 | ... CA60: =SUM('Լոռի :Կոտայք'!CA60) -> 0
A61: 4.11 | B61: Մեկից ավելի անգամ կամ այլ անձի փոխարեն քվեարկելը | C61: 153 | D61: =SUM('Լոռի :Կոտայք'!D61) -> 0 | E61: =SUM('Լոռի :Կոտայք'!E61) -> 0 | F61: =SUM('Լոռի :Կոտայք'!F61) -> 0 | G61: =SUM('Լոռի :Կոտայք'!G61) -> 0 | H61: =SUM('Լոռի :Կոտայք'!H61) -> 0 | I61: =SUM('Լոռի :Կոտայք'!I61) -> 0 | J61: =SUM('Լոռի :Կոտայք'!J61) -> 0 | K61: =SUM('Լոռի :Կոտայք'!K61) -> 0 | ... CA61: =SUM('Լոռի :Կոտայք'!CA61) -> 0
A62: 4.12 | B62: Քվեարկության գաղտնիությունը խախտելը | C62: 154 | D62: =SUM('Լոռի :Կոտայք'!D62) -> 0 | E62: =SUM('Լոռի :Կոտայք'!E62) -> 0 | F62: =SUM('Լոռի :Կոտայք'!F62) -> 0 | G62: =SUM('Լոռի :Կոտայք'!G62) -> 0 | H62: =SUM('Լոռի :Կոտայք'!H62) -> 0 | I62: =SUM('Լոռի :Կոտայք'!I62) -> 0 | J62: =SUM('Լոռի :Կոտայք'!J62) -> 0 | K62: =SUM('Լոռի :Կոտայք'!K62) -> 0 | ... CA62: =SUM('Լոռի :Կոտայք'!CA62) -> 0
A63: 4.13 | B63: Կեղծ ընտրական քվեաթերթիկներ կամ քվեարկության ծրարներ, դրոշմանիշեր, կտրոններ պատրաստելը կամ ակնհայտ կեղծ ընտրական քվեաթերթիկներ կամ քվեարկության ծրարներ, դրոշմանիշեր, կտրոններ հանձնելը կամ իրացնելը | C63: 154.1 | D63: =SUM('Լոռի :Կոտայք'!D63) -> 0 | E63: =SUM('Լոռի :Կոտայք'!E63) -> 0 | F63: =SUM('Լոռի :Կոտայք'!F63) -> 0 | G63: =SUM('Լոռի :Կոտայք'!G63) -> 0 | H63: =SUM('Լոռի :Կոտայք'!H63) -> 0 | I63: =SUM('Լոռի :Կոտայք'!I63) -> 0 | J63: =SUM('Լոռի :Կոտայք'!J63) -> 0 | K63: =SUM('Լոռի :Կոտայք'!K63) -> 0 | ... CA63: =SUM('Լոռի :Կոտայք'!CA63) -> 0
... A79: 4.27 | B79: Լրագրողի մասնագիտական օրինական գործողությանը խոչընդոտելը | C79: 164 | D79: =SUM('Լոռի :Կոտայք'!D79) -> 0 | E79: =SUM('Լոռի :Կոտայք'!E79) -> 0 | F79: =SUM('Լոռի :Կոտայք'!F79) -> 0 | G79: =SUM('Լոռի :Կոտայք'!G79) -> 0 | H79: =SUM('Լոռի :Կոտայք'!H79) -> 0 | I79: =SUM('Լոռի :Կոտայք'!I79) -> 0 | J79: =SUM('Լոռի :Կոտայք'!J79) -> 0 | K79: =SUM('Լոռի :Կոտայք'!K79) -> 0 | ... CA79: =SUM('Լոռի :Կոտայք'!CA79) -> 0
A80: 4.28 | B80: Այլ հանցագործություններ | D80: =SUM('Լոռի :Կոտայք'!D80) -> 0 | E80: =SUM('Լոռի :Կոտայք'!E80) -> 0 | F80: =SUM('Լոռի :Կոտայք'!F80) -> 0 | G80: =SUM('Լոռի :Կոտայք'!G80) -> 0 | H80: =SUM('Լոռի :Կոտայք'!H80) -> 0 | I80: =SUM('Լոռի :Կոտայք'!I80) -> 0 | J80: =SUM('Լոռի :Կոտայք'!J80) -> 0 | K80: =SUM('Լոռի :Կոտայք'!K80) -> 0 | ... CA80: =SUM('Լոռի :Կոտայք'!CA80) -> 0
A81: 5. | B81: Ընդամենը ընտանիքի և երեխայի շահերի դեմ ուղղված հանցագործությունները | D81: =SUM('Լոռի :Կոտայք'!D81) -> 0 | E81: =SUM('Լոռի :Կոտայք'!E81) -> 0 | F81: =SUM('Լոռի :Կոտայք'!F81) -> 0 | G81: =SUM('Լոռի :Կոտայք'!G81) -> 0 | H81: =SUM('Լոռի :Կոտայք'!H81) -> 0 | I81: =SUM('Լոռի :Կոտայք'!I81) -> 4 | J81: =SUM('Լոռի :Կոտայք'!J81) -> 0 | K81: =SUM('Լոռի :Կոտայք'!K81) -> 0 | ... CA81: =SUM('Լոռի :Կոտայք'!CA81) -> 3
A82: 5.1 | B82: Անչափահասին հանցանքի կատարմանը ներգրավելը | C82: 165 | D82: =SUM('Լոռի :Կոտայք'!D82) -> 0 | E82: =SUM('Լոռի :Կոտայք'!E82) -> 0 | F82: =SUM('Լոռի :Կոտայք'!F82) -> 0 | G82: =SUM('Լոռի :Կոտայք'!G82) -> 0 | H82: =SUM('Լոռի :Կոտայք'!H82) -> 0 | I82: =SUM('Լոռի :Կոտայք'!I82) -> 3 | J82: =SUM('Լոռի :Կոտայք'!J82) -> 0 | K82: =SUM('Լոռի :Կոտայք'!K82) -> 0 | ... CA82: =SUM('Լոռի :Կոտայք'!CA82) -> 3
A83: 5.2 | B83: Երեխային պոռնկության կամ պոռնկագրական բնույթի նյութեր կամ առարկաներ պատրաստելու հետ կապված գործողություններ կատարելուն ներգրավելը | C83: 166 | D83: =SUM('Լոռի :Կոտայք'!D83) -> 0 | E83: =SUM('Լոռի :Կոտայք'!E83) -> 0 | F83: =SUM('Լոռի :Կոտայք'!F83) -> 0 | G83: =SUM('Լոռի :Կոտայք'!G83) -> 0 | H83: =SUM('Լոռի :Կոտայք'!H83) -> 0 | I83: =SUM('Լոռի :Կոտայք'!I83) -> 0 | J83: =SUM('Լոռի :Կոտայք'!J83) -> 0 | K83: =SUM('Լոռի :Կոտայք'!K83) -> 0 | ... CA83: =SUM('Լոռի :Կոտայք'!CA83) -> 0
A84: 5.2.1 | B84: Երեխային ոգելից խմիչքների օգտագործմանը, ուժեղ ներգործող կամ այլ թմրեցնող նյութերի ոչ բժշկական օգտագործմանը, թափառաշրջիկությանը ներգրավելը կամ մուրացկանության հետ կապված գործողություններ կատարելուն ներգրավելը | C84: 166.1 | D84: =SUM('Լոռի :Կոտայք'!D84) -> 0 | E84: =SUM('Լոռի :Կոտայք'!E84) -> 0 | F84: =SUM('Լոռի :Կոտայք'!F84) -> 0 | G84: =SUM('Լոռի :Կոտայք'!G84) -> 0 | H84: =SUM('Լոռի :Կոտայք'!H84) -> 0 | I84: =SUM('Լոռի :Կոտայք'!I84) -> 0 | J84: =SUM('Լոռի :Կոտայք'!J84) -> 0 | K84: =SUM('Լոռի :Կոտայք'!K84) -> 0 | ... CA84: =SUM('Լոռի :Կոտայք'!CA84) -> 0
A85: 5.3 | B85: Ծնողներից երեխային ապօրինի բաժանելը կամ երեխային փոխելը | C85: 167 | D85: =SUM('Լոռի :Կոտայք'!D85) -> 0 | E85: =SUM('Լոռի :Կոտայք'!E85) -> 0 | F85: =SUM('Լոռի :Կոտայք'!F85) -> 0 | G85: =SUM('Լոռի :Կոտայք'!G85) -> 0 | H85: =SUM('Լոռի :Կոտայք'!H85) -> 0 | I85: =SUM('Լոռի :Կոտայք'!I85) -> 0 | J85: =SUM('Լոռի :Կոտայք'!J85) -> 0 | K85: =SUM('Լոռի :Կոտայք'!K85) -> 0 | ... CA85: =SUM('Լոռի :Կոտայք'!CA85) -> 0
A86: 5.4 | B86: Խնամքը ստանձնելու նպատակով երեխայի առքը կամ ստանձնողի խնամքին հանձնելու նպատակով երեխայի վաճառքը | C86: 168 | D86: =SUM('Լոռի :Կոտայք'!D86) -> 0 | E86: =SUM('Լոռի :Կոտայք'!E86) -> 0 | F86: =SUM('Լոռի :Կոտայք'!F86) -> 0 | G86: =SUM('Լոռի :Կոտայք'!G86) -> 0 | H86: =SUM('Լոռի :Կոտայք'!H86) -> 0 | I86: =SUM('Լոռի :Կոտայք'!I86) -> 0 | J86: =SUM('Լոռի :Կոտայք'!J86) -> 0 | K86: =SUM('Լոռի :Կոտայք'!K86) -> 0 | ... CA86: =SUM('Լոռի :Կոտայք'!CA86) -> 0
A87: 5.5 | B87: Որդեգրման գաղտնիքը հրապարակելը կամ որդեգրման համաձայնություն տալուն հակելը կամ հարկադրելը | C87: 169 | D87: =SUM('Լոռի :Կոտայք'!D87) -> 0 | E87: =SUM('Լոռի :Կոտայք'!E87) -> 0 | F87: =SUM('Լոռի :Կոտայք'!F87) -> 0 | G87: =SUM('Լոռի :Կոտայք'!G87) -> 0 | H87: =SUM('Լոռի :Կոտայք'!H87) -> 0 | I87: =SUM('Լոռի :Կոտայք'!I87) -> 0 | J87: =SUM('Լոռի :Կոտայք'!J87) -> 0 | K87: =SUM('Լոռի :Կոտայք'!K87) -> 0 | ... CA87: =SUM('Լոռի :Կոտայք'!CA87) -> 0
A88: 5.6 | B88: Քաղաքացիական կացության ակտերի գրանցման մարմիններին սուտ տեղեկություններ հաղորդելը | C88: 169.1 | D88: =SUM('Լոռի :Կոտայք'!D88) -> 0 | E88: =SUM('Լոռի :Կոտայք'!E88) -> 0 | F88: =SUM('Լոռի :Կոտայք'!F88) -> 0 | G88: =SUM('Լոռի :Կոտայք'!G88) -> 0 | H88: =SUM('Լոռի :Կոտայք'!H88) -> 0 | I88: =SUM('Լոռի :Կոտայք'!I88) -> 0 | J88: =SUM('Լոռի :Կոտայք'!J88) -> 0 | K88: =SUM('Լոռի :Կոտայք'!K88) -> 0 | ... CA88: =SUM('Լոռի :Կոտայք'!CA88) -> 0
A89: 5.7 | B89: Երեխային դաստիարակելու պարտականությունը չկատարելը | C89: 170 | D89: =SUM('Լոռի :Կոտայք'!D89) -> 0 | E89: =SUM('Լոռի :Կոտայք'!E89) -> 0 | F89: =SUM('Լոռի :Կոտայք'!F89) -> 0 | G89: =SUM('Լոռի :Կոտայք'!G89) -> 0 | H89: =SUM('Լոռի :Կոտայք'!H89) -> 0 | I89: =SUM('Լոռի :Կոտայք'!I89) -> 0 | J89: =SUM('Լոռի :Կոտայք'!J89) -> 0 | K89: =SUM('Լոռի :Կոտայք'!K89) -> 0 | ... CA89: =SUM('Լոռի :Կոտայք'!CA89) -> 0
A90: 5.8 | B90: Երեխայի կյանքի անվտանգության ապահովման կամ առողջության պահպանման պարտականությունը չկատարելը կամ ոչ պատշաճ կատարելը | C90: 171 | D90: =SUM('Լոռի :Կոտայք'!D90) -> 0 | E90: =SUM('Լոռի :Կոտայք'!E90) -> 0 | F90: =SUM('Լոռի :Կոտայք'!F90) -> 0 | G90: =SUM('Լոռի :Կոտայք'!G90) -> 0 | H90: =SUM('Լոռի :Կոտայք'!H90) -> 0 | I90: =SUM('Լոռի :Կոտայք'!I90) -> 0 | J90: =SUM('Լոռի :Կոտայք'!J90) -> 0 | K90: =SUM('Լոռի :Կոտայք'!K90) -> 0 | ... CA90: =SUM('Լոռի :Կոտայք'!CA90) -> 0
A91: 5.8.1 | B91: Վերարտադրողականության օժանդակ տեխնոլոգիաներից օգտվելու կանոնները խախտելը | C91: 171.1 | D91: =SUM('Լոռի :Կոտայք'!D91) -> 0 | E91: =SUM('Լոռի :Կոտայք'!E91) -> 0 | F91: =SUM('Լոռի :Կոտայք'!F91) -> 0 | G91: =SUM('Լոռի :Կոտայք'!G91) -> 0 | H91: =SUM('Լոռի :Կոտայք'!H91) -> 0 | I91: =SUM('Լոռի :Կոտայք'!I91) -> 0 | J91: =SUM('Լոռի :Կոտայք'!J91) -> 0 | K91: =SUM('Լոռի :Կոտայք'!K91) -> 0 | ... CA91: =SUM('Լոռի :Կոտայք'!CA91) -> 0
A92: 5.9 | B92: Խնամակալի կամ հոգաբարձուի իրավունքները չարաշահելը | C92: 172 | D92: =SUM('Լոռի :Կոտայք'!D92) -> 0 | E92: =SUM('Լոռի :Կոտայք'!E92) -> 0 | F92: =SUM('Լոռի :Կոտայք'!F92) -> 0 | G92: =SUM('Լոռի :Կոտայք'!G92) -> 0 | H92: =SUM('Լոռի :Կոտայք'!H92) -> 0 | I92: =SUM('Լոռի :Կոտայք'!I92) -> 0 | J92: =SUM('Լոռի :Կոտայք'!J92) -> 0 | K92: =SUM('Լոռի :Կոտայք'!K92) -> 0 | ... CA92: =SUM('Լոռի :Կոտայք'!CA92) -> 0
A93: 5.10 | B93: Ծնողի կողմից երեխային պահելուց չարամտորեն խուսափելը | C93: 173 | D93: =SUM('Լոռի :Կոտայք'!D93) -> 0 | E93: =SUM('Լոռի :Կոտայք'!E93) -> 0 | F93: =SUM('Լոռի :Կոտայք'!F93) -> 0 | G93: =SUM('Լոռի :Կոտայք'!G93) -> 0 | H93: =SUM('Լոռի :Կոտայք'!H93) -> 0 | I93: =SUM('Լոռի :Կոտայք'!I93) -> 1 | J93: =SUM('Լոռի :Կոտայք'!J93) -> 0 | K93: =SUM('Լոռի :Կոտայք'!K93) -> 0 | ... CA93: =SUM('Լոռի :Կոտայք'!CA93) -> 0
A94: 5.11 | B94: Զավակի կողմից անաշխատունակ ծնողին պահելուց չարամտորեն խուսափելը | C94: 174 | D94: =SUM('Լոռի :Կոտայք'!D94) -> 0 | E94: =SUM('Լոռի :Կոտայք'!E94) -> 0 | F94: =SUM('Լոռի :Կոտայք'!F94) -> 0 | G94: =SUM('Լոռի :Կոտայք'!G94) -> 0 | H94: =SUM('Լոռի :Կոտայք'!H94) -> 0 | I94: =SUM('Լոռի :Կոտայք'!I94) -> 0 | J94: =SUM('Լոռի :Կոտայք'!J94) -> 0 | K94: =SUM('Լոռի :Կոտայք'!K94) -> 0 | ... CA94: =SUM('Լոռի :Կոտայք'!CA94) -> 0
A95: 5.12 | B95: Այլ հանցագործություններ | D95: =SUM('Լոռի :Կոտայք'!D95) -> 0 | E95: =SUM('Լոռի :Կոտայք'!E95) -> 0 | F95: =SUM('Լոռի :Կոտայք'!F95) -> 0 | G95: =SUM('Լոռի :Կոտայք'!G95) -> 0 | H95: =SUM('Լոռի :Կոտայք'!H95) -> 0 | I95: =SUM('Լոռի :Կոտայք'!I95) -> 0 | J95: =SUM('Լոռի :Կոտայք'!J95) -> 0 | K95: =SUM('Լոռի :Կոտայք'!K95) -> 0 | ... CA95: =SUM('Լոռի :Կոտայք'!CA95) -> 0
A96: 6. | B96: Ընդամենը սեփականության դեմ ուղղված հանցագործությունները | D96: =SUM('Լոռի :Կոտայք'!D96) -> 0 | E96: =SUM('Լոռի :Կոտայք'!E96) -> 36 | F96: =SUM('Լոռի :Կոտայք'!F96) -> 36 | G96: =SUM('Լոռի :Կոտայք'!G96) -> 5 | H96: =SUM('Լոռի :Կոտայք'!H96) -> 2 | I96: =SUM('Լոռի :Կոտայք'!I96) -> 153 | J96: =SUM('Լոռի :Կոտայք'!J96) -> 9 | K96: =SUM('Լոռի :Կոտայք'!K96) -> 11 | ... CA96: =SUM('Լոռի :Կոտայք'!CA96) -> -85
A97: 6.1 | B97: Ավազակությունը | C97: 175 | D97: =SUM('Լոռի :Կոտայք'!D97) -> 0 | E97: =SUM('Լոռի :Կոտայք'!E97) -> 0 | F97: =SUM('Լոռի :Կոտայք'!F97) -> 0 | G97: =SUM('Լոռի :Կոտայք'!G97) -> 1 | H97: =SUM('Լոռի :Կոտայք'!H97) -> 0 | I97: =SUM('Լոռի :Կոտայք'!I97) -> 2 | J97: =SUM('Լոռի :Կոտայք'!J97) -> 0 | K97: =SUM('Լոռի :Կոտայք'!K97) -> 0 | ... CA97: =SUM('Լոռի :Կոտայք'!CA97) -> 0
A98: 6.2 | B98: Կողոպուտը | C98: 176 | D98: =SUM('Լոռի :Կոտայք'!D98) -> 0 | E98: =SUM('Լոռի :Կոտայք'!E98) -> 0 | F98: =SUM('Լոռի :Կոտայք'!F98) -> 0 | G98: =SUM('Լոռի :Կոտայք'!G98) -> 0 | H98: =SUM('Լոռի :Կոտայք'!H98) -> 0 | I98: =SUM('Լոռի :Կոտայք'!I98) -> 8 | J98: =SUM('Լոռի :Կոտայք'!J98) -> 0 | K98: =SUM('Լոռի :Կոտայք'!K98) -> 0 | ... CA98: =SUM('Լոռի :Կոտայք'!CA98) -> -7
A99: 6.3 | B99: Գողությունը | C99: 177 | D99: =SUM('Լոռի :Կոտայք'!D99) -> 0 | E99: =SUM('Լոռի :Կոտայք'!E99) -> 13 | F99: =SUM('Լոռի :Կոտայք'!F99) -> 13 | G99: =SUM('Լոռի :Կոտայք'!G99) -> 2 | H99: =SUM('Լոռի :Կոտայք'!H99) -> 0 | I99: =SUM('Լոռի :Կոտայք'!I99) -> 95 | J99: =SUM('Լոռի :Կոտայք'!J99) -> 6 | K99: =SUM('Լոռի :Կոտայք'!K99) -> 4 | ... CA99: =SUM('Լոռի :Կոտայք'!CA99) -> -34
A100: 6.4 | B100: Խարդախությունը | C100: 178 | D100: =SUM('Լոռի :Կոտայք'!D100) -> 0 | E100: =SUM('Լոռի :Կոտայք'!E100) -> 15 | F100: =SUM('Լոռի :Կոտայք'!F100) -> 15 | G100: =SUM('Լոռի :Կոտայք'!G100) -> 0 | H100: =SUM('Լոռի :Կոտայք'!H100) -> 0 | I100: =SUM('Լոռի :Կոտայք'!I100) -> 19 | J100: =SUM('Լոռի :Կոտայք'!J100) -> 1 | K100: =SUM('Լոռի :Կոտայք'!K100) -> 0 | ... CA100: =SUM('Լոռի :Կոտայք'!CA100) -> -35
A101: 6.5 | B101: Յուրացնելը կամ վատնելը | C101: 179 | D101: =SUM('Լոռի :Կոտայք'!D101) -> 0 | E101: =SUM('Լոռի :Կոտայք'!E101) -> 3 | F101: =SUM('Լոռի :Կոտայք'!F101) -> 3 | G101: =SUM('Լոռի :Կոտայք'!G101) -> 0 | H101: =SUM('Լոռի :Կոտայք'!H101) -> 2 | I101: =SUM('Լոռի :Կոտայք'!I101) -> 13 | J101: =SUM('Լոռի :Կոտայք'!J101) -> 1 | K101: =SUM('Լոռի :Կոտայք'!K101) -> 7 | ... CA101: =SUM('Լոռի :Կոտայք'!CA101) -> -11
A102: 6.6 | B102: Առանձնակի արժեք ունեցող առարկաներ հափշտակելը | C102: 180 | D102: =SUM('Լոռի :Կոտայք'!D102) -> 0 | E102: =SUM('Լոռի :Կոտայք'!E102) -> 0 | F102: =SUM('Լոռի :Կոտայք'!F102) -> 0 | G102: =SUM('Լոռի :Կոտայք'!G102) -> 0 | H102: =SUM('Լոռի :Կոտայք'!H102) -> 0 | I102: =SUM('Լոռի :Կոտայք'!I102) -> 0 | J102: =SUM('Լոռի :Կոտայք'!J102) -> 0 | K102: =SUM('Լոռի :Կոտայք'!K102) -> 0 | ... CA102: =SUM('Լոռի :Կոտայք'!CA102) -> 0
A103: 6.7 | B103: Հափշտակությունը, որը կատարվել է համակարգչային տեխնիկայի օգտագործմամբ | C103: 181 | D103: =SUM('Լոռի :Կոտայք'!D103) -> 0 | E103: =SUM('Լոռի :Կոտայք'!E103) -> 0 | F103: =SUM('Լոռի :Կոտայք'!F103) -> 0 | G103: =SUM('Լոռի :Կոտայք'!G103) -> 0 | H103: =SUM('Լոռի :Կոտայք'!H103) -> 0 | I103: =SUM('Լոռի :Կոտայք'!I103) -> 0 | J103: =SUM('Լոռի :Կոտայք'!J103) -> 0 | K103: =SUM('Լոռի :Կոտայք'!K103) -> 0 | ... CA103: =SUM('Լոռի :Կոտայք'!CA103) -> 0
A104: 6.8 | B104: Շորթումը | C104: 182 | D104: =SUM('Լոռի :Կոտայք'!D104) -> 0 | E104: =SUM('Լոռի :Կոտայք'!E104) -> 0 | F104: =SUM('Լոռի :Կոտայք'!F104) -> 0 | G104: =SUM('Լոռի :Կոտայք'!G104) -> 0 | H104: =SUM('Լոռի :Կոտայք'!H104) -> 0 | I104: =SUM('Լոռի :Կոտայք'!I104) -> 3 | J104: =SUM('Լոռի :Կոտայք'!J104) -> 0 | K104: =SUM('Լոռի :Կոտայք'!K104) -> 0 | ... CA104: =SUM('Լոռի :Կոտայք'!CA104) -> 1
A105: 6.9 | B105: Ավտոմեքենային կամ տրանսպորտային այլ միջոցին ապօրինաբար տիրանալն առանց հափշտակելու նպատակի | C105: 183 | D105: =SUM('Լոռի :Կոտայք'!D105) -> 0 | E105: =SUM('Լոռի :Կոտայք'!E105) -> 0 | F105: =SUM('Լոռի :Կոտայք'!F105) -> 0 | G105: =SUM('Լոռի :Կոտայք'!G105) -> 0 | H105: =SUM('Լոռի :Կոտայք'!H105) -> 0 | I105: =SUM('Լոռի :Կոտայք'!I105) -> 0 | J105: =SUM('Լոռի :Կոտայք'!J105) -> 0 | K105: =SUM('Լոռի :Կոտայք'!K105) -> 0 | ... CA105: =SUM('Լոռի :Կոտայք'!CA105) -> 0
A106: 6.10 | B106: Գույքային վնաս պատճառելը խաբեության կամ վստահությունը չարաշահելու եղանակով | C106: 184 | D106: =SUM('Լոռի :Կոտայք'!D106) -> 0 | E106: =SUM('Լոռի :Կոտայք'!E106) -> 1 | F106: =SUM('Լոռի :Կոտայք'!F106) -> 1 | G106: =SUM('Լոռի :Կոտայք'!G106) -> 0 | H106: =SUM('Լոռի :Կոտայք'!H106) -> 0 | I106: =SUM('Լոռի :Կոտայք'!I106) -> 0 | J106: =SUM('Լոռի :Կոտայք'!J106) -> 0 | K106: =SUM('Լոռի :Կոտայք'!K106) -> 0 | ... CA106: =SUM('Լոռի :Կոտայք'!CA106) -> 0
A107: 6.10.1 | B107: Գրավառուին վնաս պատճառելը | C107: 184.1 | D107: =SUM('Լոռի :Կոտայք'!D107) -> 0 | E107: =SUM('Լոռի :Կոտայք'!E107) -> 0 | F107: =SUM('Լոռի :Կոտայք'!F107) -> 0 | G107: =SUM('Լոռի :Կոտայք'!G107) -> 0 | H107: =SUM('Լոռի :Կոտայք'!H107) -> 0 | I107: =SUM('Լոռի :Կոտայք'!I107) -> 3 | J107: =SUM('Լոռի :Կոտայք'!J107) -> 0 | K107: =SUM('Լոռի :Կոտայք'!K107) -> 0 | ... CA107: =SUM('Լոռի :Կոտայք'!CA107) -> 1
A108: 6.11 | B108: Գույքը դիտավորությամբ ոչնչացնելը կամ վնասելը | C108: 185 | D108: =SUM('Լոռի :Կոտայք'!D108) -> 0 | E108: =SUM('Լոռի :Կոտայք'!E108) -> 4 | F108: =SUM('Լոռի :Կոտայք'!F108) -> 4 | G108: =SUM('Լոռի :Կոտայք'!G108) -> 2 | H108: =SUM('Լոռի :Կոտայք'!H108) -> 0 | I108: =SUM('Լոռի :Կոտայք'!I108) -> 9 | J108: =SUM('Լոռի :Կոտայք'!J108) -> 1 | K108: =SUM('Լոռի :Կոտայք'!K108) -> 0 | ... CA108: =SUM('Լոռի :Կոտայք'!CA108) -> 0
... A110: 6.13 | B110: Գուքի պահպանության պարտականություններն անփույթ կամ անբարեխիղճ կատարելը | C110: 186.1 | D110: =SUM('Լոռի :Կոտայք'!D110) -> 0 | E110: =SUM('Լոռի :Կոտայք'!E110) -> 0 | F110: =SUM('Լոռի :Կոտայք'!F110) -> 0 | G110: =SUM('Լոռի :Կոտայք'!G110) -> 0 | H110: =SUM('Լոռի :Կոտայք'!H110) -> 0 | I110: =SUM('Լոռի :Կոտայք'!I110) -> 0 | J110: =SUM('Լոռի :Կոտայք'!J110) -> 0 | K110: =SUM('Լոռի :Կոտայք'!K110) -> 0 | ... CA110: =SUM('Լոռի :Կոտայք'!CA110) -> 0
A111: 6.14 | B111: Այլ հանցագործություններ | D111: =SUM('Լոռի :Կոտայք'!D111) -> 0 | E111: =SUM('Լոռի :Կոտայք'!E111) -> 0 | F111: =SUM('Լոռի :Կոտայք'!F111) -> 0 | G111: =SUM('Լոռի :Կոտայք'!G111) -> 0 | H111: =SUM('Լոռի :Կոտայք'!H111) -> 0 | I111: =SUM('Լոռի :Կոտայք'!I111) -> 0 | J111: =SUM('Լոռի :Կոտայք'!J111) -> 0 | K111: =SUM('Լոռի :Կոտայք'!K111) -> 0 | ... CA111: =SUM('Լոռի :Կոտայք'!CA111) -> 0
A112: 7. | B112: Ընդամենը տնտեսական գործունեության դեմ ուղղված հանցագործությունները | D112: =SUM('Լոռի :Կոտայք'!D112) -> 0 | E112: =SUM('Լոռի :Կոտայք'!E112) -> 5 | F112: =SUM('Լոռի :Կոտայք'!F112) -> 5 | G112: =SUM('Լոռի :Կոտայք'!G112) -> 0 | H112: =SUM('Լոռի :Կոտայք'!H112) -> 0 | I112: =SUM('Լոռի :Կոտայք'!I112) -> 5 | J112: =SUM('Լոռի :Կոտայք'!J112) -> 1 | K112: =SUM('Լոռի :Կոտայք'!K112) -> 0 | ... CA112: =SUM('Լոռի :Կոտայք'!CA112) -> -3
A113: 7.1 | B113: Օրինական ձեռնարկատիրական և այլ տնտեսական գործունեությանը խոչընդոտելը | C113: 187 | D113: =SUM('Լոռի :Կոտայք'!D113) -> 0 | E113: =SUM('Լոռի :Կոտայք'!E113) -> 0 | F113: =SUM('Լոռի :Կոտայք'!F113) -> 0 | G113: =SUM('Լոռի :Կոտայք'!G113) -> 0 | H113: =SUM('Լոռի :Կոտայք'!H113) -> 0 | I113: =SUM('Լոռի :Կոտայք'!I113) -> 0 | J113: =SUM('Լոռի :Կոտայք'!J113) -> 0 | K113: =SUM('Լոռի :Կոտայք'!K113) -> 0 | ... CA113: =SUM('Լոռի :Կոտայք'!CA113) -> 0
A114: 7.2 | B114: Ապօրինի ձեռնարկատիրությունը | C114: 188 | D114: =SUM('Լոռի :Կոտայք'!D114) -> 0 | E114: =SUM('Լոռի :Կոտայք'!E114) -> 0 | F114: =SUM('Լոռի :Կոտայք'!F114) -> 0 | G114: =SUM('Լոռի :Կոտայք'!G114) -> 0 | H114: =SUM('Լոռի :Կոտայք'!H114) -> 0 | I114: =SUM('Լոռի :Կոտայք'!I114) -> 0 | J114: =SUM('Լոռի :Կոտայք'!J114) -> 0 | K114: =SUM('Լոռի :Կոտայք'!K114) -> 0 | ... CA114: =SUM('Լոռի :Կոտայք'!CA114) -> 0
A115: 7.3 | B115: Առանց լիցենազիայի արտարժույթի վաճառքի իրականացումը | C115: 188.1 | D115: =SUM('Լոռի :Կոտայք'!D115) -> 0 | E115: =SUM('Լոռի :Կոտայք'!E115) -> 0 | F115: =SUM('Լոռի :Կոտայք'!F115) -> 0 | G115: =SUM('Լոռի :Կոտայք'!G115) -> 0 | H115: =SUM('Լոռի :Կոտայք'!H115) -> 0 | I115: =SUM('Լոռի :Կոտայք'!I115) -> 1 | J115: =SUM('Լոռի :Կոտայք'!J115) -> 0 | K115: =SUM('Լոռի :Կոտայք'!K115) -> 0 | ... CA115: =SUM('Լոռի :Կոտայք'!CA115) -> 0
A116: 7.4 | B116: Կեղծ ձեռնարկատիրությունը | C116: 189 | D116: =SUM('Լոռի :Կոտայք'!D116) -> 0 | E116: =SUM('Լոռի :Կոտայք'!E116) -> 1 | F116: =SUM('Լոռի :Կոտայք'!F116) -> 1 | G116: =SUM('Լոռի :Կոտայք'!G116) -> 0 | H116: =SUM('Լոռի :Կոտայք'!H116) -> 0 | I116: =SUM('Լոռի :Կոտայք'!I116) -> 0 | J116: =SUM('Լոռի :Կոտայք'!J116) -> 0 | K116: =SUM('Լոռի :Կոտայք'!K116) -> 0 | ... CA116: =SUM('Լոռի :Կոտայք'!CA116) -> 0
A117: 7.4.1 | B117: Ֆինանսական բուրգ ստեղծելը, կազմակերպելը կամ ղեկավարելը | C117: 189.1 | D117: =SUM('Լոռի :Կոտայք'!D117) -> 0 | E117: =SUM('Լոռի :Կոտայք'!E117) -> 0 | F117: =SUM('Լոռի :Կոտայք'!F117) -> 0 | G117: =SUM('Լոռի :Կոտայք'!G117) -> 0 | H117: =SUM('Լոռի :Կոտայք'!H117) -> 0 | I117: =SUM('Լոռի :Կոտայք'!I117) -> 0 | J117: =SUM('Լոռի :Կոտայք'!J117) -> 0 | K117: =SUM('Լոռի :Կոտայք'!K117) -> 0 | ... CA117: =SUM('Լոռի :Կոտայք'!CA117) -> 0
A118: 7.5 | B118: Հանցավոր ճանապարհով ստացված գույքն օրինականացնելը (փողերի լվացումը) | C118: 190 | D118: =SUM('Լոռի :Կոտայք'!D118) -> 0 | E118: =SUM('Լոռի :Կոտայք'!E118) -> 1 | F118: =SUM('Լոռի :Կոտայք'!F118) -> 1 | G118: =SUM('Լոռի :Կոտայք'!G118) -> 0 | H118: =SUM('Լոռի :Կոտայք'!H118) -> 0 | I118: =SUM('Լոռի :Կոտայք'!I118) -> 1 | J118: =SUM('Լոռի :Կոտայք'!J118) -> 0 | K118: =SUM('Լոռի :Կոտայք'!K118) -> 0 | ... CA118: =SUM('Լոռի :Կոտայք'!CA118) -> 0
A119: 7.5.1 | B119: Ներքին տեղեկությունների անբարեխիղճ օգտագործումը | C119: 190.1 | D119: =SUM('Լոռի :Կոտայք'!D119) -> 0 | E119: =SUM('Լոռի :Կոտայք'!E119) -> 0 | F119: =SUM('Լոռի :Կոտայք'!F119) -> 0 | G119: =SUM('Լոռի :Կոտայք'!G119) -> 0 | H119: =SUM('Լոռի :Կոտայք'!H119) -> 0 | I119: =SUM('Լոռի :Կոտայք'!I119) -> 0 | J119: =SUM('Լոռի :Կոտայք'!J119) -> 0 | K119: =SUM('Լոռի :Կոտայք'!K119) -> 0 | ... CA119: =SUM('Լոռի :Կոտայք'!CA119) -> 0
A120: 7.5.2 | B120: Գնային չարաշահումը | C120: 190.2 | D120: =SUM('Լոռի :Կոտայք'!D120) -> 0 | E120: =SUM('Լոռի :Կոտայք'!E120) -> 0 | F120: =SUM('Լոռի :Կոտայք'!F120) -> 0 | G120: =SUM('Լոռի :Կոտայք'!G120) -> 0 | H120: =SUM('Լոռի :Կոտայք'!H120) -> 0 | I120: =SUM('Լոռի :Կոտայք'!I120) -> 0 | J120: =SUM('Լոռի :Կոտայք'!J120) -> 0 | K120: =SUM('Լոռի :Կոտայք'!K120) -> 0 | ... CA120: =SUM('Լոռի :Կոտայք'!CA120) -> 0
A121: 7.6 | B121: Վարկը ոչ նպատակային օգտագործելը | C121: 191 | D121: =SUM('Լոռի :Կոտայք'!D121) -> 0 | E121: =SUM('Լոռի :Կոտայք'!E121) -> 0 | F121: =SUM('Լոռի :Կոտայք'!F121) -> 0 | G121: =SUM('Լոռի :Կոտայք'!G121) -> 0 | H121: =SUM('Լոռի :Կոտայք'!H121) -> 0 | I121: =SUM('Լոռի :Կոտայք'!I121) -> 0 | J121: =SUM('Լոռի :Կոտայք'!J121) -> 0 | K121: =SUM('Լոռի :Կոտայք'!K121) -> 0 | ... CA121: =SUM('Լոռի :Կոտայք'!CA121) -> 0
A122: 7.7 | B122: Անօրինական գործողությունները սնանկության ընթացքում | C122: 192 | D122: =SUM('Լոռի :Կոտայք'!D122) -> 0 | E122: =SUM('Լոռի :Կոտայք'!E122) -> 0 | F122: =SUM('Լոռի :Կոտայք'!F122) -> 0 | G122: =SUM('Լոռի :Կոտայք'!G122) -> 0 | H122: =SUM('Լոռի :Կոտայք'!H122) -> 0 | I122: =SUM('Լոռի :Կոտայք'!I122) -> 0 | J122: =SUM('Լոռի :Կոտայք'!J122) -> 0 | K122: =SUM('Լոռի :Կոտայք'!K122) -> 0 | ... CA122: =SUM('Լոռի :Կոտայք'!CA122) -> 0
A123: 7.8 | B123: Կանխամտածված սնանկությունը | C123: 193 | D123: =SUM('Լոռի :Կոտայք'!D123) -> 0 | E123: =SUM('Լոռի :Կոտայք'!E123) -> 0 | F123: =SUM('Լոռի :Կոտայք'!F123) -> 0 | G123: =SUM('Լոռի :Կոտայք'!G123) -> 0 | H123: =SUM('Լոռի :Կոտայք'!H123) -> 0 | I123: =SUM('Լոռի :Կոտայք'!I123) -> 0 | J123: =SUM('Լոռի :Կոտայք'!J123) -> 0 | K123: =SUM('Լոռի :Կոտայք'!K123) -> 0 | ... CA123: =SUM('Լոռի :Կոտայք'!CA123) -> 0
A124: 7.9 | B124: Կեղծ սնանկությունը | C124: 194 | D124: =SUM('Լոռի :Կոտայք'!D124) -> 0 | E124: =SUM('Լոռի :Կոտայք'!E124) -> 0 | F124: =SUM('Լոռի :Կոտայք'!F124) -> 0 | G124: =SUM('Լոռի :Կոտայք'!G124) -> 0 | H124: =SUM('Լոռի :Կոտայք'!H124) -> 0 | I124: =SUM('Լոռի :Կոտայք'!I124) -> 0 | J124: =SUM('Լոռի :Կոտայք'!J124) -> 0 | K124: =SUM('Լոռի :Կոտայք'!K124) -> 0 | ... CA124: =SUM('Լոռի :Կոտայք'!CA124) -> 0
... A147: 7.31 | B147: Ակնհայտ հանցավոր ճանապարհով ձեռք բերված գույք ձեռք բերելը կամ իրացնելը | C147: 216 | D147: =SUM('Լոռի :Կոտայք'!D147) -> 0 | E147: =SUM('Լոռի :Կոտայք'!E147) -> 1 | F147: =SUM('Լոռի :Կոտայք'!F147) -> 1 | G147: =SUM('Լոռի :Կոտայք'!G147) -> 0 | H147: =SUM('Լոռի :Կոտայք'!H147) -> 0 | I147: =SUM('Լոռի :Կոտայք'!I147) -> 0 | J147: =SUM('Լոռի :Կոտայք'!J147) -> 0 | K147: =SUM('Լոռի :Կոտայք'!K147) -> 0 | ... CA147: =SUM('Լոռի :Կոտայք'!CA147) -> 0
...

Sheet Լոռի 
A1: ՀԱՇՎԵՏՎՈՒԹՅՈՒՆ
A2: 2020թ. 1-ին կիսամյակի | C2: ԱՆՁԱՆՑ ՎԵՐԱԲԵՐՅԱԼ, ՈՐՈՆՑ ԿԱՊԱԿՑՈՒԹՅԱՄԲ ԿԱՅԱՑՎԱԾ ԴԱՏԱԿԱՆ ԱԿՏԵՐԸ ՄՏԵԼ ԵՆ ՕՐԻՆԱԿԱՆ ՈւԺԻ ՄԵՋ
A3: Վիճակագրական տողի համարը | B3: ՀԱՆՑԱԳՈՐԾՈՒԹՅՈՒՆՆԵՐԻ ՏԵՍԱԿՆԵՐԸ | C3: ՀՀ Քրեական օրենսգրքի հոդվածը | D3: Անձանց թիվը, որոնց վերաբերյալ գործերը կարճվել կամ քրեական հետապնդումը դադարեցվել է | G3: Անմեղսունակներ, որոնց նկատմամբ կիրառվել են բժշկական բնույթի հարկադրական միջոցներ | H3: Արդարացվածների թիվը | I3: Դատապարտյալների թիվը (ծանոթություն.Մեղադրյալը, որի վերաբերյալ կա օրինական ուժի մեջ մտած դատարանի դատավճիռ, որն ամբողջությամբ կամ մասնակիորեն մեղադրական է, կոչվում է դատապարտյալ) | O3: Դատապարտյալների նկատմամբ նշանակված հիմնական պատիժներ | AD3: նշանակված պատիժը պայմանականորեն չի կիրառվել | AE3: կիրառվել է համաներման ակտ | AF3: Լրացուցիչ պատիժներ | AI3: Օրենքով նախատեսվածից ավելի մեղմ պատիժ է նշանակվել | AJ3: Հանցանքը կատարվել է | AR3: Անձի զբաղմունքի տեսակը` նախքան դատապարտվելը | AY3: Անձի քաղաքացիությունը | BB3: Դատապարտվածների թիվը, որոնց նախկին դատվածությունը հանվել կամ մարվել է | BC3: Դատապարտյալների թիվը, որոնք ունեն չհանված կամ չմարված դատվածություն | BG3: Դրանցից (սյունակ 55) եղել են դատապարտված | BK3: Չհանված, չմարված դատվածությամբ դատապարտյալը պատժից ազատվել է | BO3: Նոր հանցագործությունը կատարել է պատիժը չկրած | BT3: Նոր հանցագործությունը կատարել է ազատազրկման վայրից ազատվելուց առաջին տարվա ընթացքում | BU3: Անձանց թիվը, որոնց վերաբերյալ հաշվետու տարվա ընթացքում քննվել են գործեր | BV3: Դատապարտյալը հանձնվել է վերադաստիրակման կամ հսկողության | BW3: Դատապարտյալի նկատմամբ նշանակվել է հարկադիր բուժում գինեմոլության դեմ | BX3: Դատապարտյալի նկատմամբ նշանակվել է հարկադիր բուժում թմրամոլության դեմ | BY3: Դատվածությունների շարժը
D4: Այդ թվում՝ հանցադեպի կամ հանցակազմի բացակայության և մեղադրանքի չապացուցված լինելու պատճառով | E4: այլ հիմքով | F4: Ընդամենը | I4: որից դատապարտվել են | L4: Ընդամենը(6,7,8 սյունակներ) | M4: Այդ թվում՝ կանայք | N4: Այդ թվում` անչափահասներ | O4: Ա զ ա տ ա զ ր կ ու մ | X4: հանրային աշխատանքներ | Y4: տուգանք | Z4: Որոշակի պաշտոններ զբաղ. կամ որոշակի գործ. զբաղվ. իրավ. զրկում | AA4: Կարգապահական գումարտակում պահելը | AB4: զին. Ծառայության մեջ սահմանափակում | AC4: կալանք | AF4: գույքի բռնագրավում | AG4: հատուկ կամ զին. կոչումից, կարգից, աստիճանից կամ որակավորման դասից զրկելը | AH4: որոշակի պաշտ. զբաղ. կամ որոշակի գործ.զբաղվ. իրավ. զրկում | AJ4: ալկ., թմրամիջ. կամ թնրեցնող այլ նյութերի ազդ. | AK4: Մի խումբ անձանց կազմում | AL4: Կազմակերպված խմբի կամ հանցավոր համագործակցության կազմում | AM4: 14-16 տարեկան հասակում | AN4: 16-18 տարեկան հասակում | AO4: 18-29 տարեկան հասակում | AP4: 30-49 տարեկան հասակում | AQ4: 50 տարեկան և բարձր | AR4: Պաշտոնատար անձինք | AS4: Զին. ծառայողներ | AT4: Այլ զբաղմունք | AU4: Սովորողներ | AW4: Չաշխատող և չսովորող աշխատունակներ | AX4: արգելանքի տակ գտնվող անձ | AY4: ՀՀ քաղաքացի | AZ4: Քաղաքացիություն չունեցող անձ | BA4: Օտարերկրյա պետության քաղաքացի | BC4: Մեկ դատվածություն | BD4: Երկու դատվածություն | BE4: Երեք և ավելի դատվածություն | BF4: Ընդամենը | BG4: Սպանության, դիտավորյամբ առողջությանը ծանր վնաս պատճառելու, բռնաբարության համար | BH4: Գույքի հափշտակության համար | BI4: Խուլիգանության համար | BJ4: այլ հանցագործությունների համար | BK4: Պատիժը կրել է լրիվ չափով | BL4: Պայմանական վաղաժամկետ | BM4: Համաներման ակտի կիրառմամբ | BN4: Այլ հիմքերով | BO4: Ազատազրկման վայրում | BP4: Այլ պատիժ կրելիս | BQ4: Դատավճռի կատարման հետաձգման ժամանակահատվածում | BR4: Փորձաշրջանի ընթացքում | BS4: Ընդամենը | BY4: Հաշվետու տարվա ընթացքում դատապարտված անձանց թիվը | BZ4: Հաշվետու տարվան նախորդող տարվա ընթացքում դատապարտված անձանց թիվը | CA4: ավելացել է պակասել է
B5: ՍՏՈՒԳԻՉ ՀԱՎԱՍԱՐՈՒՄՆԵՐ 3=1+2, 9=6+7+8, 20=12+13+14+15+16+17+18+19, 9=20+21+22+23+24+25+26 9=36+37+38+39+40, 9=41+42+43+44+45+46+47,9=48+49+50, 55=52+53+54,55=56+57+58+59, 68=64+65+66+67 | I5: Ավարտված հանցագործության համար | J5: Հանցափորձի համար(ՀՀ քր. օր-ի 34-րդ հոդ.) | K5: Հանցակցության համար(ՀՀ քր.օր-ի 38-րդ հոդ.) | O5: 1 տարի ներառյալ | P5: 1 տարուց ավել, մինչև 2 տարի ներառյալ | Q5: 2 տարուց ավել, մինչև 3 տարի ներառյալ | R5: 3 տարուց ավել, մինչև 5 տարի ներառյալ | S5: 5 տարուց ավել, մինչև 8 տարի ներառյալ | T5: 8 տարուց ավել, մինչև 10 տարի ներառյալ | U5: 10 տարուց ավել, մինչև 15 տարի ներառյալ | V5: ցմահ ազատազրկում | W5: ընդամենը | AU5: 18 տարեկանից ցածր | AV5: 18 տարեկանից բարձր
D6: 1 | E6: 2 | F6: 3 | G6: 4 | H6: 5 | I6: 6 | J6: 7 | K6: 8 | L6: 9 | M6: 10 | N6: 11 | O6: 12 | P6: 13 | Q6: 14 | R6: 15 | S6: 16 | T6: 17 | U6: 18 | V6: 19 | W6: 20 | X6: 21 | Y6: 22 | Z6: 23 | AA6: 24 | AB6: 25 | AC6: 26 | AD6: 27 | AE6: 28 | AF6: 29 | AG6: 30 | AH6: 31 | AI6: 32 | AJ6: 33 | AK6: 34 | AL6: 35 | AM6: 36 | AN6: 37 | AO6: 38 | AP6: 39 | AQ6: 40 | AR6: 41 | AS6: 42 | AT6: 43 | AU6: 44 | AV6: 45 | AW6: 46 | AX6: 47 | AY6: 48 | AZ6: 49 | BA6: 50 | BB6: 51 | BC6: 52 | BD6: 53 | BE6: 54 | BF6: 55 | BG6: 56 | BH6: 57 | BI6: 58 | BJ6: 59 | BK6: 60 | BL6: 61 | BM6: 62 | BN6: 63 | BO6: 64 | BP6: 65 | BQ6: 66 | BR6: 67 | BS6: 68 | BT6: 69 | BU6: 70 | BV6: 71 | BW6: 72 | BX6: 73 | BY6: 74 | BZ6: 75 | CA6: 76
A7: 1. | B7: Ընդամենը կյանքի և առողջության դեմ ուղղված հանցագործությունները | D7: =SUM(D8:D34) -> 0 | E7: =SUM(E8:E34) -> 6 | F7: =SUM(F8:F34) -> 6 | G7: =SUM(G8:G34) -> 0 | H7: =SUM(H8:H34) -> 1 | I7: =SUM(I8:I34) -> 3 | J7: =SUM(J8:J34) -> 0 | K7: =SUM(K8:K34) -> 0 | ... CA7: =SUM(CA8:CA34) -> -14
A8: 1.1 | B8: Սպանությունը | C8: 104 | F8: =+D8+E8 -> 0 | H8: 1 | I8: 1 | L8: =+K8+J8+I8 -> 1 | U8: 1 | W8: =+V8+U8+T8+S8+R8+Q8+P8+O8 -> 1 | AP8: 1 | AX8: 1 | AY8: 1 | BD8: 1 | BF8: =+BE8+BD8+BC8 -> 1 | BH8: 1 | BK8: 1 | BS8: =+BR8+BQ8+BP8+BO8 -> 0 | BU8: 5 | BY8: =+L8 -> 1 | CA8: =+BY8-BZ8 -> 1
A9: 1.2 | B9: Հոգեկան խիստ հուզմունքի վիճակում կատարված սպանությունը | C9: 105 | F9: =+D9+E9 -> 0 | L9: =+K9+J9+I9 -> 0 | W9: =+V9+U9+T9+S9+R9+Q9+P9+O9 -> 0 | BF9: =+BE9+BD9+BC9 -> 0 | BS9: =+BR9+BQ9+BP9+BO9 -> 0 | BY9: =+L9 -> 0 | CA9: =+BY9-BZ9 -> 0
A10: 1.3 | B10: Մոր կողմից նորածին երեխայի սպանությունը | C10: 106 | F10: =+D10+E10 -> 0 | L10: =+K10+J10+I10 -> 0 | W10: =+V10+U10+T10+S10+R10+Q10+P10+O10 -> 0 | BF10: =+BE10+BD10+BC10 -> 0 | BS10: =+BR10+BQ10+BP10+BO10 -> 0 | BY10: =+L10 -> 0 | CA10: =+BY10-BZ10 -> 0
A11: 1.4 | B11: Հանցանք կատարած անձին բռնելու համար անհրաժեշտ միջոցների սահմանազանցմամբ սպանությունը | C11: 107 | F11: =+D11+E11 -> 0 | L11: =+K11+J11+I11 -> 0 | W11: =+V11+U11+T11+S11+R11+Q11+P11+O11 -> 0 | BF11: =+BE11+BD11+BC11 -> 0 | BS11: =+BR11+BQ11+BP11+BO11 -> 0 | BY11: =+L11 -> 0 | CA11: =+BY11-BZ11 -> 0
A12: 1.5 | B12: Անհրաժեշտ պաշտպանության սահմանազանցմամբ սպանությունը | C12: 108 | F12: =+D12+E12 -> 0 | L12: =+K12+J12+I12 -> 0 | W12: =+V12+U12+T12+S12+R12+Q12+P12+O12 -> 0 | BF12: =+BE12+BD12+BC12 -> 0 | BS12: =+BR12+BQ12+BP12+BO12 -> 0 | BY12: =+L12 -> 0 | CA12: =+BY12-BZ12 -> 0
A13: 1.6 | B13: Անզգուշությամբ մահ պատճառելը | C13: 109 | F13: =+D13+E13 -> 0 | L13: =+K13+J13+I13 -> 0 | W13: =+V13+U13+T13+S13+R13+Q13+P13+O13 -> 0 | BF13: =+BE13+BD13+BC13 -> 0 | BS13: =+BR13+BQ13+BP13+BO13 -> 0 | BY13: =+L13 -> 0 | CA13: =+BY13-BZ13 -> 0
A14: 1.7 | B14: Ինքնասպանության հասցնելը | C14: 110 | F14: =+D14+E14 -> 0 | L14: =+K14+J14+I14 -> 0 | W14: =+V14+U14+T14+S14+R14+Q14+P14+O14 -> 0 | BF14: =+BE14+BD14+BC14 -> 0 | BS14: =+BR14+BQ14+BP14+BO14 -> 0 | BY14: =+L14 -> 0 | CA14: =+BY14-BZ14 -> 0
A15: 1.8 | B15: Ինքնասպանության հակելը | C15: 111 | F15: =+D15+E15 -> 0 | L15: =+K15+J15+I15 -> 0 | W15: =+V15+U15+T15+S15+R15+Q15+P15+O15 -> 0 | BF15: =+BE15+BD15+BC15 -> 0 | BS15: =+BR15+BQ15+BP15+BO15 -> 0 | BY15: =+L15 -> 0 | CA15: =+BY15-BZ15 -> 0
A16: 1.9 | B16: Դիտավորությամբ առողջությանը ծանր վնաս պատճառելը | C16: 112 | F16: =+D16+E16 -> 0 | I16: 2 | L16: =+K16+J16+I16 -> 2 | R16: 1 | S16: 1 | W16: =+V16+U16+T16+S16+R16+Q16+P16+O16 -> 2 | AJ16: 1 | AP16: 2 | AW16: 2 | AY16: 2 | BE16: 1 | BF16: =+BE16+BD16+BC16 -> 1 | BJ16: 1 | BK16: 1 | BS16: =+BR16+BQ16+BP16+BO16 -> 0 | BU16: 6 | BX16: 1 | BY16: =+L16 -> 2 | BZ16: 14 | CA16: =+BY16-BZ16 -> -12
A17: 1.10 | B17: Դիտավորությամբ առողջությանը միջին ծանրության վնաս պատճառելը | C17: 113 | F17: =+D17+E17 -> 0 | L17: =+K17+J17+I17 -> 0 | W17: =+V17+U17+T17+S17+R17+Q17+P17+O17 -> 0 | BF17: =+BE17+BD17+BC17 -> 0 | BS17: =+BR17+BQ17+BP17+BO17 -> 0 | BY17: =+L17 -> 0 | CA17: =+BY17-BZ17 -> 0
A18: 1.11 | B18: Հոգեկան խիստ հուզմունքի վիճակում առողջությանը ծանր կամ միջին ծանրության վնաս պատճառելը | C18: 114 | F18: =+D18+E18 -> 0 | L18: =+K18+J18+I18 -> 0 | W18: =+V18+U18+T18+S18+R18+Q18+P18+O18 -> 0 | BF18: =+BE18+BD18+BC18 -> 0 | BS18: =+BR18+BQ18+BP18+BO18 -> 0 | BY18: =+L18 -> 0 | CA18: =+BY18-BZ18 -> 0
A19: 1.12 | B19: Հանցանք կատարած անձին բռնելու համար անհրաժեշտ միջոցների սահմանզանցմամբ առողջությանը ծանր կամ միջին ծանրության վնաս պատճառելը | C19: 115 | F19: =+D19+E19 -> 0 | L19: =+K19+J19+I19 -> 0 | W19: =+V19+U19+T19+S19+R19+Q19+P19+O19 -> 0 | BF19: =+BE19+BD19+BC19 -> 0 | BS19: =+BR19+BQ19+BP19+BO19 -> 0 | BY19: =+L19 -> 0 | CA19: =+BY19-BZ19 -> 0
A20: 1.13 | B20: Առողջությանը ծանր կամ միջին ծանրության վնաս պատճառելը անհրաժեշտ պաշտպանության սահմանանազանցմամբ | C20: 116 | F20: =+D20+E20 -> 0 | L20: =+K20+J20+I20 -> 0 | W20: =+V20+U20+T20+S20+R20+Q20+P20+O20 -> 0 | BF20: =+BE20+BD20+BC20 -> 0 | BS20: =+BR20+BQ20+BP20+BO20 -> 0 | BY20: =+L20 -> 0 | CA20: =+BY20-BZ20 -> 0
A21: 1.14 | B21: Դիտավորությամբ առողջությանը թեթև վնաս պատճառելը | C21: 117 | F21: =+D21+E21 -> 0 | L21: =+K21+J21+I21 -> 0 | W21: =+V21+U21+T21+S21+R21+Q21+P21+O21 -> 0 | BF21: =+BE21+BD21+BC21 -> 0 | BS21: =+BR21+BQ21+BP21+BO21 -> 0 | BY21: =+L21 -> 0 | CA21: =+BY21-BZ21 -> 0
A22: 1.15 | B22: Ծեծը | C22: 118 | E22: 6 | F22: =+D22+E22 -> 6 | L22: =+K22+J22+I22 -> 0 | W22: =+V22+U22+T22+S22+R22+Q22+P22+O22 -> 0 | BF22: =+BE22+BD22+BC22 -> 0 | BS22: =+BR22+BQ22+BP22+BO22 -> 0 | BU22: 6 | BY22: =+L22 -> 0 | BZ22: 3 | CA22: =+BY22-BZ22 -> -3
A23: 1.16 | B23: Ֆիզիկական ուժեղ ցավ կամ հոգեկան ուժեղ տառապանք պատճառելը | C23: 119 | F23: =+D23+E23 -> 0 | L23: =+K23+J23+I23 -> 0 | W23: =+V23+U23+T23+S23+R23+Q23+P23+O23 -> 0 | BF23: =+BE23+BD23+BC23 -> 0 | BS23: =+BR23+BQ23+BP23+BO23 -> 0 | BY23: =+L23 -> 0 | CA23: =+BY23-BZ23 -> 0
A24: 1.17 | B24: Անզգուշությամբ առողջությանը ծանր վնաս պատճառելը | C24: 120 | F24: =+D24+E24 -> 0 | L24: =+K24+J24+I24 -> 0 | W24: =+V24+U24+T24+S24+R24+Q24+P24+O24 -> 0 | BF24: =+BE24+BD24+BC24 -> 0 | BS24: =+BR24+BQ24+BP24+BO24 -> 0 | BY24: =+L24 -> 0 | CA24: =+BY24-BZ24 -> 0
A25: 1.18 | B25: Անզգուշությամբ առողջությանը միջին ծանրության վնաս պատճառելը | C25: 121 | F25: =+D25+E25 -> 0 | L25: =+K25+J25+I25 -> 0 | W25: =+V25+U25+T25+S25+R25+Q25+P25+O25 -> 0 | BF25: =+BE25+BD25+BC25 -> 0 | BS25: =+BR25+BQ25+BP25+BO25 -> 0 | BY25: =+L25 -> 0 | CA25: =+BY25-BZ25 -> 0
A26: 1.19 | B26: Ապօրինի աբորտ կատարելը | C26: 122 | F26: =+D26+E26 -> 0 | L26: =+K26+J26+I26 -> 0 | W26: =+V26+U26+T26+S26+R26+Q26+P26+O26 -> 0 | BF26: =+BE26+BD26+BC26 -> 0 | BS26: =+BR26+BQ26+BP26+BO26 -> 0 | BY26: =+L26 -> 0 | CA26: =+BY26-BZ26 -> 0
A27: 1.20 | B27: Մարդու իմունային անբավարարության վիրուսի հարուցիչով վարակելը | C27: 123 | F27: =+D27+E27 -> 0 | L27: =+K27+J27+I27 -> 0 | W27: =+V27+U27+T27+S27+R27+Q27+P27+O27 -> 0 | BF27: =+BE27+BD27+BC27 -> 0 | BS27: =+BR27+BQ27+BP27+BO27 -> 0 | BY27: =+L27 -> 0 | CA27: =+BY27-BZ27 -> 0
A28: 1.21 | B28: Վեներական հիվանդությամբ կամ այլ սեռավարակներով վարակելը | C28: 124 | F28: =+D28+E28 -> 0 | L28: =+K28+J28+I28 -> 0 | W28: =+V28+U28+T28+S28+R28+Q28+P28+O28 -> 0 | BF28: =+BE28+BD28+BC28 -> 0 | BS28: =+BR28+BQ28+BP28+BO28 -> 0 | BY28: =+L28 -> 0 | CA28: =+BY28-BZ28 -> 0
A29: 1.22 | B29: Փոխպատվաստման վիրահատություն կատարելու կանոնները խախտելը | C29: 125 | F29: =+D29+E29 -> 0 | L29: =+K29+J29+I29 -> 0 | W29: =+V29+U29+T29+S29+R29+Q29+P29+O29 -> 0 | BF29: =+BE29+BD29+BC29 -> 0 | BS29: =+BR29+BQ29+BP29+BO29 -> 0 | BY29: =+L29 -> 0 | CA29: =+BY29-BZ29 -> 0
A30: 1.24 | B30: Անձին առանց իր հանձնարարության բժշկական կամ գիտական փորձերի ենթարկելը | C30: 127 | F30: =+D30+E30 -> 0 | L30: =+K30+J30+I30 -> 0 | W30: =+V30+U30+T30+S30+R30+Q30+P30+O30 -> 0 | BF30: =+BE30+BD30+BC30 -> 0 | BS30: =+BR30+BQ30+BP30+BO30 -> 0 | BY30: =+L30 -> 0 | CA30: =+BY30-BZ30 -> 0
A31: 1.25 | B31: Վտանգի մեջ թողնելը | C31: 128 | F31: =+D31+E31 -> 0 | L31: =+K31+J31+I31 -> 0 | W31: =+V31+U31+T31+S31+R31+Q31+P31+O31 -> 0 | BF31: =+BE31+BD31+BC31 -> 0 | BS31: =+BR31+BQ31+BP31+BO31 -> 0 | BY31: =+L31 -> 0 | CA31: =+BY31-BZ31 -> 0
A32: 1.26 | B32: Հիվանդին օգնություն ցույց չտալը | C32: 129 | F32: =+D32+E32 -> 0 | L32: =+K32+J32+I32 -> 0 | W32: =+V32+U32+T32+S32+R32+Q32+P32+O32 -> 0 | BF32: =+BE32+BD32+BC32 -> 0 | BS32: =+BR32+BQ32+BP32+BO32 -> 0 | BY32: =+L32 -> 0 | CA32: =+BY32-BZ32 -> 0
A33: 1.27 | B33: Բժշկական օգնություն և սպասարկում իրականացնողների կողմից մասնագիտական պարտականությունները չկատարելը կամ ոչ պատշաճ կատարելը | C33: 130 | F33: =+D33+E33 -> 0 | L33: =+K33+J33+I33 -> 0 | W33: =+V33+U33+T33+S33+R33+Q33+P33+O33 -> 0 | BF33: =+BE33+BD33+BC33 -> 0 | BS33: =+BR33+BQ33+BP33+BO33 -> 0 | BY33: =+L33 -> 0 | CA33: =+BY33-BZ33 -> 0
A34: 1.28 | B34: Այլ հանցագործություններ | F34: =+D34+E34 -> 0 | L34: =+K34+J34+I34 -> 0 | W34: =+V34+U34+T34+S34+R34+Q34+P34+O34 -> 0 | BF34: =+BE34+BD34+BC34 -> 0 | BS34: =+BR34+BQ34+BP34+BO34 -> 0 | BY34: =+L34 -> 0 | CA34: =+BY34-BZ34 -> 0
A35: 2. | B35: Ընդամենը անձի ազատության, պատվի և արժանապատվության դեմ ուղղված հանցագործությունները | D35: =SUM(D36:D43) -> 0 | E35: =SUM(E36:E43) -> 0 | F35: =SUM(F36:F43) -> 0 | G35: =SUM(G36:G43) -> 0 | H35: =SUM(H36:H43) -> 0 | I35: =SUM(I36:I43) -> 0 | J35: =SUM(J36:J43) -> 0 | K35: =SUM(K36:K43) -> 0 | ... CA35: =SUM(CA36:CA43) -> -1
A36: 2.1 | B36: Մարդուն առևանգելը | C36: 131 | F36: =+D36+E36 -> 0 | L36: =+K36+J36+I36 -> 0 | W36: =+V36+U36+T36+S36+R36+Q36+P36+O36 -> 0 | BF36: =+BE36+BD36+BC36 -> 0 | BS36: =+BR36+BQ36+BP36+BO36 -> 0 | BY36: =+L36 -> 0 | BZ36: 1 | CA36: =+BY36-BZ36 -> -1
A37: 2.2 | B37: Մարդու թրաֆիքինգը կամ շահագործումը | C37: 132 | F37: =+D37+E37 -> 0 | L37: =+K37+J37+I37 -> 0 | W37: =+V37+U37+T37+S37+R37+Q37+P37+O37 -> 0 | BF37: =+BE37+BD37+BC37 -> 0 | BS37: =+BR37+BQ37+BP37+BO37 -> 0 | BY37: =+L37 -> 0 | CA37: =+BY37-BZ37 -> 0
A38: 2.2.2 | B38: Երեխայի կամ հոգեկան խանգարման հետևանքով իր արարքի բնույթն ու նշանակությունը գիտակցելու կամ դա ղեկավարելու հնարավորությունից զրկված անձի թրաֆիքինգը կամ շահագործումը | C38: 132.2 | F38: =+D38+E38 -> 0 | L38: =+K38+J38+I38 -> 0 | W38: =+V38+U38+T38+S38+R38+Q38+P38+O38 -> 0 | BF38: =+BE38+BD38+BC38 -> 0 | BS38: =+BR38+BQ38+BP38+BO38 -> 0 | BY38: =+L38 -> 0 | CA38: =+BY38-BZ38 -> 0
A39: 2.2.3 | B39: Շահագործման վիճակում գտնվող անձի ծառայությունից օգտվելը | C39: 132.3 | F39: =+D39+E39 -> 0 | L39: =+K39+J39+I39 -> 0 | W39: =+V39+U39+T39+S39+R39+Q39+P39+O39 -> 0 | BF39: =+BE39+BD39+BC39 -> 0 | BS39: =+BR39+BQ39+BP39+BO39 -> 0 | BY39: =+L39 -> 0 | CA39: =+BY39-BZ39 -> 0
A40: 2.3 | B40: Ազատությունից ապօրինի զրկելը | C40: 133 | F40: =+D40+E40 -> 0 | L40: =+K40+J40+I40 -> 0 | W40: =+V40+U40+T40+S40+R40+Q40+P40+O40 -> 0 | BF40: =+BE40+BD40+BC40 -> 0 | BS40: =+BR40+BQ40+BP40+BO40 -> 0 | BY40: =+L40 -> 0 | CA40: =+BY40-BZ40 -> 0
A41: 2.4 | B41: Հոգեբուժական հիվանդանոցում ապօրինի տեղավորելը կամ պահելը | C41: 134 | F41: =+D41+E41 -> 0 | L41: =+K41+J41+I41 -> 0 | W41: =+V41+U41+T41+S41+R41+Q41+P41+O41 -> 0 | BF41: =+BE41+BD41+BC41 -> 0 | BS41: =+BR41+BQ41+BP41+BO41 -> 0 | BY41: =+L41 -> 0 | CA41: =+BY41-BZ41 -> 0
A42: 2.7 | B42: Սպանության, առողջությանը ծանր վնաս պատճառելու կամ գույք ոչնչացնելու սպառնալիքը | C42: 137 | F42: =+D42+E42 -> 0 | L42: =+K42+J42+I42 -> 0 | W42: =+V42+U42+T42+S42+R42+Q42+P42+O42 -> 0 | BF42: =+BE42+BD42+BC42 -> 0 | BS42: =+BR42+BQ42+BP42+BO42 -> 0 | BY42: =+L42 -> 0 | CA42: =+BY42-BZ42 -> 0
A43: 2.8 | B43: Այլ հանցագործություններ | F43: =+D43+E43 -> 0 | L43: =+K43+J43+I43 -> 0 | W43: =+V43+U43+T43+S43+R43+Q43+P43+O43 -> 0 | BF43: =+BE43+BD43+BC43 -> 0 | BS43: =+BR43+BQ43+BP43+BO43 -> 0 | BY43: =+L43 -> 0 | CA43: =+BY43-BZ43 -> 0
A44: 3. | B44: Ընդամենը սեռական անձեռնմխելիության և սեռական ազատության դեմ ուղղված հանցագործությունները | D44: =SUM(D45:D50) -> 0 | E44: =SUM(E45:E50) -> 0 | F44: =SUM(F45:F50) -> 0 | G44: =SUM(G45:G50) -> 0 | H44: =SUM(H45:H50) -> 0 | I44: =SUM(I45:I50) -> 0 | J44: =SUM(J45:J50) -> 0 | K44: =SUM(K45:K50) -> 0 | ... CA44: =SUM(CA45:CA50) -> -2
A45: 3.1 | B45: Բռնաբարությունը | C45: 138 | F45: =+D45+E45 -> 0 | L45: =+K45+J45+I45 -> 0 | W45: =+V45+U45+T45+S45+R45+Q45+P45+O45 -> 0 | BF45: =+BE45+BD45+BC45 -> 0 | BS45: =+BR45+BQ45+BP45+BO45 -> 0 | BY45: =+L45 -> 0 | CA45: =+BY45-BZ45 -> 0
A46: 3.2 | B46: Սեքսուալ բնույթի բռնի գործողությունները | C46: 139 | F46: =+D46+E46 -> 0 | L46: =+K46+J46+I46 -> 0 | W46: =+V46+U46+T46+S46+R46+Q46+P46+O46 -> 0 | BF46: =+BE46+BD46+BC46 -> 0 | BS46: =+BR46+BQ46+BP46+BO46 -> 0 | BY46: =+L46 -> 0 | CA46: =+BY46-BZ46 -> 0
A47: 3.3 | B47: Սեռական հարաբերության կամ սեքսուալ բնույթի գործողություններին հարկադրելը | C47: 140 | F47: =+D47+E47 -> 0 | L47: =+K47+J47+I47 -> 0 | W47: =+V47+U47+T47+S47+R47+Q47+P47+O47 -> 0 | BF47: =+BE47+BD47+BC47 -> 0 | BS47: =+BR47+BQ47+BP47+BO47 -> 0 | BY47: =+L47 -> 0 | CA47: =+BY47-BZ47 -> 0
A48: 3.4 | B48: Սեռական հարաբերությունը տասնվեց տարին չլրացած անձի հետ կամ սեքսուալ բնույթի գործողություններ կատարելը տասնվեց տարին չլրացած անձի նկատմամբ | C48: 141 | F48: =+D48+E48 -> 0 | L48: =+K48+J48+I48 -> 0 | W48: =+V48+U48+T48+S48+R48+Q48+P48+O48 -> 0 | BF48: =+BE48+BD48+BC48 -> 0 | BS48: =+BR48+BQ48+BP48+BO48 -> 0 | BU48: 1 | BY48: =+L48 -> 0 | BZ48: 2 | CA48: =+BY48-BZ48 -> -2
A49: 3.5 | B49: Անառակաբարո գործողությունները | C49: 142 | F49: =+D49+E49 -> 0 | L49: =+K49+J49+I49 -> 0 | W49: =+V49+U49+T49+S49+R49+Q49+P49+O49 -> 0 | BF49: =+BE49+BD49+BC49 -> 0 | BS49: =+BR49+BQ49+BP49+BO49 -> 0 | BY49: =+L49 -> 0 | CA49: =+BY49-BZ49 -> 0
A50: 3.6 | B50: Այլ հանցագործություններ | F50: =+D50+E50 -> 0 | L50: =+K50+J50+I50 -> 0 | W50: =+V50+U50+T50+S50+R50+Q50+P50+O50 -> 0 | BF50: =+BE50+BD50+BC50 -> 0 | BS50: =+BR50+BQ50+BP50+BO50 -> 0 | BY50: =+L50 -> 0 | CA50: =+BY50-BZ50 -> 0
A51: 4. | B51: Ընդամենը մարդու և քաղաքացու սահմանադրական իրավունքների և ազատությունների դեմ ուղղված հանցագործությունները | D51: =SUM(D52:D80) -> 0 | E51: =SUM(E52:E80) -> 0 | F51: =SUM(F52:F80) -> 0 | G51: =SUM(G52:G80) -> 0 | H51: =SUM(H52:H80) -> 0 | I51: =SUM(I52:I80) -> 1 | J51: =SUM(J52:J80) -> 0 | K51: =SUM(K52:K80) -> 0 | ... CA51: =SUM(CA52:CA80) -> -1
A52: 4.1 | B52: Մարդու և քաղաքացու իրավահավասարությունը խախտելը | C52: 143 | F52: =+D52+E52 -> 0 | L52: =+K52+J52+I52 -> 0 | W52: =+V52+U52+T52+S52+R52+Q52+P52+O52 -> 0 | BF52: =+BE52+BD52+BC52 -> 0 | BS52: =+BR52+BQ52+BP52+BO52 -> 0 | BY52: =+L52 -> 0 | CA52: =+BY52-BZ52 -> 0
A53: 4.2 | B53: Անձնական կամ ընտանեկան կյանքի մասին տեղեկություններ ապօրինի հավաքելը, պահելը, օգտագործելը կամ տարածելը | C53: 144 | F53: =+D53+E53 -> 0 | L53: =+K53+J53+I53 -> 0 | W53: =+V53+U53+T53+S53+R53+Q53+P53+O53 -> 0 | BF53: =+BE53+BD53+BC53 -> 0 | BS53: =+BR53+BQ53+BP53+BO53 -> 0 | BY53: =+L53 -> 0 | CA53: =+BY53-BZ53 -> 0
A54: 4.3 | B54: Բժշկական գաղտնիքը հրապարակելը | C54: 145 | F54: =+D54+E54 -> 0 | L54: =+K54+J54+I54 -> 0 | W54: =+V54+U54+T54+S54+R54+Q54+P54+O54 -> 0 | BF54: =+BE54+BD54+BC54 -> 0 | BS54: =+BR54+BQ54+BP54+BO54 -> 0 | BY54: =+L54 -> 0 | CA54: =+BY54-BZ54 -> 0
A55: 4.4 | B55: Նամակագրության, հեռախոսային խոսակցությունների, փոստային, հեռագրական կամ այլ հաղորդումների գաղտնիությունը խախտելը | C55: 146 | F55: =+D55+E55 -> 0 | L55: =+K55+J55+I55 -> 0 | W55: =+V55+U55+T55+S55+R55+Q55+P55+O55 -> 0 | BF55: =+BE55+BD55+BC55 -> 0 | BS55: =+BR55+BQ55+BP55+BO55 -> 0 | BY55: =+L55 -> 0 | CA55: =+BY55-BZ55 -> 0
A56: 4.5 | B56: Բնակարանի անձեռնմխելիությունը խախտելը | C56: 147 | F56: =+D56+E56 -> 0 | L56: =+K56+J56+I56 -> 0 | W56: =+V56+U56+T56+S56+R56+Q56+P56+O56 -> 0 | BF56: =+BE56+BD56+BC56 -> 0 | BS56: =+BR56+BQ56+BP56+BO56 -> 0 | BY56: =+L56 -> 0 | BZ56: 2 | CA56: =+BY56-BZ56 -> -2
A57: 4.6 | B57: Անձին տեղեկություն ներկայացնելուց հրաժարվելը | C57: 148 | F57: =+D57+E57 -> 0 | L57: =+K57+J57+I57 -> 0 | W57: =+V57+U57+T57+S57+R57+Q57+P57+O57 -> 0 | BF57: =+BE57+BD57+BC57 -> 0 | BS57: =+BR57+BQ57+BP57+BO57 -> 0 | BY57: =+L57 -> 0 | CA57: =+BY57-BZ57 -> 0
A58: 4.7 | B58: Ընտրական իրավունքի իրականացմանը, ընտրական հանձնաժողովների աշխատանքներին կամ ընտրությանը մասնակցող անձանց լիազորությունների իրականացմանը խոչընդոտելը | C58: 149 | F58: =+D58+E58 -> 0 | L58: =+K58+J58+I58 -> 0 | W58: =+V58+U58+T58+S58+R58+Q58+P58+O58 -> 0 | BF58: =+BE58+BD58+BC58 -> 0 | BS58: =+BR58+BQ58+BP58+BO58 -> 0 | BY58: =+L58 -> 0 | CA58: =+BY58-BZ58 -> 0
A59: 4.8 | B59: Ընտրությունների կամ քվեարկության արդյունքները կեղծելը | C59: 150 | F59: =+D59+E59 -> 0 | L59: =+K59+J59+I59 -> 0 | W59: =+V59+U59+T59+S59+R59+Q59+P59+O59 -> 0 | BF59: =+BE59+BD59+BC59 -> 0 | BS59: =+BR59+BQ59+BP59+BO59 -> 0 | BY59: =+L59 -> 0 | CA59: =+BY59-BZ59 -> 0
A60: 4.10 | B60: Ընտրողների ցուցակները կազմելու, դրանք քաղաքացիներին և կուսակցություններին տրամադրելու կամ հրապարակելու կարգը խախտելը | C60: 152 | F60: =+D60+E60 -> 0 | L60: =+K60+J60+I60 -> 0 | W60: =+V60+U60+T60+S60+R60+Q60+P60+O60 -> 0 | BF60: =+BE60+BD60+BC60 -> 0 | BS60: =+BR60+BQ60+BP60+BO60 -> 0 | BY60: =+L60 -> 0 | CA60: =+BY60-BZ60 -> 0
A61: 4.11 | B61: Մեկից ավելի անգամ կամ այլ անձի փոխարեն քվեարկելը | C61: 153 | F61: =+D61+E61 -> 0 | L61: =+K61+J61+I61 -> 0 | W61: =+V61+U61+T61+S61+R61+Q61+P61+O61 -> 0 | BF61: =+BE61+BD61+BC61 -> 0 | BS61: =+BR61+BQ61+BP61+BO61 -> 0 | BY61: =+L61 -> 0 | CA61: =+BY61-BZ61 -> 0
A62: 4.12 | B62: Քվեարկության գաղտնիությունը խախտելը | C62: 154 | F62: =+D62+E62 -> 0 | L62: =+K62+J62+I62 -> 0 | W62: =+V62+U62+T62+S62+R62+Q62+P62+O62 -> 0 | BF62: =+BE62+BD62+BC62 -> 0 | BS62: =+BR62+BQ62+BP62+BO62 -> 0 | BY62: =+L62 -> 0 | CA62: =+BY62-BZ62 -> 0
A63: 4.13 | B63: Կեղծ ընտրական քվեաթերթիկներ կամ քվեարկության ծրարներ, դրոշմանիշեր, կտրոններ պատրաստելը կամ ակնհայտ կեղծ ընտրական քվեաթերթիկներ կամ քվեարկության ծրարներ, դրոշմանիշեր, կտրոններ հանձնելը կամ իրացնելը | C63: 154.1 | F63: =+D63+E63 -> 0 | L63: =+K63+J63+I63 -> 0 | W63: =+V63+U63+T63+S63+R63+Q63+P63+O63 -> 0 | BF63: =+BE63+BD63+BC63 -> 0 | BS63: =+BR63+BQ63+BP63+BO63 -> 0 | BY63: =+L63 -> 0 | CA63: =+BY63-BZ63 -> 0
A64: 4.14 | B64: Ընտրողի կողմից թեկնածուներից, կուսակցություններից (կուսակցությունների դաշինքներից), հանրաքվեի քարոզչական նախաձեռնություններից կաշառք ստանալը կամ թեկնածուների, կուսակցությունների (կուսակցությունների դաշինքների), հանրաքվեի քարոզչական նախաձեռնությունների կողմից ընտրողներին կաշառք տալը կամ ընտրողի ազատ կամքի իրականացմանը խոչընդոտելը | C64: 154.2 | F64: =+D64+E64 -> 0 | L64: =+K64+J64+I64 -> 0 | W64: =+V64+U64+T64+S64+R64+Q64+P64+O64 -> 0 | BF64: =+BE64+BD64+BC64 -> 0 | BS64: =+BR64+BQ64+BP64+BO64 -> 0 | BY64: =+L64 -> 0 | CA64: =+BY64-BZ64 -> 0
A65: 4.16 | B65: Զենքով՝ տեղամասային կենտրոն մուտք գործելը | C65: 154.4 | F65: =+D65+E65 -> 0 | L65: =+K65+J65+I65 -> 0 | W65: =+V65+U65+T65+S65+R65+Q65+P65+O65 -> 0 | BF65: =+BE65+BD65+BC65 -> 0 | BS65: =+BR65+BQ65+BP65+BO65 -> 0 | BY65: =+L65 -> 0 | CA65: =+BY65-BZ65 -> 0
A66: 4.17 | B66: Վստահված անձին,ընտրական հանձնաժողովի անդամին,դիտորդին կամ զանգվածային լրատվության միջոցի ներկայացուցչին ընտրական փաստաթղթերին ծանոթանալուն խոչընդոտելը, ընտրական հանձնաժողովի արձանագրությունների պատճեններ չտալը | C66: 154.5 | F66: =+D66+E66 -> 0 | L66: =+K66+J66+I66 -> 0 | W66: =+V66+U66+T66+S66+R66+Q66+P66+O66 -> 0 | BF66: =+BE66+BD66+BC66 -> 0 | BS66: =+BR66+BQ66+BP66+BO66 -> 0 | BY66: =+L66 -> 0 | CA66: =+BY66-BZ66 -> 0
A67: 4.17.1 | B67: Ընտրական հանձնաժողովի նախագահի լիազորությունները չկատարելը կամ ոչ պատշաճ կատարելը | C67: 154.6 | F67: =+D67+E67 -> 0 | L67: =+K67+J67+I67 -> 0 | W67: =+V67+U67+T67+S67+R67+Q67+P67+O67 -> 0 | BF67: =+BE67+BD67+BC67 -> 0 | BS67: =+BR67+BQ67+BP67+BO67 -> 0 | BY67: =+L67 -> 0 | CA67: =+BY67-BZ67 -> 0
A68: 4.17.2 | B68: Քվեատուփը, ընտրողների ստորագրած ցուցակը, տեղամասային ընտրական հանձնաժողովի գրանցամատյանը, հանձնաժողովի կնիքը, տեղամասային ընտրական հանձնաժողովի անդամի անհատական կնիքը, ինքնասոսնձվող դրոշմանիշը, ընտրողի վերաբերյալ տվյալներ պարունակող քվեարկության կտրոնը կամ համարակալված կտրոնը, ընտրողների էլեկտրոնային գրանցման տեխնիկական սարքավորումը, կառավարության կողմից ընտրված մասնագիտացված կազմակերպության կողմից տեղադրված տեսախցիկը, ընտրական փաստաթղթերի մեկանգամյա օգտագործման պարկը կամ ընտրական փաստաթղթերի փաթեթը հափշտակելը | C68: 154.7 | F68: =+D68+E68 -> 0 | L68: =+K68+J68+I68 -> 0 | W68: =+V68+U68+T68+S68+R68+Q68+P68+O68 -> 0 | BF68: =+BE68+BD68+BC68 -> 0 | BS68: =+BR68+BQ68+BP68+BO68 -> 0 | BY68: =+L68 -> 0 | CA68: =+BY68-BZ68 -> 0
... A71: 4.19 | B71: Հղի կնոջը կամ մինչև երեք տարեկան երեխա ունեցող անձին աշխատանքի ընդունելոււց հրաժարվելը կամ աշխատանքից անհիմն ազատելը | C71: 156 | F71: =+D71+E71 -> 0 | L71: =+K71+J71+I71 -> 0 | W71: =+V71+U71+T71+S71+R71+Q71+P71+O71 -> 0 | BF71: =+BE71+BD71+BC71 -> 0 | BS71: =+BR71+BQ71+BP71+BO71 -> 0 | BY71: =+L71 -> 0 | CA71: =+BY71-BZ71 -> 0
A72: 4.20 | B72: Աշխատանքի պաշտպանության կանոնները խախտելը | C72: 157 | F72: =+D72+E72 -> 0 | I72: 1 | L72: =+K72+J72+I72 -> 1 | W72: =+V72+U72+T72+S72+R72+Q72+P72+O72 -> 0 | Y72: 1 | AQ72: 1 | AT72: 1 | AY72: 1 | BF72: =+BE72+BD72+BC72 -> 0 | BS72: =+BR72+BQ72+BP72+BO72 -> 0 | BU72: 1 | BY72: =+L72 -> 1 | CA72: =+BY72-BZ72 -> 1
A73: 4.21 | B73: Հեղինակային և հարակից իրավունքները խախտելը | C73: 158 | F73: =+D73+E73 -> 0 | L73: =+K73+J73+I73 -> 0 | W73: =+V73+U73+T73+S73+R73+Q73+P73+O73 -> 0 | BF73: =+BE73+BD73+BC73 -> 0 | BS73: =+BR73+BQ73+BP73+BO73 -> 0 | BY73: =+L73 -> 0 | CA73: =+BY73-BZ73 -> 0
A74: 4.22 | B74: Արտոնագրային իրավունքը խախտելը | C74: 159 | F74: =+D74+E74 -> 0 | L74: =+K74+J74+I74 -> 0 | W74: =+V74+U74+T74+S74+R74+Q74+P74+O74 -> 0 | BF74: =+BE74+BD74+BC74 -> 0 | BS74: =+BR74+BQ74+BP74+BO74 -> 0 | BY74: =+L74 -> 0 | CA74: =+BY74-BZ74 -> 0
A75: 4.23 | B75: Խղճի կամ դավանանքի ազատության իրավունքի իրականացմանը խոչընդոտելը | C75: 160 | F75: =+D75+E75 -> 0 | L75: =+K75+J75+I75 -> 0 | W75: =+V75+U75+T75+S75+R75+Q75+P75+O75 -> 0 | BF75: =+BE75+BD75+BC75 -> 0 | BS75: =+BR75+BQ75+BP75+BO75 -> 0 | BY75: =+L75 -> 0 | CA75: =+BY75-BZ75 -> 0
A76: 4.24 | B76: Միավորումներ (հասարակական կամ արհեստակցական միություններ) կազմելու կամ կուսակցություններ ստեղծելու իրավունքի իրականացմանը կամ դրանց գործողությանը խոչընդոտելը | C76: 161 | F76: =+D76+E76 -> 0 | L76: =+K76+J76+I76 -> 0 | W76: =+V76+U76+T76+S76+R76+Q76+P76+O76 -> 0 | BF76: =+BE76+BD76+BC76 -> 0 | BS76: =+BR76+BQ76+BP76+BO76 -> 0 | BY76: =+L76 -> 0 | CA76: =+BY76-BZ76 -> 0
A77: 4.25 | B77: Անձանց իրավունքների կամ անձի դեմ ոտնձգող միավորումներ կազմելը կամ ղեկավարելը | C77: 162 | F77: =+D77+E77 -> 0 | L77: =+K77+J77+I77 -> 0 | W77: =+V77+U77+T77+S77+R77+Q77+P77+O77 -> 0 | BF77: =+BE77+BD77+BC77 -> 0 | BS77: =+BR77+BQ77+BP77+BO77 -> 0 | BY77: =+L77 -> 0 | CA77: =+BY77-BZ77 -> 0
A78: 4.26 | B78: Հավաքներ անցկացնելուն կամ դրանց մասնակցելուն խոչընդոտելը | C78: 163 | F78: =+D78+E78 -> 0 | L78: =+K78+J78+I78 -> 0 | W78: =+V78+U78+T78+S78+R78+Q78+P78+O78 -> 0 | BF78: =+BE78+BD78+BC78 -> 0 | BS78: =+BR78+BQ78+BP78+BO78 -> 0 | BY78: =+L78 -> 0 | CA78: =+BY78-BZ78 -> 0
A79: 4.27 | B79: Լրագրողի մասնագիտական օրինական գործողությանը խոչընդոտելը | C79: 164 | F79: =+D79+E79 -> 0 | L79: =+K79+J79+I79 -> 0 | W79: =+V79+U79+T79+S79+R79+Q79+P79+O79 -> 0 | BF79: =+BE79+BD79+BC79 -> 0 | BS79: =+BR79+BQ79+BP79+BO79 -> 0 | BY79: =+L79 -> 0 | CA79: =+BY79-BZ79 -> 0
A80: 4.28 | B80: Այլ հանցագործություններ | F80: =+D80+E80 -> 0 | L80: =+K80+J80+I80 -> 0 | W80: =+V80+U80+T80+S80+R80+Q80+P80+O80 -> 0 | BF80: =+BE80+BD80+BC80 -> 0 | BS80: =+BR80+BQ80+BP80+BO80 -> 0 | BY80: =+L80 -> 0 | CA80: =+BY80-BZ80 -> 0
A81: 5. | B81: Ընդամենը ընտանիքի և երեխայի շահերի դեմ ուղղված հանցագործությունները | D81: =SUM(D82:D95) -> 0 | E81: =SUM(E82:E95) -> 0 | F81: =SUM(F82:F95) -> 0 | G81: =SUM(G82:G95) -> 0 | H81: =SUM(H82:H95) -> 0 | I81: =SUM(I82:I95) -> 3 | J81: =SUM(J82:J95) -> 0 | K81: =SUM(K82:K95) -> 0 | ... CA81: =SUM(CA82:CA95) -> 3
A82: 5.1 | B82: Անչափահասին հանցանքի կատարմանը ներգրավելը | C82: 165 | F82: =+D82+E82 -> 0 | I82: 3 | L82: =+K82+J82+I82 -> 3 | N82: 1 | O82: 1 | W82: =+V82+U82+T82+S82+R82+Q82+P82+O82 -> 1 | Y82: 2 | AD82: 1 | AN82: 1 | AO82: 2 | AU82: 1 | AW82: 2 | AY82: 2 | BA82: 1 | BF82: =+BE82+BD82+BC82 -> 0 | BS82: =+BR82+BQ82+BP82+BO82 -> 0 | BU82: 3 | BV82: 1 | BY82: =+L82 -> 3 | CA82: =+BY82-BZ82 -> 3
A83: 5.2 | B83: Երեխային պոռնկության կամ պոռնկագրական բնույթի նյութեր կամ առարկաներ պատրաստելու հետ կապված գործողություններ կատարելուն ներգրավելը | C83: 166 | F83: =+D83+E83 -> 0 | L83: =+K83+J83+I83 -> 0 | W83: =+V83+U83+T83+S83+R83+Q83+P83+O83 -> 0 | BF83: =+BE83+BD83+BC83 -> 0 | BS83: =+BR83+BQ83+BP83+BO83 -> 0 | BY83: =+L83 -> 0 | CA83: =+BY83-BZ83 -> 0
A84: 5.2.1 | B84: Երեխային ոգելից խմիչքների օգտագործմանը, ուժեղ ներգործող կամ այլ թմրեցնող նյութերի ոչ բժշկական օգտագործմանը, թափառաշրջիկությանը ներգրավելը կամ մուրացկանության հետ կապված գործողություններ կատարելուն ներգրավելը | C84: 166.1 | F84: =+D84+E84 -> 0 | L84: =+K84+J84+I84 -> 0 | W84: =+V84+U84+T84+S84+R84+Q84+P84+O84 -> 0 | BF84: =+BE84+BD84+BC84 -> 0 | BS84: =+BR84+BQ84+BP84+BO84 -> 0 | BY84: =+L84 -> 0 | CA84: =+BY84-BZ84 -> 0
A85: 5.3 | B85: Ծնողներից երեխային ապօրինի բաժանելը կամ երեխային փոխելը | C85: 167 | F85: =+D85+E85 -> 0 | L85: =+K85+J85+I85 -> 0 | W85: =+V85+U85+T85+S85+R85+Q85+P85+O85 -> 0 | BF85: =+BE85+BD85+BC85 -> 0 | BS85: =+BR85+BQ85+BP85+BO85 -> 0 | BY85: =+L85 -> 0 | CA85: =+BY85-BZ85 -> 0
A86: 5.4 | B86: Խնամքը ստանձնելու նպատակով երեխայի առքը կամ ստանձնողի խնամքին հանձնելու նպատակով երեխայի վաճառքը | C86: 168 | F86: =+D86+E86 -> 0 | L86: =+K86+J86+I86 -> 0 | W86: =+V86+U86+T86+S86+R86+Q86+P86+O86 -> 0 | BF86: =+BE86+BD86+BC86 -> 0 | BS86: =+BR86+BQ86+BP86+BO86 -> 0 | BY86: =+L86 -> 0 | CA86: =+BY86-BZ86 -> 0
A87: 5.5 | B87: Որդեգրման գաղտնիքը հրապարակելը կամ որդեգրման համաձայնություն տալուն հակելը կամ հարկադրելը | C87: 169 | F87: =+D87+E87 -> 0 | L87: =+K87+J87+I87 -> 0 | W87: =+V87+U87+T87+S87+R87+Q87+P87+O87 -> 0 | BF87: =+BE87+BD87+BC87 -> 0 | BS87: =+BR87+BQ87+BP87+BO87 -> 0 | BY87: =+L87 -> 0 | CA87: =+BY87-BZ87 -> 0
A88: 5.6 | B88: Քաղաքացիական կացության ակտերի գրանցման մարմիններին սուտ տեղեկություններ հաղորդելը | C88: 169.1 | F88: =+D88+E88 -> 0 | L88: =+K88+J88+I88 -> 0 | W88: =+V88+U88+T88+S88+R88+Q88+P88+O88 -> 0 | BF88: =+BE88+BD88+BC88 -> 0 | BS88: =+BR88+BQ88+BP88+BO88 -> 0 | BY88: =+L88 -> 0 | CA88: =+BY88-BZ88 -> 0
A89: 5.7 | B89: Երեխային դաստիարակելու պարտականությունը չկատարելը | C89: 170 | F89: =+D89+E89 -> 0 | L89: =+K89+J89+I89 -> 0 | W89: =+V89+U89+T89+S89+R89+Q89+P89+O89 -> 0 | BF89: =+BE89+BD89+BC89 -> 0 | BS89: =+BR89+BQ89+BP89+BO89 -> 0 | BY89: =+L89 -> 0 | CA89: =+BY89-BZ89 -> 0
A90: 5.8 | B90: Երեխայի կյանքի անվտանգության ապահովման կամ առողջության պահպանման պարտականությունը չկատարելը կամ ոչ պատշաճ կատարելը | C90: 171 | F90: =+D90+E90 -> 0 | L90: =+K90+J90+I90 -> 0 | W90: =+V90+U90+T90+S90+R90+Q90+P90+O90 -> 0 | BF90: =+BE90+BD90+BC90 -> 0 | BS90: =+BR90+BQ90+BP90+BO90 -> 0 | BY90: =+L90 -> 0 | CA90: =+BY90-BZ90 -> 0
A91: 5.8.1 | B91: Վերարտադրողականության օժանդակ տեխնոլոգիաներից օգտվելու կանոնները խախտելը | C91: 171.1 | F91: =+D91+E91 -> 0 | L91: =+K91+J91+I91 -> 0 | W91: =+V91+U91+T91+S91+R91+Q91+P91+O91 -> 0 | BF91: =+BE91+BD91+BC91 -> 0 | BS91: =+BR91+BQ91+BP91+BO91 -> 0 | BY91: =+L91 -> 0 | CA91: =+BY91-BZ91 -> 0
A92: 5.9 | B92: Խնամակալի կամ հոգաբարձուի իրավունքները չարաշահելը | C92: 172 | F92: =+D92+E92 -> 0 | L92: =+K92+J92+I92 -> 0 | W92: =+V92+U92+T92+S92+R92+Q92+P92+O92 -> 0 | BF92: =+BE92+BD92+BC92 -> 0 | BS92: =+BR92+BQ92+BP92+BO92 -> 0 | BY92: =+L92 -> 0 | CA92: =+BY92-BZ92 -> 0
A93: 5.10 | B93: Ծնողի կողմից երեխային պահելուց չարամտորեն խուսափելը | C93: 173 | F93: =+D93+E93 -> 0 | L93: =+K93+J93+I93 -> 0 | W93: =+V93+U93+T93+S93+R93+Q93+P93+O93 -> 0 | BF93: =+BE93+BD93+BC93 -> 0 | BS93: =+BR93+BQ93+BP93+BO93 -> 0 | BY93: =+L93 -> 0 | CA93: =+BY93-BZ93 -> 0
A94: 5.11 | B94: Զավակի կողմից անաշխատունակ ծնողին պահելուց չարամտորեն խուսափելը | C94: 174 | F94: =+D94+E94 -> 0 | L94: =+K94+J94+I94 -> 0 | W94: =+V94+U94+T94+S94+R94+Q94+P94+O94 -> 0 | BF94: =+BE94+BD94+BC94 -> 0 | BS94: =+BR94+BQ94+BP94+BO94 -> 0 | BY94: =+L94 -> 0 | CA94: =+BY94-BZ94 -> 0
A95: 5.12 | B95: Այլ հանցագործություններ | F95: =+D95+E95 -> 0 | L95: =+K95+J95+I95 -> 0 | W95: =+V95+U95+T95+S95+R95+Q95+P95+O95 -> 0 | BF95: =+BE95+BD95+BC95 -> 0 | BS95: =+BR95+BQ95+BP95+BO95 -> 0 | BY95: =+L95 -> 0 | CA95: =+BY95-BZ95 -> 0
A96: 6. | B96: Ընդամենը սեփականության դեմ ուղղված հանցագործությունները | D96: =SUM(D97:D111) -> 0 | E96: =SUM(E97:E111) -> 3 | F96: =SUM(F97:F111) -> 3 | G96: =SUM(G97:G111) -> 4 | H96: =SUM(H97:H111) -> 0 | I96: =SUM(I97:I111) -> 21 | J96: =SUM(J97:J111) -> 1 | K96: =SUM(K97:K111) -> 0 | ... CA96: =SUM(CA97:CA111) -> -51
A97: 6.1 | B97: Ավազակությունը | C97: 175 | F97: =+D97+E97 -> 0 | L97: =+K97+J97+I97 -> 0 | W97: =+V97+U97+T97+S97+R97+Q97+P97+O97 -> 0 | BF97: =+BE97+BD97+BC97 -> 0 | BS97: =+BR97+BQ97+BP97+BO97 -> 0 | BU97: 1 | BY97: =+L97 -> 0 | CA97: =+BY97-BZ97 -> 0
A98: 6.2 | B98: Կողոպուտը | C98: 176 | F98: =+D98+E98 -> 0 | I98: 1 | L98: =+K98+J98+I98 -> 1 | W98: =+V98+U98+T98+S98+R98+Q98+P98+O98 -> 0 | Y98: 1 | AO98: 1 | AS98: 1 | AY98: 1 | BF98: =+BE98+BD98+BC98 -> 0 | BS98: =+BR98+BQ98+BP98+BO98 -> 0 | BU98: 1 | BY98: =+L98 -> 1 | BZ98: 3 | CA98: =+BY98-BZ98 -> -2
A99: 6.3 | B99: Գողությունը | C99: 177 | E99: 1 | F99: =+D99+E99 -> 1 | G99: 2 | I99: 17 | J99: 1 | L99: =+K99+J99+I99 -> 18 | N99: 3 | P99: 2 | Q99: 1 | R99: 6 | W99: =+V99+U99+T99+S99+R99+Q99+P99+O99 -> 9 | Y99: 9 | AD99: 7 | AK99: 10 | AN99: 3 | AO99: 7 | AP99: 7 | AQ99: 1 | AT99: 2 | AU99: 2 | AV99: 1 | AW99: 13 | AY99: 18 | BC99: 1 | BE99: 1 | BF99: =+BE99+BD99+BC99 -> 2 | BJ99: 2 | BK99: 1 | BN99: 1 | BS99: =+BR99+BQ99+BP99+BO99 -> 0 | BT99: 3 | BU99: 34 | BV99: 7 | BY99: =+L99 -> 18 | BZ99: 32 | CA99: =+BY99-BZ99 -> -14
A100: 6.4 | B100: Խարդախությունը | C100: 178 | E100: 1 | F100: =+D100+E100 -> 1 | I100: 1 | L100: =+K100+J100+I100 -> 1 | W100: =+V100+U100+T100+S100+R100+Q100+P100+O100 -> 0 | Y100: 1 | AQ100: 1 | AS100: 1 | AY100: 1 | BF100: =+BE100+BD100+BC100 -> 0 | BS100: =+BR100+BQ100+BP100+BO100 -> 0 | BU100: 2 | BY100: =+L100 -> 1 | BZ100: 29 | CA100: =+BY100-BZ100 -> -28
A101: 6.5 | B101: Յուրացնելը կամ վատնելը | C101: 179 | F101: =+D101+E101 -> 0 | L101: =+K101+J101+I101 -> 0 | W101: =+V101+U101+T101+S101+R101+Q101+P101+O101 -> 0 | BF101: =+BE101+BD101+BC101 -> 0 | BS101: =+BR101+BQ101+BP101+BO101 -> 0 | BY101: =+L101 -> 0 | BZ101: 7 | CA101: =+BY101-BZ101 -> -7
A102: 6.6 | B102: Առանձնակի արժեք ունեցող առարկաներ հափշտակելը | C102: 180 | F102: =+D102+E102 -> 0 | L102: =+K102+J102+I102 -> 0 | W102: =+V102+U102+T102+S102+R102+Q102+P102+O102 -> 0 | BF102: =+BE102+BD102+BC102 -> 0 | BS102: =+BR102+BQ102+BP102+BO102 -> 0 | BY102: =+L102 -> 0 | CA102: =+BY102-BZ102 -> 0
...

Sheet Արագածոտն
A1: ՀԱՇՎԵՏՎՈՒԹՅՈՒՆ
A2: 2020թ. 1-ին կիսամյակի | C2: ԱՆՁԱՆՑ ՎԵՐԱԲԵՐՅԱԼ, ՈՐՈՆՑ ԿԱՊԱԿՑՈՒԹՅԱՄԲ ԿԱՅԱՑՎԱԾ ԴԱՏԱԿԱՆ ԱԿՏԵՐԸ ՄՏԵԼ ԵՆ ՕՐԻՆԱԿԱՆ ՈւԺԻ ՄԵՋ
A3: Վիճակագրական տողի համարը | B3: ՀԱՆՑԱԳՈՐԾՈՒԹՅՈՒՆՆԵՐԻ ՏԵՍԱԿՆԵՐԸ | C3: ՀՀ Քրեական օրենսգրքի հոդվածը | D3: Անձանց թիվը, որոնց վերաբերյալ գործերը կարճվել կամ քրեական հետապնդումը դադարեցվել է | G3: Անմեղսունակներ, որոնց նկատմամբ կիրառվել են բժշկական բնույթի հարկադրական միջոցներ | H3: Արդարացվածների թիվը | I3: Դատապարտյալների թիվը (ծանոթություն.Մեղադրյալը, որի վերաբերյալ կա օրինական ուժի մեջ մտած դատարանի դատավճիռ, որն ամբողջությամբ կամ մասնակիորեն մեղադրական է, կոչվում է դատապարտյալ) | O3: Դատապարտյալների նկատմամբ նշանակված հիմնական պատիժներ | AD3: նշանակված պատիժը պայմանականորեն չի կիրառվել | AE3: կիրառվել է համաներման ակտ | AF3: Լրացուցիչ պատիժներ | AI3: Օրենքով նախատեսվածից ավելի մեղմ պատիժ է նշանակվել | AJ3: Հանցանքը կատարվել է | AR3: Անձի զբաղմունքի տեսակը` նախքան դատապարտվելը | AY3: Անձի քաղաքացիությունը | BB3: Դատապարտվածների թիվը, որոնց նախկին դատվածությունը հանվել կամ մարվել է | BC3: Դատապարտյալների թիվը, որոնք ունեն չհանված կամ չմարված դատվածություն | BG3: Դրանցից (սյունակ 55) եղել են դատապարտված | BK3: Չհանված, չմարված դատվածությամբ դատապարտյալը պատժից ազատվել է | BO3: Նոր հանցագործությունը կատարել է պատիժը չկրած | BT3: Նոր հանցագործությունը կատարել է ազատազրկման վայրից ազատվելուց առաջին տարվա ընթացքում | BU3: Անձանց թիվը, որոնց վերաբերյալ հաշվետու տարվա ընթացքում քննվել են գործեր | BV3: Դատապարտյալը հանձնվել է վերադաստիրակման կամ հսկողության | BW3: Դատապարտյալի նկատմամբ նշանակվել է հարկադիր բուժում գինեմոլության դեմ | BX3: Դատապարտյալի նկատմամբ նշանակվել է հարկադիր բուժում թմրամոլության դեմ | BY3: Դատվածությունների շարժը
D4: Այդ թվում՝ հանցադեպի կամ հանցակազմի բացակայության և մեղադրանքի չապացուցված լինելու պատճառով | E4: այլ հիմքով | F4: Ընդամենը | I4: որից դատապարտվել են | L4: Ընդամենը(6,7,8 սյունակներ) | M4: Այդ թվում՝ կանայք | N4: Այդ թվում` անչափահասներ | O4: Ա զ ա տ ա զ ր կ ու մ | X4: հանրային աշխատանքներ | Y4: տուգանք | Z4: Որոշակի պաշտոններ զբաղ. կամ որոշակի գործ. զբաղվ. իրավ. զրկում | AA4: Կարգապահական գումարտակում պահելը | AB4: զին. Ծառայության մեջ սահմանափակում | AC4: կալանք | AF4: գույքի բռնագրավում | AG4: հատուկ կամ զին. կոչումից, կարգից, աստիճանից կամ որակավորման դասից զրկելը | AH4: որոշակի պաշտ. զբաղ. կամ որոշակի գործ.զբաղվ. իրավ. զրկում | AJ4: ալկ., թմրամիջ. կամ թնրեցնող այլ նյութերի ազդ. | AK4: Մի խումբ անձանց կազմում | AL4: Կազմակերպված խմբի կամ հանցավոր համագործակցության կազմում | AM4: 14-16 տարեկան հասակում | AN4: 16-18 տարեկան հասակում | AO4: 18-29 տարեկան հասակում | AP4: 30-49 տարեկան հասակում | AQ4: 50 տարեկան և բարձր | AR4: Պաշտոնատար անձինք | AS4: Զին. ծառայողներ | AT4: Այլ զբաղմունք | AU4: Սովորողներ | AW4: Չաշխատող և չսովորող աշխատունակներ | AX4: արգելանքի տակ գտնվող անձ | AY4: ՀՀ քաղաքացի | AZ4: Քաղաքացիություն չունեցող անձ | BA4: Օտարերկրյա պետության քաղաքացի | BC4: Մեկ դատվածություն | BD4: Երկու դատվածություն | BE4: Երեք և ավելի դատվածություն | BF4: Ընդամենը | BG4: Սպանության, դիտավորյամբ առողջությանը ծանր վնաս պատճառելու, բռնաբարության համար | BH4: Գույքի հափշտակության համար | BI4: Խուլիգանության համար | BJ4: այլ հանցագործությունների համար | BK4: Պատիժը կրել է լրիվ չափով | BL4: Պայմանական վաղաժամկետ | BM4: Համաներման ակտի կիրառմամբ | BN4: Այլ հիմքերով | BO4: Ազատազրկման վայրում | BP4: Այլ պատիժ կրելիս | BQ4: Դատավճռի կատարման հետաձգման ժամանակահատվածում | BR4: Փորձաշրջանի ընթացքում | BS4: Ընդամենը | BY4: Հաշվետու տարվա ընթացքում դատապարտված անձանց թիվը | BZ4: Հաշվետու տարվան նախորդող տարվա ընթացքում դատապարտված անձանց թիվը | CA4: ավելացել է պակասել է
B5: ՍՏՈՒԳԻՉ ՀԱՎԱՍԱՐՈՒՄՆԵՐ 3=1+2, 9=6+7+8, 20=12+13+14+15+16+17+18+19, 9=20+21+22+23+24+25+26 9=36+37+38+39+40, 9=41+42+43+44+45+46+47,9=48+49+50, 55=52+53+54,55=56+57+58+59, 68=64+65+66+67 | I5: Ավարտված հանցագործության համար | J5: Հանցափորձի համար(ՀՀ քր. օր-ի 34-րդ հոդ.) | K5: Հանցակցության համար(ՀՀ քր.օր-ի 38-րդ հոդ.) | O5: 1 տարի ներառյալ | P5: 1 տարուց ավել, մինչև 2 տարի ներառյալ | Q5: 2 տարուց ավել, մինչև 3 տարի ներառյալ | R5: 3 տարուց ավել, մինչև 5 տարի ներառյալ | S5: 5 տարուց ավել, մինչև 8 տարի ներառյալ | T5: 8 տարուց ավել, մինչև 10 տարի ներառյալ | U5: 10 տարուց ավել, մինչև 15 տարի ներառյալ | V5: ցմահ ազատազրկում | W5: ընդամենը | AU5: 18 տարեկանից ցածր | AV5: 18 տարեկանից բարձր
D6: 1 | E6: 2 | F6: 3 | G6: 4 | H6: 5 | I6: 6 | J6: 7 | K6: 8 | L6: 9 | M6: 10 | N6: 11 | O6: 12 | P6: 13 | Q6: 14 | R6: 15 | S6: 16 | T6: 17 | U6: 18 | V6: 19 | W6: 20 | X6: 21 | Y6: 22 | Z6: 23 | AA6: 24 | AB6: 25 | AC6: 26 | AD6: 27 | AE6: 28 | AF6: 29 | AG6: 30 | AH6: 31 | AI6: 32 | AJ6: 33 | AK6: 34 | AL6: 35 | AM6: 36 | AN6: 37 | AO6: 38 | AP6: 39 | AQ6: 40 | AR6: 41 | AS6: 42 | AT6: 43 | AU6: 44 | AV6: 45 | AW6: 46 | AX6: 47 | AY6: 48 | AZ6: 49 | BA6: 50 | BB6: 51 | BC6: 52 | BD6: 53 | BE6: 54 | BF6: 55 | BG6: 56 | BH6: 57 | BI6: 58 | BJ6: 59 | BK6: 60 | BL6: 61 | BM6: 62 | BN6: 63 | BO6: 64 | BP6: 65 | BQ6: 66 | BR6: 67 | BS6: 68 | BT6: 69 | BU6: 70 | BV6: 71 | BW6: 72 | BX6: 73 | BY6: 74 | BZ6: 75 | CA6: 76
A7: 1. | B7: Ընդամենը կյանքի և առողջության դեմ ուղղված հանցագործությունները | D7: =SUM(D8:D34) -> 0 | E7: =SUM(E8:E34) -> 2 | F7: =SUM(F8:F34) -> 2 | G7: =SUM(G8:G34) -> 0 | H7: =SUM(H8:H34) -> 1 | I7: =SUM(I8:I34) -> 2 | J7: =SUM(J8:J34) -> 0 | K7: =SUM(K8:K34) -> 0 | ... CA7: =SUM(CA8:CA34) -> 0
A8: 1.1 | B8: Սպանությունը | C8: 104 | E8: 1 | F8: 1 | BU8: 1
A9: 1.2 | B9: Հոգեկան խիստ հուզմունքի վիճակում կատարված սպանությունը | C9: 105
A10: 1.3 | B10: Մոր կողմից նորածին երեխայի սպանությունը | C10: 106
A11: 1.4 | B11: Հանցանք կատարած անձին բռնելու համար անհրաժեշտ միջոցների սահմանազանցմամբ սպանությունը | C11: 107
A12: 1.5 | B12: Անհրաժեշտ պաշտպանության սահմանազանցմամբ սպանությունը | C12: 108
A13: 1.6 | B13: Անզգուշությամբ մահ պատճառելը | C13: 109
A14: 1.7 | B14: Ինքնասպանության հասցնելը | C14: 110
A15: 1.8 | B15: Ինքնասպանության հակելը | C15: 111
A16: 1.9 | B16: Դիտավորությամբ առողջությանը ծանր վնաս պատճառելը | C16: 112 | BZ16: 5 | CA16: պ
A17: 1.10 | B17: Դիտավորությամբ առողջությանը միջին ծանրության վնաս պատճառելը | C17: 113 | H17: 1 | BU17: 1
A18: 1.11 | B18: Հոգեկան խիստ հուզմունքի վիճակում առողջությանը ծանր կամ միջին ծանրության վնաս պատճառելը | C18: 114
A19: 1.12 | B19: Հանցանք կատարած անձին բռնելու համար անհրաժեշտ միջոցների սահմանզանցմամբ առողջությանը ծանր կամ միջին ծանրության վնաս պատճառելը | C19: 115
A20: 1.13 | B20: Առողջությանը ծանր կամ միջին ծանրության վնաս պատճառելը անհրաժեշտ պաշտպանության սահմանանազանցմամբ | C20: 116 | BZ20: 1 | CA20: պ
A21: 1.14 | B21: Դիտավորությամբ առողջությանը թեթև վնաս պատճառելը | C21: 117
A22: 1.15 | B22: Ծեծը | C22: 118 | E22: 1 | F22: 1 | I22: 2 | L22: 2 | M22: 2 | Y22: 2 | AO22: 1 | AP22: 1 | AT22: 2 | AY22: 2 | BU22: 3 | BY22: 2 | BZ22: 1 | CA22: ա
A23: 1.16 | B23: Ֆիզիկական ուժեղ ցավ կամ հոգեկան ուժեղ տառապանք պատճառելը | C23: 119
A24: 1.17 | B24: Անզգուշությամբ առողջությանը ծանր վնաս պատճառելը | C24: 120
A25: 1.18 | B25: Անզգուշությամբ առողջությանը միջին ծանրության վնաս պատճառելը | C25: 121
A26: 1.19 | B26: Ապօրինի աբորտ կատարելը | C26: 122
A27: 1.20 | B27: Մարդու իմունային անբավարարության վիրուսի հարուցիչով վարակելը | C27: 123
A28: 1.21 | B28: Վեներական հիվանդությամբ կամ այլ սեռավարակներով վարակելը | C28: 124
A29: 1.22 | B29: Փոխպատվաստման վիրահատություն կատարելու կանոնները խախտելը | C29: 125
A30: 1.24 | B30: Անձին առանց իր հանձնարարության բժշկական կամ գիտական փորձերի ենթարկելը | C30: 127
A31: 1.25 | B31: Վտանգի մեջ թողնելը | C31: 128
A32: 1.26 | B32: Հիվանդին օգնություն ցույց չտալը | C32: 129
A33: 1.27 | B33: Բժշկական օգնություն և սպասարկում իրականացնողների կողմից մասնագիտական պարտականությունները չկատարելը կամ ոչ պատշաճ կատարելը | C33: 130
A34: 1.28 | B34: Այլ հանցագործություններ | BZ34: 1 | CA34: պ
A35: 2. | B35: Ընդամենը անձի ազատության, պատվի և արժանապատվության դեմ ուղղված հանցագործությունները | D35: =SUM(D36:D43) -> 0 | E35: =SUM(E36:E43) -> 0 | F35: =SUM(F36:F43) -> 0 | G35: =SUM(G36:G43) -> 0 | H35: =SUM(H36:H43) -> 0 | I35: =SUM(I36:I43) -> 0 | J35: =SUM(J36:J43) -> 0 | K35: =SUM(K36:K43) -> 0 | ... CA35: =SUM(CA36:CA43) -> 0
A36: 2.1 | B36: Մարդուն առևանգելը | C36: 131
A37: 2.2 | B37: Մարդու թրաֆիքինգը կամ շահագործումը | C37: 132
A38: 2.2.2 | B38: Երեխայի կամ հոգեկան խանգարման հետևանքով իր արարքի բնույթն ու նշանակությունը գիտակցելու կամ դա ղեկավարելու հնարավորությունից զրկված անձի թրաֆիքինգը կամ շահագործումը | C38: 132.2
A39: 2.2.3 | B39: Շահագործման վիճակում գտնվող անձի ծառայությունից օգտվելը | C39: 132.3
A40: 2.3 | B40: Ազատությունից ապօրինի զրկելը | C40: 133
A41: 2.4 | B41: Հոգեբուժական հիվանդանոցում ապօրինի տեղավորելը կամ պահելը | C41: 134
A42: 2.7 | B42: Սպանության, առողջությանը ծանր վնաս պատճառելու կամ գույք ոչնչացնելու սպառնալիքը | C42: 137
A43: 2.8 | B43: Այլ հանցագործություններ
A44: 3. | B44: Ընդամենը սեռական անձեռնմխելիության և սեռական ազատության դեմ ուղղված հանցագործությունները | D44: =SUM(D45:D50) -> 0 | E44: =SUM(E45:E50) -> 0 | F44: =SUM(F45:F50) -> 0 | G44: =SUM(G45:G50) -> 0 | H44: =SUM(H45:H50) -> 0 | I44: =SUM(I45:I50) -> 1 | J44: =SUM(J45:J50) -> 0 | K44: =SUM(K45:K50) -> 0 | ... CA44: =SUM(CA45:CA50) -> 0
A45: 3.1 | B45: Բռնաբարությունը | C45: 138
A46: 3.2 | B46: Սեքսուալ բնույթի բռնի գործողությունները | C46: 139
A47: 3.3 | B47: Սեռական հարաբերության կամ սեքսուալ բնույթի գործողություններին հարկադրելը | C47: 140
A48: 3.4 | B48: Սեռական հարաբերությունը տասնվեց տարին չլրացած անձի հետ կամ սեքսուալ բնույթի գործողություններ կատարելը տասնվեց տարին չլրացած անձի նկատմամբ | C48: 141 | I48: 1 | L48: 1 | R48: 1 | W48: 1 | AD48: 1 | AO48: 1 | AW48: 1 | AY48: 1 | BU48: 1 | BY48: 1 | BZ48: 1
A49: 3.5 | B49: Անառակաբարո գործողությունները | C49: 142
A50: 3.6 | B50: Այլ հանցագործություններ
A51: 4. | B51: Ընդամենը մարդու և քաղաքացու սահմանադրական իրավունքների և ազատությունների դեմ ուղղված հանցագործությունները | D51: =SUM(D52:D80) -> 0 | E51: =SUM(E52:E80) -> 0 | F51: =SUM(F52:F80) -> 0 | G51: =SUM(G52:G80) -> 0 | H51: =SUM(H52:H80) -> 0 | I51: =SUM(I52:I80) -> 1 | J51: =SUM(J52:J80) -> 0 | K51: =SUM(K52:K80) -> 0 | ... CA51: =SUM(CA52:CA80) -> 0
A52: 4.1 | B52: Մարդու և քաղաքացու իրավահավասարությունը խախտելը | C52: 143
A53: 4.2 | B53: Անձնական կամ ընտանեկան կյանքի մասին տեղեկություններ ապօրինի հավաքելը, պահելը, օգտագործելը կամ տարածելը | C53: 144
A54: 4.3 | B54: Բժշկական գաղտնիքը հրապարակելը | C54: 145
A55: 4.4 | B55: Նամակագրության, հեռախոսային խոսակցությունների, փոստային, հեռագրական կամ այլ հաղորդումների գաղտնիությունը խախտելը | C55: 146
A56: 4.5 | B56: Բնակարանի անձեռնմխելիությունը խախտելը | C56: 147 | I56: 1 | L56: 1 | Y56: 1 | AO56: 1 | AW56: 1 | AY56: 1 | BU56: 1 | BY56: 1 | CA56: ա
A57: 4.6 | B57: Անձին տեղեկություն ներկայացնելուց հրաժարվելը | C57: 148
A58: 4.7 | B58: Ընտրական իրավունքի իրականացմանը, ընտրական հանձնաժողովների աշխատանքներին կամ ընտրությանը մասնակցող անձանց լիազորությունների իրականացմանը խոչընդոտելը | C58: 149
A59: 4.8 | B59: Ընտրությունների կամ քվեարկության արդյունքները կեղծելը | C59: 150
A60: 4.10 | B60: Ընտրողների ցուցակները կազմելու, դրանք քաղաքացիներին և կուսակցություններին տրամադրելու կամ հրապարակելու կարգը խախտելը | C60: 152
A61: 4.11 | B61: Մեկից ավելի անգամ կամ այլ անձի փոխարեն քվեարկելը | C61: 153
A62: 4.12 | B62: Քվեարկության գաղտնիությունը խախտելը | C62: 154
A63: 4.13 | B63: Կեղծ ընտրական քվեաթերթիկներ կամ քվեարկության ծրարներ, դրոշմանիշեր, կտրոններ պատրաստելը կամ ակնհայտ կեղծ ընտրական քվեաթերթիկներ կամ քվեարկության ծրարներ, դրոշմանիշեր, կտրոններ հանձնելը կամ իրացնելը | C63: 154.1
A64: 4.14 | B64: Ընտրողի կողմից թեկնածուներից, կուսակցություններից (կուսակցությունների դաշինքներից), հանրաքվեի քարոզչական նախաձեռնություններից կաշառք ստանալը կամ թեկնածուների, կուսակցությունների (կուսակցությունների դաշինքների), հանրաքվեի քարոզչական նախաձեռնությունների կողմից ընտրողներին կաշառք տալը կամ ընտրողի ազատ կամքի իրականացմանը խոչընդոտելը | C64: 154.2
A65: 4.16 | B65: Զենքով՝ տեղամասային կենտրոն մուտք գործելը | C65: 154.4
A66: 4.17 | B66: Վստահված անձին,ընտրական հանձնաժողովի անդամին,դիտորդին կամ զանգվածային լրատվության միջոցի ներկայացուցչին ընտրական փաստաթղթերին ծանոթանալուն խոչընդոտելը, ընտրական հանձնաժողովի արձանագրությունների պատճեններ չտալը | C66: 154.5
A67: 4.17.1 | B67: Ընտրական հանձնաժողովի նախագահի լիազորությունները չկատարելը կամ ոչ պատշաճ կատարելը | C67: 154.6
A68: 4.17.2 | B68: Քվեատուփը, ընտրողների ստորագրած ցուցակը, տեղամասային ընտրական հանձնաժողովի գրանցամատյանը, հանձնաժողովի կնիքը, տեղամասային ընտրական հանձնաժողովի անդամի անհատական կնիքը, ինքնասոսնձվող դրոշմանիշը, ընտրողի վերաբերյալ տվյալներ պարունակող քվեարկության կտրոնը կամ համարակալված կտրոնը, ընտրողների էլեկտրոնային գրանցման տեխնիկական սարքավորումը, կառավարության կողմից ընտրված մասնագիտացված կազմակերպության կողմից տեղադրված տեսախցիկը, ընտրական փաստաթղթերի մեկանգամյա օգտագործման պարկը կամ ընտրական փաստաթղթերի փաթեթը հափշտակելը | C68: 154.7
... A79: 4.27 | B79: Լրագրողի մասնագիտական օրինական գործողությանը խոչընդոտելը | C79: 164
A80: 4.28 | B80: Այլ հանցագործություններ
A81: 5. | B81: Ընդամենը ընտանիքի և երեխայի շահերի դեմ ուղղված հանցագործությունները | D81: =SUM(D82:D95) -> 0 | E81: =SUM(E82:E95) -> 0 | F81: =SUM(F82:F95) -> 0 | G81: =SUM(G82:G95) -> 0 | H81: =SUM(H82:H95) -> 0 | I81: =SUM(I82:I95) -> 0 | J81: =SUM(J82:J95) -> 0 | K81: =SUM(K82:K95) -> 0 | ... CA81: =SUM(CA82:CA95) -> 0
A82: 5.1 | B82: Անչափահասին հանցանքի կատարմանը ներգրավելը | C82: 165
A83: 5.2 | B83: Երեխային պոռնկության կամ պոռնկագրական բնույթի նյութեր կամ առարկաներ պատրաստելու հետ կապված գործողություններ կատարելուն ներգրավելը | C83: 166
A84: 5.2.1 | B84: Երեխային ոգելից խմիչքների օգտագործմանը, ուժեղ ներգործող կամ այլ թմրեցնող նյութերի ոչ բժշկական օգտագործմանը, թափառաշրջիկությանը ներգրավելը կամ մուրացկանության հետ կապված գործողություններ կատարելուն ներգրավելը | C84: 166.1
A85: 5.3 | B85: Ծնողներից երեխային ապօրինի բաժանելը կամ երեխային փոխելը | C85: 167
A86: 5.4 | B86: Խնամքը ստանձնելու նպատակով երեխայի առքը կամ ստանձնողի խնամքին հանձնելու նպատակով երեխայի վաճառքը | C86: 168
A87: 5.5 | B87: Որդեգրման գաղտնիքը հրապարակելը կամ որդեգրման համաձայնություն տալուն հակելը կամ հարկադրելը | C87: 169
A88: 5.6 | B88: Քաղաքացիական կացության ակտերի գրանցման մարմիններին սուտ տեղեկություններ հաղորդելը | C88: 169.1
A89: 5.7 | B89: Երեխային դաստիարակելու պարտականությունը չկատարելը | C89: 170
A90: 5.8 | B90: Երեխայի կյանքի անվտանգության ապահովման կամ առողջության պահպանման պարտականությունը չկատարելը կամ ոչ պատշաճ կատարելը | C90: 171
A91: 5.8.1 | B91: Վերարտադրողականության օժանդակ տեխնոլոգիաներից օգտվելու կանոնները խախտելը | C91: 171.1
A92: 5.9 | B92: Խնամակալի կամ հոգաբարձուի իրավունքները չարաշահելը | C92: 172
A93: 5.10 | B93: Ծնողի կողմից երեխային պահելուց չարամտորեն խուսափելը | C93: 173
A94: 5.11 | B94: Զավակի կողմից անաշխատունակ ծնողին պահելուց չարամտորեն խուսափելը | C94: 174
A95: 5.12 | B95: Այլ հանցագործություններ
A96: 6. | B96: Ընդամենը սեփականության դեմ ուղղված հանցագործությունները | D96: =SUM(D97:D111) -> 0 | E96: =SUM(E97:E109) -> 2 | F96: =SUM(F97:F109) -> 2 | G96: =SUM(G97:G109) -> 0 | H96: =SUM(H97:H109) -> 0 | I96: =SUM(I97:I109) -> 2 | J96: =SUM(J97:J109) -> 0 | K96: =SUM(K97:K109) -> 1 | L96: =SUM(L97:L109) -> 3 | ... CA96: =SUM(CA97:CA109) -> 0
A97: 6.1 | B97: Ավազակությունը | C97: 175 | BZ97: 1 | CA97: պ
A98: 6.2 | B98: Կողոպուտը | C98: 176
A99: 6.3 | B99: Գողությունը | C99: 177 | E99: 2 | F99: 2 | I99: 1 | L99: 1 | R99: 1 | W99: 1 | AD99: 1 | AO99: 1 | AT99: 1 | AY99: 1 | BB99: 1 | BU99: 3 | BY99: 1 | BZ99: 13 | CA99: պ
A100: 6.4 | B100: Խարդախությունը | C100: 178 | BZ100: 2 | CA100: պ
A101: 6.5 | B101: Յուրացնելը կամ վատնելը | C101: 179 | I101: 1 | K101: 1 | L101: 2 | M101: 1 | R101: 1 | S101: 1 | W101: 2 | AD101: 2 | AE101: 2 | AH101: 1 | AK101: 2 | AQ101: 2 | AR101: 2 | AY101: 2 | BU101: 2 | BY101: 2 | BZ101: 1 | CA101: ա
A102: 6.6 | B102: Առանձնակի արժեք ունեցող առարկաներ հափշտակելը | C102: 180
A103: 6.7 | B103: Հափշտակությունը, որը կատարվել է համակարգչային տեխնիկայի օգտագործմամբ | C103: 181
A104: 6.8 | B104: Շորթումը | C104: 182 | BZ104: 1 | CA104: պ
A105: 6.9 | B105: Ավտոմեքենային կամ տրանսպորտային այլ միջոցին ապօրինաբար տիրանալն առանց հափշտակելու նպատակի | C105: 183
A106: 6.10 | B106: Գույքային վնաս պատճառելը խաբեության կամ վստահությունը չարաշահելու եղանակով | C106: 184
A107: 6.10.1 | B107: Գրավառուին վնաս պատճառելը | C107: 184.1
A108: 6.11 | B108: Գույքը դիտավորությամբ ոչնչացնելը կամ վնասելը | C108: 185 | BZ108: 1 | CA108: պ
A109: 6.12 | B109: Գույքն անզգուշությամբ ոչնչացնելը կամ վնասելը | C109: 186
A110: 6.13 | B110: Գուքի պահպանության պարտականություններն անփույթ կամ անբարեխիղճ կատարելը | C110: 186.1
...

Sheet Երևան
A1: ՀԱՇՎԵՏՎՈՒԹՅՈՒՆ
A2: 2020թ. 1-ին կիսամյակի | C2: ԱՆՁԱՆՑ ՎԵՐԱԲԵՐՅԱԼ, ՈՐՈՆՑ ԿԱՊԱԿՑՈՒԹՅԱՄԲ ԿԱՅԱՑՎԱԾ ԴԱՏԱԿԱՆ ԱԿՏԵՐԸ ՄՏԵԼ ԵՆ ՕՐԻՆԱԿԱՆ ՈւԺԻ ՄԵՋ
A3: Վիճակագրական տողի համարը | B3: ՀԱՆՑԱԳՈՐԾՈՒԹՅՈՒՆՆԵՐԻ ՏԵՍԱԿՆԵՐԸ | C3: ՀՀ Քրեական օրենսգրքի հոդվածը | D3: Անձանց թիվը, որոնց վերաբերյալ գործերը կարճվել կամ քրեական հետապնդումը դադարեցվել է | G3: Անմեղսունակներ, որոնց նկատմամբ կիրառվել են բժշկական բնույթի հարկադրական միջոցներ | H3: Արդարացվածների թիվը | I3: Դատապարտյալների թիվը (ծանոթություն.Մեղադրյալը, որի վերաբերյալ կա օրինական ուժի մեջ մտած դատարանի դատավճիռ, որն ամբողջությամբ կամ մասնակիորեն մեղադրական է, կոչվում է դատապարտյալ) | O3: Դատապարտյալների նկատմամբ նշանակված հիմնական պատիժներ | AD3: նշանակված պատիժը պայմանականորեն չի կիրառվել | AE3: կիրառվել է համաներման ակտ | AF3: Լրացուցիչ պատիժներ | AI3: Օրենքով նախատեսվածից ավելի մեղմ պատիժ է նշանակվել | AJ3: Հանցանքը կատարվել է | AR3: Անձի զբաղմունքի տեսակը` նախքան դատապարտվելը | AY3: Անձի քաղաքացիությունը | BB3: Դատապարտվածների թիվը, որոնց նախկին դատվածությունը հանվել կամ մարվել է | BC3: Դատապարտյալների թիվը, որոնք ունեն չհանված կամ չմարված դատվածություն | BG3: Դրանցից (սյունակ 55) եղել են դատապարտված | BK3: Չհանված, չմարված դատվածությամբ դատապարտյալը պատժից ազատվել է | BO3: Նոր հանցագործությունը կատարել է պատիժը չկրած | BT3: Նոր հանցագործությունը կատարել է ազատազրկման վայրից ազատվելուց առաջին տարվա ընթացքում | BU3: Անձանց թիվը, որոնց վերաբերյալ հաշվետու տարվա ընթացքում քննվել են գործեր | BV3: Դատապարտյալը հանձնվել է վերադաստիրակման կամ հսկողության | BW3: Դատապարտյալի նկատմամբ նշանակվել է հարկադիր բուժում գինեմոլության դեմ | BX3: Դատապարտյալի նկատմամբ նշանակվել է հարկադիր բուժում թմրամոլության դեմ | BY3: Դատվածությունների շարժը
D4: Այդ թվում՝ հանցադեպի կամ հանցակազմի բացակայության և մեղադրանքի չապացուցված լինելու պատճառով | E4: այլ հիմքով | F4: Ընդամենը | I4: որից դատապարտվել են | L4: Ընդամենը(6,7,8 սյունակներ) | M4: Այդ թվում՝ կանայք | N4: Այդ թվում` անչափահասներ | O4: Ա զ ա տ ա զ ր կ ու մ | X4: հանրային աշխատանքներ | Y4: տուգանք | Z4: Որոշակի պաշտոններ զբաղ. կամ որոշակի գործ. զբաղվ. իրավ. զրկում | AA4: Կարգապահական գումարտակում պահելը | AB4: զին. Ծառայության մեջ սահմանափակում | AC4: կալանք | AF4: գույքի բռնագրավում | AG4: հատուկ կամ զին. կոչումից, կարգից, աստիճանից կամ որակավորման դասից զրկելը | AH4: որոշակի պաշտ. զբաղ. կամ որոշակի գործ.զբաղվ. իրավ. զրկում | AJ4: ալկ., թմրամիջ. կամ թնրեցնող այլ նյութերի ազդ. | AK4: Մի խումբ անձանց կազմում | AL4: Կազմակերպված խմբի կամ հանցավոր համագործակցության կազմում | AM4: 14-16 տարեկան հասակում | AN4: 16-18 տարեկան հասակում | AO4: 18-29 տարեկան հասակում | AP4: 30-49 տարեկան հասակում | AQ4: 50 տարեկան և բարձր | AR4: Պաշտոնատար անձինք | AS4: Զին. ծառայողներ | AT4: Այլ զբաղմունք | AU4: Սովորողներ | AW4: Չաշխատող և չսովորող աշխատունակներ | AX4: արգելանքի տակ գտնվող անձ | AY4: ՀՀ քաղաքացի | AZ4: Քաղաքացիություն չունեցող անձ | BA4: Օտարերկրյա պետության քաղաքացի | BC4: Մեկ դատվածություն | BD4: Երկու դատվածություն | BE4: Երեք և ավելի դատվածություն | BF4: Ընդամենը | BG4: Սպանության, դիտավորյամբ առողջությանը ծանր վնաս պատճառելու, բռնաբարության համար | BH4: Գույքի հափշտակության համար | BI4: Խուլիգանության համար | BJ4: այլ հանցագործությունների համար | BK4: Պատիժը կրել է լրիվ չափով | BL4: Պայմանական վաղաժամկետ | BM4: Համաներման ակտի կիրառմամբ | BN4: Այլ հիմքերով | BO4: Ազատազրկման վայրում | BP4: Այլ պատիժ կրելիս | BQ4: Դատավճռի կատարման հետաձգման ժամանակահատվածում | BR4: Փորձաշրջանի ընթացքում | BS4: Ընդամենը | BY4: Հաշվետու տարվա ընթացքում դատապարտված անձանց թիվը | BZ4: Հաշվետու տարվան նախորդող տարվա ընթացքում դատապարտված անձանց թիվը | CA4: ավելացել է պակասել է
B5: ՍՏՈՒԳԻՉ ՀԱՎԱՍԱՐՈՒՄՆԵՐ 3=1+2, 9=6+7+8, 20=12+13+14+15+16+17+18+19, 9=20+21+22+23+24+25+26 9=36+37+38+39+40, 9=41+42+43+44+45+46+47,9=48+49+50, 55=52+53+54,55=56+57+58+59, 68=64+65+66+67 | I5: Ավարտված հանցագործության համար | J5: Հանցափորձի համար(ՀՀ քր. օր-ի 34-րդ հոդ.) | K5: Հանցակցության համար(ՀՀ քր.օր-ի 38-րդ հոդ.) | O5: 1 տարի ներառյալ | P5: 1 տարուց ավել, մինչև 2 տարի ներառյալ | Q5: 2 տարուց ավել, մինչև 3 տարի ներառյալ | R5: 3 տարուց ավել, մինչև 5 տարի ներառյալ | S5: 5 տարուց ավել, մինչև 8 տարի ներառյալ | T5: 8 տարուց ավել, մինչև 10 տարի ներառյալ | U5: 10 տարուց ավել, մինչև 15 տարի ներառյալ | V5: ցմահ ազատազրկում | W5: ընդամենը | AU5: 18 տարեկանից ցածր | AV5: 18 տարեկանից բարձր
D6: 1 | E6: 2 | F6: 3 | G6: 4 | H6: 5 | I6: 6 | J6: 7 | K6: 8 | L6: 9 | M6: 10 | N6: 11 | O6: 12 | P6: 13 | Q6: 14 | R6: 15 | S6: 16 | T6: 17 | U6: 18 | V6: 19 | W6: 20 | X6: 21 | Y6: 22 | Z6: 23 | AA6: 24 | AB6: 25 | AC6: 26 | AD6: 27 | AE6: 28 | AF6: 29 | AG6: 30 | AH6: 31 | AI6: 32 | AJ6: 33 | AK6: 34 | AL6: 35 | AM6: 36 | AN6: 37 | AO6: 38 | AP6: 39 | AQ6: 40 | AR6: 41 | AS6: 42 | AT6: 43 | AU6: 44 | AV6: 45 | AW6: 46 | AX6: 47 | AY6: 48 | AZ6: 49 | BA6: 50 | BB6: 51 | BC6: 52 | BD6: 53 | BE6: 54 | BF6: 55 | BG6: 56 | BH6: 57 | BI6: 58 | BJ6: 59 | BK6: 60 | BL6: 61 | BM6: 62 | BN6: 63 | BO6: 64 | BP6: 65 | BQ6: 66 | BR6: 67 | BS6: 68 | BT6: 69 | BU6: 70 | BV6: 71 | BW6: 72 | BX6: 73 | BY6: 74 | BZ6: 75 | CA6: 76
A7: 1. | B7: Ընդամենը կյանքի և առողջության դեմ ուղղված հանցագործությունները | D7: =SUM(D8:D34) -> 0 | E7: =SUM(E8:E34) -> 6 | F7: =SUM(F8:F34) -> 6 | G7: =SUM(G8:G34) -> 3 | H7: =SUM(H8:H34) -> 0 | I7: =SUM(I8:I34) -> 12 | J7: =SUM(J8:J34) -> 0 | K7: =SUM(K8:K34) -> 0 | ... CA7: =SUM(CA8:CA34) -> 0
A8: 1.1 | B8: Սպանությունը | C8: 104 | G8: 1 | BZ8: 2 | CA8: պ
A9: 1.2 | B9: Հոգեկան խիստ հուզմունքի վիճակում կատարված սպանությունը | C9: 105
A10: 1.3 | B10: Մոր կողմից նորածին երեխայի սպանությունը | C10: 106
A11: 1.4 | B11: Հանցանք կատարած անձին բռնելու համար անհրաժեշտ միջոցների սահմանազանցմամբ սպանությունը | C11: 107
A12: 1.5 | B12: Անհրաժեշտ պաշտպանության սահմանազանցմամբ սպանությունը | C12: 108
A13: 1.6 | B13: Անզգուշությամբ մահ պատճառելը | C13: 109
A14: 1.7 | B14: Ինքնասպանության հասցնելը | C14: 110
A15: 1.8 | B15: Ինքնասպանության հակելը | C15: 111
A16: 1.9 | B16: Դիտավորությամբ առողջությանը ծանր վնաս պատճառելը | C16: 112 | E16: 2 | F16: 2 | I16: 3 | L16: 3 | N16: 1 | P16: 1 | Q16: 1 | R16: 1 | W16: 3 | AD16: 3 | AN16: 1 | AO16: 1 | AP16: 1 | AT16: 1 | AW16: 2 | AY16: 3 | BU16: 3 | BY16: 3 | BZ16: 21 | CA16: պ
A17: 1.10 | B17: Դիտավորությամբ առողջությանը միջին ծանրության վնաս պատճառելը | C17: 113 | I17: 1 | L17: 1 | Y17: 1 | AP17: 1 | AW17: 1 | AY17: 1 | BU17: 1 | BY17: 1 | BZ17: 2 | CA17: պ
A18: 1.11 | B18: Հոգեկան խիստ հուզմունքի վիճակում առողջությանը ծանր կամ միջին ծանրության վնաս պատճառելը | C18: 114
A19: 1.12 | B19: Հանցանք կատարած անձին բռնելու համար անհրաժեշտ միջոցների սահմանզանցմամբ առողջությանը ծանր կամ միջին ծանրության վնաս պատճառելը | C19: 115
A20: 1.13 | B20: Առողջությանը ծանր կամ միջին ծանրության վնաս պատճառելը անհրաժեշտ պաշտպանության սահմանանազանցմամբ | C20: 116
A21: 1.14 | B21: Դիտավորությամբ առողջությանը թեթև վնաս պատճառելը | C21: 117 | I21: 4 | L21: 4 | Y21: 4 | AO21: 1 | AP21: 2 | AQ21: 1 | AT21: 1 | AW21: 3 | AY21: 4 | BU21: 4 | BY21: 4 | BZ21: 2 | CA21: ա
A22: 1.15 | B22: Ծեծը | C22: 118 | E22: 4 | F22: 4 | G22: 2 | I22: 3 | L22: 3 | O22: 1 | W22: 1 | Y22: 2 | AP22: 2 | AQ22: 1 | AW22: 3 | AY22: 3 | BD22: 1 | BF22: 1 | BJ22: 1 | BU22: 3 | BY22: 3 | BZ22: 6 | CA22: պ
A23: 1.16 | B23: Ֆիզիկական ուժեղ ցավ կամ հոգեկան ուժեղ տառապանք պատճառելը | C23: 119 | I23: 1 | L23: 1 | M23: 1 | Q23: 1 | W23: 1 | AD23: 1 | AP23: 1 | AW23: 1 | AY23: 1 | BU23: 1 | BY23: 1 | CA23: ա
A24: 1.17 | B24: Անզգուշությամբ առողջությանը ծանր վնաս պատճառելը | C24: 120
A25: 1.18 | B25: Անզգուշությամբ առողջությանը միջին ծանրության վնաս պատճառելը | C25: 121
A26: 1.19 | B26: Ապօրինի աբորտ կատարելը | C26: 122
A27: 1.20 | B27: Մարդու իմունային անբավարարության վիրուսի հարուցիչով վարակելը | C27: 123
A28: 1.21 | B28: Վեներական հիվանդությամբ կամ այլ սեռավարակներով վարակելը | C28: 124
A29: 1.22 | B29: Փոխպատվաստման վիրահատություն կատարելու կանոնները խախտելը | C29: 125
A30: 1.24 | B30: Անձին առանց իր հանձնարարության բժշկական կամ գիտական փորձերի ենթարկելը | C30: 127
A31: 1.25 | B31: Վտանգի մեջ թողնելը | C31: 128
A32: 1.26 | B32: Հիվանդին օգնություն ցույց չտալը | C32: 129
A33: 1.27 | B33: Բժշկական օգնություն և սպասարկում իրականացնողների կողմից մասնագիտական պարտականությունները չկատարելը կամ ոչ պատշաճ կատարելը | C33: 130
A34: 1.28 | B34: Այլ հանցագործություններ
A35: 2. | B35: Ընդամենը անձի ազատության, պատվի և արժանապատվության դեմ ուղղված հանցագործությունները | D35: =SUM(D36:D43) -> 0 | E35: =SUM(E36:E43) -> 0 | F35: =SUM(F36:F43) -> 0 | G35: =SUM(G36:G43) -> 0 | H35: =SUM(H36:H43) -> 0 | I35: =SUM(I36:I43) -> 3 | J35: =SUM(J36:J43) -> 0 | K35: =SUM(K36:K43) -> 0 | ... CA35: =SUM(CA36:CA43) -> 0
A36: 2.1 | B36: Մարդուն առևանգելը | C36: 131 | I36: 3 | L36: 3 | Q36: 2 | R36: 1 | W36: 3 | AD36: 2 | AE36: 1 | AO36: 1 | AP36: 2 | AT36: 1 | AW36: 2 | AY36: 3 | BU36: 3 | BY36: 3 | BZ36: 5 | CA36: պ
A37: 2.2 | B37: Մարդու թրաֆիքինգը կամ շահագործումը | C37: 132
A38: 2.2.2 | B38: Երեխայի կամ հոգեկան խանգարման հետևանքով իր արարքի բնույթն ու նշանակությունը գիտակցելու կամ դա ղեկավարելու հնարավորությունից զրկված անձի թրաֆիքինգը կամ շահագործումը | C38: 132.2
A39: 2.2.3 | B39: Շահագործման վիճակում գտնվող անձի ծառայությունից օգտվելը | C39: 132.3
A40: 2.3 | B40: Ազատությունից ապօրինի զրկելը | C40: 133
A41: 2.4 | B41: Հոգեբուժական հիվանդանոցում ապօրինի տեղավորելը կամ պահելը | C41: 134
A42: 2.7 | B42: Սպանության, առողջությանը ծանր վնաս պատճառելու կամ գույք ոչնչացնելու սպառնալիքը | C42: 137
A43: 2.8 | B43: Այլ հանցագործություններ
A44: 3. | B44: Ընդամենը սեռական անձեռնմխելիության և սեռական ազատության դեմ ուղղված հանցագործությունները | D44: =SUM(D45:D50) -> 0 | E44: =SUM(E45:E50) -> 0 | F44: =SUM(F45:F50) -> 0 | G44: =SUM(G45:G50) -> 0 | H44: =SUM(H45:H50) -> 0 | I44: =SUM(I45:I50) -> 0 | J44: =SUM(J45:J50) -> 0 | K44: =SUM(K45:K50) -> 0 | ... CA44: =SUM(CA45:CA50) -> 0
A45: 3.1 | B45: Բռնաբարությունը | C45: 138
A46: 3.2 | B46: Սեքսուալ բնույթի բռնի գործողությունները | C46: 139
A47: 3.3 | B47: Սեռական հարաբերության կամ սեքսուալ բնույթի գործողություններին հարկադրելը | C47: 140
A48: 3.4 | B48: Սեռական հարաբերությունը տասնվեց տարին չլրացած անձի հետ կամ սեքսուալ բնույթի գործողություններ կատարելը տասնվեց տարին չլրացած անձի նկատմամբ | C48: 141 | BZ48: 2 | CA48: պ
A49: 3.5 | B49: Անառակաբարո գործողությունները | C49: 142
A50: 3.6 | B50: Այլ հանցագործություններ
A51: 4. | B51: Ընդամենը մարդու և քաղաքացու սահմանադրական իրավունքների և ազատությունների դեմ ուղղված հանցագործությունները | D51: =SUM(D52:D80) -> 0 | E51: =SUM(E52:E80) -> 0 | F51: =SUM(F52:F80) -> 0 | G51: =SUM(G52:G80) -> 0 | H51: =SUM(H52:H80) -> 0 | I51: =SUM(I52:I80) -> 2 | J51: =SUM(J52:J80) -> 0 | K51: =SUM(K52:K80) -> 0 | ... CA51: =SUM(CA52:CA80) -> 0
A52: 4.1 | B52: Մարդու և քաղաքացու իրավահավասարությունը խախտելը | C52: 143
A53: 4.2 | B53: Անձնական կամ ընտանեկան կյանքի մասին տեղեկություններ ապօրինի հավաքելը, պահելը, օգտագործելը կամ տարածելը | C53: 144 | I53: 2 | L53: 2 | Y53: 2 | AP53: 2 | AS53: 1 | AT53: 1 | AY53: 2 | BU53: 2 | BY53: 2 | CA53: ա
A54: 4.3 | B54: Բժշկական գաղտնիքը հրապարակելը | C54: 145
A55: 4.4 | B55: Նամակագրության, հեռախոսային խոսակցությունների, փոստային, հեռագրական կամ այլ հաղորդումների գաղտնիությունը խախտելը | C55: 146
A56: 4.5 | B56: Բնակարանի անձեռնմխելիությունը խախտելը | C56: 147 | BZ56: 2 | CA56: պ
A57: 4.6 | B57: Անձին տեղեկություն ներկայացնելուց հրաժարվելը | C57: 148
A58: 4.7 | B58: Ընտրական իրավունքի իրականացմանը, ընտրական հանձնաժողովների աշխատանքներին կամ ընտրությանը մասնակցող անձանց լիազորությունների իրականացմանը խոչընդոտելը | C58: 149 | BZ58: 1 | CA58: պ
A59: 4.8 | B59: Ընտրությունների կամ քվեարկության արդյունքները կեղծելը | C59: 150
A60: 4.10 | B60: Ընտրողների ցուցակները կազմելու, դրանք քաղաքացիներին և կուսակցություններին տրամադրելու կամ հրապարակելու կարգը խախտելը | C60: 152
A61: 4.11 | B61: Մեկից ավելի անգամ կամ այլ անձի փոխարեն քվեարկելը | C61: 153
A62: 4.12 | B62: Քվեարկության գաղտնիությունը խախտելը | C62: 154
A63: 4.13 | B63: Կեղծ ընտրական քվեաթերթիկներ կամ քվեարկության ծրարներ, դրոշմանիշեր, կտրոններ պատրաստելը կամ ակնհայտ կեղծ ընտրական քվեաթերթիկներ կամ քվեարկության ծրարներ, դրոշմանիշեր, կտրոններ հանձնելը կամ իրացնելը | C63: 154.1
A64: 4.14 | B64: Ընտրողի կողմից թեկնածուներից, կուսակցություններից (կուսակցությունների դաշինքներից), հանրաքվեի քարոզչական նախաձեռնություններից կաշառք ստանալը կամ թեկնածուների, կուսակցությունների (կուսակցությունների դաշինքների), հանրաքվեի քարոզչական նախաձեռնությունների կողմից ընտրողներին կաշառք տալը կամ ընտրողի ազատ կամքի իրականացմանը խոչընդոտելը | C64: 154.2 | BZ64: 11 | CA64: պ
A65: 4.16 | B65: Զենքով՝ տեղամասային կենտրոն մուտք գործելը | C65: 154.4
A66: 4.17 | B66: Վստահված անձին,ընտրական հանձնաժողովի անդամին,դիտորդին կամ զանգվածային լրատվության միջոցի ներկայացուցչին ընտրական փաստաթղթերին ծանոթանալուն խոչընդոտելը, ընտրական հանձնաժողովի արձանագրությունների պատճեններ չտալը | C66: 154.5
A67: 4.17.1 | B67: Ընտրական հանձնաժողովի նախագահի լիազորությունները չկատարելը կամ ոչ պատշաճ կատարելը | C67: 154.6
A68: 4.17.2 | B68: Քվեատուփը, ընտրողների ստորագրած ցուցակը, տեղամասային ընտրական հանձնաժողովի գրանցամատյանը, հանձնաժողովի կնիքը, տեղամասային ընտրական հանձնաժողովի անդամի անհատական կնիքը, ինքնասոսնձվող դրոշմանիշը, ընտրողի վերաբերյալ տվյալներ պարունակող քվեարկության կտրոնը կամ համարակալված կտրոնը, ընտրողների էլեկտրոնային գրանցման տեխնիկական սարքավորումը, կառավարության կողմից ընտրված մասնագիտացված կազմակերպության կողմից տեղադրված տեսախցիկը, ընտրական փաստաթղթերի մեկանգամյա օգտագործման պարկը կամ ընտրական փաստաթղթերի փաթեթը հափշտակելը | C68: 154.7
A69: 4.17.3 | B69: Այլ անձի փոխարեն քվեարկելու վերաբերյալ սուտ հայտարարություն տալը կամ կեղծ ստորագրությամբ հայտարարություն դիմումին կից ներկայացնելը | C69: 154.8
A70: 4.18 | B70: Գործադուլի մասնակցելուն կամ գործադուլի մասնակցելուց հրաժարվելուն հարկադրելը | C70: 155
A71: 4.19 | B71: Հղի կնոջը կամ մինչև երեք տարեկան երեխա ունեցող անձին աշխատանքի ընդունելոււց հրաժարվելը կամ աշխատանքից անհիմն ազատելը | C71: 156
A72: 4.20 | B72: Աշխատանքի պաշտպանության կանոնները խախտելը | C72: 157
A73: 4.21 | B73: Հեղինակային և հարակից իրավունքները խախտելը | C73: 158
A74: 4.22 | B74: Արտոնագրային իրավունքը խախտելը | C74: 159
A75: 4.23 | B75: Խղճի կամ դավանանքի ազատության իրավունքի իրականացմանը խոչընդոտելը | C75: 160
A76: 4.24 | B76: Միավորումներ (հասարակական կամ արհեստակցական միություններ) կազմելու կամ կուսակցություններ ստեղծելու իրավունքի իրականացմանը կամ դրանց գործողությանը խոչընդոտելը | C76: 161
... A79: 4.27 | B79: Լրագրողի մասնագիտական օրինական գործողությանը խոչընդոտելը | C79: 164
A80: 4.28 | B80: Այլ հանցագործություններ
A81: 5. | B81: Ընդամենը ընտանիքի և երեխայի շահերի դեմ ուղղված հանցագործությունները | D81: =SUM(D82:D95) -> 0 | E81: =SUM(E82:E95) -> 0 | F81: =SUM(F82:F95) -> 0 | G81: =SUM(G82:G95) -> 0 | H81: =SUM(H82:H95) -> 0 | I81: =SUM(I82:I95) -> 0 | J81: =SUM(J82:J95) -> 0 | K81: =SUM(K82:K95) -> 0 | ... CA81: =SUM(CA82:CA95) -> 0
A82: 5.1 | B82: Անչափահասին հանցանքի կատարմանը ներգրավելը | C82: 165
A83: 5.2 | B83: Երեխային պոռնկության կամ պոռնկագրական բնույթի նյութեր կամ առարկաներ պատրաստելու հետ կապված գործողություններ կատարելուն ներգրավելը | C83: 166
A84: 5.2.1 | B84: Երեխային ոգելից խմիչքների օգտագործմանը, ուժեղ ներգործող կամ այլ թմրեցնող նյութերի ոչ բժշկական օգտագործմանը, թափառաշրջիկությանը ներգրավելը կամ մուրացկանության հետ կապված գործողություններ կատարելուն ներգրավելը | C84: 166.1
A85: 5.3 | B85: Ծնողներից երեխային ապօրինի բաժանելը կամ երեխային փոխելը | C85: 167
A86: 5.4 | B86: Խնամքը ստանձնելու նպատակով երեխայի առքը կամ ստանձնողի խնամքին հանձնելու նպատակով երեխայի վաճառքը | C86: 168
A87: 5.5 | B87: Որդեգրման գաղտնիքը հրապարակելը կամ որդեգրման համաձայնություն տալուն հակելը կամ հարկադրելը | C87: 169
A88: 5.6 | B88: Քաղաքացիական կացության ակտերի գրանցման մարմիններին սուտ տեղեկություններ հաղորդելը | C88: 169.1
A89: 5.7 | B89: Երեխային դաստիարակելու պարտականությունը չկատարելը | C89: 170
A90: 5.8 | B90: Երեխայի կյանքի անվտանգության ապահովման կամ առողջության պահպանման պարտականությունը չկատարելը կամ ոչ պատշաճ կատարելը | C90: 171
A91: 5.8.1 | B91: Վերարտադրողականության օժանդակ տեխնոլոգիաներից օգտվելու կանոնները խախտելը | C91: 171.1
A92: 5.9 | B92: Խնամակալի կամ հոգաբարձուի իրավունքները չարաշահելը | C92: 172
A93: 5.10 | B93: Ծնողի կողմից երեխային պահելուց չարամտորեն խուսափելը | C93: 173
A94: 5.11 | B94: Զավակի կողմից անաշխատունակ ծնողին պահելուց չարամտորեն խուսափելը | C94: 174
A95: 5.12 | B95: Այլ հանցագործություններ
A96: 6. | B96: Ընդամենը սեփականության դեմ ուղղված հանցագործությունները | D96: =SUM(D97:D111) -> 0 | E96: =SUM(E97:E109) -> 10 | F96: =SUM(F97:F109) -> 10 | G96: =SUM(G97:G109) -> 1 | H96: =SUM(H97:H109) -> 0 | I96: =SUM(I97:I109) -> 39 | J96: =SUM(J97:J109) -> 1 | K96: =SUM(K97:K109) -> 0 | L96: =SUM(L97:L109) -> 40 | ... CA96: =SUM(CA97:CA109) -> 0
A97: 6.1 | B97: Ավազակությունը | C97: 175 | G97: 1 | I97: 1 | L97: 1 | T97: 1 | W97: 1 | AP97: 1 | AW97: 1 | AY97: 1 | BU97: 1 | BY97: 1 | BZ97: 4 | CA97: պ
A98: 6.2 | B98: Կողոպուտը | C98: 176 | I98: 3 | L98: 3 | O98: 1 | S98: 1 | W98: 2 | Y98: 1 | AI98: 1 | AO98: 1 | AP98: 2 | AW98: 3 | AY98: 3 | BB98: 1 | BC98: 1 | BF98: 1 | BH98: 1 | BU98: 3 | BY98: 3 | BZ98: 13 | CA98: պ
A99: 6.3 | B99: Գողությունը | C99: 177 | E99: 5 | F99: 5 | I99: 16 | L99: 16 | M99: 1 | N99: 3 | Q99: 1 | W99: 1 | Y99: 15 | AD99: 2 | AE99: 1 | AN99: 3 | AO99: 6 | AP99: 4 | AQ99: 3 | AT99: 3 | AW99: 13 | AY99: 15 | BA99: 1 | BU99: 16 | BY99: 16 | BZ99: 81 | CA99: պ
A100: 6.4 | B100: Խարդախությունը | C100: 178 | E100: 4 | F100: 4 | I100: 12 | J100: 1 | L100: 13 | M100: 4 | P100: 1 | Q100: 1 | R100: 5 | S100: 3 | W100: 10 | Y100: 3 | AD100: 1 | AE100: 8 | AO100: 2 | AP100: 5 | AQ100: 6 | AT100: 2 | AW100: 11 | AY100: 13 | BE100: 1 | BF100: 1 | BH100: 1 | BU100: 13 | BY100: 13 | BZ100: 26 | CA100: պ
A101: 6.5 | B101: Յուրացնելը կամ վատնելը | C101: 179 | I101: 2 | L101: 2 | R101: 1 | S101: 1 | W101: 2 | AD101: 2 | AP101: 2 | AW101: 2 | AY101: 2 | BU101: 2 | BY101: 2 | BZ101: 4 | CA101: պ
A102: 6.6 | B102: Առանձնակի արժեք ունեցող առարկաներ հափշտակելը | C102: 180
...

Sheet Արարատ 
A1: ՀԱՇՎԵՏՎՈՒԹՅՈՒՆ
A2: 2020թ. 1-ին կիսամյակի | C2: ԱՆՁԱՆՑ ՎԵՐԱԲԵՐՅԱԼ, ՈՐՈՆՑ ԿԱՊԱԿՑՈՒԹՅԱՄԲ ԿԱՅԱՑՎԱԾ ԴԱՏԱԿԱՆ ԱԿՏԵՐԸ ՄՏԵԼ ԵՆ ՕՐԻՆԱԿԱՆ ՈւԺԻ ՄԵՋ
A3: Վիճակագրական տողի համարը | B3: ՀԱՆՑԱԳՈՐԾՈՒԹՅՈՒՆՆԵՐԻ ՏԵՍԱԿՆԵՐԸ | C3: ՀՀ Քրեական օրենսգրքի հոդվածը | D3: Անձանց թիվը, որոնց վերաբերյալ գործերը կարճվել կամ քրեական հետապնդումը դադարեցվել է | G3: Անմեղսունակներ, որոնց նկատմամբ կիրառվել են բժշկական բնույթի հարկադրական միջոցներ | H3: Արդարացվածների թիվը | I3: Դատապարտյալների թիվը (ծանոթություն.Մեղադրյալը, որի վերաբերյալ կա օրինական ուժի մեջ մտած դատարանի դատավճիռ, որն ամբողջությամբ կամ մասնակիորեն մեղադրական է, կոչվում է դատապարտյալ) | O3: Դատապարտյալների նկատմամբ նշանակված հիմնական պատիժներ | AD3: նշանակված պատիժը պայմանականորեն չի կիրառվել | AE3: կիրառվել է համաներման ակտ | AF3: Լրացուցիչ պատիժներ | AI3: Օրենքով նախատեսվածից ավելի մեղմ պատիժ է նշանակվել | AJ3: Հանցանքը կատարվել է | AR3: Անձի զբաղմունքի տեսակը` նախքան դատապարտվելը | AY3: Անձի քաղաքացիությունը | BB3: Դատապարտվածների թիվը, որոնց նախկին դատվածությունը հանվել կամ մարվել է | BC3: Դատապարտյալների թիվը, որոնք ունեն չհանված կամ չմարված դատվածություն | BG3: Դրանցից (սյունակ 55) եղել են դատապարտված | BK3: Չհանված, չմարված դատվածությամբ դատապարտյալը պատժից ազատվել է | BO3: Նոր հանցագործությունը կատարել է պատիժը չկրած | BT3: Նոր հանցագործությունը կատարել է ազատազրկման վայրից ազատվելուց առաջին տարվա ընթացքում | BU3: Անձանց թիվը, որոնց վերաբերյալ հաշվետու տարվա ընթացքում քննվել են գործեր | BV3: Դատապարտյալը հանձնվել է վերադաստիրակման կամ հսկողության | BW3: Դատապարտյալի նկատմամբ նշանակվել է հարկադիր բուժում գինեմոլության դեմ | BX3: Դատապարտյալի նկատմամբ նշանակվել է հարկադիր բուժում թմրամոլության դեմ | BY3: Դատվածությունների շարժը
D4: Այդ թվում՝ հանցադեպի կամ հանցակազմի բացակայության և մեղադրանքի չապացուցված լինելու պատճառով | E4: այլ հիմքով | F4: Ընդամենը | I4: որից դատապարտվել են | L4: Ընդամենը(6,7,8 սյունակներ) | M4: Այդ թվում՝ կանայք | N4: Այդ թվում` անչափահասներ | O4: Ա զ ա տ ա զ ր կ ու մ | X4: հանրային աշխատանքներ | Y4: տուգանք | Z4: Որոշակի պաշտոններ զբաղ. կամ որոշակի գործ. զբաղվ. իրավ. զրկում | AA4: Կարգապահական գումարտակում պահելը | AB4: զին. Ծառայության մեջ սահմանափակում | AC4: կալանք | AF4: գույքի բռնագրավում | AG4: հատուկ կամ զին. կոչումից, կարգից, աստիճանից կամ որակավորման դասից զրկելը | AH4: որոշակի պաշտ. զբաղ. կամ որոշակի գործ.զբաղվ. իրավ. զրկում | AJ4: ալկ., թմրամիջ. կամ թնրեցնող այլ նյութերի ազդ. | AK4: Մի խումբ անձանց կազմում | AL4: Կազմակերպված խմբի կամ հանցավոր համագործակցության կազմում | AM4: 14-16 տարեկան հասակում | AN4: 16-18 տարեկան հասակում | AO4: 18-29 տարեկան հասակում | AP4: 30-49 տարեկան հասակում | AQ4: 50 տարեկան և բարձր | AR4: Պաշտոնատար անձինք | AS4: Զին. ծառայողներ | AT4: Այլ զբաղմունք | AU4: Սովորողներ | AW4: Չաշխատող և չսովորող աշխատունակներ | AX4: արգելանքի տակ գտնվող անձ | AY4: ՀՀ քաղաքացի | AZ4: Քաղաքացիություն չունեցող անձ | BA4: Օտարերկրյա պետության քաղաքացի | BC4: Մեկ դատվածություն | BD4: Երկու դատվածություն | BE4: Երեք և ավելի դատվածություն | BF4: Ընդամենը | BG4: Սպանության, դիտավորյամբ առողջությանը ծանր վնաս պատճառելու, բռնաբարության համար | BH4: Գույքի հափշտակության համար | BI4: Խուլիգանության համար | BJ4: այլ հանցագործությունների համար | BK4: Պատիժը կրել է լրիվ չափով | BL4: Պայմանական վաղաժամկետ | BM4: Համաներման ակտի կիրառմամբ | BN4: Այլ հիմքերով | BO4: Ազատազրկման վայրում | BP4: Այլ պատիժ կրելիս | BQ4: Դատավճռի կատարման հետաձգման ժամանակահատվածում | BR4: Փորձաշրջանի ընթացքում | BS4: Ընդամենը | BY4: Հաշվետու տարվա ընթացքում դատապարտված անձանց թիվը | BZ4: Հաշվետու տարվան նախորդող տարվա ընթացքում դատապարտված անձանց թիվը | CA4: ավելացել է պակասել է
B5: ՍՏՈՒԳԻՉ ՀԱՎԱՍԱՐՈՒՄՆԵՐ 3=1+2, 9=6+7+8, 20=12+13+14+15+16+17+18+19, 9=20+21+22+23+24+25+26 9=36+37+38+39+40, 9=41+42+43+44+45+46+47,9=48+49+50, 55=52+53+54,55=56+57+58+59, 68=64+65+66+67 | I5: Ավարտված հանցագործության համար | J5: Հանցափորձի համար(ՀՀ քր. օր-ի 34-րդ հոդ.) | K5: Հանցակցության համար(ՀՀ քր.օր-ի 38-րդ հոդ.) | O5: 1 տարի ներառյալ | P5: 1 տարուց ավել, մինչև 2 տարի ներառյալ | Q5: 2 տարուց ավել, մինչև 3 տարի ներառյալ | R5: 3 տարուց ավել, մինչև 5 տարի ներառյալ | S5: 5 տարուց ավել, մինչև 8 տարի ներառյալ | T5: 8 տարուց ավել, մինչև 10 տարի ներառյալ | U5: 10 տարուց ավել, մինչև 15 տարի ներառյալ | V5: ցմահ ազատազրկում | W5: ընդամենը | AU5: 18 տարեկանից ցածր | AV5: 18 տարեկանից բարձր
D6: 1 | E6: 2 | F6: 3 | G6: 4 | H6: 5 | I6: 6 | J6: 7 | K6: 8 | L6: 9 | M6: 10 | N6: 11 | O6: 12 | P6: 13 | Q6: 14 | R6: 15 | S6: 16 | T6: 17 | U6: 18 | V6: 19 | W6: 20 | X6: 21 | Y6: 22 | Z6: 23 | AA6: 24 | AB6: 25 | AC6: 26 | AD6: 27 | AE6: 28 | AF6: 29 | AG6: 30 | AH6: 31 | AI6: 32 | AJ6: 33 | AK6: 34 | AL6: 35 | AM6: 36 | AN6: 37 | AO6: 38 | AP6: 39 | AQ6: 40 | AR6: 41 | AS6: 42 | AT6: 43 | AU6: 44 | AV6: 45 | AW6: 46 | AX6: 47 | AY6: 48 | AZ6: 49 | BA6: 50 | BB6: 51 | BC6: 52 | BD6: 53 | BE6: 54 | BF6: 55 | BG6: 56 | BH6: 57 | BI6: 58 | BJ6: 59 | BK6: 60 | BL6: 61 | BM6: 62 | BN6: 63 | BO6: 64 | BP6: 65 | BQ6: 66 | BR6: 67 | BS6: 68 | BT6: 69 | BU6: 70 | BV6: 71 | BW6: 72 | BX6: 73 | BY6: 74 | BZ6: 75 | CA6: 76
A7: 1. | B7: Ընդամենը կյանքի և առողջության դեմ ուղղված հանցագործությունները | D7: =SUM(D8:D34) -> 0 | E7: =SUM(E8:E34) -> 4 | F7: =SUM(F8:F34) -> 4 | G7: =SUM(G8:G34) -> 0 | H7: =SUM(H8:H34) -> 0 | I7: =SUM(I8:I34) -> 6 | J7: =SUM(J8:J34) -> 0 | K7: =SUM(K8:K34) -> 0 | ... CA7: =SUM(CA8:CA34) -> 0
A8: 1.1 | B8: Սպանությունը | C8: 104 | BZ8: 1
A9: 1.2 | B9: Հոգեկան խիստ հուզմունքի վիճակում կատարված սպանությունը | C9: 105
A10: 1.3 | B10: Մոր կողմից նորածին երեխայի սպանությունը | C10: 106
A11: 1.4 | B11: Հանցանք կատարած անձին բռնելու համար անհրաժեշտ միջոցների սահմանազանցմամբ սպանությունը | C11: 107
A12: 1.5 | B12: Անհրաժեշտ պաշտպանության սահմանազանցմամբ սպանությունը | C12: 108
A13: 1.6 | B13: Անզգուշությամբ մահ պատճառելը | C13: 109
A14: 1.7 | B14: Ինքնասպանության հասցնելը | C14: 110
A15: 1.8 | B15: Ինքնասպանության հակելը | C15: 111
A16: 1.9 | B16: Դիտավորությամբ առողջությանը ծանր վնաս պատճառելը | C16: 112 | I16: 2 | L16: 2 | M16: 1 | R16: 1 | S16: 1 | W16: 2 | AJ16: 2 | AP16: 1 | AQ16: 1 | AT16: 2 | AY16: 2 | BU16: 2 | BY16: 2 | BZ16: 7
A17: 1.10 | B17: Դիտավորությամբ առողջությանը միջին ծանրության վնաս պատճառելը | C17: 113 | BZ17: 3
A18: 1.11 | B18: Հոգեկան խիստ հուզմունքի վիճակում առողջությանը ծանր կամ միջին ծանրության վնաս պատճառելը | C18: 114
A19: 1.12 | B19: Հանցանք կատարած անձին բռնելու համար անհրաժեշտ միջոցների սահմանզանցմամբ առողջությանը ծանր կամ միջին ծանրության վնաս պատճառելը | C19: 115
A20: 1.13 | B20: Առողջությանը ծանր կամ միջին ծանրության վնաս պատճառելը անհրաժեշտ պաշտպանության սահմանանազանցմամբ | C20: 116
A21: 1.14 | B21: Դիտավորությամբ առողջությանը թեթև վնաս պատճառելը | C21: 117 | BZ21: 1
A22: 1.15 | B22: Ծեծը | C22: 118 | E22: 3 | F22: 3 | I22: 4 | L22: 4 | Y22: 4 | AJ22: 2 | AP22: 4 | AT22: 1 | AW22: 3 | AY22: 4 | BU22: 7 | BY22: 4 | BZ22: 6
A23: 1.16 | B23: Ֆիզիկական ուժեղ ցավ կամ հոգեկան ուժեղ տառապանք պատճառելը | C23: 119 | E23: 1 | F23: 1 | BU23: 1
A24: 1.17 | B24: Անզգուշությամբ առողջությանը ծանր վնաս պատճառելը | C24: 120
A25: 1.18 | B25: Անզգուշությամբ առողջությանը միջին ծանրության վնաս պատճառելը | C25: 121
A26: 1.19 | B26: Ապօրինի աբորտ կատարելը | C26: 122
A27: 1.20 | B27: Մարդու իմունային անբավարարության վիրուսի հարուցիչով վարակելը | C27: 123
A28: 1.21 | B28: Վեներական հիվանդությամբ կամ այլ սեռավարակներով վարակելը | C28: 124
A29: 1.22 | B29: Փոխպատվաստման վիրահատություն կատարելու կանոնները խախտելը | C29: 125
A30: 1.24 | B30: Անձին առանց իր հանձնարարության բժշկական կամ գիտական փորձերի ենթարկելը | C30: 127
A31: 1.25 | B31: Վտանգի մեջ թողնելը | C31: 128
A32: 1.26 | B32: Հիվանդին օգնություն ցույց չտալը | C32: 129
A33: 1.27 | B33: Բժշկական օգնություն և սպասարկում իրականացնողների կողմից մասնագիտական պարտականությունները չկատարելը կամ ոչ պատշաճ կատարելը | C33: 130 | BZ33: 1
A34: 1.28 | B34: Այլ հանցագործություններ
A35: 2. | B35: Ընդամենը անձի ազատության, պատվի և արժանապատվության դեմ ուղղված հանցագործությունները | D35: =SUM(D36:D43) -> 0 | E35: =SUM(E36:E43) -> 0 | F35: =SUM(F36:F43) -> 0 | G35: =SUM(G36:G43) -> 0 | H35: =SUM(H36:H43) -> 0 | I35: =SUM(I36:I43) -> 0 | J35: =SUM(J36:J43) -> 0 | K35: =SUM(K36:K43) -> 0 | ... CA35: =SUM(CA36:CA43) -> 0
A36: 2.1 | B36: Մարդուն առևանգելը | C36: 131 | BZ36: 1
A37: 2.2 | B37: Մարդու թրաֆիքինգը կամ շահագործումը | C37: 132
A38: 2.2.2 | B38: Երեխայի կամ հոգեկան խանգարման հետևանքով իր արարքի բնույթն ու նշանակությունը գիտակցելու կամ դա ղեկավարելու հնարավորությունից զրկված անձի թրաֆիքինգը կամ շահագործումը | C38: 132.2
A39: 2.2.3 | B39: Շահագործման վիճակում գտնվող անձի ծառայությունից օգտվելը | C39: 132.3
A40: 2.3 | B40: Ազատությունից ապօրինի զրկելը | C40: 133
A41: 2.4 | B41: Հոգեբուժական հիվանդանոցում ապօրինի տեղավորելը կամ պահելը | C41: 134
A42: 2.7 | B42: Սպանության, առողջությանը ծանր վնաս պատճառելու կամ գույք ոչնչացնելու սպառնալիքը | C42: 137 | BZ42: 1
A43: 2.8 | B43: Այլ հանցագործություններ
A44: 3. | B44: Ընդամենը սեռական անձեռնմխելիության և սեռական ազատության դեմ ուղղված հանցագործությունները | D44: =SUM(D45:D50) -> 0 | E44: =SUM(E45:E50) -> 0 | F44: =SUM(F45:F50) -> 0 | G44: =SUM(G45:G50) -> 0 | H44: =SUM(H45:H50) -> 0 | I44: =SUM(I45:I50) -> 2 | J44: =SUM(J45:J50) -> 0 | K44: =SUM(K45:K50) -> 0 | ... CA44: =SUM(CA45:CA50) -> 0
A45: 3.1 | B45: Բռնաբարությունը | C45: 138
A46: 3.2 | B46: Սեքսուալ բնույթի բռնի գործողությունները | C46: 139
A47: 3.3 | B47: Սեռական հարաբերության կամ սեքսուալ բնույթի գործողություններին հարկադրելը | C47: 140
A48: 3.4 | B48: Սեռական հարաբերությունը տասնվեց տարին չլրացած անձի հետ կամ սեքսուալ բնույթի գործողություններ կատարելը տասնվեց տարին չլրացած անձի նկատմամբ | C48: 141 | I48: 2 | L48: 2 | R48: 2 | W48: 2 | AD48: 2 | AO48: 2 | AT48: 1 | AW48: 1 | AY48: 2 | BU48: 2 | BY48: 2 | BZ48: 4
A49: 3.5 | B49: Անառակաբարո գործողությունները | C49: 142
A50: 3.6 | B50: Այլ հանցագործություններ
A51: 4. | B51: Ընդամենը մարդու և քաղաքացու սահմանադրական իրավունքների և ազատությունների դեմ ուղղված հանցագործությունները | D51: =SUM(D52:D80) -> 0 | E51: =SUM(E52:E80) -> 0 | F51: =SUM(F52:F80) -> 0 | G51: =SUM(G52:G80) -> 0 | H51: =SUM(H52:H80) -> 0 | I51: =SUM(I52:I80) -> 0 | J51: =SUM(J52:J80) -> 0 | K51: =SUM(K52:K80) -> 0 | ... CA51: =SUM(CA52:CA80) -> 0
A52: 4.1 | B52: Մարդու և քաղաքացու իրավահավասարությունը խախտելը | C52: 143
A53: 4.2 | B53: Անձնական կամ ընտանեկան կյանքի մասին տեղեկություններ ապօրինի հավաքելը, պահելը, օգտագործելը կամ տարածելը | C53: 144
A54: 4.3 | B54: Բժշկական գաղտնիքը հրապարակելը | C54: 145
A55: 4.4 | B55: Նամակագրության, հեռախոսային խոսակցությունների, փոստային, հեռագրական կամ այլ հաղորդումների գաղտնիությունը խախտելը | C55: 146
A56: 4.5 | B56: Բնակարանի անձեռնմխելիությունը խախտելը | C56: 147
A57: 4.6 | B57: Անձին տեղեկություն ներկայացնելուց հրաժարվելը | C57: 148
A58: 4.7 | B58: Ընտրական իրավունքի իրականացմանը, ընտրական հանձնաժողովների աշխատանքներին կամ ընտրությանը մասնակցող անձանց լիազորությունների իրականացմանը խոչընդոտելը | C58: 149
A59: 4.8 | B59: Ընտրությունների կամ քվեարկության արդյունքները կեղծելը | C59: 150
A60: 4.10 | B60: Ընտրողների ցուցակները կազմելու, դրանք քաղաքացիներին և կուսակցություններին տրամադրելու կամ հրապարակելու կարգը խախտելը | C60: 152
A61: 4.11 | B61: Մեկից ավելի անգամ կամ այլ անձի փոխարեն քվեարկելը | C61: 153
A62: 4.12 | B62: Քվեարկության գաղտնիությունը խախտելը | C62: 154
A63: 4.13 | B63: Կեղծ ընտրական քվեաթերթիկներ կամ քվեարկության ծրարներ, դրոշմանիշեր, կտրոններ պատրաստելը կամ ակնհայտ կեղծ ընտրական քվեաթերթիկներ կամ քվեարկության ծրարներ, դրոշմանիշեր, կտրոններ հանձնելը կամ իրացնելը | C63: 154.1
... A79: 4.27 | B79: Լրագրողի մասնագիտական օրինական գործողությանը խոչընդոտելը | C79: 164
A80: 4.28 | B80: Այլ հանցագործություններ
A81: 5. | B81: Ընդամենը ընտանիքի և երեխայի շահերի դեմ ուղղված հանցագործությունները | D81: =SUM(D82:D95) -> 0 | E81: =SUM(E82:E95) -> 0 | F81: =SUM(F82:F95) -> 0 | G81: =SUM(G82:G95) -> 0 | H81: =SUM(H82:H95) -> 0 | I81: =SUM(I82:I95) -> 0 | J81: =SUM(J82:J95) -> 0 | K81: =SUM(K82:K95) -> 0 | ... CA81: =SUM(CA82:CA95) -> 0
A82: 5.1 | B82: Անչափահասին հանցանքի կատարմանը ներգրավելը | C82: 165
A83: 5.2 | B83: Երեխային պոռնկության կամ պոռնկագրական բնույթի նյութեր կամ առարկաներ պատրաստելու հետ կապված գործողություններ կատարելուն ներգրավելը | C83: 166
A84: 5.2.1 | B84: Երեխային ոգելից խմիչքների օգտագործմանը, ուժեղ ներգործող կամ այլ թմրեցնող նյութերի ոչ բժշկական օգտագործմանը, թափառաշրջիկությանը ներգրավելը կամ մուրացկանության հետ կապված գործողություններ կատարելուն ներգրավելը | C84: 166.1
A85: 5.3 | B85: Ծնողներից երեխային ապօրինի բաժանելը կամ երեխային փոխելը | C85: 167
A86: 5.4 | B86: Խնամքը ստանձնելու նպատակով երեխայի առքը կամ ստանձնողի խնամքին հանձնելու նպատակով երեխայի վաճառքը | C86: 168
A87: 5.5 | B87: Որդեգրման գաղտնիքը հրապարակելը կամ որդեգրման համաձայնություն տալուն հակելը կամ հարկադրելը | C87: 169
A88: 5.6 | B88: Քաղաքացիական կացության ակտերի գրանցման մարմիններին սուտ տեղեկություններ հաղորդելը | C88: 169.1
A89: 5.7 | B89: Երեխային դաստիարակելու պարտականությունը չկատարելը | C89: 170
A90: 5.8 | B90: Երեխայի կյանքի անվտանգության ապահովման կամ առողջության պահպանման պարտականությունը չկատարելը կամ ոչ պատշաճ կատարելը | C90: 171
A91: 5.8.1 | B91: Վերարտադրողականության օժանդակ տեխնոլոգիաներից օգտվելու կանոնները խախտելը | C91: 171.1
A92: 5.9 | B92: Խնամակալի կամ հոգաբարձուի իրավունքները չարաշահելը | C92: 172
A93: 5.10 | B93: Ծնողի կողմից երեխային պահելուց չարամտորեն խուսափելը | C93: 173
A94: 5.11 | B94: Զավակի կողմից անաշխատունակ ծնողին պահելուց չարամտորեն խուսափելը | C94: 174
A95: 5.12 | B95: Այլ հանցագործություններ
A96: 6. | B96: Ընդամենը սեփականության դեմ ուղղված հանցագործությունները | D96: =SUM(D97:D111) -> 0 | E96: =SUM(E97:E109) -> 1 | F96: =SUM(F97:F109) -> 1 | G96: =SUM(G97:G109) -> 0 | H96: =SUM(H97:H109) -> 0 | I96: =SUM(I97:I109) -> 10 | J96: =SUM(J97:J109) -> 1 | K96: =SUM(K97:K109) -> 0 | L96: =SUM(L97:L109) -> 11 | ... CA96: =SUM(CA97:CA109) -> 0
A97: 6.1 | B97: Ավազակությունը | C97: 175
A98: 6.2 | B98: Կողոպուտը | C98: 176 | BZ98: 3
A99: 6.3 | B99: Գողությունը | C99: 177 | E99: 1 | F99: 1 | I99: 5 | J99: 1 | L99: 6 | N99: 1 | P99: 1 | R99: 1 | S99: 3 | W99: 5 | Y99: 1 | AD99: 3 | AM99: 1 | AO99: 3 | AP99: 2 | AS99: 1 | AU99: 1 | AW99: 4 | AY99: 6 | BB99: 1 | BC99: 1 | BD99: 1 | BF99: 2 | BH99: 1 | BJ99: 1 | BU99: 7 | BY99: 6 | BZ99: 38
A100: 6.4 | B100: Խարդախությունը | C100: 178 | I100: 2 | L100: 2 | T100: 1 | W100: 1 | Y100: 1 | AP100: 1 | AQ100: 1 | AW100: 2 | AY100: 2 | BB100: 1 | BC100: 1 | BF100: 1 | BJ100: 1 | BU100: 2 | BY100: 2 | BZ100: 1
A101: 6.5 | B101: Յուրացնելը կամ վատնելը | C101: 179 | BZ101: 7
A102: 6.6 | B102: Առանձնակի արժեք ունեցող առարկաներ հափշտակելը | C102: 180
A103: 6.7 | B103: Հափշտակությունը, որը կատարվել է համակարգչային տեխնիկայի օգտագործմամբ | C103: 181
A104: 6.8 | B104: Շորթումը | C104: 182
A105: 6.9 | B105: Ավտոմեքենային կամ տրանսպորտային այլ միջոցին ապօրինաբար տիրանալն առանց հափշտակելու նպատակի | C105: 183
A106: 6.10 | B106: Գույքային վնաս պատճառելը խաբեության կամ վստահությունը չարաշահելու եղանակով | C106: 184
A107: 6.10.1 | B107: Գրավառուին վնաս պատճառելը | C107: 184.1 | I107: 1 | L107: 1 | O107: 1 | W107: 1 | AE107: 1 | AP107: 1 | AW107: 1 | AY107: 1 | BU107: 1 | BY107: 1
A108: 6.11 | B108: Գույքը դիտավորությամբ ոչնչացնելը կամ վնասելը | C108: 185 | I108: 2 | L108: 2 | M108: 1 | P108: 1 | W108: 1 | Y108: 1 | AD108: 1 | AP108: 2 | AT108: 1 | AW108: 1 | AY108: 2 | BU108: 2 | BY108: 2
A109: 6.12 | B109: Գույքն անզգուշությամբ ոչնչացնելը կամ վնասելը | C109: 186
A110: 6.13 | B110: Գուքի պահպանության պարտականություններն անփույթ կամ անբարեխիղճ կատարելը | C110: 186.1
A111: 6.14 | B111: Այլ հանցագործություններ
A112: 7. | B112: Ընդամենը տնտեսական գործունեության դեմ ուղղված հանցագործությունները | D112: =SUM(D113:D148) -> 0 | E112: =SUM(E113:E148) -> 0 | F112: =SUM(F113:F148) -> 0 | G112: =SUM(G113:G148) -> 0 | H112: =SUM(H113:H148) -> 0 | I112: =SUM(I113:I148) -> 0 | J112: =SUM(J113:J148) -> 0 | K112: =SUM(K113:K148) -> 0 | ... CA112: =SUM(CA113:CA148) -> 0
A113: 7.1 | B113: Օրինական ձեռնարկատիրական և այլ տնտեսական գործունեությանը խոչընդոտելը | C113: 187
A114: 7.2 | B114: Ապօրինի ձեռնարկատիրությունը | C114: 188
A115: 7.3 | B115: Առանց լիցենազիայի արտարժույթի վաճառքի իրականացումը | C115: 188.1
...

Sheet Շիրակ
A1: ՀԱՇՎԵՏՎՈՒԹՅՈՒՆ
A2: 2020թ. 1-ին կիսամյակի | C2: ԱՆՁԱՆՑ ՎԵՐԱԲԵՐՅԱԼ, ՈՐՈՆՑ ԿԱՊԱԿՑՈՒԹՅԱՄԲ ԿԱՅԱՑՎԱԾ ԴԱՏԱԿԱՆ ԱԿՏԵՐԸ ՄՏԵԼ ԵՆ ՕՐԻՆԱԿԱՆ ՈւԺԻ ՄԵՋ
A3: Վիճակագրական տողի համարը | B3: ՀԱՆՑԱԳՈՐԾՈՒԹՅՈՒՆՆԵՐԻ ՏԵՍԱԿՆԵՐԸ | C3: ՀՀ Քրեական օրենսգրքի հոդվածը | D3: Անձանց թիվը, որոնց վերաբերյալ գործերը կարճվել կամ քրեական հետապնդումը դադարեցվել է | G3: Անմեղսունակներ, որոնց նկատմամբ կիրառվել են բժշկական բնույթի հարկադրական միջոցներ | H3: Արդարացվածների թիվը | I3: Դատապարտյալների թիվը (ծանոթություն.Մեղադրյալը, որի վերաբերյալ կա օրինական ուժի մեջ մտած դատարանի դատավճիռ, որն ամբողջությամբ կամ մասնակիորեն մեղադրական է, կոչվում է դատապարտյալ) | O3: Դատապարտյալների նկատմամբ նշանակված հիմնական պատիժներ | AD3: նշանակված պատիժը պայմանականորեն չի կիրառվել | AE3: կիրառվել է համաներման ակտ | AF3: Լրացուցիչ պատիժներ | AI3: Օրենքով նախատեսվածից ավելի մեղմ պատիժ է նշանակվել | AJ3: Հանցանքը կատարվել է | AR3: Անձի զբաղմունքի տեսակը` նախքան դատապարտվելը | AY3: Անձի քաղաքացիությունը | BB3: Դատապարտվածների թիվը, որոնց նախկին դատվածությունը հանվել կամ մարվել է | BC3: Դատապարտյալների թիվը, որոնք ունեն չհանված կամ չմարված դատվածություն | BG3: Դրանցից (սյունակ 55) եղել են դատապարտված | BK3: Չհանված, չմարված դատվածությամբ դատապարտյալը պատժից ազատվել է | BO3: Նոր հանցագործությունը կատարել է պատիժը չկրած | BT3: Նոր հանցագործությունը կատարել է ազատազրկման վայրից ազատվելուց առաջին տարվա ընթացքում | BU3: Անձանց թիվը, որոնց վերաբերյալ հաշվետու տարվա ընթացքում քննվել են գործեր | BV3: Դատապարտյալը հանձնվել է վերադաստիրակման կամ հսկողության | BW3: Դատապարտյալի նկատմամբ նշանակվել է հարկադիր բուժում գինեմոլության դեմ | BX3: Դատապարտյալի նկատմամբ նշանակվել է հարկադիր բուժում թմրամոլության դեմ | BY3: Դատվածությունների շարժը
D4: Այդ թվում՝ հանցադեպի կամ հանցակազմի բացակայության և մեղադրանքի չապացուցված լինելու պատճառով | E4: այլ հիմքով | F4: Ընդամենը | I4: որից դատապարտվել են | L4: Ընդամենը(6,7,8 սյունակներ) | M4: Այդ թվում՝ կանայք | N4: Այդ թվում` անչափահասներ | O4: Ա զ ա տ ա զ ր կ ու մ | X4: հանրային աշխատանքներ | Y4: տուգանք | Z4: Որոշակի պաշտոններ զբաղ. կամ որոշակի գործ. զբաղվ. իրավ. զրկում | AA4: Կարգապահական գումարտակում պահելը | AB4: զին. Ծառայության մեջ սահմանափակում | AC4: կալանք | AF4: գույքի բռնագրավում | AG4: հատուկ կամ զին. կոչումից, կարգից, աստիճանից կամ որակավորման դասից զրկելը | AH4: որոշակի պաշտ. զբաղ. կամ որոշակի գործ.զբաղվ. իրավ. զրկում | AJ4: ալկ., թմրամիջ. կամ թնրեցնող այլ նյութերի ազդ. | AK4: Մի խումբ անձանց կազմում | AL4: Կազմակերպված խմբի կամ հանցավոր համագործակցության կազմում | AM4: 14-16 տարեկան հասակում | AN4: 16-18 տարեկան հասակում | AO4: 18-29 տարեկան հասակում | AP4: 30-49 տարեկան հասակում | AQ4: 50 տարեկան և բարձր | AR4: Պաշտոնատար անձինք | AS4: Զին. ծառայողներ | AT4: Այլ զբաղմունք | AU4: Սովորողներ | AW4: Չաշխատող և չսովորող աշխատունակներ | AX4: արգելանքի տակ գտնվող անձ | AY4: ՀՀ քաղաքացի | AZ4: Քաղաքացիություն չունեցող անձ | BA4: Օտարերկրյա պետության քաղաքացի | BC4: Մեկ դատվածություն | BD4: Երկու դատվածություն | BE4: Երեք և ավելի դատվածություն | BF4: Ընդամենը | BG4: Սպանության, դիտավորյամբ առողջությանը ծանր վնաս պատճառելու, բռնաբարության համար | BH4: Գույքի հափշտակության համար | BI4: Խուլիգանության համար | BJ4: այլ հանցագործությունների համար | BK4: Պատիժը կրել է լրիվ չափով | BL4: Պայմանական վաղաժամկետ | BM4: Համաներման ակտի կիրառմամբ | BN4: Այլ հիմքերով | BO4: Ազատազրկման վայրում | BP4: Այլ պատիժ կրելիս | BQ4: Դատավճռի կատարման հետաձգման ժամանակահատվածում | BR4: Փորձաշրջանի ընթացքում | BS4: Ընդամենը | BY4: Հաշվետու տարվա ընթացքում դատապարտված անձանց թիվը | BZ4: Հաշվետու տարվան նախորդող տարվա ընթացքում դատապարտված անձանց թիվը | CA4: ավելացել է պակասել է
B5: ՍՏՈՒԳԻՉ ՀԱՎԱՍԱՐՈՒՄՆԵՐ 3=1+2, 9=6+7+8, 20=12+13+14+15+16+17+18+19, 9=20+21+22+23+24+25+26 9=36+37+38+39+40, 9=41+42+43+44+45+46+47,9=48+49+50, 55=52+53+54,55=56+57+58+59, 68=64+65+66+67 | I5: Ավարտված հանցագործության համար | J5: Հանցափորձի համար (ՀՀ քր. օր-ի 34-րդ հոդ.) | K5: Հանցակցության համար(ՀՀ քր.օր-ի 38-րդ հոդ.) | O5: 1 տարի ներառյալ | P5: 1 տարուց ավել, մինչև 2 տարի ներառյալ | Q5: 2 տարուց ավել, մինչև 3 տարի ներառյալ | R5: 3 տարուց ավել, մինչև 5 տարի ներառյալ | S5: 5 տարուց ավել, մինչև 8 տարի ներառյալ | T5: 8 տարուց ավել, մինչև 10 տարի ներառյալ | U5: 10 տարուց ավել, մինչև 15 տարի ներառյալ | V5: ցմահ ազատազրկում | W5: ընդամենը | AU5: 18 տարեկանից ցածր | AV5: 18 տարեկանից բարձր
D6: 1 | E6: 2 | F6: 3 | G6: 4 | H6: 5 | I6: 6 | J6: 7 | K6: 8 | L6: 9 | M6: 10 | N6: 11 | O6: 12 | P6: 13 | Q6: 14 | R6: 15 | S6: 16 | T6: 17 | U6: 18 | V6: 19 | W6: 20 | X6: 21 | Y6: 22 | Z6: 23 | AA6: 24 | AB6: 25 | AC6: 26 | AD6: 27 | AE6: 28 | AF6: 29 | AG6: 30 | AH6: 31 | AI6: 32 | AJ6: 33 | AK6: 34 | AL6: 35 | AM6: 36 | AN6: 37 | AO6: 38 | AP6: 39 | AQ6: 40 | AR6: 41 | AS6: 42 | AT6: 43 | AU6: 44 | AV6: 45 | AW6: 46 | AX6: 47 | AY6: 48 | AZ6: 49 | BA6: 50 | BB6: 51 | BC6: 52 | BD6: 53 | BE6: 54 | BF6: 55 | BG6: 56 | BH6: 57 | BI6: 58 | BJ6: 59 | BK6: 60 | BL6: 61 | BM6: 62 | BN6: 63 | BO6: 64 | BP6: 65 | BQ6: 66 | BR6: 67 | BS6: 68 | BT6: 69 | BU6: 70 | BV6: 71 | BW6: 72 | BX6: 73 | BY6: 74 | BZ6: 75 | CA6: 76
A7: 1. | B7: Ընդամենը կյանքի և առողջության դեմ ուղղված հանցագործությունները | D7: =SUM(D8:D34) -> 0 | E7: =SUM(E8:E34) -> 2 | F7: =SUM(F8:F34) -> 2 | G7: =SUM(G8:G34) -> 0 | H7: =SUM(H8:H34) -> 0 | I7: =SUM(I8:I34) -> 9 | J7: =SUM(J8:J34) -> 0 | K7: =SUM(K8:K34) -> 0 | ... CA7: =SUM(CA8:CA34) -> -4
A8: 1.1 | B8: Սպանությունը | C8: 104 | L8: =+I8+J8+K8 -> 0 | W8: =+V8+U8+T8+S8+R8+Q8+P8+O8 -> 0 | BF8: =+BC8+BD8+BE8 -> 0 | BS8: =+BO8+BP8+BQ8+BR8 -> 0 | BZ8: 4 | CA8: =+BY8-BZ8 -> -4
A9: 1.2 | B9: Հոգեկան խիստ հուզմունքի վիճակում կատարված սպանությունը | C9: 105 | L9: =+I9+J9+K9 -> 0 | W9: =+V9+U9+T9+S9+R9+Q9+P9+O9 -> 0 | BF9: =+BC9+BD9+BE9 -> 0 | BS9: =+BO9+BP9+BQ9+BR9 -> 0 | BY9: 0 | BZ9: 0 | CA9: =+BY9-BZ9 -> 0
A10: 1.3 | B10: Մոր կողմից նորածին երեխայի սպանությունը | C10: 106 | L10: =+I10+J10+K10 -> 0 | W10: =+V10+U10+T10+S10+R10+Q10+P10+O10 -> 0 | BF10: =+BC10+BD10+BE10 -> 0 | BS10: =+BO10+BP10+BQ10+BR10 -> 0 | CA10: =+BY10-BZ10 -> 0
A11: 1.4 | B11: Հանցանք կատարած անձին բռնելու համար անհրաժեշտ միջոցների սահմանազանցմամբ սպանությունը | C11: 107 | L11: =+I11+J11+K11 -> 0 | W11: =+V11+U11+T11+S11+R11+Q11+P11+O11 -> 0 | BF11: =+BC11+BD11+BE11 -> 0 | BS11: =+BO11+BP11+BQ11+BR11 -> 0 | CA11: =+BY11-BZ11 -> 0
A12: 1.5 | B12: Անհրաժեշտ պաշտպանության սահմանազանցմամբ սպանությունը | C12: 108 | L12: =+I12+J12+K12 -> 0 | W12: =+V12+U12+T12+S12+R12+Q12+P12+O12 -> 0 | BF12: =+BC12+BD12+BE12 -> 0 | BS12: =+BO12+BP12+BQ12+BR12 -> 0 | BZ12: 1 | CA12: =+BY12-BZ12 -> -1
A13: 1.6 | B13: Անզգուշությամբ մահ պատճառելը | C13: 109 | L13: =+I13+J13+K13 -> 0 | W13: =+V13+U13+T13+S13+R13+Q13+P13+O13 -> 0 | BF13: =+BC13+BD13+BE13 -> 0 | BS13: =+BO13+BP13+BQ13+BR13 -> 0 | CA13: =+BY13-BZ13 -> 0
A14: 1.7 | B14: Ինքնասպանության հասցնելը | C14: 110 | L14: =+I14+J14+K14 -> 0 | W14: =+V14+U14+T14+S14+R14+Q14+P14+O14 -> 0 | BF14: =+BC14+BD14+BE14 -> 0 | BS14: =+BO14+BP14+BQ14+BR14 -> 0 | CA14: =+BY14-BZ14 -> 0
A15: 1.8 | B15: Ինքնասպանության հակելը | C15: 111 | L15: =+I15+J15+K15 -> 0 | W15: =+V15+U15+T15+S15+R15+Q15+P15+O15 -> 0 | BF15: =+BC15+BD15+BE15 -> 0 | BS15: =+BO15+BP15+BQ15+BR15 -> 0 | CA15: =+BY15-BZ15 -> 0
A16: 1.9 | B16: Դիտավորությամբ առողջությանը ծանր վնաս պատճառելը | C16: 112 | I16: 4 | L16: =+I16+J16+K16 -> 4 | N16: 1 | Q16: 3 | R16: 1 | W16: =+V16+U16+T16+S16+R16+Q16+P16+O16 -> 4 | AD16: 2 | AE16: 1 | AM16: 1 | AO16: 1 | AP16: 1 | AQ16: 1 | AT16: 1 | AU16: 1 | AW16: 2 | AY16: 3 | BA16: 1 | BB16: 1 | BF16: =+BC16+BD16+BE16 -> 0 | BS16: =+BO16+BP16+BQ16+BR16 -> 0 | BY16: 4 | BZ16: 7 | CA16: =+BY16-BZ16 -> -3
A17: 1.10 | B17: Դիտավորությամբ առողջությանը միջին ծանրության վնաս պատճառելը | C17: 113 | L17: =+I17+J17+K17 -> 0 | W17: =+V17+U17+T17+S17+R17+Q17+P17+O17 -> 0 | BF17: =+BC17+BD17+BE17 -> 0 | BS17: =+BO17+BP17+BQ17+BR17 -> 0 | BY17: 0 | BZ17: 0 | CA17: =+BY17-BZ17 -> 0
A18: 1.11 | B18: Հոգեկան խիստ հուզմունքի վիճակում առողջությանը ծանր կամ միջին ծանրության վնաս պատճառելը | C18: 114 | L18: =+I18+J18+K18 -> 0 | W18: =+V18+U18+T18+S18+R18+Q18+P18+O18 -> 0 | BF18: =+BC18+BD18+BE18 -> 0 | BS18: =+BO18+BP18+BQ18+BR18 -> 0 | BY18: 0 | BZ18: 0 | CA18: =+BY18-BZ18 -> 0
A19: 1.12 | B19: Հանցանք կատարած անձին բռնելու համար անհրաժեշտ միջոցների սահմանզանցմամբ առողջությանը ծանր կամ միջին ծանրության վնաս պատճառելը | C19: 115 | L19: =+I19+J19+K19 -> 0 | W19: =+V19+U19+T19+S19+R19+Q19+P19+O19 -> 0 | BF19: =+BC19+BD19+BE19 -> 0 | BS19: =+BO19+BP19+BQ19+BR19 -> 0 | BY19: 0 | BZ19: 0 | CA19: =+BY19-BZ19 -> 0
A20: 1.13 | B20: Առողջությանը ծանր կամ միջին ծանրության վնաս պատճառելը անհրաժեշտ պաշտպանության սահմանանազանցմամբ | C20: 116 | L20: =+I20+J20+K20 -> 0 | W20: =+V20+U20+T20+S20+R20+Q20+P20+O20 -> 0 | BF20: =+BC20+BD20+BE20 -> 0 | BS20: =+BO20+BP20+BQ20+BR20 -> 0 | BY20: 0 | BZ20: 0 | CA20: =+BY20-BZ20 -> 0
A21: 1.14 | B21: Դիտավորությամբ առողջությանը թեթև վնաս պատճառելը | C21: 117 | I21: 2 | L21: =+I21+J21+K21 -> 2 | W21: =+V21+U21+T21+S21+R21+Q21+P21+O21 -> 0 | Y21: 2 | AP21: 1 | AQ21: 1 | AT21: 1 | AW21: 1 | AY21: 2 | BF21: =+BC21+BD21+BE21 -> 0 | BS21: =+BO21+BP21+BQ21+BR21 -> 0 | BY21: 2 | BZ21: 0 | CA21: =+BY21-BZ21 -> 2
A22: 1.15 | B22: Ծեծը | C22: 118 | E22: 2 | F22: 2 | I22: 2 | L22: =+I22+J22+K22 -> 2 | W22: =+V22+U22+T22+S22+R22+Q22+P22+O22 -> 0 | Y22: 2 | AO22: 1 | AQ22: 1 | AW22: 2 | AY22: 2 | BC22: 1 | BF22: =+BC22+BD22+BE22 -> 1 | BJ22: 1 | BN22: 1 | BS22: =+BO22+BP22+BQ22+BR22 -> 0 | BT22: 1 | BY22: 2 | BZ22: 1 | CA22: =+BY22-BZ22 -> 1
A23: 1.16 | B23: Ֆիզիկական ուժեղ ցավ կամ հոգեկան ուժեղ տառապանք պատճառելը | C23: 119 | I23: 1 | L23: =+I23+J23+K23 -> 1 | P23: 1 | W23: =+V23+U23+T23+S23+R23+Q23+P23+O23 -> 1 | AD23: 1 | AP23: 1 | AW23: 1 | AY23: 1 | BF23: =+BC23+BD23+BE23 -> 0 | BS23: =+BO23+BP23+BQ23+BR23 -> 0 | BY23: 1 | BZ23: 0 | CA23: =+BY23-BZ23 -> 1
A24: 1.17 | B24: Անզգուշությամբ առողջությանը ծանր վնաս պատճառելը | C24: 120 | L24: =+I24+J24+K24 -> 0 | W24: =+V24+U24+T24+S24+R24+Q24+P24+O24 -> 0 | BF24: =+BC24+BD24+BE24 -> 0 | BS24: =+BO24+BP24+BQ24+BR24 -> 0 | BY24: 0 | BZ24: 0 | CA24: =+BY24-BZ24 -> 0
A25: 1.18 | B25: Անզգուշությամբ առողջությանը միջին ծանրության վնաս պատճառելը | C25: 121 | L25: =+I25+J25+K25 -> 0 | W25: =+V25+U25+T25+S25+R25+Q25+P25+O25 -> 0 | BF25: =+BC25+BD25+BE25 -> 0 | BS25: =+BO25+BP25+BQ25+BR25 -> 0 | BY25: 0 | BZ25: 0 | CA25: =+BY25-BZ25 -> 0
A26: 1.19 | B26: Ապօրինի աբորտ կատարելը | C26: 122 | L26: =+I26+J26+K26 -> 0 | W26: =+V26+U26+T26+S26+R26+Q26+P26+O26 -> 0 | BF26: =+BC26+BD26+BE26 -> 0 | BS26: =+BO26+BP26+BQ26+BR26 -> 0 | BY26: 0 | BZ26: 0 | CA26: =+BY26-BZ26 -> 0
A27: 1.20 | B27: Մարդու իմունային անբավարարության վիրուսի հարուցիչով վարակելը | C27: 123 | L27: =+I27+J27+K27 -> 0 | W27: =+V27+U27+T27+S27+R27+Q27+P27+O27 -> 0 | BF27: =+BC27+BD27+BE27 -> 0 | BS27: =+BO27+BP27+BQ27+BR27 -> 0 | BY27: 0 | BZ27: 0 | CA27: =+BY27-BZ27 -> 0
A28: 1.21 | B28: Վեներական հիվանդությամբ կամ այլ սեռավարակներով վարակելը | C28: 124 | L28: =+I28+J28+K28 -> 0 | W28: =+V28+U28+T28+S28+R28+Q28+P28+O28 -> 0 | BF28: =+BC28+BD28+BE28 -> 0 | BS28: =+BO28+BP28+BQ28+BR28 -> 0 | BY28: 0 | BZ28: 0 | CA28: =+BY28-BZ28 -> 0
A29: 1.22 | B29: Փոխպատվաստման վիրահատություն կատարելու կանոնները խախտելը | C29: 125 | L29: =+I29+J29+K29 -> 0 | W29: =+V29+U29+T29+S29+R29+Q29+P29+O29 -> 0 | BF29: =+BC29+BD29+BE29 -> 0 | BS29: =+BO29+BP29+BQ29+BR29 -> 0 | BY29: 0 | BZ29: 0 | CA29: =+BY29-BZ29 -> 0
A30: 1.24 | B30: Անձին առանց իր հանձնարարության բժշկական կամ գիտական փորձերի ենթարկելը | C30: 127 | L30: =+I30+J30+K30 -> 0 | W30: =+V30+U30+T30+S30+R30+Q30+P30+O30 -> 0 | BF30: =+BC30+BD30+BE30 -> 0 | BS30: =+BO30+BP30+BQ30+BR30 -> 0 | BY30: 0 | BZ30: 0 | CA30: =+BY30-BZ30 -> 0
A31: 1.25 | B31: Վտանգի մեջ թողնելը | C31: 128 | L31: =+I31+J31+K31 -> 0 | W31: =+V31+U31+T31+S31+R31+Q31+P31+O31 -> 0 | BF31: =+BC31+BD31+BE31 -> 0 | BS31: =+BO31+BP31+BQ31+BR31 -> 0 | BY31: 0 | BZ31: 0 | CA31: =+BY31-BZ31 -> 0
A32: 1.26 | B32: Հիվանդին օգնություն ցույց չտալը | C32: 129 | L32: =+I32+J32+K32 -> 0 | W32: =+V32+U32+T32+S32+R32+Q32+P32+O32 -> 0 | BF32: =+BC32+BD32+BE32 -> 0 | BS32: =+BO32+BP32+BQ32+BR32 -> 0 | BY32: 0 | BZ32: 0 | CA32: =+BY32-BZ32 -> 0
A33: 1.27 | B33: Բժշկական օգնություն և սպասարկում իրականացնողների կողմից մասնագիտական պարտականությունները չկատարելը կամ ոչ պատշաճ կատարելը | C33: 130 | L33: =+I33+J33+K33 -> 0 | W33: =+V33+U33+T33+S33+R33+Q33+P33+O33 -> 0 | BF33: =+BC33+BD33+BE33 -> 0 | BS33: =+BO33+BP33+BQ33+BR33 -> 0 | BY33: 0 | BZ33: 0 | CA33: =+BY33-BZ33 -> 0
A34: 1.28 | B34: Այլ հանցագործություններ | L34: =+I34+J34+K34 -> 0 | W34: =+V34+U34+T34+S34+R34+Q34+P34+O34 -> 0 | BF34: =+BC34+BD34+BE34 -> 0 | BS34: =+BO34+BP34+BQ34+BR34 -> 0 | BY34: 0 | BZ34: 0 | CA34: =+BY34-BZ34 -> 0
A35: 2. | B35: Ընդամենը անձի ազատության, պատվի և արժանապատվության դեմ ուղղված հանցագործությունները | D35: =SUM(D36:D43) -> 0 | E35: =SUM(E36:E43) -> 0 | F35: =SUM(F36:F43) -> 0 | G35: =SUM(G36:G43) -> 0 | H35: =SUM(H36:H43) -> 0 | I35: =SUM(I36:I43) -> 2 | J35: =SUM(J36:J43) -> 0 | K35: =SUM(K36:K43) -> 0 | ... CA35: =SUM(CA36:CA43) -> -2
A36: 2.1 | B36: Մարդուն առևանգելը | C36: 131 | I36: 2 | L36: =+I36+J36+K36 -> 2 | Q36: 1 | R36: 1 | W36: =+V36+U36+T36+S36+R36+Q36+P36+O36 -> 2 | AD36: 2 | AO36: 2 | AT36: 1 | AW36: 1 | AY36: 2 | BF36: =+BC36+BD36+BE36 -> 0 | BS36: =+BO36+BP36+BQ36+BR36 -> 0 | BY36: 2 | BZ36: 4 | CA36: =+BY36-BZ36 -> -2
A37: 2.2 | B37: Մարդու թրաֆիքինգը կամ շահագործումը | C37: 132 | L37: =+I37+J37+K37 -> 0 | W37: =+V37+U37+T37+S37+R37+Q37+P37+O37 -> 0 | BF37: =+BC37+BD37+BE37 -> 0 | BS37: =+BO37+BP37+BQ37+BR37 -> 0 | BY37: 0 | BZ37: 0 | CA37: =+BY37-BZ37 -> 0
A38: 2.2.2 | B38: Երեխայի կամ հոգեկան խանգարման հետևանքով իր արարքի բնույթն ու նշանակությունը գիտակցելու կամ դա ղեկավարելու հնարավորությունից զրկված անձի թրաֆիքինգը կամ շահագործումը | C38: 132.2 | L38: =+I38+J38+K38 -> 0 | W38: =+V38+U38+T38+S38+R38+Q38+P38+O38 -> 0 | BF38: =+BC38+BD38+BE38 -> 0 | BS38: =+BO38+BP38+BQ38+BR38 -> 0 | BY38: 0 | BZ38: 0 | CA38: =+BY38-BZ38 -> 0
A39: 2.2.3 | B39: Շահագործման վիճակում գտնվող անձի ծառայությունից օգտվելը | C39: 132.3 | L39: =+I39+J39+K39 -> 0 | W39: =+V39+U39+T39+S39+R39+Q39+P39+O39 -> 0 | BF39: =+BC39+BD39+BE39 -> 0 | BS39: =+BO39+BP39+BQ39+BR39 -> 0 | BY39: 0 | BZ39: 0 | CA39: =+BY39-BZ39 -> 0
A40: 2.3 | B40: Ազատությունից ապօրինի զրկելը | C40: 133 | L40: =+I40+J40+K40 -> 0 | W40: =+V40+U40+T40+S40+R40+Q40+P40+O40 -> 0 | BF40: =+BC40+BD40+BE40 -> 0 | BS40: =+BO40+BP40+BQ40+BR40 -> 0 | BY40: 0 | BZ40: 0 | CA40: =+BY40-BZ40 -> 0
A41: 2.4 | B41: Հոգեբուժական հիվանդանոցում ապօրինի տեղավորելը կամ պահելը | C41: 134 | L41: =+I41+J41+K41 -> 0 | W41: =+V41+U41+T41+S41+R41+Q41+P41+O41 -> 0 | BF41: =+BC41+BD41+BE41 -> 0 | BS41: =+BO41+BP41+BQ41+BR41 -> 0 | BY41: 0 | BZ41: 0 | CA41: =+BY41-BZ41 -> 0
A42: 2.7 | B42: Սպանության, առողջությանը ծանր վնաս պատճառելու կամ գույք ոչնչացնելու սպառնալիքը | C42: 137 | L42: =+I42+J42+K42 -> 0 | W42: =+V42+U42+T42+S42+R42+Q42+P42+O42 -> 0 | BF42: =+BC42+BD42+BE42 -> 0 | BS42: =+BO42+BP42+BQ42+BR42 -> 0 | BY42: 0 | BZ42: 0 | CA42: =+BY42-BZ42 -> 0
A43: 2.8 | B43: Այլ հանցագործություններ | L43: =+I43+J43+K43 -> 0 | W43: =+V43+U43+T43+S43+R43+Q43+P43+O43 -> 0 | BF43: =+BC43+BD43+BE43 -> 0 | BS43: =+BO43+BP43+BQ43+BR43 -> 0 | BY43: 0 | BZ43: 0 | CA43: =+BY43-BZ43 -> 0
A44: 3. | B44: Ընդամենը սեռական անձեռնմխելիության և սեռական ազատության դեմ ուղղված հանցագործությունները | D44: =SUM(D45:D50) -> 0 | E44: =SUM(E45:E50) -> 0 | F44: =SUM(F45:F50) -> 0 | G44: =SUM(G45:G50) -> 0 | H44: =SUM(H45:H50) -> 0 | I44: =SUM(I45:I50) -> 0 | J44: =SUM(J45:J50) -> 0 | K44: =SUM(K45:K50) -> 0 | ... CA44: =SUM(CA45:CA50) -> -1
A45: 3.1 | B45: Բռնաբարությունը | C45: 138 | L45: =+I45+J45+K45 -> 0 | W45: =+V45+U45+T45+S45+R45+Q45+P45+O45 -> 0 | BF45: =+BC45+BD45+BE45 -> 0 | BS45: =+BO45+BP45+BQ45+BR45 -> 0 | BZ45: 1 | CA45: =+BY45-BZ45 -> -1
A46: 3.2 | B46: Սեքսուալ բնույթի բռնի գործողությունները | C46: 139 | L46: =+I46+J46+K46 -> 0 | W46: =+V46+U46+T46+S46+R46+Q46+P46+O46 -> 0 | BF46: =+BC46+BD46+BE46 -> 0 | BS46: =+BO46+BP46+BQ46+BR46 -> 0 | BY46: 0 | BZ46: 0 | CA46: =+BY46-BZ46 -> 0
A47: 3.3 | B47: Սեռական հարաբերության կամ սեքսուալ բնույթի գործողություններին հարկադրելը | C47: 140 | L47: =+I47+J47+K47 -> 0 | W47: =+V47+U47+T47+S47+R47+Q47+P47+O47 -> 0 | BF47: =+BC47+BD47+BE47 -> 0 | BS47: =+BO47+BP47+BQ47+BR47 -> 0 | BY47: 0 | BZ47: 0 | CA47: =+BY47-BZ47 -> 0
A48: 3.4 | B48: Սեռական հարաբերությունը տասնվեց տարին չլրացած անձի հետ կամ սեքսուալ բնույթի գործողություններ կատարելը տասնվեց տարին չլրացած անձի նկատմամբ | C48: 141 | L48: =+I48+J48+K48 -> 0 | W48: =+V48+U48+T48+S48+R48+Q48+P48+O48 -> 0 | BF48: =+BC48+BD48+BE48 -> 0 | BS48: =+BO48+BP48+BQ48+BR48 -> 0 | BY48: 0 | BZ48: 0 | CA48: =+BY48-BZ48 -> 0
A49: 3.5 | B49: Անառակաբարո գործողությունները | C49: 142 | L49: =+I49+J49+K49 -> 0 | W49: =+V49+U49+T49+S49+R49+Q49+P49+O49 -> 0 | BF49: =+BC49+BD49+BE49 -> 0 | BS49: =+BO49+BP49+BQ49+BR49 -> 0 | BY49: 0 | BZ49: 0 | CA49: =+BY49-BZ49 -> 0
A50: 3.6 | B50: Այլ հանցագործություններ | L50: =+I50+J50+K50 -> 0 | W50: =+V50+U50+T50+S50+R50+Q50+P50+O50 -> 0 | BF50: =+BC50+BD50+BE50 -> 0 | BS50: =+BO50+BP50+BQ50+BR50 -> 0 | BY50: 0 | BZ50: 0 | CA50: =+BY50-BZ50 -> 0
A51: 4. | B51: Ընդամենը մարդու և քաղաքացու սահմանադրական իրավունքների և ազատությունների դեմ ուղղված հանցագործությունները | D51: =SUM(D52:D80) -> 0 | E51: =SUM(E52:E80) -> 0 | F51: =SUM(F52:F80) -> 0 | G51: =SUM(G52:G80) -> 0 | H51: =SUM(H52:H80) -> 0 | I51: =SUM(I52:I80) -> 0 | J51: =SUM(J52:J80) -> 0 | K51: =SUM(K52:K80) -> 0 | ... CA51: =SUM(CA52:CA80) -> -1
A52: 4.1 | B52: Մարդու և քաղաքացու իրավահավասարությունը խախտելը | C52: 143 | L52: =+I52+J52+K52 -> 0 | W52: =+V52+U52+T52+S52+R52+Q52+P52+O52 -> 0 | BF52: =+BC52+BD52+BE52 -> 0 | BS52: =+BO52+BP52+BQ52+BR52 -> 0 | CA52: =+BY52-BZ52 -> 0
A53: 4.2 | B53: Անձնական կամ ընտանեկան կյանքի մասին տեղեկություններ ապօրինի հավաքելը, պահելը, օգտագործելը կամ տարածելը | C53: 144 | L53: =+I53+J53+K53 -> 0 | W53: =+V53+U53+T53+S53+R53+Q53+P53+O53 -> 0 | BF53: =+BC53+BD53+BE53 -> 0 | BS53: =+BO53+BP53+BQ53+BR53 -> 0 | CA53: =+BY53-BZ53 -> 0
A54: 4.3 | B54: Բժշկական գաղտնիքը հրապարակելը | C54: 145 | L54: =+I54+J54+K54 -> 0 | W54: =+V54+U54+T54+S54+R54+Q54+P54+O54 -> 0 | BF54: =+BC54+BD54+BE54 -> 0 | BS54: =+BO54+BP54+BQ54+BR54 -> 0 | CA54: =+BY54-BZ54 -> 0
A55: 4.4 | B55: Նամակագրության, հեռախոսային խոսակցությունների, փոստային, հեռագրական կամ այլ հաղորդումների գաղտնիությունը խախտելը | C55: 146 | L55: =+I55+J55+K55 -> 0 | W55: =+V55+U55+T55+S55+R55+Q55+P55+O55 -> 0 | BF55: =+BC55+BD55+BE55 -> 0 | BS55: =+BO55+BP55+BQ55+BR55 -> 0 | CA55: =+BY55-BZ55 -> 0
A56: 4.5 | B56: Բնակարանի անձեռնմխելիությունը խախտելը | C56: 147 | L56: =+I56+J56+K56 -> 0 | W56: =+V56+U56+T56+S56+R56+Q56+P56+O56 -> 0 | BF56: =+BC56+BD56+BE56 -> 0 | BS56: =+BO56+BP56+BQ56+BR56 -> 0 | BY56: 0 | BZ56: 0 | CA56: =+BY56-BZ56 -> 0
A57: 4.6 | B57: Անձին տեղեկություն ներկայացնելուց հրաժարվելը | C57: 148 | L57: =+I57+J57+K57 -> 0 | W57: =+V57+U57+T57+S57+R57+Q57+P57+O57 -> 0 | BF57: =+BC57+BD57+BE57 -> 0 | BS57: =+BO57+BP57+BQ57+BR57 -> 0 | CA57: =+BY57-BZ57 -> 0
A58: 4.7 | B58: Ընտրական իրավունքի իրականացմանը, ընտրական հանձնաժողովների աշխատանքներին կամ ընտրությանը մասնակցող անձանց լիազորությունների իրականացմանը խոչընդոտելը | C58: 149 | L58: =+I58+J58+K58 -> 0 | W58: =+V58+U58+T58+S58+R58+Q58+P58+O58 -> 0 | BF58: =+BC58+BD58+BE58 -> 0 | BS58: =+BO58+BP58+BQ58+BR58 -> 0 | BZ58: 1 | CA58: =+BY58-BZ58 -> -1
A59: 4.8 | B59: Ընտրությունների կամ քվեարկության արդյունքները կեղծելը | C59: 150 | L59: =+I59+J59+K59 -> 0 | W59: =+V59+U59+T59+S59+R59+Q59+P59+O59 -> 0 | BF59: =+BC59+BD59+BE59 -> 0 | BS59: =+BO59+BP59+BQ59+BR59 -> 0 | CA59: =+BY59-BZ59 -> 0
A60: 4.10 | B60: Ընտրողների ցուցակները կազմելու, դրանք քաղաքացիներին և կուսակցություններին տրամադրելու կամ հրապարակելու կարգը խախտելը | C60: 152 | L60: =+I60+J60+K60 -> 0 | W60: =+V60+U60+T60+S60+R60+Q60+P60+O60 -> 0 | BF60: =+BC60+BD60+BE60 -> 0 | BS60: =+BO60+BP60+BQ60+BR60 -> 0 | CA60: =+BY60-BZ60 -> 0
A61: 4.11 | B61: Մեկից ավելի անգամ կամ այլ անձի փոխարեն քվեարկելը | C61: 153 | L61: =+I61+J61+K61 -> 0 | W61: =+V61+U61+T61+S61+R61+Q61+P61+O61 -> 0 | BF61: =+BC61+BD61+BE61 -> 0 | BS61: =+BO61+BP61+BQ61+BR61 -> 0 | CA61: =+BY61-BZ61 -> 0
A62: 4.12 | B62: Քվեարկության գաղտնիությունը խախտելը | C62: 154 | L62: =+I62+J62+K62 -> 0 | W62: =+V62+U62+T62+S62+R62+Q62+P62+O62 -> 0 | BF62: =+BC62+BD62+BE62 -> 0 | BS62: =+BO62+BP62+BQ62+BR62 -> 0 | CA62: =+BY62-BZ62 -> 0
A63: 4.13 | B63: Կեղծ ընտրական քվեաթերթիկներ կամ քվեարկության ծրարներ, դրոշմանիշեր, կտրոններ պատրաստելը կամ ակնհայտ կեղծ ընտրական քվեաթերթիկներ կամ քվեարկության ծրարներ, դրոշմանիշեր, կտրոններ հանձնելը կամ իրացնելը | C63: 154.1 | L63: =+I63+J63+K63 -> 0 | W63: =+V63+U63+T63+S63+R63+Q63+P63+O63 -> 0 | BF63: =+BC63+BD63+BE63 -> 0 | BS63: =+BO63+BP63+BQ63+BR63 -> 0 | CA63: =+BY63-BZ63 -> 0
A64: 4.14 | B64: Ընտրողի կողմից թեկնածուներից, կուսակցություններից (կուսակցությունների դաշինքներից), հանրաքվեի քարոզչական նախաձեռնություններից կաշառք ստանալը կամ թեկնածուների, կուսակցությունների (կուսակցությունների դաշինքների), հանրաքվեի քարոզչական նախաձեռնությունների կողմից ընտրողներին կաշառք տալը կամ ընտրողի ազատ կամքի իրականացմանը խոչընդոտելը | C64: 154.2 | L64: =+I64+J64+K64 -> 0 | W64: =+V64+U64+T64+S64+R64+Q64+P64+O64 -> 0 | BF64: =+BC64+BD64+BE64 -> 0 | BS64: =+BO64+BP64+BQ64+BR64 -> 0 | CA64: =+BY64-BZ64 -> 0
A65: 4.16 | B65: Զենքով՝ տեղամասային կենտրոն մուտք գործելը | C65: 154.4 | L65: =+I65+J65+K65 -> 0 | W65: =+V65+U65+T65+S65+R65+Q65+P65+O65 -> 0 | BF65: =+BC65+BD65+BE65 -> 0 | BS65: =+BO65+BP65+BQ65+BR65 -> 0 | CA65: =+BY65-BZ65 -> 0
A66: 4.17 | B66: Վստահված անձին,ընտրական հանձնաժողովի անդամին,դիտորդին կամ զանգվածային լրատվության միջոցի ներկայացուցչին ընտրական փաստաթղթերին ծանոթանալուն խոչընդոտելը, ընտրական հանձնաժողովի արձանագրությունների պատճեններ չտալը | C66: 154.5 | L66: =+I66+J66+K66 -> 0 | W66: =+V66+U66+T66+S66+R66+Q66+P66+O66 -> 0 | BF66: =+BC66+BD66+BE66 -> 0 | BS66: =+BO66+BP66+BQ66+BR66 -> 0 | CA66: =+BY66-BZ66 -> 0
A67: 4.17.1 | B67: Ընտրական հանձնաժողովի նախագահի լիազորությունները չկատարելը կամ ոչ պատշաճ կատարելը | C67: 154.6 | L67: =+I67+J67+K67 -> 0 | W67: =+V67+U67+T67+S67+R67+Q67+P67+O67 -> 0 | BF67: =+BC67+BD67+BE67 -> 0 | BS67: =+BO67+BP67+BQ67+BR67 -> 0 | CA67: =+BY67-BZ67 -> 0
A68: 4.17.2 | B68: Քվեատուփը, ընտրողների ստորագրած ցուցակը, տեղամասային ընտրական հանձնաժողովի գրանցամատյանը, հանձնաժողովի կնիքը, տեղամասային ընտրական հանձնաժողովի անդամի անհատական կնիքը, ինքնասոսնձվող դրոշմանիշը, ընտրողի վերաբերյալ տվյալներ պարունակող քվեարկության կտրոնը կամ համարակալված կտրոնը, ընտրողների էլեկտրոնային գրանցման տեխնիկական սարքավորումը, կառավարության կողմից ընտրված մասնագիտացված կազմակերպության կողմից տեղադրված տեսախցիկը, ընտրական փաստաթղթերի մեկանգամյա օգտագործման պարկը կամ ընտրական փաստաթղթերի փաթեթը հափշտակելը | C68: 154.7 | L68: =+I68+J68+K68 -> 0 | W68: =+V68+U68+T68+S68+R68+Q68+P68+O68 -> 0 | BF68: =+BC68+BD68+BE68 -> 0 | BS68: =+BO68+BP68+BQ68+BR68 -> 0 | CA68: =+BY68-BZ68 -> 0
A69: 4.17.3 | B69: Այլ անձի փոխարեն քվեարկելու վերաբերյալ սուտ հայտարարություն տալը կամ կեղծ ստորագրությամբ հայտարարություն դիմումին կից ներկայացնելը | C69: 154.8 | L69: =+I69+J69+K69 -> 0 | W69: =+V69+U69+T69+S69+R69+Q69+P69+O69 -> 0 | BF69: =+BC69+BD69+BE69 -> 0 | BS69: =+BO69+BP69+BQ69+BR69 -> 0 | CA69: =+BY69-BZ69 -> 0
A70: 4.18 | B70: Գործադուլի մասնակցելուն կամ գործադուլի մասնակցելուց հրաժարվելուն հարկադրելը | C70: 155 | L70: =+I70+J70+K70 -> 0 | W70: =+V70+U70+T70+S70+R70+Q70+P70+O70 -> 0 | BF70: =+BC70+BD70+BE70 -> 0 | BS70: =+BO70+BP70+BQ70+BR70 -> 0 | CA70: =+BY70-BZ70 -> 0
... A78: 4.26 | B78: Հավաքներ անցկացնելուն կամ դրանց մասնակցելուն խոչընդոտելը | C78: 163 | L78: =+I78+J78+K78 -> 0 | W78: =+V78+U78+T78+S78+R78+Q78+P78+O78 -> 0 | BF78: =+BC78+BD78+BE78 -> 0 | BS78: =+BO78+BP78+BQ78+BR78 -> 0 | CA78: =+BY78-BZ78 -> 0
A79: 4.27 | B79: Լրագրողի մասնագիտական օրինական գործողությանը խոչընդոտելը | C79: 164 | L79: =+I79+J79+K79 -> 0 | W79: =+V79+U79+T79+S79+R79+Q79+P79+O79 -> 0 | BF79: =+BC79+BD79+BE79 -> 0 | BS79: =+BO79+BP79+BQ79+BR79 -> 0 | BY79: 0 | BZ79: 0 | CA79: =+BY79-BZ79 -> 0
A80: 4.28 | B80: Այլ հանցագործություններ | L80: =+I80+J80+K80 -> 0 | W80: =+V80+U80+T80+S80+R80+Q80+P80+O80 -> 0 | BF80: =+BC80+BD80+BE80 -> 0 | BS80: =+BO80+BP80+BQ80+BR80 -> 0 | CA80: =+BY80-BZ80 -> 0
A81: 5. | B81: Ընդամենը ընտանիքի և երեխայի շահերի դեմ ուղղված հանցագործությունները | D81: =SUM(D82:D95) -> 0 | E81: =SUM(E82:E95) -> 0 | F81: =SUM(F82:F95) -> 0 | G81: =SUM(G82:G95) -> 0 | H81: =SUM(H82:H95) -> 0 | I81: =SUM(I82:I95) -> 0 | J81: =SUM(J82:J95) -> 0 | K81: =SUM(K82:K95) -> 0 | ... CA81: =SUM(CA82:CA95) -> 0
A82: 5.1 | B82: Անչափահասին հանցանքի կատարմանը ներգրավելը | C82: 165 | L82: =+I82+J82+K82 -> 0 | W82: =+V82+U82+T82+S82+R82+Q82+P82+O82 -> 0 | BF82: =+BC82+BD82+BE82 -> 0 | BS82: =+BO82+BP82+BQ82+BR82 -> 0 | CA82: =+BY82-BZ82 -> 0
A83: 5.2 | B83: Երեխային պոռնկության կամ պոռնկագրական բնույթի նյութեր կամ առարկաներ պատրաստելու հետ կապված գործողություններ կատարելուն ներգրավելը | C83: 166 | L83: =+I83+J83+K83 -> 0 | W83: =+V83+U83+T83+S83+R83+Q83+P83+O83 -> 0 | BF83: =+BC83+BD83+BE83 -> 0 | BS83: =+BO83+BP83+BQ83+BR83 -> 0 | CA83: =+BY83-BZ83 -> 0
A84: 5.2.1 | B84: Երեխային ոգելից խմիչքների օգտագործմանը, ուժեղ ներգործող կամ այլ թմրեցնող նյութերի ոչ բժշկական օգտագործմանը, թափառաշրջիկությանը ներգրավելը կամ մուրացկանության հետ կապված գործողություններ կատարելուն ներգրավելը | C84: 166.1 | L84: =+I84+J84+K84 -> 0 | W84: =+V84+U84+T84+S84+R84+Q84+P84+O84 -> 0 | BF84: =+BC84+BD84+BE84 -> 0 | BS84: =+BO84+BP84+BQ84+BR84 -> 0 | CA84: =+BY84-BZ84 -> 0
A85: 5.3 | B85: Ծնողներից երեխային ապօրինի բաժանելը կամ երեխային փոխելը | C85: 167 | L85: =+I85+J85+K85 -> 0 | W85: =+V85+U85+T85+S85+R85+Q85+P85+O85 -> 0 | BF85: =+BC85+BD85+BE85 -> 0 | BS85: =+BO85+BP85+BQ85+BR85 -> 0 | CA85: =+BY85-BZ85 -> 0
A86: 5.4 | B86: Խնամքը ստանձնելու նպատակով երեխայի առքը կամ ստանձնողի խնամքին հանձնելու նպատակով երեխայի վաճառքը | C86: 168 | L86: =+I86+J86+K86 -> 0 | W86: =+V86+U86+T86+S86+R86+Q86+P86+O86 -> 0 | BF86: =+BC86+BD86+BE86 -> 0 | BS86: =+BO86+BP86+BQ86+BR86 -> 0 | CA86: =+BY86-BZ86 -> 0
A87: 5.5 | B87: Որդեգրման գաղտնիքը հրապարակելը կամ որդեգրման համաձայնություն տալուն հակելը կամ հարկադրելը | C87: 169 | L87: =+I87+J87+K87 -> 0 | W87: =+V87+U87+T87+S87+R87+Q87+P87+O87 -> 0 | BF87: =+BC87+BD87+BE87 -> 0 | BS87: =+BO87+BP87+BQ87+BR87 -> 0 | CA87: =+BY87-BZ87 -> 0
A88: 5.6 | B88: Քաղաքացիական կացության ակտերի գրանցման մարմիններին սուտ տեղեկություններ հաղորդելը | C88: 169.1 | L88: =+I88+J88+K88 -> 0 | W88: =+V88+U88+T88+S88+R88+Q88+P88+O88 -> 0 | BF88: =+BC88+BD88+BE88 -> 0 | BS88: =+BO88+BP88+BQ88+BR88 -> 0 | CA88: =+BY88-BZ88 -> 0
A89: 5.7 | B89: Երեխային դաստիարակելու պարտականությունը չկատարելը | C89: 170 | L89: =+I89+J89+K89 -> 0 | W89: =+V89+U89+T89+S89+R89+Q89+P89+O89 -> 0 | BF89: =+BC89+BD89+BE89 -> 0 | BS89: =+BO89+BP89+BQ89+BR89 -> 0 | CA89: =+BY89-BZ89 -> 0
A90: 5.8 | B90: Երեխայի կյանքի անվտանգության ապահովման կամ առողջության պահպանման պարտականությունը չկատարելը կամ ոչ պատշաճ կատարելը | C90: 171 | L90: =+I90+J90+K90 -> 0 | W90: =+V90+U90+T90+S90+R90+Q90+P90+O90 -> 0 | BF90: =+BC90+BD90+BE90 -> 0 | BS90: =+BO90+BP90+BQ90+BR90 -> 0 | CA90: =+BY90-BZ90 -> 0
A91: 5.8.1 | B91: Վերարտադրողականության օժանդակ տեխնոլոգիաներից օգտվելու կանոնները խախտելը | C91: 171.1 | L91: =+I91+J91+K91 -> 0 | W91: =+V91+U91+T91+S91+R91+Q91+P91+O91 -> 0 | BF91: =+BC91+BD91+BE91 -> 0 | BS91: =+BO91+BP91+BQ91+BR91 -> 0 | CA91: =+BY91-BZ91 -> 0
A92: 5.9 | B92: Խնամակալի կամ հոգաբարձուի իրավունքները չարաշահելը | C92: 172 | L92: =+I92+J92+K92 -> 0 | W92: =+V92+U92+T92+S92+R92+Q92+P92+O92 -> 0 | BF92: =+BC92+BD92+BE92 -> 0 | BS92: =+BO92+BP92+BQ92+BR92 -> 0 | CA92: =+BY92-BZ92 -> 0
A93: 5.10 | B93: Ծնողի կողմից երեխային պահելուց չարամտորեն խուսափելը | C93: 173 | L93: =+I93+J93+K93 -> 0 | W93: =+V93+U93+T93+S93+R93+Q93+P93+O93 -> 0 | BF93: =+BC93+BD93+BE93 -> 0 | BS93: =+BO93+BP93+BQ93+BR93 -> 0 | CA93: =+BY93-BZ93 -> 0
A94: 5.11 | B94: Զավակի կողմից անաշխատունակ ծնողին պահելուց չարամտորեն խուսափելը | C94: 174 | L94: =+I94+J94+K94 -> 0 | W94: =+V94+U94+T94+S94+R94+Q94+P94+O94 -> 0 | BF94: =+BC94+BD94+BE94 -> 0 | BS94: =+BO94+BP94+BQ94+BR94 -> 0 | CA94: =+BY94-BZ94 -> 0
A95: 5.12 | B95: Այլ հանցագործություններ | L95: =+I95+J95+K95 -> 0 | W95: =+V95+U95+T95+S95+R95+Q95+P95+O95 -> 0 | BF95: =+BC95+BD95+BE95 -> 0 | BS95: =+BO95+BP95+BQ95+BR95 -> 0 | CA95: =+BY95-BZ95 -> 0
A96: 6. | B96: Ընդամենը սեփականության դեմ ուղղված հանցագործությունները | D96: =SUM(D97:D111) -> 0 | E96: =SUM(E97:E109) -> 7 | F96: =SUM(F97:F109) -> 7 | G96: =SUM(G97:G109) -> 0 | H96: =SUM(H97:H109) -> 0 | I96: =SUM(I97:I109) -> 19 | J96: =SUM(J97:J109) -> 3 | K96: =SUM(K97:K109) -> 1 | L96: =SUM(L97:L109) -> 23 | ... CA96: =SUM(CA97:CA109) -> -34
A97: 6.1 | B97: Ավազակությունը | C97: 175 | L97: =+I97+J97+K97 -> 0 | W97: =+V97+U97+T97+S97+R97+Q97+P97+O97 -> 0 | BF97: =+BC97+BD97+BE97 -> 0 | BS97: =+BO97+BP97+BQ97+BR97 -> 0 | BY97: 0 | BZ97: 0 | CA97: =+BY97-BZ97 -> 0
A98: 6.2 | B98: Կողոպուտը | C98: 176 | L98: =+I98+J98+K98 -> 0 | W98: =+V98+U98+T98+S98+R98+Q98+P98+O98 -> 0 | BF98: =+BC98+BD98+BE98 -> 0 | BS98: =+BO98+BP98+BQ98+BR98 -> 0 | BZ98: 5 | CA98: =+BY98-BZ98 -> -5
A99: 6.3 | B99: Գողությունը | C99: 177 | I99: 11 | J99: 2 | L99: =+I99+J99+K99 -> 13 | P99: 1 | Q99: 6 | R99: 4 | W99: =+V99+U99+T99+S99+R99+Q99+P99+O99 -> 11 | Y99: 2 | AD99: 8 | AE99: 1 | AO99: 11 | AP99: 2 | AS99: 1 | AT99: 3 | AW99: 9 | AY99: 13 | BB99: 2 | BD99: 1 | BF99: =+BC99+BD99+BE99 -> 1 | BJ99: 1 | BK99: 1 | BS99: =+BO99+BP99+BQ99+BR99 -> 0 | BY99: 13 | BZ99: 33 | CA99: =+BY99-BZ99 -> -20
A100: 6.4 | B100: Խարդախությունը | C100: 178 | E100: 4 | F100: 4 | I100: 2 | L100: =+I100+J100+K100 -> 2 | R100: 2 | W100: =+V100+U100+T100+S100+R100+Q100+P100+O100 -> 2 | AE100: 2 | AP100: 1 | AQ100: 1 | AT100: 1 | AW100: 1 | AY100: 2 | BF100: =+BC100+BD100+BE100 -> 0 | BS100: =+BO100+BP100+BQ100+BR100 -> 0 | BY100: 2 | BZ100: 9 | CA100: =+BY100-BZ100 -> -7
A101: 6.5 | B101: Յուրացնելը կամ վատնելը | C101: 179 | E101: 2 | F101: 2 | I101: 4 | K101: 1 | L101: =+I101+J101+K101 -> 5 | P101: 1 | R101: 3 | S101: 1 | W101: =+V101+U101+T101+S101+R101+Q101+P101+O101 -> 5 | AD101: 3 | AE101: 2 | AH101: 2 | AN101: 0 | AO101: 1 | AP101: 3 | AQ101: 1 | AR101: 3 | AT101: 1 | AW101: 1 | AY101: 5 | BF101: =+BC101+BD101+BE101 -> 0 | BS101: =+BO101+BP101+BQ101+BR101 -> 0 | BY101: 5 | BZ101: 9 | CA101: =+BY101-BZ101 -> -4
A102: 6.6 | B102: Առանձնակի արժեք ունեցող առարկաներ հափշտակելը | C102: 180 | L102: =+I102+J102+K102 -> 0 | W102: =+V102+U102+T102+S102+R102+Q102+P102+O102 -> 0 | BF102: =+BC102+BD102+BE102 -> 0 | BS102: =+BO102+BP102+BQ102+BR102 -> 0 | CA102: =+BY102-BZ102 -> 0
A103: 6.7 | B103: Հափշտակությունը, որը կատարվել է համակարգչային տեխնիկայի օգտագործմամբ | C103: 181 | L103: =+I103+J103+K103 -> 0 | W103: =+V103+U103+T103+S103+R103+Q103+P103+O103 -> 0 | BF103: =+BC103+BD103+BE103 -> 0 | BS103: =+BO103+BP103+BQ103+BR103 -> 0 | CA103: =+BY103-BZ103 -> 0
A104: 6.8 | B104: Շորթումը | C104: 182 | I104: 1 | L104: =+I104+J104+K104 -> 1 | S104: 1 | W104: =+V104+U104+T104+S104+R104+Q104+P104+O104 -> 1 | AO104: 1 | AW104: 1 | AY104: 1 | BF104: =+BC104+BD104+BE104 -> 0 | BS104: =+BO104+BP104+BQ104+BR104 -> 0 | BY104: 1 | CA104: =+BY104-BZ104 -> 1
A105: 6.9 | B105: Ավտոմեքենային կամ տրանսպորտային այլ միջոցին ապօրինաբար տիրանալն առանց հափշտակելու նպատակի | C105: 183 | L105: =+I105+J105+K105 -> 0 | W105: =+V105+U105+T105+S105+R105+Q105+P105+O105 -> 0 | BF105: =+BC105+BD105+BE105 -> 0 | BS105: =+BO105+BP105+BQ105+BR105 -> 0 | CA105: =+BY105-BZ105 -> 0
A106: 6.10 | B106: Գույքային վնաս պատճառելը խաբեության կամ վստահությունը չարաշահելու եղանակով | C106: 184 | L106: =+I106+J106+K106 -> 0 | W106: =+V106+U106+T106+S106+R106+Q106+P106+O106 -> 0 | BF106: =+BC106+BD106+BE106 -> 0 | BS106: =+BO106+BP106+BQ106+BR106 -> 0 | CA106: =+BY106-BZ106 -> 0
A107: 6.10.1 | B107: Գրավառուին վնաս պատճառելը | C107: 184.1 | L107: =+I107+J107+K107 -> 0 | W107: =+V107+U107+T107+S107+R107+Q107+P107+O107 -> 0 | BF107: =+BC107+BD107+BE107 -> 0 | BS107: =+BO107+BP107+BQ107+BR107 -> 0 | CA107: =+BY107-BZ107 -> 0
...

Sheet Տավուշ
A1: ՀԱՇՎԵՏՎՈՒԹՅՈՒՆ
A2: 2020թ. 1-ին կիսամյակի | C2: ԱՆՁԱՆՑ ՎԵՐԱԲԵՐՅԱԼ, ՈՐՈՆՑ ԿԱՊԱԿՑՈՒԹՅԱՄԲ ԿԱՅԱՑՎԱԾ ԴԱՏԱԿԱՆ ԱԿՏԵՐԸ ՄՏԵԼ ԵՆ ՕՐԻՆԱԿԱՆ ՈւԺԻ ՄԵՋ
A3: Վիճակագրական տողի համարը | B3: ՀԱՆՑԱԳՈՐԾՈՒԹՅՈՒՆՆԵՐԻ ՏԵՍԱԿՆԵՐԸ | C3: ՀՀ Քրեական օրենսգրքի հոդվածը | D3: Անձանց թիվը, որոնց վերաբերյալ գործերը կարճվել կամ քրեական հետապնդումը դադարեցվել է | G3: Անմեղսունակներ, որոնց նկատմամբ կիրառվել են բժշկական բնույթի հարկադրական միջոցներ | H3: Արդարացվածների թիվը | I3: Դատապարտյալների թիվը (ծանոթություն.Մեղադրյալը, որի վերաբերյալ կա օրինական ուժի մեջ մտած դատարանի դատավճիռ, որն ամբողջությամբ կամ մասնակիորեն մեղադրական է, կոչվում է դատապարտյալ) | O3: Դատապարտյալների նկատմամբ նշանակված հիմնական պատիժներ | AD3: նշանակված պատիժը պայմանականորեն չի կիրառվել | AE3: կիրառվել է համաներման ակտ | AF3: Լրացուցիչ պատիժներ | AI3: Օրենքով նախատեսվածից ավելի մեղմ պատիժ է նշանակվել | AJ3: Հանցանքը կատարվել է | AR3: Անձի զբաղմունքի տեսակը` նախքան դատապարտվելը | AY3: Անձի քաղաքացիությունը | BB3: Դատապարտվածների թիվը, որոնց նախկին դատվածությունը հանվել կամ մարվել է | BC3: Դատապարտյալների թիվը, որոնք ունեն չհանված կամ չմարված դատվածություն | BG3: Դրանցից (սյունակ 55) եղել են դատապարտված | BK3: Չհանված, չմարված դատվածությամբ դատապարտյալը պատժից ազատվել է | BO3: Նոր հանցագործությունը կատարել է պատիժը չկրած | BT3: Նոր հանցագործությունը կատարել է ազատազրկման վայրից ազատվելուց առաջին տարվա ընթացքում | BU3: Անձանց թիվը, որոնց վերաբերյալ հաշվետու տարվա ընթացքում քննվել են գործեր | BV3: Դատապարտյալը հանձնվել է վերադաստիրակման կամ հսկողության | BW3: Դատապարտյալի նկատմամբ նշանակվել է հարկադիր բուժում գինեմոլության դեմ | BX3: Դատապարտյալի նկատմամբ նշանակվել է հարկադիր բուժում թմրամոլության դեմ | BY3: Դատվածությունների շարժը
D4: Այդ թվում՝ հանցադեպի կամ հանցակազմի բացակայության և մեղադրանքի չապացուցված լինելու պատճառով | E4: այլ հիմքով | F4: Ընդամենը | I4: որից դատապարտվել են | L4: Ընդամենը(6,7,8 սյունակներ) | M4: Այդ թվում՝ կանայք | N4: Այդ թվում` անչափահասներ | O4: Ա զ ա տ ա զ ր կ ու մ | X4: հանրային աշխատանքներ | Y4: տուգանք | Z4: Որոշակի պաշտոններ զբաղ. կամ որոշակի գործ. զբաղվ. իրավ. զրկում | AA4: Կարգապահական գումարտակում պահելը | AB4: զին. Ծառայության մեջ սահմանափակում | AC4: կալանք | AF4: գույքի բռնագրավում | AG4: հատուկ կամ զին. կոչումից, կարգից, աստիճանից կամ որակավորման դասից զրկելը | AH4: որոշակի պաշտ. զբաղ. կամ որոշակի գործ.զբաղվ. իրավ. զրկում | AJ4: ալկ., թմրամիջ. կամ թնրեցնող այլ նյութերի ազդ. | AK4: Մի խումբ անձանց կազմում | AL4: Կազմակերպված խմբի կամ հանցավոր համագործակցության կազմում | AM4: 14-16 տարեկան հասակում | AN4: 16-18 տարեկան հասակում | AO4: 18-29 տարեկան հասակում | AP4: 30-49 տարեկան հասակում | AQ4: 50 տարեկան և բարձր | AR4: Պաշտոնատար անձինք | AS4: Զին. ծառայողներ | AT4: Այլ զբաղմունք | AU4: Սովորողներ | AW4: Չաշխատող և չսովորող աշխատունակներ | AX4: արգելանքի տակ գտնվող անձ | AY4: ՀՀ քաղաքացի | AZ4: Քաղաքացիություն չունեցող անձ | BA4: Օտարերկրյա պետության քաղաքացի | BC4: Մեկ դատվածություն | BD4: Երկու դատվածություն | BE4: Երեք և ավելի դատվածություն | BF4: Ընդամենը | BG4: Սպանության, դիտավորյամբ առողջությանը ծանր վնաս պատճառելու, բռնաբարության համար | BH4: Գույքի հափշտակության համար | BI4: Խուլիգանության համար | BJ4: այլ հանցագործությունների համար | BK4: Պատիժը կրել է լրիվ չափով | BL4: Պայմանական վաղաժամկետ | BM4: Համաներման ակտի կիրառմամբ | BN4: Այլ հիմքերով | BO4: Ազատազրկման վայրում | BP4: Այլ պատիժ կրելիս | BQ4: Դատավճռի կատարման հետաձգման ժամանակահատվածում | BR4: Փորձաշրջանի ընթացքում | BS4: Ընդամենը | BY4: Հաշվետու տարվա ընթացքում դատապարտված անձանց թիվը | BZ4: Հաշվետու տարվան նախորդող տարվա ընթացքում դատապարտված անձանց թիվը | CA4: ավելացել է պակասել է
B5: ՍՏՈՒԳԻՉ ՀԱՎԱՍԱՐՈՒՄՆԵՐ 3=1+2, 9=6+7+8, 20=12+13+14+15+16+17+18+19, 9=20+21+22+23+24+25+26 9=36+37+38+39+40, 9=41+42+43+44+45+46+47,9=48+49+50, 55=52+53+54,55=56+57+58+59, 68=64+65+66+67 | I5: Ավարտված հանցագործության համար | J5: Հանցափորձի համար(ՀՀ քր. օր-ի 34-րդ հոդ.) | K5: Հանցակցության համար(ՀՀ քր.օր-ի 38-րդ հոդ.) | O5: 1 տարի ներառյալ | P5: 1 տարուց ավել, մինչև 2 տարի ներառյալ | Q5: 2 տարուց ավել, մինչև 3 տարի ներառյալ | R5: 3 տարուց ավել, մինչև 5 տարի ներառյալ | S5: 5 տարուց ավել, մինչև 8 տարի ներառյալ | T5: 8 տարուց ավել, մինչև 10 տարի ներառյալ | U5: 10 տարուց ավել, մինչև 15 տարի ներառյալ | V5: ցմահ ազատազրկում | W5: ընդամենը | AU5: 18 տարեկանից ցածր | AV5: 18 տարեկանից բարձր
D6: 1 | E6: 2 | F6: 3 | G6: 4 | H6: 5 | I6: 6 | J6: 7 | K6: 8 | L6: 9 | M6: 10 | N6: 11 | O6: 12 | P6: 13 | Q6: 14 | R6: 15 | S6: 16 | T6: 17 | U6: 18 | V6: 19 | W6: 20 | X6: 21 | Y6: 22 | Z6: 23 | AA6: 24 | AB6: 25 | AC6: 26 | AD6: 27 | AE6: 28 | AF6: 29 | AG6: 30 | AH6: 31 | AI6: 32 | AJ6: 33 | AK6: 34 | AL6: 35 | AM6: 36 | AN6: 37 | AO6: 38 | AP6: 39 | AQ6: 40 | AR6: 41 | AS6: 42 | AT6: 43 | AU6: 44 | AV6: 45 | AW6: 46 | AX6: 47 | AY6: 48 | AZ6: 49 | BA6: 50 | BB6: 51 | BC6: 52 | BD6: 53 | BE6: 54 | BF6: 55 | BG6: 56 | BH6: 57 | BI6: 58 | BJ6: 59 | BK6: 60 | BL6: 61 | BM6: 62 | BN6: 63 | BO6: 64 | BP6: 65 | BQ6: 66 | BR6: 67 | BS6: 68 | BT6: 69 | BU6: 70 | BV6: 71 | BW6: 72 | BX6: 73 | BY6: 74 | BZ6: 75 | CA6: 76
A7: 1. | B7: Ընդամենը կյանքի և առողջության դեմ ուղղված հանցագործությունները | D7: =SUM(D8:D34) -> 0 | E7: =SUM(E8:E34) -> 1 | F7: =SUM(F8:F34) -> 1 | G7: =SUM(G8:G34) -> 0 | H7: =SUM(H8:H34) -> 0 | I7: =SUM(I8:I34) -> 2 | J7: =SUM(J8:J34) -> 0 | K7: =SUM(K8:K34) -> 0 | ... CA7: =SUM(CA8:CA34) -> 0
A8: 1.1 | B8: Սպանությունը | C8: 104 | D8: ='[1]նշել դատարանի անվանումը (3)'!D8+[1]Ընդամենը1!D8 -> 0 | E8: ='[1]նշել դատարանի անվանումը (3)'!E8+[1]Ընդամենը1!E8 -> 1 | F8: ='[1]նշել դատարանի անվանումը (3)'!F8+[1]Ընդամենը1!F8 -> 1 | G8: ='[1]նշել դատարանի անվանումը (3)'!G8+[1]Ընդամենը1!G8 -> 0 | H8: ='[1]նշել դատարանի անվանումը (3)'!H8+[1]Ընդամենը1!H8 -> 0 | I8: ='[1]նշել դատարանի անվանումը (3)'!I8+[1]Ընդամենը1!I8 -> 1 | J8: ='[1]նշել դատարանի անվանումը (3)'!J8+[1]Ընդամենը1!J8 -> 0 | K8: ='[1]նշել դատարանի անվանումը (3)'!K8+[1]Ընդամենը1!K8 -> 0 | ... BT8: ='[1]նշել դատարանի անվանումը (3)'!BT8+[1]Ընդամենը1!BT8 -> 0 | BZ8: 1
A9: 1.2 | B9: Հոգեկան խիստ հուզմունքի վիճակում կատարված սպանությունը | C9: 105 | D9: ='[1]նշել դատարանի անվանումը (3)'!D9+[1]Ընդամենը1!D9 -> 0 | E9: ='[1]նշել դատարանի անվանումը (3)'!E9+[1]Ընդամենը1!E9 -> 0 | F9: ='[1]նշել դատարանի անվանումը (3)'!F9+[1]Ընդամենը1!F9 -> 0 | G9: ='[1]նշել դատարանի անվանումը (3)'!G9+[1]Ընդամենը1!G9 -> 0 | H9: ='[1]նշել դատարանի անվանումը (3)'!H9+[1]Ընդամենը1!H9 -> 0 | I9: ='[1]նշել դատարանի անվանումը (3)'!I9+[1]Ընդամենը1!I9 -> 0 | J9: ='[1]նշել դատարանի անվանումը (3)'!J9+[1]Ընդամենը1!J9 -> 0 | K9: ='[1]նշել դատարանի անվանումը (3)'!K9+[1]Ընդամենը1!K9 -> 0 | ... BT9: ='[1]նշել դատարանի անվանումը (3)'!BT9+[1]Ընդամենը1!BT9 -> 0
A10: 1.3 | B10: Մոր կողմից նորածին երեխայի սպանությունը | C10: 106 | D10: ='[1]նշել դատարանի անվանումը (3)'!D10+[1]Ընդամենը1!D10 -> 0 | E10: ='[1]նշել դատարանի անվանումը (3)'!E10+[1]Ընդամենը1!E10 -> 0 | F10: ='[1]նշել դատարանի անվանումը (3)'!F10+[1]Ընդամենը1!F10 -> 0 | G10: ='[1]նշել դատարանի անվանումը (3)'!G10+[1]Ընդամենը1!G10 -> 0 | H10: ='[1]նշել դատարանի անվանումը (3)'!H10+[1]Ընդամենը1!H10 -> 0 | I10: ='[1]նշել դատարանի անվանումը (3)'!I10+[1]Ընդամենը1!I10 -> 0 | J10: ='[1]նշել դատարանի անվանումը (3)'!J10+[1]Ընդամենը1!J10 -> 0 | K10: ='[1]նշել դատարանի անվանումը (3)'!K10+[1]Ընդամենը1!K10 -> 0 | ... BT10: ='[1]նշել դատարանի անվանումը (3)'!BT10+[1]Ընդամենը1!BT10 -> 0
A11: 1.4 | B11: Հանցանք կատարած անձին բռնելու համար անհրաժեշտ միջոցների սահմանազանցմամբ սպանությունը | C11: 107 | D11: ='[1]նշել դատարանի անվանումը (3)'!D11+[1]Ընդամենը1!D11 -> 0 | E11: ='[1]նշել դատարանի անվանումը (3)'!E11+[1]Ընդամենը1!E11 -> 0 | F11: ='[1]նշել դատարանի անվանումը (3)'!F11+[1]Ընդամենը1!F11 -> 0 | G11: ='[1]նշել դատարանի անվանումը (3)'!G11+[1]Ընդամենը1!G11 -> 0 | H11: ='[1]նշել դատարանի անվանումը (3)'!H11+[1]Ընդամենը1!H11 -> 0 | I11: ='[1]նշել դատարանի անվանումը (3)'!I11+[1]Ընդամենը1!I11 -> 0 | J11: ='[1]նշել դատարանի անվանումը (3)'!J11+[1]Ընդամենը1!J11 -> 0 | K11: ='[1]նշել դատարանի անվանումը (3)'!K11+[1]Ընդամենը1!K11 -> 0 | ... BT11: ='[1]նշել դատարանի անվանումը (3)'!BT11+[1]Ընդամենը1!BT11 -> 0
A12: 1.5 | B12: Անհրաժեշտ պաշտպանության սահմանազանցմամբ սպանությունը | C12: 108 | D12: ='[1]նշել դատարանի անվանումը (3)'!D12+[1]Ընդամենը1!D12 -> 0 | E12: ='[1]նշել դատարանի անվանումը (3)'!E12+[1]Ընդամենը1!E12 -> 0 | F12: ='[1]նշել դատարանի անվանումը (3)'!F12+[1]Ընդամենը1!F12 -> 0 | G12: ='[1]նշել դատարանի անվանումը (3)'!G12+[1]Ընդամենը1!G12 -> 0 | H12: ='[1]նշել դատարանի անվանումը (3)'!H12+[1]Ընդամենը1!H12 -> 0 | I12: ='[1]նշել դատարանի անվանումը (3)'!I12+[1]Ընդամենը1!I12 -> 0 | J12: ='[1]նշել դատարանի անվանումը (3)'!J12+[1]Ընդամենը1!J12 -> 0 | K12: ='[1]նշել դատարանի անվանումը (3)'!K12+[1]Ընդամենը1!K12 -> 0 | ... BT12: ='[1]նշել դատարանի անվանումը (3)'!BT12+[1]Ընդամենը1!BT12 -> 0
A13: 1.6 | B13: Անզգուշությամբ մահ պատճառելը | C13: 109 | D13: ='[1]նշել դատարանի անվանումը (3)'!D13+[1]Ընդամենը1!D13 -> 0 | E13: ='[1]նշել դատարանի անվանումը (3)'!E13+[1]Ընդամենը1!E13 -> 0 | F13: ='[1]նշել դատարանի անվանումը (3)'!F13+[1]Ընդամենը1!F13 -> 0 | G13: ='[1]նշել դատարանի անվանումը (3)'!G13+[1]Ընդամենը1!G13 -> 0 | H13: ='[1]նշել դատարանի անվանումը (3)'!H13+[1]Ընդամենը1!H13 -> 0 | I13: ='[1]նշել դատարանի անվանումը (3)'!I13+[1]Ընդամենը1!I13 -> 0 | J13: ='[1]նշել դատարանի անվանումը (3)'!J13+[1]Ընդամենը1!J13 -> 0 | K13: ='[1]նշել դատարանի անվանումը (3)'!K13+[1]Ընդամենը1!K13 -> 0 | ... BT13: ='[1]նշել դատարանի անվանումը (3)'!BT13+[1]Ընդամենը1!BT13 -> 0
A14: 1.7 | B14: Ինքնասպանության հասցնելը | C14: 110 | D14: ='[1]նշել դատարանի անվանումը (3)'!D14+[1]Ընդամենը1!D14 -> 0 | E14: ='[1]նշել դատարանի անվանումը (3)'!E14+[1]Ընդամենը1!E14 -> 0 | F14: ='[1]նշել դատարանի անվանումը (3)'!F14+[1]Ընդամենը1!F14 -> 0 | G14: ='[1]նշել դատարանի անվանումը (3)'!G14+[1]Ընդամենը1!G14 -> 0 | H14: ='[1]նշել դատարանի անվանումը (3)'!H14+[1]Ընդամենը1!H14 -> 0 | I14: ='[1]նշել դատարանի անվանումը (3)'!I14+[1]Ընդամենը1!I14 -> 0 | J14: ='[1]նշել դատարանի անվանումը (3)'!J14+[1]Ընդամենը1!J14 -> 0 | K14: ='[1]նշել դատարանի անվանումը (3)'!K14+[1]Ընդամենը1!K14 -> 0 | ... BT14: ='[1]նշել դատարանի անվանումը (3)'!BT14+[1]Ընդամենը1!BT14 -> 0
A15: 1.8 | B15: Ինքնասպանության հակելը | C15: 111 | D15: ='[1]նշել դատարանի անվանումը (3)'!D15+[1]Ընդամենը1!D15 -> 0 | E15: ='[1]նշել դատարանի անվանումը (3)'!E15+[1]Ընդամենը1!E15 -> 0 | F15: ='[1]նշել դատարանի անվանումը (3)'!F15+[1]Ընդամենը1!F15 -> 0 | G15: ='[1]նշել դատարանի անվանումը (3)'!G15+[1]Ընդամենը1!G15 -> 0 | H15: ='[1]նշել դատարանի անվանումը (3)'!H15+[1]Ընդամենը1!H15 -> 0 | I15: ='[1]նշել դատարանի անվանումը (3)'!I15+[1]Ընդամենը1!I15 -> 0 | J15: ='[1]նշել դատարանի անվանումը (3)'!J15+[1]Ընդամենը1!J15 -> 0 | K15: ='[1]նշել դատարանի անվանումը (3)'!K15+[1]Ընդամենը1!K15 -> 0 | ... BT15: ='[1]նշել դատարանի անվանումը (3)'!BT15+[1]Ընդամենը1!BT15 -> 0
A16: 1.9 | B16: Դիտավորությամբ առողջությանը ծանր վնաս պատճառելը | C16: 112 | D16: ='[1]նշել դատարանի անվանումը (3)'!D16+[1]Ընդամենը1!D16 -> 0 | E16: ='[1]նշել դատարանի անվանումը (3)'!E16+[1]Ընդամենը1!E16 -> 0 | F16: ='[1]նշել դատարանի անվանումը (3)'!F16+[1]Ընդամենը1!F16 -> 0 | G16: ='[1]նշել դատարանի անվանումը (3)'!G16+[1]Ընդամենը1!G16 -> 0 | H16: ='[1]նշել դատարանի անվանումը (3)'!H16+[1]Ընդամենը1!H16 -> 0 | I16: ='[1]նշել դատարանի անվանումը (3)'!I16+[1]Ընդամենը1!I16 -> 1 | J16: ='[1]նշել դատարանի անվանումը (3)'!J16+[1]Ընդամենը1!J16 -> 0 | K16: ='[1]նշել դատարանի անվանումը (3)'!K16+[1]Ընդամենը1!K16 -> 0 | ... BT16: ='[1]նշել դատարանի անվանումը (3)'!BT16+[1]Ընդամենը1!BT16 -> 0 | BU16: 2 | BY16: 1 | BZ16: 5
A17: 1.10 | B17: Դիտավորությամբ առողջությանը միջին ծանրության վնաս պատճառելը | C17: 113 | D17: ='[1]նշել դատարանի անվանումը (3)'!D17+[1]Ընդամենը1!D17 -> 0 | E17: ='[1]նշել դատարանի անվանումը (3)'!E17+[1]Ընդամենը1!E17 -> 0 | F17: ='[1]նշել դատարանի անվանումը (3)'!F17+[1]Ընդամենը1!F17 -> 0 | G17: ='[1]նշել դատարանի անվանումը (3)'!G17+[1]Ընդամենը1!G17 -> 0 | H17: ='[1]նշել դատարանի անվանումը (3)'!H17+[1]Ընդամենը1!H17 -> 0 | I17: ='[1]նշել դատարանի անվանումը (3)'!I17+[1]Ընդամենը1!I17 -> 0 | J17: ='[1]նշել դատարանի անվանումը (3)'!J17+[1]Ընդամենը1!J17 -> 0 | K17: ='[1]նշել դատարանի անվանումը (3)'!K17+[1]Ընդամենը1!K17 -> 0 | ... BT17: ='[1]նշել դատարանի անվանումը (3)'!BT17+[1]Ընդամենը1!BT17 -> 0
A18: 1.11 | B18: Հոգեկան խիստ հուզմունքի վիճակում առողջությանը ծանր կամ միջին ծանրության վնաս պատճառելը | C18: 114 | D18: ='[1]նշել դատարանի անվանումը (3)'!D18+[1]Ընդամենը1!D18 -> 0 | E18: ='[1]նշել դատարանի անվանումը (3)'!E18+[1]Ընդամենը1!E18 -> 0 | F18: ='[1]նշել դատարանի անվանումը (3)'!F18+[1]Ընդամենը1!F18 -> 0 | G18: ='[1]նշել դատարանի անվանումը (3)'!G18+[1]Ընդամենը1!G18 -> 0 | H18: ='[1]նշել դատարանի անվանումը (3)'!H18+[1]Ընդամենը1!H18 -> 0 | I18: ='[1]նշել դատարանի անվանումը (3)'!I18+[1]Ընդամենը1!I18 -> 0 | J18: ='[1]նշել դատարանի անվանումը (3)'!J18+[1]Ընդամենը1!J18 -> 0 | K18: ='[1]նշել դատարանի անվանումը (3)'!K18+[1]Ընդամենը1!K18 -> 0 | ... BT18: ='[1]նշել դատարանի անվանումը (3)'!BT18+[1]Ընդամենը1!BT18 -> 0
A19: 1.12 | B19: Հանցանք կատարած անձին բռնելու համար անհրաժեշտ միջոցների սահմանզանցմամբ առողջությանը ծանր կամ միջին ծանրության վնաս պատճառելը | C19: 115 | D19: ='[1]նշել դատարանի անվանումը (3)'!D19+[1]Ընդամենը1!D19 -> 0 | E19: ='[1]նշել դատարանի անվանումը (3)'!E19+[1]Ընդամենը1!E19 -> 0 | F19: ='[1]նշել դատարանի անվանումը (3)'!F19+[1]Ընդամենը1!F19 -> 0 | G19: ='[1]նշել դատարանի անվանումը (3)'!G19+[1]Ընդամենը1!G19 -> 0 | H19: ='[1]նշել դատարանի անվանումը (3)'!H19+[1]Ընդամենը1!H19 -> 0 | I19: ='[1]նշել դատարանի անվանումը (3)'!I19+[1]Ընդամենը1!I19 -> 0 | J19: ='[1]նշել դատարանի անվանումը (3)'!J19+[1]Ընդամենը1!J19 -> 0 | K19: ='[1]նշել դատարանի անվանումը (3)'!K19+[1]Ընդամենը1!K19 -> 0 | ... BT19: ='[1]նշել դատարանի անվանումը (3)'!BT19+[1]Ընդամենը1!BT19 -> 0
A20: 1.13 | B20: Առողջությանը ծանր կամ միջին ծանրության վնաս պատճառելը անհրաժեշտ պաշտպանության սահմանանազանցմամբ | C20: 116 | D20: ='[1]նշել դատարանի անվանումը (3)'!D20+[1]Ընդամենը1!D20 -> 0 | E20: ='[1]նշել դատարանի անվանումը (3)'!E20+[1]Ընդամենը1!E20 -> 0 | F20: ='[1]նշել դատարանի անվանումը (3)'!F20+[1]Ընդամենը1!F20 -> 0 | G20: ='[1]նշել դատարանի անվանումը (3)'!G20+[1]Ընդամենը1!G20 -> 0 | H20: ='[1]նշել դատարանի անվանումը (3)'!H20+[1]Ընդամենը1!H20 -> 0 | I20: ='[1]նշել դատարանի անվանումը (3)'!I20+[1]Ընդամենը1!I20 -> 0 | J20: ='[1]նշել դատարանի անվանումը (3)'!J20+[1]Ընդամենը1!J20 -> 0 | K20: ='[1]նշել դատարանի անվանումը (3)'!K20+[1]Ընդամենը1!K20 -> 0 | ... BT20: ='[1]նշել դատարանի անվանումը (3)'!BT20+[1]Ընդամենը1!BT20 -> 0
A21: 1.14 | B21: Դիտավորությամբ առողջությանը թեթև վնաս պատճառելը | C21: 117 | D21: ='[1]նշել դատարանի անվանումը (3)'!D21+[1]Ընդամենը1!D21 -> 0 | E21: ='[1]նշել դատարանի անվանումը (3)'!E21+[1]Ընդամենը1!E21 -> 0 | F21: ='[1]նշել դատարանի անվանումը (3)'!F21+[1]Ընդամենը1!F21 -> 0 | G21: ='[1]նշել դատարանի անվանումը (3)'!G21+[1]Ընդամենը1!G21 -> 0 | H21: ='[1]նշել դատարանի անվանումը (3)'!H21+[1]Ընդամենը1!H21 -> 0 | I21: ='[1]նշել դատարանի անվանումը (3)'!I21+[1]Ընդամենը1!I21 -> 0 | J21: ='[1]նշել դատարանի անվանումը (3)'!J21+[1]Ընդամենը1!J21 -> 0 | K21: ='[1]նշել դատարանի անվանումը (3)'!K21+[1]Ընդամենը1!K21 -> 0 | ... BT21: ='[1]նշել դատարանի անվանումը (3)'!BT21+[1]Ընդամենը1!BT21 -> 0 | BY21: 3
A22: 1.15 | B22: Ծեծը | C22: 118 | D22: ='[1]նշել դատարանի անվանումը (3)'!D22+[1]Ընդամենը1!D22 -> 0 | E22: ='[1]նշել դատարանի անվանումը (3)'!E22+[1]Ընդամենը1!E22 -> 0 | F22: ='[1]նշել դատարանի անվանումը (3)'!F22+[1]Ընդամենը1!F22 -> 0 | G22: ='[1]նշել դատարանի անվանումը (3)'!G22+[1]Ընդամենը1!G22 -> 0 | H22: ='[1]նշել դատարանի անվանումը (3)'!H22+[1]Ընդամենը1!H22 -> 0 | I22: ='[1]նշել դատարանի անվանումը (3)'!I22+[1]Ընդամենը1!I22 -> 0 | J22: ='[1]նշել դատարանի անվանումը (3)'!J22+[1]Ընդամենը1!J22 -> 0 | K22: ='[1]նշել դատարանի անվանումը (3)'!K22+[1]Ընդամենը1!K22 -> 0 | ... BT22: ='[1]նշել դատարանի անվանումը (3)'!BT22+[1]Ընդամենը1!BT22 -> 0 | BY22: 3 | BZ22: 4
A23: 1.16 | B23: Ֆիզիկական ուժեղ ցավ կամ հոգեկան ուժեղ տառապանք պատճառելը | C23: 119 | D23: ='[1]նշել դատարանի անվանումը (3)'!D23+[1]Ընդամենը1!D23 -> 0 | E23: ='[1]նշել դատարանի անվանումը (3)'!E23+[1]Ընդամենը1!E23 -> 0 | F23: ='[1]նշել դատարանի անվանումը (3)'!F23+[1]Ընդամենը1!F23 -> 0 | G23: ='[1]նշել դատարանի անվանումը (3)'!G23+[1]Ընդամենը1!G23 -> 0 | H23: ='[1]նշել դատարանի անվանումը (3)'!H23+[1]Ընդամենը1!H23 -> 0 | I23: ='[1]նշել դատարանի անվանումը (3)'!I23+[1]Ընդամենը1!I23 -> 0 | J23: ='[1]նշել դատարանի անվանումը (3)'!J23+[1]Ընդամենը1!J23 -> 0 | K23: ='[1]նշել դատարանի անվանումը (3)'!K23+[1]Ընդամենը1!K23 -> 0 | ... BT23: ='[1]նշել դատարանի անվանումը (3)'!BT23+[1]Ընդամենը1!BT23 -> 0
A24: 1.17 | B24: Անզգուշությամբ առողջությանը ծանր վնաս պատճառելը | C24: 120 | D24: ='[1]նշել դատարանի անվանումը (3)'!D24+[1]Ընդամենը1!D24 -> 0 | E24: ='[1]նշել դատարանի անվանումը (3)'!E24+[1]Ընդամենը1!E24 -> 0 | F24: ='[1]նշել դատարանի անվանումը (3)'!F24+[1]Ընդամենը1!F24 -> 0 | G24: ='[1]նշել դատարանի անվանումը (3)'!G24+[1]Ընդամենը1!G24 -> 0 | H24: ='[1]նշել դատարանի անվանումը (3)'!H24+[1]Ընդամենը1!H24 -> 0 | I24: ='[1]նշել դատարանի անվանումը (3)'!I24+[1]Ընդամենը1!I24 -> 0 | J24: ='[1]նշել դատարանի անվանումը (3)'!J24+[1]Ընդամենը1!J24 -> 0 | K24: ='[1]նշել դատարանի անվանումը (3)'!K24+[1]Ընդամենը1!K24 -> 0 | ... BT24: ='[1]նշել դատարանի անվանումը (3)'!BT24+[1]Ընդամենը1!BT24 -> 0
A25: 1.18 | B25: Անզգուշությամբ առողջությանը միջին ծանրության վնաս պատճառելը | C25: 121 | D25: ='[1]նշել դատարանի անվանումը (3)'!D25+[1]Ընդամենը1!D25 -> 0 | E25: ='[1]նշել դատարանի անվանումը (3)'!E25+[1]Ընդամենը1!E25 -> 0 | F25: ='[1]նշել դատարանի անվանումը (3)'!F25+[1]Ընդամենը1!F25 -> 0 | G25: ='[1]նշել դատարանի անվանումը (3)'!G25+[1]Ընդամենը1!G25 -> 0 | H25: ='[1]նշել դատարանի անվանումը (3)'!H25+[1]Ընդամենը1!H25 -> 0 | I25: ='[1]նշել դատարանի անվանումը (3)'!I25+[1]Ընդամենը1!I25 -> 0 | J25: ='[1]նշել դատարանի անվանումը (3)'!J25+[1]Ընդամենը1!J25 -> 0 | K25: ='[1]նշել դատարանի անվանումը (3)'!K25+[1]Ընդամենը1!K25 -> 0 | ... BT25: ='[1]նշել դատարանի անվանումը (3)'!BT25+[1]Ընդամենը1!BT25 -> 0 | BY25: 1
A26: 1.19 | B26: Ապօրինի աբորտ կատարելը | C26: 122 | D26: ='[1]նշել դատարանի անվանումը (3)'!D26+[1]Ընդամենը1!D26 -> 0 | E26: ='[1]նշել դատարանի անվանումը (3)'!E26+[1]Ընդամենը1!E26 -> 0 | F26: ='[1]նշել դատարանի անվանումը (3)'!F26+[1]Ընդամենը1!F26 -> 0 | G26: ='[1]նշել դատարանի անվանումը (3)'!G26+[1]Ընդամենը1!G26 -> 0 | H26: ='[1]նշել դատարանի անվանումը (3)'!H26+[1]Ընդամենը1!H26 -> 0 | I26: ='[1]նշել դատարանի անվանումը (3)'!I26+[1]Ընդամենը1!I26 -> 0 | J26: ='[1]նշել դատարանի անվանումը (3)'!J26+[1]Ընդամենը1!J26 -> 0 | K26: ='[1]նշել դատարանի անվանումը (3)'!K26+[1]Ընդամենը1!K26 -> 0 | ... BT26: ='[1]նշել դատարանի անվանումը (3)'!BT26+[1]Ընդամենը1!BT26 -> 0
A27: 1.20 | B27: Մարդու իմունային անբավարարության վիրուսի հարուցիչով վարակելը | C27: 123 | D27: ='[1]նշել դատարանի անվանումը (3)'!D27+[1]Ընդամենը1!D27 -> 0 | E27: ='[1]նշել դատարանի անվանումը (3)'!E27+[1]Ընդամենը1!E27 -> 0 | F27: ='[1]նշել դատարանի անվանումը (3)'!F27+[1]Ընդամենը1!F27 -> 0 | G27: ='[1]նշել դատարանի անվանումը (3)'!G27+[1]Ընդամենը1!G27 -> 0 | H27: ='[1]նշել դատարանի անվանումը (3)'!H27+[1]Ընդամենը1!H27 -> 0 | I27: ='[1]նշել դատարանի անվանումը (3)'!I27+[1]Ընդամենը1!I27 -> 0 | J27: ='[1]նշել դատարանի անվանումը (3)'!J27+[1]Ընդամենը1!J27 -> 0 | K27: ='[1]նշել դատարանի անվանումը (3)'!K27+[1]Ընդամենը1!K27 -> 0 | ... BT27: ='[1]նշել դատարանի անվանումը (3)'!BT27+[1]Ընդամենը1!BT27 -> 0
A28: 1.21 | B28: Վեներական հիվանդությամբ կամ այլ սեռավարակներով վարակելը | C28: 124 | D28: ='[1]նշել դատարանի անվանումը (3)'!D28+[1]Ընդամենը1!D28 -> 0 | E28: ='[1]նշել դատարանի անվանումը (3)'!E28+[1]Ընդամենը1!E28 -> 0 | F28: ='[1]նշել դատարանի անվանումը (3)'!F28+[1]Ընդամենը1!F28 -> 0 | G28: ='[1]նշել դատարանի անվանումը (3)'!G28+[1]Ընդամենը1!G28 -> 0 | H28: ='[1]նշել դատարանի անվանումը (3)'!H28+[1]Ընդամենը1!H28 -> 0 | I28: ='[1]նշել դատարանի անվանումը (3)'!I28+[1]Ընդամենը1!I28 -> 0 | J28: ='[1]նշել դատարանի անվանումը (3)'!J28+[1]Ընդամենը1!J28 -> 0 | K28: ='[1]նշել դատարանի անվանումը (3)'!K28+[1]Ընդամենը1!K28 -> 0 | ... BT28: ='[1]նշել դատարանի անվանումը (3)'!BT28+[1]Ընդամենը1!BT28 -> 0
A29: 1.22 | B29: Փոխպատվաստման վիրահատություն կատարելու կանոնները խախտելը | C29: 125 | D29: ='[1]նշել դատարանի անվանումը (3)'!D29+[1]Ընդամենը1!D29 -> 0 | E29: ='[1]նշել դատարանի անվանումը (3)'!E29+[1]Ընդամենը1!E29 -> 0 | F29: ='[1]նշել դատարանի անվանումը (3)'!F29+[1]Ընդամենը1!F29 -> 0 | G29: ='[1]նշել դատարանի անվանումը (3)'!G29+[1]Ընդամենը1!G29 -> 0 | H29: ='[1]նշել դատարանի անվանումը (3)'!H29+[1]Ընդամենը1!H29 -> 0 | I29: ='[1]նշել դատարանի անվանումը (3)'!I29+[1]Ընդամենը1!I29 -> 0 | J29: ='[1]նշել դատարանի անվանումը (3)'!J29+[1]Ընդամենը1!J29 -> 0 | K29: ='[1]նշել դատարանի անվանումը (3)'!K29+[1]Ընդամենը1!K29 -> 0 | ... BT29: ='[1]նշել դատարանի անվանումը (3)'!BT29+[1]Ընդամենը1!BT29 -> 0
A30: 1.24 | B30: Անձին առանց իր հանձնարարության բժշկական կամ գիտական փորձերի ենթարկելը | C30: 127 | D30: ='[1]նշել դատարանի անվանումը (3)'!D30+[1]Ընդամենը1!D30 -> 0 | E30: ='[1]նշել դատարանի անվանումը (3)'!E30+[1]Ընդամենը1!E30 -> 0 | F30: ='[1]նշել դատարանի անվանումը (3)'!F30+[1]Ընդամենը1!F30 -> 0 | G30: ='[1]նշել դատարանի անվանումը (3)'!G30+[1]Ընդամենը1!G30 -> 0 | H30: ='[1]նշել դատարանի անվանումը (3)'!H30+[1]Ընդամենը1!H30 -> 0 | I30: ='[1]նշել դատարանի անվանումը (3)'!I30+[1]Ընդամենը1!I30 -> 0 | J30: ='[1]նշել դատարանի անվանումը (3)'!J30+[1]Ընդամենը1!J30 -> 0 | K30: ='[1]նշել դատարանի անվանումը (3)'!K30+[1]Ընդամենը1!K30 -> 0 | ... BT30: ='[1]նշել դատարանի անվանումը (3)'!BT30+[1]Ընդամենը1!BT30 -> 0
A31: 1.25 | B31: Վտանգի մեջ թողնելը | C31: 128 | D31: ='[1]նշել դատարանի անվանումը (3)'!D31+[1]Ընդամենը1!D31 -> 0 | E31: ='[1]նշել դատարանի անվանումը (3)'!E31+[1]Ընդամենը1!E31 -> 0 | F31: ='[1]նշել դատարանի անվանումը (3)'!F31+[1]Ընդամենը1!F31 -> 0 | G31: ='[1]նշել դատարանի անվանումը (3)'!G31+[1]Ընդամենը1!G31 -> 0 | H31: ='[1]նշել դատարանի անվանումը (3)'!H31+[1]Ընդամենը1!H31 -> 0 | I31: ='[1]նշել դատարանի անվանումը (3)'!I31+[1]Ընդամենը1!I31 -> 0 | J31: ='[1]նշել դատարանի անվանումը (3)'!J31+[1]Ընդամենը1!J31 -> 0 | K31: ='[1]նշել դատարանի անվանումը (3)'!K31+[1]Ընդամենը1!K31 -> 0 | ... BT31: ='[1]նշել դատարանի անվանումը (3)'!BT31+[1]Ընդամենը1!BT31 -> 0
A32: 1.26 | B32: Հիվանդին օգնություն ցույց չտալը | C32: 129 | D32: ='[1]նշել դատարանի անվանումը (3)'!D32+[1]Ընդամենը1!D32 -> 0 | E32: ='[1]նշել դատարանի անվանումը (3)'!E32+[1]Ընդամենը1!E32 -> 0 | F32: ='[1]նշել դատարանի անվանումը (3)'!F32+[1]Ընդամենը1!F32 -> 0 | G32: ='[1]նշել դատարանի անվանումը (3)'!G32+[1]Ընդամենը1!G32 -> 0 | H32: ='[1]նշել դատարանի անվանումը (3)'!H32+[1]Ընդամենը1!H32 -> 0 | I32: ='[1]նշել դատարանի անվանումը (3)'!I32+[1]Ընդամենը1!I32 -> 0 | J32: ='[1]նշել դատարանի անվանումը (3)'!J32+[1]Ընդամենը1!J32 -> 0 | K32: ='[1]նշել դատարանի անվանումը (3)'!K32+[1]Ընդամենը1!K32 -> 0 | ... BT32: ='[1]նշել դատարանի անվանումը (3)'!BT32+[1]Ընդամենը1!BT32 -> 0
A33: 1.27 | B33: Բժշկական օգնություն և սպասարկում իրականացնողների կողմից մասնագիտական պարտականությունները չկատարելը կամ ոչ պատշաճ կատարելը | C33: 130 | D33: ='[1]նշել դատարանի անվանումը (3)'!D33+[1]Ընդամենը1!D33 -> 0 | E33: ='[1]նշել դատարանի անվանումը (3)'!E33+[1]Ընդամենը1!E33 -> 0 | F33: ='[1]նշել դատարանի անվանումը (3)'!F33+[1]Ընդամենը1!F33 -> 0 | G33: ='[1]նշել դատարանի անվանումը (3)'!G33+[1]Ընդամենը1!G33 -> 0 | H33: ='[1]նշել դատարանի անվանումը (3)'!H33+[1]Ընդամենը1!H33 -> 0 | I33: ='[1]նշել դատարանի անվանումը (3)'!I33+[1]Ընդամենը1!I33 -> 0 | J33: ='[1]նշել դատարանի անվանումը (3)'!J33+[1]Ընդամենը1!J33 -> 0 | K33: ='[1]նշել դատարանի անվանումը (3)'!K33+[1]Ընդամենը1!K33 -> 0 | ... BT33: ='[1]նշել դատարանի անվանումը (3)'!BT33+[1]Ընդամենը1!BT33 -> 0
A34: 1.28 | B34: Այլ հանցագործություններ | D34: ='[1]նշել դատարանի անվանումը (3)'!D34+[1]Ընդամենը1!D34 -> 0 | E34: ='[1]նշել դատարանի անվանումը (3)'!E34+[1]Ընդամենը1!E34 -> 0 | F34: ='[1]նշել դատարանի անվանումը (3)'!F34+[1]Ընդամենը1!F34 -> 0 | G34: ='[1]նշել դատարանի անվանումը (3)'!G34+[1]Ընդամենը1!G34 -> 0 | H34: ='[1]նշել դատարանի անվանումը (3)'!H34+[1]Ընդամենը1!H34 -> 0 | I34: ='[1]նշել դատարանի անվանումը (3)'!I34+[1]Ընդամենը1!I34 -> 0 | J34: ='[1]նշել դատարանի անվանումը (3)'!J34+[1]Ընդամենը1!J34 -> 0 | K34: ='[1]նշել դատարանի անվանումը (3)'!K34+[1]Ընդամենը1!K34 -> 0 | ... BT34: ='[1]նշել դատարանի անվանումը (3)'!BT34+[1]Ընդամենը1!BT34 -> 0
A35: 2. | B35: Ընդամենը անձի ազատության, պատվի և արժանապատվության դեմ ուղղված հանցագործությունները | D35: =SUM(D36:D43) -> 0 | E35: =SUM(E36:E43) -> 0 | F35: =SUM(F36:F43) -> 0 | G35: =SUM(G36:G43) -> 0 | H35: =SUM(H36:H43) -> 0 | I35: =SUM(I36:I43) -> 0 | J35: =SUM(J36:J43) -> 0 | K35: =SUM(K36:K43) -> 0 | ... CA35: =SUM(CA36:CA43) -> 0
A36: 2.1 | B36: Մարդուն առևանգելը | C36: 131 | D36: ='[1]նշել դատարանի անվանումը (3)'!D36+[1]Ընդամենը1!D36 -> 0 | E36: ='[1]նշել դատարանի անվանումը (3)'!E36+[1]Ընդամենը1!E36 -> 0 | F36: ='[1]նշել դատարանի անվանումը (3)'!F36+[1]Ընդամենը1!F36 -> 0 | G36: ='[1]նշել դատարանի անվանումը (3)'!G36+[1]Ընդամենը1!G36 -> 0 | H36: ='[1]նշել դատարանի անվանումը (3)'!H36+[1]Ընդամենը1!H36 -> 0 | I36: ='[1]նշել դատարանի անվանումը (3)'!I36+[1]Ընդամենը1!I36 -> 0 | J36: ='[1]նշել դատարանի անվանումը (3)'!J36+[1]Ընդամենը1!J36 -> 0 | K36: ='[1]նշել դատարանի անվանումը (3)'!K36+[1]Ընդամենը1!K36 -> 0 | ... BT36: ='[1]նշել դատարանի անվանումը (3)'!BT36+[1]Ընդամենը1!BT36 -> 0 | BZ36: 6
A37: 2.2 | B37: Մարդու թրաֆիքինգը կամ շահագործումը | C37: 132 | D37: ='[1]նշել դատարանի անվանումը (3)'!D37+[1]Ընդամենը1!D37 -> 0 | E37: ='[1]նշել դատարանի անվանումը (3)'!E37+[1]Ընդամենը1!E37 -> 0 | F37: ='[1]նշել դատարանի անվանումը (3)'!F37+[1]Ընդամենը1!F37 -> 0 | G37: ='[1]նշել դատարանի անվանումը (3)'!G37+[1]Ընդամենը1!G37 -> 0 | H37: ='[1]նշել դատարանի անվանումը (3)'!H37+[1]Ընդամենը1!H37 -> 0 | I37: ='[1]նշել դատարանի անվանումը (3)'!I37+[1]Ընդամենը1!I37 -> 0 | J37: ='[1]նշել դատարանի անվանումը (3)'!J37+[1]Ընդամենը1!J37 -> 0 | K37: ='[1]նշել դատարանի անվանումը (3)'!K37+[1]Ընդամենը1!K37 -> 0 | ... BT37: ='[1]նշել դատարանի անվանումը (3)'!BT37+[1]Ընդամենը1!BT37 -> 0
A38: 2.2.2 | B38: Երեխայի կամ հոգեկան խանգարման հետևանքով իր արարքի բնույթն ու նշանակությունը գիտակցելու կամ դա ղեկավարելու հնարավորությունից զրկված անձի թրաֆիքինգը կամ շահագործումը | C38: 132.2 | D38: ='[1]նշել դատարանի անվանումը (3)'!D38+[1]Ընդամենը1!D38 -> 0 | E38: ='[1]նշել դատարանի անվանումը (3)'!E38+[1]Ընդամենը1!E38 -> 0 | F38: ='[1]նշել դատարանի անվանումը (3)'!F38+[1]Ընդամենը1!F38 -> 0 | G38: ='[1]նշել դատարանի անվանումը (3)'!G38+[1]Ընդամենը1!G38 -> 0 | H38: ='[1]նշել դատարանի անվանումը (3)'!H38+[1]Ընդամենը1!H38 -> 0 | I38: ='[1]նշել դատարանի անվանումը (3)'!I38+[1]Ընդամենը1!I38 -> 0 | J38: ='[1]նշել դատարանի անվանումը (3)'!J38+[1]Ընդամենը1!J38 -> 0 | K38: ='[1]նշել դատարանի անվանումը (3)'!K38+[1]Ընդամենը1!K38 -> 0 | ... BT38: ='[1]նշել դատարանի անվանումը (3)'!BT38+[1]Ընդամենը1!BT38 -> 0
A39: 2.2.3 | B39: Շահագործման վիճակում գտնվող անձի ծառայությունից օգտվելը | C39: 132.3 | D39: ='[1]նշել դատարանի անվանումը (3)'!D39+[1]Ընդամենը1!D39 -> 0 | E39: ='[1]նշել դատարանի անվանումը (3)'!E39+[1]Ընդամենը1!E39 -> 0 | F39: ='[1]նշել դատարանի անվանումը (3)'!F39+[1]Ընդամենը1!F39 -> 0 | G39: ='[1]նշել դատարանի անվանումը (3)'!G39+[1]Ընդամենը1!G39 -> 0 | H39: ='[1]նշել դատարանի անվանումը (3)'!H39+[1]Ընդամենը1!H39 -> 0 | I39: ='[1]նշել դատարանի անվանումը (3)'!I39+[1]Ընդամենը1!I39 -> 0 | J39: ='[1]նշել դատարանի անվանումը (3)'!J39+[1]Ընդամենը1!J39 -> 0 | K39: ='[1]նշել դատարանի անվանումը (3)'!K39+[1]Ընդամենը1!K39 -> 0 | ... BT39: ='[1]նշել դատարանի անվանումը (3)'!BT39+[1]Ընդամենը1!BT39 -> 0
A40: 2.3 | B40: Ազատությունից ապօրինի զրկելը | C40: 133 | D40: ='[1]նշել դատարանի անվանումը (3)'!D40+[1]Ընդամենը1!D40 -> 0 | E40: ='[1]նշել դատարանի անվանումը (3)'!E40+[1]Ընդամենը1!E40 -> 0 | F40: ='[1]նշել դատարանի անվանումը (3)'!F40+[1]Ընդամենը1!F40 -> 0 | G40: ='[1]նշել դատարանի անվանումը (3)'!G40+[1]Ընդամենը1!G40 -> 0 | H40: ='[1]նշել դատարանի անվանումը (3)'!H40+[1]Ընդամենը1!H40 -> 0 | I40: ='[1]նշել դատարանի անվանումը (3)'!I40+[1]Ընդամենը1!I40 -> 0 | J40: ='[1]նշել դատարանի անվանումը (3)'!J40+[1]Ընդամենը1!J40 -> 0 | K40: ='[1]նշել դատարանի անվանումը (3)'!K40+[1]Ընդամենը1!K40 -> 0 | ... BT40: ='[1]նշել դատարանի անվանումը (3)'!BT40+[1]Ընդամենը1!BT40 -> 0
A41: 2.4 | B41: Հոգեբուժական հիվանդանոցում ապօրինի տեղավորելը կամ պահելը | C41: 134 | D41: ='[1]նշել դատարանի անվանումը (3)'!D41+[1]Ընդամենը1!D41 -> 0 | E41: ='[1]նշել դատարանի անվանումը (3)'!E41+[1]Ընդամենը1!E41 -> 0 | F41: ='[1]նշել դատարանի անվանումը (3)'!F41+[1]Ընդամենը1!F41 -> 0 | G41: ='[1]նշել դատարանի անվանումը (3)'!G41+[1]Ընդամենը1!G41 -> 0 | H41: ='[1]նշել դատարանի անվանումը (3)'!H41+[1]Ընդամենը1!H41 -> 0 | I41: ='[1]նշել դատարանի անվանումը (3)'!I41+[1]Ընդամենը1!I41 -> 0 | J41: ='[1]նշել դատարանի անվանումը (3)'!J41+[1]Ընդամենը1!J41 -> 0 | K41: ='[1]նշել դատարանի անվանումը (3)'!K41+[1]Ընդամենը1!K41 -> 0 | ... BT41: ='[1]նշել դատարանի անվանումը (3)'!BT41+[1]Ընդամենը1!BT41 -> 0
A42: 2.7 | B42: Սպանության, առողջությանը ծանր վնաս պատճառելու կամ գույք ոչնչացնելու սպառնալիքը | C42: 137 | D42: ='[1]նշել դատարանի անվանումը (3)'!D42+[1]Ընդամենը1!D42 -> 0 | E42: ='[1]նշել դատարանի անվանումը (3)'!E42+[1]Ընդամենը1!E42 -> 0 | F42: ='[1]նշել դատարանի անվանումը (3)'!F42+[1]Ընդամենը1!F42 -> 0 | G42: ='[1]նշել դատարանի անվանումը (3)'!G42+[1]Ընդամենը1!G42 -> 0 | H42: ='[1]նշել դատարանի անվանումը (3)'!H42+[1]Ընդամենը1!H42 -> 0 | I42: ='[1]նշել դատարանի անվանումը (3)'!I42+[1]Ընդամենը1!I42 -> 0 | J42: ='[1]նշել դատարանի անվանումը (3)'!J42+[1]Ընդամենը1!J42 -> 0 | K42: ='[1]նշել դատարանի անվանումը (3)'!K42+[1]Ընդամենը1!K42 -> 0 | ... BT42: ='[1]նշել դատարանի անվանումը (3)'!BT42+[1]Ընդամենը1!BT42 -> 0
A43: 2.8 | B43: Այլ հանցագործություններ | D43: ='[1]նշել դատարանի անվանումը (3)'!D43+[1]Ընդամենը1!D43 -> 0 | E43: ='[1]նշել դատարանի անվանումը (3)'!E43+[1]Ընդամենը1!E43 -> 0 | F43: ='[1]նշել դատարանի անվանումը (3)'!F43+[1]Ընդամենը1!F43 -> 0 | G43: ='[1]նշել դատարանի անվանումը (3)'!G43+[1]Ընդամենը1!G43 -> 0 | H43: ='[1]նշել դատարանի անվանումը (3)'!H43+[1]Ընդամենը1!H43 -> 0 | I43: ='[1]նշել դատարանի անվանումը (3)'!I43+[1]Ընդամենը1!I43 -> 0 | J43: ='[1]նշել դատարանի անվանումը (3)'!J43+[1]Ընդամենը1!J43 -> 0 | K43: ='[1]նշել դատարանի անվանումը (3)'!K43+[1]Ընդամենը1!K43 -> 0 | ... BT43: ='[1]նշել դատարանի անվանումը (3)'!BT43+[1]Ընդամենը1!BT43 -> 0
A44: 3. | B44: Ընդամենը սեռական անձեռնմխելիության և սեռական ազատության դեմ ուղղված հանցագործությունները | D44: =SUM(D45:D50) -> 0 | E44: =SUM(E45:E50) -> 0 | F44: =SUM(F45:F50) -> 0 | G44: =SUM(G45:G50) -> 0 | H44: =SUM(H45:H50) -> 0 | I44: =SUM(I45:I50) -> 1 | J44: =SUM(J45:J50) -> 0 | K44: =SUM(K45:K50) -> 0 | ... CA44: =SUM(CA45:CA50) -> 0
A45: 3.1 | B45: Բռնաբարությունը | C45: 138 | D45: ='[1]նշել դատարանի անվանումը (3)'!D45+[1]Ընդամենը1!D45 -> 0 | E45: ='[1]նշել դատարանի անվանումը (3)'!E45+[1]Ընդամենը1!E45 -> 0 | F45: ='[1]նշել դատարանի անվանումը (3)'!F45+[1]Ընդամենը1!F45 -> 0 | G45: ='[1]նշել դատարանի անվանումը (3)'!G45+[1]Ընդամենը1!G45 -> 0 | H45: ='[1]նշել դատարանի անվանումը (3)'!H45+[1]Ընդամենը1!H45 -> 0 | I45: ='[1]նշել դատարանի անվանումը (3)'!I45+[1]Ընդամենը1!I45 -> 0 | J45: ='[1]նշել դատարանի անվանումը (3)'!J45+[1]Ընդամենը1!J45 -> 0 | K45: ='[1]նշել դատարանի անվանումը (3)'!K45+[1]Ընդամենը1!K45 -> 0 | ... BT45: ='[1]նշել դատարանի անվանումը (3)'!BT45+[1]Ընդամենը1!BT45 -> 0
A46: 3.2 | B46: Սեքսուալ բնույթի բռնի գործողությունները | C46: 139 | D46: ='[1]նշել դատարանի անվանումը (3)'!D46+[1]Ընդամենը1!D46 -> 0 | E46: ='[1]նշել դատարանի անվանումը (3)'!E46+[1]Ընդամենը1!E46 -> 0 | F46: ='[1]նշել դատարանի անվանումը (3)'!F46+[1]Ընդամենը1!F46 -> 0 | G46: ='[1]նշել դատարանի անվանումը (3)'!G46+[1]Ընդամենը1!G46 -> 0 | H46: ='[1]նշել դատարանի անվանումը (3)'!H46+[1]Ընդամենը1!H46 -> 0 | I46: ='[1]նշել դատարանի անվանումը (3)'!I46+[1]Ընդամենը1!I46 -> 0 | J46: ='[1]նշել դատարանի անվանումը (3)'!J46+[1]Ընդամենը1!J46 -> 0 | K46: ='[1]նշել դատարանի անվանումը (3)'!K46+[1]Ընդամենը1!K46 -> 0 | ... BT46: ='[1]նշել դատարանի անվանումը (3)'!BT46+[1]Ընդամենը1!BT46 -> 0 | BZ46: 1
A47: 3.3 | B47: Սեռական հարաբերության կամ սեքսուալ բնույթի գործողություններին հարկադրելը | C47: 140 | D47: ='[1]նշել դատարանի անվանումը (3)'!D47+[1]Ընդամենը1!D47 -> 0 | E47: ='[1]նշել դատարանի անվանումը (3)'!E47+[1]Ընդամենը1!E47 -> 0 | F47: ='[1]նշել դատարանի անվանումը (3)'!F47+[1]Ընդամենը1!F47 -> 0 | G47: ='[1]նշել դատարանի անվանումը (3)'!G47+[1]Ընդամենը1!G47 -> 0 | H47: ='[1]նշել դատարանի անվանումը (3)'!H47+[1]Ընդամենը1!H47 -> 0 | I47: ='[1]նշել դատարանի անվանումը (3)'!I47+[1]Ընդամենը1!I47 -> 0 | J47: ='[1]նշել դատարանի անվանումը (3)'!J47+[1]Ընդամենը1!J47 -> 0 | K47: ='[1]նշել դատարանի անվանումը (3)'!K47+[1]Ընդամենը1!K47 -> 0 | ... BT47: ='[1]նշել դատարանի անվանումը (3)'!BT47+[1]Ընդամենը1!BT47 -> 0
A48: 3.4 | B48: Սեռական հարաբերությունը տասնվեց տարին չլրացած անձի հետ կամ սեքսուալ բնույթի գործողություններ կատարելը տասնվեց տարին չլրացած անձի նկատմամբ | C48: 141 | D48: ='[1]նշել դատարանի անվանումը (3)'!D48+[1]Ընդամենը1!D48 -> 0 | E48: ='[1]նշել դատարանի անվանումը (3)'!E48+[1]Ընդամենը1!E48 -> 0 | F48: ='[1]նշել դատարանի անվանումը (3)'!F48+[1]Ընդամենը1!F48 -> 0 | G48: ='[1]նշել դատարանի անվանումը (3)'!G48+[1]Ընդամենը1!G48 -> 0 | H48: ='[1]նշել դատարանի անվանումը (3)'!H48+[1]Ընդամենը1!H48 -> 0 | I48: ='[1]նշել դատարանի անվանումը (3)'!I48+[1]Ընդամենը1!I48 -> 1 | J48: ='[1]նշել դատարանի անվանումը (3)'!J48+[1]Ընդամենը1!J48 -> 0 | K48: ='[1]նշել դատարանի անվանումը (3)'!K48+[1]Ընդամենը1!K48 -> 0 | ... BT48: ='[1]նշել դատարանի անվանումը (3)'!BT48+[1]Ընդամենը1!BT48 -> 0 | BY48: 1 | BZ48: 4
A49: 3.5 | B49: Անառակաբարո գործողությունները | C49: 142 | D49: ='[1]նշել դատարանի անվանումը (3)'!D49+[1]Ընդամենը1!D49 -> 0 | E49: ='[1]նշել դատարանի անվանումը (3)'!E49+[1]Ընդամենը1!E49 -> 0 | F49: ='[1]նշել դատարանի անվանումը (3)'!F49+[1]Ընդամենը1!F49 -> 0 | G49: ='[1]նշել դատարանի անվանումը (3)'!G49+[1]Ընդամենը1!G49 -> 0 | H49: ='[1]նշել դատարանի անվանումը (3)'!H49+[1]Ընդամենը1!H49 -> 0 | I49: ='[1]նշել դատարանի անվանումը (3)'!I49+[1]Ընդամենը1!I49 -> 0 | J49: ='[1]նշել դատարանի անվանումը (3)'!J49+[1]Ընդամենը1!J49 -> 0 | K49: ='[1]նշել դատարանի անվանումը (3)'!K49+[1]Ընդամենը1!K49 -> 0 | ... BT49: ='[1]նշել դատարանի անվանումը (3)'!BT49+[1]Ընդամենը1!BT49 -> 0
A50: 3.6 | B50: Այլ հանցագործություններ | D50: ='[1]նշել դատարանի անվանումը (3)'!D50+[1]Ընդամենը1!D50 -> 0 | E50: ='[1]նշել դատարանի անվանումը (3)'!E50+[1]Ընդամենը1!E50 -> 0 | F50: ='[1]նշել դատարանի անվանումը (3)'!F50+[1]Ընդամենը1!F50 -> 0 | G50: ='[1]նշել դատարանի անվանումը (3)'!G50+[1]Ընդամենը1!G50 -> 0 | H50: ='[1]նշել դատարանի անվանումը (3)'!H50+[1]Ընդամենը1!H50 -> 0 | I50: ='[1]նշել դատարանի անվանումը (3)'!I50+[1]Ընդամենը1!I50 -> 0 | J50: ='[1]նշել դատարանի անվանումը (3)'!J50+[1]Ընդամենը1!J50 -> 0 | K50: ='[1]նշել դատարանի անվանումը (3)'!K50+[1]Ընդամենը1!K50 -> 0 | ... BT50: ='[1]նշել դատարանի անվանումը (3)'!BT50+[1]Ընդամենը1!BT50 -> 0
A51: 4. | B51: Ընդամենը մարդու և քաղաքացու սահմանադրական իրավունքների և ազատությունների դեմ ուղղված հանցագործությունները | D51: =SUM(D52:D80) -> 0 | E51: =SUM(E52:E80) -> 0 | F51: =SUM(F52:F80) -> 0 | G51: =SUM(G52:G80) -> 0 | H51: =SUM(H52:H80) -> 0 | I51: =SUM(I52:I80) -> 1 | J51: =SUM(J52:J80) -> 0 | K51: =SUM(K52:K80) -> 0 | ... CA51: =SUM(CA52:CA80) -> 0
A52: 4.1 | B52: Մարդու և քաղաքացու իրավահավասարությունը խախտելը | C52: 143 | D52: ='[1]նշել դատարանի անվանումը (3)'!D52+[1]Ընդամենը1!D52 -> 0 | E52: ='[1]նշել դատարանի անվանումը (3)'!E52+[1]Ընդամենը1!E52 -> 0 | F52: ='[1]նշել դատարանի անվանումը (3)'!F52+[1]Ընդամենը1!F52 -> 0 | G52: ='[1]նշել դատարանի անվանումը (3)'!G52+[1]Ընդամենը1!G52 -> 0 | H52: ='[1]նշել դատարանի անվանումը (3)'!H52+[1]Ընդամենը1!H52 -> 0 | I52: ='[1]նշել դատարանի անվանումը (3)'!I52+[1]Ընդամենը1!I52 -> 0 | J52: ='[1]նշել դատարանի անվանումը (3)'!J52+[1]Ընդամենը1!J52 -> 0 | K52: ='[1]նշել դատարանի անվանումը (3)'!K52+[1]Ընդամենը1!K52 -> 0 | ... BT52: ='[1]նշել դատարանի անվանումը (3)'!BT52+[1]Ընդամենը1!BT52 -> 0
A53: 4.2 | B53: Անձնական կամ ընտանեկան կյանքի մասին տեղեկություններ ապօրինի հավաքելը, պահելը, օգտագործելը կամ տարածելը | C53: 144 | D53: ='[1]նշել դատարանի անվանումը (3)'!D53+[1]Ընդամենը1!D53 -> 0 | E53: ='[1]նշել դատարանի անվանումը (3)'!E53+[1]Ընդամենը1!E53 -> 0 | F53: ='[1]նշել դատարանի անվանումը (3)'!F53+[1]Ընդամենը1!F53 -> 0 | G53: ='[1]նշել դատարանի անվանումը (3)'!G53+[1]Ընդամենը1!G53 -> 0 | H53: ='[1]նշել դատարանի անվանումը (3)'!H53+[1]Ընդամենը1!H53 -> 0 | I53: ='[1]նշել դատարանի անվանումը (3)'!I53+[1]Ընդամենը1!I53 -> 0 | J53: ='[1]նշել դատարանի անվանումը (3)'!J53+[1]Ընդամենը1!J53 -> 0 | K53: ='[1]նշել դատարանի անվանումը (3)'!K53+[1]Ընդամենը1!K53 -> 0 | ... BT53: ='[1]նշել դատարանի անվանումը (3)'!BT53+[1]Ընդամենը1!BT53 -> 0 | BZ53: 1
A54: 4.3 | B54: Բժշկական գաղտնիքը հրապարակելը | C54: 145 | D54: ='[1]նշել դատարանի անվանումը (3)'!D54+[1]Ընդամենը1!D54 -> 0 | E54: ='[1]նշել դատարանի անվանումը (3)'!E54+[1]Ընդամենը1!E54 -> 0 | F54: ='[1]նշել դատարանի անվանումը (3)'!F54+[1]Ընդամենը1!F54 -> 0 | G54: ='[1]նշել դատարանի անվանումը (3)'!G54+[1]Ընդամենը1!G54 -> 0 | H54: ='[1]նշել դատարանի անվանումը (3)'!H54+[1]Ընդամենը1!H54 -> 0 | I54: ='[1]նշել դատարանի անվանումը (3)'!I54+[1]Ընդամենը1!I54 -> 0 | J54: ='[1]նշել դատարանի անվանումը (3)'!J54+[1]Ընդամենը1!J54 -> 0 | K54: ='[1]նշել դատարանի անվանումը (3)'!K54+[1]Ընդամենը1!K54 -> 0 | ... BT54: ='[1]նշել դատարանի անվանումը (3)'!BT54+[1]Ընդամենը1!BT54 -> 0
