Workbook

Sheet Ընդհանուր
A1: ՀԱՇՎԵՏՎՈՒԹՅՈՒՆ
A2: 2020թ. 1-ին կիսամյակի | C2: ԱՆՁԱՆՑ ՎԵՐԱԲԵՐՅԱԼ, ՈՐՈՆՑ ԿԱՊԱԿՑՈՒԹՅԱՄԲ ԿԱՅԱՑՎԱԾ ԴԱՏԱԿԱՆ ԱԿՏԵՐԸ ՄՏԵԼ ԵՆ ՕՐԻՆԱԿԱՆ ՈւԺԻ ՄԵՋ
A3: Վիճակագրական տողի համարը | B3: ՀԱՆՑԱԳՈՐԾՈՒԹՅՈՒՆՆԵՐԻ ՏԵՍԱԿՆԵՐԸ | C3: ՀՀ Քրեական օրենսգրքի հոդվածը | D3: Անձանց թիվը, որոնց վերաբերյալ գործերը կարճվել կամ քրեական հետապնդումը դադարեցվել է | G3: Անմեղսունակներ, որոնց նկատմամբ կիրառվել են բժշկական բնույթի հարկադրական միջոցներ | H3: Արդարացվածների թիվը | I3: Դատապարտյալների թիվը (ծանոթություն.Մեղադրյալը, որի վերաբերյալ կա օրինական ուժի մեջ մտած դատարանի դատավճիռ, որն ամբողջությամբ կամ մասնակիորեն մեղադրական է, կոչվում է դատապարտյալ) | O3: Դատապարտյալների նկատմամբ նշանակված հիմնական պատիժներ | AD3: նշանակված պատիժը պայմանականորեն չի կիրառվել | AE3: կիրառվել է համաներման ակտ | AF3: Լրացուցիչ պատիժներ | AI3: Օրենքով նախատեսվածից ավելի մեղմ պատիժ է նշանակվել | AJ3: Հանցանքը կատարվել է | AR3: Անձի զբաղմունքի տեսակը` նախքան դատապարտվելը | AY3: Անձի քաղաքացիությունը | BB3: Դատապարտվածների թիվը, որոնց նախկին դատվածությունը հանվել կամ մարվել է | BC3: Դատապարտյալների թիվը, որոնք ունեն չհանված կամ չմարված դատվածություն | BG3: Դրանցից (սյունակ 55) եղել են դատապարտված | BK3: Չհանված, չմարված դատվածությամբ դատապարտյալը պատժից ազատվել է | BO3: Նոր հանցագործությունը կատարել է պատիժը չկրած | BT3: Նոր հանցագործությունը կատարել է ազատազրկման վայրից ազատվելուց առաջին տարվա ընթացքում | BU3: Անձանց թիվը, որոնց վերաբերյալ հաշվետու տարվա ընթացքում քննվել են գործեր | BV3: Դատապարտյալը հանձնվել է վերադաստիրակման կամ հսկողության | BW3: Դատապարտյալի նկատմամբ նշանակվել է հարկադիր բուժում գինեմոլության դեմ | BX3: Դատապարտյալի նկատմամբ նշանակվել է հարկադիր բուժում թմրամոլության դեմ | BY3: Դատվածությունների շարժը
D4: Այդ թվում՝ հանցադեպի կամ հանցակազմի բացակայության և մեղադրանքի չապացուցված լինելու պատճառով | E4: այլ հիմքով | F4: Ընդամենը | I4: որից դատապարտվել են | L4: Ընդամենը(6,7,8 սյունակներ) | M4: Այդ թվում՝ կանայք | N4: Այդ թվում` անչափահասներ | O4: Ա զ ա տ ա զ ր կ ու մ | X4: հանրային աշխատանքներ | Y4: տուգանք | Z4: Որոշակի պաշտոններ զբաղ. կամ որոշակի գործ. զբաղվ. իրավ. զրկում | AA4: Կարգապահական գումարտակում պահելը | AB4: զին. Ծառայության մեջ սահմանափակում | AC4: կալանք | AF4: գույքի բռնագրավում | AG4: հատուկ կամ զին. կոչումից, կարգից, աստիճանից կամ որակավորման դասից զրկելը | AH4: որոշակի պաշտ. զբաղ. կամ որոշակի գործ.զբաղվ. իրավ. զրկում | AJ4: ալկ., թմրամիջ. կամ թնրեցնող այլ նյութերի ազդ. | AK4: Մի խումբ անձանց կազմում | AL4: Կազմակերպված խմբի կամ հանցավոր համագործակցության կազմում | AM4: 14-16 տարեկան հասակում | AN4: 16-18 տարեկան հասակում | AO4: 18-29 տարեկան հասակում | AP4: 30-49 տարեկան հասակում | AQ4: 50 տարեկան և բարձր | AR4: Պաշտոնատար անձինք | AS4: Զին. ծառայողներ | AT4: Այլ զբաղմունք | AU4: Սովորողներ | AW4: Չաշխատող և չսովորող աշխատունակներ | AX4: արգելանքի տակ գտնվող անձ | AY4: ՀՀ քաղաքացի | AZ4: Քաղաքացիություն չունեցող անձ | BA4: Օտարերկրյա պետության քաղաքացի | BC4: Մեկ դատվածություն | BD4: Երկու դատվածություն | BE4: Երեք և ավելի դատվածություն | BF4: Ընդամենը | BG4: Սպանության, դիտավորյամբ առողջությանը ծանր վնաս պատճառելու, բռնաբարության համար | BH4: Գույքի հափշտակության համար | BI4: Խուլիգանության համար | BJ4: այլ հանցագործությունների համար | BK4: Պատիժը կրել է լրիվ չափով | BL4: Պայմանական վաղաժամկետ | BM4: Համաներման ակտի կիրառմամբ | BN4: Այլ հիմքերով | BO4: Ազատազրկման վայրում | BP4: Այլ պատիժ կրելիս | BQ4: Դատավճռի կատարման հետաձգման ժամանակահատվածում | BR4: Փորձաշրջանի ընթացքում | BS4: Ընդամենը | BY4: Հաշվետու տարվա ընթացքում դատապարտված անձանց թիվը | BZ4: Հաշվետու տարվան նախորդող տարվա ընթացքում դատապարտված անձանց թիվը | CA4: ավելացել է պակասել է
B5: ՍՏՈՒԳԻՉ ՀԱՎԱՍԱՐՈՒՄՆԵՐ 3=1+2, 9=6+7+8, 20=12+13+14+15+16+17+18+19, 9=20+21+22+23+24+25+26 9=36+37+38+39+40, 9=41+42+43+44+45+46+47,9=48+49+50, 55=52+53+54,55=56+57+58+59, 68=64+65+66+67 | I5: Ավարտված հանցագործության համար | J5: Հանցափորձի համար(ՀՀ քր. օր-ի 34-րդ հոդ.) | K5: Հանցակցության համար(ՀՀ քր.օր-ի 38-րդ հոդ.) | O5: 1 տարի ներառյալ | P5: 1 տարուց ավել, մինչև 2 տարի ներառյալ | Q5: 2 տարուց ավել, մինչև 3 տարի ներառյալ | R5: 3 տարուց ավել, մինչև 5 տարի ներառյալ | S5: 5 տարուց ավել, մինչև 8 տարի ներառյալ | T5: 8 տարուց ավել, մինչև 10 տարի ներառյալ | U5: 10 տարուց ավել, մինչև 15 տարի ներառյալ | V5: ցմահ ազատազրկում | W5: ընդամենը | AU5: 18 տարեկանից ցածր | AV5: 18 տարեկանից բարձր
D6: 1 | E6: 2 | F6: 3 | G6: 4 | H6: 5 | I6: 6 | J6: 7 | K6: 8 | L6: 9 | M6: 10 | N6: 11 | O6: 12 | P6: 13 | Q6: 14 | R6: 15 | S6: 16 | T6: 17 | U6: 18 | V6: 19 | W6: 20 | X6: 21 | Y6: 22 | Z6: 23 | AA6: 24 | AB6: 25 | AC6: 26 | AD6: 27 | AE6: 28 | AF6: 29 | AG6: 30 | AH6: 31 | AI6: 32 | AJ6: 33 | AK6: 34 | AL6: 35 | AM6: 36 | AN6: 37 | AO6: 38 | AP6: 39 | AQ6: 40 | AR6: 41 | AS6: 42 | AT6: 43 | AU6: 44 | AV6: 45 | AW6: 46 | AX6: 47 | AY6: 48 | AZ6: 49 | BA6: 50 | BB6: 51 | BC6: 52 | BD6: 53 | BE6: 54 | BF6: 55 | BG6: 56 | BH6: 57 | BI6: 58 | BJ6: 59 | BK6: 60 | BL6: 61 | BM6: 62 | BN6: 63 | BO6: 64 | BP6: 65 | BQ6: 66 | BR6: 67 | BS6: 68 | BT6: 69 | BU6: 70 | BV6: 71 | BW6: 72 | BX6: 73 | BY6: 74 | BZ6: 75 | CA6: 76
A7: 1. | B7: Ընդամենը կյանքի և առողջության դեմ ուղղված հանցագործությունները | D7: =SUM('Լոռի :Կոտայք'!D7) -> 0 | E7: =SUM('Լոռի :Կոտայք'!E7) -> 38 | F7: =SUM('Լոռի :Կոտայք'!F7) -> 38 | G7: =SUM('Լոռի :Կոտայք'!G7) -> 4 | H7: =SUM('Լոռի :Կոտայք'!H7) -> 2 | I7: =SUM('Լոռի :Կոտայք'!I7) -> 66 | J7: =SUM('Լոռի :Կոտայք'!J7) -> 0 | K7: =SUM('Լոռի :Կոտայք'!K7) -> 0 | ... CA7: =SUM('Լոռի :Կոտայք'!CA7) -> -18
A8: 1.1 | B8: Սպանությունը | C8: 104 | D8: =SUM('Լոռի :Կոտայք'!D8) -> 0 | E8: =SUM('Լոռի :Կոտայք'!E8) -> 2 | F8: =SUM('Լոռի :Կոտայք'!F8) -> 2 | G8: =SUM('Լոռի :Կոտայք'!G8) -> 1 | H8: =SUM('Լոռի :Կոտայք'!H8) -> 1 | I8: =SUM('Լոռի :Կոտայք'!I8) -> 3 | J8: =SUM('Լոռի :Կոտայք'!J8) -> 0 | K8: =SUM('Լոռի :Կոտայք'!K8) -> 0 | ... CA8: =SUM('Լոռի :Կոտայք'!CA8) -> -3
A9: 1.2 | B9: Հոգեկան խիստ հուզմունքի վիճակում կատարված սպանությունը | C9: 105 | D9: =SUM('Լոռի :Կոտայք'!D9) -> 0 | E9: =SUM('Լոռի :Կոտայք'!E9) -> 0 | F9: =SUM('Լոռի :Կոտայք'!F9) -> 0 | G9: =SUM('Լոռի :Կոտայք'!G9) -> 0 | H9: =SUM('Լոռի :Կոտայք'!H9) -> 0 | I9: =SUM('Լոռի :Կոտայք'!I9) -> 0 | J9: =SUM('Լոռի :Կոտայք'!J9) -> 0 | K9: =SUM('Լոռի :Կոտայք'!K9) -> 0 | ... CA9: =SUM('Լոռի :Կոտայք'!CA9) -> 0
A10: 1.3 | B10: Մոր կողմից նորածին երեխայի սպանությունը | C10: 106 | D10: =SUM('Լոռի :Կոտայք'!D10) -> 0 | E10: =SUM('Լոռի :Կոտայք'!E10) -> 0 | F10: =SUM('Լոռի :Կոտայք'!F10) -> 0 | G10: =SUM('Լոռի :Կոտայք'!G10) -> 0 | H10: =SUM('Լոռի :Կոտայք'!H10) -> 0 | I10: =SUM('Լոռի :Կոտայք'!I10) -> 0 | J10: =SUM('Լոռի :Կոտայք'!J10) -> 0 | K10: =SUM('Լոռի :Կոտայք'!K10) -> 0 | ... CA10: =SUM('Լոռի :Կոտայք'!CA10) -> 0
A11: 1.4 | B11: Հանցանք կատարած անձին բռնելու համար անհրաժեշտ միջոցների սահմանազանցմամբ սպանությունը | C11: 107 | D11: =SUM('Լոռի :Կոտայք'!D11) -> 0 | E11: =SUM('Լոռի :Կոտայք'!E11) -> 0 | F11: =SUM('Լոռի :Կոտայք'!F11) -> 0 | G11: =SUM('Լոռի :Կոտայք'!G11) -> 0 | H11: =SUM('Լոռի :Կոտայք'!H11) -> 0 | I11: =SUM('Լոռի :Կոտայք'!I11) -> 0 | J11: =SUM('Լոռի :Կոտայք'!J11) -> 0 | K11: =SUM('Լոռի :Կոտայք'!K11) -> 0 | ... AS11: =SUM('Լոռի :Կոտայք'!AS11) -> 0 | AT11: 0 | AU11: 0 | AV11: =SUM('Լոռի :Կոտայք'!AV11) -> 0 | AW11: =SUM('Լոռի :Կոտայք'!AW11) -> 0 | AX11: =SUM('Լոռի :Կոտայք'!AX11) -> 0 | AY11: =SUM('Լոռի :Կոտայք'!AY11) -> 0 | AZ11: =SUM('Լոռի :Կոտայք'!AZ11) -> 0 | BA11: =SUM('Լոռի :Կոտայք'!BA11) -> 0 | BB11: =SUM('Լոռի :Կոտայք'!BB11) -> 0 | BC11: =SUM('Լոռի :Կոտայք'!BC11) -> 0 | ... CA11: =SUM('Լոռի :Կոտայք'!CA11) -> 0
A12: 1.5 | B12: Անհրաժեշտ պաշտպանության սահմանազանցմամբ սպանությունը | C12: 108 | D12: =SUM('Լոռի :Կոտայք'!D12) -> 0 | E12: =SUM('Լոռի :Կոտայք'!E12) -> 0 | F12: =SUM('Լոռի :Կոտայք'!F12) -> 0 | G12: =SUM('Լոռի :Կոտայք'!G12) -> 0 | H12: =SUM('Լոռի :Կոտայք'!H12) -> 0 | I12: =SUM('Լոռի :Կոտայք'!I12) -> 0 | J12: =SUM('Լոռի :Կոտայք'!J12) -> 0 | K12: =SUM('Լոռի :Կոտայք'!K12) -> 0 | ... CA12: =SUM('Լոռի :Կոտայք'!CA12) -> -1
A13: 1.6 | B13: Անզգուշությամբ մահ պատճառելը | C13: 109 | D13: =SUM('Լոռի :Կոտայք'!D13) -> 0 | E13: =SUM('Լոռի :Կոտայք'!E13) -> 0 | F13: =SUM('Լոռի :Կոտայք'!F13) -> 0 | G13: =SUM('Լոռի :Կոտայք'!G13) -> 0 | H13: =SUM('Լոռի :Կոտայք'!H13) -> 0 | I13: =SUM('Լոռի :Կոտայք'!I13) -> 0 | J13: =SUM('Լոռի :Կոտայք'!J13) -> 0 | K13: =SUM('Լոռի :Կոտայք'!K13) -> 0 | ... CA13: =SUM('Լոռի :Կոտայք'!CA13) -> 0
A14: 1.7 | B14: Ինքնասպանության հասցնելը | C14: 110 | D14: =SUM('Լոռի :Կոտայք'!D14) -> 0 | E14: =SUM('Լոռի :Կոտայք'!E14) -> 0 | F14: =SUM('Լոռի :Կոտայք'!F14) -> 0 | G14: =SUM('Լոռի :Կոտայք'!G14) -> 0 | H14: =SUM('Լոռի :Կոտայք'!H14) -> 0 | I14: =SUM('Լոռի :Կոտայք'!I14) -> 0 | J14: =SUM('Լոռի :Կոտայք'!J14) -> 0 | K14: =SUM('Լոռի :Կոտայք'!K14) -> 0 | ... CA14: =SUM('Լոռի :Կոտայք'!CA14) -> 0
A15: 1.8 | B15: Ինքնասպանության հակելը | C15: 111 | D15: =SUM('Լոռի :Կոտայք'!D15) -> 0 | E15: =SUM('Լոռի :Կոտայք'!E15) -> 0 | F15: =SUM('Լոռի :Կոտայք'!F15) -> 0 | G15: =SUM('Լոռի :Կոտայք'!G15) -> 0 | H15: =SUM('Լոռի :Կոտայք'!H15) -> 0 | I15: =SUM('Լոռի :Կոտայք'!I15) -> 0 | J15: =SUM('Լոռի :Կոտայք'!J15) -> 0 | K15: =SUM('Լոռի :Կոտայք'!K15) -> 0 | ... CA15: =SUM('Լոռի :Կոտայք'!CA15) -> 0
A16: 1.9 | B16: Դիտավորությամբ առողջությանը ծանր վնաս պատճառելը | C16: 112 | D16: =SUM('Լոռի :Կոտայք'!D16) -> 0 | E16: =SUM('Լոռի :Կոտայք'!E16) -> 2 | F16: =SUM('Լոռի :Կոտայք'!F16) -> 2 | G16: =SUM('Լոռի :Կոտայք'!G16) -> 1 | H16: =SUM('Լոռի :Կոտայք'!H16) -> 0 | I16: =SUM('Լոռի :Կոտայք'!I16) -> 23 | J16: =SUM('Լոռի :Կոտայք'!J16) -> 0 | K16: =SUM('Լոռի :Կոտայք'!K16) -> 0 | ... CA16: =SUM('Լոռի :Կոտայք'!CA16) -> -15
A17: 1.10 | B17: Դիտավորությամբ առողջությանը միջին ծանրության վնաս պատճառելը | C17: 113 | D17: =SUM('Լոռի :Կոտայք'!D17) -> 0 | E17: =SUM('Լոռի :Կոտայք'!E17) -> 0 | F17: =SUM('Լոռի :Կոտայք'!F17) -> 0 | G17: =SUM('Լոռի :Կոտայք'!G17) -> 0 | H17: =SUM('Լոռի :Կոտայք'!H17) -> 1 | I17: =SUM('Լոռի :Կոտայք'!I17) -> 2 | J17: =SUM('Լոռի :Կոտայք'!J17) -> 0 | K17: =SUM('Լոռի :Կոտայք'!K17) -> 0 | ... CA17: =SUM('Լոռի :Կոտայք'!CA17) -> 0
A18: 1.11 | B18: Հոգեկան խիստ հուզմունքի վիճակում առողջությանը ծանր կամ միջին ծանրության վնաս պատճառելը | C18: 114 | D18: =SUM('Լոռի :Կոտայք'!D18) -> 0 | E18: =SUM('Լոռի :Կոտայք'!E18) -> 0 | F18: =SUM('Լոռի :Կոտայք'!F18) -> 0 | G18: =SUM('Լոռի :Կոտայք'!G18) -> 0 | H18: =SUM('Լոռի :Կոտայք'!H18) -> 0 | I18: =SUM('Լոռի :Կոտայք'!I18) -> 0 | J18: =SUM('Լոռի :Կոտայք'!J18) -> 0 | K18: =SUM('Լոռի :Կոտայք'!K18) -> 0 | ... CA18: =SUM('Լոռի :Կոտայք'!CA18) -> 0
A19: 1.12 | B19: Հանցանք կատարած անձին բռնելու համար անհրաժեշտ միջոցների սահմանզանցմամբ առողջությանը ծանր կամ միջին ծանրության վնաս պատճառելը | C19: 115 | D19: =SUM('Լոռի :Կոտայք'!D19) -> 0 | E19: =SUM('Լոռի :Կոտայք'!E19) -> 0 | F19: =SUM('Լոռի :Կոտայք'!F19) -> 0 | G19: =SUM('Լոռի :Կոտայք'!G19) -> 0 | H19: =SUM('Լոռի :Կոտայք'!H19) -> 0 | I19: =SUM('Լոռի :Կոտայք'!I19) -> 0 | J19: =SUM('Լոռի :Կոտայք'!J19) -> 0 | K19: =SUM('Լոռի :Կոտայք'!K19) -> 0 | ... CA19: =SUM('Լոռի :Կոտայք'!CA19) -> 0
A20: 1.13 | B20: Առողջությանը ծանր կամ միջին ծանրության վնաս պատճառելը անհրաժեշտ պաշտպանության սահմանանազանցմամբ | C20: 116 | D20: =SUM('Լոռի :Կոտայք'!D20) -> 0 | E20: =SUM('Լոռի :Կոտայք'!E20) -> 0 | F20: =SUM('Լոռի :Կոտայք'!F20) -> 0 | G20: =SUM('Լոռի :Կոտայք'!G20) -> 0 | H20: =SUM('Լոռի :Կոտայք'!H20) -> 0 | I20: =SUM('Լոռի :Կոտայք'!I20) -> 1 | J20: =SUM('Լոռի :Կոտայք'!J20) -> 0 | K20: =SUM('Լոռի :Կոտայք'!K20) -> 0 | ... CA20: =SUM('Լոռի :Կոտայք'!CA20) -> 0
A21: 1.14 | B21: Դիտավորությամբ առողջությանը թեթև վնաս պատճառելը | C21: 117 | D21: =SUM('Լոռի :Կոտայք'!D21) -> 0 | E21: =SUM('Լոռի :Կոտայք'!E21) -> 1 | F21: =SUM('Լոռի :Կոտայք'!F21) -> 1 | G21: =SUM('Լոռի :Կոտայք'!G21) -> 0 | H21: =SUM('Լոռի :Կոտայք'!H21) -> 0 | I21: =SUM('Լոռի :Կոտայք'!I21) -> 10 | J21: =SUM('Լոռի :Կոտայք'!J21) -> 0 | K21: =SUM('Լոռի :Կոտայք'!K21) -> 0 | ... CA21: =SUM('Լոռի :Կոտայք'!CA21) -> 2
A22: 1.15 | B22: Ծեծը | C22: 118 | D22: =SUM('Լոռի :Կոտայք'!D22) -> 0 | E22: =SUM('Լոռի :Կոտայք'!E22) -> 32 | F22: =SUM('Լոռի :Կոտայք'!F22) -> 32 | G22: =SUM('Լոռի :Կոտայք'!G22) -> 2 | H22: =SUM('Լոռի :Կոտայք'!H22) -> 0 | I22: =SUM('Լոռի :Կոտայք'!I22) -> 24 | J22: =SUM('Լոռի :Կոտայք'!J22) -> 0 | K22: =SUM('Լոռի :Կոտայք'!K22) -> 0 | ... CA22: =SUM('Լոռի :Կոտայք'!CA22) -> -2
A23: 1.16 | B23: Ֆիզիկական ուժեղ ցավ կամ հոգեկան ուժեղ տառապանք պատճառելը | C23: 119 | D23: =SUM('Լոռի :Կոտայք'!D23) -> 0 | E23: =SUM('Լոռի :Կոտայք'!E23) -> 1 | F23: =SUM('Լոռի :Կոտայք'!F23) -> 1 | G23: =SUM('Լոռի :Կոտայք'!G23) -> 0 | H23: =SUM('Լոռի :Կոտայք'!H23) -> 0 | I23: =SUM('Լոռի :Կոտայք'!I23) -> 2 | J23: =SUM('Լոռի :Կոտայք'!J23) -> 0 | K23: =SUM('Լոռի :Կոտայք'!K23) -> 0 | ... CA23: =SUM('Լոռի :Կոտայք'!CA23) -> 1
... A33: 1.27 | B33: Բժշկական օգնություն և սպասարկում իրականացնողների կողմից մասնագիտական պարտականությունները չկատարելը կամ ոչ պատշաճ կատարելը | C33: 130 | D33: =SUM('Լոռի :Կոտայք'!D33) -> 0 | E33: =SUM('Լոռի :Կոտայք'!E33) -> 0 | F33: =SUM('Լոռի :Կոտայք'!F33) -> 0 | G33: =SUM('Լոռի :Կոտայք'!G33) -> 0 | H33: =SUM('Լոռի :Կոտայք'!H33) -> 0 | I33: =SUM('Լոռի :Կոտայք'!I33) -> 0 | J33: =SUM('Լոռի :Կոտայք'!J33) -> 0 | K33: =SUM('Լոռի :Կոտայք'!K33) -> 0 | ... CA33: =SUM('Լոռի :Կոտայք'!CA33) -> 0
A34: 1.28 | B34: Այլ հանցագործություններ | D34: =SUM('Լոռի :Կոտայք'!D34) -> 0 | E34: =SUM('Լոռի :Կոտայք'!E34) -> 0 | F34: =SUM('Լոռի :Կոտայք'!F34) -> 0 | G34: =SUM('Լոռի :Կոտայք'!G34) -> 0 | H34: =SUM('Լոռի :Կոտայք'!H34) -> 0 | I34: =SUM('Լոռի :Կոտայք'!I34) -> 0 | J34: =SUM('Լոռի :Կոտայք'!J34) -> 0 | K34: =SUM('Լոռի :Կոտայք'!K34) -> 0 | ... CA34: =SUM('Լոռի :Կոտայք'!CA34) -> 0
A35: 2. | B35: Ընդամենը անձի ազատության, պատվի և արժանապատվության դեմ ուղղված հանցագործությունները | D35: =SUM('Լոռի :Կոտայք'!D35) -> 0 | E35: =SUM('Լոռի :Կոտայք'!E35) -> 1 | F35: =SUM('Լոռի :Կոտայք'!F35) -> 1 | G35: =SUM('Լոռի :Կոտայք'!G35) -> 0 | H35: =SUM('Լոռի :Կոտայք'!H35) -> 2 | I35: =SUM('Լոռի :Կոտայք'!I35) -> 9 | J35: =SUM('Լոռի :Կոտայք'!J35) -> 0 | K35: =SUM('Լոռի :Կոտայք'!K35) -> 0 | ... CA35: =SUM('Լոռի :Կոտայք'!CA35) -> -3
A36: 2.1 | B36: Մարդուն առևանգելը | C36: 131 | D36: =SUM('Լոռի :Կոտայք'!D36) -> 0 | E36: =SUM('Լոռի :Կոտայք'!E36) -> 0 | F36: =SUM('Լոռի :Կոտայք'!F36) -> 0 | G36: =SUM('Լոռի :Կոտայք'!G36) -> 0 | H36: =SUM('Լոռի :Կոտայք'!H36) -> 1 | I36: =SUM('Լոռի :Կոտայք'!I36) -> 8 | J36: =SUM('Լոռի :Կոտայք'!J36) -> 0 | K36: =SUM('Լոռի :Կոտայք'!K36) -> 0 | ... CA36: =SUM('Լոռի :Կոտայք'!CA36) -> -3
A37: 2.2 | B37: Մարդու թրաֆիքինգը կամ շահագործումը | C37: 132 | D37: =SUM('Լոռի :Կոտայք'!D37) -> 0 | E37: =SUM('Լոռի :Կոտայք'!E37) -> 0 | F37: =SUM('Լոռի :Կոտայք'!F37) -> 0 | G37: =SUM('Լոռի :Կոտայք'!G37) -> 0 | H37: =SUM('Լոռի :Կոտայք'!H37) -> 0 | I37: =SUM('Լոռի :Կոտայք'!I37) -> 0 | J37: =SUM('Լոռի :Կոտայք'!J37) -> 0 | K37: =SUM('Լոռի :Կոտայք'!K37) -> 0 | ... CA37: =SUM('Լոռի :Կոտայք'!CA37) -> 0
A38: 2.2.2 | B38: Երեխայի կամ հոգեկան խանգարման հետևանքով իր արարքի բնույթն ու նշանակությունը գիտակցելու կամ դա ղեկավարելու հնարավորությունից զրկված անձի թրաֆիքինգը կամ շահագործումը | C38: 132.2 | D38: =SUM('Լոռի :Կոտայք'!D38) -> 0 | E38: =SUM('Լոռի :Կոտայք'!E38) -> 0 | F38: =SUM('Լոռի :Կոտայք'!F38) -> 0 | G38: =SUM('Լոռի :Կոտայք'!G38) -> 0 | H38: =SUM('Լոռի :Կոտայք'!H38) -> 0 | I38: =SUM('Լոռի :Կոտայք'!I38) -> 0 | J38: =SUM('Լոռի :Կոտայք'!J38) -> 0 | K38: =SUM('Լոռի :Կոտայք'!K38) -> 0 | ... CA38: =SUM('Լոռի :Կոտայք'!CA38) -> 0
A39: 2.2.3 | B39: Շահագործման վիճակում գտնվող անձի ծառայությունից օգտվելը | C39: 132.3 | D39: =SUM('Լոռի :Կոտայք'!D39) -> 0 | E39: =SUM('Լոռի :Կոտայք'!E39) -> 0 | F39: =SUM('Լոռի :Կոտայք'!F39) -> 0 | G39: =SUM('Լոռի :Կոտայք'!G39) -> 0 | H39: =SUM('Լոռի :Կոտայք'!H39) -> 0 | I39: =SUM('Լոռի :Կոտայք'!I39) -> 0 | J39: =SUM('Լոռի :Կոտայք'!J39) -> 0 | K39: =SUM('Լոռի :Կոտայք'!K39) -> 0 | ... CA39: =SUM('Լոռի :Կոտայք'!CA39) -> 0
A40: 2.3 | B40: Ազատությունից ապօրինի զրկելը | C40: 133 | D40: =SUM('Լոռի :Կոտայք'!D40) -> 0 | E40: =SUM('Լոռի :Կոտայք'!E40) -> 1 | F40: =SUM('Լոռի :Կոտայք'!F40) -> 1 | G40: =SUM('Լոռի :Կոտայք'!G40) -> 0 | H40: =SUM('Լոռի :Կոտայք'!H40) -> 1 | I40: =SUM('Լոռի :Կոտայք'!I40) -> 0 | J40: =SUM('Լոռի :Կոտայք'!J40) -> 0 | K40: =SUM('Լոռի :Կոտայք'!K40) -> 0 | ... CA40: =SUM('Լոռի :Կոտայք'!CA40) -> 0
A41: 2.4 | B41: Հոգեբուժական հիվանդանոցում ապօրինի տեղավորելը կամ պահելը | C41: 134 | D41: =SUM('Լոռի :Կոտայք'!D41) -> 0 | E41: =SUM('Լոռի :Կոտայք'!E41) -> 0 | F41: =SUM('Լոռի :Կոտայք'!F41) -> 0 | G41: =SUM('Լոռի :Կոտայք'!G41) -> 0 | H41: =SUM('Լոռի :Կոտայք'!H41) -> 0 | I41: =SUM('Լոռի :Կոտայք'!I41) -> 0 | J41: =SUM('Լոռի :Կոտայք'!J41) -> 0 | K41: =SUM('Լոռի :Կոտայք'!K41) -> 0 | ... CA41: =SUM('Լոռի :Կոտայք'!CA41) -> 0
A42: 2.7 | B42: Սպանության, առողջությանը ծանր վնաս պատճառելու կամ գույք ոչնչացնելու սպառնալիքը | C42: 137 | D42: =SUM('Լոռի :Կոտայք'!D42) -> 0 | E42: =SUM('Լոռի :Կոտայք'!E42) -> 0 | F42: =SUM('Լոռի :Կոտայք'!F42) -> 0 | G42: =SUM('Լոռի :Կոտայք'!G42) -> 0 | H42: =SUM('Լոռի :Կոտայք'!H42) -> 0 | I42: =SUM('Լոռի :Կոտայք'!I42) -> 1 | J42: =SUM('Լոռի :Կոտայք'!J42) -> 0 | K42: =SUM('Լոռի :Կոտայք'!K42) -> 0 | ... CA42: =SUM('Լոռի :Կոտայք'!CA42) -> 0
A43: 2.8 | B43: Այլ հանցագործություններ | D43: =SUM('Լոռի :Կոտայք'!D43) -> 0 | E43: =SUM('Լոռի :Կոտայք'!E43) -> 0 | F43: =SUM('Լոռի :Կոտայք'!F43) -> 0 | G43: =SUM('Լոռի :Կոտայք'!G43) -> 0 | H43: =SUM('Լոռի :Կոտայք'!H43) -> 0 | I43: =SUM('Լոռի :Կոտայք'!I43) -> 0 | J43: =SUM('Լոռի :Կոտայք'!J43) -> 0 | K43: =SUM('Լոռի :Կոտայք'!K43) -> 0 | ... CA43: =SUM('Լոռի :Կոտայք'!CA43) -> 0
A44: 3. | B44: Ընդամենը սեռական անձեռնմխելիության և սեռական ազատության դեմ ուղղված հանցագործությունները | D44: =SUM('Լոռի :Կոտայք'!D44) -> 0 | E44: =SUM('Լոռի :Կոտայք'!E44) -> 0 | F44: =SUM('Լոռի :Կոտայք'!F44) -> 0 | G44: =SUM('Լոռի :Կոտայք'!G44) -> 0 | H44: =SUM('Լոռի :Կոտայք'!H44) -> 0 | I44: =SUM('Լոռի :Կոտայք'!I44) -> 12 | J44: =SUM('Լոռի :Կոտայք'!J44) -> 0 | K44: =SUM('Լոռի :Կոտայք'!K44) -> 0 | ... CA44: =SUM('Լոռի :Կոտայք'!CA44) -> -3
A45: 3.1 | B45: Բռնաբարությունը | C45: 138 | D45: =SUM('Լոռի :Կոտայք'!D45) -> 0 | E45: =SUM('Լոռի :Կոտայք'!E45) -> 0 | F45: =SUM('Լոռի :Կոտայք'!F45) -> 0 | G45: =SUM('Լոռի :Կոտայք'!G45) -> 0 | H45: =SUM('Լոռի :Կոտայք'!H45) -> 0 | I45: =SUM('Լոռի :Կոտայք'!I45) -> 0 | J45: =SUM('Լոռի :Կոտայք'!J45) -> 0 | K45: =SUM('Լոռի :Կոտայք'!K45) -> 0 | ... CA45: =SUM('Լոռի :Կոտայք'!CA45) -> -1
A46: 3.2 | B46: Սեքսուալ բնույթի բռնի գործողությունները | C46: 139 | D46: =SUM('Լոռի :Կոտայք'!D46) -> 0 | E46: =SUM('Լոռի :Կոտայք'!E46) -> 0 | F46: =SUM('Լոռի :Կոտայք'!F46) -> 0 | G46: =SUM('Լոռի :Կոտայք'!G46) -> 0 | H46: =SUM('Լոռի :Կոտայք'!H46) -> 0 | I46: =SUM('Լոռի :Կոտայք'!I46) -> 1 | J46: =SUM('Լոռի :Կոտայք'!J46) -> 0 | K46: =SUM('Լոռի :Կոտայք'!K46) -> 0 | ... CA46: =SUM('Լոռի :Կոտայք'!CA46) -> 0
A47: 3.3 | B47: Սեռական հարաբերության կամ սեքսուալ բնույթի գործողություններին հարկադրելը | C47: 140 | D47: =SUM('Լոռի :Կոտայք'!D47) -> 0 | E47: =SUM('Լոռի :Կոտայք'!E47) -> 0 | F47: =SUM('Լոռի :Կոտայք'!F47) -> 0 | G47: =SUM('Լոռի :Կոտայք'!G47) -> 0 | H47: =SUM('Լոռի :Կոտայք'!H47) -> 0 | I47: =SUM('Լոռի :Կոտայք'!I47) -> 0 | J47: =SUM('Լոռի :Կոտայք'!J47) -> 0 | K47: =SUM('Լոռի :Կոտայք'!K47) -> 0 | ... CA47: =SUM('Լոռի :Կոտայք'!CA47) -> 0
A48: 3.4 | B48: Սեռական հարաբերությունը տասնվեց տարին չլրացած անձի հետ կամ սեքսուալ բնույթի գործողություններ կատարելը տասնվեց տարին չլրացած անձի նկատմամբ | C48: 141 | D48: =SUM('Լոռի :Կոտայք'!D48) -> 0 | E48: =SUM('Լոռի :Կոտայք'!E48) -> 0 | F48: =SUM('Լոռի :Կոտայք'!F48) -> 0 | G48: =SUM('Լոռի :Կոտայք'!G48) -> 0 | H48: =SUM('Լոռի :Կոտայք'!H48) -> 0 | I48: =SUM('Լոռի :Կոտայք'!I48) -> 11 | J48: =SUM('Լոռի :Կոտայք'!J48) -> 0 | K48: =SUM('Լոռի :Կոտայք'!K48) -> 0 | ... CA48: =SUM('Լոռի :Կոտայք'!CA48) -> -2
A49: 3.5 | B49: Անառակաբարո գործողությունները | C49: 142 | D49: =SUM('Լոռի :Կոտայք'!D49) -> 0 | E49: =SUM('Լոռի :Կոտայք'!E49) -> 0 | F49: =SUM('Լոռի :Կոտայք'!F49) -> 0 | G49: =SUM('Լոռի :Կոտայք'!G49) -> 0 | H49: =SUM('Լոռի :Կոտայք'!H49) -> 0 | I49: =SUM('Լոռի :Կոտայք'!I49) -> 0 | J49: =SUM('Լոռի :Կոտայք'!J49) -> 0 | K49: =SUM('Լոռի :Կոտայք'!K49) -> 0 | ... CA49: =SUM('Լոռի :Կոտայք'!CA49) -> 0
...

Sheet Լոռի 
A1: ՀԱՇՎԵՏՎՈՒԹՅՈՒՆ
A2: 2020թ. 1-ին կիսամյակի | C2: ԱՆՁԱՆՑ ՎԵՐԱԲԵՐՅԱԼ, ՈՐՈՆՑ ԿԱՊԱԿՑՈՒԹՅԱՄԲ ԿԱՅԱՑՎԱԾ ԴԱՏԱԿԱՆ ԱԿՏԵՐԸ ՄՏԵԼ ԵՆ ՕՐԻՆԱԿԱՆ ՈւԺԻ ՄԵՋ
A3: Վիճակագրական տողի համարը | B3: ՀԱՆՑԱԳՈՐԾՈՒԹՅՈՒՆՆԵՐԻ ՏԵՍԱԿՆԵՐԸ | C3: ՀՀ Քրեական օրենսգրքի հոդվածը | D3: Անձանց թիվը, որոնց վերաբերյալ գործերը կարճվել կամ քրեական հետապնդումը դադարեցվել է | G3: Անմեղսունակներ, որոնց նկատմամբ կիրառվել են բժշկական բնույթի հարկադրական միջոցներ | H3: Արդարացվածների թիվը | I3: Դատապարտյալների թիվը (ծանոթություն.Մեղադրյալը, որի վերաբերյալ կա օրինական ուժի մեջ մտած դատարանի դատավճիռ, որն ամբողջությամբ կամ մասնակիորեն մեղադրական է, կոչվում է դատապարտյալ) | O3: Դատապարտյալների նկատմամբ նշանակված հիմնական պատիժներ | AD3: նշանակված պատիժը պայմանականորեն չի կիրառվել | AE3: կիրառվել է համաներման ակտ | AF3: Լրացուցիչ պատիժներ | AI3: Օրենքով նախատեսվածից ավելի մեղմ պատիժ է նշանակվել | AJ3: Հանցանքը կատարվել է | AR3: Անձի զբաղմունքի տեսակը` նախքան դատապարտվելը | AY3: Անձի քաղաքացիությունը | BB3: Դատապարտվածների թիվը, որոնց նախկին դատվածությունը հանվել կամ մարվել է | BC3: Դատապարտյալների թիվը, որոնք ունեն չհանված կամ չմարված դատվածություն | BG3: Դրանցից (սյունակ 55) եղել են դատապարտված | BK3: Չհանված, չմարված դատվածությամբ դատապարտյալը պատժից ազատվել է | BO3: Նոր հանցագործությունը կատարել է պատիժը չկրած | BT3: Նոր հանցագործությունը կատարել է ազատազրկման վայրից ազատվելուց առաջին տարվա ընթացքում | BU3: Անձանց թիվը, որոնց վերաբերյալ հաշվետու տարվա ընթացքում քննվել են գործեր | BV3: Դատապարտյալը հանձնվել է վերադաստիրակման կամ հսկողության | BW3: Դատապարտյալի նկատմամբ նշանակվել է հարկադիր բուժում գինեմոլության դեմ | BX3: Դատապարտյալի նկատմամբ նշանակվել է հարկադիր բուժում թմրամոլության դեմ | BY3: Դատվածությունների շարժը
D4: Այդ թվում՝ հանցադեպի կամ հանցակազմի բացակայության և մեղադրանքի չապացուցված լինելու պատճառով | E4: այլ հիմքով | F4: Ընդամենը | I4: որից դատապարտվել են | L4: Ընդամենը(6,7,8 սյունակներ) | M4: Այդ թվում՝ կանայք | N4: Այդ թվում` անչափահասներ | O4: Ա զ ա տ ա զ ր կ ու մ | X4: հանրային աշխատանքներ | Y4: տուգանք | Z4: Որոշակի պաշտոններ զբաղ. կամ որոշակի գործ. զբաղվ. իրավ. զրկում | AA4: Կարգապահական գումարտակում պահելը | AB4: զին. Ծառայության մեջ սահմանափակում | AC4: կալանք | AF4: գույքի բռնագրավում | AG4: հատուկ կամ զին. կոչումից, կարգից, աստիճանից կամ որակավորման դասից զրկելը | AH4: որոշակի պաշտ. զբաղ. կամ որոշակի գործ.զբաղվ. իրավ. զրկում | AJ4: ալկ., թմրամիջ. կամ թնրեցնող այլ նյութերի ազդ. | AK4: Մի խումբ անձանց կազմում | AL4: Կազմակերպված խմբի կամ հանցավոր համագործակցության կազմում | AM4: 14-16 տարեկան հասակում | AN4: 16-18 տարեկան հասակում | AO4: 18-29 տարեկան հասակում | AP4: 30-49 տարեկան հասակում | AQ4: 50 տարեկան և բարձր | AR4: Պաշտոնատար անձինք | AS4: Զին. ծառայողներ | AT4: Այլ զբաղմունք | AU4: Սովորողներ | AW4: Չաշխատող և չսովորող աշխատունակներ | AX4: արգելանքի տակ գտնվող անձ | AY4: ՀՀ քաղաքացի | AZ4: Քաղաքացիություն չունեցող անձ | BA4: Օտարերկրյա պետության քաղաքացի | BC4: Մեկ դատվածություն | BD4: Երկու դատվածություն | BE4: Երեք և ավելի դատվածություն | BF4: Ընդամենը | BG4: Սպանության, դիտավորյամբ առողջությանը ծանր վնաս պատճառելու, բռնաբարության համար | BH4: Գույքի հափշտակության համար | BI4: Խուլիգանության համար | BJ4: այլ հանցագործությունների համար | BK4: Պատիժը կրել է լրիվ չափով | BL4: Պայմանական վաղաժամկետ | BM4: Համաներման ակտի կիրառմամբ | BN4: Այլ հիմքերով | BO4: Ազատազրկման վայրում | BP4: Այլ պատիժ կրելիս | BQ4: Դատավճռի կատարման հետաձգման ժամանակահատվածում | BR4: Փորձաշրջանի ընթացքում | BS4: Ընդամենը | BY4: Հաշվետու տարվա ընթացքում դատապարտված անձանց թիվը | BZ4: Հաշվետու տարվան նախորդող տարվա ընթացքում դատապարտված անձանց թիվը | CA4: ավելացել է պակասել է
B5: ՍՏՈՒԳԻՉ ՀԱՎԱՍԱՐՈՒՄՆԵՐ 3=1+2, 9=6+7+8, 20=12+13+14+15+16+17+18+19, 9=20+21+22+23+24+25+26 9=36+37+38+39+40, 9=41+42+43+44+45+46+47,9=48+49+50, 55=52+53+54,55=56+57+58+59, 68=64+65+66+67 | I5: Ավարտված հանցագործության համար | J5: Հանցափորձի համար(ՀՀ քր. օր-ի 34-րդ հոդ.) | K5: Հանցակցության համար(ՀՀ քր.օր-ի 38-րդ հոդ.) | O5: 1 տարի ներառյալ | P5: 1 տարուց ավել, մինչև 2 տարի ներառյալ | Q5: 2 տարուց ավել, մինչև 3 տարի ներառյալ | R5: 3 տարուց ավել, մինչև 5 տարի ներառյալ | S5: 5 տարուց ավել, մինչև 8 տարի ներառյալ | T5: 8 տարուց ավել, մինչև 10 տարի ներառյալ | U5: 10 տարուց ավել, մինչև 15 տարի ներառյալ | V5: ցմահ ազատազրկում | W5: ընդամենը | AU5: 18 տարեկանից ցածր | AV5: 18 տարեկանից բարձր
D6: 1 | E6: 2 | F6: 3 | G6: 4 | H6: 5 | I6: 6 | J6: 7 | K6: 8 | L6: 9 | M6: 10 | N6: 11 | O6: 12 | P6: 13 | Q6: 14 | R6: 15 | S6: 16 | T6: 17 | U6: 18 | V6: 19 | W6: 20 | X6: 21 | Y6: 22 | Z6: 23 | AA6: 24 | AB6: 25 | AC6: 26 | AD6: 27 | AE6: 28 | AF6: 29 | AG6: 30 | AH6: 31 | AI6: 32 | AJ6: 33 | AK6: 34 | AL6: 35 | AM6: 36 | AN6: 37 | AO6: 38 | AP6: 39 | AQ6: 40 | AR6: 41 | AS6: 42 | AT6: 43 | AU6: 44 | AV6: 45 | AW6: 46 | AX6: 47 | AY6: 48 | AZ6: 49 | BA6: 50 | BB6: 51 | BC6: 52 | BD6: 53 | BE6: 54 | BF6: 55 | BG6: 56 | BH6: 57 | BI6: 58 | BJ6: 59 | BK6: 60 | BL6: 61 | BM6: 62 | BN6: 63 | BO6: 64 | BP6: 65 | BQ6: 66 | BR6: 67 | BS6: 68 | BT6: 69 | BU6: 70 | BV6: 71 | BW6: 72 | BX6: 73 | BY6: 74 | BZ6: 75 | CA6: 76
A7: 1. | B7: Ընդամենը կյանքի և առողջության դեմ ուղղված հանցագործությունները | D7: =SUM(D8:D34) -> 0 | E7: =SUM(E8:E34) -> 6 | F7: =SUM(F8:F34) -> 6 | G7: =SUM(G8:G34) -> 0 | H7: =SUM(H8:H34) -> 1 | I7: =SUM(I8:I34) -> 3 | J7: =SUM(J8:J34) -> 0 | K7: =SUM(K8:K34) -> 0 | ... CA7: =SUM(CA8:CA34) -> -14
A8: 1.1 | B8: Սպանությունը | C8: 104 | F8: =+D8+E8 -> 0 | H8: 1 | I8: 1 | L8: =+K8+J8+I8 -> 1 | U8: 1 | W8: =+V8+U8+T8+S8+R8+Q8+P8+O8 -> 1 | AP8: 1 | AX8: 1 | AY8: 1 | BD8: 1 | BF8: =+BE8+BD8+BC8 -> 1 | BH8: 1 | BK8: 1 | BS8: =+BR8+BQ8+BP8+BO8 -> 0 | BU8: 5 | BY8: =+L8 -> 1 | CA8: =+BY8-BZ8 -> 1
A9: 1.2 | B9: Հոգեկան խիստ հուզմունքի վիճակում կատարված սպանությունը | C9: 105 | F9: =+D9+E9 -> 0 | L9: =+K9+J9+I9 -> 0 | W9: =+V9+U9+T9+S9+R9+Q9+P9+O9 -> 0 | BF9: =+BE9+BD9+BC9 -> 0 | BS9: =+BR9+BQ9+BP9+BO9 -> 0 | BY9: =+L9 -> 0 | CA9: =+BY9-BZ9 -> 0
A10: 1.3 | B10: Մոր կողմից նորածին երեխայի սպանությունը | C10: 106 | F10: =+D10+E10 -> 0 | L10: =+K10+J10+I10 -> 0 | W10: =+V10+U10+T10+S10+R10+Q10+P10+O10 -> 0 | BF10: =+BE10+BD10+BC10 -> 0 | BS10: =+BR10+BQ10+BP10+BO10 -> 0 | BY10: =+L10 -> 0 | CA10: =+BY10-BZ10 -> 0
A11: 1.4 | B11: Հանցանք կատարած անձին բռնելու համար անհրաժեշտ միջոցների սահմանազանցմամբ սպանությունը | C11: 107 | F11: =+D11+E11 -> 0 | L11: =+K11+J11+I11 -> 0 | W11: =+V11+U11+T11+S11+R11+Q11+P11+O11 -> 0 | BF11: =+BE11+BD11+BC11 -> 0 | BS11: =+BR11+BQ11+BP11+BO11 -> 0 | BY11: =+L11 -> 0 | CA11: =+BY11-BZ11 -> 0
A12: 1.5 | B12: Անհրաժեշտ պաշտպանության սահմանազանցմամբ սպանությունը | C12: 108 | F12: =+D12+E12 -> 0 | L12: =+K12+J12+I12 -> 0 | W12: =+V12+U12+T12+S12+R12+Q12+P12+O12 -> 0 | BF12: =+BE12+BD12+BC12 -> 0 | BS12: =+BR12+BQ12+BP12+BO12 -> 0 | BY12: =+L12 -> 0 | CA12: =+BY12-BZ12 -> 0
A13: 1.6 | B13: Անզգուշությամբ մահ պատճառելը | C13: 109 | F13: =+D13+E13 -> 0 | L13: =+K13+J13+I13 -> 0 | W13: =+V13+U13+T13+S13+R13+Q13+P13+O13 -> 0 | BF13: =+BE13+BD13+BC13 -> 0 | BS13: =+BR13+BQ13+BP13+BO13 -> 0 | BY13: =+L13 -> 0 | CA13: =+BY13-BZ13 -> 0
A14: 1.7 | B14: Ինքնասպանության հասցնելը | C14: 110 | F14: =+D14+E14 -> 0 | L14: =+K14+J14+I14 -> 0 | W14: =+V14+U14+T14+S14+R14+Q14+P14+O14 -> 0 | BF14: =+BE14+BD14+BC14 -> 0 | BS14: =+BR14+BQ14+BP14+BO14 -> 0 | BY14: =+L14 -> 0 | CA14: =+BY14-BZ14 -> 0
A15: 1.8 | B15: Ինքնասպանության հակելը | C15: 111 | F15: =+D15+E15 -> 0 | L15: =+K15+J15+I15 -> 0 | W15: =+V15+U15+T15+S15+R15+Q15+P15+O15 -> 0 | BF15: =+BE15+BD15+BC15 -> 0 | BS15: =+BR15+BQ15+BP15+BO15 -> 0 | BY15: =+L15 -> 0 | CA15: =+BY15-BZ15 -> 0
A16: 1.9 | B16: Դիտավորությամբ առողջությանը ծանր վնաս պատճառելը | C16: 112 | F16: =+D16+E16 -> 0 | I16: 2 | L16: =+K16+J16+I16 -> 2 | R16: 1 | S16: 1 | W16: =+V16+U16+T16+S16+R16+Q16+P16+O16 -> 2 | AJ16: 1 | AP16: 2 | AW16: 2 | AY16: 2 | BE16: 1 | BF16: =+BE16+BD16+BC16 -> 1 | BJ16: 1 | BK16: 1 | BS16: =+BR16+BQ16+BP16+BO16 -> 0 | BU16: 6 | BX16: 1 | BY16: =+L16 -> 2 | BZ16: 14 | CA16: =+BY16-BZ16 -> -12
A17: 1.10 | B17: Դիտավորությամբ առողջությանը միջին ծանրության վնաս պատճառելը | C17: 113 | F17: =+D17+E17 -> 0 | L17: =+K17+J17+I17 -> 0 | W17: =+V17+U17+T17+S17+R17+Q17+P17+O17 -> 0 | BF17: =+BE17+BD17+BC17 -> 0 | BS17: =+BR17+BQ17+BP17+BO17 -> 0 | BY17: =+L17 -> 0 | CA17: =+BY17-BZ17 -> 0
A18: 1.11 | B18: Հոգեկան խիստ հուզմունքի վիճակում առողջությանը ծանր կամ միջին ծանրության վնաս պատճառելը | C18: 114 | F18: =+D18+E18 -> 0 | L18: =+K18+J18+I18 -> 0 | W18: =+V18+U18+T18+S18+R18+Q18+P18+O18 -> 0 | BF18: =+BE18+BD18+BC18 -> 0 | BS18: =+BR18+BQ18+BP18+BO18 -> 0 | BY18: =+L18 -> 0 | CA18: =+BY18-BZ18 -> 0
A19: 1.12 | B19: Հանցանք կատարած անձին բռնելու համար անհրաժեշտ միջոցների սահմանզանցմամբ առողջությանը ծանր կամ միջին ծանրության վնաս պատճառելը | C19: 115 | F19: =+D19+E19 -> 0 | L19: =+K19+J19+I19 -> 0 | W19: =+V19+U19+T19+S19+R19+Q19+P19+O19 -> 0 | BF19: =+BE19+BD19+BC19 -> 0 | BS19: =+BR19+BQ19+BP19+BO19 -> 0 | BY19: =+L19 -> 0 | CA19: =+BY19-BZ19 -> 0
A20: 1.13 | B20: Առողջությանը ծանր կամ միջին ծանրության վնաս պատճառելը անհրաժեշտ պաշտպանության սահմանանազանցմամբ | C20: 116 | F20: =+D20+E20 -> 0 | L20: =+K20+J20+I20 -> 0 | W20: =+V20+U20+T20+S20+R20+Q20+P20+O20 -> 0 | BF20: =+BE20+BD20+BC20 -> 0 | BS20: =+BR20+BQ20+BP20+BO20 -> 0 | BY20: =+L20 -> 0 | CA20: =+BY20-BZ20 -> 0
A21: 1.14 | B21: Դիտավորությամբ առողջությանը թեթև վնաս պատճառելը | C21: 117 | F21: =+D21+E21 -> 0 | L21: =+K21+J21+I21 -> 0 | W21: =+V21+U21+T21+S21+R21+Q21+P21+O21 -> 0 | BF21: =+BE21+BD21+BC21 -> 0 | BS21: =+BR21+BQ21+BP21+BO21 -> 0 | BY21: =+L21 -> 0 | CA21: =+BY21-BZ21 -> 0
A22: 1.15 | B22: Ծեծը | C22: 118 | E22: 6 | F22: =+D22+E22 -> 6 | L22: =+K22+J22+I22 -> 0 | W22: =+V22+U22+T22+S22+R22+Q22+P22+O22 -> 0 | BF22: =+BE22+BD22+BC22 -> 0 | BS22: =+BR22+BQ22+BP22+BO22 -> 0 | BU22: 6 | BY22: =+L22 -> 0 | BZ22: 3 | CA22: =+BY22-BZ22 -> -3
A23: 1.16 | B23: Ֆիզիկական ուժեղ ցավ կամ հոգեկան ուժեղ տառապանք պատճառելը | C23: 119 | F23: =+D23+E23 -> 0 | L23: =+K23+J23+I23 -> 0 | W23: =+V23+U23+T23+S23+R23+Q23+P23+O23 -> 0 | BF23: =+BE23+BD23+BC23 -> 0 | BS23: =+BR23+BQ23+BP23+BO23 -> 0 | BY23: =+L23 -> 0 | CA23: =+BY23-BZ23 -> 0
A24: 1.17 | B24: Անզգուշությամբ առողջությանը ծանր վնաս պատճառելը | C24: 120 | F24: =+D24+E24 -> 0 | L24: =+K24+J24+I24 -> 0 | W24: =+V24+U24+T24+S24+R24+Q24+P24+O24 -> 0 | BF24: =+BE24+BD24+BC24 -> 0 | BS24: =+BR24+BQ24+BP24+BO24 -> 0 | BY24: =+L24 -> 0 | CA24: =+BY24-BZ24 -> 0
A25: 1.18 | B25: Անզգուշությամբ առողջությանը միջին ծանրության վնաս պատճառելը | C25: 121 | F25: =+D25+E25 -> 0 | L25: =+K25+J25+I25 -> 0 | W25: =+V25+U25+T25+S25+R25+Q25+P25+O25 -> 0 | BF25: =+BE25+BD25+BC25 -> 0 | BS25: =+BR25+BQ25+BP25+BO25 -> 0 | BY25: =+L25 -> 0 | CA25: =+BY25-BZ25 -> 0
A26: 1.19 | B26: Ապօրինի աբորտ կատարելը | C26: 122 | F26: =+D26+E26 -> 0 | L26: =+K26+J26+I26 -> 0 | W26: =+V26+U26+T26+S26+R26+Q26+P26+O26 -> 0 | BF26: =+BE26+BD26+BC26 -> 0 | BS26: =+BR26+BQ26+BP26+BO26 -> 0 | BY26: =+L26 -> 0 | CA26: =+BY26-BZ26 -> 0
A27: 1.20 | B27: Մարդու իմունային անբավարարության վիրուսի հարուցիչով վարակելը | C27: 123 | F27: =+D27+E27 -> 0 | L27: =+K27+J27+I27 -> 0 | W27: =+V27+U27+T27+S27+R27+Q27+P27+O27 -> 0 | BF27: =+BE27+BD27+BC27 -> 0 | BS27: =+BR27+BQ27+BP27+BO27 -> 0 | BY27: =+L27 -> 0 | CA27: =+BY27-BZ27 -> 0
A28: 1.21 | B28: Վեներական հիվանդությամբ կամ այլ սեռավարակներով վարակելը | C28: 124 | F28: =+D28+E28 -> 0 | L28: =+K28+J28+I28 -> 0 | W28: =+V28+U28+T28+S28+R28+Q28+P28+O28 -> 0 | BF28: =+BE28+BD28+BC28 -> 0 | BS28: =+BR28+BQ28+BP28+BO28 -> 0 | BY28: =+L28 -> 0 | CA28: =+BY28-BZ28 -> 0
A29: 1.22 | B29: Փոխպատվաստման վիրահատություն կատարելու կանոնները խախտելը | C29: 125 | F29: =+D29+E29 -> 0 | L29: =+K29+J29+I29 -> 0 | W29: =+V29+U29+T29+S29+R29+Q29+P29+O29 -> 0 | BF29: =+BE29+BD29+BC29 -> 0 | BS29: =+BR29+BQ29+BP29+BO29 -> 0 | BY29: =+L29 -> 0 | CA29: =+BY29-BZ29 -> 0
A30: 1.24 | B30: Անձին առանց իր հանձնարարության բժշկական կամ գիտական փորձերի ենթարկելը | C30: 127 | F30: =+D30+E30 -> 0 | L30: =+K30+J30+I30 -> 0 | W30: =+V30+U30+T30+S30+R30+Q30+P30+O30 -> 0 | BF30: =+BE30+BD30+BC30 -> 0 | BS30: =+BR30+BQ30+BP30+BO30 -> 0 | BY30: =+L30 -> 0 | CA30: =+BY30-BZ30 -> 0
A31: 1.25 | B31: Վտանգի մեջ թողնելը | C31: 128 | F31: =+D31+E31 -> 0 | L31: =+K31+J31+I31 -> 0 | W31: =+V31+U31+T31+S31+R31+Q31+P31+O31 -> 0 | BF31: =+BE31+BD31+BC31 -> 0 | BS31: =+BR31+BQ31+BP31+BO31 -> 0 | BY31: =+L31 -> 0 | CA31: =+BY31-BZ31 -> 0
A32: 1.26 | B32: Հիվանդին օգնություն ցույց չտալը | C32: 129 | F32: =+D32+E32 -> 0 | L32: =+K32+J32+I32 -> 0 | W32: =+V32+U32+T32+S32+R32+Q32+P32+O32 -> 0 | BF32: =+BE32+BD32+BC32 -> 0 | BS32: =+BR32+BQ32+BP32+BO32 -> 0 | BY32: =+L32 -> 0 | CA32: =+BY32-BZ32 -> 0
A33: 1.27 | B33: Բժշկական օգնություն և սպասարկում իրականացնողների կողմից մասնագիտական պարտականությունները չկատարելը կամ ոչ պատշաճ կատարելը | C33: 130 | F33: =+D33+E33 -> 0 | L33: =+K33+J33+I33 -> 0 | W33: =+V33+U33+T33+S33+R33+Q33+P33+O33 -> 0 | BF33: =+BE33+BD33+BC33 -> 0 | BS33: =+BR33+BQ33+BP33+BO33 -> 0 | BY33: =+L33 -> 0 | CA33: =+BY33-BZ33 -> 0
A34: 1.28 | B34: Այլ հանցագործություններ | F34: =+D34+E34 -> 0 | L34: =+K34+J34+I34 -> 0 | W34: =+V34+U34+T34+S34+R34+Q34+P34+O34 -> 0 | BF34: =+BE34+BD34+BC34 -> 0 | BS34: =+BR34+BQ34+BP34+BO34 -> 0 | BY34: =+L34 -> 0 | CA34: =+BY34-BZ34 -> 0
A35: 2. | B35: Ընդամենը անձի ազատության, պատվի և արժանապատվության դեմ ուղղված հանցագործությունները | D35: =SUM(D36:D43) -> 0 | E35: =SUM(E36:E43) -> 0 | F35: =SUM(F36:F43) -> 0 | G35: =SUM(G36:G43) -> 0 | H35: =SUM(H36:H43) -> 0 | I35: =SUM(I36:I43) -> 0 | J35: =SUM(J36:J43) -> 0 | K35: =SUM(K36:K43) -> 0 | ... CA35: =SUM(CA36:CA43) -> -1
A36: 2.1 | B36: Մարդուն առևանգելը | C36: 131 | F36: =+D36+E36 -> 0 | L36: =+K36+J36+I36 -> 0 | W36: =+V36+U36+T36+S36+R36+Q36+P36+O36 -> 0 | BF36: =+BE36+BD36+BC36 -> 0 | BS36: =+BR36+BQ36+BP36+BO36 -> 0 | BY36: =+L36 -> 0 | BZ36: 1 | CA36: =+BY36-BZ36 -> -1
A37: 2.2 | B37: Մարդու թրաֆիքինգը կամ շահագործումը | C37: 132 | F37: =+D37+E37 -> 0 | L37: =+K37+J37+I37 -> 0 | W37: =+V37+U37+T37+S37+R37+Q37+P37+O37 -> 0 | BF37: =+BE37+BD37+BC37 -> 0 | BS37: =+BR37+BQ37+BP37+BO37 -> 0 | BY37: =+L37 -> 0 | CA37: =+BY37-BZ37 -> 0
A38: 2.2.2 | B38: Երեխայի կամ հոգեկան խանգարման հետևանքով իր արարքի բնույթն ու նշանակությունը գիտակցելու կամ դա ղեկավարելու հնարավորությունից զրկված անձի թրաֆիքինգը կամ շահագործումը | C38: 132.2 | F38: =+D38+E38 -> 0 | L38: =+K38+J38+I38 -> 0 | W38: =+V38+U38+T38+S38+R38+Q38+P38+O38 -> 0 | BF38: =+BE38+BD38+BC38 -> 0 | BS38: =+BR38+BQ38+BP38+BO38 -> 0 | BY38: =+L38 -> 0 | CA38: =+BY38-BZ38 -> 0
A39: 2.2.3 | B39: Շահագործման վիճակում գտնվող անձի ծառայությունից օգտվելը | C39: 132.3 | F39: =+D39+E39 -> 0 | L39: =+K39+J39+I39 -> 0 | W39: =+V39+U39+T39+S39+R39+Q39+P39+O39 -> 0 | BF39: =+BE39+BD39+BC39 -> 0 | BS39: =+BR39+BQ39+BP39+BO39 -> 0 | BY39: =+L39 -> 0 | CA39: =+BY39-BZ39 -> 0
A40: 2.3 | B40: Ազատությունից ապօրինի զրկելը | C40: 133 | F40: =+D40+E40 -> 0 | L40: =+K40+J40+I40 -> 0 | W40: =+V40+U40+T40+S40+R40+Q40+P40+O40 -> 0 | BF40: =+BE40+BD40+BC40 -> 0 | BS40: =+BR40+BQ40+BP40+BO40 -> 0 | BY40: =+L40 -> 0 | CA40: =+BY40-BZ40 -> 0
...

Sheet Արագածոտն
A1: ՀԱՇՎԵՏՎՈՒԹՅՈՒՆ
A2: 2020թ. 1-ին կիսամյակի | C2: ԱՆՁԱՆՑ ՎԵՐԱԲԵՐՅԱԼ, ՈՐՈՆՑ ԿԱՊԱԿՑՈՒԹՅԱՄԲ ԿԱՅԱՑՎԱԾ ԴԱՏԱԿԱՆ ԱԿՏԵՐԸ ՄՏԵԼ ԵՆ ՕՐԻՆԱԿԱՆ ՈւԺԻ ՄԵՋ
A3: Վիճակագրական տողի համարը | B3: ՀԱՆՑԱԳՈՐԾՈՒԹՅՈՒՆՆԵՐԻ ՏԵՍԱԿՆԵՐԸ | C3: ՀՀ Քրեական օրենսգրքի հոդվածը | D3: Անձանց թիվը, որոնց վերաբերյալ գործերը կարճվել կամ քրեական հետապնդումը դադարեցվել է | G3: Անմեղսունակներ, որոնց նկատմամբ կիրառվել են բժշկական բնույթի հարկադրական միջոցներ | H3: Արդարացվածների թիվը | I3: Դատապարտյալների թիվը (ծանոթություն.Մեղադրյալը, որի վերաբերյալ կա օրինական ուժի մեջ մտած դատարանի դատավճիռ, որն ամբողջությամբ կամ մասնակիորեն մեղադրական է, կոչվում է դատապարտյալ) | O3: Դատապարտյալների նկատմամբ նշանակված հիմնական պատիժներ | AD3: նշանակված պատիժը պայմանականորեն չի կիրառվել | AE3: կիրառվել է համաներման ակտ | AF3: Լրացուցիչ պատիժներ | AI3: Օրենքով նախատեսվածից ավելի մեղմ պատիժ է նշանակվել | AJ3: Հանցանքը կատարվել է | AR3: Անձի զբաղմունքի տեսակը` նախքան դատապարտվելը | AY3: Անձի քաղաքացիությունը | BB3: Դատապարտվածների թիվը, որոնց նախկին դատվածությունը հանվել կամ մարվել է | BC3: Դատապարտյալների թիվը, որոնք ունեն չհանված կամ չմարված դատվածություն | BG3: Դրանցից (սյունակ 55) եղել են դատապարտված | BK3: Չհանված, չմարված դատվածությամբ դատապարտյալը պատժից ազատվել է | BO3: Նոր հանցագործությունը կատարել է պատիժը չկրած | BT3: Նոր հանցագործությունը կատարել է ազատազրկման վայրից ազատվելուց առաջին տարվա ընթացքում | BU3: Անձանց թիվը, որոնց վերաբերյալ հաշվետու տարվա ընթացքում քննվել են գործեր | BV3: Դատապարտյալը հանձնվել է վերադաստիրակման կամ հսկողության | BW3: Դատապարտյալի նկատմամբ նշանակվել է հարկադիր բուժում գինեմոլության դեմ | BX3: Դատապարտյալի նկատմամբ նշանակվել է հարկադիր բուժում թմրամոլության դեմ | BY3: Դատվածությունների շարժը
D4: Այդ թվում՝ հանցադեպի կամ հանցակազմի բացակայության և մեղադրանքի չապացուցված լինելու պատճառով | E4: այլ հիմքով | F4: Ընդամենը | I4: որից դատապարտվել են | L4: Ընդամենը(6,7,8 սյունակներ) | M4: Այդ թվում՝ կանայք | N4: Այդ թվում` անչափահասներ | O4: Ա զ ա տ ա զ ր կ ու մ | X4: հանրային աշխատանքներ | Y4: տուգանք | Z4: Որոշակի պաշտոններ զբաղ. կամ որոշակի գործ. զբաղվ. իրավ. զրկում | AA4: Կարգապահական գումարտակում պահելը | AB4: զին. Ծառայության մեջ սահմանափակում | AC4: կալանք | AF4: գույքի բռնագրավում | AG4: հատուկ կամ զին. կոչումից, կարգից, աստիճանից կամ որակավորման դասից զրկելը | AH4: որոշակի պաշտ. զբաղ. կամ որոշակի գործ.զբաղվ. իրավ. զրկում | AJ4: ալկ., թմրամիջ. կամ թնրեցնող այլ նյութերի ազդ. | AK4: Մի խումբ անձանց կազմում | AL4: Կազմակերպված խմբի կամ հանցավոր համագործակցության կազմում | AM4: 14-16 տարեկան հասակում | AN4: 16-18 տարեկան հասակում | AO4: 18-29 տարեկան հասակում | AP4: 30-49 տարեկան հասակում | AQ4: 50 տարեկան և բարձր | AR4: Պաշտոնատար անձինք | AS4: Զին. ծառայողներ | AT4: Այլ զբաղմունք | AU4: Սովորողներ | AW4: Չաշխատող և չսովորող աշխատունակներ | AX4: արգելանքի տակ գտնվող անձ | AY4: ՀՀ քաղաքացի | AZ4: Քաղաքացիություն չունեցող անձ | BA4: Օտարերկրյա պետության քաղաքացի | BC4: Մեկ դատվածություն | BD4: Երկու դատվածություն | BE4: Երեք և ավելի դատվածություն | BF4: Ընդամենը | BG4: Սպանության, դիտավորյամբ առողջությանը ծանր վնաս պատճառելու, բռնաբարության համար | BH4: Գույքի հափշտակության համար | BI4: Խուլիգանության համար | BJ4: այլ հանցագործությունների համար | BK4: Պատիժը կրել է լրիվ չափով | BL4: Պայմանական վաղաժամկետ | BM4: Համաներման ակտի կիրառմամբ | BN4: Այլ հիմքերով | BO4: Ազատազրկման վայրում | BP4: Այլ պատիժ կրելիս | BQ4: Դատավճռի կատարման հետաձգման ժամանակահատվածում | BR4: Փորձաշրջանի ընթացքում | BS4: Ընդամենը | BY4: Հաշվետու տարվա ընթացքում դատապարտված անձանց թիվը | BZ4: Հաշվետու տարվան նախորդող տարվա ընթացքում դատապարտված անձանց թիվը | CA4: ավելացել է պակասել է
B5: ՍՏՈՒԳԻՉ ՀԱՎԱՍԱՐՈՒՄՆԵՐ 3=1+2, 9=6+7+8, 20=12+13+14+15+16+17+18+19, 9=20+21+22+23+24+25+26 9=36+37+38+39+40, 9=41+42+43+44+45+46+47,9=48+49+50, 55=52+53+54,55=56+57+58+59, 68=64+65+66+67 | I5: Ավարտված հանցագործության համար | J5: Հանցափորձի համար(ՀՀ քր. օր-ի 34-րդ հոդ.) | K5: Հանցակցության համար(ՀՀ քր.օր-ի 38-րդ հոդ.) | O5: 1 տարի ներառյալ | P5: 1 տարուց ավել, մինչև 2 տարի ներառյալ | Q5: 2 տարուց ավել, մինչև 3 տարի ներառյալ | R5: 3 տարուց ավել, մինչև 5 տարի ներառյալ | S5: 5 տարուց ավել, մինչև 8 տարի ներառյալ | T5: 8 տարուց ավել, մինչև 10 տարի ներառյալ | U5: 10 տարուց ավել, մինչև 15 տարի ներառյալ | V5: ցմահ ազատազրկում | W5: ընդամենը | AU5: 18 տարեկանից ցածր | AV5: 18 տարեկանից բարձր
D6: 1 | E6: 2 | F6: 3 | G6: 4 | H6: 5 | I6: 6 | J6: 7 | K6: 8 | L6: 9 | M6: 10 | N6: 11 | O6: 12 | P6: 13 | Q6: 14 | R6: 15 | S6: 16 | T6: 17 | U6: 18 | V6: 19 | W6: 20 | X6: 21 | Y6: 22 | Z6: 23 | AA6: 24 | AB6: 25 | AC6: 26 | AD6: 27 | AE6: 28 | AF6: 29 | AG6: 30 | AH6: 31 | AI6: 32 | AJ6: 33 | AK6: 34 | AL6: 35 | AM6: 36 | AN6: 37 | AO6: 38 | AP6: 39 | AQ6: 40 | AR6: 41 | AS6: 42 | AT6: 43 | AU6: 44 | AV6: 45 | AW6: 46 | AX6: 47 | AY6: 48 | AZ6: 49 | BA6: 50 | BB6: 51 | BC6: 52 | BD6: 53 | BE6: 54 | BF6: 55 | BG6: 56 | BH6: 57 | BI6: 58 | BJ6: 59 | BK6: 60 | BL6: 61 | BM6: 62 | BN6: 63 | BO6: 64 | BP6: 65 | BQ6: 66 | BR6: 67 | BS6: 68 | BT6: 69 | BU6: 70 | BV6: 71 | BW6: 72 | BX6: 73 | BY6: 74 | BZ6: 75 | CA6: 76
A7: 1. | B7: Ընդամենը կյանքի և առողջության դեմ ուղղված հանցագործությունները | D7: =SUM(D8:D34) -> 0 | E7: =SUM(E8:E34) -> 2 | F7: =SUM(F8:F34) -> 2 | G7: =SUM(G8:G34) -> 0 | H7: =SUM(H8:H34) -> 1 | I7: =SUM(I8:I34) -> 2 | J7: =SUM(J8:J34) -> 0 | K7: =SUM(K8:K34) -> 0 | ... CA7: =SUM(CA8:CA34) -> 0
A8: 1.1 | B8: Սպանությունը | C8: 104 | E8: 1 | F8: 1 | BU8: 1
A9: 1.2 | B9: Հոգեկան խիստ հուզմունքի վիճակում կատարված սպանությունը | C9: 105
A10: 1.3 | B10: Մոր կողմից նորածին երեխայի սպանությունը | C10: 106
A11: 1.4 | B11: Հանցանք կատարած անձին բռնելու համար անհրաժեշտ միջոցների սահմանազանցմամբ սպանությունը | C11: 107
A12: 1.5 | B12: Անհրաժեշտ պաշտպանության սահմանազանցմամբ սպանությունը | C12: 108
A13: 1.6 | B13: Անզգուշությամբ մահ պատճառելը | C13: 109
A14: 1.7 | B14: Ինքնասպանության հասցնելը | C14: 110
A15: 1.8 | B15: Ինքնասպանության հակելը | C15: 111
A16: 1.9 | B16: Դիտավորությամբ առողջությանը ծանր վնաս պատճառելը | C16: 112 | BZ16: 5 | CA16: պ
A17: 1.10 | B17: Դիտավորությամբ առողջությանը միջին ծանրության վնաս պատճառելը | C17: 113 | H17: 1 | BU17: 1
A18: 1.11 | B18: Հոգեկան խիստ հուզմունքի վիճակում առողջությանը ծանր կամ միջին ծանրության վնաս պատճառելը | C18: 114
A19: 1.12 | B19: Հանցանք կատարած անձին բռնելու համար անհրաժեշտ միջոցների սահմանզանցմամբ առողջությանը ծանր կամ միջին ծանրության վնաս պատճառելը | C19: 115
A20: 1.13 | B20: Առողջությանը ծանր կամ միջին ծանրության վնաս պատճառելը անհրաժեշտ պաշտպանության սահմանանազանցմամբ | C20: 116 | BZ20: 1 | CA20: պ
A21: 1.14 | B21: Դիտավորությամբ առողջությանը թեթև վնաս պատճառելը | C21: 117
A22: 1.15 | B22: Ծեծը | C22: 118 | E22: 1 | F22: 1 | I22: 2 | L22: 2 | M22: 2 | Y22: 2 | AO22: 1 | AP22: 1 | AT22: 2 | AY22: 2 | BU22: 3 | BY22: 2 | BZ22: 1 | CA22: ա
A23: 1.16 | B23: Ֆիզիկական ուժեղ ցավ կամ հոգեկան ուժեղ տառապանք պատճառելը | C23: 119
A24: 1.17 | B24: Անզգուշությամբ առողջությանը ծանր վնաս պատճառելը | C24: 120
A25: 1.18 | B25: Անզգուշությամբ առողջությանը միջին ծանրության վնաս պատճառելը | C25: 121
A26: 1.19 | B26: Ապօրինի աբորտ կատարելը | C26: 122
A27: 1.20 | B27: Մարդու իմունային անբավարարության վիրուսի հարուցիչով վարակելը | C27: 123
A28: 1.21 | B28: Վեներական հիվանդությամբ կամ այլ սեռավարակներով վարակելը | C28: 124
A29: 1.22 | B29: Փոխպատվաստման վիրահատություն կատարելու կանոնները խախտելը | C29: 125
A30: 1.24 | B30: Անձին առանց իր հանձնարարության բժշկական կամ գիտական փորձերի ենթարկելը | C30: 127
A31: 1.25 | B31: Վտանգի մեջ թողնելը | C31: 128
A32: 1.26 | B32: Հիվանդին օգնություն ցույց չտալը | C32: 129
A33: 1.27 | B33: Բժշկական օգնություն և սպասարկում իրականացնողների կողմից մասնագիտական պարտականությունները չկատարելը կամ ոչ պատշաճ կատարելը | C33: 130
A34: 1.28 | B34: Այլ հանցագործություններ | BZ34: 1 | CA34: պ
A35: 2. | B35: Ընդամենը անձի ազատության, պատվի և արժանապատվության դեմ ուղղված հանցագործությունները | D35: =SUM(D36:D43) -> 0 | E35: =SUM(E36:E43) -> 0 | F35: =SUM(F36:F43) -> 0 | G35: =SUM(G36:G43) -> 0 | H35: =SUM(H36:H43) -> 0 | I35: =SUM(I36:I43) -> 0 | J35: =SUM(J36:J43) -> 0 | K35: =SUM(K36:K43) -> 0 | ... CA35: =SUM(CA36:CA43) -> 0
A36: 2.1 | B36: Մարդուն առևանգելը | C36: 131
A37: 2.2 | B37: Մարդու թրաֆիքինգը կամ շահագործումը | C37: 132
A38: 2.2.2 | B38: Երեխայի կամ հոգեկան խանգարման հետևանքով իր արարքի բնույթն ու նշանակությունը գիտակցելու կամ դա ղեկավարելու հնարավորությունից զրկված անձի թրաֆիքինգը կամ շահագործումը | C38: 132.2
A39: 2.2.3 | B39: Շահագործման վիճակում գտնվող անձի ծառայությունից օգտվելը | C39: 132.3
A40: 2.3 | B40: Ազատությունից ապօրինի զրկելը | C40: 133
...

Sheet Երևան
A1: ՀԱՇՎԵՏՎՈՒԹՅՈՒՆ
A2: 2020թ. 1-ին կիսամյակի | C2: ԱՆՁԱՆՑ ՎԵՐԱԲԵՐՅԱԼ, ՈՐՈՆՑ ԿԱՊԱԿՑՈՒԹՅԱՄԲ ԿԱՅԱՑՎԱԾ ԴԱՏԱԿԱՆ ԱԿՏԵՐԸ ՄՏԵԼ ԵՆ ՕՐԻՆԱԿԱՆ ՈւԺԻ ՄԵՋ
A3: Վիճակագրական տողի համարը | B3: ՀԱՆՑԱԳՈՐԾՈՒԹՅՈՒՆՆԵՐԻ ՏԵՍԱԿՆԵՐԸ | C3: ՀՀ Քրեական օրենսգրքի հոդվածը | D3: Անձանց թիվը, որոնց վերաբերյալ գործերը կարճվել կամ քրեական հետապնդումը դադարեցվել է | G3: Անմեղսունակներ, որոնց նկատմամբ կիրառվել են բժշկական բնույթի հարկադրական միջոցներ | H3: Արդարացվածների թիվը | I3: Դատապարտյալների թիվը (ծանոթություն.Մեղադրյալը, որի վերաբերյալ կա օրինական ուժի մեջ մտած դատարանի դատավճիռ, որն ամբողջությամբ կամ մասնակիորեն մեղադրական է, կոչվում է դատապարտյալ) | O3: Դատապարտյալների նկատմամբ նշանակված հիմնական պատիժներ | AD3: նշանակված պատիժը պայմանականորեն չի կիրառվել | AE3: կիրառվել է համաներման ակտ | AF3: Լրացուցիչ պատիժներ | AI3: Օրենքով նախատեսվածից ավելի մեղմ պատիժ է նշանակվել | AJ3: Հանցանքը կատարվել է | AR3: Անձի զբաղմունքի տեսակը` նախքան դատապարտվելը | AY3: Անձի քաղաքացիությունը | BB3: Դատապարտվածների թիվը, որոնց նախկին դատվածությունը հանվել կամ մարվել է | BC3: Դատապարտյալների թիվը, որոնք ունեն չհանված կամ չմարված դատվածություն | BG3: Դրանցից (սյունակ 55) եղել են դատապարտված | BK3: Չհանված, չմարված դատվածությամբ դատապարտյալը պատժից ազատվել է | BO3: Նոր հանցագործությունը կատարել է պատիժը չկրած | BT3: Նոր հանցագործությունը կատարել է ազատազրկման վայրից ազատվելուց առաջին տարվա ընթացքում | BU3: Անձանց թիվը, որոնց վերաբերյալ հաշվետու տարվա ընթացքում քննվել են գործեր | BV3: Դատապարտյալը հանձնվել է վերադաստիրակման կամ հսկողության | BW3: Դատապարտյալի նկատմամբ նշանակվել է հարկադիր բուժում գինեմոլության դեմ | BX3: Դատապարտյալի նկատմամբ նշանակվել է հարկադիր բուժում թմրամոլության դեմ | BY3: Դատվածությունների շարժը
D4: Այդ թվում՝ հանցադեպի կամ հանցակազմի բացակայության և մեղադրանքի չապացուցված լինելու պատճառով | E4: այլ հիմքով | F4: Ընդամենը | I4: որից դատապարտվել են | L4: Ընդամենը(6,7,8 սյունակներ) | M4: Այդ թվում՝ կանայք | N4: Այդ թվում` անչափահասներ | O4: Ա զ ա տ ա զ ր կ ու մ | X4: հանրային աշխատանքներ | Y4: տուգանք | Z4: Որոշակի պաշտոններ զբաղ. կամ որոշակի գործ. զբաղվ. իրավ. զրկում | AA4: Կարգապահական գումարտակում պահելը | AB4: զին. Ծառայության մեջ սահմանափակում | AC4: կալանք | AF4: գույքի բռնագրավում | AG4: հատուկ կամ զին. կոչումից, կարգից, աստիճանից կամ որակավորման դասից զրկելը | AH4: որոշակի պաշտ. զբաղ. կամ որոշակի գործ.զբաղվ. իրավ. զրկում | AJ4: ալկ., թմրամիջ. կամ թնրեցնող այլ նյութերի ազդ. | AK4: Մի խումբ անձանց կազմում | AL4: Կազմակերպված խմբի կամ հանցավոր համագործակցության կազմում | AM4: 14-16 տարեկան հասակում | AN4: 16-18 տարեկան հասակում | AO4: 18-29 տարեկան հասակում | AP4: 30-49 տարեկան հասակում | AQ4: 50 տարեկան և բարձր | AR4: Պաշտոնատար անձինք | AS4: Զին. ծառայողներ | AT4: Այլ զբաղմունք | AU4: Սովորողներ | AW4: Չաշխատող և չսովորող աշխատունակներ | AX4: արգելանքի տակ գտնվող անձ | AY4: ՀՀ քաղաքացի | AZ4: Քաղաքացիություն չունեցող անձ | BA4: Օտարերկրյա պետության քաղաքացի | BC4: Մեկ դատվածություն | BD4: Երկու դատվածություն | BE4: Երեք և ավելի դատվածություն | BF4: Ընդամենը | BG4: Սպանության, դիտավորյամբ առողջությանը ծանր վնաս պատճառելու, բռնաբարության համար | BH4: Գույքի հափշտակության համար | BI4: Խուլիգանության համար | BJ4: այլ հանցագործությունների համար | BK4: Պատիժը կրել է լրիվ չափով | BL4: Պայմանական վաղաժամկետ | BM4: Համաներման ակտի կիրառմամբ | BN4: Այլ հիմքերով | BO4: Ազատազրկման վայրում | BP4: Այլ պատիժ կրելիս | BQ4: Դատավճռի կատարման հետաձգման ժամանակահատվածում | BR4: Փորձաշրջանի ընթացքում | BS4: Ընդամենը | BY4: Հաշվետու տարվա ընթացքում դատապարտված անձանց թիվը | BZ4: Հաշվետու տարվան նախորդող տարվա ընթացքում դատապարտված անձանց թիվը | CA4: ավելացել է պակասել է
B5: ՍՏՈՒԳԻՉ ՀԱՎԱՍԱՐՈՒՄՆԵՐ 3=1+2, 9=6+7+8, 20=12+13+14+15+16+17+18+19, 9=20+21+22+23+24+25+26 9=36+37+38+39+40, 9=41+42+43+44+45+46+47,9=48+49+50, 55=52+53+54,55=56+57+58+59, 68=64+65+66+67 | I5: Ավարտված հանցագործության համար | J5: Հանցափորձի համար(ՀՀ քր. օր-ի 34-րդ հոդ.) | K5: Հանցակցության համար(ՀՀ քր.օր-ի 38-րդ հոդ.) | O5: 1 տարի ներառյալ | P5: 1 տարուց ավել, մինչև 2 տարի ներառյալ | Q5: 2 տարուց ավել, մինչև 3 տարի ներառյալ | R5: 3 տարուց ավել, մինչև 5 տարի ներառյալ | S5: 5 տարուց ավել, մինչև 8 տարի ներառյալ | T5: 8 տարուց ավել, մինչև 10 տարի ներառյալ | U5: 10 տարուց ավել, մինչև 15 տարի ներառյալ | V5: ցմահ ազատազրկում | W5: ընդամենը | AU5: 18 տարեկանից ցածր | AV5: 18 տարեկանից բարձր
D6: 1 | E6: 2 | F6: 3 | G6: 4 | H6: 5 | I6: 6 | J6: 7 | K6: 8 | L6: 9 | M6: 10 | N6: 11 | O6: 12 | P6: 13 | Q6: 14 | R6: 15 | S6: 16 | T6: 17 | U6: 18 | V6: 19 | W6: 20 | X6: 21 | Y6: 22 | Z6: 23 | AA6: 24 | AB6: 25 | AC6: 26 | AD6: 27 | AE6: 28 | AF6: 29 | AG6: 30 | AH6: 31 | AI6: 32 | AJ6: 33 | AK6: 34 | AL6: 35 | AM6: 36 | AN6: 37 | AO6: 38 | AP6: 39 | AQ6: 40 | AR6: 41 | AS6: 42 | AT6: 43 | AU6: 44 | AV6: 45 | AW6: 46 | AX6: 47 | AY6: 48 | AZ6: 49 | BA6: 50 | BB6: 51 | BC6: 52 | BD6: 53 | BE6: 54 | BF6: 55 | BG6: 56 | BH6: 57 | BI6: 58 | BJ6: 59 | BK6: 60 | BL6: 61 | BM6: 62 | BN6: 63 | BO6: 64 | BP6: 65 | BQ6: 66 | BR6: 67 | BS6: 68 | BT6: 69 | BU6: 70 | BV6: 71 | BW6: 72 | BX6: 73 | BY6: 74 | BZ6: 75 | CA6: 76
A7: 1. | B7: Ընդամենը կյանքի և առողջության դեմ ուղղված հանցագործությունները | D7: =SUM(D8:D34) -> 0 | E7: =SUM(E8:E34) -> 6 | F7: =SUM(F8:F34) -> 6 | G7: =SUM(G8:G34) -> 3 | H7: =SUM(H8:H34) -> 0 | I7: =SUM(I8:I34) -> 12 | J7: =SUM(J8:J34) -> 0 | K7: =SUM(K8:K34) -> 0 | ... CA7: =SUM(CA8:CA34) -> 0
A8: 1.1 | B8: Սպանությունը | C8: 104 | G8: 1 | BZ8: 2 | CA8: պ
A9: 1.2 | B9: Հոգեկան խիստ հուզմունքի վիճակում կատարված սպանությունը | C9: 105
A10: 1.3 | B10: Մոր կողմից նորածին երեխայի սպանությունը | C10: 106
A11: 1.4 | B11: Հանցանք կատարած անձին բռնելու համար անհրաժեշտ միջոցների սահմանազանցմամբ սպանությունը | C11: 107
A12: 1.5 | B12: Անհրաժեշտ պաշտպանության սահմանազանցմամբ սպանությունը | C12: 108
A13: 1.6 | B13: Անզգուշությամբ մահ պատճառելը | C13: 109
A14: 1.7 | B14: Ինքնասպանության հասցնելը | C14: 110
A15: 1.8 | B15: Ինքնասպանության հակելը | C15: 111
A16: 1.9 | B16: Դիտավորությամբ առողջությանը ծանր վնաս պատճառելը | C16: 112 | E16: 2 | F16: 2 | I16: 3 | L16: 3 | N16: 1 | P16: 1 | Q16: 1 | R16: 1 | W16: 3 | AD16: 3 | AN16: 1 | AO16: 1 | AP16: 1 | AT16: 1 | AW16: 2 | AY16: 3 | BU16: 3 | BY16: 3 | BZ16: 21 | CA16: պ
A17: 1.10 | B17: Դիտավորությամբ առողջությանը միջին ծանրության վնաս պատճառելը | C17: 113 | I17: 1 | L17: 1 | Y17: 1 | AP17: 1 | AW17: 1 | AY17: 1 | BU17: 1 | BY17: 1 | BZ17: 2 | CA17: պ
A18: 1.11 | B18: Հոգեկան խիստ հուզմունքի վիճակում առողջությանը ծանր կամ միջին ծանրության վնաս պատճառելը | C18: 114
A19: 1.12 | B19: Հանցանք կատարած անձին բռնելու համար անհրաժեշտ միջոցների սահմանզանցմամբ առողջությանը ծանր կամ միջին ծանրության վնաս պատճառելը | C19: 115
A20: 1.13 | B20: Առողջությանը ծանր կամ միջին ծանրության վնաս պատճառելը անհրաժեշտ պաշտպանության սահմանանազանցմամբ | C20: 116
A21: 1.14 | B21: Դիտավորությամբ առողջությանը թեթև վնաս պատճառելը | C21: 117 | I21: 4 | L21: 4 | Y21: 4 | AO21: 1 | AP21: 2 | AQ21: 1 | AT21: 1 | AW21: 3 | AY21: 4 | BU21: 4 | BY21: 4 | BZ21: 2 | CA21: ա
A22: 1.15 | B22: Ծեծը | C22: 118 | E22: 4 | F22: 4 | G22: 2 | I22: 3 | L22: 3 | O22: 1 | W22: 1 | Y22: 2 | AP22: 2 | AQ22: 1 | AW22: 3 | AY22: 3 | BD22: 1 | BF22: 1 | BJ22: 1 | BU22: 3 | BY22: 3 | BZ22: 6 | CA22: պ
A23: 1.16 | B23: Ֆիզիկական ուժեղ ցավ կամ հոգեկան ուժեղ տառապանք պատճառելը | C23: 119 | I23: 1 | L23: 1 | M23: 1 | Q23: 1 | W23: 1 | AD23: 1 | AP23: 1 | AW23: 1 | AY23: 1 | BU23: 1 | BY23: 1 | CA23: ա
A24: 1.17 | B24: Անզգուշությամբ առողջությանը ծանր վնաս պատճառելը | C24: 120
A25: 1.18 | B25: Անզգուշությամբ առողջությանը միջին ծանրության վնաս պատճառելը | C25: 121
A26: 1.19 | B26: Ապօրինի աբորտ կատարելը | C26: 122
A27: 1.20 | B27: Մարդու իմունային անբավարարության վիրուսի հարուցիչով վարակելը | C27: 123
A28: 1.21 | B28: Վեներական հիվանդությամբ կամ այլ սեռավարակներով վարակելը | C28: 124
A29: 1.22 | B29: Փոխպատվաստման վիրահատություն կատարելու կանոնները խախտելը | C29: 125
A30: 1.24 | B30: Անձին առանց իր հանձնարարության բժշկական կամ գիտական փորձերի ենթարկելը | C30: 127
A31: 1.25 | B31: Վտանգի մեջ թողնելը | C31: 128
A32: 1.26 | B32: Հիվանդին օգնություն ցույց չտալը | C32: 129
A33: 1.27 | B33: Բժշկական օգնություն և սպասարկում իրականացնողների կողմից մասնագիտական պարտականությունները չկատարելը կամ ոչ պատշաճ կատարելը | C33: 130
A34: 1.28 | B34: Այլ հանցագործություններ
A35: 2. | B35: Ընդամենը անձի ազատության, պատվի և արժանապատվության դեմ ուղղված հանցագործությունները | D35: =SUM(D36:D43) -> 0 | E35: =SUM(E36:E43) -> 0 | F35: =SUM(F36:F43) -> 0 | G35: =SUM(G36:G43) -> 0 | H35: =SUM(H36:H43) -> 0 | I35: =SUM(I36:I43) -> 3 | J35: =SUM(J36:J43) -> 0 | K35: =SUM(K36:K43) -> 0 | ... CA35: =SUM(CA36:CA43) -> 0
A36: 2.1 | B36: Մարդուն առևանգելը | C36: 131 | I36: 3 | L36: 3 | Q36: 2 | R36: 1 | W36: 3 | AD36: 2 | AE36: 1 | AO36: 1 | AP36: 2 | AT36: 1 | AW36: 2 | AY36: 3 | BU36: 3 | BY36: 3 | BZ36: 5 | CA36: պ
A37: 2.2 | B37: Մարդու թրաֆիքինգը կամ շահագործումը | C37: 132
A38: 2.2.2 | B38: Երեխայի կամ հոգեկան խանգարման հետևանքով իր արարքի բնույթն ու նշանակությունը գիտակցելու կամ դա ղեկավարելու հնարավորությունից զրկված անձի թրաֆիքինգը կամ շահագործումը | C38: 132.2
A39: 2.2.3 | B39: Շահագործման վիճակում գտնվող անձի ծառայությունից օգտվելը | C39: 132.3
A40: 2.3 | B40: Ազատությունից ապօրինի զրկելը | C40: 133
...

Sheet Արարատ 
A1: ՀԱՇՎԵՏՎՈՒԹՅՈՒՆ
A2: 2020թ. 1-ին կիսամյակի | C2: ԱՆՁԱՆՑ ՎԵՐԱԲԵՐՅԱԼ, ՈՐՈՆՑ ԿԱՊԱԿՑՈՒԹՅԱՄԲ ԿԱՅԱՑՎԱԾ ԴԱՏԱԿԱՆ ԱԿՏԵՐԸ ՄՏԵԼ ԵՆ ՕՐԻՆԱԿԱՆ ՈւԺԻ ՄԵՋ
A3: Վիճակագրական տողի համարը | B3: ՀԱՆՑԱԳՈՐԾՈՒԹՅՈՒՆՆԵՐԻ ՏԵՍԱԿՆԵՐԸ | C3: ՀՀ Քրեական օրենսգրքի հոդվածը | D3: Անձանց թիվը, որոնց վերաբերյալ գործերը կարճվել կամ քրեական հետապնդումը դադարեցվել է | G3: Անմեղսունակներ, որոնց նկատմամբ կիրառվել են բժշկական բնույթի հարկադրական միջոցներ | H3: Արդարացվածների թիվը | I3: Դատապարտյալների թիվը (ծանոթություն.Մեղադրյալը, որի վերաբերյալ կա օրինական ուժի մեջ մտած դատարանի դատավճիռ, որն ամբողջությամբ կամ մասնակիորեն մեղադրական է, կոչվում է դատապարտյալ) | O3: Դատապարտյալների նկատմամբ նշանակված հիմնական պատիժներ | AD3: նշանակված պատիժը պայմանականորեն չի կիրառվել | AE3: կիրառվել է համաներման ակտ | AF3: Լրացուցիչ պատիժներ | AI3: Օրենքով նախատեսվածից ավելի մեղմ պատիժ է նշանակվել | AJ3: Հանցանքը կատարվել է | AR3: Անձի զբաղմունքի տեսակը` նախքան դատապարտվելը | AY3: Անձի քաղաքացիությունը | BB3: Դատապարտվածների թիվը, որոնց նախկին դատվածությունը հանվել կամ մարվել է | BC3: Դատապարտյալների թիվը, որոնք ունեն չհանված կամ չմարված դատվածություն | BG3: Դրանցից (սյունակ 55) եղել են դատապարտված | BK3: Չհանված, չմարված դատվածությամբ դատապարտյալը պատժից ազատվել է | BO3: Նոր հանցագործությունը կատարել է պատիժը չկրած | BT3: Նոր հանցագործությունը կատարել է ազատազրկման վայրից ազատվելուց առաջին տարվա ընթացքում | BU3: Անձանց թիվը, որոնց վերաբերյալ հաշվետու տարվա ընթացքում քննվել են գործեր | BV3: Դատապարտյալը հանձնվել է վերադաստիրակման կամ հսկողության | BW3: Դատապարտյալի նկատմամբ նշանակվել է հարկադիր բուժում գինեմոլության դեմ | BX3: Դատապարտյալի նկատմամբ նշանակվել է հարկադիր բուժում թմրամոլության դեմ | BY3: Դատվածությունների շարժը
D4: Այդ թվում՝ հանցադեպի կամ հանցակազմի բացակայության և մեղադրանքի չապացուցված լինելու պատճառով | E4: այլ հիմքով | F4: Ընդամենը | I4: որից դատապարտվել են | L4: Ընդամենը(6,7,8 սյունակներ) | M4: Այդ թվում՝ կանայք | N4: Այդ թվում` անչափահասներ | O4: Ա զ ա տ ա զ ր կ ու մ | X4: հանրային աշխատանքներ | Y4: տուգանք | Z4: Որոշակի պաշտոններ զբաղ. կամ որոշակի գործ. զբաղվ. իրավ. զրկում | AA4: Կարգապահական գումարտակում պահելը | AB4: զին. Ծառայության մեջ սահմանափակում | AC4: կալանք | AF4: գույքի բռնագրավում | AG4: հատուկ կամ զին. կոչումից, կարգից, աստիճանից կամ որակավորման դասից զրկելը | AH4: որոշակի պաշտ. զբաղ. կամ որոշակի գործ.զբաղվ. իրավ. զրկում | AJ4: ալկ., թմրամիջ. կամ թնրեցնող այլ նյութերի ազդ. | AK4: Մի խումբ անձանց կազմում | AL4: Կազմակերպված խմբի կամ հանցավոր համագործակցության կազմում | AM4: 14-16 տարեկան հասակում | AN4: 16-18 տարեկան հասակում | AO4: 18-29 տարեկան հասակում | AP4: 30-49 տարեկան հասակում | AQ4: 50 տարեկան և բարձր | AR4: Պաշտոնատար անձինք | AS4: Զին. ծառայողներ | AT4: Այլ զբաղմունք | AU4: Սովորողներ | AW4: Չաշխատող և չսովորող աշխատունակներ | AX4: արգելանքի տակ գտնվող անձ | AY4: ՀՀ քաղաքացի | AZ4: Քաղաքացիություն չունեցող անձ | BA4: Օտարերկրյա պետության քաղաքացի | BC4: Մեկ դատվածություն | BD4: Երկու դատվածություն | BE4: Երեք և ավելի դատվածություն | BF4: Ընդամենը | BG4: Սպանության, դիտավորյամբ առողջությանը ծանր վնաս պատճառելու, բռնաբարության համար | BH4: Գույքի հափշտակության համար | BI4: Խուլիգանության համար | BJ4: այլ հանցագործությունների համար | BK4: Պատիժը կրել է լրիվ չափով | BL4: Պայմանական վաղաժամկետ | BM4: Համաներման ակտի կիրառմամբ | BN4: Այլ հիմքերով | BO4: Ազատազրկման վայրում | BP4: Այլ պատիժ կրելիս | BQ4: Դատավճռի կատարման հետաձգման ժամանակահատվածում | BR4: Փորձաշրջանի ընթացքում | BS4: Ընդամենը | BY4: Հաշվետու տարվա ընթացքում դատապարտված անձանց թիվը | BZ4: Հաշվետու տարվան նախորդող տարվա ընթացքում դատապարտված անձանց թիվը | CA4: ավելացել է պակասել է
B5: ՍՏՈՒԳԻՉ ՀԱՎԱՍԱՐՈՒՄՆԵՐ 3=1+2, 9=6+7+8, 20=12+13+14+15+16+17+18+19, 9=20+21+22+23+24+25+26 9=36+37+38+39+40, 9=41+42+43+44+45+46+47,9=48+49+50, 55=52+53+54,55=56+57+58+59, 68=64+65+66+67 | I5: Ավարտված հանցագործության համար | J5: Հանցափորձի համար(ՀՀ քր. օր-ի 34-րդ հոդ.) | K5: Հանցակցության համար(ՀՀ քր.օր-ի 38-րդ հոդ.) | O5: 1 տարի ներառյալ | P5: 1 տարուց ավել, մինչև 2 տարի ներառյալ | Q5: 2 տարուց ավել, մինչև 3 տարի ներառյալ | R5: 3 տարուց ավել, մինչև 5 տարի ներառյալ | S5: 5 տարուց ավել, մինչև 8 տարի ներառյալ | T5: 8 տարուց ավել, մինչև 10 տարի ներառյալ | U5: 10 տարուց ավել, մինչև 15 տարի ներառյալ | V5: ցմահ ազատազրկում | W5: ընդամենը | AU5: 18 տարեկանից ցածր | AV5: 18 տարեկանից բարձր
D6: 1 | E6: 2 | F6: 3 | G6: 4 | H6: 5 | I6: 6 | J6: 7 | K6: 8 | L6: 9 | M6: 10 | N6: 11 | O6: 12 | P6: 13 | Q6: 14 | R6: 15 | S6: 16 | T6: 17 | U6: 18 | V6: 19 | W6: 20 | X6: 21 | Y6: 22 | Z6: 23 | AA6: 24 | AB6: 25 | AC6: 26 | AD6: 27 | AE6: 28 | AF6: 29 | AG6: 30 | AH6: 31 | AI6: 32 | AJ6: 33 | AK6: 34 | AL6: 35 | AM6: 36 | AN6: 37 | AO6: 38 | AP6: 39 | AQ6: 40 | AR6: 41 | AS6: 42 | AT6: 43 | AU6: 44 | AV6: 45 | AW6: 46 | AX6: 47 | AY6: 48 | AZ6: 49 | BA6: 50 | BB6: 51 | BC6: 52 | BD6: 53 | BE6: 54 | BF6: 55 | BG6: 56 | BH6: 57 | BI6: 58 | BJ6: 59 | BK6: 60 | BL6: 61 | BM6: 62 | BN6: 63 | BO6: 64 | BP6: 65 | BQ6: 66 | BR6: 67 | BS6: 68 | BT6: 69 | BU6: 70 | BV6: 71 | BW6: 72 | BX6: 73 | BY6: 74 | BZ6: 75 | CA6: 76
A7: 1. | B7: Ընդամենը կյանքի և առողջության դեմ ուղղված հանցագործությունները | D7: =SUM(D8:D34) -> 0 | E7: =SUM(E8:E34) -> 4 | F7: =SUM(F8:F34) -> 4 | G7: =SUM(G8:G34) -> 0 | H7: =SUM(H8:H34) -> 0 | I7: =SUM(I8:I34) -> 6 | J7: =SUM(J8:J34) -> 0 | K7: =SUM(K8:K34) -> 0 | ... CA7: =SUM(CA8:CA34) -> 0
A8: 1.1 | B8: Սպանությունը | C8: 104 | BZ8: 1
A9: 1.2 | B9: Հոգեկան խիստ հուզմունքի վիճակում կատարված սպանությունը | C9: 105
A10: 1.3 | B10: Մոր կողմից նորածին երեխայի սպանությունը | C10: 106
A11: 1.4 | B11: Հանցանք կատարած անձին բռնելու համար անհրաժեշտ միջոցների սահմանազանցմամբ սպանությունը | C11: 107
A12: 1.5 | B12: Անհրաժեշտ պաշտպանության սահմանազանցմամբ սպանությունը | C12: 108
A13: 1.6 | B13: Անզգուշությամբ մահ պատճառելը | C13: 109
A14: 1.7 | B14: Ինքնասպանության հասցնելը | C14: 110
A15: 1.8 | B15: Ինքնասպանության հակելը | C15: 111
A16: 1.9 | B16: Դիտավորությամբ առողջությանը ծանր վնաս պատճառելը | C16: 112 | I16: 2 | L16: 2 | M16: 1 | R16: 1 | S16: 1 | W16: 2 | AJ16: 2 | AP16: 1 | AQ16: 1 | AT16: 2 | AY16: 2 | BU16: 2 | BY16: 2 | BZ16: 7
A17: 1.10 | B17: Դիտավորությամբ առողջությանը միջին ծանրության վնաս պատճառելը | C17: 113 | BZ17: 3
A18: 1.11 | B18: Հոգեկան խիստ հուզմունքի վիճակում առողջությանը ծանր կամ միջին ծանրության վնաս պատճառելը | C18: 114
A19: 1.12 | B19: Հանցանք կատարած անձին բռնելու համար անհրաժեշտ միջոցների սահմանզանցմամբ առողջությանը ծանր կամ միջին ծանրության վնաս պատճառելը | C19: 115
A20: 1.13 | B20: Առողջությանը ծանր կամ միջին ծանրության վնաս պատճառելը անհրաժեշտ պաշտպանության սահմանանազանցմամբ | C20: 116
A21: 1.14 | B21: Դիտավորությամբ առողջությանը թեթև վնաս պատճառելը | C21: 117 | BZ21: 1
A22: 1.15 | B22: Ծեծը | C22: 118 | E22: 3 | F22: 3 | I22: 4 | L22: 4 | Y22: 4 | AJ22: 2 | AP22: 4 | AT22: 1 | AW22: 3 | AY22: 4 | BU22: 7 | BY22: 4 | BZ22: 6
A23: 1.16 | B23: Ֆիզիկական ուժեղ ցավ կամ հոգեկան ուժեղ տառապանք պատճառելը | C23: 119 | E23: 1 | F23: 1 | BU23: 1
A24: 1.17 | B24: Անզգուշությամբ առողջությանը ծանր վնաս պատճառելը | C24: 120
A25: 1.18 | B25: Անզգուշությամբ առողջությանը միջին ծանրության վնաս պատճառելը | C25: 121
A26: 1.19 | B26: Ապօրինի աբորտ կատարելը | C26: 122
A27: 1.20 | B27: Մարդու իմունային անբավարարության վիրուսի հարուցիչով վարակելը | C27: 123
A28: 1.21 | B28: Վեներական հիվանդությամբ կամ այլ սեռավարակներով վարակելը | C28: 124
A29: 1.22 | B29: Փոխպատվաստման վիրահատություն կատարելու կանոնները խախտելը | C29: 125
A30: 1.24 | B30: Անձին առանց իր հանձնարարության բժշկական կամ գիտական փորձերի ենթարկելը | C30: 127
A31: 1.25 | B31: Վտանգի մեջ թողնելը | C31: 128
