Workbook

Sheet Ընդհամենը
A1: 2015Ã. | D1: Ð²ÞìºîìàôÂÚàôÜ | P1: Ï³½Ùí³Í` ÐÐ Ï³é³í³ñáõÃÛ³Ý 19.03.2015Ã. ÃÇí 306-Ü áñáßÙ³Ý ÑÇÙ³Ý íñ³
A2: ØÇÝã¹³ï³Ï³Ý í³ñáõÛÃÇ ÝÏ³ïÙ³Ùµ ¹³ï³Ï³Ý í»ñ³ÑëÏáÕáõÃÛ³ÝÁ, ¹³ï³Ï³Ý ³Ïï»ñÇ ¨ ¹³ï³Ï³Ý Ñ³ÝÓÝ³ñ³ñáõÃÛáõÝÝ»ñÇ Ï³ï³ñÙ³Ý Ñ»ï Ï³åí³Í ÙÇçÝáñ¹áõÃÛáõÝÝ»ñÇ í»ñ³µ»ñÛ³É ¹³ï³Ï³Ý ·áñÍ»ñáí ÐÐ êÛáõÝÇùÇ Ù³ñ½Ç ÁÝ¹Ñ³Ýáõñ Çñ³í³ëáõÃÛ³Ý ³é³çÇÝ ³ïÛ³ÝÇ ¹³ï³ñ³ÝÇ ·áñÍáõÝ»áõÃÛ³Ý í»ñ³µ»ñÛ³É
A3: êïáõ·Çã Ñ³í³ë³ñáõÙ` 1+2=3+8+9, 8=4+5+6+7, | D3: Ð³ßí»ïáõ Å³Ù³Ý³Ï³Ñ³ïí³ÍÇ ëÏ½µáõÙ Ý³Ëáñ¹ Ñ³ßí»ïáõ Å³Ù³Ý³Ï³Ñ³ïí³ÍÇó ÷áË³Ýóí³Í ·áñÍ»ñÇ ÁÝ¹Ñ³Ýáõñ ÃÇíÁ | E3: Ð³ßí»ïáõ Å³Ù³Ý³Ï³Ñ³ïí³ÍáõÙ ëï³óí³Í ·áñÍ»ñÇ ÁÝ¹Ñ³Ýáõñ ÃÇíÁ | F3: öáË³Ýóí»É ¿ ³ÛÉ ¹³ï³íáñÇ Ï³Ù ³ÛÉ ¹³ï³ñ³Ý (Ï³½ÙÇ ÷á÷áËáõÃÛáõÝ, ÁÝ¹¹³ïáõÃÛáõÝ) | G3: Ð³ßí»ïáõ Å³Ù³Ý³Ï³Ñ³ïí³ÍáõÙ ³í³ñïí³Í ·áñÍ»ñÇ ÁÝ¹Ñ³Ýáõñ ÃÇíÁ | L3: Ð³ßí»ïáõ Å³Ù³Ý³Ï³Ñ³ïí³ÍáõÙ ³Ý³í³ñï ·áñÍ»ñÇ ÁÝ¹Ñ³Ýáõñ ÃÇíÁ | M3: ØÇçÝáñ¹áõÃÛáõÝÝ»ñáí Ï³Û³óí³Í ¹³ï³Ï³Ý ³Ïï»ñÇó µáÕáù³ñÏí³ÍÝ»ñÇ ù³Ý³ÏÁ | O3: ²Ý³í³ñï µáÕáùÝ»ñ | P3: ØÇçÝáñ¹áõÃÛáõÝÝ»ñáí Ï³Û³óí³Í ¨ µáÕáù³ñÏí³Í ¹³ï³Ï³Ý ³Ïï»ñÇó µ»Ï³Ýí³ÍÝ»ñÇ ù³Ý³ÏÁ | R3: ÙÇçÝáñ¹áõÃÛáõÝÝ»ñáí Ï³Û³óí³Í ¨ µáÕáù³ñÏí³Í ¹³ï³Ï³Ý ³Ïï»ñÇó ³Ý÷á÷áË ÃáÕÝí³ÍÝ»ñÇ ù³Ý³ÏÁ
G4: Ù»ñÅí»É ¿ | H4: µ³í³ñ³ñí»É ¿ | I4: µ³í³ñ³ñí»É ¿ Ù³ëÝ³ÏÇ | J4: ÃáÕÝí»É ¿ ³é³Ýó ùÝÝáõÃÛ³Ý | K4: ÀÝ¹³Ù»ÝÁ
M5: Ý³Ëáñ¹ ï³ñÇÝ»ñÇÝ Ï³Û³óí³Í ³Ïï»ñÇ ¹»Ù | N5: Ñ³ßí»ïáõ Å³Ù³Ý³Ï³ßñç³ÝáõÙ Ï³Û³óí³Í ³Ïï»ñÇ ¹»Ù | P5: Ý³Ëáñ¹ ï³ñÇÝ»ñÇÝ Ï³Û³óí³Í ³Ïï»ñÇ µ»Ï³ÝáõÙÝ»ñÁ | Q5: Ñ³ßí»ïáõ Å³Ù³Ý³Ï³ßñç³ÝáõÙ Ï³Û³óí³Í ³Ïï»ñÇ µ»Ï³ÝáõÙÝ»ñÁ
A6: 1. ØÇÝã¹³ï³Ï³Ý í³ñáõÛÃÇ ÝÏ³ïÙ³Ùµ ¹³ï³Ï³Ý í»ñ³ÑëÏáÕáõÃÛ³Ý áÉáñï | D6: 1 | E6: 2 | F6: 3 | G6: 4 | H6: 5 | I6: 6 | J6: 7 | K6: 8 | L6: 9 | M6: 10 | N6: 11 | O6: 12 | P6: 13 | Q6: 14 | R6: 15 | T6: 1+2=3+8+9 | V6: 8=4+5+6+7
A7: 1 | B7: Ï³É³ÝùÁ áñå»ë Ë³÷³ÝÙ³Ý ÙÇçáó ÏÇñ³é»Éáõ Ù³ëÇÝ ÙÇçÝáñ¹áõÃÛáõÝÝ»ñ | D7: ='Ժ. Ասատրյան'!D7+'Դ. Գրիգորյան'!D7+Մ.Հովակիմյան!D7+'Ն. Օհանյան'!D7+'Ա. Թումանյան'!D7+Լ.Աթանյան!D7+'Ի. Բեգլարյան'!D7+'Ա. Մնացականյան'!D7+'Ս. Գրիգորյան'!D7 -> 0 | E7: ='Ժ. Ասատրյան'!E7+'Դ. Գրիգորյան'!E7+Մ.Հովակիմյան!E7+'Ն. Օհանյան'!E7+'Ա. Թումանյան'!E7+Լ.Աթանյան!E7+'Ի. Բեգլարյան'!E7+'Ա. Մնացականյան'!E7+'Ս. Գրիգորյան'!E7 -> 159 | F7: ='Ժ. Ասատրյան'!F7+'Դ. Գրիգորյան'!F7+Մ.Հովակիմյան!F7+'Ն. Օհանյան'!F7+'Ա. Թումանյան'!F7+Լ.Աթանյան!F7+'Ի. Բեգլարյան'!F7+'Ա. Մնացականյան'!F7+'Ս. Գրիգորյան'!F7 -> 0 | G7: ='Ժ. Ասատրյան'!G7+'Դ. Գրիգորյան'!G7+Մ.Հովակիմյան!G7+'Ն. Օհանյան'!G7+'Ա. Թումանյան'!G7+Լ.Աթանյան!G7+'Ի. Բեգլարյան'!G7+'Ա. Մնացականյան'!G7+'Ս. Գրիգորյան'!G7 -> 27 | H7: ='Ժ. Ասատրյան'!H7+'Դ. Գրիգորյան'!H7+Մ.Հովակիմյան!H7+'Ն. Օհանյան'!H7+'Ա. Թումանյան'!H7+Լ.Աթանյան!H7+'Ի. Բեգլարյան'!H7+'Ա. Մնացականյան'!H7+'Ս. Գրիգորյան'!H7 -> 128 | I7: ='Ժ. Ասատրյան'!I7+'Դ. Գրիգորյան'!I7+Մ.Հովակիմյան!I7+'Ն. Օհանյան'!I7+'Ա. Թումանյան'!I7+Լ.Աթանյան!I7+'Ի. Բեգլարյան'!I7+'Ա. Մնացականյան'!I7+'Ս. Գրիգորյան'!I7 -> 4 | J7: ='Ժ. Ասատրյան'!J7+'Դ. Գրիգորյան'!J7+Մ.Հովակիմյան!J7+'Ն. Օհանյան'!J7+'Ա. Թումանյան'!J7+Լ.Աթանյան!J7+'Ի. Բեգլարյան'!J7+'Ա. Մնացականյան'!J7+'Ս. Գրիգորյան'!J7 -> 0 | K7: ='Ժ. Ասատրյան'!K7+'Դ. Գրիգորյան'!K7+Մ.Հովակիմյան!K7+'Ն. Օհանյան'!K7+'Ա. Թումանյան'!K7+Լ.Աթանյան!K7+'Ի. Բեգլարյան'!K7+'Ա. Մնացականյան'!K7+'Ս. Գրիգորյան'!K7 -> 159 | ... S7: ='Ժ. Ասատրյան'!S7+'Դ. Գրիգորյան'!S7+Մ.Հովակիմյան!S7+'Ն. Օհանյան'!S7+'Ա. Թումանյան'!S7+Լ.Աթանյան!S7+'Ի. Բեգլարյան'!S7+'Ա. Մնացականյան'!S7+'Ս. Գրիգորյան'!S7 -> 0 | T7: =D7+E7 -> 159 | U7: =F7+K7+L7 -> 159 | V7: =K7 -> 159 | W7: =G7+H7+I7+J7 -> 159
A8: 2 | B8: Ï³É³ÝùÇ Å³ÙÏ»ïÁ »ñÏ³ñ³óÝ»Éáõ Ù³ëÇÝ ÙÇçÝáñ¹áõÃÛáõÝÝ»ñ | D8: ='Ժ. Ասատրյան'!D8+'Դ. Գրիգորյան'!D8+Մ.Հովակիմյան!D8+'Ն. Օհանյան'!D8+'Ա. Թումանյան'!D8+Լ.Աթանյան!D8+'Ի. Բեգլարյան'!D8+'Ա. Մնացականյան'!D8+'Ս. Գրիգորյան'!D8 -> 0 | E8: ='Ժ. Ասատրյան'!E8+'Դ. Գրիգորյան'!E8+Մ.Հովակիմյան!E8+'Ն. Օհանյան'!E8+'Ա. Թումանյան'!E8+Լ.Աթանյան!E8+'Ի. Բեգլարյան'!E8+'Ա. Մնացականյան'!E8+'Ս. Գրիգորյան'!E8 -> 72 | F8: ='Ժ. Ասատրյան'!F8+'Դ. Գրիգորյան'!F8+Մ.Հովակիմյան!F8+'Ն. Օհանյան'!F8+'Ա. Թումանյան'!F8+Լ.Աթանյան!F8+'Ի. Բեգլարյան'!F8+'Ա. Մնացականյան'!F8+'Ս. Գրիգորյան'!F8 -> 0 | G8: ='Ժ. Ասատրյան'!G8+'Դ. Գրիգորյան'!G8+Մ.Հովակիմյան!G8+'Ն. Օհանյան'!G8+'Ա. Թումանյան'!G8+Լ.Աթանյան!G8+'Ի. Բեգլարյան'!G8+'Ա. Մնացականյան'!G8+'Ս. Գրիգորյան'!G8 -> 0 | H8: ='Ժ. Ասատրյան'!H8+'Դ. Գրիգորյան'!H8+Մ.Հովակիմյան!H8+'Ն. Օհանյան'!H8+'Ա. Թումանյան'!H8+Լ.Աթանյան!H8+'Ի. Բեգլարյան'!H8+'Ա. Մնացականյան'!H8+'Ս. Գրիգորյան'!H8 -> 72 | I8: ='Ժ. Ասատրյան'!I8+'Դ. Գրիգորյան'!I8+Մ.Հովակիմյան!I8+'Ն. Օհանյան'!I8+'Ա. Թումանյան'!I8+Լ.Աթանյան!I8+'Ի. Բեգլարյան'!I8+'Ա. Մնացականյան'!I8+'Ս. Գրիգորյան'!I8 -> 0 | J8: ='Ժ. Ասատրյան'!J8+'Դ. Գրիգորյան'!J8+Մ.Հովակիմյան!J8+'Ն. Օհանյան'!J8+'Ա. Թումանյան'!J8+Լ.Աթանյան!J8+'Ի. Բեգլարյան'!J8+'Ա. Մնացականյան'!J8+'Ս. Գրիգորյան'!J8 -> 0 | K8: ='Ժ. Ասատրյան'!K8+'Դ. Գրիգորյան'!K8+Մ.Հովակիմյան!K8+'Ն. Օհանյան'!K8+'Ա. Թումանյան'!K8+Լ.Աթանյան!K8+'Ի. Բեգլարյան'!K8+'Ա. Մնացականյան'!K8+'Ս. Գրիգորյան'!K8 -> 72 | ... R8: ='Ժ. Ասատրյան'!R8+'Դ. Գրիգորյան'!R8+Մ.Հովակիմյան!R8+'Ն. Օհանյան'!R8+'Ա. Թումանյան'!R8+Լ.Աթանյան!R8+'Ի. Բեգլարյան'!R8+'Ա. Մնացականյան'!R8+'Ս. Գրիգորյան'!R8 -> 0 | S8: ='Ժ. Ասատրյան'!S8+'Դ. Գրիգորյան'!S8+Մ.Հովակիմյան!S8+'Ն. Օհանյան'!S8+'Ա. Թումանյան'!S8+Լ.Աթանյան!S8+'Ի. Բեգլարյան'!S8+'Ա. Մնացականյան'!S8 -> 0 | T8: =D8+E8 -> 72 | U8: =F8+K8+L8 -> 72 | V8: =K8 -> 72 | W8: =G8+H8+I8+J8 -> 72
A9: 3 | B9: Ï³É³ÝùÇ í»ñ³Ñ³ëï³ïÙ³Ý Ù³ëÇÝ ÙÇçÝáñ¹áõÃÛáõÝÝ»ñ | D9: ='Ժ. Ասատրյան'!D9+'Դ. Գրիգորյան'!D9+Մ.Հովակիմյան!D9+'Ն. Օհանյան'!D9+'Ա. Թումանյան'!D9+Լ.Աթանյան!D9+'Ի. Բեգլարյան'!D9+'Ա. Մնացականյան'!D9+'Ս. Գրիգորյան'!D9 -> 0 | E9: ='Ժ. Ասատրյան'!E9+'Դ. Գրիգորյան'!E9+Մ.Հովակիմյան!E9+'Ն. Օհանյան'!E9+'Ա. Թումանյան'!E9+Լ.Աթանյան!E9+'Ի. Բեգլարյան'!E9+'Ա. Մնացականյան'!E9+'Ս. Գրիգորյան'!E9 -> 14 | F9: ='Ժ. Ասատրյան'!F9+'Դ. Գրիգորյան'!F9+Մ.Հովակիմյան!F9+'Ն. Օհանյան'!F9+'Ա. Թումանյան'!F9+Լ.Աթանյան!F9+'Ի. Բեգլարյան'!F9+'Ա. Մնացականյան'!F9+'Ս. Գրիգորյան'!F9 -> 0 | G9: ='Ժ. Ասատրյան'!G9+'Դ. Գրիգորյան'!G9+Մ.Հովակիմյան!G9+'Ն. Օհանյան'!G9+'Ա. Թումանյան'!G9+Լ.Աթանյան!G9+'Ի. Բեգլարյան'!G9+'Ա. Մնացականյան'!G9+'Ս. Գրիգորյան'!G9 -> 4 | H9: ='Ժ. Ասատրյան'!H9+'Դ. Գրիգորյան'!H9+Մ.Հովակիմյան!H9+'Ն. Օհանյան'!H9+'Ա. Թումանյան'!H9+Լ.Աթանյան!H9+'Ի. Բեգլարյան'!H9+'Ա. Մնացականյան'!H9+'Ս. Գրիգորյան'!H9 -> 10 | I9: ='Ժ. Ասատրյան'!I9+'Դ. Գրիգորյան'!I9+Մ.Հովակիմյան!I9+'Ն. Օհանյան'!I9+'Ա. Թումանյան'!I9+Լ.Աթանյան!I9+'Ի. Բեգլարյան'!I9+'Ա. Մնացականյան'!I9+'Ս. Գրիգորյան'!I9 -> 0 | J9: ='Ժ. Ասատրյան'!J9+'Դ. Գրիգորյան'!J9+Մ.Հովակիմյան!J9+'Ն. Օհանյան'!J9+'Ա. Թումանյան'!J9+Լ.Աթանյան!J9+'Ի. Բեգլարյան'!J9+'Ա. Մնացականյան'!J9+'Ս. Գրիգորյան'!J9 -> 0 | K9: ='Ժ. Ասատրյան'!K9+'Դ. Գրիգորյան'!K9+Մ.Հովակիմյան!K9+'Ն. Օհանյան'!K9+'Ա. Թումանյան'!K9+Լ.Աթանյան!K9+'Ի. Բեգլարյան'!K9+'Ա. Մնացականյան'!K9+'Ս. Գրիգորյան'!K9 -> 14 | ... R9: ='Ժ. Ասատրյան'!R9+'Դ. Գրիգորյան'!R9+Մ.Հովակիմյան!R9+'Ն. Օհանյան'!R9+'Ա. Թումանյան'!R9+Լ.Աթանյան!R9+'Ի. Բեգլարյան'!R9+'Ա. Մնացականյան'!R9+'Ս. Գրիգորյան'!R9 -> 0 | S9: ='Ժ. Ասատրյան'!S9+'Դ. Գրիգորյան'!S9+Մ.Հովակիմյան!S9+'Ն. Օհանյան'!S9+'Ա. Թումանյան'!S9+Լ.Աթանյան!S9+'Ի. Բեգլարյան'!S9+'Ա. Մնացականյան'!S9 -> 0 | T9: =D9+E9 -> 14 | U9: =F9+K9+L9 -> 14 | V9: =K9 -> 14 | W9: =G9+H9+I9+J9 -> 14
A10: 4 | B10: ·ñ³íÁ áñå»ë Ï³É³Ý³íáñÙ³Ý ³ÛÉÁÝïñ³Ýù³ÛÇÝ Ë³÷³ÝÙ³Ý ÙÇçáó ÏÇñ³é»Éáõ Ù³ëÇÝ ÙÇçÝáñ¹áõÃÛáõÝÝ»ñ | D10: ='Ժ. Ասատրյան'!D10+'Դ. Գրիգորյան'!D10+Մ.Հովակիմյան!D10+'Ն. Օհանյան'!D10+'Ա. Թումանյան'!D10+Լ.Աթանյան!D10+'Ի. Բեգլարյան'!D10+'Ա. Մնացականյան'!D10+'Ս. Գրիգորյան'!D10 -> 0 | E10: ='Ժ. Ասատրյան'!E10+'Դ. Գրիգորյան'!E10+Մ.Հովակիմյան!E10+'Ն. Օհանյան'!E10+'Ա. Թումանյան'!E10+Լ.Աթանյան!E10+'Ի. Բեգլարյան'!E10+'Ա. Մնացականյան'!E10+'Ս. Գրիգորյան'!E10 -> 71 | F10: ='Ժ. Ասատրյան'!F10+'Դ. Գրիգորյան'!F10+Մ.Հովակիմյան!F10+'Ն. Օհանյան'!F10+'Ա. Թումանյան'!F10+Լ.Աթանյան!F10+'Ի. Բեգլարյան'!F10+'Ա. Մնացականյան'!F10+'Ս. Գրիգորյան'!F10 -> 0 | G10: ='Ժ. Ասատրյան'!G10+'Դ. Գրիգորյան'!G10+Մ.Հովակիմյան!G10+'Ն. Օհանյան'!G10+'Ա. Թումանյան'!G10+Լ.Աթանյան!G10+'Ի. Բեգլարյան'!G10+'Ա. Մնացականյան'!G10+'Ս. Գրիգորյան'!G10 -> 44 | H10: ='Ժ. Ասատրյան'!H10+'Դ. Գրիգորյան'!H10+Մ.Հովակիմյան!H10+'Ն. Օհանյան'!H10+'Ա. Թումանյան'!H10+Լ.Աթանյան!H10+'Ի. Բեգլարյան'!H10+'Ա. Մնացականյան'!H10+'Ս. Գրիգորյան'!H10 -> 27 | I10: ='Ժ. Ասատրյան'!I10+'Դ. Գրիգորյան'!I10+Մ.Հովակիմյան!I10+'Ն. Օհանյան'!I10+'Ա. Թումանյան'!I10+Լ.Աթանյան!I10+'Ի. Բեգլարյան'!I10+'Ա. Մնացականյան'!I10+'Ս. Գրիգորյան'!I10 -> 0 | J10: ='Ժ. Ասատրյան'!J10+'Դ. Գրիգորյան'!J10+Մ.Հովակիմյան!J10+'Ն. Օհանյան'!J10+'Ա. Թումանյան'!J10+Լ.Աթանյան!J10+'Ի. Բեգլարյան'!J10+'Ա. Մնացականյան'!J10+'Ս. Գրիգորյան'!J10 -> 0 | K10: ='Ժ. Ասատրյան'!K10+'Դ. Գրիգորյան'!K10+Մ.Հովակիմյան!K10+'Ն. Օհանյան'!K10+'Ա. Թումանյան'!K10+Լ.Աթանյան!K10+'Ի. Բեգլարյան'!K10+'Ա. Մնացականյան'!K10+'Ս. Գրիգորյան'!K10 -> 71 | ... R10: ='Ժ. Ասատրյան'!R10+'Դ. Գրիգորյան'!R10+Մ.Հովակիմյան!R10+'Ն. Օհանյան'!R10+'Ա. Թումանյան'!R10+Լ.Աթանյան!R10+'Ի. Բեգլարյան'!R10+'Ա. Մնացականյան'!R10+'Ս. Գրիգորյան'!R10 -> 0 | S10: ='Ժ. Ասատրյան'!S10+'Դ. Գրիգորյան'!S10+Մ.Հովակիմյան!S10+'Ն. Օհանյան'!S10+'Ա. Թումանյան'!S10+Լ.Աթանյան!S10+'Ի. Բեգլարյան'!S10+'Ա. Մնացականյան'!S10 -> 0 | T10: =D10+E10 -> 71 | U10: =F10+K10+L10 -> 71 | V10: =K10 -> 71 | W10: =G10+H10+I10+J10 -> 71
A11: 5 | B11: Ëáõ½³ñÏáõÃÛ³Ý Ï³ï³ñÙ³Ý Ù³ëÇÝ ÙÇçÝáñ¹áõÃÛáõÝÝ»ñ | D11: ='Ժ. Ասատրյան'!D11+'Դ. Գրիգորյան'!D11+Մ.Հովակիմյան!D11+'Ն. Օհանյան'!D11+'Ա. Թումանյան'!D11+Լ.Աթանյան!D11+'Ի. Բեգլարյան'!D11+'Ա. Մնացականյան'!D11+'Ս. Գրիգորյան'!D11 -> 0 | E11: ='Ժ. Ասատրյան'!E11+'Դ. Գրիգորյան'!E11+Մ.Հովակիմյան!E11+'Ն. Օհանյան'!E11+'Ա. Թումանյան'!E11+Լ.Աթանյան!E11+'Ի. Բեգլարյան'!E11+'Ա. Մնացականյան'!E11+'Ս. Գրիգորյան'!E11 -> 122 | F11: ='Ժ. Ասատրյան'!F11+'Դ. Գրիգորյան'!F11+Մ.Հովակիմյան!F11+'Ն. Օհանյան'!F11+'Ա. Թումանյան'!F11+Լ.Աթանյան!F11+'Ի. Բեգլարյան'!F11+'Ա. Մնացականյան'!F11+'Ս. Գրիգորյան'!F11 -> 0 | G11: ='Ժ. Ասատրյան'!G11+'Դ. Գրիգորյան'!G11+Մ.Հովակիմյան!G11+'Ն. Օհանյան'!G11+'Ա. Թումանյան'!G11+Լ.Աթանյան!G11+'Ի. Բեգլարյան'!G11+'Ա. Մնացականյան'!G11+'Ս. Գրիգորյան'!G11 -> 7 | H11: ='Ժ. Ասատրյան'!H11+'Դ. Գրիգորյան'!H11+Մ.Հովակիմյան!H11+'Ն. Օհանյան'!H11+'Ա. Թումանյան'!H11+Լ.Աթանյան!H11+'Ի. Բեգլարյան'!H11+'Ա. Մնացականյան'!H11+'Ս. Գրիգորյան'!H11 -> 115 | I11: ='Ժ. Ասատրյան'!I11+'Դ. Գրիգորյան'!I11+Մ.Հովակիմյան!I11+'Ն. Օհանյան'!I11+'Ա. Թումանյան'!I11+Լ.Աթանյան!I11+'Ի. Բեգլարյան'!I11+'Ա. Մնացականյան'!I11+'Ս. Գրիգորյան'!I11 -> 0 | J11: ='Ժ. Ասատրյան'!J11+'Դ. Գրիգորյան'!J11+Մ.Հովակիմյան!J11+'Ն. Օհանյան'!J11+'Ա. Թումանյան'!J11+Լ.Աթանյան!J11+'Ի. Բեգլարյան'!J11+'Ա. Մնացականյան'!J11+'Ս. Գրիգորյան'!J11 -> 0 | K11: ='Ժ. Ասատրյան'!K11+'Դ. Գրիգորյան'!K11+Մ.Հովակիմյան!K11+'Ն. Օհանյան'!K11+'Ա. Թումանյան'!K11+Լ.Աթանյան!K11+'Ի. Բեգլարյան'!K11+'Ա. Մնացականյան'!K11+'Ս. Գրիգորյան'!K11 -> 122 | ... R11: ='Ժ. Ասատրյան'!R11+'Դ. Գրիգորյան'!R11+Մ.Հովակիմյան!R11+'Ն. Օհանյան'!R11+'Ա. Թումանյան'!R11+Լ.Աթանյան!R11+'Ի. Բեգլարյան'!R11+'Ա. Մնացականյան'!R11+'Ս. Գրիգորյան'!R11 -> 0 | S11: ='Ժ. Ասատրյան'!S11+'Դ. Գրիգորյան'!S11+Մ.Հովակիմյան!S11+'Ն. Օհանյան'!S11+'Ա. Թումանյան'!S11+Լ.Աթանյան!S11+'Ի. Բեգլարյան'!S11+'Ա. Մնացականյան'!S11 -> 0 | T11: =D11+E11 -> 122 | U11: =F11+K11+L11 -> 122 | V11: =K11 -> 122 | W11: =G11+H11+I11+J11 -> 122
A12: 6 | B12: µ³ÝÏ³ÛÇÝ, ³å³Ñáí³·ñ³Ï³Ý, Ýáï³ñ³Ï³Ý ·³ÕïÝÇù Ï³½ÙáÕ ï»Õ»ÏáõÃÛáõÝÝ»ñÇ ëï³óÙ³Ý Ñ³Ù³ñ Ëáõ½³ñÏáõÃÛ³Ý Ï³Ù ³é·ñ³íÙ³Ý Ï³ï³ñÙ³Ý Ù³ëÇÝ ÙÇçÝáñ¹áõÃÛáõÝÝ»ñ | D12: ='Ժ. Ասատրյան'!D12+'Դ. Գրիգորյան'!D12+Մ.Հովակիմյան!D12+'Ն. Օհանյան'!D12+'Ա. Թումանյան'!D12+Լ.Աթանյան!D12+'Ի. Բեգլարյան'!D12+'Ա. Մնացականյան'!D12+'Ս. Գրիգորյան'!D12 -> 0 | E12: ='Ժ. Ասատրյան'!E12+'Դ. Գրիգորյան'!E12+Մ.Հովակիմյան!E12+'Ն. Օհանյան'!E12+'Ա. Թումանյան'!E12+Լ.Աթանյան!E12+'Ի. Բեգլարյան'!E12+'Ա. Մնացականյան'!E12+'Ս. Գրիգորյան'!E12 -> 0 | F12: ='Ժ. Ասատրյան'!F12+'Դ. Գրիգորյան'!F12+Մ.Հովակիմյան!F12+'Ն. Օհանյան'!F12+'Ա. Թումանյան'!F12+Լ.Աթանյան!F12+'Ի. Բեգլարյան'!F12+'Ա. Մնացականյան'!F12+'Ս. Գրիգորյան'!F12 -> 0 | G12: ='Ժ. Ասատրյան'!G12+'Դ. Գրիգորյան'!G12+Մ.Հովակիմյան!G12+'Ն. Օհանյան'!G12+'Ա. Թումանյան'!G12+Լ.Աթանյան!G12+'Ի. Բեգլարյան'!G12+'Ա. Մնացականյան'!G12+'Ս. Գրիգորյան'!G12 -> 0 | H12: ='Ժ. Ասատրյան'!H12+'Դ. Գրիգորյան'!H12+Մ.Հովակիմյան!H12+'Ն. Օհանյան'!H12+'Ա. Թումանյան'!H12+Լ.Աթանյան!H12+'Ի. Բեգլարյան'!H12+'Ա. Մնացականյան'!H12+'Ս. Գրիգորյան'!H12 -> 0 | I12: ='Ժ. Ասատրյան'!I12+'Դ. Գրիգորյան'!I12+Մ.Հովակիմյան!I12+'Ն. Օհանյան'!I12+'Ա. Թումանյան'!I12+Լ.Աթանյան!I12+'Ի. Բեգլարյան'!I12+'Ա. Մնացականյան'!I12+'Ս. Գրիգորյան'!I12 -> 0 | J12: ='Ժ. Ասատրյան'!J12+'Դ. Գրիգորյան'!J12+Մ.Հովակիմյան!J12+'Ն. Օհանյան'!J12+'Ա. Թումանյան'!J12+Լ.Աթանյան!J12+'Ի. Բեգլարյան'!J12+'Ա. Մնացականյան'!J12+'Ս. Գրիգորյան'!J12 -> 0 | K12: ='Ժ. Ասատրյան'!K12+'Դ. Գրիգորյան'!K12+Մ.Հովակիմյան!K12+'Ն. Օհանյան'!K12+'Ա. Թումանյան'!K12+Լ.Աթանյան!K12+'Ի. Բեգլարյան'!K12+'Ա. Մնացականյան'!K12+'Ս. Գրիգորյան'!K12 -> 0 | ... R12: ='Ժ. Ասատրյան'!R12+'Դ. Գրիգորյան'!R12+Մ.Հովակիմյան!R12+'Ն. Օհանյան'!R12+'Ա. Թումանյան'!R12+Լ.Աթանյան!R12+'Ի. Բեգլարյան'!R12+'Ա. Մնացականյան'!R12+'Ս. Գրիգորյան'!R12 -> 0 | S12: ='Ժ. Ասատրյան'!S12+'Դ. Գրիգորյան'!S12+Մ.Հովակիմյան!S12+'Ն. Օհանյան'!S12+'Ա. Թումանյան'!S12+Լ.Աթանյան!S12+'Ի. Բեգլարյան'!S12+'Ա. Մնացականյան'!S12 -> 0 | T12: =D12+E12 -> 0 | U12: =F12+K12+L12 -> 0 | V12: =K12 -> 0 | W12: =G12+H12+I12+J12 -> 0
A13: 7 | B13: Ý³Ù³Ï³·ñáõÃÛ³Ý, Ñ»é³·ñ³Ï³Ý, ÷áuï³ÛÇÝ Ñ³Õáñ¹áõÙÝ»ñÇ ÑëÏáÕáõÃÛ³Ý Ù³ëÇÝ ÙÇçÝáñ¹áõÃÛáõÝÝ»ñ | D13: ='Ժ. Ասատրյան'!D13+'Դ. Գրիգորյան'!D13+Մ.Հովակիմյան!D13+'Ն. Օհանյան'!D13+'Ա. Թումանյան'!D13+Լ.Աթանյան!D13+'Ի. Բեգլարյան'!D13+'Ա. Մնացականյան'!D13+'Ս. Գրիգորյան'!D13 -> 0 | E13: ='Ժ. Ասատրյան'!E13+'Դ. Գրիգորյան'!E13+Մ.Հովակիմյան!E13+'Ն. Օհանյան'!E13+'Ա. Թումանյան'!E13+Լ.Աթանյան!E13+'Ի. Բեգլարյան'!E13+'Ա. Մնացականյան'!E13+'Ս. Գրիգորյան'!E13 -> 4 | F13: ='Ժ. Ասատրյան'!F13+'Դ. Գրիգորյան'!F13+Մ.Հովակիմյան!F13+'Ն. Օհանյան'!F13+'Ա. Թումանյան'!F13+Լ.Աթանյան!F13+'Ի. Բեգլարյան'!F13+'Ա. Մնացականյան'!F13+'Ս. Գրիգորյան'!F13 -> 0 | G13: ='Ժ. Ասատրյան'!G13+'Դ. Գրիգորյան'!G13+Մ.Հովակիմյան!G13+'Ն. Օհանյան'!G13+'Ա. Թումանյան'!G13+Լ.Աթանյան!G13+'Ի. Բեգլարյան'!G13+'Ա. Մնացականյան'!G13+'Ս. Գրիգորյան'!G13 -> 0 | H13: ='Ժ. Ասատրյան'!H13+'Դ. Գրիգորյան'!H13+Մ.Հովակիմյան!H13+'Ն. Օհանյան'!H13+'Ա. Թումանյան'!H13+Լ.Աթանյան!H13+'Ի. Բեգլարյան'!H13+'Ա. Մնացականյան'!H13+'Ս. Գրիգորյան'!H13 -> 4 | I13: ='Ժ. Ասատրյան'!I13+'Դ. Գրիգորյան'!I13+Մ.Հովակիմյան!I13+'Ն. Օհանյան'!I13+'Ա. Թումանյան'!I13+Լ.Աթանյան!I13+'Ի. Բեգլարյան'!I13+'Ա. Մնացականյան'!I13+'Ս. Գրիգորյան'!I13 -> 0 | J13: ='Ժ. Ասատրյան'!J13+'Դ. Գրիգորյան'!J13+Մ.Հովակիմյան!J13+'Ն. Օհանյան'!J13+'Ա. Թումանյան'!J13+Լ.Աթանյան!J13+'Ի. Բեգլարյան'!J13+'Ա. Մնացականյան'!J13+'Ս. Գրիգորյան'!J13 -> 0 | K13: ='Ժ. Ասատրյան'!K13+'Դ. Գրիգորյան'!K13+Մ.Հովակիմյան!K13+'Ն. Օհանյան'!K13+'Ա. Թումանյան'!K13+Լ.Աթանյան!K13+'Ի. Բեգլարյան'!K13+'Ա. Մնացականյան'!K13+'Ս. Գրիգորյան'!K13 -> 4 | ... R13: ='Ժ. Ասատրյան'!R13+'Դ. Գրիգորյան'!R13+Մ.Հովակիմյան!R13+'Ն. Օհանյան'!R13+'Ա. Թումանյան'!R13+Լ.Աթանյան!R13+'Ի. Բեգլարյան'!R13+'Ա. Մնացականյան'!R13+'Ս. Գրիգորյան'!R13 -> 0 | S13: ='Ժ. Ասատրյան'!S13+'Դ. Գրիգորյան'!S13+Մ.Հովակիմյան!S13+'Ն. Օհանյան'!S13+'Ա. Թումանյան'!S13+Լ.Աթանյան!S13+'Ի. Բեգլարյան'!S13+'Ա. Մնացականյան'!S13 -> 0 | T13: =D13+E13 -> 4 | U13: =F13+K13+L13 -> 4 | V13: =K13 -> 4 | W13: =G13+H13+I13+J13 -> 4
A14: 8 | B14: Ñ»é³Ëáu³ÛÇÝ Ï³Ù Ï³åÇ ³ÛÉ ÙÇçáóÝ»ñáí ï³ñíáÕ Ëáu³ÏóáõÃÛáõÝÝ»ñÇ ÉuÙ³Ý ¨ Ó³ÛÝ³·ñ³éÙ³Ý Ù³ëÇÝ ÙÇçÝáñ¹áõÃÛáõÝÝ»ñ | D14: ='Ժ. Ասատրյան'!D14+'Դ. Գրիգորյան'!D14+Մ.Հովակիմյան!D14+'Ն. Օհանյան'!D14+'Ա. Թումանյան'!D14+Լ.Աթանյան!D14+'Ի. Բեգլարյան'!D14+'Ա. Մնացականյան'!D14+'Ս. Գրիգորյան'!D14 -> 0 | E14: ='Ժ. Ասատրյան'!E14+'Դ. Գրիգորյան'!E14+Մ.Հովակիմյան!E14+'Ն. Օհանյան'!E14+'Ա. Թումանյան'!E14+Լ.Աթանյան!E14+'Ի. Բեգլարյան'!E14+'Ա. Մնացականյան'!E14+'Ս. Գրիգորյան'!E14 -> 6 | F14: ='Ժ. Ասատրյան'!F14+'Դ. Գրիգորյան'!F14+Մ.Հովակիմյան!F14+'Ն. Օհանյան'!F14+'Ա. Թումանյան'!F14+Լ.Աթանյան!F14+'Ի. Բեգլարյան'!F14+'Ա. Մնացականյան'!F14+'Ս. Գրիգորյան'!F14 -> 0 | G14: ='Ժ. Ասատրյան'!G14+'Դ. Գրիգորյան'!G14+Մ.Հովակիմյան!G14+'Ն. Օհանյան'!G14+'Ա. Թումանյան'!G14+Լ.Աթանյան!G14+'Ի. Բեգլարյան'!G14+'Ա. Մնացականյան'!G14+'Ս. Գրիգորյան'!G14 -> 0 | H14: ='Ժ. Ասատրյան'!H14+'Դ. Գրիգորյան'!H14+Մ.Հովակիմյան!H14+'Ն. Օհանյան'!H14+'Ա. Թումանյան'!H14+Լ.Աթանյան!H14+'Ի. Բեգլարյան'!H14+'Ա. Մնացականյան'!H14+'Ս. Գրիգորյան'!H14 -> 5 | I14: ='Ժ. Ասատրյան'!I14+'Դ. Գրիգորյան'!I14+Մ.Հովակիմյան!I14+'Ն. Օհանյան'!I14+'Ա. Թումանյան'!I14+Լ.Աթանյան!I14+'Ի. Բեգլարյան'!I14+'Ա. Մնացականյան'!I14+'Ս. Գրիգորյան'!I14 -> 1 | J14: ='Ժ. Ասատրյան'!J14+'Դ. Գրիգորյան'!J14+Մ.Հովակիմյան!J14+'Ն. Օհանյան'!J14+'Ա. Թումանյան'!J14+Լ.Աթանյան!J14+'Ի. Բեգլարյան'!J14+'Ա. Մնացականյան'!J14+'Ս. Գրիգորյան'!J14 -> 0 | K14: ='Ժ. Ասատրյան'!K14+'Դ. Գրիգորյան'!K14+Մ.Հովակիմյան!K14+'Ն. Օհանյան'!K14+'Ա. Թումանյան'!K14+Լ.Աթանյան!K14+'Ի. Բեգլարյան'!K14+'Ա. Մնացականյան'!K14+'Ս. Գրիգորյան'!K14 -> 6 | ... R14: ='Ժ. Ասատրյան'!R14+'Դ. Գրիգորյան'!R14+Մ.Հովակիմյան!R14+'Ն. Օհանյան'!R14+'Ա. Թումանյան'!R14+Լ.Աթանյան!R14+'Ի. Բեգլարյան'!R14+'Ա. Մնացականյան'!R14+'Ս. Գրիգորյան'!R14 -> 0 | S14: ='Ժ. Ասատրյան'!S14+'Դ. Գրիգորյան'!S14+Մ.Հովակիմյան!S14+'Ն. Օհանյան'!S14+'Ա. Թումանյան'!S14+Լ.Աթանյան!S14+'Ի. Բեգլարյան'!S14+'Ա. Մնացականյան'!S14 -> 0 | T14: =D14+E14 -> 6 | U14: =F14+K14+L14 -> 6 | V14: =K14 -> 6 | W14: =G14+H14+I14+J14 -> 6
A15: 9 | B15: Ñ»é³ËáëÝ»ñÇ Ùáõïù³ÛÇÝ ¨ »Éù³ÛÇÝ í»ñÍ³ÝÙ³Ý ÃáõÛÉïíáõÃÛáõÝ ëï³Ý³Éáõ Ù³ëÇÝ ÙÇçÝáñ¹áõÃÛáõÝÝ»ñ | D15: ='Ժ. Ասատրյան'!D15+'Դ. Գրիգորյան'!D15+Մ.Հովակիմյան!D15+'Ն. Օհանյան'!D15+'Ա. Թումանյան'!D15+Լ.Աթանյան!D15+'Ի. Բեգլարյան'!D15+'Ա. Մնացականյան'!D15+'Ս. Գրիգորյան'!D15 -> 0 | E15: ='Ժ. Ասատրյան'!E15+'Դ. Գրիգորյան'!E15+Մ.Հովակիմյան!E15+'Ն. Օհանյան'!E15+'Ա. Թումանյան'!E15+Լ.Աթանյան!E15+'Ի. Բեգլարյան'!E15+'Ա. Մնացականյան'!E15+'Ս. Գրիգորյան'!E15 -> 104 | F15: ='Ժ. Ասատրյան'!F15+'Դ. Գրիգորյան'!F15+Մ.Հովակիմյան!F15+'Ն. Օհանյան'!F15+'Ա. Թումանյան'!F15+Լ.Աթանյան!F15+'Ի. Բեգլարյան'!F15+'Ա. Մնացականյան'!F15+'Ս. Գրիգորյան'!F15 -> 0 | G15: ='Ժ. Ասատրյան'!G15+'Դ. Գրիգորյան'!G15+Մ.Հովակիմյան!G15+'Ն. Օհանյան'!G15+'Ա. Թումանյան'!G15+Լ.Աթանյան!G15+'Ի. Բեգլարյան'!G15+'Ա. Մնացականյան'!G15+'Ս. Գրիգորյան'!G15 -> 4 | H15: ='Ժ. Ասատրյան'!H15+'Դ. Գրիգորյան'!H15+Մ.Հովակիմյան!H15+'Ն. Օհանյան'!H15+'Ա. Թումանյան'!H15+Լ.Աթանյան!H15+'Ի. Բեգլարյան'!H15+'Ա. Մնացականյան'!H15+'Ս. Գրիգորյան'!H15 -> 99 | I15: ='Ժ. Ասատրյան'!I15+'Դ. Գրիգորյան'!I15+Մ.Հովակիմյան!I15+'Ն. Օհանյան'!I15+'Ա. Թումանյան'!I15+Լ.Աթանյան!I15+'Ի. Բեգլարյան'!I15+'Ա. Մնացականյան'!I15+'Ս. Գրիգորյան'!I15 -> 1 | J15: ='Ժ. Ասատրյան'!J15+'Դ. Գրիգորյան'!J15+Մ.Հովակիմյան!J15+'Ն. Օհանյան'!J15+'Ա. Թումանյան'!J15+Լ.Աթանյան!J15+'Ի. Բեգլարյան'!J15+'Ա. Մնացականյան'!J15+'Ս. Գրիգորյան'!J15 -> 0 | K15: ='Ժ. Ասատրյան'!K15+'Դ. Գրիգորյան'!K15+Մ.Հովակիմյան!K15+'Ն. Օհանյան'!K15+'Ա. Թումանյան'!K15+Լ.Աթանյան!K15+'Ի. Բեգլարյան'!K15+'Ա. Մնացականյան'!K15+'Ս. Գրիգորյան'!K15 -> 104 | ... R15: ='Ժ. Ասատրյան'!R15+'Դ. Գրիգորյան'!R15+Մ.Հովակիմյան!R15+'Ն. Օհանյան'!R15+'Ա. Թումանյան'!R15+Լ.Աթանյան!R15+'Ի. Բեգլարյան'!R15+'Ա. Մնացականյան'!R15+'Ս. Գրիգորյան'!R15 -> 0 | S15: ='Ժ. Ասատրյան'!S15+'Դ. Գրիգորյան'!S15+Մ.Հովակիմյան!S15+'Ն. Օհանյան'!S15+'Ա. Թումանյան'!S15+Լ.Աթանյան!S15+'Ի. Բեգլարյան'!S15+'Ա. Մնացականյան'!S15 -> 0 | T15: =D15+E15 -> 104 | U15: =F15+K15+L15 -> 104 | V15: =K15 -> 104 | W15: =G15+H15+I15+J15 -> 104
A16: 10 | B16: Ñ»ï³ùÝÝáõÃÛ³Ý Ù³ñÙÝÇ ³ßË³ïáÕÇ, ùÝÝÇãÇ, ¹³ï³Ë³½Ç oå»ñ³ïÇí-Ñ»ï³Ëáõ½³Ï³Ý ·áñÍáÕáõÃÛáõÝÝ»ñ Çñ³Ï³Ý³óÝáÕ Ù³ñÙÇÝÝ»ñÇ ³ÝoñÇÝ³Ï³Ý ¨ ³ÝÑÇÙÝ áñáßáõÙÝ»ñÇ ¨ ·áñÍáÕáõÃÛáõÝÝ»ñÇ ¹»Ù µáÕáùÝ»ñ | D16: ='Ժ. Ասատրյան'!D16+'Դ. Գրիգորյան'!D16+Մ.Հովակիմյան!D16+'Ն. Օհանյան'!D16+'Ա. Թումանյան'!D16+Լ.Աթանյան!D16+'Ի. Բեգլարյան'!D16+'Ա. Մնացականյան'!D16+'Ս. Գրիգորյան'!D16 -> 1 | E16: ='Ժ. Ասատրյան'!E16+'Դ. Գրիգորյան'!E16+Մ.Հովակիմյան!E16+'Ն. Օհանյան'!E16+'Ա. Թումանյան'!E16+Լ.Աթանյան!E16+'Ի. Բեգլարյան'!E16+'Ա. Մնացականյան'!E16+'Ս. Գրիգորյան'!E16 -> 24 | F16: ='Ժ. Ասատրյան'!F16+'Դ. Գրիգորյան'!F16+Մ.Հովակիմյան!F16+'Ն. Օհանյան'!F16+'Ա. Թումանյան'!F16+Լ.Աթանյան!F16+'Ի. Բեգլարյան'!F16+'Ա. Մնացականյան'!F16+'Ս. Գրիգորյան'!F16 -> 1 | G16: ='Ժ. Ասատրյան'!G16+'Դ. Գրիգորյան'!G16+Մ.Հովակիմյան!G16+'Ն. Օհանյան'!G16+'Ա. Թումանյան'!G16+Լ.Աթանյան!G16+'Ի. Բեգլարյան'!G16+'Ա. Մնացականյան'!G16+'Ս. Գրիգորյան'!G16 -> 22 | H16: ='Ժ. Ասատրյան'!H16+'Դ. Գրիգորյան'!H16+Մ.Հովակիմյան!H16+'Ն. Օհանյան'!H16+'Ա. Թումանյան'!H16+Լ.Աթանյան!H16+'Ի. Բեգլարյան'!H16+'Ա. Մնացականյան'!H16+'Ս. Գրիգորյան'!H16 -> 1 | I16: ='Ժ. Ասատրյան'!I16+'Դ. Գրիգորյան'!I16+Մ.Հովակիմյան!I16+'Ն. Օհանյան'!I16+'Ա. Թումանյան'!I16+Լ.Աթանյան!I16+'Ի. Բեգլարյան'!I16+'Ա. Մնացականյան'!I16+'Ս. Գրիգորյան'!I16 -> 1 | J16: ='Ժ. Ասատրյան'!J16+'Դ. Գրիգորյան'!J16+Մ.Հովակիմյան!J16+'Ն. Օհանյան'!J16+'Ա. Թումանյան'!J16+Լ.Աթանյան!J16+'Ի. Բեգլարյան'!J16+'Ա. Մնացականյան'!J16+'Ս. Գրիգորյան'!J16 -> 0 | K16: ='Ժ. Ասատրյան'!K16+'Դ. Գրիգորյան'!K16+Մ.Հովակիմյան!K16+'Ն. Օհանյան'!K16+'Ա. Թումանյան'!K16+Լ.Աթանյան!K16+'Ի. Բեգլարյան'!K16+'Ա. Մնացականյան'!K16+'Ս. Գրիգորյան'!K16 -> 24 | ... R16: ='Ժ. Ասատրյան'!R16+'Դ. Գրիգորյան'!R16+Մ.Հովակիմյան!R16+'Ն. Օհանյան'!R16+'Ա. Թումանյան'!R16+Լ.Աթանյան!R16+'Ի. Բեգլարյան'!R16+'Ա. Մնացականյան'!R16+'Ս. Գրիգորյան'!R16 -> 0 | S16: ='Ժ. Ասատրյան'!S16+'Դ. Գրիգորյան'!S16+Մ.Հովակիմյան!S16+'Ն. Օհանյան'!S16+'Ա. Թումանյան'!S16+Լ.Աթանյան!S16+'Ի. Բեգլարյան'!S16+'Ա. Մնացականյան'!S16 -> 0 | T16: =D16+E16 -> 25 | U16: =F16+K16+L16 -> 25 | V16: =K16 -> 24 | W16: =G16+H16+I16+J16 -> 24
A17: 2. ¸³ï³Ï³Ý ³Ïï»ñÇ ¨ ¹³ï³Ï³Ý Ñ³ÝÓÝ³ñ³ñáõÃÛáõÝÝ»ñÇ Ï³ï³ñÙ³Ý Ñ»ï Ï³åí³Í Ñ³ñó»ñÇ ÉáõÍÙ³Ý áÉáñï | S17: ='Ժ. Ասատրյան'!S17+'Դ. Գրիգորյան'!S17+Մ.Հովակիմյան!S17+'Ն. Օհանյան'!S17+'Ա. Թումանյան'!S17+Լ.Աթանյան!S17+'Ի. Բեգլարյան'!S17+'Ա. Մնացականյան'!S17 -> 0
A18: 1 | B18: å³ïÅÇó å³ÛÙ³Ý³Ï³Ý í³Õ³Å³ÙÏ»ï ³½³ï»Éáõ Ù³ëÇÝ ÙÇçÝáñ¹áõÃÛáõÝÝ»ñ | D18: ='Ժ. Ասատրյան'!D18+'Դ. Գրիգորյան'!D18+Մ.Հովակիմյան!D18+'Ն. Օհանյան'!D18+'Ա. Թումանյան'!D18+Լ.Աթանյան!D18+'Ի. Բեգլարյան'!D18+'Ա. Մնացականյան'!D18+'Ս. Գրիգորյան'!D18 -> 0 | E18: ='Ժ. Ասատրյան'!E18+'Դ. Գրիգորյան'!E18+Մ.Հովակիմյան!E18+'Ն. Օհանյան'!E18+'Ա. Թումանյան'!E18+Լ.Աթանյան!E18+'Ի. Բեգլարյան'!E18+'Ա. Մնացականյան'!E18+'Ս. Գրիգորյան'!E18 -> 4 | F18: ='Ժ. Ասատրյան'!F18+'Դ. Գրիգորյան'!F18+Մ.Հովակիմյան!F18+'Ն. Օհանյան'!F18+'Ա. Թումանյան'!F18+Լ.Աթանյան!F18+'Ի. Բեգլարյան'!F18+'Ա. Մնացականյան'!F18+'Ս. Գրիգորյան'!F18 -> 0 | G18: ='Ժ. Ասատրյան'!G18+'Դ. Գրիգորյան'!G18+Մ.Հովակիմյան!G18+'Ն. Օհանյան'!G18+'Ա. Թումանյան'!G18+Լ.Աթանյան!G18+'Ի. Բեգլարյան'!G18+'Ա. Մնացականյան'!G18+'Ս. Գրիգորյան'!G18 -> 2 | H18: ='Ժ. Ասատրյան'!H18+'Դ. Գրիգորյան'!H18+Մ.Հովակիմյան!H18+'Ն. Օհանյան'!H18+'Ա. Թումանյան'!H18+Լ.Աթանյան!H18+'Ի. Բեգլարյան'!H18+'Ա. Մնացականյան'!H18+'Ս. Գրիգորյան'!H18 -> 2 | I18: ='Ժ. Ասատրյան'!I18+'Դ. Գրիգորյան'!I18+Մ.Հովակիմյան!I18+'Ն. Օհանյան'!I18+'Ա. Թումանյան'!I18+Լ.Աթանյան!I18+'Ի. Բեգլարյան'!I18+'Ա. Մնացականյան'!I18+'Ս. Գրիգորյան'!I18 -> 0 | J18: ='Ժ. Ասատրյան'!J18+'Դ. Գրիգորյան'!J18+Մ.Հովակիմյան!J18+'Ն. Օհանյան'!J18+'Ա. Թումանյան'!J18+Լ.Աթանյան!J18+'Ի. Բեգլարյան'!J18+'Ա. Մնացականյան'!J18+'Ս. Գրիգորյան'!J18 -> 0 | K18: ='Ժ. Ասատրյան'!K18+'Դ. Գրիգորյան'!K18+Մ.Հովակիմյան!K18+'Ն. Օհանյան'!K18+'Ա. Թումանյան'!K18+Լ.Աթանյան!K18+'Ի. Բեգլարյան'!K18+'Ա. Մնացականյան'!K18+'Ս. Գրիգորյան'!K18 -> 4 | ... R18: ='Ժ. Ասատրյան'!R18+'Դ. Գրիգորյան'!R18+Մ.Հովակիմյան!R18+'Ն. Օհանյան'!R18+'Ա. Թումանյան'!R18+Լ.Աթանյան!R18+'Ի. Բեգլարյան'!R18+'Ա. Մնացականյան'!R18+'Ս. Գրիգորյան'!R18 -> 0 | S18: ='Ժ. Ասատրյան'!S18+'Դ. Գրիգորյան'!S18+Մ.Հովակիմյան!S18+'Ն. Օհանյան'!S18+'Ա. Թումանյան'!S18+Լ.Աթանյան!S18+'Ի. Բեգլարյան'!S18+'Ա. Մնացականյան'!S18 -> 0 | T18: =D18+E18 -> 4 | U18: =F18+K18+L18 -> 4 | V18: =K18 -> 4 | W18: =G18+H18+I18+J18 -> 4
A19: 2 | B19: å³ïÇÅÁ ÷á÷áË»Éáõ, Ñ»ï³Ó·»Éáõ ¨ å³ïÅÇó ³½³ï»Éáõ Ù³uÇÝ ÙÇçÝáñ¹áõÃÛáõÝÝ»ñ | D19: ='Ժ. Ասատրյան'!D19+'Դ. Գրիգորյան'!D19+Մ.Հովակիմյան!D19+'Ն. Օհանյան'!D19+'Ա. Թումանյան'!D19+Լ.Աթանյան!D19+'Ի. Բեգլարյան'!D19+'Ա. Մնացականյան'!D19+'Ս. Գրիգորյան'!D19 -> 0 | E19: ='Ժ. Ասատրյան'!E19+'Դ. Գրիգորյան'!E19+Մ.Հովակիմյան!E19+'Ն. Օհանյան'!E19+'Ա. Թումանյան'!E19+Լ.Աթանյան!E19+'Ի. Բեգլարյան'!E19+'Ա. Մնացականյան'!E19+'Ս. Գրիգորյան'!E19 -> 12 | F19: ='Ժ. Ասատրյան'!F19+'Դ. Գրիգորյան'!F19+Մ.Հովակիմյան!F19+'Ն. Օհանյան'!F19+'Ա. Թումանյան'!F19+Լ.Աթանյան!F19+'Ի. Բեգլարյան'!F19+'Ա. Մնացականյան'!F19+'Ս. Գրիգորյան'!F19 -> 0 | G19: ='Ժ. Ասատրյան'!G19+'Դ. Գրիգորյան'!G19+Մ.Հովակիմյան!G19+'Ն. Օհանյան'!G19+'Ա. Թումանյան'!G19+Լ.Աթանյան!G19+'Ի. Բեգլարյան'!G19+'Ա. Մնացականյան'!G19+'Ս. Գրիգորյան'!G19 -> 3 | H19: ='Ժ. Ասատրյան'!H19+'Դ. Գրիգորյան'!H19+Մ.Հովակիմյան!H19+'Ն. Օհանյան'!H19+'Ա. Թումանյան'!H19+Լ.Աթանյան!H19+'Ի. Բեգլարյան'!H19+'Ա. Մնացականյան'!H19+'Ս. Գրիգորյան'!H19 -> 9 | I19: ='Ժ. Ասատրյան'!I19+'Դ. Գրիգորյան'!I19+Մ.Հովակիմյան!I19+'Ն. Օհանյան'!I19+'Ա. Թումանյան'!I19+Լ.Աթանյան!I19+'Ի. Բեգլարյան'!I19+'Ա. Մնացականյան'!I19+'Ս. Գրիգորյան'!I19 -> 0 | J19: ='Ժ. Ասատրյան'!J19+'Դ. Գրիգորյան'!J19+Մ.Հովակիմյան!J19+'Ն. Օհանյան'!J19+'Ա. Թումանյան'!J19+Լ.Աթանյան!J19+'Ի. Բեգլարյան'!J19+'Ա. Մնացականյան'!J19+'Ս. Գրիգորյան'!J19 -> 0 | K19: ='Ժ. Ասատրյան'!K19+'Դ. Գրիգորյան'!K19+Մ.Հովակիմյան!K19+'Ն. Օհանյան'!K19+'Ա. Թումանյան'!K19+Լ.Աթանյան!K19+'Ի. Բեգլարյան'!K19+'Ա. Մնացականյան'!K19+'Ս. Գրիգորյան'!K19 -> 12 | ... R19: ='Ժ. Ասատրյան'!R19+'Դ. Գրիգորյան'!R19+Մ.Հովակիմյան!R19+'Ն. Օհանյան'!R19+'Ա. Թումանյան'!R19+Լ.Աթանյան!R19+'Ի. Բեգլարյան'!R19+'Ա. Մնացականյան'!R19+'Ս. Գրիգորյան'!R19 -> 0 | S19: ='Ժ. Ասատրյան'!S19+'Դ. Գրիգորյան'!S19+Մ.Հովակիմյան!S19+'Ն. Օհանյան'!S19+'Ա. Թումանյան'!S19+Լ.Աթանյան!S19+'Ի. Բեգլարյան'!S19+'Ա. Մնացականյան'!S19 -> 0 | T19: =D19+E19 -> 12 | U19: =F19+K19+L19 -> 12 | V19: =K19 -> 12 | W19: =G19+H19+I19+J19 -> 12
A20: 3 | B20: Ñ³ñÏ³¹Çñ µáõÅÙ³Ý ï»ë³ÏÇ ÷á÷áËáõÃÛ³Ý Ù³ëÇÝ ÙÇçÝáñ¹áõÃÛáõÝÝ»ñ | D20: ='Ժ. Ասատրյան'!D20+'Դ. Գրիգորյան'!D20+Մ.Հովակիմյան!D20+'Ն. Օհանյան'!D20+'Ա. Թումանյան'!D20+Լ.Աթանյան!D20+'Ի. Բեգլարյան'!D20+'Ա. Մնացականյան'!D20+'Ս. Գրիգորյան'!D20 -> 0 | E20: ='Ժ. Ասատրյան'!E20+'Դ. Գրիգորյան'!E20+Մ.Հովակիմյան!E20+'Ն. Օհանյան'!E20+'Ա. Թումանյան'!E20+Լ.Աթանյան!E20+'Ի. Բեգլարյան'!E20+'Ա. Մնացականյան'!E20+'Ս. Գրիգորյան'!E20 -> 3 | F20: ='Ժ. Ասատրյան'!F20+'Դ. Գրիգորյան'!F20+Մ.Հովակիմյան!F20+'Ն. Օհանյան'!F20+'Ա. Թումանյան'!F20+Լ.Աթանյան!F20+'Ի. Բեգլարյան'!F20+'Ա. Մնացականյան'!F20+'Ս. Գրիգորյան'!F20 -> 0 | G20: ='Ժ. Ասատրյան'!G20+'Դ. Գրիգորյան'!G20+Մ.Հովակիմյան!G20+'Ն. Օհանյան'!G20+'Ա. Թումանյան'!G20+Լ.Աթանյան!G20+'Ի. Բեգլարյան'!G20+'Ա. Մնացականյան'!G20+'Ս. Գրիգորյան'!G20 -> 1 | H20: ='Ժ. Ասատրյան'!H20+'Դ. Գրիգորյան'!H20+Մ.Հովակիմյան!H20+'Ն. Օհանյան'!H20+'Ա. Թումանյան'!H20+Լ.Աթանյան!H20+'Ի. Բեգլարյան'!H20+'Ա. Մնացականյան'!H20+'Ս. Գրիգորյան'!H20 -> 2 | I20: ='Ժ. Ասատրյան'!I20+'Դ. Գրիգորյան'!I20+Մ.Հովակիմյան!I20+'Ն. Օհանյան'!I20+'Ա. Թումանյան'!I20+Լ.Աթանյան!I20+'Ի. Բեգլարյան'!I20+'Ա. Մնացականյան'!I20+'Ս. Գրիգորյան'!I20 -> 0 | J20: ='Ժ. Ասատրյան'!J20+'Դ. Գրիգորյան'!J20+Մ.Հովակիմյան!J20+'Ն. Օհանյան'!J20+'Ա. Թումանյան'!J20+Լ.Աթանյան!J20+'Ի. Բեգլարյան'!J20+'Ա. Մնացականյան'!J20+'Ս. Գրիգորյան'!J20 -> 0 | K20: ='Ժ. Ասատրյան'!K20+'Դ. Գրիգորյան'!K20+Մ.Հովակիմյան!K20+'Ն. Օհանյան'!K20+'Ա. Թումանյան'!K20+Լ.Աթանյան!K20+'Ի. Բեգլարյան'!K20+'Ա. Մնացականյան'!K20+'Ս. Գրիգորյան'!K20 -> 3 | ... R20: ='Ժ. Ասատրյան'!R20+'Դ. Գրիգորյան'!R20+Մ.Հովակիմյան!R20+'Ն. Օհանյան'!R20+'Ա. Թումանյան'!R20+Լ.Աթանյան!R20+'Ի. Բեգլարյան'!R20+'Ա. Մնացականյան'!R20+'Ս. Գրիգորյան'!R20 -> 0 | S20: ='Ժ. Ասատրյան'!S20+'Դ. Գրիգորյան'!S20+Մ.Հովակիմյան!S20+'Ն. Օհանյան'!S20+'Ա. Թումանյան'!S20+Լ.Աթանյան!S20+'Ի. Բեգլարյան'!S20+'Ա. Մնացականյան'!S20 -> 0 | T20: =D20+E20 -> 3 | U20: =F20+K20+L20 -> 3 | V20: =K20 -> 3 | W20: =G20+H20+I20+J20 -> 3
A21: 4 | B21: ³ÛÉ ÙÇçÝáñ¹áõÃÛáõÝÝ»ñ | D21: ='Ժ. Ասատրյան'!D21+'Դ. Գրիգորյան'!D21+Մ.Հովակիմյան!D21+'Ն. Օհանյան'!D21+'Ա. Թումանյան'!D21+Լ.Աթանյան!D21+'Ի. Բեգլարյան'!D21+'Ա. Մնացականյան'!D21+'Ս. Գրիգորյան'!D21 -> 0 | E21: ='Ժ. Ասատրյան'!E21+'Դ. Գրիգորյան'!E21+Մ.Հովակիմյան!E21+'Ն. Օհանյան'!E21+'Ա. Թումանյան'!E21+Լ.Աթանյան!E21+'Ի. Բեգլարյան'!E21+'Ա. Մնացականյան'!E21+'Ս. Գրիգորյան'!E21 -> 24 | F21: ='Ժ. Ասատրյան'!F21+'Դ. Գրիգորյան'!F21+Մ.Հովակիմյան!F21+'Ն. Օհանյան'!F21+'Ա. Թումանյան'!F21+Լ.Աթանյան!F21+'Ի. Բեգլարյան'!F21+'Ա. Մնացականյան'!F21+'Ս. Գրիգորյան'!F21 -> 0 | G21: ='Ժ. Ասատրյան'!G21+'Դ. Գրիգորյան'!G21+Մ.Հովակիմյան!G21+'Ն. Օհանյան'!G21+'Ա. Թումանյան'!G21+Լ.Աթանյան!G21+'Ի. Բեգլարյան'!G21+'Ա. Մնացականյան'!G21+'Ս. Գրիգորյան'!G21 -> 9 | H21: ='Ժ. Ասատրյան'!H21+'Դ. Գրիգորյան'!H21+Մ.Հովակիմյան!H21+'Ն. Օհանյան'!H21+'Ա. Թումանյան'!H21+Լ.Աթանյան!H21+'Ի. Բեգլարյան'!H21+'Ա. Մնացականյան'!H21+'Ս. Գրիգորյան'!H21 -> 14 | I21: ='Ժ. Ասատրյան'!I21+'Դ. Գրիգորյան'!I21+Մ.Հովակիմյան!I21+'Ն. Օհանյան'!I21+'Ա. Թումանյան'!I21+Լ.Աթանյան!I21+'Ի. Բեգլարյան'!I21+'Ա. Մնացականյան'!I21+'Ս. Գրիգորյան'!I21 -> 0 | J21: ='Ժ. Ասատրյան'!J21+'Դ. Գրիգորյան'!J21+Մ.Հովակիմյան!J21+'Ն. Օհանյան'!J21+'Ա. Թումանյան'!J21+Լ.Աթանյան!J21+'Ի. Բեգլարյան'!J21+'Ա. Մնացականյան'!J21+'Ս. Գրիգորյան'!J21 -> 1 | K21: ='Ժ. Ասատրյան'!K21+'Դ. Գրիգորյան'!K21+Մ.Հովակիմյան!K21+'Ն. Օհանյան'!K21+'Ա. Թումանյան'!K21+Լ.Աթանյան!K21+'Ի. Բեգլարյան'!K21+'Ա. Մնացականյան'!K21+'Ս. Գրիգորյան'!K21 -> 24 | ... R21: ='Ժ. Ասատրյան'!R21+'Դ. Գրիգորյան'!R21+Մ.Հովակիմյան!R21+'Ն. Օհանյան'!R21+'Ա. Թումանյան'!R21+Լ.Աթանյան!R21+'Ի. Բեգլարյան'!R21+'Ա. Մնացականյան'!R21+'Ս. Գրիգորյան'!R21 -> 0 | S21: ='Ժ. Ասատրյան'!S21+'Դ. Գրիգորյան'!S21+Մ.Հովակիմյան!S21+'Ն. Օհանյան'!S21+'Ա. Թումանյան'!S21+Լ.Աթանյան!S21+'Ի. Բեգլարյան'!S21+'Ա. Մնացականյան'!S21 -> 0 | T21: =D21+E21 -> 24 | U21: =F21+K21+L21 -> 24 | V21: =K21 -> 24 | W21: =G21+H21+I21+J21 -> 24
A22: 5 | B22: ¹³ï³Ï³Ý Ñ³ÝÓÝ³ñ³ñáõÃÛáõÝÝ»ñ | D22: ='Ժ. Ասատրյան'!D22+'Դ. Գրիգորյան'!D22+Մ.Հովակիմյան!D22+'Ն. Օհանյան'!D22+'Ա. Թումանյան'!D22+Լ.Աթանյան!D22+'Ի. Բեգլարյան'!D22+'Ա. Մնացականյան'!D22+'Ս. Գրիգորյան'!D22 -> 2 | E22: ='Ժ. Ասատրյան'!E22+'Դ. Գրիգորյան'!E22+Մ.Հովակիմյան!E22+'Ն. Օհանյան'!E22+'Ա. Թումանյան'!E22+Լ.Աթանյան!E22+'Ի. Բեգլարյան'!E22+'Ա. Մնացականյան'!E22+'Ս. Գրիգորյան'!E22 -> 5 | F22: ='Ժ. Ասատրյան'!F22+'Դ. Գրիգորյան'!F22+Մ.Հովակիմյան!F22+'Ն. Օհանյան'!F22+'Ա. Թումանյան'!F22+Լ.Աթանյան!F22+'Ի. Բեգլարյան'!F22+'Ա. Մնացականյան'!F22+'Ս. Գրիգորյան'!F22 -> 0 | G22: ='Ժ. Ասատրյան'!G22+'Դ. Գրիգորյան'!G22+Մ.Հովակիմյան!G22+'Ն. Օհանյան'!G22+'Ա. Թումանյան'!G22+Լ.Աթանյան!G22+'Ի. Բեգլարյան'!G22+'Ա. Մնացականյան'!G22+'Ս. Գրիգորյան'!G22 -> 0 | H22: ='Ժ. Ասատրյան'!H22+'Դ. Գրիգորյան'!H22+Մ.Հովակիմյան!H22+'Ն. Օհանյան'!H22+'Ա. Թումանյան'!H22+Լ.Աթանյան!H22+'Ի. Բեգլարյան'!H22+'Ա. Մնացականյան'!H22+'Ս. Գրիգորյան'!H22 -> 3 | I22: ='Ժ. Ասատրյան'!I22+'Դ. Գրիգորյան'!I22+Մ.Հովակիմյան!I22+'Ն. Օհանյան'!I22+'Ա. Թումանյան'!I22+Լ.Աթանյան!I22+'Ի. Բեգլարյան'!I22+'Ա. Մնացականյան'!I22+'Ս. Գրիգորյան'!I22 -> 0 | J22: ='Ժ. Ասատրյան'!J22+'Դ. Գրիգորյան'!J22+Մ.Հովակիմյան!J22+'Ն. Օհանյան'!J22+'Ա. Թումանյան'!J22+Լ.Աթանյան!J22+'Ի. Բեգլարյան'!J22+'Ա. Մնացականյան'!J22+'Ս. Գրիգորյան'!J22 -> 0 | K22: ='Ժ. Ասատրյան'!K22+'Դ. Գրիգորյան'!K22+Մ.Հովակիմյան!K22+'Ն. Օհանյան'!K22+'Ա. Թումանյան'!K22+Լ.Աթանյան!K22+'Ի. Բեգլարյան'!K22+'Ա. Մնացականյան'!K22+'Ս. Գրիգորյան'!K22 -> 3 | ... R22: ='Ժ. Ասատրյան'!R22+'Դ. Գրիգորյան'!R22+Մ.Հովակիմյան!R22+'Ն. Օհանյան'!R22+'Ա. Թումանյան'!R22+Լ.Աթանյան!R22+'Ի. Բեգլարյան'!R22+'Ա. Մնացականյան'!R22+'Ս. Գրիգորյան'!R22 -> 0 | S22: ='Ժ. Ասատրյան'!S22+'Դ. Գրիգորյան'!S22+Մ.Հովակիմյան!S22+'Ն. Օհանյան'!S22+'Ա. Թումանյան'!S22+Լ.Աթանյան!S22+'Ի. Բեգլարյան'!S22+'Ա. Մնացականյան'!S22 -> 0 | T22: =D22+E22 -> 7 | U22: =F22+K22+L22 -> 7 | V22: =K22 -> 3 | W22: =G22+H22+I22+J22 -> 3
A23: ÀÜ¸²ØºÜÀ | D23: ='Ժ. Ասատրյան'!D23+'Դ. Գրիգորյան'!D23+Մ.Հովակիմյան!D23+'Ն. Օհանյան'!D23+'Ա. Թումանյան'!D23+Լ.Աթանյան!D23+'Ի. Բեգլարյան'!D23+'Ա. Մնացականյան'!D23+'Ս. Գրիգորյան'!D23 -> 3 | E23: ='Ժ. Ասատրյան'!E23+'Դ. Գրիգորյան'!E23+Մ.Հովակիմյան!E23+'Ն. Օհանյան'!E23+'Ա. Թումանյան'!E23+Լ.Աթանյան!E23+'Ի. Բեգլարյան'!E23+'Ա. Մնացականյան'!E23+'Ս. Գրիգորյան'!E23 -> 624 | F23: ='Ժ. Ասատրյան'!F23+'Դ. Գրիգորյան'!F23+Մ.Հովակիմյան!F23+'Ն. Օհանյան'!F23+'Ա. Թումանյան'!F23+Լ.Աթանյան!F23+'Ի. Բեգլարյան'!F23+'Ա. Մնացականյան'!F23+'Ս. Գրիգորյան'!F23 -> 1 | G23: ='Ժ. Ասատրյան'!G23+'Դ. Գրիգորյան'!G23+Մ.Հովակիմյան!G23+'Ն. Օհանյան'!G23+'Ա. Թումանյան'!G23+Լ.Աթանյան!G23+'Ի. Բեգլարյան'!G23+'Ա. Մնացականյան'!G23+'Ս. Գրիգորյան'!G23 -> 123 | H23: ='Ժ. Ասատրյան'!H23+'Դ. Գրիգորյան'!H23+Մ.Հովակիմյան!H23+'Ն. Օհանյան'!H23+'Ա. Թումանյան'!H23+Լ.Աթանյան!H23+'Ի. Բեգլարյան'!H23+'Ա. Մնացականյան'!H23+'Ս. Գրիգորյան'!H23 -> 491 | I23: ='Ժ. Ասատրյան'!I23+'Դ. Գրիգորյան'!I23+Մ.Հովակիմյան!I23+'Ն. Օհանյան'!I23+'Ա. Թումանյան'!I23+Լ.Աթանյան!I23+'Ի. Բեգլարյան'!I23+'Ա. Մնացականյան'!I23+'Ս. Գրիգորյան'!I23 -> 7 | J23: ='Ժ. Ասատրյան'!J23+'Դ. Գրիգորյան'!J23+Մ.Հովակիմյան!J23+'Ն. Օհանյան'!J23+'Ա. Թումանյան'!J23+Լ.Աթանյան!J23+'Ի. Բեգլարյան'!J23+'Ա. Մնացականյան'!J23+'Ս. Գրիգորյան'!J23 -> 1 | K23: ='Ժ. Ասատրյան'!K23+'Դ. Գրիգորյան'!K23+Մ.Հովակիմյան!K23+'Ն. Օհանյան'!K23+'Ա. Թումանյան'!K23+Լ.Աթանյան!K23+'Ի. Բեգլարյան'!K23+'Ա. Մնացականյան'!K23+'Ս. Գրիգորյան'!K23 -> 622 | ... R23: ='Ժ. Ասատրյան'!R23+'Դ. Գրիգորյան'!R23+Մ.Հովակիմյան!R23+'Ն. Օհանյան'!R23+'Ա. Թումանյան'!R23+Լ.Աթանյան!R23+'Ի. Բեգլարյան'!R23+'Ա. Մնացականյան'!R23+'Ս. Գրիգորյան'!R23 -> 0 | S23: ='Ժ. Ասատրյան'!S23+'Դ. Գրիգորյան'!S23+Մ.Հովակիմյան!S23+'Ն. Օհանյան'!S23+'Ա. Թումանյան'!S23+Լ.Աթանյան!S23+'Ի. Բեգլարյան'!S23+'Ա. Մնացականյան'!S23 -> 0 | T23: =D23+E23 -> 627 | U23: =F23+K23+L23 -> 627 | V23: =K23 -> 622 | W23: =G23+H23+I23+J23 -> 622

Sheet Ժ. Ասատրյան
A1: 2015Ã. | D1: Ð²ÞìºîìàôÂÚàôÜ | P1: Ð³í»Éí³Í Ð³Û³ëï³ÝÇ Ð³Ýñ³å»ïáõÃÛ³Ý ¸³ï³ñ³ÝÝ»ñÇ Ý³Ë³·³ÑÝ»ñÇ ËáñÑñ¹Ç 01.02.2016Ã. ÃÇí 11È áñáßÙ³Ý
A2: ØÇÝã¹³ï³Ï³Ý í³ñáõÛÃÇ ÝÏ³ïÙ³Ùµ ¹³ï³Ï³Ý í»ñ³ÑëÏáÕáõÃÛ³ÝÁ, ¹³ï³Ï³Ý ³Ïï»ñÇ ¨ ¹³ï³Ï³Ý Ñ³ÝÓÝ³ñ³ñáõÃÛáõÝÝ»ñÇ Ï³ï³ñÙ³Ý Ñ»ï Ï³åí³Í ÙÇçÝáñ¹áõÃÛáõÝÝ»ñÇ í»ñ³µ»ñÛ³É ¹³ï³Ï³Ý ·áñÍ»ñáí ÐÐ êÛáõÝÇùÇ Ù³ñ½Ç ÁÝ¹Ñ³Ýáõñ Çñ³í³ëáõÃÛ³Ý ³é³çÇÝ ³ïÛ³ÝÇ ¹³ï³ñ³ÝÇ ¹³ï³íáñ Ժ. Ասատրյան ·áñÍáõÝ»áõÃÛ³Ý í»ñ³µ»ñÛ³É
A3: êïáõ·Çã Ñ³í³ë³ñáõÙ` 1+2=3+8+9, 8=4+5+6+7, | D3: Ð³ßí»ïáõ Å³Ù³Ý³Ï³Ñ³ïí³ÍÇ ëÏ½µáõÙ Ý³Ëáñ¹ Ñ³ßí»ïáõ Å³Ù³Ý³Ï³Ñ³ïí³ÍÇó ÷áË³Ýóí³Í ·áñÍ»ñÇ ÁÝ¹Ñ³Ýáõñ ÃÇíÁ | E3: Ð³ßí»ïáõ Å³Ù³Ý³Ï³Ñ³ïí³ÍáõÙ ëï³óí³Í ·áñÍ»ñÇ ÁÝ¹Ñ³Ýáõñ ÃÇíÁ | F3: öáË³Ýóí»É ¿ ³ÛÉ ¹³ï³íáñÇ Ï³Ù ³ÛÉ ¹³ï³ñ³Ý (Ï³½ÙÇ ÷á÷áËáõÃÛáõÝ, ÁÝ¹¹³ïáõÃÛáõÝ) | G3: Ð³ßí»ïáõ Å³Ù³Ý³Ï³Ñ³ïí³ÍáõÙ ³í³ñïí³Í ·áñÍ»ñÇ ÁÝ¹Ñ³Ýáõñ ÃÇíÁ | L3: Ð³ßí»ïáõ Å³Ù³Ý³Ï³Ñ³ïí³ÍáõÙ ³Ý³í³ñï ·áñÍ»ñÇ ÁÝ¹Ñ³Ýáõñ ÃÇíÁ | M3: ØÇçÝáñ¹áõÃÛáõÝÝ»ñáí Ï³Û³óí³Í ¹³ï³Ï³Ý ³Ïï»ñÇó µáÕáù³ñÏí³ÍÝ»ñÇ ù³Ý³ÏÁ | O3: ²Ý³í³ñï µáÕáùÝ»ñ | P3: ØÇçÝáñ¹áõÃÛáõÝÝ»ñáí Ï³Û³óí³Í ¨ µáÕáù³ñÏí³Í ¹³ï³Ï³Ý ³Ïï»ñÇó µ»Ï³Ýí³ÍÝ»ñÇ ù³Ý³ÏÁ | R3: ÙÇçÝáñ¹áõÃÛáõÝÝ»ñáí Ï³Û³óí³Í ¨ µáÕáù³ñÏí³Í ¹³ï³Ï³Ý ³Ïï»ñÇó ³Ý÷á÷áË ÃáÕÝí³ÍÝ»ñÇ ù³Ý³ÏÁ
G4: Ù»ñÅí»É ¿ | H4: µ³í³ñ³ñí»É ¿ | I4: µ³í³ñ³ñí»É ¿ Ù³ëÝ³ÏÇ | J4: ÃáÕÝí»É ¿ ³é³Ýó ùÝÝáõÃÛ³Ý | K4: ÀÝ¹³Ù»ÝÁ
M5: Ý³Ëáñ¹ ï³ñÇÝ»ñÇÝ Ï³Û³óí³Í ³Ïï»ñÇ ¹»Ù | N5: Ñ³ßí»ïáõ Å³Ù³Ý³Ï³ßñç³ÝáõÙ Ï³Û³óí³Í ³Ïï»ñÇ ¹»Ù | P5: Ý³Ëáñ¹ ï³ñÇÝ»ñÇÝ Ï³Û³óí³Í ³Ïï»ñÇ µ»Ï³ÝáõÙÝ»ñÁ | Q5: Ñ³ßí»ïáõ Å³Ù³Ý³Ï³ßñç³ÝáõÙ Ï³Û³óí³Í ³Ïï»ñÇ µ»Ï³ÝáõÙÝ»ñÁ
A6: 1. ØÇÝã¹³ï³Ï³Ý í³ñáõÛÃÇ ÝÏ³ïÙ³Ùµ ¹³ï³Ï³Ý í»ñ³ÑëÏáÕáõÃÛ³Ý áÉáñï | D6: 1 | E6: 2 | F6: 3 | G6: 4 | H6: 5 | I6: 6 | J6: 7 | K6: 8 | L6: 9 | M6: 10 | N6: 11 | O6: 12 | P6: 13 | Q6: 14 | R6: 15 | T6: 1+2=3+8+9 | V6: 8=4+5+6+7
A7: 1 | B7: Ï³É³ÝùÁ áñå»ë Ë³÷³ÝÙ³Ý ÙÇçáó ÏÇñ³é»Éáõ Ù³ëÇÝ ÙÇçÝáñ¹áõÃÛáõÝÝ»ñ | T7: =D7+E7 -> 0 | U7: =F7+K7+L7 -> 0 | V7: =K7 -> 0 | W7: =G7+H7+I7+J7 -> 0
A8: 2 | B8: Ï³É³ÝùÇ Å³ÙÏ»ïÁ »ñÏ³ñ³óÝ»Éáõ Ù³ëÇÝ ÙÇçÝáñ¹áõÃÛáõÝÝ»ñ | T8: =D8+E8 -> 0 | U8: =F8+K8+L8 -> 0 | V8: =K8 -> 0 | W8: =G8+H8+I8+J8 -> 0
A9: 3 | B9: Ï³É³ÝùÇ í»ñ³Ñ³ëï³ïÙ³Ý Ù³ëÇÝ ÙÇçÝáñ¹áõÃÛáõÝÝ»ñ | D9: 0 | E9: 1 | F9: 0 | G9: 0 | H9: 1 | I9: 0 | J9: 0 | K9: 1 | L9: 0 | M9: 0 | N9: 0 | O9: 0 | P9: 0 | Q9: 0 | T9: =D9+E9 -> 1 | U9: =F9+K9+L9 -> 1 | V9: =K9 -> 1 | W9: =G9+H9+I9+J9 -> 1
A10: 4 | B10: ·ñ³íÁ áñå»ë Ï³É³Ý³íáñÙ³Ý ³ÛÉÁÝïñ³Ýù³ÛÇÝ Ë³÷³ÝÙ³Ý ÙÇçáó ÏÇñ³é»Éáõ Ù³ëÇÝ ÙÇçÝáñ¹áõÃÛáõÝÝ»ñ | T10: =D10+E10 -> 0 | U10: =F10+K10+L10 -> 0 | V10: =K10 -> 0 | W10: =G10+H10+I10+J10 -> 0
A11: 5 | B11: Ëáõ½³ñÏáõÃÛ³Ý Ï³ï³ñÙ³Ý Ù³ëÇÝ ÙÇçÝáñ¹áõÃÛáõÝÝ»ñ | D11: 0 | E11: 5 | F11: 0 | G11: 0 | H11: 5 | I11: 0 | J11: 0 | K11: 5 | L11: 0 | M11: 0 | N11: 0 | O11: 0 | P11: 0 | Q11: 0 | T11: =D11+E11 -> 5 | U11: =F11+K11+L11 -> 5 | V11: =K11 -> 5 | W11: =G11+H11+I11+J11 -> 5
A12: 6 | B12: µ³ÝÏ³ÛÇÝ, ³å³Ñáí³·ñ³Ï³Ý, Ýáï³ñ³Ï³Ý ·³ÕïÝÇù Ï³½ÙáÕ ï»Õ»ÏáõÃÛáõÝÝ»ñÇ ëï³óÙ³Ý Ñ³Ù³ñ Ëáõ½³ñÏáõÃÛ³Ý Ï³Ù ³é·ñ³íÙ³Ý Ï³ï³ñÙ³Ý Ù³ëÇÝ ÙÇçÝáñ¹áõÃÛáõÝÝ»ñ | T12: =D12+E12 -> 0 | U12: =F12+K12+L12 -> 0 | V12: =K12 -> 0 | W12: =G12+H12+I12+J12 -> 0
A13: 7 | B13: Ý³Ù³Ï³·ñáõÃÛ³Ý, Ñ»é³·ñ³Ï³Ý, ÷áuï³ÛÇÝ Ñ³Õáñ¹áõÙÝ»ñÇ ÑëÏáÕáõÃÛ³Ý Ù³ëÇÝ ÙÇçÝáñ¹áõÃÛáõÝÝ»ñ | T13: =D13+E13 -> 0 | U13: =F13+K13+L13 -> 0 | V13: =K13 -> 0 | W13: =G13+H13+I13+J13 -> 0
A14: 8 | B14: Ñ»é³Ëáu³ÛÇÝ Ï³Ù Ï³åÇ ³ÛÉ ÙÇçáóÝ»ñáí ï³ñíáÕ Ëáu³ÏóáõÃÛáõÝÝ»ñÇ ÉuÙ³Ý ¨ Ó³ÛÝ³·ñ³éÙ³Ý Ù³ëÇÝ ÙÇçÝáñ¹áõÃÛáõÝÝ»ñ | T14: =D14+E14 -> 0 | U14: =F14+K14+L14 -> 0 | V14: =K14 -> 0 | W14: =G14+H14+I14+J14 -> 0
A15: 9 | B15: Ñ»é³ËáëÝ»ñÇ Ùáõïù³ÛÇÝ ¨ »Éù³ÛÇÝ í»ñÍ³ÝÙ³Ý ÃáõÛÉïíáõÃÛáõÝ ëï³Ý³Éáõ Ù³ëÇÝ ÙÇçÝáñ¹áõÃÛáõÝÝ»ñ | D15: 0 | E15: 6 | F15: 0 | G15: 1 | H15: 5 | I15: 0 | J15: 0 | K15: 6 | L15: 0 | M15: 0 | N15: 1 | O15: 0 | P15: 0 | Q15: 1 | T15: =D15+E15 -> 6 | U15: =F15+K15+L15 -> 6 | V15: =K15 -> 6 | W15: =G15+H15+I15+J15 -> 6
A16: 10 | B16: Ñ»ï³ùÝÝáõÃÛ³Ý Ù³ñÙÝÇ ³ßË³ïáÕÇ, ùÝÝÇãÇ, ¹³ï³Ë³½Ç oå»ñ³ïÇí-Ñ»ï³Ëáõ½³Ï³Ý ·áñÍáÕáõÃÛáõÝÝ»ñ Çñ³Ï³Ý³óÝáÕ Ù³ñÙÇÝÝ»ñÇ ³ÝoñÇÝ³Ï³Ý ¨ ³ÝÑÇÙÝ áñáßáõÙÝ»ñÇ ¨ ·áñÍáÕáõÃÛáõÝÝ»ñÇ ¹»Ù µáÕáùÝ»ñ | T16: =D16+E16 -> 0 | U16: =F16+K16+L16 -> 0 | V16: =K16 -> 0 | W16: =G16+H16+I16+J16 -> 0
A17: 2. ¸³ï³Ï³Ý ³Ïï»ñÇ ¨ ¹³ï³Ï³Ý Ñ³ÝÓÝ³ñ³ñáõÃÛáõÝÝ»ñÇ Ï³ï³ñÙ³Ý Ñ»ï Ï³åí³Í Ñ³ñó»ñÇ ÉáõÍÙ³Ý áÉáñï
A18: 1 | B18: å³ïÅÇó å³ÛÙ³Ý³Ï³Ý í³Õ³Å³ÙÏ»ï ³½³ï»Éáõ Ù³ëÇÝ ÙÇçÝáñ¹áõÃÛáõÝÝ»ñ | T18: =D18+E18 -> 0 | U18: =F18+K18+L18 -> 0 | V18: =K18 -> 0 | W18: =G18+H18+I18+J18 -> 0
A19: 2 | B19: å³ïÇÅÁ ÷á÷áË»Éáõ, Ñ»ï³Ó·»Éáõ ¨ å³ïÅÇó ³½³ï»Éáõ Ù³uÇÝ ÙÇçÝáñ¹áõÃÛáõÝÝ»ñ | T19: =D19+E19 -> 0 | U19: =F19+K19+L19 -> 0 | V19: =K19 -> 0 | W19: =G19+H19+I19+J19 -> 0
A20: 3 | B20: Ñ³ñÏ³¹Çñ µáõÅÙ³Ý ï»ë³ÏÇ ÷á÷áËáõÃÛ³Ý Ù³ëÇÝ ÙÇçÝáñ¹áõÃÛáõÝÝ»ñ | T20: =D20+E20 -> 0 | U20: =F20+K20+L20 -> 0 | V20: =K20 -> 0 | W20: =G20+H20+I20+J20 -> 0
A21: 4 | B21: ³ÛÉ ÙÇçÝáñ¹áõÃÛáõÝÝ»ñ | T21: =D21+E21 -> 0 | U21: =F21+K21+L21 -> 0 | V21: =K21 -> 0 | W21: =G21+H21+I21+J21 -> 0
A22: 5 | B22: ¹³ï³Ï³Ý Ñ³ÝÓÝ³ñ³ñáõÃÛáõÝÝ»ñ | D22: 0 | E22: 1 | F22: 0 | G22: 0 | H22: 0 | I22: 0 | J22: 0 | K22: 0 | L22: 1 | M22: 0 | N22: 0 | O22: 0 | P22: 0 | Q22: 0 | T22: =D22+E22 -> 1 | U22: =F22+K22+L22 -> 1 | V22: =K22 -> 0 | W22: =G22+H22+I22+J22 -> 0
A23: ÀÜ¸²ØºÜÀ | D23: =D7+D8+D9+D10+D11+D12+D13+D14+D15+D16+D18+D19+D20+D21+D22 -> 0 | E23: =E7+E8+E9+E10+E11+E12+E13+E14+E15+E16+E18+E19+E20+E21+E22 -> 13 | F23: =F7+F8+F9+F10+F11+F12+F13+F14+F15+F16+F18+F19+F20+F21+F22 -> 0 | G23: =G7+G8+G9+G10+G11+G12+G13+G14+G15+G16+G18+G19+G20+G21+G22 -> 1 | H23: =H7+H8+H9+H10+H11+H12+H13+H14+H15+H16+H18+H19+H20+H21+H22 -> 11 | I23: =I7+I8+I9+I10+I11+I12+I13+I14+I15+I16+I18+I19+I20+I21+I22 -> 0 | J23: =J7+J8+J9+J10+J11+J12+J13+J14+J15+J16+J18+J19+J20+J21+J22 -> 0 | K23: =K7+K8+K9+K10+K11+K12+K13+K14+K15+K16+K18+K19+K20+K21+K22 -> 12 | ... R23: =R7+R8+R9+R10+R11+R12+R13+R14+R15+R16+R18+R19+R20+R21+R22 -> 0 | T23: =D23+E23 -> 13 | U23: =F23+K23+L23 -> 13 | V23: =K23 -> 12 | W23: =G23+H23+I23+J23 -> 12

Sheet Դ. Գրիգորյան
A1: 2015Ã. | D1: Ð²ÞìºîìàôÂÚàôÜ | P1: Ð³í»Éí³Í Ð³Û³ëï³ÝÇ Ð³Ýñ³å»ïáõÃÛ³Ý ¸³ï³ñ³ÝÝ»ñÇ Ý³Ë³·³ÑÝ»ñÇ ËáñÑñ¹Ç 01.02.2016Ã. ÃÇí 11È áñáßÙ³Ý
A2: ØÇÝã¹³ï³Ï³Ý í³ñáõÛÃÇ ÝÏ³ïÙ³Ùµ ¹³ï³Ï³Ý í»ñ³ÑëÏáÕáõÃÛ³ÝÁ, ¹³ï³Ï³Ý ³Ïï»ñÇ ¨ ¹³ï³Ï³Ý Ñ³ÝÓÝ³ñ³ñáõÃÛáõÝÝ»ñÇ Ï³ï³ñÙ³Ý Ñ»ï Ï³åí³Í ÙÇçÝáñ¹áõÃÛáõÝÝ»ñÇ í»ñ³µ»ñÛ³É ¹³ï³Ï³Ý ·áñÍ»ñáí ÐÐ êÛáõÝÇùÇ Ù³ñ½Ç ÁÝ¹Ñ³Ýáõñ Çñ³í³ëáõÃÛ³Ý ³é³çÇÝ ³ïÛ³ÝÇ ¹³ï³ñ³ÝÇ ¹³ï³íáñ ¸.¶ñÇ·áñÛ³Ý ·áñÍáõÝ»áõÃÛ³Ý í»ñ³µ»ñÛ³É
A3: êïáõ·Çã Ñ³í³ë³ñáõÙ` 1+2=3+8+9, 8=4+5+6+7, | D3: Ð³ßí»ïáõ Å³Ù³Ý³Ï³Ñ³ïí³ÍÇ ëÏ½µáõÙ Ý³Ëáñ¹ Ñ³ßí»ïáõ Å³Ù³Ý³Ï³Ñ³ïí³ÍÇó ÷áË³Ýóí³Í ·áñÍ»ñÇ ÁÝ¹Ñ³Ýáõñ ÃÇíÁ | E3: Ð³ßí»ïáõ Å³Ù³Ý³Ï³Ñ³ïí³ÍáõÙ ëï³óí³Í ·áñÍ»ñÇ ÁÝ¹Ñ³Ýáõñ ÃÇíÁ | F3: öáË³Ýóí»É ¿ ³ÛÉ ¹³ï³íáñÇ Ï³Ù ³ÛÉ ¹³ï³ñ³Ý (Ï³½ÙÇ ÷á÷áËáõÃÛáõÝ, ÁÝ¹¹³ïáõÃÛáõÝ) | G3: Ð³ßí»ïáõ Å³Ù³Ý³Ï³Ñ³ïí³ÍáõÙ ³í³ñïí³Í ·áñÍ»ñÇ ÁÝ¹Ñ³Ýáõñ ÃÇíÁ | L3: Ð³ßí»ïáõ Å³Ù³Ý³Ï³Ñ³ïí³ÍáõÙ ³Ý³í³ñï ·áñÍ»ñÇ ÁÝ¹Ñ³Ýáõñ ÃÇíÁ | M3: ØÇçÝáñ¹áõÃÛáõÝÝ»ñáí Ï³Û³óí³Í ¹³ï³Ï³Ý ³Ïï»ñÇó µáÕáù³ñÏí³ÍÝ»ñÇ ù³Ý³ÏÁ | O3: ²Ý³í³ñï µáÕáùÝ»ñ | P3: ØÇçÝáñ¹áõÃÛáõÝÝ»ñáí Ï³Û³óí³Í ¨ µáÕáù³ñÏí³Í ¹³ï³Ï³Ý ³Ïï»ñÇó µ»Ï³Ýí³ÍÝ»ñÇ ù³Ý³ÏÁ | R3: ÙÇçÝáñ¹áõÃÛáõÝÝ»ñáí Ï³Û³óí³Í ¨ µáÕáù³ñÏí³Í ¹³ï³Ï³Ý ³Ïï»ñÇó ³Ý÷á÷áË ÃáÕÝí³ÍÝ»ñÇ ù³Ý³ÏÁ
G4: Ù»ñÅí»É ¿ | H4: µ³í³ñ³ñí»É ¿ | I4: µ³í³ñ³ñí»É ¿ Ù³ëÝ³ÏÇ | J4: ÃáÕÝí»É ¿ ³é³Ýó ùÝÝáõÃÛ³Ý | K4: ÀÝ¹³Ù»ÝÁ
M5: Ý³Ëáñ¹ ï³ñÇÝ»ñÇÝ Ï³Û³óí³Í ³Ïï»ñÇ ¹»Ù | N5: Ñ³ßí»ïáõ Å³Ù³Ý³Ï³ßñç³ÝáõÙ Ï³Û³óí³Í ³Ïï»ñÇ ¹»Ù | P5: Ý³Ëáñ¹ ï³ñÇÝ»ñÇÝ Ï³Û³óí³Í ³Ïï»ñÇ µ»Ï³ÝáõÙÝ»ñÁ | Q5: Ñ³ßí»ïáõ Å³Ù³Ý³Ï³ßñç³ÝáõÙ Ï³Û³óí³Í ³Ïï»ñÇ µ»Ï³ÝáõÙÝ»ñÁ
A6: 1. ØÇÝã¹³ï³Ï³Ý í³ñáõÛÃÇ ÝÏ³ïÙ³Ùµ ¹³ï³Ï³Ý í»ñ³ÑëÏáÕáõÃÛ³Ý áÉáñï | D6: 1 | E6: 2 | F6: 3 | G6: 4 | H6: 5 | I6: 6 | J6: 7 | K6: 8 | L6: 9 | M6: 10 | N6: 11 | O6: 12 | P6: 13 | Q6: 14 | R6: 15 | T6: 1+2=3+8+9 | V6: 8=4+5+6+7
A7: 1 | B7: Ï³É³ÝùÁ áñå»ë Ë³÷³ÝÙ³Ý ÙÇçáó ÏÇñ³é»Éáõ Ù³ëÇÝ ÙÇçÝáñ¹áõÃÛáõÝÝ»ñ | D7: 0 | E7: 16 | F7: 0 | G7: 2 | H7: 14 | I7: 0 | J7: 0 | K7: 16 | L7: 0 | M7: 0 | N7: 6 | O7: 3 | P7: 0 | Q7: 0 | T7: =D7+E7 -> 16 | U7: =F7+K7+L7 -> 16 | V7: =K7 -> 16 | W7: =G7+H7+I7+J7 -> 16
A8: 2 | B8: Ï³É³ÝùÇ Å³ÙÏ»ïÁ »ñÏ³ñ³óÝ»Éáõ Ù³ëÇÝ ÙÇçÝáñ¹áõÃÛáõÝÝ»ñ | D8: 0 | E8: 16 | F8: 0 | G8: 0 | H8: 16 | I8: 0 | J8: 0 | K8: 16 | L8: 0 | M8: 0 | N8: 2 | O8: 0 | P8: 0 | Q8: 0 | T8: =D8+E8 -> 16 | U8: =F8+K8+L8 -> 16 | V8: =K8 -> 16 | W8: =G8+H8+I8+J8 -> 16
A9: 3 | B9: Ï³É³ÝùÇ í»ñ³Ñ³ëï³ïÙ³Ý Ù³ëÇÝ ÙÇçÝáñ¹áõÃÛáõÝÝ»ñ | D9: 0 | E9: 4 | F9: 0 | G9: 2 | H9: 2 | I9: 0 | J9: 0 | K9: 4 | L9: 0 | M9: 0 | N9: 2 | O9: 2 | P9: 0 | Q9: 0 | T9: =D9+E9 -> 4 | U9: =F9+K9+L9 -> 4 | V9: =K9 -> 4 | W9: =G9+H9+I9+J9 -> 4
A10: 4 | B10: ·ñ³íÁ áñå»ë Ï³É³Ý³íáñÙ³Ý ³ÛÉÁÝïñ³Ýù³ÛÇÝ Ë³÷³ÝÙ³Ý ÙÇçáó ÏÇñ³é»Éáõ Ù³ëÇÝ ÙÇçÝáñ¹áõÃÛáõÝÝ»ñ | D10: 0 | E10: 5 | F10: 0 | G10: 4 | H10: 1 | I10: 0 | J10: 0 | K10: 5 | L10: 0 | M10: 0 | N10: 0 | O10: 0 | P10: 0 | Q10: 0 | T10: =D10+E10 -> 5 | U10: =F10+K10+L10 -> 5 | V10: =K10 -> 5 | W10: =G10+H10+I10+J10 -> 5
A11: 5 | B11: Ëáõ½³ñÏáõÃÛ³Ý Ï³ï³ñÙ³Ý Ù³ëÇÝ ÙÇçÝáñ¹áõÃÛáõÝÝ»ñ | D11: 0 | E11: 10 | F11: 0 | G11: 3 | H11: 7 | I11: 0 | J11: 0 | K11: 10 | L11: 0 | M11: 0 | N11: 2 | O11: 0 | P11: 0 | Q11: 1 | T11: =D11+E11 -> 10 | U11: =F11+K11+L11 -> 10 | V11: =K11 -> 10 | W11: =G11+H11+I11+J11 -> 10
A12: 6 | B12: µ³ÝÏ³ÛÇÝ, ³å³Ñáí³·ñ³Ï³Ý, Ýáï³ñ³Ï³Ý ·³ÕïÝÇù Ï³½ÙáÕ ï»Õ»ÏáõÃÛáõÝÝ»ñÇ ëï³óÙ³Ý Ñ³Ù³ñ Ëáõ½³ñÏáõÃÛ³Ý Ï³Ù ³é·ñ³íÙ³Ý Ï³ï³ñÙ³Ý Ù³ëÇÝ ÙÇçÝáñ¹áõÃÛáõÝÝ»ñ | T12: =D12+E12 -> 0 | U12: =F12+K12+L12 -> 0 | V12: =K12 -> 0 | W12: =G12+H12+I12+J12 -> 0
A13: 7 | B13: Ý³Ù³Ï³·ñáõÃÛ³Ý, Ñ»é³·ñ³Ï³Ý, ÷áuï³ÛÇÝ Ñ³Õáñ¹áõÙÝ»ñÇ ÑëÏáÕáõÃÛ³Ý Ù³ëÇÝ ÙÇçÝáñ¹áõÃÛáõÝÝ»ñ | D13: 0 | E13: 1 | F13: 0 | G13: 0 | H13: 1 | I13: 0 | J13: 0 | K13: 1 | L13: 0 | M13: 0 | N13: 0 | O13: 0 | P13: 0 | Q13: 0 | T13: =D13+E13 -> 1 | U13: =F13+K13+L13 -> 1 | V13: =K13 -> 1 | W13: =G13+H13+I13+J13 -> 1
A14: 8 | B14: Ñ»é³Ëáu³ÛÇÝ Ï³Ù Ï³åÇ ³ÛÉ ÙÇçáóÝ»ñáí ï³ñíáÕ Ëáu³ÏóáõÃÛáõÝÝ»ñÇ ÉuÙ³Ý ¨ Ó³ÛÝ³·ñ³éÙ³Ý Ù³ëÇÝ ÙÇçÝáñ¹áõÃÛáõÝÝ»ñ | T14: =D14+E14 -> 0 | U14: =F14+K14+L14 -> 0 | V14: =K14 -> 0 | W14: =G14+H14+I14+J14 -> 0
A15: 9 | B15: Ñ»é³ËáëÝ»ñÇ Ùáõïù³ÛÇÝ ¨ »Éù³ÛÇÝ í»ñÍ³ÝÙ³Ý ÃáõÛÉïíáõÃÛáõÝ ëï³Ý³Éáõ Ù³ëÇÝ ÙÇçÝáñ¹áõÃÛáõÝÝ»ñ | D15: 0 | E15: 16 | F15: 0 | G15: 0 | H15: 16 | I15: 0 | J15: 0 | K15: 16 | L15: 0 | M15: 0 | N15: 0 | O15: 0 | P15: 0 | Q15: 0 | T15: =D15+E15 -> 16 | U15: =F15+K15+L15 -> 16 | V15: =K15 -> 16 | W15: =G15+H15+I15+J15 -> 16
A16: 10 | B16: Ñ»ï³ùÝÝáõÃÛ³Ý Ù³ñÙÝÇ ³ßË³ïáÕÇ, ùÝÝÇãÇ, ¹³ï³Ë³½Ç oå»ñ³ïÇí-Ñ»ï³Ëáõ½³Ï³Ý ·áñÍáÕáõÃÛáõÝÝ»ñ Çñ³Ï³Ý³óÝáÕ Ù³ñÙÇÝÝ»ñÇ ³ÝoñÇÝ³Ï³Ý ¨ ³ÝÑÇÙÝ áñáßáõÙÝ»ñÇ ¨ ·áñÍáÕáõÃÛáõÝÝ»ñÇ ¹»Ù µáÕáùÝ»ñ | D16: 1 | E16: 0 | F16: 0 | G16: 1 | H16: 0 | I16: 0 | J16: 0 | K16: 1 | L16: 0 | M16: 0 | N16: 1 | O16: 0 | P16: 0 | Q16: 0 | T16: =D16+E16 -> 1 | U16: =F16+K16+L16 -> 1 | V16: =K16 -> 1 | W16: =G16+H16+I16+J16 -> 1
A17: 2. ¸³ï³Ï³Ý ³Ïï»ñÇ ¨ ¹³ï³Ï³Ý Ñ³ÝÓÝ³ñ³ñáõÃÛáõÝÝ»ñÇ Ï³ï³ñÙ³Ý Ñ»ï Ï³åí³Í Ñ³ñó»ñÇ ÉáõÍÙ³Ý áÉáñï
A18: 1 | B18: å³ïÅÇó å³ÛÙ³Ý³Ï³Ý í³Õ³Å³ÙÏ»ï ³½³ï»Éáõ Ù³ëÇÝ ÙÇçÝáñ¹áõÃÛáõÝÝ»ñ | D18: 0 | E18: 3 | F18: 0 | G18: 1 | H18: 2 | I18: 0 | J18: 0 | K18: 3 | L18: 0 | M18: 0 | N18: 0 | O18: 0 | P18: 0 | Q18: 0 | T18: =D18+E18 -> 3 | U18: =F18+K18+L18 -> 3 | V18: =K18 -> 3 | W18: =G18+H18+I18+J18 -> 3
A19: 2 | B19: å³ïÇÅÁ ÷á÷áË»Éáõ, Ñ»ï³Ó·»Éáõ ¨ å³ïÅÇó ³½³ï»Éáõ Ù³uÇÝ ÙÇçÝáñ¹áõÃÛáõÝÝ»ñ | D19: 0 | E19: 5 | F19: 0 | G19: 2 | H19: 3 | I19: 0 | J19: 0 | K19: 5 | L19: 0 | M19: 0 | N19: 1 | O19: 1 | P19: 0 | Q19: 0 | T19: =D19+E19 -> 5 | U19: =F19+K19+L19 -> 5 | V19: =K19 -> 5 | W19: =G19+H19+I19+J19 -> 5
A20: 3 | B20: Ñ³ñÏ³¹Çñ µáõÅÙ³Ý ï»ë³ÏÇ ÷á÷áËáõÃÛ³Ý Ù³ëÇÝ ÙÇçÝáñ¹áõÃÛáõÝÝ»ñ | T20: =D20+E20 -> 0 | U20: =F20+K20+L20 -> 0 | V20: =K20 -> 0 | W20: =G20+H20+I20+J20 -> 0
A21: 4 | B21: ³ÛÉ ÙÇçÝáñ¹áõÃÛáõÝÝ»ñ | D21: 0 | E21: 7 | F21: 0 | G21: 3 | H21: 3 | I21: 0 | J21: 1 | K21: 7 | L21: 0 | M21: 0 | N21: 2 | O21: 0 | P21: 0 | Q21: 1 | T21: =D21+E21 -> 7 | U21: =F21+K21+L21 -> 7 | V21: =K21 -> 7 | W21: =G21+H21+I21+J21 -> 7
A22: 5 | B22: ¹³ï³Ï³Ý Ñ³ÝÓÝ³ñ³ñáõÃÛáõÝÝ»ñ | T22: =D22+E22 -> 0 | U22: =F22+K22+L22 -> 0 | V22: =K22 -> 0 | W22: =G22+H22+I22+J22 -> 0
A23: ÀÜ¸²ØºÜÀ | D23: =D7+D8+D9+D10+D11+D12+D13+D14+D15+D16+D18+D19+D20+D21+D22 -> 1 | E23: =E7+E8+E9+E10+E11+E12+E13+E14+E15+E16+E18+E19+E20+E21+E22 -> 83 | F23: =F7+F8+F9+F10+F11+F12+F13+F14+F15+F16+F18+F19+F20+F21+F22 -> 0 | G23: =G7+G8+G9+G10+G11+G12+G13+G14+G15+G16+G18+G19+G20+G21+G22 -> 18 | H23: =H7+H8+H9+H10+H11+H12+H13+H14+H15+H16+H18+H19+H20+H21+H22 -> 65 | I23: =I7+I8+I9+I10+I11+I12+I13+I14+I15+I16+I18+I19+I20+I21+I22 -> 0 | J23: =J7+J8+J9+J10+J11+J12+J13+J14+J15+J16+J18+J19+J20+J21+J22 -> 1 | K23: =K7+K8+K9+K10+K11+K12+K13+K14+K15+K16+K18+K19+K20+K21+K22 -> 84 | ... R23: =R7+R8+R9+R10+R11+R12+R13+R14+R15+R16+R18+R19+R20+R21+R22 -> 0 | T23: =D23+E23 -> 84 | U23: =F23+K23+L23 -> 84 | V23: =K23 -> 84 | W23: =G23+H23+I23+J23 -> 84

Sheet Մ.Հովակիմյան
A1: 2015Ã. | D1: Ð²ÞìºîìàôÂÚàôÜ | P1: Ð³í»Éí³Í Ð³Û³ëï³ÝÇ Ð³Ýñ³å»ïáõÃÛ³Ý ¸³ï³ñ³ÝÝ»ñÇ Ý³Ë³·³ÑÝ»ñÇ ËáñÑñ¹Ç 01.02.2016Ã. ÃÇí 11È áñáßÙ³Ý
A2: ØÇÝã¹³ï³Ï³Ý í³ñáõÛÃÇ ÝÏ³ïÙ³Ùµ ¹³ï³Ï³Ý í»ñ³ÑëÏáÕáõÃÛ³ÝÁ, ¹³ï³Ï³Ý ³Ïï»ñÇ ¨ ¹³ï³Ï³Ý Ñ³ÝÓÝ³ñ³ñáõÃÛáõÝÝ»ñÇ Ï³ï³ñÙ³Ý Ñ»ï Ï³åí³Í ÙÇçÝáñ¹áõÃÛáõÝÝ»ñÇ í»ñ³µ»ñÛ³É ¹³ï³Ï³Ý ·áñÍ»ñáí ÐÐ êÛáõÝÇùÇ Ù³ñ½Ç ÁÝ¹Ñ³Ýáõñ Çñ³í³ëáõÃÛ³Ý ³é³çÇÝ ³ïÛ³ÝÇ ¹³ï³ñ³ÝÇ ¹³ï³íáñ Մ.Հովակիմյան ·áñÍáõÝ»áõÃÛ³Ý í»ñ³µ»ñÛ³É
A3: êïáõ·Çã Ñ³í³ë³ñáõÙ` 1+2=3+8+9, 8=4+5+6+7, | D3: Ð³ßí»ïáõ Å³Ù³Ý³Ï³Ñ³ïí³ÍÇ ëÏ½µáõÙ Ý³Ëáñ¹ Ñ³ßí»ïáõ Å³Ù³Ý³Ï³Ñ³ïí³ÍÇó ÷áË³Ýóí³Í ·áñÍ»ñÇ ÁÝ¹Ñ³Ýáõñ ÃÇíÁ | E3: Ð³ßí»ïáõ Å³Ù³Ý³Ï³Ñ³ïí³ÍáõÙ ëï³óí³Í ·áñÍ»ñÇ ÁÝ¹Ñ³Ýáõñ ÃÇíÁ | F3: öáË³Ýóí»É ¿ ³ÛÉ ¹³ï³íáñÇ Ï³Ù ³ÛÉ ¹³ï³ñ³Ý (Ï³½ÙÇ ÷á÷áËáõÃÛáõÝ, ÁÝ¹¹³ïáõÃÛáõÝ) | G3: Ð³ßí»ïáõ Å³Ù³Ý³Ï³Ñ³ïí³ÍáõÙ ³í³ñïí³Í ·áñÍ»ñÇ ÁÝ¹Ñ³Ýáõñ ÃÇíÁ | L3: Ð³ßí»ïáõ Å³Ù³Ý³Ï³Ñ³ïí³ÍáõÙ ³Ý³í³ñï ·áñÍ»ñÇ ÁÝ¹Ñ³Ýáõñ ÃÇíÁ | M3: ØÇçÝáñ¹áõÃÛáõÝÝ»ñáí Ï³Û³óí³Í ¹³ï³Ï³Ý ³Ïï»ñÇó µáÕáù³ñÏí³ÍÝ»ñÇ ù³Ý³ÏÁ | O3: ²Ý³í³ñï µáÕáùÝ»ñ | P3: ØÇçÝáñ¹áõÃÛáõÝÝ»ñáí Ï³Û³óí³Í ¨ µáÕáù³ñÏí³Í ¹³ï³Ï³Ý ³Ïï»ñÇó µ»Ï³Ýí³ÍÝ»ñÇ ù³Ý³ÏÁ | R3: ÙÇçÝáñ¹áõÃÛáõÝÝ»ñáí Ï³Û³óí³Í ¨ µáÕáù³ñÏí³Í ¹³ï³Ï³Ý ³Ïï»ñÇó ³Ý÷á÷áË ÃáÕÝí³ÍÝ»ñÇ ù³Ý³ÏÁ
G4: Ù»ñÅí»É ¿ | H4: µ³í³ñ³ñí»É ¿ | I4: µ³í³ñ³ñí»É ¿ Ù³ëÝ³ÏÇ | J4: ÃáÕÝí»É ¿ ³é³Ýó ùÝÝáõÃÛ³Ý | K4: ÀÝ¹³Ù»ÝÁ
M5: Ý³Ëáñ¹ ï³ñÇÝ»ñÇÝ Ï³Û³óí³Í ³Ïï»ñÇ ¹»Ù | N5: Ñ³ßí»ïáõ Å³Ù³Ý³Ï³ßñç³ÝáõÙ Ï³Û³óí³Í ³Ïï»ñÇ ¹»Ù | P5: Ý³Ëáñ¹ ï³ñÇÝ»ñÇÝ Ï³Û³óí³Í ³Ïï»ñÇ µ»Ï³ÝáõÙÝ»ñÁ | Q5: Ñ³ßí»ïáõ Å³Ù³Ý³Ï³ßñç³ÝáõÙ Ï³Û³óí³Í ³Ïï»ñÇ µ»Ï³ÝáõÙÝ»ñÁ
A6: 1. ØÇÝã¹³ï³Ï³Ý í³ñáõÛÃÇ ÝÏ³ïÙ³Ùµ ¹³ï³Ï³Ý í»ñ³ÑëÏáÕáõÃÛ³Ý áÉáñï | D6: 1 | E6: 2 | F6: 3 | G6: 4 | H6: 5 | I6: 6 | J6: 7 | K6: 8 | L6: 9 | M6: 10 | N6: 11 | O6: 12 | P6: 13 | Q6: 14 | R6: 15 | T6: 1+2=3+8+9 | V6: 8=4+5+6+7
A7: 1 | B7: Ï³É³ÝùÁ áñå»ë Ë³÷³ÝÙ³Ý ÙÇçáó ÏÇñ³é»Éáõ Ù³ëÇÝ ÙÇçÝáñ¹áõÃÛáõÝÝ»ñ | D7: 0 | E7: 14 | F7: 0 | G7: 3 | H7: 11 | I7: 0 | J7: 0 | K7: 14 | L7: 0 | M7: 0 | N7: 2 | O7: 0 | P7: 0 | Q7: 0 | T7: =D7+E7 -> 14 | U7: =F7+K7+L7 -> 14 | V7: =K7 -> 14 | W7: =G7+H7+I7+J7 -> 14
A8: 2 | B8: Ï³É³ÝùÇ Å³ÙÏ»ïÁ »ñÏ³ñ³óÝ»Éáõ Ù³ëÇÝ ÙÇçÝáñ¹áõÃÛáõÝÝ»ñ | T8: =D8+E8 -> 0 | U8: =F8+K8+L8 -> 0 | V8: =K8 -> 0 | W8: =G8+H8+I8+J8 -> 0
A9: 3 | B9: Ï³É³ÝùÇ í»ñ³Ñ³ëï³ïÙ³Ý Ù³ëÇÝ ÙÇçÝáñ¹áõÃÛáõÝÝ»ñ | T9: =D9+E9 -> 0 | U9: =F9+K9+L9 -> 0 | V9: =K9 -> 0 | W9: =G9+H9+I9+J9 -> 0
A10: 4 | B10: ·ñ³íÁ áñå»ë Ï³É³Ý³íáñÙ³Ý ³ÛÉÁÝïñ³Ýù³ÛÇÝ Ë³÷³ÝÙ³Ý ÙÇçáó ÏÇñ³é»Éáõ Ù³ëÇÝ ÙÇçÝáñ¹áõÃÛáõÝÝ»ñ | D10: 0 | E10: 3 | F10: 0 | G10: 3 | H10: 0 | I10: 0 | J10: 0 | K10: 3 | L10: 0 | M10: 0 | N10: 0 | O10: 0 | P10: 0 | Q10: 0 | T10: =D10+E10 -> 3 | U10: =F10+K10+L10 -> 3 | V10: =K10 -> 3 | W10: =G10+H10+I10+J10 -> 3
A11: 5 | B11: Ëáõ½³ñÏáõÃÛ³Ý Ï³ï³ñÙ³Ý Ù³ëÇÝ ÙÇçÝáñ¹áõÃÛáõÝÝ»ñ | D11: 0 | E11: 21 | F11: 0 | G11: 0 | H11: 21 | I11: 0 | J11: 0 | K11: 21 | L11: 0 | M11: 0 | N11: 0 | O11: 0 | P11: 0 | Q11: 0 | T11: =D11+E11 -> 21 | U11: =F11+K11+L11 -> 21 | V11: =K11 -> 21 | W11: =G11+H11+I11+J11 -> 21
A12: 6 | B12: µ³ÝÏ³ÛÇÝ, ³å³Ñáí³·ñ³Ï³Ý, Ýáï³ñ³Ï³Ý ·³ÕïÝÇù Ï³½ÙáÕ ï»Õ»ÏáõÃÛáõÝÝ»ñÇ ëï³óÙ³Ý Ñ³Ù³ñ Ëáõ½³ñÏáõÃÛ³Ý Ï³Ù ³é·ñ³íÙ³Ý Ï³ï³ñÙ³Ý Ù³ëÇÝ ÙÇçÝáñ¹áõÃÛáõÝÝ»ñ | T12: =D12+E12 -> 0 | U12: =F12+K12+L12 -> 0 | V12: =K12 -> 0 | W12: =G12+H12+I12+J12 -> 0
A13: 7 | B13: Ý³Ù³Ï³·ñáõÃÛ³Ý, Ñ»é³·ñ³Ï³Ý, ÷áuï³ÛÇÝ Ñ³Õáñ¹áõÙÝ»ñÇ ÑëÏáÕáõÃÛ³Ý Ù³ëÇÝ ÙÇçÝáñ¹áõÃÛáõÝÝ»ñ | T13: =D13+E13 -> 0 | U13: =F13+K13+L13 -> 0 | V13: =K13 -> 0 | W13: =G13+H13+I13+J13 -> 0
A14: 8 | B14: Ñ»é³Ëáu³ÛÇÝ Ï³Ù Ï³åÇ ³ÛÉ ÙÇçáóÝ»ñáí ï³ñíáÕ Ëáu³ÏóáõÃÛáõÝÝ»ñÇ ÉuÙ³Ý ¨ Ó³ÛÝ³·ñ³éÙ³Ý Ù³ëÇÝ ÙÇçÝáñ¹áõÃÛáõÝÝ»ñ | T14: =D14+E14 -> 0 | U14: =F14+K14+L14 -> 0 | V14: =K14 -> 0 | W14: =G14+H14+I14+J14 -> 0
A15: 9 | B15: Ñ»é³ËáëÝ»ñÇ Ùáõïù³ÛÇÝ ¨ »Éù³ÛÇÝ í»ñÍ³ÝÙ³Ý ÃáõÛÉïíáõÃÛáõÝ ëï³Ý³Éáõ Ù³ëÇÝ ÙÇçÝáñ¹áõÃÛáõÝÝ»ñ | D15: 0 | E15: 8 | F15: 0 | G15: 0 | H15: 8 | I15: 0 | J15: 0 | K15: 8 | L15: 0 | M15: 0 | N15: 0 | O15: 0 | P15: 0 | Q15: 0 | T15: =D15+E15 -> 8 | U15: =F15+K15+L15 -> 8 | V15: =K15 -> 8 | W15: =G15+H15+I15+J15 -> 8
A16: 10 | B16: Ñ»ï³ùÝÝáõÃÛ³Ý Ù³ñÙÝÇ ³ßË³ïáÕÇ, ùÝÝÇãÇ, ¹³ï³Ë³½Ç oå»ñ³ïÇí-Ñ»ï³Ëáõ½³Ï³Ý ·áñÍáÕáõÃÛáõÝÝ»ñ Çñ³Ï³Ý³óÝáÕ Ù³ñÙÇÝÝ»ñÇ ³ÝoñÇÝ³Ï³Ý ¨ ³ÝÑÇÙÝ áñáßáõÙÝ»ñÇ ¨ ·áñÍáÕáõÃÛáõÝÝ»ñÇ ¹»Ù µáÕáùÝ»ñ | T16: =D16+E16 -> 0 | U16: =F16+K16+L16 -> 0 | V16: =K16 -> 0 | W16: =G16+H16+I16+J16 -> 0
A17: 2. ¸³ï³Ï³Ý ³Ïï»ñÇ ¨ ¹³ï³Ï³Ý Ñ³ÝÓÝ³ñ³ñáõÃÛáõÝÝ»ñÇ Ï³ï³ñÙ³Ý Ñ»ï Ï³åí³Í Ñ³ñó»ñÇ ÉáõÍÙ³Ý áÉáñï
A18: 1 | B18: å³ïÅÇó å³ÛÙ³Ý³Ï³Ý í³Õ³Å³ÙÏ»ï ³½³ï»Éáõ Ù³ëÇÝ ÙÇçÝáñ¹áõÃÛáõÝÝ»ñ | T18: =D18+E18 -> 0 | U18: =F18+K18+L18 -> 0 | V18: =K18 -> 0 | W18: =G18+H18+I18+J18 -> 0
A19: 2 | B19: å³ïÇÅÁ ÷á÷áË»Éáõ, Ñ»ï³Ó·»Éáõ ¨ å³ïÅÇó ³½³ï»Éáõ Ù³uÇÝ ÙÇçÝáñ¹áõÃÛáõÝÝ»ñ | T19: =D19+E19 -> 0 | U19: =F19+K19+L19 -> 0 | V19: =K19 -> 0 | W19: =G19+H19+I19+J19 -> 0
A20: 3 | B20: Ñ³ñÏ³¹Çñ µáõÅÙ³Ý ï»ë³ÏÇ ÷á÷áËáõÃÛ³Ý Ù³ëÇÝ ÙÇçÝáñ¹áõÃÛáõÝÝ»ñ | T20: =D20+E20 -> 0 | U20: =F20+K20+L20 -> 0 | V20: =K20 -> 0 | W20: =G20+H20+I20+J20 -> 0
A21: 4 | B21: ³ÛÉ ÙÇçÝáñ¹áõÃÛáõÝÝ»ñ | D21: 0 | E21: 2 | F21: 0 | G21: 0 | H21: 2 | I21: 0 | J21: 0 | K21: 2 | L21: 0 | M21: 0 | N21: 0 | O21: 0 | P21: 0 | Q21: 0 | T21: =D21+E21 -> 2 | U21: =F21+K21+L21 -> 2 | V21: =K21 -> 2 | W21: =G21+H21+I21+J21 -> 2
A22: 5 | B22: ¹³ï³Ï³Ý Ñ³ÝÓÝ³ñ³ñáõÃÛáõÝÝ»ñ | D22: 1 | E22: 2 | F22: 0 | G22: 0 | H22: 1 | I22: 0 | J22: 0 | K22: 1 | L22: 2 | M22: 0 | N22: 0 | O22: 0 | P22: 0 | Q22: 0 | T22: =D22+E22 -> 3 | U22: =F22+K22+L22 -> 3 | V22: =K22 -> 1 | W22: =G22+H22+I22+J22 -> 1
A23: ÀÜ¸²ØºÜÀ | D23: =D7+D8+D9+D10+D11+D12+D13+D14+D15+D16+D18+D19+D20+D21+D22 -> 1 | E23: =E7+E8+E9+E10+E11+E12+E13+E14+E15+E16+E18+E19+E20+E21+E22 -> 50 | F23: =F7+F8+F9+F10+F11+F12+F13+F14+F15+F16+F18+F19+F20+F21+F22 -> 0 | G23: =G7+G8+G9+G10+G11+G12+G13+G14+G15+G16+G18+G19+G20+G21+G22 -> 6 | H23: =H7+H8+H9+H10+H11+H12+H13+H14+H15+H16+H18+H19+H20+H21+H22 -> 43 | I23: =I7+I8+I9+I10+I11+I12+I13+I14+I15+I16+I18+I19+I20+I21+I22 -> 0 | J23: =J7+J8+J9+J10+J11+J12+J13+J14+J15+J16+J18+J19+J20+J21+J22 -> 0 | K23: =K7+K8+K9+K10+K11+K12+K13+K14+K15+K16+K18+K19+K20+K21+K22 -> 49 | ... R23: =R7+R8+R9+R10+R11+R12+R13+R14+R15+R16+R18+R19+R20+R21+R22 -> 0 | T23: =D23+E23 -> 51 | U23: =F23+K23+L23 -> 51 | V23: =K23 -> 49 | W23: =G23+H23+I23+J23 -> 49

Sheet Ն. Օհանյան
A1: 2015Ã. | D1: Ð²ÞìºîìàôÂÚàôÜ | P1: Ð³í»Éí³Í Ð³Û³ëï³ÝÇ Ð³Ýñ³å»ïáõÃÛ³Ý ¸³ï³ñ³ÝÝ»ñÇ Ý³Ë³·³ÑÝ»ñÇ ËáñÑñ¹Ç 01.02.2016Ã. ÃÇí 11È áñáßÙ³Ý
A2: ØÇÝã¹³ï³Ï³Ý í³ñáõÛÃÇ ÝÏ³ïÙ³Ùµ ¹³ï³Ï³Ý í»ñ³ÑëÏáÕáõÃÛ³ÝÁ, ¹³ï³Ï³Ý ³Ïï»ñÇ ¨ ¹³ï³Ï³Ý Ñ³ÝÓÝ³ñ³ñáõÃÛáõÝÝ»ñÇ Ï³ï³ñÙ³Ý Ñ»ï Ï³åí³Í ÙÇçÝáñ¹áõÃÛáõÝÝ»ñÇ í»ñ³µ»ñÛ³É ¹³ï³Ï³Ý ·áñÍ»ñáí ÐÐ êÛáõÝÇùÇ Ù³ñ½Ç ÁÝ¹Ñ³Ýáõñ Çñ³í³ëáõÃÛ³Ý ³é³çÇÝ ³ïÛ³ÝÇ ¹³ï³ñ³ÝÇ ¹³ï³íáñ Ն.Օհանյան ·áñÍáõÝ»áõÃÛ³Ý í»ñ³µ»ñÛ³É
A3: êïáõ·Çã Ñ³í³ë³ñáõÙ` 1+2=3+8+9, 8=4+5+6+7, | D3: Ð³ßí»ïáõ Å³Ù³Ý³Ï³Ñ³ïí³ÍÇ ëÏ½µáõÙ Ý³Ëáñ¹ Ñ³ßí»ïáõ Å³Ù³Ý³Ï³Ñ³ïí³ÍÇó ÷áË³Ýóí³Í ·áñÍ»ñÇ ÁÝ¹Ñ³Ýáõñ ÃÇíÁ | E3: Ð³ßí»ïáõ Å³Ù³Ý³Ï³Ñ³ïí³ÍáõÙ ëï³óí³Í ·áñÍ»ñÇ ÁÝ¹Ñ³Ýáõñ ÃÇíÁ | F3: öáË³Ýóí»É ¿ ³ÛÉ ¹³ï³íáñÇ Ï³Ù ³ÛÉ ¹³ï³ñ³Ý (Ï³½ÙÇ ÷á÷áËáõÃÛáõÝ, ÁÝ¹¹³ïáõÃÛáõÝ) | G3: Ð³ßí»ïáõ Å³Ù³Ý³Ï³Ñ³ïí³ÍáõÙ ³í³ñïí³Í ·áñÍ»ñÇ ÁÝ¹Ñ³Ýáõñ ÃÇíÁ | L3: Ð³ßí»ïáõ Å³Ù³Ý³Ï³Ñ³ïí³ÍáõÙ ³Ý³í³ñï ·áñÍ»ñÇ ÁÝ¹Ñ³Ýáõñ ÃÇíÁ | M3: ØÇçÝáñ¹áõÃÛáõÝÝ»ñáí Ï³Û³óí³Í ¹³ï³Ï³Ý ³Ïï»ñÇó µáÕáù³ñÏí³ÍÝ»ñÇ ù³Ý³ÏÁ | O3: ²Ý³í³ñï µáÕáùÝ»ñ | P3: ØÇçÝáñ¹áõÃÛáõÝÝ»ñáí Ï³Û³óí³Í ¨ µáÕáù³ñÏí³Í ¹³ï³Ï³Ý ³Ïï»ñÇó µ»Ï³Ýí³ÍÝ»ñÇ ù³Ý³ÏÁ | R3: ÙÇçÝáñ¹áõÃÛáõÝÝ»ñáí Ï³Û³óí³Í ¨ µáÕáù³ñÏí³Í ¹³ï³Ï³Ý ³Ïï»ñÇó ³Ý÷á÷áË ÃáÕÝí³ÍÝ»ñÇ ù³Ý³ÏÁ
G4: Ù»ñÅí»É ¿ | H4: µ³í³ñ³ñí»É ¿ | I4: µ³í³ñ³ñí»É ¿ Ù³ëÝ³ÏÇ | J4: ÃáÕÝí»É ¿ ³é³Ýó ùÝÝáõÃÛ³Ý | K4: ÀÝ¹³Ù»ÝÁ
M5: Ý³Ëáñ¹ ï³ñÇÝ»ñÇÝ Ï³Û³óí³Í ³Ïï»ñÇ ¹»Ù | N5: Ñ³ßí»ïáõ Å³Ù³Ý³Ï³ßñç³ÝáõÙ Ï³Û³óí³Í ³Ïï»ñÇ ¹»Ù | P5: Ý³Ëáñ¹ ï³ñÇÝ»ñÇÝ Ï³Û³óí³Í ³Ïï»ñÇ µ»Ï³ÝáõÙÝ»ñÁ | Q5: Ñ³ßí»ïáõ Å³Ù³Ý³Ï³ßñç³ÝáõÙ Ï³Û³óí³Í ³Ïï»ñÇ µ»Ï³ÝáõÙÝ»ñÁ
A6: 1. ØÇÝã¹³ï³Ï³Ý í³ñáõÛÃÇ ÝÏ³ïÙ³Ùµ ¹³ï³Ï³Ý í»ñ³ÑëÏáÕáõÃÛ³Ý áÉáñï | D6: 1 | E6: 2 | F6: 3 | G6: 4 | H6: 5 | I6: 6 | J6: 7 | K6: 8 | L6: 9 | M6: 10 | N6: 11 | O6: 12 | P6: 13 | Q6: 14 | R6: 15 | T6: 1+2=3+8+9 | V6: 8=4+5+6+7
A7: 1 | B7: Ï³É³ÝùÁ áñå»ë Ë³÷³ÝÙ³Ý ÙÇçáó ÏÇñ³é»Éáõ Ù³ëÇÝ ÙÇçÝáñ¹áõÃÛáõÝÝ»ñ | D7: 0 | E7: 50 | F7: 0 | G7: 8 | H7: 41 | I7: 1 | J7: 0 | K7: 50 | L7: 0 | M7: 0 | N7: 15 | O7: 6 | P7: 0 | Q7: 0 | T7: =D7+E7 -> 50 | U7: =F7+K7+L7 -> 50 | V7: =K7 -> 50 | W7: =G7+H7+I7+J7 -> 50
A8: 2 | B8: Ï³É³ÝùÇ Å³ÙÏ»ïÁ »ñÏ³ñ³óÝ»Éáõ Ù³ëÇÝ ÙÇçÝáñ¹áõÃÛáõÝÝ»ñ | D8: 0 | E8: 14 | F8: 0 | G8: 0 | H8: 14 | I8: 0 | J8: 0 | K8: 14 | L8: 0 | M8: 0 | N8: 1 | O8: 0 | P8: 0 | Q8: 0 | T8: =D8+E8 -> 14 | U8: =F8+K8+L8 -> 14 | V8: =K8 -> 14 | W8: =G8+H8+I8+J8 -> 14
A9: 3 | B9: Ï³É³ÝùÇ í»ñ³Ñ³ëï³ïÙ³Ý Ù³ëÇÝ ÙÇçÝáñ¹áõÃÛáõÝÝ»ñ | D9: 0 | E9: 3 | F9: 0 | G9: 0 | H9: 3 | I9: 0 | J9: 0 | K9: 3 | L9: 0 | M9: 0 | N9: 1 | O9: 0 | P9: 0 | Q9: 0 | T9: =D9+E9 -> 3 | U9: =F9+K9+L9 -> 3 | V9: =K9 -> 3 | W9: =G9+H9+I9+J9 -> 3
A10: 4 | B10: ·ñ³íÁ áñå»ë Ï³É³Ý³íáñÙ³Ý ³ÛÉÁÝïñ³Ýù³ÛÇÝ Ë³÷³ÝÙ³Ý ÙÇçáó ÏÇñ³é»Éáõ Ù³ëÇÝ ÙÇçÝáñ¹áõÃÛáõÝÝ»ñ | D10: 0 | E10: 22 | F10: 0 | G10: 0 | H10: 22 | I10: 0 | J10: 0 | K10: 22 | L10: 0 | M10: 0 | N10: 0 | O10: 0 | P10: 0 | Q10: 0 | T10: =D10+E10 -> 22 | U10: =F10+K10+L10 -> 22 | V10: =K10 -> 22 | W10: =G10+H10+I10+J10 -> 22
A11: 5 | B11: Ëáõ½³ñÏáõÃÛ³Ý Ï³ï³ñÙ³Ý Ù³ëÇÝ ÙÇçÝáñ¹áõÃÛáõÝÝ»ñ | D11: 0 | E11: 46 | F11: 0 | G11: 3 | H11: 43 | I11: 0 | J11: 0 | K11: 46 | L11: 0 | M11: 0 | N11: 1 | O11: 0 | P11: 0 | Q11: 1 | T11: =D11+E11 -> 46 | U11: =F11+K11+L11 -> 46 | V11: =K11 -> 46 | W11: =G11+H11+I11+J11 -> 46
A12: 6 | B12: µ³ÝÏ³ÛÇÝ, ³å³Ñáí³·ñ³Ï³Ý, Ýáï³ñ³Ï³Ý ·³ÕïÝÇù Ï³½ÙáÕ ï»Õ»ÏáõÃÛáõÝÝ»ñÇ ëï³óÙ³Ý Ñ³Ù³ñ Ëáõ½³ñÏáõÃÛ³Ý Ï³Ù ³é·ñ³íÙ³Ý Ï³ï³ñÙ³Ý Ù³ëÇÝ ÙÇçÝáñ¹áõÃÛáõÝÝ»ñ | T12: =D12+E12 -> 0 | U12: =F12+K12+L12 -> 0 | V12: =K12 -> 0 | W12: =G12+H12+I12+J12 -> 0
A13: 7 | B13: Ý³Ù³Ï³·ñáõÃÛ³Ý, Ñ»é³·ñ³Ï³Ý, ÷áuï³ÛÇÝ Ñ³Õáñ¹áõÙÝ»ñÇ ÑëÏáÕáõÃÛ³Ý Ù³ëÇÝ ÙÇçÝáñ¹áõÃÛáõÝÝ»ñ | D13: 0 | E13: 2 | F13: 0 | G13: 0 | H13: 2 | I13: 0 | J13: 0 | K13: 2 | L13: 0 | M13: 0 | N13: 0 | O13: 0 | P13: 0 | Q13: 0 | T13: =D13+E13 -> 2 | U13: =F13+K13+L13 -> 2 | V13: =K13 -> 2 | W13: =G13+H13+I13+J13 -> 2
A14: 8 | B14: Ñ»é³Ëáu³ÛÇÝ Ï³Ù Ï³åÇ ³ÛÉ ÙÇçáóÝ»ñáí ï³ñíáÕ Ëáu³ÏóáõÃÛáõÝÝ»ñÇ ÉuÙ³Ý ¨ Ó³ÛÝ³·ñ³éÙ³Ý Ù³ëÇÝ ÙÇçÝáñ¹áõÃÛáõÝÝ»ñ | D14: 0 | E14: 5 | F14: 0 | G14: 0 | H14: 4 | I14: 1 | J14: 0 | K14: 5 | L14: 0 | M14: 0 | N14: 0 | O14: 0 | P14: 0 | Q14: 0 | T14: =D14+E14 -> 5 | U14: =F14+K14+L14 -> 5 | V14: =K14 -> 5 | W14: =G14+H14+I14+J14 -> 5
A15: 9 | B15: Ñ»é³ËáëÝ»ñÇ Ùáõïù³ÛÇÝ ¨ »Éù³ÛÇÝ í»ñÍ³ÝÙ³Ý ÃáõÛÉïíáõÃÛáõÝ ëï³Ý³Éáõ Ù³ëÇÝ ÙÇçÝáñ¹áõÃÛáõÝÝ»ñ | D15: 0 | E15: 42 | F15: 0 | G15: 1 | H15: 40 | I15: 1 | J15: 0 | K15: 42 | L15: 0 | M15: 0 | N15: 0 | O15: 0 | P15: 0 | Q15: 0 | T15: =D15+E15 -> 42 | U15: =F15+K15+L15 -> 42 | V15: =K15 -> 42 | W15: =G15+H15+I15+J15 -> 42
A16: 10 | B16: Ñ»ï³ùÝÝáõÃÛ³Ý Ù³ñÙÝÇ ³ßË³ïáÕÇ, ùÝÝÇãÇ, ¹³ï³Ë³½Ç oå»ñ³ïÇí-Ñ»ï³Ëáõ½³Ï³Ý ·áñÍáÕáõÃÛáõÝÝ»ñ Çñ³Ï³Ý³óÝáÕ Ù³ñÙÇÝÝ»ñÇ ³ÝoñÇÝ³Ï³Ý ¨ ³ÝÑÇÙÝ áñáßáõÙÝ»ñÇ ¨ ·áñÍáÕáõÃÛáõÝÝ»ñÇ ¹»Ù µáÕáùÝ»ñ | D16: 0 | E16: 15 | F16: 1 | G16: 13 | H16: 1 | I16: 0 | J16: 0 | K16: 14 | L16: 0 | M16: 0 | N16: 14 | O16: 5 | P16: 0 | Q16: 0 | T16: =D16+E16 -> 15 | U16: =F16+K16+L16 -> 15 | V16: =K16 -> 14 | W16: =G16+H16+I16+J16 -> 14
A17: 2. ¸³ï³Ï³Ý ³Ïï»ñÇ ¨ ¹³ï³Ï³Ý Ñ³ÝÓÝ³ñ³ñáõÃÛáõÝÝ»ñÇ Ï³ï³ñÙ³Ý Ñ»ï Ï³åí³Í Ñ³ñó»ñÇ ÉáõÍÙ³Ý áÉáñï
A18: 1 | B18: å³ïÅÇó å³ÛÙ³Ý³Ï³Ý í³Õ³Å³ÙÏ»ï ³½³ï»Éáõ Ù³ëÇÝ ÙÇçÝáñ¹áõÃÛáõÝÝ»ñ | T18: =D18+E18 -> 0 | U18: =F18+K18+L18 -> 0 | V18: =K18 -> 0 | W18: =G18+H18+I18+J18 -> 0
A19: 2 | B19: å³ïÇÅÁ ÷á÷áË»Éáõ, Ñ»ï³Ó·»Éáõ ¨ å³ïÅÇó ³½³ï»Éáõ Ù³uÇÝ ÙÇçÝáñ¹áõÃÛáõÝÝ»ñ | D19: 0 | E19: 4 | F19: 0 | G19: 1 | H19: 3 | I19: 0 | J19: 0 | K19: 4 | L19: 0 | M19: 0 | N19: 0 | O19: 0 | P19: 0 | Q19: 0 | T19: =D19+E19 -> 4 | U19: =F19+K19+L19 -> 4 | V19: =K19 -> 4 | W19: =G19+H19+I19+J19 -> 4
A20: 3 | B20: Ñ³ñÏ³¹Çñ µáõÅÙ³Ý ï»ë³ÏÇ ÷á÷áËáõÃÛ³Ý Ù³ëÇÝ ÙÇçÝáñ¹áõÃÛáõÝÝ»ñ | D20: 0 | E20: 3 | F20: 0 | G20: 1 | H20: 2 | I20: 0 | J20: 0 | K20: 3 | L20: 0 | M20: 0 | N20: 0 | O20: 0 | P20: 0 | Q20: 0 | T20: =D20+E20 -> 3 | U20: =F20+K20+L20 -> 3 | V20: =K20 -> 3 | W20: =G20+H20+I20+J20 -> 3
A21: 4 | B21: ³ÛÉ ÙÇçÝáñ¹áõÃÛáõÝÝ»ñ | D21: 0 | E21: 11 | F21: 0 | G21: 4 | H21: 7 | I21: 0 | J21: 0 | K21: 11 | L21: 0 | M21: 0 | N21: 0 | O21: 0 | P21: 0 | Q21: 0 | T21: =D21+E21 -> 11 | U21: =F21+K21+L21 -> 11 | V21: =K21 -> 11 | W21: =G21+H21+I21+J21 -> 11
A22: 5 | B22: ¹³ï³Ï³Ý Ñ³ÝÓÝ³ñ³ñáõÃÛáõÝÝ»ñ | T22: =D22+E22 -> 0 | U22: =F22+K22+L22 -> 0 | V22: =K22 -> 0 | W22: =G22+H22+I22+J22 -> 0
A23: ÀÜ¸²ØºÜÀ | D23: =D7+D8+D9+D10+D11+D12+D13+D14+D15+D16+D18+D19+D20+D21+D22 -> 0 | E23: =E7+E8+E9+E10+E11+E12+E13+E14+E15+E16+E18+E19+E20+E21+E22 -> 217 | F23: =F7+F8+F9+F10+F11+F12+F13+F14+F15+F16+F18+F19+F20+F21+F22 -> 1 | G23: =G7+G8+G9+G10+G11+G12+G13+G14+G15+G16+G18+G19+G20+G21+G22 -> 31 | H23: =H7+H8+H9+H10+H11+H12+H13+H14+H15+H16+H18+H19+H20+H21+H22 -> 182 | I23: =I7+I8+I9+I10+I11+I12+I13+I14+I15+I16+I18+I19+I20+I21+I22 -> 3 | J23: =J7+J8+J9+J10+J11+J12+J13+J14+J15+J16+J18+J19+J20+J21+J22 -> 0 | K23: =K7+K8+K9+K10+K11+K12+K13+K14+K15+K16+K18+K19+K20+K21+K22 -> 216 | ... R23: =R7+R8+R9+R10+R11+R12+R13+R14+R15+R16+R18+R19+R20+R21+R22 -> 0 | T23: =D23+E23 -> 217 | U23: =F23+K23+L23 -> 217 | V23: =K23 -> 216 | W23: =G23+H23+I23+J23 -> 216

Sheet Ա. Թումանյան
A1: 2015Ã. | D1: Ð²ÞìºîìàôÂÚàôÜ | P1: Ð³í»Éí³Í Ð³Û³ëï³ÝÇ Ð³Ýñ³å»ïáõÃÛ³Ý ¸³ï³ñ³ÝÝ»ñÇ Ý³Ë³·³ÑÝ»ñÇ ËáñÑñ¹Ç 01.02.2016Ã. ÃÇí 11È áñáßÙ³Ý
A2: ØÇÝã¹³ï³Ï³Ý í³ñáõÛÃÇ ÝÏ³ïÙ³Ùµ ¹³ï³Ï³Ý í»ñ³ÑëÏáÕáõÃÛ³ÝÁ, ¹³ï³Ï³Ý ³Ïï»ñÇ ¨ ¹³ï³Ï³Ý Ñ³ÝÓÝ³ñ³ñáõÃÛáõÝÝ»ñÇ Ï³ï³ñÙ³Ý Ñ»ï Ï³åí³Í ÙÇçÝáñ¹áõÃÛáõÝÝ»ñÇ í»ñ³µ»ñÛ³É ¹³ï³Ï³Ý ·áñÍ»ñáí ÐÐ êÛáõÝÇùÇ Ù³ñ½Ç ÁÝ¹Ñ³Ýáõñ Çñ³í³ëáõÃÛ³Ý ³é³çÇÝ ³ïÛ³ÝÇ ¹³ï³ñ³ÝÇ ¹³ï³íáñ Ա.Թումանյան ·áñÍáõÝ»áõÃÛ³Ý í»ñ³µ»ñÛ³É
A3: êïáõ·Çã Ñ³í³ë³ñáõÙ` 1+2=3+8+9, 8=4+5+6+7, | D3: Ð³ßí»ïáõ Å³Ù³Ý³Ï³Ñ³ïí³ÍÇ ëÏ½µáõÙ Ý³Ëáñ¹ Ñ³ßí»ïáõ Å³Ù³Ý³Ï³Ñ³ïí³ÍÇó ÷áË³Ýóí³Í ·áñÍ»ñÇ ÁÝ¹Ñ³Ýáõñ ÃÇíÁ | E3: Ð³ßí»ïáõ Å³Ù³Ý³Ï³Ñ³ïí³ÍáõÙ ëï³óí³Í ·áñÍ»ñÇ ÁÝ¹Ñ³Ýáõñ ÃÇíÁ | F3: öáË³Ýóí»É ¿ ³ÛÉ ¹³ï³íáñÇ Ï³Ù ³ÛÉ ¹³ï³ñ³Ý (Ï³½ÙÇ ÷á÷áËáõÃÛáõÝ, ÁÝ¹¹³ïáõÃÛáõÝ) | G3: Ð³ßí»ïáõ Å³Ù³Ý³Ï³Ñ³ïí³ÍáõÙ ³í³ñïí³Í ·áñÍ»ñÇ ÁÝ¹Ñ³Ýáõñ ÃÇíÁ | L3: Ð³ßí»ïáõ Å³Ù³Ý³Ï³Ñ³ïí³ÍáõÙ ³Ý³í³ñï ·áñÍ»ñÇ ÁÝ¹Ñ³Ýáõñ ÃÇíÁ | M3: ØÇçÝáñ¹áõÃÛáõÝÝ»ñáí Ï³Û³óí³Í ¹³ï³Ï³Ý ³Ïï»ñÇó µáÕáù³ñÏí³ÍÝ»ñÇ ù³Ý³ÏÁ | O3: ²Ý³í³ñï µáÕáùÝ»ñ | P3: ØÇçÝáñ¹áõÃÛáõÝÝ»ñáí Ï³Û³óí³Í ¨ µáÕáù³ñÏí³Í ¹³ï³Ï³Ý ³Ïï»ñÇó µ»Ï³Ýí³ÍÝ»ñÇ ù³Ý³ÏÁ | R3: ÙÇçÝáñ¹áõÃÛáõÝÝ»ñáí Ï³Û³óí³Í ¨ µáÕáù³ñÏí³Í ¹³ï³Ï³Ý ³Ïï»ñÇó ³Ý÷á÷áË ÃáÕÝí³ÍÝ»ñÇ ù³Ý³ÏÁ
G4: Ù»ñÅí»É ¿ | H4: µ³í³ñ³ñí»É ¿ | I4: µ³í³ñ³ñí»É ¿ Ù³ëÝ³ÏÇ | J4: ÃáÕÝí»É ¿ ³é³Ýó ùÝÝáõÃÛ³Ý | K4: ÀÝ¹³Ù»ÝÁ
M5: Ý³Ëáñ¹ ï³ñÇÝ»ñÇÝ Ï³Û³óí³Í ³Ïï»ñÇ ¹»Ù | N5: Ñ³ßí»ïáõ Å³Ù³Ý³Ï³ßñç³ÝáõÙ Ï³Û³óí³Í ³Ïï»ñÇ ¹»Ù | P5: Ý³Ëáñ¹ ï³ñÇÝ»ñÇÝ Ï³Û³óí³Í ³Ïï»ñÇ µ»Ï³ÝáõÙÝ»ñÁ | Q5: Ñ³ßí»ïáõ Å³Ù³Ý³Ï³ßñç³ÝáõÙ Ï³Û³óí³Í ³Ïï»ñÇ µ»Ï³ÝáõÙÝ»ñÁ
A6: 1. ØÇÝã¹³ï³Ï³Ý í³ñáõÛÃÇ ÝÏ³ïÙ³Ùµ ¹³ï³Ï³Ý í»ñ³ÑëÏáÕáõÃÛ³Ý áÉáñï | D6: 1 | E6: 2 | F6: 3 | G6: 4 | H6: 5 | I6: 6 | J6: 7 | K6: 8 | L6: 9 | M6: 10 | N6: 11 | O6: 12 | P6: 13 | Q6: 14 | R6: 15 | T6: 1+2=3+8+9 | V6: 8=4+5+6+7
A7: 1 | B7: Ï³É³ÝùÁ áñå»ë Ë³÷³ÝÙ³Ý ÙÇçáó ÏÇñ³é»Éáõ Ù³ëÇÝ ÙÇçÝáñ¹áõÃÛáõÝÝ»ñ | D7: 0 | E7: 16 | F7: 0 | G7: 2 | H7: 11 | I7: 3 | J7: 0 | K7: 16 | L7: 0 | M7: 0 | N7: 6 | O7: 3 | P7: 0 | Q7: 0 | T7: =D7+E7 -> 16 | U7: =F7+K7+L7 -> 16 | V7: =K7 -> 16 | W7: =G7+H7+I7+J7 -> 16
A8: 2 | B8: Ï³É³ÝùÇ Å³ÙÏ»ïÁ »ñÏ³ñ³óÝ»Éáõ Ù³ëÇÝ ÙÇçÝáñ¹áõÃÛáõÝÝ»ñ | D8: 0 | E8: 3 | F8: 0 | G8: 0 | H8: 3 | I8: 0 | J8: 0 | K8: 3 | L8: 0 | M8: 0 | N8: 3 | O8: 0 | P8: 0 | Q8: 0 | T8: =D8+E8 -> 3 | U8: =F8+K8+L8 -> 3 | V8: =K8 -> 3 | W8: =G8+H8+I8+J8 -> 3
A9: 3 | B9: Ï³É³ÝùÇ í»ñ³Ñ³ëï³ïÙ³Ý Ù³ëÇÝ ÙÇçÝáñ¹áõÃÛáõÝÝ»ñ | T9: =D9+E9 -> 0 | U9: =F9+K9+L9 -> 0 | V9: =K9 -> 0 | W9: =G9+H9+I9+J9 -> 0
A10: 4 | B10: ·ñ³íÁ áñå»ë Ï³É³Ý³íáñÙ³Ý ³ÛÉÁÝïñ³Ýù³ÛÇÝ Ë³÷³ÝÙ³Ý ÙÇçáó ÏÇñ³é»Éáõ Ù³ëÇÝ ÙÇçÝáñ¹áõÃÛáõÝÝ»ñ | D10: 0 | E10: 8 | F10: 0 | G10: 8 | H10: 0 | I10: 0 | J10: 0 | K10: 8 | L10: 0 | M10: 0 | N10: 0 | O10: 0 | P10: 0 | Q10: 0 | T10: =D10+E10 -> 8 | U10: =F10+K10+L10 -> 8 | V10: =K10 -> 8 | W10: =G10+H10+I10+J10 -> 8
A11: 5 | B11: Ëáõ½³ñÏáõÃÛ³Ý Ï³ï³ñÙ³Ý Ù³ëÇÝ ÙÇçÝáñ¹áõÃÛáõÝÝ»ñ | D11: 0 | E11: 24 | F11: 0 | G11: 0 | H11: 24 | I11: 0 | J11: 0 | K11: 24 | L11: 0 | M11: 0 | N11: 0 | O11: 0 | P11: 0 | Q11: 0 | T11: =D11+E11 -> 24 | U11: =F11+K11+L11 -> 24 | V11: =K11 -> 24 | W11: =G11+H11+I11+J11 -> 24
A12: 6 | B12: µ³ÝÏ³ÛÇÝ, ³å³Ñáí³·ñ³Ï³Ý, Ýáï³ñ³Ï³Ý ·³ÕïÝÇù Ï³½ÙáÕ ï»Õ»ÏáõÃÛáõÝÝ»ñÇ ëï³óÙ³Ý Ñ³Ù³ñ Ëáõ½³ñÏáõÃÛ³Ý Ï³Ù ³é·ñ³íÙ³Ý Ï³ï³ñÙ³Ý Ù³ëÇÝ ÙÇçÝáñ¹áõÃÛáõÝÝ»ñ | T12: =D12+E12 -> 0 | U12: =F12+K12+L12 -> 0 | V12: =K12 -> 0 | W12: =G12+H12+I12+J12 -> 0
A13: 7 | B13: Ý³Ù³Ï³·ñáõÃÛ³Ý, Ñ»é³·ñ³Ï³Ý, ÷áuï³ÛÇÝ Ñ³Õáñ¹áõÙÝ»ñÇ ÑëÏáÕáõÃÛ³Ý Ù³ëÇÝ ÙÇçÝáñ¹áõÃÛáõÝÝ»ñ | T13: =D13+E13 -> 0 | U13: =F13+K13+L13 -> 0 | V13: =K13 -> 0 | W13: =G13+H13+I13+J13 -> 0
A14: 8 | B14: Ñ»é³Ëáu³ÛÇÝ Ï³Ù Ï³åÇ ³ÛÉ ÙÇçáóÝ»ñáí ï³ñíáÕ Ëáu³ÏóáõÃÛáõÝÝ»ñÇ ÉuÙ³Ý ¨ Ó³ÛÝ³·ñ³éÙ³Ý Ù³ëÇÝ ÙÇçÝáñ¹áõÃÛáõÝÝ»ñ | T14: =D14+E14 -> 0 | U14: =F14+K14+L14 -> 0 | V14: =K14 -> 0 | W14: =G14+H14+I14+J14 -> 0
A15: 9 | B15: Ñ»é³ËáëÝ»ñÇ Ùáõïù³ÛÇÝ ¨ »Éù³ÛÇÝ í»ñÍ³ÝÙ³Ý ÃáõÛÉïíáõÃÛáõÝ ëï³Ý³Éáõ Ù³ëÇÝ ÙÇçÝáñ¹áõÃÛáõÝÝ»ñ | D15: 0 | E15: 6 | F15: 0 | G15: 0 | H15: 6 | I15: 0 | J15: 0 | K15: 6 | L15: 0 | M15: 0 | N15: 0 | O15: 0 | P15: 0 | Q15: 0 | T15: =D15+E15 -> 6 | U15: =F15+K15+L15 -> 6 | V15: =K15 -> 6 | W15: =G15+H15+I15+J15 -> 6
A16: 10 | B16: Ñ»ï³ùÝÝáõÃÛ³Ý Ù³ñÙÝÇ ³ßË³ïáÕÇ, ùÝÝÇãÇ, ¹³ï³Ë³½Ç oå»ñ³ïÇí-Ñ»ï³Ëáõ½³Ï³Ý ·áñÍáÕáõÃÛáõÝÝ»ñ Çñ³Ï³Ý³óÝáÕ Ù³ñÙÇÝÝ»ñÇ ³ÝoñÇÝ³Ï³Ý ¨ ³ÝÑÇÙÝ áñáßáõÙÝ»ñÇ ¨ ·áñÍáÕáõÃÛáõÝÝ»ñÇ ¹»Ù µáÕáùÝ»ñ | D16: 0 | E16: 5 | F16: 0 | G16: 5 | H16: 0 | I16: 0 | J16: 0 | K16: 5 | L16: 0 | M16: 0 | N16: 2 | O16: 1 | P16: 0 | Q16: 0 | T16: =D16+E16 -> 5 | U16: =F16+K16+L16 -> 5 | V16: =K16 -> 5 | W16: =G16+H16+I16+J16 -> 5
A17: 2. ¸³ï³Ï³Ý ³Ïï»ñÇ ¨ ¹³ï³Ï³Ý Ñ³ÝÓÝ³ñ³ñáõÃÛáõÝÝ»ñÇ Ï³ï³ñÙ³Ý Ñ»ï Ï³åí³Í Ñ³ñó»ñÇ ÉáõÍÙ³Ý áÉáñï
A18: 1 | B18: å³ïÅÇó å³ÛÙ³Ý³Ï³Ý í³Õ³Å³ÙÏ»ï ³½³ï»Éáõ Ù³ëÇÝ ÙÇçÝáñ¹áõÃÛáõÝÝ»ñ | T18: =D18+E18 -> 0 | U18: =F18+K18+L18 -> 0 | V18: =K18 -> 0 | W18: =G18+H18+I18+J18 -> 0
A19: 2 | B19: å³ïÇÅÁ ÷á÷áË»Éáõ, Ñ»ï³Ó·»Éáõ ¨ å³ïÅÇó ³½³ï»Éáõ Ù³uÇÝ ÙÇçÝáñ¹áõÃÛáõÝÝ»ñ | T19: =D19+E19 -> 0 | U19: =F19+K19+L19 -> 0 | V19: =K19 -> 0 | W19: =G19+H19+I19+J19 -> 0
A20: 3 | B20: Ñ³ñÏ³¹Çñ µáõÅÙ³Ý ï»ë³ÏÇ ÷á÷áËáõÃÛ³Ý Ù³ëÇÝ ÙÇçÝáñ¹áõÃÛáõÝÝ»ñ | T20: =D20+E20 -> 0 | U20: =F20+K20+L20 -> 0 | V20: =K20 -> 0 | W20: =G20+H20+I20+J20 -> 0
A21: 4 | B21: ³ÛÉ ÙÇçÝáñ¹áõÃÛáõÝÝ»ñ | D21: 0 | E21: 3 | F21: 0 | G21: 2 | H21: 1 | I21: 0 | J21: 0 | K21: 3 | L21: 0 | M21: 0 | N21: 0 | O21: 0 | P21: 0 | Q21: 0 | T21: =D21+E21 -> 3 | U21: =F21+K21+L21 -> 3 | V21: =K21 -> 3 | W21: =G21+H21+I21+J21 -> 3
A22: 5 | B22: ¹³ï³Ï³Ý Ñ³ÝÓÝ³ñ³ñáõÃÛáõÝÝ»ñ | D22: 1 | E22: 1 | F22: 0 | G22: 0 | H22: 1 | I22: 0 | J22: 0 | K22: 1 | L22: 1 | M22: 0 | N22: 0 | O22: 0 | P22: 0 | Q22: 0 | T22: =D22+E22 -> 2 | U22: =F22+K22+L22 -> 2 | V22: =K22 -> 1 | W22: =G22+H22+I22+J22 -> 1
A23: ÀÜ¸²ØºÜÀ | D23: =D7+D8+D9+D10+D11+D12+D13+D14+D15+D16+D18+D19+D20+D21+D22 -> 1 | E23: =E7+E8+E9+E10+E11+E12+E13+E14+E15+E16+E18+E19+E20+E21+E22 -> 66 | F23: =F7+F8+F9+F10+F11+F12+F13+F14+F15+F16+F18+F19+F20+F21+F22 -> 0 | G23: =G7+G8+G9+G10+G11+G12+G13+G14+G15+G16+G18+G19+G20+G21+G22 -> 17 | H23: =H7+H8+H9+H10+H11+H12+H13+H14+H15+H16+H18+H19+H20+H21+H22 -> 46 | I23: =I7+I8+I9+I10+I11+I12+I13+I14+I15+I16+I18+I19+I20+I21+I22 -> 3 | J23: =J7+J8+J9+J10+J11+J12+J13+J14+J15+J16+J18+J19+J20+J21+J22 -> 0 | K23: =K7+K8+K9+K10+K11+K12+K13+K14+K15+K16+K18+K19+K20+K21+K22 -> 66 | ... R23: =R7+R8+R9+R10+R11+R12+R13+R14+R15+R16+R18+R19+R20+R21+R22 -> 0 | T23: =D23+E23 -> 67 | U23: =F23+K23+L23 -> 67 | V23: =K23 -> 66 | W23: =G23+H23+I23+J23 -> 66

Sheet Լ.Աթանյան
A1: 2015Ã. | D1: Ð²ÞìºîìàôÂÚàôÜ | P1: Ð³í»Éí³Í Ð³Û³ëï³ÝÇ Ð³Ýñ³å»ïáõÃÛ³Ý ¸³ï³ñ³ÝÝ»ñÇ Ý³Ë³·³ÑÝ»ñÇ ËáñÑñ¹Ç 01.02.2016Ã. ÃÇí 11È áñáßÙ³Ý
A2: ØÇÝã¹³ï³Ï³Ý í³ñáõÛÃÇ ÝÏ³ïÙ³Ùµ ¹³ï³Ï³Ý í»ñ³ÑëÏáÕáõÃÛ³ÝÁ, ¹³ï³Ï³Ý ³Ïï»ñÇ ¨ ¹³ï³Ï³Ý Ñ³ÝÓÝ³ñ³ñáõÃÛáõÝÝ»ñÇ Ï³ï³ñÙ³Ý Ñ»ï Ï³åí³Í ÙÇçÝáñ¹áõÃÛáõÝÝ»ñÇ í»ñ³µ»ñÛ³É ¹³ï³Ï³Ý ·áñÍ»ñáí ÐÐ êÛáõÝÇùÇ Ù³ñ½Ç ÁÝ¹Ñ³Ýáõñ Çñ³í³ëáõÃÛ³Ý ³é³çÇÝ ³ïÛ³ÝÇ ¹³ï³ñ³ÝÇ ¹³ï³íáñ Լ.Աթանյանի ·áñÍáõÝ»áõÃÛ³Ý í»ñ³µ»ñÛ³É
A3: êïáõ·Çã Ñ³í³ë³ñáõÙ` 1+2=3+8+9, 8=4+5+6+7, | D3: Ð³ßí»ïáõ Å³Ù³Ý³Ï³Ñ³ïí³ÍÇ ëÏ½µáõÙ Ý³Ëáñ¹ Ñ³ßí»ïáõ Å³Ù³Ý³Ï³Ñ³ïí³ÍÇó ÷áË³Ýóí³Í ·áñÍ»ñÇ ÁÝ¹Ñ³Ýáõñ ÃÇíÁ | E3: Ð³ßí»ïáõ Å³Ù³Ý³Ï³Ñ³ïí³ÍáõÙ ëï³óí³Í ·áñÍ»ñÇ ÁÝ¹Ñ³Ýáõñ ÃÇíÁ | F3: öáË³Ýóí»É ¿ ³ÛÉ ¹³ï³íáñÇ Ï³Ù ³ÛÉ ¹³ï³ñ³Ý (Ï³½ÙÇ ÷á÷áËáõÃÛáõÝ, ÁÝ¹¹³ïáõÃÛáõÝ) | G3: Ð³ßí»ïáõ Å³Ù³Ý³Ï³Ñ³ïí³ÍáõÙ ³í³ñïí³Í ·áñÍ»ñÇ ÁÝ¹Ñ³Ýáõñ ÃÇíÁ | L3: Ð³ßí»ïáõ Å³Ù³Ý³Ï³Ñ³ïí³ÍáõÙ ³Ý³í³ñï ·áñÍ»ñÇ ÁÝ¹Ñ³Ýáõñ ÃÇíÁ | M3: ØÇçÝáñ¹áõÃÛáõÝÝ»ñáí Ï³Û³óí³Í ¹³ï³Ï³Ý ³Ïï»ñÇó µáÕáù³ñÏí³ÍÝ»ñÇ ù³Ý³ÏÁ | O3: ²Ý³í³ñï µáÕáùÝ»ñ | P3: ØÇçÝáñ¹áõÃÛáõÝÝ»ñáí Ï³Û³óí³Í ¨ µáÕáù³ñÏí³Í ¹³ï³Ï³Ý ³Ïï»ñÇó µ»Ï³Ýí³ÍÝ»ñÇ ù³Ý³ÏÁ | R3: ÙÇçÝáñ¹áõÃÛáõÝÝ»ñáí Ï³Û³óí³Í ¨ µáÕáù³ñÏí³Í ¹³ï³Ï³Ý ³Ïï»ñÇó ³Ý÷á÷áË ÃáÕÝí³ÍÝ»ñÇ ù³Ý³ÏÁ
G4: Ù»ñÅí»É ¿ | H4: µ³í³ñ³ñí»É ¿ | I4: µ³í³ñ³ñí»É ¿ Ù³ëÝ³ÏÇ | J4: ÃáÕÝí»É ¿ ³é³Ýó ùÝÝáõÃÛ³Ý | K4: ÀÝ¹³Ù»ÝÁ
M5: Ý³Ëáñ¹ ï³ñÇÝ»ñÇÝ Ï³Û³óí³Í ³Ïï»ñÇ ¹»Ù | N5: Ñ³ßí»ïáõ Å³Ù³Ý³Ï³ßñç³ÝáõÙ Ï³Û³óí³Í ³Ïï»ñÇ ¹»Ù | P5: Ý³Ëáñ¹ ï³ñÇÝ»ñÇÝ Ï³Û³óí³Í ³Ïï»ñÇ µ»Ï³ÝáõÙÝ»ñÁ | Q5: Ñ³ßí»ïáõ Å³Ù³Ý³Ï³ßñç³ÝáõÙ Ï³Û³óí³Í ³Ïï»ñÇ µ»Ï³ÝáõÙÝ»ñÁ
A6: 1. ØÇÝã¹³ï³Ï³Ý í³ñáõÛÃÇ ÝÏ³ïÙ³Ùµ ¹³ï³Ï³Ý í»ñ³ÑëÏáÕáõÃÛ³Ý áÉáñï | D6: 1 | E6: 2 | F6: 3 | G6: 4 | H6: 5 | I6: 6 | J6: 7 | K6: 8 | L6: 9 | M6: 10 | N6: 11 | O6: 12 | P6: 13 | Q6: 14 | R6: 15 | T6: 1+2=3+8+9 | V6: 8=4+5+6+7
A7: 1 | B7: Ï³É³ÝùÁ áñå»ë Ë³÷³ÝÙ³Ý ÙÇçáó ÏÇñ³é»Éáõ Ù³ëÇÝ ÙÇçÝáñ¹áõÃÛáõÝÝ»ñ | D7: 0 | E7: 10 | F7: 0 | G7: 1 | H7: 9 | I7: 0 | J7: 0 | K7: 10 | L7: 0 | M7: 0 | N7: 3 | O7: 0 | P7: 0 | Q7: 0 | T7: =D7+E7 -> 10 | U7: =F7+K7+L7 -> 10 | V7: =K7 -> 10 | W7: =G7+H7+I7+J7 -> 10
A8: 2 | B8: Ï³É³ÝùÇ Å³ÙÏ»ïÁ »ñÏ³ñ³óÝ»Éáõ Ù³ëÇÝ ÙÇçÝáñ¹áõÃÛáõÝÝ»ñ | D8: 0 | E8: 1 | F8: 0 | G8: 0 | H8: 1 | I8: 0 | J8: 0 | K8: 1 | L8: 0 | M8: 0 | N8: 0 | O8: 0 | P8: 0 | Q8: 0 | T8: =D8+E8 -> 1 | U8: =F8+K8+L8 -> 1 | V8: =K8 -> 1 | W8: =G8+H8+I8+J8 -> 1
A9: 3 | B9: Ï³É³ÝùÇ í»ñ³Ñ³ëï³ïÙ³Ý Ù³ëÇÝ ÙÇçÝáñ¹áõÃÛáõÝÝ»ñ | T9: =D9+E9 -> 0 | U9: =F9+K9+L9 -> 0 | V9: =K9 -> 0 | W9: =G9+H9+I9+J9 -> 0
A10: 4 | B10: ·ñ³íÁ áñå»ë Ï³É³Ý³íáñÙ³Ý ³ÛÉÁÝïñ³Ýù³ÛÇÝ Ë³÷³ÝÙ³Ý ÙÇçáó ÏÇñ³é»Éáõ Ù³ëÇÝ ÙÇçÝáñ¹áõÃÛáõÝÝ»ñ | D10: 0 | E10: 1 | F10: 0 | G10: 1 | H10: 0 | I10: 0 | J10: 0 | K10: 1 | L10: 0 | M10: 0 | N10: 0 | O10: 0 | P10: 0 | Q10: 0 | T10: =D10+E10 -> 1 | U10: =F10+K10+L10 -> 1 | V10: =K10 -> 1 | W10: =G10+H10+I10+J10 -> 1
A11: 5 | B11: Ëáõ½³ñÏáõÃÛ³Ý Ï³ï³ñÙ³Ý Ù³ëÇÝ ÙÇçÝáñ¹áõÃÛáõÝÝ»ñ | T11: =D11+E11 -> 0 | U11: =F11+K11+L11 -> 0 | V11: =K11 -> 0 | W11: =G11+H11+I11+J11 -> 0
A12: 6 | B12: µ³ÝÏ³ÛÇÝ, ³å³Ñáí³·ñ³Ï³Ý, Ýáï³ñ³Ï³Ý ·³ÕïÝÇù Ï³½ÙáÕ ï»Õ»ÏáõÃÛáõÝÝ»ñÇ ëï³óÙ³Ý Ñ³Ù³ñ Ëáõ½³ñÏáõÃÛ³Ý Ï³Ù ³é·ñ³íÙ³Ý Ï³ï³ñÙ³Ý Ù³ëÇÝ ÙÇçÝáñ¹áõÃÛáõÝÝ»ñ | T12: =D12+E12 -> 0 | U12: =F12+K12+L12 -> 0 | V12: =K12 -> 0 | W12: =G12+H12+I12+J12 -> 0
A13: 7 | B13: Ý³Ù³Ï³·ñáõÃÛ³Ý, Ñ»é³·ñ³Ï³Ý, ÷áuï³ÛÇÝ Ñ³Õáñ¹áõÙÝ»ñÇ ÑëÏáÕáõÃÛ³Ý Ù³ëÇÝ ÙÇçÝáñ¹áõÃÛáõÝÝ»ñ | T13: =D13+E13 -> 0 | U13: =F13+K13+L13 -> 0 | V13: =K13 -> 0 | W13: =G13+H13+I13+J13 -> 0
A14: 8 | B14: Ñ»é³Ëáu³ÛÇÝ Ï³Ù Ï³åÇ ³ÛÉ ÙÇçáóÝ»ñáí ï³ñíáÕ Ëáu³ÏóáõÃÛáõÝÝ»ñÇ ÉuÙ³Ý ¨ Ó³ÛÝ³·ñ³éÙ³Ý Ù³ëÇÝ ÙÇçÝáñ¹áõÃÛáõÝÝ»ñ | T14: =D14+E14 -> 0 | U14: =F14+K14+L14 -> 0 | V14: =K14 -> 0 | W14: =G14+H14+I14+J14 -> 0
A15: 9 | B15: Ñ»é³ËáëÝ»ñÇ Ùáõïù³ÛÇÝ ¨ »Éù³ÛÇÝ í»ñÍ³ÝÙ³Ý ÃáõÛÉïíáõÃÛáõÝ ëï³Ý³Éáõ Ù³ëÇÝ ÙÇçÝáñ¹áõÃÛáõÝÝ»ñ | D15: 0 | E15: 2 | F15: 0 | G15: 0 | H15: 2 | I15: 0 | J15: 0 | K15: 2 | L15: 0 | M15: 0 | N15: 0 | O15: 0 | P15: 0 | Q15: 0 | T15: =D15+E15 -> 2 | U15: =F15+K15+L15 -> 2 | V15: =K15 -> 2 | W15: =G15+H15+I15+J15 -> 2
A16: 10 | B16: Ñ»ï³ùÝÝáõÃÛ³Ý Ù³ñÙÝÇ ³ßË³ïáÕÇ, ùÝÝÇãÇ, ¹³ï³Ë³½Ç oå»ñ³ïÇí-Ñ»ï³Ëáõ½³Ï³Ý ·áñÍáÕáõÃÛáõÝÝ»ñ Çñ³Ï³Ý³óÝáÕ Ù³ñÙÇÝÝ»ñÇ ³ÝoñÇÝ³Ï³Ý ¨ ³ÝÑÇÙÝ áñáßáõÙÝ»ñÇ ¨ ·áñÍáÕáõÃÛáõÝÝ»ñÇ ¹»Ù µáÕáùÝ»ñ | T16: =D16+E16 -> 0 | U16: =F16+K16+L16 -> 0 | V16: =K16 -> 0 | W16: =G16+H16+I16+J16 -> 0
A17: 2. ¸³ï³Ï³Ý ³Ïï»ñÇ ¨ ¹³ï³Ï³Ý Ñ³ÝÓÝ³ñ³ñáõÃÛáõÝÝ»ñÇ Ï³ï³ñÙ³Ý Ñ»ï Ï³åí³Í Ñ³ñó»ñÇ ÉáõÍÙ³Ý áÉáñï
A18: 1 | B18: å³ïÅÇó å³ÛÙ³Ý³Ï³Ý í³Õ³Å³ÙÏ»ï ³½³ï»Éáõ Ù³ëÇÝ ÙÇçÝáñ¹áõÃÛáõÝÝ»ñ | T18: =D18+E18 -> 0 | U18: =F18+K18+L18 -> 0 | V18: =K18 -> 0 | W18: =G18+H18+I18+J18 -> 0
A19: 2 | B19: å³ïÇÅÁ ÷á÷áË»Éáõ, Ñ»ï³Ó·»Éáõ ¨ å³ïÅÇó ³½³ï»Éáõ Ù³uÇÝ ÙÇçÝáñ¹áõÃÛáõÝÝ»ñ | T19: =D19+E19 -> 0 | U19: =F19+K19+L19 -> 0 | V19: =K19 -> 0 | W19: =G19+H19+I19+J19 -> 0
A20: 3 | B20: Ñ³ñÏ³¹Çñ µáõÅÙ³Ý ï»ë³ÏÇ ÷á÷áËáõÃÛ³Ý Ù³ëÇÝ ÙÇçÝáñ¹áõÃÛáõÝÝ»ñ | T20: =D20+E20 -> 0 | U20: =F20+K20+L20 -> 0 | V20: =K20 -> 0 | W20: =G20+H20+I20+J20 -> 0
A21: 4 | B21: ³ÛÉ ÙÇçÝáñ¹áõÃÛáõÝÝ»ñ | T21: =D21+E21 -> 0 | U21: =F21+K21+L21 -> 0 | V21: =K21 -> 0 | W21: =G21+H21+I21+J21 -> 0
A22: 5 | B22: ¹³ï³Ï³Ý Ñ³ÝÓÝ³ñ³ñáõÃÛáõÝÝ»ñ | T22: =D22+E22 -> 0 | U22: =F22+K22+L22 -> 0 | V22: =K22 -> 0 | W22: =G22+H22+I22+J22 -> 0
A23: ÀÜ¸²ØºÜÀ | D23: =D7+D8+D9+D10+D11+D12+D13+D14+D15+D16+D18+D19+D20+D21+D22 -> 0 | E23: =E7+E8+E9+E10+E11+E12+E13+E14+E15+E16+E18+E19+E20+E21+E22 -> 14 | F23: =F7+F8+F9+F10+F11+F12+F13+F14+F15+F16+F18+F19+F20+F21+F22 -> 0 | G23: =G7+G8+G9+G10+G11+G12+G13+G14+G15+G16+G18+G19+G20+G21+G22 -> 2 | H23: =H7+H8+H9+H10+H11+H12+H13+H14+H15+H16+H18+H19+H20+H21+H22 -> 12 | I23: =I7+I8+I9+I10+I11+I12+I13+I14+I15+I16+I18+I19+I20+I21+I22 -> 0 | J23: =J7+J8+J9+J10+J11+J12+J13+J14+J15+J16+J18+J19+J20+J21+J22 -> 0 | K23: =K7+K8+K9+K10+K11+K12+K13+K14+K15+K16+K18+K19+K20+K21+K22 -> 14 | ... R23: =R7+R8+R9+R10+R11+R12+R13+R14+R15+R16+R18+R19+R20+R21+R22 -> 0 | T23: =D23+E23 -> 14 | U23: =F23+K23+L23 -> 14 | V23: =K23 -> 14 | W23: =G23+H23+I23+J23 -> 14

Sheet Ի. Բեգլարյան
A1: 2015Ã. | D1: Ð²ÞìºîìàôÂÚàôÜ | P1: Ð³í»Éí³Í Ð³Û³ëï³ÝÇ Ð³Ýñ³å»ïáõÃÛ³Ý ¸³ï³ñ³ÝÝ»ñÇ Ý³Ë³·³ÑÝ»ñÇ ËáñÑñ¹Ç 01.02.2016Ã. ÃÇí 11È áñáßÙ³Ý
A2: ØÇÝã¹³ï³Ï³Ý í³ñáõÛÃÇ ÝÏ³ïÙ³Ùµ ¹³ï³Ï³Ý í»ñ³ÑëÏáÕáõÃÛ³ÝÁ, ¹³ï³Ï³Ý ³Ïï»ñÇ ¨ ¹³ï³Ï³Ý Ñ³ÝÓÝ³ñ³ñáõÃÛáõÝÝ»ñÇ Ï³ï³ñÙ³Ý Ñ»ï Ï³åí³Í ÙÇçÝáñ¹áõÃÛáõÝÝ»ñÇ í»ñ³µ»ñÛ³É ¹³ï³Ï³Ý ·áñÍ»ñáí ÐÐ êÛáõÝÇùÇ Ù³ñ½Ç ÁÝ¹Ñ³Ýáõñ Çñ³í³ëáõÃÛ³Ý ³é³çÇÝ ³ïÛ³ÝÇ ¹³ï³ñ³ÝÇ ¹³ï³íáñ Ի.Բեգլարյան ·áñÍáõÝ»áõÃÛ³Ý í»ñ³µ»ñÛ³É
A3: êïáõ·Çã Ñ³í³ë³ñáõÙ` 1+2=3+8+9, 8=4+5+6+7, | D3: Ð³ßí»ïáõ Å³Ù³Ý³Ï³Ñ³ïí³ÍÇ ëÏ½µáõÙ Ý³Ëáñ¹ Ñ³ßí»ïáõ Å³Ù³Ý³Ï³Ñ³ïí³ÍÇó ÷áË³Ýóí³Í ·áñÍ»ñÇ ÁÝ¹Ñ³Ýáõñ ÃÇíÁ | E3: Ð³ßí»ïáõ Å³Ù³Ý³Ï³Ñ³ïí³ÍáõÙ ëï³óí³Í ·áñÍ»ñÇ ÁÝ¹Ñ³Ýáõñ ÃÇíÁ | F3: öáË³Ýóí»É ¿ ³ÛÉ ¹³ï³íáñÇ Ï³Ù ³ÛÉ ¹³ï³ñ³Ý (Ï³½ÙÇ ÷á÷áËáõÃÛáõÝ, ÁÝ¹¹³ïáõÃÛáõÝ) | G3: Ð³ßí»ïáõ Å³Ù³Ý³Ï³Ñ³ïí³ÍáõÙ ³í³ñïí³Í ·áñÍ»ñÇ ÁÝ¹Ñ³Ýáõñ ÃÇíÁ | L3: Ð³ßí»ïáõ Å³Ù³Ý³Ï³Ñ³ïí³ÍáõÙ ³Ý³í³ñï ·áñÍ»ñÇ ÁÝ¹Ñ³Ýáõñ ÃÇíÁ | M3: ØÇçÝáñ¹áõÃÛáõÝÝ»ñáí Ï³Û³óí³Í ¹³ï³Ï³Ý ³Ïï»ñÇó µáÕáù³ñÏí³ÍÝ»ñÇ ù³Ý³ÏÁ | O3: ²Ý³í³ñï µáÕáùÝ»ñ | P3: ØÇçÝáñ¹áõÃÛáõÝÝ»ñáí Ï³Û³óí³Í ¨ µáÕáù³ñÏí³Í ¹³ï³Ï³Ý ³Ïï»ñÇó µ»Ï³Ýí³ÍÝ»ñÇ ù³Ý³ÏÁ | R3: ÙÇçÝáñ¹áõÃÛáõÝÝ»ñáí Ï³Û³óí³Í ¨ µáÕáù³ñÏí³Í ¹³ï³Ï³Ý ³Ïï»ñÇó ³Ý÷á÷áË ÃáÕÝí³ÍÝ»ñÇ ù³Ý³ÏÁ
G4: Ù»ñÅí»É ¿ | H4: µ³í³ñ³ñí»É ¿ | I4: µ³í³ñ³ñí»É ¿ Ù³ëÝ³ÏÇ | J4: ÃáÕÝí»É ¿ ³é³Ýó ùÝÝáõÃÛ³Ý | K4: ÀÝ¹³Ù»ÝÁ
M5: Ý³Ëáñ¹ ï³ñÇÝ»ñÇÝ Ï³Û³óí³Í ³Ïï»ñÇ ¹»Ù | N5: Ñ³ßí»ïáõ Å³Ù³Ý³Ï³ßñç³ÝáõÙ Ï³Û³óí³Í ³Ïï»ñÇ ¹»Ù | P5: Ý³Ëáñ¹ ï³ñÇÝ»ñÇÝ Ï³Û³óí³Í ³Ïï»ñÇ µ»Ï³ÝáõÙÝ»ñÁ | Q5: Ñ³ßí»ïáõ Å³Ù³Ý³Ï³ßñç³ÝáõÙ Ï³Û³óí³Í ³Ïï»ñÇ µ»Ï³ÝáõÙÝ»ñÁ
A6: 1. ØÇÝã¹³ï³Ï³Ý í³ñáõÛÃÇ ÝÏ³ïÙ³Ùµ ¹³ï³Ï³Ý í»ñ³ÑëÏáÕáõÃÛ³Ý áÉáñï | D6: 1 | E6: 2 | F6: 3 | G6: 4 | H6: 5 | I6: 6 | J6: 7 | K6: 8 | L6: 9 | M6: 10 | N6: 11 | O6: 12 | P6: 13 | Q6: 14 | R6: 15 | T6: 1+2=3+8+9 | V6: 8=4+5+6+7
A7: 1 | B7: Ï³É³ÝùÁ áñå»ë Ë³÷³ÝÙ³Ý ÙÇçáó ÏÇñ³é»Éáõ Ù³ëÇÝ ÙÇçÝáñ¹áõÃÛáõÝÝ»ñ | D7: 0 | E7: 3 | F7: 0 | G7: 0 | H7: 3 | I7: 0 | J7: 0 | K7: 3 | L7: 0 | M7: 0 | N7: 1 | O7: 0 | P7: 0 | Q7: 0 | T7: =D7+E7 -> 3 | U7: =F7+K7+L7 -> 3 | V7: =K7 -> 3 | W7: =G7+H7+I7+J7 -> 3
A8: 2 | B8: Ï³É³ÝùÇ Å³ÙÏ»ïÁ »ñÏ³ñ³óÝ»Éáõ Ù³ëÇÝ ÙÇçÝáñ¹áõÃÛáõÝÝ»ñ | D8: 0 | E8: 1 | F8: 0 | G8: 0 | H8: 1 | I8: 0 | J8: 0 | K8: 1 | L8: 0 | M8: 0 | N8: 0 | O8: 0 | P8: 0 | Q8: 0 | T8: =D8+E8 -> 1 | U8: =F8+K8+L8 -> 1 | V8: =K8 -> 1 | W8: =G8+H8+I8+J8 -> 1
A9: 3 | B9: Ï³É³ÝùÇ í»ñ³Ñ³ëï³ïÙ³Ý Ù³ëÇÝ ÙÇçÝáñ¹áõÃÛáõÝÝ»ñ | D9: 0 | E9: 1 | F9: 0 | G9: 1 | H9: 0 | I9: 0 | J9: 0 | K9: 1 | L9: 0 | M9: 0 | N9: 0 | O9: 0 | P9: 0 | Q9: 0 | T9: =D9+E9 -> 1 | U9: =F9+K9+L9 -> 1 | V9: =K9 -> 1 | W9: =G9+H9+I9+J9 -> 1
A10: 4 | B10: ·ñ³íÁ áñå»ë Ï³É³Ý³íáñÙ³Ý ³ÛÉÁÝïñ³Ýù³ÛÇÝ Ë³÷³ÝÙ³Ý ÙÇçáó ÏÇñ³é»Éáõ Ù³ëÇÝ ÙÇçÝáñ¹áõÃÛáõÝÝ»ñ | D10: 0 | E10: 3 | F10: 0 | G10: 2 | H10: 1 | I10: 0 | J10: 0 | K10: 3 | L10: 0 | M10: 0 | N10: 0 | O10: 0 | P10: 0 | Q10: 0 | T10: =D10+E10 -> 3 | U10: =F10+K10+L10 -> 3 | V10: =K10 -> 3 | W10: =G10+H10+I10+J10 -> 3
A11: 5 | B11: Ëáõ½³ñÏáõÃÛ³Ý Ï³ï³ñÙ³Ý Ù³ëÇÝ ÙÇçÝáñ¹áõÃÛáõÝÝ»ñ | D11: 0 | E11: 11 | F11: 0 | G11: 1 | H11: 10 | I11: 0 | J11: 0 | K11: 11 | L11: 0 | M11: 0 | N11: 1 | O11: 0 | P11: 0 | Q11: 0 | T11: =D11+E11 -> 11 | U11: =F11+K11+L11 -> 11 | V11: =K11 -> 11 | W11: =G11+H11+I11+J11 -> 11
A12: 6 | B12: µ³ÝÏ³ÛÇÝ, ³å³Ñáí³·ñ³Ï³Ý, Ýáï³ñ³Ï³Ý ·³ÕïÝÇù Ï³½ÙáÕ ï»Õ»ÏáõÃÛáõÝÝ»ñÇ ëï³óÙ³Ý Ñ³Ù³ñ Ëáõ½³ñÏáõÃÛ³Ý Ï³Ù ³é·ñ³íÙ³Ý Ï³ï³ñÙ³Ý Ù³ëÇÝ ÙÇçÝáñ¹áõÃÛáõÝÝ»ñ | T12: =D12+E12 -> 0 | U12: =F12+K12+L12 -> 0 | V12: =K12 -> 0 | W12: =G12+H12+I12+J12 -> 0
A13: 7 | B13: Ý³Ù³Ï³·ñáõÃÛ³Ý, Ñ»é³·ñ³Ï³Ý, ÷áuï³ÛÇÝ Ñ³Õáñ¹áõÙÝ»ñÇ ÑëÏáÕáõÃÛ³Ý Ù³ëÇÝ ÙÇçÝáñ¹áõÃÛáõÝÝ»ñ | D13: 0 | E13: 1 | F13: 0 | G13: 0 | H13: 1 | I13: 0 | J13: 0 | K13: 1 | L13: 0 | M13: 0 | N13: 0 | O13: 0 | P13: 0 | Q13: 0 | T13: =D13+E13 -> 1 | U13: =F13+K13+L13 -> 1 | V13: =K13 -> 1 | W13: =G13+H13+I13+J13 -> 1
A14: 8 | B14: Ñ»é³Ëáu³ÛÇÝ Ï³Ù Ï³åÇ ³ÛÉ ÙÇçáóÝ»ñáí ï³ñíáÕ Ëáu³ÏóáõÃÛáõÝÝ»ñÇ ÉuÙ³Ý ¨ Ó³ÛÝ³·ñ³éÙ³Ý Ù³ëÇÝ ÙÇçÝáñ¹áõÃÛáõÝÝ»ñ | T14: =D14+E14 -> 0 | U14: =F14+K14+L14 -> 0 | V14: =K14 -> 0 | W14: =G14+H14+I14+J14 -> 0
A15: 9 | B15: Ñ»é³ËáëÝ»ñÇ Ùáõïù³ÛÇÝ ¨ »Éù³ÛÇÝ í»ñÍ³ÝÙ³Ý ÃáõÛÉïíáõÃÛáõÝ ëï³Ý³Éáõ Ù³ëÇÝ ÙÇçÝáñ¹áõÃÛáõÝÝ»ñ | D15: 0 | E15: 5 | F15: 0 | G15: 0 | H15: 5 | I15: 0 | J15: 0 | K15: 5 | L15: 0 | M15: 0 | N15: 0 | O15: 0 | P15: 0 | Q15: 0 | T15: =D15+E15 -> 5 | U15: =F15+K15+L15 -> 5 | V15: =K15 -> 5 | W15: =G15+H15+I15+J15 -> 5
A16: 10 | B16: Ñ»ï³ùÝÝáõÃÛ³Ý Ù³ñÙÝÇ ³ßË³ïáÕÇ, ùÝÝÇãÇ, ¹³ï³Ë³½Ç oå»ñ³ïÇí-Ñ»ï³Ëáõ½³Ï³Ý ·áñÍáÕáõÃÛáõÝÝ»ñ Çñ³Ï³Ý³óÝáÕ Ù³ñÙÇÝÝ»ñÇ ³ÝoñÇÝ³Ï³Ý ¨ ³ÝÑÇÙÝ áñáßáõÙÝ»ñÇ ¨ ·áñÍáÕáõÃÛáõÝÝ»ñÇ ¹»Ù µáÕáùÝ»ñ | T16: =D16+E16 -> 0 | U16: =F16+K16+L16 -> 0 | V16: =K16 -> 0 | W16: =G16+H16+I16+J16 -> 0
A17: 2. ¸³ï³Ï³Ý ³Ïï»ñÇ ¨ ¹³ï³Ï³Ý Ñ³ÝÓÝ³ñ³ñáõÃÛáõÝÝ»ñÇ Ï³ï³ñÙ³Ý Ñ»ï Ï³åí³Í Ñ³ñó»ñÇ ÉáõÍÙ³Ý áÉáñï
A18: 1 | B18: å³ïÅÇó å³ÛÙ³Ý³Ï³Ý í³Õ³Å³ÙÏ»ï ³½³ï»Éáõ Ù³ëÇÝ ÙÇçÝáñ¹áõÃÛáõÝÝ»ñ | T18: =D18+E18 -> 0 | U18: =F18+K18+L18 -> 0 | V18: =K18 -> 0 | W18: =G18+H18+I18+J18 -> 0
A19: 2 | B19: å³ïÇÅÁ ÷á÷áË»Éáõ, Ñ»ï³Ó·»Éáõ ¨ å³ïÅÇó ³½³ï»Éáõ Ù³uÇÝ ÙÇçÝáñ¹áõÃÛáõÝÝ»ñ | T19: =D19+E19 -> 0 | U19: =F19+K19+L19 -> 0 | V19: =K19 -> 0 | W19: =G19+H19+I19+J19 -> 0
A20: 3 | B20: Ñ³ñÏ³¹Çñ µáõÅÙ³Ý ï»ë³ÏÇ ÷á÷áËáõÃÛ³Ý Ù³ëÇÝ ÙÇçÝáñ¹áõÃÛáõÝÝ»ñ | T20: =D20+E20 -> 0 | U20: =F20+K20+L20 -> 0 | V20: =K20 -> 0 | W20: =G20+H20+I20+J20 -> 0
A21: 4 | B21: ³ÛÉ ÙÇçÝáñ¹áõÃÛáõÝÝ»ñ | D21: 0 | E21: 1 | F21: 0 | G21: 0 | H21: 1 | I21: 0 | J21: 0 | K21: 1 | L21: 0 | M21: 0 | N21: 0 | O21: 0 | P21: 0 | Q21: 0 | T21: =D21+E21 -> 1 | U21: =F21+K21+L21 -> 1 | V21: =K21 -> 1 | W21: =G21+H21+I21+J21 -> 1
A22: 5 | B22: ¹³ï³Ï³Ý Ñ³ÝÓÝ³ñ³ñáõÃÛáõÝÝ»ñ | D22: 0 | E22: 1 | F22: 0 | G22: 0 | H22: 1 | I22: 0 | J22: 0 | K22: 1 | L22: 0 | M22: 0 | N22: 0 | O22: 0 | P22: 0 | Q22: 0 | T22: =D22+E22 -> 1 | U22: =F22+K22+L22 -> 1 | V22: =K22 -> 1 | W22: =G22+H22+I22+J22 -> 1
A23: ÀÜ¸²ØºÜÀ | D23: =D7+D8+D9+D10+D11+D12+D13+D14+D15+D16+D18+D19+D20+D21+D22 -> 0 | E23: =E7+E8+E9+E10+E11+E12+E13+E14+E15+E16+E18+E19+E20+E21+E22 -> 27 | F23: =F7+F8+F9+F10+F11+F12+F13+F14+F15+F16+F18+F19+F20+F21+F22 -> 0 | G23: =G7+G8+G9+G10+G11+G12+G13+G14+G15+G16+G18+G19+G20+G21+G22 -> 4 | H23: =H7+H8+H9+H10+H11+H12+H13+H14+H15+H16+H18+H19+H20+H21+H22 -> 23 | I23: =I7+I8+I9+I10+I11+I12+I13+I14+I15+I16+I18+I19+I20+I21+I22 -> 0 | J23: =J7+J8+J9+J10+J11+J12+J13+J14+J15+J16+J18+J19+J20+J21+J22 -> 0 | K23: =K7+K8+K9+K10+K11+K12+K13+K14+K15+K16+K18+K19+K20+K21+K22 -> 27 | ... R23: =R7+R8+R9+R10+R11+R12+R13+R14+R15+R16+R18+R19+R20+R21+R22 -> 0 | T23: =D23+E23 -> 27 | U23: =F23+K23+L23 -> 27 | V23: =K23 -> 27 | W23: =G23+H23+I23+J23 -> 27

Sheet Ս. Գրիգորյան
A1: 2015Ã. | D1: Ð²ÞìºîìàôÂÚàôÜ | P1: Ð³í»Éí³Í Ð³Û³ëï³ÝÇ Ð³Ýñ³å»ïáõÃÛ³Ý ¸³ï³ñ³ÝÝ»ñÇ Ý³Ë³·³ÑÝ»ñÇ ËáñÑñ¹Ç 01.02.2016Ã. ÃÇí 11È áñáßÙ³Ý
A2: ØÇÝã¹³ï³Ï³Ý í³ñáõÛÃÇ ÝÏ³ïÙ³Ùµ ¹³ï³Ï³Ý í»ñ³ÑëÏáÕáõÃÛ³ÝÁ, ¹³ï³Ï³Ý ³Ïï»ñÇ ¨ ¹³ï³Ï³Ý Ñ³ÝÓÝ³ñ³ñáõÃÛáõÝÝ»ñÇ Ï³ï³ñÙ³Ý Ñ»ï Ï³åí³Í ÙÇçÝáñ¹áõÃÛáõÝÝ»ñÇ í»ñ³µ»ñÛ³É ¹³ï³Ï³Ý ·áñÍ»ñáí ÐÐ êÛáõÝÇùÇ Ù³ñ½Ç ÁÝ¹Ñ³Ýáõñ Çñ³í³ëáõÃÛ³Ý ³é³çÇÝ ³ïÛ³ÝÇ ¹³ï³ñ³ÝÇ ¹³ï³íáñ Ս.Գրիգորյան ·áñÍáõÝ»áõÃÛ³Ý í»ñ³µ»ñÛ³É
A3: êïáõ·Çã Ñ³í³ë³ñáõÙ` 1+2=3+8+9, 8=4+5+6+7, | D3: Ð³ßí»ïáõ Å³Ù³Ý³Ï³Ñ³ïí³ÍÇ ëÏ½µáõÙ Ý³Ëáñ¹ Ñ³ßí»ïáõ Å³Ù³Ý³Ï³Ñ³ïí³ÍÇó ÷áË³Ýóí³Í ·áñÍ»ñÇ ÁÝ¹Ñ³Ýáõñ ÃÇíÁ | E3: Ð³ßí»ïáõ Å³Ù³Ý³Ï³Ñ³ïí³ÍáõÙ ëï³óí³Í ·áñÍ»ñÇ ÁÝ¹Ñ³Ýáõñ ÃÇíÁ | F3: öáË³Ýóí»É ¿ ³ÛÉ ¹³ï³íáñÇ Ï³Ù ³ÛÉ ¹³ï³ñ³Ý (Ï³½ÙÇ ÷á÷áËáõÃÛáõÝ, ÁÝ¹¹³ïáõÃÛáõÝ) | G3: Ð³ßí»ïáõ Å³Ù³Ý³Ï³Ñ³ïí³ÍáõÙ ³í³ñïí³Í ·áñÍ»ñÇ ÁÝ¹Ñ³Ýáõñ ÃÇíÁ | L3: Ð³ßí»ïáõ Å³Ù³Ý³Ï³Ñ³ïí³ÍáõÙ ³Ý³í³ñï ·áñÍ»ñÇ ÁÝ¹Ñ³Ýáõñ ÃÇíÁ | M3: ØÇçÝáñ¹áõÃÛáõÝÝ»ñáí Ï³Û³óí³Í ¹³ï³Ï³Ý ³Ïï»ñÇó µáÕáù³ñÏí³ÍÝ»ñÇ ù³Ý³ÏÁ | O3: ²Ý³í³ñï µáÕáùÝ»ñ | P3: ØÇçÝáñ¹áõÃÛáõÝÝ»ñáí Ï³Û³óí³Í ¨ µáÕáù³ñÏí³Í ¹³ï³Ï³Ý ³Ïï»ñÇó µ»Ï³Ýí³ÍÝ»ñÇ ù³Ý³ÏÁ | R3: ÙÇçÝáñ¹áõÃÛáõÝÝ»ñáí Ï³Û³óí³Í ¨ µáÕáù³ñÏí³Í ¹³ï³Ï³Ý ³Ïï»ñÇó ³Ý÷á÷áË ÃáÕÝí³ÍÝ»ñÇ ù³Ý³ÏÁ
G4: Ù»ñÅí»É ¿ | H4: µ³í³ñ³ñí»É ¿ | I4: µ³í³ñ³ñí»É ¿ Ù³ëÝ³ÏÇ | J4: ÃáÕÝí»É ¿ ³é³Ýó ùÝÝáõÃÛ³Ý | K4: ÀÝ¹³Ù»ÝÁ
M5: Ý³Ëáñ¹ ï³ñÇÝ»ñÇÝ Ï³Û³óí³Í ³Ïï»ñÇ ¹»Ù | N5: Ñ³ßí»ïáõ Å³Ù³Ý³Ï³ßñç³ÝáõÙ Ï³Û³óí³Í ³Ïï»ñÇ ¹»Ù | P5: Ý³Ëáñ¹ ï³ñÇÝ»ñÇÝ Ï³Û³óí³Í ³Ïï»ñÇ µ»Ï³ÝáõÙÝ»ñÁ | Q5: Ñ³ßí»ïáõ Å³Ù³Ý³Ï³ßñç³ÝáõÙ Ï³Û³óí³Í ³Ïï»ñÇ µ»Ï³ÝáõÙÝ»ñÁ
A6: 1. ØÇÝã¹³ï³Ï³Ý í³ñáõÛÃÇ ÝÏ³ïÙ³Ùµ ¹³ï³Ï³Ý í»ñ³ÑëÏáÕáõÃÛ³Ý áÉáñï | D6: 1 | E6: 2 | F6: 3 | G6: 4 | H6: 5 | I6: 6 | J6: 7 | K6: 8 | L6: 9 | M6: 10 | N6: 11 | O6: 12 | P6: 13 | Q6: 14 | R6: 15 | T6: 1+2=3+8+9 | V6: 8=4+5+6+7
A7: 1 | B7: Ï³É³ÝùÁ áñå»ë Ë³÷³ÝÙ³Ý ÙÇçáó ÏÇñ³é»Éáõ Ù³ëÇÝ ÙÇçÝáñ¹áõÃÛáõÝÝ»ñ | D7: 0 | E7: 2 | F7: 0 | G7: 2 | H7: 0 | I7: 0 | J7: 0 | K7: 2 | L7: 0 | M7: 0 | N7: 0 | O7: 0 | P7: 0 | Q7: 0 | T7: =D7+E7 -> 2 | U7: =F7+K7+L7 -> 2 | V7: =K7 -> 2 | W7: =G7+H7+I7+J7 -> 2
A8: 2 | B8: Ï³É³ÝùÇ Å³ÙÏ»ïÁ »ñÏ³ñ³óÝ»Éáõ Ù³ëÇÝ ÙÇçÝáñ¹áõÃÛáõÝÝ»ñ | T8: =D8+E8 -> 0 | U8: =F8+K8+L8 -> 0 | V8: =K8 -> 0 | W8: =G8+H8+I8+J8 -> 0
A9: 3 | B9: Ï³É³ÝùÇ í»ñ³Ñ³ëï³ïÙ³Ý Ù³ëÇÝ ÙÇçÝáñ¹áõÃÛáõÝÝ»ñ | T9: =D9+E9 -> 0 | U9: =F9+K9+L9 -> 0 | V9: =K9 -> 0 | W9: =G9+H9+I9+J9 -> 0
A10: 4 | B10: ·ñ³íÁ áñå»ë Ï³É³Ý³íáñÙ³Ý ³ÛÉÁÝïñ³Ýù³ÛÇÝ Ë³÷³ÝÙ³Ý ÙÇçáó ÏÇñ³é»Éáõ Ù³ëÇÝ ÙÇçÝáñ¹áõÃÛáõÝÝ»ñ | T10: =D10+E10 -> 0 | U10: =F10+K10+L10 -> 0 | V10: =K10 -> 0 | W10: =G10+H10+I10+J10 -> 0
A11: 5 | B11: Ëáõ½³ñÏáõÃÛ³Ý Ï³ï³ñÙ³Ý Ù³ëÇÝ ÙÇçÝáñ¹áõÃÛáõÝÝ»ñ | T11: =D11+E11 -> 0 | U11: =F11+K11+L11 -> 0 | V11: =K11 -> 0 | W11: =G11+H11+I11+J11 -> 0
A12: 6 | B12: µ³ÝÏ³ÛÇÝ, ³å³Ñáí³·ñ³Ï³Ý, Ýáï³ñ³Ï³Ý ·³ÕïÝÇù Ï³½ÙáÕ ï»Õ»ÏáõÃÛáõÝÝ»ñÇ ëï³óÙ³Ý Ñ³Ù³ñ Ëáõ½³ñÏáõÃÛ³Ý Ï³Ù ³é·ñ³íÙ³Ý Ï³ï³ñÙ³Ý Ù³ëÇÝ ÙÇçÝáñ¹áõÃÛáõÝÝ»ñ | T12: =D12+E12 -> 0 | U12: =F12+K12+L12 -> 0 | V12: =K12 -> 0 | W12: =G12+H12+I12+J12 -> 0
A13: 7 | B13: Ý³Ù³Ï³·ñáõÃÛ³Ý, Ñ»é³·ñ³Ï³Ý, ÷áuï³ÛÇÝ Ñ³Õáñ¹áõÙÝ»ñÇ ÑëÏáÕáõÃÛ³Ý Ù³ëÇÝ ÙÇçÝáñ¹áõÃÛáõÝÝ»ñ | T13: =D13+E13 -> 0 | U13: =F13+K13+L13 -> 0 | V13: =K13 -> 0 | W13: =G13+H13+I13+J13 -> 0
A14: 8 | B14: Ñ»é³Ëáu³ÛÇÝ Ï³Ù Ï³åÇ ³ÛÉ ÙÇçáóÝ»ñáí ï³ñíáÕ Ëáu³ÏóáõÃÛáõÝÝ»ñÇ ÉuÙ³Ý ¨ Ó³ÛÝ³·ñ³éÙ³Ý Ù³ëÇÝ ÙÇçÝáñ¹áõÃÛáõÝÝ»ñ | T14: =D14+E14 -> 0 | U14: =F14+K14+L14 -> 0 | V14: =K14 -> 0 | W14: =G14+H14+I14+J14 -> 0
A15: 9 | B15: Ñ»é³ËáëÝ»ñÇ Ùáõïù³ÛÇÝ ¨ »Éù³ÛÇÝ í»ñÍ³ÝÙ³Ý ÃáõÛÉïíáõÃÛáõÝ ëï³Ý³Éáõ Ù³ëÇÝ ÙÇçÝáñ¹áõÃÛáõÝÝ»ñ | D15: 0 | E15: 1 | F15: 0 | G15: 1 | H15: 0 | I15: 0 | J15: 0 | K15: 1 | L15: 0 | M15: 0 | N15: 1 | O15: 0 | P15: 0 | Q15: 1 | T15: =D15+E15 -> 1 | U15: =F15+K15+L15 -> 1 | V15: =K15 -> 1 | W15: =G15+H15+I15+J15 -> 1
A16: 10 | B16: Ñ»ï³ùÝÝáõÃÛ³Ý Ù³ñÙÝÇ ³ßË³ïáÕÇ, ùÝÝÇãÇ, ¹³ï³Ë³½Ç oå»ñ³ïÇí-Ñ»ï³Ëáõ½³Ï³Ý ·áñÍáÕáõÃÛáõÝÝ»ñ Çñ³Ï³Ý³óÝáÕ Ù³ñÙÇÝÝ»ñÇ ³ÝoñÇÝ³Ï³Ý ¨ ³ÝÑÇÙÝ áñáßáõÙÝ»ñÇ ¨ ·áñÍáÕáõÃÛáõÝÝ»ñÇ ¹»Ù µáÕáùÝ»ñ | T16: =D16+E16 -> 0 | U16: =F16+K16+L16 -> 0 | V16: =K16 -> 0 | W16: =G16+H16+I16+J16 -> 0
A17: 2. ¸³ï³Ï³Ý ³Ïï»ñÇ ¨ ¹³ï³Ï³Ý Ñ³ÝÓÝ³ñ³ñáõÃÛáõÝÝ»ñÇ Ï³ï³ñÙ³Ý Ñ»ï Ï³åí³Í Ñ³ñó»ñÇ ÉáõÍÙ³Ý áÉáñï
A18: 1 | B18: å³ïÅÇó å³ÛÙ³Ý³Ï³Ý í³Õ³Å³ÙÏ»ï ³½³ï»Éáõ Ù³ëÇÝ ÙÇçÝáñ¹áõÃÛáõÝÝ»ñ | T18: =D18+E18 -> 0 | U18: =F18+K18+L18 -> 0 | V18: =K18 -> 0 | W18: =G18+H18+I18+J18 -> 0
A19: 2 | B19: å³ïÇÅÁ ÷á÷áË»Éáõ, Ñ»ï³Ó·»Éáõ ¨ å³ïÅÇó ³½³ï»Éáõ Ù³uÇÝ ÙÇçÝáñ¹áõÃÛáõÝÝ»ñ | T19: =D19+E19 -> 0 | U19: =F19+K19+L19 -> 0 | V19: =K19 -> 0 | W19: =G19+H19+I19+J19 -> 0
A20: 3 | B20: Ñ³ñÏ³¹Çñ µáõÅÙ³Ý ï»ë³ÏÇ ÷á÷áËáõÃÛ³Ý Ù³ëÇÝ ÙÇçÝáñ¹áõÃÛáõÝÝ»ñ | T20: =D20+E20 -> 0 | U20: =F20+K20+L20 -> 0 | V20: =K20 -> 0 | W20: =G20+H20+I20+J20 -> 0
A21: 4 | B21: ³ÛÉ ÙÇçÝáñ¹áõÃÛáõÝÝ»ñ | T21: =D21+E21 -> 0 | U21: =F21+K21+L21 -> 0 | V21: =K21 -> 0 | W21: =G21+H21+I21+J21 -> 0
A22: 5 | B22: ¹³ï³Ï³Ý Ñ³ÝÓÝ³ñ³ñáõÃÛáõÝÝ»ñ | T22: =D22+E22 -> 0 | U22: =F22+K22+L22 -> 0 | V22: =K22 -> 0 | W22: =G22+H22+I22+J22 -> 0
A23: ÀÜ¸²ØºÜÀ | D23: =D7+D8+D9+D10+D11+D12+D13+D14+D15+D16+D18+D19+D20+D21+D22 -> 0 | E23: =E7+E8+E9+E10+E11+E12+E13+E14+E15+E16+E18+E19+E20+E21+E22 -> 3 | F23: =F7+F8+F9+F10+F11+F12+F13+F14+F15+F16+F18+F19+F20+F21+F22 -> 0 | G23: =G7+G8+G9+G10+G11+G12+G13+G14+G15+G16+G18+G19+G20+G21+G22 -> 3 | H23: =H7+H8+H9+H10+H11+H12+H13+H14+H15+H16+H18+H19+H20+H21+H22 -> 0 | I23: =I7+I8+I9+I10+I11+I12+I13+I14+I15+I16+I18+I19+I20+I21+I22 -> 0 | J23: =J7+J8+J9+J10+J11+J12+J13+J14+J15+J16+J18+J19+J20+J21+J22 -> 0 | K23: =K7+K8+K9+K10+K11+K12+K13+K14+K15+K16+K18+K19+K20+K21+K22 -> 3 | ... R23: =R7+R8+R9+R10+R11+R12+R13+R14+R15+R16+R18+R19+R20+R21+R22 -> 0 | T23: =D23+E23 -> 3 | U23: =F23+K23+L23 -> 3 | V23: =K23 -> 3 | W23: =G23+H23+I23+J23 -> 3

Sheet Ա. Մնացականյան
A1: 2015Ã. | D1: Ð²ÞìºîìàôÂÚàôÜ | P1: Ð³í»Éí³Í Ð³Û³ëï³ÝÇ Ð³Ýñ³å»ïáõÃÛ³Ý ¸³ï³ñ³ÝÝ»ñÇ Ý³Ë³·³ÑÝ»ñÇ ËáñÑñ¹Ç 01.02.2016Ã. ÃÇí 11È áñáßÙ³Ý
A2: ØÇÝã¹³ï³Ï³Ý í³ñáõÛÃÇ ÝÏ³ïÙ³Ùµ ¹³ï³Ï³Ý í»ñ³ÑëÏáÕáõÃÛ³ÝÁ, ¹³ï³Ï³Ý ³Ïï»ñÇ ¨ ¹³ï³Ï³Ý Ñ³ÝÓÝ³ñ³ñáõÃÛáõÝÝ»ñÇ Ï³ï³ñÙ³Ý Ñ»ï Ï³åí³Í ÙÇçÝáñ¹áõÃÛáõÝÝ»ñÇ í»ñ³µ»ñÛ³É ¹³ï³Ï³Ý ·áñÍ»ñáí ÐÐ êÛáõÝÇùÇ Ù³ñ½Ç ÁÝ¹Ñ³Ýáõñ Çñ³í³ëáõÃÛ³Ý ³é³çÇÝ ³ïÛ³ÝÇ ¹³ï³ñ³ÝÇ ¹³ï³íáñԱ.Մնացականյան ·áñÍáõÝ»áõÃÛ³Ý í»ñ³µ»ñÛ³É
A3: êïáõ·Çã Ñ³í³ë³ñáõÙ` 1+2=3+8+9, 8=4+5+6+7, | D3: Ð³ßí»ïáõ Å³Ù³Ý³Ï³Ñ³ïí³ÍÇ ëÏ½µáõÙ Ý³Ëáñ¹ Ñ³ßí»ïáõ Å³Ù³Ý³Ï³Ñ³ïí³ÍÇó ÷áË³Ýóí³Í ·áñÍ»ñÇ ÁÝ¹Ñ³Ýáõñ ÃÇíÁ | E3: Ð³ßí»ïáõ Å³Ù³Ý³Ï³Ñ³ïí³ÍáõÙ ëï³óí³Í ·áñÍ»ñÇ ÁÝ¹Ñ³Ýáõñ ÃÇíÁ | F3: öáË³Ýóí»É ¿ ³ÛÉ ¹³ï³íáñÇ Ï³Ù ³ÛÉ ¹³ï³ñ³Ý (Ï³½ÙÇ ÷á÷áËáõÃÛáõÝ, ÁÝ¹¹³ïáõÃÛáõÝ) | G3: Ð³ßí»ïáõ Å³Ù³Ý³Ï³Ñ³ïí³ÍáõÙ ³í³ñïí³Í ·áñÍ»ñÇ ÁÝ¹Ñ³Ýáõñ ÃÇíÁ | L3: Ð³ßí»ïáõ Å³Ù³Ý³Ï³Ñ³ïí³ÍáõÙ ³Ý³í³ñï ·áñÍ»ñÇ ÁÝ¹Ñ³Ýáõñ ÃÇíÁ | M3: ØÇçÝáñ¹áõÃÛáõÝÝ»ñáí Ï³Û³óí³Í ¹³ï³Ï³Ý ³Ïï»ñÇó µáÕáù³ñÏí³ÍÝ»ñÇ ù³Ý³ÏÁ | O3: ²Ý³í³ñï µáÕáùÝ»ñ | P3: ØÇçÝáñ¹áõÃÛáõÝÝ»ñáí Ï³Û³óí³Í ¨ µáÕáù³ñÏí³Í ¹³ï³Ï³Ý ³Ïï»ñÇó µ»Ï³Ýí³ÍÝ»ñÇ ù³Ý³ÏÁ | R3: ÙÇçÝáñ¹áõÃÛáõÝÝ»ñáí Ï³Û³óí³Í ¨ µáÕáù³ñÏí³Í ¹³ï³Ï³Ý ³Ïï»ñÇó ³Ý÷á÷áË ÃáÕÝí³ÍÝ»ñÇ ù³Ý³ÏÁ
G4: Ù»ñÅí»É ¿ | H4: µ³í³ñ³ñí»É ¿ | I4: µ³í³ñ³ñí»É ¿ Ù³ëÝ³ÏÇ | J4: ÃáÕÝí»É ¿ ³é³Ýó ùÝÝáõÃÛ³Ý | K4: ÀÝ¹³Ù»ÝÁ
M5: Ý³Ëáñ¹ ï³ñÇÝ»ñÇÝ Ï³Û³óí³Í ³Ïï»ñÇ ¹»Ù | N5: Ñ³ßí»ïáõ Å³Ù³Ý³Ï³ßñç³ÝáõÙ Ï³Û³óí³Í ³Ïï»ñÇ ¹»Ù | P5: Ý³Ëáñ¹ ï³ñÇÝ»ñÇÝ Ï³Û³óí³Í ³Ïï»ñÇ µ»Ï³ÝáõÙÝ»ñÁ | Q5: Ñ³ßí»ïáõ Å³Ù³Ý³Ï³ßñç³ÝáõÙ Ï³Û³óí³Í ³Ïï»ñÇ µ»Ï³ÝáõÙÝ»ñÁ
A6: 1. ØÇÝã¹³ï³Ï³Ý í³ñáõÛÃÇ ÝÏ³ïÙ³Ùµ ¹³ï³Ï³Ý í»ñ³ÑëÏáÕáõÃÛ³Ý áÉáñï | D6: 1 | E6: 2 | F6: 3 | G6: 4 | H6: 5 | I6: 6 | J6: 7 | K6: 8 | L6: 9 | M6: 10 | N6: 11 | O6: 12 | P6: 13 | Q6: 14 | R6: 15 | T6: 1+2=3+8+9 | V6: 8=4+5+6+7
A7: 1 | B7: Ï³É³ÝùÁ áñå»ë Ë³÷³ÝÙ³Ý ÙÇçáó ÏÇñ³é»Éáõ Ù³ëÇÝ ÙÇçÝáñ¹áõÃÛáõÝÝ»ñ | D7: 0 | E7: 48 | F7: 0 | G7: 9 | H7: 39 | I7: 0 | J7: 0 | K7: 48 | L7: 0 | M7: 1 | N7: 9 | O7: 0 | P7: 0 | Q7: 0 | T7: =D7+E7 -> 48 | U7: =F7+K7+L7 -> 48 | V7: =K7 -> 48 | W7: =G7+H7+I7+J7 -> 48
A8: 2 | B8: Ï³É³ÝùÇ Å³ÙÏ»ïÁ »ñÏ³ñ³óÝ»Éáõ Ù³ëÇÝ ÙÇçÝáñ¹áõÃÛáõÝÝ»ñ | D8: 0 | E8: 37 | F8: 0 | G8: 0 | H8: 37 | I8: 0 | J8: 0 | K8: 37 | L8: 0 | M8: 0 | N8: 6 | O8: 0 | P8: 0 | Q8: 1 | T8: =D8+E8 -> 37 | U8: =F8+K8+L8 -> 37 | V8: =K8 -> 37 | W8: =G8+H8+I8+J8 -> 37
A9: 3 | B9: Ï³É³ÝùÇ í»ñ³Ñ³ëï³ïÙ³Ý Ù³ëÇÝ ÙÇçÝáñ¹áõÃÛáõÝÝ»ñ | D9: 0 | E9: 5 | F9: 0 | G9: 1 | H9: 4 | I9: 0 | J9: 0 | K9: 5 | L9: 0 | M9: 0 | N9: 0 | O9: 0 | P9: 0 | Q9: 0 | T9: =D9+E9 -> 5 | U9: =F9+K9+L9 -> 5 | V9: =K9 -> 5 | W9: =G9+H9+I9+J9 -> 5
A10: 4 | B10: ·ñ³íÁ áñå»ë Ï³É³Ý³íáñÙ³Ý ³ÛÉÁÝïñ³Ýù³ÛÇÝ Ë³÷³ÝÙ³Ý ÙÇçáó ÏÇñ³é»Éáõ Ù³ëÇÝ ÙÇçÝáñ¹áõÃÛáõÝÝ»ñ | D10: 0 | E10: 29 | F10: 0 | G10: 26 | H10: 3 | I10: 0 | J10: 0 | K10: 29 | L10: 0 | M10: 0 | N10: 1 | O10: 1 | P10: 0 | Q10: 0 | T10: =D10+E10 -> 29 | U10: =F10+K10+L10 -> 29 | V10: =K10 -> 29 | W10: =G10+H10+I10+J10 -> 29
A11: 5 | B11: Ëáõ½³ñÏáõÃÛ³Ý Ï³ï³ñÙ³Ý Ù³ëÇÝ ÙÇçÝáñ¹áõÃÛáõÝÝ»ñ | D11: 0 | E11: 5 | F11: 0 | G11: 0 | H11: 5 | I11: 0 | J11: 0 | K11: 5 | L11: 0 | M11: 0 | N11: 0 | O11: 0 | P11: 0 | Q11: 0 | T11: =D11+E11 -> 5 | U11: =F11+K11+L11 -> 5 | V11: =K11 -> 5 | W11: =G11+H11+I11+J11 -> 5
A12: 6 | B12: µ³ÝÏ³ÛÇÝ, ³å³Ñáí³·ñ³Ï³Ý, Ýáï³ñ³Ï³Ý ·³ÕïÝÇù Ï³½ÙáÕ ï»Õ»ÏáõÃÛáõÝÝ»ñÇ ëï³óÙ³Ý Ñ³Ù³ñ Ëáõ½³ñÏáõÃÛ³Ý Ï³Ù ³é·ñ³íÙ³Ý Ï³ï³ñÙ³Ý Ù³ëÇÝ ÙÇçÝáñ¹áõÃÛáõÝÝ»ñ | T12: =D12+E12 -> 0 | U12: =F12+K12+L12 -> 0 | V12: =K12 -> 0 | W12: =G12+H12+I12+J12 -> 0
A13: 7 | B13: Ý³Ù³Ï³·ñáõÃÛ³Ý, Ñ»é³·ñ³Ï³Ý, ÷áuï³ÛÇÝ Ñ³Õáñ¹áõÙÝ»ñÇ ÑëÏáÕáõÃÛ³Ý Ù³ëÇÝ ÙÇçÝáñ¹áõÃÛáõÝÝ»ñ | T13: =D13+E13 -> 0 | U13: =F13+K13+L13 -> 0 | V13: =K13 -> 0 | W13: =G13+H13+I13+J13 -> 0
A14: 8 | B14: Ñ»é³Ëáu³ÛÇÝ Ï³Ù Ï³åÇ ³ÛÉ ÙÇçáóÝ»ñáí ï³ñíáÕ Ëáu³ÏóáõÃÛáõÝÝ»ñÇ ÉuÙ³Ý ¨ Ó³ÛÝ³·ñ³éÙ³Ý Ù³ëÇÝ ÙÇçÝáñ¹áõÃÛáõÝÝ»ñ | D14: 0 | E14: 1 | F14: 0 | G14: 0 | H14: 1 | I14: 0 | J14: 0 | K14: 1 | L14: 0 | M14: 0 | N14: 0 | O14: 0 | P14: 0 | Q14: 0 | T14: =D14+E14 -> 1 | U14: =F14+K14+L14 -> 1 | V14: =K14 -> 1 | W14: =G14+H14+I14+J14 -> 1
A15: 9 | B15: Ñ»é³ËáëÝ»ñÇ Ùáõïù³ÛÇÝ ¨ »Éù³ÛÇÝ í»ñÍ³ÝÙ³Ý ÃáõÛÉïíáõÃÛáõÝ ëï³Ý³Éáõ Ù³ëÇÝ ÙÇçÝáñ¹áõÃÛáõÝÝ»ñ | D15: 0 | E15: 18 | F15: 0 | G15: 1 | H15: 17 | I15: 0 | J15: 0 | K15: 18 | L15: 0 | M15: 0 | N15: 0 | O15: 0 | P15: 0 | Q15: 0 | T15: =D15+E15 -> 18 | U15: =F15+K15+L15 -> 18 | V15: =K15 -> 18 | W15: =G15+H15+I15+J15 -> 18
A16: 10 | B16: Ñ»ï³ùÝÝáõÃÛ³Ý Ù³ñÙÝÇ ³ßË³ïáÕÇ, ùÝÝÇãÇ, ¹³ï³Ë³½Ç oå»ñ³ïÇí-Ñ»ï³Ëáõ½³Ï³Ý ·áñÍáÕáõÃÛáõÝÝ»ñ Çñ³Ï³Ý³óÝáÕ Ù³ñÙÇÝÝ»ñÇ ³ÝoñÇÝ³Ï³Ý ¨ ³ÝÑÇÙÝ áñáßáõÙÝ»ñÇ ¨ ·áñÍáÕáõÃÛáõÝÝ»ñÇ ¹»Ù µáÕáùÝ»ñ | D16: 0 | E16: 4 | F16: 0 | G16: 3 | H16: 0 | I16: 1 | J16: 0 | K16: 4 | L16: 0 | M16: 0 | N16: 1 | O16: 0 | P16: 0 | Q16: 0 | T16: =D16+E16 -> 4 | U16: =F16+K16+L16 -> 4 | V16: =K16 -> 4 | W16: =G16+H16+I16+J16 -> 4
A17: 2. ¸³ï³Ï³Ý ³Ïï»ñÇ ¨ ¹³ï³Ï³Ý Ñ³ÝÓÝ³ñ³ñáõÃÛáõÝÝ»ñÇ Ï³ï³ñÙ³Ý Ñ»ï Ï³åí³Í Ñ³ñó»ñÇ ÉáõÍÙ³Ý áÉáñï
A18: 1 | B18: å³ïÅÇó å³ÛÙ³Ý³Ï³Ý í³Õ³Å³ÙÏ»ï ³½³ï»Éáõ Ù³ëÇÝ ÙÇçÝáñ¹áõÃÛáõÝÝ»ñ | D18: 0 | E18: 1 | F18: 0 | G18: 1 | H18: 0 | I18: 0 | J18: 0 | K18: 1 | L18: 0 | M18: 0 | N18: 0 | O18: 0 | P18: 0 | Q18: 0 | T18: =D18+E18 -> 1 | U18: =F18+K18+L18 -> 1 | V18: =K18 -> 1 | W18: =G18+H18+I18+J18 -> 1
A19: 2 | B19: å³ïÇÅÁ ÷á÷áË»Éáõ, Ñ»ï³Ó·»Éáõ ¨ å³ïÅÇó ³½³ï»Éáõ Ù³uÇÝ ÙÇçÝáñ¹áõÃÛáõÝÝ»ñ | D19: 0 | E19: 3 | F19: 0 | G19: 0 | H19: 3 | I19: 0 | J19: 0 | K19: 3 | L19: 0 | M19: 0 | N19: 0 | O19: 0 | P19: 0 | Q19: 0 | T19: =D19+E19 -> 3 | U19: =F19+K19+L19 -> 3 | V19: =K19 -> 3 | W19: =G19+H19+I19+J19 -> 3
A20: 3 | B20: Ñ³ñÏ³¹Çñ µáõÅÙ³Ý ï»ë³ÏÇ ÷á÷áËáõÃÛ³Ý Ù³ëÇÝ ÙÇçÝáñ¹áõÃÛáõÝÝ»ñ | T20: =D20+E20 -> 0 | U20: =F20+K20+L20 -> 0 | V20: =K20 -> 0 | W20: =G20+H20+I20+J20 -> 0
A21: 4 | B21: ³ÛÉ ÙÇçÝáñ¹áõÃÛáõÝÝ»ñ | T21: =D21+E21 -> 0 | U21: =F21+K21+L21 -> 0 | V21: =K21 -> 0 | W21: =G21+H21+I21+J21 -> 0
A22: 5 | B22: ¹³ï³Ï³Ý Ñ³ÝÓÝ³ñ³ñáõÃÛáõÝÝ»ñ | T22: =D22+E22 -> 0 | U22: =F22+K22+L22 -> 0 | V22: =K22 -> 0 | W22: =G22+H22+I22+J22 -> 0
A23: ÀÜ¸²ØºÜÀ | D23: =D7+D8+D9+D10+D11+D12+D13+D14+D15+D16+D18+D19+D20+D21+D22 -> 0 | E23: =E7+E8+E9+E10+E11+E12+E13+E14+E15+E16+E18+E19+E20+E21+E22 -> 151 | F23: =F7+F8+F9+F10+F11+F12+F13+F14+F15+F16+F18+F19+F20+F21+F22 -> 0 | G23: =G7+G8+G9+G10+G11+G12+G13+G14+G15+G16+G18+G19+G20+G21+G22 -> 41 | H23: =H7+H8+H9+H10+H11+H12+H13+H14+H15+H16+H18+H19+H20+H21+H22 -> 109 | I23: =I7+I8+I9+I10+I11+I12+I13+I14+I15+I16+I18+I19+I20+I21+I22 -> 1 | J23: =J7+J8+J9+J10+J11+J12+J13+J14+J15+J16+J18+J19+J20+J21+J22 -> 0 | K23: =K7+K8+K9+K10+K11+K12+K13+K14+K15+K16+K18+K19+K20+K21+K22 -> 151 | ... R23: =R7+R8+R9+R10+R11+R12+R13+R14+R15+R16+R18+R19+R20+R21+R22 -> 0 | T23: =D23+E23 -> 151 | U23: =F23+K23+L23 -> 151 | V23: =K23 -> 151 | W23: =G23+H23+I23+J23 -> 151
