Workbook

Sheet Կոտայքի մարզի առաջին ատյանի ԸԻԴ
C1: 2023 թվականի 1-ին կիսամյակի | Q1: Հավելված 2 Բարձրագույն դատական խորհրդի 2022թվականի դեկտեմբերի 26-ի թիվ ԲԴԽ-122-Ո-408 որոշման
A2: ԹՎԱԿԱՆԻ ՏԱՐԵԿԱՆ ՀԱՇՎԵՏՎՈՒԹՅՈՒՆ ՄԻՆՉԴԱՏԱԿԱՆ ՎԱՐՈՒՅԹԻ ԴԱՏԱԿԱՆ ԵՐԱՇԽԻՔՆԵՐԻ, ԴԱՏԱԿԱՆ ԱԿՏԵՐԻ ԵՎ ԴԱՏԱԿԱՆ ՀԱՆՁՆԱՐԱՐՈՒԹՅՈՒՆՆԵՐԻ ԿԱՏԱՐՄԱՆ ՀԵՏ ԿԱՊՎԱԾ ՄԻՋՆՈՐԴՈՒԹՅՈՒՆՆԵՐԻ ՎԵՐԱԲԵՐՅԱԼ ԴԱՏԱԿԱՆ ԳՈՐԾԵՐՈՎ ՀՀ ԱՌԱՋԻՆ ԱՏՅԱՆԻ ԸՆԴՀԱՆՈՒՐ ԻՐԱՎԱՍՈՒԹՅԱՆ ԴԱՏԱՐԱՆՆԵՐԻ ԴԱՏԱՎՈՐՆԵՐԻ ԳՈՐԾՈՒՆԵՈՒԹՅԱՆ ՎԵՐԱԲԵՐՅԱԼ
A3: Ստուգիչ հավասարում` 1+2=3+10+11, 10=4+5+6+7+8+9, 14=12+13, 17=15+16 | D3: հաշվետու ժամանակահատվածի սկզբում նախորդ հաշվետու ժամանակահատվածից փոխանցված գործերի ընդհանուր թիվը | E3: հաշվետու ժամանակահատվածում ստացված գործերի ընդհանուր թիվը | F3: փոխանցվել է այլ դատավորի(վերաբաշխում կամ ընդդատություն) | G3: հաշվետու ժամանակահատվածում ավարտված գործերի ընդհանուր թիվը | N3: Հաշվետու ժամանակահատվածում անավարտ գործերի ընդհանուր թիվը | O3: միջնորդություններով կայացված դատական ակտերից բողոքարկվածների քանակը | Q3: ընդամենը | R3: միջնորդություններով կայացված և բողոքարկված դատական ակտերից բեկանվածների քանակը | T3: միջնորդություններով կայացված և բողոքարկված դատական ակտերից անփոփոխ թողնվածների քանակը
G4: մերժվել է | H4: բավարարվել է | I4: բավարարվել է մասնակի | J4: թողնվել է առանց քննության | K4: վարույթի հարուցումը մերժելու մասին | L4: վերադարձվել է | M4: ընդամենը | O4: նախորդ տարիներին կայացված ակտերի դեմ | P4: հաշվետու ժամանակահատվածում կայացված ակտերի դեմ | R4: նախորդ տարիներին կայացված ակտերի դեմ | S4: հաշվետու ժամանակահատվածում կայացված ակտերի դեմ | U4: 1+2 | V4: 3+10+11 | W4: 10 | X4: 4+5+6+7+8+9 | Y4: 14 | Z4: 12+13 | AA4: 17 | AB4: 15+16
D5: 1 | E5: 2 | F5: 3 | G5: 4 | H5: 5 | I5: 6 | J5: 7 | K5: 8 | L5: 9 | M5: 10 | N5: 11 | O5: 12 | P5: 13 | Q5: 14 | R5: 15 | S5: 16 | T5: 17
A6: 1. Մինչդատական վարույթի դատական երաշխիքների ոլորտ | D6: =SUM(Ա.Արզումանյան!D6+Հ.Ավագյան!D6+Ա.Վարոսյան!D6+Ա.Հարությունյան!D6+Ն.Գալստյան!D6+Ա.Դունամալյան!D6+Մ.Գևորգյան!D6+Դ.Ղուկեյան!D6+Գ.Շահբազյան!D6+Գ.Մարգարյան!D6+Ա.Անտոնյան!D6+'Ա. Մուշեղյան '!D6+'Վ. Մարգարյան'!D6+'Ա. Գաբրիելյան'!D6+'Ա. Դանիբեկյան'!D6+'Ն. Բաղդասարյան'!D6+'Դ. Հարությունյան'!D6+'Ա. Հովհաննիսյան'!D6+'Հ. Մանուկյան'!D6+'Վ. Մելիքյան'!D6+'Վ. Միսակյան'!D6+'Մ. Շահվերդյան'!D6+'Վ. Լ. Գրիգորյան'!D6+'Մ. Մելքոնյան'!D6+'Ա. Մելիքսեթյան'!D6+'Գ. Գասպարյան'!D6+Ա.Ղուկասյան!D6+'Ա. Մարտիրոսյան'!D6+'Տ. Ոսկանյան'!D6+'Ռ. Սմբատյան'!D6+'Ա. Ասատրյան'!D6+'Մ. Արամյան'!D6+'Մ. Արզումանյան'!D6+Ա.Մուշեղյան!D6) -> 0 | E6: =SUM(Ա.Արզումանյան!E6+Հ.Ավագյան!E6+Ա.Վարոսյան!E6+Ա.Հարությունյան!E6+Ն.Գալստյան!E6+Ա.Դունամալյան!E6+Մ.Գևորգյան!E6+Դ.Ղուկեյան!E6+Գ.Շահբազյան!E6+Գ.Մարգարյան!E6+Ա.Անտոնյան!E6+'Ա. Մուշեղյան '!E6+'Վ. Մարգարյան'!E6+'Ա. Գաբրիելյան'!E6+'Ա. Դանիբեկյան'!E6+'Ն. Բաղդասարյան'!E6+'Դ. Հարությունյան'!E6+'Ա. Հովհաննիսյան'!E6+'Հ. Մանուկյան'!E6+'Վ. Մելիքյան'!E6+'Վ. Միսակյան'!E6+'Մ. Շահվերդյան'!E6+'Վ. Լ. Գրիգորյան'!E6+'Մ. Մելքոնյան'!E6+'Ա. Մելիքսեթյան'!E6+'Գ. Գասպարյան'!E6+Ա.Ղուկասյան!E6+'Ա. Մարտիրոսյան'!E6+'Տ. Ոսկանյան'!E6+'Ռ. Սմբատյան'!E6+'Ա. Ասատրյան'!E6+'Մ. Արամյան'!E6+'Մ. Արզումանյան'!E6+Ա.Մուշեղյան!E6) -> 75 | F6: =SUM(Ա.Արզումանյան!F6+Հ.Ավագյան!F6+Ա.Վարոսյան!F6+Ա.Հարությունյան!F6+Ն.Գալստյան!F6+Ա.Դունամալյան!F6+Մ.Գևորգյան!F6+Դ.Ղուկեյան!F6+Գ.Շահբազյան!F6+Գ.Մարգարյան!F6+Ա.Անտոնյան!F6+'Ա. Մուշեղյան '!F6+'Վ. Մարգարյան'!F6+'Ա. Գաբրիելյան'!F6+'Ա. Դանիբեկյան'!F6+'Ն. Բաղդասարյան'!F6+'Դ. Հարությունյան'!F6+'Ա. Հովհաննիսյան'!F6+'Հ. Մանուկյան'!F6+'Վ. Մելիքյան'!F6+'Վ. Միսակյան'!F6+'Մ. Շահվերդյան'!F6+'Վ. Լ. Գրիգորյան'!F6+'Մ. Մելքոնյան'!F6+'Ա. Մելիքսեթյան'!F6+'Գ. Գասպարյան'!F6+Ա.Ղուկասյան!F6+'Ա. Մարտիրոսյան'!F6+'Տ. Ոսկանյան'!F6+'Ռ. Սմբատյան'!F6+'Ա. Ասատրյան'!F6+'Մ. Արամյան'!F6+'Մ. Արզումանյան'!F6+Ա.Մուշեղյան!F6) -> 0 | G6: =SUM(Ա.Արզումանյան!G6+Հ.Ավագյան!G6+Ա.Վարոսյան!G6+Ա.Հարությունյան!G6+Ն.Գալստյան!G6+Ա.Դունամալյան!G6+Մ.Գևորգյան!G6+Դ.Ղուկեյան!G6+Գ.Շահբազյան!G6+Գ.Մարգարյան!G6+Ա.Անտոնյան!G6+'Ա. Մուշեղյան '!G6+'Վ. Մարգարյան'!G6+'Ա. Գաբրիելյան'!G6+'Ա. Դանիբեկյան'!G6+'Ն. Բաղդասարյան'!G6+'Դ. Հարությունյան'!G6+'Ա. Հովհաննիսյան'!G6+'Հ. Մանուկյան'!G6+'Վ. Մելիքյան'!G6+'Վ. Միսակյան'!G6+'Մ. Շահվերդյան'!G6+'Վ. Լ. Գրիգորյան'!G6+'Մ. Մելքոնյան'!G6+'Ա. Մելիքսեթյան'!G6+'Գ. Գասպարյան'!G6+Ա.Ղուկասյան!G6+'Ա. Մարտիրոսյան'!G6+'Տ. Ոսկանյան'!G6+'Ռ. Սմբատյան'!G6+'Ա. Ասատրյան'!G6+'Մ. Արամյան'!G6+'Մ. Արզումանյան'!G6+Ա.Մուշեղյան!G6) -> 18 | H6: =SUM(Ա.Արզումանյան!H6+Հ.Ավագյան!H6+Ա.Վարոսյան!H6+Ա.Հարությունյան!H6+Ն.Գալստյան!H6+Ա.Դունամալյան!H6+Մ.Գևորգյան!H6+Դ.Ղուկեյան!H6+Գ.Շահբազյան!H6+Գ.Մարգարյան!H6+Ա.Անտոնյան!H6+'Ա. Մուշեղյան '!H6+'Վ. Մարգարյան'!H6+'Ա. Գաբրիելյան'!H6+'Ա. Դանիբեկյան'!H6+'Ն. Բաղդասարյան'!H6+'Դ. Հարությունյան'!H6+'Ա. Հովհաննիսյան'!H6+'Հ. Մանուկյան'!H6+'Վ. Մելիքյան'!H6+'Վ. Միսակյան'!H6+'Մ. Շահվերդյան'!H6+'Վ. Լ. Գրիգորյան'!H6+'Մ. Մելքոնյան'!H6+'Ա. Մելիքսեթյան'!H6+'Գ. Գասպարյան'!H6+Ա.Ղուկասյան!H6+'Ա. Մարտիրոսյան'!H6+'Տ. Ոսկանյան'!H6+'Ռ. Սմբատյան'!H6+'Ա. Ասատրյան'!H6+'Մ. Արամյան'!H6+'Մ. Արզումանյան'!H6+Ա.Մուշեղյան!H6) -> 51 | I6: =SUM(Ա.Արզումանյան!I6+Հ.Ավագյան!I6+Ա.Վարոսյան!I6+Ա.Հարությունյան!I6+Ն.Գալստյան!I6+Ա.Դունամալյան!I6+Մ.Գևորգյան!I6+Դ.Ղուկեյան!I6+Գ.Շահբազյան!I6+Գ.Մարգարյան!I6+Ա.Անտոնյան!I6+'Ա. Մուշեղյան '!I6+'Վ. Մարգարյան'!I6+'Ա. Գաբրիելյան'!I6+'Ա. Դանիբեկյան'!I6+'Ն. Բաղդասարյան'!I6+'Դ. Հարությունյան'!I6+'Ա. Հովհաննիսյան'!I6+'Հ. Մանուկյան'!I6+'Վ. Մելիքյան'!I6+'Վ. Միսակյան'!I6+'Մ. Շահվերդյան'!I6+'Վ. Լ. Գրիգորյան'!I6+'Մ. Մելքոնյան'!I6+'Ա. Մելիքսեթյան'!I6+'Գ. Գասպարյան'!I6+Ա.Ղուկասյան!I6+'Ա. Մարտիրոսյան'!I6+'Տ. Ոսկանյան'!I6+'Ռ. Սմբատյան'!I6+'Ա. Ասատրյան'!I6+'Մ. Արամյան'!I6+'Մ. Արզումանյան'!I6+Ա.Մուշեղյան!I6) -> 2 | J6: =SUM(Ա.Արզումանյան!J6+Հ.Ավագյան!J6+Ա.Վարոսյան!J6+Ա.Հարությունյան!J6+Ն.Գալստյան!J6+Ա.Դունամալյան!J6+Մ.Գևորգյան!J6+Դ.Ղուկեյան!J6+Գ.Շահբազյան!J6+Գ.Մարգարյան!J6+Ա.Անտոնյան!J6+'Ա. Մուշեղյան '!J6+'Վ. Մարգարյան'!J6+'Ա. Գաբրիելյան'!J6+'Ա. Դանիբեկյան'!J6+'Ն. Բաղդասարյան'!J6+'Դ. Հարությունյան'!J6+'Ա. Հովհաննիսյան'!J6+'Հ. Մանուկյան'!J6+'Վ. Մելիքյան'!J6+'Վ. Միսակյան'!J6+'Մ. Շահվերդյան'!J6+'Վ. Լ. Գրիգորյան'!J6+'Մ. Մելքոնյան'!J6+'Ա. Մելիքսեթյան'!J6+'Գ. Գասպարյան'!J6+Ա.Ղուկասյան!J6+'Ա. Մարտիրոսյան'!J6+'Տ. Ոսկանյան'!J6+'Ռ. Սմբատյան'!J6+'Ա. Ասատրյան'!J6+'Մ. Արամյան'!J6+'Մ. Արզումանյան'!J6+Ա.Մուշեղյան!J6) -> 0 | K6: =SUM(Ա.Արզումանյան!K6+Հ.Ավագյան!K6+Ա.Վարոսյան!K6+Ա.Հարությունյան!K6+Ն.Գալստյան!K6+Ա.Դունամալյան!K6+Մ.Գևորգյան!K6+Դ.Ղուկեյան!K6+Գ.Շահբազյան!K6+Գ.Մարգարյան!K6+Ա.Անտոնյան!K6+'Ա. Մուշեղյան '!K6+'Վ. Մարգարյան'!K6+'Ա. Գաբրիելյան'!K6+'Ա. Դանիբեկյան'!K6+'Ն. Բաղդասարյան'!K6+'Դ. Հարությունյան'!K6+'Ա. Հովհաննիսյան'!K6+'Հ. Մանուկյան'!K6+'Վ. Մելիքյան'!K6+'Վ. Միսակյան'!K6+'Մ. Շահվերդյան'!K6+'Վ. Լ. Գրիգորյան'!K6+'Մ. Մելքոնյան'!K6+'Ա. Մելիքսեթյան'!K6+'Գ. Գասպարյան'!K6+Ա.Ղուկասյան!K6+'Ա. Մարտիրոսյան'!K6+'Տ. Ոսկանյան'!K6+'Ռ. Սմբատյան'!K6+'Ա. Ասատրյան'!K6+'Մ. Արամյան'!K6+'Մ. Արզումանյան'!K6+Ա.Մուշեղյան!K6) -> 3 | ... T6: =SUM(Ա.Արզումանյան!T6+Հ.Ավագյան!T6+Ա.Վարոսյան!T6+Ա.Հարությունյան!T6+Ն.Գալստյան!T6+Ա.Դունամալյան!T6+Մ.Գևորգյան!T6+Դ.Ղուկեյան!T6+Գ.Շահբազյան!T6+Գ.Մարգարյան!T6+Ա.Անտոնյան!T6+'Ա. Մուշեղյան '!T6+'Վ. Մարգարյան'!T6+'Ա. Գաբրիելյան'!T6+'Ա. Դանիբեկյան'!T6+'Ն. Բաղդասարյան'!T6+'Դ. Հարությունյան'!T6+'Ա. Հովհաննիսյան'!T6+'Հ. Մանուկյան'!T6+'Վ. Մելիքյան'!T6+'Վ. Միսակյան'!T6+'Մ. Շահվերդյան'!T6+'Վ. Լ. Գրիգորյան'!T6+'Մ. Մելքոնյան'!T6+'Ա. Մելիքսեթյան'!T6+'Գ. Գասպարյան'!T6+Ա.Ղուկասյան!T6+'Ա. Մարտիրոսյան'!T6+'Տ. Ոսկանյան'!T6+'Ռ. Սմբատյան'!T6+'Ա. Ասատրյան'!T6+'Մ. Արամյան'!T6+'Մ. Արզումանյան'!T6+Ա.Մուշեղյան!T6) -> 19 | U6: =SUM(Ա.Արզումանյան!#REF!+Հ.Ավագյան!#REF!+Ա.Վարոսյան!#REF!+Ա.Հարությունյան!#REF!+Ն.Գալստյան!#REF!+Ա.Դունամալյան!#REF!+Մ.Գևորգյան!#REF!+Դ.Ղուկեյան!#REF!+Գ.Շահբազյան!#REF!+Գ.Մարգարյան!#REF!+Ա.Անտոնյան!#REF!+'Ա. Մուշեղյան '!#REF!+'Վ. Մարգարյան'!U6+'Ա. Գաբրիելյան'!U6+'Ա. Դանիբեկյան'!U6+'Ն. Բաղդասարյան'!U6+'Դ. Հարությունյան'!U6+'Ա. Հովհաննիսյան'!U6+'Հ. Մանուկյան'!U6+'Վ. Մելիքյան'!U6+'Վ. Միսակյան'!U6+'Մ. Շահվերդյան'!U6+'Վ. Լ. Գրիգորյան'!U6+'Մ. Մելքոնյան'!U6+'Ա. Մելիքսեթյան'!U6+'Գ. Գասպարյան'!U6+Ա.Ղուկասյան!U6+'Ա. Մարտիրոսյան'!U6+'Տ. Ոսկանյան'!U6+'Ռ. Սմբատյան'!U6+'Ա. Ասատրյան'!U6+'Մ. Արամյան'!U6+'Մ. Արզումանյան'!U6+Ա.Մուշեղյան!U6) -> #REF! | V6: =SUM(Ա.Արզումանյան!#REF!+Հ.Ավագյան!#REF!+Ա.Վարոսյան!#REF!+Ա.Հարությունյան!#REF!+Ն.Գալստյան!#REF!+Ա.Դունամալյան!#REF!+Մ.Գևորգյան!#REF!+Դ.Ղուկեյան!#REF!+Գ.Շահբազյան!#REF!+Գ.Մարգարյան!#REF!+Ա.Անտոնյան!#REF!+'Ա. Մուշեղյան '!#REF!+'Վ. Մարգարյան'!V6+'Ա. Գաբրիելյան'!V6+'Ա. Դանիբեկյան'!V6+'Ն. Բաղդասարյան'!V6+'Դ. Հարությունյան'!V6+'Ա. Հովհաննիսյան'!V6+'Հ. Մանուկյան'!V6+'Վ. Մելիքյան'!V6+'Վ. Միսակյան'!V6+'Մ. Շահվերդյան'!V6+'Վ. Լ. Գրիգորյան'!V6+'Մ. Մելքոնյան'!V6+'Ա. Մելիքսեթյան'!V6+'Գ. Գասպարյան'!V6+Ա.Ղուկասյան!V6+'Ա. Մարտիրոսյան'!V6+'Տ. Ոսկանյան'!V6+'Ռ. Սմբատյան'!V6+'Ա. Ասատրյան'!V6+'Մ. Արամյան'!V6+'Մ. Արզումանյան'!V6+Ա.Մուշեղյան!V6) -> #REF! | W6: =SUM(Ա.Արզումանյան!#REF!+Հ.Ավագյան!#REF!+Ա.Վարոսյան!#REF!+Ա.Հարությունյան!#REF!+Ն.Գալստյան!#REF!+Ա.Դունամալյան!#REF!+Մ.Գևորգյան!#REF!+Դ.Ղուկեյան!#REF!+Գ.Շահբազյան!#REF!+Գ.Մարգարյան!#REF!+Ա.Անտոնյան!#REF!+'Ա. Մուշեղյան '!#REF!+'Վ. Մարգարյան'!W6+'Ա. Գաբրիելյան'!W6+'Ա. Դանիբեկյան'!W6+'Ն. Բաղդասարյան'!W6+'Դ. Հարությունյան'!W6+'Ա. Հովհաննիսյան'!W6+'Հ. Մանուկյան'!W6+'Վ. Մելիքյան'!W6+'Վ. Միսակյան'!W6+'Մ. Շահվերդյան'!W6+'Վ. Լ. Գրիգորյան'!W6+'Մ. Մելքոնյան'!W6+'Ա. Մելիքսեթյան'!W6+'Գ. Գասպարյան'!W6+Ա.Ղուկասյան!W6+'Ա. Մարտիրոսյան'!W6+'Տ. Ոսկանյան'!W6+'Ռ. Սմբատյան'!W6+'Ա. Ասատրյան'!W6+'Մ. Արամյան'!W6+'Մ. Արզումանյան'!W6+Ա.Մուշեղյան!W6) -> #REF! | X6: =SUM(Ա.Արզումանյան!#REF!+Հ.Ավագյան!#REF!+Ա.Վարոսյան!#REF!+Ա.Հարությունյան!#REF!+Ն.Գալստյան!#REF!+Ա.Դունամալյան!#REF!+Մ.Գևորգյան!#REF!+Դ.Ղուկեյան!#REF!+Գ.Շահբազյան!#REF!+Գ.Մարգարյան!#REF!+Ա.Անտոնյան!#REF!+'Ա. Մուշեղյան '!#REF!+'Վ. Մարգարյան'!X6+'Ա. Գաբրիելյան'!X6+'Ա. Դանիբեկյան'!X6+'Ն. Բաղդասարյան'!X6+'Դ. Հարությունյան'!X6+'Ա. Հովհաննիսյան'!X6+'Հ. Մանուկյան'!X6+'Վ. Մելիքյան'!X6+'Վ. Միսակյան'!X6+'Մ. Շահվերդյան'!X6+'Վ. Լ. Գրիգորյան'!X6+'Մ. Մելքոնյան'!X6+'Ա. Մելիքսեթյան'!X6+'Գ. Գասպարյան'!X6+Ա.Ղուկասյան!X6+'Ա. Մարտիրոսյան'!X6+'Տ. Ոսկանյան'!X6+'Ռ. Սմբատյան'!X6+'Ա. Ասատրյան'!X6+'Մ. Արամյան'!X6+'Մ. Արզումանյան'!X6+Ա.Մուշեղյան!X6) -> #REF! | Y6: =SUM(Ա.Արզումանյան!#REF!+Հ.Ավագյան!#REF!+Ա.Վարոսյան!#REF!+Ա.Հարությունյան!#REF!+Ն.Գալստյան!#REF!+Ա.Դունամալյան!#REF!+Մ.Գևորգյան!#REF!+Դ.Ղուկեյան!#REF!+Գ.Շահբազյան!#REF!+Գ.Մարգարյան!#REF!+Ա.Անտոնյան!#REF!+'Ա. Մուշեղյան '!#REF!+'Վ. Մարգարյան'!Y6+'Ա. Գաբրիելյան'!Y6+'Ա. Դանիբեկյան'!Y6+'Ն. Բաղդասարյան'!Y6+'Դ. Հարությունյան'!Y6+'Ա. Հովհաննիսյան'!Y6+'Հ. Մանուկյան'!Y6+'Վ. Մելիքյան'!Y6+'Վ. Միսակյան'!Y6+'Մ. Շահվերդյան'!Y6+'Վ. Լ. Գրիգորյան'!Y6+'Մ. Մելքոնյան'!Y6+'Ա. Մելիքսեթյան'!Y6+'Գ. Գասպարյան'!Y6+Ա.Ղուկասյան!Y6+'Ա. Մարտիրոսյան'!Y6+'Տ. Ոսկանյան'!Y6+'Ռ. Սմբատյան'!Y6+'Ա. Ասատրյան'!Y6+'Մ. Արամյան'!Y6+'Մ. Արզումանյան'!Y6+Ա.Մուշեղյան!Y6) -> #REF! | Z6: =SUM(Ա.Արզումանյան!#REF!+Հ.Ավագյան!#REF!+Ա.Վարոսյան!#REF!+Ա.Հարությունյան!#REF!+Ն.Գալստյան!#REF!+Ա.Դունամալյան!#REF!+Մ.Գևորգյան!#REF!+Դ.Ղուկեյան!#REF!+Գ.Շահբազյան!#REF!+Գ.Մարգարյան!#REF!+Ա.Անտոնյան!#REF!+'Ա. Մուշեղյան '!#REF!+'Վ. Մարգարյան'!Z6+'Ա. Գաբրիելյան'!Z6+'Ա. Դանիբեկյան'!Z6+'Ն. Բաղդասարյան'!Z6+'Դ. Հարությունյան'!Z6+'Ա. Հովհաննիսյան'!Z6+'Հ. Մանուկյան'!Z6+'Վ. Մելիքյան'!Z6+'Վ. Միսակյան'!Z6+'Մ. Շահվերդյան'!Z6+'Վ. Լ. Գրիգորյան'!Z6+'Մ. Մելքոնյան'!Z6+'Ա. Մելիքսեթյան'!Z6+'Գ. Գասպարյան'!Z6+Ա.Ղուկասյան!Z6+'Ա. Մարտիրոսյան'!Z6+'Տ. Ոսկանյան'!Z6+'Ռ. Սմբատյան'!Z6+'Ա. Ասատրյան'!Z6+'Մ. Արամյան'!Z6+'Մ. Արզումանյան'!Z6+Ա.Մուշեղյան!Z6) -> #REF! | AA6: =SUM(Ա.Արզումանյան!#REF!+Հ.Ավագյան!#REF!+Ա.Վարոսյան!#REF!+Ա.Հարությունյան!#REF!+Ն.Գալստյան!#REF!+Ա.Դունամալյան!#REF!+Մ.Գևորգյան!#REF!+Դ.Ղուկեյան!#REF!+Գ.Շահբազյան!#REF!+Գ.Մարգարյան!#REF!+Ա.Անտոնյան!#REF!+'Ա. Մուշեղյան '!#REF!+'Վ. Մարգարյան'!AA6+'Ա. Գաբրիելյան'!AA6+'Ա. Դանիբեկյան'!AA6+'Ն. Բաղդասարյան'!AA6+'Դ. Հարությունյան'!AA6+'Ա. Հովհաննիսյան'!AA6+'Հ. Մանուկյան'!AA6+'Վ. Մելիքյան'!AA6+'Վ. Միսակյան'!AA6+'Մ. Շահվերդյան'!AA6+'Վ. Լ. Գրիգորյան'!AA6+'Մ. Մելքոնյան'!AA6+'Ա. Մելիքսեթյան'!AA6+'Գ. Գասպարյան'!AA6+Ա.Ղուկասյան!AA6+'Ա. Մարտիրոսյան'!AA6+'Տ. Ոսկանյան'!AA6+'Ռ. Սմբատյան'!AA6+'Ա. Ասատրյան'!AA6+'Մ. Արամյան'!AA6+'Մ. Արզումանյան'!AA6+Ա.Մուշեղյան!AA6) -> #REF! | AB6: =SUM(Ա.Արզումանյան!#REF!+Հ.Ավագյան!#REF!+Ա.Վարոսյան!#REF!+Ա.Հարությունյան!#REF!+Ն.Գալստյան!#REF!+Ա.Դունամալյան!#REF!+Մ.Գևորգյան!#REF!+Դ.Ղուկեյան!#REF!+Գ.Շահբազյան!#REF!+Գ.Մարգարյան!#REF!+Ա.Անտոնյան!#REF!+'Ա. Մուշեղյան '!#REF!+'Վ. Մարգարյան'!AB6+'Ա. Գաբրիելյան'!AB6+'Ա. Դանիբեկյան'!AB6+'Ն. Բաղդասարյան'!AB6+'Դ. Հարությունյան'!AB6+'Ա. Հովհաննիսյան'!AB6+'Հ. Մանուկյան'!AB6+'Վ. Մելիքյան'!AB6+'Վ. Միսակյան'!AB6+'Մ. Շահվերդյան'!AB6+'Վ. Լ. Գրիգորյան'!AB6+'Մ. Մելքոնյան'!AB6+'Ա. Մելիքսեթյան'!AB6+'Գ. Գասպարյան'!AB6+Ա.Ղուկասյան!AB6+'Ա. Մարտիրոսյան'!AB6+'Տ. Ոսկանյան'!AB6+'Ռ. Սմբատյան'!AB6+'Ա. Ասատրյան'!AB6+'Մ. Արամյան'!AB6+'Մ. Արզումանյան'!AB6+Ա.Մուշեղյան!AB6) -> #REF!
A7: 1 | B7: կալանքը որպես խափանման միջոց կիրառելու մասին միջնորդություններ | D7: =SUM(Ա.Արզումանյան!D7+Հ.Ավագյան!D7+Ա.Վարոսյան!D7+Ա.Հարությունյան!D7+Ն.Գալստյան!D7+Ա.Դունամալյան!D7+Մ.Գևորգյան!D7+Դ.Ղուկեյան!D7+Գ.Շահբազյան!D7+Գ.Մարգարյան!D7+Ա.Անտոնյան!D7+'Ա. Մուշեղյան '!D7+'Վ. Մարգարյան'!D7+'Ա. Գաբրիելյան'!D7+'Ա. Դանիբեկյան'!D7+'Ն. Բաղդասարյան'!D7+'Դ. Հարությունյան'!D7+'Ա. Հովհաննիսյան'!D7+'Հ. Մանուկյան'!D7+'Վ. Մելիքյան'!D7+'Վ. Միսակյան'!D7+'Մ. Շահվերդյան'!D7+'Վ. Լ. Գրիգորյան'!D7+'Մ. Մելքոնյան'!D7+'Ա. Մելիքսեթյան'!D7+'Գ. Գասպարյան'!D7+Ա.Ղուկասյան!D7+'Ա. Մարտիրոսյան'!D7+'Տ. Ոսկանյան'!D7+'Ռ. Սմբատյան'!D7+'Ա. Ասատրյան'!D7+'Մ. Արամյան'!D7+'Մ. Արզումանյան'!D7+Ա.Մուշեղյան!D7) -> 0 | E7: =SUM(Ա.Արզումանյան!E7+Հ.Ավագյան!E7+Ա.Վարոսյան!E7+Ա.Հարությունյան!E7+Ն.Գալստյան!E7+Ա.Դունամալյան!E7+Մ.Գևորգյան!E7+Դ.Ղուկեյան!E7+Գ.Շահբազյան!E7+Գ.Մարգարյան!E7+Ա.Անտոնյան!E7+'Ա. Մուշեղյան '!E7+'Վ. Մարգարյան'!E7+'Ա. Գաբրիելյան'!E7+'Ա. Դանիբեկյան'!E7+'Ն. Բաղդասարյան'!E7+'Դ. Հարությունյան'!E7+'Ա. Հովհաննիսյան'!E7+'Հ. Մանուկյան'!E7+'Վ. Մելիքյան'!E7+'Վ. Միսակյան'!E7+'Մ. Շահվերդյան'!E7+'Վ. Լ. Գրիգորյան'!E7+'Մ. Մելքոնյան'!E7+'Ա. Մելիքսեթյան'!E7+'Գ. Գասպարյան'!E7+Ա.Ղուկասյան!E7+'Ա. Մարտիրոսյան'!E7+'Տ. Ոսկանյան'!E7+'Ռ. Սմբատյան'!E7+'Ա. Ասատրյան'!E7+'Մ. Արամյան'!E7+'Մ. Արզումանյան'!E7+Ա.Մուշեղյան!E7) -> 43 | F7: =SUM(Ա.Արզումանյան!F7+Հ.Ավագյան!F7+Ա.Վարոսյան!F7+Ա.Հարությունյան!F7+Ն.Գալստյան!F7+Ա.Դունամալյան!F7+Մ.Գևորգյան!F7+Դ.Ղուկեյան!F7+Գ.Շահբազյան!F7+Գ.Մարգարյան!F7+Ա.Անտոնյան!F7+'Ա. Մուշեղյան '!F7+'Վ. Մարգարյան'!F7+'Ա. Գաբրիելյան'!F7+'Ա. Դանիբեկյան'!F7+'Ն. Բաղդասարյան'!F7+'Դ. Հարությունյան'!F7+'Ա. Հովհաննիսյան'!F7+'Հ. Մանուկյան'!F7+'Վ. Մելիքյան'!F7+'Վ. Միսակյան'!F7+'Մ. Շահվերդյան'!F7+'Վ. Լ. Գրիգորյան'!F7+'Մ. Մելքոնյան'!F7+'Ա. Մելիքսեթյան'!F7+'Գ. Գասպարյան'!F7+Ա.Ղուկասյան!F7+'Ա. Մարտիրոսյան'!F7+'Տ. Ոսկանյան'!F7+'Ռ. Սմբատյան'!F7+'Ա. Ասատրյան'!F7+'Մ. Արամյան'!F7+'Մ. Արզումանյան'!F7+Ա.Մուշեղյան!F7) -> 0 | G7: =SUM(Ա.Արզումանյան!G7+Հ.Ավագյան!G7+Ա.Վարոսյան!G7+Ա.Հարությունյան!G7+Ն.Գալստյան!G7+Ա.Դունամալյան!G7+Մ.Գևորգյան!G7+Դ.Ղուկեյան!G7+Գ.Շահբազյան!G7+Գ.Մարգարյան!G7+Ա.Անտոնյան!G7+'Ա. Մուշեղյան '!G7+'Վ. Մարգարյան'!G7+'Ա. Գաբրիելյան'!G7+'Ա. Դանիբեկյան'!G7+'Ն. Բաղդասարյան'!G7+'Դ. Հարությունյան'!G7+'Ա. Հովհաննիսյան'!G7+'Հ. Մանուկյան'!G7+'Վ. Մելիքյան'!G7+'Վ. Միսակյան'!G7+'Մ. Շահվերդյան'!G7+'Վ. Լ. Գրիգորյան'!G7+'Մ. Մելքոնյան'!G7+'Ա. Մելիքսեթյան'!G7+'Գ. Գասպարյան'!G7+Ա.Ղուկասյան!G7+'Ա. Մարտիրոսյան'!G7+'Տ. Ոսկանյան'!G7+'Ռ. Սմբատյան'!G7+'Ա. Ասատրյան'!G7+'Մ. Արամյան'!G7+'Մ. Արզումանյան'!G7+Ա.Մուշեղյան!G7) -> 13 | H7: =SUM(Ա.Արզումանյան!H7+Հ.Ավագյան!H7+Ա.Վարոսյան!H7+Ա.Հարությունյան!H7+Ն.Գալստյան!H7+Ա.Դունամալյան!H7+Մ.Գևորգյան!H7+Դ.Ղուկեյան!H7+Գ.Շահբազյան!H7+Գ.Մարգարյան!H7+Ա.Անտոնյան!H7+'Ա. Մուշեղյան '!H7+'Վ. Մարգարյան'!H7+'Ա. Գաբրիելյան'!H7+'Ա. Դանիբեկյան'!H7+'Ն. Բաղդասարյան'!H7+'Դ. Հարությունյան'!H7+'Ա. Հովհաննիսյան'!H7+'Հ. Մանուկյան'!H7+'Վ. Մելիքյան'!H7+'Վ. Միսակյան'!H7+'Մ. Շահվերդյան'!H7+'Վ. Լ. Գրիգորյան'!H7+'Մ. Մելքոնյան'!H7+'Ա. Մելիքսեթյան'!H7+'Գ. Գասպարյան'!H7+Ա.Ղուկասյան!H7+'Ա. Մարտիրոսյան'!H7+'Տ. Ոսկանյան'!H7+'Ռ. Սմբատյան'!H7+'Ա. Ասատրյան'!H7+'Մ. Արամյան'!H7+'Մ. Արզումանյան'!H7+Ա.Մուշեղյան!H7) -> 28 | I7: =SUM(Ա.Արզումանյան!I7+Հ.Ավագյան!I7+Ա.Վարոսյան!I7+Ա.Հարությունյան!I7+Ն.Գալստյան!I7+Ա.Դունամալյան!I7+Մ.Գևորգյան!I7+Դ.Ղուկեյան!I7+Գ.Շահբազյան!I7+Գ.Մարգարյան!I7+Ա.Անտոնյան!I7+'Ա. Մուշեղյան '!I7+'Վ. Մարգարյան'!I7+'Ա. Գաբրիելյան'!I7+'Ա. Դանիբեկյան'!I7+'Ն. Բաղդասարյան'!I7+'Դ. Հարությունյան'!I7+'Ա. Հովհաննիսյան'!I7+'Հ. Մանուկյան'!I7+'Վ. Մելիքյան'!I7+'Վ. Միսակյան'!I7+'Մ. Շահվերդյան'!I7+'Վ. Լ. Գրիգորյան'!I7+'Մ. Մելքոնյան'!I7+'Ա. Մելիքսեթյան'!I7+'Գ. Գասպարյան'!I7+Ա.Ղուկասյան!I7+'Ա. Մարտիրոսյան'!I7+'Տ. Ոսկանյան'!I7+'Ռ. Սմբատյան'!I7+'Ա. Ասատրյան'!I7+'Մ. Արամյան'!I7+'Մ. Արզումանյան'!I7+Ա.Մուշեղյան!I7) -> 0 | J7: =SUM(Ա.Արզումանյան!J7+Հ.Ավագյան!J7+Ա.Վարոսյան!J7+Ա.Հարությունյան!J7+Ն.Գալստյան!J7+Ա.Դունամալյան!J7+Մ.Գևորգյան!J7+Դ.Ղուկեյան!J7+Գ.Շահբազյան!J7+Գ.Մարգարյան!J7+Ա.Անտոնյան!J7+'Ա. Մուշեղյան '!J7+'Վ. Մարգարյան'!J7+'Ա. Գաբրիելյան'!J7+'Ա. Դանիբեկյան'!J7+'Ն. Բաղդասարյան'!J7+'Դ. Հարությունյան'!J7+'Ա. Հովհաննիսյան'!J7+'Հ. Մանուկյան'!J7+'Վ. Մելիքյան'!J7+'Վ. Միսակյան'!J7+'Մ. Շահվերդյան'!J7+'Վ. Լ. Գրիգորյան'!J7+'Մ. Մելքոնյան'!J7+'Ա. Մելիքսեթյան'!J7+'Գ. Գասպարյան'!J7+Ա.Ղուկասյան!J7+'Ա. Մարտիրոսյան'!J7+'Տ. Ոսկանյան'!J7+'Ռ. Սմբատյան'!J7+'Ա. Ասատրյան'!J7+'Մ. Արամյան'!J7+'Մ. Արզումանյան'!J7+Ա.Մուշեղյան!J7) -> 0 | K7: =SUM(Ա.Արզումանյան!K7+Հ.Ավագյան!K7+Ա.Վարոսյան!K7+Ա.Հարությունյան!K7+Ն.Գալստյան!K7+Ա.Դունամալյան!K7+Մ.Գևորգյան!K7+Դ.Ղուկեյան!K7+Գ.Շահբազյան!K7+Գ.Մարգարյան!K7+Ա.Անտոնյան!K7+'Ա. Մուշեղյան '!K7+'Վ. Մարգարյան'!K7+'Ա. Գաբրիելյան'!K7+'Ա. Դանիբեկյան'!K7+'Ն. Բաղդասարյան'!K7+'Դ. Հարությունյան'!K7+'Ա. Հովհաննիսյան'!K7+'Հ. Մանուկյան'!K7+'Վ. Մելիքյան'!K7+'Վ. Միսակյան'!K7+'Մ. Շահվերդյան'!K7+'Վ. Լ. Գրիգորյան'!K7+'Մ. Մելքոնյան'!K7+'Ա. Մելիքսեթյան'!K7+'Գ. Գասպարյան'!K7+Ա.Ղուկասյան!K7+'Ա. Մարտիրոսյան'!K7+'Տ. Ոսկանյան'!K7+'Ռ. Սմբատյան'!K7+'Ա. Ասատրյան'!K7+'Մ. Արամյան'!K7+'Մ. Արզումանյան'!K7+Ա.Մուշեղյան!K7) -> 2 | ... T7: =SUM(Ա.Արզումանյան!T7+Հ.Ավագյան!T7+Ա.Վարոսյան!T7+Ա.Հարությունյան!T7+Ն.Գալստյան!T7+Ա.Դունամալյան!T7+Մ.Գևորգյան!T7+Դ.Ղուկեյան!T7+Գ.Շահբազյան!T7+Գ.Մարգարյան!T7+Ա.Անտոնյան!T7+'Ա. Մուշեղյան '!T7+'Վ. Մարգարյան'!T7+'Ա. Գաբրիելյան'!T7+'Ա. Դանիբեկյան'!T7+'Ն. Բաղդասարյան'!T7+'Դ. Հարությունյան'!T7+'Ա. Հովհաննիսյան'!T7+'Հ. Մանուկյան'!T7+'Վ. Մելիքյան'!T7+'Վ. Միսակյան'!T7+'Մ. Շահվերդյան'!T7+'Վ. Լ. Գրիգորյան'!T7+'Մ. Մելքոնյան'!T7+'Ա. Մելիքսեթյան'!T7+'Գ. Գասպարյան'!T7+Ա.Ղուկասյան!T7+'Ա. Մարտիրոսյան'!T7+'Տ. Ոսկանյան'!T7+'Ռ. Սմբատյան'!T7+'Ա. Ասատրյան'!T7+'Մ. Արամյան'!T7+'Մ. Արզումանյան'!T7+Ա.Մուշեղյան!T7) -> 11 | U7: =SUM(Ա.Արզումանյան!#REF!+Հ.Ավագյան!#REF!+Ա.Վարոսյան!#REF!+Ա.Հարությունյան!#REF!+Ն.Գալստյան!#REF!+Ա.Դունամալյան!#REF!+Մ.Գևորգյան!#REF!+Դ.Ղուկեյան!#REF!+Գ.Շահբազյան!#REF!+Գ.Մարգարյան!#REF!+Ա.Անտոնյան!#REF!+'Ա. Մուշեղյան '!#REF!+'Վ. Մարգարյան'!U7+'Ա. Գաբրիելյան'!U7+'Ա. Դանիբեկյան'!U7+'Ն. Բաղդասարյան'!U7+'Դ. Հարությունյան'!U7+'Ա. Հովհաննիսյան'!U7+'Հ. Մանուկյան'!U7+'Վ. Մելիքյան'!U7+'Վ. Միսակյան'!U7+'Մ. Շահվերդյան'!U7+'Վ. Լ. Գրիգորյան'!U7+'Մ. Մելքոնյան'!U7+'Ա. Մելիքսեթյան'!U7+'Գ. Գասպարյան'!U7+Ա.Ղուկասյան!U7+'Ա. Մարտիրոսյան'!U7+'Տ. Ոսկանյան'!U7+'Ռ. Սմբատյան'!U7+'Ա. Ասատրյան'!U7+'Մ. Արամյան'!U7+'Մ. Արզումանյան'!U7+Ա.Մուշեղյան!U7) -> #REF! | V7: =SUM(Ա.Արզումանյան!#REF!+Հ.Ավագյան!#REF!+Ա.Վարոսյան!#REF!+Ա.Հարությունյան!#REF!+Ն.Գալստյան!#REF!+Ա.Դունամալյան!#REF!+Մ.Գևորգյան!#REF!+Դ.Ղուկեյան!#REF!+Գ.Շահբազյան!#REF!+Գ.Մարգարյան!#REF!+Ա.Անտոնյան!#REF!+'Ա. Մուշեղյան '!#REF!+'Վ. Մարգարյան'!V7+'Ա. Գաբրիելյան'!V7+'Ա. Դանիբեկյան'!V7+'Ն. Բաղդասարյան'!V7+'Դ. Հարությունյան'!V7+'Ա. Հովհաննիսյան'!V7+'Հ. Մանուկյան'!V7+'Վ. Մելիքյան'!V7+'Վ. Միսակյան'!V7+'Մ. Շահվերդյան'!V7+'Վ. Լ. Գրիգորյան'!V7+'Մ. Մելքոնյան'!V7+'Ա. Մելիքսեթյան'!V7+'Գ. Գասպարյան'!V7+Ա.Ղուկասյան!V7+'Ա. Մարտիրոսյան'!V7+'Տ. Ոսկանյան'!V7+'Ռ. Սմբատյան'!V7+'Ա. Ասատրյան'!V7+'Մ. Արամյան'!V7+'Մ. Արզումանյան'!V7+Ա.Մուշեղյան!V7) -> #REF! | W7: =SUM(Ա.Արզումանյան!#REF!+Հ.Ավագյան!#REF!+Ա.Վարոսյան!#REF!+Ա.Հարությունյան!#REF!+Ն.Գալստյան!#REF!+Ա.Դունամալյան!#REF!+Մ.Գևորգյան!#REF!+Դ.Ղուկեյան!#REF!+Գ.Շահբազյան!#REF!+Գ.Մարգարյան!#REF!+Ա.Անտոնյան!#REF!+'Ա. Մուշեղյան '!#REF!+'Վ. Մարգարյան'!W7+'Ա. Գաբրիելյան'!W7+'Ա. Դանիբեկյան'!W7+'Ն. Բաղդասարյան'!W7+'Դ. Հարությունյան'!W7+'Ա. Հովհաննիսյան'!W7+'Հ. Մանուկյան'!W7+'Վ. Մելիքյան'!W7+'Վ. Միսակյան'!W7+'Մ. Շահվերդյան'!W7+'Վ. Լ. Գրիգորյան'!W7+'Մ. Մելքոնյան'!W7+'Ա. Մելիքսեթյան'!W7+'Գ. Գասպարյան'!W7+Ա.Ղուկասյան!W7+'Ա. Մարտիրոսյան'!W7+'Տ. Ոսկանյան'!W7+'Ռ. Սմբատյան'!W7+'Ա. Ասատրյան'!W7+'Մ. Արամյան'!W7+'Մ. Արզումանյան'!W7+Ա.Մուշեղյան!W7) -> #REF! | X7: =SUM(Ա.Արզումանյան!#REF!+Հ.Ավագյան!#REF!+Ա.Վարոսյան!#REF!+Ա.Հարությունյան!#REF!+Ն.Գալստյան!#REF!+Ա.Դունամալյան!#REF!+Մ.Գևորգյան!#REF!+Դ.Ղուկեյան!#REF!+Գ.Շահբազյան!#REF!+Գ.Մարգարյան!#REF!+Ա.Անտոնյան!#REF!+'Ա. Մուշեղյան '!#REF!+'Վ. Մարգարյան'!X7+'Ա. Գաբրիելյան'!X7+'Ա. Դանիբեկյան'!X7+'Ն. Բաղդասարյան'!X7+'Դ. Հարությունյան'!X7+'Ա. Հովհաննիսյան'!X7+'Հ. Մանուկյան'!X7+'Վ. Մելիքյան'!X7+'Վ. Միսակյան'!X7+'Մ. Շահվերդյան'!X7+'Վ. Լ. Գրիգորյան'!X7+'Մ. Մելքոնյան'!X7+'Ա. Մելիքսեթյան'!X7+'Գ. Գասպարյան'!X7+Ա.Ղուկասյան!X7+'Ա. Մարտիրոսյան'!X7+'Տ. Ոսկանյան'!X7+'Ռ. Սմբատյան'!X7+'Ա. Ասատրյան'!X7+'Մ. Արամյան'!X7+'Մ. Արզումանյան'!X7+Ա.Մուշեղյան!X7) -> #REF! | Y7: =SUM(Ա.Արզումանյան!#REF!+Հ.Ավագյան!#REF!+Ա.Վարոսյան!#REF!+Ա.Հարությունյան!#REF!+Ն.Գալստյան!#REF!+Ա.Դունամալյան!#REF!+Մ.Գևորգյան!#REF!+Դ.Ղուկեյան!#REF!+Գ.Շահբազյան!#REF!+Գ.Մարգարյան!#REF!+Ա.Անտոնյան!#REF!+'Ա. Մուշեղյան '!#REF!+'Վ. Մարգարյան'!Y7+'Ա. Գաբրիելյան'!Y7+'Ա. Դանիբեկյան'!Y7+'Ն. Բաղդասարյան'!Y7+'Դ. Հարությունյան'!Y7+'Ա. Հովհաննիսյան'!Y7+'Հ. Մանուկյան'!Y7+'Վ. Մելիքյան'!Y7+'Վ. Միսակյան'!Y7+'Մ. Շահվերդյան'!Y7+'Վ. Լ. Գրիգորյան'!Y7+'Մ. Մելքոնյան'!Y7+'Ա. Մելիքսեթյան'!Y7+'Գ. Գասպարյան'!Y7+Ա.Ղուկասյան!Y7+'Ա. Մարտիրոսյան'!Y7+'Տ. Ոսկանյան'!Y7+'Ռ. Սմբատյան'!Y7+'Ա. Ասատրյան'!Y7+'Մ. Արամյան'!Y7+'Մ. Արզումանյան'!Y7+Ա.Մուշեղյան!Y7) -> #REF! | Z7: =SUM(Ա.Արզումանյան!#REF!+Հ.Ավագյան!#REF!+Ա.Վարոսյան!#REF!+Ա.Հարությունյան!#REF!+Ն.Գալստյան!#REF!+Ա.Դունամալյան!#REF!+Մ.Գևորգյան!#REF!+Դ.Ղուկեյան!#REF!+Գ.Շահբազյան!#REF!+Գ.Մարգարյան!#REF!+Ա.Անտոնյան!#REF!+'Ա. Մուշեղյան '!#REF!+'Վ. Մարգարյան'!Z7+'Ա. Գաբրիելյան'!Z7+'Ա. Դանիբեկյան'!Z7+'Ն. Բաղդասարյան'!Z7+'Դ. Հարությունյան'!Z7+'Ա. Հովհաննիսյան'!Z7+'Հ. Մանուկյան'!Z7+'Վ. Մելիքյան'!Z7+'Վ. Միսակյան'!Z7+'Մ. Շահվերդյան'!Z7+'Վ. Լ. Գրիգորյան'!Z7+'Մ. Մելքոնյան'!Z7+'Ա. Մելիքսեթյան'!Z7+'Գ. Գասպարյան'!Z7+Ա.Ղուկասյան!Z7+'Ա. Մարտիրոսյան'!Z7+'Տ. Ոսկանյան'!Z7+'Ռ. Սմբատյան'!Z7+'Ա. Ասատրյան'!Z7+'Մ. Արամյան'!Z7+'Մ. Արզումանյան'!Z7+Ա.Մուշեղյան!Z7) -> #REF! | AA7: =SUM(Ա.Արզումանյան!#REF!+Հ.Ավագյան!#REF!+Ա.Վարոսյան!#REF!+Ա.Հարությունյան!#REF!+Ն.Գալստյան!#REF!+Ա.Դունամալյան!#REF!+Մ.Գևորգյան!#REF!+Դ.Ղուկեյան!#REF!+Գ.Շահբազյան!#REF!+Գ.Մարգարյան!#REF!+Ա.Անտոնյան!#REF!+'Ա. Մուշեղյան '!#REF!+'Վ. Մարգարյան'!AA7+'Ա. Գաբրիելյան'!AA7+'Ա. Դանիբեկյան'!AA7+'Ն. Բաղդասարյան'!AA7+'Դ. Հարությունյան'!AA7+'Ա. Հովհաննիսյան'!AA7+'Հ. Մանուկյան'!AA7+'Վ. Մելիքյան'!AA7+'Վ. Միսակյան'!AA7+'Մ. Շահվերդյան'!AA7+'Վ. Լ. Գրիգորյան'!AA7+'Մ. Մելքոնյան'!AA7+'Ա. Մելիքսեթյան'!AA7+'Գ. Գասպարյան'!AA7+Ա.Ղուկասյան!AA7+'Ա. Մարտիրոսյան'!AA7+'Տ. Ոսկանյան'!AA7+'Ռ. Սմբատյան'!AA7+'Ա. Ասատրյան'!AA7+'Մ. Արամյան'!AA7+'Մ. Արզումանյան'!AA7+Ա.Մուշեղյան!AA7) -> #REF! | AB7: =SUM(Ա.Արզումանյան!#REF!+Հ.Ավագյան!#REF!+Ա.Վարոսյան!#REF!+Ա.Հարությունյան!#REF!+Ն.Գալստյան!#REF!+Ա.Դունամալյան!#REF!+Մ.Գևորգյան!#REF!+Դ.Ղուկեյան!#REF!+Գ.Շահբազյան!#REF!+Գ.Մարգարյան!#REF!+Ա.Անտոնյան!#REF!+'Ա. Մուշեղյան '!#REF!+'Վ. Մարգարյան'!AB7+'Ա. Գաբրիելյան'!AB7+'Ա. Դանիբեկյան'!AB7+'Ն. Բաղդասարյան'!AB7+'Դ. Հարությունյան'!AB7+'Ա. Հովհաննիսյան'!AB7+'Հ. Մանուկյան'!AB7+'Վ. Մելիքյան'!AB7+'Վ. Միսակյան'!AB7+'Մ. Շահվերդյան'!AB7+'Վ. Լ. Գրիգորյան'!AB7+'Մ. Մելքոնյան'!AB7+'Ա. Մելիքսեթյան'!AB7+'Գ. Գասպարյան'!AB7+Ա.Ղուկասյան!AB7+'Ա. Մարտիրոսյան'!AB7+'Տ. Ոսկանյան'!AB7+'Ռ. Սմբատյան'!AB7+'Ա. Ասատրյան'!AB7+'Մ. Արամյան'!AB7+'Մ. Արզումանյան'!AB7+Ա.Մուշեղյան!AB7) -> #REF!
A8: 2 | B8: կալանքի ժամկետը երկարաձգելու մասին միջնորդություններ | D8: =SUM(Ա.Արզումանյան!D8+Հ.Ավագյան!D8+Ա.Վարոսյան!D8+Ա.Հարությունյան!D8+Ն.Գալստյան!D8+Ա.Դունամալյան!D8+Մ.Գևորգյան!D8+Դ.Ղուկեյան!D8+Գ.Շահբազյան!D8+Գ.Մարգարյան!D8+Ա.Անտոնյան!D8+'Ա. Մուշեղյան '!D8+'Վ. Մարգարյան'!D8+'Ա. Գաբրիելյան'!D8+'Ա. Դանիբեկյան'!D8+'Ն. Բաղդասարյան'!D8+'Դ. Հարությունյան'!D8+'Ա. Հովհաննիսյան'!D8+'Հ. Մանուկյան'!D8+'Վ. Մելիքյան'!D8+'Վ. Միսակյան'!D8+'Մ. Շահվերդյան'!D8+'Վ. Լ. Գրիգորյան'!D8+'Մ. Մելքոնյան'!D8+'Ա. Մելիքսեթյան'!D8+'Գ. Գասպարյան'!D8+Ա.Ղուկասյան!D8+'Ա. Մարտիրոսյան'!D8+'Տ. Ոսկանյան'!D8+'Ռ. Սմբատյան'!D8+'Ա. Ասատրյան'!D8+'Մ. Արամյան'!D8+'Մ. Արզումանյան'!D8+Ա.Մուշեղյան!D8) -> 0 | E8: =SUM(Ա.Արզումանյան!E8+Հ.Ավագյան!E8+Ա.Վարոսյան!E8+Ա.Հարությունյան!E8+Ն.Գալստյան!E8+Ա.Դունամալյան!E8+Մ.Գևորգյան!E8+Դ.Ղուկեյան!E8+Գ.Շահբազյան!E8+Գ.Մարգարյան!E8+Ա.Անտոնյան!E8+'Ա. Մուշեղյան '!E8+'Վ. Մարգարյան'!E8+'Ա. Գաբրիելյան'!E8+'Ա. Դանիբեկյան'!E8+'Ն. Բաղդասարյան'!E8+'Դ. Հարությունյան'!E8+'Ա. Հովհաննիսյան'!E8+'Հ. Մանուկյան'!E8+'Վ. Մելիքյան'!E8+'Վ. Միսակյան'!E8+'Մ. Շահվերդյան'!E8+'Վ. Լ. Գրիգորյան'!E8+'Մ. Մելքոնյան'!E8+'Ա. Մելիքսեթյան'!E8+'Գ. Գասպարյան'!E8+Ա.Ղուկասյան!E8+'Ա. Մարտիրոսյան'!E8+'Տ. Ոսկանյան'!E8+'Ռ. Սմբատյան'!E8+'Ա. Ասատրյան'!E8+'Մ. Արամյան'!E8+'Մ. Արզումանյան'!E8+Ա.Մուշեղյան!E8) -> 28 | F8: =SUM(Ա.Արզումանյան!F8+Հ.Ավագյան!F8+Ա.Վարոսյան!F8+Ա.Հարությունյան!F8+Ն.Գալստյան!F8+Ա.Դունամալյան!F8+Մ.Գևորգյան!F8+Դ.Ղուկեյան!F8+Գ.Շահբազյան!F8+Գ.Մարգարյան!F8+Ա.Անտոնյան!F8+'Ա. Մուշեղյան '!F8+'Վ. Մարգարյան'!F8+'Ա. Գաբրիելյան'!F8+'Ա. Դանիբեկյան'!F8+'Ն. Բաղդասարյան'!F8+'Դ. Հարությունյան'!F8+'Ա. Հովհաննիսյան'!F8+'Հ. Մանուկյան'!F8+'Վ. Մելիքյան'!F8+'Վ. Միսակյան'!F8+'Մ. Շահվերդյան'!F8+'Վ. Լ. Գրիգորյան'!F8+'Մ. Մելքոնյան'!F8+'Ա. Մելիքսեթյան'!F8+'Գ. Գասպարյան'!F8+Ա.Ղուկասյան!F8+'Ա. Մարտիրոսյան'!F8+'Տ. Ոսկանյան'!F8+'Ռ. Սմբատյան'!F8+'Ա. Ասատրյան'!F8+'Մ. Արամյան'!F8+'Մ. Արզումանյան'!F8+Ա.Մուշեղյան!F8) -> 0 | G8: =SUM(Ա.Արզումանյան!G8+Հ.Ավագյան!G8+Ա.Վարոսյան!G8+Ա.Հարությունյան!G8+Ն.Գալստյան!G8+Ա.Դունամալյան!G8+Մ.Գևորգյան!G8+Դ.Ղուկեյան!G8+Գ.Շահբազյան!G8+Գ.Մարգարյան!G8+Ա.Անտոնյան!G8+'Ա. Մուշեղյան '!G8+'Վ. Մարգարյան'!G8+'Ա. Գաբրիելյան'!G8+'Ա. Դանիբեկյան'!G8+'Ն. Բաղդասարյան'!G8+'Դ. Հարությունյան'!G8+'Ա. Հովհաննիսյան'!G8+'Հ. Մանուկյան'!G8+'Վ. Մելիքյան'!G8+'Վ. Միսակյան'!G8+'Մ. Շահվերդյան'!G8+'Վ. Լ. Գրիգորյան'!G8+'Մ. Մելքոնյան'!G8+'Ա. Մելիքսեթյան'!G8+'Գ. Գասպարյան'!G8+Ա.Ղուկասյան!G8+'Ա. Մարտիրոսյան'!G8+'Տ. Ոսկանյան'!G8+'Ռ. Սմբատյան'!G8+'Ա. Ասատրյան'!G8+'Մ. Արամյան'!G8+'Մ. Արզումանյան'!G8+Ա.Մուշեղյան!G8) -> 5 | H8: =SUM(Ա.Արզումանյան!H8+Հ.Ավագյան!H8+Ա.Վարոսյան!H8+Ա.Հարությունյան!H8+Ն.Գալստյան!H8+Ա.Դունամալյան!H8+Մ.Գևորգյան!H8+Դ.Ղուկեյան!H8+Գ.Շահբազյան!H8+Գ.Մարգարյան!H8+Ա.Անտոնյան!H8+'Ա. Մուշեղյան '!H8+'Վ. Մարգարյան'!H8+'Ա. Գաբրիելյան'!H8+'Ա. Դանիբեկյան'!H8+'Ն. Բաղդասարյան'!H8+'Դ. Հարությունյան'!H8+'Ա. Հովհաննիսյան'!H8+'Հ. Մանուկյան'!H8+'Վ. Մելիքյան'!H8+'Վ. Միսակյան'!H8+'Մ. Շահվերդյան'!H8+'Վ. Լ. Գրիգորյան'!H8+'Մ. Մելքոնյան'!H8+'Ա. Մելիքսեթյան'!H8+'Գ. Գասպարյան'!H8+Ա.Ղուկասյան!H8+'Ա. Մարտիրոսյան'!H8+'Տ. Ոսկանյան'!H8+'Ռ. Սմբատյան'!H8+'Ա. Ասատրյան'!H8+'Մ. Արամյան'!H8+'Մ. Արզումանյան'!H8+Ա.Մուշեղյան!H8) -> 20 | I8: =SUM(Ա.Արզումանյան!I8+Հ.Ավագյան!I8+Ա.Վարոսյան!I8+Ա.Հարությունյան!I8+Ն.Գալստյան!I8+Ա.Դունամալյան!I8+Մ.Գևորգյան!I8+Դ.Ղուկեյան!I8+Գ.Շահբազյան!I8+Գ.Մարգարյան!I8+Ա.Անտոնյան!I8+'Ա. Մուշեղյան '!I8+'Վ. Մարգարյան'!I8+'Ա. Գաբրիելյան'!I8+'Ա. Դանիբեկյան'!I8+'Ն. Բաղդասարյան'!I8+'Դ. Հարությունյան'!I8+'Ա. Հովհաննիսյան'!I8+'Հ. Մանուկյան'!I8+'Վ. Մելիքյան'!I8+'Վ. Միսակյան'!I8+'Մ. Շահվերդյան'!I8+'Վ. Լ. Գրիգորյան'!I8+'Մ. Մելքոնյան'!I8+'Ա. Մելիքսեթյան'!I8+'Գ. Գասպարյան'!I8+Ա.Ղուկասյան!I8+'Ա. Մարտիրոսյան'!I8+'Տ. Ոսկանյան'!I8+'Ռ. Սմբատյան'!I8+'Ա. Ասատրյան'!I8+'Մ. Արամյան'!I8+'Մ. Արզումանյան'!I8+Ա.Մուշեղյան!I8) -> 2 | J8: =SUM(Ա.Արզումանյան!J8+Հ.Ավագյան!J8+Ա.Վարոսյան!J8+Ա.Հարությունյան!J8+Ն.Գալստյան!J8+Ա.Դունամալյան!J8+Մ.Գևորգյան!J8+Դ.Ղուկեյան!J8+Գ.Շահբազյան!J8+Գ.Մարգարյան!J8+Ա.Անտոնյան!J8+'Ա. Մուշեղյան '!J8+'Վ. Մարգարյան'!J8+'Ա. Գաբրիելյան'!J8+'Ա. Դանիբեկյան'!J8+'Ն. Բաղդասարյան'!J8+'Դ. Հարությունյան'!J8+'Ա. Հովհաննիսյան'!J8+'Հ. Մանուկյան'!J8+'Վ. Մելիքյան'!J8+'Վ. Միսակյան'!J8+'Մ. Շահվերդյան'!J8+'Վ. Լ. Գրիգորյան'!J8+'Մ. Մելքոնյան'!J8+'Ա. Մելիքսեթյան'!J8+'Գ. Գասպարյան'!J8+Ա.Ղուկասյան!J8+'Ա. Մարտիրոսյան'!J8+'Տ. Ոսկանյան'!J8+'Ռ. Սմբատյան'!J8+'Ա. Ասատրյան'!J8+'Մ. Արամյան'!J8+'Մ. Արզումանյան'!J8+Ա.Մուշեղյան!J8) -> 0 | K8: =SUM(Ա.Արզումանյան!K8+Հ.Ավագյան!K8+Ա.Վարոսյան!K8+Ա.Հարությունյան!K8+Ն.Գալստյան!K8+Ա.Դունամալյան!K8+Մ.Գևորգյան!K8+Դ.Ղուկեյան!K8+Գ.Շահբազյան!K8+Գ.Մարգարյան!K8+Ա.Անտոնյան!K8+'Ա. Մուշեղյան '!K8+'Վ. Մարգարյան'!K8+'Ա. Գաբրիելյան'!K8+'Ա. Դանիբեկյան'!K8+'Ն. Բաղդասարյան'!K8+'Դ. Հարությունյան'!K8+'Ա. Հովհաննիսյան'!K8+'Հ. Մանուկյան'!K8+'Վ. Մելիքյան'!K8+'Վ. Միսակյան'!K8+'Մ. Շահվերդյան'!K8+'Վ. Լ. Գրիգորյան'!K8+'Մ. Մելքոնյան'!K8+'Ա. Մելիքսեթյան'!K8+'Գ. Գասպարյան'!K8+Ա.Ղուկասյան!K8+'Ա. Մարտիրոսյան'!K8+'Տ. Ոսկանյան'!K8+'Ռ. Սմբատյան'!K8+'Ա. Ասատրյան'!K8+'Մ. Արամյան'!K8+'Մ. Արզումանյան'!K8+Ա.Մուշեղյան!K8) -> 0 | ... T8: =SUM(Ա.Արզումանյան!T8+Հ.Ավագյան!T8+Ա.Վարոսյան!T8+Ա.Հարությունյան!T8+Ն.Գալստյան!T8+Ա.Դունամալյան!T8+Մ.Գևորգյան!T8+Դ.Ղուկեյան!T8+Գ.Շահբազյան!T8+Գ.Մարգարյան!T8+Ա.Անտոնյան!T8+'Ա. Մուշեղյան '!T8+'Վ. Մարգարյան'!T8+'Ա. Գաբրիելյան'!T8+'Ա. Դանիբեկյան'!T8+'Ն. Բաղդասարյան'!T8+'Դ. Հարությունյան'!T8+'Ա. Հովհաննիսյան'!T8+'Հ. Մանուկյան'!T8+'Վ. Մելիքյան'!T8+'Վ. Միսակյան'!T8+'Մ. Շահվերդյան'!T8+'Վ. Լ. Գրիգորյան'!T8+'Մ. Մելքոնյան'!T8+'Ա. Մելիքսեթյան'!T8+'Գ. Գասպարյան'!T8+Ա.Ղուկասյան!T8+'Ա. Մարտիրոսյան'!T8+'Տ. Ոսկանյան'!T8+'Ռ. Սմբատյան'!T8+'Ա. Ասատրյան'!T8+'Մ. Արամյան'!T8+'Մ. Արզումանյան'!T8+Ա.Մուշեղյան!T8) -> 7 | U8: =SUM(Ա.Արզումանյան!#REF!+Հ.Ավագյան!#REF!+Ա.Վարոսյան!#REF!+Ա.Հարությունյան!#REF!+Ն.Գալստյան!#REF!+Ա.Դունամալյան!#REF!+Մ.Գևորգյան!#REF!+Դ.Ղուկեյան!#REF!+Գ.Շահբազյան!#REF!+Գ.Մարգարյան!#REF!+Ա.Անտոնյան!#REF!+'Ա. Մուշեղյան '!#REF!+'Վ. Մարգարյան'!U8+'Ա. Գաբրիելյան'!U8+'Ա. Դանիբեկյան'!U8+'Ն. Բաղդասարյան'!U8+'Դ. Հարությունյան'!U8+'Ա. Հովհաննիսյան'!U8+'Հ. Մանուկյան'!U8+'Վ. Մելիքյան'!U8+'Վ. Միսակյան'!U8+'Մ. Շահվերդյան'!U8+'Վ. Լ. Գրիգորյան'!U8+'Մ. Մելքոնյան'!U8+'Ա. Մելիքսեթյան'!U8+'Գ. Գասպարյան'!U8+Ա.Ղուկասյան!U8+'Ա. Մարտիրոսյան'!U8+'Տ. Ոսկանյան'!U8+'Ռ. Սմբատյան'!U8+'Ա. Ասատրյան'!U8+'Մ. Արամյան'!U8+'Մ. Արզումանյան'!U8+Ա.Մուշեղյան!U8) -> #REF! | V8: =SUM(Ա.Արզումանյան!#REF!+Հ.Ավագյան!#REF!+Ա.Վարոսյան!#REF!+Ա.Հարությունյան!#REF!+Ն.Գալստյան!#REF!+Ա.Դունամալյան!#REF!+Մ.Գևորգյան!#REF!+Դ.Ղուկեյան!#REF!+Գ.Շահբազյան!#REF!+Գ.Մարգարյան!#REF!+Ա.Անտոնյան!#REF!+'Ա. Մուշեղյան '!#REF!+'Վ. Մարգարյան'!V8+'Ա. Գաբրիելյան'!V8+'Ա. Դանիբեկյան'!V8+'Ն. Բաղդասարյան'!V8+'Դ. Հարությունյան'!V8+'Ա. Հովհաննիսյան'!V8+'Հ. Մանուկյան'!V8+'Վ. Մելիքյան'!V8+'Վ. Միսակյան'!V8+'Մ. Շահվերդյան'!V8+'Վ. Լ. Գրիգորյան'!V8+'Մ. Մելքոնյան'!V8+'Ա. Մելիքսեթյան'!V8+'Գ. Գասպարյան'!V8+Ա.Ղուկասյան!V8+'Ա. Մարտիրոսյան'!V8+'Տ. Ոսկանյան'!V8+'Ռ. Սմբատյան'!V8+'Ա. Ասատրյան'!V8+'Մ. Արամյան'!V8+'Մ. Արզումանյան'!V8+Ա.Մուշեղյան!V8) -> #REF! | W8: =SUM(Ա.Արզումանյան!#REF!+Հ.Ավագյան!#REF!+Ա.Վարոսյան!#REF!+Ա.Հարությունյան!#REF!+Ն.Գալստյան!#REF!+Ա.Դունամալյան!#REF!+Մ.Գևորգյան!#REF!+Դ.Ղուկեյան!#REF!+Գ.Շահբազյան!#REF!+Գ.Մարգարյան!#REF!+Ա.Անտոնյան!#REF!+'Ա. Մուշեղյան '!#REF!+'Վ. Մարգարյան'!W8+'Ա. Գաբրիելյան'!W8+'Ա. Դանիբեկյան'!W8+'Ն. Բաղդասարյան'!W8+'Դ. Հարությունյան'!W8+'Ա. Հովհաննիսյան'!W8+'Հ. Մանուկյան'!W8+'Վ. Մելիքյան'!W8+'Վ. Միսակյան'!W8+'Մ. Շահվերդյան'!W8+'Վ. Լ. Գրիգորյան'!W8+'Մ. Մելքոնյան'!W8+'Ա. Մելիքսեթյան'!W8+'Գ. Գասպարյան'!W8+Ա.Ղուկասյան!W8+'Ա. Մարտիրոսյան'!W8+'Տ. Ոսկանյան'!W8+'Ռ. Սմբատյան'!W8+'Ա. Ասատրյան'!W8+'Մ. Արամյան'!W8+'Մ. Արզումանյան'!W8+Ա.Մուշեղյան!W8) -> #REF! | X8: =SUM(Ա.Արզումանյան!#REF!+Հ.Ավագյան!#REF!+Ա.Վարոսյան!#REF!+Ա.Հարությունյան!#REF!+Ն.Գալստյան!#REF!+Ա.Դունամալյան!#REF!+Մ.Գևորգյան!#REF!+Դ.Ղուկեյան!#REF!+Գ.Շահբազյան!#REF!+Գ.Մարգարյան!#REF!+Ա.Անտոնյան!#REF!+'Ա. Մուշեղյան '!#REF!+'Վ. Մարգարյան'!X8+'Ա. Գաբրիելյան'!X8+'Ա. Դանիբեկյան'!X8+'Ն. Բաղդասարյան'!X8+'Դ. Հարությունյան'!X8+'Ա. Հովհաննիսյան'!X8+'Հ. Մանուկյան'!X8+'Վ. Մելիքյան'!X8+'Վ. Միսակյան'!X8+'Մ. Շահվերդյան'!X8+'Վ. Լ. Գրիգորյան'!X8+'Մ. Մելքոնյան'!X8+'Ա. Մելիքսեթյան'!X8+'Գ. Գասպարյան'!X8+Ա.Ղուկասյան!X8+'Ա. Մարտիրոսյան'!X8+'Տ. Ոսկանյան'!X8+'Ռ. Սմբատյան'!X8+'Ա. Ասատրյան'!X8+'Մ. Արամյան'!X8+'Մ. Արզումանյան'!X8+Ա.Մուշեղյան!X8) -> #REF! | Y8: =SUM(Ա.Արզումանյան!#REF!+Հ.Ավագյան!#REF!+Ա.Վարոսյան!#REF!+Ա.Հարությունյան!#REF!+Ն.Գալստյան!#REF!+Ա.Դունամալյան!#REF!+Մ.Գևորգյան!#REF!+Դ.Ղուկեյան!#REF!+Գ.Շահբազյան!#REF!+Գ.Մարգարյան!#REF!+Ա.Անտոնյան!#REF!+'Ա. Մուշեղյան '!#REF!+'Վ. Մարգարյան'!Y8+'Ա. Գաբրիելյան'!Y8+'Ա. Դանիբեկյան'!Y8+'Ն. Բաղդասարյան'!Y8+'Դ. Հարությունյան'!Y8+'Ա. Հովհաննիսյան'!Y8+'Հ. Մանուկյան'!Y8+'Վ. Մելիքյան'!Y8+'Վ. Միսակյան'!Y8+'Մ. Շահվերդյան'!Y8+'Վ. Լ. Գրիգորյան'!Y8+'Մ. Մելքոնյան'!Y8+'Ա. Մելիքսեթյան'!Y8+'Գ. Գասպարյան'!Y8+Ա.Ղուկասյան!Y8+'Ա. Մարտիրոսյան'!Y8+'Տ. Ոսկանյան'!Y8+'Ռ. Սմբատյան'!Y8+'Ա. Ասատրյան'!Y8+'Մ. Արամյան'!Y8+'Մ. Արզումանյան'!Y8+Ա.Մուշեղյան!Y8) -> #REF! | Z8: =SUM(Ա.Արզումանյան!#REF!+Հ.Ավագյան!#REF!+Ա.Վարոսյան!#REF!+Ա.Հարությունյան!#REF!+Ն.Գալստյան!#REF!+Ա.Դունամալյան!#REF!+Մ.Գևորգյան!#REF!+Դ.Ղուկեյան!#REF!+Գ.Շահբազյան!#REF!+Գ.Մարգարյան!#REF!+Ա.Անտոնյան!#REF!+'Ա. Մուշեղյան '!#REF!+'Վ. Մարգարյան'!Z8+'Ա. Գաբրիելյան'!Z8+'Ա. Դանիբեկյան'!Z8+'Ն. Բաղդասարյան'!Z8+'Դ. Հարությունյան'!Z8+'Ա. Հովհաննիսյան'!Z8+'Հ. Մանուկյան'!Z8+'Վ. Մելիքյան'!Z8+'Վ. Միսակյան'!Z8+'Մ. Շահվերդյան'!Z8+'Վ. Լ. Գրիգորյան'!Z8+'Մ. Մելքոնյան'!Z8+'Ա. Մելիքսեթյան'!Z8+'Գ. Գասպարյան'!Z8+Ա.Ղուկասյան!Z8+'Ա. Մարտիրոսյան'!Z8+'Տ. Ոսկանյան'!Z8+'Ռ. Սմբատյան'!Z8+'Ա. Ասատրյան'!Z8+'Մ. Արամյան'!Z8+'Մ. Արզումանյան'!Z8+Ա.Մուշեղյան!Z8) -> #REF! | AA8: =SUM(Ա.Արզումանյան!#REF!+Հ.Ավագյան!#REF!+Ա.Վարոսյան!#REF!+Ա.Հարությունյան!#REF!+Ն.Գալստյան!#REF!+Ա.Դունամալյան!#REF!+Մ.Գևորգյան!#REF!+Դ.Ղուկեյան!#REF!+Գ.Շահբազյան!#REF!+Գ.Մարգարյան!#REF!+Ա.Անտոնյան!#REF!+'Ա. Մուշեղյան '!#REF!+'Վ. Մարգարյան'!AA8+'Ա. Գաբրիելյան'!AA8+'Ա. Դանիբեկյան'!AA8+'Ն. Բաղդասարյան'!AA8+'Դ. Հարությունյան'!AA8+'Ա. Հովհաննիսյան'!AA8+'Հ. Մանուկյան'!AA8+'Վ. Մելիքյան'!AA8+'Վ. Միսակյան'!AA8+'Մ. Շահվերդյան'!AA8+'Վ. Լ. Գրիգորյան'!AA8+'Մ. Մելքոնյան'!AA8+'Ա. Մելիքսեթյան'!AA8+'Գ. Գասպարյան'!AA8+Ա.Ղուկասյան!AA8+'Ա. Մարտիրոսյան'!AA8+'Տ. Ոսկանյան'!AA8+'Ռ. Սմբատյան'!AA8+'Ա. Ասատրյան'!AA8+'Մ. Արամյան'!AA8+'Մ. Արզումանյան'!AA8+Ա.Մուշեղյան!AA8) -> #REF! | AB8: =SUM(Ա.Արզումանյան!#REF!+Հ.Ավագյան!#REF!+Ա.Վարոսյան!#REF!+Ա.Հարությունյան!#REF!+Ն.Գալստյան!#REF!+Ա.Դունամալյան!#REF!+Մ.Գևորգյան!#REF!+Դ.Ղուկեյան!#REF!+Գ.Շահբազյան!#REF!+Գ.Մարգարյան!#REF!+Ա.Անտոնյան!#REF!+'Ա. Մուշեղյան '!#REF!+'Վ. Մարգարյան'!AB8+'Ա. Գաբրիելյան'!AB8+'Ա. Դանիբեկյան'!AB8+'Ն. Բաղդասարյան'!AB8+'Դ. Հարությունյան'!AB8+'Ա. Հովհաննիսյան'!AB8+'Հ. Մանուկյան'!AB8+'Վ. Մելիքյան'!AB8+'Վ. Միսակյան'!AB8+'Մ. Շահվերդյան'!AB8+'Վ. Լ. Գրիգորյան'!AB8+'Մ. Մելքոնյան'!AB8+'Ա. Մելիքսեթյան'!AB8+'Գ. Գասպարյան'!AB8+Ա.Ղուկասյան!AB8+'Ա. Մարտիրոսյան'!AB8+'Տ. Ոսկանյան'!AB8+'Ռ. Սմբատյան'!AB8+'Ա. Ասատրյան'!AB8+'Մ. Արամյան'!AB8+'Մ. Արզումանյան'!AB8+Ա.Մուշեղյան!AB8) -> #REF!
A9: 3 | B9: կալանքի վերահաստատման մասին միջնորդություններ | D9: =SUM(Ա.Արզումանյան!D9+Հ.Ավագյան!D9+Ա.Վարոսյան!D9+Ա.Հարությունյան!D9+Ն.Գալստյան!D9+Ա.Դունամալյան!D9+Մ.Գևորգյան!D9+Դ.Ղուկեյան!D9+Գ.Շահբազյան!D9+Գ.Մարգարյան!D9+Ա.Անտոնյան!D9+'Ա. Մուշեղյան '!D9+'Վ. Մարգարյան'!D9+'Ա. Գաբրիելյան'!D9+'Ա. Դանիբեկյան'!D9+'Ն. Բաղդասարյան'!D9+'Դ. Հարությունյան'!D9+'Ա. Հովհաննիսյան'!D9+'Հ. Մանուկյան'!D9+'Վ. Մելիքյան'!D9+'Վ. Միսակյան'!D9+'Մ. Շահվերդյան'!D9+'Վ. Լ. Գրիգորյան'!D9+'Մ. Մելքոնյան'!D9+'Ա. Մելիքսեթյան'!D9+'Գ. Գասպարյան'!D9+Ա.Ղուկասյան!D9+'Ա. Մարտիրոսյան'!D9+'Տ. Ոսկանյան'!D9+'Ռ. Սմբատյան'!D9+'Ա. Ասատրյան'!D9+'Մ. Արամյան'!D9+'Մ. Արզումանյան'!D9+Ա.Մուշեղյան!D9) -> 0 | E9: =SUM(Ա.Արզումանյան!E9+Հ.Ավագյան!E9+Ա.Վարոսյան!E9+Ա.Հարությունյան!E9+Ն.Գալստյան!E9+Ա.Դունամալյան!E9+Մ.Գևորգյան!E9+Դ.Ղուկեյան!E9+Գ.Շահբազյան!E9+Գ.Մարգարյան!E9+Ա.Անտոնյան!E9+'Ա. Մուշեղյան '!E9+'Վ. Մարգարյան'!E9+'Ա. Գաբրիելյան'!E9+'Ա. Դանիբեկյան'!E9+'Ն. Բաղդասարյան'!E9+'Դ. Հարությունյան'!E9+'Ա. Հովհաննիսյան'!E9+'Հ. Մանուկյան'!E9+'Վ. Մելիքյան'!E9+'Վ. Միսակյան'!E9+'Մ. Շահվերդյան'!E9+'Վ. Լ. Գրիգորյան'!E9+'Մ. Մելքոնյան'!E9+'Ա. Մելիքսեթյան'!E9+'Գ. Գասպարյան'!E9+Ա.Ղուկասյան!E9+'Ա. Մարտիրոսյան'!E9+'Տ. Ոսկանյան'!E9+'Ռ. Սմբատյան'!E9+'Ա. Ասատրյան'!E9+'Մ. Արամյան'!E9+'Մ. Արզումանյան'!E9+Ա.Մուշեղյան!E9) -> 4 | F9: =SUM(Ա.Արզումանյան!F9+Հ.Ավագյան!F9+Ա.Վարոսյան!F9+Ա.Հարությունյան!F9+Ն.Գալստյան!F9+Ա.Դունամալյան!F9+Մ.Գևորգյան!F9+Դ.Ղուկեյան!F9+Գ.Շահբազյան!F9+Գ.Մարգարյան!F9+Ա.Անտոնյան!F9+'Ա. Մուշեղյան '!F9+'Վ. Մարգարյան'!F9+'Ա. Գաբրիելյան'!F9+'Ա. Դանիբեկյան'!F9+'Ն. Բաղդասարյան'!F9+'Դ. Հարությունյան'!F9+'Ա. Հովհաննիսյան'!F9+'Հ. Մանուկյան'!F9+'Վ. Մելիքյան'!F9+'Վ. Միսակյան'!F9+'Մ. Շահվերդյան'!F9+'Վ. Լ. Գրիգորյան'!F9+'Մ. Մելքոնյան'!F9+'Ա. Մելիքսեթյան'!F9+'Գ. Գասպարյան'!F9+Ա.Ղուկասյան!F9+'Ա. Մարտիրոսյան'!F9+'Տ. Ոսկանյան'!F9+'Ռ. Սմբատյան'!F9+'Ա. Ասատրյան'!F9+'Մ. Արամյան'!F9+'Մ. Արզումանյան'!F9+Ա.Մուշեղյան!F9) -> 0 | G9: =SUM(Ա.Արզումանյան!G9+Հ.Ավագյան!G9+Ա.Վարոսյան!G9+Ա.Հարությունյան!G9+Ն.Գալստյան!G9+Ա.Դունամալյան!G9+Մ.Գևորգյան!G9+Դ.Ղուկեյան!G9+Գ.Շահբազյան!G9+Գ.Մարգարյան!G9+Ա.Անտոնյան!G9+'Ա. Մուշեղյան '!G9+'Վ. Մարգարյան'!G9+'Ա. Գաբրիելյան'!G9+'Ա. Դանիբեկյան'!G9+'Ն. Բաղդասարյան'!G9+'Դ. Հարությունյան'!G9+'Ա. Հովհաննիսյան'!G9+'Հ. Մանուկյան'!G9+'Վ. Մելիքյան'!G9+'Վ. Միսակյան'!G9+'Մ. Շահվերդյան'!G9+'Վ. Լ. Գրիգորյան'!G9+'Մ. Մելքոնյան'!G9+'Ա. Մելիքսեթյան'!G9+'Գ. Գասպարյան'!G9+Ա.Ղուկասյան!G9+'Ա. Մարտիրոսյան'!G9+'Տ. Ոսկանյան'!G9+'Ռ. Սմբատյան'!G9+'Ա. Ասատրյան'!G9+'Մ. Արամյան'!G9+'Մ. Արզումանյան'!G9+Ա.Մուշեղյան!G9) -> 0 | H9: =SUM(Ա.Արզումանյան!H9+Հ.Ավագյան!H9+Ա.Վարոսյան!H9+Ա.Հարությունյան!H9+Ն.Գալստյան!H9+Ա.Դունամալյան!H9+Մ.Գևորգյան!H9+Դ.Ղուկեյան!H9+Գ.Շահբազյան!H9+Գ.Մարգարյան!H9+Ա.Անտոնյան!H9+'Ա. Մուշեղյան '!H9+'Վ. Մարգարյան'!H9+'Ա. Գաբրիելյան'!H9+'Ա. Դանիբեկյան'!H9+'Ն. Բաղդասարյան'!H9+'Դ. Հարությունյան'!H9+'Ա. Հովհաննիսյան'!H9+'Հ. Մանուկյան'!H9+'Վ. Մելիքյան'!H9+'Վ. Միսակյան'!H9+'Մ. Շահվերդյան'!H9+'Վ. Լ. Գրիգորյան'!H9+'Մ. Մելքոնյան'!H9+'Ա. Մելիքսեթյան'!H9+'Գ. Գասպարյան'!H9+Ա.Ղուկասյան!H9+'Ա. Մարտիրոսյան'!H9+'Տ. Ոսկանյան'!H9+'Ռ. Սմբատյան'!H9+'Ա. Ասատրյան'!H9+'Մ. Արամյան'!H9+'Մ. Արզումանյան'!H9+Ա.Մուշեղյան!H9) -> 3 | I9: =SUM(Ա.Արզումանյան!I9+Հ.Ավագյան!I9+Ա.Վարոսյան!I9+Ա.Հարությունյան!I9+Ն.Գալստյան!I9+Ա.Դունամալյան!I9+Մ.Գևորգյան!I9+Դ.Ղուկեյան!I9+Գ.Շահբազյան!I9+Գ.Մարգարյան!I9+Ա.Անտոնյան!I9+'Ա. Մուշեղյան '!I9+'Վ. Մարգարյան'!I9+'Ա. Գաբրիելյան'!I9+'Ա. Դանիբեկյան'!I9+'Ն. Բաղդասարյան'!I9+'Դ. Հարությունյան'!I9+'Ա. Հովհաննիսյան'!I9+'Հ. Մանուկյան'!I9+'Վ. Մելիքյան'!I9+'Վ. Միսակյան'!I9+'Մ. Շահվերդյան'!I9+'Վ. Լ. Գրիգորյան'!I9+'Մ. Մելքոնյան'!I9+'Ա. Մելիքսեթյան'!I9+'Գ. Գասպարյան'!I9+Ա.Ղուկասյան!I9+'Ա. Մարտիրոսյան'!I9+'Տ. Ոսկանյան'!I9+'Ռ. Սմբատյան'!I9+'Ա. Ասատրյան'!I9+'Մ. Արամյան'!I9+'Մ. Արզումանյան'!I9+Ա.Մուշեղյան!I9) -> 0 | J9: =SUM(Ա.Արզումանյան!J9+Հ.Ավագյան!J9+Ա.Վարոսյան!J9+Ա.Հարությունյան!J9+Ն.Գալստյան!J9+Ա.Դունամալյան!J9+Մ.Գևորգյան!J9+Դ.Ղուկեյան!J9+Գ.Շահբազյան!J9+Գ.Մարգարյան!J9+Ա.Անտոնյան!J9+'Ա. Մուշեղյան '!J9+'Վ. Մարգարյան'!J9+'Ա. Գաբրիելյան'!J9+'Ա. Դանիբեկյան'!J9+'Ն. Բաղդասարյան'!J9+'Դ. Հարությունյան'!J9+'Ա. Հովհաննիսյան'!J9+'Հ. Մանուկյան'!J9+'Վ. Մելիքյան'!J9+'Վ. Միսակյան'!J9+'Մ. Շահվերդյան'!J9+'Վ. Լ. Գրիգորյան'!J9+'Մ. Մելքոնյան'!J9+'Ա. Մելիքսեթյան'!J9+'Գ. Գասպարյան'!J9+Ա.Ղուկասյան!J9+'Ա. Մարտիրոսյան'!J9+'Տ. Ոսկանյան'!J9+'Ռ. Սմբատյան'!J9+'Ա. Ասատրյան'!J9+'Մ. Արամյան'!J9+'Մ. Արզումանյան'!J9+Ա.Մուշեղյան!J9) -> 0 | K9: =SUM(Ա.Արզումանյան!K9+Հ.Ավագյան!K9+Ա.Վարոսյան!K9+Ա.Հարությունյան!K9+Ն.Գալստյան!K9+Ա.Դունամալյան!K9+Մ.Գևորգյան!K9+Դ.Ղուկեյան!K9+Գ.Շահբազյան!K9+Գ.Մարգարյան!K9+Ա.Անտոնյան!K9+'Ա. Մուշեղյան '!K9+'Վ. Մարգարյան'!K9+'Ա. Գաբրիելյան'!K9+'Ա. Դանիբեկյան'!K9+'Ն. Բաղդասարյան'!K9+'Դ. Հարությունյան'!K9+'Ա. Հովհաննիսյան'!K9+'Հ. Մանուկյան'!K9+'Վ. Մելիքյան'!K9+'Վ. Միսակյան'!K9+'Մ. Շահվերդյան'!K9+'Վ. Լ. Գրիգորյան'!K9+'Մ. Մելքոնյան'!K9+'Ա. Մելիքսեթյան'!K9+'Գ. Գասպարյան'!K9+Ա.Ղուկասյան!K9+'Ա. Մարտիրոսյան'!K9+'Տ. Ոսկանյան'!K9+'Ռ. Սմբատյան'!K9+'Ա. Ասատրյան'!K9+'Մ. Արամյան'!K9+'Մ. Արզումանյան'!K9+Ա.Մուշեղյան!K9) -> 1 | ... T9: =SUM(Ա.Արզումանյան!T9+Հ.Ավագյան!T9+Ա.Վարոսյան!T9+Ա.Հարությունյան!T9+Ն.Գալստյան!T9+Ա.Դունամալյան!T9+Մ.Գևորգյան!T9+Դ.Ղուկեյան!T9+Գ.Շահբազյան!T9+Գ.Մարգարյան!T9+Ա.Անտոնյան!T9+'Ա. Մուշեղյան '!T9+'Վ. Մարգարյան'!T9+'Ա. Գաբրիելյան'!T9+'Ա. Դանիբեկյան'!T9+'Ն. Բաղդասարյան'!T9+'Դ. Հարությունյան'!T9+'Ա. Հովհաննիսյան'!T9+'Հ. Մանուկյան'!T9+'Վ. Մելիքյան'!T9+'Վ. Միսակյան'!T9+'Մ. Շահվերդյան'!T9+'Վ. Լ. Գրիգորյան'!T9+'Մ. Մելքոնյան'!T9+'Ա. Մելիքսեթյան'!T9+'Գ. Գասպարյան'!T9+Ա.Ղուկասյան!T9+'Ա. Մարտիրոսյան'!T9+'Տ. Ոսկանյան'!T9+'Ռ. Սմբատյան'!T9+'Ա. Ասատրյան'!T9+'Մ. Արամյան'!T9+'Մ. Արզումանյան'!T9+Ա.Մուշեղյան!T9) -> 1 | U9: =SUM(Ա.Արզումանյան!#REF!+Հ.Ավագյան!#REF!+Ա.Վարոսյան!#REF!+Ա.Հարությունյան!#REF!+Ն.Գալստյան!#REF!+Ա.Դունամալյան!#REF!+Մ.Գևորգյան!#REF!+Դ.Ղուկեյան!#REF!+Գ.Շահբազյան!#REF!+Գ.Մարգարյան!#REF!+Ա.Անտոնյան!#REF!+'Ա. Մուշեղյան '!#REF!+'Վ. Մարգարյան'!U9+'Ա. Գաբրիելյան'!U9+'Ա. Դանիբեկյան'!U9+'Ն. Բաղդասարյան'!U9+'Դ. Հարությունյան'!U9+'Ա. Հովհաննիսյան'!U9+'Հ. Մանուկյան'!U9+'Վ. Մելիքյան'!U9+'Վ. Միսակյան'!U9+'Մ. Շահվերդյան'!U9+'Վ. Լ. Գրիգորյան'!U9+'Մ. Մելքոնյան'!U9+'Ա. Մելիքսեթյան'!U9+'Գ. Գասպարյան'!U9+Ա.Ղուկասյան!U9+'Ա. Մարտիրոսյան'!U9+'Տ. Ոսկանյան'!U9+'Ռ. Սմբատյան'!U9+'Ա. Ասատրյան'!U9+'Մ. Արամյան'!U9+'Մ. Արզումանյան'!U9+Ա.Մուշեղյան!U9) -> #REF! | V9: =SUM(Ա.Արզումանյան!#REF!+Հ.Ավագյան!#REF!+Ա.Վարոսյան!#REF!+Ա.Հարությունյան!#REF!+Ն.Գալստյան!#REF!+Ա.Դունամալյան!#REF!+Մ.Գևորգյան!#REF!+Դ.Ղուկեյան!#REF!+Գ.Շահբազյան!#REF!+Գ.Մարգարյան!#REF!+Ա.Անտոնյան!#REF!+'Ա. Մուշեղյան '!#REF!+'Վ. Մարգարյան'!V9+'Ա. Գաբրիելյան'!V9+'Ա. Դանիբեկյան'!V9+'Ն. Բաղդասարյան'!V9+'Դ. Հարությունյան'!V9+'Ա. Հովհաննիսյան'!V9+'Հ. Մանուկյան'!V9+'Վ. Մելիքյան'!V9+'Վ. Միսակյան'!V9+'Մ. Շահվերդյան'!V9+'Վ. Լ. Գրիգորյան'!V9+'Մ. Մելքոնյան'!V9+'Ա. Մելիքսեթյան'!V9+'Գ. Գասպարյան'!V9+Ա.Ղուկասյան!V9+'Ա. Մարտիրոսյան'!V9+'Տ. Ոսկանյան'!V9+'Ռ. Սմբատյան'!V9+'Ա. Ասատրյան'!V9+'Մ. Արամյան'!V9+'Մ. Արզումանյան'!V9+Ա.Մուշեղյան!V9) -> #REF! | W9: =SUM(Ա.Արզումանյան!#REF!+Հ.Ավագյան!#REF!+Ա.Վարոսյան!#REF!+Ա.Հարությունյան!#REF!+Ն.Գալստյան!#REF!+Ա.Դունամալյան!#REF!+Մ.Գևորգյան!#REF!+Դ.Ղուկեյան!#REF!+Գ.Շահբազյան!#REF!+Գ.Մարգարյան!#REF!+Ա.Անտոնյան!#REF!+'Ա. Մուշեղյան '!#REF!+'Վ. Մարգարյան'!W9+'Ա. Գաբրիելյան'!W9+'Ա. Դանիբեկյան'!W9+'Ն. Բաղդասարյան'!W9+'Դ. Հարությունյան'!W9+'Ա. Հովհաննիսյան'!W9+'Հ. Մանուկյան'!W9+'Վ. Մելիքյան'!W9+'Վ. Միսակյան'!W9+'Մ. Շահվերդյան'!W9+'Վ. Լ. Գրիգորյան'!W9+'Մ. Մելքոնյան'!W9+'Ա. Մելիքսեթյան'!W9+'Գ. Գասպարյան'!W9+Ա.Ղուկասյան!W9+'Ա. Մարտիրոսյան'!W9+'Տ. Ոսկանյան'!W9+'Ռ. Սմբատյան'!W9+'Ա. Ասատրյան'!W9+'Մ. Արամյան'!W9+'Մ. Արզումանյան'!W9+Ա.Մուշեղյան!W9) -> #REF! | X9: =SUM(Ա.Արզումանյան!#REF!+Հ.Ավագյան!#REF!+Ա.Վարոսյան!#REF!+Ա.Հարությունյան!#REF!+Ն.Գալստյան!#REF!+Ա.Դունամալյան!#REF!+Մ.Գևորգյան!#REF!+Դ.Ղուկեյան!#REF!+Գ.Շահբազյան!#REF!+Գ.Մարգարյան!#REF!+Ա.Անտոնյան!#REF!+'Ա. Մուշեղյան '!#REF!+'Վ. Մարգարյան'!X9+'Ա. Գաբրիելյան'!X9+'Ա. Դանիբեկյան'!X9+'Ն. Բաղդասարյան'!X9+'Դ. Հարությունյան'!X9+'Ա. Հովհաննիսյան'!X9+'Հ. Մանուկյան'!X9+'Վ. Մելիքյան'!X9+'Վ. Միսակյան'!X9+'Մ. Շահվերդյան'!X9+'Վ. Լ. Գրիգորյան'!X9+'Մ. Մելքոնյան'!X9+'Ա. Մելիքսեթյան'!X9+'Գ. Գասպարյան'!X9+Ա.Ղուկասյան!X9+'Ա. Մարտիրոսյան'!X9+'Տ. Ոսկանյան'!X9+'Ռ. Սմբատյան'!X9+'Ա. Ասատրյան'!X9+'Մ. Արամյան'!X9+'Մ. Արզումանյան'!X9+Ա.Մուշեղյան!X9) -> #REF! | Y9: =SUM(Ա.Արզումանյան!#REF!+Հ.Ավագյան!#REF!+Ա.Վարոսյան!#REF!+Ա.Հարությունյան!#REF!+Ն.Գալստյան!#REF!+Ա.Դունամալյան!#REF!+Մ.Գևորգյան!#REF!+Դ.Ղուկեյան!#REF!+Գ.Շահբազյան!#REF!+Գ.Մարգարյան!#REF!+Ա.Անտոնյան!#REF!+'Ա. Մուշեղյան '!#REF!+'Վ. Մարգարյան'!Y9+'Ա. Գաբրիելյան'!Y9+'Ա. Դանիբեկյան'!Y9+'Ն. Բաղդասարյան'!Y9+'Դ. Հարությունյան'!Y9+'Ա. Հովհաննիսյան'!Y9+'Հ. Մանուկյան'!Y9+'Վ. Մելիքյան'!Y9+'Վ. Միսակյան'!Y9+'Մ. Շահվերդյան'!Y9+'Վ. Լ. Գրիգորյան'!Y9+'Մ. Մելքոնյան'!Y9+'Ա. Մելիքսեթյան'!Y9+'Գ. Գասպարյան'!Y9+Ա.Ղուկասյան!Y9+'Ա. Մարտիրոսյան'!Y9+'Տ. Ոսկանյան'!Y9+'Ռ. Սմբատյան'!Y9+'Ա. Ասատրյան'!Y9+'Մ. Արամյան'!Y9+'Մ. Արզումանյան'!Y9+Ա.Մուշեղյան!Y9) -> #REF! | Z9: =SUM(Ա.Արզումանյան!#REF!+Հ.Ավագյան!#REF!+Ա.Վարոսյան!#REF!+Ա.Հարությունյան!#REF!+Ն.Գալստյան!#REF!+Ա.Դունամալյան!#REF!+Մ.Գևորգյան!#REF!+Դ.Ղուկեյան!#REF!+Գ.Շահբազյան!#REF!+Գ.Մարգարյան!#REF!+Ա.Անտոնյան!#REF!+'Ա. Մուշեղյան '!#REF!+'Վ. Մարգարյան'!Z9+'Ա. Գաբրիելյան'!Z9+'Ա. Դանիբեկյան'!Z9+'Ն. Բաղդասարյան'!Z9+'Դ. Հարությունյան'!Z9+'Ա. Հովհաննիսյան'!Z9+'Հ. Մանուկյան'!Z9+'Վ. Մելիքյան'!Z9+'Վ. Միսակյան'!Z9+'Մ. Շահվերդյան'!Z9+'Վ. Լ. Գրիգորյան'!Z9+'Մ. Մելքոնյան'!Z9+'Ա. Մելիքսեթյան'!Z9+'Գ. Գասպարյան'!Z9+Ա.Ղուկասյան!Z9+'Ա. Մարտիրոսյան'!Z9+'Տ. Ոսկանյան'!Z9+'Ռ. Սմբատյան'!Z9+'Ա. Ասատրյան'!Z9+'Մ. Արամյան'!Z9+'Մ. Արզումանյան'!Z9+Ա.Մուշեղյան!Z9) -> #REF! | AA9: =SUM(Ա.Արզումանյան!#REF!+Հ.Ավագյան!#REF!+Ա.Վարոսյան!#REF!+Ա.Հարությունյան!#REF!+Ն.Գալստյան!#REF!+Ա.Դունամալյան!#REF!+Մ.Գևորգյան!#REF!+Դ.Ղուկեյան!#REF!+Գ.Շահբազյան!#REF!+Գ.Մարգարյան!#REF!+Ա.Անտոնյան!#REF!+'Ա. Մուշեղյան '!#REF!+'Վ. Մարգարյան'!AA9+'Ա. Գաբրիելյան'!AA9+'Ա. Դանիբեկյան'!AA9+'Ն. Բաղդասարյան'!AA9+'Դ. Հարությունյան'!AA9+'Ա. Հովհաննիսյան'!AA9+'Հ. Մանուկյան'!AA9+'Վ. Մելիքյան'!AA9+'Վ. Միսակյան'!AA9+'Մ. Շահվերդյան'!AA9+'Վ. Լ. Գրիգորյան'!AA9+'Մ. Մելքոնյան'!AA9+'Ա. Մելիքսեթյան'!AA9+'Գ. Գասպարյան'!AA9+Ա.Ղուկասյան!AA9+'Ա. Մարտիրոսյան'!AA9+'Տ. Ոսկանյան'!AA9+'Ռ. Սմբատյան'!AA9+'Ա. Ասատրյան'!AA9+'Մ. Արամյան'!AA9+'Մ. Արզումանյան'!AA9+Ա.Մուշեղյան!AA9) -> #REF! | AB9: =SUM(Ա.Արզումանյան!#REF!+Հ.Ավագյան!#REF!+Ա.Վարոսյան!#REF!+Ա.Հարությունյան!#REF!+Ն.Գալստյան!#REF!+Ա.Դունամալյան!#REF!+Մ.Գևորգյան!#REF!+Դ.Ղուկեյան!#REF!+Գ.Շահբազյան!#REF!+Գ.Մարգարյան!#REF!+Ա.Անտոնյան!#REF!+'Ա. Մուշեղյան '!#REF!+'Վ. Մարգարյան'!AB9+'Ա. Գաբրիելյան'!AB9+'Ա. Դանիբեկյան'!AB9+'Ն. Բաղդասարյան'!AB9+'Դ. Հարությունյան'!AB9+'Ա. Հովհաննիսյան'!AB9+'Հ. Մանուկյան'!AB9+'Վ. Մելիքյան'!AB9+'Վ. Միսակյան'!AB9+'Մ. Շահվերդյան'!AB9+'Վ. Լ. Գրիգորյան'!AB9+'Մ. Մելքոնյան'!AB9+'Ա. Մելիքսեթյան'!AB9+'Գ. Գասպարյան'!AB9+Ա.Ղուկասյան!AB9+'Ա. Մարտիրոսյան'!AB9+'Տ. Ոսկանյան'!AB9+'Ռ. Սմբատյան'!AB9+'Ա. Ասատրյան'!AB9+'Մ. Արամյան'!AB9+'Մ. Արզումանյան'!AB9+Ա.Մուշեղյան!AB9) -> #REF!
A10: 4 | B10: բժշկական հաստատությունում հարկադրաբար տեղավորելը | D10: =SUM(Ա.Արզումանյան!D10+Հ.Ավագյան!D10+Ա.Վարոսյան!D10+Ա.Հարությունյան!D10+Ն.Գալստյան!D10+Ա.Դունամալյան!D10+Մ.Գևորգյան!D10+Դ.Ղուկեյան!D10+Գ.Շահբազյան!D10+Գ.Մարգարյան!D10+Ա.Անտոնյան!D10+'Ա. Մուշեղյան '!D10+'Վ. Մարգարյան'!D10+'Ա. Գաբրիելյան'!D10+'Ա. Դանիբեկյան'!D10+'Ն. Բաղդասարյան'!D10+'Դ. Հարությունյան'!D10+'Ա. Հովհաննիսյան'!D10+'Հ. Մանուկյան'!D10+'Վ. Մելիքյան'!D10+'Վ. Միսակյան'!D10+'Մ. Շահվերդյան'!D10+'Վ. Լ. Գրիգորյան'!D10+'Մ. Մելքոնյան'!D10+'Ա. Մելիքսեթյան'!D10+'Գ. Գասպարյան'!D10+Ա.Ղուկասյան!D10+'Ա. Մարտիրոսյան'!D10+'Տ. Ոսկանյան'!D10+'Ռ. Սմբատյան'!D10+'Ա. Ասատրյան'!D10+'Մ. Արամյան'!D10+'Մ. Արզումանյան'!D10+Ա.Մուշեղյան!D10) -> 0 | E10: =SUM(Ա.Արզումանյան!E10+Հ.Ավագյան!E10+Ա.Վարոսյան!E10+Ա.Հարությունյան!E10+Ն.Գալստյան!E10+Ա.Դունամալյան!E10+Մ.Գևորգյան!E10+Դ.Ղուկեյան!E10+Գ.Շահբազյան!E10+Գ.Մարգարյան!E10+Ա.Անտոնյան!E10+'Ա. Մուշեղյան '!E10+'Վ. Մարգարյան'!E10+'Ա. Գաբրիելյան'!E10+'Ա. Դանիբեկյան'!E10+'Ն. Բաղդասարյան'!E10+'Դ. Հարությունյան'!E10+'Ա. Հովհաննիսյան'!E10+'Հ. Մանուկյան'!E10+'Վ. Մելիքյան'!E10+'Վ. Միսակյան'!E10+'Մ. Շահվերդյան'!E10+'Վ. Լ. Գրիգորյան'!E10+'Մ. Մելքոնյան'!E10+'Ա. Մելիքսեթյան'!E10+'Գ. Գասպարյան'!E10+Ա.Ղուկասյան!E10+'Ա. Մարտիրոսյան'!E10+'Տ. Ոսկանյան'!E10+'Ռ. Սմբատյան'!E10+'Ա. Ասատրյան'!E10+'Մ. Արամյան'!E10+'Մ. Արզումանյան'!E10+Ա.Մուշեղյան!E10) -> 0 | F10: =SUM(Ա.Արզումանյան!F10+Հ.Ավագյան!F10+Ա.Վարոսյան!F10+Ա.Հարությունյան!F10+Ն.Գալստյան!F10+Ա.Դունամալյան!F10+Մ.Գևորգյան!F10+Դ.Ղուկեյան!F10+Գ.Շահբազյան!F10+Գ.Մարգարյան!F10+Ա.Անտոնյան!F10+'Ա. Մուշեղյան '!F10+'Վ. Մարգարյան'!F10+'Ա. Գաբրիելյան'!F10+'Ա. Դանիբեկյան'!F10+'Ն. Բաղդասարյան'!F10+'Դ. Հարությունյան'!F10+'Ա. Հովհաննիսյան'!F10+'Հ. Մանուկյան'!F10+'Վ. Մելիքյան'!F10+'Վ. Միսակյան'!F10+'Մ. Շահվերդյան'!F10+'Վ. Լ. Գրիգորյան'!F10+'Մ. Մելքոնյան'!F10+'Ա. Մելիքսեթյան'!F10+'Գ. Գասպարյան'!F10+Ա.Ղուկասյան!F10+'Ա. Մարտիրոսյան'!F10+'Տ. Ոսկանյան'!F10+'Ռ. Սմբատյան'!F10+'Ա. Ասատրյան'!F10+'Մ. Արամյան'!F10+'Մ. Արզումանյան'!F10+Ա.Մուշեղյան!F10) -> 0 | G10: =SUM(Ա.Արզումանյան!G10+Հ.Ավագյան!G10+Ա.Վարոսյան!G10+Ա.Հարությունյան!G10+Ն.Գալստյան!G10+Ա.Դունամալյան!G10+Մ.Գևորգյան!G10+Դ.Ղուկեյան!G10+Գ.Շահբազյան!G10+Գ.Մարգարյան!G10+Ա.Անտոնյան!G10+'Ա. Մուշեղյան '!G10+'Վ. Մարգարյան'!G10+'Ա. Գաբրիելյան'!G10+'Ա. Դանիբեկյան'!G10+'Ն. Բաղդասարյան'!G10+'Դ. Հարությունյան'!G10+'Ա. Հովհաննիսյան'!G10+'Հ. Մանուկյան'!G10+'Վ. Մելիքյան'!G10+'Վ. Միսակյան'!G10+'Մ. Շահվերդյան'!G10+'Վ. Լ. Գրիգորյան'!G10+'Մ. Մելքոնյան'!G10+'Ա. Մելիքսեթյան'!G10+'Գ. Գասպարյան'!G10+Ա.Ղուկասյան!G10+'Ա. Մարտիրոսյան'!G10+'Տ. Ոսկանյան'!G10+'Ռ. Սմբատյան'!G10+'Ա. Ասատրյան'!G10+'Մ. Արամյան'!G10+'Մ. Արզումանյան'!G10+Ա.Մուշեղյան!G10) -> 0 | H10: =SUM(Ա.Արզումանյան!H10+Հ.Ավագյան!H10+Ա.Վարոսյան!H10+Ա.Հարությունյան!H10+Ն.Գալստյան!H10+Ա.Դունամալյան!H10+Մ.Գևորգյան!H10+Դ.Ղուկեյան!H10+Գ.Շահբազյան!H10+Գ.Մարգարյան!H10+Ա.Անտոնյան!H10+'Ա. Մուշեղյան '!H10+'Վ. Մարգարյան'!H10+'Ա. Գաբրիելյան'!H10+'Ա. Դանիբեկյան'!H10+'Ն. Բաղդասարյան'!H10+'Դ. Հարությունյան'!H10+'Ա. Հովհաննիսյան'!H10+'Հ. Մանուկյան'!H10+'Վ. Մելիքյան'!H10+'Վ. Միսակյան'!H10+'Մ. Շահվերդյան'!H10+'Վ. Լ. Գրիգորյան'!H10+'Մ. Մելքոնյան'!H10+'Ա. Մելիքսեթյան'!H10+'Գ. Գասպարյան'!H10+Ա.Ղուկասյան!H10+'Ա. Մարտիրոսյան'!H10+'Տ. Ոսկանյան'!H10+'Ռ. Սմբատյան'!H10+'Ա. Ասատրյան'!H10+'Մ. Արամյան'!H10+'Մ. Արզումանյան'!H10+Ա.Մուշեղյան!H10) -> 0 | I10: =SUM(Ա.Արզումանյան!I10+Հ.Ավագյան!I10+Ա.Վարոսյան!I10+Ա.Հարությունյան!I10+Ն.Գալստյան!I10+Ա.Դունամալյան!I10+Մ.Գևորգյան!I10+Դ.Ղուկեյան!I10+Գ.Շահբազյան!I10+Գ.Մարգարյան!I10+Ա.Անտոնյան!I10+'Ա. Մուշեղյան '!I10+'Վ. Մարգարյան'!I10+'Ա. Գաբրիելյան'!I10+'Ա. Դանիբեկյան'!I10+'Ն. Բաղդասարյան'!I10+'Դ. Հարությունյան'!I10+'Ա. Հովհաննիսյան'!I10+'Հ. Մանուկյան'!I10+'Վ. Մելիքյան'!I10+'Վ. Միսակյան'!I10+'Մ. Շահվերդյան'!I10+'Վ. Լ. Գրիգորյան'!I10+'Մ. Մելքոնյան'!I10+'Ա. Մելիքսեթյան'!I10+'Գ. Գասպարյան'!I10+Ա.Ղուկասյան!I10+'Ա. Մարտիրոսյան'!I10+'Տ. Ոսկանյան'!I10+'Ռ. Սմբատյան'!I10+'Ա. Ասատրյան'!I10+'Մ. Արամյան'!I10+'Մ. Արզումանյան'!I10+Ա.Մուշեղյան!I10) -> 0 | J10: =SUM(Ա.Արզումանյան!J10+Հ.Ավագյան!J10+Ա.Վարոսյան!J10+Ա.Հարությունյան!J10+Ն.Գալստյան!J10+Ա.Դունամալյան!J10+Մ.Գևորգյան!J10+Դ.Ղուկեյան!J10+Գ.Շահբազյան!J10+Գ.Մարգարյան!J10+Ա.Անտոնյան!J10+'Ա. Մուշեղյան '!J10+'Վ. Մարգարյան'!J10+'Ա. Գաբրիելյան'!J10+'Ա. Դանիբեկյան'!J10+'Ն. Բաղդասարյան'!J10+'Դ. Հարությունյան'!J10+'Ա. Հովհաննիսյան'!J10+'Հ. Մանուկյան'!J10+'Վ. Մելիքյան'!J10+'Վ. Միսակյան'!J10+'Մ. Շահվերդյան'!J10+'Վ. Լ. Գրիգորյան'!J10+'Մ. Մելքոնյան'!J10+'Ա. Մելիքսեթյան'!J10+'Գ. Գասպարյան'!J10+Ա.Ղուկասյան!J10+'Ա. Մարտիրոսյան'!J10+'Տ. Ոսկանյան'!J10+'Ռ. Սմբատյան'!J10+'Ա. Ասատրյան'!J10+'Մ. Արամյան'!J10+'Մ. Արզումանյան'!J10+Ա.Մուշեղյան!J10) -> 0 | K10: =SUM(Ա.Արզումանյան!K10+Հ.Ավագյան!K10+Ա.Վարոսյան!K10+Ա.Հարությունյան!K10+Ն.Գալստյան!K10+Ա.Դունամալյան!K10+Մ.Գևորգյան!K10+Դ.Ղուկեյան!K10+Գ.Շահբազյան!K10+Գ.Մարգարյան!K10+Ա.Անտոնյան!K10+'Ա. Մուշեղյան '!K10+'Վ. Մարգարյան'!K10+'Ա. Գաբրիելյան'!K10+'Ա. Դանիբեկյան'!K10+'Ն. Բաղդասարյան'!K10+'Դ. Հարությունյան'!K10+'Ա. Հովհաննիսյան'!K10+'Հ. Մանուկյան'!K10+'Վ. Մելիքյան'!K10+'Վ. Միսակյան'!K10+'Մ. Շահվերդյան'!K10+'Վ. Լ. Գրիգորյան'!K10+'Մ. Մելքոնյան'!K10+'Ա. Մելիքսեթյան'!K10+'Գ. Գասպարյան'!K10+Ա.Ղուկասյան!K10+'Ա. Մարտիրոսյան'!K10+'Տ. Ոսկանյան'!K10+'Ռ. Սմբատյան'!K10+'Ա. Ասատրյան'!K10+'Մ. Արամյան'!K10+'Մ. Արզումանյան'!K10+Ա.Մուշեղյան!K10) -> 0 | ... T10: =SUM(Ա.Արզումանյան!T10+Հ.Ավագյան!T10+Ա.Վարոսյան!T10+Ա.Հարությունյան!T10+Ն.Գալստյան!T10+Ա.Դունամալյան!T10+Մ.Գևորգյան!T10+Դ.Ղուկեյան!T10+Գ.Շահբազյան!T10+Գ.Մարգարյան!T10+Ա.Անտոնյան!T10+'Ա. Մուշեղյան '!T10+'Վ. Մարգարյան'!T10+'Ա. Գաբրիելյան'!T10+'Ա. Դանիբեկյան'!T10+'Ն. Բաղդասարյան'!T10+'Դ. Հարությունյան'!T10+'Ա. Հովհաննիսյան'!T10+'Հ. Մանուկյան'!T10+'Վ. Մելիքյան'!T10+'Վ. Միսակյան'!T10+'Մ. Շահվերդյան'!T10+'Վ. Լ. Գրիգորյան'!T10+'Մ. Մելքոնյան'!T10+'Ա. Մելիքսեթյան'!T10+'Գ. Գասպարյան'!T10+Ա.Ղուկասյան!T10+'Ա. Մարտիրոսյան'!T10+'Տ. Ոսկանյան'!T10+'Ռ. Սմբատյան'!T10+'Ա. Ասատրյան'!T10+'Մ. Արամյան'!T10+'Մ. Արզումանյան'!T10+Ա.Մուշեղյան!T10) -> 0 | U10: =SUM(Ա.Արզումանյան!#REF!+Հ.Ավագյան!#REF!+Ա.Վարոսյան!#REF!+Ա.Հարությունյան!#REF!+Ն.Գալստյան!#REF!+Ա.Դունամալյան!#REF!+Մ.Գևորգյան!#REF!+Դ.Ղուկեյան!#REF!+Գ.Շահբազյան!#REF!+Գ.Մարգարյան!#REF!+Ա.Անտոնյան!#REF!+'Ա. Մուշեղյան '!#REF!+'Վ. Մարգարյան'!U10+'Ա. Գաբրիելյան'!U10+'Ա. Դանիբեկյան'!U10+'Ն. Բաղդասարյան'!U10+'Դ. Հարությունյան'!U10+'Ա. Հովհաննիսյան'!U10+'Հ. Մանուկյան'!U10+'Վ. Մելիքյան'!U10+'Վ. Միսակյան'!U10+'Մ. Շահվերդյան'!U10+'Վ. Լ. Գրիգորյան'!U10+'Մ. Մելքոնյան'!U10+'Ա. Մելիքսեթյան'!U10+'Գ. Գասպարյան'!U10+Ա.Ղուկասյան!U10+'Ա. Մարտիրոսյան'!U10+'Տ. Ոսկանյան'!U10+'Ռ. Սմբատյան'!U10+'Ա. Ասատրյան'!U10+'Մ. Արամյան'!U10+'Մ. Արզումանյան'!U10+Ա.Մուշեղյան!U10) -> #REF! | V10: =SUM(Ա.Արզումանյան!#REF!+Հ.Ավագյան!#REF!+Ա.Վարոսյան!#REF!+Ա.Հարությունյան!#REF!+Ն.Գալստյան!#REF!+Ա.Դունամալյան!#REF!+Մ.Գևորգյան!#REF!+Դ.Ղուկեյան!#REF!+Գ.Շահբազյան!#REF!+Գ.Մարգարյան!#REF!+Ա.Անտոնյան!#REF!+'Ա. Մուշեղյան '!#REF!+'Վ. Մարգարյան'!V10+'Ա. Գաբրիելյան'!V10+'Ա. Դանիբեկյան'!V10+'Ն. Բաղդասարյան'!V10+'Դ. Հարությունյան'!V10+'Ա. Հովհաննիսյան'!V10+'Հ. Մանուկյան'!V10+'Վ. Մելիքյան'!V10+'Վ. Միսակյան'!V10+'Մ. Շահվերդյան'!V10+'Վ. Լ. Գրիգորյան'!V10+'Մ. Մելքոնյան'!V10+'Ա. Մելիքսեթյան'!V10+'Գ. Գասպարյան'!V10+Ա.Ղուկասյան!V10+'Ա. Մարտիրոսյան'!V10+'Տ. Ոսկանյան'!V10+'Ռ. Սմբատյան'!V10+'Ա. Ասատրյան'!V10+'Մ. Արամյան'!V10+'Մ. Արզումանյան'!V10+Ա.Մուշեղյան!V10) -> #REF! | W10: =SUM(Ա.Արզումանյան!#REF!+Հ.Ավագյան!#REF!+Ա.Վարոսյան!#REF!+Ա.Հարությունյան!#REF!+Ն.Գալստյան!#REF!+Ա.Դունամալյան!#REF!+Մ.Գևորգյան!#REF!+Դ.Ղուկեյան!#REF!+Գ.Շահբազյան!#REF!+Գ.Մարգարյան!#REF!+Ա.Անտոնյան!#REF!+'Ա. Մուշեղյան '!#REF!+'Վ. Մարգարյան'!W10+'Ա. Գաբրիելյան'!W10+'Ա. Դանիբեկյան'!W10+'Ն. Բաղդասարյան'!W10+'Դ. Հարությունյան'!W10+'Ա. Հովհաննիսյան'!W10+'Հ. Մանուկյան'!W10+'Վ. Մելիքյան'!W10+'Վ. Միսակյան'!W10+'Մ. Շահվերդյան'!W10+'Վ. Լ. Գրիգորյան'!W10+'Մ. Մելքոնյան'!W10+'Ա. Մելիքսեթյան'!W10+'Գ. Գասպարյան'!W10+Ա.Ղուկասյան!W10+'Ա. Մարտիրոսյան'!W10+'Տ. Ոսկանյան'!W10+'Ռ. Սմբատյան'!W10+'Ա. Ասատրյան'!W10+'Մ. Արամյան'!W10+'Մ. Արզումանյան'!W10+Ա.Մուշեղյան!W10) -> #REF! | X10: =SUM(Ա.Արզումանյան!#REF!+Հ.Ավագյան!#REF!+Ա.Վարոսյան!#REF!+Ա.Հարությունյան!#REF!+Ն.Գալստյան!#REF!+Ա.Դունամալյան!#REF!+Մ.Գևորգյան!#REF!+Դ.Ղուկեյան!#REF!+Գ.Շահբազյան!#REF!+Գ.Մարգարյան!#REF!+Ա.Անտոնյան!#REF!+'Ա. Մուշեղյան '!#REF!+'Վ. Մարգարյան'!X10+'Ա. Գաբրիելյան'!X10+'Ա. Դանիբեկյան'!X10+'Ն. Բաղդասարյան'!X10+'Դ. Հարությունյան'!X10+'Ա. Հովհաննիսյան'!X10+'Հ. Մանուկյան'!X10+'Վ. Մելիքյան'!X10+'Վ. Միսակյան'!X10+'Մ. Շահվերդյան'!X10+'Վ. Լ. Գրիգորյան'!X10+'Մ. Մելքոնյան'!X10+'Ա. Մելիքսեթյան'!X10+'Գ. Գասպարյան'!X10+Ա.Ղուկասյան!X10+'Ա. Մարտիրոսյան'!X10+'Տ. Ոսկանյան'!X10+'Ռ. Սմբատյան'!X10+'Ա. Ասատրյան'!X10+'Մ. Արամյան'!X10+'Մ. Արզումանյան'!X10+Ա.Մուշեղյան!X10) -> #REF! | Y10: =SUM(Ա.Արզումանյան!#REF!+Հ.Ավագյան!#REF!+Ա.Վարոսյան!#REF!+Ա.Հարությունյան!#REF!+Ն.Գալստյան!#REF!+Ա.Դունամալյան!#REF!+Մ.Գևորգյան!#REF!+Դ.Ղուկեյան!#REF!+Գ.Շահբազյան!#REF!+Գ.Մարգարյան!#REF!+Ա.Անտոնյան!#REF!+'Ա. Մուշեղյան '!#REF!+'Վ. Մարգարյան'!Y10+'Ա. Գաբրիելյան'!Y10+'Ա. Դանիբեկյան'!Y10+'Ն. Բաղդասարյան'!Y10+'Դ. Հարությունյան'!Y10+'Ա. Հովհաննիսյան'!Y10+'Հ. Մանուկյան'!Y10+'Վ. Մելիքյան'!Y10+'Վ. Միսակյան'!Y10+'Մ. Շահվերդյան'!Y10+'Վ. Լ. Գրիգորյան'!Y10+'Մ. Մելքոնյան'!Y10+'Ա. Մելիքսեթյան'!Y10+'Գ. Գասպարյան'!Y10+Ա.Ղուկասյան!Y10+'Ա. Մարտիրոսյան'!Y10+'Տ. Ոսկանյան'!Y10+'Ռ. Սմբատյան'!Y10+'Ա. Ասատրյան'!Y10+'Մ. Արամյան'!Y10+'Մ. Արզումանյան'!Y10+Ա.Մուշեղյան!Y10) -> #REF! | Z10: =SUM(Ա.Արզումանյան!#REF!+Հ.Ավագյան!#REF!+Ա.Վարոսյան!#REF!+Ա.Հարությունյան!#REF!+Ն.Գալստյան!#REF!+Ա.Դունամալյան!#REF!+Մ.Գևորգյան!#REF!+Դ.Ղուկեյան!#REF!+Գ.Շահբազյան!#REF!+Գ.Մարգարյան!#REF!+Ա.Անտոնյան!#REF!+'Ա. Մուշեղյան '!#REF!+'Վ. Մարգարյան'!Z10+'Ա. Գաբրիելյան'!Z10+'Ա. Դանիբեկյան'!Z10+'Ն. Բաղդասարյան'!Z10+'Դ. Հարությունյան'!Z10+'Ա. Հովհաննիսյան'!Z10+'Հ. Մանուկյան'!Z10+'Վ. Մելիքյան'!Z10+'Վ. Միսակյան'!Z10+'Մ. Շահվերդյան'!Z10+'Վ. Լ. Գրիգորյան'!Z10+'Մ. Մելքոնյան'!Z10+'Ա. Մելիքսեթյան'!Z10+'Գ. Գասպարյան'!Z10+Ա.Ղուկասյան!Z10+'Ա. Մարտիրոսյան'!Z10+'Տ. Ոսկանյան'!Z10+'Ռ. Սմբատյան'!Z10+'Ա. Ասատրյան'!Z10+'Մ. Արամյան'!Z10+'Մ. Արզումանյան'!Z10+Ա.Մուշեղյան!Z10) -> #REF! | AA10: =SUM(Ա.Արզումանյան!#REF!+Հ.Ավագյան!#REF!+Ա.Վարոսյան!#REF!+Ա.Հարությունյան!#REF!+Ն.Գալստյան!#REF!+Ա.Դունամալյան!#REF!+Մ.Գևորգյան!#REF!+Դ.Ղուկեյան!#REF!+Գ.Շահբազյան!#REF!+Գ.Մարգարյան!#REF!+Ա.Անտոնյան!#REF!+'Ա. Մուշեղյան '!#REF!+'Վ. Մարգարյան'!AA10+'Ա. Գաբրիելյան'!AA10+'Ա. Դանիբեկյան'!AA10+'Ն. Բաղդասարյան'!AA10+'Դ. Հարությունյան'!AA10+'Ա. Հովհաննիսյան'!AA10+'Հ. Մանուկյան'!AA10+'Վ. Մելիքյան'!AA10+'Վ. Միսակյան'!AA10+'Մ. Շահվերդյան'!AA10+'Վ. Լ. Գրիգորյան'!AA10+'Մ. Մելքոնյան'!AA10+'Ա. Մելիքսեթյան'!AA10+'Գ. Գասպարյան'!AA10+Ա.Ղուկասյան!AA10+'Ա. Մարտիրոսյան'!AA10+'Տ. Ոսկանյան'!AA10+'Ռ. Սմբատյան'!AA10+'Ա. Ասատրյան'!AA10+'Մ. Արամյան'!AA10+'Մ. Արզումանյան'!AA10+Ա.Մուշեղյան!AA10) -> #REF! | AB10: =SUM(Ա.Արզումանյան!#REF!+Հ.Ավագյան!#REF!+Ա.Վարոսյան!#REF!+Ա.Հարությունյան!#REF!+Ն.Գալստյան!#REF!+Ա.Դունամալյան!#REF!+Մ.Գևորգյան!#REF!+Դ.Ղուկեյան!#REF!+Գ.Շահբազյան!#REF!+Գ.Մարգարյան!#REF!+Ա.Անտոնյան!#REF!+'Ա. Մուշեղյան '!#REF!+'Վ. Մարգարյան'!AB10+'Ա. Գաբրիելյան'!AB10+'Ա. Դանիբեկյան'!AB10+'Ն. Բաղդասարյան'!AB10+'Դ. Հարությունյան'!AB10+'Ա. Հովհաննիսյան'!AB10+'Հ. Մանուկյան'!AB10+'Վ. Մելիքյան'!AB10+'Վ. Միսակյան'!AB10+'Մ. Շահվերդյան'!AB10+'Վ. Լ. Գրիգորյան'!AB10+'Մ. Մելքոնյան'!AB10+'Ա. Մելիքսեթյան'!AB10+'Գ. Գասպարյան'!AB10+Ա.Ղուկասյան!AB10+'Ա. Մարտիրոսյան'!AB10+'Տ. Ոսկանյան'!AB10+'Ռ. Սմբատյան'!AB10+'Ա. Ասատրյան'!AB10+'Մ. Արամյան'!AB10+'Մ. Արզումանյան'!AB10+Ա.Մուշեղյան!AB10) -> #REF!
A11: 5 | B11: Ձերբակալման իրավաչափությունը վիճարկելու մասին բողոքներ | D11: =SUM(Ա.Արզումանյան!D11+Հ.Ավագյան!D11+Ա.Վարոսյան!D11+Ա.Հարությունյան!D11+Ն.Գալստյան!D11+Ա.Դունամալյան!D11+Մ.Գևորգյան!D11+Դ.Ղուկեյան!D11+Գ.Շահբազյան!D11+Գ.Մարգարյան!D11+Ա.Անտոնյան!D11+'Ա. Մուշեղյան '!D11+'Վ. Մարգարյան'!D11+'Ա. Գաբրիելյան'!D11+'Ա. Դանիբեկյան'!D11+'Ն. Բաղդասարյան'!D11+'Դ. Հարությունյան'!D11+'Ա. Հովհաննիսյան'!D11+'Հ. Մանուկյան'!D11+'Վ. Մելիքյան'!D11+'Վ. Միսակյան'!D11+'Մ. Շահվերդյան'!D11+'Վ. Լ. Գրիգորյան'!D11+'Մ. Մելքոնյան'!D11+'Ա. Մելիքսեթյան'!D11+'Գ. Գասպարյան'!D11+Ա.Ղուկասյան!D11+'Ա. Մարտիրոսյան'!D11+'Տ. Ոսկանյան'!D11+'Ռ. Սմբատյան'!D11+'Ա. Ասատրյան'!D11+'Մ. Արամյան'!D11+'Մ. Արզումանյան'!D11+Ա.Մուշեղյան!D11) -> 0 | E11: =SUM(Ա.Արզումանյան!E11+Հ.Ավագյան!E11+Ա.Վարոսյան!E11+Ա.Հարությունյան!E11+Ն.Գալստյան!E11+Ա.Դունամալյան!E11+Մ.Գևորգյան!E11+Դ.Ղուկեյան!E11+Գ.Շահբազյան!E11+Գ.Մարգարյան!E11+Ա.Անտոնյան!E11+'Ա. Մուշեղյան '!E11+'Վ. Մարգարյան'!E11+'Ա. Գաբրիելյան'!E11+'Ա. Դանիբեկյան'!E11+'Ն. Բաղդասարյան'!E11+'Դ. Հարությունյան'!E11+'Ա. Հովհաննիսյան'!E11+'Հ. Մանուկյան'!E11+'Վ. Մելիքյան'!E11+'Վ. Միսակյան'!E11+'Մ. Շահվերդյան'!E11+'Վ. Լ. Գրիգորյան'!E11+'Մ. Մելքոնյան'!E11+'Ա. Մելիքսեթյան'!E11+'Գ. Գասպարյան'!E11+Ա.Ղուկասյան!E11+'Ա. Մարտիրոսյան'!E11+'Տ. Ոսկանյան'!E11+'Ռ. Սմբատյան'!E11+'Ա. Ասատրյան'!E11+'Մ. Արամյան'!E11+'Մ. Արզումանյան'!E11+Ա.Մուշեղյան!E11) -> 0 | F11: =SUM(Ա.Արզումանյան!F11+Հ.Ավագյան!F11+Ա.Վարոսյան!F11+Ա.Հարությունյան!F11+Ն.Գալստյան!F11+Ա.Դունամալյան!F11+Մ.Գևորգյան!F11+Դ.Ղուկեյան!F11+Գ.Շահբազյան!F11+Գ.Մարգարյան!F11+Ա.Անտոնյան!F11+'Ա. Մուշեղյան '!F11+'Վ. Մարգարյան'!F11+'Ա. Գաբրիելյան'!F11+'Ա. Դանիբեկյան'!F11+'Ն. Բաղդասարյան'!F11+'Դ. Հարությունյան'!F11+'Ա. Հովհաննիսյան'!F11+'Հ. Մանուկյան'!F11+'Վ. Մելիքյան'!F11+'Վ. Միսակյան'!F11+'Մ. Շահվերդյան'!F11+'Վ. Լ. Գրիգորյան'!F11+'Մ. Մելքոնյան'!F11+'Ա. Մելիքսեթյան'!F11+'Գ. Գասպարյան'!F11+Ա.Ղուկասյան!F11+'Ա. Մարտիրոսյան'!F11+'Տ. Ոսկանյան'!F11+'Ռ. Սմբատյան'!F11+'Ա. Ասատրյան'!F11+'Մ. Արամյան'!F11+'Մ. Արզումանյան'!F11+Ա.Մուշեղյան!F11) -> 0 | G11: =SUM(Ա.Արզումանյան!G11+Հ.Ավագյան!G11+Ա.Վարոսյան!G11+Ա.Հարությունյան!G11+Ն.Գալստյան!G11+Ա.Դունամալյան!G11+Մ.Գևորգյան!G11+Դ.Ղուկեյան!G11+Գ.Շահբազյան!G11+Գ.Մարգարյան!G11+Ա.Անտոնյան!G11+'Ա. Մուշեղյան '!G11+'Վ. Մարգարյան'!G11+'Ա. Գաբրիելյան'!G11+'Ա. Դանիբեկյան'!G11+'Ն. Բաղդասարյան'!G11+'Դ. Հարությունյան'!G11+'Ա. Հովհաննիսյան'!G11+'Հ. Մանուկյան'!G11+'Վ. Մելիքյան'!G11+'Վ. Միսակյան'!G11+'Մ. Շահվերդյան'!G11+'Վ. Լ. Գրիգորյան'!G11+'Մ. Մելքոնյան'!G11+'Ա. Մելիքսեթյան'!G11+'Գ. Գասպարյան'!G11+Ա.Ղուկասյան!G11+'Ա. Մարտիրոսյան'!G11+'Տ. Ոսկանյան'!G11+'Ռ. Սմբատյան'!G11+'Ա. Ասատրյան'!G11+'Մ. Արամյան'!G11+'Մ. Արզումանյան'!G11+Ա.Մուշեղյան!G11) -> 0 | H11: =SUM(Ա.Արզումանյան!H11+Հ.Ավագյան!H11+Ա.Վարոսյան!H11+Ա.Հարությունյան!H11+Ն.Գալստյան!H11+Ա.Դունամալյան!H11+Մ.Գևորգյան!H11+Դ.Ղուկեյան!H11+Գ.Շահբազյան!H11+Գ.Մարգարյան!H11+Ա.Անտոնյան!H11+'Ա. Մուշեղյան '!H11+'Վ. Մարգարյան'!H11+'Ա. Գաբրիելյան'!H11+'Ա. Դանիբեկյան'!H11+'Ն. Բաղդասարյան'!H11+'Դ. Հարությունյան'!H11+'Ա. Հովհաննիսյան'!H11+'Հ. Մանուկյան'!H11+'Վ. Մելիքյան'!H11+'Վ. Միսակյան'!H11+'Մ. Շահվերդյան'!H11+'Վ. Լ. Գրիգորյան'!H11+'Մ. Մելքոնյան'!H11+'Ա. Մելիքսեթյան'!H11+'Գ. Գասպարյան'!H11+Ա.Ղուկասյան!H11+'Ա. Մարտիրոսյան'!H11+'Տ. Ոսկանյան'!H11+'Ռ. Սմբատյան'!H11+'Ա. Ասատրյան'!H11+'Մ. Արամյան'!H11+'Մ. Արզումանյան'!H11+Ա.Մուշեղյան!H11) -> 0 | I11: =SUM(Ա.Արզումանյան!I11+Հ.Ավագյան!I11+Ա.Վարոսյան!I11+Ա.Հարությունյան!I11+Ն.Գալստյան!I11+Ա.Դունամալյան!I11+Մ.Գևորգյան!I11+Դ.Ղուկեյան!I11+Գ.Շահբազյան!I11+Գ.Մարգարյան!I11+Ա.Անտոնյան!I11+'Ա. Մուշեղյան '!I11+'Վ. Մարգարյան'!I11+'Ա. Գաբրիելյան'!I11+'Ա. Դանիբեկյան'!I11+'Ն. Բաղդասարյան'!I11+'Դ. Հարությունյան'!I11+'Ա. Հովհաննիսյան'!I11+'Հ. Մանուկյան'!I11+'Վ. Մելիքյան'!I11+'Վ. Միսակյան'!I11+'Մ. Շահվերդյան'!I11+'Վ. Լ. Գրիգորյան'!I11+'Մ. Մելքոնյան'!I11+'Ա. Մելիքսեթյան'!I11+'Գ. Գասպարյան'!I11+Ա.Ղուկասյան!I11+'Ա. Մարտիրոսյան'!I11+'Տ. Ոսկանյան'!I11+'Ռ. Սմբատյան'!I11+'Ա. Ասատրյան'!I11+'Մ. Արամյան'!I11+'Մ. Արզումանյան'!I11+Ա.Մուշեղյան!I11) -> 0 | J11: =SUM(Ա.Արզումանյան!J11+Հ.Ավագյան!J11+Ա.Վարոսյան!J11+Ա.Հարությունյան!J11+Ն.Գալստյան!J11+Ա.Դունամալյան!J11+Մ.Գևորգյան!J11+Դ.Ղուկեյան!J11+Գ.Շահբազյան!J11+Գ.Մարգարյան!J11+Ա.Անտոնյան!J11+'Ա. Մուշեղյան '!J11+'Վ. Մարգարյան'!J11+'Ա. Գաբրիելյան'!J11+'Ա. Դանիբեկյան'!J11+'Ն. Բաղդասարյան'!J11+'Դ. Հարությունյան'!J11+'Ա. Հովհաննիսյան'!J11+'Հ. Մանուկյան'!J11+'Վ. Մելիքյան'!J11+'Վ. Միսակյան'!J11+'Մ. Շահվերդյան'!J11+'Վ. Լ. Գրիգորյան'!J11+'Մ. Մելքոնյան'!J11+'Ա. Մելիքսեթյան'!J11+'Գ. Գասպարյան'!J11+Ա.Ղուկասյան!J11+'Ա. Մարտիրոսյան'!J11+'Տ. Ոսկանյան'!J11+'Ռ. Սմբատյան'!J11+'Ա. Ասատրյան'!J11+'Մ. Արամյան'!J11+'Մ. Արզումանյան'!J11+Ա.Մուշեղյան!J11) -> 0 | K11: =SUM(Ա.Արզումանյան!K11+Հ.Ավագյան!K11+Ա.Վարոսյան!K11+Ա.Հարությունյան!K11+Ն.Գալստյան!K11+Ա.Դունամալյան!K11+Մ.Գևորգյան!K11+Դ.Ղուկեյան!K11+Գ.Շահբազյան!K11+Գ.Մարգարյան!K11+Ա.Անտոնյան!K11+'Ա. Մուշեղյան '!K11+'Վ. Մարգարյան'!K11+'Ա. Գաբրիելյան'!K11+'Ա. Դանիբեկյան'!K11+'Ն. Բաղդասարյան'!K11+'Դ. Հարությունյան'!K11+'Ա. Հովհաննիսյան'!K11+'Հ. Մանուկյան'!K11+'Վ. Մելիքյան'!K11+'Վ. Միսակյան'!K11+'Մ. Շահվերդյան'!K11+'Վ. Լ. Գրիգորյան'!K11+'Մ. Մելքոնյան'!K11+'Ա. Մելիքսեթյան'!K11+'Գ. Գասպարյան'!K11+Ա.Ղուկասյան!K11+'Ա. Մարտիրոսյան'!K11+'Տ. Ոսկանյան'!K11+'Ռ. Սմբատյան'!K11+'Ա. Ասատրյան'!K11+'Մ. Արամյան'!K11+'Մ. Արզումանյան'!K11+Ա.Մուշեղյան!K11) -> 0 | ... T11: =SUM(Ա.Արզումանյան!T11+Հ.Ավագյան!T11+Ա.Վարոսյան!T11+Ա.Հարությունյան!T11+Ն.Գալստյան!T11+Ա.Դունամալյան!T11+Մ.Գևորգյան!T11+Դ.Ղուկեյան!T11+Գ.Շահբազյան!T11+Գ.Մարգարյան!T11+Ա.Անտոնյան!T11+'Ա. Մուշեղյան '!T11+'Վ. Մարգարյան'!T11+'Ա. Գաբրիելյան'!T11+'Ա. Դանիբեկյան'!T11+'Ն. Բաղդասարյան'!T11+'Դ. Հարությունյան'!T11+'Ա. Հովհաննիսյան'!T11+'Հ. Մանուկյան'!T11+'Վ. Մելիքյան'!T11+'Վ. Միսակյան'!T11+'Մ. Շահվերդյան'!T11+'Վ. Լ. Գրիգորյան'!T11+'Մ. Մելքոնյան'!T11+'Ա. Մելիքսեթյան'!T11+'Գ. Գասպարյան'!T11+Ա.Ղուկասյան!T11+'Ա. Մարտիրոսյան'!T11+'Տ. Ոսկանյան'!T11+'Ռ. Սմբատյան'!T11+'Ա. Ասատրյան'!T11+'Մ. Արամյան'!T11+'Մ. Արզումանյան'!T11+Ա.Մուշեղյան!T11) -> 0 | U11: =SUM(Ա.Արզումանյան!#REF!+Հ.Ավագյան!#REF!+Ա.Վարոսյան!#REF!+Ա.Հարությունյան!#REF!+Ն.Գալստյան!#REF!+Ա.Դունամալյան!#REF!+Մ.Գևորգյան!#REF!+Դ.Ղուկեյան!#REF!+Գ.Շահբազյան!#REF!+Գ.Մարգարյան!#REF!+Ա.Անտոնյան!#REF!+'Ա. Մուշեղյան '!#REF!+'Վ. Մարգարյան'!U11+'Ա. Գաբրիելյան'!U11+'Ա. Դանիբեկյան'!U11+'Ն. Բաղդասարյան'!U11+'Դ. Հարությունյան'!U11+'Ա. Հովհաննիսյան'!U11+'Հ. Մանուկյան'!U11+'Վ. Մելիքյան'!U11+'Վ. Միսակյան'!U11+'Մ. Շահվերդյան'!U11+'Վ. Լ. Գրիգորյան'!U11+'Մ. Մելքոնյան'!U11+'Ա. Մելիքսեթյան'!U11+'Գ. Գասպարյան'!U11+Ա.Ղուկասյան!U11+'Ա. Մարտիրոսյան'!U11+'Տ. Ոսկանյան'!U11+'Ռ. Սմբատյան'!U11+'Ա. Ասատրյան'!U11+'Մ. Արամյան'!U11+'Մ. Արզումանյան'!U11+Ա.Մուշեղյան!U11) -> #REF! | V11: =SUM(Ա.Արզումանյան!#REF!+Հ.Ավագյան!#REF!+Ա.Վարոսյան!#REF!+Ա.Հարությունյան!#REF!+Ն.Գալստյան!#REF!+Ա.Դունամալյան!#REF!+Մ.Գևորգյան!#REF!+Դ.Ղուկեյան!#REF!+Գ.Շահբազյան!#REF!+Գ.Մարգարյան!#REF!+Ա.Անտոնյան!#REF!+'Ա. Մուշեղյան '!#REF!+'Վ. Մարգարյան'!V11+'Ա. Գաբրիելյան'!V11+'Ա. Դանիբեկյան'!V11+'Ն. Բաղդասարյան'!V11+'Դ. Հարությունյան'!V11+'Ա. Հովհաննիսյան'!V11+'Հ. Մանուկյան'!V11+'Վ. Մելիքյան'!V11+'Վ. Միսակյան'!V11+'Մ. Շահվերդյան'!V11+'Վ. Լ. Գրիգորյան'!V11+'Մ. Մելքոնյան'!V11+'Ա. Մելիքսեթյան'!V11+'Գ. Գասպարյան'!V11+Ա.Ղուկասյան!V11+'Ա. Մարտիրոսյան'!V11+'Տ. Ոսկանյան'!V11+'Ռ. Սմբատյան'!V11+'Ա. Ասատրյան'!V11+'Մ. Արամյան'!V11+'Մ. Արզումանյան'!V11+Ա.Մուշեղյան!V11) -> #REF! | W11: =SUM(Ա.Արզումանյան!#REF!+Հ.Ավագյան!#REF!+Ա.Վարոսյան!#REF!+Ա.Հարությունյան!#REF!+Ն.Գալստյան!#REF!+Ա.Դունամալյան!#REF!+Մ.Գևորգյան!#REF!+Դ.Ղուկեյան!#REF!+Գ.Շահբազյան!#REF!+Գ.Մարգարյան!#REF!+Ա.Անտոնյան!#REF!+'Ա. Մուշեղյան '!#REF!+'Վ. Մարգարյան'!W11+'Ա. Գաբրիելյան'!W11+'Ա. Դանիբեկյան'!W11+'Ն. Բաղդասարյան'!W11+'Դ. Հարությունյան'!W11+'Ա. Հովհաննիսյան'!W11+'Հ. Մանուկյան'!W11+'Վ. Մելիքյան'!W11+'Վ. Միսակյան'!W11+'Մ. Շահվերդյան'!W11+'Վ. Լ. Գրիգորյան'!W11+'Մ. Մելքոնյան'!W11+'Ա. Մելիքսեթյան'!W11+'Գ. Գասպարյան'!W11+Ա.Ղուկասյան!W11+'Ա. Մարտիրոսյան'!W11+'Տ. Ոսկանյան'!W11+'Ռ. Սմբատյան'!W11+'Ա. Ասատրյան'!W11+'Մ. Արամյան'!W11+'Մ. Արզումանյան'!W11+Ա.Մուշեղյան!W11) -> #REF! | X11: =SUM(Ա.Արզումանյան!#REF!+Հ.Ավագյան!#REF!+Ա.Վարոսյան!#REF!+Ա.Հարությունյան!#REF!+Ն.Գալստյան!#REF!+Ա.Դունամալյան!#REF!+Մ.Գևորգյան!#REF!+Դ.Ղուկեյան!#REF!+Գ.Շահբազյան!#REF!+Գ.Մարգարյան!#REF!+Ա.Անտոնյան!#REF!+'Ա. Մուշեղյան '!#REF!+'Վ. Մարգարյան'!X11+'Ա. Գաբրիելյան'!X11+'Ա. Դանիբեկյան'!X11+'Ն. Բաղդասարյան'!X11+'Դ. Հարությունյան'!X11+'Ա. Հովհաննիսյան'!X11+'Հ. Մանուկյան'!X11+'Վ. Մելիքյան'!X11+'Վ. Միսակյան'!X11+'Մ. Շահվերդյան'!X11+'Վ. Լ. Գրիգորյան'!X11+'Մ. Մելքոնյան'!X11+'Ա. Մելիքսեթյան'!X11+'Գ. Գասպարյան'!X11+Ա.Ղուկասյան!X11+'Ա. Մարտիրոսյան'!X11+'Տ. Ոսկանյան'!X11+'Ռ. Սմբատյան'!X11+'Ա. Ասատրյան'!X11+'Մ. Արամյան'!X11+'Մ. Արզումանյան'!X11+Ա.Մուշեղյան!X11) -> #REF! | Y11: =SUM(Ա.Արզումանյան!#REF!+Հ.Ավագյան!#REF!+Ա.Վարոսյան!#REF!+Ա.Հարությունյան!#REF!+Ն.Գալստյան!#REF!+Ա.Դունամալյան!#REF!+Մ.Գևորգյան!#REF!+Դ.Ղուկեյան!#REF!+Գ.Շահբազյան!#REF!+Գ.Մարգարյան!#REF!+Ա.Անտոնյան!#REF!+'Ա. Մուշեղյան '!#REF!+'Վ. Մարգարյան'!Y11+'Ա. Գաբրիելյան'!Y11+'Ա. Դանիբեկյան'!Y11+'Ն. Բաղդասարյան'!Y11+'Դ. Հարությունյան'!Y11+'Ա. Հովհաննիսյան'!Y11+'Հ. Մանուկյան'!Y11+'Վ. Մելիքյան'!Y11+'Վ. Միսակյան'!Y11+'Մ. Շահվերդյան'!Y11+'Վ. Լ. Գրիգորյան'!Y11+'Մ. Մելքոնյան'!Y11+'Ա. Մելիքսեթյան'!Y11+'Գ. Գասպարյան'!Y11+Ա.Ղուկասյան!Y11+'Ա. Մարտիրոսյան'!Y11+'Տ. Ոսկանյան'!Y11+'Ռ. Սմբատյան'!Y11+'Ա. Ասատրյան'!Y11+'Մ. Արամյան'!Y11+'Մ. Արզումանյան'!Y11+Ա.Մուշեղյան!Y11) -> #REF! | Z11: =SUM(Ա.Արզումանյան!#REF!+Հ.Ավագյան!#REF!+Ա.Վարոսյան!#REF!+Ա.Հարությունյան!#REF!+Ն.Գալստյան!#REF!+Ա.Դունամալյան!#REF!+Մ.Գևորգյան!#REF!+Դ.Ղուկեյան!#REF!+Գ.Շահբազյան!#REF!+Գ.Մարգարյան!#REF!+Ա.Անտոնյան!#REF!+'Ա. Մուշեղյան '!#REF!+'Վ. Մարգարյան'!Z11+'Ա. Գաբրիելյան'!Z11+'Ա. Դանիբեկյան'!Z11+'Ն. Բաղդասարյան'!Z11+'Դ. Հարությունյան'!Z11+'Ա. Հովհաննիսյան'!Z11+'Հ. Մանուկյան'!Z11+'Վ. Մելիքյան'!Z11+'Վ. Միսակյան'!Z11+'Մ. Շահվերդյան'!Z11+'Վ. Լ. Գրիգորյան'!Z11+'Մ. Մելքոնյան'!Z11+'Ա. Մելիքսեթյան'!Z11+'Գ. Գասպարյան'!Z11+Ա.Ղուկասյան!Z11+'Ա. Մարտիրոսյան'!Z11+'Տ. Ոսկանյան'!Z11+'Ռ. Սմբատյան'!Z11+'Ա. Ասատրյան'!Z11+'Մ. Արամյան'!Z11+'Մ. Արզումանյան'!Z11+Ա.Մուշեղյան!Z11) -> #REF! | AA11: =SUM(Ա.Արզումանյան!#REF!+Հ.Ավագյան!#REF!+Ա.Վարոսյան!#REF!+Ա.Հարությունյան!#REF!+Ն.Գալստյան!#REF!+Ա.Դունամալյան!#REF!+Մ.Գևորգյան!#REF!+Դ.Ղուկեյան!#REF!+Գ.Շահբազյան!#REF!+Գ.Մարգարյան!#REF!+Ա.Անտոնյան!#REF!+'Ա. Մուշեղյան '!#REF!+'Վ. Մարգարյան'!AA11+'Ա. Գաբրիելյան'!AA11+'Ա. Դանիբեկյան'!AA11+'Ն. Բաղդասարյան'!AA11+'Դ. Հարությունյան'!AA11+'Ա. Հովհաննիսյան'!AA11+'Հ. Մանուկյան'!AA11+'Վ. Մելիքյան'!AA11+'Վ. Միսակյան'!AA11+'Մ. Շահվերդյան'!AA11+'Վ. Լ. Գրիգորյան'!AA11+'Մ. Մելքոնյան'!AA11+'Ա. Մելիքսեթյան'!AA11+'Գ. Գասպարյան'!AA11+Ա.Ղուկասյան!AA11+'Ա. Մարտիրոսյան'!AA11+'Տ. Ոսկանյան'!AA11+'Ռ. Սմբատյան'!AA11+'Ա. Ասատրյան'!AA11+'Մ. Արամյան'!AA11+'Մ. Արզումանյան'!AA11+Ա.Մուշեղյան!AA11) -> #REF! | AB11: =SUM(Ա.Արզումանյան!#REF!+Հ.Ավագյան!#REF!+Ա.Վարոսյան!#REF!+Ա.Հարությունյան!#REF!+Ն.Գալստյան!#REF!+Ա.Դունամալյան!#REF!+Մ.Գևորգյան!#REF!+Դ.Ղուկեյան!#REF!+Գ.Շահբազյան!#REF!+Գ.Մարգարյան!#REF!+Ա.Անտոնյան!#REF!+'Ա. Մուշեղյան '!#REF!+'Վ. Մարգարյան'!AB11+'Ա. Գաբրիելյան'!AB11+'Ա. Դանիբեկյան'!AB11+'Ն. Բաղդասարյան'!AB11+'Դ. Հարությունյան'!AB11+'Ա. Հովհաննիսյան'!AB11+'Հ. Մանուկյան'!AB11+'Վ. Մելիքյան'!AB11+'Վ. Միսակյան'!AB11+'Մ. Շահվերդյան'!AB11+'Վ. Լ. Գրիգորյան'!AB11+'Մ. Մելքոնյան'!AB11+'Ա. Մելիքսեթյան'!AB11+'Գ. Գասպարյան'!AB11+Ա.Ղուկասյան!AB11+'Ա. Մարտիրոսյան'!AB11+'Տ. Ոսկանյան'!AB11+'Ռ. Սմբատյան'!AB11+'Ա. Ասատրյան'!AB11+'Մ. Արամյան'!AB11+'Մ. Արզումանյան'!AB11+Ա.Մուշեղյան!AB11) -> #REF!
A12: 1.1 Այլընտրանքային խափանման միջոցները | D12: =SUM(D13:D20) -> 0 | E12: =SUM(E13:E20) -> 2 | F12: =SUM(F13:F20) -> 0 | G12: =SUM(G13:G20) -> 0 | H12: =SUM(H13:H20) -> 2 | I12: =SUM(I13:I20) -> 0 | J12: =SUM(J13:J20) -> 0 | K12: =SUM(K13:K20) -> 0 | ... T12: =SUM(T13:T20) -> 0 | U12: =SUM(Ա.Արզումանյան!#REF!+Հ.Ավագյան!#REF!+Ա.Մուշեղյան!U12) -> #REF! | V12: =SUM(Ա.Արզումանյան!#REF!+Հ.Ավագյան!#REF!+Ա.Մուշեղյան!V12) -> #REF! | W12: =SUM(Ա.Արզումանյան!#REF!+Հ.Ավագյան!#REF!+Ա.Մուշեղյան!W12) -> #REF! | X12: =SUM(Ա.Արզումանյան!#REF!+Հ.Ավագյան!#REF!+Ա.Մուշեղյան!X12) -> #REF! | Y12: =SUM(Ա.Արզումանյան!#REF!+Հ.Ավագյան!#REF!+Ա.Մուշեղյան!Y12) -> #REF! | Z12: =SUM(Ա.Արզումանյան!#REF!+Հ.Ավագյան!#REF!+Ա.Մուշեղյան!Z12) -> #REF! | AA12: =SUM(Ա.Արզումանյան!#REF!+Հ.Ավագյան!#REF!+Ա.Մուշեղյան!AA12) -> #REF! | AB12: =SUM(Ա.Արզումանյան!#REF!+Հ.Ավագյան!#REF!+Ա.Մուշեղյան!AB12) -> #REF!
A13: 1 | B13: տնային կալանք կիրառելու մասին միջնորդություններ | D13: =SUM(Ա.Արզումանյան!D13+Հ.Ավագյան!D13+Ա.Վարոսյան!D13+Ա.Հարությունյան!D13+Ն.Գալստյան!D13+Ա.Դունամալյան!D13+Մ.Գևորգյան!D13+Դ.Ղուկեյան!D13+Գ.Շահբազյան!D13+Գ.Մարգարյան!D13+Ա.Անտոնյան!D13+'Ա. Մուշեղյան '!D13+'Վ. Մարգարյան'!D13+'Ա. Գաբրիելյան'!D13+'Ա. Դանիբեկյան'!D13+'Ն. Բաղդասարյան'!D13+'Դ. Հարությունյան'!D13+'Ա. Հովհաննիսյան'!D13+'Հ. Մանուկյան'!D13+'Վ. Մելիքյան'!D13+'Վ. Միսակյան'!D13+'Մ. Շահվերդյան'!D13+'Վ. Լ. Գրիգորյան'!D13+'Մ. Մելքոնյան'!D13+'Ա. Մելիքսեթյան'!D13+'Գ. Գասպարյան'!D13+Ա.Ղուկասյան!D13+'Ա. Մարտիրոսյան'!D13+'Տ. Ոսկանյան'!D13+'Ռ. Սմբատյան'!D13+'Ա. Ասատրյան'!D13+'Մ. Արամյան'!D13+'Մ. Արզումանյան'!D13+Ա.Մուշեղյան!D13) -> 0 | E13: =SUM(Ա.Արզումանյան!E13+Հ.Ավագյան!E13+Ա.Վարոսյան!E13+Ա.Հարությունյան!E13+Ն.Գալստյան!E13+Ա.Դունամալյան!E13+Մ.Գևորգյան!E13+Դ.Ղուկեյան!E13+Գ.Շահբազյան!E13+Գ.Մարգարյան!E13+Ա.Անտոնյան!E13+'Ա. Մուշեղյան '!E13+'Վ. Մարգարյան'!E13+'Ա. Գաբրիելյան'!E13+'Ա. Դանիբեկյան'!E13+'Ն. Բաղդասարյան'!E13+'Դ. Հարությունյան'!E13+'Ա. Հովհաննիսյան'!E13+'Հ. Մանուկյան'!E13+'Վ. Մելիքյան'!E13+'Վ. Միսակյան'!E13+'Մ. Շահվերդյան'!E13+'Վ. Լ. Գրիգորյան'!E13+'Մ. Մելքոնյան'!E13+'Ա. Մելիքսեթյան'!E13+'Գ. Գասպարյան'!E13+Ա.Ղուկասյան!E13+'Ա. Մարտիրոսյան'!E13+'Տ. Ոսկանյան'!E13+'Ռ. Սմբատյան'!E13+'Ա. Ասատրյան'!E13+'Մ. Արամյան'!E13+'Մ. Արզումանյան'!E13+Ա.Մուշեղյան!E13) -> 1 | F13: =SUM(Ա.Արզումանյան!F13+Հ.Ավագյան!F13+Ա.Վարոսյան!F13+Ա.Հարությունյան!F13+Ն.Գալստյան!F13+Ա.Դունամալյան!F13+Մ.Գևորգյան!F13+Դ.Ղուկեյան!F13+Գ.Շահբազյան!F13+Գ.Մարգարյան!F13+Ա.Անտոնյան!F13+'Ա. Մուշեղյան '!F13+'Վ. Մարգարյան'!F13+'Ա. Գաբրիելյան'!F13+'Ա. Դանիբեկյան'!F13+'Ն. Բաղդասարյան'!F13+'Դ. Հարությունյան'!F13+'Ա. Հովհաննիսյան'!F13+'Հ. Մանուկյան'!F13+'Վ. Մելիքյան'!F13+'Վ. Միսակյան'!F13+'Մ. Շահվերդյան'!F13+'Վ. Լ. Գրիգորյան'!F13+'Մ. Մելքոնյան'!F13+'Ա. Մելիքսեթյան'!F13+'Գ. Գասպարյան'!F13+Ա.Ղուկասյան!F13+'Ա. Մարտիրոսյան'!F13+'Տ. Ոսկանյան'!F13+'Ռ. Սմբատյան'!F13+'Ա. Ասատրյան'!F13+'Մ. Արամյան'!F13+'Մ. Արզումանյան'!F13+Ա.Մուշեղյան!F13) -> 0 | G13: =SUM(Ա.Արզումանյան!G13+Հ.Ավագյան!G13+Ա.Վարոսյան!G13+Ա.Հարությունյան!G13+Ն.Գալստյան!G13+Ա.Դունամալյան!G13+Մ.Գևորգյան!G13+Դ.Ղուկեյան!G13+Գ.Շահբազյան!G13+Գ.Մարգարյան!G13+Ա.Անտոնյան!G13+'Ա. Մուշեղյան '!G13+'Վ. Մարգարյան'!G13+'Ա. Գաբրիելյան'!G13+'Ա. Դանիբեկյան'!G13+'Ն. Բաղդասարյան'!G13+'Դ. Հարությունյան'!G13+'Ա. Հովհաննիսյան'!G13+'Հ. Մանուկյան'!G13+'Վ. Մելիքյան'!G13+'Վ. Միսակյան'!G13+'Մ. Շահվերդյան'!G13+'Վ. Լ. Գրիգորյան'!G13+'Մ. Մելքոնյան'!G13+'Ա. Մելիքսեթյան'!G13+'Գ. Գասպարյան'!G13+Ա.Ղուկասյան!G13+'Ա. Մարտիրոսյան'!G13+'Տ. Ոսկանյան'!G13+'Ռ. Սմբատյան'!G13+'Ա. Ասատրյան'!G13+'Մ. Արամյան'!G13+'Մ. Արզումանյան'!G13+Ա.Մուշեղյան!G13) -> 0 | H13: =SUM(Ա.Արզումանյան!H13+Հ.Ավագյան!H13+Ա.Վարոսյան!H13+Ա.Հարությունյան!H13+Ն.Գալստյան!H13+Ա.Դունամալյան!H13+Մ.Գևորգյան!H13+Դ.Ղուկեյան!H13+Գ.Շահբազյան!H13+Գ.Մարգարյան!H13+Ա.Անտոնյան!H13+'Ա. Մուշեղյան '!H13+'Վ. Մարգարյան'!H13+'Ա. Գաբրիելյան'!H13+'Ա. Դանիբեկյան'!H13+'Ն. Բաղդասարյան'!H13+'Դ. Հարությունյան'!H13+'Ա. Հովհաննիսյան'!H13+'Հ. Մանուկյան'!H13+'Վ. Մելիքյան'!H13+'Վ. Միսակյան'!H13+'Մ. Շահվերդյան'!H13+'Վ. Լ. Գրիգորյան'!H13+'Մ. Մելքոնյան'!H13+'Ա. Մելիքսեթյան'!H13+'Գ. Գասպարյան'!H13+Ա.Ղուկասյան!H13+'Ա. Մարտիրոսյան'!H13+'Տ. Ոսկանյան'!H13+'Ռ. Սմբատյան'!H13+'Ա. Ասատրյան'!H13+'Մ. Արամյան'!H13+'Մ. Արզումանյան'!H13+Ա.Մուշեղյան!H13) -> 1 | I13: =SUM(Ա.Արզումանյան!I13+Հ.Ավագյան!I13+Ա.Վարոսյան!I13+Ա.Հարությունյան!I13+Ն.Գալստյան!I13+Ա.Դունամալյան!I13+Մ.Գևորգյան!I13+Դ.Ղուկեյան!I13+Գ.Շահբազյան!I13+Գ.Մարգարյան!I13+Ա.Անտոնյան!I13+'Ա. Մուշեղյան '!I13+'Վ. Մարգարյան'!I13+'Ա. Գաբրիելյան'!I13+'Ա. Դանիբեկյան'!I13+'Ն. Բաղդասարյան'!I13+'Դ. Հարությունյան'!I13+'Ա. Հովհաննիսյան'!I13+'Հ. Մանուկյան'!I13+'Վ. Մելիքյան'!I13+'Վ. Միսակյան'!I13+'Մ. Շահվերդյան'!I13+'Վ. Լ. Գրիգորյան'!I13+'Մ. Մելքոնյան'!I13+'Ա. Մելիքսեթյան'!I13+'Գ. Գասպարյան'!I13+Ա.Ղուկասյան!I13+'Ա. Մարտիրոսյան'!I13+'Տ. Ոսկանյան'!I13+'Ռ. Սմբատյան'!I13+'Ա. Ասատրյան'!I13+'Մ. Արամյան'!I13+'Մ. Արզումանյան'!I13+Ա.Մուշեղյան!I13) -> 0 | J13: =SUM(Ա.Արզումանյան!J13+Հ.Ավագյան!J13+Ա.Վարոսյան!J13+Ա.Հարությունյան!J13+Ն.Գալստյան!J13+Ա.Դունամալյան!J13+Մ.Գևորգյան!J13+Դ.Ղուկեյան!J13+Գ.Շահբազյան!J13+Գ.Մարգարյան!J13+Ա.Անտոնյան!J13+'Ա. Մուշեղյան '!J13+'Վ. Մարգարյան'!J13+'Ա. Գաբրիելյան'!J13+'Ա. Դանիբեկյան'!J13+'Ն. Բաղդասարյան'!J13+'Դ. Հարությունյան'!J13+'Ա. Հովհաննիսյան'!J13+'Հ. Մանուկյան'!J13+'Վ. Մելիքյան'!J13+'Վ. Միսակյան'!J13+'Մ. Շահվերդյան'!J13+'Վ. Լ. Գրիգորյան'!J13+'Մ. Մելքոնյան'!J13+'Ա. Մելիքսեթյան'!J13+'Գ. Գասպարյան'!J13+Ա.Ղուկասյան!J13+'Ա. Մարտիրոսյան'!J13+'Տ. Ոսկանյան'!J13+'Ռ. Սմբատյան'!J13+'Ա. Ասատրյան'!J13+'Մ. Արամյան'!J13+'Մ. Արզումանյան'!J13+Ա.Մուշեղյան!J13) -> 0 | K13: =SUM(Ա.Արզումանյան!K13+Հ.Ավագյան!K13+Ա.Վարոսյան!K13+Ա.Հարությունյան!K13+Ն.Գալստյան!K13+Ա.Դունամալյան!K13+Մ.Գևորգյան!K13+Դ.Ղուկեյան!K13+Գ.Շահբազյան!K13+Գ.Մարգարյան!K13+Ա.Անտոնյան!K13+'Ա. Մուշեղյան '!K13+'Վ. Մարգարյան'!K13+'Ա. Գաբրիելյան'!K13+'Ա. Դանիբեկյան'!K13+'Ն. Բաղդասարյան'!K13+'Դ. Հարությունյան'!K13+'Ա. Հովհաննիսյան'!K13+'Հ. Մանուկյան'!K13+'Վ. Մելիքյան'!K13+'Վ. Միսակյան'!K13+'Մ. Շահվերդյան'!K13+'Վ. Լ. Գրիգորյան'!K13+'Մ. Մելքոնյան'!K13+'Ա. Մելիքսեթյան'!K13+'Գ. Գասպարյան'!K13+Ա.Ղուկասյան!K13+'Ա. Մարտիրոսյան'!K13+'Տ. Ոսկանյան'!K13+'Ռ. Սմբատյան'!K13+'Ա. Ասատրյան'!K13+'Մ. Արամյան'!K13+'Մ. Արզումանյան'!K13+Ա.Մուշեղյան!K13) -> 0 | ... T13: =SUM(Ա.Արզումանյան!T13+Հ.Ավագյան!T13+Ա.Վարոսյան!T13+Ա.Հարությունյան!T13+Ն.Գալստյան!T13+Ա.Դունամալյան!T13+Մ.Գևորգյան!T13+Դ.Ղուկեյան!T13+Գ.Շահբազյան!T13+Գ.Մարգարյան!T13+Ա.Անտոնյան!T13+'Ա. Մուշեղյան '!T13+'Վ. Մարգարյան'!T13+'Ա. Գաբրիելյան'!T13+'Ա. Դանիբեկյան'!T13+'Ն. Բաղդասարյան'!T13+'Դ. Հարությունյան'!T13+'Ա. Հովհաննիսյան'!T13+'Հ. Մանուկյան'!T13+'Վ. Մելիքյան'!T13+'Վ. Միսակյան'!T13+'Մ. Շահվերդյան'!T13+'Վ. Լ. Գրիգորյան'!T13+'Մ. Մելքոնյան'!T13+'Ա. Մելիքսեթյան'!T13+'Գ. Գասպարյան'!T13+Ա.Ղուկասյան!T13+'Ա. Մարտիրոսյան'!T13+'Տ. Ոսկանյան'!T13+'Ռ. Սմբատյան'!T13+'Ա. Ասատրյան'!T13+'Մ. Արամյան'!T13+'Մ. Արզումանյան'!T13+Ա.Մուշեղյան!T13) -> 0 | U13: =SUM(Ա.Արզումանյան!#REF!+Հ.Ավագյան!#REF!+Ա.Վարոսյան!#REF!+Ա.Հարությունյան!#REF!+Ն.Գալստյան!#REF!+Ա.Դունամալյան!#REF!+Մ.Գևորգյան!#REF!+Դ.Ղուկեյան!#REF!+Գ.Շահբազյան!#REF!+Գ.Մարգարյան!#REF!+Ա.Անտոնյան!#REF!+'Ա. Մուշեղյան '!#REF!+'Վ. Մարգարյան'!U13+'Ա. Գաբրիելյան'!U13+'Ա. Դանիբեկյան'!U13+'Ն. Բաղդասարյան'!U13+'Դ. Հարությունյան'!U13+'Ա. Հովհաննիսյան'!U13+'Հ. Մանուկյան'!U13+'Վ. Մելիքյան'!U13+'Վ. Միսակյան'!U13+'Մ. Շահվերդյան'!U13+'Վ. Լ. Գրիգորյան'!U13+'Մ. Մելքոնյան'!U13+'Ա. Մելիքսեթյան'!U13+'Գ. Գասպարյան'!U13+Ա.Ղուկասյան!U13+'Ա. Մարտիրոսյան'!U13+'Տ. Ոսկանյան'!U13+'Ռ. Սմբատյան'!U13+'Ա. Ասատրյան'!U13+'Մ. Արամյան'!U13+'Մ. Արզումանյան'!U13+Ա.Մուշեղյան!U13) -> #REF! | V13: =SUM(Ա.Արզումանյան!#REF!+Հ.Ավագյան!#REF!+Ա.Վարոսյան!#REF!+Ա.Հարությունյան!#REF!+Ն.Գալստյան!#REF!+Ա.Դունամալյան!#REF!+Մ.Գևորգյան!#REF!+Դ.Ղուկեյան!#REF!+Գ.Շահբազյան!#REF!+Գ.Մարգարյան!#REF!+Ա.Անտոնյան!#REF!+'Ա. Մուշեղյան '!#REF!+'Վ. Մարգարյան'!V13+'Ա. Գաբրիելյան'!V13+'Ա. Դանիբեկյան'!V13+'Ն. Բաղդասարյան'!V13+'Դ. Հարությունյան'!V13+'Ա. Հովհաննիսյան'!V13+'Հ. Մանուկյան'!V13+'Վ. Մելիքյան'!V13+'Վ. Միսակյան'!V13+'Մ. Շահվերդյան'!V13+'Վ. Լ. Գրիգորյան'!V13+'Մ. Մելքոնյան'!V13+'Ա. Մելիքսեթյան'!V13+'Գ. Գասպարյան'!V13+Ա.Ղուկասյան!V13+'Ա. Մարտիրոսյան'!V13+'Տ. Ոսկանյան'!V13+'Ռ. Սմբատյան'!V13+'Ա. Ասատրյան'!V13+'Մ. Արամյան'!V13+'Մ. Արզումանյան'!V13+Ա.Մուշեղյան!V13) -> #REF! | W13: =SUM(Ա.Արզումանյան!#REF!+Հ.Ավագյան!#REF!+Ա.Վարոսյան!#REF!+Ա.Հարությունյան!#REF!+Ն.Գալստյան!#REF!+Ա.Դունամալյան!#REF!+Մ.Գևորգյան!#REF!+Դ.Ղուկեյան!#REF!+Գ.Շահբազյան!#REF!+Գ.Մարգարյան!#REF!+Ա.Անտոնյան!#REF!+'Ա. Մուշեղյան '!#REF!+'Վ. Մարգարյան'!W13+'Ա. Գաբրիելյան'!W13+'Ա. Դանիբեկյան'!W13+'Ն. Բաղդասարյան'!W13+'Դ. Հարությունյան'!W13+'Ա. Հովհաննիսյան'!W13+'Հ. Մանուկյան'!W13+'Վ. Մելիքյան'!W13+'Վ. Միսակյան'!W13+'Մ. Շահվերդյան'!W13+'Վ. Լ. Գրիգորյան'!W13+'Մ. Մելքոնյան'!W13+'Ա. Մելիքսեթյան'!W13+'Գ. Գասպարյան'!W13+Ա.Ղուկասյան!W13+'Ա. Մարտիրոսյան'!W13+'Տ. Ոսկանյան'!W13+'Ռ. Սմբատյան'!W13+'Ա. Ասատրյան'!W13+'Մ. Արամյան'!W13+'Մ. Արզումանյան'!W13+Ա.Մուշեղյան!W13) -> #REF! | X13: =SUM(Ա.Արզումանյան!#REF!+Հ.Ավագյան!#REF!+Ա.Վարոսյան!#REF!+Ա.Հարությունյան!#REF!+Ն.Գալստյան!#REF!+Ա.Դունամալյան!#REF!+Մ.Գևորգյան!#REF!+Դ.Ղուկեյան!#REF!+Գ.Շահբազյան!#REF!+Գ.Մարգարյան!#REF!+Ա.Անտոնյան!#REF!+'Ա. Մուշեղյան '!#REF!+'Վ. Մարգարյան'!X13+'Ա. Գաբրիելյան'!X13+'Ա. Դանիբեկյան'!X13+'Ն. Բաղդասարյան'!X13+'Դ. Հարությունյան'!X13+'Ա. Հովհաննիսյան'!X13+'Հ. Մանուկյան'!X13+'Վ. Մելիքյան'!X13+'Վ. Միսակյան'!X13+'Մ. Շահվերդյան'!X13+'Վ. Լ. Գրիգորյան'!X13+'Մ. Մելքոնյան'!X13+'Ա. Մելիքսեթյան'!X13+'Գ. Գասպարյան'!X13+Ա.Ղուկասյան!X13+'Ա. Մարտիրոսյան'!X13+'Տ. Ոսկանյան'!X13+'Ռ. Սմբատյան'!X13+'Ա. Ասատրյան'!X13+'Մ. Արամյան'!X13+'Մ. Արզումանյան'!X13+Ա.Մուշեղյան!X13) -> #REF! | Y13: =SUM(Ա.Արզումանյան!#REF!+Հ.Ավագյան!#REF!+Ա.Վարոսյան!#REF!+Ա.Հարությունյան!#REF!+Ն.Գալստյան!#REF!+Ա.Դունամալյան!#REF!+Մ.Գևորգյան!#REF!+Դ.Ղուկեյան!#REF!+Գ.Շահբազյան!#REF!+Գ.Մարգարյան!#REF!+Ա.Անտոնյան!#REF!+'Ա. Մուշեղյան '!#REF!+'Վ. Մարգարյան'!Y13+'Ա. Գաբրիելյան'!Y13+'Ա. Դանիբեկյան'!Y13+'Ն. Բաղդասարյան'!Y13+'Դ. Հարությունյան'!Y13+'Ա. Հովհաննիսյան'!Y13+'Հ. Մանուկյան'!Y13+'Վ. Մելիքյան'!Y13+'Վ. Միսակյան'!Y13+'Մ. Շահվերդյան'!Y13+'Վ. Լ. Գրիգորյան'!Y13+'Մ. Մելքոնյան'!Y13+'Ա. Մելիքսեթյան'!Y13+'Գ. Գասպարյան'!Y13+Ա.Ղուկասյան!Y13+'Ա. Մարտիրոսյան'!Y13+'Տ. Ոսկանյան'!Y13+'Ռ. Սմբատյան'!Y13+'Ա. Ասատրյան'!Y13+'Մ. Արամյան'!Y13+'Մ. Արզումանյան'!Y13+Ա.Մուշեղյան!Y13) -> #REF! | Z13: =SUM(Ա.Արզումանյան!#REF!+Հ.Ավագյան!#REF!+Ա.Վարոսյան!#REF!+Ա.Հարությունյան!#REF!+Ն.Գալստյան!#REF!+Ա.Դունամալյան!#REF!+Մ.Գևորգյան!#REF!+Դ.Ղուկեյան!#REF!+Գ.Շահբազյան!#REF!+Գ.Մարգարյան!#REF!+Ա.Անտոնյան!#REF!+'Ա. Մուշեղյան '!#REF!+'Վ. Մարգարյան'!Z13+'Ա. Գաբրիելյան'!Z13+'Ա. Դանիբեկյան'!Z13+'Ն. Բաղդասարյան'!Z13+'Դ. Հարությունյան'!Z13+'Ա. Հովհաննիսյան'!Z13+'Հ. Մանուկյան'!Z13+'Վ. Մելիքյան'!Z13+'Վ. Միսակյան'!Z13+'Մ. Շահվերդյան'!Z13+'Վ. Լ. Գրիգորյան'!Z13+'Մ. Մելքոնյան'!Z13+'Ա. Մելիքսեթյան'!Z13+'Գ. Գասպարյան'!Z13+Ա.Ղուկասյան!Z13+'Ա. Մարտիրոսյան'!Z13+'Տ. Ոսկանյան'!Z13+'Ռ. Սմբատյան'!Z13+'Ա. Ասատրյան'!Z13+'Մ. Արամյան'!Z13+'Մ. Արզումանյան'!Z13+Ա.Մուշեղյան!Z13) -> #REF! | AA13: =SUM(Ա.Արզումանյան!#REF!+Հ.Ավագյան!#REF!+Ա.Վարոսյան!#REF!+Ա.Հարությունյան!#REF!+Ն.Գալստյան!#REF!+Ա.Դունամալյան!#REF!+Մ.Գևորգյան!#REF!+Դ.Ղուկեյան!#REF!+Գ.Շահբազյան!#REF!+Գ.Մարգարյան!#REF!+Ա.Անտոնյան!#REF!+'Ա. Մուշեղյան '!#REF!+'Վ. Մարգարյան'!AA13+'Ա. Գաբրիելյան'!AA13+'Ա. Դանիբեկյան'!AA13+'Ն. Բաղդասարյան'!AA13+'Դ. Հարությունյան'!AA13+'Ա. Հովհաննիսյան'!AA13+'Հ. Մանուկյան'!AA13+'Վ. Մելիքյան'!AA13+'Վ. Միսակյան'!AA13+'Մ. Շահվերդյան'!AA13+'Վ. Լ. Գրիգորյան'!AA13+'Մ. Մելքոնյան'!AA13+'Ա. Մելիքսեթյան'!AA13+'Գ. Գասպարյան'!AA13+Ա.Ղուկասյան!AA13+'Ա. Մարտիրոսյան'!AA13+'Տ. Ոսկանյան'!AA13+'Ռ. Սմբատյան'!AA13+'Ա. Ասատրյան'!AA13+'Մ. Արամյան'!AA13+'Մ. Արզումանյան'!AA13+Ա.Մուշեղյան!AA13) -> #REF! | AB13: =SUM(Ա.Արզումանյան!#REF!+Հ.Ավագյան!#REF!+Ա.Վարոսյան!#REF!+Ա.Հարությունյան!#REF!+Ն.Գալստյան!#REF!+Ա.Դունամալյան!#REF!+Մ.Գևորգյան!#REF!+Դ.Ղուկեյան!#REF!+Գ.Շահբազյան!#REF!+Գ.Մարգարյան!#REF!+Ա.Անտոնյան!#REF!+'Ա. Մուշեղյան '!#REF!+'Վ. Մարգարյան'!AB13+'Ա. Գաբրիելյան'!AB13+'Ա. Դանիբեկյան'!AB13+'Ն. Բաղդասարյան'!AB13+'Դ. Հարությունյան'!AB13+'Ա. Հովհաննիսյան'!AB13+'Հ. Մանուկյան'!AB13+'Վ. Մելիքյան'!AB13+'Վ. Միսակյան'!AB13+'Մ. Շահվերդյան'!AB13+'Վ. Լ. Գրիգորյան'!AB13+'Մ. Մելքոնյան'!AB13+'Ա. Մելիքսեթյան'!AB13+'Գ. Գասպարյան'!AB13+Ա.Ղուկասյան!AB13+'Ա. Մարտիրոսյան'!AB13+'Տ. Ոսկանյան'!AB13+'Ռ. Սմբատյան'!AB13+'Ա. Ասատրյան'!AB13+'Մ. Արամյան'!AB13+'Մ. Արզումանյան'!AB13+Ա.Մուշեղյան!AB13) -> #REF!
A14: 2 | B14: վարչական հսկողություն կիրառելու մասին միջնորդություններ | D14: =SUM(Ա.Արզումանյան!D14+Հ.Ավագյան!D14+Ա.Վարոսյան!D14+Ա.Հարությունյան!D14+Ն.Գալստյան!D14+Ա.Դունամալյան!D14+Մ.Գևորգյան!D14+Դ.Ղուկեյան!D14+Գ.Շահբազյան!D14+Գ.Մարգարյան!D14+Ա.Անտոնյան!D14+'Ա. Մուշեղյան '!D14+'Վ. Մարգարյան'!D14+'Ա. Գաբրիելյան'!D14+'Ա. Դանիբեկյան'!D14+'Ն. Բաղդասարյան'!D14+'Դ. Հարությունյան'!D14+'Ա. Հովհաննիսյան'!D14+'Հ. Մանուկյան'!D14+'Վ. Մելիքյան'!D14+'Վ. Միսակյան'!D14+'Մ. Շահվերդյան'!D14+'Վ. Լ. Գրիգորյան'!D14+'Մ. Մելքոնյան'!D14+'Ա. Մելիքսեթյան'!D14+'Գ. Գասպարյան'!D14+Ա.Ղուկասյան!D14+'Ա. Մարտիրոսյան'!D14+'Տ. Ոսկանյան'!D14+'Ռ. Սմբատյան'!D14+'Ա. Ասատրյան'!D14+'Մ. Արամյան'!D14+'Մ. Արզումանյան'!D14+Ա.Մուշեղյան!D14) -> 0 | E14: =SUM(Ա.Արզումանյան!E14+Հ.Ավագյան!E14+Ա.Վարոսյան!E14+Ա.Հարությունյան!E14+Ն.Գալստյան!E14+Ա.Դունամալյան!E14+Մ.Գևորգյան!E14+Դ.Ղուկեյան!E14+Գ.Շահբազյան!E14+Գ.Մարգարյան!E14+Ա.Անտոնյան!E14+'Ա. Մուշեղյան '!E14+'Վ. Մարգարյան'!E14+'Ա. Գաբրիելյան'!E14+'Ա. Դանիբեկյան'!E14+'Ն. Բաղդասարյան'!E14+'Դ. Հարությունյան'!E14+'Ա. Հովհաննիսյան'!E14+'Հ. Մանուկյան'!E14+'Վ. Մելիքյան'!E14+'Վ. Միսակյան'!E14+'Մ. Շահվերդյան'!E14+'Վ. Լ. Գրիգորյան'!E14+'Մ. Մելքոնյան'!E14+'Ա. Մելիքսեթյան'!E14+'Գ. Գասպարյան'!E14+Ա.Ղուկասյան!E14+'Ա. Մարտիրոսյան'!E14+'Տ. Ոսկանյան'!E14+'Ռ. Սմբատյան'!E14+'Ա. Ասատրյան'!E14+'Մ. Արամյան'!E14+'Մ. Արզումանյան'!E14+Ա.Մուշեղյան!E14) -> 1 | F14: =SUM(Ա.Արզումանյան!F14+Հ.Ավագյան!F14+Ա.Վարոսյան!F14+Ա.Հարությունյան!F14+Ն.Գալստյան!F14+Ա.Դունամալյան!F14+Մ.Գևորգյան!F14+Դ.Ղուկեյան!F14+Գ.Շահբազյան!F14+Գ.Մարգարյան!F14+Ա.Անտոնյան!F14+'Ա. Մուշեղյան '!F14+'Վ. Մարգարյան'!F14+'Ա. Գաբրիելյան'!F14+'Ա. Դանիբեկյան'!F14+'Ն. Բաղդասարյան'!F14+'Դ. Հարությունյան'!F14+'Ա. Հովհաննիսյան'!F14+'Հ. Մանուկյան'!F14+'Վ. Մելիքյան'!F14+'Վ. Միսակյան'!F14+'Մ. Շահվերդյան'!F14+'Վ. Լ. Գրիգորյան'!F14+'Մ. Մելքոնյան'!F14+'Ա. Մելիքսեթյան'!F14+'Գ. Գասպարյան'!F14+Ա.Ղուկասյան!F14+'Ա. Մարտիրոսյան'!F14+'Տ. Ոսկանյան'!F14+'Ռ. Սմբատյան'!F14+'Ա. Ասատրյան'!F14+'Մ. Արամյան'!F14+'Մ. Արզումանյան'!F14+Ա.Մուշեղյան!F14) -> 0 | G14: =SUM(Ա.Արզումանյան!G14+Հ.Ավագյան!G14+Ա.Վարոսյան!G14+Ա.Հարությունյան!G14+Ն.Գալստյան!G14+Ա.Դունամալյան!G14+Մ.Գևորգյան!G14+Դ.Ղուկեյան!G14+Գ.Շահբազյան!G14+Գ.Մարգարյան!G14+Ա.Անտոնյան!G14+'Ա. Մուշեղյան '!G14+'Վ. Մարգարյան'!G14+'Ա. Գաբրիելյան'!G14+'Ա. Դանիբեկյան'!G14+'Ն. Բաղդասարյան'!G14+'Դ. Հարությունյան'!G14+'Ա. Հովհաննիսյան'!G14+'Հ. Մանուկյան'!G14+'Վ. Մելիքյան'!G14+'Վ. Միսակյան'!G14+'Մ. Շահվերդյան'!G14+'Վ. Լ. Գրիգորյան'!G14+'Մ. Մելքոնյան'!G14+'Ա. Մելիքսեթյան'!G14+'Գ. Գասպարյան'!G14+Ա.Ղուկասյան!G14+'Ա. Մարտիրոսյան'!G14+'Տ. Ոսկանյան'!G14+'Ռ. Սմբատյան'!G14+'Ա. Ասատրյան'!G14+'Մ. Արամյան'!G14+'Մ. Արզումանյան'!G14+Ա.Մուշեղյան!G14) -> 0 | H14: =SUM(Ա.Արզումանյան!H14+Հ.Ավագյան!H14+Ա.Վարոսյան!H14+Ա.Հարությունյան!H14+Ն.Գալստյան!H14+Ա.Դունամալյան!H14+Մ.Գևորգյան!H14+Դ.Ղուկեյան!H14+Գ.Շահբազյան!H14+Գ.Մարգարյան!H14+Ա.Անտոնյան!H14+'Ա. Մուշեղյան '!H14+'Վ. Մարգարյան'!H14+'Ա. Գաբրիելյան'!H14+'Ա. Դանիբեկյան'!H14+'Ն. Բաղդասարյան'!H14+'Դ. Հարությունյան'!H14+'Ա. Հովհաննիսյան'!H14+'Հ. Մանուկյան'!H14+'Վ. Մելիքյան'!H14+'Վ. Միսակյան'!H14+'Մ. Շահվերդյան'!H14+'Վ. Լ. Գրիգորյան'!H14+'Մ. Մելքոնյան'!H14+'Ա. Մելիքսեթյան'!H14+'Գ. Գասպարյան'!H14+Ա.Ղուկասյան!H14+'Ա. Մարտիրոսյան'!H14+'Տ. Ոսկանյան'!H14+'Ռ. Սմբատյան'!H14+'Ա. Ասատրյան'!H14+'Մ. Արամյան'!H14+'Մ. Արզումանյան'!H14+Ա.Մուշեղյան!H14) -> 1 | I14: =SUM(Ա.Արզումանյան!I14+Հ.Ավագյան!I14+Ա.Վարոսյան!I14+Ա.Հարությունյան!I14+Ն.Գալստյան!I14+Ա.Դունամալյան!I14+Մ.Գևորգյան!I14+Դ.Ղուկեյան!I14+Գ.Շահբազյան!I14+Գ.Մարգարյան!I14+Ա.Անտոնյան!I14+'Ա. Մուշեղյան '!I14+'Վ. Մարգարյան'!I14+'Ա. Գաբրիելյան'!I14+'Ա. Դանիբեկյան'!I14+'Ն. Բաղդասարյան'!I14+'Դ. Հարությունյան'!I14+'Ա. Հովհաննիսյան'!I14+'Հ. Մանուկյան'!I14+'Վ. Մելիքյան'!I14+'Վ. Միսակյան'!I14+'Մ. Շահվերդյան'!I14+'Վ. Լ. Գրիգորյան'!I14+'Մ. Մելքոնյան'!I14+'Ա. Մելիքսեթյան'!I14+'Գ. Գասպարյան'!I14+Ա.Ղուկասյան!I14+'Ա. Մարտիրոսյան'!I14+'Տ. Ոսկանյան'!I14+'Ռ. Սմբատյան'!I14+'Ա. Ասատրյան'!I14+'Մ. Արամյան'!I14+'Մ. Արզումանյան'!I14+Ա.Մուշեղյան!I14) -> 0 | J14: =SUM(Ա.Արզումանյան!J14+Հ.Ավագյան!J14+Ա.Վարոսյան!J14+Ա.Հարությունյան!J14+Ն.Գալստյան!J14+Ա.Դունամալյան!J14+Մ.Գևորգյան!J14+Դ.Ղուկեյան!J14+Գ.Շահբազյան!J14+Գ.Մարգարյան!J14+Ա.Անտոնյան!J14+'Ա. Մուշեղյան '!J14+'Վ. Մարգարյան'!J14+'Ա. Գաբրիելյան'!J14+'Ա. Դանիբեկյան'!J14+'Ն. Բաղդասարյան'!J14+'Դ. Հարությունյան'!J14+'Ա. Հովհաննիսյան'!J14+'Հ. Մանուկյան'!J14+'Վ. Մելիքյան'!J14+'Վ. Միսակյան'!J14+'Մ. Շահվերդյան'!J14+'Վ. Լ. Գրիգորյան'!J14+'Մ. Մելքոնյան'!J14+'Ա. Մելիքսեթյան'!J14+'Գ. Գասպարյան'!J14+Ա.Ղուկասյան!J14+'Ա. Մարտիրոսյան'!J14+'Տ. Ոսկանյան'!J14+'Ռ. Սմբատյան'!J14+'Ա. Ասատրյան'!J14+'Մ. Արամյան'!J14+'Մ. Արզումանյան'!J14+Ա.Մուշեղյան!J14) -> 0 | K14: =SUM(Ա.Արզումանյան!K14+Հ.Ավագյան!K14+Ա.Վարոսյան!K14+Ա.Հարությունյան!K14+Ն.Գալստյան!K14+Ա.Դունամալյան!K14+Մ.Գևորգյան!K14+Դ.Ղուկեյան!K14+Գ.Շահբազյան!K14+Գ.Մարգարյան!K14+Ա.Անտոնյան!K14+'Ա. Մուշեղյան '!K14+'Վ. Մարգարյան'!K14+'Ա. Գաբրիելյան'!K14+'Ա. Դանիբեկյան'!K14+'Ն. Բաղդասարյան'!K14+'Դ. Հարությունյան'!K14+'Ա. Հովհաննիսյան'!K14+'Հ. Մանուկյան'!K14+'Վ. Մելիքյան'!K14+'Վ. Միսակյան'!K14+'Մ. Շահվերդյան'!K14+'Վ. Լ. Գրիգորյան'!K14+'Մ. Մելքոնյան'!K14+'Ա. Մելիքսեթյան'!K14+'Գ. Գասպարյան'!K14+Ա.Ղուկասյան!K14+'Ա. Մարտիրոսյան'!K14+'Տ. Ոսկանյան'!K14+'Ռ. Սմբատյան'!K14+'Ա. Ասատրյան'!K14+'Մ. Արամյան'!K14+'Մ. Արզումանյան'!K14+Ա.Մուշեղյան!K14) -> 0 | ... T14: =SUM(Ա.Արզումանյան!T14+Հ.Ավագյան!T14+Ա.Վարոսյան!T14+Ա.Հարությունյան!T14+Ն.Գալստյան!T14+Ա.Դունամալյան!T14+Մ.Գևորգյան!T14+Դ.Ղուկեյան!T14+Գ.Շահբազյան!T14+Գ.Մարգարյան!T14+Ա.Անտոնյան!T14+'Ա. Մուշեղյան '!T14+'Վ. Մարգարյան'!T14+'Ա. Գաբրիելյան'!T14+'Ա. Դանիբեկյան'!T14+'Ն. Բաղդասարյան'!T14+'Դ. Հարությունյան'!T14+'Ա. Հովհաննիսյան'!T14+'Հ. Մանուկյան'!T14+'Վ. Մելիքյան'!T14+'Վ. Միսակյան'!T14+'Մ. Շահվերդյան'!T14+'Վ. Լ. Գրիգորյան'!T14+'Մ. Մելքոնյան'!T14+'Ա. Մելիքսեթյան'!T14+'Գ. Գասպարյան'!T14+Ա.Ղուկասյան!T14+'Ա. Մարտիրոսյան'!T14+'Տ. Ոսկանյան'!T14+'Ռ. Սմբատյան'!T14+'Ա. Ասատրյան'!T14+'Մ. Արամյան'!T14+'Մ. Արզումանյան'!T14+Ա.Մուշեղյան!T14) -> 0 | U14: =SUM(Ա.Արզումանյան!#REF!+Հ.Ավագյան!#REF!+Ա.Վարոսյան!#REF!+Ա.Հարությունյան!#REF!+Ն.Գալստյան!#REF!+Ա.Դունամալյան!#REF!+Մ.Գևորգյան!#REF!+Դ.Ղուկեյան!#REF!+Գ.Շահբազյան!#REF!+Գ.Մարգարյան!#REF!+Ա.Անտոնյան!#REF!+'Ա. Մուշեղյան '!#REF!+'Վ. Մարգարյան'!U14+'Ա. Գաբրիելյան'!U14+'Ա. Դանիբեկյան'!U14+'Ն. Բաղդասարյան'!U14+'Դ. Հարությունյան'!U14+'Ա. Հովհաննիսյան'!U14+'Հ. Մանուկյան'!U14+'Վ. Մելիքյան'!U14+'Վ. Միսակյան'!U14+'Մ. Շահվերդյան'!U14+'Վ. Լ. Գրիգորյան'!U14+'Մ. Մելքոնյան'!U14+'Ա. Մելիքսեթյան'!U14+'Գ. Գասպարյան'!U14+Ա.Ղուկասյան!U14+'Ա. Մարտիրոսյան'!U14+'Տ. Ոսկանյան'!U14+'Ռ. Սմբատյան'!U14+'Ա. Ասատրյան'!U14+'Մ. Արամյան'!U14+'Մ. Արզումանյան'!U14+Ա.Մուշեղյան!U14) -> #REF! | V14: =SUM(Ա.Արզումանյան!#REF!+Հ.Ավագյան!#REF!+Ա.Վարոսյան!#REF!+Ա.Հարությունյան!#REF!+Ն.Գալստյան!#REF!+Ա.Դունամալյան!#REF!+Մ.Գևորգյան!#REF!+Դ.Ղուկեյան!#REF!+Գ.Շահբազյան!#REF!+Գ.Մարգարյան!#REF!+Ա.Անտոնյան!#REF!+'Ա. Մուշեղյան '!#REF!+'Վ. Մարգարյան'!V14+'Ա. Գաբրիելյան'!V14+'Ա. Դանիբեկյան'!V14+'Ն. Բաղդասարյան'!V14+'Դ. Հարությունյան'!V14+'Ա. Հովհաննիսյան'!V14+'Հ. Մանուկյան'!V14+'Վ. Մելիքյան'!V14+'Վ. Միսակյան'!V14+'Մ. Շահվերդյան'!V14+'Վ. Լ. Գրիգորյան'!V14+'Մ. Մելքոնյան'!V14+'Ա. Մելիքսեթյան'!V14+'Գ. Գասպարյան'!V14+Ա.Ղուկասյան!V14+'Ա. Մարտիրոսյան'!V14+'Տ. Ոսկանյան'!V14+'Ռ. Սմբատյան'!V14+'Ա. Ասատրյան'!V14+'Մ. Արամյան'!V14+'Մ. Արզումանյան'!V14+Ա.Մուշեղյան!V14) -> #REF! | W14: =SUM(Ա.Արզումանյան!#REF!+Հ.Ավագյան!#REF!+Ա.Վարոսյան!#REF!+Ա.Հարությունյան!#REF!+Ն.Գալստյան!#REF!+Ա.Դունամալյան!#REF!+Մ.Գևորգյան!#REF!+Դ.Ղուկեյան!#REF!+Գ.Շահբազյան!#REF!+Գ.Մարգարյան!#REF!+Ա.Անտոնյան!#REF!+'Ա. Մուշեղյան '!#REF!+'Վ. Մարգարյան'!W14+'Ա. Գաբրիելյան'!W14+'Ա. Դանիբեկյան'!W14+'Ն. Բաղդասարյան'!W14+'Դ. Հարությունյան'!W14+'Ա. Հովհաննիսյան'!W14+'Հ. Մանուկյան'!W14+'Վ. Մելիքյան'!W14+'Վ. Միսակյան'!W14+'Մ. Շահվերդյան'!W14+'Վ. Լ. Գրիգորյան'!W14+'Մ. Մելքոնյան'!W14+'Ա. Մելիքսեթյան'!W14+'Գ. Գասպարյան'!W14+Ա.Ղուկասյան!W14+'Ա. Մարտիրոսյան'!W14+'Տ. Ոսկանյան'!W14+'Ռ. Սմբատյան'!W14+'Ա. Ասատրյան'!W14+'Մ. Արամյան'!W14+'Մ. Արզումանյան'!W14+Ա.Մուշեղյան!W14) -> #REF! | X14: =SUM(Ա.Արզումանյան!#REF!+Հ.Ավագյան!#REF!+Ա.Վարոսյան!#REF!+Ա.Հարությունյան!#REF!+Ն.Գալստյան!#REF!+Ա.Դունամալյան!#REF!+Մ.Գևորգյան!#REF!+Դ.Ղուկեյան!#REF!+Գ.Շահբազյան!#REF!+Գ.Մարգարյան!#REF!+Ա.Անտոնյան!#REF!+'Ա. Մուշեղյան '!#REF!+'Վ. Մարգարյան'!X14+'Ա. Գաբրիելյան'!X14+'Ա. Դանիբեկյան'!X14+'Ն. Բաղդասարյան'!X14+'Դ. Հարությունյան'!X14+'Ա. Հովհաննիսյան'!X14+'Հ. Մանուկյան'!X14+'Վ. Մելիքյան'!X14+'Վ. Միսակյան'!X14+'Մ. Շահվերդյան'!X14+'Վ. Լ. Գրիգորյան'!X14+'Մ. Մելքոնյան'!X14+'Ա. Մելիքսեթյան'!X14+'Գ. Գասպարյան'!X14+Ա.Ղուկասյան!X14+'Ա. Մարտիրոսյան'!X14+'Տ. Ոսկանյան'!X14+'Ռ. Սմբատյան'!X14+'Ա. Ասատրյան'!X14+'Մ. Արամյան'!X14+'Մ. Արզումանյան'!X14+Ա.Մուշեղյան!X14) -> #REF! | Y14: =SUM(Ա.Արզումանյան!#REF!+Հ.Ավագյան!#REF!+Ա.Վարոսյան!#REF!+Ա.Հարությունյան!#REF!+Ն.Գալստյան!#REF!+Ա.Դունամալյան!#REF!+Մ.Գևորգյան!#REF!+Դ.Ղուկեյան!#REF!+Գ.Շահբազյան!#REF!+Գ.Մարգարյան!#REF!+Ա.Անտոնյան!#REF!+'Ա. Մուշեղյան '!#REF!+'Վ. Մարգարյան'!Y14+'Ա. Գաբրիելյան'!Y14+'Ա. Դանիբեկյան'!Y14+'Ն. Բաղդասարյան'!Y14+'Դ. Հարությունյան'!Y14+'Ա. Հովհաննիսյան'!Y14+'Հ. Մանուկյան'!Y14+'Վ. Մելիքյան'!Y14+'Վ. Միսակյան'!Y14+'Մ. Շահվերդյան'!Y14+'Վ. Լ. Գրիգորյան'!Y14+'Մ. Մելքոնյան'!Y14+'Ա. Մելիքսեթյան'!Y14+'Գ. Գասպարյան'!Y14+Ա.Ղուկասյան!Y14+'Ա. Մարտիրոսյան'!Y14+'Տ. Ոսկանյան'!Y14+'Ռ. Սմբատյան'!Y14+'Ա. Ասատրյան'!Y14+'Մ. Արամյան'!Y14+'Մ. Արզումանյան'!Y14+Ա.Մուշեղյան!Y14) -> #REF! | Z14: =SUM(Ա.Արզումանյան!#REF!+Հ.Ավագյան!#REF!+Ա.Վարոսյան!#REF!+Ա.Հարությունյան!#REF!+Ն.Գալստյան!#REF!+Ա.Դունամալյան!#REF!+Մ.Գևորգյան!#REF!+Դ.Ղուկեյան!#REF!+Գ.Շահբազյան!#REF!+Գ.Մարգարյան!#REF!+Ա.Անտոնյան!#REF!+'Ա. Մուշեղյան '!#REF!+'Վ. Մարգարյան'!Z14+'Ա. Գաբրիելյան'!Z14+'Ա. Դանիբեկյան'!Z14+'Ն. Բաղդասարյան'!Z14+'Դ. Հարությունյան'!Z14+'Ա. Հովհաննիսյան'!Z14+'Հ. Մանուկյան'!Z14+'Վ. Մելիքյան'!Z14+'Վ. Միսակյան'!Z14+'Մ. Շահվերդյան'!Z14+'Վ. Լ. Գրիգորյան'!Z14+'Մ. Մելքոնյան'!Z14+'Ա. Մելիքսեթյան'!Z14+'Գ. Գասպարյան'!Z14+Ա.Ղուկասյան!Z14+'Ա. Մարտիրոսյան'!Z14+'Տ. Ոսկանյան'!Z14+'Ռ. Սմբատյան'!Z14+'Ա. Ասատրյան'!Z14+'Մ. Արամյան'!Z14+'Մ. Արզումանյան'!Z14+Ա.Մուշեղյան!Z14) -> #REF! | AA14: =SUM(Ա.Արզումանյան!#REF!+Հ.Ավագյան!#REF!+Ա.Վարոսյան!#REF!+Ա.Հարությունյան!#REF!+Ն.Գալստյան!#REF!+Ա.Դունամալյան!#REF!+Մ.Գևորգյան!#REF!+Դ.Ղուկեյան!#REF!+Գ.Շահբազյան!#REF!+Գ.Մարգարյան!#REF!+Ա.Անտոնյան!#REF!+'Ա. Մուշեղյան '!#REF!+'Վ. Մարգարյան'!AA14+'Ա. Գաբրիելյան'!AA14+'Ա. Դանիբեկյան'!AA14+'Ն. Բաղդասարյան'!AA14+'Դ. Հարությունյան'!AA14+'Ա. Հովհաննիսյան'!AA14+'Հ. Մանուկյան'!AA14+'Վ. Մելիքյան'!AA14+'Վ. Միսակյան'!AA14+'Մ. Շահվերդյան'!AA14+'Վ. Լ. Գրիգորյան'!AA14+'Մ. Մելքոնյան'!AA14+'Ա. Մելիքսեթյան'!AA14+'Գ. Գասպարյան'!AA14+Ա.Ղուկասյան!AA14+'Ա. Մարտիրոսյան'!AA14+'Տ. Ոսկանյան'!AA14+'Ռ. Սմբատյան'!AA14+'Ա. Ասատրյան'!AA14+'Մ. Արամյան'!AA14+'Մ. Արզումանյան'!AA14+Ա.Մուշեղյան!AA14) -> #REF! | AB14: =SUM(Ա.Արզումանյան!#REF!+Հ.Ավագյան!#REF!+Ա.Վարոսյան!#REF!+Ա.Հարությունյան!#REF!+Ն.Գալստյան!#REF!+Ա.Դունամալյան!#REF!+Մ.Գևորգյան!#REF!+Դ.Ղուկեյան!#REF!+Գ.Շահբազյան!#REF!+Գ.Մարգարյան!#REF!+Ա.Անտոնյան!#REF!+'Ա. Մուշեղյան '!#REF!+'Վ. Մարգարյան'!AB14+'Ա. Գաբրիելյան'!AB14+'Ա. Դանիբեկյան'!AB14+'Ն. Բաղդասարյան'!AB14+'Դ. Հարությունյան'!AB14+'Ա. Հովհաննիսյան'!AB14+'Հ. Մանուկյան'!AB14+'Վ. Մելիքյան'!AB14+'Վ. Միսակյան'!AB14+'Մ. Շահվերդյան'!AB14+'Վ. Լ. Գրիգորյան'!AB14+'Մ. Մելքոնյան'!AB14+'Ա. Մելիքսեթյան'!AB14+'Գ. Գասպարյան'!AB14+Ա.Ղուկասյան!AB14+'Ա. Մարտիրոսյան'!AB14+'Տ. Ոսկանյան'!AB14+'Ռ. Սմբատյան'!AB14+'Ա. Ասատրյան'!AB14+'Մ. Արամյան'!AB14+'Մ. Արզումանյան'!AB14+Ա.Մուշեղյան!AB14) -> #REF!
A15: 3 | B15: գրավ կիրառելու մասին միջնորդություններ | D15: =SUM(Ա.Արզումանյան!D15+Հ.Ավագյան!D15+Ա.Վարոսյան!D15+Ա.Հարությունյան!D15+Ն.Գալստյան!D15+Ա.Դունամալյան!D15+Մ.Գևորգյան!D15+Դ.Ղուկեյան!D15+Գ.Շահբազյան!D15+Գ.Մարգարյան!D15+Ա.Անտոնյան!D15+'Ա. Մուշեղյան '!D15+'Վ. Մարգարյան'!D15+'Ա. Գաբրիելյան'!D15+'Ա. Դանիբեկյան'!D15+'Ն. Բաղդասարյան'!D15+'Դ. Հարությունյան'!D15+'Ա. Հովհաննիսյան'!D15+'Հ. Մանուկյան'!D15+'Վ. Մելիքյան'!D15+'Վ. Միսակյան'!D15+'Մ. Շահվերդյան'!D15+'Վ. Լ. Գրիգորյան'!D15+'Մ. Մելքոնյան'!D15+'Ա. Մելիքսեթյան'!D15+'Գ. Գասպարյան'!D15+Ա.Ղուկասյան!D15+'Ա. Մարտիրոսյան'!D15+'Տ. Ոսկանյան'!D15+'Ռ. Սմբատյան'!D15+'Ա. Ասատրյան'!D15+'Մ. Արամյան'!D15+'Մ. Արզումանյան'!D15+Ա.Մուշեղյան!D15) -> 0 | E15: =SUM(Ա.Արզումանյան!E15+Հ.Ավագյան!E15+Ա.Վարոսյան!E15+Ա.Հարությունյան!E15+Ն.Գալստյան!E15+Ա.Դունամալյան!E15+Մ.Գևորգյան!E15+Դ.Ղուկեյան!E15+Գ.Շահբազյան!E15+Գ.Մարգարյան!E15+Ա.Անտոնյան!E15+'Ա. Մուշեղյան '!E15+'Վ. Մարգարյան'!E15+'Ա. Գաբրիելյան'!E15+'Ա. Դանիբեկյան'!E15+'Ն. Բաղդասարյան'!E15+'Դ. Հարությունյան'!E15+'Ա. Հովհաննիսյան'!E15+'Հ. Մանուկյան'!E15+'Վ. Մելիքյան'!E15+'Վ. Միսակյան'!E15+'Մ. Շահվերդյան'!E15+'Վ. Լ. Գրիգորյան'!E15+'Մ. Մելքոնյան'!E15+'Ա. Մելիքսեթյան'!E15+'Գ. Գասպարյան'!E15+Ա.Ղուկասյան!E15+'Ա. Մարտիրոսյան'!E15+'Տ. Ոսկանյան'!E15+'Ռ. Սմբատյան'!E15+'Ա. Ասատրյան'!E15+'Մ. Արամյան'!E15+'Մ. Արզումանյան'!E15+Ա.Մուշեղյան!E15) -> 0 | F15: =SUM(Ա.Արզումանյան!F15+Հ.Ավագյան!F15+Ա.Վարոսյան!F15+Ա.Հարությունյան!F15+Ն.Գալստյան!F15+Ա.Դունամալյան!F15+Մ.Գևորգյան!F15+Դ.Ղուկեյան!F15+Գ.Շահբազյան!F15+Գ.Մարգարյան!F15+Ա.Անտոնյան!F15+'Ա. Մուշեղյան '!F15+'Վ. Մարգարյան'!F15+'Ա. Գաբրիելյան'!F15+'Ա. Դանիբեկյան'!F15+'Ն. Բաղդասարյան'!F15+'Դ. Հարությունյան'!F15+'Ա. Հովհաննիսյան'!F15+'Հ. Մանուկյան'!F15+'Վ. Մելիքյան'!F15+'Վ. Միսակյան'!F15+'Մ. Շահվերդյան'!F15+'Վ. Լ. Գրիգորյան'!F15+'Մ. Մելքոնյան'!F15+'Ա. Մելիքսեթյան'!F15+'Գ. Գասպարյան'!F15+Ա.Ղուկասյան!F15+'Ա. Մարտիրոսյան'!F15+'Տ. Ոսկանյան'!F15+'Ռ. Սմբատյան'!F15+'Ա. Ասատրյան'!F15+'Մ. Արամյան'!F15+'Մ. Արզումանյան'!F15+Ա.Մուշեղյան!F15) -> 0 | G15: =SUM(Ա.Արզումանյան!G15+Հ.Ավագյան!G15+Ա.Վարոսյան!G15+Ա.Հարությունյան!G15+Ն.Գալստյան!G15+Ա.Դունամալյան!G15+Մ.Գևորգյան!G15+Դ.Ղուկեյան!G15+Գ.Շահբազյան!G15+Գ.Մարգարյան!G15+Ա.Անտոնյան!G15+'Ա. Մուշեղյան '!G15+'Վ. Մարգարյան'!G15+'Ա. Գաբրիելյան'!G15+'Ա. Դանիբեկյան'!G15+'Ն. Բաղդասարյան'!G15+'Դ. Հարությունյան'!G15+'Ա. Հովհաննիսյան'!G15+'Հ. Մանուկյան'!G15+'Վ. Մելիքյան'!G15+'Վ. Միսակյան'!G15+'Մ. Շահվերդյան'!G15+'Վ. Լ. Գրիգորյան'!G15+'Մ. Մելքոնյան'!G15+'Ա. Մելիքսեթյան'!G15+'Գ. Գասպարյան'!G15+Ա.Ղուկասյան!G15+'Ա. Մարտիրոսյան'!G15+'Տ. Ոսկանյան'!G15+'Ռ. Սմբատյան'!G15+'Ա. Ասատրյան'!G15+'Մ. Արամյան'!G15+'Մ. Արզումանյան'!G15+Ա.Մուշեղյան!G15) -> 0 | H15: =SUM(Ա.Արզումանյան!H15+Հ.Ավագյան!H15+Ա.Վարոսյան!H15+Ա.Հարությունյան!H15+Ն.Գալստյան!H15+Ա.Դունամալյան!H15+Մ.Գևորգյան!H15+Դ.Ղուկեյան!H15+Գ.Շահբազյան!H15+Գ.Մարգարյան!H15+Ա.Անտոնյան!H15+'Ա. Մուշեղյան '!H15+'Վ. Մարգարյան'!H15+'Ա. Գաբրիելյան'!H15+'Ա. Դանիբեկյան'!H15+'Ն. Բաղդասարյան'!H15+'Դ. Հարությունյան'!H15+'Ա. Հովհաննիսյան'!H15+'Հ. Մանուկյան'!H15+'Վ. Մելիքյան'!H15+'Վ. Միսակյան'!H15+'Մ. Շահվերդյան'!H15+'Վ. Լ. Գրիգորյան'!H15+'Մ. Մելքոնյան'!H15+'Ա. Մելիքսեթյան'!H15+'Գ. Գասպարյան'!H15+Ա.Ղուկասյան!H15+'Ա. Մարտիրոսյան'!H15+'Տ. Ոսկանյան'!H15+'Ռ. Սմբատյան'!H15+'Ա. Ասատրյան'!H15+'Մ. Արամյան'!H15+'Մ. Արզումանյան'!H15+Ա.Մուշեղյան!H15) -> 0 | I15: =SUM(Ա.Արզումանյան!I15+Հ.Ավագյան!I15+Ա.Վարոսյան!I15+Ա.Հարությունյան!I15+Ն.Գալստյան!I15+Ա.Դունամալյան!I15+Մ.Գևորգյան!I15+Դ.Ղուկեյան!I15+Գ.Շահբազյան!I15+Գ.Մարգարյան!I15+Ա.Անտոնյան!I15+'Ա. Մուշեղյան '!I15+'Վ. Մարգարյան'!I15+'Ա. Գաբրիելյան'!I15+'Ա. Դանիբեկյան'!I15+'Ն. Բաղդասարյան'!I15+'Դ. Հարությունյան'!I15+'Ա. Հովհաննիսյան'!I15+'Հ. Մանուկյան'!I15+'Վ. Մելիքյան'!I15+'Վ. Միսակյան'!I15+'Մ. Շահվերդյան'!I15+'Վ. Լ. Գրիգորյան'!I15+'Մ. Մելքոնյան'!I15+'Ա. Մելիքսեթյան'!I15+'Գ. Գասպարյան'!I15+Ա.Ղուկասյան!I15+'Ա. Մարտիրոսյան'!I15+'Տ. Ոսկանյան'!I15+'Ռ. Սմբատյան'!I15+'Ա. Ասատրյան'!I15+'Մ. Արամյան'!I15+'Մ. Արզումանյան'!I15+Ա.Մուշեղյան!I15) -> 0 | J15: =SUM(Ա.Արզումանյան!J15+Հ.Ավագյան!J15+Ա.Վարոսյան!J15+Ա.Հարությունյան!J15+Ն.Գալստյան!J15+Ա.Դունամալյան!J15+Մ.Գևորգյան!J15+Դ.Ղուկեյան!J15+Գ.Շահբազյան!J15+Գ.Մարգարյան!J15+Ա.Անտոնյան!J15+'Ա. Մուշեղյան '!J15+'Վ. Մարգարյան'!J15+'Ա. Գաբրիելյան'!J15+'Ա. Դանիբեկյան'!J15+'Ն. Բաղդասարյան'!J15+'Դ. Հարությունյան'!J15+'Ա. Հովհաննիսյան'!J15+'Հ. Մանուկյան'!J15+'Վ. Մելիքյան'!J15+'Վ. Միսակյան'!J15+'Մ. Շահվերդյան'!J15+'Վ. Լ. Գրիգորյան'!J15+'Մ. Մելքոնյան'!J15+'Ա. Մելիքսեթյան'!J15+'Գ. Գասպարյան'!J15+Ա.Ղուկասյան!J15+'Ա. Մարտիրոսյան'!J15+'Տ. Ոսկանյան'!J15+'Ռ. Սմբատյան'!J15+'Ա. Ասատրյան'!J15+'Մ. Արամյան'!J15+'Մ. Արզումանյան'!J15+Ա.Մուշեղյան!J15) -> 0 | K15: =SUM(Ա.Արզումանյան!K15+Հ.Ավագյան!K15+Ա.Վարոսյան!K15+Ա.Հարությունյան!K15+Ն.Գալստյան!K15+Ա.Դունամալյան!K15+Մ.Գևորգյան!K15+Դ.Ղուկեյան!K15+Գ.Շահբազյան!K15+Գ.Մարգարյան!K15+Ա.Անտոնյան!K15+'Ա. Մուշեղյան '!K15+'Վ. Մարգարյան'!K15+'Ա. Գաբրիելյան'!K15+'Ա. Դանիբեկյան'!K15+'Ն. Բաղդասարյան'!K15+'Դ. Հարությունյան'!K15+'Ա. Հովհաննիսյան'!K15+'Հ. Մանուկյան'!K15+'Վ. Մելիքյան'!K15+'Վ. Միսակյան'!K15+'Մ. Շահվերդյան'!K15+'Վ. Լ. Գրիգորյան'!K15+'Մ. Մելքոնյան'!K15+'Ա. Մելիքսեթյան'!K15+'Գ. Գասպարյան'!K15+Ա.Ղուկասյան!K15+'Ա. Մարտիրոսյան'!K15+'Տ. Ոսկանյան'!K15+'Ռ. Սմբատյան'!K15+'Ա. Ասատրյան'!K15+'Մ. Արամյան'!K15+'Մ. Արզումանյան'!K15+Ա.Մուշեղյան!K15) -> 0 | ... T15: =SUM(Ա.Արզումանյան!T15+Հ.Ավագյան!T15+Ա.Վարոսյան!T15+Ա.Հարությունյան!T15+Ն.Գալստյան!T15+Ա.Դունամալյան!T15+Մ.Գևորգյան!T15+Դ.Ղուկեյան!T15+Գ.Շահբազյան!T15+Գ.Մարգարյան!T15+Ա.Անտոնյան!T15+'Ա. Մուշեղյան '!T15+'Վ. Մարգարյան'!T15+'Ա. Գաբրիելյան'!T15+'Ա. Դանիբեկյան'!T15+'Ն. Բաղդասարյան'!T15+'Դ. Հարությունյան'!T15+'Ա. Հովհաննիսյան'!T15+'Հ. Մանուկյան'!T15+'Վ. Մելիքյան'!T15+'Վ. Միսակյան'!T15+'Մ. Շահվերդյան'!T15+'Վ. Լ. Գրիգորյան'!T15+'Մ. Մելքոնյան'!T15+'Ա. Մելիքսեթյան'!T15+'Գ. Գասպարյան'!T15+Ա.Ղուկասյան!T15+'Ա. Մարտիրոսյան'!T15+'Տ. Ոսկանյան'!T15+'Ռ. Սմբատյան'!T15+'Ա. Ասատրյան'!T15+'Մ. Արամյան'!T15+'Մ. Արզումանյան'!T15+Ա.Մուշեղյան!T15) -> 0 | U15: =SUM(Ա.Արզումանյան!#REF!+Հ.Ավագյան!#REF!+Ա.Վարոսյան!#REF!+Ա.Հարությունյան!#REF!+Ն.Գալստյան!#REF!+Ա.Դունամալյան!#REF!+Մ.Գևորգյան!#REF!+Դ.Ղուկեյան!#REF!+Գ.Շահբազյան!#REF!+Գ.Մարգարյան!#REF!+Ա.Անտոնյան!#REF!+'Ա. Մուշեղյան '!#REF!+'Վ. Մարգարյան'!U15+'Ա. Գաբրիելյան'!U15+'Ա. Դանիբեկյան'!U15+'Ն. Բաղդասարյան'!U15+'Դ. Հարությունյան'!U15+'Ա. Հովհաննիսյան'!U15+'Հ. Մանուկյան'!U15+'Վ. Մելիքյան'!U15+'Վ. Միսակյան'!U15+'Մ. Շահվերդյան'!U15+'Վ. Լ. Գրիգորյան'!U15+'Մ. Մելքոնյան'!U15+'Ա. Մելիքսեթյան'!U15+'Գ. Գասպարյան'!U15+Ա.Ղուկասյան!U15+'Ա. Մարտիրոսյան'!U15+'Տ. Ոսկանյան'!U15+'Ռ. Սմբատյան'!U15+'Ա. Ասատրյան'!U15+'Մ. Արամյան'!U15+'Մ. Արզումանյան'!U15+Ա.Մուշեղյան!U15) -> #REF! | V15: =SUM(Ա.Արզումանյան!#REF!+Հ.Ավագյան!#REF!+Ա.Վարոսյան!#REF!+Ա.Հարությունյան!#REF!+Ն.Գալստյան!#REF!+Ա.Դունամալյան!#REF!+Մ.Գևորգյան!#REF!+Դ.Ղուկեյան!#REF!+Գ.Շահբազյան!#REF!+Գ.Մարգարյան!#REF!+Ա.Անտոնյան!#REF!+'Ա. Մուշեղյան '!#REF!+'Վ. Մարգարյան'!V15+'Ա. Գաբրիելյան'!V15+'Ա. Դանիբեկյան'!V15+'Ն. Բաղդասարյան'!V15+'Դ. Հարությունյան'!V15+'Ա. Հովհաննիսյան'!V15+'Հ. Մանուկյան'!V15+'Վ. Մելիքյան'!V15+'Վ. Միսակյան'!V15+'Մ. Շահվերդյան'!V15+'Վ. Լ. Գրիգորյան'!V15+'Մ. Մելքոնյան'!V15+'Ա. Մելիքսեթյան'!V15+'Գ. Գասպարյան'!V15+Ա.Ղուկասյան!V15+'Ա. Մարտիրոսյան'!V15+'Տ. Ոսկանյան'!V15+'Ռ. Սմբատյան'!V15+'Ա. Ասատրյան'!V15+'Մ. Արամյան'!V15+'Մ. Արզումանյան'!V15+Ա.Մուշեղյան!V15) -> #REF! | W15: =SUM(Ա.Արզումանյան!#REF!+Հ.Ավագյան!#REF!+Ա.Վարոսյան!#REF!+Ա.Հարությունյան!#REF!+Ն.Գալստյան!#REF!+Ա.Դունամալյան!#REF!+Մ.Գևորգյան!#REF!+Դ.Ղուկեյան!#REF!+Գ.Շահբազյան!#REF!+Գ.Մարգարյան!#REF!+Ա.Անտոնյան!#REF!+'Ա. Մուշեղյան '!#REF!+'Վ. Մարգարյան'!W15+'Ա. Գաբրիելյան'!W15+'Ա. Դանիբեկյան'!W15+'Ն. Բաղդասարյան'!W15+'Դ. Հարությունյան'!W15+'Ա. Հովհաննիսյան'!W15+'Հ. Մանուկյան'!W15+'Վ. Մելիքյան'!W15+'Վ. Միսակյան'!W15+'Մ. Շահվերդյան'!W15+'Վ. Լ. Գրիգորյան'!W15+'Մ. Մելքոնյան'!W15+'Ա. Մելիքսեթյան'!W15+'Գ. Գասպարյան'!W15+Ա.Ղուկասյան!W15+'Ա. Մարտիրոսյան'!W15+'Տ. Ոսկանյան'!W15+'Ռ. Սմբատյան'!W15+'Ա. Ասատրյան'!W15+'Մ. Արամյան'!W15+'Մ. Արզումանյան'!W15+Ա.Մուշեղյան!W15) -> #REF! | X15: =SUM(Ա.Արզումանյան!#REF!+Հ.Ավագյան!#REF!+Ա.Վարոսյան!#REF!+Ա.Հարությունյան!#REF!+Ն.Գալստյան!#REF!+Ա.Դունամալյան!#REF!+Մ.Գևորգյան!#REF!+Դ.Ղուկեյան!#REF!+Գ.Շահբազյան!#REF!+Գ.Մարգարյան!#REF!+Ա.Անտոնյան!#REF!+'Ա. Մուշեղյան '!#REF!+'Վ. Մարգարյան'!X15+'Ա. Գաբրիելյան'!X15+'Ա. Դանիբեկյան'!X15+'Ն. Բաղդասարյան'!X15+'Դ. Հարությունյան'!X15+'Ա. Հովհաննիսյան'!X15+'Հ. Մանուկյան'!X15+'Վ. Մելիքյան'!X15+'Վ. Միսակյան'!X15+'Մ. Շահվերդյան'!X15+'Վ. Լ. Գրիգորյան'!X15+'Մ. Մելքոնյան'!X15+'Ա. Մելիքսեթյան'!X15+'Գ. Գասպարյան'!X15+Ա.Ղուկասյան!X15+'Ա. Մարտիրոսյան'!X15+'Տ. Ոսկանյան'!X15+'Ռ. Սմբատյան'!X15+'Ա. Ասատրյան'!X15+'Մ. Արամյան'!X15+'Մ. Արզումանյան'!X15+Ա.Մուշեղյան!X15) -> #REF! | Y15: =SUM(Ա.Արզումանյան!#REF!+Հ.Ավագյան!#REF!+Ա.Վարոսյան!#REF!+Ա.Հարությունյան!#REF!+Ն.Գալստյան!#REF!+Ա.Դունամալյան!#REF!+Մ.Գևորգյան!#REF!+Դ.Ղուկեյան!#REF!+Գ.Շահբազյան!#REF!+Գ.Մարգարյան!#REF!+Ա.Անտոնյան!#REF!+'Ա. Մուշեղյան '!#REF!+'Վ. Մարգարյան'!Y15+'Ա. Գաբրիելյան'!Y15+'Ա. Դանիբեկյան'!Y15+'Ն. Բաղդասարյան'!Y15+'Դ. Հարությունյան'!Y15+'Ա. Հովհաննիսյան'!Y15+'Հ. Մանուկյան'!Y15+'Վ. Մելիքյան'!Y15+'Վ. Միսակյան'!Y15+'Մ. Շահվերդյան'!Y15+'Վ. Լ. Գրիգորյան'!Y15+'Մ. Մելքոնյան'!Y15+'Ա. Մելիքսեթյան'!Y15+'Գ. Գասպարյան'!Y15+Ա.Ղուկասյան!Y15+'Ա. Մարտիրոսյան'!Y15+'Տ. Ոսկանյան'!Y15+'Ռ. Սմբատյան'!Y15+'Ա. Ասատրյան'!Y15+'Մ. Արամյան'!Y15+'Մ. Արզումանյան'!Y15+Ա.Մուշեղյան!Y15) -> #REF! | Z15: =SUM(Ա.Արզումանյան!#REF!+Հ.Ավագյան!#REF!+Ա.Վարոսյան!#REF!+Ա.Հարությունյան!#REF!+Ն.Գալստյան!#REF!+Ա.Դունամալյան!#REF!+Մ.Գևորգյան!#REF!+Դ.Ղուկեյան!#REF!+Գ.Շահբազյան!#REF!+Գ.Մարգարյան!#REF!+Ա.Անտոնյան!#REF!+'Ա. Մուշեղյան '!#REF!+'Վ. Մարգարյան'!Z15+'Ա. Գաբրիելյան'!Z15+'Ա. Դանիբեկյան'!Z15+'Ն. Բաղդասարյան'!Z15+'Դ. Հարությունյան'!Z15+'Ա. Հովհաննիսյան'!Z15+'Հ. Մանուկյան'!Z15+'Վ. Մելիքյան'!Z15+'Վ. Միսակյան'!Z15+'Մ. Շահվերդյան'!Z15+'Վ. Լ. Գրիգորյան'!Z15+'Մ. Մելքոնյան'!Z15+'Ա. Մելիքսեթյան'!Z15+'Գ. Գասպարյան'!Z15+Ա.Ղուկասյան!Z15+'Ա. Մարտիրոսյան'!Z15+'Տ. Ոսկանյան'!Z15+'Ռ. Սմբատյան'!Z15+'Ա. Ասատրյան'!Z15+'Մ. Արամյան'!Z15+'Մ. Արզումանյան'!Z15+Ա.Մուշեղյան!Z15) -> #REF! | AA15: =SUM(Ա.Արզումանյան!#REF!+Հ.Ավագյան!#REF!+Ա.Վարոսյան!#REF!+Ա.Հարությունյան!#REF!+Ն.Գալստյան!#REF!+Ա.Դունամալյան!#REF!+Մ.Գևորգյան!#REF!+Դ.Ղուկեյան!#REF!+Գ.Շահբազյան!#REF!+Գ.Մարգարյան!#REF!+Ա.Անտոնյան!#REF!+'Ա. Մուշեղյան '!#REF!+'Վ. Մարգարյան'!AA15+'Ա. Գաբրիելյան'!AA15+'Ա. Դանիբեկյան'!AA15+'Ն. Բաղդասարյան'!AA15+'Դ. Հարությունյան'!AA15+'Ա. Հովհաննիսյան'!AA15+'Հ. Մանուկյան'!AA15+'Վ. Մելիքյան'!AA15+'Վ. Միսակյան'!AA15+'Մ. Շահվերդյան'!AA15+'Վ. Լ. Գրիգորյան'!AA15+'Մ. Մելքոնյան'!AA15+'Ա. Մելիքսեթյան'!AA15+'Գ. Գասպարյան'!AA15+Ա.Ղուկասյան!AA15+'Ա. Մարտիրոսյան'!AA15+'Տ. Ոսկանյան'!AA15+'Ռ. Սմբատյան'!AA15+'Ա. Ասատրյան'!AA15+'Մ. Արամյան'!AA15+'Մ. Արզումանյան'!AA15+Ա.Մուշեղյան!AA15) -> #REF! | AB15: =SUM(Ա.Արզումանյան!#REF!+Հ.Ավագյան!#REF!+Ա.Վարոսյան!#REF!+Ա.Հարությունյան!#REF!+Ն.Գալստյան!#REF!+Ա.Դունամալյան!#REF!+Մ.Գևորգյան!#REF!+Դ.Ղուկեյան!#REF!+Գ.Շահբազյան!#REF!+Գ.Մարգարյան!#REF!+Ա.Անտոնյան!#REF!+'Ա. Մուշեղյան '!#REF!+'Վ. Մարգարյան'!AB15+'Ա. Գաբրիելյան'!AB15+'Ա. Դանիբեկյան'!AB15+'Ն. Բաղդասարյան'!AB15+'Դ. Հարությունյան'!AB15+'Ա. Հովհաննիսյան'!AB15+'Հ. Մանուկյան'!AB15+'Վ. Մելիքյան'!AB15+'Վ. Միսակյան'!AB15+'Մ. Շահվերդյան'!AB15+'Վ. Լ. Գրիգորյան'!AB15+'Մ. Մելքոնյան'!AB15+'Ա. Մելիքսեթյան'!AB15+'Գ. Գասպարյան'!AB15+Ա.Ղուկասյան!AB15+'Ա. Մարտիրոսյան'!AB15+'Տ. Ոսկանյան'!AB15+'Ռ. Սմբատյան'!AB15+'Ա. Ասատրյան'!AB15+'Մ. Արամյան'!AB15+'Մ. Արզումանյան'!AB15+Ա.Մուշեղյան!AB15) -> #REF!
A16: 4 | B16: պաշտոնավարումը կասեցնելու մասին միջնորդություններ | D16: =SUM(Ա.Արզումանյան!D16+Հ.Ավագյան!D16+Ա.Վարոսյան!D16+Ա.Հարությունյան!D16+Ն.Գալստյան!D16+Ա.Դունամալյան!D16+Մ.Գևորգյան!D16+Դ.Ղուկեյան!D16+Գ.Շահբազյան!D16+Գ.Մարգարյան!D16+Ա.Անտոնյան!D16+'Ա. Մուշեղյան '!D16+'Վ. Մարգարյան'!D16+'Ա. Գաբրիելյան'!D16+'Ա. Դանիբեկյան'!D16+'Ն. Բաղդասարյան'!D16+'Դ. Հարությունյան'!D16+'Ա. Հովհաննիսյան'!D16+'Հ. Մանուկյան'!D16+'Վ. Մելիքյան'!D16+'Վ. Միսակյան'!D16+'Մ. Շահվերդյան'!D16+'Վ. Լ. Գրիգորյան'!D16+'Մ. Մելքոնյան'!D16+'Ա. Մելիքսեթյան'!D16+'Գ. Գասպարյան'!D16+Ա.Ղուկասյան!D16+'Ա. Մարտիրոսյան'!D16+'Տ. Ոսկանյան'!D16+'Ռ. Սմբատյան'!D16+'Ա. Ասատրյան'!D16+'Մ. Արամյան'!D16+'Մ. Արզումանյան'!D16+Ա.Մուշեղյան!D16) -> 0 | E16: =SUM(Ա.Արզումանյան!E16+Հ.Ավագյան!E16+Ա.Վարոսյան!E16+Ա.Հարությունյան!E16+Ն.Գալստյան!E16+Ա.Դունամալյան!E16+Մ.Գևորգյան!E16+Դ.Ղուկեյան!E16+Գ.Շահբազյան!E16+Գ.Մարգարյան!E16+Ա.Անտոնյան!E16+'Ա. Մուշեղյան '!E16+'Վ. Մարգարյան'!E16+'Ա. Գաբրիելյան'!E16+'Ա. Դանիբեկյան'!E16+'Ն. Բաղդասարյան'!E16+'Դ. Հարությունյան'!E16+'Ա. Հովհաննիսյան'!E16+'Հ. Մանուկյան'!E16+'Վ. Մելիքյան'!E16+'Վ. Միսակյան'!E16+'Մ. Շահվերդյան'!E16+'Վ. Լ. Գրիգորյան'!E16+'Մ. Մելքոնյան'!E16+'Ա. Մելիքսեթյան'!E16+'Գ. Գասպարյան'!E16+Ա.Ղուկասյան!E16+'Ա. Մարտիրոսյան'!E16+'Տ. Ոսկանյան'!E16+'Ռ. Սմբատյան'!E16+'Ա. Ասատրյան'!E16+'Մ. Արամյան'!E16+'Մ. Արզումանյան'!E16+Ա.Մուշեղյան!E16) -> 0 | F16: =SUM(Ա.Արզումանյան!F16+Հ.Ավագյան!F16+Ա.Վարոսյան!F16+Ա.Հարությունյան!F16+Ն.Գալստյան!F16+Ա.Դունամալյան!F16+Մ.Գևորգյան!F16+Դ.Ղուկեյան!F16+Գ.Շահբազյան!F16+Գ.Մարգարյան!F16+Ա.Անտոնյան!F16+'Ա. Մուշեղյան '!F16+'Վ. Մարգարյան'!F16+'Ա. Գաբրիելյան'!F16+'Ա. Դանիբեկյան'!F16+'Ն. Բաղդասարյան'!F16+'Դ. Հարությունյան'!F16+'Ա. Հովհաննիսյան'!F16+'Հ. Մանուկյան'!F16+'Վ. Մելիքյան'!F16+'Վ. Միսակյան'!F16+'Մ. Շահվերդյան'!F16+'Վ. Լ. Գրիգորյան'!F16+'Մ. Մելքոնյան'!F16+'Ա. Մելիքսեթյան'!F16+'Գ. Գասպարյան'!F16+Ա.Ղուկասյան!F16+'Ա. Մարտիրոսյան'!F16+'Տ. Ոսկանյան'!F16+'Ռ. Սմբատյան'!F16+'Ա. Ասատրյան'!F16+'Մ. Արամյան'!F16+'Մ. Արզումանյան'!F16+Ա.Մուշեղյան!F16) -> 0 | G16: =SUM(Ա.Արզումանյան!G16+Հ.Ավագյան!G16+Ա.Վարոսյան!G16+Ա.Հարությունյան!G16+Ն.Գալստյան!G16+Ա.Դունամալյան!G16+Մ.Գևորգյան!G16+Դ.Ղուկեյան!G16+Գ.Շահբազյան!G16+Գ.Մարգարյան!G16+Ա.Անտոնյան!G16+'Ա. Մուշեղյան '!G16+'Վ. Մարգարյան'!G16+'Ա. Գաբրիելյան'!G16+'Ա. Դանիբեկյան'!G16+'Ն. Բաղդասարյան'!G16+'Դ. Հարությունյան'!G16+'Ա. Հովհաննիսյան'!G16+'Հ. Մանուկյան'!G16+'Վ. Մելիքյան'!G16+'Վ. Միսակյան'!G16+'Մ. Շահվերդյան'!G16+'Վ. Լ. Գրիգորյան'!G16+'Մ. Մելքոնյան'!G16+'Ա. Մելիքսեթյան'!G16+'Գ. Գասպարյան'!G16+Ա.Ղուկասյան!G16+'Ա. Մարտիրոսյան'!G16+'Տ. Ոսկանյան'!G16+'Ռ. Սմբատյան'!G16+'Ա. Ասատրյան'!G16+'Մ. Արամյան'!G16+'Մ. Արզումանյան'!G16+Ա.Մուշեղյան!G16) -> 0 | H16: =SUM(Ա.Արզումանյան!H16+Հ.Ավագյան!H16+Ա.Վարոսյան!H16+Ա.Հարությունյան!H16+Ն.Գալստյան!H16+Ա.Դունամալյան!H16+Մ.Գևորգյան!H16+Դ.Ղուկեյան!H16+Գ.Շահբազյան!H16+Գ.Մարգարյան!H16+Ա.Անտոնյան!H16+'Ա. Մուշեղյան '!H16+'Վ. Մարգարյան'!H16+'Ա. Գաբրիելյան'!H16+'Ա. Դանիբեկյան'!H16+'Ն. Բաղդասարյան'!H16+'Դ. Հարությունյան'!H16+'Ա. Հովհաննիսյան'!H16+'Հ. Մանուկյան'!H16+'Վ. Մելիքյան'!H16+'Վ. Միսակյան'!H16+'Մ. Շահվերդյան'!H16+'Վ. Լ. Գրիգորյան'!H16+'Մ. Մելքոնյան'!H16+'Ա. Մելիքսեթյան'!H16+'Գ. Գասպարյան'!H16+Ա.Ղուկասյան!H16+'Ա. Մարտիրոսյան'!H16+'Տ. Ոսկանյան'!H16+'Ռ. Սմբատյան'!H16+'Ա. Ասատրյան'!H16+'Մ. Արամյան'!H16+'Մ. Արզումանյան'!H16+Ա.Մուշեղյան!H16) -> 0 | I16: =SUM(Ա.Արզումանյան!I16+Հ.Ավագյան!I16+Ա.Վարոսյան!I16+Ա.Հարությունյան!I16+Ն.Գալստյան!I16+Ա.Դունամալյան!I16+Մ.Գևորգյան!I16+Դ.Ղուկեյան!I16+Գ.Շահբազյան!I16+Գ.Մարգարյան!I16+Ա.Անտոնյան!I16+'Ա. Մուշեղյան '!I16+'Վ. Մարգարյան'!I16+'Ա. Գաբրիելյան'!I16+'Ա. Դանիբեկյան'!I16+'Ն. Բաղդասարյան'!I16+'Դ. Հարությունյան'!I16+'Ա. Հովհաննիսյան'!I16+'Հ. Մանուկյան'!I16+'Վ. Մելիքյան'!I16+'Վ. Միսակյան'!I16+'Մ. Շահվերդյան'!I16+'Վ. Լ. Գրիգորյան'!I16+'Մ. Մելքոնյան'!I16+'Ա. Մելիքսեթյան'!I16+'Գ. Գասպարյան'!I16+Ա.Ղուկասյան!I16+'Ա. Մարտիրոսյան'!I16+'Տ. Ոսկանյան'!I16+'Ռ. Սմբատյան'!I16+'Ա. Ասատրյան'!I16+'Մ. Արամյան'!I16+'Մ. Արզումանյան'!I16+Ա.Մուշեղյան!I16) -> 0 | J16: =SUM(Ա.Արզումանյան!J16+Հ.Ավագյան!J16+Ա.Վարոսյան!J16+Ա.Հարությունյան!J16+Ն.Գալստյան!J16+Ա.Դունամալյան!J16+Մ.Գևորգյան!J16+Դ.Ղուկեյան!J16+Գ.Շահբազյան!J16+Գ.Մարգարյան!J16+Ա.Անտոնյան!J16+'Ա. Մուշեղյան '!J16+'Վ. Մարգարյան'!J16+'Ա. Գաբրիելյան'!J16+'Ա. Դանիբեկյան'!J16+'Ն. Բաղդասարյան'!J16+'Դ. Հարությունյան'!J16+'Ա. Հովհաննիսյան'!J16+'Հ. Մանուկյան'!J16+'Վ. Մելիքյան'!J16+'Վ. Միսակյան'!J16+'Մ. Շահվերդյան'!J16+'Վ. Լ. Գրիգորյան'!J16+'Մ. Մելքոնյան'!J16+'Ա. Մելիքսեթյան'!J16+'Գ. Գասպարյան'!J16+Ա.Ղուկասյան!J16+'Ա. Մարտիրոսյան'!J16+'Տ. Ոսկանյան'!J16+'Ռ. Սմբատյան'!J16+'Ա. Ասատրյան'!J16+'Մ. Արամյան'!J16+'Մ. Արզումանյան'!J16+Ա.Մուշեղյան!J16) -> 0 | K16: =SUM(Ա.Արզումանյան!K16+Հ.Ավագյան!K16+Ա.Վարոսյան!K16+Ա.Հարությունյան!K16+Ն.Գալստյան!K16+Ա.Դունամալյան!K16+Մ.Գևորգյան!K16+Դ.Ղուկեյան!K16+Գ.Շահբազյան!K16+Գ.Մարգարյան!K16+Ա.Անտոնյան!K16+'Ա. Մուշեղյան '!K16+'Վ. Մարգարյան'!K16+'Ա. Գաբրիելյան'!K16+'Ա. Դանիբեկյան'!K16+'Ն. Բաղդասարյան'!K16+'Դ. Հարությունյան'!K16+'Ա. Հովհաննիսյան'!K16+'Հ. Մանուկյան'!K16+'Վ. Մելիքյան'!K16+'Վ. Միսակյան'!K16+'Մ. Շահվերդյան'!K16+'Վ. Լ. Գրիգորյան'!K16+'Մ. Մելքոնյան'!K16+'Ա. Մելիքսեթյան'!K16+'Գ. Գասպարյան'!K16+Ա.Ղուկասյան!K16+'Ա. Մարտիրոսյան'!K16+'Տ. Ոսկանյան'!K16+'Ռ. Սմբատյան'!K16+'Ա. Ասատրյան'!K16+'Մ. Արամյան'!K16+'Մ. Արզումանյան'!K16+Ա.Մուշեղյան!K16) -> 0 | ... T16: =SUM(Ա.Արզումանյան!T16+Հ.Ավագյան!T16+Ա.Վարոսյան!T16+Ա.Հարությունյան!T16+Ն.Գալստյան!T16+Ա.Դունամալյան!T16+Մ.Գևորգյան!T16+Դ.Ղուկեյան!T16+Գ.Շահբազյան!T16+Գ.Մարգարյան!T16+Ա.Անտոնյան!T16+'Ա. Մուշեղյան '!T16+'Վ. Մարգարյան'!T16+'Ա. Գաբրիելյան'!T16+'Ա. Դանիբեկյան'!T16+'Ն. Բաղդասարյան'!T16+'Դ. Հարությունյան'!T16+'Ա. Հովհաննիսյան'!T16+'Հ. Մանուկյան'!T16+'Վ. Մելիքյան'!T16+'Վ. Միսակյան'!T16+'Մ. Շահվերդյան'!T16+'Վ. Լ. Գրիգորյան'!T16+'Մ. Մելքոնյան'!T16+'Ա. Մելիքսեթյան'!T16+'Գ. Գասպարյան'!T16+Ա.Ղուկասյան!T16+'Ա. Մարտիրոսյան'!T16+'Տ. Ոսկանյան'!T16+'Ռ. Սմբատյան'!T16+'Ա. Ասատրյան'!T16+'Մ. Արամյան'!T16+'Մ. Արզումանյան'!T16+Ա.Մուշեղյան!T16) -> 0 | U16: =SUM(Ա.Արզումանյան!#REF!+Հ.Ավագյան!#REF!+Ա.Վարոսյան!#REF!+Ա.Հարությունյան!#REF!+Ն.Գալստյան!#REF!+Ա.Դունամալյան!#REF!+Մ.Գևորգյան!#REF!+Դ.Ղուկեյան!#REF!+Գ.Շահբազյան!#REF!+Գ.Մարգարյան!#REF!+Ա.Անտոնյան!#REF!+'Ա. Մուշեղյան '!#REF!+'Վ. Մարգարյան'!U16+'Ա. Գաբրիելյան'!U16+'Ա. Դանիբեկյան'!U16+'Ն. Բաղդասարյան'!U16+'Դ. Հարությունյան'!U16+'Ա. Հովհաննիսյան'!U16+'Հ. Մանուկյան'!U16+'Վ. Մելիքյան'!U16+'Վ. Միսակյան'!U16+'Մ. Շահվերդյան'!U16+'Վ. Լ. Գրիգորյան'!U16+'Մ. Մելքոնյան'!U16+'Ա. Մելիքսեթյան'!U16+'Գ. Գասպարյան'!U16+Ա.Ղուկասյան!U16+'Ա. Մարտիրոսյան'!U16+'Տ. Ոսկանյան'!U16+'Ռ. Սմբատյան'!U16+'Ա. Ասատրյան'!U16+'Մ. Արամյան'!U16+'Մ. Արզումանյան'!U16+Ա.Մուշեղյան!U16) -> #REF! | V16: =SUM(Ա.Արզումանյան!#REF!+Հ.Ավագյան!#REF!+Ա.Վարոսյան!#REF!+Ա.Հարությունյան!#REF!+Ն.Գալստյան!#REF!+Ա.Դունամալյան!#REF!+Մ.Գևորգյան!#REF!+Դ.Ղուկեյան!#REF!+Գ.Շահբազյան!#REF!+Գ.Մարգարյան!#REF!+Ա.Անտոնյան!#REF!+'Ա. Մուշեղյան '!#REF!+'Վ. Մարգարյան'!V16+'Ա. Գաբրիելյան'!V16+'Ա. Դանիբեկյան'!V16+'Ն. Բաղդասարյան'!V16+'Դ. Հարությունյան'!V16+'Ա. Հովհաննիսյան'!V16+'Հ. Մանուկյան'!V16+'Վ. Մելիքյան'!V16+'Վ. Միսակյան'!V16+'Մ. Շահվերդյան'!V16+'Վ. Լ. Գրիգորյան'!V16+'Մ. Մելքոնյան'!V16+'Ա. Մելիքսեթյան'!V16+'Գ. Գասպարյան'!V16+Ա.Ղուկասյան!V16+'Ա. Մարտիրոսյան'!V16+'Տ. Ոսկանյան'!V16+'Ռ. Սմբատյան'!V16+'Ա. Ասատրյան'!V16+'Մ. Արամյան'!V16+'Մ. Արզումանյան'!V16+Ա.Մուշեղյան!V16) -> #REF! | W16: =SUM(Ա.Արզումանյան!#REF!+Հ.Ավագյան!#REF!+Ա.Վարոսյան!#REF!+Ա.Հարությունյան!#REF!+Ն.Գալստյան!#REF!+Ա.Դունամալյան!#REF!+Մ.Գևորգյան!#REF!+Դ.Ղուկեյան!#REF!+Գ.Շահբազյան!#REF!+Գ.Մարգարյան!#REF!+Ա.Անտոնյան!#REF!+'Ա. Մուշեղյան '!#REF!+'Վ. Մարգարյան'!W16+'Ա. Գաբրիելյան'!W16+'Ա. Դանիբեկյան'!W16+'Ն. Բաղդասարյան'!W16+'Դ. Հարությունյան'!W16+'Ա. Հովհաննիսյան'!W16+'Հ. Մանուկյան'!W16+'Վ. Մելիքյան'!W16+'Վ. Միսակյան'!W16+'Մ. Շահվերդյան'!W16+'Վ. Լ. Գրիգորյան'!W16+'Մ. Մելքոնյան'!W16+'Ա. Մելիքսեթյան'!W16+'Գ. Գասպարյան'!W16+Ա.Ղուկասյան!W16+'Ա. Մարտիրոսյան'!W16+'Տ. Ոսկանյան'!W16+'Ռ. Սմբատյան'!W16+'Ա. Ասատրյան'!W16+'Մ. Արամյան'!W16+'Մ. Արզումանյան'!W16+Ա.Մուշեղյան!W16) -> #REF! | X16: =SUM(Ա.Արզումանյան!#REF!+Հ.Ավագյան!#REF!+Ա.Վարոսյան!#REF!+Ա.Հարությունյան!#REF!+Ն.Գալստյան!#REF!+Ա.Դունամալյան!#REF!+Մ.Գևորգյան!#REF!+Դ.Ղուկեյան!#REF!+Գ.Շահբազյան!#REF!+Գ.Մարգարյան!#REF!+Ա.Անտոնյան!#REF!+'Ա. Մուշեղյան '!#REF!+'Վ. Մարգարյան'!X16+'Ա. Գաբրիելյան'!X16+'Ա. Դանիբեկյան'!X16+'Ն. Բաղդասարյան'!X16+'Դ. Հարությունյան'!X16+'Ա. Հովհաննիսյան'!X16+'Հ. Մանուկյան'!X16+'Վ. Մելիքյան'!X16+'Վ. Միսակյան'!X16+'Մ. Շահվերդյան'!X16+'Վ. Լ. Գրիգորյան'!X16+'Մ. Մելքոնյան'!X16+'Ա. Մելիքսեթյան'!X16+'Գ. Գասպարյան'!X16+Ա.Ղուկասյան!X16+'Ա. Մարտիրոսյան'!X16+'Տ. Ոսկանյան'!X16+'Ռ. Սմբատյան'!X16+'Ա. Ասատրյան'!X16+'Մ. Արամյան'!X16+'Մ. Արզումանյան'!X16+Ա.Մուշեղյան!X16) -> #REF! | Y16: =SUM(Ա.Արզումանյան!#REF!+Հ.Ավագյան!#REF!+Ա.Վարոսյան!#REF!+Ա.Հարությունյան!#REF!+Ն.Գալստյան!#REF!+Ա.Դունամալյան!#REF!+Մ.Գևորգյան!#REF!+Դ.Ղուկեյան!#REF!+Գ.Շահբազյան!#REF!+Գ.Մարգարյան!#REF!+Ա.Անտոնյան!#REF!+'Ա. Մուշեղյան '!#REF!+'Վ. Մարգարյան'!Y16+'Ա. Գաբրիելյան'!Y16+'Ա. Դանիբեկյան'!Y16+'Ն. Բաղդասարյան'!Y16+'Դ. Հարությունյան'!Y16+'Ա. Հովհաննիսյան'!Y16+'Հ. Մանուկյան'!Y16+'Վ. Մելիքյան'!Y16+'Վ. Միսակյան'!Y16+'Մ. Շահվերդյան'!Y16+'Վ. Լ. Գրիգորյան'!Y16+'Մ. Մելքոնյան'!Y16+'Ա. Մելիքսեթյան'!Y16+'Գ. Գասպարյան'!Y16+Ա.Ղուկասյան!Y16+'Ա. Մարտիրոսյան'!Y16+'Տ. Ոսկանյան'!Y16+'Ռ. Սմբատյան'!Y16+'Ա. Ասատրյան'!Y16+'Մ. Արամյան'!Y16+'Մ. Արզումանյան'!Y16+Ա.Մուշեղյան!Y16) -> #REF! | Z16: =SUM(Ա.Արզումանյան!#REF!+Հ.Ավագյան!#REF!+Ա.Վարոսյան!#REF!+Ա.Հարությունյան!#REF!+Ն.Գալստյան!#REF!+Ա.Դունամալյան!#REF!+Մ.Գևորգյան!#REF!+Դ.Ղուկեյան!#REF!+Գ.Շահբազյան!#REF!+Գ.Մարգարյան!#REF!+Ա.Անտոնյան!#REF!+'Ա. Մուշեղյան '!#REF!+'Վ. Մարգարյան'!Z16+'Ա. Գաբրիելյան'!Z16+'Ա. Դանիբեկյան'!Z16+'Ն. Բաղդասարյան'!Z16+'Դ. Հարությունյան'!Z16+'Ա. Հովհաննիսյան'!Z16+'Հ. Մանուկյան'!Z16+'Վ. Մելիքյան'!Z16+'Վ. Միսակյան'!Z16+'Մ. Շահվերդյան'!Z16+'Վ. Լ. Գրիգորյան'!Z16+'Մ. Մելքոնյան'!Z16+'Ա. Մելիքսեթյան'!Z16+'Գ. Գասպարյան'!Z16+Ա.Ղուկասյան!Z16+'Ա. Մարտիրոսյան'!Z16+'Տ. Ոսկանյան'!Z16+'Ռ. Սմբատյան'!Z16+'Ա. Ասատրյան'!Z16+'Մ. Արամյան'!Z16+'Մ. Արզումանյան'!Z16+Ա.Մուշեղյան!Z16) -> #REF! | AA16: =SUM(Ա.Արզումանյան!#REF!+Հ.Ավագյան!#REF!+Ա.Վարոսյան!#REF!+Ա.Հարությունյան!#REF!+Ն.Գալստյան!#REF!+Ա.Դունամալյան!#REF!+Մ.Գևորգյան!#REF!+Դ.Ղուկեյան!#REF!+Գ.Շահբազյան!#REF!+Գ.Մարգարյան!#REF!+Ա.Անտոնյան!#REF!+'Ա. Մուշեղյան '!#REF!+'Վ. Մարգարյան'!AA16+'Ա. Գաբրիելյան'!AA16+'Ա. Դանիբեկյան'!AA16+'Ն. Բաղդասարյան'!AA16+'Դ. Հարությունյան'!AA16+'Ա. Հովհաննիսյան'!AA16+'Հ. Մանուկյան'!AA16+'Վ. Մելիքյան'!AA16+'Վ. Միսակյան'!AA16+'Մ. Շահվերդյան'!AA16+'Վ. Լ. Գրիգորյան'!AA16+'Մ. Մելքոնյան'!AA16+'Ա. Մելիքսեթյան'!AA16+'Գ. Գասպարյան'!AA16+Ա.Ղուկասյան!AA16+'Ա. Մարտիրոսյան'!AA16+'Տ. Ոսկանյան'!AA16+'Ռ. Սմբատյան'!AA16+'Ա. Ասատրյան'!AA16+'Մ. Արամյան'!AA16+'Մ. Արզումանյան'!AA16+Ա.Մուշեղյան!AA16) -> #REF! | AB16: =SUM(Ա.Արզումանյան!#REF!+Հ.Ավագյան!#REF!+Ա.Վարոսյան!#REF!+Ա.Հարությունյան!#REF!+Ն.Գալստյան!#REF!+Ա.Դունամալյան!#REF!+Մ.Գևորգյան!#REF!+Դ.Ղուկեյան!#REF!+Գ.Շահբազյան!#REF!+Գ.Մարգարյան!#REF!+Ա.Անտոնյան!#REF!+'Ա. Մուշեղյան '!#REF!+'Վ. Մարգարյան'!AB16+'Ա. Գաբրիելյան'!AB16+'Ա. Դանիբեկյան'!AB16+'Ն. Բաղդասարյան'!AB16+'Դ. Հարությունյան'!AB16+'Ա. Հովհաննիսյան'!AB16+'Հ. Մանուկյան'!AB16+'Վ. Մելիքյան'!AB16+'Վ. Միսակյան'!AB16+'Մ. Շահվերդյան'!AB16+'Վ. Լ. Գրիգորյան'!AB16+'Մ. Մելքոնյան'!AB16+'Ա. Մելիքսեթյան'!AB16+'Գ. Գասպարյան'!AB16+Ա.Ղուկասյան!AB16+'Ա. Մարտիրոսյան'!AB16+'Տ. Ոսկանյան'!AB16+'Ռ. Սմբատյան'!AB16+'Ա. Ասատրյան'!AB16+'Մ. Արամյան'!AB16+'Մ. Արզումանյան'!AB16+Ա.Մուշեղյան!AB16) -> #REF!
A17: 5 | B17: բացակայելն արգելելու մասին միջնորդություններ | D17: =SUM(Ա.Արզումանյան!D17+Հ.Ավագյան!D17+Ա.Վարոսյան!D17+Ա.Հարությունյան!D17+Ն.Գալստյան!D17+Ա.Դունամալյան!D17+Մ.Գևորգյան!D17+Դ.Ղուկեյան!D17+Գ.Շահբազյան!D17+Գ.Մարգարյան!D17+Ա.Անտոնյան!D17+'Ա. Մուշեղյան '!D17+'Վ. Մարգարյան'!D17+'Ա. Գաբրիելյան'!D17+'Ա. Դանիբեկյան'!D17+'Ն. Բաղդասարյան'!D17+'Դ. Հարությունյան'!D17+'Ա. Հովհաննիսյան'!D17+'Հ. Մանուկյան'!D17+'Վ. Մելիքյան'!D17+'Վ. Միսակյան'!D17+'Մ. Շահվերդյան'!D17+'Վ. Լ. Գրիգորյան'!D17+'Մ. Մելքոնյան'!D17+'Ա. Մելիքսեթյան'!D17+'Գ. Գասպարյան'!D17+Ա.Ղուկասյան!D17+'Ա. Մարտիրոսյան'!D17+'Տ. Ոսկանյան'!D17+'Ռ. Սմբատյան'!D17+'Ա. Ասատրյան'!D17+'Մ. Արամյան'!D17+'Մ. Արզումանյան'!D17+Ա.Մուշեղյան!D17) -> 0 | E17: =SUM(Ա.Արզումանյան!E17+Հ.Ավագյան!E17+Ա.Վարոսյան!E17+Ա.Հարությունյան!E17+Ն.Գալստյան!E17+Ա.Դունամալյան!E17+Մ.Գևորգյան!E17+Դ.Ղուկեյան!E17+Գ.Շահբազյան!E17+Գ.Մարգարյան!E17+Ա.Անտոնյան!E17+'Ա. Մուշեղյան '!E17+'Վ. Մարգարյան'!E17+'Ա. Գաբրիելյան'!E17+'Ա. Դանիբեկյան'!E17+'Ն. Բաղդասարյան'!E17+'Դ. Հարությունյան'!E17+'Ա. Հովհաննիսյան'!E17+'Հ. Մանուկյան'!E17+'Վ. Մելիքյան'!E17+'Վ. Միսակյան'!E17+'Մ. Շահվերդյան'!E17+'Վ. Լ. Գրիգորյան'!E17+'Մ. Մելքոնյան'!E17+'Ա. Մելիքսեթյան'!E17+'Գ. Գասպարյան'!E17+Ա.Ղուկասյան!E17+'Ա. Մարտիրոսյան'!E17+'Տ. Ոսկանյան'!E17+'Ռ. Սմբատյան'!E17+'Ա. Ասատրյան'!E17+'Մ. Արամյան'!E17+'Մ. Արզումանյան'!E17+Ա.Մուշեղյան!E17) -> 0 | F17: =SUM(Ա.Արզումանյան!F17+Հ.Ավագյան!F17+Ա.Վարոսյան!F17+Ա.Հարությունյան!F17+Ն.Գալստյան!F17+Ա.Դունամալյան!F17+Մ.Գևորգյան!F17+Դ.Ղուկեյան!F17+Գ.Շահբազյան!F17+Գ.Մարգարյան!F17+Ա.Անտոնյան!F17+'Ա. Մուշեղյան '!F17+'Վ. Մարգարյան'!F17+'Ա. Գաբրիելյան'!F17+'Ա. Դանիբեկյան'!F17+'Ն. Բաղդասարյան'!F17+'Դ. Հարությունյան'!F17+'Ա. Հովհաննիսյան'!F17+'Հ. Մանուկյան'!F17+'Վ. Մելիքյան'!F17+'Վ. Միսակյան'!F17+'Մ. Շահվերդյան'!F17+'Վ. Լ. Գրիգորյան'!F17+'Մ. Մելքոնյան'!F17+'Ա. Մելիքսեթյան'!F17+'Գ. Գասպարյան'!F17+Ա.Ղուկասյան!F17+'Ա. Մարտիրոսյան'!F17+'Տ. Ոսկանյան'!F17+'Ռ. Սմբատյան'!F17+'Ա. Ասատրյան'!F17+'Մ. Արամյան'!F17+'Մ. Արզումանյան'!F17+Ա.Մուշեղյան!F17) -> 0 | G17: =SUM(Ա.Արզումանյան!G17+Հ.Ավագյան!G17+Ա.Վարոսյան!G17+Ա.Հարությունյան!G17+Ն.Գալստյան!G17+Ա.Դունամալյան!G17+Մ.Գևորգյան!G17+Դ.Ղուկեյան!G17+Գ.Շահբազյան!G17+Գ.Մարգարյան!G17+Ա.Անտոնյան!G17+'Ա. Մուշեղյան '!G17+'Վ. Մարգարյան'!G17+'Ա. Գաբրիելյան'!G17+'Ա. Դանիբեկյան'!G17+'Ն. Բաղդասարյան'!G17+'Դ. Հարությունյան'!G17+'Ա. Հովհաննիսյան'!G17+'Հ. Մանուկյան'!G17+'Վ. Մելիքյան'!G17+'Վ. Միսակյան'!G17+'Մ. Շահվերդյան'!G17+'Վ. Լ. Գրիգորյան'!G17+'Մ. Մելքոնյան'!G17+'Ա. Մելիքսեթյան'!G17+'Գ. Գասպարյան'!G17+Ա.Ղուկասյան!G17+'Ա. Մարտիրոսյան'!G17+'Տ. Ոսկանյան'!G17+'Ռ. Սմբատյան'!G17+'Ա. Ասատրյան'!G17+'Մ. Արամյան'!G17+'Մ. Արզումանյան'!G17+Ա.Մուշեղյան!G17) -> 0 | H17: =SUM(Ա.Արզումանյան!H17+Հ.Ավագյան!H17+Ա.Վարոսյան!H17+Ա.Հարությունյան!H17+Ն.Գալստյան!H17+Ա.Դունամալյան!H17+Մ.Գևորգյան!H17+Դ.Ղուկեյան!H17+Գ.Շահբազյան!H17+Գ.Մարգարյան!H17+Ա.Անտոնյան!H17+'Ա. Մուշեղյան '!H17+'Վ. Մարգարյան'!H17+'Ա. Գաբրիելյան'!H17+'Ա. Դանիբեկյան'!H17+'Ն. Բաղդասարյան'!H17+'Դ. Հարությունյան'!H17+'Ա. Հովհաննիսյան'!H17+'Հ. Մանուկյան'!H17+'Վ. Մելիքյան'!H17+'Վ. Միսակյան'!H17+'Մ. Շահվերդյան'!H17+'Վ. Լ. Գրիգորյան'!H17+'Մ. Մելքոնյան'!H17+'Ա. Մելիքսեթյան'!H17+'Գ. Գասպարյան'!H17+Ա.Ղուկասյան!H17+'Ա. Մարտիրոսյան'!H17+'Տ. Ոսկանյան'!H17+'Ռ. Սմբատյան'!H17+'Ա. Ասատրյան'!H17+'Մ. Արամյան'!H17+'Մ. Արզումանյան'!H17+Ա.Մուշեղյան!H17) -> 0 | I17: =SUM(Ա.Արզումանյան!I17+Հ.Ավագյան!I17+Ա.Վարոսյան!I17+Ա.Հարությունյան!I17+Ն.Գալստյան!I17+Ա.Դունամալյան!I17+Մ.Գևորգյան!I17+Դ.Ղուկեյան!I17+Գ.Շահբազյան!I17+Գ.Մարգարյան!I17+Ա.Անտոնյան!I17+'Ա. Մուշեղյան '!I17+'Վ. Մարգարյան'!I17+'Ա. Գաբրիելյան'!I17+'Ա. Դանիբեկյան'!I17+'Ն. Բաղդասարյան'!I17+'Դ. Հարությունյան'!I17+'Ա. Հովհաննիսյան'!I17+'Հ. Մանուկյան'!I17+'Վ. Մելիքյան'!I17+'Վ. Միսակյան'!I17+'Մ. Շահվերդյան'!I17+'Վ. Լ. Գրիգորյան'!I17+'Մ. Մելքոնյան'!I17+'Ա. Մելիքսեթյան'!I17+'Գ. Գասպարյան'!I17+Ա.Ղուկասյան!I17+'Ա. Մարտիրոսյան'!I17+'Տ. Ոսկանյան'!I17+'Ռ. Սմբատյան'!I17+'Ա. Ասատրյան'!I17+'Մ. Արամյան'!I17+'Մ. Արզումանյան'!I17+Ա.Մուշեղյան!I17) -> 0 | J17: =SUM(Ա.Արզումանյան!J17+Հ.Ավագյան!J17+Ա.Վարոսյան!J17+Ա.Հարությունյան!J17+Ն.Գալստյան!J17+Ա.Դունամալյան!J17+Մ.Գևորգյան!J17+Դ.Ղուկեյան!J17+Գ.Շահբազյան!J17+Գ.Մարգարյան!J17+Ա.Անտոնյան!J17+'Ա. Մուշեղյան '!J17+'Վ. Մարգարյան'!J17+'Ա. Գաբրիելյան'!J17+'Ա. Դանիբեկյան'!J17+'Ն. Բաղդասարյան'!J17+'Դ. Հարությունյան'!J17+'Ա. Հովհաննիսյան'!J17+'Հ. Մանուկյան'!J17+'Վ. Մելիքյան'!J17+'Վ. Միսակյան'!J17+'Մ. Շահվերդյան'!J17+'Վ. Լ. Գրիգորյան'!J17+'Մ. Մելքոնյան'!J17+'Ա. Մելիքսեթյան'!J17+'Գ. Գասպարյան'!J17+Ա.Ղուկասյան!J17+'Ա. Մարտիրոսյան'!J17+'Տ. Ոսկանյան'!J17+'Ռ. Սմբատյան'!J17+'Ա. Ասատրյան'!J17+'Մ. Արամյան'!J17+'Մ. Արզումանյան'!J17+Ա.Մուշեղյան!J17) -> 0 | K17: =SUM(Ա.Արզումանյան!K17+Հ.Ավագյան!K17+Ա.Վարոսյան!K17+Ա.Հարությունյան!K17+Ն.Գալստյան!K17+Ա.Դունամալյան!K17+Մ.Գևորգյան!K17+Դ.Ղուկեյան!K17+Գ.Շահբազյան!K17+Գ.Մարգարյան!K17+Ա.Անտոնյան!K17+'Ա. Մուշեղյան '!K17+'Վ. Մարգարյան'!K17+'Ա. Գաբրիելյան'!K17+'Ա. Դանիբեկյան'!K17+'Ն. Բաղդասարյան'!K17+'Դ. Հարությունյան'!K17+'Ա. Հովհաննիսյան'!K17+'Հ. Մանուկյան'!K17+'Վ. Մելիքյան'!K17+'Վ. Միսակյան'!K17+'Մ. Շահվերդյան'!K17+'Վ. Լ. Գրիգորյան'!K17+'Մ. Մելքոնյան'!K17+'Ա. Մելիքսեթյան'!K17+'Գ. Գասպարյան'!K17+Ա.Ղուկասյան!K17+'Ա. Մարտիրոսյան'!K17+'Տ. Ոսկանյան'!K17+'Ռ. Սմբատյան'!K17+'Ա. Ասատրյան'!K17+'Մ. Արամյան'!K17+'Մ. Արզումանյան'!K17+Ա.Մուշեղյան!K17) -> 0 | ... T17: =SUM(Ա.Արզումանյան!T17+Հ.Ավագյան!T17+Ա.Վարոսյան!T17+Ա.Հարությունյան!T17+Ն.Գալստյան!T17+Ա.Դունամալյան!T17+Մ.Գևորգյան!T17+Դ.Ղուկեյան!T17+Գ.Շահբազյան!T17+Գ.Մարգարյան!T17+Ա.Անտոնյան!T17+'Ա. Մուշեղյան '!T17+'Վ. Մարգարյան'!T17+'Ա. Գաբրիելյան'!T17+'Ա. Դանիբեկյան'!T17+'Ն. Բաղդասարյան'!T17+'Դ. Հարությունյան'!T17+'Ա. Հովհաննիսյան'!T17+'Հ. Մանուկյան'!T17+'Վ. Մելիքյան'!T17+'Վ. Միսակյան'!T17+'Մ. Շահվերդյան'!T17+'Վ. Լ. Գրիգորյան'!T17+'Մ. Մելքոնյան'!T17+'Ա. Մելիքսեթյան'!T17+'Գ. Գասպարյան'!T17+Ա.Ղուկասյան!T17+'Ա. Մարտիրոսյան'!T17+'Տ. Ոսկանյան'!T17+'Ռ. Սմբատյան'!T17+'Ա. Ասատրյան'!T17+'Մ. Արամյան'!T17+'Մ. Արզումանյան'!T17+Ա.Մուշեղյան!T17) -> 0 | U17: =SUM(Ա.Արզումանյան!#REF!+Հ.Ավագյան!#REF!+Ա.Վարոսյան!#REF!+Ա.Հարությունյան!#REF!+Ն.Գալստյան!#REF!+Ա.Դունամալյան!#REF!+Մ.Գևորգյան!#REF!+Դ.Ղուկեյան!#REF!+Գ.Շահբազյան!#REF!+Գ.Մարգարյան!#REF!+Ա.Անտոնյան!#REF!+'Ա. Մուշեղյան '!#REF!+'Վ. Մարգարյան'!U17+'Ա. Գաբրիելյան'!U17+'Ա. Դանիբեկյան'!U17+'Ն. Բաղդասարյան'!U17+'Դ. Հարությունյան'!U17+'Ա. Հովհաննիսյան'!U17+'Հ. Մանուկյան'!U17+'Վ. Մելիքյան'!U17+'Վ. Միսակյան'!U17+'Մ. Շահվերդյան'!U17+'Վ. Լ. Գրիգորյան'!U17+'Մ. Մելքոնյան'!U17+'Ա. Մելիքսեթյան'!U17+'Գ. Գասպարյան'!U17+Ա.Ղուկասյան!U17+'Ա. Մարտիրոսյան'!U17+'Տ. Ոսկանյան'!U17+'Ռ. Սմբատյան'!U17+'Ա. Ասատրյան'!U17+'Մ. Արամյան'!U17+'Մ. Արզումանյան'!U17+Ա.Մուշեղյան!U17) -> #REF! | V17: =SUM(Ա.Արզումանյան!#REF!+Հ.Ավագյան!#REF!+Ա.Վարոսյան!#REF!+Ա.Հարությունյան!#REF!+Ն.Գալստյան!#REF!+Ա.Դունամալյան!#REF!+Մ.Գևորգյան!#REF!+Դ.Ղուկեյան!#REF!+Գ.Շահբազյան!#REF!+Գ.Մարգարյան!#REF!+Ա.Անտոնյան!#REF!+'Ա. Մուշեղյան '!#REF!+'Վ. Մարգարյան'!V17+'Ա. Գաբրիելյան'!V17+'Ա. Դանիբեկյան'!V17+'Ն. Բաղդասարյան'!V17+'Դ. Հարությունյան'!V17+'Ա. Հովհաննիսյան'!V17+'Հ. Մանուկյան'!V17+'Վ. Մելիքյան'!V17+'Վ. Միսակյան'!V17+'Մ. Շահվերդյան'!V17+'Վ. Լ. Գրիգորյան'!V17+'Մ. Մելքոնյան'!V17+'Ա. Մելիքսեթյան'!V17+'Գ. Գասպարյան'!V17+Ա.Ղուկասյան!V17+'Ա. Մարտիրոսյան'!V17+'Տ. Ոսկանյան'!V17+'Ռ. Սմբատյան'!V17+'Ա. Ասատրյան'!V17+'Մ. Արամյան'!V17+'Մ. Արզումանյան'!V17+Ա.Մուշեղյան!V17) -> #REF! | W17: =SUM(Ա.Արզումանյան!#REF!+Հ.Ավագյան!#REF!+Ա.Վարոսյան!#REF!+Ա.Հարությունյան!#REF!+Ն.Գալստյան!#REF!+Ա.Դունամալյան!#REF!+Մ.Գևորգյան!#REF!+Դ.Ղուկեյան!#REF!+Գ.Շահբազյան!#REF!+Գ.Մարգարյան!#REF!+Ա.Անտոնյան!#REF!+'Ա. Մուշեղյան '!#REF!+'Վ. Մարգարյան'!W17+'Ա. Գաբրիելյան'!W17+'Ա. Դանիբեկյան'!W17+'Ն. Բաղդասարյան'!W17+'Դ. Հարությունյան'!W17+'Ա. Հովհաննիսյան'!W17+'Հ. Մանուկյան'!W17+'Վ. Մելիքյան'!W17+'Վ. Միսակյան'!W17+'Մ. Շահվերդյան'!W17+'Վ. Լ. Գրիգորյան'!W17+'Մ. Մելքոնյան'!W17+'Ա. Մելիքսեթյան'!W17+'Գ. Գասպարյան'!W17+Ա.Ղուկասյան!W17+'Ա. Մարտիրոսյան'!W17+'Տ. Ոսկանյան'!W17+'Ռ. Սմբատյան'!W17+'Ա. Ասատրյան'!W17+'Մ. Արամյան'!W17+'Մ. Արզումանյան'!W17+Ա.Մուշեղյան!W17) -> #REF! | X17: =SUM(Ա.Արզումանյան!#REF!+Հ.Ավագյան!#REF!+Ա.Վարոսյան!#REF!+Ա.Հարությունյան!#REF!+Ն.Գալստյան!#REF!+Ա.Դունամալյան!#REF!+Մ.Գևորգյան!#REF!+Դ.Ղուկեյան!#REF!+Գ.Շահբազյան!#REF!+Գ.Մարգարյան!#REF!+Ա.Անտոնյան!#REF!+'Ա. Մուշեղյան '!#REF!+'Վ. Մարգարյան'!X17+'Ա. Գաբրիելյան'!X17+'Ա. Դանիբեկյան'!X17+'Ն. Բաղդասարյան'!X17+'Դ. Հարությունյան'!X17+'Ա. Հովհաննիսյան'!X17+'Հ. Մանուկյան'!X17+'Վ. Մելիքյան'!X17+'Վ. Միսակյան'!X17+'Մ. Շահվերդյան'!X17+'Վ. Լ. Գրիգորյան'!X17+'Մ. Մելքոնյան'!X17+'Ա. Մելիքսեթյան'!X17+'Գ. Գասպարյան'!X17+Ա.Ղուկասյան!X17+'Ա. Մարտիրոսյան'!X17+'Տ. Ոսկանյան'!X17+'Ռ. Սմբատյան'!X17+'Ա. Ասատրյան'!X17+'Մ. Արամյան'!X17+'Մ. Արզումանյան'!X17+Ա.Մուշեղյան!X17) -> #REF! | Y17: =SUM(Ա.Արզումանյան!#REF!+Հ.Ավագյան!#REF!+Ա.Վարոսյան!#REF!+Ա.Հարությունյան!#REF!+Ն.Գալստյան!#REF!+Ա.Դունամալյան!#REF!+Մ.Գևորգյան!#REF!+Դ.Ղուկեյան!#REF!+Գ.Շահբազյան!#REF!+Գ.Մարգարյան!#REF!+Ա.Անտոնյան!#REF!+'Ա. Մուշեղյան '!#REF!+'Վ. Մարգարյան'!Y17+'Ա. Գաբրիելյան'!Y17+'Ա. Դանիբեկյան'!Y17+'Ն. Բաղդասարյան'!Y17+'Դ. Հարությունյան'!Y17+'Ա. Հովհաննիսյան'!Y17+'Հ. Մանուկյան'!Y17+'Վ. Մելիքյան'!Y17+'Վ. Միսակյան'!Y17+'Մ. Շահվերդյան'!Y17+'Վ. Լ. Գրիգորյան'!Y17+'Մ. Մելքոնյան'!Y17+'Ա. Մելիքսեթյան'!Y17+'Գ. Գասպարյան'!Y17+Ա.Ղուկասյան!Y17+'Ա. Մարտիրոսյան'!Y17+'Տ. Ոսկանյան'!Y17+'Ռ. Սմբատյան'!Y17+'Ա. Ասատրյան'!Y17+'Մ. Արամյան'!Y17+'Մ. Արզումանյան'!Y17+Ա.Մուշեղյան!Y17) -> #REF! | Z17: =SUM(Ա.Արզումանյան!#REF!+Հ.Ավագյան!#REF!+Ա.Վարոսյան!#REF!+Ա.Հարությունյան!#REF!+Ն.Գալստյան!#REF!+Ա.Դունամալյան!#REF!+Մ.Գևորգյան!#REF!+Դ.Ղուկեյան!#REF!+Գ.Շահբազյան!#REF!+Գ.Մարգարյան!#REF!+Ա.Անտոնյան!#REF!+'Ա. Մուշեղյան '!#REF!+'Վ. Մարգարյան'!Z17+'Ա. Գաբրիելյան'!Z17+'Ա. Դանիբեկյան'!Z17+'Ն. Բաղդասարյան'!Z17+'Դ. Հարությունյան'!Z17+'Ա. Հովհաննիսյան'!Z17+'Հ. Մանուկյան'!Z17+'Վ. Մելիքյան'!Z17+'Վ. Միսակյան'!Z17+'Մ. Շահվերդյան'!Z17+'Վ. Լ. Գրիգորյան'!Z17+'Մ. Մելքոնյան'!Z17+'Ա. Մելիքսեթյան'!Z17+'Գ. Գասպարյան'!Z17+Ա.Ղուկասյան!Z17+'Ա. Մարտիրոսյան'!Z17+'Տ. Ոսկանյան'!Z17+'Ռ. Սմբատյան'!Z17+'Ա. Ասատրյան'!Z17+'Մ. Արամյան'!Z17+'Մ. Արզումանյան'!Z17+Ա.Մուշեղյան!Z17) -> #REF! | AA17: =SUM(Ա.Արզումանյան!#REF!+Հ.Ավագյան!#REF!+Ա.Վարոսյան!#REF!+Ա.Հարությունյան!#REF!+Ն.Գալստյան!#REF!+Ա.Դունամալյան!#REF!+Մ.Գևորգյան!#REF!+Դ.Ղուկեյան!#REF!+Գ.Շահբազյան!#REF!+Գ.Մարգարյան!#REF!+Ա.Անտոնյան!#REF!+'Ա. Մուշեղյան '!#REF!+'Վ. Մարգարյան'!AA17+'Ա. Գաբրիելյան'!AA17+'Ա. Դանիբեկյան'!AA17+'Ն. Բաղդասարյան'!AA17+'Դ. Հարությունյան'!AA17+'Ա. Հովհաննիսյան'!AA17+'Հ. Մանուկյան'!AA17+'Վ. Մելիքյան'!AA17+'Վ. Միսակյան'!AA17+'Մ. Շահվերդյան'!AA17+'Վ. Լ. Գրիգորյան'!AA17+'Մ. Մելքոնյան'!AA17+'Ա. Մելիքսեթյան'!AA17+'Գ. Գասպարյան'!AA17+Ա.Ղուկասյան!AA17+'Ա. Մարտիրոսյան'!AA17+'Տ. Ոսկանյան'!AA17+'Ռ. Սմբատյան'!AA17+'Ա. Ասատրյան'!AA17+'Մ. Արամյան'!AA17+'Մ. Արզումանյան'!AA17+Ա.Մուշեղյան!AA17) -> #REF! | AB17: =SUM(Ա.Արզումանյան!#REF!+Հ.Ավագյան!#REF!+Ա.Վարոսյան!#REF!+Ա.Հարությունյան!#REF!+Ն.Գալստյան!#REF!+Ա.Դունամալյան!#REF!+Մ.Գևորգյան!#REF!+Դ.Ղուկեյան!#REF!+Գ.Շահբազյան!#REF!+Գ.Մարգարյան!#REF!+Ա.Անտոնյան!#REF!+'Ա. Մուշեղյան '!#REF!+'Վ. Մարգարյան'!AB17+'Ա. Գաբրիելյան'!AB17+'Ա. Դանիբեկյան'!AB17+'Ն. Բաղդասարյան'!AB17+'Դ. Հարությունյան'!AB17+'Ա. Հովհաննիսյան'!AB17+'Հ. Մանուկյան'!AB17+'Վ. Մելիքյան'!AB17+'Վ. Միսակյան'!AB17+'Մ. Շահվերդյան'!AB17+'Վ. Լ. Գրիգորյան'!AB17+'Մ. Մելքոնյան'!AB17+'Ա. Մելիքսեթյան'!AB17+'Գ. Գասպարյան'!AB17+Ա.Ղուկասյան!AB17+'Ա. Մարտիրոսյան'!AB17+'Տ. Ոսկանյան'!AB17+'Ռ. Սմբատյան'!AB17+'Ա. Ասատրյան'!AB17+'Մ. Արամյան'!AB17+'Մ. Արզումանյան'!AB17+Ա.Մուշեղյան!AB17) -> #REF!
A18: 6 | B18: երաշխավորություն կիրառելու մասին միջնորդություններ | D18: =SUM(Ա.Արզումանյան!D18+Հ.Ավագյան!D18+Ա.Վարոսյան!D18+Ա.Հարությունյան!D18+Ն.Գալստյան!D18+Ա.Դունամալյան!D18+Մ.Գևորգյան!D18+Դ.Ղուկեյան!D18+Գ.Շահբազյան!D18+Գ.Մարգարյան!D18+Ա.Անտոնյան!D18+'Ա. Մուշեղյան '!D18+'Վ. Մարգարյան'!D18+'Ա. Գաբրիելյան'!D18+'Ա. Դանիբեկյան'!D18+'Ն. Բաղդասարյան'!D18+'Դ. Հարությունյան'!D18+'Ա. Հովհաննիսյան'!D18+'Հ. Մանուկյան'!D18+'Վ. Մելիքյան'!D18+'Վ. Միսակյան'!D18+'Մ. Շահվերդյան'!D18+'Վ. Լ. Գրիգորյան'!D18+'Մ. Մելքոնյան'!D18+'Ա. Մելիքսեթյան'!D18+'Գ. Գասպարյան'!D18+Ա.Ղուկասյան!D18+'Ա. Մարտիրոսյան'!D18+'Տ. Ոսկանյան'!D18+'Ռ. Սմբատյան'!D18+'Ա. Ասատրյան'!D18+'Մ. Արամյան'!D18+'Մ. Արզումանյան'!D18+Ա.Մուշեղյան!D18) -> 0 | E18: =SUM(Ա.Արզումանյան!E18+Հ.Ավագյան!E18+Ա.Վարոսյան!E18+Ա.Հարությունյան!E18+Ն.Գալստյան!E18+Ա.Դունամալյան!E18+Մ.Գևորգյան!E18+Դ.Ղուկեյան!E18+Գ.Շահբազյան!E18+Գ.Մարգարյան!E18+Ա.Անտոնյան!E18+'Ա. Մուշեղյան '!E18+'Վ. Մարգարյան'!E18+'Ա. Գաբրիելյան'!E18+'Ա. Դանիբեկյան'!E18+'Ն. Բաղդասարյան'!E18+'Դ. Հարությունյան'!E18+'Ա. Հովհաննիսյան'!E18+'Հ. Մանուկյան'!E18+'Վ. Մելիքյան'!E18+'Վ. Միսակյան'!E18+'Մ. Շահվերդյան'!E18+'Վ. Լ. Գրիգորյան'!E18+'Մ. Մելքոնյան'!E18+'Ա. Մելիքսեթյան'!E18+'Գ. Գասպարյան'!E18+Ա.Ղուկասյան!E18+'Ա. Մարտիրոսյան'!E18+'Տ. Ոսկանյան'!E18+'Ռ. Սմբատյան'!E18+'Ա. Ասատրյան'!E18+'Մ. Արամյան'!E18+'Մ. Արզումանյան'!E18+Ա.Մուշեղյան!E18) -> 0 | F18: =SUM(Ա.Արզումանյան!F18+Հ.Ավագյան!F18+Ա.Վարոսյան!F18+Ա.Հարությունյան!F18+Ն.Գալստյան!F18+Ա.Դունամալյան!F18+Մ.Գևորգյան!F18+Դ.Ղուկեյան!F18+Գ.Շահբազյան!F18+Գ.Մարգարյան!F18+Ա.Անտոնյան!F18+'Ա. Մուշեղյան '!F18+'Վ. Մարգարյան'!F18+'Ա. Գաբրիելյան'!F18+'Ա. Դանիբեկյան'!F18+'Ն. Բաղդասարյան'!F18+'Դ. Հարությունյան'!F18+'Ա. Հովհաննիսյան'!F18+'Հ. Մանուկյան'!F18+'Վ. Մելիքյան'!F18+'Վ. Միսակյան'!F18+'Մ. Շահվերդյան'!F18+'Վ. Լ. Գրիգորյան'!F18+'Մ. Մելքոնյան'!F18+'Ա. Մելիքսեթյան'!F18+'Գ. Գասպարյան'!F18+Ա.Ղուկասյան!F18+'Ա. Մարտիրոսյան'!F18+'Տ. Ոսկանյան'!F18+'Ռ. Սմբատյան'!F18+'Ա. Ասատրյան'!F18+'Մ. Արամյան'!F18+'Մ. Արզումանյան'!F18+Ա.Մուշեղյան!F18) -> 0 | G18: =SUM(Ա.Արզումանյան!G18+Հ.Ավագյան!G18+Ա.Վարոսյան!G18+Ա.Հարությունյան!G18+Ն.Գալստյան!G18+Ա.Դունամալյան!G18+Մ.Գևորգյան!G18+Դ.Ղուկեյան!G18+Գ.Շահբազյան!G18+Գ.Մարգարյան!G18+Ա.Անտոնյան!G18+'Ա. Մուշեղյան '!G18+'Վ. Մարգարյան'!G18+'Ա. Գաբրիելյան'!G18+'Ա. Դանիբեկյան'!G18+'Ն. Բաղդասարյան'!G18+'Դ. Հարությունյան'!G18+'Ա. Հովհաննիսյան'!G18+'Հ. Մանուկյան'!G18+'Վ. Մելիքյան'!G18+'Վ. Միսակյան'!G18+'Մ. Շահվերդյան'!G18+'Վ. Լ. Գրիգորյան'!G18+'Մ. Մելքոնյան'!G18+'Ա. Մելիքսեթյան'!G18+'Գ. Գասպարյան'!G18+Ա.Ղուկասյան!G18+'Ա. Մարտիրոսյան'!G18+'Տ. Ոսկանյան'!G18+'Ռ. Սմբատյան'!G18+'Ա. Ասատրյան'!G18+'Մ. Արամյան'!G18+'Մ. Արզումանյան'!G18+Ա.Մուշեղյան!G18) -> 0 | H18: =SUM(Ա.Արզումանյան!H18+Հ.Ավագյան!H18+Ա.Վարոսյան!H18+Ա.Հարությունյան!H18+Ն.Գալստյան!H18+Ա.Դունամալյան!H18+Մ.Գևորգյան!H18+Դ.Ղուկեյան!H18+Գ.Շահբազյան!H18+Գ.Մարգարյան!H18+Ա.Անտոնյան!H18+'Ա. Մուշեղյան '!H18+'Վ. Մարգարյան'!H18+'Ա. Գաբրիելյան'!H18+'Ա. Դանիբեկյան'!H18+'Ն. Բաղդասարյան'!H18+'Դ. Հարությունյան'!H18+'Ա. Հովհաննիսյան'!H18+'Հ. Մանուկյան'!H18+'Վ. Մելիքյան'!H18+'Վ. Միսակյան'!H18+'Մ. Շահվերդյան'!H18+'Վ. Լ. Գրիգորյան'!H18+'Մ. Մելքոնյան'!H18+'Ա. Մելիքսեթյան'!H18+'Գ. Գասպարյան'!H18+Ա.Ղուկասյան!H18+'Ա. Մարտիրոսյան'!H18+'Տ. Ոսկանյան'!H18+'Ռ. Սմբատյան'!H18+'Ա. Ասատրյան'!H18+'Մ. Արամյան'!H18+'Մ. Արզումանյան'!H18+Ա.Մուշեղյան!H18) -> 0 | I18: =SUM(Ա.Արզումանյան!I18+Հ.Ավագյան!I18+Ա.Վարոսյան!I18+Ա.Հարությունյան!I18+Ն.Գալստյան!I18+Ա.Դունամալյան!I18+Մ.Գևորգյան!I18+Դ.Ղուկեյան!I18+Գ.Շահբազյան!I18+Գ.Մարգարյան!I18+Ա.Անտոնյան!I18+'Ա. Մուշեղյան '!I18+'Վ. Մարգարյան'!I18+'Ա. Գաբրիելյան'!I18+'Ա. Դանիբեկյան'!I18+'Ն. Բաղդասարյան'!I18+'Դ. Հարությունյան'!I18+'Ա. Հովհաննիսյան'!I18+'Հ. Մանուկյան'!I18+'Վ. Մելիքյան'!I18+'Վ. Միսակյան'!I18+'Մ. Շահվերդյան'!I18+'Վ. Լ. Գրիգորյան'!I18+'Մ. Մելքոնյան'!I18+'Ա. Մելիքսեթյան'!I18+'Գ. Գասպարյան'!I18+Ա.Ղուկասյան!I18+'Ա. Մարտիրոսյան'!I18+'Տ. Ոսկանյան'!I18+'Ռ. Սմբատյան'!I18+'Ա. Ասատրյան'!I18+'Մ. Արամյան'!I18+'Մ. Արզումանյան'!I18+Ա.Մուշեղյան!I18) -> 0 | J18: =SUM(Ա.Արզումանյան!J18+Հ.Ավագյան!J18+Ա.Վարոսյան!J18+Ա.Հարությունյան!J18+Ն.Գալստյան!J18+Ա.Դունամալյան!J18+Մ.Գևորգյան!J18+Դ.Ղուկեյան!J18+Գ.Շահբազյան!J18+Գ.Մարգարյան!J18+Ա.Անտոնյան!J18+'Ա. Մուշեղյան '!J18+'Վ. Մարգարյան'!J18+'Ա. Գաբրիելյան'!J18+'Ա. Դանիբեկյան'!J18+'Ն. Բաղդասարյան'!J18+'Դ. Հարությունյան'!J18+'Ա. Հովհաննիսյան'!J18+'Հ. Մանուկյան'!J18+'Վ. Մելիքյան'!J18+'Վ. Միսակյան'!J18+'Մ. Շահվերդյան'!J18+'Վ. Լ. Գրիգորյան'!J18+'Մ. Մելքոնյան'!J18+'Ա. Մելիքսեթյան'!J18+'Գ. Գասպարյան'!J18+Ա.Ղուկասյան!J18+'Ա. Մարտիրոսյան'!J18+'Տ. Ոսկանյան'!J18+'Ռ. Սմբատյան'!J18+'Ա. Ասատրյան'!J18+'Մ. Արամյան'!J18+'Մ. Արզումանյան'!J18+Ա.Մուշեղյան!J18) -> 0 | K18: =SUM(Ա.Արզումանյան!K18+Հ.Ավագյան!K18+Ա.Վարոսյան!K18+Ա.Հարությունյան!K18+Ն.Գալստյան!K18+Ա.Դունամալյան!K18+Մ.Գևորգյան!K18+Դ.Ղուկեյան!K18+Գ.Շահբազյան!K18+Գ.Մարգարյան!K18+Ա.Անտոնյան!K18+'Ա. Մուշեղյան '!K18+'Վ. Մարգարյան'!K18+'Ա. Գաբրիելյան'!K18+'Ա. Դանիբեկյան'!K18+'Ն. Բաղդասարյան'!K18+'Դ. Հարությունյան'!K18+'Ա. Հովհաննիսյան'!K18+'Հ. Մանուկյան'!K18+'Վ. Մելիքյան'!K18+'Վ. Միսակյան'!K18+'Մ. Շահվերդյան'!K18+'Վ. Լ. Գրիգորյան'!K18+'Մ. Մելքոնյան'!K18+'Ա. Մելիքսեթյան'!K18+'Գ. Գասպարյան'!K18+Ա.Ղուկասյան!K18+'Ա. Մարտիրոսյան'!K18+'Տ. Ոսկանյան'!K18+'Ռ. Սմբատյան'!K18+'Ա. Ասատրյան'!K18+'Մ. Արամյան'!K18+'Մ. Արզումանյան'!K18+Ա.Մուշեղյան!K18) -> 0 | ... T18: =SUM(Ա.Արզումանյան!T18+Հ.Ավագյան!T18+Ա.Վարոսյան!T18+Ա.Հարությունյան!T18+Ն.Գալստյան!T18+Ա.Դունամալյան!T18+Մ.Գևորգյան!T18+Դ.Ղուկեյան!T18+Գ.Շահբազյան!T18+Գ.Մարգարյան!T18+Ա.Անտոնյան!T18+'Ա. Մուշեղյան '!T18+'Վ. Մարգարյան'!T18+'Ա. Գաբրիելյան'!T18+'Ա. Դանիբեկյան'!T18+'Ն. Բաղդասարյան'!T18+'Դ. Հարությունյան'!T18+'Ա. Հովհաննիսյան'!T18+'Հ. Մանուկյան'!T18+'Վ. Մելիքյան'!T18+'Վ. Միսակյան'!T18+'Մ. Շահվերդյան'!T18+'Վ. Լ. Գրիգորյան'!T18+'Մ. Մելքոնյան'!T18+'Ա. Մելիքսեթյան'!T18+'Գ. Գասպարյան'!T18+Ա.Ղուկասյան!T18+'Ա. Մարտիրոսյան'!T18+'Տ. Ոսկանյան'!T18+'Ռ. Սմբատյան'!T18+'Ա. Ասատրյան'!T18+'Մ. Արամյան'!T18+'Մ. Արզումանյան'!T18+Ա.Մուշեղյան!T18) -> 0 | U18: =SUM(Ա.Արզումանյան!#REF!+Հ.Ավագյան!#REF!+Ա.Վարոսյան!#REF!+Ա.Հարությունյան!#REF!+Ն.Գալստյան!#REF!+Ա.Դունամալյան!#REF!+Մ.Գևորգյան!#REF!+Դ.Ղուկեյան!#REF!+Գ.Շահբազյան!#REF!+Գ.Մարգարյան!#REF!+Ա.Անտոնյան!#REF!+'Ա. Մուշեղյան '!#REF!+'Վ. Մարգարյան'!U18+'Ա. Գաբրիելյան'!U18+'Ա. Դանիբեկյան'!U18+'Ն. Բաղդասարյան'!U18+'Դ. Հարությունյան'!U18+'Ա. Հովհաննիսյան'!U18+'Հ. Մանուկյան'!U18+'Վ. Մելիքյան'!U18+'Վ. Միսակյան'!U18+'Մ. Շահվերդյան'!U18+'Վ. Լ. Գրիգորյան'!U18+'Մ. Մելքոնյան'!U18+'Ա. Մելիքսեթյան'!U18+'Գ. Գասպարյան'!U18+Ա.Ղուկասյան!U18+'Ա. Մարտիրոսյան'!U18+'Տ. Ոսկանյան'!U18+'Ռ. Սմբատյան'!U18+'Ա. Ասատրյան'!U18+'Մ. Արամյան'!U18+'Մ. Արզումանյան'!U18+Ա.Մուշեղյան!U18) -> #REF! | V18: =SUM(Ա.Արզումանյան!#REF!+Հ.Ավագյան!#REF!+Ա.Վարոսյան!#REF!+Ա.Հարությունյան!#REF!+Ն.Գալստյան!#REF!+Ա.Դունամալյան!#REF!+Մ.Գևորգյան!#REF!+Դ.Ղուկեյան!#REF!+Գ.Շահբազյան!#REF!+Գ.Մարգարյան!#REF!+Ա.Անտոնյան!#REF!+'Ա. Մուշեղյան '!#REF!+'Վ. Մարգարյան'!V18+'Ա. Գաբրիելյան'!V18+'Ա. Դանիբեկյան'!V18+'Ն. Բաղդասարյան'!V18+'Դ. Հարությունյան'!V18+'Ա. Հովհաննիսյան'!V18+'Հ. Մանուկյան'!V18+'Վ. Մելիքյան'!V18+'Վ. Միսակյան'!V18+'Մ. Շահվերդյան'!V18+'Վ. Լ. Գրիգորյան'!V18+'Մ. Մելքոնյան'!V18+'Ա. Մելիքսեթյան'!V18+'Գ. Գասպարյան'!V18+Ա.Ղուկասյան!V18+'Ա. Մարտիրոսյան'!V18+'Տ. Ոսկանյան'!V18+'Ռ. Սմբատյան'!V18+'Ա. Ասատրյան'!V18+'Մ. Արամյան'!V18+'Մ. Արզումանյան'!V18+Ա.Մուշեղյան!V18) -> #REF! | W18: =SUM(Ա.Արզումանյան!#REF!+Հ.Ավագյան!#REF!+Ա.Վարոսյան!#REF!+Ա.Հարությունյան!#REF!+Ն.Գալստյան!#REF!+Ա.Դունամալյան!#REF!+Մ.Գևորգյան!#REF!+Դ.Ղուկեյան!#REF!+Գ.Շահբազյան!#REF!+Գ.Մարգարյան!#REF!+Ա.Անտոնյան!#REF!+'Ա. Մուշեղյան '!#REF!+'Վ. Մարգարյան'!W18+'Ա. Գաբրիելյան'!W18+'Ա. Դանիբեկյան'!W18+'Ն. Բաղդասարյան'!W18+'Դ. Հարությունյան'!W18+'Ա. Հովհաննիսյան'!W18+'Հ. Մանուկյան'!W18+'Վ. Մելիքյան'!W18+'Վ. Միսակյան'!W18+'Մ. Շահվերդյան'!W18+'Վ. Լ. Գրիգորյան'!W18+'Մ. Մելքոնյան'!W18+'Ա. Մելիքսեթյան'!W18+'Գ. Գասպարյան'!W18+Ա.Ղուկասյան!W18+'Ա. Մարտիրոսյան'!W18+'Տ. Ոսկանյան'!W18+'Ռ. Սմբատյան'!W18+'Ա. Ասատրյան'!W18+'Մ. Արամյան'!W18+'Մ. Արզումանյան'!W18+Ա.Մուշեղյան!W18) -> #REF! | X18: =SUM(Ա.Արզումանյան!#REF!+Հ.Ավագյան!#REF!+Ա.Վարոսյան!#REF!+Ա.Հարությունյան!#REF!+Ն.Գալստյան!#REF!+Ա.Դունամալյան!#REF!+Մ.Գևորգյան!#REF!+Դ.Ղուկեյան!#REF!+Գ.Շահբազյան!#REF!+Գ.Մարգարյան!#REF!+Ա.Անտոնյան!#REF!+'Ա. Մուշեղյան '!#REF!+'Վ. Մարգարյան'!X18+'Ա. Գաբրիելյան'!X18+'Ա. Դանիբեկյան'!X18+'Ն. Բաղդասարյան'!X18+'Դ. Հարությունյան'!X18+'Ա. Հովհաննիսյան'!X18+'Հ. Մանուկյան'!X18+'Վ. Մելիքյան'!X18+'Վ. Միսակյան'!X18+'Մ. Շահվերդյան'!X18+'Վ. Լ. Գրիգորյան'!X18+'Մ. Մելքոնյան'!X18+'Ա. Մելիքսեթյան'!X18+'Գ. Գասպարյան'!X18+Ա.Ղուկասյան!X18+'Ա. Մարտիրոսյան'!X18+'Տ. Ոսկանյան'!X18+'Ռ. Սմբատյան'!X18+'Ա. Ասատրյան'!X18+'Մ. Արամյան'!X18+'Մ. Արզումանյան'!X18+Ա.Մուշեղյան!X18) -> #REF! | Y18: =SUM(Ա.Արզումանյան!#REF!+Հ.Ավագյան!#REF!+Ա.Վարոսյան!#REF!+Ա.Հարությունյան!#REF!+Ն.Գալստյան!#REF!+Ա.Դունամալյան!#REF!+Մ.Գևորգյան!#REF!+Դ.Ղուկեյան!#REF!+Գ.Շահբազյան!#REF!+Գ.Մարգարյան!#REF!+Ա.Անտոնյան!#REF!+'Ա. Մուշեղյան '!#REF!+'Վ. Մարգարյան'!Y18+'Ա. Գաբրիելյան'!Y18+'Ա. Դանիբեկյան'!Y18+'Ն. Բաղդասարյան'!Y18+'Դ. Հարությունյան'!Y18+'Ա. Հովհաննիսյան'!Y18+'Հ. Մանուկյան'!Y18+'Վ. Մելիքյան'!Y18+'Վ. Միսակյան'!Y18+'Մ. Շահվերդյան'!Y18+'Վ. Լ. Գրիգորյան'!Y18+'Մ. Մելքոնյան'!Y18+'Ա. Մելիքսեթյան'!Y18+'Գ. Գասպարյան'!Y18+Ա.Ղուկասյան!Y18+'Ա. Մարտիրոսյան'!Y18+'Տ. Ոսկանյան'!Y18+'Ռ. Սմբատյան'!Y18+'Ա. Ասատրյան'!Y18+'Մ. Արամյան'!Y18+'Մ. Արզումանյան'!Y18+Ա.Մուշեղյան!Y18) -> #REF! | Z18: =SUM(Ա.Արզումանյան!#REF!+Հ.Ավագյան!#REF!+Ա.Վարոսյան!#REF!+Ա.Հարությունյան!#REF!+Ն.Գալստյան!#REF!+Ա.Դունամալյան!#REF!+Մ.Գևորգյան!#REF!+Դ.Ղուկեյան!#REF!+Գ.Շահբազյան!#REF!+Գ.Մարգարյան!#REF!+Ա.Անտոնյան!#REF!+'Ա. Մուշեղյան '!#REF!+'Վ. Մարգարյան'!Z18+'Ա. Գաբրիելյան'!Z18+'Ա. Դանիբեկյան'!Z18+'Ն. Բաղդասարյան'!Z18+'Դ. Հարությունյան'!Z18+'Ա. Հովհաննիսյան'!Z18+'Հ. Մանուկյան'!Z18+'Վ. Մելիքյան'!Z18+'Վ. Միսակյան'!Z18+'Մ. Շահվերդյան'!Z18+'Վ. Լ. Գրիգորյան'!Z18+'Մ. Մելքոնյան'!Z18+'Ա. Մելիքսեթյան'!Z18+'Գ. Գասպարյան'!Z18+Ա.Ղուկասյան!Z18+'Ա. Մարտիրոսյան'!Z18+'Տ. Ոսկանյան'!Z18+'Ռ. Սմբատյան'!Z18+'Ա. Ասատրյան'!Z18+'Մ. Արամյան'!Z18+'Մ. Արզումանյան'!Z18+Ա.Մուշեղյան!Z18) -> #REF! | AA18: =SUM(Ա.Արզումանյան!#REF!+Հ.Ավագյան!#REF!+Ա.Վարոսյան!#REF!+Ա.Հարությունյան!#REF!+Ն.Գալստյան!#REF!+Ա.Դունամալյան!#REF!+Մ.Գևորգյան!#REF!+Դ.Ղուկեյան!#REF!+Գ.Շահբազյան!#REF!+Գ.Մարգարյան!#REF!+Ա.Անտոնյան!#REF!+'Ա. Մուշեղյան '!#REF!+'Վ. Մարգարյան'!AA18+'Ա. Գաբրիելյան'!AA18+'Ա. Դանիբեկյան'!AA18+'Ն. Բաղդասարյան'!AA18+'Դ. Հարությունյան'!AA18+'Ա. Հովհաննիսյան'!AA18+'Հ. Մանուկյան'!AA18+'Վ. Մելիքյան'!AA18+'Վ. Միսակյան'!AA18+'Մ. Շահվերդյան'!AA18+'Վ. Լ. Գրիգորյան'!AA18+'Մ. Մելքոնյան'!AA18+'Ա. Մելիքսեթյան'!AA18+'Գ. Գասպարյան'!AA18+Ա.Ղուկասյան!AA18+'Ա. Մարտիրոսյան'!AA18+'Տ. Ոսկանյան'!AA18+'Ռ. Սմբատյան'!AA18+'Ա. Ասատրյան'!AA18+'Մ. Արամյան'!AA18+'Մ. Արզումանյան'!AA18+Ա.Մուշեղյան!AA18) -> #REF! | AB18: =SUM(Ա.Արզումանյան!#REF!+Հ.Ավագյան!#REF!+Ա.Վարոսյան!#REF!+Ա.Հարությունյան!#REF!+Ն.Գալստյան!#REF!+Ա.Դունամալյան!#REF!+Մ.Գևորգյան!#REF!+Դ.Ղուկեյան!#REF!+Գ.Շահբազյան!#REF!+Գ.Մարգարյան!#REF!+Ա.Անտոնյան!#REF!+'Ա. Մուշեղյան '!#REF!+'Վ. Մարգարյան'!AB18+'Ա. Գաբրիելյան'!AB18+'Ա. Դանիբեկյան'!AB18+'Ն. Բաղդասարյան'!AB18+'Դ. Հարությունյան'!AB18+'Ա. Հովհաննիսյան'!AB18+'Հ. Մանուկյան'!AB18+'Վ. Մելիքյան'!AB18+'Վ. Միսակյան'!AB18+'Մ. Շահվերդյան'!AB18+'Վ. Լ. Գրիգորյան'!AB18+'Մ. Մելքոնյան'!AB18+'Ա. Մելիքսեթյան'!AB18+'Գ. Գասպարյան'!AB18+Ա.Ղուկասյան!AB18+'Ա. Մարտիրոսյան'!AB18+'Տ. Ոսկանյան'!AB18+'Ռ. Սմբատյան'!AB18+'Ա. Ասատրյան'!AB18+'Մ. Արամյան'!AB18+'Մ. Արզումանյան'!AB18+Ա.Մուշեղյան!AB18) -> #REF!
A19: 7 | B19: դաստիարակչական հսկողություն կիրառելու մասին միջնորդություններ | D19: =SUM(Ա.Արզումանյան!D19+Հ.Ավագյան!D19+Ա.Վարոսյան!D19+Ա.Հարությունյան!D19+Ն.Գալստյան!D19+Ա.Դունամալյան!D19+Մ.Գևորգյան!D19+Դ.Ղուկեյան!D19+Գ.Շահբազյան!D19+Գ.Մարգարյան!D19+Ա.Անտոնյան!D19+'Ա. Մուշեղյան '!D19+'Վ. Մարգարյան'!D19+'Ա. Գաբրիելյան'!D19+'Ա. Դանիբեկյան'!D19+'Ն. Բաղդասարյան'!D19+'Դ. Հարությունյան'!D19+'Ա. Հովհաննիսյան'!D19+'Հ. Մանուկյան'!D19+'Վ. Մելիքյան'!D19+'Վ. Միսակյան'!D19+'Մ. Շահվերդյան'!D19+'Վ. Լ. Գրիգորյան'!D19+'Մ. Մելքոնյան'!D19+'Ա. Մելիքսեթյան'!D19+'Գ. Գասպարյան'!D19+Ա.Ղուկասյան!D19+'Ա. Մարտիրոսյան'!D19+'Տ. Ոսկանյան'!D19+'Ռ. Սմբատյան'!D19+'Ա. Ասատրյան'!D19+'Մ. Արամյան'!D19+'Մ. Արզումանյան'!D19+Ա.Մուշեղյան!D19) -> 0 | E19: =SUM(Ա.Արզումանյան!E19+Հ.Ավագյան!E19+Ա.Վարոսյան!E19+Ա.Հարությունյան!E19+Ն.Գալստյան!E19+Ա.Դունամալյան!E19+Մ.Գևորգյան!E19+Դ.Ղուկեյան!E19+Գ.Շահբազյան!E19+Գ.Մարգարյան!E19+Ա.Անտոնյան!E19+'Ա. Մուշեղյան '!E19+'Վ. Մարգարյան'!E19+'Ա. Գաբրիելյան'!E19+'Ա. Դանիբեկյան'!E19+'Ն. Բաղդասարյան'!E19+'Դ. Հարությունյան'!E19+'Ա. Հովհաննիսյան'!E19+'Հ. Մանուկյան'!E19+'Վ. Մելիքյան'!E19+'Վ. Միսակյան'!E19+'Մ. Շահվերդյան'!E19+'Վ. Լ. Գրիգորյան'!E19+'Մ. Մելքոնյան'!E19+'Ա. Մելիքսեթյան'!E19+'Գ. Գասպարյան'!E19+Ա.Ղուկասյան!E19+'Ա. Մարտիրոսյան'!E19+'Տ. Ոսկանյան'!E19+'Ռ. Սմբատյան'!E19+'Ա. Ասատրյան'!E19+'Մ. Արամյան'!E19+'Մ. Արզումանյան'!E19+Ա.Մուշեղյան!E19) -> 0 | F19: =SUM(Ա.Արզումանյան!F19+Հ.Ավագյան!F19+Ա.Վարոսյան!F19+Ա.Հարությունյան!F19+Ն.Գալստյան!F19+Ա.Դունամալյան!F19+Մ.Գևորգյան!F19+Դ.Ղուկեյան!F19+Գ.Շահբազյան!F19+Գ.Մարգարյան!F19+Ա.Անտոնյան!F19+'Ա. Մուշեղյան '!F19+'Վ. Մարգարյան'!F19+'Ա. Գաբրիելյան'!F19+'Ա. Դանիբեկյան'!F19+'Ն. Բաղդասարյան'!F19+'Դ. Հարությունյան'!F19+'Ա. Հովհաննիսյան'!F19+'Հ. Մանուկյան'!F19+'Վ. Մելիքյան'!F19+'Վ. Միսակյան'!F19+'Մ. Շահվերդյան'!F19+'Վ. Լ. Գրիգորյան'!F19+'Մ. Մելքոնյան'!F19+'Ա. Մելիքսեթյան'!F19+'Գ. Գասպարյան'!F19+Ա.Ղուկասյան!F19+'Ա. Մարտիրոսյան'!F19+'Տ. Ոսկանյան'!F19+'Ռ. Սմբատյան'!F19+'Ա. Ասատրյան'!F19+'Մ. Արամյան'!F19+'Մ. Արզումանյան'!F19+Ա.Մուշեղյան!F19) -> 0 | G19: =SUM(Ա.Արզումանյան!G19+Հ.Ավագյան!G19+Ա.Վարոսյան!G19+Ա.Հարությունյան!G19+Ն.Գալստյան!G19+Ա.Դունամալյան!G19+Մ.Գևորգյան!G19+Դ.Ղուկեյան!G19+Գ.Շահբազյան!G19+Գ.Մարգարյան!G19+Ա.Անտոնյան!G19+'Ա. Մուշեղյան '!G19+'Վ. Մարգարյան'!G19+'Ա. Գաբրիելյան'!G19+'Ա. Դանիբեկյան'!G19+'Ն. Բաղդասարյան'!G19+'Դ. Հարությունյան'!G19+'Ա. Հովհաննիսյան'!G19+'Հ. Մանուկյան'!G19+'Վ. Մելիքյան'!G19+'Վ. Միսակյան'!G19+'Մ. Շահվերդյան'!G19+'Վ. Լ. Գրիգորյան'!G19+'Մ. Մելքոնյան'!G19+'Ա. Մելիքսեթյան'!G19+'Գ. Գասպարյան'!G19+Ա.Ղուկասյան!G19+'Ա. Մարտիրոսյան'!G19+'Տ. Ոսկանյան'!G19+'Ռ. Սմբատյան'!G19+'Ա. Ասատրյան'!G19+'Մ. Արամյան'!G19+'Մ. Արզումանյան'!G19+Ա.Մուշեղյան!G19) -> 0 | H19: =SUM(Ա.Արզումանյան!H19+Հ.Ավագյան!H19+Ա.Վարոսյան!H19+Ա.Հարությունյան!H19+Ն.Գալստյան!H19+Ա.Դունամալյան!H19+Մ.Գևորգյան!H19+Դ.Ղուկեյան!H19+Գ.Շահբազյան!H19+Գ.Մարգարյան!H19+Ա.Անտոնյան!H19+'Ա. Մուշեղյան '!H19+'Վ. Մարգարյան'!H19+'Ա. Գաբրիելյան'!H19+'Ա. Դանիբեկյան'!H19+'Ն. Բաղդասարյան'!H19+'Դ. Հարությունյան'!H19+'Ա. Հովհաննիսյան'!H19+'Հ. Մանուկյան'!H19+'Վ. Մելիքյան'!H19+'Վ. Միսակյան'!H19+'Մ. Շահվերդյան'!H19+'Վ. Լ. Գրիգորյան'!H19+'Մ. Մելքոնյան'!H19+'Ա. Մելիքսեթյան'!H19+'Գ. Գասպարյան'!H19+Ա.Ղուկասյան!H19+'Ա. Մարտիրոսյան'!H19+'Տ. Ոսկանյան'!H19+'Ռ. Սմբատյան'!H19+'Ա. Ասատրյան'!H19+'Մ. Արամյան'!H19+'Մ. Արզումանյան'!H19+Ա.Մուշեղյան!H19) -> 0 | I19: =SUM(Ա.Արզումանյան!I19+Հ.Ավագյան!I19+Ա.Վարոսյան!I19+Ա.Հարությունյան!I19+Ն.Գալստյան!I19+Ա.Դունամալյան!I19+Մ.Գևորգյան!I19+Դ.Ղուկեյան!I19+Գ.Շահբազյան!I19+Գ.Մարգարյան!I19+Ա.Անտոնյան!I19+'Ա. Մուշեղյան '!I19+'Վ. Մարգարյան'!I19+'Ա. Գաբրիելյան'!I19+'Ա. Դանիբեկյան'!I19+'Ն. Բաղդասարյան'!I19+'Դ. Հարությունյան'!I19+'Ա. Հովհաննիսյան'!I19+'Հ. Մանուկյան'!I19+'Վ. Մելիքյան'!I19+'Վ. Միսակյան'!I19+'Մ. Շահվերդյան'!I19+'Վ. Լ. Գրիգորյան'!I19+'Մ. Մելքոնյան'!I19+'Ա. Մելիքսեթյան'!I19+'Գ. Գասպարյան'!I19+Ա.Ղուկասյան!I19+'Ա. Մարտիրոսյան'!I19+'Տ. Ոսկանյան'!I19+'Ռ. Սմբատյան'!I19+'Ա. Ասատրյան'!I19+'Մ. Արամյան'!I19+'Մ. Արզումանյան'!I19+Ա.Մուշեղյան!I19) -> 0 | J19: =SUM(Ա.Արզումանյան!J19+Հ.Ավագյան!J19+Ա.Վարոսյան!J19+Ա.Հարությունյան!J19+Ն.Գալստյան!J19+Ա.Դունամալյան!J19+Մ.Գևորգյան!J19+Դ.Ղուկեյան!J19+Գ.Շահբազյան!J19+Գ.Մարգարյան!J19+Ա.Անտոնյան!J19+'Ա. Մուշեղյան '!J19+'Վ. Մարգարյան'!J19+'Ա. Գաբրիելյան'!J19+'Ա. Դանիբեկյան'!J19+'Ն. Բաղդասարյան'!J19+'Դ. Հարությունյան'!J19+'Ա. Հովհաննիսյան'!J19+'Հ. Մանուկյան'!J19+'Վ. Մելիքյան'!J19+'Վ. Միսակյան'!J19+'Մ. Շահվերդյան'!J19+'Վ. Լ. Գրիգորյան'!J19+'Մ. Մելքոնյան'!J19+'Ա. Մելիքսեթյան'!J19+'Գ. Գասպարյան'!J19+Ա.Ղուկասյան!J19+'Ա. Մարտիրոսյան'!J19+'Տ. Ոսկանյան'!J19+'Ռ. Սմբատյան'!J19+'Ա. Ասատրյան'!J19+'Մ. Արամյան'!J19+'Մ. Արզումանյան'!J19+Ա.Մուշեղյան!J19) -> 0 | K19: =SUM(Ա.Արզումանյան!K19+Հ.Ավագյան!K19+Ա.Վարոսյան!K19+Ա.Հարությունյան!K19+Ն.Գալստյան!K19+Ա.Դունամալյան!K19+Մ.Գևորգյան!K19+Դ.Ղուկեյան!K19+Գ.Շահբազյան!K19+Գ.Մարգարյան!K19+Ա.Անտոնյան!K19+'Ա. Մուշեղյան '!K19+'Վ. Մարգարյան'!K19+'Ա. Գաբրիելյան'!K19+'Ա. Դանիբեկյան'!K19+'Ն. Բաղդասարյան'!K19+'Դ. Հարությունյան'!K19+'Ա. Հովհաննիսյան'!K19+'Հ. Մանուկյան'!K19+'Վ. Մելիքյան'!K19+'Վ. Միսակյան'!K19+'Մ. Շահվերդյան'!K19+'Վ. Լ. Գրիգորյան'!K19+'Մ. Մելքոնյան'!K19+'Ա. Մելիքսեթյան'!K19+'Գ. Գասպարյան'!K19+Ա.Ղուկասյան!K19+'Ա. Մարտիրոսյան'!K19+'Տ. Ոսկանյան'!K19+'Ռ. Սմբատյան'!K19+'Ա. Ասատրյան'!K19+'Մ. Արամյան'!K19+'Մ. Արզումանյան'!K19+Ա.Մուշեղյան!K19) -> 0 | ... T19: =SUM(Ա.Արզումանյան!T19+Հ.Ավագյան!T19+Ա.Վարոսյան!T19+Ա.Հարությունյան!T19+Ն.Գալստյան!T19+Ա.Դունամալյան!T19+Մ.Գևորգյան!T19+Դ.Ղուկեյան!T19+Գ.Շահբազյան!T19+Գ.Մարգարյան!T19+Ա.Անտոնյան!T19+'Ա. Մուշեղյան '!T19+'Վ. Մարգարյան'!T19+'Ա. Գաբրիելյան'!T19+'Ա. Դանիբեկյան'!T19+'Ն. Բաղդասարյան'!T19+'Դ. Հարությունյան'!T19+'Ա. Հովհաննիսյան'!T19+'Հ. Մանուկյան'!T19+'Վ. Մելիքյան'!T19+'Վ. Միսակյան'!T19+'Մ. Շահվերդյան'!T19+'Վ. Լ. Գրիգորյան'!T19+'Մ. Մելքոնյան'!T19+'Ա. Մելիքսեթյան'!T19+'Գ. Գասպարյան'!T19+Ա.Ղուկասյան!T19+'Ա. Մարտիրոսյան'!T19+'Տ. Ոսկանյան'!T19+'Ռ. Սմբատյան'!T19+'Ա. Ասատրյան'!T19+'Մ. Արամյան'!T19+'Մ. Արզումանյան'!T19+Ա.Մուշեղյան!T19) -> 0 | U19: =SUM(Ա.Արզումանյան!#REF!+Հ.Ավագյան!#REF!+Ա.Վարոսյան!#REF!+Ա.Հարությունյան!#REF!+Ն.Գալստյան!#REF!+Ա.Դունամալյան!#REF!+Մ.Գևորգյան!#REF!+Դ.Ղուկեյան!#REF!+Գ.Շահբազյան!#REF!+Գ.Մարգարյան!#REF!+Ա.Անտոնյան!#REF!+'Ա. Մուշեղյան '!#REF!+'Վ. Մարգարյան'!U19+'Ա. Գաբրիելյան'!U19+'Ա. Դանիբեկյան'!U19+'Ն. Բաղդասարյան'!U19+'Դ. Հարությունյան'!U19+'Ա. Հովհաննիսյան'!U19+'Հ. Մանուկյան'!U19+'Վ. Մելիքյան'!U19+'Վ. Միսակյան'!U19+'Մ. Շահվերդյան'!U19+'Վ. Լ. Գրիգորյան'!U19+'Մ. Մելքոնյան'!U19+'Ա. Մելիքսեթյան'!U19+'Գ. Գասպարյան'!U19+Ա.Ղուկասյան!U19+'Ա. Մարտիրոսյան'!U19+'Տ. Ոսկանյան'!U19+'Ռ. Սմբատյան'!U19+'Ա. Ասատրյան'!U19+'Մ. Արամյան'!U19+'Մ. Արզումանյան'!U19+Ա.Մուշեղյան!U19) -> #REF! | V19: =SUM(Ա.Արզումանյան!#REF!+Հ.Ավագյան!#REF!+Ա.Վարոսյան!#REF!+Ա.Հարությունյան!#REF!+Ն.Գալստյան!#REF!+Ա.Դունամալյան!#REF!+Մ.Գևորգյան!#REF!+Դ.Ղուկեյան!#REF!+Գ.Շահբազյան!#REF!+Գ.Մարգարյան!#REF!+Ա.Անտոնյան!#REF!+'Ա. Մուշեղյան '!#REF!+'Վ. Մարգարյան'!V19+'Ա. Գաբրիելյան'!V19+'Ա. Դանիբեկյան'!V19+'Ն. Բաղդասարյան'!V19+'Դ. Հարությունյան'!V19+'Ա. Հովհաննիսյան'!V19+'Հ. Մանուկյան'!V19+'Վ. Մելիքյան'!V19+'Վ. Միսակյան'!V19+'Մ. Շահվերդյան'!V19+'Վ. Լ. Գրիգորյան'!V19+'Մ. Մելքոնյան'!V19+'Ա. Մելիքսեթյան'!V19+'Գ. Գասպարյան'!V19+Ա.Ղուկասյան!V19+'Ա. Մարտիրոսյան'!V19+'Տ. Ոսկանյան'!V19+'Ռ. Սմբատյան'!V19+'Ա. Ասատրյան'!V19+'Մ. Արամյան'!V19+'Մ. Արզումանյան'!V19+Ա.Մուշեղյան!V19) -> #REF! | W19: =SUM(Ա.Արզումանյան!#REF!+Հ.Ավագյան!#REF!+Ա.Վարոսյան!#REF!+Ա.Հարությունյան!#REF!+Ն.Գալստյան!#REF!+Ա.Դունամալյան!#REF!+Մ.Գևորգյան!#REF!+Դ.Ղուկեյան!#REF!+Գ.Շահբազյան!#REF!+Գ.Մարգարյան!#REF!+Ա.Անտոնյան!#REF!+'Ա. Մուշեղյան '!#REF!+'Վ. Մարգարյան'!W19+'Ա. Գաբրիելյան'!W19+'Ա. Դանիբեկյան'!W19+'Ն. Բաղդասարյան'!W19+'Դ. Հարությունյան'!W19+'Ա. Հովհաննիսյան'!W19+'Հ. Մանուկյան'!W19+'Վ. Մելիքյան'!W19+'Վ. Միսակյան'!W19+'Մ. Շահվերդյան'!W19+'Վ. Լ. Գրիգորյան'!W19+'Մ. Մելքոնյան'!W19+'Ա. Մելիքսեթյան'!W19+'Գ. Գասպարյան'!W19+Ա.Ղուկասյան!W19+'Ա. Մարտիրոսյան'!W19+'Տ. Ոսկանյան'!W19+'Ռ. Սմբատյան'!W19+'Ա. Ասատրյան'!W19+'Մ. Արամյան'!W19+'Մ. Արզումանյան'!W19+Ա.Մուշեղյան!W19) -> #REF! | X19: =SUM(Ա.Արզումանյան!#REF!+Հ.Ավագյան!#REF!+Ա.Վարոսյան!#REF!+Ա.Հարությունյան!#REF!+Ն.Գալստյան!#REF!+Ա.Դունամալյան!#REF!+Մ.Գևորգյան!#REF!+Դ.Ղուկեյան!#REF!+Գ.Շահբազյան!#REF!+Գ.Մարգարյան!#REF!+Ա.Անտոնյան!#REF!+'Ա. Մուշեղյան '!#REF!+'Վ. Մարգարյան'!X19+'Ա. Գաբրիելյան'!X19+'Ա. Դանիբեկյան'!X19+'Ն. Բաղդասարյան'!X19+'Դ. Հարությունյան'!X19+'Ա. Հովհաննիսյան'!X19+'Հ. Մանուկյան'!X19+'Վ. Մելիքյան'!X19+'Վ. Միսակյան'!X19+'Մ. Շահվերդյան'!X19+'Վ. Լ. Գրիգորյան'!X19+'Մ. Մելքոնյան'!X19+'Ա. Մելիքսեթյան'!X19+'Գ. Գասպարյան'!X19+Ա.Ղուկասյան!X19+'Ա. Մարտիրոսյան'!X19+'Տ. Ոսկանյան'!X19+'Ռ. Սմբատյան'!X19+'Ա. Ասատրյան'!X19+'Մ. Արամյան'!X19+'Մ. Արզումանյան'!X19+Ա.Մուշեղյան!X19) -> #REF! | Y19: =SUM(Ա.Արզումանյան!#REF!+Հ.Ավագյան!#REF!+Ա.Վարոսյան!#REF!+Ա.Հարությունյան!#REF!+Ն.Գալստյան!#REF!+Ա.Դունամալյան!#REF!+Մ.Գևորգյան!#REF!+Դ.Ղուկեյան!#REF!+Գ.Շահբազյան!#REF!+Գ.Մարգարյան!#REF!+Ա.Անտոնյան!#REF!+'Ա. Մուշեղյան '!#REF!+'Վ. Մարգարյան'!Y19+'Ա. Գաբրիելյան'!Y19+'Ա. Դանիբեկյան'!Y19+'Ն. Բաղդասարյան'!Y19+'Դ. Հարությունյան'!Y19+'Ա. Հովհաննիսյան'!Y19+'Հ. Մանուկյան'!Y19+'Վ. Մելիքյան'!Y19+'Վ. Միսակյան'!Y19+'Մ. Շահվերդյան'!Y19+'Վ. Լ. Գրիգորյան'!Y19+'Մ. Մելքոնյան'!Y19+'Ա. Մելիքսեթյան'!Y19+'Գ. Գասպարյան'!Y19+Ա.Ղուկասյան!Y19+'Ա. Մարտիրոսյան'!Y19+'Տ. Ոսկանյան'!Y19+'Ռ. Սմբատյան'!Y19+'Ա. Ասատրյան'!Y19+'Մ. Արամյան'!Y19+'Մ. Արզումանյան'!Y19+Ա.Մուշեղյան!Y19) -> #REF! | Z19: =SUM(Ա.Արզումանյան!#REF!+Հ.Ավագյան!#REF!+Ա.Վարոսյան!#REF!+Ա.Հարությունյան!#REF!+Ն.Գալստյան!#REF!+Ա.Դունամալյան!#REF!+Մ.Գևորգյան!#REF!+Դ.Ղուկեյան!#REF!+Գ.Շահբազյան!#REF!+Գ.Մարգարյան!#REF!+Ա.Անտոնյան!#REF!+'Ա. Մուշեղյան '!#REF!+'Վ. Մարգարյան'!Z19+'Ա. Գաբրիելյան'!Z19+'Ա. Դանիբեկյան'!Z19+'Ն. Բաղդասարյան'!Z19+'Դ. Հարությունյան'!Z19+'Ա. Հովհաննիսյան'!Z19+'Հ. Մանուկյան'!Z19+'Վ. Մելիքյան'!Z19+'Վ. Միսակյան'!Z19+'Մ. Շահվերդյան'!Z19+'Վ. Լ. Գրիգորյան'!Z19+'Մ. Մելքոնյան'!Z19+'Ա. Մելիքսեթյան'!Z19+'Գ. Գասպարյան'!Z19+Ա.Ղուկասյան!Z19+'Ա. Մարտիրոսյան'!Z19+'Տ. Ոսկանյան'!Z19+'Ռ. Սմբատյան'!Z19+'Ա. Ասատրյան'!Z19+'Մ. Արամյան'!Z19+'Մ. Արզումանյան'!Z19+Ա.Մուշեղյան!Z19) -> #REF! | AA19: =SUM(Ա.Արզումանյան!#REF!+Հ.Ավագյան!#REF!+Ա.Վարոսյան!#REF!+Ա.Հարությունյան!#REF!+Ն.Գալստյան!#REF!+Ա.Դունամալյան!#REF!+Մ.Գևորգյան!#REF!+Դ.Ղուկեյան!#REF!+Գ.Շահբազյան!#REF!+Գ.Մարգարյան!#REF!+Ա.Անտոնյան!#REF!+'Ա. Մուշեղյան '!#REF!+'Վ. Մարգարյան'!AA19+'Ա. Գաբրիելյան'!AA19+'Ա. Դանիբեկյան'!AA19+'Ն. Բաղդասարյան'!AA19+'Դ. Հարությունյան'!AA19+'Ա. Հովհաննիսյան'!AA19+'Հ. Մանուկյան'!AA19+'Վ. Մելիքյան'!AA19+'Վ. Միսակյան'!AA19+'Մ. Շահվերդյան'!AA19+'Վ. Լ. Գրիգորյան'!AA19+'Մ. Մելքոնյան'!AA19+'Ա. Մելիքսեթյան'!AA19+'Գ. Գասպարյան'!AA19+Ա.Ղուկասյան!AA19+'Ա. Մարտիրոսյան'!AA19+'Տ. Ոսկանյան'!AA19+'Ռ. Սմբատյան'!AA19+'Ա. Ասատրյան'!AA19+'Մ. Արամյան'!AA19+'Մ. Արզումանյան'!AA19+Ա.Մուշեղյան!AA19) -> #REF! | AB19: =SUM(Ա.Արզումանյան!#REF!+Հ.Ավագյան!#REF!+Ա.Վարոսյան!#REF!+Ա.Հարությունյան!#REF!+Ն.Գալստյան!#REF!+Ա.Դունամալյան!#REF!+Մ.Գևորգյան!#REF!+Դ.Ղուկեյան!#REF!+Գ.Շահբազյան!#REF!+Գ.Մարգարյան!#REF!+Ա.Անտոնյան!#REF!+'Ա. Մուշեղյան '!#REF!+'Վ. Մարգարյան'!AB19+'Ա. Գաբրիելյան'!AB19+'Ա. Դանիբեկյան'!AB19+'Ն. Բաղդասարյան'!AB19+'Դ. Հարությունյան'!AB19+'Ա. Հովհաննիսյան'!AB19+'Հ. Մանուկյան'!AB19+'Վ. Մելիքյան'!AB19+'Վ. Միսակյան'!AB19+'Մ. Շահվերդյան'!AB19+'Վ. Լ. Գրիգորյան'!AB19+'Մ. Մելքոնյան'!AB19+'Ա. Մելիքսեթյան'!AB19+'Գ. Գասպարյան'!AB19+Ա.Ղուկասյան!AB19+'Ա. Մարտիրոսյան'!AB19+'Տ. Ոսկանյան'!AB19+'Ռ. Սմբատյան'!AB19+'Ա. Ասատրյան'!AB19+'Մ. Արամյան'!AB19+'Մ. Արզումանյան'!AB19+Ա.Մուշեղյան!AB19) -> #REF!
A20: 8 | B20: զինվորական հսկողությունը կիրառելու մասին միջնորդություններ | D20: =SUM(Ա.Արզումանյան!D20+Հ.Ավագյան!D20+Ա.Վարոսյան!D20+Ա.Հարությունյան!D20+Ն.Գալստյան!D20+Ա.Դունամալյան!D20+Մ.Գևորգյան!D20+Դ.Ղուկեյան!D20+Գ.Շահբազյան!D20+Գ.Մարգարյան!D20+Ա.Անտոնյան!D20+'Ա. Մուշեղյան '!D20+'Վ. Մարգարյան'!D20+'Ա. Գաբրիելյան'!D20+'Ա. Դանիբեկյան'!D20+'Ն. Բաղդասարյան'!D20+'Դ. Հարությունյան'!D20+'Ա. Հովհաննիսյան'!D20+'Հ. Մանուկյան'!D20+'Վ. Մելիքյան'!D20+'Վ. Միսակյան'!D20+'Մ. Շահվերդյան'!D20+'Վ. Լ. Գրիգորյան'!D20+'Մ. Մելքոնյան'!D20+'Ա. Մելիքսեթյան'!D20+'Գ. Գասպարյան'!D20+Ա.Ղուկասյան!D20+'Ա. Մարտիրոսյան'!D20+'Տ. Ոսկանյան'!D20+'Ռ. Սմբատյան'!D20+'Ա. Ասատրյան'!D20+'Մ. Արամյան'!D20+'Մ. Արզումանյան'!D20+Ա.Մուշեղյան!D20) -> 0 | E20: =SUM(Ա.Արզումանյան!E20+Հ.Ավագյան!E20+Ա.Վարոսյան!E20+Ա.Հարությունյան!E20+Ն.Գալստյան!E20+Ա.Դունամալյան!E20+Մ.Գևորգյան!E20+Դ.Ղուկեյան!E20+Գ.Շահբազյան!E20+Գ.Մարգարյան!E20+Ա.Անտոնյան!E20+'Ա. Մուշեղյան '!E20+'Վ. Մարգարյան'!E20+'Ա. Գաբրիելյան'!E20+'Ա. Դանիբեկյան'!E20+'Ն. Բաղդասարյան'!E20+'Դ. Հարությունյան'!E20+'Ա. Հովհաննիսյան'!E20+'Հ. Մանուկյան'!E20+'Վ. Մելիքյան'!E20+'Վ. Միսակյան'!E20+'Մ. Շահվերդյան'!E20+'Վ. Լ. Գրիգորյան'!E20+'Մ. Մելքոնյան'!E20+'Ա. Մելիքսեթյան'!E20+'Գ. Գասպարյան'!E20+Ա.Ղուկասյան!E20+'Ա. Մարտիրոսյան'!E20+'Տ. Ոսկանյան'!E20+'Ռ. Սմբատյան'!E20+'Ա. Ասատրյան'!E20+'Մ. Արամյան'!E20+'Մ. Արզումանյան'!E20+Ա.Մուշեղյան!E20) -> 0 | F20: =SUM(Ա.Արզումանյան!F20+Հ.Ավագյան!F20+Ա.Վարոսյան!F20+Ա.Հարությունյան!F20+Ն.Գալստյան!F20+Ա.Դունամալյան!F20+Մ.Գևորգյան!F20+Դ.Ղուկեյան!F20+Գ.Շահբազյան!F20+Գ.Մարգարյան!F20+Ա.Անտոնյան!F20+'Ա. Մուշեղյան '!F20+'Վ. Մարգարյան'!F20+'Ա. Գաբրիելյան'!F20+'Ա. Դանիբեկյան'!F20+'Ն. Բաղդասարյան'!F20+'Դ. Հարությունյան'!F20+'Ա. Հովհաննիսյան'!F20+'Հ. Մանուկյան'!F20+'Վ. Մելիքյան'!F20+'Վ. Միսակյան'!F20+'Մ. Շահվերդյան'!F20+'Վ. Լ. Գրիգորյան'!F20+'Մ. Մելքոնյան'!F20+'Ա. Մելիքսեթյան'!F20+'Գ. Գասպարյան'!F20+Ա.Ղուկասյան!F20+'Ա. Մարտիրոսյան'!F20+'Տ. Ոսկանյան'!F20+'Ռ. Սմբատյան'!F20+'Ա. Ասատրյան'!F20+'Մ. Արամյան'!F20+'Մ. Արզումանյան'!F20+Ա.Մուշեղյան!F20) -> 0 | G20: =SUM(Ա.Արզումանյան!G20+Հ.Ավագյան!G20+Ա.Վարոսյան!G20+Ա.Հարությունյան!G20+Ն.Գալստյան!G20+Ա.Դունամալյան!G20+Մ.Գևորգյան!G20+Դ.Ղուկեյան!G20+Գ.Շահբազյան!G20+Գ.Մարգարյան!G20+Ա.Անտոնյան!G20+'Ա. Մուշեղյան '!G20+'Վ. Մարգարյան'!G20+'Ա. Գաբրիելյան'!G20+'Ա. Դանիբեկյան'!G20+'Ն. Բաղդասարյան'!G20+'Դ. Հարությունյան'!G20+'Ա. Հովհաննիսյան'!G20+'Հ. Մանուկյան'!G20+'Վ. Մելիքյան'!G20+'Վ. Միսակյան'!G20+'Մ. Շահվերդյան'!G20+'Վ. Լ. Գրիգորյան'!G20+'Մ. Մելքոնյան'!G20+'Ա. Մելիքսեթյան'!G20+'Գ. Գասպարյան'!G20+Ա.Ղուկասյան!G20+'Ա. Մարտիրոսյան'!G20+'Տ. Ոսկանյան'!G20+'Ռ. Սմբատյան'!G20+'Ա. Ասատրյան'!G20+'Մ. Արամյան'!G20+'Մ. Արզումանյան'!G20+Ա.Մուշեղյան!G20) -> 0 | H20: =SUM(Ա.Արզումանյան!H20+Հ.Ավագյան!H20+Ա.Վարոսյան!H20+Ա.Հարությունյան!H20+Ն.Գալստյան!H20+Ա.Դունամալյան!H20+Մ.Գևորգյան!H20+Դ.Ղուկեյան!H20+Գ.Շահբազյան!H20+Գ.Մարգարյան!H20+Ա.Անտոնյան!H20+'Ա. Մուշեղյան '!H20+'Վ. Մարգարյան'!H20+'Ա. Գաբրիելյան'!H20+'Ա. Դանիբեկյան'!H20+'Ն. Բաղդասարյան'!H20+'Դ. Հարությունյան'!H20+'Ա. Հովհաննիսյան'!H20+'Հ. Մանուկյան'!H20+'Վ. Մելիքյան'!H20+'Վ. Միսակյան'!H20+'Մ. Շահվերդյան'!H20+'Վ. Լ. Գրիգորյան'!H20+'Մ. Մելքոնյան'!H20+'Ա. Մելիքսեթյան'!H20+'Գ. Գասպարյան'!H20+Ա.Ղուկասյան!H20+'Ա. Մարտիրոսյան'!H20+'Տ. Ոսկանյան'!H20+'Ռ. Սմբատյան'!H20+'Ա. Ասատրյան'!H20+'Մ. Արամյան'!H20+'Մ. Արզումանյան'!H20+Ա.Մուշեղյան!H20) -> 0 | I20: =SUM(Ա.Արզումանյան!I20+Հ.Ավագյան!I20+Ա.Վարոսյան!I20+Ա.Հարությունյան!I20+Ն.Գալստյան!I20+Ա.Դունամալյան!I20+Մ.Գևորգյան!I20+Դ.Ղուկեյան!I20+Գ.Շահբազյան!I20+Գ.Մարգարյան!I20+Ա.Անտոնյան!I20+'Ա. Մուշեղյան '!I20+'Վ. Մարգարյան'!I20+'Ա. Գաբրիելյան'!I20+'Ա. Դանիբեկյան'!I20+'Ն. Բաղդասարյան'!I20+'Դ. Հարությունյան'!I20+'Ա. Հովհաննիսյան'!I20+'Հ. Մանուկյան'!I20+'Վ. Մելիքյան'!I20+'Վ. Միսակյան'!I20+'Մ. Շահվերդյան'!I20+'Վ. Լ. Գրիգորյան'!I20+'Մ. Մելքոնյան'!I20+'Ա. Մելիքսեթյան'!I20+'Գ. Գասպարյան'!I20+Ա.Ղուկասյան!I20+'Ա. Մարտիրոսյան'!I20+'Տ. Ոսկանյան'!I20+'Ռ. Սմբատյան'!I20+'Ա. Ասատրյան'!I20+'Մ. Արամյան'!I20+'Մ. Արզումանյան'!I20+Ա.Մուշեղյան!I20) -> 0 | J20: =SUM(Ա.Արզումանյան!J20+Հ.Ավագյան!J20+Ա.Վարոսյան!J20+Ա.Հարությունյան!J20+Ն.Գալստյան!J20+Ա.Դունամալյան!J20+Մ.Գևորգյան!J20+Դ.Ղուկեյան!J20+Գ.Շահբազյան!J20+Գ.Մարգարյան!J20+Ա.Անտոնյան!J20+'Ա. Մուշեղյան '!J20+'Վ. Մարգարյան'!J20+'Ա. Գաբրիելյան'!J20+'Ա. Դանիբեկյան'!J20+'Ն. Բաղդասարյան'!J20+'Դ. Հարությունյան'!J20+'Ա. Հովհաննիսյան'!J20+'Հ. Մանուկյան'!J20+'Վ. Մելիքյան'!J20+'Վ. Միսակյան'!J20+'Մ. Շահվերդյան'!J20+'Վ. Լ. Գրիգորյան'!J20+'Մ. Մելքոնյան'!J20+'Ա. Մելիքսեթյան'!J20+'Գ. Գասպարյան'!J20+Ա.Ղուկասյան!J20+'Ա. Մարտիրոսյան'!J20+'Տ. Ոսկանյան'!J20+'Ռ. Սմբատյան'!J20+'Ա. Ասատրյան'!J20+'Մ. Արամյան'!J20+'Մ. Արզումանյան'!J20+Ա.Մուշեղյան!J20) -> 0 | K20: =SUM(Ա.Արզումանյան!K20+Հ.Ավագյան!K20+Ա.Վարոսյան!K20+Ա.Հարությունյան!K20+Ն.Գալստյան!K20+Ա.Դունամալյան!K20+Մ.Գևորգյան!K20+Դ.Ղուկեյան!K20+Գ.Շահբազյան!K20+Գ.Մարգարյան!K20+Ա.Անտոնյան!K20+'Ա. Մուշեղյան '!K20+'Վ. Մարգարյան'!K20+'Ա. Գաբրիելյան'!K20+'Ա. Դանիբեկյան'!K20+'Ն. Բաղդասարյան'!K20+'Դ. Հարությունյան'!K20+'Ա. Հովհաննիսյան'!K20+'Հ. Մանուկյան'!K20+'Վ. Մելիքյան'!K20+'Վ. Միսակյան'!K20+'Մ. Շահվերդյան'!K20+'Վ. Լ. Գրիգորյան'!K20+'Մ. Մելքոնյան'!K20+'Ա. Մելիքսեթյան'!K20+'Գ. Գասպարյան'!K20+Ա.Ղուկասյան!K20+'Ա. Մարտիրոսյան'!K20+'Տ. Ոսկանյան'!K20+'Ռ. Սմբատյան'!K20+'Ա. Ասատրյան'!K20+'Մ. Արամյան'!K20+'Մ. Արզումանյան'!K20+Ա.Մուշեղյան!K20) -> 0 | ... T20: =SUM(Ա.Արզումանյան!T20+Հ.Ավագյան!T20+Ա.Վարոսյան!T20+Ա.Հարությունյան!T20+Ն.Գալստյան!T20+Ա.Դունամալյան!T20+Մ.Գևորգյան!T20+Դ.Ղուկեյան!T20+Գ.Շահբազյան!T20+Գ.Մարգարյան!T20+Ա.Անտոնյան!T20+'Ա. Մուշեղյան '!T20+'Վ. Մարգարյան'!T20+'Ա. Գաբրիելյան'!T20+'Ա. Դանիբեկյան'!T20+'Ն. Բաղդասարյան'!T20+'Դ. Հարությունյան'!T20+'Ա. Հովհաննիսյան'!T20+'Հ. Մանուկյան'!T20+'Վ. Մելիքյան'!T20+'Վ. Միսակյան'!T20+'Մ. Շահվերդյան'!T20+'Վ. Լ. Գրիգորյան'!T20+'Մ. Մելքոնյան'!T20+'Ա. Մելիքսեթյան'!T20+'Գ. Գասպարյան'!T20+Ա.Ղուկասյան!T20+'Ա. Մարտիրոսյան'!T20+'Տ. Ոսկանյան'!T20+'Ռ. Սմբատյան'!T20+'Ա. Ասատրյան'!T20+'Մ. Արամյան'!T20+'Մ. Արզումանյան'!T20+Ա.Մուշեղյան!T20) -> 0 | U20: =SUM(Ա.Արզումանյան!#REF!+Հ.Ավագյան!#REF!+Ա.Վարոսյան!#REF!+Ա.Հարությունյան!#REF!+Ն.Գալստյան!#REF!+Ա.Դունամալյան!#REF!+Մ.Գևորգյան!#REF!+Դ.Ղուկեյան!#REF!+Գ.Շահբազյան!#REF!+Գ.Մարգարյան!#REF!+Ա.Անտոնյան!#REF!+'Ա. Մուշեղյան '!#REF!+'Վ. Մարգարյան'!U20+'Ա. Գաբրիելյան'!U20+'Ա. Դանիբեկյան'!U20+'Ն. Բաղդասարյան'!U20+'Դ. Հարությունյան'!U20+'Ա. Հովհաննիսյան'!U20+'Հ. Մանուկյան'!U20+'Վ. Մելիքյան'!U20+'Վ. Միսակյան'!U20+'Մ. Շահվերդյան'!U20+'Վ. Լ. Գրիգորյան'!U20+'Մ. Մելքոնյան'!U20+'Ա. Մելիքսեթյան'!U20+'Գ. Գասպարյան'!U20+Ա.Ղուկասյան!U20+'Ա. Մարտիրոսյան'!U20+'Տ. Ոսկանյան'!U20+'Ռ. Սմբատյան'!U20+'Ա. Ասատրյան'!U20+'Մ. Արամյան'!U20+'Մ. Արզումանյան'!U20+Ա.Մուշեղյան!U20) -> #REF! | V20: =SUM(Ա.Արզումանյան!#REF!+Հ.Ավագյան!#REF!+Ա.Վարոսյան!#REF!+Ա.Հարությունյան!#REF!+Ն.Գալստյան!#REF!+Ա.Դունամալյան!#REF!+Մ.Գևորգյան!#REF!+Դ.Ղուկեյան!#REF!+Գ.Շահբազյան!#REF!+Գ.Մարգարյան!#REF!+Ա.Անտոնյան!#REF!+'Ա. Մուշեղյան '!#REF!+'Վ. Մարգարյան'!V20+'Ա. Գաբրիելյան'!V20+'Ա. Դանիբեկյան'!V20+'Ն. Բաղդասարյան'!V20+'Դ. Հարությունյան'!V20+'Ա. Հովհաննիսյան'!V20+'Հ. Մանուկյան'!V20+'Վ. Մելիքյան'!V20+'Վ. Միսակյան'!V20+'Մ. Շահվերդյան'!V20+'Վ. Լ. Գրիգորյան'!V20+'Մ. Մելքոնյան'!V20+'Ա. Մելիքսեթյան'!V20+'Գ. Գասպարյան'!V20+Ա.Ղուկասյան!V20+'Ա. Մարտիրոսյան'!V20+'Տ. Ոսկանյան'!V20+'Ռ. Սմբատյան'!V20+'Ա. Ասատրյան'!V20+'Մ. Արամյան'!V20+'Մ. Արզումանյան'!V20+Ա.Մուշեղյան!V20) -> #REF! | W20: =SUM(Ա.Արզումանյան!#REF!+Հ.Ավագյան!#REF!+Ա.Վարոսյան!#REF!+Ա.Հարությունյան!#REF!+Ն.Գալստյան!#REF!+Ա.Դունամալյան!#REF!+Մ.Գևորգյան!#REF!+Դ.Ղուկեյան!#REF!+Գ.Շահբազյան!#REF!+Գ.Մարգարյան!#REF!+Ա.Անտոնյան!#REF!+'Ա. Մուշեղյան '!#REF!+'Վ. Մարգարյան'!W20+'Ա. Գաբրիելյան'!W20+'Ա. Դանիբեկյան'!W20+'Ն. Բաղդասարյան'!W20+'Դ. Հարությունյան'!W20+'Ա. Հովհաննիսյան'!W20+'Հ. Մանուկյան'!W20+'Վ. Մելիքյան'!W20+'Վ. Միսակյան'!W20+'Մ. Շահվերդյան'!W20+'Վ. Լ. Գրիգորյան'!W20+'Մ. Մելքոնյան'!W20+'Ա. Մելիքսեթյան'!W20+'Գ. Գասպարյան'!W20+Ա.Ղուկասյան!W20+'Ա. Մարտիրոսյան'!W20+'Տ. Ոսկանյան'!W20+'Ռ. Սմբատյան'!W20+'Ա. Ասատրյան'!W20+'Մ. Արամյան'!W20+'Մ. Արզումանյան'!W20+Ա.Մուշեղյան!W20) -> #REF! | X20: =SUM(Ա.Արզումանյան!#REF!+Հ.Ավագյան!#REF!+Ա.Վարոսյան!#REF!+Ա.Հարությունյան!#REF!+Ն.Գալստյան!#REF!+Ա.Դունամալյան!#REF!+Մ.Գևորգյան!#REF!+Դ.Ղուկեյան!#REF!+Գ.Շահբազյան!#REF!+Գ.Մարգարյան!#REF!+Ա.Անտոնյան!#REF!+'Ա. Մուշեղյան '!#REF!+'Վ. Մարգարյան'!X20+'Ա. Գաբրիելյան'!X20+'Ա. Դանիբեկյան'!X20+'Ն. Բաղդասարյան'!X20+'Դ. Հարությունյան'!X20+'Ա. Հովհաննիսյան'!X20+'Հ. Մանուկյան'!X20+'Վ. Մելիքյան'!X20+'Վ. Միսակյան'!X20+'Մ. Շահվերդյան'!X20+'Վ. Լ. Գրիգորյան'!X20+'Մ. Մելքոնյան'!X20+'Ա. Մելիքսեթյան'!X20+'Գ. Գասպարյան'!X20+Ա.Ղուկասյան!X20+'Ա. Մարտիրոսյան'!X20+'Տ. Ոսկանյան'!X20+'Ռ. Սմբատյան'!X20+'Ա. Ասատրյան'!X20+'Մ. Արամյան'!X20+'Մ. Արզումանյան'!X20+Ա.Մուշեղյան!X20) -> #REF! | Y20: =SUM(Ա.Արզումանյան!#REF!+Հ.Ավագյան!#REF!+Ա.Վարոսյան!#REF!+Ա.Հարությունյան!#REF!+Ն.Գալստյան!#REF!+Ա.Դունամալյան!#REF!+Մ.Գևորգյան!#REF!+Դ.Ղուկեյան!#REF!+Գ.Շահբազյան!#REF!+Գ.Մարգարյան!#REF!+Ա.Անտոնյան!#REF!+'Ա. Մուշեղյան '!#REF!+'Վ. Մարգարյան'!Y20+'Ա. Գաբրիելյան'!Y20+'Ա. Դանիբեկյան'!Y20+'Ն. Բաղդասարյան'!Y20+'Դ. Հարությունյան'!Y20+'Ա. Հովհաննիսյան'!Y20+'Հ. Մանուկյան'!Y20+'Վ. Մելիքյան'!Y20+'Վ. Միսակյան'!Y20+'Մ. Շահվերդյան'!Y20+'Վ. Լ. Գրիգորյան'!Y20+'Մ. Մելքոնյան'!Y20+'Ա. Մելիքսեթյան'!Y20+'Գ. Գասպարյան'!Y20+Ա.Ղուկասյան!Y20+'Ա. Մարտիրոսյան'!Y20+'Տ. Ոսկանյան'!Y20+'Ռ. Սմբատյան'!Y20+'Ա. Ասատրյան'!Y20+'Մ. Արամյան'!Y20+'Մ. Արզումանյան'!Y20+Ա.Մուշեղյան!Y20) -> #REF! | Z20: =SUM(Ա.Արզումանյան!#REF!+Հ.Ավագյան!#REF!+Ա.Վարոսյան!#REF!+Ա.Հարությունյան!#REF!+Ն.Գալստյան!#REF!+Ա.Դունամալյան!#REF!+Մ.Գևորգյան!#REF!+Դ.Ղուկեյան!#REF!+Գ.Շահբազյան!#REF!+Գ.Մարգարյան!#REF!+Ա.Անտոնյան!#REF!+'Ա. Մուշեղյան '!#REF!+'Վ. Մարգարյան'!Z20+'Ա. Գաբրիելյան'!Z20+'Ա. Դանիբեկյան'!Z20+'Ն. Բաղդասարյան'!Z20+'Դ. Հարությունյան'!Z20+'Ա. Հովհաննիսյան'!Z20+'Հ. Մանուկյան'!Z20+'Վ. Մելիքյան'!Z20+'Վ. Միսակյան'!Z20+'Մ. Շահվերդյան'!Z20+'Վ. Լ. Գրիգորյան'!Z20+'Մ. Մելքոնյան'!Z20+'Ա. Մելիքսեթյան'!Z20+'Գ. Գասպարյան'!Z20+Ա.Ղուկասյան!Z20+'Ա. Մարտիրոսյան'!Z20+'Տ. Ոսկանյան'!Z20+'Ռ. Սմբատյան'!Z20+'Ա. Ասատրյան'!Z20+'Մ. Արամյան'!Z20+'Մ. Արզումանյան'!Z20+Ա.Մուշեղյան!Z20) -> #REF! | AA20: =SUM(Ա.Արզումանյան!#REF!+Հ.Ավագյան!#REF!+Ա.Վարոսյան!#REF!+Ա.Հարությունյան!#REF!+Ն.Գալստյան!#REF!+Ա.Դունամալյան!#REF!+Մ.Գևորգյան!#REF!+Դ.Ղուկեյան!#REF!+Գ.Շահբազյան!#REF!+Գ.Մարգարյան!#REF!+Ա.Անտոնյան!#REF!+'Ա. Մուշեղյան '!#REF!+'Վ. Մարգարյան'!AA20+'Ա. Գաբրիելյան'!AA20+'Ա. Դանիբեկյան'!AA20+'Ն. Բաղդասարյան'!AA20+'Դ. Հարությունյան'!AA20+'Ա. Հովհաննիսյան'!AA20+'Հ. Մանուկյան'!AA20+'Վ. Մելիքյան'!AA20+'Վ. Միսակյան'!AA20+'Մ. Շահվերդյան'!AA20+'Վ. Լ. Գրիգորյան'!AA20+'Մ. Մելքոնյան'!AA20+'Ա. Մելիքսեթյան'!AA20+'Գ. Գասպարյան'!AA20+Ա.Ղուկասյան!AA20+'Ա. Մարտիրոսյան'!AA20+'Տ. Ոսկանյան'!AA20+'Ռ. Սմբատյան'!AA20+'Ա. Ասատրյան'!AA20+'Մ. Արամյան'!AA20+'Մ. Արզումանյան'!AA20+Ա.Մուշեղյան!AA20) -> #REF! | AB20: =SUM(Ա.Արզումանյան!#REF!+Հ.Ավագյան!#REF!+Ա.Վարոսյան!#REF!+Ա.Հարությունյան!#REF!+Ն.Գալստյան!#REF!+Ա.Դունամալյան!#REF!+Մ.Գևորգյան!#REF!+Դ.Ղուկեյան!#REF!+Գ.Շահբազյան!#REF!+Գ.Մարգարյան!#REF!+Ա.Անտոնյան!#REF!+'Ա. Մուշեղյան '!#REF!+'Վ. Մարգարյան'!AB20+'Ա. Գաբրիելյան'!AB20+'Ա. Դանիբեկյան'!AB20+'Ն. Բաղդասարյան'!AB20+'Դ. Հարությունյան'!AB20+'Ա. Հովհաննիսյան'!AB20+'Հ. Մանուկյան'!AB20+'Վ. Մելիքյան'!AB20+'Վ. Միսակյան'!AB20+'Մ. Շահվերդյան'!AB20+'Վ. Լ. Գրիգորյան'!AB20+'Մ. Մելքոնյան'!AB20+'Ա. Մելիքսեթյան'!AB20+'Գ. Գասպարյան'!AB20+Ա.Ղուկասյան!AB20+'Ա. Մարտիրոսյան'!AB20+'Տ. Ոսկանյան'!AB20+'Ռ. Սմբատյան'!AB20+'Ա. Ասատրյան'!AB20+'Մ. Արամյան'!AB20+'Մ. Արզումանյան'!AB20+Ա.Մուշեղյան!AB20) -> #REF!
A21: 1.2 Քննչական գործողութոյւններ | D21: =SUM(D22:D28) -> 0 | E21: =SUM(E22:E28) -> 747 | F21: =SUM(F22:F28) -> 0 | G21: =SUM(G22:G28) -> 57 | H21: =SUM(H22:H28) -> 642 | I21: =SUM(I22:I28) -> 2 | J21: =SUM(J22:J28) -> 0 | K21: =SUM(K22:K28) -> 46 | ... T21: =SUM(T22:T28) -> 4 | U21: =SUM(Ա.Արզումանյան!#REF!+Հ.Ավագյան!#REF!+Ա.Մուշեղյան!U21) -> #REF! | V21: =SUM(Ա.Արզումանյան!#REF!+Հ.Ավագյան!#REF!+Ա.Մուշեղյան!V21) -> #REF! | W21: =SUM(Ա.Արզումանյան!#REF!+Հ.Ավագյան!#REF!+Ա.Մուշեղյան!W21) -> #REF! | X21: =SUM(Ա.Արզումանյան!#REF!+Հ.Ավագյան!#REF!+Ա.Մուշեղյան!X21) -> #REF! | Y21: =SUM(Ա.Արզումանյան!#REF!+Հ.Ավագյան!#REF!+Ա.Մուշեղյան!Y21) -> #REF! | Z21: =SUM(Ա.Արզումանյան!#REF!+Հ.Ավագյան!#REF!+Ա.Մուշեղյան!Z21) -> #REF! | AA21: =SUM(Ա.Արզումանյան!#REF!+Հ.Ավագյան!#REF!+Ա.Մուշեղյան!AA21) -> #REF! | AB21: =SUM(Ա.Արզումանյան!#REF!+Հ.Ավագյան!#REF!+Ա.Մուշեղյան!AB21) -> #REF!
A22: 1 | B22: Բնակարանում խուզարկություն և առգրավում իրականացնելու վերաբերյալ միջնորդություններ | D22: =SUM(Ա.Արզումանյան!D22+Հ.Ավագյան!D22+Ա.Վարոսյան!D22+Ա.Հարությունյան!D22+Ն.Գալստյան!D22+Ա.Դունամալյան!D22+Մ.Գևորգյան!D22+Դ.Ղուկեյան!D22+Գ.Շահբազյան!D22+Գ.Մարգարյան!D22+Ա.Անտոնյան!D22+'Ա. Մուշեղյան '!D22+'Վ. Մարգարյան'!D22+'Ա. Գաբրիելյան'!D22+'Ա. Դանիբեկյան'!D22+'Ն. Բաղդասարյան'!D22+'Դ. Հարությունյան'!D22+'Ա. Հովհաննիսյան'!D22+'Հ. Մանուկյան'!D22+'Վ. Մելիքյան'!D22+'Վ. Միսակյան'!D22+'Մ. Շահվերդյան'!D22+'Վ. Լ. Գրիգորյան'!D22+'Մ. Մելքոնյան'!D22+'Ա. Մելիքսեթյան'!D22+'Գ. Գասպարյան'!D22+Ա.Ղուկասյան!D22+'Ա. Մարտիրոսյան'!D22+'Տ. Ոսկանյան'!D22+'Ռ. Սմբատյան'!D22+'Ա. Ասատրյան'!D22+'Մ. Արամյան'!D22+'Մ. Արզումանյան'!D22+Ա.Մուշեղյան!D22) -> 0 | E22: =SUM(Ա.Արզումանյան!E22+Հ.Ավագյան!E22+Ա.Վարոսյան!E22+Ա.Հարությունյան!E22+Ն.Գալստյան!E22+Ա.Դունամալյան!E22+Մ.Գևորգյան!E22+Դ.Ղուկեյան!E22+Գ.Շահբազյան!E22+Գ.Մարգարյան!E22+Ա.Անտոնյան!E22+'Ա. Մուշեղյան '!E22+'Վ. Մարգարյան'!E22+'Ա. Գաբրիելյան'!E22+'Ա. Դանիբեկյան'!E22+'Ն. Բաղդասարյան'!E22+'Դ. Հարությունյան'!E22+'Ա. Հովհաննիսյան'!E22+'Հ. Մանուկյան'!E22+'Վ. Մելիքյան'!E22+'Վ. Միսակյան'!E22+'Մ. Շահվերդյան'!E22+'Վ. Լ. Գրիգորյան'!E22+'Մ. Մելքոնյան'!E22+'Ա. Մելիքսեթյան'!E22+'Գ. Գասպարյան'!E22+Ա.Ղուկասյան!E22+'Ա. Մարտիրոսյան'!E22+'Տ. Ոսկանյան'!E22+'Ռ. Սմբատյան'!E22+'Ա. Ասատրյան'!E22+'Մ. Արամյան'!E22+'Մ. Արզումանյան'!E22+Ա.Մուշեղյան!E22) -> 327 | F22: =SUM(Ա.Արզումանյան!F22+Հ.Ավագյան!F22+Ա.Վարոսյան!F22+Ա.Հարությունյան!F22+Ն.Գալստյան!F22+Ա.Դունամալյան!F22+Մ.Գևորգյան!F22+Դ.Ղուկեյան!F22+Գ.Շահբազյան!F22+Գ.Մարգարյան!F22+Ա.Անտոնյան!F22+'Ա. Մուշեղյան '!F22+'Վ. Մարգարյան'!F22+'Ա. Գաբրիելյան'!F22+'Ա. Դանիբեկյան'!F22+'Ն. Բաղդասարյան'!F22+'Դ. Հարությունյան'!F22+'Ա. Հովհաննիսյան'!F22+'Հ. Մանուկյան'!F22+'Վ. Մելիքյան'!F22+'Վ. Միսակյան'!F22+'Մ. Շահվերդյան'!F22+'Վ. Լ. Գրիգորյան'!F22+'Մ. Մելքոնյան'!F22+'Ա. Մելիքսեթյան'!F22+'Գ. Գասպարյան'!F22+Ա.Ղուկասյան!F22+'Ա. Մարտիրոսյան'!F22+'Տ. Ոսկանյան'!F22+'Ռ. Սմբատյան'!F22+'Ա. Ասատրյան'!F22+'Մ. Արամյան'!F22+'Մ. Արզումանյան'!F22+Ա.Մուշեղյան!F22) -> 0 | G22: =SUM(Ա.Արզումանյան!G22+Հ.Ավագյան!G22+Ա.Վարոսյան!G22+Ա.Հարությունյան!G22+Ն.Գալստյան!G22+Ա.Դունամալյան!G22+Մ.Գևորգյան!G22+Դ.Ղուկեյան!G22+Գ.Շահբազյան!G22+Գ.Մարգարյան!G22+Ա.Անտոնյան!G22+'Ա. Մուշեղյան '!G22+'Վ. Մարգարյան'!G22+'Ա. Գաբրիելյան'!G22+'Ա. Դանիբեկյան'!G22+'Ն. Բաղդասարյան'!G22+'Դ. Հարությունյան'!G22+'Ա. Հովհաննիսյան'!G22+'Հ. Մանուկյան'!G22+'Վ. Մելիքյան'!G22+'Վ. Միսակյան'!G22+'Մ. Շահվերդյան'!G22+'Վ. Լ. Գրիգորյան'!G22+'Մ. Մելքոնյան'!G22+'Ա. Մելիքսեթյան'!G22+'Գ. Գասպարյան'!G22+Ա.Ղուկասյան!G22+'Ա. Մարտիրոսյան'!G22+'Տ. Ոսկանյան'!G22+'Ռ. Սմբատյան'!G22+'Ա. Ասատրյան'!G22+'Մ. Արամյան'!G22+'Մ. Արզումանյան'!G22+Ա.Մուշեղյան!G22) -> 46 | H22: =SUM(Ա.Արզումանյան!H22+Հ.Ավագյան!H22+Ա.Վարոսյան!H22+Ա.Հարությունյան!H22+Ն.Գալստյան!H22+Ա.Դունամալյան!H22+Մ.Գևորգյան!H22+Դ.Ղուկեյան!H22+Գ.Շահբազյան!H22+Գ.Մարգարյան!H22+Ա.Անտոնյան!H22+'Ա. Մուշեղյան '!H22+'Վ. Մարգարյան'!H22+'Ա. Գաբրիելյան'!H22+'Ա. Դանիբեկյան'!H22+'Ն. Բաղդասարյան'!H22+'Դ. Հարությունյան'!H22+'Ա. Հովհաննիսյան'!H22+'Հ. Մանուկյան'!H22+'Վ. Մելիքյան'!H22+'Վ. Միսակյան'!H22+'Մ. Շահվերդյան'!H22+'Վ. Լ. Գրիգորյան'!H22+'Մ. Մելքոնյան'!H22+'Ա. Մելիքսեթյան'!H22+'Գ. Գասպարյան'!H22+Ա.Ղուկասյան!H22+'Ա. Մարտիրոսյան'!H22+'Տ. Ոսկանյան'!H22+'Ռ. Սմբատյան'!H22+'Ա. Ասատրյան'!H22+'Մ. Արամյան'!H22+'Մ. Արզումանյան'!H22+Ա.Մուշեղյան!H22) -> 279 | I22: =SUM(Ա.Արզումանյան!I22+Հ.Ավագյան!I22+Ա.Վարոսյան!I22+Ա.Հարությունյան!I22+Ն.Գալստյան!I22+Ա.Դունամալյան!I22+Մ.Գևորգյան!I22+Դ.Ղուկեյան!I22+Գ.Շահբազյան!I22+Գ.Մարգարյան!I22+Ա.Անտոնյան!I22+'Ա. Մուշեղյան '!I22+'Վ. Մարգարյան'!I22+'Ա. Գաբրիելյան'!I22+'Ա. Դանիբեկյան'!I22+'Ն. Բաղդասարյան'!I22+'Դ. Հարությունյան'!I22+'Ա. Հովհաննիսյան'!I22+'Հ. Մանուկյան'!I22+'Վ. Մելիքյան'!I22+'Վ. Միսակյան'!I22+'Մ. Շահվերդյան'!I22+'Վ. Լ. Գրիգորյան'!I22+'Մ. Մելքոնյան'!I22+'Ա. Մելիքսեթյան'!I22+'Գ. Գասպարյան'!I22+Ա.Ղուկասյան!I22+'Ա. Մարտիրոսյան'!I22+'Տ. Ոսկանյան'!I22+'Ռ. Սմբատյան'!I22+'Ա. Ասատրյան'!I22+'Մ. Արամյան'!I22+'Մ. Արզումանյան'!I22+Ա.Մուշեղյան!I22) -> 0 | J22: =SUM(Ա.Արզումանյան!J22+Հ.Ավագյան!J22+Ա.Վարոսյան!J22+Ա.Հարությունյան!J22+Ն.Գալստյան!J22+Ա.Դունամալյան!J22+Մ.Գևորգյան!J22+Դ.Ղուկեյան!J22+Գ.Շահբազյան!J22+Գ.Մարգարյան!J22+Ա.Անտոնյան!J22+'Ա. Մուշեղյան '!J22+'Վ. Մարգարյան'!J22+'Ա. Գաբրիելյան'!J22+'Ա. Դանիբեկյան'!J22+'Ն. Բաղդասարյան'!J22+'Դ. Հարությունյան'!J22+'Ա. Հովհաննիսյան'!J22+'Հ. Մանուկյան'!J22+'Վ. Մելիքյան'!J22+'Վ. Միսակյան'!J22+'Մ. Շահվերդյան'!J22+'Վ. Լ. Գրիգորյան'!J22+'Մ. Մելքոնյան'!J22+'Ա. Մելիքսեթյան'!J22+'Գ. Գասպարյան'!J22+Ա.Ղուկասյան!J22+'Ա. Մարտիրոսյան'!J22+'Տ. Ոսկանյան'!J22+'Ռ. Սմբատյան'!J22+'Ա. Ասատրյան'!J22+'Մ. Արամյան'!J22+'Մ. Արզումանյան'!J22+Ա.Մուշեղյան!J22) -> 0 | K22: =SUM(Ա.Արզումանյան!K22+Հ.Ավագյան!K22+Ա.Վարոսյան!K22+Ա.Հարությունյան!K22+Ն.Գալստյան!K22+Ա.Դունամալյան!K22+Մ.Գևորգյան!K22+Դ.Ղուկեյան!K22+Գ.Շահբազյան!K22+Գ.Մարգարյան!K22+Ա.Անտոնյան!K22+'Ա. Մուշեղյան '!K22+'Վ. Մարգարյան'!K22+'Ա. Գաբրիելյան'!K22+'Ա. Դանիբեկյան'!K22+'Ն. Բաղդասարյան'!K22+'Դ. Հարությունյան'!K22+'Ա. Հովհաննիսյան'!K22+'Հ. Մանուկյան'!K22+'Վ. Մելիքյան'!K22+'Վ. Միսակյան'!K22+'Մ. Շահվերդյան'!K22+'Վ. Լ. Գրիգորյան'!K22+'Մ. Մելքոնյան'!K22+'Ա. Մելիքսեթյան'!K22+'Գ. Գասպարյան'!K22+Ա.Ղուկասյան!K22+'Ա. Մարտիրոսյան'!K22+'Տ. Ոսկանյան'!K22+'Ռ. Սմբատյան'!K22+'Ա. Ասատրյան'!K22+'Մ. Արամյան'!K22+'Մ. Արզումանյան'!K22+Ա.Մուշեղյան!K22) -> 2 | ... T22: =SUM(Ա.Արզումանյան!T22+Հ.Ավագյան!T22+Ա.Վարոսյան!T22+Ա.Հարությունյան!T22+Ն.Գալստյան!T22+Ա.Դունամալյան!T22+Մ.Գևորգյան!T22+Դ.Ղուկեյան!T22+Գ.Շահբազյան!T22+Գ.Մարգարյան!T22+Ա.Անտոնյան!T22+'Ա. Մուշեղյան '!T22+'Վ. Մարգարյան'!T22+'Ա. Գաբրիելյան'!T22+'Ա. Դանիբեկյան'!T22+'Ն. Բաղդասարյան'!T22+'Դ. Հարությունյան'!T22+'Ա. Հովհաննիսյան'!T22+'Հ. Մանուկյան'!T22+'Վ. Մելիքյան'!T22+'Վ. Միսակյան'!T22+'Մ. Շահվերդյան'!T22+'Վ. Լ. Գրիգորյան'!T22+'Մ. Մելքոնյան'!T22+'Ա. Մելիքսեթյան'!T22+'Գ. Գասպարյան'!T22+Ա.Ղուկասյան!T22+'Ա. Մարտիրոսյան'!T22+'Տ. Ոսկանյան'!T22+'Ռ. Սմբատյան'!T22+'Ա. Ասատրյան'!T22+'Մ. Արամյան'!T22+'Մ. Արզումանյան'!T22+Ա.Մուշեղյան!T22) -> 2 | U22: =SUM(Ա.Արզումանյան!#REF!+Հ.Ավագյան!#REF!+Ա.Վարոսյան!#REF!+Ա.Հարությունյան!#REF!+Ն.Գալստյան!#REF!+Ա.Դունամալյան!#REF!+Մ.Գևորգյան!#REF!+Դ.Ղուկեյան!#REF!+Գ.Շահբազյան!#REF!+Գ.Մարգարյան!#REF!+Ա.Անտոնյան!#REF!+'Ա. Մուշեղյան '!#REF!+'Վ. Մարգարյան'!U22+'Ա. Գաբրիելյան'!U22+'Ա. Դանիբեկյան'!U22+'Ն. Բաղդասարյան'!U22+'Դ. Հարությունյան'!U22+'Ա. Հովհաննիսյան'!U22+'Հ. Մանուկյան'!U22+'Վ. Մելիքյան'!U22+'Վ. Միսակյան'!U22+'Մ. Շահվերդյան'!U22+'Վ. Լ. Գրիգորյան'!U22+'Մ. Մելքոնյան'!U22+'Ա. Մելիքսեթյան'!U22+'Գ. Գասպարյան'!U22+Ա.Ղուկասյան!U22+'Ա. Մարտիրոսյան'!U22+'Տ. Ոսկանյան'!U22+'Ռ. Սմբատյան'!U22+'Ա. Ասատրյան'!U22+'Մ. Արամյան'!U22+'Մ. Արզումանյան'!U22+Ա.Մուշեղյան!U22) -> #REF! | V22: =SUM(Ա.Արզումանյան!#REF!+Հ.Ավագյան!#REF!+Ա.Վարոսյան!#REF!+Ա.Հարությունյան!#REF!+Ն.Գալստյան!#REF!+Ա.Դունամալյան!#REF!+Մ.Գևորգյան!#REF!+Դ.Ղուկեյան!#REF!+Գ.Շահբազյան!#REF!+Գ.Մարգարյան!#REF!+Ա.Անտոնյան!#REF!+'Ա. Մուշեղյան '!#REF!+'Վ. Մարգարյան'!V22+'Ա. Գաբրիելյան'!V22+'Ա. Դանիբեկյան'!V22+'Ն. Բաղդասարյան'!V22+'Դ. Հարությունյան'!V22+'Ա. Հովհաննիսյան'!V22+'Հ. Մանուկյան'!V22+'Վ. Մելիքյան'!V22+'Վ. Միսակյան'!V22+'Մ. Շահվերդյան'!V22+'Վ. Լ. Գրիգորյան'!V22+'Մ. Մելքոնյան'!V22+'Ա. Մելիքսեթյան'!V22+'Գ. Գասպարյան'!V22+Ա.Ղուկասյան!V22+'Ա. Մարտիրոսյան'!V22+'Տ. Ոսկանյան'!V22+'Ռ. Սմբատյան'!V22+'Ա. Ասատրյան'!V22+'Մ. Արամյան'!V22+'Մ. Արզումանյան'!V22+Ա.Մուշեղյան!V22) -> #REF! | W22: =SUM(Ա.Արզումանյան!#REF!+Հ.Ավագյան!#REF!+Ա.Վարոսյան!#REF!+Ա.Հարությունյան!#REF!+Ն.Գալստյան!#REF!+Ա.Դունամալյան!#REF!+Մ.Գևորգյան!#REF!+Դ.Ղուկեյան!#REF!+Գ.Շահբազյան!#REF!+Գ.Մարգարյան!#REF!+Ա.Անտոնյան!#REF!+'Ա. Մուշեղյան '!#REF!+'Վ. Մարգարյան'!W22+'Ա. Գաբրիելյան'!W22+'Ա. Դանիբեկյան'!W22+'Ն. Բաղդասարյան'!W22+'Դ. Հարությունյան'!W22+'Ա. Հովհաննիսյան'!W22+'Հ. Մանուկյան'!W22+'Վ. Մելիքյան'!W22+'Վ. Միսակյան'!W22+'Մ. Շահվերդյան'!W22+'Վ. Լ. Գրիգորյան'!W22+'Մ. Մելքոնյան'!W22+'Ա. Մելիքսեթյան'!W22+'Գ. Գասպարյան'!W22+Ա.Ղուկասյան!W22+'Ա. Մարտիրոսյան'!W22+'Տ. Ոսկանյան'!W22+'Ռ. Սմբատյան'!W22+'Ա. Ասատրյան'!W22+'Մ. Արամյան'!W22+'Մ. Արզումանյան'!W22+Ա.Մուշեղյան!W22) -> #REF! | X22: =SUM(Ա.Արզումանյան!#REF!+Հ.Ավագյան!#REF!+Ա.Վարոսյան!#REF!+Ա.Հարությունյան!#REF!+Ն.Գալստյան!#REF!+Ա.Դունամալյան!#REF!+Մ.Գևորգյան!#REF!+Դ.Ղուկեյան!#REF!+Գ.Շահբազյան!#REF!+Գ.Մարգարյան!#REF!+Ա.Անտոնյան!#REF!+'Ա. Մուշեղյան '!#REF!+'Վ. Մարգարյան'!X22+'Ա. Գաբրիելյան'!X22+'Ա. Դանիբեկյան'!X22+'Ն. Բաղդասարյան'!X22+'Դ. Հարությունյան'!X22+'Ա. Հովհաննիսյան'!X22+'Հ. Մանուկյան'!X22+'Վ. Մելիքյան'!X22+'Վ. Միսակյան'!X22+'Մ. Շահվերդյան'!X22+'Վ. Լ. Գրիգորյան'!X22+'Մ. Մելքոնյան'!X22+'Ա. Մելիքսեթյան'!X22+'Գ. Գասպարյան'!X22+Ա.Ղուկասյան!X22+'Ա. Մարտիրոսյան'!X22+'Տ. Ոսկանյան'!X22+'Ռ. Սմբատյան'!X22+'Ա. Ասատրյան'!X22+'Մ. Արամյան'!X22+'Մ. Արզումանյան'!X22+Ա.Մուշեղյան!X22) -> #REF! | Y22: =SUM(Ա.Արզումանյան!#REF!+Հ.Ավագյան!#REF!+Ա.Վարոսյան!#REF!+Ա.Հարությունյան!#REF!+Ն.Գալստյան!#REF!+Ա.Դունամալյան!#REF!+Մ.Գևորգյան!#REF!+Դ.Ղուկեյան!#REF!+Գ.Շահբազյան!#REF!+Գ.Մարգարյան!#REF!+Ա.Անտոնյան!#REF!+'Ա. Մուշեղյան '!#REF!+'Վ. Մարգարյան'!Y22+'Ա. Գաբրիելյան'!Y22+'Ա. Դանիբեկյան'!Y22+'Ն. Բաղդասարյան'!Y22+'Դ. Հարությունյան'!Y22+'Ա. Հովհաննիսյան'!Y22+'Հ. Մանուկյան'!Y22+'Վ. Մելիքյան'!Y22+'Վ. Միսակյան'!Y22+'Մ. Շահվերդյան'!Y22+'Վ. Լ. Գրիգորյան'!Y22+'Մ. Մելքոնյան'!Y22+'Ա. Մելիքսեթյան'!Y22+'Գ. Գասպարյան'!Y22+Ա.Ղուկասյան!Y22+'Ա. Մարտիրոսյան'!Y22+'Տ. Ոսկանյան'!Y22+'Ռ. Սմբատյան'!Y22+'Ա. Ասատրյան'!Y22+'Մ. Արամյան'!Y22+'Մ. Արզումանյան'!Y22+Ա.Մուշեղյան!Y22) -> #REF! | Z22: =SUM(Ա.Արզումանյան!#REF!+Հ.Ավագյան!#REF!+Ա.Վարոսյան!#REF!+Ա.Հարությունյան!#REF!+Ն.Գալստյան!#REF!+Ա.Դունամալյան!#REF!+Մ.Գևորգյան!#REF!+Դ.Ղուկեյան!#REF!+Գ.Շահբազյան!#REF!+Գ.Մարգարյան!#REF!+Ա.Անտոնյան!#REF!+'Ա. Մուշեղյան '!#REF!+'Վ. Մարգարյան'!Z22+'Ա. Գաբրիելյան'!Z22+'Ա. Դանիբեկյան'!Z22+'Ն. Բաղդասարյան'!Z22+'Դ. Հարությունյան'!Z22+'Ա. Հովհաննիսյան'!Z22+'Հ. Մանուկյան'!Z22+'Վ. Մելիքյան'!Z22+'Վ. Միսակյան'!Z22+'Մ. Շահվերդյան'!Z22+'Վ. Լ. Գրիգորյան'!Z22+'Մ. Մելքոնյան'!Z22+'Ա. Մելիքսեթյան'!Z22+'Գ. Գասպարյան'!Z22+Ա.Ղուկասյան!Z22+'Ա. Մարտիրոսյան'!Z22+'Տ. Ոսկանյան'!Z22+'Ռ. Սմբատյան'!Z22+'Ա. Ասատրյան'!Z22+'Մ. Արամյան'!Z22+'Մ. Արզումանյան'!Z22+Ա.Մուշեղյան!Z22) -> #REF! | AA22: =SUM(Ա.Արզումանյան!#REF!+Հ.Ավագյան!#REF!+Ա.Վարոսյան!#REF!+Ա.Հարությունյան!#REF!+Ն.Գալստյան!#REF!+Ա.Դունամալյան!#REF!+Մ.Գևորգյան!#REF!+Դ.Ղուկեյան!#REF!+Գ.Շահբազյան!#REF!+Գ.Մարգարյան!#REF!+Ա.Անտոնյան!#REF!+'Ա. Մուշեղյան '!#REF!+'Վ. Մարգարյան'!AA22+'Ա. Գաբրիելյան'!AA22+'Ա. Դանիբեկյան'!AA22+'Ն. Բաղդասարյան'!AA22+'Դ. Հարությունյան'!AA22+'Ա. Հովհաննիսյան'!AA22+'Հ. Մանուկյան'!AA22+'Վ. Մելիքյան'!AA22+'Վ. Միսակյան'!AA22+'Մ. Շահվերդյան'!AA22+'Վ. Լ. Գրիգորյան'!AA22+'Մ. Մելքոնյան'!AA22+'Ա. Մելիքսեթյան'!AA22+'Գ. Գասպարյան'!AA22+Ա.Ղուկասյան!AA22+'Ա. Մարտիրոսյան'!AA22+'Տ. Ոսկանյան'!AA22+'Ռ. Սմբատյան'!AA22+'Ա. Ասատրյան'!AA22+'Մ. Արամյան'!AA22+'Մ. Արզումանյան'!AA22+Ա.Մուշեղյան!AA22) -> #REF! | AB22: =SUM(Ա.Արզումանյան!#REF!+Հ.Ավագյան!#REF!+Ա.Վարոսյան!#REF!+Ա.Հարությունյան!#REF!+Ն.Գալստյան!#REF!+Ա.Դունամալյան!#REF!+Մ.Գևորգյան!#REF!+Դ.Ղուկեյան!#REF!+Գ.Շահբազյան!#REF!+Գ.Մարգարյան!#REF!+Ա.Անտոնյան!#REF!+'Ա. Մուշեղյան '!#REF!+'Վ. Մարգարյան'!AB22+'Ա. Գաբրիելյան'!AB22+'Ա. Դանիբեկյան'!AB22+'Ն. Բաղդասարյան'!AB22+'Դ. Հարությունյան'!AB22+'Ա. Հովհաննիսյան'!AB22+'Հ. Մանուկյան'!AB22+'Վ. Մելիքյան'!AB22+'Վ. Միսակյան'!AB22+'Մ. Շահվերդյան'!AB22+'Վ. Լ. Գրիգորյան'!AB22+'Մ. Մելքոնյան'!AB22+'Ա. Մելիքսեթյան'!AB22+'Գ. Գասպարյան'!AB22+Ա.Ղուկասյան!AB22+'Ա. Մարտիրոսյան'!AB22+'Տ. Ոսկանյան'!AB22+'Ռ. Սմբատյան'!AB22+'Ա. Ասատրյան'!AB22+'Մ. Արամյան'!AB22+'Մ. Արզումանյան'!AB22+Ա.Մուշեղյան!AB22) -> #REF!
A23: 2 | B23: դեպքի վայր չհանդիսացող բնակարանում զննում կատարելու վերաբերյալ միջնորդություններ | D23: =SUM(Ա.Արզումանյան!D23+Հ.Ավագյան!D23+Ա.Վարոսյան!D23+Ա.Հարությունյան!D23+Ն.Գալստյան!D23+Ա.Դունամալյան!D23+Մ.Գևորգյան!D23+Դ.Ղուկեյան!D23+Գ.Շահբազյան!D23+Գ.Մարգարյան!D23+Ա.Անտոնյան!D23+'Ա. Մուշեղյան '!D23+'Վ. Մարգարյան'!D23+'Ա. Գաբրիելյան'!D23+'Ա. Դանիբեկյան'!D23+'Ն. Բաղդասարյան'!D23+'Դ. Հարությունյան'!D23+'Ա. Հովհաննիսյան'!D23+'Հ. Մանուկյան'!D23+'Վ. Մելիքյան'!D23+'Վ. Միսակյան'!D23+'Մ. Շահվերդյան'!D23+'Վ. Լ. Գրիգորյան'!D23+'Մ. Մելքոնյան'!D23+'Ա. Մելիքսեթյան'!D23+'Գ. Գասպարյան'!D23+Ա.Ղուկասյան!D23+'Ա. Մարտիրոսյան'!D23+'Տ. Ոսկանյան'!D23+'Ռ. Սմբատյան'!D23+'Ա. Ասատրյան'!D23+'Մ. Արամյան'!D23+'Մ. Արզումանյան'!D23+Ա.Մուշեղյան!D23) -> 0 | E23: =SUM(Ա.Արզումանյան!E23+Հ.Ավագյան!E23+Ա.Վարոսյան!E23+Ա.Հարությունյան!E23+Ն.Գալստյան!E23+Ա.Դունամալյան!E23+Մ.Գևորգյան!E23+Դ.Ղուկեյան!E23+Գ.Շահբազյան!E23+Գ.Մարգարյան!E23+Ա.Անտոնյան!E23+'Ա. Մուշեղյան '!E23+'Վ. Մարգարյան'!E23+'Ա. Գաբրիելյան'!E23+'Ա. Դանիբեկյան'!E23+'Ն. Բաղդասարյան'!E23+'Դ. Հարությունյան'!E23+'Ա. Հովհաննիսյան'!E23+'Հ. Մանուկյան'!E23+'Վ. Մելիքյան'!E23+'Վ. Միսակյան'!E23+'Մ. Շահվերդյան'!E23+'Վ. Լ. Գրիգորյան'!E23+'Մ. Մելքոնյան'!E23+'Ա. Մելիքսեթյան'!E23+'Գ. Գասպարյան'!E23+Ա.Ղուկասյան!E23+'Ա. Մարտիրոսյան'!E23+'Տ. Ոսկանյան'!E23+'Ռ. Սմբատյան'!E23+'Ա. Ասատրյան'!E23+'Մ. Արամյան'!E23+'Մ. Արզումանյան'!E23+Ա.Մուշեղյան!E23) -> 0 | F23: =SUM(Ա.Արզումանյան!F23+Հ.Ավագյան!F23+Ա.Վարոսյան!F23+Ա.Հարությունյան!F23+Ն.Գալստյան!F23+Ա.Դունամալյան!F23+Մ.Գևորգյան!F23+Դ.Ղուկեյան!F23+Գ.Շահբազյան!F23+Գ.Մարգարյան!F23+Ա.Անտոնյան!F23+'Ա. Մուշեղյան '!F23+'Վ. Մարգարյան'!F23+'Ա. Գաբրիելյան'!F23+'Ա. Դանիբեկյան'!F23+'Ն. Բաղդասարյան'!F23+'Դ. Հարությունյան'!F23+'Ա. Հովհաննիսյան'!F23+'Հ. Մանուկյան'!F23+'Վ. Մելիքյան'!F23+'Վ. Միսակյան'!F23+'Մ. Շահվերդյան'!F23+'Վ. Լ. Գրիգորյան'!F23+'Մ. Մելքոնյան'!F23+'Ա. Մելիքսեթյան'!F23+'Գ. Գասպարյան'!F23+Ա.Ղուկասյան!F23+'Ա. Մարտիրոսյան'!F23+'Տ. Ոսկանյան'!F23+'Ռ. Սմբատյան'!F23+'Ա. Ասատրյան'!F23+'Մ. Արամյան'!F23+'Մ. Արզումանյան'!F23+Ա.Մուշեղյան!F23) -> 0 | G23: =SUM(Ա.Արզումանյան!G23+Հ.Ավագյան!G23+Ա.Վարոսյան!G23+Ա.Հարությունյան!G23+Ն.Գալստյան!G23+Ա.Դունամալյան!G23+Մ.Գևորգյան!G23+Դ.Ղուկեյան!G23+Գ.Շահբազյան!G23+Գ.Մարգարյան!G23+Ա.Անտոնյան!G23+'Ա. Մուշեղյան '!G23+'Վ. Մարգարյան'!G23+'Ա. Գաբրիելյան'!G23+'Ա. Դանիբեկյան'!G23+'Ն. Բաղդասարյան'!G23+'Դ. Հարությունյան'!G23+'Ա. Հովհաննիսյան'!G23+'Հ. Մանուկյան'!G23+'Վ. Մելիքյան'!G23+'Վ. Միսակյան'!G23+'Մ. Շահվերդյան'!G23+'Վ. Լ. Գրիգորյան'!G23+'Մ. Մելքոնյան'!G23+'Ա. Մելիքսեթյան'!G23+'Գ. Գասպարյան'!G23+Ա.Ղուկասյան!G23+'Ա. Մարտիրոսյան'!G23+'Տ. Ոսկանյան'!G23+'Ռ. Սմբատյան'!G23+'Ա. Ասատրյան'!G23+'Մ. Արամյան'!G23+'Մ. Արզումանյան'!G23+Ա.Մուշեղյան!G23) -> 0 | H23: =SUM(Ա.Արզումանյան!H23+Հ.Ավագյան!H23+Ա.Վարոսյան!H23+Ա.Հարությունյան!H23+Ն.Գալստյան!H23+Ա.Դունամալյան!H23+Մ.Գևորգյան!H23+Դ.Ղուկեյան!H23+Գ.Շահբազյան!H23+Գ.Մարգարյան!H23+Ա.Անտոնյան!H23+'Ա. Մուշեղյան '!H23+'Վ. Մարգարյան'!H23+'Ա. Գաբրիելյան'!H23+'Ա. Դանիբեկյան'!H23+'Ն. Բաղդասարյան'!H23+'Դ. Հարությունյան'!H23+'Ա. Հովհաննիսյան'!H23+'Հ. Մանուկյան'!H23+'Վ. Մելիքյան'!H23+'Վ. Միսակյան'!H23+'Մ. Շահվերդյան'!H23+'Վ. Լ. Գրիգորյան'!H23+'Մ. Մելքոնյան'!H23+'Ա. Մելիքսեթյան'!H23+'Գ. Գասպարյան'!H23+Ա.Ղուկասյան!H23+'Ա. Մարտիրոսյան'!H23+'Տ. Ոսկանյան'!H23+'Ռ. Սմբատյան'!H23+'Ա. Ասատրյան'!H23+'Մ. Արամյան'!H23+'Մ. Արզումանյան'!H23+Ա.Մուշեղյան!H23) -> 0 | I23: =SUM(Ա.Արզումանյան!I23+Հ.Ավագյան!I23+Ա.Վարոսյան!I23+Ա.Հարությունյան!I23+Ն.Գալստյան!I23+Ա.Դունամալյան!I23+Մ.Գևորգյան!I23+Դ.Ղուկեյան!I23+Գ.Շահբազյան!I23+Գ.Մարգարյան!I23+Ա.Անտոնյան!I23+'Ա. Մուշեղյան '!I23+'Վ. Մարգարյան'!I23+'Ա. Գաբրիելյան'!I23+'Ա. Դանիբեկյան'!I23+'Ն. Բաղդասարյան'!I23+'Դ. Հարությունյան'!I23+'Ա. Հովհաննիսյան'!I23+'Հ. Մանուկյան'!I23+'Վ. Մելիքյան'!I23+'Վ. Միսակյան'!I23+'Մ. Շահվերդյան'!I23+'Վ. Լ. Գրիգորյան'!I23+'Մ. Մելքոնյան'!I23+'Ա. Մելիքսեթյան'!I23+'Գ. Գասպարյան'!I23+Ա.Ղուկասյան!I23+'Ա. Մարտիրոսյան'!I23+'Տ. Ոսկանյան'!I23+'Ռ. Սմբատյան'!I23+'Ա. Ասատրյան'!I23+'Մ. Արամյան'!I23+'Մ. Արզումանյան'!I23+Ա.Մուշեղյան!I23) -> 0 | J23: =SUM(Ա.Արզումանյան!J23+Հ.Ավագյան!J23+Ա.Վարոսյան!J23+Ա.Հարությունյան!J23+Ն.Գալստյան!J23+Ա.Դունամալյան!J23+Մ.Գևորգյան!J23+Դ.Ղուկեյան!J23+Գ.Շահբազյան!J23+Գ.Մարգարյան!J23+Ա.Անտոնյան!J23+'Ա. Մուշեղյան '!J23+'Վ. Մարգարյան'!J23+'Ա. Գաբրիելյան'!J23+'Ա. Դանիբեկյան'!J23+'Ն. Բաղդասարյան'!J23+'Դ. Հարությունյան'!J23+'Ա. Հովհաննիսյան'!J23+'Հ. Մանուկյան'!J23+'Վ. Մելիքյան'!J23+'Վ. Միսակյան'!J23+'Մ. Շահվերդյան'!J23+'Վ. Լ. Գրիգորյան'!J23+'Մ. Մելքոնյան'!J23+'Ա. Մելիքսեթյան'!J23+'Գ. Գասպարյան'!J23+Ա.Ղուկասյան!J23+'Ա. Մարտիրոսյան'!J23+'Տ. Ոսկանյան'!J23+'Ռ. Սմբատյան'!J23+'Ա. Ասատրյան'!J23+'Մ. Արամյան'!J23+'Մ. Արզումանյան'!J23+Ա.Մուշեղյան!J23) -> 0 | K23: =SUM(Ա.Արզումանյան!K23+Հ.Ավագյան!K23+Ա.Վարոսյան!K23+Ա.Հարությունյան!K23+Ն.Գալստյան!K23+Ա.Դունամալյան!K23+Մ.Գևորգյան!K23+Դ.Ղուկեյան!K23+Գ.Շահբազյան!K23+Գ.Մարգարյան!K23+Ա.Անտոնյան!K23+'Ա. Մուշեղյան '!K23+'Վ. Մարգարյան'!K23+'Ա. Գաբրիելյան'!K23+'Ա. Դանիբեկյան'!K23+'Ն. Բաղդասարյան'!K23+'Դ. Հարությունյան'!K23+'Ա. Հովհաննիսյան'!K23+'Հ. Մանուկյան'!K23+'Վ. Մելիքյան'!K23+'Վ. Միսակյան'!K23+'Մ. Շահվերդյան'!K23+'Վ. Լ. Գրիգորյան'!K23+'Մ. Մելքոնյան'!K23+'Ա. Մելիքսեթյան'!K23+'Գ. Գասպարյան'!K23+Ա.Ղուկասյան!K23+'Ա. Մարտիրոսյան'!K23+'Տ. Ոսկանյան'!K23+'Ռ. Սմբատյան'!K23+'Ա. Ասատրյան'!K23+'Մ. Արամյան'!K23+'Մ. Արզումանյան'!K23+Ա.Մուշեղյան!K23) -> 0 | ... T23: =SUM(Ա.Արզումանյան!T23+Հ.Ավագյան!T23+Ա.Վարոսյան!T23+Ա.Հարությունյան!T23+Ն.Գալստյան!T23+Ա.Դունամալյան!T23+Մ.Գևորգյան!T23+Դ.Ղուկեյան!T23+Գ.Շահբազյան!T23+Գ.Մարգարյան!T23+Ա.Անտոնյան!T23+'Ա. Մուշեղյան '!T23+'Վ. Մարգարյան'!T23+'Ա. Գաբրիելյան'!T23+'Ա. Դանիբեկյան'!T23+'Ն. Բաղդասարյան'!T23+'Դ. Հարությունյան'!T23+'Ա. Հովհաննիսյան'!T23+'Հ. Մանուկյան'!T23+'Վ. Մելիքյան'!T23+'Վ. Միսակյան'!T23+'Մ. Շահվերդյան'!T23+'Վ. Լ. Գրիգորյան'!T23+'Մ. Մելքոնյան'!T23+'Ա. Մելիքսեթյան'!T23+'Գ. Գասպարյան'!T23+Ա.Ղուկասյան!T23+'Ա. Մարտիրոսյան'!T23+'Տ. Ոսկանյան'!T23+'Ռ. Սմբատյան'!T23+'Ա. Ասատրյան'!T23+'Մ. Արամյան'!T23+'Մ. Արզումանյան'!T23+Ա.Մուշեղյան!T23) -> 0 | U23: =SUM(Ա.Արզումանյան!#REF!+Հ.Ավագյան!#REF!+Ա.Վարոսյան!#REF!+Ա.Հարությունյան!#REF!+Ն.Գալստյան!#REF!+Ա.Դունամալյան!#REF!+Մ.Գևորգյան!#REF!+Դ.Ղուկեյան!#REF!+Գ.Շահբազյան!#REF!+Գ.Մարգարյան!#REF!+Ա.Անտոնյան!#REF!+'Ա. Մուշեղյան '!#REF!+'Վ. Մարգարյան'!U23+'Ա. Գաբրիելյան'!U23+'Ա. Դանիբեկյան'!U23+'Ն. Բաղդասարյան'!U23+'Դ. Հարությունյան'!U23+'Ա. Հովհաննիսյան'!U23+'Հ. Մանուկյան'!U23+'Վ. Մելիքյան'!U23+'Վ. Միսակյան'!U23+'Մ. Շահվերդյան'!U23+'Վ. Լ. Գրիգորյան'!U23+'Մ. Մելքոնյան'!U23+'Ա. Մելիքսեթյան'!U23+'Գ. Գասպարյան'!U23+Ա.Ղուկասյան!U23+'Ա. Մարտիրոսյան'!U23+'Տ. Ոսկանյան'!U23+'Ռ. Սմբատյան'!U23+'Ա. Ասատրյան'!U23+'Մ. Արամյան'!U23+'Մ. Արզումանյան'!U23+Ա.Մուշեղյան!U23) -> #REF! | V23: =SUM(Ա.Արզումանյան!#REF!+Հ.Ավագյան!#REF!+Ա.Վարոսյան!#REF!+Ա.Հարությունյան!#REF!+Ն.Գալստյան!#REF!+Ա.Դունամալյան!#REF!+Մ.Գևորգյան!#REF!+Դ.Ղուկեյան!#REF!+Գ.Շահբազյան!#REF!+Գ.Մարգարյան!#REF!+Ա.Անտոնյան!#REF!+'Ա. Մուշեղյան '!#REF!+'Վ. Մարգարյան'!V23+'Ա. Գաբրիելյան'!V23+'Ա. Դանիբեկյան'!V23+'Ն. Բաղդասարյան'!V23+'Դ. Հարությունյան'!V23+'Ա. Հովհաննիսյան'!V23+'Հ. Մանուկյան'!V23+'Վ. Մելիքյան'!V23+'Վ. Միսակյան'!V23+'Մ. Շահվերդյան'!V23+'Վ. Լ. Գրիգորյան'!V23+'Մ. Մելքոնյան'!V23+'Ա. Մելիքսեթյան'!V23+'Գ. Գասպարյան'!V23+Ա.Ղուկասյան!V23+'Ա. Մարտիրոսյան'!V23+'Տ. Ոսկանյան'!V23+'Ռ. Սմբատյան'!V23+'Ա. Ասատրյան'!V23+'Մ. Արամյան'!V23+'Մ. Արզումանյան'!V23+Ա.Մուշեղյան!V23) -> #REF! | W23: =SUM(Ա.Արզումանյան!#REF!+Հ.Ավագյան!#REF!+Ա.Վարոսյան!#REF!+Ա.Հարությունյան!#REF!+Ն.Գալստյան!#REF!+Ա.Դունամալյան!#REF!+Մ.Գևորգյան!#REF!+Դ.Ղուկեյան!#REF!+Գ.Շահբազյան!#REF!+Գ.Մարգարյան!#REF!+Ա.Անտոնյան!#REF!+'Ա. Մուշեղյան '!#REF!+'Վ. Մարգարյան'!W23+'Ա. Գաբրիելյան'!W23+'Ա. Դանիբեկյան'!W23+'Ն. Բաղդասարյան'!W23+'Դ. Հարությունյան'!W23+'Ա. Հովհաննիսյան'!W23+'Հ. Մանուկյան'!W23+'Վ. Մելիքյան'!W23+'Վ. Միսակյան'!W23+'Մ. Շահվերդյան'!W23+'Վ. Լ. Գրիգորյան'!W23+'Մ. Մելքոնյան'!W23+'Ա. Մելիքսեթյան'!W23+'Գ. Գասպարյան'!W23+Ա.Ղուկասյան!W23+'Ա. Մարտիրոսյան'!W23+'Տ. Ոսկանյան'!W23+'Ռ. Սմբատյան'!W23+'Ա. Ասատրյան'!W23+'Մ. Արամյան'!W23+'Մ. Արզումանյան'!W23+Ա.Մուշեղյան!W23) -> #REF! | X23: =SUM(Ա.Արզումանյան!#REF!+Հ.Ավագյան!#REF!+Ա.Վարոսյան!#REF!+Ա.Հարությունյան!#REF!+Ն.Գալստյան!#REF!+Ա.Դունամալյան!#REF!+Մ.Գևորգյան!#REF!+Դ.Ղուկեյան!#REF!+Գ.Շահբազյան!#REF!+Գ.Մարգարյան!#REF!+Ա.Անտոնյան!#REF!+'Ա. Մուշեղյան '!#REF!+'Վ. Մարգարյան'!X23+'Ա. Գաբրիելյան'!X23+'Ա. Դանիբեկյան'!X23+'Ն. Բաղդասարյան'!X23+'Դ. Հարությունյան'!X23+'Ա. Հովհաննիսյան'!X23+'Հ. Մանուկյան'!X23+'Վ. Մելիքյան'!X23+'Վ. Միսակյան'!X23+'Մ. Շահվերդյան'!X23+'Վ. Լ. Գրիգորյան'!X23+'Մ. Մելքոնյան'!X23+'Ա. Մելիքսեթյան'!X23+'Գ. Գասպարյան'!X23+Ա.Ղուկասյան!X23+'Ա. Մարտիրոսյան'!X23+'Տ. Ոսկանյան'!X23+'Ռ. Սմբատյան'!X23+'Ա. Ասատրյան'!X23+'Մ. Արամյան'!X23+'Մ. Արզումանյան'!X23+Ա.Մուշեղյան!X23) -> #REF! | Y23: =SUM(Ա.Արզումանյան!#REF!+Հ.Ավագյան!#REF!+Ա.Վարոսյան!#REF!+Ա.Հարությունյան!#REF!+Ն.Գալստյան!#REF!+Ա.Դունամալյան!#REF!+Մ.Գևորգյան!#REF!+Դ.Ղուկեյան!#REF!+Գ.Շահբազյան!#REF!+Գ.Մարգարյան!#REF!+Ա.Անտոնյան!#REF!+'Ա. Մուշեղյան '!#REF!+'Վ. Մարգարյան'!Y23+'Ա. Գաբրիելյան'!Y23+'Ա. Դանիբեկյան'!Y23+'Ն. Բաղդասարյան'!Y23+'Դ. Հարությունյան'!Y23+'Ա. Հովհաննիսյան'!Y23+'Հ. Մանուկյան'!Y23+'Վ. Մելիքյան'!Y23+'Վ. Միսակյան'!Y23+'Մ. Շահվերդյան'!Y23+'Վ. Լ. Գրիգորյան'!Y23+'Մ. Մելքոնյան'!Y23+'Ա. Մելիքսեթյան'!Y23+'Գ. Գասպարյան'!Y23+Ա.Ղուկասյան!Y23+'Ա. Մարտիրոսյան'!Y23+'Տ. Ոսկանյան'!Y23+'Ռ. Սմբատյան'!Y23+'Ա. Ասատրյան'!Y23+'Մ. Արամյան'!Y23+'Մ. Արզումանյան'!Y23+Ա.Մուշեղյան!Y23) -> #REF! | Z23: =SUM(Ա.Արզումանյան!#REF!+Հ.Ավագյան!#REF!+Ա.Վարոսյան!#REF!+Ա.Հարությունյան!#REF!+Ն.Գալստյան!#REF!+Ա.Դունամալյան!#REF!+Մ.Գևորգյան!#REF!+Դ.Ղուկեյան!#REF!+Գ.Շահբազյան!#REF!+Գ.Մարգարյան!#REF!+Ա.Անտոնյան!#REF!+'Ա. Մուշեղյան '!#REF!+'Վ. Մարգարյան'!Z23+'Ա. Գաբրիելյան'!Z23+'Ա. Դանիբեկյան'!Z23+'Ն. Բաղդասարյան'!Z23+'Դ. Հարությունյան'!Z23+'Ա. Հովհաննիսյան'!Z23+'Հ. Մանուկյան'!Z23+'Վ. Մելիքյան'!Z23+'Վ. Միսակյան'!Z23+'Մ. Շահվերդյան'!Z23+'Վ. Լ. Գրիգորյան'!Z23+'Մ. Մելքոնյան'!Z23+'Ա. Մելիքսեթյան'!Z23+'Գ. Գասպարյան'!Z23+Ա.Ղուկասյան!Z23+'Ա. Մարտիրոսյան'!Z23+'Տ. Ոսկանյան'!Z23+'Ռ. Սմբատյան'!Z23+'Ա. Ասատրյան'!Z23+'Մ. Արամյան'!Z23+'Մ. Արզումանյան'!Z23+Ա.Մուշեղյան!Z23) -> #REF! | AA23: =SUM(Ա.Արզումանյան!#REF!+Հ.Ավագյան!#REF!+Ա.Վարոսյան!#REF!+Ա.Հարությունյան!#REF!+Ն.Գալստյան!#REF!+Ա.Դունամալյան!#REF!+Մ.Գևորգյան!#REF!+Դ.Ղուկեյան!#REF!+Գ.Շահբազյան!#REF!+Գ.Մարգարյան!#REF!+Ա.Անտոնյան!#REF!+'Ա. Մուշեղյան '!#REF!+'Վ. Մարգարյան'!AA23+'Ա. Գաբրիելյան'!AA23+'Ա. Դանիբեկյան'!AA23+'Ն. Բաղդասարյան'!AA23+'Դ. Հարությունյան'!AA23+'Ա. Հովհաննիսյան'!AA23+'Հ. Մանուկյան'!AA23+'Վ. Մելիքյան'!AA23+'Վ. Միսակյան'!AA23+'Մ. Շահվերդյան'!AA23+'Վ. Լ. Գրիգորյան'!AA23+'Մ. Մելքոնյան'!AA23+'Ա. Մելիքսեթյան'!AA23+'Գ. Գասպարյան'!AA23+Ա.Ղուկասյան!AA23+'Ա. Մարտիրոսյան'!AA23+'Տ. Ոսկանյան'!AA23+'Ռ. Սմբատյան'!AA23+'Ա. Ասատրյան'!AA23+'Մ. Արամյան'!AA23+'Մ. Արզումանյան'!AA23+Ա.Մուշեղյան!AA23) -> #REF! | AB23: =SUM(Ա.Արզումանյան!#REF!+Հ.Ավագյան!#REF!+Ա.Վարոսյան!#REF!+Ա.Հարությունյան!#REF!+Ն.Գալստյան!#REF!+Ա.Դունամալյան!#REF!+Մ.Գևորգյան!#REF!+Դ.Ղուկեյան!#REF!+Գ.Շահբազյան!#REF!+Գ.Մարգարյան!#REF!+Ա.Անտոնյան!#REF!+'Ա. Մուշեղյան '!#REF!+'Վ. Մարգարյան'!AB23+'Ա. Գաբրիելյան'!AB23+'Ա. Դանիբեկյան'!AB23+'Ն. Բաղդասարյան'!AB23+'Դ. Հարությունյան'!AB23+'Ա. Հովհաննիսյան'!AB23+'Հ. Մանուկյան'!AB23+'Վ. Մելիքյան'!AB23+'Վ. Միսակյան'!AB23+'Մ. Շահվերդյան'!AB23+'Վ. Լ. Գրիգորյան'!AB23+'Մ. Մելքոնյան'!AB23+'Ա. Մելիքսեթյան'!AB23+'Գ. Գասպարյան'!AB23+Ա.Ղուկասյան!AB23+'Ա. Մարտիրոսյան'!AB23+'Տ. Ոսկանյան'!AB23+'Ռ. Սմբատյան'!AB23+'Ա. Ասատրյան'!AB23+'Մ. Արամյան'!AB23+'Մ. Արզումանյան'!AB23+Ա.Մուշեղյան!AB23) -> #REF!
A24: 3 | B24: դեպքի վայր հանդիսացող բնակարանում հետագա զննում կատարելու վերաբերյալ միջնորդություններ | D24: =SUM(Ա.Արզումանյան!D24+Հ.Ավագյան!D24+Ա.Վարոսյան!D24+Ա.Հարությունյան!D24+Ն.Գալստյան!D24+Ա.Դունամալյան!D24+Մ.Գևորգյան!D24+Դ.Ղուկեյան!D24+Գ.Շահբազյան!D24+Գ.Մարգարյան!D24+Ա.Անտոնյան!D24+'Ա. Մուշեղյան '!D24+'Վ. Մարգարյան'!D24+'Ա. Գաբրիելյան'!D24+'Ա. Դանիբեկյան'!D24+'Ն. Բաղդասարյան'!D24+'Դ. Հարությունյան'!D24+'Ա. Հովհաննիսյան'!D24+'Հ. Մանուկյան'!D24+'Վ. Մելիքյան'!D24+'Վ. Միսակյան'!D24+'Մ. Շահվերդյան'!D24+'Վ. Լ. Գրիգորյան'!D24+'Մ. Մելքոնյան'!D24+'Ա. Մելիքսեթյան'!D24+'Գ. Գասպարյան'!D24+Ա.Ղուկասյան!D24+'Ա. Մարտիրոսյան'!D24+'Տ. Ոսկանյան'!D24+'Ռ. Սմբատյան'!D24+'Ա. Ասատրյան'!D24+'Մ. Արամյան'!D24+'Մ. Արզումանյան'!D24+Ա.Մուշեղյան!D24) -> 0 | E24: =SUM(Ա.Արզումանյան!E24+Հ.Ավագյան!E24+Ա.Վարոսյան!E24+Ա.Հարությունյան!E24+Ն.Գալստյան!E24+Ա.Դունամալյան!E24+Մ.Գևորգյան!E24+Դ.Ղուկեյան!E24+Գ.Շահբազյան!E24+Գ.Մարգարյան!E24+Ա.Անտոնյան!E24+'Ա. Մուշեղյան '!E24+'Վ. Մարգարյան'!E24+'Ա. Գաբրիելյան'!E24+'Ա. Դանիբեկյան'!E24+'Ն. Բաղդասարյան'!E24+'Դ. Հարությունյան'!E24+'Ա. Հովհաննիսյան'!E24+'Հ. Մանուկյան'!E24+'Վ. Մելիքյան'!E24+'Վ. Միսակյան'!E24+'Մ. Շահվերդյան'!E24+'Վ. Լ. Գրիգորյան'!E24+'Մ. Մելքոնյան'!E24+'Ա. Մելիքսեթյան'!E24+'Գ. Գասպարյան'!E24+Ա.Ղուկասյան!E24+'Ա. Մարտիրոսյան'!E24+'Տ. Ոսկանյան'!E24+'Ռ. Սմբատյան'!E24+'Ա. Ասատրյան'!E24+'Մ. Արամյան'!E24+'Մ. Արզումանյան'!E24+Ա.Մուշեղյան!E24) -> 0 | F24: =SUM(Ա.Արզումանյան!F24+Հ.Ավագյան!F24+Ա.Վարոսյան!F24+Ա.Հարությունյան!F24+Ն.Գալստյան!F24+Ա.Դունամալյան!F24+Մ.Գևորգյան!F24+Դ.Ղուկեյան!F24+Գ.Շահբազյան!F24+Գ.Մարգարյան!F24+Ա.Անտոնյան!F24+'Ա. Մուշեղյան '!F24+'Վ. Մարգարյան'!F24+'Ա. Գաբրիելյան'!F24+'Ա. Դանիբեկյան'!F24+'Ն. Բաղդասարյան'!F24+'Դ. Հարությունյան'!F24+'Ա. Հովհաննիսյան'!F24+'Հ. Մանուկյան'!F24+'Վ. Մելիքյան'!F24+'Վ. Միսակյան'!F24+'Մ. Շահվերդյան'!F24+'Վ. Լ. Գրիգորյան'!F24+'Մ. Մելքոնյան'!F24+'Ա. Մելիքսեթյան'!F24+'Գ. Գասպարյան'!F24+Ա.Ղուկասյան!F24+'Ա. Մարտիրոսյան'!F24+'Տ. Ոսկանյան'!F24+'Ռ. Սմբատյան'!F24+'Ա. Ասատրյան'!F24+'Մ. Արամյան'!F24+'Մ. Արզումանյան'!F24+Ա.Մուշեղյան!F24) -> 0 | G24: =SUM(Ա.Արզումանյան!G24+Հ.Ավագյան!G24+Ա.Վարոսյան!G24+Ա.Հարությունյան!G24+Ն.Գալստյան!G24+Ա.Դունամալյան!G24+Մ.Գևորգյան!G24+Դ.Ղուկեյան!G24+Գ.Շահբազյան!G24+Գ.Մարգարյան!G24+Ա.Անտոնյան!G24+'Ա. Մուշեղյան '!G24+'Վ. Մարգարյան'!G24+'Ա. Գաբրիելյան'!G24+'Ա. Դանիբեկյան'!G24+'Ն. Բաղդասարյան'!G24+'Դ. Հարությունյան'!G24+'Ա. Հովհաննիսյան'!G24+'Հ. Մանուկյան'!G24+'Վ. Մելիքյան'!G24+'Վ. Միսակյան'!G24+'Մ. Շահվերդյան'!G24+'Վ. Լ. Գրիգորյան'!G24+'Մ. Մելքոնյան'!G24+'Ա. Մելիքսեթյան'!G24+'Գ. Գասպարյան'!G24+Ա.Ղուկասյան!G24+'Ա. Մարտիրոսյան'!G24+'Տ. Ոսկանյան'!G24+'Ռ. Սմբատյան'!G24+'Ա. Ասատրյան'!G24+'Մ. Արամյան'!G24+'Մ. Արզումանյան'!G24+Ա.Մուշեղյան!G24) -> 0 | H24: =SUM(Ա.Արզումանյան!H24+Հ.Ավագյան!H24+Ա.Վարոսյան!H24+Ա.Հարությունյան!H24+Ն.Գալստյան!H24+Ա.Դունամալյան!H24+Մ.Գևորգյան!H24+Դ.Ղուկեյան!H24+Գ.Շահբազյան!H24+Գ.Մարգարյան!H24+Ա.Անտոնյան!H24+'Ա. Մուշեղյան '!H24+'Վ. Մարգարյան'!H24+'Ա. Գաբրիելյան'!H24+'Ա. Դանիբեկյան'!H24+'Ն. Բաղդասարյան'!H24+'Դ. Հարությունյան'!H24+'Ա. Հովհաննիսյան'!H24+'Հ. Մանուկյան'!H24+'Վ. Մելիքյան'!H24+'Վ. Միսակյան'!H24+'Մ. Շահվերդյան'!H24+'Վ. Լ. Գրիգորյան'!H24+'Մ. Մելքոնյան'!H24+'Ա. Մելիքսեթյան'!H24+'Գ. Գասպարյան'!H24+Ա.Ղուկասյան!H24+'Ա. Մարտիրոսյան'!H24+'Տ. Ոսկանյան'!H24+'Ռ. Սմբատյան'!H24+'Ա. Ասատրյան'!H24+'Մ. Արամյան'!H24+'Մ. Արզումանյան'!H24+Ա.Մուշեղյան!H24) -> 0 | I24: =SUM(Ա.Արզումանյան!I24+Հ.Ավագյան!I24+Ա.Վարոսյան!I24+Ա.Հարությունյան!I24+Ն.Գալստյան!I24+Ա.Դունամալյան!I24+Մ.Գևորգյան!I24+Դ.Ղուկեյան!I24+Գ.Շահբազյան!I24+Գ.Մարգարյան!I24+Ա.Անտոնյան!I24+'Ա. Մուշեղյան '!I24+'Վ. Մարգարյան'!I24+'Ա. Գաբրիելյան'!I24+'Ա. Դանիբեկյան'!I24+'Ն. Բաղդասարյան'!I24+'Դ. Հարությունյան'!I24+'Ա. Հովհաննիսյան'!I24+'Հ. Մանուկյան'!I24+'Վ. Մելիքյան'!I24+'Վ. Միսակյան'!I24+'Մ. Շահվերդյան'!I24+'Վ. Լ. Գրիգորյան'!I24+'Մ. Մելքոնյան'!I24+'Ա. Մելիքսեթյան'!I24+'Գ. Գասպարյան'!I24+Ա.Ղուկասյան!I24+'Ա. Մարտիրոսյան'!I24+'Տ. Ոսկանյան'!I24+'Ռ. Սմբատյան'!I24+'Ա. Ասատրյան'!I24+'Մ. Արամյան'!I24+'Մ. Արզումանյան'!I24+Ա.Մուշեղյան!I24) -> 0 | J24: =SUM(Ա.Արզումանյան!J24+Հ.Ավագյան!J24+Ա.Վարոսյան!J24+Ա.Հարությունյան!J24+Ն.Գալստյան!J24+Ա.Դունամալյան!J24+Մ.Գևորգյան!J24+Դ.Ղուկեյան!J24+Գ.Շահբազյան!J24+Գ.Մարգարյան!J24+Ա.Անտոնյան!J24+'Ա. Մուշեղյան '!J24+'Վ. Մարգարյան'!J24+'Ա. Գաբրիելյան'!J24+'Ա. Դանիբեկյան'!J24+'Ն. Բաղդասարյան'!J24+'Դ. Հարությունյան'!J24+'Ա. Հովհաննիսյան'!J24+'Հ. Մանուկյան'!J24+'Վ. Մելիքյան'!J24+'Վ. Միսակյան'!J24+'Մ. Շահվերդյան'!J24+'Վ. Լ. Գրիգորյան'!J24+'Մ. Մելքոնյան'!J24+'Ա. Մելիքսեթյան'!J24+'Գ. Գասպարյան'!J24+Ա.Ղուկասյան!J24+'Ա. Մարտիրոսյան'!J24+'Տ. Ոսկանյան'!J24+'Ռ. Սմբատյան'!J24+'Ա. Ասատրյան'!J24+'Մ. Արամյան'!J24+'Մ. Արզումանյան'!J24+Ա.Մուշեղյան!J24) -> 0 | K24: =SUM(Ա.Արզումանյան!K24+Հ.Ավագյան!K24+Ա.Վարոսյան!K24+Ա.Հարությունյան!K24+Ն.Գալստյան!K24+Ա.Դունամալյան!K24+Մ.Գևորգյան!K24+Դ.Ղուկեյան!K24+Գ.Շահբազյան!K24+Գ.Մարգարյան!K24+Ա.Անտոնյան!K24+'Ա. Մուշեղյան '!K24+'Վ. Մարգարյան'!K24+'Ա. Գաբրիելյան'!K24+'Ա. Դանիբեկյան'!K24+'Ն. Բաղդասարյան'!K24+'Դ. Հարությունյան'!K24+'Ա. Հովհաննիսյան'!K24+'Հ. Մանուկյան'!K24+'Վ. Մելիքյան'!K24+'Վ. Միսակյան'!K24+'Մ. Շահվերդյան'!K24+'Վ. Լ. Գրիգորյան'!K24+'Մ. Մելքոնյան'!K24+'Ա. Մելիքսեթյան'!K24+'Գ. Գասպարյան'!K24+Ա.Ղուկասյան!K24+'Ա. Մարտիրոսյան'!K24+'Տ. Ոսկանյան'!K24+'Ռ. Սմբատյան'!K24+'Ա. Ասատրյան'!K24+'Մ. Արամյան'!K24+'Մ. Արզումանյան'!K24+Ա.Մուշեղյան!K24) -> 0 | ... T24: =SUM(Ա.Արզումանյան!T24+Հ.Ավագյան!T24+Ա.Վարոսյան!T24+Ա.Հարությունյան!T24+Ն.Գալստյան!T24+Ա.Դունամալյան!T24+Մ.Գևորգյան!T24+Դ.Ղուկեյան!T24+Գ.Շահբազյան!T24+Գ.Մարգարյան!T24+Ա.Անտոնյան!T24+'Ա. Մուշեղյան '!T24+'Վ. Մարգարյան'!T24+'Ա. Գաբրիելյան'!T24+'Ա. Դանիբեկյան'!T24+'Ն. Բաղդասարյան'!T24+'Դ. Հարությունյան'!T24+'Ա. Հովհաննիսյան'!T24+'Հ. Մանուկյան'!T24+'Վ. Մելիքյան'!T24+'Վ. Միսակյան'!T24+'Մ. Շահվերդյան'!T24+'Վ. Լ. Գրիգորյան'!T24+'Մ. Մելքոնյան'!T24+'Ա. Մելիքսեթյան'!T24+'Գ. Գասպարյան'!T24+Ա.Ղուկասյան!T24+'Ա. Մարտիրոսյան'!T24+'Տ. Ոսկանյան'!T24+'Ռ. Սմբատյան'!T24+'Ա. Ասատրյան'!T24+'Մ. Արամյան'!T24+'Մ. Արզումանյան'!T24+Ա.Մուշեղյան!T24) -> 0 | U24: =SUM(Ա.Արզումանյան!#REF!+Հ.Ավագյան!#REF!+Ա.Վարոսյան!#REF!+Ա.Հարությունյան!#REF!+Ն.Գալստյան!#REF!+Ա.Դունամալյան!#REF!+Մ.Գևորգյան!#REF!+Դ.Ղուկեյան!#REF!+Գ.Շահբազյան!#REF!+Գ.Մարգարյան!#REF!+Ա.Անտոնյան!#REF!+'Ա. Մուշեղյան '!#REF!+'Վ. Մարգարյան'!U24+'Ա. Գաբրիելյան'!U24+'Ա. Դանիբեկյան'!U24+'Ն. Բաղդասարյան'!U24+'Դ. Հարությունյան'!U24+'Ա. Հովհաննիսյան'!U24+'Հ. Մանուկյան'!U24+'Վ. Մելիքյան'!U24+'Վ. Միսակյան'!U24+'Մ. Շահվերդյան'!U24+'Վ. Լ. Գրիգորյան'!U24+'Մ. Մելքոնյան'!U24+'Ա. Մելիքսեթյան'!U24+'Գ. Գասպարյան'!U24+Ա.Ղուկասյան!U24+'Ա. Մարտիրոսյան'!U24+'Տ. Ոսկանյան'!U24+'Ռ. Սմբատյան'!U24+'Ա. Ասատրյան'!U24+'Մ. Արամյան'!U24+'Մ. Արզումանյան'!U24+Ա.Մուշեղյան!U24) -> #REF! | V24: =SUM(Ա.Արզումանյան!#REF!+Հ.Ավագյան!#REF!+Ա.Վարոսյան!#REF!+Ա.Հարությունյան!#REF!+Ն.Գալստյան!#REF!+Ա.Դունամալյան!#REF!+Մ.Գևորգյան!#REF!+Դ.Ղուկեյան!#REF!+Գ.Շահբազյան!#REF!+Գ.Մարգարյան!#REF!+Ա.Անտոնյան!#REF!+'Ա. Մուշեղյան '!#REF!+'Վ. Մարգարյան'!V24+'Ա. Գաբրիելյան'!V24+'Ա. Դանիբեկյան'!V24+'Ն. Բաղդասարյան'!V24+'Դ. Հարությունյան'!V24+'Ա. Հովհաննիսյան'!V24+'Հ. Մանուկյան'!V24+'Վ. Մելիքյան'!V24+'Վ. Միսակյան'!V24+'Մ. Շահվերդյան'!V24+'Վ. Լ. Գրիգորյան'!V24+'Մ. Մելքոնյան'!V24+'Ա. Մելիքսեթյան'!V24+'Գ. Գասպարյան'!V24+Ա.Ղուկասյան!V24+'Ա. Մարտիրոսյան'!V24+'Տ. Ոսկանյան'!V24+'Ռ. Սմբատյան'!V24+'Ա. Ասատրյան'!V24+'Մ. Արամյան'!V24+'Մ. Արզումանյան'!V24+Ա.Մուշեղյան!V24) -> #REF! | W24: =SUM(Ա.Արզումանյան!#REF!+Հ.Ավագյան!#REF!+Ա.Վարոսյան!#REF!+Ա.Հարությունյան!#REF!+Ն.Գալստյան!#REF!+Ա.Դունամալյան!#REF!+Մ.Գևորգյան!#REF!+Դ.Ղուկեյան!#REF!+Գ.Շահբազյան!#REF!+Գ.Մարգարյան!#REF!+Ա.Անտոնյան!#REF!+'Ա. Մուշեղյան '!#REF!+'Վ. Մարգարյան'!W24+'Ա. Գաբրիելյան'!W24+'Ա. Դանիբեկյան'!W24+'Ն. Բաղդասարյան'!W24+'Դ. Հարությունյան'!W24+'Ա. Հովհաննիսյան'!W24+'Հ. Մանուկյան'!W24+'Վ. Մելիքյան'!W24+'Վ. Միսակյան'!W24+'Մ. Շահվերդյան'!W24+'Վ. Լ. Գրիգորյան'!W24+'Մ. Մելքոնյան'!W24+'Ա. Մելիքսեթյան'!W24+'Գ. Գասպարյան'!W24+Ա.Ղուկասյան!W24+'Ա. Մարտիրոսյան'!W24+'Տ. Ոսկանյան'!W24+'Ռ. Սմբատյան'!W24+'Ա. Ասատրյան'!W24+'Մ. Արամյան'!W24+'Մ. Արզումանյան'!W24+Ա.Մուշեղյան!W24) -> #REF! | X24: =SUM(Ա.Արզումանյան!#REF!+Հ.Ավագյան!#REF!+Ա.Վարոսյան!#REF!+Ա.Հարությունյան!#REF!+Ն.Գալստյան!#REF!+Ա.Դունամալյան!#REF!+Մ.Գևորգյան!#REF!+Դ.Ղուկեյան!#REF!+Գ.Շահբազյան!#REF!+Գ.Մարգարյան!#REF!+Ա.Անտոնյան!#REF!+'Ա. Մուշեղյան '!#REF!+'Վ. Մարգարյան'!X24+'Ա. Գաբրիելյան'!X24+'Ա. Դանիբեկյան'!X24+'Ն. Բաղդասարյան'!X24+'Դ. Հարությունյան'!X24+'Ա. Հովհաննիսյան'!X24+'Հ. Մանուկյան'!X24+'Վ. Մելիքյան'!X24+'Վ. Միսակյան'!X24+'Մ. Շահվերդյան'!X24+'Վ. Լ. Գրիգորյան'!X24+'Մ. Մելքոնյան'!X24+'Ա. Մելիքսեթյան'!X24+'Գ. Գասպարյան'!X24+Ա.Ղուկասյան!X24+'Ա. Մարտիրոսյան'!X24+'Տ. Ոսկանյան'!X24+'Ռ. Սմբատյան'!X24+'Ա. Ասատրյան'!X24+'Մ. Արամյան'!X24+'Մ. Արզումանյան'!X24+Ա.Մուշեղյան!X24) -> #REF! | Y24: =SUM(Ա.Արզումանյան!#REF!+Հ.Ավագյան!#REF!+Ա.Վարոսյան!#REF!+Ա.Հարությունյան!#REF!+Ն.Գալստյան!#REF!+Ա.Դունամալյան!#REF!+Մ.Գևորգյան!#REF!+Դ.Ղուկեյան!#REF!+Գ.Շահբազյան!#REF!+Գ.Մարգարյան!#REF!+Ա.Անտոնյան!#REF!+'Ա. Մուշեղյան '!#REF!+'Վ. Մարգարյան'!Y24+'Ա. Գաբրիելյան'!Y24+'Ա. Դանիբեկյան'!Y24+'Ն. Բաղդասարյան'!Y24+'Դ. Հարությունյան'!Y24+'Ա. Հովհաննիսյան'!Y24+'Հ. Մանուկյան'!Y24+'Վ. Մելիքյան'!Y24+'Վ. Միսակյան'!Y24+'Մ. Շահվերդյան'!Y24+'Վ. Լ. Գրիգորյան'!Y24+'Մ. Մելքոնյան'!Y24+'Ա. Մելիքսեթյան'!Y24+'Գ. Գասպարյան'!Y24+Ա.Ղուկասյան!Y24+'Ա. Մարտիրոսյան'!Y24+'Տ. Ոսկանյան'!Y24+'Ռ. Սմբատյան'!Y24+'Ա. Ասատրյան'!Y24+'Մ. Արամյան'!Y24+'Մ. Արզումանյան'!Y24+Ա.Մուշեղյան!Y24) -> #REF! | Z24: =SUM(Ա.Արզումանյան!#REF!+Հ.Ավագյան!#REF!+Ա.Վարոսյան!#REF!+Ա.Հարությունյան!#REF!+Ն.Գալստյան!#REF!+Ա.Դունամալյան!#REF!+Մ.Գևորգյան!#REF!+Դ.Ղուկեյան!#REF!+Գ.Շահբազյան!#REF!+Գ.Մարգարյան!#REF!+Ա.Անտոնյան!#REF!+'Ա. Մուշեղյան '!#REF!+'Վ. Մարգարյան'!Z24+'Ա. Գաբրիելյան'!Z24+'Ա. Դանիբեկյան'!Z24+'Ն. Բաղդասարյան'!Z24+'Դ. Հարությունյան'!Z24+'Ա. Հովհաննիսյան'!Z24+'Հ. Մանուկյան'!Z24+'Վ. Մելիքյան'!Z24+'Վ. Միսակյան'!Z24+'Մ. Շահվերդյան'!Z24+'Վ. Լ. Գրիգորյան'!Z24+'Մ. Մելքոնյան'!Z24+'Ա. Մելիքսեթյան'!Z24+'Գ. Գասպարյան'!Z24+Ա.Ղուկասյան!Z24+'Ա. Մարտիրոսյան'!Z24+'Տ. Ոսկանյան'!Z24+'Ռ. Սմբատյան'!Z24+'Ա. Ասատրյան'!Z24+'Մ. Արամյան'!Z24+'Մ. Արզումանյան'!Z24+Ա.Մուշեղյան!Z24) -> #REF! | AA24: =SUM(Ա.Արզումանյան!#REF!+Հ.Ավագյան!#REF!+Ա.Վարոսյան!#REF!+Ա.Հարությունյան!#REF!+Ն.Գալստյան!#REF!+Ա.Դունամալյան!#REF!+Մ.Գևորգյան!#REF!+Դ.Ղուկեյան!#REF!+Գ.Շահբազյան!#REF!+Գ.Մարգարյան!#REF!+Ա.Անտոնյան!#REF!+'Ա. Մուշեղյան '!#REF!+'Վ. Մարգարյան'!AA24+'Ա. Գաբրիելյան'!AA24+'Ա. Դանիբեկյան'!AA24+'Ն. Բաղդասարյան'!AA24+'Դ. Հարությունյան'!AA24+'Ա. Հովհաննիսյան'!AA24+'Հ. Մանուկյան'!AA24+'Վ. Մելիքյան'!AA24+'Վ. Միսակյան'!AA24+'Մ. Շահվերդյան'!AA24+'Վ. Լ. Գրիգորյան'!AA24+'Մ. Մելքոնյան'!AA24+'Ա. Մելիքսեթյան'!AA24+'Գ. Գասպարյան'!AA24+Ա.Ղուկասյան!AA24+'Ա. Մարտիրոսյան'!AA24+'Տ. Ոսկանյան'!AA24+'Ռ. Սմբատյան'!AA24+'Ա. Ասատրյան'!AA24+'Մ. Արամյան'!AA24+'Մ. Արզումանյան'!AA24+Ա.Մուշեղյան!AA24) -> #REF! | AB24: =SUM(Ա.Արզումանյան!#REF!+Հ.Ավագյան!#REF!+Ա.Վարոսյան!#REF!+Ա.Հարությունյան!#REF!+Ն.Գալստյան!#REF!+Ա.Դունամալյան!#REF!+Մ.Գևորգյան!#REF!+Դ.Ղուկեյան!#REF!+Գ.Շահբազյան!#REF!+Գ.Մարգարյան!#REF!+Ա.Անտոնյան!#REF!+'Ա. Մուշեղյան '!#REF!+'Վ. Մարգարյան'!AB24+'Ա. Գաբրիելյան'!AB24+'Ա. Դանիբեկյան'!AB24+'Ն. Բաղդասարյան'!AB24+'Դ. Հարությունյան'!AB24+'Ա. Հովհաննիսյան'!AB24+'Հ. Մանուկյան'!AB24+'Վ. Մելիքյան'!AB24+'Վ. Միսակյան'!AB24+'Մ. Շահվերդյան'!AB24+'Վ. Լ. Գրիգորյան'!AB24+'Մ. Մելքոնյան'!AB24+'Ա. Մելիքսեթյան'!AB24+'Գ. Գասպարյան'!AB24+Ա.Ղուկասյան!AB24+'Ա. Մարտիրոսյան'!AB24+'Տ. Ոսկանյան'!AB24+'Ռ. Սմբատյան'!AB24+'Ա. Ասատրյան'!AB24+'Մ. Արամյան'!AB24+'Մ. Արզումանյան'!AB24+Ա.Մուշեղյան!AB24) -> #REF!
