Workbook

Sheet Կոտայքի մարզի առաջին ատյանի ԸԻԴ
C1: 2023 թվականի 1-ին կիսամյակի | Q1: Հավելված 2 Բարձրագույն դատական խորհրդի 2022թվականի դեկտեմբերի 26-ի թիվ ԲԴԽ-122-Ո-408 որոշման
A2: ԹՎԱԿԱՆԻ ՏԱՐԵԿԱՆ ՀԱՇՎԵՏՎՈՒԹՅՈՒՆ ՄԻՆՉԴԱՏԱԿԱՆ ՎԱՐՈՒՅԹԻ ԴԱՏԱԿԱՆ ԵՐԱՇԽԻՔՆԵՐԻ, ԴԱՏԱԿԱՆ ԱԿՏԵՐԻ ԵՎ ԴԱՏԱԿԱՆ ՀԱՆՁՆԱՐԱՐՈՒԹՅՈՒՆՆԵՐԻ ԿԱՏԱՐՄԱՆ ՀԵՏ ԿԱՊՎԱԾ ՄԻՋՆՈՐԴՈՒԹՅՈՒՆՆԵՐԻ ՎԵՐԱԲԵՐՅԱԼ ԴԱՏԱԿԱՆ ԳՈՐԾԵՐՈՎ ՀՀ ԱՌԱՋԻՆ ԱՏՅԱՆԻ ԸՆԴՀԱՆՈՒՐ ԻՐԱՎԱՍՈՒԹՅԱՆ ԴԱՏԱՐԱՆՆԵՐԻ ԴԱՏԱՎՈՐՆԵՐԻ ԳՈՐԾՈՒՆԵՈՒԹՅԱՆ ՎԵՐԱԲԵՐՅԱԼ
A3: Ստուգիչ հավասարում` 1+2=3+10+11, 10=4+5+6+7+8+9, 14=12+13, 17=15+16 | D3: հաշվետու ժամանակահատվածի սկզբում նախորդ հաշվետու ժամանակահատվածից փոխանցված գործերի ընդհանուր թիվը | E3: հաշվետու ժամանակահատվածում ստացված գործերի ընդհանուր թիվը | F3: փոխանցվել է այլ դատավորի(վերաբաշխում կամ ընդդատություն) | G3: հաշվետու ժամանակահատվածում ավարտված գործերի ընդհանուր թիվը | N3: Հաշվետու ժամանակահատվածում անավարտ գործերի ընդհանուր թիվը | O3: միջնորդություններով կայացված դատական ակտերից բողոքարկվածների քանակը | Q3: ընդամենը | R3: միջնորդություններով կայացված և բողոքարկված դատական ակտերից բեկանվածների քանակը | T3: միջնորդություններով կայացված և բողոքարկված դատական ակտերից անփոփոխ թողնվածների քանակը
G4: մերժվել է | H4: բավարարվել է | I4: բավարարվել է մասնակի | J4: թողնվել է առանց քննության | K4: վարույթի հարուցումը մերժելու մասին | L4: վերադարձվել է | M4: ընդամենը | O4: նախորդ տարիներին կայացված ակտերի դեմ | P4: հաշվետու ժամանակահատվածում կայացված ակտերի դեմ | R4: նախորդ տարիներին կայացված ակտերի դեմ | S4: հաշվետու ժամանակահատվածում կայացված ակտերի դեմ | U4: 1+2 | V4: 3+10+11 | W4: 10 | X4: 4+5+6+7+8+9 | Y4: 14 | Z4: 12+13 | AA4: 17 | AB4: 15+16
D5: 1 | E5: 2 | F5: 3 | G5: 4 | H5: 5 | I5: 6 | J5: 7 | K5: 8 | L5: 9 | M5: 10 | N5: 11 | O5: 12 | P5: 13 | Q5: 14 | R5: 15 | S5: 16 | T5: 17
A6: 1. Մինչդատական վարույթի դատական երաշխիքների ոլորտ | D6: =SUM(Ա.Արզումանյան!D6+Հ.Ավագյան!D6+Ա.Վարոսյան!D6+Ա.Հարությունյան!D6+Ն.Գալստյան!D6+Ա.Դունամալյան!D6+Մ.Գևորգյան!D6+Դ.Ղուկեյան!D6+Գ.Շահբազյան!D6+Գ.Մարգարյան!D6+Ա.Անտոնյան!D6+'Ա. Մուշեղյան '!D6+'Վ. Մարգարյան'!D6+'Ա. Գաբրիելյան'!D6+'Ա. Դանիբեկյան'!D6+'Ն. Բաղդասարյան'!D6+'Դ. Հարությունյան'!D6+'Ա. Հովհաննիսյան'!D6+'Հ. Մանուկյան'!D6+'Վ. Մելիքյան'!D6+'Վ. Միսակյան'!D6+'Մ. Շահվերդյան'!D6+'Վ. Լ. Գրիգորյան'!D6+'Մ. Մելքոնյան'!D6+'Ա. Մելիքսեթյան'!D6+'Գ. Գասպարյան'!D6+Ա.Ղուկասյան!D6+'Ա. Մարտիրոսյան'!D6+'Տ. Ոսկանյան'!D6+'Ռ. Սմբատյան'!D6+'Ա. Ասատրյան'!D6+'Մ. Արամյան'!D6+'Մ. Արզումանյան'!D6+Ա.Մուշեղյան!D6) -> 0 | E6: =SUM(Ա.Արզումանյան!E6+Հ.Ավագյան!E6+Ա.Վարոսյան!E6+Ա.Հարությունյան!E6+Ն.Գալստյան!E6+Ա.Դունամալյան!E6+Մ.Գևորգյան!E6+Դ.Ղուկեյան!E6+Գ.Շահբազյան!E6+Գ.Մարգարյան!E6+Ա.Անտոնյան!E6+'Ա. Մուշեղյան '!E6+'Վ. Մարգարյան'!E6+'Ա. Գաբրիելյան'!E6+'Ա. Դանիբեկյան'!E6+'Ն. Բաղդասարյան'!E6+'Դ. Հարությունյան'!E6+'Ա. Հովհաննիսյան'!E6+'Հ. Մանուկյան'!E6+'Վ. Մելիքյան'!E6+'Վ. Միսակյան'!E6+'Մ. Շահվերդյան'!E6+'Վ. Լ. Գրիգորյան'!E6+'Մ. Մելքոնյան'!E6+'Ա. Մելիքսեթյան'!E6+'Գ. Գասպարյան'!E6+Ա.Ղուկասյան!E6+'Ա. Մարտիրոսյան'!E6+'Տ. Ոսկանյան'!E6+'Ռ. Սմբատյան'!E6+'Ա. Ասատրյան'!E6+'Մ. Արամյան'!E6+'Մ. Արզումանյան'!E6+Ա.Մուշեղյան!E6) -> 75 | F6: =SUM(Ա.Արզումանյան!F6+Հ.Ավագյան!F6+Ա.Վարոսյան!F6+Ա.Հարությունյան!F6+Ն.Գալստյան!F6+Ա.Դունամալյան!F6+Մ.Գևորգյան!F6+Դ.Ղուկեյան!F6+Գ.Շահբազյան!F6+Գ.Մարգարյան!F6+Ա.Անտոնյան!F6+'Ա. Մուշեղյան '!F6+'Վ. Մարգարյան'!F6+'Ա. Գաբրիելյան'!F6+'Ա. Դանիբեկյան'!F6+'Ն. Բաղդասարյան'!F6+'Դ. Հարությունյան'!F6+'Ա. Հովհաննիսյան'!F6+'Հ. Մանուկյան'!F6+'Վ. Մելիքյան'!F6+'Վ. Միսակյան'!F6+'Մ. Շահվերդյան'!F6+'Վ. Լ. Գրիգորյան'!F6+'Մ. Մելքոնյան'!F6+'Ա. Մելիքսեթյան'!F6+'Գ. Գասպարյան'!F6+Ա.Ղուկասյան!F6+'Ա. Մարտիրոսյան'!F6+'Տ. Ոսկանյան'!F6+'Ռ. Սմբատյան'!F6+'Ա. Ասատրյան'!F6+'Մ. Արամյան'!F6+'Մ. Արզումանյան'!F6+Ա.Մուշեղյան!F6) -> 0 | G6: =SUM(Ա.Արզումանյան!G6+Հ.Ավագյան!G6+Ա.Վարոսյան!G6+Ա.Հարությունյան!G6+Ն.Գալստյան!G6+Ա.Դունամալյան!G6+Մ.Գևորգյան!G6+Դ.Ղուկեյան!G6+Գ.Շահբազյան!G6+Գ.Մարգարյան!G6+Ա.Անտոնյան!G6+'Ա. Մուշեղյան '!G6+'Վ. Մարգարյան'!G6+'Ա. Գաբրիելյան'!G6+'Ա. Դանիբեկյան'!G6+'Ն. Բաղդասարյան'!G6+'Դ. Հարությունյան'!G6+'Ա. Հովհաննիսյան'!G6+'Հ. Մանուկյան'!G6+'Վ. Մելիքյան'!G6+'Վ. Միսակյան'!G6+'Մ. Շահվերդյան'!G6+'Վ. Լ. Գրիգորյան'!G6+'Մ. Մելքոնյան'!G6+'Ա. Մելիքսեթյան'!G6+'Գ. Գասպարյան'!G6+Ա.Ղուկասյան!G6+'Ա. Մարտիրոսյան'!G6+'Տ. Ոսկանյան'!G6+'Ռ. Սմբատյան'!G6+'Ա. Ասատրյան'!G6+'Մ. Արամյան'!G6+'Մ. Արզումանյան'!G6+Ա.Մուշեղյան!G6) -> 18 | H6: =SUM(Ա.Արզումանյան!H6+Հ.Ավագյան!H6+Ա.Վարոսյան!H6+Ա.Հարությունյան!H6+Ն.Գալստյան!H6+Ա.Դունամալյան!H6+Մ.Գևորգյան!H6+Դ.Ղուկեյան!H6+Գ.Շահբազյան!H6+Գ.Մարգարյան!H6+Ա.Անտոնյան!H6+'Ա. Մուշեղյան '!H6+'Վ. Մարգարյան'!H6+'Ա. Գաբրիելյան'!H6+'Ա. Դանիբեկյան'!H6+'Ն. Բաղդասարյան'!H6+'Դ. Հարությունյան'!H6+'Ա. Հովհաննիսյան'!H6+'Հ. Մանուկյան'!H6+'Վ. Մելիքյան'!H6+'Վ. Միսակյան'!H6+'Մ. Շահվերդյան'!H6+'Վ. Լ. Գրիգորյան'!H6+'Մ. Մելքոնյան'!H6+'Ա. Մելիքսեթյան'!H6+'Գ. Գասպարյան'!H6+Ա.Ղուկասյան!H6+'Ա. Մարտիրոսյան'!H6+'Տ. Ոսկանյան'!H6+'Ռ. Սմբատյան'!H6+'Ա. Ասատրյան'!H6+'Մ. Արամյան'!H6+'Մ. Արզումանյան'!H6+Ա.Մուշեղյան!H6) -> 51 | I6: =SUM(Ա.Արզումանյան!I6+Հ.Ավագյան!I6+Ա.Վարոսյան!I6+Ա.Հարությունյան!I6+Ն.Գալստյան!I6+Ա.Դունամալյան!I6+Մ.Գևորգյան!I6+Դ.Ղուկեյան!I6+Գ.Շահբազյան!I6+Գ.Մարգարյան!I6+Ա.Անտոնյան!I6+'Ա. Մուշեղյան '!I6+'Վ. Մարգարյան'!I6+'Ա. Գաբրիելյան'!I6+'Ա. Դանիբեկյան'!I6+'Ն. Բաղդասարյան'!I6+'Դ. Հարությունյան'!I6+'Ա. Հովհաննիսյան'!I6+'Հ. Մանուկյան'!I6+'Վ. Մելիքյան'!I6+'Վ. Միսակյան'!I6+'Մ. Շահվերդյան'!I6+'Վ. Լ. Գրիգորյան'!I6+'Մ. Մելքոնյան'!I6+'Ա. Մելիքսեթյան'!I6+'Գ. Գասպարյան'!I6+Ա.Ղուկասյան!I6+'Ա. Մարտիրոսյան'!I6+'Տ. Ոսկանյան'!I6+'Ռ. Սմբատյան'!I6+'Ա. Ասատրյան'!I6+'Մ. Արամյան'!I6+'Մ. Արզումանյան'!I6+Ա.Մուշեղյան!I6) -> 2 | J6: =SUM(Ա.Արզումանյան!J6+Հ.Ավագյան!J6+Ա.Վարոսյան!J6+Ա.Հարությունյան!J6+Ն.Գալստյան!J6+Ա.Դունամալյան!J6+Մ.Գևորգյան!J6+Դ.Ղուկեյան!J6+Գ.Շահբազյան!J6+Գ.Մարգարյան!J6+Ա.Անտոնյան!J6+'Ա. Մուշեղյան '!J6+'Վ. Մարգարյան'!J6+'Ա. Գաբրիելյան'!J6+'Ա. Դանիբեկյան'!J6+'Ն. Բաղդասարյան'!J6+'Դ. Հարությունյան'!J6+'Ա. Հովհաննիսյան'!J6+'Հ. Մանուկյան'!J6+'Վ. Մելիքյան'!J6+'Վ. Միսակյան'!J6+'Մ. Շահվերդյան'!J6+'Վ. Լ. Գրիգորյան'!J6+'Մ. Մելքոնյան'!J6+'Ա. Մելիքսեթյան'!J6+'Գ. Գասպարյան'!J6+Ա.Ղուկասյան!J6+'Ա. Մարտիրոսյան'!J6+'Տ. Ոսկանյան'!J6+'Ռ. Սմբատյան'!J6+'Ա. Ասատրյան'!J6+'Մ. Արամյան'!J6+'Մ. Արզումանյան'!J6+Ա.Մուշեղյան!J6) -> 0 | K6: =SUM(Ա.Արզումանյան!K6+Հ.Ավագյան!K6+Ա.Վարոսյան!K6+Ա.Հարությունյան!K6+Ն.Գալստյան!K6+Ա.Դունամալյան!K6+Մ.Գևորգյան!K6+Դ.Ղուկեյան!K6+Գ.Շահբազյան!K6+Գ.Մարգարյան!K6+Ա.Անտոնյան!K6+'Ա. Մուշեղյան '!K6+'Վ. Մարգարյան'!K6+'Ա. Գաբրիելյան'!K6+'Ա. Դանիբեկյան'!K6+'Ն. Բաղդասարյան'!K6+'Դ. Հարությունյան'!K6+'Ա. Հովհաննիսյան'!K6+'Հ. Մանուկյան'!K6+'Վ. Մելիքյան'!K6+'Վ. Միսակյան'!K6+'Մ. Շահվերդյան'!K6+'Վ. Լ. Գրիգորյան'!K6+'Մ. Մելքոնյան'!K6+'Ա. Մելիքսեթյան'!K6+'Գ. Գասպարյան'!K6+Ա.Ղուկասյան!K6+'Ա. Մարտիրոսյան'!K6+'Տ. Ոսկանյան'!K6+'Ռ. Սմբատյան'!K6+'Ա. Ասատրյան'!K6+'Մ. Արամյան'!K6+'Մ. Արզումանյան'!K6+Ա.Մուշեղյան!K6) -> 3 | ... T6: =SUM(Ա.Արզումանյան!T6+Հ.Ավագյան!T6+Ա.Վարոսյան!T6+Ա.Հարությունյան!T6+Ն.Գալստյան!T6+Ա.Դունամալյան!T6+Մ.Գևորգյան!T6+Դ.Ղուկեյան!T6+Գ.Շահբազյան!T6+Գ.Մարգարյան!T6+Ա.Անտոնյան!T6+'Ա. Մուշեղյան '!T6+'Վ. Մարգարյան'!T6+'Ա. Գաբրիելյան'!T6+'Ա. Դանիբեկյան'!T6+'Ն. Բաղդասարյան'!T6+'Դ. Հարությունյան'!T6+'Ա. Հովհաննիսյան'!T6+'Հ. Մանուկյան'!T6+'Վ. Մելիքյան'!T6+'Վ. Միսակյան'!T6+'Մ. Շահվերդյան'!T6+'Վ. Լ. Գրիգորյան'!T6+'Մ. Մելքոնյան'!T6+'Ա. Մելիքսեթյան'!T6+'Գ. Գասպարյան'!T6+Ա.Ղուկասյան!T6+'Ա. Մարտիրոսյան'!T6+'Տ. Ոսկանյան'!T6+'Ռ. Սմբատյան'!T6+'Ա. Ասատրյան'!T6+'Մ. Արամյան'!T6+'Մ. Արզումանյան'!T6+Ա.Մուշեղյան!T6) -> 19 | U6: =SUM(Ա.Արզումանյան!#REF!+Հ.Ավագյան!#REF!+Ա.Վարոսյան!#REF!+Ա.Հարությունյան!#REF!+Ն.Գալստյան!#REF!+Ա.Դունամալյան!#REF!+Մ.Գևորգյան!#REF!+Դ.Ղուկեյան!#REF!+Գ.Շահբազյան!#REF!+Գ.Մարգարյան!#REF!+Ա.Անտոնյան!#REF!+'Ա. Մուշեղյան '!#REF!+'Վ. Մարգարյան'!U6+'Ա. Գաբրիելյան'!U6+'Ա. Դանիբեկյան'!U6+'Ն. Բաղդասարյան'!U6+'Դ. Հարությունյան'!U6+'Ա. Հովհաննիսյան'!U6+'Հ. Մանուկյան'!U6+'Վ. Մելիքյան'!U6+'Վ. Միսակյան'!U6+'Մ. Շահվերդյան'!U6+'Վ. Լ. Գրիգորյան'!U6+'Մ. Մելքոնյան'!U6+'Ա. Մելիքսեթյան'!U6+'Գ. Գասպարյան'!U6+Ա.Ղուկասյան!U6+'Ա. Մարտիրոսյան'!U6+'Տ. Ոսկանյան'!U6+'Ռ. Սմբատյան'!U6+'Ա. Ասատրյան'!U6+'Մ. Արամյան'!U6+'Մ. Արզումանյան'!U6+Ա.Մուշեղյան!U6) -> #REF! | V6: =SUM(Ա.Արզումանյան!#REF!+Հ.Ավագյան!#REF!+Ա.Վարոսյան!#REF!+Ա.Հարությունյան!#REF!+Ն.Գալստյան!#REF!+Ա.Դունամալյան!#REF!+Մ.Գևորգյան!#REF!+Դ.Ղուկեյան!#REF!+Գ.Շահբազյան!#REF!+Գ.Մարգարյան!#REF!+Ա.Անտոնյան!#REF!+'Ա. Մուշեղյան '!#REF!+'Վ. Մարգարյան'!V6+'Ա. Գաբրիելյան'!V6+'Ա. Դանիբեկյան'!V6+'Ն. Բաղդասարյան'!V6+'Դ. Հարությունյան'!V6+'Ա. Հովհաննիսյան'!V6+'Հ. Մանուկյան'!V6+'Վ. Մելիքյան'!V6+'Վ. Միսակյան'!V6+'Մ. Շահվերդյան'!V6+'Վ. Լ. Գրիգորյան'!V6+'Մ. Մելքոնյան'!V6+'Ա. Մելիքսեթյան'!V6+'Գ. Գասպարյան'!V6+Ա.Ղուկասյան!V6+'Ա. Մարտիրոսյան'!V6+'Տ. Ոսկանյան'!V6+'Ռ. Սմբատյան'!V6+'Ա. Ասատրյան'!V6+'Մ. Արամյան'!V6+'Մ. Արզումանյան'!V6+Ա.Մուշեղյան!V6) -> #REF! | W6: =SUM(Ա.Արզումանյան!#REF!+Հ.Ավագյան!#REF!+Ա.Վարոսյան!#REF!+Ա.Հարությունյան!#REF!+Ն.Գալստյան!#REF!+Ա.Դունամալյան!#REF!+Մ.Գևորգյան!#REF!+Դ.Ղուկեյան!#REF!+Գ.Շահբազյան!#REF!+Գ.Մարգարյան!#REF!+Ա.Անտոնյան!#REF!+'Ա. Մուշեղյան '!#REF!+'Վ. Մարգարյան'!W6+'Ա. Գաբրիելյան'!W6+'Ա. Դանիբեկյան'!W6+'Ն. Բաղդասարյան'!W6+'Դ. Հարությունյան'!W6+'Ա. Հովհաննիսյան'!W6+'Հ. Մանուկյան'!W6+'Վ. Մելիքյան'!W6+'Վ. Միսակյան'!W6+'Մ. Շահվերդյան'!W6+'Վ. Լ. Գրիգորյան'!W6+'Մ. Մելքոնյան'!W6+'Ա. Մելիքսեթյան'!W6+'Գ. Գասպարյան'!W6+Ա.Ղուկասյան!W6+'Ա. Մարտիրոսյան'!W6+'Տ. Ոսկանյան'!W6+'Ռ. Սմբատյան'!W6+'Ա. Ասատրյան'!W6+'Մ. Արամյան'!W6+'Մ. Արզումանյան'!W6+Ա.Մուշեղյան!W6) -> #REF! | X6: =SUM(Ա.Արզումանյան!#REF!+Հ.Ավագյան!#REF!+Ա.Վարոսյան!#REF!+Ա.Հարությունյան!#REF!+Ն.Գալստյան!#REF!+Ա.Դունամալյան!#REF!+Մ.Գևորգյան!#REF!+Դ.Ղուկեյան!#REF!+Գ.Շահբազյան!#REF!+Գ.Մարգարյան!#REF!+Ա.Անտոնյան!#REF!+'Ա. Մուշեղյան '!#REF!+'Վ. Մարգարյան'!X6+'Ա. Գաբրիելյան'!X6+'Ա. Դանիբեկյան'!X6+'Ն. Բաղդասարյան'!X6+'Դ. Հարությունյան'!X6+'Ա. Հովհաննիսյան'!X6+'Հ. Մանուկյան'!X6+'Վ. Մելիքյան'!X6+'Վ. Միսակյան'!X6+'Մ. Շահվերդյան'!X6+'Վ. Լ. Գրիգորյան'!X6+'Մ. Մելքոնյան'!X6+'Ա. Մելիքսեթյան'!X6+'Գ. Գասպարյան'!X6+Ա.Ղուկասյան!X6+'Ա. Մարտիրոսյան'!X6+'Տ. Ոսկանյան'!X6+'Ռ. Սմբատյան'!X6+'Ա. Ասատրյան'!X6+'Մ. Արամյան'!X6+'Մ. Արզումանյան'!X6+Ա.Մուշեղյան!X6) -> #REF! | Y6: =SUM(Ա.Արզումանյան!#REF!+Հ.Ավագյան!#REF!+Ա.Վարոսյան!#REF!+Ա.Հարությունյան!#REF!+Ն.Գալստյան!#REF!+Ա.Դունամալյան!#REF!+Մ.Գևորգյան!#REF!+Դ.Ղուկեյան!#REF!+Գ.Շահբազյան!#REF!+Գ.Մարգարյան!#REF!+Ա.Անտոնյան!#REF!+'Ա. Մուշեղյան '!#REF!+'Վ. Մարգարյան'!Y6+'Ա. Գաբրիելյան'!Y6+'Ա. Դանիբեկյան'!Y6+'Ն. Բաղդասարյան'!Y6+'Դ. Հարությունյան'!Y6+'Ա. Հովհաննիսյան'!Y6+'Հ. Մանուկյան'!Y6+'Վ. Մելիքյան'!Y6+'Վ. Միսակյան'!Y6+'Մ. Շահվերդյան'!Y6+'Վ. Լ. Գրիգորյան'!Y6+'Մ. Մելքոնյան'!Y6+'Ա. Մելիքսեթյան'!Y6+'Գ. Գասպարյան'!Y6+Ա.Ղուկասյան!Y6+'Ա. Մարտիրոսյան'!Y6+'Տ. Ոսկանյան'!Y6+'Ռ. Սմբատյան'!Y6+'Ա. Ասատրյան'!Y6+'Մ. Արամյան'!Y6+'Մ. Արզումանյան'!Y6+Ա.Մուշեղյան!Y6) -> #REF! | Z6: =SUM(Ա.Արզումանյան!#REF!+Հ.Ավագյան!#REF!+Ա.Վարոսյան!#REF!+Ա.Հարությունյան!#REF!+Ն.Գալստյան!#REF!+Ա.Դունամալյան!#REF!+Մ.Գևորգյան!#REF!+Դ.Ղուկեյան!#REF!+Գ.Շահբազյան!#REF!+Գ.Մարգարյան!#REF!+Ա.Անտոնյան!#REF!+'Ա. Մուշեղյան '!#REF!+'Վ. Մարգարյան'!Z6+'Ա. Գաբրիելյան'!Z6+'Ա. Դանիբեկյան'!Z6+'Ն. Բաղդասարյան'!Z6+'Դ. Հարությունյան'!Z6+'Ա. Հովհաննիսյան'!Z6+'Հ. Մանուկյան'!Z6+'Վ. Մելիքյան'!Z6+'Վ. Միսակյան'!Z6+'Մ. Շահվերդյան'!Z6+'Վ. Լ. Գրիգորյան'!Z6+'Մ. Մելքոնյան'!Z6+'Ա. Մելիքսեթյան'!Z6+'Գ. Գասպարյան'!Z6+Ա.Ղուկասյան!Z6+'Ա. Մարտիրոսյան'!Z6+'Տ. Ոսկանյան'!Z6+'Ռ. Սմբատյան'!Z6+'Ա. Ասատրյան'!Z6+'Մ. Արամյան'!Z6+'Մ. Արզումանյան'!Z6+Ա.Մուշեղյան!Z6) -> #REF! | AA6: =SUM(Ա.Արզումանյան!#REF!+Հ.Ավագյան!#REF!+Ա.Վարոսյան!#REF!+Ա.Հարությունյան!#REF!+Ն.Գալստյան!#REF!+Ա.Դունամալյան!#REF!+Մ.Գևորգյան!#REF!+Դ.Ղուկեյան!#REF!+Գ.Շահբազյան!#REF!+Գ.Մարգարյան!#REF!+Ա.Անտոնյան!#REF!+'Ա. Մուշեղյան '!#REF!+'Վ. Մարգարյան'!AA6+'Ա. Գաբրիելյան'!AA6+'Ա. Դանիբեկյան'!AA6+'Ն. Բաղդասարյան'!AA6+'Դ. Հարությունյան'!AA6+'Ա. Հովհաննիսյան'!AA6+'Հ. Մանուկյան'!AA6+'Վ. Մելիքյան'!AA6+'Վ. Միսակյան'!AA6+'Մ. Շահվերդյան'!AA6+'Վ. Լ. Գրիգորյան'!AA6+'Մ. Մելքոնյան'!AA6+'Ա. Մելիքսեթյան'!AA6+'Գ. Գասպարյան'!AA6+Ա.Ղուկասյան!AA6+'Ա. Մարտիրոսյան'!AA6+'Տ. Ոսկանյան'!AA6+'Ռ. Սմբատյան'!AA6+'Ա. Ասատրյան'!AA6+'Մ. Արամյան'!AA6+'Մ. Արզումանյան'!AA6+Ա.Մուշեղյան!AA6) -> #REF! | AB6: =SUM(Ա.Արզումանյան!#REF!+Հ.Ավագյան!#REF!+Ա.Վարոսյան!#REF!+Ա.Հարությունյան!#REF!+Ն.Գալստյան!#REF!+Ա.Դունամալյան!#REF!+Մ.Գևորգյան!#REF!+Դ.Ղուկեյան!#REF!+Գ.Շահբազյան!#REF!+Գ.Մարգարյան!#REF!+Ա.Անտոնյան!#REF!+'Ա. Մուշեղյան '!#REF!+'Վ. Մարգարյան'!AB6+'Ա. Գաբրիելյան'!AB6+'Ա. Դանիբեկյան'!AB6+'Ն. Բաղդասարյան'!AB6+'Դ. Հարությունյան'!AB6+'Ա. Հովհաննիսյան'!AB6+'Հ. Մանուկյան'!AB6+'Վ. Մելիքյան'!AB6+'Վ. Միսակյան'!AB6+'Մ. Շահվերդյան'!AB6+'Վ. Լ. Գրիգորյան'!AB6+'Մ. Մելքոնյան'!AB6+'Ա. Մելիքսեթյան'!AB6+'Գ. Գասպարյան'!AB6+Ա.Ղուկասյան!AB6+'Ա. Մարտիրոսյան'!AB6+'Տ. Ոսկանյան'!AB6+'Ռ. Սմբատյան'!AB6+'Ա. Ասատրյան'!AB6+'Մ. Արամյան'!AB6+'Մ. Արզումանյան'!AB6+Ա.Մուշեղյան!AB6) -> #REF!
A7: 1 | B7: կալանքը որպես խափանման միջոց կիրառելու մասին միջնորդություններ | D7: =SUM(Ա.Արզումանյան!D7+Հ.Ավագյան!D7+Ա.Վարոսյան!D7+Ա.Հարությունյան!D7+Ն.Գալստյան!D7+Ա.Դունամալյան!D7+Մ.Գևորգյան!D7+Դ.Ղուկեյան!D7+Գ.Շահբազյան!D7+Գ.Մարգարյան!D7+Ա.Անտոնյան!D7+'Ա. Մուշեղյան '!D7+'Վ. Մարգարյան'!D7+'Ա. Գաբրիելյան'!D7+'Ա. Դանիբեկյան'!D7+'Ն. Բաղդասարյան'!D7+'Դ. Հարությունյան'!D7+'Ա. Հովհաննիսյան'!D7+'Հ. Մանուկյան'!D7+'Վ. Մելիքյան'!D7+'Վ. Միսակյան'!D7+'Մ. Շահվերդյան'!D7+'Վ. Լ. Գրիգորյան'!D7+'Մ. Մելքոնյան'!D7+'Ա. Մելիքսեթյան'!D7+'Գ. Գասպարյան'!D7+Ա.Ղուկասյան!D7+'Ա. Մարտիրոսյան'!D7+'Տ. Ոսկանյան'!D7+'Ռ. Սմբատյան'!D7+'Ա. Ասատրյան'!D7+'Մ. Արամյան'!D7+'Մ. Արզումանյան'!D7+Ա.Մուշեղյան!D7) -> 0 | E7: =SUM(Ա.Արզումանյան!E7+Հ.Ավագյան!E7+Ա.Վարոսյան!E7+Ա.Հարությունյան!E7+Ն.Գալստյան!E7+Ա.Դունամալյան!E7+Մ.Գևորգյան!E7+Դ.Ղուկեյան!E7+Գ.Շահբազյան!E7+Գ.Մարգարյան!E7+Ա.Անտոնյան!E7+'Ա. Մուշեղյան '!E7+'Վ. Մարգարյան'!E7+'Ա. Գաբրիելյան'!E7+'Ա. Դանիբեկյան'!E7+'Ն. Բաղդասարյան'!E7+'Դ. Հարությունյան'!E7+'Ա. Հովհաննիսյան'!E7+'Հ. Մանուկյան'!E7+'Վ. Մելիքյան'!E7+'Վ. Միսակյան'!E7+'Մ. Շահվերդյան'!E7+'Վ. Լ. Գրիգորյան'!E7+'Մ. Մելքոնյան'!E7+'Ա. Մելիքսեթյան'!E7+'Գ. Գասպարյան'!E7+Ա.Ղուկասյան!E7+'Ա. Մարտիրոսյան'!E7+'Տ. Ոսկանյան'!E7+'Ռ. Սմբատյան'!E7+'Ա. Ասատրյան'!E7+'Մ. Արամյան'!E7+'Մ. Արզումանյան'!E7+Ա.Մուշեղյան!E7) -> 43 | F7: =SUM(Ա.Արզումանյան!F7+Հ.Ավագյան!F7+Ա.Վարոսյան!F7+Ա.Հարությունյան!F7+Ն.Գալստյան!F7+Ա.Դունամալյան!F7+Մ.Գևորգյան!F7+Դ.Ղուկեյան!F7+Գ.Շահբազյան!F7+Գ.Մարգարյան!F7+Ա.Անտոնյան!F7+'Ա. Մուշեղյան '!F7+'Վ. Մարգարյան'!F7+'Ա. Գաբրիելյան'!F7+'Ա. Դանիբեկյան'!F7+'Ն. Բաղդասարյան'!F7+'Դ. Հարությունյան'!F7+'Ա. Հովհաննիսյան'!F7+'Հ. Մանուկյան'!F7+'Վ. Մելիքյան'!F7+'Վ. Միսակյան'!F7+'Մ. Շահվերդյան'!F7+'Վ. Լ. Գրիգորյան'!F7+'Մ. Մելքոնյան'!F7+'Ա. Մելիքսեթյան'!F7+'Գ. Գասպարյան'!F7+Ա.Ղուկասյան!F7+'Ա. Մարտիրոսյան'!F7+'Տ. Ոսկանյան'!F7+'Ռ. Սմբատյան'!F7+'Ա. Ասատրյան'!F7+'Մ. Արամյան'!F7+'Մ. Արզումանյան'!F7+Ա.Մուշեղյան!F7) -> 0 | G7: =SUM(Ա.Արզումանյան!G7+Հ.Ավագյան!G7+Ա.Վարոսյան!G7+Ա.Հարությունյան!G7+Ն.Գալստյան!G7+Ա.Դունամալյան!G7+Մ.Գևորգյան!G7+Դ.Ղուկեյան!G7+Գ.Շահբազյան!G7+Գ.Մարգարյան!G7+Ա.Անտոնյան!G7+'Ա. Մուշեղյան '!G7+'Վ. Մարգարյան'!G7+'Ա. Գաբրիելյան'!G7+'Ա. Դանիբեկյան'!G7+'Ն. Բաղդասարյան'!G7+'Դ. Հարությունյան'!G7+'Ա. Հովհաննիսյան'!G7+'Հ. Մանուկյան'!G7+'Վ. Մելիքյան'!G7+'Վ. Միսակյան'!G7+'Մ. Շահվերդյան'!G7+'Վ. Լ. Գրիգորյան'!G7+'Մ. Մելքոնյան'!G7+'Ա. Մելիքսեթյան'!G7+'Գ. Գասպարյան'!G7+Ա.Ղուկասյան!G7+'Ա. Մարտիրոսյան'!G7+'Տ. Ոսկանյան'!G7+'Ռ. Սմբատյան'!G7+'Ա. Ասատրյան'!G7+'Մ. Արամյան'!G7+'Մ. Արզումանյան'!G7+Ա.Մուշեղյան!G7) -> 13 | H7: =SUM(Ա.Արզումանյան!H7+Հ.Ավագյան!H7+Ա.Վարոսյան!H7+Ա.Հարությունյան!H7+Ն.Գալստյան!H7+Ա.Դունամալյան!H7+Մ.Գևորգյան!H7+Դ.Ղուկեյան!H7+Գ.Շահբազյան!H7+Գ.Մարգարյան!H7+Ա.Անտոնյան!H7+'Ա. Մուշեղյան '!H7+'Վ. Մարգարյան'!H7+'Ա. Գաբրիելյան'!H7+'Ա. Դանիբեկյան'!H7+'Ն. Բաղդասարյան'!H7+'Դ. Հարությունյան'!H7+'Ա. Հովհաննիսյան'!H7+'Հ. Մանուկյան'!H7+'Վ. Մելիքյան'!H7+'Վ. Միսակյան'!H7+'Մ. Շահվերդյան'!H7+'Վ. Լ. Գրիգորյան'!H7+'Մ. Մելքոնյան'!H7+'Ա. Մելիքսեթյան'!H7+'Գ. Գասպարյան'!H7+Ա.Ղուկասյան!H7+'Ա. Մարտիրոսյան'!H7+'Տ. Ոսկանյան'!H7+'Ռ. Սմբատյան'!H7+'Ա. Ասատրյան'!H7+'Մ. Արամյան'!H7+'Մ. Արզումանյան'!H7+Ա.Մուշեղյան!H7) -> 28 | I7: =SUM(Ա.Արզումանյան!I7+Հ.Ավագյան!I7+Ա.Վարոսյան!I7+Ա.Հարությունյան!I7+Ն.Գալստյան!I7+Ա.Դունամալյան!I7+Մ.Գևորգյան!I7+Դ.Ղուկեյան!I7+Գ.Շահբազյան!I7+Գ.Մարգարյան!I7+Ա.Անտոնյան!I7+'Ա. Մուշեղյան '!I7+'Վ. Մարգարյան'!I7+'Ա. Գաբրիելյան'!I7+'Ա. Դանիբեկյան'!I7+'Ն. Բաղդասարյան'!I7+'Դ. Հարությունյան'!I7+'Ա. Հովհաննիսյան'!I7+'Հ. Մանուկյան'!I7+'Վ. Մելիքյան'!I7+'Վ. Միսակյան'!I7+'Մ. Շահվերդյան'!I7+'Վ. Լ. Գրիգորյան'!I7+'Մ. Մելքոնյան'!I7+'Ա. Մելիքսեթյան'!I7+'Գ. Գասպարյան'!I7+Ա.Ղուկասյան!I7+'Ա. Մարտիրոսյան'!I7+'Տ. Ոսկանյան'!I7+'Ռ. Սմբատյան'!I7+'Ա. Ասատրյան'!I7+'Մ. Արամյան'!I7+'Մ. Արզումանյան'!I7+Ա.Մուշեղյան!I7) -> 0 | J7: =SUM(Ա.Արզումանյան!J7+Հ.Ավագյան!J7+Ա.Վարոսյան!J7+Ա.Հարությունյան!J7+Ն.Գալստյան!J7+Ա.Դունամալյան!J7+Մ.Գևորգյան!J7+Դ.Ղուկեյան!J7+Գ.Շահբազյան!J7+Գ.Մարգարյան!J7+Ա.Անտոնյան!J7+'Ա. Մուշեղյան '!J7+'Վ. Մարգարյան'!J7+'Ա. Գաբրիելյան'!J7+'Ա. Դանիբեկյան'!J7+'Ն. Բաղդասարյան'!J7+'Դ. Հարությունյան'!J7+'Ա. Հովհաննիսյան'!J7+'Հ. Մանուկյան'!J7+'Վ. Մելիքյան'!J7+'Վ. Միսակյան'!J7+'Մ. Շահվերդյան'!J7+'Վ. Լ. Գրիգորյան'!J7+'Մ. Մելքոնյան'!J7+'Ա. Մելիքսեթյան'!J7+'Գ. Գասպարյան'!J7+Ա.Ղուկասյան!J7+'Ա. Մարտիրոսյան'!J7+'Տ. Ոսկանյան'!J7+'Ռ. Սմբատյան'!J7+'Ա. Ասատրյան'!J7+'Մ. Արամյան'!J7+'Մ. Արզումանյան'!J7+Ա.Մուշեղյան!J7) -> 0 | K7: =SUM(Ա.Արզումանյան!K7+Հ.Ավագյան!K7+Ա.Վարոսյան!K7+Ա.Հարությունյան!K7+Ն.Գալստյան!K7+Ա.Դունամալյան!K7+Մ.Գևորգյան!K7+Դ.Ղուկեյան!K7+Գ.Շահբազյան!K7+Գ.Մարգարյան!K7+Ա.Անտոնյան!K7+'Ա. Մուշեղյան '!K7+'Վ. Մարգարյան'!K7+'Ա. Գաբրիելյան'!K7+'Ա. Դանիբեկյան'!K7+'Ն. Բաղդասարյան'!K7+'Դ. Հարությունյան'!K7+'Ա. Հովհաննիսյան'!K7+'Հ. Մանուկյան'!K7+'Վ. Մելիքյան'!K7+'Վ. Միսակյան'!K7+'Մ. Շահվերդյան'!K7+'Վ. Լ. Գրիգորյան'!K7+'Մ. Մելքոնյան'!K7+'Ա. Մելիքսեթյան'!K7+'Գ. Գասպարյան'!K7+Ա.Ղուկասյան!K7+'Ա. Մարտիրոսյան'!K7+'Տ. Ոսկանյան'!K7+'Ռ. Սմբատյան'!K7+'Ա. Ասատրյան'!K7+'Մ. Արամյան'!K7+'Մ. Արզումանյան'!K7+Ա.Մուշեղյան!K7) -> 2 | ... T7: =SUM(Ա.Արզումանյան!T7+Հ.Ավագյան!T7+Ա.Վարոսյան!T7+Ա.Հարությունյան!T7+Ն.Գալստյան!T7+Ա.Դունամալյան!T7+Մ.Գևորգյան!T7+Դ.Ղուկեյան!T7+Գ.Շահբազյան!T7+Գ.Մարգարյան!T7+Ա.Անտոնյան!T7+'Ա. Մուշեղյան '!T7+'Վ. Մարգարյան'!T7+'Ա. Գաբրիելյան'!T7+'Ա. Դանիբեկյան'!T7+'Ն. Բաղդասարյան'!T7+'Դ. Հարությունյան'!T7+'Ա. Հովհաննիսյան'!T7+'Հ. Մանուկյան'!T7+'Վ. Մելիքյան'!T7+'Վ. Միսակյան'!T7+'Մ. Շահվերդյան'!T7+'Վ. Լ. Գրիգորյան'!T7+'Մ. Մելքոնյան'!T7+'Ա. Մելիքսեթյան'!T7+'Գ. Գասպարյան'!T7+Ա.Ղուկասյան!T7+'Ա. Մարտիրոսյան'!T7+'Տ. Ոսկանյան'!T7+'Ռ. Սմբատյան'!T7+'Ա. Ասատրյան'!T7+'Մ. Արամյան'!T7+'Մ. Արզումանյան'!T7+Ա.Մուշեղյան!T7) -> 11 | U7: =SUM(Ա.Արզումանյան!#REF!+Հ.Ավագյան!#REF!+Ա.Վարոսյան!#REF!+Ա.Հարությունյան!#REF!+Ն.Գալստյան!#REF!+Ա.Դունամալյան!#REF!+Մ.Գևորգյան!#REF!+Դ.Ղուկեյան!#REF!+Գ.Շահբազյան!#REF!+Գ.Մարգարյան!#REF!+Ա.Անտոնյան!#REF!+'Ա. Մուշեղյան '!#REF!+'Վ. Մարգարյան'!U7+'Ա. Գաբրիելյան'!U7+'Ա. Դանիբեկյան'!U7+'Ն. Բաղդասարյան'!U7+'Դ. Հարությունյան'!U7+'Ա. Հովհաննիսյան'!U7+'Հ. Մանուկյան'!U7+'Վ. Մելիքյան'!U7+'Վ. Միսակյան'!U7+'Մ. Շահվերդյան'!U7+'Վ. Լ. Գրիգորյան'!U7+'Մ. Մելքոնյան'!U7+'Ա. Մելիքսեթյան'!U7+'Գ. Գասպարյան'!U7+Ա.Ղուկասյան!U7+'Ա. Մարտիրոսյան'!U7+'Տ. Ոսկանյան'!U7+'Ռ. Սմբատյան'!U7+'Ա. Ասատրյան'!U7+'Մ. Արամյան'!U7+'Մ. Արզումանյան'!U7+Ա.Մուշեղյան!U7) -> #REF! | V7: =SUM(Ա.Արզումանյան!#REF!+Հ.Ավագյան!#REF!+Ա.Վարոսյան!#REF!+Ա.Հարությունյան!#REF!+Ն.Գալստյան!#REF!+Ա.Դունամալյան!#REF!+Մ.Գևորգյան!#REF!+Դ.Ղուկեյան!#REF!+Գ.Շահբազյան!#REF!+Գ.Մարգարյան!#REF!+Ա.Անտոնյան!#REF!+'Ա. Մուշեղյան '!#REF!+'Վ. Մարգարյան'!V7+'Ա. Գաբրիելյան'!V7+'Ա. Դանիբեկյան'!V7+'Ն. Բաղդասարյան'!V7+'Դ. Հարությունյան'!V7+'Ա. Հովհաննիսյան'!V7+'Հ. Մանուկյան'!V7+'Վ. Մելիքյան'!V7+'Վ. Միսակյան'!V7+'Մ. Շահվերդյան'!V7+'Վ. Լ. Գրիգորյան'!V7+'Մ. Մելքոնյան'!V7+'Ա. Մելիքսեթյան'!V7+'Գ. Գասպարյան'!V7+Ա.Ղուկասյան!V7+'Ա. Մարտիրոսյան'!V7+'Տ. Ոսկանյան'!V7+'Ռ. Սմբատյան'!V7+'Ա. Ասատրյան'!V7+'Մ. Արամյան'!V7+'Մ. Արզումանյան'!V7+Ա.Մուշեղյան!V7) -> #REF! | W7: =SUM(Ա.Արզումանյան!#REF!+Հ.Ավագյան!#REF!+Ա.Վարոսյան!#REF!+Ա.Հարությունյան!#REF!+Ն.Գալստյան!#REF!+Ա.Դունամալյան!#REF!+Մ.Գևորգյան!#REF!+Դ.Ղուկեյան!#REF!+Գ.Շահբազյան!#REF!+Գ.Մարգարյան!#REF!+Ա.Անտոնյան!#REF!+'Ա. Մուշեղյան '!#REF!+'Վ. Մարգարյան'!W7+'Ա. Գաբրիելյան'!W7+'Ա. Դանիբեկյան'!W7+'Ն. Բաղդասարյան'!W7+'Դ. Հարությունյան'!W7+'Ա. Հովհաննիսյան'!W7+'Հ. Մանուկյան'!W7+'Վ. Մելիքյան'!W7+'Վ. Միսակյան'!W7+'Մ. Շահվերդյան'!W7+'Վ. Լ. Գրիգորյան'!W7+'Մ. Մելքոնյան'!W7+'Ա. Մելիքսեթյան'!W7+'Գ. Գասպարյան'!W7+Ա.Ղուկասյան!W7+'Ա. Մարտիրոսյան'!W7+'Տ. Ոսկանյան'!W7+'Ռ. Սմբատյան'!W7+'Ա. Ասատրյան'!W7+'Մ. Արամյան'!W7+'Մ. Արզումանյան'!W7+Ա.Մուշեղյան!W7) -> #REF! | X7: =SUM(Ա.Արզումանյան!#REF!+Հ.Ավագյան!#REF!+Ա.Վարոսյան!#REF!+Ա.Հարությունյան!#REF!+Ն.Գալստյան!#REF!+Ա.Դունամալյան!#REF!+Մ.Գևորգյան!#REF!+Դ.Ղուկեյան!#REF!+Գ.Շահբազյան!#REF!+Գ.Մարգարյան!#REF!+Ա.Անտոնյան!#REF!+'Ա. Մուշեղյան '!#REF!+'Վ. Մարգարյան'!X7+'Ա. Գաբրիելյան'!X7+'Ա. Դանիբեկյան'!X7+'Ն. Բաղդասարյան'!X7+'Դ. Հարությունյան'!X7+'Ա. Հովհաննիսյան'!X7+'Հ. Մանուկյան'!X7+'Վ. Մելիքյան'!X7+'Վ. Միսակյան'!X7+'Մ. Շահվերդյան'!X7+'Վ. Լ. Գրիգորյան'!X7+'Մ. Մելքոնյան'!X7+'Ա. Մելիքսեթյան'!X7+'Գ. Գասպարյան'!X7+Ա.Ղուկասյան!X7+'Ա. Մարտիրոսյան'!X7+'Տ. Ոսկանյան'!X7+'Ռ. Սմբատյան'!X7+'Ա. Ասատրյան'!X7+'Մ. Արամյան'!X7+'Մ. Արզումանյան'!X7+Ա.Մուշեղյան!X7) -> #REF! | Y7: =SUM(Ա.Արզումանյան!#REF!+Հ.Ավագյան!#REF!+Ա.Վարոսյան!#REF!+Ա.Հարությունյան!#REF!+Ն.Գալստյան!#REF!+Ա.Դունամալյան!#REF!+Մ.Գևորգյան!#REF!+Դ.Ղուկեյան!#REF!+Գ.Շահբազյան!#REF!+Գ.Մարգարյան!#REF!+Ա.Անտոնյան!#REF!+'Ա. Մուշեղյան '!#REF!+'Վ. Մարգարյան'!Y7+'Ա. Գաբրիելյան'!Y7+'Ա. Դանիբեկյան'!Y7+'Ն. Բաղդասարյան'!Y7+'Դ. Հարությունյան'!Y7+'Ա. Հովհաննիսյան'!Y7+'Հ. Մանուկյան'!Y7+'Վ. Մելիքյան'!Y7+'Վ. Միսակյան'!Y7+'Մ. Շահվերդյան'!Y7+'Վ. Լ. Գրիգորյան'!Y7+'Մ. Մելքոնյան'!Y7+'Ա. Մելիքսեթյան'!Y7+'Գ. Գասպարյան'!Y7+Ա.Ղուկասյան!Y7+'Ա. Մարտիրոսյան'!Y7+'Տ. Ոսկանյան'!Y7+'Ռ. Սմբատյան'!Y7+'Ա. Ասատրյան'!Y7+'Մ. Արամյան'!Y7+'Մ. Արզումանյան'!Y7+Ա.Մուշեղյան!Y7) -> #REF! | Z7: =SUM(Ա.Արզումանյան!#REF!+Հ.Ավագյան!#REF!+Ա.Վարոսյան!#REF!+Ա.Հարությունյան!#REF!+Ն.Գալստյան!#REF!+Ա.Դունամալյան!#REF!+Մ.Գևորգյան!#REF!+Դ.Ղուկեյան!#REF!+Գ.Շահբազյան!#REF!+Գ.Մարգարյան!#REF!+Ա.Անտոնյան!#REF!+'Ա. Մուշեղյան '!#REF!+'Վ. Մարգարյան'!Z7+'Ա. Գաբրիելյան'!Z7+'Ա. Դանիբեկյան'!Z7+'Ն. Բաղդասարյան'!Z7+'Դ. Հարությունյան'!Z7+'Ա. Հովհաննիսյան'!Z7+'Հ. Մանուկյան'!Z7+'Վ. Մելիքյան'!Z7+'Վ. Միսակյան'!Z7+'Մ. Շահվերդյան'!Z7+'Վ. Լ. Գրիգորյան'!Z7+'Մ. Մելքոնյան'!Z7+'Ա. Մելիքսեթյան'!Z7+'Գ. Գասպարյան'!Z7+Ա.Ղուկասյան!Z7+'Ա. Մարտիրոսյան'!Z7+'Տ. Ոսկանյան'!Z7+'Ռ. Սմբատյան'!Z7+'Ա. Ասատրյան'!Z7+'Մ. Արամյան'!Z7+'Մ. Արզումանյան'!Z7+Ա.Մուշեղյան!Z7) -> #REF! | AA7: =SUM(Ա.Արզումանյան!#REF!+Հ.Ավագյան!#REF!+Ա.Վարոսյան!#REF!+Ա.Հարությունյան!#REF!+Ն.Գալստյան!#REF!+Ա.Դունամալյան!#REF!+Մ.Գևորգյան!#REF!+Դ.Ղուկեյան!#REF!+Գ.Շահբազյան!#REF!+Գ.Մարգարյան!#REF!+Ա.Անտոնյան!#REF!+'Ա. Մուշեղյան '!#REF!+'Վ. Մարգարյան'!AA7+'Ա. Գաբրիելյան'!AA7+'Ա. Դանիբեկյան'!AA7+'Ն. Բաղդասարյան'!AA7+'Դ. Հարությունյան'!AA7+'Ա. Հովհաննիսյան'!AA7+'Հ. Մանուկյան'!AA7+'Վ. Մելիքյան'!AA7+'Վ. Միսակյան'!AA7+'Մ. Շահվերդյան'!AA7+'Վ. Լ. Գրիգորյան'!AA7+'Մ. Մելքոնյան'!AA7+'Ա. Մելիքսեթյան'!AA7+'Գ. Գասպարյան'!AA7+Ա.Ղուկասյան!AA7+'Ա. Մարտիրոսյան'!AA7+'Տ. Ոսկանյան'!AA7+'Ռ. Սմբատյան'!AA7+'Ա. Ասատրյան'!AA7+'Մ. Արամյան'!AA7+'Մ. Արզումանյան'!AA7+Ա.Մուշեղյան!AA7) -> #REF! | AB7: =SUM(Ա.Արզումանյան!#REF!+Հ.Ավագյան!#REF!+Ա.Վարոսյան!#REF!+Ա.Հարությունյան!#REF!+Ն.Գալստյան!#REF!+Ա.Դունամալյան!#REF!+Մ.Գևորգյան!#REF!+Դ.Ղուկեյան!#REF!+Գ.Շահբազյան!#REF!+Գ.Մարգարյան!#REF!+Ա.Անտոնյան!#REF!+'Ա. Մուշեղյան '!#REF!+'Վ. Մարգարյան'!AB7+'Ա. Գաբրիելյան'!AB7+'Ա. Դանիբեկյան'!AB7+'Ն. Բաղդասարյան'!AB7+'Դ. Հարությունյան'!AB7+'Ա. Հովհաննիսյան'!AB7+'Հ. Մանուկյան'!AB7+'Վ. Մելիքյան'!AB7+'Վ. Միսակյան'!AB7+'Մ. Շահվերդյան'!AB7+'Վ. Լ. Գրիգորյան'!AB7+'Մ. Մելքոնյան'!AB7+'Ա. Մելիքսեթյան'!AB7+'Գ. Գասպարյան'!AB7+Ա.Ղուկասյան!AB7+'Ա. Մարտիրոսյան'!AB7+'Տ. Ոսկանյան'!AB7+'Ռ. Սմբատյան'!AB7+'Ա. Ասատրյան'!AB7+'Մ. Արամյան'!AB7+'Մ. Արզումանյան'!AB7+Ա.Մուշեղյան!AB7) -> #REF!
A8: 2 | B8: կալանքի ժամկետը երկարաձգելու մասին միջնորդություններ | D8: =SUM(Ա.Արզումանյան!D8+Հ.Ավագյան!D8+Ա.Վարոսյան!D8+Ա.Հարությունյան!D8+Ն.Գալստյան!D8+Ա.Դունամալյան!D8+Մ.Գևորգյան!D8+Դ.Ղուկեյան!D8+Գ.Շահբազյան!D8+Գ.Մարգարյան!D8+Ա.Անտոնյան!D8+'Ա. Մուշեղյան '!D8+'Վ. Մարգարյան'!D8+'Ա. Գաբրիելյան'!D8+'Ա. Դանիբեկյան'!D8+'Ն. Բաղդասարյան'!D8+'Դ. Հարությունյան'!D8+'Ա. Հովհաննիսյան'!D8+'Հ. Մանուկյան'!D8+'Վ. Մելիքյան'!D8+'Վ. Միսակյան'!D8+'Մ. Շահվերդյան'!D8+'Վ. Լ. Գրիգորյան'!D8+'Մ. Մելքոնյան'!D8+'Ա. Մելիքսեթյան'!D8+'Գ. Գասպարյան'!D8+Ա.Ղուկասյան!D8+'Ա. Մարտիրոսյան'!D8+'Տ. Ոսկանյան'!D8+'Ռ. Սմբատյան'!D8+'Ա. Ասատրյան'!D8+'Մ. Արամյան'!D8+'Մ. Արզումանյան'!D8+Ա.Մուշեղյան!D8) -> 0 | E8: =SUM(Ա.Արզումանյան!E8+Հ.Ավագյան!E8+Ա.Վարոսյան!E8+Ա.Հարությունյան!E8+Ն.Գալստյան!E8+Ա.Դունամալյան!E8+Մ.Գևորգյան!E8+Դ.Ղուկեյան!E8+Գ.Շահբազյան!E8+Գ.Մարգարյան!E8+Ա.Անտոնյան!E8+'Ա. Մուշեղյան '!E8+'Վ. Մարգարյան'!E8+'Ա. Գաբրիելյան'!E8+'Ա. Դանիբեկյան'!E8+'Ն. Բաղդասարյան'!E8+'Դ. Հարությունյան'!E8+'Ա. Հովհաննիսյան'!E8+'Հ. Մանուկյան'!E8+'Վ. Մելիքյան'!E8+'Վ. Միսակյան'!E8+'Մ. Շահվերդյան'!E8+'Վ. Լ. Գրիգորյան'!E8+'Մ. Մելքոնյան'!E8+'Ա. Մելիքսեթյան'!E8+'Գ. Գասպարյան'!E8+Ա.Ղուկասյան!E8+'Ա. Մարտիրոսյան'!E8+'Տ. Ոսկանյան'!E8+'Ռ. Սմբատյան'!E8+'Ա. Ասատրյան'!E8+'Մ. Արամյան'!E8+'Մ. Արզումանյան'!E8+Ա.Մուշեղյան!E8) -> 28 | F8: =SUM(Ա.Արզումանյան!F8+Հ.Ավագյան!F8+Ա.Վարոսյան!F8+Ա.Հարությունյան!F8+Ն.Գալստյան!F8+Ա.Դունամալյան!F8+Մ.Գևորգյան!F8+Դ.Ղուկեյան!F8+Գ.Շահբազյան!F8+Գ.Մարգարյան!F8+Ա.Անտոնյան!F8+'Ա. Մուշեղյան '!F8+'Վ. Մարգարյան'!F8+'Ա. Գաբրիելյան'!F8+'Ա. Դանիբեկյան'!F8+'Ն. Բաղդասարյան'!F8+'Դ. Հարությունյան'!F8+'Ա. Հովհաննիսյան'!F8+'Հ. Մանուկյան'!F8+'Վ. Մելիքյան'!F8+'Վ. Միսակյան'!F8+'Մ. Շահվերդյան'!F8+'Վ. Լ. Գրիգորյան'!F8+'Մ. Մելքոնյան'!F8+'Ա. Մելիքսեթյան'!F8+'Գ. Գասպարյան'!F8+Ա.Ղուկասյան!F8+'Ա. Մարտիրոսյան'!F8+'Տ. Ոսկանյան'!F8+'Ռ. Սմբատյան'!F8+'Ա. Ասատրյան'!F8+'Մ. Արամյան'!F8+'Մ. Արզումանյան'!F8+Ա.Մուշեղյան!F8) -> 0 | G8: =SUM(Ա.Արզումանյան!G8+Հ.Ավագյան!G8+Ա.Վարոսյան!G8+Ա.Հարությունյան!G8+Ն.Գալստյան!G8+Ա.Դունամալյան!G8+Մ.Գևորգյան!G8+Դ.Ղուկեյան!G8+Գ.Շահբազյան!G8+Գ.Մարգարյան!G8+Ա.Անտոնյան!G8+'Ա. Մուշեղյան '!G8+'Վ. Մարգարյան'!G8+'Ա. Գաբրիելյան'!G8+'Ա. Դանիբեկյան'!G8+'Ն. Բաղդասարյան'!G8+'Դ. Հարությունյան'!G8+'Ա. Հովհաննիսյան'!G8+'Հ. Մանուկյան'!G8+'Վ. Մելիքյան'!G8+'Վ. Միսակյան'!G8+'Մ. Շահվերդյան'!G8+'Վ. Լ. Գրիգորյան'!G8+'Մ. Մելքոնյան'!G8+'Ա. Մելիքսեթյան'!G8+'Գ. Գասպարյան'!G8+Ա.Ղուկասյան!G8+'Ա. Մարտիրոսյան'!G8+'Տ. Ոսկանյան'!G8+'Ռ. Սմբատյան'!G8+'Ա. Ասատրյան'!G8+'Մ. Արամյան'!G8+'Մ. Արզումանյան'!G8+Ա.Մուշեղյան!G8) -> 5 | H8: =SUM(Ա.Արզումանյան!H8+Հ.Ավագյան!H8+Ա.Վարոսյան!H8+Ա.Հարությունյան!H8+Ն.Գալստյան!H8+Ա.Դունամալյան!H8+Մ.Գևորգյան!H8+Դ.Ղուկեյան!H8+Գ.Շահբազյան!H8+Գ.Մարգարյան!H8+Ա.Անտոնյան!H8+'Ա. Մուշեղյան '!H8+'Վ. Մարգարյան'!H8+'Ա. Գաբրիելյան'!H8+'Ա. Դանիբեկյան'!H8+'Ն. Բաղդասարյան'!H8+'Դ. Հարությունյան'!H8+'Ա. Հովհաննիսյան'!H8+'Հ. Մանուկյան'!H8+'Վ. Մելիքյան'!H8+'Վ. Միսակյան'!H8+'Մ. Շահվերդյան'!H8+'Վ. Լ. Գրիգորյան'!H8+'Մ. Մելքոնյան'!H8+'Ա. Մելիքսեթյան'!H8+'Գ. Գասպարյան'!H8+Ա.Ղուկասյան!H8+'Ա. Մարտիրոսյան'!H8+'Տ. Ոսկանյան'!H8+'Ռ. Սմբատյան'!H8+'Ա. Ասատրյան'!H8+'Մ. Արամյան'!H8+'Մ. Արզումանյան'!H8+Ա.Մուշեղյան!H8) -> 20 | I8: =SUM(Ա.Արզումանյան!I8+Հ.Ավագյան!I8+Ա.Վարոսյան!I8+Ա.Հարությունյան!I8+Ն.Գալստյան!I8+Ա.Դունամալյան!I8+Մ.Գևորգյան!I8+Դ.Ղուկեյան!I8+Գ.Շահբազյան!I8+Գ.Մարգարյան!I8+Ա.Անտոնյան!I8+'Ա. Մուշեղյան '!I8+'Վ. Մարգարյան'!I8+'Ա. Գաբրիելյան'!I8+'Ա. Դանիբեկյան'!I8+'Ն. Բաղդասարյան'!I8+'Դ. Հարությունյան'!I8+'Ա. Հովհաննիսյան'!I8+'Հ. Մանուկյան'!I8+'Վ. Մելիքյան'!I8+'Վ. Միսակյան'!I8+'Մ. Շահվերդյան'!I8+'Վ. Լ. Գրիգորյան'!I8+'Մ. Մելքոնյան'!I8+'Ա. Մելիքսեթյան'!I8+'Գ. Գասպարյան'!I8+Ա.Ղուկասյան!I8+'Ա. Մարտիրոսյան'!I8+'Տ. Ոսկանյան'!I8+'Ռ. Սմբատյան'!I8+'Ա. Ասատրյան'!I8+'Մ. Արամյան'!I8+'Մ. Արզումանյան'!I8+Ա.Մուշեղյան!I8) -> 2 | J8: =SUM(Ա.Արզումանյան!J8+Հ.Ավագյան!J8+Ա.Վարոսյան!J8+Ա.Հարությունյան!J8+Ն.Գալստյան!J8+Ա.Դունամալյան!J8+Մ.Գևորգյան!J8+Դ.Ղուկեյան!J8+Գ.Շահբազյան!J8+Գ.Մարգարյան!J8+Ա.Անտոնյան!J8+'Ա. Մուշեղյան '!J8+'Վ. Մարգարյան'!J8+'Ա. Գաբրիելյան'!J8+'Ա. Դանիբեկյան'!J8+'Ն. Բաղդասարյան'!J8+'Դ. Հարությունյան'!J8+'Ա. Հովհաննիսյան'!J8+'Հ. Մանուկյան'!J8+'Վ. Մելիքյան'!J8+'Վ. Միսակյան'!J8+'Մ. Շահվերդյան'!J8+'Վ. Լ. Գրիգորյան'!J8+'Մ. Մելքոնյան'!J8+'Ա. Մելիքսեթյան'!J8+'Գ. Գասպարյան'!J8+Ա.Ղուկասյան!J8+'Ա. Մարտիրոսյան'!J8+'Տ. Ոսկանյան'!J8+'Ռ. Սմբատյան'!J8+'Ա. Ասատրյան'!J8+'Մ. Արամյան'!J8+'Մ. Արզումանյան'!J8+Ա.Մուշեղյան!J8) -> 0 | K8: =SUM(Ա.Արզումանյան!K8+Հ.Ավագյան!K8+Ա.Վարոսյան!K8+Ա.Հարությունյան!K8+Ն.Գալստյան!K8+Ա.Դունամալյան!K8+Մ.Գևորգյան!K8+Դ.Ղուկեյան!K8+Գ.Շահբազյան!K8+Գ.Մարգարյան!K8+Ա.Անտոնյան!K8+'Ա. Մուշեղյան '!K8+'Վ. Մարգարյան'!K8+'Ա. Գաբրիելյան'!K8+'Ա. Դանիբեկյան'!K8+'Ն. Բաղդասարյան'!K8+'Դ. Հարությունյան'!K8+'Ա. Հովհաննիսյան'!K8+'Հ. Մանուկյան'!K8+'Վ. Մելիքյան'!K8+'Վ. Միսակյան'!K8+'Մ. Շահվերդյան'!K8+'Վ. Լ. Գրիգորյան'!K8+'Մ. Մելքոնյան'!K8+'Ա. Մելիքսեթյան'!K8+'Գ. Գասպարյան'!K8+Ա.Ղուկասյան!K8+'Ա. Մարտիրոսյան'!K8+'Տ. Ոսկանյան'!K8+'Ռ. Սմբատյան'!K8+'Ա. Ասատրյան'!K8+'Մ. Արամյան'!K8+'Մ. Արզումանյան'!K8+Ա.Մուշեղյան!K8) -> 0 | ... T8: =SUM(Ա.Արզումանյան!T8+Հ.Ավագյան!T8+Ա.Վարոսյան!T8+Ա.Հարությունյան!T8+Ն.Գալստյան!T8+Ա.Դունամալյան!T8+Մ.Գևորգյան!T8+Դ.Ղուկեյան!T8+Գ.Շահբազյան!T8+Գ.Մարգարյան!T8+Ա.Անտոնյան!T8+'Ա. Մուշեղյան '!T8+'Վ. Մարգարյան'!T8+'Ա. Գաբրիելյան'!T8+'Ա. Դանիբեկյան'!T8+'Ն. Բաղդասարյան'!T8+'Դ. Հարությունյան'!T8+'Ա. Հովհաննիսյան'!T8+'Հ. Մանուկյան'!T8+'Վ. Մելիքյան'!T8+'Վ. Միսակյան'!T8+'Մ. Շահվերդյան'!T8+'Վ. Լ. Գրիգորյան'!T8+'Մ. Մելքոնյան'!T8+'Ա. Մելիքսեթյան'!T8+'Գ. Գասպարյան'!T8+Ա.Ղուկասյան!T8+'Ա. Մարտիրոսյան'!T8+'Տ. Ոսկանյան'!T8+'Ռ. Սմբատյան'!T8+'Ա. Ասատրյան'!T8+'Մ. Արամյան'!T8+'Մ. Արզումանյան'!T8+Ա.Մուշեղյան!T8) -> 7 | U8: =SUM(Ա.Արզումանյան!#REF!+Հ.Ավագյան!#REF!+Ա.Վարոսյան!#REF!+Ա.Հարությունյան!#REF!+Ն.Գալստյան!#REF!+Ա.Դունամալյան!#REF!+Մ.Գևորգյան!#REF!+Դ.Ղուկեյան!#REF!+Գ.Շահբազյան!#REF!+Գ.Մարգարյան!#REF!+Ա.Անտոնյան!#REF!+'Ա. Մուշեղյան '!#REF!+'Վ. Մարգարյան'!U8+'Ա. Գաբրիելյան'!U8+'Ա. Դանիբեկյան'!U8+'Ն. Բաղդասարյան'!U8+'Դ. Հարությունյան'!U8+'Ա. Հովհաննիսյան'!U8+'Հ. Մանուկյան'!U8+'Վ. Մելիքյան'!U8+'Վ. Միսակյան'!U8+'Մ. Շահվերդյան'!U8+'Վ. Լ. Գրիգորյան'!U8+'Մ. Մելքոնյան'!U8+'Ա. Մելիքսեթյան'!U8+'Գ. Գասպարյան'!U8+Ա.Ղուկասյան!U8+'Ա. Մարտիրոսյան'!U8+'Տ. Ոսկանյան'!U8+'Ռ. Սմբատյան'!U8+'Ա. Ասատրյան'!U8+'Մ. Արամյան'!U8+'Մ. Արզումանյան'!U8+Ա.Մուշեղյան!U8) -> #REF! | V8: =SUM(Ա.Արզումանյան!#REF!+Հ.Ավագյան!#REF!+Ա.Վարոսյան!#REF!+Ա.Հարությունյան!#REF!+Ն.Գալստյան!#REF!+Ա.Դունամալյան!#REF!+Մ.Գևորգյան!#REF!+Դ.Ղուկեյան!#REF!+Գ.Շահբազյան!#REF!+Գ.Մարգարյան!#REF!+Ա.Անտոնյան!#REF!+'Ա. Մուշեղյան '!#REF!+'Վ. Մարգարյան'!V8+'Ա. Գաբրիելյան'!V8+'Ա. Դանիբեկյան'!V8+'Ն. Բաղդասարյան'!V8+'Դ. Հարությունյան'!V8+'Ա. Հովհաննիսյան'!V8+'Հ. Մանուկյան'!V8+'Վ. Մելիքյան'!V8+'Վ. Միսակյան'!V8+'Մ. Շահվերդյան'!V8+'Վ. Լ. Գրիգորյան'!V8+'Մ. Մելքոնյան'!V8+'Ա. Մելիքսեթյան'!V8+'Գ. Գասպարյան'!V8+Ա.Ղուկասյան!V8+'Ա. Մարտիրոսյան'!V8+'Տ. Ոսկանյան'!V8+'Ռ. Սմբատյան'!V8+'Ա. Ասատրյան'!V8+'Մ. Արամյան'!V8+'Մ. Արզումանյան'!V8+Ա.Մուշեղյան!V8) -> #REF! | W8: =SUM(Ա.Արզումանյան!#REF!+Հ.Ավագյան!#REF!+Ա.Վարոսյան!#REF!+Ա.Հարությունյան!#REF!+Ն.Գալստյան!#REF!+Ա.Դունամալյան!#REF!+Մ.Գևորգյան!#REF!+Դ.Ղուկեյան!#REF!+Գ.Շահբազյան!#REF!+Գ.Մարգարյան!#REF!+Ա.Անտոնյան!#REF!+'Ա. Մուշեղյան '!#REF!+'Վ. Մարգարյան'!W8+'Ա. Գաբրիելյան'!W8+'Ա. Դանիբեկյան'!W8+'Ն. Բաղդասարյան'!W8+'Դ. Հարությունյան'!W8+'Ա. Հովհաննիսյան'!W8+'Հ. Մանուկյան'!W8+'Վ. Մելիքյան'!W8+'Վ. Միսակյան'!W8+'Մ. Շահվերդյան'!W8+'Վ. Լ. Գրիգորյան'!W8+'Մ. Մելքոնյան'!W8+'Ա. Մելիքսեթյան'!W8+'Գ. Գասպարյան'!W8+Ա.Ղուկասյան!W8+'Ա. Մարտիրոսյան'!W8+'Տ. Ոսկանյան'!W8+'Ռ. Սմբատյան'!W8+'Ա. Ասատրյան'!W8+'Մ. Արամյան'!W8+'Մ. Արզումանյան'!W8+Ա.Մուշեղյան!W8) -> #REF! | X8: =SUM(Ա.Արզումանյան!#REF!+Հ.Ավագյան!#REF!+Ա.Վարոսյան!#REF!+Ա.Հարությունյան!#REF!+Ն.Գալստյան!#REF!+Ա.Դունամալյան!#REF!+Մ.Գևորգյան!#REF!+Դ.Ղուկեյան!#REF!+Գ.Շահբազյան!#REF!+Գ.Մարգարյան!#REF!+Ա.Անտոնյան!#REF!+'Ա. Մուշեղյան '!#REF!+'Վ. Մարգարյան'!X8+'Ա. Գաբրիելյան'!X8+'Ա. Դանիբեկյան'!X8+'Ն. Բաղդասարյան'!X8+'Դ. Հարությունյան'!X8+'Ա. Հովհաննիսյան'!X8+'Հ. Մանուկյան'!X8+'Վ. Մելիքյան'!X8+'Վ. Միսակյան'!X8+'Մ. Շահվերդյան'!X8+'Վ. Լ. Գրիգորյան'!X8+'Մ. Մելքոնյան'!X8+'Ա. Մելիքսեթյան'!X8+'Գ. Գասպարյան'!X8+Ա.Ղուկասյան!X8+'Ա. Մարտիրոսյան'!X8+'Տ. Ոսկանյան'!X8+'Ռ. Սմբատյան'!X8+'Ա. Ասատրյան'!X8+'Մ. Արամյան'!X8+'Մ. Արզումանյան'!X8+Ա.Մուշեղյան!X8) -> #REF! | Y8: =SUM(Ա.Արզումանյան!#REF!+Հ.Ավագյան!#REF!+Ա.Վարոսյան!#REF!+Ա.Հարությունյան!#REF!+Ն.Գալստյան!#REF!+Ա.Դունամալյան!#REF!+Մ.Գևորգյան!#REF!+Դ.Ղուկեյան!#REF!+Գ.Շահբազյան!#REF!+Գ.Մարգարյան!#REF!+Ա.Անտոնյան!#REF!+'Ա. Մուշեղյան '!#REF!+'Վ. Մարգարյան'!Y8+'Ա. Գաբրիելյան'!Y8+'Ա. Դանիբեկյան'!Y8+'Ն. Բաղդասարյան'!Y8+'Դ. Հարությունյան'!Y8+'Ա. Հովհաննիսյան'!Y8+'Հ. Մանուկյան'!Y8+'Վ. Մելիքյան'!Y8+'Վ. Միսակյան'!Y8+'Մ. Շահվերդյան'!Y8+'Վ. Լ. Գրիգորյան'!Y8+'Մ. Մելքոնյան'!Y8+'Ա. Մելիքսեթյան'!Y8+'Գ. Գասպարյան'!Y8+Ա.Ղուկասյան!Y8+'Ա. Մարտիրոսյան'!Y8+'Տ. Ոսկանյան'!Y8+'Ռ. Սմբատյան'!Y8+'Ա. Ասատրյան'!Y8+'Մ. Արամյան'!Y8+'Մ. Արզումանյան'!Y8+Ա.Մուշեղյան!Y8) -> #REF! | Z8: =SUM(Ա.Արզումանյան!#REF!+Հ.Ավագյան!#REF!+Ա.Վարոսյան!#REF!+Ա.Հարությունյան!#REF!+Ն.Գալստյան!#REF!+Ա.Դունամալյան!#REF!+Մ.Գևորգյան!#REF!+Դ.Ղուկեյան!#REF!+Գ.Շահբազյան!#REF!+Գ.Մարգարյան!#REF!+Ա.Անտոնյան!#REF!+'Ա. Մուշեղյան '!#REF!+'Վ. Մարգարյան'!Z8+'Ա. Գաբրիելյան'!Z8+'Ա. Դանիբեկյան'!Z8+'Ն. Բաղդասարյան'!Z8+'Դ. Հարությունյան'!Z8+'Ա. Հովհաննիսյան'!Z8+'Հ. Մանուկյան'!Z8+'Վ. Մելիքյան'!Z8+'Վ. Միսակյան'!Z8+'Մ. Շահվերդյան'!Z8+'Վ. Լ. Գրիգորյան'!Z8+'Մ. Մելքոնյան'!Z8+'Ա. Մելիքսեթյան'!Z8+'Գ. Գասպարյան'!Z8+Ա.Ղուկասյան!Z8+'Ա. Մարտիրոսյան'!Z8+'Տ. Ոսկանյան'!Z8+'Ռ. Սմբատյան'!Z8+'Ա. Ասատրյան'!Z8+'Մ. Արամյան'!Z8+'Մ. Արզումանյան'!Z8+Ա.Մուշեղյան!Z8) -> #REF! | AA8: =SUM(Ա.Արզումանյան!#REF!+Հ.Ավագյան!#REF!+Ա.Վարոսյան!#REF!+Ա.Հարությունյան!#REF!+Ն.Գալստյան!#REF!+Ա.Դունամալյան!#REF!+Մ.Գևորգյան!#REF!+Դ.Ղուկեյան!#REF!+Գ.Շահբազյան!#REF!+Գ.Մարգարյան!#REF!+Ա.Անտոնյան!#REF!+'Ա. Մուշեղյան '!#REF!+'Վ. Մարգարյան'!AA8+'Ա. Գաբրիելյան'!AA8+'Ա. Դանիբեկյան'!AA8+'Ն. Բաղդասարյան'!AA8+'Դ. Հարությունյան'!AA8+'Ա. Հովհաննիսյան'!AA8+'Հ. Մանուկյան'!AA8+'Վ. Մելիքյան'!AA8+'Վ. Միսակյան'!AA8+'Մ. Շահվերդյան'!AA8+'Վ. Լ. Գրիգորյան'!AA8+'Մ. Մելքոնյան'!AA8+'Ա. Մելիքսեթյան'!AA8+'Գ. Գասպարյան'!AA8+Ա.Ղուկասյան!AA8+'Ա. Մարտիրոսյան'!AA8+'Տ. Ոսկանյան'!AA8+'Ռ. Սմբատյան'!AA8+'Ա. Ասատրյան'!AA8+'Մ. Արամյան'!AA8+'Մ. Արզումանյան'!AA8+Ա.Մուշեղյան!AA8) -> #REF! | AB8: =SUM(Ա.Արզումանյան!#REF!+Հ.Ավագյան!#REF!+Ա.Վարոսյան!#REF!+Ա.Հարությունյան!#REF!+Ն.Գալստյան!#REF!+Ա.Դունամալյան!#REF!+Մ.Գևորգյան!#REF!+Դ.Ղուկեյան!#REF!+Գ.Շահբազյան!#REF!+Գ.Մարգարյան!#REF!+Ա.Անտոնյան!#REF!+'Ա. Մուշեղյան '!#REF!+'Վ. Մարգարյան'!AB8+'Ա. Գաբրիելյան'!AB8+'Ա. Դանիբեկյան'!AB8+'Ն. Բաղդասարյան'!AB8+'Դ. Հարությունյան'!AB8+'Ա. Հովհաննիսյան'!AB8+'Հ. Մանուկյան'!AB8+'Վ. Մելիքյան'!AB8+'Վ. Միսակյան'!AB8+'Մ. Շահվերդյան'!AB8+'Վ. Լ. Գրիգորյան'!AB8+'Մ. Մելքոնյան'!AB8+'Ա. Մելիքսեթյան'!AB8+'Գ. Գասպարյան'!AB8+Ա.Ղուկասյան!AB8+'Ա. Մարտիրոսյան'!AB8+'Տ. Ոսկանյան'!AB8+'Ռ. Սմբատյան'!AB8+'Ա. Ասատրյան'!AB8+'Մ. Արամյան'!AB8+'Մ. Արզումանյան'!AB8+Ա.Մուշեղյան!AB8) -> #REF!
A9: 3 | B9: կալանքի վերահաստատման մասին միջնորդություններ | D9: =SUM(Ա.Արզումանյան!D9+Հ.Ավագյան!D9+Ա.Վարոսյան!D9+Ա.Հարությունյան!D9+Ն.Գալստյան!D9+Ա.Դունամալյան!D9+Մ.Գևորգյան!D9+Դ.Ղուկեյան!D9+Գ.Շահբազյան!D9+Գ.Մարգարյան!D9+Ա.Անտոնյան!D9+'Ա. Մուշեղյան '!D9+'Վ. Մարգարյան'!D9+'Ա. Գաբրիելյան'!D9+'Ա. Դանիբեկյան'!D9+'Ն. Բաղդասարյան'!D9+'Դ. Հարությունյան'!D9+'Ա. Հովհաննիսյան'!D9+'Հ. Մանուկյան'!D9+'Վ. Մելիքյան'!D9+'Վ. Միսակյան'!D9+'Մ. Շահվերդյան'!D9+'Վ. Լ. Գրիգորյան'!D9+'Մ. Մելքոնյան'!D9+'Ա. Մելիքսեթյան'!D9+'Գ. Գասպարյան'!D9+Ա.Ղուկասյան!D9+'Ա. Մարտիրոսյան'!D9+'Տ. Ոսկանյան'!D9+'Ռ. Սմբատյան'!D9+'Ա. Ասատրյան'!D9+'Մ. Արամյան'!D9+'Մ. Արզումանյան'!D9+Ա.Մուշեղյան!D9) -> 0 | E9: =SUM(Ա.Արզումանյան!E9+Հ.Ավագյան!E9+Ա.Վարոսյան!E9+Ա.Հարությունյան!E9+Ն.Գալստյան!E9+Ա.Դունամալյան!E9+Մ.Գևորգյան!E9+Դ.Ղուկեյան!E9+Գ.Շահբազյան!E9+Գ.Մարգարյան!E9+Ա.Անտոնյան!E9+'Ա. Մուշեղյան '!E9+'Վ. Մարգարյան'!E9+'Ա. Գաբրիելյան'!E9+'Ա. Դանիբեկյան'!E9+'Ն. Բաղդասարյան'!E9+'Դ. Հարությունյան'!E9+'Ա. Հովհաննիսյան'!E9+'Հ. Մանուկյան'!E9+'Վ. Մելիքյան'!E9+'Վ. Միսակյան'!E9+'Մ. Շահվերդյան'!E9+'Վ. Լ. Գրիգորյան'!E9+'Մ. Մելքոնյան'!E9+'Ա. Մելիքսեթյան'!E9+'Գ. Գասպարյան'!E9+Ա.Ղուկասյան!E9+'Ա. Մարտիրոսյան'!E9+'Տ. Ոսկանյան'!E9+'Ռ. Սմբատյան'!E9+'Ա. Ասատրյան'!E9+'Մ. Արամյան'!E9+'Մ. Արզումանյան'!E9+Ա.Մուշեղյան!E9) -> 4 | F9: =SUM(Ա.Արզումանյան!F9+Հ.Ավագյան!F9+Ա.Վարոսյան!F9+Ա.Հարությունյան!F9+Ն.Գալստյան!F9+Ա.Դունամալյան!F9+Մ.Գևորգյան!F9+Դ.Ղուկեյան!F9+Գ.Շահբազյան!F9+Գ.Մարգարյան!F9+Ա.Անտոնյան!F9+'Ա. Մուշեղյան '!F9+'Վ. Մարգարյան'!F9+'Ա. Գաբրիելյան'!F9+'Ա. Դանիբեկյան'!F9+'Ն. Բաղդասարյան'!F9+'Դ. Հարությունյան'!F9+'Ա. Հովհաննիսյան'!F9+'Հ. Մանուկյան'!F9+'Վ. Մելիքյան'!F9+'Վ. Միսակյան'!F9+'Մ. Շահվերդյան'!F9+'Վ. Լ. Գրիգորյան'!F9+'Մ. Մելքոնյան'!F9+'Ա. Մելիքսեթյան'!F9+'Գ. Գասպարյան'!F9+Ա.Ղուկասյան!F9+'Ա. Մարտիրոսյան'!F9+'Տ. Ոսկանյան'!F9+'Ռ. Սմբատյան'!F9+'Ա. Ասատրյան'!F9+'Մ. Արամյան'!F9+'Մ. Արզումանյան'!F9+Ա.Մուշեղյան!F9) -> 0 | G9: =SUM(Ա.Արզումանյան!G9+Հ.Ավագյան!G9+Ա.Վարոսյան!G9+Ա.Հարությունյան!G9+Ն.Գալստյան!G9+Ա.Դունամալյան!G9+Մ.Գևորգյան!G9+Դ.Ղուկեյան!G9+Գ.Շահբազյան!G9+Գ.Մարգարյան!G9+Ա.Անտոնյան!G9+'Ա. Մուշեղյան '!G9+'Վ. Մարգարյան'!G9+'Ա. Գաբրիելյան'!G9+'Ա. Դանիբեկյան'!G9+'Ն. Բաղդասարյան'!G9+'Դ. Հարությունյան'!G9+'Ա. Հովհաննիսյան'!G9+'Հ. Մանուկյան'!G9+'Վ. Մելիքյան'!G9+'Վ. Միսակյան'!G9+'Մ. Շահվերդյան'!G9+'Վ. Լ. Գրիգորյան'!G9+'Մ. Մելքոնյան'!G9+'Ա. Մելիքսեթյան'!G9+'Գ. Գասպարյան'!G9+Ա.Ղուկասյան!G9+'Ա. Մարտիրոսյան'!G9+'Տ. Ոսկանյան'!G9+'Ռ. Սմբատյան'!G9+'Ա. Ասատրյան'!G9+'Մ. Արամյան'!G9+'Մ. Արզումանյան'!G9+Ա.Մուշեղյան!G9) -> 0 | H9: =SUM(Ա.Արզումանյան!H9+Հ.Ավագյան!H9+Ա.Վարոսյան!H9+Ա.Հարությունյան!H9+Ն.Գալստյան!H9+Ա.Դունամալյան!H9+Մ.Գևորգյան!H9+Դ.Ղուկեյան!H9+Գ.Շահբազյան!H9+Գ.Մարգարյան!H9+Ա.Անտոնյան!H9+'Ա. Մուշեղյան '!H9+'Վ. Մարգարյան'!H9+'Ա. Գաբրիելյան'!H9+'Ա. Դանիբեկյան'!H9+'Ն. Բաղդասարյան'!H9+'Դ. Հարությունյան'!H9+'Ա. Հովհաննիսյան'!H9+'Հ. Մանուկյան'!H9+'Վ. Մելիքյան'!H9+'Վ. Միսակյան'!H9+'Մ. Շահվերդյան'!H9+'Վ. Լ. Գրիգորյան'!H9+'Մ. Մելքոնյան'!H9+'Ա. Մելիքսեթյան'!H9+'Գ. Գասպարյան'!H9+Ա.Ղուկասյան!H9+'Ա. Մարտիրոսյան'!H9+'Տ. Ոսկանյան'!H9+'Ռ. Սմբատյան'!H9+'Ա. Ասատրյան'!H9+'Մ. Արամյան'!H9+'Մ. Արզումանյան'!H9+Ա.Մուշեղյան!H9) -> 3 | I9: =SUM(Ա.Արզումանյան!I9+Հ.Ավագյան!I9+Ա.Վարոսյան!I9+Ա.Հարությունյան!I9+Ն.Գալստյան!I9+Ա.Դունամալյան!I9+Մ.Գևորգյան!I9+Դ.Ղուկեյան!I9+Գ.Շահբազյան!I9+Գ.Մարգարյան!I9+Ա.Անտոնյան!I9+'Ա. Մուշեղյան '!I9+'Վ. Մարգարյան'!I9+'Ա. Գաբրիելյան'!I9+'Ա. Դանիբեկյան'!I9+'Ն. Բաղդասարյան'!I9+'Դ. Հարությունյան'!I9+'Ա. Հովհաննիսյան'!I9+'Հ. Մանուկյան'!I9+'Վ. Մելիքյան'!I9+'Վ. Միսակյան'!I9+'Մ. Շահվերդյան'!I9+'Վ. Լ. Գրիգորյան'!I9+'Մ. Մելքոնյան'!I9+'Ա. Մելիքսեթյան'!I9+'Գ. Գասպարյան'!I9+Ա.Ղուկասյան!I9+'Ա. Մարտիրոսյան'!I9+'Տ. Ոսկանյան'!I9+'Ռ. Սմբատյան'!I9+'Ա. Ասատրյան'!I9+'Մ. Արամյան'!I9+'Մ. Արզումանյան'!I9+Ա.Մուշեղյան!I9) -> 0 | J9: =SUM(Ա.Արզումանյան!J9+Հ.Ավագյան!J9+Ա.Վարոսյան!J9+Ա.Հարությունյան!J9+Ն.Գալստյան!J9+Ա.Դունամալյան!J9+Մ.Գևորգյան!J9+Դ.Ղուկեյան!J9+Գ.Շահբազյան!J9+Գ.Մարգարյան!J9+Ա.Անտոնյան!J9+'Ա. Մուշեղյան '!J9+'Վ. Մարգարյան'!J9+'Ա. Գաբրիելյան'!J9+'Ա. Դանիբեկյան'!J9+'Ն. Բաղդասարյան'!J9+'Դ. Հարությունյան'!J9+'Ա. Հովհաննիսյան'!J9+'Հ. Մանուկյան'!J9+'Վ. Մելիքյան'!J9+'Վ. Միսակյան'!J9+'Մ. Շահվերդյան'!J9+'Վ. Լ. Գրիգորյան'!J9+'Մ. Մելքոնյան'!J9+'Ա. Մելիքսեթյան'!J9+'Գ. Գասպարյան'!J9+Ա.Ղուկասյան!J9+'Ա. Մարտիրոսյան'!J9+'Տ. Ոսկանյան'!J9+'Ռ. Սմբատյան'!J9+'Ա. Ասատրյան'!J9+'Մ. Արամյան'!J9+'Մ. Արզումանյան'!J9+Ա.Մուշեղյան!J9) -> 0 | K9: =SUM(Ա.Արզումանյան!K9+Հ.Ավագյան!K9+Ա.Վարոսյան!K9+Ա.Հարությունյան!K9+Ն.Գալստյան!K9+Ա.Դունամալյան!K9+Մ.Գևորգյան!K9+Դ.Ղուկեյան!K9+Գ.Շահբազյան!K9+Գ.Մարգարյան!K9+Ա.Անտոնյան!K9+'Ա. Մուշեղյան '!K9+'Վ. Մարգարյան'!K9+'Ա. Գաբրիելյան'!K9+'Ա. Դանիբեկյան'!K9+'Ն. Բաղդասարյան'!K9+'Դ. Հարությունյան'!K9+'Ա. Հովհաննիսյան'!K9+'Հ. Մանուկյան'!K9+'Վ. Մելիքյան'!K9+'Վ. Միսակյան'!K9+'Մ. Շահվերդյան'!K9+'Վ. Լ. Գրիգորյան'!K9+'Մ. Մելքոնյան'!K9+'Ա. Մելիքսեթյան'!K9+'Գ. Գասպարյան'!K9+Ա.Ղուկասյան!K9+'Ա. Մարտիրոսյան'!K9+'Տ. Ոսկանյան'!K9+'Ռ. Սմբատյան'!K9+'Ա. Ասատրյան'!K9+'Մ. Արամյան'!K9+'Մ. Արզումանյան'!K9+Ա.Մուշեղյան!K9) -> 1 | ... T9: =SUM(Ա.Արզումանյան!T9+Հ.Ավագյան!T9+Ա.Վարոսյան!T9+Ա.Հարությունյան!T9+Ն.Գալստյան!T9+Ա.Դունամալյան!T9+Մ.Գևորգյան!T9+Դ.Ղուկեյան!T9+Գ.Շահբազյան!T9+Գ.Մարգարյան!T9+Ա.Անտոնյան!T9+'Ա. Մուշեղյան '!T9+'Վ. Մարգարյան'!T9+'Ա. Գաբրիելյան'!T9+'Ա. Դանիբեկյան'!T9+'Ն. Բաղդասարյան'!T9+'Դ. Հարությունյան'!T9+'Ա. Հովհաննիսյան'!T9+'Հ. Մանուկյան'!T9+'Վ. Մելիքյան'!T9+'Վ. Միսակյան'!T9+'Մ. Շահվերդյան'!T9+'Վ. Լ. Գրիգորյան'!T9+'Մ. Մելքոնյան'!T9+'Ա. Մելիքսեթյան'!T9+'Գ. Գասպարյան'!T9+Ա.Ղուկասյան!T9+'Ա. Մարտիրոսյան'!T9+'Տ. Ոսկանյան'!T9+'Ռ. Սմբատյան'!T9+'Ա. Ասատրյան'!T9+'Մ. Արամյան'!T9+'Մ. Արզումանյան'!T9+Ա.Մուշեղյան!T9) -> 1 | U9: =SUM(Ա.Արզումանյան!#REF!+Հ.Ավագյան!#REF!+Ա.Վարոսյան!#REF!+Ա.Հարությունյան!#REF!+Ն.Գալստյան!#REF!+Ա.Դունամալյան!#REF!+Մ.Գևորգյան!#REF!+Դ.Ղուկեյան!#REF!+Գ.Շահբազյան!#REF!+Գ.Մարգարյան!#REF!+Ա.Անտոնյան!#REF!+'Ա. Մուշեղյան '!#REF!+'Վ. Մարգարյան'!U9+'Ա. Գաբրիելյան'!U9+'Ա. Դանիբեկյան'!U9+'Ն. Բաղդասարյան'!U9+'Դ. Հարությունյան'!U9+'Ա. Հովհաննիսյան'!U9+'Հ. Մանուկյան'!U9+'Վ. Մելիքյան'!U9+'Վ. Միսակյան'!U9+'Մ. Շահվերդյան'!U9+'Վ. Լ. Գրիգորյան'!U9+'Մ. Մելքոնյան'!U9+'Ա. Մելիքսեթյան'!U9+'Գ. Գասպարյան'!U9+Ա.Ղուկասյան!U9+'Ա. Մարտիրոսյան'!U9+'Տ. Ոսկանյան'!U9+'Ռ. Սմբատյան'!U9+'Ա. Ասատրյան'!U9+'Մ. Արամյան'!U9+'Մ. Արզումանյան'!U9+Ա.Մուշեղյան!U9) -> #REF! | V9: =SUM(Ա.Արզումանյան!#REF!+Հ.Ավագյան!#REF!+Ա.Վարոսյան!#REF!+Ա.Հարությունյան!#REF!+Ն.Գալստյան!#REF!+Ա.Դունամալյան!#REF!+Մ.Գևորգյան!#REF!+Դ.Ղուկեյան!#REF!+Գ.Շահբազյան!#REF!+Գ.Մարգարյան!#REF!+Ա.Անտոնյան!#REF!+'Ա. Մուշեղյան '!#REF!+'Վ. Մարգարյան'!V9+'Ա. Գաբրիելյան'!V9+'Ա. Դանիբեկյան'!V9+'Ն. Բաղդասարյան'!V9+'Դ. Հարությունյան'!V9+'Ա. Հովհաննիսյան'!V9+'Հ. Մանուկյան'!V9+'Վ. Մելիքյան'!V9+'Վ. Միսակյան'!V9+'Մ. Շահվերդյան'!V9+'Վ. Լ. Գրիգորյան'!V9+'Մ. Մելքոնյան'!V9+'Ա. Մելիքսեթյան'!V9+'Գ. Գասպարյան'!V9+Ա.Ղուկասյան!V9+'Ա. Մարտիրոսյան'!V9+'Տ. Ոսկանյան'!V9+'Ռ. Սմբատյան'!V9+'Ա. Ասատրյան'!V9+'Մ. Արամյան'!V9+'Մ. Արզումանյան'!V9+Ա.Մուշեղյան!V9) -> #REF! | W9: =SUM(Ա.Արզումանյան!#REF!+Հ.Ավագյան!#REF!+Ա.Վարոսյան!#REF!+Ա.Հարությունյան!#REF!+Ն.Գալստյան!#REF!+Ա.Դունամալյան!#REF!+Մ.Գևորգյան!#REF!+Դ.Ղուկեյան!#REF!+Գ.Շահբազյան!#REF!+Գ.Մարգարյան!#REF!+Ա.Անտոնյան!#REF!+'Ա. Մուշեղյան '!#REF!+'Վ. Մարգարյան'!W9+'Ա. Գաբրիելյան'!W9+'Ա. Դանիբեկյան'!W9+'Ն. Բաղդասարյան'!W9+'Դ. Հարությունյան'!W9+'Ա. Հովհաննիսյան'!W9+'Հ. Մանուկյան'!W9+'Վ. Մելիքյան'!W9+'Վ. Միսակյան'!W9+'Մ. Շահվերդյան'!W9+'Վ. Լ. Գրիգորյան'!W9+'Մ. Մելքոնյան'!W9+'Ա. Մելիքսեթյան'!W9+'Գ. Գասպարյան'!W9+Ա.Ղուկասյան!W9+'Ա. Մարտիրոսյան'!W9+'Տ. Ոսկանյան'!W9+'Ռ. Սմբատյան'!W9+'Ա. Ասատրյան'!W9+'Մ. Արամյան'!W9+'Մ. Արզումանյան'!W9+Ա.Մուշեղյան!W9) -> #REF! | X9: =SUM(Ա.Արզումանյան!#REF!+Հ.Ավագյան!#REF!+Ա.Վարոսյան!#REF!+Ա.Հարությունյան!#REF!+Ն.Գալստյան!#REF!+Ա.Դունամալյան!#REF!+Մ.Գևորգյան!#REF!+Դ.Ղուկեյան!#REF!+Գ.Շահբազյան!#REF!+Գ.Մարգարյան!#REF!+Ա.Անտոնյան!#REF!+'Ա. Մուշեղյան '!#REF!+'Վ. Մարգարյան'!X9+'Ա. Գաբրիելյան'!X9+'Ա. Դանիբեկյան'!X9+'Ն. Բաղդասարյան'!X9+'Դ. Հարությունյան'!X9+'Ա. Հովհաննիսյան'!X9+'Հ. Մանուկյան'!X9+'Վ. Մելիքյան'!X9+'Վ. Միսակյան'!X9+'Մ. Շահվերդյան'!X9+'Վ. Լ. Գրիգորյան'!X9+'Մ. Մելքոնյան'!X9+'Ա. Մելիքսեթյան'!X9+'Գ. Գասպարյան'!X9+Ա.Ղուկասյան!X9+'Ա. Մարտիրոսյան'!X9+'Տ. Ոսկանյան'!X9+'Ռ. Սմբատյան'!X9+'Ա. Ասատրյան'!X9+'Մ. Արամյան'!X9+'Մ. Արզումանյան'!X9+Ա.Մուշեղյան!X9) -> #REF! | Y9: =SUM(Ա.Արզումանյան!#REF!+Հ.Ավագյան!#REF!+Ա.Վարոսյան!#REF!+Ա.Հարությունյան!#REF!+Ն.Գալստյան!#REF!+Ա.Դունամալյան!#REF!+Մ.Գևորգյան!#REF!+Դ.Ղուկեյան!#REF!+Գ.Շահբազյան!#REF!+Գ.Մարգարյան!#REF!+Ա.Անտոնյան!#REF!+'Ա. Մուշեղյան '!#REF!+'Վ. Մարգարյան'!Y9+'Ա. Գաբրիելյան'!Y9+'Ա. Դանիբեկյան'!Y9+'Ն. Բաղդասարյան'!Y9+'Դ. Հարությունյան'!Y9+'Ա. Հովհաննիսյան'!Y9+'Հ. Մանուկյան'!Y9+'Վ. Մելիքյան'!Y9+'Վ. Միսակյան'!Y9+'Մ. Շահվերդյան'!Y9+'Վ. Լ. Գրիգորյան'!Y9+'Մ. Մելքոնյան'!Y9+'Ա. Մելիքսեթյան'!Y9+'Գ. Գասպարյան'!Y9+Ա.Ղուկասյան!Y9+'Ա. Մարտիրոսյան'!Y9+'Տ. Ոսկանյան'!Y9+'Ռ. Սմբատյան'!Y9+'Ա. Ասատրյան'!Y9+'Մ. Արամյան'!Y9+'Մ. Արզումանյան'!Y9+Ա.Մուշեղյան!Y9) -> #REF! | Z9: =SUM(Ա.Արզումանյան!#REF!+Հ.Ավագյան!#REF!+Ա.Վարոսյան!#REF!+Ա.Հարությունյան!#REF!+Ն.Գալստյան!#REF!+Ա.Դունամալյան!#REF!+Մ.Գևորգյան!#REF!+Դ.Ղուկեյան!#REF!+Գ.Շահբազյան!#REF!+Գ.Մարգարյան!#REF!+Ա.Անտոնյան!#REF!+'Ա. Մուշեղյան '!#REF!+'Վ. Մարգարյան'!Z9+'Ա. Գաբրիելյան'!Z9+'Ա. Դանիբեկյան'!Z9+'Ն. Բաղդասարյան'!Z9+'Դ. Հարությունյան'!Z9+'Ա. Հովհաննիսյան'!Z9+'Հ. Մանուկյան'!Z9+'Վ. Մելիքյան'!Z9+'Վ. Միսակյան'!Z9+'Մ. Շահվերդյան'!Z9+'Վ. Լ. Գրիգորյան'!Z9+'Մ. Մելքոնյան'!Z9+'Ա. Մելիքսեթյան'!Z9+'Գ. Գասպարյան'!Z9+Ա.Ղուկասյան!Z9+'Ա. Մարտիրոսյան'!Z9+'Տ. Ոսկանյան'!Z9+'Ռ. Սմբատյան'!Z9+'Ա. Ասատրյան'!Z9+'Մ. Արամյան'!Z9+'Մ. Արզումանյան'!Z9+Ա.Մուշեղյան!Z9) -> #REF! | AA9: =SUM(Ա.Արզումանյան!#REF!+Հ.Ավագյան!#REF!+Ա.Վարոսյան!#REF!+Ա.Հարությունյան!#REF!+Ն.Գալստյան!#REF!+Ա.Դունամալյան!#REF!+Մ.Գևորգյան!#REF!+Դ.Ղուկեյան!#REF!+Գ.Շահբազյան!#REF!+Գ.Մարգարյան!#REF!+Ա.Անտոնյան!#REF!+'Ա. Մուշեղյան '!#REF!+'Վ. Մարգարյան'!AA9+'Ա. Գաբրիելյան'!AA9+'Ա. Դանիբեկյան'!AA9+'Ն. Բաղդասարյան'!AA9+'Դ. Հարությունյան'!AA9+'Ա. Հովհաննիսյան'!AA9+'Հ. Մանուկյան'!AA9+'Վ. Մելիքյան'!AA9+'Վ. Միսակյան'!AA9+'Մ. Շահվերդյան'!AA9+'Վ. Լ. Գրիգորյան'!AA9+'Մ. Մելքոնյան'!AA9+'Ա. Մելիքսեթյան'!AA9+'Գ. Գասպարյան'!AA9+Ա.Ղուկասյան!AA9+'Ա. Մարտիրոսյան'!AA9+'Տ. Ոսկանյան'!AA9+'Ռ. Սմբատյան'!AA9+'Ա. Ասատրյան'!AA9+'Մ. Արամյան'!AA9+'Մ. Արզումանյան'!AA9+Ա.Մուշեղյան!AA9) -> #REF! | AB9: =SUM(Ա.Արզումանյան!#REF!+Հ.Ավագյան!#REF!+Ա.Վարոսյան!#REF!+Ա.Հարությունյան!#REF!+Ն.Գալստյան!#REF!+Ա.Դունամալյան!#REF!+Մ.Գևորգյան!#REF!+Դ.Ղուկեյան!#REF!+Գ.Շահբազյան!#REF!+Գ.Մարգարյան!#REF!+Ա.Անտոնյան!#REF!+'Ա. Մուշեղյան '!#REF!+'Վ. Մարգարյան'!AB9+'Ա. Գաբրիելյան'!AB9+'Ա. Դանիբեկյան'!AB9+'Ն. Բաղդասարյան'!AB9+'Դ. Հարությունյան'!AB9+'Ա. Հովհաննիսյան'!AB9+'Հ. Մանուկյան'!AB9+'Վ. Մելիքյան'!AB9+'Վ. Միսակյան'!AB9+'Մ. Շահվերդյան'!AB9+'Վ. Լ. Գրիգորյան'!AB9+'Մ. Մելքոնյան'!AB9+'Ա. Մելիքսեթյան'!AB9+'Գ. Գասպարյան'!AB9+Ա.Ղուկասյան!AB9+'Ա. Մարտիրոսյան'!AB9+'Տ. Ոսկանյան'!AB9+'Ռ. Սմբատյան'!AB9+'Ա. Ասատրյան'!AB9+'Մ. Արամյան'!AB9+'Մ. Արզումանյան'!AB9+Ա.Մուշեղյան!AB9) -> #REF!
A10: 4 | B10: բժշկական հաստատությունում հարկադրաբար տեղավորելը | D10: =SUM(Ա.Արզումանյան!D10+Հ.Ավագյան!D10+Ա.Վարոսյան!D10+Ա.Հարությունյան!D10+Ն.Գալստյան!D10+Ա.Դունամալյան!D10+Մ.Գևորգյան!D10+Դ.Ղուկեյան!D10+Գ.Շահբազյան!D10+Գ.Մարգարյան!D10+Ա.Անտոնյան!D10+'Ա. Մուշեղյան '!D10+'Վ. Մարգարյան'!D10+'Ա. Գաբրիելյան'!D10+'Ա. Դանիբեկյան'!D10+'Ն. Բաղդասարյան'!D10+'Դ. Հարությունյան'!D10+'Ա. Հովհաննիսյան'!D10+'Հ. Մանուկյան'!D10+'Վ. Մելիքյան'!D10+'Վ. Միսակյան'!D10+'Մ. Շահվերդյան'!D10+'Վ. Լ. Գրիգորյան'!D10+'Մ. Մելքոնյան'!D10+'Ա. Մելիքսեթյան'!D10+'Գ. Գասպարյան'!D10+Ա.Ղուկասյան!D10+'Ա. Մարտիրոսյան'!D10+'Տ. Ոսկանյան'!D10+'Ռ. Սմբատյան'!D10+'Ա. Ասատրյան'!D10+'Մ. Արամյան'!D10+'Մ. Արզումանյան'!D10+Ա.Մուշեղյան!D10) -> 0 | E10: =SUM(Ա.Արզումանյան!E10+Հ.Ավագյան!E10+Ա.Վարոսյան!E10+Ա.Հարությունյան!E10+Ն.Գալստյան!E10+Ա.Դունամալյան!E10+Մ.Գևորգյան!E10+Դ.Ղուկեյան!E10+Գ.Շահբազյան!E10+Գ.Մարգարյան!E10+Ա.Անտոնյան!E10+'Ա. Մուշեղյան '!E10+'Վ. Մարգարյան'!E10+'Ա. Գաբրիելյան'!E10+'Ա. Դանիբեկյան'!E10+'Ն. Բաղդասարյան'!E10+'Դ. Հարությունյան'!E10+'Ա. Հովհաննիսյան'!E10+'Հ. Մանուկյան'!E10+'Վ. Մելիքյան'!E10+'Վ. Միսակյան'!E10+'Մ. Շահվերդյան'!E10+'Վ. Լ. Գրիգորյան'!E10+'Մ. Մելքոնյան'!E10+'Ա. Մելիքսեթյան'!E10+'Գ. Գասպարյան'!E10+Ա.Ղուկասյան!E10+'Ա. Մարտիրոսյան'!E10+'Տ. Ոսկանյան'!E10+'Ռ. Սմբատյան'!E10+'Ա. Ասատրյան'!E10+'Մ. Արամյան'!E10+'Մ. Արզումանյան'!E10+Ա.Մուշեղյան!E10) -> 0 | F10: =SUM(Ա.Արզումանյան!F10+Հ.Ավագյան!F10+Ա.Վարոսյան!F10+Ա.Հարությունյան!F10+Ն.Գալստյան!F10+Ա.Դունամալյան!F10+Մ.Գևորգյան!F10+Դ.Ղուկեյան!F10+Գ.Շահբազյան!F10+Գ.Մարգարյան!F10+Ա.Անտոնյան!F10+'Ա. Մուշեղյան '!F10+'Վ. Մարգարյան'!F10+'Ա. Գաբրիելյան'!F10+'Ա. Դանիբեկյան'!F10+'Ն. Բաղդասարյան'!F10+'Դ. Հարությունյան'!F10+'Ա. Հովհաննիսյան'!F10+'Հ. Մանուկյան'!F10+'Վ. Մելիքյան'!F10+'Վ. Միսակյան'!F10+'Մ. Շահվերդյան'!F10+'Վ. Լ. Գրիգորյան'!F10+'Մ. Մելքոնյան'!F10+'Ա. Մելիքսեթյան'!F10+'Գ. Գասպարյան'!F10+Ա.Ղուկասյան!F10+'Ա. Մարտիրոսյան'!F10+'Տ. Ոսկանյան'!F10+'Ռ. Սմբատյան'!F10+'Ա. Ասատրյան'!F10+'Մ. Արամյան'!F10+'Մ. Արզումանյան'!F10+Ա.Մուշեղյան!F10) -> 0 | G10: =SUM(Ա.Արզումանյան!G10+Հ.Ավագյան!G10+Ա.Վարոսյան!G10+Ա.Հարությունյան!G10+Ն.Գալստյան!G10+Ա.Դունամալյան!G10+Մ.Գևորգյան!G10+Դ.Ղուկեյան!G10+Գ.Շահբազյան!G10+Գ.Մարգարյան!G10+Ա.Անտոնյան!G10+'Ա. Մուշեղյան '!G10+'Վ. Մարգարյան'!G10+'Ա. Գաբրիելյան'!G10+'Ա. Դանիբեկյան'!G10+'Ն. Բաղդասարյան'!G10+'Դ. Հարությունյան'!G10+'Ա. Հովհաննիսյան'!G10+'Հ. Մանուկյան'!G10+'Վ. Մելիքյան'!G10+'Վ. Միսակյան'!G10+'Մ. Շահվերդյան'!G10+'Վ. Լ. Գրիգորյան'!G10+'Մ. Մելքոնյան'!G10+'Ա. Մելիքսեթյան'!G10+'Գ. Գասպարյան'!G10+Ա.Ղուկասյան!G10+'Ա. Մարտիրոսյան'!G10+'Տ. Ոսկանյան'!G10+'Ռ. Սմբատյան'!G10+'Ա. Ասատրյան'!G10+'Մ. Արամյան'!G10+'Մ. Արզումանյան'!G10+Ա.Մուշեղյան!G10) -> 0 | H10: =SUM(Ա.Արզումանյան!H10+Հ.Ավագյան!H10+Ա.Վարոսյան!H10+Ա.Հարությունյան!H10+Ն.Գալստյան!H10+Ա.Դունամալյան!H10+Մ.Գևորգյան!H10+Դ.Ղուկեյան!H10+Գ.Շահբազյան!H10+Գ.Մարգարյան!H10+Ա.Անտոնյան!H10+'Ա. Մուշեղյան '!H10+'Վ. Մարգարյան'!H10+'Ա. Գաբրիելյան'!H10+'Ա. Դանիբեկյան'!H10+'Ն. Բաղդասարյան'!H10+'Դ. Հարությունյան'!H10+'Ա. Հովհաննիսյան'!H10+'Հ. Մանուկյան'!H10+'Վ. Մելիքյան'!H10+'Վ. Միսակյան'!H10+'Մ. Շահվերդյան'!H10+'Վ. Լ. Գրիգորյան'!H10+'Մ. Մելքոնյան'!H10+'Ա. Մելիքսեթյան'!H10+'Գ. Գասպարյան'!H10+Ա.Ղուկասյան!H10+'Ա. Մարտիրոսյան'!H10+'Տ. Ոսկանյան'!H10+'Ռ. Սմբատյան'!H10+'Ա. Ասատրյան'!H10+'Մ. Արամյան'!H10+'Մ. Արզումանյան'!H10+Ա.Մուշեղյան!H10) -> 0 | I10: =SUM(Ա.Արզումանյան!I10+Հ.Ավագյան!I10+Ա.Վարոսյան!I10+Ա.Հարությունյան!I10+Ն.Գալստյան!I10+Ա.Դունամալյան!I10+Մ.Գևորգյան!I10+Դ.Ղուկեյան!I10+Գ.Շահբազյան!I10+Գ.Մարգարյան!I10+Ա.Անտոնյան!I10+'Ա. Մուշեղյան '!I10+'Վ. Մարգարյան'!I10+'Ա. Գաբրիելյան'!I10+'Ա. Դանիբեկյան'!I10+'Ն. Բաղդասարյան'!I10+'Դ. Հարությունյան'!I10+'Ա. Հովհաննիսյան'!I10+'Հ. Մանուկյան'!I10+'Վ. Մելիքյան'!I10+'Վ. Միսակյան'!I10+'Մ. Շահվերդյան'!I10+'Վ. Լ. Գրիգորյան'!I10+'Մ. Մելքոնյան'!I10+'Ա. Մելիքսեթյան'!I10+'Գ. Գասպարյան'!I10+Ա.Ղուկասյան!I10+'Ա. Մարտիրոսյան'!I10+'Տ. Ոսկանյան'!I10+'Ռ. Սմբատյան'!I10+'Ա. Ասատրյան'!I10+'Մ. Արամյան'!I10+'Մ. Արզումանյան'!I10+Ա.Մուշեղյան!I10) -> 0 | J10: =SUM(Ա.Արզումանյան!J10+Հ.Ավագյան!J10+Ա.Վարոսյան!J10+Ա.Հարությունյան!J10+Ն.Գալստյան!J10+Ա.Դունամալյան!J10+Մ.Գևորգյան!J10+Դ.Ղուկեյան!J10+Գ.Շահբազյան!J10+Գ.Մարգարյան!J10+Ա.Անտոնյան!J10+'Ա. Մուշեղյան '!J10+'Վ. Մարգարյան'!J10+'Ա. Գաբրիելյան'!J10+'Ա. Դանիբեկյան'!J10+'Ն. Բաղդասարյան'!J10+'Դ. Հարությունյան'!J10+'Ա. Հովհաննիսյան'!J10+'Հ. Մանուկյան'!J10+'Վ. Մելիքյան'!J10+'Վ. Միսակյան'!J10+'Մ. Շահվերդյան'!J10+'Վ. Լ. Գրիգորյան'!J10+'Մ. Մելքոնյան'!J10+'Ա. Մելիքսեթյան'!J10+'Գ. Գասպարյան'!J10+Ա.Ղուկասյան!J10+'Ա. Մարտիրոսյան'!J10+'Տ. Ոսկանյան'!J10+'Ռ. Սմբատյան'!J10+'Ա. Ասատրյան'!J10+'Մ. Արամյան'!J10+'Մ. Արզումանյան'!J10+Ա.Մուշեղյան!J10) -> 0 | K10: =SUM(Ա.Արզումանյան!K10+Հ.Ավագյան!K10+Ա.Վարոսյան!K10+Ա.Հարությունյան!K10+Ն.Գալստյան!K10+Ա.Դունամալյան!K10+Մ.Գևորգյան!K10+Դ.Ղուկեյան!K10+Գ.Շահբազյան!K10+Գ.Մարգարյան!K10+Ա.Անտոնյան!K10+'Ա. Մուշեղյան '!K10+'Վ. Մարգարյան'!K10+'Ա. Գաբրիելյան'!K10+'Ա. Դանիբեկյան'!K10+'Ն. Բաղդասարյան'!K10+'Դ. Հարությունյան'!K10+'Ա. Հովհաննիսյան'!K10+'Հ. Մանուկյան'!K10+'Վ. Մելիքյան'!K10+'Վ. Միսակյան'!K10+'Մ. Շահվերդյան'!K10+'Վ. Լ. Գրիգորյան'!K10+'Մ. Մելքոնյան'!K10+'Ա. Մելիքսեթյան'!K10+'Գ. Գասպարյան'!K10+Ա.Ղուկասյան!K10+'Ա. Մարտիրոսյան'!K10+'Տ. Ոսկանյան'!K10+'Ռ. Սմբատյան'!K10+'Ա. Ասատրյան'!K10+'Մ. Արամյան'!K10+'Մ. Արզումանյան'!K10+Ա.Մուշեղյան!K10) -> 0 | ... T10: =SUM(Ա.Արզումանյան!T10+Հ.Ավագյան!T10+Ա.Վարոսյան!T10+Ա.Հարությունյան!T10+Ն.Գալստյան!T10+Ա.Դունամալյան!T10+Մ.Գևորգյան!T10+Դ.Ղուկեյան!T10+Գ.Շահբազյան!T10+Գ.Մարգարյան!T10+Ա.Անտոնյան!T10+'Ա. Մուշեղյան '!T10+'Վ. Մարգարյան'!T10+'Ա. Գաբրիելյան'!T10+'Ա. Դանիբեկյան'!T10+'Ն. Բաղդասարյան'!T10+'Դ. Հարությունյան'!T10+'Ա. Հովհաննիսյան'!T10+'Հ. Մանուկյան'!T10+'Վ. Մելիքյան'!T10+'Վ. Միսակյան'!T10+'Մ. Շահվերդյան'!T10+'Վ. Լ. Գրիգորյան'!T10+'Մ. Մելքոնյան'!T10+'Ա. Մելիքսեթյան'!T10+'Գ. Գասպարյան'!T10+Ա.Ղուկասյան!T10+'Ա. Մարտիրոսյան'!T10+'Տ. Ոսկանյան'!T10+'Ռ. Սմբատյան'!T10+'Ա. Ասատրյան'!T10+'Մ. Արամյան'!T10+'Մ. Արզումանյան'!T10+Ա.Մուշեղյան!T10) -> 0 | U10: =SUM(Ա.Արզումանյան!#REF!+Հ.Ավագյան!#REF!+Ա.Վարոսյան!#REF!+Ա.Հարությունյան!#REF!+Ն.Գալստյան!#REF!+Ա.Դունամալյան!#REF!+Մ.Գևորգյան!#REF!+Դ.Ղուկեյան!#REF!+Գ.Շահբազյան!#REF!+Գ.Մարգարյան!#REF!+Ա.Անտոնյան!#REF!+'Ա. Մուշեղյան '!#REF!+'Վ. Մարգարյան'!U10+'Ա. Գաբրիելյան'!U10+'Ա. Դանիբեկյան'!U10+'Ն. Բաղդասարյան'!U10+'Դ. Հարությունյան'!U10+'Ա. Հովհաննիսյան'!U10+'Հ. Մանուկյան'!U10+'Վ. Մելիքյան'!U10+'Վ. Միսակյան'!U10+'Մ. Շահվերդյան'!U10+'Վ. Լ. Գրիգորյան'!U10+'Մ. Մելքոնյան'!U10+'Ա. Մելիքսեթյան'!U10+'Գ. Գասպարյան'!U10+Ա.Ղուկասյան!U10+'Ա. Մարտիրոսյան'!U10+'Տ. Ոսկանյան'!U10+'Ռ. Սմբատյան'!U10+'Ա. Ասատրյան'!U10+'Մ. Արամյան'!U10+'Մ. Արզումանյան'!U10+Ա.Մուշեղյան!U10) -> #REF! | V10: =SUM(Ա.Արզումանյան!#REF!+Հ.Ավագյան!#REF!+Ա.Վարոսյան!#REF!+Ա.Հարությունյան!#REF!+Ն.Գալստյան!#REF!+Ա.Դունամալյան!#REF!+Մ.Գևորգյան!#REF!+Դ.Ղուկեյան!#REF!+Գ.Շահբազյան!#REF!+Գ.Մարգարյան!#REF!+Ա.Անտոնյան!#REF!+'Ա. Մուշեղյան '!#REF!+'Վ. Մարգարյան'!V10+'Ա. Գաբրիելյան'!V10+'Ա. Դանիբեկյան'!V10+'Ն. Բաղդասարյան'!V10+'Դ. Հարությունյան'!V10+'Ա. Հովհաննիսյան'!V10+'Հ. Մանուկյան'!V10+'Վ. Մելիքյան'!V10+'Վ. Միսակյան'!V10+'Մ. Շահվերդյան'!V10+'Վ. Լ. Գրիգորյան'!V10+'Մ. Մելքոնյան'!V10+'Ա. Մելիքսեթյան'!V10+'Գ. Գասպարյան'!V10+Ա.Ղուկասյան!V10+'Ա. Մարտիրոսյան'!V10+'Տ. Ոսկանյան'!V10+'Ռ. Սմբատյան'!V10+'Ա. Ասատրյան'!V10+'Մ. Արամյան'!V10+'Մ. Արզումանյան'!V10+Ա.Մուշեղյան!V10) -> #REF! | W10: =SUM(Ա.Արզումանյան!#REF!+Հ.Ավագյան!#REF!+Ա.Վարոսյան!#REF!+Ա.Հարությունյան!#REF!+Ն.Գալստյան!#REF!+Ա.Դունամալյան!#REF!+Մ.Գևորգյան!#REF!+Դ.Ղուկեյան!#REF!+Գ.Շահբազյան!#REF!+Գ.Մարգարյան!#REF!+Ա.Անտոնյան!#REF!+'Ա. Մուշեղյան '!#REF!+'Վ. Մարգարյան'!W10+'Ա. Գաբրիելյան'!W10+'Ա. Դանիբեկյան'!W10+'Ն. Բաղդասարյան'!W10+'Դ. Հարությունյան'!W10+'Ա. Հովհաննիսյան'!W10+'Հ. Մանուկյան'!W10+'Վ. Մելիքյան'!W10+'Վ. Միսակյան'!W10+'Մ. Շահվերդյան'!W10+'Վ. Լ. Գրիգորյան'!W10+'Մ. Մելքոնյան'!W10+'Ա. Մելիքսեթյան'!W10+'Գ. Գասպարյան'!W10+Ա.Ղուկասյան!W10+'Ա. Մարտիրոսյան'!W10+'Տ. Ոսկանյան'!W10+'Ռ. Սմբատյան'!W10+'Ա. Ասատրյան'!W10+'Մ. Արամյան'!W10+'Մ. Արզումանյան'!W10+Ա.Մուշեղյան!W10) -> #REF! | X10: =SUM(Ա.Արզումանյան!#REF!+Հ.Ավագյան!#REF!+Ա.Վարոսյան!#REF!+Ա.Հարությունյան!#REF!+Ն.Գալստյան!#REF!+Ա.Դունամալյան!#REF!+Մ.Գևորգյան!#REF!+Դ.Ղուկեյան!#REF!+Գ.Շահբազյան!#REF!+Գ.Մարգարյան!#REF!+Ա.Անտոնյան!#REF!+'Ա. Մուշեղյան '!#REF!+'Վ. Մարգարյան'!X10+'Ա. Գաբրիելյան'!X10+'Ա. Դանիբեկյան'!X10+'Ն. Բաղդասարյան'!X10+'Դ. Հարությունյան'!X10+'Ա. Հովհաննիսյան'!X10+'Հ. Մանուկյան'!X10+'Վ. Մելիքյան'!X10+'Վ. Միսակյան'!X10+'Մ. Շահվերդյան'!X10+'Վ. Լ. Գրիգորյան'!X10+'Մ. Մելքոնյան'!X10+'Ա. Մելիքսեթյան'!X10+'Գ. Գասպարյան'!X10+Ա.Ղուկասյան!X10+'Ա. Մարտիրոսյան'!X10+'Տ. Ոսկանյան'!X10+'Ռ. Սմբատյան'!X10+'Ա. Ասատրյան'!X10+'Մ. Արամյան'!X10+'Մ. Արզումանյան'!X10+Ա.Մուշեղյան!X10) -> #REF! | Y10: =SUM(Ա.Արզումանյան!#REF!+Հ.Ավագյան!#REF!+Ա.Վարոսյան!#REF!+Ա.Հարությունյան!#REF!+Ն.Գալստյան!#REF!+Ա.Դունամալյան!#REF!+Մ.Գևորգյան!#REF!+Դ.Ղուկեյան!#REF!+Գ.Շահբազյան!#REF!+Գ.Մարգարյան!#REF!+Ա.Անտոնյան!#REF!+'Ա. Մուշեղյան '!#REF!+'Վ. Մարգարյան'!Y10+'Ա. Գաբրիելյան'!Y10+'Ա. Դանիբեկյան'!Y10+'Ն. Բաղդասարյան'!Y10+'Դ. Հարությունյան'!Y10+'Ա. Հովհաննիսյան'!Y10+'Հ. Մանուկյան'!Y10+'Վ. Մելիքյան'!Y10+'Վ. Միսակյան'!Y10+'Մ. Շահվերդյան'!Y10+'Վ. Լ. Գրիգորյան'!Y10+'Մ. Մելքոնյան'!Y10+'Ա. Մելիքսեթյան'!Y10+'Գ. Գասպարյան'!Y10+Ա.Ղուկասյան!Y10+'Ա. Մարտիրոսյան'!Y10+'Տ. Ոսկանյան'!Y10+'Ռ. Սմբատյան'!Y10+'Ա. Ասատրյան'!Y10+'Մ. Արամյան'!Y10+'Մ. Արզումանյան'!Y10+Ա.Մուշեղյան!Y10) -> #REF! | Z10: =SUM(Ա.Արզումանյան!#REF!+Հ.Ավագյան!#REF!+Ա.Վարոսյան!#REF!+Ա.Հարությունյան!#REF!+Ն.Գալստյան!#REF!+Ա.Դունամալյան!#REF!+Մ.Գևորգյան!#REF!+Դ.Ղուկեյան!#REF!+Գ.Շահբազյան!#REF!+Գ.Մարգարյան!#REF!+Ա.Անտոնյան!#REF!+'Ա. Մուշեղյան '!#REF!+'Վ. Մարգարյան'!Z10+'Ա. Գաբրիելյան'!Z10+'Ա. Դանիբեկյան'!Z10+'Ն. Բաղդասարյան'!Z10+'Դ. Հարությունյան'!Z10+'Ա. Հովհաննիսյան'!Z10+'Հ. Մանուկյան'!Z10+'Վ. Մելիքյան'!Z10+'Վ. Միսակյան'!Z10+'Մ. Շահվերդյան'!Z10+'Վ. Լ. Գրիգորյան'!Z10+'Մ. Մելքոնյան'!Z10+'Ա. Մելիքսեթյան'!Z10+'Գ. Գասպարյան'!Z10+Ա.Ղուկասյան!Z10+'Ա. Մարտիրոսյան'!Z10+'Տ. Ոսկանյան'!Z10+'Ռ. Սմբատյան'!Z10+'Ա. Ասատրյան'!Z10+'Մ. Արամյան'!Z10+'Մ. Արզումանյան'!Z10+Ա.Մուշեղյան!Z10) -> #REF! | AA10: =SUM(Ա.Արզումանյան!#REF!+Հ.Ավագյան!#REF!+Ա.Վարոսյան!#REF!+Ա.Հարությունյան!#REF!+Ն.Գալստյան!#REF!+Ա.Դունամալյան!#REF!+Մ.Գևորգյան!#REF!+Դ.Ղուկեյան!#REF!+Գ.Շահբազյան!#REF!+Գ.Մարգարյան!#REF!+Ա.Անտոնյան!#REF!+'Ա. Մուշեղյան '!#REF!+'Վ. Մարգարյան'!AA10+'Ա. Գաբրիելյան'!AA10+'Ա. Դանիբեկյան'!AA10+'Ն. Բաղդասարյան'!AA10+'Դ. Հարությունյան'!AA10+'Ա. Հովհաննիսյան'!AA10+'Հ. Մանուկյան'!AA10+'Վ. Մելիքյան'!AA10+'Վ. Միսակյան'!AA10+'Մ. Շահվերդյան'!AA10+'Վ. Լ. Գրիգորյան'!AA10+'Մ. Մելքոնյան'!AA10+'Ա. Մելիքսեթյան'!AA10+'Գ. Գասպարյան'!AA10+Ա.Ղուկասյան!AA10+'Ա. Մարտիրոսյան'!AA10+'Տ. Ոսկանյան'!AA10+'Ռ. Սմբատյան'!AA10+'Ա. Ասատրյան'!AA10+'Մ. Արամյան'!AA10+'Մ. Արզումանյան'!AA10+Ա.Մուշեղյան!AA10) -> #REF! | AB10: =SUM(Ա.Արզումանյան!#REF!+Հ.Ավագյան!#REF!+Ա.Վարոսյան!#REF!+Ա.Հարությունյան!#REF!+Ն.Գալստյան!#REF!+Ա.Դունամալյան!#REF!+Մ.Գևորգյան!#REF!+Դ.Ղուկեյան!#REF!+Գ.Շահբազյան!#REF!+Գ.Մարգարյան!#REF!+Ա.Անտոնյան!#REF!+'Ա. Մուշեղյան '!#REF!+'Վ. Մարգարյան'!AB10+'Ա. Գաբրիելյան'!AB10+'Ա. Դանիբեկյան'!AB10+'Ն. Բաղդասարյան'!AB10+'Դ. Հարությունյան'!AB10+'Ա. Հովհաննիսյան'!AB10+'Հ. Մանուկյան'!AB10+'Վ. Մելիքյան'!AB10+'Վ. Միսակյան'!AB10+'Մ. Շահվերդյան'!AB10+'Վ. Լ. Գրիգորյան'!AB10+'Մ. Մելքոնյան'!AB10+'Ա. Մելիքսեթյան'!AB10+'Գ. Գասպարյան'!AB10+Ա.Ղուկասյան!AB10+'Ա. Մարտիրոսյան'!AB10+'Տ. Ոսկանյան'!AB10+'Ռ. Սմբատյան'!AB10+'Ա. Ասատրյան'!AB10+'Մ. Արամյան'!AB10+'Մ. Արզումանյան'!AB10+Ա.Մուշեղյան!AB10) -> #REF!
