Workbook

Sheet @ndhanur
B1: Ð²ÞìºîìàôÂÚàôÜ
A2: Հավելված 2 Հայաստանի Հանրապետության Դատարանների նախագահների խորհրդի 2007թ. դեկտեմբերի 21-ի թիվ 23Լ որոշման
B3: ÐÐ ÁÝ¹Ñ³Ýáõñ Çñ³í³ëáõÃÛ³Ý ³é³çÇÝ ³ïÛ³ÝÇ ¹³ï³ñ³ÝÝ»ñÇ ÏáÕÙÇó í×³ñÙ³Ý Ï³ñ·³¹ñáõÃÛáõÝ ³ñÓ³Ï»Éáõ í³ñáõÛÃÝ»ñÇ ÁÝÃ³óùÇ Ù³ëÇÝ 2014 Ãí³Ï³Ý
A5: êïáõ·Çã Ñ³í³ë³ñáõÙ` 1+2=3+4+5+6+7, 7=8+9+10+11
A6: Ð/Ñ | B6: ¸³ï³íáñÇ ³ÝáõÝ, ³½·³ÝáõÝ | C6: Ð³ßí»ïáõ Å³Ù³Ý³Ï³ßñç³ÝÇ ëÏ½áõÙ ³Ý³í³ñï í³ñáõÛÃÝ»ñÇ ÙÝ³óáñ¹Á | D6: êï³óí»É ¿ í×³ñÙ³Ý Ï³ñ·³¹ñáõÃÛáõÝ ³ñÓ³Ï»Éáõ Ù³ëÇÝ ¹ÇÙáõÙ | E6: ëï³óí»É ¿ ¹ÇÙáõÙ ÁÝÃ³óù ãï³Éáõ Ù³ëÇÝ | F6: Ø»ñÅí»É ¿ | G6: Ø»ñÅí»É ¿ Ù³ëáí | H6: âÇ ³ñÓ³Ïí»É Ñ³ßí»ïáõ Å³Ù³Ý³Ï³ßñç³ÝáõÙ | I6: ²ñÓ³Ïí»É ¿ í×³ñÙ³Ý Ï³ñ·³¹ñáõÃÛáõÝ | J6: êï³óí»É ¿ ³é³ñÏáõÃÛáõÝ | K6: êï³ó»É ¿ ûñÇÝ³Ï³Ý áõÅ | L6: ÂáÕÝí»É ¿ ³ÝÑ»ï¨³Ýù ¨ ûñÇÝ³Ï³Ý áõÅÇ Ù»ç Ùï³Í í×éÇ Ñ»ï¨³Ýù ãÇ ³é³ç³óñ»É | M6: Ð³ßí»ïáõ Å³Ù³Ý³Ï³ßñç³ÝÇ í»ñçáõÙ ³Ý³í³ñï í³ñáõÛÃÝ»ñÇ ÙÝ³óáñ¹Á
C7: 1 | D7: 2 | E7: 3 | F7: 4 | G7: 5 | H7: 6 | I7: 7 | J7: 8 | K7: 9 | L7: 10 | M7: 11
B8: ÁÝ¹³Ù»ÝÁ | C8: =SUM(Kentron!C20+Arabkir!C20+Ajapnyak!C20+Avan!C20+Shengavit!C20+Erebuni!C20+Malacia!C20+Armavir!C20+Aragacotn!C20+Ararat!C20+Kotaeq!C20+Gexarquniq!C17+Lori!C20+Syuniq!C20+Shirak!C20+Tavush!C20) -> 4313 | D8: =SUM(Kentron!D20+Arabkir!D20+Ajapnyak!D20+Avan!D20+Shengavit!D20+Erebuni!D20+Malacia!D20+Armavir!D20+Aragacotn!D20+Ararat!D20+Kotaeq!D20+Gexarquniq!D17+Lori!D20+Syuniq!D20+Shirak!D20+Tavush!D20) -> 62668 | E8: =SUM(Kentron!E20+Arabkir!E20+Ajapnyak!E20+Avan!E20+Shengavit!E20+Erebuni!E20+Malacia!E20+Armavir!E20+Aragacotn!E20+Ararat!E20+Kotaeq!E20+Gexarquniq!E17+Lori!E20+Syuniq!E20+Shirak!E20+Tavush!E20) -> 365 | F8: =SUM(Kentron!F20+Arabkir!F20+Ajapnyak!F20+Avan!F20+Shengavit!F20+Erebuni!F20+Malacia!F20+Armavir!F20+Aragacotn!F20+Ararat!F20+Kotaeq!F20+Gexarquniq!F17+Lori!F20+Syuniq!F20+Shirak!F20+Tavush!F20) -> 3728 | G8: =SUM(Kentron!G20+Arabkir!G20+Ajapnyak!G20+Avan!G20+Shengavit!G20+Erebuni!G20+Malacia!G20+Armavir!G20+Aragacotn!G20+Ararat!G20+Kotaeq!G20+Gexarquniq!G17+Lori!G20+Syuniq!G20+Shirak!G20+Tavush!G20) -> 1773 | H8: =SUM(Kentron!H20+Arabkir!H20+Ajapnyak!H20+Avan!H20+Shengavit!H20+Erebuni!H20+Malacia!H20+Armavir!H20+Aragacotn!H20+Ararat!H20+Kotaeq!H20+Gexarquniq!H17+Lori!H20+Syuniq!H20+Shirak!H20+Tavush!H20) -> 2740 | I8: =SUM(Kentron!I20+Arabkir!I20+Ajapnyak!I20+Avan!I20+Shengavit!I20+Erebuni!I20+Malacia!I20+Armavir!I20+Aragacotn!I20+Ararat!I20+Kotaeq!I20+Gexarquniq!I17+Lori!I20+Syuniq!I20+Shirak!I20+Tavush!I20) -> 58375 | J8: =SUM(Kentron!J20+Arabkir!J20+Ajapnyak!J20+Avan!J20+Shengavit!J20+Erebuni!J20+Malacia!J20+Armavir!J20+Aragacotn!J20+Ararat!J20+Kotaeq!J20+Gexarquniq!J17+Lori!J20+Syuniq!J20+Shirak!J20+Tavush!J20) -> 2458 | ... M8: =SUM(Kentron!M20+Arabkir!M20+Ajapnyak!M20+Avan!M20+Shengavit!M20+Erebuni!M20+Malacia!M20+Armavir!M20+Aragacotn!M20+Ararat!M20+Kotaeq!M20+Gexarquniq!M17+Lori!M20+Syuniq!M20+Shirak!M20+Tavush!M20) -> 9395

Sheet Kentron
B1: Ð²ÞìºîìàôÂÚàôÜ
A2: Հավելված 2 Հայաստանի Հանրապետության Դատարանների նախագահների խորհրդի 2007թ. դեկտեմբերի 21-ի թիվ 23Լ որոշման
B3: Կենտրոն և Նորք Մարաշ վարչական շրջանների ÁÝ¹Ñ³Ýáõñ Çñ³í³ëáõÃÛ³Ý ³é³çÇÝ ³ïÛ³ÝÇ ¹³ï³ñ³ÝÇ ÏáÕÙÇó í×³ñÙ³Ý Ï³ñ·³¹ñáõÃÛáõÝ ³ñÓ³Ï»Éáõ í³ñáõÛÃÝ»ñÇ ÁÝÃ³óùÇ Ù³ëÇÝ 2014 Ãí³Ï³Ý
A5: êïáõ·Çã Ñ³í³ë³ñáõÙ` 1+2=3+4+5+6+7, 7=8+9+10+11
A6: Ð/Ñ | B6: ¸³ï³íáñÇ ³ÝáõÝ, ³½·³ÝáõÝ | C6: Ð³ßí»ïáõ Å³Ù³Ý³Ï³ßñç³ÝÇ ëÏ½áõÙ ³Ý³í³ñï í³ñáõÛÃÝ»ñÇ ÙÝ³óáñ¹Á | D6: êï³óí»É ¿ í×³ñÙ³Ý Ï³ñ·³¹ñáõÃÛáõÝ ³ñÓ³Ï»Éáõ Ù³ëÇÝ ¹ÇÙáõÙ | E6: ëï³óí»É ¿ ¹ÇÙáõÙ ÁÝÃ³óù ãï³Éáõ Ù³ëÇÝ | F6: Ø»ñÅí»É ¿ | G6: Ø»ñÅí»É ¿ Ù³ëáí | H6: âÇ ³ñÓ³Ïí»É Ñ³ßí»ïáõ Å³Ù³Ý³Ï³ßñç³ÝáõÙ | I6: ²ñÓ³Ïí»É ¿ í×³ñÙ³Ý Ï³ñ·³¹ñáõÃÛáõÝ | J6: êï³óí»É ¿ ³é³ñÏáõÃÛáõÝ | K6: êï³ó»É ¿ ûñÇÝ³Ï³Ý áõÅ | L6: ÂáÕÝí»É ¿ ³ÝÑ»ï¨³Ýù ¨ ûñÇÝ³Ï³Ý áõÅÇ Ù»ç Ùï³Í í×éÇ Ñ»ï¨³Ýù ãÇ ³é³ç³óñ»É | M6: Ð³ßí»ïáõ Å³Ù³Ý³Ï³ßñç³ÝÇ í»ñçáõÙ ³Ý³í³ñï í³ñáõÛÃÝ»ñÇ ÙÝ³óáñ¹Á
C7: 1 | D7: 2 | E7: 3 | F7: 4 | G7: 5 | H7: 6 | I7: 7 | J7: 8 | K7: 9 | L7: 10 | M7: 11
A8: 1 | B8: Ա.Մելքումյան | C8: 394 | D8: 826 | E8: 3 | F8: 32 | G8: 9 | H8: 490 | I8: 686 | J8: 18 | K8: 127 | L8: 210 | M8: 331
A9: 2 | B9: Գ.Կարախանյան | C9: 26 | D9: 509 | E9: 6 | F9: 1 | G9: 3 | H9: 54 | I9: 471 | J9: 24 | K9: 130 | L9: 261 | M9: 56
A10: 3 | B10: Ռ.Ներսիսյան | C10: 15 | D10: 590 | E10: 1 | F10: 4 | G10: 3 | H10: 62 | I10: 535 | J10: 36 | K10: 271 | L10: 200 | M10: 28
A11: 4 | B11: Էդ.Ավետիսյան | C11: 311 | D11: 639 | E11: 2 | F11: 150 | H11: 352 | I11: 446 | J11: 30 | K11: 229 | L11: 177 | M11: 10
A12: 5 | B12: Ռ.Ափինյան | C12: 331 | D12: 826 | E12: 5 | F12: 36 | G12: 1 | H12: 424 | I12: 691 | J12: 25 | K12: 262 | L12: 299 | M12: 105
A13: 6 | B13: Ս.Թադևոսյան | C13: 113 | D13: 81 | E13: 0 | F13: 0 | G13: 0 | H13: 142 | I13: 52 | J13: 1 | K13: 42 | L13: 0 | M13: 9
A14: 7 | B14: Գ.Խանդանյան | C14: 157 | D14: 606 | E14: 3 | F14: 14 | G14: 51 | H14: 156 | I14: 539 | J14: 34 | K14: 308 | L14: 129 | M14: 68
A15: 8
A16: 9
A17: 10
A18: 11
A19: 12
B20: ÁÝ¹³Ù»ÝÁ | C20: =SUM(C8:C19) -> 1347 | D20: =SUM(D8:D19) -> 4077 | E20: =SUM(E8:E19) -> 20 | F20: =SUM(F8:F19) -> 237 | G20: =SUM(G8:G19) -> 67 | H20: =SUM(H8:H19) -> 1680 | I20: =SUM(I8:I19) -> 3420 | J20: =SUM(J8:J19) -> 168 | ... M20: =SUM(M8:M19) -> 607

Sheet Arabkir
B1: Ð²ÞìºîìàôÂÚàôÜ
A2: Հավելված 2 Հայաստանի Հանրապետության Դատարանների նախագահների խորհրդի 2007թ. դեկտեմբերի 21-ի թիվ 23Լ որոշման
B3: Արաբկիր և Քանաքեռ-Զեյթուն í³ñã³Ï³Ý ßñç³ÝÝ»ñÇ ÁÝ¹Ñ³Ýáõñ Çñ³í³ëáõÃÛ³Ý ³é³çÇÝ ³ïÛ³ÝÇ ¹³ï³ñ³ÝÇ ÏáÕÙÇó í×³ñÙ³Ý Ï³ñ·³¹ñáõÃÛáõÝ ³ñÓ³Ï»Éáõ í³ñáõÛÃÝ»ñÇ ÁÝÃ³óùÇ Ù³ëÇÝ 2014 Ãí³Ï³Ý
A5: êïáõ·Çã Ñ³í³ë³ñáõÙ` 1+2=3+4+5+6+7, 7=8+9+10+11
A6: Ð/Ñ | B6: ¸³ï³íáñÇ ³ÝáõÝ, ³½·³ÝáõÝ | C6: Ð³ßí»ïáõ Å³Ù³Ý³Ï³ßñç³ÝÇ ëÏ½áõÙ ³Ý³í³ñï í³ñáõÛÃÝ»ñÇ ÙÝ³óáñ¹Á | D6: êï³óí»É ¿ í×³ñÙ³Ý Ï³ñ·³¹ñáõÃÛáõÝ ³ñÓ³Ï»Éáõ Ù³ëÇÝ ¹ÇÙáõÙ | E6: ëï³óí»É ¿ ¹ÇÙáõÙ ÁÝÃ³óù ãï³Éáõ Ù³ëÇÝ | F6: Ø»ñÅí»É ¿ | G6: Ø»ñÅí»É ¿ Ù³ëáí | H6: âÇ ³ñÓ³Ïí»É Ñ³ßí»ïáõ Å³Ù³Ý³Ï³ßñç³ÝáõÙ | I6: ²ñÓ³Ïí»É ¿ í×³ñÙ³Ý Ï³ñ·³¹ñáõÃÛáõÝ | J6: êï³óí»É ¿ ³é³ñÏáõÃÛáõÝ | K6: êï³ó»É ¿ ûñÇÝ³Ï³Ý áõÅ | L6: ÂáÕÝí»É ¿ ³ÝÑ»ï¨³Ýù ¨ ûñÇÝ³Ï³Ý áõÅÇ Ù»ç Ùï³Í í×éÇ Ñ»ï¨³Ýù ãÇ ³é³ç³óñ»É | M6: Ð³ßí»ïáõ Å³Ù³Ý³Ï³ßñç³ÝÇ í»ñçáõÙ ³Ý³í³ñï í³ñáõÛÃÝ»ñÇ ÙÝ³óáñ¹Á
C7: 1 | D7: 2 | E7: 3 | F7: 4 | G7: 5 | H7: 6 | I7: 7 | J7: 8 | K7: 9 | L7: 10 | M7: 11
A8: 1 | B8: è.´áõÝÇ³ÃÛ³Ý | C8: 88 | D8: 213 | E8: 1 | F8: 8 | G8: 0 | H8: 0 | I8: 292 | J8: 48 | K8: 127 | L8: 117 | M8: 0
A9: 2 | B9: ². ÐáõÝ³ÝÛ³Ý | D9: 1284 | E9: 29 | F9: 4 | G9: 2 | H9: 0 | I9: 1249 | J9: 56 | K9: 544 | L9: 451 | M9: 198
A10: 3 | B10: ê. Ðáíë»÷Û³Ý | D10: 1536 | E10: 18 | F10: 11 | G10: 7 | H10: 0 | I10: 1500 | J10: 69 | K10: 658 | L10: 518 | M10: 255
A11: 4 | B11: ¼. Ü³Ëßù³ñÛ³Ý | C11: 126 | D11: 1544 | E11: 29 | F11: 121 | G11: 7 | H11: 89 | I11: 1424 | J11: 65 | K11: 847 | L11: 287 | M11: 225
A12: 5 | B12: Ս. Թադևոսյան | D12: 15 | I12: 15 | J12: 2 | K12: 13 | L12: 0 | M12: 0
A13: 6
A14: 7
A15: 8
A16: 9
A17: 10
A18: 11
A19: 12
B20: ÁÝ¹³Ù»ÝÁ | C20: =SUM(C8:C19) -> 214 | D20: =SUM(D8:D19) -> 4592 | E20: =SUM(E8:E19) -> 77 | F20: =SUM(F8:F19) -> 144 | G20: =SUM(G8:G19) -> 16 | H20: =SUM(H8:H19) -> 89 | I20: =SUM(I8:I19) -> 4480 | J20: =SUM(J8:J19) -> 240 | ... M20: =SUM(M8:M19) -> 678

Sheet Ajapnyak
B1: Ð²ÞìºîìàôÂÚàôÜ
A2: Հավելված 2 Հայաստանի Հանրապետության Դատարանների նախագահների խորհրդի 2007թ. դեկտեմբերի 21-ի թիվ 23Լ որոշման
B3: Աջափնյակ և Դավթաշեն վարչական շրջանների ÁÝ¹Ñ³Ýáõñ Çñ³í³ëáõÃÛ³Ý ³é³çÇÝ ³ïÛ³ÝÇ ¹³ï³ñ³ÝÇ ÏáÕÙÇó í×³ñÙ³Ý Ï³ñ·³¹ñáõÃÛáõÝ ³ñÓ³Ï»Éáõ í³ñáõÛÃÝ»ñÇ ÁÝÃ³óùÇ Ù³ëÇÝ 2014 Ãí³Ï³Ý
A5: êïáõ·Çã Ñ³í³ë³ñáõÙ` 1+2=3+4+5+6+7, 7=8+9+10+11
A6: Ð/Ñ | B6: ¸³ï³íáñÇ ³ÝáõÝ, ³½·³ÝáõÝ | C6: Ð³ßí»ïáõ Å³Ù³Ý³Ï³ßñç³ÝÇ ëÏ½áõÙ ³Ý³í³ñï í³ñáõÛÃÝ»ñÇ ÙÝ³óáñ¹Á | D6: êï³óí»É ¿ í×³ñÙ³Ý Ï³ñ·³¹ñáõÃÛáõÝ ³ñÓ³Ï»Éáõ Ù³ëÇÝ ¹ÇÙáõÙ | E6: ëï³óí»É ¿ ¹ÇÙáõÙ ÁÝÃ³óù ãï³Éáõ Ù³ëÇÝ | F6: Ø»ñÅí»É ¿ | G6: Ø»ñÅí»É ¿ Ù³ëáí | H6: âÇ ³ñÓ³Ïí»É Ñ³ßí»ïáõ Å³Ù³Ý³Ï³ßñç³ÝáõÙ | I6: ²ñÓ³Ïí»É ¿ í×³ñÙ³Ý Ï³ñ·³¹ñáõÃÛáõÝ | J6: êï³óí»É ¿ ³é³ñÏáõÃÛáõÝ | K6: êï³ó»É ¿ ûñÇÝ³Ï³Ý áõÅ | L6: ÂáÕÝí»É ¿ ³ÝÑ»ï¨³Ýù ¨ ûñÇÝ³Ï³Ý áõÅÇ Ù»ç Ùï³Í í×éÇ Ñ»ï¨³Ýù ãÇ ³é³ç³óñ»É | M6: Ð³ßí»ïáõ Å³Ù³Ý³Ï³ßñç³ÝÇ í»ñçáõÙ ³Ý³í³ñï í³ñáõÛÃÝ»ñÇ ÙÝ³óáñ¹Á
C7: 1 | D7: 2 | E7: 3 | F7: 4 | G7: 5 | H7: 6 | I7: 7 | J7: 8 | K7: 9 | L7: 10 | M7: 11
A8: 1 | B8: ². êÙµ³ïÛ³Ý | C8: 133 | D8: 1359 | E8: 6 | F8: 176 | G8: 45 | H8: 65 | I8: 1200 | J8: 32 | K8: 505 | L8: 364 | M8: 299
A9: 2 | B9: Ø. Ð³ñÃ»ÝÛ³Ý | C9: 403 | D9: 642 | E9: 0 | F9: 90 | G9: 0 | H9: 0 | I9: 955 | J9: 31 | K9: 360 | L9: 564 | M9: 0
A10: 3 | B10: ². ØËÇÃ³ñÛ³Ý | C10: 481 | D10: 1423 | E10: 7 | F10: 137 | G10: 1 | H10: 160 | I10: 1599 | J10: 40 | K10: 577 | L10: 752 | M10: 230
A11: 4
A12: 5
A13: 6
A14: 7
A15: 8
A16: 9
A17: 10
A18: 11
A19: 12
B20: ÁÝ¹³Ù»ÝÁ | C20: =SUM(C8:C19) -> 1017 | D20: =SUM(D8:D19) -> 3424 | E20: =SUM(E8:E19) -> 13 | F20: =SUM(F8:F19) -> 403 | G20: =SUM(G8:G19) -> 46 | H20: =SUM(H8:H19) -> 225 | I20: =SUM(I8:I19) -> 3754 | J20: =SUM(J8:J19) -> 103 | ... M20: =SUM(M8:M19) -> 529

Sheet Avan
B1: Ð²ÞìºîìàôÂÚàôÜ
A2: Հավելված 2 Հայաստանի Հանրապետության Դատարանների նախագահների խորհրդի 2007թ. դեկտեմբերի 21-ի թիվ 23Լ որոշման
B3: Ավան և Նոր Նորք վարչական շրջանների ÁÝ¹Ñ³Ýáõñ Çñ³í³ëáõÃÛ³Ý ³é³çÇÝ ³ïÛ³ÝÇ ¹³ï³ñ³ÝÇ ÏáÕÙÇó í×³ñÙ³Ý Ï³ñ·³¹ñáõÃÛáõÝ ³ñÓ³Ï»Éáõ í³ñáõÛÃÝ»ñÇ ÁÝÃ³óùÇ Ù³ëÇÝ 2014 Ãí³Ï³Ý
A5: êïáõ·Çã Ñ³í³ë³ñáõÙ` 1+2=3+4+5+6+7, 7=8+9+10+11
A6: Ð/Ñ | B6: ¸³ï³íáñÇ ³ÝáõÝ, ³½·³ÝáõÝ | C6: Ð³ßí»ïáõ Å³Ù³Ý³Ï³ßñç³ÝÇ ëÏ½áõÙ ³Ý³í³ñï í³ñáõÛÃÝ»ñÇ ÙÝ³óáñ¹Á | D6: êï³óí»É ¿ í×³ñÙ³Ý Ï³ñ·³¹ñáõÃÛáõÝ ³ñÓ³Ï»Éáõ Ù³ëÇÝ ¹ÇÙáõÙ | E6: ëï³óí»É ¿ ¹ÇÙáõÙ ÁÝÃ³óù ãï³Éáõ Ù³ëÇÝ | F6: Ø»ñÅí»É ¿ | G6: Ø»ñÅí»É ¿ Ù³ëáí | H6: âÇ ³ñÓ³Ïí»É Ñ³ßí»ïáõ Å³Ù³Ý³Ï³ßñç³ÝáõÙ | I6: ²ñÓ³Ïí»É ¿ í×³ñÙ³Ý Ï³ñ·³¹ñáõÃÛáõÝ | J6: êï³óí»É ¿ ³é³ñÏáõÃÛáõÝ | K6: êï³ó»É ¿ ûñÇÝ³Ï³Ý áõÅ | L6: ÂáÕÝí»É ¿ ³ÝÑ»ï¨³Ýù ¨ ûñÇÝ³Ï³Ý áõÅÇ Ù»ç Ùï³Í í×éÇ Ñ»ï¨³Ýù ãÇ ³é³ç³óñ»É | M6: Ð³ßí»ïáõ Å³Ù³Ý³Ï³ßñç³ÝÇ í»ñçáõÙ ³Ý³í³ñï í³ñáõÛÃÝ»ñÇ ÙÝ³óáñ¹Á
C7: 1 | D7: 2 | E7: 3 | F7: 4 | G7: 5 | H7: 6 | I7: 7 | J7: 8 | K7: 9 | L7: 10 | M7: 11
A8: 1 | B8: ¶. Ø³½Ù³ÝÛ³Ý | C8: 77 | D8: 1082 | E8: 4 | F8: 57 | G8: 100 | H8: 62 | I8: 936 | J8: 18 | K8: 513 | L8: 284 | M8: 121
A9: 2 | B9: Ü. Ø³ñ·³ñÛ³Ý | C9: 76 | D9: 1119 | E9: 4 | F9: 63 | H9: 63 | I9: 1065 | J9: 19 | K9: 520 | L9: 307 | M9: 219
A10: 3 | B10: ¾¹. ²Ù³ÉÛ³Ý | C10: 73 | D10: 1021 | E10: 5 | F10: 55 | G10: 132 | H10: 49 | I10: 853 | J10: 16 | K10: 496 | L10: 196 | M10: 145
A11: 4 | B11: ². ´³¹ÇñÛ³Ý | C11: 24 | D11: 824 | E11: 6 | F11: 24 | G11: 8 | H11: 7 | I11: 803 | J11: 39 | K11: 401 | L11: 204 | M11: 159
A12: 5 | B12: ². ¸³íÃÛ³Ý | C12: 74 | D12: 975 | E12: 2 | F12: 42 | G12: 112 | H12: 12 | I12: 881 | J12: 56 | K12: 588 | L12: 189 | M12: 48
A13: 6 | B13: ². ´³µ³Û³Ý | D13: 175 | E13: 2 | F13: 11 | G13: 1 | I13: 161 | J13: 4 | K13: 64 | L13: 49 | M13: 44
A14: 7 | B14: ². ä»ïñáëÛ³Ý | D14: 107 | E14: 3 | F14: 3 | I14: 101 | J14: 2 | K14: 49 | L14: 23 | M14: 27
A15: 8
A16: 9
A17: 10
A18: 11
A19: 12
B20: ÁÝ¹³Ù»ÝÁ | C20: =SUM(C8:C19) -> 324 | D20: =SUM(D8:D19) -> 5303 | E20: =SUM(E8:E19) -> 26 | F20: =SUM(F8:F19) -> 255 | G20: =SUM(G8:G19) -> 353 | H20: =SUM(H8:H19) -> 193 | I20: =SUM(I8:I19) -> 4800 | J20: =SUM(J8:J19) -> 154 | ... M20: =SUM(M8:M19) -> 763

Sheet Shengavit
B1: Ð²ÞìºîìàôÂÚàôÜ
A2: Հավելված 2 Հայաստանի Հանրապետության Դատարանների նախագահների խորհրդի 2007թ. դեկտեմբերի 21-ի թիվ 23Լ որոշման
B3: Շենգավիթ վարչական շրջանի ÁÝ¹Ñ³Ýáõñ Çñ³í³ëáõÃÛ³Ý ³é³çÇÝ ³ïÛ³ÝÇ ¹³ï³ñ³ÝÇ ÏáÕÙÇó í×³ñÙ³Ý Ï³ñ·³¹ñáõÃÛáõÝ ³ñÓ³Ï»Éáõ í³ñáõÛÃÝ»ñÇ ÁÝÃ³óùÇ Ù³ëÇÝ 2014 Ãí³Ï³Ý
A5: êïáõ·Çã Ñ³í³ë³ñáõÙ` 1+2=3+4+5+6+7, 7=8+9+10+11
A6: Ð/Ñ | B6: ¸³ï³íáñÇ ³ÝáõÝ, ³½·³ÝáõÝ | C6: Ð³ßí»ïáõ Å³Ù³Ý³Ï³ßñç³ÝÇ ëÏ½áõÙ ³Ý³í³ñï í³ñáõÛÃÝ»ñÇ ÙÝ³óáñ¹Á | D6: êï³óí»É ¿ í×³ñÙ³Ý Ï³ñ·³¹ñáõÃÛáõÝ ³ñÓ³Ï»Éáõ Ù³ëÇÝ ¹ÇÙáõÙ | E6: ëï³óí»É ¿ ¹ÇÙáõÙ ÁÝÃ³óù ãï³Éáõ Ù³ëÇÝ | F6: Ø»ñÅí»É ¿ | G6: Ø»ñÅí»É ¿ Ù³ëáí | H6: âÇ ³ñÓ³Ïí»É Ñ³ßí»ïáõ Å³Ù³Ý³Ï³ßñç³ÝáõÙ | I6: ²ñÓ³Ïí»É ¿ í×³ñÙ³Ý Ï³ñ·³¹ñáõÃÛáõÝ | J6: êï³óí»É ¿ ³é³ñÏáõÃÛáõÝ | K6: êï³ó»É ¿ ûñÇÝ³Ï³Ý áõÅ | L6: ÂáÕÝí»É ¿ ³ÝÑ»ï¨³Ýù ¨ ûñÇÝ³Ï³Ý áõÅÇ Ù»ç Ùï³Í í×éÇ Ñ»ï¨³Ýù ãÇ ³é³ç³óñ»É | M6: Ð³ßí»ïáõ Å³Ù³Ý³Ï³ßñç³ÝÇ í»ñçáõÙ ³Ý³í³ñï í³ñáõÛÃÝ»ñÇ ÙÝ³óáñ¹Á
C7: 1 | D7: 2 | E7: 3 | F7: 4 | G7: 5 | H7: 6 | I7: 7 | J7: 8 | K7: 9 | L7: 10 | M7: 11
A8: 1 | B8: Ն. Հովսեփյան | C8: 1 | D8: 864 | E8: 1 | F8: 0 | G8: 0 | H8: 0 | I8: 864 | J8: 32 | K8: 397 | L8: 372 | M8: 63
A9: 2 | B9: Ա. Չիչոյան | C9: 0 | D9: 1228 | E9: 1 | F9: 2 | G9: 1 | H9: 0 | I9: 1224 | J9: 29 | K9: 520 | L9: 405 | M9: 270
A10: 3 | B10: Ա. Կուբանյան | C10: 0 | D10: 1229 | E10: 0 | F10: 29 | G10: 40 | H10: 0 | I10: 1160 | J10: 61 | K10: 539 | L10: 509 | M10: 51
A11: 4 | B11: Ի. Բարսեղյան | C11: 0 | D11: 1229 | E11: 2 | F11: 1 | G11: 0 | H11: 0 | I11: 1226 | J11: 53 | K11: 471 | L11: 469 | M11: 233
A12: 5
A13: 6
A14: 7
A15: 8
A16: 9
A17: 10
A18: 11
A19: 12
B20: ÁÝ¹³Ù»ÝÁ | C20: =SUM(C8:C19) -> 1 | D20: =SUM(D8:D19) -> 4550 | E20: =SUM(E8:E19) -> 4 | F20: =SUM(F8:F19) -> 32 | G20: =SUM(G8:G19) -> 41 | H20: =SUM(H8:H19) -> 0 | I20: =SUM(I8:I19) -> 4474 | J20: =SUM(J8:J19) -> 175 | ... M20: =SUM(M8:M19) -> 617

Sheet Erebuni
B1: Ð²ÞìºîìàôÂÚàôÜ
A2: Հավելված 2 Հայաստանի Հանրապետության Դատարանների նախագահների խորհրդի 2007թ. դեկտեմբերի 21-ի թիվ 23Լ որոշման
B3: Էրեբունի և Նուբարաշեն վարչական շրջանների ÁÝ¹Ñ³Ýáõñ Çñ³í³ëáõÃÛ³Ý ³é³çÇÝ ³ïÛ³ÝÇ ¹³ï³ñ³ÝÇ ÏáÕÙÇó í×³ñÙ³Ý Ï³ñ·³¹ñáõÃÛáõÝ ³ñÓ³Ï»Éáõ í³ñáõÛÃÝ»ñÇ ÁÝÃ³óùÇ Ù³ëÇÝ 2014 Ãí³Ï³Ý
A5: êïáõ·Çã Ñ³í³ë³ñáõÙ` 1+2=3+4+5+6+7, 7=8+9+10+11
A6: Ð/Ñ | B6: ¸³ï³íáñÇ ³ÝáõÝ, ³½·³ÝáõÝ | C6: Ð³ßí»ïáõ Å³Ù³Ý³Ï³ßñç³ÝÇ ëÏ½áõÙ ³Ý³í³ñï í³ñáõÛÃÝ»ñÇ ÙÝ³óáñ¹Á | D6: êï³óí»É ¿ í×³ñÙ³Ý Ï³ñ·³¹ñáõÃÛáõÝ ³ñÓ³Ï»Éáõ Ù³ëÇÝ ¹ÇÙáõÙ | E6: ëï³óí»É ¿ ¹ÇÙáõÙ ÁÝÃ³óù ãï³Éáõ Ù³ëÇÝ | F6: Ø»ñÅí»É ¿ | G6: Ø»ñÅí»É ¿ Ù³ëáí | H6: âÇ ³ñÓ³Ïí»É Ñ³ßí»ïáõ Å³Ù³Ý³Ï³ßñç³ÝáõÙ | I6: ²ñÓ³Ïí»É ¿ í×³ñÙ³Ý Ï³ñ·³¹ñáõÃÛáõÝ | J6: êï³óí»É ¿ ³é³ñÏáõÃÛáõÝ | K6: êï³ó»É ¿ ûñÇÝ³Ï³Ý áõÅ | L6: ÂáÕÝí»É ¿ ³ÝÑ»ï¨³Ýù ¨ ûñÇÝ³Ï³Ý áõÅÇ Ù»ç Ùï³Í í×éÇ Ñ»ï¨³Ýù ãÇ ³é³ç³óñ»É | M6: Ð³ßí»ïáõ Å³Ù³Ý³Ï³ßñç³ÝÇ í»ñçáõÙ ³Ý³í³ñï í³ñáõÛÃÝ»ñÇ ÙÝ³óáñ¹Á
C7: 1 | D7: 2 | E7: 3 | F7: 4 | G7: 5 | H7: 6 | I7: 7 | J7: 8 | K7: 9 | L7: 10 | M7: 11
A8: 1 | B8: Վ.Ասլանյան | C8: 0 | D8: 391 | E8: 0 | F8: 15 | G8: 0 | H8: 0 | I8: 376 | J8: 2 | K8: 234 | L8: 140 | M8: 0
A9: 2 | B9: Ե.Եսոյան | C9: 0 | D9: 1381 | E9: 2 | F9: 27 | G9: 1 | H9: 0 | I9: 1351 | J9: 20 | K9: 830 | L9: 434 | M9: 67
A10: 3 | B10: Գ.Խաչատրյան | C10: 0 | D10: 1359 | E10: 0 | F10: 23 | G10: 1 | H10: 0 | I10: 1335 | J10: 28 | K10: 650 | L10: 460 | M10: 197
A11: 4 | B11: Լ. Գրիգորյան | C11: 0 | D11: 1358 | E11: 0 | F11: 28 | G11: 171 | H11: 0 | I11: 1159 | J11: 13 | K11: 629 | L11: 354 | M11: 163
A12: 5
A13: 6
A14: 7
A15: 8
A16: 9
A17: 10
A18: 11
A19: 12
B20: ÁÝ¹³Ù»ÝÁ | C20: =SUM(C8:C19) -> 0 | D20: =SUM(D8:D19) -> 4489 | E20: =SUM(E8:E19) -> 2 | F20: =SUM(F8:F19) -> 93 | G20: =SUM(G8:G19) -> 173 | H20: =SUM(H8:H19) -> 0 | I20: =SUM(I8:I19) -> 4221 | J20: =SUM(J8:J19) -> 63 | ... M20: =SUM(M8:M19) -> 427

Sheet Malacia
B1: Ð²ÞìºîìàôÂÚàôÜ
A2: Հավելված 2 Հայաստանի Հանրապետության Դատարանների նախագահների խորհրդի 2007թ. դեկտեմբերի 21-ի թիվ 23Լ որոշման
B3: Մալաթիա-Սեբաստիա վարչական շրջանների ÁÝ¹Ñ³Ýáõñ Çñ³í³ëáõÃÛ³Ý ³é³çÇÝ ³ïÛ³ÝÇ ¹³ï³ñ³ÝÇ ÏáÕÙÇó í×³ñÙ³Ý Ï³ñ·³¹ñáõÃÛáõÝ ³ñÓ³Ï»Éáõ í³ñáõÛÃÝ»ñÇ ÁÝÃ³óùÇ Ù³ëÇÝ 2014 Ãí³Ï³Ý
A5: êïáõ·Çã Ñ³í³ë³ñáõÙ` 1+2=3+4+5+6+7, 7=8+9+10+11
A6: Ð/Ñ | B6: ¸³ï³íáñÇ ³ÝáõÝ, ³½·³ÝáõÝ | C6: Ð³ßí»ïáõ Å³Ù³Ý³Ï³ßñç³ÝÇ ëÏ½áõÙ ³Ý³í³ñï í³ñáõÛÃÝ»ñÇ ÙÝ³óáñ¹Á | D6: êï³óí»É ¿ í×³ñÙ³Ý Ï³ñ·³¹ñáõÃÛáõÝ ³ñÓ³Ï»Éáõ Ù³ëÇÝ ¹ÇÙáõÙ | E6: ëï³óí»É ¿ ¹ÇÙáõÙ ÁÝÃ³óù ãï³Éáõ Ù³ëÇÝ | F6: Ø»ñÅí»É ¿ | G6: Ø»ñÅí»É ¿ Ù³ëáí | H6: âÇ ³ñÓ³Ïí»É Ñ³ßí»ïáõ Å³Ù³Ý³Ï³ßñç³ÝáõÙ | I6: ²ñÓ³Ïí»É ¿ í×³ñÙ³Ý Ï³ñ·³¹ñáõÃÛáõÝ | J6: êï³óí»É ¿ ³é³ñÏáõÃÛáõÝ | K6: êï³ó»É ¿ ûñÇÝ³Ï³Ý áõÅ | L6: ÂáÕÝí»É ¿ ³ÝÑ»ï¨³Ýù ¨ ûñÇÝ³Ï³Ý áõÅÇ Ù»ç Ùï³Í í×éÇ Ñ»ï¨³Ýù ãÇ ³é³ç³óñ»É | M6: Ð³ßí»ïáõ Å³Ù³Ý³Ï³ßñç³ÝÇ í»ñçáõÙ ³Ý³í³ñï í³ñáõÛÃÝ»ñÇ ÙÝ³óáñ¹Á
C7: 1 | D7: 2 | E7: 3 | F7: 4 | G7: 5 | H7: 6 | I7: 7 | J7: 8 | K7: 9 | L7: 10 | M7: 11
A8: 1 | B8: Ð.ÐáíÑ³ÝÝÇëÛ³Ý | D8: 938 | E8: 54 | F8: 3 | I8: 881 | J8: 14 | K8: 465 | L8: 353 | M8: 49
A9: 2 | B9: Ն. Կարապետյան | D9: 928 | E9: 49 | F9: 487 | I9: 392 | J9: 9 | K9: 95 | L9: 42 | M9: 246
A10: 3 | B10: ².ØÏñïãÛ³Ý | D10: 966 | E10: 14 | F10: 859 | I10: 93 | J10: 2 | K10: 37 | L10: 11 | M10: 43
A11: 4 | B11: Լ. Կատվալյան | D11: 990 | E11: 18 | F11: 87 | I11: 885 | J11: 31 | K11: 379 | L11: 201 | M11: 274
A12: 5
A13: 6
A14: 7
A15: 8
A16: 9
A17: 10
A18: 11
A19: 12
B20: ÁÝ¹³Ù»ÝÁ | C20: =SUM(C8:C19) -> 0 | D20: =SUM(D8:D19) -> 3822 | E20: =SUM(E8:E19) -> 135 | F20: =SUM(F8:F19) -> 1436 | G20: =SUM(G8:G19) -> 0 | H20: =SUM(H8:H19) -> 0 | I20: =SUM(I8:I19) -> 2251 | J20: =SUM(J8:J19) -> 56 | ... M20: =SUM(M8:M19) -> 612

Sheet Armavir
B1: Ð²ÞìºîìàôÂÚàôÜ
A2: Հավելված 2 Հայաստանի Հանրապետության Դատարանների նախագահների խորհրդի 2007թ. դեկտեմբերի 21-ի թիվ 23Լ որոշման
B3: ÐÐ Արմավիրի մարզի ÁÝ¹Ñ³Ýáõñ Çñ³í³ëáõÃÛ³Ý ³é³çÇÝ ³ïÛ³ÝÇ ¹³ï³ñ³ÝÇ ÏáÕÙÇó í×³ñÙ³Ý Ï³ñ·³¹ñáõÃÛáõÝ ³ñÓ³Ï»Éáõ í³ñáõÛÃÝ»ñÇ ÁÝÃ³óùÇ Ù³ëÇÝ 2014 Ãí³Ï³Ý
A5: êïáõ·Çã Ñ³í³ë³ñáõÙ` 1+2=3+4+5+6+7, 7=8+9+10+11
A6: Ð/Ñ | B6: ¸³ï³íáñÇ ³ÝáõÝ, ³½·³ÝáõÝ | C6: Ð³ßí»ïáõ Å³Ù³Ý³Ï³ßñç³ÝÇ ëÏ½áõÙ ³Ý³í³ñï í³ñáõÛÃÝ»ñÇ ÙÝ³óáñ¹Á | D6: êï³óí»É ¿ í×³ñÙ³Ý Ï³ñ·³¹ñáõÃÛáõÝ ³ñÓ³Ï»Éáõ Ù³ëÇÝ ¹ÇÙáõÙ | E6: ëï³óí»É ¿ ¹ÇÙáõÙ ÁÝÃ³óù ãï³Éáõ Ù³ëÇÝ | F6: Ø»ñÅí»É ¿ | G6: Ø»ñÅí»É ¿ Ù³ëáí | H6: âÇ ³ñÓ³Ïí»É Ñ³ßí»ïáõ Å³Ù³Ý³Ï³ßñç³ÝáõÙ | I6: ²ñÓ³Ïí»É ¿ í×³ñÙ³Ý Ï³ñ·³¹ñáõÃÛáõÝ | J6: êï³óí»É ¿ ³é³ñÏáõÃÛáõÝ | K6: êï³ó»É ¿ ûñÇÝ³Ï³Ý áõÅ | L6: ÂáÕÝí»É ¿ ³ÝÑ»ï¨³Ýù ¨ ûñÇÝ³Ï³Ý áõÅÇ Ù»ç Ùï³Í í×éÇ Ñ»ï¨³Ýù ãÇ ³é³ç³óñ»É | M6: Ð³ßí»ïáõ Å³Ù³Ý³Ï³ßñç³ÝÇ í»ñçáõÙ ³Ý³í³ñï í³ñáõÛÃÝ»ñÇ ÙÝ³óáñ¹Á
C7: 1 | D7: 2 | E7: 3 | F7: 4 | G7: 5 | H7: 6 | I7: 7 | J7: 8 | K7: 9 | L7: 10 | M7: 11
A8: 1 | B8: Ս. Մանվել | D8: 880 | I8: 880 | J8: 31 | K8: 525 | L8: 170 | M8: 154
A9: 2 | B9: Ֆ. Գոհար | D9: 879 | F9: 12 | G9: 19 | I9: 848 | J9: 16 | K9: 536 | L9: 191 | M9: 105
A10: 3 | B10: Հ. Էդգար | D10: 871 | F10: 10 | I10: 861 | J10: 63 | K10: 494 | L10: 184 | M10: 120
A11: 4 | B11: Գ. Նաիրա | D11: 1208 | F11: 32 | G11: 311 | H11: 0 | I11: 865 | J11: 74 | K11: 501 | L11: 181 | M11: 109
A12: 5 | B12: Մ. Հովհաննես
A13: 6
A14: 7
A15: 8
A16: 9
A17: 10
A18: 11
A19: 12
B20: ÁÝ¹³Ù»ÝÁ | C20: =SUM(C8:C19) -> 0 | D20: =SUM(D8:D19) -> 3838 | E20: =SUM(E8:E19) -> 0 | F20: =SUM(F8:F19) -> 54 | G20: =SUM(G8:G19) -> 330 | H20: =SUM(H8:H19) -> 0 | I20: =SUM(I8:I19) -> 3454 | J20: =SUM(J8:J19) -> 184 | ... M20: =SUM(M8:M19) -> 488

Sheet Aragacotn
B1: Ð²ÞìºîìàôÂÚàôÜ
A2: Հավելված 2 Հայաստանի Հանրապետության Դատարանների նախագահների խորհրդի 2007թ. դեկտեմբերի 21-ի թիվ 23Լ որոշման
B3: ÐÐ Արագածոտնի մարզի ÁÝ¹Ñ³Ýáõñ Çñ³í³ëáõÃÛ³Ý ³é³çÇÝ ³ïÛ³ÝÇ ¹³ï³ñ³ÝÇ ÏáÕÙÇó í×³ñÙ³Ý Ï³ñ·³¹ñáõÃÛáõÝ ³ñÓ³Ï»Éáõ í³ñáõÛÃÝ»ñÇ ÁÝÃ³óùÇ Ù³ëÇÝ 2014 Ãí³Ï³Ý
A5: êïáõ·Çã Ñ³í³ë³ñáõÙ` 1+2=3+4+5+6+7, 7=8+9+10+11
A6: Ð/Ñ | B6: ¸³ï³íáñÇ ³ÝáõÝ, ³½·³ÝáõÝ | C6: Ð³ßí»ïáõ Å³Ù³Ý³Ï³ßñç³ÝÇ ëÏ½áõÙ ³Ý³í³ñï í³ñáõÛÃÝ»ñÇ ÙÝ³óáñ¹Á | D6: êï³óí»É ¿ í×³ñÙ³Ý Ï³ñ·³¹ñáõÃÛáõÝ ³ñÓ³Ï»Éáõ Ù³ëÇÝ ¹ÇÙáõÙ | E6: ëï³óí»É ¿ ¹ÇÙáõÙ ÁÝÃ³óù ãï³Éáõ Ù³ëÇÝ | F6: Ø»ñÅí»É ¿ | G6: Ø»ñÅí»É ¿ Ù³ëáí | H6: âÇ ³ñÓ³Ïí»É Ñ³ßí»ïáõ Å³Ù³Ý³Ï³ßñç³ÝáõÙ | I6: ²ñÓ³Ïí»É ¿ í×³ñÙ³Ý Ï³ñ·³¹ñáõÃÛáõÝ | J6: êï³óí»É ¿ ³é³ñÏáõÃÛáõÝ | K6: êï³ó»É ¿ ûñÇÝ³Ï³Ý áõÅ | L6: ÂáÕÝí»É ¿ ³ÝÑ»ï¨³Ýù ¨ ûñÇÝ³Ï³Ý áõÅÇ Ù»ç Ùï³Í í×éÇ Ñ»ï¨³Ýù ãÇ ³é³ç³óñ»É | M6: Ð³ßí»ïáõ Å³Ù³Ý³Ï³ßñç³ÝÇ í»ñçáõÙ ³Ý³í³ñï í³ñáõÛÃÝ»ñÇ ÙÝ³óáñ¹Á
C7: 1 | D7: 2 | E7: 3 | F7: 4 | G7: 5 | H7: 6 | I7: 7 | J7: 8 | K7: 9 | L7: 10 | M7: 11
A8: 1 | B8: Մ. Մարգարյան | C8: 7 | D8: 500 | E8: 1 | F8: 60 | G8: 82 | I8: 364 | J8: 8 | K8: 224 | L8: 100 | M8: 32
A9: 2 | B9: Ա. Մարգարյան | D9: 490 | E9: 1 | F9: 26 | G9: 24 | I9: 439 | J9: 13 | K9: 240 | L9: 140 | M9: 46
A10: 3 | B10: Գ. Խաչատրյան | C10: 19 | D10: 554 | E10: 4 | F10: 86 | G10: 65 | I10: 418 | J10: 13 | K10: 258 | L10: 123 | M10: 24
A11: 4 | B11: Հ. Խաչատրյան | C11: 2 | D11: 113 | F11: 3 | I11: 112 | J11: 5 | K11: 82 | L11: 25
A12: 5 | B12: Գ. Նարինյան | D12: 387 | E12: 2 | F12: 42 | G12: 55 | H12: 1 | I12: 287 | J12: 15 | K12: 153 | L12: 86 | M12: 33
A13: 6
A14: 7
A15: 8
A16: 9
A17: 10
A18: 11
A19: 12
B20: ÁÝ¹³Ù»ÝÁ | C20: =SUM(C8:C19) -> 28 | D20: =SUM(D8:D19) -> 2044 | E20: =SUM(E8:E19) -> 8 | F20: =SUM(F8:F19) -> 217 | G20: =SUM(G8:G19) -> 226 | H20: =SUM(H8:H19) -> 1 | I20: =SUM(I8:I19) -> 1620 | J20: =SUM(J8:J19) -> 54 | ... M20: =SUM(M8:M19) -> 135

Sheet Ararat
B1: Ð²ÞìºîìàôÂÚàôÜ
A2: Հավելված 2 Հայաստանի Հանրապետության Դատարանների նախագահների խորհրդի 2007թ. դեկտեմբերի 21-ի թիվ 23Լ որոշման
B3: ՀՀ Արարատի և Վայոց Óորի մարզերի ÁÝ¹Ñ³Ýáõñ Çñ³í³ëáõÃÛ³Ý ³é³çÇÝ ³ïÛ³ÝÇ ¹³ï³ñ³ÝÇ ÏáÕÙÇó í×³ñÙ³Ý Ï³ñ·³¹ñáõÃÛáõÝ ³ñÓ³Ï»Éáõ í³ñáõÛÃÝ»ñÇ ÁÝÃ³óùÇ Ù³ëÇÝ 2014 Ãí³Ï³Ý
A5: êïáõ·Çã Ñ³í³ë³ñáõÙ` 1+2=3+4+5+6+7, 7=8+9+10+11
A6: Ð/Ñ | B6: ¸³ï³íáñÇ ³ÝáõÝ, ³½·³ÝáõÝ | C6: Ð³ßí»ïáõ Å³Ù³Ý³Ï³ßñç³ÝÇ ëÏ½áõÙ ³Ý³í³ñï í³ñáõÛÃÝ»ñÇ ÙÝ³óáñ¹Á | D6: êï³óí»É ¿ í×³ñÙ³Ý Ï³ñ·³¹ñáõÃÛáõÝ ³ñÓ³Ï»Éáõ Ù³ëÇÝ ¹ÇÙáõÙ | E6: ëï³óí»É ¿ ¹ÇÙáõÙ ÁÝÃ³óù ãï³Éáõ Ù³ëÇÝ | F6: Ø»ñÅí»É ¿ | G6: Ø»ñÅí»É ¿ Ù³ëáí | H6: âÇ ³ñÓ³Ïí»É Ñ³ßí»ïáõ Å³Ù³Ý³Ï³ßñç³ÝáõÙ | I6: ²ñÓ³Ïí»É ¿ í×³ñÙ³Ý Ï³ñ·³¹ñáõÃÛáõÝ | J6: êï³óí»É ¿ ³é³ñÏáõÃÛáõÝ | K6: êï³ó»É ¿ ûñÇÝ³Ï³Ý áõÅ | L6: ÂáÕÝí»É ¿ ³ÝÑ»ï¨³Ýù ¨ ûñÇÝ³Ï³Ý áõÅÇ Ù»ç Ùï³Í í×éÇ Ñ»ï¨³Ýù ãÇ ³é³ç³óñ»É | M6: Ð³ßí»ïáõ Å³Ù³Ý³Ï³ßñç³ÝÇ í»ñçáõÙ ³Ý³í³ñï í³ñáõÛÃÝ»ñÇ ÙÝ³óáñ¹Á
C7: 1 | D7: 2 | E7: 3 | F7: 4 | G7: 5 | H7: 6 | I7: 7 | J7: 8 | K7: 9 | L7: 10 | M7: 11
A8: 1 | B8: Լ. Արազյան | C8: 208 | D8: 207 | I8: 415 | K8: 331 | L8: 84
A9: 2 | B9: Հ. Ենոքյան | C9: 291 | D9: 849 | E9: 1 | I9: 1139 | J9: 12 | K9: 782 | L9: 345
A10: 3 | B10: Ե. Քոչարյան | C10: 31 | D10: 1150 | E10: 21 | F10: 154 | I10: 1006 | J10: 18 | K10: 833 | L10: 86 | M10: 69
A11: 4 | B11: Գ. Բալյան | C11: 93 | D11: 1915 | E11: 6 | F11: 2 | H11: 62 | I11: 1938 | J11: 43 | K11: 972 | L11: 470 | M11: 453
A12: 5 | B12: Ա. Հովհաննիսյան | D12: 1405 | E12: 23 | F12: 1 | H12: 39 | I12: 1342 | J12: 71 | K12: 606 | L12: 392 | M12: 273
A13: 6 | B13: Հ. Դարբինյան | D13: 859 | E13: 6 | I13: 853 | J13: 8 | K13: 414 | L13: 180 | M13: 251
A14: 7 | B14: Ս. Սահակյան | D14: 2 | H14: 2
A15: 8 | B15: Ս. Մատինյան | D15: 3 | H15: 3
A16: 9
A17: 10
A18: 11
A19: 12
B20: ÁÝ¹³Ù»ÝÁ | C20: =SUM(C8:C19) -> 623 | D20: =SUM(D8:D19) -> 6390 | E20: =SUM(E8:E19) -> 57 | F20: =SUM(F8:F19) -> 157 | G20: =SUM(G8:G19) -> 0 | H20: =SUM(H8:H19) -> 106 | I20: =SUM(I8:I19) -> 6693 | J20: =SUM(J8:J19) -> 152 | ... L20: =SUM(L8:L19) -> 1557 | M20: =SUM(M8:M13) -> 1046

Sheet Kotaeq
B1: Ð²ÞìºîìàôÂÚàôÜ
A2: Հավելված 2 Հայաստանի Հանրապետության Դատարանների նախագահների խորհրդի 2007թ. դեկտեմբերի 21-ի թիվ 23Լ որոշման
B3: ÐÐ Կոտայքի մարզի ÁÝ¹Ñ³Ýáõñ Çñ³í³ëáõÃÛ³Ý ³é³çÇÝ ³ïÛ³ÝÇ ¹³ï³ñ³ÝÇ ÏáÕÙÇó í×³ñÙ³Ý Ï³ñ·³¹ñáõÃÛáõÝ ³ñÓ³Ï»Éáõ í³ñáõÛÃÝ»ñÇ ÁÝÃ³óùÇ Ù³ëÇÝ 2014 Ãí³Ï³Ý
A5: êïáõ·Çã Ñ³í³ë³ñáõÙ` 1+2=3+4+5+6+7, 7=8+9+10+11
A6: Ð/Ñ | B6: ¸³ï³íáñÇ ³ÝáõÝ, ³½·³ÝáõÝ | C6: Ð³ßí»ïáõ Å³Ù³Ý³Ï³ßñç³ÝÇ ëÏ½áõÙ ³Ý³í³ñï í³ñáõÛÃÝ»ñÇ ÙÝ³óáñ¹Á | D6: êï³óí»É ¿ í×³ñÙ³Ý Ï³ñ·³¹ñáõÃÛáõÝ ³ñÓ³Ï»Éáõ Ù³ëÇÝ ¹ÇÙáõÙ | E6: ëï³óí»É ¿ ¹ÇÙáõÙ ÁÝÃ³óù ãï³Éáõ Ù³ëÇÝ | F6: Ø»ñÅí»É ¿ | G6: Ø»ñÅí»É ¿ Ù³ëáí | H6: âÇ ³ñÓ³Ïí»É Ñ³ßí»ïáõ Å³Ù³Ý³Ï³ßñç³ÝáõÙ | I6: ²ñÓ³Ïí»É ¿ í×³ñÙ³Ý Ï³ñ·³¹ñáõÃÛáõÝ | J6: êï³óí»É ¿ ³é³ñÏáõÃÛáõÝ | K6: êï³ó»É ¿ ûñÇÝ³Ï³Ý áõÅ | L6: ÂáÕÝí»É ¿ ³ÝÑ»ï¨³Ýù ¨ ûñÇÝ³Ï³Ý áõÅÇ Ù»ç Ùï³Í í×éÇ Ñ»ï¨³Ýù ãÇ ³é³ç³óñ»É | M6: Ð³ßí»ïáõ Å³Ù³Ý³Ï³ßñç³ÝÇ í»ñçáõÙ ³Ý³í³ñï í³ñáõÛÃÝ»ñÇ ÙÝ³óáñ¹Á
C7: 1 | D7: 2 | E7: 3 | F7: 4 | G7: 5 | H7: 6 | I7: 7 | J7: 8 | K7: 9 | L7: 10 | M7: 11
A8: 1 | B8: Ա. Սիսակյան | C8: 19 | D8: 1014 | E8: 2 | I8: 1031 | J8: 31 | K8: 455 | L8: 167 | M8: 378
A9: 2 | B9: Տ.Փոլադյան | C9: 0 | D9: 969 | F9: 6 | G9: 63 | H9: 0 | I9: 900 | J9: 42 | K9: 413 | L9: 254 | M9: 191
A10: 3 | B10: Ս. Թորոսյան | C10: 0 | D10: 469 | F10: 1 | H10: 20 | I10: 448 | J10: 13 | K10: 225 | L10: 126 | M10: 84
A11: 4 | B11: Ն. Գալստյան | C11: 392 | D11: 1261 | E11: 4 | F11: 4 | H11: 202 | I11: 1443 | J11: 17 | K11: 828 | L11: 329 | M11: 269
A12: 5 | B12: Գ. Հեբոյան | C12: 0 | D12: 1190 | F12: 2 | I12: 1188 | J12: 226 | K12: 443 | L12: 285 | M12: 234
A13: 6 | B13: Էդ.Սեդրակյան | C13: 53 | D13: 1308 | E13: 2 | F13: 20 | H13: 87 | I13: 1252 | J13: 100 | K13: 712 | L13: 280 | M13: 160
A14: 7
A15: 8
A16: 9
A17: 10
A18: 11
A19: 12
B20: ÁÝ¹³Ù»ÝÁ | C20: =SUM(C8:C19) -> 464 | D20: =SUM(D8:D19) -> 6211 | E20: =SUM(E8:E19) -> 8 | F20: =SUM(F8:F19) -> 33 | G20: =SUM(G8:G19) -> 63 | H20: =SUM(H8:H19) -> 309 | I20: =SUM(I8:I19) -> 6262 | J20: =SUM(J8:J19) -> 429 | ... M20: =SUM(M8:M19) -> 1316

Sheet Gexarquniq
B1: Ð²ÞìºîìàôÂÚàôÜ
A2: Հավելված 2 Հայաստանի Հանրապետության Դատարանների նախագահների խորհրդի 2007թ. դեկտեմբերի 21-ի թիվ 23Լ որոշման
B3: ÐÐ Գեղարքունիքի մարզի ÁÝ¹Ñ³Ýáõñ Çñ³í³ëáõÃÛ³Ý ³é³çÇÝ ³ïÛ³ÝÇ ¹³ï³ñ³ÝÇ ÏáÕÙÇó í×³ñÙ³Ý Ï³ñ·³¹ñáõÃÛáõÝ ³ñÓ³Ï»Éáõ í³ñáõÛÃÝ»ñÇ ÁÝÃ³óùÇ Ù³ëÇÝ 2014 Ãí³Ï³Ý
A5: êïáõ·Çã Ñ³í³ë³ñáõÙ` 1+2=3+4+5+6+7, 7=8+9+10+11
A6: Ð/Ñ | B6: ¸³ï³íáñÇ ³ÝáõÝ, ³½·³ÝáõÝ | C6: Ð³ßí»ïáõ Å³Ù³Ý³Ï³ßñç³ÝÇ ëÏ½áõÙ ³Ý³í³ñï í³ñáõÛÃÝ»ñÇ ÙÝ³óáñ¹Á | D6: êï³óí»É ¿ í×³ñÙ³Ý Ï³ñ·³¹ñáõÃÛáõÝ ³ñÓ³Ï»Éáõ Ù³ëÇÝ ¹ÇÙáõÙ | E6: ëï³óí»É ¿ ¹ÇÙáõÙ ÁÝÃ³óù ãï³Éáõ Ù³ëÇÝ | F6: Ø»ñÅí»É ¿ | G6: Ø»ñÅí»É ¿ Ù³ëáí | H6: âÇ ³ñÓ³Ïí»É Ñ³ßí»ïáõ Å³Ù³Ý³Ï³ßñç³ÝáõÙ | I6: ²ñÓ³Ïí»É ¿ í×³ñÙ³Ý Ï³ñ·³¹ñáõÃÛáõÝ | J6: êï³óí»É ¿ ³é³ñÏáõÃÛáõÝ | K6: êï³ó»É ¿ ûñÇÝ³Ï³Ý áõÅ | L6: ÂáÕÝí»É ¿ ³ÝÑ»ï¨³Ýù ¨ ûñÇÝ³Ï³Ý áõÅÇ Ù»ç Ùï³Í í×éÇ Ñ»ï¨³Ýù ãÇ ³é³ç³óñ»É | M6: Ð³ßí»ïáõ Å³Ù³Ý³Ï³ßñç³ÝÇ í»ñçáõÙ ³Ý³í³ñï í³ñáõÛÃÝ»ñÇ ÙÝ³óáñ¹Á
C7: 1 | D7: 2 | E7: 3 | F7: 4 | G7: 5 | H7: 6 | I7: 7 | J7: 8 | K7: 9 | L7: 10 | M7: 11
A8: 1 | B8: Ա. Թամրազյան | C8: 1 | D8: 606 | I8: 607 | J8: 19 | K8: 297 | L8: 228 | M8: 63
A9: 2 | B9: Ա. Գաբրիելյան | D9: 511 | F9: 13 | I9: 498 | J9: 12 | K9: 210 | L9: 170 | M9: 106
A10: 3 | B10: Ս. Մանուկյան | D10: 672 | E10: 1 | F10: 27 | H10: 20 | I10: 624 | J10: 28 | K10: 347 | L10: 191 | M10: 58
A11: 4 | B11: Վ. Վարդանյան | D11: 972 | I11: 972 | J11: 48 | K11: 703 | L11: 192 | M11: 29
B17: ÁÝ¹³Ù»ÝÁ | C17: =SUM(C8:C16) -> 1 | D17: =SUM(D8:D16) -> 2761 | E17: =SUM(E8:E16) -> 1 | F17: =SUM(F8:F16) -> 40 | G17: =SUM(G8:G16) -> 0 | H17: =SUM(H8:H16) -> 20 | I17: =SUM(I8:I16) -> 2701 | J17: =SUM(J8:J16) -> 107 | ... M17: =SUM(M8:M16) -> 256

Sheet Lori
B1: Ð²ÞìºîìàôÂÚàôÜ
A2: Հավելված 2 Հայաստանի Հանրապետության Դատարանների նախագահների խորհրդի 2007թ. դեկտեմբերի 21-ի թիվ 23Լ որոշման
B3: ÐÐ Լոռու մարզի ÁÝ¹Ñ³Ýáõñ Çñ³í³ëáõÃÛ³Ý ³é³çÇÝ ³ïÛ³ÝÇ ¹³ï³ñ³ÝÇ ÏáÕÙÇó í×³ñÙ³Ý Ï³ñ·³¹ñáõÃÛáõÝ ³ñÓ³Ï»Éáõ í³ñáõÛÃÝ»ñÇ ÁÝÃ³óùÇ Ù³ëÇÝ 2014 Ãí³Ï³Ý
A5: êïáõ·Çã Ñ³í³ë³ñáõÙ` 1+2=3+4+5+6+7, 7=8+9+10+11
A6: Ð/Ñ | B6: ¸³ï³íáñÇ ³ÝáõÝ, ³½·³ÝáõÝ | C6: Ð³ßí»ïáõ Å³Ù³Ý³Ï³ßñç³ÝÇ ëÏ½áõÙ ³Ý³í³ñï í³ñáõÛÃÝ»ñÇ ÙÝ³óáñ¹Á | D6: êï³óí»É ¿ í×³ñÙ³Ý Ï³ñ·³¹ñáõÃÛáõÝ ³ñÓ³Ï»Éáõ Ù³ëÇÝ ¹ÇÙáõÙ | E6: ëï³óí»É ¿ ¹ÇÙáõÙ ÁÝÃ³óù ãï³Éáõ Ù³ëÇÝ | F6: Ø»ñÅí»É ¿ | G6: Ø»ñÅí»É ¿ Ù³ëáí | H6: âÇ ³ñÓ³Ïí»É Ñ³ßí»ïáõ Å³Ù³Ý³Ï³ßñç³ÝáõÙ | I6: ²ñÓ³Ïí»É ¿ í×³ñÙ³Ý Ï³ñ·³¹ñáõÃÛáõÝ | J6: êï³óí»É ¿ ³é³ñÏáõÃÛáõÝ | K6: êï³ó»É ¿ ûñÇÝ³Ï³Ý áõÅ | L6: ÂáÕÝí»É ¿ ³ÝÑ»ï¨³Ýù ¨ ûñÇÝ³Ï³Ý áõÅÇ Ù»ç Ùï³Í í×éÇ Ñ»ï¨³Ýù ãÇ ³é³ç³óñ»É | M6: Ð³ßí»ïáõ Å³Ù³Ý³Ï³ßñç³ÝÇ í»ñçáõÙ ³Ý³í³ñï í³ñáõÛÃÝ»ñÇ ÙÝ³óáñ¹Á
C7: 1 | D7: 2 | E7: 3 | F7: 4 | G7: 5 | H7: 6 | I7: 7 | J7: 8 | K7: 9 | L7: 10 | M7: 11
A8: 1 | B8: ¶. Հովհաննիսյան | D8: 299 | I8: 299 | J8: 21 | K8: 105 | L8: 60 | M8: 113
A9: 2 | B9: Ê. Խաչատրյան | C9: 65 | D9: 1552 | F9: 4 | H9: 13 | I9: 1600 | J9: 68 | K9: 571 | L9: 265 | M9: 696
A10: 3 | B10: ´. Գրիգորյան | D10: 214 | F10: 1 | I10: 213 | J10: 22 | K10: 110 | L10: 81
A11: 4 | B11: ì. Հովնանյան | D11: 231 | F11: 191 | I11: 40 | K11: 16 | L11: 24
A12: 5 | B12: Ü. Ավետիսյան | D12: 244 | I12: 244 | J12: 11 | K12: 139 | L12: 94
A13: 6 | B13: Ա. Արթուր | C13: 6 | D13: 311 | E13: 0 | F13: 6 | G13: 30 | H13: 0 | I13: 281 | J13: 20 | K13: 215 | L13: 46 | M13: 0
A14: 7 | B14: Գ. Գուրգեն | D14: 174 | I14: 174 | J14: 23 | K14: 82 | L14: 56 | M14: 13
A15: 8 | B15: Ե. Սարգիս | D15: 600 | F15: 263 | I15: 337 | J15: 24 | K15: 149 | L15: 91 | M15: 73
A16: 9
A17: 10
A18: 11
A19: 12
B20: ÁÝ¹³Ù»ÝÁ | C20: =SUM(C8:C19) -> 71 | D20: =SUM(D8:D19) -> 3625 | E20: =SUM(E8:E19) -> 0 | F20: =SUM(F8:F19) -> 465 | G20: =SUM(G8:G19) -> 30 | H20: =SUM(H8:H19) -> 13 | I20: =SUM(I8:I19) -> 3188 | J20: =SUM(J8:J19) -> 189 | ... M20: =SUM(M8:M19) -> 895
B22: Գ.Հովհաննիսյան 113 գործ կազմի փոփոխությամբ փոխանցվել է Խ.Խաչատրյանին

Sheet Syuniq
B1: Ð²ÞìºîìàôÂÚàôÜ
A2: Հավելված 2 Հայաստանի Հանրապետության Դատարանների նախագահների խորհրդի 2007թ. դեկտեմբերի 21-ի թիվ 23Լ որոշման
B3: ÐÐ Սյունիքի մարզի ÁÝ¹Ñ³Ýáõñ Çñ³í³ëáõÃÛ³Ý ³é³çÇÝ ³ïÛ³ÝÇ ¹³ï³ñ³ÝÇ ÏáÕÙÇó í×³ñÙ³Ý Ï³ñ·³¹ñáõÃÛáõÝ ³ñÓ³Ï»Éáõ í³ñáõÛÃÝ»ñÇ ÁÝÃ³óùÇ Ù³ëÇÝ 2014 Ãí³Ï³Ý
A5: êïáõ·Çã Ñ³í³ë³ñáõÙ` 1+2=3+4+5+6+7, 7=8+9+10+11
A6: Ð/Ñ | B6: ¸³ï³íáñÇ ³ÝáõÝ, ³½·³ÝáõÝ | C6: Ð³ßí»ïáõ Å³Ù³Ý³Ï³ßñç³ÝÇ ëÏ½áõÙ ³Ý³í³ñï í³ñáõÛÃÝ»ñÇ ÙÝ³óáñ¹Á | D6: êï³óí»É ¿ í×³ñÙ³Ý Ï³ñ·³¹ñáõÃÛáõÝ ³ñÓ³Ï»Éáõ Ù³ëÇÝ ¹ÇÙáõÙ | E6: ëï³óí»É ¿ ¹ÇÙáõÙ ÁÝÃ³óù ãï³Éáõ Ù³ëÇÝ | F6: Ø»ñÅí»É ¿ | G6: Ø»ñÅí»É ¿ Ù³ëáí | H6: âÇ ³ñÓ³Ïí»É Ñ³ßí»ïáõ Å³Ù³Ý³Ï³ßñç³ÝáõÙ | I6: ²ñÓ³Ïí»É ¿ í×³ñÙ³Ý Ï³ñ·³¹ñáõÃÛáõÝ | J6: êï³óí»É ¿ ³é³ñÏáõÃÛáõÝ | K6: êï³ó»É ¿ ûñÇÝ³Ï³Ý áõÅ | L6: ÂáÕÝí»É ¿ ³ÝÑ»ï¨³Ýù ¨ ûñÇÝ³Ï³Ý áõÅÇ Ù»ç Ùï³Í í×éÇ Ñ»ï¨³Ýù ãÇ ³é³ç³óñ»É | M6: Ð³ßí»ïáõ Å³Ù³Ý³Ï³ßñç³ÝÇ í»ñçáõÙ ³Ý³í³ñï í³ñáõÛÃÝ»ñÇ ÙÝ³óáñ¹Á
C7: 1 | D7: 2 | E7: 3 | F7: 4 | G7: 5 | H7: 6 | I7: 7 | J7: 8 | K7: 9 | L7: 10 | M7: 11
A8: 1 | B8: Ս.Գրիգորյան | C8: 0 | D8: 207 | E8: 0 | F8: 2 | G8: 3 | H8: 0 | I8: 202 | J8: 6 | K8: 124 | L8: 49 | M8: 23
A9: 2 | B9: Ա.Թումանյան | C9: 43 | D9: 561 | E9: 0 | F9: 12 | G9: 139 | H9: 41 | I9: 412 | J9: 14 | K9: 131 | L9: 156 | M9: 111
A10: 3 | B10: Է.Հովհաննիսյան | C10: 0 | D10: 89 | E10: 0 | F10: 1 | G10: 9 | H10: 0 | I10: 79 | J10: 2 | K10: 76 | L10: 1 | M10: 0
A11: 4 | B11: Մ.Հովակիմյան | C11: 85 | D11: 620 | E11: 6 | F11: 32 | G11: 120 | H11: 10 | I11: 537 | J11: 19 | K11: 230 | L11: 151 | M11: 137
A12: 5 | B12: Ի.Բեգլարյան | C12: 77 | D12: 606 | E12: 0 | F12: 1 | G12: 121 | H12: 27 | I12: 534 | J12: 48 | K12: 340 | L12: 95 | M12: 51
A13: 6
A14: 7
A15: 8
A16: 9
A17: 10
A18: 11
A19: 12
B20: ÁÝ¹³Ù»ÝÁ | C20: =SUM(C8:C19) -> 205 | D20: =SUM(D8:D19) -> 2083 | E20: =SUM(E8:E19) -> 6 | F20: =SUM(F8:F19) -> 48 | G20: =SUM(G8:G19) -> 392 | H20: =SUM(H8:H19) -> 78 | I20: =SUM(I8:I19) -> 1764 | J20: =SUM(J8:J19) -> 89 | ... M20: =SUM(M8:M19) -> 322

Sheet Shirak
B1: Ð²ÞìºîìàôÂÚàôÜ
A2: Հավելված 2 Հայաստանի Հանրապետության Դատարանների նախագահների խորհրդի 2007թ. դեկտեմբերի 21-ի թիվ 23Լ որոշման
B3: ÐÐ Շիրակի մարզի ÁÝ¹Ñ³Ýáõñ Çñ³í³ëáõÃÛ³Ý ³é³çÇÝ ³ïÛ³ÝÇ ¹³ï³ñ³ÝÇ ÏáÕÙÇó í×³ñÙ³Ý Ï³ñ·³¹ñáõÃÛáõÝ ³ñÓ³Ï»Éáõ í³ñáõÛÃÝ»ñÇ ÁÝÃ³óùÇ Ù³ëÇÝ 2014 Ãí³Ï³Ý
A5: êïáõ·Çã Ñ³í³ë³ñáõÙ` 1+2=3+4+5+6+7, 7=8+9+10+11
A6: Ð/Ñ | B6: ¸³ï³íáñÇ ³ÝáõÝ, ³½·³ÝáõÝ | C6: Ð³ßí»ïáõ Å³Ù³Ý³Ï³ßñç³ÝÇ ëÏ½áõÙ ³Ý³í³ñï í³ñáõÛÃÝ»ñÇ ÙÝ³óáñ¹Á | D6: êï³óí»É ¿ í×³ñÙ³Ý Ï³ñ·³¹ñáõÃÛáõÝ ³ñÓ³Ï»Éáõ Ù³ëÇÝ ¹ÇÙáõÙ | E6: ëï³óí»É ¿ ¹ÇÙáõÙ ÁÝÃ³óù ãï³Éáõ Ù³ëÇÝ | F6: Ø»ñÅí»É ¿ | G6: Ø»ñÅí»É ¿ Ù³ëáí | H6: âÇ ³ñÓ³Ïí»É Ñ³ßí»ïáõ Å³Ù³Ý³Ï³ßñç³ÝáõÙ | I6: ²ñÓ³Ïí»É ¿ í×³ñÙ³Ý Ï³ñ·³¹ñáõÃÛáõÝ | J6: êï³óí»É ¿ ³é³ñÏáõÃÛáõÝ | K6: êï³ó»É ¿ ûñÇÝ³Ï³Ý áõÅ | L6: ÂáÕÝí»É ¿ ³ÝÑ»ï¨³Ýù ¨ ûñÇÝ³Ï³Ý áõÅÇ Ù»ç Ùï³Í í×éÇ Ñ»ï¨³Ýù ãÇ ³é³ç³óñ»É | M6: Ð³ßí»ïáõ Å³Ù³Ý³Ï³ßñç³ÝÇ í»ñçáõÙ ³Ý³í³ñï í³ñáõÛÃÝ»ñÇ ÙÝ³óáñ¹Á
C7: 1 | D7: 2 | E7: 3 | F7: 4 | G7: 5 | H7: 6 | I7: 7 | J7: 8 | K7: 9 | L7: 10 | M7: 11
A8: 1 | B8: Գ. Հովհաննիսյան | C8: 0 | D8: 38 | E8: 0 | F8: 0 | G8: 0 | H8: 0 | I8: 38 | J8: 0 | K8: 11 | L8: 7 | M8: 20
A9: 2 | B9: Մ. Մարտիրոսյան | D9: 648 | E9: 4 | F9: 5 | I9: 639 | J9: 50 | K9: 337 | L9: 133 | M9: 119
A10: 3 | B10: Հ. Ղազարյան | D10: 527 | E10: 3 | F10: 10 | G10: 0 | H10: 21 | I10: 493 | J10: 23 | K10: 235 | L10: 188 | M10: 47
A11: 4 | B11: Ա. Խաչատրյան | C11: 0 | D11: 478 | E11: 0 | F11: 46 | G11: 0 | H11: 0 | I11: 432 | J11: 31 | K11: 213 | L11: 171 | M11: 17
A12: 5 | B12: Մ. Գեվորգյան | D12: 437 | E12: 1 | F12: 1 | G12: 0 | H12: 0 | I12: 435 | J12: 21 | K12: 194 | L12: 145 | M12: 75
A13: 6 | B13: Գ. Նարինյան
A14: 7 | B14: Լ. Խաչատրյան | C14: 1 | D14: 499 | E14: 0 | F14: 2 | G14: 0 | H14: 5 | I14: 493 | J14: 24 | K14: 220 | L14: 149 | M14: 100
A15: 8 | B15: Ս. Մնացյան | D15: 885 | E15: 0 | F15: 0 | G15: 0 | H15: 0 | I15: 885 | J15: 36 | K15: 596 | L15: 190 | M15: 63
A16: 9 | B16: Հ. Միքայելյան | D16: 457 | F16: 22 | G16: 30 | I16: 405 | J16: 30 | K16: 180 | L16: 164 | M16: 31
A17: 10 | B17: Բ. Մկրտչյան | D17: 101 | F17: 2 | G17: 6 | I17: 93 | J17: 3 | K17: 22 | L17: 18 | M17: 50
A18: 11
A19: 12
B20: ÁÝ¹³Ù»ÝÁ | C20: =SUM(C8:C19) -> 1 | D20: =SUM(D8:D19) -> 4070 | E20: =SUM(E8:E19) -> 8 | F20: =SUM(F8:F19) -> 88 | G20: =SUM(G8:G19) -> 36 | H20: =SUM(H8:H19) -> 26 | I20: =SUM(I8:I19) -> 3913 | J20: =SUM(J8:J19) -> 218 | ... M20: =SUM(M8:M19) -> 522

Sheet Tavush
B1: Ð²ÞìºîìàôÂÚàôÜ
A2: Հավելված 2 Հայաստանի Հանրապետության Դատարանների նախագահների խորհրդի 2007թ. դեկտեմբերի 21-ի թիվ 23Լ որոշման
B3: ÐÐ Տավուշի մարզի ÁÝ¹Ñ³Ýáõñ Çñ³í³ëáõÃÛ³Ý ³é³çÇÝ ³ïÛ³ÝÇ ¹³ï³ñ³ÝÇ ÏáÕÙÇó í×³ñÙ³Ý Ï³ñ·³¹ñáõÃÛáõÝ ³ñÓ³Ï»Éáõ í³ñáõÛÃÝ»ñÇ ÁÝÃ³óùÇ Ù³ëÇÝ 2014 Ãí³Ï³Ý
A5: êïáõ·Çã Ñ³í³ë³ñáõÙ` 1+2=3+4+5+6+7, 7=8+9+10+11
A6: Ð/Ñ | B6: ¸³ï³íáñÇ ³ÝáõÝ, ³½·³ÝáõÝ | C6: Ð³ßí»ïáõ Å³Ù³Ý³Ï³ßñç³ÝÇ ëÏ½áõÙ ³Ý³í³ñï í³ñáõÛÃÝ»ñÇ ÙÝ³óáñ¹Á | D6: êï³óí»É ¿ í×³ñÙ³Ý Ï³ñ·³¹ñáõÃÛáõÝ ³ñÓ³Ï»Éáõ Ù³ëÇÝ ¹ÇÙáõÙ | E6: ëï³óí»É ¿ ¹ÇÙáõÙ ÁÝÃ³óù ãï³Éáõ Ù³ëÇÝ | F6: Ø»ñÅí»É ¿ | G6: Ø»ñÅí»É ¿ Ù³ëáí | H6: âÇ ³ñÓ³Ïí»É Ñ³ßí»ïáõ Å³Ù³Ý³Ï³ßñç³ÝáõÙ | I6: ²ñÓ³Ïí»É ¿ í×³ñÙ³Ý Ï³ñ·³¹ñáõÃÛáõÝ | J6: êï³óí»É ¿ ³é³ñÏáõÃÛáõÝ | K6: êï³ó»É ¿ ûñÇÝ³Ï³Ý áõÅ | L6: ÂáÕÝí»É ¿ ³ÝÑ»ï¨³Ýù ¨ ûñÇÝ³Ï³Ý áõÅÇ Ù»ç Ùï³Í í×éÇ Ñ»ï¨³Ýù ãÇ ³é³ç³óñ»É | M6: Ð³ßí»ïáõ Å³Ù³Ý³Ï³ßñç³ÝÇ í»ñçáõÙ ³Ý³í³ñï í³ñáõÛÃÝ»ñÇ ÙÝ³óáñ¹Á
C7: 1 | D7: 2 | E7: 3 | F7: 4 | G7: 5 | H7: 6 | I7: 7 | J7: 8 | K7: 9 | L7: 10 | M7: 11
A8: 1 | B8: Ա. Խաչիկյան | C8: 17 | D8: 714 | F8: 5 | I8: 726 | J8: 41 | K8: 423 | L8: 167 | M8: 95
A9: 2 | B9: Ա,Կուրեխյան | D9: 675 | F9: 21 | I9: 654 | J9: 36 | K9: 362 | L9: 169 | M9: 87
A10: 3
A11: 4
A12: 5
A13: 6
A14: 7
A15: 8
A16: 9
A17: 10
A18: 11
A19: 12
B20: ÁÝ¹³Ù»ÝÁ | C20: =SUM(C8:C19) -> 17 | D20: =SUM(D8:D19) -> 1389 | E20: =SUM(E8:E19) -> 0 | F20: =SUM(F8:F19) -> 26 | G20: =SUM(G8:G19) -> 0 | H20: =SUM(H8:H19) -> 0 | I20: =SUM(I8:I19) -> 1380 | J20: =SUM(J8:J19) -> 77 | ... M20: =SUM(M8:M19) -> 182
