Workbook

Sheet Ընդհանուր
A1: ՀԱՇՎԵՏՎՈՒԹՅՈՒՆ
A2: 2020թ.տարեկան | C2: ԱՆՉԱՓԱՀԱՍ ԴԱՏԱՊԱՐՏՅԱԼՆԵՐԻ ՎԵՐԱԲԵՐՅԱԼ
A3: Վիճակագրական տողի համարը | B3: ՀԱՆՑԱԳՈՐԾՈՒԹՅՈՒՆՆԵՐԻ ՏԵՍԱԿՆԵՐԸ | C3: ՀՀ Քրեական օրենսգրքի հոդվածը | D3: Հանցագործությունը կատարել են | G3: նրանցից | L3: Դատապարտյալների նկատմամբ նշանակված հիմնական պատիժներ | U3: նշանակված պատիժը պայմանականորեն չի կիրառվել | V3: կիրառվել է համաներման ակտ | W3: Կիրառվել են դաստիարակչական բնույթի հարկադրանքի միջոց | X3: Անձանց թիվը, որոնք մինչև վերջին հանցագործությունը կատարելը
D4: 14-16 տարեկանում | E4: 16-18 տարեկանում | F4: Ընդամենը | G4: աղջիկներ | H4: չեն աշխատել, չեն սովորել | I4: անձինք, որոնք հանցագործությունը կատարել են | L4: Ա զ ա տ ա զ ր կ ու մ | T4: այլ պատիժներ | X4: գտնվել են ոստիկանության մարմիններում հաշվառման մեջ | Y4: կատարել են հանցագործություն և եղել են
Y5: ազատված քրեական պատասխանատվությունից | Z5: դատապարտված | AA5: Այդ թվում
B6: ՍՏՈՒԳԻՉ ՀԱՎԱՍԱՐՈՒՄՆԵՐ 3=1+2, 16=9+10+11+12+13+14+15, 3=16+17 | I6: ալկ., թմրամիջ. կամ թնրեցնող այլ նյութերի ազդեցության տակ | J6: Մի խումբ անձանց կազմում | K6: այդ թվում՝ մեծահասակների մասնակցությամբ | L6: 1 տարի ներառյալ | M6: 1 տարուց ավել, մինչև 2 տարի ներառյալ | N6: 2 տարուց ավել, մինչև 3 տարի ներառյալ | O6: 3 տարուց ավել, մինչև 5 տարի ներառյալ | P6: 5 տարուց ավել, մինչև 8 տարի ներառյալ | Q6: 8 տարուց ավել, մինչև 10 տարի ներառյալ | R6: 10 տարուց ավել, մինչև 12տարի ներառյալ | S6: ընդամենը | AA6: դատավճռի կատարման հետաձգումով | AB6: պայմանական դատապարտություն
D7: 1 | E7: 2 | F7: 3 | G7: 4 | H7: 5 | I7: 6 | J7: 7 | K7: 8 | L7: 9 | M7: 10 | N7: 11 | O7: 12 | P7: 13 | Q7: 14 | R7: 15 | S7: 16 | T7: 17 | U7: 18 | V7: 19 | W7: 20 | X7: 21 | Y7: 22 | Z7: 23 | AA7: 24 | AB7: 25
A8: 1. | B8: Ընդամենը կյանքի և առողջության դեմ ուղղված հանցագործությունները | D8: =SUM(Լոռի!D8+'Արագածոտն '!D8+'Երևան քաղաք'!D8+'Արարատ և Վայոց ձոր'!D8+Արմավիր!D8+Կոտայք!D8+Շիրակ!D8+Տավուշ!D8+Սյունիք!D8+Գեղարքունիք!D8) -> 4 | E8: =SUM(Լոռի!E8+'Արագածոտն '!E8+'Երևան քաղաք'!E8+'Արարատ և Վայոց ձոր'!E8+Արմավիր!E8+Կոտայք!E8+Շիրակ!E8+Տավուշ!E8+Սյունիք!E8+Գեղարքունիք!E8) -> 4 | F8: =SUM(Լոռի!F8+'Արագածոտն '!F8+'Երևան քաղաք'!F8+'Արարատ և Վայոց ձոր'!F8+Արմավիր!F8+Կոտայք!F8+Շիրակ!F8+Տավուշ!F8+Սյունիք!F8+Գեղարքունիք!F8) -> 8 | G8: =SUM(Լոռի!G8+'Արագածոտն '!G8+'Երևան քաղաք'!G8+'Արարատ և Վայոց ձոր'!G8+Արմավիր!G8+Կոտայք!G8+Շիրակ!G8+Տավուշ!G8+Սյունիք!G8+Գեղարքունիք!G8) -> 0 | H8: =SUM(Լոռի!H8+'Արագածոտն '!H8+'Երևան քաղաք'!H8+'Արարատ և Վայոց ձոր'!H8+Արմավիր!H8+Կոտայք!H8+Շիրակ!H8+Տավուշ!H8+Սյունիք!H8+Գեղարքունիք!H8) -> 2 | I8: =SUM(Լոռի!I8+'Արագածոտն '!I8+'Երևան քաղաք'!I8+'Արարատ և Վայոց ձոր'!I8+Արմավիր!I8+Կոտայք!I8+Շիրակ!I8+Տավուշ!I8+Սյունիք!I8+Գեղարքունիք!I8) -> 0 | J8: =SUM(Լոռի!J8+'Արագածոտն '!J8+'Երևան քաղաք'!J8+'Արարատ և Վայոց ձոր'!J8+Արմավիր!J8+Կոտայք!J8+Շիրակ!J8+Տավուշ!J8+Սյունիք!J8+Գեղարքունիք!J8) -> 0 | K8: =SUM(Լոռի!K8+'Արագածոտն '!K8+'Երևան քաղաք'!K8+'Արարատ և Վայոց ձոր'!K8+Արմավիր!K8+Կոտայք!K8+Շիրակ!K8+Տավուշ!K8+Սյունիք!K8+Գեղարքունիք!K8) -> 0 | ... AB8: =SUM(Լոռի!AB8+'Արագածոտն '!AB8+'Երևան քաղաք'!AB8+'Արարատ և Վայոց ձոր'!AB8+Արմավիր!AB8+Կոտայք!AB8+Շիրակ!AB8+Տավուշ!AB8+Սյունիք!AB8+Գեղարքունիք!AB8) -> 0
A9: 1.1 | B9: Սպանությունը | C9: 104 | D9: =SUM(Լոռի!D9+'Արագածոտն '!D9+'Երևան քաղաք'!D9+'Արարատ և Վայոց ձոր'!D9+Արմավիր!D9+Կոտայք!D9+Շիրակ!D9+Տավուշ!D9+Սյունիք!D9+Գեղարքունիք!D9) -> 0 | E9: =SUM(Լոռի!E9+'Արագածոտն '!E9+'Երևան քաղաք'!E9+'Արարատ և Վայոց ձոր'!E9+Արմավիր!E9+Կոտայք!E9+Շիրակ!E9+Տավուշ!E9+Սյունիք!E9+Գեղարքունիք!E9) -> 0 | F9: =SUM(Լոռի!F9+'Արագածոտն '!F9+'Երևան քաղաք'!F9+'Արարատ և Վայոց ձոր'!F9+Արմավիր!F9+Կոտայք!F9+Շիրակ!F9+Տավուշ!F9+Սյունիք!F9+Գեղարքունիք!F9) -> 0 | G9: =SUM(Լոռի!G9+'Արագածոտն '!G9+'Երևան քաղաք'!G9+'Արարատ և Վայոց ձոր'!G9+Արմավիր!G9+Կոտայք!G9+Շիրակ!G9+Տավուշ!G9+Սյունիք!G9+Գեղարքունիք!G9) -> 0 | H9: =SUM(Լոռի!H9+'Արագածոտն '!H9+'Երևան քաղաք'!H9+'Արարատ և Վայոց ձոր'!H9+Արմավիր!H9+Կոտայք!H9+Շիրակ!H9+Տավուշ!H9+Սյունիք!H9+Գեղարքունիք!H9) -> 0 | I9: =SUM(Լոռի!I9+'Արագածոտն '!I9+'Երևան քաղաք'!I9+'Արարատ և Վայոց ձոր'!I9+Արմավիր!I9+Կոտայք!I9+Շիրակ!I9+Տավուշ!I9+Սյունիք!I9+Գեղարքունիք!I9) -> 0 | J9: =SUM(Լոռի!J9+'Արագածոտն '!J9+'Երևան քաղաք'!J9+'Արարատ և Վայոց ձոր'!J9+Արմավիր!J9+Կոտայք!J9+Շիրակ!J9+Տավուշ!J9+Սյունիք!J9+Գեղարքունիք!J9) -> 0 | K9: =SUM(Լոռի!K9+'Արագածոտն '!K9+'Երևան քաղաք'!K9+'Արարատ և Վայոց ձոր'!K9+Արմավիր!K9+Կոտայք!K9+Շիրակ!K9+Տավուշ!K9+Սյունիք!K9+Գեղարքունիք!K9) -> 0 | ... AB9: =SUM(Լոռի!AB9+'Արագածոտն '!AB9+'Երևան քաղաք'!AB9+'Արարատ և Վայոց ձոր'!AB9+Արմավիր!AB9+Կոտայք!AB9+Շիրակ!AB9+Տավուշ!AB9+Սյունիք!AB9+Գեղարքունիք!AB9) -> 0
A10: 1.2 | B10: Հոգեկան խիստ հուզմունքի վիճակում կատարված սպանությունը | C10: 105 | D10: =SUM(Լոռի!D10+'Արագածոտն '!D10+'Երևան քաղաք'!D10+'Արարատ և Վայոց ձոր'!D10+Արմավիր!D10+Կոտայք!D10+Շիրակ!D10+Տավուշ!D10+Սյունիք!D10+Գեղարքունիք!D10) -> 0 | E10: =SUM(Լոռի!E10+'Արագածոտն '!E10+'Երևան քաղաք'!E10+'Արարատ և Վայոց ձոր'!E10+Արմավիր!E10+Կոտայք!E10+Շիրակ!E10+Տավուշ!E10+Սյունիք!E10+Գեղարքունիք!E10) -> 0 | F10: =SUM(Լոռի!F10+'Արագածոտն '!F10+'Երևան քաղաք'!F10+'Արարատ և Վայոց ձոր'!F10+Արմավիր!F10+Կոտայք!F10+Շիրակ!F10+Տավուշ!F10+Սյունիք!F10+Գեղարքունիք!F10) -> 0 | G10: =SUM(Լոռի!G10+'Արագածոտն '!G10+'Երևան քաղաք'!G10+'Արարատ և Վայոց ձոր'!G10+Արմավիր!G10+Կոտայք!G10+Շիրակ!G10+Տավուշ!G10+Սյունիք!G10+Գեղարքունիք!G10) -> 0 | H10: =SUM(Լոռի!H10+'Արագածոտն '!H10+'Երևան քաղաք'!H10+'Արարատ և Վայոց ձոր'!H10+Արմավիր!H10+Կոտայք!H10+Շիրակ!H10+Տավուշ!H10+Սյունիք!H10+Գեղարքունիք!H10) -> 0 | I10: =SUM(Լոռի!I10+'Արագածոտն '!I10+'Երևան քաղաք'!I10+'Արարատ և Վայոց ձոր'!I10+Արմավիր!I10+Կոտայք!I10+Շիրակ!I10+Տավուշ!I10+Սյունիք!I10+Գեղարքունիք!I10) -> 0 | J10: =SUM(Լոռի!J10+'Արագածոտն '!J10+'Երևան քաղաք'!J10+'Արարատ և Վայոց ձոր'!J10+Արմավիր!J10+Կոտայք!J10+Շիրակ!J10+Տավուշ!J10+Սյունիք!J10+Գեղարքունիք!J10) -> 0 | K10: =SUM(Լոռի!K10+'Արագածոտն '!K10+'Երևան քաղաք'!K10+'Արարատ և Վայոց ձոր'!K10+Արմավիր!K10+Կոտայք!K10+Շիրակ!K10+Տավուշ!K10+Սյունիք!K10+Գեղարքունիք!K10) -> 0 | ... AB10: =SUM(Լոռի!AB10+'Արագածոտն '!AB10+'Երևան քաղաք'!AB10+'Արարատ և Վայոց ձոր'!AB10+Արմավիր!AB10+Կոտայք!AB10+Շիրակ!AB10+Տավուշ!AB10+Սյունիք!AB10+Գեղարքունիք!AB10) -> 0
A11: 1.3 | B11: Մոր կողմից նորածին երեխայի սպանությունը | C11: 106 | D11: =SUM(Լոռի!D11+'Արագածոտն '!D11+'Երևան քաղաք'!D11+'Արարատ և Վայոց ձոր'!D11+Արմավիր!D11+Կոտայք!D11+Շիրակ!D11+Տավուշ!D11+Սյունիք!D11+Գեղարքունիք!D11) -> 0 | E11: =SUM(Լոռի!E11+'Արագածոտն '!E11+'Երևան քաղաք'!E11+'Արարատ և Վայոց ձոր'!E11+Արմավիր!E11+Կոտայք!E11+Շիրակ!E11+Տավուշ!E11+Սյունիք!E11+Գեղարքունիք!E11) -> 0 | F11: =SUM(Լոռի!F11+'Արագածոտն '!F11+'Երևան քաղաք'!F11+'Արարատ և Վայոց ձոր'!F11+Արմավիր!F11+Կոտայք!F11+Շիրակ!F11+Տավուշ!F11+Սյունիք!F11+Գեղարքունիք!F11) -> 0 | G11: =SUM(Լոռի!G11+'Արագածոտն '!G11+'Երևան քաղաք'!G11+'Արարատ և Վայոց ձոր'!G11+Արմավիր!G11+Կոտայք!G11+Շիրակ!G11+Տավուշ!G11+Սյունիք!G11+Գեղարքունիք!G11) -> 0 | H11: =SUM(Լոռի!H11+'Արագածոտն '!H11+'Երևան քաղաք'!H11+'Արարատ և Վայոց ձոր'!H11+Արմավիր!H11+Կոտայք!H11+Շիրակ!H11+Տավուշ!H11+Սյունիք!H11+Գեղարքունիք!H11) -> 0 | I11: =SUM(Լոռի!I11+'Արագածոտն '!I11+'Երևան քաղաք'!I11+'Արարատ և Վայոց ձոր'!I11+Արմավիր!I11+Կոտայք!I11+Շիրակ!I11+Տավուշ!I11+Սյունիք!I11+Գեղարքունիք!I11) -> 0 | J11: =SUM(Լոռի!J11+'Արագածոտն '!J11+'Երևան քաղաք'!J11+'Արարատ և Վայոց ձոր'!J11+Արմավիր!J11+Կոտայք!J11+Շիրակ!J11+Տավուշ!J11+Սյունիք!J11+Գեղարքունիք!J11) -> 0 | K11: =SUM(Լոռի!K11+'Արագածոտն '!K11+'Երևան քաղաք'!K11+'Արարատ և Վայոց ձոր'!K11+Արմավիր!K11+Կոտայք!K11+Շիրակ!K11+Տավուշ!K11+Սյունիք!K11+Գեղարքունիք!K11) -> 0 | ... AB11: =SUM(Լոռի!AB11+'Արագածոտն '!AB11+'Երևան քաղաք'!AB11+'Արարատ և Վայոց ձոր'!AB11+Արմավիր!AB11+Կոտայք!AB11+Շիրակ!AB11+Տավուշ!AB11+Սյունիք!AB11+Գեղարքունիք!AB11) -> 0
A12: 1.4 | B12: Հանցանք կատարած անձին բռնելու համար անհրաժեշտ միջոցների սահմանազանցմամբ սպանությունը | C12: 107 | D12: =SUM(Լոռի!D12+'Արագածոտն '!D12+'Երևան քաղաք'!D12+'Արարատ և Վայոց ձոր'!D12+Արմավիր!D12+Կոտայք!D12+Շիրակ!D12+Տավուշ!D12+Սյունիք!D12+Գեղարքունիք!D12) -> 0 | E12: =SUM(Լոռի!E12+'Արագածոտն '!E12+'Երևան քաղաք'!E12+'Արարատ և Վայոց ձոր'!E12+Արմավիր!E12+Կոտայք!E12+Շիրակ!E12+Տավուշ!E12+Սյունիք!E12+Գեղարքունիք!E12) -> 0 | F12: =SUM(Լոռի!F12+'Արագածոտն '!F12+'Երևան քաղաք'!F12+'Արարատ և Վայոց ձոր'!F12+Արմավիր!F12+Կոտայք!F12+Շիրակ!F12+Տավուշ!F12+Սյունիք!F12+Գեղարքունիք!F12) -> 0 | G12: =SUM(Լոռի!G12+'Արագածոտն '!G12+'Երևան քաղաք'!G12+'Արարատ և Վայոց ձոր'!G12+Արմավիր!G12+Կոտայք!G12+Շիրակ!G12+Տավուշ!G12+Սյունիք!G12+Գեղարքունիք!G12) -> 0 | H12: =SUM(Լոռի!H12+'Արագածոտն '!H12+'Երևան քաղաք'!H12+'Արարատ և Վայոց ձոր'!H12+Արմավիր!H12+Կոտայք!H12+Շիրակ!H12+Տավուշ!H12+Սյունիք!H12+Գեղարքունիք!H12) -> 0 | I12: =SUM(Լոռի!I12+'Արագածոտն '!I12+'Երևան քաղաք'!I12+'Արարատ և Վայոց ձոր'!I12+Արմավիր!I12+Կոտայք!I12+Շիրակ!I12+Տավուշ!I12+Սյունիք!I12+Գեղարքունիք!I12) -> 0 | J12: =SUM(Լոռի!J12+'Արագածոտն '!J12+'Երևան քաղաք'!J12+'Արարատ և Վայոց ձոր'!J12+Արմավիր!J12+Կոտայք!J12+Շիրակ!J12+Տավուշ!J12+Սյունիք!J12+Գեղարքունիք!J12) -> 0 | K12: =SUM(Լոռի!K12+'Արագածոտն '!K12+'Երևան քաղաք'!K12+'Արարատ և Վայոց ձոր'!K12+Արմավիր!K12+Կոտայք!K12+Շիրակ!K12+Տավուշ!K12+Սյունիք!K12+Գեղարքունիք!K12) -> 0 | ... AB12: =SUM(Լոռի!AB12+'Արագածոտն '!AB12+'Երևան քաղաք'!AB12+'Արարատ և Վայոց ձոր'!AB12+Արմավիր!AB12+Կոտայք!AB12+Շիրակ!AB12+Տավուշ!AB12+Սյունիք!AB12+Գեղարքունիք!AB12) -> 0
A13: 1.5 | B13: Անհրաժեշտ պաշտպանության սահմանազանցմամբ սպանությունը | C13: 108 | D13: =SUM(Լոռի!D13+'Արագածոտն '!D13+'Երևան քաղաք'!D13+'Արարատ և Վայոց ձոր'!D13+Արմավիր!D13+Կոտայք!D13+Շիրակ!D13+Տավուշ!D13+Սյունիք!D13+Գեղարքունիք!D13) -> 0 | E13: =SUM(Լոռի!E13+'Արագածոտն '!E13+'Երևան քաղաք'!E13+'Արարատ և Վայոց ձոր'!E13+Արմավիր!E13+Կոտայք!E13+Շիրակ!E13+Տավուշ!E13+Սյունիք!E13+Գեղարքունիք!E13) -> 0 | F13: =SUM(Լոռի!F13+'Արագածոտն '!F13+'Երևան քաղաք'!F13+'Արարատ և Վայոց ձոր'!F13+Արմավիր!F13+Կոտայք!F13+Շիրակ!F13+Տավուշ!F13+Սյունիք!F13+Գեղարքունիք!F13) -> 0 | G13: =SUM(Լոռի!G13+'Արագածոտն '!G13+'Երևան քաղաք'!G13+'Արարատ և Վայոց ձոր'!G13+Արմավիր!G13+Կոտայք!G13+Շիրակ!G13+Տավուշ!G13+Սյունիք!G13+Գեղարքունիք!G13) -> 0 | H13: =SUM(Լոռի!H13+'Արագածոտն '!H13+'Երևան քաղաք'!H13+'Արարատ և Վայոց ձոր'!H13+Արմավիր!H13+Կոտայք!H13+Շիրակ!H13+Տավուշ!H13+Սյունիք!H13+Գեղարքունիք!H13) -> 0 | I13: =SUM(Լոռի!I13+'Արագածոտն '!I13+'Երևան քաղաք'!I13+'Արարատ և Վայոց ձոր'!I13+Արմավիր!I13+Կոտայք!I13+Շիրակ!I13+Տավուշ!I13+Սյունիք!I13+Գեղարքունիք!I13) -> 0 | J13: =SUM(Լոռի!J13+'Արագածոտն '!J13+'Երևան քաղաք'!J13+'Արարատ և Վայոց ձոր'!J13+Արմավիր!J13+Կոտայք!J13+Շիրակ!J13+Տավուշ!J13+Սյունիք!J13+Գեղարքունիք!J13) -> 0 | K13: =SUM(Լոռի!K13+'Արագածոտն '!K13+'Երևան քաղաք'!K13+'Արարատ և Վայոց ձոր'!K13+Արմավիր!K13+Կոտայք!K13+Շիրակ!K13+Տավուշ!K13+Սյունիք!K13+Գեղարքունիք!K13) -> 0 | ... AB13: =SUM(Լոռի!AB13+'Արագածոտն '!AB13+'Երևան քաղաք'!AB13+'Արարատ և Վայոց ձոր'!AB13+Արմավիր!AB13+Կոտայք!AB13+Շիրակ!AB13+Տավուշ!AB13+Սյունիք!AB13+Գեղարքունիք!AB13) -> 0
A14: 1.6 | B14: Անզգուշությամբ մահ պատճառելը | C14: 109 | D14: =SUM(Լոռի!D14+'Արագածոտն '!D14+'Երևան քաղաք'!D14+'Արարատ և Վայոց ձոր'!D14+Արմավիր!D14+Կոտայք!D14+Շիրակ!D14+Տավուշ!D14+Սյունիք!D14+Գեղարքունիք!D14) -> 0 | E14: =SUM(Լոռի!E14+'Արագածոտն '!E14+'Երևան քաղաք'!E14+'Արարատ և Վայոց ձոր'!E14+Արմավիր!E14+Կոտայք!E14+Շիրակ!E14+Տավուշ!E14+Սյունիք!E14+Գեղարքունիք!E14) -> 0 | F14: =SUM(Լոռի!F14+'Արագածոտն '!F14+'Երևան քաղաք'!F14+'Արարատ և Վայոց ձոր'!F14+Արմավիր!F14+Կոտայք!F14+Շիրակ!F14+Տավուշ!F14+Սյունիք!F14+Գեղարքունիք!F14) -> 0 | G14: =SUM(Լոռի!G14+'Արագածոտն '!G14+'Երևան քաղաք'!G14+'Արարատ և Վայոց ձոր'!G14+Արմավիր!G14+Կոտայք!G14+Շիրակ!G14+Տավուշ!G14+Սյունիք!G14+Գեղարքունիք!G14) -> 0 | H14: =SUM(Լոռի!H14+'Արագածոտն '!H14+'Երևան քաղաք'!H14+'Արարատ և Վայոց ձոր'!H14+Արմավիր!H14+Կոտայք!H14+Շիրակ!H14+Տավուշ!H14+Սյունիք!H14+Գեղարքունիք!H14) -> 0 | I14: =SUM(Լոռի!I14+'Արագածոտն '!I14+'Երևան քաղաք'!I14+'Արարատ և Վայոց ձոր'!I14+Արմավիր!I14+Կոտայք!I14+Շիրակ!I14+Տավուշ!I14+Սյունիք!I14+Գեղարքունիք!I14) -> 0 | J14: =SUM(Լոռի!J14+'Արագածոտն '!J14+'Երևան քաղաք'!J14+'Արարատ և Վայոց ձոր'!J14+Արմավիր!J14+Կոտայք!J14+Շիրակ!J14+Տավուշ!J14+Սյունիք!J14+Գեղարքունիք!J14) -> 0 | K14: =SUM(Լոռի!K14+'Արագածոտն '!K14+'Երևան քաղաք'!K14+'Արարատ և Վայոց ձոր'!K14+Արմավիր!K14+Կոտայք!K14+Շիրակ!K14+Տավուշ!K14+Սյունիք!K14+Գեղարքունիք!K14) -> 0 | ... AB14: =SUM(Լոռի!AB14+'Արագածոտն '!AB14+'Երևան քաղաք'!AB14+'Արարատ և Վայոց ձոր'!AB14+Արմավիր!AB14+Կոտայք!AB14+Շիրակ!AB14+Տավուշ!AB14+Սյունիք!AB14+Գեղարքունիք!AB14) -> 0
A15: 1.7 | B15: Ինքնասպանության հասցնելը | C15: 110 | D15: =SUM(Լոռի!D15+'Արագածոտն '!D15+'Երևան քաղաք'!D15+'Արարատ և Վայոց ձոր'!D15+Արմավիր!D15+Կոտայք!D15+Շիրակ!D15+Տավուշ!D15+Սյունիք!D15+Գեղարքունիք!D15) -> 0 | E15: =SUM(Լոռի!E15+'Արագածոտն '!E15+'Երևան քաղաք'!E15+'Արարատ և Վայոց ձոր'!E15+Արմավիր!E15+Կոտայք!E15+Շիրակ!E15+Տավուշ!E15+Սյունիք!E15+Գեղարքունիք!E15) -> 0 | F15: =SUM(Լոռի!F15+'Արագածոտն '!F15+'Երևան քաղաք'!F15+'Արարատ և Վայոց ձոր'!F15+Արմավիր!F15+Կոտայք!F15+Շիրակ!F15+Տավուշ!F15+Սյունիք!F15+Գեղարքունիք!F15) -> 0 | G15: =SUM(Լոռի!G15+'Արագածոտն '!G15+'Երևան քաղաք'!G15+'Արարատ և Վայոց ձոր'!G15+Արմավիր!G15+Կոտայք!G15+Շիրակ!G15+Տավուշ!G15+Սյունիք!G15+Գեղարքունիք!G15) -> 0 | H15: =SUM(Լոռի!H15+'Արագածոտն '!H15+'Երևան քաղաք'!H15+'Արարատ և Վայոց ձոր'!H15+Արմավիր!H15+Կոտայք!H15+Շիրակ!H15+Տավուշ!H15+Սյունիք!H15+Գեղարքունիք!H15) -> 0 | I15: =SUM(Լոռի!I15+'Արագածոտն '!I15+'Երևան քաղաք'!I15+'Արարատ և Վայոց ձոր'!I15+Արմավիր!I15+Կոտայք!I15+Շիրակ!I15+Տավուշ!I15+Սյունիք!I15+Գեղարքունիք!I15) -> 0 | J15: =SUM(Լոռի!J15+'Արագածոտն '!J15+'Երևան քաղաք'!J15+'Արարատ և Վայոց ձոր'!J15+Արմավիր!J15+Կոտայք!J15+Շիրակ!J15+Տավուշ!J15+Սյունիք!J15+Գեղարքունիք!J15) -> 0 | K15: =SUM(Լոռի!K15+'Արագածոտն '!K15+'Երևան քաղաք'!K15+'Արարատ և Վայոց ձոր'!K15+Արմավիր!K15+Կոտայք!K15+Շիրակ!K15+Տավուշ!K15+Սյունիք!K15+Գեղարքունիք!K15) -> 0 | ... AB15: =SUM(Լոռի!AB15+'Արագածոտն '!AB15+'Երևան քաղաք'!AB15+'Արարատ և Վայոց ձոր'!AB15+Արմավիր!AB15+Կոտայք!AB15+Շիրակ!AB15+Տավուշ!AB15+Սյունիք!AB15+Գեղարքունիք!AB15) -> 0
A16: 1.8 | B16: Ինքնասպանության հակելը | C16: 111 | D16: =SUM(Լոռի!D16+'Արագածոտն '!D16+'Երևան քաղաք'!D16+'Արարատ և Վայոց ձոր'!D16+Արմավիր!D16+Կոտայք!D16+Շիրակ!D16+Տավուշ!D16+Սյունիք!D16+Գեղարքունիք!D16) -> 0 | E16: =SUM(Լոռի!E16+'Արագածոտն '!E16+'Երևան քաղաք'!E16+'Արարատ և Վայոց ձոր'!E16+Արմավիր!E16+Կոտայք!E16+Շիրակ!E16+Տավուշ!E16+Սյունիք!E16+Գեղարքունիք!E16) -> 0 | F16: =SUM(Լոռի!F16+'Արագածոտն '!F16+'Երևան քաղաք'!F16+'Արարատ և Վայոց ձոր'!F16+Արմավիր!F16+Կոտայք!F16+Շիրակ!F16+Տավուշ!F16+Սյունիք!F16+Գեղարքունիք!F16) -> 0 | G16: =SUM(Լոռի!G16+'Արագածոտն '!G16+'Երևան քաղաք'!G16+'Արարատ և Վայոց ձոր'!G16+Արմավիր!G16+Կոտայք!G16+Շիրակ!G16+Տավուշ!G16+Սյունիք!G16+Գեղարքունիք!G16) -> 0 | H16: =SUM(Լոռի!H16+'Արագածոտն '!H16+'Երևան քաղաք'!H16+'Արարատ և Վայոց ձոր'!H16+Արմավիր!H16+Կոտայք!H16+Շիրակ!H16+Տավուշ!H16+Սյունիք!H16+Գեղարքունիք!H16) -> 0 | I16: =SUM(Լոռի!I16+'Արագածոտն '!I16+'Երևան քաղաք'!I16+'Արարատ և Վայոց ձոր'!I16+Արմավիր!I16+Կոտայք!I16+Շիրակ!I16+Տավուշ!I16+Սյունիք!I16+Գեղարքունիք!I16) -> 0 | J16: =SUM(Լոռի!J16+'Արագածոտն '!J16+'Երևան քաղաք'!J16+'Արարատ և Վայոց ձոր'!J16+Արմավիր!J16+Կոտայք!J16+Շիրակ!J16+Տավուշ!J16+Սյունիք!J16+Գեղարքունիք!J16) -> 0 | K16: =SUM(Լոռի!K16+'Արագածոտն '!K16+'Երևան քաղաք'!K16+'Արարատ և Վայոց ձոր'!K16+Արմավիր!K16+Կոտայք!K16+Շիրակ!K16+Տավուշ!K16+Սյունիք!K16+Գեղարքունիք!K16) -> 0 | ... AB16: =SUM(Լոռի!AB16+'Արագածոտն '!AB16+'Երևան քաղաք'!AB16+'Արարատ և Վայոց ձոր'!AB16+Արմավիր!AB16+Կոտայք!AB16+Շիրակ!AB16+Տավուշ!AB16+Սյունիք!AB16+Գեղարքունիք!AB16) -> 0
A17: 1.9 | B17: Դիտավորությամբ առողջությանը ծանր վնաս պատճառելը | C17: 112 | D17: =SUM(Լոռի!D17+'Արագածոտն '!D17+'Երևան քաղաք'!D17+'Արարատ և Վայոց ձոր'!D17+Արմավիր!D17+Կոտայք!D17+Շիրակ!D17+Տավուշ!D17+Սյունիք!D17+Գեղարքունիք!D17) -> 4 | E17: =SUM(Լոռի!E17+'Արագածոտն '!E17+'Երևան քաղաք'!E17+'Արարատ և Վայոց ձոր'!E17+Արմավիր!E17+Կոտայք!E17+Շիրակ!E17+Տավուշ!E17+Սյունիք!E17+Գեղարքունիք!E17) -> 4 | F17: =SUM(Լոռի!F17+'Արագածոտն '!F17+'Երևան քաղաք'!F17+'Արարատ և Վայոց ձոր'!F17+Արմավիր!F17+Կոտայք!F17+Շիրակ!F17+Տավուշ!F17+Սյունիք!F17+Գեղարքունիք!F17) -> 8 | G17: =SUM(Լոռի!G17+'Արագածոտն '!G17+'Երևան քաղաք'!G17+'Արարատ և Վայոց ձոր'!G17+Արմավիր!G17+Կոտայք!G17+Շիրակ!G17+Տավուշ!G17+Սյունիք!G17+Գեղարքունիք!G17) -> 0 | H17: =SUM(Լոռի!H17+'Արագածոտն '!H17+'Երևան քաղաք'!H17+'Արարատ և Վայոց ձոր'!H17+Արմավիր!H17+Կոտայք!H17+Շիրակ!H17+Տավուշ!H17+Սյունիք!H17+Գեղարքունիք!H17) -> 2 | I17: =SUM(Լոռի!I17+'Արագածոտն '!I17+'Երևան քաղաք'!I17+'Արարատ և Վայոց ձոր'!I17+Արմավիր!I17+Կոտայք!I17+Շիրակ!I17+Տավուշ!I17+Սյունիք!I17+Գեղարքունիք!I17) -> 0 | J17: =SUM(Լոռի!J17+'Արագածոտն '!J17+'Երևան քաղաք'!J17+'Արարատ և Վայոց ձոր'!J17+Արմավիր!J17+Կոտայք!J17+Շիրակ!J17+Տավուշ!J17+Սյունիք!J17+Գեղարքունիք!J17) -> 0 | K17: =SUM(Լոռի!K17+'Արագածոտն '!K17+'Երևան քաղաք'!K17+'Արարատ և Վայոց ձոր'!K17+Արմավիր!K17+Կոտայք!K17+Շիրակ!K17+Տավուշ!K17+Սյունիք!K17+Գեղարքունիք!K17) -> 0 | ... AB17: =SUM(Լոռի!AB17+'Արագածոտն '!AB17+'Երևան քաղաք'!AB17+'Արարատ և Վայոց ձոր'!AB17+Արմավիր!AB17+Կոտայք!AB17+Շիրակ!AB17+Տավուշ!AB17+Սյունիք!AB17+Գեղարքունիք!AB17) -> 0
A18: 1.10 | B18: Դիտավորությամբ առողջությանը միջին ծանրության վնաս պատճառելը | C18: 113 | D18: =SUM(Լոռի!D18+'Արագածոտն '!D18+'Երևան քաղաք'!D18+'Արարատ և Վայոց ձոր'!D18+Արմավիր!D18+Կոտայք!D18+Շիրակ!D18+Տավուշ!D18+Սյունիք!D18+Գեղարքունիք!D18) -> 0 | E18: =SUM(Լոռի!E18+'Արագածոտն '!E18+'Երևան քաղաք'!E18+'Արարատ և Վայոց ձոր'!E18+Արմավիր!E18+Կոտայք!E18+Շիրակ!E18+Տավուշ!E18+Սյունիք!E18+Գեղարքունիք!E18) -> 0 | F18: =SUM(Լոռի!F18+'Արագածոտն '!F18+'Երևան քաղաք'!F18+'Արարատ և Վայոց ձոր'!F18+Արմավիր!F18+Կոտայք!F18+Շիրակ!F18+Տավուշ!F18+Սյունիք!F18+Գեղարքունիք!F18) -> 0 | G18: =SUM(Լոռի!G18+'Արագածոտն '!G18+'Երևան քաղաք'!G18+'Արարատ և Վայոց ձոր'!G18+Արմավիր!G18+Կոտայք!G18+Շիրակ!G18+Տավուշ!G18+Սյունիք!G18+Գեղարքունիք!G18) -> 0 | H18: =SUM(Լոռի!H18+'Արագածոտն '!H18+'Երևան քաղաք'!H18+'Արարատ և Վայոց ձոր'!H18+Արմավիր!H18+Կոտայք!H18+Շիրակ!H18+Տավուշ!H18+Սյունիք!H18+Գեղարքունիք!H18) -> 0 | I18: =SUM(Լոռի!I18+'Արագածոտն '!I18+'Երևան քաղաք'!I18+'Արարատ և Վայոց ձոր'!I18+Արմավիր!I18+Կոտայք!I18+Շիրակ!I18+Տավուշ!I18+Սյունիք!I18+Գեղարքունիք!I18) -> 0 | J18: =SUM(Լոռի!J18+'Արագածոտն '!J18+'Երևան քաղաք'!J18+'Արարատ և Վայոց ձոր'!J18+Արմավիր!J18+Կոտայք!J18+Շիրակ!J18+Տավուշ!J18+Սյունիք!J18+Գեղարքունիք!J18) -> 0 | K18: =SUM(Լոռի!K18+'Արագածոտն '!K18+'Երևան քաղաք'!K18+'Արարատ և Վայոց ձոր'!K18+Արմավիր!K18+Կոտայք!K18+Շիրակ!K18+Տավուշ!K18+Սյունիք!K18+Գեղարքունիք!K18) -> 0 | ... AB18: =SUM(Լոռի!AB18+'Արագածոտն '!AB18+'Երևան քաղաք'!AB18+'Արարատ և Վայոց ձոր'!AB18+Արմավիր!AB18+Կոտայք!AB18+Շիրակ!AB18+Տավուշ!AB18+Սյունիք!AB18+Գեղարքունիք!AB18) -> 0
A19: 1.11 | B19: Հոգեկան խիստ հուզմունքի վիճակում առողջությանը ծանր կամ միջին ծանրության վնաս պատճառելը | C19: 114 | D19: =SUM(Լոռի!D19+'Արագածոտն '!D19+'Երևան քաղաք'!D19+'Արարատ և Վայոց ձոր'!D19+Արմավիր!D19+Կոտայք!D19+Շիրակ!D19+Տավուշ!D19+Սյունիք!D19+Գեղարքունիք!D19) -> 0 | E19: =SUM(Լոռի!E19+'Արագածոտն '!E19+'Երևան քաղաք'!E19+'Արարատ և Վայոց ձոր'!E19+Արմավիր!E19+Կոտայք!E19+Շիրակ!E19+Տավուշ!E19+Սյունիք!E19+Գեղարքունիք!E19) -> 0 | F19: =SUM(Լոռի!F19+'Արագածոտն '!F19+'Երևան քաղաք'!F19+'Արարատ և Վայոց ձոր'!F19+Արմավիր!F19+Կոտայք!F19+Շիրակ!F19+Տավուշ!F19+Սյունիք!F19+Գեղարքունիք!F19) -> 0 | G19: =SUM(Լոռի!G19+'Արագածոտն '!G19+'Երևան քաղաք'!G19+'Արարատ և Վայոց ձոր'!G19+Արմավիր!G19+Կոտայք!G19+Շիրակ!G19+Տավուշ!G19+Սյունիք!G19+Գեղարքունիք!G19) -> 0 | H19: =SUM(Լոռի!H19+'Արագածոտն '!H19+'Երևան քաղաք'!H19+'Արարատ և Վայոց ձոր'!H19+Արմավիր!H19+Կոտայք!H19+Շիրակ!H19+Տավուշ!H19+Սյունիք!H19+Գեղարքունիք!H19) -> 0 | I19: =SUM(Լոռի!I19+'Արագածոտն '!I19+'Երևան քաղաք'!I19+'Արարատ և Վայոց ձոր'!I19+Արմավիր!I19+Կոտայք!I19+Շիրակ!I19+Տավուշ!I19+Սյունիք!I19+Գեղարքունիք!I19) -> 0 | J19: =SUM(Լոռի!J19+'Արագածոտն '!J19+'Երևան քաղաք'!J19+'Արարատ և Վայոց ձոր'!J19+Արմավիր!J19+Կոտայք!J19+Շիրակ!J19+Տավուշ!J19+Սյունիք!J19+Գեղարքունիք!J19) -> 0 | K19: =SUM(Լոռի!K19+'Արագածոտն '!K19+'Երևան քաղաք'!K19+'Արարատ և Վայոց ձոր'!K19+Արմավիր!K19+Կոտայք!K19+Շիրակ!K19+Տավուշ!K19+Սյունիք!K19+Գեղարքունիք!K19) -> 0 | ... AB19: =SUM(Լոռի!AB19+'Արագածոտն '!AB19+'Երևան քաղաք'!AB19+'Արարատ և Վայոց ձոր'!AB19+Արմավիր!AB19+Կոտայք!AB19+Շիրակ!AB19+Տավուշ!AB19+Սյունիք!AB19+Գեղարքունիք!AB19) -> 0
A20: 1.12 | B20: Հանցանք կատարած անձին բռնելու համար անհրաժեշտ միջոցների սահմանզանցմամբ առողջությանը ծանր կամ միջին ծանրության վնաս պատճառելը | C20: 115 | D20: =SUM(Լոռի!D20+'Արագածոտն '!D20+'Երևան քաղաք'!D20+'Արարատ և Վայոց ձոր'!D20+Արմավիր!D20+Կոտայք!D20+Շիրակ!D20+Տավուշ!D20+Սյունիք!D20+Գեղարքունիք!D20) -> 0 | E20: =SUM(Լոռի!E20+'Արագածոտն '!E20+'Երևան քաղաք'!E20+'Արարատ և Վայոց ձոր'!E20+Արմավիր!E20+Կոտայք!E20+Շիրակ!E20+Տավուշ!E20+Սյունիք!E20+Գեղարքունիք!E20) -> 0 | F20: =SUM(Լոռի!F20+'Արագածոտն '!F20+'Երևան քաղաք'!F20+'Արարատ և Վայոց ձոր'!F20+Արմավիր!F20+Կոտայք!F20+Շիրակ!F20+Տավուշ!F20+Սյունիք!F20+Գեղարքունիք!F20) -> 0 | G20: =SUM(Լոռի!G20+'Արագածոտն '!G20+'Երևան քաղաք'!G20+'Արարատ և Վայոց ձոր'!G20+Արմավիր!G20+Կոտայք!G20+Շիրակ!G20+Տավուշ!G20+Սյունիք!G20+Գեղարքունիք!G20) -> 0 | H20: =SUM(Լոռի!H20+'Արագածոտն '!H20+'Երևան քաղաք'!H20+'Արարատ և Վայոց ձոր'!H20+Արմավիր!H20+Կոտայք!H20+Շիրակ!H20+Տավուշ!H20+Սյունիք!H20+Գեղարքունիք!H20) -> 0 | I20: =SUM(Լոռի!I20+'Արագածոտն '!I20+'Երևան քաղաք'!I20+'Արարատ և Վայոց ձոր'!I20+Արմավիր!I20+Կոտայք!I20+Շիրակ!I20+Տավուշ!I20+Սյունիք!I20+Գեղարքունիք!I20) -> 0 | J20: =SUM(Լոռի!J20+'Արագածոտն '!J20+'Երևան քաղաք'!J20+'Արարատ և Վայոց ձոր'!J20+Արմավիր!J20+Կոտայք!J20+Շիրակ!J20+Տավուշ!J20+Սյունիք!J20+Գեղարքունիք!J20) -> 0 | K20: =SUM(Լոռի!K20+'Արագածոտն '!K20+'Երևան քաղաք'!K20+'Արարատ և Վայոց ձոր'!K20+Արմավիր!K20+Կոտայք!K20+Շիրակ!K20+Տավուշ!K20+Սյունիք!K20+Գեղարքունիք!K20) -> 0 | ... AB20: =SUM(Լոռի!AB20+'Արագածոտն '!AB20+'Երևան քաղաք'!AB20+'Արարատ և Վայոց ձոր'!AB20+Արմավիր!AB20+Կոտայք!AB20+Շիրակ!AB20+Տավուշ!AB20+Սյունիք!AB20+Գեղարքունիք!AB20) -> 0
... A34: 1.27 | B34: Բժշկական օգնություն և սպասարկում իրականացնողների կողմից մասնագիտական պարտականությունները չկատարելը կամ ոչ պատշաճ կատարելը | C34: 130 | D34: =SUM(Լոռի!D34+'Արագածոտն '!D34+'Երևան քաղաք'!D34+'Արարատ և Վայոց ձոր'!D34+Արմավիր!D34+Կոտայք!D34+Շիրակ!D34+Տավուշ!D34+Սյունիք!D34+Գեղարքունիք!D34) -> 0 | E34: =SUM(Լոռի!E34+'Արագածոտն '!E34+'Երևան քաղաք'!E34+'Արարատ և Վայոց ձոր'!E34+Արմավիր!E34+Կոտայք!E34+Շիրակ!E34+Տավուշ!E34+Սյունիք!E34+Գեղարքունիք!E34) -> 0 | F34: =SUM(Լոռի!F34+'Արագածոտն '!F34+'Երևան քաղաք'!F34+'Արարատ և Վայոց ձոր'!F34+Արմավիր!F34+Կոտայք!F34+Շիրակ!F34+Տավուշ!F34+Սյունիք!F34+Գեղարքունիք!F34) -> 0 | G34: =SUM(Լոռի!G34+'Արագածոտն '!G34+'Երևան քաղաք'!G34+'Արարատ և Վայոց ձոր'!G34+Արմավիր!G34+Կոտայք!G34+Շիրակ!G34+Տավուշ!G34+Սյունիք!G34+Գեղարքունիք!G34) -> 0 | H34: =SUM(Լոռի!H34+'Արագածոտն '!H34+'Երևան քաղաք'!H34+'Արարատ և Վայոց ձոր'!H34+Արմավիր!H34+Կոտայք!H34+Շիրակ!H34+Տավուշ!H34+Սյունիք!H34+Գեղարքունիք!H34) -> 0 | I34: =SUM(Լոռի!I34+'Արագածոտն '!I34+'Երևան քաղաք'!I34+'Արարատ և Վայոց ձոր'!I34+Արմավիր!I34+Կոտայք!I34+Շիրակ!I34+Տավուշ!I34+Սյունիք!I34+Գեղարքունիք!I34) -> 0 | J34: =SUM(Լոռի!J34+'Արագածոտն '!J34+'Երևան քաղաք'!J34+'Արարատ և Վայոց ձոր'!J34+Արմավիր!J34+Կոտայք!J34+Շիրակ!J34+Տավուշ!J34+Սյունիք!J34+Գեղարքունիք!J34) -> 0 | K34: =SUM(Լոռի!K34+'Արագածոտն '!K34+'Երևան քաղաք'!K34+'Արարատ և Վայոց ձոր'!K34+Արմավիր!K34+Կոտայք!K34+Շիրակ!K34+Տավուշ!K34+Սյունիք!K34+Գեղարքունիք!K34) -> 0 | ... AB34: =SUM(Լոռի!AB34+'Արագածոտն '!AB34+'Երևան քաղաք'!AB34+'Արարատ և Վայոց ձոր'!AB34+Արմավիր!AB34+Կոտայք!AB34+Շիրակ!AB34+Տավուշ!AB34+Սյունիք!AB34+Գեղարքունիք!AB34) -> 0
A35: 1.28 | B35: Այլ հանցագործություններ | D35: =SUM(Լոռի!D35+'Արագածոտն '!D35+'Երևան քաղաք'!D35+'Արարատ և Վայոց ձոր'!D35+Արմավիր!D35+Կոտայք!D35+Շիրակ!D35+Տավուշ!D35+Սյունիք!D35+Գեղարքունիք!D35) -> 0 | E35: =SUM(Լոռի!E35+'Արագածոտն '!E35+'Երևան քաղաք'!E35+'Արարատ և Վայոց ձոր'!E35+Արմավիր!E35+Կոտայք!E35+Շիրակ!E35+Տավուշ!E35+Սյունիք!E35+Գեղարքունիք!E35) -> 0 | F35: =SUM(Լոռի!F35+'Արագածոտն '!F35+'Երևան քաղաք'!F35+'Արարատ և Վայոց ձոր'!F35+Արմավիր!F35+Կոտայք!F35+Շիրակ!F35+Տավուշ!F35+Սյունիք!F35+Գեղարքունիք!F35) -> 0 | G35: =SUM(Լոռի!G35+'Արագածոտն '!G35+'Երևան քաղաք'!G35+'Արարատ և Վայոց ձոր'!G35+Արմավիր!G35+Կոտայք!G35+Շիրակ!G35+Տավուշ!G35+Սյունիք!G35+Գեղարքունիք!G35) -> 0 | H35: =SUM(Լոռի!H35+'Արագածոտն '!H35+'Երևան քաղաք'!H35+'Արարատ և Վայոց ձոր'!H35+Արմավիր!H35+Կոտայք!H35+Շիրակ!H35+Տավուշ!H35+Սյունիք!H35+Գեղարքունիք!H35) -> 0 | I35: =SUM(Լոռի!I35+'Արագածոտն '!I35+'Երևան քաղաք'!I35+'Արարատ և Վայոց ձոր'!I35+Արմավիր!I35+Կոտայք!I35+Շիրակ!I35+Տավուշ!I35+Սյունիք!I35+Գեղարքունիք!I35) -> 0 | J35: =SUM(Լոռի!J35+'Արագածոտն '!J35+'Երևան քաղաք'!J35+'Արարատ և Վայոց ձոր'!J35+Արմավիր!J35+Կոտայք!J35+Շիրակ!J35+Տավուշ!J35+Սյունիք!J35+Գեղարքունիք!J35) -> 0 | K35: =SUM(Լոռի!K35+'Արագածոտն '!K35+'Երևան քաղաք'!K35+'Արարատ և Վայոց ձոր'!K35+Արմավիր!K35+Կոտայք!K35+Շիրակ!K35+Տավուշ!K35+Սյունիք!K35+Գեղարքունիք!K35) -> 0 | ... AB35: =SUM(Լոռի!AB35+'Արագածոտն '!AB35+'Երևան քաղաք'!AB35+'Արարատ և Վայոց ձոր'!AB35+Արմավիր!AB35+Կոտայք!AB35+Շիրակ!AB35+Տավուշ!AB35+Սյունիք!AB35+Գեղարքունիք!AB35) -> 0
A36: 2. | B36: Ընդամենը անձի ազատության, պատվի և արժանապատվության դեմ ուղղված հանցագործությունները | D36: =SUM(Լոռի!D36+'Արագածոտն '!D36+'Երևան քաղաք'!D36+'Արարատ և Վայոց ձոր'!D36+Արմավիր!D36+Կոտայք!D36+Շիրակ!D36+Տավուշ!D36+Սյունիք!D36+Գեղարքունիք!D36) -> 0 | E36: =SUM(Լոռի!E36+'Արագածոտն '!E36+'Երևան քաղաք'!E36+'Արարատ և Վայոց ձոր'!E36+Արմավիր!E36+Կոտայք!E36+Շիրակ!E36+Տավուշ!E36+Սյունիք!E36+Գեղարքունիք!E36) -> 1 | F36: =SUM(Լոռի!F36+'Արագածոտն '!F36+'Երևան քաղաք'!F36+'Արարատ և Վայոց ձոր'!F36+Արմավիր!F36+Կոտայք!F36+Շիրակ!F36+Տավուշ!F36+Սյունիք!F36+Գեղարքունիք!F36) -> 1 | G36: =SUM(Լոռի!G36+'Արագածոտն '!G36+'Երևան քաղաք'!G36+'Արարատ և Վայոց ձոր'!G36+Արմավիր!G36+Կոտայք!G36+Շիրակ!G36+Տավուշ!G36+Սյունիք!G36+Գեղարքունիք!G36) -> 0 | H36: =SUM(Լոռի!H36+'Արագածոտն '!H36+'Երևան քաղաք'!H36+'Արարատ և Վայոց ձոր'!H36+Արմավիր!H36+Կոտայք!H36+Շիրակ!H36+Տավուշ!H36+Սյունիք!H36+Գեղարքունիք!H36) -> 0 | I36: =SUM(Լոռի!I36+'Արագածոտն '!I36+'Երևան քաղաք'!I36+'Արարատ և Վայոց ձոր'!I36+Արմավիր!I36+Կոտայք!I36+Շիրակ!I36+Տավուշ!I36+Սյունիք!I36+Գեղարքունիք!I36) -> 0 | J36: =SUM(Լոռի!J36+'Արագածոտն '!J36+'Երևան քաղաք'!J36+'Արարատ և Վայոց ձոր'!J36+Արմավիր!J36+Կոտայք!J36+Շիրակ!J36+Տավուշ!J36+Սյունիք!J36+Գեղարքունիք!J36) -> 0 | K36: =SUM(Լոռի!K36+'Արագածոտն '!K36+'Երևան քաղաք'!K36+'Արարատ և Վայոց ձոր'!K36+Արմավիր!K36+Կոտայք!K36+Շիրակ!K36+Տավուշ!K36+Սյունիք!K36+Գեղարքունիք!K36) -> 0 | ... AB36: =SUM(Լոռի!AB36+'Արագածոտն '!AB36+'Երևան քաղաք'!AB36+'Արարատ և Վայոց ձոր'!AB36+Արմավիր!AB36+Կոտայք!AB36+Շիրակ!AB36+Տավուշ!AB36+Սյունիք!AB36+Գեղարքունիք!AB36) -> 0
A37: 2.1 | B37: Մարդուն առևանգելը | C37: 131 | D37: =SUM(Լոռի!D37+'Արագածոտն '!D37+'Երևան քաղաք'!D37+'Արարատ և Վայոց ձոր'!D37+Արմավիր!D37+Կոտայք!D37+Շիրակ!D37+Տավուշ!D37+Սյունիք!D37+Գեղարքունիք!D37) -> 0 | E37: =SUM(Լոռի!E37+'Արագածոտն '!E37+'Երևան քաղաք'!E37+'Արարատ և Վայոց ձոր'!E37+Արմավիր!E37+Կոտայք!E37+Շիրակ!E37+Տավուշ!E37+Սյունիք!E37+Գեղարքունիք!E37) -> 1 | F37: =SUM(Լոռի!F37+'Արագածոտն '!F37+'Երևան քաղաք'!F37+'Արարատ և Վայոց ձոր'!F37+Արմավիր!F37+Կոտայք!F37+Շիրակ!F37+Տավուշ!F37+Սյունիք!F37+Գեղարքունիք!F37) -> 1 | G37: =SUM(Լոռի!G37+'Արագածոտն '!G37+'Երևան քաղաք'!G37+'Արարատ և Վայոց ձոր'!G37+Արմավիր!G37+Կոտայք!G37+Շիրակ!G37+Տավուշ!G37+Սյունիք!G37+Գեղարքունիք!G37) -> 0 | H37: =SUM(Լոռի!H37+'Արագածոտն '!H37+'Երևան քաղաք'!H37+'Արարատ և Վայոց ձոր'!H37+Արմավիր!H37+Կոտայք!H37+Շիրակ!H37+Տավուշ!H37+Սյունիք!H37+Գեղարքունիք!H37) -> 0 | I37: =SUM(Լոռի!I37+'Արագածոտն '!I37+'Երևան քաղաք'!I37+'Արարատ և Վայոց ձոր'!I37+Արմավիր!I37+Կոտայք!I37+Շիրակ!I37+Տավուշ!I37+Սյունիք!I37+Գեղարքունիք!I37) -> 0 | J37: =SUM(Լոռի!J37+'Արագածոտն '!J37+'Երևան քաղաք'!J37+'Արարատ և Վայոց ձոր'!J37+Արմավիր!J37+Կոտայք!J37+Շիրակ!J37+Տավուշ!J37+Սյունիք!J37+Գեղարքունիք!J37) -> 0 | K37: =SUM(Լոռի!K37+'Արագածոտն '!K37+'Երևան քաղաք'!K37+'Արարատ և Վայոց ձոր'!K37+Արմավիր!K37+Կոտայք!K37+Շիրակ!K37+Տավուշ!K37+Սյունիք!K37+Գեղարքունիք!K37) -> 0 | ... AB37: =SUM(Լոռի!AB37+'Արագածոտն '!AB37+'Երևան քաղաք'!AB37+'Արարատ և Վայոց ձոր'!AB37+Արմավիր!AB37+Կոտայք!AB37+Շիրակ!AB37+Տավուշ!AB37+Սյունիք!AB37+Գեղարքունիք!AB37) -> 0
A38: 2.2 | B38: Մարդու թրաֆիքինգը կամ շահագործումը | C38: 132 | D38: =SUM(Լոռի!D38+'Արագածոտն '!D38+'Երևան քաղաք'!D38+'Արարատ և Վայոց ձոր'!D38+Արմավիր!D38+Կոտայք!D38+Շիրակ!D38+Տավուշ!D38+Սյունիք!D38+Գեղարքունիք!D38) -> 0 | E38: =SUM(Լոռի!E38+'Արագածոտն '!E38+'Երևան քաղաք'!E38+'Արարատ և Վայոց ձոր'!E38+Արմավիր!E38+Կոտայք!E38+Շիրակ!E38+Տավուշ!E38+Սյունիք!E38+Գեղարքունիք!E38) -> 0 | F38: =SUM(Լոռի!F38+'Արագածոտն '!F38+'Երևան քաղաք'!F38+'Արարատ և Վայոց ձոր'!F38+Արմավիր!F38+Կոտայք!F38+Շիրակ!F38+Տավուշ!F38+Սյունիք!F38+Գեղարքունիք!F38) -> 0 | G38: =SUM(Լոռի!G38+'Արագածոտն '!G38+'Երևան քաղաք'!G38+'Արարատ և Վայոց ձոր'!G38+Արմավիր!G38+Կոտայք!G38+Շիրակ!G38+Տավուշ!G38+Սյունիք!G38+Գեղարքունիք!G38) -> 0 | H38: =SUM(Լոռի!H38+'Արագածոտն '!H38+'Երևան քաղաք'!H38+'Արարատ և Վայոց ձոր'!H38+Արմավիր!H38+Կոտայք!H38+Շիրակ!H38+Տավուշ!H38+Սյունիք!H38+Գեղարքունիք!H38) -> 0 | I38: =SUM(Լոռի!I38+'Արագածոտն '!I38+'Երևան քաղաք'!I38+'Արարատ և Վայոց ձոր'!I38+Արմավիր!I38+Կոտայք!I38+Շիրակ!I38+Տավուշ!I38+Սյունիք!I38+Գեղարքունիք!I38) -> 0 | J38: =SUM(Լոռի!J38+'Արագածոտն '!J38+'Երևան քաղաք'!J38+'Արարատ և Վայոց ձոր'!J38+Արմավիր!J38+Կոտայք!J38+Շիրակ!J38+Տավուշ!J38+Սյունիք!J38+Գեղարքունիք!J38) -> 0 | K38: =SUM(Լոռի!K38+'Արագածոտն '!K38+'Երևան քաղաք'!K38+'Արարատ և Վայոց ձոր'!K38+Արմավիր!K38+Կոտայք!K38+Շիրակ!K38+Տավուշ!K38+Սյունիք!K38+Գեղարքունիք!K38) -> 0 | ... AB38: =SUM(Լոռի!AB38+'Արագածոտն '!AB38+'Երևան քաղաք'!AB38+'Արարատ և Վայոց ձոր'!AB38+Արմավիր!AB38+Կոտայք!AB38+Շիրակ!AB38+Տավուշ!AB38+Սյունիք!AB38+Գեղարքունիք!AB38) -> 0
A39: 2.2.2 | B39: Երեխայի կամ հոգեկան խանգարման հետևանքով իր արարքի բնույթն ու նշանակությունը գիտակցելու կամ դա ղեկավարելու հնարավորությունից զրկված անձի թրաֆիքինգը կամ շահագործումը | C39: 132.2 | D39: =SUM(Լոռի!D39+'Արագածոտն '!D39+'Երևան քաղաք'!D39+'Արարատ և Վայոց ձոր'!D39+Արմավիր!D39+Կոտայք!D39+Շիրակ!D39+Տավուշ!D39+Սյունիք!D39+Գեղարքունիք!D39) -> 0 | E39: =SUM(Լոռի!E39+'Արագածոտն '!E39+'Երևան քաղաք'!E39+'Արարատ և Վայոց ձոր'!E39+Արմավիր!E39+Կոտայք!E39+Շիրակ!E39+Տավուշ!E39+Սյունիք!E39+Գեղարքունիք!E39) -> 0 | F39: =SUM(Լոռի!F39+'Արագածոտն '!F39+'Երևան քաղաք'!F39+'Արարատ և Վայոց ձոր'!F39+Արմավիր!F39+Կոտայք!F39+Շիրակ!F39+Տավուշ!F39+Սյունիք!F39+Գեղարքունիք!F39) -> 0 | G39: =SUM(Լոռի!G39+'Արագածոտն '!G39+'Երևան քաղաք'!G39+'Արարատ և Վայոց ձոր'!G39+Արմավիր!G39+Կոտայք!G39+Շիրակ!G39+Տավուշ!G39+Սյունիք!G39+Գեղարքունիք!G39) -> 0 | H39: =SUM(Լոռի!H39+'Արագածոտն '!H39+'Երևան քաղաք'!H39+'Արարատ և Վայոց ձոր'!H39+Արմավիր!H39+Կոտայք!H39+Շիրակ!H39+Տավուշ!H39+Սյունիք!H39+Գեղարքունիք!H39) -> 0 | I39: =SUM(Լոռի!I39+'Արագածոտն '!I39+'Երևան քաղաք'!I39+'Արարատ և Վայոց ձոր'!I39+Արմավիր!I39+Կոտայք!I39+Շիրակ!I39+Տավուշ!I39+Սյունիք!I39+Գեղարքունիք!I39) -> 0 | J39: =SUM(Լոռի!J39+'Արագածոտն '!J39+'Երևան քաղաք'!J39+'Արարատ և Վայոց ձոր'!J39+Արմավիր!J39+Կոտայք!J39+Շիրակ!J39+Տավուշ!J39+Սյունիք!J39+Գեղարքունիք!J39) -> 0 | K39: =SUM(Լոռի!K39+'Արագածոտն '!K39+'Երևան քաղաք'!K39+'Արարատ և Վայոց ձոր'!K39+Արմավիր!K39+Կոտայք!K39+Շիրակ!K39+Տավուշ!K39+Սյունիք!K39+Գեղարքունիք!K39) -> 0 | ... AB39: =SUM(Լոռի!AB39+'Արագածոտն '!AB39+'Երևան քաղաք'!AB39+'Արարատ և Վայոց ձոր'!AB39+Արմավիր!AB39+Կոտայք!AB39+Շիրակ!AB39+Տավուշ!AB39+Սյունիք!AB39+Գեղարքունիք!AB39) -> 0
A40: 2.2.3 | B40: Շահագործման վիճակում գտնվող անձի ծառայությունից օգտվելը | C40: 132.3 | D40: =SUM(Լոռի!D40+'Արագածոտն '!D40+'Երևան քաղաք'!D40+'Արարատ և Վայոց ձոր'!D40+Արմավիր!D40+Կոտայք!D40+Շիրակ!D40+Տավուշ!D40+Սյունիք!D40+Գեղարքունիք!D40) -> 0 | E40: =SUM(Լոռի!E40+'Արագածոտն '!E40+'Երևան քաղաք'!E40+'Արարատ և Վայոց ձոր'!E40+Արմավիր!E40+Կոտայք!E40+Շիրակ!E40+Տավուշ!E40+Սյունիք!E40+Գեղարքունիք!E40) -> 0 | F40: =SUM(Լոռի!F40+'Արագածոտն '!F40+'Երևան քաղաք'!F40+'Արարատ և Վայոց ձոր'!F40+Արմավիր!F40+Կոտայք!F40+Շիրակ!F40+Տավուշ!F40+Սյունիք!F40+Գեղարքունիք!F40) -> 0 | G40: =SUM(Լոռի!G40+'Արագածոտն '!G40+'Երևան քաղաք'!G40+'Արարատ և Վայոց ձոր'!G40+Արմավիր!G40+Կոտայք!G40+Շիրակ!G40+Տավուշ!G40+Սյունիք!G40+Գեղարքունիք!G40) -> 0 | H40: =SUM(Լոռի!H40+'Արագածոտն '!H40+'Երևան քաղաք'!H40+'Արարատ և Վայոց ձոր'!H40+Արմավիր!H40+Կոտայք!H40+Շիրակ!H40+Տավուշ!H40+Սյունիք!H40+Գեղարքունիք!H40) -> 0 | I40: =SUM(Լոռի!I40+'Արագածոտն '!I40+'Երևան քաղաք'!I40+'Արարատ և Վայոց ձոր'!I40+Արմավիր!I40+Կոտայք!I40+Շիրակ!I40+Տավուշ!I40+Սյունիք!I40+Գեղարքունիք!I40) -> 0 | J40: =SUM(Լոռի!J40+'Արագածոտն '!J40+'Երևան քաղաք'!J40+'Արարատ և Վայոց ձոր'!J40+Արմավիր!J40+Կոտայք!J40+Շիրակ!J40+Տավուշ!J40+Սյունիք!J40+Գեղարքունիք!J40) -> 0 | K40: =SUM(Լոռի!K40+'Արագածոտն '!K40+'Երևան քաղաք'!K40+'Արարատ և Վայոց ձոր'!K40+Արմավիր!K40+Կոտայք!K40+Շիրակ!K40+Տավուշ!K40+Սյունիք!K40+Գեղարքունիք!K40) -> 0 | ... AB40: =SUM(Լոռի!AB40+'Արագածոտն '!AB40+'Երևան քաղաք'!AB40+'Արարատ և Վայոց ձոր'!AB40+Արմավիր!AB40+Կոտայք!AB40+Շիրակ!AB40+Տավուշ!AB40+Սյունիք!AB40+Գեղարքունիք!AB40) -> 0
A41: 2.3 | B41: Ազատությունից ապօրինի զրկելը | C41: 133 | D41: =SUM(Լոռի!D41+'Արագածոտն '!D41+'Երևան քաղաք'!D41+'Արարատ և Վայոց ձոր'!D41+Արմավիր!D41+Կոտայք!D41+Շիրակ!D41+Տավուշ!D41+Սյունիք!D41+Գեղարքունիք!D41) -> 0 | E41: =SUM(Լոռի!E41+'Արագածոտն '!E41+'Երևան քաղաք'!E41+'Արարատ և Վայոց ձոր'!E41+Արմավիր!E41+Կոտայք!E41+Շիրակ!E41+Տավուշ!E41+Սյունիք!E41+Գեղարքունիք!E41) -> 0 | F41: =SUM(Լոռի!F41+'Արագածոտն '!F41+'Երևան քաղաք'!F41+'Արարատ և Վայոց ձոր'!F41+Արմավիր!F41+Կոտայք!F41+Շիրակ!F41+Տավուշ!F41+Սյունիք!F41+Գեղարքունիք!F41) -> 0 | G41: =SUM(Լոռի!G41+'Արագածոտն '!G41+'Երևան քաղաք'!G41+'Արարատ և Վայոց ձոր'!G41+Արմավիր!G41+Կոտայք!G41+Շիրակ!G41+Տավուշ!G41+Սյունիք!G41+Գեղարքունիք!G41) -> 0 | H41: =SUM(Լոռի!H41+'Արագածոտն '!H41+'Երևան քաղաք'!H41+'Արարատ և Վայոց ձոր'!H41+Արմավիր!H41+Կոտայք!H41+Շիրակ!H41+Տավուշ!H41+Սյունիք!H41+Գեղարքունիք!H41) -> 0 | I41: =SUM(Լոռի!I41+'Արագածոտն '!I41+'Երևան քաղաք'!I41+'Արարատ և Վայոց ձոր'!I41+Արմավիր!I41+Կոտայք!I41+Շիրակ!I41+Տավուշ!I41+Սյունիք!I41+Գեղարքունիք!I41) -> 0 | J41: =SUM(Լոռի!J41+'Արագածոտն '!J41+'Երևան քաղաք'!J41+'Արարատ և Վայոց ձոր'!J41+Արմավիր!J41+Կոտայք!J41+Շիրակ!J41+Տավուշ!J41+Սյունիք!J41+Գեղարքունիք!J41) -> 0 | K41: =SUM(Լոռի!K41+'Արագածոտն '!K41+'Երևան քաղաք'!K41+'Արարատ և Վայոց ձոր'!K41+Արմավիր!K41+Կոտայք!K41+Շիրակ!K41+Տավուշ!K41+Սյունիք!K41+Գեղարքունիք!K41) -> 0 | ... AB41: =SUM(Լոռի!AB41+'Արագածոտն '!AB41+'Երևան քաղաք'!AB41+'Արարատ և Վայոց ձոր'!AB41+Արմավիր!AB41+Կոտայք!AB41+Շիրակ!AB41+Տավուշ!AB41+Սյունիք!AB41+Գեղարքունիք!AB41) -> 0
A42: 2.4 | B42: Հոգեբուժական հիվանդանոցում ապօրինի տեղավորելը կամ պահելը | C42: 134 | D42: =SUM(Լոռի!D42+'Արագածոտն '!D42+'Երևան քաղաք'!D42+'Արարատ և Վայոց ձոր'!D42+Արմավիր!D42+Կոտայք!D42+Շիրակ!D42+Տավուշ!D42+Սյունիք!D42+Գեղարքունիք!D42) -> 0 | E42: =SUM(Լոռի!E42+'Արագածոտն '!E42+'Երևան քաղաք'!E42+'Արարատ և Վայոց ձոր'!E42+Արմավիր!E42+Կոտայք!E42+Շիրակ!E42+Տավուշ!E42+Սյունիք!E42+Գեղարքունիք!E42) -> 0 | F42: =SUM(Լոռի!F42+'Արագածոտն '!F42+'Երևան քաղաք'!F42+'Արարատ և Վայոց ձոր'!F42+Արմավիր!F42+Կոտայք!F42+Շիրակ!F42+Տավուշ!F42+Սյունիք!F42+Գեղարքունիք!F42) -> 0 | G42: =SUM(Լոռի!G42+'Արագածոտն '!G42+'Երևան քաղաք'!G42+'Արարատ և Վայոց ձոր'!G42+Արմավիր!G42+Կոտայք!G42+Շիրակ!G42+Տավուշ!G42+Սյունիք!G42+Գեղարքունիք!G42) -> 0 | H42: =SUM(Լոռի!H42+'Արագածոտն '!H42+'Երևան քաղաք'!H42+'Արարատ և Վայոց ձոր'!H42+Արմավիր!H42+Կոտայք!H42+Շիրակ!H42+Տավուշ!H42+Սյունիք!H42+Գեղարքունիք!H42) -> 0 | I42: =SUM(Լոռի!I42+'Արագածոտն '!I42+'Երևան քաղաք'!I42+'Արարատ և Վայոց ձոր'!I42+Արմավիր!I42+Կոտայք!I42+Շիրակ!I42+Տավուշ!I42+Սյունիք!I42+Գեղարքունիք!I42) -> 0 | J42: =SUM(Լոռի!J42+'Արագածոտն '!J42+'Երևան քաղաք'!J42+'Արարատ և Վայոց ձոր'!J42+Արմավիր!J42+Կոտայք!J42+Շիրակ!J42+Տավուշ!J42+Սյունիք!J42+Գեղարքունիք!J42) -> 0 | K42: =SUM(Լոռի!K42+'Արագածոտն '!K42+'Երևան քաղաք'!K42+'Արարատ և Վայոց ձոր'!K42+Արմավիր!K42+Կոտայք!K42+Շիրակ!K42+Տավուշ!K42+Սյունիք!K42+Գեղարքունիք!K42) -> 0 | ... AB42: =SUM(Լոռի!AB42+'Արագածոտն '!AB42+'Երևան քաղաք'!AB42+'Արարատ և Վայոց ձոր'!AB42+Արմավիր!AB42+Կոտայք!AB42+Շիրակ!AB42+Տավուշ!AB42+Սյունիք!AB42+Գեղարքունիք!AB42) -> 0
A43: 2.7 | B43: Սպանության, առողջությանը ծանր վնաս պատճառելու կամ գույք ոչնչացնելու սպառնալիքը | C43: 137 | D43: =SUM(Լոռի!D43+'Արագածոտն '!D43+'Երևան քաղաք'!D43+'Արարատ և Վայոց ձոր'!D43+Արմավիր!D43+Կոտայք!D43+Շիրակ!D43+Տավուշ!D43+Սյունիք!D43+Գեղարքունիք!D43) -> 0 | E43: =SUM(Լոռի!E43+'Արագածոտն '!E43+'Երևան քաղաք'!E43+'Արարատ և Վայոց ձոր'!E43+Արմավիր!E43+Կոտայք!E43+Շիրակ!E43+Տավուշ!E43+Սյունիք!E43+Գեղարքունիք!E43) -> 0 | F43: =SUM(Լոռի!F43+'Արագածոտն '!F43+'Երևան քաղաք'!F43+'Արարատ և Վայոց ձոր'!F43+Արմավիր!F43+Կոտայք!F43+Շիրակ!F43+Տավուշ!F43+Սյունիք!F43+Գեղարքունիք!F43) -> 0 | G43: =SUM(Լոռի!G43+'Արագածոտն '!G43+'Երևան քաղաք'!G43+'Արարատ և Վայոց ձոր'!G43+Արմավիր!G43+Կոտայք!G43+Շիրակ!G43+Տավուշ!G43+Սյունիք!G43+Գեղարքունիք!G43) -> 0 | H43: =SUM(Լոռի!H43+'Արագածոտն '!H43+'Երևան քաղաք'!H43+'Արարատ և Վայոց ձոր'!H43+Արմավիր!H43+Կոտայք!H43+Շիրակ!H43+Տավուշ!H43+Սյունիք!H43+Գեղարքունիք!H43) -> 0 | I43: =SUM(Լոռի!I43+'Արագածոտն '!I43+'Երևան քաղաք'!I43+'Արարատ և Վայոց ձոր'!I43+Արմավիր!I43+Կոտայք!I43+Շիրակ!I43+Տավուշ!I43+Սյունիք!I43+Գեղարքունիք!I43) -> 0 | J43: =SUM(Լոռի!J43+'Արագածոտն '!J43+'Երևան քաղաք'!J43+'Արարատ և Վայոց ձոր'!J43+Արմավիր!J43+Կոտայք!J43+Շիրակ!J43+Տավուշ!J43+Սյունիք!J43+Գեղարքունիք!J43) -> 0 | K43: =SUM(Լոռի!K43+'Արագածոտն '!K43+'Երևան քաղաք'!K43+'Արարատ և Վայոց ձոր'!K43+Արմավիր!K43+Կոտայք!K43+Շիրակ!K43+Տավուշ!K43+Սյունիք!K43+Գեղարքունիք!K43) -> 0 | ... AB43: =SUM(Լոռի!AB43+'Արագածոտն '!AB43+'Երևան քաղաք'!AB43+'Արարատ և Վայոց ձոր'!AB43+Արմավիր!AB43+Կոտայք!AB43+Շիրակ!AB43+Տավուշ!AB43+Սյունիք!AB43+Գեղարքունիք!AB43) -> 0
A44: 2.8 | B44: Այլ հանցագործություններ | D44: =SUM(Լոռի!D44+'Արագածոտն '!D44+'Երևան քաղաք'!D44+'Արարատ և Վայոց ձոր'!D44+Արմավիր!D44+Կոտայք!D44+Շիրակ!D44+Տավուշ!D44+Սյունիք!D44+Գեղարքունիք!D44) -> 0 | E44: =SUM(Լոռի!E44+'Արագածոտն '!E44+'Երևան քաղաք'!E44+'Արարատ և Վայոց ձոր'!E44+Արմավիր!E44+Կոտայք!E44+Շիրակ!E44+Տավուշ!E44+Սյունիք!E44+Գեղարքունիք!E44) -> 0 | F44: =SUM(Լոռի!F44+'Արագածոտն '!F44+'Երևան քաղաք'!F44+'Արարատ և Վայոց ձոր'!F44+Արմավիր!F44+Կոտայք!F44+Շիրակ!F44+Տավուշ!F44+Սյունիք!F44+Գեղարքունիք!F44) -> 0 | G44: =SUM(Լոռի!G44+'Արագածոտն '!G44+'Երևան քաղաք'!G44+'Արարատ և Վայոց ձոր'!G44+Արմավիր!G44+Կոտայք!G44+Շիրակ!G44+Տավուշ!G44+Սյունիք!G44+Գեղարքունիք!G44) -> 0 | H44: =SUM(Լոռի!H44+'Արագածոտն '!H44+'Երևան քաղաք'!H44+'Արարատ և Վայոց ձոր'!H44+Արմավիր!H44+Կոտայք!H44+Շիրակ!H44+Տավուշ!H44+Սյունիք!H44+Գեղարքունիք!H44) -> 0 | I44: =SUM(Լոռի!I44+'Արագածոտն '!I44+'Երևան քաղաք'!I44+'Արարատ և Վայոց ձոր'!I44+Արմավիր!I44+Կոտայք!I44+Շիրակ!I44+Տավուշ!I44+Սյունիք!I44+Գեղարքունիք!I44) -> 0 | J44: =SUM(Լոռի!J44+'Արագածոտն '!J44+'Երևան քաղաք'!J44+'Արարատ և Վայոց ձոր'!J44+Արմավիր!J44+Կոտայք!J44+Շիրակ!J44+Տավուշ!J44+Սյունիք!J44+Գեղարքունիք!J44) -> 0 | K44: =SUM(Լոռի!K44+'Արագածոտն '!K44+'Երևան քաղաք'!K44+'Արարատ և Վայոց ձոր'!K44+Արմավիր!K44+Կոտայք!K44+Շիրակ!K44+Տավուշ!K44+Սյունիք!K44+Գեղարքունիք!K44) -> 0 | ... AB44: =SUM(Լոռի!AB44+'Արագածոտն '!AB44+'Երևան քաղաք'!AB44+'Արարատ և Վայոց ձոր'!AB44+Արմավիր!AB44+Կոտայք!AB44+Շիրակ!AB44+Տավուշ!AB44+Սյունիք!AB44+Գեղարքունիք!AB44) -> 0
A45: 3. | B45: Ընդամենը սեռական անձեռնմխելիության և սեռական ազատության դեմ ուղղված հանցագործությունները | D45: =SUM(Լոռի!D45+'Արագածոտն '!D45+'Երևան քաղաք'!D45+'Արարատ և Վայոց ձոր'!D45+Արմավիր!D45+Կոտայք!D45+Շիրակ!D45+Տավուշ!D45+Սյունիք!D45+Գեղարքունիք!D45) -> 0 | E45: =SUM(Լոռի!E45+'Արագածոտն '!E45+'Երևան քաղաք'!E45+'Արարատ և Վայոց ձոր'!E45+Արմավիր!E45+Կոտայք!E45+Շիրակ!E45+Տավուշ!E45+Սյունիք!E45+Գեղարքունիք!E45) -> 0 | F45: =SUM(Լոռի!F45+'Արագածոտն '!F45+'Երևան քաղաք'!F45+'Արարատ և Վայոց ձոր'!F45+Արմավիր!F45+Կոտայք!F45+Շիրակ!F45+Տավուշ!F45+Սյունիք!F45+Գեղարքունիք!F45) -> 0 | G45: =SUM(Լոռի!G45+'Արագածոտն '!G45+'Երևան քաղաք'!G45+'Արարատ և Վայոց ձոր'!G45+Արմավիր!G45+Կոտայք!G45+Շիրակ!G45+Տավուշ!G45+Սյունիք!G45+Գեղարքունիք!G45) -> 0 | H45: =SUM(Լոռի!H45+'Արագածոտն '!H45+'Երևան քաղաք'!H45+'Արարատ և Վայոց ձոր'!H45+Արմավիր!H45+Կոտայք!H45+Շիրակ!H45+Տավուշ!H45+Սյունիք!H45+Գեղարքունիք!H45) -> 0 | I45: =SUM(Լոռի!I45+'Արագածոտն '!I45+'Երևան քաղաք'!I45+'Արարատ և Վայոց ձոր'!I45+Արմավիր!I45+Կոտայք!I45+Շիրակ!I45+Տավուշ!I45+Սյունիք!I45+Գեղարքունիք!I45) -> 0 | J45: =SUM(Լոռի!J45+'Արագածոտն '!J45+'Երևան քաղաք'!J45+'Արարատ և Վայոց ձոր'!J45+Արմավիր!J45+Կոտայք!J45+Շիրակ!J45+Տավուշ!J45+Սյունիք!J45+Գեղարքունիք!J45) -> 0 | K45: =SUM(Լոռի!K45+'Արագածոտն '!K45+'Երևան քաղաք'!K45+'Արարատ և Վայոց ձոր'!K45+Արմավիր!K45+Կոտայք!K45+Շիրակ!K45+Տավուշ!K45+Սյունիք!K45+Գեղարքունիք!K45) -> 0 | ... AB45: =SUM(Լոռի!AB45+'Արագածոտն '!AB45+'Երևան քաղաք'!AB45+'Արարատ և Վայոց ձոր'!AB45+Արմավիր!AB45+Կոտայք!AB45+Շիրակ!AB45+Տավուշ!AB45+Սյունիք!AB45+Գեղարքունիք!AB45) -> 0
A46: 3.1 | B46: Բռնաբարությունը | C46: 138 | D46: =SUM(Լոռի!D46+'Արագածոտն '!D46+'Երևան քաղաք'!D46+'Արարատ և Վայոց ձոր'!D46+Արմավիր!D46+Կոտայք!D46+Շիրակ!D46+Տավուշ!D46+Սյունիք!D46+Գեղարքունիք!D46) -> 0 | E46: =SUM(Լոռի!E46+'Արագածոտն '!E46+'Երևան քաղաք'!E46+'Արարատ և Վայոց ձոր'!E46+Արմավիր!E46+Կոտայք!E46+Շիրակ!E46+Տավուշ!E46+Սյունիք!E46+Գեղարքունիք!E46) -> 0 | F46: =SUM(Լոռի!F46+'Արագածոտն '!F46+'Երևան քաղաք'!F46+'Արարատ և Վայոց ձոր'!F46+Արմավիր!F46+Կոտայք!F46+Շիրակ!F46+Տավուշ!F46+Սյունիք!F46+Գեղարքունիք!F46) -> 0 | G46: =SUM(Լոռի!G46+'Արագածոտն '!G46+'Երևան քաղաք'!G46+'Արարատ և Վայոց ձոր'!G46+Արմավիր!G46+Կոտայք!G46+Շիրակ!G46+Տավուշ!G46+Սյունիք!G46+Գեղարքունիք!G46) -> 0 | H46: =SUM(Լոռի!H46+'Արագածոտն '!H46+'Երևան քաղաք'!H46+'Արարատ և Վայոց ձոր'!H46+Արմավիր!H46+Կոտայք!H46+Շիրակ!H46+Տավուշ!H46+Սյունիք!H46+Գեղարքունիք!H46) -> 0 | I46: =SUM(Լոռի!I46+'Արագածոտն '!I46+'Երևան քաղաք'!I46+'Արարատ և Վայոց ձոր'!I46+Արմավիր!I46+Կոտայք!I46+Շիրակ!I46+Տավուշ!I46+Սյունիք!I46+Գեղարքունիք!I46) -> 0 | J46: =SUM(Լոռի!J46+'Արագածոտն '!J46+'Երևան քաղաք'!J46+'Արարատ և Վայոց ձոր'!J46+Արմավիր!J46+Կոտայք!J46+Շիրակ!J46+Տավուշ!J46+Սյունիք!J46+Գեղարքունիք!J46) -> 0 | K46: =SUM(Լոռի!K46+'Արագածոտն '!K46+'Երևան քաղաք'!K46+'Արարատ և Վայոց ձոր'!K46+Արմավիր!K46+Կոտայք!K46+Շիրակ!K46+Տավուշ!K46+Սյունիք!K46+Գեղարքունիք!K46) -> 0 | ... AB46: =SUM(Լոռի!AB46+'Արագածոտն '!AB46+'Երևան քաղաք'!AB46+'Արարատ և Վայոց ձոր'!AB46+Արմավիր!AB46+Կոտայք!AB46+Շիրակ!AB46+Տավուշ!AB46+Սյունիք!AB46+Գեղարքունիք!AB46) -> 0
A47: 3.2 | B47: Սեքսուալ բնույթի բռնի գործողությունները | C47: 139 | D47: =SUM(Լոռի!D47+'Արագածոտն '!D47+'Երևան քաղաք'!D47+'Արարատ և Վայոց ձոր'!D47+Արմավիր!D47+Կոտայք!D47+Շիրակ!D47+Տավուշ!D47+Սյունիք!D47+Գեղարքունիք!D47) -> 0 | E47: =SUM(Լոռի!E47+'Արագածոտն '!E47+'Երևան քաղաք'!E47+'Արարատ և Վայոց ձոր'!E47+Արմավիր!E47+Կոտայք!E47+Շիրակ!E47+Տավուշ!E47+Սյունիք!E47+Գեղարքունիք!E47) -> 0 | F47: =SUM(Լոռի!F47+'Արագածոտն '!F47+'Երևան քաղաք'!F47+'Արարատ և Վայոց ձոր'!F47+Արմավիր!F47+Կոտայք!F47+Շիրակ!F47+Տավուշ!F47+Սյունիք!F47+Գեղարքունիք!F47) -> 0 | G47: =SUM(Լոռի!G47+'Արագածոտն '!G47+'Երևան քաղաք'!G47+'Արարատ և Վայոց ձոր'!G47+Արմավիր!G47+Կոտայք!G47+Շիրակ!G47+Տավուշ!G47+Սյունիք!G47+Գեղարքունիք!G47) -> 0 | H47: =SUM(Լոռի!H47+'Արագածոտն '!H47+'Երևան քաղաք'!H47+'Արարատ և Վայոց ձոր'!H47+Արմավիր!H47+Կոտայք!H47+Շիրակ!H47+Տավուշ!H47+Սյունիք!H47+Գեղարքունիք!H47) -> 0 | I47: =SUM(Լոռի!I47+'Արագածոտն '!I47+'Երևան քաղաք'!I47+'Արարատ և Վայոց ձոր'!I47+Արմավիր!I47+Կոտայք!I47+Շիրակ!I47+Տավուշ!I47+Սյունիք!I47+Գեղարքունիք!I47) -> 0 | J47: =SUM(Լոռի!J47+'Արագածոտն '!J47+'Երևան քաղաք'!J47+'Արարատ և Վայոց ձոր'!J47+Արմավիր!J47+Կոտայք!J47+Շիրակ!J47+Տավուշ!J47+Սյունիք!J47+Գեղարքունիք!J47) -> 0 | K47: =SUM(Լոռի!K47+'Արագածոտն '!K47+'Երևան քաղաք'!K47+'Արարատ և Վայոց ձոր'!K47+Արմավիր!K47+Կոտայք!K47+Շիրակ!K47+Տավուշ!K47+Սյունիք!K47+Գեղարքունիք!K47) -> 0 | ... AB47: =SUM(Լոռի!AB47+'Արագածոտն '!AB47+'Երևան քաղաք'!AB47+'Արարատ և Վայոց ձոր'!AB47+Արմավիր!AB47+Կոտայք!AB47+Շիրակ!AB47+Տավուշ!AB47+Սյունիք!AB47+Գեղարքունիք!AB47) -> 0
A48: 3.3 | B48: Սեռական հարաբերության կամ սեքսուալ բնույթի գործողություններին հարկադրելը | C48: 140 | D48: =SUM(Լոռի!D48+'Արագածոտն '!D48+'Երևան քաղաք'!D48+'Արարատ և Վայոց ձոր'!D48+Արմավիր!D48+Կոտայք!D48+Շիրակ!D48+Տավուշ!D48+Սյունիք!D48+Գեղարքունիք!D48) -> 0 | E48: =SUM(Լոռի!E48+'Արագածոտն '!E48+'Երևան քաղաք'!E48+'Արարատ և Վայոց ձոր'!E48+Արմավիր!E48+Կոտայք!E48+Շիրակ!E48+Տավուշ!E48+Սյունիք!E48+Գեղարքունիք!E48) -> 0 | F48: =SUM(Լոռի!F48+'Արագածոտն '!F48+'Երևան քաղաք'!F48+'Արարատ և Վայոց ձոր'!F48+Արմավիր!F48+Կոտայք!F48+Շիրակ!F48+Տավուշ!F48+Սյունիք!F48+Գեղարքունիք!F48) -> 0 | G48: =SUM(Լոռի!G48+'Արագածոտն '!G48+'Երևան քաղաք'!G48+'Արարատ և Վայոց ձոր'!G48+Արմավիր!G48+Կոտայք!G48+Շիրակ!G48+Տավուշ!G48+Սյունիք!G48+Գեղարքունիք!G48) -> 0 | H48: =SUM(Լոռի!H48+'Արագածոտն '!H48+'Երևան քաղաք'!H48+'Արարատ և Վայոց ձոր'!H48+Արմավիր!H48+Կոտայք!H48+Շիրակ!H48+Տավուշ!H48+Սյունիք!H48+Գեղարքունիք!H48) -> 0 | I48: =SUM(Լոռի!I48+'Արագածոտն '!I48+'Երևան քաղաք'!I48+'Արարատ և Վայոց ձոր'!I48+Արմավիր!I48+Կոտայք!I48+Շիրակ!I48+Տավուշ!I48+Սյունիք!I48+Գեղարքունիք!I48) -> 0 | J48: =SUM(Լոռի!J48+'Արագածոտն '!J48+'Երևան քաղաք'!J48+'Արարատ և Վայոց ձոր'!J48+Արմավիր!J48+Կոտայք!J48+Շիրակ!J48+Տավուշ!J48+Սյունիք!J48+Գեղարքունիք!J48) -> 0 | K48: =SUM(Լոռի!K48+'Արագածոտն '!K48+'Երևան քաղաք'!K48+'Արարատ և Վայոց ձոր'!K48+Արմավիր!K48+Կոտայք!K48+Շիրակ!K48+Տավուշ!K48+Սյունիք!K48+Գեղարքունիք!K48) -> 0 | ... AB48: =SUM(Լոռի!AB48+'Արագածոտն '!AB48+'Երևան քաղաք'!AB48+'Արարատ և Վայոց ձոր'!AB48+Արմավիր!AB48+Կոտայք!AB48+Շիրակ!AB48+Տավուշ!AB48+Սյունիք!AB48+Գեղարքունիք!AB48) -> 0
A49: 3.4 | B49: Սեռական հարաբերությունը տասնվեց տարին չլրացած անձի հետ կամ սեքսուալ բնույթի գործողություններ կատարելը տասնվեց տարին չլրացած անձի նկատմամբ | C49: 141 | D49: =SUM(Լոռի!D49+'Արագածոտն '!D49+'Երևան քաղաք'!D49+'Արարատ և Վայոց ձոր'!D49+Արմավիր!D49+Կոտայք!D49+Շիրակ!D49+Տավուշ!D49+Սյունիք!D49+Գեղարքունիք!D49) -> 0 | E49: =SUM(Լոռի!E49+'Արագածոտն '!E49+'Երևան քաղաք'!E49+'Արարատ և Վայոց ձոր'!E49+Արմավիր!E49+Կոտայք!E49+Շիրակ!E49+Տավուշ!E49+Սյունիք!E49+Գեղարքունիք!E49) -> 0 | F49: =SUM(Լոռի!F49+'Արագածոտն '!F49+'Երևան քաղաք'!F49+'Արարատ և Վայոց ձոր'!F49+Արմավիր!F49+Կոտայք!F49+Շիրակ!F49+Տավուշ!F49+Սյունիք!F49+Գեղարքունիք!F49) -> 0 | G49: =SUM(Լոռի!G49+'Արագածոտն '!G49+'Երևան քաղաք'!G49+'Արարատ և Վայոց ձոր'!G49+Արմավիր!G49+Կոտայք!G49+Շիրակ!G49+Տավուշ!G49+Սյունիք!G49+Գեղարքունիք!G49) -> 0 | H49: =SUM(Լոռի!H49+'Արագածոտն '!H49+'Երևան քաղաք'!H49+'Արարատ և Վայոց ձոր'!H49+Արմավիր!H49+Կոտայք!H49+Շիրակ!H49+Տավուշ!H49+Սյունիք!H49+Գեղարքունիք!H49) -> 0 | I49: =SUM(Լոռի!I49+'Արագածոտն '!I49+'Երևան քաղաք'!I49+'Արարատ և Վայոց ձոր'!I49+Արմավիր!I49+Կոտայք!I49+Շիրակ!I49+Տավուշ!I49+Սյունիք!I49+Գեղարքունիք!I49) -> 0 | J49: =SUM(Լոռի!J49+'Արագածոտն '!J49+'Երևան քաղաք'!J49+'Արարատ և Վայոց ձոր'!J49+Արմավիր!J49+Կոտայք!J49+Շիրակ!J49+Տավուշ!J49+Սյունիք!J49+Գեղարքունիք!J49) -> 0 | K49: =SUM(Լոռի!K49+'Արագածոտն '!K49+'Երևան քաղաք'!K49+'Արարատ և Վայոց ձոր'!K49+Արմավիր!K49+Կոտայք!K49+Շիրակ!K49+Տավուշ!K49+Սյունիք!K49+Գեղարքունիք!K49) -> 0 | ... AB49: =SUM(Լոռի!AB49+'Արագածոտն '!AB49+'Երևան քաղաք'!AB49+'Արարատ և Վայոց ձոր'!AB49+Արմավիր!AB49+Կոտայք!AB49+Շիրակ!AB49+Տավուշ!AB49+Սյունիք!AB49+Գեղարքունիք!AB49) -> 0
A50: 3.5 | B50: Անառակաբարո գործողությունները | C50: 142 | D50: =SUM(Լոռի!D50+'Արագածոտն '!D50+'Երևան քաղաք'!D50+'Արարատ և Վայոց ձոր'!D50+Արմավիր!D50+Կոտայք!D50+Շիրակ!D50+Տավուշ!D50+Սյունիք!D50+Գեղարքունիք!D50) -> 0 | E50: =SUM(Լոռի!E50+'Արագածոտն '!E50+'Երևան քաղաք'!E50+'Արարատ և Վայոց ձոր'!E50+Արմավիր!E50+Կոտայք!E50+Շիրակ!E50+Տավուշ!E50+Սյունիք!E50+Գեղարքունիք!E50) -> 0 | F50: =SUM(Լոռի!F50+'Արագածոտն '!F50+'Երևան քաղաք'!F50+'Արարատ և Վայոց ձոր'!F50+Արմավիր!F50+Կոտայք!F50+Շիրակ!F50+Տավուշ!F50+Սյունիք!F50+Գեղարքունիք!F50) -> 0 | G50: =SUM(Լոռի!G50+'Արագածոտն '!G50+'Երևան քաղաք'!G50+'Արարատ և Վայոց ձոր'!G50+Արմավիր!G50+Կոտայք!G50+Շիրակ!G50+Տավուշ!G50+Սյունիք!G50+Գեղարքունիք!G50) -> 0 | H50: =SUM(Լոռի!H50+'Արագածոտն '!H50+'Երևան քաղաք'!H50+'Արարատ և Վայոց ձոր'!H50+Արմավիր!H50+Կոտայք!H50+Շիրակ!H50+Տավուշ!H50+Սյունիք!H50+Գեղարքունիք!H50) -> 0 | I50: =SUM(Լոռի!I50+'Արագածոտն '!I50+'Երևան քաղաք'!I50+'Արարատ և Վայոց ձոր'!I50+Արմավիր!I50+Կոտայք!I50+Շիրակ!I50+Տավուշ!I50+Սյունիք!I50+Գեղարքունիք!I50) -> 0 | J50: =SUM(Լոռի!J50+'Արագածոտն '!J50+'Երևան քաղաք'!J50+'Արարատ և Վայոց ձոր'!J50+Արմավիր!J50+Կոտայք!J50+Շիրակ!J50+Տավուշ!J50+Սյունիք!J50+Գեղարքունիք!J50) -> 0 | K50: =SUM(Լոռի!K50+'Արագածոտն '!K50+'Երևան քաղաք'!K50+'Արարատ և Վայոց ձոր'!K50+Արմավիր!K50+Կոտայք!K50+Շիրակ!K50+Տավուշ!K50+Սյունիք!K50+Գեղարքունիք!K50) -> 0 | ... AB50: =SUM(Լոռի!AB50+'Արագածոտն '!AB50+'Երևան քաղաք'!AB50+'Արարատ և Վայոց ձոր'!AB50+Արմավիր!AB50+Կոտայք!AB50+Շիրակ!AB50+Տավուշ!AB50+Սյունիք!AB50+Գեղարքունիք!AB50) -> 0
A51: 3.6 | B51: Այլ հանցագործություններ | D51: =SUM(Լոռի!D51+'Արագածոտն '!D51+'Երևան քաղաք'!D51+'Արարատ և Վայոց ձոր'!D51+Արմավիր!D51+Կոտայք!D51+Շիրակ!D51+Տավուշ!D51+Սյունիք!D51+Գեղարքունիք!D51) -> 0 | E51: =SUM(Լոռի!E51+'Արագածոտն '!E51+'Երևան քաղաք'!E51+'Արարատ և Վայոց ձոր'!E51+Արմավիր!E51+Կոտայք!E51+Շիրակ!E51+Տավուշ!E51+Սյունիք!E51+Գեղարքունիք!E51) -> 0 | F51: =SUM(Լոռի!F51+'Արագածոտն '!F51+'Երևան քաղաք'!F51+'Արարատ և Վայոց ձոր'!F51+Արմավիր!F51+Կոտայք!F51+Շիրակ!F51+Տավուշ!F51+Սյունիք!F51+Գեղարքունիք!F51) -> 0 | G51: =SUM(Լոռի!G51+'Արագածոտն '!G51+'Երևան քաղաք'!G51+'Արարատ և Վայոց ձոր'!G51+Արմավիր!G51+Կոտայք!G51+Շիրակ!G51+Տավուշ!G51+Սյունիք!G51+Գեղարքունիք!G51) -> 0 | H51: =SUM(Լոռի!H51+'Արագածոտն '!H51+'Երևան քաղաք'!H51+'Արարատ և Վայոց ձոր'!H51+Արմավիր!H51+Կոտայք!H51+Շիրակ!H51+Տավուշ!H51+Սյունիք!H51+Գեղարքունիք!H51) -> 0 | I51: =SUM(Լոռի!I51+'Արագածոտն '!I51+'Երևան քաղաք'!I51+'Արարատ և Վայոց ձոր'!I51+Արմավիր!I51+Կոտայք!I51+Շիրակ!I51+Տավուշ!I51+Սյունիք!I51+Գեղարքունիք!I51) -> 0 | J51: =SUM(Լոռի!J51+'Արագածոտն '!J51+'Երևան քաղաք'!J51+'Արարատ և Վայոց ձոր'!J51+Արմավիր!J51+Կոտայք!J51+Շիրակ!J51+Տավուշ!J51+Սյունիք!J51+Գեղարքունիք!J51) -> 0 | K51: =SUM(Լոռի!K51+'Արագածոտն '!K51+'Երևան քաղաք'!K51+'Արարատ և Վայոց ձոր'!K51+Արմավիր!K51+Կոտայք!K51+Շիրակ!K51+Տավուշ!K51+Սյունիք!K51+Գեղարքունիք!K51) -> 0 | ... AB51: =SUM(Լոռի!AB51+'Արագածոտն '!AB51+'Երևան քաղաք'!AB51+'Արարատ և Վայոց ձոր'!AB51+Արմավիր!AB51+Կոտայք!AB51+Շիրակ!AB51+Տավուշ!AB51+Սյունիք!AB51+Գեղարքունիք!AB51) -> 0
A52: 4. | B52: Ընդամենը մարդու և քաղաքացու սահմանադրական իրավունքների և ազատությունների դեմ ուղղված հանցագործությունները | D52: =SUM(Լոռի!D52+'Արագածոտն '!D52+'Երևան քաղաք'!D52+'Արարատ և Վայոց ձոր'!D52+Արմավիր!D52+Կոտայք!D52+Շիրակ!D52+Տավուշ!D52+Սյունիք!D52+Գեղարքունիք!D52) -> 0 | E52: =SUM(Լոռի!E52+'Արագածոտն '!E52+'Երևան քաղաք'!E52+'Արարատ և Վայոց ձոր'!E52+Արմավիր!E52+Կոտայք!E52+Շիրակ!E52+Տավուշ!E52+Սյունիք!E52+Գեղարքունիք!E52) -> 0 | F52: =SUM(Լոռի!F52+'Արագածոտն '!F52+'Երևան քաղաք'!F52+'Արարատ և Վայոց ձոր'!F52+Արմավիր!F52+Կոտայք!F52+Շիրակ!F52+Տավուշ!F52+Սյունիք!F52+Գեղարքունիք!F52) -> 0 | G52: =SUM(Լոռի!G52+'Արագածոտն '!G52+'Երևան քաղաք'!G52+'Արարատ և Վայոց ձոր'!G52+Արմավիր!G52+Կոտայք!G52+Շիրակ!G52+Տավուշ!G52+Սյունիք!G52+Գեղարքունիք!G52) -> 0 | H52: =SUM(Լոռի!H52+'Արագածոտն '!H52+'Երևան քաղաք'!H52+'Արարատ և Վայոց ձոր'!H52+Արմավիր!H52+Կոտայք!H52+Շիրակ!H52+Տավուշ!H52+Սյունիք!H52+Գեղարքունիք!H52) -> 0 | I52: =SUM(Լոռի!I52+'Արագածոտն '!I52+'Երևան քաղաք'!I52+'Արարատ և Վայոց ձոր'!I52+Արմավիր!I52+Կոտայք!I52+Շիրակ!I52+Տավուշ!I52+Սյունիք!I52+Գեղարքունիք!I52) -> 0 | J52: =SUM(Լոռի!J52+'Արագածոտն '!J52+'Երևան քաղաք'!J52+'Արարատ և Վայոց ձոր'!J52+Արմավիր!J52+Կոտայք!J52+Շիրակ!J52+Տավուշ!J52+Սյունիք!J52+Գեղարքունիք!J52) -> 0 | K52: =SUM(Լոռի!K52+'Արագածոտն '!K52+'Երևան քաղաք'!K52+'Արարատ և Վայոց ձոր'!K52+Արմավիր!K52+Կոտայք!K52+Շիրակ!K52+Տավուշ!K52+Սյունիք!K52+Գեղարքունիք!K52) -> 0 | ... AB52: =SUM(Լոռի!AB52+'Արագածոտն '!AB52+'Երևան քաղաք'!AB52+'Արարատ և Վայոց ձոր'!AB52+Արմավիր!AB52+Կոտայք!AB52+Շիրակ!AB52+Տավուշ!AB52+Սյունիք!AB52+Գեղարքունիք!AB52) -> 0
A53: 4.1 | B53: Մարդու և քաղաքացու իրավահավասարությունը խախտելը | C53: 143 | D53: =SUM(Լոռի!D53+'Արագածոտն '!D53+'Երևան քաղաք'!D53+'Արարատ և Վայոց ձոր'!D53+Արմավիր!D53+Կոտայք!D53+Շիրակ!D53+Տավուշ!D53+Սյունիք!D53+Գեղարքունիք!D53) -> 0 | E53: =SUM(Լոռի!E53+'Արագածոտն '!E53+'Երևան քաղաք'!E53+'Արարատ և Վայոց ձոր'!E53+Արմավիր!E53+Կոտայք!E53+Շիրակ!E53+Տավուշ!E53+Սյունիք!E53+Գեղարքունիք!E53) -> 0 | F53: =SUM(Լոռի!F53+'Արագածոտն '!F53+'Երևան քաղաք'!F53+'Արարատ և Վայոց ձոր'!F53+Արմավիր!F53+Կոտայք!F53+Շիրակ!F53+Տավուշ!F53+Սյունիք!F53+Գեղարքունիք!F53) -> 0 | G53: =SUM(Լոռի!G53+'Արագածոտն '!G53+'Երևան քաղաք'!G53+'Արարատ և Վայոց ձոր'!G53+Արմավիր!G53+Կոտայք!G53+Շիրակ!G53+Տավուշ!G53+Սյունիք!G53+Գեղարքունիք!G53) -> 0 | H53: =SUM(Լոռի!H53+'Արագածոտն '!H53+'Երևան քաղաք'!H53+'Արարատ և Վայոց ձոր'!H53+Արմավիր!H53+Կոտայք!H53+Շիրակ!H53+Տավուշ!H53+Սյունիք!H53+Գեղարքունիք!H53) -> 0 | I53: =SUM(Լոռի!I53+'Արագածոտն '!I53+'Երևան քաղաք'!I53+'Արարատ և Վայոց ձոր'!I53+Արմավիր!I53+Կոտայք!I53+Շիրակ!I53+Տավուշ!I53+Սյունիք!I53+Գեղարքունիք!I53) -> 0 | J53: =SUM(Լոռի!J53+'Արագածոտն '!J53+'Երևան քաղաք'!J53+'Արարատ և Վայոց ձոր'!J53+Արմավիր!J53+Կոտայք!J53+Շիրակ!J53+Տավուշ!J53+Սյունիք!J53+Գեղարքունիք!J53) -> 0 | K53: =SUM(Լոռի!K53+'Արագածոտն '!K53+'Երևան քաղաք'!K53+'Արարատ և Վայոց ձոր'!K53+Արմավիր!K53+Կոտայք!K53+Շիրակ!K53+Տավուշ!K53+Սյունիք!K53+Գեղարքունիք!K53) -> 0 | ... AB53: =SUM(Լոռի!AB53+'Արագածոտն '!AB53+'Երևան քաղաք'!AB53+'Արարատ և Վայոց ձոր'!AB53+Արմավիր!AB53+Կոտայք!AB53+Շիրակ!AB53+Տավուշ!AB53+Սյունիք!AB53+Գեղարքունիք!AB53) -> 0
...

Sheet Լոռի
A1: ՀԱՇՎԵՏՎՈՒԹՅՈՒՆ
A2: 2020թ. Տարեկան | C2: ԱՆՉԱՓԱՀԱՍ ԴԱՏԱՊԱՐՏՅԱԼՆԵՐԻ ՎԵՐԱԲԵՐՅԱԼ
A3: Վիճակագրական տողի համարը | B3: ՀԱՆՑԱԳՈՐԾՈՒԹՅՈՒՆՆԵՐԻ ՏԵՍԱԿՆԵՐԸ | C3: ՀՀ Քրեական օրենսգրքի հոդվածը | D3: Հանցագործությունը կատարել են | G3: նրանցից | L3: Դատապարտյալների նկատմամբ նշանակված հիմնական պատիժներ | U3: նշանակված պատիժը պայմանականորեն չի կիրառվել | V3: կիրառվել է համաներման ակտ | W3: Կիրառվել են դաստիարակչական բնույթի հարկադրանքի միջոց | X3: Անձանց թիվը, որոնք մինչև վերջին հանցագործությունը կատարելը
D4: 14-16 տարեկանում | E4: 16-18 տարեկանում | F4: Ընդամենը | G4: աղջիկներ | H4: չեն աշխատել, չեն սովորել | I4: անձինք, որոնք հանցագործությունը կատարել են | L4: Ա զ ա տ ա զ ր կ ու մ | T4: այլ պատիժներ | X4: գտնվել են ոստիկանության մարմիններում հաշվառման մեջ | Y4: կատարել են հանցագործություն և եղել են
Y5: ազատված քրեական պատասխանատվությունից | Z5: դատապարտված | AA5: Այդ թվում
B6: ՍՏՈՒԳԻՉ ՀԱՎԱՍԱՐՈՒՄՆԵՐ 3=1+2, 16=9+10+11+12+13+14+15, 3=16+17 | I6: ալկ., թմրամիջ. կամ թնրեցնող այլ նյութերի ազդեցության տակ | J6: Մի խումբ անձանց կազմում | K6: այդ թվում՝ մեծահասակների մասնակցությամբ | L6: 1 տարի ներառյալ | M6: 1 տարուց ավել, մինչև 2 տարի ներառյալ | N6: 2 տարուց ավել, մինչև 3 տարի ներառյալ | O6: 3 տարուց ավել, մինչև 5 տարի ներառյալ | P6: 5 տարուց ավել, մինչև 8 տարի ներառյալ | Q6: 8 տարուց ավել, մինչև 10 տարի ներառյալ | R6: 10 տարուց ավել, մինչև 12տարի ներառյալ | S6: ընդամենը | AA6: դատավճռի կատարման հետաձգումով | AB6: պայմանական դատապարտություն
D7: 1 | E7: 2 | F7: 3 | G7: 4 | H7: 5 | I7: 6 | J7: 7 | K7: 8 | L7: 9 | M7: 10 | N7: 11 | O7: 12 | P7: 13 | Q7: 14 | R7: 15 | S7: 16 | T7: 17 | U7: 18 | V7: 19 | W7: 20 | X7: 21 | Y7: 22 | Z7: 23 | AA7: 24 | AB7: 25
A8: 1. | B8: Ընդամենը կյանքի և առողջության դեմ ուղղված հանցագործությունները | D8: =SUM(D9:D35) -> 1 | E8: =SUM(E9:E35) -> 1 | F8: =SUM(F9:F35) -> 2 | G8: =SUM(G9:G35) -> 0 | H8: =SUM(H9:H35) -> 1 | I8: =SUM(I9:I35) -> 0 | J8: =SUM(J9:J35) -> 0 | K8: =SUM(K9:K35) -> 0 | ... AB8: =SUM(AB9:AB35) -> 0
A9: 1.1 | B9: Սպանությունը | C9: 104 | F9: =+D9+E9 -> 0 | S9: =+R9+Q9+P9+O9+N9+M9+L9 -> 0
A10: 1.2 | B10: Հոգեկան խիստ հուզմունքի վիճակում կատարված սպանությունը | C10: 105 | F10: =+D10+E10 -> 0 | S10: =+R10+Q10+P10+O10+N10+M10+L10 -> 0
A11: 1.3 | B11: Մոր կողմից նորածին երեխայի սպանությունը | C11: 106 | F11: =+D11+E11 -> 0 | S11: =+R11+Q11+P11+O11+N11+M11+L11 -> 0
A12: 1.4 | B12: Հանցանք կատարած անձին բռնելու համար անհրաժեշտ միջոցների սահմանազանցմամբ սպանությունը | C12: 107 | F12: =+D12+E12 -> 0 | S12: =+R12+Q12+P12+O12+N12+M12+L12 -> 0
A13: 1.5 | B13: Անհրաժեշտ պաշտպանության սահմանազանցմամբ սպանությունը | C13: 108 | F13: =+D13+E13 -> 0 | S13: =+R13+Q13+P13+O13+N13+M13+L13 -> 0
A14: 1.6 | B14: Անզգուշությամբ մահ պատճառելը | C14: 109 | F14: =+D14+E14 -> 0 | S14: =+R14+Q14+P14+O14+N14+M14+L14 -> 0
A15: 1.7 | B15: Ինքնասպանության հասցնելը | C15: 110 | F15: =+D15+E15 -> 0 | S15: =+R15+Q15+P15+O15+N15+M15+L15 -> 0
A16: 1.8 | B16: Ինքնասպանության հակելը | C16: 111 | F16: =+D16+E16 -> 0 | S16: =+R16+Q16+P16+O16+N16+M16+L16 -> 0
A17: 1.9 | B17: Դիտավորությամբ առողջությանը ծանր վնաս պատճառելը | C17: 112 | D17: 1 | E17: 1 | F17: =+D17+E17 -> 2 | H17: 1 | N17: 2 | S17: =+R17+Q17+P17+O17+N17+M17+L17 -> 2 | U17: 2
A18: 1.10 | B18: Դիտավորությամբ առողջությանը միջին ծանրության վնաս պատճառելը | C18: 113 | F18: =+D18+E18 -> 0 | S18: =+R18+Q18+P18+O18+N18+M18+L18 -> 0
A19: 1.11 | B19: Հոգեկան խիստ հուզմունքի վիճակում առողջությանը ծանր կամ միջին ծանրության վնաս պատճառելը | C19: 114 | F19: =+D19+E19 -> 0 | S19: =+R19+Q19+P19+O19+N19+M19+L19 -> 0
A20: 1.12 | B20: Հանցանք կատարած անձին բռնելու համար անհրաժեշտ միջոցների սահմանզանցմամբ առողջությանը ծանր կամ միջին ծանրության վնաս պատճառելը | C20: 115 | F20: =+D20+E20 -> 0 | S20: =+R20+Q20+P20+O20+N20+M20+L20 -> 0
A21: 1.13 | B21: Առողջությանը ծանր կամ միջին ծանրության վնաս պատճառելը անհրաժեշտ պաշտպանության սահմանանազանցմամբ | C21: 116 | F21: =+D21+E21 -> 0 | S21: =+R21+Q21+P21+O21+N21+M21+L21 -> 0
A22: 1.14 | B22: Դիտավորությամբ առողջությանը թեթև վնաս պատճառելը | C22: 117 | F22: =+D22+E22 -> 0 | S22: =+R22+Q22+P22+O22+N22+M22+L22 -> 0
A23: 1.15 | B23: Ծեծը | C23: 118 | F23: =+D23+E23 -> 0 | S23: =+R23+Q23+P23+O23+N23+M23+L23 -> 0
A24: 1.16 | B24: Ֆիզիկական ուժեղ ցավ կամ հոգեկան ուժեղ տառապանք պատճառելը | C24: 119 | F24: =+D24+E24 -> 0 | S24: =+R24+Q24+P24+O24+N24+M24+L24 -> 0
A25: 1.17 | B25: Անզգուշությամբ առողջությանը ծանր վնաս պատճառելը | C25: 120 | F25: =+D25+E25 -> 0 | S25: =+R25+Q25+P25+O25+N25+M25+L25 -> 0
A26: 1.18 | B26: Անզգուշությամբ առողջությանը միջին ծանրության վնաս պատճառելը | C26: 121 | F26: =+D26+E26 -> 0 | S26: =+R26+Q26+P26+O26+N26+M26+L26 -> 0
A27: 1.19 | B27: Ապօրինի աբորտ կատարելը | C27: 122 | F27: =+D27+E27 -> 0 | S27: =+R27+Q27+P27+O27+N27+M27+L27 -> 0
A28: 1.20 | B28: Մարդու իմունային անբավարարության վիրուսի հարուցիչով վարակելը | C28: 123 | F28: =+D28+E28 -> 0 | S28: =+R28+Q28+P28+O28+N28+M28+L28 -> 0
A29: 1.21 | B29: Վեներական հիվանդությամբ կամ այլ սեռավարակներով վարակելը | C29: 124 | F29: =+D29+E29 -> 0 | S29: =+R29+Q29+P29+O29+N29+M29+L29 -> 0
... A34: 1.27 | B34: Բժշկական օգնություն և սպասարկում իրականացնողների կողմից մասնագիտական պարտականությունները չկատարելը կամ ոչ պատշաճ կատարելը | C34: 130 | F34: =+D34+E34 -> 0 | S34: =+R34+Q34+P34+O34+N34+M34+L34 -> 0
A35: 1.28 | B35: Այլ հանցագործություններ | F35: =+D35+E35 -> 0 | S35: =+R35+Q35+P35+O35+N35+M35+L35 -> 0
A36: 2. | B36: Ընդամենը անձի ազատության, պատվի և արժանապատվության դեմ ուղղված հանցագործությունները | D36: =SUM(D37:D44) -> 0 | E36: =SUM(E37:E44) -> 0 | F36: =SUM(F37:F44) -> 0 | G36: =SUM(G37:G44) -> 0 | H36: =SUM(H37:H44) -> 0 | I36: =SUM(I37:I44) -> 0 | J36: =SUM(J37:J44) -> 0 | K36: =SUM(K37:K44) -> 0 | ... AB36: =SUM(AB37:AB44) -> 0
A37: 2.1 | B37: Մարդուն առևանգելը | C37: 131 | F37: =+D37+E37 -> 0 | S37: =+R37+Q37+P37+O37+N37+M37+L37 -> 0
A38: 2.2 | B38: Մարդու թրաֆիքինգը կամ շահագործումը | C38: 132 | F38: =+D38+E38 -> 0 | S38: =+R38+Q38+P38+O38+N38+M38+L38 -> 0
A39: 2.2.2 | B39: Երեխայի կամ հոգեկան խանգարման հետևանքով իր արարքի բնույթն ու նշանակությունը գիտակցելու կամ դա ղեկավարելու հնարավորությունից զրկված անձի թրաֆիքինգը կամ շահագործումը | C39: 132.2 | F39: =+D39+E39 -> 0 | S39: =+R39+Q39+P39+O39+N39+M39+L39 -> 0
A40: 2.2.3 | B40: Շահագործման վիճակում գտնվող անձի ծառայությունից օգտվելը | C40: 132.3 | F40: =+D40+E40 -> 0 | S40: =+R40+Q40+P40+O40+N40+M40+L40 -> 0
A41: 2.3 | B41: Ազատությունից ապօրինի զրկելը | C41: 133 | F41: =+D41+E41 -> 0 | S41: =+R41+Q41+P41+O41+N41+M41+L41 -> 0
A42: 2.4 | B42: Հոգեբուժական հիվանդանոցում ապօրինի տեղավորելը կամ պահելը | C42: 134 | F42: =+D42+E42 -> 0 | S42: =+R42+Q42+P42+O42+N42+M42+L42 -> 0
A43: 2.7 | B43: Սպանության, առողջությանը ծանր վնաս պատճառելու կամ գույք ոչնչացնելու սպառնալիքը | C43: 137 | F43: =+D43+E43 -> 0 | S43: =+R43+Q43+P43+O43+N43+M43+L43 -> 0
A44: 2.8 | B44: Այլ հանցագործություններ | F44: =+D44+E44 -> 0 | S44: =+R44+Q44+P44+O44+N44+M44+L44 -> 0
...

Sheet Արագածոտն 
A1: ՀԱՇՎԵՏՎՈՒԹՅՈՒՆ
A2: 2020թ. Տարեկան | C2: ԱՆՉԱՓԱՀԱՍ ԴԱՏԱՊԱՐՏՅԱԼՆԵՐԻ ՎԵՐԱԲԵՐՅԱԼ
A3: Վիճակագրական տողի համարը | B3: ՀԱՆՑԱԳՈՐԾՈՒԹՅՈՒՆՆԵՐԻ ՏԵՍԱԿՆԵՐԸ | C3: ՀՀ Քրեական օրենսգրքի հոդվածը | D3: Հանցագործությունը կատարել են | G3: նրանցից | L3: Դատապարտյալների նկատմամբ նշանակված հիմնական պատիժներ | U3: նշանակված պատիժը պայմանականորեն չի կիրառվել | V3: կիրառվել է համաներման ակտ | W3: Կիրառվել են դաստիարակչական բնույթի հարկադրանքի միջոց | X3: Անձանց թիվը, որոնք մինչև վերջին հանցագործությունը կատարելը
D4: 14-16 տարեկանում | E4: 16-18 տարեկանում | F4: Ընդամենը | G4: աղջիկներ | H4: չեն աշխատել, չեն սովորել | I4: անձինք, որոնք հանցագործությունը կատարել են | L4: Ա զ ա տ ա զ ր կ ու մ | T4: այլ պատիժներ | X4: գտնվել են ոստիկանության մարմիններում հաշվառման մեջ | Y4: կատարել են հանցագործություն և եղել են
Y5: ազատված քրեական պատասխանատվությունից | Z5: դատապարտված | AA5: Այդ թվում
