Workbook

Sheet Ընդհանուր
A1: ՀԱՇՎԵՏՎՈՒԹՅՈՒՆ
A2: 2020թ.տարեկան | C2: ԱՆՉԱՓԱՀԱՍ ԴԱՏԱՊԱՐՏՅԱԼՆԵՐԻ ՎԵՐԱԲԵՐՅԱԼ
A3: Վիճակագրական տողի համարը | B3: ՀԱՆՑԱԳՈՐԾՈՒԹՅՈՒՆՆԵՐԻ ՏԵՍԱԿՆԵՐԸ | C3: ՀՀ Քրեական օրենսգրքի հոդվածը | D3: Հանցագործությունը կատարել են | G3: նրանցից | L3: Դատապարտյալների նկատմամբ նշանակված հիմնական պատիժներ | U3: նշանակված պատիժը պայմանականորեն չի կիրառվել | V3: կիրառվել է համաներման ակտ | W3: Կիրառվել են դաստիարակչական բնույթի հարկադրանքի միջոց | X3: Անձանց թիվը, որոնք մինչև վերջին հանցագործությունը կատարելը
D4: 14-16 տարեկանում | E4: 16-18 տարեկանում | F4: Ընդամենը | G4: աղջիկներ | H4: չեն աշխատել, չեն սովորել | I4: անձինք, որոնք հանցագործությունը կատարել են | L4: Ա զ ա տ ա զ ր կ ու մ | T4: այլ պատիժներ | X4: գտնվել են ոստիկանության մարմիններում հաշվառման մեջ | Y4: կատարել են հանցագործություն և եղել են
Y5: ազատված քրեական պատասխանատվությունից | Z5: դատապարտված | AA5: Այդ թվում
B6: ՍՏՈՒԳԻՉ ՀԱՎԱՍԱՐՈՒՄՆԵՐ 3=1+2, 16=9+10+11+12+13+14+15, 3=16+17 | I6: ալկ., թմրամիջ. կամ թնրեցնող այլ նյութերի ազդեցության տակ | J6: Մի խումբ անձանց կազմում | K6: այդ թվում՝ մեծահասակների մասնակցությամբ | L6: 1 տարի ներառյալ | M6: 1 տարուց ավել, մինչև 2 տարի ներառյալ | N6: 2 տարուց ավել, մինչև 3 տարի ներառյալ | O6: 3 տարուց ավել, մինչև 5 տարի ներառյալ | P6: 5 տարուց ավել, մինչև 8 տարի ներառյալ | Q6: 8 տարուց ավել, մինչև 10 տարի ներառյալ | R6: 10 տարուց ավել, մինչև 12տարի ներառյալ | S6: ընդամենը | AA6: դատավճռի կատարման հետաձգումով | AB6: պայմանական դատապարտություն
D7: 1 | E7: 2 | F7: 3 | G7: 4 | H7: 5 | I7: 6 | J7: 7 | K7: 8 | L7: 9 | M7: 10 | N7: 11 | O7: 12 | P7: 13 | Q7: 14 | R7: 15 | S7: 16 | T7: 17 | U7: 18 | V7: 19 | W7: 20 | X7: 21 | Y7: 22 | Z7: 23 | AA7: 24 | AB7: 25
A8: 1. | B8: Ընդամենը կյանքի և առողջության դեմ ուղղված հանցագործությունները | D8: =SUM(Լոռի!D8+'Արագածոտն '!D8+'Երևան քաղաք'!D8+'Արարատ և Վայոց ձոր'!D8+Արմավիր!D8+Կոտայք!D8+Շիրակ!D8+Տավուշ!D8+Սյունիք!D8+Գեղարքունիք!D8) -> 4 | E8: =SUM(Լոռի!E8+'Արագածոտն '!E8+'Երևան քաղաք'!E8+'Արարատ և Վայոց ձոր'!E8+Արմավիր!E8+Կոտայք!E8+Շիրակ!E8+Տավուշ!E8+Սյունիք!E8+Գեղարքունիք!E8) -> 4 | F8: =SUM(Լոռի!F8+'Արագածոտն '!F8+'Երևան քաղաք'!F8+'Արարատ և Վայոց ձոր'!F8+Արմավիր!F8+Կոտայք!F8+Շիրակ!F8+Տավուշ!F8+Սյունիք!F8+Գեղարքունիք!F8) -> 8 | G8: =SUM(Լոռի!G8+'Արագածոտն '!G8+'Երևան քաղաք'!G8+'Արարատ և Վայոց ձոր'!G8+Արմավիր!G8+Կոտայք!G8+Շիրակ!G8+Տավուշ!G8+Սյունիք!G8+Գեղարքունիք!G8) -> 0 | H8: =SUM(Լոռի!H8+'Արագածոտն '!H8+'Երևան քաղաք'!H8+'Արարատ և Վայոց ձոր'!H8+Արմավիր!H8+Կոտայք!H8+Շիրակ!H8+Տավուշ!H8+Սյունիք!H8+Գեղարքունիք!H8) -> 2 | I8: =SUM(Լոռի!I8+'Արագածոտն '!I8+'Երևան քաղաք'!I8+'Արարատ և Վայոց ձոր'!I8+Արմավիր!I8+Կոտայք!I8+Շիրակ!I8+Տավուշ!I8+Սյունիք!I8+Գեղարքունիք!I8) -> 0 | J8: =SUM(Լոռի!J8+'Արագածոտն '!J8+'Երևան քաղաք'!J8+'Արարատ և Վայոց ձոր'!J8+Արմավիր!J8+Կոտայք!J8+Շիրակ!J8+Տավուշ!J8+Սյունիք!J8+Գեղարքունիք!J8) -> 0 | K8: =SUM(Լոռի!K8+'Արագածոտն '!K8+'Երևան քաղաք'!K8+'Արարատ և Վայոց ձոր'!K8+Արմավիր!K8+Կոտայք!K8+Շիրակ!K8+Տավուշ!K8+Սյունիք!K8+Գեղարքունիք!K8) -> 0 | ... AB8: =SUM(Լոռի!AB8+'Արագածոտն '!AB8+'Երևան քաղաք'!AB8+'Արարատ և Վայոց ձոր'!AB8+Արմավիր!AB8+Կոտայք!AB8+Շիրակ!AB8+Տավուշ!AB8+Սյունիք!AB8+Գեղարքունիք!AB8) -> 0
A9: 1.1 | B9: Սպանությունը | C9: 104 | D9: =SUM(Լոռի!D9+'Արագածոտն '!D9+'Երևան քաղաք'!D9+'Արարատ և Վայոց ձոր'!D9+Արմավիր!D9+Կոտայք!D9+Շիրակ!D9+Տավուշ!D9+Սյունիք!D9+Գեղարքունիք!D9) -> 0 | E9: =SUM(Լոռի!E9+'Արագածոտն '!E9+'Երևան քաղաք'!E9+'Արարատ և Վայոց ձոր'!E9+Արմավիր!E9+Կոտայք!E9+Շիրակ!E9+Տավուշ!E9+Սյունիք!E9+Գեղարքունիք!E9) -> 0 | F9: =SUM(Լոռի!F9+'Արագածոտն '!F9+'Երևան քաղաք'!F9+'Արարատ և Վայոց ձոր'!F9+Արմավիր!F9+Կոտայք!F9+Շիրակ!F9+Տավուշ!F9+Սյունիք!F9+Գեղարքունիք!F9) -> 0 | G9: =SUM(Լոռի!G9+'Արագածոտն '!G9+'Երևան քաղաք'!G9+'Արարատ և Վայոց ձոր'!G9+Արմավիր!G9+Կոտայք!G9+Շիրակ!G9+Տավուշ!G9+Սյունիք!G9+Գեղարքունիք!G9) -> 0 | H9: =SUM(Լոռի!H9+'Արագածոտն '!H9+'Երևան քաղաք'!H9+'Արարատ և Վայոց ձոր'!H9+Արմավիր!H9+Կոտայք!H9+Շիրակ!H9+Տավուշ!H9+Սյունիք!H9+Գեղարքունիք!H9) -> 0 | I9: =SUM(Լոռի!I9+'Արագածոտն '!I9+'Երևան քաղաք'!I9+'Արարատ և Վայոց ձոր'!I9+Արմավիր!I9+Կոտայք!I9+Շիրակ!I9+Տավուշ!I9+Սյունիք!I9+Գեղարքունիք!I9) -> 0 | J9: =SUM(Լոռի!J9+'Արագածոտն '!J9+'Երևան քաղաք'!J9+'Արարատ և Վայոց ձոր'!J9+Արմավիր!J9+Կոտայք!J9+Շիրակ!J9+Տավուշ!J9+Սյունիք!J9+Գեղարքունիք!J9) -> 0 | K9: =SUM(Լոռի!K9+'Արագածոտն '!K9+'Երևան քաղաք'!K9+'Արարատ և Վայոց ձոր'!K9+Արմավիր!K9+Կոտայք!K9+Շիրակ!K9+Տավուշ!K9+Սյունիք!K9+Գեղարքունիք!K9) -> 0 | ... AB9: =SUM(Լոռի!AB9+'Արագածոտն '!AB9+'Երևան քաղաք'!AB9+'Արարատ և Վայոց ձոր'!AB9+Արմավիր!AB9+Կոտայք!AB9+Շիրակ!AB9+Տավուշ!AB9+Սյունիք!AB9+Գեղարքունիք!AB9) -> 0
A10: 1.2 | B10: Հոգեկան խիստ հուզմունքի վիճակում կատարված սպանությունը | C10: 105 | D10: =SUM(Լոռի!D10+'Արագածոտն '!D10+'Երևան քաղաք'!D10+'Արարատ և Վայոց ձոր'!D10+Արմավիր!D10+Կոտայք!D10+Շիրակ!D10+Տավուշ!D10+Սյունիք!D10+Գեղարքունիք!D10) -> 0 | E10: =SUM(Լոռի!E10+'Արագածոտն '!E10+'Երևան քաղաք'!E10+'Արարատ և Վայոց ձոր'!E10+Արմավիր!E10+Կոտայք!E10+Շիրակ!E10+Տավուշ!E10+Սյունիք!E10+Գեղարքունիք!E10) -> 0 | F10: =SUM(Լոռի!F10+'Արագածոտն '!F10+'Երևան քաղաք'!F10+'Արարատ և Վայոց ձոր'!F10+Արմավիր!F10+Կոտայք!F10+Շիրակ!F10+Տավուշ!F10+Սյունիք!F10+Գեղարքունիք!F10) -> 0 | G10: =SUM(Լոռի!G10+'Արագածոտն '!G10+'Երևան քաղաք'!G10+'Արարատ և Վայոց ձոր'!G10+Արմավիր!G10+Կոտայք!G10+Շիրակ!G10+Տավուշ!G10+Սյունիք!G10+Գեղարքունիք!G10) -> 0 | H10: =SUM(Լոռի!H10+'Արագածոտն '!H10+'Երևան քաղաք'!H10+'Արարատ և Վայոց ձոր'!H10+Արմավիր!H10+Կոտայք!H10+Շիրակ!H10+Տավուշ!H10+Սյունիք!H10+Գեղարքունիք!H10) -> 0 | I10: =SUM(Լոռի!I10+'Արագածոտն '!I10+'Երևան քաղաք'!I10+'Արարատ և Վայոց ձոր'!I10+Արմավիր!I10+Կոտայք!I10+Շիրակ!I10+Տավուշ!I10+Սյունիք!I10+Գեղարքունիք!I10) -> 0 | J10: =SUM(Լոռի!J10+'Արագածոտն '!J10+'Երևան քաղաք'!J10+'Արարատ և Վայոց ձոր'!J10+Արմավիր!J10+Կոտայք!J10+Շիրակ!J10+Տավուշ!J10+Սյունիք!J10+Գեղարքունիք!J10) -> 0 | K10: =SUM(Լոռի!K10+'Արագածոտն '!K10+'Երևան քաղաք'!K10+'Արարատ և Վայոց ձոր'!K10+Արմավիր!K10+Կոտայք!K10+Շիրակ!K10+Տավուշ!K10+Սյունիք!K10+Գեղարքունիք!K10) -> 0 | ... AB10: =SUM(Լոռի!AB10+'Արագածոտն '!AB10+'Երևան քաղաք'!AB10+'Արարատ և Վայոց ձոր'!AB10+Արմավիր!AB10+Կոտայք!AB10+Շիրակ!AB10+Տավուշ!AB10+Սյունիք!AB10+Գեղարքունիք!AB10) -> 0
A11: 1.3 | B11: Մոր կողմից նորածին երեխայի սպանությունը | C11: 106 | D11: =SUM(Լոռի!D11+'Արագածոտն '!D11+'Երևան քաղաք'!D11+'Արարատ և Վայոց ձոր'!D11+Արմավիր!D11+Կոտայք!D11+Շիրակ!D11+Տավուշ!D11+Սյունիք!D11+Գեղարքունիք!D11) -> 0 | E11: =SUM(Լոռի!E11+'Արագածոտն '!E11+'Երևան քաղաք'!E11+'Արարատ և Վայոց ձոր'!E11+Արմավիր!E11+Կոտայք!E11+Շիրակ!E11+Տավուշ!E11+Սյունիք!E11+Գեղարքունիք!E11) -> 0 | F11: =SUM(Լոռի!F11+'Արագածոտն '!F11+'Երևան քաղաք'!F11+'Արարատ և Վայոց ձոր'!F11+Արմավիր!F11+Կոտայք!F11+Շիրակ!F11+Տավուշ!F11+Սյունիք!F11+Գեղարքունիք!F11) -> 0 | G11: =SUM(Լոռի!G11+'Արագածոտն '!G11+'Երևան քաղաք'!G11+'Արարատ և Վայոց ձոր'!G11+Արմավիր!G11+Կոտայք!G11+Շիրակ!G11+Տավուշ!G11+Սյունիք!G11+Գեղարքունիք!G11) -> 0 | H11: =SUM(Լոռի!H11+'Արագածոտն '!H11+'Երևան քաղաք'!H11+'Արարատ և Վայոց ձոր'!H11+Արմավիր!H11+Կոտայք!H11+Շիրակ!H11+Տավուշ!H11+Սյունիք!H11+Գեղարքունիք!H11) -> 0 | I11: =SUM(Լոռի!I11+'Արագածոտն '!I11+'Երևան քաղաք'!I11+'Արարատ և Վայոց ձոր'!I11+Արմավիր!I11+Կոտայք!I11+Շիրակ!I11+Տավուշ!I11+Սյունիք!I11+Գեղարքունիք!I11) -> 0 | J11: =SUM(Լոռի!J11+'Արագածոտն '!J11+'Երևան քաղաք'!J11+'Արարատ և Վայոց ձոր'!J11+Արմավիր!J11+Կոտայք!J11+Շիրակ!J11+Տավուշ!J11+Սյունիք!J11+Գեղարքունիք!J11) -> 0 | K11: =SUM(Լոռի!K11+'Արագածոտն '!K11+'Երևան քաղաք'!K11+'Արարատ և Վայոց ձոր'!K11+Արմավիր!K11+Կոտայք!K11+Շիրակ!K11+Տավուշ!K11+Սյունիք!K11+Գեղարքունիք!K11) -> 0 | ... AB11: =SUM(Լոռի!AB11+'Արագածոտն '!AB11+'Երևան քաղաք'!AB11+'Արարատ և Վայոց ձոր'!AB11+Արմավիր!AB11+Կոտայք!AB11+Շիրակ!AB11+Տավուշ!AB11+Սյունիք!AB11+Գեղարքունիք!AB11) -> 0
A12: 1.4 | B12: Հանցանք կատարած անձին բռնելու համար անհրաժեշտ միջոցների սահմանազանցմամբ սպանությունը | C12: 107 | D12: =SUM(Լոռի!D12+'Արագածոտն '!D12+'Երևան քաղաք'!D12+'Արարատ և Վայոց ձոր'!D12+Արմավիր!D12+Կոտայք!D12+Շիրակ!D12+Տավուշ!D12+Սյունիք!D12+Գեղարքունիք!D12) -> 0 | E12: =SUM(Լոռի!E12+'Արագածոտն '!E12+'Երևան քաղաք'!E12+'Արարատ և Վայոց ձոր'!E12+Արմավիր!E12+Կոտայք!E12+Շիրակ!E12+Տավուշ!E12+Սյունիք!E12+Գեղարքունիք!E12) -> 0 | F12: =SUM(Լոռի!F12+'Արագածոտն '!F12+'Երևան քաղաք'!F12+'Արարատ և Վայոց ձոր'!F12+Արմավիր!F12+Կոտայք!F12+Շիրակ!F12+Տավուշ!F12+Սյունիք!F12+Գեղարքունիք!F12) -> 0 | G12: =SUM(Լոռի!G12+'Արագածոտն '!G12+'Երևան քաղաք'!G12+'Արարատ և Վայոց ձոր'!G12+Արմավիր!G12+Կոտայք!G12+Շիրակ!G12+Տավուշ!G12+Սյունիք!G12+Գեղարքունիք!G12) -> 0 | H12: =SUM(Լոռի!H12+'Արագածոտն '!H12+'Երևան քաղաք'!H12+'Արարատ և Վայոց ձոր'!H12+Արմավիր!H12+Կոտայք!H12+Շիրակ!H12+Տավուշ!H12+Սյունիք!H12+Գեղարքունիք!H12) -> 0 | I12: =SUM(Լոռի!I12+'Արագածոտն '!I12+'Երևան քաղաք'!I12+'Արարատ և Վայոց ձոր'!I12+Արմավիր!I12+Կոտայք!I12+Շիրակ!I12+Տավուշ!I12+Սյունիք!I12+Գեղարքունիք!I12) -> 0 | J12: =SUM(Լոռի!J12+'Արագածոտն '!J12+'Երևան քաղաք'!J12+'Արարատ և Վայոց ձոր'!J12+Արմավիր!J12+Կոտայք!J12+Շիրակ!J12+Տավուշ!J12+Սյունիք!J12+Գեղարքունիք!J12) -> 0 | K12: =SUM(Լոռի!K12+'Արագածոտն '!K12+'Երևան քաղաք'!K12+'Արարատ և Վայոց ձոր'!K12+Արմավիր!K12+Կոտայք!K12+Շիրակ!K12+Տավուշ!K12+Սյունիք!K12+Գեղարքունիք!K12) -> 0 | ... AB12: =SUM(Լոռի!AB12+'Արագածոտն '!AB12+'Երևան քաղաք'!AB12+'Արարատ և Վայոց ձոր'!AB12+Արմավիր!AB12+Կոտայք!AB12+Շիրակ!AB12+Տավուշ!AB12+Սյունիք!AB12+Գեղարքունիք!AB12) -> 0
A13: 1.5 | B13: Անհրաժեշտ պաշտպանության սահմանազանցմամբ սպանությունը | C13: 108 | D13: =SUM(Լոռի!D13+'Արագածոտն '!D13+'Երևան քաղաք'!D13+'Արարատ և Վայոց ձոր'!D13+Արմավիր!D13+Կոտայք!D13+Շիրակ!D13+Տավուշ!D13+Սյունիք!D13+Գեղարքունիք!D13) -> 0 | E13: =SUM(Լոռի!E13+'Արագածոտն '!E13+'Երևան քաղաք'!E13+'Արարատ և Վայոց ձոր'!E13+Արմավիր!E13+Կոտայք!E13+Շիրակ!E13+Տավուշ!E13+Սյունիք!E13+Գեղարքունիք!E13) -> 0 | F13: =SUM(Լոռի!F13+'Արագածոտն '!F13+'Երևան քաղաք'!F13+'Արարատ և Վայոց ձոր'!F13+Արմավիր!F13+Կոտայք!F13+Շիրակ!F13+Տավուշ!F13+Սյունիք!F13+Գեղարքունիք!F13) -> 0 | G13: =SUM(Լոռի!G13+'Արագածոտն '!G13+'Երևան քաղաք'!G13+'Արարատ և Վայոց ձոր'!G13+Արմավիր!G13+Կոտայք!G13+Շիրակ!G13+Տավուշ!G13+Սյունիք!G13+Գեղարքունիք!G13) -> 0 | H13: =SUM(Լոռի!H13+'Արագածոտն '!H13+'Երևան քաղաք'!H13+'Արարատ և Վայոց ձոր'!H13+Արմավիր!H13+Կոտայք!H13+Շիրակ!H13+Տավուշ!H13+Սյունիք!H13+Գեղարքունիք!H13) -> 0 | I13: =SUM(Լոռի!I13+'Արագածոտն '!I13+'Երևան քաղաք'!I13+'Արարատ և Վայոց ձոր'!I13+Արմավիր!I13+Կոտայք!I13+Շիրակ!I13+Տավուշ!I13+Սյունիք!I13+Գեղարքունիք!I13) -> 0 | J13: =SUM(Լոռի!J13+'Արագածոտն '!J13+'Երևան քաղաք'!J13+'Արարատ և Վայոց ձոր'!J13+Արմավիր!J13+Կոտայք!J13+Շիրակ!J13+Տավուշ!J13+Սյունիք!J13+Գեղարքունիք!J13) -> 0 | K13: =SUM(Լոռի!K13+'Արագածոտն '!K13+'Երևան քաղաք'!K13+'Արարատ և Վայոց ձոր'!K13+Արմավիր!K13+Կոտայք!K13+Շիրակ!K13+Տավուշ!K13+Սյունիք!K13+Գեղարքունիք!K13) -> 0 | ... AB13: =SUM(Լոռի!AB13+'Արագածոտն '!AB13+'Երևան քաղաք'!AB13+'Արարատ և Վայոց ձոր'!AB13+Արմավիր!AB13+Կոտայք!AB13+Շիրակ!AB13+Տավուշ!AB13+Սյունիք!AB13+Գեղարքունիք!AB13) -> 0
A14: 1.6 | B14: Անզգուշությամբ մահ պատճառելը | C14: 109 | D14: =SUM(Լոռի!D14+'Արագածոտն '!D14+'Երևան քաղաք'!D14+'Արարատ և Վայոց ձոր'!D14+Արմավիր!D14+Կոտայք!D14+Շիրակ!D14+Տավուշ!D14+Սյունիք!D14+Գեղարքունիք!D14) -> 0 | E14: =SUM(Լոռի!E14+'Արագածոտն '!E14+'Երևան քաղաք'!E14+'Արարատ և Վայոց ձոր'!E14+Արմավիր!E14+Կոտայք!E14+Շիրակ!E14+Տավուշ!E14+Սյունիք!E14+Գեղարքունիք!E14) -> 0 | F14: =SUM(Լոռի!F14+'Արագածոտն '!F14+'Երևան քաղաք'!F14+'Արարատ և Վայոց ձոր'!F14+Արմավիր!F14+Կոտայք!F14+Շիրակ!F14+Տավուշ!F14+Սյունիք!F14+Գեղարքունիք!F14) -> 0 | G14: =SUM(Լոռի!G14+'Արագածոտն '!G14+'Երևան քաղաք'!G14+'Արարատ և Վայոց ձոր'!G14+Արմավիր!G14+Կոտայք!G14+Շիրակ!G14+Տավուշ!G14+Սյունիք!G14+Գեղարքունիք!G14) -> 0 | H14: =SUM(Լոռի!H14+'Արագածոտն '!H14+'Երևան քաղաք'!H14+'Արարատ և Վայոց ձոր'!H14+Արմավիր!H14+Կոտայք!H14+Շիրակ!H14+Տավուշ!H14+Սյունիք!H14+Գեղարքունիք!H14) -> 0 | I14: =SUM(Լոռի!I14+'Արագածոտն '!I14+'Երևան քաղաք'!I14+'Արարատ և Վայոց ձոր'!I14+Արմավիր!I14+Կոտայք!I14+Շիրակ!I14+Տավուշ!I14+Սյունիք!I14+Գեղարքունիք!I14) -> 0 | J14: =SUM(Լոռի!J14+'Արագածոտն '!J14+'Երևան քաղաք'!J14+'Արարատ և Վայոց ձոր'!J14+Արմավիր!J14+Կոտայք!J14+Շիրակ!J14+Տավուշ!J14+Սյունիք!J14+Գեղարքունիք!J14) -> 0 | K14: =SUM(Լոռի!K14+'Արագածոտն '!K14+'Երևան քաղաք'!K14+'Արարատ և Վայոց ձոր'!K14+Արմավիր!K14+Կոտայք!K14+Շիրակ!K14+Տավուշ!K14+Սյունիք!K14+Գեղարքունիք!K14) -> 0 | ... AB14: =SUM(Լոռի!AB14+'Արագածոտն '!AB14+'Երևան քաղաք'!AB14+'Արարատ և Վայոց ձոր'!AB14+Արմավիր!AB14+Կոտայք!AB14+Շիրակ!AB14+Տավուշ!AB14+Սյունիք!AB14+Գեղարքունիք!AB14) -> 0
A15: 1.7 | B15: Ինքնասպանության հասցնելը | C15: 110 | D15: =SUM(Լոռի!D15+'Արագածոտն '!D15+'Երևան քաղաք'!D15+'Արարատ և Վայոց ձոր'!D15+Արմավիր!D15+Կոտայք!D15+Շիրակ!D15+Տավուշ!D15+Սյունիք!D15+Գեղարքունիք!D15) -> 0 | E15: =SUM(Լոռի!E15+'Արագածոտն '!E15+'Երևան քաղաք'!E15+'Արարատ և Վայոց ձոր'!E15+Արմավիր!E15+Կոտայք!E15+Շիրակ!E15+Տավուշ!E15+Սյունիք!E15+Գեղարքունիք!E15) -> 0 | F15: =SUM(Լոռի!F15+'Արագածոտն '!F15+'Երևան քաղաք'!F15+'Արարատ և Վայոց ձոր'!F15+Արմավիր!F15+Կոտայք!F15+Շիրակ!F15+Տավուշ!F15+Սյունիք!F15+Գեղարքունիք!F15) -> 0 | G15: =SUM(Լոռի!G15+'Արագածոտն '!G15+'Երևան քաղաք'!G15+'Արարատ և Վայոց ձոր'!G15+Արմավիր!G15+Կոտայք!G15+Շիրակ!G15+Տավուշ!G15+Սյունիք!G15+Գեղարքունիք!G15) -> 0 | H15: =SUM(Լոռի!H15+'Արագածոտն '!H15+'Երևան քաղաք'!H15+'Արարատ և Վայոց ձոր'!H15+Արմավիր!H15+Կոտայք!H15+Շիրակ!H15+Տավուշ!H15+Սյունիք!H15+Գեղարքունիք!H15) -> 0 | I15: =SUM(Լոռի!I15+'Արագածոտն '!I15+'Երևան քաղաք'!I15+'Արարատ և Վայոց ձոր'!I15+Արմավիր!I15+Կոտայք!I15+Շիրակ!I15+Տավուշ!I15+Սյունիք!I15+Գեղարքունիք!I15) -> 0 | J15: =SUM(Լոռի!J15+'Արագածոտն '!J15+'Երևան քաղաք'!J15+'Արարատ և Վայոց ձոր'!J15+Արմավիր!J15+Կոտայք!J15+Շիրակ!J15+Տավուշ!J15+Սյունիք!J15+Գեղարքունիք!J15) -> 0 | K15: =SUM(Լոռի!K15+'Արագածոտն '!K15+'Երևան քաղաք'!K15+'Արարատ և Վայոց ձոր'!K15+Արմավիր!K15+Կոտայք!K15+Շիրակ!K15+Տավուշ!K15+Սյունիք!K15+Գեղարքունիք!K15) -> 0 | ... AB15: =SUM(Լոռի!AB15+'Արագածոտն '!AB15+'Երևան քաղաք'!AB15+'Արարատ և Վայոց ձոր'!AB15+Արմավիր!AB15+Կոտայք!AB15+Շիրակ!AB15+Տավուշ!AB15+Սյունիք!AB15+Գեղարքունիք!AB15) -> 0
A16: 1.8 | B16: Ինքնասպանության հակելը | C16: 111 | D16: =SUM(Լոռի!D16+'Արագածոտն '!D16+'Երևան քաղաք'!D16+'Արարատ և Վայոց ձոր'!D16+Արմավիր!D16+Կոտայք!D16+Շիրակ!D16+Տավուշ!D16+Սյունիք!D16+Գեղարքունիք!D16) -> 0 | E16: =SUM(Լոռի!E16+'Արագածոտն '!E16+'Երևան քաղաք'!E16+'Արարատ և Վայոց ձոր'!E16+Արմավիր!E16+Կոտայք!E16+Շիրակ!E16+Տավուշ!E16+Սյունիք!E16+Գեղարքունիք!E16) -> 0 | F16: =SUM(Լոռի!F16+'Արագածոտն '!F16+'Երևան քաղաք'!F16+'Արարատ և Վայոց ձոր'!F16+Արմավիր!F16+Կոտայք!F16+Շիրակ!F16+Տավուշ!F16+Սյունիք!F16+Գեղարքունիք!F16) -> 0 | G16: =SUM(Լոռի!G16+'Արագածոտն '!G16+'Երևան քաղաք'!G16+'Արարատ և Վայոց ձոր'!G16+Արմավիր!G16+Կոտայք!G16+Շիրակ!G16+Տավուշ!G16+Սյունիք!G16+Գեղարքունիք!G16) -> 0 | H16: =SUM(Լոռի!H16+'Արագածոտն '!H16+'Երևան քաղաք'!H16+'Արարատ և Վայոց ձոր'!H16+Արմավիր!H16+Կոտայք!H16+Շիրակ!H16+Տավուշ!H16+Սյունիք!H16+Գեղարքունիք!H16) -> 0 | I16: =SUM(Լոռի!I16+'Արագածոտն '!I16+'Երևան քաղաք'!I16+'Արարատ և Վայոց ձոր'!I16+Արմավիր!I16+Կոտայք!I16+Շիրակ!I16+Տավուշ!I16+Սյունիք!I16+Գեղարքունիք!I16) -> 0 | J16: =SUM(Լոռի!J16+'Արագածոտն '!J16+'Երևան քաղաք'!J16+'Արարատ և Վայոց ձոր'!J16+Արմավիր!J16+Կոտայք!J16+Շիրակ!J16+Տավուշ!J16+Սյունիք!J16+Գեղարքունիք!J16) -> 0 | K16: =SUM(Լոռի!K16+'Արագածոտն '!K16+'Երևան քաղաք'!K16+'Արարատ և Վայոց ձոր'!K16+Արմավիր!K16+Կոտայք!K16+Շիրակ!K16+Տավուշ!K16+Սյունիք!K16+Գեղարքունիք!K16) -> 0 | ... AB16: =SUM(Լոռի!AB16+'Արագածոտն '!AB16+'Երևան քաղաք'!AB16+'Արարատ և Վայոց ձոր'!AB16+Արմավիր!AB16+Կոտայք!AB16+Շիրակ!AB16+Տավուշ!AB16+Սյունիք!AB16+Գեղարքունիք!AB16) -> 0
A17: 1.9 | B17: Դիտավորությամբ առողջությանը ծանր վնաս պատճառելը | C17: 112 | D17: =SUM(Լոռի!D17+'Արագածոտն '!D17+'Երևան քաղաք'!D17+'Արարատ և Վայոց ձոր'!D17+Արմավիր!D17+Կոտայք!D17+Շիրակ!D17+Տավուշ!D17+Սյունիք!D17+Գեղարքունիք!D17) -> 4 | E17: =SUM(Լոռի!E17+'Արագածոտն '!E17+'Երևան քաղաք'!E17+'Արարատ և Վայոց ձոր'!E17+Արմավիր!E17+Կոտայք!E17+Շիրակ!E17+Տավուշ!E17+Սյունիք!E17+Գեղարքունիք!E17) -> 4 | F17: =SUM(Լոռի!F17+'Արագածոտն '!F17+'Երևան քաղաք'!F17+'Արարատ և Վայոց ձոր'!F17+Արմավիր!F17+Կոտայք!F17+Շիրակ!F17+Տավուշ!F17+Սյունիք!F17+Գեղարքունիք!F17) -> 8 | G17: =SUM(Լոռի!G17+'Արագածոտն '!G17+'Երևան քաղաք'!G17+'Արարատ և Վայոց ձոր'!G17+Արմավիր!G17+Կոտայք!G17+Շիրակ!G17+Տավուշ!G17+Սյունիք!G17+Գեղարքունիք!G17) -> 0 | H17: =SUM(Լոռի!H17+'Արագածոտն '!H17+'Երևան քաղաք'!H17+'Արարատ և Վայոց ձոր'!H17+Արմավիր!H17+Կոտայք!H17+Շիրակ!H17+Տավուշ!H17+Սյունիք!H17+Գեղարքունիք!H17) -> 2 | I17: =SUM(Լոռի!I17+'Արագածոտն '!I17+'Երևան քաղաք'!I17+'Արարատ և Վայոց ձոր'!I17+Արմավիր!I17+Կոտայք!I17+Շիրակ!I17+Տավուշ!I17+Սյունիք!I17+Գեղարքունիք!I17) -> 0 | J17: =SUM(Լոռի!J17+'Արագածոտն '!J17+'Երևան քաղաք'!J17+'Արարատ և Վայոց ձոր'!J17+Արմավիր!J17+Կոտայք!J17+Շիրակ!J17+Տավուշ!J17+Սյունիք!J17+Գեղարքունիք!J17) -> 0 | K17: =SUM(Լոռի!K17+'Արագածոտն '!K17+'Երևան քաղաք'!K17+'Արարատ և Վայոց ձոր'!K17+Արմավիր!K17+Կոտայք!K17+Շիրակ!K17+Տավուշ!K17+Սյունիք!K17+Գեղարքունիք!K17) -> 0 | ... AB17: =SUM(Լոռի!AB17+'Արագածոտն '!AB17+'Երևան քաղաք'!AB17+'Արարատ և Վայոց ձոր'!AB17+Արմավիր!AB17+Կոտայք!AB17+Շիրակ!AB17+Տավուշ!AB17+Սյունիք!AB17+Գեղարքունիք!AB17) -> 0
A18: 1.10 | B18: Դիտավորությամբ առողջությանը միջին ծանրության վնաս պատճառելը | C18: 113 | D18: =SUM(Լոռի!D18+'Արագածոտն '!D18+'Երևան քաղաք'!D18+'Արարատ և Վայոց ձոր'!D18+Արմավիր!D18+Կոտայք!D18+Շիրակ!D18+Տավուշ!D18+Սյունիք!D18+Գեղարքունիք!D18) -> 0 | E18: =SUM(Լոռի!E18+'Արագածոտն '!E18+'Երևան քաղաք'!E18+'Արարատ և Վայոց ձոր'!E18+Արմավիր!E18+Կոտայք!E18+Շիրակ!E18+Տավուշ!E18+Սյունիք!E18+Գեղարքունիք!E18) -> 0 | F18: =SUM(Լոռի!F18+'Արագածոտն '!F18+'Երևան քաղաք'!F18+'Արարատ և Վայոց ձոր'!F18+Արմավիր!F18+Կոտայք!F18+Շիրակ!F18+Տավուշ!F18+Սյունիք!F18+Գեղարքունիք!F18) -> 0 | G18: =SUM(Լոռի!G18+'Արագածոտն '!G18+'Երևան քաղաք'!G18+'Արարատ և Վայոց ձոր'!G18+Արմավիր!G18+Կոտայք!G18+Շիրակ!G18+Տավուշ!G18+Սյունիք!G18+Գեղարքունիք!G18) -> 0 | H18: =SUM(Լոռի!H18+'Արագածոտն '!H18+'Երևան քաղաք'!H18+'Արարատ և Վայոց ձոր'!H18+Արմավիր!H18+Կոտայք!H18+Շիրակ!H18+Տավուշ!H18+Սյունիք!H18+Գեղարքունիք!H18) -> 0 | I18: =SUM(Լոռի!I18+'Արագածոտն '!I18+'Երևան քաղաք'!I18+'Արարատ և Վայոց ձոր'!I18+Արմավիր!I18+Կոտայք!I18+Շիրակ!I18+Տավուշ!I18+Սյունիք!I18+Գեղարքունիք!I18) -> 0 | J18: =SUM(Լոռի!J18+'Արագածոտն '!J18+'Երևան քաղաք'!J18+'Արարատ և Վայոց ձոր'!J18+Արմավիր!J18+Կոտայք!J18+Շիրակ!J18+Տավուշ!J18+Սյունիք!J18+Գեղարքունիք!J18) -> 0 | K18: =SUM(Լոռի!K18+'Արագածոտն '!K18+'Երևան քաղաք'!K18+'Արարատ և Վայոց ձոր'!K18+Արմավիր!K18+Կոտայք!K18+Շիրակ!K18+Տավուշ!K18+Սյունիք!K18+Գեղարքունիք!K18) -> 0 | ... AB18: =SUM(Լոռի!AB18+'Արագածոտն '!AB18+'Երևան քաղաք'!AB18+'Արարատ և Վայոց ձոր'!AB18+Արմավիր!AB18+Կոտայք!AB18+Շիրակ!AB18+Տավուշ!AB18+Սյունիք!AB18+Գեղարքունիք!AB18) -> 0
A19: 1.11 | B19: Հոգեկան խիստ հուզմունքի վիճակում առողջությանը ծանր կամ միջին ծանրության վնաս պատճառելը | C19: 114 | D19: =SUM(Լոռի!D19+'Արագածոտն '!D19+'Երևան քաղաք'!D19+'Արարատ և Վայոց ձոր'!D19+Արմավիր!D19+Կոտայք!D19+Շիրակ!D19+Տավուշ!D19+Սյունիք!D19+Գեղարքունիք!D19) -> 0 | E19: =SUM(Լոռի!E19+'Արագածոտն '!E19+'Երևան քաղաք'!E19+'Արարատ և Վայոց ձոր'!E19+Արմավիր!E19+Կոտայք!E19+Շիրակ!E19+Տավուշ!E19+Սյունիք!E19+Գեղարքունիք!E19) -> 0 | F19: =SUM(Լոռի!F19+'Արագածոտն '!F19+'Երևան քաղաք'!F19+'Արարատ և Վայոց ձոր'!F19+Արմավիր!F19+Կոտայք!F19+Շիրակ!F19+Տավուշ!F19+Սյունիք!F19+Գեղարքունիք!F19) -> 0 | G19: =SUM(Լոռի!G19+'Արագածոտն '!G19+'Երևան քաղաք'!G19+'Արարատ և Վայոց ձոր'!G19+Արմավիր!G19+Կոտայք!G19+Շիրակ!G19+Տավուշ!G19+Սյունիք!G19+Գեղարքունիք!G19) -> 0 | H19: =SUM(Լոռի!H19+'Արագածոտն '!H19+'Երևան քաղաք'!H19+'Արարատ և Վայոց ձոր'!H19+Արմավիր!H19+Կոտայք!H19+Շիրակ!H19+Տավուշ!H19+Սյունիք!H19+Գեղարքունիք!H19) -> 0 | I19: =SUM(Լոռի!I19+'Արագածոտն '!I19+'Երևան քաղաք'!I19+'Արարատ և Վայոց ձոր'!I19+Արմավիր!I19+Կոտայք!I19+Շիրակ!I19+Տավուշ!I19+Սյունիք!I19+Գեղարքունիք!I19) -> 0 | J19: =SUM(Լոռի!J19+'Արագածոտն '!J19+'Երևան քաղաք'!J19+'Արարատ և Վայոց ձոր'!J19+Արմավիր!J19+Կոտայք!J19+Շիրակ!J19+Տավուշ!J19+Սյունիք!J19+Գեղարքունիք!J19) -> 0 | K19: =SUM(Լոռի!K19+'Արագածոտն '!K19+'Երևան քաղաք'!K19+'Արարատ և Վայոց ձոր'!K19+Արմավիր!K19+Կոտայք!K19+Շիրակ!K19+Տավուշ!K19+Սյունիք!K19+Գեղարքունիք!K19) -> 0 | ... AB19: =SUM(Լոռի!AB19+'Արագածոտն '!AB19+'Երևան քաղաք'!AB19+'Արարատ և Վայոց ձոր'!AB19+Արմավիր!AB19+Կոտայք!AB19+Շիրակ!AB19+Տավուշ!AB19+Սյունիք!AB19+Գեղարքունիք!AB19) -> 0
A20: 1.12 | B20: Հանցանք կատարած անձին բռնելու համար անհրաժեշտ միջոցների սահմանզանցմամբ առողջությանը ծանր կամ միջին ծանրության վնաս պատճառելը | C20: 115 | D20: =SUM(Լոռի!D20+'Արագածոտն '!D20+'Երևան քաղաք'!D20+'Արարատ և Վայոց ձոր'!D20+Արմավիր!D20+Կոտայք!D20+Շիրակ!D20+Տավուշ!D20+Սյունիք!D20+Գեղարքունիք!D20) -> 0 | E20: =SUM(Լոռի!E20+'Արագածոտն '!E20+'Երևան քաղաք'!E20+'Արարատ և Վայոց ձոր'!E20+Արմավիր!E20+Կոտայք!E20+Շիրակ!E20+Տավուշ!E20+Սյունիք!E20+Գեղարքունիք!E20) -> 0 | F20: =SUM(Լոռի!F20+'Արագածոտն '!F20+'Երևան քաղաք'!F20+'Արարատ և Վայոց ձոր'!F20+Արմավիր!F20+Կոտայք!F20+Շիրակ!F20+Տավուշ!F20+Սյունիք!F20+Գեղարքունիք!F20) -> 0 | G20: =SUM(Լոռի!G20+'Արագածոտն '!G20+'Երևան քաղաք'!G20+'Արարատ և Վայոց ձոր'!G20+Արմավիր!G20+Կոտայք!G20+Շիրակ!G20+Տավուշ!G20+Սյունիք!G20+Գեղարքունիք!G20) -> 0 | H20: =SUM(Լոռի!H20+'Արագածոտն '!H20+'Երևան քաղաք'!H20+'Արարատ և Վայոց ձոր'!H20+Արմավիր!H20+Կոտայք!H20+Շիրակ!H20+Տավուշ!H20+Սյունիք!H20+Գեղարքունիք!H20) -> 0 | I20: =SUM(Լոռի!I20+'Արագածոտն '!I20+'Երևան քաղաք'!I20+'Արարատ և Վայոց ձոր'!I20+Արմավիր!I20+Կոտայք!I20+Շիրակ!I20+Տավուշ!I20+Սյունիք!I20+Գեղարքունիք!I20) -> 0 | J20: =SUM(Լոռի!J20+'Արագածոտն '!J20+'Երևան քաղաք'!J20+'Արարատ և Վայոց ձոր'!J20+Արմավիր!J20+Կոտայք!J20+Շիրակ!J20+Տավուշ!J20+Սյունիք!J20+Գեղարքունիք!J20) -> 0 | K20: =SUM(Լոռի!K20+'Արագածոտն '!K20+'Երևան քաղաք'!K20+'Արարատ և Վայոց ձոր'!K20+Արմավիր!K20+Կոտայք!K20+Շիրակ!K20+Տավուշ!K20+Սյունիք!K20+Գեղարքունիք!K20) -> 0 | ... AB20: =SUM(Լոռի!AB20+'Արագածոտն '!AB20+'Երևան քաղաք'!AB20+'Արարատ և Վայոց ձոր'!AB20+Արմավիր!AB20+Կոտայք!AB20+Շիրակ!AB20+Տավուշ!AB20+Սյունիք!AB20+Գեղարքունիք!AB20) -> 0
... A34: 1.27 | B34: Բժշկական օգնություն և սպասարկում իրականացնողների կողմից մասնագիտական պարտականությունները չկատարելը կամ ոչ պատշաճ կատարելը | C34: 130 | D34: =SUM(Լոռի!D34+'Արագածոտն '!D34+'Երևան քաղաք'!D34+'Արարատ և Վայոց ձոր'!D34+Արմավիր!D34+Կոտայք!D34+Շիրակ!D34+Տավուշ!D34+Սյունիք!D34+Գեղարքունիք!D34) -> 0 | E34: =SUM(Լոռի!E34+'Արագածոտն '!E34+'Երևան քաղաք'!E34+'Արարատ և Վայոց ձոր'!E34+Արմավիր!E34+Կոտայք!E34+Շիրակ!E34+Տավուշ!E34+Սյունիք!E34+Գեղարքունիք!E34) -> 0 | F34: =SUM(Լոռի!F34+'Արագածոտն '!F34+'Երևան քաղաք'!F34+'Արարատ և Վայոց ձոր'!F34+Արմավիր!F34+Կոտայք!F34+Շիրակ!F34+Տավուշ!F34+Սյունիք!F34+Գեղարքունիք!F34) -> 0 | G34: =SUM(Լոռի!G34+'Արագածոտն '!G34+'Երևան քաղաք'!G34+'Արարատ և Վայոց ձոր'!G34+Արմավիր!G34+Կոտայք!G34+Շիրակ!G34+Տավուշ!G34+Սյունիք!G34+Գեղարքունիք!G34) -> 0 | H34: =SUM(Լոռի!H34+'Արագածոտն '!H34+'Երևան քաղաք'!H34+'Արարատ և Վայոց ձոր'!H34+Արմավիր!H34+Կոտայք!H34+Շիրակ!H34+Տավուշ!H34+Սյունիք!H34+Գեղարքունիք!H34) -> 0 | I34: =SUM(Լոռի!I34+'Արագածոտն '!I34+'Երևան քաղաք'!I34+'Արարատ և Վայոց ձոր'!I34+Արմավիր!I34+Կոտայք!I34+Շիրակ!I34+Տավուշ!I34+Սյունիք!I34+Գեղարքունիք!I34) -> 0 | J34: =SUM(Լոռի!J34+'Արագածոտն '!J34+'Երևան քաղաք'!J34+'Արարատ և Վայոց ձոր'!J34+Արմավիր!J34+Կոտայք!J34+Շիրակ!J34+Տավուշ!J34+Սյունիք!J34+Գեղարքունիք!J34) -> 0 | K34: =SUM(Լոռի!K34+'Արագածոտն '!K34+'Երևան քաղաք'!K34+'Արարատ և Վայոց ձոր'!K34+Արմավիր!K34+Կոտայք!K34+Շիրակ!K34+Տավուշ!K34+Սյունիք!K34+Գեղարքունիք!K34) -> 0 | ... AB34: =SUM(Լոռի!AB34+'Արագածոտն '!AB34+'Երևան քաղաք'!AB34+'Արարատ և Վայոց ձոր'!AB34+Արմավիր!AB34+Կոտայք!AB34+Շիրակ!AB34+Տավուշ!AB34+Սյունիք!AB34+Գեղարքունիք!AB34) -> 0
A35: 1.28 | B35: Այլ հանցագործություններ | D35: =SUM(Լոռի!D35+'Արագածոտն '!D35+'Երևան քաղաք'!D35+'Արարատ և Վայոց ձոր'!D35+Արմավիր!D35+Կոտայք!D35+Շիրակ!D35+Տավուշ!D35+Սյունիք!D35+Գեղարքունիք!D35) -> 0 | E35: =SUM(Լոռի!E35+'Արագածոտն '!E35+'Երևան քաղաք'!E35+'Արարատ և Վայոց ձոր'!E35+Արմավիր!E35+Կոտայք!E35+Շիրակ!E35+Տավուշ!E35+Սյունիք!E35+Գեղարքունիք!E35) -> 0 | F35: =SUM(Լոռի!F35+'Արագածոտն '!F35+'Երևան քաղաք'!F35+'Արարատ և Վայոց ձոր'!F35+Արմավիր!F35+Կոտայք!F35+Շիրակ!F35+Տավուշ!F35+Սյունիք!F35+Գեղարքունիք!F35) -> 0 | G35: =SUM(Լոռի!G35+'Արագածոտն '!G35+'Երևան քաղաք'!G35+'Արարատ և Վայոց ձոր'!G35+Արմավիր!G35+Կոտայք!G35+Շիրակ!G35+Տավուշ!G35+Սյունիք!G35+Գեղարքունիք!G35) -> 0 | H35: =SUM(Լոռի!H35+'Արագածոտն '!H35+'Երևան քաղաք'!H35+'Արարատ և Վայոց ձոր'!H35+Արմավիր!H35+Կոտայք!H35+Շիրակ!H35+Տավուշ!H35+Սյունիք!H35+Գեղարքունիք!H35) -> 0 | I35: =SUM(Լոռի!I35+'Արագածոտն '!I35+'Երևան քաղաք'!I35+'Արարատ և Վայոց ձոր'!I35+Արմավիր!I35+Կոտայք!I35+Շիրակ!I35+Տավուշ!I35+Սյունիք!I35+Գեղարքունիք!I35) -> 0 | J35: =SUM(Լոռի!J35+'Արագածոտն '!J35+'Երևան քաղաք'!J35+'Արարատ և Վայոց ձոր'!J35+Արմավիր!J35+Կոտայք!J35+Շիրակ!J35+Տավուշ!J35+Սյունիք!J35+Գեղարքունիք!J35) -> 0 | K35: =SUM(Լոռի!K35+'Արագածոտն '!K35+'Երևան քաղաք'!K35+'Արարատ և Վայոց ձոր'!K35+Արմավիր!K35+Կոտայք!K35+Շիրակ!K35+Տավուշ!K35+Սյունիք!K35+Գեղարքունիք!K35) -> 0 | ... AB35: =SUM(Լոռի!AB35+'Արագածոտն '!AB35+'Երևան քաղաք'!AB35+'Արարատ և Վայոց ձոր'!AB35+Արմավիր!AB35+Կոտայք!AB35+Շիրակ!AB35+Տավուշ!AB35+Սյունիք!AB35+Գեղարքունիք!AB35) -> 0
A36: 2. | B36: Ընդամենը անձի ազատության, պատվի և արժանապատվության դեմ ուղղված հանցագործությունները | D36: =SUM(Լոռի!D36+'Արագածոտն '!D36+'Երևան քաղաք'!D36+'Արարատ և Վայոց ձոր'!D36+Արմավիր!D36+Կոտայք!D36+Շիրակ!D36+Տավուշ!D36+Սյունիք!D36+Գեղարքունիք!D36) -> 0 | E36: =SUM(Լոռի!E36+'Արագածոտն '!E36+'Երևան քաղաք'!E36+'Արարատ և Վայոց ձոր'!E36+Արմավիր!E36+Կոտայք!E36+Շիրակ!E36+Տավուշ!E36+Սյունիք!E36+Գեղարքունիք!E36) -> 1 | F36: =SUM(Լոռի!F36+'Արագածոտն '!F36+'Երևան քաղաք'!F36+'Արարատ և Վայոց ձոր'!F36+Արմավիր!F36+Կոտայք!F36+Շիրակ!F36+Տավուշ!F36+Սյունիք!F36+Գեղարքունիք!F36) -> 1 | G36: =SUM(Լոռի!G36+'Արագածոտն '!G36+'Երևան քաղաք'!G36+'Արարատ և Վայոց ձոր'!G36+Արմավիր!G36+Կոտայք!G36+Շիրակ!G36+Տավուշ!G36+Սյունիք!G36+Գեղարքունիք!G36) -> 0 | H36: =SUM(Լոռի!H36+'Արագածոտն '!H36+'Երևան քաղաք'!H36+'Արարատ և Վայոց ձոր'!H36+Արմավիր!H36+Կոտայք!H36+Շիրակ!H36+Տավուշ!H36+Սյունիք!H36+Գեղարքունիք!H36) -> 0 | I36: =SUM(Լոռի!I36+'Արագածոտն '!I36+'Երևան քաղաք'!I36+'Արարատ և Վայոց ձոր'!I36+Արմավիր!I36+Կոտայք!I36+Շիրակ!I36+Տավուշ!I36+Սյունիք!I36+Գեղարքունիք!I36) -> 0 | J36: =SUM(Լոռի!J36+'Արագածոտն '!J36+'Երևան քաղաք'!J36+'Արարատ և Վայոց ձոր'!J36+Արմավիր!J36+Կոտայք!J36+Շիրակ!J36+Տավուշ!J36+Սյունիք!J36+Գեղարքունիք!J36) -> 0 | K36: =SUM(Լոռի!K36+'Արագածոտն '!K36+'Երևան քաղաք'!K36+'Արարատ և Վայոց ձոր'!K36+Արմավիր!K36+Կոտայք!K36+Շիրակ!K36+Տավուշ!K36+Սյունիք!K36+Գեղարքունիք!K36) -> 0 | ... AB36: =SUM(Լոռի!AB36+'Արագածոտն '!AB36+'Երևան քաղաք'!AB36+'Արարատ և Վայոց ձոր'!AB36+Արմավիր!AB36+Կոտայք!AB36+Շիրակ!AB36+Տավուշ!AB36+Սյունիք!AB36+Գեղարքունիք!AB36) -> 0
A37: 2.1 | B37: Մարդուն առևանգելը | C37: 131 | D37: =SUM(Լոռի!D37+'Արագածոտն '!D37+'Երևան քաղաք'!D37+'Արարատ և Վայոց ձոր'!D37+Արմավիր!D37+Կոտայք!D37+Շիրակ!D37+Տավուշ!D37+Սյունիք!D37+Գեղարքունիք!D37) -> 0 | E37: =SUM(Լոռի!E37+'Արագածոտն '!E37+'Երևան քաղաք'!E37+'Արարատ և Վայոց ձոր'!E37+Արմավիր!E37+Կոտայք!E37+Շիրակ!E37+Տավուշ!E37+Սյունիք!E37+Գեղարքունիք!E37) -> 1 | F37: =SUM(Լոռի!F37+'Արագածոտն '!F37+'Երևան քաղաք'!F37+'Արարատ և Վայոց ձոր'!F37+Արմավիր!F37+Կոտայք!F37+Շիրակ!F37+Տավուշ!F37+Սյունիք!F37+Գեղարքունիք!F37) -> 1 | G37: =SUM(Լոռի!G37+'Արագածոտն '!G37+'Երևան քաղաք'!G37+'Արարատ և Վայոց ձոր'!G37+Արմավիր!G37+Կոտայք!G37+Շիրակ!G37+Տավուշ!G37+Սյունիք!G37+Գեղարքունիք!G37) -> 0 | H37: =SUM(Լոռի!H37+'Արագածոտն '!H37+'Երևան քաղաք'!H37+'Արարատ և Վայոց ձոր'!H37+Արմավիր!H37+Կոտայք!H37+Շիրակ!H37+Տավուշ!H37+Սյունիք!H37+Գեղարքունիք!H37) -> 0 | I37: =SUM(Լոռի!I37+'Արագածոտն '!I37+'Երևան քաղաք'!I37+'Արարատ և Վայոց ձոր'!I37+Արմավիր!I37+Կոտայք!I37+Շիրակ!I37+Տավուշ!I37+Սյունիք!I37+Գեղարքունիք!I37) -> 0 | J37: =SUM(Լոռի!J37+'Արագածոտն '!J37+'Երևան քաղաք'!J37+'Արարատ և Վայոց ձոր'!J37+Արմավիր!J37+Կոտայք!J37+Շիրակ!J37+Տավուշ!J37+Սյունիք!J37+Գեղարքունիք!J37) -> 0 | K37: =SUM(Լոռի!K37+'Արագածոտն '!K37+'Երևան քաղաք'!K37+'Արարատ և Վայոց ձոր'!K37+Արմավիր!K37+Կոտայք!K37+Շիրակ!K37+Տավուշ!K37+Սյունիք!K37+Գեղարքունիք!K37) -> 0 | ... AB37: =SUM(Լոռի!AB37+'Արագածոտն '!AB37+'Երևան քաղաք'!AB37+'Արարատ և Վայոց ձոր'!AB37+Արմավիր!AB37+Կոտայք!AB37+Շիրակ!AB37+Տավուշ!AB37+Սյունիք!AB37+Գեղարքունիք!AB37) -> 0
A38: 2.2 | B38: Մարդու թրաֆիքինգը կամ շահագործումը | C38: 132 | D38: =SUM(Լոռի!D38+'Արագածոտն '!D38+'Երևան քաղաք'!D38+'Արարատ և Վայոց ձոր'!D38+Արմավիր!D38+Կոտայք!D38+Շիրակ!D38+Տավուշ!D38+Սյունիք!D38+Գեղարքունիք!D38) -> 0 | E38: =SUM(Լոռի!E38+'Արագածոտն '!E38+'Երևան քաղաք'!E38+'Արարատ և Վայոց ձոր'!E38+Արմավիր!E38+Կոտայք!E38+Շիրակ!E38+Տավուշ!E38+Սյունիք!E38+Գեղարքունիք!E38) -> 0 | F38: =SUM(Լոռի!F38+'Արագածոտն '!F38+'Երևան քաղաք'!F38+'Արարատ և Վայոց ձոր'!F38+Արմավիր!F38+Կոտայք!F38+Շիրակ!F38+Տավուշ!F38+Սյունիք!F38+Գեղարքունիք!F38) -> 0 | G38: =SUM(Լոռի!G38+'Արագածոտն '!G38+'Երևան քաղաք'!G38+'Արարատ և Վայոց ձոր'!G38+Արմավիր!G38+Կոտայք!G38+Շիրակ!G38+Տավուշ!G38+Սյունիք!G38+Գեղարքունիք!G38) -> 0 | H38: =SUM(Լոռի!H38+'Արագածոտն '!H38+'Երևան քաղաք'!H38+'Արարատ և Վայոց ձոր'!H38+Արմավիր!H38+Կոտայք!H38+Շիրակ!H38+Տավուշ!H38+Սյունիք!H38+Գեղարքունիք!H38) -> 0 | I38: =SUM(Լոռի!I38+'Արագածոտն '!I38+'Երևան քաղաք'!I38+'Արարատ և Վայոց ձոր'!I38+Արմավիր!I38+Կոտայք!I38+Շիրակ!I38+Տավուշ!I38+Սյունիք!I38+Գեղարքունիք!I38) -> 0 | J38: =SUM(Լոռի!J38+'Արագածոտն '!J38+'Երևան քաղաք'!J38+'Արարատ և Վայոց ձոր'!J38+Արմավիր!J38+Կոտայք!J38+Շիրակ!J38+Տավուշ!J38+Սյունիք!J38+Գեղարքունիք!J38) -> 0 | K38: =SUM(Լոռի!K38+'Արագածոտն '!K38+'Երևան քաղաք'!K38+'Արարատ և Վայոց ձոր'!K38+Արմավիր!K38+Կոտայք!K38+Շիրակ!K38+Տավուշ!K38+Սյունիք!K38+Գեղարքունիք!K38) -> 0 | ... AB38: =SUM(Լոռի!AB38+'Արագածոտն '!AB38+'Երևան քաղաք'!AB38+'Արարատ և Վայոց ձոր'!AB38+Արմավիր!AB38+Կոտայք!AB38+Շիրակ!AB38+Տավուշ!AB38+Սյունիք!AB38+Գեղարքունիք!AB38) -> 0
A39: 2.2.2 | B39: Երեխայի կամ հոգեկան խանգարման հետևանքով իր արարքի բնույթն ու նշանակությունը գիտակցելու կամ դա ղեկավարելու հնարավորությունից զրկված անձի թրաֆիքինգը կամ շահագործումը | C39: 132.2 | D39: =SUM(Լոռի!D39+'Արագածոտն '!D39+'Երևան քաղաք'!D39+'Արարատ և Վայոց ձոր'!D39+Արմավիր!D39+Կոտայք!D39+Շիրակ!D39+Տավուշ!D39+Սյունիք!D39+Գեղարքունիք!D39) -> 0 | E39: =SUM(Լոռի!E39+'Արագածոտն '!E39+'Երևան քաղաք'!E39+'Արարատ և Վայոց ձոր'!E39+Արմավիր!E39+Կոտայք!E39+Շիրակ!E39+Տավուշ!E39+Սյունիք!E39+Գեղարքունիք!E39) -> 0 | F39: =SUM(Լոռի!F39+'Արագածոտն '!F39+'Երևան քաղաք'!F39+'Արարատ և Վայոց ձոր'!F39+Արմավիր!F39+Կոտայք!F39+Շիրակ!F39+Տավուշ!F39+Սյունիք!F39+Գեղարքունիք!F39) -> 0 | G39: =SUM(Լոռի!G39+'Արագածոտն '!G39+'Երևան քաղաք'!G39+'Արարատ և Վայոց ձոր'!G39+Արմավիր!G39+Կոտայք!G39+Շիրակ!G39+Տավուշ!G39+Սյունիք!G39+Գեղարքունիք!G39) -> 0 | H39: =SUM(Լոռի!H39+'Արագածոտն '!H39+'Երևան քաղաք'!H39+'Արարատ և Վայոց ձոր'!H39+Արմավիր!H39+Կոտայք!H39+Շիրակ!H39+Տավուշ!H39+Սյունիք!H39+Գեղարքունիք!H39) -> 0 | I39: =SUM(Լոռի!I39+'Արագածոտն '!I39+'Երևան քաղաք'!I39+'Արարատ և Վայոց ձոր'!I39+Արմավիր!I39+Կոտայք!I39+Շիրակ!I39+Տավուշ!I39+Սյունիք!I39+Գեղարքունիք!I39) -> 0 | J39: =SUM(Լոռի!J39+'Արագածոտն '!J39+'Երևան քաղաք'!J39+'Արարատ և Վայոց ձոր'!J39+Արմավիր!J39+Կոտայք!J39+Շիրակ!J39+Տավուշ!J39+Սյունիք!J39+Գեղարքունիք!J39) -> 0 | K39: =SUM(Լոռի!K39+'Արագածոտն '!K39+'Երևան քաղաք'!K39+'Արարատ և Վայոց ձոր'!K39+Արմավիր!K39+Կոտայք!K39+Շիրակ!K39+Տավուշ!K39+Սյունիք!K39+Գեղարքունիք!K39) -> 0 | ... AB39: =SUM(Լոռի!AB39+'Արագածոտն '!AB39+'Երևան քաղաք'!AB39+'Արարատ և Վայոց ձոր'!AB39+Արմավիր!AB39+Կոտայք!AB39+Շիրակ!AB39+Տավուշ!AB39+Սյունիք!AB39+Գեղարքունիք!AB39) -> 0
A40: 2.2.3 | B40: Շահագործման վիճակում գտնվող անձի ծառայությունից օգտվելը | C40: 132.3 | D40: =SUM(Լոռի!D40+'Արագածոտն '!D40+'Երևան քաղաք'!D40+'Արարատ և Վայոց ձոր'!D40+Արմավիր!D40+Կոտայք!D40+Շիրակ!D40+Տավուշ!D40+Սյունիք!D40+Գեղարքունիք!D40) -> 0 | E40: =SUM(Լոռի!E40+'Արագածոտն '!E40+'Երևան քաղաք'!E40+'Արարատ և Վայոց ձոր'!E40+Արմավիր!E40+Կոտայք!E40+Շիրակ!E40+Տավուշ!E40+Սյունիք!E40+Գեղարքունիք!E40) -> 0 | F40: =SUM(Լոռի!F40+'Արագածոտն '!F40+'Երևան քաղաք'!F40+'Արարատ և Վայոց ձոր'!F40+Արմավիր!F40+Կոտայք!F40+Շիրակ!F40+Տավուշ!F40+Սյունիք!F40+Գեղարքունիք!F40) -> 0 | G40: =SUM(Լոռի!G40+'Արագածոտն '!G40+'Երևան քաղաք'!G40+'Արարատ և Վայոց ձոր'!G40+Արմավիր!G40+Կոտայք!G40+Շիրակ!G40+Տավուշ!G40+Սյունիք!G40+Գեղարքունիք!G40) -> 0 | H40: =SUM(Լոռի!H40+'Արագածոտն '!H40+'Երևան քաղաք'!H40+'Արարատ և Վայոց ձոր'!H40+Արմավիր!H40+Կոտայք!H40+Շիրակ!H40+Տավուշ!H40+Սյունիք!H40+Գեղարքունիք!H40) -> 0 | I40: =SUM(Լոռի!I40+'Արագածոտն '!I40+'Երևան քաղաք'!I40+'Արարատ և Վայոց ձոր'!I40+Արմավիր!I40+Կոտայք!I40+Շիրակ!I40+Տավուշ!I40+Սյունիք!I40+Գեղարքունիք!I40) -> 0 | J40: =SUM(Լոռի!J40+'Արագածոտն '!J40+'Երևան քաղաք'!J40+'Արարատ և Վայոց ձոր'!J40+Արմավիր!J40+Կոտայք!J40+Շիրակ!J40+Տավուշ!J40+Սյունիք!J40+Գեղարքունիք!J40) -> 0 | K40: =SUM(Լոռի!K40+'Արագածոտն '!K40+'Երևան քաղաք'!K40+'Արարատ և Վայոց ձոր'!K40+Արմավիր!K40+Կոտայք!K40+Շիրակ!K40+Տավուշ!K40+Սյունիք!K40+Գեղարքունիք!K40) -> 0 | ... AB40: =SUM(Լոռի!AB40+'Արագածոտն '!AB40+'Երևան քաղաք'!AB40+'Արարատ և Վայոց ձոր'!AB40+Արմավիր!AB40+Կոտայք!AB40+Շիրակ!AB40+Տավուշ!AB40+Սյունիք!AB40+Գեղարքունիք!AB40) -> 0
A41: 2.3 | B41: Ազատությունից ապօրինի զրկելը | C41: 133 | D41: =SUM(Լոռի!D41+'Արագածոտն '!D41+'Երևան քաղաք'!D41+'Արարատ և Վայոց ձոր'!D41+Արմավիր!D41+Կոտայք!D41+Շիրակ!D41+Տավուշ!D41+Սյունիք!D41+Գեղարքունիք!D41) -> 0 | E41: =SUM(Լոռի!E41+'Արագածոտն '!E41+'Երևան քաղաք'!E41+'Արարատ և Վայոց ձոր'!E41+Արմավիր!E41+Կոտայք!E41+Շիրակ!E41+Տավուշ!E41+Սյունիք!E41+Գեղարքունիք!E41) -> 0 | F41: =SUM(Լոռի!F41+'Արագածոտն '!F41+'Երևան քաղաք'!F41+'Արարատ և Վայոց ձոր'!F41+Արմավիր!F41+Կոտայք!F41+Շիրակ!F41+Տավուշ!F41+Սյունիք!F41+Գեղարքունիք!F41) -> 0 | G41: =SUM(Լոռի!G41+'Արագածոտն '!G41+'Երևան քաղաք'!G41+'Արարատ և Վայոց ձոր'!G41+Արմավիր!G41+Կոտայք!G41+Շիրակ!G41+Տավուշ!G41+Սյունիք!G41+Գեղարքունիք!G41) -> 0 | H41: =SUM(Լոռի!H41+'Արագածոտն '!H41+'Երևան քաղաք'!H41+'Արարատ և Վայոց ձոր'!H41+Արմավիր!H41+Կոտայք!H41+Շիրակ!H41+Տավուշ!H41+Սյունիք!H41+Գեղարքունիք!H41) -> 0 | I41: =SUM(Լոռի!I41+'Արագածոտն '!I41+'Երևան քաղաք'!I41+'Արարատ և Վայոց ձոր'!I41+Արմավիր!I41+Կոտայք!I41+Շիրակ!I41+Տավուշ!I41+Սյունիք!I41+Գեղարքունիք!I41) -> 0 | J41: =SUM(Լոռի!J41+'Արագածոտն '!J41+'Երևան քաղաք'!J41+'Արարատ և Վայոց ձոր'!J41+Արմավիր!J41+Կոտայք!J41+Շիրակ!J41+Տավուշ!J41+Սյունիք!J41+Գեղարքունիք!J41) -> 0 | K41: =SUM(Լոռի!K41+'Արագածոտն '!K41+'Երևան քաղաք'!K41+'Արարատ և Վայոց ձոր'!K41+Արմավիր!K41+Կոտայք!K41+Շիրակ!K41+Տավուշ!K41+Սյունիք!K41+Գեղարքունիք!K41) -> 0 | ... AB41: =SUM(Լոռի!AB41+'Արագածոտն '!AB41+'Երևան քաղաք'!AB41+'Արարատ և Վայոց ձոր'!AB41+Արմավիր!AB41+Կոտայք!AB41+Շիրակ!AB41+Տավուշ!AB41+Սյունիք!AB41+Գեղարքունիք!AB41) -> 0
A42: 2.4 | B42: Հոգեբուժական հիվանդանոցում ապօրինի տեղավորելը կամ պահելը | C42: 134 | D42: =SUM(Լոռի!D42+'Արագածոտն '!D42+'Երևան քաղաք'!D42+'Արարատ և Վայոց ձոր'!D42+Արմավիր!D42+Կոտայք!D42+Շիրակ!D42+Տավուշ!D42+Սյունիք!D42+Գեղարքունիք!D42) -> 0 | E42: =SUM(Լոռի!E42+'Արագածոտն '!E42+'Երևան քաղաք'!E42+'Արարատ և Վայոց ձոր'!E42+Արմավիր!E42+Կոտայք!E42+Շիրակ!E42+Տավուշ!E42+Սյունիք!E42+Գեղարքունիք!E42) -> 0 | F42: =SUM(Լոռի!F42+'Արագածոտն '!F42+'Երևան քաղաք'!F42+'Արարատ և Վայոց ձոր'!F42+Արմավիր!F42+Կոտայք!F42+Շիրակ!F42+Տավուշ!F42+Սյունիք!F42+Գեղարքունիք!F42) -> 0 | G42: =SUM(Լոռի!G42+'Արագածոտն '!G42+'Երևան քաղաք'!G42+'Արարատ և Վայոց ձոր'!G42+Արմավիր!G42+Կոտայք!G42+Շիրակ!G42+Տավուշ!G42+Սյունիք!G42+Գեղարքունիք!G42) -> 0 | H42: =SUM(Լոռի!H42+'Արագածոտն '!H42+'Երևան քաղաք'!H42+'Արարատ և Վայոց ձոր'!H42+Արմավիր!H42+Կոտայք!H42+Շիրակ!H42+Տավուշ!H42+Սյունիք!H42+Գեղարքունիք!H42) -> 0 | I42: =SUM(Լոռի!I42+'Արագածոտն '!I42+'Երևան քաղաք'!I42+'Արարատ և Վայոց ձոր'!I42+Արմավիր!I42+Կոտայք!I42+Շիրակ!I42+Տավուշ!I42+Սյունիք!I42+Գեղարքունիք!I42) -> 0 | J42: =SUM(Լոռի!J42+'Արագածոտն '!J42+'Երևան քաղաք'!J42+'Արարատ և Վայոց ձոր'!J42+Արմավիր!J42+Կոտայք!J42+Շիրակ!J42+Տավուշ!J42+Սյունիք!J42+Գեղարքունիք!J42) -> 0 | K42: =SUM(Լոռի!K42+'Արագածոտն '!K42+'Երևան քաղաք'!K42+'Արարատ և Վայոց ձոր'!K42+Արմավիր!K42+Կոտայք!K42+Շիրակ!K42+Տավուշ!K42+Սյունիք!K42+Գեղարքունիք!K42) -> 0 | ... AB42: =SUM(Լոռի!AB42+'Արագածոտն '!AB42+'Երևան քաղաք'!AB42+'Արարատ և Վայոց ձոր'!AB42+Արմավիր!AB42+Կոտայք!AB42+Շիրակ!AB42+Տավուշ!AB42+Սյունիք!AB42+Գեղարքունիք!AB42) -> 0
A43: 2.7 | B43: Սպանության, առողջությանը ծանր վնաս պատճառելու կամ գույք ոչնչացնելու սպառնալիքը | C43: 137 | D43: =SUM(Լոռի!D43+'Արագածոտն '!D43+'Երևան քաղաք'!D43+'Արարատ և Վայոց ձոր'!D43+Արմավիր!D43+Կոտայք!D43+Շիրակ!D43+Տավուշ!D43+Սյունիք!D43+Գեղարքունիք!D43) -> 0 | E43: =SUM(Լոռի!E43+'Արագածոտն '!E43+'Երևան քաղաք'!E43+'Արարատ և Վայոց ձոր'!E43+Արմավիր!E43+Կոտայք!E43+Շիրակ!E43+Տավուշ!E43+Սյունիք!E43+Գեղարքունիք!E43) -> 0 | F43: =SUM(Լոռի!F43+'Արագածոտն '!F43+'Երևան քաղաք'!F43+'Արարատ և Վայոց ձոր'!F43+Արմավիր!F43+Կոտայք!F43+Շիրակ!F43+Տավուշ!F43+Սյունիք!F43+Գեղարքունիք!F43) -> 0 | G43: =SUM(Լոռի!G43+'Արագածոտն '!G43+'Երևան քաղաք'!G43+'Արարատ և Վայոց ձոր'!G43+Արմավիր!G43+Կոտայք!G43+Շիրակ!G43+Տավուշ!G43+Սյունիք!G43+Գեղարքունիք!G43) -> 0 | H43: =SUM(Լոռի!H43+'Արագածոտն '!H43+'Երևան քաղաք'!H43+'Արարատ և Վայոց ձոր'!H43+Արմավիր!H43+Կոտայք!H43+Շիրակ!H43+Տավուշ!H43+Սյունիք!H43+Գեղարքունիք!H43) -> 0 | I43: =SUM(Լոռի!I43+'Արագածոտն '!I43+'Երևան քաղաք'!I43+'Արարատ և Վայոց ձոր'!I43+Արմավիր!I43+Կոտայք!I43+Շիրակ!I43+Տավուշ!I43+Սյունիք!I43+Գեղարքունիք!I43) -> 0 | J43: =SUM(Լոռի!J43+'Արագածոտն '!J43+'Երևան քաղաք'!J43+'Արարատ և Վայոց ձոր'!J43+Արմավիր!J43+Կոտայք!J43+Շիրակ!J43+Տավուշ!J43+Սյունիք!J43+Գեղարքունիք!J43) -> 0 | K43: =SUM(Լոռի!K43+'Արագածոտն '!K43+'Երևան քաղաք'!K43+'Արարատ և Վայոց ձոր'!K43+Արմավիր!K43+Կոտայք!K43+Շիրակ!K43+Տավուշ!K43+Սյունիք!K43+Գեղարքունիք!K43) -> 0 | ... AB43: =SUM(Լոռի!AB43+'Արագածոտն '!AB43+'Երևան քաղաք'!AB43+'Արարատ և Վայոց ձոր'!AB43+Արմավիր!AB43+Կոտայք!AB43+Շիրակ!AB43+Տավուշ!AB43+Սյունիք!AB43+Գեղարքունիք!AB43) -> 0
A44: 2.8 | B44: Այլ հանցագործություններ | D44: =SUM(Լոռի!D44+'Արագածոտն '!D44+'Երևան քաղաք'!D44+'Արարատ և Վայոց ձոր'!D44+Արմավիր!D44+Կոտայք!D44+Շիրակ!D44+Տավուշ!D44+Սյունիք!D44+Գեղարքունիք!D44) -> 0 | E44: =SUM(Լոռի!E44+'Արագածոտն '!E44+'Երևան քաղաք'!E44+'Արարատ և Վայոց ձոր'!E44+Արմավիր!E44+Կոտայք!E44+Շիրակ!E44+Տավուշ!E44+Սյունիք!E44+Գեղարքունիք!E44) -> 0 | F44: =SUM(Լոռի!F44+'Արագածոտն '!F44+'Երևան քաղաք'!F44+'Արարատ և Վայոց ձոր'!F44+Արմավիր!F44+Կոտայք!F44+Շիրակ!F44+Տավուշ!F44+Սյունիք!F44+Գեղարքունիք!F44) -> 0 | G44: =SUM(Լոռի!G44+'Արագածոտն '!G44+'Երևան քաղաք'!G44+'Արարատ և Վայոց ձոր'!G44+Արմավիր!G44+Կոտայք!G44+Շիրակ!G44+Տավուշ!G44+Սյունիք!G44+Գեղարքունիք!G44) -> 0 | H44: =SUM(Լոռի!H44+'Արագածոտն '!H44+'Երևան քաղաք'!H44+'Արարատ և Վայոց ձոր'!H44+Արմավիր!H44+Կոտայք!H44+Շիրակ!H44+Տավուշ!H44+Սյունիք!H44+Գեղարքունիք!H44) -> 0 | I44: =SUM(Լոռի!I44+'Արագածոտն '!I44+'Երևան քաղաք'!I44+'Արարատ և Վայոց ձոր'!I44+Արմավիր!I44+Կոտայք!I44+Շիրակ!I44+Տավուշ!I44+Սյունիք!I44+Գեղարքունիք!I44) -> 0 | J44: =SUM(Լոռի!J44+'Արագածոտն '!J44+'Երևան քաղաք'!J44+'Արարատ և Վայոց ձոր'!J44+Արմավիր!J44+Կոտայք!J44+Շիրակ!J44+Տավուշ!J44+Սյունիք!J44+Գեղարքունիք!J44) -> 0 | K44: =SUM(Լոռի!K44+'Արագածոտն '!K44+'Երևան քաղաք'!K44+'Արարատ և Վայոց ձոր'!K44+Արմավիր!K44+Կոտայք!K44+Շիրակ!K44+Տավուշ!K44+Սյունիք!K44+Գեղարքունիք!K44) -> 0 | ... AB44: =SUM(Լոռի!AB44+'Արագածոտն '!AB44+'Երևան քաղաք'!AB44+'Արարատ և Վայոց ձոր'!AB44+Արմավիր!AB44+Կոտայք!AB44+Շիրակ!AB44+Տավուշ!AB44+Սյունիք!AB44+Գեղարքունիք!AB44) -> 0
A45: 3. | B45: Ընդամենը սեռական անձեռնմխելիության և սեռական ազատության դեմ ուղղված հանցագործությունները | D45: =SUM(Լոռի!D45+'Արագածոտն '!D45+'Երևան քաղաք'!D45+'Արարատ և Վայոց ձոր'!D45+Արմավիր!D45+Կոտայք!D45+Շիրակ!D45+Տավուշ!D45+Սյունիք!D45+Գեղարքունիք!D45) -> 0 | E45: =SUM(Լոռի!E45+'Արագածոտն '!E45+'Երևան քաղաք'!E45+'Արարատ և Վայոց ձոր'!E45+Արմավիր!E45+Կոտայք!E45+Շիրակ!E45+Տավուշ!E45+Սյունիք!E45+Գեղարքունիք!E45) -> 0 | F45: =SUM(Լոռի!F45+'Արագածոտն '!F45+'Երևան քաղաք'!F45+'Արարատ և Վայոց ձոր'!F45+Արմավիր!F45+Կոտայք!F45+Շիրակ!F45+Տավուշ!F45+Սյունիք!F45+Գեղարքունիք!F45) -> 0 | G45: =SUM(Լոռի!G45+'Արագածոտն '!G45+'Երևան քաղաք'!G45+'Արարատ և Վայոց ձոր'!G45+Արմավիր!G45+Կոտայք!G45+Շիրակ!G45+Տավուշ!G45+Սյունիք!G45+Գեղարքունիք!G45) -> 0 | H45: =SUM(Լոռի!H45+'Արագածոտն '!H45+'Երևան քաղաք'!H45+'Արարատ և Վայոց ձոր'!H45+Արմավիր!H45+Կոտայք!H45+Շիրակ!H45+Տավուշ!H45+Սյունիք!H45+Գեղարքունիք!H45) -> 0 | I45: =SUM(Լոռի!I45+'Արագածոտն '!I45+'Երևան քաղաք'!I45+'Արարատ և Վայոց ձոր'!I45+Արմավիր!I45+Կոտայք!I45+Շիրակ!I45+Տավուշ!I45+Սյունիք!I45+Գեղարքունիք!I45) -> 0 | J45: =SUM(Լոռի!J45+'Արագածոտն '!J45+'Երևան քաղաք'!J45+'Արարատ և Վայոց ձոր'!J45+Արմավիր!J45+Կոտայք!J45+Շիրակ!J45+Տավուշ!J45+Սյունիք!J45+Գեղարքունիք!J45) -> 0 | K45: =SUM(Լոռի!K45+'Արագածոտն '!K45+'Երևան քաղաք'!K45+'Արարատ և Վայոց ձոր'!K45+Արմավիր!K45+Կոտայք!K45+Շիրակ!K45+Տավուշ!K45+Սյունիք!K45+Գեղարքունիք!K45) -> 0 | ... AB45: =SUM(Լոռի!AB45+'Արագածոտն '!AB45+'Երևան քաղաք'!AB45+'Արարատ և Վայոց ձոր'!AB45+Արմավիր!AB45+Կոտայք!AB45+Շիրակ!AB45+Տավուշ!AB45+Սյունիք!AB45+Գեղարքունիք!AB45) -> 0
A46: 3.1 | B46: Բռնաբարությունը | C46: 138 | D46: =SUM(Լոռի!D46+'Արագածոտն '!D46+'Երևան քաղաք'!D46+'Արարատ և Վայոց ձոր'!D46+Արմավիր!D46+Կոտայք!D46+Շիրակ!D46+Տավուշ!D46+Սյունիք!D46+Գեղարքունիք!D46) -> 0 | E46: =SUM(Լոռի!E46+'Արագածոտն '!E46+'Երևան քաղաք'!E46+'Արարատ և Վայոց ձոր'!E46+Արմավիր!E46+Կոտայք!E46+Շիրակ!E46+Տավուշ!E46+Սյունիք!E46+Գեղարքունիք!E46) -> 0 | F46: =SUM(Լոռի!F46+'Արագածոտն '!F46+'Երևան քաղաք'!F46+'Արարատ և Վայոց ձոր'!F46+Արմավիր!F46+Կոտայք!F46+Շիրակ!F46+Տավուշ!F46+Սյունիք!F46+Գեղարքունիք!F46) -> 0 | G46: =SUM(Լոռի!G46+'Արագածոտն '!G46+'Երևան քաղաք'!G46+'Արարատ և Վայոց ձոր'!G46+Արմավիր!G46+Կոտայք!G46+Շիրակ!G46+Տավուշ!G46+Սյունիք!G46+Գեղարքունիք!G46) -> 0 | H46: =SUM(Լոռի!H46+'Արագածոտն '!H46+'Երևան քաղաք'!H46+'Արարատ և Վայոց ձոր'!H46+Արմավիր!H46+Կոտայք!H46+Շիրակ!H46+Տավուշ!H46+Սյունիք!H46+Գեղարքունիք!H46) -> 0 | I46: =SUM(Լոռի!I46+'Արագածոտն '!I46+'Երևան քաղաք'!I46+'Արարատ և Վայոց ձոր'!I46+Արմավիր!I46+Կոտայք!I46+Շիրակ!I46+Տավուշ!I46+Սյունիք!I46+Գեղարքունիք!I46) -> 0 | J46: =SUM(Լոռի!J46+'Արագածոտն '!J46+'Երևան քաղաք'!J46+'Արարատ և Վայոց ձոր'!J46+Արմավիր!J46+Կոտայք!J46+Շիրակ!J46+Տավուշ!J46+Սյունիք!J46+Գեղարքունիք!J46) -> 0 | K46: =SUM(Լոռի!K46+'Արագածոտն '!K46+'Երևան քաղաք'!K46+'Արարատ և Վայոց ձոր'!K46+Արմավիր!K46+Կոտայք!K46+Շիրակ!K46+Տավուշ!K46+Սյունիք!K46+Գեղարքունիք!K46) -> 0 | ... AB46: =SUM(Լոռի!AB46+'Արագածոտն '!AB46+'Երևան քաղաք'!AB46+'Արարատ և Վայոց ձոր'!AB46+Արմավիր!AB46+Կոտայք!AB46+Շիրակ!AB46+Տավուշ!AB46+Սյունիք!AB46+Գեղարքունիք!AB46) -> 0
A47: 3.2 | B47: Սեքսուալ բնույթի բռնի գործողությունները | C47: 139 | D47: =SUM(Լոռի!D47+'Արագածոտն '!D47+'Երևան քաղաք'!D47+'Արարատ և Վայոց ձոր'!D47+Արմավիր!D47+Կոտայք!D47+Շիրակ!D47+Տավուշ!D47+Սյունիք!D47+Գեղարքունիք!D47) -> 0 | E47: =SUM(Լոռի!E47+'Արագածոտն '!E47+'Երևան քաղաք'!E47+'Արարատ և Վայոց ձոր'!E47+Արմավիր!E47+Կոտայք!E47+Շիրակ!E47+Տավուշ!E47+Սյունիք!E47+Գեղարքունիք!E47) -> 0 | F47: =SUM(Լոռի!F47+'Արագածոտն '!F47+'Երևան քաղաք'!F47+'Արարատ և Վայոց ձոր'!F47+Արմավիր!F47+Կոտայք!F47+Շիրակ!F47+Տավուշ!F47+Սյունիք!F47+Գեղարքունիք!F47) -> 0 | G47: =SUM(Լոռի!G47+'Արագածոտն '!G47+'Երևան քաղաք'!G47+'Արարատ և Վայոց ձոր'!G47+Արմավիր!G47+Կոտայք!G47+Շիրակ!G47+Տավուշ!G47+Սյունիք!G47+Գեղարքունիք!G47) -> 0 | H47: =SUM(Լոռի!H47+'Արագածոտն '!H47+'Երևան քաղաք'!H47+'Արարատ և Վայոց ձոր'!H47+Արմավիր!H47+Կոտայք!H47+Շիրակ!H47+Տավուշ!H47+Սյունիք!H47+Գեղարքունիք!H47) -> 0 | I47: =SUM(Լոռի!I47+'Արագածոտն '!I47+'Երևան քաղաք'!I47+'Արարատ և Վայոց ձոր'!I47+Արմավիր!I47+Կոտայք!I47+Շիրակ!I47+Տավուշ!I47+Սյունիք!I47+Գեղարքունիք!I47) -> 0 | J47: =SUM(Լոռի!J47+'Արագածոտն '!J47+'Երևան քաղաք'!J47+'Արարատ և Վայոց ձոր'!J47+Արմավիր!J47+Կոտայք!J47+Շիրակ!J47+Տավուշ!J47+Սյունիք!J47+Գեղարքունիք!J47) -> 0 | K47: =SUM(Լոռի!K47+'Արագածոտն '!K47+'Երևան քաղաք'!K47+'Արարատ և Վայոց ձոր'!K47+Արմավիր!K47+Կոտայք!K47+Շիրակ!K47+Տավուշ!K47+Սյունիք!K47+Գեղարքունիք!K47) -> 0 | ... AB47: =SUM(Լոռի!AB47+'Արագածոտն '!AB47+'Երևան քաղաք'!AB47+'Արարատ և Վայոց ձոր'!AB47+Արմավիր!AB47+Կոտայք!AB47+Շիրակ!AB47+Տավուշ!AB47+Սյունիք!AB47+Գեղարքունիք!AB47) -> 0
A48: 3.3 | B48: Սեռական հարաբերության կամ սեքսուալ բնույթի գործողություններին հարկադրելը | C48: 140 | D48: =SUM(Լոռի!D48+'Արագածոտն '!D48+'Երևան քաղաք'!D48+'Արարատ և Վայոց ձոր'!D48+Արմավիր!D48+Կոտայք!D48+Շիրակ!D48+Տավուշ!D48+Սյունիք!D48+Գեղարքունիք!D48) -> 0 | E48: =SUM(Լոռի!E48+'Արագածոտն '!E48+'Երևան քաղաք'!E48+'Արարատ և Վայոց ձոր'!E48+Արմավիր!E48+Կոտայք!E48+Շիրակ!E48+Տավուշ!E48+Սյունիք!E48+Գեղարքունիք!E48) -> 0 | F48: =SUM(Լոռի!F48+'Արագածոտն '!F48+'Երևան քաղաք'!F48+'Արարատ և Վայոց ձոր'!F48+Արմավիր!F48+Կոտայք!F48+Շիրակ!F48+Տավուշ!F48+Սյունիք!F48+Գեղարքունիք!F48) -> 0 | G48: =SUM(Լոռի!G48+'Արագածոտն '!G48+'Երևան քաղաք'!G48+'Արարատ և Վայոց ձոր'!G48+Արմավիր!G48+Կոտայք!G48+Շիրակ!G48+Տավուշ!G48+Սյունիք!G48+Գեղարքունիք!G48) -> 0 | H48: =SUM(Լոռի!H48+'Արագածոտն '!H48+'Երևան քաղաք'!H48+'Արարատ և Վայոց ձոր'!H48+Արմավիր!H48+Կոտայք!H48+Շիրակ!H48+Տավուշ!H48+Սյունիք!H48+Գեղարքունիք!H48) -> 0 | I48: =SUM(Լոռի!I48+'Արագածոտն '!I48+'Երևան քաղաք'!I48+'Արարատ և Վայոց ձոր'!I48+Արմավիր!I48+Կոտայք!I48+Շիրակ!I48+Տավուշ!I48+Սյունիք!I48+Գեղարքունիք!I48) -> 0 | J48: =SUM(Լոռի!J48+'Արագածոտն '!J48+'Երևան քաղաք'!J48+'Արարատ և Վայոց ձոր'!J48+Արմավիր!J48+Կոտայք!J48+Շիրակ!J48+Տավուշ!J48+Սյունիք!J48+Գեղարքունիք!J48) -> 0 | K48: =SUM(Լոռի!K48+'Արագածոտն '!K48+'Երևան քաղաք'!K48+'Արարատ և Վայոց ձոր'!K48+Արմավիր!K48+Կոտայք!K48+Շիրակ!K48+Տավուշ!K48+Սյունիք!K48+Գեղարքունիք!K48) -> 0 | ... AB48: =SUM(Լոռի!AB48+'Արագածոտն '!AB48+'Երևան քաղաք'!AB48+'Արարատ և Վայոց ձոր'!AB48+Արմավիր!AB48+Կոտայք!AB48+Շիրակ!AB48+Տավուշ!AB48+Սյունիք!AB48+Գեղարքունիք!AB48) -> 0
A49: 3.4 | B49: Սեռական հարաբերությունը տասնվեց տարին չլրացած անձի հետ կամ սեքսուալ բնույթի գործողություններ կատարելը տասնվեց տարին չլրացած անձի նկատմամբ | C49: 141 | D49: =SUM(Լոռի!D49+'Արագածոտն '!D49+'Երևան քաղաք'!D49+'Արարատ և Վայոց ձոր'!D49+Արմավիր!D49+Կոտայք!D49+Շիրակ!D49+Տավուշ!D49+Սյունիք!D49+Գեղարքունիք!D49) -> 0 | E49: =SUM(Լոռի!E49+'Արագածոտն '!E49+'Երևան քաղաք'!E49+'Արարատ և Վայոց ձոր'!E49+Արմավիր!E49+Կոտայք!E49+Շիրակ!E49+Տավուշ!E49+Սյունիք!E49+Գեղարքունիք!E49) -> 0 | F49: =SUM(Լոռի!F49+'Արագածոտն '!F49+'Երևան քաղաք'!F49+'Արարատ և Վայոց ձոր'!F49+Արմավիր!F49+Կոտայք!F49+Շիրակ!F49+Տավուշ!F49+Սյունիք!F49+Գեղարքունիք!F49) -> 0 | G49: =SUM(Լոռի!G49+'Արագածոտն '!G49+'Երևան քաղաք'!G49+'Արարատ և Վայոց ձոր'!G49+Արմավիր!G49+Կոտայք!G49+Շիրակ!G49+Տավուշ!G49+Սյունիք!G49+Գեղարքունիք!G49) -> 0 | H49: =SUM(Լոռի!H49+'Արագածոտն '!H49+'Երևան քաղաք'!H49+'Արարատ և Վայոց ձոր'!H49+Արմավիր!H49+Կոտայք!H49+Շիրակ!H49+Տավուշ!H49+Սյունիք!H49+Գեղարքունիք!H49) -> 0 | I49: =SUM(Լոռի!I49+'Արագածոտն '!I49+'Երևան քաղաք'!I49+'Արարատ և Վայոց ձոր'!I49+Արմավիր!I49+Կոտայք!I49+Շիրակ!I49+Տավուշ!I49+Սյունիք!I49+Գեղարքունիք!I49) -> 0 | J49: =SUM(Լոռի!J49+'Արագածոտն '!J49+'Երևան քաղաք'!J49+'Արարատ և Վայոց ձոր'!J49+Արմավիր!J49+Կոտայք!J49+Շիրակ!J49+Տավուշ!J49+Սյունիք!J49+Գեղարքունիք!J49) -> 0 | K49: =SUM(Լոռի!K49+'Արագածոտն '!K49+'Երևան քաղաք'!K49+'Արարատ և Վայոց ձոր'!K49+Արմավիր!K49+Կոտայք!K49+Շիրակ!K49+Տավուշ!K49+Սյունիք!K49+Գեղարքունիք!K49) -> 0 | ... AB49: =SUM(Լոռի!AB49+'Արագածոտն '!AB49+'Երևան քաղաք'!AB49+'Արարատ և Վայոց ձոր'!AB49+Արմավիր!AB49+Կոտայք!AB49+Շիրակ!AB49+Տավուշ!AB49+Սյունիք!AB49+Գեղարքունիք!AB49) -> 0
A50: 3.5 | B50: Անառակաբարո գործողությունները | C50: 142 | D50: =SUM(Լոռի!D50+'Արագածոտն '!D50+'Երևան քաղաք'!D50+'Արարատ և Վայոց ձոր'!D50+Արմավիր!D50+Կոտայք!D50+Շիրակ!D50+Տավուշ!D50+Սյունիք!D50+Գեղարքունիք!D50) -> 0 | E50: =SUM(Լոռի!E50+'Արագածոտն '!E50+'Երևան քաղաք'!E50+'Արարատ և Վայոց ձոր'!E50+Արմավիր!E50+Կոտայք!E50+Շիրակ!E50+Տավուշ!E50+Սյունիք!E50+Գեղարքունիք!E50) -> 0 | F50: =SUM(Լոռի!F50+'Արագածոտն '!F50+'Երևան քաղաք'!F50+'Արարատ և Վայոց ձոր'!F50+Արմավիր!F50+Կոտայք!F50+Շիրակ!F50+Տավուշ!F50+Սյունիք!F50+Գեղարքունիք!F50) -> 0 | G50: =SUM(Լոռի!G50+'Արագածոտն '!G50+'Երևան քաղաք'!G50+'Արարատ և Վայոց ձոր'!G50+Արմավիր!G50+Կոտայք!G50+Շիրակ!G50+Տավուշ!G50+Սյունիք!G50+Գեղարքունիք!G50) -> 0 | H50: =SUM(Լոռի!H50+'Արագածոտն '!H50+'Երևան քաղաք'!H50+'Արարատ և Վայոց ձոր'!H50+Արմավիր!H50+Կոտայք!H50+Շիրակ!H50+Տավուշ!H50+Սյունիք!H50+Գեղարքունիք!H50) -> 0 | I50: =SUM(Լոռի!I50+'Արագածոտն '!I50+'Երևան քաղաք'!I50+'Արարատ և Վայոց ձոր'!I50+Արմավիր!I50+Կոտայք!I50+Շիրակ!I50+Տավուշ!I50+Սյունիք!I50+Գեղարքունիք!I50) -> 0 | J50: =SUM(Լոռի!J50+'Արագածոտն '!J50+'Երևան քաղաք'!J50+'Արարատ և Վայոց ձոր'!J50+Արմավիր!J50+Կոտայք!J50+Շիրակ!J50+Տավուշ!J50+Սյունիք!J50+Գեղարքունիք!J50) -> 0 | K50: =SUM(Լոռի!K50+'Արագածոտն '!K50+'Երևան քաղաք'!K50+'Արարատ և Վայոց ձոր'!K50+Արմավիր!K50+Կոտայք!K50+Շիրակ!K50+Տավուշ!K50+Սյունիք!K50+Գեղարքունիք!K50) -> 0 | ... AB50: =SUM(Լոռի!AB50+'Արագածոտն '!AB50+'Երևան քաղաք'!AB50+'Արարատ և Վայոց ձոր'!AB50+Արմավիր!AB50+Կոտայք!AB50+Շիրակ!AB50+Տավուշ!AB50+Սյունիք!AB50+Գեղարքունիք!AB50) -> 0
A51: 3.6 | B51: Այլ հանցագործություններ | D51: =SUM(Լոռի!D51+'Արագածոտն '!D51+'Երևան քաղաք'!D51+'Արարատ և Վայոց ձոր'!D51+Արմավիր!D51+Կոտայք!D51+Շիրակ!D51+Տավուշ!D51+Սյունիք!D51+Գեղարքունիք!D51) -> 0 | E51: =SUM(Լոռի!E51+'Արագածոտն '!E51+'Երևան քաղաք'!E51+'Արարատ և Վայոց ձոր'!E51+Արմավիր!E51+Կոտայք!E51+Շիրակ!E51+Տավուշ!E51+Սյունիք!E51+Գեղարքունիք!E51) -> 0 | F51: =SUM(Լոռի!F51+'Արագածոտն '!F51+'Երևան քաղաք'!F51+'Արարատ և Վայոց ձոր'!F51+Արմավիր!F51+Կոտայք!F51+Շիրակ!F51+Տավուշ!F51+Սյունիք!F51+Գեղարքունիք!F51) -> 0 | G51: =SUM(Լոռի!G51+'Արագածոտն '!G51+'Երևան քաղաք'!G51+'Արարատ և Վայոց ձոր'!G51+Արմավիր!G51+Կոտայք!G51+Շիրակ!G51+Տավուշ!G51+Սյունիք!G51+Գեղարքունիք!G51) -> 0 | H51: =SUM(Լոռի!H51+'Արագածոտն '!H51+'Երևան քաղաք'!H51+'Արարատ և Վայոց ձոր'!H51+Արմավիր!H51+Կոտայք!H51+Շիրակ!H51+Տավուշ!H51+Սյունիք!H51+Գեղարքունիք!H51) -> 0 | I51: =SUM(Լոռի!I51+'Արագածոտն '!I51+'Երևան քաղաք'!I51+'Արարատ և Վայոց ձոր'!I51+Արմավիր!I51+Կոտայք!I51+Շիրակ!I51+Տավուշ!I51+Սյունիք!I51+Գեղարքունիք!I51) -> 0 | J51: =SUM(Լոռի!J51+'Արագածոտն '!J51+'Երևան քաղաք'!J51+'Արարատ և Վայոց ձոր'!J51+Արմավիր!J51+Կոտայք!J51+Շիրակ!J51+Տավուշ!J51+Սյունիք!J51+Գեղարքունիք!J51) -> 0 | K51: =SUM(Լոռի!K51+'Արագածոտն '!K51+'Երևան քաղաք'!K51+'Արարատ և Վայոց ձոր'!K51+Արմավիր!K51+Կոտայք!K51+Շիրակ!K51+Տավուշ!K51+Սյունիք!K51+Գեղարքունիք!K51) -> 0 | ... AB51: =SUM(Լոռի!AB51+'Արագածոտն '!AB51+'Երևան քաղաք'!AB51+'Արարատ և Վայոց ձոր'!AB51+Արմավիր!AB51+Կոտայք!AB51+Շիրակ!AB51+Տավուշ!AB51+Սյունիք!AB51+Գեղարքունիք!AB51) -> 0
A52: 4. | B52: Ընդամենը մարդու և քաղաքացու սահմանադրական իրավունքների և ազատությունների դեմ ուղղված հանցագործությունները | D52: =SUM(Լոռի!D52+'Արագածոտն '!D52+'Երևան քաղաք'!D52+'Արարատ և Վայոց ձոր'!D52+Արմավիր!D52+Կոտայք!D52+Շիրակ!D52+Տավուշ!D52+Սյունիք!D52+Գեղարքունիք!D52) -> 0 | E52: =SUM(Լոռի!E52+'Արագածոտն '!E52+'Երևան քաղաք'!E52+'Արարատ և Վայոց ձոր'!E52+Արմավիր!E52+Կոտայք!E52+Շիրակ!E52+Տավուշ!E52+Սյունիք!E52+Գեղարքունիք!E52) -> 0 | F52: =SUM(Լոռի!F52+'Արագածոտն '!F52+'Երևան քաղաք'!F52+'Արարատ և Վայոց ձոր'!F52+Արմավիր!F52+Կոտայք!F52+Շիրակ!F52+Տավուշ!F52+Սյունիք!F52+Գեղարքունիք!F52) -> 0 | G52: =SUM(Լոռի!G52+'Արագածոտն '!G52+'Երևան քաղաք'!G52+'Արարատ և Վայոց ձոր'!G52+Արմավիր!G52+Կոտայք!G52+Շիրակ!G52+Տավուշ!G52+Սյունիք!G52+Գեղարքունիք!G52) -> 0 | H52: =SUM(Լոռի!H52+'Արագածոտն '!H52+'Երևան քաղաք'!H52+'Արարատ և Վայոց ձոր'!H52+Արմավիր!H52+Կոտայք!H52+Շիրակ!H52+Տավուշ!H52+Սյունիք!H52+Գեղարքունիք!H52) -> 0 | I52: =SUM(Լոռի!I52+'Արագածոտն '!I52+'Երևան քաղաք'!I52+'Արարատ և Վայոց ձոր'!I52+Արմավիր!I52+Կոտայք!I52+Շիրակ!I52+Տավուշ!I52+Սյունիք!I52+Գեղարքունիք!I52) -> 0 | J52: =SUM(Լոռի!J52+'Արագածոտն '!J52+'Երևան քաղաք'!J52+'Արարատ և Վայոց ձոր'!J52+Արմավիր!J52+Կոտայք!J52+Շիրակ!J52+Տավուշ!J52+Սյունիք!J52+Գեղարքունիք!J52) -> 0 | K52: =SUM(Լոռի!K52+'Արագածոտն '!K52+'Երևան քաղաք'!K52+'Արարատ և Վայոց ձոր'!K52+Արմավիր!K52+Կոտայք!K52+Շիրակ!K52+Տավուշ!K52+Սյունիք!K52+Գեղարքունիք!K52) -> 0 | ... AB52: =SUM(Լոռի!AB52+'Արագածոտն '!AB52+'Երևան քաղաք'!AB52+'Արարատ և Վայոց ձոր'!AB52+Արմավիր!AB52+Կոտայք!AB52+Շիրակ!AB52+Տավուշ!AB52+Սյունիք!AB52+Գեղարքունիք!AB52) -> 0
A53: 4.1 | B53: Մարդու և քաղաքացու իրավահավասարությունը խախտելը | C53: 143 | D53: =SUM(Լոռի!D53+'Արագածոտն '!D53+'Երևան քաղաք'!D53+'Արարատ և Վայոց ձոր'!D53+Արմավիր!D53+Կոտայք!D53+Շիրակ!D53+Տավուշ!D53+Սյունիք!D53+Գեղարքունիք!D53) -> 0 | E53: =SUM(Լոռի!E53+'Արագածոտն '!E53+'Երևան քաղաք'!E53+'Արարատ և Վայոց ձոր'!E53+Արմավիր!E53+Կոտայք!E53+Շիրակ!E53+Տավուշ!E53+Սյունիք!E53+Գեղարքունիք!E53) -> 0 | F53: =SUM(Լոռի!F53+'Արագածոտն '!F53+'Երևան քաղաք'!F53+'Արարատ և Վայոց ձոր'!F53+Արմավիր!F53+Կոտայք!F53+Շիրակ!F53+Տավուշ!F53+Սյունիք!F53+Գեղարքունիք!F53) -> 0 | G53: =SUM(Լոռի!G53+'Արագածոտն '!G53+'Երևան քաղաք'!G53+'Արարատ և Վայոց ձոր'!G53+Արմավիր!G53+Կոտայք!G53+Շիրակ!G53+Տավուշ!G53+Սյունիք!G53+Գեղարքունիք!G53) -> 0 | H53: =SUM(Լոռի!H53+'Արագածոտն '!H53+'Երևան քաղաք'!H53+'Արարատ և Վայոց ձոր'!H53+Արմավիր!H53+Կոտայք!H53+Շիրակ!H53+Տավուշ!H53+Սյունիք!H53+Գեղարքունիք!H53) -> 0 | I53: =SUM(Լոռի!I53+'Արագածոտն '!I53+'Երևան քաղաք'!I53+'Արարատ և Վայոց ձոր'!I53+Արմավիր!I53+Կոտայք!I53+Շիրակ!I53+Տավուշ!I53+Սյունիք!I53+Գեղարքունիք!I53) -> 0 | J53: =SUM(Լոռի!J53+'Արագածոտն '!J53+'Երևան քաղաք'!J53+'Արարատ և Վայոց ձոր'!J53+Արմավիր!J53+Կոտայք!J53+Շիրակ!J53+Տավուշ!J53+Սյունիք!J53+Գեղարքունիք!J53) -> 0 | K53: =SUM(Լոռի!K53+'Արագածոտն '!K53+'Երևան քաղաք'!K53+'Արարատ և Վայոց ձոր'!K53+Արմավիր!K53+Կոտայք!K53+Շիրակ!K53+Տավուշ!K53+Սյունիք!K53+Գեղարքունիք!K53) -> 0 | ... AB53: =SUM(Լոռի!AB53+'Արագածոտն '!AB53+'Երևան քաղաք'!AB53+'Արարատ և Վայոց ձոր'!AB53+Արմավիր!AB53+Կոտայք!AB53+Շիրակ!AB53+Տավուշ!AB53+Սյունիք!AB53+Գեղարքունիք!AB53) -> 0
A54: 4.2 | B54: Անձնական կամ ընտանեկան կյանքի մասին տեղեկություններ ապօրինի հավաքելը, պահելը, օգտագործելը կամ տարածելը | C54: 144 | D54: =SUM(Լոռի!D54+'Արագածոտն '!D54+'Երևան քաղաք'!D54+'Արարատ և Վայոց ձոր'!D54+Արմավիր!D54+Կոտայք!D54+Շիրակ!D54+Տավուշ!D54+Սյունիք!D54+Գեղարքունիք!D54) -> 0 | E54: =SUM(Լոռի!E54+'Արագածոտն '!E54+'Երևան քաղաք'!E54+'Արարատ և Վայոց ձոր'!E54+Արմավիր!E54+Կոտայք!E54+Շիրակ!E54+Տավուշ!E54+Սյունիք!E54+Գեղարքունիք!E54) -> 0 | F54: =SUM(Լոռի!F54+'Արագածոտն '!F54+'Երևան քաղաք'!F54+'Արարատ և Վայոց ձոր'!F54+Արմավիր!F54+Կոտայք!F54+Շիրակ!F54+Տավուշ!F54+Սյունիք!F54+Գեղարքունիք!F54) -> 0 | G54: =SUM(Լոռի!G54+'Արագածոտն '!G54+'Երևան քաղաք'!G54+'Արարատ և Վայոց ձոր'!G54+Արմավիր!G54+Կոտայք!G54+Շիրակ!G54+Տավուշ!G54+Սյունիք!G54+Գեղարքունիք!G54) -> 0 | H54: =SUM(Լոռի!H54+'Արագածոտն '!H54+'Երևան քաղաք'!H54+'Արարատ և Վայոց ձոր'!H54+Արմավիր!H54+Կոտայք!H54+Շիրակ!H54+Տավուշ!H54+Սյունիք!H54+Գեղարքունիք!H54) -> 0 | I54: =SUM(Լոռի!I54+'Արագածոտն '!I54+'Երևան քաղաք'!I54+'Արարատ և Վայոց ձոր'!I54+Արմավիր!I54+Կոտայք!I54+Շիրակ!I54+Տավուշ!I54+Սյունիք!I54+Գեղարքունիք!I54) -> 0 | J54: =SUM(Լոռի!J54+'Արագածոտն '!J54+'Երևան քաղաք'!J54+'Արարատ և Վայոց ձոր'!J54+Արմավիր!J54+Կոտայք!J54+Շիրակ!J54+Տավուշ!J54+Սյունիք!J54+Գեղարքունիք!J54) -> 0 | K54: =SUM(Լոռի!K54+'Արագածոտն '!K54+'Երևան քաղաք'!K54+'Արարատ և Վայոց ձոր'!K54+Արմավիր!K54+Կոտայք!K54+Շիրակ!K54+Տավուշ!K54+Սյունիք!K54+Գեղարքունիք!K54) -> 0 | ... AB54: =SUM(Լոռի!AB54+'Արագածոտն '!AB54+'Երևան քաղաք'!AB54+'Արարատ և Վայոց ձոր'!AB54+Արմավիր!AB54+Կոտայք!AB54+Շիրակ!AB54+Տավուշ!AB54+Սյունիք!AB54+Գեղարքունիք!AB54) -> 0
A55: 4.3 | B55: Բժշկական գաղտնիքը հրապարակելը | C55: 145 | D55: =SUM(Լոռի!D55+'Արագածոտն '!D55+'Երևան քաղաք'!D55+'Արարատ և Վայոց ձոր'!D55+Արմավիր!D55+Կոտայք!D55+Շիրակ!D55+Տավուշ!D55+Սյունիք!D55+Գեղարքունիք!D55) -> 0 | E55: =SUM(Լոռի!E55+'Արագածոտն '!E55+'Երևան քաղաք'!E55+'Արարատ և Վայոց ձոր'!E55+Արմավիր!E55+Կոտայք!E55+Շիրակ!E55+Տավուշ!E55+Սյունիք!E55+Գեղարքունիք!E55) -> 0 | F55: =SUM(Լոռի!F55+'Արագածոտն '!F55+'Երևան քաղաք'!F55+'Արարատ և Վայոց ձոր'!F55+Արմավիր!F55+Կոտայք!F55+Շիրակ!F55+Տավուշ!F55+Սյունիք!F55+Գեղարքունիք!F55) -> 0 | G55: =SUM(Լոռի!G55+'Արագածոտն '!G55+'Երևան քաղաք'!G55+'Արարատ և Վայոց ձոր'!G55+Արմավիր!G55+Կոտայք!G55+Շիրակ!G55+Տավուշ!G55+Սյունիք!G55+Գեղարքունիք!G55) -> 0 | H55: =SUM(Լոռի!H55+'Արագածոտն '!H55+'Երևան քաղաք'!H55+'Արարատ և Վայոց ձոր'!H55+Արմավիր!H55+Կոտայք!H55+Շիրակ!H55+Տավուշ!H55+Սյունիք!H55+Գեղարքունիք!H55) -> 0 | I55: =SUM(Լոռի!I55+'Արագածոտն '!I55+'Երևան քաղաք'!I55+'Արարատ և Վայոց ձոր'!I55+Արմավիր!I55+Կոտայք!I55+Շիրակ!I55+Տավուշ!I55+Սյունիք!I55+Գեղարքունիք!I55) -> 0 | J55: =SUM(Լոռի!J55+'Արագածոտն '!J55+'Երևան քաղաք'!J55+'Արարատ և Վայոց ձոր'!J55+Արմավիր!J55+Կոտայք!J55+Շիրակ!J55+Տավուշ!J55+Սյունիք!J55+Գեղարքունիք!J55) -> 0 | K55: =SUM(Լոռի!K55+'Արագածոտն '!K55+'Երևան քաղաք'!K55+'Արարատ և Վայոց ձոր'!K55+Արմավիր!K55+Կոտայք!K55+Շիրակ!K55+Տավուշ!K55+Սյունիք!K55+Գեղարքունիք!K55) -> 0 | ... AB55: =SUM(Լոռի!AB55+'Արագածոտն '!AB55+'Երևան քաղաք'!AB55+'Արարատ և Վայոց ձոր'!AB55+Արմավիր!AB55+Կոտայք!AB55+Շիրակ!AB55+Տավուշ!AB55+Սյունիք!AB55+Գեղարքունիք!AB55) -> 0
A56: 4.4 | B56: Նամակագրության, հեռախոսային խոսակցությունների, փոստային, հեռագրական կամ այլ հաղորդումների գաղտնիությունը խախտելը | C56: 146 | D56: =SUM(Լոռի!D56+'Արագածոտն '!D56+'Երևան քաղաք'!D56+'Արարատ և Վայոց ձոր'!D56+Արմավիր!D56+Կոտայք!D56+Շիրակ!D56+Տավուշ!D56+Սյունիք!D56+Գեղարքունիք!D56) -> 0 | E56: =SUM(Լոռի!E56+'Արագածոտն '!E56+'Երևան քաղաք'!E56+'Արարատ և Վայոց ձոր'!E56+Արմավիր!E56+Կոտայք!E56+Շիրակ!E56+Տավուշ!E56+Սյունիք!E56+Գեղարքունիք!E56) -> 0 | F56: =SUM(Լոռի!F56+'Արագածոտն '!F56+'Երևան քաղաք'!F56+'Արարատ և Վայոց ձոր'!F56+Արմավիր!F56+Կոտայք!F56+Շիրակ!F56+Տավուշ!F56+Սյունիք!F56+Գեղարքունիք!F56) -> 0 | G56: =SUM(Լոռի!G56+'Արագածոտն '!G56+'Երևան քաղաք'!G56+'Արարատ և Վայոց ձոր'!G56+Արմավիր!G56+Կոտայք!G56+Շիրակ!G56+Տավուշ!G56+Սյունիք!G56+Գեղարքունիք!G56) -> 0 | H56: =SUM(Լոռի!H56+'Արագածոտն '!H56+'Երևան քաղաք'!H56+'Արարատ և Վայոց ձոր'!H56+Արմավիր!H56+Կոտայք!H56+Շիրակ!H56+Տավուշ!H56+Սյունիք!H56+Գեղարքունիք!H56) -> 0 | I56: =SUM(Լոռի!I56+'Արագածոտն '!I56+'Երևան քաղաք'!I56+'Արարատ և Վայոց ձոր'!I56+Արմավիր!I56+Կոտայք!I56+Շիրակ!I56+Տավուշ!I56+Սյունիք!I56+Գեղարքունիք!I56) -> 0 | J56: =SUM(Լոռի!J56+'Արագածոտն '!J56+'Երևան քաղաք'!J56+'Արարատ և Վայոց ձոր'!J56+Արմավիր!J56+Կոտայք!J56+Շիրակ!J56+Տավուշ!J56+Սյունիք!J56+Գեղարքունիք!J56) -> 0 | K56: =SUM(Լոռի!K56+'Արագածոտն '!K56+'Երևան քաղաք'!K56+'Արարատ և Վայոց ձոր'!K56+Արմավիր!K56+Կոտայք!K56+Շիրակ!K56+Տավուշ!K56+Սյունիք!K56+Գեղարքունիք!K56) -> 0 | ... AB56: =SUM(Լոռի!AB56+'Արագածոտն '!AB56+'Երևան քաղաք'!AB56+'Արարատ և Վայոց ձոր'!AB56+Արմավիր!AB56+Կոտայք!AB56+Շիրակ!AB56+Տավուշ!AB56+Սյունիք!AB56+Գեղարքունիք!AB56) -> 0
A57: 4.5 | B57: Բնակարանի անձեռնմխելիությունը խախտելը | C57: 147 | D57: =SUM(Լոռի!D57+'Արագածոտն '!D57+'Երևան քաղաք'!D57+'Արարատ և Վայոց ձոր'!D57+Արմավիր!D57+Կոտայք!D57+Շիրակ!D57+Տավուշ!D57+Սյունիք!D57+Գեղարքունիք!D57) -> 0 | E57: =SUM(Լոռի!E57+'Արագածոտն '!E57+'Երևան քաղաք'!E57+'Արարատ և Վայոց ձոր'!E57+Արմավիր!E57+Կոտայք!E57+Շիրակ!E57+Տավուշ!E57+Սյունիք!E57+Գեղարքունիք!E57) -> 0 | F57: =SUM(Լոռի!F57+'Արագածոտն '!F57+'Երևան քաղաք'!F57+'Արարատ և Վայոց ձոր'!F57+Արմավիր!F57+Կոտայք!F57+Շիրակ!F57+Տավուշ!F57+Սյունիք!F57+Գեղարքունիք!F57) -> 0 | G57: =SUM(Լոռի!G57+'Արագածոտն '!G57+'Երևան քաղաք'!G57+'Արարատ և Վայոց ձոր'!G57+Արմավիր!G57+Կոտայք!G57+Շիրակ!G57+Տավուշ!G57+Սյունիք!G57+Գեղարքունիք!G57) -> 0 | H57: =SUM(Լոռի!H57+'Արագածոտն '!H57+'Երևան քաղաք'!H57+'Արարատ և Վայոց ձոր'!H57+Արմավիր!H57+Կոտայք!H57+Շիրակ!H57+Տավուշ!H57+Սյունիք!H57+Գեղարքունիք!H57) -> 0 | I57: =SUM(Լոռի!I57+'Արագածոտն '!I57+'Երևան քաղաք'!I57+'Արարատ և Վայոց ձոր'!I57+Արմավիր!I57+Կոտայք!I57+Շիրակ!I57+Տավուշ!I57+Սյունիք!I57+Գեղարքունիք!I57) -> 0 | J57: =SUM(Լոռի!J57+'Արագածոտն '!J57+'Երևան քաղաք'!J57+'Արարատ և Վայոց ձոր'!J57+Արմավիր!J57+Կոտայք!J57+Շիրակ!J57+Տավուշ!J57+Սյունիք!J57+Գեղարքունիք!J57) -> 0 | K57: =SUM(Լոռի!K57+'Արագածոտն '!K57+'Երևան քաղաք'!K57+'Արարատ և Վայոց ձոր'!K57+Արմավիր!K57+Կոտայք!K57+Շիրակ!K57+Տավուշ!K57+Սյունիք!K57+Գեղարքունիք!K57) -> 0 | ... AB57: =SUM(Լոռի!AB57+'Արագածոտն '!AB57+'Երևան քաղաք'!AB57+'Արարատ և Վայոց ձոր'!AB57+Արմավիր!AB57+Կոտայք!AB57+Շիրակ!AB57+Տավուշ!AB57+Սյունիք!AB57+Գեղարքունիք!AB57) -> 0
A58: 4.6 | B58: Անձին տեղեկություն ներկայացնելուց հրաժարվելը | C58: 148 | D58: =SUM(Լոռի!D58+'Արագածոտն '!D58+'Երևան քաղաք'!D58+'Արարատ և Վայոց ձոր'!D58+Արմավիր!D58+Կոտայք!D58+Շիրակ!D58+Տավուշ!D58+Սյունիք!D58+Գեղարքունիք!D58) -> 0 | E58: =SUM(Լոռի!E58+'Արագածոտն '!E58+'Երևան քաղաք'!E58+'Արարատ և Վայոց ձոր'!E58+Արմավիր!E58+Կոտայք!E58+Շիրակ!E58+Տավուշ!E58+Սյունիք!E58+Գեղարքունիք!E58) -> 0 | F58: =SUM(Լոռի!F58+'Արագածոտն '!F58+'Երևան քաղաք'!F58+'Արարատ և Վայոց ձոր'!F58+Արմավիր!F58+Կոտայք!F58+Շիրակ!F58+Տավուշ!F58+Սյունիք!F58+Գեղարքունիք!F58) -> 0 | G58: =SUM(Լոռի!G58+'Արագածոտն '!G58+'Երևան քաղաք'!G58+'Արարատ և Վայոց ձոր'!G58+Արմավիր!G58+Կոտայք!G58+Շիրակ!G58+Տավուշ!G58+Սյունիք!G58+Գեղարքունիք!G58) -> 0 | H58: =SUM(Լոռի!H58+'Արագածոտն '!H58+'Երևան քաղաք'!H58+'Արարատ և Վայոց ձոր'!H58+Արմավիր!H58+Կոտայք!H58+Շիրակ!H58+Տավուշ!H58+Սյունիք!H58+Գեղարքունիք!H58) -> 0 | I58: =SUM(Լոռի!I58+'Արագածոտն '!I58+'Երևան քաղաք'!I58+'Արարատ և Վայոց ձոր'!I58+Արմավիր!I58+Կոտայք!I58+Շիրակ!I58+Տավուշ!I58+Սյունիք!I58+Գեղարքունիք!I58) -> 0 | J58: =SUM(Լոռի!J58+'Արագածոտն '!J58+'Երևան քաղաք'!J58+'Արարատ և Վայոց ձոր'!J58+Արմավիր!J58+Կոտայք!J58+Շիրակ!J58+Տավուշ!J58+Սյունիք!J58+Գեղարքունիք!J58) -> 0 | K58: =SUM(Լոռի!K58+'Արագածոտն '!K58+'Երևան քաղաք'!K58+'Արարատ և Վայոց ձոր'!K58+Արմավիր!K58+Կոտայք!K58+Շիրակ!K58+Տավուշ!K58+Սյունիք!K58+Գեղարքունիք!K58) -> 0 | ... AB58: =SUM(Լոռի!AB58+'Արագածոտն '!AB58+'Երևան քաղաք'!AB58+'Արարատ և Վայոց ձոր'!AB58+Արմավիր!AB58+Կոտայք!AB58+Շիրակ!AB58+Տավուշ!AB58+Սյունիք!AB58+Գեղարքունիք!AB58) -> 0
A59: 4.7 | B59: Ընտրական իրավունքի իրականացմանը, ընտրական հանձնաժողովների աշխատանքներին կամ ընտրությանը մասնակցող անձանց լիազորությունների իրականացմանը խոչընդոտելը | C59: 149 | D59: =SUM(Լոռի!D59+'Արագածոտն '!D59+'Երևան քաղաք'!D59+'Արարատ և Վայոց ձոր'!D59+Արմավիր!D59+Կոտայք!D59+Շիրակ!D59+Տավուշ!D59+Սյունիք!D59+Գեղարքունիք!D59) -> 0 | E59: =SUM(Լոռի!E59+'Արագածոտն '!E59+'Երևան քաղաք'!E59+'Արարատ և Վայոց ձոր'!E59+Արմավիր!E59+Կոտայք!E59+Շիրակ!E59+Տավուշ!E59+Սյունիք!E59+Գեղարքունիք!E59) -> 0 | F59: =SUM(Լոռի!F59+'Արագածոտն '!F59+'Երևան քաղաք'!F59+'Արարատ և Վայոց ձոր'!F59+Արմավիր!F59+Կոտայք!F59+Շիրակ!F59+Տավուշ!F59+Սյունիք!F59+Գեղարքունիք!F59) -> 0 | G59: =SUM(Լոռի!G59+'Արագածոտն '!G59+'Երևան քաղաք'!G59+'Արարատ և Վայոց ձոր'!G59+Արմավիր!G59+Կոտայք!G59+Շիրակ!G59+Տավուշ!G59+Սյունիք!G59+Գեղարքունիք!G59) -> 0 | H59: =SUM(Լոռի!H59+'Արագածոտն '!H59+'Երևան քաղաք'!H59+'Արարատ և Վայոց ձոր'!H59+Արմավիր!H59+Կոտայք!H59+Շիրակ!H59+Տավուշ!H59+Սյունիք!H59+Գեղարքունիք!H59) -> 0 | I59: =SUM(Լոռի!I59+'Արագածոտն '!I59+'Երևան քաղաք'!I59+'Արարատ և Վայոց ձոր'!I59+Արմավիր!I59+Կոտայք!I59+Շիրակ!I59+Տավուշ!I59+Սյունիք!I59+Գեղարքունիք!I59) -> 0 | J59: =SUM(Լոռի!J59+'Արագածոտն '!J59+'Երևան քաղաք'!J59+'Արարատ և Վայոց ձոր'!J59+Արմավիր!J59+Կոտայք!J59+Շիրակ!J59+Տավուշ!J59+Սյունիք!J59+Գեղարքունիք!J59) -> 0 | K59: =SUM(Լոռի!K59+'Արագածոտն '!K59+'Երևան քաղաք'!K59+'Արարատ և Վայոց ձոր'!K59+Արմավիր!K59+Կոտայք!K59+Շիրակ!K59+Տավուշ!K59+Սյունիք!K59+Գեղարքունիք!K59) -> 0 | ... AB59: =SUM(Լոռի!AB59+'Արագածոտն '!AB59+'Երևան քաղաք'!AB59+'Արարատ և Վայոց ձոր'!AB59+Արմավիր!AB59+Կոտայք!AB59+Շիրակ!AB59+Տավուշ!AB59+Սյունիք!AB59+Գեղարքունիք!AB59) -> 0
A60: 4.8 | B60: Ընտրությունների կամ քվեարկության արդյունքները կեղծելը | C60: 150 | D60: =SUM(Լոռի!D60+'Արագածոտն '!D60+'Երևան քաղաք'!D60+'Արարատ և Վայոց ձոր'!D60+Արմավիր!D60+Կոտայք!D60+Շիրակ!D60+Տավուշ!D60+Սյունիք!D60+Գեղարքունիք!D60) -> 0 | E60: =SUM(Լոռի!E60+'Արագածոտն '!E60+'Երևան քաղաք'!E60+'Արարատ և Վայոց ձոր'!E60+Արմավիր!E60+Կոտայք!E60+Շիրակ!E60+Տավուշ!E60+Սյունիք!E60+Գեղարքունիք!E60) -> 0 | F60: =SUM(Լոռի!F60+'Արագածոտն '!F60+'Երևան քաղաք'!F60+'Արարատ և Վայոց ձոր'!F60+Արմավիր!F60+Կոտայք!F60+Շիրակ!F60+Տավուշ!F60+Սյունիք!F60+Գեղարքունիք!F60) -> 0 | G60: =SUM(Լոռի!G60+'Արագածոտն '!G60+'Երևան քաղաք'!G60+'Արարատ և Վայոց ձոր'!G60+Արմավիր!G60+Կոտայք!G60+Շիրակ!G60+Տավուշ!G60+Սյունիք!G60+Գեղարքունիք!G60) -> 0 | H60: =SUM(Լոռի!H60+'Արագածոտն '!H60+'Երևան քաղաք'!H60+'Արարատ և Վայոց ձոր'!H60+Արմավիր!H60+Կոտայք!H60+Շիրակ!H60+Տավուշ!H60+Սյունիք!H60+Գեղարքունիք!H60) -> 0 | I60: =SUM(Լոռի!I60+'Արագածոտն '!I60+'Երևան քաղաք'!I60+'Արարատ և Վայոց ձոր'!I60+Արմավիր!I60+Կոտայք!I60+Շիրակ!I60+Տավուշ!I60+Սյունիք!I60+Գեղարքունիք!I60) -> 0 | J60: =SUM(Լոռի!J60+'Արագածոտն '!J60+'Երևան քաղաք'!J60+'Արարատ և Վայոց ձոր'!J60+Արմավիր!J60+Կոտայք!J60+Շիրակ!J60+Տավուշ!J60+Սյունիք!J60+Գեղարքունիք!J60) -> 0 | K60: =SUM(Լոռի!K60+'Արագածոտն '!K60+'Երևան քաղաք'!K60+'Արարատ և Վայոց ձոր'!K60+Արմավիր!K60+Կոտայք!K60+Շիրակ!K60+Տավուշ!K60+Սյունիք!K60+Գեղարքունիք!K60) -> 0 | ... AB60: =SUM(Լոռի!AB60+'Արագածոտն '!AB60+'Երևան քաղաք'!AB60+'Արարատ և Վայոց ձոր'!AB60+Արմավիր!AB60+Կոտայք!AB60+Շիրակ!AB60+Տավուշ!AB60+Սյունիք!AB60+Գեղարքունիք!AB60) -> 0
A61: 4.10 | B61: Ընտրողների ցուցակները կազմելու, դրանք քաղաքացիներին և կուսակցություններին տրամադրելու կամ հրապարակելու կարգը խախտելը | C61: 152 | D61: =SUM(Լոռի!D61+'Արագածոտն '!D61+'Երևան քաղաք'!D61+'Արարատ և Վայոց ձոր'!D61+Արմավիր!D61+Կոտայք!D61+Շիրակ!D61+Տավուշ!D61+Սյունիք!D61+Գեղարքունիք!D61) -> 0 | E61: =SUM(Լոռի!E61+'Արագածոտն '!E61+'Երևան քաղաք'!E61+'Արարատ և Վայոց ձոր'!E61+Արմավիր!E61+Կոտայք!E61+Շիրակ!E61+Տավուշ!E61+Սյունիք!E61+Գեղարքունիք!E61) -> 0 | F61: =SUM(Լոռի!F61+'Արագածոտն '!F61+'Երևան քաղաք'!F61+'Արարատ և Վայոց ձոր'!F61+Արմավիր!F61+Կոտայք!F61+Շիրակ!F61+Տավուշ!F61+Սյունիք!F61+Գեղարքունիք!F61) -> 0 | G61: =SUM(Լոռի!G61+'Արագածոտն '!G61+'Երևան քաղաք'!G61+'Արարատ և Վայոց ձոր'!G61+Արմավիր!G61+Կոտայք!G61+Շիրակ!G61+Տավուշ!G61+Սյունիք!G61+Գեղարքունիք!G61) -> 0 | H61: =SUM(Լոռի!H61+'Արագածոտն '!H61+'Երևան քաղաք'!H61+'Արարատ և Վայոց ձոր'!H61+Արմավիր!H61+Կոտայք!H61+Շիրակ!H61+Տավուշ!H61+Սյունիք!H61+Գեղարքունիք!H61) -> 0 | I61: =SUM(Լոռի!I61+'Արագածոտն '!I61+'Երևան քաղաք'!I61+'Արարատ և Վայոց ձոր'!I61+Արմավիր!I61+Կոտայք!I61+Շիրակ!I61+Տավուշ!I61+Սյունիք!I61+Գեղարքունիք!I61) -> 0 | J61: =SUM(Լոռի!J61+'Արագածոտն '!J61+'Երևան քաղաք'!J61+'Արարատ և Վայոց ձոր'!J61+Արմավիր!J61+Կոտայք!J61+Շիրակ!J61+Տավուշ!J61+Սյունիք!J61+Գեղարքունիք!J61) -> 0 | K61: =SUM(Լոռի!K61+'Արագածոտն '!K61+'Երևան քաղաք'!K61+'Արարատ և Վայոց ձոր'!K61+Արմավիր!K61+Կոտայք!K61+Շիրակ!K61+Տավուշ!K61+Սյունիք!K61+Գեղարքունիք!K61) -> 0 | ... AB61: =SUM(Լոռի!AB61+'Արագածոտն '!AB61+'Երևան քաղաք'!AB61+'Արարատ և Վայոց ձոր'!AB61+Արմավիր!AB61+Կոտայք!AB61+Շիրակ!AB61+Տավուշ!AB61+Սյունիք!AB61+Գեղարքունիք!AB61) -> 0
A62: 4.11 | B62: Մեկից ավելի անգամ կամ այլ անձի փոխարեն քվեարկելը | C62: 153 | D62: =SUM(Լոռի!D62+'Արագածոտն '!D62+'Երևան քաղաք'!D62+'Արարատ և Վայոց ձոր'!D62+Արմավիր!D62+Կոտայք!D62+Շիրակ!D62+Տավուշ!D62+Սյունիք!D62+Գեղարքունիք!D62) -> 0 | E62: =SUM(Լոռի!E62+'Արագածոտն '!E62+'Երևան քաղաք'!E62+'Արարատ և Վայոց ձոր'!E62+Արմավիր!E62+Կոտայք!E62+Շիրակ!E62+Տավուշ!E62+Սյունիք!E62+Գեղարքունիք!E62) -> 0 | F62: =SUM(Լոռի!F62+'Արագածոտն '!F62+'Երևան քաղաք'!F62+'Արարատ և Վայոց ձոր'!F62+Արմավիր!F62+Կոտայք!F62+Շիրակ!F62+Տավուշ!F62+Սյունիք!F62+Գեղարքունիք!F62) -> 0 | G62: =SUM(Լոռի!G62+'Արագածոտն '!G62+'Երևան քաղաք'!G62+'Արարատ և Վայոց ձոր'!G62+Արմավիր!G62+Կոտայք!G62+Շիրակ!G62+Տավուշ!G62+Սյունիք!G62+Գեղարքունիք!G62) -> 0 | H62: =SUM(Լոռի!H62+'Արագածոտն '!H62+'Երևան քաղաք'!H62+'Արարատ և Վայոց ձոր'!H62+Արմավիր!H62+Կոտայք!H62+Շիրակ!H62+Տավուշ!H62+Սյունիք!H62+Գեղարքունիք!H62) -> 0 | I62: =SUM(Լոռի!I62+'Արագածոտն '!I62+'Երևան քաղաք'!I62+'Արարատ և Վայոց ձոր'!I62+Արմավիր!I62+Կոտայք!I62+Շիրակ!I62+Տավուշ!I62+Սյունիք!I62+Գեղարքունիք!I62) -> 0 | J62: =SUM(Լոռի!J62+'Արագածոտն '!J62+'Երևան քաղաք'!J62+'Արարատ և Վայոց ձոր'!J62+Արմավիր!J62+Կոտայք!J62+Շիրակ!J62+Տավուշ!J62+Սյունիք!J62+Գեղարքունիք!J62) -> 0 | K62: =SUM(Լոռի!K62+'Արագածոտն '!K62+'Երևան քաղաք'!K62+'Արարատ և Վայոց ձոր'!K62+Արմավիր!K62+Կոտայք!K62+Շիրակ!K62+Տավուշ!K62+Սյունիք!K62+Գեղարքունիք!K62) -> 0 | ... AB62: =SUM(Լոռի!AB62+'Արագածոտն '!AB62+'Երևան քաղաք'!AB62+'Արարատ և Վայոց ձոր'!AB62+Արմավիր!AB62+Կոտայք!AB62+Շիրակ!AB62+Տավուշ!AB62+Սյունիք!AB62+Գեղարքունիք!AB62) -> 0
A63: 4.12 | B63: Քվեարկության գաղտնիությունը խախտելը | C63: 154 | D63: =SUM(Լոռի!D63+'Արագածոտն '!D63+'Երևան քաղաք'!D63+'Արարատ և Վայոց ձոր'!D63+Արմավիր!D63+Կոտայք!D63+Շիրակ!D63+Տավուշ!D63+Սյունիք!D63+Գեղարքունիք!D63) -> 0 | E63: =SUM(Լոռի!E63+'Արագածոտն '!E63+'Երևան քաղաք'!E63+'Արարատ և Վայոց ձոր'!E63+Արմավիր!E63+Կոտայք!E63+Շիրակ!E63+Տավուշ!E63+Սյունիք!E63+Գեղարքունիք!E63) -> 0 | F63: =SUM(Լոռի!F63+'Արագածոտն '!F63+'Երևան քաղաք'!F63+'Արարատ և Վայոց ձոր'!F63+Արմավիր!F63+Կոտայք!F63+Շիրակ!F63+Տավուշ!F63+Սյունիք!F63+Գեղարքունիք!F63) -> 0 | G63: =SUM(Լոռի!G63+'Արագածոտն '!G63+'Երևան քաղաք'!G63+'Արարատ և Վայոց ձոր'!G63+Արմավիր!G63+Կոտայք!G63+Շիրակ!G63+Տավուշ!G63+Սյունիք!G63+Գեղարքունիք!G63) -> 0 | H63: =SUM(Լոռի!H63+'Արագածոտն '!H63+'Երևան քաղաք'!H63+'Արարատ և Վայոց ձոր'!H63+Արմավիր!H63+Կոտայք!H63+Շիրակ!H63+Տավուշ!H63+Սյունիք!H63+Գեղարքունիք!H63) -> 0 | I63: =SUM(Լոռի!I63+'Արագածոտն '!I63+'Երևան քաղաք'!I63+'Արարատ և Վայոց ձոր'!I63+Արմավիր!I63+Կոտայք!I63+Շիրակ!I63+Տավուշ!I63+Սյունիք!I63+Գեղարքունիք!I63) -> 0 | J63: =SUM(Լոռի!J63+'Արագածոտն '!J63+'Երևան քաղաք'!J63+'Արարատ և Վայոց ձոր'!J63+Արմավիր!J63+Կոտայք!J63+Շիրակ!J63+Տավուշ!J63+Սյունիք!J63+Գեղարքունիք!J63) -> 0 | K63: =SUM(Լոռի!K63+'Արագածոտն '!K63+'Երևան քաղաք'!K63+'Արարատ և Վայոց ձոր'!K63+Արմավիր!K63+Կոտայք!K63+Շիրակ!K63+Տավուշ!K63+Սյունիք!K63+Գեղարքունիք!K63) -> 0 | ... AB63: =SUM(Լոռի!AB63+'Արագածոտն '!AB63+'Երևան քաղաք'!AB63+'Արարատ և Վայոց ձոր'!AB63+Արմավիր!AB63+Կոտայք!AB63+Շիրակ!AB63+Տավուշ!AB63+Սյունիք!AB63+Գեղարքունիք!AB63) -> 0
A64: 4.13 | B64: Կեղծ ընտրական քվեաթերթիկներ կամ քվեարկության ծրարներ, դրոշմանիշեր, կտրոններ պատրաստելը կամ ակնհայտ կեղծ ընտրական քվեաթերթիկներ կամ քվեարկության ծրարներ, դրոշմանիշեր, կտրոններ հանձնելը կամ իրացնելը | C64: 154.1 | D64: =SUM(Լոռի!D64+'Արագածոտն '!D64+'Երևան քաղաք'!D64+'Արարատ և Վայոց ձոր'!D64+Արմավիր!D64+Կոտայք!D64+Շիրակ!D64+Տավուշ!D64+Սյունիք!D64+Գեղարքունիք!D64) -> 0 | E64: =SUM(Լոռի!E64+'Արագածոտն '!E64+'Երևան քաղաք'!E64+'Արարատ և Վայոց ձոր'!E64+Արմավիր!E64+Կոտայք!E64+Շիրակ!E64+Տավուշ!E64+Սյունիք!E64+Գեղարքունիք!E64) -> 0 | F64: =SUM(Լոռի!F64+'Արագածոտն '!F64+'Երևան քաղաք'!F64+'Արարատ և Վայոց ձոր'!F64+Արմավիր!F64+Կոտայք!F64+Շիրակ!F64+Տավուշ!F64+Սյունիք!F64+Գեղարքունիք!F64) -> 0 | G64: =SUM(Լոռի!G64+'Արագածոտն '!G64+'Երևան քաղաք'!G64+'Արարատ և Վայոց ձոր'!G64+Արմավիր!G64+Կոտայք!G64+Շիրակ!G64+Տավուշ!G64+Սյունիք!G64+Գեղարքունիք!G64) -> 0 | H64: =SUM(Լոռի!H64+'Արագածոտն '!H64+'Երևան քաղաք'!H64+'Արարատ և Վայոց ձոր'!H64+Արմավիր!H64+Կոտայք!H64+Շիրակ!H64+Տավուշ!H64+Սյունիք!H64+Գեղարքունիք!H64) -> 0 | I64: =SUM(Լոռի!I64+'Արագածոտն '!I64+'Երևան քաղաք'!I64+'Արարատ և Վայոց ձոր'!I64+Արմավիր!I64+Կոտայք!I64+Շիրակ!I64+Տավուշ!I64+Սյունիք!I64+Գեղարքունիք!I64) -> 0 | J64: =SUM(Լոռի!J64+'Արագածոտն '!J64+'Երևան քաղաք'!J64+'Արարատ և Վայոց ձոր'!J64+Արմավիր!J64+Կոտայք!J64+Շիրակ!J64+Տավուշ!J64+Սյունիք!J64+Գեղարքունիք!J64) -> 0 | K64: =SUM(Լոռի!K64+'Արագածոտն '!K64+'Երևան քաղաք'!K64+'Արարատ և Վայոց ձոր'!K64+Արմավիր!K64+Կոտայք!K64+Շիրակ!K64+Տավուշ!K64+Սյունիք!K64+Գեղարքունիք!K64) -> 0 | ... AB64: =SUM(Լոռի!AB64+'Արագածոտն '!AB64+'Երևան քաղաք'!AB64+'Արարատ և Վայոց ձոր'!AB64+Արմավիր!AB64+Կոտայք!AB64+Շիրակ!AB64+Տավուշ!AB64+Սյունիք!AB64+Գեղարքունիք!AB64) -> 0
... A80: 4.27 | B80: Լրագրողի մասնագիտական օրինական գործողությանը խոչընդոտելը | C80: 164 | D80: =SUM(Լոռի!D80+'Արագածոտն '!D80+'Երևան քաղաք'!D80+'Արարատ և Վայոց ձոր'!D80+Արմավիր!D80+Կոտայք!D80+Շիրակ!D80+Տավուշ!D80+Սյունիք!D80+Գեղարքունիք!D80) -> 0 | E80: =SUM(Լոռի!E80+'Արագածոտն '!E80+'Երևան քաղաք'!E80+'Արարատ և Վայոց ձոր'!E80+Արմավիր!E80+Կոտայք!E80+Շիրակ!E80+Տավուշ!E80+Սյունիք!E80+Գեղարքունիք!E80) -> 0 | F80: =SUM(Լոռի!F80+'Արագածոտն '!F80+'Երևան քաղաք'!F80+'Արարատ և Վայոց ձոր'!F80+Արմավիր!F80+Կոտայք!F80+Շիրակ!F80+Տավուշ!F80+Սյունիք!F80+Գեղարքունիք!F80) -> 0 | G80: =SUM(Լոռի!G80+'Արագածոտն '!G80+'Երևան քաղաք'!G80+'Արարատ և Վայոց ձոր'!G80+Արմավիր!G80+Կոտայք!G80+Շիրակ!G80+Տավուշ!G80+Սյունիք!G80+Գեղարքունիք!G80) -> 0 | H80: =SUM(Լոռի!H80+'Արագածոտն '!H80+'Երևան քաղաք'!H80+'Արարատ և Վայոց ձոր'!H80+Արմավիր!H80+Կոտայք!H80+Շիրակ!H80+Տավուշ!H80+Սյունիք!H80+Գեղարքունիք!H80) -> 0 | I80: =SUM(Լոռի!I80+'Արագածոտն '!I80+'Երևան քաղաք'!I80+'Արարատ և Վայոց ձոր'!I80+Արմավիր!I80+Կոտայք!I80+Շիրակ!I80+Տավուշ!I80+Սյունիք!I80+Գեղարքունիք!I80) -> 0 | J80: =SUM(Լոռի!J80+'Արագածոտն '!J80+'Երևան քաղաք'!J80+'Արարատ և Վայոց ձոր'!J80+Արմավիր!J80+Կոտայք!J80+Շիրակ!J80+Տավուշ!J80+Սյունիք!J80+Գեղարքունիք!J80) -> 0 | K80: =SUM(Լոռի!K80+'Արագածոտն '!K80+'Երևան քաղաք'!K80+'Արարատ և Վայոց ձոր'!K80+Արմավիր!K80+Կոտայք!K80+Շիրակ!K80+Տավուշ!K80+Սյունիք!K80+Գեղարքունիք!K80) -> 0 | ... AB80: =SUM(Լոռի!AB80+'Արագածոտն '!AB80+'Երևան քաղաք'!AB80+'Արարատ և Վայոց ձոր'!AB80+Արմավիր!AB80+Կոտայք!AB80+Շիրակ!AB80+Տավուշ!AB80+Սյունիք!AB80+Գեղարքունիք!AB80) -> 0
A81: 4.28 | B81: Այլ հանցագործություններ | D81: =SUM(Լոռի!D81+'Արագածոտն '!D81+'Երևան քաղաք'!D81+'Արարատ և Վայոց ձոր'!D81+Արմավիր!D81+Կոտայք!D81+Շիրակ!D81+Տավուշ!D81+Սյունիք!D81+Գեղարքունիք!D81) -> 0 | E81: =SUM(Լոռի!E81+'Արագածոտն '!E81+'Երևան քաղաք'!E81+'Արարատ և Վայոց ձոր'!E81+Արմավիր!E81+Կոտայք!E81+Շիրակ!E81+Տավուշ!E81+Սյունիք!E81+Գեղարքունիք!E81) -> 0 | F81: =SUM(Լոռի!F81+'Արագածոտն '!F81+'Երևան քաղաք'!F81+'Արարատ և Վայոց ձոր'!F81+Արմավիր!F81+Կոտայք!F81+Շիրակ!F81+Տավուշ!F81+Սյունիք!F81+Գեղարքունիք!F81) -> 0 | G81: =SUM(Լոռի!G81+'Արագածոտն '!G81+'Երևան քաղաք'!G81+'Արարատ և Վայոց ձոր'!G81+Արմավիր!G81+Կոտայք!G81+Շիրակ!G81+Տավուշ!G81+Սյունիք!G81+Գեղարքունիք!G81) -> 0 | H81: =SUM(Լոռի!H81+'Արագածոտն '!H81+'Երևան քաղաք'!H81+'Արարատ և Վայոց ձոր'!H81+Արմավիր!H81+Կոտայք!H81+Շիրակ!H81+Տավուշ!H81+Սյունիք!H81+Գեղարքունիք!H81) -> 0 | I81: =SUM(Լոռի!I81+'Արագածոտն '!I81+'Երևան քաղաք'!I81+'Արարատ և Վայոց ձոր'!I81+Արմավիր!I81+Կոտայք!I81+Շիրակ!I81+Տավուշ!I81+Սյունիք!I81+Գեղարքունիք!I81) -> 0 | J81: =SUM(Լոռի!J81+'Արագածոտն '!J81+'Երևան քաղաք'!J81+'Արարատ և Վայոց ձոր'!J81+Արմավիր!J81+Կոտայք!J81+Շիրակ!J81+Տավուշ!J81+Սյունիք!J81+Գեղարքունիք!J81) -> 0 | K81: =SUM(Լոռի!K81+'Արագածոտն '!K81+'Երևան քաղաք'!K81+'Արարատ և Վայոց ձոր'!K81+Արմավիր!K81+Կոտայք!K81+Շիրակ!K81+Տավուշ!K81+Սյունիք!K81+Գեղարքունիք!K81) -> 0 | ... AB81: =SUM(Լոռի!AB81+'Արագածոտն '!AB81+'Երևան քաղաք'!AB81+'Արարատ և Վայոց ձոր'!AB81+Արմավիր!AB81+Կոտայք!AB81+Շիրակ!AB81+Տավուշ!AB81+Սյունիք!AB81+Գեղարքունիք!AB81) -> 0
A82: 5. | B82: Ընդամենը ընտանիքի և երեխայի շահերի դեմ ուղղված հանցագործությունները | D82: =SUM(Լոռի!D82+'Արագածոտն '!D82+'Երևան քաղաք'!D82+'Արարատ և Վայոց ձոր'!D82+Արմավիր!D82+Կոտայք!D82+Շիրակ!D82+Տավուշ!D82+Սյունիք!D82+Գեղարքունիք!D82) -> 0 | E82: =SUM(Լոռի!E82+'Արագածոտն '!E82+'Երևան քաղաք'!E82+'Արարատ և Վայոց ձոր'!E82+Արմավիր!E82+Կոտայք!E82+Շիրակ!E82+Տավուշ!E82+Սյունիք!E82+Գեղարքունիք!E82) -> 1 | F82: =SUM(Լոռի!F82+'Արագածոտն '!F82+'Երևան քաղաք'!F82+'Արարատ և Վայոց ձոր'!F82+Արմավիր!F82+Կոտայք!F82+Շիրակ!F82+Տավուշ!F82+Սյունիք!F82+Գեղարքունիք!F82) -> 1 | G82: =SUM(Լոռի!G82+'Արագածոտն '!G82+'Երևան քաղաք'!G82+'Արարատ և Վայոց ձոր'!G82+Արմավիր!G82+Կոտայք!G82+Շիրակ!G82+Տավուշ!G82+Սյունիք!G82+Գեղարքունիք!G82) -> 0 | H82: =SUM(Լոռի!H82+'Արագածոտն '!H82+'Երևան քաղաք'!H82+'Արարատ և Վայոց ձոր'!H82+Արմավիր!H82+Կոտայք!H82+Շիրակ!H82+Տավուշ!H82+Սյունիք!H82+Գեղարքունիք!H82) -> 1 | I82: =SUM(Լոռի!I82+'Արագածոտն '!I82+'Երևան քաղաք'!I82+'Արարատ և Վայոց ձոր'!I82+Արմավիր!I82+Կոտայք!I82+Շիրակ!I82+Տավուշ!I82+Սյունիք!I82+Գեղարքունիք!I82) -> 0 | J82: =SUM(Լոռի!J82+'Արագածոտն '!J82+'Երևան քաղաք'!J82+'Արարատ և Վայոց ձոր'!J82+Արմավիր!J82+Կոտայք!J82+Շիրակ!J82+Տավուշ!J82+Սյունիք!J82+Գեղարքունիք!J82) -> 1 | K82: =SUM(Լոռի!K82+'Արագածոտն '!K82+'Երևան քաղաք'!K82+'Արարատ և Վայոց ձոր'!K82+Արմավիր!K82+Կոտայք!K82+Շիրակ!K82+Տավուշ!K82+Սյունիք!K82+Գեղարքունիք!K82) -> 1 | ... AB82: =SUM(Լոռի!AB82+'Արագածոտն '!AB82+'Երևան քաղաք'!AB82+'Արարատ և Վայոց ձոր'!AB82+Արմավիր!AB82+Կոտայք!AB82+Շիրակ!AB82+Տավուշ!AB82+Սյունիք!AB82+Գեղարքունիք!AB82) -> 0
A83: 5.1 | B83: Անչափահասին հանցանքի կատարմանը ներգրավելը | C83: 165 | D83: =SUM(Լոռի!D83+'Արագածոտն '!D83+'Երևան քաղաք'!D83+'Արարատ և Վայոց ձոր'!D83+Արմավիր!D83+Կոտայք!D83+Շիրակ!D83+Տավուշ!D83+Սյունիք!D83+Գեղարքունիք!D83) -> 0 | E83: =SUM(Լոռի!E83+'Արագածոտն '!E83+'Երևան քաղաք'!E83+'Արարատ և Վայոց ձոր'!E83+Արմավիր!E83+Կոտայք!E83+Շիրակ!E83+Տավուշ!E83+Սյունիք!E83+Գեղարքունիք!E83) -> 1 | F83: =SUM(Լոռի!F83+'Արագածոտն '!F83+'Երևան քաղաք'!F83+'Արարատ և Վայոց ձոր'!F83+Արմավիր!F83+Կոտայք!F83+Շիրակ!F83+Տավուշ!F83+Սյունիք!F83+Գեղարքունիք!F83) -> 1 | G83: =SUM(Լոռի!G83+'Արագածոտն '!G83+'Երևան քաղաք'!G83+'Արարատ և Վայոց ձոր'!G83+Արմավիր!G83+Կոտայք!G83+Շիրակ!G83+Տավուշ!G83+Սյունիք!G83+Գեղարքունիք!G83) -> 0 | H83: =SUM(Լոռի!H83+'Արագածոտն '!H83+'Երևան քաղաք'!H83+'Արարատ և Վայոց ձոր'!H83+Արմավիր!H83+Կոտայք!H83+Շիրակ!H83+Տավուշ!H83+Սյունիք!H83+Գեղարքունիք!H83) -> 1 | I83: =SUM(Լոռի!I83+'Արագածոտն '!I83+'Երևան քաղաք'!I83+'Արարատ և Վայոց ձոր'!I83+Արմավիր!I83+Կոտայք!I83+Շիրակ!I83+Տավուշ!I83+Սյունիք!I83+Գեղարքունիք!I83) -> 0 | J83: =SUM(Լոռի!J83+'Արագածոտն '!J83+'Երևան քաղաք'!J83+'Արարատ և Վայոց ձոր'!J83+Արմավիր!J83+Կոտայք!J83+Շիրակ!J83+Տավուշ!J83+Սյունիք!J83+Գեղարքունիք!J83) -> 1 | K83: =SUM(Լոռի!K83+'Արագածոտն '!K83+'Երևան քաղաք'!K83+'Արարատ և Վայոց ձոր'!K83+Արմավիր!K83+Կոտայք!K83+Շիրակ!K83+Տավուշ!K83+Սյունիք!K83+Գեղարքունիք!K83) -> 1 | ... AB83: =SUM(Լոռի!AB83+'Արագածոտն '!AB83+'Երևան քաղաք'!AB83+'Արարատ և Վայոց ձոր'!AB83+Արմավիր!AB83+Կոտայք!AB83+Շիրակ!AB83+Տավուշ!AB83+Սյունիք!AB83+Գեղարքունիք!AB83) -> 0
A84: 5.2 | B84: Երեխային պոռնկության կամ պոռնկագրական բնույթի նյութեր կամ առարկաներ պատրաստելու հետ կապված գործողություններ կատարելուն ներգրավելը | C84: 166 | D84: =SUM(Լոռի!D84+'Արագածոտն '!D84+'Երևան քաղաք'!D84+'Արարատ և Վայոց ձոր'!D84+Արմավիր!D84+Կոտայք!D84+Շիրակ!D84+Տավուշ!D84+Սյունիք!D84+Գեղարքունիք!D84) -> 0 | E84: =SUM(Լոռի!E84+'Արագածոտն '!E84+'Երևան քաղաք'!E84+'Արարատ և Վայոց ձոր'!E84+Արմավիր!E84+Կոտայք!E84+Շիրակ!E84+Տավուշ!E84+Սյունիք!E84+Գեղարքունիք!E84) -> 0 | F84: =SUM(Լոռի!F84+'Արագածոտն '!F84+'Երևան քաղաք'!F84+'Արարատ և Վայոց ձոր'!F84+Արմավիր!F84+Կոտայք!F84+Շիրակ!F84+Տավուշ!F84+Սյունիք!F84+Գեղարքունիք!F84) -> 0 | G84: =SUM(Լոռի!G84+'Արագածոտն '!G84+'Երևան քաղաք'!G84+'Արարատ և Վայոց ձոր'!G84+Արմավիր!G84+Կոտայք!G84+Շիրակ!G84+Տավուշ!G84+Սյունիք!G84+Գեղարքունիք!G84) -> 0 | H84: =SUM(Լոռի!H84+'Արագածոտն '!H84+'Երևան քաղաք'!H84+'Արարատ և Վայոց ձոր'!H84+Արմավիր!H84+Կոտայք!H84+Շիրակ!H84+Տավուշ!H84+Սյունիք!H84+Գեղարքունիք!H84) -> 0 | I84: =SUM(Լոռի!I84+'Արագածոտն '!I84+'Երևան քաղաք'!I84+'Արարատ և Վայոց ձոր'!I84+Արմավիր!I84+Կոտայք!I84+Շիրակ!I84+Տավուշ!I84+Սյունիք!I84+Գեղարքունիք!I84) -> 0 | J84: =SUM(Լոռի!J84+'Արագածոտն '!J84+'Երևան քաղաք'!J84+'Արարատ և Վայոց ձոր'!J84+Արմավիր!J84+Կոտայք!J84+Շիրակ!J84+Տավուշ!J84+Սյունիք!J84+Գեղարքունիք!J84) -> 0 | K84: =SUM(Լոռի!K84+'Արագածոտն '!K84+'Երևան քաղաք'!K84+'Արարատ և Վայոց ձոր'!K84+Արմավիր!K84+Կոտայք!K84+Շիրակ!K84+Տավուշ!K84+Սյունիք!K84+Գեղարքունիք!K84) -> 0 | ... AB84: =SUM(Լոռի!AB84+'Արագածոտն '!AB84+'Երևան քաղաք'!AB84+'Արարատ և Վայոց ձոր'!AB84+Արմավիր!AB84+Կոտայք!AB84+Շիրակ!AB84+Տավուշ!AB84+Սյունիք!AB84+Գեղարքունիք!AB84) -> 0
A85: 5.2.1 | B85: Երեխային ոգելից խմիչքների օգտագործմանը, ուժեղ ներգործող կամ այլ թմրեցնող նյութերի ոչ բժշկական օգտագործմանը, թափառաշրջիկությանը ներգրավելը կամ մուրացկանության հետ կապված գործողություններ կատարելուն ներգրավելը | C85: 166.1 | D85: =SUM(Լոռի!D85+'Արագածոտն '!D85+'Երևան քաղաք'!D85+'Արարատ և Վայոց ձոր'!D85+Արմավիր!D85+Կոտայք!D85+Շիրակ!D85+Տավուշ!D85+Սյունիք!D85+Գեղարքունիք!D85) -> 0 | E85: =SUM(Լոռի!E85+'Արագածոտն '!E85+'Երևան քաղաք'!E85+'Արարատ և Վայոց ձոր'!E85+Արմավիր!E85+Կոտայք!E85+Շիրակ!E85+Տավուշ!E85+Սյունիք!E85+Գեղարքունիք!E85) -> 0 | F85: =SUM(Լոռի!F85+'Արագածոտն '!F85+'Երևան քաղաք'!F85+'Արարատ և Վայոց ձոր'!F85+Արմավիր!F85+Կոտայք!F85+Շիրակ!F85+Տավուշ!F85+Սյունիք!F85+Գեղարքունիք!F85) -> 0 | G85: =SUM(Լոռի!G85+'Արագածոտն '!G85+'Երևան քաղաք'!G85+'Արարատ և Վայոց ձոր'!G85+Արմավիր!G85+Կոտայք!G85+Շիրակ!G85+Տավուշ!G85+Սյունիք!G85+Գեղարքունիք!G85) -> 0 | H85: =SUM(Լոռի!H85+'Արագածոտն '!H85+'Երևան քաղաք'!H85+'Արարատ և Վայոց ձոր'!H85+Արմավիր!H85+Կոտայք!H85+Շիրակ!H85+Տավուշ!H85+Սյունիք!H85+Գեղարքունիք!H85) -> 0 | I85: =SUM(Լոռի!I85+'Արագածոտն '!I85+'Երևան քաղաք'!I85+'Արարատ և Վայոց ձոր'!I85+Արմավիր!I85+Կոտայք!I85+Շիրակ!I85+Տավուշ!I85+Սյունիք!I85+Գեղարքունիք!I85) -> 0 | J85: =SUM(Լոռի!J85+'Արագածոտն '!J85+'Երևան քաղաք'!J85+'Արարատ և Վայոց ձոր'!J85+Արմավիր!J85+Կոտայք!J85+Շիրակ!J85+Տավուշ!J85+Սյունիք!J85+Գեղարքունիք!J85) -> 0 | K85: =SUM(Լոռի!K85+'Արագածոտն '!K85+'Երևան քաղաք'!K85+'Արարատ և Վայոց ձոր'!K85+Արմավիր!K85+Կոտայք!K85+Շիրակ!K85+Տավուշ!K85+Սյունիք!K85+Գեղարքունիք!K85) -> 0 | ... AB85: =SUM(Լոռի!AB85+'Արագածոտն '!AB85+'Երևան քաղաք'!AB85+'Արարատ և Վայոց ձոր'!AB85+Արմավիր!AB85+Կոտայք!AB85+Շիրակ!AB85+Տավուշ!AB85+Սյունիք!AB85+Գեղարքունիք!AB85) -> 0
A86: 5.3 | B86: Ծնողներից երեխային ապօրինի բաժանելը կամ երեխային փոխելը | C86: 167 | D86: =SUM(Լոռի!D86+'Արագածոտն '!D86+'Երևան քաղաք'!D86+'Արարատ և Վայոց ձոր'!D86+Արմավիր!D86+Կոտայք!D86+Շիրակ!D86+Տավուշ!D86+Սյունիք!D86+Գեղարքունիք!D86) -> 0 | E86: =SUM(Լոռի!E86+'Արագածոտն '!E86+'Երևան քաղաք'!E86+'Արարատ և Վայոց ձոր'!E86+Արմավիր!E86+Կոտայք!E86+Շիրակ!E86+Տավուշ!E86+Սյունիք!E86+Գեղարքունիք!E86) -> 0 | F86: =SUM(Լոռի!F86+'Արագածոտն '!F86+'Երևան քաղաք'!F86+'Արարատ և Վայոց ձոր'!F86+Արմավիր!F86+Կոտայք!F86+Շիրակ!F86+Տավուշ!F86+Սյունիք!F86+Գեղարքունիք!F86) -> 0 | G86: =SUM(Լոռի!G86+'Արագածոտն '!G86+'Երևան քաղաք'!G86+'Արարատ և Վայոց ձոր'!G86+Արմավիր!G86+Կոտայք!G86+Շիրակ!G86+Տավուշ!G86+Սյունիք!G86+Գեղարքունիք!G86) -> 0 | H86: =SUM(Լոռի!H86+'Արագածոտն '!H86+'Երևան քաղաք'!H86+'Արարատ և Վայոց ձոր'!H86+Արմավիր!H86+Կոտայք!H86+Շիրակ!H86+Տավուշ!H86+Սյունիք!H86+Գեղարքունիք!H86) -> 0 | I86: =SUM(Լոռի!I86+'Արագածոտն '!I86+'Երևան քաղաք'!I86+'Արարատ և Վայոց ձոր'!I86+Արմավիր!I86+Կոտայք!I86+Շիրակ!I86+Տավուշ!I86+Սյունիք!I86+Գեղարքունիք!I86) -> 0 | J86: =SUM(Լոռի!J86+'Արագածոտն '!J86+'Երևան քաղաք'!J86+'Արարատ և Վայոց ձոր'!J86+Արմավիր!J86+Կոտայք!J86+Շիրակ!J86+Տավուշ!J86+Սյունիք!J86+Գեղարքունիք!J86) -> 0 | K86: =SUM(Լոռի!K86+'Արագածոտն '!K86+'Երևան քաղաք'!K86+'Արարատ և Վայոց ձոր'!K86+Արմավիր!K86+Կոտայք!K86+Շիրակ!K86+Տավուշ!K86+Սյունիք!K86+Գեղարքունիք!K86) -> 0 | ... AB86: =SUM(Լոռի!AB86+'Արագածոտն '!AB86+'Երևան քաղաք'!AB86+'Արարատ և Վայոց ձոր'!AB86+Արմավիր!AB86+Կոտայք!AB86+Շիրակ!AB86+Տավուշ!AB86+Սյունիք!AB86+Գեղարքունիք!AB86) -> 0
A87: 5.4 | B87: Խնամքը ստանձնելու նպատակով երեխայի առքը կամ ստանձնողի խնամքին հանձնելու նպատակով երեխայի վաճառքը | C87: 168 | D87: =SUM(Լոռի!D87+'Արագածոտն '!D87+'Երևան քաղաք'!D87+'Արարատ և Վայոց ձոր'!D87+Արմավիր!D87+Կոտայք!D87+Շիրակ!D87+Տավուշ!D87+Սյունիք!D87+Գեղարքունիք!D87) -> 0 | E87: =SUM(Լոռի!E87+'Արագածոտն '!E87+'Երևան քաղաք'!E87+'Արարատ և Վայոց ձոր'!E87+Արմավիր!E87+Կոտայք!E87+Շիրակ!E87+Տավուշ!E87+Սյունիք!E87+Գեղարքունիք!E87) -> 0 | F87: =SUM(Լոռի!F87+'Արագածոտն '!F87+'Երևան քաղաք'!F87+'Արարատ և Վայոց ձոր'!F87+Արմավիր!F87+Կոտայք!F87+Շիրակ!F87+Տավուշ!F87+Սյունիք!F87+Գեղարքունիք!F87) -> 0 | G87: =SUM(Լոռի!G87+'Արագածոտն '!G87+'Երևան քաղաք'!G87+'Արարատ և Վայոց ձոր'!G87+Արմավիր!G87+Կոտայք!G87+Շիրակ!G87+Տավուշ!G87+Սյունիք!G87+Գեղարքունիք!G87) -> 0 | H87: =SUM(Լոռի!H87+'Արագածոտն '!H87+'Երևան քաղաք'!H87+'Արարատ և Վայոց ձոր'!H87+Արմավիր!H87+Կոտայք!H87+Շիրակ!H87+Տավուշ!H87+Սյունիք!H87+Գեղարքունիք!H87) -> 0 | I87: =SUM(Լոռի!I87+'Արագածոտն '!I87+'Երևան քաղաք'!I87+'Արարատ և Վայոց ձոր'!I87+Արմավիր!I87+Կոտայք!I87+Շիրակ!I87+Տավուշ!I87+Սյունիք!I87+Գեղարքունիք!I87) -> 0 | J87: =SUM(Լոռի!J87+'Արագածոտն '!J87+'Երևան քաղաք'!J87+'Արարատ և Վայոց ձոր'!J87+Արմավիր!J87+Կոտայք!J87+Շիրակ!J87+Տավուշ!J87+Սյունիք!J87+Գեղարքունիք!J87) -> 0 | K87: =SUM(Լոռի!K87+'Արագածոտն '!K87+'Երևան քաղաք'!K87+'Արարատ և Վայոց ձոր'!K87+Արմավիր!K87+Կոտայք!K87+Շիրակ!K87+Տավուշ!K87+Սյունիք!K87+Գեղարքունիք!K87) -> 0 | ... AB87: =SUM(Լոռի!AB87+'Արագածոտն '!AB87+'Երևան քաղաք'!AB87+'Արարատ և Վայոց ձոր'!AB87+Արմավիր!AB87+Կոտայք!AB87+Շիրակ!AB87+Տավուշ!AB87+Սյունիք!AB87+Գեղարքունիք!AB87) -> 0
A88: 5.5 | B88: Որդեգրման գաղտնիքը հրապարակելը կամ որդեգրման համաձայնություն տալուն հակելը կամ հարկադրելը | C88: 169 | D88: =SUM(Լոռի!D88+'Արագածոտն '!D88+'Երևան քաղաք'!D88+'Արարատ և Վայոց ձոր'!D88+Արմավիր!D88+Կոտայք!D88+Շիրակ!D88+Տավուշ!D88+Սյունիք!D88+Գեղարքունիք!D88) -> 0 | E88: =SUM(Լոռի!E88+'Արագածոտն '!E88+'Երևան քաղաք'!E88+'Արարատ և Վայոց ձոր'!E88+Արմավիր!E88+Կոտայք!E88+Շիրակ!E88+Տավուշ!E88+Սյունիք!E88+Գեղարքունիք!E88) -> 0 | F88: =SUM(Լոռի!F88+'Արագածոտն '!F88+'Երևան քաղաք'!F88+'Արարատ և Վայոց ձոր'!F88+Արմավիր!F88+Կոտայք!F88+Շիրակ!F88+Տավուշ!F88+Սյունիք!F88+Գեղարքունիք!F88) -> 0 | G88: =SUM(Լոռի!G88+'Արագածոտն '!G88+'Երևան քաղաք'!G88+'Արարատ և Վայոց ձոր'!G88+Արմավիր!G88+Կոտայք!G88+Շիրակ!G88+Տավուշ!G88+Սյունիք!G88+Գեղարքունիք!G88) -> 0 | H88: =SUM(Լոռի!H88+'Արագածոտն '!H88+'Երևան քաղաք'!H88+'Արարատ և Վայոց ձոր'!H88+Արմավիր!H88+Կոտայք!H88+Շիրակ!H88+Տավուշ!H88+Սյունիք!H88+Գեղարքունիք!H88) -> 0 | I88: =SUM(Լոռի!I88+'Արագածոտն '!I88+'Երևան քաղաք'!I88+'Արարատ և Վայոց ձոր'!I88+Արմավիր!I88+Կոտայք!I88+Շիրակ!I88+Տավուշ!I88+Սյունիք!I88+Գեղարքունիք!I88) -> 0 | J88: =SUM(Լոռի!J88+'Արագածոտն '!J88+'Երևան քաղաք'!J88+'Արարատ և Վայոց ձոր'!J88+Արմավիր!J88+Կոտայք!J88+Շիրակ!J88+Տավուշ!J88+Սյունիք!J88+Գեղարքունիք!J88) -> 0 | K88: =SUM(Լոռի!K88+'Արագածոտն '!K88+'Երևան քաղաք'!K88+'Արարատ և Վայոց ձոր'!K88+Արմավիր!K88+Կոտայք!K88+Շիրակ!K88+Տավուշ!K88+Սյունիք!K88+Գեղարքունիք!K88) -> 0 | ... AB88: =SUM(Լոռի!AB88+'Արագածոտն '!AB88+'Երևան քաղաք'!AB88+'Արարատ և Վայոց ձոր'!AB88+Արմավիր!AB88+Կոտայք!AB88+Շիրակ!AB88+Տավուշ!AB88+Սյունիք!AB88+Գեղարքունիք!AB88) -> 0
A89: 5.6 | B89: Քաղաքացիական կացության ակտերի գրանցման մարմիններին սուտ տեղեկություններ հաղորդելը | C89: 169.1 | D89: =SUM(Լոռի!D89+'Արագածոտն '!D89+'Երևան քաղաք'!D89+'Արարատ և Վայոց ձոր'!D89+Արմավիր!D89+Կոտայք!D89+Շիրակ!D89+Տավուշ!D89+Սյունիք!D89+Գեղարքունիք!D89) -> 0 | E89: =SUM(Լոռի!E89+'Արագածոտն '!E89+'Երևան քաղաք'!E89+'Արարատ և Վայոց ձոր'!E89+Արմավիր!E89+Կոտայք!E89+Շիրակ!E89+Տավուշ!E89+Սյունիք!E89+Գեղարքունիք!E89) -> 0 | F89: =SUM(Լոռի!F89+'Արագածոտն '!F89+'Երևան քաղաք'!F89+'Արարատ և Վայոց ձոր'!F89+Արմավիր!F89+Կոտայք!F89+Շիրակ!F89+Տավուշ!F89+Սյունիք!F89+Գեղարքունիք!F89) -> 0 | G89: =SUM(Լոռի!G89+'Արագածոտն '!G89+'Երևան քաղաք'!G89+'Արարատ և Վայոց ձոր'!G89+Արմավիր!G89+Կոտայք!G89+Շիրակ!G89+Տավուշ!G89+Սյունիք!G89+Գեղարքունիք!G89) -> 0 | H89: =SUM(Լոռի!H89+'Արագածոտն '!H89+'Երևան քաղաք'!H89+'Արարատ և Վայոց ձոր'!H89+Արմավիր!H89+Կոտայք!H89+Շիրակ!H89+Տավուշ!H89+Սյունիք!H89+Գեղարքունիք!H89) -> 0 | I89: =SUM(Լոռի!I89+'Արագածոտն '!I89+'Երևան քաղաք'!I89+'Արարատ և Վայոց ձոր'!I89+Արմավիր!I89+Կոտայք!I89+Շիրակ!I89+Տավուշ!I89+Սյունիք!I89+Գեղարքունիք!I89) -> 0 | J89: =SUM(Լոռի!J89+'Արագածոտն '!J89+'Երևան քաղաք'!J89+'Արարատ և Վայոց ձոր'!J89+Արմավիր!J89+Կոտայք!J89+Շիրակ!J89+Տավուշ!J89+Սյունիք!J89+Գեղարքունիք!J89) -> 0 | K89: =SUM(Լոռի!K89+'Արագածոտն '!K89+'Երևան քաղաք'!K89+'Արարատ և Վայոց ձոր'!K89+Արմավիր!K89+Կոտայք!K89+Շիրակ!K89+Տավուշ!K89+Սյունիք!K89+Գեղարքունիք!K89) -> 0 | ... AB89: =SUM(Լոռի!AB89+'Արագածոտն '!AB89+'Երևան քաղաք'!AB89+'Արարատ և Վայոց ձոր'!AB89+Արմավիր!AB89+Կոտայք!AB89+Շիրակ!AB89+Տավուշ!AB89+Սյունիք!AB89+Գեղարքունիք!AB89) -> 0
A90: 5.7 | B90: Երեխային դաստիարակելու պարտականությունը չկատարելը | C90: 170 | D90: =SUM(Լոռի!D90+'Արագածոտն '!D90+'Երևան քաղաք'!D90+'Արարատ և Վայոց ձոր'!D90+Արմավիր!D90+Կոտայք!D90+Շիրակ!D90+Տավուշ!D90+Սյունիք!D90+Գեղարքունիք!D90) -> 0 | E90: =SUM(Լոռի!E90+'Արագածոտն '!E90+'Երևան քաղաք'!E90+'Արարատ և Վայոց ձոր'!E90+Արմավիր!E90+Կոտայք!E90+Շիրակ!E90+Տավուշ!E90+Սյունիք!E90+Գեղարքունիք!E90) -> 0 | F90: =SUM(Լոռի!F90+'Արագածոտն '!F90+'Երևան քաղաք'!F90+'Արարատ և Վայոց ձոր'!F90+Արմավիր!F90+Կոտայք!F90+Շիրակ!F90+Տավուշ!F90+Սյունիք!F90+Գեղարքունիք!F90) -> 0 | G90: =SUM(Լոռի!G90+'Արագածոտն '!G90+'Երևան քաղաք'!G90+'Արարատ և Վայոց ձոր'!G90+Արմավիր!G90+Կոտայք!G90+Շիրակ!G90+Տավուշ!G90+Սյունիք!G90+Գեղարքունիք!G90) -> 0 | H90: =SUM(Լոռի!H90+'Արագածոտն '!H90+'Երևան քաղաք'!H90+'Արարատ և Վայոց ձոր'!H90+Արմավիր!H90+Կոտայք!H90+Շիրակ!H90+Տավուշ!H90+Սյունիք!H90+Գեղարքունիք!H90) -> 0 | I90: =SUM(Լոռի!I90+'Արագածոտն '!I90+'Երևան քաղաք'!I90+'Արարատ և Վայոց ձոր'!I90+Արմավիր!I90+Կոտայք!I90+Շիրակ!I90+Տավուշ!I90+Սյունիք!I90+Գեղարքունիք!I90) -> 0 | J90: =SUM(Լոռի!J90+'Արագածոտն '!J90+'Երևան քաղաք'!J90+'Արարատ և Վայոց ձոր'!J90+Արմավիր!J90+Կոտայք!J90+Շիրակ!J90+Տավուշ!J90+Սյունիք!J90+Գեղարքունիք!J90) -> 0 | K90: =SUM(Լոռի!K90+'Արագածոտն '!K90+'Երևան քաղաք'!K90+'Արարատ և Վայոց ձոր'!K90+Արմավիր!K90+Կոտայք!K90+Շիրակ!K90+Տավուշ!K90+Սյունիք!K90+Գեղարքունիք!K90) -> 0 | ... AB90: =SUM(Լոռի!AB90+'Արագածոտն '!AB90+'Երևան քաղաք'!AB90+'Արարատ և Վայոց ձոր'!AB90+Արմավիր!AB90+Կոտայք!AB90+Շիրակ!AB90+Տավուշ!AB90+Սյունիք!AB90+Գեղարքունիք!AB90) -> 0
A91: 5.8 | B91: Երեխայի կյանքի անվտանգության ապահովման կամ առողջության պահպանման պարտականությունը չկատարելը կամ ոչ պատշաճ կատարելը | C91: 171 | D91: =SUM(Լոռի!D91+'Արագածոտն '!D91+'Երևան քաղաք'!D91+'Արարատ և Վայոց ձոր'!D91+Արմավիր!D91+Կոտայք!D91+Շիրակ!D91+Տավուշ!D91+Սյունիք!D91+Գեղարքունիք!D91) -> 0 | E91: =SUM(Լոռի!E91+'Արագածոտն '!E91+'Երևան քաղաք'!E91+'Արարատ և Վայոց ձոր'!E91+Արմավիր!E91+Կոտայք!E91+Շիրակ!E91+Տավուշ!E91+Սյունիք!E91+Գեղարքունիք!E91) -> 0 | F91: =SUM(Լոռի!F91+'Արագածոտն '!F91+'Երևան քաղաք'!F91+'Արարատ և Վայոց ձոր'!F91+Արմավիր!F91+Կոտայք!F91+Շիրակ!F91+Տավուշ!F91+Սյունիք!F91+Գեղարքունիք!F91) -> 0 | G91: =SUM(Լոռի!G91+'Արագածոտն '!G91+'Երևան քաղաք'!G91+'Արարատ և Վայոց ձոր'!G91+Արմավիր!G91+Կոտայք!G91+Շիրակ!G91+Տավուշ!G91+Սյունիք!G91+Գեղարքունիք!G91) -> 0 | H91: =SUM(Լոռի!H91+'Արագածոտն '!H91+'Երևան քաղաք'!H91+'Արարատ և Վայոց ձոր'!H91+Արմավիր!H91+Կոտայք!H91+Շիրակ!H91+Տավուշ!H91+Սյունիք!H91+Գեղարքունիք!H91) -> 0 | I91: =SUM(Լոռի!I91+'Արագածոտն '!I91+'Երևան քաղաք'!I91+'Արարատ և Վայոց ձոր'!I91+Արմավիր!I91+Կոտայք!I91+Շիրակ!I91+Տավուշ!I91+Սյունիք!I91+Գեղարքունիք!I91) -> 0 | J91: =SUM(Լոռի!J91+'Արագածոտն '!J91+'Երևան քաղաք'!J91+'Արարատ և Վայոց ձոր'!J91+Արմավիր!J91+Կոտայք!J91+Շիրակ!J91+Տավուշ!J91+Սյունիք!J91+Գեղարքունիք!J91) -> 0 | K91: =SUM(Լոռի!K91+'Արագածոտն '!K91+'Երևան քաղաք'!K91+'Արարատ և Վայոց ձոր'!K91+Արմավիր!K91+Կոտայք!K91+Շիրակ!K91+Տավուշ!K91+Սյունիք!K91+Գեղարքունիք!K91) -> 0 | ... AB91: =SUM(Լոռի!AB91+'Արագածոտն '!AB91+'Երևան քաղաք'!AB91+'Արարատ և Վայոց ձոր'!AB91+Արմավիր!AB91+Կոտայք!AB91+Շիրակ!AB91+Տավուշ!AB91+Սյունիք!AB91+Գեղարքունիք!AB91) -> 0
A92: 5.8.1 | B92: Վերարտադրողականության օժանդակ տեխնոլոգիաներից օգտվելու կանոնները խախտելը | C92: 171.1 | D92: =SUM(Լոռի!D92+'Արագածոտն '!D92+'Երևան քաղաք'!D92+'Արարատ և Վայոց ձոր'!D92+Արմավիր!D92+Կոտայք!D92+Շիրակ!D92+Տավուշ!D92+Սյունիք!D92+Գեղարքունիք!D92) -> 0 | E92: =SUM(Լոռի!E92+'Արագածոտն '!E92+'Երևան քաղաք'!E92+'Արարատ և Վայոց ձոր'!E92+Արմավիր!E92+Կոտայք!E92+Շիրակ!E92+Տավուշ!E92+Սյունիք!E92+Գեղարքունիք!E92) -> 0 | F92: =SUM(Լոռի!F92+'Արագածոտն '!F92+'Երևան քաղաք'!F92+'Արարատ և Վայոց ձոր'!F92+Արմավիր!F92+Կոտայք!F92+Շիրակ!F92+Տավուշ!F92+Սյունիք!F92+Գեղարքունիք!F92) -> 0 | G92: =SUM(Լոռի!G92+'Արագածոտն '!G92+'Երևան քաղաք'!G92+'Արարատ և Վայոց ձոր'!G92+Արմավիր!G92+Կոտայք!G92+Շիրակ!G92+Տավուշ!G92+Սյունիք!G92+Գեղարքունիք!G92) -> 0 | H92: =SUM(Լոռի!H92+'Արագածոտն '!H92+'Երևան քաղաք'!H92+'Արարատ և Վայոց ձոր'!H92+Արմավիր!H92+Կոտայք!H92+Շիրակ!H92+Տավուշ!H92+Սյունիք!H92+Գեղարքունիք!H92) -> 0 | I92: =SUM(Լոռի!I92+'Արագածոտն '!I92+'Երևան քաղաք'!I92+'Արարատ և Վայոց ձոր'!I92+Արմավիր!I92+Կոտայք!I92+Շիրակ!I92+Տավուշ!I92+Սյունիք!I92+Գեղարքունիք!I92) -> 0 | J92: =SUM(Լոռի!J92+'Արագածոտն '!J92+'Երևան քաղաք'!J92+'Արարատ և Վայոց ձոր'!J92+Արմավիր!J92+Կոտայք!J92+Շիրակ!J92+Տավուշ!J92+Սյունիք!J92+Գեղարքունիք!J92) -> 0 | K92: =SUM(Լոռի!K92+'Արագածոտն '!K92+'Երևան քաղաք'!K92+'Արարատ և Վայոց ձոր'!K92+Արմավիր!K92+Կոտայք!K92+Շիրակ!K92+Տավուշ!K92+Սյունիք!K92+Գեղարքունիք!K92) -> 0 | ... AB92: =SUM(Լոռի!AB92+'Արագածոտն '!AB92+'Երևան քաղաք'!AB92+'Արարատ և Վայոց ձոր'!AB92+Արմավիր!AB92+Կոտայք!AB92+Շիրակ!AB92+Տավուշ!AB92+Սյունիք!AB92+Գեղարքունիք!AB92) -> 0
A93: 5.9 | B93: Խնամակալի կամ հոգաբարձուի իրավունքները չարաշահելը | C93: 172 | D93: =SUM(Լոռի!D93+'Արագածոտն '!D93+'Երևան քաղաք'!D93+'Արարատ և Վայոց ձոր'!D93+Արմավիր!D93+Կոտայք!D93+Շիրակ!D93+Տավուշ!D93+Սյունիք!D93+Գեղարքունիք!D93) -> 0 | E93: =SUM(Լոռի!E93+'Արագածոտն '!E93+'Երևան քաղաք'!E93+'Արարատ և Վայոց ձոր'!E93+Արմավիր!E93+Կոտայք!E93+Շիրակ!E93+Տավուշ!E93+Սյունիք!E93+Գեղարքունիք!E93) -> 0 | F93: =SUM(Լոռի!F93+'Արագածոտն '!F93+'Երևան քաղաք'!F93+'Արարատ և Վայոց ձոր'!F93+Արմավիր!F93+Կոտայք!F93+Շիրակ!F93+Տավուշ!F93+Սյունիք!F93+Գեղարքունիք!F93) -> 0 | G93: =SUM(Լոռի!G93+'Արագածոտն '!G93+'Երևան քաղաք'!G93+'Արարատ և Վայոց ձոր'!G93+Արմավիր!G93+Կոտայք!G93+Շիրակ!G93+Տավուշ!G93+Սյունիք!G93+Գեղարքունիք!G93) -> 0 | H93: =SUM(Լոռի!H93+'Արագածոտն '!H93+'Երևան քաղաք'!H93+'Արարատ և Վայոց ձոր'!H93+Արմավիր!H93+Կոտայք!H93+Շիրակ!H93+Տավուշ!H93+Սյունիք!H93+Գեղարքունիք!H93) -> 0 | I93: =SUM(Լոռի!I93+'Արագածոտն '!I93+'Երևան քաղաք'!I93+'Արարատ և Վայոց ձոր'!I93+Արմավիր!I93+Կոտայք!I93+Շիրակ!I93+Տավուշ!I93+Սյունիք!I93+Գեղարքունիք!I93) -> 0 | J93: =SUM(Լոռի!J93+'Արագածոտն '!J93+'Երևան քաղաք'!J93+'Արարատ և Վայոց ձոր'!J93+Արմավիր!J93+Կոտայք!J93+Շիրակ!J93+Տավուշ!J93+Սյունիք!J93+Գեղարքունիք!J93) -> 0 | K93: =SUM(Լոռի!K93+'Արագածոտն '!K93+'Երևան քաղաք'!K93+'Արարատ և Վայոց ձոր'!K93+Արմավիր!K93+Կոտայք!K93+Շիրակ!K93+Տավուշ!K93+Սյունիք!K93+Գեղարքունիք!K93) -> 0 | ... AB93: =SUM(Լոռի!AB93+'Արագածոտն '!AB93+'Երևան քաղաք'!AB93+'Արարատ և Վայոց ձոր'!AB93+Արմավիր!AB93+Կոտայք!AB93+Շիրակ!AB93+Տավուշ!AB93+Սյունիք!AB93+Գեղարքունիք!AB93) -> 0
A94: 5.10 | B94: Ծնողի կողմից երեխային պահելուց չարամտորեն խուսափելը | C94: 173 | D94: =SUM(Լոռի!D94+'Արագածոտն '!D94+'Երևան քաղաք'!D94+'Արարատ և Վայոց ձոր'!D94+Արմավիր!D94+Կոտայք!D94+Շիրակ!D94+Տավուշ!D94+Սյունիք!D94+Գեղարքունիք!D94) -> 0 | E94: =SUM(Լոռի!E94+'Արագածոտն '!E94+'Երևան քաղաք'!E94+'Արարատ և Վայոց ձոր'!E94+Արմավիր!E94+Կոտայք!E94+Շիրակ!E94+Տավուշ!E94+Սյունիք!E94+Գեղարքունիք!E94) -> 0 | F94: =SUM(Լոռի!F94+'Արագածոտն '!F94+'Երևան քաղաք'!F94+'Արարատ և Վայոց ձոր'!F94+Արմավիր!F94+Կոտայք!F94+Շիրակ!F94+Տավուշ!F94+Սյունիք!F94+Գեղարքունիք!F94) -> 0 | G94: =SUM(Լոռի!G94+'Արագածոտն '!G94+'Երևան քաղաք'!G94+'Արարատ և Վայոց ձոր'!G94+Արմավիր!G94+Կոտայք!G94+Շիրակ!G94+Տավուշ!G94+Սյունիք!G94+Գեղարքունիք!G94) -> 0 | H94: =SUM(Լոռի!H94+'Արագածոտն '!H94+'Երևան քաղաք'!H94+'Արարատ և Վայոց ձոր'!H94+Արմավիր!H94+Կոտայք!H94+Շիրակ!H94+Տավուշ!H94+Սյունիք!H94+Գեղարքունիք!H94) -> 0 | I94: =SUM(Լոռի!I94+'Արագածոտն '!I94+'Երևան քաղաք'!I94+'Արարատ և Վայոց ձոր'!I94+Արմավիր!I94+Կոտայք!I94+Շիրակ!I94+Տավուշ!I94+Սյունիք!I94+Գեղարքունիք!I94) -> 0 | J94: =SUM(Լոռի!J94+'Արագածոտն '!J94+'Երևան քաղաք'!J94+'Արարատ և Վայոց ձոր'!J94+Արմավիր!J94+Կոտայք!J94+Շիրակ!J94+Տավուշ!J94+Սյունիք!J94+Գեղարքունիք!J94) -> 0 | K94: =SUM(Լոռի!K94+'Արագածոտն '!K94+'Երևան քաղաք'!K94+'Արարատ և Վայոց ձոր'!K94+Արմավիր!K94+Կոտայք!K94+Շիրակ!K94+Տավուշ!K94+Սյունիք!K94+Գեղարքունիք!K94) -> 0 | ... AB94: =SUM(Լոռի!AB94+'Արագածոտն '!AB94+'Երևան քաղաք'!AB94+'Արարատ և Վայոց ձոր'!AB94+Արմավիր!AB94+Կոտայք!AB94+Շիրակ!AB94+Տավուշ!AB94+Սյունիք!AB94+Գեղարքունիք!AB94) -> 0
A95: 5.11 | B95: Զավակի կողմից անաշխատունակ ծնողին պահելուց չարամտորեն խուսափելը | C95: 174 | D95: =SUM(Լոռի!D95+'Արագածոտն '!D95+'Երևան քաղաք'!D95+'Արարատ և Վայոց ձոր'!D95+Արմավիր!D95+Կոտայք!D95+Շիրակ!D95+Տավուշ!D95+Սյունիք!D95+Գեղարքունիք!D95) -> 0 | E95: =SUM(Լոռի!E95+'Արագածոտն '!E95+'Երևան քաղաք'!E95+'Արարատ և Վայոց ձոր'!E95+Արմավիր!E95+Կոտայք!E95+Շիրակ!E95+Տավուշ!E95+Սյունիք!E95+Գեղարքունիք!E95) -> 0 | F95: =SUM(Լոռի!F95+'Արագածոտն '!F95+'Երևան քաղաք'!F95+'Արարատ և Վայոց ձոր'!F95+Արմավիր!F95+Կոտայք!F95+Շիրակ!F95+Տավուշ!F95+Սյունիք!F95+Գեղարքունիք!F95) -> 0 | G95: =SUM(Լոռի!G95+'Արագածոտն '!G95+'Երևան քաղաք'!G95+'Արարատ և Վայոց ձոր'!G95+Արմավիր!G95+Կոտայք!G95+Շիրակ!G95+Տավուշ!G95+Սյունիք!G95+Գեղարքունիք!G95) -> 0 | H95: =SUM(Լոռի!H95+'Արագածոտն '!H95+'Երևան քաղաք'!H95+'Արարատ և Վայոց ձոր'!H95+Արմավիր!H95+Կոտայք!H95+Շիրակ!H95+Տավուշ!H95+Սյունիք!H95+Գեղարքունիք!H95) -> 0 | I95: =SUM(Լոռի!I95+'Արագածոտն '!I95+'Երևան քաղաք'!I95+'Արարատ և Վայոց ձոր'!I95+Արմավիր!I95+Կոտայք!I95+Շիրակ!I95+Տավուշ!I95+Սյունիք!I95+Գեղարքունիք!I95) -> 0 | J95: =SUM(Լոռի!J95+'Արագածոտն '!J95+'Երևան քաղաք'!J95+'Արարատ և Վայոց ձոր'!J95+Արմավիր!J95+Կոտայք!J95+Շիրակ!J95+Տավուշ!J95+Սյունիք!J95+Գեղարքունիք!J95) -> 0 | K95: =SUM(Լոռի!K95+'Արագածոտն '!K95+'Երևան քաղաք'!K95+'Արարատ և Վայոց ձոր'!K95+Արմավիր!K95+Կոտայք!K95+Շիրակ!K95+Տավուշ!K95+Սյունիք!K95+Գեղարքունիք!K95) -> 0 | ... AB95: =SUM(Լոռի!AB95+'Արագածոտն '!AB95+'Երևան քաղաք'!AB95+'Արարատ և Վայոց ձոր'!AB95+Արմավիր!AB95+Կոտայք!AB95+Շիրակ!AB95+Տավուշ!AB95+Սյունիք!AB95+Գեղարքունիք!AB95) -> 0
A96: 5.12 | B96: Այլ հանցագործություններ | D96: =SUM(Լոռի!D96+'Արագածոտն '!D96+'Երևան քաղաք'!D96+'Արարատ և Վայոց ձոր'!D96+Արմավիր!D96+Կոտայք!D96+Շիրակ!D96+Տավուշ!D96+Սյունիք!D96+Գեղարքունիք!D96) -> 0 | E96: =SUM(Լոռի!E96+'Արագածոտն '!E96+'Երևան քաղաք'!E96+'Արարատ և Վայոց ձոր'!E96+Արմավիր!E96+Կոտայք!E96+Շիրակ!E96+Տավուշ!E96+Սյունիք!E96+Գեղարքունիք!E96) -> 0 | F96: =SUM(Լոռի!F96+'Արագածոտն '!F96+'Երևան քաղաք'!F96+'Արարատ և Վայոց ձոր'!F96+Արմավիր!F96+Կոտայք!F96+Շիրակ!F96+Տավուշ!F96+Սյունիք!F96+Գեղարքունիք!F96) -> 0 | G96: =SUM(Լոռի!G96+'Արագածոտն '!G96+'Երևան քաղաք'!G96+'Արարատ և Վայոց ձոր'!G96+Արմավիր!G96+Կոտայք!G96+Շիրակ!G96+Տավուշ!G96+Սյունիք!G96+Գեղարքունիք!G96) -> 0 | H96: =SUM(Լոռի!H96+'Արագածոտն '!H96+'Երևան քաղաք'!H96+'Արարատ և Վայոց ձոր'!H96+Արմավիր!H96+Կոտայք!H96+Շիրակ!H96+Տավուշ!H96+Սյունիք!H96+Գեղարքունիք!H96) -> 0 | I96: =SUM(Լոռի!I96+'Արագածոտն '!I96+'Երևան քաղաք'!I96+'Արարատ և Վայոց ձոր'!I96+Արմավիր!I96+Կոտայք!I96+Շիրակ!I96+Տավուշ!I96+Սյունիք!I96+Գեղարքունիք!I96) -> 0 | J96: =SUM(Լոռի!J96+'Արագածոտն '!J96+'Երևան քաղաք'!J96+'Արարատ և Վայոց ձոր'!J96+Արմավիր!J96+Կոտայք!J96+Շիրակ!J96+Տավուշ!J96+Սյունիք!J96+Գեղարքունիք!J96) -> 0 | K96: =SUM(Լոռի!K96+'Արագածոտն '!K96+'Երևան քաղաք'!K96+'Արարատ և Վայոց ձոր'!K96+Արմավիր!K96+Կոտայք!K96+Շիրակ!K96+Տավուշ!K96+Սյունիք!K96+Գեղարքունիք!K96) -> 0 | ... AB96: =SUM(Լոռի!AB96+'Արագածոտն '!AB96+'Երևան քաղաք'!AB96+'Արարատ և Վայոց ձոր'!AB96+Արմավիր!AB96+Կոտայք!AB96+Շիրակ!AB96+Տավուշ!AB96+Սյունիք!AB96+Գեղարքունիք!AB96) -> 0
A97: 6. | B97: Ընդամենը սեփականության դեմ ուղղված հանցագործությունները | D97: =SUM(Լոռի!D97+'Արագածոտն '!D97+'Երևան քաղաք'!D97+'Արարատ և Վայոց ձոր'!D97+Արմավիր!D97+Կոտայք!D97+Շիրակ!D97+Տավուշ!D97+Սյունիք!D97+Գեղարքունիք!D97) -> 12 | E97: =SUM(Լոռի!E97+'Արագածոտն '!E97+'Երևան քաղաք'!E97+'Արարատ և Վայոց ձոր'!E97+Արմավիր!E97+Կոտայք!E97+Շիրակ!E97+Տավուշ!E97+Սյունիք!E97+Գեղարքունիք!E97) -> 23 | F97: =SUM(Լոռի!F97+'Արագածոտն '!F97+'Երևան քաղաք'!F97+'Արարատ և Վայոց ձոր'!F97+Արմավիր!F97+Կոտայք!F97+Շիրակ!F97+Տավուշ!F97+Սյունիք!F97+Գեղարքունիք!F97) -> 35 | G97: =SUM(Լոռի!G97+'Արագածոտն '!G97+'Երևան քաղաք'!G97+'Արարատ և Վայոց ձոր'!G97+Արմավիր!G97+Կոտայք!G97+Շիրակ!G97+Տավուշ!G97+Սյունիք!G97+Գեղարքունիք!G97) -> 1 | H97: =SUM(Լոռի!H97+'Արագածոտն '!H97+'Երևան քաղաք'!H97+'Արարատ և Վայոց ձոր'!H97+Արմավիր!H97+Կոտայք!H97+Շիրակ!H97+Տավուշ!H97+Սյունիք!H97+Գեղարքունիք!H97) -> 12 | I97: =SUM(Լոռի!I97+'Արագածոտն '!I97+'Երևան քաղաք'!I97+'Արարատ և Վայոց ձոր'!I97+Արմավիր!I97+Կոտայք!I97+Շիրակ!I97+Տավուշ!I97+Սյունիք!I97+Գեղարքունիք!I97) -> 0 | J97: =SUM(Լոռի!J97+'Արագածոտն '!J97+'Երևան քաղաք'!J97+'Արարատ և Վայոց ձոր'!J97+Արմավիր!J97+Կոտայք!J97+Շիրակ!J97+Տավուշ!J97+Սյունիք!J97+Գեղարքունիք!J97) -> 3 | K97: =SUM(Լոռի!K97+'Արագածոտն '!K97+'Երևան քաղաք'!K97+'Արարատ և Վայոց ձոր'!K97+Արմավիր!K97+Կոտայք!K97+Շիրակ!K97+Տավուշ!K97+Սյունիք!K97+Գեղարքունիք!K97) -> 3 | ... AB97: =SUM(Լոռի!AB97+'Արագածոտն '!AB97+'Երևան քաղաք'!AB97+'Արարատ և Վայոց ձոր'!AB97+Արմավիր!AB97+Կոտայք!AB97+Շիրակ!AB97+Տավուշ!AB97+Սյունիք!AB97+Գեղարքունիք!AB97) -> 0
A98: 6.1 | B98: Ավազակությունը | C98: 175 | D98: =SUM(Լոռի!D98+'Արագածոտն '!D98+'Երևան քաղաք'!D98+'Արարատ և Վայոց ձոր'!D98+Արմավիր!D98+Կոտայք!D98+Շիրակ!D98+Տավուշ!D98+Սյունիք!D98+Գեղարքունիք!D98) -> 0 | E98: =SUM(Լոռի!E98+'Արագածոտն '!E98+'Երևան քաղաք'!E98+'Արարատ և Վայոց ձոր'!E98+Արմավիր!E98+Կոտայք!E98+Շիրակ!E98+Տավուշ!E98+Սյունիք!E98+Գեղարքունիք!E98) -> 0 | F98: =SUM(Լոռի!F98+'Արագածոտն '!F98+'Երևան քաղաք'!F98+'Արարատ և Վայոց ձոր'!F98+Արմավիր!F98+Կոտայք!F98+Շիրակ!F98+Տավուշ!F98+Սյունիք!F98+Գեղարքունիք!F98) -> 0 | G98: =SUM(Լոռի!G98+'Արագածոտն '!G98+'Երևան քաղաք'!G98+'Արարատ և Վայոց ձոր'!G98+Արմավիր!G98+Կոտայք!G98+Շիրակ!G98+Տավուշ!G98+Սյունիք!G98+Գեղարքունիք!G98) -> 0 | H98: =SUM(Լոռի!H98+'Արագածոտն '!H98+'Երևան քաղաք'!H98+'Արարատ և Վայոց ձոր'!H98+Արմավիր!H98+Կոտայք!H98+Շիրակ!H98+Տավուշ!H98+Սյունիք!H98+Գեղարքունիք!H98) -> 0 | I98: =SUM(Լոռի!I98+'Արագածոտն '!I98+'Երևան քաղաք'!I98+'Արարատ և Վայոց ձոր'!I98+Արմավիր!I98+Կոտայք!I98+Շիրակ!I98+Տավուշ!I98+Սյունիք!I98+Գեղարքունիք!I98) -> 0 | J98: =SUM(Լոռի!J98+'Արագածոտն '!J98+'Երևան քաղաք'!J98+'Արարատ և Վայոց ձոր'!J98+Արմավիր!J98+Կոտայք!J98+Շիրակ!J98+Տավուշ!J98+Սյունիք!J98+Գեղարքունիք!J98) -> 0 | K98: =SUM(Լոռի!K98+'Արագածոտն '!K98+'Երևան քաղաք'!K98+'Արարատ և Վայոց ձոր'!K98+Արմավիր!K98+Կոտայք!K98+Շիրակ!K98+Տավուշ!K98+Սյունիք!K98+Գեղարքունիք!K98) -> 0 | ... AB98: =SUM(Լոռի!AB98+'Արագածոտն '!AB98+'Երևան քաղաք'!AB98+'Արարատ և Վայոց ձոր'!AB98+Արմավիր!AB98+Կոտայք!AB98+Շիրակ!AB98+Տավուշ!AB98+Սյունիք!AB98+Գեղարքունիք!AB98) -> 0
A99: 6.2 | B99: Կողոպուտը | C99: 176 | D99: =SUM(Լոռի!D99+'Արագածոտն '!D99+'Երևան քաղաք'!D99+'Արարատ և Վայոց ձոր'!D99+Արմավիր!D99+Կոտայք!D99+Շիրակ!D99+Տավուշ!D99+Սյունիք!D99+Գեղարքունիք!D99) -> 0 | E99: =SUM(Լոռի!E99+'Արագածոտն '!E99+'Երևան քաղաք'!E99+'Արարատ և Վայոց ձոր'!E99+Արմավիր!E99+Կոտայք!E99+Շիրակ!E99+Տավուշ!E99+Սյունիք!E99+Գեղարքունիք!E99) -> 1 | F99: =SUM(Լոռի!F99+'Արագածոտն '!F99+'Երևան քաղաք'!F99+'Արարատ և Վայոց ձոր'!F99+Արմավիր!F99+Կոտայք!F99+Շիրակ!F99+Տավուշ!F99+Սյունիք!F99+Գեղարքունիք!F99) -> 1 | G99: =SUM(Լոռի!G99+'Արագածոտն '!G99+'Երևան քաղաք'!G99+'Արարատ և Վայոց ձոր'!G99+Արմավիր!G99+Կոտայք!G99+Շիրակ!G99+Տավուշ!G99+Սյունիք!G99+Գեղարքունիք!G99) -> 0 | H99: =SUM(Լոռի!H99+'Արագածոտն '!H99+'Երևան քաղաք'!H99+'Արարատ և Վայոց ձոր'!H99+Արմավիր!H99+Կոտայք!H99+Շիրակ!H99+Տավուշ!H99+Սյունիք!H99+Գեղարքունիք!H99) -> 1 | I99: =SUM(Լոռի!I99+'Արագածոտն '!I99+'Երևան քաղաք'!I99+'Արարատ և Վայոց ձոր'!I99+Արմավիր!I99+Կոտայք!I99+Շիրակ!I99+Տավուշ!I99+Սյունիք!I99+Գեղարքունիք!I99) -> 0 | J99: =SUM(Լոռի!J99+'Արագածոտն '!J99+'Երևան քաղաք'!J99+'Արարատ և Վայոց ձոր'!J99+Արմավիր!J99+Կոտայք!J99+Շիրակ!J99+Տավուշ!J99+Սյունիք!J99+Գեղարքունիք!J99) -> 0 | K99: =SUM(Լոռի!K99+'Արագածոտն '!K99+'Երևան քաղաք'!K99+'Արարատ և Վայոց ձոր'!K99+Արմավիր!K99+Կոտայք!K99+Շիրակ!K99+Տավուշ!K99+Սյունիք!K99+Գեղարքունիք!K99) -> 0 | ... AB99: =SUM(Լոռի!AB99+'Արագածոտն '!AB99+'Երևան քաղաք'!AB99+'Արարատ և Վայոց ձոր'!AB99+Արմավիր!AB99+Կոտայք!AB99+Շիրակ!AB99+Տավուշ!AB99+Սյունիք!AB99+Գեղարքունիք!AB99) -> 0
A100: 6.3 | B100: Գողությունը | C100: 177 | D100: =SUM(Լոռի!D100+'Արագածոտն '!D100+'Երևան քաղաք'!D100+'Արարատ և Վայոց ձոր'!D100+Արմավիր!D100+Կոտայք!D100+Շիրակ!D100+Տավուշ!D100+Սյունիք!D100+Գեղարքունիք!D100) -> 10 | E100: =SUM(Լոռի!E100+'Արագածոտն '!E100+'Երևան քաղաք'!E100+'Արարատ և Վայոց ձոր'!E100+Արմավիր!E100+Կոտայք!E100+Շիրակ!E100+Տավուշ!E100+Սյունիք!E100+Գեղարքունիք!E100) -> 21 | F100: =SUM(Լոռի!F100+'Արագածոտն '!F100+'Երևան քաղաք'!F100+'Արարատ և Վայոց ձոր'!F100+Արմավիր!F100+Կոտայք!F100+Շիրակ!F100+Տավուշ!F100+Սյունիք!F100+Գեղարքունիք!F100) -> 31 | G100: =SUM(Լոռի!G100+'Արագածոտն '!G100+'Երևան քաղաք'!G100+'Արարատ և Վայոց ձոր'!G100+Արմավիր!G100+Կոտայք!G100+Շիրակ!G100+Տավուշ!G100+Սյունիք!G100+Գեղարքունիք!G100) -> 1 | H100: =SUM(Լոռի!H100+'Արագածոտն '!H100+'Երևան քաղաք'!H100+'Արարատ և Վայոց ձոր'!H100+Արմավիր!H100+Կոտայք!H100+Շիրակ!H100+Տավուշ!H100+Սյունիք!H100+Գեղարքունիք!H100) -> 10 | I100: =SUM(Լոռի!I100+'Արագածոտն '!I100+'Երևան քաղաք'!I100+'Արարատ և Վայոց ձոր'!I100+Արմավիր!I100+Կոտայք!I100+Շիրակ!I100+Տավուշ!I100+Սյունիք!I100+Գեղարքունիք!I100) -> 0 | J100: =SUM(Լոռի!J100+'Արագածոտն '!J100+'Երևան քաղաք'!J100+'Արարատ և Վայոց ձոր'!J100+Արմավիր!J100+Կոտայք!J100+Շիրակ!J100+Տավուշ!J100+Սյունիք!J100+Գեղարքունիք!J100) -> 3 | K100: =SUM(Լոռի!K100+'Արագածոտն '!K100+'Երևան քաղաք'!K100+'Արարատ և Վայոց ձոր'!K100+Արմավիր!K100+Կոտայք!K100+Շիրակ!K100+Տավուշ!K100+Սյունիք!K100+Գեղարքունիք!K100) -> 3 | ... Y100: =SUM(Լոռի!Y100+'Արագածոտն '!Y100+'Երևան քաղաք'!Y100+'Արարատ և Վայոց ձոր'!Y100+Արմավիր!Y100+Կոտայք!Y100+Շիրակ!Y100+Տավուշ!Y100+Սյունիք!Y100+Գեղարքունիք!Y100) -> 0 | Z100: 0 | AA100: =SUM(Լոռի!AA100+'Արագածոտն '!AA100+'Երևան քաղաք'!AA100+'Արարատ և Վայոց ձոր'!AA100+Արմավիր!AA100+Կոտայք!AA100+Շիրակ!AA100+Տավուշ!AA100+Սյունիք!AA100+Գեղարքունիք!AA100) -> 0 | AB100: =SUM(Լոռի!AB100+'Արագածոտն '!AB100+'Երևան քաղաք'!AB100+'Արարատ և Վայոց ձոր'!AB100+Արմավիր!AB100+Կոտայք!AB100+Շիրակ!AB100+Տավուշ!AB100+Սյունիք!AB100+Գեղարքունիք!AB100) -> 0
A101: 6.4 | B101: Խարդախությունը | C101: 178 | D101: =SUM(Լոռի!D101+'Արագածոտն '!D101+'Երևան քաղաք'!D101+'Արարատ և Վայոց ձոր'!D101+Արմավիր!D101+Կոտայք!D101+Շիրակ!D101+Տավուշ!D101+Սյունիք!D101+Գեղարքունիք!D101) -> 0 | E101: =SUM(Լոռի!E101+'Արագածոտն '!E101+'Երևան քաղաք'!E101+'Արարատ և Վայոց ձոր'!E101+Արմավիր!E101+Կոտայք!E101+Շիրակ!E101+Տավուշ!E101+Սյունիք!E101+Գեղարքունիք!E101) -> 1 | F101: =SUM(Լոռի!F101+'Արագածոտն '!F101+'Երևան քաղաք'!F101+'Արարատ և Վայոց ձոր'!F101+Արմավիր!F101+Կոտայք!F101+Շիրակ!F101+Տավուշ!F101+Սյունիք!F101+Գեղարքունիք!F101) -> 1 | G101: =SUM(Լոռի!G101+'Արագածոտն '!G101+'Երևան քաղաք'!G101+'Արարատ և Վայոց ձոր'!G101+Արմավիր!G101+Կոտայք!G101+Շիրակ!G101+Տավուշ!G101+Սյունիք!G101+Գեղարքունիք!G101) -> 0 | H101: =SUM(Լոռի!H101+'Արագածոտն '!H101+'Երևան քաղաք'!H101+'Արարատ և Վայոց ձոր'!H101+Արմավիր!H101+Կոտայք!H101+Շիրակ!H101+Տավուշ!H101+Սյունիք!H101+Գեղարքունիք!H101) -> 1 | I101: =SUM(Լոռի!I101+'Արագածոտն '!I101+'Երևան քաղաք'!I101+'Արարատ և Վայոց ձոր'!I101+Արմավիր!I101+Կոտայք!I101+Շիրակ!I101+Տավուշ!I101+Սյունիք!I101+Գեղարքունիք!I101) -> 0 | J101: =SUM(Լոռի!J101+'Արագածոտն '!J101+'Երևան քաղաք'!J101+'Արարատ և Վայոց ձոր'!J101+Արմավիր!J101+Կոտայք!J101+Շիրակ!J101+Տավուշ!J101+Սյունիք!J101+Գեղարքունիք!J101) -> 0 | K101: =SUM(Լոռի!K101+'Արագածոտն '!K101+'Երևան քաղաք'!K101+'Արարատ և Վայոց ձոր'!K101+Արմավիր!K101+Կոտայք!K101+Շիրակ!K101+Տավուշ!K101+Սյունիք!K101+Գեղարքունիք!K101) -> 0 | ... AB101: =SUM(Լոռի!AB101+'Արագածոտն '!AB101+'Երևան քաղաք'!AB101+'Արարատ և Վայոց ձոր'!AB101+Արմավիր!AB101+Կոտայք!AB101+Շիրակ!AB101+Տավուշ!AB101+Սյունիք!AB101+Գեղարքունիք!AB101) -> 0
A102: 6.5 | B102: Յուրացնելը կամ վատնելը | C102: 179 | D102: =SUM(Լոռի!D102+'Արագածոտն '!D102+'Երևան քաղաք'!D102+'Արարատ և Վայոց ձոր'!D102+Արմավիր!D102+Կոտայք!D102+Շիրակ!D102+Տավուշ!D102+Սյունիք!D102+Գեղարքունիք!D102) -> 0 | E102: =SUM(Լոռի!E102+'Արագածոտն '!E102+'Երևան քաղաք'!E102+'Արարատ և Վայոց ձոր'!E102+Արմավիր!E102+Կոտայք!E102+Շիրակ!E102+Տավուշ!E102+Սյունիք!E102+Գեղարքունիք!E102) -> 0 | F102: =SUM(Լոռի!F102+'Արագածոտն '!F102+'Երևան քաղաք'!F102+'Արարատ և Վայոց ձոր'!F102+Արմավիր!F102+Կոտայք!F102+Շիրակ!F102+Տավուշ!F102+Սյունիք!F102+Գեղարքունիք!F102) -> 0 | G102: =SUM(Լոռի!G102+'Արագածոտն '!G102+'Երևան քաղաք'!G102+'Արարատ և Վայոց ձոր'!G102+Արմավիր!G102+Կոտայք!G102+Շիրակ!G102+Տավուշ!G102+Սյունիք!G102+Գեղարքունիք!G102) -> 0 | H102: =SUM(Լոռի!H102+'Արագածոտն '!H102+'Երևան քաղաք'!H102+'Արարատ և Վայոց ձոր'!H102+Արմավիր!H102+Կոտայք!H102+Շիրակ!H102+Տավուշ!H102+Սյունիք!H102+Գեղարքունիք!H102) -> 0 | I102: =SUM(Լոռի!I102+'Արագածոտն '!I102+'Երևան քաղաք'!I102+'Արարատ և Վայոց ձոր'!I102+Արմավիր!I102+Կոտայք!I102+Շիրակ!I102+Տավուշ!I102+Սյունիք!I102+Գեղարքունիք!I102) -> 0 | J102: =SUM(Լոռի!J102+'Արագածոտն '!J102+'Երևան քաղաք'!J102+'Արարատ և Վայոց ձոր'!J102+Արմավիր!J102+Կոտայք!J102+Շիրակ!J102+Տավուշ!J102+Սյունիք!J102+Գեղարքունիք!J102) -> 0 | K102: =SUM(Լոռի!K102+'Արագածոտն '!K102+'Երևան քաղաք'!K102+'Արարատ և Վայոց ձոր'!K102+Արմավիր!K102+Կոտայք!K102+Շիրակ!K102+Տավուշ!K102+Սյունիք!K102+Գեղարքունիք!K102) -> 0 | ... AB102: =SUM(Լոռի!AB102+'Արագածոտն '!AB102+'Երևան քաղաք'!AB102+'Արարատ և Վայոց ձոր'!AB102+Արմավիր!AB102+Կոտայք!AB102+Շիրակ!AB102+Տավուշ!AB102+Սյունիք!AB102+Գեղարքունիք!AB102) -> 0
A103: 6.6 | B103: Առանձնակի արժեք ունեցող առարկաներ հափշտակելը | C103: 180 | D103: =SUM(Լոռի!D103+'Արագածոտն '!D103+'Երևան քաղաք'!D103+'Արարատ և Վայոց ձոր'!D103+Արմավիր!D103+Կոտայք!D103+Շիրակ!D103+Տավուշ!D103+Սյունիք!D103+Գեղարքունիք!D103) -> 0 | E103: =SUM(Լոռի!E103+'Արագածոտն '!E103+'Երևան քաղաք'!E103+'Արարատ և Վայոց ձոր'!E103+Արմավիր!E103+Կոտայք!E103+Շիրակ!E103+Տավուշ!E103+Սյունիք!E103+Գեղարքունիք!E103) -> 0 | F103: =SUM(Լոռի!F103+'Արագածոտն '!F103+'Երևան քաղաք'!F103+'Արարատ և Վայոց ձոր'!F103+Արմավիր!F103+Կոտայք!F103+Շիրակ!F103+Տավուշ!F103+Սյունիք!F103+Գեղարքունիք!F103) -> 0 | G103: =SUM(Լոռի!G103+'Արագածոտն '!G103+'Երևան քաղաք'!G103+'Արարատ և Վայոց ձոր'!G103+Արմավիր!G103+Կոտայք!G103+Շիրակ!G103+Տավուշ!G103+Սյունիք!G103+Գեղարքունիք!G103) -> 0 | H103: =SUM(Լոռի!H103+'Արագածոտն '!H103+'Երևան քաղաք'!H103+'Արարատ և Վայոց ձոր'!H103+Արմավիր!H103+Կոտայք!H103+Շիրակ!H103+Տավուշ!H103+Սյունիք!H103+Գեղարքունիք!H103) -> 0 | I103: =SUM(Լոռի!I103+'Արագածոտն '!I103+'Երևան քաղաք'!I103+'Արարատ և Վայոց ձոր'!I103+Արմավիր!I103+Կոտայք!I103+Շիրակ!I103+Տավուշ!I103+Սյունիք!I103+Գեղարքունիք!I103) -> 0 | J103: =SUM(Լոռի!J103+'Արագածոտն '!J103+'Երևան քաղաք'!J103+'Արարատ և Վայոց ձոր'!J103+Արմավիր!J103+Կոտայք!J103+Շիրակ!J103+Տավուշ!J103+Սյունիք!J103+Գեղարքունիք!J103) -> 0 | K103: =SUM(Լոռի!K103+'Արագածոտն '!K103+'Երևան քաղաք'!K103+'Արարատ և Վայոց ձոր'!K103+Արմավիր!K103+Կոտայք!K103+Շիրակ!K103+Տավուշ!K103+Սյունիք!K103+Գեղարքունիք!K103) -> 0 | ... AB103: =SUM(Լոռի!AB103+'Արագածոտն '!AB103+'Երևան քաղաք'!AB103+'Արարատ և Վայոց ձոր'!AB103+Արմավիր!AB103+Կոտայք!AB103+Շիրակ!AB103+Տավուշ!AB103+Սյունիք!AB103+Գեղարքունիք!AB103) -> 0
A104: 6.7 | B104: Հափշտակությունը, որը կատարվել է համակարգչային տեխնիկայի օգտագործմամբ | C104: 181 | D104: =SUM(Լոռի!D104+'Արագածոտն '!D104+'Երևան քաղաք'!D104+'Արարատ և Վայոց ձոր'!D104+Արմավիր!D104+Կոտայք!D104+Շիրակ!D104+Տավուշ!D104+Սյունիք!D104+Գեղարքունիք!D104) -> 0 | E104: =SUM(Լոռի!E104+'Արագածոտն '!E104+'Երևան քաղաք'!E104+'Արարատ և Վայոց ձոր'!E104+Արմավիր!E104+Կոտայք!E104+Շիրակ!E104+Տավուշ!E104+Սյունիք!E104+Գեղարքունիք!E104) -> 0 | F104: =SUM(Լոռի!F104+'Արագածոտն '!F104+'Երևան քաղաք'!F104+'Արարատ և Վայոց ձոր'!F104+Արմավիր!F104+Կոտայք!F104+Շիրակ!F104+Տավուշ!F104+Սյունիք!F104+Գեղարքունիք!F104) -> 0 | G104: =SUM(Լոռի!G104+'Արագածոտն '!G104+'Երևան քաղաք'!G104+'Արարատ և Վայոց ձոր'!G104+Արմավիր!G104+Կոտայք!G104+Շիրակ!G104+Տավուշ!G104+Սյունիք!G104+Գեղարքունիք!G104) -> 0 | H104: =SUM(Լոռի!H104+'Արագածոտն '!H104+'Երևան քաղաք'!H104+'Արարատ և Վայոց ձոր'!H104+Արմավիր!H104+Կոտայք!H104+Շիրակ!H104+Տավուշ!H104+Սյունիք!H104+Գեղարքունիք!H104) -> 0 | I104: =SUM(Լոռի!I104+'Արագածոտն '!I104+'Երևան քաղաք'!I104+'Արարատ և Վայոց ձոր'!I104+Արմավիր!I104+Կոտայք!I104+Շիրակ!I104+Տավուշ!I104+Սյունիք!I104+Գեղարքունիք!I104) -> 0 | J104: =SUM(Լոռի!J104+'Արագածոտն '!J104+'Երևան քաղաք'!J104+'Արարատ և Վայոց ձոր'!J104+Արմավիր!J104+Կոտայք!J104+Շիրակ!J104+Տավուշ!J104+Սյունիք!J104+Գեղարքունիք!J104) -> 0 | K104: =SUM(Լոռի!K104+'Արագածոտն '!K104+'Երևան քաղաք'!K104+'Արարատ և Վայոց ձոր'!K104+Արմավիր!K104+Կոտայք!K104+Շիրակ!K104+Տավուշ!K104+Սյունիք!K104+Գեղարքունիք!K104) -> 0 | ... AB104: =SUM(Լոռի!AB104+'Արագածոտն '!AB104+'Երևան քաղաք'!AB104+'Արարատ և Վայոց ձոր'!AB104+Արմավիր!AB104+Կոտայք!AB104+Շիրակ!AB104+Տավուշ!AB104+Սյունիք!AB104+Գեղարքունիք!AB104) -> 0
A105: 6.8 | B105: Շորթումը | C105: 182 | D105: =SUM(Լոռի!D105+'Արագածոտն '!D105+'Երևան քաղաք'!D105+'Արարատ և Վայոց ձոր'!D105+Արմավիր!D105+Կոտայք!D105+Շիրակ!D105+Տավուշ!D105+Սյունիք!D105+Գեղարքունիք!D105) -> 0 | E105: =SUM(Լոռի!E105+'Արագածոտն '!E105+'Երևան քաղաք'!E105+'Արարատ և Վայոց ձոր'!E105+Արմավիր!E105+Կոտայք!E105+Շիրակ!E105+Տավուշ!E105+Սյունիք!E105+Գեղարքունիք!E105) -> 0 | F105: =SUM(Լոռի!F105+'Արագածոտն '!F105+'Երևան քաղաք'!F105+'Արարատ և Վայոց ձոր'!F105+Արմավիր!F105+Կոտայք!F105+Շիրակ!F105+Տավուշ!F105+Սյունիք!F105+Գեղարքունիք!F105) -> 0 | G105: =SUM(Լոռի!G105+'Արագածոտն '!G105+'Երևան քաղաք'!G105+'Արարատ և Վայոց ձոր'!G105+Արմավիր!G105+Կոտայք!G105+Շիրակ!G105+Տավուշ!G105+Սյունիք!G105+Գեղարքունիք!G105) -> 0 | H105: =SUM(Լոռի!H105+'Արագածոտն '!H105+'Երևան քաղաք'!H105+'Արարատ և Վայոց ձոր'!H105+Արմավիր!H105+Կոտայք!H105+Շիրակ!H105+Տավուշ!H105+Սյունիք!H105+Գեղարքունիք!H105) -> 0 | I105: =SUM(Լոռի!I105+'Արագածոտն '!I105+'Երևան քաղաք'!I105+'Արարատ և Վայոց ձոր'!I105+Արմավիր!I105+Կոտայք!I105+Շիրակ!I105+Տավուշ!I105+Սյունիք!I105+Գեղարքունիք!I105) -> 0 | J105: =SUM(Լոռի!J105+'Արագածոտն '!J105+'Երևան քաղաք'!J105+'Արարատ և Վայոց ձոր'!J105+Արմավիր!J105+Կոտայք!J105+Շիրակ!J105+Տավուշ!J105+Սյունիք!J105+Գեղարքունիք!J105) -> 0 | K105: =SUM(Լոռի!K105+'Արագածոտն '!K105+'Երևան քաղաք'!K105+'Արարատ և Վայոց ձոր'!K105+Արմավիր!K105+Կոտայք!K105+Շիրակ!K105+Տավուշ!K105+Սյունիք!K105+Գեղարքունիք!K105) -> 0 | ... AB105: =SUM(Լոռի!AB105+'Արագածոտն '!AB105+'Երևան քաղաք'!AB105+'Արարատ և Վայոց ձոր'!AB105+Արմավիր!AB105+Կոտայք!AB105+Շիրակ!AB105+Տավուշ!AB105+Սյունիք!AB105+Գեղարքունիք!AB105) -> 0
A106: 6.9 | B106: Ավտոմեքենային կամ տրանսպորտային այլ միջոցին ապօրինաբար տիրանալն առանց հափշտակելու նպատակի | C106: 183 | D106: =SUM(Լոռի!D106+'Արագածոտն '!D106+'Երևան քաղաք'!D106+'Արարատ և Վայոց ձոր'!D106+Արմավիր!D106+Կոտայք!D106+Շիրակ!D106+Տավուշ!D106+Սյունիք!D106+Գեղարքունիք!D106) -> 2 | E106: =SUM(Լոռի!E106+'Արագածոտն '!E106+'Երևան քաղաք'!E106+'Արարատ և Վայոց ձոր'!E106+Արմավիր!E106+Կոտայք!E106+Շիրակ!E106+Տավուշ!E106+Սյունիք!E106+Գեղարքունիք!E106) -> 0 | F106: =SUM(Լոռի!F106+'Արագածոտն '!F106+'Երևան քաղաք'!F106+'Արարատ և Վայոց ձոր'!F106+Արմավիր!F106+Կոտայք!F106+Շիրակ!F106+Տավուշ!F106+Սյունիք!F106+Գեղարքունիք!F106) -> 2 | G106: =SUM(Լոռի!G106+'Արագածոտն '!G106+'Երևան քաղաք'!G106+'Արարատ և Վայոց ձոր'!G106+Արմավիր!G106+Կոտայք!G106+Շիրակ!G106+Տավուշ!G106+Սյունիք!G106+Գեղարքունիք!G106) -> 0 | H106: =SUM(Լոռի!H106+'Արագածոտն '!H106+'Երևան քաղաք'!H106+'Արարատ և Վայոց ձոր'!H106+Արմավիր!H106+Կոտայք!H106+Շիրակ!H106+Տավուշ!H106+Սյունիք!H106+Գեղարքունիք!H106) -> 0 | I106: =SUM(Լոռի!I106+'Արագածոտն '!I106+'Երևան քաղաք'!I106+'Արարատ և Վայոց ձոր'!I106+Արմավիր!I106+Կոտայք!I106+Շիրակ!I106+Տավուշ!I106+Սյունիք!I106+Գեղարքունիք!I106) -> 0 | J106: =SUM(Լոռի!J106+'Արագածոտն '!J106+'Երևան քաղաք'!J106+'Արարատ և Վայոց ձոր'!J106+Արմավիր!J106+Կոտայք!J106+Շիրակ!J106+Տավուշ!J106+Սյունիք!J106+Գեղարքունիք!J106) -> 0 | K106: =SUM(Լոռի!K106+'Արագածոտն '!K106+'Երևան քաղաք'!K106+'Արարատ և Վայոց ձոր'!K106+Արմավիր!K106+Կոտայք!K106+Շիրակ!K106+Տավուշ!K106+Սյունիք!K106+Գեղարքունիք!K106) -> 0 | ... AB106: =SUM(Լոռի!AB106+'Արագածոտն '!AB106+'Երևան քաղաք'!AB106+'Արարատ և Վայոց ձոր'!AB106+Արմավիր!AB106+Կոտայք!AB106+Շիրակ!AB106+Տավուշ!AB106+Սյունիք!AB106+Գեղարքունիք!AB106) -> 0
A107: 6.10 | B107: Գույքային վնաս պատճառելը խաբեության կամ վստահությունը չարաշահելու եղանակով | C107: 184 | D107: =SUM(Լոռի!D107+'Արագածոտն '!D107+'Երևան քաղաք'!D107+'Արարատ և Վայոց ձոր'!D107+Արմավիր!D107+Կոտայք!D107+Շիրակ!D107+Տավուշ!D107+Սյունիք!D107+Գեղարքունիք!D107) -> 0 | E107: =SUM(Լոռի!E107+'Արագածոտն '!E107+'Երևան քաղաք'!E107+'Արարատ և Վայոց ձոր'!E107+Արմավիր!E107+Կոտայք!E107+Շիրակ!E107+Տավուշ!E107+Սյունիք!E107+Գեղարքունիք!E107) -> 0 | F107: =SUM(Լոռի!F107+'Արագածոտն '!F107+'Երևան քաղաք'!F107+'Արարատ և Վայոց ձոր'!F107+Արմավիր!F107+Կոտայք!F107+Շիրակ!F107+Տավուշ!F107+Սյունիք!F107+Գեղարքունիք!F107) -> 0 | G107: =SUM(Լոռի!G107+'Արագածոտն '!G107+'Երևան քաղաք'!G107+'Արարատ և Վայոց ձոր'!G107+Արմավիր!G107+Կոտայք!G107+Շիրակ!G107+Տավուշ!G107+Սյունիք!G107+Գեղարքունիք!G107) -> 0 | H107: =SUM(Լոռի!H107+'Արագածոտն '!H107+'Երևան քաղաք'!H107+'Արարատ և Վայոց ձոր'!H107+Արմավիր!H107+Կոտայք!H107+Շիրակ!H107+Տավուշ!H107+Սյունիք!H107+Գեղարքունիք!H107) -> 0 | I107: =SUM(Լոռի!I107+'Արագածոտն '!I107+'Երևան քաղաք'!I107+'Արարատ և Վայոց ձոր'!I107+Արմավիր!I107+Կոտայք!I107+Շիրակ!I107+Տավուշ!I107+Սյունիք!I107+Գեղարքունիք!I107) -> 0 | J107: =SUM(Լոռի!J107+'Արագածոտն '!J107+'Երևան քաղաք'!J107+'Արարատ և Վայոց ձոր'!J107+Արմավիր!J107+Կոտայք!J107+Շիրակ!J107+Տավուշ!J107+Սյունիք!J107+Գեղարքունիք!J107) -> 0 | K107: =SUM(Լոռի!K107+'Արագածոտն '!K107+'Երևան քաղաք'!K107+'Արարատ և Վայոց ձոր'!K107+Արմավիր!K107+Կոտայք!K107+Շիրակ!K107+Տավուշ!K107+Սյունիք!K107+Գեղարքունիք!K107) -> 0 | ... AB107: =SUM(Լոռի!AB107+'Արագածոտն '!AB107+'Երևան քաղաք'!AB107+'Արարատ և Վայոց ձոր'!AB107+Արմավիր!AB107+Կոտայք!AB107+Շիրակ!AB107+Տավուշ!AB107+Սյունիք!AB107+Գեղարքունիք!AB107) -> 0
A108: 6.10.1 | B108: Գրավառուին վնաս պատճառելը | C108: 184.1 | D108: =SUM(Լոռի!D108+'Արագածոտն '!D108+'Երևան քաղաք'!D108+'Արարատ և Վայոց ձոր'!D108+Արմավիր!D108+Կոտայք!D108+Շիրակ!D108+Տավուշ!D108+Սյունիք!D108+Գեղարքունիք!D108) -> 0 | E108: =SUM(Լոռի!E108+'Արագածոտն '!E108+'Երևան քաղաք'!E108+'Արարատ և Վայոց ձոր'!E108+Արմավիր!E108+Կոտայք!E108+Շիրակ!E108+Տավուշ!E108+Սյունիք!E108+Գեղարքունիք!E108) -> 0 | F108: =SUM(Լոռի!F108+'Արագածոտն '!F108+'Երևան քաղաք'!F108+'Արարատ և Վայոց ձոր'!F108+Արմավիր!F108+Կոտայք!F108+Շիրակ!F108+Տավուշ!F108+Սյունիք!F108+Գեղարքունիք!F108) -> 0 | G108: =SUM(Լոռի!G108+'Արագածոտն '!G108+'Երևան քաղաք'!G108+'Արարատ և Վայոց ձոր'!G108+Արմավիր!G108+Կոտայք!G108+Շիրակ!G108+Տավուշ!G108+Սյունիք!G108+Գեղարքունիք!G108) -> 0 | H108: =SUM(Լոռի!H108+'Արագածոտն '!H108+'Երևան քաղաք'!H108+'Արարատ և Վայոց ձոր'!H108+Արմավիր!H108+Կոտայք!H108+Շիրակ!H108+Տավուշ!H108+Սյունիք!H108+Գեղարքունիք!H108) -> 0 | I108: =SUM(Լոռի!I108+'Արագածոտն '!I108+'Երևան քաղաք'!I108+'Արարատ և Վայոց ձոր'!I108+Արմավիր!I108+Կոտայք!I108+Շիրակ!I108+Տավուշ!I108+Սյունիք!I108+Գեղարքունիք!I108) -> 0 | J108: =SUM(Լոռի!J108+'Արագածոտն '!J108+'Երևան քաղաք'!J108+'Արարատ և Վայոց ձոր'!J108+Արմավիր!J108+Կոտայք!J108+Շիրակ!J108+Տավուշ!J108+Սյունիք!J108+Գեղարքունիք!J108) -> 0 | K108: =SUM(Լոռի!K108+'Արագածոտն '!K108+'Երևան քաղաք'!K108+'Արարատ և Վայոց ձոր'!K108+Արմավիր!K108+Կոտայք!K108+Շիրակ!K108+Տավուշ!K108+Սյունիք!K108+Գեղարքունիք!K108) -> 0 | ... AB108: =SUM(Լոռի!AB108+'Արագածոտն '!AB108+'Երևան քաղաք'!AB108+'Արարատ և Վայոց ձոր'!AB108+Արմավիր!AB108+Կոտայք!AB108+Շիրակ!AB108+Տավուշ!AB108+Սյունիք!AB108+Գեղարքունիք!AB108) -> 0
A109: 6.11 | B109: Գույքը դիտավորությամբ ոչնչացնելը կամ վնասելը | C109: 185 | D109: =SUM(Լոռի!D109+'Արագածոտն '!D109+'Երևան քաղաք'!D109+'Արարատ և Վայոց ձոր'!D109+Արմավիր!D109+Կոտայք!D109+Շիրակ!D109+Տավուշ!D109+Սյունիք!D109+Գեղարքունիք!D109) -> 0 | E109: =SUM(Լոռի!E109+'Արագածոտն '!E109+'Երևան քաղաք'!E109+'Արարատ և Վայոց ձոր'!E109+Արմավիր!E109+Կոտայք!E109+Շիրակ!E109+Տավուշ!E109+Սյունիք!E109+Գեղարքունիք!E109) -> 0 | F109: =SUM(Լոռի!F109+'Արագածոտն '!F109+'Երևան քաղաք'!F109+'Արարատ և Վայոց ձոր'!F109+Արմավիր!F109+Կոտայք!F109+Շիրակ!F109+Տավուշ!F109+Սյունիք!F109+Գեղարքունիք!F109) -> 0 | G109: =SUM(Լոռի!G109+'Արագածոտն '!G109+'Երևան քաղաք'!G109+'Արարատ և Վայոց ձոր'!G109+Արմավիր!G109+Կոտայք!G109+Շիրակ!G109+Տավուշ!G109+Սյունիք!G109+Գեղարքունիք!G109) -> 0 | H109: =SUM(Լոռի!H109+'Արագածոտն '!H109+'Երևան քաղաք'!H109+'Արարատ և Վայոց ձոր'!H109+Արմավիր!H109+Կոտայք!H109+Շիրակ!H109+Տավուշ!H109+Սյունիք!H109+Գեղարքունիք!H109) -> 0 | I109: =SUM(Լոռի!I109+'Արագածոտն '!I109+'Երևան քաղաք'!I109+'Արարատ և Վայոց ձոր'!I109+Արմավիր!I109+Կոտայք!I109+Շիրակ!I109+Տավուշ!I109+Սյունիք!I109+Գեղարքունիք!I109) -> 0 | J109: =SUM(Լոռի!J109+'Արագածոտն '!J109+'Երևան քաղաք'!J109+'Արարատ և Վայոց ձոր'!J109+Արմավիր!J109+Կոտայք!J109+Շիրակ!J109+Տավուշ!J109+Սյունիք!J109+Գեղարքունիք!J109) -> 0 | K109: =SUM(Լոռի!K109+'Արագածոտն '!K109+'Երևան քաղաք'!K109+'Արարատ և Վայոց ձոր'!K109+Արմավիր!K109+Կոտայք!K109+Շիրակ!K109+Տավուշ!K109+Սյունիք!K109+Գեղարքունիք!K109) -> 0 | ... AB109: =SUM(Լոռի!AB109+'Արագածոտն '!AB109+'Երևան քաղաք'!AB109+'Արարատ և Վայոց ձոր'!AB109+Արմավիր!AB109+Կոտայք!AB109+Շիրակ!AB109+Տավուշ!AB109+Սյունիք!AB109+Գեղարքունիք!AB109) -> 0
A110: 6.12 | B110: Գույքն անզգուշությամբ ոչնչացնելը կամ վնասելը | C110: 186 | D110: =SUM(Լոռի!D110+'Արագածոտն '!D110+'Երևան քաղաք'!D110+'Արարատ և Վայոց ձոր'!D110+Արմավիր!D110+Կոտայք!D110+Շիրակ!D110+Տավուշ!D110+Սյունիք!D110+Գեղարքունիք!D110) -> 0 | E110: =SUM(Լոռի!E110+'Արագածոտն '!E110+'Երևան քաղաք'!E110+'Արարատ և Վայոց ձոր'!E110+Արմավիր!E110+Կոտայք!E110+Շիրակ!E110+Տավուշ!E110+Սյունիք!E110+Գեղարքունիք!E110) -> 0 | F110: =SUM(Լոռի!F110+'Արագածոտն '!F110+'Երևան քաղաք'!F110+'Արարատ և Վայոց ձոր'!F110+Արմավիր!F110+Կոտայք!F110+Շիրակ!F110+Տավուշ!F110+Սյունիք!F110+Գեղարքունիք!F110) -> 0 | G110: =SUM(Լոռի!G110+'Արագածոտն '!G110+'Երևան քաղաք'!G110+'Արարատ և Վայոց ձոր'!G110+Արմավիր!G110+Կոտայք!G110+Շիրակ!G110+Տավուշ!G110+Սյունիք!G110+Գեղարքունիք!G110) -> 0 | H110: =SUM(Լոռի!H110+'Արագածոտն '!H110+'Երևան քաղաք'!H110+'Արարատ և Վայոց ձոր'!H110+Արմավիր!H110+Կոտայք!H110+Շիրակ!H110+Տավուշ!H110+Սյունիք!H110+Գեղարքունիք!H110) -> 0 | I110: =SUM(Լոռի!I110+'Արագածոտն '!I110+'Երևան քաղաք'!I110+'Արարատ և Վայոց ձոր'!I110+Արմավիր!I110+Կոտայք!I110+Շիրակ!I110+Տավուշ!I110+Սյունիք!I110+Գեղարքունիք!I110) -> 0 | J110: =SUM(Լոռի!J110+'Արագածոտն '!J110+'Երևան քաղաք'!J110+'Արարատ և Վայոց ձոր'!J110+Արմավիր!J110+Կոտայք!J110+Շիրակ!J110+Տավուշ!J110+Սյունիք!J110+Գեղարքունիք!J110) -> 0 | K110: =SUM(Լոռի!K110+'Արագածոտն '!K110+'Երևան քաղաք'!K110+'Արարատ և Վայոց ձոր'!K110+Արմավիր!K110+Կոտայք!K110+Շիրակ!K110+Տավուշ!K110+Սյունիք!K110+Գեղարքունիք!K110) -> 0 | ... AB110: =SUM(Լոռի!AB110+'Արագածոտն '!AB110+'Երևան քաղաք'!AB110+'Արարատ և Վայոց ձոր'!AB110+Արմավիր!AB110+Կոտայք!AB110+Շիրակ!AB110+Տավուշ!AB110+Սյունիք!AB110+Գեղարքունիք!AB110) -> 0
A111: 6.13 | B111: Գուքի պահպանության պարտականություններն անփույթ կամ անբարեխիղճ կատարելը | C111: 186.1 | D111: =SUM(Լոռի!D111+'Արագածոտն '!D111+'Երևան քաղաք'!D111+'Արարատ և Վայոց ձոր'!D111+Արմավիր!D111+Կոտայք!D111+Շիրակ!D111+Տավուշ!D111+Սյունիք!D111+Գեղարքունիք!D111) -> 0 | E111: =SUM(Լոռի!E111+'Արագածոտն '!E111+'Երևան քաղաք'!E111+'Արարատ և Վայոց ձոր'!E111+Արմավիր!E111+Կոտայք!E111+Շիրակ!E111+Տավուշ!E111+Սյունիք!E111+Գեղարքունիք!E111) -> 0 | F111: =SUM(Լոռի!F111+'Արագածոտն '!F111+'Երևան քաղաք'!F111+'Արարատ և Վայոց ձոր'!F111+Արմավիր!F111+Կոտայք!F111+Շիրակ!F111+Տավուշ!F111+Սյունիք!F111+Գեղարքունիք!F111) -> 0 | G111: =SUM(Լոռի!G111+'Արագածոտն '!G111+'Երևան քաղաք'!G111+'Արարատ և Վայոց ձոր'!G111+Արմավիր!G111+Կոտայք!G111+Շիրակ!G111+Տավուշ!G111+Սյունիք!G111+Գեղարքունիք!G111) -> 0 | H111: =SUM(Լոռի!H111+'Արագածոտն '!H111+'Երևան քաղաք'!H111+'Արարատ և Վայոց ձոր'!H111+Արմավիր!H111+Կոտայք!H111+Շիրակ!H111+Տավուշ!H111+Սյունիք!H111+Գեղարքունիք!H111) -> 0 | I111: =SUM(Լոռի!I111+'Արագածոտն '!I111+'Երևան քաղաք'!I111+'Արարատ և Վայոց ձոր'!I111+Արմավիր!I111+Կոտայք!I111+Շիրակ!I111+Տավուշ!I111+Սյունիք!I111+Գեղարքունիք!I111) -> 0 | J111: =SUM(Լոռի!J111+'Արագածոտն '!J111+'Երևան քաղաք'!J111+'Արարատ և Վայոց ձոր'!J111+Արմավիր!J111+Կոտայք!J111+Շիրակ!J111+Տավուշ!J111+Սյունիք!J111+Գեղարքունիք!J111) -> 0 | K111: =SUM(Լոռի!K111+'Արագածոտն '!K111+'Երևան քաղաք'!K111+'Արարատ և Վայոց ձոր'!K111+Արմավիր!K111+Կոտայք!K111+Շիրակ!K111+Տավուշ!K111+Սյունիք!K111+Գեղարքունիք!K111) -> 0 | ... AB111: =SUM(Լոռի!AB111+'Արագածոտն '!AB111+'Երևան քաղաք'!AB111+'Արարատ և Վայոց ձոր'!AB111+Արմավիր!AB111+Կոտայք!AB111+Շիրակ!AB111+Տավուշ!AB111+Սյունիք!AB111+Գեղարքունիք!AB111) -> 0
A112: 6.14 | B112: Այլ հանցագործություններ | D112: =SUM(Լոռի!D112+'Արագածոտն '!D112+'Երևան քաղաք'!D112+'Արարատ և Վայոց ձոր'!D112+Արմավիր!D112+Կոտայք!D112+Շիրակ!D112+Տավուշ!D112+Սյունիք!D112+Գեղարքունիք!D112) -> 0 | E112: =SUM(Լոռի!E112+'Արագածոտն '!E112+'Երևան քաղաք'!E112+'Արարատ և Վայոց ձոր'!E112+Արմավիր!E112+Կոտայք!E112+Շիրակ!E112+Տավուշ!E112+Սյունիք!E112+Գեղարքունիք!E112) -> 0 | F112: =SUM(Լոռի!F112+'Արագածոտն '!F112+'Երևան քաղաք'!F112+'Արարատ և Վայոց ձոր'!F112+Արմավիր!F112+Կոտայք!F112+Շիրակ!F112+Տավուշ!F112+Սյունիք!F112+Գեղարքունիք!F112) -> 0 | G112: =SUM(Լոռի!G112+'Արագածոտն '!G112+'Երևան քաղաք'!G112+'Արարատ և Վայոց ձոր'!G112+Արմավիր!G112+Կոտայք!G112+Շիրակ!G112+Տավուշ!G112+Սյունիք!G112+Գեղարքունիք!G112) -> 0 | H112: =SUM(Լոռի!H112+'Արագածոտն '!H112+'Երևան քաղաք'!H112+'Արարատ և Վայոց ձոր'!H112+Արմավիր!H112+Կոտայք!H112+Շիրակ!H112+Տավուշ!H112+Սյունիք!H112+Գեղարքունիք!H112) -> 0 | I112: =SUM(Լոռի!I112+'Արագածոտն '!I112+'Երևան քաղաք'!I112+'Արարատ և Վայոց ձոր'!I112+Արմավիր!I112+Կոտայք!I112+Շիրակ!I112+Տավուշ!I112+Սյունիք!I112+Գեղարքունիք!I112) -> 0 | J112: =SUM(Լոռի!J112+'Արագածոտն '!J112+'Երևան քաղաք'!J112+'Արարատ և Վայոց ձոր'!J112+Արմավիր!J112+Կոտայք!J112+Շիրակ!J112+Տավուշ!J112+Սյունիք!J112+Գեղարքունիք!J112) -> 0 | K112: =SUM(Լոռի!K112+'Արագածոտն '!K112+'Երևան քաղաք'!K112+'Արարատ և Վայոց ձոր'!K112+Արմավիր!K112+Կոտայք!K112+Շիրակ!K112+Տավուշ!K112+Սյունիք!K112+Գեղարքունիք!K112) -> 0 | ... AB112: =SUM(Լոռի!AB112+'Արագածոտն '!AB112+'Երևան քաղաք'!AB112+'Արարատ և Վայոց ձոր'!AB112+Արմավիր!AB112+Կոտայք!AB112+Շիրակ!AB112+Տավուշ!AB112+Սյունիք!AB112+Գեղարքունիք!AB112) -> 0
A113: 7. | B113: Ընդամենը տնտեսական գործունեության դեմ ուղղված հանցագործությունները | D113: =SUM(Լոռի!D113+'Արագածոտն '!D113+'Երևան քաղաք'!D113+'Արարատ և Վայոց ձոր'!D113+Արմավիր!D113+Կոտայք!D113+Շիրակ!D113+Տավուշ!D113+Սյունիք!D113+Գեղարքունիք!D113) -> 0 | E113: =SUM(Լոռի!E113+'Արագածոտն '!E113+'Երևան քաղաք'!E113+'Արարատ և Վայոց ձոր'!E113+Արմավիր!E113+Կոտայք!E113+Շիրակ!E113+Տավուշ!E113+Սյունիք!E113+Գեղարքունիք!E113) -> 0 | F113: =SUM(Լոռի!F113+'Արագածոտն '!F113+'Երևան քաղաք'!F113+'Արարատ և Վայոց ձոր'!F113+Արմավիր!F113+Կոտայք!F113+Շիրակ!F113+Տավուշ!F113+Սյունիք!F113+Գեղարքունիք!F113) -> 0 | G113: =SUM(Լոռի!G113+'Արագածոտն '!G113+'Երևան քաղաք'!G113+'Արարատ և Վայոց ձոր'!G113+Արմավիր!G113+Կոտայք!G113+Շիրակ!G113+Տավուշ!G113+Սյունիք!G113+Գեղարքունիք!G113) -> 0 | H113: =SUM(Լոռի!H113+'Արագածոտն '!H113+'Երևան քաղաք'!H113+'Արարատ և Վայոց ձոր'!H113+Արմավիր!H113+Կոտայք!H113+Շիրակ!H113+Տավուշ!H113+Սյունիք!H113+Գեղարքունիք!H113) -> 0 | I113: =SUM(Լոռի!I113+'Արագածոտն '!I113+'Երևան քաղաք'!I113+'Արարատ և Վայոց ձոր'!I113+Արմավիր!I113+Կոտայք!I113+Շիրակ!I113+Տավուշ!I113+Սյունիք!I113+Գեղարքունիք!I113) -> 0 | J113: =SUM(Լոռի!J113+'Արագածոտն '!J113+'Երևան քաղաք'!J113+'Արարատ և Վայոց ձոր'!J113+Արմավիր!J113+Կոտայք!J113+Շիրակ!J113+Տավուշ!J113+Սյունիք!J113+Գեղարքունիք!J113) -> 0 | K113: =SUM(Լոռի!K113+'Արագածոտն '!K113+'Երևան քաղաք'!K113+'Արարատ և Վայոց ձոր'!K113+Արմավիր!K113+Կոտայք!K113+Շիրակ!K113+Տավուշ!K113+Սյունիք!K113+Գեղարքունիք!K113) -> 0 | ... AB113: =SUM(Լոռի!AB113+'Արագածոտն '!AB113+'Երևան քաղաք'!AB113+'Արարատ և Վայոց ձոր'!AB113+Արմավիր!AB113+Կոտայք!AB113+Շիրակ!AB113+Տավուշ!AB113+Սյունիք!AB113+Գեղարքունիք!AB113) -> 0
A114: 7.1 | B114: Օրինական ձեռնարկատիրական և այլ տնտեսական գործունեությանը խոչընդոտելը | C114: 187 | D114: =SUM(Լոռի!D114+'Արագածոտն '!D114+'Երևան քաղաք'!D114+'Արարատ և Վայոց ձոր'!D114+Արմավիր!D114+Կոտայք!D114+Շիրակ!D114+Տավուշ!D114+Սյունիք!D114+Գեղարքունիք!D114) -> 0 | E114: =SUM(Լոռի!E114+'Արագածոտն '!E114+'Երևան քաղաք'!E114+'Արարատ և Վայոց ձոր'!E114+Արմավիր!E114+Կոտայք!E114+Շիրակ!E114+Տավուշ!E114+Սյունիք!E114+Գեղարքունիք!E114) -> 0 | F114: =SUM(Լոռի!F114+'Արագածոտն '!F114+'Երևան քաղաք'!F114+'Արարատ և Վայոց ձոր'!F114+Արմավիր!F114+Կոտայք!F114+Շիրակ!F114+Տավուշ!F114+Սյունիք!F114+Գեղարքունիք!F114) -> 0 | G114: =SUM(Լոռի!G114+'Արագածոտն '!G114+'Երևան քաղաք'!G114+'Արարատ և Վայոց ձոր'!G114+Արմավիր!G114+Կոտայք!G114+Շիրակ!G114+Տավուշ!G114+Սյունիք!G114+Գեղարքունիք!G114) -> 0 | H114: =SUM(Լոռի!H114+'Արագածոտն '!H114+'Երևան քաղաք'!H114+'Արարատ և Վայոց ձոր'!H114+Արմավիր!H114+Կոտայք!H114+Շիրակ!H114+Տավուշ!H114+Սյունիք!H114+Գեղարքունիք!H114) -> 0 | I114: =SUM(Լոռի!I114+'Արագածոտն '!I114+'Երևան քաղաք'!I114+'Արարատ և Վայոց ձոր'!I114+Արմավիր!I114+Կոտայք!I114+Շիրակ!I114+Տավուշ!I114+Սյունիք!I114+Գեղարքունիք!I114) -> 0 | J114: =SUM(Լոռի!J114+'Արագածոտն '!J114+'Երևան քաղաք'!J114+'Արարատ և Վայոց ձոր'!J114+Արմավիր!J114+Կոտայք!J114+Շիրակ!J114+Տավուշ!J114+Սյունիք!J114+Գեղարքունիք!J114) -> 0 | K114: =SUM(Լոռի!K114+'Արագածոտն '!K114+'Երևան քաղաք'!K114+'Արարատ և Վայոց ձոր'!K114+Արմավիր!K114+Կոտայք!K114+Շիրակ!K114+Տավուշ!K114+Սյունիք!K114+Գեղարքունիք!K114) -> 0 | ... AB114: =SUM(Լոռի!AB114+'Արագածոտն '!AB114+'Երևան քաղաք'!AB114+'Արարատ և Վայոց ձոր'!AB114+Արմավիր!AB114+Կոտայք!AB114+Շիրակ!AB114+Տավուշ!AB114+Սյունիք!AB114+Գեղարքունիք!AB114) -> 0
A115: 7.2 | B115: Ապօրինի ձեռնարկատիրությունը | C115: 188 | D115: =SUM(Լոռի!D115+'Արագածոտն '!D115+'Երևան քաղաք'!D115+'Արարատ և Վայոց ձոր'!D115+Արմավիր!D115+Կոտայք!D115+Շիրակ!D115+Տավուշ!D115+Սյունիք!D115+Գեղարքունիք!D115) -> 0 | E115: =SUM(Լոռի!E115+'Արագածոտն '!E115+'Երևան քաղաք'!E115+'Արարատ և Վայոց ձոր'!E115+Արմավիր!E115+Կոտայք!E115+Շիրակ!E115+Տավուշ!E115+Սյունիք!E115+Գեղարքունիք!E115) -> 0 | F115: =SUM(Լոռի!F115+'Արագածոտն '!F115+'Երևան քաղաք'!F115+'Արարատ և Վայոց ձոր'!F115+Արմավիր!F115+Կոտայք!F115+Շիրակ!F115+Տավուշ!F115+Սյունիք!F115+Գեղարքունիք!F115) -> 0 | G115: =SUM(Լոռի!G115+'Արագածոտն '!G115+'Երևան քաղաք'!G115+'Արարատ և Վայոց ձոր'!G115+Արմավիր!G115+Կոտայք!G115+Շիրակ!G115+Տավուշ!G115+Սյունիք!G115+Գեղարքունիք!G115) -> 0 | H115: =SUM(Լոռի!H115+'Արագածոտն '!H115+'Երևան քաղաք'!H115+'Արարատ և Վայոց ձոր'!H115+Արմավիր!H115+Կոտայք!H115+Շիրակ!H115+Տավուշ!H115+Սյունիք!H115+Գեղարքունիք!H115) -> 0 | I115: =SUM(Լոռի!I115+'Արագածոտն '!I115+'Երևան քաղաք'!I115+'Արարատ և Վայոց ձոր'!I115+Արմավիր!I115+Կոտայք!I115+Շիրակ!I115+Տավուշ!I115+Սյունիք!I115+Գեղարքունիք!I115) -> 0 | J115: =SUM(Լոռի!J115+'Արագածոտն '!J115+'Երևան քաղաք'!J115+'Արարատ և Վայոց ձոր'!J115+Արմավիր!J115+Կոտայք!J115+Շիրակ!J115+Տավուշ!J115+Սյունիք!J115+Գեղարքունիք!J115) -> 0 | K115: =SUM(Լոռի!K115+'Արագածոտն '!K115+'Երևան քաղաք'!K115+'Արարատ և Վայոց ձոր'!K115+Արմավիր!K115+Կոտայք!K115+Շիրակ!K115+Տավուշ!K115+Սյունիք!K115+Գեղարքունիք!K115) -> 0 | ... AB115: =SUM(Լոռի!AB115+'Արագածոտն '!AB115+'Երևան քաղաք'!AB115+'Արարատ և Վայոց ձոր'!AB115+Արմավիր!AB115+Կոտայք!AB115+Շիրակ!AB115+Տավուշ!AB115+Սյունիք!AB115+Գեղարքունիք!AB115) -> 0
A116: 7.3 | B116: Առանց լիցենազիայի արտարժույթի վաճառքի իրականացումը | C116: 188.1 | D116: =SUM(Լոռի!D116+'Արագածոտն '!D116+'Երևան քաղաք'!D116+'Արարատ և Վայոց ձոր'!D116+Արմավիր!D116+Կոտայք!D116+Շիրակ!D116+Տավուշ!D116+Սյունիք!D116+Գեղարքունիք!D116) -> 0 | E116: =SUM(Լոռի!E116+'Արագածոտն '!E116+'Երևան քաղաք'!E116+'Արարատ և Վայոց ձոր'!E116+Արմավիր!E116+Կոտայք!E116+Շիրակ!E116+Տավուշ!E116+Սյունիք!E116+Գեղարքունիք!E116) -> 0 | F116: =SUM(Լոռի!F116+'Արագածոտն '!F116+'Երևան քաղաք'!F116+'Արարատ և Վայոց ձոր'!F116+Արմավիր!F116+Կոտայք!F116+Շիրակ!F116+Տավուշ!F116+Սյունիք!F116+Գեղարքունիք!F116) -> 0 | G116: =SUM(Լոռի!G116+'Արագածոտն '!G116+'Երևան քաղաք'!G116+'Արարատ և Վայոց ձոր'!G116+Արմավիր!G116+Կոտայք!G116+Շիրակ!G116+Տավուշ!G116+Սյունիք!G116+Գեղարքունիք!G116) -> 0 | H116: =SUM(Լոռի!H116+'Արագածոտն '!H116+'Երևան քաղաք'!H116+'Արարատ և Վայոց ձոր'!H116+Արմավիր!H116+Կոտայք!H116+Շիրակ!H116+Տավուշ!H116+Սյունիք!H116+Գեղարքունիք!H116) -> 0 | I116: =SUM(Լոռի!I116+'Արագածոտն '!I116+'Երևան քաղաք'!I116+'Արարատ և Վայոց ձոր'!I116+Արմավիր!I116+Կոտայք!I116+Շիրակ!I116+Տավուշ!I116+Սյունիք!I116+Գեղարքունիք!I116) -> 0 | J116: =SUM(Լոռի!J116+'Արագածոտն '!J116+'Երևան քաղաք'!J116+'Արարատ և Վայոց ձոր'!J116+Արմավիր!J116+Կոտայք!J116+Շիրակ!J116+Տավուշ!J116+Սյունիք!J116+Գեղարքունիք!J116) -> 0 | K116: =SUM(Լոռի!K116+'Արագածոտն '!K116+'Երևան քաղաք'!K116+'Արարատ և Վայոց ձոր'!K116+Արմավիր!K116+Կոտայք!K116+Շիրակ!K116+Տավուշ!K116+Սյունիք!K116+Գեղարքունիք!K116) -> 0 | ... AB116: =SUM(Լոռի!AB116+'Արագածոտն '!AB116+'Երևան քաղաք'!AB116+'Արարատ և Վայոց ձոր'!AB116+Արմավիր!AB116+Կոտայք!AB116+Շիրակ!AB116+Տավուշ!AB116+Սյունիք!AB116+Գեղարքունիք!AB116) -> 0
A117: 7.4 | B117: Կեղծ ձեռնարկատիրությունը | C117: 189 | D117: =SUM(Լոռի!D117+'Արագածոտն '!D117+'Երևան քաղաք'!D117+'Արարատ և Վայոց ձոր'!D117+Արմավիր!D117+Կոտայք!D117+Շիրակ!D117+Տավուշ!D117+Սյունիք!D117+Գեղարքունիք!D117) -> 0 | E117: =SUM(Լոռի!E117+'Արագածոտն '!E117+'Երևան քաղաք'!E117+'Արարատ և Վայոց ձոր'!E117+Արմավիր!E117+Կոտայք!E117+Շիրակ!E117+Տավուշ!E117+Սյունիք!E117+Գեղարքունիք!E117) -> 0 | F117: =SUM(Լոռի!F117+'Արագածոտն '!F117+'Երևան քաղաք'!F117+'Արարատ և Վայոց ձոր'!F117+Արմավիր!F117+Կոտայք!F117+Շիրակ!F117+Տավուշ!F117+Սյունիք!F117+Գեղարքունիք!F117) -> 0 | G117: =SUM(Լոռի!G117+'Արագածոտն '!G117+'Երևան քաղաք'!G117+'Արարատ և Վայոց ձոր'!G117+Արմավիր!G117+Կոտայք!G117+Շիրակ!G117+Տավուշ!G117+Սյունիք!G117+Գեղարքունիք!G117) -> 0 | H117: =SUM(Լոռի!H117+'Արագածոտն '!H117+'Երևան քաղաք'!H117+'Արարատ և Վայոց ձոր'!H117+Արմավիր!H117+Կոտայք!H117+Շիրակ!H117+Տավուշ!H117+Սյունիք!H117+Գեղարքունիք!H117) -> 0 | I117: =SUM(Լոռի!I117+'Արագածոտն '!I117+'Երևան քաղաք'!I117+'Արարատ և Վայոց ձոր'!I117+Արմավիր!I117+Կոտայք!I117+Շիրակ!I117+Տավուշ!I117+Սյունիք!I117+Գեղարքունիք!I117) -> 0 | J117: =SUM(Լոռի!J117+'Արագածոտն '!J117+'Երևան քաղաք'!J117+'Արարատ և Վայոց ձոր'!J117+Արմավիր!J117+Կոտայք!J117+Շիրակ!J117+Տավուշ!J117+Սյունիք!J117+Գեղարքունիք!J117) -> 0 | K117: =SUM(Լոռի!K117+'Արագածոտն '!K117+'Երևան քաղաք'!K117+'Արարատ և Վայոց ձոր'!K117+Արմավիր!K117+Կոտայք!K117+Շիրակ!K117+Տավուշ!K117+Սյունիք!K117+Գեղարքունիք!K117) -> 0 | ... AB117: =SUM(Լոռի!AB117+'Արագածոտն '!AB117+'Երևան քաղաք'!AB117+'Արարատ և Վայոց ձոր'!AB117+Արմավիր!AB117+Կոտայք!AB117+Շիրակ!AB117+Տավուշ!AB117+Սյունիք!AB117+Գեղարքունիք!AB117) -> 0
A118: 7.4.1 | B118: Ֆինանսական բուրգ ստեղծելը, կազմակերպելը կամ ղեկավարելը | C118: 189.1 | D118: =SUM(Լոռի!D118+'Արագածոտն '!D118+'Երևան քաղաք'!D118+'Արարատ և Վայոց ձոր'!D118+Արմավիր!D118+Կոտայք!D118+Շիրակ!D118+Տավուշ!D118+Սյունիք!D118+Գեղարքունիք!D118) -> 0 | E118: =SUM(Լոռի!E118+'Արագածոտն '!E118+'Երևան քաղաք'!E118+'Արարատ և Վայոց ձոր'!E118+Արմավիր!E118+Կոտայք!E118+Շիրակ!E118+Տավուշ!E118+Սյունիք!E118+Գեղարքունիք!E118) -> 0 | F118: =SUM(Լոռի!F118+'Արագածոտն '!F118+'Երևան քաղաք'!F118+'Արարատ և Վայոց ձոր'!F118+Արմավիր!F118+Կոտայք!F118+Շիրակ!F118+Տավուշ!F118+Սյունիք!F118+Գեղարքունիք!F118) -> 0 | G118: =SUM(Լոռի!G118+'Արագածոտն '!G118+'Երևան քաղաք'!G118+'Արարատ և Վայոց ձոր'!G118+Արմավիր!G118+Կոտայք!G118+Շիրակ!G118+Տավուշ!G118+Սյունիք!G118+Գեղարքունիք!G118) -> 0 | H118: =SUM(Լոռի!H118+'Արագածոտն '!H118+'Երևան քաղաք'!H118+'Արարատ և Վայոց ձոր'!H118+Արմավիր!H118+Կոտայք!H118+Շիրակ!H118+Տավուշ!H118+Սյունիք!H118+Գեղարքունիք!H118) -> 0 | I118: =SUM(Լոռի!I118+'Արագածոտն '!I118+'Երևան քաղաք'!I118+'Արարատ և Վայոց ձոր'!I118+Արմավիր!I118+Կոտայք!I118+Շիրակ!I118+Տավուշ!I118+Սյունիք!I118+Գեղարքունիք!I118) -> 0 | J118: =SUM(Լոռի!J118+'Արագածոտն '!J118+'Երևան քաղաք'!J118+'Արարատ և Վայոց ձոր'!J118+Արմավիր!J118+Կոտայք!J118+Շիրակ!J118+Տավուշ!J118+Սյունիք!J118+Գեղարքունիք!J118) -> 0 | K118: =SUM(Լոռի!K118+'Արագածոտն '!K118+'Երևան քաղաք'!K118+'Արարատ և Վայոց ձոր'!K118+Արմավիր!K118+Կոտայք!K118+Շիրակ!K118+Տավուշ!K118+Սյունիք!K118+Գեղարքունիք!K118) -> 0 | ... AB118: =SUM(Լոռի!AB118+'Արագածոտն '!AB118+'Երևան քաղաք'!AB118+'Արարատ և Վայոց ձոր'!AB118+Արմավիր!AB118+Կոտայք!AB118+Շիրակ!AB118+Տավուշ!AB118+Սյունիք!AB118+Գեղարքունիք!AB118) -> 0
A119: 7.5 | B119: Հանցավոր ճանապարհով ստացված գույքն օրինականացնելը (փողերի լվացումը) | C119: 190 | D119: =SUM(Լոռի!D119+'Արագածոտն '!D119+'Երևան քաղաք'!D119+'Արարատ և Վայոց ձոր'!D119+Արմավիր!D119+Կոտայք!D119+Շիրակ!D119+Տավուշ!D119+Սյունիք!D119+Գեղարքունիք!D119) -> 0 | E119: =SUM(Լոռի!E119+'Արագածոտն '!E119+'Երևան քաղաք'!E119+'Արարատ և Վայոց ձոր'!E119+Արմավիր!E119+Կոտայք!E119+Շիրակ!E119+Տավուշ!E119+Սյունիք!E119+Գեղարքունիք!E119) -> 0 | F119: =SUM(Լոռի!F119+'Արագածոտն '!F119+'Երևան քաղաք'!F119+'Արարատ և Վայոց ձոր'!F119+Արմավիր!F119+Կոտայք!F119+Շիրակ!F119+Տավուշ!F119+Սյունիք!F119+Գեղարքունիք!F119) -> 0 | G119: =SUM(Լոռի!G119+'Արագածոտն '!G119+'Երևան քաղաք'!G119+'Արարատ և Վայոց ձոր'!G119+Արմավիր!G119+Կոտայք!G119+Շիրակ!G119+Տավուշ!G119+Սյունիք!G119+Գեղարքունիք!G119) -> 0 | H119: =SUM(Լոռի!H119+'Արագածոտն '!H119+'Երևան քաղաք'!H119+'Արարատ և Վայոց ձոր'!H119+Արմավիր!H119+Կոտայք!H119+Շիրակ!H119+Տավուշ!H119+Սյունիք!H119+Գեղարքունիք!H119) -> 0 | I119: =SUM(Լոռի!I119+'Արագածոտն '!I119+'Երևան քաղաք'!I119+'Արարատ և Վայոց ձոր'!I119+Արմավիր!I119+Կոտայք!I119+Շիրակ!I119+Տավուշ!I119+Սյունիք!I119+Գեղարքունիք!I119) -> 0 | J119: =SUM(Լոռի!J119+'Արագածոտն '!J119+'Երևան քաղաք'!J119+'Արարատ և Վայոց ձոր'!J119+Արմավիր!J119+Կոտայք!J119+Շիրակ!J119+Տավուշ!J119+Սյունիք!J119+Գեղարքունիք!J119) -> 0 | K119: =SUM(Լոռի!K119+'Արագածոտն '!K119+'Երևան քաղաք'!K119+'Արարատ և Վայոց ձոր'!K119+Արմավիր!K119+Կոտայք!K119+Շիրակ!K119+Տավուշ!K119+Սյունիք!K119+Գեղարքունիք!K119) -> 0 | ... AB119: =SUM(Լոռի!AB119+'Արագածոտն '!AB119+'Երևան քաղաք'!AB119+'Արարատ և Վայոց ձոր'!AB119+Արմավիր!AB119+Կոտայք!AB119+Շիրակ!AB119+Տավուշ!AB119+Սյունիք!AB119+Գեղարքունիք!AB119) -> 0
A120: 7.5.1 | B120: Ներքին տեղեկությունների անբարեխիղճ օգտագործումը | C120: 190.1 | D120: =SUM(Լոռի!D120+'Արագածոտն '!D120+'Երևան քաղաք'!D120+'Արարատ և Վայոց ձոր'!D120+Արմավիր!D120+Կոտայք!D120+Շիրակ!D120+Տավուշ!D120+Սյունիք!D120+Գեղարքունիք!D120) -> 0 | E120: =SUM(Լոռի!E120+'Արագածոտն '!E120+'Երևան քաղաք'!E120+'Արարատ և Վայոց ձոր'!E120+Արմավիր!E120+Կոտայք!E120+Շիրակ!E120+Տավուշ!E120+Սյունիք!E120+Գեղարքունիք!E120) -> 0 | F120: =SUM(Լոռի!F120+'Արագածոտն '!F120+'Երևան քաղաք'!F120+'Արարատ և Վայոց ձոր'!F120+Արմավիր!F120+Կոտայք!F120+Շիրակ!F120+Տավուշ!F120+Սյունիք!F120+Գեղարքունիք!F120) -> 0 | G120: =SUM(Լոռի!G120+'Արագածոտն '!G120+'Երևան քաղաք'!G120+'Արարատ և Վայոց ձոր'!G120+Արմավիր!G120+Կոտայք!G120+Շիրակ!G120+Տավուշ!G120+Սյունիք!G120+Գեղարքունիք!G120) -> 0 | H120: =SUM(Լոռի!H120+'Արագածոտն '!H120+'Երևան քաղաք'!H120+'Արարատ և Վայոց ձոր'!H120+Արմավիր!H120+Կոտայք!H120+Շիրակ!H120+Տավուշ!H120+Սյունիք!H120+Գեղարքունիք!H120) -> 0 | I120: =SUM(Լոռի!I120+'Արագածոտն '!I120+'Երևան քաղաք'!I120+'Արարատ և Վայոց ձոր'!I120+Արմավիր!I120+Կոտայք!I120+Շիրակ!I120+Տավուշ!I120+Սյունիք!I120+Գեղարքունիք!I120) -> 0 | J120: =SUM(Լոռի!J120+'Արագածոտն '!J120+'Երևան քաղաք'!J120+'Արարատ և Վայոց ձոր'!J120+Արմավիր!J120+Կոտայք!J120+Շիրակ!J120+Տավուշ!J120+Սյունիք!J120+Գեղարքունիք!J120) -> 0 | K120: =SUM(Լոռի!K120+'Արագածոտն '!K120+'Երևան քաղաք'!K120+'Արարատ և Վայոց ձոր'!K120+Արմավիր!K120+Կոտայք!K120+Շիրակ!K120+Տավուշ!K120+Սյունիք!K120+Գեղարքունիք!K120) -> 0 | ... AB120: =SUM(Լոռի!AB120+'Արագածոտն '!AB120+'Երևան քաղաք'!AB120+'Արարատ և Վայոց ձոր'!AB120+Արմավիր!AB120+Կոտայք!AB120+Շիրակ!AB120+Տավուշ!AB120+Սյունիք!AB120+Գեղարքունիք!AB120) -> 0
A121: 7.5.2 | B121: Գնային չարաշահումը | C121: 190.2 | D121: =SUM(Լոռի!D121+'Արագածոտն '!D121+'Երևան քաղաք'!D121+'Արարատ և Վայոց ձոր'!D121+Արմավիր!D121+Կոտայք!D121+Շիրակ!D121+Տավուշ!D121+Սյունիք!D121+Գեղարքունիք!D121) -> 0 | E121: =SUM(Լոռի!E121+'Արագածոտն '!E121+'Երևան քաղաք'!E121+'Արարատ և Վայոց ձոր'!E121+Արմավիր!E121+Կոտայք!E121+Շիրակ!E121+Տավուշ!E121+Սյունիք!E121+Գեղարքունիք!E121) -> 0 | F121: =SUM(Լոռի!F121+'Արագածոտն '!F121+'Երևան քաղաք'!F121+'Արարատ և Վայոց ձոր'!F121+Արմավիր!F121+Կոտայք!F121+Շիրակ!F121+Տավուշ!F121+Սյունիք!F121+Գեղարքունիք!F121) -> 0 | G121: =SUM(Լոռի!G121+'Արագածոտն '!G121+'Երևան քաղաք'!G121+'Արարատ և Վայոց ձոր'!G121+Արմավիր!G121+Կոտայք!G121+Շիրակ!G121+Տավուշ!G121+Սյունիք!G121+Գեղարքունիք!G121) -> 0 | H121: =SUM(Լոռի!H121+'Արագածոտն '!H121+'Երևան քաղաք'!H121+'Արարատ և Վայոց ձոր'!H121+Արմավիր!H121+Կոտայք!H121+Շիրակ!H121+Տավուշ!H121+Սյունիք!H121+Գեղարքունիք!H121) -> 0 | I121: =SUM(Լոռի!I121+'Արագածոտն '!I121+'Երևան քաղաք'!I121+'Արարատ և Վայոց ձոր'!I121+Արմավիր!I121+Կոտայք!I121+Շիրակ!I121+Տավուշ!I121+Սյունիք!I121+Գեղարքունիք!I121) -> 0 | J121: =SUM(Լոռի!J121+'Արագածոտն '!J121+'Երևան քաղաք'!J121+'Արարատ և Վայոց ձոր'!J121+Արմավիր!J121+Կոտայք!J121+Շիրակ!J121+Տավուշ!J121+Սյունիք!J121+Գեղարքունիք!J121) -> 0 | K121: =SUM(Լոռի!K121+'Արագածոտն '!K121+'Երևան քաղաք'!K121+'Արարատ և Վայոց ձոր'!K121+Արմավիր!K121+Կոտայք!K121+Շիրակ!K121+Տավուշ!K121+Սյունիք!K121+Գեղարքունիք!K121) -> 0 | ... AB121: =SUM(Լոռի!AB121+'Արագածոտն '!AB121+'Երևան քաղաք'!AB121+'Արարատ և Վայոց ձոր'!AB121+Արմավիր!AB121+Կոտայք!AB121+Շիրակ!AB121+Տավուշ!AB121+Սյունիք!AB121+Գեղարքունիք!AB121) -> 0
A122: 7.6 | B122: Վարկը ոչ նպատակային օգտագործելը | C122: 191 | D122: =SUM(Լոռի!D122+'Արագածոտն '!D122+'Երևան քաղաք'!D122+'Արարատ և Վայոց ձոր'!D122+Արմավիր!D122+Կոտայք!D122+Շիրակ!D122+Տավուշ!D122+Սյունիք!D122+Գեղարքունիք!D122) -> 0 | E122: =SUM(Լոռի!E122+'Արագածոտն '!E122+'Երևան քաղաք'!E122+'Արարատ և Վայոց ձոր'!E122+Արմավիր!E122+Կոտայք!E122+Շիրակ!E122+Տավուշ!E122+Սյունիք!E122+Գեղարքունիք!E122) -> 0 | F122: =SUM(Լոռի!F122+'Արագածոտն '!F122+'Երևան քաղաք'!F122+'Արարատ և Վայոց ձոր'!F122+Արմավիր!F122+Կոտայք!F122+Շիրակ!F122+Տավուշ!F122+Սյունիք!F122+Գեղարքունիք!F122) -> 0 | G122: =SUM(Լոռի!G122+'Արագածոտն '!G122+'Երևան քաղաք'!G122+'Արարատ և Վայոց ձոր'!G122+Արմավիր!G122+Կոտայք!G122+Շիրակ!G122+Տավուշ!G122+Սյունիք!G122+Գեղարքունիք!G122) -> 0 | H122: =SUM(Լոռի!H122+'Արագածոտն '!H122+'Երևան քաղաք'!H122+'Արարատ և Վայոց ձոր'!H122+Արմավիր!H122+Կոտայք!H122+Շիրակ!H122+Տավուշ!H122+Սյունիք!H122+Գեղարքունիք!H122) -> 0 | I122: =SUM(Լոռի!I122+'Արագածոտն '!I122+'Երևան քաղաք'!I122+'Արարատ և Վայոց ձոր'!I122+Արմավիր!I122+Կոտայք!I122+Շիրակ!I122+Տավուշ!I122+Սյունիք!I122+Գեղարքունիք!I122) -> 0 | J122: =SUM(Լոռի!J122+'Արագածոտն '!J122+'Երևան քաղաք'!J122+'Արարատ և Վայոց ձոր'!J122+Արմավիր!J122+Կոտայք!J122+Շիրակ!J122+Տավուշ!J122+Սյունիք!J122+Գեղարքունիք!J122) -> 0 | K122: =SUM(Լոռի!K122+'Արագածոտն '!K122+'Երևան քաղաք'!K122+'Արարատ և Վայոց ձոր'!K122+Արմավիր!K122+Կոտայք!K122+Շիրակ!K122+Տավուշ!K122+Սյունիք!K122+Գեղարքունիք!K122) -> 0 | ... AB122: =SUM(Լոռի!AB122+'Արագածոտն '!AB122+'Երևան քաղաք'!AB122+'Արարատ և Վայոց ձոր'!AB122+Արմավիր!AB122+Կոտայք!AB122+Շիրակ!AB122+Տավուշ!AB122+Սյունիք!AB122+Գեղարքունիք!AB122) -> 0
A123: 7.7 | B123: Անօրինական գործողությունները սնանկության ընթացքում | C123: 192 | D123: =SUM(Լոռի!D123+'Արագածոտն '!D123+'Երևան քաղաք'!D123+'Արարատ և Վայոց ձոր'!D123+Արմավիր!D123+Կոտայք!D123+Շիրակ!D123+Տավուշ!D123+Սյունիք!D123+Գեղարքունիք!D123) -> 0 | E123: =SUM(Լոռի!E123+'Արագածոտն '!E123+'Երևան քաղաք'!E123+'Արարատ և Վայոց ձոր'!E123+Արմավիր!E123+Կոտայք!E123+Շիրակ!E123+Տավուշ!E123+Սյունիք!E123+Գեղարքունիք!E123) -> 0 | F123: =SUM(Լոռի!F123+'Արագածոտն '!F123+'Երևան քաղաք'!F123+'Արարատ և Վայոց ձոր'!F123+Արմավիր!F123+Կոտայք!F123+Շիրակ!F123+Տավուշ!F123+Սյունիք!F123+Գեղարքունիք!F123) -> 0 | G123: =SUM(Լոռի!G123+'Արագածոտն '!G123+'Երևան քաղաք'!G123+'Արարատ և Վայոց ձոր'!G123+Արմավիր!G123+Կոտայք!G123+Շիրակ!G123+Տավուշ!G123+Սյունիք!G123+Գեղարքունիք!G123) -> 0 | H123: =SUM(Լոռի!H123+'Արագածոտն '!H123+'Երևան քաղաք'!H123+'Արարատ և Վայոց ձոր'!H123+Արմավիր!H123+Կոտայք!H123+Շիրակ!H123+Տավուշ!H123+Սյունիք!H123+Գեղարքունիք!H123) -> 0 | I123: =SUM(Լոռի!I123+'Արագածոտն '!I123+'Երևան քաղաք'!I123+'Արարատ և Վայոց ձոր'!I123+Արմավիր!I123+Կոտայք!I123+Շիրակ!I123+Տավուշ!I123+Սյունիք!I123+Գեղարքունիք!I123) -> 0 | J123: =SUM(Լոռի!J123+'Արագածոտն '!J123+'Երևան քաղաք'!J123+'Արարատ և Վայոց ձոր'!J123+Արմավիր!J123+Կոտայք!J123+Շիրակ!J123+Տավուշ!J123+Սյունիք!J123+Գեղարքունիք!J123) -> 0 | K123: =SUM(Լոռի!K123+'Արագածոտն '!K123+'Երևան քաղաք'!K123+'Արարատ և Վայոց ձոր'!K123+Արմավիր!K123+Կոտայք!K123+Շիրակ!K123+Տավուշ!K123+Սյունիք!K123+Գեղարքունիք!K123) -> 0 | ... AB123: =SUM(Լոռի!AB123+'Արագածոտն '!AB123+'Երևան քաղաք'!AB123+'Արարատ և Վայոց ձոր'!AB123+Արմավիր!AB123+Կոտայք!AB123+Շիրակ!AB123+Տավուշ!AB123+Սյունիք!AB123+Գեղարքունիք!AB123) -> 0
A124: 7.8 | B124: Կանխամտածված սնանկությունը | C124: 193 | D124: =SUM(Լոռի!D124+'Արագածոտն '!D124+'Երևան քաղաք'!D124+'Արարատ և Վայոց ձոր'!D124+Արմավիր!D124+Կոտայք!D124+Շիրակ!D124+Տավուշ!D124+Սյունիք!D124+Գեղարքունիք!D124) -> 0 | E124: =SUM(Լոռի!E124+'Արագածոտն '!E124+'Երևան քաղաք'!E124+'Արարատ և Վայոց ձոր'!E124+Արմավիր!E124+Կոտայք!E124+Շիրակ!E124+Տավուշ!E124+Սյունիք!E124+Գեղարքունիք!E124) -> 0 | F124: =SUM(Լոռի!F124+'Արագածոտն '!F124+'Երևան քաղաք'!F124+'Արարատ և Վայոց ձոր'!F124+Արմավիր!F124+Կոտայք!F124+Շիրակ!F124+Տավուշ!F124+Սյունիք!F124+Գեղարքունիք!F124) -> 0 | G124: =SUM(Լոռի!G124+'Արագածոտն '!G124+'Երևան քաղաք'!G124+'Արարատ և Վայոց ձոր'!G124+Արմավիր!G124+Կոտայք!G124+Շիրակ!G124+Տավուշ!G124+Սյունիք!G124+Գեղարքունիք!G124) -> 0 | H124: =SUM(Լոռի!H124+'Արագածոտն '!H124+'Երևան քաղաք'!H124+'Արարատ և Վայոց ձոր'!H124+Արմավիր!H124+Կոտայք!H124+Շիրակ!H124+Տավուշ!H124+Սյունիք!H124+Գեղարքունիք!H124) -> 0 | I124: =SUM(Լոռի!I124+'Արագածոտն '!I124+'Երևան քաղաք'!I124+'Արարատ և Վայոց ձոր'!I124+Արմավիր!I124+Կոտայք!I124+Շիրակ!I124+Տավուշ!I124+Սյունիք!I124+Գեղարքունիք!I124) -> 0 | J124: =SUM(Լոռի!J124+'Արագածոտն '!J124+'Երևան քաղաք'!J124+'Արարատ և Վայոց ձոր'!J124+Արմավիր!J124+Կոտայք!J124+Շիրակ!J124+Տավուշ!J124+Սյունիք!J124+Գեղարքունիք!J124) -> 0 | K124: =SUM(Լոռի!K124+'Արագածոտն '!K124+'Երևան քաղաք'!K124+'Արարատ և Վայոց ձոր'!K124+Արմավիր!K124+Կոտայք!K124+Շիրակ!K124+Տավուշ!K124+Սյունիք!K124+Գեղարքունիք!K124) -> 0 | ... AB124: =SUM(Լոռի!AB124+'Արագածոտն '!AB124+'Երևան քաղաք'!AB124+'Արարատ և Վայոց ձոր'!AB124+Արմավիր!AB124+Կոտայք!AB124+Շիրակ!AB124+Տավուշ!AB124+Սյունիք!AB124+Գեղարքունիք!AB124) -> 0
A125: 7.9 | B125: Կեղծ սնանկությունը | C125: 194 | D125: =SUM(Լոռի!D125+'Արագածոտն '!D125+'Երևան քաղաք'!D125+'Արարատ և Վայոց ձոր'!D125+Արմավիր!D125+Կոտայք!D125+Շիրակ!D125+Տավուշ!D125+Սյունիք!D125+Գեղարքունիք!D125) -> 0 | E125: =SUM(Լոռի!E125+'Արագածոտն '!E125+'Երևան քաղաք'!E125+'Արարատ և Վայոց ձոր'!E125+Արմավիր!E125+Կոտայք!E125+Շիրակ!E125+Տավուշ!E125+Սյունիք!E125+Գեղարքունիք!E125) -> 0 | F125: =SUM(Լոռի!F125+'Արագածոտն '!F125+'Երևան քաղաք'!F125+'Արարատ և Վայոց ձոր'!F125+Արմավիր!F125+Կոտայք!F125+Շիրակ!F125+Տավուշ!F125+Սյունիք!F125+Գեղարքունիք!F125) -> 0 | G125: =SUM(Լոռի!G125+'Արագածոտն '!G125+'Երևան քաղաք'!G125+'Արարատ և Վայոց ձոր'!G125+Արմավիր!G125+Կոտայք!G125+Շիրակ!G125+Տավուշ!G125+Սյունիք!G125+Գեղարքունիք!G125) -> 0 | H125: =SUM(Լոռի!H125+'Արագածոտն '!H125+'Երևան քաղաք'!H125+'Արարատ և Վայոց ձոր'!H125+Արմավիր!H125+Կոտայք!H125+Շիրակ!H125+Տավուշ!H125+Սյունիք!H125+Գեղարքունիք!H125) -> 0 | I125: =SUM(Լոռի!I125+'Արագածոտն '!I125+'Երևան քաղաք'!I125+'Արարատ և Վայոց ձոր'!I125+Արմավիր!I125+Կոտայք!I125+Շիրակ!I125+Տավուշ!I125+Սյունիք!I125+Գեղարքունիք!I125) -> 0 | J125: =SUM(Լոռի!J125+'Արագածոտն '!J125+'Երևան քաղաք'!J125+'Արարատ և Վայոց ձոր'!J125+Արմավիր!J125+Կոտայք!J125+Շիրակ!J125+Տավուշ!J125+Սյունիք!J125+Գեղարքունիք!J125) -> 0 | K125: =SUM(Լոռի!K125+'Արագածոտն '!K125+'Երևան քաղաք'!K125+'Արարատ և Վայոց ձոր'!K125+Արմավիր!K125+Կոտայք!K125+Շիրակ!K125+Տավուշ!K125+Սյունիք!K125+Գեղարքունիք!K125) -> 0 | ... AB125: =SUM(Լոռի!AB125+'Արագածոտն '!AB125+'Երևան քաղաք'!AB125+'Արարատ և Վայոց ձոր'!AB125+Արմավիր!AB125+Կոտայք!AB125+Շիրակ!AB125+Տավուշ!AB125+Սյունիք!AB125+Գեղարքունիք!AB125) -> 0
... A148: 7.31 | B148: Ակնհայտ հանցավոր ճանապարհով ձեռք բերված գույք ձեռք բերելը կամ իրացնելը | C148: 216 | D148: =SUM(Լոռի!D148+'Արագածոտն '!D148+'Երևան քաղաք'!D148+'Արարատ և Վայոց ձոր'!D148+Արմավիր!D148+Կոտայք!D148+Շիրակ!D148+Տավուշ!D148+Սյունիք!D148+Գեղարքունիք!D148) -> 0 | E148: =SUM(Լոռի!E148+'Արագածոտն '!E148+'Երևան քաղաք'!E148+'Արարատ և Վայոց ձոր'!E148+Արմավիր!E148+Կոտայք!E148+Շիրակ!E148+Տավուշ!E148+Սյունիք!E148+Գեղարքունիք!E148) -> 0 | F148: =SUM(Լոռի!F148+'Արագածոտն '!F148+'Երևան քաղաք'!F148+'Արարատ և Վայոց ձոր'!F148+Արմավիր!F148+Կոտայք!F148+Շիրակ!F148+Տավուշ!F148+Սյունիք!F148+Գեղարքունիք!F148) -> 0 | G148: =SUM(Լոռի!G148+'Արագածոտն '!G148+'Երևան քաղաք'!G148+'Արարատ և Վայոց ձոր'!G148+Արմավիր!G148+Կոտայք!G148+Շիրակ!G148+Տավուշ!G148+Սյունիք!G148+Գեղարքունիք!G148) -> 0 | H148: =SUM(Լոռի!H148+'Արագածոտն '!H148+'Երևան քաղաք'!H148+'Արարատ և Վայոց ձոր'!H148+Արմավիր!H148+Կոտայք!H148+Շիրակ!H148+Տավուշ!H148+Սյունիք!H148+Գեղարքունիք!H148) -> 0 | I148: =SUM(Լոռի!I148+'Արագածոտն '!I148+'Երևան քաղաք'!I148+'Արարատ և Վայոց ձոր'!I148+Արմավիր!I148+Կոտայք!I148+Շիրակ!I148+Տավուշ!I148+Սյունիք!I148+Գեղարքունիք!I148) -> 0 | J148: =SUM(Լոռի!J148+'Արագածոտն '!J148+'Երևան քաղաք'!J148+'Արարատ և Վայոց ձոր'!J148+Արմավիր!J148+Կոտայք!J148+Շիրակ!J148+Տավուշ!J148+Սյունիք!J148+Գեղարքունիք!J148) -> 0 | K148: =SUM(Լոռի!K148+'Արագածոտն '!K148+'Երևան քաղաք'!K148+'Արարատ և Վայոց ձոր'!K148+Արմավիր!K148+Կոտայք!K148+Շիրակ!K148+Տավուշ!K148+Սյունիք!K148+Գեղարքունիք!K148) -> 0 | ... AB148: =SUM(Լոռի!AB148+'Արագածոտն '!AB148+'Երևան քաղաք'!AB148+'Արարատ և Վայոց ձոր'!AB148+Արմավիր!AB148+Կոտայք!AB148+Շիրակ!AB148+Տավուշ!AB148+Սյունիք!AB148+Գեղարքունիք!AB148) -> 0
A149: 7.32 | B149: Այլ հանցագործություններ | D149: =SUM(Լոռի!D149+'Արագածոտն '!D149+'Երևան քաղաք'!D149+'Արարատ և Վայոց ձոր'!D149+Արմավիր!D149+Կոտայք!D149+Շիրակ!D149+Տավուշ!D149+Սյունիք!D149+Գեղարքունիք!D149) -> 0 | E149: =SUM(Լոռի!E149+'Արագածոտն '!E149+'Երևան քաղաք'!E149+'Արարատ և Վայոց ձոր'!E149+Արմավիր!E149+Կոտայք!E149+Շիրակ!E149+Տավուշ!E149+Սյունիք!E149+Գեղարքունիք!E149) -> 0 | F149: =SUM(Լոռի!F149+'Արագածոտն '!F149+'Երևան քաղաք'!F149+'Արարատ և Վայոց ձոր'!F149+Արմավիր!F149+Կոտայք!F149+Շիրակ!F149+Տավուշ!F149+Սյունիք!F149+Գեղարքունիք!F149) -> 0 | G149: =SUM(Լոռի!G149+'Արագածոտն '!G149+'Երևան քաղաք'!G149+'Արարատ և Վայոց ձոր'!G149+Արմավիր!G149+Կոտայք!G149+Շիրակ!G149+Տավուշ!G149+Սյունիք!G149+Գեղարքունիք!G149) -> 0 | H149: =SUM(Լոռի!H149+'Արագածոտն '!H149+'Երևան քաղաք'!H149+'Արարատ և Վայոց ձոր'!H149+Արմավիր!H149+Կոտայք!H149+Շիրակ!H149+Տավուշ!H149+Սյունիք!H149+Գեղարքունիք!H149) -> 0 | I149: =SUM(Լոռի!I149+'Արագածոտն '!I149+'Երևան քաղաք'!I149+'Արարատ և Վայոց ձոր'!I149+Արմավիր!I149+Կոտայք!I149+Շիրակ!I149+Տավուշ!I149+Սյունիք!I149+Գեղարքունիք!I149) -> 0 | J149: =SUM(Լոռի!J149+'Արագածոտն '!J149+'Երևան քաղաք'!J149+'Արարատ և Վայոց ձոր'!J149+Արմավիր!J149+Կոտայք!J149+Շիրակ!J149+Տավուշ!J149+Սյունիք!J149+Գեղարքունիք!J149) -> 0 | K149: =SUM(Լոռի!K149+'Արագածոտն '!K149+'Երևան քաղաք'!K149+'Արարատ և Վայոց ձոր'!K149+Արմավիր!K149+Կոտայք!K149+Շիրակ!K149+Տավուշ!K149+Սյունիք!K149+Գեղարքունիք!K149) -> 0 | ... AB149: =SUM(Լոռի!AB149+'Արագածոտն '!AB149+'Երևան քաղաք'!AB149+'Արարատ և Վայոց ձոր'!AB149+Արմավիր!AB149+Կոտայք!AB149+Շիրակ!AB149+Տավուշ!AB149+Սյունիք!AB149+Գեղարքունիք!AB149) -> 0
A150: 8. | B150: Ընդամենը հասարակական անվտանգության դեմ ուղղված հանցագործությունները | D150: =SUM(Լոռի!D150+'Արագածոտն '!D150+'Երևան քաղաք'!D150+'Արարատ և Վայոց ձոր'!D150+Արմավիր!D150+Կոտայք!D150+Շիրակ!D150+Տավուշ!D150+Սյունիք!D150+Գեղարքունիք!D150) -> 0 | E150: =SUM(Լոռի!E150+'Արագածոտն '!E150+'Երևան քաղաք'!E150+'Արարատ և Վայոց ձոր'!E150+Արմավիր!E150+Կոտայք!E150+Շիրակ!E150+Տավուշ!E150+Սյունիք!E150+Գեղարքունիք!E150) -> 5 | F150: =SUM(Լոռի!F150+'Արագածոտն '!F150+'Երևան քաղաք'!F150+'Արարատ և Վայոց ձոր'!F150+Արմավիր!F150+Կոտայք!F150+Շիրակ!F150+Տավուշ!F150+Սյունիք!F150+Գեղարքունիք!F150) -> 5 | G150: =SUM(Լոռի!G150+'Արագածոտն '!G150+'Երևան քաղաք'!G150+'Արարատ և Վայոց ձոր'!G150+Արմավիր!G150+Կոտայք!G150+Շիրակ!G150+Տավուշ!G150+Սյունիք!G150+Գեղարքունիք!G150) -> 0 | H150: =SUM(Լոռի!H150+'Արագածոտն '!H150+'Երևան քաղաք'!H150+'Արարատ և Վայոց ձոր'!H150+Արմավիր!H150+Կոտայք!H150+Շիրակ!H150+Տավուշ!H150+Սյունիք!H150+Գեղարքունիք!H150) -> 2 | I150: =SUM(Լոռի!I150+'Արագածոտն '!I150+'Երևան քաղաք'!I150+'Արարատ և Վայոց ձոր'!I150+Արմավիր!I150+Կոտայք!I150+Շիրակ!I150+Տավուշ!I150+Սյունիք!I150+Գեղարքունիք!I150) -> 0 | J150: =SUM(Լոռի!J150+'Արագածոտն '!J150+'Երևան քաղաք'!J150+'Արարատ և Վայոց ձոր'!J150+Արմավիր!J150+Կոտայք!J150+Շիրակ!J150+Տավուշ!J150+Սյունիք!J150+Գեղարքունիք!J150) -> 0 | K150: =SUM(Լոռի!K150+'Արագածոտն '!K150+'Երևան քաղաք'!K150+'Արարատ և Վայոց ձոր'!K150+Արմավիր!K150+Կոտայք!K150+Շիրակ!K150+Տավուշ!K150+Սյունիք!K150+Գեղարքունիք!K150) -> 0 | ... AB150: =SUM(Լոռի!AB150+'Արագածոտն '!AB150+'Երևան քաղաք'!AB150+'Արարատ և Վայոց ձոր'!AB150+Արմավիր!AB150+Կոտայք!AB150+Շիրակ!AB150+Տավուշ!AB150+Սյունիք!AB150+Գեղարքունիք!AB150) -> 0
...

Sheet Լոռի
A1: ՀԱՇՎԵՏՎՈՒԹՅՈՒՆ
A2: 2020թ. Տարեկան | C2: ԱՆՉԱՓԱՀԱՍ ԴԱՏԱՊԱՐՏՅԱԼՆԵՐԻ ՎԵՐԱԲԵՐՅԱԼ
A3: Վիճակագրական տողի համարը | B3: ՀԱՆՑԱԳՈՐԾՈՒԹՅՈՒՆՆԵՐԻ ՏԵՍԱԿՆԵՐԸ | C3: ՀՀ Քրեական օրենսգրքի հոդվածը | D3: Հանցագործությունը կատարել են | G3: նրանցից | L3: Դատապարտյալների նկատմամբ նշանակված հիմնական պատիժներ | U3: նշանակված պատիժը պայմանականորեն չի կիրառվել | V3: կիրառվել է համաներման ակտ | W3: Կիրառվել են դաստիարակչական բնույթի հարկադրանքի միջոց | X3: Անձանց թիվը, որոնք մինչև վերջին հանցագործությունը կատարելը
D4: 14-16 տարեկանում | E4: 16-18 տարեկանում | F4: Ընդամենը | G4: աղջիկներ | H4: չեն աշխատել, չեն սովորել | I4: անձինք, որոնք հանցագործությունը կատարել են | L4: Ա զ ա տ ա զ ր կ ու մ | T4: այլ պատիժներ | X4: գտնվել են ոստիկանության մարմիններում հաշվառման մեջ | Y4: կատարել են հանցագործություն և եղել են
Y5: ազատված քրեական պատասխանատվությունից | Z5: դատապարտված | AA5: Այդ թվում
B6: ՍՏՈՒԳԻՉ ՀԱՎԱՍԱՐՈՒՄՆԵՐ 3=1+2, 16=9+10+11+12+13+14+15, 3=16+17 | I6: ալկ., թմրամիջ. կամ թնրեցնող այլ նյութերի ազդեցության տակ | J6: Մի խումբ անձանց կազմում | K6: այդ թվում՝ մեծահասակների մասնակցությամբ | L6: 1 տարի ներառյալ | M6: 1 տարուց ավել, մինչև 2 տարի ներառյալ | N6: 2 տարուց ավել, մինչև 3 տարի ներառյալ | O6: 3 տարուց ավել, մինչև 5 տարի ներառյալ | P6: 5 տարուց ավել, մինչև 8 տարի ներառյալ | Q6: 8 տարուց ավել, մինչև 10 տարի ներառյալ | R6: 10 տարուց ավել, մինչև 12տարի ներառյալ | S6: ընդամենը | AA6: դատավճռի կատարման հետաձգումով | AB6: պայմանական դատապարտություն
D7: 1 | E7: 2 | F7: 3 | G7: 4 | H7: 5 | I7: 6 | J7: 7 | K7: 8 | L7: 9 | M7: 10 | N7: 11 | O7: 12 | P7: 13 | Q7: 14 | R7: 15 | S7: 16 | T7: 17 | U7: 18 | V7: 19 | W7: 20 | X7: 21 | Y7: 22 | Z7: 23 | AA7: 24 | AB7: 25
A8: 1. | B8: Ընդամենը կյանքի և առողջության դեմ ուղղված հանցագործությունները | D8: =SUM(D9:D35) -> 1 | E8: =SUM(E9:E35) -> 1 | F8: =SUM(F9:F35) -> 2 | G8: =SUM(G9:G35) -> 0 | H8: =SUM(H9:H35) -> 1 | I8: =SUM(I9:I35) -> 0 | J8: =SUM(J9:J35) -> 0 | K8: =SUM(K9:K35) -> 0 | ... AB8: =SUM(AB9:AB35) -> 0
A9: 1.1 | B9: Սպանությունը | C9: 104 | F9: =+D9+E9 -> 0 | S9: =+R9+Q9+P9+O9+N9+M9+L9 -> 0
A10: 1.2 | B10: Հոգեկան խիստ հուզմունքի վիճակում կատարված սպանությունը | C10: 105 | F10: =+D10+E10 -> 0 | S10: =+R10+Q10+P10+O10+N10+M10+L10 -> 0
A11: 1.3 | B11: Մոր կողմից նորածին երեխայի սպանությունը | C11: 106 | F11: =+D11+E11 -> 0 | S11: =+R11+Q11+P11+O11+N11+M11+L11 -> 0
A12: 1.4 | B12: Հանցանք կատարած անձին բռնելու համար անհրաժեշտ միջոցների սահմանազանցմամբ սպանությունը | C12: 107 | F12: =+D12+E12 -> 0 | S12: =+R12+Q12+P12+O12+N12+M12+L12 -> 0
A13: 1.5 | B13: Անհրաժեշտ պաշտպանության սահմանազանցմամբ սպանությունը | C13: 108 | F13: =+D13+E13 -> 0 | S13: =+R13+Q13+P13+O13+N13+M13+L13 -> 0
A14: 1.6 | B14: Անզգուշությամբ մահ պատճառելը | C14: 109 | F14: =+D14+E14 -> 0 | S14: =+R14+Q14+P14+O14+N14+M14+L14 -> 0
A15: 1.7 | B15: Ինքնասպանության հասցնելը | C15: 110 | F15: =+D15+E15 -> 0 | S15: =+R15+Q15+P15+O15+N15+M15+L15 -> 0
A16: 1.8 | B16: Ինքնասպանության հակելը | C16: 111 | F16: =+D16+E16 -> 0 | S16: =+R16+Q16+P16+O16+N16+M16+L16 -> 0
A17: 1.9 | B17: Դիտավորությամբ առողջությանը ծանր վնաս պատճառելը | C17: 112 | D17: 1 | E17: 1 | F17: =+D17+E17 -> 2 | H17: 1 | N17: 2 | S17: =+R17+Q17+P17+O17+N17+M17+L17 -> 2 | U17: 2
A18: 1.10 | B18: Դիտավորությամբ առողջությանը միջին ծանրության վնաս պատճառելը | C18: 113 | F18: =+D18+E18 -> 0 | S18: =+R18+Q18+P18+O18+N18+M18+L18 -> 0
A19: 1.11 | B19: Հոգեկան խիստ հուզմունքի վիճակում առողջությանը ծանր կամ միջին ծանրության վնաս պատճառելը | C19: 114 | F19: =+D19+E19 -> 0 | S19: =+R19+Q19+P19+O19+N19+M19+L19 -> 0
A20: 1.12 | B20: Հանցանք կատարած անձին բռնելու համար անհրաժեշտ միջոցների սահմանզանցմամբ առողջությանը ծանր կամ միջին ծանրության վնաս պատճառելը | C20: 115 | F20: =+D20+E20 -> 0 | S20: =+R20+Q20+P20+O20+N20+M20+L20 -> 0
A21: 1.13 | B21: Առողջությանը ծանր կամ միջին ծանրության վնաս պատճառելը անհրաժեշտ պաշտպանության սահմանանազանցմամբ | C21: 116 | F21: =+D21+E21 -> 0 | S21: =+R21+Q21+P21+O21+N21+M21+L21 -> 0
A22: 1.14 | B22: Դիտավորությամբ առողջությանը թեթև վնաս պատճառելը | C22: 117 | F22: =+D22+E22 -> 0 | S22: =+R22+Q22+P22+O22+N22+M22+L22 -> 0
A23: 1.15 | B23: Ծեծը | C23: 118 | F23: =+D23+E23 -> 0 | S23: =+R23+Q23+P23+O23+N23+M23+L23 -> 0
A24: 1.16 | B24: Ֆիզիկական ուժեղ ցավ կամ հոգեկան ուժեղ տառապանք պատճառելը | C24: 119 | F24: =+D24+E24 -> 0 | S24: =+R24+Q24+P24+O24+N24+M24+L24 -> 0
A25: 1.17 | B25: Անզգուշությամբ առողջությանը ծանր վնաս պատճառելը | C25: 120 | F25: =+D25+E25 -> 0 | S25: =+R25+Q25+P25+O25+N25+M25+L25 -> 0
A26: 1.18 | B26: Անզգուշությամբ առողջությանը միջին ծանրության վնաս պատճառելը | C26: 121 | F26: =+D26+E26 -> 0 | S26: =+R26+Q26+P26+O26+N26+M26+L26 -> 0
A27: 1.19 | B27: Ապօրինի աբորտ կատարելը | C27: 122 | F27: =+D27+E27 -> 0 | S27: =+R27+Q27+P27+O27+N27+M27+L27 -> 0
A28: 1.20 | B28: Մարդու իմունային անբավարարության վիրուսի հարուցիչով վարակելը | C28: 123 | F28: =+D28+E28 -> 0 | S28: =+R28+Q28+P28+O28+N28+M28+L28 -> 0
A29: 1.21 | B29: Վեներական հիվանդությամբ կամ այլ սեռավարակներով վարակելը | C29: 124 | F29: =+D29+E29 -> 0 | S29: =+R29+Q29+P29+O29+N29+M29+L29 -> 0
... A34: 1.27 | B34: Բժշկական օգնություն և սպասարկում իրականացնողների կողմից մասնագիտական պարտականությունները չկատարելը կամ ոչ պատշաճ կատարելը | C34: 130 | F34: =+D34+E34 -> 0 | S34: =+R34+Q34+P34+O34+N34+M34+L34 -> 0
A35: 1.28 | B35: Այլ հանցագործություններ | F35: =+D35+E35 -> 0 | S35: =+R35+Q35+P35+O35+N35+M35+L35 -> 0
A36: 2. | B36: Ընդամենը անձի ազատության, պատվի և արժանապատվության դեմ ուղղված հանցագործությունները | D36: =SUM(D37:D44) -> 0 | E36: =SUM(E37:E44) -> 0 | F36: =SUM(F37:F44) -> 0 | G36: =SUM(G37:G44) -> 0 | H36: =SUM(H37:H44) -> 0 | I36: =SUM(I37:I44) -> 0 | J36: =SUM(J37:J44) -> 0 | K36: =SUM(K37:K44) -> 0 | ... AB36: =SUM(AB37:AB44) -> 0
A37: 2.1 | B37: Մարդուն առևանգելը | C37: 131 | F37: =+D37+E37 -> 0 | S37: =+R37+Q37+P37+O37+N37+M37+L37 -> 0
A38: 2.2 | B38: Մարդու թրաֆիքինգը կամ շահագործումը | C38: 132 | F38: =+D38+E38 -> 0 | S38: =+R38+Q38+P38+O38+N38+M38+L38 -> 0
A39: 2.2.2 | B39: Երեխայի կամ հոգեկան խանգարման հետևանքով իր արարքի բնույթն ու նշանակությունը գիտակցելու կամ դա ղեկավարելու հնարավորությունից զրկված անձի թրաֆիքինգը կամ շահագործումը | C39: 132.2 | F39: =+D39+E39 -> 0 | S39: =+R39+Q39+P39+O39+N39+M39+L39 -> 0
A40: 2.2.3 | B40: Շահագործման վիճակում գտնվող անձի ծառայությունից օգտվելը | C40: 132.3 | F40: =+D40+E40 -> 0 | S40: =+R40+Q40+P40+O40+N40+M40+L40 -> 0
A41: 2.3 | B41: Ազատությունից ապօրինի զրկելը | C41: 133 | F41: =+D41+E41 -> 0 | S41: =+R41+Q41+P41+O41+N41+M41+L41 -> 0
A42: 2.4 | B42: Հոգեբուժական հիվանդանոցում ապօրինի տեղավորելը կամ պահելը | C42: 134 | F42: =+D42+E42 -> 0 | S42: =+R42+Q42+P42+O42+N42+M42+L42 -> 0
A43: 2.7 | B43: Սպանության, առողջությանը ծանր վնաս պատճառելու կամ գույք ոչնչացնելու սպառնալիքը | C43: 137 | F43: =+D43+E43 -> 0 | S43: =+R43+Q43+P43+O43+N43+M43+L43 -> 0
A44: 2.8 | B44: Այլ հանցագործություններ | F44: =+D44+E44 -> 0 | S44: =+R44+Q44+P44+O44+N44+M44+L44 -> 0
A45: 3. | B45: Ընդամենը սեռական անձեռնմխելիության և սեռական ազատության դեմ ուղղված հանցագործությունները | D45: =SUM(D46:D51) -> 0 | E45: =SUM(E46:E51) -> 0 | F45: =SUM(F46:F51) -> 0 | G45: =SUM(G46:G51) -> 0 | H45: =SUM(H46:H51) -> 0 | I45: =SUM(I46:I51) -> 0 | J45: =SUM(J46:J51) -> 0 | K45: =SUM(K46:K51) -> 0 | ... AB45: =SUM(AB46:AB51) -> 0
A46: 3.1 | B46: Բռնաբարությունը | C46: 138 | F46: =+D46+E46 -> 0 | S46: =+R46+Q46+P46+O46+N46+M46+L46 -> 0
A47: 3.2 | B47: Սեքսուալ բնույթի բռնի գործողությունները | C47: 139 | F47: =+D47+E47 -> 0 | S47: =+R47+Q47+P47+O47+N47+M47+L47 -> 0
A48: 3.3 | B48: Սեռական հարաբերության կամ սեքսուալ բնույթի գործողություններին հարկադրելը | C48: 140 | F48: =+D48+E48 -> 0 | S48: =+R48+Q48+P48+O48+N48+M48+L48 -> 0
A49: 3.4 | B49: Սեռական հարաբերությունը տասնվեց տարին չլրացած անձի հետ կամ սեքսուալ բնույթի գործողություններ կատարելը տասնվեց տարին չլրացած անձի նկատմամբ | C49: 141 | F49: =+D49+E49 -> 0 | S49: =+R49+Q49+P49+O49+N49+M49+L49 -> 0
A50: 3.5 | B50: Անառակաբարո գործողությունները | C50: 142 | F50: =+D50+E50 -> 0 | S50: =+R50+Q50+P50+O50+N50+M50+L50 -> 0
A51: 3.6 | B51: Այլ հանցագործություններ | F51: =+D51+E51 -> 0 | S51: =+R51+Q51+P51+O51+N51+M51+L51 -> 0
A52: 4. | B52: Ընդամենը մարդու և քաղաքացու սահմանադրական իրավունքների և ազատությունների դեմ ուղղված հանցագործությունները | D52: =SUM(D53:D81) -> 0 | E52: =SUM(E53:E81) -> 0 | F52: =SUM(F53:F81) -> 0 | G52: =SUM(G53:G81) -> 0 | H52: =SUM(H53:H81) -> 0 | I52: =SUM(I53:I81) -> 0 | J52: =SUM(J53:J81) -> 0 | K52: =SUM(K53:K81) -> 0 | ... AB52: =SUM(AB53:AB81) -> 0
A53: 4.1 | B53: Մարդու և քաղաքացու իրավահավասարությունը խախտելը | C53: 143 | F53: =+D53+E53 -> 0 | S53: =+R53+Q53+P53+O53+N53+M53+L53 -> 0
A54: 4.2 | B54: Անձնական կամ ընտանեկան կյանքի մասին տեղեկություններ ապօրինի հավաքելը, պահելը, օգտագործելը կամ տարածելը | C54: 144 | F54: =+D54+E54 -> 0 | S54: =+R54+Q54+P54+O54+N54+M54+L54 -> 0
A55: 4.3 | B55: Բժշկական գաղտնիքը հրապարակելը | C55: 145 | F55: =+D55+E55 -> 0 | S55: =+R55+Q55+P55+O55+N55+M55+L55 -> 0
A56: 4.4 | B56: Նամակագրության, հեռախոսային խոսակցությունների, փոստային, հեռագրական կամ այլ հաղորդումների գաղտնիությունը խախտելը | C56: 146 | F56: =+D56+E56 -> 0 | S56: =+R56+Q56+P56+O56+N56+M56+L56 -> 0
A57: 4.5 | B57: Բնակարանի անձեռնմխելիությունը խախտելը | C57: 147 | F57: =+D57+E57 -> 0 | S57: =+R57+Q57+P57+O57+N57+M57+L57 -> 0
A58: 4.6 | B58: Անձին տեղեկություն ներկայացնելուց հրաժարվելը | C58: 148 | F58: =+D58+E58 -> 0 | S58: =+R58+Q58+P58+O58+N58+M58+L58 -> 0
A59: 4.7 | B59: Ընտրական իրավունքի իրականացմանը, ընտրական հանձնաժողովների աշխատանքներին կամ ընտրությանը մասնակցող անձանց լիազորությունների իրականացմանը խոչընդոտելը | C59: 149 | F59: =+D59+E59 -> 0 | S59: =+R59+Q59+P59+O59+N59+M59+L59 -> 0
A60: 4.8 | B60: Ընտրությունների կամ քվեարկության արդյունքները կեղծելը | C60: 150 | F60: =+D60+E60 -> 0 | S60: =+R60+Q60+P60+O60+N60+M60+L60 -> 0
A61: 4.10 | B61: Ընտրողների ցուցակները կազմելու, դրանք քաղաքացիներին և կուսակցություններին տրամադրելու կամ հրապարակելու կարգը խախտելը | C61: 152 | F61: =+D61+E61 -> 0 | S61: =+R61+Q61+P61+O61+N61+M61+L61 -> 0
A62: 4.11 | B62: Մեկից ավելի անգամ կամ այլ անձի փոխարեն քվեարկելը | C62: 153 | F62: =+D62+E62 -> 0 | S62: =+R62+Q62+P62+O62+N62+M62+L62 -> 0
A63: 4.12 | B63: Քվեարկության գաղտնիությունը խախտելը | C63: 154 | F63: =+D63+E63 -> 0 | S63: =+R63+Q63+P63+O63+N63+M63+L63 -> 0
A64: 4.13 | B64: Կեղծ ընտրական քվեաթերթիկներ կամ քվեարկության ծրարներ, դրոշմանիշեր, կտրոններ պատրաստելը կամ ակնհայտ կեղծ ընտրական քվեաթերթիկներ կամ քվեարկության ծրարներ, դրոշմանիշեր, կտրոններ հանձնելը կամ իրացնելը | C64: 154.1 | F64: =+D64+E64 -> 0 | S64: =+R64+Q64+P64+O64+N64+M64+L64 -> 0
... A80: 4.27 | B80: Լրագրողի մասնագիտական օրինական գործողությանը խոչընդոտելը | C80: 164 | F80: =+D80+E80 -> 0 | S80: =+R80+Q80+P80+O80+N80+M80+L80 -> 0
A81: 4.28 | B81: Այլ հանցագործություններ | F81: =+D81+E81 -> 0 | S81: =+R81+Q81+P81+O81+N81+M81+L81 -> 0
A82: 5. | B82: Ընդամենը ընտանիքի և երեխայի շահերի դեմ ուղղված հանցագործությունները | D82: =SUM(D83:D96) -> 0 | E82: =SUM(E83:E96) -> 1 | F82: =SUM(F83:F96) -> 1 | G82: =SUM(G83:G96) -> 0 | H82: =SUM(H83:H96) -> 1 | I82: =SUM(I83:I96) -> 0 | J82: =SUM(J83:J96) -> 1 | K82: =SUM(K83:K96) -> 1 | ... AB82: =SUM(AB83:AB96) -> 0
A83: 5.1 | B83: Անչափահասին հանցանքի կատարմանը ներգրավելը | C83: 165 | E83: 1 | F83: =+D83+E83 -> 1 | H83: 1 | J83: 1 | K83: 1 | S83: =+R83+Q83+P83+O83+N83+M83+L83 -> 0 | T83: 1
A84: 5.2 | B84: Երեխային պոռնկության կամ պոռնկագրական բնույթի նյութեր կամ առարկաներ պատրաստելու հետ կապված գործողություններ կատարելուն ներգրավելը | C84: 166 | F84: =+D84+E84 -> 0 | S84: =+R84+Q84+P84+O84+N84+M84+L84 -> 0
A85: 5.2.1 | B85: Երեխային ոգելից խմիչքների օգտագործմանը, ուժեղ ներգործող կամ այլ թմրեցնող նյութերի ոչ բժշկական օգտագործմանը, թափառաշրջիկությանը ներգրավելը կամ մուրացկանության հետ կապված գործողություններ կատարելուն ներգրավելը | C85: 166.1 | F85: =+D85+E85 -> 0 | S85: =+R85+Q85+P85+O85+N85+M85+L85 -> 0
A86: 5.3 | B86: Ծնողներից երեխային ապօրինի բաժանելը կամ երեխային փոխելը | C86: 167 | F86: =+D86+E86 -> 0 | S86: =+R86+Q86+P86+O86+N86+M86+L86 -> 0
A87: 5.4 | B87: Խնամքը ստանձնելու նպատակով երեխայի առքը կամ ստանձնողի խնամքին հանձնելու նպատակով երեխայի վաճառքը | C87: 168 | F87: =+D87+E87 -> 0 | S87: =+R87+Q87+P87+O87+N87+M87+L87 -> 0
A88: 5.5 | B88: Որդեգրման գաղտնիքը հրապարակելը կամ որդեգրման համաձայնություն տալուն հակելը կամ հարկադրելը | C88: 169 | F88: =+D88+E88 -> 0 | S88: =+R88+Q88+P88+O88+N88+M88+L88 -> 0
A89: 5.6 | B89: Քաղաքացիական կացության ակտերի գրանցման մարմիններին սուտ տեղեկություններ հաղորդելը | C89: 169.1 | F89: =+D89+E89 -> 0 | S89: =+R89+Q89+P89+O89+N89+M89+L89 -> 0
A90: 5.7 | B90: Երեխային դաստիարակելու պարտականությունը չկատարելը | C90: 170 | F90: =+D90+E90 -> 0 | S90: =+R90+Q90+P90+O90+N90+M90+L90 -> 0
A91: 5.8 | B91: Երեխայի կյանքի անվտանգության ապահովման կամ առողջության պահպանման պարտականությունը չկատարելը կամ ոչ պատշաճ կատարելը | C91: 171 | F91: =+D91+E91 -> 0 | S91: =+R91+Q91+P91+O91+N91+M91+L91 -> 0
A92: 5.8.1 | B92: Վերարտադրողականության օժանդակ տեխնոլոգիաներից օգտվելու կանոնները խախտելը | C92: 171.1 | F92: =+D92+E92 -> 0 | S92: =+R92+Q92+P92+O92+N92+M92+L92 -> 0
A93: 5.9 | B93: Խնամակալի կամ հոգաբարձուի իրավունքները չարաշահելը | C93: 172 | F93: =+D93+E93 -> 0 | S93: =+R93+Q93+P93+O93+N93+M93+L93 -> 0
A94: 5.10 | B94: Ծնողի կողմից երեխային պահելուց չարամտորեն խուսափելը | C94: 173 | F94: =+D94+E94 -> 0 | S94: =+R94+Q94+P94+O94+N94+M94+L94 -> 0
A95: 5.11 | B95: Զավակի կողմից անաշխատունակ ծնողին պահելուց չարամտորեն խուսափելը | C95: 174 | F95: =+D95+E95 -> 0 | S95: =+R95+Q95+P95+O95+N95+M95+L95 -> 0
A96: 5.12 | B96: Այլ հանցագործություններ | F96: =+D96+E96 -> 0 | S96: =+R96+Q96+P96+O96+N96+M96+L96 -> 0
A97: 6. | B97: Ընդամենը սեփականության դեմ ուղղված հանցագործությունները | D97: =SUM(D98:D112) -> 2 | E97: =SUM(E98:E112) -> 4 | F97: =SUM(F98:F112) -> 6 | G97: =SUM(G98:G112) -> 0 | H97: =SUM(H98:H112) -> 1 | I97: =SUM(I98:I112) -> 0 | J97: =SUM(J98:J112) -> 3 | K97: =SUM(K98:K112) -> 3 | ... AB97: =SUM(AB98:AB112) -> 0
A98: 6.1 | B98: Ավազակությունը | C98: 175 | F98: =+D98+E98 -> 0 | S98: =+R98+Q98+P98+O98+N98+M98+L98 -> 0
A99: 6.2 | B99: Կողոպուտը | C99: 176 | F99: =+D99+E99 -> 0 | S99: =+R99+Q99+P99+O99+N99+M99+L99 -> 0
A100: 6.3 | B100: Գողությունը | C100: 177 | D100: 2 | E100: 4 | F100: =+D100+E100 -> 6 | H100: 1 | J100: 3 | K100: 3 | M100: 2 | O100: 2 | S100: =+R100+Q100+P100+O100+N100+M100+L100 -> 4 | T100: 2 | U100: 3 | V100: 1
A101: 6.4 | B101: Խարդախությունը | C101: 178 | F101: =+D101+E101 -> 0 | S101: =+R101+Q101+P101+O101+N101+M101+L101 -> 0
A102: 6.5 | B102: Յուրացնելը կամ վատնելը | C102: 179 | F102: =+D102+E102 -> 0 | S102: =+R102+Q102+P102+O102+N102+M102+L102 -> 0
A103: 6.6 | B103: Առանձնակի արժեք ունեցող առարկաներ հափշտակելը | C103: 180 | F103: =+D103+E103 -> 0 | S103: =+R103+Q103+P103+O103+N103+M103+L103 -> 0
A104: 6.7 | B104: Հափշտակությունը, որը կատարվել է համակարգչային տեխնիկայի օգտագործմամբ | C104: 181 | F104: =+D104+E104 -> 0 | S104: =+R104+Q104+P104+O104+N104+M104+L104 -> 0
A105: 6.8 | B105: Շորթումը | C105: 182 | F105: =+D105+E105 -> 0 | S105: =+R105+Q105+P105+O105+N105+M105+L105 -> 0
A106: 6.9 | B106: Ավտոմեքենային կամ տրանսպորտային այլ միջոցին ապօրինաբար տիրանալն առանց հափշտակելու նպատակի | C106: 183 | F106: =+D106+E106 -> 0 | S106: =+R106+Q106+P106+O106+N106+M106+L106 -> 0
A107: 6.10 | B107: Գույքային վնաս պատճառելը խաբեության կամ վստահությունը չարաշահելու եղանակով | C107: 184 | F107: =+D107+E107 -> 0 | S107: =+R107+Q107+P107+O107+N107+M107+L107 -> 0
A108: 6.10.1 | B108: Գրավառուին վնաս պատճառելը | C108: 184.1 | F108: =+D108+E108 -> 0 | S108: =+R108+Q108+P108+O108+N108+M108+L108 -> 0
A109: 6.11 | B109: Գույքը դիտավորությամբ ոչնչացնելը կամ վնասելը | C109: 185 | F109: =+D109+E109 -> 0 | S109: =+R109+Q109+P109+O109+N109+M109+L109 -> 0
A110: 6.12 | B110: Գույքն անզգուշությամբ ոչնչացնելը կամ վնասելը | C110: 186 | F110: =+D110+E110 -> 0 | S110: =+R110+Q110+P110+O110+N110+M110+L110 -> 0
A111: 6.13 | B111: Գուքի պահպանության պարտականություններն անփույթ կամ անբարեխիղճ կատարելը | C111: 186.1 | F111: =+D111+E111 -> 0 | S111: =+R111+Q111+P111+O111+N111+M111+L111 -> 0
A112: 6.14 | B112: Այլ հանցագործություններ | F112: =+D112+E112 -> 0 | S112: =+R112+Q112+P112+O112+N112+M112+L112 -> 0
A113: 7. | B113: Ընդամենը տնտեսական գործունեության դեմ ուղղված հանցագործությունները | D113: =SUM(D114:D149) -> 0 | E113: =SUM(E114:E149) -> 0 | F113: =SUM(F114:F149) -> 0 | G113: =SUM(G114:G149) -> 0 | H113: =SUM(H114:H149) -> 0 | I113: =SUM(I114:I149) -> 0 | J113: =SUM(J114:J149) -> 0 | K113: =SUM(K114:K149) -> 0 | ... AB113: =SUM(AB114:AB149) -> 0
A114: 7.1 | B114: Օրինական ձեռնարկատիրական և այլ տնտեսական գործունեությանը խոչընդոտելը | C114: 187 | F114: =+D114+E114 -> 0 | S114: =+R114+Q114+P114+O114+N114+M114+L114 -> 0
A115: 7.2 | B115: Ապօրինի ձեռնարկատիրությունը | C115: 188 | F115: =+D115+E115 -> 0 | S115: =+R115+Q115+P115+O115+N115+M115+L115 -> 0
A116: 7.3 | B116: Առանց լիցենազիայի արտարժույթի վաճառքի իրականացումը | C116: 188.1 | F116: =+D116+E116 -> 0 | S116: =+R116+Q116+P116+O116+N116+M116+L116 -> 0
A117: 7.4 | B117: Կեղծ ձեռնարկատիրությունը | C117: 189 | F117: =+D117+E117 -> 0 | S117: =+R117+Q117+P117+O117+N117+M117+L117 -> 0
A118: 7.4.1 | B118: Ֆինանսական բուրգ ստեղծելը, կազմակերպելը կամ ղեկավարելը | C118: 189.1 | F118: =+D118+E118 -> 0 | S118: =+R118+Q118+P118+O118+N118+M118+L118 -> 0
A119: 7.5 | B119: Հանցավոր ճանապարհով ստացված գույքն օրինականացնելը (փողերի լվացումը) | C119: 190 | F119: =+D119+E119 -> 0 | S119: =+R119+Q119+P119+O119+N119+M119+L119 -> 0
...

Sheet Արագածոտն 
A1: ՀԱՇՎԵՏՎՈՒԹՅՈՒՆ
A2: 2020թ. Տարեկան | C2: ԱՆՉԱՓԱՀԱՍ ԴԱՏԱՊԱՐՏՅԱԼՆԵՐԻ ՎԵՐԱԲԵՐՅԱԼ
A3: Վիճակագրական տողի համարը | B3: ՀԱՆՑԱԳՈՐԾՈՒԹՅՈՒՆՆԵՐԻ ՏԵՍԱԿՆԵՐԸ | C3: ՀՀ Քրեական օրենսգրքի հոդվածը | D3: Հանցագործությունը կատարել են | G3: նրանցից | L3: Դատապարտյալների նկատմամբ նշանակված հիմնական պատիժներ | U3: նշանակված պատիժը պայմանականորեն չի կիրառվել | V3: կիրառվել է համաներման ակտ | W3: Կիրառվել են դաստիարակչական բնույթի հարկադրանքի միջոց | X3: Անձանց թիվը, որոնք մինչև վերջին հանցագործությունը կատարելը
D4: 14-16 տարեկանում | E4: 16-18 տարեկանում | F4: Ընդամենը | G4: աղջիկներ | H4: չեն աշխատել, չեն սովորել | I4: անձինք, որոնք հանցագործությունը կատարել են | L4: Ա զ ա տ ա զ ր կ ու մ | T4: այլ պատիժներ | X4: գտնվել են ոստիկանության մարմիններում հաշվառման մեջ | Y4: կատարել են հանցագործություն և եղել են
Y5: ազատված քրեական պատասխանատվությունից | Z5: դատապարտված | AA5: Այդ թվում
B6: ՍՏՈՒԳԻՉ ՀԱՎԱՍԱՐՈՒՄՆԵՐ 3=1+2, 16=9+10+11+12+13+14+15, 3=16+17 | I6: ալկ., թմրամիջ. կամ թնրեցնող այլ նյութերի ազդեցության տակ | J6: Մի խումբ անձանց կազմում | K6: այդ թվում՝ մեծահասակների մասնակցությամբ | L6: 1 տարի ներառյալ | M6: 1 տարուց ավել, մինչև 2 տարի ներառյալ | N6: 2 տարուց ավել, մինչև 3 տարի ներառյալ | O6: 3 տարուց ավել, մինչև 5 տարի ներառյալ | P6: 5 տարուց ավել, մինչև 8 տարի ներառյալ | Q6: 8 տարուց ավել, մինչև 10 տարի ներառյալ | R6: 10 տարուց ավել, մինչև 12տարի ներառյալ | S6: ընդամենը | AA6: դատավճռի կատարման հետաձգումով | AB6: պայմանական դատապարտություն
D7: 1 | E7: 2 | F7: 3 | G7: 4 | H7: 5 | I7: 6 | J7: 7 | K7: 8 | L7: 9 | M7: 10 | N7: 11 | O7: 12 | P7: 13 | Q7: 14 | R7: 15 | S7: 16 | T7: 17 | U7: 18 | V7: 19 | W7: 20 | X7: 21 | Y7: 22 | Z7: 23 | AA7: 24 | AB7: 25
A8: 1. | B8: Ընդամենը կյանքի և առողջության դեմ ուղղված հանցագործությունները | D8: =SUM(D9:D35) -> 0 | E8: =SUM(E9:E35) -> 0 | F8: =SUM(F9:F35) -> 0 | G8: =SUM(G9:G35) -> 0 | H8: =SUM(H9:H35) -> 0 | I8: =SUM(I9:I35) -> 0 | J8: =SUM(J9:J35) -> 0 | K8: =SUM(K9:K35) -> 0 | ... AB8: =SUM(AB9:AB35) -> 0
A9: 1.1 | B9: Սպանությունը | C9: 104
A10: 1.2 | B10: Հոգեկան խիստ հուզմունքի վիճակում կատարված սպանությունը | C10: 105
A11: 1.3 | B11: Մոր կողմից նորածին երեխայի սպանությունը | C11: 106
A12: 1.4 | B12: Հանցանք կատարած անձին բռնելու համար անհրաժեշտ միջոցների սահմանազանցմամբ սպանությունը | C12: 107
A13: 1.5 | B13: Անհրաժեշտ պաշտպանության սահմանազանցմամբ սպանությունը | C13: 108
A14: 1.6 | B14: Անզգուշությամբ մահ պատճառելը | C14: 109
A15: 1.7 | B15: Ինքնասպանության հասցնելը | C15: 110
A16: 1.8 | B16: Ինքնասպանության հակելը | C16: 111
A17: 1.9 | B17: Դիտավորությամբ առողջությանը ծանր վնաս պատճառելը | C17: 112
A18: 1.10 | B18: Դիտավորությամբ առողջությանը միջին ծանրության վնաս պատճառելը | C18: 113
A19: 1.11 | B19: Հոգեկան խիստ հուզմունքի վիճակում առողջությանը ծանր կամ միջին ծանրության վնաս պատճառելը | C19: 114
A20: 1.12 | B20: Հանցանք կատարած անձին բռնելու համար անհրաժեշտ միջոցների սահմանզանցմամբ առողջությանը ծանր կամ միջին ծանրության վնաս պատճառելը | C20: 115
... A34: 1.27 | B34: Բժշկական օգնություն և սպասարկում իրականացնողների կողմից մասնագիտական պարտականությունները չկատարելը կամ ոչ պատշաճ կատարելը | C34: 130
A35: 1.28 | B35: Այլ հանցագործություններ
A36: 2. | B36: Ընդամենը անձի ազատության, պատվի և արժանապատվության դեմ ուղղված հանցագործությունները | D36: =SUM(D37:D44) -> 0 | E36: =SUM(E37:E44) -> 0 | F36: =SUM(F37:F44) -> 0 | G36: =SUM(G37:G44) -> 0 | H36: =SUM(H37:H44) -> 0 | I36: =SUM(I37:I44) -> 0 | J36: =SUM(J37:J44) -> 0 | K36: =SUM(K37:K44) -> 0 | ... AB36: =SUM(AB37:AB44) -> 0
A37: 2.1 | B37: Մարդուն առևանգելը | C37: 131
A38: 2.2 | B38: Մարդու թրաֆիքինգը կամ շահագործումը | C38: 132
A39: 2.2.2 | B39: Երեխայի կամ հոգեկան խանգարման հետևանքով իր արարքի բնույթն ու նշանակությունը գիտակցելու կամ դա ղեկավարելու հնարավորությունից զրկված անձի թրաֆիքինգը կամ շահագործումը | C39: 132.2
A40: 2.2.3 | B40: Շահագործման վիճակում գտնվող անձի ծառայությունից օգտվելը | C40: 132.3
A41: 2.3 | B41: Ազատությունից ապօրինի զրկելը | C41: 133
A42: 2.4 | B42: Հոգեբուժական հիվանդանոցում ապօրինի տեղավորելը կամ պահելը | C42: 134
A43: 2.7 | B43: Սպանության, առողջությանը ծանր վնաս պատճառելու կամ գույք ոչնչացնելու սպառնալիքը | C43: 137
A44: 2.8 | B44: Այլ հանցագործություններ
A45: 3. | B45: Ընդամենը սեռական անձեռնմխելիության և սեռական ազատության դեմ ուղղված հանցագործությունները | D45: =SUM(D46:D51) -> 0 | E45: =SUM(E46:E51) -> 0 | F45: =SUM(F46:F51) -> 0 | G45: =SUM(G46:G51) -> 0 | H45: =SUM(H46:H51) -> 0 | I45: =SUM(I46:I51) -> 0 | J45: =SUM(J46:J51) -> 0 | K45: =SUM(K46:K51) -> 0 | ... AB45: =SUM(AB46:AB51) -> 0
A46: 3.1 | B46: Բռնաբարությունը | C46: 138
A47: 3.2 | B47: Սեքսուալ բնույթի բռնի գործողությունները | C47: 139
A48: 3.3 | B48: Սեռական հարաբերության կամ սեքսուալ բնույթի գործողություններին հարկադրելը | C48: 140
A49: 3.4 | B49: Սեռական հարաբերությունը տասնվեց տարին չլրացած անձի հետ կամ սեքսուալ բնույթի գործողություններ կատարելը տասնվեց տարին չլրացած անձի նկատմամբ | C49: 141
A50: 3.5 | B50: Անառակաբարո գործողությունները | C50: 142
A51: 3.6 | B51: Այլ հանցագործություններ
A52: 4. | B52: Ընդամենը մարդու և քաղաքացու սահմանադրական իրավունքների և ազատությունների դեմ ուղղված հանցագործությունները | D52: =SUM(D53:D81) -> 0 | E52: =SUM(E53:E81) -> 0 | F52: =SUM(F53:F81) -> 0 | G52: =SUM(G53:G81) -> 0 | H52: =SUM(H53:H81) -> 0 | I52: =SUM(I53:I81) -> 0 | J52: =SUM(J53:J81) -> 0 | K52: =SUM(K53:K81) -> 0 | ... AB52: =SUM(AB53:AB81) -> 0
A53: 4.1 | B53: Մարդու և քաղաքացու իրավահավասարությունը խախտելը | C53: 143
A54: 4.2 | B54: Անձնական կամ ընտանեկան կյանքի մասին տեղեկություններ ապօրինի հավաքելը, պահելը, օգտագործելը կամ տարածելը | C54: 144
A55: 4.3 | B55: Բժշկական գաղտնիքը հրապարակելը | C55: 145
A56: 4.4 | B56: Նամակագրության, հեռախոսային խոսակցությունների, փոստային, հեռագրական կամ այլ հաղորդումների գաղտնիությունը խախտելը | C56: 146
A57: 4.5 | B57: Բնակարանի անձեռնմխելիությունը խախտելը | C57: 147
A58: 4.6 | B58: Անձին տեղեկություն ներկայացնելուց հրաժարվելը | C58: 148
A59: 4.7 | B59: Ընտրական իրավունքի իրականացմանը, ընտրական հանձնաժողովների աշխատանքներին կամ ընտրությանը մասնակցող անձանց լիազորությունների իրականացմանը խոչընդոտելը | C59: 149
A60: 4.8 | B60: Ընտրությունների կամ քվեարկության արդյունքները կեղծելը | C60: 150
A61: 4.10 | B61: Ընտրողների ցուցակները կազմելու, դրանք քաղաքացիներին և կուսակցություններին տրամադրելու կամ հրապարակելու կարգը խախտելը | C61: 152
A62: 4.11 | B62: Մեկից ավելի անգամ կամ այլ անձի փոխարեն քվեարկելը | C62: 153
A63: 4.12 | B63: Քվեարկության գաղտնիությունը խախտելը | C63: 154
A64: 4.13 | B64: Կեղծ ընտրական քվեաթերթիկներ կամ քվեարկության ծրարներ, դրոշմանիշեր, կտրոններ պատրաստելը կամ ակնհայտ կեղծ ընտրական քվեաթերթիկներ կամ քվեարկության ծրարներ, դրոշմանիշեր, կտրոններ հանձնելը կամ իրացնելը | C64: 154.1
... A80: 4.27 | B80: Լրագրողի մասնագիտական օրինական գործողությանը խոչընդոտելը | C80: 164
A81: 4.28 | B81: Այլ հանցագործություններ
A82: 5. | B82: Ընդամենը ընտանիքի և երեխայի շահերի դեմ ուղղված հանցագործությունները | D82: =SUM(D83:D96) -> 0 | E82: =SUM(E83:E96) -> 0 | F82: =SUM(F83:F96) -> 0 | G82: =SUM(G83:G96) -> 0 | H82: =SUM(H83:H96) -> 0 | I82: =SUM(I83:I96) -> 0 | J82: =SUM(J83:J96) -> 0 | K82: =SUM(K83:K96) -> 0 | ... AB82: =SUM(AB83:AB96) -> 0
A83: 5.1 | B83: Անչափահասին հանցանքի կատարմանը ներգրավելը | C83: 165
A84: 5.2 | B84: Երեխային պոռնկության կամ պոռնկագրական բնույթի նյութեր կամ առարկաներ պատրաստելու հետ կապված գործողություններ կատարելուն ներգրավելը | C84: 166
A85: 5.2.1 | B85: Երեխային ոգելից խմիչքների օգտագործմանը, ուժեղ ներգործող կամ այլ թմրեցնող նյութերի ոչ բժշկական օգտագործմանը, թափառաշրջիկությանը ներգրավելը կամ մուրացկանության հետ կապված գործողություններ կատարելուն ներգրավելը | C85: 166.1
A86: 5.3 | B86: Ծնողներից երեխային ապօրինի բաժանելը կամ երեխային փոխելը | C86: 167
A87: 5.4 | B87: Խնամքը ստանձնելու նպատակով երեխայի առքը կամ ստանձնողի խնամքին հանձնելու նպատակով երեխայի վաճառքը | C87: 168
A88: 5.5 | B88: Որդեգրման գաղտնիքը հրապարակելը կամ որդեգրման համաձայնություն տալուն հակելը կամ հարկադրելը | C88: 169
A89: 5.6 | B89: Քաղաքացիական կացության ակտերի գրանցման մարմիններին սուտ տեղեկություններ հաղորդելը | C89: 169.1
A90: 5.7 | B90: Երեխային դաստիարակելու պարտականությունը չկատարելը | C90: 170
A91: 5.8 | B91: Երեխայի կյանքի անվտանգության ապահովման կամ առողջության պահպանման պարտականությունը չկատարելը կամ ոչ պատշաճ կատարելը | C91: 171
A92: 5.8.1 | B92: Վերարտադրողականության օժանդակ տեխնոլոգիաներից օգտվելու կանոնները խախտելը | C92: 171.1
A93: 5.9 | B93: Խնամակալի կամ հոգաբարձուի իրավունքները չարաշահելը | C93: 172
A94: 5.10 | B94: Ծնողի կողմից երեխային պահելուց չարամտորեն խուսափելը | C94: 173
A95: 5.11 | B95: Զավակի կողմից անաշխատունակ ծնողին պահելուց չարամտորեն խուսափելը | C95: 174
A96: 5.12 | B96: Այլ հանցագործություններ
A97: 6. | B97: Ընդամենը սեփականության դեմ ուղղված հանցագործությունները | D97: =SUM(D98:D112) -> 1 | E97: =SUM(E98:E112) -> 1 | F97: =SUM(F98:F112) -> 2 | G97: =SUM(G98:G112) -> 0 | H97: =SUM(H98:H112) -> 1 | I97: =SUM(I98:I112) -> 0 | J97: =SUM(J98:J112) -> 0 | K97: =SUM(K98:K112) -> 0 | ... AB97: =SUM(AB98:AB112) -> 0
A98: 6.1 | B98: Ավազակությունը | C98: 175
A99: 6.2 | B99: Կողոպուտը | C99: 176
A100: 6.3 | B100: Գողությունը | C100: 177 | D100: 1 | E100: 1 | F100: 2 | H100: 1 | O100: 1 | S100: 1 | T100: 1 | U100: 1 | V100: 1
A101: 6.4 | B101: Խարդախությունը | C101: 178
A102: 6.5 | B102: Յուրացնելը կամ վատնելը | C102: 179
A103: 6.6 | B103: Առանձնակի արժեք ունեցող առարկաներ հափշտակելը | C103: 180
A104: 6.7 | B104: Հափշտակությունը, որը կատարվել է համակարգչային տեխնիկայի օգտագործմամբ | C104: 181
A105: 6.8 | B105: Շորթումը | C105: 182
A106: 6.9 | B106: Ավտոմեքենային կամ տրանսպորտային այլ միջոցին ապօրինաբար տիրանալն առանց հափշտակելու նպատակի | C106: 183
A107: 6.10 | B107: Գույքային վնաս պատճառելը խաբեության կամ վստահությունը չարաշահելու եղանակով | C107: 184
A108: 6.10.1 | B108: Գրավառուին վնաս պատճառելը | C108: 184.1
A109: 6.11 | B109: Գույքը դիտավորությամբ ոչնչացնելը կամ վնասելը | C109: 185
A110: 6.12 | B110: Գույքն անզգուշությամբ ոչնչացնելը կամ վնասելը | C110: 186
A111: 6.13 | B111: Գուքի պահպանության պարտականություններն անփույթ կամ անբարեխիղճ կատարելը | C111: 186.1
A112: 6.14 | B112: Այլ հանցագործություններ
A113: 7. | B113: Ընդամենը տնտեսական գործունեության դեմ ուղղված հանցագործությունները | D113: =SUM(D114:D149) -> 0 | E113: =SUM(E114:E149) -> 0 | F113: =SUM(F114:F149) -> 0 | G113: =SUM(G114:G149) -> 0 | H113: =SUM(H114:H149) -> 0 | I113: =SUM(I114:I149) -> 0 | J113: =SUM(J114:J149) -> 0 | K113: =SUM(K114:K149) -> 0 | ... AB113: =SUM(AB114:AB149) -> 0
A114: 7.1 | B114: Օրինական ձեռնարկատիրական և այլ տնտեսական գործունեությանը խոչընդոտելը | C114: 187
A115: 7.2 | B115: Ապօրինի ձեռնարկատիրությունը | C115: 188
A116: 7.3 | B116: Առանց լիցենազիայի արտարժույթի վաճառքի իրականացումը | C116: 188.1
A117: 7.4 | B117: Կեղծ ձեռնարկատիրությունը | C117: 189
A118: 7.4.1 | B118: Ֆինանսական բուրգ ստեղծելը, կազմակերպելը կամ ղեկավարելը | C118: 189.1
A119: 7.5 | B119: Հանցավոր ճանապարհով ստացված գույքն օրինականացնելը (փողերի լվացումը) | C119: 190
A120: 7.5.1 | B120: Ներքին տեղեկությունների անբարեխիղճ օգտագործումը | C120: 190.1
A121: 7.5.2 | B121: Գնային չարաշահումը | C121: 190.2
A122: 7.6 | B122: Վարկը ոչ նպատակային օգտագործելը | C122: 191
A123: 7.7 | B123: Անօրինական գործողությունները սնանկության ընթացքում | C123: 192
A124: 7.8 | B124: Կանխամտածված սնանկությունը | C124: 193
A125: 7.9 | B125: Կեղծ սնանկությունը | C125: 194
... A148: 7.31 | B148: Ակնհայտ հանցավոր ճանապարհով ձեռք բերված գույք ձեռք բերելը կամ իրացնելը | C148: 216
A149: 7.32 | B149: Այլ հանցագործություններ
A150: 8. | B150: Ընդամենը հասարակական անվտանգության դեմ ուղղված հանցագործությունները | D150: =SUM(D151:D190) -> 0 | E150: =SUM(E151:E187) -> 0 | F150: =SUM(F151:F187) -> 0 | G150: =SUM(G151:G187) -> 0 | H150: =SUM(H151:H187) -> 0 | I150: =SUM(I151:I187) -> 0 | J150: =SUM(J151:J187) -> 0 | K150: =SUM(K151:K187) -> 0 | L150: =SUM(L151:L187) -> 0 | ... AB150: =SUM(AB151:AB187) -> 0
...

Sheet Երևան քաղաք
A1: ՀԱՇՎԵՏՎՈՒԹՅՈՒՆ
A2: 2020թ. Տարեկան | C2: ԱՆՉԱՓԱՀԱՍ ԴԱՏԱՊԱՐՏՅԱԼՆԵՐԻ ՎԵՐԱԲԵՐՅԱԼ
A3: Վիճակագրական տողի համարը | B3: ՀԱՆՑԱԳՈՐԾՈՒԹՅՈՒՆՆԵՐԻ ՏԵՍԱԿՆԵՐԸ | C3: ՀՀ Քրեական օրենսգրքի հոդվածը | D3: Հանցագործությունը կատարել են | G3: նրանցից | L3: Դատապարտյալների նկատմամբ նշանակված հիմնական պատիժներ | U3: նշանակված պատիժը պայմանականորեն չի կիրառվել | V3: կիրառվել է համաներման ակտ | W3: Կիրառվել են դաստիարակչական բնույթի հարկադրանքի միջոց | X3: Անձանց թիվը, որոնք մինչև վերջին հանցագործությունը կատարելը
D4: 14-16 տարեկանում | E4: 16-18 տարեկանում | F4: Ընդամենը | G4: աղջիկներ | H4: չեն աշխատել, չեն սովորել | I4: անձինք, որոնք հանցագործությունը կատարել են | L4: Ա զ ա տ ա զ ր կ ու մ | T4: այլ պատիժներ | X4: գտնվել են ոստիկանության մարմիններում հաշվառման մեջ | Y4: կատարել են հանցագործություն և եղել են
Y5: ազատված քրեական պատասխանատվությունից | Z5: դատապարտված | AA5: Այդ թվում
B6: ՍՏՈՒԳԻՉ ՀԱՎԱՍԱՐՈՒՄՆԵՐ 3=1+2, 16=9+10+11+12+13+14+15, 3=16+17 | I6: ալկ., թմրամիջ. կամ թնրեցնող այլ նյութերի ազդեցության տակ | J6: Մի խումբ անձանց կազմում | K6: այդ թվում՝ մեծահասակների մասնակցությամբ | L6: 1 տարի ներառյալ | M6: 1 տարուց ավել, մինչև 2 տարի ներառյալ | N6: 2 տարուց ավել, մինչև 3 տարի ներառյալ | O6: 3 տարուց ավել, մինչև 5 տարի ներառյալ | P6: 5 տարուց ավել, մինչև 8 տարի ներառյալ | Q6: 8 տարուց ավել, մինչև 10 տարի ներառյալ | R6: 10 տարուց ավել, մինչև 12տարի ներառյալ | S6: ընդամենը | AA6: դատավճռի կատարման հետաձգումով | AB6: պայմանական դատապարտություն
D7: 1 | E7: 2 | F7: 3 | G7: 4 | H7: 5 | I7: 6 | J7: 7 | K7: 8 | L7: 9 | M7: 10 | N7: 11 | O7: 12 | P7: 13 | Q7: 14 | R7: 15 | S7: 16 | T7: 17 | U7: 18 | V7: 19 | W7: 20 | X7: 21 | Y7: 22 | Z7: 23 | AA7: 24 | AB7: 25
A8: 1. | B8: Ընդամենը կյանքի և առողջության դեմ ուղղված հանցագործությունները | D8: =SUM(D9:D35) -> 2 | E8: =SUM(E9:E35) -> 0 | F8: =SUM(F9:F35) -> 2 | G8: =SUM(G9:G35) -> 0 | H8: =SUM(H9:H35) -> 0 | I8: =SUM(I9:I35) -> 0 | J8: =SUM(J9:J35) -> 0 | K8: =SUM(K9:K35) -> 0 | ... AB8: =SUM(AB9:AB35) -> 0
A9: 1.1 | B9: Սպանությունը | C9: 104
A10: 1.2 | B10: Հոգեկան խիստ հուզմունքի վիճակում կատարված սպանությունը | C10: 105
A11: 1.3 | B11: Մոր կողմից նորածին երեխայի սպանությունը | C11: 106
A12: 1.4 | B12: Հանցանք կատարած անձին բռնելու համար անհրաժեշտ միջոցների սահմանազանցմամբ սպանությունը | C12: 107
A13: 1.5 | B13: Անհրաժեշտ պաշտպանության սահմանազանցմամբ սպանությունը | C13: 108
A14: 1.6 | B14: Անզգուշությամբ մահ պատճառելը | C14: 109
A15: 1.7 | B15: Ինքնասպանության հասցնելը | C15: 110
A16: 1.8 | B16: Ինքնասպանության հակելը | C16: 111
A17: 1.9 | B17: Դիտավորությամբ առողջությանը ծանր վնաս պատճառելը | C17: 112 | D17: 2 | F17: 2 | M17: 2 | S17: 2 | U17: 2
A18: 1.10 | B18: Դիտավորությամբ առողջությանը միջին ծանրության վնաս պատճառելը | C18: 113
A19: 1.11 | B19: Հոգեկան խիստ հուզմունքի վիճակում առողջությանը ծանր կամ միջին ծանրության վնաս պատճառելը | C19: 114
A20: 1.12 | B20: Հանցանք կատարած անձին բռնելու համար անհրաժեշտ միջոցների սահմանզանցմամբ առողջությանը ծանր կամ միջին ծանրության վնաս պատճառելը | C20: 115
A21: 1.13 | B21: Առողջությանը ծանր կամ միջին ծանրության վնաս պատճառելը անհրաժեշտ պաշտպանության սահմանանազանցմամբ | C21: 116
A22: 1.14 | B22: Դիտավորությամբ առողջությանը թեթև վնաս պատճառելը | C22: 117
A23: 1.15 | B23: Ծեծը | C23: 118
A24: 1.16 | B24: Ֆիզիկական ուժեղ ցավ կամ հոգեկան ուժեղ տառապանք պատճառելը | C24: 119
A25: 1.17 | B25: Անզգուշությամբ առողջությանը ծանր վնաս պատճառելը | C25: 120
A26: 1.18 | B26: Անզգուշությամբ առողջությանը միջին ծանրության վնաս պատճառելը | C26: 121
A27: 1.19 | B27: Ապօրինի աբորտ կատարելը | C27: 122
A28: 1.20 | B28: Մարդու իմունային անբավարարության վիրուսի հարուցիչով վարակելը | C28: 123
A29: 1.21 | B29: Վեներական հիվանդությամբ կամ այլ սեռավարակներով վարակելը | C29: 124
... A34: 1.27 | B34: Բժշկական օգնություն և սպասարկում իրականացնողների կողմից մասնագիտական պարտականությունները չկատարելը կամ ոչ պատշաճ կատարելը | C34: 130
A35: 1.28 | B35: Այլ հանցագործություններ
A36: 2. | B36: Ընդամենը անձի ազատության, պատվի և արժանապատվության դեմ ուղղված հանցագործությունները | D36: =SUM(D37:D44) -> 0 | E36: =SUM(E37:E44) -> 1 | F36: =SUM(F37:F44) -> 1 | G36: =SUM(G37:G44) -> 0 | H36: =SUM(H37:H44) -> 0 | I36: =SUM(I37:I44) -> 0 | J36: =SUM(J37:J44) -> 0 | K36: =SUM(K37:K44) -> 0 | ... AB36: =SUM(AB37:AB44) -> 0
A37: 2.1 | B37: Մարդուն առևանգելը | C37: 131 | E37: 1 | F37: 1 | L37: 1 | S37: 1
A38: 2.2 | B38: Մարդու թրաֆիքինգը կամ շահագործումը | C38: 132
A39: 2.2.2 | B39: Երեխայի կամ հոգեկան խանգարման հետևանքով իր արարքի բնույթն ու նշանակությունը գիտակցելու կամ դա ղեկավարելու հնարավորությունից զրկված անձի թրաֆիքինգը կամ շահագործումը | C39: 132.2
A40: 2.2.3 | B40: Շահագործման վիճակում գտնվող անձի ծառայությունից օգտվելը | C40: 132.3
A41: 2.3 | B41: Ազատությունից ապօրինի զրկելը | C41: 133
A42: 2.4 | B42: Հոգեբուժական հիվանդանոցում ապօրինի տեղավորելը կամ պահելը | C42: 134
A43: 2.7 | B43: Սպանության, առողջությանը ծանր վնաս պատճառելու կամ գույք ոչնչացնելու սպառնալիքը | C43: 137
A44: 2.8 | B44: Այլ հանցագործություններ
A45: 3. | B45: Ընդամենը սեռական անձեռնմխելիության և սեռական ազատության դեմ ուղղված հանցագործությունները | D45: =SUM(D46:D51) -> 0 | E45: =SUM(E46:E51) -> 0 | F45: =SUM(F46:F51) -> 0 | G45: =SUM(G46:G51) -> 0 | H45: =SUM(H46:H51) -> 0 | I45: =SUM(I46:I51) -> 0 | J45: =SUM(J46:J51) -> 0 | K45: =SUM(K46:K51) -> 0 | ... AB45: =SUM(AB46:AB51) -> 0
A46: 3.1 | B46: Բռնաբարությունը | C46: 138
A47: 3.2 | B47: Սեքսուալ բնույթի բռնի գործողությունները | C47: 139
A48: 3.3 | B48: Սեռական հարաբերության կամ սեքսուալ բնույթի գործողություններին հարկադրելը | C48: 140
A49: 3.4 | B49: Սեռական հարաբերությունը տասնվեց տարին չլրացած անձի հետ կամ սեքսուալ բնույթի գործողություններ կատարելը տասնվեց տարին չլրացած անձի նկատմամբ | C49: 141
A50: 3.5 | B50: Անառակաբարո գործողությունները | C50: 142
A51: 3.6 | B51: Այլ հանցագործություններ
A52: 4. | B52: Ընդամենը մարդու և քաղաքացու սահմանադրական իրավունքների և ազատությունների դեմ ուղղված հանցագործությունները | D52: =SUM(D53:D81) -> 0 | E52: =SUM(E53:E81) -> 0 | F52: =SUM(F53:F81) -> 0 | G52: =SUM(G53:G81) -> 0 | H52: =SUM(H53:H81) -> 0 | I52: =SUM(I53:I81) -> 0 | J52: =SUM(J53:J81) -> 0 | K52: =SUM(K53:K81) -> 0 | ... AB52: =SUM(AB53:AB81) -> 0
A53: 4.1 | B53: Մարդու և քաղաքացու իրավահավասարությունը խախտելը | C53: 143
A54: 4.2 | B54: Անձնական կամ ընտանեկան կյանքի մասին տեղեկություններ ապօրինի հավաքելը, պահելը, օգտագործելը կամ տարածելը | C54: 144
A55: 4.3 | B55: Բժշկական գաղտնիքը հրապարակելը | C55: 145
A56: 4.4 | B56: Նամակագրության, հեռախոսային խոսակցությունների, փոստային, հեռագրական կամ այլ հաղորդումների գաղտնիությունը խախտելը | C56: 146
A57: 4.5 | B57: Բնակարանի անձեռնմխելիությունը խախտելը | C57: 147
A58: 4.6 | B58: Անձին տեղեկություն ներկայացնելուց հրաժարվելը | C58: 148
A59: 4.7 | B59: Ընտրական իրավունքի իրականացմանը, ընտրական հանձնաժողովների աշխատանքներին կամ ընտրությանը մասնակցող անձանց լիազորությունների իրականացմանը խոչընդոտելը | C59: 149
A60: 4.8 | B60: Ընտրությունների կամ քվեարկության արդյունքները կեղծելը | C60: 150
A61: 4.10 | B61: Ընտրողների ցուցակները կազմելու, դրանք քաղաքացիներին և կուսակցություններին տրամադրելու կամ հրապարակելու կարգը խախտելը | C61: 152
A62: 4.11 | B62: Մեկից ավելի անգամ կամ այլ անձի փոխարեն քվեարկելը | C62: 153
A63: 4.12 | B63: Քվեարկության գաղտնիությունը խախտելը | C63: 154
A64: 4.13 | B64: Կեղծ ընտրական քվեաթերթիկներ կամ քվեարկության ծրարներ, դրոշմանիշեր, կտրոններ պատրաստելը կամ ակնհայտ կեղծ ընտրական քվեաթերթիկներ կամ քվեարկության ծրարներ, դրոշմանիշեր, կտրոններ հանձնելը կամ իրացնելը | C64: 154.1
... A80: 4.27 | B80: Լրագրողի մասնագիտական օրինական գործողությանը խոչընդոտելը | C80: 164
A81: 4.28 | B81: Այլ հանցագործություններ
A82: 5. | B82: Ընդամենը ընտանիքի և երեխայի շահերի դեմ ուղղված հանցագործությունները | D82: =SUM(D83:D96) -> 0 | E82: =SUM(E83:E96) -> 0 | F82: =SUM(F83:F96) -> 0 | G82: =SUM(G83:G96) -> 0 | H82: =SUM(H83:H96) -> 0 | I82: =SUM(I83:I96) -> 0 | J82: =SUM(J83:J96) -> 0 | K82: =SUM(K83:K96) -> 0 | ... AB82: =SUM(AB83:AB96) -> 0
A83: 5.1 | B83: Անչափահասին հանցանքի կատարմանը ներգրավելը | C83: 165
A84: 5.2 | B84: Երեխային պոռնկության կամ պոռնկագրական բնույթի նյութեր կամ առարկաներ պատրաստելու հետ կապված գործողություններ կատարելուն ներգրավելը | C84: 166
A85: 5.2.1 | B85: Երեխային ոգելից խմիչքների օգտագործմանը, ուժեղ ներգործող կամ այլ թմրեցնող նյութերի ոչ բժշկական օգտագործմանը, թափառաշրջիկությանը ներգրավելը կամ մուրացկանության հետ կապված գործողություններ կատարելուն ներգրավելը | C85: 166.1
A86: 5.3 | B86: Ծնողներից երեխային ապօրինի բաժանելը կամ երեխային փոխելը | C86: 167
A87: 5.4 | B87: Խնամքը ստանձնելու նպատակով երեխայի առքը կամ ստանձնողի խնամքին հանձնելու նպատակով երեխայի վաճառքը | C87: 168
A88: 5.5 | B88: Որդեգրման գաղտնիքը հրապարակելը կամ որդեգրման համաձայնություն տալուն հակելը կամ հարկադրելը | C88: 169
A89: 5.6 | B89: Քաղաքացիական կացության ակտերի գրանցման մարմիններին սուտ տեղեկություններ հաղորդելը | C89: 169.1
A90: 5.7 | B90: Երեխային դաստիարակելու պարտականությունը չկատարելը | C90: 170
A91: 5.8 | B91: Երեխայի կյանքի անվտանգության ապահովման կամ առողջության պահպանման պարտականությունը չկատարելը կամ ոչ պատշաճ կատարելը | C91: 171
A92: 5.8.1 | B92: Վերարտադրողականության օժանդակ տեխնոլոգիաներից օգտվելու կանոնները խախտելը | C92: 171.1
A93: 5.9 | B93: Խնամակալի կամ հոգաբարձուի իրավունքները չարաշահելը | C93: 172
A94: 5.10 | B94: Ծնողի կողմից երեխային պահելուց չարամտորեն խուսափելը | C94: 173
A95: 5.11 | B95: Զավակի կողմից անաշխատունակ ծնողին պահելուց չարամտորեն խուսափելը | C95: 174
A96: 5.12 | B96: Այլ հանցագործություններ
A97: 6. | B97: Ընդամենը սեփականության դեմ ուղղված հանցագործությունները | D97: =SUM(D98:D112) -> 2 | E97: =SUM(E98:E112) -> 4 | F97: =SUM(F98:F112) -> 6 | G97: =SUM(G98:G112) -> 0 | H97: =SUM(H98:H112) -> 1 | I97: =SUM(I98:I112) -> 0 | J97: =SUM(J98:J112) -> 0 | K97: =SUM(K98:K112) -> 0 | ... AB97: =SUM(AB98:AB112) -> 0
A98: 6.1 | B98: Ավազակությունը | C98: 175
A99: 6.2 | B99: Կողոպուտը | C99: 176
A100: 6.3 | B100: Գողությունը | C100: 177 | D100: 2 | E100: 4 | F100: 6 | H100: 1 | N100: 2 | S100: 2 | T100: 4 | U100: 2 | W100: 2
A101: 6.4 | B101: Խարդախությունը | C101: 178
A102: 6.5 | B102: Յուրացնելը կամ վատնելը | C102: 179
A103: 6.6 | B103: Առանձնակի արժեք ունեցող առարկաներ հափշտակելը | C103: 180
A104: 6.7 | B104: Հափշտակությունը, որը կատարվել է համակարգչային տեխնիկայի օգտագործմամբ | C104: 181
A105: 6.8 | B105: Շորթումը | C105: 182
A106: 6.9 | B106: Ավտոմեքենային կամ տրանսպորտային այլ միջոցին ապօրինաբար տիրանալն առանց հափշտակելու նպատակի | C106: 183
A107: 6.10 | B107: Գույքային վնաս պատճառելը խաբեության կամ վստահությունը չարաշահելու եղանակով | C107: 184
A108: 6.10.1 | B108: Գրավառուին վնաս պատճառելը | C108: 184.1
A109: 6.11 | B109: Գույքը դիտավորությամբ ոչնչացնելը կամ վնասելը | C109: 185
A110: 6.12 | B110: Գույքն անզգուշությամբ ոչնչացնելը կամ վնասելը | C110: 186
A111: 6.13 | B111: Գուքի պահպանության պարտականություններն անփույթ կամ անբարեխիղճ կատարելը | C111: 186.1
A112: 6.14 | B112: Այլ հանցագործություններ
A113: 7. | B113: Ընդամենը տնտեսական գործունեության դեմ ուղղված հանցագործությունները | D113: =SUM(D114:D149) -> 0 | E113: =SUM(E114:E149) -> 0 | F113: =SUM(F114:F149) -> 0 | G113: =SUM(G114:G149) -> 0 | H113: =SUM(H114:H149) -> 0 | I113: =SUM(I114:I149) -> 0 | J113: =SUM(J114:J149) -> 0 | K113: =SUM(K114:K149) -> 0 | ... AB113: =SUM(AB114:AB149) -> 0
A114: 7.1 | B114: Օրինական ձեռնարկատիրական և այլ տնտեսական գործունեությանը խոչընդոտելը | C114: 187
A115: 7.2 | B115: Ապօրինի ձեռնարկատիրությունը | C115: 188
A116: 7.3 | B116: Առանց լիցենազիայի արտարժույթի վաճառքի իրականացումը | C116: 188.1
A117: 7.4 | B117: Կեղծ ձեռնարկատիրությունը | C117: 189
A118: 7.4.1 | B118: Ֆինանսական բուրգ ստեղծելը, կազմակերպելը կամ ղեկավարելը | C118: 189.1
A119: 7.5 | B119: Հանցավոր ճանապարհով ստացված գույքն օրինականացնելը (փողերի լվացումը) | C119: 190
...

Sheet Արարատ և Վայոց ձոր
A1: ՀԱՇՎԵՏՎՈՒԹՅՈՒՆ
A2: 2020թ. Տարեկան | C2: ԱՆՉԱՓԱՀԱՍ ԴԱՏԱՊԱՐՏՅԱԼՆԵՐԻ ՎԵՐԱԲԵՐՅԱԼ
A3: Վիճակագրական տողի համարը | B3: ՀԱՆՑԱԳՈՐԾՈՒԹՅՈՒՆՆԵՐԻ ՏԵՍԱԿՆԵՐԸ | C3: ՀՀ Քրեական օրենսգրքի հոդվածը | D3: Հանցագործությունը կատարել են | G3: նրանցից | L3: Դատապարտյալների նկատմամբ նշանակված հիմնական պատիժներ | U3: նշանակված պատիժը պայմանականորեն չի կիրառվել | V3: կիրառվել է համաներման ակտ | W3: Կիրառվել են դաստիարակչական բնույթի հարկադրանքի միջոց | X3: Անձանց թիվը, որոնք մինչև վերջին հանցագործությունը կատարելը
D4: 14-16 տարեկանում | E4: 16-18 տարեկանում | F4: Ընդամենը | G4: աղջիկներ | H4: չեն աշխատել, չեն սովորել | I4: անձինք, որոնք հանցագործությունը կատարել են | L4: Ա զ ա տ ա զ ր կ ու մ | T4: այլ պատիժներ | X4: գտնվել են ոստիկանության մարմիններում հաշվառման մեջ | Y4: կատարել են հանցագործություն և եղել են
Y5: ազատված քրեական պատասխանատվությունից | Z5: դատապարտված | AA5: Այդ թվում
B6: ՍՏՈՒԳԻՉ ՀԱՎԱՍԱՐՈՒՄՆԵՐ 3=1+2, 16=9+10+11+12+13+14+15, 3=16+17 | I6: ալկ., թմրամիջ. կամ թնրեցնող այլ նյութերի ազդեցության տակ | J6: Մի խումբ անձանց կազմում | K6: այդ թվում՝ մեծահասակների մասնակցությամբ | L6: 1 տարի ներառյալ | M6: 1 տարուց ավել, մինչև 2 տարի ներառյալ | N6: 2 տարուց ավել, մինչև 3 տարի ներառյալ | O6: 3 տարուց ավել, մինչև 5 տարի ներառյալ | P6: 5 տարուց ավել, մինչև 8 տարի ներառյալ | Q6: 8 տարուց ավել, մինչև 10 տարի ներառյալ | R6: 10 տարուց ավել, մինչև 12տարի ներառյալ | S6: ընդամենը | AA6: դատավճռի կատարման հետաձգումով | AB6: պայմանական դատապարտություն
D7: 1 | E7: 2 | F7: 3 | G7: 4 | H7: 5 | I7: 6 | J7: 7 | K7: 8 | L7: 9 | M7: 10 | N7: 11 | O7: 12 | P7: 13 | Q7: 14 | R7: 15 | S7: 16 | T7: 17 | U7: 18 | V7: 19 | W7: 20 | X7: 21 | Y7: 22 | Z7: 23 | AA7: 24 | AB7: 25
A8: 1. | B8: Ընդամենը կյանքի և առողջության դեմ ուղղված հանցագործությունները | D8: =SUM(D9:D35) -> 0 | E8: =SUM(E9:E35) -> 0 | F8: =SUM(F9:F35) -> 0 | G8: =SUM(G9:G35) -> 0 | H8: =SUM(H9:H35) -> 0 | I8: =SUM(I9:I35) -> 0 | J8: =SUM(J9:J35) -> 0 | K8: =SUM(K9:K35) -> 0 | ... AB8: =SUM(AB9:AB35) -> 0
A9: 1.1 | B9: Սպանությունը | C9: 104
A10: 1.2 | B10: Հոգեկան խիստ հուզմունքի վիճակում կատարված սպանությունը | C10: 105
A11: 1.3 | B11: Մոր կողմից նորածին երեխայի սպանությունը | C11: 106
A12: 1.4 | B12: Հանցանք կատարած անձին բռնելու համար անհրաժեշտ միջոցների սահմանազանցմամբ սպանությունը | C12: 107
A13: 1.5 | B13: Անհրաժեշտ պաշտպանության սահմանազանցմամբ սպանությունը | C13: 108
A14: 1.6 | B14: Անզգուշությամբ մահ պատճառելը | C14: 109
A15: 1.7 | B15: Ինքնասպանության հասցնելը | C15: 110
A16: 1.8 | B16: Ինքնասպանության հակելը | C16: 111
A17: 1.9 | B17: Դիտավորությամբ առողջությանը ծանր վնաս պատճառելը | C17: 112
A18: 1.10 | B18: Դիտավորությամբ առողջությանը միջին ծանրության վնաս պատճառելը | C18: 113
A19: 1.11 | B19: Հոգեկան խիստ հուզմունքի վիճակում առողջությանը ծանր կամ միջին ծանրության վնաս պատճառելը | C19: 114
A20: 1.12 | B20: Հանցանք կատարած անձին բռնելու համար անհրաժեշտ միջոցների սահմանզանցմամբ առողջությանը ծանր կամ միջին ծանրության վնաս պատճառելը | C20: 115
... A34: 1.27 | B34: Բժշկական օգնություն և սպասարկում իրականացնողների կողմից մասնագիտական պարտականությունները չկատարելը կամ ոչ պատշաճ կատարելը | C34: 130
A35: 1.28 | B35: Այլ հանցագործություններ
A36: 2. | B36: Ընդամենը անձի ազատության, պատվի և արժանապատվության դեմ ուղղված հանցագործությունները | D36: =SUM(D37:D44) -> 0 | E36: =SUM(E37:E44) -> 0 | F36: =SUM(F37:F44) -> 0 | G36: =SUM(G37:G44) -> 0 | H36: =SUM(H37:H44) -> 0 | I36: =SUM(I37:I44) -> 0 | J36: =SUM(J37:J44) -> 0 | K36: =SUM(K37:K44) -> 0 | ... AB36: =SUM(AB37:AB44) -> 0
A37: 2.1 | B37: Մարդուն առևանգելը | C37: 131
A38: 2.2 | B38: Մարդու թրաֆիքինգը կամ շահագործումը | C38: 132
A39: 2.2.2 | B39: Երեխայի կամ հոգեկան խանգարման հետևանքով իր արարքի բնույթն ու նշանակությունը գիտակցելու կամ դա ղեկավարելու հնարավորությունից զրկված անձի թրաֆիքինգը կամ շահագործումը | C39: 132.2
A40: 2.2.3 | B40: Շահագործման վիճակում գտնվող անձի ծառայությունից օգտվելը | C40: 132.3
A41: 2.3 | B41: Ազատությունից ապօրինի զրկելը | C41: 133
A42: 2.4 | B42: Հոգեբուժական հիվանդանոցում ապօրինի տեղավորելը կամ պահելը | C42: 134
A43: 2.7 | B43: Սպանության, առողջությանը ծանր վնաս պատճառելու կամ գույք ոչնչացնելու սպառնալիքը | C43: 137
A44: 2.8 | B44: Այլ հանցագործություններ
A45: 3. | B45: Ընդամենը սեռական անձեռնմխելիության և սեռական ազատության դեմ ուղղված հանցագործությունները | D45: =SUM(D46:D51) -> 0 | E45: =SUM(E46:E51) -> 0 | F45: =SUM(F46:F51) -> 0 | G45: =SUM(G46:G51) -> 0 | H45: =SUM(H46:H51) -> 0 | I45: =SUM(I46:I51) -> 0 | J45: =SUM(J46:J51) -> 0 | K45: =SUM(K46:K51) -> 0 | ... AB45: =SUM(AB46:AB51) -> 0
A46: 3.1 | B46: Բռնաբարությունը | C46: 138
A47: 3.2 | B47: Սեքսուալ բնույթի բռնի գործողությունները | C47: 139
A48: 3.3 | B48: Սեռական հարաբերության կամ սեքսուալ բնույթի գործողություններին հարկադրելը | C48: 140
A49: 3.4 | B49: Սեռական հարաբերությունը տասնվեց տարին չլրացած անձի հետ կամ սեքսուալ բնույթի գործողություններ կատարելը տասնվեց տարին չլրացած անձի նկատմամբ | C49: 141
A50: 3.5 | B50: Անառակաբարո գործողությունները | C50: 142
A51: 3.6 | B51: Այլ հանցագործություններ
A52: 4. | B52: Ընդամենը մարդու և քաղաքացու սահմանադրական իրավունքների և ազատությունների դեմ ուղղված հանցագործությունները | D52: =SUM(D53:D81) -> 0 | E52: =SUM(E53:E81) -> 0 | F52: =SUM(F53:F81) -> 0 | G52: =SUM(G53:G81) -> 0 | H52: =SUM(H53:H81) -> 0 | I52: =SUM(I53:I81) -> 0 | J52: =SUM(J53:J81) -> 0 | K52: =SUM(K53:K81) -> 0 | ... AB52: =SUM(AB53:AB81) -> 0
A53: 4.1 | B53: Մարդու և քաղաքացու իրավահավասարությունը խախտելը | C53: 143
A54: 4.2 | B54: Անձնական կամ ընտանեկան կյանքի մասին տեղեկություններ ապօրինի հավաքելը, պահելը, օգտագործելը կամ տարածելը | C54: 144
A55: 4.3 | B55: Բժշկական գաղտնիքը հրապարակելը | C55: 145
A56: 4.4 | B56: Նամակագրության, հեռախոսային խոսակցությունների, փոստային, հեռագրական կամ այլ հաղորդումների գաղտնիությունը խախտելը | C56: 146
A57: 4.5 | B57: Բնակարանի անձեռնմխելիությունը խախտելը | C57: 147
A58: 4.6 | B58: Անձին տեղեկություն ներկայացնելուց հրաժարվելը | C58: 148
A59: 4.7 | B59: Ընտրական իրավունքի իրականացմանը, ընտրական հանձնաժողովների աշխատանքներին կամ ընտրությանը մասնակցող անձանց լիազորությունների իրականացմանը խոչընդոտելը | C59: 149
A60: 4.8 | B60: Ընտրությունների կամ քվեարկության արդյունքները կեղծելը | C60: 150
A61: 4.10 | B61: Ընտրողների ցուցակները կազմելու, դրանք քաղաքացիներին և կուսակցություններին տրամադրելու կամ հրապարակելու կարգը խախտելը | C61: 152
A62: 4.11 | B62: Մեկից ավելի անգամ կամ այլ անձի փոխարեն քվեարկելը | C62: 153
A63: 4.12 | B63: Քվեարկության գաղտնիությունը խախտելը | C63: 154
A64: 4.13 | B64: Կեղծ ընտրական քվեաթերթիկներ կամ քվեարկության ծրարներ, դրոշմանիշեր, կտրոններ պատրաստելը կամ ակնհայտ կեղծ ընտրական քվեաթերթիկներ կամ քվեարկության ծրարներ, դրոշմանիշեր, կտրոններ հանձնելը կամ իրացնելը | C64: 154.1
... A80: 4.27 | B80: Լրագրողի մասնագիտական օրինական գործողությանը խոչընդոտելը | C80: 164
A81: 4.28 | B81: Այլ հանցագործություններ
A82: 5. | B82: Ընդամենը ընտանիքի և երեխայի շահերի դեմ ուղղված հանցագործությունները | D82: =SUM(D83:D96) -> 0 | E82: =SUM(E83:E96) -> 0 | F82: =SUM(F83:F96) -> 0 | G82: =SUM(G83:G96) -> 0 | H82: =SUM(H83:H96) -> 0 | I82: =SUM(I83:I96) -> 0 | J82: =SUM(J83:J96) -> 0 | K82: =SUM(K83:K96) -> 0 | ... AB82: =SUM(AB83:AB96) -> 0
A83: 5.1 | B83: Անչափահասին հանցանքի կատարմանը ներգրավելը | C83: 165
A84: 5.2 | B84: Երեխային պոռնկության կամ պոռնկագրական բնույթի նյութեր կամ առարկաներ պատրաստելու հետ կապված գործողություններ կատարելուն ներգրավելը | C84: 166
A85: 5.2.1 | B85: Երեխային ոգելից խմիչքների օգտագործմանը, ուժեղ ներգործող կամ այլ թմրեցնող նյութերի ոչ բժշկական օգտագործմանը, թափառաշրջիկությանը ներգրավելը կամ մուրացկանության հետ կապված գործողություններ կատարելուն ներգրավելը | C85: 166.1
A86: 5.3 | B86: Ծնողներից երեխային ապօրինի բաժանելը կամ երեխային փոխելը | C86: 167
A87: 5.4 | B87: Խնամքը ստանձնելու նպատակով երեխայի առքը կամ ստանձնողի խնամքին հանձնելու նպատակով երեխայի վաճառքը | C87: 168
A88: 5.5 | B88: Որդեգրման գաղտնիքը հրապարակելը կամ որդեգրման համաձայնություն տալուն հակելը կամ հարկադրելը | C88: 169
A89: 5.6 | B89: Քաղաքացիական կացության ակտերի գրանցման մարմիններին սուտ տեղեկություններ հաղորդելը | C89: 169.1
A90: 5.7 | B90: Երեխային դաստիարակելու պարտականությունը չկատարելը | C90: 170
A91: 5.8 | B91: Երեխայի կյանքի անվտանգության ապահովման կամ առողջության պահպանման պարտականությունը չկատարելը կամ ոչ պատշաճ կատարելը | C91: 171
A92: 5.8.1 | B92: Վերարտադրողականության օժանդակ տեխնոլոգիաներից օգտվելու կանոնները խախտելը | C92: 171.1
A93: 5.9 | B93: Խնամակալի կամ հոգաբարձուի իրավունքները չարաշահելը | C93: 172
A94: 5.10 | B94: Ծնողի կողմից երեխային պահելուց չարամտորեն խուսափելը | C94: 173
A95: 5.11 | B95: Զավակի կողմից անաշխատունակ ծնողին պահելուց չարամտորեն խուսափելը | C95: 174
A96: 5.12 | B96: Այլ հանցագործություններ
A97: 6. | B97: Ընդամենը սեփականության դեմ ուղղված հանցագործությունները | D97: =SUM(D98:D112) -> 1 | E97: =SUM(E98:E112) -> 2 | F97: =SUM(F98:F112) -> 3 | G97: =SUM(G98:G112) -> 0 | H97: =SUM(H98:H112) -> 0 | I97: =SUM(I98:I112) -> 0 | J97: =SUM(J98:J112) -> 0 | K97: =SUM(K98:K112) -> 0 | ... AB97: =SUM(AB98:AB112) -> 0
A98: 6.1 | B98: Ավազակությունը | C98: 175
A99: 6.2 | B99: Կողոպուտը | C99: 176
A100: 6.3 | B100: Գողությունը | C100: 177 | D100: 1 | E100: 2 | F100: 3 | M100: 1 | O100: 2 | S100: 3 | U100: 3
A101: 6.4 | B101: Խարդախությունը | C101: 178
A102: 6.5 | B102: Յուրացնելը կամ վատնելը | C102: 179
A103: 6.6 | B103: Առանձնակի արժեք ունեցող առարկաներ հափշտակելը | C103: 180
A104: 6.7 | B104: Հափշտակությունը, որը կատարվել է համակարգչային տեխնիկայի օգտագործմամբ | C104: 181
A105: 6.8 | B105: Շորթումը | C105: 182
A106: 6.9 | B106: Ավտոմեքենային կամ տրանսպորտային այլ միջոցին ապօրինաբար տիրանալն առանց հափշտակելու նպատակի | C106: 183
A107: 6.10 | B107: Գույքային վնաս պատճառելը խաբեության կամ վստահությունը չարաշահելու եղանակով | C107: 184
A108: 6.10.1 | B108: Գրավառուին վնաս պատճառելը | C108: 184.1
A109: 6.11 | B109: Գույքը դիտավորությամբ ոչնչացնելը կամ վնասելը | C109: 185
A110: 6.12 | B110: Գույքն անզգուշությամբ ոչնչացնելը կամ վնասելը | C110: 186
A111: 6.13 | B111: Գուքի պահպանության պարտականություններն անփույթ կամ անբարեխիղճ կատարելը | C111: 186.1
A112: 6.14 | B112: Այլ հանցագործություններ
A113: 7. | B113: Ընդամենը տնտեսական գործունեության դեմ ուղղված հանցագործությունները | D113: =SUM(D114:D149) -> 0 | E113: =SUM(E114:E149) -> 0 | F113: =SUM(F114:F149) -> 0 | G113: =SUM(G114:G149) -> 0 | H113: =SUM(H114:H149) -> 0 | I113: =SUM(I114:I149) -> 0 | J113: =SUM(J114:J149) -> 0 | K113: =SUM(K114:K149) -> 0 | ... AB113: =SUM(AB114:AB149) -> 0
A114: 7.1 | B114: Օրինական ձեռնարկատիրական և այլ տնտեսական գործունեությանը խոչընդոտելը | C114: 187
A115: 7.2 | B115: Ապօրինի ձեռնարկատիրությունը | C115: 188
A116: 7.3 | B116: Առանց լիցենազիայի արտարժույթի վաճառքի իրականացումը | C116: 188.1
A117: 7.4 | B117: Կեղծ ձեռնարկատիրությունը | C117: 189
A118: 7.4.1 | B118: Ֆինանսական բուրգ ստեղծելը, կազմակերպելը կամ ղեկավարելը | C118: 189.1
A119: 7.5 | B119: Հանցավոր ճանապարհով ստացված գույքն օրինականացնելը (փողերի լվացումը) | C119: 190
A120: 7.5.1 | B120: Ներքին տեղեկությունների անբարեխիղճ օգտագործումը | C120: 190.1
A121: 7.5.2 | B121: Գնային չարաշահումը | C121: 190.2
A122: 7.6 | B122: Վարկը ոչ նպատակային օգտագործելը | C122: 191
A123: 7.7 | B123: Անօրինական գործողությունները սնանկության ընթացքում | C123: 192
A124: 7.8 | B124: Կանխամտածված սնանկությունը | C124: 193
A125: 7.9 | B125: Կեղծ սնանկությունը | C125: 194
... A148: 7.31 | B148: Ակնհայտ հանցավոր ճանապարհով ձեռք բերված գույք ձեռք բերելը կամ իրացնելը | C148: 216
A149: 7.32 | B149: Այլ հանցագործություններ
A150: 8. | B150: Ընդամենը հասարակական անվտանգության դեմ ուղղված հանցագործությունները | D150: =SUM(D151:D190) -> 0 | E150: =SUM(E151:E187) -> 1 | F150: =SUM(F151:F187) -> 1 | G150: =SUM(G151:G187) -> 0 | H150: =SUM(H151:H187) -> 0 | I150: =SUM(I151:I187) -> 0 | J150: =SUM(J151:J187) -> 0 | K150: =SUM(K151:K187) -> 0 | L150: =SUM(L151:L187) -> 0 | ... AB150: =SUM(AB151:AB187) -> 0
...

Sheet Արմավիր
A1: ՀԱՇՎԵՏՎՈՒԹՅՈՒՆ
A2: 2020թ. Տարեկան | C2: ԱՆՉԱՓԱՀԱՍ ԴԱՏԱՊԱՐՏՅԱԼՆԵՐԻ ՎԵՐԱԲԵՐՅԱԼ
