Workbook

Sheet Ընդհամենը
A1: 2015Ã. | D1: Ð²ÞìºîìàôÂÚàôÜ | P1: Ï³½Ùí³Í` ÐÐ Ï³é³í³ñáõÃÛ³Ý 19.03.2015Ã. ÃÇí 306-Ü áñáßÙ³Ý ÑÇÙ³Ý íñ³
A2: ØÇÝã¹³ï³Ï³Ý í³ñáõÛÃÇ ÝÏ³ïÙ³Ùµ ¹³ï³Ï³Ý í»ñ³ÑëÏáÕáõÃÛ³ÝÁ, ¹³ï³Ï³Ý ³Ïï»ñÇ ¨ ¹³ï³Ï³Ý Ñ³ÝÓÝ³ñ³ñáõÃÛáõÝÝ»ñÇ Ï³ï³ñÙ³Ý Ñ»ï Ï³åí³Í ÙÇçÝáñ¹áõÃÛáõÝÝ»ñÇ í»ñ³µ»ñÛ³É ¹³ï³Ï³Ý ·áñÍ»ñáí ºñ¨³Ý ù³Õ³ùÇ ¾ñ»µáõÝÇ ¨ Üáõµ³ñ³ß»Ý í³ñã³Ï³Ý ßñç³ÝÝ»ñÇ ÁÝ¹Ñ³Ýáõñ Çñ³í³ëáõÃÛ³Ý ³é³çÇÝ ³ïÛ³ÝÇ ¹³ï³ñ³ÝÇ ·áñÍáõÝ»áõÃÛ³Ý í»ñ³µ»ñÛ³É
A3: êïáõ·Çã Ñ³í³ë³ñáõÙ` 1+2=3+8+9, 8=4+5+6+7, | D3: Ð³ßí»ïáõ Å³Ù³Ý³Ï³Ñ³ïí³ÍÇ ëÏ½µáõÙ Ý³Ëáñ¹ Ñ³ßí»ïáõ Å³Ù³Ý³Ï³Ñ³ïí³ÍÇó ÷áË³Ýóí³Í ·áñÍ»ñÇ ÁÝ¹Ñ³Ýáõñ ÃÇíÁ | E3: Ð³ßí»ïáõ Å³Ù³Ý³Ï³Ñ³ïí³ÍáõÙ ëï³óí³Í ·áñÍ»ñÇ ÁÝ¹Ñ³Ýáõñ ÃÇíÁ | F3: öáË³Ýóí»É ¿ ³ÛÉ ¹³ï³íáñÇ Ï³Ù ³ÛÉ ¹³ï³ñ³Ý (Ï³½ÙÇ ÷á÷áËáõÃÛáõÝ, ÁÝ¹¹³ïáõÃÛáõÝ) | G3: Ð³ßí»ïáõ Å³Ù³Ý³Ï³Ñ³ïí³ÍáõÙ ³í³ñïí³Í ·áñÍ»ñÇ ÁÝ¹Ñ³Ýáõñ ÃÇíÁ | L3: Ð³ßí»ïáõ Å³Ù³Ý³Ï³Ñ³ïí³ÍáõÙ ³Ý³í³ñï ·áñÍ»ñÇ ÁÝ¹Ñ³Ýáõñ ÃÇíÁ | M3: ØÇçÝáñ¹áõÃÛáõÝÝ»ñáí Ï³Û³óí³Í ¹³ï³Ï³Ý ³Ïï»ñÇó µáÕáù³ñÏí³ÍÝ»ñÇ ù³Ý³ÏÁ | O3: ²Ý³í³ñï µáÕáùÝ»ñ | P3: ØÇçÝáñ¹áõÃÛáõÝÝ»ñáí Ï³Û³óí³Í ¨ µáÕáù³ñÏí³Í ¹³ï³Ï³Ý ³Ïï»ñÇó µ»Ï³Ýí³ÍÝ»ñÇ ù³Ý³ÏÁ | R3: ÙÇçÝáñ¹áõÃÛáõÝÝ»ñáí Ï³Û³óí³Í ¨ µáÕáù³ñÏí³Í ¹³ï³Ï³Ý ³Ïï»ñÇó ³Ý÷á÷áË ÃáÕÝí³ÍÝ»ñÇ ù³Ý³ÏÁ
G4: Ù»ñÅí»É ¿ | H4: µ³í³ñ³ñí»É ¿ | I4: µ³í³ñ³ñí»É ¿ Ù³ëÝ³ÏÇ | J4: ÃáÕÝí»É ¿ ³é³Ýó ùÝÝáõÃÛ³Ý | K4: ÀÝ¹³Ù»ÝÁ
M5: Ý³Ëáñ¹ ï³ñÇÝ»ñÇÝ Ï³Û³óí³Í ³Ïï»ñÇ ¹»Ù | N5: Ñ³ßí»ïáõ Å³Ù³Ý³Ï³ßñç³ÝáõÙ Ï³Û³óí³Í ³Ïï»ñÇ ¹»Ù | P5: Ý³Ëáñ¹ ï³ñÇÝ»ñÇÝ Ï³Û³óí³Í ³Ïï»ñÇ µ»Ï³ÝáõÙÝ»ñÁ | Q5: Ñ³ßí»ïáõ Å³Ù³Ý³Ï³ßñç³ÝáõÙ Ï³Û³óí³Í ³Ïï»ñÇ µ»Ï³ÝáõÙÝ»ñÁ
A6: 1. ØÇÝã¹³ï³Ï³Ý í³ñáõÛÃÇ ÝÏ³ïÙ³Ùµ ¹³ï³Ï³Ý í»ñ³ÑëÏáÕáõÃÛ³Ý áÉáñï | D6: 1 | E6: 2 | F6: 3 | G6: 4 | H6: 5 | I6: 6 | J6: 7 | K6: 8 | L6: 9 | M6: 10 | N6: 11 | O6: 12 | P6: 13 | Q6: 14 | R6: 15 | T6: 1+2=3+8+9 | V6: 8=4+5+6+7
A7: 1 | B7: Ï³É³ÝùÁ áñå»ë Ë³÷³ÝÙ³Ý ÙÇçáó ÏÇñ³é»Éáõ Ù³ëÇÝ ÙÇçÝáñ¹áõÃÛáõÝÝ»ñ | D7: ='Ա. Գաբրիելյան'!D7+Ե.Եսոյան!D7+'Վ. Ա. Գրիգորյան'!D7+'Ա. Օհանյան'!D7+'Վ. Թ. Գրիգորյան'!D7+'Տ. Ստեփանյան'!D7+'Գ. Խաչատրյան'!D7+'Լ. Գրիգորյան'!D7 -> 0 | E7: ='Ա. Գաբրիելյան'!E7+Ե.Եսոյան!E7+'Վ. Ա. Գրիգորյան'!E7+'Ա. Օհանյան'!E7+'Վ. Թ. Գրիգորյան'!E7+'Տ. Ստեփանյան'!E7+'Գ. Խաչատրյան'!E7+'Լ. Գրիգորյան'!E7 -> 43 | F7: ='Ա. Գաբրիելյան'!F7+Ե.Եսոյան!F7+'Վ. Ա. Գրիգորյան'!F7+'Ա. Օհանյան'!F7+'Վ. Թ. Գրիգորյան'!F7+'Տ. Ստեփանյան'!F7+'Գ. Խաչատրյան'!F7+'Լ. Գրիգորյան'!F7 -> 0 | G7: ='Ա. Գաբրիելյան'!G7+Ե.Եսոյան!G7+'Վ. Ա. Գրիգորյան'!G7+'Ա. Օհանյան'!G7+'Վ. Թ. Գրիգորյան'!G7+'Տ. Ստեփանյան'!G7+'Գ. Խաչատրյան'!G7+'Լ. Գրիգորյան'!G7 -> 3 | H7: ='Ա. Գաբրիելյան'!H7+Ե.Եսոյան!H7+'Վ. Ա. Գրիգորյան'!H7+'Ա. Օհանյան'!H7+'Վ. Թ. Գրիգորյան'!H7+'Տ. Ստեփանյան'!H7+'Գ. Խաչատրյան'!H7+'Լ. Գրիգորյան'!H7 -> 40 | I7: ='Ա. Գաբրիելյան'!I7+Ե.Եսոյան!I7+'Վ. Ա. Գրիգորյան'!I7+'Ա. Օհանյան'!I7+'Վ. Թ. Գրիգորյան'!I7+'Տ. Ստեփանյան'!I7+'Գ. Խաչատրյան'!I7+'Լ. Գրիգորյան'!I7 -> 0 | J7: ='Ա. Գաբրիելյան'!J7+Ե.Եսոյան!J7+'Վ. Ա. Գրիգորյան'!J7+'Ա. Օհանյան'!J7+'Վ. Թ. Գրիգորյան'!J7+'Տ. Ստեփանյան'!J7+'Գ. Խաչատրյան'!J7+'Լ. Գրիգորյան'!J7 -> 0 | K7: ='Ա. Գաբրիելյան'!K7+Ե.Եսոյան!K7+'Վ. Ա. Գրիգորյան'!K7+'Ա. Օհանյան'!K7+'Վ. Թ. Գրիգորյան'!K7+'Տ. Ստեփանյան'!K7+'Գ. Խաչատրյան'!K7+'Լ. Գրիգորյան'!K7 -> 43 | ... R7: ='Ա. Գաբրիելյան'!R7+Ե.Եսոյան!R7+'Վ. Ա. Գրիգորյան'!R7+'Ա. Օհանյան'!R7+'Վ. Թ. Գրիգորյան'!R7+'Տ. Ստեփանյան'!R7+'Գ. Խաչատրյան'!R7+'Լ. Գրիգորյան'!R7 -> 5 | T7: =D7+E7 -> 43 | U7: =F7+K7+L7 -> 43 | V7: =K7 -> 43 | W7: =G7+H7+I7+J7 -> 43
A8: 2 | B8: Ï³É³ÝùÇ Å³ÙÏ»ïÁ »ñÏ³ñ³óÝ»Éáõ Ù³ëÇÝ ÙÇçÝáñ¹áõÃÛáõÝÝ»ñ | D8: ='Ա. Գաբրիելյան'!D8+Ե.Եսոյան!D8+'Վ. Ա. Գրիգորյան'!D8+'Ա. Օհանյան'!D8+'Վ. Թ. Գրիգորյան'!D8+'Տ. Ստեփանյան'!D8+'Գ. Խաչատրյան'!D8+'Լ. Գրիգորյան'!D8 -> 4 | E8: ='Ա. Գաբրիելյան'!E8+Ե.Եսոյան!E8+'Վ. Ա. Գրիգորյան'!E8+'Ա. Օհանյան'!E8+'Վ. Թ. Գրիգորյան'!E8+'Տ. Ստեփանյան'!E8+'Գ. Խաչատրյան'!E8+'Լ. Գրիգորյան'!E8 -> 78 | F8: ='Ա. Գաբրիելյան'!F8+Ե.Եսոյան!F8+'Վ. Ա. Գրիգորյան'!F8+'Ա. Օհանյան'!F8+'Վ. Թ. Գրիգորյան'!F8+'Տ. Ստեփանյան'!F8+'Գ. Խաչատրյան'!F8+'Լ. Գրիգորյան'!F8 -> 1 | G8: ='Ա. Գաբրիելյան'!G8+Ե.Եսոյան!G8+'Վ. Ա. Գրիգորյան'!G8+'Ա. Օհանյան'!G8+'Վ. Թ. Գրիգորյան'!G8+'Տ. Ստեփանյան'!G8+'Գ. Խաչատրյան'!G8+'Լ. Գրիգորյան'!G8 -> 1 | H8: ='Ա. Գաբրիելյան'!H8+Ե.Եսոյան!H8+'Վ. Ա. Գրիգորյան'!H8+'Ա. Օհանյան'!H8+'Վ. Թ. Գրիգորյան'!H8+'Տ. Ստեփանյան'!H8+'Գ. Խաչատրյան'!H8+'Լ. Գրիգորյան'!H8 -> 72 | I8: ='Ա. Գաբրիելյան'!I8+Ե.Եսոյան!I8+'Վ. Ա. Գրիգորյան'!I8+'Ա. Օհանյան'!I8+'Վ. Թ. Գրիգորյան'!I8+'Տ. Ստեփանյան'!I8+'Գ. Խաչատրյան'!I8+'Լ. Գրիգորյան'!I8 -> 8 | J8: ='Ա. Գաբրիելյան'!J8+Ե.Եսոյան!J8+'Վ. Ա. Գրիգորյան'!J8+'Ա. Օհանյան'!J8+'Վ. Թ. Գրիգորյան'!J8+'Տ. Ստեփանյան'!J8+'Գ. Խաչատրյան'!J8+'Լ. Գրիգորյան'!J8 -> 0 | K8: ='Ա. Գաբրիելյան'!K8+Ե.Եսոյան!K8+'Վ. Ա. Գրիգորյան'!K8+'Ա. Օհանյան'!K8+'Վ. Թ. Գրիգորյան'!K8+'Տ. Ստեփանյան'!K8+'Գ. Խաչատրյան'!K8+'Լ. Գրիգորյան'!K8 -> 81 | ... R8: ='Ա. Գաբրիելյան'!R8+Ե.Եսոյան!R8+'Վ. Ա. Գրիգորյան'!R8+'Ա. Օհանյան'!R8+'Վ. Թ. Գրիգորյան'!R8+'Տ. Ստեփանյան'!R8+'Գ. Խաչատրյան'!R8+'Լ. Գրիգորյան'!R8 -> 5 | T8: =D8+E8 -> 82 | U8: =F8+K8+L8 -> 82 | V8: =K8 -> 81 | W8: =G8+H8+I8+J8 -> 81
A9: 3 | B9: Ï³É³ÝùÇ í»ñ³Ñ³ëï³ïÙ³Ý Ù³ëÇÝ ÙÇçÝáñ¹áõÃÛáõÝÝ»ñ | D9: ='Ա. Գաբրիելյան'!D9+Ե.Եսոյան!D9+'Վ. Ա. Գրիգորյան'!D9+'Ա. Օհանյան'!D9+'Վ. Թ. Գրիգորյան'!D9+'Տ. Ստեփանյան'!D9+'Գ. Խաչատրյան'!D9+'Լ. Գրիգորյան'!D9 -> 0 | E9: ='Ա. Գաբրիելյան'!E9+Ե.Եսոյան!E9+'Վ. Ա. Գրիգորյան'!E9+'Ա. Օհանյան'!E9+'Վ. Թ. Գրիգորյան'!E9+'Տ. Ստեփանյան'!E9+'Գ. Խաչատրյան'!E9+'Լ. Գրիգորյան'!E9 -> 8 | F9: ='Ա. Գաբրիելյան'!F9+Ե.Եսոյան!F9+'Վ. Ա. Գրիգորյան'!F9+'Ա. Օհանյան'!F9+'Վ. Թ. Գրիգորյան'!F9+'Տ. Ստեփանյան'!F9+'Գ. Խաչատրյան'!F9+'Լ. Գրիգորյան'!F9 -> 0 | G9: ='Ա. Գաբրիելյան'!G9+Ե.Եսոյան!G9+'Վ. Ա. Գրիգորյան'!G9+'Ա. Օհանյան'!G9+'Վ. Թ. Գրիգորյան'!G9+'Տ. Ստեփանյան'!G9+'Գ. Խաչատրյան'!G9+'Լ. Գրիգորյան'!G9 -> 0 | H9: ='Ա. Գաբրիելյան'!H9+Ե.Եսոյան!H9+'Վ. Ա. Գրիգորյան'!H9+'Ա. Օհանյան'!H9+'Վ. Թ. Գրիգորյան'!H9+'Տ. Ստեփանյան'!H9+'Գ. Խաչատրյան'!H9+'Լ. Գրիգորյան'!H9 -> 8 | I9: ='Ա. Գաբրիելյան'!I9+Ե.Եսոյան!I9+'Վ. Ա. Գրիգորյան'!I9+'Ա. Օհանյան'!I9+'Վ. Թ. Գրիգորյան'!I9+'Տ. Ստեփանյան'!I9+'Գ. Խաչատրյան'!I9+'Լ. Գրիգորյան'!I9 -> 0 | J9: ='Ա. Գաբրիելյան'!J9+Ե.Եսոյան!J9+'Վ. Ա. Գրիգորյան'!J9+'Ա. Օհանյան'!J9+'Վ. Թ. Գրիգորյան'!J9+'Տ. Ստեփանյան'!J9+'Գ. Խաչատրյան'!J9+'Լ. Գրիգորյան'!J9 -> 0 | K9: ='Ա. Գաբրիելյան'!K9+Ե.Եսոյան!K9+'Վ. Ա. Գրիգորյան'!K9+'Ա. Օհանյան'!K9+'Վ. Թ. Գրիգորյան'!K9+'Տ. Ստեփանյան'!K9+'Գ. Խաչատրյան'!K9+'Լ. Գրիգորյան'!K9 -> 8 | ... R9: ='Ա. Գաբրիելյան'!R9+Ե.Եսոյան!R9+'Վ. Ա. Գրիգորյան'!R9+'Ա. Օհանյան'!R9+'Վ. Թ. Գրիգորյան'!R9+'Տ. Ստեփանյան'!R9+'Գ. Խաչատրյան'!R9+'Լ. Գրիգորյան'!R9 -> 1 | T9: =D9+E9 -> 8 | U9: =F9+K9+L9 -> 8 | V9: =K9 -> 8 | W9: =G9+H9+I9+J9 -> 8
A10: 4 | B10: ·ñ³íÁ áñå»ë Ï³É³Ý³íáñÙ³Ý ³ÛÉÁÝïñ³Ýù³ÛÇÝ Ë³÷³ÝÙ³Ý ÙÇçáó ÏÇñ³é»Éáõ Ù³ëÇÝ ÙÇçÝáñ¹áõÃÛáõÝÝ»ñ | D10: ='Ա. Գաբրիելյան'!D10+Ե.Եսոյան!D10+'Վ. Ա. Գրիգորյան'!D10+'Ա. Օհանյան'!D10+'Վ. Թ. Գրիգորյան'!D10+'Տ. Ստեփանյան'!D10+'Գ. Խաչատրյան'!D10+'Լ. Գրիգորյան'!D10 -> 0 | E10: ='Ա. Գաբրիելյան'!E10+Ե.Եսոյան!E10+'Վ. Ա. Գրիգորյան'!E10+'Ա. Օհանյան'!E10+'Վ. Թ. Գրիգորյան'!E10+'Տ. Ստեփանյան'!E10+'Գ. Խաչատրյան'!E10+'Լ. Գրիգորյան'!E10 -> 51 | F10: ='Ա. Գաբրիելյան'!F10+Ե.Եսոյան!F10+'Վ. Ա. Գրիգորյան'!F10+'Ա. Օհանյան'!F10+'Վ. Թ. Գրիգորյան'!F10+'Տ. Ստեփանյան'!F10+'Գ. Խաչատրյան'!F10+'Լ. Գրիգորյան'!F10 -> 0 | G10: ='Ա. Գաբրիելյան'!G10+Ե.Եսոյան!G10+'Վ. Ա. Գրիգորյան'!G10+'Ա. Օհանյան'!G10+'Վ. Թ. Գրիգորյան'!G10+'Տ. Ստեփանյան'!G10+'Գ. Խաչատրյան'!G10+'Լ. Գրիգորյան'!G10 -> 40 | H10: ='Ա. Գաբրիելյան'!H10+Ե.Եսոյան!H10+'Վ. Ա. Գրիգորյան'!H10+'Ա. Օհանյան'!H10+'Վ. Թ. Գրիգորյան'!H10+'Տ. Ստեփանյան'!H10+'Գ. Խաչատրյան'!H10+'Լ. Գրիգորյան'!H10 -> 11 | I10: ='Ա. Գաբրիելյան'!I10+Ե.Եսոյան!I10+'Վ. Ա. Գրիգորյան'!I10+'Ա. Օհանյան'!I10+'Վ. Թ. Գրիգորյան'!I10+'Տ. Ստեփանյան'!I10+'Գ. Խաչատրյան'!I10+'Լ. Գրիգորյան'!I10 -> 0 | J10: ='Ա. Գաբրիելյան'!J10+Ե.Եսոյան!J10+'Վ. Ա. Գրիգորյան'!J10+'Ա. Օհանյան'!J10+'Վ. Թ. Գրիգորյան'!J10+'Տ. Ստեփանյան'!J10+'Գ. Խաչատրյան'!J10+'Լ. Գրիգորյան'!J10 -> 0 | K10: ='Ա. Գաբրիելյան'!K10+Ե.Եսոյան!K10+'Վ. Ա. Գրիգորյան'!K10+'Ա. Օհանյան'!K10+'Վ. Թ. Գրիգորյան'!K10+'Տ. Ստեփանյան'!K10+'Գ. Խաչատրյան'!K10+'Լ. Գրիգորյան'!K10 -> 51 | ... R10: ='Ա. Գաբրիելյան'!R10+Ե.Եսոյան!R10+'Վ. Ա. Գրիգորյան'!R10+'Ա. Օհանյան'!R10+'Վ. Թ. Գրիգորյան'!R10+'Տ. Ստեփանյան'!R10+'Գ. Խաչատրյան'!R10+'Լ. Գրիգորյան'!R10 -> 10 | T10: =D10+E10 -> 51 | U10: =F10+K10+L10 -> 51 | V10: =K10 -> 51 | W10: =G10+H10+I10+J10 -> 51
A11: 5 | B11: Ëáõ½³ñÏáõÃÛ³Ý Ï³ï³ñÙ³Ý Ù³ëÇÝ ÙÇçÝáñ¹áõÃÛáõÝÝ»ñ | D11: ='Ա. Գաբրիելյան'!D11+Ե.Եսոյան!D11+'Վ. Ա. Գրիգորյան'!D11+'Ա. Օհանյան'!D11+'Վ. Թ. Գրիգորյան'!D11+'Տ. Ստեփանյան'!D11+'Գ. Խաչատրյան'!D11+'Լ. Գրիգորյան'!D11 -> 0 | E11: ='Ա. Գաբրիելյան'!E11+Ե.Եսոյան!E11+'Վ. Ա. Գրիգորյան'!E11+'Ա. Օհանյան'!E11+'Վ. Թ. Գրիգորյան'!E11+'Տ. Ստեփանյան'!E11+'Գ. Խաչատրյան'!E11+'Լ. Գրիգորյան'!E11 -> 150 | F11: ='Ա. Գաբրիելյան'!F11+Ե.Եսոյան!F11+'Վ. Ա. Գրիգորյան'!F11+'Ա. Օհանյան'!F11+'Վ. Թ. Գրիգորյան'!F11+'Տ. Ստեփանյան'!F11+'Գ. Խաչատրյան'!F11+'Լ. Գրիգորյան'!F11 -> 2 | G11: ='Ա. Գաբրիելյան'!G11+Ե.Եսոյան!G11+'Վ. Ա. Գրիգորյան'!G11+'Ա. Օհանյան'!G11+'Վ. Թ. Գրիգորյան'!G11+'Տ. Ստեփանյան'!G11+'Գ. Խաչատրյան'!G11+'Լ. Գրիգորյան'!G11 -> 2 | H11: ='Ա. Գաբրիելյան'!H11+Ե.Եսոյան!H11+'Վ. Ա. Գրիգորյան'!H11+'Ա. Օհանյան'!H11+'Վ. Թ. Գրիգորյան'!H11+'Տ. Ստեփանյան'!H11+'Գ. Խաչատրյան'!H11+'Լ. Գրիգորյան'!H11 -> 146 | I11: ='Ա. Գաբրիելյան'!I11+Ե.Եսոյան!I11+'Վ. Ա. Գրիգորյան'!I11+'Ա. Օհանյան'!I11+'Վ. Թ. Գրիգորյան'!I11+'Տ. Ստեփանյան'!I11+'Գ. Խաչատրյան'!I11+'Լ. Գրիգորյան'!I11 -> 1 | J11: ='Ա. Գաբրիելյան'!J11+Ե.Եսոյան!J11+'Վ. Ա. Գրիգորյան'!J11+'Ա. Օհանյան'!J11+'Վ. Թ. Գրիգորյան'!J11+'Տ. Ստեփանյան'!J11+'Գ. Խաչատրյան'!J11+'Լ. Գրիգորյան'!J11 -> 0 | K11: ='Ա. Գաբրիելյան'!K11+Ե.Եսոյան!K11+'Վ. Ա. Գրիգորյան'!K11+'Ա. Օհանյան'!K11+'Վ. Թ. Գրիգորյան'!K11+'Տ. Ստեփանյան'!K11+'Գ. Խաչատրյան'!K11+'Լ. Գրիգորյան'!K11 -> 148 | ... R11: ='Ա. Գաբրիելյան'!R11+Ե.Եսոյան!R11+'Վ. Ա. Գրիգորյան'!R11+'Ա. Օհանյան'!R11+'Վ. Թ. Գրիգորյան'!R11+'Տ. Ստեփանյան'!R11+'Գ. Խաչատրյան'!R11+'Լ. Գրիգորյան'!R11 -> 0 | T11: =D11+E11 -> 150 | U11: =F11+K11+L11 -> 150 | V11: =K11 -> 148 | W11: =G11+H11+I11+J11 -> 149
A12: 6 | B12: µ³ÝÏ³ÛÇÝ, ³å³Ñáí³·ñ³Ï³Ý, Ýáï³ñ³Ï³Ý ·³ÕïÝÇù Ï³½ÙáÕ ï»Õ»ÏáõÃÛáõÝÝ»ñÇ ëï³óÙ³Ý Ñ³Ù³ñ Ëáõ½³ñÏáõÃÛ³Ý Ï³Ù ³é·ñ³íÙ³Ý Ï³ï³ñÙ³Ý Ù³ëÇÝ ÙÇçÝáñ¹áõÃÛáõÝÝ»ñ | D12: ='Ա. Գաբրիելյան'!D12+Ե.Եսոյան!D12+'Վ. Ա. Գրիգորյան'!D12+'Ա. Օհանյան'!D12+'Վ. Թ. Գրիգորյան'!D12+'Տ. Ստեփանյան'!D12+'Գ. Խաչատրյան'!D12+'Լ. Գրիգորյան'!D12 -> 0 | E12: ='Ա. Գաբրիելյան'!E12+Ե.Եսոյան!E12+'Վ. Ա. Գրիգորյան'!E12+'Ա. Օհանյան'!E12+'Վ. Թ. Գրիգորյան'!E12+'Տ. Ստեփանյան'!E12+'Գ. Խաչատրյան'!E12+'Լ. Գրիգորյան'!E12 -> 13 | F12: ='Ա. Գաբրիելյան'!F12+Ե.Եսոյան!F12+'Վ. Ա. Գրիգորյան'!F12+'Ա. Օհանյան'!F12+'Վ. Թ. Գրիգորյան'!F12+'Տ. Ստեփանյան'!F12+'Գ. Խաչատրյան'!F12+'Լ. Գրիգորյան'!F12 -> 0 | G12: ='Ա. Գաբրիելյան'!G12+Ե.Եսոյան!G12+'Վ. Ա. Գրիգորյան'!G12+'Ա. Օհանյան'!G12+'Վ. Թ. Գրիգորյան'!G12+'Տ. Ստեփանյան'!G12+'Գ. Խաչատրյան'!G12+'Լ. Գրիգորյան'!G12 -> 3 | H12: ='Ա. Գաբրիելյան'!H12+Ե.Եսոյան!H12+'Վ. Ա. Գրիգորյան'!H12+'Ա. Օհանյան'!H12+'Վ. Թ. Գրիգորյան'!H12+'Տ. Ստեփանյան'!H12+'Գ. Խաչատրյան'!H12+'Լ. Գրիգորյան'!H12 -> 8 | I12: ='Ա. Գաբրիելյան'!I12+Ե.Եսոյան!I12+'Վ. Ա. Գրիգորյան'!I12+'Ա. Օհանյան'!I12+'Վ. Թ. Գրիգորյան'!I12+'Տ. Ստեփանյան'!I12+'Գ. Խաչատրյան'!I12+'Լ. Գրիգորյան'!I12 -> 2 | J12: ='Ա. Գաբրիելյան'!J12+Ե.Եսոյան!J12+'Վ. Ա. Գրիգորյան'!J12+'Ա. Օհանյան'!J12+'Վ. Թ. Գրիգորյան'!J12+'Տ. Ստեփանյան'!J12+'Գ. Խաչատրյան'!J12+'Լ. Գրիգորյան'!J12 -> 0 | K12: ='Ա. Գաբրիելյան'!K12+Ե.Եսոյան!K12+'Վ. Ա. Գրիգորյան'!K12+'Ա. Օհանյան'!K12+'Վ. Թ. Գրիգորյան'!K12+'Տ. Ստեփանյան'!K12+'Գ. Խաչատրյան'!K12+'Լ. Գրիգորյան'!K12 -> 13 | ... R12: ='Ա. Գաբրիելյան'!R12+Ե.Եսոյան!R12+'Վ. Ա. Գրիգորյան'!R12+'Ա. Օհանյան'!R12+'Վ. Թ. Գրիգորյան'!R12+'Տ. Ստեփանյան'!R12+'Գ. Խաչատրյան'!R12+'Լ. Գրիգորյան'!R12 -> 0 | T12: =D12+E12 -> 13 | U12: =F12+K12+L12 -> 13 | V12: =K12 -> 13 | W12: =G12+H12+I12+J12 -> 13
A13: 7 | B13: Ý³Ù³Ï³·ñáõÃÛ³Ý, Ñ»é³·ñ³Ï³Ý, ÷áuï³ÛÇÝ Ñ³Õáñ¹áõÙÝ»ñÇ ÑëÏáÕáõÃÛ³Ý Ù³ëÇÝ ÙÇçÝáñ¹áõÃÛáõÝÝ»ñ | D13: ='Ա. Գաբրիելյան'!D13+Ե.Եսոյան!D13+'Վ. Ա. Գրիգորյան'!D13+'Ա. Օհանյան'!D13+'Վ. Թ. Գրիգորյան'!D13+'Տ. Ստեփանյան'!D13+'Գ. Խաչատրյան'!D13+'Լ. Գրիգորյան'!D13 -> 0 | E13: ='Ա. Գաբրիելյան'!E13+Ե.Եսոյան!E13+'Վ. Ա. Գրիգորյան'!E13+'Ա. Օհանյան'!E13+'Վ. Թ. Գրիգորյան'!E13+'Տ. Ստեփանյան'!E13+'Գ. Խաչատրյան'!E13+'Լ. Գրիգորյան'!E13 -> 2 | F13: ='Ա. Գաբրիելյան'!F13+Ե.Եսոյան!F13+'Վ. Ա. Գրիգորյան'!F13+'Ա. Օհանյան'!F13+'Վ. Թ. Գրիգորյան'!F13+'Տ. Ստեփանյան'!F13+'Գ. Խաչատրյան'!F13+'Լ. Գրիգորյան'!F13 -> 0 | G13: ='Ա. Գաբրիելյան'!G13+Ե.Եսոյան!G13+'Վ. Ա. Գրիգորյան'!G13+'Ա. Օհանյան'!G13+'Վ. Թ. Գրիգորյան'!G13+'Տ. Ստեփանյան'!G13+'Գ. Խաչատրյան'!G13+'Լ. Գրիգորյան'!G13 -> 0 | H13: ='Ա. Գաբրիելյան'!H13+Ե.Եսոյան!H13+'Վ. Ա. Գրիգորյան'!H13+'Ա. Օհանյան'!H13+'Վ. Թ. Գրիգորյան'!H13+'Տ. Ստեփանյան'!H13+'Գ. Խաչատրյան'!H13+'Լ. Գրիգորյան'!H13 -> 2 | I13: ='Ա. Գաբրիելյան'!I13+Ե.Եսոյան!I13+'Վ. Ա. Գրիգորյան'!I13+'Ա. Օհանյան'!I13+'Վ. Թ. Գրիգորյան'!I13+'Տ. Ստեփանյան'!I13+'Գ. Խաչատրյան'!I13+'Լ. Գրիգորյան'!I13 -> 0 | J13: ='Ա. Գաբրիելյան'!J13+Ե.Եսոյան!J13+'Վ. Ա. Գրիգորյան'!J13+'Ա. Օհանյան'!J13+'Վ. Թ. Գրիգորյան'!J13+'Տ. Ստեփանյան'!J13+'Գ. Խաչատրյան'!J13+'Լ. Գրիգորյան'!J13 -> 0 | K13: ='Ա. Գաբրիելյան'!K13+Ե.Եսոյան!K13+'Վ. Ա. Գրիգորյան'!K13+'Ա. Օհանյան'!K13+'Վ. Թ. Գրիգորյան'!K13+'Տ. Ստեփանյան'!K13+'Գ. Խաչատրյան'!K13+'Լ. Գրիգորյան'!K13 -> 2 | ... R13: ='Ա. Գաբրիելյան'!R13+Ե.Եսոյան!R13+'Վ. Ա. Գրիգորյան'!R13+'Ա. Օհանյան'!R13+'Վ. Թ. Գրիգորյան'!R13+'Տ. Ստեփանյան'!R13+'Գ. Խաչատրյան'!R13+'Լ. Գրիգորյան'!R13 -> 0 | T13: =D13+E13 -> 2 | U13: =F13+K13+L13 -> 2 | V13: =K13 -> 2 | W13: =G13+H13+I13+J13 -> 2
A14: 8 | B14: Ñ»é³Ëáu³ÛÇÝ Ï³Ù Ï³åÇ ³ÛÉ ÙÇçáóÝ»ñáí ï³ñíáÕ Ëáu³ÏóáõÃÛáõÝÝ»ñÇ ÉuÙ³Ý ¨ Ó³ÛÝ³·ñ³éÙ³Ý Ù³ëÇÝ ÙÇçÝáñ¹áõÃÛáõÝÝ»ñ | D14: ='Ա. Գաբրիելյան'!D14+Ե.Եսոյան!D14+'Վ. Ա. Գրիգորյան'!D14+'Ա. Օհանյան'!D14+'Վ. Թ. Գրիգորյան'!D14+'Տ. Ստեփանյան'!D14+'Գ. Խաչատրյան'!D14+'Լ. Գրիգորյան'!D14 -> 0 | E14: ='Ա. Գաբրիելյան'!E14+Ե.Եսոյան!E14+'Վ. Ա. Գրիգորյան'!E14+'Ա. Օհանյան'!E14+'Վ. Թ. Գրիգորյան'!E14+'Տ. Ստեփանյան'!E14+'Գ. Խաչատրյան'!E14+'Լ. Գրիգորյան'!E14 -> 0 | F14: ='Ա. Գաբրիելյան'!F14+Ե.Եսոյան!F14+'Վ. Ա. Գրիգորյան'!F14+'Ա. Օհանյան'!F14+'Վ. Թ. Գրիգորյան'!F14+'Տ. Ստեփանյան'!F14+'Գ. Խաչատրյան'!F14+'Լ. Գրիգորյան'!F14 -> 0 | G14: ='Ա. Գաբրիելյան'!G14+Ե.Եսոյան!G14+'Վ. Ա. Գրիգորյան'!G14+'Ա. Օհանյան'!G14+'Վ. Թ. Գրիգորյան'!G14+'Տ. Ստեփանյան'!G14+'Գ. Խաչատրյան'!G14+'Լ. Գրիգորյան'!G14 -> 0 | H14: ='Ա. Գաբրիելյան'!H14+Ե.Եսոյան!H14+'Վ. Ա. Գրիգորյան'!H14+'Ա. Օհանյան'!H14+'Վ. Թ. Գրիգորյան'!H14+'Տ. Ստեփանյան'!H14+'Գ. Խաչատրյան'!H14+'Լ. Գրիգորյան'!H14 -> 0 | I14: ='Ա. Գաբրիելյան'!I14+Ե.Եսոյան!I14+'Վ. Ա. Գրիգորյան'!I14+'Ա. Օհանյան'!I14+'Վ. Թ. Գրիգորյան'!I14+'Տ. Ստեփանյան'!I14+'Գ. Խաչատրյան'!I14+'Լ. Գրիգորյան'!I14 -> 0 | J14: ='Ա. Գաբրիելյան'!J14+Ե.Եսոյան!J14+'Վ. Ա. Գրիգորյան'!J14+'Ա. Օհանյան'!J14+'Վ. Թ. Գրիգորյան'!J14+'Տ. Ստեփանյան'!J14+'Գ. Խաչատրյան'!J14+'Լ. Գրիգորյան'!J14 -> 0 | K14: ='Ա. Գաբրիելյան'!K14+Ե.Եսոյան!K14+'Վ. Ա. Գրիգորյան'!K14+'Ա. Օհանյան'!K14+'Վ. Թ. Գրիգորյան'!K14+'Տ. Ստեփանյան'!K14+'Գ. Խաչատրյան'!K14+'Լ. Գրիգորյան'!K14 -> 0 | ... R14: ='Ա. Գաբրիելյան'!R14+Ե.Եսոյան!R14+'Վ. Ա. Գրիգորյան'!R14+'Ա. Օհանյան'!R14+'Վ. Թ. Գրիգորյան'!R14+'Տ. Ստեփանյան'!R14+'Գ. Խաչատրյան'!R14+'Լ. Գրիգորյան'!R14 -> 0 | T14: =D14+E14 -> 0 | U14: =F14+K14+L14 -> 0 | V14: =K14 -> 0 | W14: =G14+H14+I14+J14 -> 0
A15: 9 | B15: Ñ»é³ËáëÝ»ñÇ Ùáõïù³ÛÇÝ ¨ »Éù³ÛÇÝ í»ñÍ³ÝÙ³Ý ÃáõÛÉïíáõÃÛáõÝ ëï³Ý³Éáõ Ù³ëÇÝ ÙÇçÝáñ¹áõÃÛáõÝÝ»ñ | D15: ='Ա. Գաբրիելյան'!D15+Ե.Եսոյան!D15+'Վ. Ա. Գրիգորյան'!D15+'Ա. Օհանյան'!D15+'Վ. Թ. Գրիգորյան'!D15+'Տ. Ստեփանյան'!D15+'Գ. Խաչատրյան'!D15+'Լ. Գրիգորյան'!D15 -> 0 | E15: ='Ա. Գաբրիելյան'!E15+Ե.Եսոյան!E15+'Վ. Ա. Գրիգորյան'!E15+'Ա. Օհանյան'!E15+'Վ. Թ. Գրիգորյան'!E15+'Տ. Ստեփանյան'!E15+'Գ. Խաչատրյան'!E15+'Լ. Գրիգորյան'!E15 -> 246 | F15: ='Ա. Գաբրիելյան'!F15+Ե.Եսոյան!F15+'Վ. Ա. Գրիգորյան'!F15+'Ա. Օհանյան'!F15+'Վ. Թ. Գրիգորյան'!F15+'Տ. Ստեփանյան'!F15+'Գ. Խաչատրյան'!F15+'Լ. Գրիգորյան'!F15 -> 2 | G15: ='Ա. Գաբրիելյան'!G15+Ե.Եսոյան!G15+'Վ. Ա. Գրիգորյան'!G15+'Ա. Օհանյան'!G15+'Վ. Թ. Գրիգորյան'!G15+'Տ. Ստեփանյան'!G15+'Գ. Խաչատրյան'!G15+'Լ. Գրիգորյան'!G15 -> 1 | H15: ='Ա. Գաբրիելյան'!H15+Ե.Եսոյան!H15+'Վ. Ա. Գրիգորյան'!H15+'Ա. Օհանյան'!H15+'Վ. Թ. Գրիգորյան'!H15+'Տ. Ստեփանյան'!H15+'Գ. Խաչատրյան'!H15+'Լ. Գրիգորյան'!H15 -> 243 | I15: ='Ա. Գաբրիելյան'!I15+Ե.Եսոյան!I15+'Վ. Ա. Գրիգորյան'!I15+'Ա. Օհանյան'!I15+'Վ. Թ. Գրիգորյան'!I15+'Տ. Ստեփանյան'!I15+'Գ. Խաչատրյան'!I15+'Լ. Գրիգորյան'!I15 -> 0 | J15: ='Ա. Գաբրիելյան'!J15+Ե.Եսոյան!J15+'Վ. Ա. Գրիգորյան'!J15+'Ա. Օհանյան'!J15+'Վ. Թ. Գրիգորյան'!J15+'Տ. Ստեփանյան'!J15+'Գ. Խաչատրյան'!J15+'Լ. Գրիգորյան'!J15 -> 0 | K15: ='Ա. Գաբրիելյան'!K15+Ե.Եսոյան!K15+'Վ. Ա. Գրիգորյան'!K15+'Ա. Օհանյան'!K15+'Վ. Թ. Գրիգորյան'!K15+'Տ. Ստեփանյան'!K15+'Գ. Խաչատրյան'!K15+'Լ. Գրիգորյան'!K15 -> 244 | ... R15: ='Ա. Գաբրիելյան'!R15+Ե.Եսոյան!R15+'Վ. Ա. Գրիգորյան'!R15+'Ա. Օհանյան'!R15+'Վ. Թ. Գրիգորյան'!R15+'Տ. Ստեփանյան'!R15+'Գ. Խաչատրյան'!R15+'Լ. Գրիգորյան'!R15 -> 0 | T15: =D15+E15 -> 246 | U15: =F15+K15+L15 -> 246 | V15: =K15 -> 244 | W15: =G15+H15+I15+J15 -> 244
A16: 10 | B16: Ñ»ï³ùÝÝáõÃÛ³Ý Ù³ñÙÝÇ ³ßË³ïáÕÇ, ùÝÝÇãÇ, ¹³ï³Ë³½Ç oå»ñ³ïÇí-Ñ»ï³Ëáõ½³Ï³Ý ·áñÍáÕáõÃÛáõÝÝ»ñ Çñ³Ï³Ý³óÝáÕ Ù³ñÙÇÝÝ»ñÇ ³ÝoñÇÝ³Ï³Ý ¨ ³ÝÑÇÙÝ áñáßáõÙÝ»ñÇ ¨ ·áñÍáÕáõÃÛáõÝÝ»ñÇ ¹»Ù µáÕáùÝ»ñ | D16: ='Ա. Գաբրիելյան'!D16+Ե.Եսոյան!D16+'Վ. Ա. Գրիգորյան'!D16+'Ա. Օհանյան'!D16+'Վ. Թ. Գրիգորյան'!D16+'Տ. Ստեփանյան'!D16+'Գ. Խաչատրյան'!D16+'Լ. Գրիգորյան'!D16 -> 5 | E16: ='Ա. Գաբրիելյան'!E16+Ե.Եսոյան!E16+'Վ. Ա. Գրիգորյան'!E16+'Ա. Օհանյան'!E16+'Վ. Թ. Գրիգորյան'!E16+'Տ. Ստեփանյան'!E16+'Գ. Խաչատրյան'!E16+'Լ. Գրիգորյան'!E16 -> 40 | F16: ='Ա. Գաբրիելյան'!F16+Ե.Եսոյան!F16+'Վ. Ա. Գրիգորյան'!F16+'Ա. Օհանյան'!F16+'Վ. Թ. Գրիգորյան'!F16+'Տ. Ստեփանյան'!F16+'Գ. Խաչատրյան'!F16+'Լ. Գրիգորյան'!F16 -> 1 | G16: ='Ա. Գաբրիելյան'!G16+Ե.Եսոյան!G16+'Վ. Ա. Գրիգորյան'!G16+'Ա. Օհանյան'!G16+'Վ. Թ. Գրիգորյան'!G16+'Տ. Ստեփանյան'!G16+'Գ. Խաչատրյան'!G16+'Լ. Գրիգորյան'!G16 -> 24 | H16: ='Ա. Գաբրիելյան'!H16+Ե.Եսոյան!H16+'Վ. Ա. Գրիգորյան'!H16+'Ա. Օհանյան'!H16+'Վ. Թ. Գրիգորյան'!H16+'Տ. Ստեփանյան'!H16+'Գ. Խաչատրյան'!H16+'Լ. Գրիգորյան'!H16 -> 9 | I16: ='Ա. Գաբրիելյան'!I16+Ե.Եսոյան!I16+'Վ. Ա. Գրիգորյան'!I16+'Ա. Օհանյան'!I16+'Վ. Թ. Գրիգորյան'!I16+'Տ. Ստեփանյան'!I16+'Գ. Խաչատրյան'!I16+'Լ. Գրիգորյան'!I16 -> 0 | J16: ='Ա. Գաբրիելյան'!J16+Ե.Եսոյան!J16+'Վ. Ա. Գրիգորյան'!J16+'Ա. Օհանյան'!J16+'Վ. Թ. Գրիգորյան'!J16+'Տ. Ստեփանյան'!J16+'Գ. Խաչատրյան'!J16+'Լ. Գրիգորյան'!J16 -> 1 | K16: ='Ա. Գաբրիելյան'!K16+Ե.Եսոյան!K16+'Վ. Ա. Գրիգորյան'!K16+'Ա. Օհանյան'!K16+'Վ. Թ. Գրիգորյան'!K16+'Տ. Ստեփանյան'!K16+'Գ. Խաչատրյան'!K16+'Լ. Գրիգորյան'!K16 -> 34 | ... R16: ='Ա. Գաբրիելյան'!R16+Ե.Եսոյան!R16+'Վ. Ա. Գրիգորյան'!R16+'Ա. Օհանյան'!R16+'Վ. Թ. Գրիգորյան'!R16+'Տ. Ստեփանյան'!R16+'Գ. Խաչատրյան'!R16+'Լ. Գրիգորյան'!R16 -> 8 | T16: =D16+E16 -> 45 | U16: =F16+K16+L16 -> 45 | V16: =K16 -> 34 | W16: =G16+H16+I16+J16 -> 34
A17: 2. ¸³ï³Ï³Ý ³Ïï»ñÇ ¨ ¹³ï³Ï³Ý Ñ³ÝÓÝ³ñ³ñáõÃÛáõÝÝ»ñÇ Ï³ï³ñÙ³Ý Ñ»ï Ï³åí³Í Ñ³ñó»ñÇ ÉáõÍÙ³Ý áÉáñï
A18: 1 | B18: å³ïÅÇó å³ÛÙ³Ý³Ï³Ý í³Õ³Å³ÙÏ»ï ³½³ï»Éáõ Ù³ëÇÝ ÙÇçÝáñ¹áõÃÛáõÝÝ»ñ | D18: ='Ա. Գաբրիելյան'!D18+Ե.Եսոյան!D18+'Վ. Ա. Գրիգորյան'!D18+'Ա. Օհանյան'!D18+'Վ. Թ. Գրիգորյան'!D18+'Տ. Ստեփանյան'!D18+'Գ. Խաչատրյան'!D18+'Լ. Գրիգորյան'!D18 -> 0 | E18: ='Ա. Գաբրիելյան'!E18+Ե.Եսոյան!E18+'Վ. Ա. Գրիգորյան'!E18+'Ա. Օհանյան'!E18+'Վ. Թ. Գրիգորյան'!E18+'Տ. Ստեփանյան'!E18+'Գ. Խաչատրյան'!E18+'Լ. Գրիգորյան'!E18 -> 15 | F18: ='Ա. Գաբրիելյան'!F18+Ե.Եսոյան!F18+'Վ. Ա. Գրիգորյան'!F18+'Ա. Օհանյան'!F18+'Վ. Թ. Գրիգորյան'!F18+'Տ. Ստեփանյան'!F18+'Գ. Խաչատրյան'!F18+'Լ. Գրիգորյան'!F18 -> 0 | G18: ='Ա. Գաբրիելյան'!G18+Ե.Եսոյան!G18+'Վ. Ա. Գրիգորյան'!G18+'Ա. Օհանյան'!G18+'Վ. Թ. Գրիգորյան'!G18+'Տ. Ստեփանյան'!G18+'Գ. Խաչատրյան'!G18+'Լ. Գրիգորյան'!G18 -> 2 | H18: ='Ա. Գաբրիելյան'!H18+Ե.Եսոյան!H18+'Վ. Ա. Գրիգորյան'!H18+'Ա. Օհանյան'!H18+'Վ. Թ. Գրիգորյան'!H18+'Տ. Ստեփանյան'!H18+'Գ. Խաչատրյան'!H18+'Լ. Գրիգորյան'!H18 -> 12 | I18: ='Ա. Գաբրիելյան'!I18+Ե.Եսոյան!I18+'Վ. Ա. Գրիգորյան'!I18+'Ա. Օհանյան'!I18+'Վ. Թ. Գրիգորյան'!I18+'Տ. Ստեփանյան'!I18+'Գ. Խաչատրյան'!I18+'Լ. Գրիգորյան'!I18 -> 0 | J18: ='Ա. Գաբրիելյան'!J18+Ե.Եսոյան!J18+'Վ. Ա. Գրիգորյան'!J18+'Ա. Օհանյան'!J18+'Վ. Թ. Գրիգորյան'!J18+'Տ. Ստեփանյան'!J18+'Գ. Խաչատրյան'!J18+'Լ. Գրիգորյան'!J18 -> 0 | K18: ='Ա. Գաբրիելյան'!K18+Ե.Եսոյան!K18+'Վ. Ա. Գրիգորյան'!K18+'Ա. Օհանյան'!K18+'Վ. Թ. Գրիգորյան'!K18+'Տ. Ստեփանյան'!K18+'Գ. Խաչատրյան'!K18+'Լ. Գրիգորյան'!K18 -> 14 | ... R18: ='Ա. Գաբրիելյան'!R18+Ե.Եսոյան!R18+'Վ. Ա. Գրիգորյան'!R18+'Ա. Օհանյան'!R18+'Վ. Թ. Գրիգորյան'!R18+'Տ. Ստեփանյան'!R18+'Գ. Խաչատրյան'!R18+'Լ. Գրիգորյան'!R18 -> 0 | T18: =D18+E18 -> 15 | U18: =F18+K18+L18 -> 15 | V18: =K18 -> 14 | W18: =G18+H18+I18+J18 -> 14
A19: 2 | B19: å³ïÇÅÁ ÷á÷áË»Éáõ, Ñ»ï³Ó·»Éáõ ¨ å³ïÅÇó ³½³ï»Éáõ Ù³uÇÝ ÙÇçÝáñ¹áõÃÛáõÝÝ»ñ | D19: ='Ա. Գաբրիելյան'!D19+Ե.Եսոյան!D19+'Վ. Ա. Գրիգորյան'!D19+'Ա. Օհանյան'!D19+'Վ. Թ. Գրիգորյան'!D19+'Տ. Ստեփանյան'!D19+'Գ. Խաչատրյան'!D19+'Լ. Գրիգորյան'!D19 -> 0 | E19: ='Ա. Գաբրիելյան'!E19+Ե.Եսոյան!E19+'Վ. Ա. Գրիգորյան'!E19+'Ա. Օհանյան'!E19+'Վ. Թ. Գրիգորյան'!E19+'Տ. Ստեփանյան'!E19+'Գ. Խաչատրյան'!E19+'Լ. Գրիգորյան'!E19 -> 52 | F19: ='Ա. Գաբրիելյան'!F19+Ե.Եսոյան!F19+'Վ. Ա. Գրիգորյան'!F19+'Ա. Օհանյան'!F19+'Վ. Թ. Գրիգորյան'!F19+'Տ. Ստեփանյան'!F19+'Գ. Խաչատրյան'!F19+'Լ. Գրիգորյան'!F19 -> 1 | G19: ='Ա. Գաբրիելյան'!G19+Ե.Եսոյան!G19+'Վ. Ա. Գրիգորյան'!G19+'Ա. Օհանյան'!G19+'Վ. Թ. Գրիգորյան'!G19+'Տ. Ստեփանյան'!G19+'Գ. Խաչատրյան'!G19+'Լ. Գրիգորյան'!G19 -> 6 | H19: ='Ա. Գաբրիելյան'!H19+Ե.Եսոյան!H19+'Վ. Ա. Գրիգորյան'!H19+'Ա. Օհանյան'!H19+'Վ. Թ. Գրիգորյան'!H19+'Տ. Ստեփանյան'!H19+'Գ. Խաչատրյան'!H19+'Լ. Գրիգորյան'!H19 -> 39 | I19: ='Ա. Գաբրիելյան'!I19+Ե.Եսոյան!I19+'Վ. Ա. Գրիգորյան'!I19+'Ա. Օհանյան'!I19+'Վ. Թ. Գրիգորյան'!I19+'Տ. Ստեփանյան'!I19+'Գ. Խաչատրյան'!I19+'Լ. Գրիգորյան'!I19 -> 0 | J19: ='Ա. Գաբրիելյան'!J19+Ե.Եսոյան!J19+'Վ. Ա. Գրիգորյան'!J19+'Ա. Օհանյան'!J19+'Վ. Թ. Գրիգորյան'!J19+'Տ. Ստեփանյան'!J19+'Գ. Խաչատրյան'!J19+'Լ. Գրիգորյան'!J19 -> 3 | K19: ='Ա. Գաբրիելյան'!K19+Ե.Եսոյան!K19+'Վ. Ա. Գրիգորյան'!K19+'Ա. Օհանյան'!K19+'Վ. Թ. Գրիգորյան'!K19+'Տ. Ստեփանյան'!K19+'Գ. Խաչատրյան'!K19+'Լ. Գրիգորյան'!K19 -> 48 | ... R19: ='Ա. Գաբրիելյան'!R19+Ե.Եսոյան!R19+'Վ. Ա. Գրիգորյան'!R19+'Ա. Օհանյան'!R19+'Վ. Թ. Գրիգորյան'!R19+'Տ. Ստեփանյան'!R19+'Գ. Խաչատրյան'!R19+'Լ. Գրիգորյան'!R19 -> 3 | T19: =D19+E19 -> 52 | U19: =F19+K19+L19 -> 51 | V19: =K19 -> 48 | W19: =G19+H19+I19+J19 -> 48
A20: 3 | B20: Ñ³ñÏ³¹Çñ µáõÅÙ³Ý ï»ë³ÏÇ ÷á÷áËáõÃÛ³Ý Ù³ëÇÝ ÙÇçÝáñ¹áõÃÛáõÝÝ»ñ | D20: ='Ա. Գաբրիելյան'!D20+Ե.Եսոյան!D20+'Վ. Ա. Գրիգորյան'!D20+'Ա. Օհանյան'!D20+'Վ. Թ. Գրիգորյան'!D20+'Տ. Ստեփանյան'!D20+'Գ. Խաչատրյան'!D20+'Լ. Գրիգորյան'!D20 -> 0 | E20: ='Ա. Գաբրիելյան'!E20+Ե.Եսոյան!E20+'Վ. Ա. Գրիգորյան'!E20+'Ա. Օհանյան'!E20+'Վ. Թ. Գրիգորյան'!E20+'Տ. Ստեփանյան'!E20+'Գ. Խաչատրյան'!E20+'Լ. Գրիգորյան'!E20 -> 38 | F20: ='Ա. Գաբրիելյան'!F20+Ե.Եսոյան!F20+'Վ. Ա. Գրիգորյան'!F20+'Ա. Օհանյան'!F20+'Վ. Թ. Գրիգորյան'!F20+'Տ. Ստեփանյան'!F20+'Գ. Խաչատրյան'!F20+'Լ. Գրիգորյան'!F20 -> 0 | G20: ='Ա. Գաբրիելյան'!G20+Ե.Եսոյան!G20+'Վ. Ա. Գրիգորյան'!G20+'Ա. Օհանյան'!G20+'Վ. Թ. Գրիգորյան'!G20+'Տ. Ստեփանյան'!G20+'Գ. Խաչատրյան'!G20+'Լ. Գրիգորյան'!G20 -> 18 | H20: ='Ա. Գաբրիելյան'!H20+Ե.Եսոյան!H20+'Վ. Ա. Գրիգորյան'!H20+'Ա. Օհանյան'!H20+'Վ. Թ. Գրիգորյան'!H20+'Տ. Ստեփանյան'!H20+'Գ. Խաչատրյան'!H20+'Լ. Գրիգորյան'!H20 -> 19 | I20: ='Ա. Գաբրիելյան'!I20+Ե.Եսոյան!I20+'Վ. Ա. Գրիգորյան'!I20+'Ա. Օհանյան'!I20+'Վ. Թ. Գրիգորյան'!I20+'Տ. Ստեփանյան'!I20+'Գ. Խաչատրյան'!I20+'Լ. Գրիգորյան'!I20 -> 0 | J20: ='Ա. Գաբրիելյան'!J20+Ե.Եսոյան!J20+'Վ. Ա. Գրիգորյան'!J20+'Ա. Օհանյան'!J20+'Վ. Թ. Գրիգորյան'!J20+'Տ. Ստեփանյան'!J20+'Գ. Խաչատրյան'!J20+'Լ. Գրիգորյան'!J20 -> 0 | K20: ='Ա. Գաբրիելյան'!K20+Ե.Եսոյան!K20+'Վ. Ա. Գրիգորյան'!K20+'Ա. Օհանյան'!K20+'Վ. Թ. Գրիգորյան'!K20+'Տ. Ստեփանյան'!K20+'Գ. Խաչատրյան'!K20+'Լ. Գրիգորյան'!K20 -> 37 | ... R20: ='Ա. Գաբրիելյան'!R20+Ե.Եսոյան!R20+'Վ. Ա. Գրիգորյան'!R20+'Ա. Օհանյան'!R20+'Վ. Թ. Գրիգորյան'!R20+'Տ. Ստեփանյան'!R20+'Գ. Խաչատրյան'!R20+'Լ. Գրիգորյան'!R20 -> 0 | T20: =D20+E20 -> 38 | U20: =F20+K20+L20 -> 38 | V20: =K20 -> 37 | W20: =G20+H20+I20+J20 -> 37
A21: 4 | B21: ³ÛÉ ÙÇçÝáñ¹áõÃÛáõÝÝ»ñ | D21: ='Ա. Գաբրիելյան'!D21+Ե.Եսոյան!D21+'Վ. Ա. Գրիգորյան'!D21+'Ա. Օհանյան'!D21+'Վ. Թ. Գրիգորյան'!D21+'Տ. Ստեփանյան'!D21+'Գ. Խաչատրյան'!D21+'Լ. Գրիգորյան'!D21 -> 2 | E21: ='Ա. Գաբրիելյան'!E21+Ե.Եսոյան!E21+'Վ. Ա. Գրիգորյան'!E21+'Ա. Օհանյան'!E21+'Վ. Թ. Գրիգորյան'!E21+'Տ. Ստեփանյան'!E21+'Գ. Խաչատրյան'!E21+'Լ. Գրիգորյան'!E21 -> 62 | F21: ='Ա. Գաբրիելյան'!F21+Ե.Եսոյան!F21+'Վ. Ա. Գրիգորյան'!F21+'Ա. Օհանյան'!F21+'Վ. Թ. Գրիգորյան'!F21+'Տ. Ստեփանյան'!F21+'Գ. Խաչատրյան'!F21+'Լ. Գրիգորյան'!F21 -> 3 | G21: ='Ա. Գաբրիելյան'!G21+Ե.Եսոյան!G21+'Վ. Ա. Գրիգորյան'!G21+'Ա. Օհանյան'!G21+'Վ. Թ. Գրիգորյան'!G21+'Տ. Ստեփանյան'!G21+'Գ. Խաչատրյան'!G21+'Լ. Գրիգորյան'!G21 -> 17 | H21: ='Ա. Գաբրիելյան'!H21+Ե.Եսոյան!H21+'Վ. Ա. Գրիգորյան'!H21+'Ա. Օհանյան'!H21+'Վ. Թ. Գրիգորյան'!H21+'Տ. Ստեփանյան'!H21+'Գ. Խաչատրյան'!H21+'Լ. Գրիգորյան'!H21 -> 42 | I21: ='Ա. Գաբրիելյան'!I21+Ե.Եսոյան!I21+'Վ. Ա. Գրիգորյան'!I21+'Ա. Օհանյան'!I21+'Վ. Թ. Գրիգորյան'!I21+'Տ. Ստեփանյան'!I21+'Գ. Խաչատրյան'!I21+'Լ. Գրիգորյան'!I21 -> 0 | J21: ='Ա. Գաբրիելյան'!J21+Ե.Եսոյան!J21+'Վ. Ա. Գրիգորյան'!J21+'Ա. Օհանյան'!J21+'Վ. Թ. Գրիգորյան'!J21+'Տ. Ստեփանյան'!J21+'Գ. Խաչատրյան'!J21+'Լ. Գրիգորյան'!J21 -> 3 | K21: ='Ա. Գաբրիելյան'!K21+Ե.Եսոյան!K21+'Վ. Ա. Գրիգորյան'!K21+'Ա. Օհանյան'!K21+'Վ. Թ. Գրիգորյան'!K21+'Տ. Ստեփանյան'!K21+'Գ. Խաչատրյան'!K21+'Լ. Գրիգորյան'!K21 -> 62 | ... R21: ='Ա. Գաբրիելյան'!R21+Ե.Եսոյան!R21+'Վ. Ա. Գրիգորյան'!R21+'Ա. Օհանյան'!R21+'Վ. Թ. Գրիգորյան'!R21+'Տ. Ստեփանյան'!R21+'Գ. Խաչատրյան'!R21+'Լ. Գրիգորյան'!R21 -> 6 | T21: =D21+E21 -> 64 | U21: =F21+K21+L21 -> 66 | V21: =K21 -> 62 | W21: =G21+H21+I21+J21 -> 62
A22: 5 | B22: ¹³ï³Ï³Ý Ñ³ÝÓÝ³ñ³ñáõÃÛáõÝÝ»ñ | D22: ='Ա. Գաբրիելյան'!D22+Ե.Եսոյան!D22+'Վ. Ա. Գրիգորյան'!D22+'Ա. Օհանյան'!D22+'Վ. Թ. Գրիգորյան'!D22+'Տ. Ստեփանյան'!D22+'Գ. Խաչատրյան'!D22+'Լ. Գրիգորյան'!D22 -> 2 | E22: ='Ա. Գաբրիելյան'!E22+Ե.Եսոյան!E22+'Վ. Ա. Գրիգորյան'!E22+'Ա. Օհանյան'!E22+'Վ. Թ. Գրիգորյան'!E22+'Տ. Ստեփանյան'!E22+'Գ. Խաչատրյան'!E22+'Լ. Գրիգորյան'!E22 -> 11 | F22: ='Ա. Գաբրիելյան'!F22+Ե.Եսոյան!F22+'Վ. Ա. Գրիգորյան'!F22+'Ա. Օհանյան'!F22+'Վ. Թ. Գրիգորյան'!F22+'Տ. Ստեփանյան'!F22+'Գ. Խաչատրյան'!F22+'Լ. Գրիգորյան'!F22 -> 0 | G22: ='Ա. Գաբրիելյան'!G22+Ե.Եսոյան!G22+'Վ. Ա. Գրիգորյան'!G22+'Ա. Օհանյան'!G22+'Վ. Թ. Գրիգորյան'!G22+'Տ. Ստեփանյան'!G22+'Գ. Խաչատրյան'!G22+'Լ. Գրիգորյան'!G22 -> 0 | H22: ='Ա. Գաբրիելյան'!H22+Ե.Եսոյան!H22+'Վ. Ա. Գրիգորյան'!H22+'Ա. Օհանյան'!H22+'Վ. Թ. Գրիգորյան'!H22+'Տ. Ստեփանյան'!H22+'Գ. Խաչատրյան'!H22+'Լ. Գրիգորյան'!H22 -> 8 | I22: ='Ա. Գաբրիելյան'!I22+Ե.Եսոյան!I22+'Վ. Ա. Գրիգորյան'!I22+'Ա. Օհանյան'!I22+'Վ. Թ. Գրիգորյան'!I22+'Տ. Ստեփանյան'!I22+'Գ. Խաչատրյան'!I22+'Լ. Գրիգորյան'!I22 -> 0 | J22: ='Ա. Գաբրիելյան'!J22+Ե.Եսոյան!J22+'Վ. Ա. Գրիգորյան'!J22+'Ա. Օհանյան'!J22+'Վ. Թ. Գրիգորյան'!J22+'Տ. Ստեփանյան'!J22+'Գ. Խաչատրյան'!J22+'Լ. Գրիգորյան'!J22 -> 1 | K22: ='Ա. Գաբրիելյան'!K22+Ե.Եսոյան!K22+'Վ. Ա. Գրիգորյան'!K22+'Ա. Օհանյան'!K22+'Վ. Թ. Գրիգորյան'!K22+'Տ. Ստեփանյան'!K22+'Գ. Խաչատրյան'!K22+'Լ. Գրիգորյան'!K22 -> 9 | ... R22: ='Ա. Գաբրիելյան'!R22+Ե.Եսոյան!R22+'Վ. Ա. Գրիգորյան'!R22+'Ա. Օհանյան'!R22+'Վ. Թ. Գրիգորյան'!R22+'Տ. Ստեփանյան'!R22+'Գ. Խաչատրյան'!R22+'Լ. Գրիգորյան'!R22 -> 0 | T22: =D22+E22 -> 13 | U22: =F22+K22+L22 -> 13 | V22: =K22 -> 9 | W22: =G22+H22+I22+J22 -> 9
A23: ÀÜ¸²ØºÜÀ | D23: ='Ա. Գաբրիելյան'!D23+Ե.Եսոյան!D23+'Վ. Ա. Գրիգորյան'!D23+'Ա. Օհանյան'!D23+'Վ. Թ. Գրիգորյան'!D23+'Տ. Ստեփանյան'!D23+'Գ. Խաչատրյան'!D23+'Լ. Գրիգորյան'!D23 -> 13 | E23: ='Ա. Գաբրիելյան'!E23+Ե.Եսոյան!E23+'Վ. Ա. Գրիգորյան'!E23+'Ա. Օհանյան'!E23+'Վ. Թ. Գրիգորյան'!E23+'Տ. Ստեփանյան'!E23+'Գ. Խաչատրյան'!E23+'Լ. Գրիգորյան'!E23 -> 809 | F23: ='Ա. Գաբրիելյան'!F23+Ե.Եսոյան!F23+'Վ. Ա. Գրիգորյան'!F23+'Ա. Օհանյան'!F23+'Վ. Թ. Գրիգորյան'!F23+'Տ. Ստեփանյան'!F23+'Գ. Խաչատրյան'!F23+'Լ. Գրիգորյան'!F23 -> 10 | G23: ='Ա. Գաբրիելյան'!G23+Ե.Եսոյան!G23+'Վ. Ա. Գրիգորյան'!G23+'Ա. Օհանյան'!G23+'Վ. Թ. Գրիգորյան'!G23+'Տ. Ստեփանյան'!G23+'Գ. Խաչատրյան'!G23+'Լ. Գրիգորյան'!G23 -> 117 | H23: ='Ա. Գաբրիելյան'!H23+Ե.Եսոյան!H23+'Վ. Ա. Գրիգորյան'!H23+'Ա. Օհանյան'!H23+'Վ. Թ. Գրիգորյան'!H23+'Տ. Ստեփանյան'!H23+'Գ. Խաչատրյան'!H23+'Լ. Գրիգորյան'!H23 -> 659 | I23: ='Ա. Գաբրիելյան'!I23+Ե.Եսոյան!I23+'Վ. Ա. Գրիգորյան'!I23+'Ա. Օհանյան'!I23+'Վ. Թ. Գրիգորյան'!I23+'Տ. Ստեփանյան'!I23+'Գ. Խաչատրյան'!I23+'Լ. Գրիգորյան'!I23 -> 11 | J23: ='Ա. Գաբրիելյան'!J23+Ե.Եսոյան!J23+'Վ. Ա. Գրիգորյան'!J23+'Ա. Օհանյան'!J23+'Վ. Թ. Գրիգորյան'!J23+'Տ. Ստեփանյան'!J23+'Գ. Խաչատրյան'!J23+'Լ. Գրիգորյան'!J23 -> 8 | K23: ='Ա. Գաբրիելյան'!K23+Ե.Եսոյան!K23+'Վ. Ա. Գրիգորյան'!K23+'Ա. Օհանյան'!K23+'Վ. Թ. Գրիգորյան'!K23+'Տ. Ստեփանյան'!K23+'Գ. Խաչատրյան'!K23+'Լ. Գրիգորյան'!K23 -> 794 | ... R23: ='Ա. Գաբրիելյան'!R23+Ե.Եսոյան!R23+'Վ. Ա. Գրիգորյան'!R23+'Ա. Օհանյան'!R23+'Վ. Թ. Գրիգորյան'!R23+'Տ. Ստեփանյան'!R23+'Գ. Խաչատրյան'!R23+'Լ. Գրիգորյան'!R23 -> 38 | T23: =D23+E23 -> 822 | U23: =F23+K23+L23 -> 823 | V23: =K23 -> 794 | W23: =G23+H23+I23+J23 -> 795

Sheet Ա. Գաբրիելյան
A1: 2015Ã. | D1: Ð²ÞìºîìàôÂÚàôÜ | P1: Ð³í»Éí³Í Ð³Û³ëï³ÝÇ Ð³Ýñ³å»ïáõÃÛ³Ý ¸³ï³ñ³ÝÝ»ñÇ Ý³Ë³·³ÑÝ»ñÇ ËáñÑñ¹Ç 01.02.2016Ã. ÃÇí 11È áñáßÙ³Ý
A2: ØÇÝã¹³ï³Ï³Ý í³ñáõÛÃÇ ÝÏ³ïÙ³Ùµ ¹³ï³Ï³Ý í»ñ³ÑëÏáÕáõÃÛ³ÝÁ, ¹³ï³Ï³Ý ³Ïï»ñÇ ¨ ¹³ï³Ï³Ý Ñ³ÝÓÝ³ñ³ñáõÃÛáõÝÝ»ñÇ Ï³ï³ñÙ³Ý Ñ»ï Ï³åí³Í ÙÇçÝáñ¹áõÃÛáõÝÝ»ñÇ í»ñ³µ»ñÛ³É ¹³ï³Ï³Ý ·áñÍ»ñáí ºñ¨³Ý ù³Õ³ùÇ ¾ñ»µáõÝÇ ¨ Üáõµ³ñ³ß»Ý í³ñã³Ï³Ý ßñç³ÝÝ»ñÇ ÁÝ¹Ñ³Ýáõñ Çñ³í³ëáõÃÛ³Ý ³é³çÇÝ ³ïÛ³ÝÇ ¹³ï³ñ³ÝÇ ¹³ï³íáñ Ա. Գաբրիելյանի ·áñÍáõÝ»áõÃÛ³Ý í»ñ³µ»ñÛ³É
A3: êïáõ·Çã Ñ³í³ë³ñáõÙ` 1+2=3+8+9, 8=4+5+6+7, | D3: Ð³ßí»ïáõ Å³Ù³Ý³Ï³Ñ³ïí³ÍÇ ëÏ½µáõÙ Ý³Ëáñ¹ Ñ³ßí»ïáõ Å³Ù³Ý³Ï³Ñ³ïí³ÍÇó ÷áË³Ýóí³Í ·áñÍ»ñÇ ÁÝ¹Ñ³Ýáõñ ÃÇíÁ | E3: Ð³ßí»ïáõ Å³Ù³Ý³Ï³Ñ³ïí³ÍáõÙ ëï³óí³Í ·áñÍ»ñÇ ÁÝ¹Ñ³Ýáõñ ÃÇíÁ | F3: öáË³Ýóí»É ¿ ³ÛÉ ¹³ï³íáñÇ Ï³Ù ³ÛÉ ¹³ï³ñ³Ý (Ï³½ÙÇ ÷á÷áËáõÃÛáõÝ, ÁÝ¹¹³ïáõÃÛáõÝ) | G3: Ð³ßí»ïáõ Å³Ù³Ý³Ï³Ñ³ïí³ÍáõÙ ³í³ñïí³Í ·áñÍ»ñÇ ÁÝ¹Ñ³Ýáõñ ÃÇíÁ | L3: Ð³ßí»ïáõ Å³Ù³Ý³Ï³Ñ³ïí³ÍáõÙ ³Ý³í³ñï ·áñÍ»ñÇ ÁÝ¹Ñ³Ýáõñ ÃÇíÁ | M3: ØÇçÝáñ¹áõÃÛáõÝÝ»ñáí Ï³Û³óí³Í ¹³ï³Ï³Ý ³Ïï»ñÇó µáÕáù³ñÏí³ÍÝ»ñÇ ù³Ý³ÏÁ | O3: ²Ý³í³ñï µáÕáùÝ»ñ | P3: ØÇçÝáñ¹áõÃÛáõÝÝ»ñáí Ï³Û³óí³Í ¨ µáÕáù³ñÏí³Í ¹³ï³Ï³Ý ³Ïï»ñÇó µ»Ï³Ýí³ÍÝ»ñÇ ù³Ý³ÏÁ | R3: ÙÇçÝáñ¹áõÃÛáõÝÝ»ñáí Ï³Û³óí³Í ¨ µáÕáù³ñÏí³Í ¹³ï³Ï³Ý ³Ïï»ñÇó ³Ý÷á÷áË ÃáÕÝí³ÍÝ»ñÇ ù³Ý³ÏÁ
G4: Ù»ñÅí»É ¿ | H4: µ³í³ñ³ñí»É ¿ | I4: µ³í³ñ³ñí»É ¿ Ù³ëÝ³ÏÇ | J4: ÃáÕÝí»É ¿ ³é³Ýó ùÝÝáõÃÛ³Ý | K4: ÀÝ¹³Ù»ÝÁ
M5: Ý³Ëáñ¹ ï³ñÇÝ»ñÇÝ Ï³Û³óí³Í ³Ïï»ñÇ ¹»Ù | N5: Ñ³ßí»ïáõ Å³Ù³Ý³Ï³ßñç³ÝáõÙ Ï³Û³óí³Í ³Ïï»ñÇ ¹»Ù | P5: Ý³Ëáñ¹ ï³ñÇÝ»ñÇÝ Ï³Û³óí³Í ³Ïï»ñÇ µ»Ï³ÝáõÙÝ»ñÁ | Q5: Ñ³ßí»ïáõ Å³Ù³Ý³Ï³ßñç³ÝáõÙ Ï³Û³óí³Í ³Ïï»ñÇ µ»Ï³ÝáõÙÝ»ñÁ
A6: 1. ØÇÝã¹³ï³Ï³Ý í³ñáõÛÃÇ ÝÏ³ïÙ³Ùµ ¹³ï³Ï³Ý í»ñ³ÑëÏáÕáõÃÛ³Ý áÉáñï | D6: 1 | E6: 2 | F6: 3 | G6: 4 | H6: 5 | I6: 6 | J6: 7 | K6: 8 | L6: 9 | M6: 10 | N6: 11 | O6: 12 | P6: 13 | Q6: 14 | R6: 15 | T6: 1+2=3+8+9 | V6: 8=4+5+6+7
A7: 1 | B7: Ï³É³ÝùÁ áñå»ë Ë³÷³ÝÙ³Ý ÙÇçáó ÏÇñ³é»Éáõ Ù³ëÇÝ ÙÇçÝáñ¹áõÃÛáõÝÝ»ñ | E7: 8 | H7: 8 | K7: 8 | N7: 1 | R7: 1 | T7: =D7+E7 -> 8 | U7: =F7+K7+L7 -> 8 | V7: =K7 -> 8 | W7: =G7+H7+I7+J7 -> 8
A8: 2 | B8: Ï³É³ÝùÇ Å³ÙÏ»ïÁ »ñÏ³ñ³óÝ»Éáõ Ù³ëÇÝ ÙÇçÝáñ¹áõÃÛáõÝÝ»ñ | E8: 15 | F8: 1 | G8: 1 | H8: 12 | I8: 1 | K8: 14 | N8: 1 | R8: 1 | T8: =D8+E8 -> 15 | U8: =F8+K8+L8 -> 15 | V8: =K8 -> 14 | W8: =G8+H8+I8+J8 -> 14
A9: 3 | B9: Ï³É³ÝùÇ í»ñ³Ñ³ëï³ïÙ³Ý Ù³ëÇÝ ÙÇçÝáñ¹áõÃÛáõÝÝ»ñ | E9: 4 | H9: 4 | K9: 4 | N9: 1 | R9: 1 | T9: =D9+E9 -> 4 | U9: =F9+K9+L9 -> 4 | V9: =K9 -> 4 | W9: =G9+H9+I9+J9 -> 4
A10: 4 | B10: ·ñ³íÁ áñå»ë Ï³É³Ý³íáñÙ³Ý ³ÛÉÁÝïñ³Ýù³ÛÇÝ Ë³÷³ÝÙ³Ý ÙÇçáó ÏÇñ³é»Éáõ Ù³ëÇÝ ÙÇçÝáñ¹áõÃÛáõÝÝ»ñ | E10: 12 | G10: 10 | H10: 2 | K10: 12 | M10: 2 | N10: 3 | O10: 1 | R10: 4 | T10: =D10+E10 -> 12 | U10: =F10+K10+L10 -> 12 | V10: =K10 -> 12 | W10: =G10+H10+I10+J10 -> 12
A11: 5 | B11: Ëáõ½³ñÏáõÃÛ³Ý Ï³ï³ñÙ³Ý Ù³ëÇÝ ÙÇçÝáñ¹áõÃÛáõÝÝ»ñ | E11: 36 | H11: 36 | K11: 36 | T11: =D11+E11 -> 36 | U11: =F11+K11+L11 -> 36 | V11: =K11 -> 36 | W11: =G11+H11+I11+J11 -> 36
A12: 6 | B12: µ³ÝÏ³ÛÇÝ, ³å³Ñáí³·ñ³Ï³Ý, Ýáï³ñ³Ï³Ý ·³ÕïÝÇù Ï³½ÙáÕ ï»Õ»ÏáõÃÛáõÝÝ»ñÇ ëï³óÙ³Ý Ñ³Ù³ñ Ëáõ½³ñÏáõÃÛ³Ý Ï³Ù ³é·ñ³íÙ³Ý Ï³ï³ñÙ³Ý Ù³ëÇÝ ÙÇçÝáñ¹áõÃÛáõÝÝ»ñ | E12: 1 | G12: 1 | K12: 1 | T12: =D12+E12 -> 1 | U12: =F12+K12+L12 -> 1 | V12: =K12 -> 1 | W12: =G12+H12+I12+J12 -> 1
A13: 7 | B13: Ý³Ù³Ï³·ñáõÃÛ³Ý, Ñ»é³·ñ³Ï³Ý, ÷áuï³ÛÇÝ Ñ³Õáñ¹áõÙÝ»ñÇ ÑëÏáÕáõÃÛ³Ý Ù³ëÇÝ ÙÇçÝáñ¹áõÃÛáõÝÝ»ñ | E13: 1 | H13: 1 | K13: 1 | T13: =D13+E13 -> 1 | U13: =F13+K13+L13 -> 1 | V13: =K13 -> 1 | W13: =G13+H13+I13+J13 -> 1
A14: 8 | B14: Ñ»é³Ëáu³ÛÇÝ Ï³Ù Ï³åÇ ³ÛÉ ÙÇçáóÝ»ñáí ï³ñíáÕ Ëáu³ÏóáõÃÛáõÝÝ»ñÇ ÉuÙ³Ý ¨ Ó³ÛÝ³·ñ³éÙ³Ý Ù³ëÇÝ ÙÇçÝáñ¹áõÃÛáõÝÝ»ñ | T14: =D14+E14 -> 0 | U14: =F14+K14+L14 -> 0 | V14: =K14 -> 0 | W14: =G14+H14+I14+J14 -> 0
A15: 9 | B15: Ñ»é³ËáëÝ»ñÇ Ùáõïù³ÛÇÝ ¨ »Éù³ÛÇÝ í»ñÍ³ÝÙ³Ý ÃáõÛÉïíáõÃÛáõÝ ëï³Ý³Éáõ Ù³ëÇÝ ÙÇçÝáñ¹áõÃÛáõÝÝ»ñ | E15: 64 | H15: 64 | K15: 64 | T15: =D15+E15 -> 64 | U15: =F15+K15+L15 -> 64 | V15: =K15 -> 64 | W15: =G15+H15+I15+J15 -> 64
A16: 10 | B16: Ñ»ï³ùÝÝáõÃÛ³Ý Ù³ñÙÝÇ ³ßË³ïáÕÇ, ùÝÝÇãÇ, ¹³ï³Ë³½Ç oå»ñ³ïÇí-Ñ»ï³Ëáõ½³Ï³Ý ·áñÍáÕáõÃÛáõÝÝ»ñ Çñ³Ï³Ý³óÝáÕ Ù³ñÙÇÝÝ»ñÇ ³ÝoñÇÝ³Ï³Ý ¨ ³ÝÑÇÙÝ áñáßáõÙÝ»ñÇ ¨ ·áñÍáÕáõÃÛáõÝÝ»ñÇ ¹»Ù µáÕáùÝ»ñ | E16: 13 | F16: 1 | G16: 10 | K16: 10 | L16: 2 | N16: 3 | O16: 2 | R16: 1 | T16: =D16+E16 -> 13 | U16: =F16+K16+L16 -> 13 | V16: =K16 -> 10 | W16: =G16+H16+I16+J16 -> 10
A17: 2. ¸³ï³Ï³Ý ³Ïï»ñÇ ¨ ¹³ï³Ï³Ý Ñ³ÝÓÝ³ñ³ñáõÃÛáõÝÝ»ñÇ Ï³ï³ñÙ³Ý Ñ»ï Ï³åí³Í Ñ³ñó»ñÇ ÉáõÍÙ³Ý áÉáñï
A18: 1 | B18: å³ïÅÇó å³ÛÙ³Ý³Ï³Ý í³Õ³Å³ÙÏ»ï ³½³ï»Éáõ Ù³ëÇÝ ÙÇçÝáñ¹áõÃÛáõÝÝ»ñ | E18: 15 | G18: 2 | H18: 12 | K18: 14 | L18: 1 | N18: 1 | O18: 1 | T18: =J18+K18 -> 14 | U18: =F18+K18+L18 -> 15 | V18: =P18 -> 0 | W18: =L18+M18+N18+O18 -> 3
A19: 2 | B19: å³ïÇÅÁ ÷á÷áË»Éáõ, Ñ»ï³Ó·»Éáõ ¨ å³ïÅÇó ³½³ï»Éáõ Ù³uÇÝ ÙÇçÝáñ¹áõÃÛáõÝÝ»ñ | E19: 42 | F19: 1 | G19: 3 | H19: 35 | K19: 38 | L19: 2 | M19: 1 | N19: 2 | O19: 1 | P19: 1 | R19: 1 | T19: =J19+K19 -> 38 | U19: =F19+K19+L19 -> 41 | V19: =P19 -> 1 | W19: =L19+M19+N19+O19 -> 6 | X19: Ծանոթություն` 2 գործեր միացվել են
A20: 3 | B20: Ñ³ñÏ³¹Çñ µáõÅÙ³Ý ï»ë³ÏÇ ÷á÷áËáõÃÛ³Ý Ù³ëÇÝ ÙÇçÝáñ¹áõÃÛáõÝÝ»ñ | E20: 36 | G20: 18 | H20: 18 | K20: 36 | N20: 3 | O20: 2 | Q20: 1 | T20: =J20+K20 -> 36 | U20: =F20+K20+L20 -> 36 | V20: =P20 -> 0 | W20: =L20+M20+N20+O20 -> 5
A21: 4 | B21: ³ÛÉ ÙÇçÝáñ¹áõÃÛáõÝÝ»ñ | D21: 2 | E21: 36 | F21: 3 | G21: 11 | H21: 25 | K21: 36 | L21: 1 | N21: 3 | O21: 1 | R21: 2 | T21: =J21+K21 -> 36 | U21: =F21+K21+L21 -> 40 | V21: =P21 -> 0 | W21: =L21+M21+N21+O21 -> 5 | X21: Ծանոթություն` 2 գործեր ընդդատությամբ գնացել և նույն գործերը վերադարձվել են
A22: 5 | B22: ¹³ï³Ï³Ý Ñ³ÝÓÝ³ñ³ñáõÃÛáõÝÝ»ñ | E22: 2 | H22: 1 | J22: 1 | K22: 2 | T22: =J22+K22 -> 3 | U22: =F22+K22+L22 -> 2 | V22: =P22 -> 0 | W22: =L22+M22+N22+O22 -> 0
A23: ÀÜ¸²ØºÜÀ | D23: =D7+D8+D9+D10+D11+D12+D13+D14+D15+D16+D18+D19+D20+D21+D22 -> 2 | E23: =E7+E8+E9+E10+E11+E12+E13+E14+E15+E16+E18+E19+E20+E21+E22 -> 285 | F23: =F7+F8+F9+F10+F11+F12+F13+F14+F15+F16+F18+F19+F20+F21+F22 -> 6 | G23: =G7+G8+G9+G10+G11+G12+G13+G14+G15+G16+G18+G19+G20+G21+G22 -> 56 | H23: =H7+H8+H9+H10+H11+H12+H13+H14+H15+H16+H18+H19+H20+H21+H22 -> 218 | I23: =I7+I8+I9+I10+I11+I12+I13+I14+I15+I16+I18+I19+I20+I21+I22 -> 1 | J23: =J7+J8+J9+J10+J11+J12+J13+J14+J15+J16+J18+J19+J20+J21+J22 -> 1 | K23: =K7+K8+K9+K10+K11+K12+K13+K14+K15+K16+K18+K19+K20+K21+K22 -> 276 | ... R23: =R7+R8+R9+R10+R11+R12+R13+R14+R15+R16+R18+R19+R20+R21+R22 -> 11 | T23: =SUM(T7:T16,T18:T22) -> 281 | U23: =F23+K23+L23 -> 288 | V23: =SUM(V7:V16,V18:V22) -> 151 | W23: =SUM(W7:W16,W18:W22) -> 169

Sheet Ե.Եսոյան
A1: 2015Ã. | D1: Ð²ÞìºîìàôÂÚàôÜ | P1: Ð³í»Éí³Í Ð³Û³ëï³ÝÇ Ð³Ýñ³å»ïáõÃÛ³Ý ¸³ï³ñ³ÝÝ»ñÇ Ý³Ë³·³ÑÝ»ñÇ ËáñÑñ¹Ç 01.02.2016Ã. ÃÇí 11È áñáßÙ³Ý
A2: ØÇÝã¹³ï³Ï³Ý í³ñáõÛÃÇ ÝÏ³ïÙ³Ùµ ¹³ï³Ï³Ý í»ñ³ÑëÏáÕáõÃÛ³ÝÁ, ¹³ï³Ï³Ý ³Ïï»ñÇ ¨ ¹³ï³Ï³Ý Ñ³ÝÓÝ³ñ³ñáõÃÛáõÝÝ»ñÇ Ï³ï³ñÙ³Ý Ñ»ï Ï³åí³Í ÙÇçÝáñ¹áõÃÛáõÝÝ»ñÇ í»ñ³µ»ñÛ³É ¹³ï³Ï³Ý ·áñÍ»ñáí ºñ¨³Ý ù³Õ³ùÇ ¾ñ»µáõÝÇ ¨ Üáõµ³ñ³ß»Ý í³ñã³Ï³Ý ßñç³ÝÝ»ñÇ ÁÝ¹Ñ³Ýáõñ Çñ³í³ëáõÃÛ³Ý ³é³çÇÝ ³ïÛ³ÝÇ ¹³ï³ñ³ÝÇ ¹³ï³íáñ Ե.Եսոյանի ·áñÍáõÝ»áõÃÛ³Ý í»ñ³µ»ñÛ³É
A3: êïáõ·Çã Ñ³í³ë³ñáõÙ` 1+2=3+8+9, 8=4+5+6+7, | D3: Ð³ßí»ïáõ Å³Ù³Ý³Ï³Ñ³ïí³ÍÇ ëÏ½µáõÙ Ý³Ëáñ¹ Ñ³ßí»ïáõ Å³Ù³Ý³Ï³Ñ³ïí³ÍÇó ÷áË³Ýóí³Í ·áñÍ»ñÇ ÁÝ¹Ñ³Ýáõñ ÃÇíÁ | E3: Ð³ßí»ïáõ Å³Ù³Ý³Ï³Ñ³ïí³ÍáõÙ ëï³óí³Í ·áñÍ»ñÇ ÁÝ¹Ñ³Ýáõñ ÃÇíÁ | F3: öáË³Ýóí»É ¿ ³ÛÉ ¹³ï³íáñÇ Ï³Ù ³ÛÉ ¹³ï³ñ³Ý (Ï³½ÙÇ ÷á÷áËáõÃÛáõÝ, ÁÝ¹¹³ïáõÃÛáõÝ) | G3: Ð³ßí»ïáõ Å³Ù³Ý³Ï³Ñ³ïí³ÍáõÙ ³í³ñïí³Í ·áñÍ»ñÇ ÁÝ¹Ñ³Ýáõñ ÃÇíÁ | L3: Ð³ßí»ïáõ Å³Ù³Ý³Ï³Ñ³ïí³ÍáõÙ ³Ý³í³ñï ·áñÍ»ñÇ ÁÝ¹Ñ³Ýáõñ ÃÇíÁ | M3: ØÇçÝáñ¹áõÃÛáõÝÝ»ñáí Ï³Û³óí³Í ¹³ï³Ï³Ý ³Ïï»ñÇó µáÕáù³ñÏí³ÍÝ»ñÇ ù³Ý³ÏÁ | O3: ²Ý³í³ñï µáÕáùÝ»ñ | P3: ØÇçÝáñ¹áõÃÛáõÝÝ»ñáí Ï³Û³óí³Í ¨ µáÕáù³ñÏí³Í ¹³ï³Ï³Ý ³Ïï»ñÇó µ»Ï³Ýí³ÍÝ»ñÇ ù³Ý³ÏÁ | R3: ÙÇçÝáñ¹áõÃÛáõÝÝ»ñáí Ï³Û³óí³Í ¨ µáÕáù³ñÏí³Í ¹³ï³Ï³Ý ³Ïï»ñÇó ³Ý÷á÷áË ÃáÕÝí³ÍÝ»ñÇ ù³Ý³ÏÁ
G4: Ù»ñÅí»É ¿ | H4: µ³í³ñ³ñí»É ¿ | I4: µ³í³ñ³ñí»É ¿ Ù³ëÝ³ÏÇ | J4: ÃáÕÝí»É ¿ ³é³Ýó ùÝÝáõÃÛ³Ý | K4: ÀÝ¹³Ù»ÝÁ
M5: Ý³Ëáñ¹ ï³ñÇÝ»ñÇÝ Ï³Û³óí³Í ³Ïï»ñÇ ¹»Ù | N5: Ñ³ßí»ïáõ Å³Ù³Ý³Ï³ßñç³ÝáõÙ Ï³Û³óí³Í ³Ïï»ñÇ ¹»Ù | P5: Ý³Ëáñ¹ ï³ñÇÝ»ñÇÝ Ï³Û³óí³Í ³Ïï»ñÇ µ»Ï³ÝáõÙÝ»ñÁ | Q5: Ñ³ßí»ïáõ Å³Ù³Ý³Ï³ßñç³ÝáõÙ Ï³Û³óí³Í ³Ïï»ñÇ µ»Ï³ÝáõÙÝ»ñÁ
A6: 1. ØÇÝã¹³ï³Ï³Ý í³ñáõÛÃÇ ÝÏ³ïÙ³Ùµ ¹³ï³Ï³Ý í»ñ³ÑëÏáÕáõÃÛ³Ý áÉáñï | D6: 1 | E6: 2 | F6: 3 | G6: 4 | H6: 5 | I6: 6 | J6: 7 | K6: 8 | L6: 9 | M6: 10 | N6: 11 | O6: 12 | P6: 13 | Q6: 14 | R6: 15 | T6: 1+2=3+8+9 | V6: 8=4+5+6+7
A7: 1 | B7: Ï³É³ÝùÁ áñå»ë Ë³÷³ÝÙ³Ý ÙÇçáó ÏÇñ³é»Éáõ Ù³ëÇÝ ÙÇçÝáñ¹áõÃÛáõÝÝ»ñ | T7: =D7+E7 -> 0 | U7: =F7+K7+L7 -> 0 | V7: =K7 -> 0 | W7: =G7+H7+I7+J7 -> 0
A8: 2 | B8: Ï³É³ÝùÇ Å³ÙÏ»ïÁ »ñÏ³ñ³óÝ»Éáõ Ù³ëÇÝ ÙÇçÝáñ¹áõÃÛáõÝÝ»ñ | T8: =D8+E8 -> 0 | U8: =F8+K8+L8 -> 0 | V8: =K8 -> 0 | W8: =G8+H8+I8+J8 -> 0
A9: 3 | B9: Ï³É³ÝùÇ í»ñ³Ñ³ëï³ïÙ³Ý Ù³ëÇÝ ÙÇçÝáñ¹áõÃÛáõÝÝ»ñ | T9: =D9+E9 -> 0 | U9: =F9+K9+L9 -> 0 | V9: =K9 -> 0 | W9: =G9+H9+I9+J9 -> 0
A10: 4 | B10: ·ñ³íÁ áñå»ë Ï³É³Ý³íáñÙ³Ý ³ÛÉÁÝïñ³Ýù³ÛÇÝ Ë³÷³ÝÙ³Ý ÙÇçáó ÏÇñ³é»Éáõ Ù³ëÇÝ ÙÇçÝáñ¹áõÃÛáõÝÝ»ñ | T10: =D10+E10 -> 0 | U10: =F10+K10+L10 -> 0 | V10: =K10 -> 0 | W10: =G10+H10+I10+J10 -> 0
A11: 5 | B11: Ëáõ½³ñÏáõÃÛ³Ý Ï³ï³ñÙ³Ý Ù³ëÇÝ ÙÇçÝáñ¹áõÃÛáõÝÝ»ñ | T11: =D11+E11 -> 0 | U11: =F11+K11+L11 -> 0 | V11: =K11 -> 0 | W11: =G11+H11+I11+J11 -> 0
A12: 6 | B12: µ³ÝÏ³ÛÇÝ, ³å³Ñáí³·ñ³Ï³Ý, Ýáï³ñ³Ï³Ý ·³ÕïÝÇù Ï³½ÙáÕ ï»Õ»ÏáõÃÛáõÝÝ»ñÇ ëï³óÙ³Ý Ñ³Ù³ñ Ëáõ½³ñÏáõÃÛ³Ý Ï³Ù ³é·ñ³íÙ³Ý Ï³ï³ñÙ³Ý Ù³ëÇÝ ÙÇçÝáñ¹áõÃÛáõÝÝ»ñ | T12: =D12+E12 -> 0 | U12: =F12+K12+L12 -> 0 | V12: =K12 -> 0 | W12: =G12+H12+I12+J12 -> 0
A13: 7 | B13: Ý³Ù³Ï³·ñáõÃÛ³Ý, Ñ»é³·ñ³Ï³Ý, ÷áuï³ÛÇÝ Ñ³Õáñ¹áõÙÝ»ñÇ ÑëÏáÕáõÃÛ³Ý Ù³ëÇÝ ÙÇçÝáñ¹áõÃÛáõÝÝ»ñ | T13: =D13+E13 -> 0 | U13: =F13+K13+L13 -> 0 | V13: =K13 -> 0 | W13: =G13+H13+I13+J13 -> 0
A14: 8 | B14: Ñ»é³Ëáu³ÛÇÝ Ï³Ù Ï³åÇ ³ÛÉ ÙÇçáóÝ»ñáí ï³ñíáÕ Ëáu³ÏóáõÃÛáõÝÝ»ñÇ ÉuÙ³Ý ¨ Ó³ÛÝ³·ñ³éÙ³Ý Ù³ëÇÝ ÙÇçÝáñ¹áõÃÛáõÝÝ»ñ | T14: =D14+E14 -> 0 | U14: =F14+K14+L14 -> 0 | V14: =K14 -> 0 | W14: =G14+H14+I14+J14 -> 0
A15: 9 | B15: Ñ»é³ËáëÝ»ñÇ Ùáõïù³ÛÇÝ ¨ »Éù³ÛÇÝ í»ñÍ³ÝÙ³Ý ÃáõÛÉïíáõÃÛáõÝ ëï³Ý³Éáõ Ù³ëÇÝ ÙÇçÝáñ¹áõÃÛáõÝÝ»ñ | T15: =D15+E15 -> 0 | U15: =F15+K15+L15 -> 0 | V15: =K15 -> 0 | W15: =G15+H15+I15+J15 -> 0
A16: 10 | B16: Ñ»ï³ùÝÝáõÃÛ³Ý Ù³ñÙÝÇ ³ßË³ïáÕÇ, ùÝÝÇãÇ, ¹³ï³Ë³½Ç oå»ñ³ïÇí-Ñ»ï³Ëáõ½³Ï³Ý ·áñÍáÕáõÃÛáõÝÝ»ñ Çñ³Ï³Ý³óÝáÕ Ù³ñÙÇÝÝ»ñÇ ³ÝoñÇÝ³Ï³Ý ¨ ³ÝÑÇÙÝ áñáßáõÙÝ»ñÇ ¨ ·áñÍáÕáõÃÛáõÝÝ»ñÇ ¹»Ù µáÕáùÝ»ñ | T16: =D16+E16 -> 0 | U16: =F16+K16+L16 -> 0 | V16: =K16 -> 0 | W16: =G16+H16+I16+J16 -> 0
A17: 2. ¸³ï³Ï³Ý ³Ïï»ñÇ ¨ ¹³ï³Ï³Ý Ñ³ÝÓÝ³ñ³ñáõÃÛáõÝÝ»ñÇ Ï³ï³ñÙ³Ý Ñ»ï Ï³åí³Í Ñ³ñó»ñÇ ÉáõÍÙ³Ý áÉáñï
A18: 1 | B18: å³ïÅÇó å³ÛÙ³Ý³Ï³Ý í³Õ³Å³ÙÏ»ï ³½³ï»Éáõ Ù³ëÇÝ ÙÇçÝáñ¹áõÃÛáõÝÝ»ñ | T18: =J18+K18 -> 0 | U18: =F18+K18+L18 -> 0 | V18: =P18 -> 0 | W18: =L18+M18+N18+O18 -> 0
A19: 2 | B19: å³ïÇÅÁ ÷á÷áË»Éáõ, Ñ»ï³Ó·»Éáõ ¨ å³ïÅÇó ³½³ï»Éáõ Ù³uÇÝ ÙÇçÝáñ¹áõÃÛáõÝÝ»ñ | T19: =J19+K19 -> 0 | U19: =F19+K19+L19 -> 0 | V19: =P19 -> 0 | W19: =L19+M19+N19+O19 -> 0
A20: 3 | B20: Ñ³ñÏ³¹Çñ µáõÅÙ³Ý ï»ë³ÏÇ ÷á÷áËáõÃÛ³Ý Ù³ëÇÝ ÙÇçÝáñ¹áõÃÛáõÝÝ»ñ | T20: =J20+K20 -> 0 | U20: =F20+K20+L20 -> 0 | V20: =P20 -> 0 | W20: =L20+M20+N20+O20 -> 0
A21: 4 | B21: ³ÛÉ ÙÇçÝáñ¹áõÃÛáõÝÝ»ñ | T21: =J21+K21 -> 0 | U21: =F21+K21+L21 -> 0 | V21: =P21 -> 0 | W21: =L21+M21+N21+O21 -> 0
A22: 5 | B22: ¹³ï³Ï³Ý Ñ³ÝÓÝ³ñ³ñáõÃÛáõÝÝ»ñ | E22: 2 | H22: 1 | K22: 1 | L22: 1 | T22: =J22+K22 -> 1 | U22: =F22+K22+L22 -> 2 | V22: =P22 -> 0 | W22: =L22+M22+N22+O22 -> 1
A23: ÀÜ¸²ØºÜÀ | D23: =D7+D8+D9+D10+D11+D12+D13+D14+D15+D16+D18+D19+D20+D21+D22 -> 0 | E23: =E7+E8+E9+E10+E11+E12+E13+E14+E15+E16+E18+E19+E20+E21+E22 -> 2 | F23: =F7+F8+F9+F10+F11+F12+F13+F14+F15+F16+F18+F19+F20+F21+F22 -> 0 | G23: =G7+G8+G9+G10+G11+G12+G13+G14+G15+G16+G18+G19+G20+G21+G22 -> 0 | H23: =H7+H8+H9+H10+H11+H12+H13+H14+H15+H16+H18+H19+H20+H21+H22 -> 1 | I23: =I7+I8+I9+I10+I11+I12+I13+I14+I15+I16+I18+I19+I20+I21+I22 -> 0 | J23: =J7+J8+J9+J10+J11+J12+J13+J14+J15+J16+J18+J19+J20+J21+J22 -> 0 | K23: =K7+K8+K9+K10+K11+K12+K13+K14+K15+K16+K18+K19+K20+K21+K22 -> 1 | ... R23: =R7+R8+R9+R10+R11+R12+R13+R14+R15+R16+R18+R19+R20+R21+R22 -> 0 | T23: =SUM(T7:T16,T18:T22) -> 1 | U23: =F23+K23+L23 -> 2 | V23: =SUM(V7:V16,V18:V22) -> 0 | W23: =SUM(W7:W16,W18:W22) -> 1

Sheet Վ. Ա. Գրիգորյան
A1: 2015Ã. | D1: Ð²ÞìºîìàôÂÚàôÜ | P1: Ð³í»Éí³Í Ð³Û³ëï³ÝÇ Ð³Ýñ³å»ïáõÃÛ³Ý ¸³ï³ñ³ÝÝ»ñÇ Ý³Ë³·³ÑÝ»ñÇ ËáñÑñ¹Ç 01.02.2016Ã. ÃÇí 11È áñáßÙ³Ý
A2: ØÇÝã¹³ï³Ï³Ý í³ñáõÛÃÇ ÝÏ³ïÙ³Ùµ ¹³ï³Ï³Ý í»ñ³ÑëÏáÕáõÃÛ³ÝÁ, ¹³ï³Ï³Ý ³Ïï»ñÇ ¨ ¹³ï³Ï³Ý Ñ³ÝÓÝ³ñ³ñáõÃÛáõÝÝ»ñÇ Ï³ï³ñÙ³Ý Ñ»ï Ï³åí³Í ÙÇçÝáñ¹áõÃÛáõÝÝ»ñÇ í»ñ³µ»ñÛ³É ¹³ï³Ï³Ý ·áñÍ»ñáí ºñ¨³Ý ù³Õ³ùÇ ¾ñ»µáõÝÇ ¨ Üáõµ³ñ³ß»Ý í³ñã³Ï³Ý ßñç³ÝÝ»ñÇ ÁÝ¹Ñ³Ýáõñ Çñ³í³ëáõÃÛ³Ý ³é³çÇÝ ³ïÛ³ÝÇ ¹³ï³ñ³ÝÇ ¹³ï³íáñ Վ.Ա. Գրիգորյանի ·áñÍáõÝ»áõÃÛ³Ý í»ñ³µ»ñÛ³É
A3: êïáõ·Çã Ñ³í³ë³ñáõÙ` 1+2=3+8+9, 8=4+5+6+7, | D3: Ð³ßí»ïáõ Å³Ù³Ý³Ï³Ñ³ïí³ÍÇ ëÏ½µáõÙ Ý³Ëáñ¹ Ñ³ßí»ïáõ Å³Ù³Ý³Ï³Ñ³ïí³ÍÇó ÷áË³Ýóí³Í ·áñÍ»ñÇ ÁÝ¹Ñ³Ýáõñ ÃÇíÁ | E3: Ð³ßí»ïáõ Å³Ù³Ý³Ï³Ñ³ïí³ÍáõÙ ëï³óí³Í ·áñÍ»ñÇ ÁÝ¹Ñ³Ýáõñ ÃÇíÁ | F3: öáË³Ýóí»É ¿ ³ÛÉ ¹³ï³íáñÇ Ï³Ù ³ÛÉ ¹³ï³ñ³Ý (Ï³½ÙÇ ÷á÷áËáõÃÛáõÝ, ÁÝ¹¹³ïáõÃÛáõÝ) | G3: Ð³ßí»ïáõ Å³Ù³Ý³Ï³Ñ³ïí³ÍáõÙ ³í³ñïí³Í ·áñÍ»ñÇ ÁÝ¹Ñ³Ýáõñ ÃÇíÁ | L3: Ð³ßí»ïáõ Å³Ù³Ý³Ï³Ñ³ïí³ÍáõÙ ³Ý³í³ñï ·áñÍ»ñÇ ÁÝ¹Ñ³Ýáõñ ÃÇíÁ | M3: ØÇçÝáñ¹áõÃÛáõÝÝ»ñáí Ï³Û³óí³Í ¹³ï³Ï³Ý ³Ïï»ñÇó µáÕáù³ñÏí³ÍÝ»ñÇ ù³Ý³ÏÁ | O3: ²Ý³í³ñï µáÕáùÝ»ñ | P3: ØÇçÝáñ¹áõÃÛáõÝÝ»ñáí Ï³Û³óí³Í ¨ µáÕáù³ñÏí³Í ¹³ï³Ï³Ý ³Ïï»ñÇó µ»Ï³Ýí³ÍÝ»ñÇ ù³Ý³ÏÁ | R3: ÙÇçÝáñ¹áõÃÛáõÝÝ»ñáí Ï³Û³óí³Í ¨ µáÕáù³ñÏí³Í ¹³ï³Ï³Ý ³Ïï»ñÇó ³Ý÷á÷áË ÃáÕÝí³ÍÝ»ñÇ ù³Ý³ÏÁ
G4: Ù»ñÅí»É ¿ | H4: µ³í³ñ³ñí»É ¿ | I4: µ³í³ñ³ñí»É ¿ Ù³ëÝ³ÏÇ | J4: ÃáÕÝí»É ¿ ³é³Ýó ùÝÝáõÃÛ³Ý | K4: ÀÝ¹³Ù»ÝÁ
M5: Ý³Ëáñ¹ ï³ñÇÝ»ñÇÝ Ï³Û³óí³Í ³Ïï»ñÇ ¹»Ù | N5: Ñ³ßí»ïáõ Å³Ù³Ý³Ï³ßñç³ÝáõÙ Ï³Û³óí³Í ³Ïï»ñÇ ¹»Ù | P5: Ý³Ëáñ¹ ï³ñÇÝ»ñÇÝ Ï³Û³óí³Í ³Ïï»ñÇ µ»Ï³ÝáõÙÝ»ñÁ | Q5: Ñ³ßí»ïáõ Å³Ù³Ý³Ï³ßñç³ÝáõÙ Ï³Û³óí³Í ³Ïï»ñÇ µ»Ï³ÝáõÙÝ»ñÁ
A6: 1. ØÇÝã¹³ï³Ï³Ý í³ñáõÛÃÇ ÝÏ³ïÙ³Ùµ ¹³ï³Ï³Ý í»ñ³ÑëÏáÕáõÃÛ³Ý áÉáñï | D6: 1 | E6: 2 | F6: 3 | G6: 4 | H6: 5 | I6: 6 | J6: 7 | K6: 8 | L6: 9 | M6: 10 | N6: 11 | O6: 12 | P6: 13 | Q6: 14 | R6: 15 | T6: 1+2=3+8+9 | V6: 8=4+5+6+7
A7: 1 | B7: Ï³É³ÝùÁ áñå»ë Ë³÷³ÝÙ³Ý ÙÇçáó ÏÇñ³é»Éáõ Ù³ëÇÝ ÙÇçÝáñ¹áõÃÛáõÝÝ»ñ | E7: 11 | G7: 2 | H7: 9 | K7: 11 | T7: =D7+E7 -> 11 | U7: =F7+K7+L7 -> 11 | V7: =K7 -> 11 | W7: =G7+H7+I7+J7 -> 11
A8: 2 | B8: Ï³É³ÝùÇ Å³ÙÏ»ïÁ »ñÏ³ñ³óÝ»Éáõ Ù³ëÇÝ ÙÇçÝáñ¹áõÃÛáõÝÝ»ñ | D8: 1 | E8: 10 | H8: 9 | I8: 2 | K8: 11 | N8: 1 | R8: 1 | T8: =D8+E8 -> 11 | U8: =F8+K8+L8 -> 11 | V8: =K8 -> 11 | W8: =G8+H8+I8+J8 -> 11
A9: 3 | B9: Ï³É³ÝùÇ í»ñ³Ñ³ëï³ïÙ³Ý Ù³ëÇÝ ÙÇçÝáñ¹áõÃÛáõÝÝ»ñ | T9: =D9+E9 -> 0 | U9: =F9+K9+L9 -> 0 | V9: =K9 -> 0 | W9: =G9+H9+I9+J9 -> 0
A10: 4 | B10: ·ñ³íÁ áñå»ë Ï³É³Ý³íáñÙ³Ý ³ÛÉÁÝïñ³Ýù³ÛÇÝ Ë³÷³ÝÙ³Ý ÙÇçáó ÏÇñ³é»Éáõ Ù³ëÇÝ ÙÇçÝáñ¹áõÃÛáõÝÝ»ñ | E10: 7 | G10: 4 | H10: 3 | K10: 7 | N10: 1 | R10: 1 | T10: =D10+E10 -> 7 | U10: =F10+K10+L10 -> 7 | V10: =K10 -> 7 | W10: =G10+H10+I10+J10 -> 7
A11: 5 | B11: Ëáõ½³ñÏáõÃÛ³Ý Ï³ï³ñÙ³Ý Ù³ëÇÝ ÙÇçÝáñ¹áõÃÛáõÝÝ»ñ | E11: 49 | G11: 1 | H11: 49 | K11: 49 | T11: =D11+E11 -> 49 | U11: =F11+K11+L11 -> 49 | V11: =K11 -> 49 | W11: =G11+H11+I11+J11 -> 50 | X11: Ծանոթություն` ԵԷԴ/0028/07/15 գործով 2 որոշումներ
A12: 6 | B12: µ³ÝÏ³ÛÇÝ, ³å³Ñáí³·ñ³Ï³Ý, Ýáï³ñ³Ï³Ý ·³ÕïÝÇù Ï³½ÙáÕ ï»Õ»ÏáõÃÛáõÝÝ»ñÇ ëï³óÙ³Ý Ñ³Ù³ñ Ëáõ½³ñÏáõÃÛ³Ý Ï³Ù ³é·ñ³íÙ³Ý Ï³ï³ñÙ³Ý Ù³ëÇÝ ÙÇçÝáñ¹áõÃÛáõÝÝ»ñ | T12: =D12+E12 -> 0 | U12: =F12+K12+L12 -> 0 | V12: =K12 -> 0 | W12: =G12+H12+I12+J12 -> 0
A13: 7 | B13: Ý³Ù³Ï³·ñáõÃÛ³Ý, Ñ»é³·ñ³Ï³Ý, ÷áuï³ÛÇÝ Ñ³Õáñ¹áõÙÝ»ñÇ ÑëÏáÕáõÃÛ³Ý Ù³ëÇÝ ÙÇçÝáñ¹áõÃÛáõÝÝ»ñ | E13: 1 | H13: 1 | K13: 1 | T13: =D13+E13 -> 1 | U13: =F13+K13+L13 -> 1 | V13: =K13 -> 1 | W13: =G13+H13+I13+J13 -> 1
A14: 8 | B14: Ñ»é³Ëáu³ÛÇÝ Ï³Ù Ï³åÇ ³ÛÉ ÙÇçáóÝ»ñáí ï³ñíáÕ Ëáu³ÏóáõÃÛáõÝÝ»ñÇ ÉuÙ³Ý ¨ Ó³ÛÝ³·ñ³éÙ³Ý Ù³ëÇÝ ÙÇçÝáñ¹áõÃÛáõÝÝ»ñ | T14: =D14+E14 -> 0 | U14: =F14+K14+L14 -> 0 | V14: =K14 -> 0 | W14: =G14+H14+I14+J14 -> 0
A15: 9 | B15: Ñ»é³ËáëÝ»ñÇ Ùáõïù³ÛÇÝ ¨ »Éù³ÛÇÝ í»ñÍ³ÝÙ³Ý ÃáõÛÉïíáõÃÛáõÝ ëï³Ý³Éáõ Ù³ëÇÝ ÙÇçÝáñ¹áõÃÛáõÝÝ»ñ | E15: 83 | F15: 2 | G15: 1 | H15: 80 | K15: 81 | T15: =D15+E15 -> 83 | U15: =F15+K15+L15 -> 83 | V15: =K15 -> 81 | W15: =G15+H15+I15+J15 -> 81
A16: 10 | B16: Ñ»ï³ùÝÝáõÃÛ³Ý Ù³ñÙÝÇ ³ßË³ïáÕÇ, ùÝÝÇãÇ, ¹³ï³Ë³½Ç oå»ñ³ïÇí-Ñ»ï³Ëáõ½³Ï³Ý ·áñÍáÕáõÃÛáõÝÝ»ñ Çñ³Ï³Ý³óÝáÕ Ù³ñÙÇÝÝ»ñÇ ³ÝoñÇÝ³Ï³Ý ¨ ³ÝÑÇÙÝ áñáßáõÙÝ»ñÇ ¨ ·áñÍáÕáõÃÛáõÝÝ»ñÇ ¹»Ù µáÕáùÝ»ñ | D16: 4 | E16: 13 | G16: 7 | H16: 6 | K16: 13 | L16: 4 | N16: 9 | O16: 4 | Q16: 1 | R16: 4 | T16: =D16+E16 -> 17 | U16: =F16+K16+L16 -> 17 | V16: =K16 -> 13 | W16: =G16+H16+I16+J16 -> 13
A17: 2. ¸³ï³Ï³Ý ³Ïï»ñÇ ¨ ¹³ï³Ï³Ý Ñ³ÝÓÝ³ñ³ñáõÃÛáõÝÝ»ñÇ Ï³ï³ñÙ³Ý Ñ»ï Ï³åí³Í Ñ³ñó»ñÇ ÉáõÍÙ³Ý áÉáñï
A18: 1 | B18: å³ïÅÇó å³ÛÙ³Ý³Ï³Ý í³Õ³Å³ÙÏ»ï ³½³ï»Éáõ Ù³ëÇÝ ÙÇçÝáñ¹áõÃÛáõÝÝ»ñ | T18: =J18+K18 -> 0 | U18: =F18+K18+L18 -> 0 | V18: =P18 -> 0 | W18: =L18+M18+N18+O18 -> 0
A19: 2 | B19: å³ïÇÅÁ ÷á÷áË»Éáõ, Ñ»ï³Ó·»Éáõ ¨ å³ïÅÇó ³½³ï»Éáõ Ù³uÇÝ ÙÇçÝáñ¹áõÃÛáõÝÝ»ñ | E19: 3 | H19: 2 | J19: 1 | K19: 3 | T19: =J19+K19 -> 4 | U19: =F19+K19+L19 -> 3 | V19: =P19 -> 0 | W19: =L19+M19+N19+O19 -> 0
A20: 3 | B20: Ñ³ñÏ³¹Çñ µáõÅÙ³Ý ï»ë³ÏÇ ÷á÷áËáõÃÛ³Ý Ù³ëÇÝ ÙÇçÝáñ¹áõÃÛáõÝÝ»ñ | E20: 1 | L20: 1 | T20: =J20+K20 -> 0 | U20: =F20+K20+L20 -> 1 | V20: =P20 -> 0 | W20: =L20+M20+N20+O20 -> 1
A21: 4 | B21: ³ÛÉ ÙÇçÝáñ¹áõÃÛáõÝÝ»ñ | E21: 8 | G21: 4 | H21: 3 | J21: 1 | K21: 8 | N21: 2 | R21: 2 | T21: =J21+K21 -> 9 | U21: =F21+K21+L21 -> 8 | V21: =P21 -> 0 | W21: =L21+M21+N21+O21 -> 2
A22: 5 | B22: ¹³ï³Ï³Ý Ñ³ÝÓÝ³ñ³ñáõÃÛáõÝÝ»ñ | D22: 0 | E22: 2 | H22: 2 | K22: 2 | T22: =J22+K22 -> 2 | U22: =F22+K22+L22 -> 2 | V22: =P22 -> 0 | W22: =L22+M22+N22+O22 -> 0
A23: ÀÜ¸²ØºÜÀ | D23: =D7+D8+D9+D10+D11+D12+D13+D14+D15+D16+D18+D19+D20+D21+D22 -> 5 | E23: =E7+E8+E9+E10+E11+E12+E13+E14+E15+E16+E18+E19+E20+E21+E22 -> 188 | F23: =F7+F8+F9+F10+F11+F12+F13+F14+F15+F16+F18+F19+F20+F21+F22 -> 2 | G23: =G7+G8+G9+G10+G11+G12+G13+G14+G15+G16+G18+G19+G20+G21+G22 -> 19 | H23: =H7+H8+H9+H10+H11+H12+H13+H14+H15+H16+H18+H19+H20+H21+H22 -> 164 | I23: =I7+I8+I9+I10+I11+I12+I13+I14+I15+I16+I18+I19+I20+I21+I22 -> 2 | J23: =J7+J8+J9+J10+J11+J12+J13+J14+J15+J16+J18+J19+J20+J21+J22 -> 2 | K23: =K7+K8+K9+K10+K11+K12+K13+K14+K15+K16+K18+K19+K20+K21+K22 -> 186 | ... R23: =R7+R8+R9+R10+R11+R12+R13+R14+R15+R16+R18+R19+R20+R21+R22 -> 8 | T23: =SUM(T7:T16,T18:T22) -> 194 | U23: =F23+K23+L23 -> 193 | V23: =SUM(V7:V16,V18:V22) -> 173 | W23: =SUM(W7:W16,W18:W22) -> 177

Sheet Ա. Օհանյան
A1: 2015Ã. | D1: Ð²ÞìºîìàôÂÚàôÜ | P1: Ð³í»Éí³Í Ð³Û³ëï³ÝÇ Ð³Ýñ³å»ïáõÃÛ³Ý ¸³ï³ñ³ÝÝ»ñÇ Ý³Ë³·³ÑÝ»ñÇ ËáñÑñ¹Ç 01.02.2016Ã. ÃÇí 11È áñáßÙ³Ý
A2: ØÇÝã¹³ï³Ï³Ý í³ñáõÛÃÇ ÝÏ³ïÙ³Ùµ ¹³ï³Ï³Ý í»ñ³ÑëÏáÕáõÃÛ³ÝÁ, ¹³ï³Ï³Ý ³Ïï»ñÇ ¨ ¹³ï³Ï³Ý Ñ³ÝÓÝ³ñ³ñáõÃÛáõÝÝ»ñÇ Ï³ï³ñÙ³Ý Ñ»ï Ï³åí³Í ÙÇçÝáñ¹áõÃÛáõÝÝ»ñÇ í»ñ³µ»ñÛ³É ¹³ï³Ï³Ý ·áñÍ»ñáí ºñ¨³Ý ù³Õ³ùÇ ¾ñ»µáõÝÇ ¨ Üáõµ³ñ³ß»Ý í³ñã³Ï³Ý ßñç³ÝÝ»ñÇ ÁÝ¹Ñ³Ýáõñ Çñ³í³ëáõÃÛ³Ý ³é³çÇÝ ³ïÛ³ÝÇ ¹³ï³ñ³ÝÇ ¹³ï³íáñ Ա. Օհանյանի ·áñÍáõÝ»áõÃÛ³Ý í»ñ³µ»ñÛ³É
A3: êïáõ·Çã Ñ³í³ë³ñáõÙ` 1+2=3+8+9, 8=4+5+6+7, | D3: Ð³ßí»ïáõ Å³Ù³Ý³Ï³Ñ³ïí³ÍÇ ëÏ½µáõÙ Ý³Ëáñ¹ Ñ³ßí»ïáõ Å³Ù³Ý³Ï³Ñ³ïí³ÍÇó ÷áË³Ýóí³Í ·áñÍ»ñÇ ÁÝ¹Ñ³Ýáõñ ÃÇíÁ | E3: Ð³ßí»ïáõ Å³Ù³Ý³Ï³Ñ³ïí³ÍáõÙ ëï³óí³Í ·áñÍ»ñÇ ÁÝ¹Ñ³Ýáõñ ÃÇíÁ | F3: öáË³Ýóí»É ¿ ³ÛÉ ¹³ï³íáñÇ Ï³Ù ³ÛÉ ¹³ï³ñ³Ý (Ï³½ÙÇ ÷á÷áËáõÃÛáõÝ, ÁÝ¹¹³ïáõÃÛáõÝ) | G3: Ð³ßí»ïáõ Å³Ù³Ý³Ï³Ñ³ïí³ÍáõÙ ³í³ñïí³Í ·áñÍ»ñÇ ÁÝ¹Ñ³Ýáõñ ÃÇíÁ | L3: Ð³ßí»ïáõ Å³Ù³Ý³Ï³Ñ³ïí³ÍáõÙ ³Ý³í³ñï ·áñÍ»ñÇ ÁÝ¹Ñ³Ýáõñ ÃÇíÁ | M3: ØÇçÝáñ¹áõÃÛáõÝÝ»ñáí Ï³Û³óí³Í ¹³ï³Ï³Ý ³Ïï»ñÇó µáÕáù³ñÏí³ÍÝ»ñÇ ù³Ý³ÏÁ | O3: ²Ý³í³ñï µáÕáùÝ»ñ | P3: ØÇçÝáñ¹áõÃÛáõÝÝ»ñáí Ï³Û³óí³Í ¨ µáÕáù³ñÏí³Í ¹³ï³Ï³Ý ³Ïï»ñÇó µ»Ï³Ýí³ÍÝ»ñÇ ù³Ý³ÏÁ | R3: ÙÇçÝáñ¹áõÃÛáõÝÝ»ñáí Ï³Û³óí³Í ¨ µáÕáù³ñÏí³Í ¹³ï³Ï³Ý ³Ïï»ñÇó ³Ý÷á÷áË ÃáÕÝí³ÍÝ»ñÇ ù³Ý³ÏÁ
G4: Ù»ñÅí»É ¿ | H4: µ³í³ñ³ñí»É ¿ | I4: µ³í³ñ³ñí»É ¿ Ù³ëÝ³ÏÇ | J4: ÃáÕÝí»É ¿ ³é³Ýó ùÝÝáõÃÛ³Ý | K4: ÀÝ¹³Ù»ÝÁ
M5: Ý³Ëáñ¹ ï³ñÇÝ»ñÇÝ Ï³Û³óí³Í ³Ïï»ñÇ ¹»Ù | N5: Ñ³ßí»ïáõ Å³Ù³Ý³Ï³ßñç³ÝáõÙ Ï³Û³óí³Í ³Ïï»ñÇ ¹»Ù | P5: Ý³Ëáñ¹ ï³ñÇÝ»ñÇÝ Ï³Û³óí³Í ³Ïï»ñÇ µ»Ï³ÝáõÙÝ»ñÁ | Q5: Ñ³ßí»ïáõ Å³Ù³Ý³Ï³ßñç³ÝáõÙ Ï³Û³óí³Í ³Ïï»ñÇ µ»Ï³ÝáõÙÝ»ñÁ
A6: 1. ØÇÝã¹³ï³Ï³Ý í³ñáõÛÃÇ ÝÏ³ïÙ³Ùµ ¹³ï³Ï³Ý í»ñ³ÑëÏáÕáõÃÛ³Ý áÉáñï | D6: 1 | E6: 2 | F6: 3 | G6: 4 | H6: 5 | I6: 6 | J6: 7 | K6: 8 | L6: 9 | M6: 10 | N6: 11 | O6: 12 | P6: 13 | Q6: 14 | R6: 15 | T6: 1+2=3+8+9 | V6: 8=4+5+6+7
A7: 1 | B7: Ï³É³ÝùÁ áñå»ë Ë³÷³ÝÙ³Ý ÙÇçáó ÏÇñ³é»Éáõ Ù³ëÇÝ ÙÇçÝáñ¹áõÃÛáõÝÝ»ñ | T7: =D7+E7 -> 0 | U7: =F7+K7+L7 -> 0 | V7: =K7 -> 0 | W7: =G7+H7+I7+J7 -> 0
A8: 2 | B8: Ï³É³ÝùÇ Å³ÙÏ»ïÁ »ñÏ³ñ³óÝ»Éáõ Ù³ëÇÝ ÙÇçÝáñ¹áõÃÛáõÝÝ»ñ | T8: =D8+E8 -> 0 | U8: =F8+K8+L8 -> 0 | V8: =K8 -> 0 | W8: =G8+H8+I8+J8 -> 0
A9: 3 | B9: Ï³É³ÝùÇ í»ñ³Ñ³ëï³ïÙ³Ý Ù³ëÇÝ ÙÇçÝáñ¹áõÃÛáõÝÝ»ñ | T9: =D9+E9 -> 0 | U9: =F9+K9+L9 -> 0 | V9: =K9 -> 0 | W9: =G9+H9+I9+J9 -> 0
A10: 4 | B10: ·ñ³íÁ áñå»ë Ï³É³Ý³íáñÙ³Ý ³ÛÉÁÝïñ³Ýù³ÛÇÝ Ë³÷³ÝÙ³Ý ÙÇçáó ÏÇñ³é»Éáõ Ù³ëÇÝ ÙÇçÝáñ¹áõÃÛáõÝÝ»ñ | T10: =D10+E10 -> 0 | U10: =F10+K10+L10 -> 0 | V10: =K10 -> 0 | W10: =G10+H10+I10+J10 -> 0
A11: 5 | B11: Ëáõ½³ñÏáõÃÛ³Ý Ï³ï³ñÙ³Ý Ù³ëÇÝ ÙÇçÝáñ¹áõÃÛáõÝÝ»ñ | T11: =D11+E11 -> 0 | U11: =F11+K11+L11 -> 0 | V11: =K11 -> 0 | W11: =G11+H11+I11+J11 -> 0
A12: 6 | B12: µ³ÝÏ³ÛÇÝ, ³å³Ñáí³·ñ³Ï³Ý, Ýáï³ñ³Ï³Ý ·³ÕïÝÇù Ï³½ÙáÕ ï»Õ»ÏáõÃÛáõÝÝ»ñÇ ëï³óÙ³Ý Ñ³Ù³ñ Ëáõ½³ñÏáõÃÛ³Ý Ï³Ù ³é·ñ³íÙ³Ý Ï³ï³ñÙ³Ý Ù³ëÇÝ ÙÇçÝáñ¹áõÃÛáõÝÝ»ñ | T12: =D12+E12 -> 0 | U12: =F12+K12+L12 -> 0 | V12: =K12 -> 0 | W12: =G12+H12+I12+J12 -> 0
A13: 7 | B13: Ý³Ù³Ï³·ñáõÃÛ³Ý, Ñ»é³·ñ³Ï³Ý, ÷áuï³ÛÇÝ Ñ³Õáñ¹áõÙÝ»ñÇ ÑëÏáÕáõÃÛ³Ý Ù³ëÇÝ ÙÇçÝáñ¹áõÃÛáõÝÝ»ñ | T13: =D13+E13 -> 0 | U13: =F13+K13+L13 -> 0 | V13: =K13 -> 0 | W13: =G13+H13+I13+J13 -> 0
A14: 8 | B14: Ñ»é³Ëáu³ÛÇÝ Ï³Ù Ï³åÇ ³ÛÉ ÙÇçáóÝ»ñáí ï³ñíáÕ Ëáu³ÏóáõÃÛáõÝÝ»ñÇ ÉuÙ³Ý ¨ Ó³ÛÝ³·ñ³éÙ³Ý Ù³ëÇÝ ÙÇçÝáñ¹áõÃÛáõÝÝ»ñ | T14: =D14+E14 -> 0 | U14: =F14+K14+L14 -> 0 | V14: =K14 -> 0 | W14: =G14+H14+I14+J14 -> 0
A15: 9 | B15: Ñ»é³ËáëÝ»ñÇ Ùáõïù³ÛÇÝ ¨ »Éù³ÛÇÝ í»ñÍ³ÝÙ³Ý ÃáõÛÉïíáõÃÛáõÝ ëï³Ý³Éáõ Ù³ëÇÝ ÙÇçÝáñ¹áõÃÛáõÝÝ»ñ | T15: =D15+E15 -> 0 | U15: =F15+K15+L15 -> 0 | V15: =K15 -> 0 | W15: =G15+H15+I15+J15 -> 0
A16: 10 | B16: Ñ»ï³ùÝÝáõÃÛ³Ý Ù³ñÙÝÇ ³ßË³ïáÕÇ, ùÝÝÇãÇ, ¹³ï³Ë³½Ç oå»ñ³ïÇí-Ñ»ï³Ëáõ½³Ï³Ý ·áñÍáÕáõÃÛáõÝÝ»ñ Çñ³Ï³Ý³óÝáÕ Ù³ñÙÇÝÝ»ñÇ ³ÝoñÇÝ³Ï³Ý ¨ ³ÝÑÇÙÝ áñáßáõÙÝ»ñÇ ¨ ·áñÍáÕáõÃÛáõÝÝ»ñÇ ¹»Ù µáÕáùÝ»ñ | T16: =D16+E16 -> 0 | U16: =F16+K16+L16 -> 0 | V16: =K16 -> 0 | W16: =G16+H16+I16+J16 -> 0
A17: 2. ¸³ï³Ï³Ý ³Ïï»ñÇ ¨ ¹³ï³Ï³Ý Ñ³ÝÓÝ³ñ³ñáõÃÛáõÝÝ»ñÇ Ï³ï³ñÙ³Ý Ñ»ï Ï³åí³Í Ñ³ñó»ñÇ ÉáõÍÙ³Ý áÉáñï
A18: 1 | B18: å³ïÅÇó å³ÛÙ³Ý³Ï³Ý í³Õ³Å³ÙÏ»ï ³½³ï»Éáõ Ù³ëÇÝ ÙÇçÝáñ¹áõÃÛáõÝÝ»ñ | T18: =J18+K18 -> 0 | U18: =F18+K18+L18 -> 0 | V18: =P18 -> 0 | W18: =L18+M18+N18+O18 -> 0
A19: 2 | B19: å³ïÇÅÁ ÷á÷áË»Éáõ, Ñ»ï³Ó·»Éáõ ¨ å³ïÅÇó ³½³ï»Éáõ Ù³uÇÝ ÙÇçÝáñ¹áõÃÛáõÝÝ»ñ | T19: =J19+K19 -> 0 | U19: =F19+K19+L19 -> 0 | V19: =P19 -> 0 | W19: =L19+M19+N19+O19 -> 0
A20: 3 | B20: Ñ³ñÏ³¹Çñ µáõÅÙ³Ý ï»ë³ÏÇ ÷á÷áËáõÃÛ³Ý Ù³ëÇÝ ÙÇçÝáñ¹áõÃÛáõÝÝ»ñ | T20: =J20+K20 -> 0 | U20: =F20+K20+L20 -> 0 | V20: =P20 -> 0 | W20: =L20+M20+N20+O20 -> 0
A21: 4 | B21: ³ÛÉ ÙÇçÝáñ¹áõÃÛáõÝÝ»ñ | E21: 5 | H21: 4 | J21: 1 | K21: 5 | N21: 1 | O21: 1 | T21: =J21+K21 -> 6 | U21: =F21+K21+L21 -> 5 | V21: =P21 -> 0 | W21: =L21+M21+N21+O21 -> 2
A22: 5 | B22: ¹³ï³Ï³Ý Ñ³ÝÓÝ³ñ³ñáõÃÛáõÝÝ»ñ | T22: =J22+K22 -> 0 | U22: =F22+K22+L22 -> 0 | V22: =P22 -> 0 | W22: =L22+M22+N22+O22 -> 0
A23: ÀÜ¸²ØºÜÀ | D23: =D7+D8+D9+D10+D11+D12+D13+D14+D15+D16+D18+D19+D20+D21+D22 -> 0 | E23: =E7+E8+E9+E10+E11+E12+E13+E14+E15+E16+E18+E19+E20+E21+E22 -> 5 | F23: =F7+F8+F9+F10+F11+F12+F13+F14+F15+F16+F18+F19+F20+F21+F22 -> 0 | G23: =G7+G8+G9+G10+G11+G12+G13+G14+G15+G16+G18+G19+G20+G21+G22 -> 0 | H23: =H7+H8+H9+H10+H11+H12+H13+H14+H15+H16+H18+H19+H20+H21+H22 -> 4 | I23: =I7+I8+I9+I10+I11+I12+I13+I14+I15+I16+I18+I19+I20+I21+I22 -> 0 | J23: =J7+J8+J9+J10+J11+J12+J13+J14+J15+J16+J18+J19+J20+J21+J22 -> 1 | K23: =K7+K8+K9+K10+K11+K12+K13+K14+K15+K16+K18+K19+K20+K21+K22 -> 5 | ... R23: =R7+R8+R9+R10+R11+R12+R13+R14+R15+R16+R18+R19+R20+R21+R22 -> 0 | T23: =SUM(T7:T16,T18:T22) -> 6 | U23: =F23+K23+L23 -> 5 | V23: =SUM(V7:V16,V18:V22) -> 0 | W23: =SUM(W7:W16,W18:W22) -> 2

Sheet Վ. Թ. Գրիգորյան
A1: 2015Ã. | D1: Ð²ÞìºîìàôÂÚàôÜ | P1: Ð³í»Éí³Í Ð³Û³ëï³ÝÇ Ð³Ýñ³å»ïáõÃÛ³Ý ¸³ï³ñ³ÝÝ»ñÇ Ý³Ë³·³ÑÝ»ñÇ ËáñÑñ¹Ç 01.02.2016Ã. ÃÇí 11È áñáßÙ³Ý
A2: ØÇÝã¹³ï³Ï³Ý í³ñáõÛÃÇ ÝÏ³ïÙ³Ùµ ¹³ï³Ï³Ý í»ñ³ÑëÏáÕáõÃÛ³ÝÁ, ¹³ï³Ï³Ý ³Ïï»ñÇ ¨ ¹³ï³Ï³Ý Ñ³ÝÓÝ³ñ³ñáõÃÛáõÝÝ»ñÇ Ï³ï³ñÙ³Ý Ñ»ï Ï³åí³Í ÙÇçÝáñ¹áõÃÛáõÝÝ»ñÇ í»ñ³µ»ñÛ³É ¹³ï³Ï³Ý ·áñÍ»ñáí ºñ¨³Ý ù³Õ³ùÇ ¾ñ»µáõÝÇ ¨ Üáõµ³ñ³ß»Ý í³ñã³Ï³Ý ßñç³ÝÝ»ñÇ ÁÝ¹Ñ³Ýáõñ Çñ³í³ëáõÃÛ³Ý ³é³çÇÝ ³ïÛ³ÝÇ ¹³ï³ñ³ÝÇ ¹³ï³íáñ Վ.Թ. Գրիգորյանի ·áñÍáõÝ»áõÃÛ³Ý í»ñ³µ»ñÛ³É
A3: êïáõ·Çã Ñ³í³ë³ñáõÙ` 1+2=3+8+9, 8=4+5+6+7, | D3: Ð³ßí»ïáõ Å³Ù³Ý³Ï³Ñ³ïí³ÍÇ ëÏ½µáõÙ Ý³Ëáñ¹ Ñ³ßí»ïáõ Å³Ù³Ý³Ï³Ñ³ïí³ÍÇó ÷áË³Ýóí³Í ·áñÍ»ñÇ ÁÝ¹Ñ³Ýáõñ ÃÇíÁ | E3: Ð³ßí»ïáõ Å³Ù³Ý³Ï³Ñ³ïí³ÍáõÙ ëï³óí³Í ·áñÍ»ñÇ ÁÝ¹Ñ³Ýáõñ ÃÇíÁ | F3: öáË³Ýóí»É ¿ ³ÛÉ ¹³ï³íáñÇ Ï³Ù ³ÛÉ ¹³ï³ñ³Ý (Ï³½ÙÇ ÷á÷áËáõÃÛáõÝ, ÁÝ¹¹³ïáõÃÛáõÝ) | G3: Ð³ßí»ïáõ Å³Ù³Ý³Ï³Ñ³ïí³ÍáõÙ ³í³ñïí³Í ·áñÍ»ñÇ ÁÝ¹Ñ³Ýáõñ ÃÇíÁ | L3: Ð³ßí»ïáõ Å³Ù³Ý³Ï³Ñ³ïí³ÍáõÙ ³Ý³í³ñï ·áñÍ»ñÇ ÁÝ¹Ñ³Ýáõñ ÃÇíÁ | M3: ØÇçÝáñ¹áõÃÛáõÝÝ»ñáí Ï³Û³óí³Í ¹³ï³Ï³Ý ³Ïï»ñÇó µáÕáù³ñÏí³ÍÝ»ñÇ ù³Ý³ÏÁ | O3: ²Ý³í³ñï µáÕáùÝ»ñ | P3: ØÇçÝáñ¹áõÃÛáõÝÝ»ñáí Ï³Û³óí³Í ¨ µáÕáù³ñÏí³Í ¹³ï³Ï³Ý ³Ïï»ñÇó µ»Ï³Ýí³ÍÝ»ñÇ ù³Ý³ÏÁ | R3: ÙÇçÝáñ¹áõÃÛáõÝÝ»ñáí Ï³Û³óí³Í ¨ µáÕáù³ñÏí³Í ¹³ï³Ï³Ý ³Ïï»ñÇó ³Ý÷á÷áË ÃáÕÝí³ÍÝ»ñÇ ù³Ý³ÏÁ
G4: Ù»ñÅí»É ¿ | H4: µ³í³ñ³ñí»É ¿ | I4: µ³í³ñ³ñí»É ¿ Ù³ëÝ³ÏÇ | J4: ÃáÕÝí»É ¿ ³é³Ýó ùÝÝáõÃÛ³Ý | K4: ÀÝ¹³Ù»ÝÁ
M5: Ý³Ëáñ¹ ï³ñÇÝ»ñÇÝ Ï³Û³óí³Í ³Ïï»ñÇ ¹»Ù | N5: Ñ³ßí»ïáõ Å³Ù³Ý³Ï³ßñç³ÝáõÙ Ï³Û³óí³Í ³Ïï»ñÇ ¹»Ù | P5: Ý³Ëáñ¹ ï³ñÇÝ»ñÇÝ Ï³Û³óí³Í ³Ïï»ñÇ µ»Ï³ÝáõÙÝ»ñÁ | Q5: Ñ³ßí»ïáõ Å³Ù³Ý³Ï³ßñç³ÝáõÙ Ï³Û³óí³Í ³Ïï»ñÇ µ»Ï³ÝáõÙÝ»ñÁ
A6: 1. ØÇÝã¹³ï³Ï³Ý í³ñáõÛÃÇ ÝÏ³ïÙ³Ùµ ¹³ï³Ï³Ý í»ñ³ÑëÏáÕáõÃÛ³Ý áÉáñï | D6: 1 | E6: 2 | F6: 3 | G6: 4 | H6: 5 | I6: 6 | J6: 7 | K6: 8 | L6: 9 | M6: 10 | N6: 11 | O6: 12 | P6: 13 | Q6: 14 | R6: 15 | T6: 1+2=3+8+9 | V6: 8=4+5+6+7
A7: 1 | B7: Ï³É³ÝùÁ áñå»ë Ë³÷³ÝÙ³Ý ÙÇçáó ÏÇñ³é»Éáõ Ù³ëÇÝ ÙÇçÝáñ¹áõÃÛáõÝÝ»ñ | E7: 24 | G7: 1 | H7: 23 | K7: 24 | N7: 5 | Q7: 1 | R7: 4 | T7: =D7+E7 -> 24 | U7: =F7+K7+L7 -> 24 | V7: =K7 -> 24 | W7: =G7+H7+I7+J7 -> 24
A8: 2 | B8: Ï³É³ÝùÇ Å³ÙÏ»ïÁ »ñÏ³ñ³óÝ»Éáõ Ù³ëÇÝ ÙÇçÝáñ¹áõÃÛáõÝÝ»ñ | D8: 3 | E8: 53 | H8: 51 | I8: 5 | K8: 56 | N8: 4 | O8: 1 | R8: 3 | T8: =D8+E8 -> 56 | U8: =F8+K8+L8 -> 56 | V8: =K8 -> 56 | W8: =G8+H8+I8+J8 -> 56
A9: 3 | B9: Ï³É³ÝùÇ í»ñ³Ñ³ëï³ïÙ³Ý Ù³ëÇÝ ÙÇçÝáñ¹áõÃÛáõÝÝ»ñ | E9: 4 | H9: 4 | K9: 4 | T9: =D9+E9 -> 4 | U9: =F9+K9+L9 -> 4 | V9: =K9 -> 4 | W9: =G9+H9+I9+J9 -> 4
A10: 4 | B10: ·ñ³íÁ áñå»ë Ï³É³Ý³íáñÙ³Ý ³ÛÉÁÝïñ³Ýù³ÛÇÝ Ë³÷³ÝÙ³Ý ÙÇçáó ÏÇñ³é»Éáõ Ù³ëÇÝ ÙÇçÝáñ¹áõÃÛáõÝÝ»ñ | E10: 32 | G10: 26 | H10: 6 | K10: 32 | N10: 5 | R10: 5 | T10: =D10+E10 -> 32 | U10: =F10+K10+L10 -> 32 | V10: =K10 -> 32 | W10: =G10+H10+I10+J10 -> 32
A11: 5 | B11: Ëáõ½³ñÏáõÃÛ³Ý Ï³ï³ñÙ³Ý Ù³ëÇÝ ÙÇçÝáñ¹áõÃÛáõÝÝ»ñ | E11: 61 | F11: 2 | G11: 1 | H11: 57 | I11: 1 | K11: 59 | T11: =D11+E11 -> 61 | U11: =F11+K11+L11 -> 61 | V11: =K11 -> 59 | W11: =G11+H11+I11+J11 -> 59
A12: 6 | B12: µ³ÝÏ³ÛÇÝ, ³å³Ñáí³·ñ³Ï³Ý, Ýáï³ñ³Ï³Ý ·³ÕïÝÇù Ï³½ÙáÕ ï»Õ»ÏáõÃÛáõÝÝ»ñÇ ëï³óÙ³Ý Ñ³Ù³ñ Ëáõ½³ñÏáõÃÛ³Ý Ï³Ù ³é·ñ³íÙ³Ý Ï³ï³ñÙ³Ý Ù³ëÇÝ ÙÇçÝáñ¹áõÃÛáõÝÝ»ñ | E12: 12 | G12: 2 | H12: 8 | I12: 2 | K12: 12 | T12: =D12+E12 -> 12 | U12: =F12+K12+L12 -> 12 | V12: =K12 -> 12 | W12: =G12+H12+I12+J12 -> 12
A13: 7 | B13: Ý³Ù³Ï³·ñáõÃÛ³Ý, Ñ»é³·ñ³Ï³Ý, ÷áuï³ÛÇÝ Ñ³Õáñ¹áõÙÝ»ñÇ ÑëÏáÕáõÃÛ³Ý Ù³ëÇÝ ÙÇçÝáñ¹áõÃÛáõÝÝ»ñ | T13: =D13+E13 -> 0 | U13: =F13+K13+L13 -> 0 | V13: =K13 -> 0 | W13: =G13+H13+I13+J13 -> 0
A14: 8 | B14: Ñ»é³Ëáu³ÛÇÝ Ï³Ù Ï³åÇ ³ÛÉ ÙÇçáóÝ»ñáí ï³ñíáÕ Ëáu³ÏóáõÃÛáõÝÝ»ñÇ ÉuÙ³Ý ¨ Ó³ÛÝ³·ñ³éÙ³Ý Ù³ëÇÝ ÙÇçÝáñ¹áõÃÛáõÝÝ»ñ | T14: =D14+E14 -> 0 | U14: =F14+K14+L14 -> 0 | V14: =K14 -> 0 | W14: =G14+H14+I14+J14 -> 0
A15: 9 | B15: Ñ»é³ËáëÝ»ñÇ Ùáõïù³ÛÇÝ ¨ »Éù³ÛÇÝ í»ñÍ³ÝÙ³Ý ÃáõÛÉïíáõÃÛáõÝ ëï³Ý³Éáõ Ù³ëÇÝ ÙÇçÝáñ¹áõÃÛáõÝÝ»ñ | E15: 70 | H15: 70 | K15: 70 | T15: =D15+E15 -> 70 | U15: =F15+K15+L15 -> 70 | V15: =K15 -> 70 | W15: =G15+H15+I15+J15 -> 70
A16: 10 | B16: Ñ»ï³ùÝÝáõÃÛ³Ý Ù³ñÙÝÇ ³ßË³ïáÕÇ, ùÝÝÇãÇ, ¹³ï³Ë³½Ç oå»ñ³ïÇí-Ñ»ï³Ëáõ½³Ï³Ý ·áñÍáÕáõÃÛáõÝÝ»ñ Çñ³Ï³Ý³óÝáÕ Ù³ñÙÇÝÝ»ñÇ ³ÝoñÇÝ³Ï³Ý ¨ ³ÝÑÇÙÝ áñáßáõÙÝ»ñÇ ¨ ·áñÍáÕáõÃÛáõÝÝ»ñÇ ¹»Ù µáÕáùÝ»ñ | D16: 1 | E16: 14 | G16: 7 | H16: 3 | J16: 1 | K16: 11 | L16: 4 | N16: 7 | O16: 4 | R16: 3 | T16: =D16+E16 -> 15 | U16: =F16+K16+L16 -> 15 | V16: =K16 -> 11 | W16: =G16+H16+I16+J16 -> 11
A17: 2. ¸³ï³Ï³Ý ³Ïï»ñÇ ¨ ¹³ï³Ï³Ý Ñ³ÝÓÝ³ñ³ñáõÃÛáõÝÝ»ñÇ Ï³ï³ñÙ³Ý Ñ»ï Ï³åí³Í Ñ³ñó»ñÇ ÉáõÍÙ³Ý áÉáñï
A18: 1 | B18: å³ïÅÇó å³ÛÙ³Ý³Ï³Ý í³Õ³Å³ÙÏ»ï ³½³ï»Éáõ Ù³ëÇÝ ÙÇçÝáñ¹áõÃÛáõÝÝ»ñ | T18: =J18+K18 -> 0 | U18: =F18+K18+L18 -> 0 | V18: =P18 -> 0 | W18: =L18+M18+N18+O18 -> 0
A19: 2 | B19: å³ïÇÅÁ ÷á÷áË»Éáõ, Ñ»ï³Ó·»Éáõ ¨ å³ïÅÇó ³½³ï»Éáõ Ù³uÇÝ ÙÇçÝáñ¹áõÃÛáõÝÝ»ñ | E19: 7 | G19: 3 | H19: 2 | J19: 2 | K19: 7 | M19: 2 | R19: 2 | T19: =J19+K19 -> 9 | U19: =F19+K19+L19 -> 7 | V19: =P19 -> 0 | W19: =L19+M19+N19+O19 -> 2
A20: 3 | B20: Ñ³ñÏ³¹Çñ µáõÅÙ³Ý ï»ë³ÏÇ ÷á÷áËáõÃÛ³Ý Ù³ëÇÝ ÙÇçÝáñ¹áõÃÛáõÝÝ»ñ | E20: 1 | H20: 1 | K20: 1 | N20: 1 | O20: 1 | T20: =J20+K20 -> 1 | U20: =F20+K20+L20 -> 1 | V20: =P20 -> 0 | W20: =L20+M20+N20+O20 -> 2
A21: 4 | B21: ³ÛÉ ÙÇçÝáñ¹áõÃÛáõÝÝ»ñ | E21: 10 | G21: 2 | H21: 8 | K21: 10 | N21: 2 | R21: 2 | T21: =J21+K21 -> 10 | U21: =F21+K21+L21 -> 10 | V21: =P21 -> 0 | W21: =L21+M21+N21+O21 -> 2
A22: 5 | B22: ¹³ï³Ï³Ý Ñ³ÝÓÝ³ñ³ñáõÃÛáõÝÝ»ñ | E22: 1 | H22: 1 | K22: 1 | T22: =J22+K22 -> 1 | U22: =F22+K22+L22 -> 1 | V22: =P22 -> 0 | W22: =L22+M22+N22+O22 -> 0
A23: ÀÜ¸²ØºÜÀ | D23: =D7+D8+D9+D10+D11+D12+D13+D14+D15+D16+D18+D19+D20+D21+D22 -> 4 | E23: =E7+E8+E9+E10+E11+E12+E13+E14+E15+E16+E18+E19+E20+E21+E22 -> 289 | F23: =F7+F8+F9+F10+F11+F12+F13+F14+F15+F16+F18+F19+F20+F21+F22 -> 2 | G23: =G7+G8+G9+G10+G11+G12+G13+G14+G15+G16+G18+G19+G20+G21+G22 -> 42 | H23: =H7+H8+H9+H10+H11+H12+H13+H14+H15+H16+H18+H19+H20+H21+H22 -> 234 | I23: =I7+I8+I9+I10+I11+I12+I13+I14+I15+I16+I18+I19+I20+I21+I22 -> 8 | J23: =J7+J8+J9+J10+J11+J12+J13+J14+J15+J16+J18+J19+J20+J21+J22 -> 3 | K23: =K7+K8+K9+K10+K11+K12+K13+K14+K15+K16+K18+K19+K20+K21+K22 -> 287 | ... R23: =R7+R8+R9+R10+R11+R12+R13+R14+R15+R16+R18+R19+R20+R21+R22 -> 19 | T23: =SUM(T7:T16,T18:T22) -> 295 | U23: =F23+K23+L23 -> 293 | V23: =SUM(V7:V16,V18:V22) -> 268 | W23: =SUM(W7:W16,W18:W22) -> 274

Sheet Տ. Ստեփանյան
A1: 2015Ã. | D1: Ð²ÞìºîìàôÂÚàôÜ | P1: Ð³í»Éí³Í Ð³Û³ëï³ÝÇ Ð³Ýñ³å»ïáõÃÛ³Ý ¸³ï³ñ³ÝÝ»ñÇ Ý³Ë³·³ÑÝ»ñÇ ËáñÑñ¹Ç 01.02.2016Ã. ÃÇí 11È áñáßÙ³Ý
A2: ØÇÝã¹³ï³Ï³Ý í³ñáõÛÃÇ ÝÏ³ïÙ³Ùµ ¹³ï³Ï³Ý í»ñ³ÑëÏáÕáõÃÛ³ÝÁ, ¹³ï³Ï³Ý ³Ïï»ñÇ ¨ ¹³ï³Ï³Ý Ñ³ÝÓÝ³ñ³ñáõÃÛáõÝÝ»ñÇ Ï³ï³ñÙ³Ý Ñ»ï Ï³åí³Í ÙÇçÝáñ¹áõÃÛáõÝÝ»ñÇ í»ñ³µ»ñÛ³É ¹³ï³Ï³Ý ·áñÍ»ñáí ºñ¨³Ý ù³Õ³ùÇ ¾ñ»µáõÝÇ ¨ Üáõµ³ñ³ß»Ý í³ñã³Ï³Ý ßñç³ÝÝ»ñÇ ÁÝ¹Ñ³Ýáõñ Çñ³í³ëáõÃÛ³Ý ³é³çÇÝ ³ïÛ³ÝÇ ¹³ï³ñ³ÝÇ ¹³ï³íáñ Տ.Ստեփանյանի ·áñÍáõÝ»áõÃÛ³Ý í»ñ³µ»ñÛ³É
A3: êïáõ·Çã Ñ³í³ë³ñáõÙ` 1+2=3+8+9, 8=4+5+6+7, | D3: Ð³ßí»ïáõ Å³Ù³Ý³Ï³Ñ³ïí³ÍÇ ëÏ½µáõÙ Ý³Ëáñ¹ Ñ³ßí»ïáõ Å³Ù³Ý³Ï³Ñ³ïí³ÍÇó ÷áË³Ýóí³Í ·áñÍ»ñÇ ÁÝ¹Ñ³Ýáõñ ÃÇíÁ | E3: Ð³ßí»ïáõ Å³Ù³Ý³Ï³Ñ³ïí³ÍáõÙ ëï³óí³Í ·áñÍ»ñÇ ÁÝ¹Ñ³Ýáõñ ÃÇíÁ | F3: öáË³Ýóí»É ¿ ³ÛÉ ¹³ï³íáñÇ Ï³Ù ³ÛÉ ¹³ï³ñ³Ý (Ï³½ÙÇ ÷á÷áËáõÃÛáõÝ, ÁÝ¹¹³ïáõÃÛáõÝ) | G3: Ð³ßí»ïáõ Å³Ù³Ý³Ï³Ñ³ïí³ÍáõÙ ³í³ñïí³Í ·áñÍ»ñÇ ÁÝ¹Ñ³Ýáõñ ÃÇíÁ | L3: Ð³ßí»ïáõ Å³Ù³Ý³Ï³Ñ³ïí³ÍáõÙ ³Ý³í³ñï ·áñÍ»ñÇ ÁÝ¹Ñ³Ýáõñ ÃÇíÁ | M3: ØÇçÝáñ¹áõÃÛáõÝÝ»ñáí Ï³Û³óí³Í ¹³ï³Ï³Ý ³Ïï»ñÇó µáÕáù³ñÏí³ÍÝ»ñÇ ù³Ý³ÏÁ | O3: ²Ý³í³ñï µáÕáùÝ»ñ | P3: ØÇçÝáñ¹áõÃÛáõÝÝ»ñáí Ï³Û³óí³Í ¨ µáÕáù³ñÏí³Í ¹³ï³Ï³Ý ³Ïï»ñÇó µ»Ï³Ýí³ÍÝ»ñÇ ù³Ý³ÏÁ | R3: ÙÇçÝáñ¹áõÃÛáõÝÝ»ñáí Ï³Û³óí³Í ¨ µáÕáù³ñÏí³Í ¹³ï³Ï³Ý ³Ïï»ñÇó ³Ý÷á÷áË ÃáÕÝí³ÍÝ»ñÇ ù³Ý³ÏÁ
G4: Ù»ñÅí»É ¿ | H4: µ³í³ñ³ñí»É ¿ | I4: µ³í³ñ³ñí»É ¿ Ù³ëÝ³ÏÇ | J4: ÃáÕÝí»É ¿ ³é³Ýó ùÝÝáõÃÛ³Ý | K4: ÀÝ¹³Ù»ÝÁ
M5: Ý³Ëáñ¹ ï³ñÇÝ»ñÇÝ Ï³Û³óí³Í ³Ïï»ñÇ ¹»Ù | N5: Ñ³ßí»ïáõ Å³Ù³Ý³Ï³ßñç³ÝáõÙ Ï³Û³óí³Í ³Ïï»ñÇ ¹»Ù | P5: Ý³Ëáñ¹ ï³ñÇÝ»ñÇÝ Ï³Û³óí³Í ³Ïï»ñÇ µ»Ï³ÝáõÙÝ»ñÁ | Q5: Ñ³ßí»ïáõ Å³Ù³Ý³Ï³ßñç³ÝáõÙ Ï³Û³óí³Í ³Ïï»ñÇ µ»Ï³ÝáõÙÝ»ñÁ
A6: 1. ØÇÝã¹³ï³Ï³Ý í³ñáõÛÃÇ ÝÏ³ïÙ³Ùµ ¹³ï³Ï³Ý í»ñ³ÑëÏáÕáõÃÛ³Ý áÉáñï | D6: 1 | E6: 2 | F6: 3 | G6: 4 | H6: 5 | I6: 6 | J6: 7 | K6: 8 | L6: 9 | M6: 10 | N6: 11 | O6: 12 | P6: 13 | Q6: 14 | R6: 15 | T6: 1+2=3+8+9 | V6: 8=4+5+6+7
A7: 1 | B7: Ï³É³ÝùÁ áñå»ë Ë³÷³ÝÙ³Ý ÙÇçáó ÏÇñ³é»Éáõ Ù³ëÇÝ ÙÇçÝáñ¹áõÃÛáõÝÝ»ñ | T7: =D7+E7 -> 0 | U7: =F7+K7+L7 -> 0 | V7: =K7 -> 0 | W7: =G7+H7+I7+J7 -> 0
A8: 2 | B8: Ï³É³ÝùÇ Å³ÙÏ»ïÁ »ñÏ³ñ³óÝ»Éáõ Ù³ëÇÝ ÙÇçÝáñ¹áõÃÛáõÝÝ»ñ | T8: =D8+E8 -> 0 | U8: =F8+K8+L8 -> 0 | V8: =K8 -> 0 | W8: =G8+H8+I8+J8 -> 0
A9: 3 | B9: Ï³É³ÝùÇ í»ñ³Ñ³ëï³ïÙ³Ý Ù³ëÇÝ ÙÇçÝáñ¹áõÃÛáõÝÝ»ñ | T9: =D9+E9 -> 0 | U9: =F9+K9+L9 -> 0 | V9: =K9 -> 0 | W9: =G9+H9+I9+J9 -> 0
A10: 4 | B10: ·ñ³íÁ áñå»ë Ï³É³Ý³íáñÙ³Ý ³ÛÉÁÝïñ³Ýù³ÛÇÝ Ë³÷³ÝÙ³Ý ÙÇçáó ÏÇñ³é»Éáõ Ù³ëÇÝ ÙÇçÝáñ¹áõÃÛáõÝÝ»ñ | T10: =D10+E10 -> 0 | U10: =F10+K10+L10 -> 0 | V10: =K10 -> 0 | W10: =G10+H10+I10+J10 -> 0
A11: 5 | B11: Ëáõ½³ñÏáõÃÛ³Ý Ï³ï³ñÙ³Ý Ù³ëÇÝ ÙÇçÝáñ¹áõÃÛáõÝÝ»ñ | T11: =D11+E11 -> 0 | U11: =F11+K11+L11 -> 0 | V11: =K11 -> 0 | W11: =G11+H11+I11+J11 -> 0
A12: 6 | B12: µ³ÝÏ³ÛÇÝ, ³å³Ñáí³·ñ³Ï³Ý, Ýáï³ñ³Ï³Ý ·³ÕïÝÇù Ï³½ÙáÕ ï»Õ»ÏáõÃÛáõÝÝ»ñÇ ëï³óÙ³Ý Ñ³Ù³ñ Ëáõ½³ñÏáõÃÛ³Ý Ï³Ù ³é·ñ³íÙ³Ý Ï³ï³ñÙ³Ý Ù³ëÇÝ ÙÇçÝáñ¹áõÃÛáõÝÝ»ñ | T12: =D12+E12 -> 0 | U12: =F12+K12+L12 -> 0 | V12: =K12 -> 0 | W12: =G12+H12+I12+J12 -> 0
A13: 7 | B13: Ý³Ù³Ï³·ñáõÃÛ³Ý, Ñ»é³·ñ³Ï³Ý, ÷áuï³ÛÇÝ Ñ³Õáñ¹áõÙÝ»ñÇ ÑëÏáÕáõÃÛ³Ý Ù³ëÇÝ ÙÇçÝáñ¹áõÃÛáõÝÝ»ñ | T13: =D13+E13 -> 0 | U13: =F13+K13+L13 -> 0 | V13: =K13 -> 0 | W13: =G13+H13+I13+J13 -> 0
A14: 8 | B14: Ñ»é³Ëáu³ÛÇÝ Ï³Ù Ï³åÇ ³ÛÉ ÙÇçáóÝ»ñáí ï³ñíáÕ Ëáu³ÏóáõÃÛáõÝÝ»ñÇ ÉuÙ³Ý ¨ Ó³ÛÝ³·ñ³éÙ³Ý Ù³ëÇÝ ÙÇçÝáñ¹áõÃÛáõÝÝ»ñ | T14: =D14+E14 -> 0 | U14: =F14+K14+L14 -> 0 | V14: =K14 -> 0 | W14: =G14+H14+I14+J14 -> 0
A15: 9 | B15: Ñ»é³ËáëÝ»ñÇ Ùáõïù³ÛÇÝ ¨ »Éù³ÛÇÝ í»ñÍ³ÝÙ³Ý ÃáõÛÉïíáõÃÛáõÝ ëï³Ý³Éáõ Ù³ëÇÝ ÙÇçÝáñ¹áõÃÛáõÝÝ»ñ | E15: 21 | H15: 21 | K15: 21 | T15: =D15+E15 -> 21 | U15: =F15+K15+L15 -> 21 | V15: =K15 -> 21 | W15: =G15+H15+I15+J15 -> 21
A16: 10 | B16: Ñ»ï³ùÝÝáõÃÛ³Ý Ù³ñÙÝÇ ³ßË³ïáÕÇ, ùÝÝÇãÇ, ¹³ï³Ë³½Ç oå»ñ³ïÇí-Ñ»ï³Ëáõ½³Ï³Ý ·áñÍáÕáõÃÛáõÝÝ»ñ Çñ³Ï³Ý³óÝáÕ Ù³ñÙÇÝÝ»ñÇ ³ÝoñÇÝ³Ï³Ý ¨ ³ÝÑÇÙÝ áñáßáõÙÝ»ñÇ ¨ ·áñÍáÕáõÃÛáõÝÝ»ñÇ ¹»Ù µáÕáùÝ»ñ | T16: =D16+E16 -> 0 | U16: =F16+K16+L16 -> 0 | V16: =K16 -> 0 | W16: =G16+H16+I16+J16 -> 0
A17: 2. ¸³ï³Ï³Ý ³Ïï»ñÇ ¨ ¹³ï³Ï³Ý Ñ³ÝÓÝ³ñ³ñáõÃÛáõÝÝ»ñÇ Ï³ï³ñÙ³Ý Ñ»ï Ï³åí³Í Ñ³ñó»ñÇ ÉáõÍÙ³Ý áÉáñï
A18: 1 | B18: å³ïÅÇó å³ÛÙ³Ý³Ï³Ý í³Õ³Å³ÙÏ»ï ³½³ï»Éáõ Ù³ëÇÝ ÙÇçÝáñ¹áõÃÛáõÝÝ»ñ | T18: =J18+K18 -> 0 | U18: =F18+K18+L18 -> 0 | V18: =P18 -> 0 | W18: =L18+M18+N18+O18 -> 0
A19: 2 | B19: å³ïÇÅÁ ÷á÷áË»Éáõ, Ñ»ï³Ó·»Éáõ ¨ å³ïÅÇó ³½³ï»Éáõ Ù³uÇÝ ÙÇçÝáñ¹áõÃÛáõÝÝ»ñ | T19: =J19+K19 -> 0 | U19: =F19+K19+L19 -> 0 | V19: =P19 -> 0 | W19: =L19+M19+N19+O19 -> 0
A20: 3 | B20: Ñ³ñÏ³¹Çñ µáõÅÙ³Ý ï»ë³ÏÇ ÷á÷áËáõÃÛ³Ý Ù³ëÇÝ ÙÇçÝáñ¹áõÃÛáõÝÝ»ñ | T20: =J20+K20 -> 0 | U20: =F20+K20+L20 -> 0 | V20: =P20 -> 0 | W20: =L20+M20+N20+O20 -> 0
A21: 4 | B21: ³ÛÉ ÙÇçÝáñ¹áõÃÛáõÝÝ»ñ | T21: =J21+K21 -> 0 | U21: =F21+K21+L21 -> 0 | V21: =P21 -> 0 | W21: =L21+M21+N21+O21 -> 0
A22: 5 | B22: ¹³ï³Ï³Ý Ñ³ÝÓÝ³ñ³ñáõÃÛáõÝÝ»ñ | E22: 2 | H22: 1 | K22: 1 | L22: 1 | T22: =J22+K22 -> 1 | U22: =F22+K22+L22 -> 2 | V22: =P22 -> 0 | W22: =L22+M22+N22+O22 -> 1
A23: ÀÜ¸²ØºÜÀ | D23: =D7+D8+D9+D10+D11+D12+D13+D14+D15+D16+D18+D19+D20+D21+D22 -> 0 | E23: =E7+E8+E9+E10+E11+E12+E13+E14+E15+E16+E18+E19+E20+E21+E22 -> 23 | F23: =F7+F8+F9+F10+F11+F12+F13+F14+F15+F16+F18+F19+F20+F21+F22 -> 0 | G23: =G7+G8+G9+G10+G11+G12+G13+G14+G15+G16+G18+G19+G20+G21+G22 -> 0 | H23: =H7+H8+H9+H10+H11+H12+H13+H14+H15+H16+H18+H19+H20+H21+H22 -> 22 | I23: =I7+I8+I9+I10+I11+I12+I13+I14+I15+I16+I18+I19+I20+I21+I22 -> 0 | J23: =J7+J8+J9+J10+J11+J12+J13+J14+J15+J16+J18+J19+J20+J21+J22 -> 0 | K23: =K7+K8+K9+K10+K11+K12+K13+K14+K15+K16+K18+K19+K20+K21+K22 -> 22 | ... R23: =R7+R8+R9+R10+R11+R12+R13+R14+R15+R16+R18+R19+R20+R21+R22 -> 0 | T23: =SUM(T7:T16,T18:T22) -> 22 | U23: =F23+K23+L23 -> 23 | V23: =SUM(V7:V16,V18:V22) -> 21 | W23: =SUM(W7:W16,W18:W22) -> 22

Sheet Գ. Խաչատրյան
A1: 2015Ã. | D1: Ð²ÞìºîìàôÂÚàôÜ | P1: Ð³í»Éí³Í Ð³Û³ëï³ÝÇ Ð³Ýñ³å»ïáõÃÛ³Ý ¸³ï³ñ³ÝÝ»ñÇ Ý³Ë³·³ÑÝ»ñÇ ËáñÑñ¹Ç 01.02.2016Ã. ÃÇí 11È áñáßÙ³Ý
A2: ØÇÝã¹³ï³Ï³Ý í³ñáõÛÃÇ ÝÏ³ïÙ³Ùµ ¹³ï³Ï³Ý í»ñ³ÑëÏáÕáõÃÛ³ÝÁ, ¹³ï³Ï³Ý ³Ïï»ñÇ ¨ ¹³ï³Ï³Ý Ñ³ÝÓÝ³ñ³ñáõÃÛáõÝÝ»ñÇ Ï³ï³ñÙ³Ý Ñ»ï Ï³åí³Í ÙÇçÝáñ¹áõÃÛáõÝÝ»ñÇ í»ñ³µ»ñÛ³É ¹³ï³Ï³Ý ·áñÍ»ñáí ºñ¨³Ý ù³Õ³ùÇ ¾ñ»µáõÝÇ ¨ Üáõµ³ñ³ß»Ý í³ñã³Ï³Ý ßñç³ÝÝ»ñÇ ÁÝ¹Ñ³Ýáõñ Çñ³í³ëáõÃÛ³Ý ³é³çÇÝ ³ïÛ³ÝÇ ¹³ï³ñ³ÝÇ ¹³ï³íáñ Գ.Խաչատրյանի ·áñÍáõÝ»áõÃÛ³Ý í»ñ³µ»ñÛ³É
A3: êïáõ·Çã Ñ³í³ë³ñáõÙ` 1+2=3+8+9, 8=4+5+6+7, | D3: Ð³ßí»ïáõ Å³Ù³Ý³Ï³Ñ³ïí³ÍÇ ëÏ½µáõÙ Ý³Ëáñ¹ Ñ³ßí»ïáõ Å³Ù³Ý³Ï³Ñ³ïí³ÍÇó ÷áË³Ýóí³Í ·áñÍ»ñÇ ÁÝ¹Ñ³Ýáõñ ÃÇíÁ | E3: Ð³ßí»ïáõ Å³Ù³Ý³Ï³Ñ³ïí³ÍáõÙ ëï³óí³Í ·áñÍ»ñÇ ÁÝ¹Ñ³Ýáõñ ÃÇíÁ | F3: öáË³Ýóí»É ¿ ³ÛÉ ¹³ï³íáñÇ Ï³Ù ³ÛÉ ¹³ï³ñ³Ý (Ï³½ÙÇ ÷á÷áËáõÃÛáõÝ, ÁÝ¹¹³ïáõÃÛáõÝ) | G3: Ð³ßí»ïáõ Å³Ù³Ý³Ï³Ñ³ïí³ÍáõÙ ³í³ñïí³Í ·áñÍ»ñÇ ÁÝ¹Ñ³Ýáõñ ÃÇíÁ | L3: Ð³ßí»ïáõ Å³Ù³Ý³Ï³Ñ³ïí³ÍáõÙ ³Ý³í³ñï ·áñÍ»ñÇ ÁÝ¹Ñ³Ýáõñ ÃÇíÁ | M3: ØÇçÝáñ¹áõÃÛáõÝÝ»ñáí Ï³Û³óí³Í ¹³ï³Ï³Ý ³Ïï»ñÇó µáÕáù³ñÏí³ÍÝ»ñÇ ù³Ý³ÏÁ | O3: ²Ý³í³ñï µáÕáùÝ»ñ | P3: ØÇçÝáñ¹áõÃÛáõÝÝ»ñáí Ï³Û³óí³Í ¨ µáÕáù³ñÏí³Í ¹³ï³Ï³Ý ³Ïï»ñÇó µ»Ï³Ýí³ÍÝ»ñÇ ù³Ý³ÏÁ | R3: ÙÇçÝáñ¹áõÃÛáõÝÝ»ñáí Ï³Û³óí³Í ¨ µáÕáù³ñÏí³Í ¹³ï³Ï³Ý ³Ïï»ñÇó ³Ý÷á÷áË ÃáÕÝí³ÍÝ»ñÇ ù³Ý³ÏÁ
G4: Ù»ñÅí»É ¿ | H4: µ³í³ñ³ñí»É ¿ | I4: µ³í³ñ³ñí»É ¿ Ù³ëÝ³ÏÇ | J4: ÃáÕÝí»É ¿ ³é³Ýó ùÝÝáõÃÛ³Ý | K4: ÀÝ¹³Ù»ÝÁ
M5: Ý³Ëáñ¹ ï³ñÇÝ»ñÇÝ Ï³Û³óí³Í ³Ïï»ñÇ ¹»Ù | N5: Ñ³ßí»ïáõ Å³Ù³Ý³Ï³ßñç³ÝáõÙ Ï³Û³óí³Í ³Ïï»ñÇ ¹»Ù | P5: Ý³Ëáñ¹ ï³ñÇÝ»ñÇÝ Ï³Û³óí³Í ³Ïï»ñÇ µ»Ï³ÝáõÙÝ»ñÁ | Q5: Ñ³ßí»ïáõ Å³Ù³Ý³Ï³ßñç³ÝáõÙ Ï³Û³óí³Í ³Ïï»ñÇ µ»Ï³ÝáõÙÝ»ñÁ
A6: 1. ØÇÝã¹³ï³Ï³Ý í³ñáõÛÃÇ ÝÏ³ïÙ³Ùµ ¹³ï³Ï³Ý í»ñ³ÑëÏáÕáõÃÛ³Ý áÉáñï | D6: 1 | E6: 2 | F6: 3 | G6: 4 | H6: 5 | I6: 6 | J6: 7 | K6: 8 | L6: 9 | M6: 10 | N6: 11 | O6: 12 | P6: 13 | Q6: 14 | R6: 15 | T6: 1+2=3+8+9 | V6: 8=4+5+6+7
A7: 1 | B7: Ï³É³ÝùÁ áñå»ë Ë³÷³ÝÙ³Ý ÙÇçáó ÏÇñ³é»Éáõ Ù³ëÇÝ ÙÇçÝáñ¹áõÃÛáõÝÝ»ñ | T7: =D7+E7 -> 0 | U7: =F7+K7+L7 -> 0 | V7: =K7 -> 0 | W7: =G7+H7+I7+J7 -> 0
A8: 2 | B8: Ï³É³ÝùÇ Å³ÙÏ»ïÁ »ñÏ³ñ³óÝ»Éáõ Ù³ëÇÝ ÙÇçÝáñ¹áõÃÛáõÝÝ»ñ | T8: =D8+E8 -> 0 | U8: =F8+K8+L8 -> 0 | V8: =K8 -> 0 | W8: =G8+H8+I8+J8 -> 0
A9: 3 | B9: Ï³É³ÝùÇ í»ñ³Ñ³ëï³ïÙ³Ý Ù³ëÇÝ ÙÇçÝáñ¹áõÃÛáõÝÝ»ñ | T9: =D9+E9 -> 0 | U9: =F9+K9+L9 -> 0 | V9: =K9 -> 0 | W9: =G9+H9+I9+J9 -> 0
A10: 4 | B10: ·ñ³íÁ áñå»ë Ï³É³Ý³íáñÙ³Ý ³ÛÉÁÝïñ³Ýù³ÛÇÝ Ë³÷³ÝÙ³Ý ÙÇçáó ÏÇñ³é»Éáõ Ù³ëÇÝ ÙÇçÝáñ¹áõÃÛáõÝÝ»ñ | T10: =D10+E10 -> 0 | U10: =F10+K10+L10 -> 0 | V10: =K10 -> 0 | W10: =G10+H10+I10+J10 -> 0
A11: 5 | B11: Ëáõ½³ñÏáõÃÛ³Ý Ï³ï³ñÙ³Ý Ù³ëÇÝ ÙÇçÝáñ¹áõÃÛáõÝÝ»ñ | T11: =D11+E11 -> 0 | U11: =F11+K11+L11 -> 0 | V11: =K11 -> 0 | W11: =G11+H11+I11+J11 -> 0
A12: 6 | B12: µ³ÝÏ³ÛÇÝ, ³å³Ñáí³·ñ³Ï³Ý, Ýáï³ñ³Ï³Ý ·³ÕïÝÇù Ï³½ÙáÕ ï»Õ»ÏáõÃÛáõÝÝ»ñÇ ëï³óÙ³Ý Ñ³Ù³ñ Ëáõ½³ñÏáõÃÛ³Ý Ï³Ù ³é·ñ³íÙ³Ý Ï³ï³ñÙ³Ý Ù³ëÇÝ ÙÇçÝáñ¹áõÃÛáõÝÝ»ñ | T12: =D12+E12 -> 0 | U12: =F12+K12+L12 -> 0 | V12: =K12 -> 0 | W12: =G12+H12+I12+J12 -> 0
A13: 7 | B13: Ý³Ù³Ï³·ñáõÃÛ³Ý, Ñ»é³·ñ³Ï³Ý, ÷áuï³ÛÇÝ Ñ³Õáñ¹áõÙÝ»ñÇ ÑëÏáÕáõÃÛ³Ý Ù³ëÇÝ ÙÇçÝáñ¹áõÃÛáõÝÝ»ñ | T13: =D13+E13 -> 0 | U13: =F13+K13+L13 -> 0 | V13: =K13 -> 0 | W13: =G13+H13+I13+J13 -> 0
A14: 8 | B14: Ñ»é³Ëáu³ÛÇÝ Ï³Ù Ï³åÇ ³ÛÉ ÙÇçáóÝ»ñáí ï³ñíáÕ Ëáu³ÏóáõÃÛáõÝÝ»ñÇ ÉuÙ³Ý ¨ Ó³ÛÝ³·ñ³éÙ³Ý Ù³ëÇÝ ÙÇçÝáñ¹áõÃÛáõÝÝ»ñ | T14: =D14+E14 -> 0 | U14: =F14+K14+L14 -> 0 | V14: =K14 -> 0 | W14: =G14+H14+I14+J14 -> 0
A15: 9 | B15: Ñ»é³ËáëÝ»ñÇ Ùáõïù³ÛÇÝ ¨ »Éù³ÛÇÝ í»ñÍ³ÝÙ³Ý ÃáõÛÉïíáõÃÛáõÝ ëï³Ý³Éáõ Ù³ëÇÝ ÙÇçÝáñ¹áõÃÛáõÝÝ»ñ | T15: =D15+E15 -> 0 | U15: =F15+K15+L15 -> 0 | V15: =K15 -> 0 | W15: =G15+H15+I15+J15 -> 0
A16: 10 | B16: Ñ»ï³ùÝÝáõÃÛ³Ý Ù³ñÙÝÇ ³ßË³ïáÕÇ, ùÝÝÇãÇ, ¹³ï³Ë³½Ç oå»ñ³ïÇí-Ñ»ï³Ëáõ½³Ï³Ý ·áñÍáÕáõÃÛáõÝÝ»ñ Çñ³Ï³Ý³óÝáÕ Ù³ñÙÇÝÝ»ñÇ ³ÝoñÇÝ³Ï³Ý ¨ ³ÝÑÇÙÝ áñáßáõÙÝ»ñÇ ¨ ·áñÍáÕáõÃÛáõÝÝ»ñÇ ¹»Ù µáÕáùÝ»ñ | T16: =D16+E16 -> 0 | U16: =F16+K16+L16 -> 0 | V16: =K16 -> 0 | W16: =G16+H16+I16+J16 -> 0
A17: 2. ¸³ï³Ï³Ý ³Ïï»ñÇ ¨ ¹³ï³Ï³Ý Ñ³ÝÓÝ³ñ³ñáõÃÛáõÝÝ»ñÇ Ï³ï³ñÙ³Ý Ñ»ï Ï³åí³Í Ñ³ñó»ñÇ ÉáõÍÙ³Ý áÉáñï
A18: 1 | B18: å³ïÅÇó å³ÛÙ³Ý³Ï³Ý í³Õ³Å³ÙÏ»ï ³½³ï»Éáõ Ù³ëÇÝ ÙÇçÝáñ¹áõÃÛáõÝÝ»ñ | T18: =J18+K18 -> 0 | U18: =F18+K18+L18 -> 0 | V18: =P18 -> 0 | W18: =L18+M18+N18+O18 -> 0
A19: 2 | B19: å³ïÇÅÁ ÷á÷áË»Éáõ, Ñ»ï³Ó·»Éáõ ¨ å³ïÅÇó ³½³ï»Éáõ Ù³uÇÝ ÙÇçÝáñ¹áõÃÛáõÝÝ»ñ | T19: =J19+K19 -> 0 | U19: =F19+K19+L19 -> 0 | V19: =P19 -> 0 | W19: =L19+M19+N19+O19 -> 0
A20: 3 | B20: Ñ³ñÏ³¹Çñ µáõÅÙ³Ý ï»ë³ÏÇ ÷á÷áËáõÃÛ³Ý Ù³ëÇÝ ÙÇçÝáñ¹áõÃÛáõÝÝ»ñ | T20: =J20+K20 -> 0 | U20: =F20+K20+L20 -> 0 | V20: =P20 -> 0 | W20: =L20+M20+N20+O20 -> 0
A21: 4 | B21: ³ÛÉ ÙÇçÝáñ¹áõÃÛáõÝÝ»ñ | E21: 1 | H21: 1 | K21: 1 | T21: =J21+K21 -> 1 | U21: =F21+K21+L21 -> 1 | V21: =P21 -> 0 | W21: =L21+M21+N21+O21 -> 0
A22: 5 | B22: ¹³ï³Ï³Ý Ñ³ÝÓÝ³ñ³ñáõÃÛáõÝÝ»ñ | E22: 1 | H22: 1 | K22: 1 | T22: =J22+K22 -> 1 | U22: =F22+K22+L22 -> 1 | V22: =P22 -> 0 | W22: =L22+M22+N22+O22 -> 0
A23: ÀÜ¸²ØºÜÀ | D23: =D7+D8+D9+D10+D11+D12+D13+D14+D15+D16+D18+D19+D20+D21+D22 -> 0 | E23: =E7+E8+E9+E10+E11+E12+E13+E14+E15+E16+E18+E19+E20+E21+E22 -> 2 | F23: =F7+F8+F9+F10+F11+F12+F13+F14+F15+F16+F18+F19+F20+F21+F22 -> 0 | G23: =G7+G8+G9+G10+G11+G12+G13+G14+G15+G16+G18+G19+G20+G21+G22 -> 0 | H23: =H7+H8+H9+H10+H11+H12+H13+H14+H15+H16+H18+H19+H20+H21+H22 -> 2 | I23: =I7+I8+I9+I10+I11+I12+I13+I14+I15+I16+I18+I19+I20+I21+I22 -> 0 | J23: =J7+J8+J9+J10+J11+J12+J13+J14+J15+J16+J18+J19+J20+J21+J22 -> 0 | K23: =K7+K8+K9+K10+K11+K12+K13+K14+K15+K16+K18+K19+K20+K21+K22 -> 2 | ... R23: =R7+R8+R9+R10+R11+R12+R13+R14+R15+R16+R18+R19+R20+R21+R22 -> 0 | T23: =SUM(T7:T16,T18:T22) -> 2 | U23: =F23+K23+L23 -> 2 | V23: =SUM(V7:V16,V18:V22) -> 0 | W23: =SUM(W7:W16,W18:W22) -> 0

Sheet Լ. Գրիգորյան
A1: 2015Ã. | D1: Ð²ÞìºîìàôÂÚàôÜ | P1: Ð³í»Éí³Í Ð³Û³ëï³ÝÇ Ð³Ýñ³å»ïáõÃÛ³Ý ¸³ï³ñ³ÝÝ»ñÇ Ý³Ë³·³ÑÝ»ñÇ ËáñÑñ¹Ç 01.02.2016Ã. ÃÇí 11È áñáßÙ³Ý
A2: ØÇÝã¹³ï³Ï³Ý í³ñáõÛÃÇ ÝÏ³ïÙ³Ùµ ¹³ï³Ï³Ý í»ñ³ÑëÏáÕáõÃÛ³ÝÁ, ¹³ï³Ï³Ý ³Ïï»ñÇ ¨ ¹³ï³Ï³Ý Ñ³ÝÓÝ³ñ³ñáõÃÛáõÝÝ»ñÇ Ï³ï³ñÙ³Ý Ñ»ï Ï³åí³Í ÙÇçÝáñ¹áõÃÛáõÝÝ»ñÇ í»ñ³µ»ñÛ³É ¹³ï³Ï³Ý ·áñÍ»ñáí ºñ¨³Ý ù³Õ³ùÇ ¾ñ»µáõÝÇ ¨ Üáõµ³ñ³ß»Ý í³ñã³Ï³Ý ßñç³ÝÝ»ñÇ ÁÝ¹Ñ³Ýáõñ Çñ³í³ëáõÃÛ³Ý ³é³çÇÝ ³ïÛ³ÝÇ ¹³ï³ñ³ÝÇ ¹³ï³íáñ Լ.Գրիգորյանի ·áñÍáõÝ»áõÃÛ³Ý í»ñ³µ»ñÛ³É
A3: êïáõ·Çã Ñ³í³ë³ñáõÙ` 1+2=3+8+9, 8=4+5+6+7, | D3: Ð³ßí»ïáõ Å³Ù³Ý³Ï³Ñ³ïí³ÍÇ ëÏ½µáõÙ Ý³Ëáñ¹ Ñ³ßí»ïáõ Å³Ù³Ý³Ï³Ñ³ïí³ÍÇó ÷áË³Ýóí³Í ·áñÍ»ñÇ ÁÝ¹Ñ³Ýáõñ ÃÇíÁ | E3: Ð³ßí»ïáõ Å³Ù³Ý³Ï³Ñ³ïí³ÍáõÙ ëï³óí³Í ·áñÍ»ñÇ ÁÝ¹Ñ³Ýáõñ ÃÇíÁ | F3: öáË³Ýóí»É ¿ ³ÛÉ ¹³ï³íáñÇ Ï³Ù ³ÛÉ ¹³ï³ñ³Ý (Ï³½ÙÇ ÷á÷áËáõÃÛáõÝ, ÁÝ¹¹³ïáõÃÛáõÝ) | G3: Ð³ßí»ïáõ Å³Ù³Ý³Ï³Ñ³ïí³ÍáõÙ ³í³ñïí³Í ·áñÍ»ñÇ ÁÝ¹Ñ³Ýáõñ ÃÇíÁ | L3: Ð³ßí»ïáõ Å³Ù³Ý³Ï³Ñ³ïí³ÍáõÙ ³Ý³í³ñï ·áñÍ»ñÇ ÁÝ¹Ñ³Ýáõñ ÃÇíÁ | M3: ØÇçÝáñ¹áõÃÛáõÝÝ»ñáí Ï³Û³óí³Í ¹³ï³Ï³Ý ³Ïï»ñÇó µáÕáù³ñÏí³ÍÝ»ñÇ ù³Ý³ÏÁ | O3: ²Ý³í³ñï µáÕáùÝ»ñ | P3: ØÇçÝáñ¹áõÃÛáõÝÝ»ñáí Ï³Û³óí³Í ¨ µáÕáù³ñÏí³Í ¹³ï³Ï³Ý ³Ïï»ñÇó µ»Ï³Ýí³ÍÝ»ñÇ ù³Ý³ÏÁ | R3: ÙÇçÝáñ¹áõÃÛáõÝÝ»ñáí Ï³Û³óí³Í ¨ µáÕáù³ñÏí³Í ¹³ï³Ï³Ý ³Ïï»ñÇó ³Ý÷á÷áË ÃáÕÝí³ÍÝ»ñÇ ù³Ý³ÏÁ
G4: Ù»ñÅí»É ¿ | H4: µ³í³ñ³ñí»É ¿ | I4: µ³í³ñ³ñí»É ¿ Ù³ëÝ³ÏÇ | J4: ÃáÕÝí»É ¿ ³é³Ýó ùÝÝáõÃÛ³Ý | K4: ÀÝ¹³Ù»ÝÁ
M5: Ý³Ëáñ¹ ï³ñÇÝ»ñÇÝ Ï³Û³óí³Í ³Ïï»ñÇ ¹»Ù | N5: Ñ³ßí»ïáõ Å³Ù³Ý³Ï³ßñç³ÝáõÙ Ï³Û³óí³Í ³Ïï»ñÇ ¹»Ù | P5: Ý³Ëáñ¹ ï³ñÇÝ»ñÇÝ Ï³Û³óí³Í ³Ïï»ñÇ µ»Ï³ÝáõÙÝ»ñÁ | Q5: Ñ³ßí»ïáõ Å³Ù³Ý³Ï³ßñç³ÝáõÙ Ï³Û³óí³Í ³Ïï»ñÇ µ»Ï³ÝáõÙÝ»ñÁ
A6: 1. ØÇÝã¹³ï³Ï³Ý í³ñáõÛÃÇ ÝÏ³ïÙ³Ùµ ¹³ï³Ï³Ý í»ñ³ÑëÏáÕáõÃÛ³Ý áÉáñï | D6: 1 | E6: 2 | F6: 3 | G6: 4 | H6: 5 | I6: 6 | J6: 7 | K6: 8 | L6: 9 | M6: 10 | N6: 11 | O6: 12 | P6: 13 | Q6: 14 | R6: 15 | T6: 1+2=3+8+9 | V6: 8=4+5+6+7
A7: 1 | B7: Ï³É³ÝùÁ áñå»ë Ë³÷³ÝÙ³Ý ÙÇçáó ÏÇñ³é»Éáõ Ù³ëÇÝ ÙÇçÝáñ¹áõÃÛáõÝÝ»ñ | T7: =D7+E7 -> 0 | U7: =F7+K7+L7 -> 0 | V7: =K7 -> 0 | W7: =G7+H7+I7+J7 -> 0
A8: 2 | B8: Ï³É³ÝùÇ Å³ÙÏ»ïÁ »ñÏ³ñ³óÝ»Éáõ Ù³ëÇÝ ÙÇçÝáñ¹áõÃÛáõÝÝ»ñ | T8: =D8+E8 -> 0 | U8: =F8+K8+L8 -> 0 | V8: =K8 -> 0 | W8: =G8+H8+I8+J8 -> 0
A9: 3 | B9: Ï³É³ÝùÇ í»ñ³Ñ³ëï³ïÙ³Ý Ù³ëÇÝ ÙÇçÝáñ¹áõÃÛáõÝÝ»ñ | T9: =D9+E9 -> 0 | U9: =F9+K9+L9 -> 0 | V9: =K9 -> 0 | W9: =G9+H9+I9+J9 -> 0
A10: 4 | B10: ·ñ³íÁ áñå»ë Ï³É³Ý³íáñÙ³Ý ³ÛÉÁÝïñ³Ýù³ÛÇÝ Ë³÷³ÝÙ³Ý ÙÇçáó ÏÇñ³é»Éáõ Ù³ëÇÝ ÙÇçÝáñ¹áõÃÛáõÝÝ»ñ | T10: =D10+E10 -> 0 | U10: =F10+K10+L10 -> 0 | V10: =K10 -> 0 | W10: =G10+H10+I10+J10 -> 0
A11: 5 | B11: Ëáõ½³ñÏáõÃÛ³Ý Ï³ï³ñÙ³Ý Ù³ëÇÝ ÙÇçÝáñ¹áõÃÛáõÝÝ»ñ | E11: 4 | H11: 4 | K11: 4 | T11: =D11+E11 -> 4 | U11: =F11+K11+L11 -> 4 | V11: =K11 -> 4 | W11: =G11+H11+I11+J11 -> 4
A12: 6 | B12: µ³ÝÏ³ÛÇÝ, ³å³Ñáí³·ñ³Ï³Ý, Ýáï³ñ³Ï³Ý ·³ÕïÝÇù Ï³½ÙáÕ ï»Õ»ÏáõÃÛáõÝÝ»ñÇ ëï³óÙ³Ý Ñ³Ù³ñ Ëáõ½³ñÏáõÃÛ³Ý Ï³Ù ³é·ñ³íÙ³Ý Ï³ï³ñÙ³Ý Ù³ëÇÝ ÙÇçÝáñ¹áõÃÛáõÝÝ»ñ | T12: =D12+E12 -> 0 | U12: =F12+K12+L12 -> 0 | V12: =K12 -> 0 | W12: =G12+H12+I12+J12 -> 0
A13: 7 | B13: Ý³Ù³Ï³·ñáõÃÛ³Ý, Ñ»é³·ñ³Ï³Ý, ÷áuï³ÛÇÝ Ñ³Õáñ¹áõÙÝ»ñÇ ÑëÏáÕáõÃÛ³Ý Ù³ëÇÝ ÙÇçÝáñ¹áõÃÛáõÝÝ»ñ | T13: =D13+E13 -> 0 | U13: =F13+K13+L13 -> 0 | V13: =K13 -> 0 | W13: =G13+H13+I13+J13 -> 0
A14: 8 | B14: Ñ»é³Ëáu³ÛÇÝ Ï³Ù Ï³åÇ ³ÛÉ ÙÇçáóÝ»ñáí ï³ñíáÕ Ëáu³ÏóáõÃÛáõÝÝ»ñÇ ÉuÙ³Ý ¨ Ó³ÛÝ³·ñ³éÙ³Ý Ù³ëÇÝ ÙÇçÝáñ¹áõÃÛáõÝÝ»ñ | T14: =D14+E14 -> 0 | U14: =F14+K14+L14 -> 0 | V14: =K14 -> 0 | W14: =G14+H14+I14+J14 -> 0
A15: 9 | B15: Ñ»é³ËáëÝ»ñÇ Ùáõïù³ÛÇÝ ¨ »Éù³ÛÇÝ í»ñÍ³ÝÙ³Ý ÃáõÛÉïíáõÃÛáõÝ ëï³Ý³Éáõ Ù³ëÇÝ ÙÇçÝáñ¹áõÃÛáõÝÝ»ñ | E15: 8 | H15: 8 | K15: 8 | T15: =D15+E15 -> 8 | U15: =F15+K15+L15 -> 8 | V15: =K15 -> 8 | W15: =G15+H15+I15+J15 -> 8
A16: 10 | B16: Ñ»ï³ùÝÝáõÃÛ³Ý Ù³ñÙÝÇ ³ßË³ïáÕÇ, ùÝÝÇãÇ, ¹³ï³Ë³½Ç oå»ñ³ïÇí-Ñ»ï³Ëáõ½³Ï³Ý ·áñÍáÕáõÃÛáõÝÝ»ñ Çñ³Ï³Ý³óÝáÕ Ù³ñÙÇÝÝ»ñÇ ³ÝoñÇÝ³Ï³Ý ¨ ³ÝÑÇÙÝ áñáßáõÙÝ»ñÇ ¨ ·áñÍáÕáõÃÛáõÝÝ»ñÇ ¹»Ù µáÕáùÝ»ñ | T16: =D16+E16 -> 0 | U16: =F16+K16+L16 -> 0 | V16: =K16 -> 0 | W16: =G16+H16+I16+J16 -> 0
A17: 2. ¸³ï³Ï³Ý ³Ïï»ñÇ ¨ ¹³ï³Ï³Ý Ñ³ÝÓÝ³ñ³ñáõÃÛáõÝÝ»ñÇ Ï³ï³ñÙ³Ý Ñ»ï Ï³åí³Í Ñ³ñó»ñÇ ÉáõÍÙ³Ý áÉáñï
A18: 1 | B18: å³ïÅÇó å³ÛÙ³Ý³Ï³Ý í³Õ³Å³ÙÏ»ï ³½³ï»Éáõ Ù³ëÇÝ ÙÇçÝáñ¹áõÃÛáõÝÝ»ñ | T18: =J18+K18 -> 0 | U18: =F18+K18+L18 -> 0 | V18: =P18 -> 0 | W18: =L18+M18+N18+O18 -> 0
A19: 2 | B19: å³ïÇÅÁ ÷á÷áË»Éáõ, Ñ»ï³Ó·»Éáõ ¨ å³ïÅÇó ³½³ï»Éáõ Ù³uÇÝ ÙÇçÝáñ¹áõÃÛáõÝÝ»ñ | T19: =J19+K19 -> 0 | U19: =F19+K19+L19 -> 0 | V19: =P19 -> 0 | W19: =L19+M19+N19+O19 -> 0
A20: 3 | B20: Ñ³ñÏ³¹Çñ µáõÅÙ³Ý ï»ë³ÏÇ ÷á÷áËáõÃÛ³Ý Ù³ëÇÝ ÙÇçÝáñ¹áõÃÛáõÝÝ»ñ | T20: =J20+K20 -> 0 | U20: =F20+K20+L20 -> 0 | V20: =P20 -> 0 | W20: =L20+M20+N20+O20 -> 0
A21: 4 | B21: ³ÛÉ ÙÇçÝáñ¹áõÃÛáõÝÝ»ñ | E21: 2 | H21: 1 | J21: 1 | K21: 2 | N21: 1 | O21: 1 | T21: =J21+K21 -> 3 | U21: =F21+K21+L21 -> 2 | V21: =P21 -> 0 | W21: =L21+M21+N21+O21 -> 2
A22: 5 | B22: ¹³ï³Ï³Ý Ñ³ÝÓÝ³ñ³ñáõÃÛáõÝÝ»ñ | D22: 2 | E22: 1 | H22: 1 | K22: 1 | L22: 2 | T22: =J22+K22 -> 1 | U22: =F22+K22+L22 -> 3 | V22: =P22 -> 0 | W22: =L22+M22+N22+O22 -> 2
A23: ÀÜ¸²ØºÜÀ | D23: =D7+D8+D9+D10+D11+D12+D13+D14+D15+D16+D18+D19+D20+D21+D22 -> 2 | E23: =E7+E8+E9+E10+E11+E12+E13+E14+E15+E16+E18+E19+E20+E21+E22 -> 15 | F23: =F7+F8+F9+F10+F11+F12+F13+F14+F15+F16+F18+F19+F20+F21+F22 -> 0 | G23: =G7+G8+G9+G10+G11+G12+G13+G14+G15+G16+G18+G19+G20+G21+G22 -> 0 | H23: =H7+H8+H9+H10+H11+H12+H13+H14+H15+H16+H18+H19+H20+H21+H22 -> 14 | I23: =I7+I8+I9+I10+I11+I12+I13+I14+I15+I16+I18+I19+I20+I21+I22 -> 0 | J23: =J7+J8+J9+J10+J11+J12+J13+J14+J15+J16+J18+J19+J20+J21+J22 -> 1 | K23: =K7+K8+K9+K10+K11+K12+K13+K14+K15+K16+K18+K19+K20+K21+K22 -> 15 | ... R23: =R7+R8+R9+R10+R11+R12+R13+R14+R15+R16+R18+R19+R20+R21+R22 -> 0 | T23: =SUM(T7:T16,T18:T22) -> 16 | U23: =F23+K23+L23 -> 17 | V23: =SUM(V7:V16,V18:V22) -> 12 | W23: =SUM(W7:W16,W18:W22) -> 16
