Workbook

Sheet AJAPNYAK
A1: ø²Ô²ø²òÆ²Î²Ü ¶àðÌºðÆ øÜÜàôÂÚ²Ü ìºð²´ºðÚ²È
A2: ²ç³÷ÝÛ³Ï ¨ ¸³íÃ³ß»Ý í³ñã³Ï³Ý ßñç³ÝÝ»ñÇ ÁÝ¹Ñ³Ýáõñ Çñ³í³ëáõÃÛ³Ý ¹³ï³ñ³Ý 2010 Ã. ï³ñ»Ï³Ý
A5: êïáõ·Çã Ñ³í³ë³ñáõÙÝ»ñª 2=3+4+5, 1+3=15+16+21, 6=7+8+9+10, 10=11+12+13, 15=6+14 | F5: ²Ý³í³ñï ·áñÍ»ñÇ ÙÝ³óáñ¹Á Ñ³ßí»ïáõ Å³Ù³Ý³Ï³ßñç³ÝÇ ëÏ½µáõÙ | G5: êï³óí³Í Ñ³Ûó»ñÇ, ¹ÇÙáõÙÝ»ñÇ (·áñÍ»ñ) ù³Ý³ÏÁ | K5: ²í³ñïí»É »Ý ·áñÍ»ñ Ñ³ßí»ïáõ Å³Ù³Ý³Ï³ßñç³ÝáõÙ | U5: ¶áñÍÝ áõÕ³ñÏí»É ¿ Áëï ÁÝ¹¹³ïáõÃÛ³Ý | V5: Øï»É »Ý ûñÇÝ³Ï³Ý áõÅÇ Ù»ç | W5: ´áÕáù³ñÏí»É »Ý í»ñ³ùÝÝÇã ¹³ï³ñ³Ý | Z5: ²Ý³í³ñï ·áñÍ»ñÇ ÙÝ³óáñ¹Á Ñ³ßí»ïáõ Å³Ù³Ý³Ï³ßñç³ÝÇ í»ñçáõÙ | AA5: ²Û¹ ÃíáõÙª Ï³ë»óí³Í
W6: Ï³Û³óí³Í í×ÇéÝ»ñÇ ¹»Ù | X6: ³é³Ýó ùÝÝáõÃÛ³Ý ÃáÕÝ»Éáõ Ù³ëÇÝ áñáßáõÙÝ»ñÇ ¹»Ù | Y6: ÙÇç³ÝÏÛ³É ¹³ï³Ï³Ý ³Ïï»ñÇ ¹»Ù
G8: ÀÝ¹³Ù»ÝÁ | H8: ²Û¹ ÃíáõÙª ÁÝ¹áõÝí»É ¿ í³ñáõÛÃ | I8: ²Û¹ ÃíáõÙª í»ñ³¹³ñÓí»É ¿ | J8: ²Û¹ ÃíáõÙª Ñ³Ûó»ñÇ (¹ÇÙáõÙÝ»ñÇ) ÁÝ¹áõÝáõÙÁ Ù»ñÅí»É ¿ | K8: ÀÝ¹³Ù»ÝÁ ³í³ñïí»É »Ý ·áñÍ»ñ í×éÇ Ï³Û³óáõÙáí | L8: ²Û¹ ÃíáõÙª Ñ³ÛóÇ µ³í³ñ³ñÙ³Ùµ | M8: ²Û¹ ÃíáõÙª Ñ³ÛóÇ Ù³ëÝ³ÏÇ µ³í³ñ³ñÙ³Ùµ | N8: ²Û¹ ÃíáõÙª Ñ³ÛóÇ Ù»ñÅÙ³Ùµ | O8: ²Û¹ ÃíáõÙª Ï³ñ×í»É »Ý | S8: Ð³ÛóÁ ÃáÕÝí»É ¿ ³é³Ýó ùÝÝáõÃÛ³Ý | T8: ÀÝ¹³Ù»ÝÝ ³í³ñïí»É »Ý ·áñÍ»ñ
O11: ÀÝ¹³Ù»ÝÁ Ï³ñ×í»É »Ý | P11: ²Û¹ ÃíáõÙª Ñ³ëï³ïí»É ¿ ÏÝùí³Í Ñ³ßïáõÃÛ³Ý Ñ³Ù³Ó³ÛÝáõÃÛáõÝÁ | Q11: ²Û¹ ÃíáõÙª Ñ³ÛóÇó, ¹ÇÙáõÙÇó Ññ³Å³ñí»Éáõ ÑÇÙùáí | R11: ²Û¹ ÃíáõÙª ³ÛÉ ÑÇÙùáí
A19: Æñ³í³Ñ³ñ³µ»ñáõÃÛáõÝÝ»ñÇ ï»ë³ÏÝ»ñÁ | F19: 1 | G19: 2 | H19: 3 | I19: 4 | J19: 5 | K19: 6 | L19: 7 | M19: 8 | N19: 9 | O19: 10 | P19: 11 | Q19: 12 | R19: 13 | S19: 14 | T19: 15 | U19: 16 | V19: 17 | W19: 18 | X19: 19 | Y19: 20 | Z19: 21 | AA19: 22
A20: 1 | C20: ¶áõÛù³ÛÇÝ í»×»ñ | F20: 0 | G20: 0 | H20: 0 | I20: 0 | J20: 0 | K20: 0 | L20: 0 | M20: 0 | N20: 0 | O20: 0 | P20: 0 | Q20: 0 | R20: 0 | S20: 0 | T20: 0 | U20: 0 | V20: 0 | W20: 0 | X20: 0 | Y20: 0 | Z20: 0 | AA20: 0
A21: 40179 | C21: ¶áõÛùÇ ÝÏ³ïÙ³Ùµ ë»÷³Ï³ÝáõÃÛ³Ý Çñ³íáõÝùÁ ×³Ý³ã»Éáõ í»ñ³µ»ñÛ³É | F21: ='[1]kod 1.1'!J13 -> 8 | G21: =H21+I21+J21 -> 33 | H21: ='[1]kod 1.1'!J14 -> 25 | I21: ='[1]kod 1.1'!M3 -> 7 | J21: ='[1]kod 1.1'!N3 -> 1 | K21: =L21+M21+N21+O21 -> 12 | L21: ='[1]kod 1.1'!J2 -> 2 | M21: ='[1]kod 1.1'!J3 -> 1 | N21: ='[1]kod 1.1'!J4 -> 4 | O21: =P21+Q21+R21 -> 5 | P21: ='[1]kod 1.1'!J7 -> 2 | Q21: ='[1]kod 1.1'!J8 -> 3 | R21: ='[1]kod 1.1'!J6 -> 0 | S21: ='[1]kod 1.1'!J5 -> 0 | T21: =K21+S21 -> 12 | U21: ='[1]kod 1.1'!J9 -> 1 | V21: ='[1]kod 1.1'!M2 -> 6 | W21: ='[1]kod 1.1'!G5 -> 2 | X21: 0 | Y21: ='[1]kod 1.1'!G6 -> 1 | Z21: ='[1]kod 1.1'!J10+'[1]kod 1.1'!J11 -> 20 | AA21: ='[1]kod 1.1'!J10 -> 3
A22: 1.1.1 | C22: ²Û¹ ÃíáõÙª Ó»éùµ»ñÙ³Ý í³Õ»ÙáõÃÛ³Ý áõÅáí | F22: ='[1]kod 1.1.1'!J13 -> 20 | G22: =H22+I22+J22 -> 24 | H22: ='[1]kod 1.1.1'!J14 -> 23 | I22: ='[1]kod 1.1.1'!M3 -> 1 | J22: ='[1]kod 1.1.1'!N3 -> 0 | K22: =L22+M22+N22+O22 -> 27 | L22: ='[1]kod 1.1.1'!J2 -> 11 | M22: ='[1]kod 1.1.1'!J3 -> 5 | N22: ='[1]kod 1.1.1'!J4 -> 3 | O22: =P22+Q22+R22 -> 8 | P22: ='[1]kod 1.1.1'!J7 -> 2 | Q22: ='[1]kod 1.1.1'!J8 -> 6 | R22: ='[1]kod 1.1.1'!J6 -> 0 | S22: ='[1]kod 1.1.1'!J5 -> 0 | T22: =K22+S22 -> 27 | U22: ='[1]kod 1.1.1'!J9 -> 0 | V22: ='[1]kod 1.1.1'!M2 -> 22 | W22: ='[1]kod 1.1.1'!G6 -> 9 | X22: 0 | Y22: ='[1]kod 1.1.1'!G7 -> 1 | Z22: ='[1]kod 1.1.1'!J10+'[1]kod 1.1.1'!J11 -> 16 | AA22: ='[1]kod 1.1.1'!J10 -> 4
A23: 1.1.2 | B23: áõÅÁ Ïáñóñ»É ¿ | C23: ²Û¹ ÃíáõÙª ïÇñ³½áõñÏ ·áõÛùÇ ÝÏ³ïÙ³Ùµ | F23: 0 | G23: 0 | H23: 0 | I23: 0 | J23: 0 | K23: 0 | L23: 0 | M23: 0 | N23: 0 | O23: 0 | P23: 0 | Q23: 0 | R23: 0 | S23: 0 | T23: 0 | U23: 0 | V23: 0 | W23: 0 | X23: 0 | Y23: 0 | Z23: 0 | AA23: 0
A24: 1.1.3 | B24: áõÅÁ Ïáñóñ»É ¿ | C24: ²Û¹ ÃíáõÙ` ÇÝùÝ³Ï³Ù Ï³éáõÛóÇ ÝÏ³ïÙ³Ùµ | F24: 0 | G24: 0 | H24: 0 | I24: 0 | J24: 0 | K24: 0 | L24: 0 | M24: 0 | N24: 0 | O24: 0 | P24: 0 | Q24: 0 | R24: 0 | S24: 0 | T24: 0 | U24: 0 | V24: 0 | W24: 0 | X24: 0 | Y24: 0 | Z24: 0 | AA24: 0
A25: 40210 | C25: ê»÷³Ï³ÝáõÃÛ³Ý Çñ³íáõÝùÇ ¹³¹³ñ»óÙ³Ý í»ñ³µ»ñÛ³É | F25: ='[1]kod 1.2'!J13 -> 0 | G25: =H25+I25+J25 -> 5 | H25: ='[1]kod 1.2'!J14 -> 4 | I25: ='[1]kod 1.2'!M3 -> 1 | J25: ='[1]kod 1.2'!N3 -> 0 | K25: =L25+M25+N25+O25 -> 1 | L25: ='[1]kod 1.2'!J2 -> 0 | M25: ='[1]kod 1.2'!J3 -> 0 | N25: ='[1]kod 1.2'!J4 -> 0 | O25: =P25+Q25+R25 -> 1 | P25: ='[1]kod 1.2'!J7 -> 0 | Q25: ='[1]kod 1.2'!J8 -> 1 | R25: ='[1]kod 1.2'!J6 -> 0 | S25: ='[1]kod 1.2'!J5 -> 0 | T25: =K25+S25 -> 1 | U25: ='[1]kod 1.2'!J9 -> 0 | V25: ='[1]kod 1.2'!M2 -> 1 | W25: ='[1]kod 1.2'!G6 -> 0 | X25: 0 | Y25: 0 | Z25: ='[1]kod 1.2'!J10+'[1]kod 1.2'!J11 -> 3 | AA25: ='[1]kod 1.2'!J10 -> 0
A26: 1.3 | C26: ¶áõÛùÇ ÝÏ³ïÙ³Ùµ û·ï³·áñÍÙ³Ý Çñ³íáõÝùÁ ×³Ý³ã»Éáõ í»ñ³µ»ñÛ³É | F26: ='[1]1.3'!J13 -> 0 | G26: =H26+I26+J26 -> 1 | H26: ='[1]1.3'!J14 -> 1 | I26: ='[1]1.3'!M3 -> 0 | J26: ='[1]1.3'!N3 -> 0 | K26: =L26+M26+N26+O26 -> 0 | L26: ='[1]1.3'!J2 -> 0 | M26: ='[1]1.3'!J3 -> 0 | N26: ='[1]1.3'!J4 -> 0 | O26: =P26+Q26+R26 -> 0 | P26: ='[1]1.3'!J7 -> 0 | Q26: ='[1]1.3'!J8 -> 0 | R26: ='[1]1.3'!J6 -> 0 | S26: ='[1]1.3'!J5 -> 0 | T26: =K26+S26 -> 0 | U26: ='[1]1.3'!J9 -> 0 | V26: ='[1]1.3'!M2 -> 0 | W26: ='[1]1.3'!G6 -> 0 | X26: 0 | Y26: 0 | Z26: ='[1]1.3'!J10+'[1]1.3'!J11 -> 1 | AA26: ='[1]1.3'!J10 -> 1
A27: 1.3.1 | C27: ²Û¹ ÃíáõÙª µÝ³Ïû·ï³·áñÍÙ³Ý Çñ³íáõÝùÁ ×³Ý³ã»Éáõ í»ñ³µ»ñÛ³É | F27: ='[1]kod 1.3.1'!J13 -> 0 | G27: =H27+I27+J27 -> 1 | H27: ='[1]kod 1.3.1'!J14 -> 1 | I27: ='[1]kod 1.3.1'!M3 -> 0 | J27: ='[1]kod 1.3.1'!N3 -> 0 | K27: =L27+M27+N27+O27 -> 1 | L27: ='[1]kod 1.3.1'!J2 -> 0 | M27: ='[1]kod 1.3.1'!J3 -> 0 | N27: ='[1]kod 1.3.1'!J4 -> 0 | O27: =P27+Q27+R27 -> 1 | P27: ='[1]kod 1.3.1'!J7 -> 0 | Q27: ='[1]kod 1.3.1'!J8 -> 1 | R27: ='[1]kod 1.3.1'!J6 -> 0 | S27: ='[1]kod 1.3.1'!J5 -> 0 | T27: =K27+S27 -> 1 | U27: ='[1]kod 1.3.1'!J9 -> 0 | V27: ='[1]kod 1.3.1'!M2 -> 1 | W27: ='[1]kod 1.3.1'!G6 -> 0 | X27: 0 | Y27: 0 | Z27: ='[1]kod 1.3.1'!J10+'[1]kod 1.3.1'!J11 -> 0 | AA27: ='[1]kod 1.3.1'!J10 -> 0
A28: 1.3.2. | C28: ²Û¹ ÃíáõÙª ÑáÕ³Ù³ëÇ ÝÏ³ïÙ³Ùµ û·ï³·áñÍÙ³Ý Çñ³íáõÝùÁ ×³Ý³ã»Éáõ í»ñ³µ»ñÛ³É | F28: ='[1]kod 1.3.2'!J13 -> 0 | G28: =H28+I28+J28 -> 0 | H28: ='[1]kod 1.3.2'!J14 -> 0 | I28: ='[1]kod 1.3.2'!M3 -> 0 | J28: ='[1]kod 1.3.2'!N3 -> 0 | K28: =L28+M28+N28+O28 -> 0 | L28: ='[1]kod 1.3.2'!J2 -> 0 | M28: ='[1]kod 1.3.2'!J3 -> 0 | N28: ='[1]kod 1.3.2'!J4 -> 0 | O28: =P28+Q28+R28 -> 0 | P28: ='[1]kod 1.3.2'!J7 -> 0 | Q28: ='[1]kod 1.3.2'!J8 -> 0 | R28: ='[1]kod 1.3.2'!J6 -> 0 | S28: ='[1]kod 1.3.2'!J5 -> 0 | T28: =K28+S28 -> 0 | U28: ='[1]kod 1.3.2'!J9 -> 0 | V28: ='[1]kod 1.3.2'!M2 -> 0 | W28: ='[1]kod 1.3.2'!G6 -> 0 | X28: 0 | Y28: 0 | Z28: ='[1]kod 1.3.2'!J10+'[1]kod 1.3.2'!J11 -> 0 | AA28: ='[1]kod 1.3.2'!J10 -> 0
A29: 1.4 | C29: ¶áõÛùÇ ÝÏ³ïÙ³Ùµ û·ï³·áñÍÙ³Ý Çñ³íáõÝùÁ ¹³¹³ñ»óÝ»Éáõ í»ñ³µ»ñÛ³É | F29: ='[1]kod 1.4'!J13 -> 0 | G29: =H29+I29+J29 -> 0 | H29: ='[1]kod 1.4'!J14 -> 0 | I29: ='[1]kod 1.4'!M3 -> 0 | J29: ='[1]kod 1.4'!N3 -> 0 | K29: =L29+M29+N29+O29 -> 0 | L29: ='[1]kod 1.4'!J2 -> 0 | M29: ='[1]kod 1.4'!J3 -> 0 | N29: ='[1]kod 1.4'!J4 -> 0 | O29: =P29+Q29+R29 -> 0 | P29: ='[1]kod 1.4'!J7 -> 0 | Q29: ='[1]kod 1.4'!J8 -> 0 | R29: ='[1]kod 1.4'!J6 -> 0 | S29: ='[1]kod 1.4'!J5 -> 0 | T29: =K29+S29 -> 0 | U29: ='[1]kod 1.4'!J9 -> 0 | V29: ='[1]kod 1.4'!M2 -> 0 | W29: ='[1]kod 1.4'!G6 -> 0 | X29: 0 | Y29: 0 | Z29: ='[1]kod 1.4'!J10+'[1]kod 1.4'!J11 -> 0 | AA29: ='[1]kod 1.4'!J10 -> 0
A30: 1.4.1 | C30: ²Û¹ ÃíáõÙª µÝ³Ïû·ï³·áñÍÙ³Ý Çñ³íáõÝùÁ ¹³¹³ñ»óÝ»Éáõ í»ñ³µ»ñÛ³É | F30: ='[1]kod 1.4.1'!J13 -> 2 | G30: =H30+I30+J30 -> 6 | H30: ='[1]kod 1.4.1'!J14 -> 6 | I30: ='[1]kod 1.4.1'!M3 -> 0 | J30: ='[1]kod 1.4.1'!N3 -> 0 | K30: =L30+M30+N30+O30 -> 6 | L30: ='[1]kod 1.4.1'!J2 -> 2 | M30: ='[1]kod 1.4.1'!J3 -> 0 | N30: ='[1]kod 1.4.1'!J4 -> 1 | O30: =P30+Q30+R30 -> 3 | P30: ='[1]kod 1.4.1'!J7 -> 0 | Q30: ='[1]kod 1.4.1'!J8 -> 3 | R30: ='[1]kod 1.4.1'!J6 -> 0 | S30: ='[1]kod 1.4.1'!J5 -> 0 | T30: =K30+S30 -> 6 | U30: ='[1]kod 1.4.1'!J9 -> 0 | V30: ='[1]kod 1.4.1'!M2 -> 6 | W30: ='[1]kod 1.4.1'!G6 -> 0 | X30: 0 | Y30: 0 | Z30: ='[1]kod 1.4.1'!J10+'[1]kod 1.4.1'!J11 -> 2 | AA30: ='[1]kod 1.4.1'!J10 -> 2
A31: 1.4.1/1 | C31: ²Û¹ ÃíáõÙª ÷áËÑ³ïáõóÙ³Ùµ | F31: ='[1]kod 1.4.1-1'!J13 -> 3 | G31: =H31+I31+J31 -> 0 | H31: ='[1]kod 1.4.1-1'!J14 -> 0 | I31: ='[1]kod 1.4.1-1'!M3 -> 0 | J31: ='[1]kod 1.4.1-1'!N3 -> 0 | K31: =L31+M31+N31+O31 -> 1 | L31: ='[1]kod 1.4.1-1'!J2 -> 1 | M31: ='[1]kod 1.4.1-1'!J3 -> 0 | N31: ='[1]kod 1.4.1-1'!J4 -> 0 | O31: =P31+Q31+R31 -> 0 | P31: ='[1]kod 1.4.1-1'!J7 -> 0 | Q31: ='[1]kod 1.4.1-1'!J8 -> 0 | R31: ='[1]kod 1.4.1-1'!J6 -> 0 | S31: ='[1]kod 1.4.1-1'!J5 -> 0 | T31: =K31+S31 -> 1 | U31: ='[1]kod 1.4.1-1'!J9 -> 0 | V31: ='[1]kod 1.4.1-1'!M2 -> 1 | W31: ='[1]kod 1.4.1-1'!G6 -> 0 | X31: 0 | Y31: 0 | Z31: ='[1]kod 1.4.1-1'!J10+'[1]kod 1.4.1-1'!J11 -> 2 | AA31: ='[1]kod 1.4.1-1'!J10 -> 2
A32: 1.5 | C32: ´Ý³Ï³ñ³ÝÇó/ ï³ñ³ÍùÇó/ íï³ñ»Éáõ í»ñ³µ»ñÛ³É | F32: ='[1]kod 1.5'!J13 -> 15 | G32: =H32+I32+J32 -> 23 | H32: ='[1]kod 1.5'!J14 -> 19 | I32: ='[1]kod 1.5'!M3 -> 4 | J32: ='[1]kod 1.5'!N3 -> 0 | K32: =L32+M32+N32+O32 -> 16 | L32: ='[1]kod 1.5'!J2 -> 11 | M32: ='[1]kod 1.5'!J3 -> 1 | N32: ='[1]kod 1.5'!J4 -> 1 | O32: =P32+Q32+R32 -> 3 | P32: ='[1]kod 1.5'!J7 -> 0 | Q32: ='[1]kod 1.5'!J8 -> 3 | R32: ='[1]kod 1.5'!J6 -> 0 | S32: ='[1]kod 1.5'!J5 -> 0 | T32: =K32+S32 -> 16 | U32: ='[1]kod 1.5'!J9 -> 0 | V32: ='[1]kod 1.5'!M2 -> 11 | W32: ='[1]kod 1.5'!G5 -> 1 | X32: 0 | Y32: ='[1]kod 1.5'!G6 -> 1 | Z32: ='[1]kod 1.5'!J10+'[1]kod 1.5'!J11 -> 18 | AA32: ='[1]kod 1.5'!J10 -> 7
A33: 1.6 | C33: ¶áõÛùÝ áõñÇßÇ ³åûñÇÝÇ ïÇñ³å»ïáõÙÇó »ï í»ñ³¹³ñÓÝ»Éáõ í»ñ³µ»ñÛ³É | F33: ='[1]kod 1.6'!J13 -> 12 | G33: =H33+I33+J33 -> 27 | H33: ='[1]kod 1.6'!J14 -> 25 | I33: ='[1]kod 1.6'!M3 -> 2 | J33: ='[1]kod 1.6'!N3 -> 0 | K33: =L33+M33+N33+O33 -> 17 | L33: ='[1]kod 1.6'!J2 -> 8 | M33: ='[1]kod 1.6'!J3 -> 1 | N33: ='[1]kod 1.6'!J4 -> 1 | O33: =P33+Q33+R33 -> 7 | P33: ='[1]kod 1.6'!J7 -> 0 | Q33: ='[1]kod 1.6'!J8 -> 7 | R33: ='[1]kod 1.6'!J6 -> 0 | S33: ='[1]kod 1.6'!J5 -> 0 | T33: =K33+S33 -> 17 | U33: ='[1]kod 1.6'!J9 -> 0 | V33: ='[1]kod 1.6'!M2 -> 14 | W33: ='[1]kod 1.6'!G5 -> 8 | X33: 0 | Y33: ='[1]kod 1.6'!G6 -> 2 | Z33: ='[1]kod 1.6'!J10+'[1]kod 1.6'!J11 -> 20 | AA33: ='[1]kod 1.6'!J10 -> 4
A34: 1.6.1 | B34: ավելացվել է | C34: ´³ñ»ËÇÕ× Ó»éùµ»ñáÕÇó Çñ ·áõÛùÁ Ñ»ï å³Ñ³Ýç»Éáõ í»ñ³µ»ñÛ³É | F34: ='[1]kod 1.6.1'!J13 -> 0 | G34: 0 | H34: ='[1]kod 1.6.1'!J14 -> 0 | I34: ='[1]kod 1.6.1'!M3 -> 0 | J34: 0 | K34: =L34+M34+N34+O34 -> 0 | L34: ='[1]kod 1.6.1'!J2 -> 0 | M34: ='[1]kod 1.6.1'!J3 -> 0 | N34: ='[1]kod 1.6.1'!J4 -> 0 | O34: =P34+Q34+R34 -> 0 | P34: ='[1]kod 1.6.1'!J7 -> 0 | Q34: ='[1]kod 1.6.1'!J8 -> 0 | R34: ='[1]kod 1.6.1'!J6 -> 0 | S34: ='[1]kod 1.6.1'!J5 -> 0 | T34: =K34+S34 -> 0 | U34: ='[1]kod 1.6.1'!J9 -> 0 | V34: ='[1]kod 1.6.1'!M2 -> 0 | W34: 0 | X34: 0 | Y34: 0 | Z34: ='[1]kod 1.6.1'!J10+'[1]kod 1.6.1'!J11 -> 0 | AA34: ='[1]kod 1.6.1'!J10 -> 0
A35: 1.7 | C35: îÇñ³å»ïáõÙÇó ½ñÏ»Éáõ Ñ»ï ãÏ³åí³Í Çñ³íáõÝùÝ»ñÇ Ë³ËïáõÙÁ í»ñ³óÝ»Éáõ í»ñ³µ»ñÛ³É | F35: ='[1]kod 1.7'!J13 -> 14 | G35: =H35+I35+J35 -> 6 | H35: ='[1]kod 1.7'!J14 -> 3 | I35: ='[1]kod 1.7'!M3 -> 2 | J35: ='[1]kod 1.7'!N3 -> 1 | K35: =L35+M35+N35+O35 -> 7 | L35: ='[1]kod 1.7'!J2 -> 2 | M35: ='[1]kod 1.7'!J3 -> 1 | N35: ='[1]kod 1.7'!J4 -> 2 | O35: =P35+Q35+R35 -> 2 | P35: ='[1]kod 1.7'!J7 -> 0 | Q35: ='[1]kod 1.7'!J8 -> 2 | R35: ='[1]kod 1.7'!J6 -> 0 | S35: ='[1]kod 1.7'!J5 -> 0 | T35: =K35+S35 -> 7 | U35: ='[1]kod 1.7'!J9 -> 0 | V35: ='[1]kod 1.7'!M2 -> 7 | W35: ='[1]kod 1.7'!G5 -> 2 | X35: 0 | Y35: ='[1]kod 1.7'!G6 -> 1 | Z35: ='[1]kod 1.7'!J10+'[1]kod 1.7'!J11 -> 10 | AA35: ='[1]kod 1.7'!J10 -> 7
A36: 1.8 | C36: ÀÝ¹Ñ³Ýáõñ µ³ÅÝ³ÛÇÝ ë»÷³Ï³ÝáõÃÛáõÝÇó µ³ÅÇÝÝ ³é³ÝÓÝ³óÝ»Éáõ í»ñ³µ»ñÛ³É | F36: ='[1]kod 1.8'!J13 -> 39 | G36: =H36+I36+J36 -> 37 | H36: ='[1]kod 1.8'!J14 -> 32 | I36: ='[1]kod 1.8'!M3 -> 5 | J36: ='[1]kod 1.8'!N3 -> 0 | K36: =L36+M36+N36+O36 -> 23 | L36: ='[1]kod 1.8'!J2 -> 6 | M36: ='[1]kod 1.8'!J3 -> 5 | N36: ='[1]kod 1.8'!J4 -> 2 | O36: =P36+Q36+R36 -> 10 | P36: ='[1]kod 1.8'!J7 -> 2 | Q36: ='[1]kod 1.8'!J8 -> 6 | R36: ='[1]kod 1.8'!J6 -> 2 | S36: ='[1]kod 1.8'!J5 -> 0 | T36: =K36+S36 -> 23 | U36: ='[1]kod 1.8'!J9 -> 0 | V36: ='[1]kod 1.8'!M2 -> 21 | W36: ='[1]kod 1.8'!G5 -> 5 | X36: 0 | Y36: ='[1]kod 1.8'!G6 -> 0 | Z36: ='[1]kod 1.8'!J10+'[1]kod 1.8'!J11 -> 48 | AA36: ='[1]kod 1.8'!J10 -> 18
A37: 1.8.1 | B37: ավելացվել է | C37: Ð³Ù³ï»Õ ë»÷³Ï³ÝáõÃÛ³Ý Ý»ñùá ·ïÝíáÕ ·áõÛùÁ µ³Å³Ý»Éáõ ¨ ¹ñ³ÝÇó µ³ÅÇÝÝ ³é³ÝÓÝ³óÝ»Éáõ í»ñ³µ»ñÛ³É | F37: ='[1]kod 1.8.1'!J13 -> 0 | G37: =H37+I37+J37 -> 34 | H37: ='[1]kod 1.8.1'!J14 -> 33 | I37: ='[1]kod 1.8.1'!M3 -> 1 | J37: ='[1]kod 1.8.1'!N3 -> 0 | K37: =L37+M37+N37+O37 -> 10 | L37: ='[1]kod 1.8.1'!J2 -> 2 | M37: ='[1]kod 1.8.1'!J3 -> 0 | N37: ='[1]kod 1.8.1'!J4 -> 0 | O37: =P37+Q37+R37 -> 8 | P37: ='[1]kod 1.8.1'!J7 -> 1 | Q37: ='[1]kod 1.8.1'!J8 -> 7 | R37: ='[1]kod 1.8.1'!J6 -> 0 | S37: ='[1]kod 1.8.1'!J5 -> 0 | T37: =K37+S37 -> 10 | U37: ='[1]kod 1.8.1'!J9 -> 0 | V37: ='[1]kod 1.8.1'!M2 -> 7 | W37: ='[1]kod 1.8.1'!G5 -> 0 | X37: 0 | Y37: 0 | Z37: ='[1]kod 1.8.1'!J10+'[1]kod 1.8.1'!J11 -> 23 | AA37: ='[1]kod 1.8.1'!J10 -> 8
A38: 1.8.3 | B38: ավելացվել է | C38: ¶áõÛùÇ íñ³ µéÝ³·³ÝÓáõÙ ï³ñ³Í»Éáõ å³Ñ³ÝçÇ Ù³ëÇÝ | F38: ='[1]kod 1.8.3'!J13 -> 0 | G38: 6 | H38: ='[1]kod 1.8.3'!J14 -> 3 | I38: ='[1]kod 1.8.3'!M3 -> 3 | J38: 0 | K38: =L38+M38+N38+O38 -> 0 | L38: ='[1]kod 1.8.3'!J2 -> 0 | M38: ='[1]kod 1.8.3'!J3 -> 0 | N38: ='[1]kod 1.8.3'!J4 -> 0 | O38: =P38+Q38+R38 -> 0 | P38: ='[1]kod 1.8.3'!J7 -> 0 | Q38: ='[1]kod 1.8.3'!J8 -> 0 | R38: ='[1]kod 1.8.3'!J6 -> 0 | S38: ='[1]kod 1.8.3'!J5 -> 0 | T38: =K38+S38 -> 0 | U38: ='[1]kod 1.8.3'!J9 -> 0 | V38: ='[1]kod 1.8.3'!M2 -> 0 | W38: ='[1]kod 1.8.3'!G6 -> 0 | X38: 0 | Y38: 0 | Z38: ='[1]kod 1.8.3'!J11+'[1]kod 1.8.3'!J10 -> 3 | AA38: ='[1]kod 1.8.3'!J10 -> 1
A39: 1.9 | C39: ²ÛÉ í»×»ñ | F39: ='[1]kod 1.9'!J13 -> 20 | G39: =H39+I39+J39 -> 47 | H39: ='[1]kod 1.9'!J14 -> 32 | I39: ='[1]kod 1.9'!M3 -> 11 | J39: ='[1]kod 1.9'!N3 -> 4 | K39: =L39+M39+N39+O39 -> 26 | L39: ='[1]kod 1.9'!J2 -> 9 | M39: ='[1]kod 1.9'!J3 -> 0 | N39: ='[1]kod 1.9'!J4 -> 9 | O39: =P39+Q39+R39 -> 8 | P39: ='[1]kod 1.9'!J7 -> 2 | Q39: ='[1]kod 1.9'!J8 -> 5 | R39: ='[1]kod 1.9'!J6 -> 1 | S39: ='[1]kod 1.9'!J5 -> 0 | T39: =K39+S39 -> 26 | U39: ='[1]kod 1.9'!J9 -> 1 | V39: ='[1]kod 1.9'!M2 -> 23 | W39: ='[1]kod 1.9'!G6 -> 0 | X39: 0 | Y39: 0 | Z39: ='[1]kod 1.9'!J10+'[1]kod 1.9'!J11 -> 25 | AA39: ='[1]kod 1.9'!J10 -> 6
A40: 2. | C40: ¶áñÍ³ñùÝ»ñÇ Ñ»ï Ï³åí³Í í»×»ñ | F40: 0 | G40: 0 | H40: 0 | I40: 0 | J40: 0 | K40: 0 | L40: 0 | M40: 0 | N40: 0 | O40: 0 | P40: 0 | Q40: 0 | R40: 0 | S40: 0 | T40: 0 | U40: 0 | V40: 0 | W40: 0 | X40: 0 | Y40: 0 | Z40: 0 | AA40: 0
A41: 2.1 | C41: ¶áñÍ³ñùÝ»ñÇ ³Ýí³í»ñáõÃÛ³Ý Ñ»ï Ï³åí³Í í»×»ñ | F41: ='[1]kod 2.1'!J13 -> 3 | G41: =H41+I41+J41 -> 4 | H41: ='[1]kod 2.1'!J14 -> 4 | I41: ='[1]kod 2.1'!M3 -> 0 | J41: ='[1]kod 2.1'!N3 -> 0 | K41: =L41+M41+N41+O41 -> 3 | L41: ='[1]kod 2.1'!J2 -> 1 | M41: ='[1]kod 2.1'!J3 -> 0 | N41: ='[1]kod 2.1'!J4 -> 2 | O41: =P41+Q41+R41 -> 0 | P41: ='[1]kod 2.1'!J7 -> 0 | Q41: ='[1]kod 2.1'!J8 -> 0 | R41: ='[1]kod 2.1'!J6 -> 0 | S41: ='[1]kod 2.1'!J5 -> 0 | T41: =K41+S41 -> 3 | U41: ='[1]kod 2.1'!J9 -> 1 | V41: ='[1]kod 2.1'!M2 -> 2 | W41: ='[1]kod 2.1'!G6 -> 1 | X41: 0 | Y41: 0 | Z41: ='[1]kod 2.1'!J10+'[1]kod 2.1'!J11 -> 3 | AA41: ='[1]kod 2.1'!J10 -> 2
A42: 2.1.1 | C42: ²Û¹ ÃíáõÙ`գáñÍ³ñùÁ íÇ×³Ñ³ñáõÛó ×³Ý³ã»Éáõ í»ñ³µ»ñÛ³É | F42: ='[1]kod 2.1.1'!J13 -> 0 | G42: =H42+I42+J42 -> 0 | H42: ='[1]kod 2.1.1'!J14 -> 0 | I42: ='[1]kod 2.1.1'!M3 -> 0 | J42: ='[1]kod 2.1.1'!N3 -> 0 | K42: =L42+M42+N42+O42 -> 0 | L42: ='[1]kod 2.1.1'!J2 -> 0 | M42: ='[1]kod 2.1.1'!J3 -> 0 | N42: ='[1]kod 2.1.1'!J4 -> 0 | O42: =P42+Q42+R42 -> 0 | P42: ='[1]kod 2.1.1'!J7 -> 0 | Q42: ='[1]kod 2.1.1'!J8 -> 0 | R42: ='[1]kod 2.1.1'!J6 -> 0 | S42: ='[1]kod 2.1.1'!J5 -> 0 | T42: =K42+S42 -> 0 | U42: ='[1]kod 2.1.1'!J9 -> 0 | V42: ='[1]kod 2.1.1'!M2 -> 0 | W42: ='[1]kod 2.1.1'!G6 -> 0 | X42: 0 | Y42: 0 | Z42: ='[1]kod 2.1.1'!J10+'[1]kod 2.1.1'!J11 -> 0 | AA42: ='[1]kod 2.1.1'!J10 -> 0
A43: 2.1.2 | C43: ²Û¹ ÃíáõÙ` ·áñÍ³ñùÇ ³éáãÝãáõÃÛ³Ý Ñ»ï¨³ÝùÝ»ñ ÏÇñ³é»Éáõ í»ñ³µ»ñÛ³É | F43: ='[1]kod 2.1.2'!J13 -> 2 | G43: =H43+I43+J43 -> 15 | H43: ='[1]kod 2.1.2'!J14 -> 10 | I43: ='[1]kod 2.1.2'!M3 -> 5 | J43: ='[1]kod 2.1.2'!N3 -> 0 | K43: =L43+M43+N43+O43 -> 2 | L43: ='[1]kod 2.1.2'!J2 -> 0 | M43: ='[1]kod 2.1.2'!J3 -> 0 | N43: ='[1]kod 2.1.2'!J4 -> 1 | O43: =P43+Q43+R43 -> 1 | P43: ='[1]kod 2.1.2'!J7 -> 0 | Q43: ='[1]kod 2.1.2'!J8 -> 1 | R43: ='[1]kod 2.1.2'!J6 -> 0 | S43: ='[1]kod 2.1.2'!J5 -> 0 | T43: =K43+S43 -> 2 | U43: ='[1]kod 2.1.2'!J9 -> 0 | V43: ='[1]kod 2.1.2'!M2 -> 1 | W43: ='[1]kod 2.1.2'!G6 -> 1 | X43: 0 | Y43: ='[1]kod 2.1.2'!G7 -> 1 | Z43: ='[1]kod 2.1.2'!J10+'[1]kod 2.1.2'!J11 -> 10 | AA43: ='[1]kod 2.1.2'!J10 -> 1
A44: 2.2 | C44: ¶áñÍ³ñùÁ í³í»ñ ×³Ý³ã»Éáõ í»ñ³µ»ñÛ³É | F44: ='[1]kod 2.2'!J13 -> 1 | G44: =H44+I44+J44 -> 1 | H44: ='[1]kod 2.2'!J14 -> 1 | I44: ='[1]kod 2.2'!M3 -> 0 | J44: ='[1]kod 2.2'!N3 -> 0 | K44: =L44+M44+N44+O44 -> 1 | L44: ='[1]kod 2.2'!J2 -> 0 | M44: ='[1]kod 2.2'!J3 -> 1 | N44: ='[1]kod 2.2'!J4 -> 0 | O44: =P44+Q44+R44 -> 0 | P44: ='[1]kod 2.2'!J7 -> 0 | Q44: ='[1]kod 2.2'!J8 -> 0 | R44: ='[1]kod 2.2'!J6 -> 0 | S44: ='[1]kod 2.2'!J5 -> 0 | T44: =K44+S44 -> 1 | U44: ='[1]kod 2.2'!J9 -> 0 | V44: ='[1]kod 2.2'!M2 -> 1 | W44: ='[1]kod 2.2'!G6 -> 1 | X44: 0 | Y44: 0 | Z44: ='[1]kod 2.2'!J10+'[1]kod 2.2'!J11 -> 1 | AA44: ='[1]kod 2.2'!J10 -> 0
A45: 2.3 | C45: ¶áñÍ³ñùÇó Í³·áÕ Çñ³íáõÝùÝ»ñÁ ·ñ³Ýó»Éáõ í»ñ³µ»ñÛ³É | F45: 0 | G45: 0 | H45: 0 | I45: 0 | J45: 0 | K45: 0 | L45: 0 | M45: 0 | N45: 0 | O45: =P45+Q45+R45 -> 0 | P45: 0 | Q45: 0 | R45: 0 | S45: 0 | T45: 0 | U45: 0 | V45: 0 | W45: 0 | X45: 0 | Y45: 0 | Z45: 0 | AA45: 0
A46: 2.4 | C46: ä³ÛÙ³Ý³·ÇñÝ ³Ýí³í»ñ ×³Ý³ã»Éáõ í»ñ³µ»ñÛ³É | F46: ='[1]kod 2.4'!J13 -> 16 | G46: =H46+I46+J46 -> 21 | H46: ='[1]kod 2.4'!J14 -> 15 | I46: ='[1]kod 2.4'!M3 -> 6 | J46: ='[1]kod 2.4'!N3 -> 0 | K46: =L46+M46+N46+O46 -> 12 | L46: ='[1]kod 2.4'!J2 -> 1 | M46: ='[1]kod 2.4'!J3 -> 0 | N46: ='[1]kod 2.4'!J4 -> 7 | O46: =P46+Q46+R46 -> 4 | P46: ='[1]kod 2.4'!J7 -> 0 | Q46: ='[1]kod 2.4'!J8 -> 4 | R46: ='[1]kod 2.4'!J6 -> 0 | S46: ='[1]kod 2.4'!J5 -> 0 | T46: =K46+S46 -> 12 | U46: ='[1]kod 2.4'!J9 -> 0 | V46: ='[1]kod 2.4'!M2 -> 11 | W46: ='[1]kod 2.4'!G6 -> 5 | X46: 0 | Y46: ='[1]kod 2.4'!G7 -> 2 | Z46: ='[1]kod 2.4'!J10+'[1]kod 2.4'!J11 -> 19 | AA46: ='[1]kod 2.4'!J10 -> 5
A47: 2.5 | C47: ä³ÛÙ³Ý³·ñÇÁ í³í»ñ ×³Ý³ã»Éáõ í»ñ³µ»ñÛ³É | F47: ='[1]kod 2.5'!J13 -> 6 | G47: =H47+I47+J47 -> 4 | H47: ='[1]kod 2.5'!J14 -> 4 | I47: ='[1]kod 2.5'!M3 -> 0 | J47: ='[1]kod 2.5'!N3 -> 0 | K47: =L47+M47+N47+O47 -> 6 | L47: ='[1]kod 2.5'!J2 -> 1 | M47: ='[1]kod 2.5'!J3 -> 1 | N47: ='[1]kod 2.5'!J4 -> 3 | O47: =P47+Q47+R47 -> 1 | P47: ='[1]kod 2.5'!J7 -> 0 | Q47: ='[1]kod 2.5'!J8 -> 1 | R47: ='[1]kod 2.5'!J6 -> 0 | S47: ='[1]kod 2.5'!J5 -> 0 | T47: =K47+S47 -> 6 | U47: ='[1]kod 2.5'!J9 -> 0 | V47: ='[1]kod 2.5'!M2 -> 4 | W47: ='[1]kod 2.5'!G6 -> 2 | X47: 0 | Y47: 0 | Z47: ='[1]kod 2.5'!J10+'[1]kod 2.5'!J11 -> 4 | AA47: ='[1]kod 2.5'!J10 -> 1
A48: 2.6 | B48: áõÅÁ Ïáñóñ»É ¿ | C48: ä³ÛÙ³Ý³·ñÇó Í³·áÕ Çñ³íáõÝùÝ»ñÁ ·ñ³Ýó»Éáõ í»ñ³µ»ñÛ³É | F48: 0 | G48: 0 | H48: 0 | I48: 0 | J48: 0 | K48: 0 | L48: 0 | M48: 0 | N48: 0 | O48: 0 | P48: 0 | Q48: 0 | R48: 0 | S48: 0 | T48: 0 | U48: 0 | V48: 0 | W48: 0 | X48: 0 | Y48: 0 | Z48: 0 | AA48: 0
A49: 2.7 | C49: ä³ÛÙ³Ý³·ÇñÁ ÷á÷áË»Éáõ ¨ ÉáõÍ»Éáõ í»ñ³µ»ñÛ³É | F49: ='[1]kod 2.7'!J13 -> 24 | G49: =H49+I49+J49 -> 37 | H49: ='[1]kod 2.7'!J14 -> 36 | I49: ='[1]kod 2.7'!M3 -> 1 | J49: ='[1]kod 2.7'!N3 -> 0 | K49: =L49+M49+N49+O49 -> 33 | L49: ='[1]kod 2.7'!J2 -> 18 | M49: ='[1]kod 2.7'!J3 -> 9 | N49: ='[1]kod 2.7'!J4 -> 2 | O49: =P49+Q49+R49 -> 4 | P49: ='[1]kod 2.7'!J7 -> 0 | Q49: ='[1]kod 2.7'!J8 -> 4 | R49: ='[1]kod 2.7'!J6 -> 0 | S49: ='[1]kod 2.7'!J5 -> 0 | T49: =K49+S49 -> 33 | U49: ='[1]kod 2.7'!J9 -> 1 | V49: ='[1]kod 2.7'!M2 -> 23 | W49: ='[1]kod 2.7'!G6 -> 4 | X49: 0 | Y49: 0 | Z49: ='[1]kod 2.7'!J10+'[1]kod 2.7'!J11 -> 26 | AA49: ='[1]kod 2.7'!J10 -> 1
A50: 2.8 | C50: ä³ÛÙ³Ý³·Çñ ÏÝù»ÉáõÝ å³ñï³íáñ»óÝ»Éáõ í»ñ³µ»ñÛ³É | F50: ='[1]kod 2.8'!J13 -> 2 | G50: =H50+I50+J50 -> 3 | H50: ='[1]kod 2.8'!J14 -> 3 | I50: ='[1]kod 2.8'!M3 -> 0 | J50: ='[1]kod 2.8'!N3 -> 0 | K50: =L50+M50+N50+O50 -> 1 | L50: ='[1]kod 2.8'!J2 -> 0 | M50: ='[1]kod 2.8'!J3 -> 0 | N50: ='[1]kod 2.8'!J4 -> 1 | O50: =P50+Q50+R50 -> 0 | P50: ='[1]kod 2.8'!J7 -> 0 | Q50: ='[1]kod 2.8'!J8 -> 0 | R50: ='[1]kod 2.8'!J6 -> 0 | S50: ='[1]kod 2.8'!J5 -> 0 | T50: =K50+S50 -> 1 | U50: ='[1]kod 2.8'!J9 -> 0 | V50: ='[1]kod 2.8'!M2 -> 0 | W50: ='[1]kod 2.8'!G6 -> 1 | X50: 0 | Y50: 0 | Z50: ='[1]kod 2.8'!J10+'[1]kod 2.8'!J11 -> 4 | AA50: ='[1]kod 2.8'!J10 -> 2
A51: 2.9 | C51: ²ÛÉ í»×»ñ | F51: ='[1]kod 2.9'!J13 -> 3 | G51: =H51+I51+J51 -> 4 | H51: ='[1]kod 2.9'!J14 -> 3 | I51: ='[1]kod 2.9'!M3 -> 1 | J51: ='[1]kod 2.9'!N3 -> 0 | K51: =L51+M51+N51+O51 -> 2 | L51: ='[1]kod 2.9'!J2 -> 1 | M51: ='[1]kod 2.9'!J3 -> 0 | N51: ='[1]kod 2.9'!J4 -> 0 | O51: =P51+Q51+R51 -> 1 | P51: ='[1]kod 2.9'!J7 -> 0 | Q51: ='[1]kod 2.9'!J8 -> 1 | R51: ='[1]kod 2.9'!J6 -> 0 | S51: ='[1]kod 2.9'!J5 -> 0 | T51: =K51+S51 -> 2 | U51: ='[1]kod 2.9'!J9 -> 0 | V51: ='[1]kod 2.9'!M2 -> 2 | W51: ='[1]kod 2.9'!G6 -> 0 | X51: 0 | Y51: 0 | Z51: ='[1]kod 2.9'!J10+'[1]kod 2.9'!J11 -> 4 | AA51: ='[1]kod 2.9'!J10 -> 0
A52: 3. | C52: Ä³é³Ý·áõÃÛ³Ý í»ñ³µ»ñÛ³É í»×»ñ | F52: 0 | G52: 0 | H52: 0 | I52: 0 | J52: 0 | K52: 0 | L52: 0 | M52: 0 | N52: 0 | O52: 0 | P52: 0 | Q52: 0 | R52: 0 | S52: 0 | T52: 0 | U52: 0 | V52: 0 | W52: 0 | X52: 0 | Y52: 0 | Z52: 0 | AA52: 0
...

Sheet ARABKIR
A1: Ð²ÞìºîìàôÂÚàôÜ
A2: ø²Ô²ø²òÆ²Î²Ü ¶àðÌºðÆ øÜÜàôÂÚ²Ü ìºð²´ºðÚ²È
A3: Հավելված 2 Հայաստանի Հանրապետության Դատարանների նախագահների խորհրդի 2007թ. դեկտեմբերի 21-ի թիվ 23Լ որոշման
A5: êïáõ·Çã Ñ³í³ë³ñáõÙÝ»ñª 2=3+4+5, 1+3=15+16+21, 6=7+8+9+10, 10=11+12+13, 15=6+14, | F5: ²Ý³í³ñï ·áñÍ»ñÇ ÙÝ³óáñ¹Á Ñ³ßí»ïáõ Å³Ù³Ý³Ï³ßñç³ÝÇ ëÏ½µáõÙ | G5: êï³óí³Í Ñ³Ûó»ñÇ,¹ÇÙáõÙÝ»ñÇ (·áñÍ»ñ)ù³Ý³ÏÁ | K5: ²í³ñïí»É »Ý ·áñÍ»ñ Ñ³ßí»ïáõ Å³Ù³Ý³Ï³ßñç³ÝáõÙ | U5: ¶áñÍÝ áõÕ³ñÏí»É ¿ Áëï ÁÝ¹¹³ïáõÃÛ³Ý | V5: Øï»É »Ý ûñÇÝ³Ï³Ý áõÅÇ Ù»ç | W5: ´áÕáù³ñÏí»É »Ý í»ñ³ùÝÝÇã ¹³ï³ñ³Ý | Z5: ²Ý³í³ñï ·áñÍ»ñÇ ÙÝ³óáñ¹Á Ñ³ßí»ïáõ Å³Ù³Ý³Ï³ßñç³ÝÇ í»ñçáõÙ | AA5: ²Û¹ ÃíáõÙª Ï³ë»óí³Í
G8: ÀÝ¹³Ù»ÝÁ | H8: ²Û¹ ÃíáõÙª ÁÝ¹áõÝí»É ¿ í³ñáõÛÃ | I8: ²Û¹ ÃíáõÙª í»ñ³¹³ñÓí»É ¿ | J8: ²Û¹ ÃíáõÙª Ñ³Ûó»ñÇ (¹ÇÙáõÙÝ»ñÇ) ÁÝ¹áõÝáõÙÁ Ù»ñÅí»É ¿ | K8: ÀÝ¹³Ù»ÝÁ ³í³ñïí»É »Ý ·áñÍ»ñ í×éÇ Ï³Û³óáõÙáí | L8: ²Û¹ ÃíáõÙª Ñ³ÛóÇ µ³í³ñ³ñÙ³Ùµ | M8: ²Û¹ ÃíáõÙª Ñ³ÛóÇ Ù³ëÝ³ÏÇ µ³í³ñ³ñÙ³Ùµ | N8: ²Û¹ ÃíáõÙª Ñ³ÛóÇ Ù»ñÅÙ³Ùµ | O8: ²Û¹ ÃíáõÙª Ï³ñ×í»É »Ý | S8: Ð³ÛóÁ ÃáÕÝí»É ¿ ³é³Ýó ùÝÝáõÃÛ³Ý | T8: ÀÝ¹³Ù»ÝÝ ³í³ñïí»É »Ý ·áñÍ»ñ | W8: Ï³Û³óí³Í í×ÇéÝ»ñÇ ¹»Ù | X8: ³é³Ýó ùÝÝáõÃÛ³Ý ÃáÕÝ»Éáõ Ù³ëÇÝ áñáßáõÙÝ»ñÇ ¹»Ù | Y8: ÙÇç³ÝÏÛ³É ¹³ï³Ï³Ý ³Ïï»ñÇ ¹»Ù
O11: ÀÝ¹³Ù»ÝÁ Ï³ñ×í»É »Ý | P11: ²Û¹ ÃíáõÙª Ñ³ëï³ïí»É ¿ ÏÝùí³Í Ñ³ßïáõÃÛ³Ý Ñ³Ù³Ó³ÛÝáõÃÛáõÝÁ | Q11: ²Û¹ ÃíáõÙª Ñ³óÇó, ¹ÇÙáõÙÇó Ññ³Å³ñí»Éáõ ÑÇÙùáí | R11: ²Û¹ ÃíáõÙª ³ÛÉ ÑÇÙùáí
A19: Æñ³í³Ñ³ñ³µ»ñáõÃÛáõÝÝ»ñÇ ï»ë³ÏÝ»ñÁ | F19: 1 | G19: 2 | H19: 3 | I19: 4 | J19: 5 | K19: 6 | L19: 7 | M19: 8 | N19: 9 | O19: 10 | P19: 11 | Q19: 12 | R19: 13 | S19: 14 | T19: 15 | U19: 16 | V19: 17 | W19: 18 | X19: 19 | Y19: 20 | Z19: 21 | AA19: 22
A20: 1. | C20: ¶áõÛù³ÛÇÝ í»×»ñ | F20: 0 | G20: 0 | H20: 0 | I20: 0 | J20: 0 | K20: 0 | L20: 0 | M20: 0 | N20: 0 | O20: 0 | P20: 0 | Q20: 0 | R20: 0 | S20: 0 | T20: 0 | U20: 0 | V20: 0 | W20: 0 | X20: 0 | Y20: 0 | Z20: 0 | AA20: 0
A21: 1.1 | C21: ¶áõÛùÇ ÝÏ³ïÙ³Ùµ ë»÷³Ï³ÝáõÃÛ³Ý Çñ³íáõÝùÁ ×³Ý³ã»Éáõ í»ñ³µ»ñÛ³É | F21: 33 | G21: 51 | H21: 43 | I21: 7 | J21: 1 | K21: 30 | L21: 15 | M21: 1 | N21: 6 | O21: 8 | P21: 0 | Q21: 8 | R21: 0 | S21: 0 | T21: 30 | U21: 0 | V21: 26 | W21: 4 | X21: 0 | Y21: 0 | Z21: 46 | AA21: 4
A22: 1.1.1 | C22: ²Û¹ ÃíáõÙª Ó»éùµ»ñÙ³Ý í³Õ»ÙáõÃÛ³Ý áõÅáí | F22: 18 | G22: 37 | H22: 35 | I22: 2 | J22: 0 | K22: 37 | L22: 20 | M22: 2 | N22: 6 | O22: 9 | P22: 0 | Q22: 9 | R22: 0 | S22: 0 | T22: 37 | U22: 0 | V22: 24 | W22: 13 | X22: 0 | Y22: 0 | Z22: 16 | AA22: 2
A23: 1.1.2 | B23: ուժը կորցրել է | C23: ²Û¹ ÃíáõÙª ïÇñ³½áõñÏ ·áõÛùÇ ÝÏ³ïÙ³Ùµ | F23: 0 | G23: 0 | H23: 0 | I23: 0 | J23: 0 | K23: 0 | L23: 0 | M23: 0 | N23: 0 | O23: 0 | P23: 0 | Q23: 0 | R23: 0 | S23: 0 | T23: 0 | U23: 0 | V23: 0 | W23: 0 | X23: 0 | Y23: 0 | Z23: 0 | AA23: 0
A24: 1.1.3 | B24: ուժը կորցրել է | C24: ²Û¹ ÃíáõÙª ÇÝùÝ³Ï³Ù Ï³éáõÛóÇ ÝÏ³ïÙ³Ùµ | F24: 0 | G24: 0 | H24: 0 | I24: 0 | J24: 0 | K24: 0 | L24: 0 | M24: 0 | N24: 0 | O24: 0 | P24: 0 | Q24: 0 | R24: 0 | S24: 0 | T24: 0 | U24: 0 | V24: 0 | W24: 0 | X24: 0 | Y24: 0 | Z24: 0 | AA24: 0
A25: 1.2 | C25: ê»÷³Ï³ÝáõÃÛ³Ý Çñ³íáõÝùÇ ¹³¹³ñ»óÙ³Ý í»ñ³µ»ñÛ³É | F25: 0 | G25: 7 | H25: 7 | I25: 0 | J25: 0 | K25: 3 | L25: 3 | M25: 0 | N25: 0 | O25: 0 | P25: 0 | Q25: 0 | R25: 0 | S25: 0 | T25: 3 | U25: 0 | V25: 1 | W25: 2 | X25: 0 | Y25: 0 | Z25: 4 | AA25: 3
A26: 1.3 | C26: ¶áõÛùÇ ÝÏ³ïÙ³Ùµ û·ï³·áñÍÙ³Ý Çñ³íáõÝùÁ ×³Ý³ã»Éáõ í»ñ³µ»ñÛ³É | F26: 1 | G26: 2 | H26: 1 | I26: 1 | J26: 0 | K26: 2 | L26: 1 | M26: 0 | N26: 1 | O26: 0 | P26: 0 | Q26: 0 | R26: 0 | S26: 0 | T26: 2 | U26: 0 | V26: 1 | W26: 1 | X26: 0 | Y26: 0 | Z26: 0 | AA26: 0
A27: 1.3.1 | C27: ²Û¹ ÃíáõÙª µÝ³Ïû·ï³·áñÍÙ³Ý Çñ³íáõÝùÁ ×³Ý³ã»Éáõ í»ñ³µ»ñÛ³É | F27: 1 | G27: 2 | H27: 2 | I27: 0 | J27: 0 | K27: 1 | L27: 0 | M27: 0 | N27: 1 | O27: 0 | P27: 0 | Q27: 0 | R27: 0 | S27: 0 | T27: 1 | U27: 0 | V27: 1 | W27: 0 | X27: 0 | Y27: 0 | Z27: 2 | AA27: 0
A28: 1.3.2 | C28: ²Û¹ ÃíáõÙª ÑáÕ³Ù³ëÇ ÝÏ³ïÙ³Ùµ û·ï³·áñÍÙ³Ý Çñ³íáõÝùÁ ×³Ý³ã»Éáõ í»ñ³µ»ñÛ³É | F28: 0 | G28: 1 | H28: 1 | I28: 0 | J28: 0 | K28: 0 | L28: 0 | M28: 0 | N28: 0 | O28: 0 | P28: 0 | Q28: 0 | R28: 0 | S28: 0 | T28: 0 | U28: 0 | V28: 0 | W28: 0 | X28: 0 | Y28: 0 | Z28: 1 | AA28: 1
A29: 1.4 | C29: ¶áõÛùÇ ÝÏ³ïÙ³Ùµ û·ï³·áñÍÙ³Ý Çñ³íáõÝùÁ ¹³¹³ñ»óÝ»Éáõ í»ñ³µ»ñÛ³É | F29: 0 | G29: 0 | H29: 0 | I29: 0 | J29: 0 | K29: 0 | L29: 0 | M29: 0 | N29: 0 | O29: 0 | P29: 0 | Q29: 0 | R29: 0 | S29: 0 | T29: 0 | U29: 0 | V29: 0 | W29: 0 | X29: 0 | Y29: 0 | Z29: 0 | AA29: 0
A30: 1.4.1 | C30: ²Û¹ ÃíáõÙª µÝ³Ïû·ï³·áñÍÙ³Ý Çñ³íáõÝùÁ ¹³¹³ñ»óÝ»Éáõ í»ñ³µ»ñÛ³É | F30: 5 | G30: 5 | H30: 5 | I30: 0 | J30: 0 | K30: 4 | L30: 1 | M30: 0 | N30: 1 | O30: 2 | P30: 1 | Q30: 1 | R30: 0 | S30: 0 | T30: 4 | U30: 0 | V30: 1 | W30: 3 | X30: 0 | Y30: 0 | Z30: 5 | AA30: 1
A31: 1.4.1/1 | C31: ²Û¹ ÃíáõÙª ÷áËÑ³ïáõóÙ³Ùµ | F31: 1 | G31: 6 | H31: 6 | I31: 0 | J31: 0 | K31: 6 | L31: 3 | M31: 0 | N31: 0 | O31: 3 | P31: 1 | Q31: 2 | R31: 0 | S31: 0 | T31: 6 | U31: 0 | V31: 3 | W31: 3 | X31: 0 | Y31: 0 | Z31: 1 | AA31: 1
A32: 1.5 | C32: ´Ý³Ï³ñ³ÝÇó/ ï³ñ³ÍùÇó/ íï³ñ»Éáõ í»ñ³µ»ñÛ³É | F32: 18 | G32: 53 | H32: 45 | I32: 8 | J32: 0 | K32: 33 | L32: 22 | M32: 0 | N32: 2 | O32: 9 | P32: 1 | Q32: 8 | R32: 0 | S32: 0 | T32: 33 | U32: 0 | V32: 19 | W32: 14 | X32: 0 | Y32: 0 | Z32: 30 | AA32: 6
A33: 1.6 | C33: ¶áõÛùÝ áõñÇßÇ ³åûñÇÝÇ ïÇñ³å»ïáõÙÇó »ï í»ñ³¹³ñÓÝ»Éáõ í»ñ³µ»ñÛ³É | F33: 21 | G33: 33 | H33: 32 | I33: 1 | J33: 0 | K33: 24 | L33: 14 | M33: 2 | N33: 4 | O33: 4 | P33: 0 | Q33: 3 | R33: 1 | S33: 0 | T33: 24 | U33: 0 | V33: 17 | W33: 7 | X33: 0 | Y33: 0 | Z33: 29 | AA33: 2
A34: 1.6.1 | B34: ավելացվել է | C34: ´³ñ»ËÇÕ× Ó»éùµ»ñáÕÇó Çñ ·áõÛùÁ Ñ»ï å³Ñ³Ýç»Éáõ í»ñ³µ»ñÛ³É | F34: 0 | G34: 0 | H34: 0 | I34: 0 | J34: 0 | K34: 0 | L34: 0 | M34: 0 | N34: 0 | O34: 0 | P34: 0 | Q34: 0 | R34: 0 | S34: 0 | T34: 0 | U34: 0 | V34: 0 | W34: 0 | X34: 0 | Y34: 0 | Z34: 0 | AA34: 0
A35: 1.7 | C35: îÇñ³å»ïáõÙÇó ½ñÏ»Éáõ Ñ»ï ãÏ³åí³Í Çñ³íáõÝùÝ»ñÇ Ë³ËïáõÙÁ í»ñ³óÝ»Éáõ í»ñ³µ»ñÛ³É | F35: 8 | G35: 30 | H35: 23 | I35: 6 | J35: 1 | K35: 9 | L35: 3 | M35: 1 | N35: 2 | O35: 3 | P35: 2 | Q35: 1 | R35: 0 | S35: 0 | T35: 9 | U35: 0 | V35: 3 | W35: 6 | X35: 0 | Y35: 0 | Z35: 22 | AA35: 2
A36: 1.8 | C36: ÀÝ¹Ñ³Ýáõñ µ³ÅÝ³ÛÇÝ ë»÷³Ï³ÝáõÃÛáõÝÇó µ³ÅÇÝÝ ³é³ÝÓÝ³óÝ»Éáõ í»ñ³µ»ñÛ³É | F36: 86 | G36: 109 | H36: 99 | I36: 10 | J36: 0 | K36: 90 | L36: 37 | M36: 4 | N36: 16 | O36: 33 | P36: 8 | Q36: 23 | R36: 2 | S36: 0 | T36: 90 | U36: 0 | V36: 62 | W36: 28 | X36: 0 | Y36: 0 | Z36: 95 | AA36: 45
A37: 1.8.1 | B37: ավելացվել է | C37: Ð³Ù³ï»Õ ë»÷³Ï³ÝáõÃÛ³Ý Ý»ñùá ·ïÝíáÕ ·áõÛùÁ µ³Å³Ý»Éáõ ¨ ¹ñ³ÝÇó µ³ÅÇÝÝ ³é³ÝÓÝ³óÝ»Éáõ í»ñ³µ»ñÛ³É | F37: 0 | G37: 32 | H37: 26 | I37: 6 | J37: 0 | K37: 13 | L37: 7 | M37: 0 | N37: 1 | O37: 5 | P37: 3 | Q37: 2 | R37: 0 | S37: 0 | T37: 13 | U37: 0 | V37: 13 | W37: 0 | X37: 0 | Y37: 0 | Z37: 13 | AA37: 4
A38: 1.8.3 | B38: ավելացվել է | C38: ¶áõÛùÇ íñ³ µéÝ³·³ÝÓáõÙ ï³ñ³Í»Éáõ å³Ñ³ÝçÇ Ù³ëÇÝ | F38: 0 | G38: 4 | H38: 2 | I38: 2 | J38: 0 | K38: 0 | L38: 0 | M38: 0 | N38: 0 | O38: 0 | P38: 0 | Q38: 0 | R38: 0 | S38: 0 | T38: 0 | U38: 0 | V38: 0 | W38: 0 | X38: 0 | Y38: 0 | Z38: 2 | AA38: 1
A39: 1.9 | C39: ²ÛÉ í»×»ñ | F39: 36 | G39: 88 | H39: 67 | I39: 21 | J39: 0 | K39: 52 | L39: 19 | M39: 2 | N39: 18 | O39: 13 | P39: 0 | Q39: 13 | R39: 0 | S39: 0 | T39: 52 | U39: 0 | V39: 32 | W39: 20 | X39: 0 | Y39: 0 | Z39: 51 | AA39: 8
A40: 2. | C40: ¶áñÍ³ñùÝ»ñÇ Ñ»ï Ï³åí³Í í»×»ñ | F40: 0 | G40: 0 | H40: 0 | I40: 0 | J40: 0 | K40: 0 | L40: 0 | M40: 0 | N40: 0 | O40: 0 | P40: 0 | Q40: 0 | R40: 0 | S40: 0 | T40: 0 | U40: 0 | V40: 0 | W40: 0 | X40: 0 | Y40: 0 | Z40: 0 | AA40: 0
A41: 2.1 | C41: ·áñÍ³ñùÝ»ñÇ ³Ýí³í»ñáõÃÛ³Ý Ñ»ï Ï³åí³Í í»×»ñ | F41: 8 | G41: 20 | H41: 14 | I41: 6 | J41: 0 | K41: 10 | L41: 1 | M41: 0 | N41: 7 | O41: 2 | P41: 0 | Q41: 2 | R41: 0 | S41: 0 | T41: 10 | U41: 0 | V41: 5 | W41: 5 | X41: 0 | Y41: 0 | Z41: 12 | AA41: 2
A42: 2.1.1 | C42: ³Û¹ ÃíáõÙ`գáñÍ³ñùÁ íÇ×³Ñ³ñáõÛó ×³Ý³ã»Éáõ í»ñ³µ»ñÛ³É | F42: 0 | G42: 0 | H42: 0 | I42: 0 | J42: 0 | K42: 0 | L42: 0 | M42: 0 | N42: 0 | O42: 0 | P42: 0 | Q42: 0 | R42: 0 | S42: 0 | T42: 0 | U42: 0 | V42: 0 | W42: 0 | X42: 0 | Y42: 0 | Z42: 0 | AA42: 0
A43: 2.1.2 | C43: ³Û¹ ÃíáõÙ` ·áñÍ³ñùÇ ³éáãÝãáõÃÛ³Ý Ñ»ï¨³ÝùÝ»ñ ÏÇñ³é»Éáõ í»ñ³µ»ñÛ³É | F43: 4 | G43: 13 | H43: 9 | I43: 4 | J43: 0 | K43: 2 | L43: 1 | M43: 0 | N43: 0 | O43: 1 | P43: 0 | Q43: 1 | R43: 0 | S43: 0 | T43: 2 | U43: 0 | V43: 0 | W43: 2 | X43: 0 | Y43: 0 | Z43: 11 | AA43: 2
A44: 2.2 | C44: ¶áñÍ³ñùÁ í³í»ñ ×³Ý³ã»Éáõ í»ñ³µ»ñÛ³É | F44: 4 | G44: 9 | H44: 8 | I44: 1 | J44: 0 | K44: 7 | L44: 4 | M44: 0 | N44: 1 | O44: 2 | P44: 1 | Q44: 1 | R44: 0 | S44: 0 | T44: 7 | U44: 0 | V44: 7 | W44: 0 | X44: 0 | Y44: 0 | Z44: 5 | AA44: 1
A45: 2.3 | C45: ¶áñÍ³ñùÇó Í³·áÕ Çñ³íáõÝùÝ»ñÁ ·ñ³Ýó»Éáõ í»ñ³µ»ñÛ³É | F45: 0 | G45: 0 | H45: 0 | I45: 0 | J45: 0 | K45: 0 | L45: 0 | M45: 0 | N45: 0 | O45: 0 | P45: 0 | Q45: 0 | R45: 0 | S45: 0 | T45: 0 | U45: 0 | V45: 0 | W45: 0 | X45: 0 | Y45: 0 | Z45: 0 | AA45: 0
A46: 2.4 | C46: ä³ÛÙ³Ý³·ÇñÝ ³Ýí³í»ñ ×³Ý³ã»Éáõ í»ñ³µ»ñÛ³É | F46: 37 | G46: 46 | H46: 37 | I46: 8 | J46: 1 | K46: 18 | L46: 8 | M46: 0 | N46: 6 | O46: 4 | P46: 2 | Q46: 2 | R46: 0 | S46: 0 | T46: 18 | U46: 0 | V46: 11 | W46: 7 | X46: 0 | Y46: 0 | Z46: 56 | AA46: 11
A47: 2.5 | C47: ä³ÛÙ³Ý³·ñÇÁ í³í»ñ ×³Ý³ã»Éáõ í»ñ³µ»ñÛ³É | F47: 4 | G47: 4 | H47: 3 | I47: 1 | J47: 0 | K47: 2 | L47: 1 | M47: 1 | N47: 0 | O47: 0 | P47: 0 | Q47: 0 | R47: 0 | S47: 0 | T47: 2 | U47: 0 | V47: 1 | W47: 1 | X47: 0 | Y47: 0 | Z47: 5 | AA47: 0
A48: 2.6 | B48: ուժը կորցրել է | C48: ä³ÛÙ³Ý³·ñÇó Í³·áÕ Çñ³íáõÝùÝ»ñÁ ·ñ³Ýó»Éáõ í»ñ³µ»ñÛ³É | F48: 0 | G48: 0 | H48: 0 | I48: 0 | J48: 0 | K48: 0 | L48: 0 | M48: 0 | N48: 0 | O48: 0 | P48: 0 | Q48: 0 | R48: 0 | S48: 0 | T48: 0 | U48: 0 | V48: 0 | W48: 0 | X48: 0 | Y48: 0 | Z48: 0 | AA48: 0
A49: 2.7 | C49: ä³ÛÙ³Ý³·ÇñÁ ÷á÷áË»Éáõ ¨ ÉáõÍ»Éáõ í»ñ³µ»ñÛ³É | F49: 15 | G49: 27 | H49: 17 | I49: 10 | J49: 0 | K49: 14 | L49: 8 | M49: 1 | N49: 1 | O49: 4 | P49: 3 | Q49: 1 | R49: 0 | S49: 0 | T49: 14 | U49: 0 | V49: 14 | W49: 0 | X49: 0 | Y49: 0 | Z49: 18 | AA49: 0
A50: 2.8 | C50: ä³ÛÙ³Ý³·Çñ ÏÝù»ÉáõÝ å³ñï³íáñ»óÝ»Éáõ í»ñ³µ»ñÛ³É | F50: 0 | G50: 1 | H50: 0 | I50: 1 | J50: 0 | K50: 0 | L50: 0 | M50: 0 | N50: 0 | O50: 0 | P50: 0 | Q50: 0 | R50: 0 | S50: 0 | T50: 0 | U50: 0 | V50: 0 | W50: 0 | X50: 0 | Y50: 0 | Z50: 0 | AA50: 0
A51: 2.9 | C51: ²ÛÉ í»×»ñ | F51: 6 | G51: 20 | H51: 13 | I51: 6 | J51: 1 | K51: 14 | L51: 5 | M51: 0 | N51: 4 | O51: 5 | P51: 3 | Q51: 2 | R51: 0 | S51: 0 | T51: 14 | U51: 0 | V51: 7 | W51: 7 | X51: 0 | Y51: 0 | Z51: 5 | AA51: 0
A52: 3. | C52: Ä³é³Ý·áõÃÛ³Ý í»ñ³µ»ñÛ³É í»×»ñ | F52: 0 | G52: 0 | H52: 0 | I52: 0 | J52: 0 | K52: 0 | L52: 0 | M52: 0 | N52: 0 | O52: 0 | P52: 0 | Q52: 0 | R52: 0 | S52: 0 | T52: 0 | U52: 0 | V52: 0 | W52: 0 | X52: 0 | Y52: 0 | Z52: 0 | AA52: 0
...

Sheet EREBUNI
A1: Ð²ÞìºîìàôÂÚàôÜ
A2: ø²Ô²ø²òÆ²Î²Ü ¶àðÌºðÆ øÜÜàôÂÚ²Ü ìºð²´ºðÚ²È
A3: 2010Ã. Երկրորդ ÏÇë³ÙÛ³ÏÇ (ï³ñí³) Ñ³Ù³ñ
A5: êïáõ·Çã Ñ³í³ë³ñáõÙÝ»ñª 2=3+4+5, 1+3=15+16+21, 6=7+8+9+10, 10=11+12+13, 15=6+14, 21Ñ³í³ë³ñ ¿ 1+3-15-16 | F5: ²Ý³í³ñï ·áñÍ»ñÇ ÙÝ³óáñ¹Á Ñ³ßí»ïáõ Å³Ù³Ý³Ï³ßñç³ÝÇ ëÏ½µáõÙ | G5: êï³óí³Í Ñ³Ûó»ñÇ,¹ÇÙáõÙÝ»ñÇ (·áñÍ»ñ)ù³Ý³ÏÁ | K5: ²í³ñïí»É »Ý ·áñÍ»ñ Ñ³ßí»ïáõ Å³Ù³Ý³Ï³ßñç³ÝáõÙ | U5: ¶áñÍÝ áõÕ³ñÏí»É ¿ Áëï ÁÝ¹¹³ïáõÃÛ³Ý | V5: Øï»É »Ý ûñÇÝ³Ï³Ý áõÅÇ Ù»ç | W5: ´áÕáù³ñÏí»É »Ý í»ñ³ùÝÝÇã ¹³ï³ñ³Ý | Z5: ²Ý³í³ñï ·áñÍ»ñÇ ÙÝ³óáñ¹Á Ñ³ßí»ïáõ Å³Ù³Ý³Ï³ßñç³ÝÇ í»ñçáõÙ | AA5: ²Û¹ ÃíáõÙª Ï³ë»óí³Í
G8: ÀÝ¹³Ù»ÝÁ | H8: ²Û¹ ÃíáõÙª ÁÝ¹áõÝí»É ¿ í³ñáõÛÃ | I8: ²Û¹ ÃíáõÙª í»ñ³¹³ñÓí»É ¿ | J8: ²Û¹ ÃíáõÙª Ñ³Ûó»ñÇ (¹ÇÙáõÙÝ»ñÇ) ÁÝ¹áõÝáõÙÁ Ù»ñÅí»É ¿ | K8: ÀÝ¹³Ù»ÝÁ ³í³ñïí»É »Ý ·áñÍ»ñ í×éÇ Ï³Û³óáõÙáí | L8: ²Û¹ ÃíáõÙª Ñ³ÛóÇ µ³í³ñ³ñÙ³Ùµ | M8: ²Û¹ ÃíáõÙª Ñ³ÛóÇ Ù³ëÝ³ÏÇ µ³í³ñ³ñÙ³Ùµ | N8: ²Û¹ ÃíáõÙª Ñ³ÛóÇ Ù»ñÅÙ³Ùµ | O8: ²Û¹ ÃíáõÙª Ï³ñ×í»É »Ý | S8: Ð³ÛóÁ ÃáÕÝí»É ¿ ³é³Ýó ùÝÝáõÃÛ³Ý | T8: ÀÝ¹³Ù»ÝÝ ³í³ñïí»É »Ý ·áñÍ»ñ | W8: Ï³Û³óí³Í í×ÇéÝ»ñÇ ¹»Ù | X8: ³é³Ýó ùÝÝáõÃÛ³Ý ÃáÕÝ»Éáõ Ù³ëÇÝ áñáßáõÙÝ»ñÇ ¹»Ù | Y8: ÙÇç³ÝÏÛ³É ¹³ï³Ï³Ý ³Ïï»ñÇ ¹»Ù
O11: ÀÝ¹³Ù»ÝÁ Ï³ñ×í»É »Ý | P11: ²Û¹ ÃíáõÙª Ñ³ëï³ïí»É ¿ ÏÝùí³Í Ñ³ßïáõÃÛ³Ý Ñ³Ù³Ó³ÛÝáõÃÛáõÝÁ | Q11: ²Û¹ ÃíáõÙª Ñ³óÇó, ¹ÇÙáõÙÇó Ññ³Å³ñí»Éáõ ÑÇÙùáí | R11: ²Û¹ ÃíáõÙª ³ÛÉ ÑÇÙùáí
F19: 1 | G19: 2 | H19: 3 | I19: 4 | J19: 5 | K19: 6 | L19: 7 | M19: 8 | N19: 9 | O19: 10 | P19: 11 | Q19: 12 | R19: 13 | S19: 14 | T19: 15 | U19: 16 | V19: 17 | W19: 18 | X19: 19 | Y19: 20 | Z19: 21 | AA19: 22
A20: 1. | C20: ¶áõÛù³ÛÇÝ í»×»ñ | F20: 0 | G20: 0 | H20: 0 | I20: 0 | J20: 0 | K20: 0 | L20: 0 | M20: 0 | N20: 0 | O20: 0 | P20: 0 | Q20: 0 | R20: 0 | S20: 0 | T20: 0 | U20: 0 | V20: 0 | W20: 0 | X20: 0 | Y20: 0 | Z20: 0 | AA20: 0
A21: 1.1 | C21: ¶áõÛùÇ ÝÏ³ïÙ³Ùµ ë»÷³Ï³ÝáõÃÛ³Ý Çñ³íáõÝùÁ ×³Ý³ã»Éáõ í»ñ³µ»ñÛ³É | F21: 5 | G21: 35 | H21: 28 | I21: 6 | J21: 1 | K21: 18 | L21: 13 | M21: 1 | N21: 1 | O21: 3 | P21: 2 | Q21: 1 | R21: 0 | S21: 0 | T21: 18 | U21: 0 | V21: 17 | W21: 3 | X21: 0 | Y21: 0 | Z21: =F21+H21-T21-U21 -> 15 | AA21: 2
A22: 1.1.1 | C22: ²Û¹ ÃíáõÙª Ó»éùµ»ñÙ³Ý í³Õ»ÙáõÃÛ³Ý áõÅáí | F22: 12 | G22: 46 | H22: 39 | I22: 6 | J22: 1 | K22: 31 | L22: 17 | M22: 5 | N22: 5 | O22: 4 | P22: 0 | Q22: 4 | R22: 0 | S22: 0 | T22: 31 | U22: 1 | V22: 26 | W22: 14 | X22: 0 | Y22: 0 | Z22: =F22+H22-T22-U22 -> 19 | AA22: 7
A23: 1.1.2 | B23: ուժը կորցրել է | C23: ²Û¹ ÃíáõÙª ïÇñ³½áõñÏ ·áõÛùÇ ÝÏ³ïÙ³Ùµ | F23: 3 | G23: 0 | H23: 0 | I23: 0 | J23: 0 | K23: 0 | L23: 0 | M23: 0 | N23: 0 | O23: 0 | P23: 0 | Q23: 0 | R23: 0 | S23: 2 | T23: 2 | U23: 1 | V23: 0 | W23: 0 | X23: 0 | Y23: 0 | Z23: 0 | AA23: 0
A24: 1.1.3 | B24: ուժը կորցրել է | C24: ²Û¹ ÃíáõÙª ÇÝùÝ³Ï³Ù Ï³éáõÛóÇ ÝÏ³ïÙ³Ùµ | F24: 0 | G24: 0 | H24: 0 | I24: 0 | J24: 0 | K24: 0 | L24: 0 | M24: 0 | N24: 0 | O24: 0 | P24: 0 | Q24: 0 | R24: 0 | S24: 0 | T24: 0 | U24: 0 | V24: 0 | W24: 0 | X24: 0 | Y24: 0 | Z24: 0 | AA24: 0
A25: 1.2 | C25: ê»÷³Ï³ÝáõÃÛ³Ý Çñ³íáõÝùÇ ¹³¹³ñ»óÙ³Ý í»ñ³µ»ñÛ³É | F25: 3 | G25: 3 | H25: 3 | I25: 0 | J25: 0 | K25: 2 | L25: 1 | M25: 0 | N25: 0 | O25: 1 | P25: 0 | Q25: 1 | R25: 0 | S25: 0 | T25: 2 | U25: 0 | V25: 1 | W25: 1 | X25: 0 | Y25: 0 | Z25: =F25+H25-T25-U25 -> 4 | AA25: 1
A26: 1.3 | C26: ¶áõÛùÇ ÝÏ³ïÙ³Ùµ û·ï³·áñÍÙ³Ý Çñ³íáõÝùÁ ×³Ý³ã»Éáõ í»ñ³µ»ñÛ³É | F26: 1 | G26: 1 | H26: 1 | I26: 0 | J26: 0 | K26: 2 | L26: 0 | M26: 0 | N26: 2 | O26: 0 | P26: 0 | Q26: 0 | R26: 0 | S26: 0 | T26: 2 | U26: 0 | V26: 1 | W26: 1 | X26: 0 | Y26: 0 | Z26: =F26+H26-T26-U26 -> 0 | AA26: 0
A27: 1.3.1 | C27: ²Û¹ ÃíáõÙª µÝ³Ïû·ï³·áñÍÙ³Ý Çñ³íáõÝùÁ ×³Ý³ã»Éáõ í»ñ³µ»ñÛ³É | F27: 1 | G27: 1 | H27: 1 | I27: 0 | J27: 0 | K27: 1 | L27: 0 | M27: 0 | N27: 0 | O27: 1 | P27: 0 | Q27: 1 | R27: 0 | S27: 0 | T27: 1 | U27: 0 | V27: 1 | W27: 0 | X27: 0 | Y27: 0 | Z27: =F27+H27-T27-U27 -> 1 | AA27: 0
A28: 1.3.2 | C28: ²Û¹ ÃíáõÙª ÑáÕ³Ù³ëÇ ÝÏ³ïÙ³Ùµ û·ï³·áñÍÙ³Ý Çñ³íáõÝùÁ ×³Ý³ã»Éáõ í»ñ³µ»ñÛ³É | F28: 0 | G28: 0 | H28: 0 | I28: 0 | J28: 0 | K28: 0 | L28: 0 | M28: 0 | N28: 0 | O28: 0 | P28: 0 | Q28: 0 | R28: 0 | S28: 0 | T28: 0 | U28: 0 | V28: 0 | W28: 0 | X28: 0 | Y28: 0 | Z28: =F28+H28-T28-U28 -> 0 | AA28: 0
A29: 1.4 | C29: ¶áõÛùÇ ÝÏ³ïÙ³Ùµ û·ï³·áñÍÙ³Ý Çñ³íáõÝùÁ ¹³¹³ñ»óÝ»Éáõ í»ñ³µ»ñÛ³É | F29: 0 | G29: 0 | H29: 0 | I29: 0 | J29: 0 | K29: 0 | L29: 0 | M29: 0 | N29: 0 | O29: 0 | P29: 0 | Q29: 0 | R29: 0 | S29: 0 | T29: 0 | U29: 0 | V29: 0 | W29: 0 | X29: 0 | Y29: 0 | Z29: =F29+H29-T29-U29 -> 0 | AA29: 0
A30: 1.4.1 | C30: ²Û¹ ÃíáõÙª µÝ³Ïû·ï³·áñÍÙ³Ý Çñ³íáõÝùÁ ¹³¹³ñ»óÝ»Éáõ í»ñ³µ»ñÛ³É | F30: 2 | G30: 0 | H30: 0 | I30: 0 | J30: 0 | K30: 1 | L30: 0 | M30: 0 | N30: 1 | O30: 0 | P30: 0 | Q30: 0 | R30: 0 | S30: 0 | T30: 1 | U30: 0 | V30: 1 | W30: 1 | X30: 0 | Y30: 0 | Z30: =F30+H30-T30-U30 -> 1 | AA30: 1
A31: 1.4.1/1 | C31: ²Û¹ ÃíáõÙª ÷áËÑ³ïáõóÙ³Ùµ | F31: 1 | G31: 1 | H31: 0 | I31: 1 | J31: 0 | K31: 0 | L31: 0 | M31: 0 | N31: 0 | O31: 0 | P31: 0 | Q31: 0 | R31: 0 | S31: 0 | T31: 0 | U31: 0 | V31: 0 | W31: 0 | X31: 0 | Y31: 0 | Z31: =F31+H31-T31-U31 -> 1 | AA31: 1
A32: 1.5 | C32: ´Ý³Ï³ñ³ÝÇó/ ï³ñ³ÍùÇó/ íï³ñ»Éáõ í»ñ³µ»ñÛ³É | F32: 6 | G32: 35 | H32: 29 | I32: 6 | J32: 0 | K32: 17 | L32: 6 | M32: 1 | N32: 4 | O32: 6 | P32: 0 | Q32: 5 | R32: 1 | S32: 0 | T32: 17 | U32: 0 | V32: 12 | W32: 5 | X32: 0 | Y32: 0 | Z32: =F32+H32-T32-U32 -> 18 | AA32: 0
A33: 1.6 | C33: ¶áõÛùÝ áõñÇßÇ ³åûñÇÝÇ ïÇñ³å»ïáõÙÇó »ï í»ñ³¹³ñÓÝ»Éáõ í»ñ³µ»ñÛ³É | F33: 7 | G33: 27 | H33: 23 | I33: 4 | J33: 0 | K33: 15 | L33: 9 | M33: 0 | N33: 2 | O33: 4 | P33: 1 | Q33: 3 | R33: 0 | S33: 0 | T33: 15 | U33: 1 | V33: 11 | W33: 3 | X33: 0 | Y33: 0 | Z33: =F33+H33-T33-U33 -> 14 | AA33: 6
A34: 1.6.1 | B34: ավելացվել է | C34: ´³ñ»ËÇÕ× Ó»éùµ»ñáÕÇó Çñ ·áõÛùÁ Ñ»ï å³Ñ³Ýç»Éáõ í»ñ³µ»ñÛ³É | F34: 0 | G34: 0 | H34: 0 | I34: 0 | J34: 0 | K34: 0 | L34: 0 | M34: 0 | N34: 0 | O34: 0 | P34: 0 | Q34: 0 | R34: 0 | S34: 0 | T34: 0 | U34: 0 | V34: 0 | W34: 0 | X34: 0 | Y34: 0 | Z34: =F34+H34-T34-U34 -> 0 | AA34: 0
A35: 1.7 | C35: îÇñ³å»ïáõÙÇó ½ñÏ»Éáõ Ñ»ï ãÏ³åí³Í Çñ³íáõÝùÝ»ñÇ Ë³ËïáõÙÁ í»ñ³óÝ»Éáõ í»ñ³µ»ñÛ³É | F35: 3 | G35: 6 | H35: 6 | I35: 0 | J35: 0 | K35: 8 | L35: 0 | M35: 1 | N35: 4 | O35: 3 | P35: 0 | Q35: 2 | R35: 1 | S35: 0 | T35: 8 | U35: 0 | V35: 7 | W35: 3 | X35: 0 | Y35: 0 | Z35: =F35+H35-T35-U35 -> 1 | AA35: 2
A36: 1.8 | C36: ÀÝ¹Ñ³Ýáõñ µ³ÅÝ³ÛÇÝ ë»÷³Ï³ÝáõÃÛáõÝÇó µ³ÅÇÝÝ ³é³ÝÓÝ³óÝ»Éáõ í»ñ³µ»ñÛ³É | F36: 45 | G36: 72 | H36: 63 | I36: 9 | J36: 0 | K36: 40 | L36: 16 | M36: 3 | N36: 2 | O36: 19 | P36: 5 | Q36: 13 | R36: 1 | S36: 0 | T36: 40 | U36: 0 | V36: 34 | W36: 8 | X36: 0 | Y36: 0 | Z36: =F36+H36-T36-U36 -> 68 | AA36: 15
A37: 1.8.1 | B37: ավելացվել է | C37: Ð³Ù³ï»Õ ë»÷³Ï³ÝáõÃÛ³Ý Ý»ñùá ·ïÝíáÕ ·áõÛùÁ µ³Å³Ý»Éáõ ¨ ¹ñ³ÝÇó µ³ÅÇÝÝ ³é³ÝÓÝ³óÝ»Éáõ í»ñ³µ»ñÛ³É | F37: 0 | G37: 28 | H37: 23 | I37: 5 | J37: 0 | K37: 2 | L37: 0 | M37: 0 | N37: 0 | O37: 2 | P37: 0 | Q37: 2 | R37: 0 | S37: 0 | T37: 2 | U37: 0 | V37: 2 | W37: 0 | X37: 0 | Y37: 0 | Z37: =F37+H37-T37-U37 -> 21 | AA37: 7
A38: 1.8.3 | B38: ավելացվել է | C38: ¶áõÛùÇ íñ³ µéÝ³·³ÝÓáõÙ ï³ñ³Í»Éáõ å³Ñ³ÝçÇ Ù³ëÇÝ | F38: 0 | G38: 6 | H38: 3 | I38: 3 | J38: 0 | K38: 0 | L38: 0 | M38: 0 | N38: 0 | O38: 0 | P38: 0 | Q38: 0 | R38: 0 | S38: 0 | T38: 0 | U38: 0 | V38: 0 | W38: 0 | X38: 0 | Y38: 0 | Z38: =F38+H38-T38-U38 -> 3 | AA38: 2
A39: 1.9 | C39: ²ÛÉ í»×»ñ | F39: 11 | G39: 19 | H39: 14 | I39: 4 | J39: 1 | K39: 14 | L39: 5 | M39: 2 | N39: 4 | O39: 3 | P39: 0 | Q39: 2 | R39: 1 | S39: 0 | T39: 14 | U39: 0 | V39: 11 | W39: 7 | X39: 0 | Y39: 1 | Z39: =F39+H39-T39-U39 -> 11 | AA39: 4
A40: 2. | C40: ¶áñÍ³ñùÝ»ñÇ Ñ»ï Ï³åí³Í í»×»ñ | F40: 0 | G40: 0 | H40: 0 | I40: 0 | J40: 0 | K40: 0 | L40: 0 | M40: 0 | N40: 0 | O40: 0 | P40: 0 | Q40: 0 | R40: 0 | S40: 0 | T40: 0 | U40: 0 | V40: 0 | W40: 0 | X40: 0 | Y40: 0 | Z40: 0 | AA40: 0
A41: 2.1 | C41: ·áñÍ³ñùÝ»ñÇ ³Ýí³í»ñáõÃÛ³Ý Ñ»ï Ï³åí³Í í»×»ñ | F41: 8 | G41: 9 | H41: 9 | I41: 0 | J41: 0 | K41: 6 | L41: 1 | M41: 1 | N41: 2 | O41: 2 | P41: 0 | Q41: 2 | R41: 0 | S41: 0 | T41: 6 | U41: 0 | V41: 6 | W41: 3 | X41: 0 | Y41: 1 | Z41: =F41+H41-T41-U41 -> 11 | AA41: 1
A42: 2.1.1 | C42: ³Û¹ ÃíáõÙ`գáñÍ³ñùÁ íÇ×³Ñ³ñáõÛó ×³Ý³ã»Éáõ í»ñ³µ»ñÛ³É | F42: 0 | G42: 0 | H42: 0 | I42: 0 | J42: 0 | K42: 0 | L42: 0 | M42: 0 | N42: 0 | O42: 0 | P42: 0 | Q42: 0 | R42: 0 | S42: 0 | T42: 0 | U42: 0 | V42: 0 | W42: 1 | X42: 0 | Y42: 0 | Z42: =F42+H42-T42-U42 -> 0 | AA42: 0
A43: 2.1.2 | C43: ³Û¹ ÃíáõÙ` ·áñÍ³ñùÇ ³éáãÝãáõÃÛ³Ý Ñ»ï¨³ÝùÝ»ñ ÏÇñ³é»Éáõ í»ñ³µ»ñÛ³É | F43: 1 | G43: 3 | H43: 3 | I43: 0 | J43: 0 | K43: 3 | L43: 0 | M43: 0 | N43: 0 | O43: 3 | P43: 0 | Q43: 2 | R43: 1 | S43: 0 | T43: 3 | U43: 0 | V43: 3 | W43: 1 | X43: 0 | Y43: 0 | Z43: =F43+H43-T43-U43 -> 1 | AA43: 1
A44: 2.2 | C44: ¶áñÍ³ñùÁ í³í»ñ ×³Ý³ã»Éáõ í»ñ³µ»ñÛ³É | F44: 2 | G44: 6 | H44: 5 | I44: 1 | J44: 0 | K44: 4 | L44: 2 | M44: 0 | N44: 1 | O44: 1 | P44: 1 | Q44: 0 | R44: 0 | S44: 0 | T44: 4 | U44: 0 | V44: 4 | W44: 1 | X44: 0 | Y44: 1 | Z44: =F44+H44-T44-U44 -> 3 | AA44: 0
A45: 2.3 | C45: ¶áñÍ³ñùÇó Í³·áÕ Çñ³íáõÝùÝ»ñÁ ·ñ³Ýó»Éáõ í»ñ³µ»ñÛ³É | F45: 0 | G45: 0 | H45: 0 | I45: 0 | J45: 0 | K45: 0 | L45: 0 | M45: 0 | N45: 0 | O45: 0 | P45: 0 | Q45: 0 | R45: 0 | S45: 0 | T45: 0 | U45: 0 | V45: 0 | W45: 0 | X45: 0 | Y45: 0 | Z45: =F45+H45-T45-U45 -> 0 | AA45: 0
A46: 2.4 | C46: ä³ÛÙ³Ý³·ÇñÝ ³Ýí³í»ñ ×³Ý³ã»Éáõ í»ñ³µ»ñÛ³É | F46: 5 | G46: 13 | H46: 12 | I46: 1 | J46: 0 | K46: 8 | L46: 4 | M46: 0 | N46: 4 | O46: 0 | P46: 0 | Q46: 0 | R46: 0 | S46: 0 | T46: 8 | U46: 0 | V46: 1 | W46: 8 | X46: 0 | Y46: 0 | Z46: =F46+H46-T46-U46 -> 9 | AA46: 6
A47: 2.5 | C47: ä³ÛÙ³Ý³·ñÇÁ í³í»ñ ×³Ý³ã»Éáõ í»ñ³µ»ñÛ³É | F47: 1 | G47: 6 | H47: 4 | I47: 2 | J47: 0 | K47: 4 | L47: 1 | M47: 0 | N47: 1 | O47: 2 | P47: 1 | Q47: 1 | R47: 0 | S47: 0 | T47: 4 | U47: 0 | V47: 3 | W47: 0 | X47: 0 | Y47: 0 | Z47: =F47+H47-T47-U47 -> 1 | AA47: 1
A48: 2.6 | B48: ուժը կորցրել է | C48: ä³ÛÙ³Ý³·ñÇó Í³·áÕ Çñ³íáõÝùÝ»ñÁ ·ñ³Ýó»Éáõ í»ñ³µ»ñÛ³É | F48: 0 | G48: 0 | H48: 0 | I48: 0 | J48: 0 | K48: 0 | L48: 0 | M48: 0 | N48: 0 | O48: 0 | P48: 0 | Q48: 0 | R48: 0 | S48: 0 | T48: 0 | U48: 0 | V48: 0 | W48: 0 | X48: 0 | Y48: 0 | Z48: =F48+H48-T48-U48 -> 0 | AA48: 0
A49: 2.7 | C49: ä³ÛÙ³Ý³·ÇñÁ ÷á÷áË»Éáõ ¨ ÉáõÍ»Éáõ í»ñ³µ»ñÛ³É | F49: 8 | G49: 4 | H49: 4 | I49: 0 | J49: 0 | K49: 9 | L49: 6 | M49: 1 | N49: 1 | O49: 1 | P49: 1 | Q49: 0 | R49: 0 | S49: 0 | T49: 9 | U49: 0 | V49: 10 | W49: 1 | X49: 0 | Y49: 1 | Z49: =F49+H49-T49-U49 -> 3 | AA49: 1
A50: 2.8 | C50: ä³ÛÙ³Ý³·Çñ ÏÝù»ÉáõÝ å³ñï³íáñ»óÝ»Éáõ í»ñ³µ»ñÛ³É | F50: 0 | G50: 1 | H50: 1 | I50: 0 | J50: 0 | K50: 1 | L50: 0 | M50: 0 | N50: 0 | O50: 1 | P50: 1 | Q50: 0 | R50: 0 | S50: 0 | T50: 1 | U50: 0 | V50: 1 | W50: 0 | X50: 0 | Y50: 0 | Z50: =F50+H50-T50-U50 -> 0 | AA50: 0
A51: 2.9 | C51: ²ÛÉ í»×»ñ | F51: 2 | G51: 8 | H51: 7 | I51: 1 | J51: 0 | K51: 5 | L51: 2 | M51: 0 | N51: 1 | O51: 2 | P51: 1 | Q51: 1 | R51: 0 | S51: 1 | T51: 6 | U51: 1 | V51: 5 | W51: 2 | X51: 0 | Y51: 0 | Z51: =F51+H51-T51-U51 -> 2 | AA51: 2
A52: 3. | C52: Ä³é³Ý·áõÃÛ³Ý í»ñ³µ»ñÛ³É í»×»ñ | F52: 0 | G52: 0 | H52: 0 | I52: 0 | J52: 0 | K52: 0 | L52: 0 | M52: 0 | N52: 0 | O52: 0 | P52: 0 | Q52: 0 | R52: 0 | S52: 0 | T52: 0 | U52: 0 | V52: 0 | W52: 0 | X52: 0 | Y52: 0 | Z52: 0 | AA52: 0
...

Sheet MALATYA
A1: Ð²ÞìºîìàôÂÚàôÜ
A2: ø²Ô²ø²òÆ²Î²Ü ¶àðÌºðÆ øÜÜàôÂÚ²Ü ìºð²´ºðÚ²È
A3: Հավելված 2 Հայաստանի Հանրապետության Դատարանների նախագահների խորհրդի 2007թ. դեկտեմբերի 21-ի թիվ 23Լ որոշման
A5: êïáõ·Çã Ñ³í³ë³ñáõÙÝ»ñª 2=3+4+5, 1+3=15+16+21, 6=7+8+9+10, 10=11+12+13, 15=6+14, | F5: ²Ý³í³ñï ·áñÍ»ñÇ ÙÝ³óáñ¹Á Ñ³ßí»ïáõ Å³Ù³Ý³Ï³ßñç³ÝÇ ëÏ½µáõÙ | G5: êï³óí³Í Ñ³Ûó»ñÇ,¹ÇÙáõÙÝ»ñÇ (·áñÍ»ñ)ù³Ý³ÏÁ | K5: ²í³ñïí»É »Ý ·áñÍ»ñ Ñ³ßí»ïáõ Å³Ù³Ý³Ï³ßñç³ÝáõÙ | U5: ¶áñÍÝ áõÕ³ñÏí»É ¿ Áëï ÁÝ¹¹³ïáõÃÛ³Ý | V5: Øï»É »Ý ûñÇÝ³Ï³Ý áõÅÇ Ù»ç | W5: ´áÕáù³ñÏí»É »Ý í»ñ³ùÝÝÇã ¹³ï³ñ³Ý | Z5: ²Ý³í³ñï ·áñÍ»ñÇ ÙÝ³óáñ¹Á Ñ³ßí»ïáõ Å³Ù³Ý³Ï³ßñç³ÝÇ í»ñçáõÙ | AA5: ²Û¹ ÃíáõÙª Ï³ë»óí³Í
G8: ÀÝ¹³Ù»ÝÁ | H8: ²Û¹ ÃíáõÙª ÁÝ¹áõÝí»É ¿ í³ñáõÛÃ | I8: ²Û¹ ÃíáõÙª í»ñ³¹³ñÓí»É ¿ | J8: ²Û¹ ÃíáõÙª Ñ³Ûó»ñÇ (¹ÇÙáõÙÝ»ñÇ) ÁÝ¹áõÝáõÙÁ Ù»ñÅí»É ¿ | K8: ÀÝ¹³Ù»ÝÁ ³í³ñïí»É »Ý ·áñÍ»ñ í×éÇ Ï³Û³óáõÙáí | L8: ²Û¹ ÃíáõÙª Ñ³ÛóÇ µ³í³ñ³ñÙ³Ùµ | M8: ²Û¹ ÃíáõÙª Ñ³ÛóÇ Ù³ëÝ³ÏÇ µ³í³ñ³ñÙ³Ùµ | N8: ²Û¹ ÃíáõÙª Ñ³ÛóÇ Ù»ñÅÙ³Ùµ | O8: ²Û¹ ÃíáõÙª Ï³ñ×í»É »Ý | S8: Ð³ÛóÁ ÃáÕÝí»É ¿ ³é³Ýó ùÝÝáõÃÛ³Ý | T8: ÀÝ¹³Ù»ÝÝ ³í³ñïí»É »Ý ·áñÍ»ñ | W8: Ï³Û³óí³Í í×ÇéÝ»ñÇ ¹»Ù | X8: ³é³Ýó ùÝÝáõÃÛ³Ý ÃáÕÝ»Éáõ Ù³ëÇÝ áñáßáõÙÝ»ñÇ ¹»Ù | Y8: ÙÇç³ÝÏÛ³É ¹³ï³Ï³Ý ³Ïï»ñÇ ¹»Ù
O11: ÀÝ¹³Ù»ÝÁ Ï³ñ×í»É »Ý | P11: ²Û¹ ÃíáõÙª Ñ³ëï³ïí»É ¿ ÏÝùí³Í Ñ³ßïáõÃÛ³Ý Ñ³Ù³Ó³ÛÝáõÃÛáõÝÁ | Q11: ²Û¹ ÃíáõÙª Ñ³óÇó, ¹ÇÙáõÙÇó Ññ³Å³ñí»Éáõ ÑÇÙùáí | R11: ²Û¹ ÃíáõÙª ³ÛÉ ÑÇÙùáí
A19: Æñ³í³Ñ³ñ³µ»ñáõÃÛáõÝÝ»ñÇ ï»ë³ÏÝ»ñÁ | F19: 1 | G19: 2 | H19: 3 | I19: 4 | J19: 5 | K19: 6 | L19: 7 | M19: 8 | N19: 9 | O19: 10 | P19: 11 | Q19: 12 | R19: 13 | S19: 14 | T19: 15 | U19: 16 | V19: 17 | W19: 18 | X19: 19 | Y19: 20 | Z19: 21 | AA19: 22
A20: 1. | C20: ¶áõÛù³ÛÇÝ í»×»ñ | F20: 0 | G20: 0 | H20: 0 | I20: 0 | J20: 0 | K20: 0 | L20: 0 | M20: 0 | N20: 0 | O20: 0 | P20: 0 | Q20: 0 | R20: 0 | S20: 0 | T20: 0 | U20: 0 | V20: 0 | W20: 0 | X20: 0 | Y20: 0 | Z20: 0 | AA20: 0
A21: 1.1 | C21: ¶áõÛùÇ ÝÏ³ïÙ³Ùµ ë»÷³Ï³ÝáõÃÛ³Ý Çñ³íáõÝùÁ ×³Ý³ã»Éáõ í»ñ³µ»ñÛ³É | F21: 4 | G21: 31 | H21: 27 | I21: 4 | J21: 0 | K21: 20 | L21: 15 | M21: 2 | N21: 1 | O21: 2 | P21: 1 | Q21: 1 | R21: 0 | S21: 0 | T21: 20 | U21: 0 | V21: 14 | W21: 6 | X21: 0 | Y21: 0 | Z21: 11 | AA21: 5
A22: 1.1.1 | C22: ²Û¹ ÃíáõÙª Ó»éùµ»ñÙ³Ý í³Õ»ÙáõÃÛ³Ý áõÅáí | F22: 7 | G22: 18 | H22: 16 | I22: 2 | J22: 0 | K22: 16 | L22: 9 | M22: 0 | N22: 3 | O22: 4 | P22: 1 | Q22: 1 | R22: 2 | S22: 0 | T22: 16 | U22: 0 | V22: 12 | W22: 4 | X22: 0 | Y22: 0 | Z22: 7 | AA22: 2
A23: 1.1.2 | B23: ուժը կորցրել է | C23: ²Û¹ ÃíáõÙª ïÇñ³½áõñÏ ·áõÛùÇ ÝÏ³ïÙ³Ùµ | F23: 0 | G23: 3 | H23: 1 | I23: 2 | J23: 0 | K23: 1 | L23: 1 | M23: 0 | N23: 0 | O23: 0 | P23: 0 | Q23: 0 | R23: 0 | S23: 0 | T23: 1 | U23: 0 | V23: 1 | W23: 0 | X23: 0 | Y23: 0 | Z23: 0 | AA23: 0
A24: 1.1.3 | B24: ուժը կորցրել է | C24: ²Û¹ ÃíáõÙª ÇÝùÝ³Ï³Ù Ï³éáõÛóÇ ÝÏ³ïÙ³Ùµ | F24: 0 | G24: 0 | H24: 0 | I24: 0 | J24: 0 | K24: 0 | L24: 0 | M24: 0 | N24: 0 | O24: 0 | P24: 0 | Q24: 0 | R24: 0 | S24: 0 | T24: 0 | U24: 0 | V24: 0 | W24: 0 | X24: 0 | Y24: 0 | Z24: 0 | AA24: 0
A25: 1.2 | C25: ê»÷³Ï³ÝáõÃÛ³Ý Çñ³íáõÝùÇ ¹³¹³ñ»óÙ³Ý í»ñ³µ»ñÛ³É | F25: 2 | G25: 1 | H25: 1 | I25: 0 | J25: 0 | K25: 2 | L25: 1 | M25: 0 | N25: 1 | O25: 0 | P25: 0 | Q25: 0 | R25: 0 | S25: 0 | T25: 2 | U25: 0 | V25: 1 | W25: 1 | X25: 0 | Y25: 0 | Z25: 1 | AA25: 1
A26: 1.3 | C26: ¶áõÛùÇ ÝÏ³ïÙ³Ùµ û·ï³·áñÍÙ³Ý Çñ³íáõÝùÁ ×³Ý³ã»Éáõ í»ñ³µ»ñÛ³É | F26: 1 | G26: 3 | H26: 0 | I26: 2 | J26: 1 | K26: 1 | L26: 0 | M26: 0 | N26: 1 | O26: 0 | P26: 0 | Q26: 0 | R26: 0 | S26: 0 | T26: 1 | U26: 0 | V26: 0 | W26: 1 | X26: 0 | Y26: 0 | Z26: 0 | AA26: 0
A27: 1.3.1 | C27: ²Û¹ ÃíáõÙª µÝ³Ïû·ï³·áñÍÙ³Ý Çñ³íáõÝùÁ ×³Ý³ã»Éáõ í»ñ³µ»ñÛ³É | F27: 1 | G27: 0 | H27: 0 | I27: 0 | J27: 0 | K27: 1 | L27: 0 | M27: 0 | N27: 0 | O27: 1 | P27: 0 | Q27: 0 | R27: 1 | S27: 0 | T27: 1 | U27: 0 | V27: 1 | W27: 0 | X27: 0 | Y27: 0 | Z27: 0 | AA27: 0
A28: 1.3.2 | C28: ²Û¹ ÃíáõÙª ÑáÕ³Ù³ëÇ ÝÏ³ïÙ³Ùµ û·ï³·áñÍÙ³Ý Çñ³íáõÝùÁ ×³Ý³ã»Éáõ í»ñ³µ»ñÛ³É | F28: 1 | G28: 0 | H28: 0 | I28: 0 | J28: 0 | K28: 1 | L28: 0 | M28: 0 | N28: 0 | O28: 1 | P28: 0 | Q28: 1 | R28: 0 | S28: 0 | T28: 1 | U28: 0 | V28: 0 | W28: 1 | X28: 0 | Y28: 0 | Z28: 0 | AA28: 0
A29: 1.4 | C29: ¶áõÛùÇ ÝÏ³ïÙ³Ùµ û·ï³·áñÍÙ³Ý Çñ³íáõÝùÁ ¹³¹³ñ»óÝ»Éáõ í»ñ³µ»ñÛ³É | F29: 1 | G29: 0 | H29: 0 | I29: 0 | J29: 0 | K29: 1 | L29: 0 | M29: 0 | N29: 0 | O29: 1 | P29: 0 | Q29: 1 | R29: 0 | S29: 0 | T29: 1 | U29: 0 | V29: 1 | W29: 0 | X29: 0 | Y29: 0 | Z29: 0 | AA29: 0
A30: 1.4.1 | C30: ²Û¹ ÃíáõÙª µÝ³Ïû·ï³·áñÍÙ³Ý Çñ³íáõÝùÁ ¹³¹³ñ»óÝ»Éáõ í»ñ³µ»ñÛ³É | F30: 2 | G30: 6 | H30: 4 | I30: 2 | J30: 0 | K30: 4 | L30: 2 | M30: 0 | N30: 1 | O30: 1 | P30: 1 | Q30: 0 | R30: 0 | S30: 0 | T30: 4 | U30: 0 | V30: 3 | W30: 1 | X30: 0 | Y30: 0 | Z30: 2 | AA30: 2
A31: 1.4.1/1 | C31: ²Û¹ ÃíáõÙª ÷áËÑ³ïáõóÙ³Ùµ | F31: 0 | G31: 1 | H31: 1 | I31: 0 | J31: 0 | K31: 1 | L31: 0 | M31: 1 | N31: 0 | O31: 0 | P31: 0 | Q31: 0 | R31: 0 | S31: 0 | T31: 1 | U31: 0 | V31: 1 | W31: 0 | X31: 0 | Y31: 0 | Z31: 0 | AA31: 0
A32: 1.5 | C32: ´Ý³Ï³ñ³ÝÇó/ ï³ñ³ÍùÇó/ íï³ñ»Éáõ í»ñ³µ»ñÛ³É | F32: 8 | G32: 10 | H32: 10 | I32: 0 | J32: 0 | K32: 6 | L32: 5 | M32: 0 | N32: 1 | O32: 0 | P32: 0 | Q32: 0 | R32: 0 | S32: 0 | T32: 6 | U32: 0 | V32: 2 | W32: 4 | X32: 0 | Y32: 0 | Z32: 12 | AA32: 7
A33: 1.6 | C33: ¶áõÛùÝ áõñÇßÇ ³åûñÇÝÇ ïÇñ³å»ïáõÙÇó »ï í»ñ³¹³ñÓÝ»Éáõ í»ñ³µ»ñÛ³É | F33: 1 | G33: 13 | H33: 12 | I33: 1 | J33: 0 | K33: 8 | L33: 5 | M33: 0 | N33: 2 | O33: 1 | P33: 0 | Q33: 1 | R33: 0 | S33: 0 | T33: 8 | U33: 0 | V33: 4 | W33: 4 | X33: 0 | Y33: 0 | Z33: 5 | AA33: 0
A34: 1.6.1 | B34: ավելացվել է | C34: ´³ñ»ËÇÕ× Ó»éùµ»ñáÕÇó Çñ ·áõÛùÁ Ñ»ï å³Ñ³Ýç»Éáõ í»ñ³µ»ñÛ³É | F34: 0 | G34: 2 | H34: 2 | I34: 0 | J34: 0 | K34: 1 | L34: 1 | M34: 0 | N34: 0 | O34: 0 | P34: 0 | Q34: 0 | R34: 0 | S34: 0 | T34: 1 | U34: 0 | V34: 1 | W34: 0 | X34: 0 | Y34: 0 | Z34: 1 | AA34: 0
A35: 1.7 | C35: îÇñ³å»ïáõÙÇó ½ñÏ»Éáõ Ñ»ï ãÏ³åí³Í Çñ³íáõÝùÝ»ñÇ Ë³ËïáõÙÁ í»ñ³óÝ»Éáõ í»ñ³µ»ñÛ³É | F35: 3 | G35: 2 | H35: 2 | I35: 0 | J35: 0 | K35: 4 | L35: 2 | M35: 1 | N35: 0 | O35: 1 | P35: 0 | Q35: 0 | R35: 1 | S35: 0 | T35: 4 | U35: 0 | V35: 3 | W35: 1 | X35: 0 | Y35: 0 | Z35: 1 | AA35: 0
A36: 1.8 | C36: ÀÝ¹Ñ³Ýáõñ µ³ÅÝ³ÛÇÝ ë»÷³Ï³ÝáõÃÛáõÝÇó µ³ÅÇÝÝ ³é³ÝÓÝ³óÝ»Éáõ í»ñ³µ»ñÛ³É | F36: 31 | G36: 41 | H36: 37 | I36: 4 | J36: 0 | K36: 46 | L36: 20 | M36: 5 | N36: 1 | O36: 20 | P36: 6 | Q36: 9 | R36: 5 | S36: 0 | T36: 46 | U36: 1 | V36: 35 | W36: 10 | X36: 0 | Y36: 0 | Z36: 21 | AA36: 15
A37: 1.8.1 | B37: ավելացվել է | C37: Ð³Ù³ï»Õ ë»÷³Ï³ÝáõÃÛ³Ý Ý»ñùá ·ïÝíáÕ ·áõÛùÁ µ³Å³Ý»Éáõ ¨ ¹ñ³ÝÇó µ³ÅÇÝÝ ³é³ÝÓÝ³óÝ»Éáõ í»ñ³µ»ñÛ³É | F37: 0 | G37: 13 | H37: 12 | I37: 1 | J37: 0 | K37: 6 | L37: 2 | M37: 1 | N37: 0 | O37: 3 | P37: 0 | Q37: 2 | R37: 1 | S37: 0 | T37: 6 | U37: 0 | V37: 5 | W37: 1 | X37: 0 | Y37: 0 | Z37: 6 | AA37: 5
A38: 1.8.3 | B38: ավելացվել է | C38: ¶áõÛùÇ íñ³ µéÝ³·³ÝÓáõÙ ï³ñ³Í»Éáõ å³Ñ³ÝçÇ Ù³ëÇÝ | F38: 0 | G38: 1 | H38: 1 | I38: 0 | J38: 0 | K38: 1 | L38: 0 | M38: 0 | N38: 0 | O38: 1 | P38: 0 | Q38: 1 | R38: 0 | S38: 0 | T38: 1 | U38: 0 | V38: 1 | W38: 0 | X38: 0 | Y38: 0 | Z38: 0 | AA38: 0
A39: 1.9 | C39: ²ÛÉ í»×»ñ | F39: 8 | G39: 39 | H39: 34 | I39: 5 | J39: 0 | K39: 20 | L39: 10 | M39: 1 | N39: 2 | O39: 7 | P39: 1 | Q39: 5 | R39: 1 | S39: 0 | T39: 20 | U39: 1 | V39: 12 | W39: 7 | X39: 0 | Y39: 0 | Z39: 21 | AA39: 8
A40: 2. | C40: ¶áñÍ³ñùÝ»ñÇ Ñ»ï Ï³åí³Í í»×»ñ | F40: 0 | G40: 0 | H40: 0 | I40: 0 | J40: 0 | K40: 0 | L40: 0 | M40: 0 | N40: 0 | O40: 0 | P40: 0 | Q40: 0 | R40: 0 | S40: 0 | T40: 0 | U40: 0 | V40: 0 | W40: 0 | X40: 0 | Y40: 0 | Z40: 0 | AA40: 0
A41: 2.1 | C41: ·áñÍ³ñùÝ»ñÇ ³Ýí³í»ñáõÃÛ³Ý Ñ»ï Ï³åí³Í í»×»ñ | F41: 2 | G41: 3 | H41: 2 | I41: 1 | J41: 0 | K41: 2 | L41: 1 | M41: 0 | N41: 0 | O41: 1 | P41: 1 | Q41: 0 | R41: 0 | S41: 0 | T41: 2 | U41: 0 | V41: 2 | W41: 0 | X41: 0 | Y41: 0 | Z41: 2 | AA41: 1
A42: 2.1.1 | C42: ³Û¹ ÃíáõÙ`գáñÍ³ñùÁ íÇ×³Ñ³ñáõÛó ×³Ý³ã»Éáõ í»ñ³µ»ñÛ³É | F42: 0 | G42: 1 | H42: 1 | I42: 0 | J42: 0 | K42: 1 | L42: 0 | M42: 0 | N42: 0 | O42: 1 | P42: 0 | Q42: 0 | R42: 1 | S42: 0 | T42: 1 | U42: 0 | V42: 1 | W42: 0 | X42: 0 | Y42: 0 | Z42: 0 | AA42: 0
A43: 2.1.2 | C43: ³Û¹ ÃíáõÙ` ·áñÍ³ñùÇ ³éáãÝãáõÃÛ³Ý Ñ»ï¨³ÝùÝ»ñ ÏÇñ³é»Éáõ í»ñ³µ»ñÛ³É | F43: 2 | G43: 6 | H43: 5 | I43: 1 | J43: 0 | K43: 5 | L43: 3 | M43: 0 | N43: 2 | O43: 0 | P43: 0 | Q43: 0 | R43: 0 | S43: 0 | T43: 5 | U43: 0 | V43: 3 | W43: 2 | X43: 0 | Y43: 0 | Z43: 2 | AA43: 0
A44: 2.2 | C44: ¶áñÍ³ñùÁ í³í»ñ ×³Ý³ã»Éáõ í»ñ³µ»ñÛ³É | F44: 1 | G44: 1 | H44: 1 | I44: 0 | J44: 0 | K44: 2 | L44: 0 | M44: 0 | N44: 1 | O44: 1 | P44: 1 | Q44: 0 | R44: 0 | S44: 0 | T44: 2 | U44: 0 | V44: 1 | W44: 1 | X44: 0 | Y44: 0 | Z44: 0 | AA44: 0
A45: 2.3 | C45: ¶áñÍ³ñùÇó Í³·áÕ Çñ³íáõÝùÝ»ñÁ ·ñ³Ýó»Éáõ í»ñ³µ»ñÛ³É | F45: 0 | G45: 0 | H45: 0 | I45: 0 | J45: 0 | K45: 0 | L45: 0 | M45: 0 | N45: 0 | O45: 0 | P45: 0 | Q45: 0 | R45: 0 | S45: 0 | T45: 0 | U45: 0 | V45: 0 | W45: 0 | X45: 0 | Y45: 0 | Z45: 0 | AA45: 0
A46: 2.4 | C46: ä³ÛÙ³Ý³·ÇñÝ ³Ýí³í»ñ ×³Ý³ã»Éáõ í»ñ³µ»ñÛ³É | F46: 4 | G46: 10 | H46: 7 | I46: 1 | J46: 2 | K46: 5 | L46: 2 | M46: 0 | N46: 1 | O46: 2 | P46: 0 | Q46: 0 | R46: 2 | S46: 0 | T46: 5 | U46: 1 | V46: 1 | W46: 3 | X46: 0 | Y46: 0 | Z46: 5 | AA46: 1
A47: 2.5 | C47: ä³ÛÙ³Ý³·ñÇÁ í³í»ñ ×³Ý³ã»Éáõ í»ñ³µ»ñÛ³É | F47: 0 | G47: 1 | H47: 1 | I47: 0 | J47: 0 | K47: 1 | L47: 1 | M47: 0 | N47: 0 | O47: 0 | P47: 0 | Q47: 0 | R47: 0 | S47: 0 | T47: 1 | U47: 0 | V47: 0 | W47: 1 | X47: 0 | Y47: 0 | Z47: 0 | AA47: 0
A48: 2.6 | B48: ուժը կորցրել է | C48: ä³ÛÙ³Ý³·ñÇó Í³·áÕ Çñ³íáõÝùÝ»ñÁ ·ñ³Ýó»Éáõ í»ñ³µ»ñÛ³É | F48: 0 | G48: 1 | H48: 1 | I48: 0 | J48: 0 | K48: 1 | L48: 0 | M48: 0 | N48: 0 | O48: 1 | P48: 0 | Q48: 1 | R48: 0 | S48: 0 | T48: 1 | U48: 0 | V48: 1 | W48: 0 | X48: 0 | Y48: 0 | Z48: 0 | AA48: 0
A49: 2.7 | C49: ä³ÛÙ³Ý³·ÇñÁ ÷á÷áË»Éáõ ¨ ÉáõÍ»Éáõ í»ñ³µ»ñÛ³É | F49: 10 | G49: 7 | H49: 7 | I49: 0 | J49: 0 | K49: 10 | L49: 8 | M49: 1 | N49: 0 | O49: 1 | P49: 1 | Q49: 0 | R49: 0 | S49: 0 | T49: 10 | U49: 1 | V49: 7 | W49: 2 | X49: 0 | Y49: 0 | Z49: 6 | AA49: 4
A50: 2.8 | C50: ä³ÛÙ³Ý³·Çñ ÏÝù»ÉáõÝ å³ñï³íáñ»óÝ»Éáõ í»ñ³µ»ñÛ³É | F50: 1 | G50: 2 | H50: 1 | I50: 1 | J50: 0 | K50: 2 | L50: 1 | M50: 0 | N50: 0 | O50: 1 | P50: 0 | Q50: 1 | R50: 0 | S50: 0 | T50: 2 | U50: 0 | V50: 2 | W50: 0 | X50: 0 | Y50: 0 | Z50: 0 | AA50: 0
A51: 2.9 | C51: ²ÛÉ í»×»ñ | F51: 2 | G51: 12 | H51: 9 | I51: 3 | J51: 0 | K51: 9 | L51: 5 | M51: 0 | N51: 2 | O51: 2 | P51: 0 | Q51: 2 | R51: 0 | S51: 0 | T51: 9 | U51: 0 | V51: 7 | W51: 2 | X51: 0 | Y51: 0 | Z51: 2 | AA51: 1
A52: 3. | C52: Ä³é³Ý·áõÃÛ³Ý í»ñ³µ»ñÛ³É í»×»ñ | F52: 0 | G52: 0 | H52: 0 | I52: 0 | J52: 0 | K52: 0 | L52: 0 | M52: 0 | N52: 0 | O52: 0 | P52: 0 | Q52: 0 | R52: 0 | S52: 0 | T52: 0 | U52: 0 | V52: 0 | W52: 0 | X52: 0 | Y52: 0 | Z52: 0 | AA52: 0
...

Sheet SHENGAVIT
A1: ԵՐԵՎԱՆԻ ՇԵՆԳԱՎԻԹ ՎԱՐՉԱԿԱՆ ՇՐՋԱՆԻ ԸՆԴՀԱՆՈՒՐ ԻՐԱՎԱՍՈՒԹՅԱՆ ԴԱՏԱՐԱՆԻ 2010թ. ՏԱՐԵԿԱՆ Ð²ÞìºîìàôÂÚàôÜ
A2: ø²Ô²ø²òÆ²Î²Ü ¶àðÌºðÆ øÜÜàôÂÚ²Ü ìºð²´ºðÚ²È
A3: Հավելված 2 Հայաստանի Հանրապետության Դատարանների նախագահների խորհրդի 2007թ. դեկտեմբերի 21-ի թիվ 23Լ որոշման
A5: êïáõ·Çã Ñ³í³ë³ñáõÙÝ»ñª 2=3+4+5, 1+3=15+16+21, 6=7+8+9+10, 10=11+12+13, 15=6+14, | F5: ²Ý³í³ñï ·áñÍ»ñÇ ÙÝ³óáñ¹Á Ñ³ßí»ïáõ Å³Ù³Ý³Ï³ßñç³ÝÇ ëÏ½µáõÙ | G5: êï³óí³Í Ñ³Ûó»ñÇ,¹ÇÙáõÙÝ»ñÇ (·áñÍ»ñ)ù³Ý³ÏÁ | K5: ²í³ñïí»É »Ý ·áñÍ»ñ Ñ³ßí»ïáõ Å³Ù³Ý³Ï³ßñç³ÝáõÙ | U5: ¶áñÍÝ áõÕ³ñÏí»É ¿ Áëï ÁÝ¹¹³ïáõÃÛ³Ý | V5: Øï»É »Ý ûñÇÝ³Ï³Ý áõÅÇ Ù»ç | W5: ´áÕáù³ñÏí»É »Ý í»ñ³ùÝÝÇã ¹³ï³ñ³Ý | Z5: ²Ý³í³ñï ·áñÍ»ñÇ ÙÝ³óáñ¹Á Ñ³ßí»ïáõ Å³Ù³Ý³Ï³ßñç³ÝÇ í»ñçáõÙ | AA5: ²Û¹ ÃíáõÙª Ï³ë»óí³Í
G8: ÀÝ¹³Ù»ÝÁ | H8: ²Û¹ ÃíáõÙª ÁÝ¹áõÝí»É ¿ í³ñáõÛÃ | I8: ²Û¹ ÃíáõÙª í»ñ³¹³ñÓí»É ¿ | J8: ²Û¹ ÃíáõÙª Ñ³Ûó»ñÇ (¹ÇÙáõÙÝ»ñÇ) ÁÝ¹áõÝáõÙÁ Ù»ñÅí»É ¿ | K8: ÀÝ¹³Ù»ÝÁ ³í³ñïí»É »Ý ·áñÍ»ñ í×éÇ Ï³Û³óáõÙáí | L8: ²Û¹ ÃíáõÙª Ñ³ÛóÇ µ³í³ñ³ñÙ³Ùµ | M8: ²Û¹ ÃíáõÙª Ñ³ÛóÇ Ù³ëÝ³ÏÇ µ³í³ñ³ñÙ³Ùµ | N8: ²Û¹ ÃíáõÙª Ñ³ÛóÇ Ù»ñÅÙ³Ùµ | O8: ²Û¹ ÃíáõÙª Ï³ñ×í»É »Ý | S8: Ð³ÛóÁ ÃáÕÝí»É ¿ ³é³Ýó ùÝÝáõÃÛ³Ý | T8: ÀÝ¹³Ù»ÝÝ ³í³ñïí»É »Ý ·áñÍ»ñ | W8: Ï³Û³óí³Í í×ÇéÝ»ñÇ ¹»Ù | X8: ³é³Ýó ùÝÝáõÃÛ³Ý ÃáÕÝ»Éáõ Ù³ëÇÝ áñáßáõÙÝ»ñÇ ¹»Ù | Y8: ÙÇç³ÝÏÛ³É ¹³ï³Ï³Ý ³Ïï»ñÇ ¹»Ù
O11: ÀÝ¹³Ù»ÝÁ Ï³ñ×í»É »Ý | P11: ²Û¹ ÃíáõÙª Ñ³ëï³ïí»É ¿ ÏÝùí³Í Ñ³ßïáõÃÛ³Ý Ñ³Ù³Ó³ÛÝáõÃÛáõÝÁ | Q11: ²Û¹ ÃíáõÙª Ñ³óÇó, ¹ÇÙáõÙÇó Ññ³Å³ñí»Éáõ ÑÇÙùáí | R11: ²Û¹ ÃíáõÙª ³ÛÉ ÑÇÙùáí
A19: Æñ³í³Ñ³ñ³µ»ñáõÃÛáõÝÝ»ñÇ ï»ë³ÏÝ»ñÁ | F19: 1 | G19: 2 | H19: 3 | I19: 4 | J19: 5 | K19: 6 | L19: 7 | M19: 8 | N19: 9 | O19: 10 | P19: 11 | Q19: 12 | R19: 13 | S19: 14 | T19: 15 | U19: 16 | V19: 17 | W19: 18 | X19: 19 | Y19: 20 | Z19: 21 | AA19: 22
A20: 1. | C20: ¶áõÛù³ÛÇÝ í»×»ñ | F20: 0 | G20: 0 | H20: 0 | I20: 0 | J20: 0 | K20: 0 | L20: 0 | M20: 0 | N20: 0 | O20: 0 | P20: 0 | Q20: 0 | R20: 0 | S20: 0 | T20: 0 | U20: 0 | V20: 0 | W20: 0 | X20: 0 | Y20: 0 | Z20: 0 | AA20: 0
A21: 1.1 | C21: ¶áõÛùÇ ÝÏ³ïÙ³Ùµ ë»÷³Ï³ÝáõÃÛ³Ý Çñ³íáõÝùÁ ×³Ý³ã»Éáõ í»ñ³µ»ñÛ³É | F21: 12 | G21: 38 | H21: 37 | I21: 1 | J21: 0 | K21: 28 | L21: 8 | M21: 2 | N21: 6 | O21: 12 | P21: 1 | Q21: 8 | R21: 3 | S21: 0 | T21: 28 | U21: 0 | V21: 28 | W21: 7 | X21: 0 | Y21: 0 | Z21: 21 | AA21: 4
A22: 1.1.1 | C22: ²Û¹ ÃíáõÙª Ó»éùµ»ñÙ³Ý í³Õ»ÙáõÃÛ³Ý áõÅáí | F22: 12 | G22: 25 | H22: 24 | I22: 1 | J22: 0 | K22: 27 | L22: 11 | M22: 1 | N22: 4 | O22: 11 | P22: 2 | Q22: 7 | R22: 2 | S22: 0 | T22: 27 | U22: 0 | V22: 19 | W22: 11 | X22: 0 | Y22: 0 | Z22: 9 | AA22: 7
A23: 1.1.2 | B23: ուժը կորցրել է | C23: ²Û¹ ÃíáõÙª ïÇñ³½áõñÏ ·áõÛùÇ ÝÏ³ïÙ³Ùµ | F23: 0 | G23: 0 | H23: 0 | I23: 0 | J23: 0 | K23: 0 | L23: 0 | M23: 0 | N23: 0 | O23: 0 | P23: 0 | Q23: 0 | R23: 0 | S23: 0 | T23: 0 | U23: 0 | V23: 0 | W23: 0 | X23: 0 | Y23: 0 | Z23: 0 | AA23: 0
A24: 1.1.3 | B24: ուժը կորցրել է | C24: ²Û¹ ÃíáõÙª ÇÝùÝ³Ï³Ù Ï³éáõÛóÇ ÝÏ³ïÙ³Ùµ | F24: 0 | G24: 0 | H24: 0 | I24: 0 | J24: 0 | K24: 0 | L24: 0 | M24: 0 | N24: 0 | O24: 0 | P24: 0 | Q24: 0 | R24: 0 | S24: 0 | T24: 0 | U24: 0 | V24: 0 | W24: 0 | X24: 0 | Y24: 0 | Z24: 0 | AA24: 0
A25: 1.2 | C25: ê»÷³Ï³ÝáõÃÛ³Ý Çñ³íáõÝùÇ ¹³¹³ñ»óÙ³Ý í»ñ³µ»ñÛ³É | F25: 0 | G25: 2 | H25: 2 | I25: 0 | J25: 0 | K25: 2 | L25: 1 | M25: 0 | N25: 1 | O25: 0 | P25: 0 | Q25: 0 | R25: 0 | S25: 0 | T25: 2 | U25: 0 | V25: 0 | W25: 1 | X25: 0 | Y25: 0 | Z25: 0 | AA25: 0
A26: 1.3 | C26: ¶áõÛùÇ ÝÏ³ïÙ³Ùµ û·ï³·áñÍÙ³Ý Çñ³íáõÝùÁ ×³Ý³ã»Éáõ í»ñ³µ»ñÛ³É | F26: 0 | G26: 0 | H26: 0 | I26: 0 | J26: 0 | K26: 0 | L26: 0 | M26: 0 | N26: 0 | O26: 0 | P26: 0 | Q26: 0 | R26: 0 | S26: 0 | T26: 0 | U26: 0 | V26: 0 | W26: 0 | X26: 0 | Y26: 0 | Z26: 0 | AA26: 0
A27: 1.3.1 | C27: ²Û¹ ÃíáõÙª µÝ³Ïû·ï³·áñÍÙ³Ý Çñ³íáõÝùÁ ×³Ý³ã»Éáõ í»ñ³µ»ñÛ³É | F27: 0 | G27: 4 | H27: 1 | I27: 3 | J27: 0 | K27: 1 | L27: 0 | M27: 0 | N27: 1 | O27: 0 | P27: 0 | Q27: 0 | R27: 0 | S27: 0 | T27: 1 | U27: 0 | V27: 0 | W27: 1 | X27: 0 | Y27: 0 | Z27: 0 | AA27: 0
A28: 1.3.2 | C28: ²Û¹ ÃíáõÙª ÑáÕ³Ù³ëÇ ÝÏ³ïÙ³Ùµ û·ï³·áñÍÙ³Ý Çñ³íáõÝùÁ ×³Ý³ã»Éáõ í»ñ³µ»ñÛ³É | F28: 0 | G28: 1 | H28: 1 | I28: 0 | J28: 0 | K28: 1 | L28: 0 | M28: 1 | N28: 0 | O28: 0 | P28: 0 | Q28: 0 | R28: 0 | S28: 0 | T28: 1 | U28: 0 | V28: 0 | W28: 1 | X28: 0 | Y28: 0 | Z28: 0 | AA28: 0
A29: 1.4 | C29: ¶áõÛùÇ ÝÏ³ïÙ³Ùµ û·ï³·áñÍÙ³Ý Çñ³íáõÝùÁ ¹³¹³ñ»óÝ»Éáõ í»ñ³µ»ñÛ³É | F29: 0 | G29: 1 | H29: 1 | I29: 0 | J29: 0 | K29: 1 | L29: 1 | M29: 0 | N29: 0 | O29: 0 | P29: 0 | Q29: 0 | R29: 0 | S29: 0 | T29: 1 | U29: 0 | V29: 1 | W29: 0 | X29: 0 | Y29: 0 | Z29: 0 | AA29: 0
A30: 1.4.1 | C30: ²Û¹ ÃíáõÙª µÝ³Ïû·ï³·áñÍÙ³Ý Çñ³íáõÝùÁ ¹³¹³ñ»óÝ»Éáõ í»ñ³µ»ñÛ³É | F30: 0 | G30: 2 | H30: 2 | I30: 0 | J30: 0 | K30: 2 | L30: 2 | M30: 0 | N30: 0 | O30: 0 | P30: 0 | Q30: 0 | R30: 0 | S30: 0 | T30: 2 | U30: 0 | V30: 1 | W30: 1 | X30: 0 | Y30: 0 | Z30: 0 | AA30: 0
A31: 1.4.1/1 | C31: ²Û¹ ÃíáõÙª ÷áËÑ³ïáõóÙ³Ùµ | F31: 0 | G31: 0 | H31: 0 | I31: 0 | J31: 0 | K31: 0 | L31: 0 | M31: 0 | N31: 0 | O31: 0 | P31: 0 | Q31: 0 | R31: 0 | S31: 0 | T31: 0 | U31: 0 | V31: 0 | W31: 0 | X31: 0 | Y31: 0 | Z31: 0 | AA31: 0
A32: 1.5 | C32: ´Ý³Ï³ñ³ÝÇó/ ï³ñ³ÍùÇó/ íï³ñ»Éáõ í»ñ³µ»ñÛ³É | F32: 19 | G32: 27 | H32: 26 | I32: 1 | J32: 0 | K32: 25 | L32: 13 | M32: 1 | N32: 4 | O32: 7 | P32: 2 | Q32: 5 | R32: 0 | S32: 0 | T32: 25 | U32: 0 | V32: 18 | W32: 13 | X32: 0 | Y32: 0 | Z32: 20 | AA32: 9
A33: 1.6 | C33: ¶áõÛùÝ áõñÇßÇ ³åûñÇÝÇ ïÇñ³å»ïáõÙÇó »ï í»ñ³¹³ñÓÝ»Éáõ í»ñ³µ»ñÛ³É | F33: 2 | G33: 17 | H33: 17 | I33: 0 | J33: 0 | K33: 11 | L33: 3 | M33: 1 | N33: 2 | O33: 5 | P33: 1 | Q33: 4 | R33: 0 | S33: 0 | T33: 11 | U33: 0 | V33: 8 | W33: 4 | X33: 0 | Y33: 0 | Z33: 8 | AA33: 0
A34: 1.6.1 | B34: ավելացվել է | C34: ´³ñ»ËÇÕ× Ó»éùµ»ñáÕÇó Çñ ·áõÛùÁ Ñ»ï å³Ñ³Ýç»Éáõ í»ñ³µ»ñÛ³É | F34: 0 | G34: 0 | H34: 0 | I34: 0 | J34: 0 | K34: 0 | L34: 0 | M34: 0 | N34: 0 | O34: 0 | P34: 0 | Q34: 0 | R34: 0 | S34: 0 | T34: 0 | U34: 0 | V34: 0 | W34: 0 | X34: 0 | Y34: 0 | Z34: 0 | AA34: 0
A35: 1.7 | C35: îÇñ³å»ïáõÙÇó ½ñÏ»Éáõ Ñ»ï ãÏ³åí³Í Çñ³íáõÝùÝ»ñÇ Ë³ËïáõÙÁ í»ñ³óÝ»Éáõ í»ñ³µ»ñÛ³É | F35: 2 | G35: 2 | H35: 2 | I35: 0 | J35: 0 | K35: 4 | L35: 2 | M35: 1 | N35: 0 | O35: 1 | P35: 0 | Q35: 1 | R35: 0 | S35: 0 | T35: 4 | U35: 0 | V35: 8 | W35: 1 | X35: 0 | Y35: 0 | Z35: 0 | AA35: 0
A36: 1.8 | C36: ÀÝ¹Ñ³Ýáõñ µ³ÅÝ³ÛÇÝ ë»÷³Ï³ÝáõÃÛáõÝÇó µ³ÅÇÝÝ ³é³ÝÓÝ³óÝ»Éáõ í»ñ³µ»ñÛ³É | F36: 26 | G36: 38 | H36: 37 | I36: 1 | J36: 0 | K36: 46 | L36: 11 | M36: 1 | N36: 10 | O36: 24 | P36: 5 | Q36: 18 | R36: 1 | S36: 0 | T36: 46 | U36: 1 | V36: 37 | W36: 0 | X36: 0 | Y36: 0 | Z36: 16 | AA36: 14
A37: 1.8.1 | B37: ավելացվել է | C37: Ð³Ù³ï»Õ ë»÷³Ï³ÝáõÃÛ³Ý Ý»ñùá ·ïÝíáÕ ·áõÛùÁ µ³Å³Ý»Éáõ ¨ ¹ñ³ÝÇó µ³ÅÇÝÝ ³é³ÝÓÝ³óÝ»Éáõ í»ñ³µ»ñÛ³É | F37: 0 | G37: 23 | H37: 23 | I37: 0 | J37: 0 | K37: 8 | L37: 2 | M37: 0 | N37: 3 | O37: 3 | P37: 0 | Q37: 2 | R37: 1 | S37: 0 | T37: 8 | U37: 0 | V37: 2 | W37: 3 | X37: 0 | Y37: 0 | Z37: 15 | AA37: 9
