Workbook

Sheet AJAPNYAK
A1: ø²Ô²ø²òÆ²Î²Ü ¶àðÌºðÆ øÜÜàôÂÚ²Ü ìºð²´ºðÚ²È
A2: ²ç³÷ÝÛ³Ï ¨ ¸³íÃ³ß»Ý í³ñã³Ï³Ý ßñç³ÝÝ»ñÇ ÁÝ¹Ñ³Ýáõñ Çñ³í³ëáõÃÛ³Ý ¹³ï³ñ³Ý 2010 Ã. ï³ñ»Ï³Ý
A5: êïáõ·Çã Ñ³í³ë³ñáõÙÝ»ñª 2=3+4+5, 1+3=15+16+21, 6=7+8+9+10, 10=11+12+13, 15=6+14 | F5: ²Ý³í³ñï ·áñÍ»ñÇ ÙÝ³óáñ¹Á Ñ³ßí»ïáõ Å³Ù³Ý³Ï³ßñç³ÝÇ ëÏ½µáõÙ | G5: êï³óí³Í Ñ³Ûó»ñÇ, ¹ÇÙáõÙÝ»ñÇ (·áñÍ»ñ) ù³Ý³ÏÁ | K5: ²í³ñïí»É »Ý ·áñÍ»ñ Ñ³ßí»ïáõ Å³Ù³Ý³Ï³ßñç³ÝáõÙ | U5: ¶áñÍÝ áõÕ³ñÏí»É ¿ Áëï ÁÝ¹¹³ïáõÃÛ³Ý | V5: Øï»É »Ý ûñÇÝ³Ï³Ý áõÅÇ Ù»ç | W5: ´áÕáù³ñÏí»É »Ý í»ñ³ùÝÝÇã ¹³ï³ñ³Ý | Z5: ²Ý³í³ñï ·áñÍ»ñÇ ÙÝ³óáñ¹Á Ñ³ßí»ïáõ Å³Ù³Ý³Ï³ßñç³ÝÇ í»ñçáõÙ | AA5: ²Û¹ ÃíáõÙª Ï³ë»óí³Í
W6: Ï³Û³óí³Í í×ÇéÝ»ñÇ ¹»Ù | X6: ³é³Ýó ùÝÝáõÃÛ³Ý ÃáÕÝ»Éáõ Ù³ëÇÝ áñáßáõÙÝ»ñÇ ¹»Ù | Y6: ÙÇç³ÝÏÛ³É ¹³ï³Ï³Ý ³Ïï»ñÇ ¹»Ù
G8: ÀÝ¹³Ù»ÝÁ | H8: ²Û¹ ÃíáõÙª ÁÝ¹áõÝí»É ¿ í³ñáõÛÃ | I8: ²Û¹ ÃíáõÙª í»ñ³¹³ñÓí»É ¿ | J8: ²Û¹ ÃíáõÙª Ñ³Ûó»ñÇ (¹ÇÙáõÙÝ»ñÇ) ÁÝ¹áõÝáõÙÁ Ù»ñÅí»É ¿ | K8: ÀÝ¹³Ù»ÝÁ ³í³ñïí»É »Ý ·áñÍ»ñ í×éÇ Ï³Û³óáõÙáí | L8: ²Û¹ ÃíáõÙª Ñ³ÛóÇ µ³í³ñ³ñÙ³Ùµ | M8: ²Û¹ ÃíáõÙª Ñ³ÛóÇ Ù³ëÝ³ÏÇ µ³í³ñ³ñÙ³Ùµ | N8: ²Û¹ ÃíáõÙª Ñ³ÛóÇ Ù»ñÅÙ³Ùµ | O8: ²Û¹ ÃíáõÙª Ï³ñ×í»É »Ý | S8: Ð³ÛóÁ ÃáÕÝí»É ¿ ³é³Ýó ùÝÝáõÃÛ³Ý | T8: ÀÝ¹³Ù»ÝÝ ³í³ñïí»É »Ý ·áñÍ»ñ
O11: ÀÝ¹³Ù»ÝÁ Ï³ñ×í»É »Ý | P11: ²Û¹ ÃíáõÙª Ñ³ëï³ïí»É ¿ ÏÝùí³Í Ñ³ßïáõÃÛ³Ý Ñ³Ù³Ó³ÛÝáõÃÛáõÝÁ | Q11: ²Û¹ ÃíáõÙª Ñ³ÛóÇó, ¹ÇÙáõÙÇó Ññ³Å³ñí»Éáõ ÑÇÙùáí | R11: ²Û¹ ÃíáõÙª ³ÛÉ ÑÇÙùáí
A19: Æñ³í³Ñ³ñ³µ»ñáõÃÛáõÝÝ»ñÇ ï»ë³ÏÝ»ñÁ | F19: 1 | G19: 2 | H19: 3 | I19: 4 | J19: 5 | K19: 6 | L19: 7 | M19: 8 | N19: 9 | O19: 10 | P19: 11 | Q19: 12 | R19: 13 | S19: 14 | T19: 15 | U19: 16 | V19: 17 | W19: 18 | X19: 19 | Y19: 20 | Z19: 21 | AA19: 22
A20: 1 | C20: ¶áõÛù³ÛÇÝ í»×»ñ | F20: 0 | G20: 0 | H20: 0 | I20: 0 | J20: 0 | K20: 0 | L20: 0 | M20: 0 | N20: 0 | O20: 0 | P20: 0 | Q20: 0 | R20: 0 | S20: 0 | T20: 0 | U20: 0 | V20: 0 | W20: 0 | X20: 0 | Y20: 0 | Z20: 0 | AA20: 0
A21: 40179 | C21: ¶áõÛùÇ ÝÏ³ïÙ³Ùµ ë»÷³Ï³ÝáõÃÛ³Ý Çñ³íáõÝùÁ ×³Ý³ã»Éáõ í»ñ³µ»ñÛ³É | F21: ='[1]kod 1.1'!J13 -> 8 | G21: =H21+I21+J21 -> 33 | H21: ='[1]kod 1.1'!J14 -> 25 | I21: ='[1]kod 1.1'!M3 -> 7 | J21: ='[1]kod 1.1'!N3 -> 1 | K21: =L21+M21+N21+O21 -> 12 | L21: ='[1]kod 1.1'!J2 -> 2 | M21: ='[1]kod 1.1'!J3 -> 1 | N21: ='[1]kod 1.1'!J4 -> 4 | O21: =P21+Q21+R21 -> 5 | P21: ='[1]kod 1.1'!J7 -> 2 | Q21: ='[1]kod 1.1'!J8 -> 3 | R21: ='[1]kod 1.1'!J6 -> 0 | S21: ='[1]kod 1.1'!J5 -> 0 | T21: =K21+S21 -> 12 | U21: ='[1]kod 1.1'!J9 -> 1 | V21: ='[1]kod 1.1'!M2 -> 6 | W21: ='[1]kod 1.1'!G5 -> 2 | X21: 0 | Y21: ='[1]kod 1.1'!G6 -> 1 | Z21: ='[1]kod 1.1'!J10+'[1]kod 1.1'!J11 -> 20 | AA21: ='[1]kod 1.1'!J10 -> 3
A22: 1.1.1 | C22: ²Û¹ ÃíáõÙª Ó»éùµ»ñÙ³Ý í³Õ»ÙáõÃÛ³Ý áõÅáí | F22: ='[1]kod 1.1.1'!J13 -> 20 | G22: =H22+I22+J22 -> 24 | H22: ='[1]kod 1.1.1'!J14 -> 23 | I22: ='[1]kod 1.1.1'!M3 -> 1 | J22: ='[1]kod 1.1.1'!N3 -> 0 | K22: =L22+M22+N22+O22 -> 27 | L22: ='[1]kod 1.1.1'!J2 -> 11 | M22: ='[1]kod 1.1.1'!J3 -> 5 | N22: ='[1]kod 1.1.1'!J4 -> 3 | O22: =P22+Q22+R22 -> 8 | P22: ='[1]kod 1.1.1'!J7 -> 2 | Q22: ='[1]kod 1.1.1'!J8 -> 6 | R22: ='[1]kod 1.1.1'!J6 -> 0 | S22: ='[1]kod 1.1.1'!J5 -> 0 | T22: =K22+S22 -> 27 | U22: ='[1]kod 1.1.1'!J9 -> 0 | V22: ='[1]kod 1.1.1'!M2 -> 22 | W22: ='[1]kod 1.1.1'!G6 -> 9 | X22: 0 | Y22: ='[1]kod 1.1.1'!G7 -> 1 | Z22: ='[1]kod 1.1.1'!J10+'[1]kod 1.1.1'!J11 -> 16 | AA22: ='[1]kod 1.1.1'!J10 -> 4
A23: 1.1.2 | B23: áõÅÁ Ïáñóñ»É ¿ | C23: ²Û¹ ÃíáõÙª ïÇñ³½áõñÏ ·áõÛùÇ ÝÏ³ïÙ³Ùµ | F23: 0 | G23: 0 | H23: 0 | I23: 0 | J23: 0 | K23: 0 | L23: 0 | M23: 0 | N23: 0 | O23: 0 | P23: 0 | Q23: 0 | R23: 0 | S23: 0 | T23: 0 | U23: 0 | V23: 0 | W23: 0 | X23: 0 | Y23: 0 | Z23: 0 | AA23: 0
A24: 1.1.3 | B24: áõÅÁ Ïáñóñ»É ¿ | C24: ²Û¹ ÃíáõÙ` ÇÝùÝ³Ï³Ù Ï³éáõÛóÇ ÝÏ³ïÙ³Ùµ | F24: 0 | G24: 0 | H24: 0 | I24: 0 | J24: 0 | K24: 0 | L24: 0 | M24: 0 | N24: 0 | O24: 0 | P24: 0 | Q24: 0 | R24: 0 | S24: 0 | T24: 0 | U24: 0 | V24: 0 | W24: 0 | X24: 0 | Y24: 0 | Z24: 0 | AA24: 0
A25: 40210 | C25: ê»÷³Ï³ÝáõÃÛ³Ý Çñ³íáõÝùÇ ¹³¹³ñ»óÙ³Ý í»ñ³µ»ñÛ³É | F25: ='[1]kod 1.2'!J13 -> 0 | G25: =H25+I25+J25 -> 5 | H25: ='[1]kod 1.2'!J14 -> 4 | I25: ='[1]kod 1.2'!M3 -> 1 | J25: ='[1]kod 1.2'!N3 -> 0 | K25: =L25+M25+N25+O25 -> 1 | L25: ='[1]kod 1.2'!J2 -> 0 | M25: ='[1]kod 1.2'!J3 -> 0 | N25: ='[1]kod 1.2'!J4 -> 0 | O25: =P25+Q25+R25 -> 1 | P25: ='[1]kod 1.2'!J7 -> 0 | Q25: ='[1]kod 1.2'!J8 -> 1 | R25: ='[1]kod 1.2'!J6 -> 0 | S25: ='[1]kod 1.2'!J5 -> 0 | T25: =K25+S25 -> 1 | U25: ='[1]kod 1.2'!J9 -> 0 | V25: ='[1]kod 1.2'!M2 -> 1 | W25: ='[1]kod 1.2'!G6 -> 0 | X25: 0 | Y25: 0 | Z25: ='[1]kod 1.2'!J10+'[1]kod 1.2'!J11 -> 3 | AA25: ='[1]kod 1.2'!J10 -> 0
A26: 1.3 | C26: ¶áõÛùÇ ÝÏ³ïÙ³Ùµ û·ï³·áñÍÙ³Ý Çñ³íáõÝùÁ ×³Ý³ã»Éáõ í»ñ³µ»ñÛ³É | F26: ='[1]1.3'!J13 -> 0 | G26: =H26+I26+J26 -> 1 | H26: ='[1]1.3'!J14 -> 1 | I26: ='[1]1.3'!M3 -> 0 | J26: ='[1]1.3'!N3 -> 0 | K26: =L26+M26+N26+O26 -> 0 | L26: ='[1]1.3'!J2 -> 0 | M26: ='[1]1.3'!J3 -> 0 | N26: ='[1]1.3'!J4 -> 0 | O26: =P26+Q26+R26 -> 0 | P26: ='[1]1.3'!J7 -> 0 | Q26: ='[1]1.3'!J8 -> 0 | R26: ='[1]1.3'!J6 -> 0 | S26: ='[1]1.3'!J5 -> 0 | T26: =K26+S26 -> 0 | U26: ='[1]1.3'!J9 -> 0 | V26: ='[1]1.3'!M2 -> 0 | W26: ='[1]1.3'!G6 -> 0 | X26: 0 | Y26: 0 | Z26: ='[1]1.3'!J10+'[1]1.3'!J11 -> 1 | AA26: ='[1]1.3'!J10 -> 1
A27: 1.3.1 | C27: ²Û¹ ÃíáõÙª µÝ³Ïû·ï³·áñÍÙ³Ý Çñ³íáõÝùÁ ×³Ý³ã»Éáõ í»ñ³µ»ñÛ³É | F27: ='[1]kod 1.3.1'!J13 -> 0 | G27: =H27+I27+J27 -> 1 | H27: ='[1]kod 1.3.1'!J14 -> 1 | I27: ='[1]kod 1.3.1'!M3 -> 0 | J27: ='[1]kod 1.3.1'!N3 -> 0 | K27: =L27+M27+N27+O27 -> 1 | L27: ='[1]kod 1.3.1'!J2 -> 0 | M27: ='[1]kod 1.3.1'!J3 -> 0 | N27: ='[1]kod 1.3.1'!J4 -> 0 | O27: =P27+Q27+R27 -> 1 | P27: ='[1]kod 1.3.1'!J7 -> 0 | Q27: ='[1]kod 1.3.1'!J8 -> 1 | R27: ='[1]kod 1.3.1'!J6 -> 0 | S27: ='[1]kod 1.3.1'!J5 -> 0 | T27: =K27+S27 -> 1 | U27: ='[1]kod 1.3.1'!J9 -> 0 | V27: ='[1]kod 1.3.1'!M2 -> 1 | W27: ='[1]kod 1.3.1'!G6 -> 0 | X27: 0 | Y27: 0 | Z27: ='[1]kod 1.3.1'!J10+'[1]kod 1.3.1'!J11 -> 0 | AA27: ='[1]kod 1.3.1'!J10 -> 0
A28: 1.3.2. | C28: ²Û¹ ÃíáõÙª ÑáÕ³Ù³ëÇ ÝÏ³ïÙ³Ùµ û·ï³·áñÍÙ³Ý Çñ³íáõÝùÁ ×³Ý³ã»Éáõ í»ñ³µ»ñÛ³É | F28: ='[1]kod 1.3.2'!J13 -> 0 | G28: =H28+I28+J28 -> 0 | H28: ='[1]kod 1.3.2'!J14 -> 0 | I28: ='[1]kod 1.3.2'!M3 -> 0 | J28: ='[1]kod 1.3.2'!N3 -> 0 | K28: =L28+M28+N28+O28 -> 0 | L28: ='[1]kod 1.3.2'!J2 -> 0 | M28: ='[1]kod 1.3.2'!J3 -> 0 | N28: ='[1]kod 1.3.2'!J4 -> 0 | O28: =P28+Q28+R28 -> 0 | P28: ='[1]kod 1.3.2'!J7 -> 0 | Q28: ='[1]kod 1.3.2'!J8 -> 0 | R28: ='[1]kod 1.3.2'!J6 -> 0 | S28: ='[1]kod 1.3.2'!J5 -> 0 | T28: =K28+S28 -> 0 | U28: ='[1]kod 1.3.2'!J9 -> 0 | V28: ='[1]kod 1.3.2'!M2 -> 0 | W28: ='[1]kod 1.3.2'!G6 -> 0 | X28: 0 | Y28: 0 | Z28: ='[1]kod 1.3.2'!J10+'[1]kod 1.3.2'!J11 -> 0 | AA28: ='[1]kod 1.3.2'!J10 -> 0
A29: 1.4 | C29: ¶áõÛùÇ ÝÏ³ïÙ³Ùµ û·ï³·áñÍÙ³Ý Çñ³íáõÝùÁ ¹³¹³ñ»óÝ»Éáõ í»ñ³µ»ñÛ³É | F29: ='[1]kod 1.4'!J13 -> 0 | G29: =H29+I29+J29 -> 0 | H29: ='[1]kod 1.4'!J14 -> 0 | I29: ='[1]kod 1.4'!M3 -> 0 | J29: ='[1]kod 1.4'!N3 -> 0 | K29: =L29+M29+N29+O29 -> 0 | L29: ='[1]kod 1.4'!J2 -> 0 | M29: ='[1]kod 1.4'!J3 -> 0 | N29: ='[1]kod 1.4'!J4 -> 0 | O29: =P29+Q29+R29 -> 0 | P29: ='[1]kod 1.4'!J7 -> 0 | Q29: ='[1]kod 1.4'!J8 -> 0 | R29: ='[1]kod 1.4'!J6 -> 0 | S29: ='[1]kod 1.4'!J5 -> 0 | T29: =K29+S29 -> 0 | U29: ='[1]kod 1.4'!J9 -> 0 | V29: ='[1]kod 1.4'!M2 -> 0 | W29: ='[1]kod 1.4'!G6 -> 0 | X29: 0 | Y29: 0 | Z29: ='[1]kod 1.4'!J10+'[1]kod 1.4'!J11 -> 0 | AA29: ='[1]kod 1.4'!J10 -> 0
A30: 1.4.1 | C30: ²Û¹ ÃíáõÙª µÝ³Ïû·ï³·áñÍÙ³Ý Çñ³íáõÝùÁ ¹³¹³ñ»óÝ»Éáõ í»ñ³µ»ñÛ³É | F30: ='[1]kod 1.4.1'!J13 -> 2 | G30: =H30+I30+J30 -> 6 | H30: ='[1]kod 1.4.1'!J14 -> 6 | I30: ='[1]kod 1.4.1'!M3 -> 0 | J30: ='[1]kod 1.4.1'!N3 -> 0 | K30: =L30+M30+N30+O30 -> 6 | L30: ='[1]kod 1.4.1'!J2 -> 2 | M30: ='[1]kod 1.4.1'!J3 -> 0 | N30: ='[1]kod 1.4.1'!J4 -> 1 | O30: =P30+Q30+R30 -> 3 | P30: ='[1]kod 1.4.1'!J7 -> 0 | Q30: ='[1]kod 1.4.1'!J8 -> 3 | R30: ='[1]kod 1.4.1'!J6 -> 0 | S30: ='[1]kod 1.4.1'!J5 -> 0 | T30: =K30+S30 -> 6 | U30: ='[1]kod 1.4.1'!J9 -> 0 | V30: ='[1]kod 1.4.1'!M2 -> 6 | W30: ='[1]kod 1.4.1'!G6 -> 0 | X30: 0 | Y30: 0 | Z30: ='[1]kod 1.4.1'!J10+'[1]kod 1.4.1'!J11 -> 2 | AA30: ='[1]kod 1.4.1'!J10 -> 2
A31: 1.4.1/1 | C31: ²Û¹ ÃíáõÙª ÷áËÑ³ïáõóÙ³Ùµ | F31: ='[1]kod 1.4.1-1'!J13 -> 3 | G31: =H31+I31+J31 -> 0 | H31: ='[1]kod 1.4.1-1'!J14 -> 0 | I31: ='[1]kod 1.4.1-1'!M3 -> 0 | J31: ='[1]kod 1.4.1-1'!N3 -> 0 | K31: =L31+M31+N31+O31 -> 1 | L31: ='[1]kod 1.4.1-1'!J2 -> 1 | M31: ='[1]kod 1.4.1-1'!J3 -> 0 | N31: ='[1]kod 1.4.1-1'!J4 -> 0 | O31: =P31+Q31+R31 -> 0 | P31: ='[1]kod 1.4.1-1'!J7 -> 0 | Q31: ='[1]kod 1.4.1-1'!J8 -> 0 | R31: ='[1]kod 1.4.1-1'!J6 -> 0 | S31: ='[1]kod 1.4.1-1'!J5 -> 0 | T31: =K31+S31 -> 1 | U31: ='[1]kod 1.4.1-1'!J9 -> 0 | V31: ='[1]kod 1.4.1-1'!M2 -> 1 | W31: ='[1]kod 1.4.1-1'!G6 -> 0 | X31: 0 | Y31: 0 | Z31: ='[1]kod 1.4.1-1'!J10+'[1]kod 1.4.1-1'!J11 -> 2 | AA31: ='[1]kod 1.4.1-1'!J10 -> 2
A32: 1.5 | C32: ´Ý³Ï³ñ³ÝÇó/ ï³ñ³ÍùÇó/ íï³ñ»Éáõ í»ñ³µ»ñÛ³É | F32: ='[1]kod 1.5'!J13 -> 15 | G32: =H32+I32+J32 -> 23 | H32: ='[1]kod 1.5'!J14 -> 19 | I32: ='[1]kod 1.5'!M3 -> 4 | J32: ='[1]kod 1.5'!N3 -> 0 | K32: =L32+M32+N32+O32 -> 16 | L32: ='[1]kod 1.5'!J2 -> 11 | M32: ='[1]kod 1.5'!J3 -> 1 | N32: ='[1]kod 1.5'!J4 -> 1 | O32: =P32+Q32+R32 -> 3 | P32: ='[1]kod 1.5'!J7 -> 0 | Q32: ='[1]kod 1.5'!J8 -> 3 | R32: ='[1]kod 1.5'!J6 -> 0 | S32: ='[1]kod 1.5'!J5 -> 0 | T32: =K32+S32 -> 16 | U32: ='[1]kod 1.5'!J9 -> 0 | V32: ='[1]kod 1.5'!M2 -> 11 | W32: ='[1]kod 1.5'!G5 -> 1 | X32: 0 | Y32: ='[1]kod 1.5'!G6 -> 1 | Z32: ='[1]kod 1.5'!J10+'[1]kod 1.5'!J11 -> 18 | AA32: ='[1]kod 1.5'!J10 -> 7
A33: 1.6 | C33: ¶áõÛùÝ áõñÇßÇ ³åûñÇÝÇ ïÇñ³å»ïáõÙÇó »ï í»ñ³¹³ñÓÝ»Éáõ í»ñ³µ»ñÛ³É | F33: ='[1]kod 1.6'!J13 -> 12 | G33: =H33+I33+J33 -> 27 | H33: ='[1]kod 1.6'!J14 -> 25 | I33: ='[1]kod 1.6'!M3 -> 2 | J33: ='[1]kod 1.6'!N3 -> 0 | K33: =L33+M33+N33+O33 -> 17 | L33: ='[1]kod 1.6'!J2 -> 8 | M33: ='[1]kod 1.6'!J3 -> 1 | N33: ='[1]kod 1.6'!J4 -> 1 | O33: =P33+Q33+R33 -> 7 | P33: ='[1]kod 1.6'!J7 -> 0 | Q33: ='[1]kod 1.6'!J8 -> 7 | R33: ='[1]kod 1.6'!J6 -> 0 | S33: ='[1]kod 1.6'!J5 -> 0 | T33: =K33+S33 -> 17 | U33: ='[1]kod 1.6'!J9 -> 0 | V33: ='[1]kod 1.6'!M2 -> 14 | W33: ='[1]kod 1.6'!G5 -> 8 | X33: 0 | Y33: ='[1]kod 1.6'!G6 -> 2 | Z33: ='[1]kod 1.6'!J10+'[1]kod 1.6'!J11 -> 20 | AA33: ='[1]kod 1.6'!J10 -> 4
A34: 1.6.1 | B34: ավելացվել է | C34: ´³ñ»ËÇÕ× Ó»éùµ»ñáÕÇó Çñ ·áõÛùÁ Ñ»ï å³Ñ³Ýç»Éáõ í»ñ³µ»ñÛ³É | F34: ='[1]kod 1.6.1'!J13 -> 0 | G34: 0 | H34: ='[1]kod 1.6.1'!J14 -> 0 | I34: ='[1]kod 1.6.1'!M3 -> 0 | J34: 0 | K34: =L34+M34+N34+O34 -> 0 | L34: ='[1]kod 1.6.1'!J2 -> 0 | M34: ='[1]kod 1.6.1'!J3 -> 0 | N34: ='[1]kod 1.6.1'!J4 -> 0 | O34: =P34+Q34+R34 -> 0 | P34: ='[1]kod 1.6.1'!J7 -> 0 | Q34: ='[1]kod 1.6.1'!J8 -> 0 | R34: ='[1]kod 1.6.1'!J6 -> 0 | S34: ='[1]kod 1.6.1'!J5 -> 0 | T34: =K34+S34 -> 0 | U34: ='[1]kod 1.6.1'!J9 -> 0 | V34: ='[1]kod 1.6.1'!M2 -> 0 | W34: 0 | X34: 0 | Y34: 0 | Z34: ='[1]kod 1.6.1'!J10+'[1]kod 1.6.1'!J11 -> 0 | AA34: ='[1]kod 1.6.1'!J10 -> 0
A35: 1.7 | C35: îÇñ³å»ïáõÙÇó ½ñÏ»Éáõ Ñ»ï ãÏ³åí³Í Çñ³íáõÝùÝ»ñÇ Ë³ËïáõÙÁ í»ñ³óÝ»Éáõ í»ñ³µ»ñÛ³É | F35: ='[1]kod 1.7'!J13 -> 14 | G35: =H35+I35+J35 -> 6 | H35: ='[1]kod 1.7'!J14 -> 3 | I35: ='[1]kod 1.7'!M3 -> 2 | J35: ='[1]kod 1.7'!N3 -> 1 | K35: =L35+M35+N35+O35 -> 7 | L35: ='[1]kod 1.7'!J2 -> 2 | M35: ='[1]kod 1.7'!J3 -> 1 | N35: ='[1]kod 1.7'!J4 -> 2 | O35: =P35+Q35+R35 -> 2 | P35: ='[1]kod 1.7'!J7 -> 0 | Q35: ='[1]kod 1.7'!J8 -> 2 | R35: ='[1]kod 1.7'!J6 -> 0 | S35: ='[1]kod 1.7'!J5 -> 0 | T35: =K35+S35 -> 7 | U35: ='[1]kod 1.7'!J9 -> 0 | V35: ='[1]kod 1.7'!M2 -> 7 | W35: ='[1]kod 1.7'!G5 -> 2 | X35: 0 | Y35: ='[1]kod 1.7'!G6 -> 1 | Z35: ='[1]kod 1.7'!J10+'[1]kod 1.7'!J11 -> 10 | AA35: ='[1]kod 1.7'!J10 -> 7
A36: 1.8 | C36: ÀÝ¹Ñ³Ýáõñ µ³ÅÝ³ÛÇÝ ë»÷³Ï³ÝáõÃÛáõÝÇó µ³ÅÇÝÝ ³é³ÝÓÝ³óÝ»Éáõ í»ñ³µ»ñÛ³É | F36: ='[1]kod 1.8'!J13 -> 39 | G36: =H36+I36+J36 -> 37 | H36: ='[1]kod 1.8'!J14 -> 32 | I36: ='[1]kod 1.8'!M3 -> 5 | J36: ='[1]kod 1.8'!N3 -> 0 | K36: =L36+M36+N36+O36 -> 23 | L36: ='[1]kod 1.8'!J2 -> 6 | M36: ='[1]kod 1.8'!J3 -> 5 | N36: ='[1]kod 1.8'!J4 -> 2 | O36: =P36+Q36+R36 -> 10 | P36: ='[1]kod 1.8'!J7 -> 2 | Q36: ='[1]kod 1.8'!J8 -> 6 | R36: ='[1]kod 1.8'!J6 -> 2 | S36: ='[1]kod 1.8'!J5 -> 0 | T36: =K36+S36 -> 23 | U36: ='[1]kod 1.8'!J9 -> 0 | V36: ='[1]kod 1.8'!M2 -> 21 | W36: ='[1]kod 1.8'!G5 -> 5 | X36: 0 | Y36: ='[1]kod 1.8'!G6 -> 0 | Z36: ='[1]kod 1.8'!J10+'[1]kod 1.8'!J11 -> 48 | AA36: ='[1]kod 1.8'!J10 -> 18
A37: 1.8.1 | B37: ավելացվել է | C37: Ð³Ù³ï»Õ ë»÷³Ï³ÝáõÃÛ³Ý Ý»ñùá ·ïÝíáÕ ·áõÛùÁ µ³Å³Ý»Éáõ ¨ ¹ñ³ÝÇó µ³ÅÇÝÝ ³é³ÝÓÝ³óÝ»Éáõ í»ñ³µ»ñÛ³É | F37: ='[1]kod 1.8.1'!J13 -> 0 | G37: =H37+I37+J37 -> 34 | H37: ='[1]kod 1.8.1'!J14 -> 33 | I37: ='[1]kod 1.8.1'!M3 -> 1 | J37: ='[1]kod 1.8.1'!N3 -> 0 | K37: =L37+M37+N37+O37 -> 10 | L37: ='[1]kod 1.8.1'!J2 -> 2 | M37: ='[1]kod 1.8.1'!J3 -> 0 | N37: ='[1]kod 1.8.1'!J4 -> 0 | O37: =P37+Q37+R37 -> 8 | P37: ='[1]kod 1.8.1'!J7 -> 1 | Q37: ='[1]kod 1.8.1'!J8 -> 7 | R37: ='[1]kod 1.8.1'!J6 -> 0 | S37: ='[1]kod 1.8.1'!J5 -> 0 | T37: =K37+S37 -> 10 | U37: ='[1]kod 1.8.1'!J9 -> 0 | V37: ='[1]kod 1.8.1'!M2 -> 7 | W37: ='[1]kod 1.8.1'!G5 -> 0 | X37: 0 | Y37: 0 | Z37: ='[1]kod 1.8.1'!J10+'[1]kod 1.8.1'!J11 -> 23 | AA37: ='[1]kod 1.8.1'!J10 -> 8
A38: 1.8.3 | B38: ավելացվել է | C38: ¶áõÛùÇ íñ³ µéÝ³·³ÝÓáõÙ ï³ñ³Í»Éáõ å³Ñ³ÝçÇ Ù³ëÇÝ | F38: ='[1]kod 1.8.3'!J13 -> 0 | G38: 6 | H38: ='[1]kod 1.8.3'!J14 -> 3 | I38: ='[1]kod 1.8.3'!M3 -> 3 | J38: 0 | K38: =L38+M38+N38+O38 -> 0 | L38: ='[1]kod 1.8.3'!J2 -> 0 | M38: ='[1]kod 1.8.3'!J3 -> 0 | N38: ='[1]kod 1.8.3'!J4 -> 0 | O38: =P38+Q38+R38 -> 0 | P38: ='[1]kod 1.8.3'!J7 -> 0 | Q38: ='[1]kod 1.8.3'!J8 -> 0 | R38: ='[1]kod 1.8.3'!J6 -> 0 | S38: ='[1]kod 1.8.3'!J5 -> 0 | T38: =K38+S38 -> 0 | U38: ='[1]kod 1.8.3'!J9 -> 0 | V38: ='[1]kod 1.8.3'!M2 -> 0 | W38: ='[1]kod 1.8.3'!G6 -> 0 | X38: 0 | Y38: 0 | Z38: ='[1]kod 1.8.3'!J11+'[1]kod 1.8.3'!J10 -> 3 | AA38: ='[1]kod 1.8.3'!J10 -> 1
A39: 1.9 | C39: ²ÛÉ í»×»ñ | F39: ='[1]kod 1.9'!J13 -> 20 | G39: =H39+I39+J39 -> 47 | H39: ='[1]kod 1.9'!J14 -> 32 | I39: ='[1]kod 1.9'!M3 -> 11 | J39: ='[1]kod 1.9'!N3 -> 4 | K39: =L39+M39+N39+O39 -> 26 | L39: ='[1]kod 1.9'!J2 -> 9 | M39: ='[1]kod 1.9'!J3 -> 0 | N39: ='[1]kod 1.9'!J4 -> 9 | O39: =P39+Q39+R39 -> 8 | P39: ='[1]kod 1.9'!J7 -> 2 | Q39: ='[1]kod 1.9'!J8 -> 5 | R39: ='[1]kod 1.9'!J6 -> 1 | S39: ='[1]kod 1.9'!J5 -> 0 | T39: =K39+S39 -> 26 | U39: ='[1]kod 1.9'!J9 -> 1 | V39: ='[1]kod 1.9'!M2 -> 23 | W39: ='[1]kod 1.9'!G6 -> 0 | X39: 0 | Y39: 0 | Z39: ='[1]kod 1.9'!J10+'[1]kod 1.9'!J11 -> 25 | AA39: ='[1]kod 1.9'!J10 -> 6
A40: 2. | C40: ¶áñÍ³ñùÝ»ñÇ Ñ»ï Ï³åí³Í í»×»ñ | F40: 0 | G40: 0 | H40: 0 | I40: 0 | J40: 0 | K40: 0 | L40: 0 | M40: 0 | N40: 0 | O40: 0 | P40: 0 | Q40: 0 | R40: 0 | S40: 0 | T40: 0 | U40: 0 | V40: 0 | W40: 0 | X40: 0 | Y40: 0 | Z40: 0 | AA40: 0
A41: 2.1 | C41: ¶áñÍ³ñùÝ»ñÇ ³Ýí³í»ñáõÃÛ³Ý Ñ»ï Ï³åí³Í í»×»ñ | F41: ='[1]kod 2.1'!J13 -> 3 | G41: =H41+I41+J41 -> 4 | H41: ='[1]kod 2.1'!J14 -> 4 | I41: ='[1]kod 2.1'!M3 -> 0 | J41: ='[1]kod 2.1'!N3 -> 0 | K41: =L41+M41+N41+O41 -> 3 | L41: ='[1]kod 2.1'!J2 -> 1 | M41: ='[1]kod 2.1'!J3 -> 0 | N41: ='[1]kod 2.1'!J4 -> 2 | O41: =P41+Q41+R41 -> 0 | P41: ='[1]kod 2.1'!J7 -> 0 | Q41: ='[1]kod 2.1'!J8 -> 0 | R41: ='[1]kod 2.1'!J6 -> 0 | S41: ='[1]kod 2.1'!J5 -> 0 | T41: =K41+S41 -> 3 | U41: ='[1]kod 2.1'!J9 -> 1 | V41: ='[1]kod 2.1'!M2 -> 2 | W41: ='[1]kod 2.1'!G6 -> 1 | X41: 0 | Y41: 0 | Z41: ='[1]kod 2.1'!J10+'[1]kod 2.1'!J11 -> 3 | AA41: ='[1]kod 2.1'!J10 -> 2
A42: 2.1.1 | C42: ²Û¹ ÃíáõÙ`գáñÍ³ñùÁ íÇ×³Ñ³ñáõÛó ×³Ý³ã»Éáõ í»ñ³µ»ñÛ³É | F42: ='[1]kod 2.1.1'!J13 -> 0 | G42: =H42+I42+J42 -> 0 | H42: ='[1]kod 2.1.1'!J14 -> 0 | I42: ='[1]kod 2.1.1'!M3 -> 0 | J42: ='[1]kod 2.1.1'!N3 -> 0 | K42: =L42+M42+N42+O42 -> 0 | L42: ='[1]kod 2.1.1'!J2 -> 0 | M42: ='[1]kod 2.1.1'!J3 -> 0 | N42: ='[1]kod 2.1.1'!J4 -> 0 | O42: =P42+Q42+R42 -> 0 | P42: ='[1]kod 2.1.1'!J7 -> 0 | Q42: ='[1]kod 2.1.1'!J8 -> 0 | R42: ='[1]kod 2.1.1'!J6 -> 0 | S42: ='[1]kod 2.1.1'!J5 -> 0 | T42: =K42+S42 -> 0 | U42: ='[1]kod 2.1.1'!J9 -> 0 | V42: ='[1]kod 2.1.1'!M2 -> 0 | W42: ='[1]kod 2.1.1'!G6 -> 0 | X42: 0 | Y42: 0 | Z42: ='[1]kod 2.1.1'!J10+'[1]kod 2.1.1'!J11 -> 0 | AA42: ='[1]kod 2.1.1'!J10 -> 0
A43: 2.1.2 | C43: ²Û¹ ÃíáõÙ` ·áñÍ³ñùÇ ³éáãÝãáõÃÛ³Ý Ñ»ï¨³ÝùÝ»ñ ÏÇñ³é»Éáõ í»ñ³µ»ñÛ³É | F43: ='[1]kod 2.1.2'!J13 -> 2 | G43: =H43+I43+J43 -> 15 | H43: ='[1]kod 2.1.2'!J14 -> 10 | I43: ='[1]kod 2.1.2'!M3 -> 5 | J43: ='[1]kod 2.1.2'!N3 -> 0 | K43: =L43+M43+N43+O43 -> 2 | L43: ='[1]kod 2.1.2'!J2 -> 0 | M43: ='[1]kod 2.1.2'!J3 -> 0 | N43: ='[1]kod 2.1.2'!J4 -> 1 | O43: =P43+Q43+R43 -> 1 | P43: ='[1]kod 2.1.2'!J7 -> 0 | Q43: ='[1]kod 2.1.2'!J8 -> 1 | R43: ='[1]kod 2.1.2'!J6 -> 0 | S43: ='[1]kod 2.1.2'!J5 -> 0 | T43: =K43+S43 -> 2 | U43: ='[1]kod 2.1.2'!J9 -> 0 | V43: ='[1]kod 2.1.2'!M2 -> 1 | W43: ='[1]kod 2.1.2'!G6 -> 1 | X43: 0 | Y43: ='[1]kod 2.1.2'!G7 -> 1 | Z43: ='[1]kod 2.1.2'!J10+'[1]kod 2.1.2'!J11 -> 10 | AA43: ='[1]kod 2.1.2'!J10 -> 1
A44: 2.2 | C44: ¶áñÍ³ñùÁ í³í»ñ ×³Ý³ã»Éáõ í»ñ³µ»ñÛ³É | F44: ='[1]kod 2.2'!J13 -> 1 | G44: =H44+I44+J44 -> 1 | H44: ='[1]kod 2.2'!J14 -> 1 | I44: ='[1]kod 2.2'!M3 -> 0 | J44: ='[1]kod 2.2'!N3 -> 0 | K44: =L44+M44+N44+O44 -> 1 | L44: ='[1]kod 2.2'!J2 -> 0 | M44: ='[1]kod 2.2'!J3 -> 1 | N44: ='[1]kod 2.2'!J4 -> 0 | O44: =P44+Q44+R44 -> 0 | P44: ='[1]kod 2.2'!J7 -> 0 | Q44: ='[1]kod 2.2'!J8 -> 0 | R44: ='[1]kod 2.2'!J6 -> 0 | S44: ='[1]kod 2.2'!J5 -> 0 | T44: =K44+S44 -> 1 | U44: ='[1]kod 2.2'!J9 -> 0 | V44: ='[1]kod 2.2'!M2 -> 1 | W44: ='[1]kod 2.2'!G6 -> 1 | X44: 0 | Y44: 0 | Z44: ='[1]kod 2.2'!J10+'[1]kod 2.2'!J11 -> 1 | AA44: ='[1]kod 2.2'!J10 -> 0
A45: 2.3 | C45: ¶áñÍ³ñùÇó Í³·áÕ Çñ³íáõÝùÝ»ñÁ ·ñ³Ýó»Éáõ í»ñ³µ»ñÛ³É | F45: 0 | G45: 0 | H45: 0 | I45: 0 | J45: 0 | K45: 0 | L45: 0 | M45: 0 | N45: 0 | O45: =P45+Q45+R45 -> 0 | P45: 0 | Q45: 0 | R45: 0 | S45: 0 | T45: 0 | U45: 0 | V45: 0 | W45: 0 | X45: 0 | Y45: 0 | Z45: 0 | AA45: 0
A46: 2.4 | C46: ä³ÛÙ³Ý³·ÇñÝ ³Ýí³í»ñ ×³Ý³ã»Éáõ í»ñ³µ»ñÛ³É | F46: ='[1]kod 2.4'!J13 -> 16 | G46: =H46+I46+J46 -> 21 | H46: ='[1]kod 2.4'!J14 -> 15 | I46: ='[1]kod 2.4'!M3 -> 6 | J46: ='[1]kod 2.4'!N3 -> 0 | K46: =L46+M46+N46+O46 -> 12 | L46: ='[1]kod 2.4'!J2 -> 1 | M46: ='[1]kod 2.4'!J3 -> 0 | N46: ='[1]kod 2.4'!J4 -> 7 | O46: =P46+Q46+R46 -> 4 | P46: ='[1]kod 2.4'!J7 -> 0 | Q46: ='[1]kod 2.4'!J8 -> 4 | R46: ='[1]kod 2.4'!J6 -> 0 | S46: ='[1]kod 2.4'!J5 -> 0 | T46: =K46+S46 -> 12 | U46: ='[1]kod 2.4'!J9 -> 0 | V46: ='[1]kod 2.4'!M2 -> 11 | W46: ='[1]kod 2.4'!G6 -> 5 | X46: 0 | Y46: ='[1]kod 2.4'!G7 -> 2 | Z46: ='[1]kod 2.4'!J10+'[1]kod 2.4'!J11 -> 19 | AA46: ='[1]kod 2.4'!J10 -> 5
A47: 2.5 | C47: ä³ÛÙ³Ý³·ñÇÁ í³í»ñ ×³Ý³ã»Éáõ í»ñ³µ»ñÛ³É | F47: ='[1]kod 2.5'!J13 -> 6 | G47: =H47+I47+J47 -> 4 | H47: ='[1]kod 2.5'!J14 -> 4 | I47: ='[1]kod 2.5'!M3 -> 0 | J47: ='[1]kod 2.5'!N3 -> 0 | K47: =L47+M47+N47+O47 -> 6 | L47: ='[1]kod 2.5'!J2 -> 1 | M47: ='[1]kod 2.5'!J3 -> 1 | N47: ='[1]kod 2.5'!J4 -> 3 | O47: =P47+Q47+R47 -> 1 | P47: ='[1]kod 2.5'!J7 -> 0 | Q47: ='[1]kod 2.5'!J8 -> 1 | R47: ='[1]kod 2.5'!J6 -> 0 | S47: ='[1]kod 2.5'!J5 -> 0 | T47: =K47+S47 -> 6 | U47: ='[1]kod 2.5'!J9 -> 0 | V47: ='[1]kod 2.5'!M2 -> 4 | W47: ='[1]kod 2.5'!G6 -> 2 | X47: 0 | Y47: 0 | Z47: ='[1]kod 2.5'!J10+'[1]kod 2.5'!J11 -> 4 | AA47: ='[1]kod 2.5'!J10 -> 1
A48: 2.6 | B48: áõÅÁ Ïáñóñ»É ¿ | C48: ä³ÛÙ³Ý³·ñÇó Í³·áÕ Çñ³íáõÝùÝ»ñÁ ·ñ³Ýó»Éáõ í»ñ³µ»ñÛ³É | F48: 0 | G48: 0 | H48: 0 | I48: 0 | J48: 0 | K48: 0 | L48: 0 | M48: 0 | N48: 0 | O48: 0 | P48: 0 | Q48: 0 | R48: 0 | S48: 0 | T48: 0 | U48: 0 | V48: 0 | W48: 0 | X48: 0 | Y48: 0 | Z48: 0 | AA48: 0
A49: 2.7 | C49: ä³ÛÙ³Ý³·ÇñÁ ÷á÷áË»Éáõ ¨ ÉáõÍ»Éáõ í»ñ³µ»ñÛ³É | F49: ='[1]kod 2.7'!J13 -> 24 | G49: =H49+I49+J49 -> 37 | H49: ='[1]kod 2.7'!J14 -> 36 | I49: ='[1]kod 2.7'!M3 -> 1 | J49: ='[1]kod 2.7'!N3 -> 0 | K49: =L49+M49+N49+O49 -> 33 | L49: ='[1]kod 2.7'!J2 -> 18 | M49: ='[1]kod 2.7'!J3 -> 9 | N49: ='[1]kod 2.7'!J4 -> 2 | O49: =P49+Q49+R49 -> 4 | P49: ='[1]kod 2.7'!J7 -> 0 | Q49: ='[1]kod 2.7'!J8 -> 4 | R49: ='[1]kod 2.7'!J6 -> 0 | S49: ='[1]kod 2.7'!J5 -> 0 | T49: =K49+S49 -> 33 | U49: ='[1]kod 2.7'!J9 -> 1 | V49: ='[1]kod 2.7'!M2 -> 23 | W49: ='[1]kod 2.7'!G6 -> 4 | X49: 0 | Y49: 0 | Z49: ='[1]kod 2.7'!J10+'[1]kod 2.7'!J11 -> 26 | AA49: ='[1]kod 2.7'!J10 -> 1
A50: 2.8 | C50: ä³ÛÙ³Ý³·Çñ ÏÝù»ÉáõÝ å³ñï³íáñ»óÝ»Éáõ í»ñ³µ»ñÛ³É | F50: ='[1]kod 2.8'!J13 -> 2 | G50: =H50+I50+J50 -> 3 | H50: ='[1]kod 2.8'!J14 -> 3 | I50: ='[1]kod 2.8'!M3 -> 0 | J50: ='[1]kod 2.8'!N3 -> 0 | K50: =L50+M50+N50+O50 -> 1 | L50: ='[1]kod 2.8'!J2 -> 0 | M50: ='[1]kod 2.8'!J3 -> 0 | N50: ='[1]kod 2.8'!J4 -> 1 | O50: =P50+Q50+R50 -> 0 | P50: ='[1]kod 2.8'!J7 -> 0 | Q50: ='[1]kod 2.8'!J8 -> 0 | R50: ='[1]kod 2.8'!J6 -> 0 | S50: ='[1]kod 2.8'!J5 -> 0 | T50: =K50+S50 -> 1 | U50: ='[1]kod 2.8'!J9 -> 0 | V50: ='[1]kod 2.8'!M2 -> 0 | W50: ='[1]kod 2.8'!G6 -> 1 | X50: 0 | Y50: 0 | Z50: ='[1]kod 2.8'!J10+'[1]kod 2.8'!J11 -> 4 | AA50: ='[1]kod 2.8'!J10 -> 2
A51: 2.9 | C51: ²ÛÉ í»×»ñ | F51: ='[1]kod 2.9'!J13 -> 3 | G51: =H51+I51+J51 -> 4 | H51: ='[1]kod 2.9'!J14 -> 3 | I51: ='[1]kod 2.9'!M3 -> 1 | J51: ='[1]kod 2.9'!N3 -> 0 | K51: =L51+M51+N51+O51 -> 2 | L51: ='[1]kod 2.9'!J2 -> 1 | M51: ='[1]kod 2.9'!J3 -> 0 | N51: ='[1]kod 2.9'!J4 -> 0 | O51: =P51+Q51+R51 -> 1 | P51: ='[1]kod 2.9'!J7 -> 0 | Q51: ='[1]kod 2.9'!J8 -> 1 | R51: ='[1]kod 2.9'!J6 -> 0 | S51: ='[1]kod 2.9'!J5 -> 0 | T51: =K51+S51 -> 2 | U51: ='[1]kod 2.9'!J9 -> 0 | V51: ='[1]kod 2.9'!M2 -> 2 | W51: ='[1]kod 2.9'!G6 -> 0 | X51: 0 | Y51: 0 | Z51: ='[1]kod 2.9'!J10+'[1]kod 2.9'!J11 -> 4 | AA51: ='[1]kod 2.9'!J10 -> 0
A52: 3. | C52: Ä³é³Ý·áõÃÛ³Ý í»ñ³µ»ñÛ³É í»×»ñ | F52: 0 | G52: 0 | H52: 0 | I52: 0 | J52: 0 | K52: 0 | L52: 0 | M52: 0 | N52: 0 | O52: 0 | P52: 0 | Q52: 0 | R52: 0 | S52: 0 | T52: 0 | U52: 0 | V52: 0 | W52: 0 | X52: 0 | Y52: 0 | Z52: 0 | AA52: 0
A53: 3.1 | C53: Îï³ÏÝ ³Ýí³í»ñ ×³Ý³ã»Éáõ í»ñ³µ»ñÛ³É | F53: ='[1]kod 3.1'!J13 -> 0 | G53: =H53+I53+J53 -> 4 | H53: ='[1]kod 3.1'!J14 -> 1 | I53: ='[1]kod 3.1'!M3 -> 3 | J53: ='[1]kod 3.1'!N3 -> 0 | K53: =L53+M53+N53+O53 -> 1 | L53: ='[1]kod 3.1'!J2 -> 0 | M53: ='[1]kod 3.1'!J3 -> 0 | N53: ='[1]kod 3.1'!J4 -> 1 | O53: =P53+Q53+R53 -> 0 | P53: ='[1]kod 3.1'!J7 -> 0 | Q53: ='[1]kod 3.1'!J8 -> 0 | R53: ='[1]kod 3.1'!J6 -> 0 | S53: ='[1]kod 3.1'!J5 -> 0 | T53: =K53+S53 -> 1 | U53: ='[1]kod 3.1'!J9 -> 0 | V53: ='[1]kod 3.1'!M2 -> 1 | W53: ='[1]kod 3.1'!G6 -> 0 | X53: 0 | Y53: 0 | Z53: ='[1]kod 3.1'!J10+'[1]kod 3.1'!J11 -> 0 | AA53: ='[1]kod 3.1'!J10 -> 0
A54: 3.2 | C54: ²Ý³ñÅ³Ý Å³é³Ý· ×³Ý³ã»Éáõ í»ñ³µ»ñÛ³É | F54: 0 | G54: 0 | H54: 0 | I54: 0 | J54: 0 | K54: 0 | L54: 0 | M54: 0 | N54: 0 | O54: 0 | P54: 0 | Q54: 0 | R54: 0 | S54: 0 | T54: 0 | U54: 0 | V54: 0 | W54: 0 | X54: 0 | Y54: 0 | Z54: 0 | AA54: 0
A55: 3.3 | C55: Ä³é³Ý·áõÃÛáõÝÁ µ³Å³Ý»Éáõ í»ñ³µ»ñÛ³É | F55: ='[1]kod 3.3'!J13 -> 0 | G55: =H55+I55+J55 -> 1 | H55: ='[1]kod 3.3'!J14 -> 1 | I55: ='[1]kod 3.3'!M3 -> 0 | J55: ='[1]kod 3.3'!N3 -> 0 | K55: =L55+M55+N55+O55 -> 1 | L55: ='[1]kod 3.3'!J2 -> 0 | M55: ='[1]kod 3.3'!J3 -> 0 | N55: ='[1]kod 3.3'!J4 -> 1 | O55: =P55+Q55+R55 -> 0 | P55: ='[1]kod 3.3'!J7 -> 0 | Q55: ='[1]kod 3.3'!J8 -> 0 | R55: ='[1]kod 3.3'!J6 -> 0 | S55: ='[1]kod 3.3'!J5 -> 0 | T55: =K55+S55 -> 1 | U55: ='[1]kod 3.3'!J9 -> 0 | V55: ='[1]kod 3.3'!M2 -> 0 | W55: ='[1]kod 3.3'!G6 -> 0 | X55: 0 | Y55: 0 | Z55: ='[1]kod 3.3'!J11+'[1]kod 3.3'!J10 -> 0 | AA55: ='[1]kod 3.3'!J10 -> 0
A56: 3.4 | C56: ¶áõÛùÝ ³ÝÅ³é³Ý· ×³Ý³ã»Éáõ í»ñ³µ»ñÛ³É | F56: 0 | G56: 0 | H56: 0 | I56: 0 | J56: 0 | K56: 0 | L56: 0 | M56: 0 | N56: 0 | O56: 0 | P56: 0 | Q56: 0 | R56: 0 | S56: 0 | T56: 0 | U56: 0 | V56: 0 | W56: 0 | X56: 0 | Y56: 0 | Z56: 0 | AA56: 0
A57: 3.5 | B57: áõÅÁ Ïáñóñ»É ¿ | C57: Àëï ûñ»ÝùÇ Å³é³Ý·áõÃÛ³Ý Çñ³íáõÝùÇ íÏ³Û³Ï³ÝÝ ³Ýí³í»ñ ×³Ý³ã»Éáõ í»ñ³µ»ñÛ³É | F57: ='[1]kod 3.5'!J13 -> 1 | G57: =H57+I57+J57 -> 4 | H57: ='[1]kod 3.5'!J14 -> 3 | I57: ='[1]kod 3.5'!M3 -> 0 | J57: ='[1]kod 3.5'!N3 -> 1 | K57: =L57+M57+N57+O57 -> 1 | L57: ='[1]kod 3.5'!J2 -> 1 | M57: ='[1]kod 3.5'!J3 -> 0 | N57: ='[1]kod 3.5'!J4 -> 0 | O57: =P57+Q57+R57 -> 0 | P57: ='[1]kod 3.5'!J7 -> 0 | Q57: ='[1]kod 3.5'!J8 -> 0 | R57: ='[1]kod 3.5'!J6 -> 0 | S57: ='[1]kod 3.5'!J5 -> 0 | T57: =K57+S57 -> 1 | U57: ='[1]kod 3.5'!J9 -> 0 | V57: ='[1]kod 3.5'!M2 -> 1 | W57: ='[1]kod 3.5'!G6 -> 0 | X57: 0 | Y57: 0 | Z57: ='[1]kod 3.5'!J10+'[1]kod 3.5'!J11 -> 3 | AA57: ='[1]kod 3.5'!J10 -> 0
A58: 3.6 | C58: Ä³é³Ý·áõÃÛáõÝÝ ÁÝ¹áõÝ»Éáõ µ³ó ÃáÕÝí³Í Å³ÙÏ»ïÁ Ñ³ñ·»ÉÇ Ñ³Ù³ñ»Éáõ í»ñ³µ»ñÛ³É | F58: ='[1]kod 3.6'!J13 -> 0 | G58: =H58+I58+J58 -> 6 | H58: ='[1]kod 3.6'!J14 -> 0 | I58: ='[1]kod 3.6'!M3 -> 3 | J58: ='[1]kod 3.6'!N3 -> 3 | K58: =L58+M58+N58+O58 -> 0 | L58: ='[1]kod 3.6'!J2 -> 0 | M58: ='[1]kod 3.6'!J3 -> 0 | N58: ='[1]kod 3.6'!J4 -> 0 | O58: =P58+Q58+R58 -> 0 | P58: ='[1]kod 3.6'!J7 -> 0 | Q58: ='[1]kod 3.6'!J8 -> 0 | R58: ='[1]kod 3.6'!J6 -> 0 | S58: ='[1]kod 3.6'!J5 -> 0 | T58: =K58+S58 -> 0 | U58: ='[1]kod 3.6'!J9 -> 0 | V58: ='[1]kod 3.6'!M2 -> 0 | W58: ='[1]kod 3.6'!G6 -> 0 | X58: 0 | Y58: 0 | Z58: ='[1]kod 3.6'!J10+'[1]kod 3.6'!J11 -> 0 | AA58: ='[1]kod 3.6'!J10 -> 0
A59: 3.7 | C59: ²ÛÉ í»×»ñ | F59: ='[1]kod 3.7'!J13 -> 18 | G59: =H59+I59+J59 -> 34 | H59: ='[1]kod 3.7'!J14 -> 27 | I59: ='[1]kod 3.7'!M3 -> 4 | J59: ='[1]kod 3.7'!N3 -> 3 | K59: =L59+M59+N59+O59 -> 24 | L59: ='[1]kod 3.7'!J2 -> 14 | M59: ='[1]kod 3.7'!J3 -> 2 | N59: ='[1]kod 3.7'!J4 -> 2 | O59: =P59+Q59+R59 -> 6 | P59: ='[1]kod 3.7'!J7 -> 2 | Q59: ='[1]kod 3.7'!J8 -> 4 | R59: ='[1]kod 3.7'!J6 -> 0 | S59: ='[1]kod 3.7'!J5 -> 1 | T59: =K59+S59 -> 25 | U59: ='[1]kod 3.7'!J9 -> 0 | V59: ='[1]kod 3.7'!M2 -> 22 | W59: ='[1]kod 3.7'!G7 -> 2 | X59: 0 | Y59: 0 | Z59: ='[1]kod 3.7'!J10+'[1]kod 3.7'!J11 -> 20 | AA59: ='[1]kod 3.7'!J10 -> 1
A60: 4 | C60: ÀÝï³Ý»Ï³Ý Çñ³í³Ñ³ñ³µ»ñáõÃÛáõÝÝ»ñÇó Í³·áÕ í»×»ñ | F60: 0 | G60: 0 | H60: 0 | I60: 0 | J60: 0 | K60: 0 | L60: 0 | M60: 0 | N60: 0 | O60: 0 | P60: 0 | Q60: 0 | R60: 0 | S60: 0 | T60: 0 | U60: 0 | V60: 0 | W60: 0 | X60: 0 | Y60: 0 | Z60: 0 | AA60: 0
A61: 4.1 | C61: ²ÙáõëÝ³ÉáõÍáõÃÛ³Ý í»ñ³µ»ñÛ³É | F61: ='[1]kod 4.1'!J13 -> 23 | G61: =H61+I61+J61 -> 103 | H61: ='[1]kod 4.1'!J14 -> 92 | I61: ='[1]kod 4.1'!M3 -> 11 | J61: ='[1]kod 4.1'!N3 -> 0 | K61: =L61+M61+N61+O61 -> 87 | L61: ='[1]kod 4.1'!J2 -> 71 | M61: ='[1]kod 4.1'!J3 -> 7 | N61: ='[1]kod 4.1'!J4 -> 0 | O61: =P61+Q61+R61 -> 9 | P61: ='[1]kod 4.1'!J7 -> 0 | Q61: ='[1]kod 4.1'!J8 -> 9 | R61: ='[1]kod 4.1'!J6 -> 0 | S61: ='[1]kod 4.1'!J5 -> 0 | T61: =K61+S61 -> 87 | U61: ='[1]kod 4.1'!J9 -> 1 | V61: ='[1]kod 4.1'!M2 -> 75 | W61: ='[1]kod 4.1'!G6 -> 3 | X61: 0 | Y61: 0 | Z61: ='[1]kod 4.1'!J10+'[1]kod 4.1'!J11 -> 27 | AA61: ='[1]kod 4.1'!J10 -> 0
A62: 4.2 | C62: ²ÉÇÙ»ÝïÇ å³Ñ³ÝçÇ í»ñ³µ»ñÛ³É | F62: ='[1]kod 4.2'!J13 -> 9 | G62: =H62+I62+J62 -> 45 | H62: ='[1]kod 4.2'!J14 -> 43 | I62: ='[1]kod 4.2'!M3 -> 2 | J62: ='[1]kod 4.2'!N3 -> 0 | K62: =L62+M62+N62+O62 -> 39 | L62: ='[1]kod 4.2'!J2 -> 10 | M62: ='[1]kod 4.2'!J3 -> 17 | N62: ='[1]kod 4.2'!J4 -> 3 | O62: =P62+Q62+R62 -> 9 | P62: ='[1]kod 4.2'!J7 -> 1 | Q62: ='[1]kod 4.2'!J8 -> 7 | R62: ='[1]kod 4.2'!J6 -> 1 | S62: ='[1]kod 4.2'!J5 -> 0 | T62: =K62+S62 -> 39 | U62: ='[1]kod 4.2'!J9 -> 0 | V62: ='[1]kod 4.2'!M2 -> 30 | W62: ='[1]kod 4.2'!G6 -> 5 | X62: 0 | Y62: 0 | Z62: ='[1]kod 4.2'!J10+'[1]kod 4.2'!J11 -> 13 | AA62: ='[1]kod 4.2'!J10 -> 1
A63: 4.3 | C63: ²ÉÇÙ»ÝïÇ ã³÷Á ÷á÷áË»Éáõ í»ñ³µ»ñÛ³É | F63: ='[1]kod 4.3'!J13 -> 0 | G63: =H63+I63+J63 -> 2 | H63: ='[1]kod 4.3'!J14 -> 2 | I63: ='[1]kod 4.3'!M3 -> 0 | J63: ='[1]kod 4.3'!N3 -> 0 | K63: =L63+M63+N63+O63 -> 0 | L63: ='[1]kod 4.3'!J2 -> 0 | M63: ='[1]kod 4.3'!J3 -> 0 | N63: ='[1]kod 4.3'!J4 -> 0 | O63: =P63+Q63+R63 -> 0 | P63: ='[1]kod 4.3'!J7 -> 0 | Q63: ='[1]kod 4.3'!J8 -> 0 | R63: ='[1]kod 4.3'!J6 -> 0 | S63: ='[1]kod 4.3'!J5 -> 0 | T63: =K63+S63 -> 0 | U63: ='[1]kod 4.3'!J9 -> 0 | V63: ='[1]kod 4.3'!M2 -> 0 | W63: ='[1]kod 4.3'!G6 -> 0 | X63: 0 | Y63: 0 | Z63: ='[1]kod 4.3'!J10+'[1]kod 4.3'!J11 -> 2 | AA63: ='[1]kod 4.3'!J10 -> 0
A64: 4.4 | C64: ÌÝáÕ³Ï³Ý Çñ³íáõÝùÝ»ñÇó ½ñÏ»Éáõ í»ñ³µ»ñÛ³É | F64: ='[1]kod 4.4'!J13 -> 0 | G64: =H64+I64+J64 -> 1 | H64: ='[1]kod 4.4'!J14 -> 1 | I64: ='[1]kod 4.4'!M3 -> 0 | J64: ='[1]kod 4.4'!N3 -> 0 | K64: =L64+M64+N64+O64 -> 0 | L64: ='[1]kod 4.4'!J2 -> 0 | M64: ='[1]kod 4.4'!J3 -> 0 | N64: ='[1]kod 4.4'!J4 -> 0 | O64: =P64+Q64+R64 -> 0 | P64: ='[1]kod 4.4'!J7 -> 0 | Q64: ='[1]kod 4.4'!J8 -> 0 | R64: ='[1]kod 4.4'!J6 -> 0 | S64: ='[1]kod 4.4'!J5 -> 0 | T64: =K64+S64 -> 0 | U64: ='[1]kod 4.4'!J9 -> 0 | V64: ='[1]kod 4.4'!M2 -> 0 | W64: ='[1]kod 4.4'!G6 -> 0 | X64: 0 | Y64: 0 | Z64: ='[1]kod 4.4'!J10+'[1]kod 4.4'!J11 -> 1 | AA64: ='[1]kod 4.4'!J10 -> 0
A65: 4.5 | C65: ÌÝáÕ³Ï³Ý Çñ³íáõÝùÝ»ñÁ í»ñ³Ï³Ý·Ý»Éáõ í»ñ³µ»ñÛ³É | F65: 0 | G65: 0 | H65: 0 | I65: 0 | J65: 0 | K65: 0 | L65: 0 | M65: 0 | N65: 0 | O65: 0 | P65: 0 | Q65: 0 | R65: 0 | S65: 0 | T65: 0 | U65: 0 | V65: 0 | W65: 0 | X65: 0 | Y65: 0 | Z65: 0 | AA65: 0
A66: 4.6 | C66: ºñ»Ë³ÛÇ áñ¹»·ñÙ³Ý í»ñ³µ»ñÛ³É | F66: ='[1]kod 4.6'!J13 -> 0 | G66: =H66+I66+J66 -> 3 | H66: ='[1]kod 4.6'!J14 -> 3 | I66: ='[1]kod 4.6'!M3 -> 0 | J66: ='[1]kod 4.6'!N3 -> 0 | K66: =L66+M66+N66+O66 -> 3 | L66: ='[1]kod 4.6'!J2 -> 3 | M66: ='[1]kod 4.6'!J3 -> 0 | N66: ='[1]kod 4.6'!J4 -> 0 | O66: =P66+Q66+R66 -> 0 | P66: ='[1]kod 4.6'!J7 -> 0 | Q66: ='[1]kod 4.6'!J8 -> 0 | R66: ='[1]kod 4.6'!J6 -> 0 | S66: ='[1]kod 4.6'!J5 -> 0 | T66: =K66+S66 -> 3 | U66: ='[1]kod 4.6'!J9 -> 0 | V66: ='[1]kod 4.6'!M2 -> 3 | W66: ='[1]kod 4.6'!G6 -> 0 | X66: 0 | Y66: 0 | Z66: ='[1]kod 4.6'!J10+'[1]kod 4.6'!J11 -> 0 | AA66: ='[1]kod 4.6'!J10 -> 0
A67: 4.7 | C67: ºñ»Ë³ÛÇ áñ¹»·ñáõÙÁ í»ñ³óÝ»Éáõ í»ñ³µ»ñÛ³É | F67: ='[1]kod 4.7'!J13 -> 0 | G67: =H67+I67+J67 -> 0 | H67: ='[1]kod 4.7'!J14 -> 0 | I67: ='[1]kod 4.7'!M3 -> 0 | J67: ='[1]kod 4.7'!N3 -> 0 | K67: =L67+M67+N67+O67 -> 0 | L67: ='[1]kod 4.7'!J2 -> 0 | M67: ='[1]kod 4.7'!J3 -> 0 | N67: ='[1]kod 4.7'!J4 -> 0 | O67: =P67+Q67+R67 -> 0 | P67: ='[1]kod 4.7'!J7 -> 0 | Q67: ='[1]kod 4.7'!J8 -> 0 | R67: ='[1]kod 4.7'!J6 -> 0 | S67: ='[1]kod 4.7'!J5 -> 0 | T67: =K67+S67 -> 0 | U67: ='[1]kod 4.7'!J9 -> 0 | V67: ='[1]kod 4.7'!M2 -> 0 | W67: ='[1]kod 4.7'!G6 -> 0 | X67: 0 | Y67: 0 | Z67: ='[1]kod 4.7'!J10+'[1]kod 4.7'!J11 -> 0 | AA67: ='[1]kod 4.7'!J10 -> 0
A68: 4.8 | C68: Ð³ÛñáõÃÛáõÝÁ ×³Ý³ã»Éáõ í»ñ³µ»ñÛ³É | F68: ='[1]kod 4.8'!J13 -> 1 | G68: =H68+I68+J68 -> 5 | H68: ='[1]kod 4.8'!J14 -> 3 | I68: ='[1]kod 4.8'!M3 -> 2 | J68: ='[1]kod 4.8'!N3 -> 0 | K68: =L68+M68+N68+O68 -> 4 | L68: ='[1]kod 4.8'!J2 -> 2 | M68: ='[1]kod 4.8'!J3 -> 0 | N68: ='[1]kod 4.8'!J4 -> 0 | O68: =P68+Q68+R68 -> 2 | P68: ='[1]kod 4.8'!J7 -> 0 | Q68: ='[1]kod 4.8'!J8 -> 2 | R68: ='[1]kod 4.8'!J6 -> 0 | S68: ='[1]kod 4.8'!J5 -> 0 | T68: =K68+S68 -> 4 | U68: ='[1]kod 4.8'!J9 -> 0 | V68: ='[1]kod 4.8'!M2 -> 4 | W68: ='[1]kod 4.8'!G6 -> 0 | X68: 0 | Y68: 0 | Z68: ='[1]kod 4.8'!J10+'[1]kod 4.8'!J11 -> 0 | AA68: ='[1]kod 4.8'!J10 -> 0
A69: 4.9 | C69: ºñ»Ë³ÛÇ µÝ³ÏáõÃÛ³Ý í³ÛñÁ áñáß»Éáõ í»ñ³µ»ñÛ³É | F69: ='[1]kod 4.9'!J13 -> 2 | G69: =H69+I69+J69 -> 3 | H69: ='[1]kod 4.9'!J14 -> 3 | I69: ='[1]kod 4.9'!M3 -> 0 | J69: ='[1]kod 4.9'!N3 -> 0 | K69: =L69+M69+N69+O69 -> 4 | L69: ='[1]kod 4.9'!J2 -> 0 | M69: ='[1]kod 4.9'!J3 -> 0 | N69: ='[1]kod 4.9'!J4 -> 2 | O69: =P69+Q69+R69 -> 2 | P69: ='[1]kod 4.9'!J7 -> 0 | Q69: ='[1]kod 4.9'!J8 -> 2 | R69: ='[1]kod 4.9'!J6 -> 0 | S69: ='[1]kod 4.9'!J5 -> 0 | T69: =K69+S69 -> 4 | U69: ='[1]kod 4.9'!J9 -> 0 | V69: ='[1]kod 4.9'!M2 -> 4 | W69: ='[1]kod 4.9'!G6 -> 1 | X69: 0 | Y69: 0 | Z69: ='[1]kod 4.9'!J10+'[1]kod 4.9'!J11 -> 1 | AA69: ='[1]kod 4.9'!J10 -> 0
A70: 4.10 | C70: ºñ»Ë³ÛÇ Ñ»ï ï»ë³ÏóáõÃÛ³Ý Ï³ñ· ë³ÑÙ³Ý»Éáõ í»ñ³µ»ñÛ³É | F70: ='[1]kod 4.10'!J13 -> 5 | G70: =H70+I70+J70 -> 12 | H70: ='[1]kod 4.10'!J14 -> 11 | I70: ='[1]kod 4.10'!M3 -> 1 | J70: ='[1]kod 4.10'!N3 -> 0 | K70: =L70+M70+N70+O70 -> 10 | L70: ='[1]kod 4.10'!J2 -> 1 | M70: ='[1]kod 4.10'!J3 -> 6 | N70: ='[1]kod 4.10'!J4 -> 0 | O70: =P70+Q70+R70 -> 3 | P70: ='[1]kod 4.10'!J7 -> 3 | Q70: ='[1]kod 4.10'!J8 -> 0 | R70: ='[1]kod 4.10'!J6 -> 0 | S70: ='[1]kod 4.10'!J5 -> 0 | T70: =K70+S70 -> 10 | U70: ='[1]kod 4.10'!J9 -> 0 | V70: ='[1]kod 4.10'!M2 -> 7 | W70: ='[1]kod 4.10'!G6 -> 2 | X70: 0 | Y70: 0 | Z70: ='[1]kod 4.10'!J10+'[1]kod 4.10'!J11 -> 6 | AA70: ='[1]kod 4.10'!J10 -> 0
A71: 4.11 | C71: ²ÙáõëÇÝÝ»ñÇ ÁÝ¹Ñ³Ýáõñ ·áõÛùÁ µ³Å³Ý»Éáõ í»ñ³µ»ñÛ³É | F71: ='[1]kod 4.11'!J13 -> 3 | G71: =H71+I71+J71 -> 2 | H71: ='[1]kod 4.11'!J14 -> 2 | I71: ='[1]kod 4.11'!M3 -> 0 | J71: ='[1]kod 4.11'!N3 -> 0 | K71: =L71+M71+N71+O71 -> 2 | L71: ='[1]kod 4.11'!J2 -> 0 | M71: ='[1]kod 4.11'!J3 -> 0 | N71: ='[1]kod 4.11'!J4 -> 0 | O71: =P71+Q71+R71 -> 2 | P71: ='[1]kod 4.11'!J7 -> 1 | Q71: ='[1]kod 4.11'!J8 -> 1 | R71: ='[1]kod 4.11'!J6 -> 0 | S71: ='[1]kod 4.11'!J5 -> 0 | T71: =K71+S71 -> 2 | U71: ='[1]kod 4.11'!J9 -> 0 | V71: ='[1]kod 4.11'!M2 -> 2 | W71: 0 | X71: 0 | Y71: 0 | Z71: ='[1]kod 4.11'!J10+'[1]kod 4.11'!J11 -> 3 | AA71: ='[1]kod 4.11'!J10 -> 0
A72: 4.12 | C72: ²ÙáõëÝ³Ï³Ý å³ÛÙ³Ý³·ñÇ ÷á÷áËÙ³Ý Ï³Ù ÉáõÍÙ³Ý í»ñ³µ»ñÛ³É | F72: 0 | G72: 0 | H72: 0 | I72: 0 | J72: 0 | K72: 0 | L72: 0 | M72: 0 | N72: 0 | O72: 0 | P72: 0 | Q72: 0 | R72: 0 | S72: 0 | T72: 0 | U72: 0 | V72: 0 | W72: 0 | X72: 0 | Y72: 0 | Z72: 0 | AA72: 0
A73: 4.13 | C73: ²ÛÉ í»×»ñ | F73: ='[1]kod 4.13'!J13 -> 4 | G73: =H73+I73+J73 -> 6 | H73: ='[1]kod 4.13'!J14 -> 5 | I73: ='[1]kod 4.13'!M3 -> 1 | J73: ='[1]kod 4.13'!N3 -> 0 | K73: =L73+M73+N73+O73 -> 6 | L73: ='[1]kod 4.13'!J2 -> 1 | M73: ='[1]kod 4.13'!J3 -> 1 | N73: ='[1]kod 4.13'!J4 -> 1 | O73: =P73+Q73+R73 -> 3 | P73: ='[1]kod 4.13'!J7 -> 0 | Q73: ='[1]kod 4.13'!J8 -> 3 | R73: ='[1]kod 4.13'!J6 -> 0 | S73: ='[1]kod 4.13'!J5 -> 0 | T73: =K73+S73 -> 6 | U73: ='[1]kod 4.13'!J9 -> 0 | V73: ='[1]kod 4.13'!M2 -> 6 | W73: ='[1]kod 4.13'!G6 -> 1 | X73: 0 | Y73: 0 | Z73: ='[1]kod 4.13'!J10+'[1]kod 4.13'!J11 -> 3 | AA73: ='[1]kod 4.13'!J10 -> 0
A74: 5. | C74: Øï³íáñ ë»÷³Ï³ÝáõÃÛáõÝ | F74: 0 | G74: 0 | H74: 0 | I74: 0 | J74: 0 | K74: 0 | L74: 0 | M74: 0 | N74: 0 | O74: 0 | P74: 0 | Q74: 0 | R74: 0 | S74: 0 | T74: 0 | U74: 0 | V74: 0 | W74: 0 | X74: 0 | Y74: 0 | Z74: 0 | AA74: 0
A75: 5.1 | C75: ÈÇó»Ý½³ÛÇÝ å³ÛÙ³Ý³·ñÇ ÉáõÍÙ³Ý, ÷á÷áËÙ³Ý ¨ ³Ýí³í»ñáõÃÛ³Ý í»ñ³µ»ñÛ³É | F75: ='[1]kod 5.1'!J13 -> 0 | G75: =H75+I75+J75 -> 0 | H75: ='[1]kod 5.1'!J14 -> 0 | I75: ='[1]kod 5.1'!M3 -> 0 | J75: ='[1]kod 5.1'!N3 -> 0 | K75: =L75+M75+N75+O75 -> 0 | L75: ='[1]kod 5.1'!J2 -> 0 | M75: ='[1]kod 5.1'!J3 -> 0 | N75: ='[1]kod 5.1'!J4 -> 0 | O75: =P75+Q75+R75 -> 0 | P75: ='[1]kod 5.1'!J7 -> 0 | Q75: ='[1]kod 5.1'!J8 -> 0 | R75: ='[1]kod 5.1'!J6 -> 0 | S75: ='[1]kod 5.1'!J5 -> 0 | T75: =K75+S75 -> 0 | U75: ='[1]kod 5.1'!J9 -> 0 | V75: ='[1]kod 5.1'!M2 -> 0 | W75: 0 | X75: 0 | Y75: 0 | Z75: ='[1]kod 5.1'!J10+'[1]kod 5.1'!J11 -> 0 | AA75: ='[1]kod 5.1'!J10 -> 0
A76: 5.2 | C76: Øï³íáñ ·áñÍáõÝ»áõÃÛ³Ý ³ñ¹ÛáõÝùÝ»ñ ëï»ÕÍ»Éáõ ¨ û·ï³·áñÍ»Éáõ å³ÛÙ³Ý³·ñÇ ÉáõÍÙ³Ý, ÷á÷áËÙ³Ý áõ ³Ýí³í»ñáõÃÛ³Ý í»ñ³µ»ñÛ³É | F76: 0 | G76: 0 | H76: 0 | I76: 0 | J76: 0 | K76: 0 | L76: 0 | M76: 0 | N76: 0 | O76: 0 | P76: 0 | Q76: 0 | R76: 0 | S76: 0 | T76: 0 | U76: 0 | V76: 0 | W76: 0 | X76: 0 | Y76: 0 | Z76: 0 | AA76: 0
A77: 5.3 | C77: Ð»ÕÇÝ³Ï³ÛÇÝ ¨ Ñ³ñ³ÏÇó Çñ³íáõÝùÝ»ñÇ í»ñ³µ»ñÛ³É | F77: ='[1]kod 5.3'!J13 -> 1 | G77: =H77+I77+J77 -> 0 | H77: ='[1]kod 5.3'!J14 -> 0 | I77: ='[1]kod 5.3'!M3 -> 0 | J77: ='[1]kod 5.3'!N3 -> 0 | K77: =L77+M77+N77+O77 -> 1 | L77: ='[1]kod 5.3'!J2 -> 0 | M77: ='[1]kod 5.3'!J3 -> 0 | N77: ='[1]kod 5.3'!J4 -> 0 | O77: =P77+Q77+R77 -> 1 | P77: ='[1]kod 5.3'!J7 -> 0 | Q77: ='[1]kod 5.3'!J8 -> 1 | R77: ='[1]kod 5.3'!J6 -> 0 | S77: ='[1]kod 5.3'!J5 -> 0 | T77: =K77+S77 -> 1 | U77: ='[1]kod 5.3'!J9 -> 0 | V77: ='[1]kod 5.3'!M2 -> 1 | W77: ='[1]kod 5.3'!G6 -> 0 | X77: 0 | Y77: 0 | Z77: ='[1]kod 5.3'!J10+'[1]kod 5.3'!J11 -> 0 | AA77: ='[1]kod 5.3'!J10 -> 0
A78: 5.4 | C78: üÇñÙ³ÛÇÝ ³Ýí³ÝÙ³Ý í»ñ³µ»ñÛ³É | F78: 0 | G78: 0 | H78: 0 | I78: 0 | J78: 0 | K78: 0 | L78: 0 | M78: 0 | N78: 0 | O78: 0 | P78: 0 | Q78: 0 | R78: 0 | S78: 0 | T78: 0 | U78: 0 | V78: 0 | W78: 0 | X78: 0 | Y78: 0 | Z78: 0 | AA78: 0
A79: 5.5 | C79: ²åñ³Ýù³ÛÇÝ Ýß³ÝÇ í»ñ³µ»ñÛ³É | F79: ='[1]kod 5.5'!J13 -> 1 | G79: =H79+I79+J79 -> 0 | H79: ='[1]kod 5.5'!J14 -> 0 | I79: ='[1]kod 5.5'!M3 -> 0 | J79: ='[1]kod 5.5'!N3 -> 0 | K79: =L79+M79+N79+O79 -> 1 | L79: ='[1]kod 5.5'!J2 -> 1 | M79: ='[1]kod 5.5'!J3 -> 0 | N79: ='[1]kod 5.5'!J4 -> 0 | O79: =P79+Q79+R79 -> 0 | P79: ='[1]kod 5.5'!J7 -> 0 | Q79: ='[1]kod 5.5'!J8 -> 0 | R79: ='[1]kod 5.5'!J6 -> 0 | S79: ='[1]kod 5.5'!J5 -> 0 | T79: =K79+S79 -> 1 | U79: ='[1]kod 5.5'!J9 -> 0 | V79: ='[1]kod 5.5'!M2 -> 0 | W79: ='[1]kod 5.5'!G6 -> 0 | X79: 0 | Y79: 0 | Z79: ='[1]kod 5.5'!J10+'[1]kod 5.5'!J11 -> 0 | AA79: ='[1]kod 5.5'!J10 -> 0
A80: 5.6 | C80: ²ÛÉ í»×»ñ | F80: ='[1]kod 5.6'!J13 -> 0 | G80: 1 | H80: ='[1]kod 5.6'!J14 -> 1 | I80: ='[1]kod 5.6'!M3 -> 0 | J80: 0 | K80: =L80+M80+N80+O80 -> 1 | L80: ='[1]kod 5.6'!J2 -> 0 | M80: ='[1]kod 5.6'!J3 -> 0 | N80: ='[1]kod 5.6'!J4 -> 1 | O80: =P80+Q80+R80 -> 0 | P80: ='[1]kod 5.6'!J7 -> 0 | Q80: ='[1]kod 5.6'!J8 -> 0 | R80: ='[1]kod 5.6'!J6 -> 0 | S80: ='[1]kod 5.6'!J5 -> 0 | T80: =K80+S80 -> 1 | U80: ='[1]kod 5.6'!J9 -> 0 | V80: ='[1]kod 5.6'!M2 -> 0 | W80: ='[1]kod 5.6'!G6 -> 1 | X80: 0 | Y80: 0 | Z80: ='[1]kod 5.6'!J10+'[1]kod 5.6'!J11 -> 0 | AA80: ='[1]kod 5.6'!J10 -> 0
A81: 6. | C81: ²ßË³ï³Ýù³ÛÇÝ í»×»ñ | F81: 0 | G81: 0 | H81: 0 | I81: 0 | J81: 0 | K81: 0 | L81: 0 | M81: 0 | N81: 0 | O81: 0 | P81: 0 | Q81: 0 | R81: 0 | S81: 0 | T81: 0 | U81: 0 | V81: 0 | W81: 0 | X81: 0 | Y81: 0 | Z81: 0 | AA81: 0
A82: 6.1 | C82: ²ßË³ï³Ýù³ÛÇÝ å³ÛÙ³Ý³·ñ»ñÇ í»ñ³µ»ñÛ³É | F82: ='[1]kod 6.1'!J13 -> 0 | G82: =H82+I82+J82 -> 2 | H82: ='[1]kod 6.1'!J12 -> 2 | I82: ='[1]kod 6.1'!M3 -> 0 | J82: ='[1]kod 6.1'!N3 -> 0 | K82: =L82+M82+N82+O82 -> 0 | L82: ='[1]kod 6.1'!J2 -> 0 | M82: ='[1]kod 6.1'!J3 -> 0 | N82: ='[1]kod 6.1'!J4 -> 0 | O82: =P82+Q82+R82 -> 0 | P82: ='[1]kod 6.1'!J7 -> 0 | Q82: ='[1]kod 6.1'!J8 -> 0 | R82: ='[1]kod 6.1'!J6 -> 0 | S82: ='[1]kod 6.1'!J5 -> 0 | T82: =K82+S82 -> 0 | U82: ='[1]kod 6.1'!J9 -> 1 | V82: ='[1]kod 6.1'!M2 -> 0 | W82: ='[1]kod 6.1'!G6 -> 0 | X82: 0 | Y82: 0 | Z82: ='[1]kod 6.1'!J11+'[1]kod 6.1'!J10 -> 1 | AA82: ='[1]kod 6.1'!J10 -> 0
A83: 6.2 | C83: ²ßË³ï³ÝùáõÙ í»ñ³Ï³Ý·Ý»Éáõ í»ñ³µ»ñÛ³É | F83: ='[1]kod 6.2'!J13 -> 1 | G83: =H83+I83+J83 -> 3 | H83: ='[1]kod 6.2'!J14 -> 1 | I83: ='[1]kod 6.2'!M3 -> 2 | J83: ='[1]kod 6.2'!N3 -> 0 | K83: =L83+M83+N83+O83 -> 1 | L83: ='[1]kod 6.2'!J2 -> 0 | M83: ='[1]kod 6.2'!J3 -> 1 | N83: ='[1]kod 6.2'!J4 -> 0 | O83: =P83+Q83+R83 -> 0 | P83: ='[1]kod 6.2'!J7 -> 0 | Q83: ='[1]kod 6.2'!J8 -> 0 | R83: ='[1]kod 6.2'!J6 -> 0 | S83: ='[1]kod 6.2'!J5 -> 0 | T83: =K83+S83 -> 1 | U83: ='[1]kod 6.2'!J9 -> 0 | V83: ='[1]kod 6.2'!M2 -> 1 | W83: ='[1]kod 6.2'!G6 -> 1 | X83: 0 | Y83: 0 | Z83: ='[1]kod 6.2'!J10+'[1]kod 6.2'!J11 -> 1 | AA83: ='[1]kod 6.2'!J10 -> 0
A84: 6.3 | C84: ¶áñÍ³¹áõÉÝ ³ÝûñÇÝ³Ï³Ý ×³Ý³ã»Éáõ í»ñ³µ»ñÛ³É | F84: 0 | G84: 0 | H84: 0 | I84: 0 | J84: 0 | K84: 0 | L84: 0 | M84: 0 | N84: 0 | O84: 0 | P84: 0 | Q84: 0 | R84: 0 | S84: 0 | T84: 0 | U84: 0 | V84: 0 | W84: 0 | X84: 0 | Y84: 0 | Z84: 0 | AA84: 0
A85: 6.4 | C85: Ð³ñÏ³¹Çñ å³ñ³åáõñ¹Ç Ñ³ïáõóÙ³Ý í»ñ³µ»ñÛ³É | F85: 0 | G85: 0 | H85: 0 | I85: 0 | J85: 0 | K85: 0 | L85: 0 | M85: 0 | N85: 0 | O85: 0 | P85: 0 | Q85: 0 | R85: 0 | S85: 0 | T85: 0 | U85: 0 | V85: 0 | W85: 0 | X85: 0 | Y85: 0 | Z85: 0 | AA85: 0
A86: 6.5 | C86: âí×³ñí³Í ³ßË³ï³í³ñÓÇ ¨/Ï³Ù ³ÛÉ í×³ñÝ»ñÇ µéÝ³·³ÝÓÙ³Ý í»ñ³µ»ñÛ³É | F86: ='[1]kod 6.5'!J13 -> 2 | G86: =H86+I86+J86 -> 5 | H86: ='[1]kod 6.5'!J14 -> 3 | I86: ='[1]kod 6.5'!M3 -> 2 | J86: ='[1]kod 6.5'!N3 -> 0 | K86: =L86+M86+N86+O86 -> 2 | L86: ='[1]kod 6.5'!J2 -> 1 | M86: ='[1]kod 6.5'!J3 -> 0 | N86: ='[1]kod 6.5'!J4 -> 0 | O86: =P86+Q86+R86 -> 1 | P86: ='[1]kod 6.5'!J7 -> 0 | Q86: ='[1]kod 6.5'!J8 -> 0 | R86: ='[1]kod 6.5'!J6 -> 1 | S86: ='[1]kod 6.5'!J5 -> 0 | T86: =K86+S86 -> 2 | U86: ='[1]kod 6.5'!J9 -> 0 | V86: ='[1]kod 6.5'!M2 -> 2 | W86: ='[1]kod 6.5'!G6 -> 0 | X86: 0 | Y86: 0 | Z86: ='[1]kod 6.5'!J10+'[1]kod 6.5'!J11 -> 3 | AA86: ='[1]kod 6.5'!J10 -> 0
A87: 6.6 | C87: ²ÛÉ í»×»ñ | F87: ='[1]kod 6.6'!J13 -> 0 | G87: =H87+I87+J87 -> 2 | H87: ='[1]kod 6.6'!J14 -> 1 | I87: ='[1]kod 6.6'!M3 -> 1 | J87: ='[1]kod 6.6'!N3 -> 0 | K87: =L87+M87+N87+O87 -> 1 | L87: ='[1]kod 6.6'!J2 -> 0 | M87: ='[1]kod 6.6'!J3 -> 1 | N87: ='[1]kod 6.6'!J4 -> 0 | O87: =P87+Q87+R87 -> 0 | P87: ='[1]kod 6.6'!J7 -> 0 | Q87: ='[1]kod 6.6'!J8 -> 0 | R87: ='[1]kod 6.6'!J6 -> 0 | S87: ='[1]kod 6.6'!J5 -> 0 | T87: =K87+S87 -> 1 | U87: ='[1]kod 6.6'!J9 -> 0 | V87: ='[1]kod 6.6'!M2 -> 1 | W87: ='[1]kod 6.6'!G6 -> 1 | X87: 0 | Y87: 0 | Z87: ='[1]kod 6.6'!J10+'[1]kod 6.6'!J11 -> 0 | AA87: ='[1]kod 6.6'!J10 -> 0
A88: 7. | C88: Æñ³í³µ³Ý³Ï³Ý ³ÝÓÇ ·áñÍáõÝ»áõÃÛ³Ý í»ñ³µ»ñÛ³É | F88: 0 | G88: 0 | H88: 0 | I88: 0 | J88: 0 | K88: 0 | L88: 0 | M88: 0 | N88: 0 | O88: 0 | P88: 0 | Q88: 0 | R88: 0 | S88: 0 | T88: 0 | U88: 0 | V88: 0 | W88: 0 | X88: 0 | Y88: 0 | Z88: 0 | AA88: 0
A89: 7.1 | C89: Îáñåáñ³ïÇí í»×»ñ | F89: ='[1]kod 7.1'!J13 -> 1 | G89: =H89+I89+J89 -> 0 | H89: ='[1]kod 7.1'!J14 -> 0 | I89: ='[1]kod 7.1'!M3 -> 0 | J89: ='[1]kod 7.1'!N3 -> 0 | K89: =L89+M89+N89+O89 -> 0 | L89: ='[1]kod 7.1'!J2 -> 0 | M89: ='[1]kod 7.1'!J3 -> 0 | N89: ='[1]kod 7.1'!J4 -> 0 | O89: =P89+Q89+R89 -> 0 | P89: ='[1]kod 7.1'!J7 -> 0 | Q89: ='[1]kod 7.1'!H8 -> 0 | R89: ='[1]kod 7.1'!J6 -> 0 | S89: ='[1]kod 7.1'!J5 -> 0 | T89: =K89+S89 -> 0 | U89: ='[1]kod 7.1'!J9 -> 0 | V89: ='[1]kod 7.1'!M2 -> 0 | W89: ='[1]kod 7.1'!G6 -> 0 | X89: 0 | Y89: ='[1]kod 7.1'!G7 -> 1 | Z89: ='[1]kod 7.1'!J10+'[1]kod 7.1'!J11 -> 1 | AA89: ='[1]kod 7.1'!J10 -> 1
A90: 7.2 | C90: ²ÛÉ í»×»ñ | F90: ='[1]kod 7.2'!J13 -> 1 | G90: =H90+I90+J90 -> 3 | H90: ='[1]kod 7.2'!J14 -> 2 | I90: ='[1]kod 7.2'!M3 -> 1 | J90: ='[1]kod 7.2'!N3 -> 0 | K90: =L90+M90+N90+O90 -> 1 | L90: ='[1]kod 7.2'!J2 -> 1 | M90: ='[1]kod 7.2'!J3 -> 0 | N90: ='[1]kod 7.2'!J4 -> 0 | O90: =P90+Q90+R90 -> 0 | P90: ='[1]kod 7.2'!J7 -> 0 | Q90: ='[1]kod 7.2'!J8 -> 0 | R90: ='[1]kod 7.2'!J6 -> 0 | S90: ='[1]kod 7.2'!J5 -> 0 | T90: =K90+S90 -> 1 | U90: ='[1]kod 7.2'!J9 -> 0 | V90: ='[1]kod 7.2'!M2 -> 1 | W90: 0 | X90: 0 | Y90: 0 | Z90: ='[1]kod 7.2'!J10+'[1]kod 7.2'!J11 -> 2 | AA90: ='[1]kod 7.2'!J10 -> 1
A91: 8. | C91: Ð³ïáõÏ í³ñáõÛÃÇ ·áñÍ»ñ | F91: 0 | G91: 0 | H91: 0 | I91: 0 | J91: 0 | K91: 0 | L91: 0 | M91: 0 | N91: 0 | O91: 0 | P91: 0 | Q91: 0 | R91: 0 | S91: 0 | T91: 0 | U91: 0 | V91: 0 | W91: 0 | X91: 0 | Y91: 0 | Z91: 0 | AA91: 0
A92: 8.1 | C92: ²Ýã³÷³Ñ³ëÇÝ ÉñÇí ·áñÍáõÝ³Ï ×³Ý³ã»Éáõ /¿Ù³ÝëÇå³óÇ³/ í»ñ³µ»ñÛ³É | F92: 0 | G92: 0 | H92: 0 | I92: 0 | J92: 0 | K92: 0 | L92: 0 | M92: 0 | N92: 0 | O92: 0 | P92: 0 | Q92: 0 | R92: 0 | S92: 0 | T92: 0 | U92: 0 | V92: 0 | W92: 0 | X92: 0 | Y92: 0 | Z92: 0 | AA92: 0
A93: 8.2 | C93: ø³Õ³ù³óáõÝ ³Ý·áñÍáõÝ³Ï Ï³Ù ë³ÑÙ³Ý³÷³Ï ·áñÍáõÝ³Ï ×³Ý³ã»Éáõ í»ñ³µ»ñÛ³É | F93: ='[1]kod 8.2'!J13 -> 5 | G93: =H93+I93+J93 -> 23 | H93: ='[1]kod 8.2'!J14 -> 20 | I93: ='[1]kod 8.2'!M3 -> 1 | J93: ='[1]kod 8.2'!N3 -> 2 | K93: =L93+M93+N93+O93 -> 9 | L93: ='[1]kod 8.2'!J2 -> 6 | M93: ='[1]kod 8.2'!J3 -> 1 | N93: ='[1]kod 8.2'!J4 -> 0 | O93: =P93+Q93+R93 -> 2 | P93: ='[1]kod 8.2'!J7 -> 0 | Q93: ='[1]kod 8.2'!J8 -> 2 | R93: ='[1]kod 8.2'!J6 -> 0 | S93: ='[1]kod 8.2'!J5 -> 0 | T93: =K93+S93 -> 9 | U93: ='[1]kod 8.2'!J9 -> 0 | V93: ='[1]kod 8.2'!M2 -> 8 | W93: ='[1]kod 8.2'!G6 -> 0 | X93: 0 | Y93: 0 | Z93: ='[1]kod 8.2'!J10+'[1]kod 8.2'!J11 -> 16 | AA93: ='[1]kod 8.2'!J10 -> 9
A94: 8.3 | C94: ø³Õ³ù³óáõÝ Ñá·»µáõÅ³Ï³Ý ÑÇí³Ý¹³Ýáó³ÛÇÝ Ñ³ñÏ³¹Çñ µáõÅÙ³Ý »ÝÃ³ñÏ»Éáõ í»ñ³µ»ñÛ³É | F94: 0 | G94: 0 | H94: 0 | I94: 0 | J94: 0 | K94: 0 | L94: 0 | M94: 0 | N94: 0 | O94: 0 | P94: 0 | Q94: 0 | R94: 0 | S94: 0 | T94: 0 | U94: 0 | V94: 0 | W94: 0 | X94: 0 | Y94: 0 | Z94: 0 | AA94: 0
A95: 8.4 | C95: ø³Õ³ù³óáõÝ ³ÝÑ³Ûï µ³ó³Ï³ÛáÕ Ï³Ù Ù³Ñ³ó³Í ×³Ý³ã»Éáõ í»ñ³µ»ñÛ³É | F95: ='[1]kod 8.4'!J13 -> 9 | G95: =H95+I95+J95 -> 37 | H95: ='[1]kod 8.4'!J14 -> 34 | I95: ='[1]kod 8.4'!M3 -> 3 | J95: ='[1]kod 8.4'!N3 -> 0 | K95: =L95+M95+N95+O95 -> 28 | L95: ='[1]kod 8.4'!J2 -> 20 | M95: ='[1]kod 8.4'!J3 -> 0 | N95: ='[1]kod 8.4'!J4 -> 5 | O95: =P95+Q95+R95 -> 3 | P95: ='[1]kod 8.4'!J7 -> 0 | Q95: ='[1]kod 8.4'!J8 -> 3 | R95: ='[1]kod 8.4'!J6 -> 0 | S95: ='[1]kod 8.4'!J5 -> 0 | T95: =K95+S95 -> 28 | U95: ='[1]kod 8.4'!J9 -> 0 | V95: ='[1]kod 8.4'!M2 -> 25 | W95: ='[1]kod 8.4'!G6 -> 2 | X95: 0 | Y95: ='[1]kod 8.4'!G7 -> 0 | Z95: ='[1]kod 8.4'!J10+'[1]kod 8.4'!J11 -> 15 | AA95: ='[1]kod 8.4'!J10 -> 0
A96: 8.5 | C96: ø³Õ³ù³óÇ³Ï³Ý Ï³óáõÃÛ³Ý ³Ïï»ñÇ ·ñ³éáõÙÝ»ñÇ ³Ý×ßïáõÃÛáõÝÝ»ñÁ å³ñ½»Éáõ í»ñ³µ»ñÛ³É | F96: ='[1]kod 8.5'!J13 -> 0 | G96: =H96+I96+J96 -> 2 | H96: ='[1]kod 8.5'!J14 -> 1 | I96: ='[1]kod 8.5'!M3 -> 1 | J96: ='[1]kod 8.5'!N3 -> 0 | K96: =L96+M96+N96+O96 -> 1 | L96: ='[1]kod 8.5'!J2 -> 0 | M96: ='[1]kod 8.5'!J3 -> 0 | N96: ='[1]kod 8.5'!J4 -> 1 | O96: =P96+Q96+R96 -> 0 | P96: ='[1]kod 8.5'!J7 -> 0 | Q96: ='[1]kod 8.5'!J8 -> 0 | R96: ='[1]kod 8.5'!J6 -> 0 | S96: ='[1]kod 8.5'!J5 -> 0 | T96: =K96+S96 -> 1 | U96: ='[1]kod 8.5'!J9 -> 0 | V96: ='[1]kod 8.5'!M2 -> 0 | W96: ='[1]kod 8.5'!G6 -> 0 | X96: 0 | Y96: 0 | Z96: ='[1]kod 8.5'!J10+'[1]kod 8.5'!J11 -> 0 | AA96: ='[1]kod 8.5'!J10 -> 0
A97: 8.6 | C97: ¶áõÛùÁ ïÇñ³½áõñÏ ×³Ý³ã»Éáõ í»ñ³µ»ñÛ³É | F97: ='[1]kod 8.6'!J13 -> 1 | G97: =H97+I97+J97 -> 1 | H97: ='[1]kod 8.6'!J14 -> 0 | I97: ='[1]kod 8.6'!M3 -> 1 | J97: ='[1]kod 8.6'!N3 -> 0 | K97: =L97+M97+N97+O97 -> 1 | L97: ='[1]kod 8.6'!J2 -> 0 | M97: ='[1]kod 8.6'!J3 -> 0 | N97: ='[1]kod 8.6'!J4 -> 1 | O97: =P97+Q97+R97 -> 0 | P97: ='[1]kod 8.6'!J7 -> 0 | Q97: ='[1]kod 8.6'!J8 -> 0 | R97: ='[1]kod 8.6'!J6 -> 0 | S97: ='[1]kod 8.6'!J5 -> 0 | T97: =K97+S97 -> 1 | U97: ='[1]kod 8.6'!J9 -> 0 | V97: ='[1]kod 8.6'!M2 -> 1 | W97: ='[1]kod 8.6'!G6 -> 1 | X97: 0 | Y97: 0 | Z97: ='[1]kod 8.6'!J10+'[1]kod 8.6'!J11 -> 0 | AA97: ='[1]kod 8.6'!J10 -> 0
A98: 8.6.1 | C98: ²Û¹ ÃíáõÙª ³Ýß³ñÅ ·áõÛùÁ | F98: ='[1]kod 8.6.1'!J13 -> 5 | G98: =H98+I98+J98 -> 5 | H98: ='[1]kod 8.6.1'!J14 -> 4 | I98: ='[1]kod 8.6.1'!M3 -> 1 | J98: ='[1]kod 8.6.1'!N3 -> 0 | K98: =L98+M98+N98+O98 -> 7 | L98: ='[1]kod 8.6.1'!J2 -> 0 | M98: ='[1]kod 8.6.1'!J3 -> 0 | N98: ='[1]kod 8.6.1'!J4 -> 3 | O98: =P98+Q98+R98 -> 4 | P98: ='[1]kod 8.6.1'!J7 -> 0 | Q98: ='[1]kod 8.6.1'!J8 -> 3 | R98: ='[1]kod 8.6.1'!J6 -> 1 | S98: ='[1]kod 8.6.1'!J5 -> 0 | T98: =K98+S98 -> 7 | U98: ='[1]kod 8.6.1'!J9 -> 0 | V98: ='[1]kod 8.6.1'!M2 -> 6 | W98: ='[1]kod 8.6.1'!G6 -> 1 | X98: 0 | Y98: ='[1]kod 8.6.1'!G7 -> 1 | Z98: ='[1]kod 8.6.1'!J10+'[1]kod 8.6.1'!J11 -> 2 | AA98: ='[1]kod 8.6.1'!J10 -> 0
A99: 8.6.2 | C99: ²Û¹ ÃíáõÙª ß³ñÅ³Ï³Ý ·áõÛùÁ | F99: ='[1]kod 8.6.2'!J13 -> 0 | G99: =H99+I99+J99 -> 2 | H99: ='[1]kod 8.6.2'!J14 -> 2 | I99: ='[1]kod 8.6.2'!M3 -> 0 | J99: ='[1]kod 8.6.2'!N3 -> 0 | K99: =L99+M99+N99+O99 -> 1 | L99: ='[1]kod 8.6.2'!J2 -> 1 | M99: ='[1]kod 8.6.2'!J3 -> 0 | N99: ='[1]kod 8.6.2'!J4 -> 0 | O99: =P99+Q99+R99 -> 0 | P99: ='[1]kod 8.6.2'!J7 -> 0 | Q99: ='[1]kod 8.6.2'!J8 -> 0 | R99: ='[1]kod 8.6.2'!J6 -> 0 | S99: ='[1]kod 8.6.2'!J5 -> 0 | T99: =K99+S99 -> 1 | U99: ='[1]kod 8.6.2'!J9 -> 0 | V99: ='[1]kod 8.6.2'!M2 -> 1 | W99: ='[1]kod 8.6.2'!G6 -> 0 | X99: 0 | Y99: 0 | Z99: ='[1]kod 8.6.2'!J10+'[1]kod 8.6.2'!J11 -> 1 | AA99: ='[1]kod 8.6.2'!J10 -> 0
A100: 8.7 | C100: Æñ³í³µ³Ý³Ï³Ý Ýß³Ý³ÏáõÃÛáõÝ áõÝ»óáÕ ÷³ëï»ñÇ Ñ³ëï³ïÙ³Ý í»ñ³µ»ñÛ³É | F100: 0 | G100: 0 | H100: 0 | I100: 0 | J100: 0 | K100: 0 | L100: 0 | M100: 0 | N100: 0 | O100: 0 | P100: 0 | Q100: 0 | R100: 0 | S100: 0 | T100: 0 | U100: 0 | V100: 0 | W100: 0 | X100: 0 | Y100: 0 | Z100: 0 | AA100: 0
A101: 8.7.1 | C101: ²ÝÓ³Ýó ³½·³Ïó³Ï³Ý Ï³åÁ Ñ³ëï³ï»Éáõ í»ñ³µ»ñÛ³É | F101: ='[1]kod 8.7.1'!J13 -> 1 | G101: =H101+I101+J101 -> 33 | H101: ='[1]kod 8.7.1'!J14 -> 19 | I101: ='[1]kod 8.7.1'!M3 -> 13 | J101: ='[1]kod 8.7.1'!N3 -> 1 | K101: =L101+M101+N101+O101 -> 16 | L101: ='[1]kod 8.7.1'!J2 -> 12 | M101: ='[1]kod 8.7.1'!J3 -> 1 | N101: ='[1]kod 8.7.1'!J4 -> 2 | O101: =P101+Q101+R101 -> 1 | P101: ='[1]kod 8.7.1'!J7 -> 0 | Q101: ='[1]kod 8.7.1'!J8 -> 1 | R101: ='[1]kod 8.7.1'!J6 -> 0 | S101: ='[1]kod 8.7.1'!J5 -> 0 | T101: =K101+S101 -> 16 | U101: ='[1]kod 8.7.1'!J9 -> 0 | V101: ='[1]kod 8.7.1'!M2 -> 10 | W101: ='[1]kod 8.7.1'!G6 -> 2 | X101: 0 | Y101: ='[1]kod 8.7.1'!G7 -> 1 | Z101: ='[1]kod 8.7.1'!J10+'[1]kod 8.7.1'!J11 -> 4 | AA101: ='[1]kod 8.7.1'!J10 -> 0
A102: 8.7.2 | C102: ²ÝÓÇª áõñÇßÇ ËÝ³ÙùÇ ï³Ï ·ïÝí»Éáõ í»ñ³µ»ñÛ³É | F102: 0 | G102: 0 | H102: 0 | I102: 0 | J102: 0 | K102: 0 | L102: 0 | M102: 0 | N102: 0 | O102: 0 | P102: 0 | Q102: 0 | R102: 0 | S102: 0 | T102: 0 | U102: 0 | V102: 0 | W102: 0 | X102: 0 | Y102: 0 | Z102: 0 | AA102: 0
A103: 8.7.3 | C103: ÌÝÝ¹Û³Ý, áñ¹»·ñÙ³Ý, ³ÙáõëÝáõÃÛ³Ý, ³å³Ñ³ñ½³ÝÇ ¨ Ù³Ñí³Ý ·ñ³ÝóÙ³Ý í»ñ³µ»ñÛ³É | F103: ='[1]kod 8.7.3'!J13 -> 2 | G103: =H103+I103+J103 -> 22 | H103: ='[1]kod 8.7.3'!J14 -> 17 | I103: ='[1]kod 8.7.3'!M3 -> 5 | J103: ='[1]kod 8.7.3'!N3 -> 0 | K103: =L103+M103+N103+O103 -> 16 | L103: ='[1]kod 8.7.3'!J2 -> 9 | M103: ='[1]kod 8.7.3'!J3 -> 4 | N103: ='[1]kod 8.7.3'!J4 -> 0 | O103: =P103+Q103+R103 -> 3 | P103: ='[1]kod 8.7.3'!J7 -> 0 | Q103: ='[1]kod 8.7.3'!J8 -> 3 | R103: ='[1]kod 8.7.3'!J6 -> 0 | S103: ='[1]kod 8.7.3'!J5 -> 0 | T103: =K103+S103 -> 16 | U103: ='[1]kod 8.7.3'!J9 -> 0 | V103: ='[1]kod 8.7.3'!M2 -> 14 | W103: ='[1]kod 8.7.3'!G6 -> 1 | X103: 0 | Y103: ='[1]kod 8.7.3'!G7 -> 1 | Z103: ='[1]kod 8.7.3'!J10+'[1]kod 8.7.3'!J11 -> 3 | AA103: ='[1]kod 8.7.3'!J10 -> 0
A104: 8.7.4 | C104: ²ÝÓÇª áñáß³ÏÇ Å³Ù³Ý³ÏáõÙ ¨ áñáß³ÏÇ Ñ³Ý·³Ù³ÝùÝ»ñáõÙ Ù³Ñí³Ý í»ñ³µ»ñÛ³É | F104: ='[1]kod 8.7.4'!J13 -> 0 | G104: =H104+I104+J104 -> 4 | H104: ='[1]kod 8.7.4'!J14 -> 3 | I104: ='[1]kod 8.7.4'!M3 -> 0 | J104: ='[1]kod 8.7.4'!N3 -> 1 | K104: =L104+M104+N104+O104 -> 1 | L104: ='[1]kod 8.7.4'!J2 -> 0 | M104: ='[1]kod 8.7.4'!J3 -> 1 | N104: ='[1]kod 8.7.4'!J4 -> 0 | O104: =P104+Q104+R104 -> 0 | P104: ='[1]kod 8.7.4'!J7 -> 0 | Q104: ='[1]kod 8.7.4'!J8 -> 0 | R104: ='[1]kod 8.7.4'!J6 -> 0 | S104: ='[1]kod 8.7.4'!J5 -> 0 | T104: =K104+S104 -> 1 | U104: ='[1]kod 8.7.4'!J9 -> 0 | V104: ='[1]kod 8.7.4'!M2 -> 0 | W104: ='[1]kod 8.7.4'!G6 -> 0 | X104: 0 | Y104: 0 | Z104: ='[1]kod 8.7.4'!J10+'[1]kod 8.7.4'!J11 -> 2 | AA104: ='[1]kod 8.7.4'!J10 -> 0
A105: 8.7.5 | C105: Ä³é³Ý·áõÃÛáõÝÝ ÁÝ¹áõÝ»Éáõ ¨ Å³é³Ý·áõÃÛ³Ý µ³óÙ³Ý í³ÛñÇ í»ñ³µ»ñÛ³É | F105: ='[1]kod 8.7.5'!J13 -> 0 | G105: 7 | H105: ='[1]kod 8.7.5'!J14 -> 5 | I105: ='[1]kod 8.7.5'!M3 -> 2 | J105: 0 | K105: =L105+M105+N105+O105 -> 5 | L105: ='[1]kod 8.7.5'!J2 -> 3 | M105: ='[1]kod 8.7.5'!J3 -> 0 | N105: ='[1]kod 8.7.5'!J4 -> 0 | O105: =P105+Q105+R105 -> 2 | P105: ='[1]kod 8.7.5'!J7 -> 0 | Q105: ='[1]kod 8.7.5'!J8 -> 1 | R105: ='[1]kod 8.7.5'!J6 -> 1 | S105: ='[1]kod 8.7.5'!J5 -> 0 | T105: =K105+S105 -> 5 | U105: ='[1]kod 8.7.5'!J9 -> 0 | V105: ='[1]kod 8.7.5'!M2 -> 4 | W105: ='[1]kod 8.7.5'!G6 -> 0 | X105: 0 | Y105: 0 | Z105: ='[1]kod 8.7.5'!J10+'[1]kod 8.7.5'!J11 -> 0 | AA105: ='[1]kod 8.7.5'!J10 -> 0
A106: 8.7.6 | C106: ¸Åµ³Ëï å³ï³Ñ³ñÇ í»ñ³µ»ñÛ³É | F106: 0 | G106: 0 | H106: 0 | I106: 0 | J106: 0 | K106: 0 | L106: 0 | M106: 0 | N106: 0 | O106: 0 | P106: 0 | Q106: 0 | R106: 0 | S106: 0 | T106: 0 | U106: 0 | V106: 0 | W106: 0 | X106: 0 | Y106: 0 | Z106: 0 | AA106: 0
A107: 8.7.7 | C107: Æñ³íáõÝù ë³ÑÙ³ÝáÕ ÷³ëï³ÃÕÃ»ñÇ å³ïÏ³Ý»ÉáõÃÛ³Ý í»ñ³µ»ñÛ³É | F107: ='[1]kod 8.7.7'!J13 -> 1 | G107: =H107+I107+J107 -> 29 | H107: ='[1]kod 8.7.7'!J14 -> 19 | I107: ='[1]kod 8.7.7'!M3 -> 7 | J107: ='[1]kod 8.7.7'!N3 -> 3 | K107: =L107+M107+N107+O107 -> 18 | L107: ='[1]kod 8.7.7'!J2 -> 12 | M107: ='[1]kod 8.7.7'!J3 -> 2 | N107: ='[1]kod 8.7.7'!J4 -> 3 | O107: =P107+Q107+R107 -> 1 | P107: ='[1]kod 8.7.7'!J7 -> 0 | Q107: ='[1]kod 8.7.7'!J8 -> 1 | R107: ='[1]kod 8.7.7'!J6 -> 0 | S107: ='[1]kod 8.7.7'!J5 -> 0 | T107: =K107+S107 -> 18 | U107: ='[1]kod 8.7.7'!J9 -> 0 | V107: ='[1]kod 8.7.7'!M2 -> 11 | W107: ='[1]kod 8.7.7'!G6 -> 1 | X107: 0 | Y107: ='[1]kod 8.7.7'!G7 -> 1 | Z107: ='[1]kod 8.7.7'!J10+'[1]kod 8.7.7'!J11 -> 2 | AA107: ='[1]kod 8.7.7'!J10 -> 0
A108: 8.7.8 | C108: ê»÷³Ï³ÝáõÃÛ³Ý Çñ³íáõÝùáí ·áõÛùÇ ïÇñ³å»ïÙ³Ý í»ñ³µ»ñÛ³É | F108: ='[1]kod 8.7.8'!J13 -> 1 | G108: =H108+I108+J108 -> 4 | H108: ='[1]kod 8.7.8'!J14 -> 3 | I108: ='[1]kod 8.7.8'!M3 -> 0 | J108: ='[1]kod 8.7.8'!N3 -> 1 | K108: =L108+M108+N108+O108 -> 3 | L108: ='[1]kod 8.7.8'!J2 -> 1 | M108: ='[1]kod 8.7.8'!J3 -> 0 | N108: ='[1]kod 8.7.8'!J4 -> 2 | O108: =P108+Q108+R108 -> 0 | P108: ='[1]kod 8.7.8'!J7 -> 0 | Q108: ='[1]kod 8.7.8'!J8 -> 0 | R108: ='[1]kod 8.7.8'!J6 -> 0 | S108: ='[1]kod 8.7.8'!J5 -> 0 | T108: =K108+S108 -> 3 | U108: ='[1]kod 8.7.8'!J9 -> 0 | V108: ='[1]kod 8.7.8'!M2 -> 2 | W108: ='[1]kod 8.7.8'!G6 -> 0 | X108: 0 | Y108: 0 | Z108: ='[1]kod 8.7.8'!J10+'[1]kod 8.7.8'!J11 -> 1 | AA108: ='[1]kod 8.7.8'!J10 -> 0
A109: 8.7.9 | C109: ²ÝÑ³ÕÃ³Ñ³ñ»ÉÇ áõÅÇ ³éÏ³ÛáõÃÛ³Ý í»ñ³µ»ñÛ³É | F109: 0 | G109: 0 | H109: 0 | I109: 0 | J109: 0 | K109: 0 | L109: 0 | M109: 0 | N109: 0 | O109: 0 | P109: 0 | Q109: 0 | R109: 0 | S109: 0 | T109: 0 | U109: 0 | V109: 0 | W109: 0 | X109: 0 | Y109: 0 | Z109: 0 | AA109: 0
A110: 8.7.10 | B110: ³í»É³óí»É ¿ | C110: úñ»Ýùáí Ý³Ë³ï»ëí³Í ³ÛÉ Çñ³í³µ³Ý³Ï³Ý ÷³ëï»ñÇ í»ñ³µ»ñÛ³É | F110: ='[1]kod 8.7.10'!J13 -> 0 | G110: =H110+I110+J110 -> 4 | H110: ='[1]kod 8.7.10'!J14 -> 0 | I110: ='[1]kod 8.7.10'!M3 -> 2 | J110: ='[1]kod 8.7.10'!N3 -> 2 | K110: =L110+M110+N110+O110 -> 0 | L110: ='[1]kod 8.7.10'!J2 -> 0 | M110: ='[1]kod 8.7.10'!J3 -> 0 | N110: ='[1]kod 8.7.10'!J4 -> 0 | O110: =P110+Q110+R110 -> 0 | P110: ='[1]kod 8.7.10'!J7 -> 0 | Q110: ='[1]kod 8.7.10'!J8 -> 0 | R110: ='[1]kod 8.7.10'!J6 -> 0 | S110: ='[1]kod 8.7.10'!J5 -> 0 | T110: =K110+S110 -> 0 | U110: ='[1]kod 8.7.10'!J9 -> 0 | V110: ='[1]kod 8.7.10'!M2 -> 0 | W110: ='[1]kod 8.7.10'!G6 -> 0 | X110: 0 | Y110: 0 | Z110: ='[1]kod 8.7.10'!J10+'[1]kod 8.7.10'!J11 -> 0 | AA110: ='[1]kod 8.7.10'!J10 -> 0
A111: 8.8 | C111: Àëï Ý»ñÏ³Û³óÝáÕÇ ¨ ûñ¹»ñ³ÛÇÝ Ïáñóñ³Í ³ñÅ»ÃÕÃ»ñáí Ñ³í³ëïí³Í Çñ³íáõÝùÝ»ñÁ í»ñ³Ï³Ý·Ý»Éáõ í»ñ³µ»ñÛ³É | F111: 0 | G111: 0 | H111: 0 | I111: 0 | J111: 0 | K111: 0 | L111: 0 | M111: 0 | N111: 0 | O111: 0 | P111: 0 | Q111: 0 | R111: 0 | S111: 0 | T111: 0 | U111: 0 | V111: 0 | W111: 0 | X111: 0 | Y111: 0 | Z111: 0 | AA111: 0
A112: 8.9 | B112: áõÅÁ Ïáñóñ»É ¿ | C112: Ð³ñÏ³¹Çñ Ï³ï³ñáÕÇ ¹ÇÙáõÙáí ÏáÕÙ»ñÇ Ñ³ßïáõÃÛ³Ý Ñ³Ù³Ó³ÛÝáõÃÛ³Ý ÑÇÙ³Ý íñ³ ¹³ï³ñ³ÝÇª ·áñÍÝ Áëï ¿áõÃÛ³Ý ÉáõÍáÕ ¹³ï³Ï³Ý ³ÏïÇ í»ñ³Ý³ÛÙ³Ý í»ñ³µ»ñÛ³É | F112: 0 | G112: 0 | H112: 0 | I112: 0 | J112: 0 | K112: 0 | L112: 0 | M112: 0 | N112: 0 | O112: 0 | P112: 0 | Q112: 0 | R112: 0 | S112: 0 | T112: 0 | U112: 0 | V112: 0 | W112: 0 | X112: 0 | Y112: 0 | Z112: 0 | AA112: 0
...

Sheet ARABKIR
A1: Ð²ÞìºîìàôÂÚàôÜ
A2: ø²Ô²ø²òÆ²Î²Ü ¶àðÌºðÆ øÜÜàôÂÚ²Ü ìºð²´ºðÚ²È
A3: Հավելված 2 Հայաստանի Հանրապետության Դատարանների նախագահների խորհրդի 2007թ. դեկտեմբերի 21-ի թիվ 23Լ որոշման
A5: êïáõ·Çã Ñ³í³ë³ñáõÙÝ»ñª 2=3+4+5, 1+3=15+16+21, 6=7+8+9+10, 10=11+12+13, 15=6+14, | F5: ²Ý³í³ñï ·áñÍ»ñÇ ÙÝ³óáñ¹Á Ñ³ßí»ïáõ Å³Ù³Ý³Ï³ßñç³ÝÇ ëÏ½µáõÙ | G5: êï³óí³Í Ñ³Ûó»ñÇ,¹ÇÙáõÙÝ»ñÇ (·áñÍ»ñ)ù³Ý³ÏÁ | K5: ²í³ñïí»É »Ý ·áñÍ»ñ Ñ³ßí»ïáõ Å³Ù³Ý³Ï³ßñç³ÝáõÙ | U5: ¶áñÍÝ áõÕ³ñÏí»É ¿ Áëï ÁÝ¹¹³ïáõÃÛ³Ý | V5: Øï»É »Ý ûñÇÝ³Ï³Ý áõÅÇ Ù»ç | W5: ´áÕáù³ñÏí»É »Ý í»ñ³ùÝÝÇã ¹³ï³ñ³Ý | Z5: ²Ý³í³ñï ·áñÍ»ñÇ ÙÝ³óáñ¹Á Ñ³ßí»ïáõ Å³Ù³Ý³Ï³ßñç³ÝÇ í»ñçáõÙ | AA5: ²Û¹ ÃíáõÙª Ï³ë»óí³Í
G8: ÀÝ¹³Ù»ÝÁ | H8: ²Û¹ ÃíáõÙª ÁÝ¹áõÝí»É ¿ í³ñáõÛÃ | I8: ²Û¹ ÃíáõÙª í»ñ³¹³ñÓí»É ¿ | J8: ²Û¹ ÃíáõÙª Ñ³Ûó»ñÇ (¹ÇÙáõÙÝ»ñÇ) ÁÝ¹áõÝáõÙÁ Ù»ñÅí»É ¿ | K8: ÀÝ¹³Ù»ÝÁ ³í³ñïí»É »Ý ·áñÍ»ñ í×éÇ Ï³Û³óáõÙáí | L8: ²Û¹ ÃíáõÙª Ñ³ÛóÇ µ³í³ñ³ñÙ³Ùµ | M8: ²Û¹ ÃíáõÙª Ñ³ÛóÇ Ù³ëÝ³ÏÇ µ³í³ñ³ñÙ³Ùµ | N8: ²Û¹ ÃíáõÙª Ñ³ÛóÇ Ù»ñÅÙ³Ùµ | O8: ²Û¹ ÃíáõÙª Ï³ñ×í»É »Ý | S8: Ð³ÛóÁ ÃáÕÝí»É ¿ ³é³Ýó ùÝÝáõÃÛ³Ý | T8: ÀÝ¹³Ù»ÝÝ ³í³ñïí»É »Ý ·áñÍ»ñ | W8: Ï³Û³óí³Í í×ÇéÝ»ñÇ ¹»Ù | X8: ³é³Ýó ùÝÝáõÃÛ³Ý ÃáÕÝ»Éáõ Ù³ëÇÝ áñáßáõÙÝ»ñÇ ¹»Ù | Y8: ÙÇç³ÝÏÛ³É ¹³ï³Ï³Ý ³Ïï»ñÇ ¹»Ù
O11: ÀÝ¹³Ù»ÝÁ Ï³ñ×í»É »Ý | P11: ²Û¹ ÃíáõÙª Ñ³ëï³ïí»É ¿ ÏÝùí³Í Ñ³ßïáõÃÛ³Ý Ñ³Ù³Ó³ÛÝáõÃÛáõÝÁ | Q11: ²Û¹ ÃíáõÙª Ñ³óÇó, ¹ÇÙáõÙÇó Ññ³Å³ñí»Éáõ ÑÇÙùáí | R11: ²Û¹ ÃíáõÙª ³ÛÉ ÑÇÙùáí
A19: Æñ³í³Ñ³ñ³µ»ñáõÃÛáõÝÝ»ñÇ ï»ë³ÏÝ»ñÁ | F19: 1 | G19: 2 | H19: 3 | I19: 4 | J19: 5 | K19: 6 | L19: 7 | M19: 8 | N19: 9 | O19: 10 | P19: 11 | Q19: 12 | R19: 13 | S19: 14 | T19: 15 | U19: 16 | V19: 17 | W19: 18 | X19: 19 | Y19: 20 | Z19: 21 | AA19: 22
A20: 1. | C20: ¶áõÛù³ÛÇÝ í»×»ñ | F20: 0 | G20: 0 | H20: 0 | I20: 0 | J20: 0 | K20: 0 | L20: 0 | M20: 0 | N20: 0 | O20: 0 | P20: 0 | Q20: 0 | R20: 0 | S20: 0 | T20: 0 | U20: 0 | V20: 0 | W20: 0 | X20: 0 | Y20: 0 | Z20: 0 | AA20: 0
A21: 1.1 | C21: ¶áõÛùÇ ÝÏ³ïÙ³Ùµ ë»÷³Ï³ÝáõÃÛ³Ý Çñ³íáõÝùÁ ×³Ý³ã»Éáõ í»ñ³µ»ñÛ³É | F21: 33 | G21: 51 | H21: 43 | I21: 7 | J21: 1 | K21: 30 | L21: 15 | M21: 1 | N21: 6 | O21: 8 | P21: 0 | Q21: 8 | R21: 0 | S21: 0 | T21: 30 | U21: 0 | V21: 26 | W21: 4 | X21: 0 | Y21: 0 | Z21: 46 | AA21: 4
A22: 1.1.1 | C22: ²Û¹ ÃíáõÙª Ó»éùµ»ñÙ³Ý í³Õ»ÙáõÃÛ³Ý áõÅáí | F22: 18 | G22: 37 | H22: 35 | I22: 2 | J22: 0 | K22: 37 | L22: 20 | M22: 2 | N22: 6 | O22: 9 | P22: 0 | Q22: 9 | R22: 0 | S22: 0 | T22: 37 | U22: 0 | V22: 24 | W22: 13 | X22: 0 | Y22: 0 | Z22: 16 | AA22: 2
A23: 1.1.2 | B23: ուժը կորցրել է | C23: ²Û¹ ÃíáõÙª ïÇñ³½áõñÏ ·áõÛùÇ ÝÏ³ïÙ³Ùµ | F23: 0 | G23: 0 | H23: 0 | I23: 0 | J23: 0 | K23: 0 | L23: 0 | M23: 0 | N23: 0 | O23: 0 | P23: 0 | Q23: 0 | R23: 0 | S23: 0 | T23: 0 | U23: 0 | V23: 0 | W23: 0 | X23: 0 | Y23: 0 | Z23: 0 | AA23: 0
A24: 1.1.3 | B24: ուժը կորցրել է | C24: ²Û¹ ÃíáõÙª ÇÝùÝ³Ï³Ù Ï³éáõÛóÇ ÝÏ³ïÙ³Ùµ | F24: 0 | G24: 0 | H24: 0 | I24: 0 | J24: 0 | K24: 0 | L24: 0 | M24: 0 | N24: 0 | O24: 0 | P24: 0 | Q24: 0 | R24: 0 | S24: 0 | T24: 0 | U24: 0 | V24: 0 | W24: 0 | X24: 0 | Y24: 0 | Z24: 0 | AA24: 0
A25: 1.2 | C25: ê»÷³Ï³ÝáõÃÛ³Ý Çñ³íáõÝùÇ ¹³¹³ñ»óÙ³Ý í»ñ³µ»ñÛ³É | F25: 0 | G25: 7 | H25: 7 | I25: 0 | J25: 0 | K25: 3 | L25: 3 | M25: 0 | N25: 0 | O25: 0 | P25: 0 | Q25: 0 | R25: 0 | S25: 0 | T25: 3 | U25: 0 | V25: 1 | W25: 2 | X25: 0 | Y25: 0 | Z25: 4 | AA25: 3
A26: 1.3 | C26: ¶áõÛùÇ ÝÏ³ïÙ³Ùµ û·ï³·áñÍÙ³Ý Çñ³íáõÝùÁ ×³Ý³ã»Éáõ í»ñ³µ»ñÛ³É | F26: 1 | G26: 2 | H26: 1 | I26: 1 | J26: 0 | K26: 2 | L26: 1 | M26: 0 | N26: 1 | O26: 0 | P26: 0 | Q26: 0 | R26: 0 | S26: 0 | T26: 2 | U26: 0 | V26: 1 | W26: 1 | X26: 0 | Y26: 0 | Z26: 0 | AA26: 0
A27: 1.3.1 | C27: ²Û¹ ÃíáõÙª µÝ³Ïû·ï³·áñÍÙ³Ý Çñ³íáõÝùÁ ×³Ý³ã»Éáõ í»ñ³µ»ñÛ³É | F27: 1 | G27: 2 | H27: 2 | I27: 0 | J27: 0 | K27: 1 | L27: 0 | M27: 0 | N27: 1 | O27: 0 | P27: 0 | Q27: 0 | R27: 0 | S27: 0 | T27: 1 | U27: 0 | V27: 1 | W27: 0 | X27: 0 | Y27: 0 | Z27: 2 | AA27: 0
A28: 1.3.2 | C28: ²Û¹ ÃíáõÙª ÑáÕ³Ù³ëÇ ÝÏ³ïÙ³Ùµ û·ï³·áñÍÙ³Ý Çñ³íáõÝùÁ ×³Ý³ã»Éáõ í»ñ³µ»ñÛ³É | F28: 0 | G28: 1 | H28: 1 | I28: 0 | J28: 0 | K28: 0 | L28: 0 | M28: 0 | N28: 0 | O28: 0 | P28: 0 | Q28: 0 | R28: 0 | S28: 0 | T28: 0 | U28: 0 | V28: 0 | W28: 0 | X28: 0 | Y28: 0 | Z28: 1 | AA28: 1
A29: 1.4 | C29: ¶áõÛùÇ ÝÏ³ïÙ³Ùµ û·ï³·áñÍÙ³Ý Çñ³íáõÝùÁ ¹³¹³ñ»óÝ»Éáõ í»ñ³µ»ñÛ³É | F29: 0 | G29: 0 | H29: 0 | I29: 0 | J29: 0 | K29: 0 | L29: 0 | M29: 0 | N29: 0 | O29: 0 | P29: 0 | Q29: 0 | R29: 0 | S29: 0 | T29: 0 | U29: 0 | V29: 0 | W29: 0 | X29: 0 | Y29: 0 | Z29: 0 | AA29: 0
A30: 1.4.1 | C30: ²Û¹ ÃíáõÙª µÝ³Ïû·ï³·áñÍÙ³Ý Çñ³íáõÝùÁ ¹³¹³ñ»óÝ»Éáõ í»ñ³µ»ñÛ³É | F30: 5 | G30: 5 | H30: 5 | I30: 0 | J30: 0 | K30: 4 | L30: 1 | M30: 0 | N30: 1 | O30: 2 | P30: 1 | Q30: 1 | R30: 0 | S30: 0 | T30: 4 | U30: 0 | V30: 1 | W30: 3 | X30: 0 | Y30: 0 | Z30: 5 | AA30: 1
A31: 1.4.1/1 | C31: ²Û¹ ÃíáõÙª ÷áËÑ³ïáõóÙ³Ùµ | F31: 1 | G31: 6 | H31: 6 | I31: 0 | J31: 0 | K31: 6 | L31: 3 | M31: 0 | N31: 0 | O31: 3 | P31: 1 | Q31: 2 | R31: 0 | S31: 0 | T31: 6 | U31: 0 | V31: 3 | W31: 3 | X31: 0 | Y31: 0 | Z31: 1 | AA31: 1
A32: 1.5 | C32: ´Ý³Ï³ñ³ÝÇó/ ï³ñ³ÍùÇó/ íï³ñ»Éáõ í»ñ³µ»ñÛ³É | F32: 18 | G32: 53 | H32: 45 | I32: 8 | J32: 0 | K32: 33 | L32: 22 | M32: 0 | N32: 2 | O32: 9 | P32: 1 | Q32: 8 | R32: 0 | S32: 0 | T32: 33 | U32: 0 | V32: 19 | W32: 14 | X32: 0 | Y32: 0 | Z32: 30 | AA32: 6
A33: 1.6 | C33: ¶áõÛùÝ áõñÇßÇ ³åûñÇÝÇ ïÇñ³å»ïáõÙÇó »ï í»ñ³¹³ñÓÝ»Éáõ í»ñ³µ»ñÛ³É | F33: 21 | G33: 33 | H33: 32 | I33: 1 | J33: 0 | K33: 24 | L33: 14 | M33: 2 | N33: 4 | O33: 4 | P33: 0 | Q33: 3 | R33: 1 | S33: 0 | T33: 24 | U33: 0 | V33: 17 | W33: 7 | X33: 0 | Y33: 0 | Z33: 29 | AA33: 2
A34: 1.6.1 | B34: ավելացվել է | C34: ´³ñ»ËÇÕ× Ó»éùµ»ñáÕÇó Çñ ·áõÛùÁ Ñ»ï å³Ñ³Ýç»Éáõ í»ñ³µ»ñÛ³É | F34: 0 | G34: 0 | H34: 0 | I34: 0 | J34: 0 | K34: 0 | L34: 0 | M34: 0 | N34: 0 | O34: 0 | P34: 0 | Q34: 0 | R34: 0 | S34: 0 | T34: 0 | U34: 0 | V34: 0 | W34: 0 | X34: 0 | Y34: 0 | Z34: 0 | AA34: 0
A35: 1.7 | C35: îÇñ³å»ïáõÙÇó ½ñÏ»Éáõ Ñ»ï ãÏ³åí³Í Çñ³íáõÝùÝ»ñÇ Ë³ËïáõÙÁ í»ñ³óÝ»Éáõ í»ñ³µ»ñÛ³É | F35: 8 | G35: 30 | H35: 23 | I35: 6 | J35: 1 | K35: 9 | L35: 3 | M35: 1 | N35: 2 | O35: 3 | P35: 2 | Q35: 1 | R35: 0 | S35: 0 | T35: 9 | U35: 0 | V35: 3 | W35: 6 | X35: 0 | Y35: 0 | Z35: 22 | AA35: 2
A36: 1.8 | C36: ÀÝ¹Ñ³Ýáõñ µ³ÅÝ³ÛÇÝ ë»÷³Ï³ÝáõÃÛáõÝÇó µ³ÅÇÝÝ ³é³ÝÓÝ³óÝ»Éáõ í»ñ³µ»ñÛ³É | F36: 86 | G36: 109 | H36: 99 | I36: 10 | J36: 0 | K36: 90 | L36: 37 | M36: 4 | N36: 16 | O36: 33 | P36: 8 | Q36: 23 | R36: 2 | S36: 0 | T36: 90 | U36: 0 | V36: 62 | W36: 28 | X36: 0 | Y36: 0 | Z36: 95 | AA36: 45
A37: 1.8.1 | B37: ավելացվել է | C37: Ð³Ù³ï»Õ ë»÷³Ï³ÝáõÃÛ³Ý Ý»ñùá ·ïÝíáÕ ·áõÛùÁ µ³Å³Ý»Éáõ ¨ ¹ñ³ÝÇó µ³ÅÇÝÝ ³é³ÝÓÝ³óÝ»Éáõ í»ñ³µ»ñÛ³É | F37: 0 | G37: 32 | H37: 26 | I37: 6 | J37: 0 | K37: 13 | L37: 7 | M37: 0 | N37: 1 | O37: 5 | P37: 3 | Q37: 2 | R37: 0 | S37: 0 | T37: 13 | U37: 0 | V37: 13 | W37: 0 | X37: 0 | Y37: 0 | Z37: 13 | AA37: 4
A38: 1.8.3 | B38: ավելացվել է | C38: ¶áõÛùÇ íñ³ µéÝ³·³ÝÓáõÙ ï³ñ³Í»Éáõ å³Ñ³ÝçÇ Ù³ëÇÝ | F38: 0 | G38: 4 | H38: 2 | I38: 2 | J38: 0 | K38: 0 | L38: 0 | M38: 0 | N38: 0 | O38: 0 | P38: 0 | Q38: 0 | R38: 0 | S38: 0 | T38: 0 | U38: 0 | V38: 0 | W38: 0 | X38: 0 | Y38: 0 | Z38: 2 | AA38: 1
A39: 1.9 | C39: ²ÛÉ í»×»ñ | F39: 36 | G39: 88 | H39: 67 | I39: 21 | J39: 0 | K39: 52 | L39: 19 | M39: 2 | N39: 18 | O39: 13 | P39: 0 | Q39: 13 | R39: 0 | S39: 0 | T39: 52 | U39: 0 | V39: 32 | W39: 20 | X39: 0 | Y39: 0 | Z39: 51 | AA39: 8
A40: 2. | C40: ¶áñÍ³ñùÝ»ñÇ Ñ»ï Ï³åí³Í í»×»ñ | F40: 0 | G40: 0 | H40: 0 | I40: 0 | J40: 0 | K40: 0 | L40: 0 | M40: 0 | N40: 0 | O40: 0 | P40: 0 | Q40: 0 | R40: 0 | S40: 0 | T40: 0 | U40: 0 | V40: 0 | W40: 0 | X40: 0 | Y40: 0 | Z40: 0 | AA40: 0
A41: 2.1 | C41: ·áñÍ³ñùÝ»ñÇ ³Ýí³í»ñáõÃÛ³Ý Ñ»ï Ï³åí³Í í»×»ñ | F41: 8 | G41: 20 | H41: 14 | I41: 6 | J41: 0 | K41: 10 | L41: 1 | M41: 0 | N41: 7 | O41: 2 | P41: 0 | Q41: 2 | R41: 0 | S41: 0 | T41: 10 | U41: 0 | V41: 5 | W41: 5 | X41: 0 | Y41: 0 | Z41: 12 | AA41: 2
A42: 2.1.1 | C42: ³Û¹ ÃíáõÙ`գáñÍ³ñùÁ íÇ×³Ñ³ñáõÛó ×³Ý³ã»Éáõ í»ñ³µ»ñÛ³É | F42: 0 | G42: 0 | H42: 0 | I42: 0 | J42: 0 | K42: 0 | L42: 0 | M42: 0 | N42: 0 | O42: 0 | P42: 0 | Q42: 0 | R42: 0 | S42: 0 | T42: 0 | U42: 0 | V42: 0 | W42: 0 | X42: 0 | Y42: 0 | Z42: 0 | AA42: 0
A43: 2.1.2 | C43: ³Û¹ ÃíáõÙ` ·áñÍ³ñùÇ ³éáãÝãáõÃÛ³Ý Ñ»ï¨³ÝùÝ»ñ ÏÇñ³é»Éáõ í»ñ³µ»ñÛ³É | F43: 4 | G43: 13 | H43: 9 | I43: 4 | J43: 0 | K43: 2 | L43: 1 | M43: 0 | N43: 0 | O43: 1 | P43: 0 | Q43: 1 | R43: 0 | S43: 0 | T43: 2 | U43: 0 | V43: 0 | W43: 2 | X43: 0 | Y43: 0 | Z43: 11 | AA43: 2
A44: 2.2 | C44: ¶áñÍ³ñùÁ í³í»ñ ×³Ý³ã»Éáõ í»ñ³µ»ñÛ³É | F44: 4 | G44: 9 | H44: 8 | I44: 1 | J44: 0 | K44: 7 | L44: 4 | M44: 0 | N44: 1 | O44: 2 | P44: 1 | Q44: 1 | R44: 0 | S44: 0 | T44: 7 | U44: 0 | V44: 7 | W44: 0 | X44: 0 | Y44: 0 | Z44: 5 | AA44: 1
A45: 2.3 | C45: ¶áñÍ³ñùÇó Í³·áÕ Çñ³íáõÝùÝ»ñÁ ·ñ³Ýó»Éáõ í»ñ³µ»ñÛ³É | F45: 0 | G45: 0 | H45: 0 | I45: 0 | J45: 0 | K45: 0 | L45: 0 | M45: 0 | N45: 0 | O45: 0 | P45: 0 | Q45: 0 | R45: 0 | S45: 0 | T45: 0 | U45: 0 | V45: 0 | W45: 0 | X45: 0 | Y45: 0 | Z45: 0 | AA45: 0
A46: 2.4 | C46: ä³ÛÙ³Ý³·ÇñÝ ³Ýí³í»ñ ×³Ý³ã»Éáõ í»ñ³µ»ñÛ³É | F46: 37 | G46: 46 | H46: 37 | I46: 8 | J46: 1 | K46: 18 | L46: 8 | M46: 0 | N46: 6 | O46: 4 | P46: 2 | Q46: 2 | R46: 0 | S46: 0 | T46: 18 | U46: 0 | V46: 11 | W46: 7 | X46: 0 | Y46: 0 | Z46: 56 | AA46: 11
A47: 2.5 | C47: ä³ÛÙ³Ý³·ñÇÁ í³í»ñ ×³Ý³ã»Éáõ í»ñ³µ»ñÛ³É | F47: 4 | G47: 4 | H47: 3 | I47: 1 | J47: 0 | K47: 2 | L47: 1 | M47: 1 | N47: 0 | O47: 0 | P47: 0 | Q47: 0 | R47: 0 | S47: 0 | T47: 2 | U47: 0 | V47: 1 | W47: 1 | X47: 0 | Y47: 0 | Z47: 5 | AA47: 0
A48: 2.6 | B48: ուժը կորցրել է | C48: ä³ÛÙ³Ý³·ñÇó Í³·áÕ Çñ³íáõÝùÝ»ñÁ ·ñ³Ýó»Éáõ í»ñ³µ»ñÛ³É | F48: 0 | G48: 0 | H48: 0 | I48: 0 | J48: 0 | K48: 0 | L48: 0 | M48: 0 | N48: 0 | O48: 0 | P48: 0 | Q48: 0 | R48: 0 | S48: 0 | T48: 0 | U48: 0 | V48: 0 | W48: 0 | X48: 0 | Y48: 0 | Z48: 0 | AA48: 0
A49: 2.7 | C49: ä³ÛÙ³Ý³·ÇñÁ ÷á÷áË»Éáõ ¨ ÉáõÍ»Éáõ í»ñ³µ»ñÛ³É | F49: 15 | G49: 27 | H49: 17 | I49: 10 | J49: 0 | K49: 14 | L49: 8 | M49: 1 | N49: 1 | O49: 4 | P49: 3 | Q49: 1 | R49: 0 | S49: 0 | T49: 14 | U49: 0 | V49: 14 | W49: 0 | X49: 0 | Y49: 0 | Z49: 18 | AA49: 0
A50: 2.8 | C50: ä³ÛÙ³Ý³·Çñ ÏÝù»ÉáõÝ å³ñï³íáñ»óÝ»Éáõ í»ñ³µ»ñÛ³É | F50: 0 | G50: 1 | H50: 0 | I50: 1 | J50: 0 | K50: 0 | L50: 0 | M50: 0 | N50: 0 | O50: 0 | P50: 0 | Q50: 0 | R50: 0 | S50: 0 | T50: 0 | U50: 0 | V50: 0 | W50: 0 | X50: 0 | Y50: 0 | Z50: 0 | AA50: 0
A51: 2.9 | C51: ²ÛÉ í»×»ñ | F51: 6 | G51: 20 | H51: 13 | I51: 6 | J51: 1 | K51: 14 | L51: 5 | M51: 0 | N51: 4 | O51: 5 | P51: 3 | Q51: 2 | R51: 0 | S51: 0 | T51: 14 | U51: 0 | V51: 7 | W51: 7 | X51: 0 | Y51: 0 | Z51: 5 | AA51: 0
A52: 3. | C52: Ä³é³Ý·áõÃÛ³Ý í»ñ³µ»ñÛ³É í»×»ñ | F52: 0 | G52: 0 | H52: 0 | I52: 0 | J52: 0 | K52: 0 | L52: 0 | M52: 0 | N52: 0 | O52: 0 | P52: 0 | Q52: 0 | R52: 0 | S52: 0 | T52: 0 | U52: 0 | V52: 0 | W52: 0 | X52: 0 | Y52: 0 | Z52: 0 | AA52: 0
A53: 3.1 | C53: Îï³ÏÝ ³Ýí³í»ñ ×³Ý³ã»Éáõ í»ñ³µ»ñÛ³É | F53: 4 | G53: 3 | H53: 3 | I53: 0 | J53: 0 | K53: 5 | L53: 0 | M53: 0 | N53: 3 | O53: 2 | P53: 0 | Q53: 2 | R53: 0 | S53: 0 | T53: 5 | U53: 0 | V53: 2 | W53: 3 | X53: 0 | Y53: 0 | Z53: 2 | AA53: 0
A54: 3.2 | C54: ²Ý³ñÅ³Ý Å³é³Ý· ×³Ý³ã»Éáõ í»ñ³µ»ñÛ³É | F54: 0 | G54: 0 | H54: 0 | I54: 0 | J54: 0 | K54: 0 | L54: 0 | M54: 0 | N54: 0 | O54: 0 | P54: 0 | Q54: 0 | R54: 0 | S54: 0 | T54: 0 | U54: 0 | V54: 0 | W54: 0 | X54: 0 | Y54: 0 | Z54: 0 | AA54: 0
A55: 3.3 | C55: Ä³é³Ý·áõÃÛáõÝÁ µ³Å³Ý»Éáõ í»ñ³µ»ñÛ³É | F55: 0 | G55: 0 | H55: 0 | I55: 0 | J55: 0 | K55: 0 | L55: 0 | M55: 0 | N55: 0 | O55: 0 | P55: 0 | Q55: 0 | R55: 0 | S55: 0 | T55: 0 | U55: 0 | V55: 0 | W55: 0 | X55: 0 | Y55: 0 | Z55: 0 | AA55: 0
A56: 3.4 | C56: ¶áõÛùÝ ³ÝÅ³é³Ý· ×³Ý³ã»Éáõ í»ñ³µ»ñÛ³É | F56: 0 | G56: 0 | H56: 0 | I56: 0 | J56: 0 | K56: 0 | L56: 0 | M56: 0 | N56: 0 | O56: 0 | P56: 0 | Q56: 0 | R56: 0 | S56: 0 | T56: 0 | U56: 0 | V56: 0 | W56: 0 | X56: 0 | Y56: 0 | Z56: 0 | AA56: 0
A57: 3.5 | B57: ուժը կորցրել է | C57: Àëï ûñ»ÝùÇ Å³é³Ý·áõÃÛ³Ý Çñ³íáõÝùÇ íÏ³Û³Ï³ÝÝ ³Ýí³í»ñ ×³Ý³ã»Éáõ í»ñ³µ»ñÛ³É | F57: 0 | G57: 0 | H57: 0 | I57: 0 | J57: 0 | K57: 0 | L57: 0 | M57: 0 | N57: 0 | O57: 0 | P57: 0 | Q57: 0 | R57: 0 | S57: 0 | T57: 0 | U57: 0 | V57: 0 | W57: 0 | X57: 0 | Y57: 0 | Z57: 0 | AA57: 0
A58: 3.6 | C58: Ä³é³Ý·áõÃÛáõÝÝ ÁÝ¹áõÝ»Éáõ µ³ó ÃáÕÝí³Í Å³ÙÏ»ïÁ Ñ³ñ·»ÉÇ Ñ³Ù³ñ»Éáõ í»ñ³µ»ñÛ³É | F58: 3 | G58: 8 | H58: 8 | I58: 0 | J58: 0 | K58: 8 | L58: 5 | M58: 0 | N58: 2 | O58: 1 | P58: 0 | Q58: 1 | R58: 0 | S58: 0 | T58: 8 | U58: 0 | V58: 7 | W58: 1 | X58: 0 | Y58: 0 | Z58: 3 | AA58: 0
A59: 3.7 | C59: ²ÛÉ í»×»ñ | F59: 5 | G59: 13 | H59: 10 | I59: 3 | J59: 0 | K59: 10 | L59: 5 | M59: 2 | N59: 0 | O59: 3 | P59: 1 | Q59: 2 | R59: 0 | S59: 0 | T59: 10 | U59: 0 | V59: 6 | W59: 4 | X59: 0 | Y59: 0 | Z59: 5 | AA59: 2
A60: 4 | C60: ÀÝï³Ý»Ï³Ý Çñ³í³Ñ³ñ³µ»ñáõÃÛáõÝÝ»ñÇó Í³·áÕ í»×»ñ | F60: 0 | G60: 0 | H60: 0 | I60: 0 | J60: 0 | K60: 0 | L60: 0 | M60: 0 | N60: 0 | O60: 0 | P60: 0 | Q60: 0 | R60: 0 | S60: 0 | T60: 0 | U60: 0 | V60: 0 | W60: 0 | X60: 0 | Y60: 0 | Z60: 0 | AA60: 0
A61: 4.1 | C61: ²ÙáõëÝ³ÉáõÍáõÃÛ³Ý í»ñ³µ»ñÛ³É | F61: 53 | G61: 141 | H61: 126 | I61: 14 | J61: 1 | K61: 108 | L61: 74 | M61: 9 | N61: 1 | O61: 24 | P61: 0 | Q61: 24 | R61: 0 | S61: 0 | T61: 108 | U61: 0 | V61: 97 | W61: 11 | X61: 0 | Y61: 0 | Z61: 71 | AA61: 1
A62: 4.2 | C62: ²ÉÇÙ»ÝïÇ å³Ñ³ÝçÇ í»ñ³µ»ñÛ³É | F62: 26 | G62: 54 | H62: 52 | I62: 2 | J62: 0 | K62: 44 | L62: 21 | M62: 18 | N62: 2 | O62: 3 | P62: 0 | Q62: 3 | R62: 0 | S62: 0 | T62: 44 | U62: 0 | V62: 35 | W62: 9 | X62: 0 | Y62: 0 | Z62: 34 | AA62: 3
A63: 4.3 | C63: ²ÉÇÙ»ÝïÇ ã³÷Á ÷á÷áË»Éáõ í»ñ³µ»ñÛ³É | F63: 2 | G63: 5 | H63: 3 | I63: 2 | J63: 0 | K63: 2 | L63: 1 | M63: 0 | N63: 1 | O63: 0 | P63: 0 | Q63: 0 | R63: 0 | S63: 0 | T63: 2 | U63: 0 | V63: 2 | W63: 0 | X63: 0 | Y63: 0 | Z63: 3 | AA63: 0
A64: 4.4 | C64: ÌÝáÕ³Ï³Ý Çñ³íáõÝùÝ»ñÇó ½ñÏ»Éáõ í»ñ³µ»ñÛ³É | F64: 2 | G64: 2 | H64: 1 | I64: 1 | J64: 0 | K64: 2 | L64: 1 | M64: 0 | N64: 1 | O64: 0 | P64: 0 | Q64: 0 | R64: 0 | S64: 0 | T64: 2 | U64: 0 | V64: 2 | W64: 0 | X64: 0 | Y64: 0 | Z64: 1 | AA64: 0
A65: 4.5 | C65: ÌÝáÕ³Ï³Ý Çñ³íáõÝùÝ»ñÁ í»ñ³Ï³Ý·Ý»Éáõ í»ñ³µ»ñÛ³É | F65: 0 | G65: 0 | H65: 0 | I65: 0 | J65: 0 | K65: 0 | L65: 0 | M65: 0 | N65: 0 | O65: 0 | P65: 0 | Q65: 0 | R65: 0 | S65: 0 | T65: 0 | U65: 0 | V65: 0 | W65: 0 | X65: 0 | Y65: 0 | Z65: 0 | AA65: 0
A66: 4.6 | C66: ºñ»Ë³ÛÇ áñ¹»·ñÙ³Ý í»ñ³µ»ñÛ³É | F66: 3 | G66: 11 | H66: 11 | I66: 0 | J66: 0 | K66: 12 | L66: 12 | M66: 0 | N66: 0 | O66: 0 | P66: 0 | Q66: 0 | R66: 0 | S66: 0 | T66: 12 | U66: 0 | V66: 12 | W66: 0 | X66: 0 | Y66: 0 | Z66: 2 | AA66: 0
A67: 4.7 | C67: ºñ»Ë³ÛÇ áñ¹»·ñáõÙÁ í»ñ³óÝ»Éáõ í»ñ³µ»ñÛ³É | F67: 0 | G67: 0 | H67: 0 | I67: 0 | J67: 0 | K67: 0 | L67: 0 | M67: 0 | N67: 0 | O67: 0 | P67: 0 | Q67: 0 | R67: 0 | S67: 0 | T67: 0 | U67: 0 | V67: 0 | W67: 0 | X67: 0 | Y67: 0 | Z67: 0 | AA67: 0
A68: 4.8 | C68: Ð³ÛñáõÃÛáõÝÁ ×³Ý³ã»Éáõ í»ñ³µ»ñÛ³É | F68: 6 | G68: 11 | H68: 9 | I68: 2 | J68: 0 | K68: 12 | L68: 8 | M68: 1 | N68: 0 | O68: 3 | P68: 0 | Q68: 2 | R68: 1 | S68: 0 | T68: 12 | U68: 0 | V68: 12 | W68: 0 | X68: 0 | Y68: 0 | Z68: 3 | AA68: 1
A69: 4.9 | C69: ºñ»Ë³ÛÇ µÝ³ÏáõÃÛ³Ý í³ÛñÁ áñáß»Éáõ í»ñ³µ»ñÛ³É | F69: 1 | G69: 4 | H69: 1 | I69: 3 | J69: 0 | K69: 0 | L69: 0 | M69: 0 | N69: 0 | O69: 0 | P69: 0 | Q69: 0 | R69: 0 | S69: 0 | T69: 0 | U69: 0 | V69: 0 | W69: 0 | X69: 0 | Y69: 0 | Z69: 2 | AA69: 1
... A109: 8.7.9 | C109: ²ÝÑ³ÕÃ³Ñ³ñ»ÉÇ áõÅÇ ³éÏ³ÛáõÃÛ³Ý í»ñ³µ»ñÛ³É | F109: 0 | G109: 0 | H109: 0 | I109: 0 | J109: 0 | K109: 0 | L109: 0 | M109: 0 | N109: 0 | O109: 0 | P109: 0 | Q109: 0 | R109: 0 | S109: 0 | T109: 0 | U109: 0 | V109: 0 | W109: 0 | X109: 0 | Y109: 0 | Z109: 0 | AA109: 0
A110: 8.7.10 | B110: ³í»É³óí»É ¿ | C110: úñ»Ýùáí Ý³Ë³ï»ëí³Í ³ÛÉ Çñ³í³µ³Ý³Ï³Ý ÷³ëï»ñÇ í»ñ³µ»ñÛ³É | F110: 0 | G110: 0 | H110: 0 | I110: 0 | J110: 0 | K110: 0 | L110: 0 | M110: 0 | N110: 0 | O110: 0 | P110: 0 | Q110: 0 | R110: 0 | S110: 0 | T110: 0 | U110: 0 | V110: 0 | W110: 0 | X110: 0 | Y110: 0 | Z110: 0 | AA110: 0
A111: 8.8 | C111: Àëï Ý»ñÏ³Û³óÝáÕÇ ¨ ûñ¹»ñ³ÛÇÝ Ïáñóñ³Í ³ñÅ»ÃÕÃ»ñáí Ñ³í³ëïí³Í Çñ³íáõÝùÝ»ñÁ í»ñ³Ï³Ý·Ý»Éáõ í»ñ³µ»ñÛ³É | F111: 0 | G111: 0 | H111: 0 | I111: 0 | J111: 0 | K111: 0 | L111: 0 | M111: 0 | N111: 0 | O111: 0 | P111: 0 | Q111: 0 | R111: 0 | S111: 0 | T111: 0 | U111: 0 | V111: 0 | W111: 0 | X111: 0 | Y111: 0 | Z111: 0 | AA111: 0
A112: 8.9 | B112: ուժը կորցրել է | C112: Ð³ñÏ³¹Çñ Ï³ï³ñáÕÇ ¹ÇÙáõÙáí ÏáÕÙ»ñÇ Ñ³ßïáõÃÛ³Ý Ñ³Ù³Ó³ÛÝáõÃÛ³Ý ÑÇÙ³Ý íñ³ ¹³ï³ñ³ÝÇª ·áñÍÝ Áëï ¿áõÃÛ³Ý ÉáõÍáÕ ¹³ï³Ï³Ý ³ÏïÇ í»ñ³Ý³ÛÙ³Ý í»ñ³µ»ñÛ³É | F112: 0 | G112: 0 | H112: 0 | I112: 0 | J112: 0 | K112: 0 | L112: 0 | M112: 0 | N112: 0 | O112: 0 | P112: 0 | Q112: 0 | R112: 0 | S112: 0 | T112: 0 | U112: 0 | V112: 0 | W112: 0 | X112: 0 | Y112: 0 | Z112: 0 | AA112: 0
A113: 8.10 | C113: ²ÛÉ í»×»ñ | F113: 0 | G113: 0 | H113: 0 | I113: 0 | J113: 0 | K113: 0 | L113: 0 | M113: 0 | N113: 0 | O113: 0 | P113: 0 | Q113: 0 | R113: 0 | S113: 0 | T113: 0 | U113: 0 | V113: 0 | W113: 0 | X113: 0 | Y113: 0 | Z113: 0 | AA113: 0
A114: 9. | C114: Ð³ïáõÏ Ñ³Ûó³ÛÇÝ í³ñáõÛÃÇ ·áñÍ»ñ | F114: 0 | G114: 0 | H114: 0 | I114: 0 | J114: 0 | K114: 0 | L114: 0 | M114: 0 | N114: 0 | O114: 0 | P114: 0 | Q114: 0 | R114: 0 | S114: 0 | T114: 0 | U114: 0 | V114: 0 | W114: 0 | X114: 0 | Y114: 0 | Z114: 0 | AA114: 0
A115: 9.1 | C115: ø³Õ³ù³óáõ ÏÛ³ÝùÇÝ Ï³Ù ³éáÕçáõÃÛ³ÝÝ ëå³éÝ³óáÕ íï³Ý·Ç í»ñ³µ»ñÛ³É | F115: 0 | G115: 0 | H115: 0 | I115: 0 | J115: 0 | K115: 0 | L115: 0 | M115: 0 | N115: 0 | O115: 0 | P115: 0 | Q115: 0 | R115: 0 | S115: 0 | T115: 0 | U115: 0 | V115: 0 | W115: 0 | X115: 0 | Y115: 0 | Z115: 0 | AA115: 0
A116: 9.2 | C116: ÐÐ Î»ÝïñáÝ³Ï³Ý µ³ÝÏÇ ¨ ³Ýí×³ñáõÝ³Ï µ³ÝÏÇ Ï³Ù í³ñÏ³ÛÇÝ Ï³½Ù³Ï»ñåáõÃÛ³Ý Å³Ù³Ý³Ï³íáñ ³¹ÙÇÝÇëïñ³óÇ³ÛÇ áñáßáõÙÝ»ñÇ µáÕáù³ñÏÙ³Ý í»ñ³µ»ñÛ³É | F116: 0 | G116: 0 | H116: 0 | I116: 0 | J116: 0 | K116: 0 | L116: 0 | M116: 0 | N116: 0 | O116: 0 | P116: 0 | Q116: 0 | R116: 0 | S116: 0 | T116: 0 | U116: 0 | V116: 0 | W116: 0 | X116: 0 | Y116: 0 | Z116: 0 | AA116: 0
A117: 9.3 | C117: ²ÛÉ í»×»ñ | F117: 0 | G117: 0 | H117: 0 | I117: 0 | J117: 0 | K117: 0 | L117: 0 | M117: 0 | N117: 0 | O117: 0 | P117: 0 | Q117: 0 | R117: 0 | S117: 0 | T117: 0 | U117: 0 | V117: 0 | W117: 0 | X117: 0 | Y117: 0 | Z117: 0 | AA117: 0
A118: 10. | C118: Ð³ñÏ³¹Çñ Ï³ï³ñÙ³Ý ÁÝÃ³óùáõÙ Í³·³Í í»×»ñ | F118: 0 | G118: 0 | H118: 0 | I118: 0 | J118: 0 | K118: 0 | L118: 0 | M118: 0 | N118: 0 | O118: 0 | P118: 0 | Q118: 0 | R118: 0 | S118: 0 | T118: 0 | U118: 0 | V118: 0 | W118: 0 | X118: 0 | Y118: 0 | Z118: 0 | AA118: 0
A119: 10.1 | B119: ուժը կորցրել է | C119: ¸³ï³Ï³Ý ³ÏïÇ Ï³ï³ñáõÙÁ Ñ»ï³Ó·»Éáõ Ï³Ù ï³ñ³Å³ÙÏ»ï»Éáõ í»ñ³µ»ñÛ³É | F119: 0 | G119: 0 | H119: 0 | I119: 0 | J119: 0 | K119: 0 | L119: 0 | M119: 0 | N119: 0 | O119: 0 | P119: 0 | Q119: 0 | R119: 0 | S119: 0 | T119: 0 | U119: 0 | V119: 0 | W119: 0 | X119: 0 | Y119: 0 | Z119: 0 | AA119: 0
A120: 10.2 | C120: ¸³ï³Ï³Ý ³ÏïÇ Ï³ï³ñÙ³Ý »Õ³Ý³ÏÇ, Ï³ñ·Ç ÷á÷áËÙ³Ý í»ñ³µ»ñÛ³É | F120: 0 | G120: 0 | H120: 0 | I120: 0 | J120: 0 | K120: 0 | L120: 0 | M120: 0 | N120: 0 | O120: 0 | P120: 0 | Q120: 0 | R120: 0 | S120: 0 | T120: 0 | U120: 0 | V120: 0 | W120: 0 | X120: 0 | Y120: 0 | Z120: 0 | AA120: 0
A121: 10.3 | C121: Î³ï³ñáÕ³Ï³Ý Ã»ñÃÁ Ï³ï³ñÙ³Ý Ý»ñÏ³Û³óÝ»Éáõ µ³ó ÃáÕÝí³Í Å³ÙÏ»ïÁ í»ñ³Ï³Ý·Ý»Éáõ í»ñ³µ»ñÛ³É | F121: 0 | G121: 0 | H121: 0 | I121: 0 | J121: 0 | K121: 0 | L121: 0 | M121: 0 | N121: 0 | O121: 0 | P121: 0 | Q121: 0 | R121: 0 | S121: 0 | T121: 0 | U121: 0 | V121: 0 | W121: 0 | X121: 0 | Y121: 0 | Z121: 0 | AA121: 0
A122: 10.4 | C122: ì×éÇ ßñç³¹³ñÓ Ï³ï³ñ»Éáõ í»ñ³µ»ñÛ³É | F122: 0 | G122: 0 | H122: 0 | I122: 0 | J122: 0 | K122: 0 | L122: 0 | M122: 0 | N122: 0 | O122: 0 | P122: 0 | Q122: 0 | R122: 0 | S122: 0 | T122: 0 | U122: 0 | V122: 0 | W122: 0 | X122: 0 | Y122: 0 | Z122: 0 | AA122: 0
A123: 10.5 | C123: Î³ï³ñáÕ³Ï³Ý Ã»ñÃÁ å³ñ½³µ³Ý»Éáõ í»ñ³µ»ñÛ³É | F123: 0 | G123: 0 | H123: 0 | I123: 0 | J123: 0 | K123: 0 | L123: 0 | M123: 0 | N123: 0 | O123: 0 | P123: 0 | Q123: 0 | R123: 0 | S123: 0 | T123: 0 | U123: 0 | V123: 0 | W123: 0 | X123: 0 | Y123: 0 | Z123: 0 | AA123: 0
A124: 10.6 | C124: ²ÛÉ í»×»ñ | F124: 0 | G124: 0 | H124: 0 | I124: 0 | J124: 0 | K124: 0 | L124: 0 | M124: 0 | N124: 0 | O124: 0 | P124: 0 | Q124: 0 | R124: 0 | S124: 0 | T124: 0 | U124: 0 | V124: 0 | W124: 0 | X124: 0 | Y124: 0 | Z124: 0 | AA124: 0
A125: 11. | C125: ä³ñï³íáñ³Ï³Ý Çñ³í³Ñ³ñ³µ»ñáõÃÛáõÝÝ»ñ | F125: 0 | G125: 0 | H125: 0 | I125: 0 | J125: 0 | K125: 0 | L125: 0 | M125: 0 | N125: 0 | O125: 0 | P125: 0 | Q125: 0 | R125: 0 | S125: 0 | T125: 0 | U125: 0 | V125: 0 | W125: 0 | X125: 0 | Y125: 0 | Z125: 0 | AA125: 0
A126: 11.1 | C126: ¶áõÙ³ñÇ å³Ñ³ÝçÇ Ù³ëÇÝ | F126: 1103 | G126: 1280 | H126: 1180 | I126: 99 | J126: 1 | K126: 1160 | L126: 693 | M126: 102 | N126: 62 | O126: 303 | P126: 18 | Q126: 284 | R126: 1 | S126: 0 | T126: 1160 | U126: 0 | V126: 1050 | W126: 110 | X126: 0 | Y126: 0 | Z126: 1123 | AA126: 43
A127: 11.2 | C127: ä³ñï³íáñáõÃÛáõÝÁ µÝ»Õ»Ýáí Ï³ï³ñ»Éáõ å³Ñ³ÝçÇ Ù³ëÇÝ | F127: 0 | G127: 0 | H127: 0 | I127: 0 | J127: 0 | K127: 0 | L127: 0 | M127: 0 | N127: 0 | O127: 0 | P127: 0 | Q127: 0 | R127: 0 | S127: 0 | T127: 0 | U127: 0 | V127: 0 | W127: 0 | X127: 0 | Y127: 0 | Z127: 0 | AA127: 0
A128: 11.3 | C128: ìÝ³ëÁ ¨ µ³ó ÃáÕÝí³Í û·áõïÁ Ñ³ïáõó»Éáõ å³Ñ³ÝçÇ Ù³ëÇÝ | F128: 16 | G128: 31 | H128: 23 | I128: 8 | J128: 0 | K128: 16 | L128: 5 | M128: 2 | N128: 4 | O128: 5 | P128: 2 | Q128: 2 | R128: 1 | S128: 0 | T128: 16 | U128: 0 | V128: 15 | W128: 1 | X128: 0 | Y128: 0 | Z128: 23 | AA128: 3
A129: 11.4 | C129: ø³Õ³ù³óáõ ÏÛ³ÝùÇÝ Ï³Ù ³éáÕçáõÃÛ³ÝÁ å³ï×³éí³Í íÝ³ëÇ Ñ³ïáõóÙ³Ý í»ñ³µ»ñÛ³É | F129: 3 | G129: 4 | H129: 2 | I129: 2 | J129: 0 | K129: 2 | L129: 1 | M129: 1 | N129: 0 | O129: 0 | P129: 0 | Q129: 0 | R129: 0 | S129: 0 | T129: 2 | U129: 0 | V129: 2 | W129: 0 | X129: 0 | Y129: 0 | Z129: 3 | AA129: 0
A130: 11.5 | C130: ²åñ³ÝùÝ»ñÇ, ³ßË³ï³ÝùÝ»ñÇ Ï³Ù Í³é³ÛáõÃÛáõÝÝ»ñÇ Ã»ñáõÃÛáõÝÝ»ñÇ Ñ»ï¨³Ýùáí å³ï×³éí³Í íÝ³ëÝ»ñÇ Ñ³ïáõóÙ³Ý í»ñ³µ»ñÛ³É | F130: 1 | G130: 2 | H130: 1 | I130: 1 | J130: 0 | K130: 2 | L130: 1 | M130: 0 | N130: 1 | O130: 0 | P130: 0 | Q130: 0 | R130: 0 | S130: 0 | T130: 2 | U130: 0 | V130: 2 | W130: 0 | X130: 0 | Y130: 0 | Z130: 1 | AA130: 1
A131: 11.6 | C131: ²ÝÑÇÙÝ Ñ³ñëï³óÙ³Ý Ñ»ï¨³Ýùáí Í³·³Í å³ñï³íáñáõÃÛáõÝÝ»ñ | F131: 0 | G131: 0 | H131: 0 | I131: 0 | J131: 0 | K131: 0 | L131: 0 | M131: 0 | N131: 0 | O131: 0 | P131: 0 | Q131: 0 | R131: 0 | S131: 0 | T131: 0 | U131: 0 | V131: 0 | W131: 0 | X131: 0 | Y131: 0 | Z131: 0 | AA131: 0
... A138: 13. | C138: ²ÛÉ í»×»ñ | F138: 30 | G138: 50 | H138: 25 | I138: 21 | J138: 4 | K138: 14 | L138: 7 | M138: 0 | N138: 5 | O138: 2 | P138: 1 | Q138: 1 | R138: 0 | S138: 0 | T138: 14 | U138: 0 | V138: 14 | W138: 0 | X138: 0 | Y138: 0 | Z138: 41 | AA138: 0
A139: 14. | C139: ÀÝ¹³Ù»ÝÁ | F139: =SUM(F21:F138) -> 1675 | G139: =SUM(G21:G138) -> 2550 | H139: =SUM(H21:H138) -> 2222 | I139: =SUM(I21:I138) -> 305 | J139: =SUM(J21:J138) -> 23 | K139: =SUM(K21:K138) -> 1995 | L139: =SUM(L21:L138) -> 1154 | M139: 159 | N139: =SUM(N21:N138) -> 190 | O139: =SUM(O21:O138) -> 490 | P139: =SUM(P21:P138) -> 53 | Q139: =SUM(Q21:Q138) -> 428 | R139: =SUM(R21:R138) -> 9 | S139: 0 | T139: =SUM(T21:T138) -> 1995 | U139: =SUM(U21:U138) -> 0 | V139: =SUM(V21:V138) -> 1712 | W139: =SUM(W21:W138) -> 283 | X139: 0 | Y139: 0 | Z139: =SUM(Z21:Z138) -> 1902 | AA139: =SUM(AA21:AA138) -> 164
C142: Ì³ÝáÃáõÃÛáõÝ: ´áÉáñ ³ÛÝ ïáÕ»ñÁ, áñï»Õ ·ñí³Í ¿ áõÅÁ Ïáñóñ»É ¿ Éñ³óÝ»É å»ïù ã¿, ù³ÝÇ áñ 2010 Ãí³Ï³ÝÇó ³Û¹ íÇ×³Ï³·ñ³Ï³Ý ïáÕ»ñÁ ³ÛÉ¨ë ã»Ý ·áñÍ»Éáõ, ¹ñ³Ýù ³ÝÑñ³Å»ßï »Ý ÙÇ³ÛÝ ¹³ï³Ï³Ý Ñ³Ù³Ï³ñ·áõÙ áñáÝáõÙÝ»ñ Ï³ï³ñ»Éáõ Ñ³Ù³ñ:

Sheet EREBUNI
A1: Ð²ÞìºîìàôÂÚàôÜ
A2: ø²Ô²ø²òÆ²Î²Ü ¶àðÌºðÆ øÜÜàôÂÚ²Ü ìºð²´ºðÚ²È
A3: 2010Ã. Երկրորդ ÏÇë³ÙÛ³ÏÇ (ï³ñí³) Ñ³Ù³ñ
A5: êïáõ·Çã Ñ³í³ë³ñáõÙÝ»ñª 2=3+4+5, 1+3=15+16+21, 6=7+8+9+10, 10=11+12+13, 15=6+14, 21Ñ³í³ë³ñ ¿ 1+3-15-16 | F5: ²Ý³í³ñï ·áñÍ»ñÇ ÙÝ³óáñ¹Á Ñ³ßí»ïáõ Å³Ù³Ý³Ï³ßñç³ÝÇ ëÏ½µáõÙ | G5: êï³óí³Í Ñ³Ûó»ñÇ,¹ÇÙáõÙÝ»ñÇ (·áñÍ»ñ)ù³Ý³ÏÁ | K5: ²í³ñïí»É »Ý ·áñÍ»ñ Ñ³ßí»ïáõ Å³Ù³Ý³Ï³ßñç³ÝáõÙ | U5: ¶áñÍÝ áõÕ³ñÏí»É ¿ Áëï ÁÝ¹¹³ïáõÃÛ³Ý | V5: Øï»É »Ý ûñÇÝ³Ï³Ý áõÅÇ Ù»ç | W5: ´áÕáù³ñÏí»É »Ý í»ñ³ùÝÝÇã ¹³ï³ñ³Ý | Z5: ²Ý³í³ñï ·áñÍ»ñÇ ÙÝ³óáñ¹Á Ñ³ßí»ïáõ Å³Ù³Ý³Ï³ßñç³ÝÇ í»ñçáõÙ | AA5: ²Û¹ ÃíáõÙª Ï³ë»óí³Í
G8: ÀÝ¹³Ù»ÝÁ | H8: ²Û¹ ÃíáõÙª ÁÝ¹áõÝí»É ¿ í³ñáõÛÃ | I8: ²Û¹ ÃíáõÙª í»ñ³¹³ñÓí»É ¿ | J8: ²Û¹ ÃíáõÙª Ñ³Ûó»ñÇ (¹ÇÙáõÙÝ»ñÇ) ÁÝ¹áõÝáõÙÁ Ù»ñÅí»É ¿ | K8: ÀÝ¹³Ù»ÝÁ ³í³ñïí»É »Ý ·áñÍ»ñ í×éÇ Ï³Û³óáõÙáí | L8: ²Û¹ ÃíáõÙª Ñ³ÛóÇ µ³í³ñ³ñÙ³Ùµ | M8: ²Û¹ ÃíáõÙª Ñ³ÛóÇ Ù³ëÝ³ÏÇ µ³í³ñ³ñÙ³Ùµ | N8: ²Û¹ ÃíáõÙª Ñ³ÛóÇ Ù»ñÅÙ³Ùµ | O8: ²Û¹ ÃíáõÙª Ï³ñ×í»É »Ý | S8: Ð³ÛóÁ ÃáÕÝí»É ¿ ³é³Ýó ùÝÝáõÃÛ³Ý | T8: ÀÝ¹³Ù»ÝÝ ³í³ñïí»É »Ý ·áñÍ»ñ | W8: Ï³Û³óí³Í í×ÇéÝ»ñÇ ¹»Ù | X8: ³é³Ýó ùÝÝáõÃÛ³Ý ÃáÕÝ»Éáõ Ù³ëÇÝ áñáßáõÙÝ»ñÇ ¹»Ù | Y8: ÙÇç³ÝÏÛ³É ¹³ï³Ï³Ý ³Ïï»ñÇ ¹»Ù
O11: ÀÝ¹³Ù»ÝÁ Ï³ñ×í»É »Ý | P11: ²Û¹ ÃíáõÙª Ñ³ëï³ïí»É ¿ ÏÝùí³Í Ñ³ßïáõÃÛ³Ý Ñ³Ù³Ó³ÛÝáõÃÛáõÝÁ | Q11: ²Û¹ ÃíáõÙª Ñ³óÇó, ¹ÇÙáõÙÇó Ññ³Å³ñí»Éáõ ÑÇÙùáí | R11: ²Û¹ ÃíáõÙª ³ÛÉ ÑÇÙùáí
F19: 1 | G19: 2 | H19: 3 | I19: 4 | J19: 5 | K19: 6 | L19: 7 | M19: 8 | N19: 9 | O19: 10 | P19: 11 | Q19: 12 | R19: 13 | S19: 14 | T19: 15 | U19: 16 | V19: 17 | W19: 18 | X19: 19 | Y19: 20 | Z19: 21 | AA19: 22
A20: 1. | C20: ¶áõÛù³ÛÇÝ í»×»ñ | F20: 0 | G20: 0 | H20: 0 | I20: 0 | J20: 0 | K20: 0 | L20: 0 | M20: 0 | N20: 0 | O20: 0 | P20: 0 | Q20: 0 | R20: 0 | S20: 0 | T20: 0 | U20: 0 | V20: 0 | W20: 0 | X20: 0 | Y20: 0 | Z20: 0 | AA20: 0
A21: 1.1 | C21: ¶áõÛùÇ ÝÏ³ïÙ³Ùµ ë»÷³Ï³ÝáõÃÛ³Ý Çñ³íáõÝùÁ ×³Ý³ã»Éáõ í»ñ³µ»ñÛ³É | F21: 5 | G21: 35 | H21: 28 | I21: 6 | J21: 1 | K21: 18 | L21: 13 | M21: 1 | N21: 1 | O21: 3 | P21: 2 | Q21: 1 | R21: 0 | S21: 0 | T21: 18 | U21: 0 | V21: 17 | W21: 3 | X21: 0 | Y21: 0 | Z21: =F21+H21-T21-U21 -> 15 | AA21: 2
A22: 1.1.1 | C22: ²Û¹ ÃíáõÙª Ó»éùµ»ñÙ³Ý í³Õ»ÙáõÃÛ³Ý áõÅáí | F22: 12 | G22: 46 | H22: 39 | I22: 6 | J22: 1 | K22: 31 | L22: 17 | M22: 5 | N22: 5 | O22: 4 | P22: 0 | Q22: 4 | R22: 0 | S22: 0 | T22: 31 | U22: 1 | V22: 26 | W22: 14 | X22: 0 | Y22: 0 | Z22: =F22+H22-T22-U22 -> 19 | AA22: 7
A23: 1.1.2 | B23: ուժը կորցրել է | C23: ²Û¹ ÃíáõÙª ïÇñ³½áõñÏ ·áõÛùÇ ÝÏ³ïÙ³Ùµ | F23: 3 | G23: 0 | H23: 0 | I23: 0 | J23: 0 | K23: 0 | L23: 0 | M23: 0 | N23: 0 | O23: 0 | P23: 0 | Q23: 0 | R23: 0 | S23: 2 | T23: 2 | U23: 1 | V23: 0 | W23: 0 | X23: 0 | Y23: 0 | Z23: 0 | AA23: 0
A24: 1.1.3 | B24: ուժը կորցրել է | C24: ²Û¹ ÃíáõÙª ÇÝùÝ³Ï³Ù Ï³éáõÛóÇ ÝÏ³ïÙ³Ùµ | F24: 0 | G24: 0 | H24: 0 | I24: 0 | J24: 0 | K24: 0 | L24: 0 | M24: 0 | N24: 0 | O24: 0 | P24: 0 | Q24: 0 | R24: 0 | S24: 0 | T24: 0 | U24: 0 | V24: 0 | W24: 0 | X24: 0 | Y24: 0 | Z24: 0 | AA24: 0
A25: 1.2 | C25: ê»÷³Ï³ÝáõÃÛ³Ý Çñ³íáõÝùÇ ¹³¹³ñ»óÙ³Ý í»ñ³µ»ñÛ³É | F25: 3 | G25: 3 | H25: 3 | I25: 0 | J25: 0 | K25: 2 | L25: 1 | M25: 0 | N25: 0 | O25: 1 | P25: 0 | Q25: 1 | R25: 0 | S25: 0 | T25: 2 | U25: 0 | V25: 1 | W25: 1 | X25: 0 | Y25: 0 | Z25: =F25+H25-T25-U25 -> 4 | AA25: 1
A26: 1.3 | C26: ¶áõÛùÇ ÝÏ³ïÙ³Ùµ û·ï³·áñÍÙ³Ý Çñ³íáõÝùÁ ×³Ý³ã»Éáõ í»ñ³µ»ñÛ³É | F26: 1 | G26: 1 | H26: 1 | I26: 0 | J26: 0 | K26: 2 | L26: 0 | M26: 0 | N26: 2 | O26: 0 | P26: 0 | Q26: 0 | R26: 0 | S26: 0 | T26: 2 | U26: 0 | V26: 1 | W26: 1 | X26: 0 | Y26: 0 | Z26: =F26+H26-T26-U26 -> 0 | AA26: 0
A27: 1.3.1 | C27: ²Û¹ ÃíáõÙª µÝ³Ïû·ï³·áñÍÙ³Ý Çñ³íáõÝùÁ ×³Ý³ã»Éáõ í»ñ³µ»ñÛ³É | F27: 1 | G27: 1 | H27: 1 | I27: 0 | J27: 0 | K27: 1 | L27: 0 | M27: 0 | N27: 0 | O27: 1 | P27: 0 | Q27: 1 | R27: 0 | S27: 0 | T27: 1 | U27: 0 | V27: 1 | W27: 0 | X27: 0 | Y27: 0 | Z27: =F27+H27-T27-U27 -> 1 | AA27: 0
A28: 1.3.2 | C28: ²Û¹ ÃíáõÙª ÑáÕ³Ù³ëÇ ÝÏ³ïÙ³Ùµ û·ï³·áñÍÙ³Ý Çñ³íáõÝùÁ ×³Ý³ã»Éáõ í»ñ³µ»ñÛ³É | F28: 0 | G28: 0 | H28: 0 | I28: 0 | J28: 0 | K28: 0 | L28: 0 | M28: 0 | N28: 0 | O28: 0 | P28: 0 | Q28: 0 | R28: 0 | S28: 0 | T28: 0 | U28: 0 | V28: 0 | W28: 0 | X28: 0 | Y28: 0 | Z28: =F28+H28-T28-U28 -> 0 | AA28: 0
A29: 1.4 | C29: ¶áõÛùÇ ÝÏ³ïÙ³Ùµ û·ï³·áñÍÙ³Ý Çñ³íáõÝùÁ ¹³¹³ñ»óÝ»Éáõ í»ñ³µ»ñÛ³É | F29: 0 | G29: 0 | H29: 0 | I29: 0 | J29: 0 | K29: 0 | L29: 0 | M29: 0 | N29: 0 | O29: 0 | P29: 0 | Q29: 0 | R29: 0 | S29: 0 | T29: 0 | U29: 0 | V29: 0 | W29: 0 | X29: 0 | Y29: 0 | Z29: =F29+H29-T29-U29 -> 0 | AA29: 0
A30: 1.4.1 | C30: ²Û¹ ÃíáõÙª µÝ³Ïû·ï³·áñÍÙ³Ý Çñ³íáõÝùÁ ¹³¹³ñ»óÝ»Éáõ í»ñ³µ»ñÛ³É | F30: 2 | G30: 0 | H30: 0 | I30: 0 | J30: 0 | K30: 1 | L30: 0 | M30: 0 | N30: 1 | O30: 0 | P30: 0 | Q30: 0 | R30: 0 | S30: 0 | T30: 1 | U30: 0 | V30: 1 | W30: 1 | X30: 0 | Y30: 0 | Z30: =F30+H30-T30-U30 -> 1 | AA30: 1
A31: 1.4.1/1 | C31: ²Û¹ ÃíáõÙª ÷áËÑ³ïáõóÙ³Ùµ | F31: 1 | G31: 1 | H31: 0 | I31: 1 | J31: 0 | K31: 0 | L31: 0 | M31: 0 | N31: 0 | O31: 0 | P31: 0 | Q31: 0 | R31: 0 | S31: 0 | T31: 0 | U31: 0 | V31: 0 | W31: 0 | X31: 0 | Y31: 0 | Z31: =F31+H31-T31-U31 -> 1 | AA31: 1
A32: 1.5 | C32: ´Ý³Ï³ñ³ÝÇó/ ï³ñ³ÍùÇó/ íï³ñ»Éáõ í»ñ³µ»ñÛ³É | F32: 6 | G32: 35 | H32: 29 | I32: 6 | J32: 0 | K32: 17 | L32: 6 | M32: 1 | N32: 4 | O32: 6 | P32: 0 | Q32: 5 | R32: 1 | S32: 0 | T32: 17 | U32: 0 | V32: 12 | W32: 5 | X32: 0 | Y32: 0 | Z32: =F32+H32-T32-U32 -> 18 | AA32: 0
A33: 1.6 | C33: ¶áõÛùÝ áõñÇßÇ ³åûñÇÝÇ ïÇñ³å»ïáõÙÇó »ï í»ñ³¹³ñÓÝ»Éáõ í»ñ³µ»ñÛ³É | F33: 7 | G33: 27 | H33: 23 | I33: 4 | J33: 0 | K33: 15 | L33: 9 | M33: 0 | N33: 2 | O33: 4 | P33: 1 | Q33: 3 | R33: 0 | S33: 0 | T33: 15 | U33: 1 | V33: 11 | W33: 3 | X33: 0 | Y33: 0 | Z33: =F33+H33-T33-U33 -> 14 | AA33: 6
A34: 1.6.1 | B34: ավելացվել է | C34: ´³ñ»ËÇÕ× Ó»éùµ»ñáÕÇó Çñ ·áõÛùÁ Ñ»ï å³Ñ³Ýç»Éáõ í»ñ³µ»ñÛ³É | F34: 0 | G34: 0 | H34: 0 | I34: 0 | J34: 0 | K34: 0 | L34: 0 | M34: 0 | N34: 0 | O34: 0 | P34: 0 | Q34: 0 | R34: 0 | S34: 0 | T34: 0 | U34: 0 | V34: 0 | W34: 0 | X34: 0 | Y34: 0 | Z34: =F34+H34-T34-U34 -> 0 | AA34: 0
A35: 1.7 | C35: îÇñ³å»ïáõÙÇó ½ñÏ»Éáõ Ñ»ï ãÏ³åí³Í Çñ³íáõÝùÝ»ñÇ Ë³ËïáõÙÁ í»ñ³óÝ»Éáõ í»ñ³µ»ñÛ³É | F35: 3 | G35: 6 | H35: 6 | I35: 0 | J35: 0 | K35: 8 | L35: 0 | M35: 1 | N35: 4 | O35: 3 | P35: 0 | Q35: 2 | R35: 1 | S35: 0 | T35: 8 | U35: 0 | V35: 7 | W35: 3 | X35: 0 | Y35: 0 | Z35: =F35+H35-T35-U35 -> 1 | AA35: 2
A36: 1.8 | C36: ÀÝ¹Ñ³Ýáõñ µ³ÅÝ³ÛÇÝ ë»÷³Ï³ÝáõÃÛáõÝÇó µ³ÅÇÝÝ ³é³ÝÓÝ³óÝ»Éáõ í»ñ³µ»ñÛ³É | F36: 45 | G36: 72 | H36: 63 | I36: 9 | J36: 0 | K36: 40 | L36: 16 | M36: 3 | N36: 2 | O36: 19 | P36: 5 | Q36: 13 | R36: 1 | S36: 0 | T36: 40 | U36: 0 | V36: 34 | W36: 8 | X36: 0 | Y36: 0 | Z36: =F36+H36-T36-U36 -> 68 | AA36: 15
A37: 1.8.1 | B37: ավելացվել է | C37: Ð³Ù³ï»Õ ë»÷³Ï³ÝáõÃÛ³Ý Ý»ñùá ·ïÝíáÕ ·áõÛùÁ µ³Å³Ý»Éáõ ¨ ¹ñ³ÝÇó µ³ÅÇÝÝ ³é³ÝÓÝ³óÝ»Éáõ í»ñ³µ»ñÛ³É | F37: 0 | G37: 28 | H37: 23 | I37: 5 | J37: 0 | K37: 2 | L37: 0 | M37: 0 | N37: 0 | O37: 2 | P37: 0 | Q37: 2 | R37: 0 | S37: 0 | T37: 2 | U37: 0 | V37: 2 | W37: 0 | X37: 0 | Y37: 0 | Z37: =F37+H37-T37-U37 -> 21 | AA37: 7
A38: 1.8.3 | B38: ավելացվել է | C38: ¶áõÛùÇ íñ³ µéÝ³·³ÝÓáõÙ ï³ñ³Í»Éáõ å³Ñ³ÝçÇ Ù³ëÇÝ | F38: 0 | G38: 6 | H38: 3 | I38: 3 | J38: 0 | K38: 0 | L38: 0 | M38: 0 | N38: 0 | O38: 0 | P38: 0 | Q38: 0 | R38: 0 | S38: 0 | T38: 0 | U38: 0 | V38: 0 | W38: 0 | X38: 0 | Y38: 0 | Z38: =F38+H38-T38-U38 -> 3 | AA38: 2
A39: 1.9 | C39: ²ÛÉ í»×»ñ | F39: 11 | G39: 19 | H39: 14 | I39: 4 | J39: 1 | K39: 14 | L39: 5 | M39: 2 | N39: 4 | O39: 3 | P39: 0 | Q39: 2 | R39: 1 | S39: 0 | T39: 14 | U39: 0 | V39: 11 | W39: 7 | X39: 0 | Y39: 1 | Z39: =F39+H39-T39-U39 -> 11 | AA39: 4
A40: 2. | C40: ¶áñÍ³ñùÝ»ñÇ Ñ»ï Ï³åí³Í í»×»ñ | F40: 0 | G40: 0 | H40: 0 | I40: 0 | J40: 0 | K40: 0 | L40: 0 | M40: 0 | N40: 0 | O40: 0 | P40: 0 | Q40: 0 | R40: 0 | S40: 0 | T40: 0 | U40: 0 | V40: 0 | W40: 0 | X40: 0 | Y40: 0 | Z40: 0 | AA40: 0
A41: 2.1 | C41: ·áñÍ³ñùÝ»ñÇ ³Ýí³í»ñáõÃÛ³Ý Ñ»ï Ï³åí³Í í»×»ñ | F41: 8 | G41: 9 | H41: 9 | I41: 0 | J41: 0 | K41: 6 | L41: 1 | M41: 1 | N41: 2 | O41: 2 | P41: 0 | Q41: 2 | R41: 0 | S41: 0 | T41: 6 | U41: 0 | V41: 6 | W41: 3 | X41: 0 | Y41: 1 | Z41: =F41+H41-T41-U41 -> 11 | AA41: 1
A42: 2.1.1 | C42: ³Û¹ ÃíáõÙ`գáñÍ³ñùÁ íÇ×³Ñ³ñáõÛó ×³Ý³ã»Éáõ í»ñ³µ»ñÛ³É | F42: 0 | G42: 0 | H42: 0 | I42: 0 | J42: 0 | K42: 0 | L42: 0 | M42: 0 | N42: 0 | O42: 0 | P42: 0 | Q42: 0 | R42: 0 | S42: 0 | T42: 0 | U42: 0 | V42: 0 | W42: 1 | X42: 0 | Y42: 0 | Z42: =F42+H42-T42-U42 -> 0 | AA42: 0
A43: 2.1.2 | C43: ³Û¹ ÃíáõÙ` ·áñÍ³ñùÇ ³éáãÝãáõÃÛ³Ý Ñ»ï¨³ÝùÝ»ñ ÏÇñ³é»Éáõ í»ñ³µ»ñÛ³É | F43: 1 | G43: 3 | H43: 3 | I43: 0 | J43: 0 | K43: 3 | L43: 0 | M43: 0 | N43: 0 | O43: 3 | P43: 0 | Q43: 2 | R43: 1 | S43: 0 | T43: 3 | U43: 0 | V43: 3 | W43: 1 | X43: 0 | Y43: 0 | Z43: =F43+H43-T43-U43 -> 1 | AA43: 1
A44: 2.2 | C44: ¶áñÍ³ñùÁ í³í»ñ ×³Ý³ã»Éáõ í»ñ³µ»ñÛ³É | F44: 2 | G44: 6 | H44: 5 | I44: 1 | J44: 0 | K44: 4 | L44: 2 | M44: 0 | N44: 1 | O44: 1 | P44: 1 | Q44: 0 | R44: 0 | S44: 0 | T44: 4 | U44: 0 | V44: 4 | W44: 1 | X44: 0 | Y44: 1 | Z44: =F44+H44-T44-U44 -> 3 | AA44: 0
A45: 2.3 | C45: ¶áñÍ³ñùÇó Í³·áÕ Çñ³íáõÝùÝ»ñÁ ·ñ³Ýó»Éáõ í»ñ³µ»ñÛ³É | F45: 0 | G45: 0 | H45: 0 | I45: 0 | J45: 0 | K45: 0 | L45: 0 | M45: 0 | N45: 0 | O45: 0 | P45: 0 | Q45: 0 | R45: 0 | S45: 0 | T45: 0 | U45: 0 | V45: 0 | W45: 0 | X45: 0 | Y45: 0 | Z45: =F45+H45-T45-U45 -> 0 | AA45: 0
A46: 2.4 | C46: ä³ÛÙ³Ý³·ÇñÝ ³Ýí³í»ñ ×³Ý³ã»Éáõ í»ñ³µ»ñÛ³É | F46: 5 | G46: 13 | H46: 12 | I46: 1 | J46: 0 | K46: 8 | L46: 4 | M46: 0 | N46: 4 | O46: 0 | P46: 0 | Q46: 0 | R46: 0 | S46: 0 | T46: 8 | U46: 0 | V46: 1 | W46: 8 | X46: 0 | Y46: 0 | Z46: =F46+H46-T46-U46 -> 9 | AA46: 6
A47: 2.5 | C47: ä³ÛÙ³Ý³·ñÇÁ í³í»ñ ×³Ý³ã»Éáõ í»ñ³µ»ñÛ³É | F47: 1 | G47: 6 | H47: 4 | I47: 2 | J47: 0 | K47: 4 | L47: 1 | M47: 0 | N47: 1 | O47: 2 | P47: 1 | Q47: 1 | R47: 0 | S47: 0 | T47: 4 | U47: 0 | V47: 3 | W47: 0 | X47: 0 | Y47: 0 | Z47: =F47+H47-T47-U47 -> 1 | AA47: 1
A48: 2.6 | B48: ուժը կորցրել է | C48: ä³ÛÙ³Ý³·ñÇó Í³·áÕ Çñ³íáõÝùÝ»ñÁ ·ñ³Ýó»Éáõ í»ñ³µ»ñÛ³É | F48: 0 | G48: 0 | H48: 0 | I48: 0 | J48: 0 | K48: 0 | L48: 0 | M48: 0 | N48: 0 | O48: 0 | P48: 0 | Q48: 0 | R48: 0 | S48: 0 | T48: 0 | U48: 0 | V48: 0 | W48: 0 | X48: 0 | Y48: 0 | Z48: =F48+H48-T48-U48 -> 0 | AA48: 0
A49: 2.7 | C49: ä³ÛÙ³Ý³·ÇñÁ ÷á÷áË»Éáõ ¨ ÉáõÍ»Éáõ í»ñ³µ»ñÛ³É | F49: 8 | G49: 4 | H49: 4 | I49: 0 | J49: 0 | K49: 9 | L49: 6 | M49: 1 | N49: 1 | O49: 1 | P49: 1 | Q49: 0 | R49: 0 | S49: 0 | T49: 9 | U49: 0 | V49: 10 | W49: 1 | X49: 0 | Y49: 1 | Z49: =F49+H49-T49-U49 -> 3 | AA49: 1
A50: 2.8 | C50: ä³ÛÙ³Ý³·Çñ ÏÝù»ÉáõÝ å³ñï³íáñ»óÝ»Éáõ í»ñ³µ»ñÛ³É | F50: 0 | G50: 1 | H50: 1 | I50: 0 | J50: 0 | K50: 1 | L50: 0 | M50: 0 | N50: 0 | O50: 1 | P50: 1 | Q50: 0 | R50: 0 | S50: 0 | T50: 1 | U50: 0 | V50: 1 | W50: 0 | X50: 0 | Y50: 0 | Z50: =F50+H50-T50-U50 -> 0 | AA50: 0
A51: 2.9 | C51: ²ÛÉ í»×»ñ | F51: 2 | G51: 8 | H51: 7 | I51: 1 | J51: 0 | K51: 5 | L51: 2 | M51: 0 | N51: 1 | O51: 2 | P51: 1 | Q51: 1 | R51: 0 | S51: 1 | T51: 6 | U51: 1 | V51: 5 | W51: 2 | X51: 0 | Y51: 0 | Z51: =F51+H51-T51-U51 -> 2 | AA51: 2
A52: 3. | C52: Ä³é³Ý·áõÃÛ³Ý í»ñ³µ»ñÛ³É í»×»ñ | F52: 0 | G52: 0 | H52: 0 | I52: 0 | J52: 0 | K52: 0 | L52: 0 | M52: 0 | N52: 0 | O52: 0 | P52: 0 | Q52: 0 | R52: 0 | S52: 0 | T52: 0 | U52: 0 | V52: 0 | W52: 0 | X52: 0 | Y52: 0 | Z52: 0 | AA52: 0
A53: 3.1 | C53: Îï³ÏÝ ³Ýí³í»ñ ×³Ý³ã»Éáõ í»ñ³µ»ñÛ³É | F53: 2 | G53: 2 | H53: 2 | I53: 0 | J53: 0 | K53: 2 | L53: 0 | M53: 0 | N53: 1 | O53: 1 | P53: 0 | Q53: 0 | R53: 1 | S53: 0 | T53: 2 | U53: 0 | V53: 1 | W53: 2 | X53: 0 | Y53: 0 | Z53: =F53+H53-T53-U53 -> 2 | AA53: 1
A54: 3.2 | C54: ²Ý³ñÅ³Ý Å³é³Ý· ×³Ý³ã»Éáõ í»ñ³µ»ñÛ³É | F54: 0 | G54: 0 | H54: 0 | I54: 0 | J54: 0 | K54: 0 | L54: 0 | M54: 0 | N54: 0 | O54: 0 | P54: 0 | Q54: 0 | R54: 0 | S54: 0 | T54: 0 | U54: 0 | V54: 0 | W54: 0 | X54: 0 | Y54: 0 | Z54: =F54+H54-T54-U54 -> 0 | AA54: 0
A55: 3.3 | C55: Ä³é³Ý·áõÃÛáõÝÁ µ³Å³Ý»Éáõ í»ñ³µ»ñÛ³É | F55: 4 | G55: 3 | H55: 2 | I55: 1 | J55: 0 | K55: 3 | L55: 1 | M55: 1 | N55: 1 | O55: 0 | P55: 0 | Q55: 0 | R55: 0 | S55: 0 | T55: 3 | U55: 0 | V55: 2 | W55: 1 | X55: 0 | Y55: 0 | Z55: =F55+H55-T55-U55 -> 3 | AA55: 0
A56: 3.4 | C56: ¶áõÛùÝ ³ÝÅ³é³Ý· ×³Ý³ã»Éáõ í»ñ³µ»ñÛ³É | F56: 0 | G56: 0 | H56: 0 | I56: 0 | J56: 0 | K56: 0 | L56: 0 | M56: 0 | N56: 0 | O56: 0 | P56: 0 | Q56: 0 | R56: 0 | S56: 0 | T56: 0 | U56: 0 | V56: 0 | W56: 0 | X56: 0 | Y56: 0 | Z56: =F56+H56-T56-U56 -> 0 | AA56: 0
A57: 3.5 | B57: ուժը կորցրել է | C57: Àëï ûñ»ÝùÇ Å³é³Ý·áõÃÛ³Ý Çñ³íáõÝùÇ íÏ³Û³Ï³ÝÝ ³Ýí³í»ñ ×³Ý³ã»Éáõ í»ñ³µ»ñÛ³É | F57: 1 | G57: 0 | H57: 0 | I57: 0 | J57: 0 | K57: 0 | L57: 0 | M57: 0 | N57: 0 | O57: 0 | P57: 0 | Q57: 0 | R57: 0 | S57: 1 | T57: 1 | U57: 0 | V57: 0 | W57: 0 | X57: 0 | Y57: 0 | Z57: =F57+H57-T57-U57 -> 0 | AA57: 0
A58: 3.6 | C58: Ä³é³Ý·áõÃÛáõÝÝ ÁÝ¹áõÝ»Éáõ µ³ó ÃáÕÝí³Í Å³ÙÏ»ïÁ Ñ³ñ·»ÉÇ Ñ³Ù³ñ»Éáõ í»ñ³µ»ñÛ³É | F58: 4 | G58: 10 | H58: 8 | I58: 2 | J58: 0 | K58: 8 | L58: 6 | M58: 0 | N58: 1 | O58: 1 | P58: 0 | Q58: 1 | R58: 0 | S58: 0 | T58: 8 | U58: 0 | V58: 9 | W58: 0 | X58: 0 | Y58: 0 | Z58: =F58+H58-T58-U58 -> 4 | AA58: 0
A59: 3.7 | C59: ²ÛÉ í»×»ñ | F59: 9 | G59: 7 | H59: 6 | I59: 0 | J59: 1 | K59: 10 | L59: 5 | M59: 1 | N59: 3 | O59: 1 | P59: 0 | Q59: 1 | R59: 0 | S59: 0 | T59: 10 | U59: 0 | V59: 9 | W59: 3 | X59: 0 | Y59: 0 | Z59: =F59+H59-T59-U59 -> 5 | AA59: 2
A60: 4 | C60: ÀÝï³Ý»Ï³Ý Çñ³í³Ñ³ñ³µ»ñáõÃÛáõÝÝ»ñÇó Í³·áÕ í»×»ñ | F60: 0 | G60: 0 | H60: 0 | I60: 0 | J60: 0 | K60: 0 | L60: 0 | M60: 0 | N60: 0 | O60: 0 | P60: 0 | Q60: 0 | R60: 0 | S60: 0 | T60: 0 | U60: 0 | V60: 0 | W60: 0 | X60: 0 | Y60: 0 | Z60: 0 | AA60: 0
A61: 4.1 | C61: ²ÙáõëÝ³ÉáõÍáõÃÛ³Ý í»ñ³µ»ñÛ³É | F61: 25 | G61: 96 | H61: 85 | I61: 11 | J61: 0 | K61: 81 | L61: 57 | M61: 0 | N61: 1 | O61: 23 | P61: 21 | Q61: 1 | R61: 1 | S61: 0 | T61: 81 | U61: 0 | V61: 87 | W61: 1 | X61: 0 | Y61: 0 | Z61: =F61+H61-T61-U61 -> 29 | AA61: 1
A62: 4.2 | C62: ²ÉÇÙ»ÝïÇ å³Ñ³ÝçÇ í»ñ³µ»ñÛ³É | F62: 5 | G62: 25 | H62: 24 | I62: 1 | J62: 0 | K62: 20 | L62: 10 | M62: 8 | N62: 0 | O62: 2 | P62: 1 | Q62: 1 | R62: 0 | S62: 0 | T62: 20 | U62: 0 | V62: 16 | W62: 3 | X62: 0 | Y62: 0 | Z62: =F62+H62-T62-U62 -> 9 | AA62: 0
A63: 4.3 | C63: ²ÉÇÙ»ÝïÇ ã³÷Á ÷á÷áË»Éáõ í»ñ³µ»ñÛ³É | F63: 1 | G63: 6 | H63: 5 | I63: 1 | J63: 0 | K63: 3 | L63: 1 | M63: 2 | N63: 0 | O63: 0 | P63: 0 | Q63: 0 | R63: 0 | S63: 0 | T63: 3 | U63: 0 | V63: 3 | W63: 2 | X63: 0 | Y63: 0 | Z63: =F63+H63-T63-U63 -> 3 | AA63: 1
A64: 4.4 | C64: ÌÝáÕ³Ï³Ý Çñ³íáõÝùÝ»ñÇó ½ñÏ»Éáõ í»ñ³µ»ñÛ³É | F64: 1 | G64: 3 | H64: 3 | I64: 0 | J64: 0 | K64: 3 | L64: 1 | M64: 0 | N64: 0 | O64: 2 | P64: 2 | Q64: 0 | R64: 0 | S64: 0 | T64: 3 | U64: 0 | V64: 3 | W64: 0 | X64: 0 | Y64: 0 | Z64: =F64+H64-T64-U64 -> 1 | AA64: 1
A65: 4.5 | C65: ÌÝáÕ³Ï³Ý Çñ³íáõÝùÝ»ñÁ í»ñ³Ï³Ý·Ý»Éáõ í»ñ³µ»ñÛ³É | F65: 0 | G65: 0 | H65: 0 | I65: 0 | J65: 0 | K65: 0 | L65: 0 | M65: 0 | N65: 0 | O65: 0 | P65: 0 | Q65: 0 | R65: 0 | S65: 0 | T65: 0 | U65: 0 | V65: 0 | W65: 0 | X65: 0 | Y65: 0 | Z65: =F65+H65-T65-U65 -> 0 | AA65: 0
A66: 4.6 | C66: ºñ»Ë³ÛÇ áñ¹»·ñÙ³Ý í»ñ³µ»ñÛ³É | F66: 1 | G66: 0 | H66: 0 | I66: 0 | J66: 0 | K66: 1 | L66: 0 | M66: 0 | N66: 1 | O66: 0 | P66: 0 | Q66: 0 | R66: 0 | S66: 0 | T66: 1 | U66: 0 | V66: 2 | W66: 1 | X66: 0 | Y66: 0 | Z66: =F66+H66-T66-U66 -> 0 | AA66: 0
A67: 4.7 | C67: ºñ»Ë³ÛÇ áñ¹»·ñáõÙÁ í»ñ³óÝ»Éáõ í»ñ³µ»ñÛ³É | F67: 0 | G67: 0 | H67: 0 | I67: 0 | J67: 0 | K67: 0 | L67: 0 | M67: 0 | N67: 0 | O67: 0 | P67: 0 | Q67: 0 | R67: 0 | S67: 0 | T67: 0 | U67: 0 | V67: 0 | W67: 0 | X67: 0 | Y67: 0 | Z67: =F67+H67-T67-U67 -> 0 | AA67: 0
A68: 4.8 | C68: Ð³ÛñáõÃÛáõÝÁ ×³Ý³ã»Éáõ í»ñ³µ»ñÛ³É | F68: 1 | G68: 7 | H68: 5 | I68: 2 | J68: 0 | K68: 5 | L68: 4 | M68: 0 | N68: 0 | O68: 1 | P68: 0 | Q68: 1 | R68: 0 | S68: 0 | T68: 5 | U68: 0 | V68: 5 | W68: 0 | X68: 0 | Y68: 0 | Z68: =F68+H68-T68-U68 -> 1 | AA68: 0
A69: 4.9 | C69: ºñ»Ë³ÛÇ µÝ³ÏáõÃÛ³Ý í³ÛñÁ áñáß»Éáõ í»ñ³µ»ñÛ³É | F69: 1 | G69: 3 | H69: 2 | I69: 1 | J69: 0 | K69: 2 | L69: 1 | M69: 1 | N69: 0 | O69: 0 | P69: 0 | Q69: 0 | R69: 0 | S69: 1 | T69: 3 | U69: 0 | V69: 5 | W69: 0 | X69: 0 | Y69: 1 | Z69: =F69+H69-T69-U69 -> 0 | AA69: 0
A70: 4.10 | C70: ºñ»Ë³ÛÇ Ñ»ï ï»ë³ÏóáõÃÛ³Ý Ï³ñ· ë³ÑÙ³Ý»Éáõ í»ñ³µ»ñÛ³É | F70: 0 | G70: 9 | H70: 9 | I70: 0 | J70: 0 | K70: 7 | L70: 2 | M70: 3 | N70: 0 | O70: 2 | P70: 1 | Q70: 1 | R70: 0 | S70: 0 | T70: 7 | U70: 0 | V70: 7 | W70: 0 | X70: 0 | Y70: 0 | Z70: =F70+H70-T70-U70 -> 2 | AA70: 0
A71: 4.11 | C71: ²ÙáõëÇÝÝ»ñÇ ÁÝ¹Ñ³Ýáõñ ·áõÛùÁ µ³Å³Ý»Éáõ í»ñ³µ»ñÛ³É | F71: 1 | G71: 5 | H71: 5 | I71: 0 | J71: 0 | K71: 1 | L71: 0 | M71: 0 | N71: 1 | O71: 0 | P71: 0 | Q71: 0 | R71: 0 | S71: 0 | T71: 1 | U71: 0 | V71: 1 | W71: 0 | X71: 0 | Y71: 0 | Z71: =F71+H71-T71-U71 -> 5 | AA71: 2
A72: 4.12 | C72: ²ÙáõëÝ³Ï³Ý å³ÛÙ³Ý³·ñÇ ÷á÷áËÙ³Ý Ï³Ù ÉáõÍÙ³Ý í»ñ³µ»ñÛ³É | F72: 0 | G72: 0 | H72: 0 | I72: 0 | J72: 0 | K72: 0 | L72: 0 | M72: 0 | N72: 0 | O72: 0 | P72: 0 | Q72: 0 | R72: 0 | S72: 0 | T72: 0 | U72: 0 | V72: 0 | W72: 0 | X72: 0 | Y72: 0 | Z72: =F72+H72-T72-U72 -> 0 | AA72: 0
A73: 4.13 | C73: ²ÛÉ í»×»ñ | F73: 0 | G73: 11 | H73: 9 | I73: 1 | J73: 1 | K73: 6 | L73: 1 | M73: 2 | N73: 2 | O73: 1 | P73: 0 | Q73: 1 | R73: 0 | S73: 0 | T73: 6 | U73: 0 | V73: 4 | W73: 3 | X73: 0 | Y73: 1 | Z73: =F73+H73-T73-U73 -> 3 | AA73: 0
A74: 5. | C74: Øï³íáñ ë»÷³Ï³ÝáõÃÛáõÝ | F74: =F75+F76+F77+F78+F79+F80 -> 0 | G74: =G75+G76+G77+G78+G79+G80 -> 0 | H74: =H75+H76+H77+H78+H79+H80 -> 0 | I74: =I75+I76+I77+I78+I79+I80 -> 0 | J74: =J75+J76+J77+J78+J79+J80 -> 0 | K74: =K75+K76+K77+K78+K79+K80 -> 0 | L74: =L75+L76+L77+L78+L79+L80 -> 0 | M74: =M75+M76+M77+M78+M79+M80 -> 0 | ... AA74: =AA75+AA76+AA77+AA78+AA79+AA80 -> 0
A75: 5.1 | C75: ÈÇó»Ý½³ÛÇÝ å³ÛÙ³Ý³·ñÇ ÉáõÍÙ³Ý, ÷á÷áËÙ³Ý ¨ ³Ýí³í»ñáõÃÛ³Ý í»ñ³µ»ñÛ³É | F75: 0 | G75: 0 | H75: 0 | I75: 0 | J75: 0 | K75: 0 | L75: 0 | M75: 0 | N75: 0 | O75: 0 | P75: 0 | Q75: 0 | R75: 0 | S75: 0 | T75: 0 | U75: 0 | V75: 0 | W75: 0 | X75: 0 | Y75: 0 | Z75: =F75+H75-T75-U75 -> 0 | AA75: 0
A76: 5.2 | C76: Øï³íáñ ·áñÍáõÝ»áõÃÛ³Ý ³ñ¹ÛáõÝùÝ»ñ ëï»ÕÍ»Éáõ ¨ û·ï³·áñÍ»Éáõ å³ÛÙ³Ý³·ñÇ ÉáõÍÙ³Ý, ÷á÷áËÙ³Ý áõ ³Ýí³í»ñáõÃÛ³Ý í»ñ³µ»ñÛ³É | F76: 0 | G76: 0 | H76: 0 | I76: 0 | J76: 0 | K76: 0 | L76: 0 | M76: 0 | N76: 0 | O76: 0 | P76: 0 | Q76: 0 | R76: 0 | S76: 0 | T76: 0 | U76: 0 | V76: 0 | W76: 0 | X76: 0 | Y76: 0 | Z76: =F76+H76-T76-U76 -> 0 | AA76: 0
A77: 5.3 | C77: Ð»ÕÇÝ³Ï³ÛÇÝ ¨ Ñ³ñ³ÏÇó Çñ³íáõÝùÝ»ñÇ í»ñ³µ»ñÛ³É | F77: 0 | G77: 0 | H77: 0 | I77: 0 | J77: 0 | K77: 0 | L77: 0 | M77: 0 | N77: 0 | O77: 0 | P77: 0 | Q77: 0 | R77: 0 | S77: 0 | T77: 0 | U77: 0 | V77: 0 | W77: 0 | X77: 0 | Y77: 0 | Z77: =F77+H77-T77-U77 -> 0 | AA77: 0
A78: 5.4 | C78: üÇñÙ³ÛÇÝ ³Ýí³ÝÙ³Ý í»ñ³µ»ñÛ³É | F78: 0 | G78: 0 | H78: 0 | I78: 0 | J78: 0 | K78: 0 | L78: 0 | M78: 0 | N78: 0 | O78: 0 | P78: 0 | Q78: 0 | R78: 0 | S78: 0 | T78: 0 | U78: 0 | V78: 0 | W78: 0 | X78: 0 | Y78: 0 | Z78: =F78+H78-T78-U78 -> 0 | AA78: 0
A79: 5.5 | C79: ²åñ³Ýù³ÛÇÝ Ýß³ÝÇ í»ñ³µ»ñÛ³É | F79: 0 | G79: 0 | H79: 0 | I79: 0 | J79: 0 | K79: 0 | L79: 0 | M79: 0 | N79: 0 | O79: 0 | P79: 0 | Q79: 0 | R79: 0 | S79: 0 | T79: 0 | U79: 0 | V79: 0 | W79: 0 | X79: 0 | Y79: 0 | Z79: =F79+H79-T79-U79 -> 0 | AA79: 0
A80: 5.6 | C80: ²ÛÉ í»×»ñ | F80: 0 | G80: 0 | H80: 0 | I80: 0 | J80: 0 | K80: 0 | L80: 0 | M80: 0 | N80: 0 | O80: 0 | P80: 0 | Q80: 0 | R80: 0 | S80: 0 | T80: 0 | U80: 0 | V80: 0 | W80: 0 | X80: 0 | Y80: 0 | Z80: =F80+H80-T80-U80 -> 0 | AA80: 0
A81: 6. | C81: ²ßË³ï³Ýù³ÛÇÝ í»×»ñ | F81: 0 | G81: 0 | H81: 0 | I81: 0 | J81: 0 | K81: 0 | L81: 0 | M81: 0 | N81: 0 | O81: 0 | P81: 0 | Q81: 0 | R81: 0 | S81: 0 | T81: 0 | U81: 0 | V81: 0 | W81: 0 | X81: 0 | Y81: 0 | Z81: 0 | AA81: 0
A82: 6.1 | C82: ²ßË³ï³Ýù³ÛÇÝ å³ÛÙ³Ý³·ñ»ñÇ í»ñ³µ»ñÛ³É | F82: 0 | G82: 1 | H82: 1 | I82: 0 | J82: 0 | K82: 1 | L82: 1 | M82: 0 | N82: 0 | O82: 0 | P82: 0 | Q82: 0 | R82: 0 | S82: 0 | T82: 1 | U82: 0 | V82: 0 | W82: 1 | X82: 0 | Y82: 0 | Z82: =F82+H82-T82-U82 -> 0 | AA82: 0
A83: 6.2 | C83: ²ßË³ï³ÝùáõÙ í»ñ³Ï³Ý·Ý»Éáõ í»ñ³µ»ñÛ³É | F83: 2 | G83: 3 | H83: 3 | I83: 0 | J83: 0 | K83: 4 | L83: 2 | M83: 1 | N83: 0 | O83: 1 | P83: 1 | Q83: 0 | R83: 0 | S83: 0 | T83: 4 | U83: 0 | V83: 4 | W83: 2 | X83: 0 | Y83: 0 | Z83: =F83+H83-T83-U83 -> 1 | AA83: 0
A84: 6.3 | C84: ¶áñÍ³¹áõÉÝ ³ÝûñÇÝ³Ï³Ý ×³Ý³ã»Éáõ í»ñ³µ»ñÛ³É | F84: 0 | G84: 0 | H84: 0 | I84: 0 | J84: 0 | K84: 0 | L84: 0 | M84: 0 | N84: 0 | O84: 0 | P84: 0 | Q84: 0 | R84: 0 | S84: 0 | T84: 0 | U84: 0 | V84: 0 | W84: 0 | X84: 0 | Y84: 0 | Z84: =F84+H84-T84-U84 -> 0 | AA84: 0
A85: 6.4 | C85: Ð³ñÏ³¹Çñ å³ñ³åáõñ¹Ç Ñ³ïáõóÙ³Ý í»ñ³µ»ñÛ³É | F85: 0 | G85: 0 | H85: 0 | I85: 0 | J85: 0 | K85: 0 | L85: 0 | M85: 0 | N85: 0 | O85: 0 | P85: 0 | Q85: 0 | R85: 0 | S85: 0 | T85: 0 | U85: 0 | V85: 0 | W85: 0 | X85: 0 | Y85: 0 | Z85: =F85+H85-T85-U85 -> 0 | AA85: 0
A86: 6.5 | C86: âí×³ñí³Í ³ßË³ï³í³ñÓÇ ¨/Ï³Ù ³ÛÉ í×³ñÝ»ñÇ µéÝ³·³ÝÓÙ³Ý í»ñ³µ»ñÛ³É | F86: 1 | G86: 1 | H86: 1 | I86: 0 | J86: 0 | K86: 1 | L86: 0 | M86: 1 | N86: 0 | O86: 0 | P86: 0 | Q86: 0 | R86: 0 | S86: 0 | T86: 1 | U86: 0 | V86: 1 | W86: 0 | X86: 0 | Y86: 0 | Z86: =F86+H86-T86-U86 -> 1 | AA86: 0
A87: 6.6 | C87: ²ÛÉ í»×»ñ | F87: 0 | G87: 1 | H87: 1 | I87: 0 | J87: 0 | K87: 0 | L87: 0 | M87: 0 | N87: 0 | O87: 0 | P87: 0 | Q87: 0 | R87: 0 | S87: 0 | T87: 0 | U87: 0 | V87: 0 | W87: 0 | X87: 0 | Y87: 1 | Z87: =F87+H87-T87-U87 -> 1 | AA87: 0
A88: 7. | C88: Æñ³í³µ³Ý³Ï³Ý ³ÝÓÇ ·áñÍáõÝ»áõÃÛ³Ý í»ñ³µ»ñÛ³É | F88: 0 | G88: 0 | H88: 0 | I88: 0 | J88: 0 | K88: 0 | L88: 0 | M88: 0 | N88: 0 | O88: 0 | P88: 0 | Q88: 0 | R88: 0 | S88: 0 | T88: 0 | U88: 0 | V88: 0 | W88: 0 | X88: 0 | Y88: 0 | Z88: 0 | AA88: 0
A89: 7.1 | C89: Îáñåáñ³ïÇí í»×»ñ | F89: 1 | G89: 0 | H89: 0 | I89: 0 | J89: 0 | K89: 0 | L89: 0 | M89: 0 | N89: 0 | O89: 0 | P89: 0 | Q89: 0 | R89: 0 | S89: 0 | T89: 0 | U89: 0 | V89: 3 | W89: 0 | X89: 0 | Y89: 0 | Z89: =F89+H89-T89-U89 -> 1 | AA89: 0
A90: 7.2 | C90: ²ÛÉ í»×»ñ | F90: 0 | G90: 0 | H90: 0 | I90: 0 | J90: 0 | K90: 0 | L90: 0 | M90: 0 | N90: 0 | O90: 0 | P90: 0 | Q90: 0 | R90: 0 | S90: 0 | T90: 0 | U90: 0 | V90: 1 | W90: 0 | X90: 0 | Y90: 0 | Z90: =F90+H90-T90-U90 -> 0 | AA90: 0
A91: 8. | C91: Ð³ïáõÏ í³ñáõÛÃÇ ·áñÍ»ñ | F91: 0 | G91: 0 | H91: 0 | I91: 0 | J91: 0 | K91: 0 | L91: 0 | M91: 0 | N91: 0 | O91: 0 | P91: 0 | Q91: 0 | R91: 0 | S91: 0 | T91: 0 | U91: 0 | V91: 0 | W91: 0 | X91: 0 | Y91: 0 | Z91: 0 | AA91: 0
A92: 8.1 | C92: ²Ýã³÷³Ñ³ëÇÝ ÉñÇí ·áñÍáõÝ³Ï ×³Ý³ã»Éáõ /¿Ù³ÝëÇå³óÇ³/ í»ñ³µ»ñÛ³É | F92: 0 | G92: 0 | H92: 0 | I92: 0 | J92: 0 | K92: 0 | L92: 0 | M92: 0 | N92: 0 | O92: 0 | P92: 0 | Q92: 0 | R92: 0 | S92: 0 | T92: 0 | U92: 0 | V92: 0 | W92: 0 | X92: 0 | Y92: 0 | Z92: =F92+H92-T92-U92 -> 0 | AA92: 0
A93: 8.2 | C93: ø³Õ³ù³óáõÝ ³Ý·áñÍáõÝ³Ï Ï³Ù ë³ÑÙ³Ý³÷³Ï ·áñÍáõÝ³Ï ×³Ý³ã»Éáõ í»ñ³µ»ñÛ³É | F93: 1 | G93: 11 | H93: 11 | I93: 0 | J93: 0 | K93: 8 | L93: 4 | M93: 1 | N93: 0 | O93: 3 | P93: 0 | Q93: 3 | R93: 0 | S93: 0 | T93: 8 | U93: 0 | V93: 9 | W93: 0 | X93: 0 | Y93: 0 | Z93: =F93+H93-T93-U93 -> 4 | AA93: 1
A94: 8.3 | C94: ø³Õ³ù³óáõÝ Ñá·»µáõÅ³Ï³Ý ÑÇí³Ý¹³Ýáó³ÛÇÝ Ñ³ñÏ³¹Çñ µáõÅÙ³Ý »ÝÃ³ñÏ»Éáõ í»ñ³µ»ñÛ³É | F94: 0 | G94: 0 | H94: 0 | I94: 0 | J94: 0 | K94: 0 | L94: 0 | M94: 0 | N94: 0 | O94: 0 | P94: 0 | Q94: 0 | R94: 0 | S94: 0 | T94: 0 | U94: 0 | V94: 0 | W94: 0 | X94: 0 | Y94: 0 | Z94: =F94+H94-T94-U94 -> 0 | AA94: 0
A95: 8.4 | C95: ø³Õ³ù³óáõÝ ³ÝÑ³Ûï µ³ó³Ï³ÛáÕ Ï³Ù Ù³Ñ³ó³Í ×³Ý³ã»Éáõ í»ñ³µ»ñÛ³É | F95: 7 | G95: 31 | H95: 27 | I95: 4 | J95: 0 | K95: 34 | L95: 26 | M95: 1 | N95: 3 | O95: 4 | P95: 0 | Q95: 4 | R95: 0 | S95: 0 | T95: 34 | U95: 0 | V95: 35 | W95: 3 | X95: 0 | Y95: 0 | Z95: =F95+H95-T95-U95 -> 0 | AA95: 0
A96: 8.5 | C96: ø³Õ³ù³óÇ³Ï³Ý Ï³óáõÃÛ³Ý ³Ïï»ñÇ ·ñ³éáõÙÝ»ñÇ ³Ý×ßïáõÃÛáõÝÝ»ñÁ å³ñ½»Éáõ í»ñ³µ»ñÛ³É | F96: 0 | G96: 2 | H96: 0 | I96: 2 | J96: 0 | K96: 0 | L96: 0 | M96: 0 | N96: 0 | O96: 0 | P96: 0 | Q96: 0 | R96: 0 | S96: 0 | T96: 0 | U96: 0 | V96: 0 | W96: 0 | X96: 0 | Y96: 0 | Z96: =F96+H96-T96-U96 -> 0 | AA96: 0
A97: 8.6 | C97: ¶áõÛùÁ ïÇñ³½áõñÏ ×³Ý³ã»Éáõ í»ñ³µ»ñÛ³É | F97: 2 | G97: 2 | H97: 1 | I97: 1 | J97: 0 | K97: 2 | L97: 0 | M97: 0 | N97: 1 | O97: 1 | P97: 0 | Q97: 1 | R97: 0 | S97: 0 | T97: 2 | U97: 0 | V97: 1 | W97: 1 | X97: 0 | Y97: 0 | Z97: =F97+H97-T97-U97 -> 1 | AA97: 1
A98: 8.6.1 | C98: ²Û¹ ÃíáõÙª ³Ýß³ñÅ ·áõÛùÁ | F98: 2 | G98: 0 | H98: 0 | I98: 0 | J98: 0 | K98: 2 | L98: 0 | M98: 0 | N98: 0 | O98: 2 | P98: 0 | Q98: 2 | R98: 0 | S98: 0 | T98: 2 | U98: 0 | V98: 2 | W98: 0 | X98: 0 | Y98: 0 | Z98: =F98+H98-T98-U98 -> 0 | AA98: 0
A99: 8.6.2 | C99: ²Û¹ ÃíáõÙª ß³ñÅ³Ï³Ý ·áõÛùÁ | F99: 0 | G99: 0 | H99: 0 | I99: 0 | J99: 0 | K99: 0 | L99: 0 | M99: 0 | N99: 0 | O99: 0 | P99: 0 | Q99: 0 | R99: 0 | S99: 0 | T99: 0 | U99: 0 | V99: 0 | W99: 0 | X99: 0 | Y99: 0 | Z99: =F99+H99-T99-U99 -> 0 | AA99: 0
A100: 8.7 | C100: Æñ³í³µ³Ý³Ï³Ý Ýß³Ý³ÏáõÃÛáõÝ áõÝ»óáÕ ÷³ëï»ñÇ Ñ³ëï³ïÙ³Ý í»ñ³µ»ñÛ³É | F100: 1 | G100: 7 | H100: 3 | I100: 4 | J100: 0 | K100: 4 | L100: 4 | M100: 0 | N100: 0 | O100: 0 | P100: 0 | Q100: 0 | R100: 0 | S100: 0 | T100: 4 | U100: 0 | V100: 4 | W100: 0 | X100: 0 | Y100: 0 | Z100: =F100+H100-T100-U100 -> 0 | AA100: 0
A101: 8.7.1 | C101: ²ÝÓ³Ýó ³½·³Ïó³Ï³Ý Ï³åÁ Ñ³ëï³ï»Éáõ í»ñ³µ»ñÛ³É | F101: 3 | G101: 21 | H101: 20 | I101: 1 | J101: 0 | K101: 23 | L101: 16 | M101: 1 | N101: 3 | O101: 3 | P101: 0 | Q101: 3 | R101: 0 | S101: 0 | T101: 23 | U101: 0 | V101: 24 | W101: 1 | X101: 0 | Y101: 0 | Z101: =F101+H101-T101-U101 -> 0 | AA101: 1
A102: 8.7.2 | C102: ²ÝÓÇª áõñÇßÇ ËÝ³ÙùÇ ï³Ï ·ïÝí»Éáõ í»ñ³µ»ñÛ³É | F102: 0 | G102: 0 | H102: 0 | I102: 0 | J102: 0 | K102: 0 | L102: 0 | M102: 0 | N102: 0 | O102: 0 | P102: 0 | Q102: 0 | R102: 0 | S102: 0 | T102: 0 | U102: 0 | V102: 0 | W102: 0 | X102: 0 | Y102: 0 | Z102: =F102+H102-T102-U102 -> 0 | AA102: 0
A103: 8.7.3 | C103: ÌÝÝ¹Û³Ý, áñ¹»·ñÙ³Ý, ³ÙáõëÝáõÃÛ³Ý, ³å³Ñ³ñ½³ÝÇ ¨ Ù³Ñí³Ý ·ñ³ÝóÙ³Ý í»ñ³µ»ñÛ³É | F103: 0 | G103: 14 | H103: 12 | I103: 1 | J103: 1 | K103: 12 | L103: 11 | M103: 0 | N103: 1 | O103: 0 | P103: 0 | Q103: 0 | R103: 0 | S103: 0 | T103: 12 | U103: 0 | V103: 13 | W103: 1 | X103: 0 | Y103: 0 | Z103: =F103+H103-T103-U103 -> 0 | AA103: 0
... A109: 8.7.9 | C109: ²ÝÑ³ÕÃ³Ñ³ñ»ÉÇ áõÅÇ ³éÏ³ÛáõÃÛ³Ý í»ñ³µ»ñÛ³É | F109: 0 | G109: 0 | H109: 0 | I109: 0 | J109: 0 | K109: 0 | L109: 0 | M109: 0 | N109: 0 | O109: 0 | P109: 0 | Q109: 0 | R109: 0 | S109: 0 | T109: 0 | U109: 0 | V109: 0 | W109: 0 | X109: 0 | Y109: 0 | Z109: =F109+H109-T109-U109 -> 0 | AA109: 0
A110: 8.7.10 | B110: ³í»É³óí»É ¿ | C110: úñ»Ýùáí Ý³Ë³ï»ëí³Í ³ÛÉ Çñ³í³µ³Ý³Ï³Ý ÷³ëï»ñÇ í»ñ³µ»ñÛ³É | F110: 0 | G110: 0 | H110: 0 | I110: 0 | J110: 0 | K110: 0 | L110: 0 | M110: 0 | N110: 0 | O110: 0 | P110: 0 | Q110: 0 | R110: 0 | S110: 0 | T110: 0 | U110: 0 | V110: 0 | W110: 0 | X110: 0 | Y110: 0 | Z110: =F110+H110-T110-U110 -> 0 | AA110: 0
A111: 8.8 | C111: Àëï Ý»ñÏ³Û³óÝáÕÇ ¨ ûñ¹»ñ³ÛÇÝ Ïáñóñ³Í ³ñÅ»ÃÕÃ»ñáí Ñ³í³ëïí³Í Çñ³íáõÝùÝ»ñÁ í»ñ³Ï³Ý·Ý»Éáõ í»ñ³µ»ñÛ³É | F111: 0 | G111: 0 | H111: 0 | I111: 0 | J111: 0 | K111: 0 | L111: 0 | M111: 0 | N111: 0 | O111: 0 | P111: 0 | Q111: 0 | R111: 0 | S111: 0 | T111: 0 | U111: 0 | V111: 0 | W111: 0 | X111: 0 | Y111: 0 | Z111: =F111+H111-T111-U111 -> 0 | AA111: 0
A112: 8.9 | B112: ուժը կորցրել է | C112: Ð³ñÏ³¹Çñ Ï³ï³ñáÕÇ ¹ÇÙáõÙáí ÏáÕÙ»ñÇ Ñ³ßïáõÃÛ³Ý Ñ³Ù³Ó³ÛÝáõÃÛ³Ý ÑÇÙ³Ý íñ³ ¹³ï³ñ³ÝÇª ·áñÍÝ Áëï ¿áõÃÛ³Ý ÉáõÍáÕ ¹³ï³Ï³Ý ³ÏïÇ í»ñ³Ý³ÛÙ³Ý í»ñ³µ»ñÛ³É | F112: 0 | G112: 0 | H112: 0 | I112: 0 | J112: 0 | K112: 0 | L112: 0 | M112: 0 | N112: 0 | O112: 0 | P112: 0 | Q112: 0 | R112: 0 | S112: 0 | T112: 0 | U112: 0 | V112: 0 | W112: 0 | X112: 0 | Y112: 0 | Z112: =F112+H112-T112-U112 -> 0 | AA112: 0
A113: 8.10 | C113: ²ÛÉ í»×»ñ | F113: 0 | G113: 3 | H113: 1 | I113: 2 | J113: 0 | K113: 0 | L113: 0 | M113: 0 | N113: 0 | O113: 0 | P113: 0 | Q113: 0 | R113: 0 | S113: 0 | T113: 0 | U113: 1 | V113: 0 | W113: 0 | X113: 0 | Y113: 0 | Z113: =F113+H113-T113-U113 -> 0 | AA113: 0
A114: 9. | C114: Ð³ïáõÏ Ñ³Ûó³ÛÇÝ í³ñáõÛÃÇ ·áñÍ»ñ | F114: =F115+F116+F117 -> 0 | G114: =G115+G116+G117 -> 0 | H114: =H115+H116+H117 -> 0 | I114: =I115+I116+I117 -> 0 | J114: =J115+J116+J117 -> 0 | K114: =K115+K116+K117 -> 0 | L114: =L115+L116+L117 -> 0 | M114: =M115+M116+M117 -> 0 | ... AA114: =AA115+AA116+AA117 -> 0
A115: 9.1 | C115: ø³Õ³ù³óáõ ÏÛ³ÝùÇÝ Ï³Ù ³éáÕçáõÃÛ³ÝÝ ëå³éÝ³óáÕ íï³Ý·Ç í»ñ³µ»ñÛ³É | F115: 0 | G115: 0 | H115: 0 | I115: 0 | J115: 0 | K115: 0 | L115: 0 | M115: 0 | N115: 0 | O115: 0 | P115: 0 | Q115: 0 | R115: 0 | S115: 0 | T115: 0 | U115: 0 | V115: 0 | W115: 0 | X115: 0 | Y115: 0 | Z115: =F115+H115-T115-U115 -> 0 | AA115: 0
A116: 9.2 | C116: ÐÐ Î»ÝïñáÝ³Ï³Ý µ³ÝÏÇ ¨ ³Ýí×³ñáõÝ³Ï µ³ÝÏÇ Ï³Ù í³ñÏ³ÛÇÝ Ï³½Ù³Ï»ñåáõÃÛ³Ý Å³Ù³Ý³Ï³íáñ ³¹ÙÇÝÇëïñ³óÇ³ÛÇ áñáßáõÙÝ»ñÇ µáÕáù³ñÏÙ³Ý í»ñ³µ»ñÛ³É | F116: 0 | G116: 0 | H116: 0 | I116: 0 | J116: 0 | K116: 0 | L116: 0 | M116: 0 | N116: 0 | O116: 0 | P116: 0 | Q116: 0 | R116: 0 | S116: 0 | T116: 0 | U116: 0 | V116: 0 | W116: 0 | X116: 0 | Y116: 0 | Z116: =F116+H116-T116-U116 -> 0 | AA116: 0
A117: 9.3 | C117: ²ÛÉ í»×»ñ | F117: 0 | G117: 0 | H117: 0 | I117: 0 | J117: 0 | K117: 0 | L117: 0 | M117: 0 | N117: 0 | O117: 0 | P117: 0 | Q117: 0 | R117: 0 | S117: 0 | T117: 0 | U117: 0 | V117: 0 | W117: 0 | X117: 0 | Y117: 0 | Z117: =F117+H117-T117-U117 -> 0 | AA117: 0
...

Sheet MALATYA
A1: Ð²ÞìºîìàôÂÚàôÜ
A2: ø²Ô²ø²òÆ²Î²Ü ¶àðÌºðÆ øÜÜàôÂÚ²Ü ìºð²´ºðÚ²È
A3: Հավելված 2 Հայաստանի Հանրապետության Դատարանների նախագահների խորհրդի 2007թ. դեկտեմբերի 21-ի թիվ 23Լ որոշման
A5: êïáõ·Çã Ñ³í³ë³ñáõÙÝ»ñª 2=3+4+5, 1+3=15+16+21, 6=7+8+9+10, 10=11+12+13, 15=6+14, | F5: ²Ý³í³ñï ·áñÍ»ñÇ ÙÝ³óáñ¹Á Ñ³ßí»ïáõ Å³Ù³Ý³Ï³ßñç³ÝÇ ëÏ½µáõÙ | G5: êï³óí³Í Ñ³Ûó»ñÇ,¹ÇÙáõÙÝ»ñÇ (·áñÍ»ñ)ù³Ý³ÏÁ | K5: ²í³ñïí»É »Ý ·áñÍ»ñ Ñ³ßí»ïáõ Å³Ù³Ý³Ï³ßñç³ÝáõÙ | U5: ¶áñÍÝ áõÕ³ñÏí»É ¿ Áëï ÁÝ¹¹³ïáõÃÛ³Ý | V5: Øï»É »Ý ûñÇÝ³Ï³Ý áõÅÇ Ù»ç | W5: ´áÕáù³ñÏí»É »Ý í»ñ³ùÝÝÇã ¹³ï³ñ³Ý | Z5: ²Ý³í³ñï ·áñÍ»ñÇ ÙÝ³óáñ¹Á Ñ³ßí»ïáõ Å³Ù³Ý³Ï³ßñç³ÝÇ í»ñçáõÙ | AA5: ²Û¹ ÃíáõÙª Ï³ë»óí³Í
G8: ÀÝ¹³Ù»ÝÁ | H8: ²Û¹ ÃíáõÙª ÁÝ¹áõÝí»É ¿ í³ñáõÛÃ | I8: ²Û¹ ÃíáõÙª í»ñ³¹³ñÓí»É ¿ | J8: ²Û¹ ÃíáõÙª Ñ³Ûó»ñÇ (¹ÇÙáõÙÝ»ñÇ) ÁÝ¹áõÝáõÙÁ Ù»ñÅí»É ¿ | K8: ÀÝ¹³Ù»ÝÁ ³í³ñïí»É »Ý ·áñÍ»ñ í×éÇ Ï³Û³óáõÙáí | L8: ²Û¹ ÃíáõÙª Ñ³ÛóÇ µ³í³ñ³ñÙ³Ùµ | M8: ²Û¹ ÃíáõÙª Ñ³ÛóÇ Ù³ëÝ³ÏÇ µ³í³ñ³ñÙ³Ùµ | N8: ²Û¹ ÃíáõÙª Ñ³ÛóÇ Ù»ñÅÙ³Ùµ | O8: ²Û¹ ÃíáõÙª Ï³ñ×í»É »Ý | S8: Ð³ÛóÁ ÃáÕÝí»É ¿ ³é³Ýó ùÝÝáõÃÛ³Ý | T8: ÀÝ¹³Ù»ÝÝ ³í³ñïí»É »Ý ·áñÍ»ñ | W8: Ï³Û³óí³Í í×ÇéÝ»ñÇ ¹»Ù | X8: ³é³Ýó ùÝÝáõÃÛ³Ý ÃáÕÝ»Éáõ Ù³ëÇÝ áñáßáõÙÝ»ñÇ ¹»Ù | Y8: ÙÇç³ÝÏÛ³É ¹³ï³Ï³Ý ³Ïï»ñÇ ¹»Ù
O11: ÀÝ¹³Ù»ÝÁ Ï³ñ×í»É »Ý | P11: ²Û¹ ÃíáõÙª Ñ³ëï³ïí»É ¿ ÏÝùí³Í Ñ³ßïáõÃÛ³Ý Ñ³Ù³Ó³ÛÝáõÃÛáõÝÁ | Q11: ²Û¹ ÃíáõÙª Ñ³óÇó, ¹ÇÙáõÙÇó Ññ³Å³ñí»Éáõ ÑÇÙùáí | R11: ²Û¹ ÃíáõÙª ³ÛÉ ÑÇÙùáí
A19: Æñ³í³Ñ³ñ³µ»ñáõÃÛáõÝÝ»ñÇ ï»ë³ÏÝ»ñÁ | F19: 1 | G19: 2 | H19: 3 | I19: 4 | J19: 5 | K19: 6 | L19: 7 | M19: 8 | N19: 9 | O19: 10 | P19: 11 | Q19: 12 | R19: 13 | S19: 14 | T19: 15 | U19: 16 | V19: 17 | W19: 18 | X19: 19 | Y19: 20 | Z19: 21 | AA19: 22
A20: 1. | C20: ¶áõÛù³ÛÇÝ í»×»ñ | F20: 0 | G20: 0 | H20: 0 | I20: 0 | J20: 0 | K20: 0 | L20: 0 | M20: 0 | N20: 0 | O20: 0 | P20: 0 | Q20: 0 | R20: 0 | S20: 0 | T20: 0 | U20: 0 | V20: 0 | W20: 0 | X20: 0 | Y20: 0 | Z20: 0 | AA20: 0
A21: 1.1 | C21: ¶áõÛùÇ ÝÏ³ïÙ³Ùµ ë»÷³Ï³ÝáõÃÛ³Ý Çñ³íáõÝùÁ ×³Ý³ã»Éáõ í»ñ³µ»ñÛ³É | F21: 4 | G21: 31 | H21: 27 | I21: 4 | J21: 0 | K21: 20 | L21: 15 | M21: 2 | N21: 1 | O21: 2 | P21: 1 | Q21: 1 | R21: 0 | S21: 0 | T21: 20 | U21: 0 | V21: 14 | W21: 6 | X21: 0 | Y21: 0 | Z21: 11 | AA21: 5
A22: 1.1.1 | C22: ²Û¹ ÃíáõÙª Ó»éùµ»ñÙ³Ý í³Õ»ÙáõÃÛ³Ý áõÅáí | F22: 7 | G22: 18 | H22: 16 | I22: 2 | J22: 0 | K22: 16 | L22: 9 | M22: 0 | N22: 3 | O22: 4 | P22: 1 | Q22: 1 | R22: 2 | S22: 0 | T22: 16 | U22: 0 | V22: 12 | W22: 4 | X22: 0 | Y22: 0 | Z22: 7 | AA22: 2
A23: 1.1.2 | B23: ուժը կորցրել է | C23: ²Û¹ ÃíáõÙª ïÇñ³½áõñÏ ·áõÛùÇ ÝÏ³ïÙ³Ùµ | F23: 0 | G23: 3 | H23: 1 | I23: 2 | J23: 0 | K23: 1 | L23: 1 | M23: 0 | N23: 0 | O23: 0 | P23: 0 | Q23: 0 | R23: 0 | S23: 0 | T23: 1 | U23: 0 | V23: 1 | W23: 0 | X23: 0 | Y23: 0 | Z23: 0 | AA23: 0
A24: 1.1.3 | B24: ուժը կորցրել է | C24: ²Û¹ ÃíáõÙª ÇÝùÝ³Ï³Ù Ï³éáõÛóÇ ÝÏ³ïÙ³Ùµ | F24: 0 | G24: 0 | H24: 0 | I24: 0 | J24: 0 | K24: 0 | L24: 0 | M24: 0 | N24: 0 | O24: 0 | P24: 0 | Q24: 0 | R24: 0 | S24: 0 | T24: 0 | U24: 0 | V24: 0 | W24: 0 | X24: 0 | Y24: 0 | Z24: 0 | AA24: 0
A25: 1.2 | C25: ê»÷³Ï³ÝáõÃÛ³Ý Çñ³íáõÝùÇ ¹³¹³ñ»óÙ³Ý í»ñ³µ»ñÛ³É | F25: 2 | G25: 1 | H25: 1 | I25: 0 | J25: 0 | K25: 2 | L25: 1 | M25: 0 | N25: 1 | O25: 0 | P25: 0 | Q25: 0 | R25: 0 | S25: 0 | T25: 2 | U25: 0 | V25: 1 | W25: 1 | X25: 0 | Y25: 0 | Z25: 1 | AA25: 1
A26: 1.3 | C26: ¶áõÛùÇ ÝÏ³ïÙ³Ùµ û·ï³·áñÍÙ³Ý Çñ³íáõÝùÁ ×³Ý³ã»Éáõ í»ñ³µ»ñÛ³É | F26: 1 | G26: 3 | H26: 0 | I26: 2 | J26: 1 | K26: 1 | L26: 0 | M26: 0 | N26: 1 | O26: 0 | P26: 0 | Q26: 0 | R26: 0 | S26: 0 | T26: 1 | U26: 0 | V26: 0 | W26: 1 | X26: 0 | Y26: 0 | Z26: 0 | AA26: 0
A27: 1.3.1 | C27: ²Û¹ ÃíáõÙª µÝ³Ïû·ï³·áñÍÙ³Ý Çñ³íáõÝùÁ ×³Ý³ã»Éáõ í»ñ³µ»ñÛ³É | F27: 1 | G27: 0 | H27: 0 | I27: 0 | J27: 0 | K27: 1 | L27: 0 | M27: 0 | N27: 0 | O27: 1 | P27: 0 | Q27: 0 | R27: 1 | S27: 0 | T27: 1 | U27: 0 | V27: 1 | W27: 0 | X27: 0 | Y27: 0 | Z27: 0 | AA27: 0
A28: 1.3.2 | C28: ²Û¹ ÃíáõÙª ÑáÕ³Ù³ëÇ ÝÏ³ïÙ³Ùµ û·ï³·áñÍÙ³Ý Çñ³íáõÝùÁ ×³Ý³ã»Éáõ í»ñ³µ»ñÛ³É | F28: 1 | G28: 0 | H28: 0 | I28: 0 | J28: 0 | K28: 1 | L28: 0 | M28: 0 | N28: 0 | O28: 1 | P28: 0 | Q28: 1 | R28: 0 | S28: 0 | T28: 1 | U28: 0 | V28: 0 | W28: 1 | X28: 0 | Y28: 0 | Z28: 0 | AA28: 0
A29: 1.4 | C29: ¶áõÛùÇ ÝÏ³ïÙ³Ùµ û·ï³·áñÍÙ³Ý Çñ³íáõÝùÁ ¹³¹³ñ»óÝ»Éáõ í»ñ³µ»ñÛ³É | F29: 1 | G29: 0 | H29: 0 | I29: 0 | J29: 0 | K29: 1 | L29: 0 | M29: 0 | N29: 0 | O29: 1 | P29: 0 | Q29: 1 | R29: 0 | S29: 0 | T29: 1 | U29: 0 | V29: 1 | W29: 0 | X29: 0 | Y29: 0 | Z29: 0 | AA29: 0
A30: 1.4.1 | C30: ²Û¹ ÃíáõÙª µÝ³Ïû·ï³·áñÍÙ³Ý Çñ³íáõÝùÁ ¹³¹³ñ»óÝ»Éáõ í»ñ³µ»ñÛ³É | F30: 2 | G30: 6 | H30: 4 | I30: 2 | J30: 0 | K30: 4 | L30: 2 | M30: 0 | N30: 1 | O30: 1 | P30: 1 | Q30: 0 | R30: 0 | S30: 0 | T30: 4 | U30: 0 | V30: 3 | W30: 1 | X30: 0 | Y30: 0 | Z30: 2 | AA30: 2
A31: 1.4.1/1 | C31: ²Û¹ ÃíáõÙª ÷áËÑ³ïáõóÙ³Ùµ | F31: 0 | G31: 1 | H31: 1 | I31: 0 | J31: 0 | K31: 1 | L31: 0 | M31: 1 | N31: 0 | O31: 0 | P31: 0 | Q31: 0 | R31: 0 | S31: 0 | T31: 1 | U31: 0 | V31: 1 | W31: 0 | X31: 0 | Y31: 0 | Z31: 0 | AA31: 0
A32: 1.5 | C32: ´Ý³Ï³ñ³ÝÇó/ ï³ñ³ÍùÇó/ íï³ñ»Éáõ í»ñ³µ»ñÛ³É | F32: 8 | G32: 10 | H32: 10 | I32: 0 | J32: 0 | K32: 6 | L32: 5 | M32: 0 | N32: 1 | O32: 0 | P32: 0 | Q32: 0 | R32: 0 | S32: 0 | T32: 6 | U32: 0 | V32: 2 | W32: 4 | X32: 0 | Y32: 0 | Z32: 12 | AA32: 7
A33: 1.6 | C33: ¶áõÛùÝ áõñÇßÇ ³åûñÇÝÇ ïÇñ³å»ïáõÙÇó »ï í»ñ³¹³ñÓÝ»Éáõ í»ñ³µ»ñÛ³É | F33: 1 | G33: 13 | H33: 12 | I33: 1 | J33: 0 | K33: 8 | L33: 5 | M33: 0 | N33: 2 | O33: 1 | P33: 0 | Q33: 1 | R33: 0 | S33: 0 | T33: 8 | U33: 0 | V33: 4 | W33: 4 | X33: 0 | Y33: 0 | Z33: 5 | AA33: 0
A34: 1.6.1 | B34: ավելացվել է | C34: ´³ñ»ËÇÕ× Ó»éùµ»ñáÕÇó Çñ ·áõÛùÁ Ñ»ï å³Ñ³Ýç»Éáõ í»ñ³µ»ñÛ³É | F34: 0 | G34: 2 | H34: 2 | I34: 0 | J34: 0 | K34: 1 | L34: 1 | M34: 0 | N34: 0 | O34: 0 | P34: 0 | Q34: 0 | R34: 0 | S34: 0 | T34: 1 | U34: 0 | V34: 1 | W34: 0 | X34: 0 | Y34: 0 | Z34: 1 | AA34: 0
A35: 1.7 | C35: îÇñ³å»ïáõÙÇó ½ñÏ»Éáõ Ñ»ï ãÏ³åí³Í Çñ³íáõÝùÝ»ñÇ Ë³ËïáõÙÁ í»ñ³óÝ»Éáõ í»ñ³µ»ñÛ³É | F35: 3 | G35: 2 | H35: 2 | I35: 0 | J35: 0 | K35: 4 | L35: 2 | M35: 1 | N35: 0 | O35: 1 | P35: 0 | Q35: 0 | R35: 1 | S35: 0 | T35: 4 | U35: 0 | V35: 3 | W35: 1 | X35: 0 | Y35: 0 | Z35: 1 | AA35: 0
A36: 1.8 | C36: ÀÝ¹Ñ³Ýáõñ µ³ÅÝ³ÛÇÝ ë»÷³Ï³ÝáõÃÛáõÝÇó µ³ÅÇÝÝ ³é³ÝÓÝ³óÝ»Éáõ í»ñ³µ»ñÛ³É | F36: 31 | G36: 41 | H36: 37 | I36: 4 | J36: 0 | K36: 46 | L36: 20 | M36: 5 | N36: 1 | O36: 20 | P36: 6 | Q36: 9 | R36: 5 | S36: 0 | T36: 46 | U36: 1 | V36: 35 | W36: 10 | X36: 0 | Y36: 0 | Z36: 21 | AA36: 15
A37: 1.8.1 | B37: ավելացվել է | C37: Ð³Ù³ï»Õ ë»÷³Ï³ÝáõÃÛ³Ý Ý»ñùá ·ïÝíáÕ ·áõÛùÁ µ³Å³Ý»Éáõ ¨ ¹ñ³ÝÇó µ³ÅÇÝÝ ³é³ÝÓÝ³óÝ»Éáõ í»ñ³µ»ñÛ³É | F37: 0 | G37: 13 | H37: 12 | I37: 1 | J37: 0 | K37: 6 | L37: 2 | M37: 1 | N37: 0 | O37: 3 | P37: 0 | Q37: 2 | R37: 1 | S37: 0 | T37: 6 | U37: 0 | V37: 5 | W37: 1 | X37: 0 | Y37: 0 | Z37: 6 | AA37: 5
A38: 1.8.3 | B38: ավելացվել է | C38: ¶áõÛùÇ íñ³ µéÝ³·³ÝÓáõÙ ï³ñ³Í»Éáõ å³Ñ³ÝçÇ Ù³ëÇÝ | F38: 0 | G38: 1 | H38: 1 | I38: 0 | J38: 0 | K38: 1 | L38: 0 | M38: 0 | N38: 0 | O38: 1 | P38: 0 | Q38: 1 | R38: 0 | S38: 0 | T38: 1 | U38: 0 | V38: 1 | W38: 0 | X38: 0 | Y38: 0 | Z38: 0 | AA38: 0
A39: 1.9 | C39: ²ÛÉ í»×»ñ | F39: 8 | G39: 39 | H39: 34 | I39: 5 | J39: 0 | K39: 20 | L39: 10 | M39: 1 | N39: 2 | O39: 7 | P39: 1 | Q39: 5 | R39: 1 | S39: 0 | T39: 20 | U39: 1 | V39: 12 | W39: 7 | X39: 0 | Y39: 0 | Z39: 21 | AA39: 8
A40: 2. | C40: ¶áñÍ³ñùÝ»ñÇ Ñ»ï Ï³åí³Í í»×»ñ | F40: 0 | G40: 0 | H40: 0 | I40: 0 | J40: 0 | K40: 0 | L40: 0 | M40: 0 | N40: 0 | O40: 0 | P40: 0 | Q40: 0 | R40: 0 | S40: 0 | T40: 0 | U40: 0 | V40: 0 | W40: 0 | X40: 0 | Y40: 0 | Z40: 0 | AA40: 0
A41: 2.1 | C41: ·áñÍ³ñùÝ»ñÇ ³Ýí³í»ñáõÃÛ³Ý Ñ»ï Ï³åí³Í í»×»ñ | F41: 2 | G41: 3 | H41: 2 | I41: 1 | J41: 0 | K41: 2 | L41: 1 | M41: 0 | N41: 0 | O41: 1 | P41: 1 | Q41: 0 | R41: 0 | S41: 0 | T41: 2 | U41: 0 | V41: 2 | W41: 0 | X41: 0 | Y41: 0 | Z41: 2 | AA41: 1
A42: 2.1.1 | C42: ³Û¹ ÃíáõÙ`գáñÍ³ñùÁ íÇ×³Ñ³ñáõÛó ×³Ý³ã»Éáõ í»ñ³µ»ñÛ³É | F42: 0 | G42: 1 | H42: 1 | I42: 0 | J42: 0 | K42: 1 | L42: 0 | M42: 0 | N42: 0 | O42: 1 | P42: 0 | Q42: 0 | R42: 1 | S42: 0 | T42: 1 | U42: 0 | V42: 1 | W42: 0 | X42: 0 | Y42: 0 | Z42: 0 | AA42: 0
A43: 2.1.2 | C43: ³Û¹ ÃíáõÙ` ·áñÍ³ñùÇ ³éáãÝãáõÃÛ³Ý Ñ»ï¨³ÝùÝ»ñ ÏÇñ³é»Éáõ í»ñ³µ»ñÛ³É | F43: 2 | G43: 6 | H43: 5 | I43: 1 | J43: 0 | K43: 5 | L43: 3 | M43: 0 | N43: 2 | O43: 0 | P43: 0 | Q43: 0 | R43: 0 | S43: 0 | T43: 5 | U43: 0 | V43: 3 | W43: 2 | X43: 0 | Y43: 0 | Z43: 2 | AA43: 0
A44: 2.2 | C44: ¶áñÍ³ñùÁ í³í»ñ ×³Ý³ã»Éáõ í»ñ³µ»ñÛ³É | F44: 1 | G44: 1 | H44: 1 | I44: 0 | J44: 0 | K44: 2 | L44: 0 | M44: 0 | N44: 1 | O44: 1 | P44: 1 | Q44: 0 | R44: 0 | S44: 0 | T44: 2 | U44: 0 | V44: 1 | W44: 1 | X44: 0 | Y44: 0 | Z44: 0 | AA44: 0
A45: 2.3 | C45: ¶áñÍ³ñùÇó Í³·áÕ Çñ³íáõÝùÝ»ñÁ ·ñ³Ýó»Éáõ í»ñ³µ»ñÛ³É | F45: 0 | G45: 0 | H45: 0 | I45: 0 | J45: 0 | K45: 0 | L45: 0 | M45: 0 | N45: 0 | O45: 0 | P45: 0 | Q45: 0 | R45: 0 | S45: 0 | T45: 0 | U45: 0 | V45: 0 | W45: 0 | X45: 0 | Y45: 0 | Z45: 0 | AA45: 0
A46: 2.4 | C46: ä³ÛÙ³Ý³·ÇñÝ ³Ýí³í»ñ ×³Ý³ã»Éáõ í»ñ³µ»ñÛ³É | F46: 4 | G46: 10 | H46: 7 | I46: 1 | J46: 2 | K46: 5 | L46: 2 | M46: 0 | N46: 1 | O46: 2 | P46: 0 | Q46: 0 | R46: 2 | S46: 0 | T46: 5 | U46: 1 | V46: 1 | W46: 3 | X46: 0 | Y46: 0 | Z46: 5 | AA46: 1
A47: 2.5 | C47: ä³ÛÙ³Ý³·ñÇÁ í³í»ñ ×³Ý³ã»Éáõ í»ñ³µ»ñÛ³É | F47: 0 | G47: 1 | H47: 1 | I47: 0 | J47: 0 | K47: 1 | L47: 1 | M47: 0 | N47: 0 | O47: 0 | P47: 0 | Q47: 0 | R47: 0 | S47: 0 | T47: 1 | U47: 0 | V47: 0 | W47: 1 | X47: 0 | Y47: 0 | Z47: 0 | AA47: 0
A48: 2.6 | B48: ուժը կորցրել է | C48: ä³ÛÙ³Ý³·ñÇó Í³·áÕ Çñ³íáõÝùÝ»ñÁ ·ñ³Ýó»Éáõ í»ñ³µ»ñÛ³É | F48: 0 | G48: 1 | H48: 1 | I48: 0 | J48: 0 | K48: 1 | L48: 0 | M48: 0 | N48: 0 | O48: 1 | P48: 0 | Q48: 1 | R48: 0 | S48: 0 | T48: 1 | U48: 0 | V48: 1 | W48: 0 | X48: 0 | Y48: 0 | Z48: 0 | AA48: 0
A49: 2.7 | C49: ä³ÛÙ³Ý³·ÇñÁ ÷á÷áË»Éáõ ¨ ÉáõÍ»Éáõ í»ñ³µ»ñÛ³É | F49: 10 | G49: 7 | H49: 7 | I49: 0 | J49: 0 | K49: 10 | L49: 8 | M49: 1 | N49: 0 | O49: 1 | P49: 1 | Q49: 0 | R49: 0 | S49: 0 | T49: 10 | U49: 1 | V49: 7 | W49: 2 | X49: 0 | Y49: 0 | Z49: 6 | AA49: 4
A50: 2.8 | C50: ä³ÛÙ³Ý³·Çñ ÏÝù»ÉáõÝ å³ñï³íáñ»óÝ»Éáõ í»ñ³µ»ñÛ³É | F50: 1 | G50: 2 | H50: 1 | I50: 1 | J50: 0 | K50: 2 | L50: 1 | M50: 0 | N50: 0 | O50: 1 | P50: 0 | Q50: 1 | R50: 0 | S50: 0 | T50: 2 | U50: 0 | V50: 2 | W50: 0 | X50: 0 | Y50: 0 | Z50: 0 | AA50: 0
A51: 2.9 | C51: ²ÛÉ í»×»ñ | F51: 2 | G51: 12 | H51: 9 | I51: 3 | J51: 0 | K51: 9 | L51: 5 | M51: 0 | N51: 2 | O51: 2 | P51: 0 | Q51: 2 | R51: 0 | S51: 0 | T51: 9 | U51: 0 | V51: 7 | W51: 2 | X51: 0 | Y51: 0 | Z51: 2 | AA51: 1
A52: 3. | C52: Ä³é³Ý·áõÃÛ³Ý í»ñ³µ»ñÛ³É í»×»ñ | F52: 0 | G52: 0 | H52: 0 | I52: 0 | J52: 0 | K52: 0 | L52: 0 | M52: 0 | N52: 0 | O52: 0 | P52: 0 | Q52: 0 | R52: 0 | S52: 0 | T52: 0 | U52: 0 | V52: 0 | W52: 0 | X52: 0 | Y52: 0 | Z52: 0 | AA52: 0
A53: 3.1 | C53: Îï³ÏÝ ³Ýí³í»ñ ×³Ý³ã»Éáõ í»ñ³µ»ñÛ³É | F53: 0 | G53: 1 | H53: 1 | I53: 0 | J53: 0 | K53: 0 | L53: 0 | M53: 0 | N53: 0 | O53: 0 | P53: 0 | Q53: 0 | R53: 0 | S53: 0 | T53: 0 | U53: 0 | V53: 0 | W53: 0 | X53: 0 | Y53: 0 | Z53: 1 | AA53: 1
A54: 3.2 | C54: ²Ý³ñÅ³Ý Å³é³Ý· ×³Ý³ã»Éáõ í»ñ³µ»ñÛ³É | F54: 0 | G54: 0 | H54: 0 | I54: 0 | J54: 0 | K54: 0 | L54: 0 | M54: 0 | N54: 0 | O54: 0 | P54: 0 | Q54: 0 | R54: 0 | S54: 0 | T54: 0 | U54: 0 | V54: 0 | W54: 0 | X54: 0 | Y54: 0 | Z54: 0 | AA54: 0
A55: 3.3 | C55: Ä³é³Ý·áõÃÛáõÝÁ µ³Å³Ý»Éáõ í»ñ³µ»ñÛ³É | F55: 2 | G55: 2 | H55: 2 | I55: 0 | J55: 0 | K55: 4 | L55: 1 | M55: 0 | N55: 1 | O55: 2 | P55: 1 | Q55: 1 | R55: 0 | S55: 0 | T55: 4 | U55: 0 | V55: 2 | W55: 2 | X55: 0 | Y55: 0 | Z55: 0 | AA55: 0
A56: 3.4 | C56: ¶áõÛùÝ ³ÝÅ³é³Ý· ×³Ý³ã»Éáõ í»ñ³µ»ñÛ³É | F56: 1 | G56: 1 | H56: 0 | I56: 1 | J56: 0 | K56: 1 | L56: 0 | M56: 1 | N56: 0 | O56: 0 | P56: 0 | Q56: 0 | R56: 0 | S56: 0 | T56: 1 | U56: 0 | V56: 1 | W56: 0 | X56: 0 | Y56: 0 | Z56: 0 | AA56: 0
A57: 3.5 | B57: ուժը կորցրել է | C57: Àëï ûñ»ÝùÇ Å³é³Ý·áõÃÛ³Ý Çñ³íáõÝùÇ íÏ³Û³Ï³ÝÝ ³Ýí³í»ñ ×³Ý³ã»Éáõ í»ñ³µ»ñÛ³É | F57: 0 | G57: 0 | H57: 0 | I57: 0 | J57: 0 | K57: 0 | L57: 0 | M57: 0 | N57: 0 | O57: 0 | P57: 0 | Q57: 0 | R57: 0 | S57: 0 | T57: 0 | U57: 0 | V57: 0 | W57: 0 | X57: 0 | Y57: 0 | Z57: 0 | AA57: 0
A58: 3.6 | C58: Ä³é³Ý·áõÃÛáõÝÝ ÁÝ¹áõÝ»Éáõ µ³ó ÃáÕÝí³Í Å³ÙÏ»ïÁ Ñ³ñ·»ÉÇ Ñ³Ù³ñ»Éáõ í»ñ³µ»ñÛ³É | F58: 1 | G58: 2 | H58: 2 | I58: 0 | J58: 0 | K58: 3 | L58: 2 | M58: 0 | N58: 1 | O58: 0 | P58: 0 | Q58: 0 | R58: 0 | S58: 0 | T58: 3 | U58: 0 | V58: 2 | W58: 1 | X58: 0 | Y58: 0 | Z58: 0 | AA58: 0
A59: 3.7 | C59: ²ÛÉ í»×»ñ | F59: 4 | G59: 3 | H59: 3 | I59: 0 | J59: 0 | K59: 5 | L59: 1 | M59: 0 | N59: 2 | O59: 2 | P59: 0 | Q59: 2 | R59: 0 | S59: 0 | T59: 5 | U59: 0 | V59: 2 | W59: 3 | X59: 0 | Y59: 0 | Z59: 2 | AA59: 2
A60: 4 | C60: ÀÝï³Ý»Ï³Ý Çñ³í³Ñ³ñ³µ»ñáõÃÛáõÝÝ»ñÇó Í³·áÕ í»×»ñ | F60: 0 | G60: 0 | H60: 0 | I60: 0 | J60: 0 | K60: 0 | L60: 0 | M60: 0 | N60: 0 | O60: 0 | P60: 0 | Q60: 0 | R60: 0 | S60: 0 | T60: 0 | U60: 0 | V60: 0 | W60: 0 | X60: 0 | Y60: 0 | Z60: 0 | AA60: 0
A61: 4.1 | C61: ²ÙáõëÝ³ÉáõÍáõÃÛ³Ý í»ñ³µ»ñÛ³É | F61: 22 | G61: 110 | H61: 98 | I61: 12 | J61: 0 | K61: 95 | L61: 79 | M61: 0 | N61: 2 | O61: 14 | P61: 4 | Q61: 9 | R61: 1 | S61: 0 | T61: 95 | U61: 2 | V61: 89 | W61: 4 | X61: 0 | Y61: 0 | Z61: 23 | AA61: 1
A62: 4.2 | C62: ²ÉÇÙ»ÝïÇ å³Ñ³ÝçÇ í»ñ³µ»ñÛ³É | F62: 3 | G62: 35 | H62: 33 | I62: 2 | J62: 0 | K62: 27 | L62: 9 | M62: 11 | N62: 2 | O62: 5 | P62: 4 | Q62: 1 | R62: 0 | S62: 0 | T62: 27 | U62: 0 | V62: 24 | W62: 3 | X62: 0 | Y62: 0 | Z62: 9 | AA62: 0
A63: 4.3 | C63: ²ÉÇÙ»ÝïÇ ã³÷Á ÷á÷áË»Éáõ í»ñ³µ»ñÛ³É | F63: 1 | G63: 3 | H63: 2 | I63: 1 | J63: 0 | K63: 3 | L63: 1 | M63: 0 | N63: 1 | O63: 1 | P63: 1 | Q63: 0 | R63: 0 | S63: 0 | T63: 3 | U63: 0 | V63: 2 | W63: 1 | X63: 0 | Y63: 0 | Z63: 0 | AA63: 0
A64: 4.4 | C64: ÌÝáÕ³Ï³Ý Çñ³íáõÝùÝ»ñÇó ½ñÏ»Éáõ í»ñ³µ»ñÛ³É | F64: 1 | G64: 2 | H64: 1 | I64: 0 | J64: 1 | K64: 2 | L64: 0 | M64: 0 | N64: 1 | O64: 1 | P64: 1 | Q64: 0 | R64: 0 | S64: 0 | T64: 2 | U64: 0 | V64: 1 | W64: 1 | X64: 0 | Y64: 0 | Z64: 0 | AA64: 0
A65: 4.5 | C65: ÌÝáÕ³Ï³Ý Çñ³íáõÝùÝ»ñÁ í»ñ³Ï³Ý·Ý»Éáõ í»ñ³µ»ñÛ³É | F65: 0 | G65: 4 | H65: 4 | I65: 0 | J65: 0 | K65: 2 | L65: 1 | M65: 0 | N65: 1 | O65: 0 | P65: 0 | Q65: 0 | R65: 0 | S65: 0 | T65: 2 | U65: 0 | V65: 2 | W65: 0 | X65: 0 | Y65: 0 | Z65: 2 | AA65: 0
A66: 4.6 | C66: ºñ»Ë³ÛÇ áñ¹»·ñÙ³Ý í»ñ³µ»ñÛ³É | F66: 0 | G66: 5 | H66: 4 | I66: 0 | J66: 1 | K66: 2 | L66: 2 | M66: 0 | N66: 0 | O66: 0 | P66: 0 | Q66: 0 | R66: 0 | S66: 0 | T66: 2 | U66: 0 | V66: 2 | W66: 0 | X66: 0 | Y66: 0 | Z66: 2 | AA66: 0
A67: 4.7 | C67: ºñ»Ë³ÛÇ áñ¹»·ñáõÙÁ í»ñ³óÝ»Éáõ í»ñ³µ»ñÛ³É | F67: 0 | G67: 0 | H67: 0 | I67: 0 | J67: 0 | K67: 0 | L67: 0 | M67: 0 | N67: 0 | O67: 0 | P67: 0 | Q67: 0 | R67: 0 | S67: 0 | T67: 0 | U67: 0 | V67: 0 | W67: 0 | X67: 0 | Y67: 0 | Z67: 0 | AA67: 0
A68: 4.8 | C68: Ð³ÛñáõÃÛáõÝÁ ×³Ý³ã»Éáõ í»ñ³µ»ñÛ³É | F68: 0 | G68: 4 | H68: 3 | I68: 1 | J68: 0 | K68: 3 | L68: 2 | M68: 0 | N68: 1 | O68: 0 | P68: 0 | Q68: 0 | R68: 0 | S68: 0 | T68: 3 | U68: 0 | V68: 3 | W68: 0 | X68: 0 | Y68: 0 | Z68: 0 | AA68: 0
A69: 4.9 | C69: ºñ»Ë³ÛÇ µÝ³ÏáõÃÛ³Ý í³ÛñÁ áñáß»Éáõ í»ñ³µ»ñÛ³É | F69: 0 | G69: 2 | H69: 2 | I69: 0 | J69: 0 | K69: 1 | L69: 1 | M69: 0 | N69: 0 | O69: 0 | P69: 0 | Q69: 0 | R69: 0 | S69: 0 | T69: 1 | U69: 0 | V69: 1 | W69: 0 | X69: 0 | Y69: 0 | Z69: 1 | AA69: 0
... A109: 8.7.9 | C109: ²ÝÑ³ÕÃ³Ñ³ñ»ÉÇ áõÅÇ ³éÏ³ÛáõÃÛ³Ý í»ñ³µ»ñÛ³É | F109: 0 | G109: 0 | H109: 0 | I109: 0 | J109: 0 | K109: 0 | L109: 0 | M109: 0 | N109: 0 | O109: 0 | P109: 0 | Q109: 0 | R109: 0 | S109: 0 | T109: 0 | U109: 0 | V109: 0 | W109: 0 | X109: 0 | Y109: 0 | Z109: 0 | AA109: 0
A110: 8.7.10 | B110: ³í»É³óí»É ¿ | C110: úñ»Ýùáí Ý³Ë³ï»ëí³Í ³ÛÉ Çñ³í³µ³Ý³Ï³Ý ÷³ëï»ñÇ í»ñ³µ»ñÛ³É | F110: 0 | G110: 1 | H110: 1 | I110: 0 | J110: 0 | K110: 1 | L110: 0 | M110: 0 | N110: 1 | O110: 0 | P110: 0 | Q110: 0 | R110: 0 | S110: 0 | T110: 1 | U110: 0 | V110: 0 | W110: 0 | X110: 0 | Y110: 0 | Z110: 0 | AA110: 0
A111: 8.8 | C111: Àëï Ý»ñÏ³Û³óÝáÕÇ ¨ ûñ¹»ñ³ÛÇÝ Ïáñóñ³Í ³ñÅ»ÃÕÃ»ñáí Ñ³í³ëïí³Í Çñ³íáõÝùÝ»ñÁ í»ñ³Ï³Ý·Ý»Éáõ í»ñ³µ»ñÛ³É | F111: 0 | G111: 0 | H111: 0 | I111: 0 | J111: 0 | K111: 0 | L111: 0 | M111: 0 | N111: 0 | O111: 0 | P111: 0 | Q111: 0 | R111: 0 | S111: 0 | T111: 0 | U111: 0 | V111: 0 | W111: 0 | X111: 0 | Y111: 0 | Z111: 0 | AA111: 0
A112: 8.9 | B112: ուժը կորցրել է | C112: Ð³ñÏ³¹Çñ Ï³ï³ñáÕÇ ¹ÇÙáõÙáí ÏáÕÙ»ñÇ Ñ³ßïáõÃÛ³Ý Ñ³Ù³Ó³ÛÝáõÃÛ³Ý ÑÇÙ³Ý íñ³ ¹³ï³ñ³ÝÇª ·áñÍÝ Áëï ¿áõÃÛ³Ý ÉáõÍáÕ ¹³ï³Ï³Ý ³ÏïÇ í»ñ³Ý³ÛÙ³Ý í»ñ³µ»ñÛ³É | F112: 0 | G112: 0 | H112: 0 | I112: 0 | J112: 0 | K112: 0 | L112: 0 | M112: 0 | N112: 0 | O112: 0 | P112: 0 | Q112: 0 | R112: 0 | S112: 0 | T112: 0 | U112: 0 | V112: 0 | W112: 0 | X112: 0 | Y112: 0 | Z112: 0 | AA112: 0
A113: 8.10 | C113: ²ÛÉ í»×»ñ | F113: 0 | G113: 0 | H113: 0 | I113: 0 | J113: 0 | K113: 0 | L113: 0 | M113: 0 | N113: 0 | O113: 0 | P113: 0 | Q113: 0 | R113: 0 | S113: 0 | T113: 0 | U113: 0 | V113: 0 | W113: 0 | X113: 0 | Y113: 0 | Z113: 0 | AA113: 0
A114: 9. | C114: Ð³ïáõÏ Ñ³Ûó³ÛÇÝ í³ñáõÛÃÇ ·áñÍ»ñ | F114: 0 | G114: 0 | H114: 0 | I114: 0 | J114: 0 | K114: 0 | L114: 0 | M114: 0 | N114: 0 | O114: 0 | P114: 0 | Q114: 0 | R114: 0 | S114: 0 | T114: 0 | U114: 0 | V114: 0 | W114: 0 | X114: 0 | Y114: 0 | Z114: 0 | AA114: 0
A115: 9.1 | C115: ø³Õ³ù³óáõ ÏÛ³ÝùÇÝ Ï³Ù ³éáÕçáõÃÛ³ÝÝ ëå³éÝ³óáÕ íï³Ý·Ç í»ñ³µ»ñÛ³É | F115: 0 | G115: 0 | H115: 0 | I115: 0 | J115: 0 | K115: 0 | L115: 0 | M115: 0 | N115: 0 | O115: 0 | P115: 0 | Q115: 0 | R115: 0 | S115: 0 | T115: 0 | U115: 0 | V115: 0 | W115: 0 | X115: 0 | Y115: 0 | Z115: 0 | AA115: 0
A116: 9.2 | C116: ÐÐ Î»ÝïñáÝ³Ï³Ý µ³ÝÏÇ ¨ ³Ýí×³ñáõÝ³Ï µ³ÝÏÇ Ï³Ù í³ñÏ³ÛÇÝ Ï³½Ù³Ï»ñåáõÃÛ³Ý Å³Ù³Ý³Ï³íáñ ³¹ÙÇÝÇëïñ³óÇ³ÛÇ áñáßáõÙÝ»ñÇ µáÕáù³ñÏÙ³Ý í»ñ³µ»ñÛ³É | F116: 0 | G116: 0 | H116: 0 | I116: 0 | J116: 0 | K116: 0 | L116: 0 | M116: 0 | N116: 0 | O116: 0 | P116: 0 | Q116: 0 | R116: 0 | S116: 0 | T116: 0 | U116: 0 | V116: 0 | W116: 0 | X116: 0 | Y116: 0 | Z116: 0 | AA116: 0
A117: 9.3 | C117: ²ÛÉ í»×»ñ | F117: 0 | G117: 0 | H117: 0 | I117: 0 | J117: 0 | K117: 0 | L117: 0 | M117: 0 | N117: 0 | O117: 0 | P117: 0 | Q117: 0 | R117: 0 | S117: 0 | T117: 0 | U117: 0 | V117: 0 | W117: 0 | X117: 0 | Y117: 0 | Z117: 0 | AA117: 0
A118: 10. | C118: Ð³ñÏ³¹Çñ Ï³ï³ñÙ³Ý ÁÝÃ³óùáõÙ Í³·³Í í»×»ñ | F118: 0 | G118: 0 | H118: 0 | I118: 0 | J118: 0 | K118: 0 | L118: 0 | M118: 0 | N118: 0 | O118: 0 | P118: 0 | Q118: 0 | R118: 0 | S118: 0 | T118: 0 | U118: 0 | V118: 0 | W118: 0 | X118: 0 | Y118: 0 | Z118: 0 | AA118: 0
A119: 10.1 | B119: ուժը կորցրել է | C119: ¸³ï³Ï³Ý ³ÏïÇ Ï³ï³ñáõÙÁ Ñ»ï³Ó·»Éáõ Ï³Ù ï³ñ³Å³ÙÏ»ï»Éáõ í»ñ³µ»ñÛ³É | F119: 0 | G119: 1 | H119: 1 | I119: 0 | J119: 0 | K119: 1 | L119: 0 | M119: 0 | N119: 0 | O119: 1 | P119: 0 | Q119: 0 | R119: 1 | S119: 0 | T119: 1 | U119: 0 | V119: 1 | W119: 0 | X119: 0 | Y119: 0 | Z119: 0 | AA119: 0
A120: 10.2 | C120: ¸³ï³Ï³Ý ³ÏïÇ Ï³ï³ñÙ³Ý »Õ³Ý³ÏÇ, Ï³ñ·Ç ÷á÷áËÙ³Ý í»ñ³µ»ñÛ³É | F120: 0 | G120: 0 | H120: 0 | I120: 0 | J120: 0 | K120: 0 | L120: 0 | M120: 0 | N120: 0 | O120: 0 | P120: 0 | Q120: 0 | R120: 0 | S120: 0 | T120: 0 | U120: 0 | V120: 0 | W120: 0 | X120: 0 | Y120: 0 | Z120: 0 | AA120: 0
A121: 10.3 | C121: Î³ï³ñáÕ³Ï³Ý Ã»ñÃÁ Ï³ï³ñÙ³Ý Ý»ñÏ³Û³óÝ»Éáõ µ³ó ÃáÕÝí³Í Å³ÙÏ»ïÁ í»ñ³Ï³Ý·Ý»Éáõ í»ñ³µ»ñÛ³É | F121: 0 | G121: 0 | H121: 0 | I121: 0 | J121: 0 | K121: 0 | L121: 0 | M121: 0 | N121: 0 | O121: 0 | P121: 0 | Q121: 0 | R121: 0 | S121: 0 | T121: 0 | U121: 0 | V121: 0 | W121: 0 | X121: 0 | Y121: 0 | Z121: 0 | AA121: 0
A122: 10.4 | C122: ì×éÇ ßñç³¹³ñÓ Ï³ï³ñ»Éáõ í»ñ³µ»ñÛ³É | F122: 0 | G122: 0 | H122: 0 | I122: 0 | J122: 0 | K122: 0 | L122: 0 | M122: 0 | N122: 0 | O122: 0 | P122: 0 | Q122: 0 | R122: 0 | S122: 0 | T122: 0 | U122: 0 | V122: 0 | W122: 0 | X122: 0 | Y122: 0 | Z122: 0 | AA122: 0
A123: 10.5 | C123: Î³ï³ñáÕ³Ï³Ý Ã»ñÃÁ å³ñ½³µ³Ý»Éáõ í»ñ³µ»ñÛ³É | F123: 0 | G123: 0 | H123: 0 | I123: 0 | J123: 0 | K123: 0 | L123: 0 | M123: 0 | N123: 0 | O123: 0 | P123: 0 | Q123: 0 | R123: 0 | S123: 0 | T123: 0 | U123: 0 | V123: 0 | W123: 0 | X123: 0 | Y123: 0 | Z123: 0 | AA123: 0
A124: 10.6 | C124: ²ÛÉ í»×»ñ | F124: 0 | G124: 0 | H124: 0 | I124: 0 | J124: 0 | K124: 0 | L124: 0 | M124: 0 | N124: 0 | O124: 0 | P124: 0 | Q124: 0 | R124: 0 | S124: 0 | T124: 0 | U124: 0 | V124: 0 | W124: 0 | X124: 0 | Y124: 0 | Z124: 0 | AA124: 0
A125: 11. | C125: ä³ñï³íáñ³Ï³Ý Çñ³í³Ñ³ñ³µ»ñáõÃÛáõÝÝ»ñ | F125: 0 | G125: 0 | H125: 0 | I125: 0 | J125: 0 | K125: 0 | L125: 0 | M125: 0 | N125: 0 | O125: 0 | P125: 0 | Q125: 0 | R125: 0 | S125: 0 | T125: 0 | U125: 0 | V125: 0 | W125: 0 | X125: 0 | Y125: 0 | Z125: 0 | AA125: 0
A126: 11.1 | C126: ¶áõÙ³ñÇ å³Ñ³ÝçÇ Ù³ëÇÝ | F126: 266 | G126: 664 | H126: 608 | I126: 56 | J126: 0 | K126: 615 | L126: 424 | M126: 30 | N126: 25 | O126: 136 | P126: 56 | Q126: 50 | R126: 30 | S126: 0 | T126: 615 | U126: 7 | V126: 564 | W126: 44 | X126: 0 | Y126: 0 | Z126: 252 | AA126: 115
A127: 11.2 | C127: ä³ñï³íáñáõÃÛáõÝÁ µÝ»Õ»Ýáí Ï³ï³ñ»Éáõ å³Ñ³ÝçÇ Ù³ëÇÝ | F127: 0 | G127: 3 | H127: 3 | I127: 0 | J127: 0 | K127: 3 | L127: 1 | M127: 0 | N127: 1 | O127: 1 | P127: 1 | Q127: 0 | R127: 0 | S127: 0 | T127: 3 | U127: 0 | V127: 1 | W127: 2 | X127: 0 | Y127: 0 | Z127: 0 | AA127: 0
A128: 11.3 | C128: ìÝ³ëÁ ¨ µ³ó ÃáÕÝí³Í û·áõïÁ Ñ³ïáõó»Éáõ å³Ñ³ÝçÇ Ù³ëÇÝ | F128: 5 | G128: 20 | H128: 12 | I128: 7 | J128: 1 | K128: 14 | L128: 5 | M128: 2 | N128: 3 | O128: 4 | P128: 2 | Q128: 1 | R128: 1 | S128: 0 | T128: 14 | U128: 0 | V128: 9 | W128: 5 | X128: 0 | Y128: 0 | Z128: 3 | AA128: 1
A129: 11.4 | C129: ø³Õ³ù³óáõ ÏÛ³ÝùÇÝ Ï³Ù ³éáÕçáõÃÛ³ÝÁ å³ï×³éí³Í íÝ³ëÇ Ñ³ïáõóÙ³Ý í»ñ³µ»ñÛ³É | F129: 1 | G129: 2 | H129: 2 | I129: 0 | J129: 0 | K129: 2 | L129: 0 | M129: 0 | N129: 1 | O129: 1 | P129: 0 | Q129: 1 | R129: 0 | S129: 0 | T129: 2 | U129: 0 | V129: 1 | W129: 1 | X129: 0 | Y129: 0 | Z129: 1 | AA129: 0
A130: 11.5 | C130: ²åñ³ÝùÝ»ñÇ, ³ßË³ï³ÝùÝ»ñÇ Ï³Ù Í³é³ÛáõÃÛáõÝÝ»ñÇ Ã»ñáõÃÛáõÝÝ»ñÇ Ñ»ï¨³Ýùáí å³ï×³éí³Í íÝ³ëÝ»ñÇ Ñ³ïáõóÙ³Ý í»ñ³µ»ñÛ³É | F130: 1 | G130: 1 | H130: 1 | I130: 0 | J130: 0 | K130: 0 | L130: 0 | M130: 0 | N130: 0 | O130: 0 | P130: 0 | Q130: 0 | R130: 0 | S130: 0 | T130: 0 | U130: 0 | V130: 2 | W130: 0 | X130: 0 | Y130: 0 | Z130: 2 | AA130: 1
A131: 11.6 | C131: ²ÝÑÇÙÝ Ñ³ñëï³óÙ³Ý Ñ»ï¨³Ýùáí Í³·³Í å³ñï³íáñáõÃÛáõÝÝ»ñ | F131: 0 | G131: 1 | H131: 0 | I131: 1 | J131: 0 | K131: 0 | L131: 0 | M131: 0 | N131: 0 | O131: 0 | P131: 0 | Q131: 0 | R131: 0 | S131: 0 | T131: 0 | U131: 0 | V131: 0 | W131: 0 | X131: 0 | Y131: 0 | Z131: 0 | AA131: 0
... A138: 13. | C138: ²ÛÉ í»×»ñ | F138: 0 | G138: 5 | H138: 3 | I138: 2 | J138: 0 | K138: 1 | L138: 0 | M138: 0 | N138: 0 | O138: 1 | P138: 0 | Q138: 1 | R138: 0 | S138: 0 | T138: 1 | U138: 0 | V138: 1 | W138: 0 | X138: 0 | Y138: 0 | Z138: 2 | AA138: 0
A139: 14. | C139: ÀÝ¹³Ù»ÝÁ | F139: =SUM(F20:F138) -> 431 | G139: =SUM(G20:G138) -> 1307 | H139: =SUM(H20:H138) -> 1128 | I139: =SUM(I20:I138) -> 158 | J139: =SUM(J20:J138) -> 21 | K139: =SUM(K20:K138) -> 1107 | L139: =SUM(L20:L138) -> 725 | M139: =SUM(M20:M138) -> 69 | ... AA139: =SUM(AA20:AA138) -> 180
C142: Ì³ÝáÃáõÃÛáõÝ: ´áÉáñ ³ÛÝ ïáÕ»ñÁ, áñï»Õ ·ñí³Í ¿ áõÅÁ Ïáñóñ»É ¿ Éñ³óÝ»É å»ïù ã¿, ù³ÝÇ áñ 2010 Ãí³Ï³ÝÇó ³Û¹ íÇ×³Ï³·ñ³Ï³Ý ïáÕ»ñÁ ³ÛÉ¨ë ã»Ý ·áñÍ»Éáõ, ¹ñ³Ýù ³ÝÑñ³Å»ßï »Ý ÙÇ³ÛÝ ¹³ï³Ï³Ý Ñ³Ù³Ï³ñ·áõÙ áñáÝáõÙÝ»ñ Ï³ï³ñ»Éáõ Ñ³Ù³ñ:

Sheet SHENGAVIT
A1: ԵՐԵՎԱՆԻ ՇԵՆԳԱՎԻԹ ՎԱՐՉԱԿԱՆ ՇՐՋԱՆԻ ԸՆԴՀԱՆՈՒՐ ԻՐԱՎԱՍՈՒԹՅԱՆ ԴԱՏԱՐԱՆԻ 2010թ. ՏԱՐԵԿԱՆ Ð²ÞìºîìàôÂÚàôÜ
A2: ø²Ô²ø²òÆ²Î²Ü ¶àðÌºðÆ øÜÜàôÂÚ²Ü ìºð²´ºðÚ²È
A3: Հավելված 2 Հայաստանի Հանրապետության Դատարանների նախագահների խորհրդի 2007թ. դեկտեմբերի 21-ի թիվ 23Լ որոշման
A5: êïáõ·Çã Ñ³í³ë³ñáõÙÝ»ñª 2=3+4+5, 1+3=15+16+21, 6=7+8+9+10, 10=11+12+13, 15=6+14, | F5: ²Ý³í³ñï ·áñÍ»ñÇ ÙÝ³óáñ¹Á Ñ³ßí»ïáõ Å³Ù³Ý³Ï³ßñç³ÝÇ ëÏ½µáõÙ | G5: êï³óí³Í Ñ³Ûó»ñÇ,¹ÇÙáõÙÝ»ñÇ (·áñÍ»ñ)ù³Ý³ÏÁ | K5: ²í³ñïí»É »Ý ·áñÍ»ñ Ñ³ßí»ïáõ Å³Ù³Ý³Ï³ßñç³ÝáõÙ | U5: ¶áñÍÝ áõÕ³ñÏí»É ¿ Áëï ÁÝ¹¹³ïáõÃÛ³Ý | V5: Øï»É »Ý ûñÇÝ³Ï³Ý áõÅÇ Ù»ç | W5: ´áÕáù³ñÏí»É »Ý í»ñ³ùÝÝÇã ¹³ï³ñ³Ý | Z5: ²Ý³í³ñï ·áñÍ»ñÇ ÙÝ³óáñ¹Á Ñ³ßí»ïáõ Å³Ù³Ý³Ï³ßñç³ÝÇ í»ñçáõÙ | AA5: ²Û¹ ÃíáõÙª Ï³ë»óí³Í
G8: ÀÝ¹³Ù»ÝÁ | H8: ²Û¹ ÃíáõÙª ÁÝ¹áõÝí»É ¿ í³ñáõÛÃ | I8: ²Û¹ ÃíáõÙª í»ñ³¹³ñÓí»É ¿ | J8: ²Û¹ ÃíáõÙª Ñ³Ûó»ñÇ (¹ÇÙáõÙÝ»ñÇ) ÁÝ¹áõÝáõÙÁ Ù»ñÅí»É ¿ | K8: ÀÝ¹³Ù»ÝÁ ³í³ñïí»É »Ý ·áñÍ»ñ í×éÇ Ï³Û³óáõÙáí | L8: ²Û¹ ÃíáõÙª Ñ³ÛóÇ µ³í³ñ³ñÙ³Ùµ | M8: ²Û¹ ÃíáõÙª Ñ³ÛóÇ Ù³ëÝ³ÏÇ µ³í³ñ³ñÙ³Ùµ | N8: ²Û¹ ÃíáõÙª Ñ³ÛóÇ Ù»ñÅÙ³Ùµ | O8: ²Û¹ ÃíáõÙª Ï³ñ×í»É »Ý | S8: Ð³ÛóÁ ÃáÕÝí»É ¿ ³é³Ýó ùÝÝáõÃÛ³Ý | T8: ÀÝ¹³Ù»ÝÝ ³í³ñïí»É »Ý ·áñÍ»ñ | W8: Ï³Û³óí³Í í×ÇéÝ»ñÇ ¹»Ù | X8: ³é³Ýó ùÝÝáõÃÛ³Ý ÃáÕÝ»Éáõ Ù³ëÇÝ áñáßáõÙÝ»ñÇ ¹»Ù | Y8: ÙÇç³ÝÏÛ³É ¹³ï³Ï³Ý ³Ïï»ñÇ ¹»Ù
O11: ÀÝ¹³Ù»ÝÁ Ï³ñ×í»É »Ý | P11: ²Û¹ ÃíáõÙª Ñ³ëï³ïí»É ¿ ÏÝùí³Í Ñ³ßïáõÃÛ³Ý Ñ³Ù³Ó³ÛÝáõÃÛáõÝÁ | Q11: ²Û¹ ÃíáõÙª Ñ³óÇó, ¹ÇÙáõÙÇó Ññ³Å³ñí»Éáõ ÑÇÙùáí | R11: ²Û¹ ÃíáõÙª ³ÛÉ ÑÇÙùáí
A19: Æñ³í³Ñ³ñ³µ»ñáõÃÛáõÝÝ»ñÇ ï»ë³ÏÝ»ñÁ | F19: 1 | G19: 2 | H19: 3 | I19: 4 | J19: 5 | K19: 6 | L19: 7 | M19: 8 | N19: 9 | O19: 10 | P19: 11 | Q19: 12 | R19: 13 | S19: 14 | T19: 15 | U19: 16 | V19: 17 | W19: 18 | X19: 19 | Y19: 20 | Z19: 21 | AA19: 22
A20: 1. | C20: ¶áõÛù³ÛÇÝ í»×»ñ | F20: 0 | G20: 0 | H20: 0 | I20: 0 | J20: 0 | K20: 0 | L20: 0 | M20: 0 | N20: 0 | O20: 0 | P20: 0 | Q20: 0 | R20: 0 | S20: 0 | T20: 0 | U20: 0 | V20: 0 | W20: 0 | X20: 0 | Y20: 0 | Z20: 0 | AA20: 0
A21: 1.1 | C21: ¶áõÛùÇ ÝÏ³ïÙ³Ùµ ë»÷³Ï³ÝáõÃÛ³Ý Çñ³íáõÝùÁ ×³Ý³ã»Éáõ í»ñ³µ»ñÛ³É | F21: 12 | G21: 38 | H21: 37 | I21: 1 | J21: 0 | K21: 28 | L21: 8 | M21: 2 | N21: 6 | O21: 12 | P21: 1 | Q21: 8 | R21: 3 | S21: 0 | T21: 28 | U21: 0 | V21: 28 | W21: 7 | X21: 0 | Y21: 0 | Z21: 21 | AA21: 4
A22: 1.1.1 | C22: ²Û¹ ÃíáõÙª Ó»éùµ»ñÙ³Ý í³Õ»ÙáõÃÛ³Ý áõÅáí | F22: 12 | G22: 25 | H22: 24 | I22: 1 | J22: 0 | K22: 27 | L22: 11 | M22: 1 | N22: 4 | O22: 11 | P22: 2 | Q22: 7 | R22: 2 | S22: 0 | T22: 27 | U22: 0 | V22: 19 | W22: 11 | X22: 0 | Y22: 0 | Z22: 9 | AA22: 7
A23: 1.1.2 | B23: ուժը կորցրել է | C23: ²Û¹ ÃíáõÙª ïÇñ³½áõñÏ ·áõÛùÇ ÝÏ³ïÙ³Ùµ | F23: 0 | G23: 0 | H23: 0 | I23: 0 | J23: 0 | K23: 0 | L23: 0 | M23: 0 | N23: 0 | O23: 0 | P23: 0 | Q23: 0 | R23: 0 | S23: 0 | T23: 0 | U23: 0 | V23: 0 | W23: 0 | X23: 0 | Y23: 0 | Z23: 0 | AA23: 0
A24: 1.1.3 | B24: ուժը կորցրել է | C24: ²Û¹ ÃíáõÙª ÇÝùÝ³Ï³Ù Ï³éáõÛóÇ ÝÏ³ïÙ³Ùµ | F24: 0 | G24: 0 | H24: 0 | I24: 0 | J24: 0 | K24: 0 | L24: 0 | M24: 0 | N24: 0 | O24: 0 | P24: 0 | Q24: 0 | R24: 0 | S24: 0 | T24: 0 | U24: 0 | V24: 0 | W24: 0 | X24: 0 | Y24: 0 | Z24: 0 | AA24: 0
A25: 1.2 | C25: ê»÷³Ï³ÝáõÃÛ³Ý Çñ³íáõÝùÇ ¹³¹³ñ»óÙ³Ý í»ñ³µ»ñÛ³É | F25: 0 | G25: 2 | H25: 2 | I25: 0 | J25: 0 | K25: 2 | L25: 1 | M25: 0 | N25: 1 | O25: 0 | P25: 0 | Q25: 0 | R25: 0 | S25: 0 | T25: 2 | U25: 0 | V25: 0 | W25: 1 | X25: 0 | Y25: 0 | Z25: 0 | AA25: 0
A26: 1.3 | C26: ¶áõÛùÇ ÝÏ³ïÙ³Ùµ û·ï³·áñÍÙ³Ý Çñ³íáõÝùÁ ×³Ý³ã»Éáõ í»ñ³µ»ñÛ³É | F26: 0 | G26: 0 | H26: 0 | I26: 0 | J26: 0 | K26: 0 | L26: 0 | M26: 0 | N26: 0 | O26: 0 | P26: 0 | Q26: 0 | R26: 0 | S26: 0 | T26: 0 | U26: 0 | V26: 0 | W26: 0 | X26: 0 | Y26: 0 | Z26: 0 | AA26: 0
A27: 1.3.1 | C27: ²Û¹ ÃíáõÙª µÝ³Ïû·ï³·áñÍÙ³Ý Çñ³íáõÝùÁ ×³Ý³ã»Éáõ í»ñ³µ»ñÛ³É | F27: 0 | G27: 4 | H27: 1 | I27: 3 | J27: 0 | K27: 1 | L27: 0 | M27: 0 | N27: 1 | O27: 0 | P27: 0 | Q27: 0 | R27: 0 | S27: 0 | T27: 1 | U27: 0 | V27: 0 | W27: 1 | X27: 0 | Y27: 0 | Z27: 0 | AA27: 0
A28: 1.3.2 | C28: ²Û¹ ÃíáõÙª ÑáÕ³Ù³ëÇ ÝÏ³ïÙ³Ùµ û·ï³·áñÍÙ³Ý Çñ³íáõÝùÁ ×³Ý³ã»Éáõ í»ñ³µ»ñÛ³É | F28: 0 | G28: 1 | H28: 1 | I28: 0 | J28: 0 | K28: 1 | L28: 0 | M28: 1 | N28: 0 | O28: 0 | P28: 0 | Q28: 0 | R28: 0 | S28: 0 | T28: 1 | U28: 0 | V28: 0 | W28: 1 | X28: 0 | Y28: 0 | Z28: 0 | AA28: 0
A29: 1.4 | C29: ¶áõÛùÇ ÝÏ³ïÙ³Ùµ û·ï³·áñÍÙ³Ý Çñ³íáõÝùÁ ¹³¹³ñ»óÝ»Éáõ í»ñ³µ»ñÛ³É | F29: 0 | G29: 1 | H29: 1 | I29: 0 | J29: 0 | K29: 1 | L29: 1 | M29: 0 | N29: 0 | O29: 0 | P29: 0 | Q29: 0 | R29: 0 | S29: 0 | T29: 1 | U29: 0 | V29: 1 | W29: 0 | X29: 0 | Y29: 0 | Z29: 0 | AA29: 0
A30: 1.4.1 | C30: ²Û¹ ÃíáõÙª µÝ³Ïû·ï³·áñÍÙ³Ý Çñ³íáõÝùÁ ¹³¹³ñ»óÝ»Éáõ í»ñ³µ»ñÛ³É | F30: 0 | G30: 2 | H30: 2 | I30: 0 | J30: 0 | K30: 2 | L30: 2 | M30: 0 | N30: 0 | O30: 0 | P30: 0 | Q30: 0 | R30: 0 | S30: 0 | T30: 2 | U30: 0 | V30: 1 | W30: 1 | X30: 0 | Y30: 0 | Z30: 0 | AA30: 0
A31: 1.4.1/1 | C31: ²Û¹ ÃíáõÙª ÷áËÑ³ïáõóÙ³Ùµ | F31: 0 | G31: 0 | H31: 0 | I31: 0 | J31: 0 | K31: 0 | L31: 0 | M31: 0 | N31: 0 | O31: 0 | P31: 0 | Q31: 0 | R31: 0 | S31: 0 | T31: 0 | U31: 0 | V31: 0 | W31: 0 | X31: 0 | Y31: 0 | Z31: 0 | AA31: 0
A32: 1.5 | C32: ´Ý³Ï³ñ³ÝÇó/ ï³ñ³ÍùÇó/ íï³ñ»Éáõ í»ñ³µ»ñÛ³É | F32: 19 | G32: 27 | H32: 26 | I32: 1 | J32: 0 | K32: 25 | L32: 13 | M32: 1 | N32: 4 | O32: 7 | P32: 2 | Q32: 5 | R32: 0 | S32: 0 | T32: 25 | U32: 0 | V32: 18 | W32: 13 | X32: 0 | Y32: 0 | Z32: 20 | AA32: 9
A33: 1.6 | C33: ¶áõÛùÝ áõñÇßÇ ³åûñÇÝÇ ïÇñ³å»ïáõÙÇó »ï í»ñ³¹³ñÓÝ»Éáõ í»ñ³µ»ñÛ³É | F33: 2 | G33: 17 | H33: 17 | I33: 0 | J33: 0 | K33: 11 | L33: 3 | M33: 1 | N33: 2 | O33: 5 | P33: 1 | Q33: 4 | R33: 0 | S33: 0 | T33: 11 | U33: 0 | V33: 8 | W33: 4 | X33: 0 | Y33: 0 | Z33: 8 | AA33: 0
A34: 1.6.1 | B34: ավելացվել է | C34: ´³ñ»ËÇÕ× Ó»éùµ»ñáÕÇó Çñ ·áõÛùÁ Ñ»ï å³Ñ³Ýç»Éáõ í»ñ³µ»ñÛ³É | F34: 0 | G34: 0 | H34: 0 | I34: 0 | J34: 0 | K34: 0 | L34: 0 | M34: 0 | N34: 0 | O34: 0 | P34: 0 | Q34: 0 | R34: 0 | S34: 0 | T34: 0 | U34: 0 | V34: 0 | W34: 0 | X34: 0 | Y34: 0 | Z34: 0 | AA34: 0
A35: 1.7 | C35: îÇñ³å»ïáõÙÇó ½ñÏ»Éáõ Ñ»ï ãÏ³åí³Í Çñ³íáõÝùÝ»ñÇ Ë³ËïáõÙÁ í»ñ³óÝ»Éáõ í»ñ³µ»ñÛ³É | F35: 2 | G35: 2 | H35: 2 | I35: 0 | J35: 0 | K35: 4 | L35: 2 | M35: 1 | N35: 0 | O35: 1 | P35: 0 | Q35: 1 | R35: 0 | S35: 0 | T35: 4 | U35: 0 | V35: 8 | W35: 1 | X35: 0 | Y35: 0 | Z35: 0 | AA35: 0
A36: 1.8 | C36: ÀÝ¹Ñ³Ýáõñ µ³ÅÝ³ÛÇÝ ë»÷³Ï³ÝáõÃÛáõÝÇó µ³ÅÇÝÝ ³é³ÝÓÝ³óÝ»Éáõ í»ñ³µ»ñÛ³É | F36: 26 | G36: 38 | H36: 37 | I36: 1 | J36: 0 | K36: 46 | L36: 11 | M36: 1 | N36: 10 | O36: 24 | P36: 5 | Q36: 18 | R36: 1 | S36: 0 | T36: 46 | U36: 1 | V36: 37 | W36: 0 | X36: 0 | Y36: 0 | Z36: 16 | AA36: 14
A37: 1.8.1 | B37: ավելացվել է | C37: Ð³Ù³ï»Õ ë»÷³Ï³ÝáõÃÛ³Ý Ý»ñùá ·ïÝíáÕ ·áõÛùÁ µ³Å³Ý»Éáõ ¨ ¹ñ³ÝÇó µ³ÅÇÝÝ ³é³ÝÓÝ³óÝ»Éáõ í»ñ³µ»ñÛ³É | F37: 0 | G37: 23 | H37: 23 | I37: 0 | J37: 0 | K37: 8 | L37: 2 | M37: 0 | N37: 3 | O37: 3 | P37: 0 | Q37: 2 | R37: 1 | S37: 0 | T37: 8 | U37: 0 | V37: 2 | W37: 3 | X37: 0 | Y37: 0 | Z37: 15 | AA37: 9
A38: 1.8.3 | B38: ավելացվել է | C38: ¶áõÛùÇ íñ³ µéÝ³·³ÝÓáõÙ ï³ñ³Í»Éáõ å³Ñ³ÝçÇ Ù³ëÇÝ | F38: 0 | G38: 3 | H38: 1 | I38: 2 | J38: 0 | K38: 0 | L38: 0 | M38: 0 | N38: 0 | O38: 0 | P38: 0 | Q38: 0 | R38: 0 | S38: 0 | T38: 0 | U38: 0 | V38: 0 | W38: 0 | X38: 0 | Y38: 0 | Z38: 1 | AA38: 1
A39: 1.9 | C39: ²ÛÉ í»×»ñ | F39: 42 | G39: 53 | H39: 48 | I39: 4 | J39: 1 | K39: 55 | L39: 19 | M39: 2 | N39: 10 | O39: 24 | P39: 7 | Q39: 16 | R39: 1 | S39: 0 | T39: 55 | U39: 3 | V39: 64 | W39: 12 | X39: 0 | Y39: 0 | Z39: 32 | AA39: 15
A40: 2. | C40: ¶áñÍ³ñùÝ»ñÇ Ñ»ï Ï³åí³Í í»×»ñ | F40: 0 | G40: 0 | H40: 0 | I40: 0 | J40: 0 | K40: 0 | L40: 0 | M40: 0 | N40: 0 | O40: 0 | P40: 0 | Q40: 0 | R40: 0 | S40: 0 | T40: 0 | U40: 0 | V40: 0 | W40: 0 | X40: 0 | Y40: 0 | Z40: 0 | AA40: 0
A41: 2.1 | C41: ·áñÍ³ñùÝ»ñÇ ³Ýí³í»ñáõÃÛ³Ý Ñ»ï Ï³åí³Í í»×»ñ | F41: 1 | G41: 9 | H41: 9 | I41: 0 | J41: 0 | K41: 6 | L41: 1 | M41: 0 | N41: 2 | O41: 3 | P41: 1 | Q41: 2 | R41: 0 | S41: 0 | T41: 6 | U41: 0 | V41: 3 | W41: 3 | X41: 0 | Y41: 0 | Z41: 4 | AA41: 1
A42: 2.1.1 | C42: ³Û¹ ÃíáõÙ`գáñÍ³ñùÁ íÇ×³Ñ³ñáõÛó ×³Ý³ã»Éáõ í»ñ³µ»ñÛ³É | F42: 0 | G42: 0 | H42: 0 | I42: 0 | J42: 0 | K42: 0 | L42: 0 | M42: 0 | N42: 0 | O42: 0 | P42: 0 | Q42: 0 | R42: 0 | S42: 0 | T42: 0 | U42: 0 | V42: 0 | W42: 0 | X42: 0 | Y42: 0 | Z42: 0 | AA42: 0
A43: 2.1.2 | C43: ³Û¹ ÃíáõÙ` ·áñÍ³ñùÇ ³éáãÝãáõÃÛ³Ý Ñ»ï¨³ÝùÝ»ñ ÏÇñ³é»Éáõ í»ñ³µ»ñÛ³É | F43: 3 | G43: 3 | H43: 2 | I43: 1 | J43: 0 | K43: 5 | L43: 1 | M43: 1 | N43: 0 | O43: 3 | P43: 1 | Q43: 2 | R43: 0 | S43: 0 | T43: 5 | U43: 0 | V43: 5 | W43: 1 | X43: 0 | Y43: 0 | Z43: 0 | AA43: 0
A44: 2.2 | C44: ¶áñÍ³ñùÁ í³í»ñ ×³Ý³ã»Éáõ í»ñ³µ»ñÛ³É | F44: 0 | G44: 6 | H44: 6 | I44: 0 | J44: 0 | K44: 4 | L44: 2 | M44: 0 | N44: 0 | O44: 2 | P44: 0 | Q44: 2 | R44: 0 | S44: 0 | T44: 4 | U44: 0 | V44: 4 | W44: 0 | X44: 0 | Y44: 0 | Z44: 2 | AA44: 1
A45: 2.3 | C45: ¶áñÍ³ñùÇó Í³·áÕ Çñ³íáõÝùÝ»ñÁ ·ñ³Ýó»Éáõ í»ñ³µ»ñÛ³É | F45: 0 | G45: 0 | H45: 0 | I45: 0 | J45: 0 | K45: 0 | L45: 0 | M45: 0 | N45: 0 | O45: 0 | P45: 0 | Q45: 0 | R45: 0 | S45: 0 | T45: 0 | U45: 0 | V45: 0 | W45: 0 | X45: 0 | Y45: 0 | Z45: 0 | AA45: 0
A46: 2.4 | C46: ä³ÛÙ³Ý³·ÇñÝ ³Ýí³í»ñ ×³Ý³ã»Éáõ í»ñ³µ»ñÛ³É | F46: 3 | G46: 25 | H46: 24 | I46: 1 | J46: 0 | K46: 16 | L46: 4 | M46: 1 | N46: 5 | O46: 6 | P46: 0 | Q46: 6 | R46: 0 | S46: 0 | T46: 16 | U46: 0 | V46: 7 | W46: 5 | X46: 0 | Y46: 0 | Z46: 11 | AA46: 1
A47: 2.5 | C47: ä³ÛÙ³Ý³·ñÇÁ í³í»ñ ×³Ý³ã»Éáõ í»ñ³µ»ñÛ³É | F47: 1 | G47: 5 | H47: 5 | I47: 0 | J47: 0 | K47: 5 | L47: 3 | M47: 0 | N47: 0 | O47: 2 | P47: 0 | Q47: 2 | R47: 0 | S47: 0 | T47: 5 | U47: 0 | V47: 5 | W47: 1 | X47: 0 | Y47: 0 | Z47: 1 | AA47: 0
A48: 2.6 | B48: ուժը կորցրել է | C48: ä³ÛÙ³Ý³·ñÇó Í³·áÕ Çñ³íáõÝùÝ»ñÁ ·ñ³Ýó»Éáõ í»ñ³µ»ñÛ³É | F48: 0 | G48: 0 | H48: 0 | I48: 0 | J48: 0 | K48: 0 | L48: 0 | M48: 0 | N48: 0 | O48: 0 | P48: 0 | Q48: 0 | R48: 0 | S48: 0 | T48: 0 | U48: 0 | V48: 0 | W48: 0 | X48: 0 | Y48: 0 | Z48: 0 | AA48: 0
A49: 2.7 | C49: ä³ÛÙ³Ý³·ÇñÁ ÷á÷áË»Éáõ ¨ ÉáõÍ»Éáõ í»ñ³µ»ñÛ³É | F49: 1 | G49: 11 | H49: 10 | I49: 0 | J49: 1 | K49: 7 | L49: 3 | M49: 1 | N49: 1 | O49: 2 | P49: 1 | Q49: 1 | R49: 0 | S49: 0 | T49: 7 | U49: 0 | V49: 3 | W49: 0 | X49: 0 | Y49: 0 | Z49: 4 | AA49: 0
A50: 2.8 | C50: ä³ÛÙ³Ý³·Çñ ÏÝù»ÉáõÝ å³ñï³íáñ»óÝ»Éáõ í»ñ³µ»ñÛ³É | F50: 0 | G50: 1 | H50: 1 | I50: 0 | J50: 0 | K50: 1 | L50: 0 | M50: 1 | N50: 0 | O50: 0 | P50: 0 | Q50: 0 | R50: 0 | S50: 0 | T50: 1 | U50: 0 | V50: 0 | W50: 1 | X50: 0 | Y50: 0 | Z50: 0 | AA50: 0
A51: 2.9 | C51: ²ÛÉ í»×»ñ | F51: 19 | G51: 18 | H51: 16 | I51: 0 | J51: 2 | K51: 26 | L51: 13 | M51: 3 | N51: 3 | O51: 7 | P51: 3 | Q51: 4 | R51: 0 | S51: 0 | T51: 26 | U51: 1 | V51: 18 | W51: 12 | X51: 0 | Y51: 1 | Z51: 8 | AA51: 8
A52: 3. | C52: Ä³é³Ý·áõÃÛ³Ý í»ñ³µ»ñÛ³É í»×»ñ | F52: 0 | G52: 0 | H52: 0 | I52: 0 | J52: 0 | K52: 0 | L52: 0 | M52: 0 | N52: 0 | O52: 0 | P52: 0 | Q52: 0 | R52: 0 | S52: 0 | T52: 0 | U52: 0 | V52: 0 | W52: 0 | X52: 0 | Y52: 0 | Z52: 0 | AA52: 0
A53: 3.1 | C53: Îï³ÏÝ ³Ýí³í»ñ ×³Ý³ã»Éáõ í»ñ³µ»ñÛ³É | F53: 1 | G53: 2 | H53: 2 | I53: 0 | J53: 0 | K53: 2 | L53: 0 | M53: 0 | N53: 2 | O53: 0 | P53: 0 | Q53: 0 | R53: 0 | S53: 0 | T53: 2 | U53: 0 | V53: 1 | W53: 2 | X53: 0 | Y53: 0 | Z53: 1 | AA53: 0
A54: 3.2 | C54: ²Ý³ñÅ³Ý Å³é³Ý· ×³Ý³ã»Éáõ í»ñ³µ»ñÛ³É | F54: 0 | G54: 0 | H54: 0 | I54: 0 | J54: 0 | K54: 0 | L54: 0 | M54: 0 | N54: 0 | O54: 0 | P54: 0 | Q54: 0 | R54: 0 | S54: 0 | T54: 0 | U54: 0 | V54: 0 | W54: 0 | X54: 0 | Y54: 0 | Z54: 0 | AA54: 0
A55: 3.3 | C55: Ä³é³Ý·áõÃÛáõÝÁ µ³Å³Ý»Éáõ í»ñ³µ»ñÛ³É | F55: 0 | G55: 1 | H55: 1 | I55: 0 | J55: 0 | K55: 1 | L55: 0 | M55: 1 | N55: 0 | O55: 1 | P55: 0 | Q55: 1 | R55: 0 | S55: 0 | T55: 1 | U55: 0 | V55: 1 | W55: 0 | X55: 0 | Y55: 0 | Z55: 0 | AA55: 0
A56: 3.4 | C56: ¶áõÛùÝ ³ÝÅ³é³Ý· ×³Ý³ã»Éáõ í»ñ³µ»ñÛ³É | F56: 0 | G56: 0 | H56: 0 | I56: 0 | J56: 0 | K56: 0 | L56: 0 | M56: 0 | N56: 0 | O56: 0 | P56: 0 | Q56: 0 | R56: 0 | S56: 0 | T56: 0 | U56: 0 | V56: 0 | W56: 0 | X56: 0 | Y56: 0 | Z56: 0 | AA56: 0
A57: 3.5 | B57: ուժը կորցրել է | C57: Àëï ûñ»ÝùÇ Å³é³Ý·áõÃÛ³Ý Çñ³íáõÝùÇ íÏ³Û³Ï³ÝÝ ³Ýí³í»ñ ×³Ý³ã»Éáõ í»ñ³µ»ñÛ³É | F57: 0 | G57: 0 | H57: 0 | I57: 0 | J57: 0 | K57: 0 | L57: 0 | M57: 0 | N57: 0 | O57: 0 | P57: 0 | Q57: 0 | R57: 0 | S57: 0 | T57: 0 | U57: 0 | V57: 0 | W57: 0 | X57: 0 | Y57: 0 | Z57: 0 | AA57: 0
A58: 3.6 | C58: Ä³é³Ý·áõÃÛáõÝÝ ÁÝ¹áõÝ»Éáõ µ³ó ÃáÕÝí³Í Å³ÙÏ»ïÁ Ñ³ñ·»ÉÇ Ñ³Ù³ñ»Éáõ í»ñ³µ»ñÛ³É | F58: 0 | G58: 5 | H58: 5 | I58: 0 | J58: 0 | K58: 3 | L58: 0 | M58: 0 | N58: 2 | O58: 1 | P58: 0 | Q58: 1 | R58: 0 | S58: 0 | T58: 3 | U58: 0 | V58: 2 | W58: 1 | X58: 0 | Y58: 0 | Z58: 2 | AA58: 0
A59: 3.7 | C59: ²ÛÉ í»×»ñ | F59: 13 | G59: 18 | H59: 17 | I59: 1 | J59: 0 | K59: 20 | L59: 9 | M59: 0 | N59: 7 | O59: 4 | P59: 0 | Q59: 4 | R59: 0 | S59: 0 | T59: 20 | U59: 0 | V59: 18 | W59: 8 | X59: 0 | Y59: 0 | Z59: 10 | AA59: 1
A60: 4 | C60: ÀÝï³Ý»Ï³Ý Çñ³í³Ñ³ñ³µ»ñáõÃÛáõÝÝ»ñÇó Í³·áÕ í»×»ñ | F60: 0 | G60: 0 | H60: 0 | I60: 0 | J60: 0 | K60: 0 | L60: 0 | M60: 0 | N60: 0 | O60: 0 | P60: 0 | Q60: 0 | R60: 0 | S60: 0 | T60: 0 | U60: 0 | V60: 0 | W60: 0 | X60: 0 | Y60: 0 | Z60: 0 | AA60: 0
A61: 4.1 | C61: ²ÙáõëÝ³ÉáõÍáõÃÛ³Ý í»ñ³µ»ñÛ³É | F61: 25 | G61: 82 | H61: 79 | I61: 3 | J61: 0 | K61: 75 | L61: 45 | M61: 5 | N61: 1 | O61: 24 | P61: 0 | Q61: 24 | R61: 0 | S61: 0 | T61: 75 | U61: 1 | V61: 84 | W61: 5 | X61: 0 | Y61: 0 | Z61: 28 | AA61: 1
A62: 4.2 | C62: ²ÉÇÙ»ÝïÇ å³Ñ³ÝçÇ í»ñ³µ»ñÛ³É | F62: 6 | G62: 37 | H62: 36 | I62: 1 | J62: 0 | K62: 30 | L62: 7 | M62: 16 | N62: 0 | O62: 7 | P62: 2 | Q62: 5 | R62: 0 | S62: 0 | T62: 30 | U62: 0 | V62: 26 | W62: 7 | X62: 0 | Y62: 0 | Z62: 12 | AA62: 0
A63: 4.3 | C63: ²ÉÇÙ»ÝïÇ ã³÷Á ÷á÷áË»Éáõ í»ñ³µ»ñÛ³É | F63: 1 | G63: 6 | H63: 5 | I63: 1 | J63: 0 | K63: 4 | L63: 1 | M63: 2 | N63: 0 | O63: 1 | P63: 0 | Q63: 1 | R63: 0 | S63: 0 | T63: 4 | U63: 1 | V63: 5 | W63: 0 | X63: 0 | Y63: 0 | Z63: 1 | AA63: 0
A64: 4.4 | C64: ÌÝáÕ³Ï³Ý Çñ³íáõÝùÝ»ñÇó ½ñÏ»Éáõ í»ñ³µ»ñÛ³É | F64: 1 | G64: 2 | H64: 2 | I64: 0 | J64: 0 | K64: 3 | L64: 1 | M64: 0 | N64: 0 | O64: 2 | P64: 0 | Q64: 2 | R64: 0 | S64: 0 | T64: 3 | U64: 0 | V64: 3 | W64: 0 | X64: 0 | Y64: 0 | Z64: 0 | AA64: 0
A65: 4.5 | C65: ÌÝáÕ³Ï³Ý Çñ³íáõÝùÝ»ñÁ í»ñ³Ï³Ý·Ý»Éáõ í»ñ³µ»ñÛ³É | F65: 0 | G65: 0 | H65: 0 | I65: 0 | J65: 0 | K65: 0 | L65: 0 | M65: 0 | N65: 0 | O65: 0 | P65: 0 | Q65: 0 | R65: 0 | S65: 0 | T65: 0 | U65: 0 | V65: 0 | W65: 0 | X65: 0 | Y65: 0 | Z65: 0 | AA65: 0
A66: 4.6 | C66: ºñ»Ë³ÛÇ áñ¹»·ñÙ³Ý í»ñ³µ»ñÛ³É | F66: 0 | G66: 3 | H66: 3 | I66: 0 | J66: 0 | K66: 2 | L66: 1 | M66: 0 | N66: 0 | O66: 1 | P66: 1 | Q66: 0 | R66: 0 | S66: 0 | T66: 2 | U66: 0 | V66: 2 | W66: 0 | X66: 0 | Y66: 0 | Z66: 1 | AA66: 0
A67: 4.7 | C67: ºñ»Ë³ÛÇ áñ¹»·ñáõÙÁ í»ñ³óÝ»Éáõ í»ñ³µ»ñÛ³É | F67: 0 | G67: 4 | H67: 4 | I67: 0 | J67: 0 | K67: 3 | L67: 2 | M67: 0 | N67: 1 | O67: 0 | P67: 0 | Q67: 0 | R67: 0 | S67: 0 | T67: 3 | U67: 0 | V67: 3 | W67: 0 | X67: 0 | Y67: 0 | Z67: 1 | AA67: 0
A68: 4.8 | C68: Ð³ÛñáõÃÛáõÝÁ ×³Ý³ã»Éáõ í»ñ³µ»ñÛ³É | F68: 0 | G68: 4 | H68: 4 | I68: 0 | J68: 0 | K68: 3 | L68: 2 | M68: 0 | N68: 1 | O68: 0 | P68: 0 | Q68: 0 | R68: 0 | S68: 0 | T68: 3 | U68: 0 | V68: 2 | W68: 0 | X68: 0 | Y68: 0 | Z68: 1 | AA68: 0
A69: 4.9 | C69: ºñ»Ë³ÛÇ µÝ³ÏáõÃÛ³Ý í³ÛñÁ áñáß»Éáõ í»ñ³µ»ñÛ³É | F69: 0 | G69: 3 | H69: 3 | I69: 0 | J69: 0 | K69: 2 | L69: 0 | M69: 0 | N69: 0 | O69: 2 | P69: 1 | Q69: 1 | R69: 0 | S69: 0 | T69: 2 | U69: 0 | V69: 2 | W69: 0 | X69: 0 | Y69: 0 | Z69: 1 | AA69: 0
... A109: 8.7.9 | C109: ²ÝÑ³ÕÃ³Ñ³ñ»ÉÇ áõÅÇ ³éÏ³ÛáõÃÛ³Ý í»ñ³µ»ñÛ³É | F109: 0 | G109: 0 | H109: 0 | I109: 0 | J109: 0 | K109: 0 | L109: 0 | M109: 0 | N109: 0 | O109: 0 | P109: 0 | Q109: 0 | R109: 0 | S109: 0 | T109: 0 | U109: 0 | V109: 0 | W109: 0 | X109: 0 | Y109: 0 | Z109: 0 | AA109: 0
A110: 8.7.10 | B110: ³í»É³óí»É ¿ | C110: úñ»Ýùáí Ý³Ë³ï»ëí³Í ³ÛÉ Çñ³í³µ³Ý³Ï³Ý ÷³ëï»ñÇ í»ñ³µ»ñÛ³É | F110: 0 | G110: 0 | H110: 0 | I110: 0 | J110: 0 | K110: 0 | L110: 0 | M110: 0 | N110: 0 | O110: 0 | P110: 0 | Q110: 0 | R110: 0 | S110: 0 | T110: 0 | U110: 0 | V110: 0 | W110: 0 | X110: 0 | Y110: 0 | Z110: 0 | AA110: 0
A111: 8.8 | C111: Àëï Ý»ñÏ³Û³óÝáÕÇ ¨ ûñ¹»ñ³ÛÇÝ Ïáñóñ³Í ³ñÅ»ÃÕÃ»ñáí Ñ³í³ëïí³Í Çñ³íáõÝùÝ»ñÁ í»ñ³Ï³Ý·Ý»Éáõ í»ñ³µ»ñÛ³É | F111: 0 | G111: 0 | H111: 0 | I111: 0 | J111: 0 | K111: 0 | L111: 0 | M111: 0 | N111: 0 | O111: 0 | P111: 0 | Q111: 0 | R111: 0 | S111: 0 | T111: 0 | U111: 0 | V111: 0 | W111: 0 | X111: 0 | Y111: 0 | Z111: 0 | AA111: 0
A112: 8.9 | B112: ուժը կորցրել է | C112: Ð³ñÏ³¹Çñ Ï³ï³ñáÕÇ ¹ÇÙáõÙáí ÏáÕÙ»ñÇ Ñ³ßïáõÃÛ³Ý Ñ³Ù³Ó³ÛÝáõÃÛ³Ý ÑÇÙ³Ý íñ³ ¹³ï³ñ³ÝÇª ·áñÍÝ Áëï ¿áõÃÛ³Ý ÉáõÍáÕ ¹³ï³Ï³Ý ³ÏïÇ í»ñ³Ý³ÛÙ³Ý í»ñ³µ»ñÛ³É | F112: 0 | G112: 0 | H112: 0 | I112: 0 | J112: 0 | K112: 0 | L112: 0 | M112: 0 | N112: 0 | O112: 0 | P112: 0 | Q112: 0 | R112: 0 | S112: 0 | T112: 0 | U112: 0 | V112: 0 | W112: 0 | X112: 0 | Y112: 0 | Z112: 0 | AA112: 0
A113: 8.10 | C113: ²ÛÉ í»×»ñ | F113: 2 | G113: 0 | H113: 0 | I113: 0 | J113: 0 | K113: 2 | L113: 1 | M113: 0 | N113: 0 | O113: 1 | P113: 0 | Q113: 1 | R113: 0 | S113: 0 | T113: 2 | U113: 0 | V113: 2 | W113: 0 | X113: 0 | Y113: 0 | Z113: 0 | AA113: 0
A114: 9. | C114: Ð³ïáõÏ Ñ³Ûó³ÛÇÝ í³ñáõÛÃÇ ·áñÍ»ñ | F114: 0 | G114: 0 | H114: 0 | I114: 0 | J114: 0 | K114: 0 | L114: 0 | M114: 0 | N114: 0 | O114: 0 | P114: 0 | Q114: 0 | R114: 0 | S114: 0 | T114: 0 | U114: 0 | V114: 0 | W114: 0 | X114: 0 | Y114: 0 | Z114: 0 | AA114: 0
A115: 9.1 | C115: ø³Õ³ù³óáõ ÏÛ³ÝùÇÝ Ï³Ù ³éáÕçáõÃÛ³ÝÝ ëå³éÝ³óáÕ íï³Ý·Ç í»ñ³µ»ñÛ³É | F115: 0 | G115: 0 | H115: 0 | I115: 0 | J115: 0 | K115: 0 | L115: 0 | M115: 0 | N115: 0 | O115: 0 | P115: 0 | Q115: 0 | R115: 0 | S115: 0 | T115: 0 | U115: 0 | V115: 0 | W115: 0 | X115: 0 | Y115: 0 | Z115: 0 | AA115: 0
A116: 9.2 | C116: ÐÐ Î»ÝïñáÝ³Ï³Ý µ³ÝÏÇ ¨ ³Ýí×³ñáõÝ³Ï µ³ÝÏÇ Ï³Ù í³ñÏ³ÛÇÝ Ï³½Ù³Ï»ñåáõÃÛ³Ý Å³Ù³Ý³Ï³íáñ ³¹ÙÇÝÇëïñ³óÇ³ÛÇ áñáßáõÙÝ»ñÇ µáÕáù³ñÏÙ³Ý í»ñ³µ»ñÛ³É | F116: 0 | G116: 0 | H116: 0 | I116: 0 | J116: 0 | K116: 0 | L116: 0 | M116: 0 | N116: 0 | O116: 0 | P116: 0 | Q116: 0 | R116: 0 | S116: 0 | T116: 0 | U116: 0 | V116: 0 | W116: 0 | X116: 0 | Y116: 0 | Z116: 0 | AA116: 0
A117: 9.3 | C117: ²ÛÉ í»×»ñ | F117: 0 | G117: 0 | H117: 0 | I117: 0 | J117: 0 | K117: 0 | L117: 0 | M117: 0 | N117: 0 | O117: 0 | P117: 0 | Q117: 0 | R117: 0 | S117: 0 | T117: 0 | U117: 0 | V117: 0 | W117: 0 | X117: 0 | Y117: 0 | Z117: 0 | AA117: 0
A118: 10. | C118: Ð³ñÏ³¹Çñ Ï³ï³ñÙ³Ý ÁÝÃ³óùáõÙ Í³·³Í í»×»ñ | F118: 0 | G118: 0 | H118: 0 | I118: 0 | J118: 0 | K118: 0 | L118: 0 | M118: 0 | N118: 0 | O118: 0 | P118: 0 | Q118: 0 | R118: 0 | S118: 0 | T118: 0 | U118: 0 | V118: 0 | W118: 0 | X118: 0 | Y118: 0 | Z118: 0 | AA118: 0
A119: 10.1 | B119: ուժը կորցրել է | C119: ¸³ï³Ï³Ý ³ÏïÇ Ï³ï³ñáõÙÁ Ñ»ï³Ó·»Éáõ Ï³Ù ï³ñ³Å³ÙÏ»ï»Éáõ í»ñ³µ»ñÛ³É | F119: 0 | G119: 0 | H119: 0 | I119: 0 | J119: 0 | K119: 0 | L119: 0 | M119: 0 | N119: 0 | O119: 0 | P119: 0 | Q119: 0 | R119: 0 | S119: 0 | T119: 0 | U119: 0 | V119: 0 | W119: 0 | X119: 0 | Y119: 0 | Z119: 0 | AA119: 0
A120: 10.2 | C120: ¸³ï³Ï³Ý ³ÏïÇ Ï³ï³ñÙ³Ý »Õ³Ý³ÏÇ, Ï³ñ·Ç ÷á÷áËÙ³Ý í»ñ³µ»ñÛ³É | F120: 0 | G120: 0 | H120: 0 | I120: 0 | J120: 0 | K120: 0 | L120: 0 | M120: 0 | N120: 0 | O120: 0 | P120: 0 | Q120: 0 | R120: 0 | S120: 0 | T120: 0 | U120: 0 | V120: 0 | W120: 0 | X120: 0 | Y120: 0 | Z120: 0 | AA120: 0
A121: 10.3 | C121: Î³ï³ñáÕ³Ï³Ý Ã»ñÃÁ Ï³ï³ñÙ³Ý Ý»ñÏ³Û³óÝ»Éáõ µ³ó ÃáÕÝí³Í Å³ÙÏ»ïÁ í»ñ³Ï³Ý·Ý»Éáõ í»ñ³µ»ñÛ³É | F121: 0 | G121: 0 | H121: 0 | I121: 0 | J121: 0 | K121: 0 | L121: 0 | M121: 0 | N121: 0 | O121: 0 | P121: 0 | Q121: 0 | R121: 0 | S121: 0 | T121: 0 | U121: 0 | V121: 0 | W121: 0 | X121: 0 | Y121: 0 | Z121: 0 | AA121: 0
A122: 10.4 | C122: ì×éÇ ßñç³¹³ñÓ Ï³ï³ñ»Éáõ í»ñ³µ»ñÛ³É | F122: 0 | G122: 0 | H122: 0 | I122: 0 | J122: 0 | K122: 0 | L122: 0 | M122: 0 | N122: 0 | O122: 0 | P122: 0 | Q122: 0 | R122: 0 | S122: 0 | T122: 0 | U122: 0 | V122: 0 | W122: 0 | X122: 0 | Y122: 0 | Z122: 0 | AA122: 0
A123: 10.5 | C123: Î³ï³ñáÕ³Ï³Ý Ã»ñÃÁ å³ñ½³µ³Ý»Éáõ í»ñ³µ»ñÛ³É | F123: 0 | G123: 0 | H123: 0 | I123: 0 | J123: 0 | K123: 0 | L123: 0 | M123: 0 | N123: 0 | O123: 0 | P123: 0 | Q123: 0 | R123: 0 | S123: 0 | T123: 0 | U123: 0 | V123: 0 | W123: 0 | X123: 0 | Y123: 0 | Z123: 0 | AA123: 0
A124: 10.6 | C124: ²ÛÉ í»×»ñ | F124: 0 | G124: 0 | H124: 0 | I124: 0 | J124: 0 | K124: 0 | L124: 0 | M124: 0 | N124: 0 | O124: 0 | P124: 0 | Q124: 0 | R124: 0 | S124: 0 | T124: 0 | U124: 0 | V124: 0 | W124: 0 | X124: 0 | Y124: 0 | Z124: 0 | AA124: 0
A125: 11. | C125: ä³ñï³íáñ³Ï³Ý Çñ³í³Ñ³ñ³µ»ñáõÃÛáõÝÝ»ñ | F125: 0 | G125: 0 | H125: 0 | I125: 0 | J125: 0 | K125: 0 | L125: 0 | M125: 0 | N125: 0 | O125: 0 | P125: 0 | Q125: 0 | R125: 0 | S125: 0 | T125: 0 | U125: 0 | V125: 0 | W125: 0 | X125: 0 | Y125: 0 | Z125: 0 | AA125: 0
A126: 11.1 | C126: ¶áõÙ³ñÇ å³Ñ³ÝçÇ Ù³ëÇÝ | F126: 265 | G126: 645 | H126: 629 | I126: 14 | J126: 2 | K126: 708 | L126: 450 | M126: 76 | N126: 62 | O126: 120 | P126: 17 | Q126: 100 | R126: 3 | S126: 0 | T126: 708 | U126: 9 | V126: 835 | W126: 79 | X126: 0 | Y126: 1 | Z126: 177 | AA126: 40
A127: 11.2 | C127: ä³ñï³íáñáõÃÛáõÝÁ µÝ»Õ»Ýáí Ï³ï³ñ»Éáõ å³Ñ³ÝçÇ Ù³ëÇÝ | F127: 0 | G127: 0 | H127: 0 | I127: 0 | J127: 0 | K127: 0 | L127: 0 | M127: 0 | N127: 0 | O127: 0 | P127: 0 | Q127: 0 | R127: 0 | S127: 0 | T127: 0 | U127: 0 | V127: 0 | W127: 0 | X127: 0 | Y127: 0 | Z127: 0 | AA127: 0
A128: 11.3 | C128: ìÝ³ëÁ ¨ µ³ó ÃáÕÝí³Í û·áõïÁ Ñ³ïáõó»Éáõ å³Ñ³ÝçÇ Ù³ëÇÝ | F128: 0 | G128: 20 | H128: 18 | I128: 1 | J128: 1 | K128: 12 | L128: 5 | M128: 1 | N128: 3 | O128: 3 | P128: 1 | Q128: 2 | R128: 0 | S128: 0 | T128: 12 | U128: 2 | V128: 7 | W128: 4 | X128: 0 | Y128: 0 | Z128: 4 | AA128: 0
A129: 11.4 | C129: ø³Õ³ù³óáõ ÏÛ³ÝùÇÝ Ï³Ù ³éáÕçáõÃÛ³ÝÁ å³ï×³éí³Í íÝ³ëÇ Ñ³ïáõóÙ³Ý í»ñ³µ»ñÛ³É | F129: 1 | G129: 3 | H129: 3 | I129: 0 | J129: 0 | K129: 3 | L129: 0 | M129: 0 | N129: 1 | O129: 2 | P129: 2 | Q129: 0 | R129: 0 | S129: 0 | T129: 3 | U129: 0 | V129: 1 | W129: 1 | X129: 0 | Y129: 0 | Z129: 1 | AA129: 0
A130: 11.5 | C130: ²åñ³ÝùÝ»ñÇ, ³ßË³ï³ÝùÝ»ñÇ Ï³Ù Í³é³ÛáõÃÛáõÝÝ»ñÇ Ã»ñáõÃÛáõÝÝ»ñÇ Ñ»ï¨³Ýùáí å³ï×³éí³Í íÝ³ëÝ»ñÇ Ñ³ïáõóÙ³Ý í»ñ³µ»ñÛ³É | F130: 1 | G130: 0 | H130: 0 | I130: 0 | J130: 0 | K130: 0 | L130: 0 | M130: 0 | N130: 0 | O130: 0 | P130: 0 | Q130: 0 | R130: 0 | S130: 0 | T130: 0 | U130: 0 | V130: 0 | W130: 0 | X130: 0 | Y130: 0 | Z130: 1 | AA130: 1
A131: 11.6 | C131: ²ÝÑÇÙÝ Ñ³ñëï³óÙ³Ý Ñ»ï¨³Ýùáí Í³·³Í å³ñï³íáñáõÃÛáõÝÝ»ñ | F131: 0 | G131: 1 | H131: 1 | I131: 0 | J131: 0 | K131: 1 | L131: 0 | M131: 0 | N131: 1 | O131: 0 | P131: 0 | Q131: 0 | R131: 0 | S131: 0 | T131: 1 | U131: 0 | V131: 0 | W131: 1 | X131: 0 | Y131: 0 | Z131: 0 | AA131: 0
... A138: 13. | C138: ²ÛÉ í»×»ñ | F138: 1 | G138: 82 | H138: 54 | I138: 13 | J138: 15 | K138: 39 | L138: 18 | M138: 1 | N138: 10 | O138: 10 | P138: 1 | Q138: 8 | R138: 1 | S138: 0 | T138: 39 | U138: 2 | V138: 30 | W138: 9 | X138: 0 | Y138: 2 | Z138: 14 | AA138: 0
A139: 14. | C139: ÀÝ¹³Ù»ÝÁ | F139: =SUM(F21:F138) -> 513 | G139: =SUM(G21:G138) -> 1497 | H139: =SUM(H21:H138) -> 1413 | I139: =SUM(I21:I138) -> 60 | J139: =SUM(J21:J138) -> 24 | K139: =SUM(K21:K138) -> 1452 | L139: =SUM(L21:L138) -> 788 | M139: =SUM(M21:M138) -> 134 | ... R139: =SUM(R21:R138) -> 23 | T139: =SUM(T21:T138) -> 1452 | U139: =SUM(U21:U138) -> 20 | V139: =SUM(V21:V138) -> 1500 | W139: =SUM(W21:W138) -> 230 | Y139: =SUM(Y21:Y138) -> 5 | Z139: =SUM(Z21:Z138) -> 454 | AA139: =SUM(AA21:AA138) -> 125
C142: Ì³ÝáÃáõÃÛáõÝ: ´áÉáñ ³ÛÝ ïáÕ»ñÁ, áñï»Õ ·ñí³Í ¿ áõÅÁ Ïáñóñ»É ¿ Éñ³óÝ»É å»ïù ã¿, ù³ÝÇ áñ 2010 Ãí³Ï³ÝÇó ³Û¹ íÇ×³Ï³·ñ³Ï³Ý ïáÕ»ñÁ ³ÛÉ¨ë ã»Ý ·áñÍ»Éáõ, ¹ñ³Ýù ³ÝÑñ³Å»ßï »Ý ÙÇ³ÛÝ ¹³ï³Ï³Ý Ñ³Ù³Ï³ñ·áõÙ áñáÝáõÙÝ»ñ Ï³ï³ñ»Éáõ Ñ³Ù³ñ:

Sheet KENTRON
A1: Ð²ÞìºîìàôÂÚàôÜ
A2: ø²Ô²ø²òÆ²Î²Ü ¶àðÌºðÆ øÜÜàôÂÚ²Ü ìºð²´ºðÚ²È 2010Թ
A3: ԿԵՆՏՐՈՆ ԵՎ ՆՈՐՔ-ՄԱՐԱՇ ՎԱՐՉԱԿԱՆ ՇՐՋԱՆՆԵՐԻ ԸՆԴՀԱՆՈՒՐ ԻՐԱՎԱՍՈՒԹՅԱՆ ԴԱՏԱՐԱՆԻ ՏԱՐԵԿԱՆ ՀԱՇՎԵՏՎՈՒԹՅՈՒՆ
A5: êïáõ·Çã Ñ³í³ë³ñáõÙÝ»ñª 2=3+4+5, 1+3=15+16+21, 6=7+8+9+10, 10=11+12+13, 15=6+14, | F5: ²Ý³í³ñï ·áñÍ»ñÇ ÙÝ³óáñ¹Á Ñ³ßí»ïáõ Å³Ù³Ý³Ï³ßñç³ÝÇ ëÏ½µáõÙ | G5: êï³óí³Í Ñ³Ûó»ñÇ,¹ÇÙáõÙÝ»ñÇ (·áñÍ»ñ)ù³Ý³ÏÁ | K5: ²í³ñïí»É »Ý ·áñÍ»ñ Ñ³ßí»ïáõ Å³Ù³Ý³Ï³ßñç³ÝáõÙ | U5: ¶áñÍÝ áõÕ³ñÏí»É ¿ Áëï ÁÝ¹¹³ïáõÃÛ³Ý | V5: Øï»É »Ý ûñÇÝ³Ï³Ý áõÅÇ Ù»ç | W5: ´áÕáù³ñÏí»É »Ý í»ñ³ùÝÝÇã ¹³ï³ñ³Ý | Z5: ²Ý³í³ñï ·áñÍ»ñÇ ÙÝ³óáñ¹Á Ñ³ßí»ïáõ Å³Ù³Ý³Ï³ßñç³ÝÇ í»ñçáõÙ | AA5: ²Û¹ ÃíáõÙª Ï³ë»óí³Í
G8: ÀÝ¹³Ù»ÝÁ | H8: ²Û¹ ÃíáõÙª ÁÝ¹áõÝí»É ¿ í³ñáõÛÃ | I8: ²Û¹ ÃíáõÙª í»ñ³¹³ñÓí»É ¿ | J8: ²Û¹ ÃíáõÙª Ñ³Ûó»ñÇ (¹ÇÙáõÙÝ»ñÇ) ÁÝ¹áõÝáõÙÁ Ù»ñÅí»É ¿ | K8: ÀÝ¹³Ù»ÝÁ ³í³ñïí»É »Ý ·áñÍ»ñ í×éÇ Ï³Û³óáõÙáí | L8: ²Û¹ ÃíáõÙª Ñ³ÛóÇ µ³í³ñ³ñÙ³Ùµ | M8: ²Û¹ ÃíáõÙª Ñ³ÛóÇ Ù³ëÝ³ÏÇ µ³í³ñ³ñÙ³Ùµ | N8: ²Û¹ ÃíáõÙª Ñ³ÛóÇ Ù»ñÅÙ³Ùµ | O8: ²Û¹ ÃíáõÙª Ï³ñ×í»É »Ý | S8: Ð³ÛóÁ ÃáÕÝí»É ¿ ³é³Ýó ùÝÝáõÃÛ³Ý | T8: ÀÝ¹³Ù»ÝÝ ³í³ñïí»É »Ý ·áñÍ»ñ | W8: Ï³Û³óí³Í í×ÇéÝ»ñÇ ¹»Ù | X8: ³é³Ýó ùÝÝáõÃÛ³Ý ÃáÕÝ»Éáõ Ù³ëÇÝ áñáßáõÙÝ»ñÇ ¹»Ù | Y8: ÙÇç³ÝÏÛ³É ¹³ï³Ï³Ý ³Ïï»ñÇ ¹»Ù
O11: ÀÝ¹³Ù»ÝÁ Ï³ñ×í»É »Ý | P11: ²Û¹ ÃíáõÙª Ñ³ëï³ïí»É ¿ ÏÝùí³Í Ñ³ßïáõÃÛ³Ý Ñ³Ù³Ó³ÛÝáõÃÛáõÝÁ | Q11: ²Û¹ ÃíáõÙª Ñ³óÇó, ¹ÇÙáõÙÇó Ññ³Å³ñí»Éáõ ÑÇÙùáí | R11: ²Û¹ ÃíáõÙª ³ÛÉ ÑÇÙùáí
A19: Æñ³í³Ñ³ñ³µ»ñáõÃÛáõÝÝ»ñÇ ï»ë³ÏÝ»ñÁ | F19: 1 | G19: 2 | H19: 3 | I19: 4 | J19: 5 | K19: 6 | L19: 7 | M19: 8 | N19: 9 | O19: 10 | P19: 11 | Q19: 12 | R19: 13 | S19: 14 | T19: 15 | U19: 16 | V19: 17 | W19: 18 | X19: 19 | Y19: 20 | Z19: 21 | AA19: 22
A20: 1. | C20: ¶áõÛù³ÛÇÝ í»×»ñ | F20: 0 | G20: 0 | H20: 0 | I20: 0 | J20: 0 | K20: 0 | L20: 0 | M20: 0 | N20: 0 | O20: 0 | P20: 0 | Q20: 0 | R20: 0 | S20: 0 | T20: 0 | U20: 0 | V20: 0 | W20: 0 | X20: 0 | Y20: 0 | Z20: 0 | AA20: 0
A21: 1.1 | C21: ¶áõÛùÇ ÝÏ³ïÙ³Ùµ ë»÷³Ï³ÝáõÃÛ³Ý Çñ³íáõÝùÁ ×³Ý³ã»Éáõ í»ñ³µ»ñÛ³É | F21: 67 | G21: 70 | H21: 65 | I21: 4 | J21: 1 | K21: 62 | L21: 27 | M21: 2 | N21: 15 | O21: 18 | P21: 0 | Q21: 8 | R21: 10 | S21: 1 | T21: 63 | U21: 3 | V21: 68 | W21: 29 | X21: 0 | Y21: 0 | Z21: 66 | AA21: 10
A22: 1.1.1 | C22: ²Û¹ ÃíáõÙª Ó»éùµ»ñÙ³Ý í³Õ»ÙáõÃÛ³Ý áõÅáí | F22: 23 | G22: 22 | H22: 21 | I22: 1 | J22: 0 | K22: 22 | L22: 5 | M22: 2 | N22: 7 | O22: 8 | P22: 0 | Q22: 4 | R22: 4 | S22: 0 | T22: 22 | U22: 0 | V22: 19 | W22: 0 | X22: 0 | Y22: 0 | Z22: 22 | AA22: 10
A23: 1.1.2 | B23: ուժը կորցրել է | C23: ²Û¹ ÃíáõÙª ïÇñ³½áõñÏ ·áõÛùÇ ÝÏ³ïÙ³Ùµ | F23: 0 | G23: 0 | H23: 0 | I23: 0 | J23: 0 | K23: 0 | L23: 0 | M23: 0 | N23: 0 | O23: 0 | P23: 0 | Q23: 0 | R23: 0 | S23: 0 | T23: 0 | U23: 0 | V23: 0 | W23: 0 | X23: 0 | Y23: 0 | Z23: 0 | AA23: 0
A24: 1.1.3 | B24: ուժը կորցրել է | C24: ²Û¹ ÃíáõÙª ÇÝùÝ³Ï³Ù Ï³éáõÛóÇ ÝÏ³ïÙ³Ùµ | F24: 0 | G24: 0 | H24: 0 | I24: 0 | J24: 0 | K24: 0 | L24: 0 | M24: 0 | N24: 0 | O24: 0 | P24: 0 | Q24: 0 | R24: 0 | S24: 0 | T24: 0 | U24: 0 | V24: 0 | W24: 0 | X24: 0 | Y24: 0 | Z24: 0 | AA24: 0
A25: 1.2 | C25: ê»÷³Ï³ÝáõÃÛ³Ý Çñ³íáõÝùÇ ¹³¹³ñ»óÙ³Ý í»ñ³µ»ñÛ³É | F25: 3 | G25: 7 | H25: 7 | I25: 0 | J25: 0 | K25: 4 | L25: 1 | M25: 0 | N25: 0 | O25: 3 | P25: 2 | Q25: 1 | R25: 0 | S25: 0 | T25: 4 | U25: 0 | V25: 6 | W25: 5 | X25: 0 | Y25: 0 | Z25: 6 | AA25: 0
A26: 1.3 | C26: ¶áõÛùÇ ÝÏ³ïÙ³Ùµ û·ï³·áñÍÙ³Ý Çñ³íáõÝùÁ ×³Ý³ã»Éáõ í»ñ³µ»ñÛ³É | F26: 4 | G26: 1 | H26: 1 | I26: 0 | J26: 0 | K26: 1 | L26: 0 | M26: 0 | N26: 1 | O26: 0 | P26: 0 | Q26: 0 | R26: 0 | S26: 0 | T26: 1 | U26: 0 | V26: 0 | W26: 0 | X26: 0 | Y26: 0 | Z26: 4 | AA26: 1
A27: 1.3.1 | C27: ²Û¹ ÃíáõÙª µÝ³Ïû·ï³·áñÍÙ³Ý Çñ³íáõÝùÁ ×³Ý³ã»Éáõ í»ñ³µ»ñÛ³É | F27: 1 | G27: 0 | H27: 0 | I27: 0 | J27: 0 | K27: 1 | L27: 0 | M27: 0 | N27: 0 | O27: 1 | P27: 0 | Q27: 1 | R27: 0 | S27: 0 | T27: 1 | U27: 0 | V27: 1 | W27: 0 | X27: 0 | Y27: 0 | Z27: 0 | AA27: 0
A28: 1.3.2 | C28: ²Û¹ ÃíáõÙª ÑáÕ³Ù³ëÇ ÝÏ³ïÙ³Ùµ û·ï³·áñÍÙ³Ý Çñ³íáõÝùÁ ×³Ý³ã»Éáõ í»ñ³µ»ñÛ³É | F28: 0 | G28: 0 | H28: 0 | I28: 0 | J28: 0 | K28: 0 | L28: 0 | M28: 0 | N28: 0 | O28: 0 | P28: 0 | Q28: 0 | R28: 0 | S28: 0 | T28: 0 | U28: 0 | V28: 0 | W28: 0 | X28: 0 | Y28: 0 | Z28: 0 | AA28: 0
A29: 1.4 | C29: ¶áõÛùÇ ÝÏ³ïÙ³Ùµ û·ï³·áñÍÙ³Ý Çñ³íáõÝùÁ ¹³¹³ñ»óÝ»Éáõ í»ñ³µ»ñÛ³É | F29: 3 | G29: 3 | H29: 3 | I29: 0 | J29: 0 | K29: 4 | L29: 2 | M29: 1 | N29: 1 | O29: 0 | P29: 0 | Q29: 0 | R29: 0 | S29: 0 | T29: 4 | U29: 0 | V29: 1 | W29: 1 | X29: 0 | Y29: 0 | Z29: 2 | AA29: 2
A30: 1.4.1 | C30: ²Û¹ ÃíáõÙª µÝ³Ïû·ï³·áñÍÙ³Ý Çñ³íáõÝùÁ ¹³¹³ñ»óÝ»Éáõ í»ñ³µ»ñÛ³É | F30: 1 | G30: 0 | H30: 0 | I30: 0 | J30: 0 | K30: 1 | L30: 1 | M30: 0 | N30: 0 | O30: 0 | P30: 0 | Q30: 0 | R30: 0 | S30: 0 | T30: 1 | U30: 0 | V30: 0 | W30: 1 | X30: 0 | Y30: 0 | Z30: 0 | AA30: 0
A31: 1.4.1/1 | C31: ²Û¹ ÃíáõÙª ÷áËÑ³ïáõóÙ³Ùµ | F31: 1 | G31: 0 | H31: 0 | I31: 0 | J31: 0 | K31: 1 | L31: 0 | M31: 0 | N31: 1 | O31: 0 | P31: 0 | Q31: 0 | R31: 0 | S31: 0 | T31: 1 | U31: 0 | V31: 1 | W31: 0 | X31: 0 | Y31: 0 | Z31: 0 | AA31: 0
A32: 1.5 | C32: ´Ý³Ï³ñ³ÝÇó/ ï³ñ³ÍùÇó/ íï³ñ»Éáõ í»ñ³µ»ñÛ³É | F32: 23 | G32: 35 | H32: 34 | I32: 1 | J32: 0 | K32: 43 | L32: 27 | M32: 2 | N32: 3 | O32: 11 | P32: 4 | Q32: 5 | R32: 2 | S32: 0 | T32: 43 | U32: 0 | V32: 30 | W32: 16 | X32: 0 | Y32: 0 | Z32: 14 | AA32: 1
A33: 1.6 | C33: ¶áõÛùÝ áõñÇßÇ ³åûñÇÝÇ ïÇñ³å»ïáõÙÇó »ï í»ñ³¹³ñÓÝ»Éáõ í»ñ³µ»ñÛ³É | F33: 13 | G33: 8 | H33: 7 | I33: 1 | J33: 0 | K33: 14 | L33: 6 | M33: 0 | N33: 5 | O33: 3 | P33: 1 | Q33: 2 | R33: 0 | S33: 0 | T33: 14 | U33: 0 | V33: 12 | W33: 11 | X33: 0 | Y33: 0 | Z33: 6 | AA33: 3
A34: 1.6.1 | B34: ավելացվել է | C34: ´³ñ»ËÇÕ× Ó»éùµ»ñáÕÇó Çñ ·áõÛùÁ Ñ»ï å³Ñ³Ýç»Éáõ í»ñ³µ»ñÛ³É | F34: 0 | G34: 0 | H34: 0 | I34: 0 | J34: 0 | K34: 0 | L34: 0 | M34: 0 | N34: 0 | O34: 0 | P34: 0 | Q34: 0 | R34: 0 | S34: 0 | T34: 0 | U34: 0 | V34: 0 | W34: 0 | X34: 0 | Y34: 0 | Z34: 0 | AA34: 0
A35: 1.7 | C35: îÇñ³å»ïáõÙÇó ½ñÏ»Éáõ Ñ»ï ãÏ³åí³Í Çñ³íáõÝùÝ»ñÇ Ë³ËïáõÙÁ í»ñ³óÝ»Éáõ í»ñ³µ»ñÛ³É | F35: 0 | G35: 4 | H35: 3 | I35: 1 | J35: 0 | K35: 0 | L35: 0 | M35: 0 | N35: 0 | O35: 0 | P35: 0 | Q35: 0 | R35: 0 | S35: 0 | T35: 0 | U35: 0 | V35: 0 | W35: 0 | X35: 0 | Y35: 0 | Z35: 3 | AA35: 1
A36: 1.8 | C36: ÀÝ¹Ñ³Ýáõñ µ³ÅÝ³ÛÇÝ ë»÷³Ï³ÝáõÃÛáõÝÇó µ³ÅÇÝÝ ³é³ÝÓÝ³óÝ»Éáõ í»ñ³µ»ñÛ³É | F36: 52 | G36: 51 | H36: 44 | I36: 7 | J36: 0 | K36: 33 | L36: 10 | M36: 0 | N36: 5 | O36: 18 | P36: 8 | Q36: 8 | R36: 2 | S36: 0 | T36: 33 | U36: 0 | V36: 29 | W36: 6 | X36: 0 | Y36: 0 | Z36: 63 | AA36: 21
A37: 1.8.1 | B37: ավելացվել է | C37: Ð³Ù³ï»Õ ë»÷³Ï³ÝáõÃÛ³Ý Ý»ñùá ·ïÝíáÕ ·áõÛùÁ µ³Å³Ý»Éáõ ¨ ¹ñ³ÝÇó µ³ÅÇÝÝ ³é³ÝÓÝ³óÝ»Éáõ í»ñ³µ»ñÛ³É | F37: 0 | G37: 16 | H37: 15 | I37: 1 | J37: 0 | K37: 2 | L37: 1 | M37: 0 | N37: 0 | O37: 1 | P37: 0 | Q37: 1 | R37: 0 | S37: 0 | T37: 2 | U37: 0 | V37: 2 | W37: 0 | X37: 0 | Y37: 0 | Z37: 13 | AA37: 4
A38: 1.8.3 | B38: ավելացվել է | C38: ¶áõÛùÇ íñ³ µéÝ³·³ÝÓáõÙ ï³ñ³Í»Éáõ å³Ñ³ÝçÇ Ù³ëÇÝ | F38: 0 | G38: 2 | H38: 2 | I38: 0 | J38: 0 | K38: 0 | L38: 0 | M38: 0 | N38: 0 | O38: 0 | P38: 0 | Q38: 0 | R38: 0 | S38: 0 | T38: 0 | U38: 0 | V38: 0 | W38: 0 | X38: 0 | Y38: 0 | Z38: 2 | AA38: 1
A39: 1.9 | C39: ²ÛÉ í»×»ñ | F39: 56 | G39: 79 | H39: 65 | I39: 14 | J39: 0 | K39: 66 | L39: 14 | M39: 11 | N39: 20 | O39: 21 | P39: 9 | Q39: 10 | R39: 2 | S39: 0 | T39: 66 | U39: 0 | V39: 45 | W39: 21 | X39: 0 | Y39: 0 | Z39: 55 | AA39: 18
A40: 2. | C40: ¶áñÍ³ñùÝ»ñÇ Ñ»ï Ï³åí³Í í»×»ñ | F40: 0 | G40: 0 | H40: 0 | I40: 0 | J40: 0 | K40: 0 | L40: 0 | M40: 0 | N40: 0 | O40: 0 | P40: 0 | Q40: 0 | R40: 0 | S40: 0 | T40: 0 | U40: 0 | V40: 0 | W40: 0 | X40: 0 | Y40: 0 | Z40: 0 | AA40: 0
A41: 2.1 | C41: ·áñÍ³ñùÝ»ñÇ ³Ýí³í»ñáõÃÛ³Ý Ñ»ï Ï³åí³Í í»×»ñ | F41: 2 | G41: 17 | H41: 16 | I41: 1 | J41: 0 | K41: 7 | L41: 4 | M41: 0 | N41: 1 | O41: 2 | P41: 1 | Q41: 1 | R41: 0 | S41: 0 | T41: 7 | U41: 0 | V41: 6 | W41: 3 | X41: 0 | Y41: 0 | Z41: 11 | AA41: 1
A42: 2.1.1 | C42: ³Û¹ ÃíáõÙ`գáñÍ³ñùÁ íÇ×³Ñ³ñáõÛó ×³Ý³ã»Éáõ í»ñ³µ»ñÛ³É | F42: 0 | G42: 0 | H42: 0 | I42: 0 | J42: 0 | K42: 0 | L42: 0 | M42: 0 | N42: 0 | O42: 0 | P42: 0 | Q42: 0 | R42: 0 | S42: 0 | T42: 0 | U42: 0 | V42: 0 | W42: 0 | X42: 0 | Y42: 0 | Z42: 0 | AA42: 0
A43: 2.1.2 | C43: ³Û¹ ÃíáõÙ` ·áñÍ³ñùÇ ³éáãÝãáõÃÛ³Ý Ñ»ï¨³ÝùÝ»ñ ÏÇñ³é»Éáõ í»ñ³µ»ñÛ³É | F43: 12 | G43: 22 | H43: 21 | I43: 1 | J43: 0 | K43: 9 | L43: 1 | M43: 2 | N43: 2 | O43: 4 | P43: 1 | Q43: 3 | R43: 0 | S43: 0 | T43: 9 | U43: 0 | V43: 5 | W43: 3 | X43: 0 | Y43: 0 | Z43: 24 | AA43: 1
A44: 2.2 | C44: ¶áñÍ³ñùÁ í³í»ñ ×³Ý³ã»Éáõ í»ñ³µ»ñÛ³É | F44: 2 | G44: 3 | H44: 3 | I44: 0 | J44: 0 | K44: 3 | L44: 1 | M44: 0 | N44: 2 | O44: 0 | P44: 0 | Q44: 0 | R44: 0 | S44: 0 | T44: 3 | U44: 0 | V44: 2 | W44: 2 | X44: 0 | Y44: 0 | Z44: 2 | AA44: 0
A45: 2.3 | C45: ¶áñÍ³ñùÇó Í³·áÕ Çñ³íáõÝùÝ»ñÁ ·ñ³Ýó»Éáõ í»ñ³µ»ñÛ³É | F45: 0 | G45: 0 | H45: 0 | I45: 0 | J45: 0 | K45: 0 | L45: 0 | M45: 0 | N45: 0 | O45: 0 | P45: 0 | Q45: 0 | R45: 0 | S45: 0 | T45: 0 | U45: 0 | V45: 0 | W45: 0 | X45: 0 | Y45: 0 | Z45: 0 | AA45: 0
A46: 2.4 | C46: ä³ÛÙ³Ý³·ÇñÝ ³Ýí³í»ñ ×³Ý³ã»Éáõ í»ñ³µ»ñÛ³É | F46: 51 | G46: 55 | H46: 50 | I46: 5 | J46: 0 | K46: 47 | L46: 10 | M46: 4 | N46: 17 | O46: 16 | P46: 5 | Q46: 10 | R46: 1 | S46: 2 | T46: 49 | U46: 0 | V46: 31 | W46: 19 | X46: 0 | Y46: 0 | Z46: 52 | AA46: 13
A47: 2.5 | C47: ä³ÛÙ³Ý³·ñÇÁ í³í»ñ ×³Ý³ã»Éáõ í»ñ³µ»ñÛ³É | F47: 2 | G47: 3 | H47: 3 | I47: 0 | J47: 0 | K47: 5 | L47: 2 | M47: 0 | N47: 1 | O47: 2 | P47: 1 | Q47: 1 | R47: 0 | S47: 0 | T47: 5 | U47: 0 | V47: 5 | W47: 0 | X47: 0 | Y47: 0 | Z47: 0 | AA47: 0
A48: 2.6 | B48: ուժը կորցրել է | C48: ä³ÛÙ³Ý³·ñÇó Í³·áÕ Çñ³íáõÝùÝ»ñÁ ·ñ³Ýó»Éáõ í»ñ³µ»ñÛ³É | F48: 0 | G48: 0 | H48: 0 | I48: 0 | J48: 0 | K48: 0 | L48: 0 | M48: 0 | N48: 0 | O48: 0 | P48: 0 | Q48: 0 | R48: 0 | S48: 0 | T48: 0 | U48: 0 | V48: 0 | W48: 0 | X48: 0 | Y48: 0 | Z48: 0 | AA48: 0
A49: 2.7 | C49: ä³ÛÙ³Ý³·ÇñÁ ÷á÷áË»Éáõ ¨ ÉáõÍ»Éáõ í»ñ³µ»ñÛ³É | F49: 26 | G49: 43 | H49: 35 | I49: 8 | J49: 0 | K49: 31 | L49: 15 | M49: 3 | N49: 6 | O49: 7 | P49: 1 | Q49: 6 | R49: 0 | S49: 0 | T49: 31 | U49: 0 | V49: 24 | W49: 9 | X49: 0 | Y49: 0 | Z49: 30 | AA49: 12
A50: 2.8 | C50: ä³ÛÙ³Ý³·Çñ ÏÝù»ÉáõÝ å³ñï³íáñ»óÝ»Éáõ í»ñ³µ»ñÛ³É | F50: 17 | G50: 14 | H50: 13 | I50: 1 | J50: 0 | K50: 20 | L50: 5 | M50: 3 | N50: 3 | O50: 9 | P50: 2 | Q50: 5 | R50: 2 | S50: 0 | T50: 20 | U50: 0 | V50: 14 | W50: 7 | X50: 0 | Y50: 0 | Z50: 10 | AA50: 0
A51: 2.9 | C51: ²ÛÉ í»×»ñ | F51: 22 | G51: 74 | H51: 59 | I51: 10 | J51: 5 | K51: 40 | L51: 5 | M51: 4 | N51: 14 | O51: 17 | P51: 2 | Q51: 10 | R51: 5 | S51: 0 | T51: 40 | U51: 0 | V51: 31 | W51: 16 | X51: 0 | Y51: 0 | Z51: 41 | AA51: 11
A52: 3. | C52: Ä³é³Ý·áõÃÛ³Ý í»ñ³µ»ñÛ³É í»×»ñ | F52: 0 | G52: 0 | H52: 0 | I52: 0 | J52: 0 | K52: 0 | L52: 0 | M52: 0 | N52: 0 | O52: 0 | P52: 0 | Q52: 0 | R52: 0 | S52: 0 | T52: 0 | U52: 0 | V52: 0 | W52: 0 | X52: 0 | Y52: 0 | Z52: 0 | AA52: 0
A53: 3.1 | C53: Îï³ÏÝ ³Ýí³í»ñ ×³Ý³ã»Éáõ í»ñ³µ»ñÛ³É | F53: 2 | G53: 3 | H53: 3 | I53: 0 | J53: 0 | K53: 1 | L53: 0 | M53: 0 | N53: 0 | O53: 1 | P53: 0 | Q53: 1 | R53: 0 | S53: 0 | T53: 1 | U53: 0 | V53: 1 | W53: 0 | X53: 0 | Y53: 0 | Z53: 4 | AA53: 1
A54: 3.2 | C54: ²Ý³ñÅ³Ý Å³é³Ý· ×³Ý³ã»Éáõ í»ñ³µ»ñÛ³É | F54: 0 | G54: 0 | H54: 0 | I54: 0 | J54: 0 | K54: 0 | L54: 0 | M54: 0 | N54: 0 | O54: 0 | P54: 0 | Q54: 0 | R54: 0 | S54: 0 | T54: 0 | U54: 0 | V54: 0 | W54: 0 | X54: 0 | Y54: 0 | Z54: 0 | AA54: 0
A55: 3.3 | C55: Ä³é³Ý·áõÃÛáõÝÁ µ³Å³Ý»Éáõ í»ñ³µ»ñÛ³É | F55: 1 | G55: 0 | H55: 0 | I55: 0 | J55: 0 | K55: 1 | L55: 0 | M55: 0 | N55: 1 | O55: 0 | P55: 0 | Q55: 0 | R55: 0 | S55: 0 | T55: 1 | U55: 0 | V55: 1 | W55: 0 | X55: 0 | Y55: 0 | Z55: 0 | AA55: 0
A56: 3.4 | C56: ¶áõÛùÝ ³ÝÅ³é³Ý· ×³Ý³ã»Éáõ í»ñ³µ»ñÛ³É | F56: 0 | G56: 0 | H56: 0 | I56: 0 | J56: 0 | K56: 0 | L56: 0 | M56: 0 | N56: 0 | O56: 0 | P56: 0 | Q56: 0 | R56: 0 | S56: 0 | T56: 0 | U56: 0 | V56: 0 | W56: 0 | X56: 0 | Y56: 0 | Z56: 0 | AA56: 0
A57: 3.5 | B57: ուժը կորցրել է | C57: Àëï ûñ»ÝùÇ Å³é³Ý·áõÃÛ³Ý Çñ³íáõÝùÇ íÏ³Û³Ï³ÝÝ ³Ýí³í»ñ ×³Ý³ã»Éáõ í»ñ³µ»ñÛ³É | F57: 0 | G57: 0 | H57: 0 | I57: 0 | J57: 0 | K57: 0 | L57: 0 | M57: 0 | N57: 0 | O57: 0 | P57: 0 | Q57: 0 | R57: 0 | S57: 0 | T57: 0 | U57: 0 | V57: 0 | W57: 0 | X57: 0 | Y57: 0 | Z57: 0 | AA57: 0
A58: 3.6 | C58: Ä³é³Ý·áõÃÛáõÝÝ ÁÝ¹áõÝ»Éáõ µ³ó ÃáÕÝí³Í Å³ÙÏ»ïÁ Ñ³ñ·»ÉÇ Ñ³Ù³ñ»Éáõ í»ñ³µ»ñÛ³É | F58: 0 | G58: 11 | H58: 8 | I58: 3 | J58: 0 | K58: 3 | L58: 2 | M58: 0 | N58: 1 | O58: 0 | P58: 0 | Q58: 0 | R58: 0 | S58: 0 | T58: 3 | U58: 0 | V58: 3 | W58: 0 | X58: 0 | Y58: 0 | Z58: 5 | AA58: 0
A59: 3.7 | C59: ²ÛÉ í»×»ñ | F59: 17 | G59: 44 | H59: 40 | I59: 4 | J59: 0 | K59: 37 | L59: 17 | M59: 2 | N59: 9 | O59: 9 | P59: 3 | Q59: 6 | R59: 0 | S59: 1 | T59: 38 | U59: 0 | V59: 28 | W59: 11 | X59: 0 | Y59: 0 | Z59: 19 | AA59: 2
A60: 4 | C60: ÀÝï³Ý»Ï³Ý Çñ³í³Ñ³ñ³µ»ñáõÃÛáõÝÝ»ñÇó Í³·áÕ í»×»ñ | F60: 0 | G60: 0 | H60: 0 | I60: 0 | J60: 0 | K60: 0 | L60: 0 | M60: 0 | N60: 0 | O60: 0 | P60: 0 | Q60: 0 | R60: 0 | S60: 0 | T60: 0 | U60: 0 | V60: 0 | W60: 0 | X60: 0 | Y60: 0 | Z60: 0 | AA60: 0
A61: 4.1 | C61: ²ÙáõëÝ³ÉáõÍáõÃÛ³Ý í»ñ³µ»ñÛ³É | F61: 24 | G61: 116 | H61: 97 | I61: 12 | J61: 7 | K61: 82 | L61: 60 | M61: 10 | N61: 3 | O61: 9 | P61: 1 | Q61: 6 | R61: 2 | S61: 2 | T61: 84 | U61: 1 | V61: 68 | W61: 5 | X61: 0 | Y61: 0 | Z61: 36 | AA61: 4
A62: 4.2 | C62: ²ÉÇÙ»ÝïÇ å³Ñ³ÝçÇ í»ñ³µ»ñÛ³É | F62: 17 | G62: 28 | H62: 26 | I62: 2 | J62: 0 | K62: 25 | L62: 9 | M62: 10 | N62: 1 | O62: 5 | P62: 0 | Q62: 5 | R62: 0 | S62: 0 | T62: 25 | U62: 0 | V62: 18 | W62: 7 | X62: 0 | Y62: 0 | Z62: 18 | AA62: 0
A63: 4.3 | C63: ²ÉÇÙ»ÝïÇ ã³÷Á ÷á÷áË»Éáõ í»ñ³µ»ñÛ³É | F63: 5 | G63: 6 | H63: 6 | I63: 0 | J63: 0 | K63: 4 | L63: 0 | M63: 2 | N63: 0 | O63: 2 | P63: 1 | Q63: 1 | R63: 0 | S63: 0 | T63: 4 | U63: 0 | V63: 4 | W63: 0 | X63: 0 | Y63: 0 | Z63: 7 | AA63: 1
A64: 4.4 | C64: ÌÝáÕ³Ï³Ý Çñ³íáõÝùÝ»ñÇó ½ñÏ»Éáõ í»ñ³µ»ñÛ³É | F64: 0 | G64: 3 | H64: 3 | I64: 0 | J64: 0 | K64: 2 | L64: 1 | M64: 0 | N64: 0 | O64: 1 | P64: 0 | Q64: 1 | R64: 0 | S64: 1 | T64: 3 | U64: 0 | V64: 0 | W64: 0 | X64: 0 | Y64: 0 | Z64: 0 | AA64: 0
A65: 4.5 | C65: ÌÝáÕ³Ï³Ý Çñ³íáõÝùÝ»ñÁ í»ñ³Ï³Ý·Ý»Éáõ í»ñ³µ»ñÛ³É | F65: 0 | G65: 0 | H65: 0 | I65: 0 | J65: 0 | K65: 0 | L65: 0 | M65: 0 | N65: 0 | O65: 0 | P65: 0 | Q65: 0 | R65: 0 | S65: 0 | T65: 0 | U65: 0 | V65: 0 | W65: 0 | X65: 0 | Y65: 0 | Z65: 0 | AA65: 0
A66: 4.6 | C66: ºñ»Ë³ÛÇ áñ¹»·ñÙ³Ý í»ñ³µ»ñÛ³É | F66: 0 | G66: 51 | H66: 51 | I66: 0 | J66: 0 | K66: 50 | L66: 50 | M66: 0 | N66: 0 | O66: 0 | P66: 0 | Q66: 0 | R66: 0 | S66: 0 | T66: 50 | U66: 0 | V66: 45 | W66: 0 | X66: 0 | Y66: 0 | Z66: 1 | AA66: 0
A67: 4.7 | C67: ºñ»Ë³ÛÇ áñ¹»·ñáõÙÁ í»ñ³óÝ»Éáõ í»ñ³µ»ñÛ³É | F67: 1 | G67: 1 | H67: 1 | I67: 0 | J67: 0 | K67: 1 | L67: 1 | M67: 0 | N67: 0 | O67: 0 | P67: 0 | Q67: 0 | R67: 0 | S67: 0 | T67: 1 | U67: 0 | V67: 0 | W67: 0 | X67: 0 | Y67: 0 | Z67: 1 | AA67: 0
A68: 4.8 | C68: Ð³ÛñáõÃÛáõÝÁ ×³Ý³ã»Éáõ í»ñ³µ»ñÛ³É | F68: 0 | G68: 4 | H68: 4 | I68: 0 | J68: 0 | K68: 3 | L68: 1 | M68: 0 | N68: 0 | O68: 2 | P68: 0 | Q68: 2 | R68: 0 | S68: 0 | T68: 3 | U68: 0 | V68: 3 | W68: 0 | X68: 0 | Y68: 0 | Z68: 1 | AA68: 0
A69: 4.9 | C69: ºñ»Ë³ÛÇ µÝ³ÏáõÃÛ³Ý í³ÛñÁ áñáß»Éáõ í»ñ³µ»ñÛ³É | F69: 1 | G69: 1 | H69: 1 | I69: 0 | J69: 0 | K69: 2 | L69: 1 | M69: 0 | N69: 0 | O69: 1 | P69: 0 | Q69: 1 | R69: 0 | S69: 0 | T69: 2 | U69: 0 | V69: 2 | W69: 0 | X69: 0 | Y69: 0 | Z69: 0 | AA69: 0
... A109: 8.7.9 | C109: ²ÝÑ³ÕÃ³Ñ³ñ»ÉÇ áõÅÇ ³éÏ³ÛáõÃÛ³Ý í»ñ³µ»ñÛ³É | F109: 0 | G109: 0 | H109: 0 | I109: 0 | J109: 0 | K109: 0 | L109: 0 | M109: 0 | N109: 0 | O109: 0 | P109: 0 | Q109: 0 | R109: 0 | S109: 0 | T109: 0 | U109: 0 | V109: 0 | W109: 0 | X109: 0 | Y109: 0 | Z109: 0 | AA109: 0
A110: 8.7.10 | B110: ³í»É³óí»É ¿ | C110: úñ»Ýùáí Ý³Ë³ï»ëí³Í ³ÛÉ Çñ³í³µ³Ý³Ï³Ý ÷³ëï»ñÇ í»ñ³µ»ñÛ³É | F110: 0 | G110: 0 | H110: 0 | I110: 0 | J110: 0 | K110: 0 | L110: 0 | M110: 0 | N110: 0 | O110: 0 | P110: 0 | Q110: 0 | R110: 0 | S110: 0 | T110: 0 | U110: 0 | V110: 0 | W110: 0 | X110: 0 | Y110: 0 | Z110: 0 | AA110: 0
A111: 8.8 | C111: Àëï Ý»ñÏ³Û³óÝáÕÇ ¨ ûñ¹»ñ³ÛÇÝ Ïáñóñ³Í ³ñÅ»ÃÕÃ»ñáí Ñ³í³ëïí³Í Çñ³íáõÝùÝ»ñÁ í»ñ³Ï³Ý·Ý»Éáõ í»ñ³µ»ñÛ³É | F111: 0 | G111: 0 | H111: 0 | I111: 0 | J111: 0 | K111: 0 | L111: 0 | M111: 0 | N111: 0 | O111: 0 | P111: 0 | Q111: 0 | R111: 0 | S111: 0 | T111: 0 | U111: 0 | V111: 0 | W111: 0 | X111: 0 | Y111: 0 | Z111: 0 | AA111: 0
A112: 8.9 | B112: ուժը կորցրել է | C112: Ð³ñÏ³¹Çñ Ï³ï³ñáÕÇ ¹ÇÙáõÙáí ÏáÕÙ»ñÇ Ñ³ßïáõÃÛ³Ý Ñ³Ù³Ó³ÛÝáõÃÛ³Ý ÑÇÙ³Ý íñ³ ¹³ï³ñ³ÝÇª ·áñÍÝ Áëï ¿áõÃÛ³Ý ÉáõÍáÕ ¹³ï³Ï³Ý ³ÏïÇ í»ñ³Ý³ÛÙ³Ý í»ñ³µ»ñÛ³É | F112: 0 | G112: 0 | H112: 0 | I112: 0 | J112: 0 | K112: 0 | L112: 0 | M112: 0 | N112: 0 | O112: 0 | P112: 0 | Q112: 0 | R112: 0 | S112: 0 | T112: 0 | U112: 0 | V112: 0 | W112: 0 | X112: 0 | Y112: 0 | Z112: 0 | AA112: 0
A113: 8.10 | C113: ²ÛÉ í»×»ñ | F113: 4 | G113: 0 | H113: 0 | I113: 0 | J113: 0 | K113: 2 | L113: 1 | M113: 1 | N113: 0 | O113: 0 | P113: 0 | Q113: 0 | R113: 0 | S113: 0 | T113: 2 | U113: 0 | V113: 2 | W113: 0 | X113: 0 | Y113: 0 | Z113: 2 | AA113: 0
A114: 9. | C114: Ð³ïáõÏ Ñ³Ûó³ÛÇÝ í³ñáõÛÃÇ ·áñÍ»ñ | F114: 0 | G114: 0 | H114: 0 | I114: 0 | J114: 0 | K114: 0 | L114: 0 | M114: 0 | N114: 0 | O114: 0 | P114: 0 | Q114: 0 | R114: 0 | S114: 0 | T114: 0 | U114: 0 | V114: 0 | W114: 0 | X114: 0 | Y114: 0 | Z114: 0 | AA114: 0
A115: 9.1 | C115: ø³Õ³ù³óáõ ÏÛ³ÝùÇÝ Ï³Ù ³éáÕçáõÃÛ³ÝÝ ëå³éÝ³óáÕ íï³Ý·Ç í»ñ³µ»ñÛ³É | F115: 0 | G115: 3 | H115: 1 | I115: 1 | J115: 1 | K115: 1 | L115: 0 | M115: 0 | N115: 1 | O115: 0 | P115: 0 | Q115: 0 | R115: 0 | S115: 0 | T115: 1 | U115: 0 | V115: 1 | W115: 0 | X115: 0 | Y115: 0 | Z115: 0 | AA115: 0
A116: 9.2 | C116: ÐÐ Î»ÝïñáÝ³Ï³Ý µ³ÝÏÇ ¨ ³Ýí×³ñáõÝ³Ï µ³ÝÏÇ Ï³Ù í³ñÏ³ÛÇÝ Ï³½Ù³Ï»ñåáõÃÛ³Ý Å³Ù³Ý³Ï³íáñ ³¹ÙÇÝÇëïñ³óÇ³ÛÇ áñáßáõÙÝ»ñÇ µáÕáù³ñÏÙ³Ý í»ñ³µ»ñÛ³É | F116: 0 | G116: 0 | H116: 0 | I116: 0 | J116: 0 | K116: 0 | L116: 0 | M116: 0 | N116: 0 | O116: 0 | P116: 0 | Q116: 0 | R116: 0 | S116: 0 | T116: 0 | U116: 0 | V116: 0 | W116: 0 | X116: 0 | Y116: 0 | Z116: 0 | AA116: 0
A117: 9.3 | C117: ²ÛÉ í»×»ñ | F117: 0 | G117: 0 | H117: 0 | I117: 0 | J117: 0 | K117: 0 | L117: 0 | M117: 0 | N117: 0 | O117: 0 | P117: 0 | Q117: 0 | R117: 0 | S117: 0 | T117: 0 | U117: 0 | V117: 0 | W117: 0 | X117: 0 | Y117: 0 | Z117: 0 | AA117: 0
A118: 10. | C118: Ð³ñÏ³¹Çñ Ï³ï³ñÙ³Ý ÁÝÃ³óùáõÙ Í³·³Í í»×»ñ | F118: 0 | G118: 0 | H118: 0 | I118: 0 | J118: 0 | K118: 0 | L118: 0 | M118: 0 | N118: 0 | O118: 0 | P118: 0 | Q118: 0 | R118: 0 | S118: 0 | T118: 0 | U118: 0 | V118: 0 | W118: 0 | X118: 0 | Y118: 0 | Z118: 0 | AA118: 0
A119: 10.1 | B119: ուժը կորցրել է | C119: ¸³ï³Ï³Ý ³ÏïÇ Ï³ï³ñáõÙÁ Ñ»ï³Ó·»Éáõ Ï³Ù ï³ñ³Å³ÙÏ»ï»Éáõ í»ñ³µ»ñÛ³É | F119: 0 | G119: 0 | H119: 0 | I119: 0 | J119: 0 | K119: 0 | L119: 0 | M119: 0 | N119: 0 | O119: 0 | P119: 0 | Q119: 0 | R119: 0 | S119: 0 | T119: 0 | U119: 0 | V119: 0 | W119: 0 | X119: 0 | Y119: 0 | Z119: 0 | AA119: 0
A120: 10.2 | C120: ¸³ï³Ï³Ý ³ÏïÇ Ï³ï³ñÙ³Ý »Õ³Ý³ÏÇ, Ï³ñ·Ç ÷á÷áËÙ³Ý í»ñ³µ»ñÛ³É | F120: 0 | G120: 0 | H120: 0 | I120: 0 | J120: 0 | K120: 0 | L120: 0 | M120: 0 | N120: 0 | O120: 0 | P120: 0 | Q120: 0 | R120: 0 | S120: 0 | T120: 0 | U120: 0 | V120: 0 | W120: 0 | X120: 0 | Y120: 0 | Z120: 0 | AA120: 0
A121: 10.3 | C121: Î³ï³ñáÕ³Ï³Ý Ã»ñÃÁ Ï³ï³ñÙ³Ý Ý»ñÏ³Û³óÝ»Éáõ µ³ó ÃáÕÝí³Í Å³ÙÏ»ïÁ í»ñ³Ï³Ý·Ý»Éáõ í»ñ³µ»ñÛ³É | F121: 0 | G121: 0 | H121: 0 | I121: 0 | J121: 0 | K121: 0 | L121: 0 | M121: 0 | N121: 0 | O121: 0 | P121: 0 | Q121: 0 | R121: 0 | S121: 0 | T121: 0 | U121: 0 | V121: 0 | W121: 0 | X121: 0 | Y121: 0 | Z121: 0 | AA121: 0
A122: 10.4 | C122: ì×éÇ ßñç³¹³ñÓ Ï³ï³ñ»Éáõ í»ñ³µ»ñÛ³É | F122: 0 | G122: 0 | H122: 0 | I122: 0 | J122: 0 | K122: 0 | L122: 0 | M122: 0 | N122: 0 | O122: 0 | P122: 0 | Q122: 0 | R122: 0 | S122: 0 | T122: 0 | U122: 0 | V122: 0 | W122: 0 | X122: 0 | Y122: 0 | Z122: 0 | AA122: 0
A123: 10.5 | C123: Î³ï³ñáÕ³Ï³Ý Ã»ñÃÁ å³ñ½³µ³Ý»Éáõ í»ñ³µ»ñÛ³É | F123: 0 | G123: 0 | H123: 0 | I123: 0 | J123: 0 | K123: 0 | L123: 0 | M123: 0 | N123: 0 | O123: 0 | P123: 0 | Q123: 0 | R123: 0 | S123: 0 | T123: 0 | U123: 0 | V123: 0 | W123: 0 | X123: 0 | Y123: 0 | Z123: 0 | AA123: 0
A124: 10.6 | C124: ²ÛÉ í»×»ñ | F124: 0 | G124: 0 | H124: 0 | I124: 0 | J124: 0 | K124: 0 | L124: 0 | M124: 0 | N124: 0 | O124: 0 | P124: 0 | Q124: 0 | R124: 0 | S124: 0 | T124: 0 | U124: 0 | V124: 0 | W124: 0 | X124: 0 | Y124: 0 | Z124: 0 | AA124: 0
A125: 11. | C125: ä³ñï³íáñ³Ï³Ý Çñ³í³Ñ³ñ³µ»ñáõÃÛáõÝÝ»ñ | F125: 0 | G125: 0 | H125: 0 | I125: 0 | J125: 0 | K125: 0 | L125: 0 | M125: 0 | N125: 0 | O125: 0 | P125: 0 | Q125: 0 | R125: 0 | S125: 0 | T125: 0 | U125: 0 | V125: 0 | W125: 0 | X125: 0 | Y125: 0 | Z125: 0 | AA125: 0
A126: 11.1 | C126: ¶áõÙ³ñÇ å³Ñ³ÝçÇ Ù³ëÇÝ | F126: 1463 | G126: 1392 | H126: 1237 | I126: 152 | J126: 3 | K126: 1363 | L126: 672 | M126: 203 | N126: 111 | O126: 377 | P126: 80 | Q126: 297 | R126: 0 | S126: 0 | T126: 1363 | U126: 0 | V126: 963 | W126: 110 | X126: 0 | Y126: 7 | Z126: 1337 | AA126: 559
A127: 11.2 | C127: ä³ñï³íáñáõÃÛáõÝÁ µÝ»Õ»Ýáí Ï³ï³ñ»Éáõ å³Ñ³ÝçÇ Ù³ëÇÝ | F127: 0 | G127: 2 | H127: 2 | I127: 0 | J127: 0 | K127: 0 | L127: 0 | M127: 0 | N127: 0 | O127: 0 | P127: 0 | Q127: 0 | R127: 0 | S127: 0 | T127: 0 | U127: 0 | V127: 0 | W127: 0 | X127: 0 | Y127: 0 | Z127: 2 | AA127: 0
A128: 11.3 | C128: ìÝ³ëÁ ¨ µ³ó ÃáÕÝí³Í û·áõïÁ Ñ³ïáõó»Éáõ å³Ñ³ÝçÇ Ù³ëÇÝ | F128: 30 | G128: 71 | H128: 52 | I128: 19 | J128: 0 | K128: 42 | L128: 15 | M128: 0 | N128: 14 | O128: 13 | P128: 3 | Q128: 10 | R128: 0 | S128: 0 | T128: 42 | U128: 0 | V128: 36 | W128: 20 | X128: 0 | Y128: 3 | Z128: 40 | AA128: 12
A129: 11.4 | C129: ø³Õ³ù³óáõ ÏÛ³ÝùÇÝ Ï³Ù ³éáÕçáõÃÛ³ÝÁ å³ï×³éí³Í íÝ³ëÇ Ñ³ïáõóÙ³Ý í»ñ³µ»ñÛ³É | F129: 0 | G129: 4 | H129: 3 | I129: 1 | J129: 0 | K129: 2 | L129: 0 | M129: 0 | N129: 2 | O129: 0 | P129: 0 | Q129: 0 | R129: 0 | S129: 0 | T129: 2 | U129: 0 | V129: 1 | W129: 1 | X129: 0 | Y129: 1 | Z129: 1 | AA129: 0
A130: 11.5 | C130: ²åñ³ÝùÝ»ñÇ, ³ßË³ï³ÝùÝ»ñÇ Ï³Ù Í³é³ÛáõÃÛáõÝÝ»ñÇ Ã»ñáõÃÛáõÝÝ»ñÇ Ñ»ï¨³Ýùáí å³ï×³éí³Í íÝ³ëÝ»ñÇ Ñ³ïáõóÙ³Ý í»ñ³µ»ñÛ³É | F130: 0 | G130: 0 | H130: 0 | I130: 0 | J130: 0 | K130: 0 | L130: 0 | M130: 0 | N130: 0 | O130: 0 | P130: 0 | Q130: 0 | R130: 0 | S130: 0 | T130: 0 | U130: 0 | V130: 0 | W130: 0 | X130: 0 | Y130: 0 | Z130: 0 | AA130: 0
A131: 11.6 | C131: ²ÝÑÇÙÝ Ñ³ñëï³óÙ³Ý Ñ»ï¨³Ýùáí Í³·³Í å³ñï³íáñáõÃÛáõÝÝ»ñ | F131: 1 | G131: 2 | H131: 2 | I131: 0 | J131: 0 | K131: 1 | L131: 0 | M131: 0 | N131: 1 | O131: 0 | P131: 0 | Q131: 0 | R131: 0 | S131: 0 | T131: 1 | U131: 0 | V131: 1 | W131: 0 | X131: 0 | Y131: 0 | Z131: 2 | AA131: 0
... A138: 13. | C138: ²ÛÉ í»×»ñ | F138: 34 | G138: 197 | H138: 148 | I138: 35 | J138: 14 | K138: 93 | L138: 45 | M138: 4 | N138: 28 | O138: 16 | P138: 4 | Q138: 12 | R138: 0 | S138: 0 | T138: 93 | U138: 0 | V138: 0 | W138: 0 | X138: 0 | Y138: 0 | Z138: 89 | AA138: 8
F139: =SUM(F20:F138) -> 2065 | G139: =SUM(G20:G138) -> 2625 | H139: =SUM(H20:H138) -> 2287 | I139: =SUM(I20:I138) -> 305 | J139: =SUM(J20:J138) -> 33 | K139: =SUM(K20:K138) -> 2266 | L139: =SUM(L20:L138) -> 1049 | M139: =SUM(M20:M138) -> 288 | ... AA139: =SUM(AA20:AA138) -> 710
C142: Ì³ÝáÃáõÃÛáõÝ: ´áÉáñ ³ÛÝ ïáÕ»ñÁ, áñï»Õ ·ñí³Í ¿ áõÅÁ Ïáñóñ»É ¿ Éñ³óÝ»É å»ïù ã¿, ù³ÝÇ áñ 2010 Ãí³Ï³ÝÇó ³Û¹ íÇ×³Ï³·ñ³Ï³Ý ïáÕ»ñÁ ³ÛÉ¨ë ã»Ý ·áñÍ»Éáõ, ¹ñ³Ýù ³ÝÑñ³Å»ßï »Ý ÙÇ³ÛÝ ¹³ï³Ï³Ý Ñ³Ù³Ï³ñ·áõÙ áñáÝáõÙÝ»ñ Ï³ï³ñ»Éáõ Ñ³Ù³ñ:

Sheet AVAN
A1: Ð²ÞìºîìàôÂÚàôÜ
A2: ºðºì²Ü ø²Ô²øÆ ²ì²Ü ºì Üàð Üàðø ì²ðâ²Î²Ü Þðæ²ÜÜºðÆ ÀÜ¸Ð²Üàôð Æð²ì²êàôÂÚ²Ü ¸²î²ð²ÜÆ ø²Ô²ø²òÆ²Î²Ü ¶àðÌºðÆ øÜÜàôÂÚ²Ü ìºð²´ºðÚ²È
A3: Հավելված 2 Հայաստանի Հանրապետության Դատարանների նախագահների խորհրդի 2007թ. դեկտեմբերի 21-ի թիվ 23Լ որոշման
A5: êïáõ·Çã Ñ³í³ë³ñáõÙÝ»ñª 2=3+4+5, 1+3=15+16+21, 6=7+8+9+10, 10=11+12+13, 15=6+14, | F5: ²Ý³í³ñï ·áñÍ»ñÇ ÙÝ³óáñ¹Á Ñ³ßí»ïáõ Å³Ù³Ý³Ï³ßñç³ÝÇ ëÏ½µáõÙ | G5: êï³óí³Í Ñ³Ûó»ñÇ,¹ÇÙáõÙÝ»ñÇ (·áñÍ»ñ)ù³Ý³ÏÁ | K5: ²í³ñïí»É »Ý ·áñÍ»ñ Ñ³ßí»ïáõ Å³Ù³Ý³Ï³ßñç³ÝáõÙ | U5: ¶áñÍÝ áõÕ³ñÏí»É ¿ Áëï ÁÝ¹¹³ïáõÃÛ³Ý | V5: Øï»É »Ý ûñÇÝ³Ï³Ý áõÅÇ Ù»ç | W5: ´áÕáù³ñÏí»É »Ý í»ñ³ùÝÝÇã ¹³ï³ñ³Ý | Z5: ²Ý³í³ñï ·áñÍ»ñÇ ÙÝ³óáñ¹Á Ñ³ßí»ïáõ Å³Ù³Ý³Ï³ßñç³ÝÇ í»ñçáõÙ | AA5: ²Û¹ ÃíáõÙª Ï³ë»óí³Í
G8: ÀÝ¹³Ù»ÝÁ | H8: ²Û¹ ÃíáõÙª ÁÝ¹áõÝí»É ¿ í³ñáõÛÃ | I8: ²Û¹ ÃíáõÙª í»ñ³¹³ñÓí»É ¿ | J8: ²Û¹ ÃíáõÙª Ñ³Ûó»ñÇ (¹ÇÙáõÙÝ»ñÇ) ÁÝ¹áõÝáõÙÁ Ù»ñÅí»É ¿ | K8: ÀÝ¹³Ù»ÝÁ ³í³ñïí»É »Ý ·áñÍ»ñ í×éÇ Ï³Û³óáõÙáí | L8: ²Û¹ ÃíáõÙª Ñ³ÛóÇ µ³í³ñ³ñÙ³Ùµ | M8: ²Û¹ ÃíáõÙª Ñ³ÛóÇ Ù³ëÝ³ÏÇ µ³í³ñ³ñÙ³Ùµ | N8: ²Û¹ ÃíáõÙª Ñ³ÛóÇ Ù»ñÅÙ³Ùµ | O8: ²Û¹ ÃíáõÙª Ï³ñ×í»É »Ý | S8: Ð³ÛóÁ ÃáÕÝí»É ¿ ³é³Ýó ùÝÝáõÃÛ³Ý | T8: ÀÝ¹³Ù»ÝÝ ³í³ñïí»É »Ý ·áñÍ»ñ | W8: Ï³Û³óí³Í í×ÇéÝ»ñÇ ¹»Ù | X8: ³é³Ýó ùÝÝáõÃÛ³Ý ÃáÕÝ»Éáõ Ù³ëÇÝ áñáßáõÙÝ»ñÇ ¹»Ù | Y8: ÙÇç³ÝÏÛ³É ¹³ï³Ï³Ý ³Ïï»ñÇ ¹»Ù
O11: ÀÝ¹³Ù»ÝÁ Ï³ñ×í»É »Ý | P11: ²Û¹ ÃíáõÙª Ñ³ëï³ïí»É ¿ ÏÝùí³Í Ñ³ßïáõÃÛ³Ý Ñ³Ù³Ó³ÛÝáõÃÛáõÝÁ | Q11: ²Û¹ ÃíáõÙª Ñ³óÇó, ¹ÇÙáõÙÇó Ññ³Å³ñí»Éáõ ÑÇÙùáí | R11: ²Û¹ ÃíáõÙª ³ÛÉ ÑÇÙùáí
A19: Æñ³í³Ñ³ñ³µ»ñáõÃÛáõÝÝ»ñÇ ï»ë³ÏÝ»ñÁ | F19: 1 | G19: 2 | H19: 3 | I19: 4 | J19: 5 | K19: 6 | L19: 7 | M19: 8 | N19: 9 | O19: 10 | P19: 11 | Q19: 12 | R19: 13 | S19: 14 | T19: 15 | U19: 16 | V19: 17 | W19: 18 | X19: 19 | Y19: 20 | Z19: 21 | AA19: 22
A20: 1. | C20: ¶áõÛù³ÛÇÝ í»×»ñ | F20: 0 | G20: 0 | H20: 0 | I20: 0 | J20: 0 | K20: 0 | L20: 0 | M20: 0 | N20: 0 | O20: 0 | P20: 0 | Q20: 0 | R20: 0 | S20: 0 | T20: 0 | U20: 0 | V20: 0 | W20: 0 | X20: 0 | Y20: 0 | Z20: 0 | AA20: 0
A21: 1.1 | C21: ¶áõÛùÇ ÝÏ³ïÙ³Ùµ ë»÷³Ï³ÝáõÃÛ³Ý Çñ³íáõÝùÁ ×³Ý³ã»Éáõ í»ñ³µ»ñÛ³É | F21: 10 | G21: 4 | H21: 3 | I21: 1 | J21: 0 | K21: 5 | L21: 1 | M21: 0 | N21: 1 | O21: 3 | P21: 2 | Q21: 1 | R21: 0 | S21: 0 | T21: 5 | U21: 0 | V21: 5 | W21: 0 | X21: 0 | Y21: 0 | Z21: 8 | AA21: 6
A22: 1.1.1 | C22: ²Û¹ ÃíáõÙª Ó»éùµ»ñÙ³Ý í³Õ»ÙáõÃÛ³Ý áõÅáí | F22: 8 | G22: 6 | H22: 5 | I22: 1 | J22: 0 | K22: 5 | L22: 1 | M22: 0 | N22: 1 | O22: 3 | P22: 1 | Q22: 2 | R22: 0 | S22: 0 | T22: 5 | U22: 0 | V22: 4 | W22: 1 | X22: 0 | Y22: 0 | Z22: 8 | AA22: 1
A23: 1.1.2 | B23: ուժը կորցրել է | C23: ²Û¹ ÃíáõÙª ïÇñ³½áõñÏ ·áõÛùÇ ÝÏ³ïÙ³Ùµ | F23: 0 | G23: 0 | H23: 0 | I23: 0 | J23: 0 | K23: 0 | L23: 0 | M23: 0 | N23: 0 | O23: 0 | P23: 0 | Q23: 0 | R23: 0 | S23: 0 | T23: 0 | U23: 0 | V23: 0 | W23: 0 | X23: 0 | Y23: 0 | Z23: 0 | AA23: 0
A24: 1.1.3 | B24: ուժը կորցրել է | C24: ²Û¹ ÃíáõÙª ÇÝùÝ³Ï³Ù Ï³éáõÛóÇ ÝÏ³ïÙ³Ùµ | F24: 22 | G24: 0 | H24: 0 | I24: 0 | J24: 0 | K24: 0 | L24: 0 | M24: 0 | N24: 0 | O24: 0 | P24: 0 | Q24: 0 | R24: 0 | S24: 0 | T24: 0 | U24: 0 | V24: 0 | W24: 0 | X24: 0 | Y24: 0 | Z24: 22 | AA24: 20
A25: 1.2 | C25: ê»÷³Ï³ÝáõÃÛ³Ý Çñ³íáõÝùÇ ¹³¹³ñ»óÙ³Ý í»ñ³µ»ñÛ³É | F25: 2 | G25: 3 | H25: 3 | I25: 0 | J25: 0 | K25: 2 | L25: 2 | M25: 0 | N25: 0 | O25: 0 | P25: 0 | Q25: 0 | R25: 0 | S25: 0 | T25: 2 | U25: 0 | V25: 2 | W25: 0 | X25: 0 | Y25: 0 | Z25: 3 | AA25: 2
A26: 1.3 | C26: ¶áõÛùÇ ÝÏ³ïÙ³Ùµ û·ï³·áñÍÙ³Ý Çñ³íáõÝùÁ ×³Ý³ã»Éáõ í»ñ³µ»ñÛ³É | F26: 0 | G26: 1 | H26: 1 | I26: 0 | J26: 0 | K26: 1 | L26: 0 | M26: 0 | N26: 0 | O26: 1 | P26: 0 | Q26: 1 | R26: 0 | S26: 0 | T26: 1 | U26: 0 | V26: 1 | W26: 0 | X26: 0 | Y26: 0 | Z26: 0 | AA26: 0
A27: 1.3.1 | C27: ²Û¹ ÃíáõÙª µÝ³Ïû·ï³·áñÍÙ³Ý Çñ³íáõÝùÁ ×³Ý³ã»Éáõ í»ñ³µ»ñÛ³É | F27: 2 | G27: 0 | H27: 0 | I27: 0 | J27: 0 | K27: 0 | L27: 0 | M27: 0 | N27: 0 | O27: 0 | P27: 0 | Q27: 0 | R27: 0 | S27: 0 | T27: 0 | U27: 0 | V27: 0 | W27: 0 | X27: 0 | Y27: 0 | Z27: 2 | AA27: 1
A28: 1.3.2 | C28: ²Û¹ ÃíáõÙª ÑáÕ³Ù³ëÇ ÝÏ³ïÙ³Ùµ û·ï³·áñÍÙ³Ý Çñ³íáõÝùÁ ×³Ý³ã»Éáõ í»ñ³µ»ñÛ³É | F28: 0 | G28: 0 | H28: 0 | I28: 0 | J28: 0 | K28: 0 | L28: 0 | M28: 0 | N28: 0 | O28: 0 | P28: 0 | Q28: 0 | R28: 0 | S28: 0 | T28: 0 | U28: 0 | V28: 0 | W28: 0 | X28: 0 | Y28: 0 | Z28: 0 | AA28: 0
A29: 1.4 | C29: ¶áõÛùÇ ÝÏ³ïÙ³Ùµ û·ï³·áñÍÙ³Ý Çñ³íáõÝùÁ ¹³¹³ñ»óÝ»Éáõ í»ñ³µ»ñÛ³É | F29: 3 | G29: 2 | H29: 1 | I29: 1 | J29: 0 | K29: 2 | L29: 2 | M29: 0 | N29: 0 | O29: 0 | P29: 0 | Q29: 0 | R29: 0 | S29: 0 | T29: 2 | U29: 0 | V29: 2 | W29: 0 | X29: 0 | Y29: 0 | Z29: 2 | AA29: 2
A30: 1.4.1 | C30: ²Û¹ ÃíáõÙª µÝ³Ïû·ï³·áñÍÙ³Ý Çñ³íáõÝùÁ ¹³¹³ñ»óÝ»Éáõ í»ñ³µ»ñÛ³É | F30: 5 | G30: 1 | H30: 1 | I30: 0 | J30: 0 | K30: 0 | L30: 0 | M30: 0 | N30: 0 | O30: 0 | P30: 0 | Q30: 0 | R30: 0 | S30: 0 | T30: 0 | U30: 0 | V30: 0 | W30: 0 | X30: 0 | Y30: 0 | Z30: 6 | AA30: 5
A31: 1.4.1/1 | C31: ²Û¹ ÃíáõÙª ÷áËÑ³ïáõóÙ³Ùµ | F31: 3 | G31: 6 | H31: 4 | I31: 2 | J31: 0 | K31: 2 | L31: 0 | M31: 0 | N31: 1 | O31: 1 | P31: 0 | Q31: 1 | R31: 0 | S31: 0 | T31: 2 | U31: 0 | V31: 2 | W31: 0 | X31: 0 | Y31: 0 | Z31: 5 | AA31: 3
A32: 1.5 | C32: ´Ý³Ï³ñ³ÝÇó/ ï³ñ³ÍùÇó/ íï³ñ»Éáõ í»ñ³µ»ñÛ³É | F32: 13 | G32: 22 | H32: 21 | I32: 1 | J32: 0 | K32: 15 | L32: 7 | M32: 0 | N32: 3 | O32: 5 | P32: 0 | Q32: 5 | R32: 0 | S32: 0 | T32: 15 | U32: 0 | V32: 11 | W32: 3 | X32: 0 | Y32: 0 | Z32: 19 | AA32: 4
A33: 1.6 | C33: ¶áõÛùÝ áõñÇßÇ ³åûñÇÝÇ ïÇñ³å»ïáõÙÇó »ï í»ñ³¹³ñÓÝ»Éáõ í»ñ³µ»ñÛ³É | F33: 6 | G33: 24 | H33: 20 | I33: 4 | J33: 0 | K33: 15 | L33: 9 | M33: 2 | N33: 0 | O33: 4 | P33: 0 | Q33: 4 | R33: 0 | S33: 0 | T33: 15 | U33: 0 | V33: 10 | W33: 5 | X33: 0 | Y33: 0 | Z33: 11 | AA33: 3
A34: 1.6.1 | B34: ավելացվել է | C34: ´³ñ»ËÇÕ× Ó»éùµ»ñáÕÇó Çñ ·áõÛùÁ Ñ»ï å³Ñ³Ýç»Éáõ í»ñ³µ»ñÛ³É | F34: 0 | G34: 0 | H34: 0 | I34: 0 | J34: 0 | K34: 0 | L34: 0 | M34: 0 | N34: 0 | O34: 0 | P34: 0 | Q34: 0 | R34: 0 | S34: 0 | T34: 0 | U34: 0 | V34: 0 | W34: 0 | X34: 0 | Y34: 0 | Z34: 0 | AA34: 0
A35: 1.7 | C35: îÇñ³å»ïáõÙÇó ½ñÏ»Éáõ Ñ»ï ãÏ³åí³Í Çñ³íáõÝùÝ»ñÇ Ë³ËïáõÙÁ í»ñ³óÝ»Éáõ í»ñ³µ»ñÛ³É | F35: 0 | G35: 0 | H35: 0 | I35: 0 | J35: 0 | K35: 0 | L35: 0 | M35: 0 | N35: 0 | O35: 0 | P35: 0 | Q35: 0 | R35: 0 | S35: 0 | T35: 0 | U35: 0 | V35: 0 | W35: 0 | X35: 0 | Y35: 0 | Z35: 0 | AA35: 0
A36: 1.8 | C36: ÀÝ¹Ñ³Ýáõñ µ³ÅÝ³ÛÇÝ ë»÷³Ï³ÝáõÃÛáõÝÇó µ³ÅÇÝÝ ³é³ÝÓÝ³óÝ»Éáõ í»ñ³µ»ñÛ³É | F36: 27 | G36: 32 | H36: 23 | I36: 9 | J36: 0 | K36: 13 | L36: 5 | M36: 2 | N36: 1 | O36: 5 | P36: 2 | Q36: 3 | R36: 0 | S36: 0 | T36: 13 | U36: 0 | V36: 11 | W36: 2 | X36: 0 | Y36: 0 | Z36: 37 | AA36: 23
A37: 1.8.1 | B37: ավելացվել է | C37: Ð³Ù³ï»Õ ë»÷³Ï³ÝáõÃÛ³Ý Ý»ñùá ·ïÝíáÕ ·áõÛùÁ µ³Å³Ý»Éáõ ¨ ¹ñ³ÝÇó µ³ÅÇÝÝ ³é³ÝÓÝ³óÝ»Éáõ í»ñ³µ»ñÛ³É | F37: 0 | G37: 3 | H37: 3 | I37: 0 | J37: 0 | K37: 1 | L37: 1 | M37: 0 | N37: 0 | O37: 0 | P37: 0 | Q37: 0 | R37: 0 | S37: 0 | T37: 1 | U37: 0 | V37: 1 | W37: 0 | X37: 0 | Y37: 0 | Z37: 2 | AA37: 2
A38: 1.8.3 | B38: ավելացվել է | C38: ¶áõÛùÇ íñ³ µéÝ³·³ÝÓáõÙ ï³ñ³Í»Éáõ å³Ñ³ÝçÇ Ù³ëÇÝ | F38: 0 | G38: 5 | H38: 4 | I38: 1 | J38: 0 | K38: 2 | L38: 0 | M38: 0 | N38: 0 | O38: 2 | P38: 0 | Q38: 2 | R38: 0 | S38: 0 | T38: 2 | U38: 0 | V38: 2 | W38: 0 | X38: 0 | Y38: 0 | Z38: 1 | AA38: 0
A39: 1.9 | C39: ²ÛÉ í»×»ñ | F39: 58 | G39: 108 | H39: 88 | I39: 20 | J39: 0 | K39: 69 | L39: 33 | M39: 5 | N39: 5 | O39: 26 | P39: 7 | Q39: 19 | R39: 0 | S39: 0 | T39: 69 | U39: 0 | V39: 45 | W39: 12 | X39: 0 | Y39: 0 | Z39: 77 | AA39: 20
A40: 2. | C40: ¶áñÍ³ñùÝ»ñÇ Ñ»ï Ï³åí³Í í»×»ñ | F40: 0 | G40: 0 | H40: 0 | I40: 0 | J40: 0 | K40: 0 | L40: 0 | M40: 0 | N40: 0 | O40: 0 | P40: 0 | Q40: 0 | R40: 0 | S40: 0 | T40: 0 | U40: 0 | V40: 0 | W40: 0 | X40: 0 | Y40: 0 | Z40: 0 | AA40: 0
A41: 2.1 | C41: ·áñÍ³ñùÝ»ñÇ ³Ýí³í»ñáõÃÛ³Ý Ñ»ï Ï³åí³Í í»×»ñ | F41: 13 | G41: 33 | H41: 26 | I41: 7 | J41: 0 | K41: 17 | L41: 5 | M41: 0 | N41: 7 | O41: 5 | P41: 2 | Q41: 3 | R41: 0 | S41: 0 | T41: 17 | U41: 1 | V41: 12 | W41: 4 | X41: 0 | Y41: 0 | Z41: 19 | AA41: 6
A42: 2.1.1 | C42: ³Û¹ ÃíáõÙ`գáñÍ³ñùÁ íÇ×³Ñ³ñáõÛó ×³Ý³ã»Éáõ í»ñ³µ»ñÛ³É | F42: 0 | G42: 1 | H42: 0 | I42: 1 | J42: 0 | K42: 0 | L42: 0 | M42: 0 | N42: 0 | O42: 0 | P42: 0 | Q42: 0 | R42: 0 | S42: 0 | T42: 0 | U42: 0 | V42: 0 | W42: 0 | X42: 0 | Y42: 0 | Z42: 0 | AA42: 0
A43: 2.1.2 | C43: ³Û¹ ÃíáõÙ` ·áñÍ³ñùÇ ³éáãÝãáõÃÛ³Ý Ñ»ï¨³ÝùÝ»ñ ÏÇñ³é»Éáõ í»ñ³µ»ñÛ³É | F43: 0 | G43: 1 | H43: 1 | I43: 0 | J43: 0 | K43: 1 | L43: 0 | M43: 0 | N43: 0 | O43: 1 | P43: 0 | Q43: 1 | R43: 0 | S43: 0 | T43: 1 | U43: 0 | V43: 0 | W43: 0 | X43: 0 | Y43: 0 | Z43: 0 | AA43: 0
A44: 2.2 | C44: ¶áñÍ³ñùÁ í³í»ñ ×³Ý³ã»Éáõ í»ñ³µ»ñÛ³É | F44: 1 | G44: 2 | H44: 1 | I44: 1 | J44: 0 | K44: 0 | L44: 0 | M44: 0 | N44: 0 | O44: 0 | P44: 0 | Q44: 0 | R44: 0 | S44: 0 | T44: 0 | U44: 0 | V44: 0 | W44: 0 | X44: 0 | Y44: 0 | Z44: 2 | AA44: 0
A45: 2.3 | C45: ¶áñÍ³ñùÇó Í³·áÕ Çñ³íáõÝùÝ»ñÁ ·ñ³Ýó»Éáõ í»ñ³µ»ñÛ³É | F45: 0 | G45: 1 | H45: 1 | I45: 0 | J45: 0 | K45: 1 | L45: 1 | M45: 0 | N45: 0 | O45: 0 | P45: 0 | Q45: 0 | R45: 0 | S45: 0 | T45: 1 | U45: 0 | V45: 1 | W45: 0 | X45: 0 | Y45: 0 | Z45: 0 | AA45: 0
A46: 2.4 | C46: ä³ÛÙ³Ý³·ÇñÝ ³Ýí³í»ñ ×³Ý³ã»Éáõ í»ñ³µ»ñÛ³É | F46: 8 | G46: 1 | H46: 1 | I46: 0 | J46: 0 | K46: 4 | L46: 0 | M46: 1 | N46: 2 | O46: 1 | P46: 0 | Q46: 1 | R46: 0 | S46: 0 | T46: 4 | U46: 1 | V46: 0 | W46: 0 | X46: 0 | Y46: 0 | Z46: 4 | AA46: 1
A47: 2.5 | C47: ä³ÛÙ³Ý³·ñÇÁ í³í»ñ ×³Ý³ã»Éáõ í»ñ³µ»ñÛ³É | F47: 0 | G47: 1 | H47: 1 | I47: 0 | J47: 0 | K47: 0 | L47: 0 | M47: 0 | N47: 0 | O47: 0 | P47: 0 | Q47: 0 | R47: 0 | S47: 0 | T47: 0 | U47: 0 | V47: 0 | W47: 0 | X47: 0 | Y47: 0 | Z47: 1 | AA47: 0
A48: 2.6 | B48: ուժը կորցրել է | C48: ä³ÛÙ³Ý³·ñÇó Í³·áÕ Çñ³íáõÝùÝ»ñÁ ·ñ³Ýó»Éáõ í»ñ³µ»ñÛ³É | F48: 1 | G48: 0 | H48: 0 | I48: 0 | J48: 0 | K48: 0 | L48: 0 | M48: 0 | N48: 0 | O48: 0 | P48: 0 | Q48: 0 | R48: 0 | S48: 0 | T48: 0 | U48: 0 | V48: 0 | W48: 0 | X48: 0 | Y48: 0 | Z48: 1 | AA48: 0
A49: 2.7 | C49: ä³ÛÙ³Ý³·ÇñÁ ÷á÷áË»Éáõ ¨ ÉáõÍ»Éáõ í»ñ³µ»ñÛ³É | F49: 2 | G49: 1 | H49: 1 | I49: 0 | J49: 0 | K49: 1 | L49: 1 | M49: 0 | N49: 0 | O49: 0 | P49: 0 | Q49: 0 | R49: 0 | S49: 0 | T49: 1 | U49: 0 | V49: 0 | W49: 0 | X49: 0 | Y49: 0 | Z49: 2 | AA49: 1
A50: 2.8 | C50: ä³ÛÙ³Ý³·Çñ ÏÝù»ÉáõÝ å³ñï³íáñ»óÝ»Éáõ í»ñ³µ»ñÛ³É | F50: 1 | G50: 1 | H50: 1 | I50: 0 | J50: 0 | K50: 0 | L50: 0 | M50: 0 | N50: 0 | O50: 0 | P50: 0 | Q50: 0 | R50: 0 | S50: 0 | T50: 0 | U50: 1 | V50: 0 | W50: 0 | X50: 0 | Y50: 0 | Z50: 1 | AA50: 1
A51: 2.9 | C51: ²ÛÉ í»×»ñ | F51: 4 | G51: 11 | H51: 9 | I51: 2 | J51: 0 | K51: 6 | L51: 1 | M51: 0 | N51: 1 | O51: 4 | P51: 0 | Q51: 4 | R51: 0 | S51: 0 | T51: 6 | U51: 0 | V51: 2 | W51: 2 | X51: 0 | Y51: 0 | Z51: 7 | AA51: 4
A52: 3. | C52: Ä³é³Ý·áõÃÛ³Ý í»ñ³µ»ñÛ³É í»×»ñ | F52: 0 | G52: 0 | H52: 0 | I52: 0 | J52: 0 | K52: 0 | L52: 0 | M52: 0 | N52: 0 | O52: 0 | P52: 0 | Q52: 0 | R52: 0 | S52: 0 | T52: 0 | U52: 0 | V52: 0 | W52: 0 | X52: 0 | Y52: 0 | Z52: 0 | AA52: 0
A53: 3.1 | C53: Îï³ÏÝ ³Ýí³í»ñ ×³Ý³ã»Éáõ í»ñ³µ»ñÛ³É | F53: 0 | G53: 2 | H53: 2 | I53: 0 | J53: 0 | K53: 1 | L53: 0 | M53: 1 | N53: 0 | O53: 0 | P53: 0 | Q53: 0 | R53: 0 | S53: 0 | T53: 1 | U53: 0 | V53: 0 | W53: 1 | X53: 0 | Y53: 0 | Z53: 1 | AA53: 1
A54: 3.2 | C54: ²Ý³ñÅ³Ý Å³é³Ý· ×³Ý³ã»Éáõ í»ñ³µ»ñÛ³É | F54: 0 | G54: 2 | H54: 2 | I54: 0 | J54: 0 | K54: 1 | L54: 0 | M54: 0 | N54: 1 | O54: 0 | P54: 0 | Q54: 0 | R54: 0 | S54: 0 | T54: 1 | U54: 0 | V54: 1 | W54: 0 | X54: 0 | Y54: 0 | Z54: 1 | AA54: 0
A55: 3.3 | C55: Ä³é³Ý·áõÃÛáõÝÁ µ³Å³Ý»Éáõ í»ñ³µ»ñÛ³É | F55: 0 | G55: 0 | H55: 0 | I55: 0 | J55: 0 | K55: 0 | L55: 0 | M55: 0 | N55: 0 | O55: 0 | P55: 0 | Q55: 0 | R55: 0 | S55: 0 | T55: 0 | U55: 0 | V55: 0 | W55: 0 | X55: 0 | Y55: 0 | Z55: 0 | AA55: 0
A56: 3.4 | C56: ¶áõÛùÝ ³ÝÅ³é³Ý· ×³Ý³ã»Éáõ í»ñ³µ»ñÛ³É | F56: 0 | G56: 0 | H56: 0 | I56: 0 | J56: 0 | K56: 0 | L56: 0 | M56: 0 | N56: 0 | O56: 0 | P56: 0 | Q56: 0 | R56: 0 | S56: 0 | T56: 0 | U56: 0 | V56: 0 | W56: 0 | X56: 0 | Y56: 0 | Z56: 0 | AA56: 0
A57: 3.5 | B57: ուժը կորցրել է | C57: Àëï ûñ»ÝùÇ Å³é³Ý·áõÃÛ³Ý Çñ³íáõÝùÇ íÏ³Û³Ï³ÝÝ ³Ýí³í»ñ ×³Ý³ã»Éáõ í»ñ³µ»ñÛ³É | F57: 4 | G57: 0 | H57: 0 | I57: 0 | J57: 0 | K57: 2 | L57: 0 | M57: 1 | N57: 1 | O57: 0 | P57: 0 | Q57: 0 | R57: 0 | S57: 0 | T57: 2 | U57: 0 | V57: 0 | W57: 2 | X57: 0 | Y57: 0 | Z57: 2 | AA57: 1
A58: 3.6 | C58: Ä³é³Ý·áõÃÛáõÝÝ ÁÝ¹áõÝ»Éáõ µ³ó ÃáÕÝí³Í Å³ÙÏ»ïÁ Ñ³ñ·»ÉÇ Ñ³Ù³ñ»Éáõ í»ñ³µ»ñÛ³É | F58: 4 | G58: 2 | H58: 0 | I58: 2 | J58: 0 | K58: 3 | L58: 1 | M58: 0 | N58: 1 | O58: 1 | P58: 0 | Q58: 1 | R58: 0 | S58: 0 | T58: 3 | U58: 0 | V58: 3 | W58: 0 | X58: 0 | Y58: 0 | Z58: 1 | AA58: 0
A59: 3.7 | C59: ²ÛÉ í»×»ñ | F59: 1 | G59: 27 | H59: 22 | I59: 5 | J59: 0 | K59: 15 | L59: 9 | M59: 1 | N59: 1 | O59: 4 | P59: 1 | Q59: 3 | R59: 0 | S59: 1 | T59: 16 | U59: 0 | V59: 14 | W59: 1 | X59: 0 | Y59: 0 | Z59: 6 | AA59: 0
A60: 4 | C60: ÀÝï³Ý»Ï³Ý Çñ³í³Ñ³ñ³µ»ñáõÃÛáõÝÝ»ñÇó Í³·áÕ í»×»ñ | F60: 0 | G60: 0 | H60: 0 | I60: 0 | J60: 0 | K60: 0 | L60: 0 | M60: 0 | N60: 0 | O60: 0 | P60: 0 | Q60: 0 | R60: 0 | S60: 0 | T60: 0 | U60: 0 | V60: 0 | W60: 0 | X60: 0 | Y60: 0 | Z60: 0 | AA60: 0
A61: 4.1 | C61: ²ÙáõëÝ³ÉáõÍáõÃÛ³Ý í»ñ³µ»ñÛ³É | F61: 28 | G61: 121 | H61: 99 | I61: 22 | J61: 0 | K61: 91 | L61: 68 | M61: 2 | N61: 1 | O61: 20 | P61: 0 | Q61: 20 | R61: 0 | S61: 0 | T61: 91 | U61: 0 | V61: 88 | W61: 0 | X61: 0 | Y61: 0 | Z61: 36 | AA61: 1
A62: 4.2 | C62: ²ÉÇÙ»ÝïÇ å³Ñ³ÝçÇ í»ñ³µ»ñÛ³É | F62: 15 | G62: 57 | H62: 54 | I62: 2 | J62: 1 | K62: 48 | L62: 19 | M62: 18 | N62: 1 | O62: 10 | P62: 4 | Q62: 6 | R62: 0 | S62: 0 | T62: 48 | U62: 0 | V62: 44 | W62: 3 | X62: 0 | Y62: 0 | Z62: 21 | AA62: 6
A63: 4.3 | C63: ²ÉÇÙ»ÝïÇ ã³÷Á ÷á÷áË»Éáõ í»ñ³µ»ñÛ³É | F63: 3 | G63: 9 | H63: 8 | I63: 1 | J63: 0 | K63: 10 | L63: 4 | M63: 3 | N63: 2 | O63: 1 | P63: 1 | Q63: 0 | R63: 0 | S63: 0 | T63: 10 | U63: 0 | V63: 0 | W63: 0 | X63: 0 | Y63: 0 | Z63: 1 | AA63: 1
A64: 4.4 | C64: ÌÝáÕ³Ï³Ý Çñ³íáõÝùÝ»ñÇó ½ñÏ»Éáõ í»ñ³µ»ñÛ³É | F64: 1 | G64: 2 | H64: 2 | I64: 0 | J64: 0 | K64: 1 | L64: 1 | M64: 0 | N64: 0 | O64: 0 | P64: 0 | Q64: 0 | R64: 0 | S64: 0 | T64: 1 | U64: 0 | V64: 0 | W64: 1 | X64: 0 | Y64: 0 | Z64: 2 | AA64: 0
A65: 4.5 | C65: ÌÝáÕ³Ï³Ý Çñ³íáõÝùÝ»ñÁ í»ñ³Ï³Ý·Ý»Éáõ í»ñ³µ»ñÛ³É | F65: 0 | G65: 0 | H65: 0 | I65: 0 | J65: 0 | K65: 0 | L65: 0 | M65: 0 | N65: 0 | O65: 0 | P65: 0 | Q65: 0 | R65: 0 | S65: 0 | T65: 0 | U65: 0 | V65: 0 | W65: 0 | X65: 0 | Y65: 0 | Z65: 0 | AA65: 0
A66: 4.6 | C66: ºñ»Ë³ÛÇ áñ¹»·ñÙ³Ý í»ñ³µ»ñÛ³É | F66: 0 | G66: 2 | H66: 2 | I66: 0 | J66: 0 | K66: 2 | L66: 2 | M66: 0 | N66: 0 | O66: 0 | P66: 0 | Q66: 0 | R66: 0 | S66: 0 | T66: 2 | U66: 0 | V66: 2 | W66: 0 | X66: 0 | Y66: 0 | Z66: 0 | AA66: 0
A67: 4.7 | C67: ºñ»Ë³ÛÇ áñ¹»·ñáõÙÁ í»ñ³óÝ»Éáõ í»ñ³µ»ñÛ³É | F67: 0 | G67: 0 | H67: 0 | I67: 0 | J67: 0 | K67: 0 | L67: 0 | M67: 0 | N67: 0 | O67: 0 | P67: 0 | Q67: 0 | R67: 0 | S67: 0 | T67: 0 | U67: 0 | V67: 0 | W67: 0 | X67: 0 | Y67: 0 | Z67: 0 | AA67: 0
A68: 4.8 | C68: Ð³ÛñáõÃÛáõÝÁ ×³Ý³ã»Éáõ í»ñ³µ»ñÛ³É | F68: 4 | G68: 13 | H68: 12 | I68: 1 | J68: 0 | K68: 9 | L68: 4 | M68: 0 | N68: 1 | O68: 4 | P68: 2 | Q68: 2 | R68: 0 | S68: 0 | T68: 9 | U68: 1 | V68: 0 | W68: 0 | X68: 0 | Y68: 0 | Z68: 6 | AA68: 1
A69: 4.9 | C69: ºñ»Ë³ÛÇ µÝ³ÏáõÃÛ³Ý í³ÛñÁ áñáß»Éáõ í»ñ³µ»ñÛ³É | F69: 0 | G69: 10 | H69: 10 | I69: 0 | J69: 0 | K69: 6 | L69: 2 | M69: 1 | N69: 1 | O69: 2 | P69: 1 | Q69: 1 | R69: 0 | S69: 0 | T69: 6 | U69: 0 | V69: 5 | W69: 1 | X69: 0 | Y69: 0 | Z69: 4 | AA69: 2
... A109: 8.7.9 | C109: ²ÝÑ³ÕÃ³Ñ³ñ»ÉÇ áõÅÇ ³éÏ³ÛáõÃÛ³Ý í»ñ³µ»ñÛ³É | F109: 0 | G109: 0 | H109: 0 | I109: 0 | J109: 0 | K109: 0 | L109: 0 | M109: 0 | N109: 0 | O109: 0 | P109: 0 | Q109: 0 | R109: 0 | S109: 0 | T109: 0 | U109: 0 | V109: 0 | W109: 0 | X109: 0 | Y109: 0 | Z109: 0 | AA109: 0
A110: 8.7.10 | B110: ³í»É³óí»É ¿ | C110: úñ»Ýùáí Ý³Ë³ï»ëí³Í ³ÛÉ Çñ³í³µ³Ý³Ï³Ý ÷³ëï»ñÇ í»ñ³µ»ñÛ³É | F110: 0 | G110: 82 | H110: 61 | I110: 19 | J110: 2 | K110: 44 | L110: 40 | M110: 0 | N110: 4 | O110: 0 | P110: 0 | Q110: 0 | R110: 0 | S110: 0 | T110: 44 | U110: 0 | V110: 40 | W110: 0 | X110: 0 | Y110: 0 | Z110: 17 | AA110: 0
A111: 8.8 | C111: Àëï Ý»ñÏ³Û³óÝáÕÇ ¨ ûñ¹»ñ³ÛÇÝ Ïáñóñ³Í ³ñÅ»ÃÕÃ»ñáí Ñ³í³ëïí³Í Çñ³íáõÝùÝ»ñÁ í»ñ³Ï³Ý·Ý»Éáõ í»ñ³µ»ñÛ³É | F111: 0 | G111: 0 | H111: 0 | I111: 0 | J111: 0 | K111: 0 | L111: 0 | M111: 0 | N111: 0 | O111: 0 | P111: 0 | Q111: 0 | R111: 0 | S111: 0 | T111: 0 | U111: 0 | V111: 0 | W111: 0 | X111: 0 | Y111: 0 | Z111: 0 | AA111: 0
A112: 8.9 | B112: ուժը կորցրել է | C112: Ð³ñÏ³¹Çñ Ï³ï³ñáÕÇ ¹ÇÙáõÙáí ÏáÕÙ»ñÇ Ñ³ßïáõÃÛ³Ý Ñ³Ù³Ó³ÛÝáõÃÛ³Ý ÑÇÙ³Ý íñ³ ¹³ï³ñ³ÝÇª ·áñÍÝ Áëï ¿áõÃÛ³Ý ÉáõÍáÕ ¹³ï³Ï³Ý ³ÏïÇ í»ñ³Ý³ÛÙ³Ý í»ñ³µ»ñÛ³É | F112: 0 | G112: 0 | H112: 0 | I112: 0 | J112: 0 | K112: 0 | L112: 0 | M112: 0 | N112: 0 | O112: 0 | P112: 0 | Q112: 0 | R112: 0 | S112: 0 | T112: 0 | U112: 0 | V112: 0 | W112: 0 | X112: 0 | Y112: 0 | Z112: 0 | AA112: 0
A113: 8.10 | C113: ²ÛÉ í»×»ñ | F113: 9 | G113: 0 | H113: 0 | I113: 0 | J113: 0 | K113: 9 | L113: 5 | M113: 0 | N113: 4 | O113: 0 | P113: 0 | Q113: 0 | R113: 0 | S113: 0 | T113: 9 | U113: 0 | V113: 0 | W113: 2 | X113: 0 | Y113: 0 | Z113: 0 | AA113: 0
A114: 9. | C114: Ð³ïáõÏ Ñ³Ûó³ÛÇÝ í³ñáõÛÃÇ ·áñÍ»ñ | F114: 0 | G114: 0 | H114: 0 | I114: 0 | J114: 0 | K114: 0 | L114: 0 | M114: 0 | N114: 0 | O114: 0 | P114: 0 | Q114: 0 | R114: 0 | S114: 0 | T114: 0 | U114: 0 | V114: 0 | W114: 0 | X114: 0 | Y114: 0 | Z114: 0 | AA114: 0
A115: 9.1 | C115: ø³Õ³ù³óáõ ÏÛ³ÝùÇÝ Ï³Ù ³éáÕçáõÃÛ³ÝÝ ëå³éÝ³óáÕ íï³Ý·Ç í»ñ³µ»ñÛ³É | F115: 0 | G115: 0 | H115: 0 | I115: 0 | J115: 0 | K115: 0 | L115: 0 | M115: 0 | N115: 0 | O115: 0 | P115: 0 | Q115: 0 | R115: 0 | S115: 0 | T115: 0 | U115: 0 | V115: 0 | W115: 0 | X115: 0 | Y115: 0 | Z115: 0 | AA115: 0
A116: 9.2 | C116: ÐÐ Î»ÝïñáÝ³Ï³Ý µ³ÝÏÇ ¨ ³Ýí×³ñáõÝ³Ï µ³ÝÏÇ Ï³Ù í³ñÏ³ÛÇÝ Ï³½Ù³Ï»ñåáõÃÛ³Ý Å³Ù³Ý³Ï³íáñ ³¹ÙÇÝÇëïñ³óÇ³ÛÇ áñáßáõÙÝ»ñÇ µáÕáù³ñÏÙ³Ý í»ñ³µ»ñÛ³É | F116: 0 | G116: 0 | H116: 0 | I116: 0 | J116: 0 | K116: 0 | L116: 0 | M116: 0 | N116: 0 | O116: 0 | P116: 0 | Q116: 0 | R116: 0 | S116: 0 | T116: 0 | U116: 0 | V116: 0 | W116: 0 | X116: 0 | Y116: 0 | Z116: 0 | AA116: 0
A117: 9.3 | C117: ²ÛÉ í»×»ñ | F117: 0 | G117: 0 | H117: 0 | I117: 0 | J117: 0 | K117: 0 | L117: 0 | M117: 0 | N117: 0 | O117: 0 | P117: 0 | Q117: 0 | R117: 0 | S117: 0 | T117: 0 | U117: 0 | V117: 0 | W117: 0 | X117: 0 | Y117: 0 | Z117: 0 | AA117: 0
A118: 10. | C118: Ð³ñÏ³¹Çñ Ï³ï³ñÙ³Ý ÁÝÃ³óùáõÙ Í³·³Í í»×»ñ | F118: 0 | G118: 0 | H118: 0 | I118: 0 | J118: 0 | K118: 0 | L118: 0 | M118: 0 | N118: 0 | O118: 0 | P118: 0 | Q118: 0 | R118: 0 | S118: 0 | T118: 0 | U118: 0 | V118: 0 | W118: 0 | X118: 0 | Y118: 0 | Z118: 0 | AA118: 0
A119: 10.1 | B119: ուժը կորցրել է | C119: ¸³ï³Ï³Ý ³ÏïÇ Ï³ï³ñáõÙÁ Ñ»ï³Ó·»Éáõ Ï³Ù ï³ñ³Å³ÙÏ»ï»Éáõ í»ñ³µ»ñÛ³É | F119: 0 | G119: 0 | H119: 0 | I119: 0 | J119: 0 | K119: 0 | L119: 0 | M119: 0 | N119: 0 | O119: 0 | P119: 0 | Q119: 0 | R119: 0 | S119: 0 | T119: 0 | U119: 0 | V119: 0 | W119: 0 | X119: 0 | Y119: 0 | Z119: 0 | AA119: 0
A120: 10.2 | C120: ¸³ï³Ï³Ý ³ÏïÇ Ï³ï³ñÙ³Ý »Õ³Ý³ÏÇ, Ï³ñ·Ç ÷á÷áËÙ³Ý í»ñ³µ»ñÛ³É | F120: 0 | G120: 0 | H120: 0 | I120: 0 | J120: 0 | K120: 0 | L120: 0 | M120: 0 | N120: 0 | O120: 0 | P120: 0 | Q120: 0 | R120: 0 | S120: 0 | T120: 0 | U120: 0 | V120: 0 | W120: 0 | X120: 0 | Y120: 0 | Z120: 0 | AA120: 0
A121: 10.3 | C121: Î³ï³ñáÕ³Ï³Ý Ã»ñÃÁ Ï³ï³ñÙ³Ý Ý»ñÏ³Û³óÝ»Éáõ µ³ó ÃáÕÝí³Í Å³ÙÏ»ïÁ í»ñ³Ï³Ý·Ý»Éáõ í»ñ³µ»ñÛ³É | F121: 0 | G121: 0 | H121: 0 | I121: 0 | J121: 0 | K121: 0 | L121: 0 | M121: 0 | N121: 0 | O121: 0 | P121: 0 | Q121: 0 | R121: 0 | S121: 0 | T121: 0 | U121: 0 | V121: 0 | W121: 0 | X121: 0 | Y121: 0 | Z121: 0 | AA121: 0
A122: 10.4 | C122: ì×éÇ ßñç³¹³ñÓ Ï³ï³ñ»Éáõ í»ñ³µ»ñÛ³É | F122: 0 | G122: 0 | H122: 0 | I122: 0 | J122: 0 | K122: 0 | L122: 0 | M122: 0 | N122: 0 | O122: 0 | P122: 0 | Q122: 0 | R122: 0 | S122: 0 | T122: 0 | U122: 0 | V122: 0 | W122: 0 | X122: 0 | Y122: 0 | Z122: 0 | AA122: 0
A123: 10.5 | C123: Î³ï³ñáÕ³Ï³Ý Ã»ñÃÁ å³ñ½³µ³Ý»Éáõ í»ñ³µ»ñÛ³É | F123: 0 | G123: 0 | H123: 0 | I123: 0 | J123: 0 | K123: 0 | L123: 0 | M123: 0 | N123: 0 | O123: 0 | P123: 0 | Q123: 0 | R123: 0 | S123: 0 | T123: 0 | U123: 0 | V123: 0 | W123: 0 | X123: 0 | Y123: 0 | Z123: 0 | AA123: 0
A124: 10.6 | C124: ²ÛÉ í»×»ñ | F124: 0 | G124: 0 | H124: 0 | I124: 0 | J124: 0 | K124: 0 | L124: 0 | M124: 0 | N124: 0 | O124: 0 | P124: 0 | Q124: 0 | R124: 0 | S124: 0 | T124: 0 | U124: 0 | V124: 0 | W124: 0 | X124: 0 | Y124: 0 | Z124: 0 | AA124: 0
A125: 11. | C125: ä³ñï³íáñ³Ï³Ý Çñ³í³Ñ³ñ³µ»ñáõÃÛáõÝÝ»ñ | F125: 0 | G125: 0 | H125: 0 | I125: 0 | J125: 0 | K125: 0 | L125: 0 | M125: 0 | N125: 0 | O125: 0 | P125: 0 | Q125: 0 | R125: 0 | S125: 0 | T125: 0 | U125: 0 | V125: 0 | W125: 0 | X125: 0 | Y125: 0 | Z125: 0 | AA125: 0
A126: 11.1 | C126: ¶áõÙ³ñÇ å³Ñ³ÝçÇ Ù³ëÇÝ | F126: 2014 | G126: 1123 | H126: 973 | I126: 148 | J126: 2 | K126: 1325 | L126: 680 | M126: 60 | N126: 99 | O126: 486 | P126: 210 | Q126: 276 | R126: 0 | S126: 7 | T126: 1332 | U126: 39 | V126: 1000 | W126: 20 | X126: 0 | Y126: 0 | Z126: 1616 | AA126: 1248
A127: 11.2 | C127: ä³ñï³íáñáõÃÛáõÝÁ µÝ»Õ»Ýáí Ï³ï³ñ»Éáõ å³Ñ³ÝçÇ Ù³ëÇÝ | F127: 0 | G127: 0 | H127: 0 | I127: 0 | J127: 0 | K127: 0 | L127: 0 | M127: 0 | N127: 0 | O127: 0 | P127: 0 | Q127: 0 | R127: 0 | S127: 0 | T127: 0 | U127: 0 | V127: 0 | W127: 0 | X127: 0 | Y127: 0 | Z127: 0 | AA127: 0
A128: 11.3 | C128: ìÝ³ëÁ ¨ µ³ó ÃáÕÝí³Í û·áõïÁ Ñ³ïáõó»Éáõ å³Ñ³ÝçÇ Ù³ëÇÝ | F128: 13 | G128: 41 | H128: 34 | I128: 7 | J128: 0 | K128: 20 | L128: 7 | M128: 3 | N128: 3 | O128: 7 | P128: 0 | Q128: 7 | R128: 0 | S128: 0 | T128: 20 | U128: 3 | V128: 15 | W128: 3 | X128: 0 | Y128: 0 | Z128: 24 | AA128: 5
A129: 11.4 | C129: ø³Õ³ù³óáõ ÏÛ³ÝùÇÝ Ï³Ù ³éáÕçáõÃÛ³ÝÁ å³ï×³éí³Í íÝ³ëÇ Ñ³ïáõóÙ³Ý í»ñ³µ»ñÛ³É | F129: 0 | G129: 0 | H129: 0 | I129: 0 | J129: 0 | K129: 0 | L129: 0 | M129: 0 | N129: 0 | O129: 0 | P129: 0 | Q129: 0 | R129: 0 | S129: 0 | T129: 0 | U129: 0 | V129: 0 | W129: 0 | X129: 0 | Y129: 0 | Z129: 0 | AA129: 0
A130: 11.5 | C130: ²åñ³ÝùÝ»ñÇ, ³ßË³ï³ÝùÝ»ñÇ Ï³Ù Í³é³ÛáõÃÛáõÝÝ»ñÇ Ã»ñáõÃÛáõÝÝ»ñÇ Ñ»ï¨³Ýùáí å³ï×³éí³Í íÝ³ëÝ»ñÇ Ñ³ïáõóÙ³Ý í»ñ³µ»ñÛ³É | F130: 0 | G130: 0 | H130: 0 | I130: 0 | J130: 0 | K130: 0 | L130: 0 | M130: 0 | N130: 0 | O130: 0 | P130: 0 | Q130: 0 | R130: 0 | S130: 0 | T130: 0 | U130: 0 | V130: 0 | W130: 0 | X130: 0 | Y130: 0 | Z130: 0 | AA130: 0
A131: 11.6 | C131: ²ÝÑÇÙÝ Ñ³ñëï³óÙ³Ý Ñ»ï¨³Ýùáí Í³·³Í å³ñï³íáñáõÃÛáõÝÝ»ñ | F131: 0 | G131: 0 | H131: 0 | I131: 0 | J131: 0 | K131: 0 | L131: 0 | M131: 0 | N131: 0 | O131: 0 | P131: 0 | Q131: 0 | R131: 0 | S131: 0 | T131: 0 | U131: 0 | V131: 0 | W131: 0 | X131: 0 | Y131: 0 | Z131: 0 | AA131: 0
... A139: 14. | C139: ÀÝ¹³Ù»ÝÁ | F139: 2343 | G139: 1971 | H139: 1672 | I139: 293 | J139: 6 | K139: 1907 | L139: 1008 | M139: 105 | N139: 159 | O139: 635 | P139: 233 | Q139: 387 | R139: 0 | S139: 8 | T139: 1915 | U139: 53 | V139: 1441 | W139: 65 | X139: 0 | Y139: 0 | Z139: 2047 | AA139: 1393
C142: Ì³ÝáÃáõÃÛáõÝ: ´áÉáñ ³ÛÝ ïáÕ»ñÁ, áñï»Õ ·ñí³Í ¿ áõÅÁ Ïáñóñ»É ¿ Éñ³óÝ»É å»ïù ã¿, ù³ÝÇ áñ 2010 Ãí³Ï³ÝÇó ³Û¹ íÇ×³Ï³·ñ³Ï³Ý ïáÕ»ñÁ ³ÛÉ¨ë ã»Ý ·áñÍ»Éáõ, ¹ñ³Ýù ³ÝÑñ³Å»ßï »Ý ÙÇ³ÛÝ ¹³ï³Ï³Ý Ñ³Ù³Ï³ñ·áõÙ áñáÝáõÙÝ»ñ Ï³ï³ñ»Éáõ Ñ³Ù³ñ:

Sheet Aragacotn
A1: Ð²ÞìºîìàôÂÚàôÜ
A2: ø²Ô²ø²òÆ²Î²Ü ¶àðÌºðÆ øÜÜàôÂÚ²Ü ìºð²´ºðÚ²È
A3: 2010Ã. ï³ñí³ Ñ³Ù³ñ
A5: êïáõ·Çã Ñ³í³ë³ñáõÙÝ»ñª 2=3+4+5, 1+3=15+16+21, 6=7+8+9+10, 10=11+12+13, 15=6+14, | F5: ²Ý³í³ñï ·áñÍ»ñÇ ÙÝ³óáñ¹Á Ñ³ßí»ïáõ Å³Ù³Ý³Ï³ßñç³ÝÇ ëÏ½µáõÙ | G5: êï³óí³Í Ñ³Ûó»ñÇ,¹ÇÙáõÙÝ»ñÇ (·áñÍ»ñ)ù³Ý³ÏÁ | K5: ²í³ñïí»É »Ý ·áñÍ»ñ Ñ³ßí»ïáõ Å³Ù³Ý³Ï³ßñç³ÝáõÙ | U5: ¶áñÍÝ áõÕ³ñÏí»É ¿ Áëï ÁÝ¹¹³ïáõÃÛ³Ý | V5: Øï»É »Ý ûñÇÝ³Ï³Ý áõÅÇ Ù»ç | W5: ´áÕáù³ñÏí»É »Ý í»ñ³ùÝÝÇã ¹³ï³ñ³Ý | Z5: ²Ý³í³ñï ·áñÍ»ñÇ ÙÝ³óáñ¹Á Ñ³ßí»ïáõ Å³Ù³Ý³Ï³ßñç³ÝÇ í»ñçáõÙ | AA5: ²Û¹ ÃíáõÙª Ï³ë»óí³Í
G8: ÀÝ¹³Ù»ÝÁ | H8: ²Û¹ ÃíáõÙª ÁÝ¹áõÝí»É ¿ í³ñáõÛÃ | I8: ²Û¹ ÃíáõÙª í»ñ³¹³ñÓí»É ¿ | J8: ²Û¹ ÃíáõÙª Ñ³Ûó»ñÇ (¹ÇÙáõÙÝ»ñÇ) ÁÝ¹áõÝáõÙÁ Ù»ñÅí»É ¿ | K8: ÀÝ¹³Ù»ÝÁ ³í³ñïí»É »Ý ·áñÍ»ñ í×éÇ Ï³Û³óáõÙáí | L8: ²Û¹ ÃíáõÙª Ñ³ÛóÇ µ³í³ñ³ñÙ³Ùµ | M8: ²Û¹ ÃíáõÙª Ñ³ÛóÇ Ù³ëÝ³ÏÇ µ³í³ñ³ñÙ³Ùµ | N8: ²Û¹ ÃíáõÙª Ñ³ÛóÇ Ù»ñÅÙ³Ùµ | O8: ²Û¹ ÃíáõÙª Ï³ñ×í»É »Ý | S8: Ð³ÛóÁ ÃáÕÝí»É ¿ ³é³Ýó ùÝÝáõÃÛ³Ý | T8: ÀÝ¹³Ù»ÝÝ ³í³ñïí»É »Ý ·áñÍ»ñ | W8: Ï³Û³óí³Í í×ÇéÝ»ñÇ ¹»Ù | X8: ³é³Ýó ùÝÝáõÃÛ³Ý ÃáÕÝ»Éáõ Ù³ëÇÝ áñáßáõÙÝ»ñÇ ¹»Ù | Y8: ÙÇç³ÝÏÛ³É ¹³ï³Ï³Ý ³Ïï»ñÇ ¹»Ù
O11: ÀÝ¹³Ù»ÝÁ Ï³ñ×í»É »Ý | P11: ²Û¹ ÃíáõÙª Ñ³ëï³ïí»É ¿ ÏÝùí³Í Ñ³ßïáõÃÛ³Ý Ñ³Ù³Ó³ÛÝáõÃÛáõÝÁ | Q11: ²Û¹ ÃíáõÙª Ñ³óÇó, ¹ÇÙáõÙÇó Ññ³Å³ñí»Éáõ ÑÇÙùáí | R11: ²Û¹ ÃíáõÙª ³ÛÉ ÑÇÙùáí
A19: Æñ³í³Ñ³ñ³µ»ñáõÃÛáõÝÝ»ñÇ ï»ë³ÏÝ»ñÁ | F19: 1 | G19: 2 | H19: 3 | I19: 4 | J19: 5 | K19: 6 | L19: 7 | M19: 8 | N19: 9 | O19: 10 | P19: 11 | Q19: 12 | R19: 13 | S19: 14 | T19: 15 | U19: 16 | V19: 17 | W19: 18 | X19: 19 | Y19: 20 | Z19: 21 | AA19: 22
A20: 1. | C20: ¶áõÛù³ÛÇÝ í»×»ñ | F20: 0 | G20: 0 | H20: 0 | I20: 0 | J20: 0 | K20: 0 | L20: 0 | M20: 0 | N20: 0 | O20: 0 | P20: 0 | Q20: 0 | R20: 0 | S20: 0 | T20: 0 | U20: 0 | V20: 0 | W20: 0 | X20: 0 | Y20: 0 | Z20: 0 | AA20: 0
A21: 1.1 | C21: ¶áõÛùÇ ÝÏ³ïÙ³Ùµ ë»÷³Ï³ÝáõÃÛ³Ý Çñ³íáõÝùÁ ×³Ý³ã»Éáõ í»ñ³µ»ñÛ³É | F21: 9 | G21: 63 | H21: 60 | I21: 3 | J21: 0 | K21: 48 | L21: 30 | M21: 1 | N21: 10 | O21: 7 | P21: 1 | Q21: 4 | R21: 2 | S21: 1 | T21: 49 | U21: 0 | V21: 44 | W21: 8 | X21: 0 | Y21: 0 | Z21: 20 | AA21: 3
A22: 1.1.1 | C22: ²Û¹ ÃíáõÙª Ó»éùµ»ñÙ³Ý í³Õ»ÙáõÃÛ³Ý áõÅáí | F22: 8 | G22: 13 | H22: 13 | I22: 0 | J22: 0 | K22: 16 | L22: 8 | M22: 1 | N22: 2 | O22: 5 | P22: 0 | Q22: 4 | R22: 1 | S22: 0 | T22: 16 | U22: 0 | V22: 12 | W22: 1 | X22: 0 | Y22: 0 | Z22: 5 | AA22: 0
A23: 1.1.2 | B23: ուժը կորցրել է | C23: ²Û¹ ÃíáõÙª ïÇñ³½áõñÏ ·áõÛùÇ ÝÏ³ïÙ³Ùµ | F23: 0 | G23: 0 | H23: 0 | I23: 0 | J23: 0 | K23: 0 | L23: 0 | M23: 0 | N23: 0 | O23: 0 | P23: 0 | Q23: 0 | R23: 0 | S23: 0 | T23: 0 | U23: 0 | V23: 0 | W23: 0 | X23: 0 | Y23: 0 | Z23: 0 | AA23: 0
A24: 1.1.3 | B24: ուժը կորցրել է | C24: ²Û¹ ÃíáõÙª ÇÝùÝ³Ï³Ù Ï³éáõÛóÇ ÝÏ³ïÙ³Ùµ | F24: 0 | G24: 0 | H24: 0 | I24: 0 | J24: 0 | K24: 0 | L24: 0 | M24: 0 | N24: 0 | O24: 0 | P24: 0 | Q24: 0 | R24: 0 | S24: 0 | T24: 0 | U24: 0 | V24: 0 | W24: 0 | X24: 0 | Y24: 0 | Z24: 0 | AA24: 0
A25: 1.2 | C25: ê»÷³Ï³ÝáõÃÛ³Ý Çñ³íáõÝùÇ ¹³¹³ñ»óÙ³Ý í»ñ³µ»ñÛ³É | F25: 0 | G25: 0 | H25: 0 | I25: 0 | J25: 0 | K25: 0 | L25: 0 | M25: 0 | N25: 0 | O25: 0 | P25: 0 | Q25: 0 | R25: 0 | S25: 0 | T25: 0 | U25: 0 | V25: 0 | W25: 0 | X25: 0 | Y25: 0 | Z25: 0 | AA25: 0
A26: 1.3 | C26: ¶áõÛùÇ ÝÏ³ïÙ³Ùµ û·ï³·áñÍÙ³Ý Çñ³íáõÝùÁ ×³Ý³ã»Éáõ í»ñ³µ»ñÛ³É | F26: 1 | G26: 0 | H26: 0 | I26: 0 | J26: 0 | K26: 0 | L26: 0 | M26: 0 | N26: 0 | O26: 0 | P26: 0 | Q26: 0 | R26: 0 | S26: 0 | T26: 0 | U26: 0 | V26: 0 | W26: 0 | X26: 0 | Y26: 0 | Z26: 1 | AA26: 1
A27: 1.3.1 | C27: ²Û¹ ÃíáõÙª µÝ³Ïû·ï³·áñÍÙ³Ý Çñ³íáõÝùÁ ×³Ý³ã»Éáõ í»ñ³µ»ñÛ³É | F27: 0 | G27: 1 | H27: 1 | I27: 0 | J27: 0 | K27: 1 | L27: 1 | M27: 0 | N27: 0 | O27: 0 | P27: 0 | Q27: 0 | R27: 0 | S27: 0 | T27: 1 | U27: 0 | V27: 0 | W27: 1 | X27: 0 | Y27: 0 | Z27: 0 | AA27: 0
A28: 1.3.2 | C28: ²Û¹ ÃíáõÙª ÑáÕ³Ù³ëÇ ÝÏ³ïÙ³Ùµ û·ï³·áñÍÙ³Ý Çñ³íáõÝùÁ ×³Ý³ã»Éáõ í»ñ³µ»ñÛ³É | F28: 1 | G28: 2 | H28: 2 | I28: 0 | J28: 0 | K28: 3 | L28: 3 | M28: 0 | N28: 0 | O28: 0 | P28: 0 | Q28: 0 | R28: 0 | S28: 0 | T28: 3 | U28: 0 | V28: 2 | W28: 1 | X28: 0 | Y28: 0 | Z28: 0 | AA28: 0
A29: 1.4 | C29: ¶áõÛùÇ ÝÏ³ïÙ³Ùµ û·ï³·áñÍÙ³Ý Çñ³íáõÝùÁ ¹³¹³ñ»óÝ»Éáõ í»ñ³µ»ñÛ³É | F29: 0 | G29: 0 | H29: 0 | I29: 0 | J29: 0 | K29: 0 | L29: 0 | M29: 0 | N29: 0 | O29: 0 | P29: 0 | Q29: 0 | R29: 0 | S29: 0 | T29: 0 | U29: 0 | V29: 0 | W29: 0 | X29: 0 | Y29: 0 | Z29: 0 | AA29: 0
A30: 1.4.1 | C30: ²Û¹ ÃíáõÙª µÝ³Ïû·ï³·áñÍÙ³Ý Çñ³íáõÝùÁ ¹³¹³ñ»óÝ»Éáõ í»ñ³µ»ñÛ³É | F30: 0 | G30: 1 | H30: 1 | I30: 0 | J30: 0 | K30: 1 | L30: 0 | M30: 1 | N30: 0 | O30: 0 | P30: 0 | Q30: 0 | R30: 0 | S30: 0 | T30: 1 | U30: 0 | V30: 1 | W30: 0 | X30: 0 | Y30: 0 | Z30: 0 | AA30: 0
