Workbook

Sheet Աջափնյակ
A1: Ð²ÞìºîìàôÂÚàôÜ
A2: ø²Ô²ø²òÆ²Î²Ü ¶àðÌºðÆ øÜÜàôÂÚ²Ü ìºð²´ºðÚ²È
A3: ²ç³÷ÝÛ³Ï ¨ ¸³íÃ³ß»Ý Ñ³Ù³ÛÝùÝ»ñÇ ÁÝ¹Ñ³Ýáõñ Çñ³í³ëáõÃÛ³Ý ¹³ï³ñ³Ý 2009 Ã. ³é³çÇÝ ÏÇë³ÙÛ³ÏÇ Ñ³Ù³ñ
A5: êïáõ·Çã Ñ³í³ë³ñáõÙÝ»ñª 2=3+4+5, 1+3=15+16+21, 6=7+8+9+10, 10=11+12+13, 15=6+14 | E5: ²Ý³í³ñï ·áñÍ»ñÇ ÙÝ³óáñ¹Á Ñ³ßí»ïáõ Å³Ù³Ý³Ï³ßñç³ÝÇ ëÏ½µáõÙ | F5: êï³óí³Í Ñ³Ûó»ñÇ, ¹ÇÙáõÙÝ»ñÇ (·áñÍ»ñ) ù³Ý³ÏÁ | J5: ²í³ñïí»É »Ý ·áñÍ»ñ Ñ³ßí»ïáõ Å³Ù³Ý³Ï³ßñç³ÝáõÙ | T5: ¶áñÍÝ áõÕ³ñÏí»É ¿ Áëï ÁÝ¹¹³ïáõÃÛ³Ý | U5: Øï»É »Ý ûñÇÝ³Ï³Ý áõÅÇ Ù»ç | V5: ´áÕáù³ñÏí»É »Ý í»ñ³ùÝÝÇã ¹³ï³ñ³Ý | Y5: ²Ý³í³ñï ·áñÍ»ñÇ ÙÝ³óáñ¹Á Ñ³ßí»ïáõ Å³Ù³Ý³Ï³ßñç³ÝÇ í»ñçáõÙ | Z5: ²Û¹ ÃíáõÙª Ï³ë»óí³Í
V6: Ï³Û³óí³Í í×ÇéÝ»ñÇ ¹»Ù | W6: ³é³Ýó ùÝÝáõÃÛ³Ý ÃáÕÝ»Éáõ Ù³ëÇÝ áñáßáõÙÝ»ñÇ ¹»Ù | X6: ÙÇç³ÝÏÛ³É ¹³ï³Ï³Ý ³Ïï»ñÇ ¹»Ù
F8: ÀÝ¹³Ù»ÝÁ | G8: ²Û¹ ÃíáõÙª ÁÝ¹áõÝí»É ¿ í³ñáõÛÃ | H8: ²Û¹ ÃíáõÙª í»ñ³¹³ñÓí»É ¿ | I8: ²Û¹ ÃíáõÙª Ñ³Ûó»ñÇ (¹ÇÙáõÙÝ»ñÇ) ÁÝ¹áõÝáõÙÁ Ù»ñÅí»É ¿ | J8: ÀÝ¹³Ù»ÝÁ ³í³ñïí»É »Ý ·áñÍ»ñ í×éÇ Ï³Û³óáõÙáí | K8: ²Û¹ ÃíáõÙª Ñ³ÛóÇ µ³í³ñ³ñÙ³Ùµ | L8: ²Û¹ ÃíáõÙª Ñ³ÛóÇ Ù³ëÝ³ÏÇ µ³í³ñ³ñÙ³Ùµ | M8: ²Û¹ ÃíáõÙª Ñ³ÛóÇ Ù»ñÅÙ³Ùµ | N8: ²Û¹ ÃíáõÙª Ï³ñ×í»É »Ý | R8: Ð³ÛóÁ ÃáÕÝí»É ¿ ³é³Ýó ùÝÝáõÃÛ³Ý | S8: ÀÝ¹³Ù»ÝÝ ³í³ñïí»É »Ý ·áñÍ»ñ
N11: ÀÝ¹³Ù»ÝÁ Ï³ñ×í»É »Ý | O11: ²Û¹ ÃíáõÙª Ñ³ëï³ïí»É ¿ ÏÝùí³Í Ñ³ßïáõÃÛ³Ý Ñ³Ù³Ó³ÛÝáõÃÛáõÝÁ | P11: ²Û¹ ÃíáõÙª Ñ³ÛóÇó, ¹ÇÙáõÙÇó Ññ³Å³ñí»Éáõ ÑÇÙùáí | Q11: ²Û¹ ÃíáõÙª ³ÛÉ ÑÇÙùáí
A19: Æñ³í³Ñ³ñ³µ»ñáõÃÛáõÝÝ»ñÇ ï»ë³ÏÝ»ñÁ | E19: 1 | F19: 2 | G19: 3 | H19: 4 | I19: 5 | J19: 6 | K19: 7 | L19: 8 | M19: 9 | N19: 10 | O19: 11 | P19: 12 | Q19: 13 | R19: 14 | S19: 15 | T19: 16 | U19: 17 | V19: 18 | W19: 19 | X19: 20 | Y19: 21 | Z19: 22
A20: 1 | B20: ¶áõÛù³ÛÇÝ í»×»ñ
A21: 1..1 | B21: ¶áõÛùÇ ÝÏ³ïÙ³Ùµ ë»÷³Ï³ÝáõÃÛ³Ý Çñ³íáõÝùÁ ×³Ý³ã»Éáõ í»ñ³µ»ñÛ³É | E21: ='[1]kod 1.1'!J13 -> 12 | F21: 24 | G21: 21 | H21: 1 | I21: 2 | J21: 25 | K21: 8 | L21: 2 | M21: 5 | N21: 10 | O21: 2 | P21: 7 | Q21: 1 | R21: ='[1]kod 1.1'!J5 -> 0 | S21: =J21+R21 -> 25 | T21: ='[1]kod 1.1'!J9 -> 0 | U21: 20 | V21: 3 | Y21: 8 | Z21: 1
A22: 1.1.1 | B22: ²Û¹ ÃíáõÙª Ó»éùµ»ñÙ³Ý í³Õ»ÙáõÃÛ³Ý áõÅáí | E22: ='[1]kod 1.1.1'!J13 -> 9 | F22: 25 | G22: 25 | H22: ='[1]kod 1.1.1'!M3 -> 0 | I22: ='[1]kod 1.1.1'!N3 -> 0 | J22: 14 | K22: 6 | L22: ='[1]kod 1.1.1'!J3 -> 0 | M22: 6 | N22: 2 | O22: 1 | P22: 1 | Q22: ='[1]kod 1.1.1'!J6 -> 0 | R22: ='[1]kod 1.1.1'!J5 -> 0 | S22: =J22+R22 -> 14 | T22: ='[1]kod 1.1.1'!J9 -> 0 | U22: 10 | V22: 4 | Y22: 20 | Z22: 3
A23: 1.1.2 | B23: ²Û¹ ÃíáõÙª ïÇñ³½áõñÏ ·áõÛùÇ ÝÏ³ïÙ³Ùµ | N23: =O23+P23+Q23 -> 0
A24: 1.1.3 | B24: ²Û¹ ÃíáõÙª ÇÝùÝ³Ï³Ù Ï³éáõÛóÇ ÝÏ³ïÙ³Ùµ | E24: ='[1]kod 1.1.3'!J13 -> 1 | F24: =G24+H24+I24 -> 0 | G24: ='[1]kod 1.1.3'!J14 -> 0 | H24: ='[1]kod 1.1.3'!M3 -> 0 | I24: ='[1]kod 1.1.3'!N3 -> 0 | J24: =K24+L24+M24+N24 -> 0 | K24: ='[1]kod 1.1.3'!J2 -> 0 | L24: ='[1]kod 1.1.3'!J3 -> 0 | M24: ='[1]kod 1.1.3'!J4 -> 0 | N24: =O24+P24+Q24 -> 0 | O24: ='[1]kod 1.1.3'!J7 -> 0 | P24: ='[1]kod 1.1.3'!J8 -> 0 | Q24: ='[1]kod 1.1.3'!J6 -> 0 | R24: ='[1]kod 1.1.3'!J5 -> 0 | S24: =J24+R24 -> 0 | T24: ='[1]kod 1.1.3'!J9 -> 1 | U24: ='[1]kod 1.1.3'!M2 -> 0 | V24: ='[1]kod 1.1.3'!G5 -> 0 | Y24: ='[1]kod 1.1.3'!J10+'[1]kod 1.1.3'!J11 -> 0 | Z24: ='[1]kod 1.1.3'!J10 -> 0
A25: 1..2 | B25: ê»÷³Ï³ÝáõÃÛ³Ý Çñ³íáõÝùÇ ¹³¹³ñ»óÙ³Ý í»ñ³µ»ñÛ³É | E25: ='[1]kod 1.2'!J13 -> 0 | F25: =G25+H25+I25 -> 0 | G25: ='[1]kod 1.2'!J14 -> 0 | H25: ='[1]kod 1.2'!M3 -> 0 | I25: ='[1]kod 1.2'!N3 -> 0 | J25: =K25+L25+M25+N25 -> 0 | K25: ='[1]kod 1.2'!J2 -> 0 | L25: ='[1]kod 1.2'!J3 -> 0 | M25: ='[1]kod 1.2'!J4 -> 0 | N25: =O25+P25+Q25 -> 0 | O25: ='[1]kod 1.2'!J7 -> 0 | P25: ='[1]kod 1.2'!J8 -> 0 | Q25: ='[1]kod 1.2'!J6 -> 0 | R25: ='[1]kod 1.2'!J5 -> 0 | S25: =J25+R25 -> 0 | T25: ='[1]kod 1.2'!J9 -> 0 | U25: ='[1]kod 1.2'!M2 -> 0 | V25: ='[1]kod 1.2'!G6 -> 0 | Y25: ='[1]kod 1.2'!J10+'[1]kod 1.2'!J11 -> 0 | Z25: ='[1]kod 1.2'!J10 -> 0
A26: 1.3 | B26: ¶áõÛùÇ ÝÏ³ïÙ³Ùµ û·ï³·áñÍÙ³Ý Çñ³íáõÝùÁ ×³Ý³ã»Éáõ í»ñ³µ»ñÛ³É | N26: =O26+P26+Q26 -> 0
A27: 1.3.1 | B27: ²Û¹ ÃíáõÙª µÝ³Ïû·ï³·áñÍÙ³Ý Çñ³íáõÝùÁ ×³Ý³ã»Éáõ í»ñ³µ»ñÛ³É | E27: ='[1]kod 1.3.1'!J13 -> 0 | F27: =G27+H27+I27 -> 1 | G27: ='[1]kod 1.3.1'!J14 -> 1 | H27: ='[1]kod 1.3.1'!M3 -> 0 | I27: ='[1]kod 1.3.1'!N3 -> 0 | J27: =K27+L27+M27+N27 -> 1 | K27: ='[1]kod 1.3.1'!J2 -> 0 | L27: ='[1]kod 1.3.1'!J3 -> 0 | M27: ='[1]kod 1.3.1'!J4 -> 0 | N27: =O27+P27+Q27 -> 1 | O27: ='[1]kod 1.3.1'!J7 -> 0 | P27: ='[1]kod 1.3.1'!J8 -> 1 | Q27: ='[1]kod 1.3.1'!J6 -> 0 | R27: ='[1]kod 1.3.1'!J5 -> 0 | S27: =J27+R27 -> 1 | T27: ='[1]kod 1.3.1'!J9 -> 0 | U27: ='[1]kod 1.3.1'!M2 -> 1 | V27: ='[1]kod 1.3.1'!G6 -> 0 | Y27: ='[1]kod 1.3.1'!J10+'[1]kod 1.3.1'!J11 -> 0 | Z27: ='[1]kod 1.3.1'!J10 -> 0
A28: 1.3.2. | B28: ²Û¹ ÃíáõÙª ÑáÕ³Ù³ëÇ ÝÏ³ïÙ³Ùµ û·ï³·áñÍÙ³Ý Çñ³íáõÝùÁ ×³Ý³ã»Éáõ í»ñ³µ»ñÛ³É | E28: ='[1]kod 1.3.2'!J13 -> 2 | F28: =G28+H28+I28 -> 0 | G28: ='[1]kod 1.3.2'!J14 -> 0 | H28: ='[1]kod 1.3.2'!M3 -> 0 | I28: ='[1]kod 1.3.2'!N3 -> 0 | J28: =K28+L28+M28+N28 -> 2 | K28: ='[1]kod 1.3.2'!J2 -> 0 | L28: ='[1]kod 1.3.2'!J3 -> 0 | M28: ='[1]kod 1.3.2'!J4 -> 0 | N28: =O28+P28+Q28 -> 2 | O28: ='[1]kod 1.3.2'!J7 -> 0 | P28: ='[1]kod 1.3.2'!J8 -> 0 | Q28: ='[1]kod 1.3.2'!J6 -> 2 | R28: ='[1]kod 1.3.2'!J5 -> 0 | S28: =J28+R28 -> 2 | T28: ='[1]kod 1.3.2'!J9 -> 0 | U28: ='[1]kod 1.3.2'!M2 -> 2 | V28: ='[1]kod 1.3.2'!G6 -> 0 | Y28: ='[1]kod 1.3.2'!J10+'[1]kod 1.3.2'!J11 -> 0 | Z28: ='[1]kod 1.3.2'!J10 -> 0
A29: 1.4 | B29: ¶áõÛùÇ ÝÏ³ïÙ³Ùµ û·ï³·áñÍÙ³Ý Çñ³íáõÝùÁ ¹³¹³ñ»óÝ»Éáõ í»ñ³µ»ñÛ³É | E29: ='[1]kod 1.4'!J13 -> 0 | F29: =G29+H29+I29 -> 0 | G29: ='[1]kod 1.4'!J14 -> 0 | H29: ='[1]kod 1.4'!M3 -> 0 | I29: ='[1]kod 1.4'!N3 -> 0 | J29: =K29+L29+M29+N29 -> 0 | K29: ='[1]kod 1.4'!J2 -> 0 | L29: ='[1]kod 1.4'!J3 -> 0 | M29: ='[1]kod 1.4'!J4 -> 0 | N29: =O29+P29+Q29 -> 0 | O29: ='[1]kod 1.4'!J7 -> 0 | P29: ='[1]kod 1.4'!J8 -> 0 | Q29: ='[1]kod 1.4'!J6 -> 0 | R29: ='[1]kod 1.4'!J5 -> 0 | S29: =J29+R29 -> 0 | T29: ='[1]kod 1.4'!J9 -> 0 | U29: ='[1]kod 1.4'!M2 -> 0 | V29: ='[1]kod 1.4'!G6 -> 0 | Y29: ='[1]kod 1.4'!J10+'[1]kod 1.4'!J11 -> 0 | Z29: ='[1]kod 1.4'!J10 -> 0
A30: 1.4.1 | B30: ²Û¹ ÃíáõÙª µÝ³Ïû·ï³·áñÍÙ³Ý Çñ³íáõÝùÁ ¹³¹³ñ»óÝ»Éáõ í»ñ³µ»ñÛ³É | E30: ='[1]kod 1.4.1'!J13 -> 3 | F30: =G30+H30+I30 -> 1 | G30: ='[1]kod 1.4.1'!J14 -> 1 | H30: ='[1]kod 1.4.1'!M3 -> 0 | I30: ='[1]kod 1.4.1'!N3 -> 0 | J30: 2 | K30: 1 | L30: ='[1]kod 1.4.1'!J3 -> 0 | M30: ='[1]kod 1.4.1'!J4 -> 1 | N30: =O30+P30+Q30 -> 0 | O30: ='[1]kod 1.4.1'!J7 -> 0 | P30: ='[1]kod 1.4.1'!J8 -> 0 | Q30: ='[1]kod 1.4.1'!J6 -> 0 | R30: ='[1]kod 1.4.1'!J5 -> 0 | S30: =J30+R30 -> 2 | T30: ='[1]kod 1.4.1'!J9 -> 0 | U30: 2 | V30: ='[1]kod 1.4.1'!G6 -> 0 | Y30: 2 | Z30: ='[1]kod 1.4.1'!J10 -> 2
A31: 1.4.1/1 | B31: ²Û¹ ÃíáõÙª ÷áËÑ³ïáõóÙ³Ùµ | E31: ='[1]kod 1.4.1-1'!J13 -> 5 | F31: =G31+H31+I31 -> 0 | G31: ='[1]kod 1.4.1-1'!J14 -> 0 | H31: ='[1]kod 1.4.1-1'!M3 -> 0 | I31: ='[1]kod 1.4.1-1'!N3 -> 0 | J31: =K31+L31+M31+N31 -> 1 | K31: ='[1]kod 1.4.1-1'!J2 -> 1 | L31: ='[1]kod 1.4.1-1'!J3 -> 0 | M31: ='[1]kod 1.4.1-1'!J4 -> 0 | N31: =O31+P31+Q31 -> 0 | O31: ='[1]kod 1.4.1-1'!J7 -> 0 | P31: ='[1]kod 1.4.1-1'!J8 -> 0 | Q31: ='[1]kod 1.4.1-1'!J6 -> 0 | R31: ='[1]kod 1.4.1-1'!J5 -> 0 | S31: =J31+R31 -> 1 | T31: ='[1]kod 1.4.1-1'!J9 -> 1 | U31: 1 | V31: ='[1]kod 1.4.1-1'!G6 -> 1 | Y31: ='[1]kod 1.4.1-1'!J10+'[1]kod 1.4.1-1'!J11 -> 3 | Z31: 2
A32: 1.5 | B32: ´Ý³Ï³ñ³ÝÇó/ ï³ñ³ÍùÇó/ íï³ñ»Éáõ í»ñ³µ»ñÛ³É | E32: ='[1]kod 1.5'!J13 -> 11 | F32: 22 | G32: 21 | H32: 1 | I32: ='[1]kod 1.5'!N3 -> 0 | J32: 16 | K32: 10 | L32: ='[1]kod 1.5'!J3 -> 0 | M32: 2 | N32: 4 | O32: 1 | P32: 3 | Q32: ='[1]kod 1.5'!J6 -> 0 | R32: ='[1]kod 1.5'!J5 -> 0 | S32: =J32+R32 -> 16 | T32: ='[1]kod 1.5'!J9 -> 1 | U32: 12 | V32: 4 | Y32: 15 | Z32: 6
A33: 1.6 | B33: ¶áõÛùÝ áõñÇßÇ ³åûñÇÝÇ ïÇñ³å»ïáõÙÇó »ï í»ñ³¹³ñÓÝ»Éáõ í»ñ³µ»ñÛ³É | E33: ='[1]kod 1.6'!J13 -> 14 | F33: 32 | G33: 30 | H33: 2 | I33: ='[1]kod 1.6'!N3 -> 0 | J33: 29 | K33: 15 | L33: ='[1]kod 1.6'!J3 -> 0 | M33: 3 | N33: 11 | O33: ='[1]kod 1.6'!J7 -> 0 | P33: 11 | Q33: ='[1]kod 1.6'!J6 -> 0 | R33: 1 | S33: =J33+R33 -> 30 | T33: ='[1]kod 1.6'!J9 -> 2 | U33: 12 | V33: 13 | X33: ='[1]kod 1.6'!G6 -> 2 | Y33: ='[1]kod 1.6'!J10+'[1]kod 1.6'!J11 -> 12 | Z33: 1
A34: 1.7 | B34: îÇñ³å»ïáõÙÇó ½ñÏ»Éáõ Ñ»ï ãÏ³åí³Í Çñ³íáõÝùÝ»ñÇ Ë³ËïáõÙÁ í»ñ³óÝ»Éáõ í»ñ³µ»ñÛ³É | E34: ='[1]kod 1.7'!J13 -> 5 | F34: 14 | G34: 13 | H34: 1 | I34: ='[1]kod 1.7'!N3 -> 0 | J34: 4 | K34: 2 | L34: ='[1]kod 1.7'!J3 -> 0 | M34: 1 | N34: 1 | O34: ='[1]kod 1.7'!J7 -> 0 | P34: 1 | Q34: ='[1]kod 1.7'!J6 -> 0 | R34: ='[1]kod 1.7'!J5 -> 0 | S34: =J34+R34 -> 4 | T34: ='[1]kod 1.7'!J9 -> 0 | U34: 1 | V34: 3 | Y34: 14 | Z34: 6
A35: 1.8 | B35: ÀÝ¹Ñ³Ýáõñ µ³ÅÝ³ÛÇÝ ë»÷³Ï³ÝáõÃÛáõÝÇó µ³ÅÇÝÝ ³é³ÝÓÝ³óÝ»Éáõ í»ñ³µ»ñÛ³É | E35: ='[1]kod 1.8'!J13 -> 25 | F35: 51 | G35: 48 | H35: 3 | I35: ='[1]kod 1.8'!N3 -> 0 | J35: 33 | K35: 13 | L35: 1 | M35: 4 | N35: 15 | O35: 2 | P35: 10 | Q35: 3 | R35: ='[1]kod 1.8'!J5 -> 0 | S35: 33 | T35: 1 | U35: 24 | V35: 8 | X35: ='[1]kod 1.8'!G6 -> 2 | Y35: 39 | Z35: 10
A36: 1.9 | B36: ²ÛÉ í»×»ñ | E36: ='[1]kod 1.9'!J13 -> 15 | F36: 46 | G36: 35 | H36: 9 | I36: 2 | J36: 26 | K36: 11 | L36: ='[1]kod 1.9'!J3 -> 0 | M36: 5 | N36: 10 | O36: ='[1]kod 1.9'!J7 -> 0 | P36: 9 | Q36: 1 | R36: ='[1]kod 1.9'!J5 -> 0 | S36: =J36+R36 -> 26 | T36: 4 | U36: 20 | V36: 4 | Y36: 20 | Z36: 9
A37: 2. | B37: ¶áñÍ³ñùÝ»ñÇ Ñ»ï Ï³åí³Í í»×»ñ
A38: 2.1 | B38: ¶áñÍ³ñùÝ ³Ýí³í»ñ ×³Ý³ã»Éáõ í»ñ³µ»ñÛ³É | E38: ='[1]kod 2.1'!J13 -> 1 | F38: 8 | G38: 7 | H38: 1 | I38: ='[1]kod 2.1'!N3 -> 0 | J38: 4 | K38: 1 | L38: ='[1]kod 2.1'!J3 -> 0 | M38: 1 | N38: 2 | P38: 2 | Q38: ='[1]kod 2.1'!J6 -> 0 | R38: ='[1]kod 2.1'!J5 -> 0 | S38: =J38+R38 -> 4 | T38: ='[1]kod 2.1'!J9 -> 1 | U38: ='[1]kod 2.1'!M2 -> 0 | V38: 2 | Y38: 3 | Z38: ='[1]kod 2.1'!J10 -> 1
A39: 2.1.1 | B39: ²Û¹ ÃíáõÙª íÇ×³Ñ³ñáõÛó ·áñÍ³ñùÝ»ñ | E39: ='[1]kod 2.1.1'!J13 -> 0 | F39: =G39+H39+I39 -> 1 | G39: ='[1]kod 2.1.1'!J14 -> 1 | H39: ='[1]kod 2.1.1'!M3 -> 0 | I39: ='[1]kod 2.1.1'!N3 -> 0 | J39: 1 | K39: ='[1]kod 2.1.1'!J2 -> 0 | L39: ='[1]kod 2.1.1'!J3 -> 0 | M39: 1 | N39: =O39+P39+Q39 -> 0 | O39: ='[1]kod 2.1.1'!J7 -> 0 | P39: ='[1]kod 2.1.1'!J8 -> 0 | Q39: ='[1]kod 2.1.1'!J6 -> 0 | R39: ='[1]kod 2.1.1'!J5 -> 0 | S39: =J39+R39 -> 1 | T39: ='[1]kod 2.1.1'!J9 -> 0 | U39: 0 | V39: 1 | Y39: 0 | Z39: ='[1]kod 2.1.1'!J10 -> 0
A40: 2.1.2 | B40: ²Û¹ ÃíáõÙª ³éáãÇÝã ·áñÍ³ñùÝ»ñ | E40: ='[1]kod 2.1.2'!J13 -> 0 | F40: 5 | G40: 4 | H40: ='[1]kod 2.1.2'!M3 -> 1 | I40: ='[1]kod 2.1.2'!N3 -> 0 | J40: 1 | K40: ='[1]kod 2.1.2'!J2 -> 0 | L40: ='[1]kod 2.1.2'!J3 -> 0 | M40: ='[1]kod 2.1.2'!J4 -> 0 | N40: 1 | O40: ='[1]kod 2.1.2'!J7 -> 0 | P40: 1 | Q40: ='[1]kod 2.1.2'!J6 -> 0 | R40: ='[1]kod 2.1.2'!J5 -> 0 | S40: =J40+R40 -> 1 | T40: 1 | U40: 1 | V40: ='[1]kod 2.1.2'!G6 -> 0 | Y40: 2 | Z40: ='[1]kod 2.1.2'!J10 -> 0
A41: 2.2 | B41: ¶áñÍ³ñùÁ í³í»ñ ×³Ý³ã»Éáõ í»ñ³µ»ñÛ³É | E41: ='[1]kod 2.2'!J13 -> 1 | F41: =G41+H41+I41 -> 1 | G41: ='[1]kod 2.2'!J14 -> 0 | H41: ='[1]kod 2.2'!M3 -> 1 | I41: ='[1]kod 2.2'!N3 -> 0 | J41: =K41+L41+M41+N41 -> 0 | K41: ='[1]kod 2.2'!J2 -> 0 | L41: ='[1]kod 2.2'!J3 -> 0 | M41: ='[1]kod 2.2'!J4 -> 0 | N41: =O41+P41+Q41 -> 0 | O41: ='[1]kod 2.2'!J7 -> 0 | P41: ='[1]kod 2.2'!J8 -> 0 | Q41: ='[1]kod 2.2'!J6 -> 0 | R41: ='[1]kod 2.2'!J5 -> 0 | S41: =J41+R41 -> 0 | T41: ='[1]kod 2.2'!J9 -> 0 | U41: ='[1]kod 2.2'!M2 -> 0 | V41: 0 | Y41: ='[1]kod 2.2'!J10+'[1]kod 2.2'!J11 -> 1 | Z41: 1
A42: 2.3 | B42: ¶áñÍ³ñùÇó Í³·áÕ Çñ³íáõÝùÝ»ñÁ ·ñ³Ýó»Éáõ í»ñ³µ»ñÛ³É | N42: =O42+P42+Q42 -> 0
A43: 2.4 | B43: ä³ÛÙ³Ý³·ÇñÝ ³Ýí³í»ñ ×³Ý³ã»Éáõ í»ñ³µ»ñÛ³É | E43: ='[1]kod 2.4'!J13 -> 0 | F43: 28 | G43: 26 | H43: 2 | I43: ='[1]kod 2.4'!N3 -> 0 | J43: 10 | K43: 4 | L43: 1 | M43: 4 | N43: 1 | O43: ='[1]kod 2.4'!J7 -> 0 | P43: 1 | Q43: ='[1]kod 2.4'!J6 -> 0 | R43: ='[1]kod 2.4'!J5 -> 0 | S43: =J43+R43 -> 10 | T43: ='[1]kod 2.4'!J9 -> 0 | U43: 4 | V43: 2 | X43: 1 | Y43: 16 | Z43: 7
A44: 2.5 | B44: ä³ÛÙ³Ý³·ñÇÁ í³í»ñ ×³Ý³ã»Éáõ í»ñ³µ»ñÛ³É | E44: ='[1]kod 2.5'!J13 -> 5 | F44: 10 | G44: 9 | H44: 1 | I44: ='[1]kod 2.5'!N3 -> 0 | J44: 8 | K44: 4 | L44: 1 | M44: 1 | N44: 2 | O44: ='[1]kod 2.5'!J7 -> 0 | P44: 2 | Q44: ='[1]kod 2.5'!J6 -> 0 | R44: ='[1]kod 2.5'!J5 -> 0 | S44: =J44+R44 -> 8 | T44: ='[1]kod 2.5'!J9 -> 0 | U44: 5 | V44: 1 | Y44: 6 | Z44: ='[1]kod 2.5'!J10 -> 0
A45: 2.6 | B45: ä³ÛÙ³Ý³·ñÇó Í³·áÕ Çñ³íáõÝùÝ»ñÁ ·ñ³Ýó»Éáõ í»ñ³µ»ñÛ³É
A46: 2.7 | B46: ä³ÛÙ³Ý³·ÇñÁ ÷á÷áË»Éáõ ¨ ÉáõÍ»Éáõ í»ñ³µ»ñÛ³É | E46: ='[1]kod 2.7'!J13 -> 0 | F46: 69 | G46: 59 | H46: 10 | I46: ='[1]kod 2.7'!N3 -> 0 | J46: 35 | K46: 23 | L46: 2 | M46: 2 | N46: 8 | O46: 1 | P46: 7 | Q46: ='[1]kod 2.7'!J6 -> 0 | R46: ='[1]kod 2.7'!J5 -> 0 | S46: =J46+R46 -> 35 | T46: ='[1]kod 2.7'!J9 -> 0 | U46: 23 | V46: 6 | Y46: 24 | Z46: 8
A47: 2.8 | B47: ä³ÛÙ³Ý³·Çñ ÏÝù»ÉáõÝ å³ñï³íáñ»óÝ»Éáõ í»ñ³µ»ñÛ³É | E47: ='[1]kod 2.8'!J13 -> 1 | F47: 3 | G47: 3 | H47: ='[1]kod 2.8'!M3 -> 0 | I47: ='[1]kod 2.8'!N3 -> 0 | J47: 2 | K47: ='[1]kod 2.8'!J2 -> 0 | L47: ='[1]kod 2.8'!J3 -> 0 | M47: ='[1]kod 2.8'!J4 -> 0 | N47: 2 | O47: 1 | P47: 1 | Q47: ='[1]kod 2.8'!J6 -> 0 | R47: ='[1]kod 2.8'!J5 -> 0 | S47: =J47+R47 -> 2 | T47: ='[1]kod 2.8'!J9 -> 0 | U47: 2 | V47: ='[1]kod 2.8'!G6 -> 0 | Y47: 2 | Z47: 1
A48: 2.9 | B48: ²ÛÉ í»×»ñ | E48: ='[1]kod 2.9'!J13 -> 0 | F48: 5 | G48: 5 | H48: ='[1]kod 2.9'!M3 -> 0 | I48: ='[1]kod 2.9'!N3 -> 0 | J48: 2 | K48: 2 | L48: ='[1]kod 2.9'!J3 -> 0 | M48: ='[1]kod 2.9'!J4 -> 0 | N48: =O48+P48+Q48 -> 0 | O48: ='[1]kod 2.9'!J7 -> 0 | P48: ='[1]kod 2.9'!J8 -> 0 | Q48: ='[1]kod 2.9'!J6 -> 0 | R48: ='[1]kod 2.9'!J5 -> 0 | S48: =J48+R48 -> 2 | T48: ='[1]kod 2.9'!J9 -> 0 | U48: 2 | V48: ='[1]kod 2.9'!G6 -> 0 | Y48: ='[1]kod 2.9'!J10+'[1]kod 2.9'!J11 -> 3 | Z48: ='[1]kod 2.9'!J10 -> 0
A49: 3. | B49: Ä³é³Ý·áõÃÛ³Ý í»ñ³µ»ñÛ³É í»×»ñ
A50: 3.1 | B50: Îï³ÏÝ ³Ýí³í»ñ ×³Ý³ã»Éáõ í»ñ³µ»ñÛ³É | E50: ='[1]kod 3.1'!J13 -> 1 | F50: =G50+H50+I50 -> 1 | G50: ='[1]kod 3.1'!J14 -> 1 | H50: ='[1]kod 3.1'!M3 -> 0 | I50: ='[1]kod 3.1'!N3 -> 0 | J50: 2 | K50: ='[1]kod 3.1'!J2 -> 1 | L50: ='[1]kod 3.1'!J3 -> 0 | M50: 1 | N50: =O50+P50+Q50 -> 0 | O50: ='[1]kod 3.1'!J7 -> 0 | P50: ='[1]kod 3.1'!J8 -> 0 | Q50: ='[1]kod 3.1'!J6 -> 0 | R50: ='[1]kod 3.1'!J5 -> 0 | S50: =J50+R50 -> 2 | T50: ='[1]kod 3.1'!J9 -> 0 | U50: ='[1]kod 3.1'!M2 -> 1 | V50: ='[1]kod 3.1'!G6 -> 0 | Y50: 0 | Z50: 0
A51: 3.2 | B51: ²Ý³ñÅ³Ý Å³é³Ý· ×³Ý³ã»Éáõ í»ñ³µ»ñÛ³É
...

Sheet Արաբկիր
A1: Ð²ÞìºîìàôÂÚàôÜ
A2: ø²Ô²ø²òÆ²Î²Ü ¶àðÌºðÆ øÜÜàôÂÚ²Ü ìºð²´ºðÚ²È
A3: 2009Ã. ï³ñí³ Ñ³Ù³ñ
A5: êïáõ·Çã Ñ³í³ë³ñáõÙÝ»ñª 2=3+4+5, 1+3=15+16+21, 6=7+8+9+10, 10=11+12+13, 15=6+14, | E5: ²Ý³í³ñï ·áñÍ»ñÇ ÙÝ³óáñ¹Á Ñ³ßí»ïáõ Å³Ù³Ý³Ï³ßñç³ÝÇ ëÏ½µáõÙ | F5: êï³óí³Í Ñ³Ûó»ñÇ,¹ÇÙáõÙÝ»ñÇ (·áñÍ»ñ)ù³Ý³ÏÁ | J5: ²í³ñïí»É »Ý ·áñÍ»ñ Ñ³ßí»ïáõ Å³Ù³Ý³Ï³ßñç³ÝáõÙ | T5: ¶áñÍÝ áõÕ³ñÏí»É ¿ Áëï ÁÝ¹¹³ïáõÃÛ³Ý | U5: Øï»É »Ý ûñÇÝ³Ï³Ý áõÅÇ Ù»ç | V5: ´áÕáù³ñÏí»É »Ý í»ñ³ùÝÝÇã ¹³ï³ñ³Ý | Y5: ²Ý³í³ñï ·áñÍ»ñÇ ÙÝ³óáñ¹Á Ñ³ßí»ïáõ Å³Ù³Ý³Ï³ßñç³ÝÇ í»ñçáõÙ | Z5: ²Û¹ ÃíáõÙª Ï³ë»óí³Í
F8: ÀÝ¹³Ù»ÝÁ | G8: ²Û¹ ÃíáõÙª ÁÝ¹áõÝí»É ¿ í³ñáõÛÃ | H8: ²Û¹ ÃíáõÙª í»ñ³¹³ñÓí»É ¿ | I8: ²Û¹ ÃíáõÙª Ñ³Ûó»ñÇ (¹ÇÙáõÙÝ»ñÇ) ÁÝ¹áõÝáõÙÁ Ù»ñÅí»É ¿ | J8: ÀÝ¹³Ù»ÝÁ ³í³ñïí»É »Ý ·áñÍ»ñ í×éÇ Ï³Û³óáõÙáí | K8: ²Û¹ ÃíáõÙª Ñ³ÛóÇ µ³í³ñ³ñÙ³Ùµ | L8: ²Û¹ ÃíáõÙª Ñ³ÛóÇ Ù³ëÝ³ÏÇ µ³í³ñ³ñÙ³Ùµ | M8: ²Û¹ ÃíáõÙª Ñ³ÛóÇ Ù»ñÅÙ³Ùµ | N8: ²Û¹ ÃíáõÙª Ï³ñ×í»É »Ý | R8: Ð³ÛóÁ ÃáÕÝí»É ¿ ³é³Ýó ùÝÝáõÃÛ³Ý | S8: ÀÝ¹³Ù»ÝÝ ³í³ñïí»É »Ý ·áñÍ»ñ | V8: Ï³Û³óí³Í í×ÇéÝ»ñÇ ¹»Ù | W8: ³é³Ýó ùÝÝáõÃÛ³Ý ÃáÕÝ»Éáõ Ù³ëÇÝ áñáßáõÙÝ»ñÇ ¹»Ù | X8: ÙÇç³ÝÏÛ³É ¹³ï³Ï³Ý ³Ïï»ñÇ ¹»Ù
N11: ÀÝ¹³Ù»ÝÁ Ï³ñ×í»É »Ý | O11: ²Û¹ ÃíáõÙª Ñ³ëï³ïí»É ¿ ÏÝùí³Í Ñ³ßïáõÃÛ³Ý Ñ³Ù³Ó³ÛÝáõÃÛáõÝÁ | P11: ²Û¹ ÃíáõÙª Ñ³óÇó, ¹ÇÙáõÙÇó Ññ³Å³ñí»Éáõ ÑÇÙùáí | Q11: ²Û¹ ÃíáõÙª ³ÛÉ ÑÇÙùáí
A19: Æñ³í³Ñ³ñ³µ»ñáõÃÛáõÝÝ»ñÇ ï»ë³ÏÝ»ñÁ | E19: 1 | F19: 2 | G19: 3 | H19: 4 | I19: 5 | J19: 6 | K19: 7 | L19: 8 | M19: 9 | N19: 10 | O19: 11 | P19: 12 | Q19: 13 | R19: 14 | S19: 15 | T19: 16 | U19: 17 | V19: 18 | W19: 19 | X19: 20 | Y19: 21 | Z19: 22
A20: 1. | B20: ¶áõÛù³ÛÇÝ í»×»ñ
A21: 1.1 | B21: ¶áõÛùÇ ÝÏ³ïÙ³Ùµ ë»÷³Ï³ÝáõÃÛ³Ý Çñ³íáõÝùÁ ×³Ý³ã»Éáõ í»ñ³µ»ñÛ³É | E21: 16 | F21: 55 | G21: 42 | H21: 11 | I21: 2 | J21: 30 | K21: 19 | M21: 6 | N21: 5 | O21: 1 | P21: 4 | S21: 30 | U21: 28 | V21: 2 | Y21: 28
A22: 1.1.1 | B22: ²Û¹ ÃíáõÙª Ó»éùµ»ñÙ³Ý í³Õ»ÙáõÃÛ³Ý áõÅáí | E22: 15 | F22: 38 | G22: 36 | H22: 2 | J22: 35 | K22: 29 | M22: 3 | N22: 3 | O22: 1 | P22: 2 | S22: 35 | U22: 24 | V22: 11 | Y22: 16
A23: 1.1.2 | B23: ²Û¹ ÃíáõÙª ïÇñ³½áõñÏ ·áõÛùÇ ÝÏ³ïÙ³Ùµ | E23: 0
A24: 1.1.3 | B24: ²Û¹ ÃíáõÙª ÇÝùÝ³Ï³Ù Ï³éáõÛóÇ ÝÏ³ïÙ³Ùµ | E24: 2 | F24: 1 | H24: 1 | J24: 2 | K24: 2 | S24: 2 | U24: 2
A25: 1.2 | B25: ê»÷³Ï³ÝáõÃÛ³Ý Çñ³íáõÝùÇ ¹³¹³ñ»óÙ³Ý í»ñ³µ»ñÛ³É | E25: 1 | F25: 3 | G25: 2 | H25: 1 | J25: 1 | K25: 1 | S25: 1 | U25: 1 | Y25: 2
A26: 1.3 | B26: ¶áõÛùÇ ÝÏ³ïÙ³Ùµ û·ï³·áñÍÙ³Ý Çñ³íáõÝùÁ ×³Ý³ã»Éáõ í»ñ³µ»ñÛ³É | E26: 0 | F26: 1 | G26: 1 | Y26: 1
A27: 1.3.1 | B27: ²Û¹ ÃíáõÙª µÝ³Ïû·ï³·áñÍÙ³Ý Çñ³íáõÝùÁ ×³Ý³ã»Éáõ í»ñ³µ»ñÛ³É | E27: 0
A28: 1.3.2 | B28: ²Û¹ ÃíáõÙª ÑáÕ³Ù³ëÇ ÝÏ³ïÙ³Ùµ û·ï³·áñÍÙ³Ý Çñ³íáõÝùÁ ×³Ý³ã»Éáõ í»ñ³µ»ñÛ³É | E28: 1 | J28: 1 | K28: 1 | S28: 1 | U28: 1
A29: 1.4 | B29: ¶áõÛùÇ ÝÏ³ïÙ³Ùµ û·ï³·áñÍÙ³Ý Çñ³íáõÝùÁ ¹³¹³ñ»óÝ»Éáõ í»ñ³µ»ñÛ³É | E29: 2 | F29: 1 | G29: 1 | J29: 3 | K29: 1 | M29: 1 | N29: 1 | Q29: 1 | S29: 3 | U29: 3
A30: 1.4.1 | B30: ²Û¹ ÃíáõÙª µÝ³Ïû·ï³·áñÍÙ³Ý Çñ³íáõÝùÁ ¹³¹³ñ»óÝ»Éáõ í»ñ³µ»ñÛ³É | E30: 10 | F30: 5 | G30: 4 | H30: 1 | J30: 8 | K30: 7 | N30: 1 | P30: 1 | S30: 8 | U30: 5 | V30: 3 | Y30: 6
A31: 1.4.1/1 | B31: ²Û¹ ÃíáõÙª ÷áËÑ³ïáõóÙ³Ùµ | E31: 5 | F31: 4 | G31: 4 | J31: 8 | K31: 6 | N31: 2 | P31: 2 | S31: 8 | U31: 6 | V31: 2 | Y31: 1
A32: 1.5 | B32: ´Ý³Ï³ñ³ÝÇó/ ï³ñ³ÍùÇó/ íï³ñ»Éáõ í»ñ³µ»ñÛ³É | E32: 10 | F32: 22 | G32: 21 | H32: 1 | J32: 20 | K32: 11 | L32: 2 | M32: 4 | N32: 3 | O32: 1 | P32: 2 | S32: 20 | U32: 10 | V32: 10 | Y32: 11
A33: 1.6 | B33: ¶áõÛùÝ áõñÇßÇ ³åûñÇÝÇ ïÇñ³å»ïáõÙÇó »ï í»ñ³¹³ñÓÝ»Éáõ í»ñ³µ»ñÛ³É | E33: 5 | F33: 25 | G33: 22 | H33: 2 | I33: 1 | J33: 17 | K33: 8 | L33: 4 | M33: 3 | N33: 2 | P33: 2 | S33: 17 | U33: 9 | V33: 8 | Y33: 10
A34: 1.7 | B34: îÇñ³å»ïáõÙÇó ½ñÏ»Éáõ Ñ»ï ãÏ³åí³Í Çñ³íáõÝùÝ»ñÇ Ë³ËïáõÙÁ í»ñ³óÝ»Éáõ í»ñ³µ»ñÛ³É | E34: 8 | F34: 6 | G34: 5 | H34: 1 | J34: 2 | K34: 2 | S34: 2 | V34: 2 | Y34: 11
A35: 1.8 | B35: ÀÝ¹Ñ³Ýáõñ µ³ÅÝ³ÛÇÝ ë»÷³Ï³ÝáõÃÛáõÝÇó µ³ÅÇÝÝ ³é³ÝÓÝ³óÝ»Éáõ í»ñ³µ»ñÛ³É | E35: 48 | F35: 139 | G35: 122 | H35: 16 | I35: 1 | J35: 87 | K35: 57 | L35: 9 | M35: 10 | N35: 11 | O35: 3 | P35: 8 | S35: 87 | U35: 62 | V35: 25 | Y35: 83
A36: 1.9 | B36: ²ÛÉ í»×»ñ | E36: 32 | F36: 80 | G36: 60 | H36: 20 | J36: 53 | K36: 28 | L36: 4 | M36: 6 | N36: 15 | O36: 3 | P36: 11 | Q36: 1 | S36: 53 | U36: 34 | V36: 19 | Y36: 39
A37: 2. | B37: ¶áñÍ³ñùÝ»ñÇ Ñ»ï Ï³åí³Í í»×»ñ | E37: 0
A38: 2.1 | B38: ¶áñÍ³ñùÝ ³Ýí³í»ñ ×³Ý³ã»Éáõ í»ñ³µ»ñÛ³É | E38: 3 | F38: 8 | G38: 5 | H38: 3 | J38: 3 | K38: 1 | M38: 1 | N38: 1 | P38: 1 | S38: 3 | U38: 3 | Y38: 5
A39: 2.1.1 | B39: ²Û¹ ÃíáõÙª íÇ×³Ñ³ñáõÛó ·áñÍ³ñùÝ»ñ | E39: 0
A40: 2.1.2 | B40: ²Û¹ ÃíáõÙª ³éáãÇÝã ·áñÍ³ñùÝ»ñ | E40: 0 | F40: 2 | G40: 2 | J40: 2 | K40: 1 | N40: 1 | P40: 1 | S40: 2 | U40: 2
A41: 2.2 | B41: ¶áñÍ³ñùÁ í³í»ñ ×³Ý³ã»Éáõ í»ñ³µ»ñÛ³É | E41: 0 | F41: 3 | G41: 2 | H41: 1 | J41: 1 | M41: 1 | S41: 1 | U41: 1 | Y41: 1
A42: 2.3 | B42: ¶áñÍ³ñùÇó Í³·áÕ Çñ³íáõÝùÝ»ñÁ ·ñ³Ýó»Éáõ í»ñ³µ»ñÛ³É | E42: 0
A43: 2.4 | B43: ä³ÛÙ³Ý³·ÇñÝ ³Ýí³í»ñ ×³Ý³ã»Éáõ í»ñ³µ»ñÛ³É | E43: 4 | F43: 38 | G43: 29 | H43: 9 | J43: 9 | K43: 3 | M43: 3 | N43: 3 | P43: 3 | S43: 9 | U43: 3 | V43: 6 | Y43: 24
A44: 2.5 | B44: ä³ÛÙ³Ý³·ñÇÁ í³í»ñ ×³Ý³ã»Éáõ í»ñ³µ»ñÛ³É | E44: 0 | F44: 3 | G44: 3 | J44: 1 | K44: 1 | S44: 1 | U44: 1 | Y44: 2 | Z44: 1
A45: 2.6 | B45: ä³ÛÙ³Ý³·ñÇó Í³·áÕ Çñ³íáõÝùÝ»ñÁ ·ñ³Ýó»Éáõ í»ñ³µ»ñÛ³É | E45: 0
A46: 2.7 | B46: ä³ÛÙ³Ý³·ÇñÁ ÷á÷áË»Éáõ ¨ ÉáõÍ»Éáõ í»ñ³µ»ñÛ³É | E46: 1 | F46: 37 | G46: 30 | H46: 7 | J46: 20 | K46: 13 | L46: 2 | M46: 1 | N46: 4 | O46: 2 | P46: 2 | S46: 20 | U46: 18 | V46: 2 | Y46: 11
A47: 2.8 | B47: ä³ÛÙ³Ý³·Çñ ÏÝù»ÉáõÝ å³ñï³íáñ»óÝ»Éáõ í»ñ³µ»ñÛ³É | E47: 0 | F47: 1 | G47: 1 | J47: 1 | M47: 1 | S47: 1 | U47: 1 | V47: 1
A48: 2.9 | B48: ²ÛÉ í»×»ñ | E48: 5 | F48: 47 | G48: 39 | H48: 7 | I48: 1 | J48: 37 | K48: 21 | L48: 5 | M48: 5 | N48: 6 | P48: 6 | S48: 37 | U48: 32 | V48: 5 | Y48: 7
A49: 3. | B49: Ä³é³Ý·áõÃÛ³Ý í»ñ³µ»ñÛ³É í»×»ñ | E49: 0
A50: 3.1 | B50: Îï³ÏÝ ³Ýí³í»ñ ×³Ý³ã»Éáõ í»ñ³µ»ñÛ³É | E50: 0 | F50: 5 | G50: 5 | J50: 3 | M50: 2 | N50: 1 | P50: 1 | S50: 3 | U50: 1 | V50: 2 | Y50: 2
A51: 3.2 | B51: ²Ý³ñÅ³Ý Å³é³Ý· ×³Ý³ã»Éáõ í»ñ³µ»ñÛ³É | E51: 0 | F51: 1 | G51: 1 | J51: 1 | K51: 1 | S51: 1 | U51: 1
A52: 3.3 | B52: Ä³é³Ý·áõÃÛáõÝÁ µ³Å³Ý»Éáõ í»ñ³µ»ñÛ³É | E52: 0
...

Sheet Արագածոտն
A1: Ð²ÞìºîìàôÂÚàôÜ
A2: ՀՀ ԱՐԱԳԱԾՈՏՆԻ ՄԱՐԶԻ ԸՆԴՀԱՆՈՒՐ ԻՐԱՎԱՍՈՒԹՅԱՆ ԴԱՏԱՐԱՆԻ ø²Ô²ø²òÆ²Î²Ü ¶àðÌºðÆ øÜÜàôÂÚ²Ü ìºð²´ºðÚ²È
A3: 2009Ã. տարեկան
A5: êïáõ·Çã Ñ³í³ë³ñáõÙÝ»ñª 2=3+4+5, 1+3=15+16+21, 6=7+8+9+10, 10=11+12+13, 15=6+14, | E5: ²Ý³í³ñï ·áñÍ»ñÇ ÙÝ³óáñ¹Á Ñ³ßí»ïáõ Å³Ù³Ý³Ï³ßñç³ÝÇ ëÏ½µáõÙ | F5: êï³óí³Í Ñ³Ûó»ñÇ,¹ÇÙáõÙÝ»ñÇ (·áñÍ»ñ)ù³Ý³ÏÁ | J5: ²í³ñïí»É »Ý ·áñÍ»ñ Ñ³ßí»ïáõ Å³Ù³Ý³Ï³ßñç³ÝáõÙ | T5: ¶áñÍÝ áõÕ³ñÏí»É ¿ Áëï ÁÝ¹¹³ïáõÃÛ³Ý | U5: Øï»É »Ý ûñÇÝ³Ï³Ý áõÅÇ Ù»ç | V5: ´áÕáù³ñÏí»É »Ý í»ñ³ùÝÝÇã ¹³ï³ñ³Ý | Y5: ²Ý³í³ñï ·áñÍ»ñÇ ÙÝ³óáñ¹Á Ñ³ßí»ïáõ Å³Ù³Ý³Ï³ßñç³ÝÇ í»ñçáõÙ | Z5: ²Û¹ ÃíáõÙª Ï³ë»óí³Í
F8: ÀÝ¹³Ù»ÝÁ | G8: ²Û¹ ÃíáõÙª ÁÝ¹áõÝí»É ¿ í³ñáõÛÃ | H8: ²Û¹ ÃíáõÙª í»ñ³¹³ñÓí»É ¿ | I8: ²Û¹ ÃíáõÙª Ñ³Ûó»ñÇ (¹ÇÙáõÙÝ»ñÇ) ÁÝ¹áõÝáõÙÁ Ù»ñÅí»É ¿ | J8: ÀÝ¹³Ù»ÝÁ ³í³ñïí»É »Ý ·áñÍ»ñ í×éÇ Ï³Û³óáõÙáí | K8: ²Û¹ ÃíáõÙª Ñ³ÛóÇ µ³í³ñ³ñÙ³Ùµ | L8: ²Û¹ ÃíáõÙª Ñ³ÛóÇ Ù³ëÝ³ÏÇ µ³í³ñ³ñÙ³Ùµ | M8: ²Û¹ ÃíáõÙª Ñ³ÛóÇ Ù»ñÅÙ³Ùµ | N8: ²Û¹ ÃíáõÙª Ï³ñ×í»É »Ý | R8: Ð³ÛóÁ ÃáÕÝí»É ¿ ³é³Ýó ùÝÝáõÃÛ³Ý | S8: ÀÝ¹³Ù»ÝÝ ³í³ñïí»É »Ý ·áñÍ»ñ | V8: Ï³Û³óí³Í í×ÇéÝ»ñÇ ¹»Ù | W8: ³é³Ýó ùÝÝáõÃÛ³Ý ÃáÕÝ»Éáõ Ù³ëÇÝ áñáßáõÙÝ»ñÇ ¹»Ù | X8: ÙÇç³ÝÏÛ³É ¹³ï³Ï³Ý ³Ïï»ñÇ ¹»Ù
N11: ÀÝ¹³Ù»ÝÁ Ï³ñ×í»É »Ý | O11: ²Û¹ ÃíáõÙª Ñ³ëï³ïí»É ¿ ÏÝùí³Í Ñ³ßïáõÃÛ³Ý Ñ³Ù³Ó³ÛÝáõÃÛáõÝÁ | P11: ²Û¹ ÃíáõÙª Ñ³óÇó, ¹ÇÙáõÙÇó Ññ³Å³ñí»Éáõ ÑÇÙùáí | Q11: ²Û¹ ÃíáõÙª ³ÛÉ ÑÇÙùáí
A19: Æñ³í³Ñ³ñ³µ»ñáõÃÛáõÝÝ»ñÇ ï»ë³ÏÝ»ñÁ | E19: 1 | F19: 2 | G19: 3 | H19: 4 | I19: 5 | J19: 6 | K19: 7 | L19: 8 | M19: 9 | N19: 10 | O19: 11 | P19: 12 | Q19: 13 | R19: 14 | S19: 15 | T19: 16 | U19: 17 | V19: 18 | W19: 19 | X19: 20 | Y19: 21 | Z19: 22
A20: 1. | B20: ¶áõÛù³ÛÇÝ í»×»ñ | E20: =SUM(E21:E36) -> 43 | F20: =SUM(F21:F36) -> 164 | G20: =SUM(G21:G36) -> 140 | H20: =SUM(H21:H36) -> 23 | I20: =SUM(I21:I36) -> 1 | J20: =SUM(J21:J36) -> 115 | K20: =SUM(K21:K36) -> 58 | L20: =SUM(L21:L36) -> 6 | ... Z20: =SUM(Z21:Z36) -> 27
A21: 1.1 | B21: ¶áõÛùÇ ÝÏ³ïÙ³Ùµ ë»÷³Ï³ÝáõÃÛ³Ý Çñ³íáõÝùÁ ×³Ý³ã»Éáõ í»ñ³µ»ñÛ³É | E21: 3 | F21: 37 | G21: 34 | H21: 3 | J21: 27 | K21: 16 | L21: 2 | M21: 3 | N21: 6 | O21: 1 | P21: 5 | R21: 1 | S21: 28 | U21: 19 | V21: 2 | Y21: 9 | Z21: 2
A22: 1.1.1 | B22: ²Û¹ ÃíáõÙª Ó»éùµ»ñÙ³Ý í³Õ»ÙáõÃÛ³Ý áõÅáí | E22: 4 | F22: 31 | G22: 25 | H22: 5 | I22: 1 | J22: 20 | K22: 11 | L22: 1 | M22: 5 | N22: 3 | O22: 1 | P22: 1 | Q22: 1 | R22: 1 | S22: 21 | U22: 17 | V22: 1 | Y22: 8 | Z22: 1
A23: 1.1.2 | B23: ²Û¹ ÃíáõÙª ïÇñ³½áõñÏ ·áõÛùÇ ÝÏ³ïÙ³Ùµ | F23: 1 | G23: 1 | J23: 1 | K23: 1 | S23: 1 | U23: 1
A24: 1.1.3 | B24: ²Û¹ ÃíáõÙª ÇÝùÝ³Ï³Ù Ï³éáõÛóÇ ÝÏ³ïÙ³Ùµ | F24: 1 | G24: 1 | J24: 1 | M24: 1 | S24: 1
A25: 1.2 | B25: ê»÷³Ï³ÝáõÃÛ³Ý Çñ³íáõÝùÇ ¹³¹³ñ»óÙ³Ý í»ñ³µ»ñÛ³É
A26: 1.3 | B26: ¶áõÛùÇ ÝÏ³ïÙ³Ùµ û·ï³·áñÍÙ³Ý Çñ³íáõÝùÁ ×³Ý³ã»Éáõ í»ñ³µ»ñÛ³É | E26: 1 | F26: 2 | G26: 2 | J26: 2 | N26: 2 | O26: 1 | P26: 1 | S26: 2 | U26: 1 | Y26: 1 | Z26: 1
A27: 1.3.1 | B27: ²Û¹ ÃíáõÙª µÝ³Ïû·ï³·áñÍÙ³Ý Çñ³íáõÝùÁ ×³Ý³ã»Éáõ í»ñ³µ»ñÛ³É | F27: 2 | G27: 2 | J27: 2 | M27: 1 | N27: 1 | O27: 1 | S27: 2 | U27: 2
A28: 1.3.2 | B28: ²Û¹ ÃíáõÙª ÑáÕ³Ù³ëÇ ÝÏ³ïÙ³Ùµ û·ï³·áñÍÙ³Ý Çñ³íáõÝùÁ ×³Ý³ã»Éáõ í»ñ³µ»ñÛ³É | F28: 4 | G28: 2 | H28: 2 | J28: 1 | N28: 1 | P28: 1 | S28: 1 | U28: 1 | Y28: 1
A29: 1.4 | B29: ¶áõÛùÇ ÝÏ³ïÙ³Ùµ û·ï³·áñÍÙ³Ý Çñ³íáõÝùÁ ¹³¹³ñ»óÝ»Éáõ í»ñ³µ»ñÛ³É
A30: 1.4.1 | B30: ²Û¹ ÃíáõÙª µÝ³Ïû·ï³·áñÍÙ³Ý Çñ³íáõÝùÁ ¹³¹³ñ»óÝ»Éáõ í»ñ³µ»ñÛ³É | F30: 1 | G30: 1 | J30: 1 | K30: 1 | S30: 1 | U30: 1 | V30: 1
A31: 1.4.1/1 | B31: ²Û¹ ÃíáõÙª ÷áËÑ³ïáõóÙ³Ùµ
A32: 1.5 | B32: ´Ý³Ï³ñ³ÝÇó/ ï³ñ³ÍùÇó/ íï³ñ»Éáõ í»ñ³µ»ñÛ³É | E32: 2 | F32: 7 | G32: 7 | J32: 5 | K32: 2 | L32: 1 | M32: 1 | N32: 1 | P32: 1 | S32: 5 | U32: 2 | V32: 3 | Y32: 4 | Z32: 3
A33: 1.6 | B33: ¶áõÛùÝ áõñÇßÇ ³åûñÇÝÇ ïÇñ³å»ïáõÙÇó »ï í»ñ³¹³ñÓÝ»Éáõ í»ñ³µ»ñÛ³É | E33: 6 | F33: 25 | G33: 21 | H33: 4 | J33: 18 | K33: 8 | L33: 1 | M33: 6 | N33: 3 | P33: 3 | S33: 18 | T33: 1 | U33: 9 | V33: 9 | Y33: 8 | Z33: 3
A34: 1.7 | B34: îÇñ³å»ïáõÙÇó ½ñÏ»Éáõ Ñ»ï ãÏ³åí³Í Çñ³íáõÝùÝ»ñÇ Ë³ËïáõÙÁ í»ñ³óÝ»Éáõ í»ñ³µ»ñÛ³É
A35: 1.8 | B35: ÀÝ¹Ñ³Ýáõñ µ³ÅÝ³ÛÇÝ ë»÷³Ï³ÝáõÃÛáõÝÇó µ³ÅÇÝÝ ³é³ÝÓÝ³óÝ»Éáõ í»ñ³µ»ñÛ³É | E35: 25 | F35: 38 | G35: 34 | H35: 4 | J35: 27 | K35: 14 | M35: 1 | N35: 12 | O35: 4 | P35: 5 | Q35: 3 | R35: 1 | S35: 28 | T35: 1 | U35: 25 | V35: 2 | Y35: 30 | Z35: 17
A36: 1.9 | B36: ²ÛÉ í»×»ñ | E36: 2 | F36: 15 | G36: 10 | H36: 5 | J36: 10 | K36: 5 | L36: 1 | N36: 4 | P36: 4 | S36: 10 | T36: 1 | U36: 9 | V36: 1 | Y36: 1
A37: 2. | B37: ¶áñÍ³ñùÝ»ñÇ Ñ»ï Ï³åí³Í í»×»ñ | E37: =SUM(E38:E48) -> 7 | F37: =SUM(F38:F48) -> 49 | G37: =SUM(G38:G48) -> 39 | H37: =SUM(H38:H48) -> 10 | I37: =SUM(I38:I48) -> 0 | J37: =SUM(J38:J48) -> 27 | K37: =SUM(K38:K48) -> 11 | L37: =SUM(L38:L48) -> 4 | ... Z37: =SUM(Z38:Z48) -> 1
A38: 2.1 | B38: ¶áñÍ³ñùÝ ³Ýí³í»ñ ×³Ý³ã»Éáõ í»ñ³µ»ñÛ³É | E38: 1 | F38: 12 | G38: 7 | H38: 5 | J38: 6 | L38: 2 | M38: 2 | N38: 2 | P38: 2 | S38: 6 | U38: 3 | V38: 2 | Y38: 2
A39: 2.1.1 | B39: ²Û¹ ÃíáõÙª íÇ×³Ñ³ñáõÛó ·áñÍ³ñùÝ»ñ | F39: 2 | G39: 2 | T39: 1 | Y39: 1
A40: 2.1.2 | B40: ²Û¹ ÃíáõÙª ³éáãÇÝã ·áñÍ³ñùÝ»ñ
A41: 2.2 | B41: ¶áñÍ³ñùÁ í³í»ñ ×³Ý³ã»Éáõ í»ñ³µ»ñÛ³É | F41: 1 | G41: 1 | J41: 1 | K41: 1 | S41: 1 | U41: 1
A42: 2.3 | B42: ¶áñÍ³ñùÇó Í³·áÕ Çñ³íáõÝùÝ»ñÁ ·ñ³Ýó»Éáõ í»ñ³µ»ñÛ³É
A43: 2.4 | B43: ä³ÛÙ³Ý³·ÇñÝ ³Ýí³í»ñ ×³Ý³ã»Éáõ í»ñ³µ»ñÛ³É | E43: 3 | F43: 16 | G43: 13 | H43: 3 | J43: 10 | K43: 4 | M43: 2 | N43: 4 | O43: 1 | P43: 2 | Q43: 1 | S43: 10 | T43: 2 | U43: 4 | V43: 2 | Y43: 4
A44: 2.5 | B44: ä³ÛÙ³Ý³·ñÇÁ í³í»ñ ×³Ý³ã»Éáõ í»ñ³µ»ñÛ³É | E44: 1 | F44: 2 | G44: 2 | J44: 2 | K44: 2 | S44: 2 | U44: 1 | V44: 1 | Y44: 1
A45: 2.6 | B45: ä³ÛÙ³Ý³·ñÇó Í³·áÕ Çñ³íáõÝùÝ»ñÁ ·ñ³Ýó»Éáõ í»ñ³µ»ñÛ³É | F45: 1 | G45: 1 | Y45: 1
A46: 2.7 | B46: ä³ÛÙ³Ý³·ÇñÁ ÷á÷áË»Éáõ ¨ ÉáõÍ»Éáõ í»ñ³µ»ñÛ³É | E46: 1 | F46: 8 | G46: 6 | H46: 2 | J46: 4 | K46: 2 | L46: 1 | N46: 1 | P46: 1 | S46: 4 | T46: 1 | U46: 1 | V46: 3 | Y46: 2
A47: 2.8 | B47: ä³ÛÙ³Ý³·Çñ ÏÝù»ÉáõÝ å³ñï³íáñ»óÝ»Éáõ í»ñ³µ»ñÛ³É | F47: 2 | G47: 2 | J47: 2 | K47: 1 | M47: 1 | S47: 2 | U47: 2 | V47: 1
A48: 2.9 | B48: ²ÛÉ í»×»ñ | E48: 1 | F48: 5 | G48: 5 | J48: 2 | K48: 1 | L48: 1 | S48: 2 | U48: 2 | Y48: 4 | Z48: 1
A49: 3. | B49: Ä³é³Ý·áõÃÛ³Ý í»ñ³µ»ñÛ³É í»×»ñ | E49: =SUM(E50:E56) -> 4 | F49: =SUM(F50:F56) -> 30 | G49: =SUM(G50:G56) -> 27 | H49: =SUM(H50:H56) -> 3 | I49: =SUM(I50:I56) -> 0 | J49: =SUM(J50:J56) -> 18 | K49: =SUM(K50:K56) -> 10 | L49: =SUM(L50:L56) -> 1 | ... Z49: =SUM(Z50:Z56) -> 4
A50: 3.1 | B50: Îï³ÏÝ ³Ýí³í»ñ ×³Ý³ã»Éáõ í»ñ³µ»ñÛ³É | E50: 1 | F50: 1 | G50: 1 | J50: 1 | L50: 1 | S50: 1 | V50: 1 | Y50: 1
A51: 3.2 | B51: ²Ý³ñÅ³Ý Å³é³Ý· ×³Ý³ã»Éáõ í»ñ³µ»ñÛ³É
A52: 3.3 | B52: Ä³é³Ý·áõÃÛáõÝÁ µ³Å³Ý»Éáõ í»ñ³µ»ñÛ³É | E52: 2 | F52: 2 | G52: 2 | J52: 1 | K52: 1 | S52: 1 | U52: 1 | Y52: 3 | Z52: 3
...

Sheet Արմավիր
A1: Ð²ÞìºîìàôÂÚàôÜ
A2: ø²Ô²ø²òÆ²Î²Ü ¶àðÌºðÆ øÜÜàôÂÚ²Ü ìºð²´ºðÚ²È
A3: 2009Ã. ï³ñí³ Ñ³Ù³ñ
A5: êïáõ·Çã Ñ³í³ë³ñáõÙÝ»ñª 2=3+4+5, 1+3=15+16+21, 6=7+8+9+10, 10=11+12+13, 15=6+14, | E5: ²Ý³í³ñï ·áñÍ»ñÇ ÙÝ³óáñ¹Á Ñ³ßí»ïáõ Å³Ù³Ý³Ï³ßñç³ÝÇ ëÏ½µáõÙ | F5: êï³óí³Í Ñ³Ûó»ñÇ,¹ÇÙáõÙÝ»ñÇ (·áñÍ»ñ)ù³Ý³ÏÁ | J5: ²í³ñïí»É »Ý ·áñÍ»ñ Ñ³ßí»ïáõ Å³Ù³Ý³Ï³ßñç³ÝáõÙ | T5: ¶áñÍÝ áõÕ³ñÏí»É ¿ Áëï ÁÝ¹¹³ïáõÃÛ³Ý | U5: Øï»É »Ý ûñÇÝ³Ï³Ý áõÅÇ Ù»ç | V5: ´áÕáù³ñÏí»É »Ý í»ñ³ùÝÝÇã ¹³ï³ñ³Ý | Y5: ²Ý³í³ñï ·áñÍ»ñÇ ÙÝ³óáñ¹Á Ñ³ßí»ïáõ Å³Ù³Ý³Ï³ßñç³ÝÇ í»ñçáõÙ | Z5: ²Û¹ ÃíáõÙª Ï³ë»óí³Í
F8: ÀÝ¹³Ù»ÝÁ | G8: ²Û¹ ÃíáõÙª ÁÝ¹áõÝí»É ¿ í³ñáõÛÃ | H8: ²Û¹ ÃíáõÙª í»ñ³¹³ñÓí»É ¿ | I8: ²Û¹ ÃíáõÙª Ñ³Ûó»ñÇ (¹ÇÙáõÙÝ»ñÇ) ÁÝ¹áõÝáõÙÁ Ù»ñÅí»É ¿ | J8: ÀÝ¹³Ù»ÝÁ ³í³ñïí»É »Ý ·áñÍ»ñ í×éÇ Ï³Û³óáõÙáí | K8: ²Û¹ ÃíáõÙª Ñ³ÛóÇ µ³í³ñ³ñÙ³Ùµ | L8: ²Û¹ ÃíáõÙª Ñ³ÛóÇ Ù³ëÝ³ÏÇ µ³í³ñ³ñÙ³Ùµ | M8: ²Û¹ ÃíáõÙª Ñ³ÛóÇ Ù»ñÅÙ³Ùµ | N8: ²Û¹ ÃíáõÙª Ï³ñ×í»É »Ý | R8: Ð³ÛóÁ ÃáÕÝí»É ¿ ³é³Ýó ùÝÝáõÃÛ³Ý | S8: ÀÝ¹³Ù»ÝÝ ³í³ñïí»É »Ý ·áñÍ»ñ | V8: Ï³Û³óí³Í í×ÇéÝ»ñÇ ¹»Ù | W8: ³é³Ýó ùÝÝáõÃÛ³Ý ÃáÕÝ»Éáõ Ù³ëÇÝ áñáßáõÙÝ»ñÇ ¹»Ù | X8: ÙÇç³ÝÏÛ³É ¹³ï³Ï³Ý ³Ïï»ñÇ ¹»Ù
N11: ÀÝ¹³Ù»ÝÁ Ï³ñ×í»É »Ý | O11: ²Û¹ ÃíáõÙª Ñ³ëï³ïí»É ¿ ÏÝùí³Í Ñ³ßïáõÃÛ³Ý Ñ³Ù³Ó³ÛÝáõÃÛáõÝÁ | P11: ²Û¹ ÃíáõÙª Ñ³óÇó, ¹ÇÙáõÙÇó Ññ³Å³ñí»Éáõ ÑÇÙùáí | Q11: ²Û¹ ÃíáõÙª ³ÛÉ ÑÇÙùáí
A19: Æñ³í³Ñ³ñ³µ»ñáõÃÛáõÝÝ»ñÇ ï»ë³ÏÝ»ñÁ | E19: 1 | F19: 2 | G19: 3 | H19: 4 | I19: 5 | J19: 6 | K19: 7 | L19: 8 | M19: 9 | N19: 10 | O19: 11 | P19: 12 | Q19: 13 | R19: 14 | S19: 15 | T19: 16 | U19: 17 | V19: 18 | W19: 19 | X19: 20 | Y19: 21 | Z19: 22
A20: 1. | B20: ¶áõÛù³ÛÇÝ í»×»ñ | E20: =SUM(E21+E22+E23+E24+E25+E26+E27+E28+E29+E30+E31+E32+E33+E34+E35+E36) -> 32 | F20: =SUM(F21+F22+F23+F24+F25+F26+F27+F28+F29+F30+F31+F32+F33+F34+F35+F36) -> 219 | G20: =SUM(G21+G22+G23+G24+G25+G26+G27+G28+G29+G30+G31+G32+G33+G34+G35+G36) -> 191 | H20: =SUM(H21+H22+H23+H24+H25+H26+H27+H28+H29+H30+H31+H32+H33+H34+H35+H36) -> 24 | I20: =SUM(I21+I22+I23+I24+I25+I26+I27+I28+I29+I30+I31+I32+I33+I34+I35+I36) -> 4 | J20: =SUM(J21+J22+J23+J24+J25+J26+J27+J28+J29+J30+J31+J32+J33+J34+J35+J36) -> 166 | K20: =SUM(K21+K22+K23+K24+K25+K26+K27+K28+K29+K30+K31+K32+K33+K34+K35+K36) -> 98 | L20: =SUM(L21+L22+L23+L24+L25+L26+L27+L28+L29+L30+L31+L32+L33+L34+L35+L36) -> 16 | ... Z20: =SUM(Z21+Z22+Z23+Z24+Z25+Z26+Z27+Z28+Z29+Z30+Z31+Z32+Z33+Z34+Z35+Z36) -> 17
A21: 1.1 | B21: ¶áõÛùÇ ÝÏ³ïÙ³Ùµ ë»÷³Ï³ÝáõÃÛ³Ý Çñ³íáõÝùÁ ×³Ý³ã»Éáõ í»ñ³µ»ñÛ³É | E21: 3 | F21: 46 | G21: 40 | H21: 5 | I21: 1 | J21: 35 | K21: 26 | L21: 3 | M21: 4 | N21: 2 | P21: 1 | Q21: 1 | R21: 1 | S21: 36 | U21: 30 | V21: 6 | Y21: 7 | Z21: 2
A22: 1.1.1 | B22: ²Û¹ ÃíáõÙª Ó»éùµ»ñÙ³Ý í³Õ»ÙáõÃÛ³Ý áõÅáí | E22: 1 | F22: 13 | G22: 13 | J22: 11 | K22: 6 | L22: 1 | M22: 3 | N22: 1 | P22: 1 | S22: 11 | U22: 9 | V22: 2 | Y22: 3
A23: 1.1.2 | B23: ²Û¹ ÃíáõÙª ïÇñ³½áõñÏ ·áõÛùÇ ÝÏ³ïÙ³Ùµ | F23: 1 | H23: 1
A24: 1.1.3 | B24: ²Û¹ ÃíáõÙª ÇÝùÝ³Ï³Ù Ï³éáõÛóÇ ÝÏ³ïÙ³Ùµ | F24: 1 | G24: 1 | J24: 1 | N24: 1 | P24: 1 | S24: 1 | U24: 1
A25: 1.2 | B25: ê»÷³Ï³ÝáõÃÛ³Ý Çñ³íáõÝùÇ ¹³¹³ñ»óÙ³Ý í»ñ³µ»ñÛ³É | F25: 16 | G25: 16 | J25: 16 | K25: 11 | N25: 5 | P25: 5 | S25: 16
A26: 1.3 | B26: ¶áõÛùÇ ÝÏ³ïÙ³Ùµ û·ï³·áñÍÙ³Ý Çñ³íáõÝùÁ ×³Ý³ã»Éáõ í»ñ³µ»ñÛ³É | E26: 1 | F26: 4 | G26: 4 | J26: 4 | K26: 1 | L26: 1 | N26: 2 | O26: 1 | P26: 1 | S26: 4 | U26: 3 | V26: 1 | Y26: 1
A27: 1.3.1 | B27: ²Û¹ ÃíáõÙª µÝ³Ïû·ï³·áñÍÙ³Ý Çñ³íáõÝùÁ ×³Ý³ã»Éáõ í»ñ³µ»ñÛ³É | F27: 1 | G27: 1 | J27: 1 | N27: 1 | P27: 1 | S27: 1
A28: 1.3.2 | B28: ²Û¹ ÃíáõÙª ÑáÕ³Ù³ëÇ ÝÏ³ïÙ³Ùµ û·ï³·áñÍÙ³Ý Çñ³íáõÝùÁ ×³Ý³ã»Éáõ í»ñ³µ»ñÛ³É
A29: 1.4 | B29: ¶áõÛùÇ ÝÏ³ïÙ³Ùµ û·ï³·áñÍÙ³Ý Çñ³íáõÝùÁ ¹³¹³ñ»óÝ»Éáõ í»ñ³µ»ñÛ³É
A30: 1.4.1 | B30: ²Û¹ ÃíáõÙª µÝ³Ïû·ï³·áñÍÙ³Ý Çñ³íáõÝùÁ ¹³¹³ñ»óÝ»Éáõ í»ñ³µ»ñÛ³É | E30: 2 | F30: 5 | G30: 5 | J30: 4 | K30: 3 | M30: 1 | S30: 4 | U30: 4 | Y30: 3
A31: 1.4.1/1 | B31: ²Û¹ ÃíáõÙª ÷áËÑ³ïáõóÙ³Ùµ | E31: 2 | F31: 1 | G31: 1 | J31: 1 | K31: 1 | S31: 1 | U31: 1 | Y31: 2
A32: 1.5 | B32: ´Ý³Ï³ñ³ÝÇó/ ï³ñ³ÍùÇó/ íï³ñ»Éáõ í»ñ³µ»ñÛ³É | E32: 3 | F32: 15 | G32: 15 | J32: 12 | K32: 9 | M32: 1 | N32: 2 | O32: 1 | P32: 1 | S32: 12 | T32: 1 | U32: 7 | V32: 5 | Y32: 5 | Z32: 2
A33: 1.6 | B33: ¶áõÛùÝ áõñÇßÇ ³åûñÇÝÇ ïÇñ³å»ïáõÙÇó »ï í»ñ³¹³ñÓÝ»Éáõ í»ñ³µ»ñÛ³É | E33: 6 | F33: 19 | G33: 17 | H33: 2 | J33: 15 | K33: 8 | L33: 2 | M33: 4 | N33: 1 | P33: 1 | S33: 15 | U33: 10 | V33: 5 | Y33: 8 | Z33: 6
A34: 1.7 | B34: îÇñ³å»ïáõÙÇó ½ñÏ»Éáõ Ñ»ï ãÏ³åí³Í Çñ³íáõÝùÝ»ñÇ Ë³ËïáõÙÁ í»ñ³óÝ»Éáõ í»ñ³µ»ñÛ³É | F34: 3 | G34: 3 | J34: 3 | K34: 2 | N34: 1 | P34: 1 | S34: 3 | U34: 3
A35: 1.8 | B35: ÀÝ¹Ñ³Ýáõñ µ³ÅÝ³ÛÇÝ ë»÷³Ï³ÝáõÃÛáõÝÇó µ³ÅÇÝÝ ³é³ÝÓÝ³óÝ»Éáõ í»ñ³µ»ñÛ³É | E35: 10 | F35: 51 | G35: 45 | H35: 6 | J35: 38 | K35: 16 | L35: 4 | M35: 3 | N35: 15 | P35: 13 | Q35: 2 | S35: 38 | U35: 36 | V35: 2 | Y35: 17 | Z35: 4
A36: 1.9 | B36: ²ÛÉ í»×»ñ | E36: 4 | F36: 43 | G36: 30 | H36: 10 | I36: 3 | J36: 25 | K36: 15 | L36: 5 | M36: 1 | N36: 4 | P36: 4 | S36: 25 | U36: 21 | V36: 4 | Y36: 9 | Z36: 3
A37: 2. | B37: ¶áñÍ³ñùÝ»ñÇ Ñ»ï Ï³åí³Í í»×»ñ | E37: =SUM(E38+E39+E40+E41+E42+E43+E44+E45+E46+E47+E48) -> 8 | F37: =SUM(F38+F39+F40+F41+F42+F43+F44+F45+F46+F47+F48) -> 121 | G37: =SUM(G38+G39+G40+G41+G42+G43+G44+G45+G46+G47+G48) -> 116 | H37: =SUM(H38+H39+H40+H41+H42+H43+H44+H45+H46+H47+H48) -> 5 | I37: =SUM(I38+I39+I40+I41+I42+I43+I44+I45+I46+I47+I48) -> 0 | J37: =SUM(J38+J39+J40+J41+J42+J43+J44+J45+J46+J47+J48) -> 100 | K37: =SUM(K38+K39+K40+K41+K42+K43+K44+K45+K46+K47+K48) -> 76 | L37: =SUM(L38+L39+L40+L41+L42+L43+L44+L45+L46+L47+L48) -> 6 | ... Z37: =SUM(Z38+Z39+Z40+Z41+Z42+Z43+Z44+Z45+Z46+Z47+Z48) -> 11
A38: 2.1 | B38: ¶áñÍ³ñùÝ ³Ýí³í»ñ ×³Ý³ã»Éáõ í»ñ³µ»ñÛ³É | F38: 9 | G38: 7 | H38: 2 | J38: 2 | K38: 1 | N38: 1 | P38: 1 | S38: 2 | T38: 1 | Y38: 4 | Z38: 2
A39: 2.1.1 | B39: ²Û¹ ÃíáõÙª íÇ×³Ñ³ñáõÛó ·áñÍ³ñùÝ»ñ
A40: 2.1.2 | B40: ²Û¹ ÃíáõÙª ³éáãÇÝã ·áñÍ³ñùÝ»ñ
A41: 2.2 | B41: ¶áñÍ³ñùÁ í³í»ñ ×³Ý³ã»Éáõ í»ñ³µ»ñÛ³É | E41: 7 | F41: 49 | G41: 48 | H41: 1 | J41: 48 | K41: 37 | L41: 4 | M41: 3 | N41: 4 | O41: 1 | P41: 3 | S41: 48 | U41: 48 | Y41: 7 | Z41: 3
A42: 2.3 | B42: ¶áñÍ³ñùÇó Í³·áÕ Çñ³íáõÝùÝ»ñÁ ·ñ³Ýó»Éáõ í»ñ³µ»ñÛ³É
A43: 2.4 | B43: ä³ÛÙ³Ý³·ÇñÝ ³Ýí³í»ñ ×³Ý³ã»Éáõ í»ñ³µ»ñÛ³É | F43: 15 | G43: 15 | J43: 9 | K43: 3 | M43: 6 | S43: 9 | T43: 1 | U43: 1 | V43: 8 | Y43: 5 | Z43: 3
A44: 2.5 | B44: ä³ÛÙ³Ý³·ñÇÁ í³í»ñ ×³Ý³ã»Éáõ í»ñ³µ»ñÛ³É | F44: 1 | G44: 1 | J44: 1 | K44: 1 | S44: 1 | U44: 1
A45: 2.6 | B45: ä³ÛÙ³Ý³·ñÇó Í³·áÕ Çñ³íáõÝùÝ»ñÁ ·ñ³Ýó»Éáõ í»ñ³µ»ñÛ³É
A46: 2.7 | B46: ä³ÛÙ³Ý³·ÇñÁ ÷á÷áË»Éáõ ¨ ÉáõÍ»Éáõ í»ñ³µ»ñÛ³É | F46: 39 | G46: 38 | H46: 1 | J46: 37 | K46: 32 | L46: 2 | M46: 1 | N46: 2 | P46: 2 | S46: 37 | U46: 35 | V46: 2 | Y46: 1 | Z46: 1
A47: 2.8 | B47: ä³ÛÙ³Ý³·Çñ ÏÝù»ÉáõÝ å³ñï³íáñ»óÝ»Éáõ í»ñ³µ»ñÛ³É
A48: 2.9 | B48: ²ÛÉ í»×»ñ | E48: 1 | F48: 8 | G48: 7 | H48: 1 | J48: 3 | K48: 2 | N48: 1 | P48: 1 | S48: 3 | T48: 1 | U48: 2 | V48: 1 | Y48: 4 | Z48: 2
A49: 3. | B49: Ä³é³Ý·áõÃÛ³Ý í»ñ³µ»ñÛ³É í»×»ñ | E49: =SUM(E50+E51+E52+E53+E54+E55+E56) -> 1 | F49: =SUM(F50+F51+F52+F53+F54+F55+F56) -> 41 | G49: =SUM(G50+G51+G52+G53+G54+G55+G56) -> 36 | H49: =SUM(H50+H51+H52+H53+H54+H55+H56) -> 4 | I49: =SUM(I50+I51+I52+I53+I54+I55+I56) -> 1 | J49: =SUM(J50+J51+J52+J53+J54+J55+J56) -> 28 | K49: =SUM(K50+K51+K52+K53+K54+K55+K56) -> 14 | L49: =SUM(L50+L51+L52+L53+L54+L55+L56) -> 4 | ... Z49: =SUM(Z50+Z51+Z52+Z53+Z54+Z55+Z56) -> 3
A50: 3.1 | B50: Îï³ÏÝ ³Ýí³í»ñ ×³Ý³ã»Éáõ í»ñ³µ»ñÛ³É | F50: 1 | G50: 1 | J50: 1 | M50: 1 | S50: 1
A51: 3.2 | B51: ²Ý³ñÅ³Ý Å³é³Ý· ×³Ý³ã»Éáõ í»ñ³µ»ñÛ³É
A52: 3.3 | B52: Ä³é³Ý·áõÃÛáõÝÁ µ³Å³Ý»Éáõ í»ñ³µ»ñÛ³É | F52: 6 | G52: 6 | J52: 6 | K52: 1 | L52: 2 | M52: 1 | N52: 2 | O52: 1 | P52: 1 | S52: 6 | U52: 3 | V52: 3
...

Sheet Ավան
A1: Ð²ÞìºîìàôÂÚàôÜ
A2: ø²Ô²ø²òÆ²Î²Ü ¶àðÌºðÆ øÜÜàôÂÚ²Ü ìºð²´ºðÚ²È
A3: ²í³Ý ¨ Üáñ Üáñù í³ñã³Ï³Ý ßñç³ÝÝ»ñÇ ÁÝ¹Ñ³Ýáõñ Çñ³í³ëáõÃÛ³Ý ¹³ï³ñ³ÝÇ 2009Ã. ï³ñ»Ï³Ý
A5: êïáõ·Çã Ñ³í³ë³ñáõÙÝ»ñª 2=3+4+5, 1+3=15+16+21, 6=7+8+9+10, 10=11+12+13, 15=6+14, | E5: ²Ý³í³ñï ·áñÍ»ñÇ ÙÝ³óáñ¹Á Ñ³ßí»ïáõ Å³Ù³Ý³Ï³ßñç³ÝÇ ëÏ½µáõÙ | F5: êï³óí³Í Ñ³Ûó»ñÇ,¹ÇÙáõÙÝ»ñÇ (·áñÍ»ñ)ù³Ý³ÏÁ | J5: ²í³ñïí»É »Ý ·áñÍ»ñ Ñ³ßí»ïáõ Å³Ù³Ý³Ï³ßñç³ÝáõÙ | T5: ¶áñÍÝ áõÕ³ñÏí»É ¿ Áëï ÁÝ¹¹³ïáõÃÛ³Ý | U5: Øï»É »Ý ûñÇÝ³Ï³Ý áõÅÇ Ù»ç | V5: ´áÕáù³ñÏí»É »Ý í»ñ³ùÝÝÇã ¹³ï³ñ³Ý | Y5: ²Ý³í³ñï ·áñÍ»ñÇ ÙÝ³óáñ¹Á Ñ³ßí»ïáõ Å³Ù³Ý³Ï³ßñç³ÝÇ í»ñçáõÙ | Z5: ²Û¹ ÃíáõÙª Ï³ë»óí³Í
F8: ÀÝ¹³Ù»ÝÁ | G8: ²Û¹ ÃíáõÙª ÁÝ¹áõÝí»É ¿ í³ñáõÛÃ | H8: ²Û¹ ÃíáõÙª í»ñ³¹³ñÓí»É ¿ | I8: ²Û¹ ÃíáõÙª Ñ³Ûó»ñÇ (¹ÇÙáõÙÝ»ñÇ) ÁÝ¹áõÝáõÙÁ Ù»ñÅí»É ¿ | J8: ÀÝ¹³Ù»ÝÁ ³í³ñïí»É »Ý ·áñÍ»ñ í×éÇ Ï³Û³óáõÙáí | K8: ²Û¹ ÃíáõÙª Ñ³ÛóÇ µ³í³ñ³ñÙ³Ùµ | L8: ²Û¹ ÃíáõÙª Ñ³ÛóÇ Ù³ëÝ³ÏÇ µ³í³ñ³ñÙ³Ùµ | M8: ²Û¹ ÃíáõÙª Ñ³ÛóÇ Ù»ñÅÙ³Ùµ | N8: ²Û¹ ÃíáõÙª Ï³ñ×í»É »Ý | R8: Ð³ÛóÁ ÃáÕÝí»É ¿ ³é³Ýó ùÝÝáõÃÛ³Ý | S8: ÀÝ¹³Ù»ÝÝ ³í³ñïí»É »Ý ·áñÍ»ñ | V8: Ï³Û³óí³Í í×ÇéÝ»ñÇ ¹»Ù | W8: ³é³Ýó ùÝÝáõÃÛ³Ý ÃáÕÝ»Éáõ Ù³ëÇÝ áñáßáõÙÝ»ñÇ ¹»Ù | X8: ÙÇç³ÝÏÛ³É ¹³ï³Ï³Ý ³Ïï»ñÇ ¹»Ù
N11: ÀÝ¹³Ù»ÝÁ Ï³ñ×í»É »Ý | O11: ²Û¹ ÃíáõÙª Ñ³ëï³ïí»É ¿ ÏÝùí³Í Ñ³ßïáõÃÛ³Ý Ñ³Ù³Ó³ÛÝáõÃÛáõÝÁ | P11: ²Û¹ ÃíáõÙª Ñ³óÇó, ¹ÇÙáõÙÇó Ññ³Å³ñí»Éáõ ÑÇÙùáí | Q11: ²Û¹ ÃíáõÙª ³ÛÉ ÑÇÙùáí
A19: Æñ³í³Ñ³ñ³µ»ñáõÃÛáõÝÝ»ñÇ ï»ë³ÏÝ»ñÁ | E19: 1 | F19: 2 | G19: 3 | H19: 4 | I19: 5 | J19: 6 | K19: 7 | L19: 8 | M19: 9 | N19: 10 | O19: 11 | P19: 12 | Q19: 13 | R19: 14 | S19: 15 | T19: 16 | U19: 17 | V19: 18 | W19: 19 | X19: 20 | Y19: 21 | Z19: 22
A20: 1. | B20: ¶áõÛù³ÛÇÝ í»×»ñ
A21: 1.1 | B21: ¶áõÛùÇ ÝÏ³ïÙ³Ùµ ë»÷³Ï³ÝáõÃÛ³Ý Çñ³íáõÝùÁ ×³Ý³ã»Éáõ í»ñ³µ»ñÛ³É | E21: 14 | F21: 7 | G21: 6 | H21: 1 | J21: 8 | K21: 2 | L21: 1 | M21: 2 | N21: 3 | O21: 1 | P21: 2 | S21: 8 | U21: 7 | Y21: 12 | Z21: 10
A22: 1.1.1 | B22: ²Û¹ ÃíáõÙª Ó»éùµ»ñÙ³Ý í³Õ»ÙáõÃÛ³Ý áõÅáí | E22: 5 | F22: 15 | G22: 13 | H22: 1 | I22: 1 | J22: 9 | K22: 5 | N22: 4 | O22: 3 | P22: 1 | S22: 9 | T22: 1 | U22: 8 | Y22: 8 | Z22: 2
A23: 1.1.2 | B23: ²Û¹ ÃíáõÙª ïÇñ³½áõñÏ ·áõÛùÇ ÝÏ³ïÙ³Ùµ
A24: 1.1.3 | B24: ²Û¹ ÃíáõÙª ÇÝùÝ³Ï³Ù Ï³éáõÛóÇ ÝÏ³ïÙ³Ùµ | E24: 23 | J24: 1 | K24: 1 | S24: 1 | V24: 1 | Y24: 22 | Z24: 22
A25: 1.2 | B25: ê»÷³Ï³ÝáõÃÛ³Ý Çñ³íáõÝùÇ ¹³¹³ñ»óÙ³Ý í»ñ³µ»ñÛ³É | E25: 1 | F25: 5 | G25: 4 | H25: 1 | J25: 3 | K25: 2 | M25: 1 | S25: 3 | U25: 3 | Y25: 2 | Z25: 2
A26: 1.3 | B26: ¶áõÛùÇ ÝÏ³ïÙ³Ùµ û·ï³·áñÍÙ³Ý Çñ³íáõÝùÁ ×³Ý³ã»Éáõ í»ñ³µ»ñÛ³É | F26: 2 | G26: 2 | J26: 2 | K26: 2 | S26: 2 | U26: 1 | V26: 1
A27: 1.3.1 | B27: ²Û¹ ÃíáõÙª µÝ³Ïû·ï³·áñÍÙ³Ý Çñ³íáõÝùÁ ×³Ý³ã»Éáõ í»ñ³µ»ñÛ³É | E27: 2 | F27: 2 | G27: 2 | J27: 2 | M27: 2 | S27: 2 | U27: 2 | Y27: 2 | Z27: 2
A28: 1.3.2 | B28: ²Û¹ ÃíáõÙª ÑáÕ³Ù³ëÇ ÝÏ³ïÙ³Ùµ û·ï³·áñÍÙ³Ý Çñ³íáõÝùÁ ×³Ý³ã»Éáõ í»ñ³µ»ñÛ³É | F28: 1 | G28: 1 | J28: 1 | N28: 1 | P28: 1 | S28: 1 | U28: 1
A29: 1.4 | B29: ¶áõÛùÇ ÝÏ³ïÙ³Ùµ û·ï³·áñÍÙ³Ý Çñ³íáõÝùÁ ¹³¹³ñ»óÝ»Éáõ í»ñ³µ»ñÛ³É | E29: 2 | F29: 4 | G29: 4 | J29: 3 | K29: 1 | N29: 2 | P29: 2 | S29: 3 | U29: 4 | Y29: 3 | Z29: 2
A30: 1.4.1 | B30: ²Û¹ ÃíáõÙª µÝ³Ïû·ï³·áñÍÙ³Ý Çñ³íáõÝùÁ ¹³¹³ñ»óÝ»Éáõ í»ñ³µ»ñÛ³É | E30: 5 | F30: 7 | G30: 6 | H30: 1 | J30: 6 | K30: 3 | M30: 1 | N30: 2 | O30: 1 | P30: 1 | S30: 6 | U30: 6 | Y30: 5 | Z30: 3
A31: 1.4.1/1 | B31: ²Û¹ ÃíáõÙª ÷áËÑ³ïáõóÙ³Ùµ | E31: 4 | F31: 4 | G31: 3 | H31: 1 | J31: 4 | K31: 2 | M31: 1 | N31: 1 | O31: 1 | S31: 4 | U31: 2 | V31: 1 | Y31: 3 | Z31: 3
A32: 1.5 | B32: ´Ý³Ï³ñ³ÝÇó/ ï³ñ³ÍùÇó/ íï³ñ»Éáõ í»ñ³µ»ñÛ³É | E32: 15 | F32: 25 | G32: 24 | H32: 1 | J32: 26 | K32: 11 | L32: 3 | M32: 2 | N32: 10 | O32: 3 | P32: 7 | S32: 26 | Y32: 13
A33: 1.6 | B33: ¶áõÛùÝ áõñÇßÇ ³åûñÇÝÇ ïÇñ³å»ïáõÙÇó »ï í»ñ³¹³ñÓÝ»Éáõ í»ñ³µ»ñÛ³É | E33: 3 | F33: 13 | G33: 9 | H33: 4 | J33: 6 | K33: 6 | S33: 6 | U33: 4 | V33: 2 | Y33: 6 | Z33: 2
A34: 1.7 | B34: îÇñ³å»ïáõÙÇó ½ñÏ»Éáõ Ñ»ï ãÏ³åí³Í Çñ³íáõÝùÝ»ñÇ Ë³ËïáõÙÁ í»ñ³óÝ»Éáõ í»ñ³µ»ñÛ³É | F34: 2 | G34: 1 | H34: 1 | J34: 1 | N34: 1 | P34: 1 | S34: 1 | U34: 1
A35: 1.8 | B35: ÀÝ¹Ñ³Ýáõñ µ³ÅÝ³ÛÇÝ ë»÷³Ï³ÝáõÃÛáõÝÇó µ³ÅÇÝÝ ³é³ÝÓÝ³óÝ»Éáõ í»ñ³µ»ñÛ³É | E35: 32 | F35: 37 | G35: 30 | H35: 7 | J35: 34 | K35: 10 | M35: 6 | N35: 18 | O35: 6 | P35: 12 | S35: 35 | U35: 28 | V35: 1 | Y35: 27 | Z35: 23
A36: 1.9 | B36: ²ÛÉ í»×»ñ | E36: 34 | F36: 101 | G36: 82 | H36: 17 | I36: 2 | J36: 58 | K36: 29 | M36: 8 | N36: 21 | O36: 5 | P36: 16 | S36: 58 | U36: 46 | V36: 7 | Y36: 58 | Z36: 6
A37: 2. | B37: ¶áñÍ³ñùÝ»ñÇ Ñ»ï Ï³åí³Í í»×»ñ
A38: 2.1 | B38: ¶áñÍ³ñùÝ ³Ýí³í»ñ ×³Ý³ã»Éáõ í»ñ³µ»ñÛ³É | E38: 3 | F38: 25 | G38: 24 | H38: 1 | J38: 14 | K38: 4 | L38: 1 | M38: 7 | N38: 2 | O38: 1 | P38: 1 | S38: 14 | Y38: 13 | Z38: 3
A39: 2.1.1 | B39: ²Û¹ ÃíáõÙª íÇ×³Ñ³ñáõÛó ·áñÍ³ñùÝ»ñ
A40: 2.1.2 | B40: ²Û¹ ÃíáõÙª ³éáãÇÝã ·áñÍ³ñùÝ»ñ | F40: 3 | G40: 2 | H40: 1 | J40: 2 | N40: 2 | P40: 2 | S40: 2 | U40: 2
A41: 2.2 | B41: ¶áñÍ³ñùÁ í³í»ñ ×³Ý³ã»Éáõ í»ñ³µ»ñÛ³É | E41: 1 | F41: 4 | G41: 4 | J41: 4 | K41: 3 | N41: 1 | P41: 1 | S41: 4 | Y41: 1
A42: 2.3 | B42: ¶áñÍ³ñùÇó Í³·áÕ Çñ³íáõÝùÝ»ñÁ ·ñ³Ýó»Éáõ í»ñ³µ»ñÛ³É
A43: 2.4 | B43: ä³ÛÙ³Ý³·ÇñÝ ³Ýí³í»ñ ×³Ý³ã»Éáõ í»ñ³µ»ñÛ³É | E43: 1 | F43: 16 | G43: 16 | J43: 6 | K43: 1 | M43: 3 | N43: 2 | P43: 2 | S43: 6 | T43: 3 | U43: 2 | V43: 4 | Y43: 8 | Z43: 8
A44: 2.5 | B44: ä³ÛÙ³Ý³·ñÇÁ í³í»ñ ×³Ý³ã»Éáõ í»ñ³µ»ñÛ³É | F44: 1 | G44: 1 | J44: 1 | K44: 1 | S44: 1 | U44: 1
A45: 2.6 | B45: ä³ÛÙ³Ý³·ñÇó Í³·áÕ Çñ³íáõÝùÝ»ñÁ ·ñ³Ýó»Éáõ í»ñ³µ»ñÛ³É | E45: 2 | J45: 1 | M45: 1 | S45: 1 | Y45: 1 | Z45: 1
A46: 2.7 | B46: ä³ÛÙ³Ý³·ÇñÁ ÷á÷áË»Éáõ ¨ ÉáõÍ»Éáõ í»ñ³µ»ñÛ³É | F46: 5 | G46: 5 | J46: 3 | M46: 1 | N46: 2 | O46: 2 | S46: 3 | U46: 3 | V46: 1 | Y46: 2 | Z46: 2
A47: 2.8 | B47: ä³ÛÙ³Ý³·Çñ ÏÝù»ÉáõÝ å³ñï³íáñ»óÝ»Éáõ í»ñ³µ»ñÛ³É | E47: 1 | F47: 2 | H47: 2 | Y47: 1 | Z47: 1
A48: 2.9 | B48: ²ÛÉ í»×»ñ | E48: 3 | F48: 6 | G48: 3 | H48: 3 | J48: 2 | N48: 1 | P48: 1 | S48: 2 | U48: 1 | Y48: 4 | Z48: 3
A49: 3. | B49: Ä³é³Ý·áõÃÛ³Ý í»ñ³µ»ñÛ³É í»×»ñ
A50: 3.1 | B50: Îï³ÏÝ ³Ýí³í»ñ ×³Ý³ã»Éáõ í»ñ³µ»ñÛ³É
A51: 3.2 | B51: ²Ý³ñÅ³Ý Å³é³Ý· ×³Ý³ã»Éáõ í»ñ³µ»ñÛ³É
A52: 3.3 | B52: Ä³é³Ý·áõÃÛáõÝÁ µ³Å³Ý»Éáõ í»ñ³µ»ñÛ³É
...

Sheet Էրեբունի
A1: Ð²ÞìºîìàôÂÚàôÜ
A2: ø²Ô²ø²òÆ²Î²Ü ¶àðÌºðÆ øÜÜàôÂÚ²Ü ìºð²´ºðÚ²È
A3: 2010 Ã. ³é³çÇÝ ÏÇë³ÙÛ³ÏÇ (ï³ñí³) Ñ³Ù³ñ
A5: êïáõ·Çã Ñ³í³ë³ñáõÙÝ»ñª 2=3+4+5, 1+3=15+16+21, 6=7+8+9+10, 10=11+12+13, 15=6+14, | E5: ²Ý³í³ñï ·áñÍ»ñÇ ÙÝ³óáñ¹Á Ñ³ßí»ïáõ Å³Ù³Ý³Ï³ßñç³ÝÇ ëÏ½µáõÙ | F5: êï³óí³Í Ñ³Ûó»ñÇ,¹ÇÙáõÙÝ»ñÇ (·áñÍ»ñ)ù³Ý³ÏÁ | J5: ²í³ñïí»É »Ý ·áñÍ»ñ Ñ³ßí»ïáõ Å³Ù³Ý³Ï³ßñç³ÝáõÙ | T5: ¶áñÍÝ áõÕ³ñÏí»É ¿ Áëï ÁÝ¹¹³ïáõÃÛ³Ý | U5: Øï»É »Ý ûñÇÝ³Ï³Ý áõÅÇ Ù»ç | V5: ´áÕáù³ñÏí»É »Ý í»ñ³ùÝÝÇã ¹³ï³ñ³Ý | Y5: ²Ý³í³ñï ·áñÍ»ñÇ ÙÝ³óáñ¹Á Ñ³ßí»ïáõ Å³Ù³Ý³Ï³ßñç³ÝÇ í»ñçáõÙ | Z5: ²Û¹ ÃíáõÙª Ï³ë»óí³Í
F8: ÀÝ¹³Ù»ÝÁ | G8: ²Û¹ ÃíáõÙª ÁÝ¹áõÝí»É ¿ í³ñáõÛÃ | H8: ²Û¹ ÃíáõÙª í»ñ³¹³ñÓí»É ¿ | I8: ²Û¹ ÃíáõÙª Ñ³Ûó»ñÇ (¹ÇÙáõÙÝ»ñÇ) ÁÝ¹áõÝáõÙÁ Ù»ñÅí»É ¿ | J8: ÀÝ¹³Ù»ÝÁ ³í³ñïí»É »Ý ·áñÍ»ñ í×éÇ Ï³Û³óáõÙáí | K8: ²Û¹ ÃíáõÙª Ñ³ÛóÇ µ³í³ñ³ñÙ³Ùµ | L8: ²Û¹ ÃíáõÙª Ñ³ÛóÇ Ù³ëÝ³ÏÇ µ³í³ñ³ñÙ³Ùµ | M8: ²Û¹ ÃíáõÙª Ñ³ÛóÇ Ù»ñÅÙ³Ùµ | N8: ²Û¹ ÃíáõÙª Ï³ñ×í»É »Ý | R8: Ð³ÛóÁ ÃáÕÝí»É ¿ ³é³Ýó ùÝÝáõÃÛ³Ý | S8: ÀÝ¹³Ù»ÝÝ ³í³ñïí»É »Ý ·áñÍ»ñ | V8: Ï³Û³óí³Í í×ÇéÝ»ñÇ ¹»Ù | W8: ³é³Ýó ùÝÝáõÃÛ³Ý ÃáÕÝ»Éáõ Ù³ëÇÝ áñáßáõÙÝ»ñÇ ¹»Ù | X8: ÙÇç³ÝÏÛ³É ¹³ï³Ï³Ý ³Ïï»ñÇ ¹»Ù
N11: ÀÝ¹³Ù»ÝÁ Ï³ñ×í»É »Ý | O11: ²Û¹ ÃíáõÙª Ñ³ëï³ïí»É ¿ ÏÝùí³Í Ñ³ßïáõÃÛ³Ý Ñ³Ù³Ó³ÛÝáõÃÛáõÝÁ | P11: ²Û¹ ÃíáõÙª Ñ³óÇó, ¹ÇÙáõÙÇó Ññ³Å³ñí»Éáõ ÑÇÙùáí | Q11: ²Û¹ ÃíáõÙª ³ÛÉ ÑÇÙùáí
A19: Æñ³í³Ñ³ñ³µ»ñáõÃÛáõÝÝ»ñÇ ï»ë³ÏÝ»ñÁ | E19: 1 | F19: 2 | G19: 3 | H19: 4 | I19: 5 | J19: 6 | K19: 7 | L19: 8 | M19: 9 | N19: 10 | O19: 11 | P19: 12 | Q19: 13 | R19: 14 | S19: 15 | T19: 16 | U19: 17 | V19: 18 | W19: 19 | X19: 20 | Y19: 21 | Z19: 22
A20: 1. | B20: ¶áõÛù³ÛÇÝ í»×»ñ | E20: =E21+E22+E23+E24+E25+E26+E27+E28+E29+E30+E31+E32+E33+E34+E35+E36 -> 78 | F20: 230 | G20: =G21+G22+G23+G24+G25+G26+G27+G28+G29+G30+G31+G32+G33+G34+G35+G36 -> 187 | H20: =H21+H22+H23+H24+H25+H26+H27+H28+H29+H30+H31+H32+H33+H34+H35+H36 -> 39 | I20: =I21+I22+I23+I24+I25+I26+I27+I28+I29+I30+I31+I32+I33+I34+I35+I36 -> 4 | J20: =K20+L20+M20+N20 -> 162 | K20: =K21+K22+K23+K24+K25+K26+K27+K28+K29+K30+K31+K32+K33+K34+K35+K36 -> 82 | L20: =L21+L22+L23+L24+L25+L26+L27+L28+L29+L30+L31+L32+L33+L34+L35+L36 -> 8 | M20: =M21+M22+M23+M24+M25+M26+M27+M28+M29+M30+M31+M32+M33+M34+M35+M36 -> 37 | N20: =N21+N22+N23+N24+N25+N26+N27+N28+N29+N30+N31+N32+N33+N34+N35+N36 -> 35 | O20: =O21+O22+O23+O24+O25+O26+O27+O28+O29+O30+O31+O32+O33+O34+O35+O36 -> 11 | P20: =P21+P22+P23+P24+P25+P26+P27+P28+P29+P30+P31+P32+P33+P34+P35+P36 -> 20 | Q20: =Q21+Q22+Q23+Q24+Q25+Q26+Q27+Q28+Q29+Q30+Q31+Q32+Q33+Q34+Q35+Q36 -> 4 | R20: =R21+R22+R23+R24+R25+R26+R27+R28+R29+R30+R31+R32+R33+R34+R35+R36 -> 1 | ... Z20: =Z21+Z22+Z23+Z24+Z25+Z26+Z27+Z28+Z29+Z30+Z31+Z32+Z33+Z34+Z35+Z36 -> 41
A21: 1,,1 | B21: ¶áõÛùÇ ÝÏ³ïÙ³Ùµ ë»÷³Ï³ÝáõÃÛ³Ý Çñ³íáõÝùÁ ×³Ý³ã»Éáõ í»ñ³µ»ñÛ³É | E21: 10 | F21: 29 | G21: 22 | H21: 7 | I21: 0 | J21: =K21+L21+M21+N21 -> 27 | K21: 17 | L21: 1 | M21: 8 | N21: 1 | O21: 0 | P21: 0 | Q21: 1 | R21: 0 | S21: =J21+R21 -> 27 | T21: 0 | U21: 15 | V21: 8 | W21: 0 | X21: 1 | Y21: 5 | Z21: 3
A22: 1.1.1 | B22: ²Û¹ ÃíáõÙª Ó»éùµ»ñÙ³Ý í³Õ»ÙáõÃÛ³Ý áõÅáí | E22: 14 | F22: 41 | G22: 32 | H22: 9 | I22: 0 | J22: =K22+L22+M22+N22 -> 34 | K22: 15 | L22: 3 | M22: 7 | N22: 9 | O22: 3 | P22: 4 | Q22: 2 | R22: 0 | S22: =J22+R22 -> 34 | T22: 0 | U22: 23 | V22: 15 | W22: 0 | X22: 0 | Y22: 12 | Z22: 3
A23: 1.1.2 | B23: ²Û¹ ÃíáõÙª ïÇñ³½áõñÏ ·áõÛùÇ ÝÏ³ïÙ³Ùµ | E23: 0 | F23: 7 | G23: 6 | H23: 0 | I23: 1 | J23: =K23+L23+M23+N23 -> 3 | K23: 3 | L23: 0 | M23: 0 | N23: 0 | O23: 0 | P23: 0 | Q23: 0 | R23: 0 | S23: =J23+R23 -> 3 | T23: 0 | U23: 3 | V23: 1 | W23: 0 | X23: 1 | Y23: 3 | Z23: 0
A24: 1.1.3 | B24: ²Û¹ ÃíáõÙª ÇÝùÝ³Ï³Ù Ï³éáõÛóÇ ÝÏ³ïÙ³Ùµ | E24: 0 | F24: 0 | G24: 0 | H24: 0 | I24: 0 | J24: =K24+L24+M24+N24 -> 0 | K24: 0 | L24: 0 | M24: 0 | N24: 0 | O24: 0 | P24: 0 | Q24: 0 | R24: 0 | S24: =J24+R24 -> 0 | T24: 0 | U24: 0 | V24: 0 | W24: 0 | X24: 0 | Y24: 0 | Z24: 0
A25: 1,,2 | B25: ê»÷³Ï³ÝáõÃÛ³Ý Çñ³íáõÝùÇ ¹³¹³ñ»óÙ³Ý í»ñ³µ»ñÛ³É | E25: 4 | F25: 1 | G25: 1 | H25: 0 | I25: 0 | J25: =K25+L25+M25+N25 -> 2 | K25: 1 | L25: 0 | M25: 0 | N25: 1 | O25: 0 | P25: 1 | Q25: 0 | R25: 0 | S25: =J25+R25 -> 2 | T25: 0 | U25: 2 | V25: 0 | W25: 0 | X25: 0 | Y25: 3 | Z25: 0
A26: 1.3 | B26: ¶áõÛùÇ ÝÏ³ïÙ³Ùµ û·ï³·áñÍÙ³Ý Çñ³íáõÝùÁ ×³Ý³ã»Éáõ í»ñ³µ»ñÛ³É | E26: 0 | F26: 1 | G26: 1 | H26: 0 | I26: 0 | J26: =K26+L26+M26+N26 -> 0 | K26: 0 | L26: 0 | M26: 0 | N26: 0 | O26: 0 | P26: 0 | Q26: 0 | R26: 0 | S26: =J26+R26 -> 0 | T26: 0 | U26: 0 | V26: 0 | W26: 0 | X26: 0 | Y26: 1 | Z26: 0
A27: 1.3.1 | B27: ²Û¹ ÃíáõÙª µÝ³Ïû·ï³·áñÍÙ³Ý Çñ³íáõÝùÁ ×³Ý³ã»Éáõ í»ñ³µ»ñÛ³É | E27: 1 | F27: 2 | G27: 2 | H27: 0 | I27: 0 | J27: =K27+L27+M27+N27 -> 2 | K27: 0 | L27: 0 | M27: 2 | N27: 0 | O27: 0 | P27: 0 | Q27: 0 | R27: 0 | S27: =J27+R27 -> 2 | T27: 0 | U27: 1 | V27: 2 | W27: 0 | X27: 0 | Y27: 1 | Z27: 1
A28: 1.3.2 | B28: ²Û¹ ÃíáõÙª ÑáÕ³Ù³ëÇ ÝÏ³ïÙ³Ùµ û·ï³·áñÍÙ³Ý Çñ³íáõÝùÁ ×³Ý³ã»Éáõ í»ñ³µ»ñÛ³É | E28: 0 | F28: 0 | G28: 0 | H28: 0 | I28: 0 | J28: =K28+L28+M28+N28 -> 0 | K28: 0 | L28: 0 | M28: 0 | N28: 0 | O28: 0 | P28: 0 | Q28: 0 | R28: 0 | S28: =J28+R28 -> 0 | T28: 0 | U28: 0 | V28: 0 | W28: 0 | X28: 0 | Y28: 0 | Z28: 0
A29: 1.4 | B29: ¶áõÛùÇ ÝÏ³ïÙ³Ùµ û·ï³·áñÍÙ³Ý Çñ³íáõÝùÁ ¹³¹³ñ»óÝ»Éáõ í»ñ³µ»ñÛ³É | E29: 1 | F29: 2 | G29: 2 | H29: 0 | I29: 0 | J29: =K29+L29+M29+N29 -> 3 | K29: 1 | L29: 0 | M29: 2 | N29: 0 | O29: 0 | P29: 0 | Q29: 0 | R29: 0 | S29: =J29+R29 -> 3 | T29: 0 | U29: 3 | V29: 2 | W29: 0 | X29: 0 | Y29: 0 | Z29: 0
A30: 1.4.1 | B30: ²Û¹ ÃíáõÙª µÝ³Ïû·ï³·áñÍÙ³Ý Çñ³íáõÝùÁ ¹³¹³ñ»óÝ»Éáõ í»ñ³µ»ñÛ³É | E30: 3 | F30: 5 | G30: 4 | H30: 1 | I30: 0 | J30: =K30+L30+M30+N30 -> 4 | K30: 1 | L30: 1 | M30: 1 | N30: 1 | O30: 0 | P30: 1 | Q30: 0 | R30: 0 | S30: =J30+R30 -> 4 | T30: 1 | U30: 4 | V30: 2 | W30: 0 | X30: 0 | Y30: 2 | Z30: 0
A31: 1.4.1/1 | B31: ²Û¹ ÃíáõÙª ÷áËÑ³ïáõóÙ³Ùµ | E31: 1 | F31: 0 | G31: 0 | H31: 0 | I31: 0 | J31: =K31+L31+M31+N31 -> 0 | K31: 0 | L31: 0 | M31: 0 | N31: 0 | O31: 0 | P31: 0 | Q31: 0 | R31: 0 | S31: =J31+R31 -> 0 | T31: 0 | U31: 0 | V31: 0 | W31: 0 | X31: 0 | Y31: 1 | Z31: 1
A32: 1.5 | B32: ´Ý³Ï³ñ³ÝÇó/ ï³ñ³ÍùÇó/ íï³ñ»Éáõ í»ñ³µ»ñÛ³É | E32: 4 | F32: 17 | G32: 15 | H32: 2 | I32: 0 | J32: =K32+L32+M32+N32 -> 13 | K32: 8 | L32: 0 | M32: 2 | N32: 3 | O32: 1 | P32: 2 | Q32: 0 | R32: 0 | S32: =J32+R32 -> 13 | T32: 0 | U32: 10 | V32: 4 | W32: 0 | X32: 0 | Y32: 6 | Z32: 3
... A36: 1.9 | B36: ²ÛÉ í»×»ñ | E36: 1 | F36: 30 | G36: 24 | H36: 6 | I36: 0 | J36: =K36+L36+M36+N36 -> 13 | K36: 6 | L36: 1 | M36: 2 | N36: 4 | O36: 0 | P36: 4 | Q36: 0 | R36: 0 | S36: =J36+R36 -> 13 | T36: 1 | U36: 7 | V36: 5 | W36: 0 | X36: 1 | Y36: 11 | Z36: 3
A37: 2. | B37: ¶áñÍ³ñùÝ»ñÇ Ñ»ï Ï³åí³Í í»×»ñ | E37: =E38+E39+E40+E41+E42+E43+E44+E45+E46+E47+E48 -> 3 | F37: =G37+H37+I37 -> 112 | G37: =G38+G39+G40+G41+G42+G43+G44+G45+G46+G47+G48 -> 105 | H37: =H38+H39+H40+H41+H42+H43+H44+H45+H46+H47+H48 -> 7 | I37: =I38+I39+I40+I41+I42+I43+I44+I45+I46+I47+I48 -> 0 | J37: =K37+L37+M37+N37 -> 80 | K37: =K38+K39+K40+K41+K42+K43+K44+K45+K46+K47+K48 -> 53 | L37: =L38+L39+L40+L41+L42+L43+L44+L45+L46+L47+L48 -> 3 | M37: =M38+M39+M40+M41+M42+M43+M44+M45+M46+M47+M48 -> 12 | N37: =N38+N39+N40+N41+N42+N43+N44+N45+N46+N47+N48 -> 12 | O37: =O38+O39+O40+O41+O42+O43+O44+O45+O46+O47+O48 -> 2 | P37: =P38+P39+P40+P41+P42+P43+P44+P45+P46+P47+P48 -> 7 | Q37: =Q38+Q39+Q40+Q41+Q42+Q43+Q44+Q45+Q46+Q47+Q48 -> 3 | R37: =R38+R39+R40+R41+R42+R43+R44+R45+R46+R47+R48 -> 0 | ... Y37: =Y38+Y39+Y40+Y41+Y42+Y43+Y44+Y45+Y46+Y47+Y48 -> 27
A38: 2.1 | B38: ¶áñÍ³ñùÝ ³Ýí³í»ñ ×³Ý³ã»Éáõ í»ñ³µ»ñÛ³É | E38: 0 | F38: 14 | G38: 14 | H38: 0 | I38: 0 | J38: 6 | K38: 3 | L38: 1 | M38: 1 | N38: 1 | O38: 0 | P38: 1 | Q38: 0 | R38: 0 | S38: 6 | T38: 0 | U38: 2 | V38: 1 | W38: 0 | X38: 2 | Y38: 8 | Z38: 2
A39: 2.1.1 | B39: ²Û¹ ÃíáõÙª íÇ×³Ñ³ñáõÛó ·áñÍ³ñùÝ»ñ | E39: 0 | F39: 0 | G39: 0 | H39: 0 | I39: 0 | J39: 0 | K39: 0 | L39: 0 | M39: 0 | N39: 0 | O39: 0 | P39: 0 | Q39: 0 | R39: 0 | S39: 0 | T39: 0 | U39: 0 | V39: 0 | W39: 0 | X39: 0 | Y39: 0 | Z39: 0
A40: 2.1.2 | B40: ²Û¹ ÃíáõÙª ³éáãÇÝã ·áñÍ³ñùÝ»ñ | E40: 0 | F40: 2 | G40: 2 | H40: 0 | I40: 0 | J40: 1 | K40: 1 | L40: 0 | M40: 0 | N40: 0 | O40: 0 | P40: 0 | Q40: 0 | R40: 0 | S40: 1 | T40: 0 | U40: 0 | V40: 0 | W40: 0 | X40: 0 | Y40: 1 | Z40: 0
A41: 2.2 | B41: ¶áñÍ³ñùÁ í³í»ñ ×³Ý³ã»Éáõ í»ñ³µ»ñÛ³É | E41: 0 | F41: 6 | G41: 6 | H41: 0 | I41: 0 | J41: 4 | K41: 3 | L41: 0 | M41: 1 | N41: 0 | O41: 0 | P41: 0 | Q41: 0 | R41: 0 | S41: 4 | T41: 0 | U41: 2 | V41: 0 | W41: 0 | X41: 0 | Y41: 2 | Z41: 1
A42: 2.3 | B42: ¶áñÍ³ñùÇó Í³·áÕ Çñ³íáõÝùÝ»ñÁ ·ñ³Ýó»Éáõ í»ñ³µ»ñÛ³É | E42: 0 | F42: 0 | G42: 0 | H42: 0 | I42: 0 | J42: 0 | K42: 0 | L42: 0 | M42: 0 | N42: 0 | O42: 0 | P42: 0 | Q42: 0 | R42: 0 | S42: 0 | T42: 0 | U42: 0 | V42: 0 | W42: 0 | X42: 0 | Y42: 0 | Z42: 0
A43: 2.4 | B43: ä³ÛÙ³Ý³·ÇñÝ ³Ýí³í»ñ ×³Ý³ã»Éáõ í»ñ³µ»ñÛ³É | E43: 0 | F43: 19 | G43: 18 | H43: 1 | I43: 0 | J43: 12 | K43: 6 | L43: 0 | M43: 3 | N43: 3 | O43: 1 | P43: 0 | Q43: 2 | R43: 0 | S43: 12 | T43: 1 | U43: 8 | V43: 5 | W43: 0 | X43: 1 | Y43: 5 | Z43: 1
A44: 2.5 | B44: ä³ÛÙ³Ý³·ñÇÁ í³í»ñ ×³Ý³ã»Éáõ í»ñ³µ»ñÛ³É | E44: 1 | F44: 11 | G44: 10 | H44: 1 | I44: 0 | J44: 10 | K44: 7 | L44: 0 | M44: 2 | N44: 1 | O44: 0 | P44: 1 | Q44: 0 | R44: 0 | S44: 10 | T44: 0 | U44: 10 | V44: 4 | W44: 0 | X44: 0 | Y44: 1 | Z44: 2
A45: 2.6 | B45: ä³ÛÙ³Ý³·ñÇó Í³·áÕ Çñ³íáõÝùÝ»ñÁ ·ñ³Ýó»Éáõ í»ñ³µ»ñÛ³É | E45: 0 | F45: 0 | G45: 0 | H45: 0 | I45: 0 | J45: 0 | K45: 0 | L45: 0 | M45: 0 | N45: 0 | O45: 0 | P45: 0 | Q45: 0 | R45: 0 | S45: 0 | T45: 0 | U45: 0 | V45: 0 | W45: 0 | X45: 0 | Y45: 0 | Z45: 0
A46: 2.7 | B46: ä³ÛÙ³Ý³·ÇñÁ ÷á÷áË»Éáõ ¨ ÉáõÍ»Éáõ í»ñ³µ»ñÛ³É | E46: 1 | F46: 48 | G46: 46 | H46: 2 | I46: 0 | J46: 39 | K46: 30 | L46: 2 | M46: 1 | N46: 6 | O46: 1 | P46: 4 | Q46: 1 | R46: 0 | S46: 39 | T46: 0 | U46: 37 | V46: 2 | W46: 0 | X46: 0 | Y46: 8 | Z46: 3
A47: 2.8 | B47: ä³ÛÙ³Ý³·Çñ ÏÝù»ÉáõÝ å³ñï³íáñ»óÝ»Éáõ í»ñ³µ»ñÛ³É | E47: 0 | F47: 0 | G47: 0 | H47: 0 | I47: 0 | J47: 0 | K47: 0 | L47: 0 | M47: 0 | N47: 0 | O47: 0 | P47: 0 | Q47: 0 | R47: 0 | S47: 0 | T47: 0 | U47: 0 | V47: 0 | W47: 0 | X47: 0 | Y47: 0 | Z47: 0
A48: 2.9 | B48: ²ÛÉ í»×»ñ | E48: 1 | F48: 13 | G48: 9 | H48: 3 | I48: 0 | J48: 8 | K48: 3 | L48: 0 | M48: 4 | N48: 1 | O48: 0 | P48: 1 | Q48: 0 | R48: 0 | S48: 8 | T48: 0 | U48: 7 | V48: 3 | W48: 0 | X48: 0 | Y48: 2 | Z48: 0
A49: 3. | B49: Ä³é³Ý·áõÃÛ³Ý í»ñ³µ»ñÛ³É í»×»ñ | E49: =E50+E51+E52+E54+E55+E56 -> 6 | F49: =G49+H49+I49 -> 48 | G49: =G50+G51+G52+G54+G55+G56 -> 40 | H49: =H50+H51+H52+H54+H55+H56 -> 7 | I49: =I50+I51+I52+I54+I55+I56 -> 1 | J49: =K49+L49+M49+N49 -> 25 | K49: =K50+K51+K52+K54+K55+K56 -> 12 | L49: =L50+L51+L52+L54+L55+L56 -> 3 | M49: =M50+M51+M52+M54+M55+M56 -> 4 | N49: =N50+N51+N52+N54+N55+N56 -> 6 | O49: =O50+O51+O52+O54+O55+O56 -> 0 | P49: =P50+P51+P52+P54+P55+P56 -> 6 | Q49: =Q50+Q51+Q52+Q54+Q55+Q56 -> 0 | R49: =R50+R51+R52+R54+R55+R56 -> 1 | ... Y49: =Y50+Y51+Y52+Y54+Y55+Y56 -> 20
A50: 3.1 | B50: Îï³ÏÝ ³Ýí³í»ñ ×³Ý³ã»Éáõ í»ñ³µ»ñÛ³É | E50: 0 | F50: 5 | G50: 5 | H50: 0 | I50: 0 | J50: 3 | K50: 1 | L50: 0 | M50: 2 | N50: 0 | O50: 0 | P50: 0 | Q50: 0 | R50: 0 | S50: 3 | T50: 0 | U50: 1 | V50: 3 | W50: 0 | X50: 0 | Y50: 2 | Z50: 2
A51: 3.2 | B51: ²Ý³ñÅ³Ý Å³é³Ý· ×³Ý³ã»Éáõ í»ñ³µ»ñÛ³É | E51: 0 | F51: 0 | G51: 0 | H51: 0 | I51: 0 | J51: 0 | K51: 0 | L51: 0 | M51: 0 | N51: 0 | O51: 0 | P51: 0 | Q51: 0 | R51: 0 | S51: 0 | T51: 0 | U51: 0 | V51: 0 | W51: 0 | X51: 0 | Y51: 0 | Z51: 0
A52: 3.3 | B52: Ä³é³Ý·áõÃÛáõÝÁ µ³Å³Ý»Éáõ í»ñ³µ»ñÛ³É | E52: 1 | F52: 8 | G52: 6 | H52: 2 | I52: 0 | J52: 3 | K52: 2 | L52: 1 | M52: 0 | N52: 0 | O52: 0 | P52: 0 | Q52: 0 | R52: 0 | S52: 3 | T52: 0 | U52: 2 | V52: 1 | W52: 0 | X52: 0 | Y52: 4 | Z52: 2
A53: 3.4 | B53: ¶áõÛùÝ ³ÝÅ³é³Ý· ×³Ý³ã»Éáõ í»ñ³µ»ñÛ³É | E53: 0 | F53: 0 | G53: 0 | H53: 0 | I53: 0 | J53: 0 | K53: 0 | L53: 0 | M53: 0 | N53: 0 | O53: 0 | P53: 0 | Q53: 0 | R53: 0 | S53: 0 | T53: 0 | U53: 0 | V53: 0 | W53: 0 | X53: 0 | Y53: 0 | Z53: 0
A54: 3.5 | B54: Àëï ûñ»ÝùÇ Å³é³Ý·áõÃÛ³Ý Çñ³íáõÝùÇ íÏ³Û³Ï³ÝÝ ³Ýí³í»ñ ×³Ý³ã»Éáõ í»ñ³µ»ñÛ³É | E54: 1 | F54: 9 | G54: 8 | H54: 1 | I54: 0 | J54: 8 | K54: 3 | L54: 2 | M54: 2 | N54: 1 | O54: 0 | P54: 1 | Q54: 0 | R54: 0 | S54: 8 | T54: 0 | U54: 3 | V54: 5 | W54: 0 | X54: 0 | Y54: 1 | Z54: 2
A55: 3.6 | B55: Ä³é³Ý·áõÃÛáõÝÝ ÁÝ¹áõÝ»Éáõ µ³ó ÃáÕÝí³Í Å³ÙÏ»ïÁ Ñ³ñ·»ÉÇ Ñ³Ù³ñ»Éáõ í»ñ³µ»ñÛ³É | E55: 1 | F55: 10 | G55: 8 | H55: 2 | I55: 0 | J55: 4 | K55: 3 | L55: 0 | M55: 0 | N55: 1 | O55: 0 | P55: 1 | Q55: 0 | R55: 1 | S55: 5 | T55: 0 | U55: 6 | V55: 0 | W55: 0 | X55: 0 | Y55: 4 | Z55: 1
...

Sheet Գեղարք
A1: Ð²ÞìºîìàôÂÚàôÜ
A2: ¶ºÔ²ðøàôÜÆøÆ Ø²ð¼Æ ÀÜ¸Ð²Üàôð Æð²ì²êàôÂÚ²Ü ¸²î²ð²ÜÆ ÎàÔØÆò ø²Ô²ø²òÆ²Î²Ü ¶àðÌºðÆ øÜÜàôÂÚ²Ü ìºð²´ºðÚ²È
A3: 2009 Ã. ï³ñí³ Ñ³Ù³ñ
A5: êïáõ·Çã Ñ³í³ë³ñáõÙÝ»ñª 2=3+4+5, 1+3=15+16+21, 6=7+8+9+10, 10=11+12+13, 15=6+14, | E5: ²Ý³í³ñï ·áñÍ»ñÇ ÙÝ³óáñ¹Á Ñ³ßí»ïáõ Å³Ù³Ý³Ï³ßñç³ÝÇ ëÏ½µáõÙ | F5: êï³óí³Í Ñ³Ûó»ñÇ,¹ÇÙáõÙÝ»ñÇ (·áñÍ»ñ)ù³Ý³ÏÁ | J5: ²í³ñïí»É »Ý ·áñÍ»ñ Ñ³ßí»ïáõ Å³Ù³Ý³Ï³ßñç³ÝáõÙ | T5: ¶áñÍÝ áõÕ³ñÏí»É ¿ Áëï ÁÝ¹¹³ïáõÃÛ³Ý | U5: Øï»É »Ý ûñÇÝ³Ï³Ý áõÅÇ Ù»ç | V5: ´áÕáù³ñÏí»É »Ý í»ñ³ùÝÝÇã ¹³ï³ñ³Ý | Y5: ²Ý³í³ñï ·áñÍ»ñÇ ÙÝ³óáñ¹Á Ñ³ßí»ïáõ Å³Ù³Ý³Ï³ßñç³ÝÇ í»ñçáõÙ | Z5: ²Û¹ ÃíáõÙª Ï³ë»óí³Í
F8: ÀÝ¹³Ù»ÝÁ | G8: ²Û¹ ÃíáõÙª ÁÝ¹áõÝí»É ¿ í³ñáõÛÃ | H8: ²Û¹ ÃíáõÙª í»ñ³¹³ñÓí»É ¿ | I8: ²Û¹ ÃíáõÙª Ñ³Ûó»ñÇ (¹ÇÙáõÙÝ»ñÇ) ÁÝ¹áõÝáõÙÁ Ù»ñÅí»É ¿ | J8: ÀÝ¹³Ù»ÝÁ ³í³ñïí»É »Ý ·áñÍ»ñ í×éÇ Ï³Û³óáõÙáí | K8: ²Û¹ ÃíáõÙª Ñ³ÛóÇ µ³í³ñ³ñÙ³Ùµ | L8: ²Û¹ ÃíáõÙª Ñ³ÛóÇ Ù³ëÝ³ÏÇ µ³í³ñ³ñÙ³Ùµ | M8: ²Û¹ ÃíáõÙª Ñ³ÛóÇ Ù»ñÅÙ³Ùµ | N8: ²Û¹ ÃíáõÙª Ï³ñ×í»É »Ý | R8: Ð³ÛóÁ ÃáÕÝí»É ¿ ³é³Ýó ùÝÝáõÃÛ³Ý | S8: ÀÝ¹³Ù»ÝÝ ³í³ñïí»É »Ý ·áñÍ»ñ | V8: Ï³Û³óí³Í í×ÇéÝ»ñÇ ¹»Ù | W8: ³é³Ýó ùÝÝáõÃÛ³Ý ÃáÕÝ»Éáõ Ù³ëÇÝ áñáßáõÙÝ»ñÇ ¹»Ù | X8: ÙÇç³ÝÏÛ³É ¹³ï³Ï³Ý ³Ïï»ñÇ ¹»Ù
N11: ÀÝ¹³Ù»ÝÁ Ï³ñ×í»É »Ý | O11: ²Û¹ ÃíáõÙª Ñ³ëï³ïí»É ¿ ÏÝùí³Í Ñ³ßïáõÃÛ³Ý Ñ³Ù³Ó³ÛÝáõÃÛáõÝÁ | P11: ²Û¹ ÃíáõÙª Ñ³óÇó, ¹ÇÙáõÙÇó Ññ³Å³ñí»Éáõ ÑÇÙùáí | Q11: ²Û¹ ÃíáõÙª ³ÛÉ ÑÇÙùáí
A19: Æñ³í³Ñ³ñ³µ»ñáõÃÛáõÝÝ»ñÇ ï»ë³ÏÝ»ñÁ | E19: 1 | F19: 2 | G19: 3 | H19: 4 | I19: 5 | J19: 6 | K19: 7 | L19: 8 | M19: 9 | N19: 10 | O19: 11 | P19: 12 | Q19: 13 | R19: 14 | S19: 15 | T19: 16 | U19: 17 | V19: 18 | W19: 19 | X19: 20 | Y19: 21 | Z19: 22
A20: 1. | B20: ¶áõÛù³ÛÇÝ í»×»ñ
A21: 1.1 | B21: ¶áõÛùÇ ÝÏ³ïÙ³Ùµ ë»÷³Ï³ÝáõÃÛ³Ý Çñ³íáõÝùÁ ×³Ý³ã»Éáõ í»ñ³µ»ñÛ³É | E21: 2 | F21: 24 | G21: 20 | H21: 4 | J21: 19 | K21: 9 | L21: 1 | M21: 7 | N21: 2 | P21: 2 | S21: 19 | U21: 13 | V21: 3 | X21: 1 | Y21: 3 | Z21: 2
A22: 1.1.1 | B22: ²Û¹ ÃíáõÙª Ó»éùµ»ñÙ³Ý í³Õ»ÙáõÃÛ³Ý áõÅáí | E22: 1 | F22: 8 | G22: 6 | I22: 2 | J22: 7 | K22: 4 | M22: 2 | N22: 1 | P22: 1 | S22: 7 | U22: 5
A23: 1.1.2 | B23: ²Û¹ ÃíáõÙª ïÇñ³½áõñÏ ·áõÛùÇ ÝÏ³ïÙ³Ùµ | E23: 2 | F23: 15 | G23: 15 | J23: 15 | K23: 14 | L23: 1 | S23: 15 | U23: 15 | Y23: 2
A24: 1.1.3 | B24: ²Û¹ ÃíáõÙª ÇÝùÝ³Ï³Ù Ï³éáõÛóÇ ÝÏ³ïÙ³Ùµ
A25: 1.2 | B25: ê»÷³Ï³ÝáõÃÛ³Ý Çñ³íáõÝùÇ ¹³¹³ñ»óÙ³Ý í»ñ³µ»ñÛ³É
A26: 1.3 | B26: ¶áõÛùÇ ÝÏ³ïÙ³Ùµ û·ï³·áñÍÙ³Ý Çñ³íáõÝùÁ ×³Ý³ã»Éáõ í»ñ³µ»ñÛ³É | F26: 2 | G26: 1 | H26: 1 | Y26: 1 | Z26: 1
A27: 1.3.1 | B27: ²Û¹ ÃíáõÙª µÝ³Ïû·ï³·áñÍÙ³Ý Çñ³íáõÝùÁ ×³Ý³ã»Éáõ í»ñ³µ»ñÛ³É | F27: 3 | G27: 3 | J27: 1 | N27: 1 | P27: 1 | S27: 1 | U27: 1 | Y27: 2
A28: 1.3.2 | B28: ²Û¹ ÃíáõÙª ÑáÕ³Ù³ëÇ ÝÏ³ïÙ³Ùµ û·ï³·áñÍÙ³Ý Çñ³íáõÝùÁ ×³Ý³ã»Éáõ í»ñ³µ»ñÛ³É
A29: 1.4 | B29: ¶áõÛùÇ ÝÏ³ïÙ³Ùµ û·ï³·áñÍÙ³Ý Çñ³íáõÝùÁ ¹³¹³ñ»óÝ»Éáõ í»ñ³µ»ñÛ³É
A30: 1.4.1 | B30: ²Û¹ ÃíáõÙª µÝ³Ïû·ï³·áñÍÙ³Ý Çñ³íáõÝùÁ ¹³¹³ñ»óÝ»Éáõ í»ñ³µ»ñÛ³É | F30: 1 | G30: 1 | J30: 1 | M30: 1 | S30: 1 | U30: 1
A31: 1.4.1/1 | B31: ²Û¹ ÃíáõÙª ÷áËÑ³ïáõóÙ³Ùµ
A32: 1.5 | B32: ´Ý³Ï³ñ³ÝÇó/ ï³ñ³ÍùÇó/ íï³ñ»Éáõ í»ñ³µ»ñÛ³É | E32: 1 | F32: 3 | G32: 3 | J32: 2 | K32: 2 | S32: 2 | U32: 1 | V32: 1 | Y32: 2 | Z32: 1
A33: 1.6 | B33: ¶áõÛùÝ áõñÇßÇ ³åûñÇÝÇ ïÇñ³å»ïáõÙÇó »ï í»ñ³¹³ñÓÝ»Éáõ í»ñ³µ»ñÛ³É | E33: 3 | F33: 7 | G33: 6 | H33: 1 | J33: 6 | K33: 3 | L33: 1 | M33: 1 | N33: 1 | P33: 1 | S33: 6 | U33: 2 | V33: 3 | Y33: 3 | Z33: 1
A34: 1.7 | B34: îÇñ³å»ïáõÙÇó ½ñÏ»Éáõ Ñ»ï ãÏ³åí³Í Çñ³íáõÝùÝ»ñÇ Ë³ËïáõÙÁ í»ñ³óÝ»Éáõ í»ñ³µ»ñÛ³É | E34: 1 | J34: 1 | N34: 1 | O34: 1 | S34: 1 | U34: 1
A35: 1.8 | B35: ÀÝ¹Ñ³Ýáõñ µ³ÅÝ³ÛÇÝ ë»÷³Ï³ÝáõÃÛáõÝÇó µ³ÅÇÝÝ ³é³ÝÓÝ³óÝ»Éáõ í»ñ³µ»ñÛ³É | E35: 11 | F35: 24 | G35: 24 | J35: 19 | K35: 9 | L35: 2 | M35: 3 | N35: 5 | O35: 3 | P35: 2 | S35: 19 | U35: 17 | V35: 1 | Y35: 16 | Z35: 7
A36: 1.9 | B36: ²ÛÉ í»×»ñ | E36: 6 | F36: 19 | G36: 16 | H36: 3 | J36: 18 | K36: 5 | L36: 1 | M36: 7 | N36: 5 | O36: 2 | P36: 3 | S36: 18 | T36: 2 | U36: 9 | V36: 8 | Y36: 2 | Z36: 1
A37: 2. | B37: ¶áñÍ³ñùÝ»ñÇ Ñ»ï Ï³åí³Í í»×»ñ
A38: 2.1 | B38: ¶áñÍ³ñùÝ ³Ýí³í»ñ ×³Ý³ã»Éáõ í»ñ³µ»ñÛ³É | F38: 12 | G38: 10 | H38: 2 | J38: 7 | K38: 1 | L38: 1 | M38: 1 | N38: 4 | O38: 2 | P38: 2 | S38: 7 | U38: 5 | V38: 2 | X38: 1 | Y38: 3
A39: 2.1.1 | B39: ²Û¹ ÃíáõÙª íÇ×³Ñ³ñáõÛó ·áñÍ³ñùÝ»ñ
A40: 2.1.2 | B40: ²Û¹ ÃíáõÙª ³éáãÇÝã ·áñÍ³ñùÝ»ñ
A41: 2.2 | B41: ¶áñÍ³ñùÁ í³í»ñ ×³Ý³ã»Éáõ í»ñ³µ»ñÛ³É | E41: 1 | F41: 6 | G41: 5 | H41: 1 | J41: 5 | K41: 2 | M41: 1 | N41: 2 | P41: 2 | S41: 5 | U41: 5 | Y41: 1
A42: 2.3 | B42: ¶áñÍ³ñùÇó Í³·áÕ Çñ³íáõÝùÝ»ñÁ ·ñ³Ýó»Éáõ í»ñ³µ»ñÛ³É | F42: 4 | G42: 3 | H42: 1 | J42: 2 | K42: 2 | S42: 2 | U42: 2 | Y42: 1 | Z42: 1
A43: 2.4 | B43: ä³ÛÙ³Ý³·ÇñÝ ³Ýí³í»ñ ×³Ý³ã»Éáõ í»ñ³µ»ñÛ³É | F43: 10 | G43: 10 | J43: 7 | K43: 2 | L43: 1 | M43: 3 | N43: 1 | O43: 1 | S43: 7 | T43: 1 | U43: 4 | V43: 2 | Y43: 2 | Z43: 1
A44: 2.5 | B44: ä³ÛÙ³Ý³·ñÇÁ í³í»ñ ×³Ý³ã»Éáõ í»ñ³µ»ñÛ³É | F44: 3 | G44: 3 | J44: 3 | K44: 2 | N44: 1 | Q44: 1 | S44: 3 | U44: 2
A45: 2.6 | B45: ä³ÛÙ³Ý³·ñÇó Í³·áÕ Çñ³íáõÝùÝ»ñÁ ·ñ³Ýó»Éáõ í»ñ³µ»ñÛ³É
A46: 2.7 | B46: ä³ÛÙ³Ý³·ÇñÁ ÷á÷áË»Éáõ ¨ ÉáõÍ»Éáõ í»ñ³µ»ñÛ³É | E46: 1 | F46: 8 | G46: 7 | H46: 1 | J46: 7 | K46: 3 | N46: 4 | P46: 4 | S46: 7 | U46: 7 | Y46: 1
A47: 2.8 | B47: ä³ÛÙ³Ý³·Çñ ÏÝù»ÉáõÝ å³ñï³íáñ»óÝ»Éáõ í»ñ³µ»ñÛ³É | F47: 2 | G47: 2 | J47: 2 | K47: 1 | N47: 1 | P47: 1 | S47: 2 | U47: 2
A48: 2.9 | B48: ²ÛÉ í»×»ñ | F48: 12 | G48: 4 | H48: 7 | I48: 1 | J48: 3 | K48: 3 | S48: 3 | U48: 2 | V48: 1 | Y48: 1 | Z48: 1
A49: 3. | B49: Ä³é³Ý·áõÃÛ³Ý í»ñ³µ»ñÛ³É í»×»ñ
A50: 3.1 | B50: Îï³ÏÝ ³Ýí³í»ñ ×³Ý³ã»Éáõ í»ñ³µ»ñÛ³É
A51: 3.2 | B51: ²Ý³ñÅ³Ý Å³é³Ý· ×³Ý³ã»Éáõ í»ñ³µ»ñÛ³É
A52: 3.3 | B52: Ä³é³Ý·áõÃÛáõÝÁ µ³Å³Ý»Éáõ í»ñ³µ»ñÛ³É
...

Sheet կենտրոն
A1: Ð²ÞìºîìàôÂÚàôÜ
A2: ø²Ô²ø²òÆ²Î²Ü ¶àðÌºðÆ øÜÜàôÂÚ²Ü ìºð²´ºðÚ²È
A3: 2009 Ã. ³é³çÇÝ ÏÇë³ÙÛ³ÏÇ (ï³ñí³) Ñ³Ù³ñ
A5: êïáõ·Çã Ñ³í³ë³ñáõÙÝ»ñª 2=3+4+5, 1+3=15+16+21, 6=7+8+9+10, 10=11+12+13, 15=6+14, | E5: ²Ý³í³ñï ·áñÍ»ñÇ ÙÝ³óáñ¹Á Ñ³ßí»ïáõ Å³Ù³Ý³Ï³ßñç³ÝÇ ëÏ½µáõÙ | F5: êï³óí³Í Ñ³Ûó»ñÇ,¹ÇÙáõÙÝ»ñÇ (·áñÍ»ñ)ù³Ý³ÏÁ | J5: ²í³ñïí»É »Ý ·áñÍ»ñ Ñ³ßí»ïáõ Å³Ù³Ý³Ï³ßñç³ÝáõÙ | T5: ¶áñÍÝ áõÕ³ñÏí»É ¿ Áëï ÁÝ¹¹³ïáõÃÛ³Ý | U5: Øï»É »Ý ûñÇÝ³Ï³Ý áõÅÇ Ù»ç | V5: ´áÕáù³ñÏí»É »Ý í»ñ³ùÝÝÇã ¹³ï³ñ³Ý | Y5: ²Ý³í³ñï ·áñÍ»ñÇ ÙÝ³óáñ¹Á Ñ³ßí»ïáõ Å³Ù³Ý³Ï³ßñç³ÝÇ í»ñçáõÙ | Z5: ²Û¹ ÃíáõÙª Ï³ë»óí³Í
F8: ÀÝ¹³Ù»ÝÁ | G8: ²Û¹ ÃíáõÙª ÁÝ¹áõÝí»É ¿ í³ñáõÛÃ | H8: ²Û¹ ÃíáõÙª í»ñ³¹³ñÓí»É ¿ | I8: ²Û¹ ÃíáõÙª Ñ³Ûó»ñÇ (¹ÇÙáõÙÝ»ñÇ) ÁÝ¹áõÝáõÙÁ Ù»ñÅí»É ¿ | J8: ÀÝ¹³Ù»ÝÁ ³í³ñïí»É »Ý ·áñÍ»ñ í×éÇ Ï³Û³óáõÙáí | K8: ²Û¹ ÃíáõÙª Ñ³ÛóÇ µ³í³ñ³ñÙ³Ùµ | L8: ²Û¹ ÃíáõÙª Ñ³ÛóÇ Ù³ëÝ³ÏÇ µ³í³ñ³ñÙ³Ùµ | M8: ²Û¹ ÃíáõÙª Ñ³ÛóÇ Ù»ñÅÙ³Ùµ | N8: ²Û¹ ÃíáõÙª Ï³ñ×í»É »Ý | R8: Ð³ÛóÁ ÃáÕÝí»É ¿ ³é³Ýó ùÝÝáõÃÛ³Ý | S8: ÀÝ¹³Ù»ÝÝ ³í³ñïí»É »Ý ·áñÍ»ñ | V8: Ï³Û³óí³Í í×ÇéÝ»ñÇ ¹»Ù | W8: ³é³Ýó ùÝÝáõÃÛ³Ý ÃáÕÝ»Éáõ Ù³ëÇÝ áñáßáõÙÝ»ñÇ ¹»Ù | X8: ÙÇç³ÝÏÛ³É ¹³ï³Ï³Ý ³Ïï»ñÇ ¹»Ù
N11: ÀÝ¹³Ù»ÝÁ Ï³ñ×í»É »Ý | O11: ²Û¹ ÃíáõÙª Ñ³ëï³ïí»É ¿ ÏÝùí³Í Ñ³ßïáõÃÛ³Ý Ñ³Ù³Ó³ÛÝáõÃÛáõÝÁ | P11: ²Û¹ ÃíáõÙª Ñ³óÇó, ¹ÇÙáõÙÇó Ññ³Å³ñí»Éáõ ÑÇÙùáí | Q11: ²Û¹ ÃíáõÙª ³ÛÉ ÑÇÙùáí
A19: Æñ³í³Ñ³ñ³µ»ñáõÃÛáõÝÝ»ñÇ ï»ë³ÏÝ»ñÁ | E19: 1 | F19: 2 | G19: 3 | H19: 4 | I19: 5 | J19: 6 | K19: 7 | L19: 8 | M19: 9 | N19: 10 | O19: 11 | P19: 12 | Q19: 13 | R19: 14 | S19: 15 | T19: 16 | U19: 17 | V19: 18 | W19: 19 | X19: 20 | Y19: 21 | Z19: 22
A20: 1. | B20: ¶áõÛù³ÛÇÝ í»×»ñ
A21: 1.1 | B21: ¶áõÛùÇ ÝÏ³ïÙ³Ùµ ë»÷³Ï³ÝáõÃÛ³Ý Çñ³íáõÝùÁ ×³Ý³ã»Éáõ í»ñ³µ»ñÛ³É | E21: 52 | F21: 80 | G21: 65 | H21: 14 | I21: 1 | J21: 52 | K21: 23 | L21: 5 | M21: 12 | N21: 12 | O21: 3 | P21: 6 | Q21: 3 | R21: 1 | S21: 53 | T21: 2 | U21: 19 | V21: 29 | Y21: 62 | Z21: 9
A22: 4 | B22: ²Û¹ ÃíáõÙª Ó»éùµ»ñÙ³Ý í³Õ»ÙáõÃÛ³Ý áõÅáí | E22: 22 | F22: 26 | G22: 22 | H22: 4 | J22: 20 | K22: 10 | M22: 6 | N22: 4 | P22: 1 | Q22: 3 | S22: 20 | T22: 1 | U22: 5 | V22: 15 | Y22: 23 | Z22: 3
A23: 1.1.2 | B23: ²Û¹ ÃíáõÙª ïÇñ³½áõñÏ ·áõÛùÇ ÝÏ³ïÙ³Ùµ | E23: 5 | F23: 9 | G23: 8 | H23: 1 | J23: 8 | K23: 5 | L23: 1 | M23: 1 | N23: 1 | P23: 1 | S23: 8 | U23: 6 | V23: 1 | Y23: 5
A24: 1.1.3 | B24: ²Û¹ ÃíáõÙª ÇÝùÝ³Ï³Ù Ï³éáõÛóÇ ÝÏ³ïÙ³Ùµ | E24: 1 | F24: 1 | G24: 1 | J24: 2 | M24: 1 | N24: 1 | P24: 1 | S24: 2 | U24: 2 | V24: 1
