Workbook

Sheet Աջափնյակ
A1: Ð²ÞìºîìàôÂÚàôÜ
A2: ø²Ô²ø²òÆ²Î²Ü ¶àðÌºðÆ øÜÜàôÂÚ²Ü ìºð²´ºðÚ²È
A3: ²ç³÷ÝÛ³Ï ¨ ¸³íÃ³ß»Ý Ñ³Ù³ÛÝùÝ»ñÇ ÁÝ¹Ñ³Ýáõñ Çñ³í³ëáõÃÛ³Ý ¹³ï³ñ³Ý 2009 Ã. ³é³çÇÝ ÏÇë³ÙÛ³ÏÇ Ñ³Ù³ñ
A5: êïáõ·Çã Ñ³í³ë³ñáõÙÝ»ñª 2=3+4+5, 1+3=15+16+21, 6=7+8+9+10, 10=11+12+13, 15=6+14 | E5: ²Ý³í³ñï ·áñÍ»ñÇ ÙÝ³óáñ¹Á Ñ³ßí»ïáõ Å³Ù³Ý³Ï³ßñç³ÝÇ ëÏ½µáõÙ | F5: êï³óí³Í Ñ³Ûó»ñÇ, ¹ÇÙáõÙÝ»ñÇ (·áñÍ»ñ) ù³Ý³ÏÁ | J5: ²í³ñïí»É »Ý ·áñÍ»ñ Ñ³ßí»ïáõ Å³Ù³Ý³Ï³ßñç³ÝáõÙ | T5: ¶áñÍÝ áõÕ³ñÏí»É ¿ Áëï ÁÝ¹¹³ïáõÃÛ³Ý | U5: Øï»É »Ý ûñÇÝ³Ï³Ý áõÅÇ Ù»ç | V5: ´áÕáù³ñÏí»É »Ý í»ñ³ùÝÝÇã ¹³ï³ñ³Ý | Y5: ²Ý³í³ñï ·áñÍ»ñÇ ÙÝ³óáñ¹Á Ñ³ßí»ïáõ Å³Ù³Ý³Ï³ßñç³ÝÇ í»ñçáõÙ | Z5: ²Û¹ ÃíáõÙª Ï³ë»óí³Í
V6: Ï³Û³óí³Í í×ÇéÝ»ñÇ ¹»Ù | W6: ³é³Ýó ùÝÝáõÃÛ³Ý ÃáÕÝ»Éáõ Ù³ëÇÝ áñáßáõÙÝ»ñÇ ¹»Ù | X6: ÙÇç³ÝÏÛ³É ¹³ï³Ï³Ý ³Ïï»ñÇ ¹»Ù
F8: ÀÝ¹³Ù»ÝÁ | G8: ²Û¹ ÃíáõÙª ÁÝ¹áõÝí»É ¿ í³ñáõÛÃ | H8: ²Û¹ ÃíáõÙª í»ñ³¹³ñÓí»É ¿ | I8: ²Û¹ ÃíáõÙª Ñ³Ûó»ñÇ (¹ÇÙáõÙÝ»ñÇ) ÁÝ¹áõÝáõÙÁ Ù»ñÅí»É ¿ | J8: ÀÝ¹³Ù»ÝÁ ³í³ñïí»É »Ý ·áñÍ»ñ í×éÇ Ï³Û³óáõÙáí | K8: ²Û¹ ÃíáõÙª Ñ³ÛóÇ µ³í³ñ³ñÙ³Ùµ | L8: ²Û¹ ÃíáõÙª Ñ³ÛóÇ Ù³ëÝ³ÏÇ µ³í³ñ³ñÙ³Ùµ | M8: ²Û¹ ÃíáõÙª Ñ³ÛóÇ Ù»ñÅÙ³Ùµ | N8: ²Û¹ ÃíáõÙª Ï³ñ×í»É »Ý | R8: Ð³ÛóÁ ÃáÕÝí»É ¿ ³é³Ýó ùÝÝáõÃÛ³Ý | S8: ÀÝ¹³Ù»ÝÝ ³í³ñïí»É »Ý ·áñÍ»ñ
N11: ÀÝ¹³Ù»ÝÁ Ï³ñ×í»É »Ý | O11: ²Û¹ ÃíáõÙª Ñ³ëï³ïí»É ¿ ÏÝùí³Í Ñ³ßïáõÃÛ³Ý Ñ³Ù³Ó³ÛÝáõÃÛáõÝÁ | P11: ²Û¹ ÃíáõÙª Ñ³ÛóÇó, ¹ÇÙáõÙÇó Ññ³Å³ñí»Éáõ ÑÇÙùáí | Q11: ²Û¹ ÃíáõÙª ³ÛÉ ÑÇÙùáí
A19: Æñ³í³Ñ³ñ³µ»ñáõÃÛáõÝÝ»ñÇ ï»ë³ÏÝ»ñÁ | E19: 1 | F19: 2 | G19: 3 | H19: 4 | I19: 5 | J19: 6 | K19: 7 | L19: 8 | M19: 9 | N19: 10 | O19: 11 | P19: 12 | Q19: 13 | R19: 14 | S19: 15 | T19: 16 | U19: 17 | V19: 18 | W19: 19 | X19: 20 | Y19: 21 | Z19: 22
A20: 1 | B20: ¶áõÛù³ÛÇÝ í»×»ñ
A21: 1..1 | B21: ¶áõÛùÇ ÝÏ³ïÙ³Ùµ ë»÷³Ï³ÝáõÃÛ³Ý Çñ³íáõÝùÁ ×³Ý³ã»Éáõ í»ñ³µ»ñÛ³É | E21: ='[1]kod 1.1'!J13 -> 12 | F21: 24 | G21: 21 | H21: 1 | I21: 2 | J21: 25 | K21: 8 | L21: 2 | M21: 5 | N21: 10 | O21: 2 | P21: 7 | Q21: 1 | R21: ='[1]kod 1.1'!J5 -> 0 | S21: =J21+R21 -> 25 | T21: ='[1]kod 1.1'!J9 -> 0 | U21: 20 | V21: 3 | Y21: 8 | Z21: 1
A22: 1.1.1 | B22: ²Û¹ ÃíáõÙª Ó»éùµ»ñÙ³Ý í³Õ»ÙáõÃÛ³Ý áõÅáí | E22: ='[1]kod 1.1.1'!J13 -> 9 | F22: 25 | G22: 25 | H22: ='[1]kod 1.1.1'!M3 -> 0 | I22: ='[1]kod 1.1.1'!N3 -> 0 | J22: 14 | K22: 6 | L22: ='[1]kod 1.1.1'!J3 -> 0 | M22: 6 | N22: 2 | O22: 1 | P22: 1 | Q22: ='[1]kod 1.1.1'!J6 -> 0 | R22: ='[1]kod 1.1.1'!J5 -> 0 | S22: =J22+R22 -> 14 | T22: ='[1]kod 1.1.1'!J9 -> 0 | U22: 10 | V22: 4 | Y22: 20 | Z22: 3
A23: 1.1.2 | B23: ²Û¹ ÃíáõÙª ïÇñ³½áõñÏ ·áõÛùÇ ÝÏ³ïÙ³Ùµ | N23: =O23+P23+Q23 -> 0
A24: 1.1.3 | B24: ²Û¹ ÃíáõÙª ÇÝùÝ³Ï³Ù Ï³éáõÛóÇ ÝÏ³ïÙ³Ùµ | E24: ='[1]kod 1.1.3'!J13 -> 1 | F24: =G24+H24+I24 -> 0 | G24: ='[1]kod 1.1.3'!J14 -> 0 | H24: ='[1]kod 1.1.3'!M3 -> 0 | I24: ='[1]kod 1.1.3'!N3 -> 0 | J24: =K24+L24+M24+N24 -> 0 | K24: ='[1]kod 1.1.3'!J2 -> 0 | L24: ='[1]kod 1.1.3'!J3 -> 0 | M24: ='[1]kod 1.1.3'!J4 -> 0 | N24: =O24+P24+Q24 -> 0 | O24: ='[1]kod 1.1.3'!J7 -> 0 | P24: ='[1]kod 1.1.3'!J8 -> 0 | Q24: ='[1]kod 1.1.3'!J6 -> 0 | R24: ='[1]kod 1.1.3'!J5 -> 0 | S24: =J24+R24 -> 0 | T24: ='[1]kod 1.1.3'!J9 -> 1 | U24: ='[1]kod 1.1.3'!M2 -> 0 | V24: ='[1]kod 1.1.3'!G5 -> 0 | Y24: ='[1]kod 1.1.3'!J10+'[1]kod 1.1.3'!J11 -> 0 | Z24: ='[1]kod 1.1.3'!J10 -> 0
A25: 1..2 | B25: ê»÷³Ï³ÝáõÃÛ³Ý Çñ³íáõÝùÇ ¹³¹³ñ»óÙ³Ý í»ñ³µ»ñÛ³É | E25: ='[1]kod 1.2'!J13 -> 0 | F25: =G25+H25+I25 -> 0 | G25: ='[1]kod 1.2'!J14 -> 0 | H25: ='[1]kod 1.2'!M3 -> 0 | I25: ='[1]kod 1.2'!N3 -> 0 | J25: =K25+L25+M25+N25 -> 0 | K25: ='[1]kod 1.2'!J2 -> 0 | L25: ='[1]kod 1.2'!J3 -> 0 | M25: ='[1]kod 1.2'!J4 -> 0 | N25: =O25+P25+Q25 -> 0 | O25: ='[1]kod 1.2'!J7 -> 0 | P25: ='[1]kod 1.2'!J8 -> 0 | Q25: ='[1]kod 1.2'!J6 -> 0 | R25: ='[1]kod 1.2'!J5 -> 0 | S25: =J25+R25 -> 0 | T25: ='[1]kod 1.2'!J9 -> 0 | U25: ='[1]kod 1.2'!M2 -> 0 | V25: ='[1]kod 1.2'!G6 -> 0 | Y25: ='[1]kod 1.2'!J10+'[1]kod 1.2'!J11 -> 0 | Z25: ='[1]kod 1.2'!J10 -> 0
A26: 1.3 | B26: ¶áõÛùÇ ÝÏ³ïÙ³Ùµ û·ï³·áñÍÙ³Ý Çñ³íáõÝùÁ ×³Ý³ã»Éáõ í»ñ³µ»ñÛ³É | N26: =O26+P26+Q26 -> 0
A27: 1.3.1 | B27: ²Û¹ ÃíáõÙª µÝ³Ïû·ï³·áñÍÙ³Ý Çñ³íáõÝùÁ ×³Ý³ã»Éáõ í»ñ³µ»ñÛ³É | E27: ='[1]kod 1.3.1'!J13 -> 0 | F27: =G27+H27+I27 -> 1 | G27: ='[1]kod 1.3.1'!J14 -> 1 | H27: ='[1]kod 1.3.1'!M3 -> 0 | I27: ='[1]kod 1.3.1'!N3 -> 0 | J27: =K27+L27+M27+N27 -> 1 | K27: ='[1]kod 1.3.1'!J2 -> 0 | L27: ='[1]kod 1.3.1'!J3 -> 0 | M27: ='[1]kod 1.3.1'!J4 -> 0 | N27: =O27+P27+Q27 -> 1 | O27: ='[1]kod 1.3.1'!J7 -> 0 | P27: ='[1]kod 1.3.1'!J8 -> 1 | Q27: ='[1]kod 1.3.1'!J6 -> 0 | R27: ='[1]kod 1.3.1'!J5 -> 0 | S27: =J27+R27 -> 1 | T27: ='[1]kod 1.3.1'!J9 -> 0 | U27: ='[1]kod 1.3.1'!M2 -> 1 | V27: ='[1]kod 1.3.1'!G6 -> 0 | Y27: ='[1]kod 1.3.1'!J10+'[1]kod 1.3.1'!J11 -> 0 | Z27: ='[1]kod 1.3.1'!J10 -> 0
A28: 1.3.2. | B28: ²Û¹ ÃíáõÙª ÑáÕ³Ù³ëÇ ÝÏ³ïÙ³Ùµ û·ï³·áñÍÙ³Ý Çñ³íáõÝùÁ ×³Ý³ã»Éáõ í»ñ³µ»ñÛ³É | E28: ='[1]kod 1.3.2'!J13 -> 2 | F28: =G28+H28+I28 -> 0 | G28: ='[1]kod 1.3.2'!J14 -> 0 | H28: ='[1]kod 1.3.2'!M3 -> 0 | I28: ='[1]kod 1.3.2'!N3 -> 0 | J28: =K28+L28+M28+N28 -> 2 | K28: ='[1]kod 1.3.2'!J2 -> 0 | L28: ='[1]kod 1.3.2'!J3 -> 0 | M28: ='[1]kod 1.3.2'!J4 -> 0 | N28: =O28+P28+Q28 -> 2 | O28: ='[1]kod 1.3.2'!J7 -> 0 | P28: ='[1]kod 1.3.2'!J8 -> 0 | Q28: ='[1]kod 1.3.2'!J6 -> 2 | R28: ='[1]kod 1.3.2'!J5 -> 0 | S28: =J28+R28 -> 2 | T28: ='[1]kod 1.3.2'!J9 -> 0 | U28: ='[1]kod 1.3.2'!M2 -> 2 | V28: ='[1]kod 1.3.2'!G6 -> 0 | Y28: ='[1]kod 1.3.2'!J10+'[1]kod 1.3.2'!J11 -> 0 | Z28: ='[1]kod 1.3.2'!J10 -> 0
A29: 1.4 | B29: ¶áõÛùÇ ÝÏ³ïÙ³Ùµ û·ï³·áñÍÙ³Ý Çñ³íáõÝùÁ ¹³¹³ñ»óÝ»Éáõ í»ñ³µ»ñÛ³É | E29: ='[1]kod 1.4'!J13 -> 0 | F29: =G29+H29+I29 -> 0 | G29: ='[1]kod 1.4'!J14 -> 0 | H29: ='[1]kod 1.4'!M3 -> 0 | I29: ='[1]kod 1.4'!N3 -> 0 | J29: =K29+L29+M29+N29 -> 0 | K29: ='[1]kod 1.4'!J2 -> 0 | L29: ='[1]kod 1.4'!J3 -> 0 | M29: ='[1]kod 1.4'!J4 -> 0 | N29: =O29+P29+Q29 -> 0 | O29: ='[1]kod 1.4'!J7 -> 0 | P29: ='[1]kod 1.4'!J8 -> 0 | Q29: ='[1]kod 1.4'!J6 -> 0 | R29: ='[1]kod 1.4'!J5 -> 0 | S29: =J29+R29 -> 0 | T29: ='[1]kod 1.4'!J9 -> 0 | U29: ='[1]kod 1.4'!M2 -> 0 | V29: ='[1]kod 1.4'!G6 -> 0 | Y29: ='[1]kod 1.4'!J10+'[1]kod 1.4'!J11 -> 0 | Z29: ='[1]kod 1.4'!J10 -> 0
A30: 1.4.1 | B30: ²Û¹ ÃíáõÙª µÝ³Ïû·ï³·áñÍÙ³Ý Çñ³íáõÝùÁ ¹³¹³ñ»óÝ»Éáõ í»ñ³µ»ñÛ³É | E30: ='[1]kod 1.4.1'!J13 -> 3 | F30: =G30+H30+I30 -> 1 | G30: ='[1]kod 1.4.1'!J14 -> 1 | H30: ='[1]kod 1.4.1'!M3 -> 0 | I30: ='[1]kod 1.4.1'!N3 -> 0 | J30: 2 | K30: 1 | L30: ='[1]kod 1.4.1'!J3 -> 0 | M30: ='[1]kod 1.4.1'!J4 -> 1 | N30: =O30+P30+Q30 -> 0 | O30: ='[1]kod 1.4.1'!J7 -> 0 | P30: ='[1]kod 1.4.1'!J8 -> 0 | Q30: ='[1]kod 1.4.1'!J6 -> 0 | R30: ='[1]kod 1.4.1'!J5 -> 0 | S30: =J30+R30 -> 2 | T30: ='[1]kod 1.4.1'!J9 -> 0 | U30: 2 | V30: ='[1]kod 1.4.1'!G6 -> 0 | Y30: 2 | Z30: ='[1]kod 1.4.1'!J10 -> 2
A31: 1.4.1/1 | B31: ²Û¹ ÃíáõÙª ÷áËÑ³ïáõóÙ³Ùµ | E31: ='[1]kod 1.4.1-1'!J13 -> 5 | F31: =G31+H31+I31 -> 0 | G31: ='[1]kod 1.4.1-1'!J14 -> 0 | H31: ='[1]kod 1.4.1-1'!M3 -> 0 | I31: ='[1]kod 1.4.1-1'!N3 -> 0 | J31: =K31+L31+M31+N31 -> 1 | K31: ='[1]kod 1.4.1-1'!J2 -> 1 | L31: ='[1]kod 1.4.1-1'!J3 -> 0 | M31: ='[1]kod 1.4.1-1'!J4 -> 0 | N31: =O31+P31+Q31 -> 0 | O31: ='[1]kod 1.4.1-1'!J7 -> 0 | P31: ='[1]kod 1.4.1-1'!J8 -> 0 | Q31: ='[1]kod 1.4.1-1'!J6 -> 0 | R31: ='[1]kod 1.4.1-1'!J5 -> 0 | S31: =J31+R31 -> 1 | T31: ='[1]kod 1.4.1-1'!J9 -> 1 | U31: 1 | V31: ='[1]kod 1.4.1-1'!G6 -> 1 | Y31: ='[1]kod 1.4.1-1'!J10+'[1]kod 1.4.1-1'!J11 -> 3 | Z31: 2
A32: 1.5 | B32: ´Ý³Ï³ñ³ÝÇó/ ï³ñ³ÍùÇó/ íï³ñ»Éáõ í»ñ³µ»ñÛ³É | E32: ='[1]kod 1.5'!J13 -> 11 | F32: 22 | G32: 21 | H32: 1 | I32: ='[1]kod 1.5'!N3 -> 0 | J32: 16 | K32: 10 | L32: ='[1]kod 1.5'!J3 -> 0 | M32: 2 | N32: 4 | O32: 1 | P32: 3 | Q32: ='[1]kod 1.5'!J6 -> 0 | R32: ='[1]kod 1.5'!J5 -> 0 | S32: =J32+R32 -> 16 | T32: ='[1]kod 1.5'!J9 -> 1 | U32: 12 | V32: 4 | Y32: 15 | Z32: 6
A33: 1.6 | B33: ¶áõÛùÝ áõñÇßÇ ³åûñÇÝÇ ïÇñ³å»ïáõÙÇó »ï í»ñ³¹³ñÓÝ»Éáõ í»ñ³µ»ñÛ³É | E33: ='[1]kod 1.6'!J13 -> 14 | F33: 32 | G33: 30 | H33: 2 | I33: ='[1]kod 1.6'!N3 -> 0 | J33: 29 | K33: 15 | L33: ='[1]kod 1.6'!J3 -> 0 | M33: 3 | N33: 11 | O33: ='[1]kod 1.6'!J7 -> 0 | P33: 11 | Q33: ='[1]kod 1.6'!J6 -> 0 | R33: 1 | S33: =J33+R33 -> 30 | T33: ='[1]kod 1.6'!J9 -> 2 | U33: 12 | V33: 13 | X33: ='[1]kod 1.6'!G6 -> 2 | Y33: ='[1]kod 1.6'!J10+'[1]kod 1.6'!J11 -> 12 | Z33: 1
A34: 1.7 | B34: îÇñ³å»ïáõÙÇó ½ñÏ»Éáõ Ñ»ï ãÏ³åí³Í Çñ³íáõÝùÝ»ñÇ Ë³ËïáõÙÁ í»ñ³óÝ»Éáõ í»ñ³µ»ñÛ³É | E34: ='[1]kod 1.7'!J13 -> 5 | F34: 14 | G34: 13 | H34: 1 | I34: ='[1]kod 1.7'!N3 -> 0 | J34: 4 | K34: 2 | L34: ='[1]kod 1.7'!J3 -> 0 | M34: 1 | N34: 1 | O34: ='[1]kod 1.7'!J7 -> 0 | P34: 1 | Q34: ='[1]kod 1.7'!J6 -> 0 | R34: ='[1]kod 1.7'!J5 -> 0 | S34: =J34+R34 -> 4 | T34: ='[1]kod 1.7'!J9 -> 0 | U34: 1 | V34: 3 | Y34: 14 | Z34: 6
A35: 1.8 | B35: ÀÝ¹Ñ³Ýáõñ µ³ÅÝ³ÛÇÝ ë»÷³Ï³ÝáõÃÛáõÝÇó µ³ÅÇÝÝ ³é³ÝÓÝ³óÝ»Éáõ í»ñ³µ»ñÛ³É | E35: ='[1]kod 1.8'!J13 -> 25 | F35: 51 | G35: 48 | H35: 3 | I35: ='[1]kod 1.8'!N3 -> 0 | J35: 33 | K35: 13 | L35: 1 | M35: 4 | N35: 15 | O35: 2 | P35: 10 | Q35: 3 | R35: ='[1]kod 1.8'!J5 -> 0 | S35: 33 | T35: 1 | U35: 24 | V35: 8 | X35: ='[1]kod 1.8'!G6 -> 2 | Y35: 39 | Z35: 10
A36: 1.9 | B36: ²ÛÉ í»×»ñ | E36: ='[1]kod 1.9'!J13 -> 15 | F36: 46 | G36: 35 | H36: 9 | I36: 2 | J36: 26 | K36: 11 | L36: ='[1]kod 1.9'!J3 -> 0 | M36: 5 | N36: 10 | O36: ='[1]kod 1.9'!J7 -> 0 | P36: 9 | Q36: 1 | R36: ='[1]kod 1.9'!J5 -> 0 | S36: =J36+R36 -> 26 | T36: 4 | U36: 20 | V36: 4 | Y36: 20 | Z36: 9
A37: 2. | B37: ¶áñÍ³ñùÝ»ñÇ Ñ»ï Ï³åí³Í í»×»ñ
A38: 2.1 | B38: ¶áñÍ³ñùÝ ³Ýí³í»ñ ×³Ý³ã»Éáõ í»ñ³µ»ñÛ³É | E38: ='[1]kod 2.1'!J13 -> 1 | F38: 8 | G38: 7 | H38: 1 | I38: ='[1]kod 2.1'!N3 -> 0 | J38: 4 | K38: 1 | L38: ='[1]kod 2.1'!J3 -> 0 | M38: 1 | N38: 2 | P38: 2 | Q38: ='[1]kod 2.1'!J6 -> 0 | R38: ='[1]kod 2.1'!J5 -> 0 | S38: =J38+R38 -> 4 | T38: ='[1]kod 2.1'!J9 -> 1 | U38: ='[1]kod 2.1'!M2 -> 0 | V38: 2 | Y38: 3 | Z38: ='[1]kod 2.1'!J10 -> 1
A39: 2.1.1 | B39: ²Û¹ ÃíáõÙª íÇ×³Ñ³ñáõÛó ·áñÍ³ñùÝ»ñ | E39: ='[1]kod 2.1.1'!J13 -> 0 | F39: =G39+H39+I39 -> 1 | G39: ='[1]kod 2.1.1'!J14 -> 1 | H39: ='[1]kod 2.1.1'!M3 -> 0 | I39: ='[1]kod 2.1.1'!N3 -> 0 | J39: 1 | K39: ='[1]kod 2.1.1'!J2 -> 0 | L39: ='[1]kod 2.1.1'!J3 -> 0 | M39: 1 | N39: =O39+P39+Q39 -> 0 | O39: ='[1]kod 2.1.1'!J7 -> 0 | P39: ='[1]kod 2.1.1'!J8 -> 0 | Q39: ='[1]kod 2.1.1'!J6 -> 0 | R39: ='[1]kod 2.1.1'!J5 -> 0 | S39: =J39+R39 -> 1 | T39: ='[1]kod 2.1.1'!J9 -> 0 | U39: 0 | V39: 1 | Y39: 0 | Z39: ='[1]kod 2.1.1'!J10 -> 0
A40: 2.1.2 | B40: ²Û¹ ÃíáõÙª ³éáãÇÝã ·áñÍ³ñùÝ»ñ | E40: ='[1]kod 2.1.2'!J13 -> 0 | F40: 5 | G40: 4 | H40: ='[1]kod 2.1.2'!M3 -> 1 | I40: ='[1]kod 2.1.2'!N3 -> 0 | J40: 1 | K40: ='[1]kod 2.1.2'!J2 -> 0 | L40: ='[1]kod 2.1.2'!J3 -> 0 | M40: ='[1]kod 2.1.2'!J4 -> 0 | N40: 1 | O40: ='[1]kod 2.1.2'!J7 -> 0 | P40: 1 | Q40: ='[1]kod 2.1.2'!J6 -> 0 | R40: ='[1]kod 2.1.2'!J5 -> 0 | S40: =J40+R40 -> 1 | T40: 1 | U40: 1 | V40: ='[1]kod 2.1.2'!G6 -> 0 | Y40: 2 | Z40: ='[1]kod 2.1.2'!J10 -> 0
A41: 2.2 | B41: ¶áñÍ³ñùÁ í³í»ñ ×³Ý³ã»Éáõ í»ñ³µ»ñÛ³É | E41: ='[1]kod 2.2'!J13 -> 1 | F41: =G41+H41+I41 -> 1 | G41: ='[1]kod 2.2'!J14 -> 0 | H41: ='[1]kod 2.2'!M3 -> 1 | I41: ='[1]kod 2.2'!N3 -> 0 | J41: =K41+L41+M41+N41 -> 0 | K41: ='[1]kod 2.2'!J2 -> 0 | L41: ='[1]kod 2.2'!J3 -> 0 | M41: ='[1]kod 2.2'!J4 -> 0 | N41: =O41+P41+Q41 -> 0 | O41: ='[1]kod 2.2'!J7 -> 0 | P41: ='[1]kod 2.2'!J8 -> 0 | Q41: ='[1]kod 2.2'!J6 -> 0 | R41: ='[1]kod 2.2'!J5 -> 0 | S41: =J41+R41 -> 0 | T41: ='[1]kod 2.2'!J9 -> 0 | U41: ='[1]kod 2.2'!M2 -> 0 | V41: 0 | Y41: ='[1]kod 2.2'!J10+'[1]kod 2.2'!J11 -> 1 | Z41: 1
A42: 2.3 | B42: ¶áñÍ³ñùÇó Í³·áÕ Çñ³íáõÝùÝ»ñÁ ·ñ³Ýó»Éáõ í»ñ³µ»ñÛ³É | N42: =O42+P42+Q42 -> 0
A43: 2.4 | B43: ä³ÛÙ³Ý³·ÇñÝ ³Ýí³í»ñ ×³Ý³ã»Éáõ í»ñ³µ»ñÛ³É | E43: ='[1]kod 2.4'!J13 -> 0 | F43: 28 | G43: 26 | H43: 2 | I43: ='[1]kod 2.4'!N3 -> 0 | J43: 10 | K43: 4 | L43: 1 | M43: 4 | N43: 1 | O43: ='[1]kod 2.4'!J7 -> 0 | P43: 1 | Q43: ='[1]kod 2.4'!J6 -> 0 | R43: ='[1]kod 2.4'!J5 -> 0 | S43: =J43+R43 -> 10 | T43: ='[1]kod 2.4'!J9 -> 0 | U43: 4 | V43: 2 | X43: 1 | Y43: 16 | Z43: 7
A44: 2.5 | B44: ä³ÛÙ³Ý³·ñÇÁ í³í»ñ ×³Ý³ã»Éáõ í»ñ³µ»ñÛ³É | E44: ='[1]kod 2.5'!J13 -> 5 | F44: 10 | G44: 9 | H44: 1 | I44: ='[1]kod 2.5'!N3 -> 0 | J44: 8 | K44: 4 | L44: 1 | M44: 1 | N44: 2 | O44: ='[1]kod 2.5'!J7 -> 0 | P44: 2 | Q44: ='[1]kod 2.5'!J6 -> 0 | R44: ='[1]kod 2.5'!J5 -> 0 | S44: =J44+R44 -> 8 | T44: ='[1]kod 2.5'!J9 -> 0 | U44: 5 | V44: 1 | Y44: 6 | Z44: ='[1]kod 2.5'!J10 -> 0
A45: 2.6 | B45: ä³ÛÙ³Ý³·ñÇó Í³·áÕ Çñ³íáõÝùÝ»ñÁ ·ñ³Ýó»Éáõ í»ñ³µ»ñÛ³É
A46: 2.7 | B46: ä³ÛÙ³Ý³·ÇñÁ ÷á÷áË»Éáõ ¨ ÉáõÍ»Éáõ í»ñ³µ»ñÛ³É | E46: ='[1]kod 2.7'!J13 -> 0 | F46: 69 | G46: 59 | H46: 10 | I46: ='[1]kod 2.7'!N3 -> 0 | J46: 35 | K46: 23 | L46: 2 | M46: 2 | N46: 8 | O46: 1 | P46: 7 | Q46: ='[1]kod 2.7'!J6 -> 0 | R46: ='[1]kod 2.7'!J5 -> 0 | S46: =J46+R46 -> 35 | T46: ='[1]kod 2.7'!J9 -> 0 | U46: 23 | V46: 6 | Y46: 24 | Z46: 8
A47: 2.8 | B47: ä³ÛÙ³Ý³·Çñ ÏÝù»ÉáõÝ å³ñï³íáñ»óÝ»Éáõ í»ñ³µ»ñÛ³É | E47: ='[1]kod 2.8'!J13 -> 1 | F47: 3 | G47: 3 | H47: ='[1]kod 2.8'!M3 -> 0 | I47: ='[1]kod 2.8'!N3 -> 0 | J47: 2 | K47: ='[1]kod 2.8'!J2 -> 0 | L47: ='[1]kod 2.8'!J3 -> 0 | M47: ='[1]kod 2.8'!J4 -> 0 | N47: 2 | O47: 1 | P47: 1 | Q47: ='[1]kod 2.8'!J6 -> 0 | R47: ='[1]kod 2.8'!J5 -> 0 | S47: =J47+R47 -> 2 | T47: ='[1]kod 2.8'!J9 -> 0 | U47: 2 | V47: ='[1]kod 2.8'!G6 -> 0 | Y47: 2 | Z47: 1
A48: 2.9 | B48: ²ÛÉ í»×»ñ | E48: ='[1]kod 2.9'!J13 -> 0 | F48: 5 | G48: 5 | H48: ='[1]kod 2.9'!M3 -> 0 | I48: ='[1]kod 2.9'!N3 -> 0 | J48: 2 | K48: 2 | L48: ='[1]kod 2.9'!J3 -> 0 | M48: ='[1]kod 2.9'!J4 -> 0 | N48: =O48+P48+Q48 -> 0 | O48: ='[1]kod 2.9'!J7 -> 0 | P48: ='[1]kod 2.9'!J8 -> 0 | Q48: ='[1]kod 2.9'!J6 -> 0 | R48: ='[1]kod 2.9'!J5 -> 0 | S48: =J48+R48 -> 2 | T48: ='[1]kod 2.9'!J9 -> 0 | U48: 2 | V48: ='[1]kod 2.9'!G6 -> 0 | Y48: ='[1]kod 2.9'!J10+'[1]kod 2.9'!J11 -> 3 | Z48: ='[1]kod 2.9'!J10 -> 0
A49: 3. | B49: Ä³é³Ý·áõÃÛ³Ý í»ñ³µ»ñÛ³É í»×»ñ
A50: 3.1 | B50: Îï³ÏÝ ³Ýí³í»ñ ×³Ý³ã»Éáõ í»ñ³µ»ñÛ³É | E50: ='[1]kod 3.1'!J13 -> 1 | F50: =G50+H50+I50 -> 1 | G50: ='[1]kod 3.1'!J14 -> 1 | H50: ='[1]kod 3.1'!M3 -> 0 | I50: ='[1]kod 3.1'!N3 -> 0 | J50: 2 | K50: ='[1]kod 3.1'!J2 -> 1 | L50: ='[1]kod 3.1'!J3 -> 0 | M50: 1 | N50: =O50+P50+Q50 -> 0 | O50: ='[1]kod 3.1'!J7 -> 0 | P50: ='[1]kod 3.1'!J8 -> 0 | Q50: ='[1]kod 3.1'!J6 -> 0 | R50: ='[1]kod 3.1'!J5 -> 0 | S50: =J50+R50 -> 2 | T50: ='[1]kod 3.1'!J9 -> 0 | U50: ='[1]kod 3.1'!M2 -> 1 | V50: ='[1]kod 3.1'!G6 -> 0 | Y50: 0 | Z50: 0
A51: 3.2 | B51: ²Ý³ñÅ³Ý Å³é³Ý· ×³Ý³ã»Éáõ í»ñ³µ»ñÛ³É
A52: 3.3 | B52: Ä³é³Ý·áõÃÛáõÝÁ µ³Å³Ý»Éáõ í»ñ³µ»ñÛ³É | E52: ='[1]kod 3.3'!J13 -> 0 | F52: =G52+H52+I52 -> 1 | G52: ='[1]kod 3.3'!J14 -> 1 | H52: ='[1]kod 3.3'!M3 -> 0 | I52: ='[1]kod 3.3'!N3 -> 0 | J52: 1 | K52: ='[1]kod 3.3'!J2 -> 0 | L52: ='[1]kod 3.3'!J3 -> 0 | M52: ='[1]kod 3.3'!J4 -> 0 | N52: 1 | O52: ='[1]kod 3.3'!J7 -> 0 | P52: ='[1]kod 3.3'!J8 -> 0 | Q52: 1 | R52: ='[1]kod 3.3'!J5 -> 0 | S52: =J52+R52 -> 1 | T52: ='[1]kod 3.3'!J9 -> 0 | U52: 1 | V52: ='[1]kod 3.3'!G6 -> 0 | Y52: 0 | Z52: ='[1]kod 3.3'!J10 -> 0
A53: 3.4 | B53: ¶áõÛùÝ ³ÝÅ³é³Ý· ×³Ý³ã»Éáõ í»ñ³µ»ñÛ³É
A54: 3.5 | B54: Àëï ûñ»ÝùÇ Å³é³Ý·áõÃÛ³Ý Çñ³íáõÝùÇ íÏ³Û³Ï³ÝÝ ³Ýí³í»ñ ×³Ý³ã»Éáõ í»ñ³µ»ñÛ³É | E54: ='[1]kod 3.5'!J13 -> 0 | F54: 12 | G54: 7 | H54: ='[1]kod 3.5'!M3 -> 4 | I54: 1 | J54: 5 | K54: 3 | L54: ='[1]kod 3.5'!J3 -> 0 | M54: 2 | N54: =O54+P54+Q54 -> 0 | O54: ='[1]kod 3.5'!J7 -> 0 | P54: ='[1]kod 3.5'!J8 -> 0 | Q54: ='[1]kod 3.5'!J6 -> 0 | R54: ='[1]kod 3.5'!J5 -> 0 | S54: =J54+R54 -> 5 | T54: ='[1]kod 3.5'!J9 -> 1 | U54: 2 | V54: 1 | Y54: 1 | Z54: ='[1]kod 3.5'!J10 -> 0
A55: 3.6 | B55: Ä³é³Ý·áõÃÛáõÝÝ ÁÝ¹áõÝ»Éáõ µ³ó ÃáÕÝí³Í Å³ÙÏ»ïÁ Ñ³ñ·»ÉÇ Ñ³Ù³ñ»Éáõ í»ñ³µ»ñÛ³É | E55: ='[1]kod 3.6'!J13 -> 0 | F55: 3 | G55: 2 | H55: ='[1]kod 3.6'!M3 -> 0 | I55: 1 | J55: 2 | K55: ='[1]kod 3.6'!J2 -> 0 | L55: ='[1]kod 3.6'!J3 -> 0 | M55: 1 | N55: 1 | O55: ='[1]kod 3.6'!J7 -> 0 | P55: 1 | Q55: ='[1]kod 3.6'!J6 -> 0 | R55: ='[1]kod 3.6'!J5 -> 0 | S55: =J55+R55 -> 2 | T55: ='[1]kod 3.6'!J9 -> 0 | U55: ='[1]kod 3.6'!M2 -> 0 | V55: ='[1]kod 3.6'!G6 -> 0 | Y55: ='[1]kod 3.6'!J10+'[1]kod 3.6'!J11 -> 0 | Z55: ='[1]kod 3.6'!J10 -> 0
A56: 3.7 | B56: ²ÛÉ í»×»ñ | E56: ='[1]kod 3.7'!J13 -> 16 | F56: 44 | G56: 32 | H56: 11 | I56: 1 | J56: 29 | K56: 17 | L56: 1 | M56: 7 | N56: 4 | O56: 3 | P56: 1 | Q56: ='[1]kod 3.7'!J6 -> 0 | R56: ='[1]kod 3.7'!J5 -> 1 | S56: =J56+R56 -> 30 | T56: ='[1]kod 3.7'!J9 -> 0 | U56: 26 | V56: 5 | Y56: 18 | Z56: ='[1]kod 3.7'!J10 -> 1
A57: 4 | B57: ÀÝï³Ý»Ï³Ý Çñ³í³Ñ³ñ³µ»ñáõÃÛáõÝÝ»ñÇó Í³·áÕ í»×»ñ
A58: 4.1 | B58: ²ÙáõëÝ³ÉáõÍáõÃÛ³Ý í»ñ³µ»ñÛ³É | E58: ='[1]kod 4.1'!J13 -> 16 | F58: 107 | G58: 90 | H58: 17 | I58: ='[1]kod 4.1'!N3 -> 0 | J58: 82 | K58: 64 | L58: ='[1]kod 4.1'!J3 -> 1 | M58: ='[1]kod 4.1'!J4 -> 0 | N58: 17 | O58: ='[1]kod 4.1'!J7 -> 0 | P58: 16 | Q58: 1 | R58: ='[1]kod 4.1'!J5 -> 0 | S58: =J58+R58 -> 82 | T58: ='[1]kod 4.1'!J9 -> 1 | U58: 61 | V58: 3 | Y58: 23 | Z58: 1
A59: 4.2 | B59: ²ÉÇÙ»ÝïÇ å³Ñ³ÝçÇ í»ñ³µ»ñÛ³É | E59: ='[1]kod 4.2'!J13 -> 5 | F59: 34 | G59: 33 | H59: ='[1]kod 4.2'!M3 -> 1 | I59: ='[1]kod 4.2'!N3 -> 0 | J59: 28 | K59: 14 | L59: 10 | M59: ='[1]kod 4.2'!J4 -> 0 | N59: 4 | O59: ='[1]kod 4.2'!J7 -> 1 | P59: 3 | Q59: ='[1]kod 4.2'!J6 -> 0 | R59: ='[1]kod 4.2'!J5 -> 0 | S59: =J59+R59 -> 28 | T59: ='[1]kod 4.2'!J9 -> 1 | U59: 23 | V59: 1 | Y59: 9 | Z59: ='[1]kod 4.2'!J10 -> 1
A60: 4.3 | B60: ²ÉÇÙ»ÝïÇ ã³÷Á ÷á÷áË»Éáõ í»ñ³µ»ñÛ³É | E60: ='[1]kod 4.3'!J13 -> 0 | F60: 3 | G60: 3 | H60: ='[1]kod 4.3'!M3 -> 0 | I60: ='[1]kod 4.3'!N3 -> 0 | J60: 3 | K60: ='[1]kod 4.3'!J2 -> 0 | L60: ='[1]kod 4.3'!J3 -> 1 | M60: 2 | N60: =O60+P60+Q60 -> 0 | O60: ='[1]kod 4.3'!J7 -> 0 | P60: ='[1]kod 4.3'!J8 -> 0 | Q60: ='[1]kod 4.3'!J6 -> 0 | R60: ='[1]kod 4.3'!J5 -> 0 | S60: =J60+R60 -> 3 | T60: ='[1]kod 4.3'!J9 -> 0 | U60: 2 | V60: 1 | Y60: ='[1]kod 4.3'!J10+'[1]kod 4.3'!J11 -> 0 | Z60: ='[1]kod 4.3'!J10 -> 0
A61: 4.4 | B61: ÌÝáÕ³Ï³Ý Çñ³íáõÝùÝ»ñÇó ½ñÏ»Éáõ í»ñ³µ»ñÛ³É | E61: ='[1]kod 4.4'!J13 -> 0 | F61: 5 | G61: 5 | H61: ='[1]kod 4.4'!M3 -> 0 | I61: ='[1]kod 4.4'!N3 -> 0 | J61: 4 | K61: ='[1]kod 4.4'!J2 -> 0 | L61: ='[1]kod 4.4'!J3 -> 0 | M61: 2 | N61: 2 | O61: ='[1]kod 4.4'!J7 -> 0 | P61: 2 | Q61: ='[1]kod 4.4'!J6 -> 0 | R61: ='[1]kod 4.4'!J5 -> 0 | S61: =J61+R61 -> 4 | T61: ='[1]kod 4.4'!J9 -> 1 | U61: 3 | V61: ='[1]kod 4.4'!G6 -> 0 | Y61: 0 | Z61: ='[1]kod 4.4'!J10 -> 0
A62: 4.5 | B62: ÌÝáÕ³Ï³Ý Çñ³íáõÝùÝ»ñÁ í»ñ³Ï³Ý·Ý»Éáõ í»ñ³µ»ñÛ³É
A63: 4.6 | B63: ºñ»Ë³ÛÇ áñ¹»·ñÙ³Ý í»ñ³µ»ñÛ³É | E63: ='[1]kod 4.6'!J13 -> 0 | F63: =G63+H63+I63 -> 3 | G63: ='[1]kod 4.6'!J14 -> 2 | H63: ='[1]kod 4.6'!M3 -> 1 | I63: ='[1]kod 4.6'!N3 -> 0 | J63: 2 | K63: 2 | L63: ='[1]kod 4.6'!J3 -> 0 | M63: ='[1]kod 4.6'!J4 -> 0 | N63: =O63+P63+Q63 -> 0 | O63: ='[1]kod 4.6'!J7 -> 0 | P63: ='[1]kod 4.6'!J8 -> 0 | Q63: ='[1]kod 4.6'!J6 -> 0 | R63: ='[1]kod 4.6'!J5 -> 0 | S63: =J63+R63 -> 2 | T63: ='[1]kod 4.6'!J9 -> 0 | U63: 2 | V63: ='[1]kod 4.6'!G6 -> 0 | Y63: 0 | Z63: ='[1]kod 4.6'!J10 -> 0
A64: 4.7 | B64: ºñ»Ë³ÛÇ áñ¹»·ñáõÙÁ í»ñ³óÝ»Éáõ í»ñ³µ»ñÛ³É | E64: ='[1]kod 4.7'!J13 -> 0 | F64: =G64+H64+I64 -> 0 | G64: ='[1]kod 4.7'!J14 -> 0 | H64: ='[1]kod 4.7'!M3 -> 0 | I64: ='[1]kod 4.7'!N3 -> 0 | J64: =K64+L64+M64+N64 -> 0 | K64: ='[1]kod 4.7'!J2 -> 0 | L64: ='[1]kod 4.7'!J3 -> 0 | M64: ='[1]kod 4.7'!J4 -> 0 | N64: =O64+P64+Q64 -> 0 | O64: ='[1]kod 4.7'!J7 -> 0 | P64: ='[1]kod 4.7'!J8 -> 0 | Q64: ='[1]kod 4.7'!J6 -> 0 | R64: ='[1]kod 4.7'!J5 -> 0 | S64: =J64+R64 -> 0 | T64: ='[1]kod 4.7'!J9 -> 0 | U64: ='[1]kod 4.7'!M2 -> 0 | V64: ='[1]kod 4.7'!G6 -> 0 | Y64: ='[1]kod 4.7'!J10+'[1]kod 4.7'!J11 -> 0 | Z64: ='[1]kod 4.7'!J10 -> 0
A65: 4.8 | B65: Ð³ÛñáõÃÛáõÝÁ ×³Ý³ã»Éáõ í»ñ³µ»ñÛ³É | E65: ='[1]kod 4.8'!J13 -> 0 | F65: 1 | G65: 1 | H65: ='[1]kod 4.8'!M3 -> 0 | I65: ='[1]kod 4.8'!N3 -> 0 | J65: =K65+L65+M65+N65 -> 0 | K65: ='[1]kod 4.8'!J2 -> 0 | L65: ='[1]kod 4.8'!J3 -> 0 | M65: ='[1]kod 4.8'!J4 -> 0 | N65: =O65+P65+Q65 -> 0 | O65: ='[1]kod 4.8'!J7 -> 0 | P65: ='[1]kod 4.8'!J8 -> 0 | Q65: ='[1]kod 4.8'!J6 -> 0 | R65: ='[1]kod 4.8'!J5 -> 0 | S65: =J65+R65 -> 0 | T65: ='[1]kod 4.8'!J9 -> 0 | U65: ='[1]kod 4.8'!M2 -> 0 | V65: ='[1]kod 4.8'!G6 -> 0 | Y65: 1 | Z65: ='[1]kod 4.8'!J10 -> 0
A66: 4.9 | B66: ºñ»Ë³ÛÇ µÝ³ÏáõÃÛ³Ý í³ÛñÁ áñáß»Éáõ í»ñ³µ»ñÛ³É | E66: ='[1]kod 4.9'!J13 -> 1 | F66: 3 | G66: 3 | H66: ='[1]kod 4.9'!M3 -> 0 | I66: ='[1]kod 4.9'!N3 -> 0 | J66: =K66+L66+M66+N66 -> 2 | K66: ='[1]kod 4.9'!J2 -> 2 | L66: ='[1]kod 4.9'!J3 -> 0 | M66: ='[1]kod 4.9'!J4 -> 0 | N66: =O66+P66+Q66 -> 0 | O66: ='[1]kod 4.9'!J7 -> 0 | P66: ='[1]kod 4.9'!J8 -> 0 | Q66: ='[1]kod 4.9'!J6 -> 0 | R66: ='[1]kod 4.9'!J5 -> 0 | S66: =J66+R66 -> 2 | T66: ='[1]kod 4.9'!J9 -> 0 | U66: ='[1]kod 4.9'!M2 -> 1 | V66: ='[1]kod 4.9'!G6 -> 1 | Y66: 2 | Z66: ='[1]kod 4.9'!J10 -> 0
A67: 4.10 | B67: ºñ»Ë³ÛÇ Ñ»ï ï»ë³ÏóáõÃÛ³Ý Ï³ñ· ë³ÑÙ³Ý»Éáõ í»ñ³µ»ñÛ³É | E67: ='[1]kod 4.10'!J13 -> 2 | F67: 13 | G67: 12 | H67: ='[1]kod 4.10'!M3 -> 1 | I67: ='[1]kod 4.10'!N3 -> 0 | J67: 7 | K67: 2 | L67: 2 | M67: ='[1]kod 4.10'!J4 -> 0 | N67: 3 | O67: 1 | P67: 2 | Q67: ='[1]kod 4.10'!J6 -> 0 | R67: ='[1]kod 4.10'!J5 -> 0 | S67: 7 | T67: 2 | U67: 6 | V67: 1 | Y67: ='[1]kod 4.10'!J10+'[1]kod 4.10'!J11 -> 5 | Z67: ='[1]kod 4.10'!J10 -> 1
A68: 4.11 | B68: ²ÙáõëÇÝÝ»ñÇ ÁÝ¹Ñ³Ýáõñ ·áõÛùÁ µ³Å³Ý»Éáõ í»ñ³µ»ñÛ³É | E68: ='[1]kod 4.11'!J13 -> 0 | F68: 8 | G68: 7 | H68: 1 | I68: ='[1]kod 4.11'!N3 -> 0 | J68: 4 | K68: ='[1]kod 4.11'!J2 -> 0 | L68: ='[1]kod 4.11'!J3 -> 0 | M68: 1 | N68: 3 | O68: 2 | P68: 1 | Q68: ='[1]kod 4.11'!J6 -> 0 | R68: ='[1]kod 4.11'!J5 -> 0 | S68: =J68+R68 -> 4 | T68: ='[1]kod 4.11'!J9 -> 0 | U68: 4 | V68: 0 | Y68: 3 | Z68: ='[1]kod 4.11'!J10 -> 0
A69: 4.12 | B69: ²ÙáõëÝ³Ï³Ý å³ÛÙ³Ý³·ñÇ ÷á÷áËÙ³Ý Ï³Ù ÉáõÍÙ³Ý í»ñ³µ»ñÛ³É
A70: 4.13 | B70: ²ÛÉ í»×»ñ | E70: ='[1]kod 4.13'!J13 -> 1 | F70: 8 | G70: 7 | H70: ='[1]kod 4.13'!M3 -> 0 | I70: ='[1]kod 4.13'!N3 -> 1 | J70: 4 | K70: 1 | L70: ='[1]kod 4.13'!J3 -> 0 | M70: 1 | N70: 2 | O70: ='[1]kod 4.13'!J7 -> 0 | P70: 1 | Q70: 1 | R70: ='[1]kod 4.13'!J5 -> 0 | S70: =J70+R70 -> 4 | T70: ='[1]kod 4.13'!J9 -> 0 | U70: 3 | V70: ='[1]kod 4.13'!G6 -> 0 | Y70: 4 | Z70: 2
A71: 5. | B71: Øï³íáñ ë»÷³Ï³ÝáõÃÛáõÝ
A72: 5.1 | B72: ÈÇó»Ý½³ÛÇÝ å³ÛÙ³Ý³·ñÇ ÉáõÍÙ³Ý, ÷á÷áËÙ³Ý ¨ ³Ýí³í»ñáõÃÛ³Ý í»ñ³µ»ñÛ³É | E72: ='[1]kod 5.1'!J13 -> 0 | F72: =G72+H72+I72 -> 0 | G72: ='[1]kod 5.1'!J14 -> 0 | H72: ='[1]kod 5.1'!M3 -> 0 | I72: ='[1]kod 5.1'!N3 -> 0 | J72: =K72+L72+M72+N72 -> 0 | K72: ='[1]kod 5.1'!J2 -> 0 | L72: ='[1]kod 5.1'!J3 -> 0 | M72: ='[1]kod 5.1'!J4 -> 0 | N72: =O72+P72+Q72 -> 0 | O72: ='[1]kod 5.1'!J7 -> 0 | P72: ='[1]kod 5.1'!J8 -> 0 | Q72: ='[1]kod 5.1'!J6 -> 0 | R72: ='[1]kod 5.1'!J5 -> 0 | S72: =J72+R72 -> 0 | T72: ='[1]kod 5.1'!J9 -> 0 | U72: ='[1]kod 5.1'!M2 -> 0 | V72: 0 | Y72: ='[1]kod 5.1'!J10+'[1]kod 5.1'!J11 -> 0 | Z72: ='[1]kod 5.1'!J10 -> 0
A73: 5.2 | B73: Øï³íáñ ·áñÍáõÝ»áõÃÛ³Ý ³ñ¹ÛáõÝùÝ»ñ ëï»ÕÍ»Éáõ ¨ û·ï³·áñÍ»Éáõ å³ÛÙ³Ý³·ñÇ ÉáõÍÙ³Ý, ÷á÷áËÙ³Ý áõ ³Ýí³í»ñáõÃÛ³Ý í»ñ³µ»ñÛ³É
A74: 5.3 | B74: Ð»ÕÇÝ³Ï³ÛÇÝ ¨ Ñ³ñ³ÏÇó Çñ³íáõÝùÝ»ñÇ í»ñ³µ»ñÛ³É | E74: ='[1]kod 5.3'!J13 -> 0 | F74: 2 | G74: 2 | H74: ='[1]kod 5.3'!M3 -> 0 | I74: ='[1]kod 5.3'!N3 -> 0 | J74: =K74+L74+M74+N74 -> 0 | K74: ='[1]kod 5.3'!J2 -> 0 | L74: ='[1]kod 5.3'!J3 -> 0 | M74: ='[1]kod 5.3'!J4 -> 0 | N74: =O74+P74+Q74 -> 0 | O74: ='[1]kod 5.3'!J7 -> 0 | P74: ='[1]kod 5.3'!J8 -> 0 | Q74: ='[1]kod 5.3'!J6 -> 0 | R74: ='[1]kod 5.3'!J5 -> 0 | S74: =J74+R74 -> 0 | T74: 1 | U74: ='[1]kod 5.3'!M2 -> 0 | Y74: ='[1]kod 5.3'!J10+'[1]kod 5.3'!J11 -> 1 | Z74: ='[1]kod 5.3'!J10 -> 0
A75: 5.4 | B75: üÇñÙ³ÛÇÝ ³Ýí³ÝÙ³Ý í»ñ³µ»ñÛ³É
A76: 5.5 | B76: ²åñ³Ýù³ÛÇÝ Ýß³ÝÇ í»ñ³µ»ñÛ³É | E76: ='[1]kod 5.5'!J13 -> 0 | F76: =G76+H76+I76 -> 1 | G76: ='[1]kod 5.5'!J14 -> 1 | H76: ='[1]kod 5.5'!M3 -> 0 | I76: ='[1]kod 5.5'!N3 -> 0 | J76: =K76+L76+M76+N76 -> 0 | K76: ='[1]kod 5.5'!J2 -> 0 | L76: ='[1]kod 5.5'!J3 -> 0 | M76: ='[1]kod 5.5'!J4 -> 0 | N76: =O76+P76+Q76 -> 0 | O76: ='[1]kod 5.5'!J7 -> 0 | P76: ='[1]kod 5.5'!J8 -> 0 | Q76: ='[1]kod 5.5'!J6 -> 0 | R76: ='[1]kod 5.5'!J5 -> 0 | S76: =J76+R76 -> 0 | T76: ='[1]kod 5.5'!J9 -> 0 | U76: ='[1]kod 5.5'!M2 -> 0 | V76: ='[1]kod 5.5'!G6 -> 0 | Y76: ='[1]kod 5.5'!J10+'[1]kod 5.5'!J11 -> 1 | Z76: 0
A77: 5.6 | B77: ²ÛÉ í»×»ñ
A78: 6. | B78: ²ßË³ï³Ýù³ÛÇÝ í»×»ñ
A79: 6.1 | B79: ²ßË³ï³Ýù³ÛÇÝ å³ÛÙ³Ý³·ñ»ñÇ í»ñ³µ»ñÛ³É
A80: 6.2 | B80: ²ßË³ï³ÝùáõÙ í»ñ³Ï³Ý·Ý»Éáõ í»ñ³µ»ñÛ³É | E80: ='[1]kod 6.2'!J13 -> 0 | F80: 2 | G80: 2 | H80: ='[1]kod 6.2'!M3 -> 0 | I80: ='[1]kod 6.2'!N3 -> 0 | J80: 1 | K80: 1 | L80: ='[1]kod 6.2'!J3 -> 0 | M80: ='[1]kod 6.2'!J4 -> 0 | N80: =O80+P80+Q80 -> 0 | O80: ='[1]kod 6.2'!J7 -> 0 | P80: ='[1]kod 6.2'!J8 -> 0 | Q80: ='[1]kod 6.2'!J6 -> 0 | R80: ='[1]kod 6.2'!J5 -> 0 | S80: =J80+R80 -> 1 | T80: ='[1]kod 6.2'!J9 -> 0 | U80: ='[1]kod 6.2'!M2 -> 0 | V80: 1 | Y80: 1 | Z80: ='[1]kod 6.2'!J10 -> 0
A81: 6.3 | B81: ¶áñÍ³¹áõÉÝ ³ÝûñÇÝ³Ï³Ý ×³Ý³ã»Éáõ í»ñ³µ»ñÛ³É
A82: 6.4 | B82: Ð³ñÏ³¹Çñ å³ñ³åáõñ¹Ç Ñ³ïáõóÙ³Ý í»ñ³µ»ñÛ³É
A83: 6.5 | B83: âí×³ñí³Í ³ßË³ï³í³ñÓÇ ¨/Ï³Ù ³ÛÉ í×³ñÝ»ñÇ µéÝ³·³ÝÓÙ³Ý í»ñ³µ»ñÛ³É | E83: ='[1]kod 6.5'!J13 -> 2 | F83: 6 | G83: 5 | H83: 1 | I83: ='[1]kod 6.5'!N3 -> 0 | J83: 5 | K83: ='[1]kod 6.5'!J2 -> 2 | L83: 1 | M83: ='[1]kod 6.5'!J4 -> 0 | N83: =O83+P83+Q83 -> 2 | O83: ='[1]kod 6.5'!J7 -> 0 | P83: ='[1]kod 6.5'!J8 -> 2 | Q83: ='[1]kod 6.5'!J6 -> 0 | R83: ='[1]kod 6.5'!J5 -> 0 | S83: =J83+R83 -> 5 | T83: ='[1]kod 6.5'!J9 -> 0 | U83: 5 | V83: ='[1]kod 6.5'!G6 -> 0 | Y83: ='[1]kod 6.5'!J10+'[1]kod 6.5'!J11 -> 2 | Z83: ='[1]kod 6.5'!J10 -> 1
A84: 6.6 | B84: ²ÛÉ í»×»ñ | E84: ='[1]kod 6.6'!J13 -> 2 | F84: 4 | G84: 4 | H84: ='[1]kod 6.6'!M3 -> 0 | I84: ='[1]kod 6.6'!N3 -> 0 | J84: 6 | K84: 1 | L84: ='[1]kod 6.6'!J3 -> 0 | M84: 4 | N84: =O84+P84+Q84 -> 1 | O84: ='[1]kod 6.6'!J7 -> 0 | P84: ='[1]kod 6.6'!J8 -> 1 | Q84: ='[1]kod 6.6'!J6 -> 0 | R84: ='[1]kod 6.6'!J5 -> 0 | S84: =J84+R84 -> 6 | T84: ='[1]kod 6.6'!J9 -> 0 | U84: ='[1]kod 6.6'!M2 -> 3 | V84: 3 | Y84: 0 | Z84: ='[1]kod 6.6'!J10 -> 0
A85: 7. | B85: Æñ³í³µ³Ý³Ï³Ý ³ÝÓÇ ·áñÍáõÝ»áõÃÛ³Ý í»ñ³µ»ñÛ³É
A86: 7.1 | B86: Îáñåáñ³ïÇí í»×»ñ | E86: ='[1]kod 7.1'!J13 -> 0 | F86: =G86+H86+I86 -> 1 | G86: ='[1]kod 7.1'!J14 -> 1 | H86: ='[1]kod 7.1'!M3 -> 0 | I86: ='[1]kod 7.1'!N3 -> 0 | J86: =K86+L86+M86+N86 -> 0 | K86: ='[1]kod 7.1'!J2 -> 0 | L86: ='[1]kod 7.1'!J3 -> 0 | M86: ='[1]kod 7.1'!J4 -> 0 | N86: =O86+P86+Q86 -> 0 | O86: ='[1]kod 7.1'!J7 -> 0 | P86: ='[1]kod 7.1'!H8 -> 0 | Q86: ='[1]kod 7.1'!J6 -> 0 | R86: ='[1]kod 7.1'!J5 -> 0 | S86: =J86+R86 -> 0 | T86: ='[1]kod 7.1'!J9 -> 0 | U86: ='[1]kod 7.1'!M2 -> 0 | V86: ='[1]kod 7.1'!G6 -> 0 | Y86: ='[1]kod 7.1'!J10+'[1]kod 7.1'!J11 -> 1 | Z86: ='[1]kod 7.1'!J10 -> 0
A87: 7.2 | B87: ²ÛÉ í»×»ñ | E87: ='[1]kod 7.2'!J13 -> 2 | F87: =G87+H87+I87 -> 0 | G87: ='[1]kod 7.2'!J14 -> 0 | H87: ='[1]kod 7.2'!M3 -> 0 | I87: ='[1]kod 7.2'!N3 -> 0 | J87: =K87+L87+M87+N87 -> 1 | K87: ='[1]kod 7.2'!J2 -> 0 | L87: ='[1]kod 7.2'!J3 -> 0 | M87: ='[1]kod 7.2'!J4 -> 0 | N87: =O87+P87+Q87 -> 1 | O87: ='[1]kod 7.2'!J7 -> 0 | P87: ='[1]kod 7.2'!J8 -> 1 | Q87: ='[1]kod 7.2'!J6 -> 0 | R87: ='[1]kod 7.2'!J5 -> 0 | S87: =J87+R87 -> 1 | T87: ='[1]kod 7.2'!J9 -> 0 | U87: ='[1]kod 7.2'!M2 -> 1 | V87: 0 | Y87: ='[1]kod 7.2'!J10+'[1]kod 7.2'!J11 -> 1 | Z87: 0
A88: 8. | B88: Ð³ïáõÏ í³ñáõÛÃÇ ·áñÍ»ñ
A89: 8.1 | B89: ²Ýã³÷³Ñ³ëÇÝ ÉñÇí ·áñÍáõÝ³Ï ×³Ý³ã»Éáõ /¿Ù³ÝëÇå³óÇ³/ í»ñ³µ»ñÛ³É
A90: 8.2 | B90: ø³Õ³ù³óáõÝ ³Ý·áñÍáõÝ³Ï Ï³Ù ë³ÑÙ³Ý³÷³Ï ·áñÍáõÝ³Ï ×³Ý³ã»Éáõ í»ñ³µ»ñÛ³É | E90: ='[1]kod 8.2'!J13 -> 6 | F90: 14 | G90: 11 | H90: 2 | I90: ='[1]kod 8.2'!N3 -> 1 | J90: 12 | K90: 11 | L90: ='[1]kod 8.2'!J3 -> 0 | M90: ='[1]kod 8.2'!J4 -> 0 | N90: =O90+P90+Q90 -> 1 | O90: ='[1]kod 8.2'!J7 -> 0 | P90: ='[1]kod 8.2'!J8 -> 0 | Q90: ='[1]kod 8.2'!J6 -> 1 | R90: ='[1]kod 8.2'!J5 -> 0 | S90: =J90+R90 -> 12 | T90: ='[1]kod 8.2'!J9 -> 0 | U90: 9 | V90: ='[1]kod 8.2'!G6 -> 0 | Y90: 5 | Z90: 4
A91: 8.3 | B91: ø³Õ³ù³óáõÝ Ñá·»µáõÅ³Ï³Ý ÑÇí³Ý¹³Ýáó³ÛÇÝ Ñ³ñÏ³¹Çñ µáõÅÙ³Ý »ÝÃ³ñÏ»Éáõ í»ñ³µ»ñÛ³É
A92: 8.4 | B92: ø³Õ³ù³óáõÝ ³ÝÑ³Ûï µ³ó³Ï³ÛáÕ Ï³Ù Ù³Ñ³ó³Í ×³Ý³ã»Éáõ í»ñ³µ»ñÛ³É | E92: ='[1]kod 8.4'!J13 -> 7 | F92: 28 | G92: 25 | H92: 3 | I92: ='[1]kod 8.4'!N3 -> 0 | J92: 23 | K92: 15 | L92: ='[1]kod 8.4'!J3 -> 1 | M92: 5 | N92: 2 | O92: ='[1]kod 8.4'!J7 -> 0 | P92: 2 | Q92: ='[1]kod 8.4'!J6 -> 0 | R92: ='[1]kod 8.4'!J5 -> 0 | S92: =J92+R92 -> 23 | T92: ='[1]kod 8.4'!J9 -> 0 | U92: 21 | V92: 1 | X92: ='[1]kod 8.4'!G7 -> 1 | Y92: 9 | Z92: ='[1]kod 8.4'!J10 -> 0
A93: 8.5 | B93: ø³Õ³ù³óÇ³Ï³Ý Ï³óáõÃÛ³Ý ³Ïï»ñÇ ·ñ³éáõÙÝ»ñÇ ³Ý×ßïáõÃÛáõÝÝ»ñÁ å³ñ½»Éáõ í»ñ³µ»ñÛ³É | E93: ='[1]kod 8.5'!J13 -> 0 | F93: 1 | G93: 1 | H93: ='[1]kod 8.5'!M3 -> 0 | I93: ='[1]kod 8.5'!N3 -> 0 | J93: 1 | K93: ='[1]kod 8.5'!J2 -> 0 | L93: ='[1]kod 8.5'!J3 -> 0 | M93: 1 | N93: =O93+P93+Q93 -> 0 | O93: ='[1]kod 8.5'!J7 -> 0 | P93: ='[1]kod 8.5'!J8 -> 0 | Q93: ='[1]kod 8.5'!J6 -> 0 | R93: ='[1]kod 8.5'!J5 -> 0 | S93: =J93+R93 -> 1 | T93: ='[1]kod 8.5'!J9 -> 0 | U93: ='[1]kod 8.5'!M2 -> 0 | V93: ='[1]kod 8.5'!G6 -> 0 | Y93: ='[1]kod 8.5'!J10+'[1]kod 8.5'!J11 -> 0 | Z93: ='[1]kod 8.5'!J10 -> 0
A94: 8.6 | B94: ¶áõÛùÁ ïÇñ³½áõñÏ ×³Ý³ã»Éáõ í»ñ³µ»ñÛ³É | E94: ='[1]kod 8.6'!J13 -> 1 | F94: 2 | G94: 2 | H94: ='[1]kod 8.6'!M3 -> 0 | I94: ='[1]kod 8.6'!N3 -> 0 | J94: 2 | K94: ='[1]kod 8.6'!J2 -> 0 | L94: ='[1]kod 8.6'!J3 -> 0 | M94: ='[1]kod 8.6'!J4 -> 0 | N94: 2 | O94: ='[1]kod 8.6'!J7 -> 0 | P94: 2 | Q94: ='[1]kod 8.6'!J6 -> 0 | R94: ='[1]kod 8.6'!J5 -> 0 | S94: =J94+R94 -> 2 | T94: ='[1]kod 8.6'!J9 -> 0 | U94: 2 | V94: ='[1]kod 8.6'!G6 -> 0 | Y94: 1 | Z94: ='[1]kod 8.6'!J10 -> 0
A95: 8.6.1 | B95: ²Û¹ ÃíáõÙª ³Ýß³ñÅ ·áõÛùÁ | E95: ='[1]kod 8.6.1'!J13 -> 0 | F95: 9 | G95: 9 | H95: ='[1]kod 8.6.1'!M3 -> 0 | I95: ='[1]kod 8.6.1'!N3 -> 0 | J95: 4 | K95: 2 | L95: ='[1]kod 8.6.1'!J3 -> 0 | M95: 2 | N95: =O95+P95+Q95 -> 0 | O95: ='[1]kod 8.6.1'!J7 -> 0 | P95: ='[1]kod 8.6.1'!J8 -> 0 | Q95: ='[1]kod 8.6.1'!J6 -> 0 | R95: ='[1]kod 8.6.1'!J5 -> 0 | S95: =J95+Q95 -> 4 | T95: ='[1]kod 8.6.1'!J9 -> 0 | U95: 3 | V95: 1 | Y95: ='[1]kod 8.6.1'!J10+'[1]kod 8.6.1'!J11 -> 5 | Z95: 1
A96: 8.6.2 | B96: ²Û¹ ÃíáõÙª ß³ñÅ³Ï³Ý ·áõÛùÁ | E96: ='[1]kod 8.6.2'!J13 -> 0 | F96: =G96+H96+I96 -> 0 | G96: ='[1]kod 8.6.2'!J14 -> 0 | H96: ='[1]kod 8.6.2'!M3 -> 0 | I96: ='[1]kod 8.6.2'!N3 -> 0 | J96: =K96+L96+M96+N96 -> 0 | K96: ='[1]kod 8.6.2'!J2 -> 0 | L96: ='[1]kod 8.6.2'!J3 -> 0 | M96: ='[1]kod 8.6.2'!J4 -> 0 | N96: =O96+P96+Q96 -> 0 | O96: ='[1]kod 8.6.2'!J7 -> 0 | P96: ='[1]kod 8.6.2'!J8 -> 0 | Q96: ='[1]kod 8.6.2'!J6 -> 0 | R96: ='[1]kod 8.6.2'!J5 -> 0 | S96: =J96+R96 -> 0 | T96: ='[1]kod 8.6.2'!J9 -> 0 | U96: ='[1]kod 8.6.2'!M2 -> 0 | V96: ='[1]kod 8.6.2'!G6 -> 0 | Y96: ='[1]kod 8.6.2'!J10+'[1]kod 8.6.2'!J11 -> 0 | Z96: ='[1]kod 8.6.2'!J10 -> 0
A97: 8.7 | B97: Æñ³í³µ³Ý³Ï³Ý Ýß³Ý³ÏáõÃÛáõÝ áõÝ»óáÕ ÷³ëï»ñÇ Ñ³ëï³ïÙ³Ý í»ñ³µ»ñÛ³É | E97: ='[1]kod 8.7'!J13 -> 2 | F97: 10 | G97: 6 | H97: 1 | I97: 3 | J97: 8 | K97: 3 | L97: ='[1]kod 8.7'!J3 -> 0 | M97: 4 | N97: 1 | O97: ='[1]kod 8.7'!J7 -> 0 | P97: 1 | Q97: ='[1]kod 8.7'!J6 -> 0 | R97: ='[1]kod 8.7'!J5 -> 0 | S97: =J97+R97 -> 8 | T97: ='[1]kod 8.7'!J9 -> 0 | U97: 7 | V97: 2 | Y97: 0 | Z97: ='[1]kod 8.7'!J10 -> 0
A98: 8.7.1 | B98: ²ÝÓ³Ýó ³½·³Ïó³Ï³Ý Ï³åÁ Ñ³ëï³ï»Éáõ í»ñ³µ»ñÛ³É | E98: ='[1]kod 8.7.1'!J13 -> 6 | F98: 34 | G98: 20 | H98: 14 | I98: ='[1]kod 8.7.1'!N3 -> 0 | J98: 25 | K98: 19 | L98: 2 | M98: 1 | N98: 3 | O98: ='[1]kod 8.7.1'!J7 -> 0 | P98: 2 | Q98: 1 | R98: ='[1]kod 8.7.1'!J5 -> 0 | S98: 25 | T98: ='[1]kod 8.7.1'!J9 -> 0 | U98: 21 | V98: ='[1]kod 8.7.1'!G6 -> 1 | Y98: 1 | Z98: ='[1]kod 8.7.1'!J10 -> 0
A99: 8.7.2 | B99: ²ÝÓÇª áõñÇßÇ ËÝ³ÙùÇ ï³Ï ·ïÝí»Éáõ í»ñ³µ»ñÛ³É
A100: 8.7.3 | B100: ÌÝÝ¹Û³Ý, áñ¹»·ñÙ³Ý, ³ÙáõëÝáõÃÛ³Ý, ³å³Ñ³ñ½³ÝÇ ¨ Ù³Ñí³Ý ·ñ³ÝóÙ³Ý í»ñ³µ»ñÛ³É | E100: ='[1]kod 8.7.3'!J13 -> 0 | F100: 31 | G100: 21 | H100: 8 | I100: 2 | J100: 19 | K100: 16 | L100: 1 | M100: 1 | N100: 1 | O100: ='[1]kod 8.7.3'!J7 -> 0 | P100: ='[1]kod 8.7.3'!J8 -> 1 | Q100: ='[1]kod 8.7.3'!J6 -> 0 | R100: ='[1]kod 8.7.3'!J5 -> 0 | S100: =J100+R100 -> 19 | T100: ='[1]kod 8.7.3'!J9 -> 0 | U100: 17 | V100: 1 | Y100: 2 | Z100: ='[1]kod 8.7.3'!J10 -> 0
A101: 8.7.4 | B101: ²ÝÓÇª áñáß³ÏÇ Å³Ù³Ý³ÏáõÙ ¨ áñáß³ÏÇ Ñ³Ý·³Ù³ÝùÝ»ñáõÙ Ù³Ñí³Ý í»ñ³µ»ñÛ³É
A102: 8.7.5 | B102: Ä³é³Ý·áõÃÛáõÝÝ ÁÝ¹áõÝ»Éáõ ¨ Å³é³Ý·áõÃÛ³Ý µ³óÙ³Ý í³ÛñÇ í»ñ³µ»ñÛ³É | E102: ='[1]kod 8.7.5'!J13 -> 1 | F102: 0 | G102: ='[1]kod 8.7.5'!J14 -> 0 | H102: ='[1]kod 8.7.5'!M3 -> 0 | I102: 0 | J102: 1 | K102: ='[1]kod 8.7.5'!J2 -> 0 | L102: ='[1]kod 8.7.5'!J3 -> 0 | M102: ='[1]kod 8.7.5'!J4 -> 0 | N102: 1 | O102: ='[1]kod 8.7.5'!J7 -> 0 | P102: 1 | Q102: ='[1]kod 8.7.5'!J6 -> 0 | R102: ='[1]kod 8.7.5'!J5 -> 0 | S102: =J102+R102 -> 1 | T102: ='[1]kod 8.7.5'!J9 -> 0 | U102: 1 | V102: ='[1]kod 8.7.5'!G6 -> 0 | Y102: 0 | Z102: ='[1]kod 8.7.5'!J10 -> 0
A103: 8.7.6 | B103: ¸Åµ³Ëï å³ï³Ñ³ñÇ í»ñ³µ»ñÛ³É
A104: 8.7.7 | B104: Æñ³íáõÝù ë³ÑÙ³ÝáÕ ÷³ëï³ÃÕÃ»ñÇ å³ïÏ³Ý»ÉáõÃÛ³Ý í»ñ³µ»ñÛ³É | E104: ='[1]kod 8.7.7'!J13 -> 5 | F104: 28 | G104: 19 | H104: 6 | I104: 3 | J104: 23 | K104: 20 | L104: ='[1]kod 8.7.7'!J3 -> 0 | M104: ='[1]kod 8.7.7'!J4 -> 2 | N104: =O104+P104+Q104 -> 1 | O104: ='[1]kod 8.7.7'!J7 -> 0 | P104: ='[1]kod 8.7.7'!J8 -> 1 | Q104: ='[1]kod 8.7.7'!J6 -> 0 | R104: ='[1]kod 8.7.7'!J5 -> 0 | S104: =J104+R104 -> 23 | T104: ='[1]kod 8.7.7'!J9 -> 0 | U104: 21 | V104: ='[1]kod 8.7.7'!G6 -> 0 | X104: 1 | Y104: 1 | Z104: ='[1]kod 8.7.7'!J10 -> 0
A105: 8.7.8 | B105: ê»÷³Ï³ÝáõÃÛ³Ý Çñ³íáõÝùáí ·áõÛùÇ ïÇñ³å»ïÙ³Ý í»ñ³µ»ñÛ³É | E105: ='[1]kod 8.7.8'!J13 -> 2 | F105: 5 | G105: 4 | H105: ='[1]kod 8.7.8'!M3 -> 1 | I105: ='[1]kod 8.7.8'!N3 -> 0 | J105: 4 | K105: 3 | L105: ='[1]kod 8.7.8'!J3 -> 0 | M105: ='[1]kod 8.7.8'!J4 -> 0 | N105: =O105+P105+Q105 -> 1 | O105: ='[1]kod 8.7.8'!J7 -> 0 | P105: ='[1]kod 8.7.8'!J8 -> 1 | Q105: ='[1]kod 8.7.8'!J6 -> 0 | R105: ='[1]kod 8.7.8'!J5 -> 1 | S105: =J105+R105 -> 5 | T105: ='[1]kod 8.7.8'!J9 -> 0 | U105: 5 | V105: ='[1]kod 8.7.8'!G6 -> 0 | Y105: 1 | Z105: ='[1]kod 8.7.8'!J10 -> 0
A106: 8.7.9 | B106: ²ÝÑ³ÕÃ³Ñ³ñ»ÉÇ áõÅÇ ³éÏ³ÛáõÃÛ³Ý í»ñ³µ»ñÛ³É
A107: 8.8 | B107: Àëï Ý»ñÏ³Û³óÝáÕÇ ¨ ûñ¹»ñ³ÛÇÝ Ïáñóñ³Í ³ñÅ»ÃÕÃ»ñáí Ñ³í³ëïí³Í Çñ³íáõÝùÝ»ñÁ í»ñ³Ï³Ý·Ý»Éáõ í»ñ³µ»ñÛ³É
A108: 8.9 | B108: Ð³ñÏ³¹Çñ Ï³ï³ñáÕÇ ¹ÇÙáõÙáí ÏáÕÙ»ñÇ Ñ³ßïáõÃÛ³Ý Ñ³Ù³Ó³ÛÝáõÃÛ³Ý ÑÇÙ³Ý íñ³ ¹³ï³ñ³ÝÇª ·áñÍÝ Áëï ¿áõÃÛ³Ý ÉáõÍáÕ ¹³ï³Ï³Ý ³ÏïÇ í»ñ³Ý³ÛÙ³Ý í»ñ³µ»ñÛ³É
A109: 8.10 | B109: ²ÛÉ í»×»ñ | E109: ='[1]kod 8.10'!J13 -> 0 | F109: 3 | G109: ='[1]kod 8.10'!J14 -> 3 | H109: ='[1]kod 8.10'!M3 -> 0 | I109: 0 | J109: =K109+L109+M109+N109 -> 3 | K109: ='[1]kod 8.10'!J2 -> 3 | L109: ='[1]kod 8.10'!J3 -> 0 | M109: ='[1]kod 8.10'!J4 -> 0 | N109: =O109+P109+Q109 -> 0 | O109: ='[1]kod 8.10'!J7 -> 0 | P109: ='[1]kod 8.10'!J8 -> 0 | Q109: ='[1]kod 8.10'!J6 -> 0 | R109: ='[1]kod 8.10'!J5 -> 0 | S109: =J109+R109 -> 3 | T109: ='[1]kod 8.10'!J9 -> 0 | U109: ='[1]kod 8.10'!M2 -> 3 | V109: ='[1]kod 8.10'!G6 -> 0 | Y109: ='[1]kod 8.10'!J10+'[1]kod 8.10'!J11 -> 0 | Z109: ='[1]kod 8.10'!J10 -> 0
A110: 9. | B110: Ð³ïáõÏ Ñ³Ûó³ÛÇÝ í³ñáõÛÃÇ ·áñÍ»ñ
A111: 9.1 | B111: ø³Õ³ù³óáõ ÏÛ³ÝùÇÝ Ï³Ù ³éáÕçáõÃÛ³ÝÝ ëå³éÝ³óáÕ íï³Ý·Ç í»ñ³µ»ñÛ³É
...

Sheet Արաբկիր
A1: Ð²ÞìºîìàôÂÚàôÜ
A2: ø²Ô²ø²òÆ²Î²Ü ¶àðÌºðÆ øÜÜàôÂÚ²Ü ìºð²´ºðÚ²È
A3: 2009Ã. ï³ñí³ Ñ³Ù³ñ
A5: êïáõ·Çã Ñ³í³ë³ñáõÙÝ»ñª 2=3+4+5, 1+3=15+16+21, 6=7+8+9+10, 10=11+12+13, 15=6+14, | E5: ²Ý³í³ñï ·áñÍ»ñÇ ÙÝ³óáñ¹Á Ñ³ßí»ïáõ Å³Ù³Ý³Ï³ßñç³ÝÇ ëÏ½µáõÙ | F5: êï³óí³Í Ñ³Ûó»ñÇ,¹ÇÙáõÙÝ»ñÇ (·áñÍ»ñ)ù³Ý³ÏÁ | J5: ²í³ñïí»É »Ý ·áñÍ»ñ Ñ³ßí»ïáõ Å³Ù³Ý³Ï³ßñç³ÝáõÙ | T5: ¶áñÍÝ áõÕ³ñÏí»É ¿ Áëï ÁÝ¹¹³ïáõÃÛ³Ý | U5: Øï»É »Ý ûñÇÝ³Ï³Ý áõÅÇ Ù»ç | V5: ´áÕáù³ñÏí»É »Ý í»ñ³ùÝÝÇã ¹³ï³ñ³Ý | Y5: ²Ý³í³ñï ·áñÍ»ñÇ ÙÝ³óáñ¹Á Ñ³ßí»ïáõ Å³Ù³Ý³Ï³ßñç³ÝÇ í»ñçáõÙ | Z5: ²Û¹ ÃíáõÙª Ï³ë»óí³Í
F8: ÀÝ¹³Ù»ÝÁ | G8: ²Û¹ ÃíáõÙª ÁÝ¹áõÝí»É ¿ í³ñáõÛÃ | H8: ²Û¹ ÃíáõÙª í»ñ³¹³ñÓí»É ¿ | I8: ²Û¹ ÃíáõÙª Ñ³Ûó»ñÇ (¹ÇÙáõÙÝ»ñÇ) ÁÝ¹áõÝáõÙÁ Ù»ñÅí»É ¿ | J8: ÀÝ¹³Ù»ÝÁ ³í³ñïí»É »Ý ·áñÍ»ñ í×éÇ Ï³Û³óáõÙáí | K8: ²Û¹ ÃíáõÙª Ñ³ÛóÇ µ³í³ñ³ñÙ³Ùµ | L8: ²Û¹ ÃíáõÙª Ñ³ÛóÇ Ù³ëÝ³ÏÇ µ³í³ñ³ñÙ³Ùµ | M8: ²Û¹ ÃíáõÙª Ñ³ÛóÇ Ù»ñÅÙ³Ùµ | N8: ²Û¹ ÃíáõÙª Ï³ñ×í»É »Ý | R8: Ð³ÛóÁ ÃáÕÝí»É ¿ ³é³Ýó ùÝÝáõÃÛ³Ý | S8: ÀÝ¹³Ù»ÝÝ ³í³ñïí»É »Ý ·áñÍ»ñ | V8: Ï³Û³óí³Í í×ÇéÝ»ñÇ ¹»Ù | W8: ³é³Ýó ùÝÝáõÃÛ³Ý ÃáÕÝ»Éáõ Ù³ëÇÝ áñáßáõÙÝ»ñÇ ¹»Ù | X8: ÙÇç³ÝÏÛ³É ¹³ï³Ï³Ý ³Ïï»ñÇ ¹»Ù
N11: ÀÝ¹³Ù»ÝÁ Ï³ñ×í»É »Ý | O11: ²Û¹ ÃíáõÙª Ñ³ëï³ïí»É ¿ ÏÝùí³Í Ñ³ßïáõÃÛ³Ý Ñ³Ù³Ó³ÛÝáõÃÛáõÝÁ | P11: ²Û¹ ÃíáõÙª Ñ³óÇó, ¹ÇÙáõÙÇó Ññ³Å³ñí»Éáõ ÑÇÙùáí | Q11: ²Û¹ ÃíáõÙª ³ÛÉ ÑÇÙùáí
A19: Æñ³í³Ñ³ñ³µ»ñáõÃÛáõÝÝ»ñÇ ï»ë³ÏÝ»ñÁ | E19: 1 | F19: 2 | G19: 3 | H19: 4 | I19: 5 | J19: 6 | K19: 7 | L19: 8 | M19: 9 | N19: 10 | O19: 11 | P19: 12 | Q19: 13 | R19: 14 | S19: 15 | T19: 16 | U19: 17 | V19: 18 | W19: 19 | X19: 20 | Y19: 21 | Z19: 22
A20: 1. | B20: ¶áõÛù³ÛÇÝ í»×»ñ
A21: 1.1 | B21: ¶áõÛùÇ ÝÏ³ïÙ³Ùµ ë»÷³Ï³ÝáõÃÛ³Ý Çñ³íáõÝùÁ ×³Ý³ã»Éáõ í»ñ³µ»ñÛ³É | E21: 16 | F21: 55 | G21: 42 | H21: 11 | I21: 2 | J21: 30 | K21: 19 | M21: 6 | N21: 5 | O21: 1 | P21: 4 | S21: 30 | U21: 28 | V21: 2 | Y21: 28
A22: 1.1.1 | B22: ²Û¹ ÃíáõÙª Ó»éùµ»ñÙ³Ý í³Õ»ÙáõÃÛ³Ý áõÅáí | E22: 15 | F22: 38 | G22: 36 | H22: 2 | J22: 35 | K22: 29 | M22: 3 | N22: 3 | O22: 1 | P22: 2 | S22: 35 | U22: 24 | V22: 11 | Y22: 16
A23: 1.1.2 | B23: ²Û¹ ÃíáõÙª ïÇñ³½áõñÏ ·áõÛùÇ ÝÏ³ïÙ³Ùµ | E23: 0
A24: 1.1.3 | B24: ²Û¹ ÃíáõÙª ÇÝùÝ³Ï³Ù Ï³éáõÛóÇ ÝÏ³ïÙ³Ùµ | E24: 2 | F24: 1 | H24: 1 | J24: 2 | K24: 2 | S24: 2 | U24: 2
A25: 1.2 | B25: ê»÷³Ï³ÝáõÃÛ³Ý Çñ³íáõÝùÇ ¹³¹³ñ»óÙ³Ý í»ñ³µ»ñÛ³É | E25: 1 | F25: 3 | G25: 2 | H25: 1 | J25: 1 | K25: 1 | S25: 1 | U25: 1 | Y25: 2
A26: 1.3 | B26: ¶áõÛùÇ ÝÏ³ïÙ³Ùµ û·ï³·áñÍÙ³Ý Çñ³íáõÝùÁ ×³Ý³ã»Éáõ í»ñ³µ»ñÛ³É | E26: 0 | F26: 1 | G26: 1 | Y26: 1
A27: 1.3.1 | B27: ²Û¹ ÃíáõÙª µÝ³Ïû·ï³·áñÍÙ³Ý Çñ³íáõÝùÁ ×³Ý³ã»Éáõ í»ñ³µ»ñÛ³É | E27: 0
A28: 1.3.2 | B28: ²Û¹ ÃíáõÙª ÑáÕ³Ù³ëÇ ÝÏ³ïÙ³Ùµ û·ï³·áñÍÙ³Ý Çñ³íáõÝùÁ ×³Ý³ã»Éáõ í»ñ³µ»ñÛ³É | E28: 1 | J28: 1 | K28: 1 | S28: 1 | U28: 1
A29: 1.4 | B29: ¶áõÛùÇ ÝÏ³ïÙ³Ùµ û·ï³·áñÍÙ³Ý Çñ³íáõÝùÁ ¹³¹³ñ»óÝ»Éáõ í»ñ³µ»ñÛ³É | E29: 2 | F29: 1 | G29: 1 | J29: 3 | K29: 1 | M29: 1 | N29: 1 | Q29: 1 | S29: 3 | U29: 3
A30: 1.4.1 | B30: ²Û¹ ÃíáõÙª µÝ³Ïû·ï³·áñÍÙ³Ý Çñ³íáõÝùÁ ¹³¹³ñ»óÝ»Éáõ í»ñ³µ»ñÛ³É | E30: 10 | F30: 5 | G30: 4 | H30: 1 | J30: 8 | K30: 7 | N30: 1 | P30: 1 | S30: 8 | U30: 5 | V30: 3 | Y30: 6
A31: 1.4.1/1 | B31: ²Û¹ ÃíáõÙª ÷áËÑ³ïáõóÙ³Ùµ | E31: 5 | F31: 4 | G31: 4 | J31: 8 | K31: 6 | N31: 2 | P31: 2 | S31: 8 | U31: 6 | V31: 2 | Y31: 1
A32: 1.5 | B32: ´Ý³Ï³ñ³ÝÇó/ ï³ñ³ÍùÇó/ íï³ñ»Éáõ í»ñ³µ»ñÛ³É | E32: 10 | F32: 22 | G32: 21 | H32: 1 | J32: 20 | K32: 11 | L32: 2 | M32: 4 | N32: 3 | O32: 1 | P32: 2 | S32: 20 | U32: 10 | V32: 10 | Y32: 11
A33: 1.6 | B33: ¶áõÛùÝ áõñÇßÇ ³åûñÇÝÇ ïÇñ³å»ïáõÙÇó »ï í»ñ³¹³ñÓÝ»Éáõ í»ñ³µ»ñÛ³É | E33: 5 | F33: 25 | G33: 22 | H33: 2 | I33: 1 | J33: 17 | K33: 8 | L33: 4 | M33: 3 | N33: 2 | P33: 2 | S33: 17 | U33: 9 | V33: 8 | Y33: 10
A34: 1.7 | B34: îÇñ³å»ïáõÙÇó ½ñÏ»Éáõ Ñ»ï ãÏ³åí³Í Çñ³íáõÝùÝ»ñÇ Ë³ËïáõÙÁ í»ñ³óÝ»Éáõ í»ñ³µ»ñÛ³É | E34: 8 | F34: 6 | G34: 5 | H34: 1 | J34: 2 | K34: 2 | S34: 2 | V34: 2 | Y34: 11
A35: 1.8 | B35: ÀÝ¹Ñ³Ýáõñ µ³ÅÝ³ÛÇÝ ë»÷³Ï³ÝáõÃÛáõÝÇó µ³ÅÇÝÝ ³é³ÝÓÝ³óÝ»Éáõ í»ñ³µ»ñÛ³É | E35: 48 | F35: 139 | G35: 122 | H35: 16 | I35: 1 | J35: 87 | K35: 57 | L35: 9 | M35: 10 | N35: 11 | O35: 3 | P35: 8 | S35: 87 | U35: 62 | V35: 25 | Y35: 83
A36: 1.9 | B36: ²ÛÉ í»×»ñ | E36: 32 | F36: 80 | G36: 60 | H36: 20 | J36: 53 | K36: 28 | L36: 4 | M36: 6 | N36: 15 | O36: 3 | P36: 11 | Q36: 1 | S36: 53 | U36: 34 | V36: 19 | Y36: 39
A37: 2. | B37: ¶áñÍ³ñùÝ»ñÇ Ñ»ï Ï³åí³Í í»×»ñ | E37: 0
A38: 2.1 | B38: ¶áñÍ³ñùÝ ³Ýí³í»ñ ×³Ý³ã»Éáõ í»ñ³µ»ñÛ³É | E38: 3 | F38: 8 | G38: 5 | H38: 3 | J38: 3 | K38: 1 | M38: 1 | N38: 1 | P38: 1 | S38: 3 | U38: 3 | Y38: 5
A39: 2.1.1 | B39: ²Û¹ ÃíáõÙª íÇ×³Ñ³ñáõÛó ·áñÍ³ñùÝ»ñ | E39: 0
A40: 2.1.2 | B40: ²Û¹ ÃíáõÙª ³éáãÇÝã ·áñÍ³ñùÝ»ñ | E40: 0 | F40: 2 | G40: 2 | J40: 2 | K40: 1 | N40: 1 | P40: 1 | S40: 2 | U40: 2
A41: 2.2 | B41: ¶áñÍ³ñùÁ í³í»ñ ×³Ý³ã»Éáõ í»ñ³µ»ñÛ³É | E41: 0 | F41: 3 | G41: 2 | H41: 1 | J41: 1 | M41: 1 | S41: 1 | U41: 1 | Y41: 1
A42: 2.3 | B42: ¶áñÍ³ñùÇó Í³·áÕ Çñ³íáõÝùÝ»ñÁ ·ñ³Ýó»Éáõ í»ñ³µ»ñÛ³É | E42: 0
A43: 2.4 | B43: ä³ÛÙ³Ý³·ÇñÝ ³Ýí³í»ñ ×³Ý³ã»Éáõ í»ñ³µ»ñÛ³É | E43: 4 | F43: 38 | G43: 29 | H43: 9 | J43: 9 | K43: 3 | M43: 3 | N43: 3 | P43: 3 | S43: 9 | U43: 3 | V43: 6 | Y43: 24
A44: 2.5 | B44: ä³ÛÙ³Ý³·ñÇÁ í³í»ñ ×³Ý³ã»Éáõ í»ñ³µ»ñÛ³É | E44: 0 | F44: 3 | G44: 3 | J44: 1 | K44: 1 | S44: 1 | U44: 1 | Y44: 2 | Z44: 1
A45: 2.6 | B45: ä³ÛÙ³Ý³·ñÇó Í³·áÕ Çñ³íáõÝùÝ»ñÁ ·ñ³Ýó»Éáõ í»ñ³µ»ñÛ³É | E45: 0
A46: 2.7 | B46: ä³ÛÙ³Ý³·ÇñÁ ÷á÷áË»Éáõ ¨ ÉáõÍ»Éáõ í»ñ³µ»ñÛ³É | E46: 1 | F46: 37 | G46: 30 | H46: 7 | J46: 20 | K46: 13 | L46: 2 | M46: 1 | N46: 4 | O46: 2 | P46: 2 | S46: 20 | U46: 18 | V46: 2 | Y46: 11
A47: 2.8 | B47: ä³ÛÙ³Ý³·Çñ ÏÝù»ÉáõÝ å³ñï³íáñ»óÝ»Éáõ í»ñ³µ»ñÛ³É | E47: 0 | F47: 1 | G47: 1 | J47: 1 | M47: 1 | S47: 1 | U47: 1 | V47: 1
A48: 2.9 | B48: ²ÛÉ í»×»ñ | E48: 5 | F48: 47 | G48: 39 | H48: 7 | I48: 1 | J48: 37 | K48: 21 | L48: 5 | M48: 5 | N48: 6 | P48: 6 | S48: 37 | U48: 32 | V48: 5 | Y48: 7
A49: 3. | B49: Ä³é³Ý·áõÃÛ³Ý í»ñ³µ»ñÛ³É í»×»ñ | E49: 0
A50: 3.1 | B50: Îï³ÏÝ ³Ýí³í»ñ ×³Ý³ã»Éáõ í»ñ³µ»ñÛ³É | E50: 0 | F50: 5 | G50: 5 | J50: 3 | M50: 2 | N50: 1 | P50: 1 | S50: 3 | U50: 1 | V50: 2 | Y50: 2
A51: 3.2 | B51: ²Ý³ñÅ³Ý Å³é³Ý· ×³Ý³ã»Éáõ í»ñ³µ»ñÛ³É | E51: 0 | F51: 1 | G51: 1 | J51: 1 | K51: 1 | S51: 1 | U51: 1
A52: 3.3 | B52: Ä³é³Ý·áõÃÛáõÝÁ µ³Å³Ý»Éáõ í»ñ³µ»ñÛ³É | E52: 0
A53: 3.4 | B53: ¶áõÛùÝ ³ÝÅ³é³Ý· ×³Ý³ã»Éáõ í»ñ³µ»ñÛ³É | E53: 0
A54: 3.5 | B54: Àëï ûñ»ÝùÇ Å³é³Ý·áõÃÛ³Ý Çñ³íáõÝùÇ íÏ³Û³Ï³ÝÝ ³Ýí³í»ñ ×³Ý³ã»Éáõ í»ñ³µ»ñÛ³É | E54: 0 | F54: 5 | G54: 4 | H54: 1 | J54: 4 | K54: 2 | M54: 1 | N54: 1 | O54: 1 | S54: 4 | U54: 3 | V54: 1
A55: 3.6 | B55: Ä³é³Ý·áõÃÛáõÝÝ ÁÝ¹áõÝ»Éáõ µ³ó ÃáÕÝí³Í Å³ÙÏ»ïÁ Ñ³ñ·»ÉÇ Ñ³Ù³ñ»Éáõ í»ñ³µ»ñÛ³É | E55: 1 | F55: 7 | G55: 7 | J55: 4 | K55: 2 | M55: 1 | N55: 1 | P55: 1 | S55: 4 | U55: 2 | V55: 2 | Y55: 4
A56: 3.7 | B56: ²ÛÉ í»×»ñ | E56: 12 | F56: 18 | G56: 14 | H56: 4 | J56: 19 | K56: 14 | L56: 2 | M56: 2 | N56: 1 | P56: 1 | S56: 19 | U56: 11 | V56: 8 | Y56: 7
A57: 4 | B57: ÀÝï³Ý»Ï³Ý Çñ³í³Ñ³ñ³µ»ñáõÃÛáõÝÝ»ñÇó Í³·áÕ í»×»ñ | E57: 0
A58: 4.1 | B58: ²ÙáõëÝ³ÉáõÍáõÃÛ³Ý í»ñ³µ»ñÛ³É | E58: 27 | F58: 150 | G58: 132 | H58: 14 | I58: 4 | J58: 101 | K58: 76 | L58: 7 | M58: 5 | N58: 13 | O58: 1 | P58: 11 | Q58: 1 | S58: 101 | U58: 97 | V58: 4 | Y58: 58
A59: 4.2 | B59: ²ÉÇÙ»ÝïÇ å³Ñ³ÝçÇ í»ñ³µ»ñÛ³É | E59: 17 | F59: 55 | G59: 53 | H59: 2 | J59: 46 | K59: 23 | L59: 14 | M59: 2 | N59: 7 | O59: 3 | P59: 4 | S59: 46 | U59: 34 | V59: 12 | Y59: 24
A60: 4.3 | B60: ²ÉÇÙ»ÝïÇ ã³÷Á ÷á÷áË»Éáõ í»ñ³µ»ñÛ³É | E60: 1 | F60: 8 | G60: 6 | H60: 2 | J60: 7 | K60: 4 | L60: 2 | N60: 1 | P60: 1 | S60: 7 | U60: 5 | V60: 2
A61: 4.4 | B61: ÌÝáÕ³Ï³Ý Çñ³íáõÝùÝ»ñÇó ½ñÏ»Éáõ í»ñ³µ»ñÛ³É | E61: 1 | F61: 4 | G61: 4 | J61: 1 | K61: 1 | S61: 1 | U61: 1 | Y61: 4
A62: 4.5 | B62: ÌÝáÕ³Ï³Ý Çñ³íáõÝùÝ»ñÁ í»ñ³Ï³Ý·Ý»Éáõ í»ñ³µ»ñÛ³É | E62: 0
A63: 4.6 | B63: ºñ»Ë³ÛÇ áñ¹»·ñÙ³Ý í»ñ³µ»ñÛ³É | E63: 2 | F63: 5 | G63: 5 | J63: 5 | K63: 5 | S63: 5 | U63: 5 | Y63: 2
A64: 4.7 | B64: ºñ»Ë³ÛÇ áñ¹»·ñáõÙÁ í»ñ³óÝ»Éáõ í»ñ³µ»ñÛ³É | E64: 0 | F64: 1 | G64: 1 | J64: 1 | K64: 1 | S64: 1 | U64: 1
A65: 4.8 | B65: Ð³ÛñáõÃÛáõÝÁ ×³Ý³ã»Éáõ í»ñ³µ»ñÛ³É | E65: 2 | F65: 15 | G65: 9 | H65: 6 | J65: 6 | K65: 4 | M65: 2 | S65: 6 | U65: 5 | V65: 1 | Y65: 5
A66: 4.9 | B66: ºñ»Ë³ÛÇ µÝ³ÏáõÃÛ³Ý í³ÛñÁ áñáß»Éáõ í»ñ³µ»ñÛ³É | E66: 1 | F66: 1 | G66: 1 | J66: 2 | K66: 2 | S66: 2 | U66: 2
A67: 4.10 | B67: ºñ»Ë³ÛÇ Ñ»ï ï»ë³ÏóáõÃÛ³Ý Ï³ñ· ë³ÑÙ³Ý»Éáõ í»ñ³µ»ñÛ³É | E67: 3 | F67: 20 | G67: 16 | H67: 4 | J67: 14 | K67: 6 | L67: 5 | N67: 3 | O67: 1 | P67: 2 | S67: 14 | U67: 11 | V67: 3 | Y67: 5
A68: 4.11 | B68: ²ÙáõëÇÝÝ»ñÇ ÁÝ¹Ñ³Ýáõñ ·áõÛùÁ µ³Å³Ý»Éáõ í»ñ³µ»ñÛ³É | E68: 6 | F68: 6 | G68: 6 | J68: 5 | K68: 4 | N68: 1 | O68: 1 | S68: 5 | U68: 3 | V68: 2 | Y68: 7
A69: 4.12 | B69: ²ÙáõëÝ³Ï³Ý å³ÛÙ³Ý³·ñÇ ÷á÷áËÙ³Ý Ï³Ù ÉáõÍÙ³Ý í»ñ³µ»ñÛ³É | E69: 2 | J69: 2 | K69: 2 | S69: 2 | U69: 2
A70: 4.13 | B70: ²ÛÉ í»×»ñ | E70: 5 | F70: 8 | G70: 4 | H70: 3 | I70: 1 | J70: 9 | K70: 6 | M70: 2 | N70: 1 | P70: 1 | S70: 9 | U70: 7 | V70: 2
A71: 5. | B71: Øï³íáñ ë»÷³Ï³ÝáõÃÛáõÝ | E71: 0
A72: 5.1 | B72: ÈÇó»Ý½³ÛÇÝ å³ÛÙ³Ý³·ñÇ ÉáõÍÙ³Ý, ÷á÷áËÙ³Ý ¨ ³Ýí³í»ñáõÃÛ³Ý í»ñ³µ»ñÛ³É | E72: 0 | F72: 1 | G72: 1 | Y72: 1
A73: 5.2 | B73: Øï³íáñ ·áñÍáõÝ»áõÃÛ³Ý ³ñ¹ÛáõÝùÝ»ñ ëï»ÕÍ»Éáõ ¨ û·ï³·áñÍ»Éáõ å³ÛÙ³Ý³·ñÇ ÉáõÍÙ³Ý, ÷á÷áËÙ³Ý áõ ³Ýí³í»ñáõÃÛ³Ý í»ñ³µ»ñÛ³É | E73: 0
A74: 5.3 | B74: Ð»ÕÇÝ³Ï³ÛÇÝ ¨ Ñ³ñ³ÏÇó Çñ³íáõÝùÝ»ñÇ í»ñ³µ»ñÛ³É | E74: 0 | F74: 1 | G74: 1 | Y74: 1
A75: 5.4 | B75: üÇñÙ³ÛÇÝ ³Ýí³ÝÙ³Ý í»ñ³µ»ñÛ³É | E75: 0
A76: 5.5 | B76: ²åñ³Ýù³ÛÇÝ Ýß³ÝÇ í»ñ³µ»ñÛ³É | E76: 0
A77: 5.6 | B77: ²ÛÉ í»×»ñ | E77: 1 | J77: 1 | K77: 1 | S77: 1 | V77: 1
A78: 6. | B78: ²ßË³ï³Ýù³ÛÇÝ í»×»ñ | E78: 0
A79: 6.1 | B79: ²ßË³ï³Ýù³ÛÇÝ å³ÛÙ³Ý³·ñ»ñÇ í»ñ³µ»ñÛ³É | E79: 0 | F79: 2 | G79: 2 | Y79: 2
A80: 6.2 | B80: ²ßË³ï³ÝùáõÙ í»ñ³Ï³Ý·Ý»Éáõ í»ñ³µ»ñÛ³É | E80: 1 | F80: 12 | G80: 11 | H80: 1 | J80: 6 | K80: 3 | L80: 1 | M80: 2 | S80: 6 | U80: 2 | V80: 4 | Y80: 6
A81: 6.3 | B81: ¶áñÍ³¹áõÉÝ ³ÝûñÇÝ³Ï³Ý ×³Ý³ã»Éáõ í»ñ³µ»ñÛ³É | E81: 0
A82: 6.4 | B82: Ð³ñÏ³¹Çñ å³ñ³åáõñ¹Ç Ñ³ïáõóÙ³Ý í»ñ³µ»ñÛ³É | E82: 1 | F82: 1 | G82: 1 | J82: 2 | K82: 2 | S82: 2 | U82: 2
A83: 6.5 | B83: âí×³ñí³Í ³ßË³ï³í³ñÓÇ ¨/Ï³Ù ³ÛÉ í×³ñÝ»ñÇ µéÝ³·³ÝÓÙ³Ý í»ñ³µ»ñÛ³É | E83: 2 | F83: 12 | G83: 12 | J83: 6 | K83: 5 | M83: 1 | S83: 6 | U83: 5 | V83: 1 | Y83: 8
A84: 6.6 | B84: ²ÛÉ í»×»ñ | E84: 0 | F84: 9 | G84: 8 | H84: 1 | J84: 7 | L84: 1 | M84: 2 | N84: 4 | P84: 4 | S84: 7 | U84: 5 | V84: 2 | Y84: 1
A85: 7. | B85: Æñ³í³µ³Ý³Ï³Ý ³ÝÓÇ ·áñÍáõÝ»áõÃÛ³Ý í»ñ³µ»ñÛ³É | E85: 0
A86: 7.1 | B86: Îáñåáñ³ïÇí í»×»ñ | E86: 0
A87: 7.2 | B87: ²ÛÉ í»×»ñ | E87: 1 | J87: 1 | K87: 1 | S87: 1 | U87: 1
A88: 8. | B88: Ð³ïáõÏ í³ñáõÛÃÇ ·áñÍ»ñ | E88: 0
A89: 8.1 | B89: ²Ýã³÷³Ñ³ëÇÝ ÉñÇí ·áñÍáõÝ³Ï ×³Ý³ã»Éáõ /¿Ù³ÝëÇå³óÇ³/ í»ñ³µ»ñÛ³É | E89: 0
A90: 8.2 | B90: ø³Õ³ù³óáõÝ ³Ý·áñÍáõÝ³Ï Ï³Ù ë³ÑÙ³Ý³÷³Ï ·áñÍáõÝ³Ï ×³Ý³ã»Éáõ í»ñ³µ»ñÛ³É | E90: 20 | F90: 33 | G90: 28 | H90: 5 | J90: 13 | K90: 11 | M90: 1 | N90: 1 | P90: 1 | S90: 13 | U90: 12 | V90: 1 | Y90: 35
A91: 8.3 | B91: ø³Õ³ù³óáõÝ Ñá·»µáõÅ³Ï³Ý ÑÇí³Ý¹³Ýáó³ÛÇÝ Ñ³ñÏ³¹Çñ µáõÅÙ³Ý »ÝÃ³ñÏ»Éáõ í»ñ³µ»ñÛ³É | E91: 0
A92: 8.4 | B92: ø³Õ³ù³óáõÝ ³ÝÑ³Ûï µ³ó³Ï³ÛáÕ Ï³Ù Ù³Ñ³ó³Í ×³Ý³ã»Éáõ í»ñ³µ»ñÛ³É | E92: 2 | F92: 51 | G92: 38 | H92: 13 | J92: 33 | K92: 22 | M92: 9 | N92: 2 | P92: 2 | S92: 33 | U92: 32 | V92: 1 | Y92: 7
A93: 8.5 | B93: ø³Õ³ù³óÇ³Ï³Ý Ï³óáõÃÛ³Ý ³Ïï»ñÇ ·ñ³éáõÙÝ»ñÇ ³Ý×ßïáõÃÛáõÝÝ»ñÁ å³ñ½»Éáõ í»ñ³µ»ñÛ³É | E93: 0
A94: 8.6 | B94: ¶áõÛùÁ ïÇñ³½áõñÏ ×³Ý³ã»Éáõ í»ñ³µ»ñÛ³É | E94: 2 | F94: 17 | G94: 12 | H94: 5 | J94: 6 | K94: 4 | M94: 1 | N94: 1 | Q94: 1 | S94: 6 | U94: 6 | Y94: 8
A95: 8.6.1 | B95: ²Û¹ ÃíáõÙª ³Ýß³ñÅ ·áõÛùÁ | E95: 0 | F95: 2 | G95: 2 | J95: 2 | K95: 1 | M95: 1 | S95: 2 | V95: 2
A96: 8.6.2 | B96: ²Û¹ ÃíáõÙª ß³ñÅ³Ï³Ý ·áõÛùÁ | E96: 0
A97: 8.7 | B97: Æñ³í³µ³Ý³Ï³Ý Ýß³Ý³ÏáõÃÛáõÝ áõÝ»óáÕ ÷³ëï»ñÇ Ñ³ëï³ïÙ³Ý í»ñ³µ»ñÛ³É | E97: 9 | F97: 161 | G97: 134 | H97: 22 | I97: 5 | J97: 113 | K97: 96 | L97: 4 | N97: 13 | P97: 13 | S97: 113 | U97: 108 | V97: 5 | Y97: 30
A98: 8.7.1 | B98: ²ÝÓ³Ýó ³½·³Ïó³Ï³Ý Ï³åÁ Ñ³ëï³ï»Éáõ í»ñ³µ»ñÛ³É | E98: 0 | F98: 8 | G98: 6 | H98: 1 | I98: 1 | J98: 6 | K98: 6 | S98: 6 | U98: 4 | V98: 2
A99: 8.7.2 | B99: ²ÝÓÇª áõñÇßÇ ËÝ³ÙùÇ ï³Ï ·ïÝí»Éáõ í»ñ³µ»ñÛ³É | E99: 0
A100: 8.7.3 | B100: ÌÝÝ¹Û³Ý, áñ¹»·ñÙ³Ý, ³ÙáõëÝáõÃÛ³Ý, ³å³Ñ³ñ½³ÝÇ ¨ Ù³Ñí³Ý ·ñ³ÝóÙ³Ý í»ñ³µ»ñÛ³É | E100: 2 | F100: 2 | G100: 2 | J100: 1 | K100: 1 | S100: 1 | U100: 1 | Y100: 3
A101: 8.7.4 | B101: ²ÝÓÇª áñáß³ÏÇ Å³Ù³Ý³ÏáõÙ ¨ áñáß³ÏÇ Ñ³Ý·³Ù³ÝùÝ»ñáõÙ Ù³Ñí³Ý í»ñ³µ»ñÛ³É | E101: 0
A102: 8.7.5 | B102: Ä³é³Ý·áõÃÛáõÝÝ ÁÝ¹áõÝ»Éáõ ¨ Å³é³Ý·áõÃÛ³Ý µ³óÙ³Ý í³ÛñÇ í»ñ³µ»ñÛ³É | E102: 6 | F102: 29 | G102: 26 | H102: 3 | J102: 23 | K102: 13 | L102: 1 | M102: 9 | S102: 23 | U102: 19 | V102: 4 | Y102: 9
A103: 8.7.6 | B103: ¸Åµ³Ëï å³ï³Ñ³ñÇ í»ñ³µ»ñÛ³É | E103: 0
A104: 8.7.7 | B104: Æñ³íáõÝù ë³ÑÙ³ÝáÕ ÷³ëï³ÃÕÃ»ñÇ å³ïÏ³Ý»ÉáõÃÛ³Ý í»ñ³µ»ñÛ³É | E104: 0 | F104: 3 | G104: 3 | J104: 3 | K104: 3 | S104: 3 | U104: 3
A105: 8.7.8 | B105: ê»÷³Ï³ÝáõÃÛ³Ý Çñ³íáõÝùáí ·áõÛùÇ ïÇñ³å»ïÙ³Ý í»ñ³µ»ñÛ³É | E105: 1 | J105: 1 | K105: 1 | S105: 1 | U105: 1
A106: 8.7.9 | B106: ²ÝÑ³ÕÃ³Ñ³ñ»ÉÇ áõÅÇ ³éÏ³ÛáõÃÛ³Ý í»ñ³µ»ñÛ³É | E106: 0
A107: 8.8 | B107: Àëï Ý»ñÏ³Û³óÝáÕÇ ¨ ûñ¹»ñ³ÛÇÝ Ïáñóñ³Í ³ñÅ»ÃÕÃ»ñáí Ñ³í³ëïí³Í Çñ³íáõÝùÝ»ñÁ í»ñ³Ï³Ý·Ý»Éáõ í»ñ³µ»ñÛ³É | E107: 0
A108: 8.9 | B108: Ð³ñÏ³¹Çñ Ï³ï³ñáÕÇ ¹ÇÙáõÙáí ÏáÕÙ»ñÇ Ñ³ßïáõÃÛ³Ý Ñ³Ù³Ó³ÛÝáõÃÛ³Ý ÑÇÙ³Ý íñ³ ¹³ï³ñ³ÝÇª ·áñÍÝ Áëï ¿áõÃÛ³Ý ÉáõÍáÕ ¹³ï³Ï³Ý ³ÏïÇ í»ñ³Ý³ÛÙ³Ý í»ñ³µ»ñÛ³É | E108: 0
A109: 8.10 | B109: ²ÛÉ í»×»ñ | E109: 0
A110: 9. | B110: Ð³ïáõÏ Ñ³Ûó³ÛÇÝ í³ñáõÛÃÇ ·áñÍ»ñ | E110: 0
A111: 9.1 | B111: ø³Õ³ù³óáõ ÏÛ³ÝùÇÝ Ï³Ù ³éáÕçáõÃÛ³ÝÝ ëå³éÝ³óáÕ íï³Ý·Ç í»ñ³µ»ñÛ³É | E111: 0
A112: 9.2 | B112: ÐÐ Î»ÝïñáÝ³Ï³Ý µ³ÝÏÇ ¨ ³Ýí×³ñáõÝ³Ï µ³ÝÏÇ Ï³Ù í³ñÏ³ÛÇÝ Ï³½Ù³Ï»ñåáõÃÛ³Ý Å³Ù³Ý³Ï³íáñ ³¹ÙÇÝÇëïñ³óÇ³ÛÇ áñáßáõÙÝ»ñÇ µáÕáù³ñÏÙ³Ý í»ñ³µ»ñÛ³É | E112: 0
...

Sheet Արագածոտն
A1: Ð²ÞìºîìàôÂÚàôÜ
A2: ՀՀ ԱՐԱԳԱԾՈՏՆԻ ՄԱՐԶԻ ԸՆԴՀԱՆՈՒՐ ԻՐԱՎԱՍՈՒԹՅԱՆ ԴԱՏԱՐԱՆԻ ø²Ô²ø²òÆ²Î²Ü ¶àðÌºðÆ øÜÜàôÂÚ²Ü ìºð²´ºðÚ²È
A3: 2009Ã. տարեկան
A5: êïáõ·Çã Ñ³í³ë³ñáõÙÝ»ñª 2=3+4+5, 1+3=15+16+21, 6=7+8+9+10, 10=11+12+13, 15=6+14, | E5: ²Ý³í³ñï ·áñÍ»ñÇ ÙÝ³óáñ¹Á Ñ³ßí»ïáõ Å³Ù³Ý³Ï³ßñç³ÝÇ ëÏ½µáõÙ | F5: êï³óí³Í Ñ³Ûó»ñÇ,¹ÇÙáõÙÝ»ñÇ (·áñÍ»ñ)ù³Ý³ÏÁ | J5: ²í³ñïí»É »Ý ·áñÍ»ñ Ñ³ßí»ïáõ Å³Ù³Ý³Ï³ßñç³ÝáõÙ | T5: ¶áñÍÝ áõÕ³ñÏí»É ¿ Áëï ÁÝ¹¹³ïáõÃÛ³Ý | U5: Øï»É »Ý ûñÇÝ³Ï³Ý áõÅÇ Ù»ç | V5: ´áÕáù³ñÏí»É »Ý í»ñ³ùÝÝÇã ¹³ï³ñ³Ý | Y5: ²Ý³í³ñï ·áñÍ»ñÇ ÙÝ³óáñ¹Á Ñ³ßí»ïáõ Å³Ù³Ý³Ï³ßñç³ÝÇ í»ñçáõÙ | Z5: ²Û¹ ÃíáõÙª Ï³ë»óí³Í
F8: ÀÝ¹³Ù»ÝÁ | G8: ²Û¹ ÃíáõÙª ÁÝ¹áõÝí»É ¿ í³ñáõÛÃ | H8: ²Û¹ ÃíáõÙª í»ñ³¹³ñÓí»É ¿ | I8: ²Û¹ ÃíáõÙª Ñ³Ûó»ñÇ (¹ÇÙáõÙÝ»ñÇ) ÁÝ¹áõÝáõÙÁ Ù»ñÅí»É ¿ | J8: ÀÝ¹³Ù»ÝÁ ³í³ñïí»É »Ý ·áñÍ»ñ í×éÇ Ï³Û³óáõÙáí | K8: ²Û¹ ÃíáõÙª Ñ³ÛóÇ µ³í³ñ³ñÙ³Ùµ | L8: ²Û¹ ÃíáõÙª Ñ³ÛóÇ Ù³ëÝ³ÏÇ µ³í³ñ³ñÙ³Ùµ | M8: ²Û¹ ÃíáõÙª Ñ³ÛóÇ Ù»ñÅÙ³Ùµ | N8: ²Û¹ ÃíáõÙª Ï³ñ×í»É »Ý | R8: Ð³ÛóÁ ÃáÕÝí»É ¿ ³é³Ýó ùÝÝáõÃÛ³Ý | S8: ÀÝ¹³Ù»ÝÝ ³í³ñïí»É »Ý ·áñÍ»ñ | V8: Ï³Û³óí³Í í×ÇéÝ»ñÇ ¹»Ù | W8: ³é³Ýó ùÝÝáõÃÛ³Ý ÃáÕÝ»Éáõ Ù³ëÇÝ áñáßáõÙÝ»ñÇ ¹»Ù | X8: ÙÇç³ÝÏÛ³É ¹³ï³Ï³Ý ³Ïï»ñÇ ¹»Ù
N11: ÀÝ¹³Ù»ÝÁ Ï³ñ×í»É »Ý | O11: ²Û¹ ÃíáõÙª Ñ³ëï³ïí»É ¿ ÏÝùí³Í Ñ³ßïáõÃÛ³Ý Ñ³Ù³Ó³ÛÝáõÃÛáõÝÁ | P11: ²Û¹ ÃíáõÙª Ñ³óÇó, ¹ÇÙáõÙÇó Ññ³Å³ñí»Éáõ ÑÇÙùáí | Q11: ²Û¹ ÃíáõÙª ³ÛÉ ÑÇÙùáí
A19: Æñ³í³Ñ³ñ³µ»ñáõÃÛáõÝÝ»ñÇ ï»ë³ÏÝ»ñÁ | E19: 1 | F19: 2 | G19: 3 | H19: 4 | I19: 5 | J19: 6 | K19: 7 | L19: 8 | M19: 9 | N19: 10 | O19: 11 | P19: 12 | Q19: 13 | R19: 14 | S19: 15 | T19: 16 | U19: 17 | V19: 18 | W19: 19 | X19: 20 | Y19: 21 | Z19: 22
A20: 1. | B20: ¶áõÛù³ÛÇÝ í»×»ñ | E20: =SUM(E21:E36) -> 43 | F20: =SUM(F21:F36) -> 164 | G20: =SUM(G21:G36) -> 140 | H20: =SUM(H21:H36) -> 23 | I20: =SUM(I21:I36) -> 1 | J20: =SUM(J21:J36) -> 115 | K20: =SUM(K21:K36) -> 58 | L20: =SUM(L21:L36) -> 6 | ... Z20: =SUM(Z21:Z36) -> 27
A21: 1.1 | B21: ¶áõÛùÇ ÝÏ³ïÙ³Ùµ ë»÷³Ï³ÝáõÃÛ³Ý Çñ³íáõÝùÁ ×³Ý³ã»Éáõ í»ñ³µ»ñÛ³É | E21: 3 | F21: 37 | G21: 34 | H21: 3 | J21: 27 | K21: 16 | L21: 2 | M21: 3 | N21: 6 | O21: 1 | P21: 5 | R21: 1 | S21: 28 | U21: 19 | V21: 2 | Y21: 9 | Z21: 2
A22: 1.1.1 | B22: ²Û¹ ÃíáõÙª Ó»éùµ»ñÙ³Ý í³Õ»ÙáõÃÛ³Ý áõÅáí | E22: 4 | F22: 31 | G22: 25 | H22: 5 | I22: 1 | J22: 20 | K22: 11 | L22: 1 | M22: 5 | N22: 3 | O22: 1 | P22: 1 | Q22: 1 | R22: 1 | S22: 21 | U22: 17 | V22: 1 | Y22: 8 | Z22: 1
A23: 1.1.2 | B23: ²Û¹ ÃíáõÙª ïÇñ³½áõñÏ ·áõÛùÇ ÝÏ³ïÙ³Ùµ | F23: 1 | G23: 1 | J23: 1 | K23: 1 | S23: 1 | U23: 1
A24: 1.1.3 | B24: ²Û¹ ÃíáõÙª ÇÝùÝ³Ï³Ù Ï³éáõÛóÇ ÝÏ³ïÙ³Ùµ | F24: 1 | G24: 1 | J24: 1 | M24: 1 | S24: 1
A25: 1.2 | B25: ê»÷³Ï³ÝáõÃÛ³Ý Çñ³íáõÝùÇ ¹³¹³ñ»óÙ³Ý í»ñ³µ»ñÛ³É
A26: 1.3 | B26: ¶áõÛùÇ ÝÏ³ïÙ³Ùµ û·ï³·áñÍÙ³Ý Çñ³íáõÝùÁ ×³Ý³ã»Éáõ í»ñ³µ»ñÛ³É | E26: 1 | F26: 2 | G26: 2 | J26: 2 | N26: 2 | O26: 1 | P26: 1 | S26: 2 | U26: 1 | Y26: 1 | Z26: 1
A27: 1.3.1 | B27: ²Û¹ ÃíáõÙª µÝ³Ïû·ï³·áñÍÙ³Ý Çñ³íáõÝùÁ ×³Ý³ã»Éáõ í»ñ³µ»ñÛ³É | F27: 2 | G27: 2 | J27: 2 | M27: 1 | N27: 1 | O27: 1 | S27: 2 | U27: 2
A28: 1.3.2 | B28: ²Û¹ ÃíáõÙª ÑáÕ³Ù³ëÇ ÝÏ³ïÙ³Ùµ û·ï³·áñÍÙ³Ý Çñ³íáõÝùÁ ×³Ý³ã»Éáõ í»ñ³µ»ñÛ³É | F28: 4 | G28: 2 | H28: 2 | J28: 1 | N28: 1 | P28: 1 | S28: 1 | U28: 1 | Y28: 1
A29: 1.4 | B29: ¶áõÛùÇ ÝÏ³ïÙ³Ùµ û·ï³·áñÍÙ³Ý Çñ³íáõÝùÁ ¹³¹³ñ»óÝ»Éáõ í»ñ³µ»ñÛ³É
A30: 1.4.1 | B30: ²Û¹ ÃíáõÙª µÝ³Ïû·ï³·áñÍÙ³Ý Çñ³íáõÝùÁ ¹³¹³ñ»óÝ»Éáõ í»ñ³µ»ñÛ³É | F30: 1 | G30: 1 | J30: 1 | K30: 1 | S30: 1 | U30: 1 | V30: 1
A31: 1.4.1/1 | B31: ²Û¹ ÃíáõÙª ÷áËÑ³ïáõóÙ³Ùµ
A32: 1.5 | B32: ´Ý³Ï³ñ³ÝÇó/ ï³ñ³ÍùÇó/ íï³ñ»Éáõ í»ñ³µ»ñÛ³É | E32: 2 | F32: 7 | G32: 7 | J32: 5 | K32: 2 | L32: 1 | M32: 1 | N32: 1 | P32: 1 | S32: 5 | U32: 2 | V32: 3 | Y32: 4 | Z32: 3
A33: 1.6 | B33: ¶áõÛùÝ áõñÇßÇ ³åûñÇÝÇ ïÇñ³å»ïáõÙÇó »ï í»ñ³¹³ñÓÝ»Éáõ í»ñ³µ»ñÛ³É | E33: 6 | F33: 25 | G33: 21 | H33: 4 | J33: 18 | K33: 8 | L33: 1 | M33: 6 | N33: 3 | P33: 3 | S33: 18 | T33: 1 | U33: 9 | V33: 9 | Y33: 8 | Z33: 3
A34: 1.7 | B34: îÇñ³å»ïáõÙÇó ½ñÏ»Éáõ Ñ»ï ãÏ³åí³Í Çñ³íáõÝùÝ»ñÇ Ë³ËïáõÙÁ í»ñ³óÝ»Éáõ í»ñ³µ»ñÛ³É
A35: 1.8 | B35: ÀÝ¹Ñ³Ýáõñ µ³ÅÝ³ÛÇÝ ë»÷³Ï³ÝáõÃÛáõÝÇó µ³ÅÇÝÝ ³é³ÝÓÝ³óÝ»Éáõ í»ñ³µ»ñÛ³É | E35: 25 | F35: 38 | G35: 34 | H35: 4 | J35: 27 | K35: 14 | M35: 1 | N35: 12 | O35: 4 | P35: 5 | Q35: 3 | R35: 1 | S35: 28 | T35: 1 | U35: 25 | V35: 2 | Y35: 30 | Z35: 17
A36: 1.9 | B36: ²ÛÉ í»×»ñ | E36: 2 | F36: 15 | G36: 10 | H36: 5 | J36: 10 | K36: 5 | L36: 1 | N36: 4 | P36: 4 | S36: 10 | T36: 1 | U36: 9 | V36: 1 | Y36: 1
A37: 2. | B37: ¶áñÍ³ñùÝ»ñÇ Ñ»ï Ï³åí³Í í»×»ñ | E37: =SUM(E38:E48) -> 7 | F37: =SUM(F38:F48) -> 49 | G37: =SUM(G38:G48) -> 39 | H37: =SUM(H38:H48) -> 10 | I37: =SUM(I38:I48) -> 0 | J37: =SUM(J38:J48) -> 27 | K37: =SUM(K38:K48) -> 11 | L37: =SUM(L38:L48) -> 4 | ... Z37: =SUM(Z38:Z48) -> 1
A38: 2.1 | B38: ¶áñÍ³ñùÝ ³Ýí³í»ñ ×³Ý³ã»Éáõ í»ñ³µ»ñÛ³É | E38: 1 | F38: 12 | G38: 7 | H38: 5 | J38: 6 | L38: 2 | M38: 2 | N38: 2 | P38: 2 | S38: 6 | U38: 3 | V38: 2 | Y38: 2
A39: 2.1.1 | B39: ²Û¹ ÃíáõÙª íÇ×³Ñ³ñáõÛó ·áñÍ³ñùÝ»ñ | F39: 2 | G39: 2 | T39: 1 | Y39: 1
A40: 2.1.2 | B40: ²Û¹ ÃíáõÙª ³éáãÇÝã ·áñÍ³ñùÝ»ñ
A41: 2.2 | B41: ¶áñÍ³ñùÁ í³í»ñ ×³Ý³ã»Éáõ í»ñ³µ»ñÛ³É | F41: 1 | G41: 1 | J41: 1 | K41: 1 | S41: 1 | U41: 1
A42: 2.3 | B42: ¶áñÍ³ñùÇó Í³·áÕ Çñ³íáõÝùÝ»ñÁ ·ñ³Ýó»Éáõ í»ñ³µ»ñÛ³É
A43: 2.4 | B43: ä³ÛÙ³Ý³·ÇñÝ ³Ýí³í»ñ ×³Ý³ã»Éáõ í»ñ³µ»ñÛ³É | E43: 3 | F43: 16 | G43: 13 | H43: 3 | J43: 10 | K43: 4 | M43: 2 | N43: 4 | O43: 1 | P43: 2 | Q43: 1 | S43: 10 | T43: 2 | U43: 4 | V43: 2 | Y43: 4
A44: 2.5 | B44: ä³ÛÙ³Ý³·ñÇÁ í³í»ñ ×³Ý³ã»Éáõ í»ñ³µ»ñÛ³É | E44: 1 | F44: 2 | G44: 2 | J44: 2 | K44: 2 | S44: 2 | U44: 1 | V44: 1 | Y44: 1
A45: 2.6 | B45: ä³ÛÙ³Ý³·ñÇó Í³·áÕ Çñ³íáõÝùÝ»ñÁ ·ñ³Ýó»Éáõ í»ñ³µ»ñÛ³É | F45: 1 | G45: 1 | Y45: 1
A46: 2.7 | B46: ä³ÛÙ³Ý³·ÇñÁ ÷á÷áË»Éáõ ¨ ÉáõÍ»Éáõ í»ñ³µ»ñÛ³É | E46: 1 | F46: 8 | G46: 6 | H46: 2 | J46: 4 | K46: 2 | L46: 1 | N46: 1 | P46: 1 | S46: 4 | T46: 1 | U46: 1 | V46: 3 | Y46: 2
A47: 2.8 | B47: ä³ÛÙ³Ý³·Çñ ÏÝù»ÉáõÝ å³ñï³íáñ»óÝ»Éáõ í»ñ³µ»ñÛ³É | F47: 2 | G47: 2 | J47: 2 | K47: 1 | M47: 1 | S47: 2 | U47: 2 | V47: 1
A48: 2.9 | B48: ²ÛÉ í»×»ñ | E48: 1 | F48: 5 | G48: 5 | J48: 2 | K48: 1 | L48: 1 | S48: 2 | U48: 2 | Y48: 4 | Z48: 1
A49: 3. | B49: Ä³é³Ý·áõÃÛ³Ý í»ñ³µ»ñÛ³É í»×»ñ | E49: =SUM(E50:E56) -> 4 | F49: =SUM(F50:F56) -> 30 | G49: =SUM(G50:G56) -> 27 | H49: =SUM(H50:H56) -> 3 | I49: =SUM(I50:I56) -> 0 | J49: =SUM(J50:J56) -> 18 | K49: =SUM(K50:K56) -> 10 | L49: =SUM(L50:L56) -> 1 | ... Z49: =SUM(Z50:Z56) -> 4
A50: 3.1 | B50: Îï³ÏÝ ³Ýí³í»ñ ×³Ý³ã»Éáõ í»ñ³µ»ñÛ³É | E50: 1 | F50: 1 | G50: 1 | J50: 1 | L50: 1 | S50: 1 | V50: 1 | Y50: 1
A51: 3.2 | B51: ²Ý³ñÅ³Ý Å³é³Ý· ×³Ý³ã»Éáõ í»ñ³µ»ñÛ³É
A52: 3.3 | B52: Ä³é³Ý·áõÃÛáõÝÁ µ³Å³Ý»Éáõ í»ñ³µ»ñÛ³É | E52: 2 | F52: 2 | G52: 2 | J52: 1 | K52: 1 | S52: 1 | U52: 1 | Y52: 3 | Z52: 3
A53: 3.4 | B53: ¶áõÛùÝ ³ÝÅ³é³Ý· ×³Ý³ã»Éáõ í»ñ³µ»ñÛ³É
A54: 3.5 | B54: Àëï ûñ»ÝùÇ Å³é³Ý·áõÃÛ³Ý Çñ³íáõÝùÇ íÏ³Û³Ï³ÝÝ ³Ýí³í»ñ ×³Ý³ã»Éáõ í»ñ³µ»ñÛ³É | F54: 3 | G54: 1 | H54: 2 | Y54: 1
A55: 3.6 | B55: Ä³é³Ý·áõÃÛáõÝÝ ÁÝ¹áõÝ»Éáõ µ³ó ÃáÕÝí³Í Å³ÙÏ»ïÁ Ñ³ñ·»ÉÇ Ñ³Ù³ñ»Éáõ í»ñ³µ»ñÛ³É | E55: 1 | F55: 20 | G55: 20 | J55: 15 | K55: 9 | M55: 5 | N55: 1 | P55: 1 | R55: 3 | S55: 18 | U55: 17 | V55: 1 | Y55: 3 | Z55: 1
A56: 3.7 | B56: ²ÛÉ í»×»ñ | F56: 4 | G56: 3 | H56: 1 | J56: 1 | N56: 1 | P56: 1 | S56: 1 | U56: 1 | Y56: 2
A57: 4 | B57: ÀÝï³Ý»Ï³Ý Çñ³í³Ñ³ñ³µ»ñáõÃÛáõÝÝ»ñÇó Í³·áÕ í»×»ñ | E57: =SUM(E58:E70) -> 14 | F57: =SUM(F58:F70) -> 92 | G57: =SUM(G58:G70) -> 90 | H57: =SUM(H58:H70) -> 2 | I57: =SUM(I58:I70) -> 0 | J57: =SUM(J58:J70) -> 79 | K57: =SUM(K58:K70) -> 47 | L57: =SUM(L58:L70) -> 12 | ... Z57: =SUM(Z58:Z70) -> 3
A58: 4.1 | B58: ²ÙáõëÝ³ÉáõÍáõÃÛ³Ý í»ñ³µ»ñÛ³É | E58: 5 | F58: 43 | G58: 41 | H58: 2 | J58: 36 | K58: 27 | L58: 3 | N58: 6 | P58: 4 | Q58: 2 | S58: 36 | U58: 30 | V58: 1 | Y58: 10 | Z58: 1
A59: 4.2 | B59: ²ÉÇÙ»ÝïÇ å³Ñ³ÝçÇ í»ñ³µ»ñÛ³É | E59: 3 | F59: 11 | G59: 11 | J59: 9 | K59: 2 | L59: 5 | N59: 2 | P59: 2 | S59: 9 | T59: 1 | U59: 8 | V59: 1 | Y59: 4 | Z59: 1
A60: 4.3 | B60: ²ÉÇÙ»ÝïÇ ã³÷Á ÷á÷áË»Éáõ í»ñ³µ»ñÛ³É | F60: 7 | G60: 7 | J60: 6 | K60: 3 | L60: 1 | M60: 1 | N60: 1 | P60: 1 | S60: 6 | U60: 2 | Y60: 1
A61: 4.4 | B61: ÌÝáÕ³Ï³Ý Çñ³íáõÝùÝ»ñÇó ½ñÏ»Éáõ í»ñ³µ»ñÛ³É | E61: 1 | F61: 1 | G61: 1 | J61: 2 | M61: 1 | N61: 1 | P61: 1 | S61: 2
A62: 4.5 | B62: ÌÝáÕ³Ï³Ý Çñ³íáõÝùÝ»ñÁ í»ñ³Ï³Ý·Ý»Éáõ í»ñ³µ»ñÛ³É
A63: 4.6 | B63: ºñ»Ë³ÛÇ áñ¹»·ñÙ³Ý í»ñ³µ»ñÛ³É | E63: 1 | F63: 3 | G63: 3 | J63: 3 | K63: 2 | N63: 1 | P63: 1 | S63: 3 | U63: 3 | Y63: 1
A64: 4.7 | B64: ºñ»Ë³ÛÇ áñ¹»·ñáõÙÁ í»ñ³óÝ»Éáõ í»ñ³µ»ñÛ³É
A65: 4.8 | B65: Ð³ÛñáõÃÛáõÝÁ ×³Ý³ã»Éáõ í»ñ³µ»ñÛ³É | E65: 2 | F65: 12 | G65: 12 | J65: 10 | K65: 6 | L65: 1 | M65: 2 | N65: 1 | P65: 1 | R65: 1 | S65: 11 | U65: 10 | Y65: 3
A66: 4.9 | B66: ºñ»Ë³ÛÇ µÝ³ÏáõÃÛ³Ý í³ÛñÁ áñáß»Éáõ í»ñ³µ»ñÛ³É | E66: 2 | F66: 3 | G66: 3 | J66: 4 | K66: 2 | M66: 1 | N66: 1 | P66: 1 | S66: 4 | U66: 3 | V66: 1 | Y66: 1 | Z66: 1
A67: 4.10 | B67: ºñ»Ë³ÛÇ Ñ»ï ï»ë³ÏóáõÃÛ³Ý Ï³ñ· ë³ÑÙ³Ý»Éáõ í»ñ³µ»ñÛ³É | F67: 6 | G67: 6 | J67: 6 | K67: 3 | L67: 2 | M67: 1 | S67: 6 | U67: 5 | V67: 2
A68: 4.11 | B68: ²ÙáõëÇÝÝ»ñÇ ÁÝ¹Ñ³Ýáõñ ·áõÛùÁ µ³Å³Ý»Éáõ í»ñ³µ»ñÛ³É | F68: 4 | G68: 4 | J68: 2 | K68: 2 | S68: 2 | U68: 2 | Y68: 2
A69: 4.12 | B69: ²ÙáõëÝ³Ï³Ý å³ÛÙ³Ý³·ñÇ ÷á÷áËÙ³Ý Ï³Ù ÉáõÍÙ³Ý í»ñ³µ»ñÛ³É
A70: 4.13 | B70: ²ÛÉ í»×»ñ | F70: 2 | G70: 2 | J70: 1 | N70: 1 | P70: 1 | S70: 1 | U70: 1 | Y70: 1
A71: 5. | B71: Øï³íáñ ë»÷³Ï³ÝáõÃÛáõÝ | E71: =SUM(E72:E77) -> 0 | F71: =SUM(F72:F77) -> 0 | G71: =SUM(G72:G77) -> 0 | H71: =SUM(H72:H77) -> 0 | I71: =SUM(I72:I77) -> 0 | J71: =SUM(J72:J77) -> 0 | K71: =SUM(K72:K77) -> 0 | L71: =SUM(L72:L77) -> 0 | ... Z71: =SUM(Z72:Z77) -> 0
A72: 5.1 | B72: ÈÇó»Ý½³ÛÇÝ å³ÛÙ³Ý³·ñÇ ÉáõÍÙ³Ý, ÷á÷áËÙ³Ý ¨ ³Ýí³í»ñáõÃÛ³Ý í»ñ³µ»ñÛ³É
A73: 5.2 | B73: Øï³íáñ ·áñÍáõÝ»áõÃÛ³Ý ³ñ¹ÛáõÝùÝ»ñ ëï»ÕÍ»Éáõ ¨ û·ï³·áñÍ»Éáõ å³ÛÙ³Ý³·ñÇ ÉáõÍÙ³Ý, ÷á÷áËÙ³Ý áõ ³Ýí³í»ñáõÃÛ³Ý í»ñ³µ»ñÛ³É
A74: 5.3 | B74: Ð»ÕÇÝ³Ï³ÛÇÝ ¨ Ñ³ñ³ÏÇó Çñ³íáõÝùÝ»ñÇ í»ñ³µ»ñÛ³É
A75: 5.4 | B75: üÇñÙ³ÛÇÝ ³Ýí³ÝÙ³Ý í»ñ³µ»ñÛ³É
A76: 5.5 | B76: ²åñ³Ýù³ÛÇÝ Ýß³ÝÇ í»ñ³µ»ñÛ³É
A77: 5.6 | B77: ²ÛÉ í»×»ñ
A78: 6. | B78: ²ßË³ï³Ýù³ÛÇÝ í»×»ñ | E78: =SUM(E79:E84) -> 2 | F78: =SUM(F79:F84) -> 24 | G78: =SUM(G79:G84) -> 19 | H78: =SUM(H79:H84) -> 5 | I78: =SUM(I79:I84) -> 0 | J78: =SUM(J79:J84) -> 19 | K78: =SUM(K79:K84) -> 7 | L78: =SUM(L79:L84) -> 2 | ... Z78: =SUM(Z79:Z84) -> 0
A79: 6.1 | B79: ²ßË³ï³Ýù³ÛÇÝ å³ÛÙ³Ý³·ñ»ñÇ í»ñ³µ»ñÛ³É | F79: 2 | G79: 2 | J79: 1 | M79: 1 | S79: 1 | U79: 1 | Y79: 1
A80: 6.2 | B80: ²ßË³ï³ÝùáõÙ í»ñ³Ï³Ý·Ý»Éáõ í»ñ³µ»ñÛ³É | F80: 3 | G80: 3 | J80: 2 | K80: 1 | M80: 1 | S80: 2 | U80: 1 | V80: 1 | Y80: 1
A81: 6.3 | B81: ¶áñÍ³¹áõÉÝ ³ÝûñÇÝ³Ï³Ý ×³Ý³ã»Éáõ í»ñ³µ»ñÛ³É
A82: 6.4 | B82: Ð³ñÏ³¹Çñ å³ñ³åáõñ¹Ç Ñ³ïáõóÙ³Ý í»ñ³µ»ñÛ³É
A83: 6.5 | B83: âí×³ñí³Í ³ßË³ï³í³ñÓÇ ¨/Ï³Ù ³ÛÉ í×³ñÝ»ñÇ µéÝ³·³ÝÓÙ³Ý í»ñ³µ»ñÛ³É | E83: 2 | F83: 14 | G83: 9 | H83: 5 | J83: 11 | K83: 4 | L83: 1 | M83: 1 | N83: 5 | Q83: 5 | S83: 11 | U83: 8 | V83: 2
A84: 6.6 | B84: ²ÛÉ í»×»ñ | F84: 5 | G84: 5 | J84: 5 | K84: 2 | L84: 1 | M84: 2 | S84: 5 | U84: 3
A85: 7. | B85: Æñ³í³µ³Ý³Ï³Ý ³ÝÓÇ ·áñÍáõÝ»áõÃÛ³Ý í»ñ³µ»ñÛ³É | E85: =SUM(E86:E87) -> 0 | F85: =SUM(F86:F87) -> 0 | G85: =SUM(G86:G87) -> 0 | H85: =SUM(H86:H87) -> 0 | I85: =SUM(I86:I87) -> 0 | J85: =SUM(J86:J87) -> 0 | K85: =SUM(K86:K87) -> 0 | L85: =SUM(L86:L87) -> 0 | ... Z85: =SUM(Z86:Z87) -> 0
A86: 7.1 | B86: Îáñåáñ³ïÇí í»×»ñ
A87: 7.2 | B87: ²ÛÉ í»×»ñ
A88: 8. | B88: Ð³ïáõÏ í³ñáõÛÃÇ ·áñÍ»ñ | E88: =SUM(E89:E109) -> 15 | F88: =SUM(F89:F109) -> 366 | G88: =SUM(G89:G109) -> 345 | H88: =SUM(H89:H109) -> 20 | I88: =SUM(I89:I109) -> 1 | J88: =SUM(J89:J109) -> 325 | K88: =SUM(K89:K109) -> 274 | L88: =SUM(L89:L109) -> 19 | ... Z88: =SUM(Z89:Z109) -> 3
A89: 8.1 | B89: ²Ýã³÷³Ñ³ëÇÝ ÉñÇí ·áñÍáõÝ³Ï ×³Ý³ã»Éáõ /¿Ù³ÝëÇå³óÇ³/ í»ñ³µ»ñÛ³É
A90: 8.2 | B90: ø³Õ³ù³óáõÝ ³Ý·áñÍáõÝ³Ï Ï³Ù ë³ÑÙ³Ý³÷³Ï ·áñÍáõÝ³Ï ×³Ý³ã»Éáõ í»ñ³µ»ñÛ³É | E90: 2 | F90: 5 | G90: 5 | J90: 3 | K90: 2 | N90: 1 | P90: 1 | S90: 3 | U90: 2 | Y90: 4 | Z90: 2
A91: 8.3 | B91: ø³Õ³ù³óáõÝ Ñá·»µáõÅ³Ï³Ý ÑÇí³Ý¹³Ýáó³ÛÇÝ Ñ³ñÏ³¹Çñ µáõÅÙ³Ý »ÝÃ³ñÏ»Éáõ í»ñ³µ»ñÛ³É
A92: 8.4 | B92: ø³Õ³ù³óáõÝ ³ÝÑ³Ûï µ³ó³Ï³ÛáÕ Ï³Ù Ù³Ñ³ó³Í ×³Ý³ã»Éáõ í»ñ³µ»ñÛ³É | E92: 2 | F92: 8 | G92: 7 | H92: 1 | J92: 8 | K92: 7 | N92: 1 | Q92: 1 | R92: 1 | S92: 9 | U92: 8
A93: 8.5 | B93: ø³Õ³ù³óÇ³Ï³Ý Ï³óáõÃÛ³Ý ³Ïï»ñÇ ·ñ³éáõÙÝ»ñÇ ³Ý×ßïáõÃÛáõÝÝ»ñÁ å³ñ½»Éáõ í»ñ³µ»ñÛ³É | F93: 4 | G93: 4 | J93: 3 | N93: 3 | Q93: 3 | R93: 1 | S93: 4 | U93: 4
A94: 8.6 | B94: ¶áõÛùÁ ïÇñ³½áõñÏ ×³Ý³ã»Éáõ í»ñ³µ»ñÛ³É | F94: 3 | G94: 3 | J94: 3 | K94: 2 | N94: 1 | P94: 1 | S94: 3 | U94: 3
A95: 8.6.1 | B95: ²Û¹ ÃíáõÙª ³Ýß³ñÅ ·áõÛùÁ | F95: 2 | G95: 2 | J95: 2 | L95: 2 | S95: 2 | U95: 2
A96: 8.6.2 | B96: ²Û¹ ÃíáõÙª ß³ñÅ³Ï³Ý ·áõÛùÁ | F96: 2 | G96: 2 | J96: 2 | K96: 1 | M96: 1 | S96: 2 | U96: 2
A97: 8.7 | B97: Æñ³í³µ³Ý³Ï³Ý Ýß³Ý³ÏáõÃÛáõÝ áõÝ»óáÕ ÷³ëï»ñÇ Ñ³ëï³ïÙ³Ý í»ñ³µ»ñÛ³É
A98: 8.7.1 | B98: ²ÝÓ³Ýó ³½·³Ïó³Ï³Ý Ï³åÁ Ñ³ëï³ï»Éáõ í»ñ³µ»ñÛ³É | E98: 2 | F98: 37 | G98: 35 | H98: 2 | J98: 34 | K98: 29 | L98: 1 | M98: 2 | N98: 2 | P98: 1 | Q98: 1 | R98: 1 | S98: 35 | U98: 35 | Y98: 2
A99: 8.7.2 | B99: ²ÝÓÇª áõñÇßÇ ËÝ³ÙùÇ ï³Ï ·ïÝí»Éáõ í»ñ³µ»ñÛ³É | F99: 1 | G99: 1 | J99: 1 | K99: 1 | S99: 1 | U99: 1
A100: 8.7.3 | B100: ÌÝÝ¹Û³Ý, áñ¹»·ñÙ³Ý, ³ÙáõëÝáõÃÛ³Ý, ³å³Ñ³ñ½³ÝÇ ¨ Ù³Ñí³Ý ·ñ³ÝóÙ³Ý í»ñ³µ»ñÛ³É | E100: 1 | F100: 19 | G100: 17 | H100: 2 | J100: 16 | K100: 12 | M100: 2 | N100: 2 | P100: 1 | Q100: 1 | S100: 16 | U100: 16 | Y100: 2 | Z100: 1
A101: 8.7.4 | B101: ²ÝÓÇª áñáß³ÏÇ Å³Ù³Ý³ÏáõÙ ¨ áñáß³ÏÇ Ñ³Ý·³Ù³ÝùÝ»ñáõÙ Ù³Ñí³Ý í»ñ³µ»ñÛ³É | E101: 1 | F101: 1 | G101: 1 | J101: 2 | K101: 2 | S101: 2 | U101: 2
A102: 8.7.5 | B102: Ä³é³Ý·áõÃÛáõÝÝ ÁÝ¹áõÝ»Éáõ ¨ Å³é³Ý·áõÃÛ³Ý µ³óÙ³Ý í³ÛñÇ í»ñ³µ»ñÛ³É | E102: 2 | F102: 10 | G102: 9 | H102: 1 | J102: 8 | K102: 4 | M102: 2 | N102: 2 | P102: 2 | S102: 8 | U102: 8 | Y102: 3
A103: 8.7.6 | B103: ¸Åµ³Ëï å³ï³Ñ³ñÇ í»ñ³µ»ñÛ³É
A104: 8.7.7 | B104: Æñ³íáõÝù ë³ÑÙ³ÝáÕ ÷³ëï³ÃÕÃ»ñÇ å³ïÏ³Ý»ÉáõÃÛ³Ý í»ñ³µ»ñÛ³É | E104: 2 | F104: 127 | G104: 116 | H104: 11 | J104: 105 | K104: 95 | L104: 1 | M104: 1 | N104: 8 | P104: 4 | Q104: 4 | R104: 3 | S104: 108 | U104: 103 | Y104: 10
A105: 8.7.8 | B105: ê»÷³Ï³ÝáõÃÛ³Ý Çñ³íáõÝùáí ·áõÛùÇ ïÇñ³å»ïÙ³Ý í»ñ³µ»ñÛ³É | E105: 2 | F105: 8 | G105: 7 | H105: 1 | J105: 8 | K105: 6 | L105: 1 | M105: 1 | S105: 8 | U105: 7 | Y105: 1
A106: 8.7.9 | B106: ²ÝÑ³ÕÃ³Ñ³ñ»ÉÇ áõÅÇ ³éÏ³ÛáõÃÛ³Ý í»ñ³µ»ñÛ³É
A107: 8.8 | B107: Àëï Ý»ñÏ³Û³óÝáÕÇ ¨ ûñ¹»ñ³ÛÇÝ Ïáñóñ³Í ³ñÅ»ÃÕÃ»ñáí Ñ³í³ëïí³Í Çñ³íáõÝùÝ»ñÁ í»ñ³Ï³Ý·Ý»Éáõ í»ñ³µ»ñÛ³É
A108: 8.9 | B108: Ð³ñÏ³¹Çñ Ï³ï³ñáÕÇ ¹ÇÙáõÙáí ÏáÕÙ»ñÇ Ñ³ßïáõÃÛ³Ý Ñ³Ù³Ó³ÛÝáõÃÛ³Ý ÑÇÙ³Ý íñ³ ¹³ï³ñ³ÝÇª ·áñÍÝ Áëï ¿áõÃÛ³Ý ÉáõÍáÕ ¹³ï³Ï³Ý ³ÏïÇ í»ñ³Ý³ÛÙ³Ý í»ñ³µ»ñÛ³É
A109: 8.10 | B109: ²ÛÉ í»×»ñ | E109: 1 | F109: 139 | G109: 136 | H109: 2 | I109: 1 | J109: 130 | K109: 113 | L109: 14 | M109: 3 | R109: 2 | S109: 132 | U109: 123 | V109: 1 | Y109: 5
A110: 9. | B110: Ð³ïáõÏ Ñ³Ûó³ÛÇÝ í³ñáõÛÃÇ ·áñÍ»ñ | E110: =SUM(E111:E113) -> 0 | F110: =SUM(F111:F113) -> 0 | G110: =SUM(G111:G113) -> 0 | H110: =SUM(H111:H113) -> 0 | I110: =SUM(I111:I113) -> 0 | J110: =SUM(J111:J113) -> 0 | K110: =SUM(K111:K113) -> 0 | L110: =SUM(L111:L113) -> 0 | ... Z110: =SUM(Z111:Z113) -> 0
A111: 9.1 | B111: ø³Õ³ù³óáõ ÏÛ³ÝùÇÝ Ï³Ù ³éáÕçáõÃÛ³ÝÝ ëå³éÝ³óáÕ íï³Ý·Ç í»ñ³µ»ñÛ³É
A112: 9.2 | B112: ÐÐ Î»ÝïñáÝ³Ï³Ý µ³ÝÏÇ ¨ ³Ýí×³ñáõÝ³Ï µ³ÝÏÇ Ï³Ù í³ñÏ³ÛÇÝ Ï³½Ù³Ï»ñåáõÃÛ³Ý Å³Ù³Ý³Ï³íáñ ³¹ÙÇÝÇëïñ³óÇ³ÛÇ áñáßáõÙÝ»ñÇ µáÕáù³ñÏÙ³Ý í»ñ³µ»ñÛ³É
...

Sheet Արմավիր
A1: Ð²ÞìºîìàôÂÚàôÜ
A2: ø²Ô²ø²òÆ²Î²Ü ¶àðÌºðÆ øÜÜàôÂÚ²Ü ìºð²´ºðÚ²È
A3: 2009Ã. ï³ñí³ Ñ³Ù³ñ
A5: êïáõ·Çã Ñ³í³ë³ñáõÙÝ»ñª 2=3+4+5, 1+3=15+16+21, 6=7+8+9+10, 10=11+12+13, 15=6+14, | E5: ²Ý³í³ñï ·áñÍ»ñÇ ÙÝ³óáñ¹Á Ñ³ßí»ïáõ Å³Ù³Ý³Ï³ßñç³ÝÇ ëÏ½µáõÙ | F5: êï³óí³Í Ñ³Ûó»ñÇ,¹ÇÙáõÙÝ»ñÇ (·áñÍ»ñ)ù³Ý³ÏÁ | J5: ²í³ñïí»É »Ý ·áñÍ»ñ Ñ³ßí»ïáõ Å³Ù³Ý³Ï³ßñç³ÝáõÙ | T5: ¶áñÍÝ áõÕ³ñÏí»É ¿ Áëï ÁÝ¹¹³ïáõÃÛ³Ý | U5: Øï»É »Ý ûñÇÝ³Ï³Ý áõÅÇ Ù»ç | V5: ´áÕáù³ñÏí»É »Ý í»ñ³ùÝÝÇã ¹³ï³ñ³Ý | Y5: ²Ý³í³ñï ·áñÍ»ñÇ ÙÝ³óáñ¹Á Ñ³ßí»ïáõ Å³Ù³Ý³Ï³ßñç³ÝÇ í»ñçáõÙ | Z5: ²Û¹ ÃíáõÙª Ï³ë»óí³Í
F8: ÀÝ¹³Ù»ÝÁ | G8: ²Û¹ ÃíáõÙª ÁÝ¹áõÝí»É ¿ í³ñáõÛÃ | H8: ²Û¹ ÃíáõÙª í»ñ³¹³ñÓí»É ¿ | I8: ²Û¹ ÃíáõÙª Ñ³Ûó»ñÇ (¹ÇÙáõÙÝ»ñÇ) ÁÝ¹áõÝáõÙÁ Ù»ñÅí»É ¿ | J8: ÀÝ¹³Ù»ÝÁ ³í³ñïí»É »Ý ·áñÍ»ñ í×éÇ Ï³Û³óáõÙáí | K8: ²Û¹ ÃíáõÙª Ñ³ÛóÇ µ³í³ñ³ñÙ³Ùµ | L8: ²Û¹ ÃíáõÙª Ñ³ÛóÇ Ù³ëÝ³ÏÇ µ³í³ñ³ñÙ³Ùµ | M8: ²Û¹ ÃíáõÙª Ñ³ÛóÇ Ù»ñÅÙ³Ùµ | N8: ²Û¹ ÃíáõÙª Ï³ñ×í»É »Ý | R8: Ð³ÛóÁ ÃáÕÝí»É ¿ ³é³Ýó ùÝÝáõÃÛ³Ý | S8: ÀÝ¹³Ù»ÝÝ ³í³ñïí»É »Ý ·áñÍ»ñ | V8: Ï³Û³óí³Í í×ÇéÝ»ñÇ ¹»Ù | W8: ³é³Ýó ùÝÝáõÃÛ³Ý ÃáÕÝ»Éáõ Ù³ëÇÝ áñáßáõÙÝ»ñÇ ¹»Ù | X8: ÙÇç³ÝÏÛ³É ¹³ï³Ï³Ý ³Ïï»ñÇ ¹»Ù
N11: ÀÝ¹³Ù»ÝÁ Ï³ñ×í»É »Ý | O11: ²Û¹ ÃíáõÙª Ñ³ëï³ïí»É ¿ ÏÝùí³Í Ñ³ßïáõÃÛ³Ý Ñ³Ù³Ó³ÛÝáõÃÛáõÝÁ | P11: ²Û¹ ÃíáõÙª Ñ³óÇó, ¹ÇÙáõÙÇó Ññ³Å³ñí»Éáõ ÑÇÙùáí | Q11: ²Û¹ ÃíáõÙª ³ÛÉ ÑÇÙùáí
A19: Æñ³í³Ñ³ñ³µ»ñáõÃÛáõÝÝ»ñÇ ï»ë³ÏÝ»ñÁ | E19: 1 | F19: 2 | G19: 3 | H19: 4 | I19: 5 | J19: 6 | K19: 7 | L19: 8 | M19: 9 | N19: 10 | O19: 11 | P19: 12 | Q19: 13 | R19: 14 | S19: 15 | T19: 16 | U19: 17 | V19: 18 | W19: 19 | X19: 20 | Y19: 21 | Z19: 22
A20: 1. | B20: ¶áõÛù³ÛÇÝ í»×»ñ | E20: =SUM(E21+E22+E23+E24+E25+E26+E27+E28+E29+E30+E31+E32+E33+E34+E35+E36) -> 32 | F20: =SUM(F21+F22+F23+F24+F25+F26+F27+F28+F29+F30+F31+F32+F33+F34+F35+F36) -> 219 | G20: =SUM(G21+G22+G23+G24+G25+G26+G27+G28+G29+G30+G31+G32+G33+G34+G35+G36) -> 191 | H20: =SUM(H21+H22+H23+H24+H25+H26+H27+H28+H29+H30+H31+H32+H33+H34+H35+H36) -> 24 | I20: =SUM(I21+I22+I23+I24+I25+I26+I27+I28+I29+I30+I31+I32+I33+I34+I35+I36) -> 4 | J20: =SUM(J21+J22+J23+J24+J25+J26+J27+J28+J29+J30+J31+J32+J33+J34+J35+J36) -> 166 | K20: =SUM(K21+K22+K23+K24+K25+K26+K27+K28+K29+K30+K31+K32+K33+K34+K35+K36) -> 98 | L20: =SUM(L21+L22+L23+L24+L25+L26+L27+L28+L29+L30+L31+L32+L33+L34+L35+L36) -> 16 | ... Z20: =SUM(Z21+Z22+Z23+Z24+Z25+Z26+Z27+Z28+Z29+Z30+Z31+Z32+Z33+Z34+Z35+Z36) -> 17
A21: 1.1 | B21: ¶áõÛùÇ ÝÏ³ïÙ³Ùµ ë»÷³Ï³ÝáõÃÛ³Ý Çñ³íáõÝùÁ ×³Ý³ã»Éáõ í»ñ³µ»ñÛ³É | E21: 3 | F21: 46 | G21: 40 | H21: 5 | I21: 1 | J21: 35 | K21: 26 | L21: 3 | M21: 4 | N21: 2 | P21: 1 | Q21: 1 | R21: 1 | S21: 36 | U21: 30 | V21: 6 | Y21: 7 | Z21: 2
A22: 1.1.1 | B22: ²Û¹ ÃíáõÙª Ó»éùµ»ñÙ³Ý í³Õ»ÙáõÃÛ³Ý áõÅáí | E22: 1 | F22: 13 | G22: 13 | J22: 11 | K22: 6 | L22: 1 | M22: 3 | N22: 1 | P22: 1 | S22: 11 | U22: 9 | V22: 2 | Y22: 3
A23: 1.1.2 | B23: ²Û¹ ÃíáõÙª ïÇñ³½áõñÏ ·áõÛùÇ ÝÏ³ïÙ³Ùµ | F23: 1 | H23: 1
A24: 1.1.3 | B24: ²Û¹ ÃíáõÙª ÇÝùÝ³Ï³Ù Ï³éáõÛóÇ ÝÏ³ïÙ³Ùµ | F24: 1 | G24: 1 | J24: 1 | N24: 1 | P24: 1 | S24: 1 | U24: 1
A25: 1.2 | B25: ê»÷³Ï³ÝáõÃÛ³Ý Çñ³íáõÝùÇ ¹³¹³ñ»óÙ³Ý í»ñ³µ»ñÛ³É | F25: 16 | G25: 16 | J25: 16 | K25: 11 | N25: 5 | P25: 5 | S25: 16
A26: 1.3 | B26: ¶áõÛùÇ ÝÏ³ïÙ³Ùµ û·ï³·áñÍÙ³Ý Çñ³íáõÝùÁ ×³Ý³ã»Éáõ í»ñ³µ»ñÛ³É | E26: 1 | F26: 4 | G26: 4 | J26: 4 | K26: 1 | L26: 1 | N26: 2 | O26: 1 | P26: 1 | S26: 4 | U26: 3 | V26: 1 | Y26: 1
A27: 1.3.1 | B27: ²Û¹ ÃíáõÙª µÝ³Ïû·ï³·áñÍÙ³Ý Çñ³íáõÝùÁ ×³Ý³ã»Éáõ í»ñ³µ»ñÛ³É | F27: 1 | G27: 1 | J27: 1 | N27: 1 | P27: 1 | S27: 1
A28: 1.3.2 | B28: ²Û¹ ÃíáõÙª ÑáÕ³Ù³ëÇ ÝÏ³ïÙ³Ùµ û·ï³·áñÍÙ³Ý Çñ³íáõÝùÁ ×³Ý³ã»Éáõ í»ñ³µ»ñÛ³É
A29: 1.4 | B29: ¶áõÛùÇ ÝÏ³ïÙ³Ùµ û·ï³·áñÍÙ³Ý Çñ³íáõÝùÁ ¹³¹³ñ»óÝ»Éáõ í»ñ³µ»ñÛ³É
A30: 1.4.1 | B30: ²Û¹ ÃíáõÙª µÝ³Ïû·ï³·áñÍÙ³Ý Çñ³íáõÝùÁ ¹³¹³ñ»óÝ»Éáõ í»ñ³µ»ñÛ³É | E30: 2 | F30: 5 | G30: 5 | J30: 4 | K30: 3 | M30: 1 | S30: 4 | U30: 4 | Y30: 3
A31: 1.4.1/1 | B31: ²Û¹ ÃíáõÙª ÷áËÑ³ïáõóÙ³Ùµ | E31: 2 | F31: 1 | G31: 1 | J31: 1 | K31: 1 | S31: 1 | U31: 1 | Y31: 2
A32: 1.5 | B32: ´Ý³Ï³ñ³ÝÇó/ ï³ñ³ÍùÇó/ íï³ñ»Éáõ í»ñ³µ»ñÛ³É | E32: 3 | F32: 15 | G32: 15 | J32: 12 | K32: 9 | M32: 1 | N32: 2 | O32: 1 | P32: 1 | S32: 12 | T32: 1 | U32: 7 | V32: 5 | Y32: 5 | Z32: 2
A33: 1.6 | B33: ¶áõÛùÝ áõñÇßÇ ³åûñÇÝÇ ïÇñ³å»ïáõÙÇó »ï í»ñ³¹³ñÓÝ»Éáõ í»ñ³µ»ñÛ³É | E33: 6 | F33: 19 | G33: 17 | H33: 2 | J33: 15 | K33: 8 | L33: 2 | M33: 4 | N33: 1 | P33: 1 | S33: 15 | U33: 10 | V33: 5 | Y33: 8 | Z33: 6
A34: 1.7 | B34: îÇñ³å»ïáõÙÇó ½ñÏ»Éáõ Ñ»ï ãÏ³åí³Í Çñ³íáõÝùÝ»ñÇ Ë³ËïáõÙÁ í»ñ³óÝ»Éáõ í»ñ³µ»ñÛ³É | F34: 3 | G34: 3 | J34: 3 | K34: 2 | N34: 1 | P34: 1 | S34: 3 | U34: 3
A35: 1.8 | B35: ÀÝ¹Ñ³Ýáõñ µ³ÅÝ³ÛÇÝ ë»÷³Ï³ÝáõÃÛáõÝÇó µ³ÅÇÝÝ ³é³ÝÓÝ³óÝ»Éáõ í»ñ³µ»ñÛ³É | E35: 10 | F35: 51 | G35: 45 | H35: 6 | J35: 38 | K35: 16 | L35: 4 | M35: 3 | N35: 15 | P35: 13 | Q35: 2 | S35: 38 | U35: 36 | V35: 2 | Y35: 17 | Z35: 4
A36: 1.9 | B36: ²ÛÉ í»×»ñ | E36: 4 | F36: 43 | G36: 30 | H36: 10 | I36: 3 | J36: 25 | K36: 15 | L36: 5 | M36: 1 | N36: 4 | P36: 4 | S36: 25 | U36: 21 | V36: 4 | Y36: 9 | Z36: 3
A37: 2. | B37: ¶áñÍ³ñùÝ»ñÇ Ñ»ï Ï³åí³Í í»×»ñ | E37: =SUM(E38+E39+E40+E41+E42+E43+E44+E45+E46+E47+E48) -> 8 | F37: =SUM(F38+F39+F40+F41+F42+F43+F44+F45+F46+F47+F48) -> 121 | G37: =SUM(G38+G39+G40+G41+G42+G43+G44+G45+G46+G47+G48) -> 116 | H37: =SUM(H38+H39+H40+H41+H42+H43+H44+H45+H46+H47+H48) -> 5 | I37: =SUM(I38+I39+I40+I41+I42+I43+I44+I45+I46+I47+I48) -> 0 | J37: =SUM(J38+J39+J40+J41+J42+J43+J44+J45+J46+J47+J48) -> 100 | K37: =SUM(K38+K39+K40+K41+K42+K43+K44+K45+K46+K47+K48) -> 76 | L37: =SUM(L38+L39+L40+L41+L42+L43+L44+L45+L46+L47+L48) -> 6 | ... Z37: =SUM(Z38+Z39+Z40+Z41+Z42+Z43+Z44+Z45+Z46+Z47+Z48) -> 11
A38: 2.1 | B38: ¶áñÍ³ñùÝ ³Ýí³í»ñ ×³Ý³ã»Éáõ í»ñ³µ»ñÛ³É | F38: 9 | G38: 7 | H38: 2 | J38: 2 | K38: 1 | N38: 1 | P38: 1 | S38: 2 | T38: 1 | Y38: 4 | Z38: 2
A39: 2.1.1 | B39: ²Û¹ ÃíáõÙª íÇ×³Ñ³ñáõÛó ·áñÍ³ñùÝ»ñ
A40: 2.1.2 | B40: ²Û¹ ÃíáõÙª ³éáãÇÝã ·áñÍ³ñùÝ»ñ
A41: 2.2 | B41: ¶áñÍ³ñùÁ í³í»ñ ×³Ý³ã»Éáõ í»ñ³µ»ñÛ³É | E41: 7 | F41: 49 | G41: 48 | H41: 1 | J41: 48 | K41: 37 | L41: 4 | M41: 3 | N41: 4 | O41: 1 | P41: 3 | S41: 48 | U41: 48 | Y41: 7 | Z41: 3
A42: 2.3 | B42: ¶áñÍ³ñùÇó Í³·áÕ Çñ³íáõÝùÝ»ñÁ ·ñ³Ýó»Éáõ í»ñ³µ»ñÛ³É
A43: 2.4 | B43: ä³ÛÙ³Ý³·ÇñÝ ³Ýí³í»ñ ×³Ý³ã»Éáõ í»ñ³µ»ñÛ³É | F43: 15 | G43: 15 | J43: 9 | K43: 3 | M43: 6 | S43: 9 | T43: 1 | U43: 1 | V43: 8 | Y43: 5 | Z43: 3
A44: 2.5 | B44: ä³ÛÙ³Ý³·ñÇÁ í³í»ñ ×³Ý³ã»Éáõ í»ñ³µ»ñÛ³É | F44: 1 | G44: 1 | J44: 1 | K44: 1 | S44: 1 | U44: 1
A45: 2.6 | B45: ä³ÛÙ³Ý³·ñÇó Í³·áÕ Çñ³íáõÝùÝ»ñÁ ·ñ³Ýó»Éáõ í»ñ³µ»ñÛ³É
A46: 2.7 | B46: ä³ÛÙ³Ý³·ÇñÁ ÷á÷áË»Éáõ ¨ ÉáõÍ»Éáõ í»ñ³µ»ñÛ³É | F46: 39 | G46: 38 | H46: 1 | J46: 37 | K46: 32 | L46: 2 | M46: 1 | N46: 2 | P46: 2 | S46: 37 | U46: 35 | V46: 2 | Y46: 1 | Z46: 1
A47: 2.8 | B47: ä³ÛÙ³Ý³·Çñ ÏÝù»ÉáõÝ å³ñï³íáñ»óÝ»Éáõ í»ñ³µ»ñÛ³É
A48: 2.9 | B48: ²ÛÉ í»×»ñ | E48: 1 | F48: 8 | G48: 7 | H48: 1 | J48: 3 | K48: 2 | N48: 1 | P48: 1 | S48: 3 | T48: 1 | U48: 2 | V48: 1 | Y48: 4 | Z48: 2
A49: 3. | B49: Ä³é³Ý·áõÃÛ³Ý í»ñ³µ»ñÛ³É í»×»ñ | E49: =SUM(E50+E51+E52+E53+E54+E55+E56) -> 1 | F49: =SUM(F50+F51+F52+F53+F54+F55+F56) -> 41 | G49: =SUM(G50+G51+G52+G53+G54+G55+G56) -> 36 | H49: =SUM(H50+H51+H52+H53+H54+H55+H56) -> 4 | I49: =SUM(I50+I51+I52+I53+I54+I55+I56) -> 1 | J49: =SUM(J50+J51+J52+J53+J54+J55+J56) -> 28 | K49: =SUM(K50+K51+K52+K53+K54+K55+K56) -> 14 | L49: =SUM(L50+L51+L52+L53+L54+L55+L56) -> 4 | ... Z49: =SUM(Z50+Z51+Z52+Z53+Z54+Z55+Z56) -> 3
A50: 3.1 | B50: Îï³ÏÝ ³Ýí³í»ñ ×³Ý³ã»Éáõ í»ñ³µ»ñÛ³É | F50: 1 | G50: 1 | J50: 1 | M50: 1 | S50: 1
A51: 3.2 | B51: ²Ý³ñÅ³Ý Å³é³Ý· ×³Ý³ã»Éáõ í»ñ³µ»ñÛ³É
A52: 3.3 | B52: Ä³é³Ý·áõÃÛáõÝÁ µ³Å³Ý»Éáõ í»ñ³µ»ñÛ³É | F52: 6 | G52: 6 | J52: 6 | K52: 1 | L52: 2 | M52: 1 | N52: 2 | O52: 1 | P52: 1 | S52: 6 | U52: 3 | V52: 3
A53: 3.4 | B53: ¶áõÛùÝ ³ÝÅ³é³Ý· ×³Ý³ã»Éáõ í»ñ³µ»ñÛ³É
A54: 3.5 | B54: Àëï ûñ»ÝùÇ Å³é³Ý·áõÃÛ³Ý Çñ³íáõÝùÇ íÏ³Û³Ï³ÝÝ ³Ýí³í»ñ ×³Ý³ã»Éáõ í»ñ³µ»ñÛ³É
A55: 3.6 | B55: Ä³é³Ý·áõÃÛáõÝÝ ÁÝ¹áõÝ»Éáõ µ³ó ÃáÕÝí³Í Å³ÙÏ»ïÁ Ñ³ñ·»ÉÇ Ñ³Ù³ñ»Éáõ í»ñ³µ»ñÛ³É | F55: 4 | G55: 1 | H55: 2 | I55: 1 | J55: 1 | K55: 1 | S55: 1 | U55: 1 | X55: 1
A56: 3.7 | B56: ²ÛÉ í»×»ñ | E56: 1 | F56: 30 | G56: 28 | H56: 2 | J56: 20 | K56: 12 | L56: 2 | M56: 1 | N56: 5 | O56: 3 | P56: 2 | R56: 1 | S56: 21 | U56: 20 | V56: 1 | Y56: 8 | Z56: 3
A57: 4 | B57: ÀÝï³Ý»Ï³Ý Çñ³í³Ñ³ñ³µ»ñáõÃÛáõÝÝ»ñÇó Í³·áÕ í»×»ñ | E57: =SUM(E58+E59+E60+E61+E62+E63+E64+E65+E66+E67+E68+E69+E70) -> 20 | F57: =SUM(F58+F59+F60+F61+F62+F63+F64+F65+F66+F67+F68+F69+F70) -> 241 | G57: =SUM(G58+G59+G60+G61+G62+G63+G64+G65+G66+G67+G68+G69+G70) -> 227 | H57: =SUM(H58+H59+H60+H61+H62+H63+H64+H65+H66+H67+H68+H69+H70) -> 14 | I57: =SUM(I58+I59+I60+I61+I62+I63+I64+I65+I66+I67+I68+I69+I70) -> 0 | J57: =SUM(J58+J59+J60+J61+J62+J63+J64+J65+J66+J67+J68+J69+J70) -> 205 | K57: =SUM(K58+K59+K60+K61+K62+K63+K64+K65+K66+K67+K68+K69+K70) -> 129 | L57: =SUM(L58+L59+L60+L61+L62+L63+L64+L65+L66+L67+L68+L69+L70) -> 41 | ... Z57: =SUM(Z58+Z59+Z60+Z61+Z62+Z63+Z64+Z65+Z66+Z67+Z68+Z69+Z70) -> 17
A58: 4.1 | B58: ²ÙáõëÝ³ÉáõÍáõÃÛ³Ý í»ñ³µ»ñÛ³É | E58: 8 | F58: 111 | G58: 103 | H58: 8 | J58: 95 | K58: 75 | L58: 3 | M58: 1 | N58: 16 | P58: 16 | S58: 95 | U58: 94 | V58: 1 | Y58: 16 | Z58: 6
A59: 4.2 | B59: ²ÉÇÙ»ÝïÇ å³Ñ³ÝçÇ í»ñ³µ»ñÛ³É | E59: 3 | F59: 41 | G59: 41 | J59: 35 | K59: 11 | L59: 22 | N59: 2 | P59: 2 | S59: 35 | U59: 32 | V59: 3 | Y59: 9 | Z59: 3
A60: 4.3 | B60: ²ÉÇÙ»ÝïÇ ã³÷Á ÷á÷áË»Éáõ í»ñ³µ»ñÛ³É | E60: 3 | F60: 16 | G60: 16 | J60: 15 | K60: 3 | L60: 10 | M60: 1 | N60: 1 | P60: 1 | S60: 15 | U60: 12 | V60: 3 | Y60: 4 | Z60: 1
A61: 4.4 | B61: ÌÝáÕ³Ï³Ý Çñ³íáõÝùÝ»ñÇó ½ñÏ»Éáõ í»ñ³µ»ñÛ³É | F61: 1 | G61: 1 | Y61: 1
A62: 4.5 | B62: ÌÝáÕ³Ï³Ý Çñ³íáõÝùÝ»ñÁ í»ñ³Ï³Ý·Ý»Éáõ í»ñ³µ»ñÛ³É
A63: 4.6 | B63: ºñ»Ë³ÛÇ áñ¹»·ñÙ³Ý í»ñ³µ»ñÛ³É | E63: 1 | F63: 4 | G63: 3 | H63: 1 | J63: 4 | K63: 3 | N63: 1 | P63: 1 | S63: 4 | U63: 4
A64: 4.7 | B64: ºñ»Ë³ÛÇ áñ¹»·ñáõÙÁ í»ñ³óÝ»Éáõ í»ñ³µ»ñÛ³É | F64: 1 | G64: 1 | J64: 1 | K64: 1 | S64: 1 | U64: 1
A65: 4.8 | B65: Ð³ÛñáõÃÛáõÝÁ ×³Ý³ã»Éáõ í»ñ³µ»ñÛ³É | E65: 4 | F65: 27 | G65: 25 | H65: 2 | J65: 24 | K65: 21 | N65: 3 | P65: 2 | Q65: 1 | S65: 24 | U65: 24 | Y65: 5 | Z65: 5
A66: 4.9 | B66: ºñ»Ë³ÛÇ µÝ³ÏáõÃÛ³Ý í³ÛñÁ áñáß»Éáõ í»ñ³µ»ñÛ³É | F66: 3 | G66: 3 | J66: 2 | K66: 1 | N66: 1 | P66: 1 | S66: 2 | U66: 2 | Y66: 1 | Z66: 1
A67: 4.10 | B67: ºñ»Ë³ÛÇ Ñ»ï ï»ë³ÏóáõÃÛ³Ý Ï³ñ· ë³ÑÙ³Ý»Éáõ í»ñ³µ»ñÛ³É | F67: 10 | G67: 10 | J67: 9 | K67: 5 | L67: 4 | S67: 9 | U67: 9 | Y67: 1
A68: 4.11 | B68: ²ÙáõëÇÝÝ»ñÇ ÁÝ¹Ñ³Ýáõñ ·áõÛùÁ µ³Å³Ý»Éáõ í»ñ³µ»ñÛ³É | F68: 8 | G68: 6 | H68: 2 | J68: 6 | K68: 2 | M68: 3 | N68: 1 | P68: 1 | S68: 6 | U68: 5 | V68: 1
A69: 4.12 | B69: ²ÙáõëÝ³Ï³Ý å³ÛÙ³Ý³·ñÇ ÷á÷áËÙ³Ý Ï³Ù ÉáõÍÙ³Ý í»ñ³µ»ñÛ³É
A70: 4.13 | B70: ²ÛÉ í»×»ñ | E70: 1 | F70: 19 | G70: 18 | H70: 1 | J70: 14 | K70: 7 | L70: 2 | M70: 3 | N70: 2 | P70: 2 | S70: 14 | U70: 11 | V70: 3 | Y70: 5 | Z70: 1
A71: 5. | B71: Øï³íáñ ë»÷³Ï³ÝáõÃÛáõÝ | E71: =SUM(E72+E73+E74+E75+E76+E77) -> 0 | F71: =SUM(F72+F73+F74+F75+F76+F77) -> 1 | G71: =SUM(G72+G73+G74+G75+G76+G77) -> 1 | H71: =SUM(H72+H73+H74+H75+H76+H77) -> 0 | I71: =SUM(I72+I73+I74+I75+I76+I77) -> 0 | J71: =SUM(J72+J73+J74+J75+J76+J77) -> 1 | K71: =SUM(K72+K73+K74+K75+K76+K77) -> 1 | L71: =SUM(L72+L73+L74+L75+L76+L77) -> 0 | ... Z71: =SUM(Z72+Z73+Z74+Z75+Z76+Z77) -> 0
A72: 5.1 | B72: ÈÇó»Ý½³ÛÇÝ å³ÛÙ³Ý³·ñÇ ÉáõÍÙ³Ý, ÷á÷áËÙ³Ý ¨ ³Ýí³í»ñáõÃÛ³Ý í»ñ³µ»ñÛ³É
A73: 5.2 | B73: Øï³íáñ ·áñÍáõÝ»áõÃÛ³Ý ³ñ¹ÛáõÝùÝ»ñ ëï»ÕÍ»Éáõ ¨ û·ï³·áñÍ»Éáõ å³ÛÙ³Ý³·ñÇ ÉáõÍÙ³Ý, ÷á÷áËÙ³Ý áõ ³Ýí³í»ñáõÃÛ³Ý í»ñ³µ»ñÛ³É
A74: 5.3 | B74: Ð»ÕÇÝ³Ï³ÛÇÝ ¨ Ñ³ñ³ÏÇó Çñ³íáõÝùÝ»ñÇ í»ñ³µ»ñÛ³É | F74: 1 | G74: 1 | J74: 1 | K74: 1 | S74: 1 | V74: 1
A75: 5.4 | B75: üÇñÙ³ÛÇÝ ³Ýí³ÝÙ³Ý í»ñ³µ»ñÛ³É
A76: 5.5 | B76: ²åñ³Ýù³ÛÇÝ Ýß³ÝÇ í»ñ³µ»ñÛ³É
A77: 5.6 | B77: ²ÛÉ í»×»ñ
A78: 6. | B78: ²ßË³ï³Ýù³ÛÇÝ í»×»ñ | E78: =SUM(E79+E80+E81+E82+E83+E84) -> 4 | F78: =SUM(F79+F80+F81+F82+F83+F84) -> 24 | G78: =SUM(G79+G80+G81+G82+G83+G84) -> 21 | H78: =SUM(H79+H80+H81+H82+H83+H84) -> 3 | I78: =SUM(I79+I80+I81+I82+I83+I84) -> 0 | J78: =SUM(J79+J80+J81+J82+J83+J84) -> 21 | K78: =SUM(K79+K80+K81+K82+K83+K84) -> 7 | L78: =SUM(L79+L80+L81+L82+L83+L84) -> 2 | ... Z78: =SUM(Z79+Z80+Z81+Z82+Z83+Z84) -> 0
A79: 6.1 | B79: ²ßË³ï³Ýù³ÛÇÝ å³ÛÙ³Ý³·ñ»ñÇ í»ñ³µ»ñÛ³É
A80: 6.2 | B80: ²ßË³ï³ÝùáõÙ í»ñ³Ï³Ý·Ý»Éáõ í»ñ³µ»ñÛ³É | E80: 2 | F80: 3 | G80: 3 | J80: 5 | K80: 1 | M80: 4 | S80: 5 | U80: 4 | V80: 1
A81: 6.3 | B81: ¶áñÍ³¹áõÉÝ ³ÝûñÇÝ³Ï³Ý ×³Ý³ã»Éáõ í»ñ³µ»ñÛ³É
A82: 6.4 | B82: Ð³ñÏ³¹Çñ å³ñ³åáõñ¹Ç Ñ³ïáõóÙ³Ý í»ñ³µ»ñÛ³É | F82: 1 | G82: 1 | J82: 1 | K82: 1 | S82: 1
A83: 6.5 | B83: âí×³ñí³Í ³ßË³ï³í³ñÓÇ ¨/Ï³Ù ³ÛÉ í×³ñÝ»ñÇ µéÝ³·³ÝÓÙ³Ý í»ñ³µ»ñÛ³É | E83: 2 | F83: 17 | G83: 15 | H83: 2 | J83: 13 | K83: 4 | L83: 1 | M83: 1 | N83: 7 | P83: 7 | S83: 13 | U83: 13 | X83: 2 | Y83: 4
A84: 6.6 | B84: ²ÛÉ í»×»ñ | F84: 3 | G84: 2 | H84: 1 | J84: 2 | K84: 1 | L84: 1 | S84: 2 | V84: 2
A85: 7. | B85: Æñ³í³µ³Ý³Ï³Ý ³ÝÓÇ ·áñÍáõÝ»áõÃÛ³Ý í»ñ³µ»ñÛ³É | E85: =SUM(E86+E87) -> 0 | F85: =SUM(F86+F87) -> 0 | G85: =SUM(G86+G87) -> 0 | H85: =SUM(H86+H87) -> 0 | I85: =SUM(I86+I87) -> 0 | J85: =SUM(J86+J87) -> 0 | K85: =SUM(K86+K87) -> 0 | L85: =SUM(L86+L87) -> 0 | ... Z85: =SUM(Z86+Z87) -> 0
A86: 7.1 | B86: Îáñåáñ³ïÇí í»×»ñ
A87: 7.2 | B87: ²ÛÉ í»×»ñ
A88: 8. | B88: Ð³ïáõÏ í³ñáõÛÃÇ ·áñÍ»ñ | E88: =SUM(E89+E90+E91+E92+E93+E94+E95+E96+E97+E98+E99+E100+E101+E102+E103+E104+E105+E106+E107+E108+E109) -> 19 | F88: =SUM(F89+F90+F91+F92+F93+F94+F95+F96+F97+F98+F99+F100+F101+F102+F103+F104+F105+F106+F107+F108+F109) -> 278 | G88: =SUM(G89+G90+G91+G92+G93+G94+G95+G96+G97+G98+G99+G100+G101+G102+G103+G104+G105+G106+G107+G108+G109) -> 267 | H88: =SUM(H89+H90+H91+H92+H93+H94+H95+H96+H97+H98+H99+H100+H101+H102+H103+H104+H105+H106+H107+H108+H109) -> 9 | I88: =SUM(I89+I90+I91+I92+I93+I94+I95+I96+I97+I98+I99+I100+I101+I102+I103+I104+I105+I106+I107+I108+I109) -> 2 | J88: =SUM(J89+J90+J91+J92+J93+J94+J95+J96+J97+J98+J99+J100+J101+J102+J103+J104+J105+J106+J107+J108+J109) -> 263 | K88: =SUM(K89+K90+K91+K92+K93+K94+K95+K96+K97+K98+K99+K100+K101+K102+K103+K104+K105+K106+K107+K108+K109) -> 235 | L88: =SUM(L89+L90+L91+L92+L93+L94+L95+L96+L97+L98+L99+L100+L101+L102+L103+L104+L105+L106+L107+L108+L109) -> 4 | ... Z88: =SUM(Z89+Z90+Z91+Z92+Z93+Z94+Z95+Z96+Z97+Z98+Z99+Z100+Z101+Z102+Z103+Z104+Z105+Z106+Z107+Z108+Z109) -> 1
A89: 8.1 | B89: ²Ýã³÷³Ñ³ëÇÝ ÉñÇí ·áñÍáõÝ³Ï ×³Ý³ã»Éáõ /¿Ù³ÝëÇå³óÇ³/ í»ñ³µ»ñÛ³É
A90: 8.2 | B90: ø³Õ³ù³óáõÝ ³Ý·áñÍáõÝ³Ï Ï³Ù ë³ÑÙ³Ý³÷³Ï ·áñÍáõÝ³Ï ×³Ý³ã»Éáõ í»ñ³µ»ñÛ³É | F90: 9 | G90: 9 | J90: 8 | K90: 6 | M90: 1 | N90: 1 | P90: 1 | S90: 8 | U90: 8 | Y90: 1 | Z90: 1
A91: 8.3 | B91: ø³Õ³ù³óáõÝ Ñá·»µáõÅ³Ï³Ý ÑÇí³Ý¹³Ýáó³ÛÇÝ Ñ³ñÏ³¹Çñ µáõÅÙ³Ý »ÝÃ³ñÏ»Éáõ í»ñ³µ»ñÛ³É
A92: 8.4 | B92: ø³Õ³ù³óáõÝ ³ÝÑ³Ûï µ³ó³Ï³ÛáÕ Ï³Ù Ù³Ñ³ó³Í ×³Ý³ã»Éáõ í»ñ³µ»ñÛ³É | E92: 6 | F92: 34 | G92: 33 | H92: 1 | J92: 35 | K92: 30 | N92: 5 | P92: 5 | S92: 35 | U92: 35 | Y92: 4
A93: 8.5 | B93: ø³Õ³ù³óÇ³Ï³Ý Ï³óáõÃÛ³Ý ³Ïï»ñÇ ·ñ³éáõÙÝ»ñÇ ³Ý×ßïáõÃÛáõÝÝ»ñÁ å³ñ½»Éáõ í»ñ³µ»ñÛ³É
A94: 8.6 | B94: ¶áõÛùÁ ïÇñ³½áõñÏ ×³Ý³ã»Éáõ í»ñ³µ»ñÛ³É | E94: 3 | F94: 5 | G94: 5 | J94: 8 | K94: 3 | L94: 1 | N94: 4 | P94: 4 | S94: 8 | U94: 7 | V94: 1
A95: 8.6.1 | B95: ²Û¹ ÃíáõÙª ³Ýß³ñÅ ·áõÛùÁ | F95: 1 | G95: 1 | J95: 1 | M95: 1 | S95: 1 | V95: 1
A96: 8.6.2 | B96: ²Û¹ ÃíáõÙª ß³ñÅ³Ï³Ý ·áõÛùÁ
A97: 8.7 | B97: Æñ³í³µ³Ý³Ï³Ý Ýß³Ý³ÏáõÃÛáõÝ áõÝ»óáÕ ÷³ëï»ñÇ Ñ³ëï³ïÙ³Ý í»ñ³µ»ñÛ³É | E97: 10 | F97: 136 | G97: 133 | H97: 3 | J97: 131 | K97: 119 | L97: 2 | M97: 6 | N97: 4 | O97: 1 | P97: 3 | S97: 131 | U97: 129 | V97: 2 | Y97: 12
A98: 8.7.1 | B98: ²ÝÓ³Ýó ³½·³Ïó³Ï³Ý Ï³åÁ Ñ³ëï³ï»Éáõ í»ñ³µ»ñÛ³É | F98: 22 | G98: 22 | J98: 18 | K98: 17 | N98: 1 | P98: 1 | R98: 1 | S98: 19 | U98: 19 | Y98: 3
A99: 8.7.2 | B99: ²ÝÓÇª áõñÇßÇ ËÝ³ÙùÇ ï³Ï ·ïÝí»Éáõ í»ñ³µ»ñÛ³É
A100: 8.7.3 | B100: ÌÝÝ¹Û³Ý, áñ¹»·ñÙ³Ý, ³ÙáõëÝáõÃÛ³Ý, ³å³Ñ³ñ½³ÝÇ ¨ Ù³Ñí³Ý ·ñ³ÝóÙ³Ý í»ñ³µ»ñÛ³É | F100: 30 | G100: 26 | H100: 3 | I100: 1 | J100: 26 | K100: 26 | S100: 26 | U100: 26
A101: 8.7.4 | B101: ²ÝÓÇª áñáß³ÏÇ Å³Ù³Ý³ÏáõÙ ¨ áñáß³ÏÇ Ñ³Ý·³Ù³ÝùÝ»ñáõÙ Ù³Ñí³Ý í»ñ³µ»ñÛ³É | F101: 4 | G101: 4 | J101: 4 | K101: 4 | S101: 4 | U101: 4
A102: 8.7.5 | B102: Ä³é³Ý·áõÃÛáõÝÝ ÁÝ¹áõÝ»Éáõ ¨ Å³é³Ý·áõÃÛ³Ý µ³óÙ³Ý í³ÛñÇ í»ñ³µ»ñÛ³É
A103: 8.7.6 | B103: ¸Åµ³Ëï å³ï³Ñ³ñÇ í»ñ³µ»ñÛ³É
A104: 8.7.7 | B104: Æñ³íáõÝù ë³ÑÙ³ÝáÕ ÷³ëï³ÃÕÃ»ñÇ å³ïÏ³Ý»ÉáõÃÛ³Ý í»ñ³µ»ñÛ³É | F104: 34 | G104: 32 | H104: 2 | J104: 31 | K104: 30 | N104: 1 | P104: 1 | S104: 31 | U104: 31 | Y104: 1
A105: 8.7.8 | B105: ê»÷³Ï³ÝáõÃÛ³Ý Çñ³íáõÝùáí ·áõÛùÇ ïÇñ³å»ïÙ³Ý í»ñ³µ»ñÛ³É
A106: 8.7.9 | B106: ²ÝÑ³ÕÃ³Ñ³ñ»ÉÇ áõÅÇ ³éÏ³ÛáõÃÛ³Ý í»ñ³µ»ñÛ³É
A107: 8.8 | B107: Àëï Ý»ñÏ³Û³óÝáÕÇ ¨ ûñ¹»ñ³ÛÇÝ Ïáñóñ³Í ³ñÅ»ÃÕÃ»ñáí Ñ³í³ëïí³Í Çñ³íáõÝùÝ»ñÁ í»ñ³Ï³Ý·Ý»Éáõ í»ñ³µ»ñÛ³É
A108: 8.9 | B108: Ð³ñÏ³¹Çñ Ï³ï³ñáÕÇ ¹ÇÙáõÙáí ÏáÕÙ»ñÇ Ñ³ßïáõÃÛ³Ý Ñ³Ù³Ó³ÛÝáõÃÛ³Ý ÑÇÙ³Ý íñ³ ¹³ï³ñ³ÝÇª ·áñÍÝ Áëï ¿áõÃÛ³Ý ÉáõÍáÕ ¹³ï³Ï³Ý ³ÏïÇ í»ñ³Ý³ÛÙ³Ý í»ñ³µ»ñÛ³É
A109: 8.10 | B109: ²ÛÉ í»×»ñ | F109: 3 | G109: 2 | I109: 1 | J109: 1 | L109: 1 | S109: 1 | Y109: 1
A110: 9. | B110: Ð³ïáõÏ Ñ³Ûó³ÛÇÝ í³ñáõÛÃÇ ·áñÍ»ñ | E110: =SUM(E111+E112+E113) -> 0 | F110: =SUM(F111+F112+F113) -> 0 | G110: =SUM(G111+G112+G113) -> 0 | H110: =SUM(H111+H112+H113) -> 0 | I110: =SUM(I111+I112+I113) -> 0 | J110: =SUM(J111+J112+J113) -> 0 | K110: =SUM(K111+K112+K113) -> 0 | L110: =SUM(L111+L112+L113) -> 0 | ... Z110: =SUM(Z111+Z112+Z113) -> 0
A111: 9.1 | B111: ø³Õ³ù³óáõ ÏÛ³ÝùÇÝ Ï³Ù ³éáÕçáõÃÛ³ÝÝ ëå³éÝ³óáÕ íï³Ý·Ç í»ñ³µ»ñÛ³É
A112: 9.2 | B112: ÐÐ Î»ÝïñáÝ³Ï³Ý µ³ÝÏÇ ¨ ³Ýí×³ñáõÝ³Ï µ³ÝÏÇ Ï³Ù í³ñÏ³ÛÇÝ Ï³½Ù³Ï»ñåáõÃÛ³Ý Å³Ù³Ý³Ï³íáñ ³¹ÙÇÝÇëïñ³óÇ³ÛÇ áñáßáõÙÝ»ñÇ µáÕáù³ñÏÙ³Ý í»ñ³µ»ñÛ³É
...

Sheet Ավան
A1: Ð²ÞìºîìàôÂÚàôÜ
A2: ø²Ô²ø²òÆ²Î²Ü ¶àðÌºðÆ øÜÜàôÂÚ²Ü ìºð²´ºðÚ²È
A3: ²í³Ý ¨ Üáñ Üáñù í³ñã³Ï³Ý ßñç³ÝÝ»ñÇ ÁÝ¹Ñ³Ýáõñ Çñ³í³ëáõÃÛ³Ý ¹³ï³ñ³ÝÇ 2009Ã. ï³ñ»Ï³Ý
A5: êïáõ·Çã Ñ³í³ë³ñáõÙÝ»ñª 2=3+4+5, 1+3=15+16+21, 6=7+8+9+10, 10=11+12+13, 15=6+14, | E5: ²Ý³í³ñï ·áñÍ»ñÇ ÙÝ³óáñ¹Á Ñ³ßí»ïáõ Å³Ù³Ý³Ï³ßñç³ÝÇ ëÏ½µáõÙ | F5: êï³óí³Í Ñ³Ûó»ñÇ,¹ÇÙáõÙÝ»ñÇ (·áñÍ»ñ)ù³Ý³ÏÁ | J5: ²í³ñïí»É »Ý ·áñÍ»ñ Ñ³ßí»ïáõ Å³Ù³Ý³Ï³ßñç³ÝáõÙ | T5: ¶áñÍÝ áõÕ³ñÏí»É ¿ Áëï ÁÝ¹¹³ïáõÃÛ³Ý | U5: Øï»É »Ý ûñÇÝ³Ï³Ý áõÅÇ Ù»ç | V5: ´áÕáù³ñÏí»É »Ý í»ñ³ùÝÝÇã ¹³ï³ñ³Ý | Y5: ²Ý³í³ñï ·áñÍ»ñÇ ÙÝ³óáñ¹Á Ñ³ßí»ïáõ Å³Ù³Ý³Ï³ßñç³ÝÇ í»ñçáõÙ | Z5: ²Û¹ ÃíáõÙª Ï³ë»óí³Í
F8: ÀÝ¹³Ù»ÝÁ | G8: ²Û¹ ÃíáõÙª ÁÝ¹áõÝí»É ¿ í³ñáõÛÃ | H8: ²Û¹ ÃíáõÙª í»ñ³¹³ñÓí»É ¿ | I8: ²Û¹ ÃíáõÙª Ñ³Ûó»ñÇ (¹ÇÙáõÙÝ»ñÇ) ÁÝ¹áõÝáõÙÁ Ù»ñÅí»É ¿ | J8: ÀÝ¹³Ù»ÝÁ ³í³ñïí»É »Ý ·áñÍ»ñ í×éÇ Ï³Û³óáõÙáí | K8: ²Û¹ ÃíáõÙª Ñ³ÛóÇ µ³í³ñ³ñÙ³Ùµ | L8: ²Û¹ ÃíáõÙª Ñ³ÛóÇ Ù³ëÝ³ÏÇ µ³í³ñ³ñÙ³Ùµ | M8: ²Û¹ ÃíáõÙª Ñ³ÛóÇ Ù»ñÅÙ³Ùµ | N8: ²Û¹ ÃíáõÙª Ï³ñ×í»É »Ý | R8: Ð³ÛóÁ ÃáÕÝí»É ¿ ³é³Ýó ùÝÝáõÃÛ³Ý | S8: ÀÝ¹³Ù»ÝÝ ³í³ñïí»É »Ý ·áñÍ»ñ | V8: Ï³Û³óí³Í í×ÇéÝ»ñÇ ¹»Ù | W8: ³é³Ýó ùÝÝáõÃÛ³Ý ÃáÕÝ»Éáõ Ù³ëÇÝ áñáßáõÙÝ»ñÇ ¹»Ù | X8: ÙÇç³ÝÏÛ³É ¹³ï³Ï³Ý ³Ïï»ñÇ ¹»Ù
N11: ÀÝ¹³Ù»ÝÁ Ï³ñ×í»É »Ý | O11: ²Û¹ ÃíáõÙª Ñ³ëï³ïí»É ¿ ÏÝùí³Í Ñ³ßïáõÃÛ³Ý Ñ³Ù³Ó³ÛÝáõÃÛáõÝÁ | P11: ²Û¹ ÃíáõÙª Ñ³óÇó, ¹ÇÙáõÙÇó Ññ³Å³ñí»Éáõ ÑÇÙùáí | Q11: ²Û¹ ÃíáõÙª ³ÛÉ ÑÇÙùáí
A19: Æñ³í³Ñ³ñ³µ»ñáõÃÛáõÝÝ»ñÇ ï»ë³ÏÝ»ñÁ | E19: 1 | F19: 2 | G19: 3 | H19: 4 | I19: 5 | J19: 6 | K19: 7 | L19: 8 | M19: 9 | N19: 10 | O19: 11 | P19: 12 | Q19: 13 | R19: 14 | S19: 15 | T19: 16 | U19: 17 | V19: 18 | W19: 19 | X19: 20 | Y19: 21 | Z19: 22
A20: 1. | B20: ¶áõÛù³ÛÇÝ í»×»ñ
A21: 1.1 | B21: ¶áõÛùÇ ÝÏ³ïÙ³Ùµ ë»÷³Ï³ÝáõÃÛ³Ý Çñ³íáõÝùÁ ×³Ý³ã»Éáõ í»ñ³µ»ñÛ³É | E21: 14 | F21: 7 | G21: 6 | H21: 1 | J21: 8 | K21: 2 | L21: 1 | M21: 2 | N21: 3 | O21: 1 | P21: 2 | S21: 8 | U21: 7 | Y21: 12 | Z21: 10
A22: 1.1.1 | B22: ²Û¹ ÃíáõÙª Ó»éùµ»ñÙ³Ý í³Õ»ÙáõÃÛ³Ý áõÅáí | E22: 5 | F22: 15 | G22: 13 | H22: 1 | I22: 1 | J22: 9 | K22: 5 | N22: 4 | O22: 3 | P22: 1 | S22: 9 | T22: 1 | U22: 8 | Y22: 8 | Z22: 2
A23: 1.1.2 | B23: ²Û¹ ÃíáõÙª ïÇñ³½áõñÏ ·áõÛùÇ ÝÏ³ïÙ³Ùµ
A24: 1.1.3 | B24: ²Û¹ ÃíáõÙª ÇÝùÝ³Ï³Ù Ï³éáõÛóÇ ÝÏ³ïÙ³Ùµ | E24: 23 | J24: 1 | K24: 1 | S24: 1 | V24: 1 | Y24: 22 | Z24: 22
A25: 1.2 | B25: ê»÷³Ï³ÝáõÃÛ³Ý Çñ³íáõÝùÇ ¹³¹³ñ»óÙ³Ý í»ñ³µ»ñÛ³É | E25: 1 | F25: 5 | G25: 4 | H25: 1 | J25: 3 | K25: 2 | M25: 1 | S25: 3 | U25: 3 | Y25: 2 | Z25: 2
A26: 1.3 | B26: ¶áõÛùÇ ÝÏ³ïÙ³Ùµ û·ï³·áñÍÙ³Ý Çñ³íáõÝùÁ ×³Ý³ã»Éáõ í»ñ³µ»ñÛ³É | F26: 2 | G26: 2 | J26: 2 | K26: 2 | S26: 2 | U26: 1 | V26: 1
A27: 1.3.1 | B27: ²Û¹ ÃíáõÙª µÝ³Ïû·ï³·áñÍÙ³Ý Çñ³íáõÝùÁ ×³Ý³ã»Éáõ í»ñ³µ»ñÛ³É | E27: 2 | F27: 2 | G27: 2 | J27: 2 | M27: 2 | S27: 2 | U27: 2 | Y27: 2 | Z27: 2
A28: 1.3.2 | B28: ²Û¹ ÃíáõÙª ÑáÕ³Ù³ëÇ ÝÏ³ïÙ³Ùµ û·ï³·áñÍÙ³Ý Çñ³íáõÝùÁ ×³Ý³ã»Éáõ í»ñ³µ»ñÛ³É | F28: 1 | G28: 1 | J28: 1 | N28: 1 | P28: 1 | S28: 1 | U28: 1
A29: 1.4 | B29: ¶áõÛùÇ ÝÏ³ïÙ³Ùµ û·ï³·áñÍÙ³Ý Çñ³íáõÝùÁ ¹³¹³ñ»óÝ»Éáõ í»ñ³µ»ñÛ³É | E29: 2 | F29: 4 | G29: 4 | J29: 3 | K29: 1 | N29: 2 | P29: 2 | S29: 3 | U29: 4 | Y29: 3 | Z29: 2
A30: 1.4.1 | B30: ²Û¹ ÃíáõÙª µÝ³Ïû·ï³·áñÍÙ³Ý Çñ³íáõÝùÁ ¹³¹³ñ»óÝ»Éáõ í»ñ³µ»ñÛ³É | E30: 5 | F30: 7 | G30: 6 | H30: 1 | J30: 6 | K30: 3 | M30: 1 | N30: 2 | O30: 1 | P30: 1 | S30: 6 | U30: 6 | Y30: 5 | Z30: 3
A31: 1.4.1/1 | B31: ²Û¹ ÃíáõÙª ÷áËÑ³ïáõóÙ³Ùµ | E31: 4 | F31: 4 | G31: 3 | H31: 1 | J31: 4 | K31: 2 | M31: 1 | N31: 1 | O31: 1 | S31: 4 | U31: 2 | V31: 1 | Y31: 3 | Z31: 3
A32: 1.5 | B32: ´Ý³Ï³ñ³ÝÇó/ ï³ñ³ÍùÇó/ íï³ñ»Éáõ í»ñ³µ»ñÛ³É | E32: 15 | F32: 25 | G32: 24 | H32: 1 | J32: 26 | K32: 11 | L32: 3 | M32: 2 | N32: 10 | O32: 3 | P32: 7 | S32: 26 | Y32: 13
A33: 1.6 | B33: ¶áõÛùÝ áõñÇßÇ ³åûñÇÝÇ ïÇñ³å»ïáõÙÇó »ï í»ñ³¹³ñÓÝ»Éáõ í»ñ³µ»ñÛ³É | E33: 3 | F33: 13 | G33: 9 | H33: 4 | J33: 6 | K33: 6 | S33: 6 | U33: 4 | V33: 2 | Y33: 6 | Z33: 2
A34: 1.7 | B34: îÇñ³å»ïáõÙÇó ½ñÏ»Éáõ Ñ»ï ãÏ³åí³Í Çñ³íáõÝùÝ»ñÇ Ë³ËïáõÙÁ í»ñ³óÝ»Éáõ í»ñ³µ»ñÛ³É | F34: 2 | G34: 1 | H34: 1 | J34: 1 | N34: 1 | P34: 1 | S34: 1 | U34: 1
A35: 1.8 | B35: ÀÝ¹Ñ³Ýáõñ µ³ÅÝ³ÛÇÝ ë»÷³Ï³ÝáõÃÛáõÝÇó µ³ÅÇÝÝ ³é³ÝÓÝ³óÝ»Éáõ í»ñ³µ»ñÛ³É | E35: 32 | F35: 37 | G35: 30 | H35: 7 | J35: 34 | K35: 10 | M35: 6 | N35: 18 | O35: 6 | P35: 12 | S35: 35 | U35: 28 | V35: 1 | Y35: 27 | Z35: 23
A36: 1.9 | B36: ²ÛÉ í»×»ñ | E36: 34 | F36: 101 | G36: 82 | H36: 17 | I36: 2 | J36: 58 | K36: 29 | M36: 8 | N36: 21 | O36: 5 | P36: 16 | S36: 58 | U36: 46 | V36: 7 | Y36: 58 | Z36: 6
A37: 2. | B37: ¶áñÍ³ñùÝ»ñÇ Ñ»ï Ï³åí³Í í»×»ñ
A38: 2.1 | B38: ¶áñÍ³ñùÝ ³Ýí³í»ñ ×³Ý³ã»Éáõ í»ñ³µ»ñÛ³É | E38: 3 | F38: 25 | G38: 24 | H38: 1 | J38: 14 | K38: 4 | L38: 1 | M38: 7 | N38: 2 | O38: 1 | P38: 1 | S38: 14 | Y38: 13 | Z38: 3
A39: 2.1.1 | B39: ²Û¹ ÃíáõÙª íÇ×³Ñ³ñáõÛó ·áñÍ³ñùÝ»ñ
A40: 2.1.2 | B40: ²Û¹ ÃíáõÙª ³éáãÇÝã ·áñÍ³ñùÝ»ñ | F40: 3 | G40: 2 | H40: 1 | J40: 2 | N40: 2 | P40: 2 | S40: 2 | U40: 2
A41: 2.2 | B41: ¶áñÍ³ñùÁ í³í»ñ ×³Ý³ã»Éáõ í»ñ³µ»ñÛ³É | E41: 1 | F41: 4 | G41: 4 | J41: 4 | K41: 3 | N41: 1 | P41: 1 | S41: 4 | Y41: 1
A42: 2.3 | B42: ¶áñÍ³ñùÇó Í³·áÕ Çñ³íáõÝùÝ»ñÁ ·ñ³Ýó»Éáõ í»ñ³µ»ñÛ³É
A43: 2.4 | B43: ä³ÛÙ³Ý³·ÇñÝ ³Ýí³í»ñ ×³Ý³ã»Éáõ í»ñ³µ»ñÛ³É | E43: 1 | F43: 16 | G43: 16 | J43: 6 | K43: 1 | M43: 3 | N43: 2 | P43: 2 | S43: 6 | T43: 3 | U43: 2 | V43: 4 | Y43: 8 | Z43: 8
A44: 2.5 | B44: ä³ÛÙ³Ý³·ñÇÁ í³í»ñ ×³Ý³ã»Éáõ í»ñ³µ»ñÛ³É | F44: 1 | G44: 1 | J44: 1 | K44: 1 | S44: 1 | U44: 1
A45: 2.6 | B45: ä³ÛÙ³Ý³·ñÇó Í³·áÕ Çñ³íáõÝùÝ»ñÁ ·ñ³Ýó»Éáõ í»ñ³µ»ñÛ³É | E45: 2 | J45: 1 | M45: 1 | S45: 1 | Y45: 1 | Z45: 1
A46: 2.7 | B46: ä³ÛÙ³Ý³·ÇñÁ ÷á÷áË»Éáõ ¨ ÉáõÍ»Éáõ í»ñ³µ»ñÛ³É | F46: 5 | G46: 5 | J46: 3 | M46: 1 | N46: 2 | O46: 2 | S46: 3 | U46: 3 | V46: 1 | Y46: 2 | Z46: 2
A47: 2.8 | B47: ä³ÛÙ³Ý³·Çñ ÏÝù»ÉáõÝ å³ñï³íáñ»óÝ»Éáõ í»ñ³µ»ñÛ³É | E47: 1 | F47: 2 | H47: 2 | Y47: 1 | Z47: 1
A48: 2.9 | B48: ²ÛÉ í»×»ñ | E48: 3 | F48: 6 | G48: 3 | H48: 3 | J48: 2 | N48: 1 | P48: 1 | S48: 2 | U48: 1 | Y48: 4 | Z48: 3
A49: 3. | B49: Ä³é³Ý·áõÃÛ³Ý í»ñ³µ»ñÛ³É í»×»ñ
A50: 3.1 | B50: Îï³ÏÝ ³Ýí³í»ñ ×³Ý³ã»Éáõ í»ñ³µ»ñÛ³É
A51: 3.2 | B51: ²Ý³ñÅ³Ý Å³é³Ý· ×³Ý³ã»Éáõ í»ñ³µ»ñÛ³É
A52: 3.3 | B52: Ä³é³Ý·áõÃÛáõÝÁ µ³Å³Ý»Éáõ í»ñ³µ»ñÛ³É
A53: 3.4 | B53: ¶áõÛùÝ ³ÝÅ³é³Ý· ×³Ý³ã»Éáõ í»ñ³µ»ñÛ³É
A54: 3.5 | B54: Àëï ûñ»ÝùÇ Å³é³Ý·áõÃÛ³Ý Çñ³íáõÝùÇ íÏ³Û³Ï³ÝÝ ³Ýí³í»ñ ×³Ý³ã»Éáõ í»ñ³µ»ñÛ³É | E54: 3 | F54: 5 | G54: 5 | J54: 4 | K54: 3 | L54: 1 | S54: 4 | U54: 1 | V54: 3 | Y54: 4 | Z54: 2
A55: 3.6 | B55: Ä³é³Ý·áõÃÛáõÝÝ ÁÝ¹áõÝ»Éáõ µ³ó ÃáÕÝí³Í Å³ÙÏ»ïÁ Ñ³ñ·»ÉÇ Ñ³Ù³ñ»Éáõ í»ñ³µ»ñÛ³É | E55: 4 | F55: 12 | G55: 11 | H55: 1 | J55: 9 | K55: 5 | L55: 1 | M55: 1 | N55: 2 | O55: 1 | P55: 1 | R55: 1 | S55: 10 | T55: 1 | U55: 6 | Y55: 4
A56: 3.7 | B56: ²ÛÉ í»×»ñ | F56: 4 | G56: 3 | H56: 1 | J56: 2 | K56: 2 | S56: 2 | U56: 2 | Y56: 1
A57: 4 | B57: ÀÝï³Ý»Ï³Ý Çñ³í³Ñ³ñ³µ»ñáõÃÛáõÝÝ»ñÇó Í³·áÕ í»×»ñ
A58: 4.1 | B58: ²ÙáõëÝ³ÉáõÍáõÃÛ³Ý í»ñ³µ»ñÛ³É | E58: 23 | F58: 119 | G58: 93 | H58: 26 | J58: 88 | K58: 74 | M58: 1 | N58: 13 | P58: 13 | S58: 88 | U58: 80 | Y58: 28
A59: 4.2 | B59: ²ÉÇÙ»ÝïÇ å³Ñ³ÝçÇ í»ñ³µ»ñÛ³É | E59: 19 | F59: 52 | G59: 49 | H59: 3 | J59: 53 | K59: 14 | L59: 28 | M59: 1 | N59: 10 | O59: 2 | P59: 8 | S59: 53 | U59: 33 | Y59: 15
A60: 4.3 | B60: ²ÉÇÙ»ÝïÇ ã³÷Á ÷á÷áË»Éáõ í»ñ³µ»ñÛ³É | E60: 1 | F60: 13 | G60: 11 | H60: 2 | J60: 9 | K60: 4 | L60: 2 | M60: 1 | N60: 2 | P60: 2 | S60: 9 | U60: 8 | Y60: 3
A61: 4.4 | B61: ÌÝáÕ³Ï³Ý Çñ³íáõÝùÝ»ñÇó ½ñÏ»Éáõ í»ñ³µ»ñÛ³É | E61: 1 | F61: 6 | G61: 4 | H61: 2 | J61: 4 | K61: 1 | M61: 2 | N61: 1 | O61: 1 | S61: 4 | U61: 3 | V61: 1 | Y61: 1 | Z61: 1
A62: 4.5 | B62: ÌÝáÕ³Ï³Ý Çñ³íáõÝùÝ»ñÁ í»ñ³Ï³Ý·Ý»Éáõ í»ñ³µ»ñÛ³É
A63: 4.6 | B63: ºñ»Ë³ÛÇ áñ¹»·ñÙ³Ý í»ñ³µ»ñÛ³É | F63: 1 | G63: 1 | J63: 1 | K63: 1 | S63: 1 | U63: 1
A64: 4.7 | B64: ºñ»Ë³ÛÇ áñ¹»·ñáõÙÁ í»ñ³óÝ»Éáõ í»ñ³µ»ñÛ³É
A65: 4.8 | B65: Ð³ÛñáõÃÛáõÝÁ ×³Ý³ã»Éáõ í»ñ³µ»ñÛ³É | E65: 2 | F65: 7 | G65: 6 | H65: 1 | J65: 4 | K65: 3 | S65: 4 | U65: 4 | Y65: 4
A66: 4.9 | B66: ºñ»Ë³ÛÇ µÝ³ÏáõÃÛ³Ý í³ÛñÁ áñáß»Éáõ í»ñ³µ»ñÛ³É | E66: 2 | J66: 2 | K66: 1 | N66: 1 | O66: 1 | S66: 2 | U66: 2
A67: 4.10 | B67: ºñ»Ë³ÛÇ Ñ»ï ï»ë³ÏóáõÃÛ³Ý Ï³ñ· ë³ÑÙ³Ý»Éáõ í»ñ³µ»ñÛ³É | E67: 5 | F67: 4 | G67: 4 | J67: 6 | K67: 3 | L67: 2 | N67: 1 | O67: 1 | S67: 6 | T67: 1 | U67: 3 | V67: 3 | Y67: 1
A68: 4.11 | B68: ²ÙáõëÇÝÝ»ñÇ ÁÝ¹Ñ³Ýáõñ ·áõÛùÁ µ³Å³Ý»Éáõ í»ñ³µ»ñÛ³É
A69: 4.12 | B69: ²ÙáõëÝ³Ï³Ý å³ÛÙ³Ý³·ñÇ ÷á÷áËÙ³Ý Ï³Ù ÉáõÍÙ³Ý í»ñ³µ»ñÛ³É
A70: 4.13 | B70: ²ÛÉ í»×»ñ | E70: 2 | F70: 5 | G70: 4 | H70: 1 | J70: 5 | K70: 3 | L70: 1 | N70: 1 | P70: 1 | S70: 5 | U70: 3 | V70: 3 | Y70: 1
A71: 5. | B71: Øï³íáñ ë»÷³Ï³ÝáõÃÛáõÝ
A72: 5.1 | B72: ÈÇó»Ý½³ÛÇÝ å³ÛÙ³Ý³·ñÇ ÉáõÍÙ³Ý, ÷á÷áËÙ³Ý ¨ ³Ýí³í»ñáõÃÛ³Ý í»ñ³µ»ñÛ³É
A73: 5.2 | B73: Øï³íáñ ·áñÍáõÝ»áõÃÛ³Ý ³ñ¹ÛáõÝùÝ»ñ ëï»ÕÍ»Éáõ ¨ û·ï³·áñÍ»Éáõ å³ÛÙ³Ý³·ñÇ ÉáõÍÙ³Ý, ÷á÷áËÙ³Ý áõ ³Ýí³í»ñáõÃÛ³Ý í»ñ³µ»ñÛ³É
A74: 5.3 | B74: Ð»ÕÇÝ³Ï³ÛÇÝ ¨ Ñ³ñ³ÏÇó Çñ³íáõÝùÝ»ñÇ í»ñ³µ»ñÛ³É | F74: 1 | H74: 1
A75: 5.4 | B75: üÇñÙ³ÛÇÝ ³Ýí³ÝÙ³Ý í»ñ³µ»ñÛ³É
A76: 5.5 | B76: ²åñ³Ýù³ÛÇÝ Ýß³ÝÇ í»ñ³µ»ñÛ³É
A77: 5.6 | B77: ²ÛÉ í»×»ñ
A78: 6. | B78: ²ßË³ï³Ýù³ÛÇÝ í»×»ñ
A79: 6.1 | B79: ²ßË³ï³Ýù³ÛÇÝ å³ÛÙ³Ý³·ñ»ñÇ í»ñ³µ»ñÛ³É | F79: 2 | G79: 2 | J79: 1 | M79: 1 | S79: 1 | V79: 1 | Y79: 1
A80: 6.2 | B80: ²ßË³ï³ÝùáõÙ í»ñ³Ï³Ý·Ý»Éáõ í»ñ³µ»ñÛ³É | E80: 1 | F80: 6 | G80: 3 | H80: 3 | J80: 4 | K80: 1 | M80: 1 | N80: 2 | P80: 2 | S80: 4 | V80: 3
A81: 6.3 | B81: ¶áñÍ³¹áõÉÝ ³ÝûñÇÝ³Ï³Ý ×³Ý³ã»Éáõ í»ñ³µ»ñÛ³É
A82: 6.4 | B82: Ð³ñÏ³¹Çñ å³ñ³åáõñ¹Ç Ñ³ïáõóÙ³Ý í»ñ³µ»ñÛ³É
A83: 6.5 | B83: âí×³ñí³Í ³ßË³ï³í³ñÓÇ ¨/Ï³Ù ³ÛÉ í×³ñÝ»ñÇ µéÝ³·³ÝÓÙ³Ý í»ñ³µ»ñÛ³É | E83: 1 | F83: 20 | G83: 20 | J83: 20 | K83: 18 | M83: 1 | N83: 1 | P83: 1 | R83: 1 | S83: 21 | U83: 19
A84: 6.6 | B84: ²ÛÉ í»×»ñ | F84: 2 | G84: 1 | H84: 1 | J84: 1 | K84: 1 | S84: 1 | U84: 1
A85: 7. | B85: Æñ³í³µ³Ý³Ï³Ý ³ÝÓÇ ·áñÍáõÝ»áõÃÛ³Ý í»ñ³µ»ñÛ³É
A86: 7.1 | B86: Îáñåáñ³ïÇí í»×»ñ | F86: 2 | G86: 2 | Y86: 2 | Z86: 2
A87: 7.2 | B87: ²ÛÉ í»×»ñ
A88: 8. | B88: Ð³ïáõÏ í³ñáõÛÃÇ ·áñÍ»ñ
A89: 8.1 | B89: ²Ýã³÷³Ñ³ëÇÝ ÉñÇí ·áñÍáõÝ³Ï ×³Ý³ã»Éáõ /¿Ù³ÝëÇå³óÇ³/ í»ñ³µ»ñÛ³É
A90: 8.2 | B90: ø³Õ³ù³óáõÝ ³Ý·áñÍáõÝ³Ï Ï³Ù ë³ÑÙ³Ý³÷³Ï ·áñÍáõÝ³Ï ×³Ý³ã»Éáõ í»ñ³µ»ñÛ³É | E90: 17 | F90: 31 | G90: 27 | H90: 3 | I90: 1 | J90: 21 | K90: 15 | N90: 6 | P90: 6 | S90: 21 | U90: 20 | Y90: 23
A91: 8.3 | B91: ø³Õ³ù³óáõÝ Ñá·»µáõÅ³Ï³Ý ÑÇí³Ý¹³Ýáó³ÛÇÝ Ñ³ñÏ³¹Çñ µáõÅÙ³Ý »ÝÃ³ñÏ»Éáõ í»ñ³µ»ñÛ³É | E91: 1 | F91: 11 | G91: 11 | J91: 12 | K91: 10 | N91: 2 | P91: 2 | S91: 12 | U91: 12
A92: 8.4 | B92: ø³Õ³ù³óáõÝ ³ÝÑ³Ûï µ³ó³Ï³ÛáÕ Ï³Ù Ù³Ñ³ó³Í ×³Ý³ã»Éáõ í»ñ³µ»ñÛ³É | E92: 13 | F92: 54 | G92: 39 | H92: 14 | I92: 1 | J92: 46 | K92: 35 | M92: 5 | N92: 6 | P92: 6 | S92: 46 | U92: 41 | Y92: 6
A93: 8.5 | B93: ø³Õ³ù³óÇ³Ï³Ý Ï³óáõÃÛ³Ý ³Ïï»ñÇ ·ñ³éáõÙÝ»ñÇ ³Ý×ßïáõÃÛáõÝÝ»ñÁ å³ñ½»Éáõ í»ñ³µ»ñÛ³É
A94: 8.6 | B94: ¶áõÛùÁ ïÇñ³½áõñÏ ×³Ý³ã»Éáõ í»ñ³µ»ñÛ³É | E94: 1 | F94: 1 | G94: 1 | J94: 2 | K94: 2 | S94: 2 | U94: 2
A95: 8.6.1 | B95: ²Û¹ ÃíáõÙª ³Ýß³ñÅ ·áõÛùÁ
A96: 8.6.2 | B96: ²Û¹ ÃíáõÙª ß³ñÅ³Ï³Ý ·áõÛùÁ
A97: 8.7 | B97: Æñ³í³µ³Ý³Ï³Ý Ýß³Ý³ÏáõÃÛáõÝ áõÝ»óáÕ ÷³ëï»ñÇ Ñ³ëï³ïÙ³Ý í»ñ³µ»ñÛ³É
A98: 8.7.1 | B98: ²ÝÓ³Ýó ³½·³Ïó³Ï³Ý Ï³åÁ Ñ³ëï³ï»Éáõ í»ñ³µ»ñÛ³É | F98: 30 | G98: 21 | H98: 9 | J98: 17 | K98: 15 | M98: 2 | S98: 17 | U98: 13 | Y98: 4
A99: 8.7.2 | B99: ²ÝÓÇª áõñÇßÇ ËÝ³ÙùÇ ï³Ï ·ïÝí»Éáõ í»ñ³µ»ñÛ³É
A100: 8.7.3 | B100: ÌÝÝ¹Û³Ý, áñ¹»·ñÙ³Ý, ³ÙáõëÝáõÃÛ³Ý, ³å³Ñ³ñ½³ÝÇ ¨ Ù³Ñí³Ý ·ñ³ÝóÙ³Ý í»ñ³µ»ñÛ³É | F100: 8 | G100: 7 | H100: 1 | J100: 7 | K100: 5 | L100: 1 | N100: 1 | P100: 1 | S100: 7 | U100: 7
A101: 8.7.4 | B101: ²ÝÓÇª áñáß³ÏÇ Å³Ù³Ý³ÏáõÙ ¨ áñáß³ÏÇ Ñ³Ý·³Ù³ÝùÝ»ñáõÙ Ù³Ñí³Ý í»ñ³µ»ñÛ³É
A102: 8.7.5 | B102: Ä³é³Ý·áõÃÛáõÝÝ ÁÝ¹áõÝ»Éáõ ¨ Å³é³Ý·áõÃÛ³Ý µ³óÙ³Ý í³ÛñÇ í»ñ³µ»ñÛ³É | E102: 3 | F102: 27 | G102: 22 | H102: 5 | J102: 20 | K102: 13 | L102: 1 | M102: 2 | N102: 3 | O102: 1 | P102: 2 | R102: 1 | S102: 21 | U102: 15 | Y102: 4
A103: 8.7.6 | B103: ¸Åµ³Ëï å³ï³Ñ³ñÇ í»ñ³µ»ñÛ³É
A104: 8.7.7 | B104: Æñ³íáõÝù ë³ÑÙ³ÝáÕ ÷³ëï³ÃÕÃ»ñÇ å³ïÏ³Ý»ÉáõÃÛ³Ý í»ñ³µ»ñÛ³É | F104: 11 | G104: 9 | H104: 2 | J104: 9 | K104: 7 | M104: 1 | N104: 1 | P104: 1 | S104: 9 | U104: 9
A105: 8.7.8 | B105: ê»÷³Ï³ÝáõÃÛ³Ý Çñ³íáõÝùáí ·áõÛùÇ ïÇñ³å»ïÙ³Ý í»ñ³µ»ñÛ³É | E105: 1 | F105: 2 | G105: 1 | H105: 1 | J105: 1 | M105: 1 | S105: 1 | U105: 1 | Y105: 1
A106: 8.7.9 | B106: ²ÝÑ³ÕÃ³Ñ³ñ»ÉÇ áõÅÇ ³éÏ³ÛáõÃÛ³Ý í»ñ³µ»ñÛ³É
A107: 8.8 | B107: Àëï Ý»ñÏ³Û³óÝáÕÇ ¨ ûñ¹»ñ³ÛÇÝ Ïáñóñ³Í ³ñÅ»ÃÕÃ»ñáí Ñ³í³ëïí³Í Çñ³íáõÝùÝ»ñÁ í»ñ³Ï³Ý·Ý»Éáõ í»ñ³µ»ñÛ³É
A108: 8.9 | B108: Ð³ñÏ³¹Çñ Ï³ï³ñáÕÇ ¹ÇÙáõÙáí ÏáÕÙ»ñÇ Ñ³ßïáõÃÛ³Ý Ñ³Ù³Ó³ÛÝáõÃÛ³Ý ÑÇÙ³Ý íñ³ ¹³ï³ñ³ÝÇª ·áñÍÝ Áëï ¿áõÃÛ³Ý ÉáõÍáÕ ¹³ï³Ï³Ý ³ÏïÇ í»ñ³Ý³ÛÙ³Ý í»ñ³µ»ñÛ³É
A109: 8.10 | B109: ²ÛÉ í»×»ñ | E109: 5 | F109: 51 | G109: 31 | H109: 17 | I109: 3 | J109: 27 | K109: 19 | L109: 2 | M109: 1 | N109: 5 | P109: 5 | S109: 27 | U109: 24 | V109: 1 | Y109: 9
A110: 9. | B110: Ð³ïáõÏ Ñ³Ûó³ÛÇÝ í³ñáõÛÃÇ ·áñÍ»ñ
A111: 9.1 | B111: ø³Õ³ù³óáõ ÏÛ³ÝùÇÝ Ï³Ù ³éáÕçáõÃÛ³ÝÝ ëå³éÝ³óáÕ íï³Ý·Ç í»ñ³µ»ñÛ³É
A112: 9.2 | B112: ÐÐ Î»ÝïñáÝ³Ï³Ý µ³ÝÏÇ ¨ ³Ýí×³ñáõÝ³Ï µ³ÝÏÇ Ï³Ù í³ñÏ³ÛÇÝ Ï³½Ù³Ï»ñåáõÃÛ³Ý Å³Ù³Ý³Ï³íáñ ³¹ÙÇÝÇëïñ³óÇ³ÛÇ áñáßáõÙÝ»ñÇ µáÕáù³ñÏÙ³Ý í»ñ³µ»ñÛ³É
...

Sheet Էրեբունի
A1: Ð²ÞìºîìàôÂÚàôÜ
A2: ø²Ô²ø²òÆ²Î²Ü ¶àðÌºðÆ øÜÜàôÂÚ²Ü ìºð²´ºðÚ²È
A3: 2010 Ã. ³é³çÇÝ ÏÇë³ÙÛ³ÏÇ (ï³ñí³) Ñ³Ù³ñ
A5: êïáõ·Çã Ñ³í³ë³ñáõÙÝ»ñª 2=3+4+5, 1+3=15+16+21, 6=7+8+9+10, 10=11+12+13, 15=6+14, | E5: ²Ý³í³ñï ·áñÍ»ñÇ ÙÝ³óáñ¹Á Ñ³ßí»ïáõ Å³Ù³Ý³Ï³ßñç³ÝÇ ëÏ½µáõÙ | F5: êï³óí³Í Ñ³Ûó»ñÇ,¹ÇÙáõÙÝ»ñÇ (·áñÍ»ñ)ù³Ý³ÏÁ | J5: ²í³ñïí»É »Ý ·áñÍ»ñ Ñ³ßí»ïáõ Å³Ù³Ý³Ï³ßñç³ÝáõÙ | T5: ¶áñÍÝ áõÕ³ñÏí»É ¿ Áëï ÁÝ¹¹³ïáõÃÛ³Ý | U5: Øï»É »Ý ûñÇÝ³Ï³Ý áõÅÇ Ù»ç | V5: ´áÕáù³ñÏí»É »Ý í»ñ³ùÝÝÇã ¹³ï³ñ³Ý | Y5: ²Ý³í³ñï ·áñÍ»ñÇ ÙÝ³óáñ¹Á Ñ³ßí»ïáõ Å³Ù³Ý³Ï³ßñç³ÝÇ í»ñçáõÙ | Z5: ²Û¹ ÃíáõÙª Ï³ë»óí³Í
F8: ÀÝ¹³Ù»ÝÁ | G8: ²Û¹ ÃíáõÙª ÁÝ¹áõÝí»É ¿ í³ñáõÛÃ | H8: ²Û¹ ÃíáõÙª í»ñ³¹³ñÓí»É ¿ | I8: ²Û¹ ÃíáõÙª Ñ³Ûó»ñÇ (¹ÇÙáõÙÝ»ñÇ) ÁÝ¹áõÝáõÙÁ Ù»ñÅí»É ¿ | J8: ÀÝ¹³Ù»ÝÁ ³í³ñïí»É »Ý ·áñÍ»ñ í×éÇ Ï³Û³óáõÙáí | K8: ²Û¹ ÃíáõÙª Ñ³ÛóÇ µ³í³ñ³ñÙ³Ùµ | L8: ²Û¹ ÃíáõÙª Ñ³ÛóÇ Ù³ëÝ³ÏÇ µ³í³ñ³ñÙ³Ùµ | M8: ²Û¹ ÃíáõÙª Ñ³ÛóÇ Ù»ñÅÙ³Ùµ | N8: ²Û¹ ÃíáõÙª Ï³ñ×í»É »Ý | R8: Ð³ÛóÁ ÃáÕÝí»É ¿ ³é³Ýó ùÝÝáõÃÛ³Ý | S8: ÀÝ¹³Ù»ÝÝ ³í³ñïí»É »Ý ·áñÍ»ñ | V8: Ï³Û³óí³Í í×ÇéÝ»ñÇ ¹»Ù | W8: ³é³Ýó ùÝÝáõÃÛ³Ý ÃáÕÝ»Éáõ Ù³ëÇÝ áñáßáõÙÝ»ñÇ ¹»Ù | X8: ÙÇç³ÝÏÛ³É ¹³ï³Ï³Ý ³Ïï»ñÇ ¹»Ù
N11: ÀÝ¹³Ù»ÝÁ Ï³ñ×í»É »Ý | O11: ²Û¹ ÃíáõÙª Ñ³ëï³ïí»É ¿ ÏÝùí³Í Ñ³ßïáõÃÛ³Ý Ñ³Ù³Ó³ÛÝáõÃÛáõÝÁ | P11: ²Û¹ ÃíáõÙª Ñ³óÇó, ¹ÇÙáõÙÇó Ññ³Å³ñí»Éáõ ÑÇÙùáí | Q11: ²Û¹ ÃíáõÙª ³ÛÉ ÑÇÙùáí
A19: Æñ³í³Ñ³ñ³µ»ñáõÃÛáõÝÝ»ñÇ ï»ë³ÏÝ»ñÁ | E19: 1 | F19: 2 | G19: 3 | H19: 4 | I19: 5 | J19: 6 | K19: 7 | L19: 8 | M19: 9 | N19: 10 | O19: 11 | P19: 12 | Q19: 13 | R19: 14 | S19: 15 | T19: 16 | U19: 17 | V19: 18 | W19: 19 | X19: 20 | Y19: 21 | Z19: 22
A20: 1. | B20: ¶áõÛù³ÛÇÝ í»×»ñ | E20: =E21+E22+E23+E24+E25+E26+E27+E28+E29+E30+E31+E32+E33+E34+E35+E36 -> 78 | F20: 230 | G20: =G21+G22+G23+G24+G25+G26+G27+G28+G29+G30+G31+G32+G33+G34+G35+G36 -> 187 | H20: =H21+H22+H23+H24+H25+H26+H27+H28+H29+H30+H31+H32+H33+H34+H35+H36 -> 39 | I20: =I21+I22+I23+I24+I25+I26+I27+I28+I29+I30+I31+I32+I33+I34+I35+I36 -> 4 | J20: =K20+L20+M20+N20 -> 162 | K20: =K21+K22+K23+K24+K25+K26+K27+K28+K29+K30+K31+K32+K33+K34+K35+K36 -> 82 | L20: =L21+L22+L23+L24+L25+L26+L27+L28+L29+L30+L31+L32+L33+L34+L35+L36 -> 8 | M20: =M21+M22+M23+M24+M25+M26+M27+M28+M29+M30+M31+M32+M33+M34+M35+M36 -> 37 | N20: =N21+N22+N23+N24+N25+N26+N27+N28+N29+N30+N31+N32+N33+N34+N35+N36 -> 35 | O20: =O21+O22+O23+O24+O25+O26+O27+O28+O29+O30+O31+O32+O33+O34+O35+O36 -> 11 | P20: =P21+P22+P23+P24+P25+P26+P27+P28+P29+P30+P31+P32+P33+P34+P35+P36 -> 20 | Q20: =Q21+Q22+Q23+Q24+Q25+Q26+Q27+Q28+Q29+Q30+Q31+Q32+Q33+Q34+Q35+Q36 -> 4 | R20: =R21+R22+R23+R24+R25+R26+R27+R28+R29+R30+R31+R32+R33+R34+R35+R36 -> 1 | ... Z20: =Z21+Z22+Z23+Z24+Z25+Z26+Z27+Z28+Z29+Z30+Z31+Z32+Z33+Z34+Z35+Z36 -> 41
A21: 1,,1 | B21: ¶áõÛùÇ ÝÏ³ïÙ³Ùµ ë»÷³Ï³ÝáõÃÛ³Ý Çñ³íáõÝùÁ ×³Ý³ã»Éáõ í»ñ³µ»ñÛ³É | E21: 10 | F21: 29 | G21: 22 | H21: 7 | I21: 0 | J21: =K21+L21+M21+N21 -> 27 | K21: 17 | L21: 1 | M21: 8 | N21: 1 | O21: 0 | P21: 0 | Q21: 1 | R21: 0 | S21: =J21+R21 -> 27 | T21: 0 | U21: 15 | V21: 8 | W21: 0 | X21: 1 | Y21: 5 | Z21: 3
A22: 1.1.1 | B22: ²Û¹ ÃíáõÙª Ó»éùµ»ñÙ³Ý í³Õ»ÙáõÃÛ³Ý áõÅáí | E22: 14 | F22: 41 | G22: 32 | H22: 9 | I22: 0 | J22: =K22+L22+M22+N22 -> 34 | K22: 15 | L22: 3 | M22: 7 | N22: 9 | O22: 3 | P22: 4 | Q22: 2 | R22: 0 | S22: =J22+R22 -> 34 | T22: 0 | U22: 23 | V22: 15 | W22: 0 | X22: 0 | Y22: 12 | Z22: 3
A23: 1.1.2 | B23: ²Û¹ ÃíáõÙª ïÇñ³½áõñÏ ·áõÛùÇ ÝÏ³ïÙ³Ùµ | E23: 0 | F23: 7 | G23: 6 | H23: 0 | I23: 1 | J23: =K23+L23+M23+N23 -> 3 | K23: 3 | L23: 0 | M23: 0 | N23: 0 | O23: 0 | P23: 0 | Q23: 0 | R23: 0 | S23: =J23+R23 -> 3 | T23: 0 | U23: 3 | V23: 1 | W23: 0 | X23: 1 | Y23: 3 | Z23: 0
A24: 1.1.3 | B24: ²Û¹ ÃíáõÙª ÇÝùÝ³Ï³Ù Ï³éáõÛóÇ ÝÏ³ïÙ³Ùµ | E24: 0 | F24: 0 | G24: 0 | H24: 0 | I24: 0 | J24: =K24+L24+M24+N24 -> 0 | K24: 0 | L24: 0 | M24: 0 | N24: 0 | O24: 0 | P24: 0 | Q24: 0 | R24: 0 | S24: =J24+R24 -> 0 | T24: 0 | U24: 0 | V24: 0 | W24: 0 | X24: 0 | Y24: 0 | Z24: 0
A25: 1,,2 | B25: ê»÷³Ï³ÝáõÃÛ³Ý Çñ³íáõÝùÇ ¹³¹³ñ»óÙ³Ý í»ñ³µ»ñÛ³É | E25: 4 | F25: 1 | G25: 1 | H25: 0 | I25: 0 | J25: =K25+L25+M25+N25 -> 2 | K25: 1 | L25: 0 | M25: 0 | N25: 1 | O25: 0 | P25: 1 | Q25: 0 | R25: 0 | S25: =J25+R25 -> 2 | T25: 0 | U25: 2 | V25: 0 | W25: 0 | X25: 0 | Y25: 3 | Z25: 0
A26: 1.3 | B26: ¶áõÛùÇ ÝÏ³ïÙ³Ùµ û·ï³·áñÍÙ³Ý Çñ³íáõÝùÁ ×³Ý³ã»Éáõ í»ñ³µ»ñÛ³É | E26: 0 | F26: 1 | G26: 1 | H26: 0 | I26: 0 | J26: =K26+L26+M26+N26 -> 0 | K26: 0 | L26: 0 | M26: 0 | N26: 0 | O26: 0 | P26: 0 | Q26: 0 | R26: 0 | S26: =J26+R26 -> 0 | T26: 0 | U26: 0 | V26: 0 | W26: 0 | X26: 0 | Y26: 1 | Z26: 0
A27: 1.3.1 | B27: ²Û¹ ÃíáõÙª µÝ³Ïû·ï³·áñÍÙ³Ý Çñ³íáõÝùÁ ×³Ý³ã»Éáõ í»ñ³µ»ñÛ³É | E27: 1 | F27: 2 | G27: 2 | H27: 0 | I27: 0 | J27: =K27+L27+M27+N27 -> 2 | K27: 0 | L27: 0 | M27: 2 | N27: 0 | O27: 0 | P27: 0 | Q27: 0 | R27: 0 | S27: =J27+R27 -> 2 | T27: 0 | U27: 1 | V27: 2 | W27: 0 | X27: 0 | Y27: 1 | Z27: 1
A28: 1.3.2 | B28: ²Û¹ ÃíáõÙª ÑáÕ³Ù³ëÇ ÝÏ³ïÙ³Ùµ û·ï³·áñÍÙ³Ý Çñ³íáõÝùÁ ×³Ý³ã»Éáõ í»ñ³µ»ñÛ³É | E28: 0 | F28: 0 | G28: 0 | H28: 0 | I28: 0 | J28: =K28+L28+M28+N28 -> 0 | K28: 0 | L28: 0 | M28: 0 | N28: 0 | O28: 0 | P28: 0 | Q28: 0 | R28: 0 | S28: =J28+R28 -> 0 | T28: 0 | U28: 0 | V28: 0 | W28: 0 | X28: 0 | Y28: 0 | Z28: 0
A29: 1.4 | B29: ¶áõÛùÇ ÝÏ³ïÙ³Ùµ û·ï³·áñÍÙ³Ý Çñ³íáõÝùÁ ¹³¹³ñ»óÝ»Éáõ í»ñ³µ»ñÛ³É | E29: 1 | F29: 2 | G29: 2 | H29: 0 | I29: 0 | J29: =K29+L29+M29+N29 -> 3 | K29: 1 | L29: 0 | M29: 2 | N29: 0 | O29: 0 | P29: 0 | Q29: 0 | R29: 0 | S29: =J29+R29 -> 3 | T29: 0 | U29: 3 | V29: 2 | W29: 0 | X29: 0 | Y29: 0 | Z29: 0
A30: 1.4.1 | B30: ²Û¹ ÃíáõÙª µÝ³Ïû·ï³·áñÍÙ³Ý Çñ³íáõÝùÁ ¹³¹³ñ»óÝ»Éáõ í»ñ³µ»ñÛ³É | E30: 3 | F30: 5 | G30: 4 | H30: 1 | I30: 0 | J30: =K30+L30+M30+N30 -> 4 | K30: 1 | L30: 1 | M30: 1 | N30: 1 | O30: 0 | P30: 1 | Q30: 0 | R30: 0 | S30: =J30+R30 -> 4 | T30: 1 | U30: 4 | V30: 2 | W30: 0 | X30: 0 | Y30: 2 | Z30: 0
A31: 1.4.1/1 | B31: ²Û¹ ÃíáõÙª ÷áËÑ³ïáõóÙ³Ùµ | E31: 1 | F31: 0 | G31: 0 | H31: 0 | I31: 0 | J31: =K31+L31+M31+N31 -> 0 | K31: 0 | L31: 0 | M31: 0 | N31: 0 | O31: 0 | P31: 0 | Q31: 0 | R31: 0 | S31: =J31+R31 -> 0 | T31: 0 | U31: 0 | V31: 0 | W31: 0 | X31: 0 | Y31: 1 | Z31: 1
A32: 1.5 | B32: ´Ý³Ï³ñ³ÝÇó/ ï³ñ³ÍùÇó/ íï³ñ»Éáõ í»ñ³µ»ñÛ³É | E32: 4 | F32: 17 | G32: 15 | H32: 2 | I32: 0 | J32: =K32+L32+M32+N32 -> 13 | K32: 8 | L32: 0 | M32: 2 | N32: 3 | O32: 1 | P32: 2 | Q32: 0 | R32: 0 | S32: =J32+R32 -> 13 | T32: 0 | U32: 10 | V32: 4 | W32: 0 | X32: 0 | Y32: 6 | Z32: 3
... A36: 1.9 | B36: ²ÛÉ í»×»ñ | E36: 1 | F36: 30 | G36: 24 | H36: 6 | I36: 0 | J36: =K36+L36+M36+N36 -> 13 | K36: 6 | L36: 1 | M36: 2 | N36: 4 | O36: 0 | P36: 4 | Q36: 0 | R36: 0 | S36: =J36+R36 -> 13 | T36: 1 | U36: 7 | V36: 5 | W36: 0 | X36: 1 | Y36: 11 | Z36: 3
A37: 2. | B37: ¶áñÍ³ñùÝ»ñÇ Ñ»ï Ï³åí³Í í»×»ñ | E37: =E38+E39+E40+E41+E42+E43+E44+E45+E46+E47+E48 -> 3 | F37: =G37+H37+I37 -> 112 | G37: =G38+G39+G40+G41+G42+G43+G44+G45+G46+G47+G48 -> 105 | H37: =H38+H39+H40+H41+H42+H43+H44+H45+H46+H47+H48 -> 7 | I37: =I38+I39+I40+I41+I42+I43+I44+I45+I46+I47+I48 -> 0 | J37: =K37+L37+M37+N37 -> 80 | K37: =K38+K39+K40+K41+K42+K43+K44+K45+K46+K47+K48 -> 53 | L37: =L38+L39+L40+L41+L42+L43+L44+L45+L46+L47+L48 -> 3 | M37: =M38+M39+M40+M41+M42+M43+M44+M45+M46+M47+M48 -> 12 | N37: =N38+N39+N40+N41+N42+N43+N44+N45+N46+N47+N48 -> 12 | O37: =O38+O39+O40+O41+O42+O43+O44+O45+O46+O47+O48 -> 2 | P37: =P38+P39+P40+P41+P42+P43+P44+P45+P46+P47+P48 -> 7 | Q37: =Q38+Q39+Q40+Q41+Q42+Q43+Q44+Q45+Q46+Q47+Q48 -> 3 | R37: =R38+R39+R40+R41+R42+R43+R44+R45+R46+R47+R48 -> 0 | ... Y37: =Y38+Y39+Y40+Y41+Y42+Y43+Y44+Y45+Y46+Y47+Y48 -> 27
A38: 2.1 | B38: ¶áñÍ³ñùÝ ³Ýí³í»ñ ×³Ý³ã»Éáõ í»ñ³µ»ñÛ³É | E38: 0 | F38: 14 | G38: 14 | H38: 0 | I38: 0 | J38: 6 | K38: 3 | L38: 1 | M38: 1 | N38: 1 | O38: 0 | P38: 1 | Q38: 0 | R38: 0 | S38: 6 | T38: 0 | U38: 2 | V38: 1 | W38: 0 | X38: 2 | Y38: 8 | Z38: 2
A39: 2.1.1 | B39: ²Û¹ ÃíáõÙª íÇ×³Ñ³ñáõÛó ·áñÍ³ñùÝ»ñ | E39: 0 | F39: 0 | G39: 0 | H39: 0 | I39: 0 | J39: 0 | K39: 0 | L39: 0 | M39: 0 | N39: 0 | O39: 0 | P39: 0 | Q39: 0 | R39: 0 | S39: 0 | T39: 0 | U39: 0 | V39: 0 | W39: 0 | X39: 0 | Y39: 0 | Z39: 0
A40: 2.1.2 | B40: ²Û¹ ÃíáõÙª ³éáãÇÝã ·áñÍ³ñùÝ»ñ | E40: 0 | F40: 2 | G40: 2 | H40: 0 | I40: 0 | J40: 1 | K40: 1 | L40: 0 | M40: 0 | N40: 0 | O40: 0 | P40: 0 | Q40: 0 | R40: 0 | S40: 1 | T40: 0 | U40: 0 | V40: 0 | W40: 0 | X40: 0 | Y40: 1 | Z40: 0
A41: 2.2 | B41: ¶áñÍ³ñùÁ í³í»ñ ×³Ý³ã»Éáõ í»ñ³µ»ñÛ³É | E41: 0 | F41: 6 | G41: 6 | H41: 0 | I41: 0 | J41: 4 | K41: 3 | L41: 0 | M41: 1 | N41: 0 | O41: 0 | P41: 0 | Q41: 0 | R41: 0 | S41: 4 | T41: 0 | U41: 2 | V41: 0 | W41: 0 | X41: 0 | Y41: 2 | Z41: 1
A42: 2.3 | B42: ¶áñÍ³ñùÇó Í³·áÕ Çñ³íáõÝùÝ»ñÁ ·ñ³Ýó»Éáõ í»ñ³µ»ñÛ³É | E42: 0 | F42: 0 | G42: 0 | H42: 0 | I42: 0 | J42: 0 | K42: 0 | L42: 0 | M42: 0 | N42: 0 | O42: 0 | P42: 0 | Q42: 0 | R42: 0 | S42: 0 | T42: 0 | U42: 0 | V42: 0 | W42: 0 | X42: 0 | Y42: 0 | Z42: 0
A43: 2.4 | B43: ä³ÛÙ³Ý³·ÇñÝ ³Ýí³í»ñ ×³Ý³ã»Éáõ í»ñ³µ»ñÛ³É | E43: 0 | F43: 19 | G43: 18 | H43: 1 | I43: 0 | J43: 12 | K43: 6 | L43: 0 | M43: 3 | N43: 3 | O43: 1 | P43: 0 | Q43: 2 | R43: 0 | S43: 12 | T43: 1 | U43: 8 | V43: 5 | W43: 0 | X43: 1 | Y43: 5 | Z43: 1
A44: 2.5 | B44: ä³ÛÙ³Ý³·ñÇÁ í³í»ñ ×³Ý³ã»Éáõ í»ñ³µ»ñÛ³É | E44: 1 | F44: 11 | G44: 10 | H44: 1 | I44: 0 | J44: 10 | K44: 7 | L44: 0 | M44: 2 | N44: 1 | O44: 0 | P44: 1 | Q44: 0 | R44: 0 | S44: 10 | T44: 0 | U44: 10 | V44: 4 | W44: 0 | X44: 0 | Y44: 1 | Z44: 2
A45: 2.6 | B45: ä³ÛÙ³Ý³·ñÇó Í³·áÕ Çñ³íáõÝùÝ»ñÁ ·ñ³Ýó»Éáõ í»ñ³µ»ñÛ³É | E45: 0 | F45: 0 | G45: 0 | H45: 0 | I45: 0 | J45: 0 | K45: 0 | L45: 0 | M45: 0 | N45: 0 | O45: 0 | P45: 0 | Q45: 0 | R45: 0 | S45: 0 | T45: 0 | U45: 0 | V45: 0 | W45: 0 | X45: 0 | Y45: 0 | Z45: 0
A46: 2.7 | B46: ä³ÛÙ³Ý³·ÇñÁ ÷á÷áË»Éáõ ¨ ÉáõÍ»Éáõ í»ñ³µ»ñÛ³É | E46: 1 | F46: 48 | G46: 46 | H46: 2 | I46: 0 | J46: 39 | K46: 30 | L46: 2 | M46: 1 | N46: 6 | O46: 1 | P46: 4 | Q46: 1 | R46: 0 | S46: 39 | T46: 0 | U46: 37 | V46: 2 | W46: 0 | X46: 0 | Y46: 8 | Z46: 3
A47: 2.8 | B47: ä³ÛÙ³Ý³·Çñ ÏÝù»ÉáõÝ å³ñï³íáñ»óÝ»Éáõ í»ñ³µ»ñÛ³É | E47: 0 | F47: 0 | G47: 0 | H47: 0 | I47: 0 | J47: 0 | K47: 0 | L47: 0 | M47: 0 | N47: 0 | O47: 0 | P47: 0 | Q47: 0 | R47: 0 | S47: 0 | T47: 0 | U47: 0 | V47: 0 | W47: 0 | X47: 0 | Y47: 0 | Z47: 0
A48: 2.9 | B48: ²ÛÉ í»×»ñ | E48: 1 | F48: 13 | G48: 9 | H48: 3 | I48: 0 | J48: 8 | K48: 3 | L48: 0 | M48: 4 | N48: 1 | O48: 0 | P48: 1 | Q48: 0 | R48: 0 | S48: 8 | T48: 0 | U48: 7 | V48: 3 | W48: 0 | X48: 0 | Y48: 2 | Z48: 0
A49: 3. | B49: Ä³é³Ý·áõÃÛ³Ý í»ñ³µ»ñÛ³É í»×»ñ | E49: =E50+E51+E52+E54+E55+E56 -> 6 | F49: =G49+H49+I49 -> 48 | G49: =G50+G51+G52+G54+G55+G56 -> 40 | H49: =H50+H51+H52+H54+H55+H56 -> 7 | I49: =I50+I51+I52+I54+I55+I56 -> 1 | J49: =K49+L49+M49+N49 -> 25 | K49: =K50+K51+K52+K54+K55+K56 -> 12 | L49: =L50+L51+L52+L54+L55+L56 -> 3 | M49: =M50+M51+M52+M54+M55+M56 -> 4 | N49: =N50+N51+N52+N54+N55+N56 -> 6 | O49: =O50+O51+O52+O54+O55+O56 -> 0 | P49: =P50+P51+P52+P54+P55+P56 -> 6 | Q49: =Q50+Q51+Q52+Q54+Q55+Q56 -> 0 | R49: =R50+R51+R52+R54+R55+R56 -> 1 | ... Y49: =Y50+Y51+Y52+Y54+Y55+Y56 -> 20
A50: 3.1 | B50: Îï³ÏÝ ³Ýí³í»ñ ×³Ý³ã»Éáõ í»ñ³µ»ñÛ³É | E50: 0 | F50: 5 | G50: 5 | H50: 0 | I50: 0 | J50: 3 | K50: 1 | L50: 0 | M50: 2 | N50: 0 | O50: 0 | P50: 0 | Q50: 0 | R50: 0 | S50: 3 | T50: 0 | U50: 1 | V50: 3 | W50: 0 | X50: 0 | Y50: 2 | Z50: 2
A51: 3.2 | B51: ²Ý³ñÅ³Ý Å³é³Ý· ×³Ý³ã»Éáõ í»ñ³µ»ñÛ³É | E51: 0 | F51: 0 | G51: 0 | H51: 0 | I51: 0 | J51: 0 | K51: 0 | L51: 0 | M51: 0 | N51: 0 | O51: 0 | P51: 0 | Q51: 0 | R51: 0 | S51: 0 | T51: 0 | U51: 0 | V51: 0 | W51: 0 | X51: 0 | Y51: 0 | Z51: 0
A52: 3.3 | B52: Ä³é³Ý·áõÃÛáõÝÁ µ³Å³Ý»Éáõ í»ñ³µ»ñÛ³É | E52: 1 | F52: 8 | G52: 6 | H52: 2 | I52: 0 | J52: 3 | K52: 2 | L52: 1 | M52: 0 | N52: 0 | O52: 0 | P52: 0 | Q52: 0 | R52: 0 | S52: 3 | T52: 0 | U52: 2 | V52: 1 | W52: 0 | X52: 0 | Y52: 4 | Z52: 2
A53: 3.4 | B53: ¶áõÛùÝ ³ÝÅ³é³Ý· ×³Ý³ã»Éáõ í»ñ³µ»ñÛ³É | E53: 0 | F53: 0 | G53: 0 | H53: 0 | I53: 0 | J53: 0 | K53: 0 | L53: 0 | M53: 0 | N53: 0 | O53: 0 | P53: 0 | Q53: 0 | R53: 0 | S53: 0 | T53: 0 | U53: 0 | V53: 0 | W53: 0 | X53: 0 | Y53: 0 | Z53: 0
A54: 3.5 | B54: Àëï ûñ»ÝùÇ Å³é³Ý·áõÃÛ³Ý Çñ³íáõÝùÇ íÏ³Û³Ï³ÝÝ ³Ýí³í»ñ ×³Ý³ã»Éáõ í»ñ³µ»ñÛ³É | E54: 1 | F54: 9 | G54: 8 | H54: 1 | I54: 0 | J54: 8 | K54: 3 | L54: 2 | M54: 2 | N54: 1 | O54: 0 | P54: 1 | Q54: 0 | R54: 0 | S54: 8 | T54: 0 | U54: 3 | V54: 5 | W54: 0 | X54: 0 | Y54: 1 | Z54: 2
A55: 3.6 | B55: Ä³é³Ý·áõÃÛáõÝÝ ÁÝ¹áõÝ»Éáõ µ³ó ÃáÕÝí³Í Å³ÙÏ»ïÁ Ñ³ñ·»ÉÇ Ñ³Ù³ñ»Éáõ í»ñ³µ»ñÛ³É | E55: 1 | F55: 10 | G55: 8 | H55: 2 | I55: 0 | J55: 4 | K55: 3 | L55: 0 | M55: 0 | N55: 1 | O55: 0 | P55: 1 | Q55: 0 | R55: 1 | S55: 5 | T55: 0 | U55: 6 | V55: 0 | W55: 0 | X55: 0 | Y55: 4 | Z55: 1
A56: 3.7 | B56: ²ÛÉ í»×»ñ | E56: 3 | F56: 16 | G56: 13 | H56: 2 | I56: 1 | J56: 7 | K56: 3 | L56: 0 | M56: 0 | N56: 4 | O56: 0 | P56: 4 | Q56: 0 | R56: 0 | S56: 7 | T56: 0 | U56: 5 | V56: 1 | W56: 0 | X56: 0 | Y56: 9 | Z56: 4
A57: 4 | B57: ÀÝï³Ý»Ï³Ý Çñ³í³Ñ³ñ³µ»ñáõÃÛáõÝÝ»ñÇó Í³·áÕ í»×»ñ | E57: =E58+E59+E60+E61+E62+E63+E64+E65+E66+E67+E68+E69+E70 -> 20 | F57: =F58+F59+F60+F61+F62+F63+F64+F65+F66+F67+F68+F69+F70 -> 168 | G57: =G58+G59+G60+G61+G62+G63+G64+G65+G66+G67+G68+G69+G70 -> 137 | H57: =H58+H59+H60+H61+H62+H63+H64+H65+H66+H67+H68+H69+H70 -> 30 | I57: =I58+I59+I60+I61+I62+I63+I64+I65+I66+I67+I68+I69+I70 -> 1 | J57: =K57+L57+M57+N57 -> 122 | K57: =K58+K59+K60+K61+K62+K63+K64+K65+K66+K67+K68+K69+K70 -> 75 | L57: =L58+L59+L60+L61+L62+L63+L64+L65+L66+L67+L68+L69+L70 -> 18 | M57: =M58+M59+M60+M61+M62+M63+M64+M65+M66+M67+M68+M69+M70 -> 13 | N57: =N58+N59+N60+N61+N62+N63+N64+N65+N66+N67+N68+N69+N70 -> 16 | O57: =O58+O59+O60+O61+O62+O63+O64+O65+O66+O67+O68+O69+O70 -> 3 | P57: =P58+P59+P60+P61+P62+P63+P64+P65+P66+P67+P68+P69+P70 -> 13 | Q57: =Q58+Q59+Q60+Q61+Q62+Q63+Q64+Q65+Q66+Q67+Q68+Q69+Q70 -> 0 | R57: =R58+R59+R60+R61+R62+R63+R64+R65+R66+R67+R68+R69+R70 -> 0 | ... Y57: =Y58+Y59+Y60+Y61+Y62+Y63+Y64+Y65+Y66+Y67+Y68+Y69+Y70 -> 35
A58: 4.1 | B58: ²ÙáõëÝ³ÉáõÍáõÃÛ³Ý í»ñ³µ»ñÛ³É | E58: 10 | F58: 106 | G58: 85 | H58: 21 | I58: 0 | J58: 70 | K58: 52 | L58: 5 | M58: 5 | N58: 8 | O58: 0 | P58: 8 | Q58: 0 | R58: 0 | S58: 70 | T58: 0 | U58: 61 | V58: 5 | W58: 0 | X58: 0 | Y58: 25 | Z58: 4
A59: 4.2 | B59: ²ÉÇÙ»ÝïÇ å³Ñ³ÝçÇ í»ñ³µ»ñÛ³É | E59: 4 | F59: 27 | G59: 21 | H59: 5 | I59: 1 | J59: 20 | K59: 10 | L59: 7 | M59: 1 | N59: 2 | O59: 1 | P59: 1 | Q59: 0 | R59: 0 | S59: 20 | T59: 0 | U59: 19 | V59: 3 | W59: 0 | X59: 0 | Y59: 5 | Z59: 0
A60: 4.3 | B60: ²ÉÇÙ»ÝïÇ ã³÷Á ÷á÷áË»Éáõ í»ñ³µ»ñÛ³É | E60: 2 | F60: 3 | G60: 3 | H60: 0 | I60: 0 | J60: 4 | K60: 1 | L60: 1 | M60: 1 | N60: 1 | O60: 0 | P60: 1 | Q60: 0 | R60: 0 | S60: 4 | T60: 0 | U60: 2 | V60: 0 | W60: 0 | X60: 0 | Y60: 1 | Z60: 0
A61: 4.4 | B61: ÌÝáÕ³Ï³Ý Çñ³íáõÝùÝ»ñÇó ½ñÏ»Éáõ í»ñ³µ»ñÛ³É | E61: 0 | F61: 4 | G61: 3 | H61: 1 | I61: 0 | J61: 2 | K61: 1 | L61: 0 | M61: 1 | N61: 0 | O61: 0 | P61: 0 | Q61: 0 | R61: 0 | S61: 2 | T61: 0 | U61: 2 | V61: 0 | W61: 0 | X61: 0 | Y61: 1 | Z61: 0
A62: 4.5 | B62: ÌÝáÕ³Ï³Ý Çñ³íáõÝùÝ»ñÁ í»ñ³Ï³Ý·Ý»Éáõ í»ñ³µ»ñÛ³É | E62: 0 | F62: 0 | G62: 0 | H62: 0 | I62: 0 | J62: 0 | K62: 0 | L62: 0 | M62: 0 | N62: 0 | O62: 0 | P62: 0 | Q62: 0 | R62: 0 | S62: 0 | T62: 0 | U62: 0 | V62: 0 | W62: 0 | X62: 0 | Y62: 0 | Z62: 0
A63: 4.6 | B63: ºñ»Ë³ÛÇ áñ¹»·ñÙ³Ý í»ñ³µ»ñÛ³É | E63: 0 | F63: 4 | G63: 4 | H63: 0 | I63: 0 | J63: 3 | K63: 2 | L63: 0 | M63: 1 | N63: 0 | O63: 0 | P63: 0 | Q63: 0 | R63: 0 | S63: 3 | T63: 0 | U63: 2 | V63: 0 | W63: 0 | X63: 0 | Y63: 1 | Z63: 0
A64: 4.7 | B64: ºñ»Ë³ÛÇ áñ¹»·ñáõÙÁ í»ñ³óÝ»Éáõ í»ñ³µ»ñÛ³É | E64: 0 | F64: 0 | G64: 0 | H64: 0 | I64: 0 | J64: 0 | K64: 0 | L64: 0 | M64: 0 | N64: 0 | O64: 0 | P64: 0 | Q64: 0 | R64: 0 | S64: 0 | T64: 0 | U64: 0 | V64: 0 | W64: 0 | X64: 0 | Y64: 0 | Z64: 0
A65: 4.8 | B65: Ð³ÛñáõÃÛáõÝÁ ×³Ý³ã»Éáõ í»ñ³µ»ñÛ³É | E65: 0 | F65: 7 | G65: 6 | H65: 1 | I65: 0 | J65: 5 | K65: 4 | L65: 0 | M65: 1 | N65: 0 | O65: 0 | P65: 0 | Q65: 0 | R65: 0 | S65: 5 | T65: 0 | U65: 3 | V65: 0 | W65: 0 | X65: 0 | Y65: 1 | Z65: 0
A66: 4.9 | B66: ºñ»Ë³ÛÇ µÝ³ÏáõÃÛ³Ý í³ÛñÁ áñáß»Éáõ í»ñ³µ»ñÛ³É | E66: 1 | F66: 5 | G66: 4 | H66: 1 | I66: 0 | J66: 5 | K66: 1 | L66: 0 | M66: 1 | N66: 3 | O66: 1 | P66: 2 | Q66: 0 | R66: 0 | S66: 5 | T66: 0 | U66: 2 | V66: 1 | W66: 0 | X66: 0 | Y66: 0 | Z66: 0
A67: 4.10 | B67: ºñ»Ë³ÛÇ Ñ»ï ï»ë³ÏóáõÃÛ³Ý Ï³ñ· ë³ÑÙ³Ý»Éáõ í»ñ³µ»ñÛ³É | E67: 2 | F67: 7 | G67: 7 | H67: 0 | I67: 0 | J67: 9 | K67: 1 | L67: 5 | M67: 1 | N67: 2 | O67: 1 | P67: 1 | Q67: 0 | R67: 0 | S67: 9 | T67: 0 | U67: 7 | V67: 4 | W67: 0 | X67: 0 | Y67: 0 | Z67: 0
A68: 4.11 | B68: ²ÙáõëÇÝÝ»ñÇ ÁÝ¹Ñ³Ýáõñ ·áõÛùÁ µ³Å³Ý»Éáõ í»ñ³µ»ñÛ³É | E68: 0 | F68: 1 | G68: 1 | H68: 0 | I68: 0 | J68: 0 | K68: 0 | L68: 0 | M68: 0 | N68: 0 | O68: 0 | P68: 0 | Q68: 0 | R68: 0 | S68: 0 | T68: 0 | U68: 0 | V68: 0 | W68: 0 | X68: 0 | Y68: 1 | Z68: 0
A69: 4.12 | B69: ²ÙáõëÝ³Ï³Ý å³ÛÙ³Ý³·ñÇ ÷á÷áËÙ³Ý Ï³Ù ÉáõÍÙ³Ý í»ñ³µ»ñÛ³É | E69: 0 | F69: 0 | G69: 0 | H69: 0 | I69: 0 | J69: 0 | K69: 0 | L69: 0 | M69: 0 | N69: 0 | O69: 0 | P69: 0 | Q69: 0 | R69: 0 | S69: 0 | T69: 0 | U69: 0 | V69: 0 | W69: 0 | X69: 0 | Y69: 0 | Z69: 0
A70: 4.13 | B70: ²ÛÉ í»×»ñ | E70: 1 | F70: 4 | G70: 3 | H70: 1 | I70: 0 | J70: 4 | K70: 3 | L70: 0 | M70: 1 | N70: 0 | O70: 0 | P70: 0 | Q70: 0 | R70: 0 | S70: 4 | T70: 0 | U70: 3 | V70: 2 | W70: 0 | X70: 0 | Y70: 0 | Z70: 0
A71: 5. | B71: Øï³íáñ ë»÷³Ï³ÝáõÃÛáõÝ | E71: =E72+E73+E74+E75+E76+E77 -> 0 | F71: =F72+F73+F74+F75+F76+F77 -> 0 | G71: =G72+G73+G74+G75+G76+G77 -> 0 | H71: =H72+H73+H74+H75+H76+H77 -> 0 | I71: =I72+I73+I74+I75+I76+I77 -> 0 | J71: =J72+J73+J74+J75+J76+J77 -> 0 | K71: =K72+K73+K74+K75+K76+K77 -> 0 | L71: =L72+L73+L74+L75+L76+L77 -> 0 | ... Y71: =Y72+Y73+Y74+Y75+Y76+Y77 -> 0
A72: 5.1 | B72: ÈÇó»Ý½³ÛÇÝ å³ÛÙ³Ý³·ñÇ ÉáõÍÙ³Ý, ÷á÷áËÙ³Ý ¨ ³Ýí³í»ñáõÃÛ³Ý í»ñ³µ»ñÛ³É | E72: 0 | F72: 0 | G72: 0 | H72: 0 | I72: 0 | J72: 0 | K72: 0 | L72: 0 | M72: 0 | N72: 0 | O72: 0 | P72: 0 | Q72: 0 | R72: 0 | S72: 0 | T72: 0 | U72: 0 | V72: 0 | W72: 0 | X72: 0 | Y72: 0 | Z72: 0
A73: 5.2 | B73: Øï³íáñ ·áñÍáõÝ»áõÃÛ³Ý ³ñ¹ÛáõÝùÝ»ñ ëï»ÕÍ»Éáõ ¨ û·ï³·áñÍ»Éáõ å³ÛÙ³Ý³·ñÇ ÉáõÍÙ³Ý, ÷á÷áËÙ³Ý áõ ³Ýí³í»ñáõÃÛ³Ý í»ñ³µ»ñÛ³É | E73: 0 | F73: 0 | G73: 0 | H73: 0 | I73: 0 | J73: 0 | K73: 0 | L73: 0 | M73: 0 | N73: 0 | O73: 0 | P73: 0 | Q73: 0 | R73: 0 | S73: 0 | T73: 0 | U73: 0 | V73: 0 | W73: 0 | X73: 0 | Y73: 0 | Z73: 0
A74: 5.3 | B74: Ð»ÕÇÝ³Ï³ÛÇÝ ¨ Ñ³ñ³ÏÇó Çñ³íáõÝùÝ»ñÇ í»ñ³µ»ñÛ³É | E74: 0 | F74: 0 | G74: 0 | H74: 0 | I74: 0 | J74: 0 | K74: 0 | L74: 0 | M74: 0 | N74: 0 | O74: 0 | P74: 0 | Q74: 0 | R74: 0 | S74: 0 | T74: 0 | U74: 0 | V74: 0 | W74: 0 | X74: 0 | Y74: 0 | Z74: 0
A75: 5.4 | B75: üÇñÙ³ÛÇÝ ³Ýí³ÝÙ³Ý í»ñ³µ»ñÛ³É | E75: 0 | F75: 0 | G75: 0 | H75: 0 | I75: 0 | J75: 0 | K75: 0 | L75: 0 | M75: 0 | N75: 0 | O75: 0 | P75: 0 | Q75: 0 | R75: 0 | S75: 0 | T75: 0 | U75: 0 | V75: 0 | W75: 0 | X75: 0 | Y75: 0 | Z75: 0
A76: 5.5 | B76: ²åñ³Ýù³ÛÇÝ Ýß³ÝÇ í»ñ³µ»ñÛ³É | E76: 0 | F76: 0 | G76: 0 | H76: 0 | I76: 0 | J76: 0 | K76: 0 | L76: 0 | M76: 0 | N76: 0 | O76: 0 | P76: 0 | Q76: 0 | R76: 0 | S76: 0 | T76: 0 | U76: 0 | V76: 0 | W76: 0 | X76: 0 | Y76: 0 | Z76: 0
A77: 5.6 | B77: ²ÛÉ í»×»ñ | E77: 0 | F77: 0 | G77: 0 | H77: 0 | I77: 0 | J77: 0 | K77: 0 | L77: 0 | M77: 0 | N77: 0 | O77: 0 | P77: 0 | Q77: 0 | R77: 0 | S77: 0 | T77: 0 | U77: 0 | V77: 0 | W77: 0 | X77: 0 | Y77: 0 | Z77: 0
A78: 6. | B78: ²ßË³ï³Ýù³ÛÇÝ í»×»ñ | E78: =E79+E80+E81+E82+E83+E84 -> 1 | F78: =G78+H78+I78 -> 10 | G78: =G79+G80+G81+G82+G83+G84 -> 9 | H78: =H79+H80+H81+H82+H83+H84 -> 1 | I78: =I79+I80+I81+I82+I83+I84 -> 0 | J78: =K78+L78+M78+N78 -> 7 | K78: =K79+K80+K81+K82+K83+K84 -> 6 | L78: =L79+L80+L81+L82+L83+L84 -> 0 | M78: =M79+M80+M81+M82+M83+M84 -> 0 | N78: =N79+N80+N81+N82+N83+N84 -> 1 | O78: =O79+O80+O81+O82+O83+O84 -> 0 | P78: =P79+P80+P81+P82+P83+P84 -> 0 | Q78: =Q79+Q80+Q81+Q82+Q83+Q84 -> 1 | R78: =R79+R80+R81+R82+R83+R84 -> 0 | ... Y78: =Y79+Y80+Y81+Y82+Y83+Y84 -> 3
A79: 6.1 | B79: ²ßË³ï³Ýù³ÛÇÝ å³ÛÙ³Ý³·ñ»ñÇ í»ñ³µ»ñÛ³É | E79: 0 | F79: 0 | G79: 0 | H79: 0 | I79: 0 | J79: 0 | K79: 0 | L79: 0 | M79: 0 | N79: 0 | O79: 0 | P79: 0 | Q79: 0 | R79: 0 | S79: 0 | T79: 0 | U79: 0 | V79: 0 | W79: 0 | X79: 0 | Y79: 0 | Z79: 0
A80: 6.2 | B80: ²ßË³ï³ÝùáõÙ í»ñ³Ï³Ý·Ý»Éáõ í»ñ³µ»ñÛ³É | E80: 0 | F80: 5 | G80: 5 | H80: 0 | I80: 0 | J80: 3 | K80: 2 | L80: 0 | M80: 0 | N80: 1 | O80: 0 | P80: 0 | Q80: 1 | R80: 0 | S80: 3 | T80: 0 | U80: 1 | V80: 1 | W80: 0 | X80: 0 | Y80: 2 | Z80: 0
A81: 6.3 | B81: ¶áñÍ³¹áõÉÝ ³ÝûñÇÝ³Ï³Ý ×³Ý³ã»Éáõ í»ñ³µ»ñÛ³É | E81: 0 | F81: 0 | G81: 0 | H81: 0 | I81: 0 | J81: 0 | K81: 0 | L81: 0 | M81: 0 | N81: 0 | O81: 0 | P81: 0 | Q81: 0 | R81: 0 | S81: 0 | T81: 0 | U81: 0 | V81: 0 | W81: 0 | X81: 0 | Y81: 0 | Z81: 0
A82: 6.4 | B82: Ð³ñÏ³¹Çñ å³ñ³åáõñ¹Ç Ñ³ïáõóÙ³Ý í»ñ³µ»ñÛ³É | E82: 0 | F82: 0 | G82: 0 | H82: 0 | I82: 0 | J82: 0 | K82: 0 | L82: 0 | M82: 0 | N82: 0 | O82: 0 | P82: 0 | Q82: 0 | R82: 0 | S82: 0 | T82: 0 | U82: 0 | V82: 0 | W82: 0 | X82: 0 | Y82: 0 | Z82: 0
A83: 6.5 | B83: âí×³ñí³Í ³ßË³ï³í³ñÓÇ ¨/Ï³Ù ³ÛÉ í×³ñÝ»ñÇ µéÝ³·³ÝÓÙ³Ý í»ñ³µ»ñÛ³É | E83: 1 | F83: 5 | G83: 4 | H83: 1 | I83: 0 | J83: 4 | K83: 4 | L83: 0 | M83: 0 | N83: 0 | O83: 0 | P83: 0 | Q83: 0 | R83: 0 | S83: 4 | T83: 0 | U83: 4 | V83: 1 | W83: 0 | X83: 0 | Y83: 1 | Z83: 0
A84: 6.6 | B84: ²ÛÉ í»×»ñ | E84: 0 | F84: 0 | G84: 0 | H84: 0 | I84: 0 | J84: 0 | K84: 0 | L84: 0 | M84: 0 | N84: 0 | O84: 0 | P84: 0 | Q84: 0 | R84: 0 | S84: 0 | T84: 0 | U84: 0 | V84: 0 | W84: 0 | X84: 0 | Y84: 0 | Z84: 0
A85: 7. | B85: Æñ³í³µ³Ý³Ï³Ý ³ÝÓÇ ·áñÍáõÝ»áõÃÛ³Ý í»ñ³µ»ñÛ³É | E85: =E86+E87 -> 0 | F85: =F86+F87 -> 2 | G85: =G86+G87 -> 2 | H85: =H86+H87 -> 0 | I85: =I86+I87 -> 0 | J85: =J86+J87 -> 1 | K85: =K86+K87 -> 1 | L85: =L86+L87 -> 0 | ... Y85: =Y86+Y87 -> 1
A86: 7.1 | B86: Îáñåáñ³ïÇí í»×»ñ | E86: 0 | F86: 2 | G86: 2 | H86: 0 | I86: 0 | J86: 1 | K86: 1 | L86: 0 | M86: 0 | N86: 0 | O86: 0 | P86: 0 | Q86: 0 | R86: 0 | S86: 1 | T86: 0 | U86: 0 | V86: 1 | W86: 0 | X86: 0 | Y86: 1 | Z86: 1
A87: 7.2 | B87: ²ÛÉ í»×»ñ | E87: 0 | F87: 0 | G87: 0 | H87: 0 | I87: 0 | J87: 0 | K87: 0 | L87: 0 | M87: 0 | N87: 0 | O87: 0 | P87: 0 | Q87: 0 | R87: 0 | S87: 0 | T87: 0 | U87: 0 | V87: 0 | W87: 0 | X87: 0 | Y87: 0 | Z87: 0
A88: 8. | B88: Ð³ïáõÏ í³ñáõÛÃÇ ·áñÍ»ñ | E88: =E89+E90+E91+E92+E93+E94+E95+E96+E97+E98+E99+E100+E101+E102+E103+E104+E105+E106+E107+E108+E109 -> 22 | F88: =G88+H88+I88 -> 246 | G88: =G89+G90+G91+G92+G93+G94+G95+G96+G97+G98+G99+G100+G101+G102+G103+G104+G105+G106+G107+G108+G109 -> 192 | H88: =H89+H90+H91+H92+H93+H94+H95+H96+H97+H98+H99+H100+H101+H102+H103+H104+H105+H106+H107+H108+H109 -> 41 | I88: =I89+I90+I91+I92+I93+I94+I95+I96+I97+I98+I99+I100+I101+I102+I103+I104+I105+I106+I107+I108+I109 -> 13 | J88: =K88+L88+M88+N88 -> 187 | K88: =K89+K90+K91+K92+K93+K94+K95+K96+K97+K98+K99+K100+K101+K102+K103+K104+K105+K106+K107+K108+K109 -> 143 | L88: =L89+L90+L91+L92+L93+L94+L95+L96+L97+L98+L99+L100+L101+L102+L103+L104+L105+L106+L107+L108+L109 -> 1 | M88: =M89+M90+M91+M92+M93+M94+M95+M96+M97+M98+M99+M100+M101+M102+M103+M104+M105+M106+M107+M108+M109 -> 29 | N88: =N89+N90+N91+N92+N93+N94+N95+N96+N97+N98+N99+N100+N101+N102+N103+N104+N105+N106+N107+N108+N109 -> 14 | O88: =O89+O90+O91+O92+O93+O94+O95+O96+O97+O98+O99+O100+O101+O102+O103+O104+O105+O106+O107+O108+O109 -> 1 | P88: =P89+P90+P91+P92+P93+P94+P95+P96+P97+P98+P99+P100+P101+P102+P103+P104+P105+P106+P107+P108+P109 -> 13 | Q88: =Q89+Q90+Q91+Q92+Q93+Q94+Q95+Q96+Q97+Q98+Q99+Q100+Q101+Q102+Q103+Q104+Q105+Q106+Q107+Q108+Q109 -> 0 | R88: =R89+R90+R91+R92+R93+R94+R95+R96+R97+R98+R99+R100+R101+R102+R103+R104+R105+R106+R107+R108+R109 -> 3 | ... Y88: =Y89+Y90+Y91+Y92+Y93+Y94+Y95+Y96+Y97+Y98+Y99+Y100+Y101+Y102+Y103+Y104+Y105+Y106+Y107+Y108+Y109 -> 24
A89: 8.1 | B89: ²Ýã³÷³Ñ³ëÇÝ ÉñÇí ·áñÍáõÝ³Ï ×³Ý³ã»Éáõ /¿Ù³ÝëÇå³óÇ³/ í»ñ³µ»ñÛ³É | E89: 0 | F89: 0 | G89: 0 | H89: 0 | I89: 0 | J89: 0 | K89: 0 | L89: 0 | M89: 0 | N89: 0 | O89: 0 | P89: 0 | Q89: 0 | R89: 0 | S89: 0 | T89: 0 | U89: 0 | V89: 0 | W89: 0 | X89: 0 | Y89: 0 | Z89: 0
A90: 8.2 | B90: ø³Õ³ù³óáõÝ ³Ý·áñÍáõÝ³Ï Ï³Ù ë³ÑÙ³Ý³÷³Ï ·áñÍáõÝ³Ï ×³Ý³ã»Éáõ í»ñ³µ»ñÛ³É | E90: 6 | F90: 24 | G90: 19 | H90: 2 | I90: 3 | J90: 24 | K90: 21 | L90: 0 | M90: 0 | N90: 3 | O90: 0 | P90: 3 | Q90: 0 | R90: 0 | S90: 24 | T90: 0 | U90: 19 | V90: 0 | W90: 0 | X90: 0 | Y90: 1 | Z90: 2
A91: 8.3 | B91: ø³Õ³ù³óáõÝ Ñá·»µáõÅ³Ï³Ý ÑÇí³Ý¹³Ýáó³ÛÇÝ Ñ³ñÏ³¹Çñ µáõÅÙ³Ý »ÝÃ³ñÏ»Éáõ í»ñ³µ»ñÛ³É | E91: 0 | F91: 0 | G91: 0 | H91: 0 | I91: 0 | J91: 0 | K91: 0 | L91: 0 | M91: 0 | N91: 0 | O91: 0 | P91: 0 | Q91: 0 | R91: 0 | S91: 0 | T91: 0 | U91: 0 | V91: 0 | W91: 0 | X91: 0 | Y91: 0 | Z91: 0
A92: 8.4 | B92: ø³Õ³ù³óáõÝ ³ÝÑ³Ûï µ³ó³Ï³ÛáÕ Ï³Ù Ù³Ñ³ó³Í ×³Ý³ã»Éáõ í»ñ³µ»ñÛ³É | E92: 4 | F92: 55 | G92: 44 | H92: 10 | I92: 1 | J92: 42 | K92: 32 | L92: 0 | M92: 7 | N92: 3 | O92: 0 | P92: 3 | Q92: 0 | R92: 0 | S92: 42 | T92: 0 | U92: 41 | V92: 5 | W92: 0 | X92: 0 | Y92: 6 | Z92: 0
A93: 8.5 | B93: ø³Õ³ù³óÇ³Ï³Ý Ï³óáõÃÛ³Ý ³Ïï»ñÇ ·ñ³éáõÙÝ»ñÇ ³Ý×ßïáõÃÛáõÝÝ»ñÁ å³ñ½»Éáõ í»ñ³µ»ñÛ³É | E93: 0 | F93: 0 | G93: 0 | H93: 0 | I93: 0 | J93: 0 | K93: 0 | L93: 0 | M93: 0 | N93: 0 | O93: 0 | P93: 0 | Q93: 0 | R93: 0 | S93: 0 | T93: 0 | U93: 0 | V93: 0 | W93: 0 | X93: 0 | Y93: 0 | Z93: 0
A94: 8.6 | B94: ¶áõÛùÁ ïÇñ³½áõñÏ ×³Ý³ã»Éáõ í»ñ³µ»ñÛ³É | E94: 1 | F94: 5 | G94: 3 | H94: 2 | I94: 0 | J94: 2 | K94: 1 | L94: 0 | M94: 0 | N94: 1 | O94: 0 | P94: 1 | Q94: 0 | R94: 0 | S94: 2 | T94: 0 | U94: 2 | V94: 0 | W94: 0 | X94: 0 | Y94: 2 | Z94: 0
A95: 8.6.1 | B95: ²Û¹ ÃíáõÙª ³Ýß³ñÅ ·áõÛùÁ | E95: 1 | F95: 6 | G95: 4 | H95: 2 | I95: 0 | J95: 3 | K95: 2 | L95: 0 | M95: 1 | N95: 0 | O95: 0 | P95: 0 | Q95: 0 | R95: 0 | S95: 3 | T95: 0 | U95: 3 | V95: 1 | W95: 0 | X95: 2 | Y95: 2 | Z95: 0
A96: 8.6.2 | B96: ²Û¹ ÃíáõÙª ß³ñÅ³Ï³Ý ·áõÛùÁ | E96: 0 | F96: 1 | G96: 1 | H96: 0 | I96: 0 | J96: 1 | K96: 0 | L96: 0 | M96: 0 | N96: 1 | O96: 0 | P96: 1 | Q96: 0 | R96: 0 | S96: 1 | T96: 0 | U96: 10 | V96: 0 | W96: 0 | X96: 0 | Y96: 0 | Z96: 0
A97: 8.7 | B97: Æñ³í³µ³Ý³Ï³Ý Ýß³Ý³ÏáõÃÛáõÝ áõÝ»óáÕ ÷³ëï»ñÇ Ñ³ëï³ïÙ³Ý í»ñ³µ»ñÛ³É | E97: 0 | F97: 3 | G97: 2 | H97: 1 | I97: 0 | J97: 1 | K97: 0 | L97: 0 | M97: 1 | N97: 0 | O97: 0 | P97: 0 | Q97: 0 | R97: 0 | S97: 1 | T97: 0 | U97: 1 | V97: 0 | W97: 0 | X97: 0 | Y97: 1 | Z97: 0
A98: 8.7.1 | B98: ²ÝÓ³Ýó ³½·³Ïó³Ï³Ý Ï³åÁ Ñ³ëï³ï»Éáõ í»ñ³µ»ñÛ³É | E98: 2 | F98: 28 | G98: 26 | H98: 2 | I98: 0 | J98: 25 | K98: 20 | L98: 0 | M98: 4 | N98: 1 | O98: 0 | P98: 1 | Q98: 0 | R98: 0 | S98: 25 | T98: 0 | U98: 24 | V98: 2 | W98: 0 | X98: 0 | Y98: 3 | Z98: 0
A99: 8.7.2 | B99: ²ÝÓÇª áõñÇßÇ ËÝ³ÙùÇ ï³Ï ·ïÝí»Éáõ í»ñ³µ»ñÛ³É | E99: 0 | F99: 1 | G99: 1 | H99: 0 | I99: 0 | J99: 1 | K99: 0 | L99: 0 | M99: 0 | N99: 1 | O99: 1 | P99: 0 | Q99: 0 | R99: 0 | S99: 1 | T99: 0 | U99: 1 | V99: 0 | W99: 0 | X99: 0 | Y99: 0 | Z99: 0
A100: 8.7.3 | B100: ÌÝÝ¹Û³Ý, áñ¹»·ñÙ³Ý, ³ÙáõëÝáõÃÛ³Ý, ³å³Ñ³ñ½³ÝÇ ¨ Ù³Ñí³Ý ·ñ³ÝóÙ³Ý í»ñ³µ»ñÛ³É | E100: 3 | F100: 14 | G100: 11 | H100: 1 | I100: 2 | J100: 14 | K100: 14 | L100: 0 | M100: 0 | N100: 0 | O100: 0 | P100: 0 | Q100: 0 | R100: 0 | S100: 14 | T100: 0 | U100: 11 | V100: 1 | W100: 0 | X100: 0 | Y100: 0 | Z100: 0
A101: 8.7.4 | B101: ²ÝÓÇª áñáß³ÏÇ Å³Ù³Ý³ÏáõÙ ¨ áñáß³ÏÇ Ñ³Ý·³Ù³ÝùÝ»ñáõÙ Ù³Ñí³Ý í»ñ³µ»ñÛ³É | E101: 0 | F101: 0 | G101: 0 | H101: 0 | I101: 0 | J101: 0 | K101: 0 | L101: 0 | M101: 0 | N101: 0 | O101: 0 | P101: 0 | R101: 0 | S101: 0 | T101: 0 | U101: 0 | V101: 0 | W101: 0 | X101: 0 | Y101: 0 | Z101: 0
A102: 8.7.5 | B102: Ä³é³Ý·áõÃÛáõÝÝ ÁÝ¹áõÝ»Éáõ ¨ Å³é³Ý·áõÃÛ³Ý µ³óÙ³Ý í³ÛñÇ í»ñ³µ»ñÛ³É | E102: 3 | F102: 33 | G102: 27 | H102: 5 | I102: 1 | J102: 24 | K102: 18 | L102: 1 | M102: 3 | N102: 2 | O102: 0 | P102: 2 | Q102: 0 | R102: 3 | S102: 27 | T102: 0 | U102: 16 | V102: 7 | W102: 0 | X102: 1 | Y102: 3 | Z102: 1
A103: 8.7.6 | B103: ¸Åµ³Ëï å³ï³Ñ³ñÇ í»ñ³µ»ñÛ³É | E103: 0 | F103: 0 | G103: 0 | H103: 0 | I103: 0 | J103: 0 | K103: 0 | L103: 0 | M103: 0 | N103: 0 | O103: 0 | P103: 0 | Q103: 0 | R103: 0 | S103: 0 | T103: 0 | U103: 0 | V103: 0 | W103: 0 | X103: 0 | Y103: 0 | Z103: 0
A104: 8.7.7 | B104: Æñ³íáõÝù ë³ÑÙ³ÝáÕ ÷³ëï³ÃÕÃ»ñÇ å³ïÏ³Ý»ÉáõÃÛ³Ý í»ñ³µ»ñÛ³É | E104: 1 | F104: 62 | G104: 45 | H104: 15 | I104: 2 | J104: 42 | K104: 29 | L104: 0 | M104: 12 | N104: 1 | O104: 0 | P104: 1 | Q104: 0 | R104: 0 | S104: 42 | T104: 0 | U104: 41 | V104: 5 | W104: 0 | X104: 0 | Y104: 4 | Z104: 0
A105: 8.7.8 | B105: ê»÷³Ï³ÝáõÃÛ³Ý Çñ³íáõÝùáí ·áõÛùÇ ïÇñ³å»ïÙ³Ý í»ñ³µ»ñÛ³É | E105: 0 | F105: 8 | G105: 8 | H105: 0 | I105: 0 | J105: 6 | K105: 4 | L105: 0 | M105: 1 | N105: 1 | O105: 0 | P105: 1 | Q105: 0 | R105: 0 | S105: 6 | T105: 0 | U105: 8 | V105: 0 | W105: 0 | X105: 0 | Y105: 2 | Z105: 0
A106: 8.7.9 | B106: ²ÝÑ³ÕÃ³Ñ³ñ»ÉÇ áõÅÇ ³éÏ³ÛáõÃÛ³Ý í»ñ³µ»ñÛ³É | E106: 0 | F106: 0 | G106: 0 | H106: 0 | I106: 0 | J106: 0 | K106: 0 | L106: 0 | M106: 0 | N106: 0 | O106: 0 | P106: 0 | Q106: 0 | R106: 0 | S106: 0 | T106: 0 | U106: 0 | V106: 0 | W106: 0 | X106: 0 | Y106: 0 | Z106: 0
A107: 8.8 | B107: Àëï Ý»ñÏ³Û³óÝáÕÇ ¨ ûñ¹»ñ³ÛÇÝ Ïáñóñ³Í ³ñÅ»ÃÕÃ»ñáí Ñ³í³ëïí³Í Çñ³íáõÝùÝ»ñÁ í»ñ³Ï³Ý·Ý»Éáõ í»ñ³µ»ñÛ³É | E107: 0 | F107: 0 | G107: 0 | H107: 0 | I107: 0 | J107: 0 | K107: 0 | L107: 0 | M107: 0 | N107: 0 | O107: 0 | P107: 0 | Q107: 0 | R107: 0 | S107: 0 | T107: 0 | U107: 0 | V107: 0 | W107: 0 | X107: 0 | Y107: 0 | Z107: 0
A108: 8.9 | B108: Ð³ñÏ³¹Çñ Ï³ï³ñáÕÇ ¹ÇÙáõÙáí ÏáÕÙ»ñÇ Ñ³ßïáõÃÛ³Ý Ñ³Ù³Ó³ÛÝáõÃÛ³Ý ÑÇÙ³Ý íñ³ ¹³ï³ñ³ÝÇª ·áñÍÝ Áëï ¿áõÃÛ³Ý ÉáõÍáÕ ¹³ï³Ï³Ý ³ÏïÇ í»ñ³Ý³ÛÙ³Ý í»ñ³µ»ñÛ³É | E108: 0 | F108: 0 | G108: 0 | H108: 0 | I108: 0 | J108: 0 | K108: 0 | L108: 0 | M108: 0 | N108: 0 | O108: 0 | P108: 0 | Q108: 0 | R108: 0 | S108: 0 | T108: 0 | U108: 0 | V108: 0 | W108: 0 | X108: 0 | Y108: 0 | Z108: 0
A109: 8.10 | B109: ²ÛÉ í»×»ñ | E109: 1 | F109: 6 | G109: 1 | H109: 1 | I109: 4 | J109: 2 | K109: 2 | L109: 0 | M109: 0 | N109: 0 | O109: 0 | P109: 0 | Q109: 0 | R109: 0 | S109: 2 | T109: 0 | U109: 2 | V109: 0 | W109: 0 | X109: 1 | Y109: 0 | Z109: 0
A110: 9. | B110: Ð³ïáõÏ Ñ³Ûó³ÛÇÝ í³ñáõÛÃÇ ·áñÍ»ñ | E110: =E111+E112+E113 -> 0 | F110: =F111+F112+F113 -> 0 | G110: =G111+G112+G113 -> 0 | H110: =H111+H112+H113 -> 0 | I110: =I111+I112+I113 -> 0 | J110: =J111+J112+J113 -> 0 | K110: =K111+K112+K113 -> 0 | L110: =L111+L112+L113 -> 0 | ... Y110: =Y111+Y112+Y113 -> 0
A111: 9.1 | B111: ø³Õ³ù³óáõ ÏÛ³ÝùÇÝ Ï³Ù ³éáÕçáõÃÛ³ÝÝ ëå³éÝ³óáÕ íï³Ý·Ç í»ñ³µ»ñÛ³É | E111: 0 | F111: 0 | G111: 0 | H111: 0 | I111: 0 | J111: 0 | K111: 0 | L111: 0 | M111: 0 | N111: 0 | O111: 0 | P111: 0 | Q111: 0 | R111: 0 | S111: 0 | T111: 0 | U111: 0 | V111: 0 | W111: 0 | X111: 0 | Y111: 0 | Z111: 0
A112: 9.2 | B112: ÐÐ Î»ÝïñáÝ³Ï³Ý µ³ÝÏÇ ¨ ³Ýí×³ñáõÝ³Ï µ³ÝÏÇ Ï³Ù í³ñÏ³ÛÇÝ Ï³½Ù³Ï»ñåáõÃÛ³Ý Å³Ù³Ý³Ï³íáñ ³¹ÙÇÝÇëïñ³óÇ³ÛÇ áñáßáõÙÝ»ñÇ µáÕáù³ñÏÙ³Ý í»ñ³µ»ñÛ³É | E112: 0 | F112: 0 | G112: 0 | H112: 0 | I112: 0 | J112: 0 | K112: 0 | L112: 0 | M112: 0 | N112: 0 | O112: 0 | P112: 0 | Q112: 0 | R112: 0 | S112: 0 | T112: 0 | U112: 0 | V112: 0 | W112: 0 | X112: 0 | Y112: 0 | Z112: 0
A113: 9.3 | B113: ²ÛÉ í»×»ñ | E113: 0 | F113: 0 | G113: 0 | H113: 0 | I113: 0 | J113: 0 | K113: 0 | L113: 0 | M113: 0 | N113: 0 | O113: 0 | P113: 0 | Q113: 0 | R113: 0 | S113: 0 | T113: 0 | U113: 0 | V113: 0 | W113: 0 | X113: 0 | Y113: 0 | Z113: 0
A114: 10. | B114: Ð³ñÏ³¹Çñ Ï³ï³ñÙ³Ý ÁÝÃ³óùáõÙ Í³·³Í í»×»ñ | E114: =E115+E116+E117+E118+E119+E120 -> 0 | F114: =G114+H114+I114 -> 6 | G114: =G115+G116+G117+G118+G119+G120 -> 6 | H114: =H115+H116+H117+H118+H119+H120 -> 0 | I114: =I115+I116+I117+I118+I119+I120 -> 0 | J114: =K114+L114+M114+N114 -> 6 | K114: =K115+K116+K117+K118+K119+K120 -> 5 | L114: =L115+L116+L117+L118+L119+L120 -> 0 | M114: =M115+M116+M117+M118+M119+M120 -> 1 | N114: =N115+N116+N117+N118+N119+N120 -> 0 | O114: =O115+O116+O117+O118+O119+O120 -> 0 | P114: =P115+P116+P117+P118+P119+P120 -> 0 | Q114: =Q115+Q116+Q117+Q118+Q119+Q120 -> 0 | R114: =R115+R116+R117+R118+R119+R120 -> 0 | ... Y114: =Y115+Y116+Y117+Y118+Y119+Y120 -> 0
A115: 10.1 | B115: ¸³ï³Ï³Ý ³ÏïÇ Ï³ï³ñáõÙÁ Ñ»ï³Ó·»Éáõ Ï³Ù ï³ñ³Å³ÙÏ»ï»Éáõ í»ñ³µ»ñÛ³É | E115: 0 | F115: 1 | G115: 1 | H115: 0 | I115: 0 | J115: 1 | K115: 1 | L115: 0 | M115: 0 | N115: 0 | O115: 0 | P115: 0 | Q115: 0 | R115: 0 | S115: 1 | T115: 0 | U115: 1 | V115: 0 | W115: 0 | X115: 0 | Y115: 0 | Z115: 0
...

Sheet Գեղարք
A1: Ð²ÞìºîìàôÂÚàôÜ
A2: ¶ºÔ²ðøàôÜÆøÆ Ø²ð¼Æ ÀÜ¸Ð²Üàôð Æð²ì²êàôÂÚ²Ü ¸²î²ð²ÜÆ ÎàÔØÆò ø²Ô²ø²òÆ²Î²Ü ¶àðÌºðÆ øÜÜàôÂÚ²Ü ìºð²´ºðÚ²È
A3: 2009 Ã. ï³ñí³ Ñ³Ù³ñ
A5: êïáõ·Çã Ñ³í³ë³ñáõÙÝ»ñª 2=3+4+5, 1+3=15+16+21, 6=7+8+9+10, 10=11+12+13, 15=6+14, | E5: ²Ý³í³ñï ·áñÍ»ñÇ ÙÝ³óáñ¹Á Ñ³ßí»ïáõ Å³Ù³Ý³Ï³ßñç³ÝÇ ëÏ½µáõÙ | F5: êï³óí³Í Ñ³Ûó»ñÇ,¹ÇÙáõÙÝ»ñÇ (·áñÍ»ñ)ù³Ý³ÏÁ | J5: ²í³ñïí»É »Ý ·áñÍ»ñ Ñ³ßí»ïáõ Å³Ù³Ý³Ï³ßñç³ÝáõÙ | T5: ¶áñÍÝ áõÕ³ñÏí»É ¿ Áëï ÁÝ¹¹³ïáõÃÛ³Ý | U5: Øï»É »Ý ûñÇÝ³Ï³Ý áõÅÇ Ù»ç | V5: ´áÕáù³ñÏí»É »Ý í»ñ³ùÝÝÇã ¹³ï³ñ³Ý | Y5: ²Ý³í³ñï ·áñÍ»ñÇ ÙÝ³óáñ¹Á Ñ³ßí»ïáõ Å³Ù³Ý³Ï³ßñç³ÝÇ í»ñçáõÙ | Z5: ²Û¹ ÃíáõÙª Ï³ë»óí³Í
F8: ÀÝ¹³Ù»ÝÁ | G8: ²Û¹ ÃíáõÙª ÁÝ¹áõÝí»É ¿ í³ñáõÛÃ | H8: ²Û¹ ÃíáõÙª í»ñ³¹³ñÓí»É ¿ | I8: ²Û¹ ÃíáõÙª Ñ³Ûó»ñÇ (¹ÇÙáõÙÝ»ñÇ) ÁÝ¹áõÝáõÙÁ Ù»ñÅí»É ¿ | J8: ÀÝ¹³Ù»ÝÁ ³í³ñïí»É »Ý ·áñÍ»ñ í×éÇ Ï³Û³óáõÙáí | K8: ²Û¹ ÃíáõÙª Ñ³ÛóÇ µ³í³ñ³ñÙ³Ùµ | L8: ²Û¹ ÃíáõÙª Ñ³ÛóÇ Ù³ëÝ³ÏÇ µ³í³ñ³ñÙ³Ùµ | M8: ²Û¹ ÃíáõÙª Ñ³ÛóÇ Ù»ñÅÙ³Ùµ | N8: ²Û¹ ÃíáõÙª Ï³ñ×í»É »Ý | R8: Ð³ÛóÁ ÃáÕÝí»É ¿ ³é³Ýó ùÝÝáõÃÛ³Ý | S8: ÀÝ¹³Ù»ÝÝ ³í³ñïí»É »Ý ·áñÍ»ñ | V8: Ï³Û³óí³Í í×ÇéÝ»ñÇ ¹»Ù | W8: ³é³Ýó ùÝÝáõÃÛ³Ý ÃáÕÝ»Éáõ Ù³ëÇÝ áñáßáõÙÝ»ñÇ ¹»Ù | X8: ÙÇç³ÝÏÛ³É ¹³ï³Ï³Ý ³Ïï»ñÇ ¹»Ù
N11: ÀÝ¹³Ù»ÝÁ Ï³ñ×í»É »Ý | O11: ²Û¹ ÃíáõÙª Ñ³ëï³ïí»É ¿ ÏÝùí³Í Ñ³ßïáõÃÛ³Ý Ñ³Ù³Ó³ÛÝáõÃÛáõÝÁ | P11: ²Û¹ ÃíáõÙª Ñ³óÇó, ¹ÇÙáõÙÇó Ññ³Å³ñí»Éáõ ÑÇÙùáí | Q11: ²Û¹ ÃíáõÙª ³ÛÉ ÑÇÙùáí
A19: Æñ³í³Ñ³ñ³µ»ñáõÃÛáõÝÝ»ñÇ ï»ë³ÏÝ»ñÁ | E19: 1 | F19: 2 | G19: 3 | H19: 4 | I19: 5 | J19: 6 | K19: 7 | L19: 8 | M19: 9 | N19: 10 | O19: 11 | P19: 12 | Q19: 13 | R19: 14 | S19: 15 | T19: 16 | U19: 17 | V19: 18 | W19: 19 | X19: 20 | Y19: 21 | Z19: 22
A20: 1. | B20: ¶áõÛù³ÛÇÝ í»×»ñ
A21: 1.1 | B21: ¶áõÛùÇ ÝÏ³ïÙ³Ùµ ë»÷³Ï³ÝáõÃÛ³Ý Çñ³íáõÝùÁ ×³Ý³ã»Éáõ í»ñ³µ»ñÛ³É | E21: 2 | F21: 24 | G21: 20 | H21: 4 | J21: 19 | K21: 9 | L21: 1 | M21: 7 | N21: 2 | P21: 2 | S21: 19 | U21: 13 | V21: 3 | X21: 1 | Y21: 3 | Z21: 2
A22: 1.1.1 | B22: ²Û¹ ÃíáõÙª Ó»éùµ»ñÙ³Ý í³Õ»ÙáõÃÛ³Ý áõÅáí | E22: 1 | F22: 8 | G22: 6 | I22: 2 | J22: 7 | K22: 4 | M22: 2 | N22: 1 | P22: 1 | S22: 7 | U22: 5
A23: 1.1.2 | B23: ²Û¹ ÃíáõÙª ïÇñ³½áõñÏ ·áõÛùÇ ÝÏ³ïÙ³Ùµ | E23: 2 | F23: 15 | G23: 15 | J23: 15 | K23: 14 | L23: 1 | S23: 15 | U23: 15 | Y23: 2
A24: 1.1.3 | B24: ²Û¹ ÃíáõÙª ÇÝùÝ³Ï³Ù Ï³éáõÛóÇ ÝÏ³ïÙ³Ùµ
A25: 1.2 | B25: ê»÷³Ï³ÝáõÃÛ³Ý Çñ³íáõÝùÇ ¹³¹³ñ»óÙ³Ý í»ñ³µ»ñÛ³É
A26: 1.3 | B26: ¶áõÛùÇ ÝÏ³ïÙ³Ùµ û·ï³·áñÍÙ³Ý Çñ³íáõÝùÁ ×³Ý³ã»Éáõ í»ñ³µ»ñÛ³É | F26: 2 | G26: 1 | H26: 1 | Y26: 1 | Z26: 1
A27: 1.3.1 | B27: ²Û¹ ÃíáõÙª µÝ³Ïû·ï³·áñÍÙ³Ý Çñ³íáõÝùÁ ×³Ý³ã»Éáõ í»ñ³µ»ñÛ³É | F27: 3 | G27: 3 | J27: 1 | N27: 1 | P27: 1 | S27: 1 | U27: 1 | Y27: 2
A28: 1.3.2 | B28: ²Û¹ ÃíáõÙª ÑáÕ³Ù³ëÇ ÝÏ³ïÙ³Ùµ û·ï³·áñÍÙ³Ý Çñ³íáõÝùÁ ×³Ý³ã»Éáõ í»ñ³µ»ñÛ³É
A29: 1.4 | B29: ¶áõÛùÇ ÝÏ³ïÙ³Ùµ û·ï³·áñÍÙ³Ý Çñ³íáõÝùÁ ¹³¹³ñ»óÝ»Éáõ í»ñ³µ»ñÛ³É
A30: 1.4.1 | B30: ²Û¹ ÃíáõÙª µÝ³Ïû·ï³·áñÍÙ³Ý Çñ³íáõÝùÁ ¹³¹³ñ»óÝ»Éáõ í»ñ³µ»ñÛ³É | F30: 1 | G30: 1 | J30: 1 | M30: 1 | S30: 1 | U30: 1
A31: 1.4.1/1 | B31: ²Û¹ ÃíáõÙª ÷áËÑ³ïáõóÙ³Ùµ
A32: 1.5 | B32: ´Ý³Ï³ñ³ÝÇó/ ï³ñ³ÍùÇó/ íï³ñ»Éáõ í»ñ³µ»ñÛ³É | E32: 1 | F32: 3 | G32: 3 | J32: 2 | K32: 2 | S32: 2 | U32: 1 | V32: 1 | Y32: 2 | Z32: 1
A33: 1.6 | B33: ¶áõÛùÝ áõñÇßÇ ³åûñÇÝÇ ïÇñ³å»ïáõÙÇó »ï í»ñ³¹³ñÓÝ»Éáõ í»ñ³µ»ñÛ³É | E33: 3 | F33: 7 | G33: 6 | H33: 1 | J33: 6 | K33: 3 | L33: 1 | M33: 1 | N33: 1 | P33: 1 | S33: 6 | U33: 2 | V33: 3 | Y33: 3 | Z33: 1
A34: 1.7 | B34: îÇñ³å»ïáõÙÇó ½ñÏ»Éáõ Ñ»ï ãÏ³åí³Í Çñ³íáõÝùÝ»ñÇ Ë³ËïáõÙÁ í»ñ³óÝ»Éáõ í»ñ³µ»ñÛ³É | E34: 1 | J34: 1 | N34: 1 | O34: 1 | S34: 1 | U34: 1
A35: 1.8 | B35: ÀÝ¹Ñ³Ýáõñ µ³ÅÝ³ÛÇÝ ë»÷³Ï³ÝáõÃÛáõÝÇó µ³ÅÇÝÝ ³é³ÝÓÝ³óÝ»Éáõ í»ñ³µ»ñÛ³É | E35: 11 | F35: 24 | G35: 24 | J35: 19 | K35: 9 | L35: 2 | M35: 3 | N35: 5 | O35: 3 | P35: 2 | S35: 19 | U35: 17 | V35: 1 | Y35: 16 | Z35: 7
A36: 1.9 | B36: ²ÛÉ í»×»ñ | E36: 6 | F36: 19 | G36: 16 | H36: 3 | J36: 18 | K36: 5 | L36: 1 | M36: 7 | N36: 5 | O36: 2 | P36: 3 | S36: 18 | T36: 2 | U36: 9 | V36: 8 | Y36: 2 | Z36: 1
A37: 2. | B37: ¶áñÍ³ñùÝ»ñÇ Ñ»ï Ï³åí³Í í»×»ñ
A38: 2.1 | B38: ¶áñÍ³ñùÝ ³Ýí³í»ñ ×³Ý³ã»Éáõ í»ñ³µ»ñÛ³É | F38: 12 | G38: 10 | H38: 2 | J38: 7 | K38: 1 | L38: 1 | M38: 1 | N38: 4 | O38: 2 | P38: 2 | S38: 7 | U38: 5 | V38: 2 | X38: 1 | Y38: 3
A39: 2.1.1 | B39: ²Û¹ ÃíáõÙª íÇ×³Ñ³ñáõÛó ·áñÍ³ñùÝ»ñ
A40: 2.1.2 | B40: ²Û¹ ÃíáõÙª ³éáãÇÝã ·áñÍ³ñùÝ»ñ
A41: 2.2 | B41: ¶áñÍ³ñùÁ í³í»ñ ×³Ý³ã»Éáõ í»ñ³µ»ñÛ³É | E41: 1 | F41: 6 | G41: 5 | H41: 1 | J41: 5 | K41: 2 | M41: 1 | N41: 2 | P41: 2 | S41: 5 | U41: 5 | Y41: 1
A42: 2.3 | B42: ¶áñÍ³ñùÇó Í³·áÕ Çñ³íáõÝùÝ»ñÁ ·ñ³Ýó»Éáõ í»ñ³µ»ñÛ³É | F42: 4 | G42: 3 | H42: 1 | J42: 2 | K42: 2 | S42: 2 | U42: 2 | Y42: 1 | Z42: 1
A43: 2.4 | B43: ä³ÛÙ³Ý³·ÇñÝ ³Ýí³í»ñ ×³Ý³ã»Éáõ í»ñ³µ»ñÛ³É | F43: 10 | G43: 10 | J43: 7 | K43: 2 | L43: 1 | M43: 3 | N43: 1 | O43: 1 | S43: 7 | T43: 1 | U43: 4 | V43: 2 | Y43: 2 | Z43: 1
A44: 2.5 | B44: ä³ÛÙ³Ý³·ñÇÁ í³í»ñ ×³Ý³ã»Éáõ í»ñ³µ»ñÛ³É | F44: 3 | G44: 3 | J44: 3 | K44: 2 | N44: 1 | Q44: 1 | S44: 3 | U44: 2
A45: 2.6 | B45: ä³ÛÙ³Ý³·ñÇó Í³·áÕ Çñ³íáõÝùÝ»ñÁ ·ñ³Ýó»Éáõ í»ñ³µ»ñÛ³É
A46: 2.7 | B46: ä³ÛÙ³Ý³·ÇñÁ ÷á÷áË»Éáõ ¨ ÉáõÍ»Éáõ í»ñ³µ»ñÛ³É | E46: 1 | F46: 8 | G46: 7 | H46: 1 | J46: 7 | K46: 3 | N46: 4 | P46: 4 | S46: 7 | U46: 7 | Y46: 1
A47: 2.8 | B47: ä³ÛÙ³Ý³·Çñ ÏÝù»ÉáõÝ å³ñï³íáñ»óÝ»Éáõ í»ñ³µ»ñÛ³É | F47: 2 | G47: 2 | J47: 2 | K47: 1 | N47: 1 | P47: 1 | S47: 2 | U47: 2
A48: 2.9 | B48: ²ÛÉ í»×»ñ | F48: 12 | G48: 4 | H48: 7 | I48: 1 | J48: 3 | K48: 3 | S48: 3 | U48: 2 | V48: 1 | Y48: 1 | Z48: 1
A49: 3. | B49: Ä³é³Ý·áõÃÛ³Ý í»ñ³µ»ñÛ³É í»×»ñ
A50: 3.1 | B50: Îï³ÏÝ ³Ýí³í»ñ ×³Ý³ã»Éáõ í»ñ³µ»ñÛ³É
A51: 3.2 | B51: ²Ý³ñÅ³Ý Å³é³Ý· ×³Ý³ã»Éáõ í»ñ³µ»ñÛ³É
A52: 3.3 | B52: Ä³é³Ý·áõÃÛáõÝÁ µ³Å³Ý»Éáõ í»ñ³µ»ñÛ³É
A53: 3.4 | B53: ¶áõÛùÝ ³ÝÅ³é³Ý· ×³Ý³ã»Éáõ í»ñ³µ»ñÛ³É
A54: 3.5 | B54: Àëï ûñ»ÝùÇ Å³é³Ý·áõÃÛ³Ý Çñ³íáõÝùÇ íÏ³Û³Ï³ÝÝ ³Ýí³í»ñ ×³Ý³ã»Éáõ í»ñ³µ»ñÛ³É
A55: 3.6 | B55: Ä³é³Ý·áõÃÛáõÝÝ ÁÝ¹áõÝ»Éáõ µ³ó ÃáÕÝí³Í Å³ÙÏ»ïÁ Ñ³ñ·»ÉÇ Ñ³Ù³ñ»Éáõ í»ñ³µ»ñÛ³É | F55: 14 | G55: 12 | H55: 1 | I55: 1 | J55: 12 | K55: 5 | M55: 6 | N55: 1 | Q55: 1 | S55: 12 | U55: 11 | V55: 1
A56: 3.7 | B56: ²ÛÉ í»×»ñ | E56: 1 | F56: 16 | G56: 13 | H56: 2 | I56: 1 | J56: 13 | K56: 8 | L56: 1 | M56: 2 | N56: 2 | P56: 2 | R56: 1 | S56: 14 | U56: 14
A57: 4 | B57: ÀÝï³Ý»Ï³Ý Çñ³í³Ñ³ñ³µ»ñáõÃÛáõÝÝ»ñÇó Í³·áÕ í»×»ñ
A58: 4.1 | B58: ²ÙáõëÝ³ÉáõÍáõÃÛ³Ý í»ñ³µ»ñÛ³É | E58: 5 | F58: 57 | G58: 50 | H58: 7 | J58: 47 | K58: 31 | L58: 3 | M58: 5 | N58: 8 | P58: 7 | Q58: 1 | S58: 47 | T58: 1 | U58: 42 | V58: 2 | Y58: 7
A59: 4.2 | B59: ²ÉÇÙ»ÝïÇ å³Ñ³ÝçÇ í»ñ³µ»ñÛ³É | E59: 1 | F59: 16 | G59: 14 | H59: 2 | J59: 13 | K59: 3 | L59: 8 | N59: 2 | P59: 2 | S59: 13 | U59: 12 | Y59: 2
A60: 4.3 | B60: ²ÉÇÙ»ÝïÇ ã³÷Á ÷á÷áË»Éáõ í»ñ³µ»ñÛ³É | F60: 8 | G60: 7 | H60: 1 | J60: 4 | K60: 1 | L60: 2 | M60: 1 | S60: 4 | U60: 4 | Y60: 3
A61: 4.4 | B61: ÌÝáÕ³Ï³Ý Çñ³íáõÝùÝ»ñÇó ½ñÏ»Éáõ í»ñ³µ»ñÛ³É | E61: 1 | F61: 2 | G61: 2 | J61: 2 | K61: 1 | M61: 1 | S61: 2 | V61: 2 | Y61: 1
A62: 4.5 | B62: ÌÝáÕ³Ï³Ý Çñ³íáõÝùÝ»ñÁ í»ñ³Ï³Ý·Ý»Éáõ í»ñ³µ»ñÛ³É
A63: 4.6 | B63: ºñ»Ë³ÛÇ áñ¹»·ñÙ³Ý í»ñ³µ»ñÛ³É | F63: 11 | G63: 11 | J63: 11 | K63: 9 | M63: 1 | N63: 1 | P63: 1 | S63: 11 | U63: 10
A64: 4.7 | B64: ºñ»Ë³ÛÇ áñ¹»·ñáõÙÁ í»ñ³óÝ»Éáõ í»ñ³µ»ñÛ³É
A65: 4.8 | B65: Ð³ÛñáõÃÛáõÝÁ ×³Ý³ã»Éáõ í»ñ³µ»ñÛ³É | F65: 10 | G65: 6 | H65: 3 | I65: 1 | J65: 4 | K65: 3 | L65: 1 | S65: 4 | U65: 4 | Y65: 2
A66: 4.9 | B66: ºñ»Ë³ÛÇ µÝ³ÏáõÃÛ³Ý í³ÛñÁ áñáß»Éáõ í»ñ³µ»ñÛ³É | E66: 1 | F66: 4 | G66: 3 | H66: 1 | J66: 4 | K66: 1 | L66: 1 | M66: 2 | S66: 4 | U66: 1 | V66: 2
A67: 4.10 | B67: ºñ»Ë³ÛÇ Ñ»ï ï»ë³ÏóáõÃÛ³Ý Ï³ñ· ë³ÑÙ³Ý»Éáõ í»ñ³µ»ñÛ³É | E67: 1 | F67: 4 | G67: 4 | J67: 5 | K67: 2 | L67: 1 | N67: 2 | P67: 2 | S67: 5 | U67: 5
A68: 4.11 | B68: ²ÙáõëÇÝÝ»ñÇ ÁÝ¹Ñ³Ýáõñ ·áõÛùÁ µ³Å³Ý»Éáõ í»ñ³µ»ñÛ³É | F68: 1 | G68: 1 | Y68: 1
A69: 4.12 | B69: ²ÙáõëÝ³Ï³Ý å³ÛÙ³Ý³·ñÇ ÷á÷áËÙ³Ý Ï³Ù ÉáõÍÙ³Ý í»ñ³µ»ñÛ³É
A70: 4.13 | B70: ²ÛÉ í»×»ñ | E70: 2 | F70: 7 | G70: 6 | H70: 1 | J70: 6 | K70: 1 | L70: 2 | M70: 1 | N70: 2 | O70: 1 | P70: 1 | S70: 6 | U70: 4 | V70: 2 | Y70: 2 | Z70: 2
A71: 5. | B71: Øï³íáñ ë»÷³Ï³ÝáõÃÛáõÝ
A72: 5.1 | B72: ÈÇó»Ý½³ÛÇÝ å³ÛÙ³Ý³·ñÇ ÉáõÍÙ³Ý, ÷á÷áËÙ³Ý ¨ ³Ýí³í»ñáõÃÛ³Ý í»ñ³µ»ñÛ³É
A73: 5.2 | B73: Øï³íáñ ·áñÍáõÝ»áõÃÛ³Ý ³ñ¹ÛáõÝùÝ»ñ ëï»ÕÍ»Éáõ ¨ û·ï³·áñÍ»Éáõ å³ÛÙ³Ý³·ñÇ ÉáõÍÙ³Ý, ÷á÷áËÙ³Ý áõ ³Ýí³í»ñáõÃÛ³Ý í»ñ³µ»ñÛ³É
A74: 5.3 | B74: Ð»ÕÇÝ³Ï³ÛÇÝ ¨ Ñ³ñ³ÏÇó Çñ³íáõÝùÝ»ñÇ í»ñ³µ»ñÛ³É
A75: 5.4 | B75: üÇñÙ³ÛÇÝ ³Ýí³ÝÙ³Ý í»ñ³µ»ñÛ³É
A76: 5.5 | B76: ²åñ³Ýù³ÛÇÝ Ýß³ÝÇ í»ñ³µ»ñÛ³É
A77: 5.6 | B77: ²ÛÉ í»×»ñ
A78: 6. | B78: ²ßË³ï³Ýù³ÛÇÝ í»×»ñ
A79: 6.1 | B79: ²ßË³ï³Ýù³ÛÇÝ å³ÛÙ³Ý³·ñ»ñÇ í»ñ³µ»ñÛ³É
A80: 6.2 | B80: ²ßË³ï³ÝùáõÙ í»ñ³Ï³Ý·Ý»Éáõ í»ñ³µ»ñÛ³É | E80: 3 | F80: 14 | G80: 13 | H80: 1 | J80: 15 | K80: 5 | L80: 1 | M80: 5 | N80: 4 | P80: 4 | S80: 15 | U80: 11 | V80: 2 | Y80: 1
A81: 6.3 | B81: ¶áñÍ³¹áõÉÝ ³ÝûñÇÝ³Ï³Ý ×³Ý³ã»Éáõ í»ñ³µ»ñÛ³É
A82: 6.4 | B82: Ð³ñÏ³¹Çñ å³ñ³åáõñ¹Ç Ñ³ïáõóÙ³Ý í»ñ³µ»ñÛ³É
A83: 6.5 | B83: âí×³ñí³Í ³ßË³ï³í³ñÓÇ ¨/Ï³Ù ³ÛÉ í×³ñÝ»ñÇ µéÝ³·³ÝÓÙ³Ý í»ñ³µ»ñÛ³É | E83: 15 | F83: 20 | G83: 17 | H83: 3 | J83: 32 | K83: 23 | L83: 2 | M83: 1 | N83: 6 | O83: 1 | P83: 5 | S83: 32 | U83: 31
A84: 6.6 | B84: ²ÛÉ í»×»ñ | F84: 2 | H84: 2
A85: 7. | B85: Æñ³í³µ³Ý³Ï³Ý ³ÝÓÇ ·áñÍáõÝ»áõÃÛ³Ý í»ñ³µ»ñÛ³É
A86: 7.1 | B86: Îáñåáñ³ïÇí í»×»ñ
A87: 7.2 | B87: ²ÛÉ í»×»ñ | E87: 1 | F87: 1 | I87: 1 | Y87: 1 | Z87: 1
A88: 8. | B88: Ð³ïáõÏ í³ñáõÛÃÇ ·áñÍ»ñ
A89: 8.1 | B89: ²Ýã³÷³Ñ³ëÇÝ ÉñÇí ·áñÍáõÝ³Ï ×³Ý³ã»Éáõ /¿Ù³ÝëÇå³óÇ³/ í»ñ³µ»ñÛ³É
A90: 8.2 | B90: ø³Õ³ù³óáõÝ ³Ý·áñÍáõÝ³Ï Ï³Ù ë³ÑÙ³Ý³÷³Ï ·áñÍáõÝ³Ï ×³Ý³ã»Éáõ í»ñ³µ»ñÛ³É | E90: 2 | F90: 12 | G90: 10 | H90: 1 | I90: 1 | J90: 4 | K90: 2 | N90: 2 | P90: 2 | S90: 4 | U90: 3 | Y90: 8 | Z90: 8
A91: 8.3 | B91: ø³Õ³ù³óáõÝ Ñá·»µáõÅ³Ï³Ý ÑÇí³Ý¹³Ýáó³ÛÇÝ Ñ³ñÏ³¹Çñ µáõÅÙ³Ý »ÝÃ³ñÏ»Éáõ í»ñ³µ»ñÛ³É
A92: 8.4 | B92: ø³Õ³ù³óáõÝ ³ÝÑ³Ûï µ³ó³Ï³ÛáÕ Ï³Ù Ù³Ñ³ó³Í ×³Ý³ã»Éáõ í»ñ³µ»ñÛ³É | E92: 2 | F92: 21 | G92: 16 | H92: 3 | I92: 2 | J92: 14 | K92: 8 | M92: 3 | N92: 3 | P92: 3 | S92: 14 | U92: 11 | V92: 1 | Y92: 4
A93: 8.5 | B93: ø³Õ³ù³óÇ³Ï³Ý Ï³óáõÃÛ³Ý ³Ïï»ñÇ ·ñ³éáõÙÝ»ñÇ ³Ý×ßïáõÃÛáõÝÝ»ñÁ å³ñ½»Éáõ í»ñ³µ»ñÛ³É | F93: 3 | H93: 1 | I93: 2
A94: 8.6 | B94: ¶áõÛùÁ ïÇñ³½áõñÏ ×³Ý³ã»Éáõ í»ñ³µ»ñÛ³É | F94: 8 | G94: 7 | H94: 1 | J94: 7 | K94: 6 | M94: 1 | S94: 7 | U94: 7
A95: 8.6.1 | B95: ²Û¹ ÃíáõÙª ³Ýß³ñÅ ·áõÛùÁ
A96: 8.6.2 | B96: ²Û¹ ÃíáõÙª ß³ñÅ³Ï³Ý ·áõÛùÁ
A97: 8.7 | B97: Æñ³í³µ³Ý³Ï³Ý Ýß³Ý³ÏáõÃÛáõÝ áõÝ»óáÕ ÷³ëï»ñÇ Ñ³ëï³ïÙ³Ý í»ñ³µ»ñÛ³É | E97: 4 | F97: 32 | G97: 26 | H97: 5 | I97: 1 | J97: 29 | K97: 18 | L97: 1 | M97: 8 | N97: 2 | P97: 2 | S97: 29 | U97: 25 | Y97: 1
A98: 8.7.1 | B98: ²ÝÓ³Ýó ³½·³Ïó³Ï³Ý Ï³åÁ Ñ³ëï³ï»Éáõ í»ñ³µ»ñÛ³É | E98: 1 | F98: 40 | G98: 30 | H98: 4 | I98: 6 | J98: 31 | K98: 24 | M98: 4 | N98: 3 | P98: 1 | Q98: 2 | S98: 31 | U98: 28
A99: 8.7.2 | B99: ²ÝÓÇª áõñÇßÇ ËÝ³ÙùÇ ï³Ï ·ïÝí»Éáõ í»ñ³µ»ñÛ³É
A100: 8.7.3 | B100: ÌÝÝ¹Û³Ý, áñ¹»·ñÙ³Ý, ³ÙáõëÝáõÃÛ³Ý, ³å³Ñ³ñ½³ÝÇ ¨ Ù³Ñí³Ý ·ñ³ÝóÙ³Ý í»ñ³µ»ñÛ³É | E100: 1 | F100: 11 | G100: 10 | H100: 1 | J100: 9 | K100: 6 | M100: 3 | S100: 9 | U100: 9 | Y100: 2
A101: 8.7.4 | B101: ²ÝÓÇª áñáß³ÏÇ Å³Ù³Ý³ÏáõÙ ¨ áñáß³ÏÇ Ñ³Ý·³Ù³ÝùÝ»ñáõÙ Ù³Ñí³Ý í»ñ³µ»ñÛ³É
A102: 8.7.5 | B102: Ä³é³Ý·áõÃÛáõÝÝ ÁÝ¹áõÝ»Éáõ ¨ Å³é³Ý·áõÃÛ³Ý µ³óÙ³Ý í³ÛñÇ í»ñ³µ»ñÛ³É | F102: 4 | G102: 4 | J102: 4 | K102: 4 | S102: 4 | U102: 4
A103: 8.7.6 | B103: ¸Åµ³Ëï å³ï³Ñ³ñÇ í»ñ³µ»ñÛ³É
A104: 8.7.7 | B104: Æñ³íáõÝù ë³ÑÙ³ÝáÕ ÷³ëï³ÃÕÃ»ñÇ å³ïÏ³Ý»ÉáõÃÛ³Ý í»ñ³µ»ñÛ³É | E104: 5 | F104: 85 | G104: 70 | H104: 5 | I104: 10 | J104: 72 | K104: 60 | L104: 1 | M104: 10 | N104: 1 | Q104: 1 | S104: 72 | U104: 68 | V104: 1 | Y104: 3 | Z104: 1
A105: 8.7.8 | B105: ê»÷³Ï³ÝáõÃÛ³Ý Çñ³íáõÝùáí ·áõÛùÇ ïÇñ³å»ïÙ³Ý í»ñ³µ»ñÛ³É | E105: 1 | F105: 4 | G105: 4 | J105: 5 | K105: 2 | N105: 3 | P105: 3 | S105: 5 | U105: 5
A106: 8.7.9 | B106: ²ÝÑ³ÕÃ³Ñ³ñ»ÉÇ áõÅÇ ³éÏ³ÛáõÃÛ³Ý í»ñ³µ»ñÛ³É
A107: 8.8 | B107: Àëï Ý»ñÏ³Û³óÝáÕÇ ¨ ûñ¹»ñ³ÛÇÝ Ïáñóñ³Í ³ñÅ»ÃÕÃ»ñáí Ñ³í³ëïí³Í Çñ³íáõÝùÝ»ñÁ í»ñ³Ï³Ý·Ý»Éáõ í»ñ³µ»ñÛ³É
A108: 8.9 | B108: Ð³ñÏ³¹Çñ Ï³ï³ñáÕÇ ¹ÇÙáõÙáí ÏáÕÙ»ñÇ Ñ³ßïáõÃÛ³Ý Ñ³Ù³Ó³ÛÝáõÃÛ³Ý ÑÇÙ³Ý íñ³ ¹³ï³ñ³ÝÇª ·áñÍÝ Áëï ¿áõÃÛ³Ý ÉáõÍáÕ ¹³ï³Ï³Ý ³ÏïÇ í»ñ³Ý³ÛÙ³Ý í»ñ³µ»ñÛ³É
A109: 8.10 | B109: ²ÛÉ í»×»ñ
A110: 9. | B110: Ð³ïáõÏ Ñ³Ûó³ÛÇÝ í³ñáõÛÃÇ ·áñÍ»ñ
A111: 9.1 | B111: ø³Õ³ù³óáõ ÏÛ³ÝùÇÝ Ï³Ù ³éáÕçáõÃÛ³ÝÝ ëå³éÝ³óáÕ íï³Ý·Ç í»ñ³µ»ñÛ³É
A112: 9.2 | B112: ÐÐ Î»ÝïñáÝ³Ï³Ý µ³ÝÏÇ ¨ ³Ýí×³ñáõÝ³Ï µ³ÝÏÇ Ï³Ù í³ñÏ³ÛÇÝ Ï³½Ù³Ï»ñåáõÃÛ³Ý Å³Ù³Ý³Ï³íáñ ³¹ÙÇÝÇëïñ³óÇ³ÛÇ áñáßáõÙÝ»ñÇ µáÕáù³ñÏÙ³Ý í»ñ³µ»ñÛ³É
...

Sheet կենտրոն
A1: Ð²ÞìºîìàôÂÚàôÜ
A2: ø²Ô²ø²òÆ²Î²Ü ¶àðÌºðÆ øÜÜàôÂÚ²Ü ìºð²´ºðÚ²È
A3: 2009 Ã. ³é³çÇÝ ÏÇë³ÙÛ³ÏÇ (ï³ñí³) Ñ³Ù³ñ
A5: êïáõ·Çã Ñ³í³ë³ñáõÙÝ»ñª 2=3+4+5, 1+3=15+16+21, 6=7+8+9+10, 10=11+12+13, 15=6+14, | E5: ²Ý³í³ñï ·áñÍ»ñÇ ÙÝ³óáñ¹Á Ñ³ßí»ïáõ Å³Ù³Ý³Ï³ßñç³ÝÇ ëÏ½µáõÙ | F5: êï³óí³Í Ñ³Ûó»ñÇ,¹ÇÙáõÙÝ»ñÇ (·áñÍ»ñ)ù³Ý³ÏÁ | J5: ²í³ñïí»É »Ý ·áñÍ»ñ Ñ³ßí»ïáõ Å³Ù³Ý³Ï³ßñç³ÝáõÙ | T5: ¶áñÍÝ áõÕ³ñÏí»É ¿ Áëï ÁÝ¹¹³ïáõÃÛ³Ý | U5: Øï»É »Ý ûñÇÝ³Ï³Ý áõÅÇ Ù»ç | V5: ´áÕáù³ñÏí»É »Ý í»ñ³ùÝÝÇã ¹³ï³ñ³Ý | Y5: ²Ý³í³ñï ·áñÍ»ñÇ ÙÝ³óáñ¹Á Ñ³ßí»ïáõ Å³Ù³Ý³Ï³ßñç³ÝÇ í»ñçáõÙ | Z5: ²Û¹ ÃíáõÙª Ï³ë»óí³Í
F8: ÀÝ¹³Ù»ÝÁ | G8: ²Û¹ ÃíáõÙª ÁÝ¹áõÝí»É ¿ í³ñáõÛÃ | H8: ²Û¹ ÃíáõÙª í»ñ³¹³ñÓí»É ¿ | I8: ²Û¹ ÃíáõÙª Ñ³Ûó»ñÇ (¹ÇÙáõÙÝ»ñÇ) ÁÝ¹áõÝáõÙÁ Ù»ñÅí»É ¿ | J8: ÀÝ¹³Ù»ÝÁ ³í³ñïí»É »Ý ·áñÍ»ñ í×éÇ Ï³Û³óáõÙáí | K8: ²Û¹ ÃíáõÙª Ñ³ÛóÇ µ³í³ñ³ñÙ³Ùµ | L8: ²Û¹ ÃíáõÙª Ñ³ÛóÇ Ù³ëÝ³ÏÇ µ³í³ñ³ñÙ³Ùµ | M8: ²Û¹ ÃíáõÙª Ñ³ÛóÇ Ù»ñÅÙ³Ùµ | N8: ²Û¹ ÃíáõÙª Ï³ñ×í»É »Ý | R8: Ð³ÛóÁ ÃáÕÝí»É ¿ ³é³Ýó ùÝÝáõÃÛ³Ý | S8: ÀÝ¹³Ù»ÝÝ ³í³ñïí»É »Ý ·áñÍ»ñ | V8: Ï³Û³óí³Í í×ÇéÝ»ñÇ ¹»Ù | W8: ³é³Ýó ùÝÝáõÃÛ³Ý ÃáÕÝ»Éáõ Ù³ëÇÝ áñáßáõÙÝ»ñÇ ¹»Ù | X8: ÙÇç³ÝÏÛ³É ¹³ï³Ï³Ý ³Ïï»ñÇ ¹»Ù
N11: ÀÝ¹³Ù»ÝÁ Ï³ñ×í»É »Ý | O11: ²Û¹ ÃíáõÙª Ñ³ëï³ïí»É ¿ ÏÝùí³Í Ñ³ßïáõÃÛ³Ý Ñ³Ù³Ó³ÛÝáõÃÛáõÝÁ | P11: ²Û¹ ÃíáõÙª Ñ³óÇó, ¹ÇÙáõÙÇó Ññ³Å³ñí»Éáõ ÑÇÙùáí | Q11: ²Û¹ ÃíáõÙª ³ÛÉ ÑÇÙùáí
A19: Æñ³í³Ñ³ñ³µ»ñáõÃÛáõÝÝ»ñÇ ï»ë³ÏÝ»ñÁ | E19: 1 | F19: 2 | G19: 3 | H19: 4 | I19: 5 | J19: 6 | K19: 7 | L19: 8 | M19: 9 | N19: 10 | O19: 11 | P19: 12 | Q19: 13 | R19: 14 | S19: 15 | T19: 16 | U19: 17 | V19: 18 | W19: 19 | X19: 20 | Y19: 21 | Z19: 22
A20: 1. | B20: ¶áõÛù³ÛÇÝ í»×»ñ
A21: 1.1 | B21: ¶áõÛùÇ ÝÏ³ïÙ³Ùµ ë»÷³Ï³ÝáõÃÛ³Ý Çñ³íáõÝùÁ ×³Ý³ã»Éáõ í»ñ³µ»ñÛ³É | E21: 52 | F21: 80 | G21: 65 | H21: 14 | I21: 1 | J21: 52 | K21: 23 | L21: 5 | M21: 12 | N21: 12 | O21: 3 | P21: 6 | Q21: 3 | R21: 1 | S21: 53 | T21: 2 | U21: 19 | V21: 29 | Y21: 62 | Z21: 9
A22: 4 | B22: ²Û¹ ÃíáõÙª Ó»éùµ»ñÙ³Ý í³Õ»ÙáõÃÛ³Ý áõÅáí | E22: 22 | F22: 26 | G22: 22 | H22: 4 | J22: 20 | K22: 10 | M22: 6 | N22: 4 | P22: 1 | Q22: 3 | S22: 20 | T22: 1 | U22: 5 | V22: 15 | Y22: 23 | Z22: 3
A23: 1.1.2 | B23: ²Û¹ ÃíáõÙª ïÇñ³½áõñÏ ·áõÛùÇ ÝÏ³ïÙ³Ùµ | E23: 5 | F23: 9 | G23: 8 | H23: 1 | J23: 8 | K23: 5 | L23: 1 | M23: 1 | N23: 1 | P23: 1 | S23: 8 | U23: 6 | V23: 1 | Y23: 5
A24: 1.1.3 | B24: ²Û¹ ÃíáõÙª ÇÝùÝ³Ï³Ù Ï³éáõÛóÇ ÝÏ³ïÙ³Ùµ | E24: 1 | F24: 1 | G24: 1 | J24: 2 | M24: 1 | N24: 1 | P24: 1 | S24: 2 | U24: 2 | V24: 1
A25: 1.2 | B25: ê»÷³Ï³ÝáõÃÛ³Ý Çñ³íáõÝùÇ ¹³¹³ñ»óÙ³Ý í»ñ³µ»ñÛ³É | E25: 3 | F25: 2 | G25: 2 | J25: 1 | K25: 1 | S25: 1 | T25: 1 | V25: 1 | Y25: 3
A26: 1.3 | B26: ¶áõÛùÇ ÝÏ³ïÙ³Ùµ û·ï³·áñÍÙ³Ý Çñ³íáõÝùÁ ×³Ý³ã»Éáõ í»ñ³µ»ñÛ³É | F26: 5 | G26: 5 | J26: 1 | K26: 1 | S26: 1 | V26: 1 | Y26: 4
A27: 1.3.1 | B27: ²Û¹ ÃíáõÙª µÝ³Ïû·ï³·áñÍÙ³Ý Çñ³íáõÝùÁ ×³Ý³ã»Éáõ í»ñ³µ»ñÛ³É | E27: 1 | Y27: 1
A28: 1.3.2 | B28: ²Û¹ ÃíáõÙª ÑáÕ³Ù³ëÇ ÝÏ³ïÙ³Ùµ û·ï³·áñÍÙ³Ý Çñ³íáõÝùÁ ×³Ý³ã»Éáõ í»ñ³µ»ñÛ³É | F28: 1 | G28: 1 | J28: 1 | N28: 1 | O28: 1 | S28: 1 | U28: 1
A29: 1.4 | B29: ¶áõÛùÇ ÝÏ³ïÙ³Ùµ û·ï³·áñÍÙ³Ý Çñ³íáõÝùÁ ¹³¹³ñ»óÝ»Éáõ í»ñ³µ»ñÛ³É | E29: 1 | F29: 4 | G29: 4 | J29: 1 | K29: 1 | S29: 1 | U29: 1 | Y29: 4 | Z29: 3
A30: 1.4.1 | B30: ²Û¹ ÃíáõÙª µÝ³Ïû·ï³·áñÍÙ³Ý Çñ³íáõÝùÁ ¹³¹³ñ»óÝ»Éáõ í»ñ³µ»ñÛ³É | E30: 8 | F30: 2 | G30: 2 | J30: 6 | K30: 4 | L30: 1 | M30: 1 | S30: 6 | U30: 2 | V30: 4 | Y30: 4 | Z30: 1
A31: 1.4.1/1 | B31: ²Û¹ ÃíáõÙª ÷áËÑ³ïáõóÙ³Ùµ | E31: 8 | F31: 1 | H31: 1 | J31: 3 | L31: 1 | M31: 1 | N31: 1 | O31: 1 | S31: 3 | U31: 1 | V31: 2 | Y31: 5
A32: 1.5 | B32: ´Ý³Ï³ñ³ÝÇó/ ï³ñ³ÍùÇó/ íï³ñ»Éáõ í»ñ³µ»ñÛ³É | E32: 16 | F32: 35 | G32: 31 | H32: 4 | J32: 24 | K32: 13 | L32: 2 | M32: 5 | N32: 4 | O32: 1 | P32: 3 | S32: 24 | U32: 9 | V32: 15 | Y32: 23 | Z32: 5
A33: 1.6 | B33: ¶áõÛùÝ áõñÇßÇ ³åûñÇÝÇ ïÇñ³å»ïáõÙÇó »ï í»ñ³¹³ñÓÝ»Éáõ í»ñ³µ»ñÛ³É | E33: 21 | F33: 12 | G33: 11 | H33: 1 | J33: 16 | K33: 5 | L33: 3 | M33: 4 | N33: 4 | O33: 1 | P33: 3 | S33: 16 | U33: 5 | V33: 10 | Y33: 16 | Z33: 3
A34: 1.7 | B34: îÇñ³å»ïáõÙÇó ½ñÏ»Éáõ Ñ»ï ãÏ³åí³Í Çñ³íáõÝùÝ»ñÇ Ë³ËïáõÙÁ í»ñ³óÝ»Éáõ í»ñ³µ»ñÛ³É | F34: 1 | G34: 1 | Y34: 1
A35: 1.8 | B35: ÀÝ¹Ñ³Ýáõñ µ³ÅÝ³ÛÇÝ ë»÷³Ï³ÝáõÃÛáõÝÇó µ³ÅÇÝÝ ³é³ÝÓÝ³óÝ»Éáõ í»ñ³µ»ñÛ³É | E35: 42 | F35: 49 | G35: 44 | H35: 5 | J35: 31 | K35: 12 | L35: 2 | M35: 8 | N35: 9 | O35: 4 | P35: 5 | S35: 31 | T35: 1 | U35: 19 | V35: 10 | X35: 2 | Y35: 54 | Z35: 17
A36: 1.9 | B36: ²ÛÉ í»×»ñ | E36: 146 | F36: 110 | G36: 83 | H36: 25 | I36: 2 | J36: 88 | K36: 34 | L36: 7 | M36: 22 | N36: 25 | O36: 10 | P36: 12 | Q36: 3 | R36: 1 | S36: 89 | T36: 3 | U36: 45 | V36: 44 | X36: 3 | Y36: 137 | Z36: 26
A37: 2. | B37: ¶áñÍ³ñùÝ»ñÇ Ñ»ï Ï³åí³Í í»×»ñ
A38: 2.1 | B38: ¶áñÍ³ñùÝ ³Ýí³í»ñ ×³Ý³ã»Éáõ í»ñ³µ»ñÛ³É | E38: 4 | F38: 12 | G38: 8 | H38: 3 | I38: 1 | J38: 8 | K38: 3 | M38: 4 | N38: 1 | O38: 1 | S38: 8 | T38: 2 | U38: 1 | V38: 5 | Y38: 2
A39: 2.1.1 | B39: ²Û¹ ÃíáõÙª íÇ×³Ñ³ñáõÛó ·áñÍ³ñùÝ»ñ
A40: 2.1.2 | B40: ²Û¹ ÃíáõÙª ³éáãÇÝã ·áñÍ³ñùÝ»ñ | E40: 6 | F40: 15 | G40: 13 | H40: 2 | J40: 7 | K40: 3 | M40: 1 | N40: 3 | O40: 2 | P40: 1 | S40: 7 | U40: 5 | V40: 2 | Y40: 12
A41: 2.2 | B41: ¶áñÍ³ñùÁ í³í»ñ ×³Ý³ã»Éáõ í»ñ³µ»ñÛ³É | E41: 1 | F41: 4 | G41: 3 | H41: 1 | J41: 1 | K41: 1 | S41: 1 | V41: 1 | Y41: 3
A42: 2.3 | B42: ¶áñÍ³ñùÇó Í³·áÕ Çñ³íáõÝùÝ»ñÁ ·ñ³Ýó»Éáõ í»ñ³µ»ñÛ³É
A43: 2.4 | B43: ä³ÛÙ³Ý³·ÇñÝ ³Ýí³í»ñ ×³Ý³ã»Éáõ í»ñ³µ»ñÛ³É | E43: 10 | F43: 73 | G43: 62 | H43: 10 | I43: 1 | J43: 21 | K43: 2 | L43: 4 | M43: 8 | N43: 7 | P43: 7 | S43: 21 | U43: 15 | V43: 18 | Y43: 51 | Z43: 9
A44: 2.5 | B44: ä³ÛÙ³Ý³·ñÇÁ í³í»ñ ×³Ý³ã»Éáõ í»ñ³µ»ñÛ³É | E44: 3 | F44: 4 | G44: 4 | J44: 5 | K44: 3 | L44: 1 | M44: 1 | S44: 5 | U44: 3 | V44: 2 | Y44: 2 | Z44: 1
A45: 2.6 | B45: ä³ÛÙ³Ý³·ñÇó Í³·áÕ Çñ³íáõÝùÝ»ñÁ ·ñ³Ýó»Éáõ í»ñ³µ»ñÛ³É
A46: 2.7 | B46: ä³ÛÙ³Ý³·ÇñÁ ÷á÷áË»Éáõ ¨ ÉáõÍ»Éáõ í»ñ³µ»ñÛ³É | F46: 84 | G46: 76 | H46: 8 | J46: 48 | K46: 15 | L46: 9 | M46: 6 | N46: 18 | O46: 6 | P46: 10 | Q46: 2 | S46: 48 | T46: 2 | U46: 40 | V46: 10 | Y46: 26 | Z46: 13
A47: 2.8 | B47: ä³ÛÙ³Ý³·Çñ ÏÝù»ÉáõÝ å³ñï³íáñ»óÝ»Éáõ í»ñ³µ»ñÛ³É | E47: 3 | F47: 22 | G47: 21 | H47: 1 | J47: 7 | K47: 2 | M47: 3 | N47: 2 | P47: 2 | S47: 7 | U47: 2 | V47: 5 | Y47: 17 | Z47: 3
A48: 2.9 | B48: ²ÛÉ í»×»ñ | E48: 11 | F48: 55 | G48: 46 | H48: 8 | I48: 1 | J48: 35 | K48: 8 | L48: 18 | M48: 2 | N48: 7 | O48: 3 | P48: 4 | S48: 35 | U48: 15 | V48: 14 | Y48: 22
A49: 3. | B49: Ä³é³Ý·áõÃÛ³Ý í»ñ³µ»ñÛ³É í»×»ñ
A50: 3.1 | B50: Îï³ÏÝ ³Ýí³í»ñ ×³Ý³ã»Éáõ í»ñ³µ»ñÛ³É | E50: 2 | F50: 2 | G50: 1 | H50: 1 | Y50: 3 | Z50: 1
A51: 3.2 | B51: ²Ý³ñÅ³Ý Å³é³Ý· ×³Ý³ã»Éáõ í»ñ³µ»ñÛ³É
A52: 3.3 | B52: Ä³é³Ý·áõÃÛáõÝÁ µ³Å³Ý»Éáõ í»ñ³µ»ñÛ³É | E52: 1 | Y52: 1 | Z52: 1
A53: 3.4 | B53: ¶áõÛùÝ ³ÝÅ³é³Ý· ×³Ý³ã»Éáõ í»ñ³µ»ñÛ³É
A54: 3.5 | B54: Àëï ûñ»ÝùÇ Å³é³Ý·áõÃÛ³Ý Çñ³íáõÝùÇ íÏ³Û³Ï³ÝÝ ³Ýí³í»ñ ×³Ý³ã»Éáõ í»ñ³µ»ñÛ³É | E54: 4 | F54: 4 | G54: 3 | H54: 1 | J54: 3 | K54: 1 | M54: 1 | N54: 1 | P54: 1 | S54: 3 | T54: 1 | Y54: 3 | Z54: 1
A55: 3.6 | B55: Ä³é³Ý·áõÃÛáõÝÝ ÁÝ¹áõÝ»Éáõ µ³ó ÃáÕÝí³Í Å³ÙÏ»ïÁ Ñ³ñ·»ÉÇ Ñ³Ù³ñ»Éáõ í»ñ³µ»ñÛ³É | E55: 5 | F55: 1 | G55: 1 | J55: 6 | K55: 3 | L55: 1 | M55: 2 | S55: 6 | U55: 3 | V55: 4
A56: 3.7 | B56: ²ÛÉ í»×»ñ | E56: 6 | F56: 33 | G56: 23 | H56: 9 | I56: 1 | J56: 14 | K56: 8 | M56: 4 | N56: 2 | P56: 1 | Q56: 1 | S56: 14 | U56: 16 | V56: 8 | Y56: 15 | Z56: 2
A57: 4 | B57: ÀÝï³Ý»Ï³Ý Çñ³í³Ñ³ñ³µ»ñáõÃÛáõÝÝ»ñÇó Í³·áÕ í»×»ñ
A58: 4.1 | B58: ²ÙáõëÝ³ÉáõÍáõÃÛ³Ý í»ñ³µ»ñÛ³É | E58: 53 | F58: 101 | G58: 84 | H58: 13 | I58: 4 | J58: 92 | K58: 66 | L58: 5 | M58: 4 | N58: 17 | O58: 2 | P58: 8 | Q58: 7 | S58: 92 | U58: 77 | V58: 11 | Y58: 45 | Z58: 2
A59: 4.2 | B59: ²ÉÇÙ»ÝïÇ å³Ñ³ÝçÇ í»ñ³µ»ñÛ³É | E59: 14 | F59: 25 | G59: 22 | H59: 3 | J59: 19 | K59: 7 | L59: 10 | N59: 2 | P59: 2 | S59: 19 | U59: 14 | V59: 2 | Y59: 17 | Z59: 1
A60: 4.3 | B60: ²ÉÇÙ»ÝïÇ ã³÷Á ÷á÷áË»Éáõ í»ñ³µ»ñÛ³É | E60: 4 | F60: 8 | G60: 8 | J60: 7 | K60: 2 | L60: 2 | M60: 2 | N60: 1 | P60: 1 | S60: 7 | U60: 6 | V60: 2 | Y60: 5
A61: 4.4 | B61: ÌÝáÕ³Ï³Ý Çñ³íáõÝùÝ»ñÇó ½ñÏ»Éáõ í»ñ³µ»ñÛ³É | F61: 4 | G61: 3 | H61: 1 | J61: 2 | K61: 1 | M61: 1 | S61: 2 | T61: 1 | U61: 2 | V61: 1
A62: 4.5 | B62: ÌÝáÕ³Ï³Ý Çñ³íáõÝùÝ»ñÁ í»ñ³Ï³Ý·Ý»Éáõ í»ñ³µ»ñÛ³É
A63: 4.6 | B63: ºñ»Ë³ÛÇ áñ¹»·ñÙ³Ý í»ñ³µ»ñÛ³É | E63: 11 | F63: 52 | G63: 52 | J63: 47 | K63: 46 | N63: 1 | P63: 1 | S63: 47 | U63: 46 | V63: 2 | Y63: 16
A64: 4.7 | B64: ºñ»Ë³ÛÇ áñ¹»·ñáõÙÁ í»ñ³óÝ»Éáõ í»ñ³µ»ñÛ³É | E64: 1 | F64: 5 | G64: 4 | H64: 1 | J64: 3 | K64: 3 | S64: 3 | U64: 3 | Y64: 2
A65: 4.8 | B65: Ð³ÛñáõÃÛáõÝÁ ×³Ý³ã»Éáõ í»ñ³µ»ñÛ³É | F65: 2 | G65: 2 | J65: 2 | K65: 2 | S65: 2 | U65: 2
A66: 4.9 | B66: ºñ»Ë³ÛÇ µÝ³ÏáõÃÛ³Ý í³ÛñÁ áñáß»Éáõ í»ñ³µ»ñÛ³É | E66: 1 | F66: 1 | G66: 1 | J66: 1 | N66: 1 | O66: 1 | S66: 1 | Y66: 1
A67: 4.10 | B67: ºñ»Ë³ÛÇ Ñ»ï ï»ë³ÏóáõÃÛ³Ý Ï³ñ· ë³ÑÙ³Ý»Éáõ í»ñ³µ»ñÛ³É | E67: 1 | F67: 3 | G67: 3 | J67: 3 | K67: 1 | L67: 2 | S67: 3 | U67: 2 | V67: 1 | Y67: 1
A68: 4.11 | B68: ²ÙáõëÇÝÝ»ñÇ ÁÝ¹Ñ³Ýáõñ ·áõÛùÁ µ³Å³Ý»Éáõ í»ñ³µ»ñÛ³É | E68: 2 | J68: 1 | L68: 1 | S68: 1 | U68: 1 | Y68: 1
A69: 4.12 | B69: ²ÙáõëÝ³Ï³Ý å³ÛÙ³Ý³·ñÇ ÷á÷áËÙ³Ý Ï³Ù ÉáõÍÙ³Ý í»ñ³µ»ñÛ³É
A70: 4.13 | B70: ²ÛÉ í»×»ñ | E70: 7 | F70: 20 | G70: 14 | H70: 6 | J70: 10 | K70: 5 | L70: 2 | M70: 3 | S70: 10 | U70: 6 | V70: 4 | Y70: 11
A71: 5. | B71: Øï³íáñ ë»÷³Ï³ÝáõÃÛáõÝ
A72: 5.1 | B72: ÈÇó»Ý½³ÛÇÝ å³ÛÙ³Ý³·ñÇ ÉáõÍÙ³Ý, ÷á÷áËÙ³Ý ¨ ³Ýí³í»ñáõÃÛ³Ý í»ñ³µ»ñÛ³É
A73: 5.2 | B73: Øï³íáñ ·áñÍáõÝ»áõÃÛ³Ý ³ñ¹ÛáõÝùÝ»ñ ëï»ÕÍ»Éáõ ¨ û·ï³·áñÍ»Éáõ å³ÛÙ³Ý³·ñÇ ÉáõÍÙ³Ý, ÷á÷áËÙ³Ý áõ ³Ýí³í»ñáõÃÛ³Ý í»ñ³µ»ñÛ³É
A74: 5.3 | B74: Ð»ÕÇÝ³Ï³ÛÇÝ ¨ Ñ³ñ³ÏÇó Çñ³íáõÝùÝ»ñÇ í»ñ³µ»ñÛ³É
A75: 5.4 | B75: üÇñÙ³ÛÇÝ ³Ýí³ÝÙ³Ý í»ñ³µ»ñÛ³É
A76: 5.5 | B76: ²åñ³Ýù³ÛÇÝ Ýß³ÝÇ í»ñ³µ»ñÛ³É | F76: 1 | G76: 1 | Y76: 1
A77: 5.6 | B77: ²ÛÉ í»×»ñ
A78: 6. | B78: ²ßË³ï³Ýù³ÛÇÝ í»×»ñ
A79: 6.1 | B79: ²ßË³ï³Ýù³ÛÇÝ å³ÛÙ³Ý³·ñ»ñÇ í»ñ³µ»ñÛ³É | E79: 3 | F79: 5 | G79: 5 | J79: 5 | K79: 2 | L79: 1 | M79: 2 | S79: 5 | T79: 1 | U79: 1 | V79: 5 | Y79: 2
A80: 6.2 | B80: ²ßË³ï³ÝùáõÙ í»ñ³Ï³Ý·Ý»Éáõ í»ñ³µ»ñÛ³É | E80: 28 | F80: 31 | G80: 27 | H80: 3 | I80: 1 | J80: 36 | K80: 9 | L80: 1 | M80: 20 | N80: 6 | O80: 2 | Q80: 4 | S80: 36 | U80: 17 | V80: 33 | Y80: 19
A81: 6.3 | B81: ¶áñÍ³¹áõÉÝ ³ÝûñÇÝ³Ï³Ý ×³Ý³ã»Éáõ í»ñ³µ»ñÛ³É
A82: 6.4 | B82: Ð³ñÏ³¹Çñ å³ñ³åáõñ¹Ç Ñ³ïáõóÙ³Ý í»ñ³µ»ñÛ³É
A83: 6.5 | B83: âí×³ñí³Í ³ßË³ï³í³ñÓÇ ¨/Ï³Ù ³ÛÉ í×³ñÝ»ñÇ µéÝ³·³ÝÓÙ³Ý í»ñ³µ»ñÛ³É | E83: 28 | F83: 61 | G83: 44 | H83: 12 | I83: 5 | J83: 21 | K83: 8 | L83: 2 | M83: 7 | N83: 4 | O83: 1 | P83: 2 | Q83: 1 | S83: 21 | U83: 11 | V83: 10 | Y83: 51 | Z83: 1
A84: 6.6 | B84: ²ÛÉ í»×»ñ | E84: 12 | F84: 21 | G84: 18 | H84: 3 | J84: 12 | K84: 3 | L84: 3 | M84: 1 | N84: 5 | P84: 5 | S84: 12 | U84: 6 | V84: 9 | Y84: 18 | Z84: 1
A85: 7. | B85: Æñ³í³µ³Ý³Ï³Ý ³ÝÓÇ ·áñÍáõÝ»áõÃÛ³Ý í»ñ³µ»ñÛ³É
A86: 7.1 | B86: Îáñåáñ³ïÇí í»×»ñ | F86: 1 | G86: 1 | J86: 1 | M86: 1 | S86: 1 | U86: 1 | V86: 1
A87: 7.2 | B87: ²ÛÉ í»×»ñ
A88: 8. | B88: Ð³ïáõÏ í³ñáõÛÃÇ ·áñÍ»ñ
A89: 8.1 | B89: ²Ýã³÷³Ñ³ëÇÝ ÉñÇí ·áñÍáõÝ³Ï ×³Ý³ã»Éáõ /¿Ù³ÝëÇå³óÇ³/ í»ñ³µ»ñÛ³É
A90: 8.2 | B90: ø³Õ³ù³óáõÝ ³Ý·áñÍáõÝ³Ï Ï³Ù ë³ÑÙ³Ý³÷³Ï ·áñÍáõÝ³Ï ×³Ý³ã»Éáõ í»ñ³µ»ñÛ³É | E90: 20 | F90: 13 | G90: 8 | H90: 5 | J90: 28 | K90: 24 | L90: 1 | M90: 1 | N90: 2 | P90: 2 | S90: 28 | U90: 27 | V90: 1
A91: 8.3 | B91: ø³Õ³ù³óáõÝ Ñá·»µáõÅ³Ï³Ý ÑÇí³Ý¹³Ýáó³ÛÇÝ Ñ³ñÏ³¹Çñ µáõÅÙ³Ý »ÝÃ³ñÏ»Éáõ í»ñ³µ»ñÛ³É | F91: 5 | G91: 5 | J91: 5 | K91: 5 | S91: 5 | U91: 5
A92: 8.4 | B92: ø³Õ³ù³óáõÝ ³ÝÑ³Ûï µ³ó³Ï³ÛáÕ Ï³Ù Ù³Ñ³ó³Í ×³Ý³ã»Éáõ í»ñ³µ»ñÛ³É | E92: 26 | F92: 44 | G92: 34 | H92: 10 | J92: 37 | K92: 26 | L92: 1 | M92: 6 | N92: 4 | P92: 4 | S92: 37 | U92: 38 | V92: 1 | Y92: 23
A93: 8.5 | B93: ø³Õ³ù³óÇ³Ï³Ý Ï³óáõÃÛ³Ý ³Ïï»ñÇ ·ñ³éáõÙÝ»ñÇ ³Ý×ßïáõÃÛáõÝÝ»ñÁ å³ñ½»Éáõ í»ñ³µ»ñÛ³É
A94: 8.6 | B94: ¶áõÛùÁ ïÇñ³½áõñÏ ×³Ý³ã»Éáõ í»ñ³µ»ñÛ³É | F94: 2 | G94: 2 | J94: 2 | K94: 2 | S94: 2 | U94: 2
A95: 8.6.1 | B95: ²Û¹ ÃíáõÙª ³Ýß³ñÅ ·áõÛùÁ | F95: 6 | G95: 5 | H95: 1 | J95: 3 | K95: 2 | N95: 1 | P95: 1 | S95: 3 | U95: 3 | Y95: 2
A96: 8.6.2 | B96: ²Û¹ ÃíáõÙª ß³ñÅ³Ï³Ý ·áõÛùÁ | F96: 4 | G96: 3 | H96: 1 | J96: 2 | K96: 2 | S96: 2 | U96: 2 | Y96: 1
A97: 8.7 | B97: Æñ³í³µ³Ý³Ï³Ý Ýß³Ý³ÏáõÃÛáõÝ áõÝ»óáÕ ÷³ëï»ñÇ Ñ³ëï³ïÙ³Ý í»ñ³µ»ñÛ³É | E97: 57 | F97: 120 | G97: 90 | H97: 23 | I97: 7 | J97: 88 | K97: 66 | L97: 3 | M97: 10 | N97: 9 | O97: 1 | P97: 3 | Q97: 5 | S97: 88 | U97: 69 | V97: 13 | Y97: 59 | Z97: 2
A98: 8.7.1 | B98: ²ÝÓ³Ýó ³½·³Ïó³Ï³Ý Ï³åÁ Ñ³ëï³ï»Éáõ í»ñ³µ»ñÛ³É | E98: 1 | F98: 6 | G98: 4 | H98: 2 | J98: 3 | K98: 3 | S98: 3 | U98: 3 | Y98: 2 | Z98: 1
A99: 8.7.2 | B99: ²ÝÓÇª áõñÇßÇ ËÝ³ÙùÇ ï³Ï ·ïÝí»Éáõ í»ñ³µ»ñÛ³É
A100: 8.7.3 | B100: ÌÝÝ¹Û³Ý, áñ¹»·ñÙ³Ý, ³ÙáõëÝáõÃÛ³Ý, ³å³Ñ³ñ½³ÝÇ ¨ Ù³Ñí³Ý ·ñ³ÝóÙ³Ý í»ñ³µ»ñÛ³É | F100: 3 | G100: 3 | J100: 3 | K100: 3 | S100: 3 | U100: 3
A101: 8.7.4 | B101: ²ÝÓÇª áñáß³ÏÇ Å³Ù³Ý³ÏáõÙ ¨ áñáß³ÏÇ Ñ³Ý·³Ù³ÝùÝ»ñáõÙ Ù³Ñí³Ý í»ñ³µ»ñÛ³É | F101: 2 | G101: 1 | H101: 1 | Y101: 1
A102: 8.7.5 | B102: Ä³é³Ý·áõÃÛáõÝÝ ÁÝ¹áõÝ»Éáõ ¨ Å³é³Ý·áõÃÛ³Ý µ³óÙ³Ý í³ÛñÇ í»ñ³µ»ñÛ³É | E102: 1 | F102: 3 | G102: 3 | J102: 3 | K102: 3 | S102: 3 | T102: 1 | U102: 3
A103: 8.7.6 | B103: ¸Åµ³Ëï å³ï³Ñ³ñÇ í»ñ³µ»ñÛ³É
A104: 8.7.7 | B104: Æñ³íáõÝù ë³ÑÙ³ÝáÕ ÷³ëï³ÃÕÃ»ñÇ å³ïÏ³Ý»ÉáõÃÛ³Ý í»ñ³µ»ñÛ³É | F104: 3 | G104: 3 | J104: 1 | K104: 1 | S104: 1 | U104: 1 | Y104: 2
A105: 8.7.8 | B105: ê»÷³Ï³ÝáõÃÛ³Ý Çñ³íáõÝùáí ·áõÛùÇ ïÇñ³å»ïÙ³Ý í»ñ³µ»ñÛ³É | E105: 2 | Y105: 2
A106: 8.7.9 | B106: ²ÝÑ³ÕÃ³Ñ³ñ»ÉÇ áõÅÇ ³éÏ³ÛáõÃÛ³Ý í»ñ³µ»ñÛ³É
A107: 8.8 | B107: Àëï Ý»ñÏ³Û³óÝáÕÇ ¨ ûñ¹»ñ³ÛÇÝ Ïáñóñ³Í ³ñÅ»ÃÕÃ»ñáí Ñ³í³ëïí³Í Çñ³íáõÝùÝ»ñÁ í»ñ³Ï³Ý·Ý»Éáõ í»ñ³µ»ñÛ³É
A108: 8.9 | B108: Ð³ñÏ³¹Çñ Ï³ï³ñáÕÇ ¹ÇÙáõÙáí ÏáÕÙ»ñÇ Ñ³ßïáõÃÛ³Ý Ñ³Ù³Ó³ÛÝáõÃÛ³Ý ÑÇÙ³Ý íñ³ ¹³ï³ñ³ÝÇª ·áñÍÝ Áëï ¿áõÃÛ³Ý ÉáõÍáÕ ¹³ï³Ï³Ý ³ÏïÇ í»ñ³Ý³ÛÙ³Ý í»ñ³µ»ñÛ³É
A109: 8.10 | B109: ²ÛÉ í»×»ñ | F109: 11 | G109: 9 | H109: 2 | J109: 4 | K109: 4 | S109: 4 | T109: 1 | U109: 4 | Y109: 4 | Z109: 2
A110: 9. | B110: Ð³ïáõÏ Ñ³Ûó³ÛÇÝ í³ñáõÛÃÇ ·áñÍ»ñ
A111: 9.1 | B111: ø³Õ³ù³óáõ ÏÛ³ÝùÇÝ Ï³Ù ³éáÕçáõÃÛ³ÝÝ ëå³éÝ³óáÕ íï³Ý·Ç í»ñ³µ»ñÛ³É | F111: 3 | G111: 1 | H111: 1 | I111: 1 | J111: 1 | N111: 1 | P111: 1 | S111: 1 | U111: 1
A112: 9.2 | B112: ÐÐ Î»ÝïñáÝ³Ï³Ý µ³ÝÏÇ ¨ ³Ýí×³ñáõÝ³Ï µ³ÝÏÇ Ï³Ù í³ñÏ³ÛÇÝ Ï³½Ù³Ï»ñåáõÃÛ³Ý Å³Ù³Ý³Ï³íáñ ³¹ÙÇÝÇëïñ³óÇ³ÛÇ áñáßáõÙÝ»ñÇ µáÕáù³ñÏÙ³Ý í»ñ³µ»ñÛ³É
...

Sheet Մալաթիա
D1: Ð²ÞìºîìàôÂÚàôÜ
D2: ø²Ô²ø²òÆ²Î²Ü ¶àðÌºðÆ øÜÜàôÂÚ²Ü ìºð²´ºðÚ²È
D3: 2009Ã. ³é³çÇÝ ÏÇë³ÙÛ³ÏÇ (ï³ñí³) Ñ³Ù³ñ
A5: êïáõ·Çã Ñ³í³ë³ñáõÙÝ»ñª 2=3+4+5, 1+3=15+16+21, 6=7+8+9+10, 10=11+12+13, 15=6+14, | E5: ²Ý³í³ñï ·áñÍ»ñÇ ÙÝ³óáñ¹Á Ñ³ßí»ïáõ Å³Ù³Ý³Ï³ßñç³ÝÇ ëÏ½µáõÙ | F5: êï³óí³Í Ñ³Ûó»ñÇ,¹ÇÙáõÙÝ»ñÇ (·áñÍ»ñ)ù³Ý³ÏÁ | J5: ²í³ñïí»É »Ý ·áñÍ»ñ Ñ³ßí»ïáõ Å³Ù³Ý³Ï³ßñç³ÝáõÙ | T5: ¶áñÍÝ áõÕ³ñÏí»É ¿ Áëï ÁÝ¹¹³ïáõÃÛ³Ý | U5: Øï»É »Ý ûñÇÝ³Ï³Ý áõÅÇ Ù»ç | V5: ´áÕáù³ñÏí»É »Ý í»ñ³ùÝÝÇã ¹³ï³ñ³Ý | Y5: ²Ý³í³ñï ·áñÍ»ñÇ ÙÝ³óáñ¹Á Ñ³ßí»ïáõ Å³Ù³Ý³Ï³ßñç³ÝÇ í»ñçáõÙ | Z5: ²Û¹ ÃíáõÙª Ï³ë»óí³Í
F8: ÀÝ¹³Ù»ÝÁ | G8: ²Û¹ ÃíáõÙª ÁÝ¹áõÝí»É ¿ í³ñáõÛÃ | H8: ²Û¹ ÃíáõÙª í»ñ³¹³ñÓí»É ¿ | I8: ²Û¹ ÃíáõÙª Ñ³Ûó»ñÇ (¹ÇÙáõÙÝ»ñÇ) ÁÝ¹áõÝáõÙÁ Ù»ñÅí»É ¿ | J8: ÀÝ¹³Ù»ÝÁ ³í³ñïí»É »Ý ·áñÍ»ñ í×éÇ Ï³Û³óáõÙáí | K8: ²Û¹ ÃíáõÙª Ñ³ÛóÇ µ³í³ñ³ñÙ³Ùµ | L8: ²Û¹ ÃíáõÙª Ñ³ÛóÇ Ù³ëÝ³ÏÇ µ³í³ñ³ñÙ³Ùµ | M8: ²Û¹ ÃíáõÙª Ñ³ÛóÇ Ù»ñÅÙ³Ùµ | N8: ²Û¹ ÃíáõÙª Ï³ñ×í»É »Ý | R8: Ð³ÛóÁ ÃáÕÝí»É ¿ ³é³Ýó ùÝÝáõÃÛ³Ý | S8: ÀÝ¹³Ù»ÝÝ ³í³ñïí»É »Ý ·áñÍ»ñ | V8: Ï³Û³óí³Í í×ÇéÝ»ñÇ ¹»Ù | W8: ³é³Ýó ùÝÝáõÃÛ³Ý ÃáÕÝ»Éáõ Ù³ëÇÝ áñáßáõÙÝ»ñÇ ¹»Ù | X8: ÙÇç³ÝÏÛ³É ¹³ï³Ï³Ý ³Ïï»ñÇ ¹»Ù
N11: ÀÝ¹³Ù»ÝÁ Ï³ñ×í»É »Ý | O11: ²Û¹ ÃíáõÙª Ñ³ëï³ïí»É ¿ ÏÝùí³Í Ñ³ßïáõÃÛ³Ý Ñ³Ù³Ó³ÛÝáõÃÛáõÝÁ | P11: ²Û¹ ÃíáõÙª Ñ³óÇó, ¹ÇÙáõÙÇó Ññ³Å³ñí»Éáõ ÑÇÙùáí | Q11: ²Û¹ ÃíáõÙª ³ÛÉ ÑÇÙùáí
D19: Æñ³í³Ñ³ñ³µ»ñáõÃÛáõÝÝ»ñÇ ï»ë³ÏÝ»ñÁ | E19: 1 | F19: 2 | G19: 3 | H19: 4 | I19: 5 | J19: 6 | K19: 7 | L19: 8 | M19: 9 | N19: 10 | O19: 11 | P19: 12 | Q19: 13 | R19: 14 | S19: 15 | T19: 16 | U19: 17 | V19: 18 | W19: 19 | X19: 20 | Y19: 21 | Z19: 22
D20: 1.
D21: 1.1 | E21: 11 | F21: 15 | G21: 14 | H21: 1 | J21: 22 | K21: 12 | M21: 5 | N21: 5 | P21: 5 | S21: 22 | U21: 17 | V21: 5 | Y21: 3 | Z21: 3
D22: 1.1.1 | E22: 6 | F22: 18 | G22: 17 | H22: 1 | J22: 15 | K22: 10 | M22: 2 | N22: 3 | P22: 3 | S22: 15 | U22: 6 | V22: 9 | Y22: 8 | Z22: 2
D23: 1.1.2 | E23: 1 | F23: 5 | G23: 4 | H23: 1 | J23: 5 | K23: 3 | N23: 2 | P23: 2 | S23: 5 | U23: 5
D24: 1.1.3
D25: 1.2 | F25: 4 | G25: 4 | J25: 2 | M25: 1 | N25: 1 | P25: 1 | S25: 2 | U25: 1 | V25: 1 | Y25: 2
D26: 1.3 | E26: 1 | F26: 4 | G26: 4 | J26: 4 | K26: 3 | M26: 1 | S26: 4 | U26: 4 | Y26: 1
D27: 1.3.1 | F27: 2 | G27: 2 | J27: 1 | N27: 1 | P27: 1 | S27: 1 | U27: 1 | Y27: 1
D28: 1.3.2 | F28: 5 | G28: 3 | H28: 2 | J28: 2 | N28: 2 | P28: 2 | S28: 2 | U28: 1 | V28: 1 | Y28: 1
D29: 1.4 | E29: 2 | F29: 1 | G29: 1 | J29: 2 | K29: 2 | S29: 2 | U29: 2 | Y29: 1 | Z29: 1
D30: 1.4.1 | E30: 2 | F30: 1 | G30: 1 | J30: 2 | K30: 1 | N30: 1 | P30: 1 | S30: 2 | V30: 2 | Y30: 1 | Z30: 1
D31: 1.4.1/1
D32: 1.5 | E32: 3 | F32: 24 | G32: 18 | H32: 6 | J32: 12 | K32: 4 | M32: 2 | N32: 6 | O32: 1 | P32: 5 | S32: 12 | U32: 9 | V32: 3 | Y32: 9 | Z32: 4
D33: 1.6 | E33: 1 | F33: 10 | G33: 10 | J33: 11 | K33: 7 | M33: 1 | N33: 3 | O33: 1 | P33: 1 | Q33: 1 | S33: 11 | U33: 5 | V33: 6
D34: 1.7 | E34: 2 | F34: 8 | G34: 7 | H34: 1 | J34: 6 | K34: 3 | N34: 3 | O34: 2 | P34: 1 | S34: 6 | U34: 6 | Y34: 3
D35: 1.8 | E35: 11 | F35: 47 | G35: 42 | H35: 5 | J35: 20 | K35: 7 | L35: 1 | M35: 1 | N35: 11 | O35: 4 | P35: 7 | S35: 20 | U35: 15 | V35: 5 | Y35: 33 | Z35: 16
D36: 1.9 | E36: 12 | F36: 35 | G36: 25 | H36: 12 | J36: 27 | K36: 11 | M36: 5 | N36: 9 | O36: 3 | P36: 5 | Q36: 1 | S36: 27 | T36: 2 | U36: 14 | V36: 13 | Y36: 8 | Z36: 4
D37: 2.
D38: 2.1 | F38: 3 | G38: 3 | J38: 1 | N38: 1 | P38: 1 | S38: 1 | V38: 1 | Y38: 2 | Z38: 1
D39: 2.1.1
D40: 2.1.2 | E40: 1 | F40: 3 | G40: 3 | J40: 1 | K40: 1 | S40: 1 | V40: 1 | Y40: 3
D41: 2.2 | F41: 6 | G41: 4 | H41: 2 | J41: 3 | K41: 2 | N41: 1 | O41: 1 | S41: 3 | U41: 2 | V41: 1 | Y41: 1
D42: 2.3 | F42: 1 | G42: 1 | J42: 1 | K42: 1 | S42: 1 | U42: 1
D43: 2.4 | E43: 1 | F43: 17 | G43: 14 | H43: 3 | J43: 11 | K43: 2 | M43: 4 | N43: 5 | P43: 5 | S43: 11 | U43: 7 | V43: 4 | Y43: 4 | Z43: 1
D44: 2.5 | F44: 3 | G44: 3 | J44: 3 | K44: 1 | L44: 1 | M44: 1 | S44: 3
D45: 2.6
D46: 2.7 | E46: 1 | F46: 43 | G46: 42 | H46: 3 | J46: 31 | K46: 18 | L46: 2 | M46: 1 | N46: 8 | O46: 1 | P46: 6 | Q46: 1 | S46: 31 | T46: 2 | U46: 28 | V46: 3 | Y46: 10 | Z46: 6
D47: 2.8 | F47: 2 | G47: 2 | J47: 1 | K47: 1 | S47: 1 | U47: 1 | Y47: 1
D48: 2.9 | F48: 6 | G48: 4 | H48: 2 | J48: 2 | M48: 1 | N48: 1 | P48: 1 | S48: 2 | U48: 2 | Y48: 2 | Z48: 1
D49: 3.
D50: 3.1 | E50: 2 | F50: 4 | G50: 3 | H50: 1 | J50: 5 | K50: 5 | S50: 5 | U50: 4 | V50: 1
D51: 3.2
D52: 3.3 | E52: 4 | F52: 5 | G52: 5 | J52: 5 | K52: 1 | M52: 1 | N52: 3 | O52: 3 | S52: 5 | U52: 5 | Y52: 4
D53: 3.4
D54: 3.5
D55: 3.6 | F55: 3 | G55: 3 | J55: 2 | M55: 2 | S55: 2 | U55: 1 | V55: 1 | Y55: 1
D56: 3.7 | E56: 2 | F56: 14 | G56: 11 | H56: 3 | J56: 8 | K56: 6 | L56: 2 | S56: 8 | U56: 5 | V56: 3 | Y56: 5 | Z56: 2
D57: 4
D58: 4.1 | E58: 10 | F58: 127 | G58: 103 | H58: 24 | J58: 89 | K58: 70 | L58: 5 | N58: 14 | O58: 5 | P58: 7 | Q58: 2 | S58: 89 | U58: 85 | V58: 7 | Y58: 24 | Z58: 1
D59: 4.2 | E59: 4 | F59: 40 | G59: 28 | H59: 12 | J59: 29 | K59: 16 | L59: 9 | N59: 4 | P59: 4 | S59: 29 | U59: 23 | V59: 6 | Y59: 3
D60: 4.3 | E60: 2 | F60: 7 | G60: 7 | J60: 8 | K60: 3 | L60: 2 | M60: 3 | S60: 8 | U60: 6 | V60: 2 | Y60: 1
D61: 4.4 | E61: 1 | F61: 3 | G61: 2 | H61: 1 | J61: 2 | N61: 2 | O61: 1 | P61: 1 | S61: 2 | U61: 2 | Y61: 1 | Z61: 1
D62: 4.5 | F62: 1 | G62: 1 | J62: 1 | N62: 1 | O62: 1 | S62: 1 | U62: 1
D63: 4.6
D64: 4.7
D65: 4.8 | F65: 4 | G65: 4 | J65: 4 | K65: 3 | N65: 1 | P65: 1 | S65: 4 | U65: 4
D66: 4.9 | E66: 1 | J66: 1 | M66: 1 | S66: 1 | V66: 1
D67: 4.10 | E67: 1 | F67: 15 | G67: 8 | H67: 7 | J67: 8 | K67: 4 | L67: 2 | N67: 2 | P67: 2 | S67: 8 | U67: 6 | V67: 2 | Y67: 1
D68: 4.11 | E68: 1 | F68: 3 | G68: 2 | H68: 1 | J68: 2 | N68: 2 | O68: 1 | P68: 1 | S68: 2 | U68: 1 | V68: 1 | Y68: 1
D69: 4.12
D70: 4.13 | F70: 7 | G70: 7 | J70: 6 | K70: 2 | N70: 4 | O70: 2 | P70: 2 | S70: 6 | U70: 5 | V70: 1 | Y70: 1
D71: 5.
D72: 5.1
D73: 5.2
D74: 5.3 | F74: 4 | G74: 3 | H74: 1 | J74: 2 | K74: 1 | N74: 1 | O74: 1 | S74: 2 | U74: 2 | Y74: 1
D75: 5.4
D76: 5.5 | F76: 1 | G76: 1 | J76: 1 | N76: 1 | P76: 1 | S76: 1 | U76: 1
D77: 5.6 | F77: 1 | G77: 1 | J77: 1 | N77: 1 | P77: 1 | S77: 1 | U77: 1
D78: 6.
D79: 6.1
D80: 6.2 | F80: 7 | G80: 5 | H80: 2 | J80: 4 | K80: 1 | M80: 2 | N80: 1 | P80: 1 | S80: 4 | U80: 1 | V80: 3 | Y80: 1
D81: 6.3 | E81: 1 | J81: 1 | K81: 1 | S81: 1 | U81: 1
D82: 6.4
D83: 6.5 | F83: 1 | G83: 1 | J83: 1 | L83: 1 | S83: 1 | V83: 1
D84: 6.6 | E84: 1 | F84: 6 | G84: 2 | H84: 2 | I84: 2 | J84: 3 | K84: 1 | M84: 1 | N84: 1 | Q84: 1 | S84: 3 | U84: 1 | V84: 2
D85: 7.
D86: 7.1 | F86: 1 | G86: 1 | J86: 1 | M86: 1 | S86: 1 | V86: 1
D87: 7.2
D88: 8.
D89: 8.1 | F89: 3 | G89: 1 | H89: 1 | I89: 1 | J89: 1 | K89: 1 | S89: 1 | U89: 1
D90: 8.2 | E90: 4 | F90: 28 | G90: 24 | H90: 4 | J90: 19 | K90: 14 | M90: 1 | N90: 4 | P90: 4 | S90: 19 | U90: 18 | V90: 1 | Y90: 9 | Z90: 4
D91: 8.3
D92: 8.4 | E92: 2 | F92: 28 | G92: 24 | H92: 4 | J92: 23 | K92: 21 | M92: 2 | S92: 23 | U92: 22 | V92: 1 | Y92: 3
D93: 8.5
D94: 8.6
D95: 8.6.1
D96: 8.6.2
D97: 8.7 | F97: 38 | G97: 31 | H97: 6 | I97: 2 | J97: 25 | K97: 17 | M97: 5 | N97: 2 | P97: 2 | S97: 25 | T97: 1 | U97: 24 | V97: 1 | Y97: 5
D98: 8.7.1 | E98: 1 | F98: 17 | G98: 15 | H98: 2 | J98: 13 | K98: 12 | L98: 1 | S98: 13 | U98: 12 | V98: 1 | Y98: 3
D99: 8.7.2 | F99: 1 | G99: 1 | J99: 1 | K99: 1 | S99: 1 | U99: 1
D100: 8.7.3 | E100: 2 | F100: 14 | G100: 11 | H100: 3 | J100: 13 | K100: 8 | M100: 4 | N100: 1 | P100: 1 | S100: 13 | U100: 12 | V100: 1
D101: 8.7.4
D102: 8.7.5 | E102: 2 | F102: 17 | G102: 15 | H102: 2 | J102: 14 | K102: 11 | L102: 1 | M102: 1 | N102: 1 | P102: 1 | S102: 14 | U102: 13 | V102: 1 | Y102: 3
D103: 8.7.6
D104: 8.7.7 | E104: 1 | F104: 26 | G104: 23 | H104: 3 | J104: 20 | K104: 16 | M104: 2 | N104: 2 | Q104: 2 | S104: 20 | U104: 18 | V104: 2 | Y104: 4
D105: 8.7.8 | F105: 12 | G105: 9 | H105: 3 | J105: 6 | K105: 4 | M105: 1 | N105: 1 | P105: 1 | S105: 6 | U105: 5 | V105: 1 | Y105: 3
D106: 8.7.9
D107: 8.8
D108: 8.9
D109: 8.10 | F109: 1 | G109: 1 | J109: 1 | K109: 1 | S109: 1 | V109: 1
D110: 9.
D111: 9.1
D112: 9.2
...

Sheet լոռի
A1: Ð²ÞìºîìàôÂÚàôÜ
A2: Լոռւ մարզի ընդհանուր իրավասության դատարանի ø²Ô²ø²òÆ²Î²Ü ¶àðÌºðÆ øÜÜàôÂÚ²Ü ìºð²´ºðÚ²È
A3: 2009Ã. ï³ñí³ Ñ³Ù³ñ
A5: êïáõ·Çã Ñ³í³ë³ñáõÙÝ»ñª 2=3+4+5, 1+3=15+16+21, 6=7+8+9+10, 10=11+12+13, 15=6+14, | E5: ²Ý³í³ñï ·áñÍ»ñÇ ÙÝ³óáñ¹Á Ñ³ßí»ïáõ Å³Ù³Ý³Ï³ßñç³ÝÇ ëÏ½µáõÙ | F5: êï³óí³Í Ñ³Ûó»ñÇ,¹ÇÙáõÙÝ»ñÇ (·áñÍ»ñ)ù³Ý³ÏÁ | J5: ²í³ñïí»É »Ý ·áñÍ»ñ Ñ³ßí»ïáõ Å³Ù³Ý³Ï³ßñç³ÝáõÙ | T5: ¶áñÍÝ áõÕ³ñÏí»É ¿ Áëï ÁÝ¹¹³ïáõÃÛ³Ý | U5: Øï»É »Ý ûñÇÝ³Ï³Ý áõÅÇ Ù»ç | V5: ´áÕáù³ñÏí»É »Ý í»ñ³ùÝÝÇã ¹³ï³ñ³Ý | Y5: ²Ý³í³ñï ·áñÍ»ñÇ ÙÝ³óáñ¹Á Ñ³ßí»ïáõ Å³Ù³Ý³Ï³ßñç³ÝÇ í»ñçáõÙ | Z5: ²Û¹ ÃíáõÙª Ï³ë»óí³Í
F8: ÀÝ¹³Ù»ÝÁ | G8: ²Û¹ ÃíáõÙª ÁÝ¹áõÝí»É ¿ í³ñáõÛÃ | H8: ²Û¹ ÃíáõÙª í»ñ³¹³ñÓí»É ¿ | I8: ²Û¹ ÃíáõÙª Ñ³Ûó»ñÇ (¹ÇÙáõÙÝ»ñÇ) ÁÝ¹áõÝáõÙÁ Ù»ñÅí»É ¿ | J8: ÀÝ¹³Ù»ÝÁ ³í³ñïí»É »Ý ·áñÍ»ñ í×éÇ Ï³Û³óáõÙáí | K8: ²Û¹ ÃíáõÙª Ñ³ÛóÇ µ³í³ñ³ñÙ³Ùµ | L8: ²Û¹ ÃíáõÙª Ñ³ÛóÇ Ù³ëÝ³ÏÇ µ³í³ñ³ñÙ³Ùµ | M8: ²Û¹ ÃíáõÙª Ñ³ÛóÇ Ù»ñÅÙ³Ùµ | N8: ²Û¹ ÃíáõÙª Ï³ñ×í»É »Ý | R8: Ð³ÛóÁ ÃáÕÝí»É ¿ ³é³Ýó ùÝÝáõÃÛ³Ý | S8: ÀÝ¹³Ù»ÝÝ ³í³ñïí»É »Ý ·áñÍ»ñ | V8: Ï³Û³óí³Í í×ÇéÝ»ñÇ ¹»Ù | W8: ³é³Ýó ùÝÝáõÃÛ³Ý ÃáÕÝ»Éáõ Ù³ëÇÝ áñáßáõÙÝ»ñÇ ¹»Ù | X8: ÙÇç³ÝÏÛ³É ¹³ï³Ï³Ý ³Ïï»ñÇ ¹»Ù
N11: ÀÝ¹³Ù»ÝÁ Ï³ñ×í»É »Ý | O11: ²Û¹ ÃíáõÙª Ñ³ëï³ïí»É ¿ ÏÝùí³Í Ñ³ßïáõÃÛ³Ý Ñ³Ù³Ó³ÛÝáõÃÛáõÝÁ | P11: ²Û¹ ÃíáõÙª Ñ³óÇó, ¹ÇÙáõÙÇó Ññ³Å³ñí»Éáõ ÑÇÙùáí | Q11: ²Û¹ ÃíáõÙª ³ÛÉ ÑÇÙùáí
A19: Æñ³í³Ñ³ñ³µ»ñáõÃÛáõÝÝ»ñÇ ï»ë³ÏÝ»ñÁ | E19: 1 | F19: 2 | G19: 3 | H19: 4 | I19: 5 | J19: 6 | K19: 7 | L19: 8 | M19: 9 | N19: 10 | O19: 11 | P19: 12 | Q19: 13 | R19: 14 | S19: 15 | T19: 16 | U19: 17 | V19: 18 | W19: 19 | X19: 20 | Y19: 21 | Z19: 22
A20: 1. | B20: ¶áõÛù³ÛÇÝ í»×»ñ
A21: 1.1 | B21: ¶áõÛùÇ ÝÏ³ïÙ³Ùµ ë»÷³Ï³ÝáõÃÛ³Ý Çñ³íáõÝùÁ ×³Ý³ã»Éáõ í»ñ³µ»ñÛ³É | E21: 6 | F21: 15 | G21: =F21-(H21+I21) -> 13 | H21: 2 | J21: =N21+M21+L21+K21 -> 14 | K21: 6 | L21: 2 | M21: 3 | N21: 3 | P21: 3 | S21: =K21+L21+M21+N21+R21 -> 14 | U21: 16 | V21: 4 | Y21: 5
A22: 1.1.1 | B22: ²Û¹ ÃíáõÙª Ó»éùµ»ñÙ³Ý í³Õ»ÙáõÃÛ³Ý áõÅáí | E22: 3 | F22: 9 | G22: =F22-(H22+I22) -> 8 | H22: 1 | J22: =N22+M22+L22+K22 -> 6 | K22: 3 | M22: 2 | N22: 1 | O22: 1 | R22: 1 | S22: =K22+L22+M22+N22+R22 -> 7 | T22: 1 | U22: 11 | V22: 1 | X22: 1 | Y22: 3
A23: 1.1.2 | B23: ²Û¹ ÃíáõÙª ïÇñ³½áõñÏ ·áõÛùÇ ÝÏ³ïÙ³Ùµ | E23: 0 | F23: 2 | G23: =F23-(H23+I23) -> 2 | J23: =N23+M23+L23+K23 -> 2 | K23: 2 | S23: =K23+L23+M23+N23+R23 -> 2 | U23: 2
A24: 1.1.3 | B24: ²Û¹ ÃíáõÙª ÇÝùÝ³Ï³Ù Ï³éáõÛóÇ ÝÏ³ïÙ³Ùµ | E24: 6 | G24: =F24-(H24+I24) -> 0 | J24: =N24+M24+L24+K24 -> 5 | N24: 5 | P24: 5 | S24: =K24+L24+M24+N24+R24 -> 5 | U24: 4 | Y24: 1
A25: 1.2 | B25: ê»÷³Ï³ÝáõÃÛ³Ý Çñ³íáõÝùÇ ¹³¹³ñ»óÙ³Ý í»ñ³µ»ñÛ³É | E25: 2 | G25: =F25-(H25+I25) -> 0 | J25: =N25+M25+L25+K25 -> 2 | N25: 2 | P25: 2 | S25: =K25+L25+M25+N25+R25 -> 2 | U25: 2 | V25: 1
A26: 1.3 | B26: ¶áõÛùÇ ÝÏ³ïÙ³Ùµ û·ï³·áñÍÙ³Ý Çñ³íáõÝùÁ ×³Ý³ã»Éáõ í»ñ³µ»ñÛ³É | E26: 0 | F26: 2 | G26: =F26-(H26+I26) -> 2 | J26: =N26+M26+L26+K26 -> 1 | M26: 1 | S26: =K26+L26+M26+N26+R26 -> 1 | U26: 1 | Y26: 1
A27: 1.3.1 | B27: ²Û¹ ÃíáõÙª µÝ³Ïû·ï³·áñÍÙ³Ý Çñ³íáõÝùÁ ×³Ý³ã»Éáõ í»ñ³µ»ñÛ³É | E27: 1 | G27: =F27-(H27+I27) -> 0 | J27: =N27+M27+L27+K27 -> 1 | N27: 1 | P27: 1 | S27: =K27+L27+M27+N27+R27 -> 1 | U27: 1
A28: 1.3.2 | B28: ²Û¹ ÃíáõÙª ÑáÕ³Ù³ëÇ ÝÏ³ïÙ³Ùµ û·ï³·áñÍÙ³Ý Çñ³íáõÝùÁ ×³Ý³ã»Éáõ í»ñ³µ»ñÛ³É | E28: 3 | F28: 1 | G28: =F28-(H28+I28) -> 1 | J28: =N28+M28+L28+K28 -> 1 | N28: 1 | P28: 1 | S28: =K28+L28+M28+N28+R28 -> 1 | U28: 1 | Y28: 3
A29: 1.4 | B29: ¶áõÛùÇ ÝÏ³ïÙ³Ùµ û·ï³·áñÍÙ³Ý Çñ³íáõÝùÁ ¹³¹³ñ»óÝ»Éáõ í»ñ³µ»ñÛ³É | E29: 0 | G29: =F29-(H29+I29) -> 0 | J29: =N29+M29+L29+K29 -> 0 | S29: =K29+L29+M29+N29+R29 -> 0
A30: 1.4.1 | B30: ²Û¹ ÃíáõÙª µÝ³Ïû·ï³·áñÍÙ³Ý Çñ³íáõÝùÁ ¹³¹³ñ»óÝ»Éáõ í»ñ³µ»ñÛ³É | E30: 1 | F30: 3 | G30: =F30-(H30+I30) -> 3 | J30: =N30+M30+L30+K30 -> 3 | K30: 2 | M30: 1 | S30: =K30+L30+M30+N30+R30 -> 3 | U30: 4 | X30: 1 | Y30: 1
A31: 1.4.1/1 | B31: ²Û¹ ÃíáõÙª ÷áËÑ³ïáõóÙ³Ùµ | E31: 0 | F31: 4 | G31: =F31-(H31+I31) -> 3 | H31: 1 | J31: =N31+M31+L31+K31 -> 2 | K31: 2 | S31: =K31+L31+M31+N31+R31 -> 2 | U31: 3 | V31: 2 | Y31: 1
A32: 1.5 | B32: ´Ý³Ï³ñ³ÝÇó/ ï³ñ³ÍùÇó/ íï³ñ»Éáõ í»ñ³µ»ñÛ³É | E32: 5 | F32: 3 | G32: =F32-(H32+I32) -> 2 | H32: 1 | J32: =N32+M32+L32+K32 -> 3 | K32: 3 | S32: =K32+L32+M32+N32+R32 -> 3 | U32: 4 | V32: 2 | X32: 1 | Y32: 4
A33: 1.6 | B33: ¶áõÛùÝ áõñÇßÇ ³åûñÇÝÇ ïÇñ³å»ïáõÙÇó »ï í»ñ³¹³ñÓÝ»Éáõ í»ñ³µ»ñÛ³É | E33: 9 | F33: 19 | G33: =F33-(H33+I33) -> 18 | H33: 1 | J33: =N33+M33+L33+K33 -> 19 | K33: 13 | L33: 1 | M33: 3 | N33: 2 | P33: 2 | S33: =K33+L33+M33+N33+R33 -> 19 | U33: 21 | V33: 10 | Y33: 8
A34: 1.7 | B34: îÇñ³å»ïáõÙÇó ½ñÏ»Éáõ Ñ»ï ãÏ³åí³Í Çñ³íáõÝùÝ»ñÇ Ë³ËïáõÙÁ í»ñ³óÝ»Éáõ í»ñ³µ»ñÛ³É | E34: 1 | F34: 2 | G34: =F34-(H34+I34) -> 2 | J34: =N34+M34+L34+K34 -> 1 | K34: 1 | S34: =K34+L34+M34+N34+R34 -> 1 | U34: 1 | Y34: 2
A35: 1.8 | B35: ÀÝ¹Ñ³Ýáõñ µ³ÅÝ³ÛÇÝ ë»÷³Ï³ÝáõÃÛáõÝÇó µ³ÅÇÝÝ ³é³ÝÓÝ³óÝ»Éáõ í»ñ³µ»ñÛ³É | E35: 12 | F35: 39 | G35: =F35-(H35+I35) -> 35 | H35: 4 | J35: =N35+M35+L35+K35 -> 23 | K35: 4 | L35: 1 | M35: 9 | N35: 9 | O35: 2 | P35: 7 | S35: =K35+L35+M35+N35+R35 -> 23 | U35: 18 | V35: 1 | Y35: 24
A36: 1.9 | B36: ²ÛÉ í»×»ñ | E36: 15 | F36: 28 | G36: =F36-(H36+I36) -> 22 | H36: 5 | I36: 1 | J36: =N36+M36+L36+K36 -> 20 | K36: 6 | L36: 2 | M36: 5 | N36: 7 | O36: 2 | P36: 5 | S36: =K36+L36+M36+N36+R36 -> 20 | T36: 3 | U36: 30 | V36: 5 | X36: 1 | Y36: 14
A37: 2. | B37: ¶áñÍ³ñùÝ»ñÇ Ñ»ï Ï³åí³Í í»×»ñ | G37: =F37-(H37+I37) -> 0 | J37: =N37+M37+L37+K37 -> 0 | S37: =K37+L37+M37+N37+R37 -> 0
A38: 2.1 | B38: ¶áñÍ³ñùÝ ³Ýí³í»ñ ×³Ý³ã»Éáõ í»ñ³µ»ñÛ³É | F38: 5 | G38: =F38-(H38+I38) -> 5 | J38: =N38+M38+L38+K38 -> 1 | M38: 1 | S38: =K38+L38+M38+N38+R38 -> 1 | T38: 1 | U38: 2 | Y38: 3
A39: 2.1.1 | B39: ²Û¹ ÃíáõÙª íÇ×³Ñ³ñáõÛó ·áñÍ³ñùÝ»ñ | G39: =F39-(H39+I39) -> 0 | J39: =N39+M39+L39+K39 -> 0 | S39: =K39+L39+M39+N39+R39 -> 0
A40: 2.1.2 | B40: ²Û¹ ÃíáõÙª ³éáãÇÝã ·áñÍ³ñùÝ»ñ | F40: 2 | G40: =F40-(H40+I40) -> 2 | J40: =N40+M40+L40+K40 -> 1 | K40: 1 | S40: =K40+L40+M40+N40+R40 -> 1 | U40: 1 | V40: 1 | Y40: 1
A41: 2.2 | B41: ¶áñÍ³ñùÁ í³í»ñ ×³Ý³ã»Éáõ í»ñ³µ»ñÛ³É | E41: 1 | F41: 6 | G41: =F41-(H41+I41) -> 6 | J41: =N41+M41+L41+K41 -> 6 | K41: 4 | M41: 1 | N41: 1 | P41: 1 | S41: =K41+L41+M41+N41+R41 -> 6 | U41: 6 | V41: 1 | Y41: 1
A42: 2.3 | B42: ¶áñÍ³ñùÇó Í³·áÕ Çñ³íáõÝùÝ»ñÁ ·ñ³Ýó»Éáõ í»ñ³µ»ñÛ³É | F42: 1 | G42: =F42-(H42+I42) -> 1 | J42: =N42+M42+L42+K42 -> 1 | N42: 1 | P42: 1 | S42: =K42+L42+M42+N42+R42 -> 1 | U42: 1
A43: 2.4 | B43: ä³ÛÙ³Ý³·ÇñÝ ³Ýí³í»ñ ×³Ý³ã»Éáõ í»ñ³µ»ñÛ³É | F43: 9 | G43: 9 | J43: =N43+M43+L43+K43 -> 2 | K43: 1 | M43: 1 | S43: =K43+L43+M43+N43+R43 -> 2 | U43: 2 | V43: 2 | Y43: 7
A44: 2.5 | B44: ä³ÛÙ³Ý³·ñÇÁ í³í»ñ ×³Ý³ã»Éáõ í»ñ³µ»ñÛ³É | F44: 1 | G44: =F44-(H44+I44) -> 0 | H44: 1 | J44: =N44+M44+L44+K44 -> 0 | S44: =K44+L44+M44+N44+R44 -> 0 | U44: 1
A45: 2.6 | B45: ä³ÛÙ³Ý³·ñÇó Í³·áÕ Çñ³íáõÝùÝ»ñÁ ·ñ³Ýó»Éáõ í»ñ³µ»ñÛ³É | G45: =F45-(H45+I45) -> 0 | J45: =N45+M45+L45+K45 -> 0 | S45: =K45+L45+M45+N45+R45 -> 0
A46: 2.7 | B46: ä³ÛÙ³Ý³·ÇñÁ ÷á÷áË»Éáõ ¨ ÉáõÍ»Éáõ í»ñ³µ»ñÛ³É | E46: 1 | F46: 6 | G46: =F46-(H46+I46) -> 5 | H46: 1 | J46: =N46+M46+L46+K46 -> 3 | L46: 2 | N46: 1 | P46: 1 | S46: =K46+L46+M46+N46+R46 -> 3 | U46: 4 | V46: 2 | Y46: 3
A47: 2.8 | B47: ä³ÛÙ³Ý³·Çñ ÏÝù»ÉáõÝ å³ñï³íáñ»óÝ»Éáõ í»ñ³µ»ñÛ³É | F47: 3 | G47: =F47-(H47+I47) -> 3 | J47: =N47+M47+L47+K47 -> 2 | K47: 1 | N47: 1 | P47: 1 | S47: =K47+L47+M47+N47+R47 -> 2 | U47: 2 | Y47: 1
A48: 2.9 | B48: ²ÛÉ í»×»ñ | F48: 3 | G48: =F48-(H48+I48) -> 3 | J48: =N48+M48+L48+K48 -> 1 | M48: 1 | S48: =K48+L48+M48+N48+R48 -> 1 | U48: 1 | Y48: 2
A49: 3. | B49: Ä³é³Ý·áõÃÛ³Ý í»ñ³µ»ñÛ³É í»×»ñ | E49: 0 | G49: =F49-(H49+I49) -> 0 | J49: =N49+M49+L49+K49 -> 0 | S49: =K49+L49+M49+N49+R49 -> 0
A50: 3.1 | B50: Îï³ÏÝ ³Ýí³í»ñ ×³Ý³ã»Éáõ í»ñ³µ»ñÛ³É | F50: 2 | G50: =F50-(H50+I50) -> 2 | J50: =N50+M50+L50+K50 -> 0 | S50: =K50+L50+M50+N50+R50 -> 0 | T50: 1 | U50: 2 | Y50: 1
A51: 3.2 | B51: ²Ý³ñÅ³Ý Å³é³Ý· ×³Ý³ã»Éáõ í»ñ³µ»ñÛ³É | E51: 0 | G51: =F51-(H51+I51) -> 0 | J51: =N51+M51+L51+K51 -> 0 | S51: =K51+L51+M51+N51+R51 -> 0
A52: 3.3 | B52: Ä³é³Ý·áõÃÛáõÝÁ µ³Å³Ý»Éáõ í»ñ³µ»ñÛ³É | E52: 0 | F52: 1 | G52: =F52-(H52+I52) -> 1 | J52: =N52+M52+L52+K52 -> 1 | N52: 1 | O52: 1 | S52: =K52+L52+M52+N52+R52 -> 1 | U52: 1
A53: 3.4 | B53: ¶áõÛùÝ ³ÝÅ³é³Ý· ×³Ý³ã»Éáõ í»ñ³µ»ñÛ³É | G53: =F53-(H53+I53) -> 0 | J53: =N53+M53+L53+K53 -> 0 | S53: =K53+L53+M53+N53+R53 -> 0
A54: 3.5 | B54: Àëï ûñ»ÝùÇ Å³é³Ý·áõÃÛ³Ý Çñ³íáõÝùÇ íÏ³Û³Ï³ÝÝ ³Ýí³í»ñ ×³Ý³ã»Éáõ í»ñ³µ»ñÛ³É | E54: 0 | F54: 5 | G54: =F54-(H54+I54) -> 3 | H54: 2 | J54: =N54+M54+L54+K54 -> 2 | K54: 1 | N54: 1 | P54: 1 | S54: =K54+L54+M54+N54+R54 -> 2 | T54: 1 | U54: 5 | V54: 1
A55: 3.6 | B55: Ä³é³Ý·áõÃÛáõÝÝ ÁÝ¹áõÝ»Éáõ µ³ó ÃáÕÝí³Í Å³ÙÏ»ïÁ Ñ³ñ·»ÉÇ Ñ³Ù³ñ»Éáõ í»ñ³µ»ñÛ³É | E55: 0 | F55: 1 | G55: =F55-(H55+I55) -> 1 | J55: =N55+M55+L55+K55 -> 1 | N55: 1 | P55: 1 | S55: =K55+L55+M55+N55+R55 -> 1 | U55: 1
A56: 3.7 | B56: ²ÛÉ í»×»ñ | E56: 1 | F56: 13 | G56: =F56-(H56+I56) -> 9 | H56: 4 | J56: =N56+M56+L56+K56 -> 6 | K56: 1 | M56: 3 | N56: 2 | O56: 1 | P56: 1 | S56: =K56+L56+M56+N56+R56 -> 6 | U56: 10 | X56: 1 | Y56: 4
A57: 4 | B57: ÀÝï³Ý»Ï³Ý Çñ³í³Ñ³ñ³µ»ñáõÃÛáõÝÝ»ñÇó Í³·áÕ í»×»ñ | G57: =F57-(H57+I57) -> 0 | J57: =N57+M57+L57+K57 -> 0 | S57: =K57+L57+M57+N57+R57 -> 0
A58: 4.1 | B58: ²ÙáõëÝ³ÉáõÍáõÃÛ³Ý í»ñ³µ»ñÛ³É | E58: 28 | F58: 96 | G58: =F58-(H58+I58) -> 83 | H58: 13 | J58: =N58+M58+L58+K58 -> 77 | K58: 54 | L58: 6 | M58: 5 | N58: 12 | P58: 11 | Q58: 1 | S58: =K58+L58+M58+N58+R58 -> 77 | U58: 91 | V58: 6 | Y58: 34
A59: 4.2 | B59: ²ÉÇÙ»ÝïÇ å³Ñ³ÝçÇ í»ñ³µ»ñÛ³É | E59: 4 | F59: 34 | G59: =F59-(H59+I59) -> 31 | H59: 2 | I59: 1 | J59: =N59+M59+L59+K59 -> 28 | K59: 8 | L59: 13 | M59: 3 | N59: 4 | O59: 1 | P59: 3 | S59: =K59+L59+M59+N59+R59 -> 28 | U59: 31 | V59: 2 | X59: 1 | Y59: 7
A60: 4.3 | B60: ²ÉÇÙ»ÝïÇ ã³÷Á ÷á÷áË»Éáõ í»ñ³µ»ñÛ³É | E60: 2 | F60: 5 | G60: =F60-(H60+I60) -> 5 | J60: =N60+M60+L60+K60 -> 6 | K60: 2 | L60: 2 | M60: 2 | S60: =K60+L60+M60+N60+R60 -> 6 | U60: 6 | V60: 1 | Y60: 1
A61: 4.4 | B61: ÌÝáÕ³Ï³Ý Çñ³íáõÝùÝ»ñÇó ½ñÏ»Éáõ í»ñ³µ»ñÛ³É | E61: 1 | F61: 1 | G61: =F61-(H61+I61) -> 1 | J61: =N61+M61+L61+K61 -> 2 | K61: 1 | M61: 1 | S61: =K61+L61+M61+N61+R61 -> 2 | U61: 2
A62: 4.5 | B62: ÌÝáÕ³Ï³Ý Çñ³íáõÝùÝ»ñÁ í»ñ³Ï³Ý·Ý»Éáõ í»ñ³µ»ñÛ³É | G62: =F62-(H62+I62) -> 0 | J62: =N62+M62+L62+K62 -> 0 | S62: =K62+L62+M62+N62+R62 -> 0
A63: 4.6 | B63: ºñ»Ë³ÛÇ áñ¹»·ñÙ³Ý í»ñ³µ»ñÛ³É | E63: 2 | F63: 8 | G63: =F63-(H63+I63) -> 8 | J63: =N63+M63+L63+K63 -> 10 | K63: 9 | N63: 1 | P63: 1 | S63: =K63+L63+M63+N63+R63 -> 10 | U63: 10
A64: 4.7 | B64: ºñ»Ë³ÛÇ áñ¹»·ñáõÙÁ í»ñ³óÝ»Éáõ í»ñ³µ»ñÛ³É | F64: 1 | G64: =F64-(H64+I64) -> 1 | J64: =N64+M64+L64+K64 -> 1 | K64: 1 | S64: =K64+L64+M64+N64+R64 -> 1 | U64: 1
A65: 4.8 | B65: Ð³ÛñáõÃÛáõÝÁ ×³Ý³ã»Éáõ í»ñ³µ»ñÛ³É | E65: 2 | F65: 6 | G65: =F65-(H65+I65) -> 6 | J65: =N65+M65+L65+K65 -> 6 | K65: 6 | S65: =K65+L65+M65+N65+R65 -> 6 | U65: 7 | Y65: 2
A66: 4.9 | B66: ºñ»Ë³ÛÇ µÝ³ÏáõÃÛ³Ý í³ÛñÁ áñáß»Éáõ í»ñ³µ»ñÛ³É | F66: 1 | G66: =F66-(H66+I66) -> 1 | J66: =N66+M66+L66+K66 -> 1 | M66: 1 | S66: =K66+L66+M66+N66+R66 -> 1 | U66: 1
A67: 4.10 | B67: ºñ»Ë³ÛÇ Ñ»ï ï»ë³ÏóáõÃÛ³Ý Ï³ñ· ë³ÑÙ³Ý»Éáõ í»ñ³µ»ñÛ³É | F67: 4 | G67: =F67-(H67+I67) -> 3 | H67: 1 | J67: =N67+M67+L67+K67 -> 2 | L67: 1 | N67: 1 | P67: 1 | S67: =K67+L67+M67+N67+R67 -> 2 | U67: 3 | Y67: 1
A68: 4.11 | B68: ²ÙáõëÇÝÝ»ñÇ ÁÝ¹Ñ³Ýáõñ ·áõÛùÁ µ³Å³Ý»Éáõ í»ñ³µ»ñÛ³É | F68: 8 | G68: =F68-(H68+I68) -> 6 | H68: 2 | J68: =N68+M68+L68+K68 -> 3 | L68: 1 | M68: 2 | S68: =K68+L68+M68+N68+R68 -> 3 | U68: 5 | V68: 1 | Y68: 3
A69: 4.12 | B69: ²ÙáõëÝ³Ï³Ý å³ÛÙ³Ý³·ñÇ ÷á÷áËÙ³Ý Ï³Ù ÉáõÍÙ³Ý í»ñ³µ»ñÛ³É | G69: =F69-(H69+I69) -> 0 | J69: =N69+M69+L69+K69 -> 0 | S69: =K69+L69+M69+N69+R69 -> 0
A70: 4.13 | B70: ²ÛÉ í»×»ñ | E70: 1 | F70: 4 | G70: =F70-(H70+I70) -> 3 | H70: 1 | J70: =N70+M70+L70+K70 -> 2 | K70: 1 | M70: 1 | S70: =K70+L70+M70+N70+R70 -> 2 | U70: 3 | V70: 1 | Y70: 2
A71: 5. | B71: Øï³íáñ ë»÷³Ï³ÝáõÃÛáõÝ | G71: =F71-(H71+I71) -> 0 | J71: =N71+M71+L71+K71 -> 0 | S71: =K71+L71+M71+N71+R71 -> 0
A72: 5.1 | B72: ÈÇó»Ý½³ÛÇÝ å³ÛÙ³Ý³·ñÇ ÉáõÍÙ³Ý, ÷á÷áËÙ³Ý ¨ ³Ýí³í»ñáõÃÛ³Ý í»ñ³µ»ñÛ³É | G72: =F72-(H72+I72) -> 0 | J72: =N72+M72+L72+K72 -> 0 | S72: =K72+L72+M72+N72+R72 -> 0
A73: 5.2 | B73: Øï³íáñ ·áñÍáõÝ»áõÃÛ³Ý ³ñ¹ÛáõÝùÝ»ñ ëï»ÕÍ»Éáõ ¨ û·ï³·áñÍ»Éáõ å³ÛÙ³Ý³·ñÇ ÉáõÍÙ³Ý, ÷á÷áËÙ³Ý áõ ³Ýí³í»ñáõÃÛ³Ý í»ñ³µ»ñÛ³É | G73: =F73-(H73+I73) -> 0 | J73: =N73+M73+L73+K73 -> 0 | S73: =K73+L73+M73+N73+R73 -> 0
A74: 5.3 | B74: Ð»ÕÇÝ³Ï³ÛÇÝ ¨ Ñ³ñ³ÏÇó Çñ³íáõÝùÝ»ñÇ í»ñ³µ»ñÛ³É | G74: =F74-(H74+I74) -> 0 | J74: =N74+M74+L74+K74 -> 0 | S74: =K74+L74+M74+N74+R74 -> 0
A75: 5.4 | B75: üÇñÙ³ÛÇÝ ³Ýí³ÝÙ³Ý í»ñ³µ»ñÛ³É | G75: =F75-(H75+I75) -> 0 | J75: =N75+M75+L75+K75 -> 0 | S75: =K75+L75+M75+N75+R75 -> 0
A76: 5.5 | B76: ²åñ³Ýù³ÛÇÝ Ýß³ÝÇ í»ñ³µ»ñÛ³É | G76: =F76-(H76+I76) -> 0 | J76: =N76+M76+L76+K76 -> 0 | S76: =K76+L76+M76+N76+R76 -> 0
A77: 5.6 | B77: ²ÛÉ í»×»ñ | G77: =F77-(H77+I77) -> 0 | J77: =N77+M77+L77+K77 -> 0 | S77: =K77+L77+M77+N77+R77 -> 0
A78: 6. | B78: ²ßË³ï³Ýù³ÛÇÝ í»×»ñ | G78: =F78-(H78+I78) -> 0 | J78: =N78+M78+L78+K78 -> 0 | S78: =K78+L78+M78+N78+R78 -> 0
A79: 6.1 | B79: ²ßË³ï³Ýù³ÛÇÝ å³ÛÙ³Ý³·ñ»ñÇ í»ñ³µ»ñÛ³É | G79: =F79-(H79+I79) -> 0 | J79: =N79+M79+L79+K79 -> 0 | S79: =K79+L79+M79+N79+R79 -> 0
A80: 6.2 | B80: ²ßË³ï³ÝùáõÙ í»ñ³Ï³Ý·Ý»Éáõ í»ñ³µ»ñÛ³É | E80: 1 | G80: =F80-(H80+I80) -> 0 | J80: =N80+M80+L80+K80 -> 1 | K80: 1 | S80: =K80+L80+M80+N80+R80 -> 1 | U80: 1 | V80: 1
A81: 6.3 | B81: ¶áñÍ³¹áõÉÝ ³ÝûñÇÝ³Ï³Ý ×³Ý³ã»Éáõ í»ñ³µ»ñÛ³É | G81: =F81-(H81+I81) -> 0 | J81: =N81+M81+L81+K81 -> 0 | S81: =K81+L81+M81+N81+R81 -> 0
A82: 6.4 | B82: Ð³ñÏ³¹Çñ å³ñ³åáõñ¹Ç Ñ³ïáõóÙ³Ý í»ñ³µ»ñÛ³É | G82: =F82-(H82+I82) -> 0 | J82: =N82+M82+L82+K82 -> 0 | S82: =K82+L82+M82+N82+R82 -> 0
A83: 6.5 | B83: âí×³ñí³Í ³ßË³ï³í³ñÓÇ ¨/Ï³Ù ³ÛÉ í×³ñÝ»ñÇ µéÝ³·³ÝÓÙ³Ý í»ñ³µ»ñÛ³É | E83: 1 | F83: 12 | G83: =F83-(H83+I83) -> 10 | H83: 2 | J83: =N83+M83+L83+K83 -> 7 | K83: 4 | L83: 2 | M83: 1 | S83: =K83+L83+M83+N83+R83 -> 7 | U83: 9 | V83: 1 | Y83: 4
A84: 6.6 | B84: ²ÛÉ í»×»ñ | E84: 2 | F84: 14 | G84: =F84-(H84+I84) -> 10 | H84: 4 | J84: =N84+M84+L84+K84 -> 10 | K84: 6 | M84: 2 | N84: 2 | P84: 2 | S84: =K84+L84+M84+N84+R84 -> 10 | U84: 14 | V84: 1 | Y84: 2
A85: 7. | B85: Æñ³í³µ³Ý³Ï³Ý ³ÝÓÇ ·áñÍáõÝ»áõÃÛ³Ý í»ñ³µ»ñÛ³É | G85: =F85-(H85+I85) -> 0 | J85: =N85+M85+L85+K85 -> 0 | S85: =K85+L85+M85+N85+R85 -> 0
A86: 7.1 | B86: Îáñåáñ³ïÇí í»×»ñ | F86: 1 | G86: =F86-(H86+I86) -> 1 | J86: =N86+M86+L86+K86 -> 0 | S86: =K86+L86+M86+N86+R86 -> 0 | Y86: 1
A87: 7.2 | B87: ²ÛÉ í»×»ñ | F87: 2 | G87: =F87-(H87+I87) -> 1 | H87: 1 | J87: =N87+M87+L87+K87 -> 1 | M87: 1 | S87: =K87+L87+M87+N87+R87 -> 1 | U87: 2 | V87: 1
A88: 8. | B88: Ð³ïáõÏ í³ñáõÛÃÇ ·áñÍ»ñ | G88: =F88-(H88+I88) -> 0 | J88: =N88+M88+L88+K88 -> 0 | S88: =K88+L88+M88+N88+R88 -> 0
A89: 8.1 | B89: ²Ýã³÷³Ñ³ëÇÝ ÉñÇí ·áñÍáõÝ³Ï ×³Ý³ã»Éáõ /¿Ù³ÝëÇå³óÇ³/ í»ñ³µ»ñÛ³É | G89: =F89-(H89+I89) -> 0 | J89: =N89+M89+L89+K89 -> 0 | S89: =K89+L89+M89+N89+R89 -> 0
A90: 8.2 | B90: ø³Õ³ù³óáõÝ ³Ý·áñÍáõÝ³Ï Ï³Ù ë³ÑÙ³Ý³÷³Ï ·áñÍáõÝ³Ï ×³Ý³ã»Éáõ í»ñ³µ»ñÛ³É | E90: 3 | F90: 16 | G90: =F90-(H90+I90) -> 14 | H90: 1 | I90: 1 | J90: =N90+M90+L90+K90 -> 11 | K90: 10 | N90: 1 | P90: 1 | S90: =K90+L90+M90+N90+R90 -> 11 | U90: 13 | Y90: 6
A91: 8.3 | B91: ø³Õ³ù³óáõÝ Ñá·»µáõÅ³Ï³Ý ÑÇí³Ý¹³Ýáó³ÛÇÝ Ñ³ñÏ³¹Çñ µáõÅÙ³Ý »ÝÃ³ñÏ»Éáõ í»ñ³µ»ñÛ³É | F91: 1 | G91: =F91-(H91+I91) -> 1 | J91: =N91+M91+L91+K91 -> 1 | K91: 1 | S91: =K91+L91+M91+N91+R91 -> 1 | U91: 1
A92: 8.4 | B92: ø³Õ³ù³óáõÝ ³ÝÑ³Ûï µ³ó³Ï³ÛáÕ Ï³Ù Ù³Ñ³ó³Í ×³Ý³ã»Éáõ í»ñ³µ»ñÛ³É | E92: 8 | F92: 60 | G92: =F92-(H92+I92) -> 49 | H92: 11 | J92: =N92+M92+L92+K92 -> 46 | K92: 40 | M92: 6 | S92: =K92+L92+M92+N92+R92 -> 46 | U92: 57 | X92: 1 | Y92: 11
A93: 8.5 | B93: ø³Õ³ù³óÇ³Ï³Ý Ï³óáõÃÛ³Ý ³Ïï»ñÇ ·ñ³éáõÙÝ»ñÇ ³Ý×ßïáõÃÛáõÝÝ»ñÁ å³ñ½»Éáõ í»ñ³µ»ñÛ³É | F93: 1 | G93: =F93-(H93+I93) -> 1 | J93: =N93+M93+L93+K93 -> 1 | M93: 1 | S93: =K93+L93+M93+N93+R93 -> 1 | U93: 1
A94: 8.6 | B94: ¶áõÛùÁ ïÇñ³½áõñÏ ×³Ý³ã»Éáõ í»ñ³µ»ñÛ³É | F94: 4 | G94: =F94-(H94+I94) -> 3 | H94: 1 | J94: =N94+M94+L94+K94 -> 3 | K94: 3 | S94: =K94+L94+M94+N94+R94 -> 3 | U94: 4
A95: 8.6.1 | B95: ²Û¹ ÃíáõÙª ³Ýß³ñÅ ·áõÛùÁ | G95: =F95-(H95+I95) -> 0 | J95: =N95+M95+L95+K95 -> 0 | S95: =K95+L95+M95+N95+R95 -> 0
A96: 8.6.2 | B96: ²Û¹ ÃíáõÙª ß³ñÅ³Ï³Ý ·áõÛùÁ | G96: =F96-(H96+I96) -> 0 | J96: =N96+M96+L96+K96 -> 0 | S96: =K96+L96+M96+N96+R96 -> 0
A97: 8.7 | B97: Æñ³í³µ³Ý³Ï³Ý Ýß³Ý³ÏáõÃÛáõÝ áõÝ»óáÕ ÷³ëï»ñÇ Ñ³ëï³ïÙ³Ý í»ñ³µ»ñÛ³É | F97: 32 | G97: =F97-(H97+I97) -> 24 | H97: 5 | I97: 3 | J97: =N97+M97+L97+K97 -> 17 | K97: 10 | L97: 2 | M97: 3 | N97: 2 | P97: 2 | S97: =K97+L97+M97+N97+R97 -> 17 | T97: 1 | U97: 26 | Y97: 6
A98: 8.7.1 | B98: ²ÝÓ³Ýó ³½·³Ïó³Ï³Ý Ï³åÁ Ñ³ëï³ï»Éáõ í»ñ³µ»ñÛ³É | E98: 4 | F98: 8 | G98: =F98-(H98+I98) -> 8 | J98: =N98+M98+L98+K98 -> 10 | K98: 9 | L98: 1 | S98: =K98+L98+M98+N98+R98 -> 10 | U98: 10 | Y98: 2
A99: 8.7.2 | B99: ²ÝÓÇª áõñÇßÇ ËÝ³ÙùÇ ï³Ï ·ïÝí»Éáõ í»ñ³µ»ñÛ³É | G99: =F99-(H99+I99) -> 0 | J99: =N99+M99+L99+K99 -> 0 | S99: =K99+L99+M99+N99+R99 -> 0
A100: 8.7.3 | B100: ÌÝÝ¹Û³Ý, áñ¹»·ñÙ³Ý, ³ÙáõëÝáõÃÛ³Ý, ³å³Ñ³ñ½³ÝÇ ¨ Ù³Ñí³Ý ·ñ³ÝóÙ³Ý í»ñ³µ»ñÛ³É | E100: 4 | F100: 23 | G100: =F100-(H100+I100) -> 21 | H100: 1 | I100: 1 | J100: =N100+M100+L100+K100 -> 22 | K100: 19 | M100: 1 | N100: 2 | P100: 1 | Q100: 1 | S100: =K100+L100+M100+N100+R100 -> 22 | T100: 1 | U100: 25 | Y100: 2
A101: 8.7.4 | B101: ²ÝÓÇª áñáß³ÏÇ Å³Ù³Ý³ÏáõÙ ¨ áñáß³ÏÇ Ñ³Ý·³Ù³ÝùÝ»ñáõÙ Ù³Ñí³Ý í»ñ³µ»ñÛ³É | F101: 7 | G101: =F101-(H101+I101) -> 7 | J101: =N101+M101+L101+K101 -> 6 | K101: 5 | N101: 1 | P101: 1 | S101: =K101+L101+M101+N101+R101 -> 6 | U101: 6 | Y101: 1
A102: 8.7.5 | B102: Ä³é³Ý·áõÃÛáõÝÝ ÁÝ¹áõÝ»Éáõ ¨ Å³é³Ý·áõÃÛ³Ý µ³óÙ³Ý í³ÛñÇ í»ñ³µ»ñÛ³É | E102: 1 | G102: =F102-(H102+I102) -> 0 | J102: =N102+M102+L102+K102 -> 1 | M102: 1 | S102: =K102+L102+M102+N102+R102 -> 1 | U102: 1 | V102: 1
A103: 8.7.6 | B103: ¸Åµ³Ëï å³ï³Ñ³ñÇ í»ñ³µ»ñÛ³É | G103: =F103-(H103+I103) -> 0 | J103: =N103+M103+L103+K103 -> 0 | S103: =K103+L103+M103+N103+R103 -> 0
A104: 8.7.7 | B104: Æñ³íáõÝù ë³ÑÙ³ÝáÕ ÷³ëï³ÃÕÃ»ñÇ å³ïÏ³Ý»ÉáõÃÛ³Ý í»ñ³µ»ñÛ³É | E104: 4 | F104: 38 | G104: =F104-(H104+I104) -> 35 | H104: 3 | J104: =N104+M104+L104+K104 -> 30 | K104: 27 | L104: 2 | N104: 1 | P104: 1 | S104: =K104+L104+M104+N104+R104 -> 30 | T104: 1 | U104: 34 | Y104: 8
A105: 8.7.8 | B105: ê»÷³Ï³ÝáõÃÛ³Ý Çñ³íáõÝùáí ·áõÛùÇ ïÇñ³å»ïÙ³Ý í»ñ³µ»ñÛ³É | F105: 5 | G105: =F105-(H105+I105) -> 3 | H105: 1 | I105: 1 | J105: =N105+M105+L105+K105 -> 0 | S105: =K105+L105+M105+N105+R105 -> 0 | U105: 2 | Y105: 3
A106: 8.7.9 | B106: ²ÝÑ³ÕÃ³Ñ³ñ»ÉÇ áõÅÇ ³éÏ³ÛáõÃÛ³Ý í»ñ³µ»ñÛ³É | G106: =F106-(H106+I106) -> 0 | J106: =N106+M106+L106+K106 -> 0 | S106: =K106+L106+M106+N106+R106 -> 0
A107: 8.8 | B107: Àëï Ý»ñÏ³Û³óÝáÕÇ ¨ ûñ¹»ñ³ÛÇÝ Ïáñóñ³Í ³ñÅ»ÃÕÃ»ñáí Ñ³í³ëïí³Í Çñ³íáõÝùÝ»ñÁ í»ñ³Ï³Ý·Ý»Éáõ í»ñ³µ»ñÛ³É | G107: =F107-(H107+I107) -> 0 | J107: =N107+M107+L107+K107 -> 0 | S107: =K107+L107+M107+N107+R107 -> 0
A108: 8.9 | B108: Ð³ñÏ³¹Çñ Ï³ï³ñáÕÇ ¹ÇÙáõÙáí ÏáÕÙ»ñÇ Ñ³ßïáõÃÛ³Ý Ñ³Ù³Ó³ÛÝáõÃÛ³Ý ÑÇÙ³Ý íñ³ ¹³ï³ñ³ÝÇª ·áñÍÝ Áëï ¿áõÃÛ³Ý ÉáõÍáÕ ¹³ï³Ï³Ý ³ÏïÇ í»ñ³Ý³ÛÙ³Ý í»ñ³µ»ñÛ³É | G108: =F108-(H108+I108) -> 0 | J108: =N108+M108+L108+K108 -> 0 | S108: =K108+L108+M108+N108+R108 -> 0
A109: 8.10 | B109: ²ÛÉ í»×»ñ | E109: 2 | F109: 6 | G109: =F109-(H109+I109) -> 4 | H109: 2 | J109: =N109+M109+L109+K109 -> 5 | K109: 4 | N109: 1 | P109: 1 | S109: =K109+L109+M109+N109+R109 -> 5 | U109: 7 | Y109: 1
A110: 9. | B110: Ð³ïáõÏ Ñ³Ûó³ÛÇÝ í³ñáõÛÃÇ ·áñÍ»ñ | G110: =F110-(H110+I110) -> 0 | J110: =N110+M110+L110+K110 -> 0 | S110: =K110+L110+M110+N110+R110 -> 0
A111: 9.1 | B111: ø³Õ³ù³óáõ ÏÛ³ÝùÇÝ Ï³Ù ³éáÕçáõÃÛ³ÝÝ ëå³éÝ³óáÕ íï³Ý·Ç í»ñ³µ»ñÛ³É | G111: =F111-(H111+I111) -> 0 | J111: =N111+M111+L111+K111 -> 0 | S111: =K111+L111+M111+N111+R111 -> 0
A112: 9.2 | B112: ÐÐ Î»ÝïñáÝ³Ï³Ý µ³ÝÏÇ ¨ ³Ýí×³ñáõÝ³Ï µ³ÝÏÇ Ï³Ù í³ñÏ³ÛÇÝ Ï³½Ù³Ï»ñåáõÃÛ³Ý Å³Ù³Ý³Ï³íáñ ³¹ÙÇÝÇëïñ³óÇ³ÛÇ áñáßáõÙÝ»ñÇ µáÕáù³ñÏÙ³Ý í»ñ³µ»ñÛ³É | G112: =F112-(H112+I112) -> 0 | J112: =N112+M112+L112+K112 -> 0 | S112: =K112+L112+M112+N112+R112 -> 0
...

Sheet Շենգավիթ
A1: Ð²ÞìºîìàôÂÚàôÜ
A2: ԵՐԵՎԱՆԻ ՇԵՆԳԱՎԻԹ ՎԱՐՉԱԿԱՆ ՇՐՋԱՆԻ ԸՆԴՀԱՆՈՒՐ ԻՐԱՎԱՍՈՒԹՅԱՆ ԴԱՏԱՐԱՆԻ ø²Ô²ø²òÆ²Î²Ü ¶àðÌºðÆ øÜÜàôÂÚ²Ü ìºð²´ºðÚ²È
A5: êïáõ·Çã Ñ³í³ë³ñáõÙÝ»ñª 2=3+4+5, 1+3=15+16+21, 6=7+8+9+10, 10=11+12+13, 15=6+14, | E5: ²Ý³í³ñï ·áñÍ»ñÇ ÙÝ³óáñ¹Á Ñ³ßí»ïáõ Å³Ù³Ý³Ï³ßñç³ÝÇ ëÏ½µáõÙ | F5: êï³óí³Í Ñ³Ûó»ñÇ,¹ÇÙáõÙÝ»ñÇ (·áñÍ»ñ)ù³Ý³ÏÁ | J5: ²í³ñïí»É »Ý ·áñÍ»ñ Ñ³ßí»ïáõ Å³Ù³Ý³Ï³ßñç³ÝáõÙ | T5: ¶áñÍÝ áõÕ³ñÏí»É ¿ Áëï ÁÝ¹¹³ïáõÃÛ³Ý | U5: Øï»É »Ý ûñÇÝ³Ï³Ý áõÅÇ Ù»ç | V5: ´áÕáù³ñÏí»É »Ý í»ñ³ùÝÝÇã ¹³ï³ñ³Ý | Y5: ²Ý³í³ñï ·áñÍ»ñÇ ÙÝ³óáñ¹Á Ñ³ßí»ïáõ Å³Ù³Ý³Ï³ßñç³ÝÇ í»ñçáõÙ | Z5: ²Û¹ ÃíáõÙª Ï³ë»óí³Í
F8: ÀÝ¹³Ù»ÝÁ | G8: ²Û¹ ÃíáõÙª ÁÝ¹áõÝí»É ¿ í³ñáõÛÃ | H8: ²Û¹ ÃíáõÙª í»ñ³¹³ñÓí»É ¿ | I8: ²Û¹ ÃíáõÙª Ñ³Ûó»ñÇ (¹ÇÙáõÙÝ»ñÇ) ÁÝ¹áõÝáõÙÁ Ù»ñÅí»É ¿ | J8: ÀÝ¹³Ù»ÝÁ ³í³ñïí»É »Ý ·áñÍ»ñ í×éÇ Ï³Û³óáõÙáí | K8: ²Û¹ ÃíáõÙª Ñ³ÛóÇ µ³í³ñ³ñÙ³Ùµ | L8: ²Û¹ ÃíáõÙª Ñ³ÛóÇ Ù³ëÝ³ÏÇ µ³í³ñ³ñÙ³Ùµ | M8: ²Û¹ ÃíáõÙª Ñ³ÛóÇ Ù»ñÅÙ³Ùµ | N8: ²Û¹ ÃíáõÙª Ï³ñ×í»É »Ý | R8: Ð³ÛóÁ ÃáÕÝí»É ¿ ³é³Ýó ùÝÝáõÃÛ³Ý | S8: ÀÝ¹³Ù»ÝÝ ³í³ñïí»É »Ý ·áñÍ»ñ | V8: Ï³Û³óí³Í í×ÇéÝ»ñÇ ¹»Ù | W8: ³é³Ýó ùÝÝáõÃÛ³Ý ÃáÕÝ»Éáõ Ù³ëÇÝ áñáßáõÙÝ»ñÇ ¹»Ù | X8: ÙÇç³ÝÏÛ³É ¹³ï³Ï³Ý ³Ïï»ñÇ ¹»Ù
N11: ÀÝ¹³Ù»ÝÁ Ï³ñ×í»É »Ý | O11: ²Û¹ ÃíáõÙª Ñ³ëï³ïí»É ¿ ÏÝùí³Í Ñ³ßïáõÃÛ³Ý Ñ³Ù³Ó³ÛÝáõÃÛáõÝÁ | P11: ²Û¹ ÃíáõÙª Ñ³óÇó, ¹ÇÙáõÙÇó Ññ³Å³ñí»Éáõ ÑÇÙùáí | Q11: ²Û¹ ÃíáõÙª ³ÛÉ ÑÇÙùáí
A19: Æñ³í³Ñ³ñ³µ»ñáõÃÛáõÝÝ»ñÇ ï»ë³ÏÝ»ñÁ | E19: 1 | F19: 2 | G19: 3 | H19: 4 | I19: 5 | J19: 6 | K19: 7 | L19: 8 | M19: 9 | N19: 10 | O19: 11 | P19: 12 | Q19: 13 | R19: 14 | S19: 15 | T19: 16 | U19: 17 | V19: 18 | W19: 19 | X19: 20 | Y19: 21 | Z19: 22
A20: 1. | B20: ¶áõÛù³ÛÇÝ í»×»ñ
A21: 1.1 | B21: ¶áõÛùÇ ÝÏ³ïÙ³Ùµ ë»÷³Ï³ÝáõÃÛ³Ý Çñ³íáõÝùÁ ×³Ý³ã»Éáõ í»ñ³µ»ñÛ³É | E21: 10 | F21: 26 | G21: 25 | H21: 1 | J21: 23 | K21: 9 | L21: 1 | M21: 4 | N21: 9 | P21: 7 | Q21: 2 | S21: 23 | U21: 10 | V21: 3 | Y21: 12 | Z21: 3
A22: 1.1.1 | B22: ²Û¹ ÃíáõÙª Ó»éùµ»ñÙ³Ý í³Õ»ÙáõÃÛ³Ý áõÅáí | E22: 13 | F22: 33 | G22: 31 | H22: 2 | J22: 32 | K22: 14 | L22: 1 | M22: 6 | N22: 11 | O22: 1 | P22: 9 | Q22: 1 | S22: 32 | U22: 25 | V22: 9 | Y22: 12
A23: 1.1.2 | B23: ²Û¹ ÃíáõÙª ïÇñ³½áõñÏ ·áõÛùÇ ÝÏ³ïÙ³Ùµ | E23: 4 | F23: 13 | G23: 13 | J23: 12 | K23: 9 | M23: 2 | N23: 1 | P23: 1 | S23: 12 | U23: 7 | V23: 6 | Y23: 5 | Z23: 2
A24: 1.1.3 | B24: ²Û¹ ÃíáõÙª ÇÝùÝ³Ï³Ù Ï³éáõÛóÇ ÝÏ³ïÙ³Ùµ
A25: 1.2 | B25: ê»÷³Ï³ÝáõÃÛ³Ý Çñ³íáõÝùÇ ¹³¹³ñ»óÙ³Ý í»ñ³µ»ñÛ³É | F25: 2 | G25: 2 | J25: 2 | K25: 2 | S25: 2 | U25: 1 | V25: 1
A26: 1.3 | B26: ¶áõÛùÇ ÝÏ³ïÙ³Ùµ û·ï³·áñÍÙ³Ý Çñ³íáõÝùÁ ×³Ý³ã»Éáõ í»ñ³µ»ñÛ³É
A27: 1.3.1 | B27: ²Û¹ ÃíáõÙª µÝ³Ïû·ï³·áñÍÙ³Ý Çñ³íáõÝùÁ ×³Ý³ã»Éáõ í»ñ³µ»ñÛ³É | E27: 1 | F27: 4 | G27: 4 | J27: 5 | K27: 2 | M27: 1 | N27: 2 | P27: 1 | Q27: 1 | S27: 5 | U27: 3 | V27: 1
A28: 1.3.2 | B28: ²Û¹ ÃíáõÙª ÑáÕ³Ù³ëÇ ÝÏ³ïÙ³Ùµ û·ï³·áñÍÙ³Ý Çñ³íáõÝùÁ ×³Ý³ã»Éáõ í»ñ³µ»ñÛ³É | F28: 2 | G28: 1 | H28: 1 | J28: 1 | K28: 1 | S28: 1 | U28: 1 | V28: 1
A29: 1.4 | B29: ¶áõÛùÇ ÝÏ³ïÙ³Ùµ û·ï³·áñÍÙ³Ý Çñ³íáõÝùÁ ¹³¹³ñ»óÝ»Éáõ í»ñ³µ»ñÛ³É
A30: 1.4.1 | B30: ²Û¹ ÃíáõÙª µÝ³Ïû·ï³·áñÍÙ³Ý Çñ³íáõÝùÁ ¹³¹³ñ»óÝ»Éáõ í»ñ³µ»ñÛ³É | F30: 2 | G30: 2 | J30: 2 | K30: 2 | S30: 2 | U30: 2
A31: 1.4.1/1 | B31: ²Û¹ ÃíáõÙª ÷áËÑ³ïáõóÙ³Ùµ | E31: 1 | F31: 2 | G31: 2 | J31: 1 | K31: 1 | S31: 1 | U31: 1 | Y31: 2
A32: 1.5 | B32: ´Ý³Ï³ñ³ÝÇó/ ï³ñ³ÍùÇó/ íï³ñ»Éáõ í»ñ³µ»ñÛ³É | E32: 10 | F32: 42 | G32: 38 | H32: 5 | J32: 29 | K32: 15 | M32: 8 | N32: 6 | P32: 6 | S32: 29 | U32: 20 | V32: 7 | Y32: 19 | Z32: 2
A33: 1.6 | B33: ¶áõÛùÝ áõñÇßÇ ³åûñÇÝÇ ïÇñ³å»ïáõÙÇó »ï í»ñ³¹³ñÓÝ»Éáõ í»ñ³µ»ñÛ³É | F33: 12 | G33: 10 | H33: 2 | J33: 8 | K33: 3 | M33: 1 | N33: 4 | P33: 4 | S33: 8 | U33: 5 | V33: 5 | Y33: 2
A34: 1.7 | B34: îÇñ³å»ïáõÙÇó ½ñÏ»Éáõ Ñ»ï ãÏ³åí³Í Çñ³íáõÝùÝ»ñÇ Ë³ËïáõÙÁ í»ñ³óÝ»Éáõ í»ñ³µ»ñÛ³É | F34: 2 | G34: 2 | Y34: 2
A35: 1.8 | B35: ÀÝ¹Ñ³Ýáõñ µ³ÅÝ³ÛÇÝ ë»÷³Ï³ÝáõÃÛáõÝÇó µ³ÅÇÝÝ ³é³ÝÓÝ³óÝ»Éáõ í»ñ³µ»ñÛ³É | E35: 8 | F35: 71 | G35: 64 | H35: 7 | J35: 45 | K35: 12 | L35: 1 | M35: 18 | N35: 14 | O35: 3 | P35: 11 | S35: 45 | T35: 1 | U35: 37 | V35: 15 | Y35: 26 | Z35: 8
A36: 1.9 | B36: ²ÛÉ í»×»ñ | E36: 9 | F36: 143 | G36: 118 | H36: 23 | I36: 2 | J36: 85 | K36: 40 | M36: 19 | N36: 26 | P36: 23 | Q36: 3 | S36: 85 | U36: 56 | V36: 19 | Y36: 42 | Z36: 8
A37: 2. | B37: ¶áñÍ³ñùÝ»ñÇ Ñ»ï Ï³åí³Í í»×»ñ
A38: 2.1 | B38: ¶áñÍ³ñùÝ ³Ýí³í»ñ ×³Ý³ã»Éáõ í»ñ³µ»ñÛ³É | E38: 2 | F38: 3 | G38: 3 | J38: 2 | K38: 1 | N38: 1 | P38: 1 | S38: 2 | U38: 1 | V38: 1 | Y38: 2 | Z38: 1
A39: 2.1.1 | B39: ²Û¹ ÃíáõÙª íÇ×³Ñ³ñáõÛó ·áñÍ³ñùÝ»ñ
A40: 2.1.2 | B40: ²Û¹ ÃíáõÙª ³éáãÇÝã ·áñÍ³ñùÝ»ñ | E40: 1 | F40: 7 | G40: 7 | J40: 5 | K40: 3 | L40: 1 | M40: 1 | S40: 5 | U40: 4 | V40: 1 | Y40: 3
A41: 2.2 | B41: ¶áñÍ³ñùÁ í³í»ñ ×³Ý³ã»Éáõ í»ñ³µ»ñÛ³É | F41: 2 | G41: 2 | J41: 1 | K41: 1 | S41: 1 | U41: 1 | Y41: 1
A42: 2.3 | B42: ¶áñÍ³ñùÇó Í³·áÕ Çñ³íáõÝùÝ»ñÁ ·ñ³Ýó»Éáõ í»ñ³µ»ñÛ³É
A43: 2.4 | B43: ä³ÛÙ³Ý³·ÇñÝ ³Ýí³í»ñ ×³Ý³ã»Éáõ í»ñ³µ»ñÛ³É | F43: 6 | G43: 7 | J43: 3 | K43: 1 | M43: 2 | R43: 1 | S43: 4 | U43: 2 | V43: 1 | Y43: 3
A44: 2.5 | B44: ä³ÛÙ³Ý³·ñÇÁ í³í»ñ ×³Ý³ã»Éáõ í»ñ³µ»ñÛ³É | E44: 1 | F44: 4 | G44: 4 | J44: 4 | K44: 3 | M44: 1 | S44: 4 | U44: 4 | V44: 1 | Y44: 1
A45: 2.6 | B45: ä³ÛÙ³Ý³·ñÇó Í³·áÕ Çñ³íáõÝùÝ»ñÁ ·ñ³Ýó»Éáõ í»ñ³µ»ñÛ³É
A46: 2.7 | B46: ä³ÛÙ³Ý³·ÇñÁ ÷á÷áË»Éáõ ¨ ÉáõÍ»Éáõ í»ñ³µ»ñÛ³É | F46: 1 | G46: 1 | Y46: 1
A47: 2.8 | B47: ä³ÛÙ³Ý³·Çñ ÏÝù»ÉáõÝ å³ñï³íáñ»óÝ»Éáõ í»ñ³µ»ñÛ³É | E47: 1 | F47: 1 | G47: 1 | J47: 2 | N47: 2 | P47: 1 | S47: 2 | U47: 1
A48: 2.9 | B48: ²ÛÉ í»×»ñ | F48: 78 | G48: 71 | H48: 7 | J48: 50 | K48: 21 | L48: 9 | M48: 3 | N48: 17 | O48: 1 | P48: 15 | Q48: 1 | S48: 50 | T48: 2 | U48: 36 | V48: 8 | Y48: 19 | Z48: 5
A49: 3. | B49: Ä³é³Ý·áõÃÛ³Ý í»ñ³µ»ñÛ³É í»×»ñ
A50: 3.1 | B50: Îï³ÏÝ ³Ýí³í»ñ ×³Ý³ã»Éáõ í»ñ³µ»ñÛ³É | F50: 2 | G50: 2 | J50: 1 | K50: 1 | S50: 1 | U50: 1 | Y50: 1
A51: 3.2 | B51: ²Ý³ñÅ³Ý Å³é³Ý· ×³Ý³ã»Éáõ í»ñ³µ»ñÛ³É
A52: 3.3 | B52: Ä³é³Ý·áõÃÛáõÝÁ µ³Å³Ý»Éáõ í»ñ³µ»ñÛ³É
A53: 3.4 | B53: ¶áõÛùÝ ³ÝÅ³é³Ý· ×³Ý³ã»Éáõ í»ñ³µ»ñÛ³É
A54: 3.5 | B54: Àëï ûñ»ÝùÇ Å³é³Ý·áõÃÛ³Ý Çñ³íáõÝùÇ íÏ³Û³Ï³ÝÝ ³Ýí³í»ñ ×³Ý³ã»Éáõ í»ñ³µ»ñÛ³É | F54: 7 | G54: 5 | H54: 2 | J54: 1 | L54: 1 | S54: 1 | U54: 1 | Y54: 4
A55: 3.6 | B55: Ä³é³Ý·áõÃÛáõÝÝ ÁÝ¹áõÝ»Éáõ µ³ó ÃáÕÝí³Í Å³ÙÏ»ïÁ Ñ³ñ·»ÉÇ Ñ³Ù³ñ»Éáõ í»ñ³µ»ñÛ³É | F55: 3 | G55: 3 | J55: 2 | K55: 1 | N55: 1 | P55: 1 | S55: 2 | T55: 1 | U55: 2
A56: 3.7 | B56: ²ÛÉ í»×»ñ | F56: 27 | G56: 27 | J56: 14 | K56: 6 | M56: 6 | N56: 2 | O56: 1 | P56: 1 | S56: 14 | U56: 10 | V56: 1 | Y56: 13
A57: 4 | B57: ÀÝï³Ý»Ï³Ý Çñ³í³Ñ³ñ³µ»ñáõÃÛáõÝÝ»ñÇó Í³·áÕ í»×»ñ
A58: 4.1 | B58: ²ÙáõëÝ³ÉáõÍáõÃÛ³Ý í»ñ³µ»ñÛ³É | E58: 18 | F58: 95 | G58: 87 | H58: 7 | I58: 1 | J58: 79 | K58: 54 | L58: 4 | M58: 4 | N58: 17 | O58: 1 | P58: 16 | S58: 79 | T58: 1 | U58: 69 | Y58: 25
A59: 4.2 | B59: ²ÉÇÙ»ÝïÇ å³Ñ³ÝçÇ í»ñ³µ»ñÛ³É | F59: 44 | G59: 44 | J59: 38 | K59: 19 | L59: 15 | M59: 2 | N59: 2 | P59: 2 | S59: 38 | U59: 32 | V59: 7 | Y59: 6
A60: 4.3 | B60: ²ÉÇÙ»ÝïÇ ã³÷Á ÷á÷áË»Éáõ í»ñ³µ»ñÛ³É | F60: 5 | G60: 5 | J60: 3 | K60: 1 | L60: 2 | S60: 3 | T60: 1 | U60: 2 | Y60: 1
A61: 4.4 | B61: ÌÝáÕ³Ï³Ý Çñ³íáõÝùÝ»ñÇó ½ñÏ»Éáõ í»ñ³µ»ñÛ³É | F61: 7 | G61: 7 | J61: 6 | K61: 1 | M61: 3 | N61: 2 | P61: 2 | S61: 6 | U61: 5 | Y61: 1
A62: 4.5 | B62: ÌÝáÕ³Ï³Ý Çñ³íáõÝùÝ»ñÁ í»ñ³Ï³Ý·Ý»Éáõ í»ñ³µ»ñÛ³É
A63: 4.6 | B63: ºñ»Ë³ÛÇ áñ¹»·ñÙ³Ý í»ñ³µ»ñÛ³É | F63: 3 | G63: 3 | J63: 3 | K63: 3 | S63: 3 | U63: 2
A64: 4.7 | B64: ºñ»Ë³ÛÇ áñ¹»·ñáõÙÁ í»ñ³óÝ»Éáõ í»ñ³µ»ñÛ³É | F64: 2 | G64: 2 | J64: 2 | K64: 2 | S64: 2 | U64: 2
A65: 4.8 | B65: Ð³ÛñáõÃÛáõÝÁ ×³Ý³ã»Éáõ í»ñ³µ»ñÛ³É | F65: 3 | G65: 3 | J65: 3 | K65: 3 | S65: 3 | U65: 2 | V65: 1
A66: 4.9 | B66: ºñ»Ë³ÛÇ µÝ³ÏáõÃÛ³Ý í³ÛñÁ áñáß»Éáõ í»ñ³µ»ñÛ³É | F66: 5 | G66: 5 | J66: 5 | M66: 2 | N66: 3 | O66: 1 | P66: 1 | Q66: 1 | S66: 5 | U66: 4
A67: 4.10 | B67: ºñ»Ë³ÛÇ Ñ»ï ï»ë³ÏóáõÃÛ³Ý Ï³ñ· ë³ÑÙ³Ý»Éáõ í»ñ³µ»ñÛ³É | F67: 9 | G67: 8 | H67: 1 | J67: 5 | K67: 1 | L67: 3 | N67: 1 | P67: 1 | S67: 5 | U67: 5 | Y67: 3
A68: 4.11 | B68: ²ÙáõëÇÝÝ»ñÇ ÁÝ¹Ñ³Ýáõñ ·áõÛùÁ µ³Å³Ý»Éáõ í»ñ³µ»ñÛ³É | F68: 1 | G68: 1 | J68: 1 | M68: 1 | S68: 1 | U68: 1
A69: 4.12 | B69: ²ÙáõëÝ³Ï³Ý å³ÛÙ³Ý³·ñÇ ÷á÷áËÙ³Ý Ï³Ù ÉáõÍÙ³Ý í»ñ³µ»ñÛ³É
A70: 4.13 | B70: ²ÛÉ í»×»ñ | F70: 12 | G70: 11 | H70: 1 | J70: 8 | K70: 2 | M70: 1 | N70: 5 | P70: 5 | S70: 8 | T70: 1 | U70: 6 | Y70: 2
A71: 5. | B71: Øï³íáñ ë»÷³Ï³ÝáõÃÛáõÝ
A72: 5.1 | B72: ÈÇó»Ý½³ÛÇÝ å³ÛÙ³Ý³·ñÇ ÉáõÍÙ³Ý, ÷á÷áËÙ³Ý ¨ ³Ýí³í»ñáõÃÛ³Ý í»ñ³µ»ñÛ³É
A73: 5.2 | B73: Øï³íáñ ·áñÍáõÝ»áõÃÛ³Ý ³ñ¹ÛáõÝùÝ»ñ ëï»ÕÍ»Éáõ ¨ û·ï³·áñÍ»Éáõ å³ÛÙ³Ý³·ñÇ ÉáõÍÙ³Ý, ÷á÷áËÙ³Ý áõ ³Ýí³í»ñáõÃÛ³Ý í»ñ³µ»ñÛ³É
A74: 5.3 | B74: Ð»ÕÇÝ³Ï³ÛÇÝ ¨ Ñ³ñ³ÏÇó Çñ³íáõÝùÝ»ñÇ í»ñ³µ»ñÛ³É | F74: 1 | G74: 1 | J74: 1 | N74: 1 | P74: 1 | S74: 1 | U74: 1
A75: 5.4 | B75: üÇñÙ³ÛÇÝ ³Ýí³ÝÙ³Ý í»ñ³µ»ñÛ³É
A76: 5.5 | B76: ²åñ³Ýù³ÛÇÝ Ýß³ÝÇ í»ñ³µ»ñÛ³É | F76: 1 | G76: 1 | J76: 1 | K76: 1 | S76: 1
A77: 5.6 | B77: ²ÛÉ í»×»ñ | F77: 1 | G77: 1 | J77: 1 | S77: 1 | U77: 1
A78: 6. | B78: ²ßË³ï³Ýù³ÛÇÝ í»×»ñ
A79: 6.1 | B79: ²ßË³ï³Ýù³ÛÇÝ å³ÛÙ³Ý³·ñ»ñÇ í»ñ³µ»ñÛ³É | F79: 1 | G79: 1 | J79: 1 | M79: 1 | S79: 1 | V79: 1
A80: 6.2 | B80: ²ßË³ï³ÝùáõÙ í»ñ³Ï³Ý·Ý»Éáõ í»ñ³µ»ñÛ³É | F80: 3 | G80: 2 | H80: 1 | J80: 1 | K80: 1 | S80: 1 | V80: 1 | Y80: 1
A81: 6.3 | B81: ¶áñÍ³¹áõÉÝ ³ÝûñÇÝ³Ï³Ý ×³Ý³ã»Éáõ í»ñ³µ»ñÛ³É
A82: 6.4 | B82: Ð³ñÏ³¹Çñ å³ñ³åáõñ¹Ç Ñ³ïáõóÙ³Ý í»ñ³µ»ñÛ³É
A83: 6.5 | B83: âí×³ñí³Í ³ßË³ï³í³ñÓÇ ¨/Ï³Ù ³ÛÉ í×³ñÝ»ñÇ µéÝ³·³ÝÓÙ³Ý í»ñ³µ»ñÛ³É | E83: 1 | F83: 26 | G83: 23 | H83: 3 | J83: 20 | K83: 14 | L83: 1 | M83: 1 | N83: 4 | O83: 1 | P83: 2 | Q83: 1 | S83: 20 | U83: 17 | V83: 1 | Y83: 4 | Z83: 1
A84: 6.6 | B84: ²ÛÉ í»×»ñ | F84: 7 | G84: 5 | H84: 2 | J84: 4 | K84: 3 | L84: 1 | S84: 4 | U84: 3 | V84: 1 | Y84: 1
A85: 7. | B85: Æñ³í³µ³Ý³Ï³Ý ³ÝÓÇ ·áñÍáõÝ»áõÃÛ³Ý í»ñ³µ»ñÛ³É
A86: 7.1 | B86: Îáñåáñ³ïÇí í»×»ñ
A87: 7.2 | B87: ²ÛÉ í»×»ñ
A88: 8. | B88: Ð³ïáõÏ í³ñáõÛÃÇ ·áñÍ»ñ
A89: 8.1 | B89: ²Ýã³÷³Ñ³ëÇÝ ÉñÇí ·áñÍáõÝ³Ï ×³Ý³ã»Éáõ /¿Ù³ÝëÇå³óÇ³/ í»ñ³µ»ñÛ³É
A90: 8.2 | B90: ø³Õ³ù³óáõÝ ³Ý·áñÍáõÝ³Ï Ï³Ù ë³ÑÙ³Ý³÷³Ï ·áñÍáõÝ³Ï ×³Ý³ã»Éáõ í»ñ³µ»ñÛ³É | F90: 21 | G90: 21 | J90: 18 | K90: 11 | M90: 2 | N90: 5 | P90: 5 | S90: 18 | T90: 1 | U90: 17 | Y90: 2 | Z90: 1
A91: 8.3 | B91: ø³Õ³ù³óáõÝ Ñá·»µáõÅ³Ï³Ý ÑÇí³Ý¹³Ýáó³ÛÇÝ Ñ³ñÏ³¹Çñ µáõÅÙ³Ý »ÝÃ³ñÏ»Éáõ í»ñ³µ»ñÛ³É
A92: 8.4 | B92: ø³Õ³ù³óáõÝ ³ÝÑ³Ûï µ³ó³Ï³ÛáÕ Ï³Ù Ù³Ñ³ó³Í ×³Ý³ã»Éáõ í»ñ³µ»ñÛ³É | F92: 42 | G92: 40 | H92: 2 | J92: 32 | K92: 22 | M92: 6 | N92: 4 | P92: 4 | S92: 32 | U92: 30 | Y92: 8 | Z92: 1
A93: 8.5 | B93: ø³Õ³ù³óÇ³Ï³Ý Ï³óáõÃÛ³Ý ³Ïï»ñÇ ·ñ³éáõÙÝ»ñÇ ³Ý×ßïáõÃÛáõÝÝ»ñÁ å³ñ½»Éáõ í»ñ³µ»ñÛ³É | F93: 3 | G93: 3 | J93: 1 | K93: 1 | S93: 1 | T93: 1 | U93: 1 | Y93: 1
A94: 8.6 | B94: ¶áõÛùÁ ïÇñ³½áõñÏ ×³Ý³ã»Éáõ í»ñ³µ»ñÛ³É | F94: 1 | G94: 1 | J94: 1 | M94: 1 | S94: 1 | U94: 1
A95: 8.6.1 | B95: ²Û¹ ÃíáõÙª ³Ýß³ñÅ ·áõÛùÁ
A96: 8.6.2 | B96: ²Û¹ ÃíáõÙª ß³ñÅ³Ï³Ý ·áõÛùÁ
A97: 8.7 | B97: Æñ³í³µ³Ý³Ï³Ý Ýß³Ý³ÏáõÃÛáõÝ áõÝ»óáÕ ÷³ëï»ñÇ Ñ³ëï³ïÙ³Ý í»ñ³µ»ñÛ³É | E97: 4 | F97: 110 | G97: 102 | H97: 6 | I97: 2 | J97: 96 | K97: 60 | L97: 1 | M97: 22 | N97: 13 | P97: 13 | S97: 96 | U97: 86 | V97: 6 | Y97: 10
A98: 8.7.1 | B98: ²ÝÓ³Ýó ³½·³Ïó³Ï³Ý Ï³åÁ Ñ³ëï³ï»Éáõ í»ñ³µ»ñÛ³É | F98: 3 | G98: 2 | H98: 1 | J98: 2 | K98: 1 | M98: 1 | S98: 2 | U98: 1 | V98: 1 | Y98: 1
A99: 8.7.2 | B99: ²ÝÓÇª áõñÇßÇ ËÝ³ÙùÇ ï³Ï ·ïÝí»Éáõ í»ñ³µ»ñÛ³É
A100: 8.7.3 | B100: ÌÝÝ¹Û³Ý, áñ¹»·ñÙ³Ý, ³ÙáõëÝáõÃÛ³Ý, ³å³Ñ³ñ½³ÝÇ ¨ Ù³Ñí³Ý ·ñ³ÝóÙ³Ý í»ñ³µ»ñÛ³É | F100: 3 | G100: 3 | J100: 2 | K100: 2 | S100: 2 | U100: 1 | Y100: 1
A101: 8.7.4 | B101: ²ÝÓÇª áñáß³ÏÇ Å³Ù³Ý³ÏáõÙ ¨ áñáß³ÏÇ Ñ³Ý·³Ù³ÝùÝ»ñáõÙ Ù³Ñí³Ý í»ñ³µ»ñÛ³É
A102: 8.7.5 | B102: Ä³é³Ý·áõÃÛáõÝÝ ÁÝ¹áõÝ»Éáõ ¨ Å³é³Ý·áõÃÛ³Ý µ³óÙ³Ý í³ÛñÇ í»ñ³µ»ñÛ³É | F102: 1 | G102: 1 | Y102: 1
A103: 8.7.6 | B103: ¸Åµ³Ëï å³ï³Ñ³ñÇ í»ñ³µ»ñÛ³É
A104: 8.7.7 | B104: Æñ³íáõÝù ë³ÑÙ³ÝáÕ ÷³ëï³ÃÕÃ»ñÇ å³ïÏ³Ý»ÉáõÃÛ³Ý í»ñ³µ»ñÛ³É | F104: 4 | G104: 4 | J104: 1 | K104: 1 | S104: 1 | U104: 1 | Y104: 3
A105: 8.7.8 | B105: ê»÷³Ï³ÝáõÃÛ³Ý Çñ³íáõÝùáí ·áõÛùÇ ïÇñ³å»ïÙ³Ý í»ñ³µ»ñÛ³É | F105: 3 | G105: 3 | J105: 2 | K105: 2 | S105: 2 | U105: 1 | Y105: 1
A106: 8.7.9 | B106: ²ÝÑ³ÕÃ³Ñ³ñ»ÉÇ áõÅÇ ³éÏ³ÛáõÃÛ³Ý í»ñ³µ»ñÛ³É
A107: 8.8 | B107: Àëï Ý»ñÏ³Û³óÝáÕÇ ¨ ûñ¹»ñ³ÛÇÝ Ïáñóñ³Í ³ñÅ»ÃÕÃ»ñáí Ñ³í³ëïí³Í Çñ³íáõÝùÝ»ñÁ í»ñ³Ï³Ý·Ý»Éáõ í»ñ³µ»ñÛ³É
A108: 8.9 | B108: Ð³ñÏ³¹Çñ Ï³ï³ñáÕÇ ¹ÇÙáõÙáí ÏáÕÙ»ñÇ Ñ³ßïáõÃÛ³Ý Ñ³Ù³Ó³ÛÝáõÃÛ³Ý ÑÇÙ³Ý íñ³ ¹³ï³ñ³ÝÇª ·áñÍÝ Áëï ¿áõÃÛ³Ý ÉáõÍáÕ ¹³ï³Ï³Ý ³ÏïÇ í»ñ³Ý³ÛÙ³Ý í»ñ³µ»ñÛ³É
A109: 8.10 | B109: ²ÛÉ í»×»ñ | F109: 7 | G109: 6 | H109: 1 | J109: 4 | K109: 3 | N109: 1 | P109: 1 | S109: 4 | U109: 4 | Y109: 2
A110: 9. | B110: Ð³ïáõÏ Ñ³Ûó³ÛÇÝ í³ñáõÛÃÇ ·áñÍ»ñ
A111: 9.1 | B111: ø³Õ³ù³óáõ ÏÛ³ÝùÇÝ Ï³Ù ³éáÕçáõÃÛ³ÝÝ ëå³éÝ³óáÕ íï³Ý·Ç í»ñ³µ»ñÛ³É
A112: 9.2 | B112: ÐÐ Î»ÝïñáÝ³Ï³Ý µ³ÝÏÇ ¨ ³Ýí×³ñáõÝ³Ï µ³ÝÏÇ Ï³Ù í³ñÏ³ÛÇÝ Ï³½Ù³Ï»ñåáõÃÛ³Ý Å³Ù³Ý³Ï³íáñ ³¹ÙÇÝÇëïñ³óÇ³ÛÇ áñáßáõÙÝ»ñÇ µáÕáù³ñÏÙ³Ý í»ñ³µ»ñÛ³É
A113: 9.3 | B113: ²ÛÉ í»×»ñ | F113: 2 | G113: 2 | Y113: 2
...

Sheet Շիրակ
A1: Ð²ÞìºîìàôÂÚàôÜ
A2: ø²Ô²ø²òÆ²Î²Ü ¶àðÌºðÆ øÜÜàôÂÚ²Ü ìºð²´ºðÚ²È
A3: 20 Ã. ³é³çÇÝ ÏÇë³ÙÛ³ÏÇ (ï³ñí³) Ñ³Ù³ñ
A5: êïáõ·Çã Ñ³í³ë³ñáõÙÝ»ñª 2=3+4+5, 1+3=15+16+21, 6=7+8+9+10, 10=11+12+13, 15=6+14, | E5: ²Ý³í³ñï ·áñÍ»ñÇ ÙÝ³óáñ¹Á Ñ³ßí»ïáõ Å³Ù³Ý³Ï³ßñç³ÝÇ ëÏ½µáõÙ | F5: êï³óí³Í Ñ³Ûó»ñÇ,¹ÇÙáõÙÝ»ñÇ (·áñÍ»ñ)ù³Ý³ÏÁ | J5: ²í³ñïí»É »Ý ·áñÍ»ñ Ñ³ßí»ïáõ Å³Ù³Ý³Ï³ßñç³ÝáõÙ | T5: ¶áñÍÝ áõÕ³ñÏí»É ¿ Áëï ÁÝ¹¹³ïáõÃÛ³Ý | U5: Øï»É »Ý ûñÇÝ³Ï³Ý áõÅÇ Ù»ç | V5: ´áÕáù³ñÏí»É »Ý í»ñ³ùÝÝÇã ¹³ï³ñ³Ý | Y5: ²Ý³í³ñï ·áñÍ»ñÇ ÙÝ³óáñ¹Á Ñ³ßí»ïáõ Å³Ù³Ý³Ï³ßñç³ÝÇ í»ñçáõÙ | Z5: ²Û¹ ÃíáõÙª Ï³ë»óí³Í
F8: ÀÝ¹³Ù»ÝÁ | G8: ²Û¹ ÃíáõÙª ÁÝ¹áõÝí»É ¿ í³ñáõÛÃ | H8: ²Û¹ ÃíáõÙª í»ñ³¹³ñÓí»É ¿ | I8: ²Û¹ ÃíáõÙª Ñ³Ûó»ñÇ (¹ÇÙáõÙÝ»ñÇ) ÁÝ¹áõÝáõÙÁ Ù»ñÅí»É ¿ | J8: ÀÝ¹³Ù»ÝÁ ³í³ñïí»É »Ý ·áñÍ»ñ í×éÇ Ï³Û³óáõÙáí | K8: ²Û¹ ÃíáõÙª Ñ³ÛóÇ µ³í³ñ³ñÙ³Ùµ | L8: ²Û¹ ÃíáõÙª Ñ³ÛóÇ Ù³ëÝ³ÏÇ µ³í³ñ³ñÙ³Ùµ | M8: ²Û¹ ÃíáõÙª Ñ³ÛóÇ Ù»ñÅÙ³Ùµ | N8: ²Û¹ ÃíáõÙª Ï³ñ×í»É »Ý | R8: Ð³ÛóÁ ÃáÕÝí»É ¿ ³é³Ýó ùÝÝáõÃÛ³Ý | S8: ÀÝ¹³Ù»ÝÝ ³í³ñïí»É »Ý ·áñÍ»ñ | V8: Ï³Û³óí³Í í×ÇéÝ»ñÇ ¹»Ù | W8: ³é³Ýó ùÝÝáõÃÛ³Ý ÃáÕÝ»Éáõ Ù³ëÇÝ áñáßáõÙÝ»ñÇ ¹»Ù | X8: ÙÇç³ÝÏÛ³É ¹³ï³Ï³Ý ³Ïï»ñÇ ¹»Ù
N11: ÀÝ¹³Ù»ÝÁ Ï³ñ×í»É »Ý | O11: ²Û¹ ÃíáõÙª Ñ³ëï³ïí»É ¿ ÏÝùí³Í Ñ³ßïáõÃÛ³Ý Ñ³Ù³Ó³ÛÝáõÃÛáõÝÁ | P11: ²Û¹ ÃíáõÙª Ñ³óÇó, ¹ÇÙáõÙÇó Ññ³Å³ñí»Éáõ ÑÇÙùáí | Q11: ²Û¹ ÃíáõÙª ³ÛÉ ÑÇÙùáí
A19: Æñ³í³Ñ³ñ³µ»ñáõÃÛáõÝÝ»ñÇ ï»ë³ÏÝ»ñÁ | E19: 1 | F19: 2 | G19: 3 | H19: 4 | I19: 5 | J19: 6 | K19: 7 | L19: 8 | M19: 9 | N19: 10 | O19: 11 | P19: 12 | Q19: 13 | R19: 14 | S19: 15 | T19: 16 | U19: 17 | V19: 18 | W19: 19 | X19: 20 | Y19: 21 | Z19: 22
A20: 1. | B20: ¶áõÛù³ÛÇÝ í»×»ñ
A21: 1.1 | B21: ¶áõÛùÇ ÝÏ³ïÙ³Ùµ ë»÷³Ï³ÝáõÃÛ³Ý Çñ³íáõÝùÁ ×³Ý³ã»Éáõ í»ñ³µ»ñÛ³É | E21: =1+1+1+1 -> 4 | F21: =+G21+H21+I21 -> 28 | G21: 22 | H21: 6 | J21: =+K21+L21+M21+N21 -> 23 | K21: 14 | L21: 2 | M21: 1 | N21: =+O21+P21+Q21 -> 6 | O21: 1 | Q21: 5 | S21: =+J21+R21 -> 23 | T21: 1 | U21: =4+3+1+4+1+1 -> 14 | Y21: 2 | Z21: 1
A22: 1.1.1 | B22: ²Û¹ ÃíáõÙª Ó»éùµ»ñÙ³Ý í³Õ»ÙáõÃÛ³Ý áõÅáí | E22: =1+1+1 -> 3 | F22: =+G22+H22+I22 -> 27 | G22: 25 | H22: 2 | J22: =+K22+L22+M22+N22 -> 25 | K22: 21 | M22: 2 | N22: =+O22+P22+Q22 -> 2 | O22: 2 | R22: 1 | S22: =+J22+R22 -> 26 | V22: 3 | Y22: 2 | Z22: 1
A23: 1.1.2 | B23: ²Û¹ ÃíáõÙª ïÇñ³½áõñÏ ·áõÛùÇ ÝÏ³ïÙ³Ùµ | F23: =+G23+H23+I23 -> 3 | G23: 3 | J23: =+K23+L23+M23+N23 -> 2 | K23: 2 | N23: =+O23+P23+Q23 -> 0 | R23: 1 | S23: =+J23+R23 -> 3 | V23: 1
A24: 1.1.3 | B24: ²Û¹ ÃíáõÙª ÇÝùÝ³Ï³Ù Ï³éáõÛóÇ ÝÏ³ïÙ³Ùµ | F24: =+G24+H24+I24 -> 0 | J24: =+K24+L24+M24+N24 -> 0 | N24: =+O24+P24+Q24 -> 0 | S24: =+J24+R24 -> 0
A25: 1.2 | B25: ê»÷³Ï³ÝáõÃÛ³Ý Çñ³íáõÝùÇ ¹³¹³ñ»óÙ³Ý í»ñ³µ»ñÛ³É | F25: =+G25+H25+I25 -> 1 | G25: 1 | J25: =+K25+L25+M25+N25 -> 1 | M25: 1 | N25: =+O25+P25+Q25 -> 0 | S25: =+J25+R25 -> 1 | V25: 1
A26: 1.3 | B26: ¶áõÛùÇ ÝÏ³ïÙ³Ùµ û·ï³·áñÍÙ³Ý Çñ³íáõÝùÁ ×³Ý³ã»Éáõ í»ñ³µ»ñÛ³É | F26: =+G26+H26+I26 -> 0 | J26: =+K26+L26+M26+N26 -> 0 | N26: =+O26+P26+Q26 -> 0 | S26: =+J26+R26 -> 0
A27: 1.3.1 | B27: ²Û¹ ÃíáõÙª µÝ³Ïû·ï³·áñÍÙ³Ý Çñ³íáõÝùÁ ×³Ý³ã»Éáõ í»ñ³µ»ñÛ³É | F27: =+G27+H27+I27 -> 0 | J27: =+K27+L27+M27+N27 -> 0 | N27: =+O27+P27+Q27 -> 0 | S27: =+J27+R27 -> 0
A28: 1.3.2 | B28: ²Û¹ ÃíáõÙª ÑáÕ³Ù³ëÇ ÝÏ³ïÙ³Ùµ û·ï³·áñÍÙ³Ý Çñ³íáõÝùÁ ×³Ý³ã»Éáõ í»ñ³µ»ñÛ³É | F28: =+G28+H28+I28 -> 0 | J28: =+K28+L28+M28+N28 -> 0 | N28: =+O28+P28+Q28 -> 0 | S28: =+J28+R28 -> 0
A29: 1.4 | B29: ¶áõÛùÇ ÝÏ³ïÙ³Ùµ û·ï³·áñÍÙ³Ý Çñ³íáõÝùÁ ¹³¹³ñ»óÝ»Éáõ í»ñ³µ»ñÛ³É | E29: =1 -> 1 | F29: =+G29+H29+I29 -> 1 | G29: 1 | J29: =+K29+L29+M29+N29 -> 2 | K29: 2 | N29: =+O29+P29+Q29 -> 0 | S29: =+J29+R29 -> 2
A30: 1.4.1 | B30: ²Û¹ ÃíáõÙª µÝ³Ïû·ï³·áñÍÙ³Ý Çñ³íáõÝùÁ ¹³¹³ñ»óÝ»Éáõ í»ñ³µ»ñÛ³É | E30: =1+1+1 -> 3 | F30: =+G30+H30+I30 -> 5 | G30: 5 | J30: =+K30+L30+M30+N30 -> 7 | K30: 3 | L30: 1 | M30: 1 | N30: =+O30+P30+Q30 -> 2 | O30: 2 | S30: =+J30+R30 -> 7 | V30: 3 | Y30: 1 | Z30: 1
A31: 1.4.1/1 | B31: ²Û¹ ÃíáõÙª ÷áËÑ³ïáõóÙ³Ùµ | F31: =+G31+H31+I31 -> 0 | J31: =+K31+L31+M31+N31 -> 0 | N31: =+O31+P31+Q31 -> 0 | S31: =+J31+R31 -> 0
A32: 1.5 | B32: ´Ý³Ï³ñ³ÝÇó/ ï³ñ³ÍùÇó/ íï³ñ»Éáõ í»ñ³µ»ñÛ³É | E32: 9 | F32: =+G32+H32+I32 -> 40 | G32: 30 | H32: 9 | I32: 1 | J32: =+K32+L32+M32+N32 -> 32 | K32: 11 | L32: 3 | M32: 5 | N32: =+O32+P32+Q32 -> 13 | O32: 13 | S32: =+J32+R32 -> 32 | V32: 13 | Y32: 7 | Z32: 3
A33: 1.6 | B33: ¶áõÛùÝ áõñÇßÇ ³åûñÇÝÇ ïÇñ³å»ïáõÙÇó »ï í»ñ³¹³ñÓÝ»Éáõ í»ñ³µ»ñÛ³É | E33: 10 | F33: =+G33+H33+I33 -> 38 | G33: 30 | H33: =3+1+3+1 -> 8 | J33: =+K33+L33+M33+N33 -> 34 | K33: 11 | L33: =1+1 -> 2 | M33: 11 | N33: =+O33+P33+Q33 -> 10 | O33: 3 | P33: 7 | S33: =+J33+R33 -> 34 | T33: 1 | U33: =6+2+6+1+5+3+2+1+2 -> 28 | V33: 14 | Y33: 5 | Z33: 1
A34: 1.7 | B34: îÇñ³å»ïáõÙÇó ½ñÏ»Éáõ Ñ»ï ãÏ³åí³Í Çñ³íáõÝùÝ»ñÇ Ë³ËïáõÙÁ í»ñ³óÝ»Éáõ í»ñ³µ»ñÛ³É | E34: 2 | F34: =+G34+H34+I34 -> 6 | G34: 4 | H34: 2 | J34: =+K34+L34+M34+N34 -> 6 | K34: 3 | N34: =+O34+P34+Q34 -> 3 | O34: 3 | S34: =+J34+R34 -> 6 | V34: 1
A35: 1.8 | B35: ÀÝ¹Ñ³Ýáõñ µ³ÅÝ³ÛÇÝ ë»÷³Ï³ÝáõÃÛáõÝÇó µ³ÅÇÝÝ ³é³ÝÓÝ³óÝ»Éáõ í»ñ³µ»ñÛ³É | E35: 7 | F35: =+G35+H35+I35 -> 44 | G35: 38 | H35: 6 | J35: =+K35+L35+M35+N35 -> 38 | K35: 26 | L35: 2 | M35: 4 | N35: =+O35+P35+Q35 -> 6 | O35: 6 | S35: =+J35+R35 -> 38 | V35: 2 | Y35: 7 | Z35: 1
A36: 1.9 | B36: ²ÛÉ í»×»ñ | E36: 2 | F36: =+G36+H36+I36 -> 28 | G36: 22 | H36: 6 | J36: =+K36+L36+M36+N36 -> 19 | K36: 5 | L36: 2 | M36: 5 | N36: =+O36+P36+Q36 -> 7 | O36: 7 | S36: =+J36+R36 -> 19 | T36: 1 | V36: 3 | Y36: 4 | Z36: 1
A37: 2. | B37: ¶áñÍ³ñùÝ»ñÇ Ñ»ï Ï³åí³Í í»×»ñ | F37: =+G37+H37+I37 -> 0 | J37: =+K37+L37+M37+N37 -> 0 | N37: =+O37+P37+Q37 -> 0 | S37: =+J37+R37 -> 0
A38: 2.1 | B38: ¶áñÍ³ñùÝ ³Ýí³í»ñ ×³Ý³ã»Éáõ í»ñ³µ»ñÛ³É | F38: =+G38+H38+I38 -> 3 | G38: 1 | H38: 2 | J38: =+K38+L38+M38+N38 -> 1 | K38: 1 | N38: =+O38+P38+Q38 -> 0 | S38: =+J38+R38 -> 1 | V38: 1
A39: 2.1.1 | B39: ²Û¹ ÃíáõÙª íÇ×³Ñ³ñáõÛó ·áñÍ³ñùÝ»ñ | F39: =+G39+H39+I39 -> 0 | J39: =+K39+L39+M39+N39 -> 0 | N39: =+O39+P39+Q39 -> 0 | S39: =+J39+R39 -> 0
A40: 2.1.2 | B40: ²Û¹ ÃíáõÙª ³éáãÇÝã ·áñÍ³ñùÝ»ñ | F40: =+G40+H40+I40 -> 2 | G40: 2 | J40: =+K40+L40+M40+N40 -> 0 | N40: =+O40+P40+Q40 -> 0 | S40: =+J40+R40 -> 0 | Y40: 2 | Z40: 2
A41: 2.2 | B41: ¶áñÍ³ñùÁ í³í»ñ ×³Ý³ã»Éáõ í»ñ³µ»ñÛ³É | E41: =1 -> 1 | F41: =+G41+H41+I41 -> 11 | G41: 10 | H41: 1 | J41: =+K41+L41+M41+N41 -> 10 | K41: 7 | M41: 1 | N41: =+O41+P41+Q41 -> 2 | O41: 2 | S41: =+J41+R41 -> 10 | V41: 1 | Y41: 1
A42: 2.3 | B42: ¶áñÍ³ñùÇó Í³·áÕ Çñ³íáõÝùÝ»ñÁ ·ñ³Ýó»Éáõ í»ñ³µ»ñÛ³É | F42: =+G42+H42+I42 -> 0 | J42: =+K42+L42+M42+N42 -> 0 | N42: =+O42+P42+Q42 -> 0 | S42: =+J42+R42 -> 0
A43: 2.4 | B43: ä³ÛÙ³Ý³·ÇñÝ ³Ýí³í»ñ ×³Ý³ã»Éáõ í»ñ³µ»ñÛ³É | E43: 1 | F43: =+G43+H43+I43 -> 16 | G43: 11 | H43: 5 | J43: =+K43+L43+M43+N43 -> 7 | K43: 3 | M43: 3 | N43: =+O43+P43+Q43 -> 1 | P43: 1 | S43: =+J43+R43 -> 7 | T43: 1 | V43: 4 | Y43: 4
A44: 2.5 | B44: ä³ÛÙ³Ý³·ñÇÁ í³í»ñ ×³Ý³ã»Éáõ í»ñ³µ»ñÛ³É | E44: =1 -> 1 | F44: =+G44+H44+I44 -> 4 | G44: 2 | H44: 2 | J44: =+K44+L44+M44+N44 -> 3 | N44: =+O44+P44+Q44 -> 3 | O44: 3 | S44: =+J44+R44 -> 3
A45: 2.6 | B45: ä³ÛÙ³Ý³·ñÇó Í³·áÕ Çñ³íáõÝùÝ»ñÁ ·ñ³Ýó»Éáõ í»ñ³µ»ñÛ³É | F45: =+G45+H45+I45 -> 1 | G45: 1 | J45: =+K45+L45+M45+N45 -> 1 | K45: 1 | N45: =+O45+P45+Q45 -> 0 | S45: =+J45+R45 -> 1
A46: 2.7 | B46: ä³ÛÙ³Ý³·ÇñÁ ÷á÷áË»Éáõ ¨ ÉáõÍ»Éáõ í»ñ³µ»ñÛ³É | F46: =+G46+H46+I46 -> 11 | G46: 11 | J46: =+K46+L46+M46+N46 -> 10 | K46: 3 | L46: 1 | M46: 2 | N46: =+O46+P46+Q46 -> 4 | O46: 3 | P46: 1 | S46: =+J46+R46 -> 10 | V46: 1 | Y46: 1
A47: 2.8 | B47: ä³ÛÙ³Ý³·Çñ ÏÝù»ÉáõÝ å³ñï³íáñ»óÝ»Éáõ í»ñ³µ»ñÛ³É | F47: =+G47+H47+I47 -> 3 | G47: 2 | H47: 1 | J47: =+K47+L47+M47+N47 -> 2 | K47: 1 | L47: 1 | N47: =+O47+P47+Q47 -> 0 | S47: =+J47+R47 -> 2
A48: 2.9 | B48: ²ÛÉ í»×»ñ | F48: =+G48+H48+I48 -> 8 | G48: 7 | H48: 1 | J48: =+K48+L48+M48+N48 -> 3 | K48: 1 | M48: 2 | N48: =+O48+P48+Q48 -> 0 | S48: =+J48+R48 -> 3 | T48: 1 | V48: 2 | Y48: 3 | Z48: 2
A49: 3. | B49: Ä³é³Ý·áõÃÛ³Ý í»ñ³µ»ñÛ³É í»×»ñ | F49: =+G49+H49+I49 -> 0 | J49: =+K49+L49+M49+N49 -> 0 | N49: =+O49+P49+Q49 -> 0 | S49: =+J49+R49 -> 0
A50: 3.1 | B50: Îï³ÏÝ ³Ýí³í»ñ ×³Ý³ã»Éáõ í»ñ³µ»ñÛ³É | F50: =+G50+H50+I50 -> 3 | G50: 3 | J50: =+K50+L50+M50+N50 -> 2 | M50: 2 | N50: =+O50+P50+Q50 -> 0 | S50: =+J50+R50 -> 2 | Y50: 1
A51: 3.2 | B51: ²Ý³ñÅ³Ý Å³é³Ý· ×³Ý³ã»Éáõ í»ñ³µ»ñÛ³É | F51: =+G51+H51+I51 -> 0 | J51: =+K51+L51+M51+N51 -> 0 | N51: =+O51+P51+Q51 -> 0 | S51: =+J51+R51 -> 0
A52: 3.3 | B52: Ä³é³Ý·áõÃÛáõÝÁ µ³Å³Ý»Éáõ í»ñ³µ»ñÛ³É | F52: =+G52+H52+I52 -> 0 | J52: =+K52+L52+M52+N52 -> 0 | N52: =+O52+P52+Q52 -> 0 | S52: =+J52+R52 -> 0
A53: 3.4 | B53: ¶áõÛùÝ ³ÝÅ³é³Ý· ×³Ý³ã»Éáõ í»ñ³µ»ñÛ³É | F53: =+G53+H53+I53 -> 0 | J53: =+K53+L53+M53+N53 -> 0 | N53: =+O53+P53+Q53 -> 0 | S53: =+J53+R53 -> 0
A54: 3.5 | B54: Àëï ûñ»ÝùÇ Å³é³Ý·áõÃÛ³Ý Çñ³íáõÝùÇ íÏ³Û³Ï³ÝÝ ³Ýí³í»ñ ×³Ý³ã»Éáõ í»ñ³µ»ñÛ³É | F54: =+G54+H54+I54 -> 6 | G54: 5 | H54: 1 | J54: =+K54+L54+M54+N54 -> 2 | L54: 1 | M54: 1 | N54: =+O54+P54+Q54 -> 0 | S54: =+J54+R54 -> 2 | T54: 1 | V54: 2 | Y54: 2
A55: 3.6 | B55: Ä³é³Ý·áõÃÛáõÝÝ ÁÝ¹áõÝ»Éáõ µ³ó ÃáÕÝí³Í Å³ÙÏ»ïÁ Ñ³ñ·»ÉÇ Ñ³Ù³ñ»Éáõ í»ñ³µ»ñÛ³É | E55: =2 -> 2 | F55: =+G55+H55+I55 -> 12 | G55: 9 | H55: 2 | I55: 1 | J55: =+K55+L55+M55+N55 -> 10 | K55: 8 | M55: 1 | N55: =+O55+P55+Q55 -> 1 | O55: 1 | S55: =+J55+R55 -> 10 | V55: 1 | Y55: 1
A56: 3.7 | B56: ²ÛÉ í»×»ñ | E56: =2 -> 2 | F56: =+G56+H56+I56 -> 12 | G56: 10 | H56: 2 | J56: =+K56+L56+M56+N56 -> 10 | K56: 7 | L56: 2 | M56: 1 | N56: =+O56+P56+Q56 -> 0 | S56: =+J56+R56 -> 10 | V56: 1 | Y56: 2
A57: 4 | B57: ÀÝï³Ý»Ï³Ý Çñ³í³Ñ³ñ³µ»ñáõÃÛáõÝÝ»ñÇó Í³·áÕ í»×»ñ | F57: =+G57+H57+I57 -> 0 | J57: =+K57+L57+M57+N57 -> 0 | N57: =+O57+P57+Q57 -> 0 | S57: =+J57+R57 -> 0
A58: 4.1 | B58: ²ÙáõëÝ³ÉáõÍáõÃÛ³Ý í»ñ³µ»ñÛ³É | E58: 17 | F58: =+G58+H58+I58 -> 121 | G58: 110 | H58: 10 | I58: 1 | J58: =+K58+L58+M58+N58 -> 115 | K58: 107 | L58: 1 | N58: =+O58+P58+Q58 -> 7 | O58: 7 | S58: =+J58+R58 -> 115 | V58: 1 | Y58: 12
A59: 4.2 | B59: ²ÉÇÙ»ÝïÇ å³Ñ³ÝçÇ í»ñ³µ»ñÛ³É | E59: =1+1+1+1+1+1 -> 6 | F59: =+G59+H59+I59 -> 46 | G59: 43 | H59: 3 | J59: =+K59+L59+M59+N59 -> 41 | K59: 13 | L59: 21 | M59: 1 | N59: =+O59+P59+Q59 -> 6 | O59: 6 | S59: =+J59+R59 -> 41 | T59: 1 | V59: 3 | Y59: 7 | Z59: 2
A60: 4.3 | B60: ²ÉÇÙ»ÝïÇ ã³÷Á ÷á÷áË»Éáõ í»ñ³µ»ñÛ³É | F60: =+G60+H60+I60 -> 6 | G60: 6 | J60: =+K60+L60+M60+N60 -> 6 | K60: 1 | L60: 2 | M60: 2 | N60: =+O60+P60+Q60 -> 1 | O60: 1 | S60: =+J60+R60 -> 6
A61: 4.4 | B61: ÌÝáÕ³Ï³Ý Çñ³íáõÝùÝ»ñÇó ½ñÏ»Éáõ í»ñ³µ»ñÛ³É | E61: =1+1 -> 2 | F61: =+G61+H61+I61 -> 6 | G61: 5 | H61: 1 | J61: =+K61+L61+M61+N61 -> 5 | L61: 1 | M61: 4 | N61: =+O61+P61+Q61 -> 0 | S61: =+J61+R61 -> 5 | V61: 1 | Y61: 2 | Z61: 2
A62: 4.5 | B62: ÌÝáÕ³Ï³Ý Çñ³íáõÝùÝ»ñÁ í»ñ³Ï³Ý·Ý»Éáõ í»ñ³µ»ñÛ³É | F62: =+G62+H62+I62 -> 0 | J62: =+K62+L62+M62+N62 -> 0 | N62: =+O62+P62+Q62 -> 0 | S62: =+J62+R62 -> 0
A63: 4.6 | B63: ºñ»Ë³ÛÇ áñ¹»·ñÙ³Ý í»ñ³µ»ñÛ³É | F63: =+G63+H63+I63 -> 14 | G63: 14 | J63: =+K63+L63+M63+N63 -> 14 | K63: 13 | N63: =+O63+P63+Q63 -> 1 | O63: 1 | S63: =+J63+R63 -> 14
A64: 4.7 | B64: ºñ»Ë³ÛÇ áñ¹»·ñáõÙÁ í»ñ³óÝ»Éáõ í»ñ³µ»ñÛ³É | F64: =+G64+H64+I64 -> 3 | G64: 1 | H64: 2 | J64: =+K64+L64+M64+N64 -> 1 | K64: 1 | N64: =+O64+P64+Q64 -> 0 | S64: =+J64+R64 -> 1
A65: 4.8 | B65: Ð³ÛñáõÃÛáõÝÁ ×³Ý³ã»Éáõ í»ñ³µ»ñÛ³É | E65: 1 | F65: =+G65+H65+I65 -> 14 | G65: 12 | H65: 2 | J65: =+K65+L65+M65+N65 -> 13 | L65: 13 | N65: =+O65+P65+Q65 -> 0 | S65: =+J65+R65 -> 13
A66: 4.9 | B66: ºñ»Ë³ÛÇ µÝ³ÏáõÃÛ³Ý í³ÛñÁ áñáß»Éáõ í»ñ³µ»ñÛ³É | F66: =+G66+H66+I66 -> 4 | G66: 4 | J66: =+K66+L66+M66+N66 -> 4 | K66: 1 | L66: 1 | N66: =+O66+P66+Q66 -> 2 | O66: 1 | P66: 1 | S66: =+J66+R66 -> 4
A67: 4.10 | B67: ºñ»Ë³ÛÇ Ñ»ï ï»ë³ÏóáõÃÛ³Ý Ï³ñ· ë³ÑÙ³Ý»Éáõ í»ñ³µ»ñÛ³É | E67: 1 | F67: =+G67+H67+I67 -> 4 | G67: 4 | J67: =+K67+L67+M67+N67 -> 5 | K67: 3 | L67: 2 | N67: =+O67+P67+Q67 -> 0 | S67: =+J67+R67 -> 5 | V67: 1
A68: 4.11 | B68: ²ÙáõëÇÝÝ»ñÇ ÁÝ¹Ñ³Ýáõñ ·áõÛùÁ µ³Å³Ý»Éáõ í»ñ³µ»ñÛ³É | F68: =+G68+H68+I68 -> 7 | G68: 6 | H68: 1 | J68: =+K68+L68+M68+N68 -> 5 | L68: 2 | M68: 2 | N68: =+O68+P68+Q68 -> 1 | O68: 1 | S68: =+J68+R68 -> 5 | T68: 1 | V68: 3
A69: 4.12 | B69: ²ÙáõëÝ³Ï³Ý å³ÛÙ³Ý³·ñÇ ÷á÷áËÙ³Ý Ï³Ù ÉáõÍÙ³Ý í»ñ³µ»ñÛ³É | F69: =+G69+H69+I69 -> 0 | J69: =+K69+L69+M69+N69 -> 0 | N69: =+O69+P69+Q69 -> 0 | S69: =+J69+R69 -> 0
