Workbook

Sheet Ընդամենը
A1: Ð²ÞìºîìàôÂÚàôÜ
A2: ²Üâ²ö²Ð²ê ¸²î²ä²ðîÚ²ÈÜºðÆ ìºð²´ºðÚ²È | Y2: 2016Ã.
A3: ìÇ×³Ï³·ñ³Ï³Ý ïáÕÇ Ñ³Ù³ñÁ | B3: Ð²Üò²¶àðÌàôÂÚàôÜÜºðÆ îºê²ÎÜºðÀ | D3: ÐÐ øñ»³Ï³Ý ûñ»Ýë·ñùÇ Ñá¹í³ÍÁ | E3: Ð³Ýó³·áñÍáõÃÛáõÝÁ Ï³ï³ñ»É »Ý | H3: Ýñ³ÝóÇó | M3: ¸³ï³å³ñïÛ³ÉÝ»ñÇ ÝÏ³ïÙ³Ùµ Ýß³Ý³Ïí³Í ÑÇÙÝ³Ï³Ý å³ïÇÅÝ»ñ | V3: Ýß³Ý³Ïí³Í å³ïÇÅÁ å³ÛÙ³Ý³Ï³Ýáñ»Ý ãÇ ÏÇñ³éí»É | W3: ÏÇñ³éí»É ¿ Ñ³Ù³Ý»ñÙ³Ý ³Ïï | X3: ÎÇñ³éí»É »Ý ¹³ëïÇ³ñ³Ïã³Ï³Ý µÝáõÛÃÇ Ñ³ñÏ³¹ñ³ÝùÇ ÙÇçáó | Y3: ²ÝÓ³Ýó ÃÇíÁ, áñáÝù ÙÇÝã¨ í»ñçÇÝ Ñ³Ýó³·áñÍáõÃÛáõÝÁ Ï³ï³ñ»ÉÁ
E4: 14-16 ï³ñ»Ï³ÝáõÙ | F4: 16-18 ï³ñ»Ï³ÝáõÙ | G4: ÀÝ¹³Ù»ÝÁ | H4: ³ÕçÇÏÝ»ñ | I4: ã»Ý ³ßË³ï»É, ã»Ý ëáíáñ»É | J4: ³ÝÓÇÝù, áñáÝù Ñ³Ýó³·áñÍáõÃÛáõÝÁ Ï³ï³ñ»É »Ý | M4: ² ½ ³ ï ³ ½ ñ Ï áõ Ù | U4: ³ÛÉ å³ïÇÅÝ»ñ | Y4: ·ïÝí»É »Ý áëïÇÏ³ÝáõÃÛ³Ý Ù³ñÙÇÝÝ»ñáõÙ Ñ³ßí³éÙ³Ý Ù»ç | Z4: Ï³ï³ñ»É »Ý Ñ³Ýó³·áñÍáõÃÛáõÝ ¨ »Õ»É »Ý
Z5: ³½³ïí³Í ùñ»³Ï³Ý å³ï³ëË³Ý³ïíáõÃÛáõÝÇó | AA5: ¹³ï³å³ñïí³Í | AB5: ²Û¹ ÃíáõÙ
B6: êîàô¶Æâ Ð²ì²ê²ðàôØÜºð 3=1+2, 16=9+10+11+12+13+14+15, 3=16+17+18+19 | J6: ³ÉÏ., ÃÙñ³ÙÇç. Ï³Ù ÃÝñ»óÝáÕ ³ÛÉ ÝÛáõÃ»ñÇ ³½¹»óáõÃÛ³Ý ï³Ï | K6: ØÇ ËáõÙµ ³ÝÓ³Ýó Ï³½ÙáõÙ | L6: ³Û¹ ÃíáõÙª Ù»Í³Ñ³ë³ÏÝ»ñÇ Ù³ëÝ³ÏóáõÃÛ³Ùµ | M6: 1 ï³ñÇ Ý»ñ³éÛ³É | N6: 1 ï³ñáõó ³í»É, ÙÇÝã¨ 2 ï³ñÇ Ý»ñ³éÛ³É | O6: 2 ï³ñáõó ³í»É, ÙÇÝã¨ 3 ï³ñÇ Ý»ñ³éÛ³É | P6: 3 ï³ñáõó ³í»É, ÙÇÝã¨ 5 ï³ñÇ Ý»ñ³éÛ³É | Q6: 5 ï³ñáõó ³í»É, ÙÇÝã¨ 8 ï³ñÇ Ý»ñ³éÛ³É | R6: 8 ï³ñáõó ³í»É, ÙÇÝã¨ 10 ï³ñÇ Ý»ñ³éÛ³É | S6: 10 ï³ñáõó ³í»É, ÙÇÝã¨ 12ï³ñÇ Ý»ñ³éÛ³É | T6: ÁÝ¹³Ù»ÝÁ | AB6: ¹³ï³í×éÇ Ï³ï³ñÙ³Ý Ñ»ï³Ó·áõÙáí | AC6: å³ÛÙ³Ý³Ï³Ý ¹³ï³å³ñïáõÃÛáõÝ
E7: 1 | F7: 2 | G7: 3 | H7: 4 | I7: 5 | J7: 6 | K7: 7 | L7: 8 | M7: 9 | N7: 10 | O7: 11 | P7: 12 | Q7: 13 | R7: 14 | S7: 15 | T7: 16 | U7: 17 | V7: 18 | W7: 19 | X7: 20 | Y7: 21 | Z7: 22 | AA7: 23 | AB7: 24 | AC7: 25 | AE7: 3=1+2 | AG7: 16=9+10+11+12+13+14+15 | AI7: 3=16+17
A8: 1. | B8: ÀÝ¹³Ù»ÝÁ ÏÛ³ÝùÇ ¨ ³éáÕçáõÃÛ³Ý ¹»Ù áõÕÕí³Í Ñ³Ýó³·áñÍáõÃÛáõÝÝ»ñÁ | E8: =SUM(Ajapnyak:Gexarquniq!E8) -> 1 | F8: =SUM(Ajapnyak:Gexarquniq!F8) -> 9 | G8: =SUM(Ajapnyak:Gexarquniq!G8) -> 10 | H8: =SUM(Ajapnyak:Gexarquniq!H8) -> 1 | I8: =SUM(Ajapnyak:Gexarquniq!I8) -> 5 | J8: =SUM(Ajapnyak:Gexarquniq!J8) -> 0 | K8: =SUM(Ajapnyak:Gexarquniq!K8) -> 0 | L8: =SUM(Ajapnyak:Gexarquniq!L8) -> 1 | ... AD8: =SUM(Ajapnyak:Gexarquniq!AD8) -> 16 | AE8: =G8 -> 10 | AF8: =E8+F8 -> 10 | AG8: =T8 -> 8 | AH8: =M8+N8+O8+P8+Q8+R8+S8 -> 8 | AI8: =G8 -> 10 | AJ8: =T8+U8 -> 10
A9: 1.1 | B9: êå³ÝáõÃÛáõÝÁ | D9: 104 | E9: =SUM(Ajapnyak:Gexarquniq!E9) -> 0 | F9: =SUM(Ajapnyak:Gexarquniq!F9) -> 0 | G9: =SUM(Ajapnyak:Gexarquniq!G9) -> 0 | H9: =SUM(Ajapnyak:Gexarquniq!H9) -> 0 | I9: =SUM(Ajapnyak:Gexarquniq!I9) -> 0 | J9: =SUM(Ajapnyak:Gexarquniq!J9) -> 0 | K9: =SUM(Ajapnyak:Gexarquniq!K9) -> 0 | L9: =SUM(Ajapnyak:Gexarquniq!L9) -> 0 | ... AC9: =SUM(Ajapnyak:Gexarquniq!AC9) -> 0 | AD9: =SUM(T9:W9) -> 0 | AE9: =G9 -> 0 | AF9: =E9+F9 -> 0 | AG9: =T9 -> 0 | AH9: =M9+N9+O9+P9+Q9+R9+S9 -> 0 | AI9: =G9 -> 0 | AJ9: =T9+U9 -> 0
A10: 1.2 | B10: Ðá·»Ï³Ý ËÇëï Ñáõ½ÙáõÝùÇ íÇ×³ÏáõÙ Ï³ï³ñí³Í ëå³ÝáõÃÛáõÝÁ | D10: 105 | E10: =SUM(Ajapnyak:Gexarquniq!E10) -> 0 | F10: =SUM(Ajapnyak:Gexarquniq!F10) -> 0 | G10: =SUM(Ajapnyak:Gexarquniq!G10) -> 0 | H10: =SUM(Ajapnyak:Gexarquniq!H10) -> 0 | I10: =SUM(Ajapnyak:Gexarquniq!I10) -> 0 | J10: =SUM(Ajapnyak:Gexarquniq!J10) -> 0 | K10: =SUM(Ajapnyak:Gexarquniq!K10) -> 0 | L10: =SUM(Ajapnyak:Gexarquniq!L10) -> 0 | ... AC10: =SUM(Ajapnyak:Gexarquniq!AC10) -> 0 | AD10: =SUM(T10:W10) -> 0 | AE10: =G10 -> 0 | AF10: =E10+F10 -> 0 | AG10: =T10 -> 0 | AH10: =M10+N10+O10+P10+Q10+R10+S10 -> 0 | AI10: =G10 -> 0 | AJ10: =T10+U10 -> 0
A11: 1.3 | B11: Øáñ ÏáÕÙÇó Ýáñ³ÍÇÝ »ñ»Ë³ÛÇ ëå³ÝáõÃÛáõÝÁ | D11: 106 | E11: =SUM(Ajapnyak:Gexarquniq!E11) -> 0 | F11: =SUM(Ajapnyak:Gexarquniq!F11) -> 0 | G11: =SUM(Ajapnyak:Gexarquniq!G11) -> 0 | H11: =SUM(Ajapnyak:Gexarquniq!H11) -> 0 | I11: =SUM(Ajapnyak:Gexarquniq!I11) -> 0 | J11: =SUM(Ajapnyak:Gexarquniq!J11) -> 0 | K11: =SUM(Ajapnyak:Gexarquniq!K11) -> 0 | L11: =SUM(Ajapnyak:Gexarquniq!L11) -> 0 | ... AC11: =SUM(Ajapnyak:Gexarquniq!AC11) -> 0 | AD11: =SUM(T11:W11) -> 0 | AE11: =G11 -> 0 | AF11: =E11+F11 -> 0 | AG11: =T11 -> 0 | AH11: =M11+N11+O11+P11+Q11+R11+S11 -> 0 | AI11: =G11 -> 0 | AJ11: =T11+U11 -> 0
A12: 1.4 | B12: Ð³Ýó³Ýù Ï³ï³ñ³Í ³ÝÓÇÝ µéÝ»Éáõ Ñ³Ù³ñ ³ÝÑñ³Å»ßï ÙÇçáóÝ»ñÇ ë³ÑÙ³Ý³½³ÝóÙ³Ùµ ëå³ÝáõÃÛáõÝÁ | D12: 107 | E12: =SUM(Ajapnyak:Gexarquniq!E12) -> 0 | F12: =SUM(Ajapnyak:Gexarquniq!F12) -> 0 | G12: =SUM(Ajapnyak:Gexarquniq!G12) -> 0 | H12: =SUM(Ajapnyak:Gexarquniq!H12) -> 0 | I12: =SUM(Ajapnyak:Gexarquniq!I12) -> 0 | J12: =SUM(Ajapnyak:Gexarquniq!J12) -> 0 | K12: =SUM(Ajapnyak:Gexarquniq!K12) -> 0 | L12: =SUM(Ajapnyak:Gexarquniq!L12) -> 0 | ... AC12: =SUM(Ajapnyak:Gexarquniq!AC12) -> 0 | AD12: =SUM(T12:W12) -> 0 | AE12: =G12 -> 0 | AF12: =E12+F12 -> 0 | AG12: =T12 -> 0 | AH12: =M12+N12+O12+P12+Q12+R12+S12 -> 0 | AI12: =G12 -> 0 | AJ12: =T12+U12 -> 0
A13: 1.5 | B13: ²ÝÑñ³Å»ßï å³ßïå³ÝáõÃÛ³Ý ë³ÑÙ³Ý³½³ÝóÙ³Ùµ ëå³ÝáõÃÛáõÝÁ | D13: 108 | E13: =SUM(Ajapnyak:Gexarquniq!E13) -> 0 | F13: =SUM(Ajapnyak:Gexarquniq!F13) -> 0 | G13: =SUM(Ajapnyak:Gexarquniq!G13) -> 0 | H13: =SUM(Ajapnyak:Gexarquniq!H13) -> 0 | I13: =SUM(Ajapnyak:Gexarquniq!I13) -> 0 | J13: =SUM(Ajapnyak:Gexarquniq!J13) -> 0 | K13: =SUM(Ajapnyak:Gexarquniq!K13) -> 0 | L13: =SUM(Ajapnyak:Gexarquniq!L13) -> 0 | ... AC13: =SUM(Ajapnyak:Gexarquniq!AC13) -> 0 | AD13: =SUM(T13:W13) -> 0 | AE13: =G13 -> 0 | AF13: =E13+F13 -> 0 | AG13: =T13 -> 0 | AH13: =M13+N13+O13+P13+Q13+R13+S13 -> 0 | AI13: =G13 -> 0 | AJ13: =T13+U13 -> 0
A14: 1.6 | B14: ²Ý½·áõßáõÃÛ³Ùµ Ù³Ñ å³ï×³é»ÉÁ | D14: 109 | E14: =SUM(Ajapnyak:Gexarquniq!E14) -> 0 | F14: =SUM(Ajapnyak:Gexarquniq!F14) -> 0 | G14: =SUM(Ajapnyak:Gexarquniq!G14) -> 0 | H14: =SUM(Ajapnyak:Gexarquniq!H14) -> 0 | I14: =SUM(Ajapnyak:Gexarquniq!I14) -> 0 | J14: =SUM(Ajapnyak:Gexarquniq!J14) -> 0 | K14: =SUM(Ajapnyak:Gexarquniq!K14) -> 0 | L14: =SUM(Ajapnyak:Gexarquniq!L14) -> 0 | ... AC14: =SUM(Ajapnyak:Gexarquniq!AC14) -> 0 | AD14: =SUM(T14:W14) -> 0 | AE14: =G14 -> 0 | AF14: =E14+F14 -> 0 | AG14: =T14 -> 0 | AH14: =M14+N14+O14+P14+Q14+R14+S14 -> 0 | AI14: =G14 -> 0 | AJ14: =T14+U14 -> 0
A15: 1.7 | B15: ÆÝùÝ³ëå³ÝáõÃÛ³Ý Ñ³ëóÝ»ÉÁ | D15: 110 | E15: =SUM(Ajapnyak:Gexarquniq!E15) -> 0 | F15: =SUM(Ajapnyak:Gexarquniq!F15) -> 0 | G15: =SUM(Ajapnyak:Gexarquniq!G15) -> 0 | H15: =SUM(Ajapnyak:Gexarquniq!H15) -> 0 | I15: =SUM(Ajapnyak:Gexarquniq!I15) -> 0 | J15: =SUM(Ajapnyak:Gexarquniq!J15) -> 0 | K15: =SUM(Ajapnyak:Gexarquniq!K15) -> 0 | L15: =SUM(Ajapnyak:Gexarquniq!L15) -> 0 | ... AC15: =SUM(Ajapnyak:Gexarquniq!AC15) -> 0 | AD15: =SUM(T15:W15) -> 0 | AE15: =G15 -> 0 | AF15: =E15+F15 -> 0 | AG15: =T15 -> 0 | AH15: =M15+N15+O15+P15+Q15+R15+S15 -> 0 | AI15: =G15 -> 0 | AJ15: =T15+U15 -> 0
A16: 1.8 | B16: ÆÝùÝ³ëå³ÝáõÃÛ³Ý Ñ³Ï»ÉÁ | D16: 111 | E16: =SUM(Ajapnyak:Gexarquniq!E16) -> 0 | F16: =SUM(Ajapnyak:Gexarquniq!F16) -> 0 | G16: =SUM(Ajapnyak:Gexarquniq!G16) -> 0 | H16: =SUM(Ajapnyak:Gexarquniq!H16) -> 0 | I16: =SUM(Ajapnyak:Gexarquniq!I16) -> 0 | J16: =SUM(Ajapnyak:Gexarquniq!J16) -> 0 | K16: =SUM(Ajapnyak:Gexarquniq!K16) -> 0 | L16: =SUM(Ajapnyak:Gexarquniq!L16) -> 0 | ... AC16: =SUM(Ajapnyak:Gexarquniq!AC16) -> 0 | AD16: =SUM(T16:W16) -> 0 | AE16: =G16 -> 0 | AF16: =E16+F16 -> 0 | AG16: =T16 -> 0 | AH16: =M16+N16+O16+P16+Q16+R16+S16 -> 0 | AI16: =G16 -> 0 | AJ16: =T16+U16 -> 0
A17: 1.9 | B17: ¸Çï³íáñáõÃÛ³Ùµ ³éáÕçáõÃÛ³ÝÁ Í³Ýñ íÝ³ë å³ï×³é»ÉÁ | D17: 112 | E17: =SUM(Ajapnyak:Gexarquniq!E17) -> 1 | F17: =SUM(Ajapnyak:Gexarquniq!F17) -> 7 | G17: =SUM(Ajapnyak:Gexarquniq!G17) -> 8 | H17: =SUM(Ajapnyak:Gexarquniq!H17) -> 0 | I17: =SUM(Ajapnyak:Gexarquniq!I17) -> 4 | J17: =SUM(Ajapnyak:Gexarquniq!J17) -> 0 | K17: =SUM(Ajapnyak:Gexarquniq!K17) -> 0 | L17: =SUM(Ajapnyak:Gexarquniq!L17) -> 1 | ... AC17: =SUM(Ajapnyak:Gexarquniq!AC17) -> 0 | AD17: =SUM(T17:W17) -> 14 | AE17: =G17 -> 8 | AF17: =E17+F17 -> 8 | AG17: =T17 -> 7 | AH17: =M17+N17+O17+P17+Q17+R17+S17 -> 7 | AI17: =G17 -> 8 | AJ17: =T17+U17 -> 8
A18: 1.10 | B18: ¸Çï³íáñáõÃÛ³Ùµ ³éáÕçáõÃÛ³ÝÁ ÙÇçÇÝ Í³ÝñáõÃÛ³Ý íÝ³ë å³ï×³é»ÉÁ | D18: 113 | E18: =SUM(Ajapnyak:Gexarquniq!E18) -> 0 | F18: =SUM(Ajapnyak:Gexarquniq!F18) -> 1 | G18: =SUM(Ajapnyak:Gexarquniq!G18) -> 1 | H18: =SUM(Ajapnyak:Gexarquniq!H18) -> 0 | I18: =SUM(Ajapnyak:Gexarquniq!I18) -> 0 | J18: =SUM(Ajapnyak:Gexarquniq!J18) -> 0 | K18: =SUM(Ajapnyak:Gexarquniq!K18) -> 0 | L18: =SUM(Ajapnyak:Gexarquniq!L18) -> 0 | ... AC18: =SUM(Ajapnyak:Gexarquniq!AC18) -> 0 | AD18: =SUM(T18:W18) -> 1 | AE18: =G18 -> 1 | AF18: =E18+F18 -> 1 | AG18: =T18 -> 1 | AH18: =M18+N18+O18+P18+Q18+R18+S18 -> 1 | AI18: =G18 -> 1 | AJ18: =T18+U18 -> 1
A19: 1.11 | B19: Ðá·»Ï³Ý ËÇëï Ñáõ½ÙáõÝùÇ íÇ×³ÏáõÙ ³éáÕçáõÃÛ³ÝÁ Í³Ýñ Ï³Ù ÙÇçÇÝ Í³ÝñáõÃÛ³Ý íÝ³ë å³ï×³é»ÉÁ | D19: 114 | E19: =SUM(Ajapnyak:Gexarquniq!E19) -> 0 | F19: =SUM(Ajapnyak:Gexarquniq!F19) -> 0 | G19: =SUM(Ajapnyak:Gexarquniq!G19) -> 0 | H19: =SUM(Ajapnyak:Gexarquniq!H19) -> 0 | I19: =SUM(Ajapnyak:Gexarquniq!I19) -> 0 | J19: =SUM(Ajapnyak:Gexarquniq!J19) -> 0 | K19: =SUM(Ajapnyak:Gexarquniq!K19) -> 0 | L19: =SUM(Ajapnyak:Gexarquniq!L19) -> 0 | ... AC19: =SUM(Ajapnyak:Gexarquniq!AC19) -> 0 | AD19: =SUM(T19:W19) -> 0 | AE19: =G19 -> 0 | AF19: =E19+F19 -> 0 | AG19: =T19 -> 0 | AH19: =M19+N19+O19+P19+Q19+R19+S19 -> 0 | AI19: =G19 -> 0 | AJ19: =T19+U19 -> 0
A20: 1.12 | B20: Ð³Ýó³Ýù Ï³ï³ñ³Í ³ÝÓÇÝ µéÝ»Éáõ Ñ³Ù³ñ ³ÝÑñ³Å»ßï ÙÇçáóÝ»ñÇ ë³ÑÙ³Ý½³ÝóÙ³Ùµ ³éáÕçáõÃÛ³ÝÁ Í³Ýñ Ï³Ù ÙÇçÇÝ Í³ÝñáõÃÛ³Ý íÝ³ë å³ï×³é»ÉÁ | D20: 115 | E20: =SUM(Ajapnyak:Gexarquniq!E20) -> 0 | F20: =SUM(Ajapnyak:Gexarquniq!F20) -> 0 | G20: =SUM(Ajapnyak:Gexarquniq!G20) -> 0 | H20: =SUM(Ajapnyak:Gexarquniq!H20) -> 0 | I20: =SUM(Ajapnyak:Gexarquniq!I20) -> 0 | J20: =SUM(Ajapnyak:Gexarquniq!J20) -> 0 | K20: =SUM(Ajapnyak:Gexarquniq!K20) -> 0 | L20: =SUM(Ajapnyak:Gexarquniq!L20) -> 0 | ... AC20: =SUM(Ajapnyak:Gexarquniq!AC20) -> 0 | AD20: =SUM(T20:W20) -> 0 | AE20: =G20 -> 0 | AF20: =E20+F20 -> 0 | AG20: =T20 -> 0 | AH20: =M20+N20+O20+P20+Q20+R20+S20 -> 0 | AI20: =G20 -> 0 | AJ20: =T20+U20 -> 0
A21: 1.13 | B21: ²éáÕçáõÃÛ³ÝÁ Í³Ýñ Ï³Ù ÙÇçÇÝ Í³ÝñáõÃÛ³Ý íÝ³ë å³ï×³é»ÉÁ ³ÝÑñ³Å»ßï å³ßïå³ÝáõÃÛ³Ý ë³ÑÙ³Ý³Ý³½³ÝóÙ³Ùµ | D21: 116 | E21: =SUM(Ajapnyak:Gexarquniq!E21) -> 0 | F21: =SUM(Ajapnyak:Gexarquniq!F21) -> 0 | G21: =SUM(Ajapnyak:Gexarquniq!G21) -> 0 | H21: =SUM(Ajapnyak:Gexarquniq!H21) -> 0 | I21: =SUM(Ajapnyak:Gexarquniq!I21) -> 0 | J21: =SUM(Ajapnyak:Gexarquniq!J21) -> 0 | K21: =SUM(Ajapnyak:Gexarquniq!K21) -> 0 | L21: =SUM(Ajapnyak:Gexarquniq!L21) -> 0 | ... AC21: =SUM(Ajapnyak:Gexarquniq!AC21) -> 0 | AD21: =SUM(T21:W21) -> 0 | AE21: =G21 -> 0 | AF21: =E21+F21 -> 0 | AG21: =T21 -> 0 | AH21: =M21+N21+O21+P21+Q21+R21+S21 -> 0 | AI21: =G21 -> 0 | AJ21: =T21+U21 -> 0
A22: 1.14 | B22: ¸Çï³íáñáõÃÛ³Ùµ ³éáÕçáõÃÛ³ÝÁ Ã»Ã¨ íÝ³ë å³ï×³é»ÉÁ | D22: 117 | E22: =SUM(Ajapnyak:Gexarquniq!E22) -> 0 | F22: =SUM(Ajapnyak:Gexarquniq!F22) -> 0 | G22: =SUM(Ajapnyak:Gexarquniq!G22) -> 0 | H22: =SUM(Ajapnyak:Gexarquniq!H22) -> 0 | I22: =SUM(Ajapnyak:Gexarquniq!I22) -> 0 | J22: =SUM(Ajapnyak:Gexarquniq!J22) -> 0 | K22: =SUM(Ajapnyak:Gexarquniq!K22) -> 0 | L22: =SUM(Ajapnyak:Gexarquniq!L22) -> 0 | ... AC22: =SUM(Ajapnyak:Gexarquniq!AC22) -> 0 | AD22: =SUM(T22:W22) -> 0 | AE22: =G22 -> 0 | AF22: =E22+F22 -> 0 | AG22: =T22 -> 0 | AH22: =M22+N22+O22+P22+Q22+R22+S22 -> 0 | AI22: =G22 -> 0 | AJ22: =T22+U22 -> 0
A23: 1.15 | B23: Ì»ÍÁ | D23: 118 | E23: =SUM(Ajapnyak:Gexarquniq!E23) -> 0 | F23: =SUM(Ajapnyak:Gexarquniq!F23) -> 1 | G23: =SUM(Ajapnyak:Gexarquniq!G23) -> 1 | H23: =SUM(Ajapnyak:Gexarquniq!H23) -> 1 | I23: =SUM(Ajapnyak:Gexarquniq!I23) -> 1 | J23: =SUM(Ajapnyak:Gexarquniq!J23) -> 0 | K23: =SUM(Ajapnyak:Gexarquniq!K23) -> 0 | L23: =SUM(Ajapnyak:Gexarquniq!L23) -> 0 | ... AC23: =SUM(Ajapnyak:Gexarquniq!AC23) -> 0 | AD23: =SUM(T23:W23) -> 1 | AE23: =G23 -> 1 | AF23: =E23+F23 -> 1 | AG23: =T23 -> 0 | AH23: =M23+N23+O23+P23+Q23+R23+S23 -> 0 | AI23: =G23 -> 1 | AJ23: =T23+U23 -> 1
A24: 1.16 | B24: Êáßï³Ý·áõÙÁ | D24: 119 | E24: =SUM(Ajapnyak:Gexarquniq!E24) -> 0 | F24: =SUM(Ajapnyak:Gexarquniq!F24) -> 0 | G24: =SUM(Ajapnyak:Gexarquniq!G24) -> 0 | H24: =SUM(Ajapnyak:Gexarquniq!H24) -> 0 | I24: =SUM(Ajapnyak:Gexarquniq!I24) -> 0 | J24: =SUM(Ajapnyak:Gexarquniq!J24) -> 0 | K24: =SUM(Ajapnyak:Gexarquniq!K24) -> 0 | L24: =SUM(Ajapnyak:Gexarquniq!L24) -> 0 | ... AC24: =SUM(Ajapnyak:Gexarquniq!AC24) -> 0 | AD24: =SUM(T24:W24) -> 0 | AE24: =G24 -> 0 | AF24: =E24+F24 -> 0 | AG24: =T24 -> 0 | AH24: =M24+N24+O24+P24+Q24+R24+S24 -> 0 | AI24: =G24 -> 0 | AJ24: =T24+U24 -> 0
A25: 1.17 | B25: ²Ý½·áõßáõÃÛ³Ùµ ³éáÕçáõÃÛ³ÝÁ Í³Ýñ íÝ³ë å³ï×³é»ÉÁ | D25: 120 | E25: =SUM(Ajapnyak:Gexarquniq!E25) -> 0 | F25: =SUM(Ajapnyak:Gexarquniq!F25) -> 0 | G25: =SUM(Ajapnyak:Gexarquniq!G25) -> 0 | H25: =SUM(Ajapnyak:Gexarquniq!H25) -> 0 | I25: =SUM(Ajapnyak:Gexarquniq!I25) -> 0 | J25: =SUM(Ajapnyak:Gexarquniq!J25) -> 0 | K25: =SUM(Ajapnyak:Gexarquniq!K25) -> 0 | L25: =SUM(Ajapnyak:Gexarquniq!L25) -> 0 | ... AC25: =SUM(Ajapnyak:Gexarquniq!AC25) -> 0 | AD25: =SUM(T25:W25) -> 0 | AE25: =G25 -> 0 | AF25: =E25+F25 -> 0 | AG25: =T25 -> 0 | AH25: =M25+N25+O25+P25+Q25+R25+S25 -> 0 | AI25: =G25 -> 0 | AJ25: =T25+U25 -> 0
A26: 1.18 | B26: ²Ý½·áõßáõÃÛ³Ùµ ³éáÕçáõÃÛ³ÝÁ ÙÇçÇÝ Í³ÝñáõÃÛ³Ý íÝ³ë å³ï×³é»ÉÁ | D26: 121 | E26: =SUM(Ajapnyak:Gexarquniq!E26) -> 0 | F26: =SUM(Ajapnyak:Gexarquniq!F26) -> 0 | G26: =SUM(Ajapnyak:Gexarquniq!G26) -> 0 | H26: =SUM(Ajapnyak:Gexarquniq!H26) -> 0 | I26: =SUM(Ajapnyak:Gexarquniq!I26) -> 0 | J26: =SUM(Ajapnyak:Gexarquniq!J26) -> 0 | K26: =SUM(Ajapnyak:Gexarquniq!K26) -> 0 | L26: =SUM(Ajapnyak:Gexarquniq!L26) -> 0 | ... AC26: =SUM(Ajapnyak:Gexarquniq!AC26) -> 0 | AD26: =SUM(T26:W26) -> 0 | AE26: =G26 -> 0 | AF26: =E26+F26 -> 0 | AG26: =T26 -> 0 | AH26: =M26+N26+O26+P26+Q26+R26+S26 -> 0 | AI26: =G26 -> 0 | AJ26: =T26+U26 -> 0
A27: 1.19 | B27: ²åûñÇÝÇ ³µáñï Ï³ï³ñ»ÉÁ | D27: 122 | E27: =SUM(Ajapnyak:Gexarquniq!E27) -> 0 | F27: =SUM(Ajapnyak:Gexarquniq!F27) -> 0 | G27: =SUM(Ajapnyak:Gexarquniq!G27) -> 0 | H27: =SUM(Ajapnyak:Gexarquniq!H27) -> 0 | I27: =SUM(Ajapnyak:Gexarquniq!I27) -> 0 | J27: =SUM(Ajapnyak:Gexarquniq!J27) -> 0 | K27: =SUM(Ajapnyak:Gexarquniq!K27) -> 0 | L27: =SUM(Ajapnyak:Gexarquniq!L27) -> 0 | ... AC27: =SUM(Ajapnyak:Gexarquniq!AC27) -> 0 | AD27: =SUM(T27:W27) -> 0 | AE27: =G27 -> 0 | AF27: =E27+F27 -> 0 | AG27: =T27 -> 0 | AH27: =M27+N27+O27+P27+Q27+R27+S27 -> 0 | AI27: =G27 -> 0 | AJ27: =T27+U27 -> 0
A28: 1.20 | B28: Ø³ñ¹áõ ÇÙáõÝ³ÛÇÝ ³Ýµ³í³ñ³ñáõÃÛ³Ý íÇñáõëÇ Ñ³ñáõóÇãáí í³ñ³Ï»ÉÁ | D28: 123 | E28: =SUM(Ajapnyak:Gexarquniq!E28) -> 0 | F28: =SUM(Ajapnyak:Gexarquniq!F28) -> 0 | G28: =SUM(Ajapnyak:Gexarquniq!G28) -> 0 | H28: =SUM(Ajapnyak:Gexarquniq!H28) -> 0 | I28: =SUM(Ajapnyak:Gexarquniq!I28) -> 0 | J28: =SUM(Ajapnyak:Gexarquniq!J28) -> 0 | K28: =SUM(Ajapnyak:Gexarquniq!K28) -> 0 | L28: =SUM(Ajapnyak:Gexarquniq!L28) -> 0 | ... AC28: =SUM(Ajapnyak:Gexarquniq!AC28) -> 0 | AD28: =SUM(T28:W28) -> 0 | AE28: =G28 -> 0 | AF28: =E28+F28 -> 0 | AG28: =T28 -> 0 | AH28: =M28+N28+O28+P28+Q28+R28+S28 -> 0 | AI28: =G28 -> 0 | AJ28: =T28+U28 -> 0
A29: 1.21 | B29: ì»Ý»ñ³Ï³Ý ÑÇí³Ý¹áõÃÛ³Ùµ Ï³Ù ³ÛÉ ë»é³í³ñ³ÏÝ»ñáí í³ñ³Ï»ÉÁ | D29: 124 | E29: =SUM(Ajapnyak:Gexarquniq!E29) -> 0 | F29: =SUM(Ajapnyak:Gexarquniq!F29) -> 0 | G29: =SUM(Ajapnyak:Gexarquniq!G29) -> 0 | H29: =SUM(Ajapnyak:Gexarquniq!H29) -> 0 | I29: =SUM(Ajapnyak:Gexarquniq!I29) -> 0 | J29: =SUM(Ajapnyak:Gexarquniq!J29) -> 0 | K29: =SUM(Ajapnyak:Gexarquniq!K29) -> 0 | L29: =SUM(Ajapnyak:Gexarquniq!L29) -> 0 | ... AC29: =SUM(Ajapnyak:Gexarquniq!AC29) -> 0 | AD29: =SUM(T29:W29) -> 0 | AE29: =G29 -> 0 | AF29: =E29+F29 -> 0 | AG29: =T29 -> 0 | AH29: =M29+N29+O29+P29+Q29+R29+S29 -> 0 | AI29: =G29 -> 0 | AJ29: =T29+U29 -> 0
... A34: 1.27 | B34: ´ÅßÏ³Ï³Ý û·ÝáõÃÛáõÝ ¨ ëå³ë³ñÏáõÙ Çñ³Ï³Ý³óÝáÕÝ»ñÇ ÏáÕÙÇó Ù³ëÝ³·Çï³Ï³Ý å³ñï³Ï³ÝáõÃÛáõÝÝ»ñÁ ãÏ³ï³ñ»ÉÁ Ï³Ù áã å³ïß³× Ï³ï³ñ»ÉÁ | D34: 130 | E34: =SUM(Ajapnyak:Gexarquniq!E34) -> 0 | F34: =SUM(Ajapnyak:Gexarquniq!F34) -> 0 | G34: =SUM(Ajapnyak:Gexarquniq!G34) -> 0 | H34: =SUM(Ajapnyak:Gexarquniq!H34) -> 0 | I34: =SUM(Ajapnyak:Gexarquniq!I34) -> 0 | J34: =SUM(Ajapnyak:Gexarquniq!J34) -> 0 | K34: =SUM(Ajapnyak:Gexarquniq!K34) -> 0 | L34: =SUM(Ajapnyak:Gexarquniq!L34) -> 0 | ... AC34: =SUM(Ajapnyak:Gexarquniq!AC34) -> 0 | AD34: =SUM(T34:W34) -> 0 | AE34: =G34 -> 0 | AF34: =E34+F34 -> 0 | AG34: =T34 -> 0 | AH34: =M34+N34+O34+P34+Q34+R34+S34 -> 0 | AI34: =G34 -> 0 | AJ34: =T34+U34 -> 0
A35: 1.28 | B35: ²ÛÉ Ñ³Ýó³·áñÍáõÃÛáõÝÝ»ñ | E35: =SUM(Ajapnyak:Gexarquniq!E35) -> 0 | F35: =SUM(Ajapnyak:Gexarquniq!F35) -> 0 | G35: =SUM(Ajapnyak:Gexarquniq!G35) -> 0 | H35: =SUM(Ajapnyak:Gexarquniq!H35) -> 0 | I35: =SUM(Ajapnyak:Gexarquniq!I35) -> 0 | J35: =SUM(Ajapnyak:Gexarquniq!J35) -> 0 | K35: =SUM(Ajapnyak:Gexarquniq!K35) -> 0 | L35: =SUM(Ajapnyak:Gexarquniq!L35) -> 0 | ... AC35: =SUM(Ajapnyak:Gexarquniq!AC35) -> 0 | AD35: =SUM(T35:W35) -> 0 | AE35: =G35 -> 0 | AF35: =E35+F35 -> 0 | AG35: =T35 -> 0 | AH35: =M35+N35+O35+P35+Q35+R35+S35 -> 0 | AI35: =G35 -> 0 | AJ35: =T35+U35 -> 0
A36: 2. | B36: ÀÝ¹³Ù»ÝÁ ³ÝÓÇ ³½³ïáõÃÛ³Ý, å³ïíÇ ¨ ³ñÅ³Ý³å³ïíáõÃÛ³Ý ¹»Ù áõÕÕí³Í Ñ³Ýó³·áñÍáõÃÛáõÝÝ»ñÁ | E36: =SUM(Ajapnyak:Gexarquniq!E36) -> 0 | F36: =SUM(Ajapnyak:Gexarquniq!F36) -> 1 | G36: =SUM(Ajapnyak:Gexarquniq!G36) -> 1 | H36: =SUM(Ajapnyak:Gexarquniq!H36) -> 0 | I36: =SUM(Ajapnyak:Gexarquniq!I36) -> 1 | J36: =SUM(Ajapnyak:Gexarquniq!J36) -> 0 | K36: =SUM(Ajapnyak:Gexarquniq!K36) -> 0 | L36: =SUM(Ajapnyak:Gexarquniq!L36) -> 1 | ... AC36: =SUM(Ajapnyak:Gexarquniq!AC36) -> 0 | AD36: =SUM(T36:W36) -> 2 | AE36: =G36 -> 1 | AF36: =E36+F36 -> 1 | AG36: =T36 -> 1 | AH36: =M36+N36+O36+P36+Q36+R36+S36 -> 1 | AI36: =G36 -> 1 | AJ36: =T36+U36 -> 1
A37: 2.1 | B37: Ø³ñ¹áõÝ ³é¨³Ý·»ÉÁ | D37: 131 | E37: =SUM(Ajapnyak:Gexarquniq!E37) -> 0 | F37: =SUM(Ajapnyak:Gexarquniq!F37) -> 1 | G37: =SUM(Ajapnyak:Gexarquniq!G37) -> 1 | H37: =SUM(Ajapnyak:Gexarquniq!H37) -> 0 | I37: =SUM(Ajapnyak:Gexarquniq!I37) -> 1 | J37: =SUM(Ajapnyak:Gexarquniq!J37) -> 0 | K37: =SUM(Ajapnyak:Gexarquniq!K37) -> 0 | L37: =SUM(Ajapnyak:Gexarquniq!L37) -> 1 | ... AC37: =SUM(Ajapnyak:Gexarquniq!AC37) -> 0 | AD37: =SUM(T37:W37) -> 2 | AE37: =G37 -> 1 | AF37: =E37+F37 -> 1 | AG37: =T37 -> 1 | AH37: =M37+N37+O37+P37+Q37+R37+S37 -> 1 | AI37: =G37 -> 1 | AJ37: =T37+U37 -> 1
A38: 2.2 | B38: Þ³Ñ³·áñÍÙ³Ý Ýå³ï³Ïáí Ù³ñ¹áõÝ Ñ³í³ù³·ñ»ÉÁ, ÷áË³¹ñ»ÉÁ, Ñ³ÝÓÝ»ÉÁ, Ã³ùóÝ»ÉÁ Ï³Ù ëï³Ý³ÉÁ | D38: 132 | E38: =SUM(Ajapnyak:Gexarquniq!E38) -> 0 | F38: =SUM(Ajapnyak:Gexarquniq!F38) -> 0 | G38: =SUM(Ajapnyak:Gexarquniq!G38) -> 0 | H38: =SUM(Ajapnyak:Gexarquniq!H38) -> 0 | I38: =SUM(Ajapnyak:Gexarquniq!I38) -> 0 | J38: =SUM(Ajapnyak:Gexarquniq!J38) -> 0 | K38: =SUM(Ajapnyak:Gexarquniq!K38) -> 0 | L38: =SUM(Ajapnyak:Gexarquniq!L38) -> 0 | ... AC38: =SUM(Ajapnyak:Gexarquniq!AC38) -> 0 | AD38: =SUM(T38:W38) -> 0 | AE38: =G38 -> 0 | AF38: =E38+F38 -> 0 | AG38: =T38 -> 0 | AH38: =M38+N38+O38+P38+Q38+R38+S38 -> 0 | AI38: =G38 -> 0 | AJ38: =T38+U38 -> 0
A39: 2.2.1 | B39: Ø³ñ¹áõÝ åáéÝÇÏáõÃÛ³Ý Ï³Ù ë»é³Ï³Ý ß³Ñ³·áñÍÙ³Ý ³ÛÉ Ó¨»ñÇ Ù»ç, Ñ³ñÏ³¹Çñ ³ßË³ï³ÝùÇ Ï³Ù Í³é³ÛáõÃÛáõÝÝ»ñÇ Ý»ñ·ñ³í»ÉÁ Ï³Ù ëïñÏáõÃÛ³Ý Ï³Ù ëïñÏáõÃÛ³ÝÁ ÝÙ³ÝíáÕ íÇ×³ÏÇ Ù»ç ¹Ý»ÉÁ Ï³Ù å³Ñ»ÉÁ | D39: 132.1 | E39: =SUM(Ajapnyak:Gexarquniq!E39) -> 0 | F39: =SUM(Ajapnyak:Gexarquniq!F39) -> 0 | G39: =SUM(Ajapnyak:Gexarquniq!G39) -> 0 | H39: =SUM(Ajapnyak:Gexarquniq!H39) -> 0 | I39: =SUM(Ajapnyak:Gexarquniq!I39) -> 0 | J39: =SUM(Ajapnyak:Gexarquniq!J39) -> 0 | K39: =SUM(Ajapnyak:Gexarquniq!K39) -> 0 | L39: =SUM(Ajapnyak:Gexarquniq!L39) -> 0 | ... AC39: =SUM(Ajapnyak:Gexarquniq!AC39) -> 0 | AD39: =SUM(T39:W39) -> 0 | AE39: =G39 -> 0 | AF39: =E39+F39 -> 0 | AG39: =T39 -> 0 | AH39: =M39+N39+O39+P39+Q39+R39+S39 -> 0 | AI39: =G39 -> 0 | AJ39: =T39+U39 -> 0
A40: 2.3 | B40: ²½³ïáõÃÛáõÝÇó ³åûñÇÝÇ ½ñÏ»ÉÁ | D40: 133 | E40: =SUM(Ajapnyak:Gexarquniq!E40) -> 0 | F40: =SUM(Ajapnyak:Gexarquniq!F40) -> 0 | G40: =SUM(Ajapnyak:Gexarquniq!G40) -> 0 | H40: =SUM(Ajapnyak:Gexarquniq!H40) -> 0 | I40: =SUM(Ajapnyak:Gexarquniq!I40) -> 0 | J40: =SUM(Ajapnyak:Gexarquniq!J40) -> 0 | K40: =SUM(Ajapnyak:Gexarquniq!K40) -> 0 | L40: =SUM(Ajapnyak:Gexarquniq!L40) -> 0 | ... AC40: =SUM(Ajapnyak:Gexarquniq!AC40) -> 0 | AD40: =SUM(T40:W40) -> 0 | AE40: =G40 -> 0 | AF40: =E40+F40 -> 0 | AG40: =T40 -> 0 | AH40: =M40+N40+O40+P40+Q40+R40+S40 -> 0 | AI40: =G40 -> 0 | AJ40: =T40+U40 -> 0
A41: 2.4 | B41: Ðá·»µáõÅ³Ï³Ý ÑÇí³Ý¹³ÝáóáõÙ ³åûñÇÝÇ ï»Õ³íáñ»ÉÁ Ï³Ù å³Ñ»ÉÁ | D41: 134 | E41: =SUM(Ajapnyak:Gexarquniq!E41) -> 0 | F41: =SUM(Ajapnyak:Gexarquniq!F41) -> 0 | G41: =SUM(Ajapnyak:Gexarquniq!G41) -> 0 | H41: =SUM(Ajapnyak:Gexarquniq!H41) -> 0 | I41: =SUM(Ajapnyak:Gexarquniq!I41) -> 0 | J41: =SUM(Ajapnyak:Gexarquniq!J41) -> 0 | K41: =SUM(Ajapnyak:Gexarquniq!K41) -> 0 | L41: =SUM(Ajapnyak:Gexarquniq!L41) -> 0 | ... AC41: =SUM(Ajapnyak:Gexarquniq!AC41) -> 0 | AD41: =SUM(T41:W41) -> 0 | AE41: =G41 -> 0 | AF41: =E41+F41 -> 0 | AG41: =T41 -> 0 | AH41: =M41+N41+O41+P41+Q41+R41+S41 -> 0 | AI41: =G41 -> 0 | AJ41: =T41+U41 -> 0
A42: 2.7 | B42: êå³ÝáõÃÛ³Ý, ³éáÕçáõÃÛ³ÝÁ Í³Ýñ íÝ³ë å³ï×³é»Éáõ Ï³Ù ·áõÛù áãÝã³óÝ»Éáõ ëå³éÝ³ÉÇùÁ | D42: 137 | E42: =SUM(Ajapnyak:Gexarquniq!E42) -> 0 | F42: =SUM(Ajapnyak:Gexarquniq!F42) -> 0 | G42: =SUM(Ajapnyak:Gexarquniq!G42) -> 0 | H42: =SUM(Ajapnyak:Gexarquniq!H42) -> 0 | I42: =SUM(Ajapnyak:Gexarquniq!I42) -> 0 | J42: =SUM(Ajapnyak:Gexarquniq!J42) -> 0 | K42: =SUM(Ajapnyak:Gexarquniq!K42) -> 0 | L42: =SUM(Ajapnyak:Gexarquniq!L42) -> 0 | ... AC42: =SUM(Ajapnyak:Gexarquniq!AC42) -> 0 | AD42: =SUM(T42:W42) -> 0 | AE42: =G42 -> 0 | AF42: =E42+F42 -> 0 | AG42: =T42 -> 0 | AH42: =M42+N42+O42+P42+Q42+R42+S42 -> 0 | AI42: =G42 -> 0 | AJ42: =T42+U42 -> 0
A43: 2.8 | B43: ²ÛÉ Ñ³Ýó³·áñÍáõÃÛáõÝÝ»ñ | E43: =SUM(Ajapnyak:Gexarquniq!E43) -> 0 | F43: =SUM(Ajapnyak:Gexarquniq!F43) -> 0 | G43: =SUM(Ajapnyak:Gexarquniq!G43) -> 0 | H43: =SUM(Ajapnyak:Gexarquniq!H43) -> 0 | I43: =SUM(Ajapnyak:Gexarquniq!I43) -> 0 | J43: =SUM(Ajapnyak:Gexarquniq!J43) -> 0 | K43: =SUM(Ajapnyak:Gexarquniq!K43) -> 0 | L43: =SUM(Ajapnyak:Gexarquniq!L43) -> 0 | ... AC43: =SUM(Ajapnyak:Gexarquniq!AC43) -> 0 | AD43: =SUM(T43:W43) -> 0 | AE43: =G43 -> 0 | AF43: =E43+F43 -> 0 | AG43: =T43 -> 0 | AH43: =M43+N43+O43+P43+Q43+R43+S43 -> 0 | AI43: =G43 -> 0 | AJ43: =T43+U43 -> 0
A44: 3. | B44: ÀÝ¹³Ù»ÝÁ ë»é³Ï³Ý ³ÝÓ»éÝÙË»ÉÇáõÃÛ³Ý ¨ ë»é³Ï³Ý ³½³ïáõÃÛ³Ý ¹»Ù áõÕÕí³Í Ñ³Ýó³·áñÍáõÃÛáõÝÝ»ñÁ | E44: =SUM(Ajapnyak:Gexarquniq!E44) -> 0 | F44: =SUM(Ajapnyak:Gexarquniq!F44) -> 0 | G44: =SUM(Ajapnyak:Gexarquniq!G44) -> 0 | H44: =SUM(Ajapnyak:Gexarquniq!H44) -> 0 | I44: =SUM(Ajapnyak:Gexarquniq!I44) -> 0 | J44: =SUM(Ajapnyak:Gexarquniq!J44) -> 0 | K44: =SUM(Ajapnyak:Gexarquniq!K44) -> 0 | L44: =SUM(Ajapnyak:Gexarquniq!L44) -> 0 | ... AC44: =SUM(Ajapnyak:Gexarquniq!AC44) -> 0 | AD44: =SUM(T44:W44) -> 0 | AE44: =G44 -> 0 | AF44: =E44+F44 -> 0 | AG44: =T44 -> 0 | AH44: =M44+N44+O44+P44+Q44+R44+S44 -> 0 | AI44: =G44 -> 0 | AJ44: =T44+U44 -> 0
...

Sheet Ajapnyak
A1: Ð²ÞìºîìàôÂÚàôÜ
A2: ²Üâ²ö²Ð²ê ¸²î²ä²ðîÚ²ÈÜºðÆ ìºð²´ºðÚ²È | Y2: 2016Ã.
A3: ìÇ×³Ï³·ñ³Ï³Ý ïáÕÇ Ñ³Ù³ñÁ | B3: Ð²Üò²¶àðÌàôÂÚàôÜÜºðÆ îºê²ÎÜºðÀ | D3: ÐÐ øñ»³Ï³Ý ûñ»Ýë·ñùÇ Ñá¹í³ÍÁ | E3: Ð³Ýó³·áñÍáõÃÛáõÝÁ Ï³ï³ñ»É »Ý | H3: Ýñ³ÝóÇó | M3: ¸³ï³å³ñïÛ³ÉÝ»ñÇ ÝÏ³ïÙ³Ùµ Ýß³Ý³Ïí³Í ÑÇÙÝ³Ï³Ý å³ïÇÅÝ»ñ | V3: Ýß³Ý³Ïí³Í å³ïÇÅÁ å³ÛÙ³Ý³Ï³Ýáñ»Ý ãÇ ÏÇñ³éí»É | W3: ÏÇñ³éí»É ¿ Ñ³Ù³Ý»ñÙ³Ý ³Ïï | X3: ÎÇñ³éí»É »Ý ¹³ëïÇ³ñ³Ïã³Ï³Ý µÝáõÛÃÇ Ñ³ñÏ³¹ñ³ÝùÇ ÙÇçáó | Y3: ²ÝÓ³Ýó ÃÇíÁ, áñáÝù ÙÇÝã¨ í»ñçÇÝ Ñ³Ýó³·áñÍáõÃÛáõÝÁ Ï³ï³ñ»ÉÁ
E4: 14-16 ï³ñ»Ï³ÝáõÙ | F4: 16-18 ï³ñ»Ï³ÝáõÙ | G4: ÀÝ¹³Ù»ÝÁ | H4: ³ÕçÇÏÝ»ñ | I4: ã»Ý ³ßË³ï»É, ã»Ý ëáíáñ»É | J4: ³ÝÓÇÝù, áñáÝù Ñ³Ýó³·áñÍáõÃÛáõÝÁ Ï³ï³ñ»É »Ý | M4: ² ½ ³ ï ³ ½ ñ Ï áõ Ù | U4: ³ÛÉ å³ïÇÅÝ»ñ | Y4: ·ïÝí»É »Ý áëïÇÏ³ÝáõÃÛ³Ý Ù³ñÙÇÝÝ»ñáõÙ Ñ³ßí³éÙ³Ý Ù»ç | Z4: Ï³ï³ñ»É »Ý Ñ³Ýó³·áñÍáõÃÛáõÝ ¨ »Õ»É »Ý
Z5: ³½³ïí³Í ùñ»³Ï³Ý å³ï³ëË³Ý³ïíáõÃÛáõÝÇó | AA5: ¹³ï³å³ñïí³Í | AB5: ²Û¹ ÃíáõÙ
B6: êîàô¶Æâ Ð²ì²ê²ðàôØÜºð 3=1+2, 16=9+10+11+12+13+14+15, 3=16+17+18+19 | J6: ³ÉÏ., ÃÙñ³ÙÇç. Ï³Ù ÃÝñ»óÝáÕ ³ÛÉ ÝÛáõÃ»ñÇ ³½¹»óáõÃÛ³Ý ï³Ï | K6: ØÇ ËáõÙµ ³ÝÓ³Ýó Ï³½ÙáõÙ | L6: ³Û¹ ÃíáõÙª Ù»Í³Ñ³ë³ÏÝ»ñÇ Ù³ëÝ³ÏóáõÃÛ³Ùµ | M6: 1 ï³ñÇ Ý»ñ³éÛ³É | N6: 1 ï³ñáõó ³í»É, ÙÇÝã¨ 2 ï³ñÇ Ý»ñ³éÛ³É | O6: 2 ï³ñáõó ³í»É, ÙÇÝã¨ 3 ï³ñÇ Ý»ñ³éÛ³É | P6: 3 ï³ñáõó ³í»É, ÙÇÝã¨ 5 ï³ñÇ Ý»ñ³éÛ³É | Q6: 5 ï³ñáõó ³í»É, ÙÇÝã¨ 8 ï³ñÇ Ý»ñ³éÛ³É | R6: 8 ï³ñáõó ³í»É, ÙÇÝã¨ 10 ï³ñÇ Ý»ñ³éÛ³É | S6: 10 ï³ñáõó ³í»É, ÙÇÝã¨ 12ï³ñÇ Ý»ñ³éÛ³É | T6: ÁÝ¹³Ù»ÝÁ | AB6: ¹³ï³í×éÇ Ï³ï³ñÙ³Ý Ñ»ï³Ó·áõÙáí | AC6: å³ÛÙ³Ý³Ï³Ý ¹³ï³å³ñïáõÃÛáõÝ
E7: 1 | F7: 2 | G7: 3 | H7: 4 | I7: 5 | J7: 6 | K7: 7 | L7: 8 | M7: 9 | N7: 10 | O7: 11 | P7: 12 | Q7: 13 | R7: 14 | S7: 15 | T7: 16 | U7: 17 | V7: 18 | W7: 19 | X7: 20 | Y7: 21 | Z7: 22 | AA7: 23 | AB7: 24 | AC7: 25 | AE7: 3=1+2 | AG7: 16=9+10+11+12+13+14+15 | AI7: 3=16+17
A8: 1. | B8: ÀÝ¹³Ù»ÝÁ ÏÛ³ÝùÇ ¨ ³éáÕçáõÃÛ³Ý ¹»Ù áõÕÕí³Í Ñ³Ýó³·áñÍáõÃÛáõÝÝ»ñÁ | E8: =SUM(E9:E35) -> 0 | F8: =SUM(F9:F35) -> 1 | G8: =SUM(G9:G35) -> 1 | H8: =SUM(H9:H35) -> 0 | I8: =SUM(I9:I35) -> 0 | J8: =SUM(J9:J35) -> 0 | K8: =SUM(K9:K35) -> 0 | L8: =SUM(L9:L35) -> 0 | ... AC8: =SUM(AC9:AC35) -> 0 | AD8: =SUM(T8:W8) -> 2 | AE8: =G8 -> 1 | AF8: =E8+F8 -> 1 | AG8: =T8 -> 1 | AH8: =M8+N8+O8+P8+Q8+R8+S8 -> 1 | AI8: =G8 -> 1 | AJ8: =T8+U8 -> 1
A9: 1.1 | B9: êå³ÝáõÃÛáõÝÁ | D9: 104 | AD9: =SUM(T9:W9) -> 0 | AE9: =G9 -> 0 | AF9: =E9+F9 -> 0 | AG9: =T9 -> 0 | AH9: =M9+N9+O9+P9+Q9+R9+S9 -> 0 | AI9: =G9 -> 0 | AJ9: =T9+U9 -> 0
A10: 1.2 | B10: Ðá·»Ï³Ý ËÇëï Ñáõ½ÙáõÝùÇ íÇ×³ÏáõÙ Ï³ï³ñí³Í ëå³ÝáõÃÛáõÝÁ | D10: 105 | AD10: =SUM(T10:W10) -> 0 | AE10: =G10 -> 0 | AF10: =E10+F10 -> 0 | AG10: =T10 -> 0 | AH10: =M10+N10+O10+P10+Q10+R10+S10 -> 0 | AI10: =G10 -> 0 | AJ10: =T10+U10 -> 0
A11: 1.3 | B11: Øáñ ÏáÕÙÇó Ýáñ³ÍÇÝ »ñ»Ë³ÛÇ ëå³ÝáõÃÛáõÝÁ | D11: 106 | AD11: =SUM(T11:W11) -> 0 | AE11: =G11 -> 0 | AF11: =E11+F11 -> 0 | AG11: =T11 -> 0 | AH11: =M11+N11+O11+P11+Q11+R11+S11 -> 0 | AI11: =G11 -> 0 | AJ11: =T11+U11 -> 0
A12: 1.4 | B12: Ð³Ýó³Ýù Ï³ï³ñ³Í ³ÝÓÇÝ µéÝ»Éáõ Ñ³Ù³ñ ³ÝÑñ³Å»ßï ÙÇçáóÝ»ñÇ ë³ÑÙ³Ý³½³ÝóÙ³Ùµ ëå³ÝáõÃÛáõÝÁ | D12: 107 | AD12: =SUM(T12:W12) -> 0 | AE12: =G12 -> 0 | AF12: =E12+F12 -> 0 | AG12: =T12 -> 0 | AH12: =M12+N12+O12+P12+Q12+R12+S12 -> 0 | AI12: =G12 -> 0 | AJ12: =T12+U12 -> 0
A13: 1.5 | B13: ²ÝÑñ³Å»ßï å³ßïå³ÝáõÃÛ³Ý ë³ÑÙ³Ý³½³ÝóÙ³Ùµ ëå³ÝáõÃÛáõÝÁ | D13: 108 | AD13: =SUM(T13:W13) -> 0 | AE13: =G13 -> 0 | AF13: =E13+F13 -> 0 | AG13: =T13 -> 0 | AH13: =M13+N13+O13+P13+Q13+R13+S13 -> 0 | AI13: =G13 -> 0 | AJ13: =T13+U13 -> 0
A14: 1.6 | B14: ²Ý½·áõßáõÃÛ³Ùµ Ù³Ñ å³ï×³é»ÉÁ | D14: 109 | AD14: =SUM(T14:W14) -> 0 | AE14: =G14 -> 0 | AF14: =E14+F14 -> 0 | AG14: =T14 -> 0 | AH14: =M14+N14+O14+P14+Q14+R14+S14 -> 0 | AI14: =G14 -> 0 | AJ14: =T14+U14 -> 0
A15: 1.7 | B15: ÆÝùÝ³ëå³ÝáõÃÛ³Ý Ñ³ëóÝ»ÉÁ | D15: 110 | AD15: =SUM(T15:W15) -> 0 | AE15: =G15 -> 0 | AF15: =E15+F15 -> 0 | AG15: =T15 -> 0 | AH15: =M15+N15+O15+P15+Q15+R15+S15 -> 0 | AI15: =G15 -> 0 | AJ15: =T15+U15 -> 0
A16: 1.8 | B16: ÆÝùÝ³ëå³ÝáõÃÛ³Ý Ñ³Ï»ÉÁ | D16: 111 | AD16: =SUM(T16:W16) -> 0 | AE16: =G16 -> 0 | AF16: =E16+F16 -> 0 | AG16: =T16 -> 0 | AH16: =M16+N16+O16+P16+Q16+R16+S16 -> 0 | AI16: =G16 -> 0 | AJ16: =T16+U16 -> 0
A17: 1.9 | B17: ¸Çï³íáñáõÃÛ³Ùµ ³éáÕçáõÃÛ³ÝÁ Í³Ýñ íÝ³ë å³ï×³é»ÉÁ | D17: 112 | F17: 1 | G17: 1 | O17: 1 | T17: 1 | V17: 1 | AD17: =SUM(T17:W17) -> 2 | AE17: =G17 -> 1 | AF17: =E17+F17 -> 1 | AG17: =T17 -> 1 | AH17: =M17+N17+O17+P17+Q17+R17+S17 -> 1 | AI17: =G17 -> 1 | AJ17: =T17+U17 -> 1
A18: 1.10 | B18: ¸Çï³íáñáõÃÛ³Ùµ ³éáÕçáõÃÛ³ÝÁ ÙÇçÇÝ Í³ÝñáõÃÛ³Ý íÝ³ë å³ï×³é»ÉÁ | D18: 113 | AD18: =SUM(T18:W18) -> 0 | AE18: =G18 -> 0 | AF18: =E18+F18 -> 0 | AG18: =T18 -> 0 | AH18: =M18+N18+O18+P18+Q18+R18+S18 -> 0 | AI18: =G18 -> 0 | AJ18: =T18+U18 -> 0
A19: 1.11 | B19: Ðá·»Ï³Ý ËÇëï Ñáõ½ÙáõÝùÇ íÇ×³ÏáõÙ ³éáÕçáõÃÛ³ÝÁ Í³Ýñ Ï³Ù ÙÇçÇÝ Í³ÝñáõÃÛ³Ý íÝ³ë å³ï×³é»ÉÁ | D19: 114 | AD19: =SUM(T19:W19) -> 0 | AE19: =G19 -> 0 | AF19: =E19+F19 -> 0 | AG19: =T19 -> 0 | AH19: =M19+N19+O19+P19+Q19+R19+S19 -> 0 | AI19: =G19 -> 0 | AJ19: =T19+U19 -> 0
A20: 1.12 | B20: Ð³Ýó³Ýù Ï³ï³ñ³Í ³ÝÓÇÝ µéÝ»Éáõ Ñ³Ù³ñ ³ÝÑñ³Å»ßï ÙÇçáóÝ»ñÇ ë³ÑÙ³Ý½³ÝóÙ³Ùµ ³éáÕçáõÃÛ³ÝÁ Í³Ýñ Ï³Ù ÙÇçÇÝ Í³ÝñáõÃÛ³Ý íÝ³ë å³ï×³é»ÉÁ | D20: 115 | AD20: =SUM(T20:W20) -> 0 | AE20: =G20 -> 0 | AF20: =E20+F20 -> 0 | AG20: =T20 -> 0 | AH20: =M20+N20+O20+P20+Q20+R20+S20 -> 0 | AI20: =G20 -> 0 | AJ20: =T20+U20 -> 0
A21: 1.13 | B21: ²éáÕçáõÃÛ³ÝÁ Í³Ýñ Ï³Ù ÙÇçÇÝ Í³ÝñáõÃÛ³Ý íÝ³ë å³ï×³é»ÉÁ ³ÝÑñ³Å»ßï å³ßïå³ÝáõÃÛ³Ý ë³ÑÙ³Ý³Ý³½³ÝóÙ³Ùµ | D21: 116 | AD21: =SUM(T21:W21) -> 0 | AE21: =G21 -> 0 | AF21: =E21+F21 -> 0 | AG21: =T21 -> 0 | AH21: =M21+N21+O21+P21+Q21+R21+S21 -> 0 | AI21: =G21 -> 0 | AJ21: =T21+U21 -> 0
A22: 1.14 | B22: ¸Çï³íáñáõÃÛ³Ùµ ³éáÕçáõÃÛ³ÝÁ Ã»Ã¨ íÝ³ë å³ï×³é»ÉÁ | D22: 117 | AD22: =SUM(T22:W22) -> 0 | AE22: =G22 -> 0 | AF22: =E22+F22 -> 0 | AG22: =T22 -> 0 | AH22: =M22+N22+O22+P22+Q22+R22+S22 -> 0 | AI22: =G22 -> 0 | AJ22: =T22+U22 -> 0
A23: 1.15 | B23: Ì»ÍÁ | D23: 118 | AD23: =SUM(T23:W23) -> 0 | AE23: =G23 -> 0 | AF23: =E23+F23 -> 0 | AG23: =T23 -> 0 | AH23: =M23+N23+O23+P23+Q23+R23+S23 -> 0 | AI23: =G23 -> 0 | AJ23: =T23+U23 -> 0
A24: 1.16 | B24: Êáßï³Ý·áõÙÁ | D24: 119 | AD24: =SUM(T24:W24) -> 0 | AE24: =G24 -> 0 | AF24: =E24+F24 -> 0 | AG24: =T24 -> 0 | AH24: =M24+N24+O24+P24+Q24+R24+S24 -> 0 | AI24: =G24 -> 0 | AJ24: =T24+U24 -> 0
A25: 1.17 | B25: ²Ý½·áõßáõÃÛ³Ùµ ³éáÕçáõÃÛ³ÝÁ Í³Ýñ íÝ³ë å³ï×³é»ÉÁ | D25: 120 | AD25: =SUM(T25:W25) -> 0 | AE25: =G25 -> 0 | AF25: =E25+F25 -> 0 | AG25: =T25 -> 0 | AH25: =M25+N25+O25+P25+Q25+R25+S25 -> 0 | AI25: =G25 -> 0 | AJ25: =T25+U25 -> 0
A26: 1.18 | B26: ²Ý½·áõßáõÃÛ³Ùµ ³éáÕçáõÃÛ³ÝÁ ÙÇçÇÝ Í³ÝñáõÃÛ³Ý íÝ³ë å³ï×³é»ÉÁ | D26: 121 | AD26: =SUM(T26:W26) -> 0 | AE26: =G26 -> 0 | AF26: =E26+F26 -> 0 | AG26: =T26 -> 0 | AH26: =M26+N26+O26+P26+Q26+R26+S26 -> 0 | AI26: =G26 -> 0 | AJ26: =T26+U26 -> 0
A27: 1.19 | B27: ²åûñÇÝÇ ³µáñï Ï³ï³ñ»ÉÁ | D27: 122 | AD27: =SUM(T27:W27) -> 0 | AE27: =G27 -> 0 | AF27: =E27+F27 -> 0 | AG27: =T27 -> 0 | AH27: =M27+N27+O27+P27+Q27+R27+S27 -> 0 | AI27: =G27 -> 0 | AJ27: =T27+U27 -> 0
A28: 1.20 | B28: Ø³ñ¹áõ ÇÙáõÝ³ÛÇÝ ³Ýµ³í³ñ³ñáõÃÛ³Ý íÇñáõëÇ Ñ³ñáõóÇãáí í³ñ³Ï»ÉÁ | D28: 123 | AD28: =SUM(T28:W28) -> 0 | AE28: =G28 -> 0 | AF28: =E28+F28 -> 0 | AG28: =T28 -> 0 | AH28: =M28+N28+O28+P28+Q28+R28+S28 -> 0 | AI28: =G28 -> 0 | AJ28: =T28+U28 -> 0
A29: 1.21 | B29: ì»Ý»ñ³Ï³Ý ÑÇí³Ý¹áõÃÛ³Ùµ Ï³Ù ³ÛÉ ë»é³í³ñ³ÏÝ»ñáí í³ñ³Ï»ÉÁ | D29: 124 | AD29: =SUM(T29:W29) -> 0 | AE29: =G29 -> 0 | AF29: =E29+F29 -> 0 | AG29: =T29 -> 0 | AH29: =M29+N29+O29+P29+Q29+R29+S29 -> 0 | AI29: =G29 -> 0 | AJ29: =T29+U29 -> 0
... A34: 1.27 | B34: ´ÅßÏ³Ï³Ý û·ÝáõÃÛáõÝ ¨ ëå³ë³ñÏáõÙ Çñ³Ï³Ý³óÝáÕÝ»ñÇ ÏáÕÙÇó Ù³ëÝ³·Çï³Ï³Ý å³ñï³Ï³ÝáõÃÛáõÝÝ»ñÁ ãÏ³ï³ñ»ÉÁ Ï³Ù áã å³ïß³× Ï³ï³ñ»ÉÁ | D34: 130 | AD34: =SUM(T34:W34) -> 0 | AE34: =G34 -> 0 | AF34: =E34+F34 -> 0 | AG34: =T34 -> 0 | AH34: =M34+N34+O34+P34+Q34+R34+S34 -> 0 | AI34: =G34 -> 0 | AJ34: =T34+U34 -> 0
A35: 1.28 | B35: ²ÛÉ Ñ³Ýó³·áñÍáõÃÛáõÝÝ»ñ | AD35: =SUM(T35:W35) -> 0 | AE35: =G35 -> 0 | AF35: =E35+F35 -> 0 | AG35: =T35 -> 0 | AH35: =M35+N35+O35+P35+Q35+R35+S35 -> 0 | AI35: =G35 -> 0 | AJ35: =T35+U35 -> 0
A36: 2. | B36: ÀÝ¹³Ù»ÝÁ ³ÝÓÇ ³½³ïáõÃÛ³Ý, å³ïíÇ ¨ ³ñÅ³Ý³å³ïíáõÃÛ³Ý ¹»Ù áõÕÕí³Í Ñ³Ýó³·áñÍáõÃÛáõÝÝ»ñÁ | E36: =SUM(E37:E43) -> 0 | F36: =SUM(F37:F43) -> 0 | G36: =SUM(G37:G43) -> 0 | H36: =SUM(H37:H43) -> 0 | I36: =SUM(I37:I43) -> 0 | J36: =SUM(J37:J43) -> 0 | K36: =SUM(K37:K43) -> 0 | L36: =SUM(L37:L43) -> 0 | ... AC36: =SUM(AC37:AC43) -> 0 | AD36: =SUM(T36:W36) -> 0 | AE36: =G36 -> 0 | AF36: =E36+F36 -> 0 | AG36: =T36 -> 0 | AH36: =M36+N36+O36+P36+Q36+R36+S36 -> 0 | AI36: =G36 -> 0 | AJ36: =T36+U36 -> 0
A37: 2.1 | B37: Ø³ñ¹áõÝ ³é¨³Ý·»ÉÁ | D37: 131 | AD37: =SUM(T37:W37) -> 0 | AE37: =G37 -> 0 | AF37: =E37+F37 -> 0 | AG37: =T37 -> 0 | AH37: =M37+N37+O37+P37+Q37+R37+S37 -> 0 | AI37: =G37 -> 0 | AJ37: =T37+U37 -> 0
A38: 2.2 | B38: Þ³Ñ³·áñÍÙ³Ý Ýå³ï³Ïáí Ù³ñ¹áõÝ Ñ³í³ù³·ñ»ÉÁ, ÷áË³¹ñ»ÉÁ, Ñ³ÝÓÝ»ÉÁ, Ã³ùóÝ»ÉÁ Ï³Ù ëï³Ý³ÉÁ | D38: 132 | AD38: =SUM(T38:W38) -> 0 | AE38: =G38 -> 0 | AF38: =E38+F38 -> 0 | AG38: =T38 -> 0 | AH38: =M38+N38+O38+P38+Q38+R38+S38 -> 0 | AI38: =G38 -> 0 | AJ38: =T38+U38 -> 0
A39: 2.2.1 | B39: Ø³ñ¹áõÝ åáéÝÇÏáõÃÛ³Ý Ï³Ù ë»é³Ï³Ý ß³Ñ³·áñÍÙ³Ý ³ÛÉ Ó¨»ñÇ Ù»ç, Ñ³ñÏ³¹Çñ ³ßË³ï³ÝùÇ Ï³Ù Í³é³ÛáõÃÛáõÝÝ»ñÇ Ý»ñ·ñ³í»ÉÁ Ï³Ù ëïñÏáõÃÛ³Ý Ï³Ù ëïñÏáõÃÛ³ÝÁ ÝÙ³ÝíáÕ íÇ×³ÏÇ Ù»ç ¹Ý»ÉÁ Ï³Ù å³Ñ»ÉÁ | D39: 132.1 | AD39: =SUM(T39:W39) -> 0 | AE39: =G39 -> 0 | AF39: =E39+F39 -> 0 | AG39: =T39 -> 0 | AH39: =M39+N39+O39+P39+Q39+R39+S39 -> 0 | AI39: =G39 -> 0 | AJ39: =T39+U39 -> 0
A40: 2.3 | B40: ²½³ïáõÃÛáõÝÇó ³åûñÇÝÇ ½ñÏ»ÉÁ | D40: 133 | AD40: =SUM(T40:W40) -> 0 | AE40: =G40 -> 0 | AF40: =E40+F40 -> 0 | AG40: =T40 -> 0 | AH40: =M40+N40+O40+P40+Q40+R40+S40 -> 0 | AI40: =G40 -> 0 | AJ40: =T40+U40 -> 0
A41: 2.4 | B41: Ðá·»µáõÅ³Ï³Ý ÑÇí³Ý¹³ÝáóáõÙ ³åûñÇÝÇ ï»Õ³íáñ»ÉÁ Ï³Ù å³Ñ»ÉÁ | D41: 134 | AD41: =SUM(T41:W41) -> 0 | AE41: =G41 -> 0 | AF41: =E41+F41 -> 0 | AG41: =T41 -> 0 | AH41: =M41+N41+O41+P41+Q41+R41+S41 -> 0 | AI41: =G41 -> 0 | AJ41: =T41+U41 -> 0
A42: 2.7 | B42: êå³ÝáõÃÛ³Ý, ³éáÕçáõÃÛ³ÝÁ Í³Ýñ íÝ³ë å³ï×³é»Éáõ Ï³Ù ·áõÛù áãÝã³óÝ»Éáõ ëå³éÝ³ÉÇùÁ | D42: 137 | AD42: =SUM(T42:W42) -> 0 | AE42: =G42 -> 0 | AF42: =E42+F42 -> 0 | AG42: =T42 -> 0 | AH42: =M42+N42+O42+P42+Q42+R42+S42 -> 0 | AI42: =G42 -> 0 | AJ42: =T42+U42 -> 0
A43: 2.8 | B43: ²ÛÉ Ñ³Ýó³·áñÍáõÃÛáõÝÝ»ñ | AD43: =SUM(T43:W43) -> 0 | AE43: =G43 -> 0 | AF43: =E43+F43 -> 0 | AG43: =T43 -> 0 | AH43: =M43+N43+O43+P43+Q43+R43+S43 -> 0 | AI43: =G43 -> 0 | AJ43: =T43+U43 -> 0
A44: 3. | B44: ÀÝ¹³Ù»ÝÁ ë»é³Ï³Ý ³ÝÓ»éÝÙË»ÉÇáõÃÛ³Ý ¨ ë»é³Ï³Ý ³½³ïáõÃÛ³Ý ¹»Ù áõÕÕí³Í Ñ³Ýó³·áñÍáõÃÛáõÝÝ»ñÁ | E44: =SUM(E45:E50) -> 0 | F44: =SUM(F45:F50) -> 0 | G44: =SUM(G45:G50) -> 0 | H44: =SUM(H45:H50) -> 0 | I44: =SUM(I45:I50) -> 0 | J44: =SUM(J45:J50) -> 0 | K44: =SUM(K45:K50) -> 0 | L44: =SUM(L45:L50) -> 0 | ... AC44: =SUM(AC45:AC50) -> 0 | AD44: =SUM(T44:W44) -> 0 | AE44: =G44 -> 0 | AF44: =E44+F44 -> 0 | AG44: =T44 -> 0 | AH44: =M44+N44+O44+P44+Q44+R44+S44 -> 0 | AI44: =G44 -> 0 | AJ44: =T44+U44 -> 0
...

Sheet Shengavit
A1: Ð²ÞìºîìàôÂÚàôÜ
A2: ²Üâ²ö²Ð²ê ¸²î²ä²ðîÚ²ÈÜºðÆ ìºð²´ºðÚ²È | Y2: 2016Ã.
A3: ìÇ×³Ï³·ñ³Ï³Ý ïáÕÇ Ñ³Ù³ñÁ | B3: Ð²Üò²¶àðÌàôÂÚàôÜÜºðÆ îºê²ÎÜºðÀ | D3: ÐÐ øñ»³Ï³Ý ûñ»Ýë·ñùÇ Ñá¹í³ÍÁ | E3: Ð³Ýó³·áñÍáõÃÛáõÝÁ Ï³ï³ñ»É »Ý | H3: Ýñ³ÝóÇó | M3: ¸³ï³å³ñïÛ³ÉÝ»ñÇ ÝÏ³ïÙ³Ùµ Ýß³Ý³Ïí³Í ÑÇÙÝ³Ï³Ý å³ïÇÅÝ»ñ | V3: Ýß³Ý³Ïí³Í å³ïÇÅÁ å³ÛÙ³Ý³Ï³Ýáñ»Ý ãÇ ÏÇñ³éí»É | W3: ÏÇñ³éí»É ¿ Ñ³Ù³Ý»ñÙ³Ý ³Ïï | X3: ÎÇñ³éí»É »Ý ¹³ëïÇ³ñ³Ïã³Ï³Ý µÝáõÛÃÇ Ñ³ñÏ³¹ñ³ÝùÇ ÙÇçáó | Y3: ²ÝÓ³Ýó ÃÇíÁ, áñáÝù ÙÇÝã¨ í»ñçÇÝ Ñ³Ýó³·áñÍáõÃÛáõÝÁ Ï³ï³ñ»ÉÁ
E4: 14-16 ï³ñ»Ï³ÝáõÙ | F4: 16-18 ï³ñ»Ï³ÝáõÙ | G4: ÀÝ¹³Ù»ÝÁ | H4: ³ÕçÇÏÝ»ñ | I4: ã»Ý ³ßË³ï»É, ã»Ý ëáíáñ»É | J4: ³ÝÓÇÝù, áñáÝù Ñ³Ýó³·áñÍáõÃÛáõÝÁ Ï³ï³ñ»É »Ý | M4: ² ½ ³ ï ³ ½ ñ Ï áõ Ù | U4: ³ÛÉ å³ïÇÅÝ»ñ | Y4: ·ïÝí»É »Ý áëïÇÏ³ÝáõÃÛ³Ý Ù³ñÙÇÝÝ»ñáõÙ Ñ³ßí³éÙ³Ý Ù»ç | Z4: Ï³ï³ñ»É »Ý Ñ³Ýó³·áñÍáõÃÛáõÝ ¨ »Õ»É »Ý
Z5: ³½³ïí³Í ùñ»³Ï³Ý å³ï³ëË³Ý³ïíáõÃÛáõÝÇó | AA5: ¹³ï³å³ñïí³Í | AB5: ²Û¹ ÃíáõÙ
B6: êîàô¶Æâ Ð²ì²ê²ðàôØÜºð 3=1+2, 16=9+10+11+12+13+14+15, 3=16+17+18+19 | J6: ³ÉÏ., ÃÙñ³ÙÇç. Ï³Ù ÃÝñ»óÝáÕ ³ÛÉ ÝÛáõÃ»ñÇ ³½¹»óáõÃÛ³Ý ï³Ï | K6: ØÇ ËáõÙµ ³ÝÓ³Ýó Ï³½ÙáõÙ | L6: ³Û¹ ÃíáõÙª Ù»Í³Ñ³ë³ÏÝ»ñÇ Ù³ëÝ³ÏóáõÃÛ³Ùµ | M6: 1 ï³ñÇ Ý»ñ³éÛ³É | N6: 1 ï³ñáõó ³í»É, ÙÇÝã¨ 2 ï³ñÇ Ý»ñ³éÛ³É | O6: 2 ï³ñáõó ³í»É, ÙÇÝã¨ 3 ï³ñÇ Ý»ñ³éÛ³É | P6: 3 ï³ñáõó ³í»É, ÙÇÝã¨ 5 ï³ñÇ Ý»ñ³éÛ³É | Q6: 5 ï³ñáõó ³í»É, ÙÇÝã¨ 8 ï³ñÇ Ý»ñ³éÛ³É | R6: 8 ï³ñáõó ³í»É, ÙÇÝã¨ 10 ï³ñÇ Ý»ñ³éÛ³É | S6: 10 ï³ñáõó ³í»É, ÙÇÝã¨ 12ï³ñÇ Ý»ñ³éÛ³É | T6: ÁÝ¹³Ù»ÝÁ | AB6: ¹³ï³í×éÇ Ï³ï³ñÙ³Ý Ñ»ï³Ó·áõÙáí | AC6: å³ÛÙ³Ý³Ï³Ý ¹³ï³å³ñïáõÃÛáõÝ
E7: 1 | F7: 2 | G7: 3 | H7: 4 | I7: 5 | J7: 6 | K7: 7 | L7: 8 | M7: 9 | N7: 10 | O7: 11 | P7: 12 | Q7: 13 | R7: 14 | S7: 15 | T7: 16 | U7: 17 | V7: 18 | W7: 19 | X7: 20 | Y7: 21 | Z7: 22 | AA7: 23 | AB7: 24 | AC7: 25 | AE7: 3=1+2 | AG7: 16=9+10+11+12+13+14+15 | AI7: 3=16+17
A8: 1. | B8: ÀÝ¹³Ù»ÝÁ ÏÛ³ÝùÇ ¨ ³éáÕçáõÃÛ³Ý ¹»Ù áõÕÕí³Í Ñ³Ýó³·áñÍáõÃÛáõÝÝ»ñÁ | E8: =SUM(E9:E35) -> 0 | F8: =SUM(F9:F35) -> 2 | G8: =SUM(G9:G35) -> 2 | H8: =SUM(H9:H35) -> 0 | I8: =SUM(I9:I35) -> 0 | J8: =SUM(J9:J35) -> 0 | K8: =SUM(K9:K35) -> 0 | L8: =SUM(L9:L35) -> 0 | ... AC8: =SUM(AC9:AC35) -> 0 | AD8: =SUM(T8:W8) -> 3 | AE8: =G8 -> 2 | AF8: =E8+F8 -> 2 | AG8: =T8 -> 2 | AH8: =M8+N8+O8+P8+Q8+R8+S8 -> 2 | AI8: =G8 -> 2 | AJ8: =T8+U8 -> 2
A9: 1.1 | B9: êå³ÝáõÃÛáõÝÁ | D9: 104 | AD9: =SUM(T9:W9) -> 0 | AE9: =G9 -> 0 | AF9: =E9+F9 -> 0 | AG9: =T9 -> 0 | AH9: =M9+N9+O9+P9+Q9+R9+S9 -> 0 | AI9: =G9 -> 0 | AJ9: =T9+U9 -> 0
A10: 1.2 | B10: Ðá·»Ï³Ý ËÇëï Ñáõ½ÙáõÝùÇ íÇ×³ÏáõÙ Ï³ï³ñí³Í ëå³ÝáõÃÛáõÝÁ | D10: 105 | AD10: =SUM(T10:W10) -> 0 | AE10: =G10 -> 0 | AF10: =E10+F10 -> 0 | AG10: =T10 -> 0 | AH10: =M10+N10+O10+P10+Q10+R10+S10 -> 0 | AI10: =G10 -> 0 | AJ10: =T10+U10 -> 0
A11: 1.3 | B11: Øáñ ÏáÕÙÇó Ýáñ³ÍÇÝ »ñ»Ë³ÛÇ ëå³ÝáõÃÛáõÝÁ | D11: 106 | AD11: =SUM(T11:W11) -> 0 | AE11: =G11 -> 0 | AF11: =E11+F11 -> 0 | AG11: =T11 -> 0 | AH11: =M11+N11+O11+P11+Q11+R11+S11 -> 0 | AI11: =G11 -> 0 | AJ11: =T11+U11 -> 0
A12: 1.4 | B12: Ð³Ýó³Ýù Ï³ï³ñ³Í ³ÝÓÇÝ µéÝ»Éáõ Ñ³Ù³ñ ³ÝÑñ³Å»ßï ÙÇçáóÝ»ñÇ ë³ÑÙ³Ý³½³ÝóÙ³Ùµ ëå³ÝáõÃÛáõÝÁ | D12: 107 | AD12: =SUM(T12:W12) -> 0 | AE12: =G12 -> 0 | AF12: =E12+F12 -> 0 | AG12: =T12 -> 0 | AH12: =M12+N12+O12+P12+Q12+R12+S12 -> 0 | AI12: =G12 -> 0 | AJ12: =T12+U12 -> 0
A13: 1.5 | B13: ²ÝÑñ³Å»ßï å³ßïå³ÝáõÃÛ³Ý ë³ÑÙ³Ý³½³ÝóÙ³Ùµ ëå³ÝáõÃÛáõÝÁ | D13: 108 | AD13: =SUM(T13:W13) -> 0 | AE13: =G13 -> 0 | AF13: =E13+F13 -> 0 | AG13: =T13 -> 0 | AH13: =M13+N13+O13+P13+Q13+R13+S13 -> 0 | AI13: =G13 -> 0 | AJ13: =T13+U13 -> 0
A14: 1.6 | B14: ²Ý½·áõßáõÃÛ³Ùµ Ù³Ñ å³ï×³é»ÉÁ | D14: 109 | AD14: =SUM(T14:W14) -> 0 | AE14: =G14 -> 0 | AF14: =E14+F14 -> 0 | AG14: =T14 -> 0 | AH14: =M14+N14+O14+P14+Q14+R14+S14 -> 0 | AI14: =G14 -> 0 | AJ14: =T14+U14 -> 0
A15: 1.7 | B15: ÆÝùÝ³ëå³ÝáõÃÛ³Ý Ñ³ëóÝ»ÉÁ | D15: 110 | AD15: =SUM(T15:W15) -> 0 | AE15: =G15 -> 0 | AF15: =E15+F15 -> 0 | AG15: =T15 -> 0 | AH15: =M15+N15+O15+P15+Q15+R15+S15 -> 0 | AI15: =G15 -> 0 | AJ15: =T15+U15 -> 0
A16: 1.8 | B16: ÆÝùÝ³ëå³ÝáõÃÛ³Ý Ñ³Ï»ÉÁ | D16: 111 | AD16: =SUM(T16:W16) -> 0 | AE16: =G16 -> 0 | AF16: =E16+F16 -> 0 | AG16: =T16 -> 0 | AH16: =M16+N16+O16+P16+Q16+R16+S16 -> 0 | AI16: =G16 -> 0 | AJ16: =T16+U16 -> 0
A17: 1.9 | B17: ¸Çï³íáñáõÃÛ³Ùµ ³éáÕçáõÃÛ³ÝÁ Í³Ýñ íÝ³ë å³ï×³é»ÉÁ | D17: 112 | F17: 1 | G17: 1 | O17: 1 | T17: 1 | V17: 1 | AD17: =SUM(T17:W17) -> 2 | AE17: =G17 -> 1 | AF17: =E17+F17 -> 1 | AG17: =T17 -> 1 | AH17: =M17+N17+O17+P17+Q17+R17+S17 -> 1 | AI17: =G17 -> 1 | AJ17: =T17+U17 -> 1
A18: 1.10 | B18: ¸Çï³íáñáõÃÛ³Ùµ ³éáÕçáõÃÛ³ÝÁ ÙÇçÇÝ Í³ÝñáõÃÛ³Ý íÝ³ë å³ï×³é»ÉÁ | D18: 113 | F18: 1 | G18: 1 | M18: 1 | T18: 1 | AD18: =SUM(T18:W18) -> 1 | AE18: =G18 -> 1 | AF18: =E18+F18 -> 1 | AG18: =T18 -> 1 | AH18: =M18+N18+O18+P18+Q18+R18+S18 -> 1 | AI18: =G18 -> 1 | AJ18: =T18+U18 -> 1
A19: 1.11 | B19: Ðá·»Ï³Ý ËÇëï Ñáõ½ÙáõÝùÇ íÇ×³ÏáõÙ ³éáÕçáõÃÛ³ÝÁ Í³Ýñ Ï³Ù ÙÇçÇÝ Í³ÝñáõÃÛ³Ý íÝ³ë å³ï×³é»ÉÁ | D19: 114 | AD19: =SUM(T19:W19) -> 0 | AE19: =G19 -> 0 | AF19: =E19+F19 -> 0 | AG19: =T19 -> 0 | AH19: =M19+N19+O19+P19+Q19+R19+S19 -> 0 | AI19: =G19 -> 0 | AJ19: =T19+U19 -> 0
A20: 1.12 | B20: Ð³Ýó³Ýù Ï³ï³ñ³Í ³ÝÓÇÝ µéÝ»Éáõ Ñ³Ù³ñ ³ÝÑñ³Å»ßï ÙÇçáóÝ»ñÇ ë³ÑÙ³Ý½³ÝóÙ³Ùµ ³éáÕçáõÃÛ³ÝÁ Í³Ýñ Ï³Ù ÙÇçÇÝ Í³ÝñáõÃÛ³Ý íÝ³ë å³ï×³é»ÉÁ | D20: 115 | AD20: =SUM(T20:W20) -> 0 | AE20: =G20 -> 0 | AF20: =E20+F20 -> 0 | AG20: =T20 -> 0 | AH20: =M20+N20+O20+P20+Q20+R20+S20 -> 0 | AI20: =G20 -> 0 | AJ20: =T20+U20 -> 0
A21: 1.13 | B21: ²éáÕçáõÃÛ³ÝÁ Í³Ýñ Ï³Ù ÙÇçÇÝ Í³ÝñáõÃÛ³Ý íÝ³ë å³ï×³é»ÉÁ ³ÝÑñ³Å»ßï å³ßïå³ÝáõÃÛ³Ý ë³ÑÙ³Ý³Ý³½³ÝóÙ³Ùµ | D21: 116 | AD21: =SUM(T21:W21) -> 0 | AE21: =G21 -> 0 | AF21: =E21+F21 -> 0 | AG21: =T21 -> 0 | AH21: =M21+N21+O21+P21+Q21+R21+S21 -> 0 | AI21: =G21 -> 0 | AJ21: =T21+U21 -> 0
A22: 1.14 | B22: ¸Çï³íáñáõÃÛ³Ùµ ³éáÕçáõÃÛ³ÝÁ Ã»Ã¨ íÝ³ë å³ï×³é»ÉÁ | D22: 117 | AD22: =SUM(T22:W22) -> 0 | AE22: =G22 -> 0 | AF22: =E22+F22 -> 0 | AG22: =T22 -> 0 | AH22: =M22+N22+O22+P22+Q22+R22+S22 -> 0 | AI22: =G22 -> 0 | AJ22: =T22+U22 -> 0
A23: 1.15 | B23: Ì»ÍÁ | D23: 118 | AD23: =SUM(T23:W23) -> 0 | AE23: =G23 -> 0 | AF23: =E23+F23 -> 0 | AG23: =T23 -> 0 | AH23: =M23+N23+O23+P23+Q23+R23+S23 -> 0 | AI23: =G23 -> 0 | AJ23: =T23+U23 -> 0
A24: 1.16 | B24: Êáßï³Ý·áõÙÁ | D24: 119 | AD24: =SUM(T24:W24) -> 0 | AE24: =G24 -> 0 | AF24: =E24+F24 -> 0 | AG24: =T24 -> 0 | AH24: =M24+N24+O24+P24+Q24+R24+S24 -> 0 | AI24: =G24 -> 0 | AJ24: =T24+U24 -> 0
A25: 1.17 | B25: ²Ý½·áõßáõÃÛ³Ùµ ³éáÕçáõÃÛ³ÝÁ Í³Ýñ íÝ³ë å³ï×³é»ÉÁ | D25: 120 | AD25: =SUM(T25:W25) -> 0 | AE25: =G25 -> 0 | AF25: =E25+F25 -> 0 | AG25: =T25 -> 0 | AH25: =M25+N25+O25+P25+Q25+R25+S25 -> 0 | AI25: =G25 -> 0 | AJ25: =T25+U25 -> 0
A26: 1.18 | B26: ²Ý½·áõßáõÃÛ³Ùµ ³éáÕçáõÃÛ³ÝÁ ÙÇçÇÝ Í³ÝñáõÃÛ³Ý íÝ³ë å³ï×³é»ÉÁ | D26: 121 | AD26: =SUM(T26:W26) -> 0 | AE26: =G26 -> 0 | AF26: =E26+F26 -> 0 | AG26: =T26 -> 0 | AH26: =M26+N26+O26+P26+Q26+R26+S26 -> 0 | AI26: =G26 -> 0 | AJ26: =T26+U26 -> 0
A27: 1.19 | B27: ²åûñÇÝÇ ³µáñï Ï³ï³ñ»ÉÁ | D27: 122 | AD27: =SUM(T27:W27) -> 0 | AE27: =G27 -> 0 | AF27: =E27+F27 -> 0 | AG27: =T27 -> 0 | AH27: =M27+N27+O27+P27+Q27+R27+S27 -> 0 | AI27: =G27 -> 0 | AJ27: =T27+U27 -> 0
A28: 1.20 | B28: Ø³ñ¹áõ ÇÙáõÝ³ÛÇÝ ³Ýµ³í³ñ³ñáõÃÛ³Ý íÇñáõëÇ Ñ³ñáõóÇãáí í³ñ³Ï»ÉÁ | D28: 123 | AD28: =SUM(T28:W28) -> 0 | AE28: =G28 -> 0 | AF28: =E28+F28 -> 0 | AG28: =T28 -> 0 | AH28: =M28+N28+O28+P28+Q28+R28+S28 -> 0 | AI28: =G28 -> 0 | AJ28: =T28+U28 -> 0
A29: 1.21 | B29: ì»Ý»ñ³Ï³Ý ÑÇí³Ý¹áõÃÛ³Ùµ Ï³Ù ³ÛÉ ë»é³í³ñ³ÏÝ»ñáí í³ñ³Ï»ÉÁ | D29: 124 | AD29: =SUM(T29:W29) -> 0 | AE29: =G29 -> 0 | AF29: =E29+F29 -> 0 | AG29: =T29 -> 0 | AH29: =M29+N29+O29+P29+Q29+R29+S29 -> 0 | AI29: =G29 -> 0 | AJ29: =T29+U29 -> 0
A30: 1.22 | B30: öáËå³ïí³ëïÙ³Ý íÇñ³Ñ³ïáõÃÛáõÝ Ï³ï³ñ»Éáõ Ï³ÝáÝÝ»ñÁ Ë³Ëï»ÉÁ | D30: 125 | AD30: =SUM(T30:W30) -> 0 | AE30: =G30 -> 0 | AF30: =E30+F30 -> 0 | AG30: =T30 -> 0 | AH30: =M30+N30+O30+P30+Q30+R30+S30 -> 0 | AI30: =G30 -> 0 | AJ30: =T30+U30 -> 0
... A34: 1.27 | B34: ´ÅßÏ³Ï³Ý û·ÝáõÃÛáõÝ ¨ ëå³ë³ñÏáõÙ Çñ³Ï³Ý³óÝáÕÝ»ñÇ ÏáÕÙÇó Ù³ëÝ³·Çï³Ï³Ý å³ñï³Ï³ÝáõÃÛáõÝÝ»ñÁ ãÏ³ï³ñ»ÉÁ Ï³Ù áã å³ïß³× Ï³ï³ñ»ÉÁ | D34: 130 | AD34: =SUM(T34:W34) -> 0 | AE34: =G34 -> 0 | AF34: =E34+F34 -> 0 | AG34: =T34 -> 0 | AH34: =M34+N34+O34+P34+Q34+R34+S34 -> 0 | AI34: =G34 -> 0 | AJ34: =T34+U34 -> 0
A35: 1.28 | B35: ²ÛÉ Ñ³Ýó³·áñÍáõÃÛáõÝÝ»ñ | AD35: =SUM(T35:W35) -> 0 | AE35: =G35 -> 0 | AF35: =E35+F35 -> 0 | AG35: =T35 -> 0 | AH35: =M35+N35+O35+P35+Q35+R35+S35 -> 0 | AI35: =G35 -> 0 | AJ35: =T35+U35 -> 0
A36: 2. | B36: ÀÝ¹³Ù»ÝÁ ³ÝÓÇ ³½³ïáõÃÛ³Ý, å³ïíÇ ¨ ³ñÅ³Ý³å³ïíáõÃÛ³Ý ¹»Ù áõÕÕí³Í Ñ³Ýó³·áñÍáõÃÛáõÝÝ»ñÁ | E36: =SUM(E37:E43) -> 0 | F36: =SUM(F37:F43) -> 0 | G36: =SUM(G37:G43) -> 0 | H36: =SUM(H37:H43) -> 0 | I36: =SUM(I37:I43) -> 0 | J36: =SUM(J37:J43) -> 0 | K36: =SUM(K37:K43) -> 0 | L36: =SUM(L37:L43) -> 0 | ... AC36: =SUM(AC37:AC43) -> 0 | AD36: =SUM(T36:W36) -> 0 | AE36: =G36 -> 0 | AF36: =E36+F36 -> 0 | AG36: =T36 -> 0 | AH36: =M36+N36+O36+P36+Q36+R36+S36 -> 0 | AI36: =G36 -> 0 | AJ36: =T36+U36 -> 0
A37: 2.1 | B37: Ø³ñ¹áõÝ ³é¨³Ý·»ÉÁ | D37: 131 | AD37: =SUM(T37:W37) -> 0 | AE37: =G37 -> 0 | AF37: =E37+F37 -> 0 | AG37: =T37 -> 0 | AH37: =M37+N37+O37+P37+Q37+R37+S37 -> 0 | AI37: =G37 -> 0 | AJ37: =T37+U37 -> 0
A38: 2.2 | B38: Þ³Ñ³·áñÍÙ³Ý Ýå³ï³Ïáí Ù³ñ¹áõÝ Ñ³í³ù³·ñ»ÉÁ, ÷áË³¹ñ»ÉÁ, Ñ³ÝÓÝ»ÉÁ, Ã³ùóÝ»ÉÁ Ï³Ù ëï³Ý³ÉÁ | D38: 132 | AD38: =SUM(T38:W38) -> 0 | AE38: =G38 -> 0 | AF38: =E38+F38 -> 0 | AG38: =T38 -> 0 | AH38: =M38+N38+O38+P38+Q38+R38+S38 -> 0 | AI38: =G38 -> 0 | AJ38: =T38+U38 -> 0
A39: 2.2.1 | B39: Ø³ñ¹áõÝ åáéÝÇÏáõÃÛ³Ý Ï³Ù ë»é³Ï³Ý ß³Ñ³·áñÍÙ³Ý ³ÛÉ Ó¨»ñÇ Ù»ç, Ñ³ñÏ³¹Çñ ³ßË³ï³ÝùÇ Ï³Ù Í³é³ÛáõÃÛáõÝÝ»ñÇ Ý»ñ·ñ³í»ÉÁ Ï³Ù ëïñÏáõÃÛ³Ý Ï³Ù ëïñÏáõÃÛ³ÝÁ ÝÙ³ÝíáÕ íÇ×³ÏÇ Ù»ç ¹Ý»ÉÁ Ï³Ù å³Ñ»ÉÁ | D39: 132.1 | AD39: =SUM(T39:W39) -> 0 | AE39: =G39 -> 0 | AF39: =E39+F39 -> 0 | AG39: =T39 -> 0 | AH39: =M39+N39+O39+P39+Q39+R39+S39 -> 0 | AI39: =G39 -> 0 | AJ39: =T39+U39 -> 0
A40: 2.3 | B40: ²½³ïáõÃÛáõÝÇó ³åûñÇÝÇ ½ñÏ»ÉÁ | D40: 133 | AD40: =SUM(T40:W40) -> 0 | AE40: =G40 -> 0 | AF40: =E40+F40 -> 0 | AG40: =T40 -> 0 | AH40: =M40+N40+O40+P40+Q40+R40+S40 -> 0 | AI40: =G40 -> 0 | AJ40: =T40+U40 -> 0
A41: 2.4 | B41: Ðá·»µáõÅ³Ï³Ý ÑÇí³Ý¹³ÝáóáõÙ ³åûñÇÝÇ ï»Õ³íáñ»ÉÁ Ï³Ù å³Ñ»ÉÁ | D41: 134 | AD41: =SUM(T41:W41) -> 0 | AE41: =G41 -> 0 | AF41: =E41+F41 -> 0 | AG41: =T41 -> 0 | AH41: =M41+N41+O41+P41+Q41+R41+S41 -> 0 | AI41: =G41 -> 0 | AJ41: =T41+U41 -> 0
A42: 2.7 | B42: êå³ÝáõÃÛ³Ý, ³éáÕçáõÃÛ³ÝÁ Í³Ýñ íÝ³ë å³ï×³é»Éáõ Ï³Ù ·áõÛù áãÝã³óÝ»Éáõ ëå³éÝ³ÉÇùÁ | D42: 137 | AD42: =SUM(T42:W42) -> 0 | AE42: =G42 -> 0 | AF42: =E42+F42 -> 0 | AG42: =T42 -> 0 | AH42: =M42+N42+O42+P42+Q42+R42+S42 -> 0 | AI42: =G42 -> 0 | AJ42: =T42+U42 -> 0
A43: 2.8 | B43: ²ÛÉ Ñ³Ýó³·áñÍáõÃÛáõÝÝ»ñ | AD43: =SUM(T43:W43) -> 0 | AE43: =G43 -> 0 | AF43: =E43+F43 -> 0 | AG43: =T43 -> 0 | AH43: =M43+N43+O43+P43+Q43+R43+S43 -> 0 | AI43: =G43 -> 0 | AJ43: =T43+U43 -> 0
...

Sheet Malatia
A1: Ð²ÞìºîìàôÂÚàôÜ
A2: ²Üâ²ö²Ð²ê ¸²î²ä²ðîÚ²ÈÜºðÆ ìºð²´ºðÚ²È | Y2: 2016Ã.
A3: ìÇ×³Ï³·ñ³Ï³Ý ïáÕÇ Ñ³Ù³ñÁ | B3: Ð²Üò²¶àðÌàôÂÚàôÜÜºðÆ îºê²ÎÜºðÀ | D3: ÐÐ øñ»³Ï³Ý ûñ»Ýë·ñùÇ Ñá¹í³ÍÁ | E3: Ð³Ýó³·áñÍáõÃÛáõÝÁ Ï³ï³ñ»É »Ý | H3: Ýñ³ÝóÇó | M3: ¸³ï³å³ñïÛ³ÉÝ»ñÇ ÝÏ³ïÙ³Ùµ Ýß³Ý³Ïí³Í ÑÇÙÝ³Ï³Ý å³ïÇÅÝ»ñ | V3: Ýß³Ý³Ïí³Í å³ïÇÅÁ å³ÛÙ³Ý³Ï³Ýáñ»Ý ãÇ ÏÇñ³éí»É | W3: ÏÇñ³éí»É ¿ Ñ³Ù³Ý»ñÙ³Ý ³Ïï | X3: ÎÇñ³éí»É »Ý ¹³ëïÇ³ñ³Ïã³Ï³Ý µÝáõÛÃÇ Ñ³ñÏ³¹ñ³ÝùÇ ÙÇçáó | Y3: ²ÝÓ³Ýó ÃÇíÁ, áñáÝù ÙÇÝã¨ í»ñçÇÝ Ñ³Ýó³·áñÍáõÃÛáõÝÁ Ï³ï³ñ»ÉÁ
E4: 14-16 ï³ñ»Ï³ÝáõÙ | F4: 16-18 ï³ñ»Ï³ÝáõÙ | G4: ÀÝ¹³Ù»ÝÁ | H4: ³ÕçÇÏÝ»ñ | I4: ã»Ý ³ßË³ï»É, ã»Ý ëáíáñ»É | J4: ³ÝÓÇÝù, áñáÝù Ñ³Ýó³·áñÍáõÃÛáõÝÁ Ï³ï³ñ»É »Ý | M4: ² ½ ³ ï ³ ½ ñ Ï áõ Ù | U4: ³ÛÉ å³ïÇÅÝ»ñ | Y4: ·ïÝí»É »Ý áëïÇÏ³ÝáõÃÛ³Ý Ù³ñÙÇÝÝ»ñáõÙ Ñ³ßí³éÙ³Ý Ù»ç | Z4: Ï³ï³ñ»É »Ý Ñ³Ýó³·áñÍáõÃÛáõÝ ¨ »Õ»É »Ý
Z5: ³½³ïí³Í ùñ»³Ï³Ý å³ï³ëË³Ý³ïíáõÃÛáõÝÇó | AA5: ¹³ï³å³ñïí³Í | AB5: ²Û¹ ÃíáõÙ
B6: êîàô¶Æâ Ð²ì²ê²ðàôØÜºð 3=1+2, 16=9+10+11+12+13+14+15, 3=16+17+18+19 | J6: ³ÉÏ., ÃÙñ³ÙÇç. Ï³Ù ÃÝñ»óÝáÕ ³ÛÉ ÝÛáõÃ»ñÇ ³½¹»óáõÃÛ³Ý ï³Ï | K6: ØÇ ËáõÙµ ³ÝÓ³Ýó Ï³½ÙáõÙ | L6: ³Û¹ ÃíáõÙª Ù»Í³Ñ³ë³ÏÝ»ñÇ Ù³ëÝ³ÏóáõÃÛ³Ùµ | M6: 1 ï³ñÇ Ý»ñ³éÛ³É | N6: 1 ï³ñáõó ³í»É, ÙÇÝã¨ 2 ï³ñÇ Ý»ñ³éÛ³É | O6: 2 ï³ñáõó ³í»É, ÙÇÝã¨ 3 ï³ñÇ Ý»ñ³éÛ³É | P6: 3 ï³ñáõó ³í»É, ÙÇÝã¨ 5 ï³ñÇ Ý»ñ³éÛ³É | Q6: 5 ï³ñáõó ³í»É, ÙÇÝã¨ 8 ï³ñÇ Ý»ñ³éÛ³É | R6: 8 ï³ñáõó ³í»É, ÙÇÝã¨ 10 ï³ñÇ Ý»ñ³éÛ³É | S6: 10 ï³ñáõó ³í»É, ÙÇÝã¨ 12ï³ñÇ Ý»ñ³éÛ³É | T6: ÁÝ¹³Ù»ÝÁ | AB6: ¹³ï³í×éÇ Ï³ï³ñÙ³Ý Ñ»ï³Ó·áõÙáí | AC6: å³ÛÙ³Ý³Ï³Ý ¹³ï³å³ñïáõÃÛáõÝ
E7: 1 | F7: 2 | G7: 3 | H7: 4 | I7: 5 | J7: 6 | K7: 7 | L7: 8 | M7: 9 | N7: 10 | O7: 11 | P7: 12 | Q7: 13 | R7: 14 | S7: 15 | T7: 16 | U7: 17 | V7: 18 | W7: 19 | X7: 20 | Y7: 21 | Z7: 22 | AA7: 23 | AB7: 24 | AC7: 25 | AE7: 3=1+2 | AG7: 16=9+10+11+12+13+14+15 | AI7: 3=16+17
A8: 1. | B8: ÀÝ¹³Ù»ÝÁ ÏÛ³ÝùÇ ¨ ³éáÕçáõÃÛ³Ý ¹»Ù áõÕÕí³Í Ñ³Ýó³·áñÍáõÃÛáõÝÝ»ñÁ | E8: =SUM(E9:E35) -> 0 | F8: =SUM(F9:F35) -> 0 | G8: =SUM(G9:G35) -> 0 | H8: =SUM(H9:H35) -> 0 | I8: =SUM(I9:I35) -> 0 | J8: =SUM(J9:J35) -> 0 | K8: =SUM(K9:K35) -> 0 | L8: =SUM(L9:L35) -> 0 | ... AC8: =SUM(AC9:AC35) -> 0 | AD8: =SUM(T8:W8) -> 0 | AE8: =G8 -> 0 | AF8: =E8+F8 -> 0 | AG8: =T8 -> 0 | AH8: =M8+N8+O8+P8+Q8+R8+S8 -> 0 | AI8: =G8 -> 0 | AJ8: =T8+U8 -> 0
A9: 1.1 | B9: êå³ÝáõÃÛáõÝÁ | D9: 104 | AD9: =SUM(T9:W9) -> 0 | AE9: =G9 -> 0 | AF9: =E9+F9 -> 0 | AG9: =T9 -> 0 | AH9: =M9+N9+O9+P9+Q9+R9+S9 -> 0 | AI9: =G9 -> 0 | AJ9: =T9+U9 -> 0
A10: 1.2 | B10: Ðá·»Ï³Ý ËÇëï Ñáõ½ÙáõÝùÇ íÇ×³ÏáõÙ Ï³ï³ñí³Í ëå³ÝáõÃÛáõÝÁ | D10: 105 | AD10: =SUM(T10:W10) -> 0 | AE10: =G10 -> 0 | AF10: =E10+F10 -> 0 | AG10: =T10 -> 0 | AH10: =M10+N10+O10+P10+Q10+R10+S10 -> 0 | AI10: =G10 -> 0 | AJ10: =T10+U10 -> 0
A11: 1.3 | B11: Øáñ ÏáÕÙÇó Ýáñ³ÍÇÝ »ñ»Ë³ÛÇ ëå³ÝáõÃÛáõÝÁ | D11: 106 | AD11: =SUM(T11:W11) -> 0 | AE11: =G11 -> 0 | AF11: =E11+F11 -> 0 | AG11: =T11 -> 0 | AH11: =M11+N11+O11+P11+Q11+R11+S11 -> 0 | AI11: =G11 -> 0 | AJ11: =T11+U11 -> 0
A12: 1.4 | B12: Ð³Ýó³Ýù Ï³ï³ñ³Í ³ÝÓÇÝ µéÝ»Éáõ Ñ³Ù³ñ ³ÝÑñ³Å»ßï ÙÇçáóÝ»ñÇ ë³ÑÙ³Ý³½³ÝóÙ³Ùµ ëå³ÝáõÃÛáõÝÁ | D12: 107 | AD12: =SUM(T12:W12) -> 0 | AE12: =G12 -> 0 | AF12: =E12+F12 -> 0 | AG12: =T12 -> 0 | AH12: =M12+N12+O12+P12+Q12+R12+S12 -> 0 | AI12: =G12 -> 0 | AJ12: =T12+U12 -> 0
A13: 1.5 | B13: ²ÝÑñ³Å»ßï å³ßïå³ÝáõÃÛ³Ý ë³ÑÙ³Ý³½³ÝóÙ³Ùµ ëå³ÝáõÃÛáõÝÁ | D13: 108 | AD13: =SUM(T13:W13) -> 0 | AE13: =G13 -> 0 | AF13: =E13+F13 -> 0 | AG13: =T13 -> 0 | AH13: =M13+N13+O13+P13+Q13+R13+S13 -> 0 | AI13: =G13 -> 0 | AJ13: =T13+U13 -> 0
A14: 1.6 | B14: ²Ý½·áõßáõÃÛ³Ùµ Ù³Ñ å³ï×³é»ÉÁ | D14: 109 | AD14: =SUM(T14:W14) -> 0 | AE14: =G14 -> 0 | AF14: =E14+F14 -> 0 | AG14: =T14 -> 0 | AH14: =M14+N14+O14+P14+Q14+R14+S14 -> 0 | AI14: =G14 -> 0 | AJ14: =T14+U14 -> 0
A15: 1.7 | B15: ÆÝùÝ³ëå³ÝáõÃÛ³Ý Ñ³ëóÝ»ÉÁ | D15: 110 | AD15: =SUM(T15:W15) -> 0 | AE15: =G15 -> 0 | AF15: =E15+F15 -> 0 | AG15: =T15 -> 0 | AH15: =M15+N15+O15+P15+Q15+R15+S15 -> 0 | AI15: =G15 -> 0 | AJ15: =T15+U15 -> 0
A16: 1.8 | B16: ÆÝùÝ³ëå³ÝáõÃÛ³Ý Ñ³Ï»ÉÁ | D16: 111 | AD16: =SUM(T16:W16) -> 0 | AE16: =G16 -> 0 | AF16: =E16+F16 -> 0 | AG16: =T16 -> 0 | AH16: =M16+N16+O16+P16+Q16+R16+S16 -> 0 | AI16: =G16 -> 0 | AJ16: =T16+U16 -> 0
A17: 1.9 | B17: ¸Çï³íáñáõÃÛ³Ùµ ³éáÕçáõÃÛ³ÝÁ Í³Ýñ íÝ³ë å³ï×³é»ÉÁ | D17: 112 | AD17: =SUM(T17:W17) -> 0 | AE17: =G17 -> 0 | AF17: =E17+F17 -> 0 | AG17: =T17 -> 0 | AH17: =M17+N17+O17+P17+Q17+R17+S17 -> 0 | AI17: =G17 -> 0 | AJ17: =T17+U17 -> 0
A18: 1.10 | B18: ¸Çï³íáñáõÃÛ³Ùµ ³éáÕçáõÃÛ³ÝÁ ÙÇçÇÝ Í³ÝñáõÃÛ³Ý íÝ³ë å³ï×³é»ÉÁ | D18: 113 | AD18: =SUM(T18:W18) -> 0 | AE18: =G18 -> 0 | AF18: =E18+F18 -> 0 | AG18: =T18 -> 0 | AH18: =M18+N18+O18+P18+Q18+R18+S18 -> 0 | AI18: =G18 -> 0 | AJ18: =T18+U18 -> 0
A19: 1.11 | B19: Ðá·»Ï³Ý ËÇëï Ñáõ½ÙáõÝùÇ íÇ×³ÏáõÙ ³éáÕçáõÃÛ³ÝÁ Í³Ýñ Ï³Ù ÙÇçÇÝ Í³ÝñáõÃÛ³Ý íÝ³ë å³ï×³é»ÉÁ | D19: 114 | AD19: =SUM(T19:W19) -> 0 | AE19: =G19 -> 0 | AF19: =E19+F19 -> 0 | AG19: =T19 -> 0 | AH19: =M19+N19+O19+P19+Q19+R19+S19 -> 0 | AI19: =G19 -> 0 | AJ19: =T19+U19 -> 0
A20: 1.12 | B20: Ð³Ýó³Ýù Ï³ï³ñ³Í ³ÝÓÇÝ µéÝ»Éáõ Ñ³Ù³ñ ³ÝÑñ³Å»ßï ÙÇçáóÝ»ñÇ ë³ÑÙ³Ý½³ÝóÙ³Ùµ ³éáÕçáõÃÛ³ÝÁ Í³Ýñ Ï³Ù ÙÇçÇÝ Í³ÝñáõÃÛ³Ý íÝ³ë å³ï×³é»ÉÁ | D20: 115 | AD20: =SUM(T20:W20) -> 0 | AE20: =G20 -> 0 | AF20: =E20+F20 -> 0 | AG20: =T20 -> 0 | AH20: =M20+N20+O20+P20+Q20+R20+S20 -> 0 | AI20: =G20 -> 0 | AJ20: =T20+U20 -> 0
A21: 1.13 | B21: ²éáÕçáõÃÛ³ÝÁ Í³Ýñ Ï³Ù ÙÇçÇÝ Í³ÝñáõÃÛ³Ý íÝ³ë å³ï×³é»ÉÁ ³ÝÑñ³Å»ßï å³ßïå³ÝáõÃÛ³Ý ë³ÑÙ³Ý³Ý³½³ÝóÙ³Ùµ | D21: 116 | AD21: =SUM(T21:W21) -> 0 | AE21: =G21 -> 0 | AF21: =E21+F21 -> 0 | AG21: =T21 -> 0 | AH21: =M21+N21+O21+P21+Q21+R21+S21 -> 0 | AI21: =G21 -> 0 | AJ21: =T21+U21 -> 0
A22: 1.14 | B22: ¸Çï³íáñáõÃÛ³Ùµ ³éáÕçáõÃÛ³ÝÁ Ã»Ã¨ íÝ³ë å³ï×³é»ÉÁ | D22: 117 | AD22: =SUM(T22:W22) -> 0 | AE22: =G22 -> 0 | AF22: =E22+F22 -> 0 | AG22: =T22 -> 0 | AH22: =M22+N22+O22+P22+Q22+R22+S22 -> 0 | AI22: =G22 -> 0 | AJ22: =T22+U22 -> 0
A23: 1.15 | B23: Ì»ÍÁ | D23: 118 | AD23: =SUM(T23:W23) -> 0 | AE23: =G23 -> 0 | AF23: =E23+F23 -> 0 | AG23: =T23 -> 0 | AH23: =M23+N23+O23+P23+Q23+R23+S23 -> 0 | AI23: =G23 -> 0 | AJ23: =T23+U23 -> 0
A24: 1.16 | B24: Êáßï³Ý·áõÙÁ | D24: 119 | AD24: =SUM(T24:W24) -> 0 | AE24: =G24 -> 0 | AF24: =E24+F24 -> 0 | AG24: =T24 -> 0 | AH24: =M24+N24+O24+P24+Q24+R24+S24 -> 0 | AI24: =G24 -> 0 | AJ24: =T24+U24 -> 0
A25: 1.17 | B25: ²Ý½·áõßáõÃÛ³Ùµ ³éáÕçáõÃÛ³ÝÁ Í³Ýñ íÝ³ë å³ï×³é»ÉÁ | D25: 120 | AD25: =SUM(T25:W25) -> 0 | AE25: =G25 -> 0 | AF25: =E25+F25 -> 0 | AG25: =T25 -> 0 | AH25: =M25+N25+O25+P25+Q25+R25+S25 -> 0 | AI25: =G25 -> 0 | AJ25: =T25+U25 -> 0
A26: 1.18 | B26: ²Ý½·áõßáõÃÛ³Ùµ ³éáÕçáõÃÛ³ÝÁ ÙÇçÇÝ Í³ÝñáõÃÛ³Ý íÝ³ë å³ï×³é»ÉÁ | D26: 121 | AD26: =SUM(T26:W26) -> 0 | AE26: =G26 -> 0 | AF26: =E26+F26 -> 0 | AG26: =T26 -> 0 | AH26: =M26+N26+O26+P26+Q26+R26+S26 -> 0 | AI26: =G26 -> 0 | AJ26: =T26+U26 -> 0
A27: 1.19 | B27: ²åûñÇÝÇ ³µáñï Ï³ï³ñ»ÉÁ | D27: 122 | AD27: =SUM(T27:W27) -> 0 | AE27: =G27 -> 0 | AF27: =E27+F27 -> 0 | AG27: =T27 -> 0 | AH27: =M27+N27+O27+P27+Q27+R27+S27 -> 0 | AI27: =G27 -> 0 | AJ27: =T27+U27 -> 0
A28: 1.20 | B28: Ø³ñ¹áõ ÇÙáõÝ³ÛÇÝ ³Ýµ³í³ñ³ñáõÃÛ³Ý íÇñáõëÇ Ñ³ñáõóÇãáí í³ñ³Ï»ÉÁ | D28: 123 | AD28: =SUM(T28:W28) -> 0 | AE28: =G28 -> 0 | AF28: =E28+F28 -> 0 | AG28: =T28 -> 0 | AH28: =M28+N28+O28+P28+Q28+R28+S28 -> 0 | AI28: =G28 -> 0 | AJ28: =T28+U28 -> 0
A29: 1.21 | B29: ì»Ý»ñ³Ï³Ý ÑÇí³Ý¹áõÃÛ³Ùµ Ï³Ù ³ÛÉ ë»é³í³ñ³ÏÝ»ñáí í³ñ³Ï»ÉÁ | D29: 124 | AD29: =SUM(T29:W29) -> 0 | AE29: =G29 -> 0 | AF29: =E29+F29 -> 0 | AG29: =T29 -> 0 | AH29: =M29+N29+O29+P29+Q29+R29+S29 -> 0 | AI29: =G29 -> 0 | AJ29: =T29+U29 -> 0
... A34: 1.27 | B34: ´ÅßÏ³Ï³Ý û·ÝáõÃÛáõÝ ¨ ëå³ë³ñÏáõÙ Çñ³Ï³Ý³óÝáÕÝ»ñÇ ÏáÕÙÇó Ù³ëÝ³·Çï³Ï³Ý å³ñï³Ï³ÝáõÃÛáõÝÝ»ñÁ ãÏ³ï³ñ»ÉÁ Ï³Ù áã å³ïß³× Ï³ï³ñ»ÉÁ | D34: 130 | AD34: =SUM(T34:W34) -> 0 | AE34: =G34 -> 0 | AF34: =E34+F34 -> 0 | AG34: =T34 -> 0 | AH34: =M34+N34+O34+P34+Q34+R34+S34 -> 0 | AI34: =G34 -> 0 | AJ34: =T34+U34 -> 0
A35: 1.28 | B35: ²ÛÉ Ñ³Ýó³·áñÍáõÃÛáõÝÝ»ñ | AD35: =SUM(T35:W35) -> 0 | AE35: =G35 -> 0 | AF35: =E35+F35 -> 0 | AG35: =T35 -> 0 | AH35: =M35+N35+O35+P35+Q35+R35+S35 -> 0 | AI35: =G35 -> 0 | AJ35: =T35+U35 -> 0
A36: 2. | B36: ÀÝ¹³Ù»ÝÁ ³ÝÓÇ ³½³ïáõÃÛ³Ý, å³ïíÇ ¨ ³ñÅ³Ý³å³ïíáõÃÛ³Ý ¹»Ù áõÕÕí³Í Ñ³Ýó³·áñÍáõÃÛáõÝÝ»ñÁ | E36: =SUM(E37:E43) -> 0 | F36: =SUM(F37:F43) -> 0 | G36: =SUM(G37:G43) -> 0 | H36: =SUM(H37:H43) -> 0 | I36: =SUM(I37:I43) -> 0 | J36: =SUM(J37:J43) -> 0 | K36: =SUM(K37:K43) -> 0 | L36: =SUM(L37:L43) -> 0 | ... AC36: =SUM(AC37:AC43) -> 0 | AD36: =SUM(T36:W36) -> 0 | AE36: =G36 -> 0 | AF36: =E36+F36 -> 0 | AG36: =T36 -> 0 | AH36: =M36+N36+O36+P36+Q36+R36+S36 -> 0 | AI36: =G36 -> 0 | AJ36: =T36+U36 -> 0
A37: 2.1 | B37: Ø³ñ¹áõÝ ³é¨³Ý·»ÉÁ | D37: 131 | AD37: =SUM(T37:W37) -> 0 | AE37: =G37 -> 0 | AF37: =E37+F37 -> 0 | AG37: =T37 -> 0 | AH37: =M37+N37+O37+P37+Q37+R37+S37 -> 0 | AI37: =G37 -> 0 | AJ37: =T37+U37 -> 0
A38: 2.2 | B38: Þ³Ñ³·áñÍÙ³Ý Ýå³ï³Ïáí Ù³ñ¹áõÝ Ñ³í³ù³·ñ»ÉÁ, ÷áË³¹ñ»ÉÁ, Ñ³ÝÓÝ»ÉÁ, Ã³ùóÝ»ÉÁ Ï³Ù ëï³Ý³ÉÁ | D38: 132 | AD38: =SUM(T38:W38) -> 0 | AE38: =G38 -> 0 | AF38: =E38+F38 -> 0 | AG38: =T38 -> 0 | AH38: =M38+N38+O38+P38+Q38+R38+S38 -> 0 | AI38: =G38 -> 0 | AJ38: =T38+U38 -> 0
A39: 2.2.1 | B39: Ø³ñ¹áõÝ åáéÝÇÏáõÃÛ³Ý Ï³Ù ë»é³Ï³Ý ß³Ñ³·áñÍÙ³Ý ³ÛÉ Ó¨»ñÇ Ù»ç, Ñ³ñÏ³¹Çñ ³ßË³ï³ÝùÇ Ï³Ù Í³é³ÛáõÃÛáõÝÝ»ñÇ Ý»ñ·ñ³í»ÉÁ Ï³Ù ëïñÏáõÃÛ³Ý Ï³Ù ëïñÏáõÃÛ³ÝÁ ÝÙ³ÝíáÕ íÇ×³ÏÇ Ù»ç ¹Ý»ÉÁ Ï³Ù å³Ñ»ÉÁ | D39: 132.1 | AD39: =SUM(T39:W39) -> 0 | AE39: =G39 -> 0 | AF39: =E39+F39 -> 0 | AG39: =T39 -> 0 | AH39: =M39+N39+O39+P39+Q39+R39+S39 -> 0 | AI39: =G39 -> 0 | AJ39: =T39+U39 -> 0
A40: 2.3 | B40: ²½³ïáõÃÛáõÝÇó ³åûñÇÝÇ ½ñÏ»ÉÁ | D40: 133 | AD40: =SUM(T40:W40) -> 0 | AE40: =G40 -> 0 | AF40: =E40+F40 -> 0 | AG40: =T40 -> 0 | AH40: =M40+N40+O40+P40+Q40+R40+S40 -> 0 | AI40: =G40 -> 0 | AJ40: =T40+U40 -> 0
A41: 2.4 | B41: Ðá·»µáõÅ³Ï³Ý ÑÇí³Ý¹³ÝáóáõÙ ³åûñÇÝÇ ï»Õ³íáñ»ÉÁ Ï³Ù å³Ñ»ÉÁ | D41: 134 | AD41: =SUM(T41:W41) -> 0 | AE41: =G41 -> 0 | AF41: =E41+F41 -> 0 | AG41: =T41 -> 0 | AH41: =M41+N41+O41+P41+Q41+R41+S41 -> 0 | AI41: =G41 -> 0 | AJ41: =T41+U41 -> 0
A42: 2.7 | B42: êå³ÝáõÃÛ³Ý, ³éáÕçáõÃÛ³ÝÁ Í³Ýñ íÝ³ë å³ï×³é»Éáõ Ï³Ù ·áõÛù áãÝã³óÝ»Éáõ ëå³éÝ³ÉÇùÁ | D42: 137 | AD42: =SUM(T42:W42) -> 0 | AE42: =G42 -> 0 | AF42: =E42+F42 -> 0 | AG42: =T42 -> 0 | AH42: =M42+N42+O42+P42+Q42+R42+S42 -> 0 | AI42: =G42 -> 0 | AJ42: =T42+U42 -> 0
A43: 2.8 | B43: ²ÛÉ Ñ³Ýó³·áñÍáõÃÛáõÝÝ»ñ | AD43: =SUM(T43:W43) -> 0 | AE43: =G43 -> 0 | AF43: =E43+F43 -> 0 | AG43: =T43 -> 0 | AH43: =M43+N43+O43+P43+Q43+R43+S43 -> 0 | AI43: =G43 -> 0 | AJ43: =T43+U43 -> 0
A44: 3. | B44: ÀÝ¹³Ù»ÝÁ ë»é³Ï³Ý ³ÝÓ»éÝÙË»ÉÇáõÃÛ³Ý ¨ ë»é³Ï³Ý ³½³ïáõÃÛ³Ý ¹»Ù áõÕÕí³Í Ñ³Ýó³·áñÍáõÃÛáõÝÝ»ñÁ | E44: =SUM(E45:E50) -> 0 | F44: =SUM(F45:F50) -> 0 | G44: =SUM(G45:G50) -> 0 | H44: =SUM(H45:H50) -> 0 | I44: =SUM(I45:I50) -> 0 | J44: =SUM(J45:J50) -> 0 | K44: =SUM(K45:K50) -> 0 | L44: =SUM(L45:L50) -> 0 | ... AC44: =SUM(AC45:AC50) -> 0 | AD44: =SUM(T44:W44) -> 0 | AE44: =G44 -> 0 | AF44: =E44+F44 -> 0 | AG44: =T44 -> 0 | AH44: =M44+N44+O44+P44+Q44+R44+S44 -> 0 | AI44: =G44 -> 0 | AJ44: =T44+U44 -> 0
...

Sheet Kentron
A1: Ð²ÞìºîìàôÂÚàôÜ
A2: ²Üâ²ö²Ð²ê ¸²î²ä²ðîÚ²ÈÜºðÆ ìºð²´ºðÚ²È | Y2: 2016Ã.
A3: ìÇ×³Ï³·ñ³Ï³Ý ïáÕÇ Ñ³Ù³ñÁ | B3: Ð²Üò²¶àðÌàôÂÚàôÜÜºðÆ îºê²ÎÜºðÀ | D3: ÐÐ øñ»³Ï³Ý ûñ»Ýë·ñùÇ Ñá¹í³ÍÁ | E3: Ð³Ýó³·áñÍáõÃÛáõÝÁ Ï³ï³ñ»É »Ý | H3: Ýñ³ÝóÇó | M3: ¸³ï³å³ñïÛ³ÉÝ»ñÇ ÝÏ³ïÙ³Ùµ Ýß³Ý³Ïí³Í ÑÇÙÝ³Ï³Ý å³ïÇÅÝ»ñ | V3: Ýß³Ý³Ïí³Í å³ïÇÅÁ å³ÛÙ³Ý³Ï³Ýáñ»Ý ãÇ ÏÇñ³éí»É | W3: ÏÇñ³éí»É ¿ Ñ³Ù³Ý»ñÙ³Ý ³Ïï | X3: ÎÇñ³éí»É »Ý ¹³ëïÇ³ñ³Ïã³Ï³Ý µÝáõÛÃÇ Ñ³ñÏ³¹ñ³ÝùÇ ÙÇçáó | Y3: ²ÝÓ³Ýó ÃÇíÁ, áñáÝù ÙÇÝã¨ í»ñçÇÝ Ñ³Ýó³·áñÍáõÃÛáõÝÁ Ï³ï³ñ»ÉÁ
E4: 14-16 ï³ñ»Ï³ÝáõÙ | F4: 16-18 ï³ñ»Ï³ÝáõÙ | G4: ÀÝ¹³Ù»ÝÁ | H4: ³ÕçÇÏÝ»ñ | I4: ã»Ý ³ßË³ï»É, ã»Ý ëáíáñ»É | J4: ³ÝÓÇÝù, áñáÝù Ñ³Ýó³·áñÍáõÃÛáõÝÁ Ï³ï³ñ»É »Ý | M4: ² ½ ³ ï ³ ½ ñ Ï áõ Ù | U4: ³ÛÉ å³ïÇÅÝ»ñ | Y4: ·ïÝí»É »Ý áëïÇÏ³ÝáõÃÛ³Ý Ù³ñÙÇÝÝ»ñáõÙ Ñ³ßí³éÙ³Ý Ù»ç | Z4: Ï³ï³ñ»É »Ý Ñ³Ýó³·áñÍáõÃÛáõÝ ¨ »Õ»É »Ý
Z5: ³½³ïí³Í ùñ»³Ï³Ý å³ï³ëË³Ý³ïíáõÃÛáõÝÇó | AA5: ¹³ï³å³ñïí³Í | AB5: ²Û¹ ÃíáõÙ
B6: êîàô¶Æâ Ð²ì²ê²ðàôØÜºð 3=1+2, 16=9+10+11+12+13+14+15, 3=16+17+18+19 | J6: ³ÉÏ., ÃÙñ³ÙÇç. Ï³Ù ÃÝñ»óÝáÕ ³ÛÉ ÝÛáõÃ»ñÇ ³½¹»óáõÃÛ³Ý ï³Ï | K6: ØÇ ËáõÙµ ³ÝÓ³Ýó Ï³½ÙáõÙ | L6: ³Û¹ ÃíáõÙª Ù»Í³Ñ³ë³ÏÝ»ñÇ Ù³ëÝ³ÏóáõÃÛ³Ùµ | M6: 1 ï³ñÇ Ý»ñ³éÛ³É | N6: 1 ï³ñáõó ³í»É, ÙÇÝã¨ 2 ï³ñÇ Ý»ñ³éÛ³É | O6: 2 ï³ñáõó ³í»É, ÙÇÝã¨ 3 ï³ñÇ Ý»ñ³éÛ³É | P6: 3 ï³ñáõó ³í»É, ÙÇÝã¨ 5 ï³ñÇ Ý»ñ³éÛ³É | Q6: 5 ï³ñáõó ³í»É, ÙÇÝã¨ 8 ï³ñÇ Ý»ñ³éÛ³É | R6: 8 ï³ñáõó ³í»É, ÙÇÝã¨ 10 ï³ñÇ Ý»ñ³éÛ³É | S6: 10 ï³ñáõó ³í»É, ÙÇÝã¨ 12ï³ñÇ Ý»ñ³éÛ³É | T6: ÁÝ¹³Ù»ÝÁ | AB6: ¹³ï³í×éÇ Ï³ï³ñÙ³Ý Ñ»ï³Ó·áõÙáí | AC6: å³ÛÙ³Ý³Ï³Ý ¹³ï³å³ñïáõÃÛáõÝ
E7: 1 | F7: 2 | G7: 3 | H7: 4 | I7: 5 | J7: 6 | K7: 7 | L7: 8 | M7: 9 | N7: 10 | O7: 11 | P7: 12 | Q7: 13 | R7: 14 | S7: 15 | T7: 16 | U7: 17 | V7: 18 | W7: 19 | X7: 20 | Y7: 21 | Z7: 22 | AA7: 23 | AB7: 24 | AC7: 25 | AE7: 3=1+2 | AG7: 16=9+10+11+12+13+14+15 | AI7: 3=16+17
A8: 1. | B8: ÀÝ¹³Ù»ÝÁ ÏÛ³ÝùÇ ¨ ³éáÕçáõÃÛ³Ý ¹»Ù áõÕÕí³Í Ñ³Ýó³·áñÍáõÃÛáõÝÝ»ñÁ | E8: =SUM(E9:E35) -> 0 | F8: =SUM(F9:F35) -> 2 | G8: =SUM(G9:G35) -> 2 | H8: =SUM(H9:H35) -> 0 | I8: =SUM(I9:I35) -> 2 | J8: =SUM(J9:J35) -> 0 | K8: =SUM(K9:K35) -> 0 | L8: =SUM(L9:L35) -> 1 | ... AC8: =SUM(AC9:AC35) -> 0 | AD8: =SUM(T8:W8) -> 3 | AE8: =G8 -> 2 | AF8: =E8+F8 -> 2 | AG8: =T8 -> 1 | AH8: =M8+N8+O8+P8+Q8+R8+S8 -> 1 | AI8: =G8 -> 2 | AJ8: =T8+U8 -> 2
A9: 1.1 | B9: êå³ÝáõÃÛáõÝÁ | D9: 104 | AD9: =SUM(T9:W9) -> 0 | AE9: =G9 -> 0 | AF9: =E9+F9 -> 0 | AG9: =T9 -> 0 | AH9: =M9+N9+O9+P9+Q9+R9+S9 -> 0 | AI9: =G9 -> 0 | AJ9: =T9+U9 -> 0
A10: 1.2 | B10: Ðá·»Ï³Ý ËÇëï Ñáõ½ÙáõÝùÇ íÇ×³ÏáõÙ Ï³ï³ñí³Í ëå³ÝáõÃÛáõÝÁ | D10: 105 | AD10: =SUM(T10:W10) -> 0 | AE10: =G10 -> 0 | AF10: =E10+F10 -> 0 | AG10: =T10 -> 0 | AH10: =M10+N10+O10+P10+Q10+R10+S10 -> 0 | AI10: =G10 -> 0 | AJ10: =T10+U10 -> 0
A11: 1.3 | B11: Øáñ ÏáÕÙÇó Ýáñ³ÍÇÝ »ñ»Ë³ÛÇ ëå³ÝáõÃÛáõÝÁ | D11: 106 | AD11: =SUM(T11:W11) -> 0 | AE11: =G11 -> 0 | AF11: =E11+F11 -> 0 | AG11: =T11 -> 0 | AH11: =M11+N11+O11+P11+Q11+R11+S11 -> 0 | AI11: =G11 -> 0 | AJ11: =T11+U11 -> 0
A12: 1.4 | B12: Ð³Ýó³Ýù Ï³ï³ñ³Í ³ÝÓÇÝ µéÝ»Éáõ Ñ³Ù³ñ ³ÝÑñ³Å»ßï ÙÇçáóÝ»ñÇ ë³ÑÙ³Ý³½³ÝóÙ³Ùµ ëå³ÝáõÃÛáõÝÁ | D12: 107 | AD12: =SUM(T12:W12) -> 0 | AE12: =G12 -> 0 | AF12: =E12+F12 -> 0 | AG12: =T12 -> 0 | AH12: =M12+N12+O12+P12+Q12+R12+S12 -> 0 | AI12: =G12 -> 0 | AJ12: =T12+U12 -> 0
A13: 1.5 | B13: ²ÝÑñ³Å»ßï å³ßïå³ÝáõÃÛ³Ý ë³ÑÙ³Ý³½³ÝóÙ³Ùµ ëå³ÝáõÃÛáõÝÁ | D13: 108 | AD13: =SUM(T13:W13) -> 0 | AE13: =G13 -> 0 | AF13: =E13+F13 -> 0 | AG13: =T13 -> 0 | AH13: =M13+N13+O13+P13+Q13+R13+S13 -> 0 | AI13: =G13 -> 0 | AJ13: =T13+U13 -> 0
A14: 1.6 | B14: ²Ý½·áõßáõÃÛ³Ùµ Ù³Ñ å³ï×³é»ÉÁ | D14: 109 | AD14: =SUM(T14:W14) -> 0 | AE14: =G14 -> 0 | AF14: =E14+F14 -> 0 | AG14: =T14 -> 0 | AH14: =M14+N14+O14+P14+Q14+R14+S14 -> 0 | AI14: =G14 -> 0 | AJ14: =T14+U14 -> 0
A15: 1.7 | B15: ÆÝùÝ³ëå³ÝáõÃÛ³Ý Ñ³ëóÝ»ÉÁ | D15: 110 | AD15: =SUM(T15:W15) -> 0 | AE15: =G15 -> 0 | AF15: =E15+F15 -> 0 | AG15: =T15 -> 0 | AH15: =M15+N15+O15+P15+Q15+R15+S15 -> 0 | AI15: =G15 -> 0 | AJ15: =T15+U15 -> 0
A16: 1.8 | B16: ÆÝùÝ³ëå³ÝáõÃÛ³Ý Ñ³Ï»ÉÁ | D16: 111 | AD16: =SUM(T16:W16) -> 0 | AE16: =G16 -> 0 | AF16: =E16+F16 -> 0 | AG16: =T16 -> 0 | AH16: =M16+N16+O16+P16+Q16+R16+S16 -> 0 | AI16: =G16 -> 0 | AJ16: =T16+U16 -> 0
A17: 1.9 | B17: ¸Çï³íáñáõÃÛ³Ùµ ³éáÕçáõÃÛ³ÝÁ Í³Ýñ íÝ³ë å³ï×³é»ÉÁ | D17: 112 | F17: 2 | G17: 2 | I17: 2 | L17: 1 | N17: 1 | T17: 1 | U17: 1 | V17: 1 | AD17: =SUM(T17:W17) -> 3 | AE17: =G17 -> 2 | AF17: =E17+F17 -> 2 | AG17: =T17 -> 1 | AH17: =M17+N17+O17+P17+Q17+R17+S17 -> 1 | AI17: =G17 -> 2 | AJ17: =T17+U17 -> 2
A18: 1.10 | B18: ¸Çï³íáñáõÃÛ³Ùµ ³éáÕçáõÃÛ³ÝÁ ÙÇçÇÝ Í³ÝñáõÃÛ³Ý íÝ³ë å³ï×³é»ÉÁ | D18: 113 | AD18: =SUM(T18:W18) -> 0 | AE18: =G18 -> 0 | AF18: =E18+F18 -> 0 | AG18: =T18 -> 0 | AH18: =M18+N18+O18+P18+Q18+R18+S18 -> 0 | AI18: =G18 -> 0 | AJ18: =T18+U18 -> 0
A19: 1.11 | B19: Ðá·»Ï³Ý ËÇëï Ñáõ½ÙáõÝùÇ íÇ×³ÏáõÙ ³éáÕçáõÃÛ³ÝÁ Í³Ýñ Ï³Ù ÙÇçÇÝ Í³ÝñáõÃÛ³Ý íÝ³ë å³ï×³é»ÉÁ | D19: 114 | AD19: =SUM(T19:W19) -> 0 | AE19: =G19 -> 0 | AF19: =E19+F19 -> 0 | AG19: =T19 -> 0 | AH19: =M19+N19+O19+P19+Q19+R19+S19 -> 0 | AI19: =G19 -> 0 | AJ19: =T19+U19 -> 0
A20: 1.12 | B20: Ð³Ýó³Ýù Ï³ï³ñ³Í ³ÝÓÇÝ µéÝ»Éáõ Ñ³Ù³ñ ³ÝÑñ³Å»ßï ÙÇçáóÝ»ñÇ ë³ÑÙ³Ý½³ÝóÙ³Ùµ ³éáÕçáõÃÛ³ÝÁ Í³Ýñ Ï³Ù ÙÇçÇÝ Í³ÝñáõÃÛ³Ý íÝ³ë å³ï×³é»ÉÁ | D20: 115 | AD20: =SUM(T20:W20) -> 0 | AE20: =G20 -> 0 | AF20: =E20+F20 -> 0 | AG20: =T20 -> 0 | AH20: =M20+N20+O20+P20+Q20+R20+S20 -> 0 | AI20: =G20 -> 0 | AJ20: =T20+U20 -> 0
A21: 1.13 | B21: ²éáÕçáõÃÛ³ÝÁ Í³Ýñ Ï³Ù ÙÇçÇÝ Í³ÝñáõÃÛ³Ý íÝ³ë å³ï×³é»ÉÁ ³ÝÑñ³Å»ßï å³ßïå³ÝáõÃÛ³Ý ë³ÑÙ³Ý³Ý³½³ÝóÙ³Ùµ | D21: 116 | AD21: =SUM(T21:W21) -> 0 | AE21: =G21 -> 0 | AF21: =E21+F21 -> 0 | AG21: =T21 -> 0 | AH21: =M21+N21+O21+P21+Q21+R21+S21 -> 0 | AI21: =G21 -> 0 | AJ21: =T21+U21 -> 0
