Workbook

Sheet Ընդամենը
A1: Ð²ÞìºîìàôÂÚàôÜ
A2: ²Üâ²ö²Ð²ê ¸²î²ä²ðîÚ²ÈÜºðÆ ìºð²´ºðÚ²È | Y2: 2016Ã.
A3: ìÇ×³Ï³·ñ³Ï³Ý ïáÕÇ Ñ³Ù³ñÁ | B3: Ð²Üò²¶àðÌàôÂÚàôÜÜºðÆ îºê²ÎÜºðÀ | D3: ÐÐ øñ»³Ï³Ý ûñ»Ýë·ñùÇ Ñá¹í³ÍÁ | E3: Ð³Ýó³·áñÍáõÃÛáõÝÁ Ï³ï³ñ»É »Ý | H3: Ýñ³ÝóÇó | M3: ¸³ï³å³ñïÛ³ÉÝ»ñÇ ÝÏ³ïÙ³Ùµ Ýß³Ý³Ïí³Í ÑÇÙÝ³Ï³Ý å³ïÇÅÝ»ñ | V3: Ýß³Ý³Ïí³Í å³ïÇÅÁ å³ÛÙ³Ý³Ï³Ýáñ»Ý ãÇ ÏÇñ³éí»É | W3: ÏÇñ³éí»É ¿ Ñ³Ù³Ý»ñÙ³Ý ³Ïï | X3: ÎÇñ³éí»É »Ý ¹³ëïÇ³ñ³Ïã³Ï³Ý µÝáõÛÃÇ Ñ³ñÏ³¹ñ³ÝùÇ ÙÇçáó | Y3: ²ÝÓ³Ýó ÃÇíÁ, áñáÝù ÙÇÝã¨ í»ñçÇÝ Ñ³Ýó³·áñÍáõÃÛáõÝÁ Ï³ï³ñ»ÉÁ
E4: 14-16 ï³ñ»Ï³ÝáõÙ | F4: 16-18 ï³ñ»Ï³ÝáõÙ | G4: ÀÝ¹³Ù»ÝÁ | H4: ³ÕçÇÏÝ»ñ | I4: ã»Ý ³ßË³ï»É, ã»Ý ëáíáñ»É | J4: ³ÝÓÇÝù, áñáÝù Ñ³Ýó³·áñÍáõÃÛáõÝÁ Ï³ï³ñ»É »Ý | M4: ² ½ ³ ï ³ ½ ñ Ï áõ Ù | U4: ³ÛÉ å³ïÇÅÝ»ñ | Y4: ·ïÝí»É »Ý áëïÇÏ³ÝáõÃÛ³Ý Ù³ñÙÇÝÝ»ñáõÙ Ñ³ßí³éÙ³Ý Ù»ç | Z4: Ï³ï³ñ»É »Ý Ñ³Ýó³·áñÍáõÃÛáõÝ ¨ »Õ»É »Ý
Z5: ³½³ïí³Í ùñ»³Ï³Ý å³ï³ëË³Ý³ïíáõÃÛáõÝÇó | AA5: ¹³ï³å³ñïí³Í | AB5: ²Û¹ ÃíáõÙ
B6: êîàô¶Æâ Ð²ì²ê²ðàôØÜºð 3=1+2, 16=9+10+11+12+13+14+15, 3=16+17+18+19 | J6: ³ÉÏ., ÃÙñ³ÙÇç. Ï³Ù ÃÝñ»óÝáÕ ³ÛÉ ÝÛáõÃ»ñÇ ³½¹»óáõÃÛ³Ý ï³Ï | K6: ØÇ ËáõÙµ ³ÝÓ³Ýó Ï³½ÙáõÙ | L6: ³Û¹ ÃíáõÙª Ù»Í³Ñ³ë³ÏÝ»ñÇ Ù³ëÝ³ÏóáõÃÛ³Ùµ | M6: 1 ï³ñÇ Ý»ñ³éÛ³É | N6: 1 ï³ñáõó ³í»É, ÙÇÝã¨ 2 ï³ñÇ Ý»ñ³éÛ³É | O6: 2 ï³ñáõó ³í»É, ÙÇÝã¨ 3 ï³ñÇ Ý»ñ³éÛ³É | P6: 3 ï³ñáõó ³í»É, ÙÇÝã¨ 5 ï³ñÇ Ý»ñ³éÛ³É | Q6: 5 ï³ñáõó ³í»É, ÙÇÝã¨ 8 ï³ñÇ Ý»ñ³éÛ³É | R6: 8 ï³ñáõó ³í»É, ÙÇÝã¨ 10 ï³ñÇ Ý»ñ³éÛ³É | S6: 10 ï³ñáõó ³í»É, ÙÇÝã¨ 12ï³ñÇ Ý»ñ³éÛ³É | T6: ÁÝ¹³Ù»ÝÁ | AB6: ¹³ï³í×éÇ Ï³ï³ñÙ³Ý Ñ»ï³Ó·áõÙáí | AC6: å³ÛÙ³Ý³Ï³Ý ¹³ï³å³ñïáõÃÛáõÝ
E7: 1 | F7: 2 | G7: 3 | H7: 4 | I7: 5 | J7: 6 | K7: 7 | L7: 8 | M7: 9 | N7: 10 | O7: 11 | P7: 12 | Q7: 13 | R7: 14 | S7: 15 | T7: 16 | U7: 17 | V7: 18 | W7: 19 | X7: 20 | Y7: 21 | Z7: 22 | AA7: 23 | AB7: 24 | AC7: 25 | AE7: 3=1+2 | AG7: 16=9+10+11+12+13+14+15 | AI7: 3=16+17
A8: 1. | B8: ÀÝ¹³Ù»ÝÁ ÏÛ³ÝùÇ ¨ ³éáÕçáõÃÛ³Ý ¹»Ù áõÕÕí³Í Ñ³Ýó³·áñÍáõÃÛáõÝÝ»ñÁ | E8: =SUM(Ajapnyak:Gexarquniq!E8) -> 1 | F8: =SUM(Ajapnyak:Gexarquniq!F8) -> 9 | G8: =SUM(Ajapnyak:Gexarquniq!G8) -> 10 | H8: =SUM(Ajapnyak:Gexarquniq!H8) -> 1 | I8: =SUM(Ajapnyak:Gexarquniq!I8) -> 5 | J8: =SUM(Ajapnyak:Gexarquniq!J8) -> 0 | K8: =SUM(Ajapnyak:Gexarquniq!K8) -> 0 | L8: =SUM(Ajapnyak:Gexarquniq!L8) -> 1 | ... AD8: =SUM(Ajapnyak:Gexarquniq!AD8) -> 16 | AE8: =G8 -> 10 | AF8: =E8+F8 -> 10 | AG8: =T8 -> 8 | AH8: =M8+N8+O8+P8+Q8+R8+S8 -> 8 | AI8: =G8 -> 10 | AJ8: =T8+U8 -> 10
A9: 1.1 | B9: êå³ÝáõÃÛáõÝÁ | D9: 104 | E9: =SUM(Ajapnyak:Gexarquniq!E9) -> 0 | F9: =SUM(Ajapnyak:Gexarquniq!F9) -> 0 | G9: =SUM(Ajapnyak:Gexarquniq!G9) -> 0 | H9: =SUM(Ajapnyak:Gexarquniq!H9) -> 0 | I9: =SUM(Ajapnyak:Gexarquniq!I9) -> 0 | J9: =SUM(Ajapnyak:Gexarquniq!J9) -> 0 | K9: =SUM(Ajapnyak:Gexarquniq!K9) -> 0 | L9: =SUM(Ajapnyak:Gexarquniq!L9) -> 0 | ... AC9: =SUM(Ajapnyak:Gexarquniq!AC9) -> 0 | AD9: =SUM(T9:W9) -> 0 | AE9: =G9 -> 0 | AF9: =E9+F9 -> 0 | AG9: =T9 -> 0 | AH9: =M9+N9+O9+P9+Q9+R9+S9 -> 0 | AI9: =G9 -> 0 | AJ9: =T9+U9 -> 0
A10: 1.2 | B10: Ðá·»Ï³Ý ËÇëï Ñáõ½ÙáõÝùÇ íÇ×³ÏáõÙ Ï³ï³ñí³Í ëå³ÝáõÃÛáõÝÁ | D10: 105 | E10: =SUM(Ajapnyak:Gexarquniq!E10) -> 0 | F10: =SUM(Ajapnyak:Gexarquniq!F10) -> 0 | G10: =SUM(Ajapnyak:Gexarquniq!G10) -> 0 | H10: =SUM(Ajapnyak:Gexarquniq!H10) -> 0 | I10: =SUM(Ajapnyak:Gexarquniq!I10) -> 0 | J10: =SUM(Ajapnyak:Gexarquniq!J10) -> 0 | K10: =SUM(Ajapnyak:Gexarquniq!K10) -> 0 | L10: =SUM(Ajapnyak:Gexarquniq!L10) -> 0 | ... AC10: =SUM(Ajapnyak:Gexarquniq!AC10) -> 0 | AD10: =SUM(T10:W10) -> 0 | AE10: =G10 -> 0 | AF10: =E10+F10 -> 0 | AG10: =T10 -> 0 | AH10: =M10+N10+O10+P10+Q10+R10+S10 -> 0 | AI10: =G10 -> 0 | AJ10: =T10+U10 -> 0
A11: 1.3 | B11: Øáñ ÏáÕÙÇó Ýáñ³ÍÇÝ »ñ»Ë³ÛÇ ëå³ÝáõÃÛáõÝÁ | D11: 106 | E11: =SUM(Ajapnyak:Gexarquniq!E11) -> 0 | F11: =SUM(Ajapnyak:Gexarquniq!F11) -> 0 | G11: =SUM(Ajapnyak:Gexarquniq!G11) -> 0 | H11: =SUM(Ajapnyak:Gexarquniq!H11) -> 0 | I11: =SUM(Ajapnyak:Gexarquniq!I11) -> 0 | J11: =SUM(Ajapnyak:Gexarquniq!J11) -> 0 | K11: =SUM(Ajapnyak:Gexarquniq!K11) -> 0 | L11: =SUM(Ajapnyak:Gexarquniq!L11) -> 0 | ... AC11: =SUM(Ajapnyak:Gexarquniq!AC11) -> 0 | AD11: =SUM(T11:W11) -> 0 | AE11: =G11 -> 0 | AF11: =E11+F11 -> 0 | AG11: =T11 -> 0 | AH11: =M11+N11+O11+P11+Q11+R11+S11 -> 0 | AI11: =G11 -> 0 | AJ11: =T11+U11 -> 0
A12: 1.4 | B12: Ð³Ýó³Ýù Ï³ï³ñ³Í ³ÝÓÇÝ µéÝ»Éáõ Ñ³Ù³ñ ³ÝÑñ³Å»ßï ÙÇçáóÝ»ñÇ ë³ÑÙ³Ý³½³ÝóÙ³Ùµ ëå³ÝáõÃÛáõÝÁ | D12: 107 | E12: =SUM(Ajapnyak:Gexarquniq!E12) -> 0 | F12: =SUM(Ajapnyak:Gexarquniq!F12) -> 0 | G12: =SUM(Ajapnyak:Gexarquniq!G12) -> 0 | H12: =SUM(Ajapnyak:Gexarquniq!H12) -> 0 | I12: =SUM(Ajapnyak:Gexarquniq!I12) -> 0 | J12: =SUM(Ajapnyak:Gexarquniq!J12) -> 0 | K12: =SUM(Ajapnyak:Gexarquniq!K12) -> 0 | L12: =SUM(Ajapnyak:Gexarquniq!L12) -> 0 | ... AC12: =SUM(Ajapnyak:Gexarquniq!AC12) -> 0 | AD12: =SUM(T12:W12) -> 0 | AE12: =G12 -> 0 | AF12: =E12+F12 -> 0 | AG12: =T12 -> 0 | AH12: =M12+N12+O12+P12+Q12+R12+S12 -> 0 | AI12: =G12 -> 0 | AJ12: =T12+U12 -> 0
A13: 1.5 | B13: ²ÝÑñ³Å»ßï å³ßïå³ÝáõÃÛ³Ý ë³ÑÙ³Ý³½³ÝóÙ³Ùµ ëå³ÝáõÃÛáõÝÁ | D13: 108 | E13: =SUM(Ajapnyak:Gexarquniq!E13) -> 0 | F13: =SUM(Ajapnyak:Gexarquniq!F13) -> 0 | G13: =SUM(Ajapnyak:Gexarquniq!G13) -> 0 | H13: =SUM(Ajapnyak:Gexarquniq!H13) -> 0 | I13: =SUM(Ajapnyak:Gexarquniq!I13) -> 0 | J13: =SUM(Ajapnyak:Gexarquniq!J13) -> 0 | K13: =SUM(Ajapnyak:Gexarquniq!K13) -> 0 | L13: =SUM(Ajapnyak:Gexarquniq!L13) -> 0 | ... AC13: =SUM(Ajapnyak:Gexarquniq!AC13) -> 0 | AD13: =SUM(T13:W13) -> 0 | AE13: =G13 -> 0 | AF13: =E13+F13 -> 0 | AG13: =T13 -> 0 | AH13: =M13+N13+O13+P13+Q13+R13+S13 -> 0 | AI13: =G13 -> 0 | AJ13: =T13+U13 -> 0
A14: 1.6 | B14: ²Ý½·áõßáõÃÛ³Ùµ Ù³Ñ å³ï×³é»ÉÁ | D14: 109 | E14: =SUM(Ajapnyak:Gexarquniq!E14) -> 0 | F14: =SUM(Ajapnyak:Gexarquniq!F14) -> 0 | G14: =SUM(Ajapnyak:Gexarquniq!G14) -> 0 | H14: =SUM(Ajapnyak:Gexarquniq!H14) -> 0 | I14: =SUM(Ajapnyak:Gexarquniq!I14) -> 0 | J14: =SUM(Ajapnyak:Gexarquniq!J14) -> 0 | K14: =SUM(Ajapnyak:Gexarquniq!K14) -> 0 | L14: =SUM(Ajapnyak:Gexarquniq!L14) -> 0 | ... AC14: =SUM(Ajapnyak:Gexarquniq!AC14) -> 0 | AD14: =SUM(T14:W14) -> 0 | AE14: =G14 -> 0 | AF14: =E14+F14 -> 0 | AG14: =T14 -> 0 | AH14: =M14+N14+O14+P14+Q14+R14+S14 -> 0 | AI14: =G14 -> 0 | AJ14: =T14+U14 -> 0
A15: 1.7 | B15: ÆÝùÝ³ëå³ÝáõÃÛ³Ý Ñ³ëóÝ»ÉÁ | D15: 110 | E15: =SUM(Ajapnyak:Gexarquniq!E15) -> 0 | F15: =SUM(Ajapnyak:Gexarquniq!F15) -> 0 | G15: =SUM(Ajapnyak:Gexarquniq!G15) -> 0 | H15: =SUM(Ajapnyak:Gexarquniq!H15) -> 0 | I15: =SUM(Ajapnyak:Gexarquniq!I15) -> 0 | J15: =SUM(Ajapnyak:Gexarquniq!J15) -> 0 | K15: =SUM(Ajapnyak:Gexarquniq!K15) -> 0 | L15: =SUM(Ajapnyak:Gexarquniq!L15) -> 0 | ... AC15: =SUM(Ajapnyak:Gexarquniq!AC15) -> 0 | AD15: =SUM(T15:W15) -> 0 | AE15: =G15 -> 0 | AF15: =E15+F15 -> 0 | AG15: =T15 -> 0 | AH15: =M15+N15+O15+P15+Q15+R15+S15 -> 0 | AI15: =G15 -> 0 | AJ15: =T15+U15 -> 0
A16: 1.8 | B16: ÆÝùÝ³ëå³ÝáõÃÛ³Ý Ñ³Ï»ÉÁ | D16: 111 | E16: =SUM(Ajapnyak:Gexarquniq!E16) -> 0 | F16: =SUM(Ajapnyak:Gexarquniq!F16) -> 0 | G16: =SUM(Ajapnyak:Gexarquniq!G16) -> 0 | H16: =SUM(Ajapnyak:Gexarquniq!H16) -> 0 | I16: =SUM(Ajapnyak:Gexarquniq!I16) -> 0 | J16: =SUM(Ajapnyak:Gexarquniq!J16) -> 0 | K16: =SUM(Ajapnyak:Gexarquniq!K16) -> 0 | L16: =SUM(Ajapnyak:Gexarquniq!L16) -> 0 | ... AC16: =SUM(Ajapnyak:Gexarquniq!AC16) -> 0 | AD16: =SUM(T16:W16) -> 0 | AE16: =G16 -> 0 | AF16: =E16+F16 -> 0 | AG16: =T16 -> 0 | AH16: =M16+N16+O16+P16+Q16+R16+S16 -> 0 | AI16: =G16 -> 0 | AJ16: =T16+U16 -> 0
A17: 1.9 | B17: ¸Çï³íáñáõÃÛ³Ùµ ³éáÕçáõÃÛ³ÝÁ Í³Ýñ íÝ³ë å³ï×³é»ÉÁ | D17: 112 | E17: =SUM(Ajapnyak:Gexarquniq!E17) -> 1 | F17: =SUM(Ajapnyak:Gexarquniq!F17) -> 7 | G17: =SUM(Ajapnyak:Gexarquniq!G17) -> 8 | H17: =SUM(Ajapnyak:Gexarquniq!H17) -> 0 | I17: =SUM(Ajapnyak:Gexarquniq!I17) -> 4 | J17: =SUM(Ajapnyak:Gexarquniq!J17) -> 0 | K17: =SUM(Ajapnyak:Gexarquniq!K17) -> 0 | L17: =SUM(Ajapnyak:Gexarquniq!L17) -> 1 | ... AC17: =SUM(Ajapnyak:Gexarquniq!AC17) -> 0 | AD17: =SUM(T17:W17) -> 14 | AE17: =G17 -> 8 | AF17: =E17+F17 -> 8 | AG17: =T17 -> 7 | AH17: =M17+N17+O17+P17+Q17+R17+S17 -> 7 | AI17: =G17 -> 8 | AJ17: =T17+U17 -> 8
A18: 1.10 | B18: ¸Çï³íáñáõÃÛ³Ùµ ³éáÕçáõÃÛ³ÝÁ ÙÇçÇÝ Í³ÝñáõÃÛ³Ý íÝ³ë å³ï×³é»ÉÁ | D18: 113 | E18: =SUM(Ajapnyak:Gexarquniq!E18) -> 0 | F18: =SUM(Ajapnyak:Gexarquniq!F18) -> 1 | G18: =SUM(Ajapnyak:Gexarquniq!G18) -> 1 | H18: =SUM(Ajapnyak:Gexarquniq!H18) -> 0 | I18: =SUM(Ajapnyak:Gexarquniq!I18) -> 0 | J18: =SUM(Ajapnyak:Gexarquniq!J18) -> 0 | K18: =SUM(Ajapnyak:Gexarquniq!K18) -> 0 | L18: =SUM(Ajapnyak:Gexarquniq!L18) -> 0 | ... AC18: =SUM(Ajapnyak:Gexarquniq!AC18) -> 0 | AD18: =SUM(T18:W18) -> 1 | AE18: =G18 -> 1 | AF18: =E18+F18 -> 1 | AG18: =T18 -> 1 | AH18: =M18+N18+O18+P18+Q18+R18+S18 -> 1 | AI18: =G18 -> 1 | AJ18: =T18+U18 -> 1
A19: 1.11 | B19: Ðá·»Ï³Ý ËÇëï Ñáõ½ÙáõÝùÇ íÇ×³ÏáõÙ ³éáÕçáõÃÛ³ÝÁ Í³Ýñ Ï³Ù ÙÇçÇÝ Í³ÝñáõÃÛ³Ý íÝ³ë å³ï×³é»ÉÁ | D19: 114 | E19: =SUM(Ajapnyak:Gexarquniq!E19) -> 0 | F19: =SUM(Ajapnyak:Gexarquniq!F19) -> 0 | G19: =SUM(Ajapnyak:Gexarquniq!G19) -> 0 | H19: =SUM(Ajapnyak:Gexarquniq!H19) -> 0 | I19: =SUM(Ajapnyak:Gexarquniq!I19) -> 0 | J19: =SUM(Ajapnyak:Gexarquniq!J19) -> 0 | K19: =SUM(Ajapnyak:Gexarquniq!K19) -> 0 | L19: =SUM(Ajapnyak:Gexarquniq!L19) -> 0 | ... AC19: =SUM(Ajapnyak:Gexarquniq!AC19) -> 0 | AD19: =SUM(T19:W19) -> 0 | AE19: =G19 -> 0 | AF19: =E19+F19 -> 0 | AG19: =T19 -> 0 | AH19: =M19+N19+O19+P19+Q19+R19+S19 -> 0 | AI19: =G19 -> 0 | AJ19: =T19+U19 -> 0
A20: 1.12 | B20: Ð³Ýó³Ýù Ï³ï³ñ³Í ³ÝÓÇÝ µéÝ»Éáõ Ñ³Ù³ñ ³ÝÑñ³Å»ßï ÙÇçáóÝ»ñÇ ë³ÑÙ³Ý½³ÝóÙ³Ùµ ³éáÕçáõÃÛ³ÝÁ Í³Ýñ Ï³Ù ÙÇçÇÝ Í³ÝñáõÃÛ³Ý íÝ³ë å³ï×³é»ÉÁ | D20: 115 | E20: =SUM(Ajapnyak:Gexarquniq!E20) -> 0 | F20: =SUM(Ajapnyak:Gexarquniq!F20) -> 0 | G20: =SUM(Ajapnyak:Gexarquniq!G20) -> 0 | H20: =SUM(Ajapnyak:Gexarquniq!H20) -> 0 | I20: =SUM(Ajapnyak:Gexarquniq!I20) -> 0 | J20: =SUM(Ajapnyak:Gexarquniq!J20) -> 0 | K20: =SUM(Ajapnyak:Gexarquniq!K20) -> 0 | L20: =SUM(Ajapnyak:Gexarquniq!L20) -> 0 | ... AC20: =SUM(Ajapnyak:Gexarquniq!AC20) -> 0 | AD20: =SUM(T20:W20) -> 0 | AE20: =G20 -> 0 | AF20: =E20+F20 -> 0 | AG20: =T20 -> 0 | AH20: =M20+N20+O20+P20+Q20+R20+S20 -> 0 | AI20: =G20 -> 0 | AJ20: =T20+U20 -> 0
A21: 1.13 | B21: ²éáÕçáõÃÛ³ÝÁ Í³Ýñ Ï³Ù ÙÇçÇÝ Í³ÝñáõÃÛ³Ý íÝ³ë å³ï×³é»ÉÁ ³ÝÑñ³Å»ßï å³ßïå³ÝáõÃÛ³Ý ë³ÑÙ³Ý³Ý³½³ÝóÙ³Ùµ | D21: 116 | E21: =SUM(Ajapnyak:Gexarquniq!E21) -> 0 | F21: =SUM(Ajapnyak:Gexarquniq!F21) -> 0 | G21: =SUM(Ajapnyak:Gexarquniq!G21) -> 0 | H21: =SUM(Ajapnyak:Gexarquniq!H21) -> 0 | I21: =SUM(Ajapnyak:Gexarquniq!I21) -> 0 | J21: =SUM(Ajapnyak:Gexarquniq!J21) -> 0 | K21: =SUM(Ajapnyak:Gexarquniq!K21) -> 0 | L21: =SUM(Ajapnyak:Gexarquniq!L21) -> 0 | ... AC21: =SUM(Ajapnyak:Gexarquniq!AC21) -> 0 | AD21: =SUM(T21:W21) -> 0 | AE21: =G21 -> 0 | AF21: =E21+F21 -> 0 | AG21: =T21 -> 0 | AH21: =M21+N21+O21+P21+Q21+R21+S21 -> 0 | AI21: =G21 -> 0 | AJ21: =T21+U21 -> 0
A22: 1.14 | B22: ¸Çï³íáñáõÃÛ³Ùµ ³éáÕçáõÃÛ³ÝÁ Ã»Ã¨ íÝ³ë å³ï×³é»ÉÁ | D22: 117 | E22: =SUM(Ajapnyak:Gexarquniq!E22) -> 0 | F22: =SUM(Ajapnyak:Gexarquniq!F22) -> 0 | G22: =SUM(Ajapnyak:Gexarquniq!G22) -> 0 | H22: =SUM(Ajapnyak:Gexarquniq!H22) -> 0 | I22: =SUM(Ajapnyak:Gexarquniq!I22) -> 0 | J22: =SUM(Ajapnyak:Gexarquniq!J22) -> 0 | K22: =SUM(Ajapnyak:Gexarquniq!K22) -> 0 | L22: =SUM(Ajapnyak:Gexarquniq!L22) -> 0 | ... AC22: =SUM(Ajapnyak:Gexarquniq!AC22) -> 0 | AD22: =SUM(T22:W22) -> 0 | AE22: =G22 -> 0 | AF22: =E22+F22 -> 0 | AG22: =T22 -> 0 | AH22: =M22+N22+O22+P22+Q22+R22+S22 -> 0 | AI22: =G22 -> 0 | AJ22: =T22+U22 -> 0
A23: 1.15 | B23: Ì»ÍÁ | D23: 118 | E23: =SUM(Ajapnyak:Gexarquniq!E23) -> 0 | F23: =SUM(Ajapnyak:Gexarquniq!F23) -> 1 | G23: =SUM(Ajapnyak:Gexarquniq!G23) -> 1 | H23: =SUM(Ajapnyak:Gexarquniq!H23) -> 1 | I23: =SUM(Ajapnyak:Gexarquniq!I23) -> 1 | J23: =SUM(Ajapnyak:Gexarquniq!J23) -> 0 | K23: =SUM(Ajapnyak:Gexarquniq!K23) -> 0 | L23: =SUM(Ajapnyak:Gexarquniq!L23) -> 0 | ... AC23: =SUM(Ajapnyak:Gexarquniq!AC23) -> 0 | AD23: =SUM(T23:W23) -> 1 | AE23: =G23 -> 1 | AF23: =E23+F23 -> 1 | AG23: =T23 -> 0 | AH23: =M23+N23+O23+P23+Q23+R23+S23 -> 0 | AI23: =G23 -> 1 | AJ23: =T23+U23 -> 1
A24: 1.16 | B24: Êáßï³Ý·áõÙÁ | D24: 119 | E24: =SUM(Ajapnyak:Gexarquniq!E24) -> 0 | F24: =SUM(Ajapnyak:Gexarquniq!F24) -> 0 | G24: =SUM(Ajapnyak:Gexarquniq!G24) -> 0 | H24: =SUM(Ajapnyak:Gexarquniq!H24) -> 0 | I24: =SUM(Ajapnyak:Gexarquniq!I24) -> 0 | J24: =SUM(Ajapnyak:Gexarquniq!J24) -> 0 | K24: =SUM(Ajapnyak:Gexarquniq!K24) -> 0 | L24: =SUM(Ajapnyak:Gexarquniq!L24) -> 0 | ... AC24: =SUM(Ajapnyak:Gexarquniq!AC24) -> 0 | AD24: =SUM(T24:W24) -> 0 | AE24: =G24 -> 0 | AF24: =E24+F24 -> 0 | AG24: =T24 -> 0 | AH24: =M24+N24+O24+P24+Q24+R24+S24 -> 0 | AI24: =G24 -> 0 | AJ24: =T24+U24 -> 0
A25: 1.17 | B25: ²Ý½·áõßáõÃÛ³Ùµ ³éáÕçáõÃÛ³ÝÁ Í³Ýñ íÝ³ë å³ï×³é»ÉÁ | D25: 120 | E25: =SUM(Ajapnyak:Gexarquniq!E25) -> 0 | F25: =SUM(Ajapnyak:Gexarquniq!F25) -> 0 | G25: =SUM(Ajapnyak:Gexarquniq!G25) -> 0 | H25: =SUM(Ajapnyak:Gexarquniq!H25) -> 0 | I25: =SUM(Ajapnyak:Gexarquniq!I25) -> 0 | J25: =SUM(Ajapnyak:Gexarquniq!J25) -> 0 | K25: =SUM(Ajapnyak:Gexarquniq!K25) -> 0 | L25: =SUM(Ajapnyak:Gexarquniq!L25) -> 0 | ... AC25: =SUM(Ajapnyak:Gexarquniq!AC25) -> 0 | AD25: =SUM(T25:W25) -> 0 | AE25: =G25 -> 0 | AF25: =E25+F25 -> 0 | AG25: =T25 -> 0 | AH25: =M25+N25+O25+P25+Q25+R25+S25 -> 0 | AI25: =G25 -> 0 | AJ25: =T25+U25 -> 0
A26: 1.18 | B26: ²Ý½·áõßáõÃÛ³Ùµ ³éáÕçáõÃÛ³ÝÁ ÙÇçÇÝ Í³ÝñáõÃÛ³Ý íÝ³ë å³ï×³é»ÉÁ | D26: 121 | E26: =SUM(Ajapnyak:Gexarquniq!E26) -> 0 | F26: =SUM(Ajapnyak:Gexarquniq!F26) -> 0 | G26: =SUM(Ajapnyak:Gexarquniq!G26) -> 0 | H26: =SUM(Ajapnyak:Gexarquniq!H26) -> 0 | I26: =SUM(Ajapnyak:Gexarquniq!I26) -> 0 | J26: =SUM(Ajapnyak:Gexarquniq!J26) -> 0 | K26: =SUM(Ajapnyak:Gexarquniq!K26) -> 0 | L26: =SUM(Ajapnyak:Gexarquniq!L26) -> 0 | ... AC26: =SUM(Ajapnyak:Gexarquniq!AC26) -> 0 | AD26: =SUM(T26:W26) -> 0 | AE26: =G26 -> 0 | AF26: =E26+F26 -> 0 | AG26: =T26 -> 0 | AH26: =M26+N26+O26+P26+Q26+R26+S26 -> 0 | AI26: =G26 -> 0 | AJ26: =T26+U26 -> 0
A27: 1.19 | B27: ²åûñÇÝÇ ³µáñï Ï³ï³ñ»ÉÁ | D27: 122 | E27: =SUM(Ajapnyak:Gexarquniq!E27) -> 0 | F27: =SUM(Ajapnyak:Gexarquniq!F27) -> 0 | G27: =SUM(Ajapnyak:Gexarquniq!G27) -> 0 | H27: =SUM(Ajapnyak:Gexarquniq!H27) -> 0 | I27: =SUM(Ajapnyak:Gexarquniq!I27) -> 0 | J27: =SUM(Ajapnyak:Gexarquniq!J27) -> 0 | K27: =SUM(Ajapnyak:Gexarquniq!K27) -> 0 | L27: =SUM(Ajapnyak:Gexarquniq!L27) -> 0 | ... AC27: =SUM(Ajapnyak:Gexarquniq!AC27) -> 0 | AD27: =SUM(T27:W27) -> 0 | AE27: =G27 -> 0 | AF27: =E27+F27 -> 0 | AG27: =T27 -> 0 | AH27: =M27+N27+O27+P27+Q27+R27+S27 -> 0 | AI27: =G27 -> 0 | AJ27: =T27+U27 -> 0
A28: 1.20 | B28: Ø³ñ¹áõ ÇÙáõÝ³ÛÇÝ ³Ýµ³í³ñ³ñáõÃÛ³Ý íÇñáõëÇ Ñ³ñáõóÇãáí í³ñ³Ï»ÉÁ | D28: 123 | E28: =SUM(Ajapnyak:Gexarquniq!E28) -> 0 | F28: =SUM(Ajapnyak:Gexarquniq!F28) -> 0 | G28: =SUM(Ajapnyak:Gexarquniq!G28) -> 0 | H28: =SUM(Ajapnyak:Gexarquniq!H28) -> 0 | I28: =SUM(Ajapnyak:Gexarquniq!I28) -> 0 | J28: =SUM(Ajapnyak:Gexarquniq!J28) -> 0 | K28: =SUM(Ajapnyak:Gexarquniq!K28) -> 0 | L28: =SUM(Ajapnyak:Gexarquniq!L28) -> 0 | ... AC28: =SUM(Ajapnyak:Gexarquniq!AC28) -> 0 | AD28: =SUM(T28:W28) -> 0 | AE28: =G28 -> 0 | AF28: =E28+F28 -> 0 | AG28: =T28 -> 0 | AH28: =M28+N28+O28+P28+Q28+R28+S28 -> 0 | AI28: =G28 -> 0 | AJ28: =T28+U28 -> 0
A29: 1.21 | B29: ì»Ý»ñ³Ï³Ý ÑÇí³Ý¹áõÃÛ³Ùµ Ï³Ù ³ÛÉ ë»é³í³ñ³ÏÝ»ñáí í³ñ³Ï»ÉÁ | D29: 124 | E29: =SUM(Ajapnyak:Gexarquniq!E29) -> 0 | F29: =SUM(Ajapnyak:Gexarquniq!F29) -> 0 | G29: =SUM(Ajapnyak:Gexarquniq!G29) -> 0 | H29: =SUM(Ajapnyak:Gexarquniq!H29) -> 0 | I29: =SUM(Ajapnyak:Gexarquniq!I29) -> 0 | J29: =SUM(Ajapnyak:Gexarquniq!J29) -> 0 | K29: =SUM(Ajapnyak:Gexarquniq!K29) -> 0 | L29: =SUM(Ajapnyak:Gexarquniq!L29) -> 0 | ... AC29: =SUM(Ajapnyak:Gexarquniq!AC29) -> 0 | AD29: =SUM(T29:W29) -> 0 | AE29: =G29 -> 0 | AF29: =E29+F29 -> 0 | AG29: =T29 -> 0 | AH29: =M29+N29+O29+P29+Q29+R29+S29 -> 0 | AI29: =G29 -> 0 | AJ29: =T29+U29 -> 0
... A34: 1.27 | B34: ´ÅßÏ³Ï³Ý û·ÝáõÃÛáõÝ ¨ ëå³ë³ñÏáõÙ Çñ³Ï³Ý³óÝáÕÝ»ñÇ ÏáÕÙÇó Ù³ëÝ³·Çï³Ï³Ý å³ñï³Ï³ÝáõÃÛáõÝÝ»ñÁ ãÏ³ï³ñ»ÉÁ Ï³Ù áã å³ïß³× Ï³ï³ñ»ÉÁ | D34: 130 | E34: =SUM(Ajapnyak:Gexarquniq!E34) -> 0 | F34: =SUM(Ajapnyak:Gexarquniq!F34) -> 0 | G34: =SUM(Ajapnyak:Gexarquniq!G34) -> 0 | H34: =SUM(Ajapnyak:Gexarquniq!H34) -> 0 | I34: =SUM(Ajapnyak:Gexarquniq!I34) -> 0 | J34: =SUM(Ajapnyak:Gexarquniq!J34) -> 0 | K34: =SUM(Ajapnyak:Gexarquniq!K34) -> 0 | L34: =SUM(Ajapnyak:Gexarquniq!L34) -> 0 | ... AC34: =SUM(Ajapnyak:Gexarquniq!AC34) -> 0 | AD34: =SUM(T34:W34) -> 0 | AE34: =G34 -> 0 | AF34: =E34+F34 -> 0 | AG34: =T34 -> 0 | AH34: =M34+N34+O34+P34+Q34+R34+S34 -> 0 | AI34: =G34 -> 0 | AJ34: =T34+U34 -> 0
A35: 1.28 | B35: ²ÛÉ Ñ³Ýó³·áñÍáõÃÛáõÝÝ»ñ | E35: =SUM(Ajapnyak:Gexarquniq!E35) -> 0 | F35: =SUM(Ajapnyak:Gexarquniq!F35) -> 0 | G35: =SUM(Ajapnyak:Gexarquniq!G35) -> 0 | H35: =SUM(Ajapnyak:Gexarquniq!H35) -> 0 | I35: =SUM(Ajapnyak:Gexarquniq!I35) -> 0 | J35: =SUM(Ajapnyak:Gexarquniq!J35) -> 0 | K35: =SUM(Ajapnyak:Gexarquniq!K35) -> 0 | L35: =SUM(Ajapnyak:Gexarquniq!L35) -> 0 | ... AC35: =SUM(Ajapnyak:Gexarquniq!AC35) -> 0 | AD35: =SUM(T35:W35) -> 0 | AE35: =G35 -> 0 | AF35: =E35+F35 -> 0 | AG35: =T35 -> 0 | AH35: =M35+N35+O35+P35+Q35+R35+S35 -> 0 | AI35: =G35 -> 0 | AJ35: =T35+U35 -> 0
A36: 2. | B36: ÀÝ¹³Ù»ÝÁ ³ÝÓÇ ³½³ïáõÃÛ³Ý, å³ïíÇ ¨ ³ñÅ³Ý³å³ïíáõÃÛ³Ý ¹»Ù áõÕÕí³Í Ñ³Ýó³·áñÍáõÃÛáõÝÝ»ñÁ | E36: =SUM(Ajapnyak:Gexarquniq!E36) -> 0 | F36: =SUM(Ajapnyak:Gexarquniq!F36) -> 1 | G36: =SUM(Ajapnyak:Gexarquniq!G36) -> 1 | H36: =SUM(Ajapnyak:Gexarquniq!H36) -> 0 | I36: =SUM(Ajapnyak:Gexarquniq!I36) -> 1 | J36: =SUM(Ajapnyak:Gexarquniq!J36) -> 0 | K36: =SUM(Ajapnyak:Gexarquniq!K36) -> 0 | L36: =SUM(Ajapnyak:Gexarquniq!L36) -> 1 | ... AC36: =SUM(Ajapnyak:Gexarquniq!AC36) -> 0 | AD36: =SUM(T36:W36) -> 2 | AE36: =G36 -> 1 | AF36: =E36+F36 -> 1 | AG36: =T36 -> 1 | AH36: =M36+N36+O36+P36+Q36+R36+S36 -> 1 | AI36: =G36 -> 1 | AJ36: =T36+U36 -> 1
A37: 2.1 | B37: Ø³ñ¹áõÝ ³é¨³Ý·»ÉÁ | D37: 131 | E37: =SUM(Ajapnyak:Gexarquniq!E37) -> 0 | F37: =SUM(Ajapnyak:Gexarquniq!F37) -> 1 | G37: =SUM(Ajapnyak:Gexarquniq!G37) -> 1 | H37: =SUM(Ajapnyak:Gexarquniq!H37) -> 0 | I37: =SUM(Ajapnyak:Gexarquniq!I37) -> 1 | J37: =SUM(Ajapnyak:Gexarquniq!J37) -> 0 | K37: =SUM(Ajapnyak:Gexarquniq!K37) -> 0 | L37: =SUM(Ajapnyak:Gexarquniq!L37) -> 1 | ... AC37: =SUM(Ajapnyak:Gexarquniq!AC37) -> 0 | AD37: =SUM(T37:W37) -> 2 | AE37: =G37 -> 1 | AF37: =E37+F37 -> 1 | AG37: =T37 -> 1 | AH37: =M37+N37+O37+P37+Q37+R37+S37 -> 1 | AI37: =G37 -> 1 | AJ37: =T37+U37 -> 1
A38: 2.2 | B38: Þ³Ñ³·áñÍÙ³Ý Ýå³ï³Ïáí Ù³ñ¹áõÝ Ñ³í³ù³·ñ»ÉÁ, ÷áË³¹ñ»ÉÁ, Ñ³ÝÓÝ»ÉÁ, Ã³ùóÝ»ÉÁ Ï³Ù ëï³Ý³ÉÁ | D38: 132 | E38: =SUM(Ajapnyak:Gexarquniq!E38) -> 0 | F38: =SUM(Ajapnyak:Gexarquniq!F38) -> 0 | G38: =SUM(Ajapnyak:Gexarquniq!G38) -> 0 | H38: =SUM(Ajapnyak:Gexarquniq!H38) -> 0 | I38: =SUM(Ajapnyak:Gexarquniq!I38) -> 0 | J38: =SUM(Ajapnyak:Gexarquniq!J38) -> 0 | K38: =SUM(Ajapnyak:Gexarquniq!K38) -> 0 | L38: =SUM(Ajapnyak:Gexarquniq!L38) -> 0 | ... AC38: =SUM(Ajapnyak:Gexarquniq!AC38) -> 0 | AD38: =SUM(T38:W38) -> 0 | AE38: =G38 -> 0 | AF38: =E38+F38 -> 0 | AG38: =T38 -> 0 | AH38: =M38+N38+O38+P38+Q38+R38+S38 -> 0 | AI38: =G38 -> 0 | AJ38: =T38+U38 -> 0
A39: 2.2.1 | B39: Ø³ñ¹áõÝ åáéÝÇÏáõÃÛ³Ý Ï³Ù ë»é³Ï³Ý ß³Ñ³·áñÍÙ³Ý ³ÛÉ Ó¨»ñÇ Ù»ç, Ñ³ñÏ³¹Çñ ³ßË³ï³ÝùÇ Ï³Ù Í³é³ÛáõÃÛáõÝÝ»ñÇ Ý»ñ·ñ³í»ÉÁ Ï³Ù ëïñÏáõÃÛ³Ý Ï³Ù ëïñÏáõÃÛ³ÝÁ ÝÙ³ÝíáÕ íÇ×³ÏÇ Ù»ç ¹Ý»ÉÁ Ï³Ù å³Ñ»ÉÁ | D39: 132.1 | E39: =SUM(Ajapnyak:Gexarquniq!E39) -> 0 | F39: =SUM(Ajapnyak:Gexarquniq!F39) -> 0 | G39: =SUM(Ajapnyak:Gexarquniq!G39) -> 0 | H39: =SUM(Ajapnyak:Gexarquniq!H39) -> 0 | I39: =SUM(Ajapnyak:Gexarquniq!I39) -> 0 | J39: =SUM(Ajapnyak:Gexarquniq!J39) -> 0 | K39: =SUM(Ajapnyak:Gexarquniq!K39) -> 0 | L39: =SUM(Ajapnyak:Gexarquniq!L39) -> 0 | ... AC39: =SUM(Ajapnyak:Gexarquniq!AC39) -> 0 | AD39: =SUM(T39:W39) -> 0 | AE39: =G39 -> 0 | AF39: =E39+F39 -> 0 | AG39: =T39 -> 0 | AH39: =M39+N39+O39+P39+Q39+R39+S39 -> 0 | AI39: =G39 -> 0 | AJ39: =T39+U39 -> 0
A40: 2.3 | B40: ²½³ïáõÃÛáõÝÇó ³åûñÇÝÇ ½ñÏ»ÉÁ | D40: 133 | E40: =SUM(Ajapnyak:Gexarquniq!E40) -> 0 | F40: =SUM(Ajapnyak:Gexarquniq!F40) -> 0 | G40: =SUM(Ajapnyak:Gexarquniq!G40) -> 0 | H40: =SUM(Ajapnyak:Gexarquniq!H40) -> 0 | I40: =SUM(Ajapnyak:Gexarquniq!I40) -> 0 | J40: =SUM(Ajapnyak:Gexarquniq!J40) -> 0 | K40: =SUM(Ajapnyak:Gexarquniq!K40) -> 0 | L40: =SUM(Ajapnyak:Gexarquniq!L40) -> 0 | ... AC40: =SUM(Ajapnyak:Gexarquniq!AC40) -> 0 | AD40: =SUM(T40:W40) -> 0 | AE40: =G40 -> 0 | AF40: =E40+F40 -> 0 | AG40: =T40 -> 0 | AH40: =M40+N40+O40+P40+Q40+R40+S40 -> 0 | AI40: =G40 -> 0 | AJ40: =T40+U40 -> 0
A41: 2.4 | B41: Ðá·»µáõÅ³Ï³Ý ÑÇí³Ý¹³ÝáóáõÙ ³åûñÇÝÇ ï»Õ³íáñ»ÉÁ Ï³Ù å³Ñ»ÉÁ | D41: 134 | E41: =SUM(Ajapnyak:Gexarquniq!E41) -> 0 | F41: =SUM(Ajapnyak:Gexarquniq!F41) -> 0 | G41: =SUM(Ajapnyak:Gexarquniq!G41) -> 0 | H41: =SUM(Ajapnyak:Gexarquniq!H41) -> 0 | I41: =SUM(Ajapnyak:Gexarquniq!I41) -> 0 | J41: =SUM(Ajapnyak:Gexarquniq!J41) -> 0 | K41: =SUM(Ajapnyak:Gexarquniq!K41) -> 0 | L41: =SUM(Ajapnyak:Gexarquniq!L41) -> 0 | ... AC41: =SUM(Ajapnyak:Gexarquniq!AC41) -> 0 | AD41: =SUM(T41:W41) -> 0 | AE41: =G41 -> 0 | AF41: =E41+F41 -> 0 | AG41: =T41 -> 0 | AH41: =M41+N41+O41+P41+Q41+R41+S41 -> 0 | AI41: =G41 -> 0 | AJ41: =T41+U41 -> 0
A42: 2.7 | B42: êå³ÝáõÃÛ³Ý, ³éáÕçáõÃÛ³ÝÁ Í³Ýñ íÝ³ë å³ï×³é»Éáõ Ï³Ù ·áõÛù áãÝã³óÝ»Éáõ ëå³éÝ³ÉÇùÁ | D42: 137 | E42: =SUM(Ajapnyak:Gexarquniq!E42) -> 0 | F42: =SUM(Ajapnyak:Gexarquniq!F42) -> 0 | G42: =SUM(Ajapnyak:Gexarquniq!G42) -> 0 | H42: =SUM(Ajapnyak:Gexarquniq!H42) -> 0 | I42: =SUM(Ajapnyak:Gexarquniq!I42) -> 0 | J42: =SUM(Ajapnyak:Gexarquniq!J42) -> 0 | K42: =SUM(Ajapnyak:Gexarquniq!K42) -> 0 | L42: =SUM(Ajapnyak:Gexarquniq!L42) -> 0 | ... AC42: =SUM(Ajapnyak:Gexarquniq!AC42) -> 0 | AD42: =SUM(T42:W42) -> 0 | AE42: =G42 -> 0 | AF42: =E42+F42 -> 0 | AG42: =T42 -> 0 | AH42: =M42+N42+O42+P42+Q42+R42+S42 -> 0 | AI42: =G42 -> 0 | AJ42: =T42+U42 -> 0
A43: 2.8 | B43: ²ÛÉ Ñ³Ýó³·áñÍáõÃÛáõÝÝ»ñ | E43: =SUM(Ajapnyak:Gexarquniq!E43) -> 0 | F43: =SUM(Ajapnyak:Gexarquniq!F43) -> 0 | G43: =SUM(Ajapnyak:Gexarquniq!G43) -> 0 | H43: =SUM(Ajapnyak:Gexarquniq!H43) -> 0 | I43: =SUM(Ajapnyak:Gexarquniq!I43) -> 0 | J43: =SUM(Ajapnyak:Gexarquniq!J43) -> 0 | K43: =SUM(Ajapnyak:Gexarquniq!K43) -> 0 | L43: =SUM(Ajapnyak:Gexarquniq!L43) -> 0 | ... AC43: =SUM(Ajapnyak:Gexarquniq!AC43) -> 0 | AD43: =SUM(T43:W43) -> 0 | AE43: =G43 -> 0 | AF43: =E43+F43 -> 0 | AG43: =T43 -> 0 | AH43: =M43+N43+O43+P43+Q43+R43+S43 -> 0 | AI43: =G43 -> 0 | AJ43: =T43+U43 -> 0
A44: 3. | B44: ÀÝ¹³Ù»ÝÁ ë»é³Ï³Ý ³ÝÓ»éÝÙË»ÉÇáõÃÛ³Ý ¨ ë»é³Ï³Ý ³½³ïáõÃÛ³Ý ¹»Ù áõÕÕí³Í Ñ³Ýó³·áñÍáõÃÛáõÝÝ»ñÁ | E44: =SUM(Ajapnyak:Gexarquniq!E44) -> 0 | F44: =SUM(Ajapnyak:Gexarquniq!F44) -> 0 | G44: =SUM(Ajapnyak:Gexarquniq!G44) -> 0 | H44: =SUM(Ajapnyak:Gexarquniq!H44) -> 0 | I44: =SUM(Ajapnyak:Gexarquniq!I44) -> 0 | J44: =SUM(Ajapnyak:Gexarquniq!J44) -> 0 | K44: =SUM(Ajapnyak:Gexarquniq!K44) -> 0 | L44: =SUM(Ajapnyak:Gexarquniq!L44) -> 0 | ... AC44: =SUM(Ajapnyak:Gexarquniq!AC44) -> 0 | AD44: =SUM(T44:W44) -> 0 | AE44: =G44 -> 0 | AF44: =E44+F44 -> 0 | AG44: =T44 -> 0 | AH44: =M44+N44+O44+P44+Q44+R44+S44 -> 0 | AI44: =G44 -> 0 | AJ44: =T44+U44 -> 0
A45: 3.1 | B45: ´éÝ³µ³ñáõÃÛáõÝÁ | D45: 138 | E45: =SUM(Ajapnyak:Gexarquniq!E45) -> 0 | F45: =SUM(Ajapnyak:Gexarquniq!F45) -> 0 | G45: =SUM(Ajapnyak:Gexarquniq!G45) -> 0 | H45: =SUM(Ajapnyak:Gexarquniq!H45) -> 0 | I45: =SUM(Ajapnyak:Gexarquniq!I45) -> 0 | J45: =SUM(Ajapnyak:Gexarquniq!J45) -> 0 | K45: =SUM(Ajapnyak:Gexarquniq!K45) -> 0 | L45: =SUM(Ajapnyak:Gexarquniq!L45) -> 0 | ... AC45: =SUM(Ajapnyak:Gexarquniq!AC45) -> 0 | AD45: =SUM(T45:W45) -> 0 | AE45: =G45 -> 0 | AF45: =E45+F45 -> 0 | AG45: =T45 -> 0 | AH45: =M45+N45+O45+P45+Q45+R45+S45 -> 0 | AI45: =G45 -> 0 | AJ45: =T45+U45 -> 0
A46: 3.2 | B46: ê»ùëáõ³É µÝáõÛÃÇ µéÝÇ ·áñÍáÕáõÃÛáõÝÝ»ñÁ | D46: 139 | E46: =SUM(Ajapnyak:Gexarquniq!E46) -> 0 | F46: =SUM(Ajapnyak:Gexarquniq!F46) -> 0 | G46: =SUM(Ajapnyak:Gexarquniq!G46) -> 0 | H46: =SUM(Ajapnyak:Gexarquniq!H46) -> 0 | I46: =SUM(Ajapnyak:Gexarquniq!I46) -> 0 | J46: =SUM(Ajapnyak:Gexarquniq!J46) -> 0 | K46: =SUM(Ajapnyak:Gexarquniq!K46) -> 0 | L46: =SUM(Ajapnyak:Gexarquniq!L46) -> 0 | ... AC46: =SUM(Ajapnyak:Gexarquniq!AC46) -> 0 | AD46: =SUM(T46:W46) -> 0 | AE46: =G46 -> 0 | AF46: =E46+F46 -> 0 | AG46: =T46 -> 0 | AH46: =M46+N46+O46+P46+Q46+R46+S46 -> 0 | AI46: =G46 -> 0 | AJ46: =T46+U46 -> 0
A47: 3.3 | B47: ê»ùëáõ³É µÝáõÛÃÇ ·áñÍáÕáõÃÛáõÝÝ»ñÇÝ Ñ³ñÏ³¹ñ»ÉÁ | D47: 140 | E47: =SUM(Ajapnyak:Gexarquniq!E47) -> 0 | F47: =SUM(Ajapnyak:Gexarquniq!F47) -> 0 | G47: =SUM(Ajapnyak:Gexarquniq!G47) -> 0 | H47: =SUM(Ajapnyak:Gexarquniq!H47) -> 0 | I47: =SUM(Ajapnyak:Gexarquniq!I47) -> 0 | J47: =SUM(Ajapnyak:Gexarquniq!J47) -> 0 | K47: =SUM(Ajapnyak:Gexarquniq!K47) -> 0 | L47: =SUM(Ajapnyak:Gexarquniq!L47) -> 0 | ... AC47: =SUM(Ajapnyak:Gexarquniq!AC47) -> 0 | AD47: =SUM(T47:W47) -> 0 | AE47: =G47 -> 0 | AF47: =E47+F47 -> 0 | AG47: =T47 -> 0 | AH47: =M47+N47+O47+P47+Q47+R47+S47 -> 0 | AI47: =G47 -> 0 | AJ47: =T47+U47 -> 0
A48: 3.4 | B48: ê»ùëáõ³É µÝáõÛÃÇ ·áñÍáÕáõÃÛáõÝÝ»ñ Ï³ï³ñ»ÉÁ ï³ëÝí»ó ï³ñÇÝ ãÉñ³ó³Í ³ÝÓÇ Ñ»ï | D48: 141 | E48: =SUM(Ajapnyak:Gexarquniq!E48) -> 0 | F48: =SUM(Ajapnyak:Gexarquniq!F48) -> 0 | G48: =SUM(Ajapnyak:Gexarquniq!G48) -> 0 | H48: =SUM(Ajapnyak:Gexarquniq!H48) -> 0 | I48: =SUM(Ajapnyak:Gexarquniq!I48) -> 0 | J48: =SUM(Ajapnyak:Gexarquniq!J48) -> 0 | K48: =SUM(Ajapnyak:Gexarquniq!K48) -> 0 | L48: =SUM(Ajapnyak:Gexarquniq!L48) -> 0 | ... AC48: =SUM(Ajapnyak:Gexarquniq!AC48) -> 0 | AD48: =SUM(T48:W48) -> 0 | AE48: =G48 -> 0 | AF48: =E48+F48 -> 0 | AG48: =T48 -> 0 | AH48: =M48+N48+O48+P48+Q48+R48+S48 -> 0 | AI48: =G48 -> 0 | AJ48: =T48+U48 -> 0
A49: 3.5 | B49: ²Ý³é³Ï³µ³ñá ·áñÍáÕáõÃÛáõÝÝ»ñÁ | D49: 142 | E49: =SUM(Ajapnyak:Gexarquniq!E49) -> 0 | F49: =SUM(Ajapnyak:Gexarquniq!F49) -> 0 | G49: =SUM(Ajapnyak:Gexarquniq!G49) -> 0 | H49: =SUM(Ajapnyak:Gexarquniq!H49) -> 0 | I49: =SUM(Ajapnyak:Gexarquniq!I49) -> 0 | J49: =SUM(Ajapnyak:Gexarquniq!J49) -> 0 | K49: =SUM(Ajapnyak:Gexarquniq!K49) -> 0 | L49: =SUM(Ajapnyak:Gexarquniq!L49) -> 0 | ... AC49: =SUM(Ajapnyak:Gexarquniq!AC49) -> 0 | AD49: =SUM(T49:W49) -> 0 | AE49: =G49 -> 0 | AF49: =E49+F49 -> 0 | AG49: =T49 -> 0 | AH49: =M49+N49+O49+P49+Q49+R49+S49 -> 0 | AI49: =G49 -> 0 | AJ49: =T49+U49 -> 0
A50: 3.6 | B50: ²ÛÉ Ñ³Ýó³·áñÍáõÃÛáõÝÝ»ñ | E50: =SUM(Ajapnyak:Gexarquniq!E50) -> 0 | F50: =SUM(Ajapnyak:Gexarquniq!F50) -> 0 | G50: =SUM(Ajapnyak:Gexarquniq!G50) -> 0 | H50: =SUM(Ajapnyak:Gexarquniq!H50) -> 0 | I50: =SUM(Ajapnyak:Gexarquniq!I50) -> 0 | J50: =SUM(Ajapnyak:Gexarquniq!J50) -> 0 | K50: =SUM(Ajapnyak:Gexarquniq!K50) -> 0 | L50: =SUM(Ajapnyak:Gexarquniq!L50) -> 0 | ... AC50: =SUM(Ajapnyak:Gexarquniq!AC50) -> 0 | AD50: =SUM(T50:W50) -> 0 | AE50: =G50 -> 0 | AF50: =E50+F50 -> 0 | AG50: =T50 -> 0 | AH50: =M50+N50+O50+P50+Q50+R50+S50 -> 0 | AI50: =G50 -> 0 | AJ50: =T50+U50 -> 0
A51: 4. | B51: ÀÝ¹³Ù»ÝÁ Ù³ñ¹áõ ¨ ù³Õ³ù³óáõ ë³ÑÙ³Ý³¹ñ³Ï³Ý Çñ³íáõÝùÝ»ñÇ ¨ ³½³ïáõÃÛáõÝÝ»ñÇ ¹»Ù áõÕÕí³Í Ñ³Ýó³·áñÍáõÃÛáõÝÝ»ñÁ | E51: =SUM(Ajapnyak:Gexarquniq!E51) -> 0 | F51: =SUM(Ajapnyak:Gexarquniq!F51) -> 1 | G51: =SUM(Ajapnyak:Gexarquniq!G51) -> 1 | H51: =SUM(Ajapnyak:Gexarquniq!H51) -> 0 | I51: =SUM(Ajapnyak:Gexarquniq!I51) -> 1 | J51: =SUM(Ajapnyak:Gexarquniq!J51) -> 0 | K51: =SUM(Ajapnyak:Gexarquniq!K51) -> 0 | L51: =SUM(Ajapnyak:Gexarquniq!L51) -> 0 | ... AC51: =SUM(Ajapnyak:Gexarquniq!AC51) -> 0 | AD51: =SUM(T51:W51) -> 1 | AE51: =G51 -> 1 | AF51: =E51+F51 -> 1 | AG51: =T51 -> 0 | AH51: =M51+N51+O51+P51+Q51+R51+S51 -> 0 | AI51: =G51 -> 1 | AJ51: =T51+U51 -> 1
A52: 4.1 | B52: ø³Õ³ù³óÇÝ»ñÇ Çñ³í³Ñ³í³ë³ñáõÃÛáõÝÁ Ë³Ëï»ÉÁ | D52: 143 | E52: =SUM(Ajapnyak:Gexarquniq!E52) -> 0 | F52: =SUM(Ajapnyak:Gexarquniq!F52) -> 0 | G52: =SUM(Ajapnyak:Gexarquniq!G52) -> 0 | H52: =SUM(Ajapnyak:Gexarquniq!H52) -> 0 | I52: =SUM(Ajapnyak:Gexarquniq!I52) -> 0 | J52: =SUM(Ajapnyak:Gexarquniq!J52) -> 0 | K52: =SUM(Ajapnyak:Gexarquniq!K52) -> 0 | L52: =SUM(Ajapnyak:Gexarquniq!L52) -> 0 | ... AC52: =SUM(Ajapnyak:Gexarquniq!AC52) -> 0 | AD52: =SUM(T52:W52) -> 0 | AE52: =G52 -> 0 | AF52: =E52+F52 -> 0 | AG52: =T52 -> 0 | AH52: =M52+N52+O52+P52+Q52+R52+S52 -> 0 | AI52: =G52 -> 0 | AJ52: =T52+U52 -> 0
A53: 4.2 | B53: ²ÝÓÝ³Ï³Ý Ï³Ù ÁÝï³Ý»Ï³Ý ÏÛ³ÝùÇ Ù³ëÇÝ ï»Õ»ÏáõÃÛáõÝÝ»ñ ³åûñÇÝÇ Ñ³í³ù»ÉÁ, å³Ñ»ÉÁ, û·ï³·áñÍ»ÉÁ Ï³Ù ï³ñ³Í»ÉÁ | D53: 144 | E53: =SUM(Ajapnyak:Gexarquniq!E53) -> 0 | F53: =SUM(Ajapnyak:Gexarquniq!F53) -> 0 | G53: =SUM(Ajapnyak:Gexarquniq!G53) -> 0 | H53: =SUM(Ajapnyak:Gexarquniq!H53) -> 0 | I53: =SUM(Ajapnyak:Gexarquniq!I53) -> 0 | J53: =SUM(Ajapnyak:Gexarquniq!J53) -> 0 | K53: =SUM(Ajapnyak:Gexarquniq!K53) -> 0 | L53: =SUM(Ajapnyak:Gexarquniq!L53) -> 0 | ... AC53: =SUM(Ajapnyak:Gexarquniq!AC53) -> 0 | AD53: =SUM(T53:W53) -> 0 | AE53: =G53 -> 0 | AF53: =E53+F53 -> 0 | AG53: =T53 -> 0 | AH53: =M53+N53+O53+P53+Q53+R53+S53 -> 0 | AI53: =G53 -> 0 | AJ53: =T53+U53 -> 0
A54: 4.3 | B54: ´ÅßÏ³Ï³Ý ·³ÕïÝÇùÁ Ññ³å³ñ³Ï»ÉÁ | D54: 145 | E54: =SUM(Ajapnyak:Gexarquniq!E54) -> 0 | F54: =SUM(Ajapnyak:Gexarquniq!F54) -> 0 | G54: =SUM(Ajapnyak:Gexarquniq!G54) -> 0 | H54: =SUM(Ajapnyak:Gexarquniq!H54) -> 0 | I54: =SUM(Ajapnyak:Gexarquniq!I54) -> 0 | J54: =SUM(Ajapnyak:Gexarquniq!J54) -> 0 | K54: =SUM(Ajapnyak:Gexarquniq!K54) -> 0 | L54: =SUM(Ajapnyak:Gexarquniq!L54) -> 0 | ... AC54: =SUM(Ajapnyak:Gexarquniq!AC54) -> 0 | AD54: =SUM(T54:W54) -> 0 | AE54: =G54 -> 0 | AF54: =E54+F54 -> 0 | AG54: =T54 -> 0 | AH54: =M54+N54+O54+P54+Q54+R54+S54 -> 0 | AI54: =G54 -> 0 | AJ54: =T54+U54 -> 0
A55: 4.4 | B55: Ü³Ù³Ï³·ñáõÃÛ³Ý, Ñ»é³Ëáë³ÛÇÝ Ëáë³ÏóáõÃÛáõÝÝ»ñÇ, ÷áëï³ÛÇÝ, Ñ»é³·ñ³Ï³Ý Ï³Ù ³ÛÉ Ñ³Õáñ¹áõÙÝ»ñÇ ·³ÕïÝÇáõÃÛáõÝÁ Ë³Ëï»ÉÁ | D55: 146 | E55: =SUM(Ajapnyak:Gexarquniq!E55) -> 0 | F55: =SUM(Ajapnyak:Gexarquniq!F55) -> 0 | G55: =SUM(Ajapnyak:Gexarquniq!G55) -> 0 | H55: =SUM(Ajapnyak:Gexarquniq!H55) -> 0 | I55: =SUM(Ajapnyak:Gexarquniq!I55) -> 0 | J55: =SUM(Ajapnyak:Gexarquniq!J55) -> 0 | K55: =SUM(Ajapnyak:Gexarquniq!K55) -> 0 | L55: =SUM(Ajapnyak:Gexarquniq!L55) -> 0 | ... AC55: =SUM(Ajapnyak:Gexarquniq!AC55) -> 0 | AD55: =SUM(T55:W55) -> 0 | AE55: =G55 -> 0 | AF55: =E55+F55 -> 0 | AG55: =T55 -> 0 | AH55: =M55+N55+O55+P55+Q55+R55+S55 -> 0 | AI55: =G55 -> 0 | AJ55: =T55+U55 -> 0
A56: 4.5 | B56: ´Ý³Ï³ñ³ÝÇ ³ÝÓ»éÝÙË»ÉÇáõÃÛáõÝÁ Ë³Ëï»ÉÁ | D56: 147 | E56: =SUM(Ajapnyak:Gexarquniq!E56) -> 0 | F56: =SUM(Ajapnyak:Gexarquniq!F56) -> 1 | G56: =SUM(Ajapnyak:Gexarquniq!G56) -> 1 | H56: =SUM(Ajapnyak:Gexarquniq!H56) -> 0 | I56: =SUM(Ajapnyak:Gexarquniq!I56) -> 1 | J56: =SUM(Ajapnyak:Gexarquniq!J56) -> 0 | K56: =SUM(Ajapnyak:Gexarquniq!K56) -> 0 | L56: =SUM(Ajapnyak:Gexarquniq!L56) -> 0 | ... AC56: =SUM(Ajapnyak:Gexarquniq!AC56) -> 0 | AD56: =SUM(T56:W56) -> 1 | AE56: =G56 -> 1 | AF56: =E56+F56 -> 1 | AG56: =T56 -> 0 | AH56: =M56+N56+O56+P56+Q56+R56+S56 -> 0 | AI56: =G56 -> 1 | AJ56: =T56+U56 -> 1
A57: 4.6 | B57: ²ÝÓÇÝ ï»Õ»ÏáõÃÛáõÝ Ý»ñÏ³Û³óÝ»Éáõó Ññ³Å³ñí»ÉÁ | D57: 148 | E57: =SUM(Ajapnyak:Gexarquniq!E57) -> 0 | F57: =SUM(Ajapnyak:Gexarquniq!F57) -> 0 | G57: =SUM(Ajapnyak:Gexarquniq!G57) -> 0 | H57: =SUM(Ajapnyak:Gexarquniq!H57) -> 0 | I57: =SUM(Ajapnyak:Gexarquniq!I57) -> 0 | J57: =SUM(Ajapnyak:Gexarquniq!J57) -> 0 | K57: =SUM(Ajapnyak:Gexarquniq!K57) -> 0 | L57: =SUM(Ajapnyak:Gexarquniq!L57) -> 0 | ... AC57: =SUM(Ajapnyak:Gexarquniq!AC57) -> 0 | AD57: =SUM(T57:W57) -> 0 | AE57: =G57 -> 0 | AF57: =E57+F57 -> 0 | AG57: =T57 -> 0 | AH57: =M57+N57+O57+P57+Q57+R57+S57 -> 0 | AI57: =G57 -> 0 | AJ57: =T57+U57 -> 0
A58: 4.7 | B58: ÀÝïñ³Ï³Ý Çñ³íáõÝùÇ Çñ³Ï³Ý³óÙ³ÝÁ, ÁÝïñ³Ï³Ý Ñ³ÝÓÝ³ÅáÕáíÝ»ñÇ ³ßË³ï³ÝùÝ»ñÇÝ Ï³Ù ÁÝïñáõÃÛ³ÝÁ Ù³ëÝ³ÏóáÕ ³ÝÓ³Ýó ÉÇ³½áñáõÃÛáõÝÝ»ñÇ Çñ³Ï³Ý³óÙ³ÝÁ ËáãÁÝ¹áï»ÉÁ | D58: 149 | E58: =SUM(Ajapnyak:Gexarquniq!E58) -> 0 | F58: =SUM(Ajapnyak:Gexarquniq!F58) -> 0 | G58: =SUM(Ajapnyak:Gexarquniq!G58) -> 0 | H58: =SUM(Ajapnyak:Gexarquniq!H58) -> 0 | I58: =SUM(Ajapnyak:Gexarquniq!I58) -> 0 | J58: =SUM(Ajapnyak:Gexarquniq!J58) -> 0 | K58: =SUM(Ajapnyak:Gexarquniq!K58) -> 0 | L58: =SUM(Ajapnyak:Gexarquniq!L58) -> 0 | ... AC58: =SUM(Ajapnyak:Gexarquniq!AC58) -> 0 | AD58: =SUM(T58:W58) -> 0 | AE58: =G58 -> 0 | AF58: =E58+F58 -> 0 | AG58: =T58 -> 0 | AH58: =M58+N58+O58+P58+Q58+R58+S58 -> 0 | AI58: =G58 -> 0 | AJ58: =T58+U58 -> 0
A59: 4.8 | B59: ÀÝïñáõÃÛáõÝÝ»ñÇ Ï³Ù ùí»³ñÏáõÃÛ³Ý ³ñ¹ÛáõÝùÝ»ñÁ Ï»ÕÍ»ÉÁ | D59: 150 | E59: =SUM(Ajapnyak:Gexarquniq!E59) -> 0 | F59: =SUM(Ajapnyak:Gexarquniq!F59) -> 0 | G59: =SUM(Ajapnyak:Gexarquniq!G59) -> 0 | H59: =SUM(Ajapnyak:Gexarquniq!H59) -> 0 | I59: =SUM(Ajapnyak:Gexarquniq!I59) -> 0 | J59: =SUM(Ajapnyak:Gexarquniq!J59) -> 0 | K59: =SUM(Ajapnyak:Gexarquniq!K59) -> 0 | L59: =SUM(Ajapnyak:Gexarquniq!L59) -> 0 | ... AC59: =SUM(Ajapnyak:Gexarquniq!AC59) -> 0 | AD59: =SUM(T59:W59) -> 0 | AE59: =G59 -> 0 | AF59: =E59+F59 -> 0 | AG59: =T59 -> 0 | AH59: =M59+N59+O59+P59+Q59+R59+S59 -> 0 | AI59: =G59 -> 0 | AJ59: =T59+U59 -> 0
A60: 4.9 | B60: ÀÝïñáõÃÛáõÝÝ»ñÇ ³ÝóÏ³óÙ³Ý ÁÝÃ³óùáõÙ Ã»ÏÝ³ÍáõÇ, Ïáõë³ÏóáõÃÛ³Ý (Ïáõë³ÏóáõÃÛáõÝÝ»ñÇ ¹³ßÇÝùÇ) í»ñ³µ»ñÛ³É ½ñå³ñïã³Ï³Ý ï»Õ»ÏáõÃÛáõÝÝ»ñ ï³ñ³Í»ÉÁ | D60: 151 | E60: =SUM(Ajapnyak:Gexarquniq!E60) -> 0 | F60: =SUM(Ajapnyak:Gexarquniq!F60) -> 0 | G60: =SUM(Ajapnyak:Gexarquniq!G60) -> 0 | H60: =SUM(Ajapnyak:Gexarquniq!H60) -> 0 | I60: =SUM(Ajapnyak:Gexarquniq!I60) -> 0 | J60: =SUM(Ajapnyak:Gexarquniq!J60) -> 0 | K60: =SUM(Ajapnyak:Gexarquniq!K60) -> 0 | L60: =SUM(Ajapnyak:Gexarquniq!L60) -> 0 | ... AC60: =SUM(Ajapnyak:Gexarquniq!AC60) -> 0 | AD60: =SUM(T60:W60) -> 0 | AE60: =G60 -> 0 | AF60: =E60+F60 -> 0 | AG60: =T60 -> 0 | AH60: =M60+N60+O60+P60+Q60+R60+S60 -> 0 | AI60: =G60 -> 0 | AJ60: =T60+U60 -> 0
A61: 4.10 | B61: ÀÝïñáÕÝ»ñÇ óáõó³ÏÝ»ñÁ Ï³½Ù»Éáõ Ï³ñ·Á Ë³Ëï»ÉÁ | D61: 152 | E61: =SUM(Ajapnyak:Gexarquniq!E61) -> 0 | F61: =SUM(Ajapnyak:Gexarquniq!F61) -> 0 | G61: =SUM(Ajapnyak:Gexarquniq!G61) -> 0 | H61: =SUM(Ajapnyak:Gexarquniq!H61) -> 0 | I61: =SUM(Ajapnyak:Gexarquniq!I61) -> 0 | J61: =SUM(Ajapnyak:Gexarquniq!J61) -> 0 | K61: =SUM(Ajapnyak:Gexarquniq!K61) -> 0 | L61: =SUM(Ajapnyak:Gexarquniq!L61) -> 0 | ... AC61: =SUM(Ajapnyak:Gexarquniq!AC61) -> 0 | AD61: =SUM(T61:W61) -> 0 | AE61: =G61 -> 0 | AF61: =E61+F61 -> 0 | AG61: =T61 -> 0 | AH61: =M61+N61+O61+P61+Q61+R61+S61 -> 0 | AI61: =G61 -> 0 | AJ61: =T61+U61 -> 0
A62: 4.11 | B62: Ø»ÏÇó ³í»ÉÇ ³Ý·³Ù Ï³Ù ³ÛÉ ³ÝÓÇ ÷áË³ñ»Ý ùí»³ñÏ»ÉÁ | D62: 153 | E62: =SUM(Ajapnyak:Gexarquniq!E62) -> 0 | F62: =SUM(Ajapnyak:Gexarquniq!F62) -> 0 | G62: =SUM(Ajapnyak:Gexarquniq!G62) -> 0 | H62: =SUM(Ajapnyak:Gexarquniq!H62) -> 0 | I62: =SUM(Ajapnyak:Gexarquniq!I62) -> 0 | J62: =SUM(Ajapnyak:Gexarquniq!J62) -> 0 | K62: =SUM(Ajapnyak:Gexarquniq!K62) -> 0 | L62: =SUM(Ajapnyak:Gexarquniq!L62) -> 0 | ... AC62: =SUM(Ajapnyak:Gexarquniq!AC62) -> 0 | AD62: =SUM(T62:W62) -> 0 | AE62: =G62 -> 0 | AF62: =E62+F62 -> 0 | AG62: =T62 -> 0 | AH62: =M62+N62+O62+P62+Q62+R62+S62 -> 0 | AI62: =G62 -> 0 | AJ62: =T62+U62 -> 0
A63: 4.12 | B63: øí»³ñÏáõÃÛ³Ý ·³ÕïÝÇáõÃÛáõÝÁ Ë³Ëï»ÉÁ | D63: 154 | E63: =SUM(Ajapnyak:Gexarquniq!E63) -> 0 | F63: =SUM(Ajapnyak:Gexarquniq!F63) -> 0 | G63: =SUM(Ajapnyak:Gexarquniq!G63) -> 0 | H63: =SUM(Ajapnyak:Gexarquniq!H63) -> 0 | I63: =SUM(Ajapnyak:Gexarquniq!I63) -> 0 | J63: =SUM(Ajapnyak:Gexarquniq!J63) -> 0 | K63: =SUM(Ajapnyak:Gexarquniq!K63) -> 0 | L63: =SUM(Ajapnyak:Gexarquniq!L63) -> 0 | ... AC63: =SUM(Ajapnyak:Gexarquniq!AC63) -> 0 | AD63: =SUM(T63:W63) -> 0 | AE63: =G63 -> 0 | AF63: =E63+F63 -> 0 | AG63: =T63 -> 0 | AH63: =M63+N63+O63+P63+Q63+R63+S63 -> 0 | AI63: =G63 -> 0 | AJ63: =T63+U63 -> 0
... A78: 4.27 | B78: Èñ³·ñáÕÇ Ù³ëÝ³·Çï³Ï³Ý ûñÇÝ³Ï³Ý ·áñÍáÕáõÃÛ³ÝÁ ËáãÁÝ¹áï»ÉÁ | D78: 164 | E78: =SUM(Ajapnyak:Gexarquniq!E78) -> 0 | F78: =SUM(Ajapnyak:Gexarquniq!F78) -> 0 | G78: =SUM(Ajapnyak:Gexarquniq!G78) -> 0 | H78: =SUM(Ajapnyak:Gexarquniq!H78) -> 0 | I78: =SUM(Ajapnyak:Gexarquniq!I78) -> 0 | J78: =SUM(Ajapnyak:Gexarquniq!J78) -> 0 | K78: =SUM(Ajapnyak:Gexarquniq!K78) -> 0 | L78: =SUM(Ajapnyak:Gexarquniq!L78) -> 0 | ... AC78: =SUM(Ajapnyak:Gexarquniq!AC78) -> 0 | AD78: =SUM(T78:W78) -> 0 | AE78: =G78 -> 0 | AF78: =E78+F78 -> 0 | AG78: =T78 -> 0 | AH78: =M78+N78+O78+P78+Q78+R78+S78 -> 0 | AI78: =G78 -> 0 | AJ78: =T78+U78 -> 0
A79: 4.28 | B79: ²ÛÉ Ñ³Ýó³·áñÍáõÃÛáõÝÝ»ñ | E79: =SUM(Ajapnyak:Gexarquniq!E79) -> 0 | F79: =SUM(Ajapnyak:Gexarquniq!F79) -> 0 | G79: =SUM(Ajapnyak:Gexarquniq!G79) -> 0 | H79: =SUM(Ajapnyak:Gexarquniq!H79) -> 0 | I79: =SUM(Ajapnyak:Gexarquniq!I79) -> 0 | J79: =SUM(Ajapnyak:Gexarquniq!J79) -> 0 | K79: =SUM(Ajapnyak:Gexarquniq!K79) -> 0 | L79: =SUM(Ajapnyak:Gexarquniq!L79) -> 0 | ... AC79: =SUM(Ajapnyak:Gexarquniq!AC79) -> 0 | AD79: =SUM(T79:W79) -> 0 | AE79: =G79 -> 0 | AF79: =E79+F79 -> 0 | AG79: =T79 -> 0 | AH79: =M79+N79+O79+P79+Q79+R79+S79 -> 0 | AI79: =G79 -> 0 | AJ79: =T79+U79 -> 0
A80: 5. | B80: ÀÝ¹³Ù»ÝÁ ÁÝï³ÝÇùÇ ¨ »ñ»Ë³ÛÇ ß³Ñ»ñÇ ¹»Ù áõÕÕí³Í Ñ³Ýó³·áñÍáõÃÛáõÝÝ»ñÁ | E80: =SUM(Ajapnyak:Gexarquniq!E80) -> 0 | F80: =SUM(Ajapnyak:Gexarquniq!F80) -> 0 | G80: =SUM(Ajapnyak:Gexarquniq!G80) -> 0 | H80: =SUM(Ajapnyak:Gexarquniq!H80) -> 0 | I80: =SUM(Ajapnyak:Gexarquniq!I80) -> 0 | J80: =SUM(Ajapnyak:Gexarquniq!J80) -> 0 | K80: =SUM(Ajapnyak:Gexarquniq!K80) -> 0 | L80: =SUM(Ajapnyak:Gexarquniq!L80) -> 0 | ... AC80: =SUM(Ajapnyak:Gexarquniq!AC80) -> 0 | AD80: =SUM(T80:W80) -> 0 | AE80: =G80 -> 0 | AF80: =E80+F80 -> 0 | AG80: =T80 -> 0 | AH80: =M80+N80+O80+P80+Q80+R80+S80 -> 0 | AI80: =G80 -> 0 | AJ80: =T80+U80 -> 0
A81: 5.1 | B81: ²Ýã³÷³Ñ³ëÇÝ Ñ³Ýó³ÝùÇ Ï³ï³ñÙ³ÝÁ Ý»ñ·ñ³í»ÉÁ | D81: 165 | E81: =SUM(Ajapnyak:Gexarquniq!E81) -> 0 | F81: =SUM(Ajapnyak:Gexarquniq!F81) -> 0 | G81: =SUM(Ajapnyak:Gexarquniq!G81) -> 0 | H81: =SUM(Ajapnyak:Gexarquniq!H81) -> 0 | I81: =SUM(Ajapnyak:Gexarquniq!I81) -> 0 | J81: =SUM(Ajapnyak:Gexarquniq!J81) -> 0 | K81: =SUM(Ajapnyak:Gexarquniq!K81) -> 0 | L81: =SUM(Ajapnyak:Gexarquniq!L81) -> 0 | ... AC81: =SUM(Ajapnyak:Gexarquniq!AC81) -> 0 | AD81: =SUM(T81:W81) -> 0 | AE81: =G81 -> 0 | AF81: =E81+F81 -> 0 | AG81: =T81 -> 0 | AH81: =M81+N81+O81+P81+Q81+R81+S81 -> 0 | AI81: =G81 -> 0 | AJ81: =T81+U81 -> 0
A82: 5.2 | B82: ºñ»Ë³ÛÇÝ Ñ³Ï³Ñ³ë³ñ³Ï³Ï³Ý ·áñÍáÕáõÃÛáõÝÝ»ñ Ï³ï³ñ»ÉáõÝ Ý»ñ·ñ³í»ÉÁ | D82: 166 | E82: =SUM(Ajapnyak:Gexarquniq!E82) -> 0 | F82: =SUM(Ajapnyak:Gexarquniq!F82) -> 0 | G82: =SUM(Ajapnyak:Gexarquniq!G82) -> 0 | H82: =SUM(Ajapnyak:Gexarquniq!H82) -> 0 | I82: =SUM(Ajapnyak:Gexarquniq!I82) -> 0 | J82: =SUM(Ajapnyak:Gexarquniq!J82) -> 0 | K82: =SUM(Ajapnyak:Gexarquniq!K82) -> 0 | L82: =SUM(Ajapnyak:Gexarquniq!L82) -> 0 | ... AC82: =SUM(Ajapnyak:Gexarquniq!AC82) -> 0 | AD82: =SUM(T82:W82) -> 0 | AE82: =G82 -> 0 | AF82: =E82+F82 -> 0 | AG82: =T82 -> 0 | AH82: =M82+N82+O82+P82+Q82+R82+S82 -> 0 | AI82: =G82 -> 0 | AJ82: =T82+U82 -> 0
A83: 5.3 | B83: ÌÝáÕÝ»ñÇó »ñ»Ë³ÛÇÝ ³åûñÇÝÇ µ³Å³Ý»ÉÁ Ï³Ù »ñ»Ë³ÛÇÝ ÷áË»ÉÁ | D83: 167 | E83: =SUM(Ajapnyak:Gexarquniq!E83) -> 0 | F83: =SUM(Ajapnyak:Gexarquniq!F83) -> 0 | G83: =SUM(Ajapnyak:Gexarquniq!G83) -> 0 | H83: =SUM(Ajapnyak:Gexarquniq!H83) -> 0 | I83: =SUM(Ajapnyak:Gexarquniq!I83) -> 0 | J83: =SUM(Ajapnyak:Gexarquniq!J83) -> 0 | K83: =SUM(Ajapnyak:Gexarquniq!K83) -> 0 | L83: =SUM(Ajapnyak:Gexarquniq!L83) -> 0 | ... AC83: =SUM(Ajapnyak:Gexarquniq!AC83) -> 0 | AD83: =SUM(T83:W83) -> 0 | AE83: =G83 -> 0 | AF83: =E83+F83 -> 0 | AG83: =T83 -> 0 | AH83: =M83+N83+O83+P83+Q83+R83+S83 -> 0 | AI83: =G83 -> 0 | AJ83: =T83+U83 -> 0
A84: 5.4 | B84: ºñ»Ë³ÛÇ ³éù áõ í³×³éùÁ | D84: 168 | E84: =SUM(Ajapnyak:Gexarquniq!E84) -> 0 | F84: =SUM(Ajapnyak:Gexarquniq!F84) -> 0 | G84: =SUM(Ajapnyak:Gexarquniq!G84) -> 0 | H84: =SUM(Ajapnyak:Gexarquniq!H84) -> 0 | I84: =SUM(Ajapnyak:Gexarquniq!I84) -> 0 | J84: =SUM(Ajapnyak:Gexarquniq!J84) -> 0 | K84: =SUM(Ajapnyak:Gexarquniq!K84) -> 0 | L84: =SUM(Ajapnyak:Gexarquniq!L84) -> 0 | ... AC84: =SUM(Ajapnyak:Gexarquniq!AC84) -> 0 | AD84: =SUM(T84:W84) -> 0 | AE84: =G84 -> 0 | AF84: =E84+F84 -> 0 | AG84: =T84 -> 0 | AH84: =M84+N84+O84+P84+Q84+R84+S84 -> 0 | AI84: =G84 -> 0 | AJ84: =T84+U84 -> 0
A85: 5.5 | B85: àñ¹»·ñÙ³Ý ·³ÕïÝÇùÁ Ññ³å³ñ³Ï»ÉÁ Ï³Ù áñ¹»·ñÙ³Ý Ñ³Ù³Ó³ÛÝáõÃÛáõÝ ï³ÉáõÝ Ñ³Ï»ÉÁ Ï³Ù Ñ³ñÏ³¹ñ»ÉÁ | D85: 169 | E85: =SUM(Ajapnyak:Gexarquniq!E85) -> 0 | F85: =SUM(Ajapnyak:Gexarquniq!F85) -> 0 | G85: =SUM(Ajapnyak:Gexarquniq!G85) -> 0 | H85: =SUM(Ajapnyak:Gexarquniq!H85) -> 0 | I85: =SUM(Ajapnyak:Gexarquniq!I85) -> 0 | J85: =SUM(Ajapnyak:Gexarquniq!J85) -> 0 | K85: =SUM(Ajapnyak:Gexarquniq!K85) -> 0 | L85: =SUM(Ajapnyak:Gexarquniq!L85) -> 0 | ... AC85: =SUM(Ajapnyak:Gexarquniq!AC85) -> 0 | AD85: =SUM(T85:W85) -> 0 | AE85: =G85 -> 0 | AF85: =E85+F85 -> 0 | AG85: =T85 -> 0 | AH85: =M85+N85+O85+P85+Q85+R85+S85 -> 0 | AI85: =G85 -> 0 | AJ85: =T85+U85 -> 0
A86: 5.6 | B86: ø³Õ³ù³óÇ³Ï³Ý Ï³óáõÃÛ³Ý ³Ïï»ñÇ ·ñ³ÝóÙ³Ý Ù³ñÙÇÝÝ»ñÇÝ ëáõï ï»Õ»ÏáõÃÛáõÝÝ»ñ Ñ³Õáñ¹»ÉÁ | D86: 169.1 | E86: =SUM(Ajapnyak:Gexarquniq!E86) -> 0 | F86: =SUM(Ajapnyak:Gexarquniq!F86) -> 0 | G86: =SUM(Ajapnyak:Gexarquniq!G86) -> 0 | H86: =SUM(Ajapnyak:Gexarquniq!H86) -> 0 | I86: =SUM(Ajapnyak:Gexarquniq!I86) -> 0 | J86: =SUM(Ajapnyak:Gexarquniq!J86) -> 0 | K86: =SUM(Ajapnyak:Gexarquniq!K86) -> 0 | L86: =SUM(Ajapnyak:Gexarquniq!L86) -> 0 | ... AC86: =SUM(Ajapnyak:Gexarquniq!AC86) -> 0 | AD86: =SUM(T86:W86) -> 0 | AE86: =G86 -> 0 | AF86: =E86+F86 -> 0 | AG86: =T86 -> 0 | AH86: =M86+N86+O86+P86+Q86+R86+S86 -> 0 | AI86: =G86 -> 0 | AJ86: =T86+U86 -> 0
A87: 5.7 | B87: ºñ»Ë³ÛÇÝ ¹³ëïÇ³ñ³Ï»Éáõ å³ñï³Ï³ÝáõÃÛáõÝÁ ãÏ³ï³ñ»ÉÁ | D87: 170 | E87: =SUM(Ajapnyak:Gexarquniq!E87) -> 0 | F87: =SUM(Ajapnyak:Gexarquniq!F87) -> 0 | G87: =SUM(Ajapnyak:Gexarquniq!G87) -> 0 | H87: =SUM(Ajapnyak:Gexarquniq!H87) -> 0 | I87: =SUM(Ajapnyak:Gexarquniq!I87) -> 0 | J87: =SUM(Ajapnyak:Gexarquniq!J87) -> 0 | K87: =SUM(Ajapnyak:Gexarquniq!K87) -> 0 | L87: =SUM(Ajapnyak:Gexarquniq!L87) -> 0 | ... AC87: =SUM(Ajapnyak:Gexarquniq!AC87) -> 0 | AD87: =SUM(T87:W87) -> 0 | AE87: =G87 -> 0 | AF87: =E87+F87 -> 0 | AG87: =T87 -> 0 | AH87: =M87+N87+O87+P87+Q87+R87+S87 -> 0 | AI87: =G87 -> 0 | AJ87: =T87+U87 -> 0
A88: 5.8 | B88: ºñ»Ë³ÛÇ ÏÛ³ÝùÇ ³Ýíï³Ý·áõÃÛ³Ý ³å³ÑáíÙ³Ý Ï³Ù ³éáÕçáõÃÛ³Ý å³Ñå³ÝÙ³Ý å³ñï³Ï³ÝáõÃÛáõÝÁ ãÏ³ï³ñ»ÉÁ Ï³Ù áã å³ïß³× Ï³ï³ñ»ÉÁ | D88: 171 | E88: =SUM(Ajapnyak:Gexarquniq!E88) -> 0 | F88: =SUM(Ajapnyak:Gexarquniq!F88) -> 0 | G88: =SUM(Ajapnyak:Gexarquniq!G88) -> 0 | H88: =SUM(Ajapnyak:Gexarquniq!H88) -> 0 | I88: =SUM(Ajapnyak:Gexarquniq!I88) -> 0 | J88: =SUM(Ajapnyak:Gexarquniq!J88) -> 0 | K88: =SUM(Ajapnyak:Gexarquniq!K88) -> 0 | L88: =SUM(Ajapnyak:Gexarquniq!L88) -> 0 | ... AC88: =SUM(Ajapnyak:Gexarquniq!AC88) -> 0 | AD88: =SUM(T88:W88) -> 0 | AE88: =G88 -> 0 | AF88: =E88+F88 -> 0 | AG88: =T88 -> 0 | AH88: =M88+N88+O88+P88+Q88+R88+S88 -> 0 | AI88: =G88 -> 0 | AJ88: =T88+U88 -> 0
A89: 5.9 | B89: ÊÝ³Ù³Ï³ÉÇ Ï³Ù Ñá·³µ³ñÓáõÇ Çñ³íáõÝùÝ»ñÁ ã³ñ³ß³Ñ»ÉÁ | D89: 172 | E89: =SUM(Ajapnyak:Gexarquniq!E89) -> 0 | F89: =SUM(Ajapnyak:Gexarquniq!F89) -> 0 | G89: =SUM(Ajapnyak:Gexarquniq!G89) -> 0 | H89: =SUM(Ajapnyak:Gexarquniq!H89) -> 0 | I89: =SUM(Ajapnyak:Gexarquniq!I89) -> 0 | J89: =SUM(Ajapnyak:Gexarquniq!J89) -> 0 | K89: =SUM(Ajapnyak:Gexarquniq!K89) -> 0 | L89: =SUM(Ajapnyak:Gexarquniq!L89) -> 0 | ... AC89: =SUM(Ajapnyak:Gexarquniq!AC89) -> 0 | AD89: =SUM(T89:W89) -> 0 | AE89: =G89 -> 0 | AF89: =E89+F89 -> 0 | AG89: =T89 -> 0 | AH89: =M89+N89+O89+P89+Q89+R89+S89 -> 0 | AI89: =G89 -> 0 | AJ89: =T89+U89 -> 0
A90: 5.10 | B90: ÌÝáÕÇ ÏáÕÙÇó »ñ»Ë³ÛÇÝ å³Ñ»Éáõó ã³ñ³Ùïáñ»Ý Ëáõë³÷»ÉÁ (áõÅÁ Ïáñóñ³Í) | D90: 173 | E90: =SUM(Ajapnyak:Gexarquniq!E90) -> 0 | F90: =SUM(Ajapnyak:Gexarquniq!F90) -> 0 | G90: =SUM(Ajapnyak:Gexarquniq!G90) -> 0 | H90: =SUM(Ajapnyak:Gexarquniq!H90) -> 0 | I90: =SUM(Ajapnyak:Gexarquniq!I90) -> 0 | J90: =SUM(Ajapnyak:Gexarquniq!J90) -> 0 | K90: =SUM(Ajapnyak:Gexarquniq!K90) -> 0 | L90: =SUM(Ajapnyak:Gexarquniq!L90) -> 0 | ... AC90: =SUM(Ajapnyak:Gexarquniq!AC90) -> 0 | AD90: =SUM(T90:W90) -> 0 | AE90: =G90 -> 0 | AF90: =E90+F90 -> 0 | AG90: =T90 -> 0 | AH90: =M90+N90+O90+P90+Q90+R90+S90 -> 0 | AI90: =G90 -> 0 | AJ90: =T90+U90 -> 0
A91: 5.11 | B91: ¼³í³ÏÇ ÏáÕÙÇó ³Ý³ßË³ïáõÝ³Ï ÍÝáÕÇÝ å³Ñ»Éáõó ã³ñ³Ùïáñ»Ý Ëáõë³÷»ÉÁ | D91: 174 | E91: =SUM(Ajapnyak:Gexarquniq!E91) -> 0 | F91: =SUM(Ajapnyak:Gexarquniq!F91) -> 0 | G91: =SUM(Ajapnyak:Gexarquniq!G91) -> 0 | H91: =SUM(Ajapnyak:Gexarquniq!H91) -> 0 | I91: =SUM(Ajapnyak:Gexarquniq!I91) -> 0 | J91: =SUM(Ajapnyak:Gexarquniq!J91) -> 0 | K91: =SUM(Ajapnyak:Gexarquniq!K91) -> 0 | L91: =SUM(Ajapnyak:Gexarquniq!L91) -> 0 | ... AC91: =SUM(Ajapnyak:Gexarquniq!AC91) -> 0 | AD91: =SUM(T91:W91) -> 0 | AE91: =G91 -> 0 | AF91: =E91+F91 -> 0 | AG91: =T91 -> 0 | AH91: =M91+N91+O91+P91+Q91+R91+S91 -> 0 | AI91: =G91 -> 0 | AJ91: =T91+U91 -> 0
A92: 5.12 | B92: ²ÛÉ Ñ³Ýó³·áñÍáõÃÛáõÝÝ»ñ | E92: =SUM(Ajapnyak:Gexarquniq!E92) -> 0 | F92: =SUM(Ajapnyak:Gexarquniq!F92) -> 0 | G92: =SUM(Ajapnyak:Gexarquniq!G92) -> 0 | H92: =SUM(Ajapnyak:Gexarquniq!H92) -> 0 | I92: =SUM(Ajapnyak:Gexarquniq!I92) -> 0 | J92: =SUM(Ajapnyak:Gexarquniq!J92) -> 0 | K92: =SUM(Ajapnyak:Gexarquniq!K92) -> 0 | L92: =SUM(Ajapnyak:Gexarquniq!L92) -> 0 | ... AC92: =SUM(Ajapnyak:Gexarquniq!AC92) -> 0 | AD92: =SUM(T92:W92) -> 0 | AE92: =G92 -> 0 | AF92: =E92+F92 -> 0 | AG92: =T92 -> 0 | AH92: =M92+N92+O92+P92+Q92+R92+S92 -> 0 | AI92: =G92 -> 0 | AJ92: =T92+U92 -> 0
A93: 6. | B93: ÀÝ¹³Ù»ÝÁ ë»÷³Ï³ÝáõÃÛ³Ý ¹»Ù áõÕÕí³Í Ñ³Ýó³·áñÍáõÃÛáõÝÝ»ñÁ | E93: =SUM(Ajapnyak:Gexarquniq!E93) -> 18 | F93: =SUM(Ajapnyak:Gexarquniq!F93) -> 41 | G93: =SUM(Ajapnyak:Gexarquniq!G93) -> 59 | H93: =SUM(Ajapnyak:Gexarquniq!H93) -> 3 | I93: =SUM(Ajapnyak:Gexarquniq!I93) -> 28 | J93: =SUM(Ajapnyak:Gexarquniq!J93) -> 0 | K93: =SUM(Ajapnyak:Gexarquniq!K93) -> 14 | L93: =SUM(Ajapnyak:Gexarquniq!L93) -> 9 | ... AC93: =SUM(Ajapnyak:Gexarquniq!AC93) -> 0 | AD93: =SUM(AD94:AD106) -> 84 | AE93: =G93 -> 59 | AF93: =E93+F93 -> 59 | AG93: =T93 -> 31 | AH93: =M93+N93+O93+P93+Q93+R93+S93 -> 31 | AI93: =G93 -> 59 | AJ93: =T93+U93 -> 57
A94: 6.1 | B94: ²í³½³ÏáõÃÛáõÝÁ | D94: 175 | E94: =SUM(Ajapnyak:Gexarquniq!E94) -> 0 | F94: =SUM(Ajapnyak:Gexarquniq!F94) -> 0 | G94: =SUM(Ajapnyak:Gexarquniq!G94) -> 0 | H94: =SUM(Ajapnyak:Gexarquniq!H94) -> 0 | I94: =SUM(Ajapnyak:Gexarquniq!I94) -> 0 | J94: =SUM(Ajapnyak:Gexarquniq!J94) -> 0 | K94: =SUM(Ajapnyak:Gexarquniq!K94) -> 0 | L94: =SUM(Ajapnyak:Gexarquniq!L94) -> 0 | ... AC94: =SUM(Ajapnyak:Gexarquniq!AC94) -> 0 | AD94: =SUM(T94:W94) -> 0 | AE94: =G94 -> 0 | AF94: =E94+F94 -> 0 | AG94: =T94 -> 0 | AH94: =M94+N94+O94+P94+Q94+R94+S94 -> 0 | AI94: =G94 -> 0 | AJ94: =T94+U94 -> 0
A95: 6.2 | B95: ÎáÕáåáõïÁ | D95: 176 | E95: =SUM(Ajapnyak:Gexarquniq!E95) -> 0 | F95: =SUM(Ajapnyak:Gexarquniq!F95) -> 6 | G95: =SUM(Ajapnyak:Gexarquniq!G95) -> 6 | H95: =SUM(Ajapnyak:Gexarquniq!H95) -> 1 | I95: =SUM(Ajapnyak:Gexarquniq!I95) -> 5 | J95: =SUM(Ajapnyak:Gexarquniq!J95) -> 0 | K95: =SUM(Ajapnyak:Gexarquniq!K95) -> 0 | L95: =SUM(Ajapnyak:Gexarquniq!L95) -> 0 | ... AC95: =SUM(Ajapnyak:Gexarquniq!AC95) -> 0 | AD95: =SUM(T95:W95) -> 6 | AE95: =G95 -> 6 | AF95: =E95+F95 -> 6 | AG95: =T95 -> 0 | AH95: =M95+N95+O95+P95+Q95+R95+S95 -> 0 | AI95: =G95 -> 6 | AJ95: =T95+U95 -> 6
A96: 6.3 | B96: ¶áÕáõÃÛáõÝÁ | D96: 177 | E96: =SUM(Ajapnyak:Gexarquniq!E96) -> 15 | F96: =SUM(Ajapnyak:Gexarquniq!F96) -> 33 | G96: =SUM(Ajapnyak:Gexarquniq!G96) -> 48 | H96: =SUM(Ajapnyak:Gexarquniq!H96) -> 2 | I96: =SUM(Ajapnyak:Gexarquniq!I96) -> 20 | J96: =SUM(Ajapnyak:Gexarquniq!J96) -> 0 | K96: =SUM(Ajapnyak:Gexarquniq!K96) -> 14 | L96: =SUM(Ajapnyak:Gexarquniq!L96) -> 8 | ... AC96: =SUM(Ajapnyak:Gexarquniq!AC96) -> 0 | AD96: =SUM(T96:W96) -> 72 | AE96: =G96 -> 48 | AF96: =E96+F96 -> 48 | AG96: =T96 -> 28 | AH96: =M96+N96+O96+P96+Q96+R96+S96 -> 28 | AI96: =G96 -> 48 | AJ96: =T96+U96 -> 46
A97: 6.4 | B97: Ê³ñ¹³ËáõÃÛáõÝÁ | D97: 178 | E97: =SUM(Ajapnyak:Gexarquniq!E97) -> 0 | F97: =SUM(Ajapnyak:Gexarquniq!F97) -> 0 | G97: =SUM(Ajapnyak:Gexarquniq!G97) -> 0 | H97: =SUM(Ajapnyak:Gexarquniq!H97) -> 0 | I97: =SUM(Ajapnyak:Gexarquniq!I97) -> 0 | J97: =SUM(Ajapnyak:Gexarquniq!J97) -> 0 | K97: =SUM(Ajapnyak:Gexarquniq!K97) -> 0 | L97: =SUM(Ajapnyak:Gexarquniq!L97) -> 0 | ... AC97: =SUM(Ajapnyak:Gexarquniq!AC97) -> 0 | AD97: =SUM(T97:W97) -> 0 | AE97: =G97 -> 0 | AF97: =E97+F97 -> 0 | AG97: =T97 -> 0 | AH97: =M97+N97+O97+P97+Q97+R97+S97 -> 0 | AI97: =G97 -> 0 | AJ97: =T97+U97 -> 0
A98: 6.5 | B98: Úáõñ³óÝ»ÉÁ Ï³Ù í³ïÝ»ÉÁ | D98: 179 | E98: =SUM(Ajapnyak:Gexarquniq!E98) -> 0 | F98: =SUM(Ajapnyak:Gexarquniq!F98) -> 0 | G98: =SUM(Ajapnyak:Gexarquniq!G98) -> 0 | H98: =SUM(Ajapnyak:Gexarquniq!H98) -> 0 | I98: =SUM(Ajapnyak:Gexarquniq!I98) -> 0 | J98: =SUM(Ajapnyak:Gexarquniq!J98) -> 0 | K98: =SUM(Ajapnyak:Gexarquniq!K98) -> 0 | L98: =SUM(Ajapnyak:Gexarquniq!L98) -> 0 | ... AC98: =SUM(Ajapnyak:Gexarquniq!AC98) -> 0 | AD98: =SUM(T98:W98) -> 0 | AE98: =G98 -> 0 | AF98: =E98+F98 -> 0 | AG98: =T98 -> 0 | AH98: =M98+N98+O98+P98+Q98+R98+S98 -> 0 | AI98: =G98 -> 0 | AJ98: =T98+U98 -> 0
A99: 6.6 | B99: ²é³ÝÓÝ³ÏÇ ³ñÅ»ù áõÝ»óáÕ ³é³ñÏ³Ý»ñ Ñ³÷ßï³Ï»ÉÁ | D99: 180 | E99: =SUM(Ajapnyak:Gexarquniq!E99) -> 0 | F99: =SUM(Ajapnyak:Gexarquniq!F99) -> 0 | G99: =SUM(Ajapnyak:Gexarquniq!G99) -> 0 | H99: =SUM(Ajapnyak:Gexarquniq!H99) -> 0 | I99: =SUM(Ajapnyak:Gexarquniq!I99) -> 0 | J99: =SUM(Ajapnyak:Gexarquniq!J99) -> 0 | K99: =SUM(Ajapnyak:Gexarquniq!K99) -> 0 | L99: =SUM(Ajapnyak:Gexarquniq!L99) -> 0 | ... AC99: =SUM(Ajapnyak:Gexarquniq!AC99) -> 0 | AD99: =SUM(T99:W99) -> 0 | AE99: =G99 -> 0 | AF99: =E99+F99 -> 0 | AG99: =T99 -> 0 | AH99: =M99+N99+O99+P99+Q99+R99+S99 -> 0 | AI99: =G99 -> 0 | AJ99: =T99+U99 -> 0
A100: 6.7 | B100: Ð³÷ßï³ÏáõÃÛáõÝÁ, áñÁ Ï³ï³ñí»É ¿ Ñ³Ù³Ï³ñ·ã³ÛÇÝ ï»ËÝÇÏ³ÛÇ û·ï³·áñÍÙ³Ùµ | D100: 181 | E100: =SUM(Ajapnyak:Gexarquniq!E100) -> 0 | F100: =SUM(Ajapnyak:Gexarquniq!F100) -> 0 | G100: =SUM(Ajapnyak:Gexarquniq!G100) -> 0 | H100: =SUM(Ajapnyak:Gexarquniq!H100) -> 0 | I100: =SUM(Ajapnyak:Gexarquniq!I100) -> 0 | J100: =SUM(Ajapnyak:Gexarquniq!J100) -> 0 | K100: =SUM(Ajapnyak:Gexarquniq!K100) -> 0 | L100: =SUM(Ajapnyak:Gexarquniq!L100) -> 0 | ... AC100: =SUM(Ajapnyak:Gexarquniq!AC100) -> 0 | AD100: =SUM(T100:W100) -> 0 | AE100: =G100 -> 0 | AF100: =E100+F100 -> 0 | AG100: =T100 -> 0 | AH100: =M100+N100+O100+P100+Q100+R100+S100 -> 0 | AI100: =G100 -> 0 | AJ100: =T100+U100 -> 0
A101: 6.8 | B101: ÞáñÃáõÙÁ | D101: 182 | E101: =SUM(Ajapnyak:Gexarquniq!E101) -> 0 | F101: =SUM(Ajapnyak:Gexarquniq!F101) -> 0 | G101: =SUM(Ajapnyak:Gexarquniq!G101) -> 0 | H101: =SUM(Ajapnyak:Gexarquniq!H101) -> 0 | I101: =SUM(Ajapnyak:Gexarquniq!I101) -> 0 | J101: =SUM(Ajapnyak:Gexarquniq!J101) -> 0 | K101: =SUM(Ajapnyak:Gexarquniq!K101) -> 0 | L101: =SUM(Ajapnyak:Gexarquniq!L101) -> 0 | ... AC101: =SUM(Ajapnyak:Gexarquniq!AC101) -> 0 | AD101: =SUM(T101:W101) -> 0 | AE101: =G101 -> 0 | AF101: =E101+F101 -> 0 | AG101: =T101 -> 0 | AH101: =M101+N101+O101+P101+Q101+R101+S101 -> 0 | AI101: =G101 -> 0 | AJ101: =T101+U101 -> 0
A102: 6.9 | B102: ²íïáÙ»ù»Ý³ÛÇÝ Ï³Ù ïñ³Ýëåáñï³ÛÇÝ ³ÛÉ ÙÇçáóÇÝ ³åûñÇÝ³µ³ñ ïÇñ³Ý³ÉÝ ³é³Ýó Ñ³÷ßï³Ï»Éáõ Ýå³ï³ÏÇ | D102: 183 | E102: =SUM(Ajapnyak:Gexarquniq!E102) -> 2 | F102: =SUM(Ajapnyak:Gexarquniq!F102) -> 0 | G102: =SUM(Ajapnyak:Gexarquniq!G102) -> 2 | H102: =SUM(Ajapnyak:Gexarquniq!H102) -> 0 | I102: =SUM(Ajapnyak:Gexarquniq!I102) -> 1 | J102: =SUM(Ajapnyak:Gexarquniq!J102) -> 0 | K102: =SUM(Ajapnyak:Gexarquniq!K102) -> 0 | L102: =SUM(Ajapnyak:Gexarquniq!L102) -> 0 | ... AC102: =SUM(Ajapnyak:Gexarquniq!AC102) -> 0 | AD102: =SUM(T102:W102) -> 2 | AE102: =G102 -> 2 | AF102: =E102+F102 -> 2 | AG102: =T102 -> 2 | AH102: =M102+N102+O102+P102+Q102+R102+S102 -> 2 | AI102: =G102 -> 2 | AJ102: =T102+U102 -> 2
A103: 6.10 | B103: ¶áõÛù³ÛÇÝ íÝ³ë å³ï×³é»ÉÁ Ë³µ»áõÃÛ³Ý Ï³Ù íëï³ÑáõÃÛáõÝÁ ã³ñ³ß³Ñ»Éáõ »Õ³Ý³Ïáí | D103: 184 | E103: =SUM(Ajapnyak:Gexarquniq!E103) -> 0 | F103: =SUM(Ajapnyak:Gexarquniq!F103) -> 0 | G103: =SUM(Ajapnyak:Gexarquniq!G103) -> 0 | H103: =SUM(Ajapnyak:Gexarquniq!H103) -> 0 | I103: =SUM(Ajapnyak:Gexarquniq!I103) -> 0 | J103: =SUM(Ajapnyak:Gexarquniq!J103) -> 0 | K103: =SUM(Ajapnyak:Gexarquniq!K103) -> 0 | L103: =SUM(Ajapnyak:Gexarquniq!L103) -> 0 | ... AC103: =SUM(Ajapnyak:Gexarquniq!AC103) -> 0 | AD103: =SUM(T103:W103) -> 0 | AE103: =G103 -> 0 | AF103: =E103+F103 -> 0 | AG103: =T103 -> 0 | AH103: =M103+N103+O103+P103+Q103+R103+S103 -> 0 | AI103: =G103 -> 0 | AJ103: =T103+U103 -> 0
A104: 6.11 | B104: ¶áõÛùÁ ¹Çï³íáñáõÃÛ³Ùµ áãÝã³óÝ»ÉÁ Ï³Ù íÝ³ë»ÉÁ | D104: 185 | E104: =SUM(Ajapnyak:Gexarquniq!E104) -> 1 | F104: =SUM(Ajapnyak:Gexarquniq!F104) -> 2 | G104: =SUM(Ajapnyak:Gexarquniq!G104) -> 3 | H104: =SUM(Ajapnyak:Gexarquniq!H104) -> 0 | I104: =SUM(Ajapnyak:Gexarquniq!I104) -> 2 | J104: =SUM(Ajapnyak:Gexarquniq!J104) -> 0 | K104: =SUM(Ajapnyak:Gexarquniq!K104) -> 0 | L104: =SUM(Ajapnyak:Gexarquniq!L104) -> 1 | ... AC104: =SUM(Ajapnyak:Gexarquniq!AC104) -> 0 | AD104: =SUM(T104:W104) -> 4 | AE104: =G104 -> 3 | AF104: =E104+F104 -> 3 | AG104: =T104 -> 1 | AH104: =M104+N104+O104+P104+Q104+R104+S104 -> 1 | AI104: =G104 -> 3 | AJ104: =T104+U104 -> 3
A105: 6.12 | B105: ¶áõÛùÝ ³Ý½·áõßáõÃÛ³Ùµ áãÝã³óÝ»ÉÁ Ï³Ù íÝ³ë»ÉÁ | D105: 186 | E105: =SUM(Ajapnyak:Gexarquniq!E105) -> 0 | F105: =SUM(Ajapnyak:Gexarquniq!F105) -> 0 | G105: =SUM(Ajapnyak:Gexarquniq!G105) -> 0 | H105: =SUM(Ajapnyak:Gexarquniq!H105) -> 0 | I105: =SUM(Ajapnyak:Gexarquniq!I105) -> 0 | J105: =SUM(Ajapnyak:Gexarquniq!J105) -> 0 | K105: =SUM(Ajapnyak:Gexarquniq!K105) -> 0 | L105: =SUM(Ajapnyak:Gexarquniq!L105) -> 0 | ... AC105: =SUM(Ajapnyak:Gexarquniq!AC105) -> 0 | AD105: =SUM(T105:W105) -> 0 | AE105: =G105 -> 0 | AF105: =E105+F105 -> 0 | AG105: =T105 -> 0 | AH105: =M105+N105+O105+P105+Q105+R105+S105 -> 0 | AI105: =G105 -> 0 | AJ105: =T105+U105 -> 0
A106: 6.13 | B106: Գուքի պահպանության պարտականություններն անփույթ կամ անբարեխիղճ կատարելը | D106: 186.1 | E106: =SUM(Ajapnyak:Gexarquniq!E106) -> 0 | F106: =SUM(Ajapnyak:Gexarquniq!F106) -> 0 | G106: =SUM(Ajapnyak:Gexarquniq!G106) -> 0 | H106: =SUM(Ajapnyak:Gexarquniq!H106) -> 0 | I106: =SUM(Ajapnyak:Gexarquniq!I106) -> 0 | J106: =SUM(Ajapnyak:Gexarquniq!J106) -> 0 | K106: =SUM(Ajapnyak:Gexarquniq!K106) -> 0 | L106: =SUM(Ajapnyak:Gexarquniq!L106) -> 0 | ... AC106: =SUM(Ajapnyak:Gexarquniq!AC106) -> 0 | AD106: =SUM(T106:W106) -> 0 | AE106: =G106 -> 0 | AF106: =E106+F106 -> 0 | AG106: =T106 -> 0 | AH106: =M106+N106+O106+P106+Q106+R106+S106 -> 0 | AI106: =G106 -> 0 | AJ106: =T106+U106 -> 0
A107: 7. | B107: ÀÝ¹³Ù»ÝÁ ïÝï»ë³Ï³Ý ·áñÍáõÝ»áõÃÛ³Ý ¹»Ù áõÕÕí³Í Ñ³Ýó³·áñÍáõÃÛáõÝÝ»ñÁ | E107: =SUM(Ajapnyak:Gexarquniq!E107) -> 0 | F107: =SUM(Ajapnyak:Gexarquniq!F107) -> 0 | G107: =SUM(Ajapnyak:Gexarquniq!G107) -> 0 | H107: =SUM(Ajapnyak:Gexarquniq!H107) -> 0 | I107: =SUM(Ajapnyak:Gexarquniq!I107) -> 0 | J107: =SUM(Ajapnyak:Gexarquniq!J107) -> 0 | K107: =SUM(Ajapnyak:Gexarquniq!K107) -> 0 | L107: =SUM(Ajapnyak:Gexarquniq!L107) -> 0 | ... AC107: =SUM(Ajapnyak:Gexarquniq!AC107) -> 0 | AD107: =SUM(T107:W107) -> 0 | AE107: =G107 -> 0 | AF107: =E107+F107 -> 0 | AG107: =T107 -> 0 | AH107: =M107+N107+O107+P107+Q107+R107+S107 -> 0 | AI107: =G107 -> 0 | AJ107: =T107+U107 -> 0
A108: 7.1 | B108: úñÇÝ³Ï³Ý Ó»éÝ³ñÏ³ïÇñ³Ï³Ý ¨ ³ÛÉ ïÝï»ë³Ï³Ý ·áñÍáõÝ»áõÃÛ³ÝÁ ËáãÁÝ¹áï»ÉÁ | D108: 187 | E108: =SUM(Ajapnyak:Gexarquniq!E108) -> 0 | F108: =SUM(Ajapnyak:Gexarquniq!F108) -> 0 | G108: =SUM(Ajapnyak:Gexarquniq!G108) -> 0 | H108: =SUM(Ajapnyak:Gexarquniq!H108) -> 0 | I108: =SUM(Ajapnyak:Gexarquniq!I108) -> 0 | J108: =SUM(Ajapnyak:Gexarquniq!J108) -> 0 | K108: =SUM(Ajapnyak:Gexarquniq!K108) -> 0 | L108: =SUM(Ajapnyak:Gexarquniq!L108) -> 0 | ... AC108: =SUM(Ajapnyak:Gexarquniq!AC108) -> 0 | AD108: =SUM(T108:W108) -> 0 | AE108: =G108 -> 0 | AF108: =E108+F108 -> 0 | AG108: =T108 -> 0 | AH108: =M108+N108+O108+P108+Q108+R108+S108 -> 0 | AI108: =G108 -> 0 | AJ108: =T108+U108 -> 0
A109: 7.2 | B109: ²åûñÇÝÇ Ó»éÝ³ñÏ³ïÇñáõÃÛáõÝÁ | D109: 188 | E109: =SUM(Ajapnyak:Gexarquniq!E109) -> 0 | F109: =SUM(Ajapnyak:Gexarquniq!F109) -> 0 | G109: =SUM(Ajapnyak:Gexarquniq!G109) -> 0 | H109: =SUM(Ajapnyak:Gexarquniq!H109) -> 0 | I109: =SUM(Ajapnyak:Gexarquniq!I109) -> 0 | J109: =SUM(Ajapnyak:Gexarquniq!J109) -> 0 | K109: =SUM(Ajapnyak:Gexarquniq!K109) -> 0 | L109: =SUM(Ajapnyak:Gexarquniq!L109) -> 0 | ... AC109: =SUM(Ajapnyak:Gexarquniq!AC109) -> 0 | AD109: =SUM(T109:W109) -> 0 | AE109: =G109 -> 0 | AF109: =E109+F109 -> 0 | AG109: =T109 -> 0 | AH109: =M109+N109+O109+P109+Q109+R109+S109 -> 0 | AI109: =G109 -> 0 | AJ109: =T109+U109 -> 0
A110: 7.3 | B110: ²é³Ýó ÉÇó»Ý³½Ç³ÛÇ ³ñï³ñÅáõÛÃÇ í³×³éùÇ Çñ³Ï³Ý³óáõÙÁ | D110: 188.1 | E110: =SUM(Ajapnyak:Gexarquniq!E110) -> 0 | F110: =SUM(Ajapnyak:Gexarquniq!F110) -> 0 | G110: =SUM(Ajapnyak:Gexarquniq!G110) -> 0 | H110: =SUM(Ajapnyak:Gexarquniq!H110) -> 0 | I110: =SUM(Ajapnyak:Gexarquniq!I110) -> 0 | J110: =SUM(Ajapnyak:Gexarquniq!J110) -> 0 | K110: =SUM(Ajapnyak:Gexarquniq!K110) -> 0 | L110: =SUM(Ajapnyak:Gexarquniq!L110) -> 0 | ... AC110: =SUM(Ajapnyak:Gexarquniq!AC110) -> 0 | AD110: =SUM(T110:W110) -> 0 | AE110: =G110 -> 0 | AF110: =E110+F110 -> 0 | AG110: =T110 -> 0 | AH110: =M110+N110+O110+P110+Q110+R110+S110 -> 0 | AI110: =G110 -> 0 | AJ110: =T110+U110 -> 0
A111: 7.4 | B111: Î»ÕÍ Ó»éÝ³ñÏ³ïÇñáõÃÛáõÝÁ | D111: 189 | E111: =SUM(Ajapnyak:Gexarquniq!E111) -> 0 | F111: =SUM(Ajapnyak:Gexarquniq!F111) -> 0 | G111: =SUM(Ajapnyak:Gexarquniq!G111) -> 0 | H111: =SUM(Ajapnyak:Gexarquniq!H111) -> 0 | I111: =SUM(Ajapnyak:Gexarquniq!I111) -> 0 | J111: =SUM(Ajapnyak:Gexarquniq!J111) -> 0 | K111: =SUM(Ajapnyak:Gexarquniq!K111) -> 0 | L111: =SUM(Ajapnyak:Gexarquniq!L111) -> 0 | ... AC111: =SUM(Ajapnyak:Gexarquniq!AC111) -> 0 | AD111: =SUM(T111:W111) -> 0 | AE111: =G111 -> 0 | AF111: =E111+F111 -> 0 | AG111: =T111 -> 0 | AH111: =M111+N111+O111+P111+Q111+R111+S111 -> 0 | AI111: =G111 -> 0 | AJ111: =T111+U111 -> 0
A112: 7.5 | B112: Ð³Ýó³íáñ ×³Ý³å³ñÑáí ëï³óí³Í »Ï³ÙáõïÝ»ñÇ ûñÇÝ³Ï³Ý³óÝ»ÉÁ (É»·³É³óÝ»ÉÁ) | D112: 190 | E112: =SUM(Ajapnyak:Gexarquniq!E112) -> 0 | F112: =SUM(Ajapnyak:Gexarquniq!F112) -> 0 | G112: =SUM(Ajapnyak:Gexarquniq!G112) -> 0 | H112: =SUM(Ajapnyak:Gexarquniq!H112) -> 0 | I112: =SUM(Ajapnyak:Gexarquniq!I112) -> 0 | J112: =SUM(Ajapnyak:Gexarquniq!J112) -> 0 | K112: =SUM(Ajapnyak:Gexarquniq!K112) -> 0 | L112: =SUM(Ajapnyak:Gexarquniq!L112) -> 0 | ... AC112: =SUM(Ajapnyak:Gexarquniq!AC112) -> 0 | AD112: =SUM(T112:W112) -> 0 | AE112: =G112 -> 0 | AF112: =E112+F112 -> 0 | AG112: =T112 -> 0 | AH112: =M112+N112+O112+P112+Q112+R112+S112 -> 0 | AI112: =G112 -> 0 | AJ112: =T112+U112 -> 0
A113: 7.6 | B113: ì³ñÏÁ áã Ýå³ï³Ï³ÛÇÝ û·ï³·áñÍ»ÉÁ | D113: 191 | E113: =SUM(Ajapnyak:Gexarquniq!E113) -> 0 | F113: =SUM(Ajapnyak:Gexarquniq!F113) -> 0 | G113: =SUM(Ajapnyak:Gexarquniq!G113) -> 0 | H113: =SUM(Ajapnyak:Gexarquniq!H113) -> 0 | I113: =SUM(Ajapnyak:Gexarquniq!I113) -> 0 | J113: =SUM(Ajapnyak:Gexarquniq!J113) -> 0 | K113: =SUM(Ajapnyak:Gexarquniq!K113) -> 0 | L113: =SUM(Ajapnyak:Gexarquniq!L113) -> 0 | ... AC113: =SUM(Ajapnyak:Gexarquniq!AC113) -> 0 | AD113: =SUM(T113:W113) -> 0 | AE113: =G113 -> 0 | AF113: =E113+F113 -> 0 | AG113: =T113 -> 0 | AH113: =M113+N113+O113+P113+Q113+R113+S113 -> 0 | AI113: =G113 -> 0 | AJ113: =T113+U113 -> 0
A114: 7.7 | B114: ²ÝûñÇÝ³Ï³Ý ·áñÍáÕáõÃÛáõÝÝ»ñÁ ëÝ³ÝÏáõÃÛ³Ý ÁÝÃ³óùáõÙ | D114: 192 | E114: =SUM(Ajapnyak:Gexarquniq!E114) -> 0 | F114: =SUM(Ajapnyak:Gexarquniq!F114) -> 0 | G114: =SUM(Ajapnyak:Gexarquniq!G114) -> 0 | H114: =SUM(Ajapnyak:Gexarquniq!H114) -> 0 | I114: =SUM(Ajapnyak:Gexarquniq!I114) -> 0 | J114: =SUM(Ajapnyak:Gexarquniq!J114) -> 0 | K114: =SUM(Ajapnyak:Gexarquniq!K114) -> 0 | L114: =SUM(Ajapnyak:Gexarquniq!L114) -> 0 | ... AC114: =SUM(Ajapnyak:Gexarquniq!AC114) -> 0 | AD114: =SUM(T114:W114) -> 0 | AE114: =G114 -> 0 | AF114: =E114+F114 -> 0 | AG114: =T114 -> 0 | AH114: =M114+N114+O114+P114+Q114+R114+S114 -> 0 | AI114: =G114 -> 0 | AJ114: =T114+U114 -> 0
A115: 7.8 | B115: Î³ÝË³Ùï³Íí³Í ëÝ³ÝÏáõÃÛáõÝÁ | D115: 193 | E115: =SUM(Ajapnyak:Gexarquniq!E115) -> 0 | F115: =SUM(Ajapnyak:Gexarquniq!F115) -> 0 | G115: =SUM(Ajapnyak:Gexarquniq!G115) -> 0 | H115: =SUM(Ajapnyak:Gexarquniq!H115) -> 0 | I115: =SUM(Ajapnyak:Gexarquniq!I115) -> 0 | J115: =SUM(Ajapnyak:Gexarquniq!J115) -> 0 | K115: =SUM(Ajapnyak:Gexarquniq!K115) -> 0 | L115: =SUM(Ajapnyak:Gexarquniq!L115) -> 0 | ... AC115: =SUM(Ajapnyak:Gexarquniq!AC115) -> 0 | AD115: =SUM(T115:W115) -> 0 | AE115: =G115 -> 0 | AF115: =E115+F115 -> 0 | AG115: =T115 -> 0 | AH115: =M115+N115+O115+P115+Q115+R115+S115 -> 0 | AI115: =G115 -> 0 | AJ115: =T115+U115 -> 0
A116: 7.9 | B116: Î»ÕÍ ëÝ³ÝÏáõÃÛáõÝÁ | D116: 194 | E116: =SUM(Ajapnyak:Gexarquniq!E116) -> 0 | F116: =SUM(Ajapnyak:Gexarquniq!F116) -> 0 | G116: =SUM(Ajapnyak:Gexarquniq!G116) -> 0 | H116: =SUM(Ajapnyak:Gexarquniq!H116) -> 0 | I116: =SUM(Ajapnyak:Gexarquniq!I116) -> 0 | J116: =SUM(Ajapnyak:Gexarquniq!J116) -> 0 | K116: =SUM(Ajapnyak:Gexarquniq!K116) -> 0 | L116: =SUM(Ajapnyak:Gexarquniq!L116) -> 0 | ... AC116: =SUM(Ajapnyak:Gexarquniq!AC116) -> 0 | AD116: =SUM(T116:W116) -> 0 | AE116: =G116 -> 0 | AF116: =E116+F116 -> 0 | AG116: =T116 -> 0 | AH116: =M116+N116+O116+P116+Q116+R116+S116 -> 0 | AI116: =G116 -> 0 | AJ116: =T116+U116 -> 0
A117: 7.10 | B117: ²åûñÇÝÇ Ñ³Ï³Ùñó³Ïó³ÛÇÝ ·áñÍáÕáõÃÛáõÝÁ | D117: 195 | E117: =SUM(Ajapnyak:Gexarquniq!E117) -> 0 | F117: =SUM(Ajapnyak:Gexarquniq!F117) -> 0 | G117: =SUM(Ajapnyak:Gexarquniq!G117) -> 0 | H117: =SUM(Ajapnyak:Gexarquniq!H117) -> 0 | I117: =SUM(Ajapnyak:Gexarquniq!I117) -> 0 | J117: =SUM(Ajapnyak:Gexarquniq!J117) -> 0 | K117: =SUM(Ajapnyak:Gexarquniq!K117) -> 0 | L117: =SUM(Ajapnyak:Gexarquniq!L117) -> 0 | ... AC117: =SUM(Ajapnyak:Gexarquniq!AC117) -> 0 | AD117: =SUM(T117:W117) -> 0 | AE117: =G117 -> 0 | AF117: =E117+F117 -> 0 | AG117: =T117 -> 0 | AH117: =M117+N117+O117+P117+Q117+R117+S117 -> 0 | AI117: =G117 -> 0 | AJ117: =T117+U117 -> 0
A118: 7.11 | B118: Ðñ³å³ñ³Ï³ÛÇÝ ë³Ï³ñÏáõÃÛáõÝÝ»ñÇ ³ÝóÏ³óÙ³Ý Ï³ñ·Á ã³ñ³Ùïáñ»Ý Ë³Ëï»ÉÁ | D118: 196 | E118: =SUM(Ajapnyak:Gexarquniq!E118) -> 0 | F118: =SUM(Ajapnyak:Gexarquniq!F118) -> 0 | G118: =SUM(Ajapnyak:Gexarquniq!G118) -> 0 | H118: =SUM(Ajapnyak:Gexarquniq!H118) -> 0 | I118: =SUM(Ajapnyak:Gexarquniq!I118) -> 0 | J118: =SUM(Ajapnyak:Gexarquniq!J118) -> 0 | K118: =SUM(Ajapnyak:Gexarquniq!K118) -> 0 | L118: =SUM(Ajapnyak:Gexarquniq!L118) -> 0 | ... AC118: =SUM(Ajapnyak:Gexarquniq!AC118) -> 0 | AD118: =SUM(T118:W118) -> 0 | AE118: =G118 -> 0 | AF118: =E118+F118 -> 0 | AG118: =T118 -> 0 | AH118: =M118+N118+O118+P118+Q118+R118+S118 -> 0 | AI118: =G118 -> 0 | AJ118: =T118+U118 -> 0
...

Sheet Ajapnyak
A1: Ð²ÞìºîìàôÂÚàôÜ
A2: ²Üâ²ö²Ð²ê ¸²î²ä²ðîÚ²ÈÜºðÆ ìºð²´ºðÚ²È | Y2: 2016Ã.
A3: ìÇ×³Ï³·ñ³Ï³Ý ïáÕÇ Ñ³Ù³ñÁ | B3: Ð²Üò²¶àðÌàôÂÚàôÜÜºðÆ îºê²ÎÜºðÀ | D3: ÐÐ øñ»³Ï³Ý ûñ»Ýë·ñùÇ Ñá¹í³ÍÁ | E3: Ð³Ýó³·áñÍáõÃÛáõÝÁ Ï³ï³ñ»É »Ý | H3: Ýñ³ÝóÇó | M3: ¸³ï³å³ñïÛ³ÉÝ»ñÇ ÝÏ³ïÙ³Ùµ Ýß³Ý³Ïí³Í ÑÇÙÝ³Ï³Ý å³ïÇÅÝ»ñ | V3: Ýß³Ý³Ïí³Í å³ïÇÅÁ å³ÛÙ³Ý³Ï³Ýáñ»Ý ãÇ ÏÇñ³éí»É | W3: ÏÇñ³éí»É ¿ Ñ³Ù³Ý»ñÙ³Ý ³Ïï | X3: ÎÇñ³éí»É »Ý ¹³ëïÇ³ñ³Ïã³Ï³Ý µÝáõÛÃÇ Ñ³ñÏ³¹ñ³ÝùÇ ÙÇçáó | Y3: ²ÝÓ³Ýó ÃÇíÁ, áñáÝù ÙÇÝã¨ í»ñçÇÝ Ñ³Ýó³·áñÍáõÃÛáõÝÁ Ï³ï³ñ»ÉÁ
E4: 14-16 ï³ñ»Ï³ÝáõÙ | F4: 16-18 ï³ñ»Ï³ÝáõÙ | G4: ÀÝ¹³Ù»ÝÁ | H4: ³ÕçÇÏÝ»ñ | I4: ã»Ý ³ßË³ï»É, ã»Ý ëáíáñ»É | J4: ³ÝÓÇÝù, áñáÝù Ñ³Ýó³·áñÍáõÃÛáõÝÁ Ï³ï³ñ»É »Ý | M4: ² ½ ³ ï ³ ½ ñ Ï áõ Ù | U4: ³ÛÉ å³ïÇÅÝ»ñ | Y4: ·ïÝí»É »Ý áëïÇÏ³ÝáõÃÛ³Ý Ù³ñÙÇÝÝ»ñáõÙ Ñ³ßí³éÙ³Ý Ù»ç | Z4: Ï³ï³ñ»É »Ý Ñ³Ýó³·áñÍáõÃÛáõÝ ¨ »Õ»É »Ý
Z5: ³½³ïí³Í ùñ»³Ï³Ý å³ï³ëË³Ý³ïíáõÃÛáõÝÇó | AA5: ¹³ï³å³ñïí³Í | AB5: ²Û¹ ÃíáõÙ
B6: êîàô¶Æâ Ð²ì²ê²ðàôØÜºð 3=1+2, 16=9+10+11+12+13+14+15, 3=16+17+18+19 | J6: ³ÉÏ., ÃÙñ³ÙÇç. Ï³Ù ÃÝñ»óÝáÕ ³ÛÉ ÝÛáõÃ»ñÇ ³½¹»óáõÃÛ³Ý ï³Ï | K6: ØÇ ËáõÙµ ³ÝÓ³Ýó Ï³½ÙáõÙ | L6: ³Û¹ ÃíáõÙª Ù»Í³Ñ³ë³ÏÝ»ñÇ Ù³ëÝ³ÏóáõÃÛ³Ùµ | M6: 1 ï³ñÇ Ý»ñ³éÛ³É | N6: 1 ï³ñáõó ³í»É, ÙÇÝã¨ 2 ï³ñÇ Ý»ñ³éÛ³É | O6: 2 ï³ñáõó ³í»É, ÙÇÝã¨ 3 ï³ñÇ Ý»ñ³éÛ³É | P6: 3 ï³ñáõó ³í»É, ÙÇÝã¨ 5 ï³ñÇ Ý»ñ³éÛ³É | Q6: 5 ï³ñáõó ³í»É, ÙÇÝã¨ 8 ï³ñÇ Ý»ñ³éÛ³É | R6: 8 ï³ñáõó ³í»É, ÙÇÝã¨ 10 ï³ñÇ Ý»ñ³éÛ³É | S6: 10 ï³ñáõó ³í»É, ÙÇÝã¨ 12ï³ñÇ Ý»ñ³éÛ³É | T6: ÁÝ¹³Ù»ÝÁ | AB6: ¹³ï³í×éÇ Ï³ï³ñÙ³Ý Ñ»ï³Ó·áõÙáí | AC6: å³ÛÙ³Ý³Ï³Ý ¹³ï³å³ñïáõÃÛáõÝ
E7: 1 | F7: 2 | G7: 3 | H7: 4 | I7: 5 | J7: 6 | K7: 7 | L7: 8 | M7: 9 | N7: 10 | O7: 11 | P7: 12 | Q7: 13 | R7: 14 | S7: 15 | T7: 16 | U7: 17 | V7: 18 | W7: 19 | X7: 20 | Y7: 21 | Z7: 22 | AA7: 23 | AB7: 24 | AC7: 25 | AE7: 3=1+2 | AG7: 16=9+10+11+12+13+14+15 | AI7: 3=16+17
A8: 1. | B8: ÀÝ¹³Ù»ÝÁ ÏÛ³ÝùÇ ¨ ³éáÕçáõÃÛ³Ý ¹»Ù áõÕÕí³Í Ñ³Ýó³·áñÍáõÃÛáõÝÝ»ñÁ | E8: =SUM(E9:E35) -> 0 | F8: =SUM(F9:F35) -> 1 | G8: =SUM(G9:G35) -> 1 | H8: =SUM(H9:H35) -> 0 | I8: =SUM(I9:I35) -> 0 | J8: =SUM(J9:J35) -> 0 | K8: =SUM(K9:K35) -> 0 | L8: =SUM(L9:L35) -> 0 | ... AC8: =SUM(AC9:AC35) -> 0 | AD8: =SUM(T8:W8) -> 2 | AE8: =G8 -> 1 | AF8: =E8+F8 -> 1 | AG8: =T8 -> 1 | AH8: =M8+N8+O8+P8+Q8+R8+S8 -> 1 | AI8: =G8 -> 1 | AJ8: =T8+U8 -> 1
A9: 1.1 | B9: êå³ÝáõÃÛáõÝÁ | D9: 104 | AD9: =SUM(T9:W9) -> 0 | AE9: =G9 -> 0 | AF9: =E9+F9 -> 0 | AG9: =T9 -> 0 | AH9: =M9+N9+O9+P9+Q9+R9+S9 -> 0 | AI9: =G9 -> 0 | AJ9: =T9+U9 -> 0
A10: 1.2 | B10: Ðá·»Ï³Ý ËÇëï Ñáõ½ÙáõÝùÇ íÇ×³ÏáõÙ Ï³ï³ñí³Í ëå³ÝáõÃÛáõÝÁ | D10: 105 | AD10: =SUM(T10:W10) -> 0 | AE10: =G10 -> 0 | AF10: =E10+F10 -> 0 | AG10: =T10 -> 0 | AH10: =M10+N10+O10+P10+Q10+R10+S10 -> 0 | AI10: =G10 -> 0 | AJ10: =T10+U10 -> 0
A11: 1.3 | B11: Øáñ ÏáÕÙÇó Ýáñ³ÍÇÝ »ñ»Ë³ÛÇ ëå³ÝáõÃÛáõÝÁ | D11: 106 | AD11: =SUM(T11:W11) -> 0 | AE11: =G11 -> 0 | AF11: =E11+F11 -> 0 | AG11: =T11 -> 0 | AH11: =M11+N11+O11+P11+Q11+R11+S11 -> 0 | AI11: =G11 -> 0 | AJ11: =T11+U11 -> 0
A12: 1.4 | B12: Ð³Ýó³Ýù Ï³ï³ñ³Í ³ÝÓÇÝ µéÝ»Éáõ Ñ³Ù³ñ ³ÝÑñ³Å»ßï ÙÇçáóÝ»ñÇ ë³ÑÙ³Ý³½³ÝóÙ³Ùµ ëå³ÝáõÃÛáõÝÁ | D12: 107 | AD12: =SUM(T12:W12) -> 0 | AE12: =G12 -> 0 | AF12: =E12+F12 -> 0 | AG12: =T12 -> 0 | AH12: =M12+N12+O12+P12+Q12+R12+S12 -> 0 | AI12: =G12 -> 0 | AJ12: =T12+U12 -> 0
A13: 1.5 | B13: ²ÝÑñ³Å»ßï å³ßïå³ÝáõÃÛ³Ý ë³ÑÙ³Ý³½³ÝóÙ³Ùµ ëå³ÝáõÃÛáõÝÁ | D13: 108 | AD13: =SUM(T13:W13) -> 0 | AE13: =G13 -> 0 | AF13: =E13+F13 -> 0 | AG13: =T13 -> 0 | AH13: =M13+N13+O13+P13+Q13+R13+S13 -> 0 | AI13: =G13 -> 0 | AJ13: =T13+U13 -> 0
A14: 1.6 | B14: ²Ý½·áõßáõÃÛ³Ùµ Ù³Ñ å³ï×³é»ÉÁ | D14: 109 | AD14: =SUM(T14:W14) -> 0 | AE14: =G14 -> 0 | AF14: =E14+F14 -> 0 | AG14: =T14 -> 0 | AH14: =M14+N14+O14+P14+Q14+R14+S14 -> 0 | AI14: =G14 -> 0 | AJ14: =T14+U14 -> 0
A15: 1.7 | B15: ÆÝùÝ³ëå³ÝáõÃÛ³Ý Ñ³ëóÝ»ÉÁ | D15: 110 | AD15: =SUM(T15:W15) -> 0 | AE15: =G15 -> 0 | AF15: =E15+F15 -> 0 | AG15: =T15 -> 0 | AH15: =M15+N15+O15+P15+Q15+R15+S15 -> 0 | AI15: =G15 -> 0 | AJ15: =T15+U15 -> 0
A16: 1.8 | B16: ÆÝùÝ³ëå³ÝáõÃÛ³Ý Ñ³Ï»ÉÁ | D16: 111 | AD16: =SUM(T16:W16) -> 0 | AE16: =G16 -> 0 | AF16: =E16+F16 -> 0 | AG16: =T16 -> 0 | AH16: =M16+N16+O16+P16+Q16+R16+S16 -> 0 | AI16: =G16 -> 0 | AJ16: =T16+U16 -> 0
A17: 1.9 | B17: ¸Çï³íáñáõÃÛ³Ùµ ³éáÕçáõÃÛ³ÝÁ Í³Ýñ íÝ³ë å³ï×³é»ÉÁ | D17: 112 | F17: 1 | G17: 1 | O17: 1 | T17: 1 | V17: 1 | AD17: =SUM(T17:W17) -> 2 | AE17: =G17 -> 1 | AF17: =E17+F17 -> 1 | AG17: =T17 -> 1 | AH17: =M17+N17+O17+P17+Q17+R17+S17 -> 1 | AI17: =G17 -> 1 | AJ17: =T17+U17 -> 1
A18: 1.10 | B18: ¸Çï³íáñáõÃÛ³Ùµ ³éáÕçáõÃÛ³ÝÁ ÙÇçÇÝ Í³ÝñáõÃÛ³Ý íÝ³ë å³ï×³é»ÉÁ | D18: 113 | AD18: =SUM(T18:W18) -> 0 | AE18: =G18 -> 0 | AF18: =E18+F18 -> 0 | AG18: =T18 -> 0 | AH18: =M18+N18+O18+P18+Q18+R18+S18 -> 0 | AI18: =G18 -> 0 | AJ18: =T18+U18 -> 0
A19: 1.11 | B19: Ðá·»Ï³Ý ËÇëï Ñáõ½ÙáõÝùÇ íÇ×³ÏáõÙ ³éáÕçáõÃÛ³ÝÁ Í³Ýñ Ï³Ù ÙÇçÇÝ Í³ÝñáõÃÛ³Ý íÝ³ë å³ï×³é»ÉÁ | D19: 114 | AD19: =SUM(T19:W19) -> 0 | AE19: =G19 -> 0 | AF19: =E19+F19 -> 0 | AG19: =T19 -> 0 | AH19: =M19+N19+O19+P19+Q19+R19+S19 -> 0 | AI19: =G19 -> 0 | AJ19: =T19+U19 -> 0
A20: 1.12 | B20: Ð³Ýó³Ýù Ï³ï³ñ³Í ³ÝÓÇÝ µéÝ»Éáõ Ñ³Ù³ñ ³ÝÑñ³Å»ßï ÙÇçáóÝ»ñÇ ë³ÑÙ³Ý½³ÝóÙ³Ùµ ³éáÕçáõÃÛ³ÝÁ Í³Ýñ Ï³Ù ÙÇçÇÝ Í³ÝñáõÃÛ³Ý íÝ³ë å³ï×³é»ÉÁ | D20: 115 | AD20: =SUM(T20:W20) -> 0 | AE20: =G20 -> 0 | AF20: =E20+F20 -> 0 | AG20: =T20 -> 0 | AH20: =M20+N20+O20+P20+Q20+R20+S20 -> 0 | AI20: =G20 -> 0 | AJ20: =T20+U20 -> 0
A21: 1.13 | B21: ²éáÕçáõÃÛ³ÝÁ Í³Ýñ Ï³Ù ÙÇçÇÝ Í³ÝñáõÃÛ³Ý íÝ³ë å³ï×³é»ÉÁ ³ÝÑñ³Å»ßï å³ßïå³ÝáõÃÛ³Ý ë³ÑÙ³Ý³Ý³½³ÝóÙ³Ùµ | D21: 116 | AD21: =SUM(T21:W21) -> 0 | AE21: =G21 -> 0 | AF21: =E21+F21 -> 0 | AG21: =T21 -> 0 | AH21: =M21+N21+O21+P21+Q21+R21+S21 -> 0 | AI21: =G21 -> 0 | AJ21: =T21+U21 -> 0
A22: 1.14 | B22: ¸Çï³íáñáõÃÛ³Ùµ ³éáÕçáõÃÛ³ÝÁ Ã»Ã¨ íÝ³ë å³ï×³é»ÉÁ | D22: 117 | AD22: =SUM(T22:W22) -> 0 | AE22: =G22 -> 0 | AF22: =E22+F22 -> 0 | AG22: =T22 -> 0 | AH22: =M22+N22+O22+P22+Q22+R22+S22 -> 0 | AI22: =G22 -> 0 | AJ22: =T22+U22 -> 0
A23: 1.15 | B23: Ì»ÍÁ | D23: 118 | AD23: =SUM(T23:W23) -> 0 | AE23: =G23 -> 0 | AF23: =E23+F23 -> 0 | AG23: =T23 -> 0 | AH23: =M23+N23+O23+P23+Q23+R23+S23 -> 0 | AI23: =G23 -> 0 | AJ23: =T23+U23 -> 0
A24: 1.16 | B24: Êáßï³Ý·áõÙÁ | D24: 119 | AD24: =SUM(T24:W24) -> 0 | AE24: =G24 -> 0 | AF24: =E24+F24 -> 0 | AG24: =T24 -> 0 | AH24: =M24+N24+O24+P24+Q24+R24+S24 -> 0 | AI24: =G24 -> 0 | AJ24: =T24+U24 -> 0
A25: 1.17 | B25: ²Ý½·áõßáõÃÛ³Ùµ ³éáÕçáõÃÛ³ÝÁ Í³Ýñ íÝ³ë å³ï×³é»ÉÁ | D25: 120 | AD25: =SUM(T25:W25) -> 0 | AE25: =G25 -> 0 | AF25: =E25+F25 -> 0 | AG25: =T25 -> 0 | AH25: =M25+N25+O25+P25+Q25+R25+S25 -> 0 | AI25: =G25 -> 0 | AJ25: =T25+U25 -> 0
A26: 1.18 | B26: ²Ý½·áõßáõÃÛ³Ùµ ³éáÕçáõÃÛ³ÝÁ ÙÇçÇÝ Í³ÝñáõÃÛ³Ý íÝ³ë å³ï×³é»ÉÁ | D26: 121 | AD26: =SUM(T26:W26) -> 0 | AE26: =G26 -> 0 | AF26: =E26+F26 -> 0 | AG26: =T26 -> 0 | AH26: =M26+N26+O26+P26+Q26+R26+S26 -> 0 | AI26: =G26 -> 0 | AJ26: =T26+U26 -> 0
A27: 1.19 | B27: ²åûñÇÝÇ ³µáñï Ï³ï³ñ»ÉÁ | D27: 122 | AD27: =SUM(T27:W27) -> 0 | AE27: =G27 -> 0 | AF27: =E27+F27 -> 0 | AG27: =T27 -> 0 | AH27: =M27+N27+O27+P27+Q27+R27+S27 -> 0 | AI27: =G27 -> 0 | AJ27: =T27+U27 -> 0
A28: 1.20 | B28: Ø³ñ¹áõ ÇÙáõÝ³ÛÇÝ ³Ýµ³í³ñ³ñáõÃÛ³Ý íÇñáõëÇ Ñ³ñáõóÇãáí í³ñ³Ï»ÉÁ | D28: 123 | AD28: =SUM(T28:W28) -> 0 | AE28: =G28 -> 0 | AF28: =E28+F28 -> 0 | AG28: =T28 -> 0 | AH28: =M28+N28+O28+P28+Q28+R28+S28 -> 0 | AI28: =G28 -> 0 | AJ28: =T28+U28 -> 0
A29: 1.21 | B29: ì»Ý»ñ³Ï³Ý ÑÇí³Ý¹áõÃÛ³Ùµ Ï³Ù ³ÛÉ ë»é³í³ñ³ÏÝ»ñáí í³ñ³Ï»ÉÁ | D29: 124 | AD29: =SUM(T29:W29) -> 0 | AE29: =G29 -> 0 | AF29: =E29+F29 -> 0 | AG29: =T29 -> 0 | AH29: =M29+N29+O29+P29+Q29+R29+S29 -> 0 | AI29: =G29 -> 0 | AJ29: =T29+U29 -> 0
... A34: 1.27 | B34: ´ÅßÏ³Ï³Ý û·ÝáõÃÛáõÝ ¨ ëå³ë³ñÏáõÙ Çñ³Ï³Ý³óÝáÕÝ»ñÇ ÏáÕÙÇó Ù³ëÝ³·Çï³Ï³Ý å³ñï³Ï³ÝáõÃÛáõÝÝ»ñÁ ãÏ³ï³ñ»ÉÁ Ï³Ù áã å³ïß³× Ï³ï³ñ»ÉÁ | D34: 130 | AD34: =SUM(T34:W34) -> 0 | AE34: =G34 -> 0 | AF34: =E34+F34 -> 0 | AG34: =T34 -> 0 | AH34: =M34+N34+O34+P34+Q34+R34+S34 -> 0 | AI34: =G34 -> 0 | AJ34: =T34+U34 -> 0
A35: 1.28 | B35: ²ÛÉ Ñ³Ýó³·áñÍáõÃÛáõÝÝ»ñ | AD35: =SUM(T35:W35) -> 0 | AE35: =G35 -> 0 | AF35: =E35+F35 -> 0 | AG35: =T35 -> 0 | AH35: =M35+N35+O35+P35+Q35+R35+S35 -> 0 | AI35: =G35 -> 0 | AJ35: =T35+U35 -> 0
A36: 2. | B36: ÀÝ¹³Ù»ÝÁ ³ÝÓÇ ³½³ïáõÃÛ³Ý, å³ïíÇ ¨ ³ñÅ³Ý³å³ïíáõÃÛ³Ý ¹»Ù áõÕÕí³Í Ñ³Ýó³·áñÍáõÃÛáõÝÝ»ñÁ | E36: =SUM(E37:E43) -> 0 | F36: =SUM(F37:F43) -> 0 | G36: =SUM(G37:G43) -> 0 | H36: =SUM(H37:H43) -> 0 | I36: =SUM(I37:I43) -> 0 | J36: =SUM(J37:J43) -> 0 | K36: =SUM(K37:K43) -> 0 | L36: =SUM(L37:L43) -> 0 | ... AC36: =SUM(AC37:AC43) -> 0 | AD36: =SUM(T36:W36) -> 0 | AE36: =G36 -> 0 | AF36: =E36+F36 -> 0 | AG36: =T36 -> 0 | AH36: =M36+N36+O36+P36+Q36+R36+S36 -> 0 | AI36: =G36 -> 0 | AJ36: =T36+U36 -> 0
A37: 2.1 | B37: Ø³ñ¹áõÝ ³é¨³Ý·»ÉÁ | D37: 131 | AD37: =SUM(T37:W37) -> 0 | AE37: =G37 -> 0 | AF37: =E37+F37 -> 0 | AG37: =T37 -> 0 | AH37: =M37+N37+O37+P37+Q37+R37+S37 -> 0 | AI37: =G37 -> 0 | AJ37: =T37+U37 -> 0
A38: 2.2 | B38: Þ³Ñ³·áñÍÙ³Ý Ýå³ï³Ïáí Ù³ñ¹áõÝ Ñ³í³ù³·ñ»ÉÁ, ÷áË³¹ñ»ÉÁ, Ñ³ÝÓÝ»ÉÁ, Ã³ùóÝ»ÉÁ Ï³Ù ëï³Ý³ÉÁ | D38: 132 | AD38: =SUM(T38:W38) -> 0 | AE38: =G38 -> 0 | AF38: =E38+F38 -> 0 | AG38: =T38 -> 0 | AH38: =M38+N38+O38+P38+Q38+R38+S38 -> 0 | AI38: =G38 -> 0 | AJ38: =T38+U38 -> 0
A39: 2.2.1 | B39: Ø³ñ¹áõÝ åáéÝÇÏáõÃÛ³Ý Ï³Ù ë»é³Ï³Ý ß³Ñ³·áñÍÙ³Ý ³ÛÉ Ó¨»ñÇ Ù»ç, Ñ³ñÏ³¹Çñ ³ßË³ï³ÝùÇ Ï³Ù Í³é³ÛáõÃÛáõÝÝ»ñÇ Ý»ñ·ñ³í»ÉÁ Ï³Ù ëïñÏáõÃÛ³Ý Ï³Ù ëïñÏáõÃÛ³ÝÁ ÝÙ³ÝíáÕ íÇ×³ÏÇ Ù»ç ¹Ý»ÉÁ Ï³Ù å³Ñ»ÉÁ | D39: 132.1 | AD39: =SUM(T39:W39) -> 0 | AE39: =G39 -> 0 | AF39: =E39+F39 -> 0 | AG39: =T39 -> 0 | AH39: =M39+N39+O39+P39+Q39+R39+S39 -> 0 | AI39: =G39 -> 0 | AJ39: =T39+U39 -> 0
A40: 2.3 | B40: ²½³ïáõÃÛáõÝÇó ³åûñÇÝÇ ½ñÏ»ÉÁ | D40: 133 | AD40: =SUM(T40:W40) -> 0 | AE40: =G40 -> 0 | AF40: =E40+F40 -> 0 | AG40: =T40 -> 0 | AH40: =M40+N40+O40+P40+Q40+R40+S40 -> 0 | AI40: =G40 -> 0 | AJ40: =T40+U40 -> 0
A41: 2.4 | B41: Ðá·»µáõÅ³Ï³Ý ÑÇí³Ý¹³ÝáóáõÙ ³åûñÇÝÇ ï»Õ³íáñ»ÉÁ Ï³Ù å³Ñ»ÉÁ | D41: 134 | AD41: =SUM(T41:W41) -> 0 | AE41: =G41 -> 0 | AF41: =E41+F41 -> 0 | AG41: =T41 -> 0 | AH41: =M41+N41+O41+P41+Q41+R41+S41 -> 0 | AI41: =G41 -> 0 | AJ41: =T41+U41 -> 0
A42: 2.7 | B42: êå³ÝáõÃÛ³Ý, ³éáÕçáõÃÛ³ÝÁ Í³Ýñ íÝ³ë å³ï×³é»Éáõ Ï³Ù ·áõÛù áãÝã³óÝ»Éáõ ëå³éÝ³ÉÇùÁ | D42: 137 | AD42: =SUM(T42:W42) -> 0 | AE42: =G42 -> 0 | AF42: =E42+F42 -> 0 | AG42: =T42 -> 0 | AH42: =M42+N42+O42+P42+Q42+R42+S42 -> 0 | AI42: =G42 -> 0 | AJ42: =T42+U42 -> 0
A43: 2.8 | B43: ²ÛÉ Ñ³Ýó³·áñÍáõÃÛáõÝÝ»ñ | AD43: =SUM(T43:W43) -> 0 | AE43: =G43 -> 0 | AF43: =E43+F43 -> 0 | AG43: =T43 -> 0 | AH43: =M43+N43+O43+P43+Q43+R43+S43 -> 0 | AI43: =G43 -> 0 | AJ43: =T43+U43 -> 0
A44: 3. | B44: ÀÝ¹³Ù»ÝÁ ë»é³Ï³Ý ³ÝÓ»éÝÙË»ÉÇáõÃÛ³Ý ¨ ë»é³Ï³Ý ³½³ïáõÃÛ³Ý ¹»Ù áõÕÕí³Í Ñ³Ýó³·áñÍáõÃÛáõÝÝ»ñÁ | E44: =SUM(E45:E50) -> 0 | F44: =SUM(F45:F50) -> 0 | G44: =SUM(G45:G50) -> 0 | H44: =SUM(H45:H50) -> 0 | I44: =SUM(I45:I50) -> 0 | J44: =SUM(J45:J50) -> 0 | K44: =SUM(K45:K50) -> 0 | L44: =SUM(L45:L50) -> 0 | ... AC44: =SUM(AC45:AC50) -> 0 | AD44: =SUM(T44:W44) -> 0 | AE44: =G44 -> 0 | AF44: =E44+F44 -> 0 | AG44: =T44 -> 0 | AH44: =M44+N44+O44+P44+Q44+R44+S44 -> 0 | AI44: =G44 -> 0 | AJ44: =T44+U44 -> 0
A45: 3.1 | B45: ´éÝ³µ³ñáõÃÛáõÝÁ | D45: 138 | AD45: =SUM(T45:W45) -> 0 | AE45: =G45 -> 0 | AF45: =E45+F45 -> 0 | AG45: =T45 -> 0 | AH45: =M45+N45+O45+P45+Q45+R45+S45 -> 0 | AI45: =G45 -> 0 | AJ45: =T45+U45 -> 0
A46: 3.2 | B46: ê»ùëáõ³É µÝáõÛÃÇ µéÝÇ ·áñÍáÕáõÃÛáõÝÝ»ñÁ | D46: 139 | AD46: =SUM(T46:W46) -> 0 | AE46: =G46 -> 0 | AF46: =E46+F46 -> 0 | AG46: =T46 -> 0 | AH46: =M46+N46+O46+P46+Q46+R46+S46 -> 0 | AI46: =G46 -> 0 | AJ46: =T46+U46 -> 0
A47: 3.3 | B47: ê»ùëáõ³É µÝáõÛÃÇ ·áñÍáÕáõÃÛáõÝÝ»ñÇÝ Ñ³ñÏ³¹ñ»ÉÁ | D47: 140 | AD47: =SUM(T47:W47) -> 0 | AE47: =G47 -> 0 | AF47: =E47+F47 -> 0 | AG47: =T47 -> 0 | AH47: =M47+N47+O47+P47+Q47+R47+S47 -> 0 | AI47: =G47 -> 0 | AJ47: =T47+U47 -> 0
A48: 3.4 | B48: ê»ùëáõ³É µÝáõÛÃÇ ·áñÍáÕáõÃÛáõÝÝ»ñ Ï³ï³ñ»ÉÁ ï³ëÝí»ó ï³ñÇÝ ãÉñ³ó³Í ³ÝÓÇ Ñ»ï | D48: 141 | AD48: =SUM(T48:W48) -> 0 | AE48: =G48 -> 0 | AF48: =E48+F48 -> 0 | AG48: =T48 -> 0 | AH48: =M48+N48+O48+P48+Q48+R48+S48 -> 0 | AI48: =G48 -> 0 | AJ48: =T48+U48 -> 0
A49: 3.5 | B49: ²Ý³é³Ï³µ³ñá ·áñÍáÕáõÃÛáõÝÝ»ñÁ | D49: 142 | AD49: =SUM(T49:W49) -> 0 | AE49: =G49 -> 0 | AF49: =E49+F49 -> 0 | AG49: =T49 -> 0 | AH49: =M49+N49+O49+P49+Q49+R49+S49 -> 0 | AI49: =G49 -> 0 | AJ49: =T49+U49 -> 0
A50: 3.6 | B50: ²ÛÉ Ñ³Ýó³·áñÍáõÃÛáõÝÝ»ñ | AD50: =SUM(T50:W50) -> 0 | AE50: =G50 -> 0 | AF50: =E50+F50 -> 0 | AG50: =T50 -> 0 | AH50: =M50+N50+O50+P50+Q50+R50+S50 -> 0 | AI50: =G50 -> 0 | AJ50: =T50+U50 -> 0
A51: 4. | B51: ÀÝ¹³Ù»ÝÁ Ù³ñ¹áõ ¨ ù³Õ³ù³óáõ ë³ÑÙ³Ý³¹ñ³Ï³Ý Çñ³íáõÝùÝ»ñÇ ¨ ³½³ïáõÃÛáõÝÝ»ñÇ ¹»Ù áõÕÕí³Í Ñ³Ýó³·áñÍáõÃÛáõÝÝ»ñÁ | E51: =SUM(E52:E79) -> 0 | F51: =SUM(F52:F79) -> 0 | G51: =SUM(G52:G79) -> 0 | H51: =SUM(H52:H79) -> 0 | I51: =SUM(I52:I79) -> 0 | J51: =SUM(J52:J79) -> 0 | K51: =SUM(K52:K79) -> 0 | L51: =SUM(L52:L79) -> 0 | ... AC51: =SUM(AC52:AC79) -> 0 | AD51: =SUM(T51:W51) -> 0 | AE51: =G51 -> 0 | AF51: =E51+F51 -> 0 | AG51: =T51 -> 0 | AH51: =M51+N51+O51+P51+Q51+R51+S51 -> 0 | AI51: =G51 -> 0 | AJ51: =T51+U51 -> 0
A52: 4.1 | B52: ø³Õ³ù³óÇÝ»ñÇ Çñ³í³Ñ³í³ë³ñáõÃÛáõÝÁ Ë³Ëï»ÉÁ | D52: 143 | AD52: =SUM(T52:W52) -> 0 | AE52: =G52 -> 0 | AF52: =E52+F52 -> 0 | AG52: =T52 -> 0 | AH52: =M52+N52+O52+P52+Q52+R52+S52 -> 0 | AI52: =G52 -> 0 | AJ52: =T52+U52 -> 0
A53: 4.2 | B53: ²ÝÓÝ³Ï³Ý Ï³Ù ÁÝï³Ý»Ï³Ý ÏÛ³ÝùÇ Ù³ëÇÝ ï»Õ»ÏáõÃÛáõÝÝ»ñ ³åûñÇÝÇ Ñ³í³ù»ÉÁ, å³Ñ»ÉÁ, û·ï³·áñÍ»ÉÁ Ï³Ù ï³ñ³Í»ÉÁ | D53: 144 | AD53: =SUM(T53:W53) -> 0 | AE53: =G53 -> 0 | AF53: =E53+F53 -> 0 | AG53: =T53 -> 0 | AH53: =M53+N53+O53+P53+Q53+R53+S53 -> 0 | AI53: =G53 -> 0 | AJ53: =T53+U53 -> 0
A54: 4.3 | B54: ´ÅßÏ³Ï³Ý ·³ÕïÝÇùÁ Ññ³å³ñ³Ï»ÉÁ | D54: 145 | AD54: =SUM(T54:W54) -> 0 | AE54: =G54 -> 0 | AF54: =E54+F54 -> 0 | AG54: =T54 -> 0 | AH54: =M54+N54+O54+P54+Q54+R54+S54 -> 0 | AI54: =G54 -> 0 | AJ54: =T54+U54 -> 0
A55: 4.4 | B55: Ü³Ù³Ï³·ñáõÃÛ³Ý, Ñ»é³Ëáë³ÛÇÝ Ëáë³ÏóáõÃÛáõÝÝ»ñÇ, ÷áëï³ÛÇÝ, Ñ»é³·ñ³Ï³Ý Ï³Ù ³ÛÉ Ñ³Õáñ¹áõÙÝ»ñÇ ·³ÕïÝÇáõÃÛáõÝÁ Ë³Ëï»ÉÁ | D55: 146 | AD55: =SUM(T55:W55) -> 0 | AE55: =G55 -> 0 | AF55: =E55+F55 -> 0 | AG55: =T55 -> 0 | AH55: =M55+N55+O55+P55+Q55+R55+S55 -> 0 | AI55: =G55 -> 0 | AJ55: =T55+U55 -> 0
A56: 4.5 | B56: ´Ý³Ï³ñ³ÝÇ ³ÝÓ»éÝÙË»ÉÇáõÃÛáõÝÁ Ë³Ëï»ÉÁ | D56: 147 | AD56: =SUM(T56:W56) -> 0 | AE56: =G56 -> 0 | AF56: =E56+F56 -> 0 | AG56: =T56 -> 0 | AH56: =M56+N56+O56+P56+Q56+R56+S56 -> 0 | AI56: =G56 -> 0 | AJ56: =T56+U56 -> 0
A57: 4.6 | B57: ²ÝÓÇÝ ï»Õ»ÏáõÃÛáõÝ Ý»ñÏ³Û³óÝ»Éáõó Ññ³Å³ñí»ÉÁ | D57: 148 | AD57: =SUM(T57:W57) -> 0 | AE57: =G57 -> 0 | AF57: =E57+F57 -> 0 | AG57: =T57 -> 0 | AH57: =M57+N57+O57+P57+Q57+R57+S57 -> 0 | AI57: =G57 -> 0 | AJ57: =T57+U57 -> 0
A58: 4.7 | B58: ÀÝïñ³Ï³Ý Çñ³íáõÝùÇ Çñ³Ï³Ý³óÙ³ÝÁ, ÁÝïñ³Ï³Ý Ñ³ÝÓÝ³ÅáÕáíÝ»ñÇ ³ßË³ï³ÝùÝ»ñÇÝ Ï³Ù ÁÝïñáõÃÛ³ÝÁ Ù³ëÝ³ÏóáÕ ³ÝÓ³Ýó ÉÇ³½áñáõÃÛáõÝÝ»ñÇ Çñ³Ï³Ý³óÙ³ÝÁ ËáãÁÝ¹áï»ÉÁ | D58: 149 | AD58: =SUM(T58:W58) -> 0 | AE58: =G58 -> 0 | AF58: =E58+F58 -> 0 | AG58: =T58 -> 0 | AH58: =M58+N58+O58+P58+Q58+R58+S58 -> 0 | AI58: =G58 -> 0 | AJ58: =T58+U58 -> 0
A59: 4.8 | B59: ÀÝïñáõÃÛáõÝÝ»ñÇ Ï³Ù ùí»³ñÏáõÃÛ³Ý ³ñ¹ÛáõÝùÝ»ñÁ Ï»ÕÍ»ÉÁ | D59: 150 | AD59: =SUM(T59:W59) -> 0 | AE59: =G59 -> 0 | AF59: =E59+F59 -> 0 | AG59: =T59 -> 0 | AH59: =M59+N59+O59+P59+Q59+R59+S59 -> 0 | AI59: =G59 -> 0 | AJ59: =T59+U59 -> 0
A60: 4.9 | B60: ÀÝïñáõÃÛáõÝÝ»ñÇ ³ÝóÏ³óÙ³Ý ÁÝÃ³óùáõÙ Ã»ÏÝ³ÍáõÇ, Ïáõë³ÏóáõÃÛ³Ý (Ïáõë³ÏóáõÃÛáõÝÝ»ñÇ ¹³ßÇÝùÇ) í»ñ³µ»ñÛ³É ½ñå³ñïã³Ï³Ý ï»Õ»ÏáõÃÛáõÝÝ»ñ ï³ñ³Í»ÉÁ | D60: 151 | AD60: =SUM(T60:W60) -> 0 | AE60: =G60 -> 0 | AF60: =E60+F60 -> 0 | AG60: =T60 -> 0 | AH60: =M60+N60+O60+P60+Q60+R60+S60 -> 0 | AI60: =G60 -> 0 | AJ60: =T60+U60 -> 0
A61: 4.10 | B61: ÀÝïñáÕÝ»ñÇ óáõó³ÏÝ»ñÁ Ï³½Ù»Éáõ Ï³ñ·Á Ë³Ëï»ÉÁ | D61: 152 | AD61: =SUM(T61:W61) -> 0 | AE61: =G61 -> 0 | AF61: =E61+F61 -> 0 | AG61: =T61 -> 0 | AH61: =M61+N61+O61+P61+Q61+R61+S61 -> 0 | AI61: =G61 -> 0 | AJ61: =T61+U61 -> 0
A62: 4.11 | B62: Ø»ÏÇó ³í»ÉÇ ³Ý·³Ù Ï³Ù ³ÛÉ ³ÝÓÇ ÷áË³ñ»Ý ùí»³ñÏ»ÉÁ | D62: 153 | AD62: =SUM(T62:W62) -> 0 | AE62: =G62 -> 0 | AF62: =E62+F62 -> 0 | AG62: =T62 -> 0 | AH62: =M62+N62+O62+P62+Q62+R62+S62 -> 0 | AI62: =G62 -> 0 | AJ62: =T62+U62 -> 0
A63: 4.12 | B63: øí»³ñÏáõÃÛ³Ý ·³ÕïÝÇáõÃÛáõÝÁ Ë³Ëï»ÉÁ | D63: 154 | AD63: =SUM(T63:W63) -> 0 | AE63: =G63 -> 0 | AF63: =E63+F63 -> 0 | AG63: =T63 -> 0 | AH63: =M63+N63+O63+P63+Q63+R63+S63 -> 0 | AI63: =G63 -> 0 | AJ63: =T63+U63 -> 0
... A78: 4.27 | B78: Èñ³·ñáÕÇ Ù³ëÝ³·Çï³Ï³Ý ûñÇÝ³Ï³Ý ·áñÍáÕáõÃÛ³ÝÁ ËáãÁÝ¹áï»ÉÁ | D78: 164 | AD78: =SUM(T78:W78) -> 0 | AE78: =G78 -> 0 | AF78: =E78+F78 -> 0 | AG78: =T78 -> 0 | AH78: =M78+N78+O78+P78+Q78+R78+S78 -> 0 | AI78: =G78 -> 0 | AJ78: =T78+U78 -> 0
A79: 4.28 | B79: ²ÛÉ Ñ³Ýó³·áñÍáõÃÛáõÝÝ»ñ | AD79: =SUM(T79:W79) -> 0 | AE79: =G79 -> 0 | AF79: =E79+F79 -> 0 | AG79: =T79 -> 0 | AH79: =M79+N79+O79+P79+Q79+R79+S79 -> 0 | AI79: =G79 -> 0 | AJ79: =T79+U79 -> 0
A80: 5. | B80: ÀÝ¹³Ù»ÝÁ ÁÝï³ÝÇùÇ ¨ »ñ»Ë³ÛÇ ß³Ñ»ñÇ ¹»Ù áõÕÕí³Í Ñ³Ýó³·áñÍáõÃÛáõÝÝ»ñÁ | E80: =SUM(E81:E92) -> 0 | F80: =SUM(F81:F92) -> 0 | G80: =SUM(G81:G92) -> 0 | H80: =SUM(H81:H92) -> 0 | I80: =SUM(I81:I92) -> 0 | J80: =SUM(J81:J92) -> 0 | K80: =SUM(K81:K92) -> 0 | L80: =SUM(L81:L92) -> 0 | ... AC80: =SUM(AC81:AC92) -> 0 | AD80: =SUM(T80:W80) -> 0 | AE80: =G80 -> 0 | AF80: =E80+F80 -> 0 | AG80: =T80 -> 0 | AH80: =M80+N80+O80+P80+Q80+R80+S80 -> 0 | AI80: =G80 -> 0 | AJ80: =T80+U80 -> 0
A81: 5.1 | B81: ²Ýã³÷³Ñ³ëÇÝ Ñ³Ýó³ÝùÇ Ï³ï³ñÙ³ÝÁ Ý»ñ·ñ³í»ÉÁ | D81: 165 | AD81: =SUM(T81:W81) -> 0 | AE81: =G81 -> 0 | AF81: =E81+F81 -> 0 | AG81: =T81 -> 0 | AH81: =M81+N81+O81+P81+Q81+R81+S81 -> 0 | AI81: =G81 -> 0 | AJ81: =T81+U81 -> 0
A82: 5.2 | B82: ºñ»Ë³ÛÇÝ Ñ³Ï³Ñ³ë³ñ³Ï³Ï³Ý ·áñÍáÕáõÃÛáõÝÝ»ñ Ï³ï³ñ»ÉáõÝ Ý»ñ·ñ³í»ÉÁ | D82: 166 | AD82: =SUM(T82:W82) -> 0 | AE82: =G82 -> 0 | AF82: =E82+F82 -> 0 | AG82: =T82 -> 0 | AH82: =M82+N82+O82+P82+Q82+R82+S82 -> 0 | AI82: =G82 -> 0 | AJ82: =T82+U82 -> 0
A83: 5.3 | B83: ÌÝáÕÝ»ñÇó »ñ»Ë³ÛÇÝ ³åûñÇÝÇ µ³Å³Ý»ÉÁ Ï³Ù »ñ»Ë³ÛÇÝ ÷áË»ÉÁ | D83: 167 | AD83: =SUM(T83:W83) -> 0 | AE83: =G83 -> 0 | AF83: =E83+F83 -> 0 | AG83: =T83 -> 0 | AH83: =M83+N83+O83+P83+Q83+R83+S83 -> 0 | AI83: =G83 -> 0 | AJ83: =T83+U83 -> 0
A84: 5.4 | B84: ºñ»Ë³ÛÇ ³éù áõ í³×³éùÁ | D84: 168 | AD84: =SUM(T84:W84) -> 0 | AE84: =G84 -> 0 | AF84: =E84+F84 -> 0 | AG84: =T84 -> 0 | AH84: =M84+N84+O84+P84+Q84+R84+S84 -> 0 | AI84: =G84 -> 0 | AJ84: =T84+U84 -> 0
A85: 5.5 | B85: àñ¹»·ñÙ³Ý ·³ÕïÝÇùÁ Ññ³å³ñ³Ï»ÉÁ Ï³Ù áñ¹»·ñÙ³Ý Ñ³Ù³Ó³ÛÝáõÃÛáõÝ ï³ÉáõÝ Ñ³Ï»ÉÁ Ï³Ù Ñ³ñÏ³¹ñ»ÉÁ | D85: 169 | AD85: =SUM(T85:W85) -> 0 | AE85: =G85 -> 0 | AF85: =E85+F85 -> 0 | AG85: =T85 -> 0 | AH85: =M85+N85+O85+P85+Q85+R85+S85 -> 0 | AI85: =G85 -> 0 | AJ85: =T85+U85 -> 0
A86: 5.6 | B86: ø³Õ³ù³óÇ³Ï³Ý Ï³óáõÃÛ³Ý ³Ïï»ñÇ ·ñ³ÝóÙ³Ý Ù³ñÙÇÝÝ»ñÇÝ ëáõï ï»Õ»ÏáõÃÛáõÝÝ»ñ Ñ³Õáñ¹»ÉÁ | D86: 169.1 | AD86: =SUM(T86:W86) -> 0 | AE86: =G86 -> 0 | AF86: =E86+F86 -> 0 | AG86: =T86 -> 0 | AH86: =M86+N86+O86+P86+Q86+R86+S86 -> 0 | AI86: =G86 -> 0 | AJ86: =T86+U86 -> 0
A87: 5.7 | B87: ºñ»Ë³ÛÇÝ ¹³ëïÇ³ñ³Ï»Éáõ å³ñï³Ï³ÝáõÃÛáõÝÁ ãÏ³ï³ñ»ÉÁ | D87: 170 | AD87: =SUM(T87:W87) -> 0 | AE87: =G87 -> 0 | AF87: =E87+F87 -> 0 | AG87: =T87 -> 0 | AH87: =M87+N87+O87+P87+Q87+R87+S87 -> 0 | AI87: =G87 -> 0 | AJ87: =T87+U87 -> 0
A88: 5.8 | B88: ºñ»Ë³ÛÇ ÏÛ³ÝùÇ ³Ýíï³Ý·áõÃÛ³Ý ³å³ÑáíÙ³Ý Ï³Ù ³éáÕçáõÃÛ³Ý å³Ñå³ÝÙ³Ý å³ñï³Ï³ÝáõÃÛáõÝÁ ãÏ³ï³ñ»ÉÁ Ï³Ù áã å³ïß³× Ï³ï³ñ»ÉÁ | D88: 171 | AD88: =SUM(T88:W88) -> 0 | AE88: =G88 -> 0 | AF88: =E88+F88 -> 0 | AG88: =T88 -> 0 | AH88: =M88+N88+O88+P88+Q88+R88+S88 -> 0 | AI88: =G88 -> 0 | AJ88: =T88+U88 -> 0
A89: 5.9 | B89: ÊÝ³Ù³Ï³ÉÇ Ï³Ù Ñá·³µ³ñÓáõÇ Çñ³íáõÝùÝ»ñÁ ã³ñ³ß³Ñ»ÉÁ | D89: 172 | AD89: =SUM(T89:W89) -> 0 | AE89: =G89 -> 0 | AF89: =E89+F89 -> 0 | AG89: =T89 -> 0 | AH89: =M89+N89+O89+P89+Q89+R89+S89 -> 0 | AI89: =G89 -> 0 | AJ89: =T89+U89 -> 0
A90: 5.10 | B90: ÌÝáÕÇ ÏáÕÙÇó »ñ»Ë³ÛÇÝ å³Ñ»Éáõó ã³ñ³Ùïáñ»Ý Ëáõë³÷»ÉÁ (áõÅÁ Ïáñóñ³Í) | D90: 173 | AD90: =SUM(T90:W90) -> 0 | AE90: =G90 -> 0 | AF90: =E90+F90 -> 0 | AG90: =T90 -> 0 | AH90: =M90+N90+O90+P90+Q90+R90+S90 -> 0 | AI90: =G90 -> 0 | AJ90: =T90+U90 -> 0
A91: 5.11 | B91: ¼³í³ÏÇ ÏáÕÙÇó ³Ý³ßË³ïáõÝ³Ï ÍÝáÕÇÝ å³Ñ»Éáõó ã³ñ³Ùïáñ»Ý Ëáõë³÷»ÉÁ | D91: 174 | AD91: =SUM(T91:W91) -> 0 | AE91: =G91 -> 0 | AF91: =E91+F91 -> 0 | AG91: =T91 -> 0 | AH91: =M91+N91+O91+P91+Q91+R91+S91 -> 0 | AI91: =G91 -> 0 | AJ91: =T91+U91 -> 0
A92: 5.12 | B92: ²ÛÉ Ñ³Ýó³·áñÍáõÃÛáõÝÝ»ñ | AD92: =SUM(T92:W92) -> 0 | AE92: =G92 -> 0 | AF92: =E92+F92 -> 0 | AG92: =T92 -> 0 | AH92: =M92+N92+O92+P92+Q92+R92+S92 -> 0 | AI92: =G92 -> 0 | AJ92: =T92+U92 -> 0
A93: 6. | B93: ÀÝ¹³Ù»ÝÁ ë»÷³Ï³ÝáõÃÛ³Ý ¹»Ù áõÕÕí³Í Ñ³Ýó³·áñÍáõÃÛáõÝÝ»ñÁ | E93: =SUM(E94:E106) -> 0 | F93: =SUM(F94:F106) -> 0 | G93: =SUM(G94:G106) -> 0 | H93: =SUM(H94:H106) -> 0 | I93: =SUM(I94:I106) -> 0 | J93: =SUM(J94:J106) -> 0 | K93: =SUM(K94:K106) -> 0 | L93: =SUM(L94:L106) -> 0 | ... AD93: =SUM(AD94:AD106) -> 0 | AE93: =G93 -> 0 | AF93: =E93+F93 -> 0 | AG93: =T93 -> 0 | AH93: =M93+N93+O93+P93+Q93+R93+S93 -> 0 | AI93: =G93 -> 0 | AJ93: =T93+U93 -> 0
A94: 6.1 | B94: ²í³½³ÏáõÃÛáõÝÁ | D94: 175 | AD94: =SUM(T94:W94) -> 0 | AE94: =G94 -> 0 | AF94: =E94+F94 -> 0 | AG94: =T94 -> 0 | AH94: =M94+N94+O94+P94+Q94+R94+S94 -> 0 | AI94: =G94 -> 0 | AJ94: =T94+U94 -> 0
A95: 6.2 | B95: ÎáÕáåáõïÁ | D95: 176 | AD95: =SUM(T95:W95) -> 0 | AE95: =G95 -> 0 | AF95: =E95+F95 -> 0 | AG95: =T95 -> 0 | AH95: =M95+N95+O95+P95+Q95+R95+S95 -> 0 | AI95: =G95 -> 0 | AJ95: =T95+U95 -> 0
A96: 6.3 | B96: ¶áÕáõÃÛáõÝÁ | D96: 177 | AD96: =SUM(T96:W96) -> 0 | AE96: =G96 -> 0 | AF96: =E96+F96 -> 0 | AG96: =T96 -> 0 | AH96: =M96+N96+O96+P96+Q96+R96+S96 -> 0 | AI96: =G96 -> 0 | AJ96: =T96+U96 -> 0
A97: 6.4 | B97: Ê³ñ¹³ËáõÃÛáõÝÁ | D97: 178 | AD97: =SUM(T97:W97) -> 0 | AE97: =G97 -> 0 | AF97: =E97+F97 -> 0 | AG97: =T97 -> 0 | AH97: =M97+N97+O97+P97+Q97+R97+S97 -> 0 | AI97: =G97 -> 0 | AJ97: =T97+U97 -> 0
A98: 6.5 | B98: Úáõñ³óÝ»ÉÁ Ï³Ù í³ïÝ»ÉÁ | D98: 179 | AD98: =SUM(T98:W98) -> 0 | AE98: =G98 -> 0 | AF98: =E98+F98 -> 0 | AG98: =T98 -> 0 | AH98: =M98+N98+O98+P98+Q98+R98+S98 -> 0 | AI98: =G98 -> 0 | AJ98: =T98+U98 -> 0
A99: 6.6 | B99: ²é³ÝÓÝ³ÏÇ ³ñÅ»ù áõÝ»óáÕ ³é³ñÏ³Ý»ñ Ñ³÷ßï³Ï»ÉÁ | D99: 180 | AD99: =SUM(T99:W99) -> 0 | AE99: =G99 -> 0 | AF99: =E99+F99 -> 0 | AG99: =T99 -> 0 | AH99: =M99+N99+O99+P99+Q99+R99+S99 -> 0 | AI99: =G99 -> 0 | AJ99: =T99+U99 -> 0
A100: 6.7 | B100: Ð³÷ßï³ÏáõÃÛáõÝÁ, áñÁ Ï³ï³ñí»É ¿ Ñ³Ù³Ï³ñ·ã³ÛÇÝ ï»ËÝÇÏ³ÛÇ û·ï³·áñÍÙ³Ùµ | D100: 181 | AD100: =SUM(T100:W100) -> 0 | AE100: =G100 -> 0 | AF100: =E100+F100 -> 0 | AG100: =T100 -> 0 | AH100: =M100+N100+O100+P100+Q100+R100+S100 -> 0 | AI100: =G100 -> 0 | AJ100: =T100+U100 -> 0
A101: 6.8 | B101: ÞáñÃáõÙÁ | D101: 182 | AD101: =SUM(T101:W101) -> 0 | AE101: =G101 -> 0 | AF101: =E101+F101 -> 0 | AG101: =T101 -> 0 | AH101: =M101+N101+O101+P101+Q101+R101+S101 -> 0 | AI101: =G101 -> 0 | AJ101: =T101+U101 -> 0
A102: 6.9 | B102: ²íïáÙ»ù»Ý³ÛÇÝ Ï³Ù ïñ³Ýëåáñï³ÛÇÝ ³ÛÉ ÙÇçáóÇÝ ³åûñÇÝ³µ³ñ ïÇñ³Ý³ÉÝ ³é³Ýó Ñ³÷ßï³Ï»Éáõ Ýå³ï³ÏÇ | D102: 183 | AD102: =SUM(T102:W102) -> 0 | AE102: =G102 -> 0 | AF102: =E102+F102 -> 0 | AG102: =T102 -> 0 | AH102: =M102+N102+O102+P102+Q102+R102+S102 -> 0 | AI102: =G102 -> 0 | AJ102: =T102+U102 -> 0
A103: 6.10 | B103: ¶áõÛù³ÛÇÝ íÝ³ë å³ï×³é»ÉÁ Ë³µ»áõÃÛ³Ý Ï³Ù íëï³ÑáõÃÛáõÝÁ ã³ñ³ß³Ñ»Éáõ »Õ³Ý³Ïáí | D103: 184 | AD103: =SUM(T103:W103) -> 0 | AE103: =G103 -> 0 | AF103: =E103+F103 -> 0 | AG103: =T103 -> 0 | AH103: =M103+N103+O103+P103+Q103+R103+S103 -> 0 | AI103: =G103 -> 0 | AJ103: =T103+U103 -> 0
A104: 6.11 | B104: ¶áõÛùÁ ¹Çï³íáñáõÃÛ³Ùµ áãÝã³óÝ»ÉÁ Ï³Ù íÝ³ë»ÉÁ | D104: 185 | AD104: =SUM(T104:W104) -> 0 | AE104: =G104 -> 0 | AF104: =E104+F104 -> 0 | AG104: =T104 -> 0 | AH104: =M104+N104+O104+P104+Q104+R104+S104 -> 0 | AI104: =G104 -> 0 | AJ104: =T104+U104 -> 0
A105: 6.12 | B105: ¶áõÛùÝ ³Ý½·áõßáõÃÛ³Ùµ áãÝã³óÝ»ÉÁ Ï³Ù íÝ³ë»ÉÁ | D105: 186 | AD105: =SUM(T105:W105) -> 0 | AE105: =G105 -> 0 | AF105: =E105+F105 -> 0 | AG105: =T105 -> 0 | AH105: =M105+N105+O105+P105+Q105+R105+S105 -> 0 | AI105: =G105 -> 0 | AJ105: =T105+U105 -> 0
A106: 6.13 | B106: Գուքի պահպանության պարտականություններն անփույթ կամ անբարեխիղճ կատարելը | D106: 186.1 | AD106: =SUM(T106:W106) -> 0 | AE106: =G106 -> 0 | AF106: =E106+F106 -> 0 | AG106: =T106 -> 0 | AH106: =M106+N106+O106+P106+Q106+R106+S106 -> 0 | AI106: =G106 -> 0 | AJ106: =T106+U106 -> 0
A107: 7. | B107: ÀÝ¹³Ù»ÝÁ ïÝï»ë³Ï³Ý ·áñÍáõÝ»áõÃÛ³Ý ¹»Ù áõÕÕí³Í Ñ³Ýó³·áñÍáõÃÛáõÝÝ»ñÁ | E107: =SUM(E108:E139) -> 0 | F107: =SUM(F108:F139) -> 0 | G107: =SUM(G108:G139) -> 0 | H107: =SUM(H108:H139) -> 0 | I107: =SUM(I108:I139) -> 0 | J107: =SUM(J108:J139) -> 0 | K107: =SUM(K108:K139) -> 0 | L107: =SUM(L108:L139) -> 0 | ... AC107: =SUM(AC108:AC139) -> 0 | AD107: =SUM(T107:W107) -> 0 | AE107: =G107 -> 0 | AF107: =E107+F107 -> 0 | AG107: =T107 -> 0 | AH107: =M107+N107+O107+P107+Q107+R107+S107 -> 0 | AI107: =G107 -> 0 | AJ107: =T107+U107 -> 0
A108: 7.1 | B108: úñÇÝ³Ï³Ý Ó»éÝ³ñÏ³ïÇñ³Ï³Ý ¨ ³ÛÉ ïÝï»ë³Ï³Ý ·áñÍáõÝ»áõÃÛ³ÝÁ ËáãÁÝ¹áï»ÉÁ | D108: 187 | AD108: =SUM(T108:W108) -> 0 | AE108: =G108 -> 0 | AF108: =E108+F108 -> 0 | AG108: =T108 -> 0 | AH108: =M108+N108+O108+P108+Q108+R108+S108 -> 0 | AI108: =G108 -> 0 | AJ108: =T108+U108 -> 0
A109: 7.2 | B109: ²åûñÇÝÇ Ó»éÝ³ñÏ³ïÇñáõÃÛáõÝÁ | D109: 188 | AD109: =SUM(T109:W109) -> 0 | AE109: =G109 -> 0 | AF109: =E109+F109 -> 0 | AG109: =T109 -> 0 | AH109: =M109+N109+O109+P109+Q109+R109+S109 -> 0 | AI109: =G109 -> 0 | AJ109: =T109+U109 -> 0
A110: 7.3 | B110: ²é³Ýó ÉÇó»Ý³½Ç³ÛÇ ³ñï³ñÅáõÛÃÇ í³×³éùÇ Çñ³Ï³Ý³óáõÙÁ | D110: 188.1 | AD110: =SUM(T110:W110) -> 0 | AE110: =G110 -> 0 | AF110: =E110+F110 -> 0 | AG110: =T110 -> 0 | AH110: =M110+N110+O110+P110+Q110+R110+S110 -> 0 | AI110: =G110 -> 0 | AJ110: =T110+U110 -> 0
A111: 7.4 | B111: Î»ÕÍ Ó»éÝ³ñÏ³ïÇñáõÃÛáõÝÁ | D111: 189 | AD111: =SUM(T111:W111) -> 0 | AE111: =G111 -> 0 | AF111: =E111+F111 -> 0 | AG111: =T111 -> 0 | AH111: =M111+N111+O111+P111+Q111+R111+S111 -> 0 | AI111: =G111 -> 0 | AJ111: =T111+U111 -> 0
A112: 7.5 | B112: Ð³Ýó³íáñ ×³Ý³å³ñÑáí ëï³óí³Í »Ï³ÙáõïÝ»ñÇ ûñÇÝ³Ï³Ý³óÝ»ÉÁ (É»·³É³óÝ»ÉÁ) | D112: 190 | AD112: =SUM(T112:W112) -> 0 | AE112: =G112 -> 0 | AF112: =E112+F112 -> 0 | AG112: =T112 -> 0 | AH112: =M112+N112+O112+P112+Q112+R112+S112 -> 0 | AI112: =G112 -> 0 | AJ112: =T112+U112 -> 0
A113: 7.6 | B113: ì³ñÏÁ áã Ýå³ï³Ï³ÛÇÝ û·ï³·áñÍ»ÉÁ | D113: 191 | AD113: =SUM(T113:W113) -> 0 | AE113: =G113 -> 0 | AF113: =E113+F113 -> 0 | AG113: =T113 -> 0 | AH113: =M113+N113+O113+P113+Q113+R113+S113 -> 0 | AI113: =G113 -> 0 | AJ113: =T113+U113 -> 0
A114: 7.7 | B114: ²ÝûñÇÝ³Ï³Ý ·áñÍáÕáõÃÛáõÝÝ»ñÁ ëÝ³ÝÏáõÃÛ³Ý ÁÝÃ³óùáõÙ | D114: 192 | AD114: =SUM(T114:W114) -> 0 | AE114: =G114 -> 0 | AF114: =E114+F114 -> 0 | AG114: =T114 -> 0 | AH114: =M114+N114+O114+P114+Q114+R114+S114 -> 0 | AI114: =G114 -> 0 | AJ114: =T114+U114 -> 0
A115: 7.8 | B115: Î³ÝË³Ùï³Íí³Í ëÝ³ÝÏáõÃÛáõÝÁ | D115: 193 | AD115: =SUM(T115:W115) -> 0 | AE115: =G115 -> 0 | AF115: =E115+F115 -> 0 | AG115: =T115 -> 0 | AH115: =M115+N115+O115+P115+Q115+R115+S115 -> 0 | AI115: =G115 -> 0 | AJ115: =T115+U115 -> 0
A116: 7.9 | B116: Î»ÕÍ ëÝ³ÝÏáõÃÛáõÝÁ | D116: 194 | AD116: =SUM(T116:W116) -> 0 | AE116: =G116 -> 0 | AF116: =E116+F116 -> 0 | AG116: =T116 -> 0 | AH116: =M116+N116+O116+P116+Q116+R116+S116 -> 0 | AI116: =G116 -> 0 | AJ116: =T116+U116 -> 0
A117: 7.10 | B117: ²åûñÇÝÇ Ñ³Ï³Ùñó³Ïó³ÛÇÝ ·áñÍáÕáõÃÛáõÝÁ | D117: 195 | AD117: =SUM(T117:W117) -> 0 | AE117: =G117 -> 0 | AF117: =E117+F117 -> 0 | AG117: =T117 -> 0 | AH117: =M117+N117+O117+P117+Q117+R117+S117 -> 0 | AI117: =G117 -> 0 | AJ117: =T117+U117 -> 0
A118: 7.11 | B118: Ðñ³å³ñ³Ï³ÛÇÝ ë³Ï³ñÏáõÃÛáõÝÝ»ñÇ ³ÝóÏ³óÙ³Ý Ï³ñ·Á ã³ñ³Ùïáñ»Ý Ë³Ëï»ÉÁ | D118: 196 | AD118: =SUM(T118:W118) -> 0 | AE118: =G118 -> 0 | AF118: =E118+F118 -> 0 | AG118: =T118 -> 0 | AH118: =M118+N118+O118+P118+Q118+R118+S118 -> 0 | AI118: =G118 -> 0 | AJ118: =T118+U118 -> 0
...

Sheet Shengavit
A1: Ð²ÞìºîìàôÂÚàôÜ
A2: ²Üâ²ö²Ð²ê ¸²î²ä²ðîÚ²ÈÜºðÆ ìºð²´ºðÚ²È | Y2: 2016Ã.
A3: ìÇ×³Ï³·ñ³Ï³Ý ïáÕÇ Ñ³Ù³ñÁ | B3: Ð²Üò²¶àðÌàôÂÚàôÜÜºðÆ îºê²ÎÜºðÀ | D3: ÐÐ øñ»³Ï³Ý ûñ»Ýë·ñùÇ Ñá¹í³ÍÁ | E3: Ð³Ýó³·áñÍáõÃÛáõÝÁ Ï³ï³ñ»É »Ý | H3: Ýñ³ÝóÇó | M3: ¸³ï³å³ñïÛ³ÉÝ»ñÇ ÝÏ³ïÙ³Ùµ Ýß³Ý³Ïí³Í ÑÇÙÝ³Ï³Ý å³ïÇÅÝ»ñ | V3: Ýß³Ý³Ïí³Í å³ïÇÅÁ å³ÛÙ³Ý³Ï³Ýáñ»Ý ãÇ ÏÇñ³éí»É | W3: ÏÇñ³éí»É ¿ Ñ³Ù³Ý»ñÙ³Ý ³Ïï | X3: ÎÇñ³éí»É »Ý ¹³ëïÇ³ñ³Ïã³Ï³Ý µÝáõÛÃÇ Ñ³ñÏ³¹ñ³ÝùÇ ÙÇçáó | Y3: ²ÝÓ³Ýó ÃÇíÁ, áñáÝù ÙÇÝã¨ í»ñçÇÝ Ñ³Ýó³·áñÍáõÃÛáõÝÁ Ï³ï³ñ»ÉÁ
E4: 14-16 ï³ñ»Ï³ÝáõÙ | F4: 16-18 ï³ñ»Ï³ÝáõÙ | G4: ÀÝ¹³Ù»ÝÁ | H4: ³ÕçÇÏÝ»ñ | I4: ã»Ý ³ßË³ï»É, ã»Ý ëáíáñ»É | J4: ³ÝÓÇÝù, áñáÝù Ñ³Ýó³·áñÍáõÃÛáõÝÁ Ï³ï³ñ»É »Ý | M4: ² ½ ³ ï ³ ½ ñ Ï áõ Ù | U4: ³ÛÉ å³ïÇÅÝ»ñ | Y4: ·ïÝí»É »Ý áëïÇÏ³ÝáõÃÛ³Ý Ù³ñÙÇÝÝ»ñáõÙ Ñ³ßí³éÙ³Ý Ù»ç | Z4: Ï³ï³ñ»É »Ý Ñ³Ýó³·áñÍáõÃÛáõÝ ¨ »Õ»É »Ý
Z5: ³½³ïí³Í ùñ»³Ï³Ý å³ï³ëË³Ý³ïíáõÃÛáõÝÇó | AA5: ¹³ï³å³ñïí³Í | AB5: ²Û¹ ÃíáõÙ
B6: êîàô¶Æâ Ð²ì²ê²ðàôØÜºð 3=1+2, 16=9+10+11+12+13+14+15, 3=16+17+18+19 | J6: ³ÉÏ., ÃÙñ³ÙÇç. Ï³Ù ÃÝñ»óÝáÕ ³ÛÉ ÝÛáõÃ»ñÇ ³½¹»óáõÃÛ³Ý ï³Ï | K6: ØÇ ËáõÙµ ³ÝÓ³Ýó Ï³½ÙáõÙ | L6: ³Û¹ ÃíáõÙª Ù»Í³Ñ³ë³ÏÝ»ñÇ Ù³ëÝ³ÏóáõÃÛ³Ùµ | M6: 1 ï³ñÇ Ý»ñ³éÛ³É | N6: 1 ï³ñáõó ³í»É, ÙÇÝã¨ 2 ï³ñÇ Ý»ñ³éÛ³É | O6: 2 ï³ñáõó ³í»É, ÙÇÝã¨ 3 ï³ñÇ Ý»ñ³éÛ³É | P6: 3 ï³ñáõó ³í»É, ÙÇÝã¨ 5 ï³ñÇ Ý»ñ³éÛ³É | Q6: 5 ï³ñáõó ³í»É, ÙÇÝã¨ 8 ï³ñÇ Ý»ñ³éÛ³É | R6: 8 ï³ñáõó ³í»É, ÙÇÝã¨ 10 ï³ñÇ Ý»ñ³éÛ³É | S6: 10 ï³ñáõó ³í»É, ÙÇÝã¨ 12ï³ñÇ Ý»ñ³éÛ³É | T6: ÁÝ¹³Ù»ÝÁ | AB6: ¹³ï³í×éÇ Ï³ï³ñÙ³Ý Ñ»ï³Ó·áõÙáí | AC6: å³ÛÙ³Ý³Ï³Ý ¹³ï³å³ñïáõÃÛáõÝ
E7: 1 | F7: 2 | G7: 3 | H7: 4 | I7: 5 | J7: 6 | K7: 7 | L7: 8 | M7: 9 | N7: 10 | O7: 11 | P7: 12 | Q7: 13 | R7: 14 | S7: 15 | T7: 16 | U7: 17 | V7: 18 | W7: 19 | X7: 20 | Y7: 21 | Z7: 22 | AA7: 23 | AB7: 24 | AC7: 25 | AE7: 3=1+2 | AG7: 16=9+10+11+12+13+14+15 | AI7: 3=16+17
A8: 1. | B8: ÀÝ¹³Ù»ÝÁ ÏÛ³ÝùÇ ¨ ³éáÕçáõÃÛ³Ý ¹»Ù áõÕÕí³Í Ñ³Ýó³·áñÍáõÃÛáõÝÝ»ñÁ | E8: =SUM(E9:E35) -> 0 | F8: =SUM(F9:F35) -> 2 | G8: =SUM(G9:G35) -> 2 | H8: =SUM(H9:H35) -> 0 | I8: =SUM(I9:I35) -> 0 | J8: =SUM(J9:J35) -> 0 | K8: =SUM(K9:K35) -> 0 | L8: =SUM(L9:L35) -> 0 | ... AC8: =SUM(AC9:AC35) -> 0 | AD8: =SUM(T8:W8) -> 3 | AE8: =G8 -> 2 | AF8: =E8+F8 -> 2 | AG8: =T8 -> 2 | AH8: =M8+N8+O8+P8+Q8+R8+S8 -> 2 | AI8: =G8 -> 2 | AJ8: =T8+U8 -> 2
A9: 1.1 | B9: êå³ÝáõÃÛáõÝÁ | D9: 104 | AD9: =SUM(T9:W9) -> 0 | AE9: =G9 -> 0 | AF9: =E9+F9 -> 0 | AG9: =T9 -> 0 | AH9: =M9+N9+O9+P9+Q9+R9+S9 -> 0 | AI9: =G9 -> 0 | AJ9: =T9+U9 -> 0
A10: 1.2 | B10: Ðá·»Ï³Ý ËÇëï Ñáõ½ÙáõÝùÇ íÇ×³ÏáõÙ Ï³ï³ñí³Í ëå³ÝáõÃÛáõÝÁ | D10: 105 | AD10: =SUM(T10:W10) -> 0 | AE10: =G10 -> 0 | AF10: =E10+F10 -> 0 | AG10: =T10 -> 0 | AH10: =M10+N10+O10+P10+Q10+R10+S10 -> 0 | AI10: =G10 -> 0 | AJ10: =T10+U10 -> 0
A11: 1.3 | B11: Øáñ ÏáÕÙÇó Ýáñ³ÍÇÝ »ñ»Ë³ÛÇ ëå³ÝáõÃÛáõÝÁ | D11: 106 | AD11: =SUM(T11:W11) -> 0 | AE11: =G11 -> 0 | AF11: =E11+F11 -> 0 | AG11: =T11 -> 0 | AH11: =M11+N11+O11+P11+Q11+R11+S11 -> 0 | AI11: =G11 -> 0 | AJ11: =T11+U11 -> 0
A12: 1.4 | B12: Ð³Ýó³Ýù Ï³ï³ñ³Í ³ÝÓÇÝ µéÝ»Éáõ Ñ³Ù³ñ ³ÝÑñ³Å»ßï ÙÇçáóÝ»ñÇ ë³ÑÙ³Ý³½³ÝóÙ³Ùµ ëå³ÝáõÃÛáõÝÁ | D12: 107 | AD12: =SUM(T12:W12) -> 0 | AE12: =G12 -> 0 | AF12: =E12+F12 -> 0 | AG12: =T12 -> 0 | AH12: =M12+N12+O12+P12+Q12+R12+S12 -> 0 | AI12: =G12 -> 0 | AJ12: =T12+U12 -> 0
A13: 1.5 | B13: ²ÝÑñ³Å»ßï å³ßïå³ÝáõÃÛ³Ý ë³ÑÙ³Ý³½³ÝóÙ³Ùµ ëå³ÝáõÃÛáõÝÁ | D13: 108 | AD13: =SUM(T13:W13) -> 0 | AE13: =G13 -> 0 | AF13: =E13+F13 -> 0 | AG13: =T13 -> 0 | AH13: =M13+N13+O13+P13+Q13+R13+S13 -> 0 | AI13: =G13 -> 0 | AJ13: =T13+U13 -> 0
A14: 1.6 | B14: ²Ý½·áõßáõÃÛ³Ùµ Ù³Ñ å³ï×³é»ÉÁ | D14: 109 | AD14: =SUM(T14:W14) -> 0 | AE14: =G14 -> 0 | AF14: =E14+F14 -> 0 | AG14: =T14 -> 0 | AH14: =M14+N14+O14+P14+Q14+R14+S14 -> 0 | AI14: =G14 -> 0 | AJ14: =T14+U14 -> 0
A15: 1.7 | B15: ÆÝùÝ³ëå³ÝáõÃÛ³Ý Ñ³ëóÝ»ÉÁ | D15: 110 | AD15: =SUM(T15:W15) -> 0 | AE15: =G15 -> 0 | AF15: =E15+F15 -> 0 | AG15: =T15 -> 0 | AH15: =M15+N15+O15+P15+Q15+R15+S15 -> 0 | AI15: =G15 -> 0 | AJ15: =T15+U15 -> 0
A16: 1.8 | B16: ÆÝùÝ³ëå³ÝáõÃÛ³Ý Ñ³Ï»ÉÁ | D16: 111 | AD16: =SUM(T16:W16) -> 0 | AE16: =G16 -> 0 | AF16: =E16+F16 -> 0 | AG16: =T16 -> 0 | AH16: =M16+N16+O16+P16+Q16+R16+S16 -> 0 | AI16: =G16 -> 0 | AJ16: =T16+U16 -> 0
A17: 1.9 | B17: ¸Çï³íáñáõÃÛ³Ùµ ³éáÕçáõÃÛ³ÝÁ Í³Ýñ íÝ³ë å³ï×³é»ÉÁ | D17: 112 | F17: 1 | G17: 1 | O17: 1 | T17: 1 | V17: 1 | AD17: =SUM(T17:W17) -> 2 | AE17: =G17 -> 1 | AF17: =E17+F17 -> 1 | AG17: =T17 -> 1 | AH17: =M17+N17+O17+P17+Q17+R17+S17 -> 1 | AI17: =G17 -> 1 | AJ17: =T17+U17 -> 1
A18: 1.10 | B18: ¸Çï³íáñáõÃÛ³Ùµ ³éáÕçáõÃÛ³ÝÁ ÙÇçÇÝ Í³ÝñáõÃÛ³Ý íÝ³ë å³ï×³é»ÉÁ | D18: 113 | F18: 1 | G18: 1 | M18: 1 | T18: 1 | AD18: =SUM(T18:W18) -> 1 | AE18: =G18 -> 1 | AF18: =E18+F18 -> 1 | AG18: =T18 -> 1 | AH18: =M18+N18+O18+P18+Q18+R18+S18 -> 1 | AI18: =G18 -> 1 | AJ18: =T18+U18 -> 1
A19: 1.11 | B19: Ðá·»Ï³Ý ËÇëï Ñáõ½ÙáõÝùÇ íÇ×³ÏáõÙ ³éáÕçáõÃÛ³ÝÁ Í³Ýñ Ï³Ù ÙÇçÇÝ Í³ÝñáõÃÛ³Ý íÝ³ë å³ï×³é»ÉÁ | D19: 114 | AD19: =SUM(T19:W19) -> 0 | AE19: =G19 -> 0 | AF19: =E19+F19 -> 0 | AG19: =T19 -> 0 | AH19: =M19+N19+O19+P19+Q19+R19+S19 -> 0 | AI19: =G19 -> 0 | AJ19: =T19+U19 -> 0
A20: 1.12 | B20: Ð³Ýó³Ýù Ï³ï³ñ³Í ³ÝÓÇÝ µéÝ»Éáõ Ñ³Ù³ñ ³ÝÑñ³Å»ßï ÙÇçáóÝ»ñÇ ë³ÑÙ³Ý½³ÝóÙ³Ùµ ³éáÕçáõÃÛ³ÝÁ Í³Ýñ Ï³Ù ÙÇçÇÝ Í³ÝñáõÃÛ³Ý íÝ³ë å³ï×³é»ÉÁ | D20: 115 | AD20: =SUM(T20:W20) -> 0 | AE20: =G20 -> 0 | AF20: =E20+F20 -> 0 | AG20: =T20 -> 0 | AH20: =M20+N20+O20+P20+Q20+R20+S20 -> 0 | AI20: =G20 -> 0 | AJ20: =T20+U20 -> 0
A21: 1.13 | B21: ²éáÕçáõÃÛ³ÝÁ Í³Ýñ Ï³Ù ÙÇçÇÝ Í³ÝñáõÃÛ³Ý íÝ³ë å³ï×³é»ÉÁ ³ÝÑñ³Å»ßï å³ßïå³ÝáõÃÛ³Ý ë³ÑÙ³Ý³Ý³½³ÝóÙ³Ùµ | D21: 116 | AD21: =SUM(T21:W21) -> 0 | AE21: =G21 -> 0 | AF21: =E21+F21 -> 0 | AG21: =T21 -> 0 | AH21: =M21+N21+O21+P21+Q21+R21+S21 -> 0 | AI21: =G21 -> 0 | AJ21: =T21+U21 -> 0
A22: 1.14 | B22: ¸Çï³íáñáõÃÛ³Ùµ ³éáÕçáõÃÛ³ÝÁ Ã»Ã¨ íÝ³ë å³ï×³é»ÉÁ | D22: 117 | AD22: =SUM(T22:W22) -> 0 | AE22: =G22 -> 0 | AF22: =E22+F22 -> 0 | AG22: =T22 -> 0 | AH22: =M22+N22+O22+P22+Q22+R22+S22 -> 0 | AI22: =G22 -> 0 | AJ22: =T22+U22 -> 0
A23: 1.15 | B23: Ì»ÍÁ | D23: 118 | AD23: =SUM(T23:W23) -> 0 | AE23: =G23 -> 0 | AF23: =E23+F23 -> 0 | AG23: =T23 -> 0 | AH23: =M23+N23+O23+P23+Q23+R23+S23 -> 0 | AI23: =G23 -> 0 | AJ23: =T23+U23 -> 0
A24: 1.16 | B24: Êáßï³Ý·áõÙÁ | D24: 119 | AD24: =SUM(T24:W24) -> 0 | AE24: =G24 -> 0 | AF24: =E24+F24 -> 0 | AG24: =T24 -> 0 | AH24: =M24+N24+O24+P24+Q24+R24+S24 -> 0 | AI24: =G24 -> 0 | AJ24: =T24+U24 -> 0
A25: 1.17 | B25: ²Ý½·áõßáõÃÛ³Ùµ ³éáÕçáõÃÛ³ÝÁ Í³Ýñ íÝ³ë å³ï×³é»ÉÁ | D25: 120 | AD25: =SUM(T25:W25) -> 0 | AE25: =G25 -> 0 | AF25: =E25+F25 -> 0 | AG25: =T25 -> 0 | AH25: =M25+N25+O25+P25+Q25+R25+S25 -> 0 | AI25: =G25 -> 0 | AJ25: =T25+U25 -> 0
A26: 1.18 | B26: ²Ý½·áõßáõÃÛ³Ùµ ³éáÕçáõÃÛ³ÝÁ ÙÇçÇÝ Í³ÝñáõÃÛ³Ý íÝ³ë å³ï×³é»ÉÁ | D26: 121 | AD26: =SUM(T26:W26) -> 0 | AE26: =G26 -> 0 | AF26: =E26+F26 -> 0 | AG26: =T26 -> 0 | AH26: =M26+N26+O26+P26+Q26+R26+S26 -> 0 | AI26: =G26 -> 0 | AJ26: =T26+U26 -> 0
A27: 1.19 | B27: ²åûñÇÝÇ ³µáñï Ï³ï³ñ»ÉÁ | D27: 122 | AD27: =SUM(T27:W27) -> 0 | AE27: =G27 -> 0 | AF27: =E27+F27 -> 0 | AG27: =T27 -> 0 | AH27: =M27+N27+O27+P27+Q27+R27+S27 -> 0 | AI27: =G27 -> 0 | AJ27: =T27+U27 -> 0
A28: 1.20 | B28: Ø³ñ¹áõ ÇÙáõÝ³ÛÇÝ ³Ýµ³í³ñ³ñáõÃÛ³Ý íÇñáõëÇ Ñ³ñáõóÇãáí í³ñ³Ï»ÉÁ | D28: 123 | AD28: =SUM(T28:W28) -> 0 | AE28: =G28 -> 0 | AF28: =E28+F28 -> 0 | AG28: =T28 -> 0 | AH28: =M28+N28+O28+P28+Q28+R28+S28 -> 0 | AI28: =G28 -> 0 | AJ28: =T28+U28 -> 0
A29: 1.21 | B29: ì»Ý»ñ³Ï³Ý ÑÇí³Ý¹áõÃÛ³Ùµ Ï³Ù ³ÛÉ ë»é³í³ñ³ÏÝ»ñáí í³ñ³Ï»ÉÁ | D29: 124 | AD29: =SUM(T29:W29) -> 0 | AE29: =G29 -> 0 | AF29: =E29+F29 -> 0 | AG29: =T29 -> 0 | AH29: =M29+N29+O29+P29+Q29+R29+S29 -> 0 | AI29: =G29 -> 0 | AJ29: =T29+U29 -> 0
A30: 1.22 | B30: öáËå³ïí³ëïÙ³Ý íÇñ³Ñ³ïáõÃÛáõÝ Ï³ï³ñ»Éáõ Ï³ÝáÝÝ»ñÁ Ë³Ëï»ÉÁ | D30: 125 | AD30: =SUM(T30:W30) -> 0 | AE30: =G30 -> 0 | AF30: =E30+F30 -> 0 | AG30: =T30 -> 0 | AH30: =M30+N30+O30+P30+Q30+R30+S30 -> 0 | AI30: =G30 -> 0 | AJ30: =T30+U30 -> 0
... A34: 1.27 | B34: ´ÅßÏ³Ï³Ý û·ÝáõÃÛáõÝ ¨ ëå³ë³ñÏáõÙ Çñ³Ï³Ý³óÝáÕÝ»ñÇ ÏáÕÙÇó Ù³ëÝ³·Çï³Ï³Ý å³ñï³Ï³ÝáõÃÛáõÝÝ»ñÁ ãÏ³ï³ñ»ÉÁ Ï³Ù áã å³ïß³× Ï³ï³ñ»ÉÁ | D34: 130 | AD34: =SUM(T34:W34) -> 0 | AE34: =G34 -> 0 | AF34: =E34+F34 -> 0 | AG34: =T34 -> 0 | AH34: =M34+N34+O34+P34+Q34+R34+S34 -> 0 | AI34: =G34 -> 0 | AJ34: =T34+U34 -> 0
A35: 1.28 | B35: ²ÛÉ Ñ³Ýó³·áñÍáõÃÛáõÝÝ»ñ | AD35: =SUM(T35:W35) -> 0 | AE35: =G35 -> 0 | AF35: =E35+F35 -> 0 | AG35: =T35 -> 0 | AH35: =M35+N35+O35+P35+Q35+R35+S35 -> 0 | AI35: =G35 -> 0 | AJ35: =T35+U35 -> 0
A36: 2. | B36: ÀÝ¹³Ù»ÝÁ ³ÝÓÇ ³½³ïáõÃÛ³Ý, å³ïíÇ ¨ ³ñÅ³Ý³å³ïíáõÃÛ³Ý ¹»Ù áõÕÕí³Í Ñ³Ýó³·áñÍáõÃÛáõÝÝ»ñÁ | E36: =SUM(E37:E43) -> 0 | F36: =SUM(F37:F43) -> 0 | G36: =SUM(G37:G43) -> 0 | H36: =SUM(H37:H43) -> 0 | I36: =SUM(I37:I43) -> 0 | J36: =SUM(J37:J43) -> 0 | K36: =SUM(K37:K43) -> 0 | L36: =SUM(L37:L43) -> 0 | ... AC36: =SUM(AC37:AC43) -> 0 | AD36: =SUM(T36:W36) -> 0 | AE36: =G36 -> 0 | AF36: =E36+F36 -> 0 | AG36: =T36 -> 0 | AH36: =M36+N36+O36+P36+Q36+R36+S36 -> 0 | AI36: =G36 -> 0 | AJ36: =T36+U36 -> 0
A37: 2.1 | B37: Ø³ñ¹áõÝ ³é¨³Ý·»ÉÁ | D37: 131 | AD37: =SUM(T37:W37) -> 0 | AE37: =G37 -> 0 | AF37: =E37+F37 -> 0 | AG37: =T37 -> 0 | AH37: =M37+N37+O37+P37+Q37+R37+S37 -> 0 | AI37: =G37 -> 0 | AJ37: =T37+U37 -> 0
A38: 2.2 | B38: Þ³Ñ³·áñÍÙ³Ý Ýå³ï³Ïáí Ù³ñ¹áõÝ Ñ³í³ù³·ñ»ÉÁ, ÷áË³¹ñ»ÉÁ, Ñ³ÝÓÝ»ÉÁ, Ã³ùóÝ»ÉÁ Ï³Ù ëï³Ý³ÉÁ | D38: 132 | AD38: =SUM(T38:W38) -> 0 | AE38: =G38 -> 0 | AF38: =E38+F38 -> 0 | AG38: =T38 -> 0 | AH38: =M38+N38+O38+P38+Q38+R38+S38 -> 0 | AI38: =G38 -> 0 | AJ38: =T38+U38 -> 0
A39: 2.2.1 | B39: Ø³ñ¹áõÝ åáéÝÇÏáõÃÛ³Ý Ï³Ù ë»é³Ï³Ý ß³Ñ³·áñÍÙ³Ý ³ÛÉ Ó¨»ñÇ Ù»ç, Ñ³ñÏ³¹Çñ ³ßË³ï³ÝùÇ Ï³Ù Í³é³ÛáõÃÛáõÝÝ»ñÇ Ý»ñ·ñ³í»ÉÁ Ï³Ù ëïñÏáõÃÛ³Ý Ï³Ù ëïñÏáõÃÛ³ÝÁ ÝÙ³ÝíáÕ íÇ×³ÏÇ Ù»ç ¹Ý»ÉÁ Ï³Ù å³Ñ»ÉÁ | D39: 132.1 | AD39: =SUM(T39:W39) -> 0 | AE39: =G39 -> 0 | AF39: =E39+F39 -> 0 | AG39: =T39 -> 0 | AH39: =M39+N39+O39+P39+Q39+R39+S39 -> 0 | AI39: =G39 -> 0 | AJ39: =T39+U39 -> 0
A40: 2.3 | B40: ²½³ïáõÃÛáõÝÇó ³åûñÇÝÇ ½ñÏ»ÉÁ | D40: 133 | AD40: =SUM(T40:W40) -> 0 | AE40: =G40 -> 0 | AF40: =E40+F40 -> 0 | AG40: =T40 -> 0 | AH40: =M40+N40+O40+P40+Q40+R40+S40 -> 0 | AI40: =G40 -> 0 | AJ40: =T40+U40 -> 0
A41: 2.4 | B41: Ðá·»µáõÅ³Ï³Ý ÑÇí³Ý¹³ÝáóáõÙ ³åûñÇÝÇ ï»Õ³íáñ»ÉÁ Ï³Ù å³Ñ»ÉÁ | D41: 134 | AD41: =SUM(T41:W41) -> 0 | AE41: =G41 -> 0 | AF41: =E41+F41 -> 0 | AG41: =T41 -> 0 | AH41: =M41+N41+O41+P41+Q41+R41+S41 -> 0 | AI41: =G41 -> 0 | AJ41: =T41+U41 -> 0
A42: 2.7 | B42: êå³ÝáõÃÛ³Ý, ³éáÕçáõÃÛ³ÝÁ Í³Ýñ íÝ³ë å³ï×³é»Éáõ Ï³Ù ·áõÛù áãÝã³óÝ»Éáõ ëå³éÝ³ÉÇùÁ | D42: 137 | AD42: =SUM(T42:W42) -> 0 | AE42: =G42 -> 0 | AF42: =E42+F42 -> 0 | AG42: =T42 -> 0 | AH42: =M42+N42+O42+P42+Q42+R42+S42 -> 0 | AI42: =G42 -> 0 | AJ42: =T42+U42 -> 0
A43: 2.8 | B43: ²ÛÉ Ñ³Ýó³·áñÍáõÃÛáõÝÝ»ñ | AD43: =SUM(T43:W43) -> 0 | AE43: =G43 -> 0 | AF43: =E43+F43 -> 0 | AG43: =T43 -> 0 | AH43: =M43+N43+O43+P43+Q43+R43+S43 -> 0 | AI43: =G43 -> 0 | AJ43: =T43+U43 -> 0
A44: 3. | B44: ÀÝ¹³Ù»ÝÁ ë»é³Ï³Ý ³ÝÓ»éÝÙË»ÉÇáõÃÛ³Ý ¨ ë»é³Ï³Ý ³½³ïáõÃÛ³Ý ¹»Ù áõÕÕí³Í Ñ³Ýó³·áñÍáõÃÛáõÝÝ»ñÁ | E44: =SUM(E45:E50) -> 0 | F44: =SUM(F45:F50) -> 0 | G44: =SUM(G45:G50) -> 0 | H44: =SUM(H45:H50) -> 0 | I44: =SUM(I45:I50) -> 0 | J44: =SUM(J45:J50) -> 0 | K44: =SUM(K45:K50) -> 0 | L44: =SUM(L45:L50) -> 0 | ... AC44: =SUM(AC45:AC50) -> 0 | AD44: =SUM(T44:W44) -> 0 | AE44: =G44 -> 0 | AF44: =E44+F44 -> 0 | AG44: =T44 -> 0 | AH44: =M44+N44+O44+P44+Q44+R44+S44 -> 0 | AI44: =G44 -> 0 | AJ44: =T44+U44 -> 0
A45: 3.1 | B45: ´éÝ³µ³ñáõÃÛáõÝÁ | D45: 138 | AD45: =SUM(T45:W45) -> 0 | AE45: =G45 -> 0 | AF45: =E45+F45 -> 0 | AG45: =T45 -> 0 | AH45: =M45+N45+O45+P45+Q45+R45+S45 -> 0 | AI45: =G45 -> 0 | AJ45: =T45+U45 -> 0
A46: 3.2 | B46: ê»ùëáõ³É µÝáõÛÃÇ µéÝÇ ·áñÍáÕáõÃÛáõÝÝ»ñÁ | D46: 139 | AD46: =SUM(T46:W46) -> 0 | AE46: =G46 -> 0 | AF46: =E46+F46 -> 0 | AG46: =T46 -> 0 | AH46: =M46+N46+O46+P46+Q46+R46+S46 -> 0 | AI46: =G46 -> 0 | AJ46: =T46+U46 -> 0
A47: 3.3 | B47: ê»ùëáõ³É µÝáõÛÃÇ ·áñÍáÕáõÃÛáõÝÝ»ñÇÝ Ñ³ñÏ³¹ñ»ÉÁ | D47: 140 | AD47: =SUM(T47:W47) -> 0 | AE47: =G47 -> 0 | AF47: =E47+F47 -> 0 | AG47: =T47 -> 0 | AH47: =M47+N47+O47+P47+Q47+R47+S47 -> 0 | AI47: =G47 -> 0 | AJ47: =T47+U47 -> 0
A48: 3.4 | B48: ê»ùëáõ³É µÝáõÛÃÇ ·áñÍáÕáõÃÛáõÝÝ»ñ Ï³ï³ñ»ÉÁ ï³ëÝí»ó ï³ñÇÝ ãÉñ³ó³Í ³ÝÓÇ Ñ»ï | D48: 141 | AD48: =SUM(T48:W48) -> 0 | AE48: =G48 -> 0 | AF48: =E48+F48 -> 0 | AG48: =T48 -> 0 | AH48: =M48+N48+O48+P48+Q48+R48+S48 -> 0 | AI48: =G48 -> 0 | AJ48: =T48+U48 -> 0
A49: 3.5 | B49: ²Ý³é³Ï³µ³ñá ·áñÍáÕáõÃÛáõÝÝ»ñÁ | D49: 142 | AD49: =SUM(T49:W49) -> 0 | AE49: =G49 -> 0 | AF49: =E49+F49 -> 0 | AG49: =T49 -> 0 | AH49: =M49+N49+O49+P49+Q49+R49+S49 -> 0 | AI49: =G49 -> 0 | AJ49: =T49+U49 -> 0
A50: 3.6 | B50: ²ÛÉ Ñ³Ýó³·áñÍáõÃÛáõÝÝ»ñ | AD50: =SUM(T50:W50) -> 0 | AE50: =G50 -> 0 | AF50: =E50+F50 -> 0 | AG50: =T50 -> 0 | AH50: =M50+N50+O50+P50+Q50+R50+S50 -> 0 | AI50: =G50 -> 0 | AJ50: =T50+U50 -> 0
A51: 4. | B51: ÀÝ¹³Ù»ÝÁ Ù³ñ¹áõ ¨ ù³Õ³ù³óáõ ë³ÑÙ³Ý³¹ñ³Ï³Ý Çñ³íáõÝùÝ»ñÇ ¨ ³½³ïáõÃÛáõÝÝ»ñÇ ¹»Ù áõÕÕí³Í Ñ³Ýó³·áñÍáõÃÛáõÝÝ»ñÁ | E51: =SUM(E52:E79) -> 0 | F51: =SUM(F52:F79) -> 0 | G51: =SUM(G52:G79) -> 0 | H51: =SUM(H52:H79) -> 0 | I51: =SUM(I52:I79) -> 0 | J51: =SUM(J52:J79) -> 0 | K51: =SUM(K52:K79) -> 0 | L51: =SUM(L52:L79) -> 0 | ... AC51: =SUM(AC52:AC79) -> 0 | AD51: =SUM(T51:W51) -> 0 | AE51: =G51 -> 0 | AF51: =E51+F51 -> 0 | AG51: =T51 -> 0 | AH51: =M51+N51+O51+P51+Q51+R51+S51 -> 0 | AI51: =G51 -> 0 | AJ51: =T51+U51 -> 0
A52: 4.1 | B52: ø³Õ³ù³óÇÝ»ñÇ Çñ³í³Ñ³í³ë³ñáõÃÛáõÝÁ Ë³Ëï»ÉÁ | D52: 143 | AD52: =SUM(T52:W52) -> 0 | AE52: =G52 -> 0 | AF52: =E52+F52 -> 0 | AG52: =T52 -> 0 | AH52: =M52+N52+O52+P52+Q52+R52+S52 -> 0 | AI52: =G52 -> 0 | AJ52: =T52+U52 -> 0
A53: 4.2 | B53: ²ÝÓÝ³Ï³Ý Ï³Ù ÁÝï³Ý»Ï³Ý ÏÛ³ÝùÇ Ù³ëÇÝ ï»Õ»ÏáõÃÛáõÝÝ»ñ ³åûñÇÝÇ Ñ³í³ù»ÉÁ, å³Ñ»ÉÁ, û·ï³·áñÍ»ÉÁ Ï³Ù ï³ñ³Í»ÉÁ | D53: 144 | AD53: =SUM(T53:W53) -> 0 | AE53: =G53 -> 0 | AF53: =E53+F53 -> 0 | AG53: =T53 -> 0 | AH53: =M53+N53+O53+P53+Q53+R53+S53 -> 0 | AI53: =G53 -> 0 | AJ53: =T53+U53 -> 0
A54: 4.3 | B54: ´ÅßÏ³Ï³Ý ·³ÕïÝÇùÁ Ññ³å³ñ³Ï»ÉÁ | D54: 145 | AD54: =SUM(T54:W54) -> 0 | AE54: =G54 -> 0 | AF54: =E54+F54 -> 0 | AG54: =T54 -> 0 | AH54: =M54+N54+O54+P54+Q54+R54+S54 -> 0 | AI54: =G54 -> 0 | AJ54: =T54+U54 -> 0
A55: 4.4 | B55: Ü³Ù³Ï³·ñáõÃÛ³Ý, Ñ»é³Ëáë³ÛÇÝ Ëáë³ÏóáõÃÛáõÝÝ»ñÇ, ÷áëï³ÛÇÝ, Ñ»é³·ñ³Ï³Ý Ï³Ù ³ÛÉ Ñ³Õáñ¹áõÙÝ»ñÇ ·³ÕïÝÇáõÃÛáõÝÁ Ë³Ëï»ÉÁ | D55: 146 | AD55: =SUM(T55:W55) -> 0 | AE55: =G55 -> 0 | AF55: =E55+F55 -> 0 | AG55: =T55 -> 0 | AH55: =M55+N55+O55+P55+Q55+R55+S55 -> 0 | AI55: =G55 -> 0 | AJ55: =T55+U55 -> 0
A56: 4.5 | B56: ´Ý³Ï³ñ³ÝÇ ³ÝÓ»éÝÙË»ÉÇáõÃÛáõÝÁ Ë³Ëï»ÉÁ | D56: 147 | AD56: =SUM(T56:W56) -> 0 | AE56: =G56 -> 0 | AF56: =E56+F56 -> 0 | AG56: =T56 -> 0 | AH56: =M56+N56+O56+P56+Q56+R56+S56 -> 0 | AI56: =G56 -> 0 | AJ56: =T56+U56 -> 0
A57: 4.6 | B57: ²ÝÓÇÝ ï»Õ»ÏáõÃÛáõÝ Ý»ñÏ³Û³óÝ»Éáõó Ññ³Å³ñí»ÉÁ | D57: 148 | AD57: =SUM(T57:W57) -> 0 | AE57: =G57 -> 0 | AF57: =E57+F57 -> 0 | AG57: =T57 -> 0 | AH57: =M57+N57+O57+P57+Q57+R57+S57 -> 0 | AI57: =G57 -> 0 | AJ57: =T57+U57 -> 0
A58: 4.7 | B58: ÀÝïñ³Ï³Ý Çñ³íáõÝùÇ Çñ³Ï³Ý³óÙ³ÝÁ, ÁÝïñ³Ï³Ý Ñ³ÝÓÝ³ÅáÕáíÝ»ñÇ ³ßË³ï³ÝùÝ»ñÇÝ Ï³Ù ÁÝïñáõÃÛ³ÝÁ Ù³ëÝ³ÏóáÕ ³ÝÓ³Ýó ÉÇ³½áñáõÃÛáõÝÝ»ñÇ Çñ³Ï³Ý³óÙ³ÝÁ ËáãÁÝ¹áï»ÉÁ | D58: 149 | AD58: =SUM(T58:W58) -> 0 | AE58: =G58 -> 0 | AF58: =E58+F58 -> 0 | AG58: =T58 -> 0 | AH58: =M58+N58+O58+P58+Q58+R58+S58 -> 0 | AI58: =G58 -> 0 | AJ58: =T58+U58 -> 0
A59: 4.8 | B59: ÀÝïñáõÃÛáõÝÝ»ñÇ Ï³Ù ùí»³ñÏáõÃÛ³Ý ³ñ¹ÛáõÝùÝ»ñÁ Ï»ÕÍ»ÉÁ | D59: 150 | AD59: =SUM(T59:W59) -> 0 | AE59: =G59 -> 0 | AF59: =E59+F59 -> 0 | AG59: =T59 -> 0 | AH59: =M59+N59+O59+P59+Q59+R59+S59 -> 0 | AI59: =G59 -> 0 | AJ59: =T59+U59 -> 0
A60: 4.9 | B60: ÀÝïñáõÃÛáõÝÝ»ñÇ ³ÝóÏ³óÙ³Ý ÁÝÃ³óùáõÙ Ã»ÏÝ³ÍáõÇ, Ïáõë³ÏóáõÃÛ³Ý (Ïáõë³ÏóáõÃÛáõÝÝ»ñÇ ¹³ßÇÝùÇ) í»ñ³µ»ñÛ³É ½ñå³ñïã³Ï³Ý ï»Õ»ÏáõÃÛáõÝÝ»ñ ï³ñ³Í»ÉÁ | D60: 151 | AD60: =SUM(T60:W60) -> 0 | AE60: =G60 -> 0 | AF60: =E60+F60 -> 0 | AG60: =T60 -> 0 | AH60: =M60+N60+O60+P60+Q60+R60+S60 -> 0 | AI60: =G60 -> 0 | AJ60: =T60+U60 -> 0
A61: 4.10 | B61: ÀÝïñáÕÝ»ñÇ óáõó³ÏÝ»ñÁ Ï³½Ù»Éáõ Ï³ñ·Á Ë³Ëï»ÉÁ | D61: 152 | AD61: =SUM(T61:W61) -> 0 | AE61: =G61 -> 0 | AF61: =E61+F61 -> 0 | AG61: =T61 -> 0 | AH61: =M61+N61+O61+P61+Q61+R61+S61 -> 0 | AI61: =G61 -> 0 | AJ61: =T61+U61 -> 0
A62: 4.11 | B62: Ø»ÏÇó ³í»ÉÇ ³Ý·³Ù Ï³Ù ³ÛÉ ³ÝÓÇ ÷áË³ñ»Ý ùí»³ñÏ»ÉÁ | D62: 153 | AD62: =SUM(T62:W62) -> 0 | AE62: =G62 -> 0 | AF62: =E62+F62 -> 0 | AG62: =T62 -> 0 | AH62: =M62+N62+O62+P62+Q62+R62+S62 -> 0 | AI62: =G62 -> 0 | AJ62: =T62+U62 -> 0
A63: 4.12 | B63: øí»³ñÏáõÃÛ³Ý ·³ÕïÝÇáõÃÛáõÝÁ Ë³Ëï»ÉÁ | D63: 154 | AD63: =SUM(T63:W63) -> 0 | AE63: =G63 -> 0 | AF63: =E63+F63 -> 0 | AG63: =T63 -> 0 | AH63: =M63+N63+O63+P63+Q63+R63+S63 -> 0 | AI63: =G63 -> 0 | AJ63: =T63+U63 -> 0
... A78: 4.27 | B78: Èñ³·ñáÕÇ Ù³ëÝ³·Çï³Ï³Ý ûñÇÝ³Ï³Ý ·áñÍáÕáõÃÛ³ÝÁ ËáãÁÝ¹áï»ÉÁ | D78: 164 | AD78: =SUM(T78:W78) -> 0 | AE78: =G78 -> 0 | AF78: =E78+F78 -> 0 | AG78: =T78 -> 0 | AH78: =M78+N78+O78+P78+Q78+R78+S78 -> 0 | AI78: =G78 -> 0 | AJ78: =T78+U78 -> 0
A79: 4.28 | B79: ²ÛÉ Ñ³Ýó³·áñÍáõÃÛáõÝÝ»ñ | AD79: =SUM(T79:W79) -> 0 | AE79: =G79 -> 0 | AF79: =E79+F79 -> 0 | AG79: =T79 -> 0 | AH79: =M79+N79+O79+P79+Q79+R79+S79 -> 0 | AI79: =G79 -> 0 | AJ79: =T79+U79 -> 0
A80: 5. | B80: ÀÝ¹³Ù»ÝÁ ÁÝï³ÝÇùÇ ¨ »ñ»Ë³ÛÇ ß³Ñ»ñÇ ¹»Ù áõÕÕí³Í Ñ³Ýó³·áñÍáõÃÛáõÝÝ»ñÁ | E80: =SUM(E81:E92) -> 0 | F80: =SUM(F81:F92) -> 0 | G80: =SUM(G81:G92) -> 0 | H80: =SUM(H81:H92) -> 0 | I80: =SUM(I81:I92) -> 0 | J80: =SUM(J81:J92) -> 0 | K80: =SUM(K81:K92) -> 0 | L80: =SUM(L81:L92) -> 0 | ... AC80: =SUM(AC81:AC92) -> 0 | AD80: =SUM(T80:W80) -> 0 | AE80: =G80 -> 0 | AF80: =E80+F80 -> 0 | AG80: =T80 -> 0 | AH80: =M80+N80+O80+P80+Q80+R80+S80 -> 0 | AI80: =G80 -> 0 | AJ80: =T80+U80 -> 0
A81: 5.1 | B81: ²Ýã³÷³Ñ³ëÇÝ Ñ³Ýó³ÝùÇ Ï³ï³ñÙ³ÝÁ Ý»ñ·ñ³í»ÉÁ | D81: 165 | AD81: =SUM(T81:W81) -> 0 | AE81: =G81 -> 0 | AF81: =E81+F81 -> 0 | AG81: =T81 -> 0 | AH81: =M81+N81+O81+P81+Q81+R81+S81 -> 0 | AI81: =G81 -> 0 | AJ81: =T81+U81 -> 0
A82: 5.2 | B82: ºñ»Ë³ÛÇÝ Ñ³Ï³Ñ³ë³ñ³Ï³Ï³Ý ·áñÍáÕáõÃÛáõÝÝ»ñ Ï³ï³ñ»ÉáõÝ Ý»ñ·ñ³í»ÉÁ | D82: 166 | AD82: =SUM(T82:W82) -> 0 | AE82: =G82 -> 0 | AF82: =E82+F82 -> 0 | AG82: =T82 -> 0 | AH82: =M82+N82+O82+P82+Q82+R82+S82 -> 0 | AI82: =G82 -> 0 | AJ82: =T82+U82 -> 0
A83: 5.3 | B83: ÌÝáÕÝ»ñÇó »ñ»Ë³ÛÇÝ ³åûñÇÝÇ µ³Å³Ý»ÉÁ Ï³Ù »ñ»Ë³ÛÇÝ ÷áË»ÉÁ | D83: 167 | AD83: =SUM(T83:W83) -> 0 | AE83: =G83 -> 0 | AF83: =E83+F83 -> 0 | AG83: =T83 -> 0 | AH83: =M83+N83+O83+P83+Q83+R83+S83 -> 0 | AI83: =G83 -> 0 | AJ83: =T83+U83 -> 0
A84: 5.4 | B84: ºñ»Ë³ÛÇ ³éù áõ í³×³éùÁ | D84: 168 | AD84: =SUM(T84:W84) -> 0 | AE84: =G84 -> 0 | AF84: =E84+F84 -> 0 | AG84: =T84 -> 0 | AH84: =M84+N84+O84+P84+Q84+R84+S84 -> 0 | AI84: =G84 -> 0 | AJ84: =T84+U84 -> 0
A85: 5.5 | B85: àñ¹»·ñÙ³Ý ·³ÕïÝÇùÁ Ññ³å³ñ³Ï»ÉÁ Ï³Ù áñ¹»·ñÙ³Ý Ñ³Ù³Ó³ÛÝáõÃÛáõÝ ï³ÉáõÝ Ñ³Ï»ÉÁ Ï³Ù Ñ³ñÏ³¹ñ»ÉÁ | D85: 169 | AD85: =SUM(T85:W85) -> 0 | AE85: =G85 -> 0 | AF85: =E85+F85 -> 0 | AG85: =T85 -> 0 | AH85: =M85+N85+O85+P85+Q85+R85+S85 -> 0 | AI85: =G85 -> 0 | AJ85: =T85+U85 -> 0
A86: 5.6 | B86: ø³Õ³ù³óÇ³Ï³Ý Ï³óáõÃÛ³Ý ³Ïï»ñÇ ·ñ³ÝóÙ³Ý Ù³ñÙÇÝÝ»ñÇÝ ëáõï ï»Õ»ÏáõÃÛáõÝÝ»ñ Ñ³Õáñ¹»ÉÁ | D86: 169.1 | AD86: =SUM(T86:W86) -> 0 | AE86: =G86 -> 0 | AF86: =E86+F86 -> 0 | AG86: =T86 -> 0 | AH86: =M86+N86+O86+P86+Q86+R86+S86 -> 0 | AI86: =G86 -> 0 | AJ86: =T86+U86 -> 0
A87: 5.7 | B87: ºñ»Ë³ÛÇÝ ¹³ëïÇ³ñ³Ï»Éáõ å³ñï³Ï³ÝáõÃÛáõÝÁ ãÏ³ï³ñ»ÉÁ | D87: 170 | AD87: =SUM(T87:W87) -> 0 | AE87: =G87 -> 0 | AF87: =E87+F87 -> 0 | AG87: =T87 -> 0 | AH87: =M87+N87+O87+P87+Q87+R87+S87 -> 0 | AI87: =G87 -> 0 | AJ87: =T87+U87 -> 0
A88: 5.8 | B88: ºñ»Ë³ÛÇ ÏÛ³ÝùÇ ³Ýíï³Ý·áõÃÛ³Ý ³å³ÑáíÙ³Ý Ï³Ù ³éáÕçáõÃÛ³Ý å³Ñå³ÝÙ³Ý å³ñï³Ï³ÝáõÃÛáõÝÁ ãÏ³ï³ñ»ÉÁ Ï³Ù áã å³ïß³× Ï³ï³ñ»ÉÁ | D88: 171 | AD88: =SUM(T88:W88) -> 0 | AE88: =G88 -> 0 | AF88: =E88+F88 -> 0 | AG88: =T88 -> 0 | AH88: =M88+N88+O88+P88+Q88+R88+S88 -> 0 | AI88: =G88 -> 0 | AJ88: =T88+U88 -> 0
A89: 5.9 | B89: ÊÝ³Ù³Ï³ÉÇ Ï³Ù Ñá·³µ³ñÓáõÇ Çñ³íáõÝùÝ»ñÁ ã³ñ³ß³Ñ»ÉÁ | D89: 172 | AD89: =SUM(T89:W89) -> 0 | AE89: =G89 -> 0 | AF89: =E89+F89 -> 0 | AG89: =T89 -> 0 | AH89: =M89+N89+O89+P89+Q89+R89+S89 -> 0 | AI89: =G89 -> 0 | AJ89: =T89+U89 -> 0
A90: 5.10 | B90: ÌÝáÕÇ ÏáÕÙÇó »ñ»Ë³ÛÇÝ å³Ñ»Éáõó ã³ñ³Ùïáñ»Ý Ëáõë³÷»ÉÁ (áõÅÁ Ïáñóñ³Í) | D90: 173 | AD90: =SUM(T90:W90) -> 0 | AE90: =G90 -> 0 | AF90: =E90+F90 -> 0 | AG90: =T90 -> 0 | AH90: =M90+N90+O90+P90+Q90+R90+S90 -> 0 | AI90: =G90 -> 0 | AJ90: =T90+U90 -> 0
A91: 5.11 | B91: ¼³í³ÏÇ ÏáÕÙÇó ³Ý³ßË³ïáõÝ³Ï ÍÝáÕÇÝ å³Ñ»Éáõó ã³ñ³Ùïáñ»Ý Ëáõë³÷»ÉÁ | D91: 174 | AD91: =SUM(T91:W91) -> 0 | AE91: =G91 -> 0 | AF91: =E91+F91 -> 0 | AG91: =T91 -> 0 | AH91: =M91+N91+O91+P91+Q91+R91+S91 -> 0 | AI91: =G91 -> 0 | AJ91: =T91+U91 -> 0
A92: 5.12 | B92: ²ÛÉ Ñ³Ýó³·áñÍáõÃÛáõÝÝ»ñ | AD92: =SUM(T92:W92) -> 0 | AE92: =G92 -> 0 | AF92: =E92+F92 -> 0 | AG92: =T92 -> 0 | AH92: =M92+N92+O92+P92+Q92+R92+S92 -> 0 | AI92: =G92 -> 0 | AJ92: =T92+U92 -> 0
A93: 6. | B93: ÀÝ¹³Ù»ÝÁ ë»÷³Ï³ÝáõÃÛ³Ý ¹»Ù áõÕÕí³Í Ñ³Ýó³·áñÍáõÃÛáõÝÝ»ñÁ | E93: =SUM(E94:E106) -> 1 | F93: =SUM(F94:F106) -> 7 | G93: =SUM(G94:G106) -> 8 | H93: =SUM(H94:H106) -> 2 | I93: =SUM(I94:I106) -> 5 | J93: =SUM(J94:J106) -> 0 | K93: =SUM(K94:K106) -> 2 | L93: =SUM(L94:L106) -> 0 | ... AD93: =SUM(AD94:AD106) -> 10 | AE93: =G93 -> 8 | AF93: =E93+F93 -> 8 | AG93: =T93 -> 2 | AH93: =M93+N93+O93+P93+Q93+R93+S93 -> 2 | AI93: =G93 -> 8 | AJ93: =T93+U93 -> 8
A94: 6.1 | B94: ²í³½³ÏáõÃÛáõÝÁ | D94: 175 | AD94: =SUM(T94:W94) -> 0 | AE94: =G94 -> 0 | AF94: =E94+F94 -> 0 | AG94: =T94 -> 0 | AH94: =M94+N94+O94+P94+Q94+R94+S94 -> 0 | AI94: =G94 -> 0 | AJ94: =T94+U94 -> 0
A95: 6.2 | B95: ÎáÕáåáõïÁ | D95: 176 | AD95: =SUM(T95:W95) -> 0 | AE95: =G95 -> 0 | AF95: =E95+F95 -> 0 | AG95: =T95 -> 0 | AH95: =M95+N95+O95+P95+Q95+R95+S95 -> 0 | AI95: =G95 -> 0 | AJ95: =T95+U95 -> 0
A96: 6.3 | B96: ¶áÕáõÃÛáõÝÁ | D96: 177 | E96: 1 | F96: 7 | G96: 8 | H96: 2 | I96: 5 | K96: 2 | N96: 2 | T96: 2 | U96: 6 | V96: 2 | X96: 6 | AD96: =SUM(T96:W96) -> 10 | AE96: =G96 -> 8 | AF96: =E96+F96 -> 8 | AG96: =T96 -> 2 | AH96: =M96+N96+O96+P96+Q96+R96+S96 -> 2 | AI96: =G96 -> 8 | AJ96: =T96+U96 -> 8
A97: 6.4 | B97: Ê³ñ¹³ËáõÃÛáõÝÁ | D97: 178 | AD97: =SUM(T97:W97) -> 0 | AE97: =G97 -> 0 | AF97: =E97+F97 -> 0 | AG97: =T97 -> 0 | AH97: =M97+N97+O97+P97+Q97+R97+S97 -> 0 | AI97: =G97 -> 0 | AJ97: =T97+U97 -> 0
A98: 6.5 | B98: Úáõñ³óÝ»ÉÁ Ï³Ù í³ïÝ»ÉÁ | D98: 179 | AD98: =SUM(T98:W98) -> 0 | AE98: =G98 -> 0 | AF98: =E98+F98 -> 0 | AG98: =T98 -> 0 | AH98: =M98+N98+O98+P98+Q98+R98+S98 -> 0 | AI98: =G98 -> 0 | AJ98: =T98+U98 -> 0
A99: 6.6 | B99: ²é³ÝÓÝ³ÏÇ ³ñÅ»ù áõÝ»óáÕ ³é³ñÏ³Ý»ñ Ñ³÷ßï³Ï»ÉÁ | D99: 180 | AD99: =SUM(T99:W99) -> 0 | AE99: =G99 -> 0 | AF99: =E99+F99 -> 0 | AG99: =T99 -> 0 | AH99: =M99+N99+O99+P99+Q99+R99+S99 -> 0 | AI99: =G99 -> 0 | AJ99: =T99+U99 -> 0
A100: 6.7 | B100: Ð³÷ßï³ÏáõÃÛáõÝÁ, áñÁ Ï³ï³ñí»É ¿ Ñ³Ù³Ï³ñ·ã³ÛÇÝ ï»ËÝÇÏ³ÛÇ û·ï³·áñÍÙ³Ùµ | D100: 181 | AD100: =SUM(T100:W100) -> 0 | AE100: =G100 -> 0 | AF100: =E100+F100 -> 0 | AG100: =T100 -> 0 | AH100: =M100+N100+O100+P100+Q100+R100+S100 -> 0 | AI100: =G100 -> 0 | AJ100: =T100+U100 -> 0
A101: 6.8 | B101: ÞáñÃáõÙÁ | D101: 182 | AD101: =SUM(T101:W101) -> 0 | AE101: =G101 -> 0 | AF101: =E101+F101 -> 0 | AG101: =T101 -> 0 | AH101: =M101+N101+O101+P101+Q101+R101+S101 -> 0 | AI101: =G101 -> 0 | AJ101: =T101+U101 -> 0
A102: 6.9 | B102: ²íïáÙ»ù»Ý³ÛÇÝ Ï³Ù ïñ³Ýëåáñï³ÛÇÝ ³ÛÉ ÙÇçáóÇÝ ³åûñÇÝ³µ³ñ ïÇñ³Ý³ÉÝ ³é³Ýó Ñ³÷ßï³Ï»Éáõ Ýå³ï³ÏÇ | D102: 183 | AD102: =SUM(T102:W102) -> 0 | AE102: =G102 -> 0 | AF102: =E102+F102 -> 0 | AG102: =T102 -> 0 | AH102: =M102+N102+O102+P102+Q102+R102+S102 -> 0 | AI102: =G102 -> 0 | AJ102: =T102+U102 -> 0
A103: 6.10 | B103: ¶áõÛù³ÛÇÝ íÝ³ë å³ï×³é»ÉÁ Ë³µ»áõÃÛ³Ý Ï³Ù íëï³ÑáõÃÛáõÝÁ ã³ñ³ß³Ñ»Éáõ »Õ³Ý³Ïáí | D103: 184 | AD103: =SUM(T103:W103) -> 0 | AE103: =G103 -> 0 | AF103: =E103+F103 -> 0 | AG103: =T103 -> 0 | AH103: =M103+N103+O103+P103+Q103+R103+S103 -> 0 | AI103: =G103 -> 0 | AJ103: =T103+U103 -> 0
A104: 6.11 | B104: ¶áõÛùÁ ¹Çï³íáñáõÃÛ³Ùµ áãÝã³óÝ»ÉÁ Ï³Ù íÝ³ë»ÉÁ | D104: 185 | AD104: =SUM(T104:W104) -> 0 | AE104: =G104 -> 0 | AF104: =E104+F104 -> 0 | AG104: =T104 -> 0 | AH104: =M104+N104+O104+P104+Q104+R104+S104 -> 0 | AI104: =G104 -> 0 | AJ104: =T104+U104 -> 0
A105: 6.12 | B105: ¶áõÛùÝ ³Ý½·áõßáõÃÛ³Ùµ áãÝã³óÝ»ÉÁ Ï³Ù íÝ³ë»ÉÁ | D105: 186 | AD105: =SUM(T105:W105) -> 0 | AE105: =G105 -> 0 | AF105: =E105+F105 -> 0 | AG105: =T105 -> 0 | AH105: =M105+N105+O105+P105+Q105+R105+S105 -> 0 | AI105: =G105 -> 0 | AJ105: =T105+U105 -> 0
A106: 6.13 | B106: Գուքի պահպանության պարտականություններն անփույթ կամ անբարեխիղճ կատարելը | D106: 186.1 | AD106: =SUM(T106:W106) -> 0 | AE106: =G106 -> 0 | AF106: =E106+F106 -> 0 | AG106: =T106 -> 0 | AH106: =M106+N106+O106+P106+Q106+R106+S106 -> 0 | AI106: =G106 -> 0 | AJ106: =T106+U106 -> 0
A107: 7. | B107: ÀÝ¹³Ù»ÝÁ ïÝï»ë³Ï³Ý ·áñÍáõÝ»áõÃÛ³Ý ¹»Ù áõÕÕí³Í Ñ³Ýó³·áñÍáõÃÛáõÝÝ»ñÁ | E107: =SUM(E108:E139) -> 0 | F107: =SUM(F108:F139) -> 0 | G107: =SUM(G108:G139) -> 0 | H107: =SUM(H108:H139) -> 0 | I107: =SUM(I108:I139) -> 0 | J107: =SUM(J108:J139) -> 0 | K107: =SUM(K108:K139) -> 0 | L107: =SUM(L108:L139) -> 0 | ... AC107: =SUM(AC108:AC139) -> 0 | AD107: =SUM(T107:W107) -> 0 | AE107: =G107 -> 0 | AF107: =E107+F107 -> 0 | AG107: =T107 -> 0 | AH107: =M107+N107+O107+P107+Q107+R107+S107 -> 0 | AI107: =G107 -> 0 | AJ107: =T107+U107 -> 0
A108: 7.1 | B108: úñÇÝ³Ï³Ý Ó»éÝ³ñÏ³ïÇñ³Ï³Ý ¨ ³ÛÉ ïÝï»ë³Ï³Ý ·áñÍáõÝ»áõÃÛ³ÝÁ ËáãÁÝ¹áï»ÉÁ | D108: 187 | AD108: =SUM(T108:W108) -> 0 | AE108: =G108 -> 0 | AF108: =E108+F108 -> 0 | AG108: =T108 -> 0 | AH108: =M108+N108+O108+P108+Q108+R108+S108 -> 0 | AI108: =G108 -> 0 | AJ108: =T108+U108 -> 0
A109: 7.2 | B109: ²åûñÇÝÇ Ó»éÝ³ñÏ³ïÇñáõÃÛáõÝÁ | D109: 188 | AD109: =SUM(T109:W109) -> 0 | AE109: =G109 -> 0 | AF109: =E109+F109 -> 0 | AG109: =T109 -> 0 | AH109: =M109+N109+O109+P109+Q109+R109+S109 -> 0 | AI109: =G109 -> 0 | AJ109: =T109+U109 -> 0
A110: 7.3 | B110: ²é³Ýó ÉÇó»Ý³½Ç³ÛÇ ³ñï³ñÅáõÛÃÇ í³×³éùÇ Çñ³Ï³Ý³óáõÙÁ | D110: 188.1 | AD110: =SUM(T110:W110) -> 0 | AE110: =G110 -> 0 | AF110: =E110+F110 -> 0 | AG110: =T110 -> 0 | AH110: =M110+N110+O110+P110+Q110+R110+S110 -> 0 | AI110: =G110 -> 0 | AJ110: =T110+U110 -> 0
A111: 7.4 | B111: Î»ÕÍ Ó»éÝ³ñÏ³ïÇñáõÃÛáõÝÁ | D111: 189 | AD111: =SUM(T111:W111) -> 0 | AE111: =G111 -> 0 | AF111: =E111+F111 -> 0 | AG111: =T111 -> 0 | AH111: =M111+N111+O111+P111+Q111+R111+S111 -> 0 | AI111: =G111 -> 0 | AJ111: =T111+U111 -> 0
A112: 7.5 | B112: Ð³Ýó³íáñ ×³Ý³å³ñÑáí ëï³óí³Í »Ï³ÙáõïÝ»ñÇ ûñÇÝ³Ï³Ý³óÝ»ÉÁ (É»·³É³óÝ»ÉÁ) | D112: 190 | AD112: =SUM(T112:W112) -> 0 | AE112: =G112 -> 0 | AF112: =E112+F112 -> 0 | AG112: =T112 -> 0 | AH112: =M112+N112+O112+P112+Q112+R112+S112 -> 0 | AI112: =G112 -> 0 | AJ112: =T112+U112 -> 0
A113: 7.6 | B113: ì³ñÏÁ áã Ýå³ï³Ï³ÛÇÝ û·ï³·áñÍ»ÉÁ | D113: 191 | AD113: =SUM(T113:W113) -> 0 | AE113: =G113 -> 0 | AF113: =E113+F113 -> 0 | AG113: =T113 -> 0 | AH113: =M113+N113+O113+P113+Q113+R113+S113 -> 0 | AI113: =G113 -> 0 | AJ113: =T113+U113 -> 0
A114: 7.7 | B114: ²ÝûñÇÝ³Ï³Ý ·áñÍáÕáõÃÛáõÝÝ»ñÁ ëÝ³ÝÏáõÃÛ³Ý ÁÝÃ³óùáõÙ | D114: 192 | AD114: =SUM(T114:W114) -> 0 | AE114: =G114 -> 0 | AF114: =E114+F114 -> 0 | AG114: =T114 -> 0 | AH114: =M114+N114+O114+P114+Q114+R114+S114 -> 0 | AI114: =G114 -> 0 | AJ114: =T114+U114 -> 0
A115: 7.8 | B115: Î³ÝË³Ùï³Íí³Í ëÝ³ÝÏáõÃÛáõÝÁ | D115: 193 | AD115: =SUM(T115:W115) -> 0 | AE115: =G115 -> 0 | AF115: =E115+F115 -> 0 | AG115: =T115 -> 0 | AH115: =M115+N115+O115+P115+Q115+R115+S115 -> 0 | AI115: =G115 -> 0 | AJ115: =T115+U115 -> 0
A116: 7.9 | B116: Î»ÕÍ ëÝ³ÝÏáõÃÛáõÝÁ | D116: 194 | AD116: =SUM(T116:W116) -> 0 | AE116: =G116 -> 0 | AF116: =E116+F116 -> 0 | AG116: =T116 -> 0 | AH116: =M116+N116+O116+P116+Q116+R116+S116 -> 0 | AI116: =G116 -> 0 | AJ116: =T116+U116 -> 0
A117: 7.10 | B117: ²åûñÇÝÇ Ñ³Ï³Ùñó³Ïó³ÛÇÝ ·áñÍáÕáõÃÛáõÝÁ | D117: 195 | AD117: =SUM(T117:W117) -> 0 | AE117: =G117 -> 0 | AF117: =E117+F117 -> 0 | AG117: =T117 -> 0 | AH117: =M117+N117+O117+P117+Q117+R117+S117 -> 0 | AI117: =G117 -> 0 | AJ117: =T117+U117 -> 0
...

Sheet Malatia
A1: Ð²ÞìºîìàôÂÚàôÜ
A2: ²Üâ²ö²Ð²ê ¸²î²ä²ðîÚ²ÈÜºðÆ ìºð²´ºðÚ²È | Y2: 2016Ã.
A3: ìÇ×³Ï³·ñ³Ï³Ý ïáÕÇ Ñ³Ù³ñÁ | B3: Ð²Üò²¶àðÌàôÂÚàôÜÜºðÆ îºê²ÎÜºðÀ | D3: ÐÐ øñ»³Ï³Ý ûñ»Ýë·ñùÇ Ñá¹í³ÍÁ | E3: Ð³Ýó³·áñÍáõÃÛáõÝÁ Ï³ï³ñ»É »Ý | H3: Ýñ³ÝóÇó | M3: ¸³ï³å³ñïÛ³ÉÝ»ñÇ ÝÏ³ïÙ³Ùµ Ýß³Ý³Ïí³Í ÑÇÙÝ³Ï³Ý å³ïÇÅÝ»ñ | V3: Ýß³Ý³Ïí³Í å³ïÇÅÁ å³ÛÙ³Ý³Ï³Ýáñ»Ý ãÇ ÏÇñ³éí»É | W3: ÏÇñ³éí»É ¿ Ñ³Ù³Ý»ñÙ³Ý ³Ïï | X3: ÎÇñ³éí»É »Ý ¹³ëïÇ³ñ³Ïã³Ï³Ý µÝáõÛÃÇ Ñ³ñÏ³¹ñ³ÝùÇ ÙÇçáó | Y3: ²ÝÓ³Ýó ÃÇíÁ, áñáÝù ÙÇÝã¨ í»ñçÇÝ Ñ³Ýó³·áñÍáõÃÛáõÝÁ Ï³ï³ñ»ÉÁ
E4: 14-16 ï³ñ»Ï³ÝáõÙ | F4: 16-18 ï³ñ»Ï³ÝáõÙ | G4: ÀÝ¹³Ù»ÝÁ | H4: ³ÕçÇÏÝ»ñ | I4: ã»Ý ³ßË³ï»É, ã»Ý ëáíáñ»É | J4: ³ÝÓÇÝù, áñáÝù Ñ³Ýó³·áñÍáõÃÛáõÝÁ Ï³ï³ñ»É »Ý | M4: ² ½ ³ ï ³ ½ ñ Ï áõ Ù | U4: ³ÛÉ å³ïÇÅÝ»ñ | Y4: ·ïÝí»É »Ý áëïÇÏ³ÝáõÃÛ³Ý Ù³ñÙÇÝÝ»ñáõÙ Ñ³ßí³éÙ³Ý Ù»ç | Z4: Ï³ï³ñ»É »Ý Ñ³Ýó³·áñÍáõÃÛáõÝ ¨ »Õ»É »Ý
Z5: ³½³ïí³Í ùñ»³Ï³Ý å³ï³ëË³Ý³ïíáõÃÛáõÝÇó | AA5: ¹³ï³å³ñïí³Í | AB5: ²Û¹ ÃíáõÙ
B6: êîàô¶Æâ Ð²ì²ê²ðàôØÜºð 3=1+2, 16=9+10+11+12+13+14+15, 3=16+17+18+19 | J6: ³ÉÏ., ÃÙñ³ÙÇç. Ï³Ù ÃÝñ»óÝáÕ ³ÛÉ ÝÛáõÃ»ñÇ ³½¹»óáõÃÛ³Ý ï³Ï | K6: ØÇ ËáõÙµ ³ÝÓ³Ýó Ï³½ÙáõÙ | L6: ³Û¹ ÃíáõÙª Ù»Í³Ñ³ë³ÏÝ»ñÇ Ù³ëÝ³ÏóáõÃÛ³Ùµ | M6: 1 ï³ñÇ Ý»ñ³éÛ³É | N6: 1 ï³ñáõó ³í»É, ÙÇÝã¨ 2 ï³ñÇ Ý»ñ³éÛ³É | O6: 2 ï³ñáõó ³í»É, ÙÇÝã¨ 3 ï³ñÇ Ý»ñ³éÛ³É | P6: 3 ï³ñáõó ³í»É, ÙÇÝã¨ 5 ï³ñÇ Ý»ñ³éÛ³É | Q6: 5 ï³ñáõó ³í»É, ÙÇÝã¨ 8 ï³ñÇ Ý»ñ³éÛ³É | R6: 8 ï³ñáõó ³í»É, ÙÇÝã¨ 10 ï³ñÇ Ý»ñ³éÛ³É | S6: 10 ï³ñáõó ³í»É, ÙÇÝã¨ 12ï³ñÇ Ý»ñ³éÛ³É | T6: ÁÝ¹³Ù»ÝÁ | AB6: ¹³ï³í×éÇ Ï³ï³ñÙ³Ý Ñ»ï³Ó·áõÙáí | AC6: å³ÛÙ³Ý³Ï³Ý ¹³ï³å³ñïáõÃÛáõÝ
E7: 1 | F7: 2 | G7: 3 | H7: 4 | I7: 5 | J7: 6 | K7: 7 | L7: 8 | M7: 9 | N7: 10 | O7: 11 | P7: 12 | Q7: 13 | R7: 14 | S7: 15 | T7: 16 | U7: 17 | V7: 18 | W7: 19 | X7: 20 | Y7: 21 | Z7: 22 | AA7: 23 | AB7: 24 | AC7: 25 | AE7: 3=1+2 | AG7: 16=9+10+11+12+13+14+15 | AI7: 3=16+17
A8: 1. | B8: ÀÝ¹³Ù»ÝÁ ÏÛ³ÝùÇ ¨ ³éáÕçáõÃÛ³Ý ¹»Ù áõÕÕí³Í Ñ³Ýó³·áñÍáõÃÛáõÝÝ»ñÁ | E8: =SUM(E9:E35) -> 0 | F8: =SUM(F9:F35) -> 0 | G8: =SUM(G9:G35) -> 0 | H8: =SUM(H9:H35) -> 0 | I8: =SUM(I9:I35) -> 0 | J8: =SUM(J9:J35) -> 0 | K8: =SUM(K9:K35) -> 0 | L8: =SUM(L9:L35) -> 0 | ... AC8: =SUM(AC9:AC35) -> 0 | AD8: =SUM(T8:W8) -> 0 | AE8: =G8 -> 0 | AF8: =E8+F8 -> 0 | AG8: =T8 -> 0 | AH8: =M8+N8+O8+P8+Q8+R8+S8 -> 0 | AI8: =G8 -> 0 | AJ8: =T8+U8 -> 0
A9: 1.1 | B9: êå³ÝáõÃÛáõÝÁ | D9: 104 | AD9: =SUM(T9:W9) -> 0 | AE9: =G9 -> 0 | AF9: =E9+F9 -> 0 | AG9: =T9 -> 0 | AH9: =M9+N9+O9+P9+Q9+R9+S9 -> 0 | AI9: =G9 -> 0 | AJ9: =T9+U9 -> 0
A10: 1.2 | B10: Ðá·»Ï³Ý ËÇëï Ñáõ½ÙáõÝùÇ íÇ×³ÏáõÙ Ï³ï³ñí³Í ëå³ÝáõÃÛáõÝÁ | D10: 105 | AD10: =SUM(T10:W10) -> 0 | AE10: =G10 -> 0 | AF10: =E10+F10 -> 0 | AG10: =T10 -> 0 | AH10: =M10+N10+O10+P10+Q10+R10+S10 -> 0 | AI10: =G10 -> 0 | AJ10: =T10+U10 -> 0
A11: 1.3 | B11: Øáñ ÏáÕÙÇó Ýáñ³ÍÇÝ »ñ»Ë³ÛÇ ëå³ÝáõÃÛáõÝÁ | D11: 106 | AD11: =SUM(T11:W11) -> 0 | AE11: =G11 -> 0 | AF11: =E11+F11 -> 0 | AG11: =T11 -> 0 | AH11: =M11+N11+O11+P11+Q11+R11+S11 -> 0 | AI11: =G11 -> 0 | AJ11: =T11+U11 -> 0
A12: 1.4 | B12: Ð³Ýó³Ýù Ï³ï³ñ³Í ³ÝÓÇÝ µéÝ»Éáõ Ñ³Ù³ñ ³ÝÑñ³Å»ßï ÙÇçáóÝ»ñÇ ë³ÑÙ³Ý³½³ÝóÙ³Ùµ ëå³ÝáõÃÛáõÝÁ | D12: 107 | AD12: =SUM(T12:W12) -> 0 | AE12: =G12 -> 0 | AF12: =E12+F12 -> 0 | AG12: =T12 -> 0 | AH12: =M12+N12+O12+P12+Q12+R12+S12 -> 0 | AI12: =G12 -> 0 | AJ12: =T12+U12 -> 0
A13: 1.5 | B13: ²ÝÑñ³Å»ßï å³ßïå³ÝáõÃÛ³Ý ë³ÑÙ³Ý³½³ÝóÙ³Ùµ ëå³ÝáõÃÛáõÝÁ | D13: 108 | AD13: =SUM(T13:W13) -> 0 | AE13: =G13 -> 0 | AF13: =E13+F13 -> 0 | AG13: =T13 -> 0 | AH13: =M13+N13+O13+P13+Q13+R13+S13 -> 0 | AI13: =G13 -> 0 | AJ13: =T13+U13 -> 0
A14: 1.6 | B14: ²Ý½·áõßáõÃÛ³Ùµ Ù³Ñ å³ï×³é»ÉÁ | D14: 109 | AD14: =SUM(T14:W14) -> 0 | AE14: =G14 -> 0 | AF14: =E14+F14 -> 0 | AG14: =T14 -> 0 | AH14: =M14+N14+O14+P14+Q14+R14+S14 -> 0 | AI14: =G14 -> 0 | AJ14: =T14+U14 -> 0
A15: 1.7 | B15: ÆÝùÝ³ëå³ÝáõÃÛ³Ý Ñ³ëóÝ»ÉÁ | D15: 110 | AD15: =SUM(T15:W15) -> 0 | AE15: =G15 -> 0 | AF15: =E15+F15 -> 0 | AG15: =T15 -> 0 | AH15: =M15+N15+O15+P15+Q15+R15+S15 -> 0 | AI15: =G15 -> 0 | AJ15: =T15+U15 -> 0
A16: 1.8 | B16: ÆÝùÝ³ëå³ÝáõÃÛ³Ý Ñ³Ï»ÉÁ | D16: 111 | AD16: =SUM(T16:W16) -> 0 | AE16: =G16 -> 0 | AF16: =E16+F16 -> 0 | AG16: =T16 -> 0 | AH16: =M16+N16+O16+P16+Q16+R16+S16 -> 0 | AI16: =G16 -> 0 | AJ16: =T16+U16 -> 0
A17: 1.9 | B17: ¸Çï³íáñáõÃÛ³Ùµ ³éáÕçáõÃÛ³ÝÁ Í³Ýñ íÝ³ë å³ï×³é»ÉÁ | D17: 112 | AD17: =SUM(T17:W17) -> 0 | AE17: =G17 -> 0 | AF17: =E17+F17 -> 0 | AG17: =T17 -> 0 | AH17: =M17+N17+O17+P17+Q17+R17+S17 -> 0 | AI17: =G17 -> 0 | AJ17: =T17+U17 -> 0
A18: 1.10 | B18: ¸Çï³íáñáõÃÛ³Ùµ ³éáÕçáõÃÛ³ÝÁ ÙÇçÇÝ Í³ÝñáõÃÛ³Ý íÝ³ë å³ï×³é»ÉÁ | D18: 113 | AD18: =SUM(T18:W18) -> 0 | AE18: =G18 -> 0 | AF18: =E18+F18 -> 0 | AG18: =T18 -> 0 | AH18: =M18+N18+O18+P18+Q18+R18+S18 -> 0 | AI18: =G18 -> 0 | AJ18: =T18+U18 -> 0
A19: 1.11 | B19: Ðá·»Ï³Ý ËÇëï Ñáõ½ÙáõÝùÇ íÇ×³ÏáõÙ ³éáÕçáõÃÛ³ÝÁ Í³Ýñ Ï³Ù ÙÇçÇÝ Í³ÝñáõÃÛ³Ý íÝ³ë å³ï×³é»ÉÁ | D19: 114 | AD19: =SUM(T19:W19) -> 0 | AE19: =G19 -> 0 | AF19: =E19+F19 -> 0 | AG19: =T19 -> 0 | AH19: =M19+N19+O19+P19+Q19+R19+S19 -> 0 | AI19: =G19 -> 0 | AJ19: =T19+U19 -> 0
A20: 1.12 | B20: Ð³Ýó³Ýù Ï³ï³ñ³Í ³ÝÓÇÝ µéÝ»Éáõ Ñ³Ù³ñ ³ÝÑñ³Å»ßï ÙÇçáóÝ»ñÇ ë³ÑÙ³Ý½³ÝóÙ³Ùµ ³éáÕçáõÃÛ³ÝÁ Í³Ýñ Ï³Ù ÙÇçÇÝ Í³ÝñáõÃÛ³Ý íÝ³ë å³ï×³é»ÉÁ | D20: 115 | AD20: =SUM(T20:W20) -> 0 | AE20: =G20 -> 0 | AF20: =E20+F20 -> 0 | AG20: =T20 -> 0 | AH20: =M20+N20+O20+P20+Q20+R20+S20 -> 0 | AI20: =G20 -> 0 | AJ20: =T20+U20 -> 0
A21: 1.13 | B21: ²éáÕçáõÃÛ³ÝÁ Í³Ýñ Ï³Ù ÙÇçÇÝ Í³ÝñáõÃÛ³Ý íÝ³ë å³ï×³é»ÉÁ ³ÝÑñ³Å»ßï å³ßïå³ÝáõÃÛ³Ý ë³ÑÙ³Ý³Ý³½³ÝóÙ³Ùµ | D21: 116 | AD21: =SUM(T21:W21) -> 0 | AE21: =G21 -> 0 | AF21: =E21+F21 -> 0 | AG21: =T21 -> 0 | AH21: =M21+N21+O21+P21+Q21+R21+S21 -> 0 | AI21: =G21 -> 0 | AJ21: =T21+U21 -> 0
A22: 1.14 | B22: ¸Çï³íáñáõÃÛ³Ùµ ³éáÕçáõÃÛ³ÝÁ Ã»Ã¨ íÝ³ë å³ï×³é»ÉÁ | D22: 117 | AD22: =SUM(T22:W22) -> 0 | AE22: =G22 -> 0 | AF22: =E22+F22 -> 0 | AG22: =T22 -> 0 | AH22: =M22+N22+O22+P22+Q22+R22+S22 -> 0 | AI22: =G22 -> 0 | AJ22: =T22+U22 -> 0
A23: 1.15 | B23: Ì»ÍÁ | D23: 118 | AD23: =SUM(T23:W23) -> 0 | AE23: =G23 -> 0 | AF23: =E23+F23 -> 0 | AG23: =T23 -> 0 | AH23: =M23+N23+O23+P23+Q23+R23+S23 -> 0 | AI23: =G23 -> 0 | AJ23: =T23+U23 -> 0
A24: 1.16 | B24: Êáßï³Ý·áõÙÁ | D24: 119 | AD24: =SUM(T24:W24) -> 0 | AE24: =G24 -> 0 | AF24: =E24+F24 -> 0 | AG24: =T24 -> 0 | AH24: =M24+N24+O24+P24+Q24+R24+S24 -> 0 | AI24: =G24 -> 0 | AJ24: =T24+U24 -> 0
A25: 1.17 | B25: ²Ý½·áõßáõÃÛ³Ùµ ³éáÕçáõÃÛ³ÝÁ Í³Ýñ íÝ³ë å³ï×³é»ÉÁ | D25: 120 | AD25: =SUM(T25:W25) -> 0 | AE25: =G25 -> 0 | AF25: =E25+F25 -> 0 | AG25: =T25 -> 0 | AH25: =M25+N25+O25+P25+Q25+R25+S25 -> 0 | AI25: =G25 -> 0 | AJ25: =T25+U25 -> 0
A26: 1.18 | B26: ²Ý½·áõßáõÃÛ³Ùµ ³éáÕçáõÃÛ³ÝÁ ÙÇçÇÝ Í³ÝñáõÃÛ³Ý íÝ³ë å³ï×³é»ÉÁ | D26: 121 | AD26: =SUM(T26:W26) -> 0 | AE26: =G26 -> 0 | AF26: =E26+F26 -> 0 | AG26: =T26 -> 0 | AH26: =M26+N26+O26+P26+Q26+R26+S26 -> 0 | AI26: =G26 -> 0 | AJ26: =T26+U26 -> 0
A27: 1.19 | B27: ²åûñÇÝÇ ³µáñï Ï³ï³ñ»ÉÁ | D27: 122 | AD27: =SUM(T27:W27) -> 0 | AE27: =G27 -> 0 | AF27: =E27+F27 -> 0 | AG27: =T27 -> 0 | AH27: =M27+N27+O27+P27+Q27+R27+S27 -> 0 | AI27: =G27 -> 0 | AJ27: =T27+U27 -> 0
A28: 1.20 | B28: Ø³ñ¹áõ ÇÙáõÝ³ÛÇÝ ³Ýµ³í³ñ³ñáõÃÛ³Ý íÇñáõëÇ Ñ³ñáõóÇãáí í³ñ³Ï»ÉÁ | D28: 123 | AD28: =SUM(T28:W28) -> 0 | AE28: =G28 -> 0 | AF28: =E28+F28 -> 0 | AG28: =T28 -> 0 | AH28: =M28+N28+O28+P28+Q28+R28+S28 -> 0 | AI28: =G28 -> 0 | AJ28: =T28+U28 -> 0
A29: 1.21 | B29: ì»Ý»ñ³Ï³Ý ÑÇí³Ý¹áõÃÛ³Ùµ Ï³Ù ³ÛÉ ë»é³í³ñ³ÏÝ»ñáí í³ñ³Ï»ÉÁ | D29: 124 | AD29: =SUM(T29:W29) -> 0 | AE29: =G29 -> 0 | AF29: =E29+F29 -> 0 | AG29: =T29 -> 0 | AH29: =M29+N29+O29+P29+Q29+R29+S29 -> 0 | AI29: =G29 -> 0 | AJ29: =T29+U29 -> 0
... A34: 1.27 | B34: ´ÅßÏ³Ï³Ý û·ÝáõÃÛáõÝ ¨ ëå³ë³ñÏáõÙ Çñ³Ï³Ý³óÝáÕÝ»ñÇ ÏáÕÙÇó Ù³ëÝ³·Çï³Ï³Ý å³ñï³Ï³ÝáõÃÛáõÝÝ»ñÁ ãÏ³ï³ñ»ÉÁ Ï³Ù áã å³ïß³× Ï³ï³ñ»ÉÁ | D34: 130 | AD34: =SUM(T34:W34) -> 0 | AE34: =G34 -> 0 | AF34: =E34+F34 -> 0 | AG34: =T34 -> 0 | AH34: =M34+N34+O34+P34+Q34+R34+S34 -> 0 | AI34: =G34 -> 0 | AJ34: =T34+U34 -> 0
A35: 1.28 | B35: ²ÛÉ Ñ³Ýó³·áñÍáõÃÛáõÝÝ»ñ | AD35: =SUM(T35:W35) -> 0 | AE35: =G35 -> 0 | AF35: =E35+F35 -> 0 | AG35: =T35 -> 0 | AH35: =M35+N35+O35+P35+Q35+R35+S35 -> 0 | AI35: =G35 -> 0 | AJ35: =T35+U35 -> 0
A36: 2. | B36: ÀÝ¹³Ù»ÝÁ ³ÝÓÇ ³½³ïáõÃÛ³Ý, å³ïíÇ ¨ ³ñÅ³Ý³å³ïíáõÃÛ³Ý ¹»Ù áõÕÕí³Í Ñ³Ýó³·áñÍáõÃÛáõÝÝ»ñÁ | E36: =SUM(E37:E43) -> 0 | F36: =SUM(F37:F43) -> 0 | G36: =SUM(G37:G43) -> 0 | H36: =SUM(H37:H43) -> 0 | I36: =SUM(I37:I43) -> 0 | J36: =SUM(J37:J43) -> 0 | K36: =SUM(K37:K43) -> 0 | L36: =SUM(L37:L43) -> 0 | ... AC36: =SUM(AC37:AC43) -> 0 | AD36: =SUM(T36:W36) -> 0 | AE36: =G36 -> 0 | AF36: =E36+F36 -> 0 | AG36: =T36 -> 0 | AH36: =M36+N36+O36+P36+Q36+R36+S36 -> 0 | AI36: =G36 -> 0 | AJ36: =T36+U36 -> 0
A37: 2.1 | B37: Ø³ñ¹áõÝ ³é¨³Ý·»ÉÁ | D37: 131 | AD37: =SUM(T37:W37) -> 0 | AE37: =G37 -> 0 | AF37: =E37+F37 -> 0 | AG37: =T37 -> 0 | AH37: =M37+N37+O37+P37+Q37+R37+S37 -> 0 | AI37: =G37 -> 0 | AJ37: =T37+U37 -> 0
A38: 2.2 | B38: Þ³Ñ³·áñÍÙ³Ý Ýå³ï³Ïáí Ù³ñ¹áõÝ Ñ³í³ù³·ñ»ÉÁ, ÷áË³¹ñ»ÉÁ, Ñ³ÝÓÝ»ÉÁ, Ã³ùóÝ»ÉÁ Ï³Ù ëï³Ý³ÉÁ | D38: 132 | AD38: =SUM(T38:W38) -> 0 | AE38: =G38 -> 0 | AF38: =E38+F38 -> 0 | AG38: =T38 -> 0 | AH38: =M38+N38+O38+P38+Q38+R38+S38 -> 0 | AI38: =G38 -> 0 | AJ38: =T38+U38 -> 0
A39: 2.2.1 | B39: Ø³ñ¹áõÝ åáéÝÇÏáõÃÛ³Ý Ï³Ù ë»é³Ï³Ý ß³Ñ³·áñÍÙ³Ý ³ÛÉ Ó¨»ñÇ Ù»ç, Ñ³ñÏ³¹Çñ ³ßË³ï³ÝùÇ Ï³Ù Í³é³ÛáõÃÛáõÝÝ»ñÇ Ý»ñ·ñ³í»ÉÁ Ï³Ù ëïñÏáõÃÛ³Ý Ï³Ù ëïñÏáõÃÛ³ÝÁ ÝÙ³ÝíáÕ íÇ×³ÏÇ Ù»ç ¹Ý»ÉÁ Ï³Ù å³Ñ»ÉÁ | D39: 132.1 | AD39: =SUM(T39:W39) -> 0 | AE39: =G39 -> 0 | AF39: =E39+F39 -> 0 | AG39: =T39 -> 0 | AH39: =M39+N39+O39+P39+Q39+R39+S39 -> 0 | AI39: =G39 -> 0 | AJ39: =T39+U39 -> 0
A40: 2.3 | B40: ²½³ïáõÃÛáõÝÇó ³åûñÇÝÇ ½ñÏ»ÉÁ | D40: 133 | AD40: =SUM(T40:W40) -> 0 | AE40: =G40 -> 0 | AF40: =E40+F40 -> 0 | AG40: =T40 -> 0 | AH40: =M40+N40+O40+P40+Q40+R40+S40 -> 0 | AI40: =G40 -> 0 | AJ40: =T40+U40 -> 0
A41: 2.4 | B41: Ðá·»µáõÅ³Ï³Ý ÑÇí³Ý¹³ÝáóáõÙ ³åûñÇÝÇ ï»Õ³íáñ»ÉÁ Ï³Ù å³Ñ»ÉÁ | D41: 134 | AD41: =SUM(T41:W41) -> 0 | AE41: =G41 -> 0 | AF41: =E41+F41 -> 0 | AG41: =T41 -> 0 | AH41: =M41+N41+O41+P41+Q41+R41+S41 -> 0 | AI41: =G41 -> 0 | AJ41: =T41+U41 -> 0
A42: 2.7 | B42: êå³ÝáõÃÛ³Ý, ³éáÕçáõÃÛ³ÝÁ Í³Ýñ íÝ³ë å³ï×³é»Éáõ Ï³Ù ·áõÛù áãÝã³óÝ»Éáõ ëå³éÝ³ÉÇùÁ | D42: 137 | AD42: =SUM(T42:W42) -> 0 | AE42: =G42 -> 0 | AF42: =E42+F42 -> 0 | AG42: =T42 -> 0 | AH42: =M42+N42+O42+P42+Q42+R42+S42 -> 0 | AI42: =G42 -> 0 | AJ42: =T42+U42 -> 0
A43: 2.8 | B43: ²ÛÉ Ñ³Ýó³·áñÍáõÃÛáõÝÝ»ñ | AD43: =SUM(T43:W43) -> 0 | AE43: =G43 -> 0 | AF43: =E43+F43 -> 0 | AG43: =T43 -> 0 | AH43: =M43+N43+O43+P43+Q43+R43+S43 -> 0 | AI43: =G43 -> 0 | AJ43: =T43+U43 -> 0
A44: 3. | B44: ÀÝ¹³Ù»ÝÁ ë»é³Ï³Ý ³ÝÓ»éÝÙË»ÉÇáõÃÛ³Ý ¨ ë»é³Ï³Ý ³½³ïáõÃÛ³Ý ¹»Ù áõÕÕí³Í Ñ³Ýó³·áñÍáõÃÛáõÝÝ»ñÁ | E44: =SUM(E45:E50) -> 0 | F44: =SUM(F45:F50) -> 0 | G44: =SUM(G45:G50) -> 0 | H44: =SUM(H45:H50) -> 0 | I44: =SUM(I45:I50) -> 0 | J44: =SUM(J45:J50) -> 0 | K44: =SUM(K45:K50) -> 0 | L44: =SUM(L45:L50) -> 0 | ... AC44: =SUM(AC45:AC50) -> 0 | AD44: =SUM(T44:W44) -> 0 | AE44: =G44 -> 0 | AF44: =E44+F44 -> 0 | AG44: =T44 -> 0 | AH44: =M44+N44+O44+P44+Q44+R44+S44 -> 0 | AI44: =G44 -> 0 | AJ44: =T44+U44 -> 0
A45: 3.1 | B45: ´éÝ³µ³ñáõÃÛáõÝÁ | D45: 138 | AD45: =SUM(T45:W45) -> 0 | AE45: =G45 -> 0 | AF45: =E45+F45 -> 0 | AG45: =T45 -> 0 | AH45: =M45+N45+O45+P45+Q45+R45+S45 -> 0 | AI45: =G45 -> 0 | AJ45: =T45+U45 -> 0
A46: 3.2 | B46: ê»ùëáõ³É µÝáõÛÃÇ µéÝÇ ·áñÍáÕáõÃÛáõÝÝ»ñÁ | D46: 139 | AD46: =SUM(T46:W46) -> 0 | AE46: =G46 -> 0 | AF46: =E46+F46 -> 0 | AG46: =T46 -> 0 | AH46: =M46+N46+O46+P46+Q46+R46+S46 -> 0 | AI46: =G46 -> 0 | AJ46: =T46+U46 -> 0
A47: 3.3 | B47: ê»ùëáõ³É µÝáõÛÃÇ ·áñÍáÕáõÃÛáõÝÝ»ñÇÝ Ñ³ñÏ³¹ñ»ÉÁ | D47: 140 | AD47: =SUM(T47:W47) -> 0 | AE47: =G47 -> 0 | AF47: =E47+F47 -> 0 | AG47: =T47 -> 0 | AH47: =M47+N47+O47+P47+Q47+R47+S47 -> 0 | AI47: =G47 -> 0 | AJ47: =T47+U47 -> 0
A48: 3.4 | B48: ê»ùëáõ³É µÝáõÛÃÇ ·áñÍáÕáõÃÛáõÝÝ»ñ Ï³ï³ñ»ÉÁ ï³ëÝí»ó ï³ñÇÝ ãÉñ³ó³Í ³ÝÓÇ Ñ»ï | D48: 141 | AD48: =SUM(T48:W48) -> 0 | AE48: =G48 -> 0 | AF48: =E48+F48 -> 0 | AG48: =T48 -> 0 | AH48: =M48+N48+O48+P48+Q48+R48+S48 -> 0 | AI48: =G48 -> 0 | AJ48: =T48+U48 -> 0
A49: 3.5 | B49: ²Ý³é³Ï³µ³ñá ·áñÍáÕáõÃÛáõÝÝ»ñÁ | D49: 142 | AD49: =SUM(T49:W49) -> 0 | AE49: =G49 -> 0 | AF49: =E49+F49 -> 0 | AG49: =T49 -> 0 | AH49: =M49+N49+O49+P49+Q49+R49+S49 -> 0 | AI49: =G49 -> 0 | AJ49: =T49+U49 -> 0
A50: 3.6 | B50: ²ÛÉ Ñ³Ýó³·áñÍáõÃÛáõÝÝ»ñ | AD50: =SUM(T50:W50) -> 0 | AE50: =G50 -> 0 | AF50: =E50+F50 -> 0 | AG50: =T50 -> 0 | AH50: =M50+N50+O50+P50+Q50+R50+S50 -> 0 | AI50: =G50 -> 0 | AJ50: =T50+U50 -> 0
A51: 4. | B51: ÀÝ¹³Ù»ÝÁ Ù³ñ¹áõ ¨ ù³Õ³ù³óáõ ë³ÑÙ³Ý³¹ñ³Ï³Ý Çñ³íáõÝùÝ»ñÇ ¨ ³½³ïáõÃÛáõÝÝ»ñÇ ¹»Ù áõÕÕí³Í Ñ³Ýó³·áñÍáõÃÛáõÝÝ»ñÁ | E51: =SUM(E52:E79) -> 0 | F51: =SUM(F52:F79) -> 0 | G51: =SUM(G52:G79) -> 0 | H51: =SUM(H52:H79) -> 0 | I51: =SUM(I52:I79) -> 0 | J51: =SUM(J52:J79) -> 0 | K51: =SUM(K52:K79) -> 0 | L51: =SUM(L52:L79) -> 0 | ... AC51: =SUM(AC52:AC79) -> 0 | AD51: =SUM(T51:W51) -> 0 | AE51: =G51 -> 0 | AF51: =E51+F51 -> 0 | AG51: =T51 -> 0 | AH51: =M51+N51+O51+P51+Q51+R51+S51 -> 0 | AI51: =G51 -> 0 | AJ51: =T51+U51 -> 0
A52: 4.1 | B52: ø³Õ³ù³óÇÝ»ñÇ Çñ³í³Ñ³í³ë³ñáõÃÛáõÝÁ Ë³Ëï»ÉÁ | D52: 143 | AD52: =SUM(T52:W52) -> 0 | AE52: =G52 -> 0 | AF52: =E52+F52 -> 0 | AG52: =T52 -> 0 | AH52: =M52+N52+O52+P52+Q52+R52+S52 -> 0 | AI52: =G52 -> 0 | AJ52: =T52+U52 -> 0
A53: 4.2 | B53: ²ÝÓÝ³Ï³Ý Ï³Ù ÁÝï³Ý»Ï³Ý ÏÛ³ÝùÇ Ù³ëÇÝ ï»Õ»ÏáõÃÛáõÝÝ»ñ ³åûñÇÝÇ Ñ³í³ù»ÉÁ, å³Ñ»ÉÁ, û·ï³·áñÍ»ÉÁ Ï³Ù ï³ñ³Í»ÉÁ | D53: 144 | AD53: =SUM(T53:W53) -> 0 | AE53: =G53 -> 0 | AF53: =E53+F53 -> 0 | AG53: =T53 -> 0 | AH53: =M53+N53+O53+P53+Q53+R53+S53 -> 0 | AI53: =G53 -> 0 | AJ53: =T53+U53 -> 0
A54: 4.3 | B54: ´ÅßÏ³Ï³Ý ·³ÕïÝÇùÁ Ññ³å³ñ³Ï»ÉÁ | D54: 145 | AD54: =SUM(T54:W54) -> 0 | AE54: =G54 -> 0 | AF54: =E54+F54 -> 0 | AG54: =T54 -> 0 | AH54: =M54+N54+O54+P54+Q54+R54+S54 -> 0 | AI54: =G54 -> 0 | AJ54: =T54+U54 -> 0
A55: 4.4 | B55: Ü³Ù³Ï³·ñáõÃÛ³Ý, Ñ»é³Ëáë³ÛÇÝ Ëáë³ÏóáõÃÛáõÝÝ»ñÇ, ÷áëï³ÛÇÝ, Ñ»é³·ñ³Ï³Ý Ï³Ù ³ÛÉ Ñ³Õáñ¹áõÙÝ»ñÇ ·³ÕïÝÇáõÃÛáõÝÁ Ë³Ëï»ÉÁ | D55: 146 | AD55: =SUM(T55:W55) -> 0 | AE55: =G55 -> 0 | AF55: =E55+F55 -> 0 | AG55: =T55 -> 0 | AH55: =M55+N55+O55+P55+Q55+R55+S55 -> 0 | AI55: =G55 -> 0 | AJ55: =T55+U55 -> 0
A56: 4.5 | B56: ´Ý³Ï³ñ³ÝÇ ³ÝÓ»éÝÙË»ÉÇáõÃÛáõÝÁ Ë³Ëï»ÉÁ | D56: 147 | AD56: =SUM(T56:W56) -> 0 | AE56: =G56 -> 0 | AF56: =E56+F56 -> 0 | AG56: =T56 -> 0 | AH56: =M56+N56+O56+P56+Q56+R56+S56 -> 0 | AI56: =G56 -> 0 | AJ56: =T56+U56 -> 0
A57: 4.6 | B57: ²ÝÓÇÝ ï»Õ»ÏáõÃÛáõÝ Ý»ñÏ³Û³óÝ»Éáõó Ññ³Å³ñí»ÉÁ | D57: 148 | AD57: =SUM(T57:W57) -> 0 | AE57: =G57 -> 0 | AF57: =E57+F57 -> 0 | AG57: =T57 -> 0 | AH57: =M57+N57+O57+P57+Q57+R57+S57 -> 0 | AI57: =G57 -> 0 | AJ57: =T57+U57 -> 0
A58: 4.7 | B58: ÀÝïñ³Ï³Ý Çñ³íáõÝùÇ Çñ³Ï³Ý³óÙ³ÝÁ, ÁÝïñ³Ï³Ý Ñ³ÝÓÝ³ÅáÕáíÝ»ñÇ ³ßË³ï³ÝùÝ»ñÇÝ Ï³Ù ÁÝïñáõÃÛ³ÝÁ Ù³ëÝ³ÏóáÕ ³ÝÓ³Ýó ÉÇ³½áñáõÃÛáõÝÝ»ñÇ Çñ³Ï³Ý³óÙ³ÝÁ ËáãÁÝ¹áï»ÉÁ | D58: 149 | AD58: =SUM(T58:W58) -> 0 | AE58: =G58 -> 0 | AF58: =E58+F58 -> 0 | AG58: =T58 -> 0 | AH58: =M58+N58+O58+P58+Q58+R58+S58 -> 0 | AI58: =G58 -> 0 | AJ58: =T58+U58 -> 0
A59: 4.8 | B59: ÀÝïñáõÃÛáõÝÝ»ñÇ Ï³Ù ùí»³ñÏáõÃÛ³Ý ³ñ¹ÛáõÝùÝ»ñÁ Ï»ÕÍ»ÉÁ | D59: 150 | AD59: =SUM(T59:W59) -> 0 | AE59: =G59 -> 0 | AF59: =E59+F59 -> 0 | AG59: =T59 -> 0 | AH59: =M59+N59+O59+P59+Q59+R59+S59 -> 0 | AI59: =G59 -> 0 | AJ59: =T59+U59 -> 0
A60: 4.9 | B60: ÀÝïñáõÃÛáõÝÝ»ñÇ ³ÝóÏ³óÙ³Ý ÁÝÃ³óùáõÙ Ã»ÏÝ³ÍáõÇ, Ïáõë³ÏóáõÃÛ³Ý (Ïáõë³ÏóáõÃÛáõÝÝ»ñÇ ¹³ßÇÝùÇ) í»ñ³µ»ñÛ³É ½ñå³ñïã³Ï³Ý ï»Õ»ÏáõÃÛáõÝÝ»ñ ï³ñ³Í»ÉÁ | D60: 151 | AD60: =SUM(T60:W60) -> 0 | AE60: =G60 -> 0 | AF60: =E60+F60 -> 0 | AG60: =T60 -> 0 | AH60: =M60+N60+O60+P60+Q60+R60+S60 -> 0 | AI60: =G60 -> 0 | AJ60: =T60+U60 -> 0
A61: 4.10 | B61: ÀÝïñáÕÝ»ñÇ óáõó³ÏÝ»ñÁ Ï³½Ù»Éáõ Ï³ñ·Á Ë³Ëï»ÉÁ | D61: 152 | AD61: =SUM(T61:W61) -> 0 | AE61: =G61 -> 0 | AF61: =E61+F61 -> 0 | AG61: =T61 -> 0 | AH61: =M61+N61+O61+P61+Q61+R61+S61 -> 0 | AI61: =G61 -> 0 | AJ61: =T61+U61 -> 0
A62: 4.11 | B62: Ø»ÏÇó ³í»ÉÇ ³Ý·³Ù Ï³Ù ³ÛÉ ³ÝÓÇ ÷áË³ñ»Ý ùí»³ñÏ»ÉÁ | D62: 153 | AD62: =SUM(T62:W62) -> 0 | AE62: =G62 -> 0 | AF62: =E62+F62 -> 0 | AG62: =T62 -> 0 | AH62: =M62+N62+O62+P62+Q62+R62+S62 -> 0 | AI62: =G62 -> 0 | AJ62: =T62+U62 -> 0
A63: 4.12 | B63: øí»³ñÏáõÃÛ³Ý ·³ÕïÝÇáõÃÛáõÝÁ Ë³Ëï»ÉÁ | D63: 154 | AD63: =SUM(T63:W63) -> 0 | AE63: =G63 -> 0 | AF63: =E63+F63 -> 0 | AG63: =T63 -> 0 | AH63: =M63+N63+O63+P63+Q63+R63+S63 -> 0 | AI63: =G63 -> 0 | AJ63: =T63+U63 -> 0
... A78: 4.27 | B78: Èñ³·ñáÕÇ Ù³ëÝ³·Çï³Ï³Ý ûñÇÝ³Ï³Ý ·áñÍáÕáõÃÛ³ÝÁ ËáãÁÝ¹áï»ÉÁ | D78: 164 | AD78: =SUM(T78:W78) -> 0 | AE78: =G78 -> 0 | AF78: =E78+F78 -> 0 | AG78: =T78 -> 0 | AH78: =M78+N78+O78+P78+Q78+R78+S78 -> 0 | AI78: =G78 -> 0 | AJ78: =T78+U78 -> 0
A79: 4.28 | B79: ²ÛÉ Ñ³Ýó³·áñÍáõÃÛáõÝÝ»ñ | AD79: =SUM(T79:W79) -> 0 | AE79: =G79 -> 0 | AF79: =E79+F79 -> 0 | AG79: =T79 -> 0 | AH79: =M79+N79+O79+P79+Q79+R79+S79 -> 0 | AI79: =G79 -> 0 | AJ79: =T79+U79 -> 0
A80: 5. | B80: ÀÝ¹³Ù»ÝÁ ÁÝï³ÝÇùÇ ¨ »ñ»Ë³ÛÇ ß³Ñ»ñÇ ¹»Ù áõÕÕí³Í Ñ³Ýó³·áñÍáõÃÛáõÝÝ»ñÁ | E80: =SUM(E81:E92) -> 0 | F80: =SUM(F81:F92) -> 0 | G80: =SUM(G81:G92) -> 0 | H80: =SUM(H81:H92) -> 0 | I80: =SUM(I81:I92) -> 0 | J80: =SUM(J81:J92) -> 0 | K80: =SUM(K81:K92) -> 0 | L80: =SUM(L81:L92) -> 0 | ... AC80: =SUM(AC81:AC92) -> 0 | AD80: =SUM(T80:W80) -> 0 | AE80: =G80 -> 0 | AF80: =E80+F80 -> 0 | AG80: =T80 -> 0 | AH80: =M80+N80+O80+P80+Q80+R80+S80 -> 0 | AI80: =G80 -> 0 | AJ80: =T80+U80 -> 0
A81: 5.1 | B81: ²Ýã³÷³Ñ³ëÇÝ Ñ³Ýó³ÝùÇ Ï³ï³ñÙ³ÝÁ Ý»ñ·ñ³í»ÉÁ | D81: 165 | AD81: =SUM(T81:W81) -> 0 | AE81: =G81 -> 0 | AF81: =E81+F81 -> 0 | AG81: =T81 -> 0 | AH81: =M81+N81+O81+P81+Q81+R81+S81 -> 0 | AI81: =G81 -> 0 | AJ81: =T81+U81 -> 0
A82: 5.2 | B82: ºñ»Ë³ÛÇÝ Ñ³Ï³Ñ³ë³ñ³Ï³Ï³Ý ·áñÍáÕáõÃÛáõÝÝ»ñ Ï³ï³ñ»ÉáõÝ Ý»ñ·ñ³í»ÉÁ | D82: 166 | AD82: =SUM(T82:W82) -> 0 | AE82: =G82 -> 0 | AF82: =E82+F82 -> 0 | AG82: =T82 -> 0 | AH82: =M82+N82+O82+P82+Q82+R82+S82 -> 0 | AI82: =G82 -> 0 | AJ82: =T82+U82 -> 0
A83: 5.3 | B83: ÌÝáÕÝ»ñÇó »ñ»Ë³ÛÇÝ ³åûñÇÝÇ µ³Å³Ý»ÉÁ Ï³Ù »ñ»Ë³ÛÇÝ ÷áË»ÉÁ | D83: 167 | AD83: =SUM(T83:W83) -> 0 | AE83: =G83 -> 0 | AF83: =E83+F83 -> 0 | AG83: =T83 -> 0 | AH83: =M83+N83+O83+P83+Q83+R83+S83 -> 0 | AI83: =G83 -> 0 | AJ83: =T83+U83 -> 0
A84: 5.4 | B84: ºñ»Ë³ÛÇ ³éù áõ í³×³éùÁ | D84: 168 | AD84: =SUM(T84:W84) -> 0 | AE84: =G84 -> 0 | AF84: =E84+F84 -> 0 | AG84: =T84 -> 0 | AH84: =M84+N84+O84+P84+Q84+R84+S84 -> 0 | AI84: =G84 -> 0 | AJ84: =T84+U84 -> 0
A85: 5.5 | B85: àñ¹»·ñÙ³Ý ·³ÕïÝÇùÁ Ññ³å³ñ³Ï»ÉÁ Ï³Ù áñ¹»·ñÙ³Ý Ñ³Ù³Ó³ÛÝáõÃÛáõÝ ï³ÉáõÝ Ñ³Ï»ÉÁ Ï³Ù Ñ³ñÏ³¹ñ»ÉÁ | D85: 169 | AD85: =SUM(T85:W85) -> 0 | AE85: =G85 -> 0 | AF85: =E85+F85 -> 0 | AG85: =T85 -> 0 | AH85: =M85+N85+O85+P85+Q85+R85+S85 -> 0 | AI85: =G85 -> 0 | AJ85: =T85+U85 -> 0
A86: 5.6 | B86: ø³Õ³ù³óÇ³Ï³Ý Ï³óáõÃÛ³Ý ³Ïï»ñÇ ·ñ³ÝóÙ³Ý Ù³ñÙÇÝÝ»ñÇÝ ëáõï ï»Õ»ÏáõÃÛáõÝÝ»ñ Ñ³Õáñ¹»ÉÁ | D86: 169.1 | AD86: =SUM(T86:W86) -> 0 | AE86: =G86 -> 0 | AF86: =E86+F86 -> 0 | AG86: =T86 -> 0 | AH86: =M86+N86+O86+P86+Q86+R86+S86 -> 0 | AI86: =G86 -> 0 | AJ86: =T86+U86 -> 0
A87: 5.7 | B87: ºñ»Ë³ÛÇÝ ¹³ëïÇ³ñ³Ï»Éáõ å³ñï³Ï³ÝáõÃÛáõÝÁ ãÏ³ï³ñ»ÉÁ | D87: 170 | AD87: =SUM(T87:W87) -> 0 | AE87: =G87 -> 0 | AF87: =E87+F87 -> 0 | AG87: =T87 -> 0 | AH87: =M87+N87+O87+P87+Q87+R87+S87 -> 0 | AI87: =G87 -> 0 | AJ87: =T87+U87 -> 0
A88: 5.8 | B88: ºñ»Ë³ÛÇ ÏÛ³ÝùÇ ³Ýíï³Ý·áõÃÛ³Ý ³å³ÑáíÙ³Ý Ï³Ù ³éáÕçáõÃÛ³Ý å³Ñå³ÝÙ³Ý å³ñï³Ï³ÝáõÃÛáõÝÁ ãÏ³ï³ñ»ÉÁ Ï³Ù áã å³ïß³× Ï³ï³ñ»ÉÁ | D88: 171 | AD88: =SUM(T88:W88) -> 0 | AE88: =G88 -> 0 | AF88: =E88+F88 -> 0 | AG88: =T88 -> 0 | AH88: =M88+N88+O88+P88+Q88+R88+S88 -> 0 | AI88: =G88 -> 0 | AJ88: =T88+U88 -> 0
A89: 5.9 | B89: ÊÝ³Ù³Ï³ÉÇ Ï³Ù Ñá·³µ³ñÓáõÇ Çñ³íáõÝùÝ»ñÁ ã³ñ³ß³Ñ»ÉÁ | D89: 172 | AD89: =SUM(T89:W89) -> 0 | AE89: =G89 -> 0 | AF89: =E89+F89 -> 0 | AG89: =T89 -> 0 | AH89: =M89+N89+O89+P89+Q89+R89+S89 -> 0 | AI89: =G89 -> 0 | AJ89: =T89+U89 -> 0
A90: 5.10 | B90: ÌÝáÕÇ ÏáÕÙÇó »ñ»Ë³ÛÇÝ å³Ñ»Éáõó ã³ñ³Ùïáñ»Ý Ëáõë³÷»ÉÁ (áõÅÁ Ïáñóñ³Í) | D90: 173 | AD90: =SUM(T90:W90) -> 0 | AE90: =G90 -> 0 | AF90: =E90+F90 -> 0 | AG90: =T90 -> 0 | AH90: =M90+N90+O90+P90+Q90+R90+S90 -> 0 | AI90: =G90 -> 0 | AJ90: =T90+U90 -> 0
A91: 5.11 | B91: ¼³í³ÏÇ ÏáÕÙÇó ³Ý³ßË³ïáõÝ³Ï ÍÝáÕÇÝ å³Ñ»Éáõó ã³ñ³Ùïáñ»Ý Ëáõë³÷»ÉÁ | D91: 174 | AD91: =SUM(T91:W91) -> 0 | AE91: =G91 -> 0 | AF91: =E91+F91 -> 0 | AG91: =T91 -> 0 | AH91: =M91+N91+O91+P91+Q91+R91+S91 -> 0 | AI91: =G91 -> 0 | AJ91: =T91+U91 -> 0
A92: 5.12 | B92: ²ÛÉ Ñ³Ýó³·áñÍáõÃÛáõÝÝ»ñ | AD92: =SUM(T92:W92) -> 0 | AE92: =G92 -> 0 | AF92: =E92+F92 -> 0 | AG92: =T92 -> 0 | AH92: =M92+N92+O92+P92+Q92+R92+S92 -> 0 | AI92: =G92 -> 0 | AJ92: =T92+U92 -> 0
A93: 6. | B93: ÀÝ¹³Ù»ÝÁ ë»÷³Ï³ÝáõÃÛ³Ý ¹»Ù áõÕÕí³Í Ñ³Ýó³·áñÍáõÃÛáõÝÝ»ñÁ | E93: =SUM(E94:E106) -> 5 | F93: =SUM(F94:F106) -> 3 | G93: =SUM(G94:G106) -> 8 | H93: =SUM(H94:H106) -> 0 | I93: =SUM(I94:I106) -> 0 | J93: =SUM(J94:J106) -> 0 | K93: =SUM(K94:K106) -> 0 | L93: =SUM(L94:L106) -> 0 | ... AD93: =SUM(AD94:AD106) -> 10 | AE93: =G93 -> 8 | AF93: =E93+F93 -> 8 | AG93: =T93 -> 2 | AH93: =M93+N93+O93+P93+Q93+R93+S93 -> 2 | AI93: =G93 -> 8 | AJ93: =T93+U93 -> 8
A94: 6.1 | B94: ²í³½³ÏáõÃÛáõÝÁ | D94: 175 | AD94: =SUM(T94:W94) -> 0 | AE94: =G94 -> 0 | AF94: =E94+F94 -> 0 | AG94: =T94 -> 0 | AH94: =M94+N94+O94+P94+Q94+R94+S94 -> 0 | AI94: =G94 -> 0 | AJ94: =T94+U94 -> 0
A95: 6.2 | B95: ÎáÕáåáõïÁ | D95: 176 | AD95: =SUM(T95:W95) -> 0 | AE95: =G95 -> 0 | AF95: =E95+F95 -> 0 | AG95: =T95 -> 0 | AH95: =M95+N95+O95+P95+Q95+R95+S95 -> 0 | AI95: =G95 -> 0 | AJ95: =T95+U95 -> 0
A96: 6.3 | B96: ¶áÕáõÃÛáõÝÁ | D96: 177 | E96: 5 | F96: 3 | G96: 8 | N96: 2 | T96: 2 | U96: 6 | V96: 2 | X96: 6 | AD96: =SUM(T96:W96) -> 10 | AE96: =G96 -> 8 | AF96: =E96+F96 -> 8 | AG96: =T96 -> 2 | AH96: =M96+N96+O96+P96+Q96+R96+S96 -> 2 | AI96: =G96 -> 8 | AJ96: =T96+U96 -> 8
A97: 6.4 | B97: Ê³ñ¹³ËáõÃÛáõÝÁ | D97: 178 | AD97: =SUM(T97:W97) -> 0 | AE97: =G97 -> 0 | AF97: =E97+F97 -> 0 | AG97: =T97 -> 0 | AH97: =M97+N97+O97+P97+Q97+R97+S97 -> 0 | AI97: =G97 -> 0 | AJ97: =T97+U97 -> 0
A98: 6.5 | B98: Úáõñ³óÝ»ÉÁ Ï³Ù í³ïÝ»ÉÁ | D98: 179 | AD98: =SUM(T98:W98) -> 0 | AE98: =G98 -> 0 | AF98: =E98+F98 -> 0 | AG98: =T98 -> 0 | AH98: =M98+N98+O98+P98+Q98+R98+S98 -> 0 | AI98: =G98 -> 0 | AJ98: =T98+U98 -> 0
A99: 6.6 | B99: ²é³ÝÓÝ³ÏÇ ³ñÅ»ù áõÝ»óáÕ ³é³ñÏ³Ý»ñ Ñ³÷ßï³Ï»ÉÁ | D99: 180 | AD99: =SUM(T99:W99) -> 0 | AE99: =G99 -> 0 | AF99: =E99+F99 -> 0 | AG99: =T99 -> 0 | AH99: =M99+N99+O99+P99+Q99+R99+S99 -> 0 | AI99: =G99 -> 0 | AJ99: =T99+U99 -> 0
A100: 6.7 | B100: Ð³÷ßï³ÏáõÃÛáõÝÁ, áñÁ Ï³ï³ñí»É ¿ Ñ³Ù³Ï³ñ·ã³ÛÇÝ ï»ËÝÇÏ³ÛÇ û·ï³·áñÍÙ³Ùµ | D100: 181 | AD100: =SUM(T100:W100) -> 0 | AE100: =G100 -> 0 | AF100: =E100+F100 -> 0 | AG100: =T100 -> 0 | AH100: =M100+N100+O100+P100+Q100+R100+S100 -> 0 | AI100: =G100 -> 0 | AJ100: =T100+U100 -> 0
A101: 6.8 | B101: ÞáñÃáõÙÁ | D101: 182 | AD101: =SUM(T101:W101) -> 0 | AE101: =G101 -> 0 | AF101: =E101+F101 -> 0 | AG101: =T101 -> 0 | AH101: =M101+N101+O101+P101+Q101+R101+S101 -> 0 | AI101: =G101 -> 0 | AJ101: =T101+U101 -> 0
A102: 6.9 | B102: ²íïáÙ»ù»Ý³ÛÇÝ Ï³Ù ïñ³Ýëåáñï³ÛÇÝ ³ÛÉ ÙÇçáóÇÝ ³åûñÇÝ³µ³ñ ïÇñ³Ý³ÉÝ ³é³Ýó Ñ³÷ßï³Ï»Éáõ Ýå³ï³ÏÇ | D102: 183 | AD102: =SUM(T102:W102) -> 0 | AE102: =G102 -> 0 | AF102: =E102+F102 -> 0 | AG102: =T102 -> 0 | AH102: =M102+N102+O102+P102+Q102+R102+S102 -> 0 | AI102: =G102 -> 0 | AJ102: =T102+U102 -> 0
A103: 6.10 | B103: ¶áõÛù³ÛÇÝ íÝ³ë å³ï×³é»ÉÁ Ë³µ»áõÃÛ³Ý Ï³Ù íëï³ÑáõÃÛáõÝÁ ã³ñ³ß³Ñ»Éáõ »Õ³Ý³Ïáí | D103: 184 | AD103: =SUM(T103:W103) -> 0 | AE103: =G103 -> 0 | AF103: =E103+F103 -> 0 | AG103: =T103 -> 0 | AH103: =M103+N103+O103+P103+Q103+R103+S103 -> 0 | AI103: =G103 -> 0 | AJ103: =T103+U103 -> 0
A104: 6.11 | B104: ¶áõÛùÁ ¹Çï³íáñáõÃÛ³Ùµ áãÝã³óÝ»ÉÁ Ï³Ù íÝ³ë»ÉÁ | D104: 185 | AD104: =SUM(T104:W104) -> 0 | AE104: =G104 -> 0 | AF104: =E104+F104 -> 0 | AG104: =T104 -> 0 | AH104: =M104+N104+O104+P104+Q104+R104+S104 -> 0 | AI104: =G104 -> 0 | AJ104: =T104+U104 -> 0
A105: 6.12 | B105: ¶áõÛùÝ ³Ý½·áõßáõÃÛ³Ùµ áãÝã³óÝ»ÉÁ Ï³Ù íÝ³ë»ÉÁ | D105: 186 | AD105: =SUM(T105:W105) -> 0 | AE105: =G105 -> 0 | AF105: =E105+F105 -> 0 | AG105: =T105 -> 0 | AH105: =M105+N105+O105+P105+Q105+R105+S105 -> 0 | AI105: =G105 -> 0 | AJ105: =T105+U105 -> 0
A106: 6.13 | B106: Գուքի պահպանության պարտականություններն անփույթ կամ անբարեխիղճ կատարելը | D106: 186.1 | AD106: =SUM(T106:W106) -> 0 | AE106: =G106 -> 0 | AF106: =E106+F106 -> 0 | AG106: =T106 -> 0 | AH106: =M106+N106+O106+P106+Q106+R106+S106 -> 0 | AI106: =G106 -> 0 | AJ106: =T106+U106 -> 0
A107: 7. | B107: ÀÝ¹³Ù»ÝÁ ïÝï»ë³Ï³Ý ·áñÍáõÝ»áõÃÛ³Ý ¹»Ù áõÕÕí³Í Ñ³Ýó³·áñÍáõÃÛáõÝÝ»ñÁ | E107: =SUM(E108:E139) -> 0 | F107: =SUM(F108:F139) -> 0 | G107: =SUM(G108:G139) -> 0 | H107: =SUM(H108:H139) -> 0 | I107: =SUM(I108:I139) -> 0 | J107: =SUM(J108:J139) -> 0 | K107: =SUM(K108:K139) -> 0 | L107: =SUM(L108:L139) -> 0 | ... AC107: =SUM(AC108:AC139) -> 0 | AD107: =SUM(T107:W107) -> 0 | AE107: =G107 -> 0 | AF107: =E107+F107 -> 0 | AG107: =T107 -> 0 | AH107: =M107+N107+O107+P107+Q107+R107+S107 -> 0 | AI107: =G107 -> 0 | AJ107: =T107+U107 -> 0
A108: 7.1 | B108: úñÇÝ³Ï³Ý Ó»éÝ³ñÏ³ïÇñ³Ï³Ý ¨ ³ÛÉ ïÝï»ë³Ï³Ý ·áñÍáõÝ»áõÃÛ³ÝÁ ËáãÁÝ¹áï»ÉÁ | D108: 187 | AD108: =SUM(T108:W108) -> 0 | AE108: =G108 -> 0 | AF108: =E108+F108 -> 0 | AG108: =T108 -> 0 | AH108: =M108+N108+O108+P108+Q108+R108+S108 -> 0 | AI108: =G108 -> 0 | AJ108: =T108+U108 -> 0
A109: 7.2 | B109: ²åûñÇÝÇ Ó»éÝ³ñÏ³ïÇñáõÃÛáõÝÁ | D109: 188 | AD109: =SUM(T109:W109) -> 0 | AE109: =G109 -> 0 | AF109: =E109+F109 -> 0 | AG109: =T109 -> 0 | AH109: =M109+N109+O109+P109+Q109+R109+S109 -> 0 | AI109: =G109 -> 0 | AJ109: =T109+U109 -> 0
A110: 7.3 | B110: ²é³Ýó ÉÇó»Ý³½Ç³ÛÇ ³ñï³ñÅáõÛÃÇ í³×³éùÇ Çñ³Ï³Ý³óáõÙÁ | D110: 188.1 | AD110: =SUM(T110:W110) -> 0 | AE110: =G110 -> 0 | AF110: =E110+F110 -> 0 | AG110: =T110 -> 0 | AH110: =M110+N110+O110+P110+Q110+R110+S110 -> 0 | AI110: =G110 -> 0 | AJ110: =T110+U110 -> 0
A111: 7.4 | B111: Î»ÕÍ Ó»éÝ³ñÏ³ïÇñáõÃÛáõÝÁ | D111: 189 | AD111: =SUM(T111:W111) -> 0 | AE111: =G111 -> 0 | AF111: =E111+F111 -> 0 | AG111: =T111 -> 0 | AH111: =M111+N111+O111+P111+Q111+R111+S111 -> 0 | AI111: =G111 -> 0 | AJ111: =T111+U111 -> 0
A112: 7.5 | B112: Ð³Ýó³íáñ ×³Ý³å³ñÑáí ëï³óí³Í »Ï³ÙáõïÝ»ñÇ ûñÇÝ³Ï³Ý³óÝ»ÉÁ (É»·³É³óÝ»ÉÁ) | D112: 190 | AD112: =SUM(T112:W112) -> 0 | AE112: =G112 -> 0 | AF112: =E112+F112 -> 0 | AG112: =T112 -> 0 | AH112: =M112+N112+O112+P112+Q112+R112+S112 -> 0 | AI112: =G112 -> 0 | AJ112: =T112+U112 -> 0
A113: 7.6 | B113: ì³ñÏÁ áã Ýå³ï³Ï³ÛÇÝ û·ï³·áñÍ»ÉÁ | D113: 191 | AD113: =SUM(T113:W113) -> 0 | AE113: =G113 -> 0 | AF113: =E113+F113 -> 0 | AG113: =T113 -> 0 | AH113: =M113+N113+O113+P113+Q113+R113+S113 -> 0 | AI113: =G113 -> 0 | AJ113: =T113+U113 -> 0
A114: 7.7 | B114: ²ÝûñÇÝ³Ï³Ý ·áñÍáÕáõÃÛáõÝÝ»ñÁ ëÝ³ÝÏáõÃÛ³Ý ÁÝÃ³óùáõÙ | D114: 192 | AD114: =SUM(T114:W114) -> 0 | AE114: =G114 -> 0 | AF114: =E114+F114 -> 0 | AG114: =T114 -> 0 | AH114: =M114+N114+O114+P114+Q114+R114+S114 -> 0 | AI114: =G114 -> 0 | AJ114: =T114+U114 -> 0
A115: 7.8 | B115: Î³ÝË³Ùï³Íí³Í ëÝ³ÝÏáõÃÛáõÝÁ | D115: 193 | AD115: =SUM(T115:W115) -> 0 | AE115: =G115 -> 0 | AF115: =E115+F115 -> 0 | AG115: =T115 -> 0 | AH115: =M115+N115+O115+P115+Q115+R115+S115 -> 0 | AI115: =G115 -> 0 | AJ115: =T115+U115 -> 0
A116: 7.9 | B116: Î»ÕÍ ëÝ³ÝÏáõÃÛáõÝÁ | D116: 194 | AD116: =SUM(T116:W116) -> 0 | AE116: =G116 -> 0 | AF116: =E116+F116 -> 0 | AG116: =T116 -> 0 | AH116: =M116+N116+O116+P116+Q116+R116+S116 -> 0 | AI116: =G116 -> 0 | AJ116: =T116+U116 -> 0
A117: 7.10 | B117: ²åûñÇÝÇ Ñ³Ï³Ùñó³Ïó³ÛÇÝ ·áñÍáÕáõÃÛáõÝÁ | D117: 195 | AD117: =SUM(T117:W117) -> 0 | AE117: =G117 -> 0 | AF117: =E117+F117 -> 0 | AG117: =T117 -> 0 | AH117: =M117+N117+O117+P117+Q117+R117+S117 -> 0 | AI117: =G117 -> 0 | AJ117: =T117+U117 -> 0
A118: 7.11 | B118: Ðñ³å³ñ³Ï³ÛÇÝ ë³Ï³ñÏáõÃÛáõÝÝ»ñÇ ³ÝóÏ³óÙ³Ý Ï³ñ·Á ã³ñ³Ùïáñ»Ý Ë³Ëï»ÉÁ | D118: 196 | AD118: =SUM(T118:W118) -> 0 | AE118: =G118 -> 0 | AF118: =E118+F118 -> 0 | AG118: =T118 -> 0 | AH118: =M118+N118+O118+P118+Q118+R118+S118 -> 0 | AI118: =G118 -> 0 | AJ118: =T118+U118 -> 0
...

Sheet Kentron
A1: Ð²ÞìºîìàôÂÚàôÜ
A2: ²Üâ²ö²Ð²ê ¸²î²ä²ðîÚ²ÈÜºðÆ ìºð²´ºðÚ²È | Y2: 2016Ã.
A3: ìÇ×³Ï³·ñ³Ï³Ý ïáÕÇ Ñ³Ù³ñÁ | B3: Ð²Üò²¶àðÌàôÂÚàôÜÜºðÆ îºê²ÎÜºðÀ | D3: ÐÐ øñ»³Ï³Ý ûñ»Ýë·ñùÇ Ñá¹í³ÍÁ | E3: Ð³Ýó³·áñÍáõÃÛáõÝÁ Ï³ï³ñ»É »Ý | H3: Ýñ³ÝóÇó | M3: ¸³ï³å³ñïÛ³ÉÝ»ñÇ ÝÏ³ïÙ³Ùµ Ýß³Ý³Ïí³Í ÑÇÙÝ³Ï³Ý å³ïÇÅÝ»ñ | V3: Ýß³Ý³Ïí³Í å³ïÇÅÁ å³ÛÙ³Ý³Ï³Ýáñ»Ý ãÇ ÏÇñ³éí»É | W3: ÏÇñ³éí»É ¿ Ñ³Ù³Ý»ñÙ³Ý ³Ïï | X3: ÎÇñ³éí»É »Ý ¹³ëïÇ³ñ³Ïã³Ï³Ý µÝáõÛÃÇ Ñ³ñÏ³¹ñ³ÝùÇ ÙÇçáó | Y3: ²ÝÓ³Ýó ÃÇíÁ, áñáÝù ÙÇÝã¨ í»ñçÇÝ Ñ³Ýó³·áñÍáõÃÛáõÝÁ Ï³ï³ñ»ÉÁ
E4: 14-16 ï³ñ»Ï³ÝáõÙ | F4: 16-18 ï³ñ»Ï³ÝáõÙ | G4: ÀÝ¹³Ù»ÝÁ | H4: ³ÕçÇÏÝ»ñ | I4: ã»Ý ³ßË³ï»É, ã»Ý ëáíáñ»É | J4: ³ÝÓÇÝù, áñáÝù Ñ³Ýó³·áñÍáõÃÛáõÝÁ Ï³ï³ñ»É »Ý | M4: ² ½ ³ ï ³ ½ ñ Ï áõ Ù | U4: ³ÛÉ å³ïÇÅÝ»ñ | Y4: ·ïÝí»É »Ý áëïÇÏ³ÝáõÃÛ³Ý Ù³ñÙÇÝÝ»ñáõÙ Ñ³ßí³éÙ³Ý Ù»ç | Z4: Ï³ï³ñ»É »Ý Ñ³Ýó³·áñÍáõÃÛáõÝ ¨ »Õ»É »Ý
Z5: ³½³ïí³Í ùñ»³Ï³Ý å³ï³ëË³Ý³ïíáõÃÛáõÝÇó | AA5: ¹³ï³å³ñïí³Í | AB5: ²Û¹ ÃíáõÙ
B6: êîàô¶Æâ Ð²ì²ê²ðàôØÜºð 3=1+2, 16=9+10+11+12+13+14+15, 3=16+17+18+19 | J6: ³ÉÏ., ÃÙñ³ÙÇç. Ï³Ù ÃÝñ»óÝáÕ ³ÛÉ ÝÛáõÃ»ñÇ ³½¹»óáõÃÛ³Ý ï³Ï | K6: ØÇ ËáõÙµ ³ÝÓ³Ýó Ï³½ÙáõÙ | L6: ³Û¹ ÃíáõÙª Ù»Í³Ñ³ë³ÏÝ»ñÇ Ù³ëÝ³ÏóáõÃÛ³Ùµ | M6: 1 ï³ñÇ Ý»ñ³éÛ³É | N6: 1 ï³ñáõó ³í»É, ÙÇÝã¨ 2 ï³ñÇ Ý»ñ³éÛ³É | O6: 2 ï³ñáõó ³í»É, ÙÇÝã¨ 3 ï³ñÇ Ý»ñ³éÛ³É | P6: 3 ï³ñáõó ³í»É, ÙÇÝã¨ 5 ï³ñÇ Ý»ñ³éÛ³É | Q6: 5 ï³ñáõó ³í»É, ÙÇÝã¨ 8 ï³ñÇ Ý»ñ³éÛ³É | R6: 8 ï³ñáõó ³í»É, ÙÇÝã¨ 10 ï³ñÇ Ý»ñ³éÛ³É | S6: 10 ï³ñáõó ³í»É, ÙÇÝã¨ 12ï³ñÇ Ý»ñ³éÛ³É | T6: ÁÝ¹³Ù»ÝÁ | AB6: ¹³ï³í×éÇ Ï³ï³ñÙ³Ý Ñ»ï³Ó·áõÙáí | AC6: å³ÛÙ³Ý³Ï³Ý ¹³ï³å³ñïáõÃÛáõÝ
E7: 1 | F7: 2 | G7: 3 | H7: 4 | I7: 5 | J7: 6 | K7: 7 | L7: 8 | M7: 9 | N7: 10 | O7: 11 | P7: 12 | Q7: 13 | R7: 14 | S7: 15 | T7: 16 | U7: 17 | V7: 18 | W7: 19 | X7: 20 | Y7: 21 | Z7: 22 | AA7: 23 | AB7: 24 | AC7: 25 | AE7: 3=1+2 | AG7: 16=9+10+11+12+13+14+15 | AI7: 3=16+17
A8: 1. | B8: ÀÝ¹³Ù»ÝÁ ÏÛ³ÝùÇ ¨ ³éáÕçáõÃÛ³Ý ¹»Ù áõÕÕí³Í Ñ³Ýó³·áñÍáõÃÛáõÝÝ»ñÁ | E8: =SUM(E9:E35) -> 0 | F8: =SUM(F9:F35) -> 2 | G8: =SUM(G9:G35) -> 2 | H8: =SUM(H9:H35) -> 0 | I8: =SUM(I9:I35) -> 2 | J8: =SUM(J9:J35) -> 0 | K8: =SUM(K9:K35) -> 0 | L8: =SUM(L9:L35) -> 1 | ... AC8: =SUM(AC9:AC35) -> 0 | AD8: =SUM(T8:W8) -> 3 | AE8: =G8 -> 2 | AF8: =E8+F8 -> 2 | AG8: =T8 -> 1 | AH8: =M8+N8+O8+P8+Q8+R8+S8 -> 1 | AI8: =G8 -> 2 | AJ8: =T8+U8 -> 2
A9: 1.1 | B9: êå³ÝáõÃÛáõÝÁ | D9: 104 | AD9: =SUM(T9:W9) -> 0 | AE9: =G9 -> 0 | AF9: =E9+F9 -> 0 | AG9: =T9 -> 0 | AH9: =M9+N9+O9+P9+Q9+R9+S9 -> 0 | AI9: =G9 -> 0 | AJ9: =T9+U9 -> 0
A10: 1.2 | B10: Ðá·»Ï³Ý ËÇëï Ñáõ½ÙáõÝùÇ íÇ×³ÏáõÙ Ï³ï³ñí³Í ëå³ÝáõÃÛáõÝÁ | D10: 105 | AD10: =SUM(T10:W10) -> 0 | AE10: =G10 -> 0 | AF10: =E10+F10 -> 0 | AG10: =T10 -> 0 | AH10: =M10+N10+O10+P10+Q10+R10+S10 -> 0 | AI10: =G10 -> 0 | AJ10: =T10+U10 -> 0
A11: 1.3 | B11: Øáñ ÏáÕÙÇó Ýáñ³ÍÇÝ »ñ»Ë³ÛÇ ëå³ÝáõÃÛáõÝÁ | D11: 106 | AD11: =SUM(T11:W11) -> 0 | AE11: =G11 -> 0 | AF11: =E11+F11 -> 0 | AG11: =T11 -> 0 | AH11: =M11+N11+O11+P11+Q11+R11+S11 -> 0 | AI11: =G11 -> 0 | AJ11: =T11+U11 -> 0
A12: 1.4 | B12: Ð³Ýó³Ýù Ï³ï³ñ³Í ³ÝÓÇÝ µéÝ»Éáõ Ñ³Ù³ñ ³ÝÑñ³Å»ßï ÙÇçáóÝ»ñÇ ë³ÑÙ³Ý³½³ÝóÙ³Ùµ ëå³ÝáõÃÛáõÝÁ | D12: 107 | AD12: =SUM(T12:W12) -> 0 | AE12: =G12 -> 0 | AF12: =E12+F12 -> 0 | AG12: =T12 -> 0 | AH12: =M12+N12+O12+P12+Q12+R12+S12 -> 0 | AI12: =G12 -> 0 | AJ12: =T12+U12 -> 0
A13: 1.5 | B13: ²ÝÑñ³Å»ßï å³ßïå³ÝáõÃÛ³Ý ë³ÑÙ³Ý³½³ÝóÙ³Ùµ ëå³ÝáõÃÛáõÝÁ | D13: 108 | AD13: =SUM(T13:W13) -> 0 | AE13: =G13 -> 0 | AF13: =E13+F13 -> 0 | AG13: =T13 -> 0 | AH13: =M13+N13+O13+P13+Q13+R13+S13 -> 0 | AI13: =G13 -> 0 | AJ13: =T13+U13 -> 0
A14: 1.6 | B14: ²Ý½·áõßáõÃÛ³Ùµ Ù³Ñ å³ï×³é»ÉÁ | D14: 109 | AD14: =SUM(T14:W14) -> 0 | AE14: =G14 -> 0 | AF14: =E14+F14 -> 0 | AG14: =T14 -> 0 | AH14: =M14+N14+O14+P14+Q14+R14+S14 -> 0 | AI14: =G14 -> 0 | AJ14: =T14+U14 -> 0
A15: 1.7 | B15: ÆÝùÝ³ëå³ÝáõÃÛ³Ý Ñ³ëóÝ»ÉÁ | D15: 110 | AD15: =SUM(T15:W15) -> 0 | AE15: =G15 -> 0 | AF15: =E15+F15 -> 0 | AG15: =T15 -> 0 | AH15: =M15+N15+O15+P15+Q15+R15+S15 -> 0 | AI15: =G15 -> 0 | AJ15: =T15+U15 -> 0
A16: 1.8 | B16: ÆÝùÝ³ëå³ÝáõÃÛ³Ý Ñ³Ï»ÉÁ | D16: 111 | AD16: =SUM(T16:W16) -> 0 | AE16: =G16 -> 0 | AF16: =E16+F16 -> 0 | AG16: =T16 -> 0 | AH16: =M16+N16+O16+P16+Q16+R16+S16 -> 0 | AI16: =G16 -> 0 | AJ16: =T16+U16 -> 0
A17: 1.9 | B17: ¸Çï³íáñáõÃÛ³Ùµ ³éáÕçáõÃÛ³ÝÁ Í³Ýñ íÝ³ë å³ï×³é»ÉÁ | D17: 112 | F17: 2 | G17: 2 | I17: 2 | L17: 1 | N17: 1 | T17: 1 | U17: 1 | V17: 1 | AD17: =SUM(T17:W17) -> 3 | AE17: =G17 -> 2 | AF17: =E17+F17 -> 2 | AG17: =T17 -> 1 | AH17: =M17+N17+O17+P17+Q17+R17+S17 -> 1 | AI17: =G17 -> 2 | AJ17: =T17+U17 -> 2
A18: 1.10 | B18: ¸Çï³íáñáõÃÛ³Ùµ ³éáÕçáõÃÛ³ÝÁ ÙÇçÇÝ Í³ÝñáõÃÛ³Ý íÝ³ë å³ï×³é»ÉÁ | D18: 113 | AD18: =SUM(T18:W18) -> 0 | AE18: =G18 -> 0 | AF18: =E18+F18 -> 0 | AG18: =T18 -> 0 | AH18: =M18+N18+O18+P18+Q18+R18+S18 -> 0 | AI18: =G18 -> 0 | AJ18: =T18+U18 -> 0
A19: 1.11 | B19: Ðá·»Ï³Ý ËÇëï Ñáõ½ÙáõÝùÇ íÇ×³ÏáõÙ ³éáÕçáõÃÛ³ÝÁ Í³Ýñ Ï³Ù ÙÇçÇÝ Í³ÝñáõÃÛ³Ý íÝ³ë å³ï×³é»ÉÁ | D19: 114 | AD19: =SUM(T19:W19) -> 0 | AE19: =G19 -> 0 | AF19: =E19+F19 -> 0 | AG19: =T19 -> 0 | AH19: =M19+N19+O19+P19+Q19+R19+S19 -> 0 | AI19: =G19 -> 0 | AJ19: =T19+U19 -> 0
A20: 1.12 | B20: Ð³Ýó³Ýù Ï³ï³ñ³Í ³ÝÓÇÝ µéÝ»Éáõ Ñ³Ù³ñ ³ÝÑñ³Å»ßï ÙÇçáóÝ»ñÇ ë³ÑÙ³Ý½³ÝóÙ³Ùµ ³éáÕçáõÃÛ³ÝÁ Í³Ýñ Ï³Ù ÙÇçÇÝ Í³ÝñáõÃÛ³Ý íÝ³ë å³ï×³é»ÉÁ | D20: 115 | AD20: =SUM(T20:W20) -> 0 | AE20: =G20 -> 0 | AF20: =E20+F20 -> 0 | AG20: =T20 -> 0 | AH20: =M20+N20+O20+P20+Q20+R20+S20 -> 0 | AI20: =G20 -> 0 | AJ20: =T20+U20 -> 0
A21: 1.13 | B21: ²éáÕçáõÃÛ³ÝÁ Í³Ýñ Ï³Ù ÙÇçÇÝ Í³ÝñáõÃÛ³Ý íÝ³ë å³ï×³é»ÉÁ ³ÝÑñ³Å»ßï å³ßïå³ÝáõÃÛ³Ý ë³ÑÙ³Ý³Ý³½³ÝóÙ³Ùµ | D21: 116 | AD21: =SUM(T21:W21) -> 0 | AE21: =G21 -> 0 | AF21: =E21+F21 -> 0 | AG21: =T21 -> 0 | AH21: =M21+N21+O21+P21+Q21+R21+S21 -> 0 | AI21: =G21 -> 0 | AJ21: =T21+U21 -> 0
A22: 1.14 | B22: ¸Çï³íáñáõÃÛ³Ùµ ³éáÕçáõÃÛ³ÝÁ Ã»Ã¨ íÝ³ë å³ï×³é»ÉÁ | D22: 117 | AD22: =SUM(T22:W22) -> 0 | AE22: =G22 -> 0 | AF22: =E22+F22 -> 0 | AG22: =T22 -> 0 | AH22: =M22+N22+O22+P22+Q22+R22+S22 -> 0 | AI22: =G22 -> 0 | AJ22: =T22+U22 -> 0
A23: 1.15 | B23: Ì»ÍÁ | D23: 118 | AD23: =SUM(T23:W23) -> 0 | AE23: =G23 -> 0 | AF23: =E23+F23 -> 0 | AG23: =T23 -> 0 | AH23: =M23+N23+O23+P23+Q23+R23+S23 -> 0 | AI23: =G23 -> 0 | AJ23: =T23+U23 -> 0
A24: 1.16 | B24: Êáßï³Ý·áõÙÁ | D24: 119 | AD24: =SUM(T24:W24) -> 0 | AE24: =G24 -> 0 | AF24: =E24+F24 -> 0 | AG24: =T24 -> 0 | AH24: =M24+N24+O24+P24+Q24+R24+S24 -> 0 | AI24: =G24 -> 0 | AJ24: =T24+U24 -> 0
A25: 1.17 | B25: ²Ý½·áõßáõÃÛ³Ùµ ³éáÕçáõÃÛ³ÝÁ Í³Ýñ íÝ³ë å³ï×³é»ÉÁ | D25: 120 | AD25: =SUM(T25:W25) -> 0 | AE25: =G25 -> 0 | AF25: =E25+F25 -> 0 | AG25: =T25 -> 0 | AH25: =M25+N25+O25+P25+Q25+R25+S25 -> 0 | AI25: =G25 -> 0 | AJ25: =T25+U25 -> 0
A26: 1.18 | B26: ²Ý½·áõßáõÃÛ³Ùµ ³éáÕçáõÃÛ³ÝÁ ÙÇçÇÝ Í³ÝñáõÃÛ³Ý íÝ³ë å³ï×³é»ÉÁ | D26: 121 | AD26: =SUM(T26:W26) -> 0 | AE26: =G26 -> 0 | AF26: =E26+F26 -> 0 | AG26: =T26 -> 0 | AH26: =M26+N26+O26+P26+Q26+R26+S26 -> 0 | AI26: =G26 -> 0 | AJ26: =T26+U26 -> 0
A27: 1.19 | B27: ²åûñÇÝÇ ³µáñï Ï³ï³ñ»ÉÁ | D27: 122 | AD27: =SUM(T27:W27) -> 0 | AE27: =G27 -> 0 | AF27: =E27+F27 -> 0 | AG27: =T27 -> 0 | AH27: =M27+N27+O27+P27+Q27+R27+S27 -> 0 | AI27: =G27 -> 0 | AJ27: =T27+U27 -> 0
A28: 1.20 | B28: Ø³ñ¹áõ ÇÙáõÝ³ÛÇÝ ³Ýµ³í³ñ³ñáõÃÛ³Ý íÇñáõëÇ Ñ³ñáõóÇãáí í³ñ³Ï»ÉÁ | D28: 123 | AD28: =SUM(T28:W28) -> 0 | AE28: =G28 -> 0 | AF28: =E28+F28 -> 0 | AG28: =T28 -> 0 | AH28: =M28+N28+O28+P28+Q28+R28+S28 -> 0 | AI28: =G28 -> 0 | AJ28: =T28+U28 -> 0
A29: 1.21 | B29: ì»Ý»ñ³Ï³Ý ÑÇí³Ý¹áõÃÛ³Ùµ Ï³Ù ³ÛÉ ë»é³í³ñ³ÏÝ»ñáí í³ñ³Ï»ÉÁ | D29: 124 | AD29: =SUM(T29:W29) -> 0 | AE29: =G29 -> 0 | AF29: =E29+F29 -> 0 | AG29: =T29 -> 0 | AH29: =M29+N29+O29+P29+Q29+R29+S29 -> 0 | AI29: =G29 -> 0 | AJ29: =T29+U29 -> 0
... A34: 1.27 | B34: ´ÅßÏ³Ï³Ý û·ÝáõÃÛáõÝ ¨ ëå³ë³ñÏáõÙ Çñ³Ï³Ý³óÝáÕÝ»ñÇ ÏáÕÙÇó Ù³ëÝ³·Çï³Ï³Ý å³ñï³Ï³ÝáõÃÛáõÝÝ»ñÁ ãÏ³ï³ñ»ÉÁ Ï³Ù áã å³ïß³× Ï³ï³ñ»ÉÁ | D34: 130 | AD34: =SUM(T34:W34) -> 0 | AE34: =G34 -> 0 | AF34: =E34+F34 -> 0 | AG34: =T34 -> 0 | AH34: =M34+N34+O34+P34+Q34+R34+S34 -> 0 | AI34: =G34 -> 0 | AJ34: =T34+U34 -> 0
A35: 1.28 | B35: ²ÛÉ Ñ³Ýó³·áñÍáõÃÛáõÝÝ»ñ | AD35: =SUM(T35:W35) -> 0 | AE35: =G35 -> 0 | AF35: =E35+F35 -> 0 | AG35: =T35 -> 0 | AH35: =M35+N35+O35+P35+Q35+R35+S35 -> 0 | AI35: =G35 -> 0 | AJ35: =T35+U35 -> 0
A36: 2. | B36: ÀÝ¹³Ù»ÝÁ ³ÝÓÇ ³½³ïáõÃÛ³Ý, å³ïíÇ ¨ ³ñÅ³Ý³å³ïíáõÃÛ³Ý ¹»Ù áõÕÕí³Í Ñ³Ýó³·áñÍáõÃÛáõÝÝ»ñÁ | E36: =SUM(E37:E43) -> 0 | F36: =SUM(F37:F43) -> 0 | G36: =SUM(G37:G43) -> 0 | H36: =SUM(H37:H43) -> 0 | I36: =SUM(I37:I43) -> 0 | J36: =SUM(J37:J43) -> 0 | K36: =SUM(K37:K43) -> 0 | L36: =SUM(L37:L43) -> 0 | ... AC36: =SUM(AC37:AC43) -> 0 | AD36: =SUM(T36:W36) -> 0 | AE36: =G36 -> 0 | AF36: =E36+F36 -> 0 | AG36: =T36 -> 0 | AH36: =M36+N36+O36+P36+Q36+R36+S36 -> 0 | AI36: =G36 -> 0 | AJ36: =T36+U36 -> 0
A37: 2.1 | B37: Ø³ñ¹áõÝ ³é¨³Ý·»ÉÁ | D37: 131 | AD37: =SUM(T37:W37) -> 0 | AE37: =G37 -> 0 | AF37: =E37+F37 -> 0 | AG37: =T37 -> 0 | AH37: =M37+N37+O37+P37+Q37+R37+S37 -> 0 | AI37: =G37 -> 0 | AJ37: =T37+U37 -> 0
A38: 2.2 | B38: Þ³Ñ³·áñÍÙ³Ý Ýå³ï³Ïáí Ù³ñ¹áõÝ Ñ³í³ù³·ñ»ÉÁ, ÷áË³¹ñ»ÉÁ, Ñ³ÝÓÝ»ÉÁ, Ã³ùóÝ»ÉÁ Ï³Ù ëï³Ý³ÉÁ | D38: 132 | AD38: =SUM(T38:W38) -> 0 | AE38: =G38 -> 0 | AF38: =E38+F38 -> 0 | AG38: =T38 -> 0 | AH38: =M38+N38+O38+P38+Q38+R38+S38 -> 0 | AI38: =G38 -> 0 | AJ38: =T38+U38 -> 0
A39: 2.2.1 | B39: Ø³ñ¹áõÝ åáéÝÇÏáõÃÛ³Ý Ï³Ù ë»é³Ï³Ý ß³Ñ³·áñÍÙ³Ý ³ÛÉ Ó¨»ñÇ Ù»ç, Ñ³ñÏ³¹Çñ ³ßË³ï³ÝùÇ Ï³Ù Í³é³ÛáõÃÛáõÝÝ»ñÇ Ý»ñ·ñ³í»ÉÁ Ï³Ù ëïñÏáõÃÛ³Ý Ï³Ù ëïñÏáõÃÛ³ÝÁ ÝÙ³ÝíáÕ íÇ×³ÏÇ Ù»ç ¹Ý»ÉÁ Ï³Ù å³Ñ»ÉÁ | D39: 132.1 | AD39: =SUM(T39:W39) -> 0 | AE39: =G39 -> 0 | AF39: =E39+F39 -> 0 | AG39: =T39 -> 0 | AH39: =M39+N39+O39+P39+Q39+R39+S39 -> 0 | AI39: =G39 -> 0 | AJ39: =T39+U39 -> 0
A40: 2.3 | B40: ²½³ïáõÃÛáõÝÇó ³åûñÇÝÇ ½ñÏ»ÉÁ | D40: 133 | AD40: =SUM(T40:W40) -> 0 | AE40: =G40 -> 0 | AF40: =E40+F40 -> 0 | AG40: =T40 -> 0 | AH40: =M40+N40+O40+P40+Q40+R40+S40 -> 0 | AI40: =G40 -> 0 | AJ40: =T40+U40 -> 0
A41: 2.4 | B41: Ðá·»µáõÅ³Ï³Ý ÑÇí³Ý¹³ÝáóáõÙ ³åûñÇÝÇ ï»Õ³íáñ»ÉÁ Ï³Ù å³Ñ»ÉÁ | D41: 134 | AD41: =SUM(T41:W41) -> 0 | AE41: =G41 -> 0 | AF41: =E41+F41 -> 0 | AG41: =T41 -> 0 | AH41: =M41+N41+O41+P41+Q41+R41+S41 -> 0 | AI41: =G41 -> 0 | AJ41: =T41+U41 -> 0
A42: 2.7 | B42: êå³ÝáõÃÛ³Ý, ³éáÕçáõÃÛ³ÝÁ Í³Ýñ íÝ³ë å³ï×³é»Éáõ Ï³Ù ·áõÛù áãÝã³óÝ»Éáõ ëå³éÝ³ÉÇùÁ | D42: 137 | AD42: =SUM(T42:W42) -> 0 | AE42: =G42 -> 0 | AF42: =E42+F42 -> 0 | AG42: =T42 -> 0 | AH42: =M42+N42+O42+P42+Q42+R42+S42 -> 0 | AI42: =G42 -> 0 | AJ42: =T42+U42 -> 0
A43: 2.8 | B43: ²ÛÉ Ñ³Ýó³·áñÍáõÃÛáõÝÝ»ñ | AD43: =SUM(T43:W43) -> 0 | AE43: =G43 -> 0 | AF43: =E43+F43 -> 0 | AG43: =T43 -> 0 | AH43: =M43+N43+O43+P43+Q43+R43+S43 -> 0 | AI43: =G43 -> 0 | AJ43: =T43+U43 -> 0
A44: 3. | B44: ÀÝ¹³Ù»ÝÁ ë»é³Ï³Ý ³ÝÓ»éÝÙË»ÉÇáõÃÛ³Ý ¨ ë»é³Ï³Ý ³½³ïáõÃÛ³Ý ¹»Ù áõÕÕí³Í Ñ³Ýó³·áñÍáõÃÛáõÝÝ»ñÁ | E44: =SUM(E45:E50) -> 0 | F44: =SUM(F45:F50) -> 0 | G44: =SUM(G45:G50) -> 0 | H44: =SUM(H45:H50) -> 0 | I44: =SUM(I45:I50) -> 0 | J44: =SUM(J45:J50) -> 0 | K44: =SUM(K45:K50) -> 0 | L44: =SUM(L45:L50) -> 0 | ... AC44: =SUM(AC45:AC50) -> 0 | AD44: =SUM(T44:W44) -> 0 | AE44: =G44 -> 0 | AF44: =E44+F44 -> 0 | AG44: =T44 -> 0 | AH44: =M44+N44+O44+P44+Q44+R44+S44 -> 0 | AI44: =G44 -> 0 | AJ44: =T44+U44 -> 0
A45: 3.1 | B45: ´éÝ³µ³ñáõÃÛáõÝÁ | D45: 138 | AD45: =SUM(T45:W45) -> 0 | AE45: =G45 -> 0 | AF45: =E45+F45 -> 0 | AG45: =T45 -> 0 | AH45: =M45+N45+O45+P45+Q45+R45+S45 -> 0 | AI45: =G45 -> 0 | AJ45: =T45+U45 -> 0
A46: 3.2 | B46: ê»ùëáõ³É µÝáõÛÃÇ µéÝÇ ·áñÍáÕáõÃÛáõÝÝ»ñÁ | D46: 139 | AD46: =SUM(T46:W46) -> 0 | AE46: =G46 -> 0 | AF46: =E46+F46 -> 0 | AG46: =T46 -> 0 | AH46: =M46+N46+O46+P46+Q46+R46+S46 -> 0 | AI46: =G46 -> 0 | AJ46: =T46+U46 -> 0
A47: 3.3 | B47: ê»ùëáõ³É µÝáõÛÃÇ ·áñÍáÕáõÃÛáõÝÝ»ñÇÝ Ñ³ñÏ³¹ñ»ÉÁ | D47: 140 | AD47: =SUM(T47:W47) -> 0 | AE47: =G47 -> 0 | AF47: =E47+F47 -> 0 | AG47: =T47 -> 0 | AH47: =M47+N47+O47+P47+Q47+R47+S47 -> 0 | AI47: =G47 -> 0 | AJ47: =T47+U47 -> 0
A48: 3.4 | B48: ê»ùëáõ³É µÝáõÛÃÇ ·áñÍáÕáõÃÛáõÝÝ»ñ Ï³ï³ñ»ÉÁ ï³ëÝí»ó ï³ñÇÝ ãÉñ³ó³Í ³ÝÓÇ Ñ»ï | D48: 141 | AD48: =SUM(T48:W48) -> 0 | AE48: =G48 -> 0 | AF48: =E48+F48 -> 0 | AG48: =T48 -> 0 | AH48: =M48+N48+O48+P48+Q48+R48+S48 -> 0 | AI48: =G48 -> 0 | AJ48: =T48+U48 -> 0
A49: 3.5 | B49: ²Ý³é³Ï³µ³ñá ·áñÍáÕáõÃÛáõÝÝ»ñÁ | D49: 142 | AD49: =SUM(T49:W49) -> 0 | AE49: =G49 -> 0 | AF49: =E49+F49 -> 0 | AG49: =T49 -> 0 | AH49: =M49+N49+O49+P49+Q49+R49+S49 -> 0 | AI49: =G49 -> 0 | AJ49: =T49+U49 -> 0
A50: 3.6 | B50: ²ÛÉ Ñ³Ýó³·áñÍáõÃÛáõÝÝ»ñ | AD50: =SUM(T50:W50) -> 0 | AE50: =G50 -> 0 | AF50: =E50+F50 -> 0 | AG50: =T50 -> 0 | AH50: =M50+N50+O50+P50+Q50+R50+S50 -> 0 | AI50: =G50 -> 0 | AJ50: =T50+U50 -> 0
A51: 4. | B51: ÀÝ¹³Ù»ÝÁ Ù³ñ¹áõ ¨ ù³Õ³ù³óáõ ë³ÑÙ³Ý³¹ñ³Ï³Ý Çñ³íáõÝùÝ»ñÇ ¨ ³½³ïáõÃÛáõÝÝ»ñÇ ¹»Ù áõÕÕí³Í Ñ³Ýó³·áñÍáõÃÛáõÝÝ»ñÁ | E51: =SUM(E52:E79) -> 0 | F51: =SUM(F52:F79) -> 0 | G51: =SUM(G52:G79) -> 0 | H51: =SUM(H52:H79) -> 0 | I51: =SUM(I52:I79) -> 0 | J51: =SUM(J52:J79) -> 0 | K51: =SUM(K52:K79) -> 0 | L51: =SUM(L52:L79) -> 0 | ... AC51: =SUM(AC52:AC79) -> 0 | AD51: =SUM(T51:W51) -> 0 | AE51: =G51 -> 0 | AF51: =E51+F51 -> 0 | AG51: =T51 -> 0 | AH51: =M51+N51+O51+P51+Q51+R51+S51 -> 0 | AI51: =G51 -> 0 | AJ51: =T51+U51 -> 0
A52: 4.1 | B52: ø³Õ³ù³óÇÝ»ñÇ Çñ³í³Ñ³í³ë³ñáõÃÛáõÝÁ Ë³Ëï»ÉÁ | D52: 143 | AD52: =SUM(T52:W52) -> 0 | AE52: =G52 -> 0 | AF52: =E52+F52 -> 0 | AG52: =T52 -> 0 | AH52: =M52+N52+O52+P52+Q52+R52+S52 -> 0 | AI52: =G52 -> 0 | AJ52: =T52+U52 -> 0
A53: 4.2 | B53: ²ÝÓÝ³Ï³Ý Ï³Ù ÁÝï³Ý»Ï³Ý ÏÛ³ÝùÇ Ù³ëÇÝ ï»Õ»ÏáõÃÛáõÝÝ»ñ ³åûñÇÝÇ Ñ³í³ù»ÉÁ, å³Ñ»ÉÁ, û·ï³·áñÍ»ÉÁ Ï³Ù ï³ñ³Í»ÉÁ | D53: 144 | AD53: =SUM(T53:W53) -> 0 | AE53: =G53 -> 0 | AF53: =E53+F53 -> 0 | AG53: =T53 -> 0 | AH53: =M53+N53+O53+P53+Q53+R53+S53 -> 0 | AI53: =G53 -> 0 | AJ53: =T53+U53 -> 0
A54: 4.3 | B54: ´ÅßÏ³Ï³Ý ·³ÕïÝÇùÁ Ññ³å³ñ³Ï»ÉÁ | D54: 145 | AD54: =SUM(T54:W54) -> 0 | AE54: =G54 -> 0 | AF54: =E54+F54 -> 0 | AG54: =T54 -> 0 | AH54: =M54+N54+O54+P54+Q54+R54+S54 -> 0 | AI54: =G54 -> 0 | AJ54: =T54+U54 -> 0
A55: 4.4 | B55: Ü³Ù³Ï³·ñáõÃÛ³Ý, Ñ»é³Ëáë³ÛÇÝ Ëáë³ÏóáõÃÛáõÝÝ»ñÇ, ÷áëï³ÛÇÝ, Ñ»é³·ñ³Ï³Ý Ï³Ù ³ÛÉ Ñ³Õáñ¹áõÙÝ»ñÇ ·³ÕïÝÇáõÃÛáõÝÁ Ë³Ëï»ÉÁ | D55: 146 | AD55: =SUM(T55:W55) -> 0 | AE55: =G55 -> 0 | AF55: =E55+F55 -> 0 | AG55: =T55 -> 0 | AH55: =M55+N55+O55+P55+Q55+R55+S55 -> 0 | AI55: =G55 -> 0 | AJ55: =T55+U55 -> 0
A56: 4.5 | B56: ´Ý³Ï³ñ³ÝÇ ³ÝÓ»éÝÙË»ÉÇáõÃÛáõÝÁ Ë³Ëï»ÉÁ | D56: 147 | AD56: =SUM(T56:W56) -> 0 | AE56: =G56 -> 0 | AF56: =E56+F56 -> 0 | AG56: =T56 -> 0 | AH56: =M56+N56+O56+P56+Q56+R56+S56 -> 0 | AI56: =G56 -> 0 | AJ56: =T56+U56 -> 0
A57: 4.6 | B57: ²ÝÓÇÝ ï»Õ»ÏáõÃÛáõÝ Ý»ñÏ³Û³óÝ»Éáõó Ññ³Å³ñí»ÉÁ | D57: 148 | AD57: =SUM(T57:W57) -> 0 | AE57: =G57 -> 0 | AF57: =E57+F57 -> 0 | AG57: =T57 -> 0 | AH57: =M57+N57+O57+P57+Q57+R57+S57 -> 0 | AI57: =G57 -> 0 | AJ57: =T57+U57 -> 0
A58: 4.7 | B58: ÀÝïñ³Ï³Ý Çñ³íáõÝùÇ Çñ³Ï³Ý³óÙ³ÝÁ, ÁÝïñ³Ï³Ý Ñ³ÝÓÝ³ÅáÕáíÝ»ñÇ ³ßË³ï³ÝùÝ»ñÇÝ Ï³Ù ÁÝïñáõÃÛ³ÝÁ Ù³ëÝ³ÏóáÕ ³ÝÓ³Ýó ÉÇ³½áñáõÃÛáõÝÝ»ñÇ Çñ³Ï³Ý³óÙ³ÝÁ ËáãÁÝ¹áï»ÉÁ | D58: 149 | AD58: =SUM(T58:W58) -> 0 | AE58: =G58 -> 0 | AF58: =E58+F58 -> 0 | AG58: =T58 -> 0 | AH58: =M58+N58+O58+P58+Q58+R58+S58 -> 0 | AI58: =G58 -> 0 | AJ58: =T58+U58 -> 0
A59: 4.8 | B59: ÀÝïñáõÃÛáõÝÝ»ñÇ Ï³Ù ùí»³ñÏáõÃÛ³Ý ³ñ¹ÛáõÝùÝ»ñÁ Ï»ÕÍ»ÉÁ | D59: 150 | AD59: =SUM(T59:W59) -> 0 | AE59: =G59 -> 0 | AF59: =E59+F59 -> 0 | AG59: =T59 -> 0 | AH59: =M59+N59+O59+P59+Q59+R59+S59 -> 0 | AI59: =G59 -> 0 | AJ59: =T59+U59 -> 0
A60: 4.9 | B60: ÀÝïñáõÃÛáõÝÝ»ñÇ ³ÝóÏ³óÙ³Ý ÁÝÃ³óùáõÙ Ã»ÏÝ³ÍáõÇ, Ïáõë³ÏóáõÃÛ³Ý (Ïáõë³ÏóáõÃÛáõÝÝ»ñÇ ¹³ßÇÝùÇ) í»ñ³µ»ñÛ³É ½ñå³ñïã³Ï³Ý ï»Õ»ÏáõÃÛáõÝÝ»ñ ï³ñ³Í»ÉÁ | D60: 151 | AD60: =SUM(T60:W60) -> 0 | AE60: =G60 -> 0 | AF60: =E60+F60 -> 0 | AG60: =T60 -> 0 | AH60: =M60+N60+O60+P60+Q60+R60+S60 -> 0 | AI60: =G60 -> 0 | AJ60: =T60+U60 -> 0
A61: 4.10 | B61: ÀÝïñáÕÝ»ñÇ óáõó³ÏÝ»ñÁ Ï³½Ù»Éáõ Ï³ñ·Á Ë³Ëï»ÉÁ | D61: 152 | AD61: =SUM(T61:W61) -> 0 | AE61: =G61 -> 0 | AF61: =E61+F61 -> 0 | AG61: =T61 -> 0 | AH61: =M61+N61+O61+P61+Q61+R61+S61 -> 0 | AI61: =G61 -> 0 | AJ61: =T61+U61 -> 0
A62: 4.11 | B62: Ø»ÏÇó ³í»ÉÇ ³Ý·³Ù Ï³Ù ³ÛÉ ³ÝÓÇ ÷áË³ñ»Ý ùí»³ñÏ»ÉÁ | D62: 153 | AD62: =SUM(T62:W62) -> 0 | AE62: =G62 -> 0 | AF62: =E62+F62 -> 0 | AG62: =T62 -> 0 | AH62: =M62+N62+O62+P62+Q62+R62+S62 -> 0 | AI62: =G62 -> 0 | AJ62: =T62+U62 -> 0
A63: 4.12 | B63: øí»³ñÏáõÃÛ³Ý ·³ÕïÝÇáõÃÛáõÝÁ Ë³Ëï»ÉÁ | D63: 154 | AD63: =SUM(T63:W63) -> 0 | AE63: =G63 -> 0 | AF63: =E63+F63 -> 0 | AG63: =T63 -> 0 | AH63: =M63+N63+O63+P63+Q63+R63+S63 -> 0 | AI63: =G63 -> 0 | AJ63: =T63+U63 -> 0
... A78: 4.27 | B78: Èñ³·ñáÕÇ Ù³ëÝ³·Çï³Ï³Ý ûñÇÝ³Ï³Ý ·áñÍáÕáõÃÛ³ÝÁ ËáãÁÝ¹áï»ÉÁ | D78: 164 | AD78: =SUM(T78:W78) -> 0 | AE78: =G78 -> 0 | AF78: =E78+F78 -> 0 | AG78: =T78 -> 0 | AH78: =M78+N78+O78+P78+Q78+R78+S78 -> 0 | AI78: =G78 -> 0 | AJ78: =T78+U78 -> 0
A79: 4.28 | B79: ²ÛÉ Ñ³Ýó³·áñÍáõÃÛáõÝÝ»ñ | AD79: =SUM(T79:W79) -> 0 | AE79: =G79 -> 0 | AF79: =E79+F79 -> 0 | AG79: =T79 -> 0 | AH79: =M79+N79+O79+P79+Q79+R79+S79 -> 0 | AI79: =G79 -> 0 | AJ79: =T79+U79 -> 0
A80: 5. | B80: ÀÝ¹³Ù»ÝÁ ÁÝï³ÝÇùÇ ¨ »ñ»Ë³ÛÇ ß³Ñ»ñÇ ¹»Ù áõÕÕí³Í Ñ³Ýó³·áñÍáõÃÛáõÝÝ»ñÁ | E80: =SUM(E81:E92) -> 0 | F80: =SUM(F81:F92) -> 0 | G80: =SUM(G81:G92) -> 0 | H80: =SUM(H81:H92) -> 0 | I80: =SUM(I81:I92) -> 0 | J80: =SUM(J81:J92) -> 0 | K80: =SUM(K81:K92) -> 0 | L80: =SUM(L81:L92) -> 0 | ... AC80: =SUM(AC81:AC92) -> 0 | AD80: =SUM(T80:W80) -> 0 | AE80: =G80 -> 0 | AF80: =E80+F80 -> 0 | AG80: =T80 -> 0 | AH80: =M80+N80+O80+P80+Q80+R80+S80 -> 0 | AI80: =G80 -> 0 | AJ80: =T80+U80 -> 0
A81: 5.1 | B81: ²Ýã³÷³Ñ³ëÇÝ Ñ³Ýó³ÝùÇ Ï³ï³ñÙ³ÝÁ Ý»ñ·ñ³í»ÉÁ | D81: 165 | AD81: =SUM(T81:W81) -> 0 | AE81: =G81 -> 0 | AF81: =E81+F81 -> 0 | AG81: =T81 -> 0 | AH81: =M81+N81+O81+P81+Q81+R81+S81 -> 0 | AI81: =G81 -> 0 | AJ81: =T81+U81 -> 0
A82: 5.2 | B82: ºñ»Ë³ÛÇÝ Ñ³Ï³Ñ³ë³ñ³Ï³Ï³Ý ·áñÍáÕáõÃÛáõÝÝ»ñ Ï³ï³ñ»ÉáõÝ Ý»ñ·ñ³í»ÉÁ | D82: 166 | AD82: =SUM(T82:W82) -> 0 | AE82: =G82 -> 0 | AF82: =E82+F82 -> 0 | AG82: =T82 -> 0 | AH82: =M82+N82+O82+P82+Q82+R82+S82 -> 0 | AI82: =G82 -> 0 | AJ82: =T82+U82 -> 0
A83: 5.3 | B83: ÌÝáÕÝ»ñÇó »ñ»Ë³ÛÇÝ ³åûñÇÝÇ µ³Å³Ý»ÉÁ Ï³Ù »ñ»Ë³ÛÇÝ ÷áË»ÉÁ | D83: 167 | AD83: =SUM(T83:W83) -> 0 | AE83: =G83 -> 0 | AF83: =E83+F83 -> 0 | AG83: =T83 -> 0 | AH83: =M83+N83+O83+P83+Q83+R83+S83 -> 0 | AI83: =G83 -> 0 | AJ83: =T83+U83 -> 0
A84: 5.4 | B84: ºñ»Ë³ÛÇ ³éù áõ í³×³éùÁ | D84: 168 | AD84: =SUM(T84:W84) -> 0 | AE84: =G84 -> 0 | AF84: =E84+F84 -> 0 | AG84: =T84 -> 0 | AH84: =M84+N84+O84+P84+Q84+R84+S84 -> 0 | AI84: =G84 -> 0 | AJ84: =T84+U84 -> 0
A85: 5.5 | B85: àñ¹»·ñÙ³Ý ·³ÕïÝÇùÁ Ññ³å³ñ³Ï»ÉÁ Ï³Ù áñ¹»·ñÙ³Ý Ñ³Ù³Ó³ÛÝáõÃÛáõÝ ï³ÉáõÝ Ñ³Ï»ÉÁ Ï³Ù Ñ³ñÏ³¹ñ»ÉÁ | D85: 169 | AD85: =SUM(T85:W85) -> 0 | AE85: =G85 -> 0 | AF85: =E85+F85 -> 0 | AG85: =T85 -> 0 | AH85: =M85+N85+O85+P85+Q85+R85+S85 -> 0 | AI85: =G85 -> 0 | AJ85: =T85+U85 -> 0
A86: 5.6 | B86: ø³Õ³ù³óÇ³Ï³Ý Ï³óáõÃÛ³Ý ³Ïï»ñÇ ·ñ³ÝóÙ³Ý Ù³ñÙÇÝÝ»ñÇÝ ëáõï ï»Õ»ÏáõÃÛáõÝÝ»ñ Ñ³Õáñ¹»ÉÁ | D86: 169.1 | AD86: =SUM(T86:W86) -> 0 | AE86: =G86 -> 0 | AF86: =E86+F86 -> 0 | AG86: =T86 -> 0 | AH86: =M86+N86+O86+P86+Q86+R86+S86 -> 0 | AI86: =G86 -> 0 | AJ86: =T86+U86 -> 0
A87: 5.7 | B87: ºñ»Ë³ÛÇÝ ¹³ëïÇ³ñ³Ï»Éáõ å³ñï³Ï³ÝáõÃÛáõÝÁ ãÏ³ï³ñ»ÉÁ | D87: 170 | AD87: =SUM(T87:W87) -> 0 | AE87: =G87 -> 0 | AF87: =E87+F87 -> 0 | AG87: =T87 -> 0 | AH87: =M87+N87+O87+P87+Q87+R87+S87 -> 0 | AI87: =G87 -> 0 | AJ87: =T87+U87 -> 0
A88: 5.8 | B88: ºñ»Ë³ÛÇ ÏÛ³ÝùÇ ³Ýíï³Ý·áõÃÛ³Ý ³å³ÑáíÙ³Ý Ï³Ù ³éáÕçáõÃÛ³Ý å³Ñå³ÝÙ³Ý å³ñï³Ï³ÝáõÃÛáõÝÁ ãÏ³ï³ñ»ÉÁ Ï³Ù áã å³ïß³× Ï³ï³ñ»ÉÁ | D88: 171 | AD88: =SUM(T88:W88) -> 0 | AE88: =G88 -> 0 | AF88: =E88+F88 -> 0 | AG88: =T88 -> 0 | AH88: =M88+N88+O88+P88+Q88+R88+S88 -> 0 | AI88: =G88 -> 0 | AJ88: =T88+U88 -> 0
A89: 5.9 | B89: ÊÝ³Ù³Ï³ÉÇ Ï³Ù Ñá·³µ³ñÓáõÇ Çñ³íáõÝùÝ»ñÁ ã³ñ³ß³Ñ»ÉÁ | D89: 172 | AD89: =SUM(T89:W89) -> 0 | AE89: =G89 -> 0 | AF89: =E89+F89 -> 0 | AG89: =T89 -> 0 | AH89: =M89+N89+O89+P89+Q89+R89+S89 -> 0 | AI89: =G89 -> 0 | AJ89: =T89+U89 -> 0
A90: 5.10 | B90: ÌÝáÕÇ ÏáÕÙÇó »ñ»Ë³ÛÇÝ å³Ñ»Éáõó ã³ñ³Ùïáñ»Ý Ëáõë³÷»ÉÁ (áõÅÁ Ïáñóñ³Í) | D90: 173 | AD90: =SUM(T90:W90) -> 0 | AE90: =G90 -> 0 | AF90: =E90+F90 -> 0 | AG90: =T90 -> 0 | AH90: =M90+N90+O90+P90+Q90+R90+S90 -> 0 | AI90: =G90 -> 0 | AJ90: =T90+U90 -> 0
A91: 5.11 | B91: ¼³í³ÏÇ ÏáÕÙÇó ³Ý³ßË³ïáõÝ³Ï ÍÝáÕÇÝ å³Ñ»Éáõó ã³ñ³Ùïáñ»Ý Ëáõë³÷»ÉÁ | D91: 174 | AD91: =SUM(T91:W91) -> 0 | AE91: =G91 -> 0 | AF91: =E91+F91 -> 0 | AG91: =T91 -> 0 | AH91: =M91+N91+O91+P91+Q91+R91+S91 -> 0 | AI91: =G91 -> 0 | AJ91: =T91+U91 -> 0
A92: 5.12 | B92: ²ÛÉ Ñ³Ýó³·áñÍáõÃÛáõÝÝ»ñ | AD92: =SUM(T92:W92) -> 0 | AE92: =G92 -> 0 | AF92: =E92+F92 -> 0 | AG92: =T92 -> 0 | AH92: =M92+N92+O92+P92+Q92+R92+S92 -> 0 | AI92: =G92 -> 0 | AJ92: =T92+U92 -> 0
A93: 6. | B93: ÀÝ¹³Ù»ÝÁ ë»÷³Ï³ÝáõÃÛ³Ý ¹»Ù áõÕÕí³Í Ñ³Ýó³·áñÍáõÃÛáõÝÝ»ñÁ | E93: =SUM(E94:E106) -> 0 | F93: =SUM(F94:F106) -> 6 | G93: =SUM(G94:G106) -> 6 | H93: =SUM(H94:H106) -> 1 | I93: =SUM(I94:I106) -> 6 | J93: =SUM(J94:J106) -> 0 | K93: =SUM(K94:K106) -> 0 | L93: =SUM(L94:L106) -> 0 | ... AD93: =SUM(AD94:AD106) -> 6 | AE93: =G93 -> 6 | AF93: =E93+F93 -> 6 | AG93: =T93 -> 0 | AH93: =M93+N93+O93+P93+Q93+R93+S93 -> 0 | AI93: =G93 -> 6 | AJ93: =T93+U93 -> 6
A94: 6.1 | B94: ²í³½³ÏáõÃÛáõÝÁ | D94: 175 | AD94: =SUM(T94:W94) -> 0 | AE94: =G94 -> 0 | AF94: =E94+F94 -> 0 | AG94: =T94 -> 0 | AH94: =M94+N94+O94+P94+Q94+R94+S94 -> 0 | AI94: =G94 -> 0 | AJ94: =T94+U94 -> 0
A95: 6.2 | B95: ÎáÕáåáõïÁ | D95: 176 | F95: 4 | G95: 4 | H95: 1 | I95: 4 | U95: 4 | AD95: =SUM(T95:W95) -> 4 | AE95: =G95 -> 4 | AF95: =E95+F95 -> 4 | AG95: =T95 -> 0 | AH95: =M95+N95+O95+P95+Q95+R95+S95 -> 0 | AI95: =G95 -> 4 | AJ95: =T95+U95 -> 4
A96: 6.3 | B96: ¶áÕáõÃÛáõÝÁ | D96: 177 | AD96: =SUM(T96:W96) -> 0 | AE96: =G96 -> 0 | AF96: =E96+F96 -> 0 | AG96: =T96 -> 0 | AH96: =M96+N96+O96+P96+Q96+R96+S96 -> 0 | AI96: =G96 -> 0 | AJ96: =T96+U96 -> 0
A97: 6.4 | B97: Ê³ñ¹³ËáõÃÛáõÝÁ | D97: 178 | AD97: =SUM(T97:W97) -> 0 | AE97: =G97 -> 0 | AF97: =E97+F97 -> 0 | AG97: =T97 -> 0 | AH97: =M97+N97+O97+P97+Q97+R97+S97 -> 0 | AI97: =G97 -> 0 | AJ97: =T97+U97 -> 0
A98: 6.5 | B98: Úáõñ³óÝ»ÉÁ Ï³Ù í³ïÝ»ÉÁ | D98: 179 | AD98: =SUM(T98:W98) -> 0 | AE98: =G98 -> 0 | AF98: =E98+F98 -> 0 | AG98: =T98 -> 0 | AH98: =M98+N98+O98+P98+Q98+R98+S98 -> 0 | AI98: =G98 -> 0 | AJ98: =T98+U98 -> 0
A99: 6.6 | B99: ²é³ÝÓÝ³ÏÇ ³ñÅ»ù áõÝ»óáÕ ³é³ñÏ³Ý»ñ Ñ³÷ßï³Ï»ÉÁ | D99: 180 | AD99: =SUM(T99:W99) -> 0 | AE99: =G99 -> 0 | AF99: =E99+F99 -> 0 | AG99: =T99 -> 0 | AH99: =M99+N99+O99+P99+Q99+R99+S99 -> 0 | AI99: =G99 -> 0 | AJ99: =T99+U99 -> 0
A100: 6.7 | B100: Ð³÷ßï³ÏáõÃÛáõÝÁ, áñÁ Ï³ï³ñí»É ¿ Ñ³Ù³Ï³ñ·ã³ÛÇÝ ï»ËÝÇÏ³ÛÇ û·ï³·áñÍÙ³Ùµ | D100: 181 | AD100: =SUM(T100:W100) -> 0 | AE100: =G100 -> 0 | AF100: =E100+F100 -> 0 | AG100: =T100 -> 0 | AH100: =M100+N100+O100+P100+Q100+R100+S100 -> 0 | AI100: =G100 -> 0 | AJ100: =T100+U100 -> 0
A101: 6.8 | B101: ÞáñÃáõÙÁ | D101: 182 | AD101: =SUM(T101:W101) -> 0 | AE101: =G101 -> 0 | AF101: =E101+F101 -> 0 | AG101: =T101 -> 0 | AH101: =M101+N101+O101+P101+Q101+R101+S101 -> 0 | AI101: =G101 -> 0 | AJ101: =T101+U101 -> 0
A102: 6.9 | B102: ²íïáÙ»ù»Ý³ÛÇÝ Ï³Ù ïñ³Ýëåáñï³ÛÇÝ ³ÛÉ ÙÇçáóÇÝ ³åûñÇÝ³µ³ñ ïÇñ³Ý³ÉÝ ³é³Ýó Ñ³÷ßï³Ï»Éáõ Ýå³ï³ÏÇ | D102: 183 | AD102: =SUM(T102:W102) -> 0 | AE102: =G102 -> 0 | AF102: =E102+F102 -> 0 | AG102: =T102 -> 0 | AH102: =M102+N102+O102+P102+Q102+R102+S102 -> 0 | AI102: =G102 -> 0 | AJ102: =T102+U102 -> 0
A103: 6.10 | B103: ¶áõÛù³ÛÇÝ íÝ³ë å³ï×³é»ÉÁ Ë³µ»áõÃÛ³Ý Ï³Ù íëï³ÑáõÃÛáõÝÁ ã³ñ³ß³Ñ»Éáõ »Õ³Ý³Ïáí | D103: 184 | AD103: =SUM(T103:W103) -> 0 | AE103: =G103 -> 0 | AF103: =E103+F103 -> 0 | AG103: =T103 -> 0 | AH103: =M103+N103+O103+P103+Q103+R103+S103 -> 0 | AI103: =G103 -> 0 | AJ103: =T103+U103 -> 0
A104: 6.11 | B104: ¶áõÛùÁ ¹Çï³íáñáõÃÛ³Ùµ áãÝã³óÝ»ÉÁ Ï³Ù íÝ³ë»ÉÁ | D104: 185 | F104: 2 | G104: 2 | I104: 2 | U104: 2 | AD104: =SUM(T104:W104) -> 2 | AE104: =G104 -> 2 | AF104: =E104+F104 -> 2 | AG104: =T104 -> 0 | AH104: =M104+N104+O104+P104+Q104+R104+S104 -> 0 | AI104: =G104 -> 2 | AJ104: =T104+U104 -> 2
A105: 6.12 | B105: ¶áõÛùÝ ³Ý½·áõßáõÃÛ³Ùµ áãÝã³óÝ»ÉÁ Ï³Ù íÝ³ë»ÉÁ | D105: 186 | AD105: =SUM(T105:W105) -> 0 | AE105: =G105 -> 0 | AF105: =E105+F105 -> 0 | AG105: =T105 -> 0 | AH105: =M105+N105+O105+P105+Q105+R105+S105 -> 0 | AI105: =G105 -> 0 | AJ105: =T105+U105 -> 0
A106: 6.13 | B106: Գուքի պահպանության պարտականություններն անփույթ կամ անբարեխիղճ կատարելը | D106: 186.1 | AD106: =SUM(T106:W106) -> 0 | AE106: =G106 -> 0 | AF106: =E106+F106 -> 0 | AG106: =T106 -> 0 | AH106: =M106+N106+O106+P106+Q106+R106+S106 -> 0 | AI106: =G106 -> 0 | AJ106: =T106+U106 -> 0
A107: 7. | B107: ÀÝ¹³Ù»ÝÁ ïÝï»ë³Ï³Ý ·áñÍáõÝ»áõÃÛ³Ý ¹»Ù áõÕÕí³Í Ñ³Ýó³·áñÍáõÃÛáõÝÝ»ñÁ | E107: =SUM(E108:E139) -> 0 | F107: =SUM(F108:F139) -> 0 | G107: =SUM(G108:G139) -> 0 | H107: =SUM(H108:H139) -> 0 | I107: =SUM(I108:I139) -> 0 | J107: =SUM(J108:J139) -> 0 | K107: =SUM(K108:K139) -> 0 | L107: =SUM(L108:L139) -> 0 | ... AC107: =SUM(AC108:AC139) -> 0 | AD107: =SUM(T107:W107) -> 0 | AE107: =G107 -> 0 | AF107: =E107+F107 -> 0 | AG107: =T107 -> 0 | AH107: =M107+N107+O107+P107+Q107+R107+S107 -> 0 | AI107: =G107 -> 0 | AJ107: =T107+U107 -> 0
A108: 7.1 | B108: úñÇÝ³Ï³Ý Ó»éÝ³ñÏ³ïÇñ³Ï³Ý ¨ ³ÛÉ ïÝï»ë³Ï³Ý ·áñÍáõÝ»áõÃÛ³ÝÁ ËáãÁÝ¹áï»ÉÁ | D108: 187 | AD108: =SUM(T108:W108) -> 0 | AE108: =G108 -> 0 | AF108: =E108+F108 -> 0 | AG108: =T108 -> 0 | AH108: =M108+N108+O108+P108+Q108+R108+S108 -> 0 | AI108: =G108 -> 0 | AJ108: =T108+U108 -> 0
A109: 7.2 | B109: ²åûñÇÝÇ Ó»éÝ³ñÏ³ïÇñáõÃÛáõÝÁ | D109: 188 | AD109: =SUM(T109:W109) -> 0 | AE109: =G109 -> 0 | AF109: =E109+F109 -> 0 | AG109: =T109 -> 0 | AH109: =M109+N109+O109+P109+Q109+R109+S109 -> 0 | AI109: =G109 -> 0 | AJ109: =T109+U109 -> 0
A110: 7.3 | B110: ²é³Ýó ÉÇó»Ý³½Ç³ÛÇ ³ñï³ñÅáõÛÃÇ í³×³éùÇ Çñ³Ï³Ý³óáõÙÁ | D110: 188.1 | AD110: =SUM(T110:W110) -> 0 | AE110: =G110 -> 0 | AF110: =E110+F110 -> 0 | AG110: =T110 -> 0 | AH110: =M110+N110+O110+P110+Q110+R110+S110 -> 0 | AI110: =G110 -> 0 | AJ110: =T110+U110 -> 0
A111: 7.4 | B111: Î»ÕÍ Ó»éÝ³ñÏ³ïÇñáõÃÛáõÝÁ | D111: 189 | AD111: =SUM(T111:W111) -> 0 | AE111: =G111 -> 0 | AF111: =E111+F111 -> 0 | AG111: =T111 -> 0 | AH111: =M111+N111+O111+P111+Q111+R111+S111 -> 0 | AI111: =G111 -> 0 | AJ111: =T111+U111 -> 0
A112: 7.5 | B112: Ð³Ýó³íáñ ×³Ý³å³ñÑáí ëï³óí³Í »Ï³ÙáõïÝ»ñÇ ûñÇÝ³Ï³Ý³óÝ»ÉÁ (É»·³É³óÝ»ÉÁ) | D112: 190 | AD112: =SUM(T112:W112) -> 0 | AE112: =G112 -> 0 | AF112: =E112+F112 -> 0 | AG112: =T112 -> 0 | AH112: =M112+N112+O112+P112+Q112+R112+S112 -> 0 | AI112: =G112 -> 0 | AJ112: =T112+U112 -> 0
A113: 7.6 | B113: ì³ñÏÁ áã Ýå³ï³Ï³ÛÇÝ û·ï³·áñÍ»ÉÁ | D113: 191 | AD113: =SUM(T113:W113) -> 0 | AE113: =G113 -> 0 | AF113: =E113+F113 -> 0 | AG113: =T113 -> 0 | AH113: =M113+N113+O113+P113+Q113+R113+S113 -> 0 | AI113: =G113 -> 0 | AJ113: =T113+U113 -> 0
A114: 7.7 | B114: ²ÝûñÇÝ³Ï³Ý ·áñÍáÕáõÃÛáõÝÝ»ñÁ ëÝ³ÝÏáõÃÛ³Ý ÁÝÃ³óùáõÙ | D114: 192 | AD114: =SUM(T114:W114) -> 0 | AE114: =G114 -> 0 | AF114: =E114+F114 -> 0 | AG114: =T114 -> 0 | AH114: =M114+N114+O114+P114+Q114+R114+S114 -> 0 | AI114: =G114 -> 0 | AJ114: =T114+U114 -> 0
A115: 7.8 | B115: Î³ÝË³Ùï³Íí³Í ëÝ³ÝÏáõÃÛáõÝÁ | D115: 193 | AD115: =SUM(T115:W115) -> 0 | AE115: =G115 -> 0 | AF115: =E115+F115 -> 0 | AG115: =T115 -> 0 | AH115: =M115+N115+O115+P115+Q115+R115+S115 -> 0 | AI115: =G115 -> 0 | AJ115: =T115+U115 -> 0
A116: 7.9 | B116: Î»ÕÍ ëÝ³ÝÏáõÃÛáõÝÁ | D116: 194 | AD116: =SUM(T116:W116) -> 0 | AE116: =G116 -> 0 | AF116: =E116+F116 -> 0 | AG116: =T116 -> 0 | AH116: =M116+N116+O116+P116+Q116+R116+S116 -> 0 | AI116: =G116 -> 0 | AJ116: =T116+U116 -> 0
A117: 7.10 | B117: ²åûñÇÝÇ Ñ³Ï³Ùñó³Ïó³ÛÇÝ ·áñÍáÕáõÃÛáõÝÁ | D117: 195 | AD117: =SUM(T117:W117) -> 0 | AE117: =G117 -> 0 | AF117: =E117+F117 -> 0 | AG117: =T117 -> 0 | AH117: =M117+N117+O117+P117+Q117+R117+S117 -> 0 | AI117: =G117 -> 0 | AJ117: =T117+U117 -> 0
A118: 7.11 | B118: Ðñ³å³ñ³Ï³ÛÇÝ ë³Ï³ñÏáõÃÛáõÝÝ»ñÇ ³ÝóÏ³óÙ³Ý Ï³ñ·Á ã³ñ³Ùïáñ»Ý Ë³Ëï»ÉÁ | D118: 196 | AD118: =SUM(T118:W118) -> 0 | AE118: =G118 -> 0 | AF118: =E118+F118 -> 0 | AG118: =T118 -> 0 | AH118: =M118+N118+O118+P118+Q118+R118+S118 -> 0 | AI118: =G118 -> 0 | AJ118: =T118+U118 -> 0
...

Sheet Erebuni
A1: Ð²ÞìºîìàôÂÚàôÜ
A2: ²Üâ²ö²Ð²ê ¸²î²ä²ðîÚ²ÈÜºðÆ ìºð²´ºðÚ²È | Y2: 2016Ã.
A3: ìÇ×³Ï³·ñ³Ï³Ý ïáÕÇ Ñ³Ù³ñÁ | B3: Ð²Üò²¶àðÌàôÂÚàôÜÜºðÆ îºê²ÎÜºðÀ | D3: ÐÐ øñ»³Ï³Ý ûñ»Ýë·ñùÇ Ñá¹í³ÍÁ | E3: Ð³Ýó³·áñÍáõÃÛáõÝÁ Ï³ï³ñ»É »Ý | H3: Ýñ³ÝóÇó | M3: ¸³ï³å³ñïÛ³ÉÝ»ñÇ ÝÏ³ïÙ³Ùµ Ýß³Ý³Ïí³Í ÑÇÙÝ³Ï³Ý å³ïÇÅÝ»ñ | V3: Ýß³Ý³Ïí³Í å³ïÇÅÁ å³ÛÙ³Ý³Ï³Ýáñ»Ý ãÇ ÏÇñ³éí»É | W3: ÏÇñ³éí»É ¿ Ñ³Ù³Ý»ñÙ³Ý ³Ïï | X3: ÎÇñ³éí»É »Ý ¹³ëïÇ³ñ³Ïã³Ï³Ý µÝáõÛÃÇ Ñ³ñÏ³¹ñ³ÝùÇ ÙÇçáó | Y3: ²ÝÓ³Ýó ÃÇíÁ, áñáÝù ÙÇÝã¨ í»ñçÇÝ Ñ³Ýó³·áñÍáõÃÛáõÝÁ Ï³ï³ñ»ÉÁ
E4: 14-16 ï³ñ»Ï³ÝáõÙ | F4: 16-18 ï³ñ»Ï³ÝáõÙ | G4: ÀÝ¹³Ù»ÝÁ | H4: ³ÕçÇÏÝ»ñ | I4: ã»Ý ³ßË³ï»É, ã»Ý ëáíáñ»É | J4: ³ÝÓÇÝù, áñáÝù Ñ³Ýó³·áñÍáõÃÛáõÝÁ Ï³ï³ñ»É »Ý | M4: ² ½ ³ ï ³ ½ ñ Ï áõ Ù | U4: ³ÛÉ å³ïÇÅÝ»ñ | Y4: ·ïÝí»É »Ý áëïÇÏ³ÝáõÃÛ³Ý Ù³ñÙÇÝÝ»ñáõÙ Ñ³ßí³éÙ³Ý Ù»ç | Z4: Ï³ï³ñ»É »Ý Ñ³Ýó³·áñÍáõÃÛáõÝ ¨ »Õ»É »Ý
Z5: ³½³ïí³Í ùñ»³Ï³Ý å³ï³ëË³Ý³ïíáõÃÛáõÝÇó | AA5: ¹³ï³å³ñïí³Í | AB5: ²Û¹ ÃíáõÙ
B6: êîàô¶Æâ Ð²ì²ê²ðàôØÜºð 3=1+2, 16=9+10+11+12+13+14+15, 3=16+17+18+19 | J6: ³ÉÏ., ÃÙñ³ÙÇç. Ï³Ù ÃÝñ»óÝáÕ ³ÛÉ ÝÛáõÃ»ñÇ ³½¹»óáõÃÛ³Ý ï³Ï | K6: ØÇ ËáõÙµ ³ÝÓ³Ýó Ï³½ÙáõÙ | L6: ³Û¹ ÃíáõÙª Ù»Í³Ñ³ë³ÏÝ»ñÇ Ù³ëÝ³ÏóáõÃÛ³Ùµ | M6: 1 ï³ñÇ Ý»ñ³éÛ³É | N6: 1 ï³ñáõó ³í»É, ÙÇÝã¨ 2 ï³ñÇ Ý»ñ³éÛ³É | O6: 2 ï³ñáõó ³í»É, ÙÇÝã¨ 3 ï³ñÇ Ý»ñ³éÛ³É | P6: 3 ï³ñáõó ³í»É, ÙÇÝã¨ 5 ï³ñÇ Ý»ñ³éÛ³É | Q6: 5 ï³ñáõó ³í»É, ÙÇÝã¨ 8 ï³ñÇ Ý»ñ³éÛ³É | R6: 8 ï³ñáõó ³í»É, ÙÇÝã¨ 10 ï³ñÇ Ý»ñ³éÛ³É | S6: 10 ï³ñáõó ³í»É, ÙÇÝã¨ 12ï³ñÇ Ý»ñ³éÛ³É | T6: ÁÝ¹³Ù»ÝÁ | AB6: ¹³ï³í×éÇ Ï³ï³ñÙ³Ý Ñ»ï³Ó·áõÙáí | AC6: å³ÛÙ³Ý³Ï³Ý ¹³ï³å³ñïáõÃÛáõÝ
E7: 1 | F7: 2 | G7: 3 | H7: 4 | I7: 5 | J7: 6 | K7: 7 | L7: 8 | M7: 9 | N7: 10 | O7: 11 | P7: 12 | Q7: 13 | R7: 14 | S7: 15 | T7: 16 | U7: 17 | V7: 18 | W7: 19 | X7: 20 | Y7: 21 | Z7: 22 | AA7: 23 | AB7: 24 | AC7: 25 | AE7: 3=1+2 | AG7: 16=9+10+11+12+13+14+15 | AI7: 3=16+17
A8: 1. | B8: ÀÝ¹³Ù»ÝÁ ÏÛ³ÝùÇ ¨ ³éáÕçáõÃÛ³Ý ¹»Ù áõÕÕí³Í Ñ³Ýó³·áñÍáõÃÛáõÝÝ»ñÁ | E8: =SUM(E9:E35) -> 1 | F8: =SUM(F9:F35) -> 1 | G8: =SUM(G9:G35) -> 2 | H8: =SUM(H9:H35) -> 1 | I8: =SUM(I9:I35) -> 1 | J8: =SUM(J9:J35) -> 0 | K8: =SUM(K9:K35) -> 0 | L8: =SUM(L9:L35) -> 0 | ... AC8: =SUM(AC9:AC35) -> 0 | AD8: =SUM(T8:W8) -> 3 | AE8: =G8 -> 2 | AF8: =E8+F8 -> 2 | AG8: =T8 -> 1 | AH8: =M8+N8+O8+P8+Q8+R8+S8 -> 1 | AI8: =G8 -> 2 | AJ8: =T8+U8 -> 2
A9: 1.1 | B9: êå³ÝáõÃÛáõÝÁ | D9: 104 | AD9: =SUM(T9:W9) -> 0 | AE9: =G9 -> 0 | AF9: =E9+F9 -> 0 | AG9: =T9 -> 0 | AH9: =M9+N9+O9+P9+Q9+R9+S9 -> 0 | AI9: =G9 -> 0 | AJ9: =T9+U9 -> 0
A10: 1.2 | B10: Ðá·»Ï³Ý ËÇëï Ñáõ½ÙáõÝùÇ íÇ×³ÏáõÙ Ï³ï³ñí³Í ëå³ÝáõÃÛáõÝÁ | D10: 105 | AD10: =SUM(T10:W10) -> 0 | AE10: =G10 -> 0 | AF10: =E10+F10 -> 0 | AG10: =T10 -> 0 | AH10: =M10+N10+O10+P10+Q10+R10+S10 -> 0 | AI10: =G10 -> 0 | AJ10: =T10+U10 -> 0
A11: 1.3 | B11: Øáñ ÏáÕÙÇó Ýáñ³ÍÇÝ »ñ»Ë³ÛÇ ëå³ÝáõÃÛáõÝÁ | D11: 106 | AD11: =SUM(T11:W11) -> 0 | AE11: =G11 -> 0 | AF11: =E11+F11 -> 0 | AG11: =T11 -> 0 | AH11: =M11+N11+O11+P11+Q11+R11+S11 -> 0 | AI11: =G11 -> 0 | AJ11: =T11+U11 -> 0
A12: 1.4 | B12: Ð³Ýó³Ýù Ï³ï³ñ³Í ³ÝÓÇÝ µéÝ»Éáõ Ñ³Ù³ñ ³ÝÑñ³Å»ßï ÙÇçáóÝ»ñÇ ë³ÑÙ³Ý³½³ÝóÙ³Ùµ ëå³ÝáõÃÛáõÝÁ | D12: 107 | AD12: =SUM(T12:W12) -> 0 | AE12: =G12 -> 0 | AF12: =E12+F12 -> 0 | AG12: =T12 -> 0 | AH12: =M12+N12+O12+P12+Q12+R12+S12 -> 0 | AI12: =G12 -> 0 | AJ12: =T12+U12 -> 0
A13: 1.5 | B13: ²ÝÑñ³Å»ßï å³ßïå³ÝáõÃÛ³Ý ë³ÑÙ³Ý³½³ÝóÙ³Ùµ ëå³ÝáõÃÛáõÝÁ | D13: 108 | AD13: =SUM(T13:W13) -> 0 | AE13: =G13 -> 0 | AF13: =E13+F13 -> 0 | AG13: =T13 -> 0 | AH13: =M13+N13+O13+P13+Q13+R13+S13 -> 0 | AI13: =G13 -> 0 | AJ13: =T13+U13 -> 0
A14: 1.6 | B14: ²Ý½·áõßáõÃÛ³Ùµ Ù³Ñ å³ï×³é»ÉÁ | D14: 109 | AD14: =SUM(T14:W14) -> 0 | AE14: =G14 -> 0 | AF14: =E14+F14 -> 0 | AG14: =T14 -> 0 | AH14: =M14+N14+O14+P14+Q14+R14+S14 -> 0 | AI14: =G14 -> 0 | AJ14: =T14+U14 -> 0
A15: 1.7 | B15: ÆÝùÝ³ëå³ÝáõÃÛ³Ý Ñ³ëóÝ»ÉÁ | D15: 110 | AD15: =SUM(T15:W15) -> 0 | AE15: =G15 -> 0 | AF15: =E15+F15 -> 0 | AG15: =T15 -> 0 | AH15: =M15+N15+O15+P15+Q15+R15+S15 -> 0 | AI15: =G15 -> 0 | AJ15: =T15+U15 -> 0
A16: 1.8 | B16: ÆÝùÝ³ëå³ÝáõÃÛ³Ý Ñ³Ï»ÉÁ | D16: 111 | AD16: =SUM(T16:W16) -> 0 | AE16: =G16 -> 0 | AF16: =E16+F16 -> 0 | AG16: =T16 -> 0 | AH16: =M16+N16+O16+P16+Q16+R16+S16 -> 0 | AI16: =G16 -> 0 | AJ16: =T16+U16 -> 0
A17: 1.9 | B17: ¸Çï³íáñáõÃÛ³Ùµ ³éáÕçáõÃÛ³ÝÁ Í³Ýñ íÝ³ë å³ï×³é»ÉÁ | D17: 112 | E17: 1 | G17: 1 | O17: 1 | T17: 1 | V17: 1 | AD17: =SUM(T17:W17) -> 2 | AE17: =G17 -> 1 | AF17: =E17+F17 -> 1 | AG17: =T17 -> 1 | AH17: =M17+N17+O17+P17+Q17+R17+S17 -> 1 | AI17: =G17 -> 1 | AJ17: =T17+U17 -> 1
A18: 1.10 | B18: ¸Çï³íáñáõÃÛ³Ùµ ³éáÕçáõÃÛ³ÝÁ ÙÇçÇÝ Í³ÝñáõÃÛ³Ý íÝ³ë å³ï×³é»ÉÁ | D18: 113 | AD18: =SUM(T18:W18) -> 0 | AE18: =G18 -> 0 | AF18: =E18+F18 -> 0 | AG18: =T18 -> 0 | AH18: =M18+N18+O18+P18+Q18+R18+S18 -> 0 | AI18: =G18 -> 0 | AJ18: =T18+U18 -> 0
A19: 1.11 | B19: Ðá·»Ï³Ý ËÇëï Ñáõ½ÙáõÝùÇ íÇ×³ÏáõÙ ³éáÕçáõÃÛ³ÝÁ Í³Ýñ Ï³Ù ÙÇçÇÝ Í³ÝñáõÃÛ³Ý íÝ³ë å³ï×³é»ÉÁ | D19: 114 | AD19: =SUM(T19:W19) -> 0 | AE19: =G19 -> 0 | AF19: =E19+F19 -> 0 | AG19: =T19 -> 0 | AH19: =M19+N19+O19+P19+Q19+R19+S19 -> 0 | AI19: =G19 -> 0 | AJ19: =T19+U19 -> 0
A20: 1.12 | B20: Ð³Ýó³Ýù Ï³ï³ñ³Í ³ÝÓÇÝ µéÝ»Éáõ Ñ³Ù³ñ ³ÝÑñ³Å»ßï ÙÇçáóÝ»ñÇ ë³ÑÙ³Ý½³ÝóÙ³Ùµ ³éáÕçáõÃÛ³ÝÁ Í³Ýñ Ï³Ù ÙÇçÇÝ Í³ÝñáõÃÛ³Ý íÝ³ë å³ï×³é»ÉÁ | D20: 115 | AD20: =SUM(T20:W20) -> 0 | AE20: =G20 -> 0 | AF20: =E20+F20 -> 0 | AG20: =T20 -> 0 | AH20: =M20+N20+O20+P20+Q20+R20+S20 -> 0 | AI20: =G20 -> 0 | AJ20: =T20+U20 -> 0
A21: 1.13 | B21: ²éáÕçáõÃÛ³ÝÁ Í³Ýñ Ï³Ù ÙÇçÇÝ Í³ÝñáõÃÛ³Ý íÝ³ë å³ï×³é»ÉÁ ³ÝÑñ³Å»ßï å³ßïå³ÝáõÃÛ³Ý ë³ÑÙ³Ý³Ý³½³ÝóÙ³Ùµ | D21: 116 | AD21: =SUM(T21:W21) -> 0 | AE21: =G21 -> 0 | AF21: =E21+F21 -> 0 | AG21: =T21 -> 0 | AH21: =M21+N21+O21+P21+Q21+R21+S21 -> 0 | AI21: =G21 -> 0 | AJ21: =T21+U21 -> 0
A22: 1.14 | B22: ¸Çï³íáñáõÃÛ³Ùµ ³éáÕçáõÃÛ³ÝÁ Ã»Ã¨ íÝ³ë å³ï×³é»ÉÁ | D22: 117 | AD22: =SUM(T22:W22) -> 0 | AE22: =G22 -> 0 | AF22: =E22+F22 -> 0 | AG22: =T22 -> 0 | AH22: =M22+N22+O22+P22+Q22+R22+S22 -> 0 | AI22: =G22 -> 0 | AJ22: =T22+U22 -> 0
A23: 1.15 | B23: Ì»ÍÁ | D23: 118 | F23: 1 | G23: 1 | H23: 1 | I23: 1 | U23: 1 | AD23: =SUM(T23:W23) -> 1 | AE23: =G23 -> 1 | AF23: =E23+F23 -> 1 | AG23: =T23 -> 0 | AH23: =M23+N23+O23+P23+Q23+R23+S23 -> 0 | AI23: =G23 -> 1 | AJ23: =T23+U23 -> 1
A24: 1.16 | B24: Êáßï³Ý·áõÙÁ | D24: 119 | AD24: =SUM(T24:W24) -> 0 | AE24: =G24 -> 0 | AF24: =E24+F24 -> 0 | AG24: =T24 -> 0 | AH24: =M24+N24+O24+P24+Q24+R24+S24 -> 0 | AI24: =G24 -> 0 | AJ24: =T24+U24 -> 0
A25: 1.17 | B25: ²Ý½·áõßáõÃÛ³Ùµ ³éáÕçáõÃÛ³ÝÁ Í³Ýñ íÝ³ë å³ï×³é»ÉÁ | D25: 120 | AD25: =SUM(T25:W25) -> 0 | AE25: =G25 -> 0 | AF25: =E25+F25 -> 0 | AG25: =T25 -> 0 | AH25: =M25+N25+O25+P25+Q25+R25+S25 -> 0 | AI25: =G25 -> 0 | AJ25: =T25+U25 -> 0
A26: 1.18 | B26: ²Ý½·áõßáõÃÛ³Ùµ ³éáÕçáõÃÛ³ÝÁ ÙÇçÇÝ Í³ÝñáõÃÛ³Ý íÝ³ë å³ï×³é»ÉÁ | D26: 121 | AD26: =SUM(T26:W26) -> 0 | AE26: =G26 -> 0 | AF26: =E26+F26 -> 0 | AG26: =T26 -> 0 | AH26: =M26+N26+O26+P26+Q26+R26+S26 -> 0 | AI26: =G26 -> 0 | AJ26: =T26+U26 -> 0
A27: 1.19 | B27: ²åûñÇÝÇ ³µáñï Ï³ï³ñ»ÉÁ | D27: 122 | AD27: =SUM(T27:W27) -> 0 | AE27: =G27 -> 0 | AF27: =E27+F27 -> 0 | AG27: =T27 -> 0 | AH27: =M27+N27+O27+P27+Q27+R27+S27 -> 0 | AI27: =G27 -> 0 | AJ27: =T27+U27 -> 0
A28: 1.20 | B28: Ø³ñ¹áõ ÇÙáõÝ³ÛÇÝ ³Ýµ³í³ñ³ñáõÃÛ³Ý íÇñáõëÇ Ñ³ñáõóÇãáí í³ñ³Ï»ÉÁ | D28: 123 | AD28: =SUM(T28:W28) -> 0 | AE28: =G28 -> 0 | AF28: =E28+F28 -> 0 | AG28: =T28 -> 0 | AH28: =M28+N28+O28+P28+Q28+R28+S28 -> 0 | AI28: =G28 -> 0 | AJ28: =T28+U28 -> 0
A29: 1.21 | B29: ì»Ý»ñ³Ï³Ý ÑÇí³Ý¹áõÃÛ³Ùµ Ï³Ù ³ÛÉ ë»é³í³ñ³ÏÝ»ñáí í³ñ³Ï»ÉÁ | D29: 124 | AD29: =SUM(T29:W29) -> 0 | AE29: =G29 -> 0 | AF29: =E29+F29 -> 0 | AG29: =T29 -> 0 | AH29: =M29+N29+O29+P29+Q29+R29+S29 -> 0 | AI29: =G29 -> 0 | AJ29: =T29+U29 -> 0
A30: 1.22 | B30: öáËå³ïí³ëïÙ³Ý íÇñ³Ñ³ïáõÃÛáõÝ Ï³ï³ñ»Éáõ Ï³ÝáÝÝ»ñÁ Ë³Ëï»ÉÁ | D30: 125 | AD30: =SUM(T30:W30) -> 0 | AE30: =G30 -> 0 | AF30: =E30+F30 -> 0 | AG30: =T30 -> 0 | AH30: =M30+N30+O30+P30+Q30+R30+S30 -> 0 | AI30: =G30 -> 0 | AJ30: =T30+U30 -> 0
A31: 1.24 | B31: ²ÝÓÇÝ ³é³Ýó Çñ Ñ³ÝÓÝ³ñ³ñáõÃÛ³Ý µÅßÏ³Ï³Ý Ï³Ù ·Çï³Ï³Ý ÷áñÓ»ñÇ »ÝÃ³ñÏ»ÉÁ | D31: 127 | AD31: =SUM(T31:W31) -> 0 | AE31: =G31 -> 0 | AF31: =E31+F31 -> 0 | AG31: =T31 -> 0 | AH31: =M31+N31+O31+P31+Q31+R31+S31 -> 0 | AI31: =G31 -> 0 | AJ31: =T31+U31 -> 0
A32: 1.25 | B32: ìï³Ý·Ç Ù»ç ÃáÕÝ»ÉÁ | D32: 128 | AD32: =SUM(T32:W32) -> 0 | AE32: =G32 -> 0 | AF32: =E32+F32 -> 0 | AG32: =T32 -> 0 | AH32: =M32+N32+O32+P32+Q32+R32+S32 -> 0 | AI32: =G32 -> 0 | AJ32: =T32+U32 -> 0
A33: 1.26 | B33: ÐÇí³Ý¹ÇÝ û·ÝáõÃÛáõÝ óáõÛó ãï³ÉÁ | D33: 129 | AD33: =SUM(T33:W33) -> 0 | AE33: =G33 -> 0 | AF33: =E33+F33 -> 0 | AG33: =T33 -> 0 | AH33: =M33+N33+O33+P33+Q33+R33+S33 -> 0 | AI33: =G33 -> 0 | AJ33: =T33+U33 -> 0
A34: 1.27 | B34: ´ÅßÏ³Ï³Ý û·ÝáõÃÛáõÝ ¨ ëå³ë³ñÏáõÙ Çñ³Ï³Ý³óÝáÕÝ»ñÇ ÏáÕÙÇó Ù³ëÝ³·Çï³Ï³Ý å³ñï³Ï³ÝáõÃÛáõÝÝ»ñÁ ãÏ³ï³ñ»ÉÁ Ï³Ù áã å³ïß³× Ï³ï³ñ»ÉÁ | D34: 130 | AD34: =SUM(T34:W34) -> 0 | AE34: =G34 -> 0 | AF34: =E34+F34 -> 0 | AG34: =T34 -> 0 | AH34: =M34+N34+O34+P34+Q34+R34+S34 -> 0 | AI34: =G34 -> 0 | AJ34: =T34+U34 -> 0
A35: 1.28 | B35: ²ÛÉ Ñ³Ýó³·áñÍáõÃÛáõÝÝ»ñ | AD35: =SUM(T35:W35) -> 0 | AE35: =G35 -> 0 | AF35: =E35+F35 -> 0 | AG35: =T35 -> 0 | AH35: =M35+N35+O35+P35+Q35+R35+S35 -> 0 | AI35: =G35 -> 0 | AJ35: =T35+U35 -> 0
A36: 2. | B36: ÀÝ¹³Ù»ÝÁ ³ÝÓÇ ³½³ïáõÃÛ³Ý, å³ïíÇ ¨ ³ñÅ³Ý³å³ïíáõÃÛ³Ý ¹»Ù áõÕÕí³Í Ñ³Ýó³·áñÍáõÃÛáõÝÝ»ñÁ | E36: =SUM(E37:E43) -> 0 | F36: =SUM(F37:F43) -> 0 | G36: =SUM(G37:G43) -> 0 | H36: =SUM(H37:H43) -> 0 | I36: =SUM(I37:I43) -> 0 | J36: =SUM(J37:J43) -> 0 | K36: =SUM(K37:K43) -> 0 | L36: =SUM(L37:L43) -> 0 | ... AC36: =SUM(AC37:AC43) -> 0 | AD36: =SUM(T36:W36) -> 0 | AE36: =G36 -> 0 | AF36: =E36+F36 -> 0 | AG36: =T36 -> 0 | AH36: =M36+N36+O36+P36+Q36+R36+S36 -> 0 | AI36: =G36 -> 0 | AJ36: =T36+U36 -> 0
A37: 2.1 | B37: Ø³ñ¹áõÝ ³é¨³Ý·»ÉÁ | D37: 131 | AD37: =SUM(T37:W37) -> 0 | AE37: =G37 -> 0 | AF37: =E37+F37 -> 0 | AG37: =T37 -> 0 | AH37: =M37+N37+O37+P37+Q37+R37+S37 -> 0 | AI37: =G37 -> 0 | AJ37: =T37+U37 -> 0
A38: 2.2 | B38: Þ³Ñ³·áñÍÙ³Ý Ýå³ï³Ïáí Ù³ñ¹áõÝ Ñ³í³ù³·ñ»ÉÁ, ÷áË³¹ñ»ÉÁ, Ñ³ÝÓÝ»ÉÁ, Ã³ùóÝ»ÉÁ Ï³Ù ëï³Ý³ÉÁ | D38: 132 | AD38: =SUM(T38:W38) -> 0 | AE38: =G38 -> 0 | AF38: =E38+F38 -> 0 | AG38: =T38 -> 0 | AH38: =M38+N38+O38+P38+Q38+R38+S38 -> 0 | AI38: =G38 -> 0 | AJ38: =T38+U38 -> 0
A39: 2.2.1 | B39: Ø³ñ¹áõÝ åáéÝÇÏáõÃÛ³Ý Ï³Ù ë»é³Ï³Ý ß³Ñ³·áñÍÙ³Ý ³ÛÉ Ó¨»ñÇ Ù»ç, Ñ³ñÏ³¹Çñ ³ßË³ï³ÝùÇ Ï³Ù Í³é³ÛáõÃÛáõÝÝ»ñÇ Ý»ñ·ñ³í»ÉÁ Ï³Ù ëïñÏáõÃÛ³Ý Ï³Ù ëïñÏáõÃÛ³ÝÁ ÝÙ³ÝíáÕ íÇ×³ÏÇ Ù»ç ¹Ý»ÉÁ Ï³Ù å³Ñ»ÉÁ | D39: 132.1 | AD39: =SUM(T39:W39) -> 0 | AE39: =G39 -> 0 | AF39: =E39+F39 -> 0 | AG39: =T39 -> 0 | AH39: =M39+N39+O39+P39+Q39+R39+S39 -> 0 | AI39: =G39 -> 0 | AJ39: =T39+U39 -> 0
A40: 2.3 | B40: ²½³ïáõÃÛáõÝÇó ³åûñÇÝÇ ½ñÏ»ÉÁ | D40: 133 | AD40: =SUM(T40:W40) -> 0 | AE40: =G40 -> 0 | AF40: =E40+F40 -> 0 | AG40: =T40 -> 0 | AH40: =M40+N40+O40+P40+Q40+R40+S40 -> 0 | AI40: =G40 -> 0 | AJ40: =T40+U40 -> 0
A41: 2.4 | B41: Ðá·»µáõÅ³Ï³Ý ÑÇí³Ý¹³ÝáóáõÙ ³åûñÇÝÇ ï»Õ³íáñ»ÉÁ Ï³Ù å³Ñ»ÉÁ | D41: 134 | AD41: =SUM(T41:W41) -> 0 | AE41: =G41 -> 0 | AF41: =E41+F41 -> 0 | AG41: =T41 -> 0 | AH41: =M41+N41+O41+P41+Q41+R41+S41 -> 0 | AI41: =G41 -> 0 | AJ41: =T41+U41 -> 0
A42: 2.7 | B42: êå³ÝáõÃÛ³Ý, ³éáÕçáõÃÛ³ÝÁ Í³Ýñ íÝ³ë å³ï×³é»Éáõ Ï³Ù ·áõÛù áãÝã³óÝ»Éáõ ëå³éÝ³ÉÇùÁ | D42: 137 | AD42: =SUM(T42:W42) -> 0 | AE42: =G42 -> 0 | AF42: =E42+F42 -> 0 | AG42: =T42 -> 0 | AH42: =M42+N42+O42+P42+Q42+R42+S42 -> 0 | AI42: =G42 -> 0 | AJ42: =T42+U42 -> 0
A43: 2.8 | B43: ²ÛÉ Ñ³Ýó³·áñÍáõÃÛáõÝÝ»ñ | AD43: =SUM(T43:W43) -> 0 | AE43: =G43 -> 0 | AF43: =E43+F43 -> 0 | AG43: =T43 -> 0 | AH43: =M43+N43+O43+P43+Q43+R43+S43 -> 0 | AI43: =G43 -> 0 | AJ43: =T43+U43 -> 0
A44: 3. | B44: ÀÝ¹³Ù»ÝÁ ë»é³Ï³Ý ³ÝÓ»éÝÙË»ÉÇáõÃÛ³Ý ¨ ë»é³Ï³Ý ³½³ïáõÃÛ³Ý ¹»Ù áõÕÕí³Í Ñ³Ýó³·áñÍáõÃÛáõÝÝ»ñÁ | E44: =SUM(E45:E50) -> 0 | F44: =SUM(F45:F50) -> 0 | G44: =SUM(G45:G50) -> 0 | H44: =SUM(H45:H50) -> 0 | I44: =SUM(I45:I50) -> 0 | J44: =SUM(J45:J50) -> 0 | K44: =SUM(K45:K50) -> 0 | L44: =SUM(L45:L50) -> 0 | ... AC44: =SUM(AC45:AC50) -> 0 | AD44: =SUM(T44:W44) -> 0 | AE44: =G44 -> 0 | AF44: =E44+F44 -> 0 | AG44: =T44 -> 0 | AH44: =M44+N44+O44+P44+Q44+R44+S44 -> 0 | AI44: =G44 -> 0 | AJ44: =T44+U44 -> 0
A45: 3.1 | B45: ´éÝ³µ³ñáõÃÛáõÝÁ | D45: 138 | AD45: =SUM(T45:W45) -> 0 | AE45: =G45 -> 0 | AF45: =E45+F45 -> 0 | AG45: =T45 -> 0 | AH45: =M45+N45+O45+P45+Q45+R45+S45 -> 0 | AI45: =G45 -> 0 | AJ45: =T45+U45 -> 0
A46: 3.2 | B46: ê»ùëáõ³É µÝáõÛÃÇ µéÝÇ ·áñÍáÕáõÃÛáõÝÝ»ñÁ | D46: 139 | AD46: =SUM(T46:W46) -> 0 | AE46: =G46 -> 0 | AF46: =E46+F46 -> 0 | AG46: =T46 -> 0 | AH46: =M46+N46+O46+P46+Q46+R46+S46 -> 0 | AI46: =G46 -> 0 | AJ46: =T46+U46 -> 0
A47: 3.3 | B47: ê»ùëáõ³É µÝáõÛÃÇ ·áñÍáÕáõÃÛáõÝÝ»ñÇÝ Ñ³ñÏ³¹ñ»ÉÁ | D47: 140 | AD47: =SUM(T47:W47) -> 0 | AE47: =G47 -> 0 | AF47: =E47+F47 -> 0 | AG47: =T47 -> 0 | AH47: =M47+N47+O47+P47+Q47+R47+S47 -> 0 | AI47: =G47 -> 0 | AJ47: =T47+U47 -> 0
A48: 3.4 | B48: ê»ùëáõ³É µÝáõÛÃÇ ·áñÍáÕáõÃÛáõÝÝ»ñ Ï³ï³ñ»ÉÁ ï³ëÝí»ó ï³ñÇÝ ãÉñ³ó³Í ³ÝÓÇ Ñ»ï | D48: 141 | AD48: =SUM(T48:W48) -> 0 | AE48: =G48 -> 0 | AF48: =E48+F48 -> 0 | AG48: =T48 -> 0 | AH48: =M48+N48+O48+P48+Q48+R48+S48 -> 0 | AI48: =G48 -> 0 | AJ48: =T48+U48 -> 0
A49: 3.5 | B49: ²Ý³é³Ï³µ³ñá ·áñÍáÕáõÃÛáõÝÝ»ñÁ | D49: 142 | AD49: =SUM(T49:W49) -> 0 | AE49: =G49 -> 0 | AF49: =E49+F49 -> 0 | AG49: =T49 -> 0 | AH49: =M49+N49+O49+P49+Q49+R49+S49 -> 0 | AI49: =G49 -> 0 | AJ49: =T49+U49 -> 0
A50: 3.6 | B50: ²ÛÉ Ñ³Ýó³·áñÍáõÃÛáõÝÝ»ñ | AD50: =SUM(T50:W50) -> 0 | AE50: =G50 -> 0 | AF50: =E50+F50 -> 0 | AG50: =T50 -> 0 | AH50: =M50+N50+O50+P50+Q50+R50+S50 -> 0 | AI50: =G50 -> 0 | AJ50: =T50+U50 -> 0
A51: 4. | B51: ÀÝ¹³Ù»ÝÁ Ù³ñ¹áõ ¨ ù³Õ³ù³óáõ ë³ÑÙ³Ý³¹ñ³Ï³Ý Çñ³íáõÝùÝ»ñÇ ¨ ³½³ïáõÃÛáõÝÝ»ñÇ ¹»Ù áõÕÕí³Í Ñ³Ýó³·áñÍáõÃÛáõÝÝ»ñÁ | E51: =SUM(E52:E79) -> 0 | F51: =SUM(F52:F79) -> 0 | G51: =SUM(G52:G79) -> 0 | H51: =SUM(H52:H79) -> 0 | I51: =SUM(I52:I79) -> 0 | J51: =SUM(J52:J79) -> 0 | K51: =SUM(K52:K79) -> 0 | L51: =SUM(L52:L79) -> 0 | ... AC51: =SUM(AC52:AC79) -> 0 | AD51: =SUM(T51:W51) -> 0 | AE51: =G51 -> 0 | AF51: =E51+F51 -> 0 | AG51: =T51 -> 0 | AH51: =M51+N51+O51+P51+Q51+R51+S51 -> 0 | AI51: =G51 -> 0 | AJ51: =T51+U51 -> 0
A52: 4.1 | B52: ø³Õ³ù³óÇÝ»ñÇ Çñ³í³Ñ³í³ë³ñáõÃÛáõÝÁ Ë³Ëï»ÉÁ | D52: 143 | AD52: =SUM(T52:W52) -> 0 | AE52: =G52 -> 0 | AF52: =E52+F52 -> 0 | AG52: =T52 -> 0 | AH52: =M52+N52+O52+P52+Q52+R52+S52 -> 0 | AI52: =G52 -> 0 | AJ52: =T52+U52 -> 0
A53: 4.2 | B53: ²ÝÓÝ³Ï³Ý Ï³Ù ÁÝï³Ý»Ï³Ý ÏÛ³ÝùÇ Ù³ëÇÝ ï»Õ»ÏáõÃÛáõÝÝ»ñ ³åûñÇÝÇ Ñ³í³ù»ÉÁ, å³Ñ»ÉÁ, û·ï³·áñÍ»ÉÁ Ï³Ù ï³ñ³Í»ÉÁ | D53: 144 | AD53: =SUM(T53:W53) -> 0 | AE53: =G53 -> 0 | AF53: =E53+F53 -> 0 | AG53: =T53 -> 0 | AH53: =M53+N53+O53+P53+Q53+R53+S53 -> 0 | AI53: =G53 -> 0 | AJ53: =T53+U53 -> 0
A54: 4.3 | B54: ´ÅßÏ³Ï³Ý ·³ÕïÝÇùÁ Ññ³å³ñ³Ï»ÉÁ | D54: 145 | AD54: =SUM(T54:W54) -> 0 | AE54: =G54 -> 0 | AF54: =E54+F54 -> 0 | AG54: =T54 -> 0 | AH54: =M54+N54+O54+P54+Q54+R54+S54 -> 0 | AI54: =G54 -> 0 | AJ54: =T54+U54 -> 0
A55: 4.4 | B55: Ü³Ù³Ï³·ñáõÃÛ³Ý, Ñ»é³Ëáë³ÛÇÝ Ëáë³ÏóáõÃÛáõÝÝ»ñÇ, ÷áëï³ÛÇÝ, Ñ»é³·ñ³Ï³Ý Ï³Ù ³ÛÉ Ñ³Õáñ¹áõÙÝ»ñÇ ·³ÕïÝÇáõÃÛáõÝÁ Ë³Ëï»ÉÁ | D55: 146 | AD55: =SUM(T55:W55) -> 0 | AE55: =G55 -> 0 | AF55: =E55+F55 -> 0 | AG55: =T55 -> 0 | AH55: =M55+N55+O55+P55+Q55+R55+S55 -> 0 | AI55: =G55 -> 0 | AJ55: =T55+U55 -> 0
A56: 4.5 | B56: ´Ý³Ï³ñ³ÝÇ ³ÝÓ»éÝÙË»ÉÇáõÃÛáõÝÁ Ë³Ëï»ÉÁ | D56: 147 | AD56: =SUM(T56:W56) -> 0 | AE56: =G56 -> 0 | AF56: =E56+F56 -> 0 | AG56: =T56 -> 0 | AH56: =M56+N56+O56+P56+Q56+R56+S56 -> 0 | AI56: =G56 -> 0 | AJ56: =T56+U56 -> 0
A57: 4.6 | B57: ²ÝÓÇÝ ï»Õ»ÏáõÃÛáõÝ Ý»ñÏ³Û³óÝ»Éáõó Ññ³Å³ñí»ÉÁ | D57: 148 | AD57: =SUM(T57:W57) -> 0 | AE57: =G57 -> 0 | AF57: =E57+F57 -> 0 | AG57: =T57 -> 0 | AH57: =M57+N57+O57+P57+Q57+R57+S57 -> 0 | AI57: =G57 -> 0 | AJ57: =T57+U57 -> 0
A58: 4.7 | B58: ÀÝïñ³Ï³Ý Çñ³íáõÝùÇ Çñ³Ï³Ý³óÙ³ÝÁ, ÁÝïñ³Ï³Ý Ñ³ÝÓÝ³ÅáÕáíÝ»ñÇ ³ßË³ï³ÝùÝ»ñÇÝ Ï³Ù ÁÝïñáõÃÛ³ÝÁ Ù³ëÝ³ÏóáÕ ³ÝÓ³Ýó ÉÇ³½áñáõÃÛáõÝÝ»ñÇ Çñ³Ï³Ý³óÙ³ÝÁ ËáãÁÝ¹áï»ÉÁ | D58: 149 | AD58: =SUM(T58:W58) -> 0 | AE58: =G58 -> 0 | AF58: =E58+F58 -> 0 | AG58: =T58 -> 0 | AH58: =M58+N58+O58+P58+Q58+R58+S58 -> 0 | AI58: =G58 -> 0 | AJ58: =T58+U58 -> 0
A59: 4.8 | B59: ÀÝïñáõÃÛáõÝÝ»ñÇ Ï³Ù ùí»³ñÏáõÃÛ³Ý ³ñ¹ÛáõÝùÝ»ñÁ Ï»ÕÍ»ÉÁ | D59: 150 | AD59: =SUM(T59:W59) -> 0 | AE59: =G59 -> 0 | AF59: =E59+F59 -> 0 | AG59: =T59 -> 0 | AH59: =M59+N59+O59+P59+Q59+R59+S59 -> 0 | AI59: =G59 -> 0 | AJ59: =T59+U59 -> 0
A60: 4.9 | B60: ÀÝïñáõÃÛáõÝÝ»ñÇ ³ÝóÏ³óÙ³Ý ÁÝÃ³óùáõÙ Ã»ÏÝ³ÍáõÇ, Ïáõë³ÏóáõÃÛ³Ý (Ïáõë³ÏóáõÃÛáõÝÝ»ñÇ ¹³ßÇÝùÇ) í»ñ³µ»ñÛ³É ½ñå³ñïã³Ï³Ý ï»Õ»ÏáõÃÛáõÝÝ»ñ ï³ñ³Í»ÉÁ | D60: 151 | AD60: =SUM(T60:W60) -> 0 | AE60: =G60 -> 0 | AF60: =E60+F60 -> 0 | AG60: =T60 -> 0 | AH60: =M60+N60+O60+P60+Q60+R60+S60 -> 0 | AI60: =G60 -> 0 | AJ60: =T60+U60 -> 0
A61: 4.10 | B61: ÀÝïñáÕÝ»ñÇ óáõó³ÏÝ»ñÁ Ï³½Ù»Éáõ Ï³ñ·Á Ë³Ëï»ÉÁ | D61: 152 | AD61: =SUM(T61:W61) -> 0 | AE61: =G61 -> 0 | AF61: =E61+F61 -> 0 | AG61: =T61 -> 0 | AH61: =M61+N61+O61+P61+Q61+R61+S61 -> 0 | AI61: =G61 -> 0 | AJ61: =T61+U61 -> 0
A62: 4.11 | B62: Ø»ÏÇó ³í»ÉÇ ³Ý·³Ù Ï³Ù ³ÛÉ ³ÝÓÇ ÷áË³ñ»Ý ùí»³ñÏ»ÉÁ | D62: 153 | AD62: =SUM(T62:W62) -> 0 | AE62: =G62 -> 0 | AF62: =E62+F62 -> 0 | AG62: =T62 -> 0 | AH62: =M62+N62+O62+P62+Q62+R62+S62 -> 0 | AI62: =G62 -> 0 | AJ62: =T62+U62 -> 0
A63: 4.12 | B63: øí»³ñÏáõÃÛ³Ý ·³ÕïÝÇáõÃÛáõÝÁ Ë³Ëï»ÉÁ | D63: 154 | AD63: =SUM(T63:W63) -> 0 | AE63: =G63 -> 0 | AF63: =E63+F63 -> 0 | AG63: =T63 -> 0 | AH63: =M63+N63+O63+P63+Q63+R63+S63 -> 0 | AI63: =G63 -> 0 | AJ63: =T63+U63 -> 0
... A78: 4.27 | B78: Èñ³·ñáÕÇ Ù³ëÝ³·Çï³Ï³Ý ûñÇÝ³Ï³Ý ·áñÍáÕáõÃÛ³ÝÁ ËáãÁÝ¹áï»ÉÁ | D78: 164 | AD78: =SUM(T78:W78) -> 0 | AE78: =G78 -> 0 | AF78: =E78+F78 -> 0 | AG78: =T78 -> 0 | AH78: =M78+N78+O78+P78+Q78+R78+S78 -> 0 | AI78: =G78 -> 0 | AJ78: =T78+U78 -> 0
A79: 4.28 | B79: ²ÛÉ Ñ³Ýó³·áñÍáõÃÛáõÝÝ»ñ | AD79: =SUM(T79:W79) -> 0 | AE79: =G79 -> 0 | AF79: =E79+F79 -> 0 | AG79: =T79 -> 0 | AH79: =M79+N79+O79+P79+Q79+R79+S79 -> 0 | AI79: =G79 -> 0 | AJ79: =T79+U79 -> 0
A80: 5. | B80: ÀÝ¹³Ù»ÝÁ ÁÝï³ÝÇùÇ ¨ »ñ»Ë³ÛÇ ß³Ñ»ñÇ ¹»Ù áõÕÕí³Í Ñ³Ýó³·áñÍáõÃÛáõÝÝ»ñÁ | E80: =SUM(E81:E92) -> 0 | F80: =SUM(F81:F92) -> 0 | G80: =SUM(G81:G92) -> 0 | H80: =SUM(H81:H92) -> 0 | I80: =SUM(I81:I92) -> 0 | J80: =SUM(J81:J92) -> 0 | K80: =SUM(K81:K92) -> 0 | L80: =SUM(L81:L92) -> 0 | ... AC80: =SUM(AC81:AC92) -> 0 | AD80: =SUM(T80:W80) -> 0 | AE80: =G80 -> 0 | AF80: =E80+F80 -> 0 | AG80: =T80 -> 0 | AH80: =M80+N80+O80+P80+Q80+R80+S80 -> 0 | AI80: =G80 -> 0 | AJ80: =T80+U80 -> 0
A81: 5.1 | B81: ²Ýã³÷³Ñ³ëÇÝ Ñ³Ýó³ÝùÇ Ï³ï³ñÙ³ÝÁ Ý»ñ·ñ³í»ÉÁ | D81: 165 | AD81: =SUM(T81:W81) -> 0 | AE81: =G81 -> 0 | AF81: =E81+F81 -> 0 | AG81: =T81 -> 0 | AH81: =M81+N81+O81+P81+Q81+R81+S81 -> 0 | AI81: =G81 -> 0 | AJ81: =T81+U81 -> 0
A82: 5.2 | B82: ºñ»Ë³ÛÇÝ Ñ³Ï³Ñ³ë³ñ³Ï³Ï³Ý ·áñÍáÕáõÃÛáõÝÝ»ñ Ï³ï³ñ»ÉáõÝ Ý»ñ·ñ³í»ÉÁ | D82: 166 | AD82: =SUM(T82:W82) -> 0 | AE82: =G82 -> 0 | AF82: =E82+F82 -> 0 | AG82: =T82 -> 0 | AH82: =M82+N82+O82+P82+Q82+R82+S82 -> 0 | AI82: =G82 -> 0 | AJ82: =T82+U82 -> 0
A83: 5.3 | B83: ÌÝáÕÝ»ñÇó »ñ»Ë³ÛÇÝ ³åûñÇÝÇ µ³Å³Ý»ÉÁ Ï³Ù »ñ»Ë³ÛÇÝ ÷áË»ÉÁ | D83: 167 | AD83: =SUM(T83:W83) -> 0 | AE83: =G83 -> 0 | AF83: =E83+F83 -> 0 | AG83: =T83 -> 0 | AH83: =M83+N83+O83+P83+Q83+R83+S83 -> 0 | AI83: =G83 -> 0 | AJ83: =T83+U83 -> 0
A84: 5.4 | B84: ºñ»Ë³ÛÇ ³éù áõ í³×³éùÁ | D84: 168 | AD84: =SUM(T84:W84) -> 0 | AE84: =G84 -> 0 | AF84: =E84+F84 -> 0 | AG84: =T84 -> 0 | AH84: =M84+N84+O84+P84+Q84+R84+S84 -> 0 | AI84: =G84 -> 0 | AJ84: =T84+U84 -> 0
A85: 5.5 | B85: àñ¹»·ñÙ³Ý ·³ÕïÝÇùÁ Ññ³å³ñ³Ï»ÉÁ Ï³Ù áñ¹»·ñÙ³Ý Ñ³Ù³Ó³ÛÝáõÃÛáõÝ ï³ÉáõÝ Ñ³Ï»ÉÁ Ï³Ù Ñ³ñÏ³¹ñ»ÉÁ | D85: 169 | AD85: =SUM(T85:W85) -> 0 | AE85: =G85 -> 0 | AF85: =E85+F85 -> 0 | AG85: =T85 -> 0 | AH85: =M85+N85+O85+P85+Q85+R85+S85 -> 0 | AI85: =G85 -> 0 | AJ85: =T85+U85 -> 0
A86: 5.6 | B86: ø³Õ³ù³óÇ³Ï³Ý Ï³óáõÃÛ³Ý ³Ïï»ñÇ ·ñ³ÝóÙ³Ý Ù³ñÙÇÝÝ»ñÇÝ ëáõï ï»Õ»ÏáõÃÛáõÝÝ»ñ Ñ³Õáñ¹»ÉÁ | D86: 169.1 | AD86: =SUM(T86:W86) -> 0 | AE86: =G86 -> 0 | AF86: =E86+F86 -> 0 | AG86: =T86 -> 0 | AH86: =M86+N86+O86+P86+Q86+R86+S86 -> 0 | AI86: =G86 -> 0 | AJ86: =T86+U86 -> 0
A87: 5.7 | B87: ºñ»Ë³ÛÇÝ ¹³ëïÇ³ñ³Ï»Éáõ å³ñï³Ï³ÝáõÃÛáõÝÁ ãÏ³ï³ñ»ÉÁ | D87: 170 | AD87: =SUM(T87:W87) -> 0 | AE87: =G87 -> 0 | AF87: =E87+F87 -> 0 | AG87: =T87 -> 0 | AH87: =M87+N87+O87+P87+Q87+R87+S87 -> 0 | AI87: =G87 -> 0 | AJ87: =T87+U87 -> 0
A88: 5.8 | B88: ºñ»Ë³ÛÇ ÏÛ³ÝùÇ ³Ýíï³Ý·áõÃÛ³Ý ³å³ÑáíÙ³Ý Ï³Ù ³éáÕçáõÃÛ³Ý å³Ñå³ÝÙ³Ý å³ñï³Ï³ÝáõÃÛáõÝÁ ãÏ³ï³ñ»ÉÁ Ï³Ù áã å³ïß³× Ï³ï³ñ»ÉÁ | D88: 171 | AD88: =SUM(T88:W88) -> 0 | AE88: =G88 -> 0 | AF88: =E88+F88 -> 0 | AG88: =T88 -> 0 | AH88: =M88+N88+O88+P88+Q88+R88+S88 -> 0 | AI88: =G88 -> 0 | AJ88: =T88+U88 -> 0
A89: 5.9 | B89: ÊÝ³Ù³Ï³ÉÇ Ï³Ù Ñá·³µ³ñÓáõÇ Çñ³íáõÝùÝ»ñÁ ã³ñ³ß³Ñ»ÉÁ | D89: 172 | AD89: =SUM(T89:W89) -> 0 | AE89: =G89 -> 0 | AF89: =E89+F89 -> 0 | AG89: =T89 -> 0 | AH89: =M89+N89+O89+P89+Q89+R89+S89 -> 0 | AI89: =G89 -> 0 | AJ89: =T89+U89 -> 0
A90: 5.10 | B90: ÌÝáÕÇ ÏáÕÙÇó »ñ»Ë³ÛÇÝ å³Ñ»Éáõó ã³ñ³Ùïáñ»Ý Ëáõë³÷»ÉÁ (áõÅÁ Ïáñóñ³Í) | D90: 173 | AD90: =SUM(T90:W90) -> 0 | AE90: =G90 -> 0 | AF90: =E90+F90 -> 0 | AG90: =T90 -> 0 | AH90: =M90+N90+O90+P90+Q90+R90+S90 -> 0 | AI90: =G90 -> 0 | AJ90: =T90+U90 -> 0
A91: 5.11 | B91: ¼³í³ÏÇ ÏáÕÙÇó ³Ý³ßË³ïáõÝ³Ï ÍÝáÕÇÝ å³Ñ»Éáõó ã³ñ³Ùïáñ»Ý Ëáõë³÷»ÉÁ | D91: 174 | AD91: =SUM(T91:W91) -> 0 | AE91: =G91 -> 0 | AF91: =E91+F91 -> 0 | AG91: =T91 -> 0 | AH91: =M91+N91+O91+P91+Q91+R91+S91 -> 0 | AI91: =G91 -> 0 | AJ91: =T91+U91 -> 0
A92: 5.12 | B92: ²ÛÉ Ñ³Ýó³·áñÍáõÃÛáõÝÝ»ñ | AD92: =SUM(T92:W92) -> 0 | AE92: =G92 -> 0 | AF92: =E92+F92 -> 0 | AG92: =T92 -> 0 | AH92: =M92+N92+O92+P92+Q92+R92+S92 -> 0 | AI92: =G92 -> 0 | AJ92: =T92+U92 -> 0
A93: 6. | B93: ÀÝ¹³Ù»ÝÁ ë»÷³Ï³ÝáõÃÛ³Ý ¹»Ù áõÕÕí³Í Ñ³Ýó³·áñÍáõÃÛáõÝÝ»ñÁ | E93: =SUM(E94:E106) -> 0 | F93: =SUM(F94:F106) -> 0 | G93: =SUM(G94:G106) -> 0 | H93: =SUM(H94:H106) -> 0 | I93: =SUM(I94:I106) -> 0 | J93: =SUM(J94:J106) -> 0 | K93: =SUM(K94:K106) -> 0 | L93: =SUM(L94:L106) -> 0 | ... AD93: =SUM(AD94:AD106) -> 0 | AE93: =G93 -> 0 | AF93: =E93+F93 -> 0 | AG93: =T93 -> 0 | AH93: =M93+N93+O93+P93+Q93+R93+S93 -> 0 | AI93: =G93 -> 0 | AJ93: =T93+U93 -> 0
A94: 6.1 | B94: ²í³½³ÏáõÃÛáõÝÁ | D94: 175 | AD94: =SUM(T94:W94) -> 0 | AE94: =G94 -> 0 | AF94: =E94+F94 -> 0 | AG94: =T94 -> 0 | AH94: =M94+N94+O94+P94+Q94+R94+S94 -> 0 | AI94: =G94 -> 0 | AJ94: =T94+U94 -> 0
A95: 6.2 | B95: ÎáÕáåáõïÁ | D95: 176 | AD95: =SUM(T95:W95) -> 0 | AE95: =G95 -> 0 | AF95: =E95+F95 -> 0 | AG95: =T95 -> 0 | AH95: =M95+N95+O95+P95+Q95+R95+S95 -> 0 | AI95: =G95 -> 0 | AJ95: =T95+U95 -> 0
A96: 6.3 | B96: ¶áÕáõÃÛáõÝÁ | D96: 177 | AD96: =SUM(T96:W96) -> 0 | AE96: =G96 -> 0 | AF96: =E96+F96 -> 0 | AG96: =T96 -> 0 | AH96: =M96+N96+O96+P96+Q96+R96+S96 -> 0 | AI96: =G96 -> 0 | AJ96: =T96+U96 -> 0
A97: 6.4 | B97: Ê³ñ¹³ËáõÃÛáõÝÁ | D97: 178 | AD97: =SUM(T97:W97) -> 0 | AE97: =G97 -> 0 | AF97: =E97+F97 -> 0 | AG97: =T97 -> 0 | AH97: =M97+N97+O97+P97+Q97+R97+S97 -> 0 | AI97: =G97 -> 0 | AJ97: =T97+U97 -> 0
A98: 6.5 | B98: Úáõñ³óÝ»ÉÁ Ï³Ù í³ïÝ»ÉÁ | D98: 179 | AD98: =SUM(T98:W98) -> 0 | AE98: =G98 -> 0 | AF98: =E98+F98 -> 0 | AG98: =T98 -> 0 | AH98: =M98+N98+O98+P98+Q98+R98+S98 -> 0 | AI98: =G98 -> 0 | AJ98: =T98+U98 -> 0
A99: 6.6 | B99: ²é³ÝÓÝ³ÏÇ ³ñÅ»ù áõÝ»óáÕ ³é³ñÏ³Ý»ñ Ñ³÷ßï³Ï»ÉÁ | D99: 180 | AD99: =SUM(T99:W99) -> 0 | AE99: =G99 -> 0 | AF99: =E99+F99 -> 0 | AG99: =T99 -> 0 | AH99: =M99+N99+O99+P99+Q99+R99+S99 -> 0 | AI99: =G99 -> 0 | AJ99: =T99+U99 -> 0
A100: 6.7 | B100: Ð³÷ßï³ÏáõÃÛáõÝÁ, áñÁ Ï³ï³ñí»É ¿ Ñ³Ù³Ï³ñ·ã³ÛÇÝ ï»ËÝÇÏ³ÛÇ û·ï³·áñÍÙ³Ùµ | D100: 181 | AD100: =SUM(T100:W100) -> 0 | AE100: =G100 -> 0 | AF100: =E100+F100 -> 0 | AG100: =T100 -> 0 | AH100: =M100+N100+O100+P100+Q100+R100+S100 -> 0 | AI100: =G100 -> 0 | AJ100: =T100+U100 -> 0
A101: 6.8 | B101: ÞáñÃáõÙÁ | D101: 182 | AD101: =SUM(T101:W101) -> 0 | AE101: =G101 -> 0 | AF101: =E101+F101 -> 0 | AG101: =T101 -> 0 | AH101: =M101+N101+O101+P101+Q101+R101+S101 -> 0 | AI101: =G101 -> 0 | AJ101: =T101+U101 -> 0
A102: 6.9 | B102: ²íïáÙ»ù»Ý³ÛÇÝ Ï³Ù ïñ³Ýëåáñï³ÛÇÝ ³ÛÉ ÙÇçáóÇÝ ³åûñÇÝ³µ³ñ ïÇñ³Ý³ÉÝ ³é³Ýó Ñ³÷ßï³Ï»Éáõ Ýå³ï³ÏÇ | D102: 183 | AD102: =SUM(T102:W102) -> 0 | AE102: =G102 -> 0 | AF102: =E102+F102 -> 0 | AG102: =T102 -> 0 | AH102: =M102+N102+O102+P102+Q102+R102+S102 -> 0 | AI102: =G102 -> 0 | AJ102: =T102+U102 -> 0
A103: 6.10 | B103: ¶áõÛù³ÛÇÝ íÝ³ë å³ï×³é»ÉÁ Ë³µ»áõÃÛ³Ý Ï³Ù íëï³ÑáõÃÛáõÝÁ ã³ñ³ß³Ñ»Éáõ »Õ³Ý³Ïáí | D103: 184 | AD103: =SUM(T103:W103) -> 0 | AE103: =G103 -> 0 | AF103: =E103+F103 -> 0 | AG103: =T103 -> 0 | AH103: =M103+N103+O103+P103+Q103+R103+S103 -> 0 | AI103: =G103 -> 0 | AJ103: =T103+U103 -> 0
A104: 6.11 | B104: ¶áõÛùÁ ¹Çï³íáñáõÃÛ³Ùµ áãÝã³óÝ»ÉÁ Ï³Ù íÝ³ë»ÉÁ | D104: 185 | AD104: =SUM(T104:W104) -> 0 | AE104: =G104 -> 0 | AF104: =E104+F104 -> 0 | AG104: =T104 -> 0 | AH104: =M104+N104+O104+P104+Q104+R104+S104 -> 0 | AI104: =G104 -> 0 | AJ104: =T104+U104 -> 0
A105: 6.12 | B105: ¶áõÛùÝ ³Ý½·áõßáõÃÛ³Ùµ áãÝã³óÝ»ÉÁ Ï³Ù íÝ³ë»ÉÁ | D105: 186 | AD105: =SUM(T105:W105) -> 0 | AE105: =G105 -> 0 | AF105: =E105+F105 -> 0 | AG105: =T105 -> 0 | AH105: =M105+N105+O105+P105+Q105+R105+S105 -> 0 | AI105: =G105 -> 0 | AJ105: =T105+U105 -> 0
A106: 6.13 | B106: Գուքի պահպանության պարտականություններն անփույթ կամ անբարեխիղճ կատարելը | D106: 186.1 | AD106: =SUM(T106:W106) -> 0 | AE106: =G106 -> 0 | AF106: =E106+F106 -> 0 | AG106: =T106 -> 0 | AH106: =M106+N106+O106+P106+Q106+R106+S106 -> 0 | AI106: =G106 -> 0 | AJ106: =T106+U106 -> 0
A107: 7. | B107: ÀÝ¹³Ù»ÝÁ ïÝï»ë³Ï³Ý ·áñÍáõÝ»áõÃÛ³Ý ¹»Ù áõÕÕí³Í Ñ³Ýó³·áñÍáõÃÛáõÝÝ»ñÁ | E107: =SUM(E108:E139) -> 0 | F107: =SUM(F108:F139) -> 0 | G107: =SUM(G108:G139) -> 0 | H107: =SUM(H108:H139) -> 0 | I107: =SUM(I108:I139) -> 0 | J107: =SUM(J108:J139) -> 0 | K107: =SUM(K108:K139) -> 0 | L107: =SUM(L108:L139) -> 0 | ... AC107: =SUM(AC108:AC139) -> 0 | AD107: =SUM(T107:W107) -> 0 | AE107: =G107 -> 0 | AF107: =E107+F107 -> 0 | AG107: =T107 -> 0 | AH107: =M107+N107+O107+P107+Q107+R107+S107 -> 0 | AI107: =G107 -> 0 | AJ107: =T107+U107 -> 0
A108: 7.1 | B108: úñÇÝ³Ï³Ý Ó»éÝ³ñÏ³ïÇñ³Ï³Ý ¨ ³ÛÉ ïÝï»ë³Ï³Ý ·áñÍáõÝ»áõÃÛ³ÝÁ ËáãÁÝ¹áï»ÉÁ | D108: 187 | AD108: =SUM(T108:W108) -> 0 | AE108: =G108 -> 0 | AF108: =E108+F108 -> 0 | AG108: =T108 -> 0 | AH108: =M108+N108+O108+P108+Q108+R108+S108 -> 0 | AI108: =G108 -> 0 | AJ108: =T108+U108 -> 0
A109: 7.2 | B109: ²åûñÇÝÇ Ó»éÝ³ñÏ³ïÇñáõÃÛáõÝÁ | D109: 188 | AD109: =SUM(T109:W109) -> 0 | AE109: =G109 -> 0 | AF109: =E109+F109 -> 0 | AG109: =T109 -> 0 | AH109: =M109+N109+O109+P109+Q109+R109+S109 -> 0 | AI109: =G109 -> 0 | AJ109: =T109+U109 -> 0
A110: 7.3 | B110: ²é³Ýó ÉÇó»Ý³½Ç³ÛÇ ³ñï³ñÅáõÛÃÇ í³×³éùÇ Çñ³Ï³Ý³óáõÙÁ | D110: 188.1 | AD110: =SUM(T110:W110) -> 0 | AE110: =G110 -> 0 | AF110: =E110+F110 -> 0 | AG110: =T110 -> 0 | AH110: =M110+N110+O110+P110+Q110+R110+S110 -> 0 | AI110: =G110 -> 0 | AJ110: =T110+U110 -> 0
A111: 7.4 | B111: Î»ÕÍ Ó»éÝ³ñÏ³ïÇñáõÃÛáõÝÁ | D111: 189 | AD111: =SUM(T111:W111) -> 0 | AE111: =G111 -> 0 | AF111: =E111+F111 -> 0 | AG111: =T111 -> 0 | AH111: =M111+N111+O111+P111+Q111+R111+S111 -> 0 | AI111: =G111 -> 0 | AJ111: =T111+U111 -> 0
A112: 7.5 | B112: Ð³Ýó³íáñ ×³Ý³å³ñÑáí ëï³óí³Í »Ï³ÙáõïÝ»ñÇ ûñÇÝ³Ï³Ý³óÝ»ÉÁ (É»·³É³óÝ»ÉÁ) | D112: 190 | AD112: =SUM(T112:W112) -> 0 | AE112: =G112 -> 0 | AF112: =E112+F112 -> 0 | AG112: =T112 -> 0 | AH112: =M112+N112+O112+P112+Q112+R112+S112 -> 0 | AI112: =G112 -> 0 | AJ112: =T112+U112 -> 0
A113: 7.6 | B113: ì³ñÏÁ áã Ýå³ï³Ï³ÛÇÝ û·ï³·áñÍ»ÉÁ | D113: 191 | AD113: =SUM(T113:W113) -> 0 | AE113: =G113 -> 0 | AF113: =E113+F113 -> 0 | AG113: =T113 -> 0 | AH113: =M113+N113+O113+P113+Q113+R113+S113 -> 0 | AI113: =G113 -> 0 | AJ113: =T113+U113 -> 0
A114: 7.7 | B114: ²ÝûñÇÝ³Ï³Ý ·áñÍáÕáõÃÛáõÝÝ»ñÁ ëÝ³ÝÏáõÃÛ³Ý ÁÝÃ³óùáõÙ | D114: 192 | AD114: =SUM(T114:W114) -> 0 | AE114: =G114 -> 0 | AF114: =E114+F114 -> 0 | AG114: =T114 -> 0 | AH114: =M114+N114+O114+P114+Q114+R114+S114 -> 0 | AI114: =G114 -> 0 | AJ114: =T114+U114 -> 0
...

Sheet Avan
A1: Ð²ÞìºîìàôÂÚàôÜ
A2: ²Üâ²ö²Ð²ê ¸²î²ä²ðîÚ²ÈÜºðÆ ìºð²´ºðÚ²È | Y2: 2016Ã.
A3: ìÇ×³Ï³·ñ³Ï³Ý ïáÕÇ Ñ³Ù³ñÁ | B3: Ð²Üò²¶àðÌàôÂÚàôÜÜºðÆ îºê²ÎÜºðÀ | D3: ÐÐ øñ»³Ï³Ý ûñ»Ýë·ñùÇ Ñá¹í³ÍÁ | E3: Ð³Ýó³·áñÍáõÃÛáõÝÁ Ï³ï³ñ»É »Ý | H3: Ýñ³ÝóÇó | M3: ¸³ï³å³ñïÛ³ÉÝ»ñÇ ÝÏ³ïÙ³Ùµ Ýß³Ý³Ïí³Í ÑÇÙÝ³Ï³Ý å³ïÇÅÝ»ñ | V3: Ýß³Ý³Ïí³Í å³ïÇÅÁ å³ÛÙ³Ý³Ï³Ýáñ»Ý ãÇ ÏÇñ³éí»É | W3: ÏÇñ³éí»É ¿ Ñ³Ù³Ý»ñÙ³Ý ³Ïï | X3: ÎÇñ³éí»É »Ý ¹³ëïÇ³ñ³Ïã³Ï³Ý µÝáõÛÃÇ Ñ³ñÏ³¹ñ³ÝùÇ ÙÇçáó | Y3: ²ÝÓ³Ýó ÃÇíÁ, áñáÝù ÙÇÝã¨ í»ñçÇÝ Ñ³Ýó³·áñÍáõÃÛáõÝÁ Ï³ï³ñ»ÉÁ
E4: 14-16 ï³ñ»Ï³ÝáõÙ | F4: 16-18 ï³ñ»Ï³ÝáõÙ | G4: ÀÝ¹³Ù»ÝÁ | H4: ³ÕçÇÏÝ»ñ | I4: ã»Ý ³ßË³ï»É, ã»Ý ëáíáñ»É | J4: ³ÝÓÇÝù, áñáÝù Ñ³Ýó³·áñÍáõÃÛáõÝÁ Ï³ï³ñ»É »Ý | M4: ² ½ ³ ï ³ ½ ñ Ï áõ Ù | U4: ³ÛÉ å³ïÇÅÝ»ñ | Y4: ·ïÝí»É »Ý áëïÇÏ³ÝáõÃÛ³Ý Ù³ñÙÇÝÝ»ñáõÙ Ñ³ßí³éÙ³Ý Ù»ç | Z4: Ï³ï³ñ»É »Ý Ñ³Ýó³·áñÍáõÃÛáõÝ ¨ »Õ»É »Ý
Z5: ³½³ïí³Í ùñ»³Ï³Ý å³ï³ëË³Ý³ïíáõÃÛáõÝÇó | AA5: ¹³ï³å³ñïí³Í | AB5: ²Û¹ ÃíáõÙ
B6: êîàô¶Æâ Ð²ì²ê²ðàôØÜºð 3=1+2, 16=9+10+11+12+13+14+15, 3=16+17+18+19 | J6: ³ÉÏ., ÃÙñ³ÙÇç. Ï³Ù ÃÝñ»óÝáÕ ³ÛÉ ÝÛáõÃ»ñÇ ³½¹»óáõÃÛ³Ý ï³Ï | K6: ØÇ ËáõÙµ ³ÝÓ³Ýó Ï³½ÙáõÙ | L6: ³Û¹ ÃíáõÙª Ù»Í³Ñ³ë³ÏÝ»ñÇ Ù³ëÝ³ÏóáõÃÛ³Ùµ | M6: 1 ï³ñÇ Ý»ñ³éÛ³É | N6: 1 ï³ñáõó ³í»É, ÙÇÝã¨ 2 ï³ñÇ Ý»ñ³éÛ³É | O6: 2 ï³ñáõó ³í»É, ÙÇÝã¨ 3 ï³ñÇ Ý»ñ³éÛ³É | P6: 3 ï³ñáõó ³í»É, ÙÇÝã¨ 5 ï³ñÇ Ý»ñ³éÛ³É | Q6: 5 ï³ñáõó ³í»É, ÙÇÝã¨ 8 ï³ñÇ Ý»ñ³éÛ³É | R6: 8 ï³ñáõó ³í»É, ÙÇÝã¨ 10 ï³ñÇ Ý»ñ³éÛ³É | S6: 10 ï³ñáõó ³í»É, ÙÇÝã¨ 12ï³ñÇ Ý»ñ³éÛ³É | T6: ÁÝ¹³Ù»ÝÁ | AB6: ¹³ï³í×éÇ Ï³ï³ñÙ³Ý Ñ»ï³Ó·áõÙáí | AC6: å³ÛÙ³Ý³Ï³Ý ¹³ï³å³ñïáõÃÛáõÝ
E7: 1 | F7: 2 | G7: 3 | H7: 4 | I7: 5 | J7: 6 | K7: 7 | L7: 8 | M7: 9 | N7: 10 | O7: 11 | P7: 12 | Q7: 13 | R7: 14 | S7: 15 | T7: 16 | U7: 17 | V7: 18 | W7: 19 | X7: 20 | Y7: 21 | Z7: 22 | AA7: 23 | AB7: 24 | AC7: 25 | AE7: 3=1+2 | AG7: 16=9+10+11+12+13+14+15 | AI7: 3=16+17
A8: 1. | B8: ÀÝ¹³Ù»ÝÁ ÏÛ³ÝùÇ ¨ ³éáÕçáõÃÛ³Ý ¹»Ù áõÕÕí³Í Ñ³Ýó³·áñÍáõÃÛáõÝÝ»ñÁ | E8: =SUM(E9:E35) -> 0 | F8: =SUM(F9:F35) -> 0 | G8: =SUM(G9:G35) -> 0 | H8: =SUM(H9:H35) -> 0 | I8: =SUM(I9:I35) -> 0 | J8: =SUM(J9:J35) -> 0 | K8: =SUM(K9:K35) -> 0 | L8: =SUM(L9:L35) -> 0 | ... AC8: =SUM(AC9:AC35) -> 0 | AD8: =SUM(T8:W8) -> 0 | AE8: =G8 -> 0 | AF8: =E8+F8 -> 0 | AG8: =T8 -> 0 | AH8: =M8+N8+O8+P8+Q8+R8+S8 -> 0 | AI8: =G8 -> 0 | AJ8: =T8+U8 -> 0
A9: 1.1 | B9: êå³ÝáõÃÛáõÝÁ | D9: 104 | AD9: =SUM(T9:W9) -> 0 | AE9: =G9 -> 0 | AF9: =E9+F9 -> 0 | AG9: =T9 -> 0 | AH9: =M9+N9+O9+P9+Q9+R9+S9 -> 0 | AI9: =G9 -> 0 | AJ9: =T9+U9 -> 0
A10: 1.2 | B10: Ðá·»Ï³Ý ËÇëï Ñáõ½ÙáõÝùÇ íÇ×³ÏáõÙ Ï³ï³ñí³Í ëå³ÝáõÃÛáõÝÁ | D10: 105 | AD10: =SUM(T10:W10) -> 0 | AE10: =G10 -> 0 | AF10: =E10+F10 -> 0 | AG10: =T10 -> 0 | AH10: =M10+N10+O10+P10+Q10+R10+S10 -> 0 | AI10: =G10 -> 0 | AJ10: =T10+U10 -> 0
A11: 1.3 | B11: Øáñ ÏáÕÙÇó Ýáñ³ÍÇÝ »ñ»Ë³ÛÇ ëå³ÝáõÃÛáõÝÁ | D11: 106 | AD11: =SUM(T11:W11) -> 0 | AE11: =G11 -> 0 | AF11: =E11+F11 -> 0 | AG11: =T11 -> 0 | AH11: =M11+N11+O11+P11+Q11+R11+S11 -> 0 | AI11: =G11 -> 0 | AJ11: =T11+U11 -> 0
A12: 1.4 | B12: Ð³Ýó³Ýù Ï³ï³ñ³Í ³ÝÓÇÝ µéÝ»Éáõ Ñ³Ù³ñ ³ÝÑñ³Å»ßï ÙÇçáóÝ»ñÇ ë³ÑÙ³Ý³½³ÝóÙ³Ùµ ëå³ÝáõÃÛáõÝÁ | D12: 107 | AD12: =SUM(T12:W12) -> 0 | AE12: =G12 -> 0 | AF12: =E12+F12 -> 0 | AG12: =T12 -> 0 | AH12: =M12+N12+O12+P12+Q12+R12+S12 -> 0 | AI12: =G12 -> 0 | AJ12: =T12+U12 -> 0
A13: 1.5 | B13: ²ÝÑñ³Å»ßï å³ßïå³ÝáõÃÛ³Ý ë³ÑÙ³Ý³½³ÝóÙ³Ùµ ëå³ÝáõÃÛáõÝÁ | D13: 108 | AD13: =SUM(T13:W13) -> 0 | AE13: =G13 -> 0 | AF13: =E13+F13 -> 0 | AG13: =T13 -> 0 | AH13: =M13+N13+O13+P13+Q13+R13+S13 -> 0 | AI13: =G13 -> 0 | AJ13: =T13+U13 -> 0
A14: 1.6 | B14: ²Ý½·áõßáõÃÛ³Ùµ Ù³Ñ å³ï×³é»ÉÁ | D14: 109 | AD14: =SUM(T14:W14) -> 0 | AE14: =G14 -> 0 | AF14: =E14+F14 -> 0 | AG14: =T14 -> 0 | AH14: =M14+N14+O14+P14+Q14+R14+S14 -> 0 | AI14: =G14 -> 0 | AJ14: =T14+U14 -> 0
A15: 1.7 | B15: ÆÝùÝ³ëå³ÝáõÃÛ³Ý Ñ³ëóÝ»ÉÁ | D15: 110 | AD15: =SUM(T15:W15) -> 0 | AE15: =G15 -> 0 | AF15: =E15+F15 -> 0 | AG15: =T15 -> 0 | AH15: =M15+N15+O15+P15+Q15+R15+S15 -> 0 | AI15: =G15 -> 0 | AJ15: =T15+U15 -> 0
