Workbook

Sheet Ընդհանուր
A1: 2015Ã. | G1: Ð²ÞìºîìàôÂÚàôÜ | AM1: Ï³½Ùí³Í` ÐÐ Ï³é³í³ñáõÃÛ³Ý 19.03.2015Ã. ÃÇí 306-Ü áñáßÙ³Ý ÑÇÙ³Ý íñ³
A2: ՀՀ ՍՅՈՒՆԻՔԻ ՄԱՐԶԻ ÀÜ¸Ð²Üàôð Æð²ì²êàôÂÚ²Ü ²è²æÆÜ ²îÚ²ÜÆ ¸²î²ð²ÜÆ ¸²î²ìàð | Z2: ¶àðÌàôÜºàôÂÚ²Ü ìºð²´ºðÚ²È
A3: ø²Ô²ø²òÆ²Î²Ü ¶àðÌºðàì
A4: ՀՀ Սյունիքի մարզի ÁÝ¹Ñ³Ýáõñ Çñ³í³ëáõÃÛ³Ý ³é³çÇÝ ³ïÛ³ÝÇ ¹³ï³ñ³ÝÇ ù³Õ³ù³óÇ³Ï³Ý Ù³ëÝ³·Çï³óáõÙ áõÝ»óáÕ ¹³ï³íáñÝ»ñÇ Ñ³ëïÇùÝ»ñÇ ù³Ý³ÏÁ` 5
A5: êïáõ·Çã Ñ³í³ë³ñáõÙÝ»ñª 1=2+3+4+5, 6=7+8+9, 2+3+7=10+21+22+24, 11=12+13+14+15+16, 16=17+18+19, 21=11+20, 28=26+27, 28=29+30, 35=33+34, 35=36+37 | E5: Ð³ßí»ïáõ Å³Ù³Ý³Ï³Ñ³ïí³ÍáõÙ Ý³Ëáñ¹ Ñ³ßí»ïáõ Å³Ù³Ý³Ï³Ñ³ïí³ÍÇó ÷áË³Ýóí³Í ·áñÍ»ñÇ ÁÝ¹Ñ³Ýáõñ ÃÇíÁ | J5: Ð³ßí»ïáõ Å³Ù³Ý³Ï³Ñ³ïí³ÍáõÙëï³óí³Í ·áñÍ»ñÇ (³Û¹ ÃíáõÙ` Ñ³Ûó³¹ÇÙáõÙÝ»ñÇ, ¹ÇÙáõÙÝ»ñÇ) ÁÝ¹Ñ³Ýáõñ ÃÇíÁ | N5: öáË³Ýóí»É ¿ ³ÛÉ ¹³ï³íáñÇ (Ï³½ÙÇ ÷á÷áËáõÃÛáõÝ) | O5: Ð³ßí»ïáõ Å³Ù³Ý³Ï³Ñ³ïí³ÍáõÙ ³í³ñïí³Í ·áñÍ»ñÇ ÁÝ¹Ñ³Ýáõñ ÃÇíÁ | Z5: ¶áñÍÝ áõÕ³ñÏí»É ¿ Áëï ÁÝ¹¹³ïáõÃÛ³Ý | AA5: Ð³ßí»ïáõ Å³Ù³Ý³Ï³Ñ³ïí³ÍáõÙ Ï³ë»óí³Í í³ñáõÛÃÝ»ñáí ·áñÍ»ñÇ ÁÝ¹Ñ³Ýáõñ ÃÇíÁ | AB5: Ð³ßí»ïáõ Å³Ù³Ý³Ï³Ñ³ïí³ÍáõÙ ³Ý³í³ñï ·áñÍ»ñÇ ÁÝ¹Ñ³Ýáõñ ÃÇíÁ | AC5: ²Û¹ ÃíáõÙª Ï³ë»óí³Í | AD5: ´áÕáù³ñÏí³Í ¹³ï³Ï³Ý ³Ïï»ñÁ | AI5: ²í³ñïí³Í ¹³ï³Ï³Ý ·áñÍ»ñÇ µáÕáù³ñÏÙ³Ý ïáÏáëÁ (Ñ³ßí»ïáõ Å³Ù³Ý³Ï³ßñç³ÝáõÙ) | AJ5: ²Ý³í³ñï µáÕáùÝ»ñ | AK5: ´»Ï³Ýí³Í ¹³ï³Ï³Ý ³Ïï»ñÁ | AP5: µ»Ï³ÝáõÙÝ»ñÇ ïáÏáëÁ ³í³ñïí³Í ·áñÍ»ñÇó(Ñ³ßí»ïáõ Å³Ù³Ý³Ï³ßñç³ÝáõÙ) | AQ5: Î³ÛáõÝáõÃÛ³Ý ïáÏáëÁ ³í³ñïí³Í ·áñÍ»ñÇó(Ñ³ßí»ïáõ Å³Ù³Ý³Ï³ßñç³ÝáõÙ) | AR5: µ»Ï³ÝáõÙÝ»ñÇ ïáÏáëÁ µáÕáù³ñÏí³Í ·áñÍ»ñÇó(Ñ³ßí»ïáõ Å³Ù³Ý³Ï³ßñç³ÝáõÙ) | AS5: Ï³ÛáõÝáõÃÛ³Ý ïáÏáëÁ(Ñ³ßí»ïáõ Å³Ù³Ý³Ï³ßñç³ÝáõÙ)
E6: ÀÝ¹³Ù»ÝÁ | F6: ²Û¹ ÃíáõÙ`Ï³ë»óí³Í íÇ×³ÏáõÙ ÷áË³Ýóí³Í | G6: ²Û¹ ÃíáõÙª ÁÝ¹áõÝí»É ¿ í³ñáõÛÃ | H6: ²Û¹ ÃíáõÙª í»ñ³¹³ñÓí»É ¿ | I6: ²Û¹ ÃíáõÙª ÁÝ¹áõÝáõÙÁ Ù»ñÅí»É ¿ | J6: ÀÝ¹³Ù»ÝÁ | K6: ²Û¹ ÃíáõÙª ÁÝ¹áõÝí»É ¿ í³ñáõÛÃ | L6: ²Û¹ ÃíáõÙª í»ñ³¹³ñÓí»É ¿ | M6: ²Û¹ ÃíáõÙª ÁÝ¹áõÝáõÙÁ Ù»ñÅí»É ¿ | O6: ÀÝ¹³Ù»ÝÁ ³í³ñïí»É »Ý ·áñÍ»ñ ·áñÍÝ Áëï ¿áõÃÛ³Ý ÉáõÍáÕ ¹³ï³Ï³Ý ³Ïï»ñÇ (í×ÇéÝ»ñÇ) Ï³Û³óÙ³Ùµ | P6: ²Û¹ ÃíáõÙª Ñ³ÛóÇ µ³í³ñ³ñÙ³Ùµ | Q6: ²Û¹ ÃíáõÙª Ñ³ÛóÇ Ù³ëÝ³ÏÇ µ³í³ñ³ñÙ³Ùµ | R6: ²Û¹ ÃíáõÙª Ñ³ÛóÇ Ù»ñÅÙ³Ùµ | S6: Ø³ëáí Ï³ñ×í»É ¿É, Ù³ëáí Ù»ñÅí»É | T6: ²Û¹ ÃíáõÙª Ï³ñ×í»É »Ý | X6: Ð³ÛóÁ ÃáÕÝí»É ¿ ³é³Ýó ùÝÝáõÃÛ³Ý | Y6: ÀÝ¹³Ù»ÝÝ ³í³ñïí»É »Ý ·áñÍ»ñ | AD6: ²Û¹ ÃíáõÙ` ·áñÍÝ Áëï ¿áõÃÛ³Ý ÉáõÍáÕ ¹³ï³Ï³Ý ³Ïï»ñÁ | AE6: ²Û¹ ÃíáõÙ` ÙÇç³ÝÏÛ³É ¹³ï³Ï³Ý ³Ïï»ñÁ | AF6: ÀÝ¹³Ù»ÝÁ | AG6: Ü³Ëáñ¹ ï³ñÇÝ»ñÇÝ Ï³Û³óí³Í ³Ïï»ñÇ µáÕáù³ñÏáõÙÁ Ñ³ßí»ïáõ Å³Ù³Ý³Ï³ßñç³ÝáõÙ | AH6: Ð³ßí»ïáõ Å³Ù³Ý³Ï³ßñç³ÝáõÙ Ï³Û³óí³Í ³Ïï»ñÇ µáÕáù³ñÏáõÙÁ | AK6: ²Û¹ ÃíáõÙ` ·áñÍÝ Áëï ¿áõÃÛ³Ý ÉáõÍáÕ ¹³ï³Ï³Ý ³Ïï»ñÁ | AL6: ²Û¹ ÃíáõÙ` ÙÇç³ÝÏÛ³É ¹³ï³Ï³Ý ³Ïï»ñÁ | AM6: ÀÝ¹³Ù»ÝÁ | AN6: Ü³Ëáñ¹ ï³ñÇÝ»ñÇÝ Ï³Û³óí³Í ³Ïï»ñÇ µ»Ï³ÝáõÙÝ»ñÁ Ñ³ßí»ïáõ Å³Ù³Ý³Ï³ßñç³ÝáõÙ | AO6: Ð³ßí»ïáõ Å³Ù³Ý³Ï³ßñç³ÝáõÙ Ï³Û³óí³Í ³Ïï»ñÇ µ»Ï³ÝáõÙÁ
T7: ÀÝ¹³Ù»ÝÁ Ï³ñ×í»É »Ý | U7: ²Û¹ ÃíáõÙª Ñ³ëï³ïí»É ¿ ÏÝùí³Í Ñ³ßïáõÃÛ³Ý Ñ³Ù³Ó³ÛÝáõÃÛáõÝÁ | V7: ²Û¹ ÃíáõÙª Ñ³óÇó, ¹ÇÙáõÙÇó Ññ³Å³ñí»Éáõ ÑÇÙùáí | W7: ²Û¹ ÃíáõÙª ³ÛÉ ÑÇÙùáí
E8: 1 | F8: 2 | G8: 3 | H8: 4 | I8: 5 | J8: 6 | K8: 7 | L8: 8 | M8: 9 | N8: 10 | O8: 11 | P8: 12 | Q8: 13 | R8: 14 | S8: 15 | T8: 16 | U8: 17 | V8: 18 | W8: 19 | X8: 20 | Y8: 21 | Z8: 22 | AA8: 23 | AB8: 24 | AC8: 25 | AD8: 26 | AE8: 27 | AF8: 28 | AG8: 29 | AH8: 30 | AI8: 31 | AJ8: 32 | AK8: 33 | AL8: 34 | AM8: 35 | AN8: 36 | AO8: 37 | AP8: 38 | AQ8: 39 | AR8: 40 | AS8: 41 | AT8: 1=2+3+4+5 | AV8: 6=7+8+9 | AX8: 2+3+7=10+21+22+24 | AZ8: 11=12+13+14+15+16 | BB8: 16=17+18+19 | BD8: 21=11+20 | BF8: 28=26+27 | BH8: 28=29+30 | BJ8: 35=33+34 | BL8: 35=36+37
A9: 1. | B9: ¶áõÛù³ÛÇÝ Çñ³í³Ñ³ñ³µ»ñáõÃÛáõÝÝ»ñÇ í»ñ³µ»ñÛ³É ¹³ï³Ï³Ý ·áñÍ»ñ | E9: =SUM(E10:E28) -> 85 | F9: =SUM(F10:F28) -> 39 | G9: =SUM(G10:G28) -> 46 | H9: =SUM(H10:H28) -> 0 | I9: =SUM(I10:I28) -> 0 | J9: =SUM(J10:J28) -> 54 | K9: =SUM(K10:K28) -> 45 | L9: =SUM(L10:L28) -> 9 | ... BM9: =SUM(BM10:BM28) -> 0
A10: 1.1 | B10: ¶áõÛùÇ ÝÏ³ïÙ³Ùµ ë»÷³Ï³ÝáõÃÛ³Ý Çñ³íáõÝùÁ ×³Ý³ã»Éáõ í»ñ³µ»ñÛ³É | E10: =SUM('Ի.Բեգլարյան:Ս. Գրիգորյան'!E10) -> 1 | F10: =SUM('Ի.Բեգլարյան:Ս. Գրիգորյան'!F10) -> 0 | G10: =SUM('Ի.Բեգլարյան:Ս. Գրիգորյան'!G10) -> 1 | H10: =SUM('Ի.Բեգլարյան:Ս. Գրիգորյան'!H10) -> 0 | I10: =SUM('Ի.Բեգլարյան:Ս. Գրիգորյան'!I10) -> 0 | J10: =SUM('Ի.Բեգլարյան:Ս. Գրիգորյան'!J10) -> 4 | K10: =SUM('Ի.Բեգլարյան:Ս. Գրիգորյան'!K10) -> 3 | L10: =SUM('Ի.Բեգլարյան:Ս. Գրիգորյան'!L10) -> 1 | ... AS10: =SUM('Ի.Բեգլարյան:Ս. Գրիգորյան'!AS10) -> 0 | AT10: =E10 -> 1 | AU10: =F10+G10+H10+I10 -> 1 | AV10: =J10 -> 4 | AW10: =K10+L10+M10 -> 4 | AX10: =F10+G10+K10 -> 4 | AY10: =N10+Y10+Z10+AB10 -> 4 | AZ10: =O10 -> 3 | BA10: =P10+Q10+R10+S10+T10 -> 3 | BB10: =T10 -> 1 | BC10: =+U10+V10+W10 -> 1 | BD10: =Y10 -> 3 | BE10: =+O10+X10 -> 3 | BF10: =AF10 -> 0 | BG10: =AD10+AE10 -> 0 | BH10: =AF10 -> 0 | BI10: =AG10+AH10 -> 0 | BJ10: =AM10 -> 0 | BK10: =AK10+AL10 -> 0 | BL10: =AM10 -> 0 | BM10: =AN10+AO10 -> 0
A11: 1.1.1 | B11: ²Û¹ ÃíáõÙª Ó»éùµ»ñÙ³Ý í³Õ»ÙáõÃÛ³Ý áõÅáí | E11: =SUM('Ի.Բեգլարյան:Ս. Գրիգորյան'!E11) -> 4 | F11: =SUM('Ի.Բեգլարյան:Ս. Գրիգորյան'!F11) -> 0 | G11: =SUM('Ի.Բեգլարյան:Ս. Գրիգորյան'!G11) -> 4 | H11: =SUM('Ի.Բեգլարյան:Ս. Գրիգորյան'!H11) -> 0 | I11: =SUM('Ի.Բեգլարյան:Ս. Գրիգորյան'!I11) -> 0 | J11: =SUM('Ի.Բեգլարյան:Ս. Գրիգորյան'!J11) -> 4 | K11: =SUM('Ի.Բեգլարյան:Ս. Գրիգորյան'!K11) -> 4 | L11: =SUM('Ի.Բեգլարյան:Ս. Գրիգորյան'!L11) -> 0 | ... AS11: =SUM('Ի.Բեգլարյան:Ս. Գրիգորյան'!AS11) -> 0 | AT11: =E11 -> 4 | AU11: =F11+G11+H11+I11 -> 4 | AV11: =J11 -> 4 | AW11: =K11+L11+M11 -> 4 | AX11: =F11+G11+K11 -> 8 | AY11: =N11+Y11+Z11+AB11 -> 8 | AZ11: =O11 -> 4 | BA11: =P11+Q11+R11+S11+T11 -> 4 | BB11: =T11 -> 0 | BC11: =+U11+V11+W11 -> 0 | BD11: =Y11 -> 4 | BE11: =+O11+X11 -> 4 | BF11: =AF11 -> 0 | BG11: =AD11+AE11 -> 0 | BH11: =AF11 -> 0 | BI11: =AG11+AH11 -> 0 | BJ11: =AM11 -> 0 | BK11: =AK11+AL11 -> 0 | BL11: =AM11 -> 0 | BM11: =AN11+AO11 -> 0
A12: 1.1.2 | B12: ²Û¹ ÃíáõÙª ïÇñ³½áõñÏ ·áõÛùÇ ÝÏ³ïÙ³Ùµ | E12: =SUM('Ի.Բեգլարյան:Ս. Գրիգորյան'!E12) -> 0 | F12: =SUM('Ի.Բեգլարյան:Ս. Գրիգորյան'!F12) -> 0 | G12: =SUM('Ի.Բեգլարյան:Ս. Գրիգորյան'!G12) -> 0 | H12: =SUM('Ի.Բեգլարյան:Ս. Գրիգորյան'!H12) -> 0 | I12: =SUM('Ի.Բեգլարյան:Ս. Գրիգորյան'!I12) -> 0 | J12: =SUM('Ի.Բեգլարյան:Ս. Գրիգորյան'!J12) -> 5 | K12: =SUM('Ի.Բեգլարյան:Ս. Գրիգորյան'!K12) -> 3 | L12: =SUM('Ի.Բեգլարյան:Ս. Գրիգորյան'!L12) -> 2 | ... AS12: =SUM('Ի.Բեգլարյան:Ս. Գրիգորյան'!AS12) -> 0 | AT12: =E12 -> 0 | AU12: =F12+G12+H12+I12 -> 0 | AV12: =J12 -> 5 | AW12: =K12+L12+M12 -> 5 | AX12: =F12+G12+K12 -> 3 | AY12: =N12+Y12+Z12+AB12 -> 3 | AZ12: =O12 -> 0 | BA12: =P12+Q12+R12+S12+T12 -> 0 | BB12: =T12 -> 0 | BC12: =+U12+V12+W12 -> 0 | BD12: =Y12 -> 0 | BE12: =+O12+X12 -> 0 | BF12: =AF12 -> 0 | BG12: =AD12+AE12 -> 0 | BH12: =AF12 -> 0 | BI12: =AG12+AH12 -> 0 | BJ12: =AM12 -> 0 | BK12: =AK12+AL12 -> 0 | BL12: =AM12 -> 0 | BM12: =AN12+AO12 -> 0
A13: 1.1.3 | B13: ²Û¹ ÃíáõÙª ÇÝùÝ³Ï³Ù Ï³éáõÛóÇ ÝÏ³ïÙ³Ùµ | E13: =SUM('Ի.Բեգլարյան:Ս. Գրիգորյան'!E13) -> 0 | F13: =SUM('Ի.Բեգլարյան:Ս. Գրիգորյան'!F13) -> 0 | G13: =SUM('Ի.Բեգլարյան:Ս. Գրիգորյան'!G13) -> 0 | H13: =SUM('Ի.Բեգլարյան:Ս. Գրիգորյան'!H13) -> 0 | I13: =SUM('Ի.Բեգլարյան:Ս. Գրիգորյան'!I13) -> 0 | J13: =SUM('Ի.Բեգլարյան:Ս. Գրիգորյան'!J13) -> 0 | K13: =SUM('Ի.Բեգլարյան:Ս. Գրիգորյան'!K13) -> 0 | L13: =SUM('Ի.Բեգլարյան:Ս. Գրիգորյան'!L13) -> 0 | ... AS13: =SUM('Ի.Բեգլարյան:Ս. Գրիգորյան'!AS13) -> 0 | AT13: =E13 -> 0 | AU13: =F13+G13+H13+I13 -> 0 | AV13: =J13 -> 0 | AW13: =K13+L13+M13 -> 0 | AX13: =F13+G13+K13 -> 0 | AY13: =N13+Y13+Z13+AB13 -> 0 | AZ13: =O13 -> 0 | BA13: =P13+Q13+R13+S13+T13 -> 0 | BB13: =T13 -> 0 | BC13: =+U13+V13+W13 -> 0 | BD13: =Y13 -> 0 | BE13: =+O13+X13 -> 0 | BF13: =AF13 -> 0 | BG13: =AD13+AE13 -> 0 | BH13: =AF13 -> 0 | BI13: =AG13+AH13 -> 0 | BJ13: =AM13 -> 0 | BK13: =AK13+AL13 -> 0 | BL13: =AM13 -> 0 | BM13: =AN13+AO13 -> 0
A14: 1.2 | B14: ê»÷³Ï³ÝáõÃÛ³Ý Çñ³íáõÝùÇ ¹³¹³ñ»óÙ³Ý í»ñ³µ»ñÛ³É | E14: =SUM('Ի.Բեգլարյան:Ս. Գրիգորյան'!E14) -> 0 | F14: =SUM('Ի.Բեգլարյան:Ս. Գրիգորյան'!F14) -> 0 | G14: =SUM('Ի.Բեգլարյան:Ս. Գրիգորյան'!G14) -> 0 | H14: =SUM('Ի.Բեգլարյան:Ս. Գրիգորյան'!H14) -> 0 | I14: =SUM('Ի.Բեգլարյան:Ս. Գրիգորյան'!I14) -> 0 | J14: =SUM('Ի.Բեգլարյան:Ս. Գրիգորյան'!J14) -> 0 | K14: =SUM('Ի.Բեգլարյան:Ս. Գրիգորյան'!K14) -> 0 | L14: =SUM('Ի.Բեգլարյան:Ս. Գրիգորյան'!L14) -> 0 | ... AS14: =SUM('Ի.Բեգլարյան:Ս. Գրիգորյան'!AS14) -> 0 | AT14: =E14 -> 0 | AU14: =F14+G14+H14+I14 -> 0 | AV14: =J14 -> 0 | AW14: =K14+L14+M14 -> 0 | AX14: =F14+G14+K14 -> 0 | AY14: =N14+Y14+Z14+AB14 -> 0 | AZ14: =O14 -> 0 | BA14: =P14+Q14+R14+S14+T14 -> 0 | BB14: =T14 -> 0 | BC14: =+U14+V14+W14 -> 0 | BD14: =Y14 -> 0 | BE14: =+O14+X14 -> 0 | BF14: =AF14 -> 0 | BG14: =AD14+AE14 -> 0 | BH14: =AF14 -> 0 | BI14: =AG14+AH14 -> 0 | BJ14: =AM14 -> 0 | BK14: =AK14+AL14 -> 0 | BL14: =AM14 -> 0 | BM14: =AN14+AO14 -> 0
A15: 1.3 | B15: ¶áõÛùÇ ÝÏ³ïÙ³Ùµ û·ï³·áñÍÙ³Ý Çñ³íáõÝùÁ ×³Ý³ã»Éáõ í»ñ³µ»ñÛ³É | E15: =SUM('Ի.Բեգլարյան:Ս. Գրիգորյան'!E15) -> 0 | F15: =SUM('Ի.Բեգլարյան:Ս. Գրիգորյան'!F15) -> 0 | G15: =SUM('Ի.Բեգլարյան:Ս. Գրիգորյան'!G15) -> 0 | H15: =SUM('Ի.Բեգլարյան:Ս. Գրիգորյան'!H15) -> 0 | I15: =SUM('Ի.Բեգլարյան:Ս. Գրիգորյան'!I15) -> 0 | J15: =SUM('Ի.Բեգլարյան:Ս. Գրիգորյան'!J15) -> 0 | K15: =SUM('Ի.Բեգլարյան:Ս. Գրիգորյան'!K15) -> 0 | L15: =SUM('Ի.Բեգլարյան:Ս. Գրիգորյան'!L15) -> 0 | ... AS15: =SUM('Ի.Բեգլարյան:Ս. Գրիգորյան'!AS15) -> 0 | AT15: =E15 -> 0 | AU15: =F15+G15+H15+I15 -> 0 | AV15: =J15 -> 0 | AW15: =K15+L15+M15 -> 0 | AX15: =F15+G15+K15 -> 0 | AY15: =N15+Y15+Z15+AB15 -> 0 | AZ15: =O15 -> 0 | BA15: =P15+Q15+R15+S15+T15 -> 0 | BB15: =T15 -> 0 | BC15: =+U15+V15+W15 -> 0 | BD15: =Y15 -> 0 | BE15: =+O15+X15 -> 0 | BF15: =AF15 -> 1 | BG15: =AD15+AE15 -> 1 | BH15: =AF15 -> 1 | BI15: =AG15+AH15 -> 1 | BJ15: =AM15 -> 0 | BK15: =AK15+AL15 -> 0 | BL15: =AM15 -> 0 | BM15: =AN15+AO15 -> 0
A16: 1.3.1 | B16: ²Û¹ ÃíáõÙª µÝ³Ïû·ï³·áñÍÙ³Ý Çñ³íáõÝùÁ ×³Ý³ã»Éáõ í»ñ³µ»ñÛ³É | E16: =SUM('Ի.Բեգլարյան:Ս. Գրիգորյան'!E16) -> 0 | F16: =SUM('Ի.Բեգլարյան:Ս. Գրիգորյան'!F16) -> 0 | G16: =SUM('Ի.Բեգլարյան:Ս. Գրիգորյան'!G16) -> 0 | H16: =SUM('Ի.Բեգլարյան:Ս. Գրիգորյան'!H16) -> 0 | I16: =SUM('Ի.Բեգլարյան:Ս. Գրիգորյան'!I16) -> 0 | J16: =SUM('Ի.Բեգլարյան:Ս. Գրիգորյան'!J16) -> 0 | K16: =SUM('Ի.Բեգլարյան:Ս. Գրիգորյան'!K16) -> 0 | L16: =SUM('Ի.Բեգլարյան:Ս. Գրիգորյան'!L16) -> 0 | ... AS16: =SUM('Ի.Բեգլարյան:Ս. Գրիգորյան'!AS16) -> 0 | AT16: =E16 -> 0 | AU16: =F16+G16+H16+I16 -> 0 | AV16: =J16 -> 0 | AW16: =K16+L16+M16 -> 0 | AX16: =F16+G16+K16 -> 0 | AY16: =N16+Y16+Z16+AB16 -> 0 | AZ16: =O16 -> 0 | BA16: =P16+Q16+R16+S16+T16 -> 0 | BB16: =T16 -> 0 | BC16: =+U16+V16+W16 -> 0 | BD16: =Y16 -> 0 | BE16: =+O16+X16 -> 0 | BF16: =AF16 -> 0 | BG16: =AD16+AE16 -> 0 | BH16: =AF16 -> 0 | BI16: =AG16+AH16 -> 0 | BJ16: =AM16 -> 0 | BK16: =AK16+AL16 -> 0 | BL16: =AM16 -> 0 | BM16: =AN16+AO16 -> 0
A17: 1.3.2 | B17: ²Û¹ ÃíáõÙª ÑáÕ³Ù³ëÇ ÝÏ³ïÙ³Ùµ û·ï³·áñÍÙ³Ý Çñ³íáõÝùÁ ×³Ý³ã»Éáõ í»ñ³µ»ñÛ³É | E17: =SUM('Ի.Բեգլարյան:Ս. Գրիգորյան'!E17) -> 0 | F17: =SUM('Ի.Բեգլարյան:Ս. Գրիգորյան'!F17) -> 0 | G17: =SUM('Ի.Բեգլարյան:Ս. Գրիգորյան'!G17) -> 0 | H17: =SUM('Ի.Բեգլարյան:Ս. Գրիգորյան'!H17) -> 0 | I17: =SUM('Ի.Բեգլարյան:Ս. Գրիգորյան'!I17) -> 0 | J17: =SUM('Ի.Բեգլարյան:Ս. Գրիգորյան'!J17) -> 0 | K17: =SUM('Ի.Բեգլարյան:Ս. Գրիգորյան'!K17) -> 0 | L17: =SUM('Ի.Բեգլարյան:Ս. Գրիգորյան'!L17) -> 0 | ... AS17: =SUM('Ի.Բեգլարյան:Ս. Գրիգորյան'!AS17) -> 0 | AT17: =E17 -> 0 | AU17: =F17+G17+H17+I17 -> 0 | AV17: =J17 -> 0 | AW17: =K17+L17+M17 -> 0 | AX17: =F17+G17+K17 -> 0 | AY17: =N17+Y17+Z17+AB17 -> 0 | AZ17: =O17 -> 0 | BA17: =P17+Q17+R17+S17+T17 -> 0 | BB17: =T17 -> 0 | BC17: =+U17+V17+W17 -> 0 | BD17: =Y17 -> 0 | BE17: =+O17+X17 -> 0 | BF17: =AF17 -> 0 | BG17: =AD17+AE17 -> 0 | BH17: =AF17 -> 0 | BI17: =AG17+AH17 -> 0 | BJ17: =AM17 -> 0 | BK17: =AK17+AL17 -> 0 | BL17: =AM17 -> 0 | BM17: =AN17+AO17 -> 0
A18: 1.4 | B18: ¶áõÛùÇ ÝÏ³ïÙ³Ùµ û·ï³·áñÍÙ³Ý Çñ³íáõÝùÁ ¹³¹³ñ»óÝ»Éáõ í»ñ³µ»ñÛ³É | E18: =SUM('Ի.Բեգլարյան:Ս. Գրիգորյան'!E18) -> 0 | F18: =SUM('Ի.Բեգլարյան:Ս. Գրիգորյան'!F18) -> 0 | G18: =SUM('Ի.Բեգլարյան:Ս. Գրիգորյան'!G18) -> 0 | H18: =SUM('Ի.Բեգլարյան:Ս. Գրիգորյան'!H18) -> 0 | I18: =SUM('Ի.Բեգլարյան:Ս. Գրիգորյան'!I18) -> 0 | J18: =SUM('Ի.Բեգլարյան:Ս. Գրիգորյան'!J18) -> 0 | K18: =SUM('Ի.Բեգլարյան:Ս. Գրիգորյան'!K18) -> 0 | L18: =SUM('Ի.Բեգլարյան:Ս. Գրիգորյան'!L18) -> 0 | ... AS18: =SUM('Ի.Բեգլարյան:Ս. Գրիգորյան'!AS18) -> 0 | AT18: =E18 -> 0 | AU18: =F18+G18+H18+I18 -> 0 | AV18: =J18 -> 0 | AW18: =K18+L18+M18 -> 0 | AX18: =F18+G18+K18 -> 0 | AY18: =N18+Y18+Z18+AB18 -> 0 | AZ18: =O18 -> 0 | BA18: =P18+Q18+R18+S18+T18 -> 0 | BB18: =T18 -> 0 | BC18: =+U18+V18+W18 -> 0 | BD18: =Y18 -> 0 | BE18: =+O18+X18 -> 0 | BF18: =AF18 -> 0 | BG18: =AD18+AE18 -> 0 | BH18: =AF18 -> 0 | BI18: =AG18+AH18 -> 0 | BJ18: =AM18 -> 0 | BK18: =AK18+AL18 -> 0 | BL18: =AM18 -> 0 | BM18: =AN18+AO18 -> 0
A19: 1.4.1 | B19: ²Û¹ ÃíáõÙª µÝ³Ïû·ï³·áñÍÙ³Ý Çñ³íáõÝùÁ ¹³¹³ñ»óÝ»Éáõ í»ñ³µ»ñÛ³É | E19: =SUM('Ի.Բեգլարյան:Ս. Գրիգորյան'!E19) -> 0 | F19: =SUM('Ի.Բեգլարյան:Ս. Գրիգորյան'!F19) -> 0 | G19: =SUM('Ի.Բեգլարյան:Ս. Գրիգորյան'!G19) -> 0 | H19: =SUM('Ի.Բեգլարյան:Ս. Գրիգորյան'!H19) -> 0 | I19: =SUM('Ի.Բեգլարյան:Ս. Գրիգորյան'!I19) -> 0 | J19: =SUM('Ի.Բեգլարյան:Ս. Գրիգորյան'!J19) -> 0 | K19: =SUM('Ի.Բեգլարյան:Ս. Գրիգորյան'!K19) -> 0 | L19: =SUM('Ի.Բեգլարյան:Ս. Գրիգորյան'!L19) -> 0 | ... AS19: =SUM('Ի.Բեգլարյան:Ս. Գրիգորյան'!AS19) -> 0 | AT19: =E19 -> 0 | AU19: =F19+G19+H19+I19 -> 0 | AV19: =J19 -> 0 | AW19: =K19+L19+M19 -> 0 | AX19: =F19+G19+K19 -> 0 | AY19: =N19+Y19+Z19+AB19 -> 0 | AZ19: =O19 -> 0 | BA19: =P19+Q19+R19+S19+T19 -> 0 | BB19: =T19 -> 0 | BC19: =+U19+V19+W19 -> 0 | BD19: =Y19 -> 0 | BE19: =+O19+X19 -> 0 | BF19: =AF19 -> 0 | BG19: =AD19+AE19 -> 0 | BH19: =AF19 -> 0 | BI19: =AG19+AH19 -> 0 | BJ19: =AM19 -> 0 | BK19: =AK19+AL19 -> 0 | BL19: =AM19 -> 0 | BM19: =AN19+AO19 -> 0
A20: 1.4.1/1 | B20: ²Û¹ ÃíáõÙª ÷áËÑ³ïáõóÙ³Ùµ | E20: =SUM('Ի.Բեգլարյան:Ս. Գրիգորյան'!E20) -> 0 | F20: =SUM('Ի.Բեգլարյան:Ս. Գրիգորյան'!F20) -> 0 | G20: =SUM('Ի.Բեգլարյան:Ս. Գրիգորյան'!G20) -> 0 | H20: =SUM('Ի.Բեգլարյան:Ս. Գրիգորյան'!H20) -> 0 | I20: =SUM('Ի.Բեգլարյան:Ս. Գրիգորյան'!I20) -> 0 | J20: =SUM('Ի.Բեգլարյան:Ս. Գրիգորյան'!J20) -> 1 | K20: =SUM('Ի.Բեգլարյան:Ս. Գրիգորյան'!K20) -> 0 | L20: =SUM('Ի.Բեգլարյան:Ս. Գրիգորյան'!L20) -> 1 | ... AS20: =SUM('Ի.Բեգլարյան:Ս. Գրիգորյան'!AS20) -> 0 | AT20: =E20 -> 0 | AU20: =F20+G20+H20+I20 -> 0 | AV20: =J20 -> 1 | AW20: =K20+L20+M20 -> 1 | AX20: =F20+G20+K20 -> 0 | AY20: =N20+Y20+Z20+AB20 -> 0 | AZ20: =O20 -> 0 | BA20: =P20+Q20+R20+S20+T20 -> 0 | BB20: =T20 -> 0 | BC20: =+U20+V20+W20 -> 0 | BD20: =Y20 -> 0 | BE20: =+O20+X20 -> 0 | BF20: =AF20 -> 0 | BG20: =AD20+AE20 -> 0 | BH20: =AF20 -> 0 | BI20: =AG20+AH20 -> 0 | BJ20: =AM20 -> 0 | BK20: =AK20+AL20 -> 0 | BL20: =AM20 -> 0 | BM20: =AN20+AO20 -> 0
A21: 1.5 | B21: ´Ý³Ï³ñ³ÝÇó/ ï³ñ³ÍùÇó/ íï³ñ»Éáõ í»ñ³µ»ñÛ³É | E21: =SUM('Ի.Բեգլարյան:Ս. Գրիգորյան'!E21) -> 5 | F21: =SUM('Ի.Բեգլարյան:Ս. Գրիգորյան'!F21) -> 2 | G21: =SUM('Ի.Բեգլարյան:Ս. Գրիգորյան'!G21) -> 3 | H21: =SUM('Ի.Բեգլարյան:Ս. Գրիգորյան'!H21) -> 0 | I21: =SUM('Ի.Բեգլարյան:Ս. Գրիգորյան'!I21) -> 0 | J21: =SUM('Ի.Բեգլարյան:Ս. Գրիգորյան'!J21) -> 3 | K21: =SUM('Ի.Բեգլարյան:Ս. Գրիգորյան'!K21) -> 3 | L21: =SUM('Ի.Բեգլարյան:Ս. Գրիգորյան'!L21) -> 0 | ... AS21: =SUM('Ի.Բեգլարյան:Ս. Գրիգորյան'!AS21) -> 0 | AT21: =E21 -> 5 | AU21: =F21+G21+H21+I21 -> 5 | AV21: =J21 -> 3 | AW21: =K21+L21+M21 -> 3 | AX21: =F21+G21+K21 -> 8 | AY21: =N21+Y21+Z21+AB21 -> 8 | AZ21: =O21 -> 1 | BA21: =P21+Q21+R21+S21+T21 -> 1 | BB21: =T21 -> 1 | BC21: =+U21+V21+W21 -> 1 | BD21: =Y21 -> 1 | BE21: =+O21+X21 -> 1 | BF21: =AF21 -> 0 | BG21: =AD21+AE21 -> 0 | BH21: =AF21 -> 0 | BI21: =AG21+AH21 -> 0 | BJ21: =AM21 -> 0 | BK21: =AK21+AL21 -> 0 | BL21: =AM21 -> 0 | BM21: =AN21+AO21 -> 0
A22: 1.6 | B22: ¶áõÛùÝ áõñÇßÇ ³åûñÇÝÇ ïÇñ³å»ïáõÙÇó »ï í»ñ³¹³ñÓÝ»Éáõ í»ñ³µ»ñÛ³É | E22: =SUM('Ի.Բեգլարյան:Ս. Գրիգորյան'!E22) -> 6 | F22: =SUM('Ի.Բեգլարյան:Ս. Գրիգորյան'!F22) -> 2 | G22: =SUM('Ի.Բեգլարյան:Ս. Գրիգորյան'!G22) -> 4 | H22: =SUM('Ի.Բեգլարյան:Ս. Գրիգորյան'!H22) -> 0 | I22: =SUM('Ի.Բեգլարյան:Ս. Գրիգորյան'!I22) -> 0 | J22: =SUM('Ի.Բեգլարյան:Ս. Գրիգորյան'!J22) -> 2 | K22: =SUM('Ի.Բեգլարյան:Ս. Գրիգորյան'!K22) -> 2 | L22: =SUM('Ի.Բեգլարյան:Ս. Գրիգորյան'!L22) -> 0 | ... AS22: =SUM('Ի.Բեգլարյան:Ս. Գրիգորյան'!AS22) -> 0 | AT22: =E22 -> 6 | AU22: =F22+G22+H22+I22 -> 6 | AV22: =J22 -> 2 | AW22: =K22+L22+M22 -> 2 | AX22: =F22+G22+K22 -> 8 | AY22: =N22+Y22+Z22+AB22 -> 8 | AZ22: =O22 -> 2 | BA22: =P22+Q22+R22+S22+T22 -> 2 | BB22: =T22 -> 1 | BC22: =+U22+V22+W22 -> 1 | BD22: =Y22 -> 2 | BE22: =+O22+X22 -> 2 | BF22: =AF22 -> 0 | BG22: =AD22+AE22 -> 0 | BH22: =AF22 -> 0 | BI22: =AG22+AH22 -> 0 | BJ22: =AM22 -> 0 | BK22: =AK22+AL22 -> 0 | BL22: =AM22 -> 0 | BM22: =AN22+AO22 -> 0
A23: 1.6.1 | B23: ´³ñ»ËÇÕ× Ó»éùµ»ñáÕÇó Çñ ·áõÛùÁ Ñ»ï å³Ñ³Ýç»Éáõ í»ñ³µ»ñÛ³É | E23: =SUM('Ի.Բեգլարյան:Ս. Գրիգորյան'!E23) -> 0 | F23: =SUM('Ի.Բեգլարյան:Ս. Գրիգորյան'!F23) -> 0 | G23: =SUM('Ի.Բեգլարյան:Ս. Գրիգորյան'!G23) -> 0 | H23: =SUM('Ի.Բեգլարյան:Ս. Գրիգորյան'!H23) -> 0 | I23: =SUM('Ի.Բեգլարյան:Ս. Գրիգորյան'!I23) -> 0 | J23: =SUM('Ի.Բեգլարյան:Ս. Գրիգորյան'!J23) -> 0 | K23: =SUM('Ի.Բեգլարյան:Ս. Գրիգորյան'!K23) -> 0 | L23: =SUM('Ի.Բեգլարյան:Ս. Գրիգորյան'!L23) -> 0 | ... AS23: =SUM('Ի.Բեգլարյան:Ս. Գրիգորյան'!AS23) -> 0 | AT23: =E23 -> 0 | AU23: =F23+G23+H23+I23 -> 0 | AV23: =J23 -> 0 | AW23: =K23+L23+M23 -> 0 | AX23: =F23+G23+K23 -> 0 | AY23: =N23+Y23+Z23+AB23 -> 0 | AZ23: =O23 -> 0 | BA23: =P23+Q23+R23+S23+T23 -> 0 | BB23: =T23 -> 0 | BC23: =+U23+V23+W23 -> 0 | BD23: =Y23 -> 0 | BE23: =+O23+X23 -> 0 | BF23: =AF23 -> 0 | BG23: =AD23+AE23 -> 0 | BH23: =AF23 -> 0 | BI23: =AG23+AH23 -> 0 | BJ23: =AM23 -> 0 | BK23: =AK23+AL23 -> 0 | BL23: =AM23 -> 0 | BM23: =AN23+AO23 -> 0
A24: 1.7 | B24: îÇñ³å»ïáõÙÇó ½ñÏ»Éáõ Ñ»ï ãÏ³åí³Í Çñ³íáõÝùÝ»ñÇ Ë³ËïáõÙÁ í»ñ³óÝ»Éáõ í»ñ³µ»ñÛ³É | E24: =SUM('Ի.Բեգլարյան:Ս. Գրիգորյան'!E24) -> 1 | F24: =SUM('Ի.Բեգլարյան:Ս. Գրիգորյան'!F24) -> 1 | G24: =SUM('Ի.Բեգլարյան:Ս. Գրիգորյան'!G24) -> 0 | H24: =SUM('Ի.Բեգլարյան:Ս. Գրիգորյան'!H24) -> 0 | I24: =SUM('Ի.Բեգլարյան:Ս. Գրիգորյան'!I24) -> 0 | J24: =SUM('Ի.Բեգլարյան:Ս. Գրիգորյան'!J24) -> 0 | K24: =SUM('Ի.Բեգլարյան:Ս. Գրիգորյան'!K24) -> 0 | L24: =SUM('Ի.Բեգլարյան:Ս. Գրիգորյան'!L24) -> 0 | ... AS24: =SUM('Ի.Բեգլարյան:Ս. Գրիգորյան'!AS24) -> 0 | AT24: =E24 -> 1 | AU24: =F24+G24+H24+I24 -> 1 | AV24: =J24 -> 0 | AW24: =K24+L24+M24 -> 0 | AX24: =F24+G24+K24 -> 1 | AY24: =N24+Y24+Z24+AB24 -> 1 | AZ24: =O24 -> 0 | BA24: =P24+Q24+R24+S24+T24 -> 0 | BB24: =T24 -> 0 | BC24: =+U24+V24+W24 -> 0 | BD24: =Y24 -> 0 | BE24: =+O24+X24 -> 0 | BF24: =AF24 -> 0 | BG24: =AD24+AE24 -> 0 | BH24: =AF24 -> 0 | BI24: =AG24+AH24 -> 0 | BJ24: =AM24 -> 0 | BK24: =AK24+AL24 -> 0 | BL24: =AM24 -> 0 | BM24: =AN24+AO24 -> 0
A25: 1.8 | B25: ÀÝ¹Ñ³Ýáõñ µ³ÅÝ³ÛÇÝ ë»÷³Ï³ÝáõÃÛáõÝÇó µ³ÅÇÝÝ ³é³ÝÓÝ³óÝ»Éáõ í»ñ³µ»ñÛ³É | E25: =SUM('Ի.Բեգլարյան:Ս. Գրիգորյան'!E25) -> 15 | F25: =SUM('Ի.Բեգլարյան:Ս. Գրիգորյան'!F25) -> 7 | G25: =SUM('Ի.Բեգլարյան:Ս. Գրիգորյան'!G25) -> 8 | H25: =SUM('Ի.Բեգլարյան:Ս. Գրիգորյան'!H25) -> 0 | I25: =SUM('Ի.Բեգլարյան:Ս. Գրիգորյան'!I25) -> 0 | J25: =SUM('Ի.Բեգլարյան:Ս. Գրիգորյան'!J25) -> 15 | K25: =SUM('Ի.Բեգլարյան:Ս. Գրիգորյան'!K25) -> 13 | L25: =SUM('Ի.Բեգլարյան:Ս. Գրիգորյան'!L25) -> 2 | ... AS25: =SUM('Ի.Բեգլարյան:Ս. Գրիգորյան'!AS25) -> 0 | AT25: =E25 -> 15 | AU25: =F25+G25+H25+I25 -> 15 | AV25: =J25 -> 15 | AW25: =K25+L25+M25 -> 15 | AX25: =F25+G25+K25 -> 28 | AY25: =N25+Y25+Z25+AB25 -> 28 | AZ25: =O25 -> 4 | BA25: =P25+Q25+R25+S25+T25 -> 4 | BB25: =T25 -> 1 | BC25: =+U25+V25+W25 -> 1 | BD25: =Y25 -> 4 | BE25: =+O25+X25 -> 4 | BF25: =AF25 -> 0 | BG25: =AD25+AE25 -> 0 | BH25: =AF25 -> 0 | BI25: =AG25+AH25 -> 0 | BJ25: =AM25 -> 0 | BK25: =AK25+AL25 -> 0 | BL25: =AM25 -> 0 | BM25: =AN25+AO25 -> 0
A26: 1.8.1 | B26: Ð³Ù³ï»Õ ë»÷³Ï³ÝáõÃÛ³Ý Ý»ñùá ·ïÝíáÕ ·áõÛùÁ µ³Å³Ý»Éáõ ¨ ¹ñ³ÝÇó µ³ÅÇÝÝ ³é³ÝÓÝ³óÝ»Éáõ í»ñ³µ»ñÛ³É | E26: =SUM('Ի.Բեգլարյան:Ս. Գրիգորյան'!E26) -> 16 | F26: =SUM('Ի.Բեգլարյան:Ս. Գրիգորյան'!F26) -> 7 | G26: =SUM('Ի.Բեգլարյան:Ս. Գրիգորյան'!G26) -> 9 | H26: =SUM('Ի.Բեգլարյան:Ս. Գրիգորյան'!H26) -> 0 | I26: =SUM('Ի.Բեգլարյան:Ս. Գրիգորյան'!I26) -> 0 | J26: =SUM('Ի.Բեգլարյան:Ս. Գրիգորյան'!J26) -> 3 | K26: =SUM('Ի.Բեգլարյան:Ս. Գրիգորյան'!K26) -> 2 | L26: =SUM('Ի.Բեգլարյան:Ս. Գրիգորյան'!L26) -> 1 | ... AS26: =SUM('Ի.Բեգլարյան:Ս. Գրիգորյան'!AS26) -> 0 | AT26: =E26 -> 16 | AU26: =F26+G26+H26+I26 -> 16 | AV26: =J26 -> 3 | AW26: =K26+L26+M26 -> 3 | AX26: =F26+G26+K26 -> 18 | AY26: =N26+Y26+Z26+AB26 -> 18 | AZ26: =O26 -> 8 | BA26: =P26+Q26+R26+S26+T26 -> 8 | BB26: =T26 -> 2 | BC26: =+U26+V26+W26 -> 2 | BD26: =Y26 -> 8 | BE26: =+O26+X26 -> 8 | BF26: =AF26 -> 0 | BG26: =AD26+AE26 -> 0 | BH26: =AF26 -> 0 | BI26: =AG26+AH26 -> 0 | BJ26: =AM26 -> 0 | BK26: =AK26+AL26 -> 0 | BL26: =AM26 -> 0 | BM26: =AN26+AO26 -> 0
... A28: 1.9 | B28: ²ÛÉ í»×»ñ | E28: =SUM('Ի.Բեգլարյան:Ս. Գրիգորյան'!E28) -> 28 | F28: =SUM('Ի.Բեգլարյան:Ս. Գրիգորյան'!F28) -> 15 | G28: =SUM('Ի.Բեգլարյան:Ս. Գրիգորյան'!G28) -> 13 | H28: =SUM('Ի.Բեգլարյան:Ս. Գրիգորյան'!H28) -> 0 | I28: =SUM('Ի.Բեգլարյան:Ս. Գրիգորյան'!I28) -> 0 | J28: =SUM('Ի.Բեգլարյան:Ս. Գրիգորյան'!J28) -> 11 | K28: =SUM('Ի.Բեգլարյան:Ս. Գրիգորյան'!K28) -> 9 | L28: =SUM('Ի.Բեգլարյան:Ս. Գրիգորյան'!L28) -> 2 | ... AS28: =SUM('Ի.Բեգլարյան:Ս. Գրիգորյան'!AS28) -> 0 | AT28: =E28 -> 28 | AU28: =F28+G28+H28+I28 -> 28 | AV28: =J28 -> 11 | AW28: =K28+L28+M28 -> 11 | AX28: =F28+G28+K28 -> 37 | AY28: =N28+Y28+Z28+AB28 -> 37 | AZ28: =O28 -> 11 | BA28: =P28+Q28+R28+S28+T28 -> 11 | BB28: =T28 -> 4 | BC28: =+U28+V28+W28 -> 4 | BD28: =Y28 -> 11 | BE28: =+O28+X28 -> 11 | BF28: =AF28 -> 1 | BG28: =AD28+AE28 -> 1 | BH28: =AF28 -> 1 | BI28: =AG28+AH28 -> 1 | BJ28: =AM28 -> 0 | BK28: =AK28+AL28 -> 0 | BL28: =AM28 -> 0 | BM28: =AN28+AO28 -> 0
A29: 2. | B29: ¶áñÍ³ñùÝ»ñÇ Ñ»ï Ï³åí³Í Çñ³í³Ñ³ñ³µ»ñáõÃÛáõÝÝ»ñÇ í»ñ³µ»ñÛ³É ¹³ï³Ï³Ý ·áñÍ»ñ | E29: =SUM(E30:E40) -> 7 | F29: =SUM(F30:F40) -> 0 | G29: =SUM(G30:G40) -> 7 | H29: =SUM(H30:H40) -> 0 | I29: =SUM(I30:I40) -> 0 | J29: =SUM(J30:J40) -> 7 | K29: =SUM(K30:K40) -> 5 | L29: =SUM(L30:L40) -> 2 | ... BM29: =SUM(BM30:BM40) -> 1
A30: 2.1 | B30: ·áñÍ³ñùÝ»ñÇ ³Ýí³í»ñáõÃÛ³Ý Ñ»ï Ï³åí³Í í»×»ñ | E30: =SUM('Ի.Բեգլարյան:Ս. Գրիգորյան'!E30) -> 1 | F30: =SUM('Ի.Բեգլարյան:Ս. Գրիգորյան'!F30) -> 0 | G30: =SUM('Ի.Բեգլարյան:Ս. Գրիգորյան'!G30) -> 1 | H30: =SUM('Ի.Բեգլարյան:Ս. Գրիգորյան'!H30) -> 0 | I30: =SUM('Ի.Բեգլարյան:Ս. Գրիգորյան'!I30) -> 0 | J30: =SUM('Ի.Բեգլարյան:Ս. Գրիգորյան'!J30) -> 1 | K30: =SUM('Ի.Բեգլարյան:Ս. Գրիգորյան'!K30) -> 1 | L30: =SUM('Ի.Բեգլարյան:Ս. Գրիգորյան'!L30) -> 0 | ... AS30: =SUM('Ի.Բեգլարյան:Ս. Գրիգորյան'!AS30) -> 0 | AT30: =E30 -> 1 | AU30: =F30+G30+H30+I30 -> 1 | AV30: =J30 -> 1 | AW30: =K30+L30+M30 -> 1 | AX30: =F30+G30+K30 -> 2 | AY30: =N30+Y30+Z30+AB30 -> 2 | AZ30: =O30 -> 0 | BA30: =P30+Q30+R30+S30+T30 -> 0 | BB30: =T30 -> 0 | BC30: =+U30+V30+W30 -> 0 | BD30: =Y30 -> 0 | BE30: =+O30+X30 -> 0 | BF30: =AF30 -> 1 | BG30: =AD30+AE30 -> 1 | BH30: =AF30 -> 1 | BI30: =AG30+AH30 -> 1 | BJ30: =AM30 -> 1 | BK30: =AK30+AL30 -> 1 | BL30: =AM30 -> 1 | BM30: =AN30+AO30 -> 1
A31: 2.1.1 | B31: ³Û¹ ÃíáõÙ` íÇ×³Ñ³ñáõÛó ·áñÍ³ñùÝ»ñÝ ³Ýí³í»ñ ×³Ý³ã»Éáõ í»ñ³µ»ñÛ³É | E31: =SUM('Ի.Բեգլարյան:Ս. Գրիգորյան'!E31) -> 0 | F31: =SUM('Ի.Բեգլարյան:Ս. Գրիգորյան'!F31) -> 0 | G31: =SUM('Ի.Բեգլարյան:Ս. Գրիգորյան'!G31) -> 0 | H31: =SUM('Ի.Բեգլարյան:Ս. Գրիգորյան'!H31) -> 0 | I31: =SUM('Ի.Բեգլարյան:Ս. Գրիգորյան'!I31) -> 0 | J31: =SUM('Ի.Բեգլարյան:Ս. Գրիգորյան'!J31) -> 1 | K31: =SUM('Ի.Բեգլարյան:Ս. Գրիգորյան'!K31) -> 1 | L31: =SUM('Ի.Բեգլարյան:Ս. Գրիգորյան'!L31) -> 0 | ... AS31: =SUM('Ի.Բեգլարյան:Ս. Գրիգորյան'!AS31) -> 0 | AT31: =E31 -> 0 | AU31: =F31+G31+H31+I31 -> 0 | AV31: =J31 -> 1 | AW31: =K31+L31+M31 -> 1 | AX31: =F31+G31+K31 -> 1 | AY31: =N31+Y31+Z31+AB31 -> 1 | AZ31: =O31 -> 0 | BA31: =P31+Q31+R31+S31+T31 -> 0 | BB31: =T31 -> 0 | BC31: =+U31+V31+W31 -> 0 | BD31: =Y31 -> 0 | BE31: =+O31+X31 -> 0 | BF31: =AF31 -> 0 | BG31: =AD31+AE31 -> 0 | BH31: =AF31 -> 0 | BI31: =AG31+AH31 -> 0 | BJ31: =AM31 -> 0 | BK31: =AK31+AL31 -> 0 | BL31: =AM31 -> 0 | BM31: =AN31+AO31 -> 0
A32: 2.1.2 | B32: ³Û¹ ÃíáõÙ` ·áñÍ³ñùÇ ³éáãÝãáõÃÛ³Ý Ñ»ï¨³ÝùÝ»ñ ÏÇñ³é»Éáõ í»ñ³µ»ñÛ³É | E32: =SUM('Ի.Բեգլարյան:Ս. Գրիգորյան'!E32) -> 1 | F32: =SUM('Ի.Բեգլարյան:Ս. Գրիգորյան'!F32) -> 0 | G32: =SUM('Ի.Բեգլարյան:Ս. Գրիգորյան'!G32) -> 1 | H32: =SUM('Ի.Բեգլարյան:Ս. Գրիգորյան'!H32) -> 0 | I32: =SUM('Ի.Բեգլարյան:Ս. Գրիգորյան'!I32) -> 0 | J32: =SUM('Ի.Բեգլարյան:Ս. Գրիգորյան'!J32) -> 0 | K32: =SUM('Ի.Բեգլարյան:Ս. Գրիգորյան'!K32) -> 0 | L32: =SUM('Ի.Բեգլարյան:Ս. Գրիգորյան'!L32) -> 0 | ... AS32: =SUM('Ի.Բեգլարյան:Ս. Գրիգորյան'!AS32) -> 0 | AT32: =E32 -> 1 | AU32: =F32+G32+H32+I32 -> 1 | AV32: =J32 -> 0 | AW32: =K32+L32+M32 -> 0 | AX32: =F32+G32+K32 -> 1 | AY32: =N32+Y32+Z32+AB32 -> 1 | AZ32: =O32 -> 0 | BA32: =P32+Q32+R32+S32+T32 -> 0 | BB32: =T32 -> 0 | BC32: =+U32+V32+W32 -> 0 | BD32: =Y32 -> 0 | BE32: =+O32+X32 -> 0 | BF32: =AF32 -> 0 | BG32: =AD32+AE32 -> 0 | BH32: =AF32 -> 0 | BI32: =AG32+AH32 -> 0 | BJ32: =AM32 -> 0 | BK32: =AK32+AL32 -> 0 | BL32: =AM32 -> 0 | BM32: =AN32+AO32 -> 0
A33: 2.2 | B33: ¶áñÍ³ñùÁ í³í»ñ ×³Ý³ã»Éáõ í»ñ³µ»ñÛ³É | E33: =SUM('Ի.Բեգլարյան:Ս. Գրիգորյան'!E33) -> 1 | F33: =SUM('Ի.Բեգլարյան:Ս. Գրիգորյան'!F33) -> 0 | G33: =SUM('Ի.Բեգլարյան:Ս. Գրիգորյան'!G33) -> 1 | H33: =SUM('Ի.Բեգլարյան:Ս. Գրիգորյան'!H33) -> 0 | I33: =SUM('Ի.Բեգլարյան:Ս. Գրիգորյան'!I33) -> 0 | J33: =SUM('Ի.Բեգլարյան:Ս. Գրիգորյան'!J33) -> 0 | K33: =SUM('Ի.Բեգլարյան:Ս. Գրիգորյան'!K33) -> 0 | L33: =SUM('Ի.Բեգլարյան:Ս. Գրիգորյան'!L33) -> 0 | ... AS33: =SUM('Ի.Բեգլարյան:Ս. Գրիգորյան'!AS33) -> 0 | AT33: =E33 -> 1 | AU33: =F33+G33+H33+I33 -> 1 | AV33: =J33 -> 0 | AW33: =K33+L33+M33 -> 0 | AX33: =F33+G33+K33 -> 1 | AY33: =N33+Y33+Z33+AB33 -> 1 | AZ33: =O33 -> 1 | BA33: =P33+Q33+R33+S33+T33 -> 1 | BB33: =T33 -> 0 | BC33: =+U33+V33+W33 -> 0 | BD33: =Y33 -> 1 | BE33: =+O33+X33 -> 1 | BF33: =AF33 -> 0 | BG33: =AD33+AE33 -> 0 | BH33: =AF33 -> 0 | BI33: =AG33+AH33 -> 0 | BJ33: =AM33 -> 0 | BK33: =AK33+AL33 -> 0 | BL33: =AM33 -> 0 | BM33: =AN33+AO33 -> 0
A34: 2.3 | B34: ¶áñÍ³ñùÇó Í³·áÕ Çñ³íáõÝùÝ»ñÁ ·ñ³Ýó»Éáõ í»ñ³µ»ñÛ³É | E34: =SUM('Ի.Բեգլարյան:Ս. Գրիգորյան'!E34) -> 0 | F34: =SUM('Ի.Բեգլարյան:Ս. Գրիգորյան'!F34) -> 0 | G34: =SUM('Ի.Բեգլարյան:Ս. Գրիգորյան'!G34) -> 0 | H34: =SUM('Ի.Բեգլարյան:Ս. Գրիգորյան'!H34) -> 0 | I34: =SUM('Ի.Բեգլարյան:Ս. Գրիգորյան'!I34) -> 0 | J34: =SUM('Ի.Բեգլարյան:Ս. Գրիգորյան'!J34) -> 0 | K34: =SUM('Ի.Բեգլարյան:Ս. Գրիգորյան'!K34) -> 0 | L34: =SUM('Ի.Բեգլարյան:Ս. Գրիգորյան'!L34) -> 0 | ... AS34: =SUM('Ի.Բեգլարյան:Ս. Գրիգորյան'!AS34) -> 0 | AT34: =E34 -> 0 | AU34: =F34+G34+H34+I34 -> 0 | AV34: =J34 -> 0 | AW34: =K34+L34+M34 -> 0 | AX34: =F34+G34+K34 -> 0 | AY34: =N34+Y34+Z34+AB34 -> 0 | AZ34: =O34 -> 0 | BA34: =P34+Q34+R34+S34+T34 -> 0 | BB34: =T34 -> 0 | BC34: =+U34+V34+W34 -> 0 | BD34: =Y34 -> 0 | BE34: =+O34+X34 -> 0 | BF34: =AF34 -> 0 | BG34: =AD34+AE34 -> 0 | BH34: =AF34 -> 0 | BI34: =AG34+AH34 -> 0 | BJ34: =AM34 -> 0 | BK34: =AK34+AL34 -> 0 | BL34: =AM34 -> 0 | BM34: =AN34+AO34 -> 0
A35: 2.4 | B35: ä³ÛÙ³Ý³·ÇñÝ ³Ýí³í»ñ ×³Ý³ã»Éáõ í»ñ³µ»ñÛ³É | E35: =SUM('Ի.Բեգլարյան:Ս. Գրիգորյան'!E35) -> 2 | F35: =SUM('Ի.Բեգլարյան:Ս. Գրիգորյան'!F35) -> 0 | G35: =SUM('Ի.Բեգլարյան:Ս. Գրիգորյան'!G35) -> 2 | H35: =SUM('Ի.Բեգլարյան:Ս. Գրիգորյան'!H35) -> 0 | I35: =SUM('Ի.Բեգլարյան:Ս. Գրիգորյան'!I35) -> 0 | J35: =SUM('Ի.Բեգլարյան:Ս. Գրիգորյան'!J35) -> 2 | K35: =SUM('Ի.Բեգլարյան:Ս. Գրիգորյան'!K35) -> 1 | L35: =SUM('Ի.Բեգլարյան:Ս. Գրիգորյան'!L35) -> 1 | ... AS35: =SUM('Ի.Բեգլարյան:Ս. Գրիգորյան'!AS35) -> 0 | AT35: =E35 -> 2 | AU35: =F35+G35+H35+I35 -> 2 | AV35: =J35 -> 2 | AW35: =K35+L35+M35 -> 2 | AX35: =F35+G35+K35 -> 3 | AY35: =N35+Y35+Z35+AB35 -> 3 | AZ35: =O35 -> 2 | BA35: =P35+Q35+R35+S35+T35 -> 2 | BB35: =T35 -> 1 | BC35: =+U35+V35+W35 -> 1 | BD35: =Y35 -> 2 | BE35: =+O35+X35 -> 2 | BF35: =AF35 -> 1 | BG35: =AD35+AE35 -> 1 | BH35: =AF35 -> 1 | BI35: =AG35+AH35 -> 1 | BJ35: =AM35 -> 0 | BK35: =AK35+AL35 -> 0 | BL35: =AM35 -> 0 | BM35: =AN35+AO35 -> 0
A36: 2.5 | B36: ä³ÛÙ³Ý³·ñÇÁ í³í»ñ ×³Ý³ã»Éáõ í»ñ³µ»ñÛ³É | E36: =SUM('Ի.Բեգլարյան:Ս. Գրիգորյան'!E36) -> 0 | F36: =SUM('Ի.Բեգլարյան:Ս. Գրիգորյան'!F36) -> 0 | G36: =SUM('Ի.Բեգլարյան:Ս. Գրիգորյան'!G36) -> 0 | H36: =SUM('Ի.Բեգլարյան:Ս. Գրիգորյան'!H36) -> 0 | I36: =SUM('Ի.Բեգլարյան:Ս. Գրիգորյան'!I36) -> 0 | J36: =SUM('Ի.Բեգլարյան:Ս. Գրիգորյան'!J36) -> 0 | K36: =SUM('Ի.Բեգլարյան:Ս. Գրիգորյան'!K36) -> 0 | L36: =SUM('Ի.Բեգլարյան:Ս. Գրիգորյան'!L36) -> 0 | ... AS36: =SUM('Ի.Բեգլարյան:Ս. Գրիգորյան'!AS36) -> 0 | AT36: =E36 -> 0 | AU36: =F36+G36+H36+I36 -> 0 | AV36: =J36 -> 0 | AW36: =K36+L36+M36 -> 0 | AX36: =F36+G36+K36 -> 0 | AY36: =N36+Y36+Z36+AB36 -> 0 | AZ36: =O36 -> 0 | BA36: =P36+Q36+R36+S36+T36 -> 0 | BB36: =T36 -> 0 | BC36: =+U36+V36+W36 -> 0 | BD36: =Y36 -> 0 | BE36: =+O36+X36 -> 0 | BF36: =AF36 -> 0 | BG36: =AD36+AE36 -> 0 | BH36: =AF36 -> 0 | BI36: =AG36+AH36 -> 0 | BJ36: =AM36 -> 0 | BK36: =AK36+AL36 -> 0 | BL36: =AM36 -> 0 | BM36: =AN36+AO36 -> 0
A37: 2.6 | B37: ä³ÛÙ³Ý³·ñÇó Í³·áÕ Çñ³íáõÝùÝ»ñÁ ·ñ³Ýó»Éáõ í»ñ³µ»ñÛ³É | E37: =SUM('Ի.Բեգլարյան:Ս. Գրիգորյան'!E37) -> 0 | F37: =SUM('Ի.Բեգլարյան:Ս. Գրիգորյան'!F37) -> 0 | G37: =SUM('Ի.Բեգլարյան:Ս. Գրիգորյան'!G37) -> 0 | H37: =SUM('Ի.Բեգլարյան:Ս. Գրիգորյան'!H37) -> 0 | I37: =SUM('Ի.Բեգլարյան:Ս. Գրիգորյան'!I37) -> 0 | J37: =SUM('Ի.Բեգլարյան:Ս. Գրիգորյան'!J37) -> 0 | K37: =SUM('Ի.Բեգլարյան:Ս. Գրիգորյան'!K37) -> 0 | L37: =SUM('Ի.Բեգլարյան:Ս. Գրիգորյան'!L37) -> 0 | ... AS37: =SUM('Ի.Բեգլարյան:Ս. Գրիգորյան'!AS37) -> 0 | AT37: =E37 -> 0 | AU37: =F37+G37+H37+I37 -> 0 | AV37: =J37 -> 0 | AW37: =K37+L37+M37 -> 0 | AX37: =F37+G37+K37 -> 0 | AY37: =N37+Y37+Z37+AB37 -> 0 | AZ37: =O37 -> 0 | BA37: =P37+Q37+R37+S37+T37 -> 0 | BB37: =T37 -> 0 | BC37: =+U37+V37+W37 -> 0 | BD37: =Y37 -> 0 | BE37: =+O37+X37 -> 0 | BF37: =AF37 -> 0 | BG37: =AD37+AE37 -> 0 | BH37: =AF37 -> 0 | BI37: =AG37+AH37 -> 0 | BJ37: =AM37 -> 0 | BK37: =AK37+AL37 -> 0 | BL37: =AM37 -> 0 | BM37: =AN37+AO37 -> 0
A38: 2.7 | B38: ä³ÛÙ³Ý³·ÇñÁ ÷á÷áË»Éáõ ¨ ÉáõÍ»Éáõ í»ñ³µ»ñÛ³É | E38: =SUM('Ի.Բեգլարյան:Ս. Գրիգորյան'!E38) -> 1 | F38: =SUM('Ի.Բեգլարյան:Ս. Գրիգորյան'!F38) -> 0 | G38: =SUM('Ի.Բեգլարյան:Ս. Գրիգորյան'!G38) -> 1 | H38: =SUM('Ի.Բեգլարյան:Ս. Գրիգորյան'!H38) -> 0 | I38: =SUM('Ի.Բեգլարյան:Ս. Գրիգորյան'!I38) -> 0 | J38: =SUM('Ի.Բեգլարյան:Ս. Գրիգորյան'!J38) -> 3 | K38: =SUM('Ի.Բեգլարյան:Ս. Գրիգորյան'!K38) -> 2 | L38: =SUM('Ի.Բեգլարյան:Ս. Գրիգորյան'!L38) -> 1 | ... AS38: =SUM('Ի.Բեգլարյան:Ս. Գրիգորյան'!AS38) -> 0 | AT38: =E38 -> 1 | AU38: =F38+G38+H38+I38 -> 1 | AV38: =J38 -> 3 | AW38: =K38+L38+M38 -> 3 | AX38: =F38+G38+K38 -> 3 | AY38: =N38+Y38+Z38+AB38 -> 3 | AZ38: =O38 -> 1 | BA38: =P38+Q38+R38+S38+T38 -> 1 | BB38: =T38 -> 0 | BC38: =+U38+V38+W38 -> 0 | BD38: =Y38 -> 1 | BE38: =+O38+X38 -> 1 | BF38: =AF38 -> 0 | BG38: =AD38+AE38 -> 0 | BH38: =AF38 -> 0 | BI38: =AG38+AH38 -> 0 | BJ38: =AM38 -> 0 | BK38: =AK38+AL38 -> 0 | BL38: =AM38 -> 0 | BM38: =AN38+AO38 -> 0
A39: 2.8 | B39: ä³ÛÙ³Ý³·Çñ ÏÝù»ÉáõÝ å³ñï³íáñ»óÝ»Éáõ í»ñ³µ»ñÛ³É | E39: =SUM('Ի.Բեգլարյան:Ս. Գրիգորյան'!E39) -> 0 | F39: =SUM('Ի.Բեգլարյան:Ս. Գրիգորյան'!F39) -> 0 | G39: =SUM('Ի.Բեգլարյան:Ս. Գրիգորյան'!G39) -> 0 | H39: =SUM('Ի.Բեգլարյան:Ս. Գրիգորյան'!H39) -> 0 | I39: =SUM('Ի.Բեգլարյան:Ս. Գրիգորյան'!I39) -> 0 | J39: =SUM('Ի.Բեգլարյան:Ս. Գրիգորյան'!J39) -> 0 | K39: =SUM('Ի.Բեգլարյան:Ս. Գրիգորյան'!K39) -> 0 | L39: =SUM('Ի.Բեգլարյան:Ս. Գրիգորյան'!L39) -> 0 | ... AS39: =SUM('Ի.Բեգլարյան:Ս. Գրիգորյան'!AS39) -> 0 | AT39: =E39 -> 0 | AU39: =F39+G39+H39+I39 -> 0 | AV39: =J39 -> 0 | AW39: =K39+L39+M39 -> 0 | AX39: =F39+G39+K39 -> 0 | AY39: =N39+Y39+Z39+AB39 -> 0 | AZ39: =O39 -> 0 | BA39: =P39+Q39+R39+S39+T39 -> 0 | BB39: =T39 -> 0 | BC39: =+U39+V39+W39 -> 0 | BD39: =Y39 -> 0 | BE39: =+O39+X39 -> 0 | BF39: =AF39 -> 0 | BG39: =AD39+AE39 -> 0 | BH39: =AF39 -> 0 | BI39: =AG39+AH39 -> 0 | BJ39: =AM39 -> 0 | BK39: =AK39+AL39 -> 0 | BL39: =AM39 -> 0 | BM39: =AN39+AO39 -> 0
A40: 2.9 | B40: ²ÛÉ í»×»ñ | E40: =SUM('Ի.Բեգլարյան:Ս. Գրիգորյան'!E40) -> 1 | F40: =SUM('Ի.Բեգլարյան:Ս. Գրիգորյան'!F40) -> 0 | G40: =SUM('Ի.Բեգլարյան:Ս. Գրիգորյան'!G40) -> 1 | H40: =SUM('Ի.Բեգլարյան:Ս. Գրիգորյան'!H40) -> 0 | I40: =SUM('Ի.Բեգլարյան:Ս. Գրիգորյան'!I40) -> 0 | J40: =SUM('Ի.Բեգլարյան:Ս. Գրիգորյան'!J40) -> 0 | K40: =SUM('Ի.Բեգլարյան:Ս. Գրիգորյան'!K40) -> 0 | L40: =SUM('Ի.Բեգլարյան:Ս. Գրիգորյան'!L40) -> 0 | ... AS40: =SUM('Ի.Բեգլարյան:Ս. Գրիգորյան'!AS40) -> 0 | AT40: =E40 -> 1 | AU40: =F40+G40+H40+I40 -> 1 | AV40: =J40 -> 0 | AW40: =K40+L40+M40 -> 0 | AX40: =F40+G40+K40 -> 1 | AY40: =N40+Y40+Z40+AB40 -> 1 | AZ40: =O40 -> 0 | BA40: =P40+Q40+R40+S40+T40 -> 0 | BB40: =T40 -> 0 | BC40: =+U40+V40+W40 -> 0 | BD40: =Y40 -> 0 | BE40: =+O40+X40 -> 0 | BF40: =AF40 -> 0 | BG40: =AD40+AE40 -> 0 | BH40: =AF40 -> 0 | BI40: =AG40+AH40 -> 0 | BJ40: =AM40 -> 0 | BK40: =AK40+AL40 -> 0 | BL40: =AM40 -> 0 | BM40: =AN40+AO40 -> 0
A41: 3. | B41: Ä³é³Ý·áõÃÛ³Ý Ñ»ï Ï³åí³Í Çñ³í³Ñ³ñ³µ»ñáõÃÛáõÝÝ»ñÇ í»ñ³µ»ñÛ³É ¹³ï³Ï³Ý ·áñÍ»ñ | E41: =SUM(E42:E48) -> 7 | F41: =SUM(F42:F48) -> 1 | G41: =SUM(G42:G48) -> 6 | H41: =SUM(H42:H48) -> 0 | I41: =SUM(I42:I48) -> 0 | J41: =SUM(J42:J48) -> 4 | K41: =SUM(K42:K48) -> 3 | L41: =SUM(L42:L48) -> 1 | ... BM41: =SUM(BM42:BM48) -> 1
A42: 3.1 | B42: Îï³ÏÝ ³Ýí³í»ñ ×³Ý³ã»Éáõ í»ñ³µ»ñÛ³É | E42: =SUM('Ի.Բեգլարյան:Ս. Գրիգորյան'!E42) -> 0 | F42: =SUM('Ի.Բեգլարյան:Ս. Գրիգորյան'!F42) -> 0 | G42: =SUM('Ի.Բեգլարյան:Ս. Գրիգորյան'!G42) -> 0 | H42: =SUM('Ի.Բեգլարյան:Ս. Գրիգորյան'!H42) -> 0 | I42: =SUM('Ի.Բեգլարյան:Ս. Գրիգորյան'!I42) -> 0 | J42: =SUM('Ի.Բեգլարյան:Ս. Գրիգորյան'!J42) -> 0 | K42: =SUM('Ի.Բեգլարյան:Ս. Գրիգորյան'!K42) -> 0 | L42: =SUM('Ի.Բեգլարյան:Ս. Գրիգորյան'!L42) -> 0 | ... AS42: =SUM('Ի.Բեգլարյան:Ս. Գրիգորյան'!AS42) -> 0 | AT42: =E42 -> 0 | AU42: =F42+G42+H42+I42 -> 0 | AV42: =J42 -> 0 | AW42: =K42+L42+M42 -> 0 | AX42: =F42+G42+K42 -> 0 | AY42: =N42+Y42+Z42+AB42 -> 0 | AZ42: =O42 -> 0 | BA42: =P42+Q42+R42+S42+T42 -> 0 | BB42: =T42 -> 0 | BC42: =+U42+V42+W42 -> 0 | BD42: =Y42 -> 0 | BE42: =+O42+X42 -> 0 | BF42: =AF42 -> 0 | BG42: =AD42+AE42 -> 0 | BH42: =AF42 -> 0 | BI42: =AG42+AH42 -> 0 | BJ42: =AM42 -> 0 | BK42: =AK42+AL42 -> 0 | BL42: =AM42 -> 0 | BM42: =AN42+AO42 -> 0
A43: 3.2 | B43: ²Ý³ñÅ³Ý Å³é³Ý· ×³Ý³ã»Éáõ í»ñ³µ»ñÛ³É | E43: =SUM('Ի.Բեգլարյան:Ս. Գրիգորյան'!E43) -> 0 | F43: =SUM('Ի.Բեգլարյան:Ս. Գրիգորյան'!F43) -> 0 | G43: =SUM('Ի.Բեգլարյան:Ս. Գրիգորյան'!G43) -> 0 | H43: =SUM('Ի.Բեգլարյան:Ս. Գրիգորյան'!H43) -> 0 | I43: =SUM('Ի.Բեգլարյան:Ս. Գրիգորյան'!I43) -> 0 | J43: =SUM('Ի.Բեգլարյան:Ս. Գրիգորյան'!J43) -> 0 | K43: =SUM('Ի.Բեգլարյան:Ս. Գրիգորյան'!K43) -> 0 | L43: =SUM('Ի.Բեգլարյան:Ս. Գրիգորյան'!L43) -> 0 | ... AS43: =SUM('Ի.Բեգլարյան:Ս. Գրիգորյան'!AS43) -> 0 | AT43: =E43 -> 0 | AU43: =F43+G43+H43+I43 -> 0 | AV43: =J43 -> 0 | AW43: =K43+L43+M43 -> 0 | AX43: =F43+G43+K43 -> 0 | AY43: =N43+Y43+Z43+AB43 -> 0 | AZ43: =O43 -> 0 | BA43: =P43+Q43+R43+S43+T43 -> 0 | BB43: =T43 -> 0 | BC43: =+U43+V43+W43 -> 0 | BD43: =Y43 -> 0 | BE43: =+O43+X43 -> 0 | BF43: =AF43 -> 0 | BG43: =AD43+AE43 -> 0 | BH43: =AF43 -> 0 | BI43: =AG43+AH43 -> 0 | BJ43: =AM43 -> 0 | BK43: =AK43+AL43 -> 0 | BL43: =AM43 -> 0 | BM43: =AN43+AO43 -> 0
A44: 3.3 | B44: Ä³é³Ý·áõÃÛáõÝÁ µ³Å³Ý»Éáõ í»ñ³µ»ñÛ³É | E44: =SUM('Ի.Բեգլարյան:Ս. Գրիգորյան'!E44) -> 1 | F44: =SUM('Ի.Բեգլարյան:Ս. Գրիգորյան'!F44) -> 0 | G44: =SUM('Ի.Բեգլարյան:Ս. Գրիգորյան'!G44) -> 1 | H44: =SUM('Ի.Բեգլարյան:Ս. Գրիգորյան'!H44) -> 0 | I44: =SUM('Ի.Բեգլարյան:Ս. Գրիգորյան'!I44) -> 0 | J44: =SUM('Ի.Բեգլարյան:Ս. Գրիգորյան'!J44) -> 0 | K44: =SUM('Ի.Բեգլարյան:Ս. Գրիգորյան'!K44) -> 0 | L44: =SUM('Ի.Բեգլարյան:Ս. Գրիգորյան'!L44) -> 0 | ... AS44: =SUM('Ի.Բեգլարյան:Ս. Գրիգորյան'!AS44) -> 0 | AT44: =E44 -> 1 | AU44: =F44+G44+H44+I44 -> 1 | AV44: =J44 -> 0 | AW44: =K44+L44+M44 -> 0 | AX44: =F44+G44+K44 -> 1 | AY44: =N44+Y44+Z44+AB44 -> 1 | AZ44: =O44 -> 0 | BA44: =P44+Q44+R44+S44+T44 -> 0 | BB44: =T44 -> 0 | BC44: =+U44+V44+W44 -> 0 | BD44: =Y44 -> 0 | BE44: =+O44+X44 -> 0 | BF44: =AF44 -> 0 | BG44: =AD44+AE44 -> 0 | BH44: =AF44 -> 0 | BI44: =AG44+AH44 -> 0 | BJ44: =AM44 -> 0 | BK44: =AK44+AL44 -> 0 | BL44: =AM44 -> 0 | BM44: =AN44+AO44 -> 0
A45: 3.4 | B45: ¶áõÛùÝ ³ÝÅ³é³Ý· ×³Ý³ã»Éáõ í»ñ³µ»ñÛ³É | E45: =SUM('Ի.Բեգլարյան:Ս. Գրիգորյան'!E45) -> 0 | F45: =SUM('Ի.Բեգլարյան:Ս. Գրիգորյան'!F45) -> 0 | G45: =SUM('Ի.Բեգլարյան:Ս. Գրիգորյան'!G45) -> 0 | H45: =SUM('Ի.Բեգլարյան:Ս. Գրիգորյան'!H45) -> 0 | I45: =SUM('Ի.Բեգլարյան:Ս. Գրիգորյան'!I45) -> 0 | J45: =SUM('Ի.Բեգլարյան:Ս. Գրիգորյան'!J45) -> 1 | K45: =SUM('Ի.Բեգլարյան:Ս. Գրիգորյան'!K45) -> 0 | L45: =SUM('Ի.Բեգլարյան:Ս. Գրիգորյան'!L45) -> 1 | ... AS45: =SUM('Ի.Բեգլարյան:Ս. Գրիգորյան'!AS45) -> 0 | AT45: =E45 -> 0 | AU45: =F45+G45+H45+I45 -> 0 | AV45: =J45 -> 1 | AW45: =K45+L45+M45 -> 1 | AX45: =F45+G45+K45 -> 0 | AY45: =N45+Y45+Z45+AB45 -> 0 | AZ45: =O45 -> 0 | BA45: =P45+Q45+R45+S45+T45 -> 0 | BB45: =T45 -> 0 | BC45: =+U45+V45+W45 -> 0 | BD45: =Y45 -> 0 | BE45: =+O45+X45 -> 0 | BF45: =AF45 -> 0 | BG45: =AD45+AE45 -> 0 | BH45: =AF45 -> 0 | BI45: =AG45+AH45 -> 0 | BJ45: =AM45 -> 0 | BK45: =AK45+AL45 -> 0 | BL45: =AM45 -> 0 | BM45: =AN45+AO45 -> 0
A46: 3.5 | B46: Àëï ûñ»ÝùÇ Å³é³Ý·áõÃÛ³Ý Çñ³íáõÝùÇ íÏ³Û³·ÇñÝ ³Ýí³í»ñ ×³Ý³ã»Éáõ í»ñ³µ»ñÛ³É | E46: =SUM('Ի.Բեգլարյան:Ս. Գրիգորյան'!E46) -> 0 | F46: =SUM('Ի.Բեգլարյան:Ս. Գրիգորյան'!F46) -> 0 | G46: =SUM('Ի.Բեգլարյան:Ս. Գրիգորյան'!G46) -> 0 | H46: =SUM('Ի.Բեգլարյան:Ս. Գրիգորյան'!H46) -> 0 | I46: =SUM('Ի.Բեգլարյան:Ս. Գրիգորյան'!I46) -> 0 | J46: =SUM('Ի.Բեգլարյան:Ս. Գրիգորյան'!J46) -> 0 | K46: =SUM('Ի.Բեգլարյան:Ս. Գրիգորյան'!K46) -> 0 | L46: =SUM('Ի.Բեգլարյան:Ս. Գրիգորյան'!L46) -> 0 | ... AS46: =SUM('Ի.Բեգլարյան:Ս. Գրիգորյան'!AS46) -> 0 | AT46: =E46 -> 0 | AU46: =F46+G46+H46+I46 -> 0 | AV46: =J46 -> 0 | AW46: =K46+L46+M46 -> 0 | AX46: =F46+G46+K46 -> 0 | AY46: =N46+Y46+Z46+AB46 -> 0 | AZ46: =O46 -> 0 | BA46: =P46+Q46+R46+S46+T46 -> 0 | BB46: =T46 -> 0 | BC46: =+U46+V46+W46 -> 0 | BD46: =Y46 -> 0 | BE46: =+O46+X46 -> 0 | BF46: =AF46 -> 0 | BG46: =AD46+AE46 -> 0 | BH46: =AF46 -> 0 | BI46: =AG46+AH46 -> 0 | BJ46: =AM46 -> 0 | BK46: =AK46+AL46 -> 0 | BL46: =AM46 -> 0 | BM46: =AN46+AO46 -> 0
A47: 3.6 | B47: Ä³é³Ý·áõÃÛáõÝÝ ÁÝ¹áõÝ»Éáõ µ³ó ÃáÕÝí³Í Å³ÙÏ»ïÁ Ñ³ñ·»ÉÇ Ñ³Ù³ñ»Éáõ í»ñ³µ»ñÛ³É | E47: =SUM('Ի.Բեգլարյան:Ս. Գրիգորյան'!E47) -> 3 | F47: =SUM('Ի.Բեգլարյան:Ս. Գրիգորյան'!F47) -> 0 | G47: =SUM('Ի.Բեգլարյան:Ս. Գրիգորյան'!G47) -> 3 | H47: =SUM('Ի.Բեգլարյան:Ս. Գրիգորյան'!H47) -> 0 | I47: =SUM('Ի.Բեգլարյան:Ս. Գրիգորյան'!I47) -> 0 | J47: =SUM('Ի.Բեգլարյան:Ս. Գրիգորյան'!J47) -> 2 | K47: =SUM('Ի.Բեգլարյան:Ս. Գրիգորյան'!K47) -> 2 | L47: =SUM('Ի.Բեգլարյան:Ս. Գրիգորյան'!L47) -> 0 | ... AS47: =SUM('Ի.Բեգլարյան:Ս. Գրիգորյան'!AS47) -> 0 | AT47: =E47 -> 3 | AU47: =F47+G47+H47+I47 -> 3 | AV47: =J47 -> 2 | AW47: =K47+L47+M47 -> 2 | AX47: =F47+G47+K47 -> 5 | AY47: =N47+Y47+Z47+AB47 -> 5 | AZ47: =O47 -> 2 | BA47: =P47+Q47+R47+S47+T47 -> 2 | BB47: =T47 -> 0 | BC47: =+U47+V47+W47 -> 0 | BD47: =Y47 -> 2 | BE47: =+O47+X47 -> 2 | BF47: =AF47 -> 1 | BG47: =AD47+AE47 -> 1 | BH47: =AF47 -> 1 | BI47: =AG47+AH47 -> 1 | BJ47: =AM47 -> 1 | BK47: =AK47+AL47 -> 1 | BL47: =AM47 -> 1 | BM47: =AN47+AO47 -> 1
A48: 3.7 | B48: ²ÛÉ í»×»ñ | E48: =SUM('Ի.Բեգլարյան:Ս. Գրիգորյան'!E48) -> 3 | F48: =SUM('Ի.Բեգլարյան:Ս. Գրիգորյան'!F48) -> 1 | G48: =SUM('Ի.Բեգլարյան:Ս. Գրիգորյան'!G48) -> 2 | H48: =SUM('Ի.Բեգլարյան:Ս. Գրիգորյան'!H48) -> 0 | I48: =SUM('Ի.Բեգլարյան:Ս. Գրիգորյան'!I48) -> 0 | J48: =SUM('Ի.Բեգլարյան:Ս. Գրիգորյան'!J48) -> 1 | K48: =SUM('Ի.Բեգլարյան:Ս. Գրիգորյան'!K48) -> 1 | L48: =SUM('Ի.Բեգլարյան:Ս. Գրիգորյան'!L48) -> 0 | ... AS48: =SUM('Ի.Բեգլարյան:Ս. Գրիգորյան'!AS48) -> 0 | AT48: =E48 -> 3 | AU48: =F48+G48+H48+I48 -> 3 | AV48: =J48 -> 1 | AW48: =K48+L48+M48 -> 1 | AX48: =F48+G48+K48 -> 4 | AY48: =N48+Y48+Z48+AB48 -> 4 | AZ48: =O48 -> 1 | BA48: =P48+Q48+R48+S48+T48 -> 1 | BB48: =T48 -> 0 | BC48: =+U48+V48+W48 -> 0 | BD48: =Y48 -> 2 | BE48: =+O48+X48 -> 2 | BF48: =AF48 -> 0 | BG48: =AD48+AE48 -> 0 | BH48: =AF48 -> 0 | BI48: =AG48+AH48 -> 0 | BJ48: =AM48 -> 0 | BK48: =AK48+AL48 -> 0 | BL48: =AM48 -> 0 | BM48: =AN48+AO48 -> 0
A49: 4 | B49: ÀÝï³Ý»Ï³Ý Çñ³í³Ñ³ñ³µ»ñáõÃÛáõÝÝ»ñÇ í»ñ³µ»ñÛ³É ¹³ï³Ï³Ý ·áñÍ»ñ | E49: =SUM(E50:E62) -> 46 | F49: =SUM(F50:F62) -> 5 | G49: =SUM(G50:G62) -> 41 | H49: =SUM(H50:H62) -> 0 | I49: =SUM(I50:I62) -> 0 | J49: =SUM(J50:J62) -> 92 | K49: =SUM(K50:K62) -> 83 | L49: =SUM(L50:L62) -> 9 | ... BM49: =SUM(BM50:BM62) -> 0
A50: 4.1 | B50: ²ÙáõëÝ³ÉáõÍáõÃÛ³Ý í»ñ³µ»ñÛ³É | E50: =SUM('Ի.Բեգլարյան:Ս. Գրիգորյան'!E50) -> 18 | F50: =SUM('Ի.Բեգլարյան:Ս. Գրիգորյան'!F50) -> 0 | G50: =SUM('Ի.Բեգլարյան:Ս. Գրիգորյան'!G50) -> 18 | H50: =SUM('Ի.Բեգլարյան:Ս. Գրիգորյան'!H50) -> 0 | I50: =SUM('Ի.Բեգլարյան:Ս. Գրիգորյան'!I50) -> 0 | J50: =SUM('Ի.Բեգլարյան:Ս. Գրիգորյան'!J50) -> 35 | K50: =SUM('Ի.Բեգլարյան:Ս. Գրիգորյան'!K50) -> 33 | L50: =SUM('Ի.Բեգլարյան:Ս. Գրիգորյան'!L50) -> 2 | ... AS50: =SUM('Ի.Բեգլարյան:Ս. Գրիգորյան'!AS50) -> 0 | AT50: =E50 -> 18 | AU50: =F50+G50+H50+I50 -> 18 | AV50: =J50 -> 35 | AW50: =K50+L50+M50 -> 35 | AX50: =F50+G50+K50 -> 51 | AY50: =N50+Y50+Z50+AB50 -> 51 | AZ50: =O50 -> 33 | BA50: =P50+Q50+R50+S50+T50 -> 33 | BB50: =T50 -> 1 | BC50: =+U50+V50+W50 -> 1 | BD50: =Y50 -> 33 | BE50: =+O50+X50 -> 33 | BF50: =AF50 -> 1 | BG50: =AD50+AE50 -> 1 | BH50: =AF50 -> 1 | BI50: =AG50+AH50 -> 1 | BJ50: =AM50 -> 0 | BK50: =AK50+AL50 -> 0 | BL50: =AM50 -> 0 | BM50: =AN50+AO50 -> 0
A51: 4.2 | B51: ²ÉÇÙ»ÝïÇ å³Ñ³ÝçÇ í»ñ³µ»ñÛ³É | E51: =SUM('Ի.Բեգլարյան:Ս. Գրիգորյան'!E51) -> 11 | F51: =SUM('Ի.Բեգլարյան:Ս. Գրիգորյան'!F51) -> 1 | G51: =SUM('Ի.Բեգլարյան:Ս. Գրիգորյան'!G51) -> 10 | H51: =SUM('Ի.Բեգլարյան:Ս. Գրիգորյան'!H51) -> 0 | I51: =SUM('Ի.Բեգլարյան:Ս. Գրիգորյան'!I51) -> 0 | J51: =SUM('Ի.Բեգլարյան:Ս. Գրիգորյան'!J51) -> 27 | K51: =SUM('Ի.Բեգլարյան:Ս. Գրիգորյան'!K51) -> 25 | L51: =SUM('Ի.Բեգլարյան:Ս. Գրիգորյան'!L51) -> 2 | ... AS51: =SUM('Ի.Բեգլարյան:Ս. Գրիգորյան'!AS51) -> 0 | AT51: =E51 -> 11 | AU51: =F51+G51+H51+I51 -> 11 | AV51: =J51 -> 27 | AW51: =K51+L51+M51 -> 27 | AX51: =F51+G51+K51 -> 36 | AY51: =N51+Y51+Z51+AB51 -> 36 | AZ51: =O51 -> 26 | BA51: =P51+Q51+R51+S51+T51 -> 26 | BB51: =T51 -> 2 | BC51: =+U51+V51+W51 -> 2 | BD51: =Y51 -> 26 | BE51: =+O51+X51 -> 26 | BF51: =AF51 -> 0 | BG51: =AD51+AE51 -> 0 | BH51: =AF51 -> 0 | BI51: =AG51+AH51 -> 0 | BJ51: =AM51 -> 0 | BK51: =AK51+AL51 -> 0 | BL51: =AM51 -> 0 | BM51: =AN51+AO51 -> 0
A52: 4.3 | B52: ²ÉÇÙ»ÝïÇ ã³÷Á ÷á÷áË»Éáõ í»ñ³µ»ñÛ³É | E52: =SUM('Ի.Բեգլարյան:Ս. Գրիգորյան'!E52) -> 2 | F52: =SUM('Ի.Բեգլարյան:Ս. Գրիգորյան'!F52) -> 0 | G52: =SUM('Ի.Բեգլարյան:Ս. Գրիգորյան'!G52) -> 2 | H52: =SUM('Ի.Բեգլարյան:Ս. Գրիգորյան'!H52) -> 0 | I52: =SUM('Ի.Բեգլարյան:Ս. Գրիգորյան'!I52) -> 0 | J52: =SUM('Ի.Բեգլարյան:Ս. Գրիգորյան'!J52) -> 8 | K52: =SUM('Ի.Բեգլարյան:Ս. Գրիգորյան'!K52) -> 6 | L52: =SUM('Ի.Բեգլարյան:Ս. Գրիգորյան'!L52) -> 2 | ... AS52: =SUM('Ի.Բեգլարյան:Ս. Գրիգորյան'!AS52) -> 0 | AT52: =E52 -> 2 | AU52: =F52+G52+H52+I52 -> 2 | AV52: =J52 -> 8 | AW52: =K52+L52+M52 -> 8 | AX52: =F52+G52+K52 -> 8 | AY52: =N52+Y52+Z52+AB52 -> 8 | AZ52: =O52 -> 6 | BA52: =P52+Q52+R52+S52+T52 -> 6 | BB52: =T52 -> 0 | BC52: =+U52+V52+W52 -> 0 | BD52: =Y52 -> 6 | BE52: =+O52+X52 -> 6 | BF52: =AF52 -> 0 | BG52: =AD52+AE52 -> 0 | BH52: =AF52 -> 0 | BI52: =AG52+AH52 -> 0 | BJ52: =AM52 -> 0 | BK52: =AK52+AL52 -> 0 | BL52: =AM52 -> 0 | BM52: =AN52+AO52 -> 0
A53: 4.4 | B53: ÌÝáÕ³Ï³Ý Çñ³íáõÝùÝ»ñÇó ½ñÏ»Éáõ í»ñ³µ»ñÛ³É | E53: =SUM('Ի.Բեգլարյան:Ս. Գրիգորյան'!E53) -> 0 | F53: =SUM('Ի.Բեգլարյան:Ս. Գրիգորյան'!F53) -> 0 | G53: =SUM('Ի.Բեգլարյան:Ս. Գրիգորյան'!G53) -> 0 | H53: =SUM('Ի.Բեգլարյան:Ս. Գրիգորյան'!H53) -> 0 | I53: =SUM('Ի.Բեգլարյան:Ս. Գրիգորյան'!I53) -> 0 | J53: =SUM('Ի.Բեգլարյան:Ս. Գրիգորյան'!J53) -> 0 | K53: =SUM('Ի.Բեգլարյան:Ս. Գրիգորյան'!K53) -> 0 | L53: =SUM('Ի.Բեգլարյան:Ս. Գրիգորյան'!L53) -> 0 | ... AS53: =SUM('Ի.Բեգլարյան:Ս. Գրիգորյան'!AS53) -> 0 | AT53: =E53 -> 0 | AU53: =F53+G53+H53+I53 -> 0 | AV53: =J53 -> 0 | AW53: =K53+L53+M53 -> 0 | AX53: =F53+G53+K53 -> 0 | AY53: =N53+Y53+Z53+AB53 -> 0 | AZ53: =O53 -> 0 | BA53: =P53+Q53+R53+S53+T53 -> 0 | BB53: =T53 -> 0 | BC53: =+U53+V53+W53 -> 0 | BD53: =Y53 -> 0 | BE53: =+O53+X53 -> 0 | BF53: =AF53 -> 0 | BG53: =AD53+AE53 -> 0 | BH53: =AF53 -> 0 | BI53: =AG53+AH53 -> 0 | BJ53: =AM53 -> 0 | BK53: =AK53+AL53 -> 0 | BL53: =AM53 -> 0 | BM53: =AN53+AO53 -> 0
A54: 4.5 | B54: ÌÝáÕ³Ï³Ý Çñ³íáõÝùÝ»ñÁ í»ñ³Ï³Ý·Ý»Éáõ í»ñ³µ»ñÛ³É | E54: =SUM('Ի.Բեգլարյան:Ս. Գրիգորյան'!E54) -> 0 | F54: =SUM('Ի.Բեգլարյան:Ս. Գրիգորյան'!F54) -> 0 | G54: =SUM('Ի.Բեգլարյան:Ս. Գրիգորյան'!G54) -> 0 | H54: =SUM('Ի.Բեգլարյան:Ս. Գրիգորյան'!H54) -> 0 | I54: =SUM('Ի.Բեգլարյան:Ս. Գրիգորյան'!I54) -> 0 | J54: =SUM('Ի.Բեգլարյան:Ս. Գրիգորյան'!J54) -> 0 | K54: =SUM('Ի.Բեգլարյան:Ս. Գրիգորյան'!K54) -> 0 | L54: =SUM('Ի.Բեգլարյան:Ս. Գրիգորյան'!L54) -> 0 | ... AS54: =SUM('Ի.Բեգլարյան:Ս. Գրիգորյան'!AS54) -> 0 | AT54: =E54 -> 0 | AU54: =F54+G54+H54+I54 -> 0 | AV54: =J54 -> 0 | AW54: =K54+L54+M54 -> 0 | AX54: =F54+G54+K54 -> 0 | AY54: =N54+Y54+Z54+AB54 -> 0 | AZ54: =O54 -> 0 | BA54: =P54+Q54+R54+S54+T54 -> 0 | BB54: =T54 -> 0 | BC54: =+U54+V54+W54 -> 0 | BD54: =Y54 -> 0 | BE54: =+O54+X54 -> 0 | BF54: =AF54 -> 0 | BG54: =AD54+AE54 -> 0 | BH54: =AF54 -> 0 | BI54: =AG54+AH54 -> 0 | BJ54: =AM54 -> 0 | BK54: =AK54+AL54 -> 0 | BL54: =AM54 -> 0 | BM54: =AN54+AO54 -> 0
A55: 4.6 | B55: ºñ»Ë³ÛÇ áñ¹»·ñÙ³Ý í»ñ³µ»ñÛ³É | E55: =SUM('Ի.Բեգլարյան:Ս. Գրիգորյան'!E55) -> 1 | F55: =SUM('Ի.Բեգլարյան:Ս. Գրիգորյան'!F55) -> 0 | G55: =SUM('Ի.Բեգլարյան:Ս. Գրիգորյան'!G55) -> 1 | H55: =SUM('Ի.Բեգլարյան:Ս. Գրիգորյան'!H55) -> 0 | I55: =SUM('Ի.Բեգլարյան:Ս. Գրիգորյան'!I55) -> 0 | J55: =SUM('Ի.Բեգլարյան:Ս. Գրիգորյան'!J55) -> 4 | K55: =SUM('Ի.Բեգլարյան:Ս. Գրիգորյան'!K55) -> 3 | L55: =SUM('Ի.Բեգլարյան:Ս. Գրիգորյան'!L55) -> 1 | ... AS55: =SUM('Ի.Բեգլարյան:Ս. Գրիգորյան'!AS55) -> 0 | AT55: =E55 -> 1 | AU55: =F55+G55+H55+I55 -> 1 | AV55: =J55 -> 4 | AW55: =K55+L55+M55 -> 4 | AX55: =F55+G55+K55 -> 4 | AY55: =N55+Y55+Z55+AB55 -> 4 | AZ55: =O55 -> 2 | BA55: =P55+Q55+R55+S55+T55 -> 2 | BB55: =T55 -> 0 | BC55: =+U55+V55+W55 -> 0 | BD55: =Y55 -> 2 | BE55: =+O55+X55 -> 2 | BF55: =AF55 -> 0 | BG55: =AD55+AE55 -> 0 | BH55: =AF55 -> 0 | BI55: =AG55+AH55 -> 0 | BJ55: =AM55 -> 0 | BK55: =AK55+AL55 -> 0 | BL55: =AM55 -> 0 | BM55: =AN55+AO55 -> 0
A56: 4.7 | B56: ºñ»Ë³ÛÇ áñ¹»·ñáõÙÁ í»ñ³óÝ»Éáõ í»ñ³µ»ñÛ³É | E56: =SUM('Ի.Բեգլարյան:Ս. Գրիգորյան'!E56) -> 0 | F56: =SUM('Ի.Բեգլարյան:Ս. Գրիգորյան'!F56) -> 0 | G56: =SUM('Ի.Բեգլարյան:Ս. Գրիգորյան'!G56) -> 0 | H56: =SUM('Ի.Բեգլարյան:Ս. Գրիգորյան'!H56) -> 0 | I56: =SUM('Ի.Բեգլարյան:Ս. Գրիգորյան'!I56) -> 0 | J56: =SUM('Ի.Բեգլարյան:Ս. Գրիգորյան'!J56) -> 0 | K56: =SUM('Ի.Բեգլարյան:Ս. Գրիգորյան'!K56) -> 0 | L56: =SUM('Ի.Բեգլարյան:Ս. Գրիգորյան'!L56) -> 0 | ... AS56: =SUM('Ի.Բեգլարյան:Ս. Գրիգորյան'!AS56) -> 0 | AT56: =E56 -> 0 | AU56: =F56+G56+H56+I56 -> 0 | AV56: =J56 -> 0 | AW56: =K56+L56+M56 -> 0 | AX56: =F56+G56+K56 -> 0 | AY56: =N56+Y56+Z56+AB56 -> 0 | AZ56: =O56 -> 0 | BA56: =P56+Q56+R56+S56+T56 -> 0 | BB56: =T56 -> 0 | BC56: =+U56+V56+W56 -> 0 | BD56: =Y56 -> 0 | BE56: =+O56+X56 -> 0 | BF56: =AF56 -> 0 | BG56: =AD56+AE56 -> 0 | BH56: =AF56 -> 0 | BI56: =AG56+AH56 -> 0 | BJ56: =AM56 -> 0 | BK56: =AK56+AL56 -> 0 | BL56: =AM56 -> 0 | BM56: =AN56+AO56 -> 0
A57: 4.8 | B57: Ð³ÛñáõÃÛáõÝÁ ×³Ý³ã»Éáõ í»ñ³µ»ñÛ³É | E57: =SUM('Ի.Բեգլարյան:Ս. Գրիգորյան'!E57) -> 2 | F57: =SUM('Ի.Բեգլարյան:Ս. Գրիգորյան'!F57) -> 2 | G57: =SUM('Ի.Բեգլարյան:Ս. Գրիգորյան'!G57) -> 0 | H57: =SUM('Ի.Բեգլարյան:Ս. Գրիգորյան'!H57) -> 0 | I57: =SUM('Ի.Բեգլարյան:Ս. Գրիգորյան'!I57) -> 0 | J57: =SUM('Ի.Բեգլարյան:Ս. Գրիգորյան'!J57) -> 7 | K57: =SUM('Ի.Բեգլարյան:Ս. Գրիգորյան'!K57) -> 7 | L57: =SUM('Ի.Բեգլարյան:Ս. Գրիգորյան'!L57) -> 0 | ... AS57: =SUM('Ի.Բեգլարյան:Ս. Գրիգորյան'!AS57) -> 0 | AT57: =E57 -> 2 | AU57: =F57+G57+H57+I57 -> 2 | AV57: =J57 -> 7 | AW57: =K57+L57+M57 -> 7 | AX57: =F57+G57+K57 -> 9 | AY57: =N57+Y57+Z57+AB57 -> 9 | AZ57: =O57 -> 5 | BA57: =P57+Q57+R57+S57+T57 -> 5 | BB57: =T57 -> 0 | BC57: =+U57+V57+W57 -> 0 | BD57: =Y57 -> 5 | BE57: =+O57+X57 -> 5 | BF57: =AF57 -> 0 | BG57: =AD57+AE57 -> 0 | BH57: =AF57 -> 0 | BI57: =AG57+AH57 -> 0 | BJ57: =AM57 -> 0 | BK57: =AK57+AL57 -> 0 | BL57: =AM57 -> 0 | BM57: =AN57+AO57 -> 0
A58: 4.9 | B58: ºñ»Ë³ÛÇ µÝ³ÏáõÃÛ³Ý í³ÛñÁ áñáß»Éáõ í»ñ³µ»ñÛ³É | E58: =SUM('Ի.Բեգլարյան:Ս. Գրիգորյան'!E58) -> 2 | F58: =SUM('Ի.Բեգլարյան:Ս. Գրիգորյան'!F58) -> 0 | G58: =SUM('Ի.Բեգլարյան:Ս. Գրիգորյան'!G58) -> 2 | H58: =SUM('Ի.Բեգլարյան:Ս. Գրիգորյան'!H58) -> 0 | I58: =SUM('Ի.Բեգլարյան:Ս. Գրիգորյան'!I58) -> 0 | J58: =SUM('Ի.Բեգլարյան:Ս. Գրիգորյան'!J58) -> 2 | K58: =SUM('Ի.Բեգլարյան:Ս. Գրիգորյան'!K58) -> 2 | L58: =SUM('Ի.Բեգլարյան:Ս. Գրիգորյան'!L58) -> 0 | ... AS58: =SUM('Ի.Բեգլարյան:Ս. Գրիգորյան'!AS58) -> 0 | AT58: =E58 -> 2 | AU58: =F58+G58+H58+I58 -> 2 | AV58: =J58 -> 2 | AW58: =K58+L58+M58 -> 2 | AX58: =F58+G58+K58 -> 4 | AY58: =N58+Y58+Z58+AB58 -> 4 | AZ58: =O58 -> 0 | BA58: =P58+Q58+R58+S58+T58 -> 0 | BB58: =T58 -> 0 | BC58: =+U58+V58+W58 -> 0 | BD58: =Y58 -> 0 | BE58: =+O58+X58 -> 0 | BF58: =AF58 -> 0 | BG58: =AD58+AE58 -> 0 | BH58: =AF58 -> 0 | BI58: =AG58+AH58 -> 0 | BJ58: =AM58 -> 0 | BK58: =AK58+AL58 -> 0 | BL58: =AM58 -> 0 | BM58: =AN58+AO58 -> 0
A59: 4.10 | B59: ºñ»Ë³ÛÇ Ñ»ï ï»ë³ÏóáõÃÛ³Ý Ï³ñ· ë³ÑÙ³Ý»Éáõ í»ñ³µ»ñÛ³É | E59: =SUM('Ի.Բեգլարյան:Ս. Գրիգորյան'!E59) -> 7 | F59: =SUM('Ի.Բեգլարյան:Ս. Գրիգորյան'!F59) -> 2 | G59: =SUM('Ի.Բեգլարյան:Ս. Գրիգորյան'!G59) -> 5 | H59: =SUM('Ի.Բեգլարյան:Ս. Գրիգորյան'!H59) -> 0 | I59: =SUM('Ի.Բեգլարյան:Ս. Գրիգորյան'!I59) -> 0 | J59: =SUM('Ի.Բեգլարյան:Ս. Գրիգորյան'!J59) -> 8 | K59: =SUM('Ի.Բեգլարյան:Ս. Գրիգորյան'!K59) -> 6 | L59: =SUM('Ի.Բեգլարյան:Ս. Գրիգորյան'!L59) -> 2 | ... AS59: =SUM('Ի.Բեգլարյան:Ս. Գրիգորյան'!AS59) -> 0 | AT59: =E59 -> 7 | AU59: =F59+G59+H59+I59 -> 7 | AV59: =J59 -> 8 | AW59: =K59+L59+M59 -> 8 | AX59: =F59+G59+K59 -> 13 | AY59: =N59+Y59+Z59+AB59 -> 13 | AZ59: =O59 -> 7 | BA59: =P59+Q59+R59+S59+T59 -> 7 | BB59: =T59 -> 1 | BC59: =+U59+V59+W59 -> 1 | BD59: =Y59 -> 7 | BE59: =+O59+X59 -> 7 | BF59: =AF59 -> 1 | BG59: =AD59+AE59 -> 1 | BH59: =AF59 -> 1 | BI59: =AG59+AH59 -> 1 | BJ59: =AM59 -> 0 | BK59: =AK59+AL59 -> 0 | BL59: =AM59 -> 0 | BM59: =AN59+AO59 -> 0
A60: 4.11 | B60: ²ÙáõëÇÝÝ»ñÇ ÁÝ¹Ñ³Ýáõñ ·áõÛùÁ µ³Å³Ý»Éáõ í»ñ³µ»ñÛ³É | E60: =SUM('Ի.Բեգլարյան:Ս. Գրիգորյան'!E60) -> 3 | F60: =SUM('Ի.Բեգլարյան:Ս. Գրիգորյան'!F60) -> 0 | G60: =SUM('Ի.Բեգլարյան:Ս. Գրիգորյան'!G60) -> 3 | H60: =SUM('Ի.Բեգլարյան:Ս. Գրիգորյան'!H60) -> 0 | I60: =SUM('Ի.Բեգլարյան:Ս. Գրիգորյան'!I60) -> 0 | J60: =SUM('Ի.Բեգլարյան:Ս. Գրիգորյան'!J60) -> 0 | K60: =SUM('Ի.Բեգլարյան:Ս. Գրիգորյան'!K60) -> 0 | L60: =SUM('Ի.Բեգլարյան:Ս. Գրիգորյան'!L60) -> 0 | ... AS60: =SUM('Ի.Բեգլարյան:Ս. Գրիգորյան'!AS60) -> 0 | AT60: =E60 -> 3 | AU60: =F60+G60+H60+I60 -> 3 | AV60: =J60 -> 0 | AW60: =K60+L60+M60 -> 0 | AX60: =F60+G60+K60 -> 3 | AY60: =N60+Y60+Z60+AB60 -> 3 | AZ60: =O60 -> 1 | BA60: =P60+Q60+R60+S60+T60 -> 1 | BB60: =T60 -> 1 | BC60: =+U60+V60+W60 -> 1 | BD60: =Y60 -> 1 | BE60: =+O60+X60 -> 1 | BF60: =AF60 -> 0 | BG60: =AD60+AE60 -> 0 | BH60: =AF60 -> 0 | BI60: =AG60+AH60 -> 0 | BJ60: =AM60 -> 0 | BK60: =AK60+AL60 -> 0 | BL60: =AM60 -> 0 | BM60: =AN60+AO60 -> 0
A61: 4.12 | B61: ²ÙáõëÝ³Ï³Ý å³ÛÙ³Ý³·ñÇ ÷á÷áËÙ³Ý Ï³Ù ÉáõÍÙ³Ý í»ñ³µ»ñÛ³É | E61: =SUM('Ի.Բեգլարյան:Ս. Գրիգորյան'!E61) -> 0 | F61: =SUM('Ի.Բեգլարյան:Ս. Գրիգորյան'!F61) -> 0 | G61: =SUM('Ի.Բեգլարյան:Ս. Գրիգորյան'!G61) -> 0 | H61: =SUM('Ի.Բեգլարյան:Ս. Գրիգորյան'!H61) -> 0 | I61: =SUM('Ի.Բեգլարյան:Ս. Գրիգորյան'!I61) -> 0 | J61: =SUM('Ի.Բեգլարյան:Ս. Գրիգորյան'!J61) -> 0 | K61: =SUM('Ի.Բեգլարյան:Ս. Գրիգորյան'!K61) -> 0 | L61: =SUM('Ի.Բեգլարյան:Ս. Գրիգորյան'!L61) -> 0 | ... AS61: =SUM('Ի.Բեգլարյան:Ս. Գրիգորյան'!AS61) -> 0 | AT61: =E61 -> 0 | AU61: =F61+G61+H61+I61 -> 0 | AV61: =J61 -> 0 | AW61: =K61+L61+M61 -> 0 | AX61: =F61+G61+K61 -> 0 | AY61: =N61+Y61+Z61+AB61 -> 0 | AZ61: =O61 -> 0 | BA61: =P61+Q61+R61+S61+T61 -> 0 | BB61: =T61 -> 0 | BC61: =+U61+V61+W61 -> 0 | BD61: =Y61 -> 0 | BE61: =+O61+X61 -> 0 | BF61: =AF61 -> 0 | BG61: =AD61+AE61 -> 0 | BH61: =AF61 -> 0 | BI61: =AG61+AH61 -> 0 | BJ61: =AM61 -> 0 | BK61: =AK61+AL61 -> 0 | BL61: =AM61 -> 0 | BM61: =AN61+AO61 -> 0
A62: 4.13 | B62: ²ÛÉ í»×»ñ | E62: =SUM('Ի.Բեգլարյան:Ս. Գրիգորյան'!E62) -> 0 | F62: =SUM('Ի.Բեգլարյան:Ս. Գրիգորյան'!F62) -> 0 | G62: =SUM('Ի.Բեգլարյան:Ս. Գրիգորյան'!G62) -> 0 | H62: =SUM('Ի.Բեգլարյան:Ս. Գրիգորյան'!H62) -> 0 | I62: =SUM('Ի.Բեգլարյան:Ս. Գրիգորյան'!I62) -> 0 | J62: =SUM('Ի.Բեգլարյան:Ս. Գրիգորյան'!J62) -> 1 | K62: =SUM('Ի.Բեգլարյան:Ս. Գրիգորյան'!K62) -> 1 | L62: =SUM('Ի.Բեգլարյան:Ս. Գրիգորյան'!L62) -> 0 | ... AS62: =SUM('Ի.Բեգլարյան:Ս. Գրիգորյան'!AS62) -> 0 | AT62: =E62 -> 0 | AU62: =F62+G62+H62+I62 -> 0 | AV62: =J62 -> 1 | AW62: =K62+L62+M62 -> 1 | AX62: =F62+G62+K62 -> 1 | AY62: =N62+Y62+Z62+AB62 -> 1 | AZ62: =O62 -> 0 | BA62: =P62+Q62+R62+S62+T62 -> 0 | BB62: =T62 -> 0 | BC62: =+U62+V62+W62 -> 0 | BD62: =Y62 -> 0 | BE62: =+O62+X62 -> 0 | BF62: =AF62 -> 0 | BG62: =AD62+AE62 -> 0 | BH62: =AF62 -> 0 | BI62: =AG62+AH62 -> 0 | BJ62: =AM62 -> 0 | BK62: =AK62+AL62 -> 0 | BL62: =AM62 -> 0 | BM62: =AN62+AO62 -> 0
A63: 5. | B63: Øï³íáñ ë»÷³Ï³ÝáõÃÛ³Ý Ñ»ï Ï³åí³ÍÇñ³í³Ñ³ñ³µ»ñáõÃÛáõÝÝ»ñÇ í»ñ³µ»ñÛ³É ¹³ï³Ï³Ý ·áñÍ»ñ | E63: =SUM(E64:E69) -> 0 | F63: =SUM(F64:F69) -> 0 | G63: =SUM(G64:G69) -> 0 | H63: =SUM(H64:H69) -> 0 | I63: =SUM(I64:I69) -> 0 | J63: =SUM(J64:J69) -> 0 | K63: =SUM(K64:K69) -> 0 | L63: =SUM(L64:L69) -> 0 | ... BM63: =SUM(BM64:BM69) -> 0
A64: 5.1 | B64: ÈÇó»Ý½³ÛÇÝ å³ÛÙ³Ý³·ñÇ ÉáõÍÙ³Ý, ÷á÷áËÙ³Ý ¨ ³Ýí³í»ñáõÃÛ³Ý í»ñ³µ»ñÛ³É | E64: =SUM('Ի.Բեգլարյան:Ս. Գրիգորյան'!E64) -> 0 | F64: =SUM('Ի.Բեգլարյան:Ս. Գրիգորյան'!F64) -> 0 | G64: =SUM('Ի.Բեգլարյան:Ս. Գրիգորյան'!G64) -> 0 | H64: =SUM('Ի.Բեգլարյան:Ս. Գրիգորյան'!H64) -> 0 | I64: =SUM('Ի.Բեգլարյան:Ս. Գրիգորյան'!I64) -> 0 | J64: =SUM('Ի.Բեգլարյան:Ս. Գրիգորյան'!J64) -> 0 | K64: =SUM('Ի.Բեգլարյան:Ս. Գրիգորյան'!K64) -> 0 | L64: =SUM('Ի.Բեգլարյան:Ս. Գրիգորյան'!L64) -> 0 | ... AS64: =SUM('Ի.Բեգլարյան:Ս. Գրիգորյան'!AS64) -> 0 | AT64: =E64 -> 0 | AU64: =F64+G64+H64+I64 -> 0 | AV64: =J64 -> 0 | AW64: =K64+L64+M64 -> 0 | AX64: =F64+G64+K64 -> 0 | AY64: =N64+Y64+Z64+AB64 -> 0 | AZ64: =O64 -> 0 | BA64: =P64+Q64+R64+S64+T64 -> 0 | BB64: =T64 -> 0 | BC64: =+U64+V64+W64 -> 0 | BD64: =Y64 -> 0 | BE64: =+O64+X64 -> 0 | BF64: =AF64 -> 0 | BG64: =AD64+AE64 -> 0 | BH64: =AF64 -> 0 | BI64: =AG64+AH64 -> 0 | BJ64: =AM64 -> 0 | BK64: =AK64+AL64 -> 0 | BL64: =AM64 -> 0 | BM64: =AN64+AO64 -> 0
A65: 5.2 | B65: Øï³íáñ ·áñÍáõÝ»áõÃÛ³Ý ³ñ¹ÛáõÝùÝ»ñ ëï»ÕÍ»Éáõ ¨ û·ï³·áñÍ»Éáõ å³ÛÙ³Ý³·ñÇ ÉáõÍÙ³Ý, ÷á÷áËÙ³Ý áõ ³Ýí³í»ñáõÃÛ³Ý í»ñ³µ»ñÛ³É | E65: =SUM('Ի.Բեգլարյան:Ս. Գրիգորյան'!E65) -> 0 | F65: =SUM('Ի.Բեգլարյան:Ս. Գրիգորյան'!F65) -> 0 | G65: =SUM('Ի.Բեգլարյան:Ս. Գրիգորյան'!G65) -> 0 | H65: =SUM('Ի.Բեգլարյան:Ս. Գրիգորյան'!H65) -> 0 | I65: =SUM('Ի.Բեգլարյան:Ս. Գրիգորյան'!I65) -> 0 | J65: =SUM('Ի.Բեգլարյան:Ս. Գրիգորյան'!J65) -> 0 | K65: =SUM('Ի.Բեգլարյան:Ս. Գրիգորյան'!K65) -> 0 | L65: =SUM('Ի.Բեգլարյան:Ս. Գրիգորյան'!L65) -> 0 | ... AS65: =SUM('Ի.Բեգլարյան:Ս. Գրիգորյան'!AS65) -> 0 | AT65: =E65 -> 0 | AU65: =F65+G65+H65+I65 -> 0 | AV65: =J65 -> 0 | AW65: =K65+L65+M65 -> 0 | AX65: =F65+G65+K65 -> 0 | AY65: =N65+Y65+Z65+AB65 -> 0 | AZ65: =O65 -> 0 | BA65: =P65+Q65+R65+S65+T65 -> 0 | BB65: =T65 -> 0 | BC65: =+U65+V65+W65 -> 0 | BD65: =Y65 -> 0 | BE65: =+O65+X65 -> 0 | BF65: =AF65 -> 0 | BG65: =AD65+AE65 -> 0 | BH65: =AF65 -> 0 | BI65: =AG65+AH65 -> 0 | BJ65: =AM65 -> 0 | BK65: =AK65+AL65 -> 0 | BL65: =AM65 -> 0 | BM65: =AN65+AO65 -> 0
A66: 5.3 | B66: Ð»ÕÇÝ³Ï³ÛÇÝ ¨ Ñ³ñ³ÏÇó Çñ³íáõÝùÝ»ñÇ í»ñ³µ»ñÛ³É | E66: =SUM('Ի.Բեգլարյան:Ս. Գրիգորյան'!E66) -> 0 | F66: =SUM('Ի.Բեգլարյան:Ս. Գրիգորյան'!F66) -> 0 | G66: =SUM('Ի.Բեգլարյան:Ս. Գրիգորյան'!G66) -> 0 | H66: =SUM('Ի.Բեգլարյան:Ս. Գրիգորյան'!H66) -> 0 | I66: =SUM('Ի.Բեգլարյան:Ս. Գրիգորյան'!I66) -> 0 | J66: =SUM('Ի.Բեգլարյան:Ս. Գրիգորյան'!J66) -> 0 | K66: =SUM('Ի.Բեգլարյան:Ս. Գրիգորյան'!K66) -> 0 | L66: =SUM('Ի.Բեգլարյան:Ս. Գրիգորյան'!L66) -> 0 | ... AS66: =SUM('Ի.Բեգլարյան:Ս. Գրիգորյան'!AS66) -> 0 | AT66: =E66 -> 0 | AU66: =F66+G66+H66+I66 -> 0 | AV66: =J66 -> 0 | AW66: =K66+L66+M66 -> 0 | AX66: =F66+G66+K66 -> 0 | AY66: =N66+Y66+Z66+AB66 -> 0 | AZ66: =O66 -> 0 | BA66: =P66+Q66+R66+S66+T66 -> 0 | BB66: =T66 -> 0 | BC66: =+U66+V66+W66 -> 0 | BD66: =Y66 -> 0 | BE66: =+O66+X66 -> 0 | BF66: =AF66 -> 0 | BG66: =AD66+AE66 -> 0 | BH66: =AF66 -> 0 | BI66: =AG66+AH66 -> 0 | BJ66: =AM66 -> 0 | BK66: =AK66+AL66 -> 0 | BL66: =AM66 -> 0 | BM66: =AN66+AO66 -> 0
A67: 5.4 | B67: üÇñÙ³ÛÇÝ ³Ýí³ÝÙ³Ý í»ñ³µ»ñÛ³É | E67: =SUM('Ի.Բեգլարյան:Ս. Գրիգորյան'!E67) -> 0 | F67: =SUM('Ի.Բեգլարյան:Ս. Գրիգորյան'!F67) -> 0 | G67: =SUM('Ի.Բեգլարյան:Ս. Գրիգորյան'!G67) -> 0 | H67: =SUM('Ի.Բեգլարյան:Ս. Գրիգորյան'!H67) -> 0 | I67: =SUM('Ի.Բեգլարյան:Ս. Գրիգորյան'!I67) -> 0 | J67: =SUM('Ի.Բեգլարյան:Ս. Գրիգորյան'!J67) -> 0 | K67: =SUM('Ի.Բեգլարյան:Ս. Գրիգորյան'!K67) -> 0 | L67: =SUM('Ի.Բեգլարյան:Ս. Գրիգորյան'!L67) -> 0 | ... AS67: =SUM('Ի.Բեգլարյան:Ս. Գրիգորյան'!AS67) -> 0 | AT67: =E67 -> 0 | AU67: =F67+G67+H67+I67 -> 0 | AV67: =J67 -> 0 | AW67: =K67+L67+M67 -> 0 | AX67: =F67+G67+K67 -> 0 | AY67: =N67+Y67+Z67+AB67 -> 0 | AZ67: =O67 -> 0 | BA67: =P67+Q67+R67+S67+T67 -> 0 | BB67: =T67 -> 0 | BC67: =+U67+V67+W67 -> 0 | BD67: =Y67 -> 0 | BE67: =+O67+X67 -> 0 | BF67: =AF67 -> 0 | BG67: =AD67+AE67 -> 0 | BH67: =AF67 -> 0 | BI67: =AG67+AH67 -> 0 | BJ67: =AM67 -> 0 | BK67: =AK67+AL67 -> 0 | BL67: =AM67 -> 0 | BM67: =AN67+AO67 -> 0
A68: 5.5 | B68: ²åñ³Ýù³ÛÇÝ Ýß³ÝÇ í»ñ³µ»ñÛ³É | E68: =SUM('Ի.Բեգլարյան:Ս. Գրիգորյան'!E68) -> 0 | F68: =SUM('Ի.Բեգլարյան:Ս. Գրիգորյան'!F68) -> 0 | G68: =SUM('Ի.Բեգլարյան:Ս. Գրիգորյան'!G68) -> 0 | H68: =SUM('Ի.Բեգլարյան:Ս. Գրիգորյան'!H68) -> 0 | I68: =SUM('Ի.Բեգլարյան:Ս. Գրիգորյան'!I68) -> 0 | J68: =SUM('Ի.Բեգլարյան:Ս. Գրիգորյան'!J68) -> 0 | K68: =SUM('Ի.Բեգլարյան:Ս. Գրիգորյան'!K68) -> 0 | L68: =SUM('Ի.Բեգլարյան:Ս. Գրիգորյան'!L68) -> 0 | ... AS68: =SUM('Ի.Բեգլարյան:Ս. Գրիգորյան'!AS68) -> 0 | AT68: =E68 -> 0 | AU68: =F68+G68+H68+I68 -> 0 | AV68: =J68 -> 0 | AW68: =K68+L68+M68 -> 0 | AX68: =F68+G68+K68 -> 0 | AY68: =N68+Y68+Z68+AB68 -> 0 | AZ68: =O68 -> 0 | BA68: =P68+Q68+R68+S68+T68 -> 0 | BB68: =T68 -> 0 | BC68: =+U68+V68+W68 -> 0 | BD68: =Y68 -> 0 | BE68: =+O68+X68 -> 0 | BF68: =AF68 -> 0 | BG68: =AD68+AE68 -> 0 | BH68: =AF68 -> 0 | BI68: =AG68+AH68 -> 0 | BJ68: =AM68 -> 0 | BK68: =AK68+AL68 -> 0 | BL68: =AM68 -> 0 | BM68: =AN68+AO68 -> 0
A69: 5.6 | B69: ²ÛÉ í»×»ñ | E69: =SUM('Ի.Բեգլարյան:Ս. Գրիգորյան'!E69) -> 0 | F69: =SUM('Ի.Բեգլարյան:Ս. Գրիգորյան'!F69) -> 0 | G69: =SUM('Ի.Բեգլարյան:Ս. Գրիգորյան'!G69) -> 0 | H69: =SUM('Ի.Բեգլարյան:Ս. Գրիգորյան'!H69) -> 0 | I69: =SUM('Ի.Բեգլարյան:Ս. Գրիգորյան'!I69) -> 0 | J69: =SUM('Ի.Բեգլարյան:Ս. Գրիգորյան'!J69) -> 0 | K69: =SUM('Ի.Բեգլարյան:Ս. Գրիգորյան'!K69) -> 0 | L69: =SUM('Ի.Բեգլարյան:Ս. Գրիգորյան'!L69) -> 0 | ... AS69: =SUM('Ի.Բեգլարյան:Ս. Գրիգորյան'!AS69) -> 0 | AT69: =E69 -> 0 | AU69: =F69+G69+H69+I69 -> 0 | AV69: =J69 -> 0 | AW69: =K69+L69+M69 -> 0 | AX69: =F69+G69+K69 -> 0 | AY69: =N69+Y69+Z69+AB69 -> 0 | AZ69: =O69 -> 0 | BA69: =P69+Q69+R69+S69+T69 -> 0 | BB69: =T69 -> 0 | BC69: =+U69+V69+W69 -> 0 | BD69: =Y69 -> 0 | BE69: =+O69+X69 -> 0 | BF69: =AF69 -> 0 | BG69: =AD69+AE69 -> 0 | BH69: =AF69 -> 0 | BI69: =AG69+AH69 -> 0 | BJ69: =AM69 -> 0 | BK69: =AK69+AL69 -> 0 | BL69: =AM69 -> 0 | BM69: =AN69+AO69 -> 0
A70: 6. | B70: ²ßË³ï³Ýù³ÛÇÝ Çñ³í³Ñ³ñ³µ»ñáõÃÛáõÝÝ»ñÇ í»ñ³µ»ñÛ³É ¹³ï³Ï³Ý ·áñÍ»ñ | E70: =SUM(E71:E76) -> 15 | F70: =SUM(F71:F76) -> 1 | G70: =SUM(G71:G76) -> 14 | H70: =SUM(H71:H76) -> 0 | I70: =SUM(I71:I76) -> 0 | J70: =SUM(J71:J76) -> 7 | K70: =SUM(K71:K76) -> 7 | L70: =SUM(L71:L76) -> 0 | ... BM70: =SUM(BM71:BM76) -> 0
A71: 6.1 | B71: ²ßË³ï³Ýù³ÛÇÝ å³ÛÙ³Ý³·ñ»ñÇ í»ñ³µ»ñÛ³É | E71: =SUM('Ի.Բեգլարյան:Ս. Գրիգորյան'!E71) -> 0 | F71: =SUM('Ի.Բեգլարյան:Ս. Գրիգորյան'!F71) -> 0 | G71: =SUM('Ի.Բեգլարյան:Ս. Գրիգորյան'!G71) -> 0 | H71: =SUM('Ի.Բեգլարյան:Ս. Գրիգորյան'!H71) -> 0 | I71: =SUM('Ի.Բեգլարյան:Ս. Գրիգորյան'!I71) -> 0 | J71: =SUM('Ի.Բեգլարյան:Ս. Գրիգորյան'!J71) -> 0 | K71: =SUM('Ի.Բեգլարյան:Ս. Գրիգորյան'!K71) -> 0 | L71: =SUM('Ի.Բեգլարյան:Ս. Գրիգորյան'!L71) -> 0 | ... AS71: =SUM('Ի.Բեգլարյան:Ս. Գրիգորյան'!AS71) -> 0 | AT71: =E71 -> 0 | AU71: =F71+G71+H71+I71 -> 0 | AV71: =J71 -> 0 | AW71: =K71+L71+M71 -> 0 | AX71: =F71+G71+K71 -> 0 | AY71: =N71+Y71+Z71+AB71 -> 0 | AZ71: =O71 -> 0 | BA71: =P71+Q71+R71+S71+T71 -> 0 | BB71: =T71 -> 0 | BC71: =+U71+V71+W71 -> 0 | BD71: =Y71 -> 0 | BE71: =+O71+X71 -> 0 | BF71: =AF71 -> 0 | BG71: =AD71+AE71 -> 0 | BH71: =AF71 -> 0 | BI71: =AG71+AH71 -> 0 | BJ71: =AM71 -> 0 | BK71: =AK71+AL71 -> 0 | BL71: =AM71 -> 0 | BM71: =AN71+AO71 -> 0
A72: 6.2 | B72: ²ßË³ï³ÝùáõÙ í»ñ³Ï³Ý·Ý»Éáõ í»ñ³µ»ñÛ³É | E72: =SUM('Ի.Բեգլարյան:Ս. Գրիգորյան'!E72) -> 7 | F72: =SUM('Ի.Բեգլարյան:Ս. Գրիգորյան'!F72) -> 0 | G72: =SUM('Ի.Բեգլարյան:Ս. Գրիգորյան'!G72) -> 7 | H72: =SUM('Ի.Բեգլարյան:Ս. Գրիգորյան'!H72) -> 0 | I72: =SUM('Ի.Բեգլարյան:Ս. Գրիգորյան'!I72) -> 0 | J72: =SUM('Ի.Բեգլարյան:Ս. Գրիգորյան'!J72) -> 4 | K72: =SUM('Ի.Բեգլարյան:Ս. Գրիգորյան'!K72) -> 4 | L72: =SUM('Ի.Բեգլարյան:Ս. Գրիգորյան'!L72) -> 0 | ... AS72: =SUM('Ի.Բեգլարյան:Ս. Գրիգորյան'!AS72) -> 0 | AT72: =E72 -> 7 | AU72: =F72+G72+H72+I72 -> 7 | AV72: =J72 -> 4 | AW72: =K72+L72+M72 -> 4 | AX72: =F72+G72+K72 -> 11 | AY72: =N72+Y72+Z72+AB72 -> 11 | AZ72: =O72 -> 2 | BA72: =P72+Q72+R72+S72+T72 -> 2 | BB72: =T72 -> 0 | BC72: =+U72+V72+W72 -> 0 | BD72: =Y72 -> 2 | BE72: =+O72+X72 -> 2 | BF72: =AF72 -> 1 | BG72: =AD72+AE72 -> 1 | BH72: =AF72 -> 1 | BI72: =AG72+AH72 -> 1 | BJ72: =AM72 -> 0 | BK72: =AK72+AL72 -> 0 | BL72: =AM72 -> 0 | BM72: =AN72+AO72 -> 0
A73: 6.3 | B73: ¶áñÍ³¹áõÉÝ ³ÝûñÇÝ³Ï³Ý ×³Ý³ã»Éáõ í»ñ³µ»ñÛ³É | E73: =SUM('Ի.Բեգլարյան:Ս. Գրիգորյան'!E73) -> 0 | F73: =SUM('Ի.Բեգլարյան:Ս. Գրիգորյան'!F73) -> 0 | G73: =SUM('Ի.Բեգլարյան:Ս. Գրիգորյան'!G73) -> 0 | H73: =SUM('Ի.Բեգլարյան:Ս. Գրիգորյան'!H73) -> 0 | I73: =SUM('Ի.Բեգլարյան:Ս. Գրիգորյան'!I73) -> 0 | J73: =SUM('Ի.Բեգլարյան:Ս. Գրիգորյան'!J73) -> 0 | K73: =SUM('Ի.Բեգլարյան:Ս. Գրիգորյան'!K73) -> 0 | L73: =SUM('Ի.Բեգլարյան:Ս. Գրիգորյան'!L73) -> 0 | ... AS73: =SUM('Ի.Բեգլարյան:Ս. Գրիգորյան'!AS73) -> 0 | AT73: =E73 -> 0 | AU73: =F73+G73+H73+I73 -> 0 | AV73: =J73 -> 0 | AW73: =K73+L73+M73 -> 0 | AX73: =F73+G73+K73 -> 0 | AY73: =N73+Y73+Z73+AB73 -> 0 | AZ73: =O73 -> 0 | BA73: =P73+Q73+R73+S73+T73 -> 0 | BB73: =T73 -> 0 | BC73: =+U73+V73+W73 -> 0 | BD73: =Y73 -> 0 | BE73: =+O73+X73 -> 0 | BF73: =AF73 -> 0 | BG73: =AD73+AE73 -> 0 | BH73: =AF73 -> 0 | BI73: =AG73+AH73 -> 0 | BJ73: =AM73 -> 0 | BK73: =AK73+AL73 -> 0 | BL73: =AM73 -> 0 | BM73: =AN73+AO73 -> 0
A74: 6.4 | B74: Ð³ñÏ³¹Çñ å³ñ³åáõñ¹Ç Ñ³ïáõóÙ³Ý í»ñ³µ»ñÛ³É | E74: =SUM('Ի.Բեգլարյան:Ս. Գրիգորյան'!E74) -> 0 | F74: =SUM('Ի.Բեգլարյան:Ս. Գրիգորյան'!F74) -> 0 | G74: =SUM('Ի.Բեգլարյան:Ս. Գրիգորյան'!G74) -> 0 | H74: =SUM('Ի.Բեգլարյան:Ս. Գրիգորյան'!H74) -> 0 | I74: =SUM('Ի.Բեգլարյան:Ս. Գրիգորյան'!I74) -> 0 | J74: =SUM('Ի.Բեգլարյան:Ս. Գրիգորյան'!J74) -> 0 | K74: =SUM('Ի.Բեգլարյան:Ս. Գրիգորյան'!K74) -> 0 | L74: =SUM('Ի.Բեգլարյան:Ս. Գրիգորյան'!L74) -> 0 | ... AS74: =SUM('Ի.Բեգլարյան:Ս. Գրիգորյան'!AS74) -> 0 | AT74: =E74 -> 0 | AU74: =F74+G74+H74+I74 -> 0 | AV74: =J74 -> 0 | AW74: =K74+L74+M74 -> 0 | AX74: =F74+G74+K74 -> 0 | AY74: =N74+Y74+Z74+AB74 -> 0 | AZ74: =O74 -> 0 | BA74: =P74+Q74+R74+S74+T74 -> 0 | BB74: =T74 -> 0 | BC74: =+U74+V74+W74 -> 0 | BD74: =Y74 -> 0 | BE74: =+O74+X74 -> 0 | BF74: =AF74 -> 0 | BG74: =AD74+AE74 -> 0 | BH74: =AF74 -> 0 | BI74: =AG74+AH74 -> 0 | BJ74: =AM74 -> 0 | BK74: =AK74+AL74 -> 0 | BL74: =AM74 -> 0 | BM74: =AN74+AO74 -> 0
A75: 6.5 | B75: âí×³ñí³Í ³ßË³ï³í³ñÓÇ ¨/Ï³Ù ³ÛÉ í×³ñÝ»ñÇ µéÝ³·³ÝÓÙ³Ý í»ñ³µ»ñÛ³É | E75: =SUM('Ի.Բեգլարյան:Ս. Գրիգորյան'!E75) -> 7 | F75: =SUM('Ի.Բեգլարյան:Ս. Գրիգորյան'!F75) -> 1 | G75: =SUM('Ի.Բեգլարյան:Ս. Գրիգորյան'!G75) -> 6 | H75: =SUM('Ի.Բեգլարյան:Ս. Գրիգորյան'!H75) -> 0 | I75: =SUM('Ի.Բեգլարյան:Ս. Գրիգորյան'!I75) -> 0 | J75: =SUM('Ի.Բեգլարյան:Ս. Գրիգորյան'!J75) -> 0 | K75: =SUM('Ի.Բեգլարյան:Ս. Գրիգորյան'!K75) -> 0 | L75: =SUM('Ի.Բեգլարյան:Ս. Գրիգորյան'!L75) -> 0 | ... AS75: =SUM('Ի.Բեգլարյան:Ս. Գրիգորյան'!AS75) -> 0 | AT75: =E75 -> 7 | AU75: =F75+G75+H75+I75 -> 7 | AV75: =J75 -> 0 | AW75: =K75+L75+M75 -> 0 | AX75: =F75+G75+K75 -> 7 | AY75: =N75+Y75+Z75+AB75 -> 7 | AZ75: =O75 -> 0 | BA75: =P75+Q75+R75+S75+T75 -> 0 | BB75: =T75 -> 0 | BC75: =+U75+V75+W75 -> 0 | BD75: =Y75 -> 0 | BE75: =+O75+X75 -> 0 | BF75: =AF75 -> 0 | BG75: =AD75+AE75 -> 0 | BH75: =AF75 -> 0 | BI75: =AG75+AH75 -> 0 | BJ75: =AM75 -> 0 | BK75: =AK75+AL75 -> 0 | BL75: =AM75 -> 0 | BM75: =AN75+AO75 -> 0
A76: 6.6 | B76: ²ÛÉ í»×»ñ | E76: =SUM('Ի.Բեգլարյան:Ս. Գրիգորյան'!E76) -> 1 | F76: =SUM('Ի.Բեգլարյան:Ս. Գրիգորյան'!F76) -> 0 | G76: =SUM('Ի.Բեգլարյան:Ս. Գրիգորյան'!G76) -> 1 | H76: =SUM('Ի.Բեգլարյան:Ս. Գրիգորյան'!H76) -> 0 | I76: =SUM('Ի.Բեգլարյան:Ս. Գրիգորյան'!I76) -> 0 | J76: =SUM('Ի.Բեգլարյան:Ս. Գրիգորյան'!J76) -> 3 | K76: =SUM('Ի.Բեգլարյան:Ս. Գրիգորյան'!K76) -> 3 | L76: =SUM('Ի.Բեգլարյան:Ս. Գրիգորյան'!L76) -> 0 | ... AS76: =SUM('Ի.Բեգլարյան:Ս. Գրիգորյան'!AS76) -> 0 | AT76: =E76 -> 1 | AU76: =F76+G76+H76+I76 -> 1 | AV76: =J76 -> 3 | AW76: =K76+L76+M76 -> 3 | AX76: =F76+G76+K76 -> 4 | AY76: =N76+Y76+Z76+AB76 -> 4 | AZ76: =O76 -> 0 | BA76: =P76+Q76+R76+S76+T76 -> 0 | BB76: =T76 -> 0 | BC76: =+U76+V76+W76 -> 0 | BD76: =Y76 -> 0 | BE76: =+O76+X76 -> 0 | BF76: =AF76 -> 0 | BG76: =AD76+AE76 -> 0 | BH76: =AF76 -> 0 | BI76: =AG76+AH76 -> 0 | BJ76: =AM76 -> 0 | BK76: =AK76+AL76 -> 0 | BL76: =AM76 -> 0 | BM76: =AN76+AO76 -> 0
A77: 7. | B77: Æñ³í³µ³Ý³Ï³Ý ³ÝÓÇ ·áñÍáõÝ»áõÃÛáõÝÇó µËáÕ Çñ³í³Ñ³ñ³µ»ñáõÃÛáõÝÝ»ñÇ í»ñ³µ»ñÛ³É ¹³ï³Ï³Ý ·áñÍ»ñ | E77: =SUM(E78:E79) -> 0 | F77: =SUM(F78:F79) -> 0 | G77: =SUM(G78:G79) -> 0 | H77: =SUM(H78:H79) -> 0 | I77: =SUM(I78:I79) -> 0 | J77: =SUM(J78:J79) -> 0 | K77: =SUM(K78:K79) -> 0 | L77: =SUM(L78:L79) -> 0 | ... BM77: =SUM(BM78:BM79) -> 0
A78: 7.1 | B78: Îáñåáñ³ïÇí í»×»ñ | E78: =SUM('Ի.Բեգլարյան:Ս. Գրիգորյան'!E78) -> 0 | F78: =SUM('Ի.Բեգլարյան:Ս. Գրիգորյան'!F78) -> 0 | G78: =SUM('Ի.Բեգլարյան:Ս. Գրիգորյան'!G78) -> 0 | H78: =SUM('Ի.Բեգլարյան:Ս. Գրիգորյան'!H78) -> 0 | I78: =SUM('Ի.Բեգլարյան:Ս. Գրիգորյան'!I78) -> 0 | J78: =SUM('Ի.Բեգլարյան:Ս. Գրիգորյան'!J78) -> 0 | K78: =SUM('Ի.Բեգլարյան:Ս. Գրիգորյան'!K78) -> 0 | L78: =SUM('Ի.Բեգլարյան:Ս. Գրիգորյան'!L78) -> 0 | ... AS78: =SUM('Ի.Բեգլարյան:Ս. Գրիգորյան'!AS78) -> 0 | AT78: =E78 -> 0 | AU78: =F78+G78+H78+I78 -> 0 | AV78: =J78 -> 0 | AW78: =K78+L78+M78 -> 0 | AX78: =F78+G78+K78 -> 0 | AY78: =N78+Y78+Z78+AB78 -> 0 | AZ78: =O78 -> 0 | BA78: =P78+Q78+R78+S78+T78 -> 0 | BB78: =T78 -> 0 | BC78: =+U78+V78+W78 -> 0 | BD78: =Y78 -> 0 | BE78: =+O78+X78 -> 0 | BF78: =AF78 -> 0 | BG78: =AD78+AE78 -> 0 | BH78: =AF78 -> 0 | BI78: =AG78+AH78 -> 0 | BJ78: =AM78 -> 0 | BK78: =AK78+AL78 -> 0 | BL78: =AM78 -> 0 | BM78: =AN78+AO78 -> 0
A79: 7.2 | B79: ²ÛÉ í»×»ñ | E79: =SUM('Ի.Բեգլարյան:Ս. Գրիգորյան'!E79) -> 0 | F79: =SUM('Ի.Բեգլարյան:Ս. Գրիգորյան'!F79) -> 0 | G79: =SUM('Ի.Բեգլարյան:Ս. Գրիգորյան'!G79) -> 0 | H79: =SUM('Ի.Բեգլարյան:Ս. Գրիգորյան'!H79) -> 0 | I79: =SUM('Ի.Բեգլարյան:Ս. Գրիգորյան'!I79) -> 0 | J79: =SUM('Ի.Բեգլարյան:Ս. Գրիգորյան'!J79) -> 0 | K79: =SUM('Ի.Բեգլարյան:Ս. Գրիգորյան'!K79) -> 0 | L79: =SUM('Ի.Բեգլարյան:Ս. Գրիգորյան'!L79) -> 0 | ... AS79: =SUM('Ի.Բեգլարյան:Ս. Գրիգորյան'!AS79) -> 0 | AT79: =E79 -> 0 | AU79: =F79+G79+H79+I79 -> 0 | AV79: =J79 -> 0 | AW79: =K79+L79+M79 -> 0 | AX79: =F79+G79+K79 -> 0 | AY79: =N79+Y79+Z79+AB79 -> 0 | AZ79: =O79 -> 0 | BA79: =P79+Q79+R79+S79+T79 -> 0 | BB79: =T79 -> 0 | BC79: =+U79+V79+W79 -> 0 | BD79: =Y79 -> 0 | BE79: =+O79+X79 -> 0 | BF79: =AF79 -> 0 | BG79: =AD79+AE79 -> 0 | BH79: =AF79 -> 0 | BI79: =AG79+AH79 -> 0 | BJ79: =AM79 -> 0 | BK79: =AK79+AL79 -> 0 | BL79: =AM79 -> 0 | BM79: =AN79+AO79 -> 0
A80: 8. | B80: Ð³ïáõÏ í³ñáõÛÃÇ ¹³ï³Ï³Ý ·áñÍ»ñ | E80: =SUM(E81:E101) -> 41 | F80: =SUM(F81:F101) -> 10 | G80: =SUM(G81:G101) -> 31 | H80: =SUM(H81:H101) -> 0 | I80: =SUM(I81:I101) -> 0 | J80: =SUM(J81:J101) -> 85 | K80: =SUM(K81:K101) -> 56 | L80: =SUM(L81:L101) -> 26 | ... BM80: =SUM(BM81:BM101) -> 0
A81: 8.1 | B81: ²Ýã³÷³Ñ³ëÇÝ ÉñÇí ·áñÍáõÝ³Ï ×³Ý³ã»Éáõ /¿Ù³ÝëÇå³óÇ³/ í»ñ³µ»ñÛ³É | E81: =SUM('Ի.Բեգլարյան:Ս. Գրիգորյան'!E81) -> 0 | F81: =SUM('Ի.Բեգլարյան:Ս. Գրիգորյան'!F81) -> 0 | G81: =SUM('Ի.Բեգլարյան:Ս. Գրիգորյան'!G81) -> 0 | H81: =SUM('Ի.Բեգլարյան:Ս. Գրիգորյան'!H81) -> 0 | I81: =SUM('Ի.Բեգլարյան:Ս. Գրիգորյան'!I81) -> 0 | J81: =SUM('Ի.Բեգլարյան:Ս. Գրիգորյան'!J81) -> 0 | K81: =SUM('Ի.Բեգլարյան:Ս. Գրիգորյան'!K81) -> 0 | L81: =SUM('Ի.Բեգլարյան:Ս. Գրիգորյան'!L81) -> 0 | ... AS81: =SUM('Ի.Բեգլարյան:Ս. Գրիգորյան'!AS81) -> 0 | AT81: =E81 -> 0 | AU81: =F81+G81+H81+I81 -> 0 | AV81: =J81 -> 0 | AW81: =K81+L81+M81 -> 0 | AX81: =F81+G81+K81 -> 0 | AY81: =N81+Y81+Z81+AB81 -> 0 | AZ81: =O81 -> 0 | BA81: =P81+Q81+R81+S81+T81 -> 0 | BB81: =T81 -> 0 | BC81: =+U81+V81+W81 -> 0 | BD81: =Y81 -> 0 | BE81: =+O81+X81 -> 0 | BF81: =AF81 -> 0 | BG81: =AD81+AE81 -> 0 | BH81: =AF81 -> 0 | BI81: =AG81+AH81 -> 0 | BJ81: =AM81 -> 0 | BK81: =AK81+AL81 -> 0 | BL81: =AM81 -> 0 | BM81: =AN81+AO81 -> 0
A82: 8.2 | B82: ø³Õ³ù³óáõÝ ³Ý·áñÍáõÝ³Ï Ï³Ù ë³ÑÙ³Ý³÷³Ï ·áñÍáõÝ³Ï ×³Ý³ã»Éáõ í»ñ³µ»ñÛ³É | E82: =SUM('Ի.Բեգլարյան:Ս. Գրիգորյան'!E82) -> 10 | F82: =SUM('Ի.Բեգլարյան:Ս. Գրիգորյան'!F82) -> 7 | G82: =SUM('Ի.Բեգլարյան:Ս. Գրիգորյան'!G82) -> 3 | H82: =SUM('Ի.Բեգլարյան:Ս. Գրիգորյան'!H82) -> 0 | I82: =SUM('Ի.Բեգլարյան:Ս. Գրիգորյան'!I82) -> 0 | J82: =SUM('Ի.Բեգլարյան:Ս. Գրիգորյան'!J82) -> 7 | K82: =SUM('Ի.Բեգլարյան:Ս. Գրիգորյան'!K82) -> 7 | L82: =SUM('Ի.Բեգլարյան:Ս. Գրիգորյան'!L82) -> 0 | ... AS82: =SUM('Ի.Բեգլարյան:Ս. Գրիգորյան'!AS82) -> 0 | AT82: =E82 -> 10 | AU82: =F82+G82+H82+I82 -> 10 | AV82: =J82 -> 7 | AW82: =K82+L82+M82 -> 7 | AX82: =F82+G82+K82 -> 17 | AY82: =N82+Y82+Z82+AB82 -> 17 | AZ82: =O82 -> 7 | BA82: =P82+Q82+R82+S82+T82 -> 7 | BB82: =T82 -> 2 | BC82: =+U82+V82+W82 -> 2 | BD82: =Y82 -> 7 | BE82: =+O82+X82 -> 7 | BF82: =AF82 -> 0 | BG82: =AD82+AE82 -> 0 | BH82: =AF82 -> 0 | BI82: =AG82+AH82 -> 0 | BJ82: =AM82 -> 0 | BK82: =AK82+AL82 -> 0 | BL82: =AM82 -> 0 | BM82: =AN82+AO82 -> 0
A83: 8.3 | B83: ø³Õ³ù³óáõÝ Ñá·»µáõÅ³Ï³Ý ÑÇí³Ý¹³Ýáó³ÛÇÝ Ñ³ñÏ³¹Çñ µáõÅÙ³Ý »ÝÃ³ñÏ»Éáõ í»ñ³µ»ñÛ³É | E83: =SUM('Ի.Բեգլարյան:Ս. Գրիգորյան'!E83) -> 0 | F83: =SUM('Ի.Բեգլարյան:Ս. Գրիգորյան'!F83) -> 0 | G83: =SUM('Ի.Բեգլարյան:Ս. Գրիգորյան'!G83) -> 0 | H83: =SUM('Ի.Բեգլարյան:Ս. Գրիգորյան'!H83) -> 0 | I83: =SUM('Ի.Բեգլարյան:Ս. Գրիգորյան'!I83) -> 0 | J83: =SUM('Ի.Բեգլարյան:Ս. Գրիգորյան'!J83) -> 5 | K83: =SUM('Ի.Բեգլարյան:Ս. Գրիգորյան'!K83) -> 5 | L83: =SUM('Ի.Բեգլարյան:Ս. Գրիգորյան'!L83) -> 0 | ... AS83: =SUM('Ի.Բեգլարյան:Ս. Գրիգորյան'!AS83) -> 0 | AT83: =E83 -> 0 | AU83: =F83+G83+H83+I83 -> 0 | AV83: =J83 -> 5 | AW83: =K83+L83+M83 -> 5 | AX83: =F83+G83+K83 -> 5 | AY83: =N83+Y83+Z83+AB83 -> 5 | AZ83: =O83 -> 5 | BA83: =P83+Q83+R83+S83+T83 -> 5 | BB83: =T83 -> 0 | BC83: =+U83+V83+W83 -> 0 | BD83: =Y83 -> 5 | BE83: =+O83+X83 -> 5 | BF83: =AF83 -> 0 | BG83: =AD83+AE83 -> 0 | BH83: =AF83 -> 0 | BI83: =AG83+AH83 -> 0 | BJ83: =AM83 -> 0 | BK83: =AK83+AL83 -> 0 | BL83: =AM83 -> 0 | BM83: =AN83+AO83 -> 0
A84: 8.4 | B84: ø³Õ³ù³óáõÝ ³ÝÑ³Ûï µ³ó³Ï³ÛáÕ Ï³Ù Ù³Ñ³ó³Í ×³Ý³ã»Éáõ í»ñ³µ»ñÛ³É | E84: =SUM('Ի.Բեգլարյան:Ս. Գրիգորյան'!E84) -> 4 | F84: =SUM('Ի.Բեգլարյան:Ս. Գրիգորյան'!F84) -> 0 | G84: =SUM('Ի.Բեգլարյան:Ս. Գրիգորյան'!G84) -> 4 | H84: =SUM('Ի.Բեգլարյան:Ս. Գրիգորյան'!H84) -> 0 | I84: =SUM('Ի.Բեգլարյան:Ս. Գրիգորյան'!I84) -> 0 | J84: =SUM('Ի.Բեգլարյան:Ս. Գրիգորյան'!J84) -> 5 | K84: =SUM('Ի.Բեգլարյան:Ս. Գրիգորյան'!K84) -> 2 | L84: =SUM('Ի.Բեգլարյան:Ս. Գրիգորյան'!L84) -> 3 | ... AS84: =SUM('Ի.Բեգլարյան:Ս. Գրիգորյան'!AS84) -> 0 | AT84: =E84 -> 4 | AU84: =F84+G84+H84+I84 -> 4 | AV84: =J84 -> 5 | AW84: =K84+L84+M84 -> 5 | AX84: =F84+G84+K84 -> 6 | AY84: =N84+Y84+Z84+AB84 -> 6 | AZ84: =O84 -> 5 | BA84: =P84+Q84+R84+S84+T84 -> 5 | BB84: =T84 -> 1 | BC84: =+U84+V84+W84 -> 1 | BD84: =Y84 -> 5 | BE84: =+O84+X84 -> 5 | BF84: =AF84 -> 0 | BG84: =AD84+AE84 -> 0 | BH84: =AF84 -> 0 | BI84: =AG84+AH84 -> 0 | BJ84: =AM84 -> 0 | BK84: =AK84+AL84 -> 0 | BL84: =AM84 -> 0 | BM84: =AN84+AO84 -> 0
A85: 8.5 | B85: ø³Õ³ù³óÇ³Ï³Ý Ï³óáõÃÛ³Ý ³Ïï»ñÇ ·ñ³éáõÙÝ»ñÇ ³Ý×ßïáõÃÛáõÝÝ»ñÁ å³ñ½»Éáõ í»ñ³µ»ñÛ³É | E85: =SUM('Ի.Բեգլարյան:Ս. Գրիգորյան'!E85) -> 0 | F85: =SUM('Ի.Բեգլարյան:Ս. Գրիգորյան'!F85) -> 0 | G85: =SUM('Ի.Բեգլարյան:Ս. Գրիգորյան'!G85) -> 0 | H85: =SUM('Ի.Բեգլարյան:Ս. Գրիգորյան'!H85) -> 0 | I85: =SUM('Ի.Բեգլարյան:Ս. Գրիգորյան'!I85) -> 0 | J85: =SUM('Ի.Բեգլարյան:Ս. Գրիգորյան'!J85) -> 0 | K85: =SUM('Ի.Բեգլարյան:Ս. Գրիգորյան'!K85) -> 0 | L85: =SUM('Ի.Բեգլարյան:Ս. Գրիգորյան'!L85) -> 0 | ... AS85: =SUM('Ի.Բեգլարյան:Ս. Գրիգորյան'!AS85) -> 0 | AT85: =E85 -> 0 | AU85: =F85+G85+H85+I85 -> 0 | AV85: =J85 -> 0 | AW85: =K85+L85+M85 -> 0 | AX85: =F85+G85+K85 -> 0 | AY85: =N85+Y85+Z85+AB85 -> 0 | AZ85: =O85 -> 0 | BA85: =P85+Q85+R85+S85+T85 -> 0 | BB85: =T85 -> 0 | BC85: =+U85+V85+W85 -> 0 | BD85: =Y85 -> 0 | BE85: =+O85+X85 -> 0 | BF85: =AF85 -> 0 | BG85: =AD85+AE85 -> 0 | BH85: =AF85 -> 0 | BI85: =AG85+AH85 -> 0 | BJ85: =AM85 -> 0 | BK85: =AK85+AL85 -> 0 | BL85: =AM85 -> 0 | BM85: =AN85+AO85 -> 0
A86: 8.6 | B86: ¶áõÛùÁ ïÇñ³½áõñÏ ×³Ý³ã»Éáõ í»ñ³µ»ñÛ³É | E86: =SUM('Ի.Բեգլարյան:Ս. Գրիգորյան'!E86) -> 1 | F86: =SUM('Ի.Բեգլարյան:Ս. Գրիգորյան'!F86) -> 1 | G86: =SUM('Ի.Բեգլարյան:Ս. Գրիգորյան'!G86) -> 0 | H86: =SUM('Ի.Բեգլարյան:Ս. Գրիգորյան'!H86) -> 0 | I86: =SUM('Ի.Բեգլարյան:Ս. Գրիգորյան'!I86) -> 0 | J86: =SUM('Ի.Բեգլարյան:Ս. Գրիգորյան'!J86) -> 0 | K86: =SUM('Ի.Բեգլարյան:Ս. Գրիգորյան'!K86) -> 0 | L86: =SUM('Ի.Բեգլարյան:Ս. Գրիգորյան'!L86) -> 0 | ... AS86: =SUM('Ի.Բեգլարյան:Ս. Գրիգորյան'!AS86) -> 0 | AT86: =E86 -> 1 | AU86: =F86+G86+H86+I86 -> 1 | AV86: =J86 -> 0 | AW86: =K86+L86+M86 -> 0 | AX86: =F86+G86+K86 -> 1 | AY86: =N86+Y86+Z86+AB86 -> 1 | AZ86: =O86 -> 0 | BA86: =P86+Q86+R86+S86+T86 -> 0 | BB86: =T86 -> 0 | BC86: =+U86+V86+W86 -> 0 | BD86: =Y86 -> 0 | BE86: =+O86+X86 -> 0 | BF86: =AF86 -> 0 | BG86: =AD86+AE86 -> 0 | BH86: =AF86 -> 0 | BI86: =AG86+AH86 -> 0 | BJ86: =AM86 -> 0 | BK86: =AK86+AL86 -> 0 | BL86: =AM86 -> 0 | BM86: =AN86+AO86 -> 0
A87: 8.6.1 | B87: ²Û¹ ÃíáõÙª ³Ýß³ñÅ ·áõÛùÁ | E87: =SUM('Ի.Բեգլարյան:Ս. Գրիգորյան'!E87) -> 3 | F87: =SUM('Ի.Բեգլարյան:Ս. Գրիգորյան'!F87) -> 0 | G87: =SUM('Ի.Բեգլարյան:Ս. Գրիգորյան'!G87) -> 3 | H87: =SUM('Ի.Բեգլարյան:Ս. Գրիգորյան'!H87) -> 0 | I87: =SUM('Ի.Բեգլարյան:Ս. Գրիգորյան'!I87) -> 0 | J87: =SUM('Ի.Բեգլարյան:Ս. Գրիգորյան'!J87) -> 0 | K87: =SUM('Ի.Բեգլարյան:Ս. Գրիգորյան'!K87) -> 0 | L87: =SUM('Ի.Բեգլարյան:Ս. Գրիգորյան'!L87) -> 0 | ... AS87: =SUM('Ի.Բեգլարյան:Ս. Գրիգորյան'!AS87) -> 0 | AT87: =E87 -> 3 | AU87: =F87+G87+H87+I87 -> 3 | AV87: =J87 -> 0 | AW87: =K87+L87+M87 -> 0 | AX87: =F87+G87+K87 -> 3 | AY87: =N87+Y87+Z87+AB87 -> 3 | AZ87: =O87 -> 1 | BA87: =P87+Q87+R87+S87+T87 -> 1 | BB87: =T87 -> 0 | BC87: =+U87+V87+W87 -> 0 | BD87: =Y87 -> 2 | BE87: =+O87+X87 -> 2 | BF87: =AF87 -> 0 | BG87: =AD87+AE87 -> 0 | BH87: =AF87 -> 0 | BI87: =AG87+AH87 -> 0 | BJ87: =AM87 -> 0 | BK87: =AK87+AL87 -> 0 | BL87: =AM87 -> 0 | BM87: =AN87+AO87 -> 0
A88: 8.6.2 | B88: ²Û¹ ÃíáõÙª ß³ñÅ³Ï³Ý ·áõÛùÁ | E88: =SUM('Ի.Բեգլարյան:Ս. Գրիգորյան'!E88) -> 1 | F88: =SUM('Ի.Բեգլարյան:Ս. Գրիգորյան'!F88) -> 1 | G88: =SUM('Ի.Բեգլարյան:Ս. Գրիգորյան'!G88) -> 0 | H88: =SUM('Ի.Բեգլարյան:Ս. Գրիգորյան'!H88) -> 0 | I88: =SUM('Ի.Բեգլարյան:Ս. Գրիգորյան'!I88) -> 0 | J88: =SUM('Ի.Բեգլարյան:Ս. Գրիգորյան'!J88) -> 3 | K88: =SUM('Ի.Բեգլարյան:Ս. Գրիգորյան'!K88) -> 1 | L88: =SUM('Ի.Բեգլարյան:Ս. Գրիգորյան'!L88) -> 2 | ... AS88: =SUM('Ի.Բեգլարյան:Ս. Գրիգորյան'!AS88) -> 0 | AT88: =E88 -> 1 | AU88: =F88+G88+H88+I88 -> 1 | AV88: =J88 -> 3 | AW88: =K88+L88+M88 -> 3 | AX88: =F88+G88+K88 -> 2 | AY88: =N88+Y88+Z88+AB88 -> 2 | AZ88: =O88 -> 0 | BA88: =P88+Q88+R88+S88+T88 -> 0 | BB88: =T88 -> 0 | BC88: =+U88+V88+W88 -> 0 | BD88: =Y88 -> 0 | BE88: =+O88+X88 -> 0 | BF88: =AF88 -> 0 | BG88: =AD88+AE88 -> 0 | BH88: =AF88 -> 0 | BI88: =AG88+AH88 -> 0 | BJ88: =AM88 -> 0 | BK88: =AK88+AL88 -> 0 | BL88: =AM88 -> 0 | BM88: =AN88+AO88 -> 0
A89: 8.7 | B89: Æñ³í³µ³Ý³Ï³Ý Ýß³Ý³ÏáõÃÛáõÝ áõÝ»óáÕ ÷³ëï»ñÇ Ñ³ëï³ïÙ³Ý í»ñ³µ»ñÛ³É | E89: =SUM('Ի.Բեգլարյան:Ս. Գրիգորյան'!E89) -> 2 | F89: =SUM('Ի.Բեգլարյան:Ս. Գրիգորյան'!F89) -> 0 | G89: =SUM('Ի.Բեգլարյան:Ս. Գրիգորյան'!G89) -> 2 | H89: =SUM('Ի.Բեգլարյան:Ս. Գրիգորյան'!H89) -> 0 | I89: =SUM('Ի.Բեգլարյան:Ս. Գրիգորյան'!I89) -> 0 | J89: =SUM('Ի.Բեգլարյան:Ս. Գրիգորյան'!J89) -> 14 | K89: =SUM('Ի.Բեգլարյան:Ս. Գրիգորյան'!K89) -> 3 | L89: =SUM('Ի.Բեգլարյան:Ս. Գրիգորյան'!L89) -> 9 | ... AS89: =SUM('Ի.Բեգլարյան:Ս. Գրիգորյան'!AS89) -> 0 | AT89: =E89 -> 2 | AU89: =F89+G89+H89+I89 -> 2 | AV89: =J89 -> 14 | AW89: =K89+L89+M89 -> 14 | AX89: =F89+G89+K89 -> 5 | AY89: =N89+Y89+Z89+AB89 -> 5 | AZ89: =O89 -> 1 | BA89: =P89+Q89+R89+S89+T89 -> 1 | BB89: =T89 -> 0 | BC89: =+U89+V89+W89 -> 0 | BD89: =Y89 -> 2 | BE89: =+O89+X89 -> 2 | BF89: =AF89 -> 0 | BG89: =AD89+AE89 -> 0 | BH89: =AF89 -> 0 | BI89: =AG89+AH89 -> 0 | BJ89: =AM89 -> 0 | BK89: =AK89+AL89 -> 0 | BL89: =AM89 -> 0 | BM89: =AN89+AO89 -> 0
A90: 8.7.1 | B90: ²ÝÓ³Ýó ³½·³Ïó³Ï³Ý Ï³åÁ Ñ³ëï³ï»Éáõ í»ñ³µ»ñÛ³É | E90: =SUM('Ի.Բեգլարյան:Ս. Գրիգորյան'!E90) -> 3 | F90: =SUM('Ի.Բեգլարյան:Ս. Գրիգորյան'!F90) -> 0 | G90: =SUM('Ի.Բեգլարյան:Ս. Գրիգորյան'!G90) -> 3 | H90: =SUM('Ի.Բեգլարյան:Ս. Գրիգորյան'!H90) -> 0 | I90: =SUM('Ի.Բեգլարյան:Ս. Գրիգորյան'!I90) -> 0 | J90: =SUM('Ի.Բեգլարյան:Ս. Գրիգորյան'!J90) -> 3 | K90: =SUM('Ի.Բեգլարյան:Ս. Գրիգորյան'!K90) -> 3 | L90: =SUM('Ի.Բեգլարյան:Ս. Գրիգորյան'!L90) -> 0 | ... AS90: =SUM('Ի.Բեգլարյան:Ս. Գրիգորյան'!AS90) -> 0 | AT90: =E90 -> 3 | AU90: =F90+G90+H90+I90 -> 3 | AV90: =J90 -> 3 | AW90: =K90+L90+M90 -> 3 | AX90: =F90+G90+K90 -> 6 | AY90: =N90+Y90+Z90+AB90 -> 6 | AZ90: =O90 -> 2 | BA90: =P90+Q90+R90+S90+T90 -> 2 | BB90: =T90 -> 1 | BC90: =+U90+V90+W90 -> 1 | BD90: =Y90 -> 2 | BE90: =+O90+X90 -> 2 | BF90: =AF90 -> 0 | BG90: =AD90+AE90 -> 0 | BH90: =AF90 -> 0 | BI90: =AG90+AH90 -> 0 | BJ90: =AM90 -> 0 | BK90: =AK90+AL90 -> 0 | BL90: =AM90 -> 0 | BM90: =AN90+AO90 -> 0
A91: 8.7.2 | B91: ²ÝÓÇª áõñÇßÇ ËÝ³ÙùÇ ï³Ï ·ïÝí»Éáõ í»ñ³µ»ñÛ³É | E91: =SUM('Ի.Բեգլարյան:Ս. Գրիգորյան'!E91) -> 1 | F91: =SUM('Ի.Բեգլարյան:Ս. Գրիգորյան'!F91) -> 1 | G91: =SUM('Ի.Բեգլարյան:Ս. Գրիգորյան'!G91) -> 0 | H91: =SUM('Ի.Բեգլարյան:Ս. Գրիգորյան'!H91) -> 0 | I91: =SUM('Ի.Բեգլարյան:Ս. Գրիգորյան'!I91) -> 0 | J91: =SUM('Ի.Բեգլարյան:Ս. Գրիգորյան'!J91) -> 0 | K91: =SUM('Ի.Բեգլարյան:Ս. Գրիգորյան'!K91) -> 0 | L91: =SUM('Ի.Բեգլարյան:Ս. Գրիգորյան'!L91) -> 0 | ... AS91: =SUM('Ի.Բեգլարյան:Ս. Գրիգորյան'!AS91) -> 0 | AT91: =E91 -> 1 | AU91: =F91+G91+H91+I91 -> 1 | AV91: =J91 -> 0 | AW91: =K91+L91+M91 -> 0 | AX91: =F91+G91+K91 -> 1 | AY91: =N91+Y91+Z91+AB91 -> 1 | AZ91: =O91 -> 0 | BA91: =P91+Q91+R91+S91+T91 -> 0 | BB91: =T91 -> 0 | BC91: =+U91+V91+W91 -> 0 | BD91: =Y91 -> 0 | BE91: =+O91+X91 -> 0 | BF91: =AF91 -> 0 | BG91: =AD91+AE91 -> 0 | BH91: =AF91 -> 0 | BI91: =AG91+AH91 -> 0 | BJ91: =AM91 -> 0 | BK91: =AK91+AL91 -> 0 | BL91: =AM91 -> 0 | BM91: =AN91+AO91 -> 0
A92: 8.7.3 | B92: ÌÝÝ¹Û³Ý, áñ¹»·ñÙ³Ý, ³ÙáõëÝáõÃÛ³Ý, ³å³Ñ³ñ½³ÝÇ ¨ Ù³Ñí³Ý ·ñ³ÝóÙ³Ý í»ñ³µ»ñÛ³É | E92: =SUM('Ի.Բեգլարյան:Ս. Գրիգորյան'!E92) -> 0 | F92: =SUM('Ի.Բեգլարյան:Ս. Գրիգորյան'!F92) -> 0 | G92: =SUM('Ի.Բեգլարյան:Ս. Գրիգորյան'!G92) -> 0 | H92: =SUM('Ի.Բեգլարյան:Ս. Գրիգորյան'!H92) -> 0 | I92: =SUM('Ի.Բեգլարյան:Ս. Գրիգորյան'!I92) -> 0 | J92: =SUM('Ի.Բեգլարյան:Ս. Գրիգորյան'!J92) -> 5 | K92: =SUM('Ի.Բեգլարյան:Ս. Գրիգորյան'!K92) -> 4 | L92: =SUM('Ի.Բեգլարյան:Ս. Գրիգորյան'!L92) -> 0 | ... AS92: =SUM('Ի.Բեգլարյան:Ս. Գրիգորյան'!AS92) -> 0 | AT92: =E92 -> 0 | AU92: =F92+G92+H92+I92 -> 0 | AV92: =J92 -> 5 | AW92: =K92+L92+M92 -> 5 | AX92: =F92+G92+K92 -> 4 | AY92: =N92+Y92+Z92+AB92 -> 4 | AZ92: =O92 -> 2 | BA92: =P92+Q92+R92+S92+T92 -> 2 | BB92: =T92 -> 0 | BC92: =+U92+V92+W92 -> 0 | BD92: =Y92 -> 2 | BE92: =+O92+X92 -> 2 | BF92: =AF92 -> 0 | BG92: =AD92+AE92 -> 0 | BH92: =AF92 -> 0 | BI92: =AG92+AH92 -> 0 | BJ92: =AM92 -> 0 | BK92: =AK92+AL92 -> 0 | BL92: =AM92 -> 0 | BM92: =AN92+AO92 -> 0
... A101: 8.10 | B101: ²ÛÉ í»×»ñ | E101: =SUM('Ի.Բեգլարյան:Ս. Գրիգորյան'!E101) -> 1 | F101: =SUM('Ի.Բեգլարյան:Ս. Գրիգորյան'!F101) -> 0 | G101: =SUM('Ի.Բեգլարյան:Ս. Գրիգորյան'!G101) -> 1 | H101: =SUM('Ի.Բեգլարյան:Ս. Գրիգորյան'!H101) -> 0 | I101: =SUM('Ի.Բեգլարյան:Ս. Գրիգորյան'!I101) -> 0 | J101: =SUM('Ի.Բեգլարյան:Ս. Գրիգորյան'!J101) -> 5 | K101: =SUM('Ի.Բեգլարյան:Ս. Գրիգորյան'!K101) -> 2 | L101: =SUM('Ի.Բեգլարյան:Ս. Գրիգորյան'!L101) -> 3 | ... AS101: =SUM('Ի.Բեգլարյան:Ս. Գրիգորյան'!AS101) -> 0 | AT101: =E101 -> 1 | AU101: =F101+G101+H101+I101 -> 1 | AV101: =J101 -> 5 | AW101: =K101+L101+M101 -> 5 | AX101: =F101+G101+K101 -> 3 | AY101: =N101+Y101+Z101+AB101 -> 3 | AZ101: =O101 -> 2 | BA101: =P101+Q101+R101+S101+T101 -> 2 | BB101: =T101 -> 0 | BC101: =+U101+V101+W101 -> 0 | BD101: =Y101 -> 2 | BE101: =+O101+X101 -> 2 | BF101: =AF101 -> 1 | BG101: =AD101+AE101 -> 1 | BH101: =AF101 -> 1 | BI101: =AG101+AH101 -> 1 | BJ101: =AM101 -> 0 | BK101: =AK101+AL101 -> 0 | BL101: =AM101 -> 0 | BM101: =AN101+AO101 -> 0
A102: 9. | B102: Ð³ïáõÏ Ñ³Ûó³ÛÇÝ í³ñáõÛÃÇ ¹³ï³Ï³Ý ·áñÍ»ñ | E102: =SUM(E103:E105) -> 1 | F102: =SUM(F103:F105) -> 0 | G102: =SUM(G103:G105) -> 1 | H102: =SUM(H103:H105) -> 0 | I102: =SUM(I103:I105) -> 0 | J102: =SUM(J103:J105) -> 1 | K102: =SUM(K103:K105) -> 0 | L102: =SUM(L103:L105) -> 1 | ... BM102: =SUM(BM103:BM105) -> 0
A103: 9.1 | B103: ø³Õ³ù³óáõ ÏÛ³ÝùÇÝ Ï³Ù ³éáÕçáõÃÛ³ÝÝ ëå³éÝ³óáÕ íï³Ý·Ç í»ñ³µ»ñÛ³É | E103: =SUM('Ի.Բեգլարյան:Ս. Գրիգորյան'!E103) -> 1 | F103: =SUM('Ի.Բեգլարյան:Ս. Գրիգորյան'!F103) -> 0 | G103: =SUM('Ի.Բեգլարյան:Ս. Գրիգորյան'!G103) -> 1 | H103: =SUM('Ի.Բեգլարյան:Ս. Գրիգորյան'!H103) -> 0 | I103: =SUM('Ի.Բեգլարյան:Ս. Գրիգորյան'!I103) -> 0 | J103: =SUM('Ի.Բեգլարյան:Ս. Գրիգորյան'!J103) -> 1 | K103: =SUM('Ի.Բեգլարյան:Ս. Գրիգորյան'!K103) -> 0 | L103: =SUM('Ի.Բեգլարյան:Ս. Գրիգորյան'!L103) -> 1 | ... AS103: =SUM('Ի.Բեգլարյան:Ս. Գրիգորյան'!AS103) -> 0 | AT103: =E103 -> 1 | AU103: =F103+G103+H103+I103 -> 1 | AV103: =J103 -> 1 | AW103: =K103+L103+M103 -> 1 | AX103: =F103+G103+K103 -> 1 | AY103: =N103+Y103+Z103+AB103 -> 1 | AZ103: =O103 -> 0 | BA103: =P103+Q103+R103+S103+T103 -> 0 | BB103: =T103 -> 0 | BC103: =+U103+V103+W103 -> 0 | BD103: =Y103 -> 0 | BE103: =+O103+X103 -> 0 | BF103: =AF103 -> 0 | BG103: =AD103+AE103 -> 0 | BH103: =AF103 -> 0 | BI103: =AG103+AH103 -> 0 | BJ103: =AM103 -> 0 | BK103: =AK103+AL103 -> 0 | BL103: =AM103 -> 0 | BM103: =AN103+AO103 -> 0
A104: 9.2 | B104: ÐÐ Î»ÝïñáÝ³Ï³Ý µ³ÝÏÇ ¨ ³Ýí×³ñáõÝ³Ï µ³ÝÏÇ Ï³Ù í³ñÏ³ÛÇÝ Ï³½Ù³Ï»ñåáõÃÛ³Ý Å³Ù³Ý³Ï³íáñ ³¹ÙÇÝÇëïñ³óÇ³ÛÇ áñáßáõÙÝ»ñÇ µáÕáù³ñÏÙ³Ý í»ñ³µ»ñÛ³É | E104: =SUM('Ի.Բեգլարյան:Ս. Գրիգորյան'!E104) -> 0 | F104: =SUM('Ի.Բեգլարյան:Ս. Գրիգորյան'!F104) -> 0 | G104: =SUM('Ի.Բեգլարյան:Ս. Գրիգորյան'!G104) -> 0 | H104: =SUM('Ի.Բեգլարյան:Ս. Գրիգորյան'!H104) -> 0 | I104: =SUM('Ի.Բեգլարյան:Ս. Գրիգորյան'!I104) -> 0 | J104: =SUM('Ի.Բեգլարյան:Ս. Գրիգորյան'!J104) -> 0 | K104: =SUM('Ի.Բեգլարյան:Ս. Գրիգորյան'!K104) -> 0 | L104: =SUM('Ի.Բեգլարյան:Ս. Գրիգորյան'!L104) -> 0 | ... AS104: =SUM('Ի.Բեգլարյան:Ս. Գրիգորյան'!AS104) -> 0 | AT104: =E104 -> 0 | AU104: =F104+G104+H104+I104 -> 0 | AV104: =J104 -> 0 | AW104: =K104+L104+M104 -> 0 | AX104: =F104+G104+K104 -> 0 | AY104: =N104+Y104+Z104+AB104 -> 0 | AZ104: =O104 -> 0 | BA104: =P104+Q104+R104+S104+T104 -> 0 | BB104: =T104 -> 0 | BC104: =+U104+V104+W104 -> 0 | BD104: =Y104 -> 0 | BE104: =+O104+X104 -> 0 | BF104: =AF104 -> 0 | BG104: =AD104+AE104 -> 0 | BH104: =AF104 -> 0 | BI104: =AG104+AH104 -> 0 | BJ104: =AM104 -> 0 | BK104: =AK104+AL104 -> 0 | BL104: =AM104 -> 0 | BM104: =AN104+AO104 -> 0
A105: 9.3 | B105: ²ÛÉ í»×»ñ | E105: =SUM('Ի.Բեգլարյան:Ս. Գրիգորյան'!E105) -> 0 | F105: =SUM('Ի.Բեգլարյան:Ս. Գրիգորյան'!F105) -> 0 | G105: =SUM('Ի.Բեգլարյան:Ս. Գրիգորյան'!G105) -> 0 | H105: =SUM('Ի.Բեգլարյան:Ս. Գրիգորյան'!H105) -> 0 | I105: =SUM('Ի.Բեգլարյան:Ս. Գրիգորյան'!I105) -> 0 | J105: =SUM('Ի.Բեգլարյան:Ս. Գրիգորյան'!J105) -> 0 | K105: =SUM('Ի.Բեգլարյան:Ս. Գրիգորյան'!K105) -> 0 | L105: =SUM('Ի.Բեգլարյան:Ս. Գրիգորյան'!L105) -> 0 | ... AS105: =SUM('Ի.Բեգլարյան:Ս. Գրիգորյան'!AS105) -> 0 | AT105: =E105 -> 0 | AU105: =F105+G105+H105+I105 -> 0 | AV105: =J105 -> 0 | AW105: =K105+L105+M105 -> 0 | AX105: =F105+G105+K105 -> 0 | AY105: =N105+Y105+Z105+AB105 -> 0 | AZ105: =O105 -> 0 | BA105: =P105+Q105+R105+S105+T105 -> 0 | BB105: =T105 -> 0 | BC105: =+U105+V105+W105 -> 0 | BD105: =Y105 -> 0 | BE105: =+O105+X105 -> 0 | BF105: =AF105 -> 0 | BG105: =AD105+AE105 -> 0 | BH105: =AF105 -> 0 | BI105: =AG105+AH105 -> 0 | BJ105: =AM105 -> 0 | BK105: =AK105+AL105 -> 0 | BL105: =AM105 -> 0 | BM105: =AN105+AO105 -> 0
A106: 11. | B106: ä³ñï³íáñ³Ï³Ý Çñ³í³Ñ³ñ³µ»ñáõÃÛáõÝÝ»ñÇ í»ñ³µ»ñÛ³É ¹³ï³Ï³Ý ·áñÍ»ñ | E106: =SUM(E107:E114) -> 771 | F106: =SUM(F107:F114) -> 59 | G106: =SUM(G107:G114) -> 712 | H106: =SUM(H107:H114) -> 0 | I106: =SUM(I107:I114) -> 0 | J106: =SUM(J107:J114) -> 1455 | K106: =SUM(K107:K114) -> 1338 | L106: =SUM(L107:L114) -> 116 | ... BM106: =SUM(BM107:BM114) -> 2
A107: 11.1 | B107: ¶áõÙ³ñÇ å³Ñ³ÝçÇ Ù³ëÇÝ | E107: =SUM('Ի.Բեգլարյան:Ս. Գրիգորյան'!E107) -> 763 | F107: =SUM('Ի.Բեգլարյան:Ս. Գրիգորյան'!F107) -> 57 | G107: =SUM('Ի.Բեգլարյան:Ս. Գրիգորյան'!G107) -> 706 | H107: =SUM('Ի.Բեգլարյան:Ս. Գրիգորյան'!H107) -> 0 | I107: =SUM('Ի.Բեգլարյան:Ս. Գրիգորյան'!I107) -> 0 | J107: =SUM('Ի.Բեգլարյան:Ս. Գրիգորյան'!J107) -> 1444 | K107: =SUM('Ի.Բեգլարյան:Ս. Գրիգորյան'!K107) -> 1329 | L107: =SUM('Ի.Բեգլարյան:Ս. Գրիգորյան'!L107) -> 114 | ... AS107: =SUM('Ի.Բեգլարյան:Ս. Գրիգորյան'!AS107) -> 0 | AT107: =E107 -> 763 | AU107: =F107+G107+H107+I107 -> 763 | AV107: =J107 -> 1444 | AW107: =K107+L107+M107 -> 1444 | AX107: =F107+G107+K107 -> 2092 | AY107: =N107+Y107+Z107+AB107 -> 2092 | AZ107: =O107 -> 1382 | BA107: =P107+Q107+R107+S107+T107 -> 1382 | BB107: =T107 -> 94 | BC107: =+U107+V107+W107 -> 94 | BD107: =Y107 -> 1382 | BE107: =+O107+X107 -> 1382 | BF107: =AF107 -> 25 | BG107: =AD107+AE107 -> 25 | BH107: =AF107 -> 25 | BI107: =AG107+AH107 -> 25 | BJ107: =AM107 -> 2 | BK107: =AK107+AL107 -> 2 | BL107: =AM107 -> 2 | BM107: =AN107+AO107 -> 2
A108: 11.2 | B108: ä³ñï³íáñáõÃÛáõÝÁ µÝ»Õ»Ýáí Ï³ï³ñ»Éáõ å³Ñ³ÝçÇ Ù³ëÇÝ | E108: =SUM('Ի.Բեգլարյան:Ս. Գրիգորյան'!E108) -> 0 | F108: =SUM('Ի.Բեգլարյան:Ս. Գրիգորյան'!F108) -> 0 | G108: =SUM('Ի.Բեգլարյան:Ս. Գրիգորյան'!G108) -> 0 | H108: =SUM('Ի.Բեգլարյան:Ս. Գրիգորյան'!H108) -> 0 | I108: =SUM('Ի.Բեգլարյան:Ս. Գրիգորյան'!I108) -> 0 | J108: =SUM('Ի.Բեգլարյան:Ս. Գրիգորյան'!J108) -> 0 | K108: =SUM('Ի.Բեգլարյան:Ս. Գրիգորյան'!K108) -> 0 | L108: =SUM('Ի.Բեգլարյան:Ս. Գրիգորյան'!L108) -> 0 | ... AS108: =SUM('Ի.Բեգլարյան:Ս. Գրիգորյան'!AS108) -> 0 | AT108: =E108 -> 0 | AU108: =F108+G108+H108+I108 -> 0 | AV108: =J108 -> 0 | AW108: =K108+L108+M108 -> 0 | AX108: =F108+G108+K108 -> 0 | AY108: =N108+Y108+Z108+AB108 -> 0 | AZ108: =O108 -> 0 | BA108: =P108+Q108+R108+S108+T108 -> 0 | BB108: =T108 -> 0 | BC108: =+U108+V108+W108 -> 0 | BD108: =Y108 -> 0 | BE108: =+O108+X108 -> 0 | BF108: =AF108 -> 0 | BG108: =AD108+AE108 -> 0 | BH108: =AF108 -> 0 | BI108: =AG108+AH108 -> 0 | BJ108: =AM108 -> 0 | BK108: =AK108+AL108 -> 0 | BL108: =AM108 -> 0 | BM108: =AN108+AO108 -> 0
A109: 11.3 | B109: ìÝ³ëÁ ¨ µ³ó ÃáÕÝí³Í û·áõïÁ Ñ³ïáõó»Éáõ å³Ñ³ÝçÇ Ù³ëÇÝ | E109: =SUM('Ի.Բեգլարյան:Ս. Գրիգորյան'!E109) -> 2 | F109: =SUM('Ի.Բեգլարյան:Ս. Գրիգորյան'!F109) -> 1 | G109: =SUM('Ի.Բեգլարյան:Ս. Գրիգորյան'!G109) -> 1 | H109: =SUM('Ի.Բեգլարյան:Ս. Գրիգորյան'!H109) -> 0 | I109: =SUM('Ի.Բեգլարյան:Ս. Գրիգորյան'!I109) -> 0 | J109: =SUM('Ի.Բեգլարյան:Ս. Գրիգորյան'!J109) -> 11 | K109: =SUM('Ի.Բեգլարյան:Ս. Գրիգորյան'!K109) -> 9 | L109: =SUM('Ի.Բեգլարյան:Ս. Գրիգորյան'!L109) -> 2 | ... AS109: =SUM('Ի.Բեգլարյան:Ս. Գրիգորյան'!AS109) -> 0 | AT109: =E109 -> 2 | AU109: =F109+G109+H109+I109 -> 2 | AV109: =J109 -> 11 | AW109: =K109+L109+M109 -> 11 | AX109: =F109+G109+K109 -> 11 | AY109: =N109+Y109+Z109+AB109 -> 11 | AZ109: =O109 -> 3 | BA109: =P109+Q109+R109+S109+T109 -> 3 | BB109: =T109 -> 3 | BC109: =+U109+V109+W109 -> 3 | BD109: =Y109 -> 3 | BE109: =+O109+X109 -> 3 | BF109: =AF109 -> 0 | BG109: =AD109+AE109 -> 0 | BH109: =AF109 -> 0 | BI109: =AG109+AH109 -> 0 | BJ109: =AM109 -> 0 | BK109: =AK109+AL109 -> 0 | BL109: =AM109 -> 0 | BM109: =AN109+AO109 -> 0
...

Sheet Ի.Բեգլարյան
A1: 2016Ã. 1-ԻՆ ԿԻՍԱՄՅԱԿ | G1: Ð²ÞìºîìàôÂÚàôÜ | AM1: Ð³í»Éí³Í Ð³Û³ëï³ÝÇ Ð³Ýñ³å»ïáõÃÛ³Ý ¸³ï³ñ³ÝÝ»ñÇ Ý³Ë³·³ÑÝ»ñÇ ËáñÑñ¹Ç 25.08.2016Ã. ÃÇí 44-È áñáßÙ³Ý
A2: ՀՀ ՍՅՈՒՆԻՔԻ ՄԱՐԶԻ ÀÜ¸Ð²Üàôð Æð²ì²êàôÂÚ²Ü ²è²æÆÜ ²îÚ²ÜÆ ¸²î²ð²ÜÆ ¸²î²ìàð | Z2: Ի. ԲԵԳԼԱՐÚ²ÜÆ | AH2: ¶àðÌàôÜºàôÂÚ²Ü ìºð²´ºðÚ²È
A3: ø²Ô²ø²òÆ²Î²Ü ¶àðÌºðàì
A4: ՀՀ Սյունիքի մարզի ÁÝ¹Ñ³Ýáõñ Çñ³í³ëáõÃÛ³Ý ³é³çÇÝ ³ïÛ³ÝÇ ¹³ï³ñ³ÝÇ ù³Õ³ù³óÇ³Ï³Ý Ù³ëÝ³·Çï³óáõÙ áõÝ»óáÕ ¹³ï³íáñÝ»ñÇ Ñ³ëïÇùÝ»ñÇ ù³Ý³ÏÁ` 5
A5: êïáõ·Çã Ñ³í³ë³ñáõÙÝ»ñª 1=2+3+4+5, 6=7+8+9, 2+3+7=10+21+22+24, 11=12+13+14+15+16, 16=17+18+19, 21=11+20, 28=26+27, 28=29+30, 35=33+34, 35=36+37 | E5: Ð³ßí»ïáõ Å³Ù³Ý³Ï³Ñ³ïí³ÍáõÙ Ý³Ëáñ¹ Ñ³ßí»ïáõ Å³Ù³Ý³Ï³Ñ³ïí³ÍÇó ÷áË³Ýóí³Í ·áñÍ»ñÇ ÁÝ¹Ñ³Ýáõñ ÃÇíÁ | J5: Ð³ßí»ïáõ Å³Ù³Ý³Ï³Ñ³ïí³ÍáõÙëï³óí³Í ·áñÍ»ñÇ (³Û¹ ÃíáõÙ` Ñ³Ûó³¹ÇÙáõÙÝ»ñÇ, ¹ÇÙáõÙÝ»ñÇ) ÁÝ¹Ñ³Ýáõñ ÃÇíÁ | N5: öáË³Ýóí»É ¿ ³ÛÉ ¹³ï³íáñÇ (Ï³½ÙÇ ÷á÷áËáõÃÛáõÝ) | O5: Ð³ßí»ïáõ Å³Ù³Ý³Ï³Ñ³ïí³ÍáõÙ ³í³ñïí³Í ·áñÍ»ñÇ ÁÝ¹Ñ³Ýáõñ ÃÇíÁ | Z5: ¶áñÍÝ áõÕ³ñÏí»É ¿ Áëï ÁÝ¹¹³ïáõÃÛ³Ý | AA5: Ð³ßí»ïáõ Å³Ù³Ý³Ï³Ñ³ïí³ÍáõÙ Ï³ë»óí³Í í³ñáõÛÃÝ»ñáí ·áñÍ»ñÇ ÁÝ¹Ñ³Ýáõñ ÃÇíÁ | AB5: Ð³ßí»ïáõ Å³Ù³Ý³Ï³Ñ³ïí³ÍáõÙ ³Ý³í³ñï ·áñÍ»ñÇ ÁÝ¹Ñ³Ýáõñ ÃÇíÁ | AC5: ²Û¹ ÃíáõÙª Ï³ë»óí³Í | AD5: ´áÕáù³ñÏí³Í ¹³ï³Ï³Ý ³Ïï»ñÁ | AI5: ²í³ñïí³Í ¹³ï³Ï³Ý ·áñÍ»ñÇ µáÕáù³ñÏÙ³Ý ïáÏáëÁ (Ñ³ßí»ïáõ Å³Ù³Ý³Ï³ßñç³ÝáõÙ) | AJ5: ²Ý³í³ñï µáÕáùÝ»ñ | AK5: ´»Ï³Ýí³Í ¹³ï³Ï³Ý ³Ïï»ñÁ | AP5: µ»Ï³ÝáõÙÝ»ñÇ ïáÏáëÁ ³í³ñïí³Í ·áñÍ»ñÇó(Ñ³ßí»ïáõ Å³Ù³Ý³Ï³ßñç³ÝáõÙ) | AQ5: Î³ÛáõÝáõÃÛ³Ý ïáÏáëÁ ³í³ñïí³Í ·áñÍ»ñÇó(Ñ³ßí»ïáõ Å³Ù³Ý³Ï³ßñç³ÝáõÙ) | AR5: µ»Ï³ÝáõÙÝ»ñÇ ïáÏáëÁ µáÕáù³ñÏí³Í ·áñÍ»ñÇó(Ñ³ßí»ïáõ Å³Ù³Ý³Ï³ßñç³ÝáõÙ) | AS5: Ï³ÛáõÝáõÃÛ³Ý ïáÏáëÁ(Ñ³ßí»ïáõ Å³Ù³Ý³Ï³ßñç³ÝáõÙ)
E6: ÀÝ¹³Ù»ÝÁ | F6: ²Û¹ ÃíáõÙ`Ï³ë»óí³Í íÇ×³ÏáõÙ ÷áË³Ýóí³Í | G6: ²Û¹ ÃíáõÙª ÁÝ¹áõÝí»É ¿ í³ñáõÛÃ | H6: ²Û¹ ÃíáõÙª í»ñ³¹³ñÓí»É ¿ | I6: ²Û¹ ÃíáõÙª ÁÝ¹áõÝáõÙÁ Ù»ñÅí»É ¿ | J6: ÀÝ¹³Ù»ÝÁ | K6: ²Û¹ ÃíáõÙª ÁÝ¹áõÝí»É ¿ í³ñáõÛÃ | L6: ²Û¹ ÃíáõÙª í»ñ³¹³ñÓí»É ¿ | M6: ²Û¹ ÃíáõÙª ÁÝ¹áõÝáõÙÁ Ù»ñÅí»É ¿ | O6: ÀÝ¹³Ù»ÝÁ ³í³ñïí»É »Ý ·áñÍ»ñ ·áñÍÝ Áëï ¿áõÃÛ³Ý ÉáõÍáÕ ¹³ï³Ï³Ý ³Ïï»ñÇ (í×ÇéÝ»ñÇ) Ï³Û³óÙ³Ùµ | P6: ²Û¹ ÃíáõÙª Ñ³ÛóÇ µ³í³ñ³ñÙ³Ùµ | Q6: ²Û¹ ÃíáõÙª Ñ³ÛóÇ Ù³ëÝ³ÏÇ µ³í³ñ³ñÙ³Ùµ | R6: ²Û¹ ÃíáõÙª Ñ³ÛóÇ Ù»ñÅÙ³Ùµ | S6: Ø³ëáí Ï³ñ×í»É ¿É, Ù³ëáí Ù»ñÅí»É | T6: ²Û¹ ÃíáõÙª Ï³ñ×í»É »Ý | X6: Ð³ÛóÁ ÃáÕÝí»É ¿ ³é³Ýó ùÝÝáõÃÛ³Ý | Y6: ÀÝ¹³Ù»ÝÝ ³í³ñïí»É »Ý ·áñÍ»ñ | AD6: ²Û¹ ÃíáõÙ` ·áñÍÝ Áëï ¿áõÃÛ³Ý ÉáõÍáÕ ¹³ï³Ï³Ý ³Ïï»ñÁ | AE6: ²Û¹ ÃíáõÙ` ÙÇç³ÝÏÛ³É ¹³ï³Ï³Ý ³Ïï»ñÁ | AF6: ÀÝ¹³Ù»ÝÁ | AG6: Ü³Ëáñ¹ ï³ñÇÝ»ñÇÝ Ï³Û³óí³Í ³Ïï»ñÇ µáÕáù³ñÏáõÙÁ Ñ³ßí»ïáõ Å³Ù³Ý³Ï³ßñç³ÝáõÙ | AH6: Ð³ßí»ïáõ Å³Ù³Ý³Ï³ßñç³ÝáõÙ Ï³Û³óí³Í ³Ïï»ñÇ µáÕáù³ñÏáõÙÁ | AK6: ²Û¹ ÃíáõÙ` ·áñÍÝ Áëï ¿áõÃÛ³Ý ÉáõÍáÕ ¹³ï³Ï³Ý ³Ïï»ñÁ | AL6: ²Û¹ ÃíáõÙ` ÙÇç³ÝÏÛ³É ¹³ï³Ï³Ý ³Ïï»ñÁ | AM6: ÀÝ¹³Ù»ÝÁ | AN6: Ü³Ëáñ¹ ï³ñÇÝ»ñÇÝ Ï³Û³óí³Í ³Ïï»ñÇ µ»Ï³ÝáõÙÝ»ñÁ Ñ³ßí»ïáõ Å³Ù³Ý³Ï³ßñç³ÝáõÙ | AO6: Ð³ßí»ïáõ Å³Ù³Ý³Ï³ßñç³ÝáõÙ Ï³Û³óí³Í ³Ïï»ñÇ µ»Ï³ÝáõÙÁ
T7: ÀÝ¹³Ù»ÝÁ Ï³ñ×í»É »Ý | U7: ²Û¹ ÃíáõÙª Ñ³ëï³ïí»É ¿ ÏÝùí³Í Ñ³ßïáõÃÛ³Ý Ñ³Ù³Ó³ÛÝáõÃÛáõÝÁ | V7: ²Û¹ ÃíáõÙª Ñ³óÇó, ¹ÇÙáõÙÇó Ññ³Å³ñí»Éáõ ÑÇÙùáí | W7: ²Û¹ ÃíáõÙª ³ÛÉ ÑÇÙùáí
E8: 1 | F8: 2 | G8: 3 | H8: 4 | I8: 5 | J8: 6 | K8: 7 | L8: 8 | M8: 9 | N8: 10 | O8: 11 | P8: 12 | Q8: 13 | R8: 14 | S8: 15 | T8: 16 | U8: 17 | V8: 18 | W8: 19 | X8: 20 | Y8: 21 | Z8: 22 | AA8: 23 | AB8: 24 | AC8: 25 | AD8: 26 | AE8: 27 | AF8: 28 | AG8: 29 | AH8: 30 | AI8: 31 | AJ8: 32 | AK8: 33 | AL8: 34 | AM8: 35 | AN8: 36 | AO8: 37 | AP8: 38 | AQ8: 39 | AR8: 40 | AS8: 41 | AT8: 1=2+3+4+5 | AV8: 6=7+8+9 | AX8: 2+3+7=10+21+22+24 | AZ8: 11=12+13+14+15+16 | BB8: 16=17+18+19 | BD8: 21=11+20 | BF8: 28=26+27 | BH8: 28=29+30 | BJ8: 35=33+34 | BL8: 35=36+37
A9: 1. | B9: ¶áõÛù³ÛÇÝ Çñ³í³Ñ³ñ³µ»ñáõÃÛáõÝÝ»ñÇ í»ñ³µ»ñÛ³É ¹³ï³Ï³Ý ·áñÍ»ñ | E9: =SUM(E10:E28) -> 13 | F9: =SUM(F10:F28) -> 7 | G9: =SUM(G10:G28) -> 6 | H9: =SUM(H10:H28) -> 0 | I9: =SUM(I10:I28) -> 0 | J9: =SUM(J10:J28) -> 11 | K9: =SUM(K10:K28) -> 11 | L9: =SUM(L10:L28) -> 0 | ... BC9: =SUM(BC10:BC28) -> 4 | BD9: =Y9 -> 6 | BE9: =O9+X9 -> 6 | BF9: =SUM(BF10:BF28) -> 0 | BG9: =SUM(BG10:BG28) -> 0 | BH9: =SUM(BH10:BH28) -> 0 | BI9: =SUM(BI10:BI28) -> 0 | BJ9: =SUM(BJ10:BJ28) -> 0 | BK9: =SUM(BK10:BK28) -> 0 | BL9: =SUM(BL10:BL28) -> 0 | BM9: =SUM(BM10:BM28) -> 0
A10: 1.1 | B10: ¶áõÛùÇ ÝÏ³ïÙ³Ùµ ë»÷³Ï³ÝáõÃÛ³Ý Çñ³íáõÝùÁ ×³Ý³ã»Éáõ í»ñ³µ»ñÛ³É | J10: 1 | K10: 1 | O10: 1 | P10: 1 | Y10: 1 | AT10: =E10 -> 0 | AU10: =F10+G10+H10+I10 -> 0 | AV10: =J10 -> 1 | AW10: =K10+L10+M10 -> 1 | AX10: =F10+G10+K10 -> 1 | AY10: =N10+Y10+Z10+AB10 -> 1 | AZ10: =O10 -> 1 | BA10: =P10+Q10+R10+S10+T10 -> 1 | BB10: =T10 -> 0 | BC10: =+U10+V10+W10 -> 0 | BD10: =Y10 -> 1 | BE10: =O10+X10 -> 1 | BF10: =AF10 -> 0 | BG10: =AD10+AE10 -> 0 | BH10: =AF10 -> 0 | BI10: =AG10+AH10 -> 0 | BJ10: =AM10 -> 0 | BK10: =AK10+AL10 -> 0 | BL10: =AM10 -> 0 | BM10: =AN10+AO10 -> 0
A11: 1.1.1 | B11: ²Û¹ ÃíáõÙª Ó»éùµ»ñÙ³Ý í³Õ»ÙáõÃÛ³Ý áõÅáí | AT11: =E11 -> 0 | AU11: =F11+G11+H11+I11 -> 0 | AV11: =J11 -> 0 | AW11: =K11+L11+M11 -> 0 | AX11: =F11+G11+K11 -> 0 | AY11: =N11+Y11+Z11+AB11 -> 0 | AZ11: =O11 -> 0 | BA11: =P11+Q11+R11+S11+T11 -> 0 | BB11: =T11 -> 0 | BC11: =+U11+V11+W11 -> 0 | BD11: =Y11 -> 0 | BE11: =O11+X11 -> 0 | BF11: =AF11 -> 0 | BG11: =AD11+AE11 -> 0 | BH11: =AF11 -> 0 | BI11: =AG11+AH11 -> 0 | BJ11: =AM11 -> 0 | BK11: =AK11+AL11 -> 0 | BL11: =AM11 -> 0 | BM11: =AN11+AO11 -> 0
A12: 1.1.2 | B12: ²Û¹ ÃíáõÙª ïÇñ³½áõñÏ ·áõÛùÇ ÝÏ³ïÙ³Ùµ | AT12: =E12 -> 0 | AU12: =F12+G12+H12+I12 -> 0 | AV12: =J12 -> 0 | AW12: =K12+L12+M12 -> 0 | AX12: =F12+G12+K12 -> 0 | AY12: =N12+Y12+Z12+AB12 -> 0 | AZ12: =O12 -> 0 | BA12: =P12+Q12+R12+S12+T12 -> 0 | BB12: =T12 -> 0 | BC12: =+U12+V12+W12 -> 0 | BD12: =Y12 -> 0 | BE12: =O12+X12 -> 0 | BF12: =AF12 -> 0 | BG12: =AD12+AE12 -> 0 | BH12: =AF12 -> 0 | BI12: =AG12+AH12 -> 0 | BJ12: =AM12 -> 0 | BK12: =AK12+AL12 -> 0 | BL12: =AM12 -> 0 | BM12: =AN12+AO12 -> 0
A13: 1.1.3 | B13: ²Û¹ ÃíáõÙª ÇÝùÝ³Ï³Ù Ï³éáõÛóÇ ÝÏ³ïÙ³Ùµ | AT13: =E13 -> 0 | AU13: =F13+G13+H13+I13 -> 0 | AV13: =J13 -> 0 | AW13: =K13+L13+M13 -> 0 | AX13: =F13+G13+K13 -> 0 | AY13: =N13+Y13+Z13+AB13 -> 0 | AZ13: =O13 -> 0 | BA13: =P13+Q13+R13+S13+T13 -> 0 | BB13: =T13 -> 0 | BC13: =+U13+V13+W13 -> 0 | BD13: =Y13 -> 0 | BE13: =O13+X13 -> 0 | BF13: =AF13 -> 0 | BG13: =AD13+AE13 -> 0 | BH13: =AF13 -> 0 | BI13: =AG13+AH13 -> 0 | BJ13: =AM13 -> 0 | BK13: =AK13+AL13 -> 0 | BL13: =AM13 -> 0 | BM13: =AN13+AO13 -> 0
A14: 1.2 | B14: ê»÷³Ï³ÝáõÃÛ³Ý Çñ³íáõÝùÇ ¹³¹³ñ»óÙ³Ý í»ñ³µ»ñÛ³É | AT14: =E14 -> 0 | AU14: =F14+G14+H14+I14 -> 0 | AV14: =J14 -> 0 | AW14: =K14+L14+M14 -> 0 | AX14: =F14+G14+K14 -> 0 | AY14: =N14+Y14+Z14+AB14 -> 0 | AZ14: =O14 -> 0 | BA14: =P14+Q14+R14+S14+T14 -> 0 | BB14: =T14 -> 0 | BC14: =+U14+V14+W14 -> 0 | BD14: =Y14 -> 0 | BE14: =O14+X14 -> 0 | BF14: =AF14 -> 0 | BG14: =AD14+AE14 -> 0 | BH14: =AF14 -> 0 | BI14: =AG14+AH14 -> 0 | BJ14: =AM14 -> 0 | BK14: =AK14+AL14 -> 0 | BL14: =AM14 -> 0 | BM14: =AN14+AO14 -> 0
A15: 1.3 | B15: ¶áõÛùÇ ÝÏ³ïÙ³Ùµ û·ï³·áñÍÙ³Ý Çñ³íáõÝùÁ ×³Ý³ã»Éáõ í»ñ³µ»ñÛ³É | AT15: =E15 -> 0 | AU15: =F15+G15+H15+I15 -> 0 | AV15: =J15 -> 0 | AW15: =K15+L15+M15 -> 0 | AX15: =F15+G15+K15 -> 0 | AY15: =N15+Y15+Z15+AB15 -> 0 | AZ15: =O15 -> 0 | BA15: =P15+Q15+R15+S15+T15 -> 0 | BB15: =T15 -> 0 | BC15: =+U15+V15+W15 -> 0 | BD15: =Y15 -> 0 | BE15: =O15+X15 -> 0 | BF15: =AF15 -> 0 | BG15: =AD15+AE15 -> 0 | BH15: =AF15 -> 0 | BI15: =AG15+AH15 -> 0 | BJ15: =AM15 -> 0 | BK15: =AK15+AL15 -> 0 | BL15: =AM15 -> 0 | BM15: =AN15+AO15 -> 0
A16: 1.3.1 | B16: ²Û¹ ÃíáõÙª µÝ³Ïû·ï³·áñÍÙ³Ý Çñ³íáõÝùÁ ×³Ý³ã»Éáõ í»ñ³µ»ñÛ³É | AT16: =E16 -> 0 | AU16: =F16+G16+H16+I16 -> 0 | AV16: =J16 -> 0 | AW16: =K16+L16+M16 -> 0 | AX16: =F16+G16+K16 -> 0 | AY16: =N16+Y16+Z16+AB16 -> 0 | AZ16: =O16 -> 0 | BA16: =P16+Q16+R16+S16+T16 -> 0 | BB16: =T16 -> 0 | BC16: =+U16+V16+W16 -> 0 | BD16: =Y16 -> 0 | BE16: =O16+X16 -> 0 | BF16: =AF16 -> 0 | BG16: =AD16+AE16 -> 0 | BH16: =AF16 -> 0 | BI16: =AG16+AH16 -> 0 | BJ16: =AM16 -> 0 | BK16: =AK16+AL16 -> 0 | BL16: =AM16 -> 0 | BM16: =AN16+AO16 -> 0
A17: 1.3.2 | B17: ²Û¹ ÃíáõÙª ÑáÕ³Ù³ëÇ ÝÏ³ïÙ³Ùµ û·ï³·áñÍÙ³Ý Çñ³íáõÝùÁ ×³Ý³ã»Éáõ í»ñ³µ»ñÛ³É | AT17: =E17 -> 0 | AU17: =F17+G17+H17+I17 -> 0 | AV17: =J17 -> 0 | AW17: =K17+L17+M17 -> 0 | AX17: =F17+G17+K17 -> 0 | AY17: =N17+Y17+Z17+AB17 -> 0 | AZ17: =O17 -> 0 | BA17: =P17+Q17+R17+S17+T17 -> 0 | BB17: =T17 -> 0 | BC17: =+U17+V17+W17 -> 0 | BD17: =Y17 -> 0 | BE17: =O17+X17 -> 0 | BF17: =AF17 -> 0 | BG17: =AD17+AE17 -> 0 | BH17: =AF17 -> 0 | BI17: =AG17+AH17 -> 0 | BJ17: =AM17 -> 0 | BK17: =AK17+AL17 -> 0 | BL17: =AM17 -> 0 | BM17: =AN17+AO17 -> 0
A18: 1.4 | B18: ¶áõÛùÇ ÝÏ³ïÙ³Ùµ û·ï³·áñÍÙ³Ý Çñ³íáõÝùÁ ¹³¹³ñ»óÝ»Éáõ í»ñ³µ»ñÛ³É | AT18: =E18 -> 0 | AU18: =F18+G18+H18+I18 -> 0 | AV18: =J18 -> 0 | AW18: =K18+L18+M18 -> 0 | AX18: =F18+G18+K18 -> 0 | AY18: =N18+Y18+Z18+AB18 -> 0 | AZ18: =O18 -> 0 | BA18: =P18+Q18+R18+S18+T18 -> 0 | BB18: =T18 -> 0 | BC18: =+U18+V18+W18 -> 0 | BD18: =Y18 -> 0 | BE18: =O18+X18 -> 0 | BF18: =AF18 -> 0 | BG18: =AD18+AE18 -> 0 | BH18: =AF18 -> 0 | BI18: =AG18+AH18 -> 0 | BJ18: =AM18 -> 0 | BK18: =AK18+AL18 -> 0 | BL18: =AM18 -> 0 | BM18: =AN18+AO18 -> 0
A19: 1.4.1 | B19: ²Û¹ ÃíáõÙª µÝ³Ïû·ï³·áñÍÙ³Ý Çñ³íáõÝùÁ ¹³¹³ñ»óÝ»Éáõ í»ñ³µ»ñÛ³É | AT19: =E19 -> 0 | AU19: =F19+G19+H19+I19 -> 0 | AV19: =J19 -> 0 | AW19: =K19+L19+M19 -> 0 | AX19: =F19+G19+K19 -> 0 | AY19: =N19+Y19+Z19+AB19 -> 0 | AZ19: =O19 -> 0 | BA19: =P19+Q19+R19+S19+T19 -> 0 | BB19: =T19 -> 0 | BC19: =+U19+V19+W19 -> 0 | BD19: =Y19 -> 0 | BE19: =O19+X19 -> 0 | BF19: =AF19 -> 0 | BG19: =AD19+AE19 -> 0 | BH19: =AF19 -> 0 | BI19: =AG19+AH19 -> 0 | BJ19: =AM19 -> 0 | BK19: =AK19+AL19 -> 0 | BL19: =AM19 -> 0 | BM19: =AN19+AO19 -> 0
A20: 1.4.1/1 | B20: ²Û¹ ÃíáõÙª ÷áËÑ³ïáõóÙ³Ùµ | AT20: =E20 -> 0 | AU20: =F20+G20+H20+I20 -> 0 | AV20: =J20 -> 0 | AW20: =K20+L20+M20 -> 0 | AX20: =F20+G20+K20 -> 0 | AY20: =N20+Y20+Z20+AB20 -> 0 | AZ20: =O20 -> 0 | BA20: =P20+Q20+R20+S20+T20 -> 0 | BB20: =T20 -> 0 | BC20: =+U20+V20+W20 -> 0 | BD20: =Y20 -> 0 | BE20: =O20+X20 -> 0 | BF20: =AF20 -> 0 | BG20: =AD20+AE20 -> 0 | BH20: =AF20 -> 0 | BI20: =AG20+AH20 -> 0 | BJ20: =AM20 -> 0 | BK20: =AK20+AL20 -> 0 | BL20: =AM20 -> 0 | BM20: =AN20+AO20 -> 0
A21: 1.5 | B21: ´Ý³Ï³ñ³ÝÇó/ ï³ñ³ÍùÇó/ íï³ñ»Éáõ í»ñ³µ»ñÛ³É | E21: 1 | G21: 1 | J21: 2 | K21: 2 | O21: 1 | T21: 1 | V21: 1 | Y21: 1 | AB21: 2 | AT21: =E21 -> 1 | AU21: =F21+G21+H21+I21 -> 1 | AV21: =J21 -> 2 | AW21: =K21+L21+M21 -> 2 | AX21: =F21+G21+K21 -> 3 | AY21: =N21+Y21+Z21+AB21 -> 3 | AZ21: =O21 -> 1 | BA21: =P21+Q21+R21+S21+T21 -> 1 | BB21: =T21 -> 1 | BC21: =+U21+V21+W21 -> 1 | BD21: =Y21 -> 1 | BE21: =O21+X21 -> 1 | BF21: =AF21 -> 0 | BG21: =AD21+AE21 -> 0 | BH21: =AF21 -> 0 | BI21: =AG21+AH21 -> 0 | BJ21: =AM21 -> 0 | BK21: =AK21+AL21 -> 0 | BL21: =AM21 -> 0 | BM21: =AN21+AO21 -> 0
A22: 1.6 | B22: ¶áõÛùÝ áõñÇßÇ ³åûñÇÝÇ ïÇñ³å»ïáõÙÇó »ï í»ñ³¹³ñÓÝ»Éáõ í»ñ³µ»ñÛ³É | E22: 2 | F22: 1 | G22: 1 | J22: 1 | K22: 1 | O22: 1 | T22: 1 | V22: 1 | Y22: 1 | AA22: 1 | AB22: 2 | AC22: 1 | AT22: =E22 -> 2 | AU22: =F22+G22+H22+I22 -> 2 | AV22: =J22 -> 1 | AW22: =K22+L22+M22 -> 1 | AX22: =F22+G22+K22 -> 3 | AY22: =N22+Y22+Z22+AB22 -> 3 | AZ22: =O22 -> 1 | BA22: =P22+Q22+R22+S22+T22 -> 1 | BB22: =T22 -> 1 | BC22: =+U22+V22+W22 -> 1 | BD22: =Y22 -> 1 | BE22: =O22+X22 -> 1 | BF22: =AF22 -> 0 | BG22: =AD22+AE22 -> 0 | BH22: =AF22 -> 0 | BI22: =AG22+AH22 -> 0 | BJ22: =AM22 -> 0 | BK22: =AK22+AL22 -> 0 | BL22: =AM22 -> 0 | BM22: =AN22+AO22 -> 0
A23: 1.6.1 | B23: ´³ñ»ËÇÕ× Ó»éùµ»ñáÕÇó Çñ ·áõÛùÁ Ñ»ï å³Ñ³Ýç»Éáõ í»ñ³µ»ñÛ³É | AT23: =E23 -> 0 | AU23: =F23+G23+H23+I23 -> 0 | AV23: =J23 -> 0 | AW23: =K23+L23+M23 -> 0 | AX23: =F23+G23+K23 -> 0 | AY23: =N23+Y23+Z23+AB23 -> 0 | AZ23: =O23 -> 0 | BA23: =P23+Q23+R23+S23+T23 -> 0 | BB23: =T23 -> 0 | BC23: =+U23+V23+W23 -> 0 | BD23: =Y23 -> 0 | BE23: =O23+X23 -> 0 | BF23: =AF23 -> 0 | BG23: =AD23+AE23 -> 0 | BH23: =AF23 -> 0 | BI23: =AG23+AH23 -> 0 | BJ23: =AM23 -> 0 | BK23: =AK23+AL23 -> 0 | BL23: =AM23 -> 0 | BM23: =AN23+AO23 -> 0
A24: 1.7 | B24: îÇñ³å»ïáõÙÇó ½ñÏ»Éáõ Ñ»ï ãÏ³åí³Í Çñ³íáõÝùÝ»ñÇ Ë³ËïáõÙÁ í»ñ³óÝ»Éáõ í»ñ³µ»ñÛ³É | AT24: =E24 -> 0 | AU24: =F24+G24+H24+I24 -> 0 | AV24: =J24 -> 0 | AW24: =K24+L24+M24 -> 0 | AX24: =F24+G24+K24 -> 0 | AY24: =N24+Y24+Z24+AB24 -> 0 | AZ24: =O24 -> 0 | BA24: =P24+Q24+R24+S24+T24 -> 0 | BB24: =T24 -> 0 | BC24: =+U24+V24+W24 -> 0 | BD24: =Y24 -> 0 | BE24: =O24+X24 -> 0 | BF24: =AF24 -> 0 | BG24: =AD24+AE24 -> 0 | BH24: =AF24 -> 0 | BI24: =AG24+AH24 -> 0 | BJ24: =AM24 -> 0 | BK24: =AK24+AL24 -> 0 | BL24: =AM24 -> 0 | BM24: =AN24+AO24 -> 0
A25: 1.8 | B25: ÀÝ¹Ñ³Ýáõñ µ³ÅÝ³ÛÇÝ ë»÷³Ï³ÝáõÃÛáõÝÇó µ³ÅÇÝÝ ³é³ÝÓÝ³óÝ»Éáõ í»ñ³µ»ñÛ³É | E25: 4 | F25: 2 | G25: 2 | J25: 3 | K25: 3 | O25: 1 | T25: 1 | V25: 1 | Y25: 1 | AA25: 1 | AB25: 6 | AC25: 3 | AT25: =E25 -> 4 | AU25: =F25+G25+H25+I25 -> 4 | AV25: =J25 -> 3 | AW25: =K25+L25+M25 -> 3 | AX25: =F25+G25+K25 -> 7 | AY25: =N25+Y25+Z25+AB25 -> 7 | AZ25: =O25 -> 1 | BA25: =P25+Q25+R25+S25+T25 -> 1 | BB25: =T25 -> 1 | BC25: =+U25+V25+W25 -> 1 | BD25: =Y25 -> 1 | BE25: =O25+X25 -> 1 | BF25: =AF25 -> 0 | BG25: =AD25+AE25 -> 0 | BH25: =AF25 -> 0 | BI25: =AG25+AH25 -> 0 | BJ25: =AM25 -> 0 | BK25: =AK25+AL25 -> 0 | BL25: =AM25 -> 0 | BM25: =AN25+AO25 -> 0
A26: 1.8.1 | B26: Ð³Ù³ï»Õ ë»÷³Ï³ÝáõÃÛ³Ý Ý»ñùá ·ïÝíáÕ ·áõÛùÁ µ³Å³Ý»Éáõ ¨ ¹ñ³ÝÇó µ³ÅÇÝÝ ³é³ÝÓÝ³óÝ»Éáõ í»ñ³µ»ñÛ³É | E26: 3 | F26: 2 | G26: 1 | O26: 2 | P26: 1 | T26: 1 | V26: 1 | Y26: 2 | AB26: 1 | AC26: 1 | AT26: =E26 -> 3 | AU26: =F26+G26+H26+I26 -> 3 | AV26: =J26 -> 0 | AW26: =K26+L26+M26 -> 0 | AX26: =F26+G26+K26 -> 3 | AY26: =N26+Y26+Z26+AB26 -> 3 | AZ26: =O26 -> 2 | BA26: =P26+Q26+R26+S26+T26 -> 2 | BB26: =T26 -> 1 | BC26: =+U26+V26+W26 -> 1 | BD26: =Y26 -> 2 | BE26: =O26+X26 -> 2 | BF26: =AF26 -> 0 | BG26: =AD26+AE26 -> 0 | BH26: =AF26 -> 0 | BI26: =AG26+AH26 -> 0 | BJ26: =AM26 -> 0 | BK26: =AK26+AL26 -> 0 | BL26: =AM26 -> 0 | BM26: =AN26+AO26 -> 0
A27: 1.8.3 | B27: ¶áõÛùÇ íñ³ µéÝ³·³ÝÓáõÙ ï³ñ³Í»Éáõ å³Ñ³ÝçÇ Ù³ëÇÝ | E27: 3 | F27: 2 | G27: 1 | J27: 3 | K27: 3 | AA27: 2 | AB27: 6 | AC27: 4 | AT27: =E27 -> 3 | AU27: =F27+G27+H27+I27 -> 3 | AV27: =J27 -> 3 | AW27: =K27+L27+M27 -> 3 | AX27: =F27+G27+K27 -> 6 | AY27: =N27+Y27+Z27+AB27 -> 6 | AZ27: =O27 -> 0 | BA27: =P27+Q27+R27+S27+T27 -> 0 | BB27: =T27 -> 0 | BC27: =+U27+V27+W27 -> 0 | BD27: =Y27 -> 0 | BE27: =O27+X27 -> 0 | BF27: =AF27 -> 0 | BG27: =AD27+AE27 -> 0 | BH27: =AF27 -> 0 | BI27: =AG27+AH27 -> 0 | BJ27: =AM27 -> 0 | BK27: =AK27+AL27 -> 0 | BL27: =AM27 -> 0 | BM27: =AN27+AO27 -> 0
A28: 1.9 | B28: ²ÛÉ í»×»ñ | J28: 1 | K28: 1 | AA28: 1 | AB28: 1 | AC28: 1 | AT28: =E28 -> 0 | AU28: =F28+G28+H28+I28 -> 0 | AV28: =J28 -> 1 | AW28: =K28+L28+M28 -> 1 | AX28: =F28+G28+K28 -> 1 | AY28: =N28+Y28+Z28+AB28 -> 1 | AZ28: =O28 -> 0 | BA28: =P28+Q28+R28+S28+T28 -> 0 | BB28: =T28 -> 0 | BC28: =+U28+V28+W28 -> 0 | BD28: =Y28 -> 0 | BE28: =O28+X28 -> 0 | BF28: =AF28 -> 0 | BG28: =AD28+AE28 -> 0 | BH28: =AF28 -> 0 | BI28: =AG28+AH28 -> 0 | BJ28: =AM28 -> 0 | BK28: =AK28+AL28 -> 0 | BL28: =AM28 -> 0 | BM28: =AN28+AO28 -> 0
A29: 2. | B29: ¶áñÍ³ñùÝ»ñÇ Ñ»ï Ï³åí³Í Çñ³í³Ñ³ñ³µ»ñáõÃÛáõÝÝ»ñÇ í»ñ³µ»ñÛ³É ¹³ï³Ï³Ý ·áñÍ»ñ | E29: =SUM(E30:E40) -> 1 | F29: =SUM(F30:F40) -> 0 | G29: =SUM(G30:G40) -> 1 | H29: =SUM(H30:H40) -> 0 | I29: =SUM(I30:I40) -> 0 | J29: =SUM(J30:J40) -> 1 | K29: =SUM(K30:K40) -> 0 | L29: =SUM(L30:L40) -> 1 | ... BC29: =SUM(BC30:BC40) -> 0 | BD29: =Y29 -> 1 | BE29: =O29+X29 -> 1 | BF29: =SUM(BF30:BF40) -> 1 | BG29: =SUM(BG30:BG40) -> 1 | BH29: =SUM(BH30:BH40) -> 1 | BI29: =SUM(BI30:BI40) -> 1 | BJ29: =SUM(BJ30:BJ40) -> 0 | BK29: =SUM(BK30:BK40) -> 0 | BL29: =SUM(BL30:BL40) -> 0 | BM29: =SUM(BM30:BM40) -> 0
A30: 2.1 | B30: ·áñÍ³ñùÝ»ñÇ ³Ýí³í»ñáõÃÛ³Ý Ñ»ï Ï³åí³Í í»×»ñ | AT30: =E30 -> 0 | AU30: =F30+G30+H30+I30 -> 0 | AV30: =J30 -> 0 | AW30: =K30+L30+M30 -> 0 | AX30: =F30+G30+K30 -> 0 | AY30: =N30+Y30+Z30+AB30 -> 0 | AZ30: =O30 -> 0 | BA30: =P30+Q30+R30+S30+T30 -> 0 | BB30: =T30 -> 0 | BC30: =+U30+V30+W30 -> 0 | BD30: =Y30 -> 0 | BE30: =O30+X30 -> 0 | BF30: =AF30 -> 0 | BG30: =AD30+AE30 -> 0 | BH30: =AF30 -> 0 | BI30: =AG30+AH30 -> 0 | BJ30: =AM30 -> 0 | BK30: =AK30+AL30 -> 0 | BL30: =AM30 -> 0 | BM30: =AN30+AO30 -> 0
A31: 2.1.1 | B31: ³Û¹ ÃíáõÙ` íÇ×³Ñ³ñáõÛó ·áñÍ³ñùÝ»ñÝ ³Ýí³í»ñ ×³Ý³ã»Éáõ í»ñ³µ»ñÛ³É | AT31: =E31 -> 0 | AU31: =F31+G31+H31+I31 -> 0 | AV31: =J31 -> 0 | AW31: =K31+L31+M31 -> 0 | AX31: =F31+G31+K31 -> 0 | AY31: =N31+Y31+Z31+AB31 -> 0 | AZ31: =O31 -> 0 | BA31: =P31+Q31+R31+S31+T31 -> 0 | BB31: =T31 -> 0 | BC31: =+U31+V31+W31 -> 0 | BD31: =Y31 -> 0 | BE31: =O31+X31 -> 0 | BF31: =AF31 -> 0 | BG31: =AD31+AE31 -> 0 | BH31: =AF31 -> 0 | BI31: =AG31+AH31 -> 0 | BJ31: =AM31 -> 0 | BK31: =AK31+AL31 -> 0 | BL31: =AM31 -> 0 | BM31: =AN31+AO31 -> 0
A32: 2.1.2 | B32: ³Û¹ ÃíáõÙ` ·áñÍ³ñùÇ ³éáãÝãáõÃÛ³Ý Ñ»ï¨³ÝùÝ»ñ ÏÇñ³é»Éáõ í»ñ³µ»ñÛ³É | AT32: =E32 -> 0 | AU32: =F32+G32+H32+I32 -> 0 | AV32: =J32 -> 0 | AW32: =K32+L32+M32 -> 0 | AX32: =F32+G32+K32 -> 0 | AY32: =N32+Y32+Z32+AB32 -> 0 | AZ32: =O32 -> 0 | BA32: =P32+Q32+R32+S32+T32 -> 0 | BB32: =T32 -> 0 | BC32: =+U32+V32+W32 -> 0 | BD32: =Y32 -> 0 | BE32: =O32+X32 -> 0 | BF32: =AF32 -> 0 | BG32: =AD32+AE32 -> 0 | BH32: =AF32 -> 0 | BI32: =AG32+AH32 -> 0 | BJ32: =AM32 -> 0 | BK32: =AK32+AL32 -> 0 | BL32: =AM32 -> 0 | BM32: =AN32+AO32 -> 0
A33: 2.2 | B33: ¶áñÍ³ñùÁ í³í»ñ ×³Ý³ã»Éáõ í»ñ³µ»ñÛ³É | AT33: =E33 -> 0 | AU33: =F33+G33+H33+I33 -> 0 | AV33: =J33 -> 0 | AW33: =K33+L33+M33 -> 0 | AX33: =F33+G33+K33 -> 0 | AY33: =N33+Y33+Z33+AB33 -> 0 | AZ33: =O33 -> 0 | BA33: =P33+Q33+R33+S33+T33 -> 0 | BB33: =T33 -> 0 | BC33: =+U33+V33+W33 -> 0 | BD33: =Y33 -> 0 | BE33: =O33+X33 -> 0 | BF33: =AF33 -> 0 | BG33: =AD33+AE33 -> 0 | BH33: =AF33 -> 0 | BI33: =AG33+AH33 -> 0 | BJ33: =AM33 -> 0 | BK33: =AK33+AL33 -> 0 | BL33: =AM33 -> 0 | BM33: =AN33+AO33 -> 0
A34: 2.3 | B34: ¶áñÍ³ñùÇó Í³·áÕ Çñ³íáõÝùÝ»ñÁ ·ñ³Ýó»Éáõ í»ñ³µ»ñÛ³É | AT34: =E34 -> 0 | AU34: =F34+G34+H34+I34 -> 0 | AV34: =J34 -> 0 | AW34: =K34+L34+M34 -> 0 | AX34: =F34+G34+K34 -> 0 | AY34: =N34+Y34+Z34+AB34 -> 0 | AZ34: =O34 -> 0 | BA34: =P34+Q34+R34+S34+T34 -> 0 | BB34: =T34 -> 0 | BC34: =+U34+V34+W34 -> 0 | BD34: =Y34 -> 0 | BE34: =O34+X34 -> 0 | BF34: =AF34 -> 0 | BG34: =AD34+AE34 -> 0 | BH34: =AF34 -> 0 | BI34: =AG34+AH34 -> 0 | BJ34: =AM34 -> 0 | BK34: =AK34+AL34 -> 0 | BL34: =AM34 -> 0 | BM34: =AN34+AO34 -> 0
A35: 2.4 | B35: ä³ÛÙ³Ý³·ÇñÝ ³Ýí³í»ñ ×³Ý³ã»Éáõ í»ñ³µ»ñÛ³É | E35: 1 | G35: 1 | J35: 1 | L35: 1 | O35: 1 | R35: 1 | Y35: 1 | AE35: 1 | AF35: 1 | AH35: 1 | AJ35: 1 | AT35: =E35 -> 1 | AU35: =F35+G35+H35+I35 -> 1 | AV35: =J35 -> 1 | AW35: =K35+L35+M35 -> 1 | AX35: =F35+G35+K35 -> 1 | AY35: =N35+Y35+Z35+AB35 -> 1 | AZ35: =O35 -> 1 | BA35: =P35+Q35+R35+S35+T35 -> 1 | BB35: =T35 -> 0 | BC35: =+U35+V35+W35 -> 0 | BD35: =Y35 -> 1 | BE35: =O35+X35 -> 1 | BF35: =AF35 -> 1 | BG35: =AD35+AE35 -> 1 | BH35: =AF35 -> 1 | BI35: =AG35+AH35 -> 1 | BJ35: =AM35 -> 0 | BK35: =AK35+AL35 -> 0 | BL35: =AM35 -> 0 | BM35: =AN35+AO35 -> 0
A36: 2.5 | B36: ä³ÛÙ³Ý³·ñÇÁ í³í»ñ ×³Ý³ã»Éáõ í»ñ³µ»ñÛ³É | AT36: =E36 -> 0 | AU36: =F36+G36+H36+I36 -> 0 | AV36: =J36 -> 0 | AW36: =K36+L36+M36 -> 0 | AX36: =F36+G36+K36 -> 0 | AY36: =N36+Y36+Z36+AB36 -> 0 | AZ36: =O36 -> 0 | BA36: =P36+Q36+R36+S36+T36 -> 0 | BB36: =T36 -> 0 | BC36: =+U36+V36+W36 -> 0 | BD36: =Y36 -> 0 | BE36: =O36+X36 -> 0 | BF36: =AF36 -> 0 | BG36: =AD36+AE36 -> 0 | BH36: =AF36 -> 0 | BI36: =AG36+AH36 -> 0 | BJ36: =AM36 -> 0 | BK36: =AK36+AL36 -> 0 | BL36: =AM36 -> 0 | BM36: =AN36+AO36 -> 0
A37: 2.6 | B37: ä³ÛÙ³Ý³·ñÇó Í³·áÕ Çñ³íáõÝùÝ»ñÁ ·ñ³Ýó»Éáõ í»ñ³µ»ñÛ³É | AT37: =E37 -> 0 | AU37: =F37+G37+H37+I37 -> 0 | AV37: =J37 -> 0 | AW37: =K37+L37+M37 -> 0 | AX37: =F37+G37+K37 -> 0 | AY37: =N37+Y37+Z37+AB37 -> 0 | AZ37: =O37 -> 0 | BA37: =P37+Q37+R37+S37+T37 -> 0 | BB37: =T37 -> 0 | BC37: =+U37+V37+W37 -> 0 | BD37: =Y37 -> 0 | BE37: =O37+X37 -> 0 | BF37: =AF37 -> 0 | BG37: =AD37+AE37 -> 0 | BH37: =AF37 -> 0 | BI37: =AG37+AH37 -> 0 | BJ37: =AM37 -> 0 | BK37: =AK37+AL37 -> 0 | BL37: =AM37 -> 0 | BM37: =AN37+AO37 -> 0
A38: 2.7 | B38: ä³ÛÙ³Ý³·ÇñÁ ÷á÷áË»Éáõ ¨ ÉáõÍ»Éáõ í»ñ³µ»ñÛ³É | AT38: =E38 -> 0 | AU38: =F38+G38+H38+I38 -> 0 | AV38: =J38 -> 0 | AW38: =K38+L38+M38 -> 0 | AX38: =F38+G38+K38 -> 0 | AY38: =N38+Y38+Z38+AB38 -> 0 | AZ38: =O38 -> 0 | BA38: =P38+Q38+R38+S38+T38 -> 0 | BB38: =T38 -> 0 | BC38: =+U38+V38+W38 -> 0 | BD38: =Y38 -> 0 | BE38: =O38+X38 -> 0 | BF38: =AF38 -> 0 | BG38: =AD38+AE38 -> 0 | BH38: =AF38 -> 0 | BI38: =AG38+AH38 -> 0 | BJ38: =AM38 -> 0 | BK38: =AK38+AL38 -> 0 | BL38: =AM38 -> 0 | BM38: =AN38+AO38 -> 0
A39: 2.8 | B39: ä³ÛÙ³Ý³·Çñ ÏÝù»ÉáõÝ å³ñï³íáñ»óÝ»Éáõ í»ñ³µ»ñÛ³É | AT39: =E39 -> 0 | AU39: =F39+G39+H39+I39 -> 0 | AV39: =J39 -> 0 | AW39: =K39+L39+M39 -> 0 | AX39: =F39+G39+K39 -> 0 | AY39: =N39+Y39+Z39+AB39 -> 0 | AZ39: =O39 -> 0 | BA39: =P39+Q39+R39+S39+T39 -> 0 | BB39: =T39 -> 0 | BC39: =+U39+V39+W39 -> 0 | BD39: =Y39 -> 0 | BE39: =O39+X39 -> 0 | BF39: =AF39 -> 0 | BG39: =AD39+AE39 -> 0 | BH39: =AF39 -> 0 | BI39: =AG39+AH39 -> 0 | BJ39: =AM39 -> 0 | BK39: =AK39+AL39 -> 0 | BL39: =AM39 -> 0 | BM39: =AN39+AO39 -> 0
A40: 2.9 | B40: ²ÛÉ í»×»ñ | AT40: =E40 -> 0 | AU40: =F40+G40+H40+I40 -> 0 | AV40: =J40 -> 0 | AW40: =K40+L40+M40 -> 0 | AX40: =F40+G40+K40 -> 0 | AY40: =N40+Y40+Z40+AB40 -> 0 | AZ40: =O40 -> 0 | BA40: =P40+Q40+R40+S40+T40 -> 0 | BB40: =T40 -> 0 | BC40: =+U40+V40+W40 -> 0 | BD40: =Y40 -> 0 | BE40: =O40+X40 -> 0 | BF40: =AF40 -> 0 | BG40: =AD40+AE40 -> 0 | BH40: =AF40 -> 0 | BI40: =AG40+AH40 -> 0 | BJ40: =AM40 -> 0 | BK40: =AK40+AL40 -> 0 | BL40: =AM40 -> 0 | BM40: =AN40+AO40 -> 0
A41: 3. | B41: Ä³é³Ý·áõÃÛ³Ý Ñ»ï Ï³åí³Í Çñ³í³Ñ³ñ³µ»ñáõÃÛáõÝÝ»ñÇ í»ñ³µ»ñÛ³É ¹³ï³Ï³Ý ·áñÍ»ñ | E41: =SUM(E42:E48) -> 1 | F41: =SUM(F42:F48) -> 1 | G41: =SUM(G42:G48) -> 0 | H41: =SUM(H42:H48) -> 0 | I41: =SUM(I42:I48) -> 0 | J41: =SUM(J42:J48) -> 1 | K41: =SUM(K42:K48) -> 1 | L41: =SUM(L42:L48) -> 0 | ... BC41: =SUM(BC42:BC48) -> 0 | BD41: =Y41 -> 1 | BE41: =O41+X41 -> 1 | BF41: =SUM(BF42:BF48) -> 0 | BG41: =SUM(BG42:BG48) -> 0 | BH41: =SUM(BH42:BH48) -> 0 | BI41: =SUM(BI42:BI48) -> 0 | BJ41: =SUM(BJ42:BJ48) -> 0 | BK41: =SUM(BK42:BK48) -> 0 | BL41: =SUM(BL42:BL48) -> 0 | BM41: =SUM(BM42:BM48) -> 0
A42: 3.1 | B42: Îï³ÏÝ ³Ýí³í»ñ ×³Ý³ã»Éáõ í»ñ³µ»ñÛ³É | AT42: =E42 -> 0 | AU42: =F42+G42+H42+I42 -> 0 | AV42: =J42 -> 0 | AW42: =K42+L42+M42 -> 0 | AX42: =F42+G42+K42 -> 0 | AY42: =N42+Y42+Z42+AB42 -> 0 | AZ42: =O42 -> 0 | BA42: =P42+Q42+R42+S42+T42 -> 0 | BB42: =T42 -> 0 | BC42: =+U42+V42+W42 -> 0 | BD42: =Y42 -> 0 | BE42: =O42+X42 -> 0 | BF42: =AF42 -> 0 | BG42: =AD42+AE42 -> 0 | BH42: =AF42 -> 0 | BI42: =AG42+AH42 -> 0 | BJ42: =AM42 -> 0 | BK42: =AK42+AL42 -> 0 | BL42: =AM42 -> 0 | BM42: =AN42+AO42 -> 0
A43: 3.2 | B43: ²Ý³ñÅ³Ý Å³é³Ý· ×³Ý³ã»Éáõ í»ñ³µ»ñÛ³É | AT43: =E43 -> 0 | AU43: =F43+G43+H43+I43 -> 0 | AV43: =J43 -> 0 | AW43: =K43+L43+M43 -> 0 | AX43: =F43+G43+K43 -> 0 | AY43: =N43+Y43+Z43+AB43 -> 0 | AZ43: =O43 -> 0 | BA43: =P43+Q43+R43+S43+T43 -> 0 | BB43: =T43 -> 0 | BC43: =+U43+V43+W43 -> 0 | BD43: =Y43 -> 0 | BE43: =O43+X43 -> 0 | BF43: =AF43 -> 0 | BG43: =AD43+AE43 -> 0 | BH43: =AF43 -> 0 | BI43: =AG43+AH43 -> 0 | BJ43: =AM43 -> 0 | BK43: =AK43+AL43 -> 0 | BL43: =AM43 -> 0 | BM43: =AN43+AO43 -> 0
A44: 3.3 | B44: Ä³é³Ý·áõÃÛáõÝÁ µ³Å³Ý»Éáõ í»ñ³µ»ñÛ³É | AT44: =E44 -> 0 | AU44: =F44+G44+H44+I44 -> 0 | AV44: =J44 -> 0 | AW44: =K44+L44+M44 -> 0 | AX44: =F44+G44+K44 -> 0 | AY44: =N44+Y44+Z44+AB44 -> 0 | AZ44: =O44 -> 0 | BA44: =P44+Q44+R44+S44+T44 -> 0 | BB44: =T44 -> 0 | BC44: =+U44+V44+W44 -> 0 | BD44: =Y44 -> 0 | BE44: =O44+X44 -> 0 | BF44: =AF44 -> 0 | BG44: =AD44+AE44 -> 0 | BH44: =AF44 -> 0 | BI44: =AG44+AH44 -> 0 | BJ44: =AM44 -> 0 | BK44: =AK44+AL44 -> 0 | BL44: =AM44 -> 0 | BM44: =AN44+AO44 -> 0
A45: 3.4 | B45: ¶áõÛùÝ ³ÝÅ³é³Ý· ×³Ý³ã»Éáõ í»ñ³µ»ñÛ³É | AT45: =E45 -> 0 | AU45: =F45+G45+H45+I45 -> 0 | AV45: =J45 -> 0 | AW45: =K45+L45+M45 -> 0 | AX45: =F45+G45+K45 -> 0 | AY45: =N45+Y45+Z45+AB45 -> 0 | AZ45: =O45 -> 0 | BA45: =P45+Q45+R45+S45+T45 -> 0 | BB45: =T45 -> 0 | BC45: =+U45+V45+W45 -> 0 | BD45: =Y45 -> 0 | BE45: =O45+X45 -> 0 | BF45: =AF45 -> 0 | BG45: =AD45+AE45 -> 0 | BH45: =AF45 -> 0 | BI45: =AG45+AH45 -> 0 | BJ45: =AM45 -> 0 | BK45: =AK45+AL45 -> 0 | BL45: =AM45 -> 0 | BM45: =AN45+AO45 -> 0
A46: 3.5 | B46: Àëï ûñ»ÝùÇ Å³é³Ý·áõÃÛ³Ý Çñ³íáõÝùÇ íÏ³Û³·ÇñÝ ³Ýí³í»ñ ×³Ý³ã»Éáõ í»ñ³µ»ñÛ³É | AT46: =E46 -> 0 | AU46: =F46+G46+H46+I46 -> 0 | AV46: =J46 -> 0 | AW46: =K46+L46+M46 -> 0 | AX46: =F46+G46+K46 -> 0 | AY46: =N46+Y46+Z46+AB46 -> 0 | AZ46: =O46 -> 0 | BA46: =P46+Q46+R46+S46+T46 -> 0 | BB46: =T46 -> 0 | BC46: =+U46+V46+W46 -> 0 | BD46: =Y46 -> 0 | BE46: =O46+X46 -> 0 | BF46: =AF46 -> 0 | BG46: =AD46+AE46 -> 0 | BH46: =AF46 -> 0 | BI46: =AG46+AH46 -> 0 | BJ46: =AM46 -> 0 | BK46: =AK46+AL46 -> 0 | BL46: =AM46 -> 0 | BM46: =AN46+AO46 -> 0
A47: 3.6 | B47: Ä³é³Ý·áõÃÛáõÝÝ ÁÝ¹áõÝ»Éáõ µ³ó ÃáÕÝí³Í Å³ÙÏ»ïÁ Ñ³ñ·»ÉÇ Ñ³Ù³ñ»Éáõ í»ñ³µ»ñÛ³É | J47: 1 | K47: 1 | O47: 1 | P47: 1 | Y47: 1 | AT47: =E47 -> 0 | AU47: =F47+G47+H47+I47 -> 0 | AV47: =J47 -> 1 | AW47: =K47+L47+M47 -> 1 | AX47: =F47+G47+K47 -> 1 | AY47: =N47+Y47+Z47+AB47 -> 1 | AZ47: =O47 -> 1 | BA47: =P47+Q47+R47+S47+T47 -> 1 | BB47: =T47 -> 0 | BC47: =+U47+V47+W47 -> 0 | BD47: =Y47 -> 1 | BE47: =O47+X47 -> 1 | BF47: =AF47 -> 0 | BG47: =AD47+AE47 -> 0 | BH47: =AF47 -> 0 | BI47: =AG47+AH47 -> 0 | BJ47: =AM47 -> 0 | BK47: =AK47+AL47 -> 0 | BL47: =AM47 -> 0 | BM47: =AN47+AO47 -> 0
A48: 3.7 | B48: ²ÛÉ í»×»ñ | E48: 1 | F48: 1 | G48: 0 | AB48: 1 | AT48: =E48 -> 1 | AU48: =F48+G48+H48+I48 -> 1 | AV48: =J48 -> 0 | AW48: =K48+L48+M48 -> 0 | AX48: =F48+G48+K48 -> 1 | AY48: =N48+Y48+Z48+AB48 -> 1 | AZ48: =O48 -> 0 | BA48: =P48+Q48+R48+S48+T48 -> 0 | BB48: =T48 -> 0 | BC48: =+U48+V48+W48 -> 0 | BD48: =Y48 -> 0 | BE48: =O48+X48 -> 0 | BF48: =AF48 -> 0 | BG48: =AD48+AE48 -> 0 | BH48: =AF48 -> 0 | BI48: =AG48+AH48 -> 0 | BJ48: =AM48 -> 0 | BK48: =AK48+AL48 -> 0 | BL48: =AM48 -> 0 | BM48: =AN48+AO48 -> 0
A49: 4 | B49: ÀÝï³Ý»Ï³Ý Çñ³í³Ñ³ñ³µ»ñáõÃÛáõÝÝ»ñÇ í»ñ³µ»ñÛ³É ¹³ï³Ï³Ý ·áñÍ»ñ | E49: =SUM(E50:E62) -> 5 | F49: =SUM(F50:F62) -> 1 | G49: =SUM(G50:G62) -> 4 | H49: =SUM(H50:H62) -> 0 | I49: =SUM(I50:I62) -> 0 | J49: =SUM(J50:J62) -> 16 | K49: =SUM(K50:K62) -> 16 | L49: =SUM(L50:L62) -> 0 | ... BM49: =SUM(BM50:BM62) -> 0
A50: 4.1 | B50: ²ÙáõëÝ³ÉáõÍáõÃÛ³Ý í»ñ³µ»ñÛ³É | E50: 2 | G50: 2 | J50: 7 | K50: 7 | O50: 5 | P50: 4 | Q50: 1 | Y50: 5 | AB50: 4 | AT50: =E50 -> 2 | AU50: =F50+G50+H50+I50 -> 2 | AV50: =J50 -> 7 | AW50: =K50+L50+M50 -> 7 | AX50: =F50+G50+K50 -> 9 | AY50: =N50+Y50+Z50+AB50 -> 9 | AZ50: =O50 -> 5 | BA50: =P50+Q50+R50+S50+T50 -> 5 | BB50: =T50 -> 0 | BC50: =+U50+V50+W50 -> 0 | BD50: =Y50 -> 5 | BE50: =O50+X50 -> 5 | BF50: =AF50 -> 0 | BG50: =AD50+AE50 -> 0 | BH50: =AF50 -> 0 | BI50: =AG50+AH50 -> 0 | BJ50: =AM50 -> 0 | BK50: =AK50+AL50 -> 0 | BL50: =AM50 -> 0 | BM50: =AN50+AO50 -> 0
A51: 4.2 | B51: ²ÉÇÙ»ÝïÇ å³Ñ³ÝçÇ í»ñ³µ»ñÛ³É | J51: 2 | K51: 2 | O51: 2 | P51: 1 | T51: 1 | V51: 1 | Y51: 2 | AT51: =E51 -> 0 | AU51: =F51+G51+H51+I51 -> 0 | AV51: =J51 -> 2 | AW51: =K51+L51+M51 -> 2 | AX51: =F51+G51+K51 -> 2 | AY51: =N51+Y51+Z51+AB51 -> 2 | AZ51: =O51 -> 2 | BA51: =P51+Q51+R51+S51+T51 -> 2 | BB51: =T51 -> 1 | BC51: =+U51+V51+W51 -> 1 | BD51: =Y51 -> 2 | BE51: =O51+X51 -> 2 | BF51: =AF51 -> 0 | BG51: =AD51+AE51 -> 0 | BH51: =AF51 -> 0 | BI51: =AG51+AH51 -> 0 | BJ51: =AM51 -> 0 | BK51: =AK51+AL51 -> 0 | BL51: =AM51 -> 0 | BM51: =AN51+AO51 -> 0
A52: 4.3 | B52: ²ÉÇÙ»ÝïÇ ã³÷Á ÷á÷áË»Éáõ í»ñ³µ»ñÛ³É | J52: 1 | K52: 1 | O52: 1 | P52: 1 | Y52: 1 | AT52: =E52 -> 0 | AU52: =F52+G52+H52+I52 -> 0 | AV52: =J52 -> 1 | AW52: =K52+L52+M52 -> 1 | AX52: =F52+G52+K52 -> 1 | AY52: =N52+Y52+Z52+AB52 -> 1 | AZ52: =O52 -> 1 | BA52: =P52+Q52+R52+S52+T52 -> 1 | BB52: =T52 -> 0 | BC52: =+U52+V52+W52 -> 0 | BD52: =Y52 -> 1 | BE52: =O52+X52 -> 1 | BF52: =AF52 -> 0 | BG52: =AD52+AE52 -> 0 | BH52: =AF52 -> 0 | BI52: =AG52+AH52 -> 0 | BJ52: =AM52 -> 0 | BK52: =AK52+AL52 -> 0 | BL52: =AM52 -> 0 | BM52: =AN52+AO52 -> 0
A53: 4.4 | B53: ÌÝáÕ³Ï³Ý Çñ³íáõÝùÝ»ñÇó ½ñÏ»Éáõ í»ñ³µ»ñÛ³É | AT53: =E53 -> 0 | AU53: =F53+G53+H53+I53 -> 0 | AV53: =J53 -> 0 | AW53: =K53+L53+M53 -> 0 | AX53: =F53+G53+K53 -> 0 | AY53: =N53+Y53+Z53+AB53 -> 0 | AZ53: =O53 -> 0 | BA53: =P53+Q53+R53+S53+T53 -> 0 | BB53: =T53 -> 0 | BC53: =+U53+V53+W53 -> 0 | BD53: =Y53 -> 0 | BE53: =O53+X53 -> 0 | BF53: =AF53 -> 0 | BG53: =AD53+AE53 -> 0 | BH53: =AF53 -> 0 | BI53: =AG53+AH53 -> 0 | BJ53: =AM53 -> 0 | BK53: =AK53+AL53 -> 0 | BL53: =AM53 -> 0 | BM53: =AN53+AO53 -> 0
A54: 4.5 | B54: ÌÝáÕ³Ï³Ý Çñ³íáõÝùÝ»ñÁ í»ñ³Ï³Ý·Ý»Éáõ í»ñ³µ»ñÛ³É | AT54: =E54 -> 0 | AU54: =F54+G54+H54+I54 -> 0 | AV54: =J54 -> 0 | AW54: =K54+L54+M54 -> 0 | AX54: =F54+G54+K54 -> 0 | AY54: =N54+Y54+Z54+AB54 -> 0 | AZ54: =O54 -> 0 | BA54: =P54+Q54+R54+S54+T54 -> 0 | BB54: =T54 -> 0 | BC54: =+U54+V54+W54 -> 0 | BD54: =Y54 -> 0 | BE54: =O54+X54 -> 0 | BF54: =AF54 -> 0 | BG54: =AD54+AE54 -> 0 | BH54: =AF54 -> 0 | BI54: =AG54+AH54 -> 0 | BJ54: =AM54 -> 0 | BK54: =AK54+AL54 -> 0 | BL54: =AM54 -> 0 | BM54: =AN54+AO54 -> 0
A55: 4.6 | B55: ºñ»Ë³ÛÇ áñ¹»·ñÙ³Ý í»ñ³µ»ñÛ³É | J55: 1 | K55: 1 | O55: 1 | P55: 1 | Y55: 1 | AT55: =E55 -> 0 | AU55: =F55+G55+H55+I55 -> 0 | AV55: =J55 -> 1 | AW55: =K55+L55+M55 -> 1 | AX55: =F55+G55+K55 -> 1 | AY55: =N55+Y55+Z55+AB55 -> 1 | AZ55: =O55 -> 1 | BA55: =P55+Q55+R55+S55+T55 -> 1 | BB55: =T55 -> 0 | BC55: =+U55+V55+W55 -> 0 | BD55: =Y55 -> 1 | BE55: =O55+X55 -> 1 | BF55: =AF55 -> 0 | BG55: =AD55+AE55 -> 0 | BH55: =AF55 -> 0 | BI55: =AG55+AH55 -> 0 | BJ55: =AM55 -> 0 | BK55: =AK55+AL55 -> 0 | BL55: =AM55 -> 0 | BM55: =AN55+AO55 -> 0
A56: 4.7 | B56: ºñ»Ë³ÛÇ áñ¹»·ñáõÙÁ í»ñ³óÝ»Éáõ í»ñ³µ»ñÛ³É | AT56: =E56 -> 0 | AU56: =F56+G56+H56+I56 -> 0 | AV56: =J56 -> 0 | AW56: =K56+L56+M56 -> 0 | AX56: =F56+G56+K56 -> 0 | AY56: =N56+Y56+Z56+AB56 -> 0 | AZ56: =O56 -> 0 | BA56: =P56+Q56+R56+S56+T56 -> 0 | BB56: =T56 -> 0 | BC56: =+U56+V56+W56 -> 0 | BD56: =Y56 -> 0 | BE56: =O56+X56 -> 0 | BF56: =AF56 -> 0 | BG56: =AD56+AE56 -> 0 | BH56: =AF56 -> 0 | BI56: =AG56+AH56 -> 0 | BJ56: =AM56 -> 0 | BK56: =AK56+AL56 -> 0 | BL56: =AM56 -> 0 | BM56: =AN56+AO56 -> 0
A57: 4.8 | B57: Ð³ÛñáõÃÛáõÝÁ ×³Ý³ã»Éáõ í»ñ³µ»ñÛ³É | E57: 1 | F57: 1 | J57: 4 | K57: 4 | O57: 4 | P57: 4 | Y57: 4 | AB57: 1 | AC57: 1 | AT57: =E57 -> 1 | AU57: =F57+G57+H57+I57 -> 1 | AV57: =J57 -> 4 | AW57: =K57+L57+M57 -> 4 | AX57: =F57+G57+K57 -> 5 | AY57: =N57+Y57+Z57+AB57 -> 5 | AZ57: =O57 -> 4 | BA57: =P57+Q57+R57+S57+T57 -> 4 | BB57: =T57 -> 0 | BC57: =+U57+V57+W57 -> 0 | BD57: =Y57 -> 4 | BE57: =O57+X57 -> 4 | BF57: =AF57 -> 0 | BG57: =AD57+AE57 -> 0 | BH57: =AF57 -> 0 | BI57: =AG57+AH57 -> 0 | BJ57: =AM57 -> 0 | BK57: =AK57+AL57 -> 0 | BL57: =AM57 -> 0 | BM57: =AN57+AO57 -> 0
A58: 4.9 | B58: ºñ»Ë³ÛÇ µÝ³ÏáõÃÛ³Ý í³ÛñÁ áñáß»Éáõ í»ñ³µ»ñÛ³É | AT58: =E58 -> 0 | AU58: =F58+G58+H58+I58 -> 0 | AV58: =J58 -> 0 | AW58: =K58+L58+M58 -> 0 | AX58: =F58+G58+K58 -> 0 | AY58: =N58+Y58+Z58+AB58 -> 0 | AZ58: =O58 -> 0 | BA58: =P58+Q58+R58+S58+T58 -> 0 | BB58: =T58 -> 0 | BC58: =+U58+V58+W58 -> 0 | BD58: =Y58 -> 0 | BE58: =O58+X58 -> 0 | BF58: =AF58 -> 0 | BG58: =AD58+AE58 -> 0 | BH58: =AF58 -> 0 | BI58: =AG58+AH58 -> 0 | BJ58: =AM58 -> 0 | BK58: =AK58+AL58 -> 0 | BL58: =AM58 -> 0 | BM58: =AN58+AO58 -> 0
A59: 4.10 | B59: ºñ»Ë³ÛÇ Ñ»ï ï»ë³ÏóáõÃÛ³Ý Ï³ñ· ë³ÑÙ³Ý»Éáõ í»ñ³µ»ñÛ³É | E59: 1 | G59: 1 | J59: 1 | K59: 1 | O59: 2 | P59: 2 | Y59: 2 | AT59: =E59 -> 1 | AU59: =F59+G59+H59+I59 -> 1 | AV59: =J59 -> 1 | AW59: =K59+L59+M59 -> 1 | AX59: =F59+G59+K59 -> 2 | AY59: =N59+Y59+Z59+AB59 -> 2 | AZ59: =O59 -> 2 | BA59: =P59+Q59+R59+S59+T59 -> 2 | BB59: =T59 -> 0 | BC59: =+U59+V59+W59 -> 0 | BD59: =Y59 -> 2 | BE59: =O59+X59 -> 2 | BF59: =AF59 -> 0 | BG59: =AD59+AE59 -> 0 | BH59: =AF59 -> 0 | BI59: =AG59+AH59 -> 0 | BJ59: =AM59 -> 0 | BK59: =AK59+AL59 -> 0 | BL59: =AM59 -> 0 | BM59: =AN59+AO59 -> 0
A60: 4.11 | B60: ²ÙáõëÇÝÝ»ñÇ ÁÝ¹Ñ³Ýáõñ ·áõÛùÁ µ³Å³Ý»Éáõ í»ñ³µ»ñÛ³É | E60: 1 | G60: 1 | AB60: 1 | AT60: =E60 -> 1 | AU60: =F60+G60+H60+I60 -> 1 | AV60: =J60 -> 0 | AW60: =K60+L60+M60 -> 0 | AX60: =F60+G60+K60 -> 1 | AY60: =N60+Y60+Z60+AB60 -> 1 | AZ60: =O60 -> 0 | BA60: =P60+Q60+R60+S60+T60 -> 0 | BB60: =T60 -> 0 | BC60: =+U60+V60+W60 -> 0 | BD60: =Y60 -> 0 | BE60: =O60+X60 -> 0 | BF60: =AF60 -> 0 | BG60: =AD60+AE60 -> 0 | BH60: =AF60 -> 0 | BI60: =AG60+AH60 -> 0 | BJ60: =AM60 -> 0 | BK60: =AK60+AL60 -> 0 | BL60: =AM60 -> 0 | BM60: =AN60+AO60 -> 0
A61: 4.12 | B61: ²ÙáõëÝ³Ï³Ý å³ÛÙ³Ý³·ñÇ ÷á÷áËÙ³Ý Ï³Ù ÉáõÍÙ³Ý í»ñ³µ»ñÛ³É | AT61: =E61 -> 0 | AU61: =F61+G61+H61+I61 -> 0 | AV61: =J61 -> 0 | AW61: =K61+L61+M61 -> 0 | AX61: =F61+G61+K61 -> 0 | AY61: =N61+Y61+Z61+AB61 -> 0 | AZ61: =O61 -> 0 | BA61: =P61+Q61+R61+S61+T61 -> 0 | BB61: =T61 -> 0 | BC61: =+U61+V61+W61 -> 0 | BD61: =Y61 -> 0 | BE61: =O61+X61 -> 0 | BF61: =AF61 -> 0 | BG61: =AD61+AE61 -> 0 | BH61: =AF61 -> 0 | BI61: =AG61+AH61 -> 0 | BJ61: =AM61 -> 0 | BK61: =AK61+AL61 -> 0 | BL61: =AM61 -> 0 | BM61: =AN61+AO61 -> 0
A62: 4.13 | B62: ²ÛÉ í»×»ñ | AT62: =E62 -> 0 | AU62: =F62+G62+H62+I62 -> 0 | AV62: =J62 -> 0 | AW62: =K62+L62+M62 -> 0 | AX62: =F62+G62+K62 -> 0 | AY62: =N62+Y62+Z62+AB62 -> 0 | AZ62: =O62 -> 0 | BA62: =P62+Q62+R62+S62+T62 -> 0 | BB62: =T62 -> 0 | BC62: =+U62+V62+W62 -> 0 | BD62: =Y62 -> 0 | BE62: =O62+X62 -> 0 | BF62: =AF62 -> 0 | BG62: =AD62+AE62 -> 0 | BH62: =AF62 -> 0 | BI62: =AG62+AH62 -> 0 | BJ62: =AM62 -> 0 | BK62: =AK62+AL62 -> 0 | BL62: =AM62 -> 0 | BM62: =AN62+AO62 -> 0
A63: 5. | B63: Øï³íáñ ë»÷³Ï³ÝáõÃÛ³Ý Ñ»ï Ï³åí³ÍÇñ³í³Ñ³ñ³µ»ñáõÃÛáõÝÝ»ñÇ í»ñ³µ»ñÛ³É ¹³ï³Ï³Ý ·áñÍ»ñ | E63: =SUM(E64:E69) -> 0 | F63: =SUM(F64:F69) -> 0 | G63: =SUM(G64:G69) -> 0 | H63: =SUM(H64:H69) -> 0 | I63: =SUM(I64:I69) -> 0 | J63: =SUM(J64:J69) -> 0 | K63: =SUM(K64:K69) -> 0 | L63: =SUM(L64:L69) -> 0 | ... BC63: =SUM(BC64:BC69) -> 0 | BD63: =Y63 -> 0 | BE63: =O63+X63 -> 0 | BF63: =SUM(BF64:BF69) -> 0 | BG63: =SUM(BG64:BG69) -> 0 | BH63: =SUM(BH64:BH69) -> 0 | BI63: =SUM(BI64:BI69) -> 0 | BJ63: =SUM(BJ64:BJ69) -> 0 | BK63: =SUM(BK64:BK69) -> 0 | BL63: =SUM(BL64:BL69) -> 0 | BM63: =SUM(BM64:BM69) -> 0
A64: 5.1 | B64: ÈÇó»Ý½³ÛÇÝ å³ÛÙ³Ý³·ñÇ ÉáõÍÙ³Ý, ÷á÷áËÙ³Ý ¨ ³Ýí³í»ñáõÃÛ³Ý í»ñ³µ»ñÛ³É | AT64: =E64 -> 0 | AU64: =F64+G64+H64+I64 -> 0 | AV64: =J64 -> 0 | AW64: =K64+L64+M64 -> 0 | AX64: =F64+G64+K64 -> 0 | AY64: =N64+Y64+Z64+AB64 -> 0 | AZ64: =O64 -> 0 | BA64: =P64+Q64+R64+S64+T64 -> 0 | BB64: =T64 -> 0 | BC64: =+U64+V64+W64 -> 0 | BD64: =Y64 -> 0 | BE64: =O64+X64 -> 0 | BF64: =AF64 -> 0 | BG64: =AD64+AE64 -> 0 | BH64: =AF64 -> 0 | BI64: =AG64+AH64 -> 0 | BJ64: =AM64 -> 0 | BK64: =AK64+AL64 -> 0 | BL64: =AM64 -> 0 | BM64: =AN64+AO64 -> 0
A65: 5.2 | B65: Øï³íáñ ·áñÍáõÝ»áõÃÛ³Ý ³ñ¹ÛáõÝùÝ»ñ ëï»ÕÍ»Éáõ ¨ û·ï³·áñÍ»Éáõ å³ÛÙ³Ý³·ñÇ ÉáõÍÙ³Ý, ÷á÷áËÙ³Ý áõ ³Ýí³í»ñáõÃÛ³Ý í»ñ³µ»ñÛ³É | AT65: =E65 -> 0 | AU65: =F65+G65+H65+I65 -> 0 | AV65: =J65 -> 0 | AW65: =K65+L65+M65 -> 0 | AX65: =F65+G65+K65 -> 0 | AY65: =N65+Y65+Z65+AB65 -> 0 | AZ65: =O65 -> 0 | BA65: =P65+Q65+R65+S65+T65 -> 0 | BB65: =T65 -> 0 | BC65: =+U65+V65+W65 -> 0 | BD65: =Y65 -> 0 | BE65: =O65+X65 -> 0 | BF65: =AF65 -> 0 | BG65: =AD65+AE65 -> 0 | BH65: =AF65 -> 0 | BI65: =AG65+AH65 -> 0 | BJ65: =AM65 -> 0 | BK65: =AK65+AL65 -> 0 | BL65: =AM65 -> 0 | BM65: =AN65+AO65 -> 0
A66: 5.3 | B66: Ð»ÕÇÝ³Ï³ÛÇÝ ¨ Ñ³ñ³ÏÇó Çñ³íáõÝùÝ»ñÇ í»ñ³µ»ñÛ³É | AT66: =E66 -> 0 | AU66: =F66+G66+H66+I66 -> 0 | AV66: =J66 -> 0 | AW66: =K66+L66+M66 -> 0 | AX66: =F66+G66+K66 -> 0 | AY66: =N66+Y66+Z66+AB66 -> 0 | AZ66: =O66 -> 0 | BA66: =P66+Q66+R66+S66+T66 -> 0 | BB66: =T66 -> 0 | BC66: =+U66+V66+W66 -> 0 | BD66: =Y66 -> 0 | BE66: =O66+X66 -> 0 | BF66: =AF66 -> 0 | BG66: =AD66+AE66 -> 0 | BH66: =AF66 -> 0 | BI66: =AG66+AH66 -> 0 | BJ66: =AM66 -> 0 | BK66: =AK66+AL66 -> 0 | BL66: =AM66 -> 0 | BM66: =AN66+AO66 -> 0
A67: 5.4 | B67: üÇñÙ³ÛÇÝ ³Ýí³ÝÙ³Ý í»ñ³µ»ñÛ³É | AT67: =E67 -> 0 | AU67: =F67+G67+H67+I67 -> 0 | AV67: =J67 -> 0 | AW67: =K67+L67+M67 -> 0 | AX67: =F67+G67+K67 -> 0 | AY67: =N67+Y67+Z67+AB67 -> 0 | AZ67: =O67 -> 0 | BA67: =P67+Q67+R67+S67+T67 -> 0 | BB67: =T67 -> 0 | BC67: =+U67+V67+W67 -> 0 | BD67: =Y67 -> 0 | BE67: =O67+X67 -> 0 | BF67: =AF67 -> 0 | BG67: =AD67+AE67 -> 0 | BH67: =AF67 -> 0 | BI67: =AG67+AH67 -> 0 | BJ67: =AM67 -> 0 | BK67: =AK67+AL67 -> 0 | BL67: =AM67 -> 0 | BM67: =AN67+AO67 -> 0
A68: 5.5 | B68: ²åñ³Ýù³ÛÇÝ Ýß³ÝÇ í»ñ³µ»ñÛ³É | AT68: =E68 -> 0 | AU68: =F68+G68+H68+I68 -> 0 | AV68: =J68 -> 0 | AW68: =K68+L68+M68 -> 0 | AX68: =F68+G68+K68 -> 0 | AY68: =N68+Y68+Z68+AB68 -> 0 | AZ68: =O68 -> 0 | BA68: =P68+Q68+R68+S68+T68 -> 0 | BB68: =T68 -> 0 | BC68: =+U68+V68+W68 -> 0 | BD68: =Y68 -> 0 | BE68: =O68+X68 -> 0 | BF68: =AF68 -> 0 | BG68: =AD68+AE68 -> 0 | BH68: =AF68 -> 0 | BI68: =AG68+AH68 -> 0 | BJ68: =AM68 -> 0 | BK68: =AK68+AL68 -> 0 | BL68: =AM68 -> 0 | BM68: =AN68+AO68 -> 0
A69: 5.6 | B69: ²ÛÉ í»×»ñ | AT69: =E69 -> 0 | AU69: =F69+G69+H69+I69 -> 0 | AV69: =J69 -> 0 | AW69: =K69+L69+M69 -> 0 | AX69: =F69+G69+K69 -> 0 | AY69: =N69+Y69+Z69+AB69 -> 0 | AZ69: =O69 -> 0 | BA69: =P69+Q69+R69+S69+T69 -> 0 | BB69: =T69 -> 0 | BC69: =+U69+V69+W69 -> 0 | BD69: =Y69 -> 0 | BE69: =O69+X69 -> 0 | BF69: =AF69 -> 0 | BG69: =AD69+AE69 -> 0 | BH69: =AF69 -> 0 | BI69: =AG69+AH69 -> 0 | BJ69: =AM69 -> 0 | BK69: =AK69+AL69 -> 0 | BL69: =AM69 -> 0 | BM69: =AN69+AO69 -> 0
A70: 6. | B70: ²ßË³ï³Ýù³ÛÇÝ Çñ³í³Ñ³ñ³µ»ñáõÃÛáõÝÝ»ñÇ í»ñ³µ»ñÛ³É ¹³ï³Ï³Ý ·áñÍ»ñ | E70: =SUM(E71:E76) -> 1 | F70: =SUM(F71:F76) -> 0 | G70: =SUM(G71:G76) -> 1 | H70: =SUM(H71:H76) -> 0 | I70: =SUM(I71:I76) -> 0 | J70: =SUM(J71:J76) -> 1 | K70: =SUM(K71:K76) -> 1 | L70: =SUM(L71:L76) -> 0 | ... BC70: =SUM(BC71:BC76) -> 0 | BD70: =Y70 -> 1 | BE70: =O70+X70 -> 1 | BF70: =SUM(BF71:BF76) -> 1 | BG70: =SUM(BG71:BG76) -> 1 | BH70: =SUM(BH71:BH76) -> 1 | BI70: =SUM(BI71:BI76) -> 1 | BJ70: =SUM(BJ71:BJ76) -> 0 | BK70: =SUM(BK71:BK76) -> 0 | BL70: =SUM(BL71:BL76) -> 0 | BM70: =SUM(BM71:BM76) -> 0
A71: 6.1 | B71: ²ßË³ï³Ýù³ÛÇÝ å³ÛÙ³Ý³·ñ»ñÇ í»ñ³µ»ñÛ³É | AT71: =E71 -> 0 | AU71: =F71+G71+H71+I71 -> 0 | AV71: =J71 -> 0 | AW71: =K71+L71+M71 -> 0 | AX71: =F71+G71+K71 -> 0 | AY71: =N71+Y71+Z71+AB71 -> 0 | AZ71: =O71 -> 0 | BA71: =P71+Q71+R71+S71+T71 -> 0 | BB71: =T71 -> 0 | BC71: =+U71+V71+W71 -> 0 | BD71: =Y71 -> 0 | BE71: =O71+X71 -> 0 | BF71: =AF71 -> 0 | BG71: =AD71+AE71 -> 0 | BH71: =AF71 -> 0 | BI71: =AG71+AH71 -> 0 | BJ71: =AM71 -> 0 | BK71: =AK71+AL71 -> 0 | BL71: =AM71 -> 0 | BM71: =AN71+AO71 -> 0
A72: 6.2 | B72: ²ßË³ï³ÝùáõÙ í»ñ³Ï³Ý·Ý»Éáõ í»ñ³µ»ñÛ³É | J72: 1 | K72: 1 | O72: 1 | R72: 1 | Y72: 1 | AD72: 1 | AF72: 1 | AH72: 1 | AJ72: 1 | AT72: =E72 -> 0 | AU72: =F72+G72+H72+I72 -> 0 | AV72: =J72 -> 1 | AW72: =K72+L72+M72 -> 1 | AX72: =F72+G72+K72 -> 1 | AY72: =N72+Y72+Z72+AB72 -> 1 | AZ72: =O72 -> 1 | BA72: =P72+Q72+R72+S72+T72 -> 1 | BB72: =T72 -> 0 | BC72: =+U72+V72+W72 -> 0 | BD72: =Y72 -> 1 | BE72: =O72+X72 -> 1 | BF72: =AF72 -> 1 | BG72: =AD72+AE72 -> 1 | BH72: =AF72 -> 1 | BI72: =AG72+AH72 -> 1 | BJ72: =AM72 -> 0 | BK72: =AK72+AL72 -> 0 | BL72: =AM72 -> 0 | BM72: =AN72+AO72 -> 0
A73: 6.3 | B73: ¶áñÍ³¹áõÉÝ ³ÝûñÇÝ³Ï³Ý ×³Ý³ã»Éáõ í»ñ³µ»ñÛ³É | AT73: =E73 -> 0 | AU73: =F73+G73+H73+I73 -> 0 | AV73: =J73 -> 0 | AW73: =K73+L73+M73 -> 0 | AX73: =F73+G73+K73 -> 0 | AY73: =N73+Y73+Z73+AB73 -> 0 | AZ73: =O73 -> 0 | BA73: =P73+Q73+R73+S73+T73 -> 0 | BB73: =T73 -> 0 | BC73: =+U73+V73+W73 -> 0 | BD73: =Y73 -> 0 | BE73: =O73+X73 -> 0 | BF73: =AF73 -> 0 | BG73: =AD73+AE73 -> 0 | BH73: =AF73 -> 0 | BI73: =AG73+AH73 -> 0 | BJ73: =AM73 -> 0 | BK73: =AK73+AL73 -> 0 | BL73: =AM73 -> 0 | BM73: =AN73+AO73 -> 0
A74: 6.4 | B74: Ð³ñÏ³¹Çñ å³ñ³åáõñ¹Ç Ñ³ïáõóÙ³Ý í»ñ³µ»ñÛ³É | AT74: =E74 -> 0 | AU74: =F74+G74+H74+I74 -> 0 | AV74: =J74 -> 0 | AW74: =K74+L74+M74 -> 0 | AX74: =F74+G74+K74 -> 0 | AY74: =N74+Y74+Z74+AB74 -> 0 | AZ74: =O74 -> 0 | BA74: =P74+Q74+R74+S74+T74 -> 0 | BB74: =T74 -> 0 | BC74: =+U74+V74+W74 -> 0 | BD74: =Y74 -> 0 | BE74: =O74+X74 -> 0 | BF74: =AF74 -> 0 | BG74: =AD74+AE74 -> 0 | BH74: =AF74 -> 0 | BI74: =AG74+AH74 -> 0 | BJ74: =AM74 -> 0 | BK74: =AK74+AL74 -> 0 | BL74: =AM74 -> 0 | BM74: =AN74+AO74 -> 0
A75: 6.5 | B75: âí×³ñí³Í ³ßË³ï³í³ñÓÇ ¨/Ï³Ù ³ÛÉ í×³ñÝ»ñÇ µéÝ³·³ÝÓÙ³Ý í»ñ³µ»ñÛ³É | E75: 1 | G75: 1 | AB75: 1 | AT75: =E75 -> 1 | AU75: =F75+G75+H75+I75 -> 1 | AV75: =J75 -> 0 | AW75: =K75+L75+M75 -> 0 | AX75: =F75+G75+K75 -> 1 | AY75: =N75+Y75+Z75+AB75 -> 1 | AZ75: =O75 -> 0 | BA75: =P75+Q75+R75+S75+T75 -> 0 | BB75: =T75 -> 0 | BC75: =+U75+V75+W75 -> 0 | BD75: =Y75 -> 0 | BE75: =O75+X75 -> 0 | BF75: =AF75 -> 0 | BG75: =AD75+AE75 -> 0 | BH75: =AF75 -> 0 | BI75: =AG75+AH75 -> 0 | BJ75: =AM75 -> 0 | BK75: =AK75+AL75 -> 0 | BL75: =AM75 -> 0 | BM75: =AN75+AO75 -> 0
A76: 6.6 | B76: ²ÛÉ í»×»ñ | AT76: =E76 -> 0 | AU76: =F76+G76+H76+I76 -> 0 | AV76: =J76 -> 0 | AW76: =K76+L76+M76 -> 0 | AX76: =F76+G76+K76 -> 0 | AY76: =N76+Y76+Z76+AB76 -> 0 | AZ76: =O76 -> 0 | BA76: =P76+Q76+R76+S76+T76 -> 0 | BB76: =T76 -> 0 | BC76: =+U76+V76+W76 -> 0 | BD76: =Y76 -> 0 | BE76: =O76+X76 -> 0 | BF76: =AF76 -> 0 | BG76: =AD76+AE76 -> 0 | BH76: =AF76 -> 0 | BI76: =AG76+AH76 -> 0 | BJ76: =AM76 -> 0 | BK76: =AK76+AL76 -> 0 | BL76: =AM76 -> 0 | BM76: =AN76+AO76 -> 0
A77: 7. | B77: Æñ³í³µ³Ý³Ï³Ý ³ÝÓÇ ·áñÍáõÝ»áõÃÛáõÝÇó µËáÕ Çñ³í³Ñ³ñ³µ»ñáõÃÛáõÝÝ»ñÇ í»ñ³µ»ñÛ³É ¹³ï³Ï³Ý ·áñÍ»ñ | E77: =SUM(E78:E79) -> 0 | F77: =SUM(F78:F79) -> 0 | G77: =SUM(G78:G79) -> 0 | H77: =SUM(H78:H79) -> 0 | I77: =SUM(I78:I79) -> 0 | J77: =SUM(J78:J79) -> 0 | K77: =SUM(K78:K79) -> 0 | L77: =SUM(L78:L79) -> 0 | ... BC77: =SUM(BC78:BC79) -> 0 | BD77: =Y77 -> 0 | BE77: =O77+X77 -> 0 | BF77: =SUM(BF78:BF79) -> 0 | BG77: =SUM(BG78:BG79) -> 0 | BH77: =SUM(BH78:BH79) -> 0 | BI77: =SUM(BI78:BI79) -> 0 | BJ77: =SUM(BJ78:BJ79) -> 0 | BK77: =SUM(BK78:BK79) -> 0 | BL77: =SUM(BL78:BL79) -> 0 | BM77: =SUM(BM78:BM79) -> 0
A78: 7.1 | B78: Îáñåáñ³ïÇí í»×»ñ | AT78: =E78 -> 0 | AU78: =F78+G78+H78+I78 -> 0 | AV78: =J78 -> 0 | AW78: =K78+L78+M78 -> 0 | AX78: =F78+G78+K78 -> 0 | AY78: =N78+Y78+Z78+AB78 -> 0 | AZ78: =O78 -> 0 | BA78: =P78+Q78+R78+S78+T78 -> 0 | BB78: =T78 -> 0 | BC78: =+U78+V78+W78 -> 0 | BD78: =Y78 -> 0 | BE78: =O78+X78 -> 0 | BF78: =AF78 -> 0 | BG78: =AD78+AE78 -> 0 | BH78: =AF78 -> 0 | BI78: =AG78+AH78 -> 0 | BJ78: =AM78 -> 0 | BK78: =AK78+AL78 -> 0 | BL78: =AM78 -> 0 | BM78: =AN78+AO78 -> 0
A79: 7.2 | B79: ²ÛÉ í»×»ñ | AT79: =E79 -> 0 | AU79: =F79+G79+H79+I79 -> 0 | AV79: =J79 -> 0 | AW79: =K79+L79+M79 -> 0 | AX79: =F79+G79+K79 -> 0 | AY79: =N79+Y79+Z79+AB79 -> 0 | AZ79: =O79 -> 0 | BA79: =P79+Q79+R79+S79+T79 -> 0 | BB79: =T79 -> 0 | BC79: =+U79+V79+W79 -> 0 | BD79: =Y79 -> 0 | BE79: =O79+X79 -> 0 | BF79: =AF79 -> 0 | BG79: =AD79+AE79 -> 0 | BH79: =AF79 -> 0 | BI79: =AG79+AH79 -> 0 | BJ79: =AM79 -> 0 | BK79: =AK79+AL79 -> 0 | BL79: =AM79 -> 0 | BM79: =AN79+AO79 -> 0
A80: 8. | B80: Ð³ïáõÏ í³ñáõÛÃÇ ¹³ï³Ï³Ý ·áñÍ»ñ | E80: =SUM(E81:E101) -> 2 | F80: =SUM(F81:F101) -> 2 | G80: =SUM(G81:G101) -> 0 | H80: =SUM(H81:H101) -> 0 | I80: =SUM(I81:I101) -> 0 | J80: =SUM(J81:J101) -> 9 | K80: =SUM(K81:K101) -> 8 | L80: =SUM(L81:L101) -> 1 | ... BC80: =SUM(BC81:BC101) -> 1 | BD80: =Y80 -> 6 | BE80: =O80+X80 -> 6 | BF80: =SUM(BF81:BF101) -> 0 | BG80: =SUM(BG81:BG101) -> 0 | BH80: =SUM(BH81:BH101) -> 0 | BI80: =SUM(BI81:BI101) -> 0 | BJ80: =SUM(BJ81:BJ101) -> 0 | BK80: =SUM(BK81:BK101) -> 0 | BL80: =SUM(BL81:BL101) -> 0 | BM80: =SUM(BM81:BM101) -> 0
A81: 8.1 | B81: ²Ýã³÷³Ñ³ëÇÝ ÉñÇí ·áñÍáõÝ³Ï ×³Ý³ã»Éáõ /¿Ù³ÝëÇå³óÇ³/ í»ñ³µ»ñÛ³É | AT81: =E81 -> 0 | AU81: =F81+G81+H81+I81 -> 0 | AV81: =J81 -> 0 | AW81: =K81+L81+M81 -> 0 | AX81: =F81+G81+K81 -> 0 | AY81: =N81+Y81+Z81+AB81 -> 0 | AZ81: =O81 -> 0 | BA81: =P81+Q81+R81+S81+T81 -> 0 | BB81: =T81 -> 0 | BC81: =+U81+V81+W81 -> 0 | BD81: =Y81 -> 0 | BE81: =O81+X81 -> 0 | BF81: =AF81 -> 0 | BG81: =AD81+AE81 -> 0 | BH81: =AF81 -> 0 | BI81: =AG81+AH81 -> 0 | BJ81: =AM81 -> 0 | BK81: =AK81+AL81 -> 0 | BL81: =AM81 -> 0 | BM81: =AN81+AO81 -> 0
A82: 8.2 | B82: ø³Õ³ù³óáõÝ ³Ý·áñÍáõÝ³Ï Ï³Ù ë³ÑÙ³Ý³÷³Ï ·áñÍáõÝ³Ï ×³Ý³ã»Éáõ í»ñ³µ»ñÛ³É | E82: 2 | F82: 2 | G82: 0 | J82: 2 | K82: 2 | O82: 2 | P82: 2 | Y82: 2 | AA82: 1 | AB82: 2 | AC82: 2 | AT82: =E82 -> 2 | AU82: =F82+G82+H82+I82 -> 2 | AV82: =J82 -> 2 | AW82: =K82+L82+M82 -> 2 | AX82: =F82+G82+K82 -> 4 | AY82: =N82+Y82+Z82+AB82 -> 4 | AZ82: =O82 -> 2 | BA82: =P82+Q82+R82+S82+T82 -> 2 | BB82: =T82 -> 0 | BC82: =+U82+V82+W82 -> 0 | BD82: =Y82 -> 2 | BE82: =O82+X82 -> 2 | BF82: =AF82 -> 0 | BG82: =AD82+AE82 -> 0 | BH82: =AF82 -> 0 | BI82: =AG82+AH82 -> 0 | BJ82: =AM82 -> 0 | BK82: =AK82+AL82 -> 0 | BL82: =AM82 -> 0 | BM82: =AN82+AO82 -> 0
A83: 8.3 | B83: ø³Õ³ù³óáõÝ Ñá·»µáõÅ³Ï³Ý ÑÇí³Ý¹³Ýáó³ÛÇÝ Ñ³ñÏ³¹Çñ µáõÅÙ³Ý »ÝÃ³ñÏ»Éáõ í»ñ³µ»ñÛ³É | AT83: =E83 -> 0 | AU83: =F83+G83+H83+I83 -> 0 | AV83: =J83 -> 0 | AW83: =K83+L83+M83 -> 0 | AX83: =F83+G83+K83 -> 0 | AY83: =N83+Y83+Z83+AB83 -> 0 | AZ83: =O83 -> 0 | BA83: =P83+Q83+R83+S83+T83 -> 0 | BB83: =T83 -> 0 | BC83: =+U83+V83+W83 -> 0 | BD83: =Y83 -> 0 | BE83: =O83+X83 -> 0 | BF83: =AF83 -> 0 | BG83: =AD83+AE83 -> 0 | BH83: =AF83 -> 0 | BI83: =AG83+AH83 -> 0 | BJ83: =AM83 -> 0 | BK83: =AK83+AL83 -> 0 | BL83: =AM83 -> 0 | BM83: =AN83+AO83 -> 0
A84: 8.4 | B84: ø³Õ³ù³óáõÝ ³ÝÑ³Ûï µ³ó³Ï³ÛáÕ Ï³Ù Ù³Ñ³ó³Í ×³Ý³ã»Éáõ í»ñ³µ»ñÛ³É | J84: 1 | K84: 1 | AB84: 1 | AT84: =E84 -> 0 | AU84: =F84+G84+H84+I84 -> 0 | AV84: =J84 -> 1 | AW84: =K84+L84+M84 -> 1 | AX84: =F84+G84+K84 -> 1 | AY84: =N84+Y84+Z84+AB84 -> 1 | AZ84: =O84 -> 0 | BA84: =P84+Q84+R84+S84+T84 -> 0 | BB84: =T84 -> 0 | BC84: =+U84+V84+W84 -> 0 | BD84: =Y84 -> 0 | BE84: =O84+X84 -> 0 | BF84: =AF84 -> 0 | BG84: =AD84+AE84 -> 0 | BH84: =AF84 -> 0 | BI84: =AG84+AH84 -> 0 | BJ84: =AM84 -> 0 | BK84: =AK84+AL84 -> 0 | BL84: =AM84 -> 0 | BM84: =AN84+AO84 -> 0
A85: 8.5 | B85: ø³Õ³ù³óÇ³Ï³Ý Ï³óáõÃÛ³Ý ³Ïï»ñÇ ·ñ³éáõÙÝ»ñÇ ³Ý×ßïáõÃÛáõÝÝ»ñÁ å³ñ½»Éáõ í»ñ³µ»ñÛ³É | AT85: =E85 -> 0 | AU85: =F85+G85+H85+I85 -> 0 | AV85: =J85 -> 0 | AW85: =K85+L85+M85 -> 0 | AX85: =F85+G85+K85 -> 0 | AY85: =N85+Y85+Z85+AB85 -> 0 | AZ85: =O85 -> 0 | BA85: =P85+Q85+R85+S85+T85 -> 0 | BB85: =T85 -> 0 | BC85: =+U85+V85+W85 -> 0 | BD85: =Y85 -> 0 | BE85: =O85+X85 -> 0 | BF85: =AF85 -> 0 | BG85: =AD85+AE85 -> 0 | BH85: =AF85 -> 0 | BI85: =AG85+AH85 -> 0 | BJ85: =AM85 -> 0 | BK85: =AK85+AL85 -> 0 | BL85: =AM85 -> 0 | BM85: =AN85+AO85 -> 0
A86: 8.6 | B86: ¶áõÛùÁ ïÇñ³½áõñÏ ×³Ý³ã»Éáõ í»ñ³µ»ñÛ³É | AT86: =E86 -> 0 | AU86: =F86+G86+H86+I86 -> 0 | AV86: =J86 -> 0 | AW86: =K86+L86+M86 -> 0 | AX86: =F86+G86+K86 -> 0 | AY86: =N86+Y86+Z86+AB86 -> 0 | AZ86: =O86 -> 0 | BA86: =P86+Q86+R86+S86+T86 -> 0 | BB86: =T86 -> 0 | BC86: =+U86+V86+W86 -> 0 | BD86: =Y86 -> 0 | BE86: =O86+X86 -> 0 | BF86: =AF86 -> 0 | BG86: =AD86+AE86 -> 0 | BH86: =AF86 -> 0 | BI86: =AG86+AH86 -> 0 | BJ86: =AM86 -> 0 | BK86: =AK86+AL86 -> 0 | BL86: =AM86 -> 0 | BM86: =AN86+AO86 -> 0
A87: 8.6.1 | B87: ²Û¹ ÃíáõÙª ³Ýß³ñÅ ·áõÛùÁ | AT87: =E87 -> 0 | AU87: =F87+G87+H87+I87 -> 0 | AV87: =J87 -> 0 | AW87: =K87+L87+M87 -> 0 | AX87: =F87+G87+K87 -> 0 | AY87: =N87+Y87+Z87+AB87 -> 0 | AZ87: =O87 -> 0 | BA87: =P87+Q87+R87+S87+T87 -> 0 | BB87: =T87 -> 0 | BC87: =+U87+V87+W87 -> 0 | BD87: =Y87 -> 0 | BE87: =O87+X87 -> 0 | BF87: =AF87 -> 0 | BG87: =AD87+AE87 -> 0 | BH87: =AF87 -> 0 | BI87: =AG87+AH87 -> 0 | BJ87: =AM87 -> 0 | BK87: =AK87+AL87 -> 0 | BL87: =AM87 -> 0 | BM87: =AN87+AO87 -> 0
A88: 8.6.2 | B88: ²Û¹ ÃíáõÙª ß³ñÅ³Ï³Ý ·áõÛùÁ | AT88: =E88 -> 0 | AU88: =F88+G88+H88+I88 -> 0 | AV88: =J88 -> 0 | AW88: =K88+L88+M88 -> 0 | AX88: =F88+G88+K88 -> 0 | AY88: =N88+Y88+Z88+AB88 -> 0 | AZ88: =O88 -> 0 | BA88: =P88+Q88+R88+S88+T88 -> 0 | BB88: =T88 -> 0 | BC88: =+U88+V88+W88 -> 0 | BD88: =Y88 -> 0 | BE88: =O88+X88 -> 0 | BF88: =AF88 -> 0 | BG88: =AD88+AE88 -> 0 | BH88: =AF88 -> 0 | BI88: =AG88+AH88 -> 0 | BJ88: =AM88 -> 0 | BK88: =AK88+AL88 -> 0 | BL88: =AM88 -> 0 | BM88: =AN88+AO88 -> 0
A89: 8.7 | B89: Æñ³í³µ³Ý³Ï³Ý Ýß³Ý³ÏáõÃÛáõÝ áõÝ»óáÕ ÷³ëï»ñÇ Ñ³ëï³ïÙ³Ý í»ñ³µ»ñÛ³É | AT89: =E89 -> 0 | AU89: =F89+G89+H89+I89 -> 0 | AV89: =J89 -> 0 | AW89: =K89+L89+M89 -> 0 | AX89: =F89+G89+K89 -> 0 | AY89: =N89+Y89+Z89+AB89 -> 0 | AZ89: =O89 -> 0 | BA89: =P89+Q89+R89+S89+T89 -> 0 | BB89: =T89 -> 0 | BC89: =+U89+V89+W89 -> 0 | BD89: =Y89 -> 0 | BE89: =O89+X89 -> 0 | BF89: =AF89 -> 0 | BG89: =AD89+AE89 -> 0 | BH89: =AF89 -> 0 | BI89: =AG89+AH89 -> 0 | BJ89: =AM89 -> 0 | BK89: =AK89+AL89 -> 0 | BL89: =AM89 -> 0 | BM89: =AN89+AO89 -> 0
A90: 8.7.1 | B90: ²ÝÓ³Ýó ³½·³Ïó³Ï³Ý Ï³åÁ Ñ³ëï³ï»Éáõ í»ñ³µ»ñÛ³É | J90: 1 | K90: 1 | O90: 1 | P90: 1 | Y90: 1 | AT90: =E90 -> 0 | AU90: =F90+G90+H90+I90 -> 0 | AV90: =J90 -> 1 | AW90: =K90+L90+M90 -> 1 | AX90: =F90+G90+K90 -> 1 | AY90: =N90+Y90+Z90+AB90 -> 1 | AZ90: =O90 -> 1 | BA90: =P90+Q90+R90+S90+T90 -> 1 | BB90: =T90 -> 0 | BC90: =+U90+V90+W90 -> 0 | BD90: =Y90 -> 1 | BE90: =O90+X90 -> 1 | BF90: =AF90 -> 0 | BG90: =AD90+AE90 -> 0 | BH90: =AF90 -> 0 | BI90: =AG90+AH90 -> 0 | BJ90: =AM90 -> 0 | BK90: =AK90+AL90 -> 0 | BL90: =AM90 -> 0 | BM90: =AN90+AO90 -> 0
A91: 8.7.2 | B91: ²ÝÓÇª áõñÇßÇ ËÝ³ÙùÇ ï³Ï ·ïÝí»Éáõ í»ñ³µ»ñÛ³É | AT91: =E91 -> 0 | AU91: =F91+G91+H91+I91 -> 0 | AV91: =J91 -> 0 | AW91: =K91+L91+M91 -> 0 | AX91: =F91+G91+K91 -> 0 | AY91: =N91+Y91+Z91+AB91 -> 0 | AZ91: =O91 -> 0 | BA91: =P91+Q91+R91+S91+T91 -> 0 | BB91: =T91 -> 0 | BC91: =+U91+V91+W91 -> 0 | BD91: =Y91 -> 0 | BE91: =O91+X91 -> 0 | BF91: =AF91 -> 0 | BG91: =AD91+AE91 -> 0 | BH91: =AF91 -> 0 | BI91: =AG91+AH91 -> 0 | BJ91: =AM91 -> 0 | BK91: =AK91+AL91 -> 0 | BL91: =AM91 -> 0 | BM91: =AN91+AO91 -> 0
A92: 8.7.3 | B92: ÌÝÝ¹Û³Ý, áñ¹»·ñÙ³Ý, ³ÙáõëÝáõÃÛ³Ý, ³å³Ñ³ñ½³ÝÇ ¨ Ù³Ñí³Ý ·ñ³ÝóÙ³Ý í»ñ³µ»ñÛ³É | J92: 1 | K92: 1 | O92: 1 | P92: 1 | Y92: 1 | AT92: =E92 -> 0 | AU92: =F92+G92+H92+I92 -> 0 | AV92: =J92 -> 1 | AW92: =K92+L92+M92 -> 1 | AX92: =F92+G92+K92 -> 1 | AY92: =N92+Y92+Z92+AB92 -> 1 | AZ92: =O92 -> 1 | BA92: =P92+Q92+R92+S92+T92 -> 1 | BB92: =T92 -> 0 | BC92: =+U92+V92+W92 -> 0 | BD92: =Y92 -> 1 | BE92: =O92+X92 -> 1 | BF92: =AF92 -> 0 | BG92: =AD92+AE92 -> 0 | BH92: =AF92 -> 0 | BI92: =AG92+AH92 -> 0 | BJ92: =AM92 -> 0 | BK92: =AK92+AL92 -> 0 | BL92: =AM92 -> 0 | BM92: =AN92+AO92 -> 0
A93: 8.7.4 | B93: ²ÝÓÇª áñáß³ÏÇ Å³Ù³Ý³ÏáõÙ ¨ áñáß³ÏÇ Ñ³Ý·³Ù³ÝùÝ»ñáõÙ Ù³Ñí³Ý í»ñ³µ»ñÛ³É | AT93: =E93 -> 0 | AU93: =F93+G93+H93+I93 -> 0 | AV93: =J93 -> 0 | AW93: =K93+L93+M93 -> 0 | AX93: =F93+G93+K93 -> 0 | AY93: =N93+Y93+Z93+AB93 -> 0 | AZ93: =O93 -> 0 | BA93: =P93+Q93+R93+S93+T93 -> 0 | BB93: =T93 -> 0 | BC93: =+U93+V93+W93 -> 0 | BD93: =Y93 -> 0 | BE93: =O93+X93 -> 0 | BF93: =AF93 -> 0 | BG93: =AD93+AE93 -> 0 | BH93: =AF93 -> 0 | BI93: =AG93+AH93 -> 0 | BJ93: =AM93 -> 0 | BK93: =AK93+AL93 -> 0 | BL93: =AM93 -> 0 | BM93: =AN93+AO93 -> 0
A94: 8.7.5 | B94: Ä³é³Ý·áõÃÛáõÝÝ ÁÝ¹áõÝ»Éáõ ¨ Å³é³Ý·áõÃÛ³Ý µ³óÙ³Ý í³ÛñÇ í»ñ³µ»ñÛ³É | J94: 2 | K94: 2 | O94: 1 | P94: 1 | Y94: 1 | AB94: 1 | AT94: =E94 -> 0 | AU94: =F94+G94+H94+I94 -> 0 | AV94: =J94 -> 2 | AW94: =K94+L94+M94 -> 2 | AX94: =F94+G94+K94 -> 2 | AY94: =N94+Y94+Z94+AB94 -> 2 | AZ94: =O94 -> 1 | BA94: =P94+Q94+R94+S94+T94 -> 1 | BB94: =T94 -> 0 | BC94: =+U94+V94+W94 -> 0 | BD94: =Y94 -> 1 | BE94: =O94+X94 -> 1 | BF94: =AF94 -> 0 | BG94: =AD94+AE94 -> 0 | BH94: =AF94 -> 0 | BI94: =AG94+AH94 -> 0 | BJ94: =AM94 -> 0 | BK94: =AK94+AL94 -> 0 | BL94: =AM94 -> 0 | BM94: =AN94+AO94 -> 0
A95: 8.7.6 | B95: ¸Åµ³Ëï å³ï³Ñ³ñÇ í»ñ³µ»ñÛ³É | AT95: =E95 -> 0 | AU95: =F95+G95+H95+I95 -> 0 | AV95: =J95 -> 0 | AW95: =K95+L95+M95 -> 0 | AX95: =F95+G95+K95 -> 0 | AY95: =N95+Y95+Z95+AB95 -> 0 | AZ95: =O95 -> 0 | BA95: =P95+Q95+R95+S95+T95 -> 0 | BB95: =T95 -> 0 | BC95: =+U95+V95+W95 -> 0 | BD95: =Y95 -> 0 | BE95: =O95+X95 -> 0 | BF95: =AF95 -> 0 | BG95: =AD95+AE95 -> 0 | BH95: =AF95 -> 0 | BI95: =AG95+AH95 -> 0 | BJ95: =AM95 -> 0 | BK95: =AK95+AL95 -> 0 | BL95: =AM95 -> 0 | BM95: =AN95+AO95 -> 0
A96: 8.7.7 | B96: Æñ³íáõÝù ë³ÑÙ³ÝáÕ ÷³ëï³ÃÕÃ»ñÇ å³ïÏ³Ý»ÉáõÃÛ³Ý í»ñ³µ»ñÛ³É | J96: 2 | K96: 1 | L96: 1 | O96: 1 | T96: 1 | V96: 1 | Y96: 1 | AT96: =E96 -> 0 | AU96: =F96+G96+H96+I96 -> 0 | AV96: =J96 -> 2 | AW96: =K96+L96+M96 -> 2 | AX96: =F96+G96+K96 -> 1 | AY96: =N96+Y96+Z96+AB96 -> 1 | AZ96: =O96 -> 1 | BA96: =P96+Q96+R96+S96+T96 -> 1 | BB96: =T96 -> 1 | BC96: =+U96+V96+W96 -> 1 | BD96: =Y96 -> 1 | BE96: =O96+X96 -> 1 | BF96: =AF96 -> 0 | BG96: =AD96+AE96 -> 0 | BH96: =AF96 -> 0 | BI96: =AG96+AH96 -> 0 | BJ96: =AM96 -> 0 | BK96: =AK96+AL96 -> 0 | BL96: =AM96 -> 0 | BM96: =AN96+AO96 -> 0
A97: 8.7.8 | B97: ê»÷³Ï³ÝáõÃÛ³Ý Çñ³íáõÝùáí ·áõÛùÇ ïÇñ³å»ïÙ³Ý í»ñ³µ»ñÛ³É | AT97: =E97 -> 0 | AU97: =F97+G97+H97+I97 -> 0 | AV97: =J97 -> 0 | AW97: =K97+L97+M97 -> 0 | AX97: =F97+G97+K97 -> 0 | AY97: =N97+Y97+Z97+AB97 -> 0 | AZ97: =O97 -> 0 | BA97: =P97+Q97+R97+S97+T97 -> 0 | BB97: =T97 -> 0 | BC97: =+U97+V97+W97 -> 0 | BD97: =Y97 -> 0 | BE97: =O97+X97 -> 0 | BF97: =AF97 -> 0 | BG97: =AD97+AE97 -> 0 | BH97: =AF97 -> 0 | BI97: =AG97+AH97 -> 0 | BJ97: =AM97 -> 0 | BK97: =AK97+AL97 -> 0 | BL97: =AM97 -> 0 | BM97: =AN97+AO97 -> 0
A98: 8.7.9 | B98: ²ÝÑ³ÕÃ³Ñ³ñ»ÉÇ áõÅÇ ³éÏ³ÛáõÃÛ³Ý í»ñ³µ»ñÛ³É | AT98: =E98 -> 0 | AU98: =F98+G98+H98+I98 -> 0 | AV98: =J98 -> 0 | AW98: =K98+L98+M98 -> 0 | AX98: =F98+G98+K98 -> 0 | AY98: =N98+Y98+Z98+AB98 -> 0 | AZ98: =O98 -> 0 | BA98: =P98+Q98+R98+S98+T98 -> 0 | BB98: =T98 -> 0 | BC98: =+U98+V98+W98 -> 0 | BD98: =Y98 -> 0 | BE98: =O98+X98 -> 0 | BF98: =AF98 -> 0 | BG98: =AD98+AE98 -> 0 | BH98: =AF98 -> 0 | BI98: =AG98+AH98 -> 0 | BJ98: =AM98 -> 0 | BK98: =AK98+AL98 -> 0 | BL98: =AM98 -> 0 | BM98: =AN98+AO98 -> 0
A99: 8.7.10 | B99: úñ»Ýùáí Ý³Ë³ï»ëí³Í ³ÛÉ Çñ³í³µ³Ý³Ï³Ý ÷³ëï»ñÇ í»ñ³µ»ñÛ³É | AT99: =E99 -> 0 | AU99: =F99+G99+H99+I99 -> 0 | AV99: =J99 -> 0 | AW99: =K99+L99+M99 -> 0 | AX99: =F99+G99+K99 -> 0 | AY99: =N99+Y99+Z99+AB99 -> 0 | AZ99: =O99 -> 0 | BA99: =P99+Q99+R99+S99+T99 -> 0 | BB99: =T99 -> 0 | BC99: =+U99+V99+W99 -> 0 | BD99: =Y99 -> 0 | BE99: =O99+X99 -> 0 | BF99: =AF99 -> 0 | BG99: =AD99+AE99 -> 0 | BH99: =AF99 -> 0 | BI99: =AG99+AH99 -> 0 | BJ99: =AM99 -> 0 | BK99: =AK99+AL99 -> 0 | BL99: =AM99 -> 0 | BM99: =AN99+AO99 -> 0
A100: 8.8 | B100: Àëï Ý»ñÏ³Û³óÝáÕÇ ¨ ûñ¹»ñ³ÛÇÝ Ïáñóñ³Í ³ñÅ»ÃÕÃ»ñáí Ñ³í³ëïí³Í Çñ³íáõÝùÝ»ñÁ í»ñ³Ï³Ý·Ý»Éáõ í»ñ³µ»ñÛ³É | AT100: =E100 -> 0 | AU100: =F100+G100+H100+I100 -> 0 | AV100: =J100 -> 0 | AW100: =K100+L100+M100 -> 0 | AX100: =F100+G100+K100 -> 0 | AY100: =N100+Y100+Z100+AB100 -> 0 | AZ100: =O100 -> 0 | BA100: =P100+Q100+R100+S100+T100 -> 0 | BB100: =T100 -> 0 | BC100: =+U100+V100+W100 -> 0 | BD100: =Y100 -> 0 | BE100: =O100+X100 -> 0 | BF100: =AF100 -> 0 | BG100: =AD100+AE100 -> 0 | BH100: =AF100 -> 0 | BI100: =AG100+AH100 -> 0 | BJ100: =AM100 -> 0 | BK100: =AK100+AL100 -> 0 | BL100: =AM100 -> 0 | BM100: =AN100+AO100 -> 0
...

Sheet Մ. Հովակիմյան
A1: 2016Ã. 1-ԻՆ ԿԻՍԱՄՅԱԿ | G1: Ð²ÞìºîìàôÂÚàôÜ | AM1: Ð³í»Éí³Í Ð³Û³ëï³ÝÇ Ð³Ýñ³å»ïáõÃÛ³Ý ¸³ï³ñ³ÝÝ»ñÇ Ý³Ë³·³ÑÝ»ñÇ ËáñÑñ¹Ç 25.08.2016Ã. ÃÇí 44-È áñáßÙ³Ý
A2: ՀՀ ՍՅՈՒՆԻՔԻ ՄԱՐԶԻ ÀÜ¸Ð²Üàôð Æð²ì²êàôÂÚ²Ü ²è²æÆÜ ²îÚ²ÜÆ ¸²î²ð²ÜÆ ¸²î²ìàð | Z2: Մ. ՀՈՎԱԿԻՄÚ²ÜÆ | AH2: ¶àðÌàôÜºàôÂÚ²Ü ìºð²´ºðÚ²È
A3: ø²Ô²ø²òÆ²Î²Ü ¶àðÌºðàì
A4: ՀՀ Սյունիքի մարզի ÁÝ¹Ñ³Ýáõñ Çñ³í³ëáõÃÛ³Ý ³é³çÇÝ ³ïÛ³ÝÇ ¹³ï³ñ³ÝÇ ù³Õ³ù³óÇ³Ï³Ý Ù³ëÝ³·Çï³óáõÙ áõÝ»óáÕ ¹³ï³íáñÝ»ñÇ Ñ³ëïÇùÝ»ñÇ ù³Ý³ÏÁ` 5
A5: êïáõ·Çã Ñ³í³ë³ñáõÙÝ»ñª 1=2+3+4+5, 6=7+8+9, 2+3+7=10+21+22+24, 11=12+13+14+15+16, 16=17+18+19, 21=11+20, 28=26+27, 28=29+30, 35=33+34, 35=36+37 | E5: Ð³ßí»ïáõ Å³Ù³Ý³Ï³Ñ³ïí³ÍáõÙ Ý³Ëáñ¹ Ñ³ßí»ïáõ Å³Ù³Ý³Ï³Ñ³ïí³ÍÇó ÷áË³Ýóí³Í ·áñÍ»ñÇ ÁÝ¹Ñ³Ýáõñ ÃÇíÁ | J5: Ð³ßí»ïáõ Å³Ù³Ý³Ï³Ñ³ïí³ÍáõÙëï³óí³Í ·áñÍ»ñÇ (³Û¹ ÃíáõÙ` Ñ³Ûó³¹ÇÙáõÙÝ»ñÇ, ¹ÇÙáõÙÝ»ñÇ) ÁÝ¹Ñ³Ýáõñ ÃÇíÁ | N5: öáË³Ýóí»É ¿ ³ÛÉ ¹³ï³íáñÇ (Ï³½ÙÇ ÷á÷áËáõÃÛáõÝ) | O5: Ð³ßí»ïáõ Å³Ù³Ý³Ï³Ñ³ïí³ÍáõÙ ³í³ñïí³Í ·áñÍ»ñÇ ÁÝ¹Ñ³Ýáõñ ÃÇíÁ | Z5: ¶áñÍÝ áõÕ³ñÏí»É ¿ Áëï ÁÝ¹¹³ïáõÃÛ³Ý | AA5: Ð³ßí»ïáõ Å³Ù³Ý³Ï³Ñ³ïí³ÍáõÙ Ï³ë»óí³Í í³ñáõÛÃÝ»ñáí ·áñÍ»ñÇ ÁÝ¹Ñ³Ýáõñ ÃÇíÁ | AB5: Ð³ßí»ïáõ Å³Ù³Ý³Ï³Ñ³ïí³ÍáõÙ ³Ý³í³ñï ·áñÍ»ñÇ ÁÝ¹Ñ³Ýáõñ ÃÇíÁ | AC5: ²Û¹ ÃíáõÙª Ï³ë»óí³Í | AD5: ´áÕáù³ñÏí³Í ¹³ï³Ï³Ý ³Ïï»ñÁ | AI5: ²í³ñïí³Í ¹³ï³Ï³Ý ·áñÍ»ñÇ µáÕáù³ñÏÙ³Ý ïáÏáëÁ (Ñ³ßí»ïáõ Å³Ù³Ý³Ï³ßñç³ÝáõÙ) | AJ5: ²Ý³í³ñï µáÕáùÝ»ñ | AK5: ´»Ï³Ýí³Í ¹³ï³Ï³Ý ³Ïï»ñÁ | AP5: µ»Ï³ÝáõÙÝ»ñÇ ïáÏáëÁ ³í³ñïí³Í ·áñÍ»ñÇó(Ñ³ßí»ïáõ Å³Ù³Ý³Ï³ßñç³ÝáõÙ) | AQ5: Î³ÛáõÝáõÃÛ³Ý ïáÏáëÁ ³í³ñïí³Í ·áñÍ»ñÇó(Ñ³ßí»ïáõ Å³Ù³Ý³Ï³ßñç³ÝáõÙ) | AR5: µ»Ï³ÝáõÙÝ»ñÇ ïáÏáëÁ µáÕáù³ñÏí³Í ·áñÍ»ñÇó(Ñ³ßí»ïáõ Å³Ù³Ý³Ï³ßñç³ÝáõÙ) | AS5: Ï³ÛáõÝáõÃÛ³Ý ïáÏáëÁ(Ñ³ßí»ïáõ Å³Ù³Ý³Ï³ßñç³ÝáõÙ)
E6: ÀÝ¹³Ù»ÝÁ | F6: ²Û¹ ÃíáõÙ`Ï³ë»óí³Í íÇ×³ÏáõÙ ÷áË³Ýóí³Í | G6: ²Û¹ ÃíáõÙª ÁÝ¹áõÝí»É ¿ í³ñáõÛÃ | H6: ²Û¹ ÃíáõÙª í»ñ³¹³ñÓí»É ¿ | I6: ²Û¹ ÃíáõÙª ÁÝ¹áõÝáõÙÁ Ù»ñÅí»É ¿ | J6: ÀÝ¹³Ù»ÝÁ | K6: ²Û¹ ÃíáõÙª ÁÝ¹áõÝí»É ¿ í³ñáõÛÃ | L6: ²Û¹ ÃíáõÙª í»ñ³¹³ñÓí»É ¿ | M6: ²Û¹ ÃíáõÙª ÁÝ¹áõÝáõÙÁ Ù»ñÅí»É ¿ | O6: ÀÝ¹³Ù»ÝÁ ³í³ñïí»É »Ý ·áñÍ»ñ ·áñÍÝ Áëï ¿áõÃÛ³Ý ÉáõÍáÕ ¹³ï³Ï³Ý ³Ïï»ñÇ (í×ÇéÝ»ñÇ) Ï³Û³óÙ³Ùµ | P6: ²Û¹ ÃíáõÙª Ñ³ÛóÇ µ³í³ñ³ñÙ³Ùµ | Q6: ²Û¹ ÃíáõÙª Ñ³ÛóÇ Ù³ëÝ³ÏÇ µ³í³ñ³ñÙ³Ùµ | R6: ²Û¹ ÃíáõÙª Ñ³ÛóÇ Ù»ñÅÙ³Ùµ | S6: Ø³ëáí Ï³ñ×í»É ¿É, Ù³ëáí Ù»ñÅí»É | T6: ²Û¹ ÃíáõÙª Ï³ñ×í»É »Ý | X6: Ð³ÛóÁ ÃáÕÝí»É ¿ ³é³Ýó ùÝÝáõÃÛ³Ý | Y6: ÀÝ¹³Ù»ÝÝ ³í³ñïí»É »Ý ·áñÍ»ñ | AD6: ²Û¹ ÃíáõÙ` ·áñÍÝ Áëï ¿áõÃÛ³Ý ÉáõÍáÕ ¹³ï³Ï³Ý ³Ïï»ñÁ | AE6: ²Û¹ ÃíáõÙ` ÙÇç³ÝÏÛ³É ¹³ï³Ï³Ý ³Ïï»ñÁ | AF6: ÀÝ¹³Ù»ÝÁ | AG6: Ü³Ëáñ¹ ï³ñÇÝ»ñÇÝ Ï³Û³óí³Í ³Ïï»ñÇ µáÕáù³ñÏáõÙÁ Ñ³ßí»ïáõ Å³Ù³Ý³Ï³ßñç³ÝáõÙ | AH6: Ð³ßí»ïáõ Å³Ù³Ý³Ï³ßñç³ÝáõÙ Ï³Û³óí³Í ³Ïï»ñÇ µáÕáù³ñÏáõÙÁ | AK6: ²Û¹ ÃíáõÙ` ·áñÍÝ Áëï ¿áõÃÛ³Ý ÉáõÍáÕ ¹³ï³Ï³Ý ³Ïï»ñÁ | AL6: ²Û¹ ÃíáõÙ` ÙÇç³ÝÏÛ³É ¹³ï³Ï³Ý ³Ïï»ñÁ | AM6: ÀÝ¹³Ù»ÝÁ | AN6: Ü³Ëáñ¹ ï³ñÇÝ»ñÇÝ Ï³Û³óí³Í ³Ïï»ñÇ µ»Ï³ÝáõÙÝ»ñÁ Ñ³ßí»ïáõ Å³Ù³Ý³Ï³ßñç³ÝáõÙ | AO6: Ð³ßí»ïáõ Å³Ù³Ý³Ï³ßñç³ÝáõÙ Ï³Û³óí³Í ³Ïï»ñÇ µ»Ï³ÝáõÙÁ
T7: ÀÝ¹³Ù»ÝÁ Ï³ñ×í»É »Ý | U7: ²Û¹ ÃíáõÙª Ñ³ëï³ïí»É ¿ ÏÝùí³Í Ñ³ßïáõÃÛ³Ý Ñ³Ù³Ó³ÛÝáõÃÛáõÝÁ | V7: ²Û¹ ÃíáõÙª Ñ³óÇó, ¹ÇÙáõÙÇó Ññ³Å³ñí»Éáõ ÑÇÙùáí | W7: ²Û¹ ÃíáõÙª ³ÛÉ ÑÇÙùáí
E8: 1 | F8: 2 | G8: 3 | H8: 4 | I8: 5 | J8: 6 | K8: 7 | L8: 8 | M8: 9 | N8: 10 | O8: 11 | P8: 12 | Q8: 13 | R8: 14 | S8: 15 | T8: 16 | U8: 17 | V8: 18 | W8: 19 | X8: 20 | Y8: 21 | Z8: 22 | AA8: 23 | AB8: 24 | AC8: 25 | AD8: 26 | AE8: 27 | AF8: 28 | AG8: 29 | AH8: 30 | AI8: 31 | AJ8: 32 | AK8: 33 | AL8: 34 | AM8: 35 | AN8: 36 | AO8: 37 | AP8: 38 | AQ8: 39 | AR8: 40 | AS8: 41 | AT8: 1=2+3+4+5 | AV8: 6=7+8+9 | AX8: 2+3+7=10+21+22+24 | AZ8: 11=12+13+14+15+16 | BB8: 16=17+18+19 | BD8: 21=11+20 | BF8: 28=26+27 | BH8: 28=29+30 | BJ8: 35=33+34 | BL8: 35=36+37
A9: 1. | B9: ¶áõÛù³ÛÇÝ Çñ³í³Ñ³ñ³µ»ñáõÃÛáõÝÝ»ñÇ í»ñ³µ»ñÛ³É ¹³ï³Ï³Ý ·áñÍ»ñ | E9: =SUM(E10:E28) -> 19 | F9: =SUM(F10:F28) -> 12 | G9: =SUM(G10:G28) -> 7 | H9: =SUM(H10:H28) -> 0 | I9: =SUM(I10:I28) -> 0 | J9: =SUM(J10:J28) -> 8 | K9: =SUM(K10:K28) -> 7 | L9: =SUM(L10:L28) -> 1 | ... BC9: =SUM(BC10:BC28) -> 0 | BD9: =Y9 -> 6 | BE9: =O9+X9 -> 6 | BF9: =SUM(BF10:BF28) -> 0 | BG9: =SUM(BG10:BG28) -> 0 | BH9: =SUM(BH10:BH28) -> 0 | BI9: =SUM(BI10:BI28) -> 0 | BJ9: =SUM(BJ10:BJ28) -> 0 | BK9: =SUM(BK10:BK28) -> 0 | BL9: =SUM(BL10:BL28) -> 0 | BM9: =SUM(BM10:BM28) -> 0
A10: 1.1 | B10: ¶áõÛùÇ ÝÏ³ïÙ³Ùµ ë»÷³Ï³ÝáõÃÛ³Ý Çñ³íáõÝùÁ ×³Ý³ã»Éáõ í»ñ³µ»ñÛ³É | AT10: =E10 -> 0 | AU10: =F10+G10+H10+I10 -> 0 | AV10: =J10 -> 0 | AW10: =K10+L10+M10 -> 0 | AX10: =F10+G10+K10 -> 0 | AY10: =N10+Y10+Z10+AB10 -> 0 | AZ10: =O10 -> 0 | BA10: =P10+Q10+R10+S10+T10 -> 0 | BB10: =T10 -> 0 | BC10: =+U10+V10+W10 -> 0 | BD10: =Y10 -> 0 | BE10: =O10+X10 -> 0 | BF10: =AF10 -> 0 | BG10: =AD10+AE10 -> 0 | BH10: =AF10 -> 0 | BI10: =AG10+AH10 -> 0 | BJ10: =AM10 -> 0 | BK10: =AK10+AL10 -> 0 | BL10: =AM10 -> 0 | BM10: =AN10+AO10 -> 0
A11: 1.1.1 | B11: ²Û¹ ÃíáõÙª Ó»éùµ»ñÙ³Ý í³Õ»ÙáõÃÛ³Ý áõÅáí | J11: 4 | K11: 4 | O11: 1 | P11: 1 | Y11: 1 | AB11: 3 | AT11: =E11 -> 0 | AU11: =F11+G11+H11+I11 -> 0 | AV11: =J11 -> 4 | AW11: =K11+L11+M11 -> 4 | AX11: =F11+G11+K11 -> 4 | AY11: =N11+Y11+Z11+AB11 -> 4 | AZ11: =O11 -> 1 | BA11: =P11+Q11+R11+S11+T11 -> 1 | BB11: =T11 -> 0 | BC11: =+U11+V11+W11 -> 0 | BD11: =Y11 -> 1 | BE11: =O11+X11 -> 1 | BF11: =AF11 -> 0 | BG11: =AD11+AE11 -> 0 | BH11: =AF11 -> 0 | BI11: =AG11+AH11 -> 0 | BJ11: =AM11 -> 0 | BK11: =AK11+AL11 -> 0 | BL11: =AM11 -> 0 | BM11: =AN11+AO11 -> 0
A12: 1.1.2 | B12: ²Û¹ ÃíáõÙª ïÇñ³½áõñÏ ·áõÛùÇ ÝÏ³ïÙ³Ùµ | AT12: =E12 -> 0 | AU12: =F12+G12+H12+I12 -> 0 | AV12: =J12 -> 0 | AW12: =K12+L12+M12 -> 0 | AX12: =F12+G12+K12 -> 0 | AY12: =N12+Y12+Z12+AB12 -> 0 | AZ12: =O12 -> 0 | BA12: =P12+Q12+R12+S12+T12 -> 0 | BB12: =T12 -> 0 | BC12: =+U12+V12+W12 -> 0 | BD12: =Y12 -> 0 | BE12: =O12+X12 -> 0 | BF12: =AF12 -> 0 | BG12: =AD12+AE12 -> 0 | BH12: =AF12 -> 0 | BI12: =AG12+AH12 -> 0 | BJ12: =AM12 -> 0 | BK12: =AK12+AL12 -> 0 | BL12: =AM12 -> 0 | BM12: =AN12+AO12 -> 0
A13: 1.1.3 | B13: ²Û¹ ÃíáõÙª ÇÝùÝ³Ï³Ù Ï³éáõÛóÇ ÝÏ³ïÙ³Ùµ | AT13: =E13 -> 0 | AU13: =F13+G13+H13+I13 -> 0 | AV13: =J13 -> 0 | AW13: =K13+L13+M13 -> 0 | AX13: =F13+G13+K13 -> 0 | AY13: =N13+Y13+Z13+AB13 -> 0 | AZ13: =O13 -> 0 | BA13: =P13+Q13+R13+S13+T13 -> 0 | BB13: =T13 -> 0 | BC13: =+U13+V13+W13 -> 0 | BD13: =Y13 -> 0 | BE13: =O13+X13 -> 0 | BF13: =AF13 -> 0 | BG13: =AD13+AE13 -> 0 | BH13: =AF13 -> 0 | BI13: =AG13+AH13 -> 0 | BJ13: =AM13 -> 0 | BK13: =AK13+AL13 -> 0 | BL13: =AM13 -> 0 | BM13: =AN13+AO13 -> 0
A14: 1.2 | B14: ê»÷³Ï³ÝáõÃÛ³Ý Çñ³íáõÝùÇ ¹³¹³ñ»óÙ³Ý í»ñ³µ»ñÛ³É | AT14: =E14 -> 0 | AU14: =F14+G14+H14+I14 -> 0 | AV14: =J14 -> 0 | AW14: =K14+L14+M14 -> 0 | AX14: =F14+G14+K14 -> 0 | AY14: =N14+Y14+Z14+AB14 -> 0 | AZ14: =O14 -> 0 | BA14: =P14+Q14+R14+S14+T14 -> 0 | BB14: =T14 -> 0 | BC14: =+U14+V14+W14 -> 0 | BD14: =Y14 -> 0 | BE14: =O14+X14 -> 0 | BF14: =AF14 -> 0 | BG14: =AD14+AE14 -> 0 | BH14: =AF14 -> 0 | BI14: =AG14+AH14 -> 0 | BJ14: =AM14 -> 0 | BK14: =AK14+AL14 -> 0 | BL14: =AM14 -> 0 | BM14: =AN14+AO14 -> 0
A15: 1.3 | B15: ¶áõÛùÇ ÝÏ³ïÙ³Ùµ û·ï³·áñÍÙ³Ý Çñ³íáõÝùÁ ×³Ý³ã»Éáõ í»ñ³µ»ñÛ³É | AT15: =E15 -> 0 | AU15: =F15+G15+H15+I15 -> 0 | AV15: =J15 -> 0 | AW15: =K15+L15+M15 -> 0 | AX15: =F15+G15+K15 -> 0 | AY15: =N15+Y15+Z15+AB15 -> 0 | AZ15: =O15 -> 0 | BA15: =P15+Q15+R15+S15+T15 -> 0 | BB15: =T15 -> 0 | BC15: =+U15+V15+W15 -> 0 | BD15: =Y15 -> 0 | BE15: =O15+X15 -> 0 | BF15: =AF15 -> 0 | BG15: =AD15+AE15 -> 0 | BH15: =AF15 -> 0 | BI15: =AG15+AH15 -> 0 | BJ15: =AM15 -> 0 | BK15: =AK15+AL15 -> 0 | BL15: =AM15 -> 0 | BM15: =AN15+AO15 -> 0
A16: 1.3.1 | B16: ²Û¹ ÃíáõÙª µÝ³Ïû·ï³·áñÍÙ³Ý Çñ³íáõÝùÁ ×³Ý³ã»Éáõ í»ñ³µ»ñÛ³É | AT16: =E16 -> 0 | AU16: =F16+G16+H16+I16 -> 0 | AV16: =J16 -> 0 | AW16: =K16+L16+M16 -> 0 | AX16: =F16+G16+K16 -> 0 | AY16: =N16+Y16+Z16+AB16 -> 0 | AZ16: =O16 -> 0 | BA16: =P16+Q16+R16+S16+T16 -> 0 | BB16: =T16 -> 0 | BC16: =+U16+V16+W16 -> 0 | BD16: =Y16 -> 0 | BE16: =O16+X16 -> 0 | BF16: =AF16 -> 0 | BG16: =AD16+AE16 -> 0 | BH16: =AF16 -> 0 | BI16: =AG16+AH16 -> 0 | BJ16: =AM16 -> 0 | BK16: =AK16+AL16 -> 0 | BL16: =AM16 -> 0 | BM16: =AN16+AO16 -> 0
A17: 1.3.2 | B17: ²Û¹ ÃíáõÙª ÑáÕ³Ù³ëÇ ÝÏ³ïÙ³Ùµ û·ï³·áñÍÙ³Ý Çñ³íáõÝùÁ ×³Ý³ã»Éáõ í»ñ³µ»ñÛ³É | AT17: =E17 -> 0 | AU17: =F17+G17+H17+I17 -> 0 | AV17: =J17 -> 0 | AW17: =K17+L17+M17 -> 0 | AX17: =F17+G17+K17 -> 0 | AY17: =N17+Y17+Z17+AB17 -> 0 | AZ17: =O17 -> 0 | BA17: =P17+Q17+R17+S17+T17 -> 0 | BB17: =T17 -> 0 | BC17: =+U17+V17+W17 -> 0 | BD17: =Y17 -> 0 | BE17: =O17+X17 -> 0 | BF17: =AF17 -> 0 | BG17: =AD17+AE17 -> 0 | BH17: =AF17 -> 0 | BI17: =AG17+AH17 -> 0 | BJ17: =AM17 -> 0 | BK17: =AK17+AL17 -> 0 | BL17: =AM17 -> 0 | BM17: =AN17+AO17 -> 0
A18: 1.4 | B18: ¶áõÛùÇ ÝÏ³ïÙ³Ùµ û·ï³·áñÍÙ³Ý Çñ³íáõÝùÁ ¹³¹³ñ»óÝ»Éáõ í»ñ³µ»ñÛ³É | AT18: =E18 -> 0 | AU18: =F18+G18+H18+I18 -> 0 | AV18: =J18 -> 0 | AW18: =K18+L18+M18 -> 0 | AX18: =F18+G18+K18 -> 0 | AY18: =N18+Y18+Z18+AB18 -> 0 | AZ18: =O18 -> 0 | BA18: =P18+Q18+R18+S18+T18 -> 0 | BB18: =T18 -> 0 | BC18: =+U18+V18+W18 -> 0 | BD18: =Y18 -> 0 | BE18: =O18+X18 -> 0 | BF18: =AF18 -> 0 | BG18: =AD18+AE18 -> 0 | BH18: =AF18 -> 0 | BI18: =AG18+AH18 -> 0 | BJ18: =AM18 -> 0 | BK18: =AK18+AL18 -> 0 | BL18: =AM18 -> 0 | BM18: =AN18+AO18 -> 0
A19: 1.4.1 | B19: ²Û¹ ÃíáõÙª µÝ³Ïû·ï³·áñÍÙ³Ý Çñ³íáõÝùÁ ¹³¹³ñ»óÝ»Éáõ í»ñ³µ»ñÛ³É | AT19: =E19 -> 0 | AU19: =F19+G19+H19+I19 -> 0 | AV19: =J19 -> 0 | AW19: =K19+L19+M19 -> 0 | AX19: =F19+G19+K19 -> 0 | AY19: =N19+Y19+Z19+AB19 -> 0 | AZ19: =O19 -> 0 | BA19: =P19+Q19+R19+S19+T19 -> 0 | BB19: =T19 -> 0 | BC19: =+U19+V19+W19 -> 0 | BD19: =Y19 -> 0 | BE19: =O19+X19 -> 0 | BF19: =AF19 -> 0 | BG19: =AD19+AE19 -> 0 | BH19: =AF19 -> 0 | BI19: =AG19+AH19 -> 0 | BJ19: =AM19 -> 0 | BK19: =AK19+AL19 -> 0 | BL19: =AM19 -> 0 | BM19: =AN19+AO19 -> 0
A20: 1.4.1/1 | B20: ²Û¹ ÃíáõÙª ÷áËÑ³ïáõóÙ³Ùµ | AT20: =E20 -> 0 | AU20: =F20+G20+H20+I20 -> 0 | AV20: =J20 -> 0 | AW20: =K20+L20+M20 -> 0 | AX20: =F20+G20+K20 -> 0 | AY20: =N20+Y20+Z20+AB20 -> 0 | AZ20: =O20 -> 0 | BA20: =P20+Q20+R20+S20+T20 -> 0 | BB20: =T20 -> 0 | BC20: =+U20+V20+W20 -> 0 | BD20: =Y20 -> 0 | BE20: =O20+X20 -> 0 | BF20: =AF20 -> 0 | BG20: =AD20+AE20 -> 0 | BH20: =AF20 -> 0 | BI20: =AG20+AH20 -> 0 | BJ20: =AM20 -> 0 | BK20: =AK20+AL20 -> 0 | BL20: =AM20 -> 0 | BM20: =AN20+AO20 -> 0
A21: 1.5 | B21: ´Ý³Ï³ñ³ÝÇó/ ï³ñ³ÍùÇó/ íï³ñ»Éáõ í»ñ³µ»ñÛ³É | AT21: =E21 -> 0 | AU21: =F21+G21+H21+I21 -> 0 | AV21: =J21 -> 0 | AW21: =K21+L21+M21 -> 0 | AX21: =F21+G21+K21 -> 0 | AY21: =N21+Y21+Z21+AB21 -> 0 | AZ21: =O21 -> 0 | BA21: =P21+Q21+R21+S21+T21 -> 0 | BB21: =T21 -> 0 | BC21: =+U21+V21+W21 -> 0 | BD21: =Y21 -> 0 | BE21: =O21+X21 -> 0 | BF21: =AF21 -> 0 | BG21: =AD21+AE21 -> 0 | BH21: =AF21 -> 0 | BI21: =AG21+AH21 -> 0 | BJ21: =AM21 -> 0 | BK21: =AK21+AL21 -> 0 | BL21: =AM21 -> 0 | BM21: =AN21+AO21 -> 0
A22: 1.6 | B22: ¶áõÛùÝ áõñÇßÇ ³åûñÇÝÇ ïÇñ³å»ïáõÙÇó »ï í»ñ³¹³ñÓÝ»Éáõ í»ñ³µ»ñÛ³É | E22: 1 | G22: 1 | O22: 1 | P22: 1 | Y22: 1 | AT22: =E22 -> 1 | AU22: =F22+G22+H22+I22 -> 1 | AV22: =J22 -> 0 | AW22: =K22+L22+M22 -> 0 | AX22: =F22+G22+K22 -> 1 | AY22: =N22+Y22+Z22+AB22 -> 1 | AZ22: =O22 -> 1 | BA22: =P22+Q22+R22+S22+T22 -> 1 | BB22: =T22 -> 0 | BC22: =+U22+V22+W22 -> 0 | BD22: =Y22 -> 1 | BE22: =O22+X22 -> 1 | BF22: =AF22 -> 0 | BG22: =AD22+AE22 -> 0 | BH22: =AF22 -> 0 | BI22: =AG22+AH22 -> 0 | BJ22: =AM22 -> 0 | BK22: =AK22+AL22 -> 0 | BL22: =AM22 -> 0 | BM22: =AN22+AO22 -> 0
A23: 1.6.1 | B23: ´³ñ»ËÇÕ× Ó»éùµ»ñáÕÇó Çñ ·áõÛùÁ Ñ»ï å³Ñ³Ýç»Éáõ í»ñ³µ»ñÛ³É | AT23: =E23 -> 0 | AU23: =F23+G23+H23+I23 -> 0 | AV23: =J23 -> 0 | AW23: =K23+L23+M23 -> 0 | AX23: =F23+G23+K23 -> 0 | AY23: =N23+Y23+Z23+AB23 -> 0 | AZ23: =O23 -> 0 | BA23: =P23+Q23+R23+S23+T23 -> 0 | BB23: =T23 -> 0 | BC23: =+U23+V23+W23 -> 0 | BD23: =Y23 -> 0 | BE23: =O23+X23 -> 0 | BF23: =AF23 -> 0 | BG23: =AD23+AE23 -> 0 | BH23: =AF23 -> 0 | BI23: =AG23+AH23 -> 0 | BJ23: =AM23 -> 0 | BK23: =AK23+AL23 -> 0 | BL23: =AM23 -> 0 | BM23: =AN23+AO23 -> 0
A24: 1.7 | B24: îÇñ³å»ïáõÙÇó ½ñÏ»Éáõ Ñ»ï ãÏ³åí³Í Çñ³íáõÝùÝ»ñÇ Ë³ËïáõÙÁ í»ñ³óÝ»Éáõ í»ñ³µ»ñÛ³É | AT24: =E24 -> 0 | AU24: =F24+G24+H24+I24 -> 0 | AV24: =J24 -> 0 | AW24: =K24+L24+M24 -> 0 | AX24: =F24+G24+K24 -> 0 | AY24: =N24+Y24+Z24+AB24 -> 0 | AZ24: =O24 -> 0 | BA24: =P24+Q24+R24+S24+T24 -> 0 | BB24: =T24 -> 0 | BC24: =+U24+V24+W24 -> 0 | BD24: =Y24 -> 0 | BE24: =O24+X24 -> 0 | BF24: =AF24 -> 0 | BG24: =AD24+AE24 -> 0 | BH24: =AF24 -> 0 | BI24: =AG24+AH24 -> 0 | BJ24: =AM24 -> 0 | BK24: =AK24+AL24 -> 0 | BL24: =AM24 -> 0 | BM24: =AN24+AO24 -> 0
A25: 1.8 | B25: ÀÝ¹Ñ³Ýáõñ µ³ÅÝ³ÛÇÝ ë»÷³Ï³ÝáõÃÛáõÝÇó µ³ÅÇÝÝ ³é³ÝÓÝ³óÝ»Éáõ í»ñ³µ»ñÛ³É | E25: 6 | F25: 4 | G25: 2 | J25: 2 | K25: 2 | O25: 2 | P25: 2 | Y25: 2 | AB25: 6 | AC25: 3 | AT25: =E25 -> 6 | AU25: =F25+G25+H25+I25 -> 6 | AV25: =J25 -> 2 | AW25: =K25+L25+M25 -> 2 | AX25: =F25+G25+K25 -> 8 | AY25: =N25+Y25+Z25+AB25 -> 8 | AZ25: =O25 -> 2 | BA25: =P25+Q25+R25+S25+T25 -> 2 | BB25: =T25 -> 0 | BC25: =+U25+V25+W25 -> 0 | BD25: =Y25 -> 2 | BE25: =O25+X25 -> 2 | BF25: =AF25 -> 0 | BG25: =AD25+AE25 -> 0 | BH25: =AF25 -> 0 | BI25: =AG25+AH25 -> 0 | BJ25: =AM25 -> 0 | BK25: =AK25+AL25 -> 0 | BL25: =AM25 -> 0 | BM25: =AN25+AO25 -> 0
A26: 1.8.1 | B26: Ð³Ù³ï»Õ ë»÷³Ï³ÝáõÃÛ³Ý Ý»ñùá ·ïÝíáÕ ·áõÛùÁ µ³Å³Ý»Éáõ ¨ ¹ñ³ÝÇó µ³ÅÇÝÝ ³é³ÝÓÝ³óÝ»Éáõ í»ñ³µ»ñÛ³É | E26: 4 | F26: 1 | G26: 3 | J26: 2 | K26: 1 | L26: 1 | O26: 2 | P26: 2 | Y26: 2 | AA26: 1 | AB26: 3 | AC26: 2 | AT26: =E26 -> 4 | AU26: =F26+G26+H26+I26 -> 4 | AV26: =J26 -> 2 | AW26: =K26+L26+M26 -> 2 | AX26: =F26+G26+K26 -> 5 | AY26: =N26+Y26+Z26+AB26 -> 5 | AZ26: =O26 -> 2 | BA26: =P26+Q26+R26+S26+T26 -> 2 | BB26: =T26 -> 0 | BC26: =+U26+V26+W26 -> 0 | BD26: =Y26 -> 2 | BE26: =O26+X26 -> 2 | BF26: =AF26 -> 0 | BG26: =AD26+AE26 -> 0 | BH26: =AF26 -> 0 | BI26: =AG26+AH26 -> 0 | BJ26: =AM26 -> 0 | BK26: =AK26+AL26 -> 0 | BL26: =AM26 -> 0 | BM26: =AN26+AO26 -> 0
A27: 1.8.3 | B27: ¶áõÛùÇ íñ³ µéÝ³·³ÝÓáõÙ ï³ñ³Í»Éáõ å³Ñ³ÝçÇ Ù³ëÇÝ | E27: 3 | F27: 3 | AB27: 3 | AC27: 3 | AT27: =E27 -> 3 | AU27: =F27+G27+H27+I27 -> 3 | AV27: =J27 -> 0 | AW27: =K27+L27+M27 -> 0 | AX27: =F27+G27+K27 -> 3 | AY27: =N27+Y27+Z27+AB27 -> 3 | AZ27: =O27 -> 0 | BA27: =P27+Q27+R27+S27+T27 -> 0 | BB27: =T27 -> 0 | BC27: =+U27+V27+W27 -> 0 | BD27: =Y27 -> 0 | BE27: =O27+X27 -> 0 | BF27: =AF27 -> 0 | BG27: =AD27+AE27 -> 0 | BH27: =AF27 -> 0 | BI27: =AG27+AH27 -> 0 | BJ27: =AM27 -> 0 | BK27: =AK27+AL27 -> 0 | BL27: =AM27 -> 0 | BM27: =AN27+AO27 -> 0
A28: 1.9 | B28: ²ÛÉ í»×»ñ | E28: 5 | F28: 4 | G28: 1 | AB28: 5 | AC28: 4 | AT28: =E28 -> 5 | AU28: =F28+G28+H28+I28 -> 5 | AV28: =J28 -> 0 | AW28: =K28+L28+M28 -> 0 | AX28: =F28+G28+K28 -> 5 | AY28: =N28+Y28+Z28+AB28 -> 5 | AZ28: =O28 -> 0 | BA28: =P28+Q28+R28+S28+T28 -> 0 | BB28: =T28 -> 0 | BC28: =+U28+V28+W28 -> 0 | BD28: =Y28 -> 0 | BE28: =O28+X28 -> 0 | BF28: =AF28 -> 0 | BG28: =AD28+AE28 -> 0 | BH28: =AF28 -> 0 | BI28: =AG28+AH28 -> 0 | BJ28: =AM28 -> 0 | BK28: =AK28+AL28 -> 0 | BL28: =AM28 -> 0 | BM28: =AN28+AO28 -> 0
A29: 2. | B29: ¶áñÍ³ñùÝ»ñÇ Ñ»ï Ï³åí³Í Çñ³í³Ñ³ñ³µ»ñáõÃÛáõÝÝ»ñÇ í»ñ³µ»ñÛ³É ¹³ï³Ï³Ý ·áñÍ»ñ | E29: =SUM(E30:E40) -> 0 | F29: =SUM(F30:F40) -> 0 | G29: =SUM(G30:G40) -> 0 | H29: =SUM(H30:H40) -> 0 | I29: =SUM(I30:I40) -> 0 | J29: =SUM(J30:J40) -> 1 | K29: =SUM(K30:K40) -> 1 | L29: =SUM(L30:L40) -> 0 | ... BC29: =SUM(BC30:BC40) -> 0 | BD29: =Y29 -> 0 | BE29: =O29+X29 -> 0 | BF29: =SUM(BF30:BF40) -> 1 | BG29: =SUM(BG30:BG40) -> 1 | BH29: =SUM(BH30:BH40) -> 1 | BI29: =SUM(BI30:BI40) -> 1 | BJ29: =SUM(BJ30:BJ40) -> 1 | BK29: =SUM(BK30:BK40) -> 1 | BL29: =SUM(BL30:BL40) -> 1 | BM29: =SUM(BM30:BM40) -> 1
A30: 2.1 | B30: ·áñÍ³ñùÝ»ñÇ ³Ýí³í»ñáõÃÛ³Ý Ñ»ï Ï³åí³Í í»×»ñ | J30: 1 | K30: 1 | AB30: 1 | AE30: 1 | AF30: 1 | AH30: 1 | AL30: 1 | AM30: 1 | AO30: 1 | AT30: =E30 -> 0 | AU30: =F30+G30+H30+I30 -> 0 | AV30: =J30 -> 1 | AW30: =K30+L30+M30 -> 1 | AX30: =F30+G30+K30 -> 1 | AY30: =N30+Y30+Z30+AB30 -> 1 | AZ30: =O30 -> 0 | BA30: =P30+Q30+R30+S30+T30 -> 0 | BB30: =T30 -> 0 | BC30: =+U30+V30+W30 -> 0 | BD30: =Y30 -> 0 | BE30: =O30+X30 -> 0 | BF30: =AF30 -> 1 | BG30: =AD30+AE30 -> 1 | BH30: =AF30 -> 1 | BI30: =AG30+AH30 -> 1 | BJ30: =AM30 -> 1 | BK30: =AK30+AL30 -> 1 | BL30: =AM30 -> 1 | BM30: =AN30+AO30 -> 1
A31: 2.1.1 | B31: ³Û¹ ÃíáõÙ` íÇ×³Ñ³ñáõÛó ·áñÍ³ñùÝ»ñÝ ³Ýí³í»ñ ×³Ý³ã»Éáõ í»ñ³µ»ñÛ³É | AT31: =E31 -> 0 | AU31: =F31+G31+H31+I31 -> 0 | AV31: =J31 -> 0 | AW31: =K31+L31+M31 -> 0 | AX31: =F31+G31+K31 -> 0 | AY31: =N31+Y31+Z31+AB31 -> 0 | AZ31: =O31 -> 0 | BA31: =P31+Q31+R31+S31+T31 -> 0 | BB31: =T31 -> 0 | BC31: =+U31+V31+W31 -> 0 | BD31: =Y31 -> 0 | BE31: =O31+X31 -> 0 | BF31: =AF31 -> 0 | BG31: =AD31+AE31 -> 0 | BH31: =AF31 -> 0 | BI31: =AG31+AH31 -> 0 | BJ31: =AM31 -> 0 | BK31: =AK31+AL31 -> 0 | BL31: =AM31 -> 0 | BM31: =AN31+AO31 -> 0
A32: 2.1.2 | B32: ³Û¹ ÃíáõÙ` ·áñÍ³ñùÇ ³éáãÝãáõÃÛ³Ý Ñ»ï¨³ÝùÝ»ñ ÏÇñ³é»Éáõ í»ñ³µ»ñÛ³É | AT32: =E32 -> 0 | AU32: =F32+G32+H32+I32 -> 0 | AV32: =J32 -> 0 | AW32: =K32+L32+M32 -> 0 | AX32: =F32+G32+K32 -> 0 | AY32: =N32+Y32+Z32+AB32 -> 0 | AZ32: =O32 -> 0 | BA32: =P32+Q32+R32+S32+T32 -> 0 | BB32: =T32 -> 0 | BC32: =+U32+V32+W32 -> 0 | BD32: =Y32 -> 0 | BE32: =O32+X32 -> 0 | BF32: =AF32 -> 0 | BG32: =AD32+AE32 -> 0 | BH32: =AF32 -> 0 | BI32: =AG32+AH32 -> 0 | BJ32: =AM32 -> 0 | BK32: =AK32+AL32 -> 0 | BL32: =AM32 -> 0 | BM32: =AN32+AO32 -> 0
A33: 2.2 | B33: ¶áñÍ³ñùÁ í³í»ñ ×³Ý³ã»Éáõ í»ñ³µ»ñÛ³É | AT33: =E33 -> 0 | AU33: =F33+G33+H33+I33 -> 0 | AV33: =J33 -> 0 | AW33: =K33+L33+M33 -> 0 | AX33: =F33+G33+K33 -> 0 | AY33: =N33+Y33+Z33+AB33 -> 0 | AZ33: =O33 -> 0 | BA33: =P33+Q33+R33+S33+T33 -> 0 | BB33: =T33 -> 0 | BC33: =+U33+V33+W33 -> 0 | BD33: =Y33 -> 0 | BE33: =O33+X33 -> 0 | BF33: =AF33 -> 0 | BG33: =AD33+AE33 -> 0 | BH33: =AF33 -> 0 | BI33: =AG33+AH33 -> 0 | BJ33: =AM33 -> 0 | BK33: =AK33+AL33 -> 0 | BL33: =AM33 -> 0 | BM33: =AN33+AO33 -> 0
A34: 2.3 | B34: ¶áñÍ³ñùÇó Í³·áÕ Çñ³íáõÝùÝ»ñÁ ·ñ³Ýó»Éáõ í»ñ³µ»ñÛ³É | AT34: =E34 -> 0 | AU34: =F34+G34+H34+I34 -> 0 | AV34: =J34 -> 0 | AW34: =K34+L34+M34 -> 0 | AX34: =F34+G34+K34 -> 0 | AY34: =N34+Y34+Z34+AB34 -> 0 | AZ34: =O34 -> 0 | BA34: =P34+Q34+R34+S34+T34 -> 0 | BB34: =T34 -> 0 | BC34: =+U34+V34+W34 -> 0 | BD34: =Y34 -> 0 | BE34: =O34+X34 -> 0 | BF34: =AF34 -> 0 | BG34: =AD34+AE34 -> 0 | BH34: =AF34 -> 0 | BI34: =AG34+AH34 -> 0 | BJ34: =AM34 -> 0 | BK34: =AK34+AL34 -> 0 | BL34: =AM34 -> 0 | BM34: =AN34+AO34 -> 0
A35: 2.4 | B35: ä³ÛÙ³Ý³·ÇñÝ ³Ýí³í»ñ ×³Ý³ã»Éáõ í»ñ³µ»ñÛ³É | AT35: =E35 -> 0 | AU35: =F35+G35+H35+I35 -> 0 | AV35: =J35 -> 0 | AW35: =K35+L35+M35 -> 0 | AX35: =F35+G35+K35 -> 0 | AY35: =N35+Y35+Z35+AB35 -> 0 | AZ35: =O35 -> 0 | BA35: =P35+Q35+R35+S35+T35 -> 0 | BB35: =T35 -> 0 | BC35: =+U35+V35+W35 -> 0 | BD35: =Y35 -> 0 | BE35: =O35+X35 -> 0 | BF35: =AF35 -> 0 | BG35: =AD35+AE35 -> 0 | BH35: =AF35 -> 0 | BI35: =AG35+AH35 -> 0 | BJ35: =AM35 -> 0 | BK35: =AK35+AL35 -> 0 | BL35: =AM35 -> 0 | BM35: =AN35+AO35 -> 0
A36: 2.5 | B36: ä³ÛÙ³Ý³·ñÇÁ í³í»ñ ×³Ý³ã»Éáõ í»ñ³µ»ñÛ³É | AT36: =E36 -> 0 | AU36: =F36+G36+H36+I36 -> 0 | AV36: =J36 -> 0 | AW36: =K36+L36+M36 -> 0 | AX36: =F36+G36+K36 -> 0 | AY36: =N36+Y36+Z36+AB36 -> 0 | AZ36: =O36 -> 0 | BA36: =P36+Q36+R36+S36+T36 -> 0 | BB36: =T36 -> 0 | BC36: =+U36+V36+W36 -> 0 | BD36: =Y36 -> 0 | BE36: =O36+X36 -> 0 | BF36: =AF36 -> 0 | BG36: =AD36+AE36 -> 0 | BH36: =AF36 -> 0 | BI36: =AG36+AH36 -> 0 | BJ36: =AM36 -> 0 | BK36: =AK36+AL36 -> 0 | BL36: =AM36 -> 0 | BM36: =AN36+AO36 -> 0
A37: 2.6 | B37: ä³ÛÙ³Ý³·ñÇó Í³·áÕ Çñ³íáõÝùÝ»ñÁ ·ñ³Ýó»Éáõ í»ñ³µ»ñÛ³É | AT37: =E37 -> 0 | AU37: =F37+G37+H37+I37 -> 0 | AV37: =J37 -> 0 | AW37: =K37+L37+M37 -> 0 | AX37: =F37+G37+K37 -> 0 | AY37: =N37+Y37+Z37+AB37 -> 0 | AZ37: =O37 -> 0 | BA37: =P37+Q37+R37+S37+T37 -> 0 | BB37: =T37 -> 0 | BC37: =+U37+V37+W37 -> 0 | BD37: =Y37 -> 0 | BE37: =O37+X37 -> 0 | BF37: =AF37 -> 0 | BG37: =AD37+AE37 -> 0 | BH37: =AF37 -> 0 | BI37: =AG37+AH37 -> 0 | BJ37: =AM37 -> 0 | BK37: =AK37+AL37 -> 0 | BL37: =AM37 -> 0 | BM37: =AN37+AO37 -> 0
A38: 2.7 | B38: ä³ÛÙ³Ý³·ÇñÁ ÷á÷áË»Éáõ ¨ ÉáõÍ»Éáõ í»ñ³µ»ñÛ³É | AT38: =E38 -> 0 | AU38: =F38+G38+H38+I38 -> 0 | AV38: =J38 -> 0 | AW38: =K38+L38+M38 -> 0 | AX38: =F38+G38+K38 -> 0 | AY38: =N38+Y38+Z38+AB38 -> 0 | AZ38: =O38 -> 0 | BA38: =P38+Q38+R38+S38+T38 -> 0 | BB38: =T38 -> 0 | BC38: =+U38+V38+W38 -> 0 | BD38: =Y38 -> 0 | BE38: =O38+X38 -> 0 | BF38: =AF38 -> 0 | BG38: =AD38+AE38 -> 0 | BH38: =AF38 -> 0 | BI38: =AG38+AH38 -> 0 | BJ38: =AM38 -> 0 | BK38: =AK38+AL38 -> 0 | BL38: =AM38 -> 0 | BM38: =AN38+AO38 -> 0
A39: 2.8 | B39: ä³ÛÙ³Ý³·Çñ ÏÝù»ÉáõÝ å³ñï³íáñ»óÝ»Éáõ í»ñ³µ»ñÛ³É | AT39: =E39 -> 0 | AU39: =F39+G39+H39+I39 -> 0 | AV39: =J39 -> 0 | AW39: =K39+L39+M39 -> 0 | AX39: =F39+G39+K39 -> 0 | AY39: =N39+Y39+Z39+AB39 -> 0 | AZ39: =O39 -> 0 | BA39: =P39+Q39+R39+S39+T39 -> 0 | BB39: =T39 -> 0 | BC39: =+U39+V39+W39 -> 0 | BD39: =Y39 -> 0 | BE39: =O39+X39 -> 0 | BF39: =AF39 -> 0 | BG39: =AD39+AE39 -> 0 | BH39: =AF39 -> 0 | BI39: =AG39+AH39 -> 0 | BJ39: =AM39 -> 0 | BK39: =AK39+AL39 -> 0 | BL39: =AM39 -> 0 | BM39: =AN39+AO39 -> 0
A40: 2.9 | B40: ²ÛÉ í»×»ñ | AT40: =E40 -> 0 | AU40: =F40+G40+H40+I40 -> 0 | AV40: =J40 -> 0 | AW40: =K40+L40+M40 -> 0 | AX40: =F40+G40+K40 -> 0 | AY40: =N40+Y40+Z40+AB40 -> 0 | AZ40: =O40 -> 0 | BA40: =P40+Q40+R40+S40+T40 -> 0 | BB40: =T40 -> 0 | BC40: =+U40+V40+W40 -> 0 | BD40: =Y40 -> 0 | BE40: =O40+X40 -> 0 | BF40: =AF40 -> 0 | BG40: =AD40+AE40 -> 0 | BH40: =AF40 -> 0 | BI40: =AG40+AH40 -> 0 | BJ40: =AM40 -> 0 | BK40: =AK40+AL40 -> 0 | BL40: =AM40 -> 0 | BM40: =AN40+AO40 -> 0
A41: 3. | B41: Ä³é³Ý·áõÃÛ³Ý Ñ»ï Ï³åí³Í Çñ³í³Ñ³ñ³µ»ñáõÃÛáõÝÝ»ñÇ í»ñ³µ»ñÛ³É ¹³ï³Ï³Ý ·áñÍ»ñ | E41: =SUM(E42:E48) -> 0 | F41: =SUM(F42:F48) -> 0 | G41: =SUM(G42:G48) -> 0 | H41: =SUM(H42:H48) -> 0 | I41: =SUM(I42:I48) -> 0 | J41: =SUM(J42:J48) -> 0 | K41: =SUM(K42:K48) -> 0 | L41: =SUM(L42:L48) -> 0 | ... BC41: =SUM(BC42:BC48) -> 0 | BD41: =Y41 -> 0 | BE41: =O41+X41 -> 0 | BF41: =SUM(BF42:BF48) -> 0 | BG41: =SUM(BG42:BG48) -> 0 | BH41: =SUM(BH42:BH48) -> 0 | BI41: =SUM(BI42:BI48) -> 0 | BJ41: =SUM(BJ42:BJ48) -> 0 | BK41: =SUM(BK42:BK48) -> 0 | BL41: =SUM(BL42:BL48) -> 0 | BM41: =SUM(BM42:BM48) -> 0
A42: 3.1 | B42: Îï³ÏÝ ³Ýí³í»ñ ×³Ý³ã»Éáõ í»ñ³µ»ñÛ³É | AT42: =E42 -> 0 | AU42: =F42+G42+H42+I42 -> 0 | AV42: =J42 -> 0 | AW42: =K42+L42+M42 -> 0 | AX42: =F42+G42+K42 -> 0 | AY42: =N42+Y42+Z42+AB42 -> 0 | AZ42: =O42 -> 0 | BA42: =P42+Q42+R42+S42+T42 -> 0 | BB42: =T42 -> 0 | BC42: =+U42+V42+W42 -> 0 | BD42: =Y42 -> 0 | BE42: =O42+X42 -> 0 | BF42: =AF42 -> 0 | BG42: =AD42+AE42 -> 0 | BH42: =AF42 -> 0 | BI42: =AG42+AH42 -> 0 | BJ42: =AM42 -> 0 | BK42: =AK42+AL42 -> 0 | BL42: =AM42 -> 0 | BM42: =AN42+AO42 -> 0
A43: 3.2 | B43: ²Ý³ñÅ³Ý Å³é³Ý· ×³Ý³ã»Éáõ í»ñ³µ»ñÛ³É | AT43: =E43 -> 0 | AU43: =F43+G43+H43+I43 -> 0 | AV43: =J43 -> 0 | AW43: =K43+L43+M43 -> 0 | AX43: =F43+G43+K43 -> 0 | AY43: =N43+Y43+Z43+AB43 -> 0 | AZ43: =O43 -> 0 | BA43: =P43+Q43+R43+S43+T43 -> 0 | BB43: =T43 -> 0 | BC43: =+U43+V43+W43 -> 0 | BD43: =Y43 -> 0 | BE43: =O43+X43 -> 0 | BF43: =AF43 -> 0 | BG43: =AD43+AE43 -> 0 | BH43: =AF43 -> 0 | BI43: =AG43+AH43 -> 0 | BJ43: =AM43 -> 0 | BK43: =AK43+AL43 -> 0 | BL43: =AM43 -> 0 | BM43: =AN43+AO43 -> 0
A44: 3.3 | B44: Ä³é³Ý·áõÃÛáõÝÁ µ³Å³Ý»Éáõ í»ñ³µ»ñÛ³É | AT44: =E44 -> 0 | AU44: =F44+G44+H44+I44 -> 0 | AV44: =J44 -> 0 | AW44: =K44+L44+M44 -> 0 | AX44: =F44+G44+K44 -> 0 | AY44: =N44+Y44+Z44+AB44 -> 0 | AZ44: =O44 -> 0 | BA44: =P44+Q44+R44+S44+T44 -> 0 | BB44: =T44 -> 0 | BC44: =+U44+V44+W44 -> 0 | BD44: =Y44 -> 0 | BE44: =O44+X44 -> 0 | BF44: =AF44 -> 0 | BG44: =AD44+AE44 -> 0 | BH44: =AF44 -> 0 | BI44: =AG44+AH44 -> 0 | BJ44: =AM44 -> 0 | BK44: =AK44+AL44 -> 0 | BL44: =AM44 -> 0 | BM44: =AN44+AO44 -> 0
A45: 3.4 | B45: ¶áõÛùÝ ³ÝÅ³é³Ý· ×³Ý³ã»Éáõ í»ñ³µ»ñÛ³É | AT45: =E45 -> 0 | AU45: =F45+G45+H45+I45 -> 0 | AV45: =J45 -> 0 | AW45: =K45+L45+M45 -> 0 | AX45: =F45+G45+K45 -> 0 | AY45: =N45+Y45+Z45+AB45 -> 0 | AZ45: =O45 -> 0 | BA45: =P45+Q45+R45+S45+T45 -> 0 | BB45: =T45 -> 0 | BC45: =+U45+V45+W45 -> 0 | BD45: =Y45 -> 0 | BE45: =O45+X45 -> 0 | BF45: =AF45 -> 0 | BG45: =AD45+AE45 -> 0 | BH45: =AF45 -> 0 | BI45: =AG45+AH45 -> 0 | BJ45: =AM45 -> 0 | BK45: =AK45+AL45 -> 0 | BL45: =AM45 -> 0 | BM45: =AN45+AO45 -> 0
A46: 3.5 | B46: Àëï ûñ»ÝùÇ Å³é³Ý·áõÃÛ³Ý Çñ³íáõÝùÇ íÏ³Û³·ÇñÝ ³Ýí³í»ñ ×³Ý³ã»Éáõ í»ñ³µ»ñÛ³É | AT46: =E46 -> 0 | AU46: =F46+G46+H46+I46 -> 0 | AV46: =J46 -> 0 | AW46: =K46+L46+M46 -> 0 | AX46: =F46+G46+K46 -> 0 | AY46: =N46+Y46+Z46+AB46 -> 0 | AZ46: =O46 -> 0 | BA46: =P46+Q46+R46+S46+T46 -> 0 | BB46: =T46 -> 0 | BC46: =+U46+V46+W46 -> 0 | BD46: =Y46 -> 0 | BE46: =O46+X46 -> 0 | BF46: =AF46 -> 0 | BG46: =AD46+AE46 -> 0 | BH46: =AF46 -> 0 | BI46: =AG46+AH46 -> 0 | BJ46: =AM46 -> 0 | BK46: =AK46+AL46 -> 0 | BL46: =AM46 -> 0 | BM46: =AN46+AO46 -> 0
A47: 3.6 | B47: Ä³é³Ý·áõÃÛáõÝÝ ÁÝ¹áõÝ»Éáõ µ³ó ÃáÕÝí³Í Å³ÙÏ»ïÁ Ñ³ñ·»ÉÇ Ñ³Ù³ñ»Éáõ í»ñ³µ»ñÛ³É | AT47: =E47 -> 0 | AU47: =F47+G47+H47+I47 -> 0 | AV47: =J47 -> 0 | AW47: =K47+L47+M47 -> 0 | AX47: =F47+G47+K47 -> 0 | AY47: =N47+Y47+Z47+AB47 -> 0 | AZ47: =O47 -> 0 | BA47: =P47+Q47+R47+S47+T47 -> 0 | BB47: =T47 -> 0 | BC47: =+U47+V47+W47 -> 0 | BD47: =Y47 -> 0 | BE47: =O47+X47 -> 0 | BF47: =AF47 -> 0 | BG47: =AD47+AE47 -> 0 | BH47: =AF47 -> 0 | BI47: =AG47+AH47 -> 0 | BJ47: =AM47 -> 0 | BK47: =AK47+AL47 -> 0 | BL47: =AM47 -> 0 | BM47: =AN47+AO47 -> 0
A48: 3.7 | B48: ²ÛÉ í»×»ñ | AT48: =E48 -> 0 | AU48: =F48+G48+H48+I48 -> 0 | AV48: =J48 -> 0 | AW48: =K48+L48+M48 -> 0 | AX48: =F48+G48+K48 -> 0 | AY48: =N48+Y48+Z48+AB48 -> 0 | AZ48: =O48 -> 0 | BA48: =P48+Q48+R48+S48+T48 -> 0 | BB48: =T48 -> 0 | BC48: =+U48+V48+W48 -> 0 | BD48: =Y48 -> 0 | BE48: =O48+X48 -> 0 | BF48: =AF48 -> 0 | BG48: =AD48+AE48 -> 0 | BH48: =AF48 -> 0 | BI48: =AG48+AH48 -> 0 | BJ48: =AM48 -> 0 | BK48: =AK48+AL48 -> 0 | BL48: =AM48 -> 0 | BM48: =AN48+AO48 -> 0
A49: 4 | B49: ÀÝï³Ý»Ï³Ý Çñ³í³Ñ³ñ³µ»ñáõÃÛáõÝÝ»ñÇ í»ñ³µ»ñÛ³É ¹³ï³Ï³Ý ·áñÍ»ñ | E49: =SUM(E50:E62) -> 7 | F49: =SUM(F50:F62) -> 0 | G49: =SUM(G50:G62) -> 7 | H49: =SUM(H50:H62) -> 0 | I49: =SUM(I50:I62) -> 0 | J49: =SUM(J50:J62) -> 12 | K49: =SUM(K50:K62) -> 12 | L49: =SUM(L50:L62) -> 0 | ... BM49: =SUM(BM50:BM62) -> 0
A50: 4.1 | B50: ²ÙáõëÝ³ÉáõÍáõÃÛ³Ý í»ñ³µ»ñÛ³É | E50: 5 | G50: 5 | J50: 6 | K50: 6 | O50: 9 | P50: 6 | Q50: 2 | T50: 1 | V50: 1 | Y50: 9 | AB50: 2 | AT50: =E50 -> 5 | AU50: =F50+G50+H50+I50 -> 5 | AV50: =J50 -> 6 | AW50: =K50+L50+M50 -> 6 | AX50: =F50+G50+K50 -> 11 | AY50: =N50+Y50+Z50+AB50 -> 11 | AZ50: =O50 -> 9 | BA50: =P50+Q50+R50+S50+T50 -> 9 | BB50: =T50 -> 1 | BC50: =+U50+V50+W50 -> 1 | BD50: =Y50 -> 9 | BE50: =O50+X50 -> 9 | BF50: =AF50 -> 0 | BG50: =AD50+AE50 -> 0 | BH50: =AF50 -> 0 | BI50: =AG50+AH50 -> 0 | BJ50: =AM50 -> 0 | BK50: =AK50+AL50 -> 0 | BL50: =AM50 -> 0 | BM50: =AN50+AO50 -> 0
A51: 4.2 | B51: ²ÉÇÙ»ÝïÇ å³Ñ³ÝçÇ í»ñ³µ»ñÛ³É | E51: 2 | G51: 2 | J51: 1 | K51: 1 | O51: 2 | P51: 1 | Q51: 1 | Y51: 2 | AB51: 1 | AT51: =E51 -> 2 | AU51: =F51+G51+H51+I51 -> 2 | AV51: =J51 -> 1 | AW51: =K51+L51+M51 -> 1 | AX51: =F51+G51+K51 -> 3 | AY51: =N51+Y51+Z51+AB51 -> 3 | AZ51: =O51 -> 2 | BA51: =P51+Q51+R51+S51+T51 -> 2 | BB51: =T51 -> 0 | BC51: =+U51+V51+W51 -> 0 | BD51: =Y51 -> 2 | BE51: =O51+X51 -> 2 | BF51: =AF51 -> 0 | BG51: =AD51+AE51 -> 0 | BH51: =AF51 -> 0 | BI51: =AG51+AH51 -> 0 | BJ51: =AM51 -> 0 | BK51: =AK51+AL51 -> 0 | BL51: =AM51 -> 0 | BM51: =AN51+AO51 -> 0
A52: 4.3 | B52: ²ÉÇÙ»ÝïÇ ã³÷Á ÷á÷áË»Éáõ í»ñ³µ»ñÛ³É | J52: 1 | K52: 1 | O52: 1 | R52: 1 | Y52: 1 | AT52: =E52 -> 0 | AU52: =F52+G52+H52+I52 -> 0 | AV52: =J52 -> 1 | AW52: =K52+L52+M52 -> 1 | AX52: =F52+G52+K52 -> 1 | AY52: =N52+Y52+Z52+AB52 -> 1 | AZ52: =O52 -> 1 | BA52: =P52+Q52+R52+S52+T52 -> 1 | BB52: =T52 -> 0 | BC52: =+U52+V52+W52 -> 0 | BD52: =Y52 -> 1 | BE52: =O52+X52 -> 1 | BF52: =AF52 -> 0 | BG52: =AD52+AE52 -> 0 | BH52: =AF52 -> 0 | BI52: =AG52+AH52 -> 0 | BJ52: =AM52 -> 0 | BK52: =AK52+AL52 -> 0 | BL52: =AM52 -> 0 | BM52: =AN52+AO52 -> 0
A53: 4.4 | B53: ÌÝáÕ³Ï³Ý Çñ³íáõÝùÝ»ñÇó ½ñÏ»Éáõ í»ñ³µ»ñÛ³É | AT53: =E53 -> 0 | AU53: =F53+G53+H53+I53 -> 0 | AV53: =J53 -> 0 | AW53: =K53+L53+M53 -> 0 | AX53: =F53+G53+K53 -> 0 | AY53: =N53+Y53+Z53+AB53 -> 0 | AZ53: =O53 -> 0 | BA53: =P53+Q53+R53+S53+T53 -> 0 | BB53: =T53 -> 0 | BC53: =+U53+V53+W53 -> 0 | BD53: =Y53 -> 0 | BE53: =O53+X53 -> 0 | BF53: =AF53 -> 0 | BG53: =AD53+AE53 -> 0 | BH53: =AF53 -> 0 | BI53: =AG53+AH53 -> 0 | BJ53: =AM53 -> 0 | BK53: =AK53+AL53 -> 0 | BL53: =AM53 -> 0 | BM53: =AN53+AO53 -> 0
A54: 4.5 | B54: ÌÝáÕ³Ï³Ý Çñ³íáõÝùÝ»ñÁ í»ñ³Ï³Ý·Ý»Éáõ í»ñ³µ»ñÛ³É | AT54: =E54 -> 0 | AU54: =F54+G54+H54+I54 -> 0 | AV54: =J54 -> 0 | AW54: =K54+L54+M54 -> 0 | AX54: =F54+G54+K54 -> 0 | AY54: =N54+Y54+Z54+AB54 -> 0 | AZ54: =O54 -> 0 | BA54: =P54+Q54+R54+S54+T54 -> 0 | BB54: =T54 -> 0 | BC54: =+U54+V54+W54 -> 0 | BD54: =Y54 -> 0 | BE54: =O54+X54 -> 0 | BF54: =AF54 -> 0 | BG54: =AD54+AE54 -> 0 | BH54: =AF54 -> 0 | BI54: =AG54+AH54 -> 0 | BJ54: =AM54 -> 0 | BK54: =AK54+AL54 -> 0 | BL54: =AM54 -> 0 | BM54: =AN54+AO54 -> 0
A55: 4.6 | B55: ºñ»Ë³ÛÇ áñ¹»·ñÙ³Ý í»ñ³µ»ñÛ³É | J55: 1 | K55: 1 | AB55: 1 | AT55: =E55 -> 0 | AU55: =F55+G55+H55+I55 -> 0 | AV55: =J55 -> 1 | AW55: =K55+L55+M55 -> 1 | AX55: =F55+G55+K55 -> 1 | AY55: =N55+Y55+Z55+AB55 -> 1 | AZ55: =O55 -> 0 | BA55: =P55+Q55+R55+S55+T55 -> 0 | BB55: =T55 -> 0 | BC55: =+U55+V55+W55 -> 0 | BD55: =Y55 -> 0 | BE55: =O55+X55 -> 0 | BF55: =AF55 -> 0 | BG55: =AD55+AE55 -> 0 | BH55: =AF55 -> 0 | BI55: =AG55+AH55 -> 0 | BJ55: =AM55 -> 0 | BK55: =AK55+AL55 -> 0 | BL55: =AM55 -> 0 | BM55: =AN55+AO55 -> 0
A56: 4.7 | B56: ºñ»Ë³ÛÇ áñ¹»·ñáõÙÁ í»ñ³óÝ»Éáõ í»ñ³µ»ñÛ³É | AT56: =E56 -> 0 | AU56: =F56+G56+H56+I56 -> 0 | AV56: =J56 -> 0 | AW56: =K56+L56+M56 -> 0 | AX56: =F56+G56+K56 -> 0 | AY56: =N56+Y56+Z56+AB56 -> 0 | AZ56: =O56 -> 0 | BA56: =P56+Q56+R56+S56+T56 -> 0 | BB56: =T56 -> 0 | BC56: =+U56+V56+W56 -> 0 | BD56: =Y56 -> 0 | BE56: =O56+X56 -> 0 | BF56: =AF56 -> 0 | BG56: =AD56+AE56 -> 0 | BH56: =AF56 -> 0 | BI56: =AG56+AH56 -> 0 | BJ56: =AM56 -> 0 | BK56: =AK56+AL56 -> 0 | BL56: =AM56 -> 0 | BM56: =AN56+AO56 -> 0
A57: 4.8 | B57: Ð³ÛñáõÃÛáõÝÁ ×³Ý³ã»Éáõ í»ñ³µ»ñÛ³É | J57: 1 | K57: 1 | O57: 1 | P57: 1 | Y57: 1 | AT57: =E57 -> 0 | AU57: =F57+G57+H57+I57 -> 0 | AV57: =J57 -> 1 | AW57: =K57+L57+M57 -> 1 | AX57: =F57+G57+K57 -> 1 | AY57: =N57+Y57+Z57+AB57 -> 1 | AZ57: =O57 -> 1 | BA57: =P57+Q57+R57+S57+T57 -> 1 | BB57: =T57 -> 0 | BC57: =+U57+V57+W57 -> 0 | BD57: =Y57 -> 1 | BE57: =O57+X57 -> 1 | BF57: =AF57 -> 0 | BG57: =AD57+AE57 -> 0 | BH57: =AF57 -> 0 | BI57: =AG57+AH57 -> 0 | BJ57: =AM57 -> 0 | BK57: =AK57+AL57 -> 0 | BL57: =AM57 -> 0 | BM57: =AN57+AO57 -> 0
A58: 4.9 | B58: ºñ»Ë³ÛÇ µÝ³ÏáõÃÛ³Ý í³ÛñÁ áñáß»Éáõ í»ñ³µ»ñÛ³É | J58: 1 | K58: 1 | AB58: 1 | AT58: =E58 -> 0 | AU58: =F58+G58+H58+I58 -> 0 | AV58: =J58 -> 1 | AW58: =K58+L58+M58 -> 1 | AX58: =F58+G58+K58 -> 1 | AY58: =N58+Y58+Z58+AB58 -> 1 | AZ58: =O58 -> 0 | BA58: =P58+Q58+R58+S58+T58 -> 0 | BB58: =T58 -> 0 | BC58: =+U58+V58+W58 -> 0 | BD58: =Y58 -> 0 | BE58: =O58+X58 -> 0 | BF58: =AF58 -> 0 | BG58: =AD58+AE58 -> 0 | BH58: =AF58 -> 0 | BI58: =AG58+AH58 -> 0 | BJ58: =AM58 -> 0 | BK58: =AK58+AL58 -> 0 | BL58: =AM58 -> 0 | BM58: =AN58+AO58 -> 0
A59: 4.10 | B59: ºñ»Ë³ÛÇ Ñ»ï ï»ë³ÏóáõÃÛ³Ý Ï³ñ· ë³ÑÙ³Ý»Éáõ í»ñ³µ»ñÛ³É | J59: 1 | K59: 1 | O59: 1 | P59: 1 | Y59: 1 | AT59: =E59 -> 0 | AU59: =F59+G59+H59+I59 -> 0 | AV59: =J59 -> 1 | AW59: =K59+L59+M59 -> 1 | AX59: =F59+G59+K59 -> 1 | AY59: =N59+Y59+Z59+AB59 -> 1 | AZ59: =O59 -> 1 | BA59: =P59+Q59+R59+S59+T59 -> 1 | BB59: =T59 -> 0 | BC59: =+U59+V59+W59 -> 0 | BD59: =Y59 -> 1 | BE59: =O59+X59 -> 1 | BF59: =AF59 -> 0 | BG59: =AD59+AE59 -> 0 | BH59: =AF59 -> 0 | BI59: =AG59+AH59 -> 0 | BJ59: =AM59 -> 0 | BK59: =AK59+AL59 -> 0 | BL59: =AM59 -> 0 | BM59: =AN59+AO59 -> 0
A60: 4.11 | B60: ²ÙáõëÇÝÝ»ñÇ ÁÝ¹Ñ³Ýáõñ ·áõÛùÁ µ³Å³Ý»Éáõ í»ñ³µ»ñÛ³É | AT60: =E60 -> 0 | AU60: =F60+G60+H60+I60 -> 0 | AV60: =J60 -> 0 | AW60: =K60+L60+M60 -> 0 | AX60: =F60+G60+K60 -> 0 | AY60: =N60+Y60+Z60+AB60 -> 0 | AZ60: =O60 -> 0 | BA60: =P60+Q60+R60+S60+T60 -> 0 | BB60: =T60 -> 0 | BC60: =+U60+V60+W60 -> 0 | BD60: =Y60 -> 0 | BE60: =O60+X60 -> 0 | BF60: =AF60 -> 0 | BG60: =AD60+AE60 -> 0 | BH60: =AF60 -> 0 | BI60: =AG60+AH60 -> 0 | BJ60: =AM60 -> 0 | BK60: =AK60+AL60 -> 0 | BL60: =AM60 -> 0 | BM60: =AN60+AO60 -> 0
A61: 4.12 | B61: ²ÙáõëÝ³Ï³Ý å³ÛÙ³Ý³·ñÇ ÷á÷áËÙ³Ý Ï³Ù ÉáõÍÙ³Ý í»ñ³µ»ñÛ³É | AT61: =E61 -> 0 | AU61: =F61+G61+H61+I61 -> 0 | AV61: =J61 -> 0 | AW61: =K61+L61+M61 -> 0 | AX61: =F61+G61+K61 -> 0 | AY61: =N61+Y61+Z61+AB61 -> 0 | AZ61: =O61 -> 0 | BA61: =P61+Q61+R61+S61+T61 -> 0 | BB61: =T61 -> 0 | BC61: =+U61+V61+W61 -> 0 | BD61: =Y61 -> 0 | BE61: =O61+X61 -> 0 | BF61: =AF61 -> 0 | BG61: =AD61+AE61 -> 0 | BH61: =AF61 -> 0 | BI61: =AG61+AH61 -> 0 | BJ61: =AM61 -> 0 | BK61: =AK61+AL61 -> 0 | BL61: =AM61 -> 0 | BM61: =AN61+AO61 -> 0
A62: 4.13 | B62: ²ÛÉ í»×»ñ | AT62: =E62 -> 0 | AU62: =F62+G62+H62+I62 -> 0 | AV62: =J62 -> 0 | AW62: =K62+L62+M62 -> 0 | AX62: =F62+G62+K62 -> 0 | AY62: =N62+Y62+Z62+AB62 -> 0 | AZ62: =O62 -> 0 | BA62: =P62+Q62+R62+S62+T62 -> 0 | BB62: =T62 -> 0 | BC62: =+U62+V62+W62 -> 0 | BD62: =Y62 -> 0 | BE62: =O62+X62 -> 0 | BF62: =AF62 -> 0 | BG62: =AD62+AE62 -> 0 | BH62: =AF62 -> 0 | BI62: =AG62+AH62 -> 0 | BJ62: =AM62 -> 0 | BK62: =AK62+AL62 -> 0 | BL62: =AM62 -> 0 | BM62: =AN62+AO62 -> 0
A63: 5. | B63: Øï³íáñ ë»÷³Ï³ÝáõÃÛ³Ý Ñ»ï Ï³åí³ÍÇñ³í³Ñ³ñ³µ»ñáõÃÛáõÝÝ»ñÇ í»ñ³µ»ñÛ³É ¹³ï³Ï³Ý ·áñÍ»ñ | E63: =SUM(E64:E69) -> 0 | F63: =SUM(F64:F69) -> 0 | G63: =SUM(G64:G69) -> 0 | H63: =SUM(H64:H69) -> 0 | I63: =SUM(I64:I69) -> 0 | J63: =SUM(J64:J69) -> 0 | K63: =SUM(K64:K69) -> 0 | L63: =SUM(L64:L69) -> 0 | ... BC63: =SUM(BC64:BC69) -> 0 | BD63: =Y63 -> 0 | BE63: =O63+X63 -> 0 | BF63: =SUM(BF64:BF69) -> 0 | BG63: =SUM(BG64:BG69) -> 0 | BH63: =SUM(BH64:BH69) -> 0 | BI63: =SUM(BI64:BI69) -> 0 | BJ63: =SUM(BJ64:BJ69) -> 0 | BK63: =SUM(BK64:BK69) -> 0 | BL63: =SUM(BL64:BL69) -> 0 | BM63: =SUM(BM64:BM69) -> 0
A64: 5.1 | B64: ÈÇó»Ý½³ÛÇÝ å³ÛÙ³Ý³·ñÇ ÉáõÍÙ³Ý, ÷á÷áËÙ³Ý ¨ ³Ýí³í»ñáõÃÛ³Ý í»ñ³µ»ñÛ³É | AT64: =E64 -> 0 | AU64: =F64+G64+H64+I64 -> 0 | AV64: =J64 -> 0 | AW64: =K64+L64+M64 -> 0 | AX64: =F64+G64+K64 -> 0 | AY64: =N64+Y64+Z64+AB64 -> 0 | AZ64: =O64 -> 0 | BA64: =P64+Q64+R64+S64+T64 -> 0 | BB64: =T64 -> 0 | BC64: =+U64+V64+W64 -> 0 | BD64: =Y64 -> 0 | BE64: =O64+X64 -> 0 | BF64: =AF64 -> 0 | BG64: =AD64+AE64 -> 0 | BH64: =AF64 -> 0 | BI64: =AG64+AH64 -> 0 | BJ64: =AM64 -> 0 | BK64: =AK64+AL64 -> 0 | BL64: =AM64 -> 0 | BM64: =AN64+AO64 -> 0
A65: 5.2 | B65: Øï³íáñ ·áñÍáõÝ»áõÃÛ³Ý ³ñ¹ÛáõÝùÝ»ñ ëï»ÕÍ»Éáõ ¨ û·ï³·áñÍ»Éáõ å³ÛÙ³Ý³·ñÇ ÉáõÍÙ³Ý, ÷á÷áËÙ³Ý áõ ³Ýí³í»ñáõÃÛ³Ý í»ñ³µ»ñÛ³É | AT65: =E65 -> 0 | AU65: =F65+G65+H65+I65 -> 0 | AV65: =J65 -> 0 | AW65: =K65+L65+M65 -> 0 | AX65: =F65+G65+K65 -> 0 | AY65: =N65+Y65+Z65+AB65 -> 0 | AZ65: =O65 -> 0 | BA65: =P65+Q65+R65+S65+T65 -> 0 | BB65: =T65 -> 0 | BC65: =+U65+V65+W65 -> 0 | BD65: =Y65 -> 0 | BE65: =O65+X65 -> 0 | BF65: =AF65 -> 0 | BG65: =AD65+AE65 -> 0 | BH65: =AF65 -> 0 | BI65: =AG65+AH65 -> 0 | BJ65: =AM65 -> 0 | BK65: =AK65+AL65 -> 0 | BL65: =AM65 -> 0 | BM65: =AN65+AO65 -> 0
A66: 5.3 | B66: Ð»ÕÇÝ³Ï³ÛÇÝ ¨ Ñ³ñ³ÏÇó Çñ³íáõÝùÝ»ñÇ í»ñ³µ»ñÛ³É | AT66: =E66 -> 0 | AU66: =F66+G66+H66+I66 -> 0 | AV66: =J66 -> 0 | AW66: =K66+L66+M66 -> 0 | AX66: =F66+G66+K66 -> 0 | AY66: =N66+Y66+Z66+AB66 -> 0 | AZ66: =O66 -> 0 | BA66: =P66+Q66+R66+S66+T66 -> 0 | BB66: =T66 -> 0 | BC66: =+U66+V66+W66 -> 0 | BD66: =Y66 -> 0 | BE66: =O66+X66 -> 0 | BF66: =AF66 -> 0 | BG66: =AD66+AE66 -> 0 | BH66: =AF66 -> 0 | BI66: =AG66+AH66 -> 0 | BJ66: =AM66 -> 0 | BK66: =AK66+AL66 -> 0 | BL66: =AM66 -> 0 | BM66: =AN66+AO66 -> 0
A67: 5.4 | B67: üÇñÙ³ÛÇÝ ³Ýí³ÝÙ³Ý í»ñ³µ»ñÛ³É | AT67: =E67 -> 0 | AU67: =F67+G67+H67+I67 -> 0 | AV67: =J67 -> 0 | AW67: =K67+L67+M67 -> 0 | AX67: =F67+G67+K67 -> 0 | AY67: =N67+Y67+Z67+AB67 -> 0 | AZ67: =O67 -> 0 | BA67: =P67+Q67+R67+S67+T67 -> 0 | BB67: =T67 -> 0 | BC67: =+U67+V67+W67 -> 0 | BD67: =Y67 -> 0 | BE67: =O67+X67 -> 0 | BF67: =AF67 -> 0 | BG67: =AD67+AE67 -> 0 | BH67: =AF67 -> 0 | BI67: =AG67+AH67 -> 0 | BJ67: =AM67 -> 0 | BK67: =AK67+AL67 -> 0 | BL67: =AM67 -> 0 | BM67: =AN67+AO67 -> 0
A68: 5.5 | B68: ²åñ³Ýù³ÛÇÝ Ýß³ÝÇ í»ñ³µ»ñÛ³É | AT68: =E68 -> 0 | AU68: =F68+G68+H68+I68 -> 0 | AV68: =J68 -> 0 | AW68: =K68+L68+M68 -> 0 | AX68: =F68+G68+K68 -> 0 | AY68: =N68+Y68+Z68+AB68 -> 0 | AZ68: =O68 -> 0 | BA68: =P68+Q68+R68+S68+T68 -> 0 | BB68: =T68 -> 0 | BC68: =+U68+V68+W68 -> 0 | BD68: =Y68 -> 0 | BE68: =O68+X68 -> 0 | BF68: =AF68 -> 0 | BG68: =AD68+AE68 -> 0 | BH68: =AF68 -> 0 | BI68: =AG68+AH68 -> 0 | BJ68: =AM68 -> 0 | BK68: =AK68+AL68 -> 0 | BL68: =AM68 -> 0 | BM68: =AN68+AO68 -> 0
A69: 5.6 | B69: ²ÛÉ í»×»ñ | AT69: =E69 -> 0 | AU69: =F69+G69+H69+I69 -> 0 | AV69: =J69 -> 0 | AW69: =K69+L69+M69 -> 0 | AX69: =F69+G69+K69 -> 0 | AY69: =N69+Y69+Z69+AB69 -> 0 | AZ69: =O69 -> 0 | BA69: =P69+Q69+R69+S69+T69 -> 0 | BB69: =T69 -> 0 | BC69: =+U69+V69+W69 -> 0 | BD69: =Y69 -> 0 | BE69: =O69+X69 -> 0 | BF69: =AF69 -> 0 | BG69: =AD69+AE69 -> 0 | BH69: =AF69 -> 0 | BI69: =AG69+AH69 -> 0 | BJ69: =AM69 -> 0 | BK69: =AK69+AL69 -> 0 | BL69: =AM69 -> 0 | BM69: =AN69+AO69 -> 0
A70: 6. | B70: ²ßË³ï³Ýù³ÛÇÝ Çñ³í³Ñ³ñ³µ»ñáõÃÛáõÝÝ»ñÇ í»ñ³µ»ñÛ³É ¹³ï³Ï³Ý ·áñÍ»ñ | E70: =SUM(E71:E76) -> 1 | F70: =SUM(F71:F76) -> 1 | G70: =SUM(G71:G76) -> 0 | H70: =SUM(H71:H76) -> 0 | I70: =SUM(I71:I76) -> 0 | J70: =SUM(J71:J76) -> 1 | K70: =SUM(K71:K76) -> 1 | L70: =SUM(L71:L76) -> 0 | ... BC70: =SUM(BC71:BC76) -> 0 | BD70: =Y70 -> 0 | BE70: =O70+X70 -> 0 | BF70: =SUM(BF71:BF76) -> 0 | BG70: =SUM(BG71:BG76) -> 0 | BH70: =SUM(BH71:BH76) -> 0 | BI70: =SUM(BI71:BI76) -> 0 | BJ70: =SUM(BJ71:BJ76) -> 0 | BK70: =SUM(BK71:BK76) -> 0 | BL70: =SUM(BL71:BL76) -> 0 | BM70: =SUM(BM71:BM76) -> 0
A71: 6.1 | B71: ²ßË³ï³Ýù³ÛÇÝ å³ÛÙ³Ý³·ñ»ñÇ í»ñ³µ»ñÛ³É | AT71: =E71 -> 0 | AU71: =F71+G71+H71+I71 -> 0 | AV71: =J71 -> 0 | AW71: =K71+L71+M71 -> 0 | AX71: =F71+G71+K71 -> 0 | AY71: =N71+Y71+Z71+AB71 -> 0 | AZ71: =O71 -> 0 | BA71: =P71+Q71+R71+S71+T71 -> 0 | BB71: =T71 -> 0 | BC71: =+U71+V71+W71 -> 0 | BD71: =Y71 -> 0 | BE71: =O71+X71 -> 0 | BF71: =AF71 -> 0 | BG71: =AD71+AE71 -> 0 | BH71: =AF71 -> 0 | BI71: =AG71+AH71 -> 0 | BJ71: =AM71 -> 0 | BK71: =AK71+AL71 -> 0 | BL71: =AM71 -> 0 | BM71: =AN71+AO71 -> 0
A72: 6.2 | B72: ²ßË³ï³ÝùáõÙ í»ñ³Ï³Ý·Ý»Éáõ í»ñ³µ»ñÛ³É | AT72: =E72 -> 0 | AU72: =F72+G72+H72+I72 -> 0 | AV72: =J72 -> 0 | AW72: =K72+L72+M72 -> 0 | AX72: =F72+G72+K72 -> 0 | AY72: =N72+Y72+Z72+AB72 -> 0 | AZ72: =O72 -> 0 | BA72: =P72+Q72+R72+S72+T72 -> 0 | BB72: =T72 -> 0 | BC72: =+U72+V72+W72 -> 0 | BD72: =Y72 -> 0 | BE72: =O72+X72 -> 0 | BF72: =AF72 -> 0 | BG72: =AD72+AE72 -> 0 | BH72: =AF72 -> 0 | BI72: =AG72+AH72 -> 0 | BJ72: =AM72 -> 0 | BK72: =AK72+AL72 -> 0 | BL72: =AM72 -> 0 | BM72: =AN72+AO72 -> 0
A73: 6.3 | B73: ¶áñÍ³¹áõÉÝ ³ÝûñÇÝ³Ï³Ý ×³Ý³ã»Éáõ í»ñ³µ»ñÛ³É | AT73: =E73 -> 0 | AU73: =F73+G73+H73+I73 -> 0 | AV73: =J73 -> 0 | AW73: =K73+L73+M73 -> 0 | AX73: =F73+G73+K73 -> 0 | AY73: =N73+Y73+Z73+AB73 -> 0 | AZ73: =O73 -> 0 | BA73: =P73+Q73+R73+S73+T73 -> 0 | BB73: =T73 -> 0 | BC73: =+U73+V73+W73 -> 0 | BD73: =Y73 -> 0 | BE73: =O73+X73 -> 0 | BF73: =AF73 -> 0 | BG73: =AD73+AE73 -> 0 | BH73: =AF73 -> 0 | BI73: =AG73+AH73 -> 0 | BJ73: =AM73 -> 0 | BK73: =AK73+AL73 -> 0 | BL73: =AM73 -> 0 | BM73: =AN73+AO73 -> 0
A74: 6.4 | B74: Ð³ñÏ³¹Çñ å³ñ³åáõñ¹Ç Ñ³ïáõóÙ³Ý í»ñ³µ»ñÛ³É | AT74: =E74 -> 0 | AU74: =F74+G74+H74+I74 -> 0 | AV74: =J74 -> 0 | AW74: =K74+L74+M74 -> 0 | AX74: =F74+G74+K74 -> 0 | AY74: =N74+Y74+Z74+AB74 -> 0 | AZ74: =O74 -> 0 | BA74: =P74+Q74+R74+S74+T74 -> 0 | BB74: =T74 -> 0 | BC74: =+U74+V74+W74 -> 0 | BD74: =Y74 -> 0 | BE74: =O74+X74 -> 0 | BF74: =AF74 -> 0 | BG74: =AD74+AE74 -> 0 | BH74: =AF74 -> 0 | BI74: =AG74+AH74 -> 0 | BJ74: =AM74 -> 0 | BK74: =AK74+AL74 -> 0 | BL74: =AM74 -> 0 | BM74: =AN74+AO74 -> 0
A75: 6.5 | B75: âí×³ñí³Í ³ßË³ï³í³ñÓÇ ¨/Ï³Ù ³ÛÉ í×³ñÝ»ñÇ µéÝ³·³ÝÓÙ³Ý í»ñ³µ»ñÛ³É | E75: 1 | F75: 1 | AB75: 1 | AC75: 1 | AT75: =E75 -> 1 | AU75: =F75+G75+H75+I75 -> 1 | AV75: =J75 -> 0 | AW75: =K75+L75+M75 -> 0 | AX75: =F75+G75+K75 -> 1 | AY75: =N75+Y75+Z75+AB75 -> 1 | AZ75: =O75 -> 0 | BA75: =P75+Q75+R75+S75+T75 -> 0 | BB75: =T75 -> 0 | BC75: =+U75+V75+W75 -> 0 | BD75: =Y75 -> 0 | BE75: =O75+X75 -> 0 | BF75: =AF75 -> 0 | BG75: =AD75+AE75 -> 0 | BH75: =AF75 -> 0 | BI75: =AG75+AH75 -> 0 | BJ75: =AM75 -> 0 | BK75: =AK75+AL75 -> 0 | BL75: =AM75 -> 0 | BM75: =AN75+AO75 -> 0
A76: 6.6 | B76: ²ÛÉ í»×»ñ | J76: 1 | K76: 1 | AB76: 1 | AT76: =E76 -> 0 | AU76: =F76+G76+H76+I76 -> 0 | AV76: =J76 -> 1 | AW76: =K76+L76+M76 -> 1 | AX76: =F76+G76+K76 -> 1 | AY76: =N76+Y76+Z76+AB76 -> 1 | AZ76: =O76 -> 0 | BA76: =P76+Q76+R76+S76+T76 -> 0 | BB76: =T76 -> 0 | BC76: =+U76+V76+W76 -> 0 | BD76: =Y76 -> 0 | BE76: =O76+X76 -> 0 | BF76: =AF76 -> 0 | BG76: =AD76+AE76 -> 0 | BH76: =AF76 -> 0 | BI76: =AG76+AH76 -> 0 | BJ76: =AM76 -> 0 | BK76: =AK76+AL76 -> 0 | BL76: =AM76 -> 0 | BM76: =AN76+AO76 -> 0
A77: 7. | B77: Æñ³í³µ³Ý³Ï³Ý ³ÝÓÇ ·áñÍáõÝ»áõÃÛáõÝÇó µËáÕ Çñ³í³Ñ³ñ³µ»ñáõÃÛáõÝÝ»ñÇ í»ñ³µ»ñÛ³É ¹³ï³Ï³Ý ·áñÍ»ñ | E77: =SUM(E78:E79) -> 0 | F77: =SUM(F78:F79) -> 0 | G77: =SUM(G78:G79) -> 0 | H77: =SUM(H78:H79) -> 0 | I77: =SUM(I78:I79) -> 0 | J77: =SUM(J78:J79) -> 0 | K77: =SUM(K78:K79) -> 0 | L77: =SUM(L78:L79) -> 0 | ... BC77: =SUM(BC78:BC79) -> 0 | BD77: =Y77 -> 0 | BE77: =O77+X77 -> 0 | BF77: =SUM(BF78:BF79) -> 0 | BG77: =SUM(BG78:BG79) -> 0 | BH77: =SUM(BH78:BH79) -> 0 | BI77: =SUM(BI78:BI79) -> 0 | BJ77: =SUM(BJ78:BJ79) -> 0 | BK77: =SUM(BK78:BK79) -> 0 | BL77: =SUM(BL78:BL79) -> 0 | BM77: =SUM(BM78:BM79) -> 0
A78: 7.1 | B78: Îáñåáñ³ïÇí í»×»ñ | AT78: =E78 -> 0 | AU78: =F78+G78+H78+I78 -> 0 | AV78: =J78 -> 0 | AW78: =K78+L78+M78 -> 0 | AX78: =F78+G78+K78 -> 0 | AY78: =N78+Y78+Z78+AB78 -> 0 | AZ78: =O78 -> 0 | BA78: =P78+Q78+R78+S78+T78 -> 0 | BB78: =T78 -> 0 | BC78: =+U78+V78+W78 -> 0 | BD78: =Y78 -> 0 | BE78: =O78+X78 -> 0 | BF78: =AF78 -> 0 | BG78: =AD78+AE78 -> 0 | BH78: =AF78 -> 0 | BI78: =AG78+AH78 -> 0 | BJ78: =AM78 -> 0 | BK78: =AK78+AL78 -> 0 | BL78: =AM78 -> 0 | BM78: =AN78+AO78 -> 0
A79: 7.2 | B79: ²ÛÉ í»×»ñ | AT79: =E79 -> 0 | AU79: =F79+G79+H79+I79 -> 0 | AV79: =J79 -> 0 | AW79: =K79+L79+M79 -> 0 | AX79: =F79+G79+K79 -> 0 | AY79: =N79+Y79+Z79+AB79 -> 0 | AZ79: =O79 -> 0 | BA79: =P79+Q79+R79+S79+T79 -> 0 | BB79: =T79 -> 0 | BC79: =+U79+V79+W79 -> 0 | BD79: =Y79 -> 0 | BE79: =O79+X79 -> 0 | BF79: =AF79 -> 0 | BG79: =AD79+AE79 -> 0 | BH79: =AF79 -> 0 | BI79: =AG79+AH79 -> 0 | BJ79: =AM79 -> 0 | BK79: =AK79+AL79 -> 0 | BL79: =AM79 -> 0 | BM79: =AN79+AO79 -> 0
A80: 8. | B80: Ð³ïáõÏ í³ñáõÛÃÇ ¹³ï³Ï³Ý ·áñÍ»ñ | E80: =SUM(E81:E101) -> 3 | F80: =SUM(F81:F101) -> 0 | G80: =SUM(G81:G101) -> 3 | H80: =SUM(H81:H101) -> 0 | I80: =SUM(I81:I101) -> 0 | J80: =SUM(J81:J101) -> 23 | K80: =SUM(K81:K101) -> 20 | L80: =SUM(L81:L101) -> 2 | ... BC80: =SUM(BC81:BC101) -> 1 | BD80: =Y80 -> 19 | BE80: =O80+X80 -> 19 | BF80: =SUM(BF81:BF101) -> 0 | BG80: =SUM(BG81:BG101) -> 0 | BH80: =SUM(BH81:BH101) -> 0 | BI80: =SUM(BI81:BI101) -> 0 | BJ80: =SUM(BJ81:BJ101) -> 0 | BK80: =SUM(BK81:BK101) -> 0 | BL80: =SUM(BL81:BL101) -> 0 | BM80: =SUM(BM81:BM101) -> 0
A81: 8.1 | B81: ²Ýã³÷³Ñ³ëÇÝ ÉñÇí ·áñÍáõÝ³Ï ×³Ý³ã»Éáõ /¿Ù³ÝëÇå³óÇ³/ í»ñ³µ»ñÛ³É | AT81: =E81 -> 0 | AU81: =F81+G81+H81+I81 -> 0 | AV81: =J81 -> 0 | AW81: =K81+L81+M81 -> 0 | AX81: =F81+G81+K81 -> 0 | AY81: =N81+Y81+Z81+AB81 -> 0 | AZ81: =O81 -> 0 | BA81: =P81+Q81+R81+S81+T81 -> 0 | BB81: =T81 -> 0 | BC81: =+U81+V81+W81 -> 0 | BD81: =Y81 -> 0 | BE81: =O81+X81 -> 0 | BF81: =AF81 -> 0 | BG81: =AD81+AE81 -> 0 | BH81: =AF81 -> 0 | BI81: =AG81+AH81 -> 0 | BJ81: =AM81 -> 0 | BK81: =AK81+AL81 -> 0 | BL81: =AM81 -> 0 | BM81: =AN81+AO81 -> 0
A82: 8.2 | B82: ø³Õ³ù³óáõÝ ³Ý·áñÍáõÝ³Ï Ï³Ù ë³ÑÙ³Ý³÷³Ï ·áñÍáõÝ³Ï ×³Ý³ã»Éáõ í»ñ³µ»ñÛ³É | AT82: =E82 -> 0 | AU82: =F82+G82+H82+I82 -> 0 | AV82: =J82 -> 0 | AW82: =K82+L82+M82 -> 0 | AX82: =F82+G82+K82 -> 0 | AY82: =N82+Y82+Z82+AB82 -> 0 | AZ82: =O82 -> 0 | BA82: =P82+Q82+R82+S82+T82 -> 0 | BB82: =T82 -> 0 | BC82: =+U82+V82+W82 -> 0 | BD82: =Y82 -> 0 | BE82: =O82+X82 -> 0 | BF82: =AF82 -> 0 | BG82: =AD82+AE82 -> 0 | BH82: =AF82 -> 0 | BI82: =AG82+AH82 -> 0 | BJ82: =AM82 -> 0 | BK82: =AK82+AL82 -> 0 | BL82: =AM82 -> 0 | BM82: =AN82+AO82 -> 0
A83: 8.3 | B83: ø³Õ³ù³óáõÝ Ñá·»µáõÅ³Ï³Ý ÑÇí³Ý¹³Ýáó³ÛÇÝ Ñ³ñÏ³¹Çñ µáõÅÙ³Ý »ÝÃ³ñÏ»Éáõ í»ñ³µ»ñÛ³É | AT83: =E83 -> 0 | AU83: =F83+G83+H83+I83 -> 0 | AV83: =J83 -> 0 | AW83: =K83+L83+M83 -> 0 | AX83: =F83+G83+K83 -> 0 | AY83: =N83+Y83+Z83+AB83 -> 0 | AZ83: =O83 -> 0 | BA83: =P83+Q83+R83+S83+T83 -> 0 | BB83: =T83 -> 0 | BC83: =+U83+V83+W83 -> 0 | BD83: =Y83 -> 0 | BE83: =O83+X83 -> 0 | BF83: =AF83 -> 0 | BG83: =AD83+AE83 -> 0 | BH83: =AF83 -> 0 | BI83: =AG83+AH83 -> 0 | BJ83: =AM83 -> 0 | BK83: =AK83+AL83 -> 0 | BL83: =AM83 -> 0 | BM83: =AN83+AO83 -> 0
A84: 8.4 | B84: ø³Õ³ù³óáõÝ ³ÝÑ³Ûï µ³ó³Ï³ÛáÕ Ï³Ù Ù³Ñ³ó³Í ×³Ý³ã»Éáõ í»ñ³µ»ñÛ³É | AT84: =E84 -> 0 | AU84: =F84+G84+H84+I84 -> 0 | AV84: =J84 -> 0 | AW84: =K84+L84+M84 -> 0 | AX84: =F84+G84+K84 -> 0 | AY84: =N84+Y84+Z84+AB84 -> 0 | AZ84: =O84 -> 0 | BA84: =P84+Q84+R84+S84+T84 -> 0 | BB84: =T84 -> 0 | BC84: =+U84+V84+W84 -> 0 | BD84: =Y84 -> 0 | BE84: =O84+X84 -> 0 | BF84: =AF84 -> 0 | BG84: =AD84+AE84 -> 0 | BH84: =AF84 -> 0 | BI84: =AG84+AH84 -> 0 | BJ84: =AM84 -> 0 | BK84: =AK84+AL84 -> 0 | BL84: =AM84 -> 0 | BM84: =AN84+AO84 -> 0
A85: 8.5 | B85: ø³Õ³ù³óÇ³Ï³Ý Ï³óáõÃÛ³Ý ³Ïï»ñÇ ·ñ³éáõÙÝ»ñÇ ³Ý×ßïáõÃÛáõÝÝ»ñÁ å³ñ½»Éáõ í»ñ³µ»ñÛ³É | AT85: =E85 -> 0 | AU85: =F85+G85+H85+I85 -> 0 | AV85: =J85 -> 0 | AW85: =K85+L85+M85 -> 0 | AX85: =F85+G85+K85 -> 0 | AY85: =N85+Y85+Z85+AB85 -> 0 | AZ85: =O85 -> 0 | BA85: =P85+Q85+R85+S85+T85 -> 0 | BB85: =T85 -> 0 | BC85: =+U85+V85+W85 -> 0 | BD85: =Y85 -> 0 | BE85: =O85+X85 -> 0 | BF85: =AF85 -> 0 | BG85: =AD85+AE85 -> 0 | BH85: =AF85 -> 0 | BI85: =AG85+AH85 -> 0 | BJ85: =AM85 -> 0 | BK85: =AK85+AL85 -> 0 | BL85: =AM85 -> 0 | BM85: =AN85+AO85 -> 0
A86: 8.6 | B86: ¶áõÛùÁ ïÇñ³½áõñÏ ×³Ý³ã»Éáõ í»ñ³µ»ñÛ³É | AT86: =E86 -> 0 | AU86: =F86+G86+H86+I86 -> 0 | AV86: =J86 -> 0 | AW86: =K86+L86+M86 -> 0 | AX86: =F86+G86+K86 -> 0 | AY86: =N86+Y86+Z86+AB86 -> 0 | AZ86: =O86 -> 0 | BA86: =P86+Q86+R86+S86+T86 -> 0 | BB86: =T86 -> 0 | BC86: =+U86+V86+W86 -> 0 | BD86: =Y86 -> 0 | BE86: =O86+X86 -> 0 | BF86: =AF86 -> 0 | BG86: =AD86+AE86 -> 0 | BH86: =AF86 -> 0 | BI86: =AG86+AH86 -> 0 | BJ86: =AM86 -> 0 | BK86: =AK86+AL86 -> 0 | BL86: =AM86 -> 0 | BM86: =AN86+AO86 -> 0
A87: 8.6.1 | B87: ²Û¹ ÃíáõÙª ³Ýß³ñÅ ·áõÛùÁ | AT87: =E87 -> 0 | AU87: =F87+G87+H87+I87 -> 0 | AV87: =J87 -> 0 | AW87: =K87+L87+M87 -> 0 | AX87: =F87+G87+K87 -> 0 | AY87: =N87+Y87+Z87+AB87 -> 0 | AZ87: =O87 -> 0 | BA87: =P87+Q87+R87+S87+T87 -> 0 | BB87: =T87 -> 0 | BC87: =+U87+V87+W87 -> 0 | BD87: =Y87 -> 0 | BE87: =O87+X87 -> 0 | BF87: =AF87 -> 0 | BG87: =AD87+AE87 -> 0 | BH87: =AF87 -> 0 | BI87: =AG87+AH87 -> 0 | BJ87: =AM87 -> 0 | BK87: =AK87+AL87 -> 0 | BL87: =AM87 -> 0 | BM87: =AN87+AO87 -> 0
A88: 8.6.2 | B88: ²Û¹ ÃíáõÙª ß³ñÅ³Ï³Ý ·áõÛùÁ | AT88: =E88 -> 0 | AU88: =F88+G88+H88+I88 -> 0 | AV88: =J88 -> 0 | AW88: =K88+L88+M88 -> 0 | AX88: =F88+G88+K88 -> 0 | AY88: =N88+Y88+Z88+AB88 -> 0 | AZ88: =O88 -> 0 | BA88: =P88+Q88+R88+S88+T88 -> 0 | BB88: =T88 -> 0 | BC88: =+U88+V88+W88 -> 0 | BD88: =Y88 -> 0 | BE88: =O88+X88 -> 0 | BF88: =AF88 -> 0 | BG88: =AD88+AE88 -> 0 | BH88: =AF88 -> 0 | BI88: =AG88+AH88 -> 0 | BJ88: =AM88 -> 0 | BK88: =AK88+AL88 -> 0 | BL88: =AM88 -> 0 | BM88: =AN88+AO88 -> 0
A89: 8.7 | B89: Æñ³í³µ³Ý³Ï³Ý Ýß³Ý³ÏáõÃÛáõÝ áõÝ»óáÕ ÷³ëï»ñÇ Ñ³ëï³ïÙ³Ý í»ñ³µ»ñÛ³É | J89: 1 | M89: 1 | AT89: =E89 -> 0 | AU89: =F89+G89+H89+I89 -> 0 | AV89: =J89 -> 1 | AW89: =K89+L89+M89 -> 1 | AX89: =F89+G89+K89 -> 0 | AY89: =N89+Y89+Z89+AB89 -> 0 | AZ89: =O89 -> 0 | BA89: =P89+Q89+R89+S89+T89 -> 0 | BB89: =T89 -> 0 | BC89: =+U89+V89+W89 -> 0 | BD89: =Y89 -> 0 | BE89: =O89+X89 -> 0 | BF89: =AF89 -> 0 | BG89: =AD89+AE89 -> 0 | BH89: =AF89 -> 0 | BI89: =AG89+AH89 -> 0 | BJ89: =AM89 -> 0 | BK89: =AK89+AL89 -> 0 | BL89: =AM89 -> 0 | BM89: =AN89+AO89 -> 0
A90: 8.7.1 | B90: ²ÝÓ³Ýó ³½·³Ïó³Ï³Ý Ï³åÁ Ñ³ëï³ï»Éáõ í»ñ³µ»ñÛ³É | AT90: =E90 -> 0 | AU90: =F90+G90+H90+I90 -> 0 | AV90: =J90 -> 0 | AW90: =K90+L90+M90 -> 0 | AX90: =F90+G90+K90 -> 0 | AY90: =N90+Y90+Z90+AB90 -> 0 | AZ90: =O90 -> 0 | BA90: =P90+Q90+R90+S90+T90 -> 0 | BB90: =T90 -> 0 | BC90: =+U90+V90+W90 -> 0 | BD90: =Y90 -> 0 | BE90: =O90+X90 -> 0 | BF90: =AF90 -> 0 | BG90: =AD90+AE90 -> 0 | BH90: =AF90 -> 0 | BI90: =AG90+AH90 -> 0 | BJ90: =AM90 -> 0 | BK90: =AK90+AL90 -> 0 | BL90: =AM90 -> 0 | BM90: =AN90+AO90 -> 0
A91: 8.7.2 | B91: ²ÝÓÇª áõñÇßÇ ËÝ³ÙùÇ ï³Ï ·ïÝí»Éáõ í»ñ³µ»ñÛ³É | AT91: =E91 -> 0 | AU91: =F91+G91+H91+I91 -> 0 | AV91: =J91 -> 0 | AW91: =K91+L91+M91 -> 0 | AX91: =F91+G91+K91 -> 0 | AY91: =N91+Y91+Z91+AB91 -> 0 | AZ91: =O91 -> 0 | BA91: =P91+Q91+R91+S91+T91 -> 0 | BB91: =T91 -> 0 | BC91: =+U91+V91+W91 -> 0 | BD91: =Y91 -> 0 | BE91: =O91+X91 -> 0 | BF91: =AF91 -> 0 | BG91: =AD91+AE91 -> 0 | BH91: =AF91 -> 0 | BI91: =AG91+AH91 -> 0 | BJ91: =AM91 -> 0 | BK91: =AK91+AL91 -> 0 | BL91: =AM91 -> 0 | BM91: =AN91+AO91 -> 0
A92: 8.7.3 | B92: ÌÝÝ¹Û³Ý, áñ¹»·ñÙ³Ý, ³ÙáõëÝáõÃÛ³Ý, ³å³Ñ³ñ½³ÝÇ ¨ Ù³Ñí³Ý ·ñ³ÝóÙ³Ý í»ñ³µ»ñÛ³É | J92: 3 | K92: 3 | O92: 1 | P92: 1 | Y92: 1 | AB92: 2 | AT92: =E92 -> 0 | AU92: =F92+G92+H92+I92 -> 0 | AV92: =J92 -> 3 | AW92: =K92+L92+M92 -> 3 | AX92: =F92+G92+K92 -> 3 | AY92: =N92+Y92+Z92+AB92 -> 3 | AZ92: =O92 -> 1 | BA92: =P92+Q92+R92+S92+T92 -> 1 | BB92: =T92 -> 0 | BC92: =+U92+V92+W92 -> 0 | BD92: =Y92 -> 1 | BE92: =O92+X92 -> 1 | BF92: =AF92 -> 0 | BG92: =AD92+AE92 -> 0 | BH92: =AF92 -> 0 | BI92: =AG92+AH92 -> 0 | BJ92: =AM92 -> 0 | BK92: =AK92+AL92 -> 0 | BL92: =AM92 -> 0 | BM92: =AN92+AO92 -> 0
A93: 8.7.4 | B93: ²ÝÓÇª áñáß³ÏÇ Å³Ù³Ý³ÏáõÙ ¨ áñáß³ÏÇ Ñ³Ý·³Ù³ÝùÝ»ñáõÙ Ù³Ñí³Ý í»ñ³µ»ñÛ³É | AT93: =E93 -> 0 | AU93: =F93+G93+H93+I93 -> 0 | AV93: =J93 -> 0 | AW93: =K93+L93+M93 -> 0 | AX93: =F93+G93+K93 -> 0 | AY93: =N93+Y93+Z93+AB93 -> 0 | AZ93: =O93 -> 0 | BA93: =P93+Q93+R93+S93+T93 -> 0 | BB93: =T93 -> 0 | BC93: =+U93+V93+W93 -> 0 | BD93: =Y93 -> 0 | BE93: =O93+X93 -> 0 | BF93: =AF93 -> 0 | BG93: =AD93+AE93 -> 0 | BH93: =AF93 -> 0 | BI93: =AG93+AH93 -> 0 | BJ93: =AM93 -> 0 | BK93: =AK93+AL93 -> 0 | BL93: =AM93 -> 0 | BM93: =AN93+AO93 -> 0
A94: 8.7.5 | B94: Ä³é³Ý·áõÃÛáõÝÝ ÁÝ¹áõÝ»Éáõ ¨ Å³é³Ý·áõÃÛ³Ý µ³óÙ³Ý í³ÛñÇ í»ñ³µ»ñÛ³É | E94: 3 | G94: 3 | J94: 5 | K94: 5 | O94: 8 | P94: 7 | T94: 1 | V94: 1 | Y94: 8 | AT94: =E94 -> 3 | AU94: =F94+G94+H94+I94 -> 3 | AV94: =J94 -> 5 | AW94: =K94+L94+M94 -> 5 | AX94: =F94+G94+K94 -> 8 | AY94: =N94+Y94+Z94+AB94 -> 8 | AZ94: =O94 -> 8 | BA94: =P94+Q94+R94+S94+T94 -> 8 | BB94: =T94 -> 1 | BC94: =+U94+V94+W94 -> 1 | BD94: =Y94 -> 8 | BE94: =O94+X94 -> 8 | BF94: =AF94 -> 0 | BG94: =AD94+AE94 -> 0 | BH94: =AF94 -> 0 | BI94: =AG94+AH94 -> 0 | BJ94: =AM94 -> 0 | BK94: =AK94+AL94 -> 0 | BL94: =AM94 -> 0 | BM94: =AN94+AO94 -> 0
A95: 8.7.6 | B95: ¸Åµ³Ëï å³ï³Ñ³ñÇ í»ñ³µ»ñÛ³É | AT95: =E95 -> 0 | AU95: =F95+G95+H95+I95 -> 0 | AV95: =J95 -> 0 | AW95: =K95+L95+M95 -> 0 | AX95: =F95+G95+K95 -> 0 | AY95: =N95+Y95+Z95+AB95 -> 0 | AZ95: =O95 -> 0 | BA95: =P95+Q95+R95+S95+T95 -> 0 | BB95: =T95 -> 0 | BC95: =+U95+V95+W95 -> 0 | BD95: =Y95 -> 0 | BE95: =O95+X95 -> 0 | BF95: =AF95 -> 0 | BG95: =AD95+AE95 -> 0 | BH95: =AF95 -> 0 | BI95: =AG95+AH95 -> 0 | BJ95: =AM95 -> 0 | BK95: =AK95+AL95 -> 0 | BL95: =AM95 -> 0 | BM95: =AN95+AO95 -> 0
A96: 8.7.7 | B96: Æñ³íáõÝù ë³ÑÙ³ÝáÕ ÷³ëï³ÃÕÃ»ñÇ å³ïÏ³Ý»ÉáõÃÛ³Ý í»ñ³µ»ñÛ³É | J96: 13 | K96: 11 | L96: 2 | O96: 10 | P96: 9 | Q96: 1 | Y96: 10 | AB96: 1 | AT96: =E96 -> 0 | AU96: =F96+G96+H96+I96 -> 0 | AV96: =J96 -> 13 | AW96: =K96+L96+M96 -> 13 | AX96: =F96+G96+K96 -> 11 | AY96: =N96+Y96+Z96+AB96 -> 11 | AZ96: =O96 -> 10 | BA96: =P96+Q96+R96+S96+T96 -> 10 | BB96: =T96 -> 0 | BC96: =+U96+V96+W96 -> 0 | BD96: =Y96 -> 10 | BE96: =O96+X96 -> 10 | BF96: =AF96 -> 0 | BG96: =AD96+AE96 -> 0 | BH96: =AF96 -> 0 | BI96: =AG96+AH96 -> 0 | BJ96: =AM96 -> 0 | BK96: =AK96+AL96 -> 0 | BL96: =AM96 -> 0 | BM96: =AN96+AO96 -> 0
A97: 8.7.8 | B97: ê»÷³Ï³ÝáõÃÛ³Ý Çñ³íáõÝùáí ·áõÛùÇ ïÇñ³å»ïÙ³Ý í»ñ³µ»ñÛ³É | AT97: =E97 -> 0 | AU97: =F97+G97+H97+I97 -> 0 | AV97: =J97 -> 0 | AW97: =K97+L97+M97 -> 0 | AX97: =F97+G97+K97 -> 0 | AY97: =N97+Y97+Z97+AB97 -> 0 | AZ97: =O97 -> 0 | BA97: =P97+Q97+R97+S97+T97 -> 0 | BB97: =T97 -> 0 | BC97: =+U97+V97+W97 -> 0 | BD97: =Y97 -> 0 | BE97: =O97+X97 -> 0 | BF97: =AF97 -> 0 | BG97: =AD97+AE97 -> 0 | BH97: =AF97 -> 0 | BI97: =AG97+AH97 -> 0 | BJ97: =AM97 -> 0 | BK97: =AK97+AL97 -> 0 | BL97: =AM97 -> 0 | BM97: =AN97+AO97 -> 0
A98: 8.7.9 | B98: ²ÝÑ³ÕÃ³Ñ³ñ»ÉÇ áõÅÇ ³éÏ³ÛáõÃÛ³Ý í»ñ³µ»ñÛ³É | AT98: =E98 -> 0 | AU98: =F98+G98+H98+I98 -> 0 | AV98: =J98 -> 0 | AW98: =K98+L98+M98 -> 0 | AX98: =F98+G98+K98 -> 0 | AY98: =N98+Y98+Z98+AB98 -> 0 | AZ98: =O98 -> 0 | BA98: =P98+Q98+R98+S98+T98 -> 0 | BB98: =T98 -> 0 | BC98: =+U98+V98+W98 -> 0 | BD98: =Y98 -> 0 | BE98: =O98+X98 -> 0 | BF98: =AF98 -> 0 | BG98: =AD98+AE98 -> 0 | BH98: =AF98 -> 0 | BI98: =AG98+AH98 -> 0 | BJ98: =AM98 -> 0 | BK98: =AK98+AL98 -> 0 | BL98: =AM98 -> 0 | BM98: =AN98+AO98 -> 0
A99: 8.7.10 | B99: úñ»Ýùáí Ý³Ë³ï»ëí³Í ³ÛÉ Çñ³í³µ³Ý³Ï³Ý ÷³ëï»ñÇ í»ñ³µ»ñÛ³É | J99: 1 | K99: 1 | AB99: 1 | AT99: =E99 -> 0 | AU99: =F99+G99+H99+I99 -> 0 | AV99: =J99 -> 1 | AW99: =K99+L99+M99 -> 1 | AX99: =F99+G99+K99 -> 1 | AY99: =N99+Y99+Z99+AB99 -> 1 | AZ99: =O99 -> 0 | BA99: =P99+Q99+R99+S99+T99 -> 0 | BB99: =T99 -> 0 | BC99: =+U99+V99+W99 -> 0 | BD99: =Y99 -> 0 | BE99: =O99+X99 -> 0 | BF99: =AF99 -> 0 | BG99: =AD99+AE99 -> 0 | BH99: =AF99 -> 0 | BI99: =AG99+AH99 -> 0 | BJ99: =AM99 -> 0 | BK99: =AK99+AL99 -> 0 | BL99: =AM99 -> 0 | BM99: =AN99+AO99 -> 0
A100: 8.8 | B100: Àëï Ý»ñÏ³Û³óÝáÕÇ ¨ ûñ¹»ñ³ÛÇÝ Ïáñóñ³Í ³ñÅ»ÃÕÃ»ñáí Ñ³í³ëïí³Í Çñ³íáõÝùÝ»ñÁ í»ñ³Ï³Ý·Ý»Éáõ í»ñ³µ»ñÛ³É | AT100: =E100 -> 0 | AU100: =F100+G100+H100+I100 -> 0 | AV100: =J100 -> 0 | AW100: =K100+L100+M100 -> 0 | AX100: =F100+G100+K100 -> 0 | AY100: =N100+Y100+Z100+AB100 -> 0 | AZ100: =O100 -> 0 | BA100: =P100+Q100+R100+S100+T100 -> 0 | BB100: =T100 -> 0 | BC100: =+U100+V100+W100 -> 0 | BD100: =Y100 -> 0 | BE100: =O100+X100 -> 0 | BF100: =AF100 -> 0 | BG100: =AD100+AE100 -> 0 | BH100: =AF100 -> 0 | BI100: =AG100+AH100 -> 0 | BJ100: =AM100 -> 0 | BK100: =AK100+AL100 -> 0 | BL100: =AM100 -> 0 | BM100: =AN100+AO100 -> 0
...

Sheet Ժ. Ասատրյան
A1: 2016Ã. 1-ԻՆ ԿԻՍԱՄՅԱԿ | G1: Ð²ÞìºîìàôÂÚàôÜ | AM1: Ð³í»Éí³Í Ð³Û³ëï³ÝÇ Ð³Ýñ³å»ïáõÃÛ³Ý ¸³ï³ñ³ÝÝ»ñÇ Ý³Ë³·³ÑÝ»ñÇ ËáñÑñ¹Ç 25.08.2016Ã. ÃÇí 44-È áñáßÙ³Ý
A2: ՀՀ ՍՅՈՒՆԻՔԻ ՄԱՐԶԻ ÀÜ¸Ð²Üàôð Æð²ì²êàôÂÚ²Ü ²è²æÆÜ ²îÚ²ÜÆ ¸²î²ð²ÜÆ ¸²î²ìàð | Z2: Ժ. ԱՍԱՏՐÚ²ÜÆ | AH2: ¶àðÌàôÜºàôÂÚ²Ü ìºð²´ºðÚ²È
A3: ø²Ô²ø²òÆ²Î²Ü ¶àðÌºðàì
A4: ՀՀ Սյունիքի մարզի ÁÝ¹Ñ³Ýáõñ Çñ³í³ëáõÃÛ³Ý ³é³çÇÝ ³ïÛ³ÝÇ ¹³ï³ñ³ÝÇ ù³Õ³ù³óÇ³Ï³Ý Ù³ëÝ³·Çï³óáõÙ áõÝ»óáÕ ¹³ï³íáñÝ»ñÇ Ñ³ëïÇùÝ»ñÇ ù³Ý³ÏÁ` 5
A5: êïáõ·Çã Ñ³í³ë³ñáõÙÝ»ñª 1=2+3+4+5, 6=7+8+9, 2+3+7=10+21+22+24, 11=12+13+14+15+16, 16=17+18+19, 21=11+20, 28=26+27, 28=29+30, 35=33+34, 35=36+37 | E5: Ð³ßí»ïáõ Å³Ù³Ý³Ï³Ñ³ïí³ÍáõÙ Ý³Ëáñ¹ Ñ³ßí»ïáõ Å³Ù³Ý³Ï³Ñ³ïí³ÍÇó ÷áË³Ýóí³Í ·áñÍ»ñÇ ÁÝ¹Ñ³Ýáõñ ÃÇíÁ | J5: Ð³ßí»ïáõ Å³Ù³Ý³Ï³Ñ³ïí³ÍáõÙëï³óí³Í ·áñÍ»ñÇ (³Û¹ ÃíáõÙ` Ñ³Ûó³¹ÇÙáõÙÝ»ñÇ, ¹ÇÙáõÙÝ»ñÇ) ÁÝ¹Ñ³Ýáõñ ÃÇíÁ | N5: öáË³Ýóí»É ¿ ³ÛÉ ¹³ï³íáñÇ (Ï³½ÙÇ ÷á÷áËáõÃÛáõÝ) | O5: Ð³ßí»ïáõ Å³Ù³Ý³Ï³Ñ³ïí³ÍáõÙ ³í³ñïí³Í ·áñÍ»ñÇ ÁÝ¹Ñ³Ýáõñ ÃÇíÁ | Z5: ¶áñÍÝ áõÕ³ñÏí»É ¿ Áëï ÁÝ¹¹³ïáõÃÛ³Ý | AA5: Ð³ßí»ïáõ Å³Ù³Ý³Ï³Ñ³ïí³ÍáõÙ Ï³ë»óí³Í í³ñáõÛÃÝ»ñáí ·áñÍ»ñÇ ÁÝ¹Ñ³Ýáõñ ÃÇíÁ | AB5: Ð³ßí»ïáõ Å³Ù³Ý³Ï³Ñ³ïí³ÍáõÙ ³Ý³í³ñï ·áñÍ»ñÇ ÁÝ¹Ñ³Ýáõñ ÃÇíÁ | AC5: ²Û¹ ÃíáõÙª Ï³ë»óí³Í | AD5: ´áÕáù³ñÏí³Í ¹³ï³Ï³Ý ³Ïï»ñÁ | AI5: ²í³ñïí³Í ¹³ï³Ï³Ý ·áñÍ»ñÇ µáÕáù³ñÏÙ³Ý ïáÏáëÁ (Ñ³ßí»ïáõ Å³Ù³Ý³Ï³ßñç³ÝáõÙ) | AJ5: ²Ý³í³ñï µáÕáùÝ»ñ | AK5: ´»Ï³Ýí³Í ¹³ï³Ï³Ý ³Ïï»ñÁ | AP5: µ»Ï³ÝáõÙÝ»ñÇ ïáÏáëÁ ³í³ñïí³Í ·áñÍ»ñÇó(Ñ³ßí»ïáõ Å³Ù³Ý³Ï³ßñç³ÝáõÙ) | AQ5: Î³ÛáõÝáõÃÛ³Ý ïáÏáëÁ ³í³ñïí³Í ·áñÍ»ñÇó(Ñ³ßí»ïáõ Å³Ù³Ý³Ï³ßñç³ÝáõÙ) | AR5: µ»Ï³ÝáõÙÝ»ñÇ ïáÏáëÁ µáÕáù³ñÏí³Í ·áñÍ»ñÇó(Ñ³ßí»ïáõ Å³Ù³Ý³Ï³ßñç³ÝáõÙ) | AS5: Ï³ÛáõÝáõÃÛ³Ý ïáÏáëÁ(Ñ³ßí»ïáõ Å³Ù³Ý³Ï³ßñç³ÝáõÙ)
E6: ÀÝ¹³Ù»ÝÁ | F6: ²Û¹ ÃíáõÙ`Ï³ë»óí³Í íÇ×³ÏáõÙ ÷áË³Ýóí³Í | G6: ²Û¹ ÃíáõÙª ÁÝ¹áõÝí»É ¿ í³ñáõÛÃ | H6: ²Û¹ ÃíáõÙª í»ñ³¹³ñÓí»É ¿ | I6: ²Û¹ ÃíáõÙª ÁÝ¹áõÝáõÙÁ Ù»ñÅí»É ¿ | J6: ÀÝ¹³Ù»ÝÁ | K6: ²Û¹ ÃíáõÙª ÁÝ¹áõÝí»É ¿ í³ñáõÛÃ | L6: ²Û¹ ÃíáõÙª í»ñ³¹³ñÓí»É ¿ | M6: ²Û¹ ÃíáõÙª ÁÝ¹áõÝáõÙÁ Ù»ñÅí»É ¿ | O6: ÀÝ¹³Ù»ÝÁ ³í³ñïí»É »Ý ·áñÍ»ñ ·áñÍÝ Áëï ¿áõÃÛ³Ý ÉáõÍáÕ ¹³ï³Ï³Ý ³Ïï»ñÇ (í×ÇéÝ»ñÇ) Ï³Û³óÙ³Ùµ | P6: ²Û¹ ÃíáõÙª Ñ³ÛóÇ µ³í³ñ³ñÙ³Ùµ | Q6: ²Û¹ ÃíáõÙª Ñ³ÛóÇ Ù³ëÝ³ÏÇ µ³í³ñ³ñÙ³Ùµ | R6: ²Û¹ ÃíáõÙª Ñ³ÛóÇ Ù»ñÅÙ³Ùµ | S6: Ø³ëáí Ï³ñ×í»É ¿É, Ù³ëáí Ù»ñÅí»É | T6: ²Û¹ ÃíáõÙª Ï³ñ×í»É »Ý | X6: Ð³ÛóÁ ÃáÕÝí»É ¿ ³é³Ýó ùÝÝáõÃÛ³Ý | Y6: ÀÝ¹³Ù»ÝÝ ³í³ñïí»É »Ý ·áñÍ»ñ | AD6: ²Û¹ ÃíáõÙ` ·áñÍÝ Áëï ¿áõÃÛ³Ý ÉáõÍáÕ ¹³ï³Ï³Ý ³Ïï»ñÁ | AE6: ²Û¹ ÃíáõÙ` ÙÇç³ÝÏÛ³É ¹³ï³Ï³Ý ³Ïï»ñÁ | AF6: ÀÝ¹³Ù»ÝÁ | AG6: Ü³Ëáñ¹ ï³ñÇÝ»ñÇÝ Ï³Û³óí³Í ³Ïï»ñÇ µáÕáù³ñÏáõÙÁ Ñ³ßí»ïáõ Å³Ù³Ý³Ï³ßñç³ÝáõÙ | AH6: Ð³ßí»ïáõ Å³Ù³Ý³Ï³ßñç³ÝáõÙ Ï³Û³óí³Í ³Ïï»ñÇ µáÕáù³ñÏáõÙÁ | AK6: ²Û¹ ÃíáõÙ` ·áñÍÝ Áëï ¿áõÃÛ³Ý ÉáõÍáÕ ¹³ï³Ï³Ý ³Ïï»ñÁ | AL6: ²Û¹ ÃíáõÙ` ÙÇç³ÝÏÛ³É ¹³ï³Ï³Ý ³Ïï»ñÁ | AM6: ÀÝ¹³Ù»ÝÁ | AN6: Ü³Ëáñ¹ ï³ñÇÝ»ñÇÝ Ï³Û³óí³Í ³Ïï»ñÇ µ»Ï³ÝáõÙÝ»ñÁ Ñ³ßí»ïáõ Å³Ù³Ý³Ï³ßñç³ÝáõÙ | AO6: Ð³ßí»ïáõ Å³Ù³Ý³Ï³ßñç³ÝáõÙ Ï³Û³óí³Í ³Ïï»ñÇ µ»Ï³ÝáõÙÁ
T7: ÀÝ¹³Ù»ÝÁ Ï³ñ×í»É »Ý | U7: ²Û¹ ÃíáõÙª Ñ³ëï³ïí»É ¿ ÏÝùí³Í Ñ³ßïáõÃÛ³Ý Ñ³Ù³Ó³ÛÝáõÃÛáõÝÁ | V7: ²Û¹ ÃíáõÙª Ñ³óÇó, ¹ÇÙáõÙÇó Ññ³Å³ñí»Éáõ ÑÇÙùáí | W7: ²Û¹ ÃíáõÙª ³ÛÉ ÑÇÙùáí
E8: 1 | F8: 2 | G8: 3 | H8: 4 | I8: 5 | J8: 6 | K8: 7 | L8: 8 | M8: 9 | N8: 10 | O8: 11 | P8: 12 | Q8: 13 | R8: 14 | S8: 15 | T8: 16 | U8: 17 | V8: 18 | W8: 19 | X8: 20 | Y8: 21 | Z8: 22 | AA8: 23 | AB8: 24 | AC8: 25 | AD8: 26 | AE8: 27 | AF8: 28 | AG8: 29 | AH8: 30 | AI8: 31 | AJ8: 32 | AK8: 33 | AL8: 34 | AM8: 35 | AN8: 36 | AO8: 37 | AP8: 38 | AQ8: 39 | AR8: 40 | AS8: 41 | AT8: 1=2+3+4+5 | AV8: 6=7+8+9 | AX8: 2+3+7=10+21+22+24 | AZ8: 11=12+13+14+15+16 | BB8: 16=17+18+19 | BD8: 21=11+20 | BF8: 28=26+27 | BH8: 28=29+30 | BJ8: 35=33+34 | BL8: 35=36+37
A9: 1. | B9: ¶áõÛù³ÛÇÝ Çñ³í³Ñ³ñ³µ»ñáõÃÛáõÝÝ»ñÇ í»ñ³µ»ñÛ³É ¹³ï³Ï³Ý ·áñÍ»ñ | E9: =SUM(E10:E28) -> 16 | F9: =SUM(F10:F28) -> 6 | G9: =SUM(G10:G28) -> 10 | H9: =SUM(H10:H28) -> 0 | I9: =SUM(I10:I28) -> 0 | J9: =SUM(J10:J28) -> 9 | K9: =SUM(K10:K28) -> 6 | L9: =SUM(L10:L28) -> 3 | ... BC9: =SUM(BC10:BC28) -> 2 | BD9: =Y9 -> 5 | BE9: =O9+X9 -> 5 | BF9: =SUM(BF10:BF28) -> 0 | BG9: =SUM(BG10:BG28) -> 0 | BH9: =SUM(BH10:BH28) -> 0 | BI9: =SUM(BI10:BI28) -> 0 | BJ9: =SUM(BJ10:BJ28) -> 0 | BK9: =SUM(BK10:BK28) -> 0 | BL9: =SUM(BL10:BL28) -> 0 | BM9: =SUM(BM10:BM28) -> 0
A10: 1.1 | B10: ¶áõÛùÇ ÝÏ³ïÙ³Ùµ ë»÷³Ï³ÝáõÃÛ³Ý Çñ³íáõÝùÁ ×³Ý³ã»Éáõ í»ñ³µ»ñÛ³É | J10: 1 | L10: 1 | AT10: =E10 -> 0 | AU10: =F10+G10+H10+I10 -> 0 | AV10: =J10 -> 1 | AW10: =K10+L10+M10 -> 1 | AX10: =F10+G10+K10 -> 0 | AY10: =N10+Y10+Z10+AB10 -> 0 | AZ10: =O10 -> 0 | BA10: =P10+Q10+R10+S10+T10 -> 0 | BB10: =T10 -> 0 | BC10: =+U10+V10+W10 -> 0 | BD10: =Y10 -> 0 | BE10: =O10+X10 -> 0 | BF10: =AF10 -> 0 | BG10: =AD10+AE10 -> 0 | BH10: =AF10 -> 0 | BI10: =AG10+AH10 -> 0 | BJ10: =AM10 -> 0 | BK10: =AK10+AL10 -> 0 | BL10: =AM10 -> 0 | BM10: =AN10+AO10 -> 0
A11: 1.1.1 | B11: ²Û¹ ÃíáõÙª Ó»éùµ»ñÙ³Ý í³Õ»ÙáõÃÛ³Ý áõÅáí | AT11: =E11 -> 0 | AU11: =F11+G11+H11+I11 -> 0 | AV11: =J11 -> 0 | AW11: =K11+L11+M11 -> 0 | AX11: =F11+G11+K11 -> 0 | AY11: =N11+Y11+Z11+AB11 -> 0 | AZ11: =O11 -> 0 | BA11: =P11+Q11+R11+S11+T11 -> 0 | BB11: =T11 -> 0 | BC11: =+U11+V11+W11 -> 0 | BD11: =Y11 -> 0 | BE11: =O11+X11 -> 0 | BF11: =AF11 -> 0 | BG11: =AD11+AE11 -> 0 | BH11: =AF11 -> 0 | BI11: =AG11+AH11 -> 0 | BJ11: =AM11 -> 0 | BK11: =AK11+AL11 -> 0 | BL11: =AM11 -> 0 | BM11: =AN11+AO11 -> 0
A12: 1.1.2 | B12: ²Û¹ ÃíáõÙª ïÇñ³½áõñÏ ·áõÛùÇ ÝÏ³ïÙ³Ùµ | J12: 3 | K12: 1 | L12: 2 | AB12: 1 | AT12: =E12 -> 0 | AU12: =F12+G12+H12+I12 -> 0 | AV12: =J12 -> 3 | AW12: =K12+L12+M12 -> 3 | AX12: =F12+G12+K12 -> 1 | AY12: =N12+Y12+Z12+AB12 -> 1 | AZ12: =O12 -> 0 | BA12: =P12+Q12+R12+S12+T12 -> 0 | BB12: =T12 -> 0 | BC12: =+U12+V12+W12 -> 0 | BD12: =Y12 -> 0 | BE12: =O12+X12 -> 0 | BF12: =AF12 -> 0 | BG12: =AD12+AE12 -> 0 | BH12: =AF12 -> 0 | BI12: =AG12+AH12 -> 0 | BJ12: =AM12 -> 0 | BK12: =AK12+AL12 -> 0 | BL12: =AM12 -> 0 | BM12: =AN12+AO12 -> 0
A13: 1.1.3 | B13: ²Û¹ ÃíáõÙª ÇÝùÝ³Ï³Ù Ï³éáõÛóÇ ÝÏ³ïÙ³Ùµ | AT13: =E13 -> 0 | AU13: =F13+G13+H13+I13 -> 0 | AV13: =J13 -> 0 | AW13: =K13+L13+M13 -> 0 | AX13: =F13+G13+K13 -> 0 | AY13: =N13+Y13+Z13+AB13 -> 0 | AZ13: =O13 -> 0 | BA13: =P13+Q13+R13+S13+T13 -> 0 | BB13: =T13 -> 0 | BC13: =+U13+V13+W13 -> 0 | BD13: =Y13 -> 0 | BE13: =O13+X13 -> 0 | BF13: =AF13 -> 0 | BG13: =AD13+AE13 -> 0 | BH13: =AF13 -> 0 | BI13: =AG13+AH13 -> 0 | BJ13: =AM13 -> 0 | BK13: =AK13+AL13 -> 0 | BL13: =AM13 -> 0 | BM13: =AN13+AO13 -> 0
