Workbook

Sheet Ընդհանուր
A1: 2015Ã. | G1: Ð²ÞìºîìàôÂÚàôÜ | AM1: Ï³½Ùí³Í` ÐÐ Ï³é³í³ñáõÃÛ³Ý 19.03.2015Ã. ÃÇí 306-Ü áñáßÙ³Ý ÑÇÙ³Ý íñ³
A2: ՀՀ ՍՅՈՒՆԻՔԻ ՄԱՐԶԻ ÀÜ¸Ð²Üàôð Æð²ì²êàôÂÚ²Ü ²è²æÆÜ ²îÚ²ÜÆ ¸²î²ð²ÜÆ ¸²î²ìàð | Z2: ¶àðÌàôÜºàôÂÚ²Ü ìºð²´ºðÚ²È
A3: ø²Ô²ø²òÆ²Î²Ü ¶àðÌºðàì
A4: ՀՀ Սյունիքի մարզի ÁÝ¹Ñ³Ýáõñ Çñ³í³ëáõÃÛ³Ý ³é³çÇÝ ³ïÛ³ÝÇ ¹³ï³ñ³ÝÇ ù³Õ³ù³óÇ³Ï³Ý Ù³ëÝ³·Çï³óáõÙ áõÝ»óáÕ ¹³ï³íáñÝ»ñÇ Ñ³ëïÇùÝ»ñÇ ù³Ý³ÏÁ` 5
A5: êïáõ·Çã Ñ³í³ë³ñáõÙÝ»ñª 1=2+3+4+5, 6=7+8+9, 2+3+7=10+21+22+24, 11=12+13+14+15+16, 16=17+18+19, 21=11+20, 28=26+27, 28=29+30, 35=33+34, 35=36+37 | E5: Ð³ßí»ïáõ Å³Ù³Ý³Ï³Ñ³ïí³ÍáõÙ Ý³Ëáñ¹ Ñ³ßí»ïáõ Å³Ù³Ý³Ï³Ñ³ïí³ÍÇó ÷áË³Ýóí³Í ·áñÍ»ñÇ ÁÝ¹Ñ³Ýáõñ ÃÇíÁ | J5: Ð³ßí»ïáõ Å³Ù³Ý³Ï³Ñ³ïí³ÍáõÙëï³óí³Í ·áñÍ»ñÇ (³Û¹ ÃíáõÙ` Ñ³Ûó³¹ÇÙáõÙÝ»ñÇ, ¹ÇÙáõÙÝ»ñÇ) ÁÝ¹Ñ³Ýáõñ ÃÇíÁ | N5: öáË³Ýóí»É ¿ ³ÛÉ ¹³ï³íáñÇ (Ï³½ÙÇ ÷á÷áËáõÃÛáõÝ) | O5: Ð³ßí»ïáõ Å³Ù³Ý³Ï³Ñ³ïí³ÍáõÙ ³í³ñïí³Í ·áñÍ»ñÇ ÁÝ¹Ñ³Ýáõñ ÃÇíÁ | Z5: ¶áñÍÝ áõÕ³ñÏí»É ¿ Áëï ÁÝ¹¹³ïáõÃÛ³Ý | AA5: Ð³ßí»ïáõ Å³Ù³Ý³Ï³Ñ³ïí³ÍáõÙ Ï³ë»óí³Í í³ñáõÛÃÝ»ñáí ·áñÍ»ñÇ ÁÝ¹Ñ³Ýáõñ ÃÇíÁ | AB5: Ð³ßí»ïáõ Å³Ù³Ý³Ï³Ñ³ïí³ÍáõÙ ³Ý³í³ñï ·áñÍ»ñÇ ÁÝ¹Ñ³Ýáõñ ÃÇíÁ | AC5: ²Û¹ ÃíáõÙª Ï³ë»óí³Í | AD5: ´áÕáù³ñÏí³Í ¹³ï³Ï³Ý ³Ïï»ñÁ | AI5: ²í³ñïí³Í ¹³ï³Ï³Ý ·áñÍ»ñÇ µáÕáù³ñÏÙ³Ý ïáÏáëÁ (Ñ³ßí»ïáõ Å³Ù³Ý³Ï³ßñç³ÝáõÙ) | AJ5: ²Ý³í³ñï µáÕáùÝ»ñ | AK5: ´»Ï³Ýí³Í ¹³ï³Ï³Ý ³Ïï»ñÁ | AP5: µ»Ï³ÝáõÙÝ»ñÇ ïáÏáëÁ ³í³ñïí³Í ·áñÍ»ñÇó(Ñ³ßí»ïáõ Å³Ù³Ý³Ï³ßñç³ÝáõÙ) | AQ5: Î³ÛáõÝáõÃÛ³Ý ïáÏáëÁ ³í³ñïí³Í ·áñÍ»ñÇó(Ñ³ßí»ïáõ Å³Ù³Ý³Ï³ßñç³ÝáõÙ) | AR5: µ»Ï³ÝáõÙÝ»ñÇ ïáÏáëÁ µáÕáù³ñÏí³Í ·áñÍ»ñÇó(Ñ³ßí»ïáõ Å³Ù³Ý³Ï³ßñç³ÝáõÙ) | AS5: Ï³ÛáõÝáõÃÛ³Ý ïáÏáëÁ(Ñ³ßí»ïáõ Å³Ù³Ý³Ï³ßñç³ÝáõÙ)
E6: ÀÝ¹³Ù»ÝÁ | F6: ²Û¹ ÃíáõÙ`Ï³ë»óí³Í íÇ×³ÏáõÙ ÷áË³Ýóí³Í | G6: ²Û¹ ÃíáõÙª ÁÝ¹áõÝí»É ¿ í³ñáõÛÃ | H6: ²Û¹ ÃíáõÙª í»ñ³¹³ñÓí»É ¿ | I6: ²Û¹ ÃíáõÙª ÁÝ¹áõÝáõÙÁ Ù»ñÅí»É ¿ | J6: ÀÝ¹³Ù»ÝÁ | K6: ²Û¹ ÃíáõÙª ÁÝ¹áõÝí»É ¿ í³ñáõÛÃ | L6: ²Û¹ ÃíáõÙª í»ñ³¹³ñÓí»É ¿ | M6: ²Û¹ ÃíáõÙª ÁÝ¹áõÝáõÙÁ Ù»ñÅí»É ¿ | O6: ÀÝ¹³Ù»ÝÁ ³í³ñïí»É »Ý ·áñÍ»ñ ·áñÍÝ Áëï ¿áõÃÛ³Ý ÉáõÍáÕ ¹³ï³Ï³Ý ³Ïï»ñÇ (í×ÇéÝ»ñÇ) Ï³Û³óÙ³Ùµ | P6: ²Û¹ ÃíáõÙª Ñ³ÛóÇ µ³í³ñ³ñÙ³Ùµ | Q6: ²Û¹ ÃíáõÙª Ñ³ÛóÇ Ù³ëÝ³ÏÇ µ³í³ñ³ñÙ³Ùµ | R6: ²Û¹ ÃíáõÙª Ñ³ÛóÇ Ù»ñÅÙ³Ùµ | S6: Ø³ëáí Ï³ñ×í»É ¿É, Ù³ëáí Ù»ñÅí»É | T6: ²Û¹ ÃíáõÙª Ï³ñ×í»É »Ý | X6: Ð³ÛóÁ ÃáÕÝí»É ¿ ³é³Ýó ùÝÝáõÃÛ³Ý | Y6: ÀÝ¹³Ù»ÝÝ ³í³ñïí»É »Ý ·áñÍ»ñ | AD6: ²Û¹ ÃíáõÙ` ·áñÍÝ Áëï ¿áõÃÛ³Ý ÉáõÍáÕ ¹³ï³Ï³Ý ³Ïï»ñÁ | AE6: ²Û¹ ÃíáõÙ` ÙÇç³ÝÏÛ³É ¹³ï³Ï³Ý ³Ïï»ñÁ | AF6: ÀÝ¹³Ù»ÝÁ | AG6: Ü³Ëáñ¹ ï³ñÇÝ»ñÇÝ Ï³Û³óí³Í ³Ïï»ñÇ µáÕáù³ñÏáõÙÁ Ñ³ßí»ïáõ Å³Ù³Ý³Ï³ßñç³ÝáõÙ | AH6: Ð³ßí»ïáõ Å³Ù³Ý³Ï³ßñç³ÝáõÙ Ï³Û³óí³Í ³Ïï»ñÇ µáÕáù³ñÏáõÙÁ | AK6: ²Û¹ ÃíáõÙ` ·áñÍÝ Áëï ¿áõÃÛ³Ý ÉáõÍáÕ ¹³ï³Ï³Ý ³Ïï»ñÁ | AL6: ²Û¹ ÃíáõÙ` ÙÇç³ÝÏÛ³É ¹³ï³Ï³Ý ³Ïï»ñÁ | AM6: ÀÝ¹³Ù»ÝÁ | AN6: Ü³Ëáñ¹ ï³ñÇÝ»ñÇÝ Ï³Û³óí³Í ³Ïï»ñÇ µ»Ï³ÝáõÙÝ»ñÁ Ñ³ßí»ïáõ Å³Ù³Ý³Ï³ßñç³ÝáõÙ | AO6: Ð³ßí»ïáõ Å³Ù³Ý³Ï³ßñç³ÝáõÙ Ï³Û³óí³Í ³Ïï»ñÇ µ»Ï³ÝáõÙÁ
T7: ÀÝ¹³Ù»ÝÁ Ï³ñ×í»É »Ý | U7: ²Û¹ ÃíáõÙª Ñ³ëï³ïí»É ¿ ÏÝùí³Í Ñ³ßïáõÃÛ³Ý Ñ³Ù³Ó³ÛÝáõÃÛáõÝÁ | V7: ²Û¹ ÃíáõÙª Ñ³óÇó, ¹ÇÙáõÙÇó Ññ³Å³ñí»Éáõ ÑÇÙùáí | W7: ²Û¹ ÃíáõÙª ³ÛÉ ÑÇÙùáí
E8: 1 | F8: 2 | G8: 3 | H8: 4 | I8: 5 | J8: 6 | K8: 7 | L8: 8 | M8: 9 | N8: 10 | O8: 11 | P8: 12 | Q8: 13 | R8: 14 | S8: 15 | T8: 16 | U8: 17 | V8: 18 | W8: 19 | X8: 20 | Y8: 21 | Z8: 22 | AA8: 23 | AB8: 24 | AC8: 25 | AD8: 26 | AE8: 27 | AF8: 28 | AG8: 29 | AH8: 30 | AI8: 31 | AJ8: 32 | AK8: 33 | AL8: 34 | AM8: 35 | AN8: 36 | AO8: 37 | AP8: 38 | AQ8: 39 | AR8: 40 | AS8: 41 | AT8: 1=2+3+4+5 | AV8: 6=7+8+9 | AX8: 2+3+7=10+21+22+24 | AZ8: 11=12+13+14+15+16 | BB8: 16=17+18+19 | BD8: 21=11+20 | BF8: 28=26+27 | BH8: 28=29+30 | BJ8: 35=33+34 | BL8: 35=36+37
A9: 1. | B9: ¶áõÛù³ÛÇÝ Çñ³í³Ñ³ñ³µ»ñáõÃÛáõÝÝ»ñÇ í»ñ³µ»ñÛ³É ¹³ï³Ï³Ý ·áñÍ»ñ | E9: =SUM(E10:E28) -> 85 | F9: =SUM(F10:F28) -> 39 | G9: =SUM(G10:G28) -> 46 | H9: =SUM(H10:H28) -> 0 | I9: =SUM(I10:I28) -> 0 | J9: =SUM(J10:J28) -> 54 | K9: =SUM(K10:K28) -> 45 | L9: =SUM(L10:L28) -> 9 | ... BM9: =SUM(BM10:BM28) -> 0
A10: 1.1 | B10: ¶áõÛùÇ ÝÏ³ïÙ³Ùµ ë»÷³Ï³ÝáõÃÛ³Ý Çñ³íáõÝùÁ ×³Ý³ã»Éáõ í»ñ³µ»ñÛ³É | E10: =SUM('Ի.Բեգլարյան:Ս. Գրիգորյան'!E10) -> 1 | F10: =SUM('Ի.Բեգլարյան:Ս. Գրիգորյան'!F10) -> 0 | G10: =SUM('Ի.Բեգլարյան:Ս. Գրիգորյան'!G10) -> 1 | H10: =SUM('Ի.Բեգլարյան:Ս. Գրիգորյան'!H10) -> 0 | I10: =SUM('Ի.Բեգլարյան:Ս. Գրիգորյան'!I10) -> 0 | J10: =SUM('Ի.Բեգլարյան:Ս. Գրիգորյան'!J10) -> 4 | K10: =SUM('Ի.Բեգլարյան:Ս. Գրիգորյան'!K10) -> 3 | L10: =SUM('Ի.Բեգլարյան:Ս. Գրիգորյան'!L10) -> 1 | ... AS10: =SUM('Ի.Բեգլարյան:Ս. Գրիգորյան'!AS10) -> 0 | AT10: =E10 -> 1 | AU10: =F10+G10+H10+I10 -> 1 | AV10: =J10 -> 4 | AW10: =K10+L10+M10 -> 4 | AX10: =F10+G10+K10 -> 4 | AY10: =N10+Y10+Z10+AB10 -> 4 | AZ10: =O10 -> 3 | BA10: =P10+Q10+R10+S10+T10 -> 3 | BB10: =T10 -> 1 | BC10: =+U10+V10+W10 -> 1 | BD10: =Y10 -> 3 | BE10: =+O10+X10 -> 3 | BF10: =AF10 -> 0 | BG10: =AD10+AE10 -> 0 | BH10: =AF10 -> 0 | BI10: =AG10+AH10 -> 0 | BJ10: =AM10 -> 0 | BK10: =AK10+AL10 -> 0 | BL10: =AM10 -> 0 | BM10: =AN10+AO10 -> 0
A11: 1.1.1 | B11: ²Û¹ ÃíáõÙª Ó»éùµ»ñÙ³Ý í³Õ»ÙáõÃÛ³Ý áõÅáí | E11: =SUM('Ի.Բեգլարյան:Ս. Գրիգորյան'!E11) -> 4 | F11: =SUM('Ի.Բեգլարյան:Ս. Գրիգորյան'!F11) -> 0 | G11: =SUM('Ի.Բեգլարյան:Ս. Գրիգորյան'!G11) -> 4 | H11: =SUM('Ի.Բեգլարյան:Ս. Գրիգորյան'!H11) -> 0 | I11: =SUM('Ի.Բեգլարյան:Ս. Գրիգորյան'!I11) -> 0 | J11: =SUM('Ի.Բեգլարյան:Ս. Գրիգորյան'!J11) -> 4 | K11: =SUM('Ի.Բեգլարյան:Ս. Գրիգորյան'!K11) -> 4 | L11: =SUM('Ի.Բեգլարյան:Ս. Գրիգորյան'!L11) -> 0 | ... AS11: =SUM('Ի.Բեգլարյան:Ս. Գրիգորյան'!AS11) -> 0 | AT11: =E11 -> 4 | AU11: =F11+G11+H11+I11 -> 4 | AV11: =J11 -> 4 | AW11: =K11+L11+M11 -> 4 | AX11: =F11+G11+K11 -> 8 | AY11: =N11+Y11+Z11+AB11 -> 8 | AZ11: =O11 -> 4 | BA11: =P11+Q11+R11+S11+T11 -> 4 | BB11: =T11 -> 0 | BC11: =+U11+V11+W11 -> 0 | BD11: =Y11 -> 4 | BE11: =+O11+X11 -> 4 | BF11: =AF11 -> 0 | BG11: =AD11+AE11 -> 0 | BH11: =AF11 -> 0 | BI11: =AG11+AH11 -> 0 | BJ11: =AM11 -> 0 | BK11: =AK11+AL11 -> 0 | BL11: =AM11 -> 0 | BM11: =AN11+AO11 -> 0
A12: 1.1.2 | B12: ²Û¹ ÃíáõÙª ïÇñ³½áõñÏ ·áõÛùÇ ÝÏ³ïÙ³Ùµ | E12: =SUM('Ի.Բեգլարյան:Ս. Գրիգորյան'!E12) -> 0 | F12: =SUM('Ի.Բեգլարյան:Ս. Գրիգորյան'!F12) -> 0 | G12: =SUM('Ի.Բեգլարյան:Ս. Գրիգորյան'!G12) -> 0 | H12: =SUM('Ի.Բեգլարյան:Ս. Գրիգորյան'!H12) -> 0 | I12: =SUM('Ի.Բեգլարյան:Ս. Գրիգորյան'!I12) -> 0 | J12: =SUM('Ի.Բեգլարյան:Ս. Գրիգորյան'!J12) -> 5 | K12: =SUM('Ի.Բեգլարյան:Ս. Գրիգորյան'!K12) -> 3 | L12: =SUM('Ի.Բեգլարյան:Ս. Գրիգորյան'!L12) -> 2 | ... AS12: =SUM('Ի.Բեգլարյան:Ս. Գրիգորյան'!AS12) -> 0 | AT12: =E12 -> 0 | AU12: =F12+G12+H12+I12 -> 0 | AV12: =J12 -> 5 | AW12: =K12+L12+M12 -> 5 | AX12: =F12+G12+K12 -> 3 | AY12: =N12+Y12+Z12+AB12 -> 3 | AZ12: =O12 -> 0 | BA12: =P12+Q12+R12+S12+T12 -> 0 | BB12: =T12 -> 0 | BC12: =+U12+V12+W12 -> 0 | BD12: =Y12 -> 0 | BE12: =+O12+X12 -> 0 | BF12: =AF12 -> 0 | BG12: =AD12+AE12 -> 0 | BH12: =AF12 -> 0 | BI12: =AG12+AH12 -> 0 | BJ12: =AM12 -> 0 | BK12: =AK12+AL12 -> 0 | BL12: =AM12 -> 0 | BM12: =AN12+AO12 -> 0
A13: 1.1.3 | B13: ²Û¹ ÃíáõÙª ÇÝùÝ³Ï³Ù Ï³éáõÛóÇ ÝÏ³ïÙ³Ùµ | E13: =SUM('Ի.Բեգլարյան:Ս. Գրիգորյան'!E13) -> 0 | F13: =SUM('Ի.Բեգլարյան:Ս. Գրիգորյան'!F13) -> 0 | G13: =SUM('Ի.Բեգլարյան:Ս. Գրիգորյան'!G13) -> 0 | H13: =SUM('Ի.Բեգլարյան:Ս. Գրիգորյան'!H13) -> 0 | I13: =SUM('Ի.Բեգլարյան:Ս. Գրիգորյան'!I13) -> 0 | J13: =SUM('Ի.Բեգլարյան:Ս. Գրիգորյան'!J13) -> 0 | K13: =SUM('Ի.Բեգլարյան:Ս. Գրիգորյան'!K13) -> 0 | L13: =SUM('Ի.Բեգլարյան:Ս. Գրիգորյան'!L13) -> 0 | ... AS13: =SUM('Ի.Բեգլարյան:Ս. Գրիգորյան'!AS13) -> 0 | AT13: =E13 -> 0 | AU13: =F13+G13+H13+I13 -> 0 | AV13: =J13 -> 0 | AW13: =K13+L13+M13 -> 0 | AX13: =F13+G13+K13 -> 0 | AY13: =N13+Y13+Z13+AB13 -> 0 | AZ13: =O13 -> 0 | BA13: =P13+Q13+R13+S13+T13 -> 0 | BB13: =T13 -> 0 | BC13: =+U13+V13+W13 -> 0 | BD13: =Y13 -> 0 | BE13: =+O13+X13 -> 0 | BF13: =AF13 -> 0 | BG13: =AD13+AE13 -> 0 | BH13: =AF13 -> 0 | BI13: =AG13+AH13 -> 0 | BJ13: =AM13 -> 0 | BK13: =AK13+AL13 -> 0 | BL13: =AM13 -> 0 | BM13: =AN13+AO13 -> 0
A14: 1.2 | B14: ê»÷³Ï³ÝáõÃÛ³Ý Çñ³íáõÝùÇ ¹³¹³ñ»óÙ³Ý í»ñ³µ»ñÛ³É | E14: =SUM('Ի.Բեգլարյան:Ս. Գրիգորյան'!E14) -> 0 | F14: =SUM('Ի.Բեգլարյան:Ս. Գրիգորյան'!F14) -> 0 | G14: =SUM('Ի.Բեգլարյան:Ս. Գրիգորյան'!G14) -> 0 | H14: =SUM('Ի.Բեգլարյան:Ս. Գրիգորյան'!H14) -> 0 | I14: =SUM('Ի.Բեգլարյան:Ս. Գրիգորյան'!I14) -> 0 | J14: =SUM('Ի.Բեգլարյան:Ս. Գրիգորյան'!J14) -> 0 | K14: =SUM('Ի.Բեգլարյան:Ս. Գրիգորյան'!K14) -> 0 | L14: =SUM('Ի.Բեգլարյան:Ս. Գրիգորյան'!L14) -> 0 | ... AS14: =SUM('Ի.Բեգլարյան:Ս. Գրիգորյան'!AS14) -> 0 | AT14: =E14 -> 0 | AU14: =F14+G14+H14+I14 -> 0 | AV14: =J14 -> 0 | AW14: =K14+L14+M14 -> 0 | AX14: =F14+G14+K14 -> 0 | AY14: =N14+Y14+Z14+AB14 -> 0 | AZ14: =O14 -> 0 | BA14: =P14+Q14+R14+S14+T14 -> 0 | BB14: =T14 -> 0 | BC14: =+U14+V14+W14 -> 0 | BD14: =Y14 -> 0 | BE14: =+O14+X14 -> 0 | BF14: =AF14 -> 0 | BG14: =AD14+AE14 -> 0 | BH14: =AF14 -> 0 | BI14: =AG14+AH14 -> 0 | BJ14: =AM14 -> 0 | BK14: =AK14+AL14 -> 0 | BL14: =AM14 -> 0 | BM14: =AN14+AO14 -> 0
A15: 1.3 | B15: ¶áõÛùÇ ÝÏ³ïÙ³Ùµ û·ï³·áñÍÙ³Ý Çñ³íáõÝùÁ ×³Ý³ã»Éáõ í»ñ³µ»ñÛ³É | E15: =SUM('Ի.Բեգլարյան:Ս. Գրիգորյան'!E15) -> 0 | F15: =SUM('Ի.Բեգլարյան:Ս. Գրիգորյան'!F15) -> 0 | G15: =SUM('Ի.Բեգլարյան:Ս. Գրիգորյան'!G15) -> 0 | H15: =SUM('Ի.Բեգլարյան:Ս. Գրիգորյան'!H15) -> 0 | I15: =SUM('Ի.Բեգլարյան:Ս. Գրիգորյան'!I15) -> 0 | J15: =SUM('Ի.Բեգլարյան:Ս. Գրիգորյան'!J15) -> 0 | K15: =SUM('Ի.Բեգլարյան:Ս. Գրիգորյան'!K15) -> 0 | L15: =SUM('Ի.Բեգլարյան:Ս. Գրիգորյան'!L15) -> 0 | ... AS15: =SUM('Ի.Բեգլարյան:Ս. Գրիգորյան'!AS15) -> 0 | AT15: =E15 -> 0 | AU15: =F15+G15+H15+I15 -> 0 | AV15: =J15 -> 0 | AW15: =K15+L15+M15 -> 0 | AX15: =F15+G15+K15 -> 0 | AY15: =N15+Y15+Z15+AB15 -> 0 | AZ15: =O15 -> 0 | BA15: =P15+Q15+R15+S15+T15 -> 0 | BB15: =T15 -> 0 | BC15: =+U15+V15+W15 -> 0 | BD15: =Y15 -> 0 | BE15: =+O15+X15 -> 0 | BF15: =AF15 -> 1 | BG15: =AD15+AE15 -> 1 | BH15: =AF15 -> 1 | BI15: =AG15+AH15 -> 1 | BJ15: =AM15 -> 0 | BK15: =AK15+AL15 -> 0 | BL15: =AM15 -> 0 | BM15: =AN15+AO15 -> 0
A16: 1.3.1 | B16: ²Û¹ ÃíáõÙª µÝ³Ïû·ï³·áñÍÙ³Ý Çñ³íáõÝùÁ ×³Ý³ã»Éáõ í»ñ³µ»ñÛ³É | E16: =SUM('Ի.Բեգլարյան:Ս. Գրիգորյան'!E16) -> 0 | F16: =SUM('Ի.Բեգլարյան:Ս. Գրիգորյան'!F16) -> 0 | G16: =SUM('Ի.Բեգլարյան:Ս. Գրիգորյան'!G16) -> 0 | H16: =SUM('Ի.Բեգլարյան:Ս. Գրիգորյան'!H16) -> 0 | I16: =SUM('Ի.Բեգլարյան:Ս. Գրիգորյան'!I16) -> 0 | J16: =SUM('Ի.Բեգլարյան:Ս. Գրիգորյան'!J16) -> 0 | K16: =SUM('Ի.Բեգլարյան:Ս. Գրիգորյան'!K16) -> 0 | L16: =SUM('Ի.Բեգլարյան:Ս. Գրիգորյան'!L16) -> 0 | ... AS16: =SUM('Ի.Բեգլարյան:Ս. Գրիգորյան'!AS16) -> 0 | AT16: =E16 -> 0 | AU16: =F16+G16+H16+I16 -> 0 | AV16: =J16 -> 0 | AW16: =K16+L16+M16 -> 0 | AX16: =F16+G16+K16 -> 0 | AY16: =N16+Y16+Z16+AB16 -> 0 | AZ16: =O16 -> 0 | BA16: =P16+Q16+R16+S16+T16 -> 0 | BB16: =T16 -> 0 | BC16: =+U16+V16+W16 -> 0 | BD16: =Y16 -> 0 | BE16: =+O16+X16 -> 0 | BF16: =AF16 -> 0 | BG16: =AD16+AE16 -> 0 | BH16: =AF16 -> 0 | BI16: =AG16+AH16 -> 0 | BJ16: =AM16 -> 0 | BK16: =AK16+AL16 -> 0 | BL16: =AM16 -> 0 | BM16: =AN16+AO16 -> 0
A17: 1.3.2 | B17: ²Û¹ ÃíáõÙª ÑáÕ³Ù³ëÇ ÝÏ³ïÙ³Ùµ û·ï³·áñÍÙ³Ý Çñ³íáõÝùÁ ×³Ý³ã»Éáõ í»ñ³µ»ñÛ³É | E17: =SUM('Ի.Բեգլարյան:Ս. Գրիգորյան'!E17) -> 0 | F17: =SUM('Ի.Բեգլարյան:Ս. Գրիգորյան'!F17) -> 0 | G17: =SUM('Ի.Բեգլարյան:Ս. Գրիգորյան'!G17) -> 0 | H17: =SUM('Ի.Բեգլարյան:Ս. Գրիգորյան'!H17) -> 0 | I17: =SUM('Ի.Բեգլարյան:Ս. Գրիգորյան'!I17) -> 0 | J17: =SUM('Ի.Բեգլարյան:Ս. Գրիգորյան'!J17) -> 0 | K17: =SUM('Ի.Բեգլարյան:Ս. Գրիգորյան'!K17) -> 0 | L17: =SUM('Ի.Բեգլարյան:Ս. Գրիգորյան'!L17) -> 0 | ... AS17: =SUM('Ի.Բեգլարյան:Ս. Գրիգորյան'!AS17) -> 0 | AT17: =E17 -> 0 | AU17: =F17+G17+H17+I17 -> 0 | AV17: =J17 -> 0 | AW17: =K17+L17+M17 -> 0 | AX17: =F17+G17+K17 -> 0 | AY17: =N17+Y17+Z17+AB17 -> 0 | AZ17: =O17 -> 0 | BA17: =P17+Q17+R17+S17+T17 -> 0 | BB17: =T17 -> 0 | BC17: =+U17+V17+W17 -> 0 | BD17: =Y17 -> 0 | BE17: =+O17+X17 -> 0 | BF17: =AF17 -> 0 | BG17: =AD17+AE17 -> 0 | BH17: =AF17 -> 0 | BI17: =AG17+AH17 -> 0 | BJ17: =AM17 -> 0 | BK17: =AK17+AL17 -> 0 | BL17: =AM17 -> 0 | BM17: =AN17+AO17 -> 0
A18: 1.4 | B18: ¶áõÛùÇ ÝÏ³ïÙ³Ùµ û·ï³·áñÍÙ³Ý Çñ³íáõÝùÁ ¹³¹³ñ»óÝ»Éáõ í»ñ³µ»ñÛ³É | E18: =SUM('Ի.Բեգլարյան:Ս. Գրիգորյան'!E18) -> 0 | F18: =SUM('Ի.Բեգլարյան:Ս. Գրիգորյան'!F18) -> 0 | G18: =SUM('Ի.Բեգլարյան:Ս. Գրիգորյան'!G18) -> 0 | H18: =SUM('Ի.Բեգլարյան:Ս. Գրիգորյան'!H18) -> 0 | I18: =SUM('Ի.Բեգլարյան:Ս. Գրիգորյան'!I18) -> 0 | J18: =SUM('Ի.Բեգլարյան:Ս. Գրիգորյան'!J18) -> 0 | K18: =SUM('Ի.Բեգլարյան:Ս. Գրիգորյան'!K18) -> 0 | L18: =SUM('Ի.Բեգլարյան:Ս. Գրիգորյան'!L18) -> 0 | ... AS18: =SUM('Ի.Բեգլարյան:Ս. Գրիգորյան'!AS18) -> 0 | AT18: =E18 -> 0 | AU18: =F18+G18+H18+I18 -> 0 | AV18: =J18 -> 0 | AW18: =K18+L18+M18 -> 0 | AX18: =F18+G18+K18 -> 0 | AY18: =N18+Y18+Z18+AB18 -> 0 | AZ18: =O18 -> 0 | BA18: =P18+Q18+R18+S18+T18 -> 0 | BB18: =T18 -> 0 | BC18: =+U18+V18+W18 -> 0 | BD18: =Y18 -> 0 | BE18: =+O18+X18 -> 0 | BF18: =AF18 -> 0 | BG18: =AD18+AE18 -> 0 | BH18: =AF18 -> 0 | BI18: =AG18+AH18 -> 0 | BJ18: =AM18 -> 0 | BK18: =AK18+AL18 -> 0 | BL18: =AM18 -> 0 | BM18: =AN18+AO18 -> 0
A19: 1.4.1 | B19: ²Û¹ ÃíáõÙª µÝ³Ïû·ï³·áñÍÙ³Ý Çñ³íáõÝùÁ ¹³¹³ñ»óÝ»Éáõ í»ñ³µ»ñÛ³É | E19: =SUM('Ի.Բեգլարյան:Ս. Գրիգորյան'!E19) -> 0 | F19: =SUM('Ի.Բեգլարյան:Ս. Գրիգորյան'!F19) -> 0 | G19: =SUM('Ի.Բեգլարյան:Ս. Գրիգորյան'!G19) -> 0 | H19: =SUM('Ի.Բեգլարյան:Ս. Գրիգորյան'!H19) -> 0 | I19: =SUM('Ի.Բեգլարյան:Ս. Գրիգորյան'!I19) -> 0 | J19: =SUM('Ի.Բեգլարյան:Ս. Գրիգորյան'!J19) -> 0 | K19: =SUM('Ի.Բեգլարյան:Ս. Գրիգորյան'!K19) -> 0 | L19: =SUM('Ի.Բեգլարյան:Ս. Գրիգորյան'!L19) -> 0 | ... AS19: =SUM('Ի.Բեգլարյան:Ս. Գրիգորյան'!AS19) -> 0 | AT19: =E19 -> 0 | AU19: =F19+G19+H19+I19 -> 0 | AV19: =J19 -> 0 | AW19: =K19+L19+M19 -> 0 | AX19: =F19+G19+K19 -> 0 | AY19: =N19+Y19+Z19+AB19 -> 0 | AZ19: =O19 -> 0 | BA19: =P19+Q19+R19+S19+T19 -> 0 | BB19: =T19 -> 0 | BC19: =+U19+V19+W19 -> 0 | BD19: =Y19 -> 0 | BE19: =+O19+X19 -> 0 | BF19: =AF19 -> 0 | BG19: =AD19+AE19 -> 0 | BH19: =AF19 -> 0 | BI19: =AG19+AH19 -> 0 | BJ19: =AM19 -> 0 | BK19: =AK19+AL19 -> 0 | BL19: =AM19 -> 0 | BM19: =AN19+AO19 -> 0
A20: 1.4.1/1 | B20: ²Û¹ ÃíáõÙª ÷áËÑ³ïáõóÙ³Ùµ | E20: =SUM('Ի.Բեգլարյան:Ս. Գրիգորյան'!E20) -> 0 | F20: =SUM('Ի.Բեգլարյան:Ս. Գրիգորյան'!F20) -> 0 | G20: =SUM('Ի.Բեգլարյան:Ս. Գրիգորյան'!G20) -> 0 | H20: =SUM('Ի.Բեգլարյան:Ս. Գրիգորյան'!H20) -> 0 | I20: =SUM('Ի.Բեգլարյան:Ս. Գրիգորյան'!I20) -> 0 | J20: =SUM('Ի.Բեգլարյան:Ս. Գրիգորյան'!J20) -> 1 | K20: =SUM('Ի.Բեգլարյան:Ս. Գրիգորյան'!K20) -> 0 | L20: =SUM('Ի.Բեգլարյան:Ս. Գրիգորյան'!L20) -> 1 | ... AS20: =SUM('Ի.Բեգլարյան:Ս. Գրիգորյան'!AS20) -> 0 | AT20: =E20 -> 0 | AU20: =F20+G20+H20+I20 -> 0 | AV20: =J20 -> 1 | AW20: =K20+L20+M20 -> 1 | AX20: =F20+G20+K20 -> 0 | AY20: =N20+Y20+Z20+AB20 -> 0 | AZ20: =O20 -> 0 | BA20: =P20+Q20+R20+S20+T20 -> 0 | BB20: =T20 -> 0 | BC20: =+U20+V20+W20 -> 0 | BD20: =Y20 -> 0 | BE20: =+O20+X20 -> 0 | BF20: =AF20 -> 0 | BG20: =AD20+AE20 -> 0 | BH20: =AF20 -> 0 | BI20: =AG20+AH20 -> 0 | BJ20: =AM20 -> 0 | BK20: =AK20+AL20 -> 0 | BL20: =AM20 -> 0 | BM20: =AN20+AO20 -> 0
A21: 1.5 | B21: ´Ý³Ï³ñ³ÝÇó/ ï³ñ³ÍùÇó/ íï³ñ»Éáõ í»ñ³µ»ñÛ³É | E21: =SUM('Ի.Բեգլարյան:Ս. Գրիգորյան'!E21) -> 5 | F21: =SUM('Ի.Բեգլարյան:Ս. Գրիգորյան'!F21) -> 2 | G21: =SUM('Ի.Բեգլարյան:Ս. Գրիգորյան'!G21) -> 3 | H21: =SUM('Ի.Բեգլարյան:Ս. Գրիգորյան'!H21) -> 0 | I21: =SUM('Ի.Բեգլարյան:Ս. Գրիգորյան'!I21) -> 0 | J21: =SUM('Ի.Բեգլարյան:Ս. Գրիգորյան'!J21) -> 3 | K21: =SUM('Ի.Բեգլարյան:Ս. Գրիգորյան'!K21) -> 3 | L21: =SUM('Ի.Բեգլարյան:Ս. Գրիգորյան'!L21) -> 0 | ... AS21: =SUM('Ի.Բեգլարյան:Ս. Գրիգորյան'!AS21) -> 0 | AT21: =E21 -> 5 | AU21: =F21+G21+H21+I21 -> 5 | AV21: =J21 -> 3 | AW21: =K21+L21+M21 -> 3 | AX21: =F21+G21+K21 -> 8 | AY21: =N21+Y21+Z21+AB21 -> 8 | AZ21: =O21 -> 1 | BA21: =P21+Q21+R21+S21+T21 -> 1 | BB21: =T21 -> 1 | BC21: =+U21+V21+W21 -> 1 | BD21: =Y21 -> 1 | BE21: =+O21+X21 -> 1 | BF21: =AF21 -> 0 | BG21: =AD21+AE21 -> 0 | BH21: =AF21 -> 0 | BI21: =AG21+AH21 -> 0 | BJ21: =AM21 -> 0 | BK21: =AK21+AL21 -> 0 | BL21: =AM21 -> 0 | BM21: =AN21+AO21 -> 0
A22: 1.6 | B22: ¶áõÛùÝ áõñÇßÇ ³åûñÇÝÇ ïÇñ³å»ïáõÙÇó »ï í»ñ³¹³ñÓÝ»Éáõ í»ñ³µ»ñÛ³É | E22: =SUM('Ի.Բեգլարյան:Ս. Գրիգորյան'!E22) -> 6 | F22: =SUM('Ի.Բեգլարյան:Ս. Գրիգորյան'!F22) -> 2 | G22: =SUM('Ի.Բեգլարյան:Ս. Գրիգորյան'!G22) -> 4 | H22: =SUM('Ի.Բեգլարյան:Ս. Գրիգորյան'!H22) -> 0 | I22: =SUM('Ի.Բեգլարյան:Ս. Գրիգորյան'!I22) -> 0 | J22: =SUM('Ի.Բեգլարյան:Ս. Գրիգորյան'!J22) -> 2 | K22: =SUM('Ի.Բեգլարյան:Ս. Գրիգորյան'!K22) -> 2 | L22: =SUM('Ի.Բեգլարյան:Ս. Գրիգորյան'!L22) -> 0 | ... AS22: =SUM('Ի.Բեգլարյան:Ս. Գրիգորյան'!AS22) -> 0 | AT22: =E22 -> 6 | AU22: =F22+G22+H22+I22 -> 6 | AV22: =J22 -> 2 | AW22: =K22+L22+M22 -> 2 | AX22: =F22+G22+K22 -> 8 | AY22: =N22+Y22+Z22+AB22 -> 8 | AZ22: =O22 -> 2 | BA22: =P22+Q22+R22+S22+T22 -> 2 | BB22: =T22 -> 1 | BC22: =+U22+V22+W22 -> 1 | BD22: =Y22 -> 2 | BE22: =+O22+X22 -> 2 | BF22: =AF22 -> 0 | BG22: =AD22+AE22 -> 0 | BH22: =AF22 -> 0 | BI22: =AG22+AH22 -> 0 | BJ22: =AM22 -> 0 | BK22: =AK22+AL22 -> 0 | BL22: =AM22 -> 0 | BM22: =AN22+AO22 -> 0
A23: 1.6.1 | B23: ´³ñ»ËÇÕ× Ó»éùµ»ñáÕÇó Çñ ·áõÛùÁ Ñ»ï å³Ñ³Ýç»Éáõ í»ñ³µ»ñÛ³É | E23: =SUM('Ի.Բեգլարյան:Ս. Գրիգորյան'!E23) -> 0 | F23: =SUM('Ի.Բեգլարյան:Ս. Գրիգորյան'!F23) -> 0 | G23: =SUM('Ի.Բեգլարյան:Ս. Գրիգորյան'!G23) -> 0 | H23: =SUM('Ի.Բեգլարյան:Ս. Գրիգորյան'!H23) -> 0 | I23: =SUM('Ի.Բեգլարյան:Ս. Գրիգորյան'!I23) -> 0 | J23: =SUM('Ի.Բեգլարյան:Ս. Գրիգորյան'!J23) -> 0 | K23: =SUM('Ի.Բեգլարյան:Ս. Գրիգորյան'!K23) -> 0 | L23: =SUM('Ի.Բեգլարյան:Ս. Գրիգորյան'!L23) -> 0 | ... AS23: =SUM('Ի.Բեգլարյան:Ս. Գրիգորյան'!AS23) -> 0 | AT23: =E23 -> 0 | AU23: =F23+G23+H23+I23 -> 0 | AV23: =J23 -> 0 | AW23: =K23+L23+M23 -> 0 | AX23: =F23+G23+K23 -> 0 | AY23: =N23+Y23+Z23+AB23 -> 0 | AZ23: =O23 -> 0 | BA23: =P23+Q23+R23+S23+T23 -> 0 | BB23: =T23 -> 0 | BC23: =+U23+V23+W23 -> 0 | BD23: =Y23 -> 0 | BE23: =+O23+X23 -> 0 | BF23: =AF23 -> 0 | BG23: =AD23+AE23 -> 0 | BH23: =AF23 -> 0 | BI23: =AG23+AH23 -> 0 | BJ23: =AM23 -> 0 | BK23: =AK23+AL23 -> 0 | BL23: =AM23 -> 0 | BM23: =AN23+AO23 -> 0
A24: 1.7 | B24: îÇñ³å»ïáõÙÇó ½ñÏ»Éáõ Ñ»ï ãÏ³åí³Í Çñ³íáõÝùÝ»ñÇ Ë³ËïáõÙÁ í»ñ³óÝ»Éáõ í»ñ³µ»ñÛ³É | E24: =SUM('Ի.Բեգլարյան:Ս. Գրիգորյան'!E24) -> 1 | F24: =SUM('Ի.Բեգլարյան:Ս. Գրիգորյան'!F24) -> 1 | G24: =SUM('Ի.Բեգլարյան:Ս. Գրիգորյան'!G24) -> 0 | H24: =SUM('Ի.Բեգլարյան:Ս. Գրիգորյան'!H24) -> 0 | I24: =SUM('Ի.Բեգլարյան:Ս. Գրիգորյան'!I24) -> 0 | J24: =SUM('Ի.Բեգլարյան:Ս. Գրիգորյան'!J24) -> 0 | K24: =SUM('Ի.Բեգլարյան:Ս. Գրիգորյան'!K24) -> 0 | L24: =SUM('Ի.Բեգլարյան:Ս. Գրիգորյան'!L24) -> 0 | ... AS24: =SUM('Ի.Բեգլարյան:Ս. Գրիգորյան'!AS24) -> 0 | AT24: =E24 -> 1 | AU24: =F24+G24+H24+I24 -> 1 | AV24: =J24 -> 0 | AW24: =K24+L24+M24 -> 0 | AX24: =F24+G24+K24 -> 1 | AY24: =N24+Y24+Z24+AB24 -> 1 | AZ24: =O24 -> 0 | BA24: =P24+Q24+R24+S24+T24 -> 0 | BB24: =T24 -> 0 | BC24: =+U24+V24+W24 -> 0 | BD24: =Y24 -> 0 | BE24: =+O24+X24 -> 0 | BF24: =AF24 -> 0 | BG24: =AD24+AE24 -> 0 | BH24: =AF24 -> 0 | BI24: =AG24+AH24 -> 0 | BJ24: =AM24 -> 0 | BK24: =AK24+AL24 -> 0 | BL24: =AM24 -> 0 | BM24: =AN24+AO24 -> 0
A25: 1.8 | B25: ÀÝ¹Ñ³Ýáõñ µ³ÅÝ³ÛÇÝ ë»÷³Ï³ÝáõÃÛáõÝÇó µ³ÅÇÝÝ ³é³ÝÓÝ³óÝ»Éáõ í»ñ³µ»ñÛ³É | E25: =SUM('Ի.Բեգլարյան:Ս. Գրիգորյան'!E25) -> 15 | F25: =SUM('Ի.Բեգլարյան:Ս. Գրիգորյան'!F25) -> 7 | G25: =SUM('Ի.Բեգլարյան:Ս. Գրիգորյան'!G25) -> 8 | H25: =SUM('Ի.Բեգլարյան:Ս. Գրիգորյան'!H25) -> 0 | I25: =SUM('Ի.Բեգլարյան:Ս. Գրիգորյան'!I25) -> 0 | J25: =SUM('Ի.Բեգլարյան:Ս. Գրիգորյան'!J25) -> 15 | K25: =SUM('Ի.Բեգլարյան:Ս. Գրիգորյան'!K25) -> 13 | L25: =SUM('Ի.Բեգլարյան:Ս. Գրիգորյան'!L25) -> 2 | ... AS25: =SUM('Ի.Բեգլարյան:Ս. Գրիգորյան'!AS25) -> 0 | AT25: =E25 -> 15 | AU25: =F25+G25+H25+I25 -> 15 | AV25: =J25 -> 15 | AW25: =K25+L25+M25 -> 15 | AX25: =F25+G25+K25 -> 28 | AY25: =N25+Y25+Z25+AB25 -> 28 | AZ25: =O25 -> 4 | BA25: =P25+Q25+R25+S25+T25 -> 4 | BB25: =T25 -> 1 | BC25: =+U25+V25+W25 -> 1 | BD25: =Y25 -> 4 | BE25: =+O25+X25 -> 4 | BF25: =AF25 -> 0 | BG25: =AD25+AE25 -> 0 | BH25: =AF25 -> 0 | BI25: =AG25+AH25 -> 0 | BJ25: =AM25 -> 0 | BK25: =AK25+AL25 -> 0 | BL25: =AM25 -> 0 | BM25: =AN25+AO25 -> 0
A26: 1.8.1 | B26: Ð³Ù³ï»Õ ë»÷³Ï³ÝáõÃÛ³Ý Ý»ñùá ·ïÝíáÕ ·áõÛùÁ µ³Å³Ý»Éáõ ¨ ¹ñ³ÝÇó µ³ÅÇÝÝ ³é³ÝÓÝ³óÝ»Éáõ í»ñ³µ»ñÛ³É | E26: =SUM('Ի.Բեգլարյան:Ս. Գրիգորյան'!E26) -> 16 | F26: =SUM('Ի.Բեգլարյան:Ս. Գրիգորյան'!F26) -> 7 | G26: =SUM('Ի.Բեգլարյան:Ս. Գրիգորյան'!G26) -> 9 | H26: =SUM('Ի.Բեգլարյան:Ս. Գրիգորյան'!H26) -> 0 | I26: =SUM('Ի.Բեգլարյան:Ս. Գրիգորյան'!I26) -> 0 | J26: =SUM('Ի.Բեգլարյան:Ս. Գրիգորյան'!J26) -> 3 | K26: =SUM('Ի.Բեգլարյան:Ս. Գրիգորյան'!K26) -> 2 | L26: =SUM('Ի.Բեգլարյան:Ս. Գրիգորյան'!L26) -> 1 | ... AS26: =SUM('Ի.Բեգլարյան:Ս. Գրիգորյան'!AS26) -> 0 | AT26: =E26 -> 16 | AU26: =F26+G26+H26+I26 -> 16 | AV26: =J26 -> 3 | AW26: =K26+L26+M26 -> 3 | AX26: =F26+G26+K26 -> 18 | AY26: =N26+Y26+Z26+AB26 -> 18 | AZ26: =O26 -> 8 | BA26: =P26+Q26+R26+S26+T26 -> 8 | BB26: =T26 -> 2 | BC26: =+U26+V26+W26 -> 2 | BD26: =Y26 -> 8 | BE26: =+O26+X26 -> 8 | BF26: =AF26 -> 0 | BG26: =AD26+AE26 -> 0 | BH26: =AF26 -> 0 | BI26: =AG26+AH26 -> 0 | BJ26: =AM26 -> 0 | BK26: =AK26+AL26 -> 0 | BL26: =AM26 -> 0 | BM26: =AN26+AO26 -> 0
... A28: 1.9 | B28: ²ÛÉ í»×»ñ | E28: =SUM('Ի.Բեգլարյան:Ս. Գրիգորյան'!E28) -> 28 | F28: =SUM('Ի.Բեգլարյան:Ս. Գրիգորյան'!F28) -> 15 | G28: =SUM('Ի.Բեգլարյան:Ս. Գրիգորյան'!G28) -> 13 | H28: =SUM('Ի.Բեգլարյան:Ս. Գրիգորյան'!H28) -> 0 | I28: =SUM('Ի.Բեգլարյան:Ս. Գրիգորյան'!I28) -> 0 | J28: =SUM('Ի.Բեգլարյան:Ս. Գրիգորյան'!J28) -> 11 | K28: =SUM('Ի.Բեգլարյան:Ս. Գրիգորյան'!K28) -> 9 | L28: =SUM('Ի.Բեգլարյան:Ս. Գրիգորյան'!L28) -> 2 | ... AS28: =SUM('Ի.Բեգլարյան:Ս. Գրիգորյան'!AS28) -> 0 | AT28: =E28 -> 28 | AU28: =F28+G28+H28+I28 -> 28 | AV28: =J28 -> 11 | AW28: =K28+L28+M28 -> 11 | AX28: =F28+G28+K28 -> 37 | AY28: =N28+Y28+Z28+AB28 -> 37 | AZ28: =O28 -> 11 | BA28: =P28+Q28+R28+S28+T28 -> 11 | BB28: =T28 -> 4 | BC28: =+U28+V28+W28 -> 4 | BD28: =Y28 -> 11 | BE28: =+O28+X28 -> 11 | BF28: =AF28 -> 1 | BG28: =AD28+AE28 -> 1 | BH28: =AF28 -> 1 | BI28: =AG28+AH28 -> 1 | BJ28: =AM28 -> 0 | BK28: =AK28+AL28 -> 0 | BL28: =AM28 -> 0 | BM28: =AN28+AO28 -> 0
A29: 2. | B29: ¶áñÍ³ñùÝ»ñÇ Ñ»ï Ï³åí³Í Çñ³í³Ñ³ñ³µ»ñáõÃÛáõÝÝ»ñÇ í»ñ³µ»ñÛ³É ¹³ï³Ï³Ý ·áñÍ»ñ | E29: =SUM(E30:E40) -> 7 | F29: =SUM(F30:F40) -> 0 | G29: =SUM(G30:G40) -> 7 | H29: =SUM(H30:H40) -> 0 | I29: =SUM(I30:I40) -> 0 | J29: =SUM(J30:J40) -> 7 | K29: =SUM(K30:K40) -> 5 | L29: =SUM(L30:L40) -> 2 | ... BM29: =SUM(BM30:BM40) -> 1
A30: 2.1 | B30: ·áñÍ³ñùÝ»ñÇ ³Ýí³í»ñáõÃÛ³Ý Ñ»ï Ï³åí³Í í»×»ñ | E30: =SUM('Ի.Բեգլարյան:Ս. Գրիգորյան'!E30) -> 1 | F30: =SUM('Ի.Բեգլարյան:Ս. Գրիգորյան'!F30) -> 0 | G30: =SUM('Ի.Բեգլարյան:Ս. Գրիգորյան'!G30) -> 1 | H30: =SUM('Ի.Բեգլարյան:Ս. Գրիգորյան'!H30) -> 0 | I30: =SUM('Ի.Բեգլարյան:Ս. Գրիգորյան'!I30) -> 0 | J30: =SUM('Ի.Բեգլարյան:Ս. Գրիգորյան'!J30) -> 1 | K30: =SUM('Ի.Բեգլարյան:Ս. Գրիգորյան'!K30) -> 1 | L30: =SUM('Ի.Բեգլարյան:Ս. Գրիգորյան'!L30) -> 0 | ... AS30: =SUM('Ի.Բեգլարյան:Ս. Գրիգորյան'!AS30) -> 0 | AT30: =E30 -> 1 | AU30: =F30+G30+H30+I30 -> 1 | AV30: =J30 -> 1 | AW30: =K30+L30+M30 -> 1 | AX30: =F30+G30+K30 -> 2 | AY30: =N30+Y30+Z30+AB30 -> 2 | AZ30: =O30 -> 0 | BA30: =P30+Q30+R30+S30+T30 -> 0 | BB30: =T30 -> 0 | BC30: =+U30+V30+W30 -> 0 | BD30: =Y30 -> 0 | BE30: =+O30+X30 -> 0 | BF30: =AF30 -> 1 | BG30: =AD30+AE30 -> 1 | BH30: =AF30 -> 1 | BI30: =AG30+AH30 -> 1 | BJ30: =AM30 -> 1 | BK30: =AK30+AL30 -> 1 | BL30: =AM30 -> 1 | BM30: =AN30+AO30 -> 1
A31: 2.1.1 | B31: ³Û¹ ÃíáõÙ` íÇ×³Ñ³ñáõÛó ·áñÍ³ñùÝ»ñÝ ³Ýí³í»ñ ×³Ý³ã»Éáõ í»ñ³µ»ñÛ³É | E31: =SUM('Ի.Բեգլարյան:Ս. Գրիգորյան'!E31) -> 0 | F31: =SUM('Ի.Բեգլարյան:Ս. Գրիգորյան'!F31) -> 0 | G31: =SUM('Ի.Բեգլարյան:Ս. Գրիգորյան'!G31) -> 0 | H31: =SUM('Ի.Բեգլարյան:Ս. Գրիգորյան'!H31) -> 0 | I31: =SUM('Ի.Բեգլարյան:Ս. Գրիգորյան'!I31) -> 0 | J31: =SUM('Ի.Բեգլարյան:Ս. Գրիգորյան'!J31) -> 1 | K31: =SUM('Ի.Բեգլարյան:Ս. Գրիգորյան'!K31) -> 1 | L31: =SUM('Ի.Բեգլարյան:Ս. Գրիգորյան'!L31) -> 0 | ... AS31: =SUM('Ի.Բեգլարյան:Ս. Գրիգորյան'!AS31) -> 0 | AT31: =E31 -> 0 | AU31: =F31+G31+H31+I31 -> 0 | AV31: =J31 -> 1 | AW31: =K31+L31+M31 -> 1 | AX31: =F31+G31+K31 -> 1 | AY31: =N31+Y31+Z31+AB31 -> 1 | AZ31: =O31 -> 0 | BA31: =P31+Q31+R31+S31+T31 -> 0 | BB31: =T31 -> 0 | BC31: =+U31+V31+W31 -> 0 | BD31: =Y31 -> 0 | BE31: =+O31+X31 -> 0 | BF31: =AF31 -> 0 | BG31: =AD31+AE31 -> 0 | BH31: =AF31 -> 0 | BI31: =AG31+AH31 -> 0 | BJ31: =AM31 -> 0 | BK31: =AK31+AL31 -> 0 | BL31: =AM31 -> 0 | BM31: =AN31+AO31 -> 0
A32: 2.1.2 | B32: ³Û¹ ÃíáõÙ` ·áñÍ³ñùÇ ³éáãÝãáõÃÛ³Ý Ñ»ï¨³ÝùÝ»ñ ÏÇñ³é»Éáõ í»ñ³µ»ñÛ³É | E32: =SUM('Ի.Բեգլարյան:Ս. Գրիգորյան'!E32) -> 1 | F32: =SUM('Ի.Բեգլարյան:Ս. Գրիգորյան'!F32) -> 0 | G32: =SUM('Ի.Բեգլարյան:Ս. Գրիգորյան'!G32) -> 1 | H32: =SUM('Ի.Բեգլարյան:Ս. Գրիգորյան'!H32) -> 0 | I32: =SUM('Ի.Բեգլարյան:Ս. Գրիգորյան'!I32) -> 0 | J32: =SUM('Ի.Բեգլարյան:Ս. Գրիգորյան'!J32) -> 0 | K32: =SUM('Ի.Բեգլարյան:Ս. Գրիգորյան'!K32) -> 0 | L32: =SUM('Ի.Բեգլարյան:Ս. Գրիգորյան'!L32) -> 0 | ... AS32: =SUM('Ի.Բեգլարյան:Ս. Գրիգորյան'!AS32) -> 0 | AT32: =E32 -> 1 | AU32: =F32+G32+H32+I32 -> 1 | AV32: =J32 -> 0 | AW32: =K32+L32+M32 -> 0 | AX32: =F32+G32+K32 -> 1 | AY32: =N32+Y32+Z32+AB32 -> 1 | AZ32: =O32 -> 0 | BA32: =P32+Q32+R32+S32+T32 -> 0 | BB32: =T32 -> 0 | BC32: =+U32+V32+W32 -> 0 | BD32: =Y32 -> 0 | BE32: =+O32+X32 -> 0 | BF32: =AF32 -> 0 | BG32: =AD32+AE32 -> 0 | BH32: =AF32 -> 0 | BI32: =AG32+AH32 -> 0 | BJ32: =AM32 -> 0 | BK32: =AK32+AL32 -> 0 | BL32: =AM32 -> 0 | BM32: =AN32+AO32 -> 0
A33: 2.2 | B33: ¶áñÍ³ñùÁ í³í»ñ ×³Ý³ã»Éáõ í»ñ³µ»ñÛ³É | E33: =SUM('Ի.Բեգլարյան:Ս. Գրիգորյան'!E33) -> 1 | F33: =SUM('Ի.Բեգլարյան:Ս. Գրիգորյան'!F33) -> 0 | G33: =SUM('Ի.Բեգլարյան:Ս. Գրիգորյան'!G33) -> 1 | H33: =SUM('Ի.Բեգլարյան:Ս. Գրիգորյան'!H33) -> 0 | I33: =SUM('Ի.Բեգլարյան:Ս. Գրիգորյան'!I33) -> 0 | J33: =SUM('Ի.Բեգլարյան:Ս. Գրիգորյան'!J33) -> 0 | K33: =SUM('Ի.Բեգլարյան:Ս. Գրիգորյան'!K33) -> 0 | L33: =SUM('Ի.Բեգլարյան:Ս. Գրիգորյան'!L33) -> 0 | ... AS33: =SUM('Ի.Բեգլարյան:Ս. Գրիգորյան'!AS33) -> 0 | AT33: =E33 -> 1 | AU33: =F33+G33+H33+I33 -> 1 | AV33: =J33 -> 0 | AW33: =K33+L33+M33 -> 0 | AX33: =F33+G33+K33 -> 1 | AY33: =N33+Y33+Z33+AB33 -> 1 | AZ33: =O33 -> 1 | BA33: =P33+Q33+R33+S33+T33 -> 1 | BB33: =T33 -> 0 | BC33: =+U33+V33+W33 -> 0 | BD33: =Y33 -> 1 | BE33: =+O33+X33 -> 1 | BF33: =AF33 -> 0 | BG33: =AD33+AE33 -> 0 | BH33: =AF33 -> 0 | BI33: =AG33+AH33 -> 0 | BJ33: =AM33 -> 0 | BK33: =AK33+AL33 -> 0 | BL33: =AM33 -> 0 | BM33: =AN33+AO33 -> 0
A34: 2.3 | B34: ¶áñÍ³ñùÇó Í³·áÕ Çñ³íáõÝùÝ»ñÁ ·ñ³Ýó»Éáõ í»ñ³µ»ñÛ³É | E34: =SUM('Ի.Բեգլարյան:Ս. Գրիգորյան'!E34) -> 0 | F34: =SUM('Ի.Բեգլարյան:Ս. Գրիգորյան'!F34) -> 0 | G34: =SUM('Ի.Բեգլարյան:Ս. Գրիգորյան'!G34) -> 0 | H34: =SUM('Ի.Բեգլարյան:Ս. Գրիգորյան'!H34) -> 0 | I34: =SUM('Ի.Բեգլարյան:Ս. Գրիգորյան'!I34) -> 0 | J34: =SUM('Ի.Բեգլարյան:Ս. Գրիգորյան'!J34) -> 0 | K34: =SUM('Ի.Բեգլարյան:Ս. Գրիգորյան'!K34) -> 0 | L34: =SUM('Ի.Բեգլարյան:Ս. Գրիգորյան'!L34) -> 0 | ... AS34: =SUM('Ի.Բեգլարյան:Ս. Գրիգորյան'!AS34) -> 0 | AT34: =E34 -> 0 | AU34: =F34+G34+H34+I34 -> 0 | AV34: =J34 -> 0 | AW34: =K34+L34+M34 -> 0 | AX34: =F34+G34+K34 -> 0 | AY34: =N34+Y34+Z34+AB34 -> 0 | AZ34: =O34 -> 0 | BA34: =P34+Q34+R34+S34+T34 -> 0 | BB34: =T34 -> 0 | BC34: =+U34+V34+W34 -> 0 | BD34: =Y34 -> 0 | BE34: =+O34+X34 -> 0 | BF34: =AF34 -> 0 | BG34: =AD34+AE34 -> 0 | BH34: =AF34 -> 0 | BI34: =AG34+AH34 -> 0 | BJ34: =AM34 -> 0 | BK34: =AK34+AL34 -> 0 | BL34: =AM34 -> 0 | BM34: =AN34+AO34 -> 0
A35: 2.4 | B35: ä³ÛÙ³Ý³·ÇñÝ ³Ýí³í»ñ ×³Ý³ã»Éáõ í»ñ³µ»ñÛ³É | E35: =SUM('Ի.Բեգլարյան:Ս. Գրիգորյան'!E35) -> 2 | F35: =SUM('Ի.Բեգլարյան:Ս. Գրիգորյան'!F35) -> 0 | G35: =SUM('Ի.Բեգլարյան:Ս. Գրիգորյան'!G35) -> 2 | H35: =SUM('Ի.Բեգլարյան:Ս. Գրիգորյան'!H35) -> 0 | I35: =SUM('Ի.Բեգլարյան:Ս. Գրիգորյան'!I35) -> 0 | J35: =SUM('Ի.Բեգլարյան:Ս. Գրիգորյան'!J35) -> 2 | K35: =SUM('Ի.Բեգլարյան:Ս. Գրիգորյան'!K35) -> 1 | L35: =SUM('Ի.Բեգլարյան:Ս. Գրիգորյան'!L35) -> 1 | ... AS35: =SUM('Ի.Բեգլարյան:Ս. Գրիգորյան'!AS35) -> 0 | AT35: =E35 -> 2 | AU35: =F35+G35+H35+I35 -> 2 | AV35: =J35 -> 2 | AW35: =K35+L35+M35 -> 2 | AX35: =F35+G35+K35 -> 3 | AY35: =N35+Y35+Z35+AB35 -> 3 | AZ35: =O35 -> 2 | BA35: =P35+Q35+R35+S35+T35 -> 2 | BB35: =T35 -> 1 | BC35: =+U35+V35+W35 -> 1 | BD35: =Y35 -> 2 | BE35: =+O35+X35 -> 2 | BF35: =AF35 -> 1 | BG35: =AD35+AE35 -> 1 | BH35: =AF35 -> 1 | BI35: =AG35+AH35 -> 1 | BJ35: =AM35 -> 0 | BK35: =AK35+AL35 -> 0 | BL35: =AM35 -> 0 | BM35: =AN35+AO35 -> 0
A36: 2.5 | B36: ä³ÛÙ³Ý³·ñÇÁ í³í»ñ ×³Ý³ã»Éáõ í»ñ³µ»ñÛ³É | E36: =SUM('Ի.Բեգլարյան:Ս. Գրիգորյան'!E36) -> 0 | F36: =SUM('Ի.Բեգլարյան:Ս. Գրիգորյան'!F36) -> 0 | G36: =SUM('Ի.Բեգլարյան:Ս. Գրիգորյան'!G36) -> 0 | H36: =SUM('Ի.Բեգլարյան:Ս. Գրիգորյան'!H36) -> 0 | I36: =SUM('Ի.Բեգլարյան:Ս. Գրիգորյան'!I36) -> 0 | J36: =SUM('Ի.Բեգլարյան:Ս. Գրիգորյան'!J36) -> 0 | K36: =SUM('Ի.Բեգլարյան:Ս. Գրիգորյան'!K36) -> 0 | L36: =SUM('Ի.Բեգլարյան:Ս. Գրիգորյան'!L36) -> 0 | ... AS36: =SUM('Ի.Բեգլարյան:Ս. Գրիգորյան'!AS36) -> 0 | AT36: =E36 -> 0 | AU36: =F36+G36+H36+I36 -> 0 | AV36: =J36 -> 0 | AW36: =K36+L36+M36 -> 0 | AX36: =F36+G36+K36 -> 0 | AY36: =N36+Y36+Z36+AB36 -> 0 | AZ36: =O36 -> 0 | BA36: =P36+Q36+R36+S36+T36 -> 0 | BB36: =T36 -> 0 | BC36: =+U36+V36+W36 -> 0 | BD36: =Y36 -> 0 | BE36: =+O36+X36 -> 0 | BF36: =AF36 -> 0 | BG36: =AD36+AE36 -> 0 | BH36: =AF36 -> 0 | BI36: =AG36+AH36 -> 0 | BJ36: =AM36 -> 0 | BK36: =AK36+AL36 -> 0 | BL36: =AM36 -> 0 | BM36: =AN36+AO36 -> 0
A37: 2.6 | B37: ä³ÛÙ³Ý³·ñÇó Í³·áÕ Çñ³íáõÝùÝ»ñÁ ·ñ³Ýó»Éáõ í»ñ³µ»ñÛ³É | E37: =SUM('Ի.Բեգլարյան:Ս. Գրիգորյան'!E37) -> 0 | F37: =SUM('Ի.Բեգլարյան:Ս. Գրիգորյան'!F37) -> 0 | G37: =SUM('Ի.Բեգլարյան:Ս. Գրիգորյան'!G37) -> 0 | H37: =SUM('Ի.Բեգլարյան:Ս. Գրիգորյան'!H37) -> 0 | I37: =SUM('Ի.Բեգլարյան:Ս. Գրիգորյան'!I37) -> 0 | J37: =SUM('Ի.Բեգլարյան:Ս. Գրիգորյան'!J37) -> 0 | K37: =SUM('Ի.Բեգլարյան:Ս. Գրիգորյան'!K37) -> 0 | L37: =SUM('Ի.Բեգլարյան:Ս. Գրիգորյան'!L37) -> 0 | ... AS37: =SUM('Ի.Բեգլարյան:Ս. Գրիգորյան'!AS37) -> 0 | AT37: =E37 -> 0 | AU37: =F37+G37+H37+I37 -> 0 | AV37: =J37 -> 0 | AW37: =K37+L37+M37 -> 0 | AX37: =F37+G37+K37 -> 0 | AY37: =N37+Y37+Z37+AB37 -> 0 | AZ37: =O37 -> 0 | BA37: =P37+Q37+R37+S37+T37 -> 0 | BB37: =T37 -> 0 | BC37: =+U37+V37+W37 -> 0 | BD37: =Y37 -> 0 | BE37: =+O37+X37 -> 0 | BF37: =AF37 -> 0 | BG37: =AD37+AE37 -> 0 | BH37: =AF37 -> 0 | BI37: =AG37+AH37 -> 0 | BJ37: =AM37 -> 0 | BK37: =AK37+AL37 -> 0 | BL37: =AM37 -> 0 | BM37: =AN37+AO37 -> 0
A38: 2.7 | B38: ä³ÛÙ³Ý³·ÇñÁ ÷á÷áË»Éáõ ¨ ÉáõÍ»Éáõ í»ñ³µ»ñÛ³É | E38: =SUM('Ի.Բեգլարյան:Ս. Գրիգորյան'!E38) -> 1 | F38: =SUM('Ի.Բեգլարյան:Ս. Գրիգորյան'!F38) -> 0 | G38: =SUM('Ի.Բեգլարյան:Ս. Գրիգորյան'!G38) -> 1 | H38: =SUM('Ի.Բեգլարյան:Ս. Գրիգորյան'!H38) -> 0 | I38: =SUM('Ի.Բեգլարյան:Ս. Գրիգորյան'!I38) -> 0 | J38: =SUM('Ի.Բեգլարյան:Ս. Գրիգորյան'!J38) -> 3 | K38: =SUM('Ի.Բեգլարյան:Ս. Գրիգորյան'!K38) -> 2 | L38: =SUM('Ի.Բեգլարյան:Ս. Գրիգորյան'!L38) -> 1 | ... AS38: =SUM('Ի.Բեգլարյան:Ս. Գրիգորյան'!AS38) -> 0 | AT38: =E38 -> 1 | AU38: =F38+G38+H38+I38 -> 1 | AV38: =J38 -> 3 | AW38: =K38+L38+M38 -> 3 | AX38: =F38+G38+K38 -> 3 | AY38: =N38+Y38+Z38+AB38 -> 3 | AZ38: =O38 -> 1 | BA38: =P38+Q38+R38+S38+T38 -> 1 | BB38: =T38 -> 0 | BC38: =+U38+V38+W38 -> 0 | BD38: =Y38 -> 1 | BE38: =+O38+X38 -> 1 | BF38: =AF38 -> 0 | BG38: =AD38+AE38 -> 0 | BH38: =AF38 -> 0 | BI38: =AG38+AH38 -> 0 | BJ38: =AM38 -> 0 | BK38: =AK38+AL38 -> 0 | BL38: =AM38 -> 0 | BM38: =AN38+AO38 -> 0
A39: 2.8 | B39: ä³ÛÙ³Ý³·Çñ ÏÝù»ÉáõÝ å³ñï³íáñ»óÝ»Éáõ í»ñ³µ»ñÛ³É | E39: =SUM('Ի.Բեգլարյան:Ս. Գրիգորյան'!E39) -> 0 | F39: =SUM('Ի.Բեգլարյան:Ս. Գրիգորյան'!F39) -> 0 | G39: =SUM('Ի.Բեգլարյան:Ս. Գրիգորյան'!G39) -> 0 | H39: =SUM('Ի.Բեգլարյան:Ս. Գրիգորյան'!H39) -> 0 | I39: =SUM('Ի.Բեգլարյան:Ս. Գրիգորյան'!I39) -> 0 | J39: =SUM('Ի.Բեգլարյան:Ս. Գրիգորյան'!J39) -> 0 | K39: =SUM('Ի.Բեգլարյան:Ս. Գրիգորյան'!K39) -> 0 | L39: =SUM('Ի.Բեգլարյան:Ս. Գրիգորյան'!L39) -> 0 | ... AS39: =SUM('Ի.Բեգլարյան:Ս. Գրիգորյան'!AS39) -> 0 | AT39: =E39 -> 0 | AU39: =F39+G39+H39+I39 -> 0 | AV39: =J39 -> 0 | AW39: =K39+L39+M39 -> 0 | AX39: =F39+G39+K39 -> 0 | AY39: =N39+Y39+Z39+AB39 -> 0 | AZ39: =O39 -> 0 | BA39: =P39+Q39+R39+S39+T39 -> 0 | BB39: =T39 -> 0 | BC39: =+U39+V39+W39 -> 0 | BD39: =Y39 -> 0 | BE39: =+O39+X39 -> 0 | BF39: =AF39 -> 0 | BG39: =AD39+AE39 -> 0 | BH39: =AF39 -> 0 | BI39: =AG39+AH39 -> 0 | BJ39: =AM39 -> 0 | BK39: =AK39+AL39 -> 0 | BL39: =AM39 -> 0 | BM39: =AN39+AO39 -> 0
A40: 2.9 | B40: ²ÛÉ í»×»ñ | E40: =SUM('Ի.Բեգլարյան:Ս. Գրիգորյան'!E40) -> 1 | F40: =SUM('Ի.Բեգլարյան:Ս. Գրիգորյան'!F40) -> 0 | G40: =SUM('Ի.Բեգլարյան:Ս. Գրիգորյան'!G40) -> 1 | H40: =SUM('Ի.Բեգլարյան:Ս. Գրիգորյան'!H40) -> 0 | I40: =SUM('Ի.Բեգլարյան:Ս. Գրիգորյան'!I40) -> 0 | J40: =SUM('Ի.Բեգլարյան:Ս. Գրիգորյան'!J40) -> 0 | K40: =SUM('Ի.Բեգլարյան:Ս. Գրիգորյան'!K40) -> 0 | L40: =SUM('Ի.Բեգլարյան:Ս. Գրիգորյան'!L40) -> 0 | ... AS40: =SUM('Ի.Բեգլարյան:Ս. Գրիգորյան'!AS40) -> 0 | AT40: =E40 -> 1 | AU40: =F40+G40+H40+I40 -> 1 | AV40: =J40 -> 0 | AW40: =K40+L40+M40 -> 0 | AX40: =F40+G40+K40 -> 1 | AY40: =N40+Y40+Z40+AB40 -> 1 | AZ40: =O40 -> 0 | BA40: =P40+Q40+R40+S40+T40 -> 0 | BB40: =T40 -> 0 | BC40: =+U40+V40+W40 -> 0 | BD40: =Y40 -> 0 | BE40: =+O40+X40 -> 0 | BF40: =AF40 -> 0 | BG40: =AD40+AE40 -> 0 | BH40: =AF40 -> 0 | BI40: =AG40+AH40 -> 0 | BJ40: =AM40 -> 0 | BK40: =AK40+AL40 -> 0 | BL40: =AM40 -> 0 | BM40: =AN40+AO40 -> 0
A41: 3. | B41: Ä³é³Ý·áõÃÛ³Ý Ñ»ï Ï³åí³Í Çñ³í³Ñ³ñ³µ»ñáõÃÛáõÝÝ»ñÇ í»ñ³µ»ñÛ³É ¹³ï³Ï³Ý ·áñÍ»ñ | E41: =SUM(E42:E48) -> 7 | F41: =SUM(F42:F48) -> 1 | G41: =SUM(G42:G48) -> 6 | H41: =SUM(H42:H48) -> 0 | I41: =SUM(I42:I48) -> 0 | J41: =SUM(J42:J48) -> 4 | K41: =SUM(K42:K48) -> 3 | L41: =SUM(L42:L48) -> 1 | ... BM41: =SUM(BM42:BM48) -> 1
...

Sheet Ի.Բեգլարյան
A1: 2016Ã. 1-ԻՆ ԿԻՍԱՄՅԱԿ | G1: Ð²ÞìºîìàôÂÚàôÜ | AM1: Ð³í»Éí³Í Ð³Û³ëï³ÝÇ Ð³Ýñ³å»ïáõÃÛ³Ý ¸³ï³ñ³ÝÝ»ñÇ Ý³Ë³·³ÑÝ»ñÇ ËáñÑñ¹Ç 25.08.2016Ã. ÃÇí 44-È áñáßÙ³Ý
A2: ՀՀ ՍՅՈՒՆԻՔԻ ՄԱՐԶԻ ÀÜ¸Ð²Üàôð Æð²ì²êàôÂÚ²Ü ²è²æÆÜ ²îÚ²ÜÆ ¸²î²ð²ÜÆ ¸²î²ìàð | Z2: Ի. ԲԵԳԼԱՐÚ²ÜÆ | AH2: ¶àðÌàôÜºàôÂÚ²Ü ìºð²´ºðÚ²È
A3: ø²Ô²ø²òÆ²Î²Ü ¶àðÌºðàì
A4: ՀՀ Սյունիքի մարզի ÁÝ¹Ñ³Ýáõñ Çñ³í³ëáõÃÛ³Ý ³é³çÇÝ ³ïÛ³ÝÇ ¹³ï³ñ³ÝÇ ù³Õ³ù³óÇ³Ï³Ý Ù³ëÝ³·Çï³óáõÙ áõÝ»óáÕ ¹³ï³íáñÝ»ñÇ Ñ³ëïÇùÝ»ñÇ ù³Ý³ÏÁ` 5
A5: êïáõ·Çã Ñ³í³ë³ñáõÙÝ»ñª 1=2+3+4+5, 6=7+8+9, 2+3+7=10+21+22+24, 11=12+13+14+15+16, 16=17+18+19, 21=11+20, 28=26+27, 28=29+30, 35=33+34, 35=36+37 | E5: Ð³ßí»ïáõ Å³Ù³Ý³Ï³Ñ³ïí³ÍáõÙ Ý³Ëáñ¹ Ñ³ßí»ïáõ Å³Ù³Ý³Ï³Ñ³ïí³ÍÇó ÷áË³Ýóí³Í ·áñÍ»ñÇ ÁÝ¹Ñ³Ýáõñ ÃÇíÁ | J5: Ð³ßí»ïáõ Å³Ù³Ý³Ï³Ñ³ïí³ÍáõÙëï³óí³Í ·áñÍ»ñÇ (³Û¹ ÃíáõÙ` Ñ³Ûó³¹ÇÙáõÙÝ»ñÇ, ¹ÇÙáõÙÝ»ñÇ) ÁÝ¹Ñ³Ýáõñ ÃÇíÁ | N5: öáË³Ýóí»É ¿ ³ÛÉ ¹³ï³íáñÇ (Ï³½ÙÇ ÷á÷áËáõÃÛáõÝ) | O5: Ð³ßí»ïáõ Å³Ù³Ý³Ï³Ñ³ïí³ÍáõÙ ³í³ñïí³Í ·áñÍ»ñÇ ÁÝ¹Ñ³Ýáõñ ÃÇíÁ | Z5: ¶áñÍÝ áõÕ³ñÏí»É ¿ Áëï ÁÝ¹¹³ïáõÃÛ³Ý | AA5: Ð³ßí»ïáõ Å³Ù³Ý³Ï³Ñ³ïí³ÍáõÙ Ï³ë»óí³Í í³ñáõÛÃÝ»ñáí ·áñÍ»ñÇ ÁÝ¹Ñ³Ýáõñ ÃÇíÁ | AB5: Ð³ßí»ïáõ Å³Ù³Ý³Ï³Ñ³ïí³ÍáõÙ ³Ý³í³ñï ·áñÍ»ñÇ ÁÝ¹Ñ³Ýáõñ ÃÇíÁ | AC5: ²Û¹ ÃíáõÙª Ï³ë»óí³Í | AD5: ´áÕáù³ñÏí³Í ¹³ï³Ï³Ý ³Ïï»ñÁ | AI5: ²í³ñïí³Í ¹³ï³Ï³Ý ·áñÍ»ñÇ µáÕáù³ñÏÙ³Ý ïáÏáëÁ (Ñ³ßí»ïáõ Å³Ù³Ý³Ï³ßñç³ÝáõÙ) | AJ5: ²Ý³í³ñï µáÕáùÝ»ñ | AK5: ´»Ï³Ýí³Í ¹³ï³Ï³Ý ³Ïï»ñÁ | AP5: µ»Ï³ÝáõÙÝ»ñÇ ïáÏáëÁ ³í³ñïí³Í ·áñÍ»ñÇó(Ñ³ßí»ïáõ Å³Ù³Ý³Ï³ßñç³ÝáõÙ) | AQ5: Î³ÛáõÝáõÃÛ³Ý ïáÏáëÁ ³í³ñïí³Í ·áñÍ»ñÇó(Ñ³ßí»ïáõ Å³Ù³Ý³Ï³ßñç³ÝáõÙ) | AR5: µ»Ï³ÝáõÙÝ»ñÇ ïáÏáëÁ µáÕáù³ñÏí³Í ·áñÍ»ñÇó(Ñ³ßí»ïáõ Å³Ù³Ý³Ï³ßñç³ÝáõÙ) | AS5: Ï³ÛáõÝáõÃÛ³Ý ïáÏáëÁ(Ñ³ßí»ïáõ Å³Ù³Ý³Ï³ßñç³ÝáõÙ)
E6: ÀÝ¹³Ù»ÝÁ | F6: ²Û¹ ÃíáõÙ`Ï³ë»óí³Í íÇ×³ÏáõÙ ÷áË³Ýóí³Í | G6: ²Û¹ ÃíáõÙª ÁÝ¹áõÝí»É ¿ í³ñáõÛÃ | H6: ²Û¹ ÃíáõÙª í»ñ³¹³ñÓí»É ¿ | I6: ²Û¹ ÃíáõÙª ÁÝ¹áõÝáõÙÁ Ù»ñÅí»É ¿ | J6: ÀÝ¹³Ù»ÝÁ | K6: ²Û¹ ÃíáõÙª ÁÝ¹áõÝí»É ¿ í³ñáõÛÃ | L6: ²Û¹ ÃíáõÙª í»ñ³¹³ñÓí»É ¿ | M6: ²Û¹ ÃíáõÙª ÁÝ¹áõÝáõÙÁ Ù»ñÅí»É ¿ | O6: ÀÝ¹³Ù»ÝÁ ³í³ñïí»É »Ý ·áñÍ»ñ ·áñÍÝ Áëï ¿áõÃÛ³Ý ÉáõÍáÕ ¹³ï³Ï³Ý ³Ïï»ñÇ (í×ÇéÝ»ñÇ) Ï³Û³óÙ³Ùµ | P6: ²Û¹ ÃíáõÙª Ñ³ÛóÇ µ³í³ñ³ñÙ³Ùµ | Q6: ²Û¹ ÃíáõÙª Ñ³ÛóÇ Ù³ëÝ³ÏÇ µ³í³ñ³ñÙ³Ùµ | R6: ²Û¹ ÃíáõÙª Ñ³ÛóÇ Ù»ñÅÙ³Ùµ | S6: Ø³ëáí Ï³ñ×í»É ¿É, Ù³ëáí Ù»ñÅí»É | T6: ²Û¹ ÃíáõÙª Ï³ñ×í»É »Ý | X6: Ð³ÛóÁ ÃáÕÝí»É ¿ ³é³Ýó ùÝÝáõÃÛ³Ý | Y6: ÀÝ¹³Ù»ÝÝ ³í³ñïí»É »Ý ·áñÍ»ñ | AD6: ²Û¹ ÃíáõÙ` ·áñÍÝ Áëï ¿áõÃÛ³Ý ÉáõÍáÕ ¹³ï³Ï³Ý ³Ïï»ñÁ | AE6: ²Û¹ ÃíáõÙ` ÙÇç³ÝÏÛ³É ¹³ï³Ï³Ý ³Ïï»ñÁ | AF6: ÀÝ¹³Ù»ÝÁ | AG6: Ü³Ëáñ¹ ï³ñÇÝ»ñÇÝ Ï³Û³óí³Í ³Ïï»ñÇ µáÕáù³ñÏáõÙÁ Ñ³ßí»ïáõ Å³Ù³Ý³Ï³ßñç³ÝáõÙ | AH6: Ð³ßí»ïáõ Å³Ù³Ý³Ï³ßñç³ÝáõÙ Ï³Û³óí³Í ³Ïï»ñÇ µáÕáù³ñÏáõÙÁ | AK6: ²Û¹ ÃíáõÙ` ·áñÍÝ Áëï ¿áõÃÛ³Ý ÉáõÍáÕ ¹³ï³Ï³Ý ³Ïï»ñÁ | AL6: ²Û¹ ÃíáõÙ` ÙÇç³ÝÏÛ³É ¹³ï³Ï³Ý ³Ïï»ñÁ | AM6: ÀÝ¹³Ù»ÝÁ | AN6: Ü³Ëáñ¹ ï³ñÇÝ»ñÇÝ Ï³Û³óí³Í ³Ïï»ñÇ µ»Ï³ÝáõÙÝ»ñÁ Ñ³ßí»ïáõ Å³Ù³Ý³Ï³ßñç³ÝáõÙ | AO6: Ð³ßí»ïáõ Å³Ù³Ý³Ï³ßñç³ÝáõÙ Ï³Û³óí³Í ³Ïï»ñÇ µ»Ï³ÝáõÙÁ
T7: ÀÝ¹³Ù»ÝÁ Ï³ñ×í»É »Ý | U7: ²Û¹ ÃíáõÙª Ñ³ëï³ïí»É ¿ ÏÝùí³Í Ñ³ßïáõÃÛ³Ý Ñ³Ù³Ó³ÛÝáõÃÛáõÝÁ | V7: ²Û¹ ÃíáõÙª Ñ³óÇó, ¹ÇÙáõÙÇó Ññ³Å³ñí»Éáõ ÑÇÙùáí | W7: ²Û¹ ÃíáõÙª ³ÛÉ ÑÇÙùáí
E8: 1 | F8: 2 | G8: 3 | H8: 4 | I8: 5 | J8: 6 | K8: 7 | L8: 8 | M8: 9 | N8: 10 | O8: 11 | P8: 12 | Q8: 13 | R8: 14 | S8: 15 | T8: 16 | U8: 17 | V8: 18 | W8: 19 | X8: 20 | Y8: 21 | Z8: 22 | AA8: 23 | AB8: 24 | AC8: 25 | AD8: 26 | AE8: 27 | AF8: 28 | AG8: 29 | AH8: 30 | AI8: 31 | AJ8: 32 | AK8: 33 | AL8: 34 | AM8: 35 | AN8: 36 | AO8: 37 | AP8: 38 | AQ8: 39 | AR8: 40 | AS8: 41 | AT8: 1=2+3+4+5 | AV8: 6=7+8+9 | AX8: 2+3+7=10+21+22+24 | AZ8: 11=12+13+14+15+16 | BB8: 16=17+18+19 | BD8: 21=11+20 | BF8: 28=26+27 | BH8: 28=29+30 | BJ8: 35=33+34 | BL8: 35=36+37
A9: 1. | B9: ¶áõÛù³ÛÇÝ Çñ³í³Ñ³ñ³µ»ñáõÃÛáõÝÝ»ñÇ í»ñ³µ»ñÛ³É ¹³ï³Ï³Ý ·áñÍ»ñ | E9: =SUM(E10:E28) -> 13 | F9: =SUM(F10:F28) -> 7 | G9: =SUM(G10:G28) -> 6 | H9: =SUM(H10:H28) -> 0 | I9: =SUM(I10:I28) -> 0 | J9: =SUM(J10:J28) -> 11 | K9: =SUM(K10:K28) -> 11 | L9: =SUM(L10:L28) -> 0 | ... BC9: =SUM(BC10:BC28) -> 4 | BD9: =Y9 -> 6 | BE9: =O9+X9 -> 6 | BF9: =SUM(BF10:BF28) -> 0 | BG9: =SUM(BG10:BG28) -> 0 | BH9: =SUM(BH10:BH28) -> 0 | BI9: =SUM(BI10:BI28) -> 0 | BJ9: =SUM(BJ10:BJ28) -> 0 | BK9: =SUM(BK10:BK28) -> 0 | BL9: =SUM(BL10:BL28) -> 0 | BM9: =SUM(BM10:BM28) -> 0
A10: 1.1 | B10: ¶áõÛùÇ ÝÏ³ïÙ³Ùµ ë»÷³Ï³ÝáõÃÛ³Ý Çñ³íáõÝùÁ ×³Ý³ã»Éáõ í»ñ³µ»ñÛ³É | J10: 1 | K10: 1 | O10: 1 | P10: 1 | Y10: 1 | AT10: =E10 -> 0 | AU10: =F10+G10+H10+I10 -> 0 | AV10: =J10 -> 1 | AW10: =K10+L10+M10 -> 1 | AX10: =F10+G10+K10 -> 1 | AY10: =N10+Y10+Z10+AB10 -> 1 | AZ10: =O10 -> 1 | BA10: =P10+Q10+R10+S10+T10 -> 1 | BB10: =T10 -> 0 | BC10: =+U10+V10+W10 -> 0 | BD10: =Y10 -> 1 | BE10: =O10+X10 -> 1 | BF10: =AF10 -> 0 | BG10: =AD10+AE10 -> 0 | BH10: =AF10 -> 0 | BI10: =AG10+AH10 -> 0 | BJ10: =AM10 -> 0 | BK10: =AK10+AL10 -> 0 | BL10: =AM10 -> 0 | BM10: =AN10+AO10 -> 0
A11: 1.1.1 | B11: ²Û¹ ÃíáõÙª Ó»éùµ»ñÙ³Ý í³Õ»ÙáõÃÛ³Ý áõÅáí | AT11: =E11 -> 0 | AU11: =F11+G11+H11+I11 -> 0 | AV11: =J11 -> 0 | AW11: =K11+L11+M11 -> 0 | AX11: =F11+G11+K11 -> 0 | AY11: =N11+Y11+Z11+AB11 -> 0 | AZ11: =O11 -> 0 | BA11: =P11+Q11+R11+S11+T11 -> 0 | BB11: =T11 -> 0 | BC11: =+U11+V11+W11 -> 0 | BD11: =Y11 -> 0 | BE11: =O11+X11 -> 0 | BF11: =AF11 -> 0 | BG11: =AD11+AE11 -> 0 | BH11: =AF11 -> 0 | BI11: =AG11+AH11 -> 0 | BJ11: =AM11 -> 0 | BK11: =AK11+AL11 -> 0 | BL11: =AM11 -> 0 | BM11: =AN11+AO11 -> 0
A12: 1.1.2 | B12: ²Û¹ ÃíáõÙª ïÇñ³½áõñÏ ·áõÛùÇ ÝÏ³ïÙ³Ùµ | AT12: =E12 -> 0 | AU12: =F12+G12+H12+I12 -> 0 | AV12: =J12 -> 0 | AW12: =K12+L12+M12 -> 0 | AX12: =F12+G12+K12 -> 0 | AY12: =N12+Y12+Z12+AB12 -> 0 | AZ12: =O12 -> 0 | BA12: =P12+Q12+R12+S12+T12 -> 0 | BB12: =T12 -> 0 | BC12: =+U12+V12+W12 -> 0 | BD12: =Y12 -> 0 | BE12: =O12+X12 -> 0 | BF12: =AF12 -> 0 | BG12: =AD12+AE12 -> 0 | BH12: =AF12 -> 0 | BI12: =AG12+AH12 -> 0 | BJ12: =AM12 -> 0 | BK12: =AK12+AL12 -> 0 | BL12: =AM12 -> 0 | BM12: =AN12+AO12 -> 0
A13: 1.1.3 | B13: ²Û¹ ÃíáõÙª ÇÝùÝ³Ï³Ù Ï³éáõÛóÇ ÝÏ³ïÙ³Ùµ | AT13: =E13 -> 0 | AU13: =F13+G13+H13+I13 -> 0 | AV13: =J13 -> 0 | AW13: =K13+L13+M13 -> 0 | AX13: =F13+G13+K13 -> 0 | AY13: =N13+Y13+Z13+AB13 -> 0 | AZ13: =O13 -> 0 | BA13: =P13+Q13+R13+S13+T13 -> 0 | BB13: =T13 -> 0 | BC13: =+U13+V13+W13 -> 0 | BD13: =Y13 -> 0 | BE13: =O13+X13 -> 0 | BF13: =AF13 -> 0 | BG13: =AD13+AE13 -> 0 | BH13: =AF13 -> 0 | BI13: =AG13+AH13 -> 0 | BJ13: =AM13 -> 0 | BK13: =AK13+AL13 -> 0 | BL13: =AM13 -> 0 | BM13: =AN13+AO13 -> 0
A14: 1.2 | B14: ê»÷³Ï³ÝáõÃÛ³Ý Çñ³íáõÝùÇ ¹³¹³ñ»óÙ³Ý í»ñ³µ»ñÛ³É | AT14: =E14 -> 0 | AU14: =F14+G14+H14+I14 -> 0 | AV14: =J14 -> 0 | AW14: =K14+L14+M14 -> 0 | AX14: =F14+G14+K14 -> 0 | AY14: =N14+Y14+Z14+AB14 -> 0 | AZ14: =O14 -> 0 | BA14: =P14+Q14+R14+S14+T14 -> 0 | BB14: =T14 -> 0 | BC14: =+U14+V14+W14 -> 0 | BD14: =Y14 -> 0 | BE14: =O14+X14 -> 0 | BF14: =AF14 -> 0 | BG14: =AD14+AE14 -> 0 | BH14: =AF14 -> 0 | BI14: =AG14+AH14 -> 0 | BJ14: =AM14 -> 0 | BK14: =AK14+AL14 -> 0 | BL14: =AM14 -> 0 | BM14: =AN14+AO14 -> 0
A15: 1.3 | B15: ¶áõÛùÇ ÝÏ³ïÙ³Ùµ û·ï³·áñÍÙ³Ý Çñ³íáõÝùÁ ×³Ý³ã»Éáõ í»ñ³µ»ñÛ³É | AT15: =E15 -> 0 | AU15: =F15+G15+H15+I15 -> 0 | AV15: =J15 -> 0 | AW15: =K15+L15+M15 -> 0 | AX15: =F15+G15+K15 -> 0 | AY15: =N15+Y15+Z15+AB15 -> 0 | AZ15: =O15 -> 0 | BA15: =P15+Q15+R15+S15+T15 -> 0 | BB15: =T15 -> 0 | BC15: =+U15+V15+W15 -> 0 | BD15: =Y15 -> 0 | BE15: =O15+X15 -> 0 | BF15: =AF15 -> 0 | BG15: =AD15+AE15 -> 0 | BH15: =AF15 -> 0 | BI15: =AG15+AH15 -> 0 | BJ15: =AM15 -> 0 | BK15: =AK15+AL15 -> 0 | BL15: =AM15 -> 0 | BM15: =AN15+AO15 -> 0
A16: 1.3.1 | B16: ²Û¹ ÃíáõÙª µÝ³Ïû·ï³·áñÍÙ³Ý Çñ³íáõÝùÁ ×³Ý³ã»Éáõ í»ñ³µ»ñÛ³É | AT16: =E16 -> 0 | AU16: =F16+G16+H16+I16 -> 0 | AV16: =J16 -> 0 | AW16: =K16+L16+M16 -> 0 | AX16: =F16+G16+K16 -> 0 | AY16: =N16+Y16+Z16+AB16 -> 0 | AZ16: =O16 -> 0 | BA16: =P16+Q16+R16+S16+T16 -> 0 | BB16: =T16 -> 0 | BC16: =+U16+V16+W16 -> 0 | BD16: =Y16 -> 0 | BE16: =O16+X16 -> 0 | BF16: =AF16 -> 0 | BG16: =AD16+AE16 -> 0 | BH16: =AF16 -> 0 | BI16: =AG16+AH16 -> 0 | BJ16: =AM16 -> 0 | BK16: =AK16+AL16 -> 0 | BL16: =AM16 -> 0 | BM16: =AN16+AO16 -> 0
A17: 1.3.2 | B17: ²Û¹ ÃíáõÙª ÑáÕ³Ù³ëÇ ÝÏ³ïÙ³Ùµ û·ï³·áñÍÙ³Ý Çñ³íáõÝùÁ ×³Ý³ã»Éáõ í»ñ³µ»ñÛ³É | AT17: =E17 -> 0 | AU17: =F17+G17+H17+I17 -> 0 | AV17: =J17 -> 0 | AW17: =K17+L17+M17 -> 0 | AX17: =F17+G17+K17 -> 0 | AY17: =N17+Y17+Z17+AB17 -> 0 | AZ17: =O17 -> 0 | BA17: =P17+Q17+R17+S17+T17 -> 0 | BB17: =T17 -> 0 | BC17: =+U17+V17+W17 -> 0 | BD17: =Y17 -> 0 | BE17: =O17+X17 -> 0 | BF17: =AF17 -> 0 | BG17: =AD17+AE17 -> 0 | BH17: =AF17 -> 0 | BI17: =AG17+AH17 -> 0 | BJ17: =AM17 -> 0 | BK17: =AK17+AL17 -> 0 | BL17: =AM17 -> 0 | BM17: =AN17+AO17 -> 0
A18: 1.4 | B18: ¶áõÛùÇ ÝÏ³ïÙ³Ùµ û·ï³·áñÍÙ³Ý Çñ³íáõÝùÁ ¹³¹³ñ»óÝ»Éáõ í»ñ³µ»ñÛ³É | AT18: =E18 -> 0 | AU18: =F18+G18+H18+I18 -> 0 | AV18: =J18 -> 0 | AW18: =K18+L18+M18 -> 0 | AX18: =F18+G18+K18 -> 0 | AY18: =N18+Y18+Z18+AB18 -> 0 | AZ18: =O18 -> 0 | BA18: =P18+Q18+R18+S18+T18 -> 0 | BB18: =T18 -> 0 | BC18: =+U18+V18+W18 -> 0 | BD18: =Y18 -> 0 | BE18: =O18+X18 -> 0 | BF18: =AF18 -> 0 | BG18: =AD18+AE18 -> 0 | BH18: =AF18 -> 0 | BI18: =AG18+AH18 -> 0 | BJ18: =AM18 -> 0 | BK18: =AK18+AL18 -> 0 | BL18: =AM18 -> 0 | BM18: =AN18+AO18 -> 0
A19: 1.4.1 | B19: ²Û¹ ÃíáõÙª µÝ³Ïû·ï³·áñÍÙ³Ý Çñ³íáõÝùÁ ¹³¹³ñ»óÝ»Éáõ í»ñ³µ»ñÛ³É | AT19: =E19 -> 0 | AU19: =F19+G19+H19+I19 -> 0 | AV19: =J19 -> 0 | AW19: =K19+L19+M19 -> 0 | AX19: =F19+G19+K19 -> 0 | AY19: =N19+Y19+Z19+AB19 -> 0 | AZ19: =O19 -> 0 | BA19: =P19+Q19+R19+S19+T19 -> 0 | BB19: =T19 -> 0 | BC19: =+U19+V19+W19 -> 0 | BD19: =Y19 -> 0 | BE19: =O19+X19 -> 0 | BF19: =AF19 -> 0 | BG19: =AD19+AE19 -> 0 | BH19: =AF19 -> 0 | BI19: =AG19+AH19 -> 0 | BJ19: =AM19 -> 0 | BK19: =AK19+AL19 -> 0 | BL19: =AM19 -> 0 | BM19: =AN19+AO19 -> 0
A20: 1.4.1/1 | B20: ²Û¹ ÃíáõÙª ÷áËÑ³ïáõóÙ³Ùµ | AT20: =E20 -> 0 | AU20: =F20+G20+H20+I20 -> 0 | AV20: =J20 -> 0 | AW20: =K20+L20+M20 -> 0 | AX20: =F20+G20+K20 -> 0 | AY20: =N20+Y20+Z20+AB20 -> 0 | AZ20: =O20 -> 0 | BA20: =P20+Q20+R20+S20+T20 -> 0 | BB20: =T20 -> 0 | BC20: =+U20+V20+W20 -> 0 | BD20: =Y20 -> 0 | BE20: =O20+X20 -> 0 | BF20: =AF20 -> 0 | BG20: =AD20+AE20 -> 0 | BH20: =AF20 -> 0 | BI20: =AG20+AH20 -> 0 | BJ20: =AM20 -> 0 | BK20: =AK20+AL20 -> 0 | BL20: =AM20 -> 0 | BM20: =AN20+AO20 -> 0
A21: 1.5 | B21: ´Ý³Ï³ñ³ÝÇó/ ï³ñ³ÍùÇó/ íï³ñ»Éáõ í»ñ³µ»ñÛ³É | E21: 1 | G21: 1 | J21: 2 | K21: 2 | O21: 1 | T21: 1 | V21: 1 | Y21: 1 | AB21: 2 | AT21: =E21 -> 1 | AU21: =F21+G21+H21+I21 -> 1 | AV21: =J21 -> 2 | AW21: =K21+L21+M21 -> 2 | AX21: =F21+G21+K21 -> 3 | AY21: =N21+Y21+Z21+AB21 -> 3 | AZ21: =O21 -> 1 | BA21: =P21+Q21+R21+S21+T21 -> 1 | BB21: =T21 -> 1 | BC21: =+U21+V21+W21 -> 1 | BD21: =Y21 -> 1 | BE21: =O21+X21 -> 1 | BF21: =AF21 -> 0 | BG21: =AD21+AE21 -> 0 | BH21: =AF21 -> 0 | BI21: =AG21+AH21 -> 0 | BJ21: =AM21 -> 0 | BK21: =AK21+AL21 -> 0 | BL21: =AM21 -> 0 | BM21: =AN21+AO21 -> 0
A22: 1.6 | B22: ¶áõÛùÝ áõñÇßÇ ³åûñÇÝÇ ïÇñ³å»ïáõÙÇó »ï í»ñ³¹³ñÓÝ»Éáõ í»ñ³µ»ñÛ³É | E22: 2 | F22: 1 | G22: 1 | J22: 1 | K22: 1 | O22: 1 | T22: 1 | V22: 1 | Y22: 1 | AA22: 1 | AB22: 2 | AC22: 1 | AT22: =E22 -> 2 | AU22: =F22+G22+H22+I22 -> 2 | AV22: =J22 -> 1 | AW22: =K22+L22+M22 -> 1 | AX22: =F22+G22+K22 -> 3 | AY22: =N22+Y22+Z22+AB22 -> 3 | AZ22: =O22 -> 1 | BA22: =P22+Q22+R22+S22+T22 -> 1 | BB22: =T22 -> 1 | BC22: =+U22+V22+W22 -> 1 | BD22: =Y22 -> 1 | BE22: =O22+X22 -> 1 | BF22: =AF22 -> 0 | BG22: =AD22+AE22 -> 0 | BH22: =AF22 -> 0 | BI22: =AG22+AH22 -> 0 | BJ22: =AM22 -> 0 | BK22: =AK22+AL22 -> 0 | BL22: =AM22 -> 0 | BM22: =AN22+AO22 -> 0
A23: 1.6.1 | B23: ´³ñ»ËÇÕ× Ó»éùµ»ñáÕÇó Çñ ·áõÛùÁ Ñ»ï å³Ñ³Ýç»Éáõ í»ñ³µ»ñÛ³É | AT23: =E23 -> 0 | AU23: =F23+G23+H23+I23 -> 0 | AV23: =J23 -> 0 | AW23: =K23+L23+M23 -> 0 | AX23: =F23+G23+K23 -> 0 | AY23: =N23+Y23+Z23+AB23 -> 0 | AZ23: =O23 -> 0 | BA23: =P23+Q23+R23+S23+T23 -> 0 | BB23: =T23 -> 0 | BC23: =+U23+V23+W23 -> 0 | BD23: =Y23 -> 0 | BE23: =O23+X23 -> 0 | BF23: =AF23 -> 0 | BG23: =AD23+AE23 -> 0 | BH23: =AF23 -> 0 | BI23: =AG23+AH23 -> 0 | BJ23: =AM23 -> 0 | BK23: =AK23+AL23 -> 0 | BL23: =AM23 -> 0 | BM23: =AN23+AO23 -> 0
A24: 1.7 | B24: îÇñ³å»ïáõÙÇó ½ñÏ»Éáõ Ñ»ï ãÏ³åí³Í Çñ³íáõÝùÝ»ñÇ Ë³ËïáõÙÁ í»ñ³óÝ»Éáõ í»ñ³µ»ñÛ³É | AT24: =E24 -> 0 | AU24: =F24+G24+H24+I24 -> 0 | AV24: =J24 -> 0 | AW24: =K24+L24+M24 -> 0 | AX24: =F24+G24+K24 -> 0 | AY24: =N24+Y24+Z24+AB24 -> 0 | AZ24: =O24 -> 0 | BA24: =P24+Q24+R24+S24+T24 -> 0 | BB24: =T24 -> 0 | BC24: =+U24+V24+W24 -> 0 | BD24: =Y24 -> 0 | BE24: =O24+X24 -> 0 | BF24: =AF24 -> 0 | BG24: =AD24+AE24 -> 0 | BH24: =AF24 -> 0 | BI24: =AG24+AH24 -> 0 | BJ24: =AM24 -> 0 | BK24: =AK24+AL24 -> 0 | BL24: =AM24 -> 0 | BM24: =AN24+AO24 -> 0
A25: 1.8 | B25: ÀÝ¹Ñ³Ýáõñ µ³ÅÝ³ÛÇÝ ë»÷³Ï³ÝáõÃÛáõÝÇó µ³ÅÇÝÝ ³é³ÝÓÝ³óÝ»Éáõ í»ñ³µ»ñÛ³É | E25: 4 | F25: 2 | G25: 2 | J25: 3 | K25: 3 | O25: 1 | T25: 1 | V25: 1 | Y25: 1 | AA25: 1 | AB25: 6 | AC25: 3 | AT25: =E25 -> 4 | AU25: =F25+G25+H25+I25 -> 4 | AV25: =J25 -> 3 | AW25: =K25+L25+M25 -> 3 | AX25: =F25+G25+K25 -> 7 | AY25: =N25+Y25+Z25+AB25 -> 7 | AZ25: =O25 -> 1 | BA25: =P25+Q25+R25+S25+T25 -> 1 | BB25: =T25 -> 1 | BC25: =+U25+V25+W25 -> 1 | BD25: =Y25 -> 1 | BE25: =O25+X25 -> 1 | BF25: =AF25 -> 0 | BG25: =AD25+AE25 -> 0 | BH25: =AF25 -> 0 | BI25: =AG25+AH25 -> 0 | BJ25: =AM25 -> 0 | BK25: =AK25+AL25 -> 0 | BL25: =AM25 -> 0 | BM25: =AN25+AO25 -> 0
A26: 1.8.1 | B26: Ð³Ù³ï»Õ ë»÷³Ï³ÝáõÃÛ³Ý Ý»ñùá ·ïÝíáÕ ·áõÛùÁ µ³Å³Ý»Éáõ ¨ ¹ñ³ÝÇó µ³ÅÇÝÝ ³é³ÝÓÝ³óÝ»Éáõ í»ñ³µ»ñÛ³É | E26: 3 | F26: 2 | G26: 1 | O26: 2 | P26: 1 | T26: 1 | V26: 1 | Y26: 2 | AB26: 1 | AC26: 1 | AT26: =E26 -> 3 | AU26: =F26+G26+H26+I26 -> 3 | AV26: =J26 -> 0 | AW26: =K26+L26+M26 -> 0 | AX26: =F26+G26+K26 -> 3 | AY26: =N26+Y26+Z26+AB26 -> 3 | AZ26: =O26 -> 2 | BA26: =P26+Q26+R26+S26+T26 -> 2 | BB26: =T26 -> 1 | BC26: =+U26+V26+W26 -> 1 | BD26: =Y26 -> 2 | BE26: =O26+X26 -> 2 | BF26: =AF26 -> 0 | BG26: =AD26+AE26 -> 0 | BH26: =AF26 -> 0 | BI26: =AG26+AH26 -> 0 | BJ26: =AM26 -> 0 | BK26: =AK26+AL26 -> 0 | BL26: =AM26 -> 0 | BM26: =AN26+AO26 -> 0
A27: 1.8.3 | B27: ¶áõÛùÇ íñ³ µéÝ³·³ÝÓáõÙ ï³ñ³Í»Éáõ å³Ñ³ÝçÇ Ù³ëÇÝ | E27: 3 | F27: 2 | G27: 1 | J27: 3 | K27: 3 | AA27: 2 | AB27: 6 | AC27: 4 | AT27: =E27 -> 3 | AU27: =F27+G27+H27+I27 -> 3 | AV27: =J27 -> 3 | AW27: =K27+L27+M27 -> 3 | AX27: =F27+G27+K27 -> 6 | AY27: =N27+Y27+Z27+AB27 -> 6 | AZ27: =O27 -> 0 | BA27: =P27+Q27+R27+S27+T27 -> 0 | BB27: =T27 -> 0 | BC27: =+U27+V27+W27 -> 0 | BD27: =Y27 -> 0 | BE27: =O27+X27 -> 0 | BF27: =AF27 -> 0 | BG27: =AD27+AE27 -> 0 | BH27: =AF27 -> 0 | BI27: =AG27+AH27 -> 0 | BJ27: =AM27 -> 0 | BK27: =AK27+AL27 -> 0 | BL27: =AM27 -> 0 | BM27: =AN27+AO27 -> 0
A28: 1.9 | B28: ²ÛÉ í»×»ñ | J28: 1 | K28: 1 | AA28: 1 | AB28: 1 | AC28: 1 | AT28: =E28 -> 0 | AU28: =F28+G28+H28+I28 -> 0 | AV28: =J28 -> 1 | AW28: =K28+L28+M28 -> 1 | AX28: =F28+G28+K28 -> 1 | AY28: =N28+Y28+Z28+AB28 -> 1 | AZ28: =O28 -> 0 | BA28: =P28+Q28+R28+S28+T28 -> 0 | BB28: =T28 -> 0 | BC28: =+U28+V28+W28 -> 0 | BD28: =Y28 -> 0 | BE28: =O28+X28 -> 0 | BF28: =AF28 -> 0 | BG28: =AD28+AE28 -> 0 | BH28: =AF28 -> 0 | BI28: =AG28+AH28 -> 0 | BJ28: =AM28 -> 0 | BK28: =AK28+AL28 -> 0 | BL28: =AM28 -> 0 | BM28: =AN28+AO28 -> 0
A29: 2. | B29: ¶áñÍ³ñùÝ»ñÇ Ñ»ï Ï³åí³Í Çñ³í³Ñ³ñ³µ»ñáõÃÛáõÝÝ»ñÇ í»ñ³µ»ñÛ³É ¹³ï³Ï³Ý ·áñÍ»ñ | E29: =SUM(E30:E40) -> 1 | F29: =SUM(F30:F40) -> 0 | G29: =SUM(G30:G40) -> 1 | H29: =SUM(H30:H40) -> 0 | I29: =SUM(I30:I40) -> 0 | J29: =SUM(J30:J40) -> 1 | K29: =SUM(K30:K40) -> 0 | L29: =SUM(L30:L40) -> 1 | ... BC29: =SUM(BC30:BC40) -> 0 | BD29: =Y29 -> 1 | BE29: =O29+X29 -> 1 | BF29: =SUM(BF30:BF40) -> 1 | BG29: =SUM(BG30:BG40) -> 1 | BH29: =SUM(BH30:BH40) -> 1 | BI29: =SUM(BI30:BI40) -> 1 | BJ29: =SUM(BJ30:BJ40) -> 0 | BK29: =SUM(BK30:BK40) -> 0 | BL29: =SUM(BL30:BL40) -> 0 | BM29: =SUM(BM30:BM40) -> 0
A30: 2.1 | B30: ·áñÍ³ñùÝ»ñÇ ³Ýí³í»ñáõÃÛ³Ý Ñ»ï Ï³åí³Í í»×»ñ | AT30: =E30 -> 0 | AU30: =F30+G30+H30+I30 -> 0 | AV30: =J30 -> 0 | AW30: =K30+L30+M30 -> 0 | AX30: =F30+G30+K30 -> 0 | AY30: =N30+Y30+Z30+AB30 -> 0 | AZ30: =O30 -> 0 | BA30: =P30+Q30+R30+S30+T30 -> 0 | BB30: =T30 -> 0 | BC30: =+U30+V30+W30 -> 0 | BD30: =Y30 -> 0 | BE30: =O30+X30 -> 0 | BF30: =AF30 -> 0 | BG30: =AD30+AE30 -> 0 | BH30: =AF30 -> 0 | BI30: =AG30+AH30 -> 0 | BJ30: =AM30 -> 0 | BK30: =AK30+AL30 -> 0 | BL30: =AM30 -> 0 | BM30: =AN30+AO30 -> 0
A31: 2.1.1 | B31: ³Û¹ ÃíáõÙ` íÇ×³Ñ³ñáõÛó ·áñÍ³ñùÝ»ñÝ ³Ýí³í»ñ ×³Ý³ã»Éáõ í»ñ³µ»ñÛ³É | AT31: =E31 -> 0 | AU31: =F31+G31+H31+I31 -> 0 | AV31: =J31 -> 0 | AW31: =K31+L31+M31 -> 0 | AX31: =F31+G31+K31 -> 0 | AY31: =N31+Y31+Z31+AB31 -> 0 | AZ31: =O31 -> 0 | BA31: =P31+Q31+R31+S31+T31 -> 0 | BB31: =T31 -> 0 | BC31: =+U31+V31+W31 -> 0 | BD31: =Y31 -> 0 | BE31: =O31+X31 -> 0 | BF31: =AF31 -> 0 | BG31: =AD31+AE31 -> 0 | BH31: =AF31 -> 0 | BI31: =AG31+AH31 -> 0 | BJ31: =AM31 -> 0 | BK31: =AK31+AL31 -> 0 | BL31: =AM31 -> 0 | BM31: =AN31+AO31 -> 0
A32: 2.1.2 | B32: ³Û¹ ÃíáõÙ` ·áñÍ³ñùÇ ³éáãÝãáõÃÛ³Ý Ñ»ï¨³ÝùÝ»ñ ÏÇñ³é»Éáõ í»ñ³µ»ñÛ³É | AT32: =E32 -> 0 | AU32: =F32+G32+H32+I32 -> 0 | AV32: =J32 -> 0 | AW32: =K32+L32+M32 -> 0 | AX32: =F32+G32+K32 -> 0 | AY32: =N32+Y32+Z32+AB32 -> 0 | AZ32: =O32 -> 0 | BA32: =P32+Q32+R32+S32+T32 -> 0 | BB32: =T32 -> 0 | BC32: =+U32+V32+W32 -> 0 | BD32: =Y32 -> 0 | BE32: =O32+X32 -> 0 | BF32: =AF32 -> 0 | BG32: =AD32+AE32 -> 0 | BH32: =AF32 -> 0 | BI32: =AG32+AH32 -> 0 | BJ32: =AM32 -> 0 | BK32: =AK32+AL32 -> 0 | BL32: =AM32 -> 0 | BM32: =AN32+AO32 -> 0
A33: 2.2 | B33: ¶áñÍ³ñùÁ í³í»ñ ×³Ý³ã»Éáõ í»ñ³µ»ñÛ³É | AT33: =E33 -> 0 | AU33: =F33+G33+H33+I33 -> 0 | AV33: =J33 -> 0 | AW33: =K33+L33+M33 -> 0 | AX33: =F33+G33+K33 -> 0 | AY33: =N33+Y33+Z33+AB33 -> 0 | AZ33: =O33 -> 0 | BA33: =P33+Q33+R33+S33+T33 -> 0 | BB33: =T33 -> 0 | BC33: =+U33+V33+W33 -> 0 | BD33: =Y33 -> 0 | BE33: =O33+X33 -> 0 | BF33: =AF33 -> 0 | BG33: =AD33+AE33 -> 0 | BH33: =AF33 -> 0 | BI33: =AG33+AH33 -> 0 | BJ33: =AM33 -> 0 | BK33: =AK33+AL33 -> 0 | BL33: =AM33 -> 0 | BM33: =AN33+AO33 -> 0
A34: 2.3 | B34: ¶áñÍ³ñùÇó Í³·áÕ Çñ³íáõÝùÝ»ñÁ ·ñ³Ýó»Éáõ í»ñ³µ»ñÛ³É | AT34: =E34 -> 0 | AU34: =F34+G34+H34+I34 -> 0 | AV34: =J34 -> 0 | AW34: =K34+L34+M34 -> 0 | AX34: =F34+G34+K34 -> 0 | AY34: =N34+Y34+Z34+AB34 -> 0 | AZ34: =O34 -> 0 | BA34: =P34+Q34+R34+S34+T34 -> 0 | BB34: =T34 -> 0 | BC34: =+U34+V34+W34 -> 0 | BD34: =Y34 -> 0 | BE34: =O34+X34 -> 0 | BF34: =AF34 -> 0 | BG34: =AD34+AE34 -> 0 | BH34: =AF34 -> 0 | BI34: =AG34+AH34 -> 0 | BJ34: =AM34 -> 0 | BK34: =AK34+AL34 -> 0 | BL34: =AM34 -> 0 | BM34: =AN34+AO34 -> 0
A35: 2.4 | B35: ä³ÛÙ³Ý³·ÇñÝ ³Ýí³í»ñ ×³Ý³ã»Éáõ í»ñ³µ»ñÛ³É | E35: 1 | G35: 1 | J35: 1 | L35: 1 | O35: 1 | R35: 1 | Y35: 1 | AE35: 1 | AF35: 1 | AH35: 1 | AJ35: 1 | AT35: =E35 -> 1 | AU35: =F35+G35+H35+I35 -> 1 | AV35: =J35 -> 1 | AW35: =K35+L35+M35 -> 1 | AX35: =F35+G35+K35 -> 1 | AY35: =N35+Y35+Z35+AB35 -> 1 | AZ35: =O35 -> 1 | BA35: =P35+Q35+R35+S35+T35 -> 1 | BB35: =T35 -> 0 | BC35: =+U35+V35+W35 -> 0 | BD35: =Y35 -> 1 | BE35: =O35+X35 -> 1 | BF35: =AF35 -> 1 | BG35: =AD35+AE35 -> 1 | BH35: =AF35 -> 1 | BI35: =AG35+AH35 -> 1 | BJ35: =AM35 -> 0 | BK35: =AK35+AL35 -> 0 | BL35: =AM35 -> 0 | BM35: =AN35+AO35 -> 0
A36: 2.5 | B36: ä³ÛÙ³Ý³·ñÇÁ í³í»ñ ×³Ý³ã»Éáõ í»ñ³µ»ñÛ³É | AT36: =E36 -> 0 | AU36: =F36+G36+H36+I36 -> 0 | AV36: =J36 -> 0 | AW36: =K36+L36+M36 -> 0 | AX36: =F36+G36+K36 -> 0 | AY36: =N36+Y36+Z36+AB36 -> 0 | AZ36: =O36 -> 0 | BA36: =P36+Q36+R36+S36+T36 -> 0 | BB36: =T36 -> 0 | BC36: =+U36+V36+W36 -> 0 | BD36: =Y36 -> 0 | BE36: =O36+X36 -> 0 | BF36: =AF36 -> 0 | BG36: =AD36+AE36 -> 0 | BH36: =AF36 -> 0 | BI36: =AG36+AH36 -> 0 | BJ36: =AM36 -> 0 | BK36: =AK36+AL36 -> 0 | BL36: =AM36 -> 0 | BM36: =AN36+AO36 -> 0
A37: 2.6 | B37: ä³ÛÙ³Ý³·ñÇó Í³·áÕ Çñ³íáõÝùÝ»ñÁ ·ñ³Ýó»Éáõ í»ñ³µ»ñÛ³É | AT37: =E37 -> 0 | AU37: =F37+G37+H37+I37 -> 0 | AV37: =J37 -> 0 | AW37: =K37+L37+M37 -> 0 | AX37: =F37+G37+K37 -> 0 | AY37: =N37+Y37+Z37+AB37 -> 0 | AZ37: =O37 -> 0 | BA37: =P37+Q37+R37+S37+T37 -> 0 | BB37: =T37 -> 0 | BC37: =+U37+V37+W37 -> 0 | BD37: =Y37 -> 0 | BE37: =O37+X37 -> 0 | BF37: =AF37 -> 0 | BG37: =AD37+AE37 -> 0 | BH37: =AF37 -> 0 | BI37: =AG37+AH37 -> 0 | BJ37: =AM37 -> 0 | BK37: =AK37+AL37 -> 0 | BL37: =AM37 -> 0 | BM37: =AN37+AO37 -> 0
A38: 2.7 | B38: ä³ÛÙ³Ý³·ÇñÁ ÷á÷áË»Éáõ ¨ ÉáõÍ»Éáõ í»ñ³µ»ñÛ³É | AT38: =E38 -> 0 | AU38: =F38+G38+H38+I38 -> 0 | AV38: =J38 -> 0 | AW38: =K38+L38+M38 -> 0 | AX38: =F38+G38+K38 -> 0 | AY38: =N38+Y38+Z38+AB38 -> 0 | AZ38: =O38 -> 0 | BA38: =P38+Q38+R38+S38+T38 -> 0 | BB38: =T38 -> 0 | BC38: =+U38+V38+W38 -> 0 | BD38: =Y38 -> 0 | BE38: =O38+X38 -> 0 | BF38: =AF38 -> 0 | BG38: =AD38+AE38 -> 0 | BH38: =AF38 -> 0 | BI38: =AG38+AH38 -> 0 | BJ38: =AM38 -> 0 | BK38: =AK38+AL38 -> 0 | BL38: =AM38 -> 0 | BM38: =AN38+AO38 -> 0
A39: 2.8 | B39: ä³ÛÙ³Ý³·Çñ ÏÝù»ÉáõÝ å³ñï³íáñ»óÝ»Éáõ í»ñ³µ»ñÛ³É | AT39: =E39 -> 0 | AU39: =F39+G39+H39+I39 -> 0 | AV39: =J39 -> 0 | AW39: =K39+L39+M39 -> 0 | AX39: =F39+G39+K39 -> 0 | AY39: =N39+Y39+Z39+AB39 -> 0 | AZ39: =O39 -> 0 | BA39: =P39+Q39+R39+S39+T39 -> 0 | BB39: =T39 -> 0 | BC39: =+U39+V39+W39 -> 0 | BD39: =Y39 -> 0 | BE39: =O39+X39 -> 0 | BF39: =AF39 -> 0 | BG39: =AD39+AE39 -> 0 | BH39: =AF39 -> 0 | BI39: =AG39+AH39 -> 0 | BJ39: =AM39 -> 0 | BK39: =AK39+AL39 -> 0 | BL39: =AM39 -> 0 | BM39: =AN39+AO39 -> 0
A40: 2.9 | B40: ²ÛÉ í»×»ñ | AT40: =E40 -> 0 | AU40: =F40+G40+H40+I40 -> 0 | AV40: =J40 -> 0 | AW40: =K40+L40+M40 -> 0 | AX40: =F40+G40+K40 -> 0 | AY40: =N40+Y40+Z40+AB40 -> 0 | AZ40: =O40 -> 0 | BA40: =P40+Q40+R40+S40+T40 -> 0 | BB40: =T40 -> 0 | BC40: =+U40+V40+W40 -> 0 | BD40: =Y40 -> 0 | BE40: =O40+X40 -> 0 | BF40: =AF40 -> 0 | BG40: =AD40+AE40 -> 0 | BH40: =AF40 -> 0 | BI40: =AG40+AH40 -> 0 | BJ40: =AM40 -> 0 | BK40: =AK40+AL40 -> 0 | BL40: =AM40 -> 0 | BM40: =AN40+AO40 -> 0
...

Sheet Մ. Հովակիմյան
A1: 2016Ã. 1-ԻՆ ԿԻՍԱՄՅԱԿ | G1: Ð²ÞìºîìàôÂÚàôÜ | AM1: Ð³í»Éí³Í Ð³Û³ëï³ÝÇ Ð³Ýñ³å»ïáõÃÛ³Ý ¸³ï³ñ³ÝÝ»ñÇ Ý³Ë³·³ÑÝ»ñÇ ËáñÑñ¹Ç 25.08.2016Ã. ÃÇí 44-È áñáßÙ³Ý
A2: ՀՀ ՍՅՈՒՆԻՔԻ ՄԱՐԶԻ ÀÜ¸Ð²Üàôð Æð²ì²êàôÂÚ²Ü ²è²æÆÜ ²îÚ²ÜÆ ¸²î²ð²ÜÆ ¸²î²ìàð | Z2: Մ. ՀՈՎԱԿԻՄÚ²ÜÆ | AH2: ¶àðÌàôÜºàôÂÚ²Ü ìºð²´ºðÚ²È
A3: ø²Ô²ø²òÆ²Î²Ü ¶àðÌºðàì
A4: ՀՀ Սյունիքի մարզի ÁÝ¹Ñ³Ýáõñ Çñ³í³ëáõÃÛ³Ý ³é³çÇÝ ³ïÛ³ÝÇ ¹³ï³ñ³ÝÇ ù³Õ³ù³óÇ³Ï³Ý Ù³ëÝ³·Çï³óáõÙ áõÝ»óáÕ ¹³ï³íáñÝ»ñÇ Ñ³ëïÇùÝ»ñÇ ù³Ý³ÏÁ` 5
A5: êïáõ·Çã Ñ³í³ë³ñáõÙÝ»ñª 1=2+3+4+5, 6=7+8+9, 2+3+7=10+21+22+24, 11=12+13+14+15+16, 16=17+18+19, 21=11+20, 28=26+27, 28=29+30, 35=33+34, 35=36+37 | E5: Ð³ßí»ïáõ Å³Ù³Ý³Ï³Ñ³ïí³ÍáõÙ Ý³Ëáñ¹ Ñ³ßí»ïáõ Å³Ù³Ý³Ï³Ñ³ïí³ÍÇó ÷áË³Ýóí³Í ·áñÍ»ñÇ ÁÝ¹Ñ³Ýáõñ ÃÇíÁ | J5: Ð³ßí»ïáõ Å³Ù³Ý³Ï³Ñ³ïí³ÍáõÙëï³óí³Í ·áñÍ»ñÇ (³Û¹ ÃíáõÙ` Ñ³Ûó³¹ÇÙáõÙÝ»ñÇ, ¹ÇÙáõÙÝ»ñÇ) ÁÝ¹Ñ³Ýáõñ ÃÇíÁ | N5: öáË³Ýóí»É ¿ ³ÛÉ ¹³ï³íáñÇ (Ï³½ÙÇ ÷á÷áËáõÃÛáõÝ) | O5: Ð³ßí»ïáõ Å³Ù³Ý³Ï³Ñ³ïí³ÍáõÙ ³í³ñïí³Í ·áñÍ»ñÇ ÁÝ¹Ñ³Ýáõñ ÃÇíÁ | Z5: ¶áñÍÝ áõÕ³ñÏí»É ¿ Áëï ÁÝ¹¹³ïáõÃÛ³Ý | AA5: Ð³ßí»ïáõ Å³Ù³Ý³Ï³Ñ³ïí³ÍáõÙ Ï³ë»óí³Í í³ñáõÛÃÝ»ñáí ·áñÍ»ñÇ ÁÝ¹Ñ³Ýáõñ ÃÇíÁ | AB5: Ð³ßí»ïáõ Å³Ù³Ý³Ï³Ñ³ïí³ÍáõÙ ³Ý³í³ñï ·áñÍ»ñÇ ÁÝ¹Ñ³Ýáõñ ÃÇíÁ | AC5: ²Û¹ ÃíáõÙª Ï³ë»óí³Í | AD5: ´áÕáù³ñÏí³Í ¹³ï³Ï³Ý ³Ïï»ñÁ | AI5: ²í³ñïí³Í ¹³ï³Ï³Ý ·áñÍ»ñÇ µáÕáù³ñÏÙ³Ý ïáÏáëÁ (Ñ³ßí»ïáõ Å³Ù³Ý³Ï³ßñç³ÝáõÙ) | AJ5: ²Ý³í³ñï µáÕáùÝ»ñ | AK5: ´»Ï³Ýí³Í ¹³ï³Ï³Ý ³Ïï»ñÁ | AP5: µ»Ï³ÝáõÙÝ»ñÇ ïáÏáëÁ ³í³ñïí³Í ·áñÍ»ñÇó(Ñ³ßí»ïáõ Å³Ù³Ý³Ï³ßñç³ÝáõÙ) | AQ5: Î³ÛáõÝáõÃÛ³Ý ïáÏáëÁ ³í³ñïí³Í ·áñÍ»ñÇó(Ñ³ßí»ïáõ Å³Ù³Ý³Ï³ßñç³ÝáõÙ) | AR5: µ»Ï³ÝáõÙÝ»ñÇ ïáÏáëÁ µáÕáù³ñÏí³Í ·áñÍ»ñÇó(Ñ³ßí»ïáõ Å³Ù³Ý³Ï³ßñç³ÝáõÙ) | AS5: Ï³ÛáõÝáõÃÛ³Ý ïáÏáëÁ(Ñ³ßí»ïáõ Å³Ù³Ý³Ï³ßñç³ÝáõÙ)
E6: ÀÝ¹³Ù»ÝÁ | F6: ²Û¹ ÃíáõÙ`Ï³ë»óí³Í íÇ×³ÏáõÙ ÷áË³Ýóí³Í | G6: ²Û¹ ÃíáõÙª ÁÝ¹áõÝí»É ¿ í³ñáõÛÃ | H6: ²Û¹ ÃíáõÙª í»ñ³¹³ñÓí»É ¿ | I6: ²Û¹ ÃíáõÙª ÁÝ¹áõÝáõÙÁ Ù»ñÅí»É ¿ | J6: ÀÝ¹³Ù»ÝÁ | K6: ²Û¹ ÃíáõÙª ÁÝ¹áõÝí»É ¿ í³ñáõÛÃ | L6: ²Û¹ ÃíáõÙª í»ñ³¹³ñÓí»É ¿ | M6: ²Û¹ ÃíáõÙª ÁÝ¹áõÝáõÙÁ Ù»ñÅí»É ¿ | O6: ÀÝ¹³Ù»ÝÁ ³í³ñïí»É »Ý ·áñÍ»ñ ·áñÍÝ Áëï ¿áõÃÛ³Ý ÉáõÍáÕ ¹³ï³Ï³Ý ³Ïï»ñÇ (í×ÇéÝ»ñÇ) Ï³Û³óÙ³Ùµ | P6: ²Û¹ ÃíáõÙª Ñ³ÛóÇ µ³í³ñ³ñÙ³Ùµ | Q6: ²Û¹ ÃíáõÙª Ñ³ÛóÇ Ù³ëÝ³ÏÇ µ³í³ñ³ñÙ³Ùµ | R6: ²Û¹ ÃíáõÙª Ñ³ÛóÇ Ù»ñÅÙ³Ùµ | S6: Ø³ëáí Ï³ñ×í»É ¿É, Ù³ëáí Ù»ñÅí»É | T6: ²Û¹ ÃíáõÙª Ï³ñ×í»É »Ý | X6: Ð³ÛóÁ ÃáÕÝí»É ¿ ³é³Ýó ùÝÝáõÃÛ³Ý | Y6: ÀÝ¹³Ù»ÝÝ ³í³ñïí»É »Ý ·áñÍ»ñ | AD6: ²Û¹ ÃíáõÙ` ·áñÍÝ Áëï ¿áõÃÛ³Ý ÉáõÍáÕ ¹³ï³Ï³Ý ³Ïï»ñÁ | AE6: ²Û¹ ÃíáõÙ` ÙÇç³ÝÏÛ³É ¹³ï³Ï³Ý ³Ïï»ñÁ | AF6: ÀÝ¹³Ù»ÝÁ | AG6: Ü³Ëáñ¹ ï³ñÇÝ»ñÇÝ Ï³Û³óí³Í ³Ïï»ñÇ µáÕáù³ñÏáõÙÁ Ñ³ßí»ïáõ Å³Ù³Ý³Ï³ßñç³ÝáõÙ | AH6: Ð³ßí»ïáõ Å³Ù³Ý³Ï³ßñç³ÝáõÙ Ï³Û³óí³Í ³Ïï»ñÇ µáÕáù³ñÏáõÙÁ | AK6: ²Û¹ ÃíáõÙ` ·áñÍÝ Áëï ¿áõÃÛ³Ý ÉáõÍáÕ ¹³ï³Ï³Ý ³Ïï»ñÁ | AL6: ²Û¹ ÃíáõÙ` ÙÇç³ÝÏÛ³É ¹³ï³Ï³Ý ³Ïï»ñÁ | AM6: ÀÝ¹³Ù»ÝÁ | AN6: Ü³Ëáñ¹ ï³ñÇÝ»ñÇÝ Ï³Û³óí³Í ³Ïï»ñÇ µ»Ï³ÝáõÙÝ»ñÁ Ñ³ßí»ïáõ Å³Ù³Ý³Ï³ßñç³ÝáõÙ | AO6: Ð³ßí»ïáõ Å³Ù³Ý³Ï³ßñç³ÝáõÙ Ï³Û³óí³Í ³Ïï»ñÇ µ»Ï³ÝáõÙÁ
T7: ÀÝ¹³Ù»ÝÁ Ï³ñ×í»É »Ý | U7: ²Û¹ ÃíáõÙª Ñ³ëï³ïí»É ¿ ÏÝùí³Í Ñ³ßïáõÃÛ³Ý Ñ³Ù³Ó³ÛÝáõÃÛáõÝÁ | V7: ²Û¹ ÃíáõÙª Ñ³óÇó, ¹ÇÙáõÙÇó Ññ³Å³ñí»Éáõ ÑÇÙùáí | W7: ²Û¹ ÃíáõÙª ³ÛÉ ÑÇÙùáí
E8: 1 | F8: 2 | G8: 3 | H8: 4 | I8: 5 | J8: 6 | K8: 7 | L8: 8 | M8: 9 | N8: 10 | O8: 11 | P8: 12 | Q8: 13 | R8: 14 | S8: 15 | T8: 16 | U8: 17 | V8: 18 | W8: 19 | X8: 20 | Y8: 21 | Z8: 22 | AA8: 23 | AB8: 24 | AC8: 25 | AD8: 26 | AE8: 27 | AF8: 28 | AG8: 29 | AH8: 30 | AI8: 31 | AJ8: 32 | AK8: 33 | AL8: 34 | AM8: 35 | AN8: 36 | AO8: 37 | AP8: 38 | AQ8: 39 | AR8: 40 | AS8: 41 | AT8: 1=2+3+4+5 | AV8: 6=7+8+9 | AX8: 2+3+7=10+21+22+24 | AZ8: 11=12+13+14+15+16 | BB8: 16=17+18+19 | BD8: 21=11+20 | BF8: 28=26+27 | BH8: 28=29+30 | BJ8: 35=33+34 | BL8: 35=36+37
A9: 1. | B9: ¶áõÛù³ÛÇÝ Çñ³í³Ñ³ñ³µ»ñáõÃÛáõÝÝ»ñÇ í»ñ³µ»ñÛ³É ¹³ï³Ï³Ý ·áñÍ»ñ | E9: =SUM(E10:E28) -> 19 | F9: =SUM(F10:F28) -> 12 | G9: =SUM(G10:G28) -> 7 | H9: =SUM(H10:H28) -> 0 | I9: =SUM(I10:I28) -> 0 | J9: =SUM(J10:J28) -> 8 | K9: =SUM(K10:K28) -> 7 | L9: =SUM(L10:L28) -> 1 | ... BC9: =SUM(BC10:BC28) -> 0 | BD9: =Y9 -> 6 | BE9: =O9+X9 -> 6 | BF9: =SUM(BF10:BF28) -> 0 | BG9: =SUM(BG10:BG28) -> 0 | BH9: =SUM(BH10:BH28) -> 0 | BI9: =SUM(BI10:BI28) -> 0 | BJ9: =SUM(BJ10:BJ28) -> 0 | BK9: =SUM(BK10:BK28) -> 0 | BL9: =SUM(BL10:BL28) -> 0 | BM9: =SUM(BM10:BM28) -> 0
A10: 1.1 | B10: ¶áõÛùÇ ÝÏ³ïÙ³Ùµ ë»÷³Ï³ÝáõÃÛ³Ý Çñ³íáõÝùÁ ×³Ý³ã»Éáõ í»ñ³µ»ñÛ³É | AT10: =E10 -> 0 | AU10: =F10+G10+H10+I10 -> 0 | AV10: =J10 -> 0 | AW10: =K10+L10+M10 -> 0 | AX10: =F10+G10+K10 -> 0 | AY10: =N10+Y10+Z10+AB10 -> 0 | AZ10: =O10 -> 0 | BA10: =P10+Q10+R10+S10+T10 -> 0 | BB10: =T10 -> 0 | BC10: =+U10+V10+W10 -> 0 | BD10: =Y10 -> 0 | BE10: =O10+X10 -> 0 | BF10: =AF10 -> 0 | BG10: =AD10+AE10 -> 0 | BH10: =AF10 -> 0 | BI10: =AG10+AH10 -> 0 | BJ10: =AM10 -> 0 | BK10: =AK10+AL10 -> 0 | BL10: =AM10 -> 0 | BM10: =AN10+AO10 -> 0
A11: 1.1.1 | B11: ²Û¹ ÃíáõÙª Ó»éùµ»ñÙ³Ý í³Õ»ÙáõÃÛ³Ý áõÅáí | J11: 4 | K11: 4 | O11: 1 | P11: 1 | Y11: 1 | AB11: 3 | AT11: =E11 -> 0 | AU11: =F11+G11+H11+I11 -> 0 | AV11: =J11 -> 4 | AW11: =K11+L11+M11 -> 4 | AX11: =F11+G11+K11 -> 4 | AY11: =N11+Y11+Z11+AB11 -> 4 | AZ11: =O11 -> 1 | BA11: =P11+Q11+R11+S11+T11 -> 1 | BB11: =T11 -> 0 | BC11: =+U11+V11+W11 -> 0 | BD11: =Y11 -> 1 | BE11: =O11+X11 -> 1 | BF11: =AF11 -> 0 | BG11: =AD11+AE11 -> 0 | BH11: =AF11 -> 0 | BI11: =AG11+AH11 -> 0 | BJ11: =AM11 -> 0 | BK11: =AK11+AL11 -> 0 | BL11: =AM11 -> 0 | BM11: =AN11+AO11 -> 0
A12: 1.1.2 | B12: ²Û¹ ÃíáõÙª ïÇñ³½áõñÏ ·áõÛùÇ ÝÏ³ïÙ³Ùµ | AT12: =E12 -> 0 | AU12: =F12+G12+H12+I12 -> 0 | AV12: =J12 -> 0 | AW12: =K12+L12+M12 -> 0 | AX12: =F12+G12+K12 -> 0 | AY12: =N12+Y12+Z12+AB12 -> 0 | AZ12: =O12 -> 0 | BA12: =P12+Q12+R12+S12+T12 -> 0 | BB12: =T12 -> 0 | BC12: =+U12+V12+W12 -> 0 | BD12: =Y12 -> 0 | BE12: =O12+X12 -> 0 | BF12: =AF12 -> 0 | BG12: =AD12+AE12 -> 0 | BH12: =AF12 -> 0 | BI12: =AG12+AH12 -> 0 | BJ12: =AM12 -> 0 | BK12: =AK12+AL12 -> 0 | BL12: =AM12 -> 0 | BM12: =AN12+AO12 -> 0
A13: 1.1.3 | B13: ²Û¹ ÃíáõÙª ÇÝùÝ³Ï³Ù Ï³éáõÛóÇ ÝÏ³ïÙ³Ùµ | AT13: =E13 -> 0 | AU13: =F13+G13+H13+I13 -> 0 | AV13: =J13 -> 0 | AW13: =K13+L13+M13 -> 0 | AX13: =F13+G13+K13 -> 0 | AY13: =N13+Y13+Z13+AB13 -> 0 | AZ13: =O13 -> 0 | BA13: =P13+Q13+R13+S13+T13 -> 0 | BB13: =T13 -> 0 | BC13: =+U13+V13+W13 -> 0 | BD13: =Y13 -> 0 | BE13: =O13+X13 -> 0 | BF13: =AF13 -> 0 | BG13: =AD13+AE13 -> 0 | BH13: =AF13 -> 0 | BI13: =AG13+AH13 -> 0 | BJ13: =AM13 -> 0 | BK13: =AK13+AL13 -> 0 | BL13: =AM13 -> 0 | BM13: =AN13+AO13 -> 0
