Workbook

Sheet Ընդհամենը
A1: 2015Ã. | D1: Ð²ÞìºîìàôÂÚàôÜ | P1: Ï³½Ùí³Í` ÐÐ Ï³é³í³ñáõÃÛ³Ý 19.03.2015Ã. ÃÇí 306-Ü áñáßÙ³Ý ÑÇÙ³Ý íñ³
A2: ØÇÝã¹³ï³Ï³Ý í³ñáõÛÃÇ ÝÏ³ïÙ³Ùµ ¹³ï³Ï³Ý í»ñ³ÑëÏáÕáõÃÛ³ÝÁ, ¹³ï³Ï³Ý ³Ïï»ñÇ ¨ ¹³ï³Ï³Ý Ñ³ÝÓÝ³ñ³ñáõÃÛáõÝÝ»ñÇ Ï³ï³ñÙ³Ý Ñ»ï Ï³åí³Í ÙÇçÝáñ¹áõÃÛáõÝÝ»ñÇ í»ñ³µ»ñÛ³É ¹³ï³Ï³Ý ·áñÍ»ñáí ºñ¨³Ý ù³Õ³ùÇ ²í³Ý ¨ Üáñ Üáñù í³ñã³Ï³Ý ßñç³ÝÝ»ñÇ ÁÝ¹Ñ³Ýáõñ Çñ³í³ëáõÃÛ³Ý ³é³çÇÝ ³ïÛ³ÝÇ ¹³ï³ñ³ÝÇ ·áñÍáõÝ»áõÃÛ³Ý í»ñ³µ»ñÛ³É
A3: êïáõ·Çã Ñ³í³ë³ñáõÙ` 1+2=3+8+9, 8=4+5+6+7, | D3: Ð³ßí»ïáõ Å³Ù³Ý³Ï³Ñ³ïí³ÍÇ ëÏ½µáõÙ Ý³Ëáñ¹ Ñ³ßí»ïáõ Å³Ù³Ý³Ï³Ñ³ïí³ÍÇó ÷áË³Ýóí³Í ·áñÍ»ñÇ ÁÝ¹Ñ³Ýáõñ ÃÇíÁ | E3: Ð³ßí»ïáõ Å³Ù³Ý³Ï³Ñ³ïí³ÍáõÙ ëï³óí³Í ·áñÍ»ñÇ ÁÝ¹Ñ³Ýáõñ ÃÇíÁ | F3: öáË³Ýóí»É ¿ ³ÛÉ ¹³ï³íáñÇ Ï³Ù ³ÛÉ ¹³ï³ñ³Ý (Ï³½ÙÇ ÷á÷áËáõÃÛáõÝ, ÁÝ¹¹³ïáõÃÛáõÝ) | G3: Ð³ßí»ïáõ Å³Ù³Ý³Ï³Ñ³ïí³ÍáõÙ ³í³ñïí³Í ·áñÍ»ñÇ ÁÝ¹Ñ³Ýáõñ ÃÇíÁ | L3: Ð³ßí»ïáõ Å³Ù³Ý³Ï³Ñ³ïí³ÍáõÙ ³Ý³í³ñï ·áñÍ»ñÇ ÁÝ¹Ñ³Ýáõñ ÃÇíÁ | M3: ØÇçÝáñ¹áõÃÛáõÝÝ»ñáí Ï³Û³óí³Í ¹³ï³Ï³Ý ³Ïï»ñÇó µáÕáù³ñÏí³ÍÝ»ñÇ ù³Ý³ÏÁ | O3: ²Ý³í³ñï µáÕáùÝ»ñ | P3: ØÇçÝáñ¹áõÃÛáõÝÝ»ñáí Ï³Û³óí³Í ¨ µáÕáù³ñÏí³Í ¹³ï³Ï³Ý ³Ïï»ñÇó µ»Ï³Ýí³ÍÝ»ñÇ ù³Ý³ÏÁ | R3: ÙÇçÝáñ¹áõÃÛáõÝÝ»ñáí Ï³Û³óí³Í ¨ µáÕáù³ñÏí³Í ¹³ï³Ï³Ý ³Ïï»ñÇó ³Ý÷á÷áË ÃáÕÝí³ÍÝ»ñÇ ù³Ý³ÏÁ
G4: Ù»ñÅí»É ¿ | H4: µ³í³ñ³ñí»É ¿ | I4: µ³í³ñ³ñí»É ¿ Ù³ëÝ³ÏÇ | J4: ÃáÕÝí»É ¿ ³é³Ýó ùÝÝáõÃÛ³Ý | K4: ÀÝ¹³Ù»ÝÁ
M5: Ý³Ëáñ¹ ï³ñÇÝ»ñÇÝ Ï³Û³óí³Í ³Ïï»ñÇ ¹»Ù | N5: Ñ³ßí»ïáõ Å³Ù³Ý³Ï³ßñç³ÝáõÙ Ï³Û³óí³Í ³Ïï»ñÇ ¹»Ù | P5: Ý³Ëáñ¹ ï³ñÇÝ»ñÇÝ Ï³Û³óí³Í ³Ïï»ñÇ µ»Ï³ÝáõÙÝ»ñÁ | Q5: Ñ³ßí»ïáõ Å³Ù³Ý³Ï³ßñç³ÝáõÙ Ï³Û³óí³Í ³Ïï»ñÇ µ»Ï³ÝáõÙÝ»ñÁ
A6: 1. ØÇÝã¹³ï³Ï³Ý í³ñáõÛÃÇ ÝÏ³ïÙ³Ùµ ¹³ï³Ï³Ý í»ñ³ÑëÏáÕáõÃÛ³Ý áÉáñï | D6: 1 | E6: 2 | F6: 3 | G6: 4 | H6: 5 | I6: 6 | J6: 7 | K6: 8 | L6: 9 | M6: 10 | N6: 11 | O6: 12 | P6: 13 | Q6: 14 | R6: 15 | T6: 1+2=3+8+9 | V6: 8=4+5+6+7
A7: 1 | B7: Ï³É³ÝùÁ áñå»ë Ë³÷³ÝÙ³Ý ÙÇçáó ÏÇñ³é»Éáõ Ù³ëÇÝ ÙÇçÝáñ¹áõÃÛáõÝÝ»ñ | D7: ='Ս. Ուզունյան'!D7+'Ա. Վարդապետյան'!D7+'Ա. Պետրոսյան'!D7+'Գ. Մազմանյան'!D7+'Ն. Մարգարյան'!D7+'Դ. Հարությունյան'!D7+'Ա. Բաբայան'!D7+'Է. Ամալյան'!D7+'Ա. Դավթյան'!D7+'Ա. Բադիրյան'!D7 -> 0 | E7: ='Ս. Ուզունյան'!E7+'Ա. Վարդապետյան'!E7+'Ա. Պետրոսյան'!E7+'Գ. Մազմանյան'!E7+'Ն. Մարգարյան'!E7+'Դ. Հարությունյան'!E7+'Ա. Բաբայան'!E7+'Է. Ամալյան'!E7+'Ա. Դավթյան'!E7+'Ա. Բադիրյան'!E7 -> 34 | F7: ='Ս. Ուզունյան'!F7+'Ա. Վարդապետյան'!F7+'Ա. Պետրոսյան'!F7+'Գ. Մազմանյան'!F7+'Ն. Մարգարյան'!F7+'Դ. Հարությունյան'!F7+'Ա. Բաբայան'!F7+'Է. Ամալյան'!F7+'Ա. Դավթյան'!F7+'Ա. Բադիրյան'!F7 -> 2 | G7: ='Ս. Ուզունյան'!G7+'Ա. Վարդապետյան'!G7+'Ա. Պետրոսյան'!G7+'Գ. Մազմանյան'!G7+'Ն. Մարգարյան'!G7+'Դ. Հարությունյան'!G7+'Ա. Բաբայան'!G7+'Է. Ամալյան'!G7+'Ա. Դավթյան'!G7+'Ա. Բադիրյան'!G7 -> 5 | H7: ='Ս. Ուզունյան'!H7+'Ա. Վարդապետյան'!H7+'Ա. Պետրոսյան'!H7+'Գ. Մազմանյան'!H7+'Ն. Մարգարյան'!H7+'Դ. Հարությունյան'!H7+'Ա. Բաբայան'!H7+'Է. Ամալյան'!H7+'Ա. Դավթյան'!H7+'Ա. Բադիրյան'!H7 -> 27 | I7: ='Ս. Ուզունյան'!I7+'Ա. Վարդապետյան'!I7+'Ա. Պետրոսյան'!I7+'Գ. Մազմանյան'!I7+'Ն. Մարգարյան'!I7+'Դ. Հարությունյան'!I7+'Ա. Բաբայան'!I7+'Է. Ամալյան'!I7+'Ա. Դավթյան'!I7+'Ա. Բադիրյան'!I7 -> 0 | J7: ='Ս. Ուզունյան'!J7+'Ա. Վարդապետյան'!J7+'Ա. Պետրոսյան'!J7+'Գ. Մազմանյան'!J7+'Ն. Մարգարյան'!J7+'Դ. Հարությունյան'!J7+'Ա. Բաբայան'!J7+'Է. Ամալյան'!J7+'Ա. Դավթյան'!J7+'Ա. Բադիրյան'!J7 -> 0 | K7: ='Ս. Ուզունյան'!K7+'Ա. Վարդապետյան'!K7+'Ա. Պետրոսյան'!K7+'Գ. Մազմանյան'!K7+'Ն. Մարգարյան'!K7+'Դ. Հարությունյան'!K7+'Ա. Բաբայան'!K7+'Է. Ամալյան'!K7+'Ա. Դավթյան'!K7+'Ա. Բադիրյան'!K7 -> 32 | ... R7: ='Ս. Ուզունյան'!R7+'Ա. Վարդապետյան'!R7+'Ա. Պետրոսյան'!R7+'Գ. Մազմանյան'!R7+'Ն. Մարգարյան'!R7+'Դ. Հարությունյան'!R7+'Ա. Բաբայան'!R7+'Է. Ամալյան'!R7+'Ա. Դավթյան'!R7+'Ա. Բադիրյան'!R7 -> 3 | T7: =D7+E7 -> 34 | U7: =F7+K7+L7 -> 34 | V7: =K7 -> 32 | W7: =G7+H7+I7+J7 -> 32
A8: 2 | B8: Ï³É³ÝùÇ Å³ÙÏ»ïÁ »ñÏ³ñ³óÝ»Éáõ Ù³ëÇÝ ÙÇçÝáñ¹áõÃÛáõÝÝ»ñ | D8: ='Ս. Ուզունյան'!D8+'Ա. Վարդապետյան'!D8+'Ա. Պետրոսյան'!D8+'Գ. Մազմանյան'!D8+'Ն. Մարգարյան'!D8+'Դ. Հարությունյան'!D8+'Ա. Բաբայան'!D8+'Է. Ամալյան'!D8+'Ա. Դավթյան'!D8+'Ա. Բադիրյան'!D8 -> 2 | E8: ='Ս. Ուզունյան'!E8+'Ա. Վարդապետյան'!E8+'Ա. Պետրոսյան'!E8+'Գ. Մազմանյան'!E8+'Ն. Մարգարյան'!E8+'Դ. Հարությունյան'!E8+'Ա. Բաբայան'!E8+'Է. Ամալյան'!E8+'Ա. Դավթյան'!E8+'Ա. Բադիրյան'!E8 -> 27 | F8: ='Ս. Ուզունյան'!F8+'Ա. Վարդապետյան'!F8+'Ա. Պետրոսյան'!F8+'Գ. Մազմանյան'!F8+'Ն. Մարգարյան'!F8+'Դ. Հարությունյան'!F8+'Ա. Բաբայան'!F8+'Է. Ամալյան'!F8+'Ա. Դավթյան'!F8+'Ա. Բադիրյան'!F8 -> 0 | G8: ='Ս. Ուզունյան'!G8+'Ա. Վարդապետյան'!G8+'Ա. Պետրոսյան'!G8+'Գ. Մազմանյան'!G8+'Ն. Մարգարյան'!G8+'Դ. Հարությունյան'!G8+'Ա. Բաբայան'!G8+'Է. Ամալյան'!G8+'Ա. Դավթյան'!G8+'Ա. Բադիրյան'!G8 -> 1 | H8: ='Ս. Ուզունյան'!H8+'Ա. Վարդապետյան'!H8+'Ա. Պետրոսյան'!H8+'Գ. Մազմանյան'!H8+'Ն. Մարգարյան'!H8+'Դ. Հարությունյան'!H8+'Ա. Բաբայան'!H8+'Է. Ամալյան'!H8+'Ա. Դավթյան'!H8+'Ա. Բադիրյան'!H8 -> 24 | I8: ='Ս. Ուզունյան'!I8+'Ա. Վարդապետյան'!I8+'Ա. Պետրոսյան'!I8+'Գ. Մազմանյան'!I8+'Ն. Մարգարյան'!I8+'Դ. Հարությունյան'!I8+'Ա. Բաբայան'!I8+'Է. Ամալյան'!I8+'Ա. Դավթյան'!I8+'Ա. Բադիրյան'!I8 -> 1 | J8: ='Ս. Ուզունյան'!J8+'Ա. Վարդապետյան'!J8+'Ա. Պետրոսյան'!J8+'Գ. Մազմանյան'!J8+'Ն. Մարգարյան'!J8+'Դ. Հարությունյան'!J8+'Ա. Բաբայան'!J8+'Է. Ամալյան'!J8+'Ա. Դավթյան'!J8+'Ա. Բադիրյան'!J8 -> 0 | K8: ='Ս. Ուզունյան'!K8+'Ա. Վարդապետյան'!K8+'Ա. Պետրոսյան'!K8+'Գ. Մազմանյան'!K8+'Ն. Մարգարյան'!K8+'Դ. Հարությունյան'!K8+'Ա. Բաբայան'!K8+'Է. Ամալյան'!K8+'Ա. Դավթյան'!K8+'Ա. Բադիրյան'!K8 -> 26 | ... R8: ='Ս. Ուզունյան'!R8+'Ա. Վարդապետյան'!R8+'Ա. Պետրոսյան'!R8+'Գ. Մազմանյան'!R8+'Ն. Մարգարյան'!R8+'Դ. Հարությունյան'!R8+'Ա. Բաբայան'!R8+'Է. Ամալյան'!R8+'Ա. Դավթյան'!R8+'Ա. Բադիրյան'!R8 -> 1 | T8: =D8+E8 -> 29 | U8: =F8+K8+L8 -> 29 | V8: =K8 -> 26 | W8: =G8+H8+I8+J8 -> 26
A9: 3 | B9: Ï³É³ÝùÇ í»ñ³Ñ³ëï³ïÙ³Ý Ù³ëÇÝ ÙÇçÝáñ¹áõÃÛáõÝÝ»ñ | D9: ='Ս. Ուզունյան'!D9+'Ա. Վարդապետյան'!D9+'Ա. Պետրոսյան'!D9+'Գ. Մազմանյան'!D9+'Ն. Մարգարյան'!D9+'Դ. Հարությունյան'!D9+'Ա. Բաբայան'!D9+'Է. Ամալյան'!D9+'Ա. Դավթյան'!D9+'Ա. Բադիրյան'!D9 -> 0 | E9: ='Ս. Ուզունյան'!E9+'Ա. Վարդապետյան'!E9+'Ա. Պետրոսյան'!E9+'Գ. Մազմանյան'!E9+'Ն. Մարգարյան'!E9+'Դ. Հարությունյան'!E9+'Ա. Բաբայան'!E9+'Է. Ամալյան'!E9+'Ա. Դավթյան'!E9+'Ա. Բադիրյան'!E9 -> 4 | F9: ='Ս. Ուզունյան'!F9+'Ա. Վարդապետյան'!F9+'Ա. Պետրոսյան'!F9+'Գ. Մազմանյան'!F9+'Ն. Մարգարյան'!F9+'Դ. Հարությունյան'!F9+'Ա. Բաբայան'!F9+'Է. Ամալյան'!F9+'Ա. Դավթյան'!F9+'Ա. Բադիրյան'!F9 -> 0 | G9: ='Ս. Ուզունյան'!G9+'Ա. Վարդապետյան'!G9+'Ա. Պետրոսյան'!G9+'Գ. Մազմանյան'!G9+'Ն. Մարգարյան'!G9+'Դ. Հարությունյան'!G9+'Ա. Բաբայան'!G9+'Է. Ամալյան'!G9+'Ա. Դավթյան'!G9+'Ա. Բադիրյան'!G9 -> 1 | H9: ='Ս. Ուզունյան'!H9+'Ա. Վարդապետյան'!H9+'Ա. Պետրոսյան'!H9+'Գ. Մազմանյան'!H9+'Ն. Մարգարյան'!H9+'Դ. Հարությունյան'!H9+'Ա. Բաբայան'!H9+'Է. Ամալյան'!H9+'Ա. Դավթյան'!H9+'Ա. Բադիրյան'!H9 -> 3 | I9: ='Ս. Ուզունյան'!I9+'Ա. Վարդապետյան'!I9+'Ա. Պետրոսյան'!I9+'Գ. Մազմանյան'!I9+'Ն. Մարգարյան'!I9+'Դ. Հարությունյան'!I9+'Ա. Բաբայան'!I9+'Է. Ամալյան'!I9+'Ա. Դավթյան'!I9+'Ա. Բադիրյան'!I9 -> 0 | J9: ='Ս. Ուզունյան'!J9+'Ա. Վարդապետյան'!J9+'Ա. Պետրոսյան'!J9+'Գ. Մազմանյան'!J9+'Ն. Մարգարյան'!J9+'Դ. Հարությունյան'!J9+'Ա. Բաբայան'!J9+'Է. Ամալյան'!J9+'Ա. Դավթյան'!J9+'Ա. Բադիրյան'!J9 -> 0 | K9: ='Ս. Ուզունյան'!K9+'Ա. Վարդապետյան'!K9+'Ա. Պետրոսյան'!K9+'Գ. Մազմանյան'!K9+'Ն. Մարգարյան'!K9+'Դ. Հարությունյան'!K9+'Ա. Բաբայան'!K9+'Է. Ամալյան'!K9+'Ա. Դավթյան'!K9+'Ա. Բադիրյան'!K9 -> 4 | ... R9: ='Ս. Ուզունյան'!R9+'Ա. Վարդապետյան'!R9+'Ա. Պետրոսյան'!R9+'Գ. Մազմանյան'!R9+'Ն. Մարգարյան'!R9+'Դ. Հարությունյան'!R9+'Ա. Բաբայան'!R9+'Է. Ամալյան'!R9+'Ա. Դավթյան'!R9+'Ա. Բադիրյան'!R9 -> 1 | T9: =D9+E9 -> 4 | U9: =F9+K9+L9 -> 4 | V9: =K9 -> 4 | W9: =G9+H9+I9+J9 -> 4
A10: 4 | B10: ·ñ³íÁ áñå»ë Ï³É³Ý³íáñÙ³Ý ³ÛÉÁÝïñ³Ýù³ÛÇÝ Ë³÷³ÝÙ³Ý ÙÇçáó ÏÇñ³é»Éáõ Ù³ëÇÝ ÙÇçÝáñ¹áõÃÛáõÝÝ»ñ | D10: ='Ս. Ուզունյան'!D10+'Ա. Վարդապետյան'!D10+'Ա. Պետրոսյան'!D10+'Գ. Մազմանյան'!D10+'Ն. Մարգարյան'!D10+'Դ. Հարությունյան'!D10+'Ա. Բաբայան'!D10+'Է. Ամալյան'!D10+'Ա. Դավթյան'!D10+'Ա. Բադիրյան'!D10 -> 0 | E10: ='Ս. Ուզունյան'!E10+'Ա. Վարդապետյան'!E10+'Ա. Պետրոսյան'!E10+'Գ. Մազմանյան'!E10+'Ն. Մարգարյան'!E10+'Դ. Հարությունյան'!E10+'Ա. Բաբայան'!E10+'Է. Ամալյան'!E10+'Ա. Դավթյան'!E10+'Ա. Բադիրյան'!E10 -> 22 | F10: ='Ս. Ուզունյան'!F10+'Ա. Վարդապետյան'!F10+'Ա. Պետրոսյան'!F10+'Գ. Մազմանյան'!F10+'Ն. Մարգարյան'!F10+'Դ. Հարությունյան'!F10+'Ա. Բաբայան'!F10+'Է. Ամալյան'!F10+'Ա. Դավթյան'!F10+'Ա. Բադիրյան'!F10 -> 0 | G10: ='Ս. Ուզունյան'!G10+'Ա. Վարդապետյան'!G10+'Ա. Պետրոսյան'!G10+'Գ. Մազմանյան'!G10+'Ն. Մարգարյան'!G10+'Դ. Հարությունյան'!G10+'Ա. Բաբայան'!G10+'Է. Ամալյան'!G10+'Ա. Դավթյան'!G10+'Ա. Բադիրյան'!G10 -> 19 | H10: ='Ս. Ուզունյան'!H10+'Ա. Վարդապետյան'!H10+'Ա. Պետրոսյան'!H10+'Գ. Մազմանյան'!H10+'Ն. Մարգարյան'!H10+'Դ. Հարությունյան'!H10+'Ա. Բաբայան'!H10+'Է. Ամալյան'!H10+'Ա. Դավթյան'!H10+'Ա. Բադիրյան'!H10 -> 1 | I10: ='Ս. Ուզունյան'!I10+'Ա. Վարդապետյան'!I10+'Ա. Պետրոսյան'!I10+'Գ. Մազմանյան'!I10+'Ն. Մարգարյան'!I10+'Դ. Հարությունյան'!I10+'Ա. Բաբայան'!I10+'Է. Ամալյան'!I10+'Ա. Դավթյան'!I10+'Ա. Բադիրյան'!I10 -> 0 | J10: ='Ս. Ուզունյան'!J10+'Ա. Վարդապետյան'!J10+'Ա. Պետրոսյան'!J10+'Գ. Մազմանյան'!J10+'Ն. Մարգարյան'!J10+'Դ. Հարությունյան'!J10+'Ա. Բաբայան'!J10+'Է. Ամալյան'!J10+'Ա. Դավթյան'!J10+'Ա. Բադիրյան'!J10 -> 1 | K10: ='Ս. Ուզունյան'!K10+'Ա. Վարդապետյան'!K10+'Ա. Պետրոսյան'!K10+'Գ. Մազմանյան'!K10+'Ն. Մարգարյան'!K10+'Դ. Հարությունյան'!K10+'Ա. Բաբայան'!K10+'Է. Ամալյան'!K10+'Ա. Դավթյան'!K10+'Ա. Բադիրյան'!K10 -> 21 | ... R10: ='Ս. Ուզունյան'!R10+'Ա. Վարդապետյան'!R10+'Ա. Պետրոսյան'!R10+'Գ. Մազմանյան'!R10+'Ն. Մարգարյան'!R10+'Դ. Հարությունյան'!R10+'Ա. Բաբայան'!R10+'Է. Ամալյան'!R10+'Ա. Դավթյան'!R10+'Ա. Բադիրյան'!R10 -> 6 | T10: =D10+E10 -> 22 | U10: =F10+K10+L10 -> 22 | V10: =K10 -> 21 | W10: =G10+H10+I10+J10 -> 21
A11: 5 | B11: Ëáõ½³ñÏáõÃÛ³Ý Ï³ï³ñÙ³Ý Ù³ëÇÝ ÙÇçÝáñ¹áõÃÛáõÝÝ»ñ | D11: ='Ս. Ուզունյան'!D11+'Ա. Վարդապետյան'!D11+'Ա. Պետրոսյան'!D11+'Գ. Մազմանյան'!D11+'Ն. Մարգարյան'!D11+'Դ. Հարությունյան'!D11+'Ա. Բաբայան'!D11+'Է. Ամալյան'!D11+'Ա. Դավթյան'!D11+'Ա. Բադիրյան'!D11 -> 0 | E11: ='Ս. Ուզունյան'!E11+'Ա. Վարդապետյան'!E11+'Ա. Պետրոսյան'!E11+'Գ. Մազմանյան'!E11+'Ն. Մարգարյան'!E11+'Դ. Հարությունյան'!E11+'Ա. Բաբայան'!E11+'Է. Ամալյան'!E11+'Ա. Դավթյան'!E11+'Ա. Բադիրյան'!E11 -> 203 | F11: ='Ս. Ուզունյան'!F11+'Ա. Վարդապետյան'!F11+'Ա. Պետրոսյան'!F11+'Գ. Մազմանյան'!F11+'Ն. Մարգարյան'!F11+'Դ. Հարությունյան'!F11+'Ա. Բաբայան'!F11+'Է. Ամալյան'!F11+'Ա. Դավթյան'!F11+'Ա. Բադիրյան'!F11 -> 1 | G11: ='Ս. Ուզունյան'!G11+'Ա. Վարդապետյան'!G11+'Ա. Պետրոսյան'!G11+'Գ. Մազմանյան'!G11+'Ն. Մարգարյան'!G11+'Դ. Հարությունյան'!G11+'Ա. Բաբայան'!G11+'Է. Ամալյան'!G11+'Ա. Դավթյան'!G11+'Ա. Բադիրյան'!G11 -> 2 | H11: ='Ս. Ուզունյան'!H11+'Ա. Վարդապետյան'!H11+'Ա. Պետրոսյան'!H11+'Գ. Մազմանյան'!H11+'Ն. Մարգարյան'!H11+'Դ. Հարությունյան'!H11+'Ա. Բաբայան'!H11+'Է. Ամալյան'!H11+'Ա. Դավթյան'!H11+'Ա. Բադիրյան'!H11 -> 200 | I11: ='Ս. Ուզունյան'!I11+'Ա. Վարդապետյան'!I11+'Ա. Պետրոսյան'!I11+'Գ. Մազմանյան'!I11+'Ն. Մարգարյան'!I11+'Դ. Հարությունյան'!I11+'Ա. Բաբայան'!I11+'Է. Ամալյան'!I11+'Ա. Դավթյան'!I11+'Ա. Բադիրյան'!I11 -> 0 | J11: ='Ս. Ուզունյան'!J11+'Ա. Վարդապետյան'!J11+'Ա. Պետրոսյան'!J11+'Գ. Մազմանյան'!J11+'Ն. Մարգարյան'!J11+'Դ. Հարությունյան'!J11+'Ա. Բաբայան'!J11+'Է. Ամալյան'!J11+'Ա. Դավթյան'!J11+'Ա. Բադիրյան'!J11 -> 0 | K11: ='Ս. Ուզունյան'!K11+'Ա. Վարդապետյան'!K11+'Ա. Պետրոսյան'!K11+'Գ. Մազմանյան'!K11+'Ն. Մարգարյան'!K11+'Դ. Հարությունյան'!K11+'Ա. Բաբայան'!K11+'Է. Ամալյան'!K11+'Ա. Դավթյան'!K11+'Ա. Բադիրյան'!K11 -> 202 | ... R11: ='Ս. Ուզունյան'!R11+'Ա. Վարդապետյան'!R11+'Ա. Պետրոսյան'!R11+'Գ. Մազմանյան'!R11+'Ն. Մարգարյան'!R11+'Դ. Հարությունյան'!R11+'Ա. Բաբայան'!R11+'Է. Ամալյան'!R11+'Ա. Դավթյան'!R11+'Ա. Բադիրյան'!R11 -> 1 | T11: =D11+E11 -> 203 | U11: =F11+K11+L11 -> 203 | V11: =K11 -> 202 | W11: =G11+H11+I11+J11 -> 202
A12: 6 | B12: µ³ÝÏ³ÛÇÝ, ³å³Ñáí³·ñ³Ï³Ý, Ýáï³ñ³Ï³Ý ·³ÕïÝÇù Ï³½ÙáÕ ï»Õ»ÏáõÃÛáõÝÝ»ñÇ ëï³óÙ³Ý Ñ³Ù³ñ Ëáõ½³ñÏáõÃÛ³Ý Ï³Ù ³é·ñ³íÙ³Ý Ï³ï³ñÙ³Ý Ù³ëÇÝ ÙÇçÝáñ¹áõÃÛáõÝÝ»ñ | D12: ='Ս. Ուզունյան'!D12+'Ա. Վարդապետյան'!D12+'Ա. Պետրոսյան'!D12+'Գ. Մազմանյան'!D12+'Ն. Մարգարյան'!D12+'Դ. Հարությունյան'!D12+'Ա. Բաբայան'!D12+'Է. Ամալյան'!D12+'Ա. Դավթյան'!D12+'Ա. Բադիրյան'!D12 -> 0 | E12: ='Ս. Ուզունյան'!E12+'Ա. Վարդապետյան'!E12+'Ա. Պետրոսյան'!E12+'Գ. Մազմանյան'!E12+'Ն. Մարգարյան'!E12+'Դ. Հարությունյան'!E12+'Ա. Բաբայան'!E12+'Է. Ամալյան'!E12+'Ա. Դավթյան'!E12+'Ա. Բադիրյան'!E12 -> 4 | F12: ='Ս. Ուզունյան'!F12+'Ա. Վարդապետյան'!F12+'Ա. Պետրոսյան'!F12+'Գ. Մազմանյան'!F12+'Ն. Մարգարյան'!F12+'Դ. Հարությունյան'!F12+'Ա. Բաբայան'!F12+'Է. Ամալյան'!F12+'Ա. Դավթյան'!F12+'Ա. Բադիրյան'!F12 -> 0 | G12: ='Ս. Ուզունյան'!G12+'Ա. Վարդապետյան'!G12+'Ա. Պետրոսյան'!G12+'Գ. Մազմանյան'!G12+'Ն. Մարգարյան'!G12+'Դ. Հարությունյան'!G12+'Ա. Բաբայան'!G12+'Է. Ամալյան'!G12+'Ա. Դավթյան'!G12+'Ա. Բադիրյան'!G12 -> 1 | H12: ='Ս. Ուզունյան'!H12+'Ա. Վարդապետյան'!H12+'Ա. Պետրոսյան'!H12+'Գ. Մազմանյան'!H12+'Ն. Մարգարյան'!H12+'Դ. Հարությունյան'!H12+'Ա. Բաբայան'!H12+'Է. Ամալյան'!H12+'Ա. Դավթյան'!H12+'Ա. Բադիրյան'!H12 -> 3 | I12: ='Ս. Ուզունյան'!I12+'Ա. Վարդապետյան'!I12+'Ա. Պետրոսյան'!I12+'Գ. Մազմանյան'!I12+'Ն. Մարգարյան'!I12+'Դ. Հարությունյան'!I12+'Ա. Բաբայան'!I12+'Է. Ամալյան'!I12+'Ա. Դավթյան'!I12+'Ա. Բադիրյան'!I12 -> 0 | J12: ='Ս. Ուզունյան'!J12+'Ա. Վարդապետյան'!J12+'Ա. Պետրոսյան'!J12+'Գ. Մազմանյան'!J12+'Ն. Մարգարյան'!J12+'Դ. Հարությունյան'!J12+'Ա. Բաբայան'!J12+'Է. Ամալյան'!J12+'Ա. Դավթյան'!J12+'Ա. Բադիրյան'!J12 -> 0 | K12: ='Ս. Ուզունյան'!K12+'Ա. Վարդապետյան'!K12+'Ա. Պետրոսյան'!K12+'Գ. Մազմանյան'!K12+'Ն. Մարգարյան'!K12+'Դ. Հարությունյան'!K12+'Ա. Բաբայան'!K12+'Է. Ամալյան'!K12+'Ա. Դավթյան'!K12+'Ա. Բադիրյան'!K12 -> 4 | ... R12: ='Ս. Ուզունյան'!R12+'Ա. Վարդապետյան'!R12+'Ա. Պետրոսյան'!R12+'Գ. Մազմանյան'!R12+'Ն. Մարգարյան'!R12+'Դ. Հարությունյան'!R12+'Ա. Բաբայան'!R12+'Է. Ամալյան'!R12+'Ա. Դավթյան'!R12+'Ա. Բադիրյան'!R12 -> 0 | T12: =D12+E12 -> 4 | U12: =F12+K12+L12 -> 4 | V12: =K12 -> 4 | W12: =G12+H12+I12+J12 -> 4
A13: 7 | B13: Ý³Ù³Ï³·ñáõÃÛ³Ý, Ñ»é³·ñ³Ï³Ý, ÷áuï³ÛÇÝ Ñ³Õáñ¹áõÙÝ»ñÇ ÑëÏáÕáõÃÛ³Ý Ù³ëÇÝ ÙÇçÝáñ¹áõÃÛáõÝÝ»ñ | D13: ='Ս. Ուզունյան'!D13+'Ա. Վարդապետյան'!D13+'Ա. Պետրոսյան'!D13+'Գ. Մազմանյան'!D13+'Ն. Մարգարյան'!D13+'Դ. Հարությունյան'!D13+'Ա. Բաբայան'!D13+'Է. Ամալյան'!D13+'Ա. Դավթյան'!D13+'Ա. Բադիրյան'!D13 -> 0 | E13: ='Ս. Ուզունյան'!E13+'Ա. Վարդապետյան'!E13+'Ա. Պետրոսյան'!E13+'Գ. Մազմանյան'!E13+'Ն. Մարգարյան'!E13+'Դ. Հարությունյան'!E13+'Ա. Բաբայան'!E13+'Է. Ամալյան'!E13+'Ա. Դավթյան'!E13+'Ա. Բադիրյան'!E13 -> 0 | F13: ='Ս. Ուզունյան'!F13+'Ա. Վարդապետյան'!F13+'Ա. Պետրոսյան'!F13+'Գ. Մազմանյան'!F13+'Ն. Մարգարյան'!F13+'Դ. Հարությունյան'!F13+'Ա. Բաբայան'!F13+'Է. Ամալյան'!F13+'Ա. Դավթյան'!F13+'Ա. Բադիրյան'!F13 -> 0 | G13: ='Ս. Ուզունյան'!G13+'Ա. Վարդապետյան'!G13+'Ա. Պետրոսյան'!G13+'Գ. Մազմանյան'!G13+'Ն. Մարգարյան'!G13+'Դ. Հարությունյան'!G13+'Ա. Բաբայան'!G13+'Է. Ամալյան'!G13+'Ա. Դավթյան'!G13+'Ա. Բադիրյան'!G13 -> 0 | H13: ='Ս. Ուզունյան'!H13+'Ա. Վարդապետյան'!H13+'Ա. Պետրոսյան'!H13+'Գ. Մազմանյան'!H13+'Ն. Մարգարյան'!H13+'Դ. Հարությունյան'!H13+'Ա. Բաբայան'!H13+'Է. Ամալյան'!H13+'Ա. Դավթյան'!H13+'Ա. Բադիրյան'!H13 -> 0 | I13: ='Ս. Ուզունյան'!I13+'Ա. Վարդապետյան'!I13+'Ա. Պետրոսյան'!I13+'Գ. Մազմանյան'!I13+'Ն. Մարգարյան'!I13+'Դ. Հարությունյան'!I13+'Ա. Բաբայան'!I13+'Է. Ամալյան'!I13+'Ա. Դավթյան'!I13+'Ա. Բադիրյան'!I13 -> 0 | J13: ='Ս. Ուզունյան'!J13+'Ա. Վարդապետյան'!J13+'Ա. Պետրոսյան'!J13+'Գ. Մազմանյան'!J13+'Ն. Մարգարյան'!J13+'Դ. Հարությունյան'!J13+'Ա. Բաբայան'!J13+'Է. Ամալյան'!J13+'Ա. Դավթյան'!J13+'Ա. Բադիրյան'!J13 -> 0 | K13: ='Ս. Ուզունյան'!K13+'Ա. Վարդապետյան'!K13+'Ա. Պետրոսյան'!K13+'Գ. Մազմանյան'!K13+'Ն. Մարգարյան'!K13+'Դ. Հարությունյան'!K13+'Ա. Բաբայան'!K13+'Է. Ամալյան'!K13+'Ա. Դավթյան'!K13+'Ա. Բադիրյան'!K13 -> 0 | ... R13: ='Ս. Ուզունյան'!R13+'Ա. Վարդապետյան'!R13+'Ա. Պետրոսյան'!R13+'Գ. Մազմանյան'!R13+'Ն. Մարգարյան'!R13+'Դ. Հարությունյան'!R13+'Ա. Բաբայան'!R13+'Է. Ամալյան'!R13+'Ա. Դավթյան'!R13+'Ա. Բադիրյան'!R13 -> 0 | T13: =D13+E13 -> 0 | U13: =F13+K13+L13 -> 0 | V13: =K13 -> 0 | W13: =G13+H13+I13+J13 -> 0
A14: 8 | B14: Ñ»é³Ëáu³ÛÇÝ Ï³Ù Ï³åÇ ³ÛÉ ÙÇçáóÝ»ñáí ï³ñíáÕ Ëáu³ÏóáõÃÛáõÝÝ»ñÇ ÉuÙ³Ý ¨ Ó³ÛÝ³·ñ³éÙ³Ý Ù³ëÇÝ ÙÇçÝáñ¹áõÃÛáõÝÝ»ñ | D14: ='Ս. Ուզունյան'!D14+'Ա. Վարդապետյան'!D14+'Ա. Պետրոսյան'!D14+'Գ. Մազմանյան'!D14+'Ն. Մարգարյան'!D14+'Դ. Հարությունյան'!D14+'Ա. Բաբայան'!D14+'Է. Ամալյան'!D14+'Ա. Դավթյան'!D14+'Ա. Բադիրյան'!D14 -> 0 | E14: ='Ս. Ուզունյան'!E14+'Ա. Վարդապետյան'!E14+'Ա. Պետրոսյան'!E14+'Գ. Մազմանյան'!E14+'Ն. Մարգարյան'!E14+'Դ. Հարությունյան'!E14+'Ա. Բաբայան'!E14+'Է. Ամալյան'!E14+'Ա. Դավթյան'!E14+'Ա. Բադիրյան'!E14 -> 2 | F14: ='Ս. Ուզունյան'!F14+'Ա. Վարդապետյան'!F14+'Ա. Պետրոսյան'!F14+'Գ. Մազմանյան'!F14+'Ն. Մարգարյան'!F14+'Դ. Հարությունյան'!F14+'Ա. Բաբայան'!F14+'Է. Ամալյան'!F14+'Ա. Դավթյան'!F14+'Ա. Բադիրյան'!F14 -> 0 | G14: ='Ս. Ուզունյան'!G14+'Ա. Վարդապետյան'!G14+'Ա. Պետրոսյան'!G14+'Գ. Մազմանյան'!G14+'Ն. Մարգարյան'!G14+'Դ. Հարությունյան'!G14+'Ա. Բաբայան'!G14+'Է. Ամալյան'!G14+'Ա. Դավթյան'!G14+'Ա. Բադիրյան'!G14 -> 0 | H14: ='Ս. Ուզունյան'!H14+'Ա. Վարդապետյան'!H14+'Ա. Պետրոսյան'!H14+'Գ. Մազմանյան'!H14+'Ն. Մարգարյան'!H14+'Դ. Հարությունյան'!H14+'Ա. Բաբայան'!H14+'Է. Ամալյան'!H14+'Ա. Դավթյան'!H14+'Ա. Բադիրյան'!H14 -> 2 | I14: ='Ս. Ուզունյան'!I14+'Ա. Վարդապետյան'!I14+'Ա. Պետրոսյան'!I14+'Գ. Մազմանյան'!I14+'Ն. Մարգարյան'!I14+'Դ. Հարությունյան'!I14+'Ա. Բաբայան'!I14+'Է. Ամալյան'!I14+'Ա. Դավթյան'!I14+'Ա. Բադիրյան'!I14 -> 0 | J14: ='Ս. Ուզունյան'!J14+'Ա. Վարդապետյան'!J14+'Ա. Պետրոսյան'!J14+'Գ. Մազմանյան'!J14+'Ն. Մարգարյան'!J14+'Դ. Հարությունյան'!J14+'Ա. Բաբայան'!J14+'Է. Ամալյան'!J14+'Ա. Դավթյան'!J14+'Ա. Բադիրյան'!J14 -> 0 | K14: ='Ս. Ուզունյան'!K14+'Ա. Վարդապետյան'!K14+'Ա. Պետրոսյան'!K14+'Գ. Մազմանյան'!K14+'Ն. Մարգարյան'!K14+'Դ. Հարությունյան'!K14+'Ա. Բաբայան'!K14+'Է. Ամալյան'!K14+'Ա. Դավթյան'!K14+'Ա. Բադիրյան'!K14 -> 2 | ... R14: ='Ս. Ուզունյան'!R14+'Ա. Վարդապետյան'!R14+'Ա. Պետրոսյան'!R14+'Գ. Մազմանյան'!R14+'Ն. Մարգարյան'!R14+'Դ. Հարությունյան'!R14+'Ա. Բաբայան'!R14+'Է. Ամալյան'!R14+'Ա. Դավթյան'!R14+'Ա. Բադիրյան'!R14 -> 0 | T14: =D14+E14 -> 2 | U14: =F14+K14+L14 -> 2 | V14: =K14 -> 2 | W14: =G14+H14+I14+J14 -> 2
A15: 9 | B15: Ñ»é³ËáëÝ»ñÇ Ùáõïù³ÛÇÝ ¨ »Éù³ÛÇÝ í»ñÍ³ÝÙ³Ý ÃáõÛÉïíáõÃÛáõÝ ëï³Ý³Éáõ Ù³ëÇÝ ÙÇçÝáñ¹áõÃÛáõÝÝ»ñ | D15: ='Ս. Ուզունյան'!D15+'Ա. Վարդապետյան'!D15+'Ա. Պետրոսյան'!D15+'Գ. Մազմանյան'!D15+'Ն. Մարգարյան'!D15+'Դ. Հարությունյան'!D15+'Ա. Բաբայան'!D15+'Է. Ամալյան'!D15+'Ա. Դավթյան'!D15+'Ա. Բադիրյան'!D15 -> 0 | E15: ='Ս. Ուզունյան'!E15+'Ա. Վարդապետյան'!E15+'Ա. Պետրոսյան'!E15+'Գ. Մազմանյան'!E15+'Ն. Մարգարյան'!E15+'Դ. Հարությունյան'!E15+'Ա. Բաբայան'!E15+'Է. Ամալյան'!E15+'Ա. Դավթյան'!E15+'Ա. Բադիրյան'!E15 -> 153 | F15: ='Ս. Ուզունյան'!F15+'Ա. Վարդապետյան'!F15+'Ա. Պետրոսյան'!F15+'Գ. Մազմանյան'!F15+'Ն. Մարգարյան'!F15+'Դ. Հարությունյան'!F15+'Ա. Բաբայան'!F15+'Է. Ամալյան'!F15+'Ա. Դավթյան'!F15+'Ա. Բադիրյան'!F15 -> 4 | G15: ='Ս. Ուզունյան'!G15+'Ա. Վարդապետյան'!G15+'Ա. Պետրոսյան'!G15+'Գ. Մազմանյան'!G15+'Ն. Մարգարյան'!G15+'Դ. Հարությունյան'!G15+'Ա. Բաբայան'!G15+'Է. Ամալյան'!G15+'Ա. Դավթյան'!G15+'Ա. Բադիրյան'!G15 -> 6 | H15: ='Ս. Ուզունյան'!H15+'Ա. Վարդապետյան'!H15+'Ա. Պետրոսյան'!H15+'Գ. Մազմանյան'!H15+'Ն. Մարգարյան'!H15+'Դ. Հարությունյան'!H15+'Ա. Բաբայան'!H15+'Է. Ամալյան'!H15+'Ա. Դավթյան'!H15+'Ա. Բադիրյան'!H15 -> 143 | I15: ='Ս. Ուզունյան'!I15+'Ա. Վարդապետյան'!I15+'Ա. Պետրոսյան'!I15+'Գ. Մազմանյան'!I15+'Ն. Մարգարյան'!I15+'Դ. Հարությունյան'!I15+'Ա. Բաբայան'!I15+'Է. Ամալյան'!I15+'Ա. Դավթյան'!I15+'Ա. Բադիրյան'!I15 -> 0 | J15: ='Ս. Ուզունյան'!J15+'Ա. Վարդապետյան'!J15+'Ա. Պետրոսյան'!J15+'Գ. Մազմանյան'!J15+'Ն. Մարգարյան'!J15+'Դ. Հարությունյան'!J15+'Ա. Բաբայան'!J15+'Է. Ամալյան'!J15+'Ա. Դավթյան'!J15+'Ա. Բադիրյան'!J15 -> 0 | K15: ='Ս. Ուզունյան'!K15+'Ա. Վարդապետյան'!K15+'Ա. Պետրոսյան'!K15+'Գ. Մազմանյան'!K15+'Ն. Մարգարյան'!K15+'Դ. Հարությունյան'!K15+'Ա. Բաբայան'!K15+'Է. Ամալյան'!K15+'Ա. Դավթյան'!K15+'Ա. Բադիրյան'!K15 -> 149 | ... R15: ='Ս. Ուզունյան'!R15+'Ա. Վարդապետյան'!R15+'Ա. Պետրոսյան'!R15+'Գ. Մազմանյան'!R15+'Ն. Մարգարյան'!R15+'Դ. Հարությունյան'!R15+'Ա. Բաբայան'!R15+'Է. Ամալյան'!R15+'Ա. Դավթյան'!R15+'Ա. Բադիրյան'!R15 -> 1 | T15: =D15+E15 -> 153 | U15: =F15+K15+L15 -> 153 | V15: =K15 -> 149 | W15: =G15+H15+I15+J15 -> 149
A16: 10 | B16: Ñ»ï³ùÝÝáõÃÛ³Ý Ù³ñÙÝÇ ³ßË³ïáÕÇ, ùÝÝÇãÇ, ¹³ï³Ë³½Ç oå»ñ³ïÇí-Ñ»ï³Ëáõ½³Ï³Ý ·áñÍáÕáõÃÛáõÝÝ»ñ Çñ³Ï³Ý³óÝáÕ Ù³ñÙÇÝÝ»ñÇ ³ÝoñÇÝ³Ï³Ý ¨ ³ÝÑÇÙÝ áñáßáõÙÝ»ñÇ ¨ ·áñÍáÕáõÃÛáõÝÝ»ñÇ ¹»Ù µáÕáùÝ»ñ | D16: ='Ս. Ուզունյան'!D16+'Ա. Վարդապետյան'!D16+'Ա. Պետրոսյան'!D16+'Գ. Մազմանյան'!D16+'Ն. Մարգարյան'!D16+'Դ. Հարությունյան'!D16+'Ա. Բաբայան'!D16+'Է. Ամալյան'!D16+'Ա. Դավթյան'!D16+'Ա. Բադիրյան'!D16 -> 3 | E16: ='Ս. Ուզունյան'!E16+'Ա. Վարդապետյան'!E16+'Ա. Պետրոսյան'!E16+'Գ. Մազմանյան'!E16+'Ն. Մարգարյան'!E16+'Դ. Հարությունյան'!E16+'Ա. Բաբայան'!E16+'Է. Ամալյան'!E16+'Ա. Դավթյան'!E16+'Ա. Բադիրյան'!E16 -> 31 | F16: ='Ս. Ուզունյան'!F16+'Ա. Վարդապետյան'!F16+'Ա. Պետրոսյան'!F16+'Գ. Մազմանյան'!F16+'Ն. Մարգարյան'!F16+'Դ. Հարությունյան'!F16+'Ա. Բաբայան'!F16+'Է. Ամալյան'!F16+'Ա. Դավթյան'!F16+'Ա. Բադիրյան'!F16 -> 0 | G16: ='Ս. Ուզունյան'!G16+'Ա. Վարդապետյան'!G16+'Ա. Պետրոսյան'!G16+'Գ. Մազմանյան'!G16+'Ն. Մարգարյան'!G16+'Դ. Հարությունյան'!G16+'Ա. Բաբայան'!G16+'Է. Ամալյան'!G16+'Ա. Դավթյան'!G16+'Ա. Բադիրյան'!G16 -> 16 | H16: ='Ս. Ուզունյան'!H16+'Ա. Վարդապետյան'!H16+'Ա. Պետրոսյան'!H16+'Գ. Մազմանյան'!H16+'Ն. Մարգարյան'!H16+'Դ. Հարությունյան'!H16+'Ա. Բաբայան'!H16+'Է. Ամալյան'!H16+'Ա. Դավթյան'!H16+'Ա. Բադիրյան'!H16 -> 7 | I16: ='Ս. Ուզունյան'!I16+'Ա. Վարդապետյան'!I16+'Ա. Պետրոսյան'!I16+'Գ. Մազմանյան'!I16+'Ն. Մարգարյան'!I16+'Դ. Հարությունյան'!I16+'Ա. Բաբայան'!I16+'Է. Ամալյան'!I16+'Ա. Դավթյան'!I16+'Ա. Բադիրյան'!I16 -> 1 | J16: ='Ս. Ուզունյան'!J16+'Ա. Վարդապետյան'!J16+'Ա. Պետրոսյան'!J16+'Գ. Մազմանյան'!J16+'Ն. Մարգարյան'!J16+'Դ. Հարությունյան'!J16+'Ա. Բաբայան'!J16+'Է. Ամալյան'!J16+'Ա. Դավթյան'!J16+'Ա. Բադիրյան'!J16 -> 2 | K16: ='Ս. Ուզունյան'!K16+'Ա. Վարդապետյան'!K16+'Ա. Պետրոսյան'!K16+'Գ. Մազմանյան'!K16+'Ն. Մարգարյան'!K16+'Դ. Հարությունյան'!K16+'Ա. Բաբայան'!K16+'Է. Ամալյան'!K16+'Ա. Դավթյան'!K16+'Ա. Բադիրյան'!K16 -> 26 | ... R16: ='Ս. Ուզունյան'!R16+'Ա. Վարդապետյան'!R16+'Ա. Պետրոսյան'!R16+'Գ. Մազմանյան'!R16+'Ն. Մարգարյան'!R16+'Դ. Հարությունյան'!R16+'Ա. Բաբայան'!R16+'Է. Ամալյան'!R16+'Ա. Դավթյան'!R16+'Ա. Բադիրյան'!R16 -> 12 | T16: =D16+E16 -> 34 | U16: =F16+K16+L16 -> 32 | V16: =K16 -> 26 | W16: =G16+H16+I16+J16 -> 26
A17: 2. ¸³ï³Ï³Ý ³Ïï»ñÇ ¨ ¹³ï³Ï³Ý Ñ³ÝÓÝ³ñ³ñáõÃÛáõÝÝ»ñÇ Ï³ï³ñÙ³Ý Ñ»ï Ï³åí³Í Ñ³ñó»ñÇ ÉáõÍÙ³Ý áÉáñï
A18: 1 | B18: å³ïÅÇó å³ÛÙ³Ý³Ï³Ý í³Õ³Å³ÙÏ»ï ³½³ï»Éáõ Ù³ëÇÝ ÙÇçÝáñ¹áõÃÛáõÝÝ»ñ | D18: ='Ս. Ուզունյան'!D18+'Ա. Վարդապետյան'!D18+'Ա. Պետրոսյան'!D18+'Գ. Մազմանյան'!D18+'Ն. Մարգարյան'!D18+'Դ. Հարությունյան'!D18+'Ա. Բաբայան'!D18+'Է. Ամալյան'!D18+'Ա. Դավթյան'!D18+'Ա. Բադիրյան'!D18 -> 0 | E18: ='Ս. Ուզունյան'!E18+'Ա. Վարդապետյան'!E18+'Ա. Պետրոսյան'!E18+'Գ. Մազմանյան'!E18+'Ն. Մարգարյան'!E18+'Դ. Հարությունյան'!E18+'Ա. Բաբայան'!E18+'Է. Ամալյան'!E18+'Ա. Դավթյան'!E18+'Ա. Բադիրյան'!E18 -> 0 | F18: ='Ս. Ուզունյան'!F18+'Ա. Վարդապետյան'!F18+'Ա. Պետրոսյան'!F18+'Գ. Մազմանյան'!F18+'Ն. Մարգարյան'!F18+'Դ. Հարությունյան'!F18+'Ա. Բաբայան'!F18+'Է. Ամալյան'!F18+'Ա. Դավթյան'!F18+'Ա. Բադիրյան'!F18 -> 0 | G18: ='Ս. Ուզունյան'!G18+'Ա. Վարդապետյան'!G18+'Ա. Պետրոսյան'!G18+'Գ. Մազմանյան'!G18+'Ն. Մարգարյան'!G18+'Դ. Հարությունյան'!G18+'Ա. Բաբայան'!G18+'Է. Ամալյան'!G18+'Ա. Դավթյան'!G18+'Ա. Բադիրյան'!G18 -> 0 | H18: ='Ս. Ուզունյան'!H18+'Ա. Վարդապետյան'!H18+'Ա. Պետրոսյան'!H18+'Գ. Մազմանյան'!H18+'Ն. Մարգարյան'!H18+'Դ. Հարությունյան'!H18+'Ա. Բաբայան'!H18+'Է. Ամալյան'!H18+'Ա. Դավթյան'!H18+'Ա. Բադիրյան'!H18 -> 0 | I18: ='Ս. Ուզունյան'!I18+'Ա. Վարդապետյան'!I18+'Ա. Պետրոսյան'!I18+'Գ. Մազմանյան'!I18+'Ն. Մարգարյան'!I18+'Դ. Հարությունյան'!I18+'Ա. Բաբայան'!I18+'Է. Ամալյան'!I18+'Ա. Դավթյան'!I18+'Ա. Բադիրյան'!I18 -> 0 | J18: ='Ս. Ուզունյան'!J18+'Ա. Վարդապետյան'!J18+'Ա. Պետրոսյան'!J18+'Գ. Մազմանյան'!J18+'Ն. Մարգարյան'!J18+'Դ. Հարությունյան'!J18+'Ա. Բաբայան'!J18+'Է. Ամալյան'!J18+'Ա. Դավթյան'!J18+'Ա. Բադիրյան'!J18 -> 0 | K18: ='Ս. Ուզունյան'!K18+'Ա. Վարդապետյան'!K18+'Ա. Պետրոսյան'!K18+'Գ. Մազմանյան'!K18+'Ն. Մարգարյան'!K18+'Դ. Հարությունյան'!K18+'Ա. Բաբայան'!K18+'Է. Ամալյան'!K18+'Ա. Դավթյան'!K18+'Ա. Բադիրյան'!K18 -> 0 | ... R18: ='Ս. Ուզունյան'!R18+'Ա. Վարդապետյան'!R18+'Ա. Պետրոսյան'!R18+'Գ. Մազմանյան'!R18+'Ն. Մարգարյան'!R18+'Դ. Հարությունյան'!R18+'Ա. Բաբայան'!R18+'Է. Ամալյան'!R18+'Ա. Դավթյան'!R18+'Ա. Բադիրյան'!R18 -> 0 | T18: =D18+E18 -> 0 | U18: =F18+K18+L18 -> 0 | V18: =K18 -> 0 | W18: =G18+H18+I18+J18 -> 0
A19: 2 | B19: å³ïÇÅÁ ÷á÷áË»Éáõ, Ñ»ï³Ó·»Éáõ ¨ å³ïÅÇó ³½³ï»Éáõ Ù³uÇÝ ÙÇçÝáñ¹áõÃÛáõÝÝ»ñ | D19: ='Ս. Ուզունյան'!D19+'Ա. Վարդապետյան'!D19+'Ա. Պետրոսյան'!D19+'Գ. Մազմանյան'!D19+'Ն. Մարգարյան'!D19+'Դ. Հարությունյան'!D19+'Ա. Բաբայան'!D19+'Է. Ամալյան'!D19+'Ա. Դավթյան'!D19+'Ա. Բադիրյան'!D19 -> 2 | E19: ='Ս. Ուզունյան'!E19+'Ա. Վարդապետյան'!E19+'Ա. Պետրոսյան'!E19+'Գ. Մազմանյան'!E19+'Ն. Մարգարյան'!E19+'Դ. Հարությունյան'!E19+'Ա. Բաբայան'!E19+'Է. Ամալյան'!E19+'Ա. Դավթյան'!E19+'Ա. Բադիրյան'!E19 -> 8 | F19: ='Ս. Ուզունյան'!F19+'Ա. Վարդապետյան'!F19+'Ա. Պետրոսյան'!F19+'Գ. Մազմանյան'!F19+'Ն. Մարգարյան'!F19+'Դ. Հարությունյան'!F19+'Ա. Բաբայան'!F19+'Է. Ամալյան'!F19+'Ա. Դավթյան'!F19+'Ա. Բադիրյան'!F19 -> 1 | G19: ='Ս. Ուզունյան'!G19+'Ա. Վարդապետյան'!G19+'Ա. Պետրոսյան'!G19+'Գ. Մազմանյան'!G19+'Ն. Մարգարյան'!G19+'Դ. Հարությունյան'!G19+'Ա. Բաբայան'!G19+'Է. Ամալյան'!G19+'Ա. Դավթյան'!G19+'Ա. Բադիրյան'!G19 -> 5 | H19: ='Ս. Ուզունյան'!H19+'Ա. Վարդապետյան'!H19+'Ա. Պետրոսյան'!H19+'Գ. Մազմանյան'!H19+'Ն. Մարգարյան'!H19+'Դ. Հարությունյան'!H19+'Ա. Բաբայան'!H19+'Է. Ամալյան'!H19+'Ա. Դավթյան'!H19+'Ա. Բադիրյան'!H19 -> 4 | I19: ='Ս. Ուզունյան'!I19+'Ա. Վարդապետյան'!I19+'Ա. Պետրոսյան'!I19+'Գ. Մազմանյան'!I19+'Ն. Մարգարյան'!I19+'Դ. Հարությունյան'!I19+'Ա. Բաբայան'!I19+'Է. Ամալյան'!I19+'Ա. Դավթյան'!I19+'Ա. Բադիրյան'!I19 -> 0 | J19: ='Ս. Ուզունյան'!J19+'Ա. Վարդապետյան'!J19+'Ա. Պետրոսյան'!J19+'Գ. Մազմանյան'!J19+'Ն. Մարգարյան'!J19+'Դ. Հարությունյան'!J19+'Ա. Բաբայան'!J19+'Է. Ամալյան'!J19+'Ա. Դավթյան'!J19+'Ա. Բադիրյան'!J19 -> 0 | K19: ='Ս. Ուզունյան'!K19+'Ա. Վարդապետյան'!K19+'Ա. Պետրոսյան'!K19+'Գ. Մազմանյան'!K19+'Ն. Մարգարյան'!K19+'Դ. Հարությունյան'!K19+'Ա. Բաբայան'!K19+'Է. Ամալյան'!K19+'Ա. Դավթյան'!K19+'Ա. Բադիրյան'!K19 -> 9 | ... R19: ='Ս. Ուզունյան'!R19+'Ա. Վարդապետյան'!R19+'Ա. Պետրոսյան'!R19+'Գ. Մազմանյան'!R19+'Ն. Մարգարյան'!R19+'Դ. Հարությունյան'!R19+'Ա. Բաբայան'!R19+'Է. Ամալյան'!R19+'Ա. Դավթյան'!R19+'Ա. Բադիրյան'!R19 -> 1 | T19: =D19+E19 -> 10 | U19: =F19+K19+L19 -> 10 | V19: =K19 -> 9 | W19: =G19+H19+I19+J19 -> 9
A20: 3 | B20: Ñ³ñÏ³¹Çñ µáõÅÙ³Ý ï»ë³ÏÇ ÷á÷áËáõÃÛ³Ý Ù³ëÇÝ ÙÇçÝáñ¹áõÃÛáõÝÝ»ñ | D20: ='Ս. Ուզունյան'!D20+'Ա. Վարդապետյան'!D20+'Ա. Պետրոսյան'!D20+'Գ. Մազմանյան'!D20+'Ն. Մարգարյան'!D20+'Դ. Հարությունյան'!D20+'Ա. Բաբայան'!D20+'Է. Ամալյան'!D20+'Ա. Դավթյան'!D20+'Ա. Բադիրյան'!D20 -> 0 | E20: ='Ս. Ուզունյան'!E20+'Ա. Վարդապետյան'!E20+'Ա. Պետրոսյան'!E20+'Գ. Մազմանյան'!E20+'Ն. Մարգարյան'!E20+'Դ. Հարությունյան'!E20+'Ա. Բաբայան'!E20+'Է. Ամալյան'!E20+'Ա. Դավթյան'!E20+'Ա. Բադիրյան'!E20 -> 13 | F20: ='Ս. Ուզունյան'!F20+'Ա. Վարդապետյան'!F20+'Ա. Պետրոսյան'!F20+'Գ. Մազմանյան'!F20+'Ն. Մարգարյան'!F20+'Դ. Հարությունյան'!F20+'Ա. Բաբայան'!F20+'Է. Ամալյան'!F20+'Ա. Դավթյան'!F20+'Ա. Բադիրյան'!F20 -> 0 | G20: ='Ս. Ուզունյան'!G20+'Ա. Վարդապետյան'!G20+'Ա. Պետրոսյան'!G20+'Գ. Մազմանյան'!G20+'Ն. Մարգարյան'!G20+'Դ. Հարությունյան'!G20+'Ա. Բաբայան'!G20+'Է. Ամալյան'!G20+'Ա. Դավթյան'!G20+'Ա. Բադիրյան'!G20 -> 2 | H20: ='Ս. Ուզունյան'!H20+'Ա. Վարդապետյան'!H20+'Ա. Պետրոսյան'!H20+'Գ. Մազմանյան'!H20+'Ն. Մարգարյան'!H20+'Դ. Հարությունյան'!H20+'Ա. Բաբայան'!H20+'Է. Ամալյան'!H20+'Ա. Դավթյան'!H20+'Ա. Բադիրյան'!H20 -> 8 | I20: ='Ս. Ուզունյան'!I20+'Ա. Վարդապետյան'!I20+'Ա. Պետրոսյան'!I20+'Գ. Մազմանյան'!I20+'Ն. Մարգարյան'!I20+'Դ. Հարությունյան'!I20+'Ա. Բաբայան'!I20+'Է. Ամալյան'!I20+'Ա. Դավթյան'!I20+'Ա. Բադիրյան'!I20 -> 0 | J20: ='Ս. Ուզունյան'!J20+'Ա. Վարդապետյան'!J20+'Ա. Պետրոսյան'!J20+'Գ. Մազմանյան'!J20+'Ն. Մարգարյան'!J20+'Դ. Հարությունյան'!J20+'Ա. Բաբայան'!J20+'Է. Ամալյան'!J20+'Ա. Դավթյան'!J20+'Ա. Բադիրյան'!J20 -> 0 | K20: ='Ս. Ուզունյան'!K20+'Ա. Վարդապետյան'!K20+'Ա. Պետրոսյան'!K20+'Գ. Մազմանյան'!K20+'Ն. Մարգարյան'!K20+'Դ. Հարությունյան'!K20+'Ա. Բաբայան'!K20+'Է. Ամալյան'!K20+'Ա. Դավթյան'!K20+'Ա. Բադիրյան'!K20 -> 10 | ... R20: ='Ս. Ուզունյան'!R20+'Ա. Վարդապետյան'!R20+'Ա. Պետրոսյան'!R20+'Գ. Մազմանյան'!R20+'Ն. Մարգարյան'!R20+'Դ. Հարությունյան'!R20+'Ա. Բաբայան'!R20+'Է. Ամալյան'!R20+'Ա. Դավթյան'!R20+'Ա. Բադիրյան'!R20 -> 0 | T20: =D20+E20 -> 13 | U20: =F20+K20+L20 -> 13 | V20: =K20 -> 10 | W20: =G20+H20+I20+J20 -> 10
A21: 4 | B21: ³ÛÉ ÙÇçÝáñ¹áõÃÛáõÝÝ»ñ | D21: ='Ս. Ուզունյան'!D21+'Ա. Վարդապետյան'!D21+'Ա. Պետրոսյան'!D21+'Գ. Մազմանյան'!D21+'Ն. Մարգարյան'!D21+'Դ. Հարությունյան'!D21+'Ա. Բաբայան'!D21+'Է. Ամալյան'!D21+'Ա. Դավթյան'!D21+'Ա. Բադիրյան'!D21 -> 0 | E21: ='Ս. Ուզունյան'!E21+'Ա. Վարդապետյան'!E21+'Ա. Պետրոսյան'!E21+'Գ. Մազմանյան'!E21+'Ն. Մարգարյան'!E21+'Դ. Հարությունյան'!E21+'Ա. Բաբայան'!E21+'Է. Ամալյան'!E21+'Ա. Դավթյան'!E21+'Ա. Բադիրյան'!E21 -> 25 | F21: ='Ս. Ուզունյան'!F21+'Ա. Վարդապետյան'!F21+'Ա. Պետրոսյան'!F21+'Գ. Մազմանյան'!F21+'Ն. Մարգարյան'!F21+'Դ. Հարությունյան'!F21+'Ա. Բաբայան'!F21+'Է. Ամալյան'!F21+'Ա. Դավթյան'!F21+'Ա. Բադիրյան'!F21 -> 1 | G21: ='Ս. Ուզունյան'!G21+'Ա. Վարդապետյան'!G21+'Ա. Պետրոսյան'!G21+'Գ. Մազմանյան'!G21+'Ն. Մարգարյան'!G21+'Դ. Հարությունյան'!G21+'Ա. Բաբայան'!G21+'Է. Ամալյան'!G21+'Ա. Դավթյան'!G21+'Ա. Բադիրյան'!G21 -> 3 | H21: ='Ս. Ուզունյան'!H21+'Ա. Վարդապետյան'!H21+'Ա. Պետրոսյան'!H21+'Գ. Մազմանյան'!H21+'Ն. Մարգարյան'!H21+'Դ. Հարությունյան'!H21+'Ա. Բաբայան'!H21+'Է. Ամալյան'!H21+'Ա. Դավթյան'!H21+'Ա. Բադիրյան'!H21 -> 20 | I21: ='Ս. Ուզունյան'!I21+'Ա. Վարդապետյան'!I21+'Ա. Պետրոսյան'!I21+'Գ. Մազմանյան'!I21+'Ն. Մարգարյան'!I21+'Դ. Հարությունյան'!I21+'Ա. Բաբայան'!I21+'Է. Ամալյան'!I21+'Ա. Դավթյան'!I21+'Ա. Բադիրյան'!I21 -> 0 | J21: ='Ս. Ուզունյան'!J21+'Ա. Վարդապետյան'!J21+'Ա. Պետրոսյան'!J21+'Գ. Մազմանյան'!J21+'Ն. Մարգարյան'!J21+'Դ. Հարությունյան'!J21+'Ա. Բաբայան'!J21+'Է. Ամալյան'!J21+'Ա. Դավթյան'!J21+'Ա. Բադիրյան'!J21 -> 0 | K21: ='Ս. Ուզունյան'!K21+'Ա. Վարդապետյան'!K21+'Ա. Պետրոսյան'!K21+'Գ. Մազմանյան'!K21+'Ն. Մարգարյան'!K21+'Դ. Հարությունյան'!K21+'Ա. Բաբայան'!K21+'Է. Ամալյան'!K21+'Ա. Դավթյան'!K21+'Ա. Բադիրյան'!K21 -> 23 | ... R21: ='Ս. Ուզունյան'!R21+'Ա. Վարդապետյան'!R21+'Ա. Պետրոսյան'!R21+'Գ. Մազմանյան'!R21+'Ն. Մարգարյան'!R21+'Դ. Հարությունյան'!R21+'Ա. Բաբայան'!R21+'Է. Ամալյան'!R21+'Ա. Դավթյան'!R21+'Ա. Բադիրյան'!R21 -> 0 | T21: =D21+E21 -> 25 | U21: =F21+K21+L21 -> 24 | V21: =K21 -> 23 | W21: =G21+H21+I21+J21 -> 23
A22: 5 | B22: ¹³ï³Ï³Ý Ñ³ÝÓÝ³ñ³ñáõÃÛáõÝÝ»ñ | D22: ='Ս. Ուզունյան'!D22+'Ա. Վարդապետյան'!D22+'Ա. Պետրոսյան'!D22+'Գ. Մազմանյան'!D22+'Ն. Մարգարյան'!D22+'Դ. Հարությունյան'!D22+'Ա. Բաբայան'!D22+'Է. Ամալյան'!D22+'Ա. Դավթյան'!D22+'Ա. Բադիրյան'!D22 -> 4 | E22: ='Ս. Ուզունյան'!E22+'Ա. Վարդապետյան'!E22+'Ա. Պետրոսյան'!E22+'Գ. Մազմանյան'!E22+'Ն. Մարգարյան'!E22+'Դ. Հարությունյան'!E22+'Ա. Բաբայան'!E22+'Է. Ամալյան'!E22+'Ա. Դավթյան'!E22+'Ա. Բադիրյան'!E22 -> 14 | F22: ='Ս. Ուզունյան'!F22+'Ա. Վարդապետյան'!F22+'Ա. Պետրոսյան'!F22+'Գ. Մազմանյան'!F22+'Ն. Մարգարյան'!F22+'Դ. Հարությունյան'!F22+'Ա. Բաբայան'!F22+'Է. Ամալյան'!F22+'Ա. Դավթյան'!F22+'Ա. Բադիրյան'!F22 -> 0 | G22: ='Ս. Ուզունյան'!G22+'Ա. Վարդապետյան'!G22+'Ա. Պետրոսյան'!G22+'Գ. Մազմանյան'!G22+'Ն. Մարգարյան'!G22+'Դ. Հարությունյան'!G22+'Ա. Բաբայան'!G22+'Է. Ամալյան'!G22+'Ա. Դավթյան'!G22+'Ա. Բադիրյան'!G22 -> 0 | H22: ='Ս. Ուզունյան'!H22+'Ա. Վարդապետյան'!H22+'Ա. Պետրոսյան'!H22+'Գ. Մազմանյան'!H22+'Ն. Մարգարյան'!H22+'Դ. Հարությունյան'!H22+'Ա. Բաբայան'!H22+'Է. Ամալյան'!H22+'Ա. Դավթյան'!H22+'Ա. Բադիրյան'!H22 -> 4 | I22: ='Ս. Ուզունյան'!I22+'Ա. Վարդապետյան'!I22+'Ա. Պետրոսյան'!I22+'Գ. Մազմանյան'!I22+'Ն. Մարգարյան'!I22+'Դ. Հարությունյան'!I22+'Ա. Բաբայան'!I22+'Է. Ամալյան'!I22+'Ա. Դավթյան'!I22+'Ա. Բադիրյան'!I22 -> 1 | J22: ='Ս. Ուզունյան'!J22+'Ա. Վարդապետյան'!J22+'Ա. Պետրոսյան'!J22+'Գ. Մազմանյան'!J22+'Ն. Մարգարյան'!J22+'Դ. Հարությունյան'!J22+'Ա. Բաբայան'!J22+'Է. Ամալյան'!J22+'Ա. Դավթյան'!J22+'Ա. Բադիրյան'!J22 -> 0 | K22: ='Ս. Ուզունյան'!K22+'Ա. Վարդապետյան'!K22+'Ա. Պետրոսյան'!K22+'Գ. Մազմանյան'!K22+'Ն. Մարգարյան'!K22+'Դ. Հարությունյան'!K22+'Ա. Բաբայան'!K22+'Է. Ամալյան'!K22+'Ա. Դավթյան'!K22+'Ա. Բադիրյան'!K22 -> 5 | ... R22: ='Ս. Ուզունյան'!R22+'Ա. Վարդապետյան'!R22+'Ա. Պետրոսյան'!R22+'Գ. Մազմանյան'!R22+'Ն. Մարգարյան'!R22+'Դ. Հարությունյան'!R22+'Ա. Բաբայան'!R22+'Է. Ամալյան'!R22+'Ա. Դավթյան'!R22+'Ա. Բադիրյան'!R22 -> 0 | T22: =D22+E22 -> 18 | U22: =F22+K22+L22 -> 10 | V22: =K22 -> 5 | W22: =G22+H22+I22+J22 -> 5
A23: ÀÜ¸²ØºÜÀ | D23: ='Ս. Ուզունյան'!D23+'Ա. Վարդապետյան'!D23+'Ա. Պետրոսյան'!D23+'Գ. Մազմանյան'!D23+'Ն. Մարգարյան'!D23+'Դ. Հարությունյան'!D23+'Ա. Բաբայան'!D23+'Է. Ամալյան'!D23+'Ա. Դավթյան'!D23+'Ա. Բադիրյան'!D23 -> 11 | E23: ='Ս. Ուզունյան'!E23+'Ա. Վարդապետյան'!E23+'Ա. Պետրոսյան'!E23+'Գ. Մազմանյան'!E23+'Ն. Մարգարյան'!E23+'Դ. Հարությունյան'!E23+'Ա. Բաբայան'!E23+'Է. Ամալյան'!E23+'Ա. Դավթյան'!E23+'Ա. Բադիրյան'!E23 -> 540 | F23: ='Ս. Ուզունյան'!F23+'Ա. Վարդապետյան'!F23+'Ա. Պետրոսյան'!F23+'Գ. Մազմանյան'!F23+'Ն. Մարգարյան'!F23+'Դ. Հարությունյան'!F23+'Ա. Բաբայան'!F23+'Է. Ամալյան'!F23+'Ա. Դավթյան'!F23+'Ա. Բադիրյան'!F23 -> 9 | G23: ='Ս. Ուզունյան'!G23+'Ա. Վարդապետյան'!G23+'Ա. Պետրոսյան'!G23+'Գ. Մազմանյան'!G23+'Ն. Մարգարյան'!G23+'Դ. Հարությունյան'!G23+'Ա. Բաբայան'!G23+'Է. Ամալյան'!G23+'Ա. Դավթյան'!G23+'Ա. Բադիրյան'!G23 -> 61 | H23: ='Ս. Ուզունյան'!H23+'Ա. Վարդապետյան'!H23+'Ա. Պետրոսյան'!H23+'Գ. Մազմանյան'!H23+'Ն. Մարգարյան'!H23+'Դ. Հարությունյան'!H23+'Ա. Բաբայան'!H23+'Է. Ամալյան'!H23+'Ա. Դավթյան'!H23+'Ա. Բադիրյան'!H23 -> 446 | I23: ='Ս. Ուզունյան'!I23+'Ա. Վարդապետյան'!I23+'Ա. Պետրոսյան'!I23+'Գ. Մազմանյան'!I23+'Ն. Մարգարյան'!I23+'Դ. Հարությունյան'!I23+'Ա. Բաբայան'!I23+'Է. Ամալյան'!I23+'Ա. Դավթյան'!I23+'Ա. Բադիրյան'!I23 -> 3 | J23: ='Ս. Ուզունյան'!J23+'Ա. Վարդապետյան'!J23+'Ա. Պետրոսյան'!J23+'Գ. Մազմանյան'!J23+'Ն. Մարգարյան'!J23+'Դ. Հարությունյան'!J23+'Ա. Բաբայան'!J23+'Է. Ամալյան'!J23+'Ա. Դավթյան'!J23+'Ա. Բադիրյան'!J23 -> 3 | K23: ='Ս. Ուզունյան'!K23+'Ա. Վարդապետյան'!K23+'Ա. Պետրոսյան'!K23+'Գ. Մազմանյան'!K23+'Ն. Մարգարյան'!K23+'Դ. Հարությունյան'!K23+'Ա. Բաբայան'!K23+'Է. Ամալյան'!K23+'Ա. Դավթյան'!K23+'Ա. Բադիրյան'!K23 -> 513 | ... R23: ='Ս. Ուզունյան'!R23+'Ա. Վարդապետյան'!R23+'Ա. Պետրոսյան'!R23+'Գ. Մազմանյան'!R23+'Ն. Մարգարյան'!R23+'Դ. Հարությունյան'!R23+'Ա. Բաբայան'!R23+'Է. Ամալյան'!R23+'Ա. Դավթյան'!R23+'Ա. Բադիրյան'!R23 -> 26 | T23: =D23+E23 -> 551 | U23: =F23+K23+L23 -> 540 | V23: =K23 -> 513 | W23: =G23+H23+I23+J23 -> 513
C25: Ծանոթություն ԿԴ2/0003/15/15 միջնորդությունը միացվել է ԵԱՆԴ0002/13/15 միջնորդությանը
C26: ԵԱՆԴ 0028/11/15 և ԵԱՆԴ/0027/11/15 միջնորդությունները միացվել են | F26: միցվել են ԵԱՆԴ/0026/11/15 միջնորդությանը
C27: ԵԱՆԴ/0013/16/15, ԵԱՆԴ/0011/16/14, ԵԱՆԴ/0001/16/15, ԵԱՆԴ/0008/16/13, ԵԱՆԴ/0006/16/14, ԵԱՆԴ/0007/16/15, ԵԱՆԴ/0003/16/15 և ԵԱՆԴ/0008/16/15 միջնորդությունները վերադարձվել են

Sheet Ս. Ուզունյան
A1: 2015Ã. | D1: Ð²ÞìºîìàôÂÚàôÜ | P1: Ð³í»Éí³Í Ð³Û³ëï³ÝÇ Ð³Ýñ³å»ïáõÃÛ³Ý ¸³ï³ñ³ÝÝ»ñÇ Ý³Ë³·³ÑÝ»ñÇ ËáñÑñ¹Ç 01.02.2016Ã. ÃÇí 11È áñáßÙ³Ý
A2: ØÇÝã¹³ï³Ï³Ý í³ñáõÛÃÇ ÝÏ³ïÙ³Ùµ ¹³ï³Ï³Ý í»ñ³ÑëÏáÕáõÃÛ³ÝÁ, ¹³ï³Ï³Ý ³Ïï»ñÇ ¨ ¹³ï³Ï³Ý Ñ³ÝÓÝ³ñ³ñáõÃÛáõÝÝ»ñÇ Ï³ï³ñÙ³Ý Ñ»ï Ï³åí³Í ÙÇçÝáñ¹áõÃÛáõÝÝ»ñÇ í»ñ³µ»ñÛ³É ¹³ï³Ï³Ý ·áñÍ»ñáí ºñ¨³Ý ù³Õ³ùÇ ²í³Ý ¨ Üáñ Üáñù í³ñã³Ï³Ý ßñç³ÝÝ»ñÇ ÁÝ¹Ñ³Ýáõñ Çñ³í³ëáõÃÛ³Ý ³é³çÇÝ ³ïÛ³ÝÇ ¹³ï³ñ³ÝÇ ¹³ï³íáñ Ս.ՈՒզունյանի ·áñÍáõÝ»áõÃÛ³Ý í»ñ³µ»ñÛ³É
A3: êïáõ·Çã Ñ³í³ë³ñáõÙ` 1+2=3+8+9, 8=4+5+6+7, | D3: Ð³ßí»ïáõ Å³Ù³Ý³Ï³Ñ³ïí³ÍÇ ëÏ½µáõÙ Ý³Ëáñ¹ Ñ³ßí»ïáõ Å³Ù³Ý³Ï³Ñ³ïí³ÍÇó ÷áË³Ýóí³Í ·áñÍ»ñÇ ÁÝ¹Ñ³Ýáõñ ÃÇíÁ | E3: Ð³ßí»ïáõ Å³Ù³Ý³Ï³Ñ³ïí³ÍáõÙ ëï³óí³Í ·áñÍ»ñÇ ÁÝ¹Ñ³Ýáõñ ÃÇíÁ | F3: öáË³Ýóí»É ¿ ³ÛÉ ¹³ï³íáñÇ Ï³Ù ³ÛÉ ¹³ï³ñ³Ý (Ï³½ÙÇ ÷á÷áËáõÃÛáõÝ, ÁÝ¹¹³ïáõÃÛáõÝ) | G3: Ð³ßí»ïáõ Å³Ù³Ý³Ï³Ñ³ïí³ÍáõÙ ³í³ñïí³Í ·áñÍ»ñÇ ÁÝ¹Ñ³Ýáõñ ÃÇíÁ | L3: Ð³ßí»ïáõ Å³Ù³Ý³Ï³Ñ³ïí³ÍáõÙ ³Ý³í³ñï ·áñÍ»ñÇ ÁÝ¹Ñ³Ýáõñ ÃÇíÁ | M3: ØÇçÝáñ¹áõÃÛáõÝÝ»ñáí Ï³Û³óí³Í ¹³ï³Ï³Ý ³Ïï»ñÇó µáÕáù³ñÏí³ÍÝ»ñÇ ù³Ý³ÏÁ | O3: ²Ý³í³ñï µáÕáùÝ»ñ | P3: ØÇçÝáñ¹áõÃÛáõÝÝ»ñáí Ï³Û³óí³Í ¨ µáÕáù³ñÏí³Í ¹³ï³Ï³Ý ³Ïï»ñÇó µ»Ï³Ýí³ÍÝ»ñÇ ù³Ý³ÏÁ | R3: ÙÇçÝáñ¹áõÃÛáõÝÝ»ñáí Ï³Û³óí³Í ¨ µáÕáù³ñÏí³Í ¹³ï³Ï³Ý ³Ïï»ñÇó ³Ý÷á÷áË ÃáÕÝí³ÍÝ»ñÇ ù³Ý³ÏÁ
G4: Ù»ñÅí»É ¿ | H4: µ³í³ñ³ñí»É ¿ | I4: µ³í³ñ³ñí»É ¿ Ù³ëÝ³ÏÇ | J4: ÃáÕÝí»É ¿ ³é³Ýó ùÝÝáõÃÛ³Ý | K4: ÀÝ¹³Ù»ÝÁ
M5: Ý³Ëáñ¹ ï³ñÇÝ»ñÇÝ Ï³Û³óí³Í ³Ïï»ñÇ ¹»Ù | N5: Ñ³ßí»ïáõ Å³Ù³Ý³Ï³ßñç³ÝáõÙ Ï³Û³óí³Í ³Ïï»ñÇ ¹»Ù | P5: Ý³Ëáñ¹ ï³ñÇÝ»ñÇÝ Ï³Û³óí³Í ³Ïï»ñÇ µ»Ï³ÝáõÙÝ»ñÁ | Q5: Ñ³ßí»ïáõ Å³Ù³Ý³Ï³ßñç³ÝáõÙ Ï³Û³óí³Í ³Ïï»ñÇ µ»Ï³ÝáõÙÝ»ñÁ
A6: 1. ØÇÝã¹³ï³Ï³Ý í³ñáõÛÃÇ ÝÏ³ïÙ³Ùµ ¹³ï³Ï³Ý í»ñ³ÑëÏáÕáõÃÛ³Ý áÉáñï | D6: 1 | E6: 2 | F6: 3 | G6: 4 | H6: 5 | I6: 6 | J6: 7 | K6: 8 | L6: 9 | M6: 10 | N6: 11 | O6: 12 | P6: 13 | Q6: 14 | R6: 15 | T6: 1+2=3+8+9 | V6: 8=4+5+6+7
A7: 1 | B7: Ï³É³ÝùÁ áñå»ë Ë³÷³ÝÙ³Ý ÙÇçáó ÏÇñ³é»Éáõ Ù³ëÇÝ ÙÇçÝáñ¹áõÃÛáõÝÝ»ñ | E7: 21 | G7: 2 | H7: 19 | K7: 21 | N7: 3 | O7: 1 | R7: 2 | T7: =D7+E7 -> 21 | U7: =F7+K7+L7 -> 21 | V7: =K7 -> 21 | W7: =G7+H7+I7+J7 -> 21
A8: 2 | B8: Ï³É³ÝùÇ Å³ÙÏ»ïÁ »ñÏ³ñ³óÝ»Éáõ Ù³ëÇÝ ÙÇçÝáñ¹áõÃÛáõÝÝ»ñ | D8: 2 | E8: 16 | H8: 15 | K8: 15 | L8: 3 | N8: 3 | O8: 2 | R8: 1 | T8: =D8+E8 -> 18 | U8: =F8+K8+L8 -> 18 | V8: =K8 -> 15 | W8: =G8+H8+I8+J8 -> 15
A9: 3 | B9: Ï³É³ÝùÇ í»ñ³Ñ³ëï³ïÙ³Ý Ù³ëÇÝ ÙÇçÝáñ¹áõÃÛáõÝÝ»ñ | E9: 4 | G9: 1 | H9: 3 | K9: 4 | N9: 1 | R9: 1 | T9: =D9+E9 -> 4 | U9: =F9+K9+L9 -> 4 | V9: =K9 -> 4 | W9: =G9+H9+I9+J9 -> 4
A10: 4 | B10: ·ñ³íÁ áñå»ë Ï³É³Ý³íáñÙ³Ý ³ÛÉÁÝïñ³Ýù³ÛÇÝ Ë³÷³ÝÙ³Ý ÙÇçáó ÏÇñ³é»Éáõ Ù³ëÇÝ ÙÇçÝáñ¹áõÃÛáõÝÝ»ñ | E10: 12 | G10: 11 | K10: 11 | L10: 1 | M10: 1 | N10: 6 | O10: 3 | R10: 4 | T10: =D10+E10 -> 12 | U10: =F10+K10+L10 -> 12 | V10: =K10 -> 11 | W10: =G10+H10+I10+J10 -> 11
A11: 5 | B11: Ëáõ½³ñÏáõÃÛ³Ý Ï³ï³ñÙ³Ý Ù³ëÇÝ ÙÇçÝáñ¹áõÃÛáõÝÝ»ñ | E11: 25 | H11: 25 | K11: 25 | T11: =D11+E11 -> 25 | U11: =F11+K11+L11 -> 25 | V11: =K11 -> 25 | W11: =G11+H11+I11+J11 -> 25
A12: 6 | B12: µ³ÝÏ³ÛÇÝ, ³å³Ñáí³·ñ³Ï³Ý, Ýáï³ñ³Ï³Ý ·³ÕïÝÇù Ï³½ÙáÕ ï»Õ»ÏáõÃÛáõÝÝ»ñÇ ëï³óÙ³Ý Ñ³Ù³ñ Ëáõ½³ñÏáõÃÛ³Ý Ï³Ù ³é·ñ³íÙ³Ý Ï³ï³ñÙ³Ý Ù³ëÇÝ ÙÇçÝáñ¹áõÃÛáõÝÝ»ñ | T12: =D12+E12 -> 0 | U12: =F12+K12+L12 -> 0 | V12: =K12 -> 0 | W12: =G12+H12+I12+J12 -> 0
A13: 7 | B13: Ý³Ù³Ï³·ñáõÃÛ³Ý, Ñ»é³·ñ³Ï³Ý, ÷áuï³ÛÇÝ Ñ³Õáñ¹áõÙÝ»ñÇ ÑëÏáÕáõÃÛ³Ý Ù³ëÇÝ ÙÇçÝáñ¹áõÃÛáõÝÝ»ñ | T13: =D13+E13 -> 0 | U13: =F13+K13+L13 -> 0 | V13: =K13 -> 0 | W13: =G13+H13+I13+J13 -> 0
A14: 8 | B14: Ñ»é³Ëáu³ÛÇÝ Ï³Ù Ï³åÇ ³ÛÉ ÙÇçáóÝ»ñáí ï³ñíáÕ Ëáu³ÏóáõÃÛáõÝÝ»ñÇ ÉuÙ³Ý ¨ Ó³ÛÝ³·ñ³éÙ³Ý Ù³ëÇÝ ÙÇçÝáñ¹áõÃÛáõÝÝ»ñ | E14: 1 | H14: 1 | K14: 1 | T14: =D14+E14 -> 1 | U14: =F14+K14+L14 -> 1 | V14: =K14 -> 1 | W14: =G14+H14+I14+J14 -> 1
A15: 9 | B15: Ñ»é³ËáëÝ»ñÇ Ùáõïù³ÛÇÝ ¨ »Éù³ÛÇÝ í»ñÍ³ÝÙ³Ý ÃáõÛÉïíáõÃÛáõÝ ëï³Ý³Éáõ Ù³ëÇÝ ÙÇçÝáñ¹áõÃÛáõÝÝ»ñ | E15: 11 | H15: 11 | K15: 11 | T15: =D15+E15 -> 11 | U15: =F15+K15+L15 -> 11 | V15: =K15 -> 11 | W15: =G15+H15+I15+J15 -> 11
A16: 10 | B16: Ñ»ï³ùÝÝáõÃÛ³Ý Ù³ñÙÝÇ ³ßË³ïáÕÇ, ùÝÝÇãÇ, ¹³ï³Ë³½Ç oå»ñ³ïÇí-Ñ»ï³Ëáõ½³Ï³Ý ·áñÍáÕáõÃÛáõÝÝ»ñ Çñ³Ï³Ý³óÝáÕ Ù³ñÙÇÝÝ»ñÇ ³ÝoñÇÝ³Ï³Ý ¨ ³ÝÑÇÙÝ áñáßáõÙÝ»ñÇ ¨ ·áñÍáÕáõÃÛáõÝÝ»ñÇ ¹»Ù µáÕáùÝ»ñ | E16: 5 | G16: 1 | K16: 1 | L16: 2 | N16: 2 | O16: 1 | R16: 1 | T16: =D16+E16 -> 5 | U16: =F16+K16+L16 -> 3 | V16: =K16 -> 1 | W16: =G16+H16+I16+J16 -> 1
A17: 2. ¸³ï³Ï³Ý ³Ïï»ñÇ ¨ ¹³ï³Ï³Ý Ñ³ÝÓÝ³ñ³ñáõÃÛáõÝÝ»ñÇ Ï³ï³ñÙ³Ý Ñ»ï Ï³åí³Í Ñ³ñó»ñÇ ÉáõÍÙ³Ý áÉáñï
A18: 1 | B18: å³ïÅÇó å³ÛÙ³Ý³Ï³Ý í³Õ³Å³ÙÏ»ï ³½³ï»Éáõ Ù³ëÇÝ ÙÇçÝáñ¹áõÃÛáõÝÝ»ñ | T18: =D18+E18 -> 0 | U18: =F18+K18+L18 -> 0 | V18: =K18 -> 0 | W18: =G18+H18+I18+J18 -> 0
A19: 2 | B19: å³ïÇÅÁ ÷á÷áË»Éáõ, Ñ»ï³Ó·»Éáõ ¨ å³ïÅÇó ³½³ï»Éáõ Ù³uÇÝ ÙÇçÝáñ¹áõÃÛáõÝÝ»ñ | E19: 3 | G19: 1 | H19: 2 | K19: 3 | N19: 1 | R19: 1 | T19: =D19+E19 -> 3 | U19: =F19+K19+L19 -> 3 | V19: =K19 -> 3 | W19: =G19+H19+I19+J19 -> 3
A20: 3 | B20: Ñ³ñÏ³¹Çñ µáõÅÙ³Ý ï»ë³ÏÇ ÷á÷áËáõÃÛ³Ý Ù³ëÇÝ ÙÇçÝáñ¹áõÃÛáõÝÝ»ñ | E20: 9 | G20: 2 | H20: 5 | K20: 7 | L20: 2 | N20: 1 | Q20: 1 | T20: =D20+E20 -> 9 | U20: =F20+K20+L20 -> 9 | V20: =K20 -> 7 | W20: =G20+H20+I20+J20 -> 7
A21: 4 | B21: ³ÛÉ ÙÇçÝáñ¹áõÃÛáõÝÝ»ñ | E21: 6 | H21: 5 | K21: 5 | T21: =D21+E21 -> 6 | U21: =F21+K21+L21 -> 5 | V21: =K21 -> 5 | W21: =G21+H21+I21+J21 -> 5
A22: 5 | B22: ¹³ï³Ï³Ý Ñ³ÝÓÝ³ñ³ñáõÃÛáõÝÝ»ñ | T22: =D22+E22 -> 0 | U22: =F22+K22+L22 -> 0 | V22: =K22 -> 0 | W22: =G22+H22+I22+J22 -> 0
A23: ÀÜ¸²ØºÜÀ | D23: =D7+D8+D9+D10+D11+D12+D13+D14+D15+D16+D18+D19+D20+D21+D22 -> 2 | E23: =E7+E8+E9+E10+E11+E12+E13+E14+E15+E16+E18+E19+E20+E21+E22 -> 113 | F23: =F7+F8+F9+F10+F11+F12+F13+F14+F15+F16+F18+F19+F20+F21+F22 -> 0 | G23: =G7+G8+G9+G10+G11+G12+G13+G14+G15+G16+G18+G19+G20+G21+G22 -> 18 | H23: =H7+H8+H9+H10+H11+H12+H13+H14+H15+H16+H18+H19+H20+H21+H22 -> 86 | I23: =I7+I8+I9+I10+I11+I12+I13+I14+I15+I16+I18+I19+I20+I21+I22 -> 0 | J23: =J7+J8+J9+J10+J11+J12+J13+J14+J15+J16+J18+J19+J20+J21+J22 -> 0 | K23: =K7+K8+K9+K10+K11+K12+K13+K14+K15+K16+K18+K19+K20+K21+K22 -> 104 | ... R23: =R7+R8+R9+R10+R11+R12+R13+R14+R15+R16+R18+R19+R20+R21+R22 -> 10 | T23: =D23+E23 -> 115 | U23: =F23+K23+L23 -> 112 | V23: =K23 -> 104 | W23: =G23+H23+I23+J23 -> 104

Sheet Ա. Վարդապետյան
A1: 2015Ã. | D1: Ð²ÞìºîìàôÂÚàôÜ | P1: Ð³í»Éí³Í Ð³Û³ëï³ÝÇ Ð³Ýñ³å»ïáõÃÛ³Ý ¸³ï³ñ³ÝÝ»ñÇ Ý³Ë³·³ÑÝ»ñÇ ËáñÑñ¹Ç 01.02.2016Ã. ÃÇí 11È áñáßÙ³Ý
A2: ØÇÝã¹³ï³Ï³Ý í³ñáõÛÃÇ ÝÏ³ïÙ³Ùµ ¹³ï³Ï³Ý í»ñ³ÑëÏáÕáõÃÛ³ÝÁ, ¹³ï³Ï³Ý ³Ïï»ñÇ ¨ ¹³ï³Ï³Ý Ñ³ÝÓÝ³ñ³ñáõÃÛáõÝÝ»ñÇ Ï³ï³ñÙ³Ý Ñ»ï Ï³åí³Í ÙÇçÝáñ¹áõÃÛáõÝÝ»ñÇ í»ñ³µ»ñÛ³É ¹³ï³Ï³Ý ·áñÍ»ñáí ºñ¨³Ý ù³Õ³ùÇ ²í³Ý ¨ Üáñ Üáñù í³ñã³Ï³Ý ßñç³ÝÝ»ñÇ ÁÝ¹Ñ³Ýáõñ Çñ³í³ëáõÃÛ³Ý ³é³çÇÝ ³ïÛ³ÝÇ ¹³ï³ñ³ÝÇ ¹³ï³íáñ Ա.Վարդապետյանի ·áñÍáõÝ»áõÃÛ³Ý í»ñ³µ»ñÛ³É
A3: êïáõ·Çã Ñ³í³ë³ñáõÙ` 1+2=3+8+9, 8=4+5+6+7, | D3: Ð³ßí»ïáõ Å³Ù³Ý³Ï³Ñ³ïí³ÍÇ ëÏ½µáõÙ Ý³Ëáñ¹ Ñ³ßí»ïáõ Å³Ù³Ý³Ï³Ñ³ïí³ÍÇó ÷áË³Ýóí³Í ·áñÍ»ñÇ ÁÝ¹Ñ³Ýáõñ ÃÇíÁ | E3: Ð³ßí»ïáõ Å³Ù³Ý³Ï³Ñ³ïí³ÍáõÙ ëï³óí³Í ·áñÍ»ñÇ ÁÝ¹Ñ³Ýáõñ ÃÇíÁ | F3: öáË³Ýóí»É ¿ ³ÛÉ ¹³ï³íáñÇ Ï³Ù ³ÛÉ ¹³ï³ñ³Ý (Ï³½ÙÇ ÷á÷áËáõÃÛáõÝ, ÁÝ¹¹³ïáõÃÛáõÝ) | G3: Ð³ßí»ïáõ Å³Ù³Ý³Ï³Ñ³ïí³ÍáõÙ ³í³ñïí³Í ·áñÍ»ñÇ ÁÝ¹Ñ³Ýáõñ ÃÇíÁ | L3: Ð³ßí»ïáõ Å³Ù³Ý³Ï³Ñ³ïí³ÍáõÙ ³Ý³í³ñï ·áñÍ»ñÇ ÁÝ¹Ñ³Ýáõñ ÃÇíÁ | M3: ØÇçÝáñ¹áõÃÛáõÝÝ»ñáí Ï³Û³óí³Í ¹³ï³Ï³Ý ³Ïï»ñÇó µáÕáù³ñÏí³ÍÝ»ñÇ ù³Ý³ÏÁ | O3: ²Ý³í³ñï µáÕáùÝ»ñ | P3: ØÇçÝáñ¹áõÃÛáõÝÝ»ñáí Ï³Û³óí³Í ¨ µáÕáù³ñÏí³Í ¹³ï³Ï³Ý ³Ïï»ñÇó µ»Ï³Ýí³ÍÝ»ñÇ ù³Ý³ÏÁ | R3: ÙÇçÝáñ¹áõÃÛáõÝÝ»ñáí Ï³Û³óí³Í ¨ µáÕáù³ñÏí³Í ¹³ï³Ï³Ý ³Ïï»ñÇó ³Ý÷á÷áË ÃáÕÝí³ÍÝ»ñÇ ù³Ý³ÏÁ
G4: Ù»ñÅí»É ¿ | H4: µ³í³ñ³ñí»É ¿ | I4: µ³í³ñ³ñí»É ¿ Ù³ëÝ³ÏÇ | J4: ÃáÕÝí»É ¿ ³é³Ýó ùÝÝáõÃÛ³Ý | K4: ÀÝ¹³Ù»ÝÁ
M5: Ý³Ëáñ¹ ï³ñÇÝ»ñÇÝ Ï³Û³óí³Í ³Ïï»ñÇ ¹»Ù | N5: Ñ³ßí»ïáõ Å³Ù³Ý³Ï³ßñç³ÝáõÙ Ï³Û³óí³Í ³Ïï»ñÇ ¹»Ù | P5: Ý³Ëáñ¹ ï³ñÇÝ»ñÇÝ Ï³Û³óí³Í ³Ïï»ñÇ µ»Ï³ÝáõÙÝ»ñÁ | Q5: Ñ³ßí»ïáõ Å³Ù³Ý³Ï³ßñç³ÝáõÙ Ï³Û³óí³Í ³Ïï»ñÇ µ»Ï³ÝáõÙÝ»ñÁ
A6: 1. ØÇÝã¹³ï³Ï³Ý í³ñáõÛÃÇ ÝÏ³ïÙ³Ùµ ¹³ï³Ï³Ý í»ñ³ÑëÏáÕáõÃÛ³Ý áÉáñï | D6: 1 | E6: 2 | F6: 3 | G6: 4 | H6: 5 | I6: 6 | J6: 7 | K6: 8 | L6: 9 | M6: 10 | N6: 11 | O6: 12 | P6: 13 | Q6: 14 | R6: 15 | T6: 1+2=3+8+9 | V6: 8=4+5+6+7
A7: 1 | B7: Ï³É³ÝùÁ áñå»ë Ë³÷³ÝÙ³Ý ÙÇçáó ÏÇñ³é»Éáõ Ù³ëÇÝ ÙÇçÝáñ¹áõÃÛáõÝÝ»ñ | E7: 10 | F7: 1 | G7: 2 | H7: 7 | K7: 9 | N7: 2 | O7: 1 | R7: 1 | T7: =D7+E7 -> 10 | U7: =F7+K7+L7 -> 10 | V7: =K7 -> 9 | W7: =G7+H7+I7+J7 -> 9
A8: 2 | B8: Ï³É³ÝùÇ Å³ÙÏ»ïÁ »ñÏ³ñ³óÝ»Éáõ Ù³ëÇÝ ÙÇçÝáñ¹áõÃÛáõÝÝ»ñ | E8: 10 | G8: 1 | H8: 9 | K8: 10 | T8: =D8+E8 -> 10 | U8: =F8+K8+L8 -> 10 | V8: =K8 -> 10 | W8: =G8+H8+I8+J8 -> 10
A9: 3 | B9: Ï³É³ÝùÇ í»ñ³Ñ³ëï³ïÙ³Ý Ù³ëÇÝ ÙÇçÝáñ¹áõÃÛáõÝÝ»ñ | T9: =D9+E9 -> 0 | U9: =F9+K9+L9 -> 0 | V9: =K9 -> 0 | W9: =G9+H9+I9+J9 -> 0
A10: 4 | B10: ·ñ³íÁ áñå»ë Ï³É³Ý³íáñÙ³Ý ³ÛÉÁÝïñ³Ýù³ÛÇÝ Ë³÷³ÝÙ³Ý ÙÇçáó ÏÇñ³é»Éáõ Ù³ëÇÝ ÙÇçÝáñ¹áõÃÛáõÝÝ»ñ | E10: 8 | G10: 6 | H10: 1 | J10: 1 | K10: 8 | N10: 4 | O10: 2 | Q10: 1 | R10: 1 | T10: =D10+E10 -> 8 | U10: =F10+K10+L10 -> 8 | V10: =K10 -> 8 | W10: =G10+H10+I10+J10 -> 8
A11: 5 | B11: Ëáõ½³ñÏáõÃÛ³Ý Ï³ï³ñÙ³Ý Ù³ëÇÝ ÙÇçÝáñ¹áõÃÛáõÝÝ»ñ | E11: 25 | H11: 25 | K11: 25 | T11: =D11+E11 -> 25 | U11: =F11+K11+L11 -> 25 | V11: =K11 -> 25 | W11: =G11+H11+I11+J11 -> 25
A12: 6 | B12: µ³ÝÏ³ÛÇÝ, ³å³Ñáí³·ñ³Ï³Ý, Ýáï³ñ³Ï³Ý ·³ÕïÝÇù Ï³½ÙáÕ ï»Õ»ÏáõÃÛáõÝÝ»ñÇ ëï³óÙ³Ý Ñ³Ù³ñ Ëáõ½³ñÏáõÃÛ³Ý Ï³Ù ³é·ñ³íÙ³Ý Ï³ï³ñÙ³Ý Ù³ëÇÝ ÙÇçÝáñ¹áõÃÛáõÝÝ»ñ | E12: 2 | H12: 2 | K12: 2 | T12: =D12+E12 -> 2 | U12: =F12+K12+L12 -> 2 | V12: =K12 -> 2 | W12: =G12+H12+I12+J12 -> 2
A13: 7 | B13: Ý³Ù³Ï³·ñáõÃÛ³Ý, Ñ»é³·ñ³Ï³Ý, ÷áuï³ÛÇÝ Ñ³Õáñ¹áõÙÝ»ñÇ ÑëÏáÕáõÃÛ³Ý Ù³ëÇÝ ÙÇçÝáñ¹áõÃÛáõÝÝ»ñ | T13: =D13+E13 -> 0 | U13: =F13+K13+L13 -> 0 | V13: =K13 -> 0 | W13: =G13+H13+I13+J13 -> 0
A14: 8 | B14: Ñ»é³Ëáu³ÛÇÝ Ï³Ù Ï³åÇ ³ÛÉ ÙÇçáóÝ»ñáí ï³ñíáÕ Ëáu³ÏóáõÃÛáõÝÝ»ñÇ ÉuÙ³Ý ¨ Ó³ÛÝ³·ñ³éÙ³Ý Ù³ëÇÝ ÙÇçÝáñ¹áõÃÛáõÝÝ»ñ | T14: =D14+E14 -> 0 | U14: =F14+K14+L14 -> 0 | V14: =K14 -> 0 | W14: =G14+H14+I14+J14 -> 0
A15: 9 | B15: Ñ»é³ËáëÝ»ñÇ Ùáõïù³ÛÇÝ ¨ »Éù³ÛÇÝ í»ñÍ³ÝÙ³Ý ÃáõÛÉïíáõÃÛáõÝ ëï³Ý³Éáõ Ù³ëÇÝ ÙÇçÝáñ¹áõÃÛáõÝÝ»ñ | E15: 19 | G15: 2 | H15: 17 | K15: 19 | T15: =D15+E15 -> 19 | U15: =F15+K15+L15 -> 19 | V15: =K15 -> 19 | W15: =G15+H15+I15+J15 -> 19
A16: 10 | B16: Ñ»ï³ùÝÝáõÃÛ³Ý Ù³ñÙÝÇ ³ßË³ïáÕÇ, ùÝÝÇãÇ, ¹³ï³Ë³½Ç oå»ñ³ïÇí-Ñ»ï³Ëáõ½³Ï³Ý ·áñÍáÕáõÃÛáõÝÝ»ñ Çñ³Ï³Ý³óÝáÕ Ù³ñÙÇÝÝ»ñÇ ³ÝoñÇÝ³Ï³Ý ¨ ³ÝÑÇÙÝ áñáßáõÙÝ»ñÇ ¨ ·áñÍáÕáõÃÛáõÝÝ»ñÇ ¹»Ù µáÕáùÝ»ñ | D16: 1 | E16: 19 | G16: 13 | H16: 4 | J16: 2 | K16: 19 | L16: 1 | M16: 1 | N16: 10 | O16: 2 | Q16: 1 | R16: 8 | T16: =D16+E16 -> 20 | U16: =F16+K16+L16 -> 20 | V16: =K16 -> 19 | W16: =G16+H16+I16+J16 -> 19
A17: 2. ¸³ï³Ï³Ý ³Ïï»ñÇ ¨ ¹³ï³Ï³Ý Ñ³ÝÓÝ³ñ³ñáõÃÛáõÝÝ»ñÇ Ï³ï³ñÙ³Ý Ñ»ï Ï³åí³Í Ñ³ñó»ñÇ ÉáõÍÙ³Ý áÉáñï
A18: 1 | B18: å³ïÅÇó å³ÛÙ³Ý³Ï³Ý í³Õ³Å³ÙÏ»ï ³½³ï»Éáõ Ù³ëÇÝ ÙÇçÝáñ¹áõÃÛáõÝÝ»ñ | T18: =D18+E18 -> 0 | U18: =F18+K18+L18 -> 0 | V18: =K18 -> 0 | W18: =G18+H18+I18+J18 -> 0
A19: 2 | B19: å³ïÇÅÁ ÷á÷áË»Éáõ, Ñ»ï³Ó·»Éáõ ¨ å³ïÅÇó ³½³ï»Éáõ Ù³uÇÝ ÙÇçÝáñ¹áõÃÛáõÝÝ»ñ | E19: 3 | G19: 1 | H19: 2 | K19: 3 | T19: =D19+E19 -> 3 | U19: =F19+K19+L19 -> 3 | V19: =K19 -> 3 | W19: =G19+H19+I19+J19 -> 3
A20: 3 | B20: Ñ³ñÏ³¹Çñ µáõÅÙ³Ý ï»ë³ÏÇ ÷á÷áËáõÃÛ³Ý Ù³ëÇÝ ÙÇçÝáñ¹áõÃÛáõÝÝ»ñ | E20: 2 | H20: 2 | K20: 2 | N20: 1 | O20: 1 | T20: =D20+E20 -> 2 | U20: =F20+K20+L20 -> 2 | V20: =K20 -> 2 | W20: =G20+H20+I20+J20 -> 2
A21: 4 | B21: ³ÛÉ ÙÇçÝáñ¹áõÃÛáõÝÝ»ñ | E21: 15 | F21: 1 | G21: 2 | H21: 12 | K21: 14 | N21: 1 | O21: 1 | T21: =D21+E21 -> 15 | U21: =F21+K21+L21 -> 15 | V21: =K21 -> 14 | W21: =G21+H21+I21+J21 -> 14
A22: 5 | B22: ¹³ï³Ï³Ý Ñ³ÝÓÝ³ñ³ñáõÃÛáõÝÝ»ñ | T22: =D22+E22 -> 0 | U22: =F22+K22+L22 -> 0 | V22: =K22 -> 0 | W22: =G22+H22+I22+J22 -> 0
A23: ÀÜ¸²ØºÜÀ | D23: =D7+D8+D9+D10+D11+D12+D13+D14+D15+D16+D18+D19+D20+D21+D22 -> 1 | E23: =E7+E8+E9+E10+E11+E12+E13+E14+E15+E16+E18+E19+E20+E21+E22 -> 113 | F23: =F7+F8+F9+F10+F11+F12+F13+F14+F15+F16+F18+F19+F20+F21+F22 -> 2 | G23: =G7+G8+G9+G10+G11+G12+G13+G14+G15+G16+G18+G19+G20+G21+G22 -> 27 | H23: =H7+H8+H9+H10+H11+H12+H13+H14+H15+H16+H18+H19+H20+H21+H22 -> 81 | I23: =I7+I8+I9+I10+I11+I12+I13+I14+I15+I16+I18+I19+I20+I21+I22 -> 0 | J23: =J7+J8+J9+J10+J11+J12+J13+J14+J15+J16+J18+J19+J20+J21+J22 -> 3 | K23: =K7+K8+K9+K10+K11+K12+K13+K14+K15+K16+K18+K19+K20+K21+K22 -> 111 | ... R23: =R7+R8+R9+R10+R11+R12+R13+R14+R15+R16+R18+R19+R20+R21+R22 -> 10 | T23: =D23+E23 -> 114 | U23: =F23+K23+L23 -> 114 | V23: =K23 -> 111 | W23: =G23+H23+I23+J23 -> 111

Sheet Ա. Պետրոսյան
A1: 2015Ã. | D1: Ð²ÞìºîìàôÂÚàôÜ | P1: Ð³í»Éí³Í Ð³Û³ëï³ÝÇ Ð³Ýñ³å»ïáõÃÛ³Ý ¸³ï³ñ³ÝÝ»ñÇ Ý³Ë³·³ÑÝ»ñÇ ËáñÑñ¹Ç 01.02.2016Ã. ÃÇí 11È áñáßÙ³Ý
A2: ØÇÝã¹³ï³Ï³Ý í³ñáõÛÃÇ ÝÏ³ïÙ³Ùµ ¹³ï³Ï³Ý í»ñ³ÑëÏáÕáõÃÛ³ÝÁ, ¹³ï³Ï³Ý ³Ïï»ñÇ ¨ ¹³ï³Ï³Ý Ñ³ÝÓÝ³ñ³ñáõÃÛáõÝÝ»ñÇ Ï³ï³ñÙ³Ý Ñ»ï Ï³åí³Í ÙÇçÝáñ¹áõÃÛáõÝÝ»ñÇ í»ñ³µ»ñÛ³É ¹³ï³Ï³Ý ·áñÍ»ñáí ºñ¨³Ý ù³Õ³ùÇ ²í³Ý ¨ Üáñ Üáñù í³ñã³Ï³Ý ßñç³ÝÝ»ñÇ ÁÝ¹Ñ³Ýáõñ Çñ³í³ëáõÃÛ³Ý ³é³çÇÝ ³ïÛ³ÝÇ ¹³ï³ñ³ÝÇ ¹³ï³íáñ Ա.Պետրոսյանի ·áñÍáõÝ»áõÃÛ³Ý í»ñ³µ»ñÛ³É
A3: êïáõ·Çã Ñ³í³ë³ñáõÙ` 1+2=3+8+9, 8=4+5+6+7, | D3: Ð³ßí»ïáõ Å³Ù³Ý³Ï³Ñ³ïí³ÍÇ ëÏ½µáõÙ Ý³Ëáñ¹ Ñ³ßí»ïáõ Å³Ù³Ý³Ï³Ñ³ïí³ÍÇó ÷áË³Ýóí³Í ·áñÍ»ñÇ ÁÝ¹Ñ³Ýáõñ ÃÇíÁ | E3: Ð³ßí»ïáõ Å³Ù³Ý³Ï³Ñ³ïí³ÍáõÙ ëï³óí³Í ·áñÍ»ñÇ ÁÝ¹Ñ³Ýáõñ ÃÇíÁ | F3: öáË³Ýóí»É ¿ ³ÛÉ ¹³ï³íáñÇ Ï³Ù ³ÛÉ ¹³ï³ñ³Ý (Ï³½ÙÇ ÷á÷áËáõÃÛáõÝ, ÁÝ¹¹³ïáõÃÛáõÝ) | G3: Ð³ßí»ïáõ Å³Ù³Ý³Ï³Ñ³ïí³ÍáõÙ ³í³ñïí³Í ·áñÍ»ñÇ ÁÝ¹Ñ³Ýáõñ ÃÇíÁ | L3: Ð³ßí»ïáõ Å³Ù³Ý³Ï³Ñ³ïí³ÍáõÙ ³Ý³í³ñï ·áñÍ»ñÇ ÁÝ¹Ñ³Ýáõñ ÃÇíÁ | M3: ØÇçÝáñ¹áõÃÛáõÝÝ»ñáí Ï³Û³óí³Í ¹³ï³Ï³Ý ³Ïï»ñÇó µáÕáù³ñÏí³ÍÝ»ñÇ ù³Ý³ÏÁ | O3: ²Ý³í³ñï µáÕáùÝ»ñ | P3: ØÇçÝáñ¹áõÃÛáõÝÝ»ñáí Ï³Û³óí³Í ¨ µáÕáù³ñÏí³Í ¹³ï³Ï³Ý ³Ïï»ñÇó µ»Ï³Ýí³ÍÝ»ñÇ ù³Ý³ÏÁ | R3: ÙÇçÝáñ¹áõÃÛáõÝÝ»ñáí Ï³Û³óí³Í ¨ µáÕáù³ñÏí³Í ¹³ï³Ï³Ý ³Ïï»ñÇó ³Ý÷á÷áË ÃáÕÝí³ÍÝ»ñÇ ù³Ý³ÏÁ
G4: Ù»ñÅí»É ¿ | H4: µ³í³ñ³ñí»É ¿ | I4: µ³í³ñ³ñí»É ¿ Ù³ëÝ³ÏÇ | J4: ÃáÕÝí»É ¿ ³é³Ýó ùÝÝáõÃÛ³Ý | K4: ÀÝ¹³Ù»ÝÁ
M5: Ý³Ëáñ¹ ï³ñÇÝ»ñÇÝ Ï³Û³óí³Í ³Ïï»ñÇ ¹»Ù | N5: Ñ³ßí»ïáõ Å³Ù³Ý³Ï³ßñç³ÝáõÙ Ï³Û³óí³Í ³Ïï»ñÇ ¹»Ù | P5: Ý³Ëáñ¹ ï³ñÇÝ»ñÇÝ Ï³Û³óí³Í ³Ïï»ñÇ µ»Ï³ÝáõÙÝ»ñÁ | Q5: Ñ³ßí»ïáõ Å³Ù³Ý³Ï³ßñç³ÝáõÙ Ï³Û³óí³Í ³Ïï»ñÇ µ»Ï³ÝáõÙÝ»ñÁ
A6: 1. ØÇÝã¹³ï³Ï³Ý í³ñáõÛÃÇ ÝÏ³ïÙ³Ùµ ¹³ï³Ï³Ý í»ñ³ÑëÏáÕáõÃÛ³Ý áÉáñï | D6: 1 | E6: 2 | F6: 3 | G6: 4 | H6: 5 | I6: 6 | J6: 7 | K6: 8 | L6: 9 | M6: 10 | N6: 11 | O6: 12 | P6: 13 | Q6: 14 | R6: 15 | T6: 1+2=3+8+9 | V6: 8=4+5+6+7
A7: 1 | B7: Ï³É³ÝùÁ áñå»ë Ë³÷³ÝÙ³Ý ÙÇçáó ÏÇñ³é»Éáõ Ù³ëÇÝ ÙÇçÝáñ¹áõÃÛáõÝÝ»ñ | T7: =D7+E7 -> 0 | U7: =F7+K7+L7 -> 0 | V7: =K7 -> 0 | W7: =G7+H7+I7+J7 -> 0
A8: 2 | B8: Ï³É³ÝùÇ Å³ÙÏ»ïÁ »ñÏ³ñ³óÝ»Éáõ Ù³ëÇÝ ÙÇçÝáñ¹áõÃÛáõÝÝ»ñ | T8: =D8+E8 -> 0 | U8: =F8+K8+L8 -> 0 | V8: =K8 -> 0 | W8: =G8+H8+I8+J8 -> 0
A9: 3 | B9: Ï³É³ÝùÇ í»ñ³Ñ³ëï³ïÙ³Ý Ù³ëÇÝ ÙÇçÝáñ¹áõÃÛáõÝÝ»ñ | T9: =D9+E9 -> 0 | U9: =F9+K9+L9 -> 0 | V9: =K9 -> 0 | W9: =G9+H9+I9+J9 -> 0
A10: 4 | B10: ·ñ³íÁ áñå»ë Ï³É³Ý³íáñÙ³Ý ³ÛÉÁÝïñ³Ýù³ÛÇÝ Ë³÷³ÝÙ³Ý ÙÇçáó ÏÇñ³é»Éáõ Ù³ëÇÝ ÙÇçÝáñ¹áõÃÛáõÝÝ»ñ | T10: =D10+E10 -> 0 | U10: =F10+K10+L10 -> 0 | V10: =K10 -> 0 | W10: =G10+H10+I10+J10 -> 0
A11: 5 | B11: Ëáõ½³ñÏáõÃÛ³Ý Ï³ï³ñÙ³Ý Ù³ëÇÝ ÙÇçÝáñ¹áõÃÛáõÝÝ»ñ | E11: 29 | H11: 29 | K11: 29 | T11: =D11+E11 -> 29 | U11: =F11+K11+L11 -> 29 | V11: =K11 -> 29 | W11: =G11+H11+I11+J11 -> 29
A12: 6 | B12: µ³ÝÏ³ÛÇÝ, ³å³Ñáí³·ñ³Ï³Ý, Ýáï³ñ³Ï³Ý ·³ÕïÝÇù Ï³½ÙáÕ ï»Õ»ÏáõÃÛáõÝÝ»ñÇ ëï³óÙ³Ý Ñ³Ù³ñ Ëáõ½³ñÏáõÃÛ³Ý Ï³Ù ³é·ñ³íÙ³Ý Ï³ï³ñÙ³Ý Ù³ëÇÝ ÙÇçÝáñ¹áõÃÛáõÝÝ»ñ | T12: =D12+E12 -> 0 | U12: =F12+K12+L12 -> 0 | V12: =K12 -> 0 | W12: =G12+H12+I12+J12 -> 0
A13: 7 | B13: Ý³Ù³Ï³·ñáõÃÛ³Ý, Ñ»é³·ñ³Ï³Ý, ÷áuï³ÛÇÝ Ñ³Õáñ¹áõÙÝ»ñÇ ÑëÏáÕáõÃÛ³Ý Ù³ëÇÝ ÙÇçÝáñ¹áõÃÛáõÝÝ»ñ | T13: =D13+E13 -> 0 | U13: =F13+K13+L13 -> 0 | V13: =K13 -> 0 | W13: =G13+H13+I13+J13 -> 0
A14: 8 | B14: Ñ»é³Ëáu³ÛÇÝ Ï³Ù Ï³åÇ ³ÛÉ ÙÇçáóÝ»ñáí ï³ñíáÕ Ëáu³ÏóáõÃÛáõÝÝ»ñÇ ÉuÙ³Ý ¨ Ó³ÛÝ³·ñ³éÙ³Ý Ù³ëÇÝ ÙÇçÝáñ¹áõÃÛáõÝÝ»ñ | T14: =D14+E14 -> 0 | U14: =F14+K14+L14 -> 0 | V14: =K14 -> 0 | W14: =G14+H14+I14+J14 -> 0
A15: 9 | B15: Ñ»é³ËáëÝ»ñÇ Ùáõïù³ÛÇÝ ¨ »Éù³ÛÇÝ í»ñÍ³ÝÙ³Ý ÃáõÛÉïíáõÃÛáõÝ ëï³Ý³Éáõ Ù³ëÇÝ ÙÇçÝáñ¹áõÃÛáõÝÝ»ñ | E15: 20 | H15: 20 | K15: 20 | T15: =D15+E15 -> 20 | U15: =F15+K15+L15 -> 20 | V15: =K15 -> 20 | W15: =G15+H15+I15+J15 -> 20
A16: 10 | B16: Ñ»ï³ùÝÝáõÃÛ³Ý Ù³ñÙÝÇ ³ßË³ïáÕÇ, ùÝÝÇãÇ, ¹³ï³Ë³½Ç oå»ñ³ïÇí-Ñ»ï³Ëáõ½³Ï³Ý ·áñÍáÕáõÃÛáõÝÝ»ñ Çñ³Ï³Ý³óÝáÕ Ù³ñÙÇÝÝ»ñÇ ³ÝoñÇÝ³Ï³Ý ¨ ³ÝÑÇÙÝ áñáßáõÙÝ»ñÇ ¨ ·áñÍáÕáõÃÛáõÝÝ»ñÇ ¹»Ù µáÕáùÝ»ñ | T16: =D16+E16 -> 0 | U16: =F16+K16+L16 -> 0 | V16: =K16 -> 0 | W16: =G16+H16+I16+J16 -> 0
A17: 2. ¸³ï³Ï³Ý ³Ïï»ñÇ ¨ ¹³ï³Ï³Ý Ñ³ÝÓÝ³ñ³ñáõÃÛáõÝÝ»ñÇ Ï³ï³ñÙ³Ý Ñ»ï Ï³åí³Í Ñ³ñó»ñÇ ÉáõÍÙ³Ý áÉáñï
A18: 1 | B18: å³ïÅÇó å³ÛÙ³Ý³Ï³Ý í³Õ³Å³ÙÏ»ï ³½³ï»Éáõ Ù³ëÇÝ ÙÇçÝáñ¹áõÃÛáõÝÝ»ñ | T18: =D18+E18 -> 0 | U18: =F18+K18+L18 -> 0 | V18: =K18 -> 0 | W18: =G18+H18+I18+J18 -> 0
A19: 2 | B19: å³ïÇÅÁ ÷á÷áË»Éáõ, Ñ»ï³Ó·»Éáõ ¨ å³ïÅÇó ³½³ï»Éáõ Ù³uÇÝ ÙÇçÝáñ¹áõÃÛáõÝÝ»ñ | T19: =D19+E19 -> 0 | U19: =F19+K19+L19 -> 0 | V19: =K19 -> 0 | W19: =G19+H19+I19+J19 -> 0
A20: 3 | B20: Ñ³ñÏ³¹Çñ µáõÅÙ³Ý ï»ë³ÏÇ ÷á÷áËáõÃÛ³Ý Ù³ëÇÝ ÙÇçÝáñ¹áõÃÛáõÝÝ»ñ | T20: =D20+E20 -> 0 | U20: =F20+K20+L20 -> 0 | V20: =K20 -> 0 | W20: =G20+H20+I20+J20 -> 0
A21: 4 | B21: ³ÛÉ ÙÇçÝáñ¹áõÃÛáõÝÝ»ñ | T21: =D21+E21 -> 0 | U21: =F21+K21+L21 -> 0 | V21: =K21 -> 0 | W21: =G21+H21+I21+J21 -> 0
A22: 5 | B22: ¹³ï³Ï³Ý Ñ³ÝÓÝ³ñ³ñáõÃÛáõÝÝ»ñ | T22: =D22+E22 -> 0 | U22: =F22+K22+L22 -> 0 | V22: =K22 -> 0 | W22: =G22+H22+I22+J22 -> 0
A23: ÀÜ¸²ØºÜÀ | D23: =D7+D8+D9+D10+D11+D12+D13+D14+D15+D16+D18+D19+D20+D21+D22 -> 0 | E23: =E7+E8+E9+E10+E11+E12+E13+E14+E15+E16+E18+E19+E20+E21+E22 -> 49 | F23: =F7+F8+F9+F10+F11+F12+F13+F14+F15+F16+F18+F19+F20+F21+F22 -> 0 | G23: =G7+G8+G9+G10+G11+G12+G13+G14+G15+G16+G18+G19+G20+G21+G22 -> 0 | H23: =H7+H8+H9+H10+H11+H12+H13+H14+H15+H16+H18+H19+H20+H21+H22 -> 49 | I23: =I7+I8+I9+I10+I11+I12+I13+I14+I15+I16+I18+I19+I20+I21+I22 -> 0 | J23: =J7+J8+J9+J10+J11+J12+J13+J14+J15+J16+J18+J19+J20+J21+J22 -> 0 | K23: =K7+K8+K9+K10+K11+K12+K13+K14+K15+K16+K18+K19+K20+K21+K22 -> 49 | ... R23: =R7+R8+R9+R10+R11+R12+R13+R14+R15+R16+R18+R19+R20+R21+R22 -> 0 | T23: =D23+E23 -> 49 | U23: =F23+K23+L23 -> 49 | V23: =K23 -> 49 | W23: =G23+H23+I23+J23 -> 49

Sheet Գ. Մազմանյան
A1: 2015Ã. | D1: Ð²ÞìºîìàôÂÚàôÜ | P1: Ð³í»Éí³Í Ð³Û³ëï³ÝÇ Ð³Ýñ³å»ïáõÃÛ³Ý ¸³ï³ñ³ÝÝ»ñÇ Ý³Ë³·³ÑÝ»ñÇ ËáñÑñ¹Ç 01.02.2016Ã. ÃÇí 11È áñáßÙ³Ý
A2: ØÇÝã¹³ï³Ï³Ý í³ñáõÛÃÇ ÝÏ³ïÙ³Ùµ ¹³ï³Ï³Ý í»ñ³ÑëÏáÕáõÃÛ³ÝÁ, ¹³ï³Ï³Ý ³Ïï»ñÇ ¨ ¹³ï³Ï³Ý Ñ³ÝÓÝ³ñ³ñáõÃÛáõÝÝ»ñÇ Ï³ï³ñÙ³Ý Ñ»ï Ï³åí³Í ÙÇçÝáñ¹áõÃÛáõÝÝ»ñÇ í»ñ³µ»ñÛ³É ¹³ï³Ï³Ý ·áñÍ»ñáí ºñ¨³Ý ù³Õ³ùÇ ²í³Ý ¨ Üáñ Üáñù í³ñã³Ï³Ý ßñç³ÝÝ»ñÇ ÁÝ¹Ñ³Ýáõñ Çñ³í³ëáõÃÛ³Ý ³é³çÇÝ ³ïÛ³ÝÇ ¹³ï³ñ³ÝÇ ¹³ï³íáñ Գ.Մազմանյանի ·áñÍáõÝ»áõÃÛ³Ý í»ñ³µ»ñÛ³É
A3: êïáõ·Çã Ñ³í³ë³ñáõÙ` 1+2=3+8+9, 8=4+5+6+7, | D3: Ð³ßí»ïáõ Å³Ù³Ý³Ï³Ñ³ïí³ÍÇ ëÏ½µáõÙ Ý³Ëáñ¹ Ñ³ßí»ïáõ Å³Ù³Ý³Ï³Ñ³ïí³ÍÇó ÷áË³Ýóí³Í ·áñÍ»ñÇ ÁÝ¹Ñ³Ýáõñ ÃÇíÁ | E3: Ð³ßí»ïáõ Å³Ù³Ý³Ï³Ñ³ïí³ÍáõÙ ëï³óí³Í ·áñÍ»ñÇ ÁÝ¹Ñ³Ýáõñ ÃÇíÁ | F3: öáË³Ýóí»É ¿ ³ÛÉ ¹³ï³íáñÇ Ï³Ù ³ÛÉ ¹³ï³ñ³Ý (Ï³½ÙÇ ÷á÷áËáõÃÛáõÝ, ÁÝ¹¹³ïáõÃÛáõÝ) | G3: Ð³ßí»ïáõ Å³Ù³Ý³Ï³Ñ³ïí³ÍáõÙ ³í³ñïí³Í ·áñÍ»ñÇ ÁÝ¹Ñ³Ýáõñ ÃÇíÁ | L3: Ð³ßí»ïáõ Å³Ù³Ý³Ï³Ñ³ïí³ÍáõÙ ³Ý³í³ñï ·áñÍ»ñÇ ÁÝ¹Ñ³Ýáõñ ÃÇíÁ | M3: ØÇçÝáñ¹áõÃÛáõÝÝ»ñáí Ï³Û³óí³Í ¹³ï³Ï³Ý ³Ïï»ñÇó µáÕáù³ñÏí³ÍÝ»ñÇ ù³Ý³ÏÁ | O3: ²Ý³í³ñï µáÕáùÝ»ñ | P3: ØÇçÝáñ¹áõÃÛáõÝÝ»ñáí Ï³Û³óí³Í ¨ µáÕáù³ñÏí³Í ¹³ï³Ï³Ý ³Ïï»ñÇó µ»Ï³Ýí³ÍÝ»ñÇ ù³Ý³ÏÁ | R3: ÙÇçÝáñ¹áõÃÛáõÝÝ»ñáí Ï³Û³óí³Í ¨ µáÕáù³ñÏí³Í ¹³ï³Ï³Ý ³Ïï»ñÇó ³Ý÷á÷áË ÃáÕÝí³ÍÝ»ñÇ ù³Ý³ÏÁ
G4: Ù»ñÅí»É ¿ | H4: µ³í³ñ³ñí»É ¿ | I4: µ³í³ñ³ñí»É ¿ Ù³ëÝ³ÏÇ | J4: ÃáÕÝí»É ¿ ³é³Ýó ùÝÝáõÃÛ³Ý | K4: ÀÝ¹³Ù»ÝÁ
M5: Ý³Ëáñ¹ ï³ñÇÝ»ñÇÝ Ï³Û³óí³Í ³Ïï»ñÇ ¹»Ù | N5: Ñ³ßí»ïáõ Å³Ù³Ý³Ï³ßñç³ÝáõÙ Ï³Û³óí³Í ³Ïï»ñÇ ¹»Ù | P5: Ý³Ëáñ¹ ï³ñÇÝ»ñÇÝ Ï³Û³óí³Í ³Ïï»ñÇ µ»Ï³ÝáõÙÝ»ñÁ | Q5: Ñ³ßí»ïáõ Å³Ù³Ý³Ï³ßñç³ÝáõÙ Ï³Û³óí³Í ³Ïï»ñÇ µ»Ï³ÝáõÙÝ»ñÁ
A6: 1. ØÇÝã¹³ï³Ï³Ý í³ñáõÛÃÇ ÝÏ³ïÙ³Ùµ ¹³ï³Ï³Ý í»ñ³ÑëÏáÕáõÃÛ³Ý áÉáñï | D6: 1 | E6: 2 | F6: 3 | G6: 4 | H6: 5 | I6: 6 | J6: 7 | K6: 8 | L6: 9 | M6: 10 | N6: 11 | O6: 12 | P6: 13 | Q6: 14 | R6: 15 | T6: 1+2=3+8+9 | V6: 8=4+5+6+7
A7: 1 | B7: Ï³É³ÝùÁ áñå»ë Ë³÷³ÝÙ³Ý ÙÇçáó ÏÇñ³é»Éáõ Ù³ëÇÝ ÙÇçÝáñ¹áõÃÛáõÝÝ»ñ | T7: =D7+E7 -> 0 | U7: =F7+K7+L7 -> 0 | V7: =K7 -> 0 | W7: =G7+H7+I7+J7 -> 0
A8: 2 | B8: Ï³É³ÝùÇ Å³ÙÏ»ïÁ »ñÏ³ñ³óÝ»Éáõ Ù³ëÇÝ ÙÇçÝáñ¹áõÃÛáõÝÝ»ñ | T8: =D8+E8 -> 0 | U8: =F8+K8+L8 -> 0 | V8: =K8 -> 0 | W8: =G8+H8+I8+J8 -> 0
A9: 3 | B9: Ï³É³ÝùÇ í»ñ³Ñ³ëï³ïÙ³Ý Ù³ëÇÝ ÙÇçÝáñ¹áõÃÛáõÝÝ»ñ | T9: =D9+E9 -> 0 | U9: =F9+K9+L9 -> 0 | V9: =K9 -> 0 | W9: =G9+H9+I9+J9 -> 0
A10: 4 | B10: ·ñ³íÁ áñå»ë Ï³É³Ý³íáñÙ³Ý ³ÛÉÁÝïñ³Ýù³ÛÇÝ Ë³÷³ÝÙ³Ý ÙÇçáó ÏÇñ³é»Éáõ Ù³ëÇÝ ÙÇçÝáñ¹áõÃÛáõÝÝ»ñ | T10: =D10+E10 -> 0 | U10: =F10+K10+L10 -> 0 | V10: =K10 -> 0 | W10: =G10+H10+I10+J10 -> 0
A11: 5 | B11: Ëáõ½³ñÏáõÃÛ³Ý Ï³ï³ñÙ³Ý Ù³ëÇÝ ÙÇçÝáñ¹áõÃÛáõÝÝ»ñ | E11: 16 | F11: 1 | H11: 15 | K11: 15 | T11: =D11+E11 -> 16 | U11: =F11+K11+L11 -> 16 | V11: =K11 -> 15 | W11: =G11+H11+I11+J11 -> 15
A12: 6 | B12: µ³ÝÏ³ÛÇÝ, ³å³Ñáí³·ñ³Ï³Ý, Ýáï³ñ³Ï³Ý ·³ÕïÝÇù Ï³½ÙáÕ ï»Õ»ÏáõÃÛáõÝÝ»ñÇ ëï³óÙ³Ý Ñ³Ù³ñ Ëáõ½³ñÏáõÃÛ³Ý Ï³Ù ³é·ñ³íÙ³Ý Ï³ï³ñÙ³Ý Ù³ëÇÝ ÙÇçÝáñ¹áõÃÛáõÝÝ»ñ | E12: 1 | G12: 1 | K12: 1 | T12: =D12+E12 -> 1 | U12: =F12+K12+L12 -> 1 | V12: =K12 -> 1 | W12: =G12+H12+I12+J12 -> 1
A13: 7 | B13: Ý³Ù³Ï³·ñáõÃÛ³Ý, Ñ»é³·ñ³Ï³Ý, ÷áuï³ÛÇÝ Ñ³Õáñ¹áõÙÝ»ñÇ ÑëÏáÕáõÃÛ³Ý Ù³ëÇÝ ÙÇçÝáñ¹áõÃÛáõÝÝ»ñ | T13: =D13+E13 -> 0 | U13: =F13+K13+L13 -> 0 | V13: =K13 -> 0 | W13: =G13+H13+I13+J13 -> 0
A14: 8 | B14: Ñ»é³Ëáu³ÛÇÝ Ï³Ù Ï³åÇ ³ÛÉ ÙÇçáóÝ»ñáí ï³ñíáÕ Ëáu³ÏóáõÃÛáõÝÝ»ñÇ ÉuÙ³Ý ¨ Ó³ÛÝ³·ñ³éÙ³Ý Ù³ëÇÝ ÙÇçÝáñ¹áõÃÛáõÝÝ»ñ | T14: =D14+E14 -> 0 | U14: =F14+K14+L14 -> 0 | V14: =K14 -> 0 | W14: =G14+H14+I14+J14 -> 0
A15: 9 | B15: Ñ»é³ËáëÝ»ñÇ Ùáõïù³ÛÇÝ ¨ »Éù³ÛÇÝ í»ñÍ³ÝÙ³Ý ÃáõÛÉïíáõÃÛáõÝ ëï³Ý³Éáõ Ù³ëÇÝ ÙÇçÝáñ¹áõÃÛáõÝÝ»ñ | E15: 14 | H15: 14 | K15: 14 | T15: =D15+E15 -> 14 | U15: =F15+K15+L15 -> 14 | V15: =K15 -> 14 | W15: =G15+H15+I15+J15 -> 14
A16: 10 | B16: Ñ»ï³ùÝÝáõÃÛ³Ý Ù³ñÙÝÇ ³ßË³ïáÕÇ, ùÝÝÇãÇ, ¹³ï³Ë³½Ç oå»ñ³ïÇí-Ñ»ï³Ëáõ½³Ï³Ý ·áñÍáÕáõÃÛáõÝÝ»ñ Çñ³Ï³Ý³óÝáÕ Ù³ñÙÇÝÝ»ñÇ ³ÝoñÇÝ³Ï³Ý ¨ ³ÝÑÇÙÝ áñáßáõÙÝ»ñÇ ¨ ·áñÍáÕáõÃÛáõÝÝ»ñÇ ¹»Ù µáÕáùÝ»ñ | T16: =D16+E16 -> 0 | U16: =F16+K16+L16 -> 0 | V16: =K16 -> 0 | W16: =G16+H16+I16+J16 -> 0
A17: 2. ¸³ï³Ï³Ý ³Ïï»ñÇ ¨ ¹³ï³Ï³Ý Ñ³ÝÓÝ³ñ³ñáõÃÛáõÝÝ»ñÇ Ï³ï³ñÙ³Ý Ñ»ï Ï³åí³Í Ñ³ñó»ñÇ ÉáõÍÙ³Ý áÉáñï
A18: 1 | B18: å³ïÅÇó å³ÛÙ³Ý³Ï³Ý í³Õ³Å³ÙÏ»ï ³½³ï»Éáõ Ù³ëÇÝ ÙÇçÝáñ¹áõÃÛáõÝÝ»ñ | T18: =D18+E18 -> 0 | U18: =F18+K18+L18 -> 0 | V18: =K18 -> 0 | W18: =G18+H18+I18+J18 -> 0
A19: 2 | B19: å³ïÇÅÁ ÷á÷áË»Éáõ, Ñ»ï³Ó·»Éáõ ¨ å³ïÅÇó ³½³ï»Éáõ Ù³uÇÝ ÙÇçÝáñ¹áõÃÛáõÝÝ»ñ | T19: =D19+E19 -> 0 | U19: =F19+K19+L19 -> 0 | V19: =K19 -> 0 | W19: =G19+H19+I19+J19 -> 0
A20: 3 | B20: Ñ³ñÏ³¹Çñ µáõÅÙ³Ý ï»ë³ÏÇ ÷á÷áËáõÃÛ³Ý Ù³ëÇÝ ÙÇçÝáñ¹áõÃÛáõÝÝ»ñ | T20: =D20+E20 -> 0 | U20: =F20+K20+L20 -> 0 | V20: =K20 -> 0 | W20: =G20+H20+I20+J20 -> 0
A21: 4 | B21: ³ÛÉ ÙÇçÝáñ¹áõÃÛáõÝÝ»ñ | T21: =D21+E21 -> 0 | U21: =F21+K21+L21 -> 0 | V21: =K21 -> 0 | W21: =G21+H21+I21+J21 -> 0
A22: 5 | B22: ¹³ï³Ï³Ý Ñ³ÝÓÝ³ñ³ñáõÃÛáõÝÝ»ñ | E22: 3 | L22: 2 | T22: =D22+E22 -> 3 | U22: =F22+K22+L22 -> 2 | V22: =K22 -> 0 | W22: =G22+H22+I22+J22 -> 0
A23: ÀÜ¸²ØºÜÀ | D23: =D7+D8+D9+D10+D11+D12+D13+D14+D15+D16+D18+D19+D20+D21+D22 -> 0 | E23: =E7+E8+E9+E10+E11+E12+E13+E14+E15+E16+E18+E19+E20+E21+E22 -> 34 | F23: =F7+F8+F9+F10+F11+F12+F13+F14+F15+F16+F18+F19+F20+F21+F22 -> 1 | G23: =G7+G8+G9+G10+G11+G12+G13+G14+G15+G16+G18+G19+G20+G21+G22 -> 1 | H23: =H7+H8+H9+H10+H11+H12+H13+H14+H15+H16+H18+H19+H20+H21+H22 -> 29 | I23: =I7+I8+I9+I10+I11+I12+I13+I14+I15+I16+I18+I19+I20+I21+I22 -> 0 | J23: =J7+J8+J9+J10+J11+J12+J13+J14+J15+J16+J18+J19+J20+J21+J22 -> 0 | K23: =K7+K8+K9+K10+K11+K12+K13+K14+K15+K16+K18+K19+K20+K21+K22 -> 30 | ... R23: =R7+R8+R9+R10+R11+R12+R13+R14+R15+R16+R18+R19+R20+R21+R22 -> 0 | T23: =D23+E23 -> 34 | U23: =F23+K23+L23 -> 33 | V23: =K23 -> 30 | W23: =G23+H23+I23+J23 -> 30
C25: դատական հանձնարարությունների մեջ 1 գործ հետ է վերադարձվել,

Sheet Ն. Մարգարյան
A1: 2015Ã. | D1: Ð²ÞìºîìàôÂÚàôÜ | P1: Ð³í»Éí³Í Ð³Û³ëï³ÝÇ Ð³Ýñ³å»ïáõÃÛ³Ý ¸³ï³ñ³ÝÝ»ñÇ Ý³Ë³·³ÑÝ»ñÇ ËáñÑñ¹Ç 01.02.2016Ã. ÃÇí 11È áñáßÙ³Ý
A2: ØÇÝã¹³ï³Ï³Ý í³ñáõÛÃÇ ÝÏ³ïÙ³Ùµ ¹³ï³Ï³Ý í»ñ³ÑëÏáÕáõÃÛ³ÝÁ, ¹³ï³Ï³Ý ³Ïï»ñÇ ¨ ¹³ï³Ï³Ý Ñ³ÝÓÝ³ñ³ñáõÃÛáõÝÝ»ñÇ Ï³ï³ñÙ³Ý Ñ»ï Ï³åí³Í ÙÇçÝáñ¹áõÃÛáõÝÝ»ñÇ í»ñ³µ»ñÛ³É ¹³ï³Ï³Ý ·áñÍ»ñáí ºñ¨³Ý ù³Õ³ùÇ ²í³Ý ¨ Üáñ Üáñù í³ñã³Ï³Ý ßñç³ÝÝ»ñÇ ÁÝ¹Ñ³Ýáõñ Çñ³í³ëáõÃÛ³Ý ³é³çÇÝ ³ïÛ³ÝÇ ¹³ï³ñ³ÝÇ ¹³ï³íáñ Ն.Մարգարյանի ·áñÍáõÝ»áõÃÛ³Ý í»ñ³µ»ñÛ³É
A3: êïáõ·Çã Ñ³í³ë³ñáõÙ` 1+2=3+8+9, 8=4+5+6+7, | D3: Ð³ßí»ïáõ Å³Ù³Ý³Ï³Ñ³ïí³ÍÇ ëÏ½µáõÙ Ý³Ëáñ¹ Ñ³ßí»ïáõ Å³Ù³Ý³Ï³Ñ³ïí³ÍÇó ÷áË³Ýóí³Í ·áñÍ»ñÇ ÁÝ¹Ñ³Ýáõñ ÃÇíÁ | E3: Ð³ßí»ïáõ Å³Ù³Ý³Ï³Ñ³ïí³ÍáõÙ ëï³óí³Í ·áñÍ»ñÇ ÁÝ¹Ñ³Ýáõñ ÃÇíÁ | F3: öáË³Ýóí»É ¿ ³ÛÉ ¹³ï³íáñÇ Ï³Ù ³ÛÉ ¹³ï³ñ³Ý (Ï³½ÙÇ ÷á÷áËáõÃÛáõÝ, ÁÝ¹¹³ïáõÃÛáõÝ) | G3: Ð³ßí»ïáõ Å³Ù³Ý³Ï³Ñ³ïí³ÍáõÙ ³í³ñïí³Í ·áñÍ»ñÇ ÁÝ¹Ñ³Ýáõñ ÃÇíÁ | L3: Ð³ßí»ïáõ Å³Ù³Ý³Ï³Ñ³ïí³ÍáõÙ ³Ý³í³ñï ·áñÍ»ñÇ ÁÝ¹Ñ³Ýáõñ ÃÇíÁ | M3: ØÇçÝáñ¹áõÃÛáõÝÝ»ñáí Ï³Û³óí³Í ¹³ï³Ï³Ý ³Ïï»ñÇó µáÕáù³ñÏí³ÍÝ»ñÇ ù³Ý³ÏÁ | O3: ²Ý³í³ñï µáÕáùÝ»ñ | P3: ØÇçÝáñ¹áõÃÛáõÝÝ»ñáí Ï³Û³óí³Í ¨ µáÕáù³ñÏí³Í ¹³ï³Ï³Ý ³Ïï»ñÇó µ»Ï³Ýí³ÍÝ»ñÇ ù³Ý³ÏÁ | R3: ÙÇçÝáñ¹áõÃÛáõÝÝ»ñáí Ï³Û³óí³Í ¨ µáÕáù³ñÏí³Í ¹³ï³Ï³Ý ³Ïï»ñÇó ³Ý÷á÷áË ÃáÕÝí³ÍÝ»ñÇ ù³Ý³ÏÁ
G4: Ù»ñÅí»É ¿ | H4: µ³í³ñ³ñí»É ¿ | I4: µ³í³ñ³ñí»É ¿ Ù³ëÝ³ÏÇ | J4: ÃáÕÝí»É ¿ ³é³Ýó ùÝÝáõÃÛ³Ý | K4: ÀÝ¹³Ù»ÝÁ
M5: Ý³Ëáñ¹ ï³ñÇÝ»ñÇÝ Ï³Û³óí³Í ³Ïï»ñÇ ¹»Ù | N5: Ñ³ßí»ïáõ Å³Ù³Ý³Ï³ßñç³ÝáõÙ Ï³Û³óí³Í ³Ïï»ñÇ ¹»Ù | P5: Ý³Ëáñ¹ ï³ñÇÝ»ñÇÝ Ï³Û³óí³Í ³Ïï»ñÇ µ»Ï³ÝáõÙÝ»ñÁ | Q5: Ñ³ßí»ïáõ Å³Ù³Ý³Ï³ßñç³ÝáõÙ Ï³Û³óí³Í ³Ïï»ñÇ µ»Ï³ÝáõÙÝ»ñÁ
A6: 1. ØÇÝã¹³ï³Ï³Ý í³ñáõÛÃÇ ÝÏ³ïÙ³Ùµ ¹³ï³Ï³Ý í»ñ³ÑëÏáÕáõÃÛ³Ý áÉáñï | D6: 1 | E6: 2 | F6: 3 | G6: 4 | H6: 5 | I6: 6 | J6: 7 | K6: 8 | L6: 9 | M6: 10 | N6: 11 | O6: 12 | P6: 13 | Q6: 14 | R6: 15 | T6: 1+2=3+8+9 | V6: 8=4+5+6+7
A7: 1 | B7: Ï³É³ÝùÁ áñå»ë Ë³÷³ÝÙ³Ý ÙÇçáó ÏÇñ³é»Éáõ Ù³ëÇÝ ÙÇçÝáñ¹áõÃÛáõÝÝ»ñ | T7: =D7+E7 -> 0 | U7: =F7+K7+L7 -> 0 | V7: =K7 -> 0 | W7: =G7+H7+I7+J7 -> 0
A8: 2 | B8: Ï³É³ÝùÇ Å³ÙÏ»ïÁ »ñÏ³ñ³óÝ»Éáõ Ù³ëÇÝ ÙÇçÝáñ¹áõÃÛáõÝÝ»ñ | T8: =D8+E8 -> 0 | U8: =F8+K8+L8 -> 0 | V8: =K8 -> 0 | W8: =G8+H8+I8+J8 -> 0
A9: 3 | B9: Ï³É³ÝùÇ í»ñ³Ñ³ëï³ïÙ³Ý Ù³ëÇÝ ÙÇçÝáñ¹áõÃÛáõÝÝ»ñ | T9: =D9+E9 -> 0 | U9: =F9+K9+L9 -> 0 | V9: =K9 -> 0 | W9: =G9+H9+I9+J9 -> 0
A10: 4 | B10: ·ñ³íÁ áñå»ë Ï³É³Ý³íáñÙ³Ý ³ÛÉÁÝïñ³Ýù³ÛÇÝ Ë³÷³ÝÙ³Ý ÙÇçáó ÏÇñ³é»Éáõ Ù³ëÇÝ ÙÇçÝáñ¹áõÃÛáõÝÝ»ñ | T10: =D10+E10 -> 0 | U10: =F10+K10+L10 -> 0 | V10: =K10 -> 0 | W10: =G10+H10+I10+J10 -> 0
A11: 5 | B11: Ëáõ½³ñÏáõÃÛ³Ý Ï³ï³ñÙ³Ý Ù³ëÇÝ ÙÇçÝáñ¹áõÃÛáõÝÝ»ñ | E11: 4 | H11: 4 | K11: 4 | T11: =D11+E11 -> 4 | U11: =F11+K11+L11 -> 4 | V11: =K11 -> 4 | W11: =G11+H11+I11+J11 -> 4
A12: 6 | B12: µ³ÝÏ³ÛÇÝ, ³å³Ñáí³·ñ³Ï³Ý, Ýáï³ñ³Ï³Ý ·³ÕïÝÇù Ï³½ÙáÕ ï»Õ»ÏáõÃÛáõÝÝ»ñÇ ëï³óÙ³Ý Ñ³Ù³ñ Ëáõ½³ñÏáõÃÛ³Ý Ï³Ù ³é·ñ³íÙ³Ý Ï³ï³ñÙ³Ý Ù³ëÇÝ ÙÇçÝáñ¹áõÃÛáõÝÝ»ñ | T12: =D12+E12 -> 0 | U12: =F12+K12+L12 -> 0 | V12: =K12 -> 0 | W12: =G12+H12+I12+J12 -> 0
A13: 7 | B13: Ý³Ù³Ï³·ñáõÃÛ³Ý, Ñ»é³·ñ³Ï³Ý, ÷áuï³ÛÇÝ Ñ³Õáñ¹áõÙÝ»ñÇ ÑëÏáÕáõÃÛ³Ý Ù³ëÇÝ ÙÇçÝáñ¹áõÃÛáõÝÝ»ñ | T13: =D13+E13 -> 0 | U13: =F13+K13+L13 -> 0 | V13: =K13 -> 0 | W13: =G13+H13+I13+J13 -> 0
A14: 8 | B14: Ñ»é³Ëáu³ÛÇÝ Ï³Ù Ï³åÇ ³ÛÉ ÙÇçáóÝ»ñáí ï³ñíáÕ Ëáu³ÏóáõÃÛáõÝÝ»ñÇ ÉuÙ³Ý ¨ Ó³ÛÝ³·ñ³éÙ³Ý Ù³ëÇÝ ÙÇçÝáñ¹áõÃÛáõÝÝ»ñ | T14: =D14+E14 -> 0 | U14: =F14+K14+L14 -> 0 | V14: =K14 -> 0 | W14: =G14+H14+I14+J14 -> 0
A15: 9 | B15: Ñ»é³ËáëÝ»ñÇ Ùáõïù³ÛÇÝ ¨ »Éù³ÛÇÝ í»ñÍ³ÝÙ³Ý ÃáõÛÉïíáõÃÛáõÝ ëï³Ý³Éáõ Ù³ëÇÝ ÙÇçÝáñ¹áõÃÛáõÝÝ»ñ | E15: 7 | H15: 7 | K15: 7 | T15: =D15+E15 -> 7 | U15: =F15+K15+L15 -> 7 | V15: =K15 -> 7 | W15: =G15+H15+I15+J15 -> 7
A16: 10 | B16: Ñ»ï³ùÝÝáõÃÛ³Ý Ù³ñÙÝÇ ³ßË³ïáÕÇ, ùÝÝÇãÇ, ¹³ï³Ë³½Ç oå»ñ³ïÇí-Ñ»ï³Ëáõ½³Ï³Ý ·áñÍáÕáõÃÛáõÝÝ»ñ Çñ³Ï³Ý³óÝáÕ Ù³ñÙÇÝÝ»ñÇ ³ÝoñÇÝ³Ï³Ý ¨ ³ÝÑÇÙÝ áñáßáõÙÝ»ñÇ ¨ ·áñÍáÕáõÃÛáõÝÝ»ñÇ ¹»Ù µáÕáùÝ»ñ | T16: =D16+E16 -> 0 | U16: =F16+K16+L16 -> 0 | V16: =K16 -> 0 | W16: =G16+H16+I16+J16 -> 0
A17: 2. ¸³ï³Ï³Ý ³Ïï»ñÇ ¨ ¹³ï³Ï³Ý Ñ³ÝÓÝ³ñ³ñáõÃÛáõÝÝ»ñÇ Ï³ï³ñÙ³Ý Ñ»ï Ï³åí³Í Ñ³ñó»ñÇ ÉáõÍÙ³Ý áÉáñï
A18: 1 | B18: å³ïÅÇó å³ÛÙ³Ý³Ï³Ý í³Õ³Å³ÙÏ»ï ³½³ï»Éáõ Ù³ëÇÝ ÙÇçÝáñ¹áõÃÛáõÝÝ»ñ | T18: =D18+E18 -> 0 | U18: =F18+K18+L18 -> 0 | V18: =K18 -> 0 | W18: =G18+H18+I18+J18 -> 0
A19: 2 | B19: å³ïÇÅÁ ÷á÷áË»Éáõ, Ñ»ï³Ó·»Éáõ ¨ å³ïÅÇó ³½³ï»Éáõ Ù³uÇÝ ÙÇçÝáñ¹áõÃÛáõÝÝ»ñ | T19: =D19+E19 -> 0 | U19: =F19+K19+L19 -> 0 | V19: =K19 -> 0 | W19: =G19+H19+I19+J19 -> 0
A20: 3 | B20: Ñ³ñÏ³¹Çñ µáõÅÙ³Ý ï»ë³ÏÇ ÷á÷áËáõÃÛ³Ý Ù³ëÇÝ ÙÇçÝáñ¹áõÃÛáõÝÝ»ñ | T20: =D20+E20 -> 0 | U20: =F20+K20+L20 -> 0 | V20: =K20 -> 0 | W20: =G20+H20+I20+J20 -> 0
A21: 4 | B21: ³ÛÉ ÙÇçÝáñ¹áõÃÛáõÝÝ»ñ | T21: =D21+E21 -> 0 | U21: =F21+K21+L21 -> 0 | V21: =K21 -> 0 | W21: =G21+H21+I21+J21 -> 0
A22: 5 | B22: ¹³ï³Ï³Ý Ñ³ÝÓÝ³ñ³ñáõÃÛáõÝÝ»ñ | E22: 3 | H22: 3 | K22: 3 | T22: =D22+E22 -> 3 | U22: =F22+K22+L22 -> 3 | V22: =K22 -> 3 | W22: =G22+H22+I22+J22 -> 3
A23: ÀÜ¸²ØºÜÀ | D23: =D7+D8+D9+D10+D11+D12+D13+D14+D15+D16+D18+D19+D20+D21+D22 -> 0 | E23: =E7+E8+E9+E10+E11+E12+E13+E14+E15+E16+E18+E19+E20+E21+E22 -> 14 | F23: =F7+F8+F9+F10+F11+F12+F13+F14+F15+F16+F18+F19+F20+F21+F22 -> 0 | G23: =G7+G8+G9+G10+G11+G12+G13+G14+G15+G16+G18+G19+G20+G21+G22 -> 0 | H23: =H7+H8+H9+H10+H11+H12+H13+H14+H15+H16+H18+H19+H20+H21+H22 -> 14 | I23: =I7+I8+I9+I10+I11+I12+I13+I14+I15+I16+I18+I19+I20+I21+I22 -> 0 | J23: =J7+J8+J9+J10+J11+J12+J13+J14+J15+J16+J18+J19+J20+J21+J22 -> 0 | K23: =K7+K8+K9+K10+K11+K12+K13+K14+K15+K16+K18+K19+K20+K21+K22 -> 14 | ... R23: =R7+R8+R9+R10+R11+R12+R13+R14+R15+R16+R18+R19+R20+R21+R22 -> 0 | T23: =D23+E23 -> 14 | U23: =F23+K23+L23 -> 14 | V23: =K23 -> 14 | W23: =G23+H23+I23+J23 -> 14

Sheet Դ. Հարությունյան
A1: 2015Ã. | D1: Ð²ÞìºîìàôÂÚàôÜ | P1: Ð³í»Éí³Í Ð³Û³ëï³ÝÇ Ð³Ýñ³å»ïáõÃÛ³Ý ¸³ï³ñ³ÝÝ»ñÇ Ý³Ë³·³ÑÝ»ñÇ ËáñÑñ¹Ç 01.02.2016Ã. ÃÇí 11È áñáßÙ³Ý
A2: ØÇÝã¹³ï³Ï³Ý í³ñáõÛÃÇ ÝÏ³ïÙ³Ùµ ¹³ï³Ï³Ý í»ñ³ÑëÏáÕáõÃÛ³ÝÁ, ¹³ï³Ï³Ý ³Ïï»ñÇ ¨ ¹³ï³Ï³Ý Ñ³ÝÓÝ³ñ³ñáõÃÛáõÝÝ»ñÇ Ï³ï³ñÙ³Ý Ñ»ï Ï³åí³Í ÙÇçÝáñ¹áõÃÛáõÝÝ»ñÇ í»ñ³µ»ñÛ³É ¹³ï³Ï³Ý ·áñÍ»ñáí ºñ¨³Ý ù³Õ³ùÇ ²í³Ý ¨ Üáñ Üáñù í³ñã³Ï³Ý ßñç³ÝÝ»ñÇ ÁÝ¹Ñ³Ýáõñ Çñ³í³ëáõÃÛ³Ý ³é³çÇÝ ³ïÛ³ÝÇ ¹³ï³ñ³ÝÇ ¹³ï³íáñ Դ. Հարությունյանի ·áñÍáõÝ»áõÃÛ³Ý í»ñ³µ»ñÛ³É
A3: êïáõ·Çã Ñ³í³ë³ñáõÙ` 1+2=3+8+9, 8=4+5+6+7, | D3: Ð³ßí»ïáõ Å³Ù³Ý³Ï³Ñ³ïí³ÍÇ ëÏ½µáõÙ Ý³Ëáñ¹ Ñ³ßí»ïáõ Å³Ù³Ý³Ï³Ñ³ïí³ÍÇó ÷áË³Ýóí³Í ·áñÍ»ñÇ ÁÝ¹Ñ³Ýáõñ ÃÇíÁ | E3: Ð³ßí»ïáõ Å³Ù³Ý³Ï³Ñ³ïí³ÍáõÙ ëï³óí³Í ·áñÍ»ñÇ ÁÝ¹Ñ³Ýáõñ ÃÇíÁ | F3: öáË³Ýóí»É ¿ ³ÛÉ ¹³ï³íáñÇ Ï³Ù ³ÛÉ ¹³ï³ñ³Ý (Ï³½ÙÇ ÷á÷áËáõÃÛáõÝ, ÁÝ¹¹³ïáõÃÛáõÝ) | G3: Ð³ßí»ïáõ Å³Ù³Ý³Ï³Ñ³ïí³ÍáõÙ ³í³ñïí³Í ·áñÍ»ñÇ ÁÝ¹Ñ³Ýáõñ ÃÇíÁ | L3: Ð³ßí»ïáõ Å³Ù³Ý³Ï³Ñ³ïí³ÍáõÙ ³Ý³í³ñï ·áñÍ»ñÇ ÁÝ¹Ñ³Ýáõñ ÃÇíÁ | M3: ØÇçÝáñ¹áõÃÛáõÝÝ»ñáí Ï³Û³óí³Í ¹³ï³Ï³Ý ³Ïï»ñÇó µáÕáù³ñÏí³ÍÝ»ñÇ ù³Ý³ÏÁ | O3: ²Ý³í³ñï µáÕáùÝ»ñ | P3: ØÇçÝáñ¹áõÃÛáõÝÝ»ñáí Ï³Û³óí³Í ¨ µáÕáù³ñÏí³Í ¹³ï³Ï³Ý ³Ïï»ñÇó µ»Ï³Ýí³ÍÝ»ñÇ ù³Ý³ÏÁ | R3: ÙÇçÝáñ¹áõÃÛáõÝÝ»ñáí Ï³Û³óí³Í ¨ µáÕáù³ñÏí³Í ¹³ï³Ï³Ý ³Ïï»ñÇó ³Ý÷á÷áË ÃáÕÝí³ÍÝ»ñÇ ù³Ý³ÏÁ
G4: Ù»ñÅí»É ¿ | H4: µ³í³ñ³ñí»É ¿ | I4: µ³í³ñ³ñí»É ¿ Ù³ëÝ³ÏÇ | J4: ÃáÕÝí»É ¿ ³é³Ýó ùÝÝáõÃÛ³Ý | K4: ÀÝ¹³Ù»ÝÁ
M5: Ý³Ëáñ¹ ï³ñÇÝ»ñÇÝ Ï³Û³óí³Í ³Ïï»ñÇ ¹»Ù | N5: Ñ³ßí»ïáõ Å³Ù³Ý³Ï³ßñç³ÝáõÙ Ï³Û³óí³Í ³Ïï»ñÇ ¹»Ù | P5: Ý³Ëáñ¹ ï³ñÇÝ»ñÇÝ Ï³Û³óí³Í ³Ïï»ñÇ µ»Ï³ÝáõÙÝ»ñÁ | Q5: Ñ³ßí»ïáõ Å³Ù³Ý³Ï³ßñç³ÝáõÙ Ï³Û³óí³Í ³Ïï»ñÇ µ»Ï³ÝáõÙÝ»ñÁ
A6: 1. ØÇÝã¹³ï³Ï³Ý í³ñáõÛÃÇ ÝÏ³ïÙ³Ùµ ¹³ï³Ï³Ý í»ñ³ÑëÏáÕáõÃÛ³Ý áÉáñï | D6: 1 | E6: 2 | F6: 3 | G6: 4 | H6: 5 | I6: 6 | J6: 7 | K6: 8 | L6: 9 | M6: 10 | N6: 11 | O6: 12 | P6: 13 | Q6: 14 | R6: 15 | T6: 1+2=3+8+9 | V6: 8=4+5+6+7
A7: 1 | B7: Ï³É³ÝùÁ áñå»ë Ë³÷³ÝÙ³Ý ÙÇçáó ÏÇñ³é»Éáõ Ù³ëÇÝ ÙÇçÝáñ¹áõÃÛáõÝÝ»ñ | E7: 3 | F7: 1 | G7: 1 | H7: 1 | K7: 2 | T7: =D7+E7 -> 3 | U7: =F7+K7+L7 -> 3 | V7: =K7 -> 2 | W7: =G7+H7+I7+J7 -> 2
A8: 2 | B8: Ï³É³ÝùÇ Å³ÙÏ»ïÁ »ñÏ³ñ³óÝ»Éáõ Ù³ëÇÝ ÙÇçÝáñ¹áõÃÛáõÝÝ»ñ | E8: 1 | I8: 1 | K8: 1 | T8: =D8+E8 -> 1 | U8: =F8+K8+L8 -> 1 | V8: =K8 -> 1 | W8: =G8+H8+I8+J8 -> 1
A9: 3 | B9: Ï³É³ÝùÇ í»ñ³Ñ³ëï³ïÙ³Ý Ù³ëÇÝ ÙÇçÝáñ¹áõÃÛáõÝÝ»ñ | T9: =D9+E9 -> 0 | U9: =F9+K9+L9 -> 0 | V9: =K9 -> 0 | W9: =G9+H9+I9+J9 -> 0
A10: 4 | B10: ·ñ³íÁ áñå»ë Ï³É³Ý³íáñÙ³Ý ³ÛÉÁÝïñ³Ýù³ÛÇÝ Ë³÷³ÝÙ³Ý ÙÇçáó ÏÇñ³é»Éáõ Ù³ëÇÝ ÙÇçÝáñ¹áõÃÛáõÝÝ»ñ | E10: 2 | G10: 2 | K10: 2 | N10: 1 | R10: 1 | T10: =D10+E10 -> 2 | U10: =F10+K10+L10 -> 2 | V10: =K10 -> 2 | W10: =G10+H10+I10+J10 -> 2
A11: 5 | B11: Ëáõ½³ñÏáõÃÛ³Ý Ï³ï³ñÙ³Ý Ù³ëÇÝ ÙÇçÝáñ¹áõÃÛáõÝÝ»ñ | E11: 31 | G11: 1 | H11: 30 | K11: 31 | T11: =D11+E11 -> 31 | U11: =F11+K11+L11 -> 31 | V11: =K11 -> 31 | W11: =G11+H11+I11+J11 -> 31
A12: 6 | B12: µ³ÝÏ³ÛÇÝ, ³å³Ñáí³·ñ³Ï³Ý, Ýáï³ñ³Ï³Ý ·³ÕïÝÇù Ï³½ÙáÕ ï»Õ»ÏáõÃÛáõÝÝ»ñÇ ëï³óÙ³Ý Ñ³Ù³ñ Ëáõ½³ñÏáõÃÛ³Ý Ï³Ù ³é·ñ³íÙ³Ý Ï³ï³ñÙ³Ý Ù³ëÇÝ ÙÇçÝáñ¹áõÃÛáõÝÝ»ñ | T12: =D12+E12 -> 0 | U12: =F12+K12+L12 -> 0 | V12: =K12 -> 0 | W12: =G12+H12+I12+J12 -> 0
A13: 7 | B13: Ý³Ù³Ï³·ñáõÃÛ³Ý, Ñ»é³·ñ³Ï³Ý, ÷áuï³ÛÇÝ Ñ³Õáñ¹áõÙÝ»ñÇ ÑëÏáÕáõÃÛ³Ý Ù³ëÇÝ ÙÇçÝáñ¹áõÃÛáõÝÝ»ñ | T13: =D13+E13 -> 0 | U13: =F13+K13+L13 -> 0 | V13: =K13 -> 0 | W13: =G13+H13+I13+J13 -> 0
A14: 8 | B14: Ñ»é³Ëáu³ÛÇÝ Ï³Ù Ï³åÇ ³ÛÉ ÙÇçáóÝ»ñáí ï³ñíáÕ Ëáu³ÏóáõÃÛáõÝÝ»ñÇ ÉuÙ³Ý ¨ Ó³ÛÝ³·ñ³éÙ³Ý Ù³ëÇÝ ÙÇçÝáñ¹áõÃÛáõÝÝ»ñ | T14: =D14+E14 -> 0 | U14: =F14+K14+L14 -> 0 | V14: =K14 -> 0 | W14: =G14+H14+I14+J14 -> 0
A15: 9 | B15: Ñ»é³ËáëÝ»ñÇ Ùáõïù³ÛÇÝ ¨ »Éù³ÛÇÝ í»ñÍ³ÝÙ³Ý ÃáõÛÉïíáõÃÛáõÝ ëï³Ý³Éáõ Ù³ëÇÝ ÙÇçÝáñ¹áõÃÛáõÝÝ»ñ | E15: 8 | G15: 1 | H15: 7 | K15: 8 | T15: =D15+E15 -> 8 | U15: =F15+K15+L15 -> 8 | V15: =K15 -> 8 | W15: =G15+H15+I15+J15 -> 8
A16: 10 | B16: Ñ»ï³ùÝÝáõÃÛ³Ý Ù³ñÙÝÇ ³ßË³ïáÕÇ, ùÝÝÇãÇ, ¹³ï³Ë³½Ç oå»ñ³ïÇí-Ñ»ï³Ëáõ½³Ï³Ý ·áñÍáÕáõÃÛáõÝÝ»ñ Çñ³Ï³Ý³óÝáÕ Ù³ñÙÇÝÝ»ñÇ ³ÝoñÇÝ³Ï³Ý ¨ ³ÝÑÇÙÝ áñáßáõÙÝ»ñÇ ¨ ·áñÍáÕáõÃÛáõÝÝ»ñÇ ¹»Ù µáÕáùÝ»ñ | D16: 2 | E16: 7 | G16: 2 | H16: 3 | I16: 1 | K16: 6 | L16: 3 | N16: 4 | O16: 1 | R16: 3 | T16: =D16+E16 -> 9 | U16: =F16+K16+L16 -> 9 | V16: =K16 -> 6 | W16: =G16+H16+I16+J16 -> 6
A17: 2. ¸³ï³Ï³Ý ³Ïï»ñÇ ¨ ¹³ï³Ï³Ý Ñ³ÝÓÝ³ñ³ñáõÃÛáõÝÝ»ñÇ Ï³ï³ñÙ³Ý Ñ»ï Ï³åí³Í Ñ³ñó»ñÇ ÉáõÍÙ³Ý áÉáñï
A18: 1 | B18: å³ïÅÇó å³ÛÙ³Ý³Ï³Ý í³Õ³Å³ÙÏ»ï ³½³ï»Éáõ Ù³ëÇÝ ÙÇçÝáñ¹áõÃÛáõÝÝ»ñ | T18: =D18+E18 -> 0 | U18: =F18+K18+L18 -> 0 | V18: =K18 -> 0 | W18: =G18+H18+I18+J18 -> 0
A19: 2 | B19: å³ïÇÅÁ ÷á÷áË»Éáõ, Ñ»ï³Ó·»Éáõ ¨ å³ïÅÇó ³½³ï»Éáõ Ù³uÇÝ ÙÇçÝáñ¹áõÃÛáõÝÝ»ñ | D19: 2 | E19: 2 | F19: 1 | G19: 3 | K19: 3 | T19: =D19+E19 -> 4 | U19: =F19+K19+L19 -> 4 | V19: =K19 -> 3 | W19: =G19+H19+I19+J19 -> 3
A20: 3 | B20: Ñ³ñÏ³¹Çñ µáõÅÙ³Ý ï»ë³ÏÇ ÷á÷áËáõÃÛ³Ý Ù³ëÇÝ ÙÇçÝáñ¹áõÃÛáõÝÝ»ñ | E20: 2 | H20: 1 | K20: 1 | L20: 1 | T20: =D20+E20 -> 2 | U20: =F20+K20+L20 -> 2 | V20: =K20 -> 1 | W20: =G20+H20+I20+J20 -> 1
A21: 4 | B21: ³ÛÉ ÙÇçÝáñ¹áõÃÛáõÝÝ»ñ | E21: 4 | G21: 1 | H21: 3 | K21: 4 | T21: =D21+E21 -> 4 | U21: =F21+K21+L21 -> 4 | V21: =K21 -> 4 | W21: =G21+H21+I21+J21 -> 4
A22: 5 | B22: ¹³ï³Ï³Ý Ñ³ÝÓÝ³ñ³ñáõÃÛáõÝÝ»ñ | E22: 2 | L22: 1 | T22: =D22+E22 -> 2 | U22: =F22+K22+L22 -> 1 | V22: =K22 -> 0 | W22: =G22+H22+I22+J22 -> 0
A23: ÀÜ¸²ØºÜÀ | D23: =D7+D8+D9+D10+D11+D12+D13+D14+D15+D16+D18+D19+D20+D21+D22 -> 4 | E23: =E7+E8+E9+E10+E11+E12+E13+E14+E15+E16+E18+E19+E20+E21+E22 -> 62 | F23: =F7+F8+F9+F10+F11+F12+F13+F14+F15+F16+F18+F19+F20+F21+F22 -> 2 | G23: =G7+G8+G9+G10+G11+G12+G13+G14+G15+G16+G18+G19+G20+G21+G22 -> 11 | H23: =H7+H8+H9+H10+H11+H12+H13+H14+H15+H16+H18+H19+H20+H21+H22 -> 45 | I23: =I7+I8+I9+I10+I11+I12+I13+I14+I15+I16+I18+I19+I20+I21+I22 -> 2 | J23: =J7+J8+J9+J10+J11+J12+J13+J14+J15+J16+J18+J19+J20+J21+J22 -> 0 | K23: =K7+K8+K9+K10+K11+K12+K13+K14+K15+K16+K18+K19+K20+K21+K22 -> 58 | ... R23: =R7+R8+R9+R10+R11+R12+R13+R14+R15+R16+R18+R19+R20+R21+R22 -> 4 | T23: =D23+E23 -> 66 | U23: =F23+K23+L23 -> 65 | V23: =K23 -> 58 | W23: =G23+H23+I23+J23 -> 58
B25: դատական հանձնարարությունների մեջ 1 գործ հետ է վերադարձվել,

Sheet Ա. Բաբայան
A1: 2015Ã. | D1: Ð²ÞìºîìàôÂÚàôÜ | P1: Ð³í»Éí³Í Ð³Û³ëï³ÝÇ Ð³Ýñ³å»ïáõÃÛ³Ý ¸³ï³ñ³ÝÝ»ñÇ Ý³Ë³·³ÑÝ»ñÇ ËáñÑñ¹Ç 01.02.2016Ã. ÃÇí 11È áñáßÙ³Ý
A2: ØÇÝã¹³ï³Ï³Ý í³ñáõÛÃÇ ÝÏ³ïÙ³Ùµ ¹³ï³Ï³Ý í»ñ³ÑëÏáÕáõÃÛ³ÝÁ, ¹³ï³Ï³Ý ³Ïï»ñÇ ¨ ¹³ï³Ï³Ý Ñ³ÝÓÝ³ñ³ñáõÃÛáõÝÝ»ñÇ Ï³ï³ñÙ³Ý Ñ»ï Ï³åí³Í ÙÇçÝáñ¹áõÃÛáõÝÝ»ñÇ í»ñ³µ»ñÛ³É ¹³ï³Ï³Ý ·áñÍ»ñáí ºñ¨³Ý ù³Õ³ùÇ ²í³Ý ¨ Üáñ Üáñù í³ñã³Ï³Ý ßñç³ÝÝ»ñÇ ÁÝ¹Ñ³Ýáõñ Çñ³í³ëáõÃÛ³Ý ³é³çÇÝ ³ïÛ³ÝÇ ¹³ï³ñ³ÝÇ ¹³ï³íáñ Ա. Բաբայանի ·áñÍáõÝ»áõÃÛ³Ý í»ñ³µ»ñÛ³É
A3: êïáõ·Çã Ñ³í³ë³ñáõÙ` 1+2=3+8+9, 8=4+5+6+7, | D3: Ð³ßí»ïáõ Å³Ù³Ý³Ï³Ñ³ïí³ÍÇ ëÏ½µáõÙ Ý³Ëáñ¹ Ñ³ßí»ïáõ Å³Ù³Ý³Ï³Ñ³ïí³ÍÇó ÷áË³Ýóí³Í ·áñÍ»ñÇ ÁÝ¹Ñ³Ýáõñ ÃÇíÁ | E3: Ð³ßí»ïáõ Å³Ù³Ý³Ï³Ñ³ïí³ÍáõÙ ëï³óí³Í ·áñÍ»ñÇ ÁÝ¹Ñ³Ýáõñ ÃÇíÁ | F3: öáË³Ýóí»É ¿ ³ÛÉ ¹³ï³íáñÇ Ï³Ù ³ÛÉ ¹³ï³ñ³Ý (Ï³½ÙÇ ÷á÷áËáõÃÛáõÝ, ÁÝ¹¹³ïáõÃÛáõÝ) | G3: Ð³ßí»ïáõ Å³Ù³Ý³Ï³Ñ³ïí³ÍáõÙ ³í³ñïí³Í ·áñÍ»ñÇ ÁÝ¹Ñ³Ýáõñ ÃÇíÁ | L3: Ð³ßí»ïáõ Å³Ù³Ý³Ï³Ñ³ïí³ÍáõÙ ³Ý³í³ñï ·áñÍ»ñÇ ÁÝ¹Ñ³Ýáõñ ÃÇíÁ | M3: ØÇçÝáñ¹áõÃÛáõÝÝ»ñáí Ï³Û³óí³Í ¹³ï³Ï³Ý ³Ïï»ñÇó µáÕáù³ñÏí³ÍÝ»ñÇ ù³Ý³ÏÁ | O3: ²Ý³í³ñï µáÕáùÝ»ñ | P3: ØÇçÝáñ¹áõÃÛáõÝÝ»ñáí Ï³Û³óí³Í ¨ µáÕáù³ñÏí³Í ¹³ï³Ï³Ý ³Ïï»ñÇó µ»Ï³Ýí³ÍÝ»ñÇ ù³Ý³ÏÁ | R3: ÙÇçÝáñ¹áõÃÛáõÝÝ»ñáí Ï³Û³óí³Í ¨ µáÕáù³ñÏí³Í ¹³ï³Ï³Ý ³Ïï»ñÇó ³Ý÷á÷áË ÃáÕÝí³ÍÝ»ñÇ ù³Ý³ÏÁ
G4: Ù»ñÅí»É ¿ | H4: µ³í³ñ³ñí»É ¿ | I4: µ³í³ñ³ñí»É ¿ Ù³ëÝ³ÏÇ | J4: ÃáÕÝí»É ¿ ³é³Ýó ùÝÝáõÃÛ³Ý | K4: ÀÝ¹³Ù»ÝÁ
M5: Ý³Ëáñ¹ ï³ñÇÝ»ñÇÝ Ï³Û³óí³Í ³Ïï»ñÇ ¹»Ù | N5: Ñ³ßí»ïáõ Å³Ù³Ý³Ï³ßñç³ÝáõÙ Ï³Û³óí³Í ³Ïï»ñÇ ¹»Ù | P5: Ý³Ëáñ¹ ï³ñÇÝ»ñÇÝ Ï³Û³óí³Í ³Ïï»ñÇ µ»Ï³ÝáõÙÝ»ñÁ | Q5: Ñ³ßí»ïáõ Å³Ù³Ý³Ï³ßñç³ÝáõÙ Ï³Û³óí³Í ³Ïï»ñÇ µ»Ï³ÝáõÙÝ»ñÁ
A6: 1. ØÇÝã¹³ï³Ï³Ý í³ñáõÛÃÇ ÝÏ³ïÙ³Ùµ ¹³ï³Ï³Ý í»ñ³ÑëÏáÕáõÃÛ³Ý áÉáñï | D6: 1 | E6: 2 | F6: 3 | G6: 4 | H6: 5 | I6: 6 | J6: 7 | K6: 8 | L6: 9 | M6: 10 | N6: 11 | O6: 12 | P6: 13 | Q6: 14 | R6: 15 | T6: 1+2=3+8+9 | V6: 8=4+5+6+7
A7: 1 | B7: Ï³É³ÝùÁ áñå»ë Ë³÷³ÝÙ³Ý ÙÇçáó ÏÇñ³é»Éáõ Ù³ëÇÝ ÙÇçÝáñ¹áõÃÛáõÝÝ»ñ | T7: =D7+E7 -> 0 | U7: =F7+K7+L7 -> 0 | V7: =K7 -> 0 | W7: =G7+H7+I7+J7 -> 0
A8: 2 | B8: Ï³É³ÝùÇ Å³ÙÏ»ïÁ »ñÏ³ñ³óÝ»Éáõ Ù³ëÇÝ ÙÇçÝáñ¹áõÃÛáõÝÝ»ñ | T8: =D8+E8 -> 0 | U8: =F8+K8+L8 -> 0 | V8: =K8 -> 0 | W8: =G8+H8+I8+J8 -> 0
A9: 3 | B9: Ï³É³ÝùÇ í»ñ³Ñ³ëï³ïÙ³Ý Ù³ëÇÝ ÙÇçÝáñ¹áõÃÛáõÝÝ»ñ | T9: =D9+E9 -> 0 | U9: =F9+K9+L9 -> 0 | V9: =K9 -> 0 | W9: =G9+H9+I9+J9 -> 0
A10: 4 | B10: ·ñ³íÁ áñå»ë Ï³É³Ý³íáñÙ³Ý ³ÛÉÁÝïñ³Ýù³ÛÇÝ Ë³÷³ÝÙ³Ý ÙÇçáó ÏÇñ³é»Éáõ Ù³ëÇÝ ÙÇçÝáñ¹áõÃÛáõÝÝ»ñ | T10: =D10+E10 -> 0 | U10: =F10+K10+L10 -> 0 | V10: =K10 -> 0 | W10: =G10+H10+I10+J10 -> 0
A11: 5 | B11: Ëáõ½³ñÏáõÃÛ³Ý Ï³ï³ñÙ³Ý Ù³ëÇÝ ÙÇçÝáñ¹áõÃÛáõÝÝ»ñ | E11: 12 | H11: 12 | K11: 12 | T11: =D11+E11 -> 12 | U11: =F11+K11+L11 -> 12 | V11: =K11 -> 12 | W11: =G11+H11+I11+J11 -> 12
A12: 6 | B12: µ³ÝÏ³ÛÇÝ, ³å³Ñáí³·ñ³Ï³Ý, Ýáï³ñ³Ï³Ý ·³ÕïÝÇù Ï³½ÙáÕ ï»Õ»ÏáõÃÛáõÝÝ»ñÇ ëï³óÙ³Ý Ñ³Ù³ñ Ëáõ½³ñÏáõÃÛ³Ý Ï³Ù ³é·ñ³íÙ³Ý Ï³ï³ñÙ³Ý Ù³ëÇÝ ÙÇçÝáñ¹áõÃÛáõÝÝ»ñ | T12: =D12+E12 -> 0 | U12: =F12+K12+L12 -> 0 | V12: =K12 -> 0 | W12: =G12+H12+I12+J12 -> 0
A13: 7 | B13: Ý³Ù³Ï³·ñáõÃÛ³Ý, Ñ»é³·ñ³Ï³Ý, ÷áuï³ÛÇÝ Ñ³Õáñ¹áõÙÝ»ñÇ ÑëÏáÕáõÃÛ³Ý Ù³ëÇÝ ÙÇçÝáñ¹áõÃÛáõÝÝ»ñ | T13: =D13+E13 -> 0 | U13: =F13+K13+L13 -> 0 | V13: =K13 -> 0 | W13: =G13+H13+I13+J13 -> 0
A14: 8 | B14: Ñ»é³Ëáu³ÛÇÝ Ï³Ù Ï³åÇ ³ÛÉ ÙÇçáóÝ»ñáí ï³ñíáÕ Ëáu³ÏóáõÃÛáõÝÝ»ñÇ ÉuÙ³Ý ¨ Ó³ÛÝ³·ñ³éÙ³Ý Ù³ëÇÝ ÙÇçÝáñ¹áõÃÛáõÝÝ»ñ | E14: 1 | H14: 1 | K14: 1 | T14: =D14+E14 -> 1 | U14: =F14+K14+L14 -> 1 | V14: =K14 -> 1 | W14: =G14+H14+I14+J14 -> 1
A15: 9 | B15: Ñ»é³ËáëÝ»ñÇ Ùáõïù³ÛÇÝ ¨ »Éù³ÛÇÝ í»ñÍ³ÝÙ³Ý ÃáõÛÉïíáõÃÛáõÝ ëï³Ý³Éáõ Ù³ëÇÝ ÙÇçÝáñ¹áõÃÛáõÝÝ»ñ | E15: 9 | F15: 2 | H15: 7 | K15: 7 | T15: =D15+E15 -> 9 | U15: =F15+K15+L15 -> 9 | V15: =K15 -> 7 | W15: =G15+H15+I15+J15 -> 7
A16: 10 | B16: Ñ»ï³ùÝÝáõÃÛ³Ý Ù³ñÙÝÇ ³ßË³ïáÕÇ, ùÝÝÇãÇ, ¹³ï³Ë³½Ç oå»ñ³ïÇí-Ñ»ï³Ëáõ½³Ï³Ý ·áñÍáÕáõÃÛáõÝÝ»ñ Çñ³Ï³Ý³óÝáÕ Ù³ñÙÇÝÝ»ñÇ ³ÝoñÇÝ³Ï³Ý ¨ ³ÝÑÇÙÝ áñáßáõÙÝ»ñÇ ¨ ·áñÍáÕáõÃÛáõÝÝ»ñÇ ¹»Ù µáÕáùÝ»ñ | T16: =D16+E16 -> 0 | U16: =F16+K16+L16 -> 0 | V16: =K16 -> 0 | W16: =G16+H16+I16+J16 -> 0
A17: 2. ¸³ï³Ï³Ý ³Ïï»ñÇ ¨ ¹³ï³Ï³Ý Ñ³ÝÓÝ³ñ³ñáõÃÛáõÝÝ»ñÇ Ï³ï³ñÙ³Ý Ñ»ï Ï³åí³Í Ñ³ñó»ñÇ ÉáõÍÙ³Ý áÉáñï
A18: 1 | B18: å³ïÅÇó å³ÛÙ³Ý³Ï³Ý í³Õ³Å³ÙÏ»ï ³½³ï»Éáõ Ù³ëÇÝ ÙÇçÝáñ¹áõÃÛáõÝÝ»ñ | T18: =D18+E18 -> 0 | U18: =F18+K18+L18 -> 0 | V18: =K18 -> 0 | W18: =G18+H18+I18+J18 -> 0
A19: 2 | B19: å³ïÇÅÁ ÷á÷áË»Éáõ, Ñ»ï³Ó·»Éáõ ¨ å³ïÅÇó ³½³ï»Éáõ Ù³uÇÝ ÙÇçÝáñ¹áõÃÛáõÝÝ»ñ | T19: =D19+E19 -> 0 | U19: =F19+K19+L19 -> 0 | V19: =K19 -> 0 | W19: =G19+H19+I19+J19 -> 0
A20: 3 | B20: Ñ³ñÏ³¹Çñ µáõÅÙ³Ý ï»ë³ÏÇ ÷á÷áËáõÃÛ³Ý Ù³ëÇÝ ÙÇçÝáñ¹áõÃÛáõÝÝ»ñ | T20: =D20+E20 -> 0 | U20: =F20+K20+L20 -> 0 | V20: =K20 -> 0 | W20: =G20+H20+I20+J20 -> 0
A21: 4 | B21: ³ÛÉ ÙÇçÝáñ¹áõÃÛáõÝÝ»ñ | T21: =D21+E21 -> 0 | U21: =F21+K21+L21 -> 0 | V21: =K21 -> 0 | W21: =G21+H21+I21+J21 -> 0
A22: 5 | B22: ¹³ï³Ï³Ý Ñ³ÝÓÝ³ñ³ñáõÃÛáõÝÝ»ñ | T22: =D22+E22 -> 0 | U22: =F22+K22+L22 -> 0 | V22: =K22 -> 0 | W22: =G22+H22+I22+J22 -> 0
A23: ÀÜ¸²ØºÜÀ | D23: =D7+D8+D9+D10+D11+D12+D13+D14+D15+D16+D18+D19+D20+D21+D22 -> 0 | E23: =E7+E8+E9+E10+E11+E12+E13+E14+E15+E16+E18+E19+E20+E21+E22 -> 22 | F23: =F7+F8+F9+F10+F11+F12+F13+F14+F15+F16+F18+F19+F20+F21+F22 -> 2 | G23: =G7+G8+G9+G10+G11+G12+G13+G14+G15+G16+G18+G19+G20+G21+G22 -> 0 | H23: =H7+H8+H9+H10+H11+H12+H13+H14+H15+H16+H18+H19+H20+H21+H22 -> 20 | I23: =I7+I8+I9+I10+I11+I12+I13+I14+I15+I16+I18+I19+I20+I21+I22 -> 0 | J23: =J7+J8+J9+J10+J11+J12+J13+J14+J15+J16+J18+J19+J20+J21+J22 -> 0 | K23: =K7+K8+K9+K10+K11+K12+K13+K14+K15+K16+K18+K19+K20+K21+K22 -> 20 | ... R23: =R7+R8+R9+R10+R11+R12+R13+R14+R15+R16+R18+R19+R20+R21+R22 -> 0 | T23: =D23+E23 -> 22 | U23: =F23+K23+L23 -> 22 | V23: =K23 -> 20 | W23: =G23+H23+I23+J23 -> 20

Sheet Է. Ամալյան
A1: 2015Ã. | D1: Ð²ÞìºîìàôÂÚàôÜ | P1: Ð³í»Éí³Í Ð³Û³ëï³ÝÇ Ð³Ýñ³å»ïáõÃÛ³Ý ¸³ï³ñ³ÝÝ»ñÇ Ý³Ë³·³ÑÝ»ñÇ ËáñÑñ¹Ç 01.02.2016Ã. ÃÇí 11È áñáßÙ³Ý
A2: ØÇÝã¹³ï³Ï³Ý í³ñáõÛÃÇ ÝÏ³ïÙ³Ùµ ¹³ï³Ï³Ý í»ñ³ÑëÏáÕáõÃÛ³ÝÁ, ¹³ï³Ï³Ý ³Ïï»ñÇ ¨ ¹³ï³Ï³Ý Ñ³ÝÓÝ³ñ³ñáõÃÛáõÝÝ»ñÇ Ï³ï³ñÙ³Ý Ñ»ï Ï³åí³Í ÙÇçÝáñ¹áõÃÛáõÝÝ»ñÇ í»ñ³µ»ñÛ³É ¹³ï³Ï³Ý ·áñÍ»ñáí ºñ¨³Ý ù³Õ³ùÇ ²í³Ý ¨ Üáñ Üáñù í³ñã³Ï³Ý ßñç³ÝÝ»ñÇ ÁÝ¹Ñ³Ýáõñ Çñ³í³ëáõÃÛ³Ý ³é³çÇÝ ³ïÛ³ÝÇ ¹³ï³ñ³ÝÇ ¹³ï³íáñ Է. Ամալյանի ·áñÍáõÝ»áõÃÛ³Ý í»ñ³µ»ñÛ³É
A3: êïáõ·Çã Ñ³í³ë³ñáõÙ` 1+2=3+8+9, 8=4+5+6+7, | D3: Ð³ßí»ïáõ Å³Ù³Ý³Ï³Ñ³ïí³ÍÇ ëÏ½µáõÙ Ý³Ëáñ¹ Ñ³ßí»ïáõ Å³Ù³Ý³Ï³Ñ³ïí³ÍÇó ÷áË³Ýóí³Í ·áñÍ»ñÇ ÁÝ¹Ñ³Ýáõñ ÃÇíÁ | E3: Ð³ßí»ïáõ Å³Ù³Ý³Ï³Ñ³ïí³ÍáõÙ ëï³óí³Í ·áñÍ»ñÇ ÁÝ¹Ñ³Ýáõñ ÃÇíÁ | F3: öáË³Ýóí»É ¿ ³ÛÉ ¹³ï³íáñÇ Ï³Ù ³ÛÉ ¹³ï³ñ³Ý (Ï³½ÙÇ ÷á÷áËáõÃÛáõÝ, ÁÝ¹¹³ïáõÃÛáõÝ) | G3: Ð³ßí»ïáõ Å³Ù³Ý³Ï³Ñ³ïí³ÍáõÙ ³í³ñïí³Í ·áñÍ»ñÇ ÁÝ¹Ñ³Ýáõñ ÃÇíÁ | L3: Ð³ßí»ïáõ Å³Ù³Ý³Ï³Ñ³ïí³ÍáõÙ ³Ý³í³ñï ·áñÍ»ñÇ ÁÝ¹Ñ³Ýáõñ ÃÇíÁ | M3: ØÇçÝáñ¹áõÃÛáõÝÝ»ñáí Ï³Û³óí³Í ¹³ï³Ï³Ý ³Ïï»ñÇó µáÕáù³ñÏí³ÍÝ»ñÇ ù³Ý³ÏÁ | O3: ²Ý³í³ñï µáÕáùÝ»ñ | P3: ØÇçÝáñ¹áõÃÛáõÝÝ»ñáí Ï³Û³óí³Í ¨ µáÕáù³ñÏí³Í ¹³ï³Ï³Ý ³Ïï»ñÇó µ»Ï³Ýí³ÍÝ»ñÇ ù³Ý³ÏÁ | R3: ÙÇçÝáñ¹áõÃÛáõÝÝ»ñáí Ï³Û³óí³Í ¨ µáÕáù³ñÏí³Í ¹³ï³Ï³Ý ³Ïï»ñÇó ³Ý÷á÷áË ÃáÕÝí³ÍÝ»ñÇ ù³Ý³ÏÁ
G4: Ù»ñÅí»É ¿ | H4: µ³í³ñ³ñí»É ¿ | I4: µ³í³ñ³ñí»É ¿ Ù³ëÝ³ÏÇ | J4: ÃáÕÝí»É ¿ ³é³Ýó ùÝÝáõÃÛ³Ý | K4: ÀÝ¹³Ù»ÝÁ
M5: Ý³Ëáñ¹ ï³ñÇÝ»ñÇÝ Ï³Û³óí³Í ³Ïï»ñÇ ¹»Ù | N5: Ñ³ßí»ïáõ Å³Ù³Ý³Ï³ßñç³ÝáõÙ Ï³Û³óí³Í ³Ïï»ñÇ ¹»Ù | P5: Ý³Ëáñ¹ ï³ñÇÝ»ñÇÝ Ï³Û³óí³Í ³Ïï»ñÇ µ»Ï³ÝáõÙÝ»ñÁ | Q5: Ñ³ßí»ïáõ Å³Ù³Ý³Ï³ßñç³ÝáõÙ Ï³Û³óí³Í ³Ïï»ñÇ µ»Ï³ÝáõÙÝ»ñÁ
A6: 1. ØÇÝã¹³ï³Ï³Ý í³ñáõÛÃÇ ÝÏ³ïÙ³Ùµ ¹³ï³Ï³Ý í»ñ³ÑëÏáÕáõÃÛ³Ý áÉáñï | D6: 1 | E6: 2 | F6: 3 | G6: 4 | H6: 5 | I6: 6 | J6: 7 | K6: 8 | L6: 9 | M6: 10 | N6: 11 | O6: 12 | P6: 13 | Q6: 14 | R6: 15 | T6: 1+2=3+8+9 | V6: 8=4+5+6+7
A7: 1 | B7: Ï³É³ÝùÁ áñå»ë Ë³÷³ÝÙ³Ý ÙÇçáó ÏÇñ³é»Éáõ Ù³ëÇÝ ÙÇçÝáñ¹áõÃÛáõÝÝ»ñ | T7: =D7+E7 -> 0 | U7: =F7+K7+L7 -> 0 | V7: =K7 -> 0 | W7: =G7+H7+I7+J7 -> 0
A8: 2 | B8: Ï³É³ÝùÇ Å³ÙÏ»ïÁ »ñÏ³ñ³óÝ»Éáõ Ù³ëÇÝ ÙÇçÝáñ¹áõÃÛáõÝÝ»ñ | T8: =D8+E8 -> 0 | U8: =F8+K8+L8 -> 0 | V8: =K8 -> 0 | W8: =G8+H8+I8+J8 -> 0
A9: 3 | B9: Ï³É³ÝùÇ í»ñ³Ñ³ëï³ïÙ³Ý Ù³ëÇÝ ÙÇçÝáñ¹áõÃÛáõÝÝ»ñ | T9: =D9+E9 -> 0 | U9: =F9+K9+L9 -> 0 | V9: =K9 -> 0 | W9: =G9+H9+I9+J9 -> 0
A10: 4 | B10: ·ñ³íÁ áñå»ë Ï³É³Ý³íáñÙ³Ý ³ÛÉÁÝïñ³Ýù³ÛÇÝ Ë³÷³ÝÙ³Ý ÙÇçáó ÏÇñ³é»Éáõ Ù³ëÇÝ ÙÇçÝáñ¹áõÃÛáõÝÝ»ñ | T10: =D10+E10 -> 0 | U10: =F10+K10+L10 -> 0 | V10: =K10 -> 0 | W10: =G10+H10+I10+J10 -> 0
A11: 5 | B11: Ëáõ½³ñÏáõÃÛ³Ý Ï³ï³ñÙ³Ý Ù³ëÇÝ ÙÇçÝáñ¹áõÃÛáõÝÝ»ñ | E11: 15 | H11: 15 | K11: 15 | T11: =D11+E11 -> 15 | U11: =F11+K11+L11 -> 15 | V11: =K11 -> 15 | W11: =G11+H11+I11+J11 -> 15
A12: 6 | B12: µ³ÝÏ³ÛÇÝ, ³å³Ñáí³·ñ³Ï³Ý, Ýáï³ñ³Ï³Ý ·³ÕïÝÇù Ï³½ÙáÕ ï»Õ»ÏáõÃÛáõÝÝ»ñÇ ëï³óÙ³Ý Ñ³Ù³ñ Ëáõ½³ñÏáõÃÛ³Ý Ï³Ù ³é·ñ³íÙ³Ý Ï³ï³ñÙ³Ý Ù³ëÇÝ ÙÇçÝáñ¹áõÃÛáõÝÝ»ñ | T12: =D12+E12 -> 0 | U12: =F12+K12+L12 -> 0 | V12: =K12 -> 0 | W12: =G12+H12+I12+J12 -> 0
A13: 7 | B13: Ý³Ù³Ï³·ñáõÃÛ³Ý, Ñ»é³·ñ³Ï³Ý, ÷áuï³ÛÇÝ Ñ³Õáñ¹áõÙÝ»ñÇ ÑëÏáÕáõÃÛ³Ý Ù³ëÇÝ ÙÇçÝáñ¹áõÃÛáõÝÝ»ñ | T13: =D13+E13 -> 0 | U13: =F13+K13+L13 -> 0 | V13: =K13 -> 0 | W13: =G13+H13+I13+J13 -> 0
A14: 8 | B14: Ñ»é³Ëáu³ÛÇÝ Ï³Ù Ï³åÇ ³ÛÉ ÙÇçáóÝ»ñáí ï³ñíáÕ Ëáu³ÏóáõÃÛáõÝÝ»ñÇ ÉuÙ³Ý ¨ Ó³ÛÝ³·ñ³éÙ³Ý Ù³ëÇÝ ÙÇçÝáñ¹áõÃÛáõÝÝ»ñ | T14: =D14+E14 -> 0 | U14: =F14+K14+L14 -> 0 | V14: =K14 -> 0 | W14: =G14+H14+I14+J14 -> 0
A15: 9 | B15: Ñ»é³ËáëÝ»ñÇ Ùáõïù³ÛÇÝ ¨ »Éù³ÛÇÝ í»ñÍ³ÝÙ³Ý ÃáõÛÉïíáõÃÛáõÝ ëï³Ý³Éáõ Ù³ëÇÝ ÙÇçÝáñ¹áõÃÛáõÝÝ»ñ | E15: 29 | H15: 29 | K15: 29 | T15: =D15+E15 -> 29 | U15: =F15+K15+L15 -> 29 | V15: =K15 -> 29 | W15: =G15+H15+I15+J15 -> 29
A16: 10 | B16: Ñ»ï³ùÝÝáõÃÛ³Ý Ù³ñÙÝÇ ³ßË³ïáÕÇ, ùÝÝÇãÇ, ¹³ï³Ë³½Ç oå»ñ³ïÇí-Ñ»ï³Ëáõ½³Ï³Ý ·áñÍáÕáõÃÛáõÝÝ»ñ Çñ³Ï³Ý³óÝáÕ Ù³ñÙÇÝÝ»ñÇ ³ÝoñÇÝ³Ï³Ý ¨ ³ÝÑÇÙÝ áñáßáõÙÝ»ñÇ ¨ ·áñÍáÕáõÃÛáõÝÝ»ñÇ ¹»Ù µáÕáùÝ»ñ | T16: =D16+E16 -> 0 | U16: =F16+K16+L16 -> 0 | V16: =K16 -> 0 | W16: =G16+H16+I16+J16 -> 0
A17: 2. ¸³ï³Ï³Ý ³Ïï»ñÇ ¨ ¹³ï³Ï³Ý Ñ³ÝÓÝ³ñ³ñáõÃÛáõÝÝ»ñÇ Ï³ï³ñÙ³Ý Ñ»ï Ï³åí³Í Ñ³ñó»ñÇ ÉáõÍÙ³Ý áÉáñï
A18: 1 | B18: å³ïÅÇó å³ÛÙ³Ý³Ï³Ý í³Õ³Å³ÙÏ»ï ³½³ï»Éáõ Ù³ëÇÝ ÙÇçÝáñ¹áõÃÛáõÝÝ»ñ | T18: =D18+E18 -> 0 | U18: =F18+K18+L18 -> 0 | V18: =K18 -> 0 | W18: =G18+H18+I18+J18 -> 0
A19: 2 | B19: å³ïÇÅÁ ÷á÷áË»Éáõ, Ñ»ï³Ó·»Éáõ ¨ å³ïÅÇó ³½³ï»Éáõ Ù³uÇÝ ÙÇçÝáñ¹áõÃÛáõÝÝ»ñ | T19: =D19+E19 -> 0 | U19: =F19+K19+L19 -> 0 | V19: =K19 -> 0 | W19: =G19+H19+I19+J19 -> 0
A20: 3 | B20: Ñ³ñÏ³¹Çñ µáõÅÙ³Ý ï»ë³ÏÇ ÷á÷áËáõÃÛ³Ý Ù³ëÇÝ ÙÇçÝáñ¹áõÃÛáõÝÝ»ñ | T20: =D20+E20 -> 0 | U20: =F20+K20+L20 -> 0 | V20: =K20 -> 0 | W20: =G20+H20+I20+J20 -> 0
A21: 4 | B21: ³ÛÉ ÙÇçÝáñ¹áõÃÛáõÝÝ»ñ | T21: =D21+E21 -> 0 | U21: =F21+K21+L21 -> 0 | V21: =K21 -> 0 | W21: =G21+H21+I21+J21 -> 0
A22: 5 | B22: ¹³ï³Ï³Ý Ñ³ÝÓÝ³ñ³ñáõÃÛáõÝÝ»ñ | D22: 1 | E22: 2 | L22: 1 | T22: =D22+E22 -> 3 | U22: =F22+K22+L22 -> 1 | V22: =K22 -> 0 | W22: =G22+H22+I22+J22 -> 0
A23: ÀÜ¸²ØºÜÀ | D23: =D7+D8+D9+D10+D11+D12+D13+D14+D15+D16+D18+D19+D20+D21+D22 -> 1 | E23: =E7+E8+E9+E10+E11+E12+E13+E14+E15+E16+E18+E19+E20+E21+E22 -> 46 | F23: =F7+F8+F9+F10+F11+F12+F13+F14+F15+F16+F18+F19+F20+F21+F22 -> 0 | G23: =G7+G8+G9+G10+G11+G12+G13+G14+G15+G16+G18+G19+G20+G21+G22 -> 0 | H23: =H7+H8+H9+H10+H11+H12+H13+H14+H15+H16+H18+H19+H20+H21+H22 -> 44 | I23: =I7+I8+I9+I10+I11+I12+I13+I14+I15+I16+I18+I19+I20+I21+I22 -> 0 | J23: =J7+J8+J9+J10+J11+J12+J13+J14+J15+J16+J18+J19+J20+J21+J22 -> 0 | K23: =K7+K8+K9+K10+K11+K12+K13+K14+K15+K16+K18+K19+K20+K21+K22 -> 44 | ... R23: =R7+R8+R9+R10+R11+R12+R13+R14+R15+R16+R18+R19+R20+R21+R22 -> 0 | T23: =D23+E23 -> 47 | U23: =F23+K23+L23 -> 45 | V23: =K23 -> 44 | W23: =G23+H23+I23+J23 -> 44
C25: դատական հանձնարարությունների մեջ 2 գործ հետ է վերադարձվել,

Sheet Ա. Դավթյան
A1: 2015Ã. | D1: Ð²ÞìºîìàôÂÚàôÜ | P1: Ð³í»Éí³Í Ð³Û³ëï³ÝÇ Ð³Ýñ³å»ïáõÃÛ³Ý ¸³ï³ñ³ÝÝ»ñÇ Ý³Ë³·³ÑÝ»ñÇ ËáñÑñ¹Ç 01.02.2016Ã. ÃÇí 11È áñáßÙ³Ý
A2: ØÇÝã¹³ï³Ï³Ý í³ñáõÛÃÇ ÝÏ³ïÙ³Ùµ ¹³ï³Ï³Ý í»ñ³ÑëÏáÕáõÃÛ³ÝÁ, ¹³ï³Ï³Ý ³Ïï»ñÇ ¨ ¹³ï³Ï³Ý Ñ³ÝÓÝ³ñ³ñáõÃÛáõÝÝ»ñÇ Ï³ï³ñÙ³Ý Ñ»ï Ï³åí³Í ÙÇçÝáñ¹áõÃÛáõÝÝ»ñÇ í»ñ³µ»ñÛ³É ¹³ï³Ï³Ý ·áñÍ»ñáí ºñ¨³Ý ù³Õ³ùÇ ²í³Ý ¨ Üáñ Üáñù í³ñã³Ï³Ý ßñç³ÝÝ»ñÇ ÁÝ¹Ñ³Ýáõñ Çñ³í³ëáõÃÛ³Ý ³é³çÇÝ ³ïÛ³ÝÇ ¹³ï³ñ³ÝÇ ¹³ï³íáñ Ա. Դավթյանի ·áñÍáõÝ»áõÃÛ³Ý í»ñ³µ»ñÛ³É
A3: êïáõ·Çã Ñ³í³ë³ñáõÙ` 1+2=3+8+9, 8=4+5+6+7, | D3: Ð³ßí»ïáõ Å³Ù³Ý³Ï³Ñ³ïí³ÍÇ ëÏ½µáõÙ Ý³Ëáñ¹ Ñ³ßí»ïáõ Å³Ù³Ý³Ï³Ñ³ïí³ÍÇó ÷áË³Ýóí³Í ·áñÍ»ñÇ ÁÝ¹Ñ³Ýáõñ ÃÇíÁ | E3: Ð³ßí»ïáõ Å³Ù³Ý³Ï³Ñ³ïí³ÍáõÙ ëï³óí³Í ·áñÍ»ñÇ ÁÝ¹Ñ³Ýáõñ ÃÇíÁ | F3: öáË³Ýóí»É ¿ ³ÛÉ ¹³ï³íáñÇ Ï³Ù ³ÛÉ ¹³ï³ñ³Ý (Ï³½ÙÇ ÷á÷áËáõÃÛáõÝ, ÁÝ¹¹³ïáõÃÛáõÝ) | G3: Ð³ßí»ïáõ Å³Ù³Ý³Ï³Ñ³ïí³ÍáõÙ ³í³ñïí³Í ·áñÍ»ñÇ ÁÝ¹Ñ³Ýáõñ ÃÇíÁ | L3: Ð³ßí»ïáõ Å³Ù³Ý³Ï³Ñ³ïí³ÍáõÙ ³Ý³í³ñï ·áñÍ»ñÇ ÁÝ¹Ñ³Ýáõñ ÃÇíÁ | M3: ØÇçÝáñ¹áõÃÛáõÝÝ»ñáí Ï³Û³óí³Í ¹³ï³Ï³Ý ³Ïï»ñÇó µáÕáù³ñÏí³ÍÝ»ñÇ ù³Ý³ÏÁ | O3: ²Ý³í³ñï µáÕáùÝ»ñ | P3: ØÇçÝáñ¹áõÃÛáõÝÝ»ñáí Ï³Û³óí³Í ¨ µáÕáù³ñÏí³Í ¹³ï³Ï³Ý ³Ïï»ñÇó µ»Ï³Ýí³ÍÝ»ñÇ ù³Ý³ÏÁ | R3: ÙÇçÝáñ¹áõÃÛáõÝÝ»ñáí Ï³Û³óí³Í ¨ µáÕáù³ñÏí³Í ¹³ï³Ï³Ý ³Ïï»ñÇó ³Ý÷á÷áË ÃáÕÝí³ÍÝ»ñÇ ù³Ý³ÏÁ
G4: Ù»ñÅí»É ¿ | H4: µ³í³ñ³ñí»É ¿ | I4: µ³í³ñ³ñí»É ¿ Ù³ëÝ³ÏÇ | J4: ÃáÕÝí»É ¿ ³é³Ýó ùÝÝáõÃÛ³Ý | K4: ÀÝ¹³Ù»ÝÁ
M5: Ý³Ëáñ¹ ï³ñÇÝ»ñÇÝ Ï³Û³óí³Í ³Ïï»ñÇ ¹»Ù | N5: Ñ³ßí»ïáõ Å³Ù³Ý³Ï³ßñç³ÝáõÙ Ï³Û³óí³Í ³Ïï»ñÇ ¹»Ù | P5: Ý³Ëáñ¹ ï³ñÇÝ»ñÇÝ Ï³Û³óí³Í ³Ïï»ñÇ µ»Ï³ÝáõÙÝ»ñÁ | Q5: Ñ³ßí»ïáõ Å³Ù³Ý³Ï³ßñç³ÝáõÙ Ï³Û³óí³Í ³Ïï»ñÇ µ»Ï³ÝáõÙÝ»ñÁ
A6: 1. ØÇÝã¹³ï³Ï³Ý í³ñáõÛÃÇ ÝÏ³ïÙ³Ùµ ¹³ï³Ï³Ý í»ñ³ÑëÏáÕáõÃÛ³Ý áÉáñï | D6: 1 | E6: 2 | F6: 3 | G6: 4 | H6: 5 | I6: 6 | J6: 7 | K6: 8 | L6: 9 | M6: 10 | N6: 11 | O6: 12 | P6: 13 | Q6: 14 | R6: 15 | T6: 1+2=3+8+9 | V6: 8=4+5+6+7
A7: 1 | B7: Ï³É³ÝùÁ áñå»ë Ë³÷³ÝÙ³Ý ÙÇçáó ÏÇñ³é»Éáõ Ù³ëÇÝ ÙÇçÝáñ¹áõÃÛáõÝÝ»ñ | T7: =D7+E7 -> 0 | U7: =F7+K7+L7 -> 0 | V7: =K7 -> 0 | W7: =G7+H7+I7+J7 -> 0
A8: 2 | B8: Ï³É³ÝùÇ Å³ÙÏ»ïÁ »ñÏ³ñ³óÝ»Éáõ Ù³ëÇÝ ÙÇçÝáñ¹áõÃÛáõÝÝ»ñ | T8: =D8+E8 -> 0 | U8: =F8+K8+L8 -> 0 | V8: =K8 -> 0 | W8: =G8+H8+I8+J8 -> 0
A9: 3 | B9: Ï³É³ÝùÇ í»ñ³Ñ³ëï³ïÙ³Ý Ù³ëÇÝ ÙÇçÝáñ¹áõÃÛáõÝÝ»ñ | T9: =D9+E9 -> 0 | U9: =F9+K9+L9 -> 0 | V9: =K9 -> 0 | W9: =G9+H9+I9+J9 -> 0
A10: 4 | B10: ·ñ³íÁ áñå»ë Ï³É³Ý³íáñÙ³Ý ³ÛÉÁÝïñ³Ýù³ÛÇÝ Ë³÷³ÝÙ³Ý ÙÇçáó ÏÇñ³é»Éáõ Ù³ëÇÝ ÙÇçÝáñ¹áõÃÛáõÝÝ»ñ | T10: =D10+E10 -> 0 | U10: =F10+K10+L10 -> 0 | V10: =K10 -> 0 | W10: =G10+H10+I10+J10 -> 0
A11: 5 | B11: Ëáõ½³ñÏáõÃÛ³Ý Ï³ï³ñÙ³Ý Ù³ëÇÝ ÙÇçÝáñ¹áõÃÛáõÝÝ»ñ | E11: 27 | H11: 27 | K11: 27 | T11: =D11+E11 -> 27 | U11: =F11+K11+L11 -> 27 | V11: =K11 -> 27 | W11: =G11+H11+I11+J11 -> 27
A12: 6 | B12: µ³ÝÏ³ÛÇÝ, ³å³Ñáí³·ñ³Ï³Ý, Ýáï³ñ³Ï³Ý ·³ÕïÝÇù Ï³½ÙáÕ ï»Õ»ÏáõÃÛáõÝÝ»ñÇ ëï³óÙ³Ý Ñ³Ù³ñ Ëáõ½³ñÏáõÃÛ³Ý Ï³Ù ³é·ñ³íÙ³Ý Ï³ï³ñÙ³Ý Ù³ëÇÝ ÙÇçÝáñ¹áõÃÛáõÝÝ»ñ | T12: =D12+E12 -> 0 | U12: =F12+K12+L12 -> 0 | V12: =K12 -> 0 | W12: =G12+H12+I12+J12 -> 0
A13: 7 | B13: Ý³Ù³Ï³·ñáõÃÛ³Ý, Ñ»é³·ñ³Ï³Ý, ÷áuï³ÛÇÝ Ñ³Õáñ¹áõÙÝ»ñÇ ÑëÏáÕáõÃÛ³Ý Ù³ëÇÝ ÙÇçÝáñ¹áõÃÛáõÝÝ»ñ | T13: =D13+E13 -> 0 | U13: =F13+K13+L13 -> 0 | V13: =K13 -> 0 | W13: =G13+H13+I13+J13 -> 0
A14: 8 | B14: Ñ»é³Ëáu³ÛÇÝ Ï³Ù Ï³åÇ ³ÛÉ ÙÇçáóÝ»ñáí ï³ñíáÕ Ëáu³ÏóáõÃÛáõÝÝ»ñÇ ÉuÙ³Ý ¨ Ó³ÛÝ³·ñ³éÙ³Ý Ù³ëÇÝ ÙÇçÝáñ¹áõÃÛáõÝÝ»ñ | T14: =D14+E14 -> 0 | U14: =F14+K14+L14 -> 0 | V14: =K14 -> 0 | W14: =G14+H14+I14+J14 -> 0
A15: 9 | B15: Ñ»é³ËáëÝ»ñÇ Ùáõïù³ÛÇÝ ¨ »Éù³ÛÇÝ í»ñÍ³ÝÙ³Ý ÃáõÛÉïíáõÃÛáõÝ ëï³Ý³Éáõ Ù³ëÇÝ ÙÇçÝáñ¹áõÃÛáõÝÝ»ñ | E15: 20 | F15: 2 | H15: 18 | K15: 18 | T15: =D15+E15 -> 20 | U15: =F15+K15+L15 -> 20 | V15: =K15 -> 18 | W15: =G15+H15+I15+J15 -> 18
A16: 10 | B16: Ñ»ï³ùÝÝáõÃÛ³Ý Ù³ñÙÝÇ ³ßË³ïáÕÇ, ùÝÝÇãÇ, ¹³ï³Ë³½Ç oå»ñ³ïÇí-Ñ»ï³Ëáõ½³Ï³Ý ·áñÍáÕáõÃÛáõÝÝ»ñ Çñ³Ï³Ý³óÝáÕ Ù³ñÙÇÝÝ»ñÇ ³ÝoñÇÝ³Ï³Ý ¨ ³ÝÑÇÙÝ áñáßáõÙÝ»ñÇ ¨ ·áñÍáÕáõÃÛáõÝÝ»ñÇ ¹»Ù µáÕáùÝ»ñ | T16: =D16+E16 -> 0 | U16: =F16+K16+L16 -> 0 | V16: =K16 -> 0 | W16: =G16+H16+I16+J16 -> 0
A17: 2. ¸³ï³Ï³Ý ³Ïï»ñÇ ¨ ¹³ï³Ï³Ý Ñ³ÝÓÝ³ñ³ñáõÃÛáõÝÝ»ñÇ Ï³ï³ñÙ³Ý Ñ»ï Ï³åí³Í Ñ³ñó»ñÇ ÉáõÍÙ³Ý áÉáñï
A18: 1 | B18: å³ïÅÇó å³ÛÙ³Ý³Ï³Ý í³Õ³Å³ÙÏ»ï ³½³ï»Éáõ Ù³ëÇÝ ÙÇçÝáñ¹áõÃÛáõÝÝ»ñ | T18: =D18+E18 -> 0 | U18: =F18+K18+L18 -> 0 | V18: =K18 -> 0 | W18: =G18+H18+I18+J18 -> 0
A19: 2 | B19: å³ïÇÅÁ ÷á÷áË»Éáõ, Ñ»ï³Ó·»Éáõ ¨ å³ïÅÇó ³½³ï»Éáõ Ù³uÇÝ ÙÇçÝáñ¹áõÃÛáõÝÝ»ñ | T19: =D19+E19 -> 0 | U19: =F19+K19+L19 -> 0 | V19: =K19 -> 0 | W19: =G19+H19+I19+J19 -> 0
A20: 3 | B20: Ñ³ñÏ³¹Çñ µáõÅÙ³Ý ï»ë³ÏÇ ÷á÷áËáõÃÛ³Ý Ù³ëÇÝ ÙÇçÝáñ¹áõÃÛáõÝÝ»ñ | T20: =D20+E20 -> 0 | U20: =F20+K20+L20 -> 0 | V20: =K20 -> 0 | W20: =G20+H20+I20+J20 -> 0
A21: 4 | B21: ³ÛÉ ÙÇçÝáñ¹áõÃÛáõÝÝ»ñ | T21: =D21+E21 -> 0 | U21: =F21+K21+L21 -> 0 | V21: =K21 -> 0 | W21: =G21+H21+I21+J21 -> 0
A22: 5 | B22: ¹³ï³Ï³Ý Ñ³ÝÓÝ³ñ³ñáõÃÛáõÝÝ»ñ | E22: 1 | T22: =D22+E22 -> 1 | U22: =F22+K22+L22 -> 0 | V22: =K22 -> 0 | W22: =G22+H22+I22+J22 -> 0
A23: ÀÜ¸²ØºÜÀ | D23: =D7+D8+D9+D10+D11+D12+D13+D14+D15+D16+D18+D19+D20+D21+D22 -> 0 | E23: =E7+E8+E9+E10+E11+E12+E13+E14+E15+E16+E18+E19+E20+E21+E22 -> 48 | F23: =F7+F8+F9+F10+F11+F12+F13+F14+F15+F16+F18+F19+F20+F21+F22 -> 2 | G23: =G7+G8+G9+G10+G11+G12+G13+G14+G15+G16+G18+G19+G20+G21+G22 -> 0 | H23: =H7+H8+H9+H10+H11+H12+H13+H14+H15+H16+H18+H19+H20+H21+H22 -> 45 | I23: =I7+I8+I9+I10+I11+I12+I13+I14+I15+I16+I18+I19+I20+I21+I22 -> 0 | J23: =J7+J8+J9+J10+J11+J12+J13+J14+J15+J16+J18+J19+J20+J21+J22 -> 0 | K23: =K7+K8+K9+K10+K11+K12+K13+K14+K15+K16+K18+K19+K20+K21+K22 -> 45 | ... R23: =R7+R8+R9+R10+R11+R12+R13+R14+R15+R16+R18+R19+R20+R21+R22 -> 0 | T23: =D23+E23 -> 48 | U23: =F23+K23+L23 -> 47 | V23: =K23 -> 45 | W23: =G23+H23+I23+J23 -> 45
C26: դատական հանձնարարությունների մեջ 1 գործ հետ է վերադարձվել,

Sheet Ա. Բադիրյան
A1: 2015Ã. | D1: Ð²ÞìºîìàôÂÚàôÜ | P1: Ð³í»Éí³Í Ð³Û³ëï³ÝÇ Ð³Ýñ³å»ïáõÃÛ³Ý ¸³ï³ñ³ÝÝ»ñÇ Ý³Ë³·³ÑÝ»ñÇ ËáñÑñ¹Ç 01.02.2016Ã. ÃÇí 11È áñáßÙ³Ý
A2: ØÇÝã¹³ï³Ï³Ý í³ñáõÛÃÇ ÝÏ³ïÙ³Ùµ ¹³ï³Ï³Ý í»ñ³ÑëÏáÕáõÃÛ³ÝÁ, ¹³ï³Ï³Ý ³Ïï»ñÇ ¨ ¹³ï³Ï³Ý Ñ³ÝÓÝ³ñ³ñáõÃÛáõÝÝ»ñÇ Ï³ï³ñÙ³Ý Ñ»ï Ï³åí³Í ÙÇçÝáñ¹áõÃÛáõÝÝ»ñÇ í»ñ³µ»ñÛ³É ¹³ï³Ï³Ý ·áñÍ»ñáí ºñ¨³Ý ù³Õ³ùÇ ²í³Ý ¨ Üáñ Üáñù í³ñã³Ï³Ý ßñç³ÝÝ»ñÇ ÁÝ¹Ñ³Ýáõñ Çñ³í³ëáõÃÛ³Ý ³é³çÇÝ ³ïÛ³ÝÇ ¹³ï³ñ³ÝÇ ¹³ï³íáñ Ա.Բադիրյանի ·áñÍáõÝ»áõÃÛ³Ý í»ñ³µ»ñÛ³É
A3: êïáõ·Çã Ñ³í³ë³ñáõÙ` 1+2=3+8+9, 8=4+5+6+7, | D3: Ð³ßí»ïáõ Å³Ù³Ý³Ï³Ñ³ïí³ÍÇ ëÏ½µáõÙ Ý³Ëáñ¹ Ñ³ßí»ïáõ Å³Ù³Ý³Ï³Ñ³ïí³ÍÇó ÷áË³Ýóí³Í ·áñÍ»ñÇ ÁÝ¹Ñ³Ýáõñ ÃÇíÁ | E3: Ð³ßí»ïáõ Å³Ù³Ý³Ï³Ñ³ïí³ÍáõÙ ëï³óí³Í ·áñÍ»ñÇ ÁÝ¹Ñ³Ýáõñ ÃÇíÁ | F3: öáË³Ýóí»É ¿ ³ÛÉ ¹³ï³íáñÇ Ï³Ù ³ÛÉ ¹³ï³ñ³Ý (Ï³½ÙÇ ÷á÷áËáõÃÛáõÝ, ÁÝ¹¹³ïáõÃÛáõÝ) | G3: Ð³ßí»ïáõ Å³Ù³Ý³Ï³Ñ³ïí³ÍáõÙ ³í³ñïí³Í ·áñÍ»ñÇ ÁÝ¹Ñ³Ýáõñ ÃÇíÁ | L3: Ð³ßí»ïáõ Å³Ù³Ý³Ï³Ñ³ïí³ÍáõÙ ³Ý³í³ñï ·áñÍ»ñÇ ÁÝ¹Ñ³Ýáõñ ÃÇíÁ | M3: ØÇçÝáñ¹áõÃÛáõÝÝ»ñáí Ï³Û³óí³Í ¹³ï³Ï³Ý ³Ïï»ñÇó µáÕáù³ñÏí³ÍÝ»ñÇ ù³Ý³ÏÁ | O3: ²Ý³í³ñï µáÕáùÝ»ñ | P3: ØÇçÝáñ¹áõÃÛáõÝÝ»ñáí Ï³Û³óí³Í ¨ µáÕáù³ñÏí³Í ¹³ï³Ï³Ý ³Ïï»ñÇó µ»Ï³Ýí³ÍÝ»ñÇ ù³Ý³ÏÁ | R3: ÙÇçÝáñ¹áõÃÛáõÝÝ»ñáí Ï³Û³óí³Í ¨ µáÕáù³ñÏí³Í ¹³ï³Ï³Ý ³Ïï»ñÇó ³Ý÷á÷áË ÃáÕÝí³ÍÝ»ñÇ ù³Ý³ÏÁ
G4: Ù»ñÅí»É ¿ | H4: µ³í³ñ³ñí»É ¿ | I4: µ³í³ñ³ñí»É ¿ Ù³ëÝ³ÏÇ | J4: ÃáÕÝí»É ¿ ³é³Ýó ùÝÝáõÃÛ³Ý | K4: ÀÝ¹³Ù»ÝÁ
M5: Ý³Ëáñ¹ ï³ñÇÝ»ñÇÝ Ï³Û³óí³Í ³Ïï»ñÇ ¹»Ù | N5: Ñ³ßí»ïáõ Å³Ù³Ý³Ï³ßñç³ÝáõÙ Ï³Û³óí³Í ³Ïï»ñÇ ¹»Ù | P5: Ý³Ëáñ¹ ï³ñÇÝ»ñÇÝ Ï³Û³óí³Í ³Ïï»ñÇ µ»Ï³ÝáõÙÝ»ñÁ | Q5: Ñ³ßí»ïáõ Å³Ù³Ý³Ï³ßñç³ÝáõÙ Ï³Û³óí³Í ³Ïï»ñÇ µ»Ï³ÝáõÙÝ»ñÁ
A6: 1. ØÇÝã¹³ï³Ï³Ý í³ñáõÛÃÇ ÝÏ³ïÙ³Ùµ ¹³ï³Ï³Ý í»ñ³ÑëÏáÕáõÃÛ³Ý áÉáñï | D6: 1 | E6: 2 | F6: 3 | G6: 4 | H6: 5 | I6: 6 | J6: 7 | K6: 8 | L6: 9 | M6: 10 | N6: 11 | O6: 12 | P6: 13 | Q6: 14 | R6: 15 | T6: 1+2=3+8+9 | V6: 8=4+5+6+7
A7: 1 | B7: Ï³É³ÝùÁ áñå»ë Ë³÷³ÝÙ³Ý ÙÇçáó ÏÇñ³é»Éáõ Ù³ëÇÝ ÙÇçÝáñ¹áõÃÛáõÝÝ»ñ | T7: =D7+E7 -> 0 | U7: =F7+K7+L7 -> 0 | V7: =K7 -> 0 | W7: =G7+H7+I7+J7 -> 0
A8: 2 | B8: Ï³É³ÝùÇ Å³ÙÏ»ïÁ »ñÏ³ñ³óÝ»Éáõ Ù³ëÇÝ ÙÇçÝáñ¹áõÃÛáõÝÝ»ñ | T8: =D8+E8 -> 0 | U8: =F8+K8+L8 -> 0 | V8: =K8 -> 0 | W8: =G8+H8+I8+J8 -> 0
A9: 3 | B9: Ï³É³ÝùÇ í»ñ³Ñ³ëï³ïÙ³Ý Ù³ëÇÝ ÙÇçÝáñ¹áõÃÛáõÝÝ»ñ | T9: =D9+E9 -> 0 | U9: =F9+K9+L9 -> 0 | V9: =K9 -> 0 | W9: =G9+H9+I9+J9 -> 0
A10: 4 | B10: ·ñ³íÁ áñå»ë Ï³É³Ý³íáñÙ³Ý ³ÛÉÁÝïñ³Ýù³ÛÇÝ Ë³÷³ÝÙ³Ý ÙÇçáó ÏÇñ³é»Éáõ Ù³ëÇÝ ÙÇçÝáñ¹áõÃÛáõÝÝ»ñ | T10: =D10+E10 -> 0 | U10: =F10+K10+L10 -> 0 | V10: =K10 -> 0 | W10: =G10+H10+I10+J10 -> 0
A11: 5 | B11: Ëáõ½³ñÏáõÃÛ³Ý Ï³ï³ñÙ³Ý Ù³ëÇÝ ÙÇçÝáñ¹áõÃÛáõÝÝ»ñ | E11: 19 | G11: 1 | H11: 18 | K11: 19 | R11: 1 | T11: =D11+E11 -> 19 | U11: =F11+K11+L11 -> 19 | V11: =K11 -> 19 | W11: =G11+H11+I11+J11 -> 19
A12: 6 | B12: µ³ÝÏ³ÛÇÝ, ³å³Ñáí³·ñ³Ï³Ý, Ýáï³ñ³Ï³Ý ·³ÕïÝÇù Ï³½ÙáÕ ï»Õ»ÏáõÃÛáõÝÝ»ñÇ ëï³óÙ³Ý Ñ³Ù³ñ Ëáõ½³ñÏáõÃÛ³Ý Ï³Ù ³é·ñ³íÙ³Ý Ï³ï³ñÙ³Ý Ù³ëÇÝ ÙÇçÝáñ¹áõÃÛáõÝÝ»ñ | E12: 1 | H12: 1 | K12: 1 | T12: =D12+E12 -> 1 | U12: =F12+K12+L12 -> 1 | V12: =K12 -> 1 | W12: =G12+H12+I12+J12 -> 1
A13: 7 | B13: Ý³Ù³Ï³·ñáõÃÛ³Ý, Ñ»é³·ñ³Ï³Ý, ÷áuï³ÛÇÝ Ñ³Õáñ¹áõÙÝ»ñÇ ÑëÏáÕáõÃÛ³Ý Ù³ëÇÝ ÙÇçÝáñ¹áõÃÛáõÝÝ»ñ | T13: =D13+E13 -> 0 | U13: =F13+K13+L13 -> 0 | V13: =K13 -> 0 | W13: =G13+H13+I13+J13 -> 0
A14: 8 | B14: Ñ»é³Ëáu³ÛÇÝ Ï³Ù Ï³åÇ ³ÛÉ ÙÇçáóÝ»ñáí ï³ñíáÕ Ëáu³ÏóáõÃÛáõÝÝ»ñÇ ÉuÙ³Ý ¨ Ó³ÛÝ³·ñ³éÙ³Ý Ù³ëÇÝ ÙÇçÝáñ¹áõÃÛáõÝÝ»ñ | T14: =D14+E14 -> 0 | U14: =F14+K14+L14 -> 0 | V14: =K14 -> 0 | W14: =G14+H14+I14+J14 -> 0
A15: 9 | B15: Ñ»é³ËáëÝ»ñÇ Ùáõïù³ÛÇÝ ¨ »Éù³ÛÇÝ í»ñÍ³ÝÙ³Ý ÃáõÛÉïíáõÃÛáõÝ ëï³Ý³Éáõ Ù³ëÇÝ ÙÇçÝáñ¹áõÃÛáõÝÝ»ñ | E15: 16 | G15: 3 | H15: 13 | K15: 16 | N15: 1 | R15: 1 | T15: =D15+E15 -> 16 | U15: =F15+K15+L15 -> 16 | V15: =K15 -> 16 | W15: =G15+H15+I15+J15 -> 16
A16: 10 | B16: Ñ»ï³ùÝÝáõÃÛ³Ý Ù³ñÙÝÇ ³ßË³ïáÕÇ, ùÝÝÇãÇ, ¹³ï³Ë³½Ç oå»ñ³ïÇí-Ñ»ï³Ëáõ½³Ï³Ý ·áñÍáÕáõÃÛáõÝÝ»ñ Çñ³Ï³Ý³óÝáÕ Ù³ñÙÇÝÝ»ñÇ ³ÝoñÇÝ³Ï³Ý ¨ ³ÝÑÇÙÝ áñáßáõÙÝ»ñÇ ¨ ·áñÍáÕáõÃÛáõÝÝ»ñÇ ¹»Ù µáÕáùÝ»ñ | T16: =D16+E16 -> 0 | U16: =F16+K16+L16 -> 0 | V16: =K16 -> 0 | W16: =G16+H16+I16+J16 -> 0
A17: 2. ¸³ï³Ï³Ý ³Ïï»ñÇ ¨ ¹³ï³Ï³Ý Ñ³ÝÓÝ³ñ³ñáõÃÛáõÝÝ»ñÇ Ï³ï³ñÙ³Ý Ñ»ï Ï³åí³Í Ñ³ñó»ñÇ ÉáõÍÙ³Ý áÉáñï
A18: 1 | B18: å³ïÅÇó å³ÛÙ³Ý³Ï³Ý í³Õ³Å³ÙÏ»ï ³½³ï»Éáõ Ù³ëÇÝ ÙÇçÝáñ¹áõÃÛáõÝÝ»ñ | T18: =D18+E18 -> 0 | U18: =F18+K18+L18 -> 0 | V18: =K18 -> 0 | W18: =G18+H18+I18+J18 -> 0
A19: 2 | B19: å³ïÇÅÁ ÷á÷áË»Éáõ, Ñ»ï³Ó·»Éáõ ¨ å³ïÅÇó ³½³ï»Éáõ Ù³uÇÝ ÙÇçÝáñ¹áõÃÛáõÝÝ»ñ | T19: =D19+E19 -> 0 | U19: =F19+K19+L19 -> 0 | V19: =K19 -> 0 | W19: =G19+H19+I19+J19 -> 0
A20: 3 | B20: Ñ³ñÏ³¹Çñ µáõÅÙ³Ý ï»ë³ÏÇ ÷á÷áËáõÃÛ³Ý Ù³ëÇÝ ÙÇçÝáñ¹áõÃÛáõÝÝ»ñ | T20: =D20+E20 -> 0 | U20: =F20+K20+L20 -> 0 | V20: =K20 -> 0 | W20: =G20+H20+I20+J20 -> 0
A21: 4 | B21: ³ÛÉ ÙÇçÝáñ¹áõÃÛáõÝÝ»ñ | T21: =D21+E21 -> 0 | U21: =F21+K21+L21 -> 0 | V21: =K21 -> 0 | W21: =G21+H21+I21+J21 -> 0
A22: 5 | B22: ¹³ï³Ï³Ý Ñ³ÝÓÝ³ñ³ñáõÃÛáõÝÝ»ñ | D22: 3 | E22: 3 | H22: 1 | I22: 1 | K22: 2 | L22: 1 | T22: =D22+E22 -> 6 | U22: =F22+K22+L22 -> 3 | V22: =K22 -> 2 | W22: =G22+H22+I22+J22 -> 2
A23: ÀÜ¸²ØºÜÀ | D23: =D7+D8+D9+D10+D11+D12+D13+D14+D15+D16+D18+D19+D20+D21+D22 -> 3 | E23: =E7+E8+E9+E10+E11+E12+E13+E14+E15+E16+E18+E19+E20+E21+E22 -> 39 | F23: =F7+F8+F9+F10+F11+F12+F13+F14+F15+F16+F18+F19+F20+F21+F22 -> 0 | G23: =G7+G8+G9+G10+G11+G12+G13+G14+G15+G16+G18+G19+G20+G21+G22 -> 4 | H23: =H7+H8+H9+H10+H11+H12+H13+H14+H15+H16+H18+H19+H20+H21+H22 -> 33 | I23: =I7+I8+I9+I10+I11+I12+I13+I14+I15+I16+I18+I19+I20+I21+I22 -> 1 | J23: =J7+J8+J9+J10+J11+J12+J13+J14+J15+J16+J18+J19+J20+J21+J22 -> 0 | K23: =K7+K8+K9+K10+K11+K12+K13+K14+K15+K16+K18+K19+K20+K21+K22 -> 38 | ... R23: =R7+R8+R9+R10+R11+R12+R13+R14+R15+R16+R18+R19+R20+R21+R22 -> 2 | T23: =D23+E23 -> 42 | U23: =F23+K23+L23 -> 39 | V23: =K23 -> 38 | W23: =G23+H23+I23+J23 -> 38
B25: դատական հանձնարարությունների մեջ 3 գործ հետ է վերադարձվել,
