Workbook

Sheet Ընդհամենը
A1: Ð²ÞìºîìàôÂÚàôÜ
A2: ²ð²¶²ÌàîÜÆ Ø²ð¼Æ ÀÜ¸Ð²Üàôð Æð²ì²êàôÂÚ²Ü ²è²æÆÜ ²îÚ²ÜÆ ¸²î²ð²ÜÆ
H3: ¶àðÌàôÜºàôÂÚ²Ü ìºð²´ºðÚ²È êÜ²ÜÎàôÂÚ²Ü ¶àðÌºðՈՎ 2015թ.
A4: ìÇ×³Ï³·ñ³Ï³Ý ïáÕÇ Ñ³Ù³ñÁ | B4: êïáõ·Çã Ñ³í³ë³ñáõÙÝ»ñ` 1+7=8+16+17, 2=3+4, 2=5+6+7, 7=9+10+11+12 | E4: ²Ý³í³ñï ·áñÍ»ñÇ ÙÝ³óáñ¹Á Ñ³ßí»ïáõ Å³Ù³Ý³Ï³ßñç³ÝÇ ëÏ½µáõÙ | F4: êï³óí³Í ¹ÇÙáõÙÝ»ñÇ (·áñÍ»ñ) ù³Ý³ÏÁ | L4: öáË³Ýóí»É ¿ ³ÛÉ ¹³ï³íáñÇ (Ï³½ÙÇ ÷á÷áËáõÃÛáõÝ) | M4: ì³ñáõÛÃ ÁÝ¹áõÝí³Í ¹ÇÙáõÙÝ»ñáí Ï³Û³óí³Í ¹³ï³Ï³Ý ³Ïï»ñ | Q4: Ü»ñÏ³Û³óí»É ¿ ýÇÝ³Ýë³Ï³Ý ³éáÕç³óÙ³Ý Íñ³·Çñ | T4: ²í³ñïí»É »Ý ·áñÍ»ñ Ñ³ßí»ïáõ Å³Ù³Ý³Ï³ßñç³ÝáõÙ | U4: ²Ý³í³ñï ·áñÍ»ñÇ ÙÝ³óáñ¹Á Ñ³ßí»ïáõ Å³Ù³Ý³Ï³ßñç³ÝÇ í»ñçáõÙ | V4: ´áÕáù³ñÏí»É »Ý í»ñ³ùÝÝÇã ¹³ï³ñ³Ý
F6: ÀÝ¹³Ù»ÝÁ | G6: ³Û¹ ÃíáõÙ Ñ³ñÏ³¹ñí³Í ëÝ³ÝÏáõÃÛáõÝ | H6: ³Û¹ ÃíáõÙ Ï³Ù³íáñ ëÝ³ÝÏáõÃÛáõÝ | I6: ëï³óí³Í ¹ÇÙáõÙÝ»ñÇ ÁÝÃ³óùÁ | M6: Ï³Û³óí»É ¿ å³ñï³å³ÝÇÝ ëÝ³ÝÏ ×³Ý³ã»Éáõ Ù³ëÇÝ í×Çé | N6: å³ñï³å³ÝÇÝ ëÝ³ÝÏ ×³Ý³ã»Éáõ ¹ÇÙáõÙÁ Ù»ñÅí»É ¿ | O6: ¹ÇÙáõÙÁ ÃáÕÝí»É ¿ ³é³Ýó ùÝÝáõÃÛ³Ý | P6: ³Ý³í³ñï (³Û¹ ÃíáõÙ Ï³ë»óí³Í) | Q6: ÀÝ¹³Ù»ÝÁ | R6: ÃáÕÝí»É ¿ ³é³Ýó ùÝÝ³ñÏÙ³Ý | S6: Ñ³ëï³ïí»É ¿
I8: ¸ÇÙáõÙÇ ÁÝ¹áõÝáõÙÁ Ù»ñÅí»É ¿ | J8: ¸ÇÙáõÙÁ í»ñ³¹³ñÓí»É ¿ | K8: ÀÝ¹áõÝí»É ¿ í³ñáõÛÃ
E18: 1 | F18: 2 | G18: 3 | H18: 4 | I18: 5 | J18: 6 | K18: 7 | L18: 8 | M18: 9 | N18: 10 | O18: 11 | P18: 12 | Q18: 13 | R18: 14 | S18: 15 | T18: 16 | U18: 17 | V18: 18 | W18: 1+7=8+16+17 | Y18: 2=3+4 | AA18: 2=5+6+7 | AC18: 7=9+10+11+12
A19: 1 | B19: Æñ³í³µ³Ý³Ï³Ý ³ÝÓÇ ëÝ³ÝÏáõÃÛ³Ý í»ñ³µ»ñÛ³É | E19: =Գ.Նարինյան!E19+Գ.Խաչատրյան!E19 -> 46 | F19: =Գ.Նարինյան!F19+Գ.Խաչատրյան!F19 -> 9 | G19: =Գ.Նարինյան!G19+Գ.Խաչատրյան!G19 -> 9 | H19: =Գ.Նարինյան!H19+Գ.Խաչատրյան!H19 -> 0 | I19: =Գ.Նարինյան!I19+Գ.Խաչատրյան!I19 -> 0 | J19: =Գ.Նարինյան!J19+Գ.Խաչատրյան!J19 -> 1 | K19: =Գ.Նարինյան!K19+Գ.Խաչատրյան!K19 -> 8 | L19: =Գ.Նարինյան!L19+Գ.Խաչատրյան!M19 -> 1 | M19: =Գ.Նարինյան!M19+Գ.Խաչատրյան!M19 -> 3 | N19: =Գ.Նարինյան!N19+Գ.Խաչատրյան!N19 -> 0 | O19: =Գ.Նարինյան!O19+Գ.Խաչատրյան!O19 -> 0 | P19: =Գ.Նարինյան!P19+Գ.Խաչատրյան!P19 -> 5 | Q19: =Գ.Նարինյան!Q19+Գ.Խաչատրյան!Q19 -> 0 | R19: =Գ.Նարինյան!R19+Գ.Խաչատրյան!R19 -> 0 | S19: =Գ.Նարինյան!S19+Գ.Խաչատրյան!S19 -> 0 | T19: =Գ.Նարինյան!T19+Գ.Խաչատրյան!T19 -> 6 | ... V19: =Գ.Նարինյան!V19+Գ.Խաչատրյան!V19 -> 3 | W19: =E19+K19 -> 54 | X19: =L19+T19+U19 -> 55 | Y19: =F19 -> 9 | Z19: =G19+H19 -> 9 | AA19: =F19 -> 9 | AB19: =I19+J19+K19 -> 9 | AC19: =K19 -> 8 | AD19: =M19+N19+O19+P19 -> 8
A20: 2 | B20: ²ÝÑ³ï Ó»éÝ»ñ»óÇ ëÝ³ÝÏáõÃÛ³Ý í»ñ³µ»ñÛ³É | E20: =Գ.Նարինյան!E20+Գ.Խաչատրյան!E20 -> 10 | F20: =Գ.Նարինյան!F20+Գ.Խաչատրյան!F20 -> 0 | G20: =Գ.Նարինյան!G20+Գ.Խաչատրյան!G20 -> 0 | H20: =Գ.Նարինյան!H20+Գ.Խաչատրյան!H20 -> 0 | I20: =Գ.Նարինյան!I20+Գ.Խաչատրյան!I20 -> 0 | J20: =Գ.Նարինյան!J20+Գ.Խաչատրյան!J20 -> 0 | K20: =Գ.Նարինյան!K20+Գ.Խաչատրյան!K20 -> 0 | L20: =Գ.Նարինյան!L20+Գ.Խաչատրյան!M20 -> 0 | M20: =Գ.Նարինյան!M20+Գ.Խաչատրյան!M20 -> 0 | N20: =Գ.Նարինյան!N20+Գ.Խաչատրյան!N20 -> 0 | O20: =Գ.Նարինյան!O20+Գ.Խաչատրյան!O20 -> 0 | P20: =Գ.Նարինյան!P20+Գ.Խաչատրյան!P20 -> 0 | Q20: =Գ.Նարինյան!Q20+Գ.Խաչատրյան!Q20 -> 0 | R20: =Գ.Նարինյան!R20+Գ.Խաչատրյան!R20 -> 0 | S20: =Գ.Նարինյան!S20+Գ.Խաչատրյան!S20 -> 0 | T20: =Գ.Նարինյան!T20+Գ.Խաչատրյան!T20 -> 1 | ... V20: =Գ.Նարինյան!V20+Գ.Խաչատրյան!V20 -> 0 | W20: =E20+K20 -> 10 | X20: =L20+T20+U20 -> 10 | Y20: =F20 -> 0 | Z20: =G20+H20 -> 0 | AA20: =F20 -> 0 | AB20: =I20+J20+K20 -> 0 | AC20: =K20 -> 0 | AD20: =M20+N20+O20+P20 -> 0
A21: 3 | B21: üÇ½ÇÏ³Ï³Ý ³ÝÓ³Ýó ëÝ³ÝÏáõÃÛ³Ý í»ñ³µ»ñÛ³É | E21: =Գ.Նարինյան!E21+Գ.Խաչատրյան!E21 -> 72 | F21: =Գ.Նարինյան!F21+Գ.Խաչատրյան!F21 -> 38 | G21: =Գ.Նարինյան!G21+Գ.Խաչատրյան!G21 -> 34 | H21: =Գ.Նարինյան!H21+Գ.Խաչատրյան!H21 -> 4 | I21: =Գ.Նարինյան!I21+Գ.Խաչատրյան!I21 -> 0 | J21: =Գ.Նարինյան!J21+Գ.Խաչատրյան!J21 -> 18 | K21: =Գ.Նարինյան!K21+Գ.Խաչատրյան!K21 -> 20 | L21: =Գ.Նարինյան!L21+Գ.Խաչատրյան!M21 -> 4 | M21: =Գ.Նարինյան!M21+Գ.Խաչատրյան!M21 -> 11 | N21: =Գ.Նարինյան!N21+Գ.Խաչատրյան!N21 -> 3 | O21: =Գ.Նարինյան!O21+Գ.Խաչատրյան!O21 -> 0 | P21: =Գ.Նարինյան!P21+Գ.Խաչատրյան!P21 -> 6 | Q21: =Գ.Նարինյան!Q21+Գ.Խաչատրյան!Q21 -> 0 | R21: =Գ.Նարինյան!R21+Գ.Խաչատրյան!R21 -> 0 | S21: =Գ.Նարինյան!S21+Գ.Խաչատրյան!S21 -> 0 | T21: =Գ.Նարինյան!T21+Գ.Խաչատրյան!T21 -> 16 | ... V21: =Գ.Նարինյան!V21+Գ.Խաչատրյան!V21 -> 4 | W21: =E21+K21 -> 92 | X21: =L21+T21+U21 -> 96 | Y21: =F21 -> 38 | Z21: =G21+H21 -> 38 | AA21: =F21 -> 38 | AB21: =I21+J21+K21 -> 38 | AC21: =K21 -> 20 | AD21: =M21+N21+O21+P21 -> 20
A22: 4 | B22: ԸՆԴՀԱՄԵՆԸ | E22: =Գ.Նարինյան!E22+Գ.Խաչատրյան!E22 -> 128 | F22: =Գ.Նարինյան!F22+Գ.Խաչատրյան!F22 -> 47 | G22: =Գ.Նարինյան!G22+Գ.Խաչատրյան!G22 -> 43 | H22: =Գ.Նարինյան!H22+Գ.Խաչատրյան!H22 -> 4 | I22: =Գ.Նարինյան!I22+Գ.Խաչատրյան!I22 -> 0 | J22: =Գ.Նարինյան!J22+Գ.Խաչատրյան!J22 -> 19 | K22: =Գ.Նարինյան!K22+Գ.Խաչատրյան!K22 -> 28 | L22: =Գ.Նարինյան!L22+Գ.Խաչատրյան!M22 -> 5 | M22: =Գ.Նարինյան!M22+Գ.Խաչատրյան!M22 -> 14 | N22: =Գ.Նարինյան!N22+Գ.Խաչատրյան!N22 -> 3 | O22: =Գ.Նարինյան!O22+Գ.Խաչատրյան!O22 -> 0 | P22: =Գ.Նարինյան!P22+Գ.Խաչատրյան!P22 -> 11 | Q22: =Գ.Նարինյան!Q22+Գ.Խաչատրյան!Q22 -> 0 | R22: =Գ.Նարինյան!R22+Գ.Խաչատրյան!R22 -> 0 | S22: =Գ.Նարինյան!S22+Գ.Խաչատրյան!S22 -> 0 | T22: =Գ.Նարինյան!T22+Գ.Խաչատրյան!T22 -> 23 | ... V22: =Գ.Նարինյան!V22+Գ.Խաչատրյան!V22 -> 7 | W22: =E22+K22 -> 156 | X22: =L22+T22+U22 -> 161 | Y22: =F22 -> 47 | Z22: =G22+H22 -> 47 | AA22: =F22 -> 47 | AB22: =I22+J22+K22 -> 47 | AC22: =K22 -> 28 | AD22: =M22+N22+O22+P22 -> 28

Sheet Գ.Նարինյան
A1: Ð²ÞìºîìàôÂÚàôÜ
A2: ²ð²¶²ÌàîÜÆ Ø²ð¼Æ ÀÜ¸Ð²Üàôð Æð²ì²êàôÂÚ²Ü ²è²æÆÜ ²îÚ²ÜÆ ¸²î²ð²ÜÆ ¸²î²ìàð
A3: ¶. Ü²ðÆÜÚ²ÜÆ | H3: ¶àðÌàôÜºàôÂÚ²Ü ìºð²´ºðÚ²È êÜ²ÜÎàôÂÚ²Ü ¶àðÌºðàì 2015թ.
A4: ìÇ×³Ï³·ñ³Ï³Ý ïáÕÇ Ñ³Ù³ñÁ | B4: êïáõ·Çã Ñ³í³ë³ñáõÙÝ»ñ` 1+7=8+16+17, 2=3+4, 2=5+6+7, 7=9+10+11+12 | E4: ²Ý³í³ñï ·áñÍ»ñÇ ÙÝ³óáñ¹Á Ñ³ßí»ïáõ Å³Ù³Ý³Ï³ßñç³ÝÇ ëÏ½µáõÙ | F4: êï³óí³Í ¹ÇÙáõÙÝ»ñÇ (·áñÍ»ñ) ù³Ý³ÏÁ | L4: öáË³Ýóí»É ¿ ³ÛÉ ¹³ï³íáñÇ (Ï³½ÙÇ ÷á÷áËáõÃÛáõÝ) | M4: ì³ñáõÛÃ ÁÝ¹áõÝí³Í ¹ÇÙáõÙÝ»ñáí Ï³Û³óí³Í ¹³ï³Ï³Ý ³Ïï»ñ | Q4: Ü»ñÏ³Û³óí»É ¿ ýÇÝ³Ýë³Ï³Ý ³éáÕç³óÙ³Ý Íñ³·Çñ | T4: ²í³ñïí»É »Ý ·áñÍ»ñ Ñ³ßí»ïáõ Å³Ù³Ý³Ï³ßñç³ÝáõÙ | U4: ²Ý³í³ñï ·áñÍ»ñÇ ÙÝ³óáñ¹Á Ñ³ßí»ïáõ Å³Ù³Ý³Ï³ßñç³ÝÇ í»ñçáõÙ | V4: ´áÕáù³ñÏí»É »Ý í»ñ³ùÝÝÇã ¹³ï³ñ³Ý
F6: ÀÝ¹³Ù»ÝÁ | G6: ³Û¹ ÃíáõÙ Ñ³ñÏ³¹ñí³Í ëÝ³ÝÏáõÃÛáõÝ | H6: ³Û¹ ÃíáõÙ Ï³Ù³íáñ ëÝ³ÝÏáõÃÛáõÝ | I6: ëï³óí³Í ¹ÇÙáõÙÝ»ñÇ ÁÝÃ³óùÁ | M6: Ï³Û³óí»É ¿ å³ñï³å³ÝÇÝ ëÝ³ÝÏ ×³Ý³ã»Éáõ Ù³ëÇÝ í×Çé | N6: å³ñï³å³ÝÇÝ ëÝ³ÝÏ ×³Ý³ã»Éáõ ¹ÇÙáõÙÁ Ù»ñÅí»É ¿ | O6: ¹ÇÙáõÙÁ ÃáÕÝí»É ¿ ³é³Ýó ùÝÝáõÃÛ³Ý | P6: ³Ý³í³ñï (³Û¹ ÃíáõÙ Ï³ë»óí³Í) | Q6: ÀÝ¹³Ù»ÝÁ | R6: ÃáÕÝí»É ¿ ³é³Ýó ùÝÝ³ñÏÙ³Ý | S6: Ñ³ëï³ïí»É ¿
I8: ¸ÇÙáõÙÇ ÁÝ¹áõÝáõÙÁ Ù»ñÅí»É ¿ | J8: ¸ÇÙáõÙÁ í»ñ³¹³ñÓí»É ¿ | K8: ÀÝ¹áõÝí»É ¿ í³ñáõÛÃ
E18: 1 | F18: 2 | G18: 3 | H18: 4 | I18: 5 | J18: 6 | K18: 7 | L18: 8 | M18: 9 | N18: 10 | O18: 11 | P18: 12 | Q18: 13 | R18: 14 | S18: 15 | T18: 16 | U18: 17 | V18: 18 | W18: 1+7=8+16+17 | Y18: 2=3+4 | AA18: 2=5+6+7 | AC18: 7=9+10+11+12
A19: 1 | B19: Æñ³í³µ³Ý³Ï³Ý ³ÝÓÇ ëÝ³ÝÏáõÃÛ³Ý í»ñ³µ»ñÛ³É | E19: 4 | F19: 5 | G19: 5 | J19: 1 | K19: 4 | M19: 2 | P19: 2 | T19: 1 | U19: 7 | W19: =E19+K19 -> 8 | X19: =L19+T19+U19 -> 8 | Y19: =F19 -> 5 | Z19: =G19+H19 -> 5 | AA19: =F19 -> 5 | AB19: =I19+J19+K19 -> 5 | AC19: =K19 -> 4 | AD19: =M19+N19+O19+P19 -> 4
A20: 2 | B20: ²ÝÑ³ï Ó»éÝ»ñ»óÇ ëÝ³ÝÏáõÃÛ³Ý í»ñ³µ»ñÛ³É | W20: =E20+K20 -> 0 | X20: =L20+T20+U20 -> 0 | Y20: =F20 -> 0 | Z20: =G20+H20 -> 0 | AA20: =F20 -> 0 | AB20: =I20+J20+K20 -> 0 | AC20: =K20 -> 0 | AD20: =M20+N20+O20+P20 -> 0
A21: 3 | B21: üÇ½ÇÏ³Ï³Ý ³ÝÓ³Ýó ëÝ³ÝÏáõÃÛ³Ý í»ñ³µ»ñÛ³É | E21: 8 | F21: 19 | G21: 16 | H21: 3 | J21: 9 | K21: 10 | M21: 7 | N21: 1 | P21: 2 | T21: 5 | U21: 13 | V21: 2 | W21: =E21+K21 -> 18 | X21: =L21+T21+U21 -> 18 | Y21: =F21 -> 19 | Z21: =G21+H21 -> 19 | AA21: =F21 -> 19 | AB21: =I21+J21+K21 -> 19 | AC21: =K21 -> 10 | AD21: =M21+N21+O21+P21 -> 10
A22: 4 | B22: ԸՆԴՀԱՄԵՆԸ | E22: 12 | F22: 24 | G22: 21 | H22: 3 | J22: 10 | K22: 14 | M22: 9 | N22: 1 | P22: 4 | T22: 6 | U22: 20 | V22: 2 | W22: =E22+K22 -> 26 | X22: =L22+T22+U22 -> 26 | Y22: =F22 -> 24 | Z22: =G22+H22 -> 24 | AA22: =F22 -> 24 | AB22: =I22+J22+K22 -> 24 | AC22: =K22 -> 14 | AD22: =M22+N22+O22+P22 -> 14

Sheet Գ.Խաչատրյան
A1: Ð²ÞìºîìàôÂÚàôÜ
A2: ²ð²¶²ÌàîÜÆ Ø²ð¼Æ ÀÜ¸Ð²Üàôð Æð²ì²êàôÂÚ²Ü ²è²æÆÜ ²îÚ²ÜÆ ¸²î²ð²ÜÆ ¸²î²ìàð
A3: ¶. Ê²â²îðÚ²ÜÆ | H3: ¶àðÌàôÜºàôÂÚ²Ü ìºð²´ºðÚ²È êÜ²ÜÎàôÂÚ²Ü ¶àðÌºðՈՎ 2015թ.
A4: ìÇ×³Ï³·ñ³Ï³Ý ïáÕÇ Ñ³Ù³ñÁ | B4: êïáõ·Çã Ñ³í³ë³ñáõÙÝ»ñ` 1+7=8+16+17, 2=3+4, 2=5+6+7, 7=9+10+11+12 | E4: ²Ý³í³ñï ·áñÍ»ñÇ ÙÝ³óáñ¹Á Ñ³ßí»ïáõ Å³Ù³Ý³Ï³ßñç³ÝÇ ëÏ½µáõÙ | F4: êï³óí³Í ¹ÇÙáõÙÝ»ñÇ (·áñÍ»ñ) ù³Ý³ÏÁ | L4: öáË³Ýóí»É ¿ ³ÛÉ ¹³ï³íáñÇ (Ï³½ÙÇ ÷á÷áËáõÃÛáõÝ) | M4: ì³ñáõÛÃ ÁÝ¹áõÝí³Í ¹ÇÙáõÙÝ»ñáí Ï³Û³óí³Í ¹³ï³Ï³Ý ³Ïï»ñ | Q4: Ü»ñÏ³Û³óí»É ¿ ýÇÝ³Ýë³Ï³Ý ³éáÕç³óÙ³Ý Íñ³·Çñ | T4: ²í³ñïí»É »Ý ·áñÍ»ñ Ñ³ßí»ïáõ Å³Ù³Ý³Ï³ßñç³ÝáõÙ | U4: ²Ý³í³ñï ·áñÍ»ñÇ ÙÝ³óáñ¹Á Ñ³ßí»ïáõ Å³Ù³Ý³Ï³ßñç³ÝÇ í»ñçáõÙ | V4: ´áÕáù³ñÏí»É »Ý í»ñ³ùÝÝÇã ¹³ï³ñ³Ý
F6: ÀÝ¹³Ù»ÝÁ | G6: ³Û¹ ÃíáõÙ Ñ³ñÏ³¹ñí³Í ëÝ³ÝÏáõÃÛáõÝ | H6: ³Û¹ ÃíáõÙ Ï³Ù³íáñ ëÝ³ÝÏáõÃÛáõÝ | I6: ëï³óí³Í ¹ÇÙáõÙÝ»ñÇ ÁÝÃ³óùÁ | M6: Ï³Û³óí»É ¿ å³ñï³å³ÝÇÝ ëÝ³ÝÏ ×³Ý³ã»Éáõ Ù³ëÇÝ í×Çé | N6: å³ñï³å³ÝÇÝ ëÝ³ÝÏ ×³Ý³ã»Éáõ ¹ÇÙáõÙÁ Ù»ñÅí»É ¿ | O6: ¹ÇÙáõÙÁ ÃáÕÝí»É ¿ ³é³Ýó ùÝÝáõÃÛ³Ý | P6: ³Ý³í³ñï (³Û¹ ÃíáõÙ Ï³ë»óí³Í) | Q6: ÀÝ¹³Ù»ÝÁ | R6: ÃáÕÝí»É ¿ ³é³Ýó ùÝÝ³ñÏÙ³Ý | S6: Ñ³ëï³ïí»É ¿
I8: ¸ÇÙáõÙÇ ÁÝ¹áõÝáõÙÁ Ù»ñÅí»É ¿ | J8: ¸ÇÙáõÙÁ í»ñ³¹³ñÓí»É ¿ | K8: ÀÝ¹áõÝí»É ¿ í³ñáõÛÃ
E18: 1 | F18: 2 | G18: 3 | H18: 4 | I18: 5 | J18: 6 | K18: 7 | L18: 8 | M18: 9 | N18: 10 | O18: 11 | P18: 12 | Q18: 13 | R18: 14 | S18: 15 | T18: 16 | U18: 17 | V18: 18 | W18: 1+7=8+16+17 | Y18: 2=3+4 | AA18: 2=5+6+7 | AC18: 7=9+10+11+12
A19: 1 | B19: Æñ³í³µ³Ý³Ï³Ý ³ÝÓÇ ëÝ³ÝÏáõÃÛ³Ý í»ñ³µ»ñÛ³É | E19: 42 | F19: 4 | G19: 4 | K19: 4 | M19: 1 | P19: 3 | T19: 5 | U19: 41 | V19: 3 | W19: =E19+K19 -> 46 | X19: =L19+T19+U19 -> 46 | Y19: =F19 -> 4 | Z19: =G19+H19 -> 4 | AA19: =F19 -> 4 | AB19: =I19+J19+K19 -> 4 | AC19: =K19 -> 4 | AD19: =M19+N19+O19+P19 -> 4
A20: 2 | B20: ²ÝÑ³ï Ó»éÝ»ñ»óÇ ëÝ³ÝÏáõÃÛ³Ý í»ñ³µ»ñÛ³É | E20: 10 | T20: 1 | U20: 9 | W20: =E20+K20 -> 10 | X20: =L20+T20+U20 -> 10 | Y20: =F20 -> 0 | Z20: =G20+H20 -> 0 | AA20: =F20 -> 0 | AB20: =I20+J20+K20 -> 0 | AC20: =K20 -> 0 | AD20: =M20+N20+O20+P20 -> 0
A21: 3 | B21: üÇ½ÇÏ³Ï³Ý ³ÝÓ³Ýó ëÝ³ÝÏáõÃÛ³Ý í»ñ³µ»ñÛ³É | E21: 64 | F21: 19 | G21: 18 | H21: 1 | J21: 9 | K21: 10 | M21: 4 | N21: 2 | P21: 4 | T21: 11 | U21: 63 | V21: 2 | W21: =E21+K21 -> 74 | X21: =L21+T21+U21 -> 74 | Y21: =F21 -> 19 | Z21: =G21+H21 -> 19 | AA21: =F21 -> 19 | AB21: =I21+J21+K21 -> 19 | AC21: =K21 -> 10 | AD21: =M21+N21+O21+P21 -> 10
A22: 4 | B22: ԸՆԴՀԱՄԵՆԸ | E22: 116 | F22: 23 | G22: 22 | H22: 1 | J22: 9 | K22: 14 | M22: 5 | N22: 2 | P22: 7 | T22: 17 | U22: 113 | V22: 5 | W22: =E22+K22 -> 130 | X22: =L22+T22+U22 -> 130 | Y22: =F22 -> 23 | Z22: =G22+H22 -> 23 | AA22: =F22 -> 23 | AB22: =I22+J22+K22 -> 23 | AC22: =K22 -> 14 | AD22: =M22+N22+O22+P22 -> 14
