Workbook

Sheet Ընդամենը
B1: 2015Ã. | E1: Ð²ÞìºîìàôÂÚàôÜ | R1: Ð³í»Éí³Í Ð³Û³ëï³ÝÇ Ð³Ýñ³å»ïáõÃÛ³Ý ¸³ï³ñ³ÝÝ»ñÇ Ý³Ë³·³ÑÝ»ñÇ ËáñÑñ¹Ç 01.02.2016Ã. ÃÇí 11È áñáßÙ³Ý
B2: ÐÐ ÀÜ¸Ð²Üàôð Æð²ì²êàôÂÚ²Ü ²è²æÆÜ ²îÚ²ÜÆ ¸²î²ð²ÜÜºðàôØ ՔՐԵԱԿԱՆ ¶àðÌºðÆ øÜÜàôÂÚ²Ü ìºð²´ºðÚ²È
B3: êïáõ·Çã Ñ³í³ë³ñáõÙÝ»ñ` 1+3=7+8+10, 7=4+5+6, 14=12+13, 17=15+16 | D3: ÐÐ ùñ»³Ï³Ý ûñ»Ýë·ñùÇ Ñá¹í³ÍÝ»ñ | E3: Ð³ßí»ïáõ Å³Ù³Ý³Ï³Ñ³ïí³ÍÇ ëÏ½µáõÙ Ý³Ëáñ¹ Ñ³ßí»ïáõ Å³Ù³Ý³Ï³Ñ³ïí³ÍÇó ÷áË³Ýóí³Í ·áñÍ»ñÇ ÁÝ¹Ñ³Ýáõñ ÃÇíÁ | F3: ²Û¹ ÃíáõÙ` Ï³ë»óí³Í íÇ×³ÏáõÙ ÷áË³Ýóí³Í | G3: Ð³ßí»ïáõ Å³Ù³Ý³Ï³Ñ³ïí³ÍáõÙ ëï³óí³Í ·áñÍ»ñÇ ÁÝ¹Ñ³Ýáõñ ÃÇíÁ | H3: Ð³ßí»ïáõ Å³Ù³Ý³Ï³Ñ³ïí³ÍáõÙ ³í³ñïí³Í ·áñÍ»ñի ընդհանուր թիվը | L3: àõÕ³ñÏí»É ¿ Áëï ÁÝ¹¹³ïáõÃÛ³Ý | M3: Ð³ßí»ïáõ Å³Ù³Ý³Ï³Ñ³ïí³ÍáõÙ Ï³ë»óí³Í í³ñáõÛÃÝ»ñáí ·áñÍ»ñÇ ÁÝ¹Ñ³Ýáõñ ÃÇíÁ | N3: Ð³ßí»ïáõ Å³Ù³Ý³Ï³Ñ³ïí³ÍáõÙ ³Ý³í³ñï ·áñÍ»ñÇ ÁÝ¹Ñ³Ýáõñ ÃÇíÁ | O3: ²Û¹ ÃíáõÙª Ï³ë»óí³Í | P3: ´áÕáù³ñÏí³Í ¹³ï³Ï³Ý ³Ïï»ñÇ ÃÇíÁ` Áëï ï»ë³ÏÝ»ñÇ | S3: ´»Ï³Ýí³Í ¹³ï³Ï³Ý ³Ïï»ñÇ ÃÇíÁ` Áëï ï»ë³ÏÝ»ñÇ
H4: øÝÝí»É ¿ Áëï ¿áõÃÛ³Ý ¨ ¹³ï³í×Çé Ï³Û³óí»É | J4: ՈñáßáõÙ ¿ Ï³Û³óí»É ³ÝÙ»ÕëáõÝ³ÏÝ»ñÇ ÝÏ³ïÙ³Ùµ µÅßÏ³Ï³Ý µÝáõÛÃÇ Ñ³ñÏ³¹ñ³Ï³Ý ÙÇçáóÝ»ñ ÏÇñ³é»Éáõ Ù³ëÇÝ | K4: ÀÝ¹³Ù»ÝÁ ³í³ñïí»É »Ý ·áñÍ»ñ
I5: ՈñáßáõÙ ¿ Ï³Û³óí»É ùñ»³Ï³Ý ·áñÍÇ í³ñáõÛÃÁ Ï³ñ×»Éáõ ¨ ùñ»³Ï³Ý Ñ»ï³åÝ¹áõÙÁ ¹³¹³ñ»óÝ»Éáõ Ù³ëÇÝ | P5: ²Û¹ ÃíáõÙ` ·áñÍÝ Áëï ¿áõÃÛ³Ý ÉáõÍáÕ ¹³ï³Ï³Ý ³Ïï»ñÁ | Q5: ²Û¹ ÃíáõÙ` ÙÇç³ÝÏÛ³É ¹³ï³Ï³Ý ³Ïï»ñÁ | R5: ÀÝ¹³Ù»ÝÁ | S5: ²Û¹ ÃíáõÙ` ·áñÍÝ Áëï ¿áõÃÛ³Ý ÉáõÍáÕ ¹³ï³Ï³Ý ³Ïï»ñÁ | T5: ²Û¹ ÃíáõÙ` ÙÇç³ÝÏÛ³É ¹³ï³Ï³Ý ³Ïï»ñÁ | U5: ÀÝ¹³Ù»ÝÁ
E6: 1 | F6: 2 | G6: 3 | H6: 4 | I6: 5 | J6: 6 | K6: 7 | L6: 8 | M6: 9 | N6: 10 | O6: 11 | P6: 12 | Q6: 13 | R6: 14 | S6: 15 | T6: 16 | U6: 17 | V6: 1+3=7+8+10 | X6: 7=4+5+6 | Z6: 14=12+13 | AB6: 17=15+16
A7: 1 | B7: 1. | C7: ÀÝ¹³Ù»ÝÁ ÏÛ³ÝùÇ ¨ ³éáÕçáõÃÛ³Ý ¹»Ù áõÕÕí³Í Ñ³Ýó³·áñÍáõÃÛáõÝÝ»ñÁ | E7: =SUM(Ajapnjak:Tavush!E8) -> 162 | F7: =SUM(Ajapnjak:Tavush!F8) -> 7 | G7: =SUM(Ajapnjak:Tavush!G8) -> 435 | H7: =SUM(Ajapnjak:Tavush!H8) -> 256 | I7: =SUM(Ajapnjak:Tavush!I8) -> 111 | J7: =SUM(Ajapnjak:Tavush!J8) -> 17 | K7: =SUM(Ajapnjak:Tavush!K8) -> 384 | L7: =SUM(Ajapnjak:Tavush!L8) -> 1 | ... U7: =SUM(Ajapnjak:Tavush!U8) -> 18 | V7: =SUM(V8:V34) -> 597 | W7: =SUM(W8:W34) -> 596 | X7: =SUM(X8:X34) -> 384 | Y7: =SUM(Y8:Y34) -> 384 | Z7: =SUM(Z8:Z34) -> 105 | AA7: =SUM(AA8:AA34) -> 105 | AB7: =SUM(AB8:AB34) -> 18 | AC7: =SUM(AC8:AC34) -> 18
A8: 0 | B8: 1.1 | C8: êå³ÝáõÃÛáõÝÁ | D8: 104 | E8: =SUM(Ajapnjak:Tavush!E9) -> 29 | F8: =SUM(Ajapnjak:Tavush!F9) -> 1 | G8: =SUM(Ajapnjak:Tavush!G9) -> 68 | H8: =SUM(Ajapnjak:Tavush!H9) -> 35 | I8: =SUM(Ajapnjak:Tavush!I9) -> 1 | J8: =SUM(Ajapnjak:Tavush!J9) -> 6 | K8: =SUM(Ajapnjak:Tavush!K9) -> 42 | L8: =SUM(Ajapnjak:Tavush!L9) -> 0 | ... U8: =SUM(Ajapnjak:Tavush!U9) -> 2 | V8: =E8+G8 -> 97 | W8: =K8+L8+N8 -> 97 | X8: =K8 -> 42 | Y8: =H8+I8+J8 -> 42 | Z8: =R8 -> 20 | AA8: =P8+Q8 -> 20 | AB8: =U8 -> 2 | AC8: =S8+T8 -> 2
A9: 0 | B9: 1.2 | C9: Ðá·»Ï³Ý ËÇëï Ñáõ½ÙáõÝùÇ íÇ×³ÏáõÙ Ï³ï³ñí³Í ëå³ÝáõÃÛáõÝÁ | D9: 105 | E9: =SUM(Ajapnjak:Tavush!E10) -> 0 | F9: =SUM(Ajapnjak:Tavush!F10) -> 0 | G9: =SUM(Ajapnjak:Tavush!G10) -> 1 | H9: =SUM(Ajapnjak:Tavush!H10) -> 0 | I9: =SUM(Ajapnjak:Tavush!I10) -> 0 | J9: =SUM(Ajapnjak:Tavush!J10) -> 0 | K9: =SUM(Ajapnjak:Tavush!K10) -> 0 | L9: =SUM(Ajapnjak:Tavush!L10) -> 0 | ... U9: =SUM(Ajapnjak:Tavush!U10) -> 0 | V9: =E9+G9 -> 1 | W9: =K9+L9+N9 -> 1 | X9: =K9 -> 0 | Y9: =H9+I9+J9 -> 0 | Z9: =R9 -> 0 | AA9: =P9+Q9 -> 0 | AB9: =U9 -> 0 | AC9: =S9+T9 -> 0
A10: 0 | B10: 1.3 | C10: Øáñ ÏáÕÙÇó Ýáñ³ÍÇÝ »ñ»Ë³ÛÇ ëå³ÝáõÃÛáõÝÁ | D10: 106 | E10: =SUM(Ajapnjak:Tavush!E11) -> 0 | F10: =SUM(Ajapnjak:Tavush!F11) -> 0 | G10: =SUM(Ajapnjak:Tavush!G11) -> 1 | H10: =SUM(Ajapnjak:Tavush!H11) -> 1 | I10: =SUM(Ajapnjak:Tavush!I11) -> 0 | J10: =SUM(Ajapnjak:Tavush!J11) -> 0 | K10: =SUM(Ajapnjak:Tavush!K11) -> 1 | L10: =SUM(Ajapnjak:Tavush!L11) -> 0 | ... U10: =SUM(Ajapnjak:Tavush!U11) -> 0 | V10: =E10+G10 -> 1 | W10: =K10+L10+N10 -> 1 | X10: =K10 -> 1 | Y10: =H10+I10+J10 -> 1 | Z10: =R10 -> 0 | AA10: =P10+Q10 -> 0 | AB10: =U10 -> 0 | AC10: =S10+T10 -> 0
A11: 0 | B11: 1.4 | C11: Ð³Ýó³Ýù Ï³ï³ñ³Í ³ÝÓÇÝ µéÝ»Éáõ Ñ³Ù³ñ ³ÝÑñ³Å»ßï ÙÇçáóÝ»ñÇ ë³ÑÙ³Ý³½³ÝóÙ³Ùµ ëå³ÝáõÃÛáõÝÁ | D11: 107 | E11: =SUM(Ajapnjak:Tavush!E12) -> 0 | F11: =SUM(Ajapnjak:Tavush!F12) -> 0 | G11: =SUM(Ajapnjak:Tavush!G12) -> 0 | H11: =SUM(Ajapnjak:Tavush!H12) -> 0 | I11: =SUM(Ajapnjak:Tavush!I12) -> 0 | J11: =SUM(Ajapnjak:Tavush!J12) -> 0 | K11: =SUM(Ajapnjak:Tavush!K12) -> 0 | L11: =SUM(Ajapnjak:Tavush!L12) -> 0 | ... U11: =SUM(Ajapnjak:Tavush!U12) -> 0 | V11: =E11+G11 -> 0 | W11: =K11+L11+N11 -> 0 | X11: =K11 -> 0 | Y11: =H11+I11+J11 -> 0 | Z11: =R11 -> 0 | AA11: =P11+Q11 -> 0 | AB11: =U11 -> 0 | AC11: =S11+T11 -> 0
A12: 0 | B12: 1.5 | C12: ²ÝÑñ³Å»ßï å³ßïå³ÝáõÃÛ³Ý ë³ÑÙ³Ý³½³ÝóÙ³Ùµ ëå³ÝáõÃÛáõÝÁ | D12: 108 | E12: =SUM(Ajapnjak:Tavush!E13) -> 0 | F12: =SUM(Ajapnjak:Tavush!F13) -> 0 | G12: =SUM(Ajapnjak:Tavush!G13) -> 0 | H12: =SUM(Ajapnjak:Tavush!H13) -> 0 | I12: =SUM(Ajapnjak:Tavush!I13) -> 0 | J12: =SUM(Ajapnjak:Tavush!J13) -> 0 | K12: =SUM(Ajapnjak:Tavush!K13) -> 0 | L12: =SUM(Ajapnjak:Tavush!L13) -> 0 | ... U12: =SUM(Ajapnjak:Tavush!U13) -> 0 | V12: =E12+G12 -> 0 | W12: =K12+L12+N12 -> 0 | X12: =K12 -> 0 | Y12: =H12+I12+J12 -> 0 | Z12: =R12 -> 0 | AA12: =P12+Q12 -> 0 | AB12: =U12 -> 0 | AC12: =S12+T12 -> 0
A13: 0 | B13: 1.6 | C13: ²Ý½·áõßáõÃÛ³Ùµ Ù³Ñ å³ï×³é»ÉÁ | D13: 109 | E13: =SUM(Ajapnjak:Tavush!E14) -> 3 | F13: =SUM(Ajapnjak:Tavush!F14) -> 0 | G13: =SUM(Ajapnjak:Tavush!G14) -> 4 | H13: =SUM(Ajapnjak:Tavush!H14) -> 5 | I13: =SUM(Ajapnjak:Tavush!I14) -> 0 | J13: =SUM(Ajapnjak:Tavush!J14) -> 0 | K13: =SUM(Ajapnjak:Tavush!K14) -> 5 | L13: =SUM(Ajapnjak:Tavush!L14) -> 0 | ... U13: =SUM(Ajapnjak:Tavush!U14) -> 0 | V13: =E13+G13 -> 7 | W13: =K13+L13+N13 -> 7 | X13: =K13 -> 5 | Y13: =H13+I13+J13 -> 5 | Z13: =R13 -> 0 | AA13: =P13+Q13 -> 0 | AB13: =U13 -> 0 | AC13: =S13+T13 -> 0
A14: 0 | B14: 1.7 | C14: ÆÝùÝ³ëå³ÝáõÃÛ³Ý Ñ³ëóÝ»ÉÁ | D14: 110 | E14: =SUM(Ajapnjak:Tavush!E15) -> 0 | F14: =SUM(Ajapnjak:Tavush!F15) -> 0 | G14: =SUM(Ajapnjak:Tavush!G15) -> 2 | H14: =SUM(Ajapnjak:Tavush!H15) -> 1 | I14: =SUM(Ajapnjak:Tavush!I15) -> 0 | J14: =SUM(Ajapnjak:Tavush!J15) -> 0 | K14: =SUM(Ajapnjak:Tavush!K15) -> 1 | L14: =SUM(Ajapnjak:Tavush!L15) -> 0 | ... U14: =SUM(Ajapnjak:Tavush!U15) -> 0 | V14: =E14+G14 -> 2 | W14: =K14+L14+N14 -> 2 | X14: =K14 -> 1 | Y14: =H14+I14+J14 -> 1 | Z14: =R14 -> 1 | AA14: =P14+Q14 -> 1 | AB14: =U14 -> 0 | AC14: =S14+T14 -> 0
A15: 0 | B15: 1.8 | C15: ÆÝùÝ³ëå³ÝáõÃÛ³Ý Ñ³Ï»ÉÁ | D15: 111 | E15: =SUM(Ajapnjak:Tavush!E16) -> 0 | F15: =SUM(Ajapnjak:Tavush!F16) -> 0 | G15: =SUM(Ajapnjak:Tavush!G16) -> 0 | H15: =SUM(Ajapnjak:Tavush!H16) -> 0 | I15: =SUM(Ajapnjak:Tavush!I16) -> 0 | J15: =SUM(Ajapnjak:Tavush!J16) -> 0 | K15: =SUM(Ajapnjak:Tavush!K16) -> 0 | L15: =SUM(Ajapnjak:Tavush!L16) -> 0 | ... U15: =SUM(Ajapnjak:Tavush!U16) -> 0 | V15: =E15+G15 -> 0 | W15: =K15+L15+N15 -> 0 | X15: =K15 -> 0 | Y15: =H15+I15+J15 -> 0 | Z15: =R15 -> 0 | AA15: =P15+Q15 -> 0 | AB15: =U15 -> 0 | AC15: =S15+T15 -> 0
A16: 0 | B16: 1.9 | C16: ¸Çï³íáñáõÃÛ³Ùµ ³éáÕçáõÃÛ³ÝÁ Í³Ýñ íÝ³ë å³ï×³é»ÉÁ | D16: 112 | E16: =SUM(Ajapnjak:Tavush!E17) -> 72 | F16: =SUM(Ajapnjak:Tavush!F17) -> 1 | G16: =SUM(Ajapnjak:Tavush!G17) -> 126 | H16: =SUM(Ajapnjak:Tavush!H17) -> 119 | I16: =SUM(Ajapnjak:Tavush!I17) -> 2 | J16: =SUM(Ajapnjak:Tavush!J17) -> 3 | K16: =SUM(Ajapnjak:Tavush!K17) -> 124 | L16: =SUM(Ajapnjak:Tavush!L17) -> 1 | ... U16: =SUM(Ajapnjak:Tavush!U17) -> 12 | V16: =E16+G16 -> 198 | W16: =K16+L16+N16 -> 198 | X16: =K16 -> 124 | Y16: =H16+I16+J16 -> 124 | Z16: =R16 -> 59 | AA16: =P16+Q16 -> 59 | AB16: =U16 -> 12 | AC16: =S16+T16 -> 12
A17: 0 | B17: 1.10 | C17: ¸Çï³íáñáõÃÛ³Ùµ ³éáÕçáõÃÛ³ÝÁ ÙÇçÇÝ Í³ÝñáõÃÛ³Ý íÝ³ë å³ï×³é»ÉÁ | D17: 113 | E17: =SUM(Ajapnjak:Tavush!E18) -> 13 | F17: =SUM(Ajapnjak:Tavush!F18) -> 0 | G17: =SUM(Ajapnjak:Tavush!G18) -> 34 | H17: =SUM(Ajapnjak:Tavush!H18) -> 14 | I17: =SUM(Ajapnjak:Tavush!I18) -> 10 | J17: =SUM(Ajapnjak:Tavush!J18) -> 1 | K17: =SUM(Ajapnjak:Tavush!K18) -> 25 | L17: =SUM(Ajapnjak:Tavush!L18) -> 0 | ... U17: =SUM(Ajapnjak:Tavush!U18) -> 3 | V17: =E17+G17 -> 47 | W17: =K17+L17+N17 -> 46 | X17: =K17 -> 25 | Y17: =H17+I17+J17 -> 25 | Z17: =R17 -> 8 | AA17: =P17+Q17 -> 8 | AB17: =U17 -> 3 | AC17: =S17+T17 -> 3
A18: 0 | B18: 1.11 | C18: Ðá·»Ï³Ý ËÇëï Ñáõ½ÙáõÝùÇ íÇ×³ÏáõÙ ³éáÕçáõÃÛ³ÝÁ Í³Ýñ Ï³Ù ÙÇçÇÝ Í³ÝñáõÃÛ³Ý íÝ³ë å³ï×³é»ÉÁ | D18: 114 | E18: =SUM(Ajapnjak:Tavush!E19) -> 1 | F18: =SUM(Ajapnjak:Tavush!F19) -> 1 | G18: =SUM(Ajapnjak:Tavush!G19) -> 0 | H18: =SUM(Ajapnjak:Tavush!H19) -> 0 | I18: =SUM(Ajapnjak:Tavush!I19) -> 0 | J18: =SUM(Ajapnjak:Tavush!J19) -> 0 | K18: =SUM(Ajapnjak:Tavush!K19) -> 0 | L18: =SUM(Ajapnjak:Tavush!L19) -> 0 | ... U18: =SUM(Ajapnjak:Tavush!U19) -> 0 | V18: =E18+G18 -> 1 | W18: =K18+L18+N18 -> 1 | X18: =K18 -> 0 | Y18: =H18+I18+J18 -> 0 | Z18: =R18 -> 1 | AA18: =P18+Q18 -> 1 | AB18: =U18 -> 0 | AC18: =S18+T18 -> 0
A19: 0 | B19: 1.12 | C19: Ð³Ýó³Ýù Ï³ï³ñ³Í ³ÝÓÇÝ µéÝ»Éáõ Ñ³Ù³ñ ³ÝÑñ³Å»ßï ÙÇçáóÝ»ñÇ ë³ÑÙ³Ý½³ÝóÙ³Ùµ ³éáÕçáõÃÛ³ÝÁ Í³Ýñ Ï³Ù ÙÇçÇÝ Í³ÝñáõÃÛ³Ý íÝ³ë å³ï×³é»ÉÁ | D19: 115 | E19: =SUM(Ajapnjak:Tavush!E20) -> 0 | F19: =SUM(Ajapnjak:Tavush!F20) -> 0 | G19: =SUM(Ajapnjak:Tavush!G20) -> 0 | H19: =SUM(Ajapnjak:Tavush!H20) -> 0 | I19: =SUM(Ajapnjak:Tavush!I20) -> 0 | J19: =SUM(Ajapnjak:Tavush!J20) -> 0 | K19: =SUM(Ajapnjak:Tavush!K20) -> 0 | L19: =SUM(Ajapnjak:Tavush!L20) -> 0 | ... U19: =SUM(Ajapnjak:Tavush!U20) -> 0 | V19: =E19+G19 -> 0 | W19: =K19+L19+N19 -> 0 | X19: =K19 -> 0 | Y19: =H19+I19+J19 -> 0 | Z19: =R19 -> 0 | AA19: =P19+Q19 -> 0 | AB19: =U19 -> 0 | AC19: =S19+T19 -> 0
... A33: 0 | B33: 1.27 | C33: ´ÅßÏ³Ï³Ý û·ÝáõÃÛáõÝ ¨ ëå³ë³ñÏáõÙ Çñ³Ï³Ý³óÝáÕÝ»ñÇ ÏáÕÙÇó Ù³ëÝ³·Çï³Ï³Ý å³ñï³Ï³ÝáõÃÛáõÝÝ»ñÁ ãÏ³ï³ñ»ÉÁ Ï³Ù áã å³ïß³× Ï³ï³ñ»ÉÁ | D33: 130 | E33: =SUM(Ajapnjak:Tavush!E34) -> 4 | F33: =SUM(Ajapnjak:Tavush!F34) -> 0 | G33: =SUM(Ajapnjak:Tavush!G34) -> 5 | H33: =SUM(Ajapnjak:Tavush!H34) -> 3 | I33: =SUM(Ajapnjak:Tavush!I34) -> 1 | J33: =SUM(Ajapnjak:Tavush!J34) -> 0 | K33: =SUM(Ajapnjak:Tavush!K34) -> 4 | L33: =SUM(Ajapnjak:Tavush!L34) -> 0 | ... U33: =SUM(Ajapnjak:Tavush!U34) -> 0 | V33: =E33+G33 -> 9 | W33: =K33+L33+N33 -> 9 | X33: =K33 -> 4 | Y33: =H33+I33+J33 -> 4 | Z33: =R33 -> 1 | AA33: =P33+Q33 -> 1 | AB33: =U33 -> 0 | AC33: =S33+T33 -> 0
A34: 1 | B34: 1.28 | C34: ²ÛÉ Ñ³Ýó³·áñÍáõÃÛáõÝÝ»ñ | E34: =SUM(Ajapnjak:Tavush!E35) -> 1 | F34: =SUM(Ajapnjak:Tavush!F35) -> 1 | G34: =SUM(Ajapnjak:Tavush!G35) -> 0 | H34: =SUM(Ajapnjak:Tavush!H35) -> 0 | I34: =SUM(Ajapnjak:Tavush!I35) -> 0 | J34: =SUM(Ajapnjak:Tavush!J35) -> 0 | K34: =SUM(Ajapnjak:Tavush!K35) -> 0 | L34: =SUM(Ajapnjak:Tavush!L35) -> 0 | ... U34: =SUM(Ajapnjak:Tavush!U35) -> 0 | V34: =E34+G34 -> 1 | W34: =K34+L34+N34 -> 1 | X34: =K34 -> 0 | Y34: =H34+I34+J34 -> 0 | Z34: =R34 -> 0 | AA34: =P34+Q34 -> 0 | AB34: =U34 -> 0 | AC34: =S34+T34 -> 0
A35: 0 | B35: 2. | C35: ÀÝ¹³Ù»ÝÁ ³ÝÓÇ ³½³ïáõÃÛ³Ý, å³ïíÇ ¨ ³ñÅ³Ý³å³ïíáõÃÛ³Ý ¹»Ù áõÕÕí³Í Ñ³Ýó³·áñÍáõÃÛáõÝÝ»ñÁ | E35: =SUM(Ajapnjak:Tavush!E36) -> 16 | F35: =SUM(Ajapnjak:Tavush!F36) -> 0 | G35: =SUM(Ajapnjak:Tavush!G36) -> 71 | H35: =SUM(Ajapnjak:Tavush!H36) -> 45 | I35: =SUM(Ajapnjak:Tavush!I36) -> 7 | J35: =SUM(Ajapnjak:Tavush!J36) -> 8 | K35: =SUM(Ajapnjak:Tavush!K36) -> 60 | L35: =SUM(Ajapnjak:Tavush!L36) -> 0 | ... U35: =SUM(Ajapnjak:Tavush!U36) -> 6 | V35: =SUM(V36:V42) -> 87 | W35: =SUM(W36:W42) -> 87 | X35: =SUM(X36:X42) -> 60 | Y35: =SUM(Y36:Y42) -> 60 | Z35: =SUM(Z36:Z42) -> 27 | AA35: =SUM(AA36:AA42) -> 27 | AB35: =SUM(AB36:AB42) -> 6 | AC35: =SUM(AC36:AC42) -> 6
A36: 0 | B36: 2.1 | C36: Ø³ñ¹áõÝ ³é¨³Ý·»ÉÁ | D36: 131 | E36: =SUM(Ajapnjak:Tavush!E37) -> 6 | F36: =SUM(Ajapnjak:Tavush!F37) -> 0 | G36: =SUM(Ajapnjak:Tavush!G37) -> 43 | H36: =SUM(Ajapnjak:Tavush!H37) -> 31 | I36: =SUM(Ajapnjak:Tavush!I37) -> 1 | J36: =SUM(Ajapnjak:Tavush!J37) -> 0 | K36: =SUM(Ajapnjak:Tavush!K37) -> 32 | L36: =SUM(Ajapnjak:Tavush!L37) -> 0 | ... U36: =SUM(Ajapnjak:Tavush!U37) -> 3 | V36: =E36+G36 -> 49 | W36: =K36+L36+N36 -> 49 | X36: =K36 -> 32 | Y36: =H36+I36+J36 -> 32 | Z36: =R36 -> 17 | AA36: =P36+Q36 -> 17 | AB36: =U36 -> 3 | AC36: =S36+T36 -> 3
B37: 2.2 | C37: Մարդու թրաֆիքինգը կամ շահագործումը | D37: 132 | E37: =SUM(Ajapnjak:Tavush!E38) -> 2 | F37: =SUM(Ajapnjak:Tavush!F38) -> 0 | G37: =SUM(Ajapnjak:Tavush!G38) -> 4 | H37: =SUM(Ajapnjak:Tavush!H38) -> 2 | I37: =SUM(Ajapnjak:Tavush!I38) -> 0 | J37: =SUM(Ajapnjak:Tavush!J38) -> 2 | K37: =SUM(Ajapnjak:Tavush!K38) -> 4 | L37: =SUM(Ajapnjak:Tavush!L38) -> 0 | ... U37: =SUM(Ajapnjak:Tavush!U38) -> 0 | V37: =E37+G37 -> 6 | W37: =K37+L37+N37 -> 6 | X37: =K37 -> 4 | Y37: =H37+I37+J37 -> 4 | Z37: =R37 -> 1 | AA37: =P37+Q37 -> 1 | AB37: =U37 -> 0 | AC37: =S37+T37 -> 0
B38: 2.2.1 | C38: Ø³ñ¹áõÝ åáéÝÇÏáõÃÛ³Ý Ï³Ù ë»é³Ï³Ý ß³Ñ³·áñÍÙ³Ý ³ÛÉ Ó¨»ñÇ Ù»ç, Ñ³ñÏ³¹Çñ ³ßË³ï³ÝùÇ Ï³Ù Í³é³ÛáõÃÛáõÝÝ»ñÇ Ý»ñ·ñ³í»ÉÁ Ï³Ù ëïñÏáõÃÛ³Ý Ï³Ù ëïñÏáõÃÛ³ÝÁ ÝÙ³ÝíáÕ íÇ×³ÏÇ Ù»ç ¹Ý»ÉÁ Ï³Ù å³Ñ»ÉÁ | D38: 132.1 | E38: =SUM(Ajapnjak:Tavush!E39) -> 0 | F38: =SUM(Ajapnjak:Tavush!F39) -> 0 | G38: =SUM(Ajapnjak:Tavush!G39) -> 0 | H38: =SUM(Ajapnjak:Tavush!H39) -> 0 | I38: =SUM(Ajapnjak:Tavush!I39) -> 0 | J38: =SUM(Ajapnjak:Tavush!J39) -> 0 | K38: =SUM(Ajapnjak:Tavush!K39) -> 0 | L38: =SUM(Ajapnjak:Tavush!L39) -> 0 | ... U38: =SUM(Ajapnjak:Tavush!U39) -> 0 | V38: =E38+G38 -> 0 | W38: =K38+L38+N38 -> 0 | X38: =K38 -> 0 | Y38: =H38+I38+J38 -> 0 | Z38: =R38 -> 0 | AA38: =P38+Q38 -> 0 | AB38: =U38 -> 0 | AC38: =S38+T38 -> 0
B39: 2.3 | C39: ²½³ïáõÃÛáõÝÇó ³åûñÇÝÇ ½ñÏ»ÉÁ | D39: 133 | E39: =SUM(Ajapnjak:Tavush!E40) -> 0 | F39: =SUM(Ajapnjak:Tavush!F40) -> 0 | G39: =SUM(Ajapnjak:Tavush!G40) -> 1 | H39: =SUM(Ajapnjak:Tavush!H40) -> 1 | I39: =SUM(Ajapnjak:Tavush!I40) -> 0 | J39: =SUM(Ajapnjak:Tavush!J40) -> 0 | K39: =SUM(Ajapnjak:Tavush!K40) -> 1 | L39: =SUM(Ajapnjak:Tavush!L40) -> 0 | ... U39: =SUM(Ajapnjak:Tavush!U40) -> 0 | V39: =E39+G39 -> 1 | W39: =K39+L39+N39 -> 1 | X39: =K39 -> 1 | Y39: =H39+I39+J39 -> 1 | Z39: =R39 -> 0 | AA39: =P39+Q39 -> 0 | AB39: =U39 -> 0 | AC39: =S39+T39 -> 0
B40: 2.4 | C40: Ðá·»µáõÅ³Ï³Ý ÑÇí³Ý¹³ÝáóáõÙ ³åûñÇÝÇ ï»Õ³íáñ»ÉÁ Ï³Ù å³Ñ»ÉÁ | D40: 134 | E40: =SUM(Ajapnjak:Tavush!E41) -> 0 | F40: =SUM(Ajapnjak:Tavush!F41) -> 0 | G40: =SUM(Ajapnjak:Tavush!G41) -> 0 | H40: =SUM(Ajapnjak:Tavush!H41) -> 0 | I40: =SUM(Ajapnjak:Tavush!I41) -> 0 | J40: =SUM(Ajapnjak:Tavush!J41) -> 0 | K40: =SUM(Ajapnjak:Tavush!K41) -> 0 | L40: =SUM(Ajapnjak:Tavush!L41) -> 0 | ... U40: =SUM(Ajapnjak:Tavush!U41) -> 0 | V40: =E40+G40 -> 0 | W40: =K40+L40+N40 -> 0 | X40: =K40 -> 0 | Y40: =H40+I40+J40 -> 0 | Z40: =R40 -> 0 | AA40: =P40+Q40 -> 0 | AB40: =U40 -> 0 | AC40: =S40+T40 -> 0
B41: 2.7 | C41: êå³ÝáõÃÛ³Ý, ³éáÕçáõÃÛ³ÝÁ Í³Ýñ íÝ³ë å³ï×³é»Éáõ Ï³Ù ·áõÛù áãÝã³óÝ»Éáõ ëå³éÝ³ÉÇùÁ | D41: 137 | E41: =SUM(Ajapnjak:Tavush!E42) -> 8 | F41: =SUM(Ajapnjak:Tavush!F42) -> 0 | G41: =SUM(Ajapnjak:Tavush!G42) -> 23 | H41: =SUM(Ajapnjak:Tavush!H42) -> 11 | I41: =SUM(Ajapnjak:Tavush!I42) -> 6 | J41: =SUM(Ajapnjak:Tavush!J42) -> 6 | K41: =SUM(Ajapnjak:Tavush!K42) -> 23 | L41: =SUM(Ajapnjak:Tavush!L42) -> 0 | ... U41: =SUM(Ajapnjak:Tavush!U42) -> 3 | V41: =E41+G41 -> 31 | W41: =K41+L41+N41 -> 31 | X41: =K41 -> 23 | Y41: =H41+I41+J41 -> 23 | Z41: =R41 -> 9 | AA41: =P41+Q41 -> 9 | AB41: =U41 -> 3 | AC41: =S41+T41 -> 3
A42: 0 | B42: 2.8 | C42: ²ÛÉ Ñ³Ýó³·áñÍáõÃÛáõÝÝ»ñ | E42: =SUM(Ajapnjak:Tavush!E43) -> 0 | F42: =SUM(Ajapnjak:Tavush!F43) -> 0 | G42: =SUM(Ajapnjak:Tavush!G43) -> 0 | H42: =SUM(Ajapnjak:Tavush!H43) -> 0 | I42: =SUM(Ajapnjak:Tavush!I43) -> 0 | J42: =SUM(Ajapnjak:Tavush!J43) -> 0 | K42: =SUM(Ajapnjak:Tavush!K43) -> 0 | L42: =SUM(Ajapnjak:Tavush!L43) -> 0 | ... U42: =SUM(Ajapnjak:Tavush!U43) -> 0 | V42: =E42+G42 -> 0 | W42: =K42+L42+N42 -> 0 | X42: =K42 -> 0 | Y42: =H42+I42+J42 -> 0 | Z42: =R42 -> 0 | AA42: =P42+Q42 -> 0 | AB42: =U42 -> 0 | AC42: =S42+T42 -> 0
A43: 0 | B43: 3. | C43: ÀÝ¹³Ù»ÝÁ ë»é³Ï³Ý ³ÝÓ»éÝÙË»ÉÇáõÃÛ³Ý ¨ ë»é³Ï³Ý ³½³ïáõÃÛ³Ý ¹»Ù áõÕÕí³Í Ñ³Ýó³·áñÍáõÃÛáõÝÝ»ñÁ | E43: =SUM(Ajapnjak:Tavush!E44) -> 25 | F43: =SUM(Ajapnjak:Tavush!F44) -> 1 | G43: =SUM(Ajapnjak:Tavush!G44) -> 61 | H43: =SUM(Ajapnjak:Tavush!H44) -> 59 | I43: =SUM(Ajapnjak:Tavush!I44) -> 0 | J43: =SUM(Ajapnjak:Tavush!J44) -> 2 | K43: =SUM(Ajapnjak:Tavush!K44) -> 61 | L43: =SUM(Ajapnjak:Tavush!L44) -> 2 | ... U43: =SUM(Ajapnjak:Tavush!U44) -> 1 | V43: =SUM(V44:V49) -> 86 | W43: =SUM(W44:W49) -> 86 | X43: =SUM(X44:X49) -> 61 | Y43: =SUM(Y44:Y49) -> 61 | Z43: =SUM(Z44:Z49) -> 14 | AA43: =SUM(AA44:AA49) -> 14 | AB43: =SUM(AB44:AB49) -> 1 | AC43: =SUM(AC44:AC49) -> 1
A44: 0 | B44: 3.1 | C44: ´éÝ³µ³ñáõÃÛáõÝÁ | D44: 138 | E44: =SUM(Ajapnjak:Tavush!E45) -> 1 | F44: =SUM(Ajapnjak:Tavush!F45) -> 0 | G44: =SUM(Ajapnjak:Tavush!G45) -> 11 | H44: =SUM(Ajapnjak:Tavush!H45) -> 6 | I44: =SUM(Ajapnjak:Tavush!I45) -> 0 | J44: =SUM(Ajapnjak:Tavush!J45) -> 0 | K44: =SUM(Ajapnjak:Tavush!K45) -> 6 | L44: =SUM(Ajapnjak:Tavush!L45) -> 2 | ... U44: =SUM(Ajapnjak:Tavush!U45) -> 0 | V44: =E44+G44 -> 12 | W44: =K44+L44+N44 -> 12 | X44: =K44 -> 6 | Y44: =H44+I44+J44 -> 6 | Z44: =R44 -> 2 | AA44: =P44+Q44 -> 2 | AB44: =U44 -> 0 | AC44: =S44+T44 -> 0
B45: 3.2 | C45: ê»ùëáõ³É µÝáõÛÃÇ µéÝÇ ·áñÍáÕáõÃÛáõÝÝ»ñÁ | D45: 139 | E45: =SUM(Ajapnjak:Tavush!E46) -> 4 | F45: =SUM(Ajapnjak:Tavush!F46) -> 1 | G45: =SUM(Ajapnjak:Tavush!G46) -> 4 | H45: =SUM(Ajapnjak:Tavush!H46) -> 3 | I45: =SUM(Ajapnjak:Tavush!I46) -> 0 | J45: =SUM(Ajapnjak:Tavush!J46) -> 0 | K45: =SUM(Ajapnjak:Tavush!K46) -> 3 | L45: =SUM(Ajapnjak:Tavush!L46) -> 0 | ... U45: =SUM(Ajapnjak:Tavush!U46) -> 0 | V45: =E45+G45 -> 8 | W45: =K45+L45+N45 -> 8 | X45: =K45 -> 3 | Y45: =H45+I45+J45 -> 3 | Z45: =R45 -> 3 | AA45: =P45+Q45 -> 3 | AB45: =U45 -> 0 | AC45: =S45+T45 -> 0
B46: 3.3 | C46: Սեռական հարաբերության կամ սեքսուալ բնույթի գործողություններին հարկադրելը | D46: 140 | E46: =SUM(Ajapnjak:Tavush!E47) -> 0 | F46: =SUM(Ajapnjak:Tavush!F47) -> 0 | G46: =SUM(Ajapnjak:Tavush!G47) -> 2 | H46: =SUM(Ajapnjak:Tavush!H47) -> 1 | I46: =SUM(Ajapnjak:Tavush!I47) -> 0 | J46: =SUM(Ajapnjak:Tavush!J47) -> 0 | K46: =SUM(Ajapnjak:Tavush!K47) -> 1 | L46: =SUM(Ajapnjak:Tavush!L47) -> 0 | ... U46: =SUM(Ajapnjak:Tavush!U47) -> 0 | V46: =E46+G46 -> 2 | W46: =K46+L46+N46 -> 2 | X46: =K46 -> 1 | Y46: =H46+I46+J46 -> 1 | Z46: =R46 -> 1 | AA46: =P46+Q46 -> 1 | AB46: =U46 -> 0 | AC46: =S46+T46 -> 0
B47: 3.4 | C47: ê»é³Ï³Ý Ñ³ñ³µ»ñáõÃÛáõÝÁ ï³ëÝí»ó ï³ñÇÝ ãÉñ³ó³Í ³ÝÓÇ Ñ»ï Ï³Ù ë»ùëáõ³É µÝáõÛÃÇ ·áñÍáÕáõÃÛáõÝÝ»ñ Ï³ï³ñ»ÉÁ ï³ëÝí»ó ï³ñÇÝ ãÉñ³ó³Í ³ÝÓÇ ÝÏ³ïÙ³Ùµ | D47: 141 | E47: =SUM(Ajapnjak:Tavush!E48) -> 18 | F47: =SUM(Ajapnjak:Tavush!F48) -> 0 | G47: =SUM(Ajapnjak:Tavush!G48) -> 40 | H47: =SUM(Ajapnjak:Tavush!H48) -> 46 | I47: =SUM(Ajapnjak:Tavush!I48) -> 0 | J47: =SUM(Ajapnjak:Tavush!J48) -> 1 | K47: =SUM(Ajapnjak:Tavush!K48) -> 47 | L47: =SUM(Ajapnjak:Tavush!L48) -> 0 | ... U47: =SUM(Ajapnjak:Tavush!U48) -> 1 | V47: =E47+G47 -> 58 | W47: =K47+L47+N47 -> 58 | X47: =K47 -> 47 | Y47: =H47+I47+J47 -> 47 | Z47: =R47 -> 8 | AA47: =P47+Q47 -> 8 | AB47: =U47 -> 1 | AC47: =S47+T47 -> 1
B48: 3.5 | C48: ²Ý³é³Ï³µ³ñá ·áñÍáÕáõÃÛáõÝÝ»ñÁ | D48: 142 | E48: =SUM(Ajapnjak:Tavush!E49) -> 2 | F48: =SUM(Ajapnjak:Tavush!F49) -> 0 | G48: =SUM(Ajapnjak:Tavush!G49) -> 4 | H48: =SUM(Ajapnjak:Tavush!H49) -> 3 | I48: =SUM(Ajapnjak:Tavush!I49) -> 0 | J48: =SUM(Ajapnjak:Tavush!J49) -> 1 | K48: =SUM(Ajapnjak:Tavush!K49) -> 4 | L48: =SUM(Ajapnjak:Tavush!L49) -> 0 | ... U48: =SUM(Ajapnjak:Tavush!U49) -> 0 | V48: =E48+G48 -> 6 | W48: =K48+L48+N48 -> 6 | X48: =K48 -> 4 | Y48: =H48+I48+J48 -> 4 | Z48: =R48 -> 0 | AA48: =P48+Q48 -> 0 | AB48: =U48 -> 0 | AC48: =S48+T48 -> 0
B49: 3.6 | C49: ²ÛÉ Ñ³Ýó³·áñÍáõÃÛáõÝÝ»ñ | E49: =SUM(Ajapnjak:Tavush!E50) -> 0 | F49: =SUM(Ajapnjak:Tavush!F50) -> 0 | G49: =SUM(Ajapnjak:Tavush!G50) -> 0 | H49: =SUM(Ajapnjak:Tavush!H50) -> 0 | I49: =SUM(Ajapnjak:Tavush!I50) -> 0 | J49: =SUM(Ajapnjak:Tavush!J50) -> 0 | K49: =SUM(Ajapnjak:Tavush!K50) -> 0 | L49: =SUM(Ajapnjak:Tavush!L50) -> 0 | ... U49: =SUM(Ajapnjak:Tavush!U50) -> 0 | V49: =E49+G49 -> 0 | W49: =K49+L49+N49 -> 0 | X49: =K49 -> 0 | Y49: =H49+I49+J49 -> 0 | Z49: =R49 -> 0 | AA49: =P49+Q49 -> 0 | AB49: =U49 -> 0 | AC49: =S49+T49 -> 0
B50: 4. | C50: ÀÝ¹³Ù»ÝÁ Ù³ñ¹áõ ¨ ù³Õ³ù³óáõ ë³ÑÙ³Ý³¹ñ³Ï³Ý Çñ³íáõÝùÝ»ñÇ ¨ ³½³ïáõÃÛáõÝÝ»ñÇ ¹»Ù áõÕÕí³Í Ñ³Ýó³·áñÍáõÃÛáõÝÝ»ñÁ | E50: =SUM(Ajapnjak:Tavush!E51) -> 6 | F50: =SUM(Ajapnjak:Tavush!F51) -> 1 | G50: =SUM(Ajapnjak:Tavush!G51) -> 41 | H50: =SUM(Ajapnjak:Tavush!H51) -> 29 | I50: =SUM(Ajapnjak:Tavush!I51) -> 1 | J50: =SUM(Ajapnjak:Tavush!J51) -> 0 | K50: =SUM(Ajapnjak:Tavush!K51) -> 30 | L50: =SUM(Ajapnjak:Tavush!L51) -> 1 | ... U50: =SUM(Ajapnjak:Tavush!U51) -> 1 | V50: =SUM(V51:V78) -> 47 | W50: =SUM(W51:W78) -> 47 | X50: =SUM(X51:X78) -> 30 | Y50: =SUM(Y51:Y78) -> 30 | Z50: =SUM(Z51:Z78) -> 2 | AA50: =SUM(AA51:AA78) -> 2 | AB50: =SUM(AB51:AB78) -> 1 | AC50: =SUM(AC51:AC78) -> 1
B51: 4.1 | C51: Ø³ñ¹áõ ¨ ù³Õ³ù³óáõ Çñ³í³Ñ³í³ë³ñáõÃÛáõÝÁ Ë³Ëï»ÉÁ | D51: 143 | E51: =SUM(Ajapnjak:Tavush!E52) -> 0 | F51: =SUM(Ajapnjak:Tavush!F52) -> 0 | G51: =SUM(Ajapnjak:Tavush!G52) -> 0 | H51: =SUM(Ajapnjak:Tavush!H52) -> 0 | I51: =SUM(Ajapnjak:Tavush!I52) -> 0 | J51: =SUM(Ajapnjak:Tavush!J52) -> 0 | K51: =SUM(Ajapnjak:Tavush!K52) -> 0 | L51: =SUM(Ajapnjak:Tavush!L52) -> 0 | ... U51: =SUM(Ajapnjak:Tavush!U52) -> 0 | V51: =E51+G51 -> 0 | W51: =K51+L51+N51 -> 0 | X51: =K51 -> 0 | Y51: =H51+I51+J51 -> 0 | Z51: =R51 -> 0 | AA51: =P51+Q51 -> 0 | AB51: =U51 -> 0 | AC51: =S51+T51 -> 0
B52: 4.2 | C52: ²ÝÓÝ³Ï³Ý Ï³Ù ÁÝï³Ý»Ï³Ý ÏÛ³ÝùÇ Ù³ëÇÝ ï»Õ»ÏáõÃÛáõÝÝ»ñ ³åûñÇÝÇ Ñ³í³ù»ÉÁ, å³Ñ»ÉÁ, û·ï³·áñÍ»ÉÁ Ï³Ù ï³ñ³Í»ÉÁ | D52: 144 | E52: =SUM(Ajapnjak:Tavush!E53) -> 0 | F52: =SUM(Ajapnjak:Tavush!F53) -> 0 | G52: =SUM(Ajapnjak:Tavush!G53) -> 2 | H52: =SUM(Ajapnjak:Tavush!H53) -> 1 | I52: =SUM(Ajapnjak:Tavush!I53) -> 0 | J52: =SUM(Ajapnjak:Tavush!J53) -> 0 | K52: =SUM(Ajapnjak:Tavush!K53) -> 1 | L52: =SUM(Ajapnjak:Tavush!L53) -> 1 | ... U52: =SUM(Ajapnjak:Tavush!U53) -> 0 | V52: =E52+G52 -> 2 | W52: =K52+L52+N52 -> 2 | X52: =K52 -> 1 | Y52: =H52+I52+J52 -> 1 | Z52: =R52 -> 0 | AA52: =P52+Q52 -> 0 | AB52: =U52 -> 0 | AC52: =S52+T52 -> 0
B53: 4.3 | C53: ´ÅßÏ³Ï³Ý ·³ÕïÝÇùÁ Ññ³å³ñ³Ï»ÉÁ | D53: 145 | E53: =SUM(Ajapnjak:Tavush!E54) -> 0 | F53: =SUM(Ajapnjak:Tavush!F54) -> 0 | G53: =SUM(Ajapnjak:Tavush!G54) -> 0 | H53: =SUM(Ajapnjak:Tavush!H54) -> 0 | I53: =SUM(Ajapnjak:Tavush!I54) -> 0 | J53: =SUM(Ajapnjak:Tavush!J54) -> 0 | K53: =SUM(Ajapnjak:Tavush!K54) -> 0 | L53: =SUM(Ajapnjak:Tavush!L54) -> 0 | ... U53: =SUM(Ajapnjak:Tavush!U54) -> 0 | V53: =E53+G53 -> 0 | W53: =K53+L53+N53 -> 0 | X53: =K53 -> 0 | Y53: =H53+I53+J53 -> 0 | Z53: =R53 -> 0 | AA53: =P53+Q53 -> 0 | AB53: =U53 -> 0 | AC53: =S53+T53 -> 0
...

Sheet Ajapnjak
B1: 2015Ã. | E1: Ð²ÞìºîìàôÂÚàôÜ | R1: Ð³í»Éí³Í Ð³Û³ëï³ÝÇ Ð³Ýñ³å»ïáõÃÛ³Ý ¸³ï³ñ³ÝÝ»ñÇ Ý³Ë³·³ÑÝ»ñÇ ËáñÑñ¹Ç 01.02.2016Ã. ÃÇí 11È áñáßÙ³Ý
B2: ºðºì²Ü ø²Ô²øÆ ²æ²öÜÚ²Î ¨ ¸²ìÂ²ÞºÜ ì²ðâ²Î²Ü Þðæ²ÜÜºðÆ ÀÜ¸Ð²Üàôð Æð²ì²êàôÂÚ²Ü ²è²æÆÜ ²îÚ²ÜÆ ¸²î²ð²ՆàôØ ՔՐԵԱԿԱՆ ¶àðÌºðÆ øÜÜàôÂÚ²Ü ìºð²´ºðÚ²È
B3: ºñ¨³Ý ù³Õ³ùÇ ²ç³÷ÝÛ³Ï ¨ ¸³íÃ³ß»Ý í³ñã³Ï³Ý ßñç³ÝÝ»ñÇ ÁÝ¹Ñ³Ýáõñ Çñ³í³ëáõÃÛ³Ý ³é³çÇÝ ³ïÛ³ÝÇ ¹³ï³ñ³ÝáõÙ ùñ»³Ï³Ý Ù³ëÝ³·Çï³óáõÙ áõÝ»óáÕ ¹³ï³íáñÝ»ñÇ Ñ³ëïÇùÝ»ñÇ ù³Ý³ÏÁ` 3
B4: êïáõ·Çã Ñ³í³ë³ñáõÙÝ»ñ` 1+3=7+8+10, 7=4+5+6, 14=12+13, 17=15+16 | D4: ÐÐ ùñ»³Ï³Ý ûñ»Ýë·ñùÇ Ñá¹í³ÍÝ»ñ | E4: Ð³ßí»ïáõ Å³Ù³Ý³Ï³Ñ³ïí³ÍÇ ëÏ½µáõÙ Ý³Ëáñ¹ Ñ³ßí»ïáõ Å³Ù³Ý³Ï³Ñ³ïí³ÍÇó ÷áË³Ýóí³Í ·áñÍ»ñÇ ÁÝ¹Ñ³Ýáõñ ÃÇíÁ | F4: ²Û¹ ÃíáõÙ` Ï³ë»óí³Í íÇ×³ÏáõÙ ÷áË³Ýóí³Í | G4: Ð³ßí»ïáõ Å³Ù³Ý³Ï³Ñ³ïí³ÍáõÙ ëï³óí³Í ·áñÍ»ñÇ ÁÝ¹Ñ³Ýáõñ ÃÇíÁ | H4: Ð³ßí»ïáõ Å³Ù³Ý³Ï³Ñ³ïí³ÍáõÙ ³í³ñïí³Í ·áñÍ»ñի ընդհանուր թիվը | L4: àõÕ³ñÏí»É ¿ Áëï ÁÝ¹¹³ïáõÃÛ³Ý | M4: Ð³ßí»ïáõ Å³Ù³Ý³Ï³Ñ³ïí³ÍáõÙ Ï³ë»óí³Í í³ñáõÛÃÝ»ñáí ·áñÍ»ñÇ ÁÝ¹Ñ³Ýáõñ ÃÇíÁ | N4: Ð³ßí»ïáõ Å³Ù³Ý³Ï³Ñ³ïí³ÍáõÙ ³Ý³í³ñï ·áñÍ»ñÇ ÁÝ¹Ñ³Ýáõñ ÃÇíÁ | O4: ²Û¹ ÃíáõÙª Ï³ë»óí³Í | P4: ´áÕáù³ñÏí³Í ¹³ï³Ï³Ý ³Ïï»ñÇ ÃÇíÁ` Áëï ï»ë³ÏÝ»ñÇ | S4: ´»Ï³Ýí³Í ¹³ï³Ï³Ý ³Ïï»ñÇ ÃÇíÁ` Áëï ï»ë³ÏÝ»ñÇ
H5: øÝÝí»É ¿ Áëï ¿áõÃÛ³Ý ¨ ¹³ï³í×Çé Ï³Û³óí»É | J5: ՈñáßáõÙ ¿ Ï³Û³óí»É ³ÝÙ»ÕëáõÝ³ÏÝ»ñÇ ÝÏ³ïÙ³Ùµ µÅßÏ³Ï³Ý µÝáõÛÃÇ Ñ³ñÏ³¹ñ³Ï³Ý ÙÇçáóÝ»ñ ÏÇñ³é»Éáõ Ù³ëÇÝ | K5: ÀÝ¹³Ù»ÝÁ ³í³ñïí»É »Ý ·áñÍ»ñ
I6: ՈñáßáõÙ ¿ Ï³Û³óí»É ùñ»³Ï³Ý ·áñÍÇ í³ñáõÛÃÁ Ï³ñ×»Éáõ ¨ ùñ»³Ï³Ý Ñ»ï³åÝ¹áõÙÁ ¹³¹³ñ»óÝ»Éáõ Ù³ëÇÝ | P6: ²Û¹ ÃíáõÙ` ·áñÍÝ Áëï ¿áõÃÛ³Ý ÉáõÍáÕ ¹³ï³Ï³Ý ³Ïï»ñÁ | Q6: ²Û¹ ÃíáõÙ` ÙÇç³ÝÏÛ³É ¹³ï³Ï³Ý ³Ïï»ñÁ | R6: ÀÝ¹³Ù»ÝÁ | S6: ²Û¹ ÃíáõÙ` ·áñÍÝ Áëï ¿áõÃÛ³Ý ÉáõÍáÕ ¹³ï³Ï³Ý ³Ïï»ñÁ | T6: ²Û¹ ÃíáõÙ` ÙÇç³ÝÏÛ³É ¹³ï³Ï³Ý ³Ïï»ñÁ | U6: ÀÝ¹³Ù»ÝÁ
E7: 1 | F7: 2 | G7: 3 | H7: 4 | I7: 5 | J7: 6 | K7: 7 | L7: 8 | M7: 9 | N7: 10 | O7: 11 | P7: 12 | Q7: 13 | R7: 14 | S7: 15 | T7: 16 | U7: 17 | V7: 1+3=7+8+10 | X7: 7=4+5+6 | Z7: 14=12+13 | AB7: 17=15+16
A8: 1 | B8: 1. | C8: ÀÝ¹³Ù»ÝÁ ÏÛ³ÝùÇ ¨ ³éáÕçáõÃÛ³Ý ¹»Ù áõÕÕí³Í Ñ³Ýó³·áñÍáõÃÛáõÝÝ»ñÁ | E8: =SUM(E9:E35) -> 11 | F8: =SUM(F9:F35) -> 1 | G8: =SUM(G9:G35) -> 21 | H8: =SUM(H9:H35) -> 15 | I8: =SUM(I9:I35) -> 2 | J8: =SUM(J9:J35) -> 0 | K8: =SUM(K9:K35) -> 17 | L8: =SUM(L9:L35) -> 0 | ... AC8: =SUM(AC9:AC35) -> 1
A9: 0 | B9: 1.1 | C9: êå³ÝáõÃÛáõÝÁ | D9: 104 | E9: 1 | G9: 4 | N9: 5 | V9: =E9+G9 -> 5 | W9: =K9+L9+N9 -> 5 | X9: =K9 -> 0 | Y9: =H9+I9+J9 -> 0 | Z9: =R9 -> 0 | AA9: =P9+Q9 -> 0 | AB9: =U9 -> 0 | AC9: =S9+T9 -> 0
A10: 0 | B10: 1.2 | C10: Ðá·»Ï³Ý ËÇëï Ñáõ½ÙáõÝùÇ íÇ×³ÏáõÙ Ï³ï³ñí³Í ëå³ÝáõÃÛáõÝÁ | D10: 105 | V10: =E10+G10 -> 0 | W10: =K10+L10+N10 -> 0 | X10: =K10 -> 0 | Y10: =H10+I10+J10 -> 0 | Z10: =R10 -> 0 | AA10: =P10+Q10 -> 0 | AB10: =U10 -> 0 | AC10: =S10+T10 -> 0
A11: 0 | B11: 1.3 | C11: Øáñ ÏáÕÙÇó Ýáñ³ÍÇÝ »ñ»Ë³ÛÇ ëå³ÝáõÃÛáõÝÁ | D11: 106 | V11: =E11+G11 -> 0 | W11: =K11+L11+N11 -> 0 | X11: =K11 -> 0 | Y11: =H11+I11+J11 -> 0 | Z11: =R11 -> 0 | AA11: =P11+Q11 -> 0 | AB11: =U11 -> 0 | AC11: =S11+T11 -> 0
A12: 0 | B12: 1.4 | C12: Ð³Ýó³Ýù Ï³ï³ñ³Í ³ÝÓÇÝ µéÝ»Éáõ Ñ³Ù³ñ ³ÝÑñ³Å»ßï ÙÇçáóÝ»ñÇ ë³ÑÙ³Ý³½³ÝóÙ³Ùµ ëå³ÝáõÃÛáõÝÁ | D12: 107 | V12: =E12+G12 -> 0 | W12: =K12+L12+N12 -> 0 | X12: =K12 -> 0 | Y12: =H12+I12+J12 -> 0 | Z12: =R12 -> 0 | AA12: =P12+Q12 -> 0 | AB12: =U12 -> 0 | AC12: =S12+T12 -> 0
A13: 0 | B13: 1.5 | C13: ²ÝÑñ³Å»ßï å³ßïå³ÝáõÃÛ³Ý ë³ÑÙ³Ý³½³ÝóÙ³Ùµ ëå³ÝáõÃÛáõÝÁ | D13: 108 | V13: =E13+G13 -> 0 | W13: =K13+L13+N13 -> 0 | X13: =K13 -> 0 | Y13: =H13+I13+J13 -> 0 | Z13: =R13 -> 0 | AA13: =P13+Q13 -> 0 | AB13: =U13 -> 0 | AC13: =S13+T13 -> 0
A14: 0 | B14: 1.6 | C14: ²Ý½·áõßáõÃÛ³Ùµ Ù³Ñ å³ï×³é»ÉÁ | D14: 109 | G14: 1 | N14: 1 | V14: =E14+G14 -> 1 | W14: =K14+L14+N14 -> 1 | X14: =K14 -> 0 | Y14: =H14+I14+J14 -> 0 | Z14: =R14 -> 0 | AA14: =P14+Q14 -> 0 | AB14: =U14 -> 0 | AC14: =S14+T14 -> 0
A15: 0 | B15: 1.7 | C15: ÆÝùÝ³ëå³ÝáõÃÛ³Ý Ñ³ëóÝ»ÉÁ | D15: 110 | V15: =E15+G15 -> 0 | W15: =K15+L15+N15 -> 0 | X15: =K15 -> 0 | Y15: =H15+I15+J15 -> 0 | Z15: =R15 -> 0 | AA15: =P15+Q15 -> 0 | AB15: =U15 -> 0 | AC15: =S15+T15 -> 0
A16: 0 | B16: 1.8 | C16: ÆÝùÝ³ëå³ÝáõÃÛ³Ý Ñ³Ï»ÉÁ | D16: 111 | V16: =E16+G16 -> 0 | W16: =K16+L16+N16 -> 0 | X16: =K16 -> 0 | Y16: =H16+I16+J16 -> 0 | Z16: =R16 -> 0 | AA16: =P16+Q16 -> 0 | AB16: =U16 -> 0 | AC16: =S16+T16 -> 0
A17: 0 | B17: 1.9 | C17: ¸Çï³íáñáõÃÛ³Ùµ ³éáÕçáõÃÛ³ÝÁ Í³Ýñ íÝ³ë å³ï×³é»ÉÁ | D17: 112 | E17: 4 | G17: 11 | H17: 9 | K17: 9 | N17: 6 | P17: 5 | R17: 5 | V17: =E17+G17 -> 15 | W17: =K17+L17+N17 -> 15 | X17: =K17 -> 9 | Y17: =H17+I17+J17 -> 9 | Z17: =R17 -> 5 | AA17: =P17+Q17 -> 5 | AB17: =U17 -> 0 | AC17: =S17+T17 -> 0
A18: 0 | B18: 1.10 | C18: ¸Çï³íáñáõÃÛ³Ùµ ³éáÕçáõÃÛ³ÝÁ ÙÇçÇÝ Í³ÝñáõÃÛ³Ý íÝ³ë å³ï×³é»ÉÁ | D18: 113 | E18: 2 | H18: 2 | K18: 2 | P18: 1 | R18: 1 | S18: 1 | U18: 1 | V18: =E18+G18 -> 2 | W18: =K18+L18+N18 -> 2 | X18: =K18 -> 2 | Y18: =H18+I18+J18 -> 2 | Z18: =R18 -> 1 | AA18: =P18+Q18 -> 1 | AB18: =U18 -> 1 | AC18: =S18+T18 -> 1
A19: 0 | B19: 1.11 | C19: Ðá·»Ï³Ý ËÇëï Ñáõ½ÙáõÝùÇ íÇ×³ÏáõÙ ³éáÕçáõÃÛ³ÝÁ Í³Ýñ Ï³Ù ÙÇçÇÝ Í³ÝñáõÃÛ³Ý íÝ³ë å³ï×³é»ÉÁ | D19: 114 | V19: =E19+G19 -> 0 | W19: =K19+L19+N19 -> 0 | X19: =K19 -> 0 | Y19: =H19+I19+J19 -> 0 | Z19: =R19 -> 0 | AA19: =P19+Q19 -> 0 | AB19: =U19 -> 0 | AC19: =S19+T19 -> 0
A20: 0 | B20: 1.12 | C20: Ð³Ýó³Ýù Ï³ï³ñ³Í ³ÝÓÇÝ µéÝ»Éáõ Ñ³Ù³ñ ³ÝÑñ³Å»ßï ÙÇçáóÝ»ñÇ ë³ÑÙ³Ý½³ÝóÙ³Ùµ ³éáÕçáõÃÛ³ÝÁ Í³Ýñ Ï³Ù ÙÇçÇÝ Í³ÝñáõÃÛ³Ý íÝ³ë å³ï×³é»ÉÁ | D20: 115 | V20: =E20+G20 -> 0 | W20: =K20+L20+N20 -> 0 | X20: =K20 -> 0 | Y20: =H20+I20+J20 -> 0 | Z20: =R20 -> 0 | AA20: =P20+Q20 -> 0 | AB20: =U20 -> 0 | AC20: =S20+T20 -> 0
A21: 0 | B21: 1.13 | C21: ²éáÕçáõÃÛ³ÝÁ Í³Ýñ Ï³Ù ÙÇçÇÝ Í³ÝñáõÃÛ³Ý íÝ³ë å³ï×³é»ÉÁ ³ÝÑñ³Å»ßï å³ßïå³ÝáõÃÛ³Ý ë³ÑÙ³Ý³Ý³½³ÝóÙ³Ùµ | D21: 116 | V21: =E21+G21 -> 0 | W21: =K21+L21+N21 -> 0 | X21: =K21 -> 0 | Y21: =H21+I21+J21 -> 0 | Z21: =R21 -> 0 | AA21: =P21+Q21 -> 0 | AB21: =U21 -> 0 | AC21: =S21+T21 -> 0
A22: 0 | B22: 1.14 | C22: ¸Çï³íáñáõÃÛ³Ùµ ³éáÕçáõÃÛ³ÝÁ Ã»Ã¨ íÝ³ë å³ï×³é»ÉÁ | D22: 117 | E22: 1 | G22: 2 | H22: 0 | I22: 2 | K22: 2 | N22: 1 | V22: =E22+G22 -> 3 | W22: =K22+L22+N22 -> 3 | X22: =K22 -> 2 | Y22: =H22+I22+J22 -> 2 | Z22: =R22 -> 0 | AA22: =P22+Q22 -> 0 | AB22: =U22 -> 0 | AC22: =S22+T22 -> 0
A23: 0 | B23: 1.15 | C23: Ì»ÍÁ | D23: 118 | E23: 2 | G23: 2 | H23: 4 | K23: 4 | P23: 2 | R23: 2 | V23: =E23+G23 -> 4 | W23: =K23+L23+N23 -> 4 | X23: =K23 -> 4 | Y23: =H23+I23+J23 -> 4 | Z23: =R23 -> 2 | AA23: =P23+Q23 -> 2 | AB23: =U23 -> 0 | AC23: =S23+T23 -> 0
A24: 0 | B24: 1.16 | C24: Êáßï³Ý·áõÙÁ | D24: 119 | V24: =E24+G24 -> 0 | W24: =K24+L24+N24 -> 0 | X24: =K24 -> 0 | Y24: =H24+I24+J24 -> 0 | Z24: =R24 -> 0 | AA24: =P24+Q24 -> 0 | AB24: =U24 -> 0 | AC24: =S24+T24 -> 0
A25: 0 | B25: 1.17 | C25: ²Ý½·áõßáõÃÛ³Ùµ ³éáÕçáõÃÛ³ÝÁ Í³Ýñ íÝ³ë å³ï×³é»ÉÁ | D25: 120 | V25: =E25+G25 -> 0 | W25: =K25+L25+N25 -> 0 | X25: =K25 -> 0 | Y25: =H25+I25+J25 -> 0 | Z25: =R25 -> 0 | AA25: =P25+Q25 -> 0 | AB25: =U25 -> 0 | AC25: =S25+T25 -> 0
A26: 0 | B26: 1.18 | C26: ²Ý½·áõßáõÃÛ³Ùµ ³éáÕçáõÃÛ³ÝÁ ÙÇçÇÝ Í³ÝñáõÃÛ³Ý íÝ³ë å³ï×³é»ÉÁ | D26: 121 | V26: =E26+G26 -> 0 | W26: =K26+L26+N26 -> 0 | X26: =K26 -> 0 | Y26: =H26+I26+J26 -> 0 | Z26: =R26 -> 0 | AA26: =P26+Q26 -> 0 | AB26: =U26 -> 0 | AC26: =S26+T26 -> 0
A27: 0 | B27: 1.19 | C27: ²åûñÇÝÇ ³µáñï Ï³ï³ñ»ÉÁ | D27: 122 | V27: =E27+G27 -> 0 | W27: =K27+L27+N27 -> 0 | X27: =K27 -> 0 | Y27: =H27+I27+J27 -> 0 | Z27: =R27 -> 0 | AA27: =P27+Q27 -> 0 | AB27: =U27 -> 0 | AC27: =S27+T27 -> 0
A28: 0 | B28: 1.20 | C28: Ø³ñ¹áõ ÇÙáõÝ³ÛÇÝ ³Ýµ³í³ñ³ñáõÃÛ³Ý íÇñáõëÇ Ñ³ñáõóÇãáí í³ñ³Ï»ÉÁ | D28: 123 | V28: =E28+G28 -> 0 | W28: =K28+L28+N28 -> 0 | X28: =K28 -> 0 | Y28: =H28+I28+J28 -> 0 | Z28: =R28 -> 0 | AA28: =P28+Q28 -> 0 | AB28: =U28 -> 0 | AC28: =S28+T28 -> 0
A29: 0 | B29: 1.21 | C29: ì»Ý»ñ³Ï³Ý ÑÇí³Ý¹áõÃÛ³Ùµ Ï³Ù ³ÛÉ ë»é³í³ñ³ÏÝ»ñáí í³ñ³Ï»ÉÁ | D29: 124 | V29: =E29+G29 -> 0 | W29: =K29+L29+N29 -> 0 | X29: =K29 -> 0 | Y29: =H29+I29+J29 -> 0 | Z29: =R29 -> 0 | AA29: =P29+Q29 -> 0 | AB29: =U29 -> 0 | AC29: =S29+T29 -> 0
A30: 0 | B30: 1.22 | C30: öáËå³ïí³ëïÙ³Ý íÇñ³Ñ³ïáõÃÛáõÝ Ï³ï³ñ»Éáõ Ï³ÝáÝÝ»ñÁ Ë³Ëï»ÉÁ | D30: 125 | V30: =E30+G30 -> 0 | W30: =K30+L30+N30 -> 0 | X30: =K30 -> 0 | Y30: =H30+I30+J30 -> 0 | Z30: =R30 -> 0 | AA30: =P30+Q30 -> 0 | AB30: =U30 -> 0 | AC30: =S30+T30 -> 0
A31: 0 | B31: 1.24 | C31: ²ÝÓÇÝ ³é³Ýó Çñ Ñ³ÝÓÝ³ñ³ñáõÃÛ³Ý µÅßÏ³Ï³Ý Ï³Ù ·Çï³Ï³Ý ÷áñÓ»ñÇ »ÝÃ³ñÏ»ÉÁ | D31: 127 | V31: =E31+G31 -> 0 | W31: =K31+L31+N31 -> 0 | X31: =K31 -> 0 | Y31: =H31+I31+J31 -> 0 | Z31: =R31 -> 0 | AA31: =P31+Q31 -> 0 | AB31: =U31 -> 0 | AC31: =S31+T31 -> 0
A32: 0 | B32: 1.25 | C32: ìï³Ý·Ç Ù»ç ÃáÕÝ»ÉÁ | D32: 128 | V32: =E32+G32 -> 0 | W32: =K32+L32+N32 -> 0 | X32: =K32 -> 0 | Y32: =H32+I32+J32 -> 0 | Z32: =R32 -> 0 | AA32: =P32+Q32 -> 0 | AB32: =U32 -> 0 | AC32: =S32+T32 -> 0
A33: 0 | B33: 1.26 | C33: ÐÇí³Ý¹ÇÝ û·ÝáõÃÛáõÝ óáõÛó ãï³ÉÁ | D33: 129 | V33: =E33+G33 -> 0 | W33: =K33+L33+N33 -> 0 | X33: =K33 -> 0 | Y33: =H33+I33+J33 -> 0 | Z33: =R33 -> 0 | AA33: =P33+Q33 -> 0 | AB33: =U33 -> 0 | AC33: =S33+T33 -> 0
A34: 0 | B34: 1.27 | C34: ´ÅßÏ³Ï³Ý û·ÝáõÃÛáõÝ ¨ ëå³ë³ñÏáõÙ Çñ³Ï³Ý³óÝáÕÝ»ñÇ ÏáÕÙÇó Ù³ëÝ³·Çï³Ï³Ý å³ñï³Ï³ÝáõÃÛáõÝÝ»ñÁ ãÏ³ï³ñ»ÉÁ Ï³Ù áã å³ïß³× Ï³ï³ñ»ÉÁ | D34: 130 | G34: 1 | N34: 1 | V34: =E34+G34 -> 1 | W34: =K34+L34+N34 -> 1 | X34: =K34 -> 0 | Y34: =H34+I34+J34 -> 0 | Z34: =R34 -> 0 | AA34: =P34+Q34 -> 0 | AB34: =U34 -> 0 | AC34: =S34+T34 -> 0
A35: 1 | B35: 1.28 | C35: ²ÛÉ Ñ³Ýó³·áñÍáõÃÛáõÝÝ»ñ | E35: 1 | F35: 1 | N35: 1 | O35: 1 | V35: =E35+G35 -> 1 | W35: =K35+L35+N35 -> 1 | X35: =K35 -> 0 | Y35: =H35+I35+J35 -> 0 | Z35: =R35 -> 0 | AA35: =P35+Q35 -> 0 | AB35: =U35 -> 0 | AC35: =S35+T35 -> 0
A36: 0 | B36: 2. | C36: ÀÝ¹³Ù»ÝÁ ³ÝÓÇ ³½³ïáõÃÛ³Ý, å³ïíÇ ¨ ³ñÅ³Ý³å³ïíáõÃÛ³Ý ¹»Ù áõÕÕí³Í Ñ³Ýó³·áñÍáõÃÛáõÝÝ»ñÁ | E36: =SUM(E37:E43) -> 3 | F36: =SUM(F37:F43) -> 0 | G36: =SUM(G37:G43) -> 4 | H36: =SUM(H37:H43) -> 3 | I36: =SUM(I37:I43) -> 0 | J36: =SUM(J37:J43) -> 0 | K36: =SUM(K37:K43) -> 3 | L36: =SUM(L37:L43) -> 0 | ... AC36: =SUM(AC37:AC43) -> 1
A37: 0 | B37: 2.1 | C37: Ø³ñ¹áõÝ ³é¨³Ý·»ÉÁ | D37: 131 | E37: 2 | G37: 1 | H37: 1 | K37: 1 | N37: 2 | P37: 1 | R37: 1 | V37: =E37+G37 -> 3 | W37: =K37+L37+N37 -> 3 | X37: =K37 -> 1 | Y37: =H37+I37+J37 -> 1 | Z37: =R37 -> 1 | AA37: =P37+Q37 -> 1 | AB37: =U37 -> 0 | AC37: =S37+T37 -> 0
B38: 2.2 | C38: Մարդու թրաֆիքինգը կամ շահագործումը | D38: 132 | V38: =E38+G38 -> 0 | W38: =K38+L38+N38 -> 0 | X38: =K38 -> 0 | Y38: =H38+I38+J38 -> 0 | Z38: =R38 -> 0 | AA38: =P38+Q38 -> 0 | AB38: =U38 -> 0 | AC38: =S38+T38 -> 0
B39: 2.2.1 | C39: Ø³ñ¹áõÝ åáéÝÇÏáõÃÛ³Ý Ï³Ù ë»é³Ï³Ý ß³Ñ³·áñÍÙ³Ý ³ÛÉ Ó¨»ñÇ Ù»ç, Ñ³ñÏ³¹Çñ ³ßË³ï³ÝùÇ Ï³Ù Í³é³ÛáõÃÛáõÝÝ»ñÇ Ý»ñ·ñ³í»ÉÁ Ï³Ù ëïñÏáõÃÛ³Ý Ï³Ù ëïñÏáõÃÛ³ÝÁ ÝÙ³ÝíáÕ íÇ×³ÏÇ Ù»ç ¹Ý»ÉÁ Ï³Ù å³Ñ»ÉÁ | D39: 132.1 | V39: =E39+G39 -> 0 | W39: =K39+L39+N39 -> 0 | X39: =K39 -> 0 | Y39: =H39+I39+J39 -> 0 | Z39: =R39 -> 0 | AA39: =P39+Q39 -> 0 | AB39: =U39 -> 0 | AC39: =S39+T39 -> 0
B40: 2.3 | C40: ²½³ïáõÃÛáõÝÇó ³åûñÇÝÇ ½ñÏ»ÉÁ | D40: 133 | V40: =E40+G40 -> 0 | W40: =K40+L40+N40 -> 0 | X40: =K40 -> 0 | Y40: =H40+I40+J40 -> 0 | Z40: =R40 -> 0 | AA40: =P40+Q40 -> 0 | AB40: =U40 -> 0 | AC40: =S40+T40 -> 0
...

Sheet Erebuni
B1: 2015Ã. | E1: Ð²ÞìºîìàôÂÚàôÜ | R1: Ð³í»Éí³Í Ð³Û³ëï³ÝÇ Ð³Ýñ³å»ïáõÃÛ³Ý ¸³ï³ñ³ÝÝ»ñÇ Ý³Ë³·³ÑÝ»ñÇ ËáñÑñ¹Ç 01.02.2016Ã. ÃÇí 11È áñáßÙ³Ý
B2: ºðºì²Ü ø²Ô²øÆ ¾ðº´àôÜÆ ºì Üàô´²ð²ÞºÜ ì²ðâ²Î²Ü Þðæ²ÜÜºðÆ ÀÜ¸Ð²Üàôð Æð²ì²êàôÂÚ²Ü ²è²æÆÜ ²îÚ²ÜÆ ¸²î²ð²ÜàôØ ՔՐԵԱԿԱՆ ¶àðÌºðÆ øÜÜàôÂÚ²Ü ìºð²´ºðÚ²È
B3: ºñ¨³Ý ù³Õ³ùÇ ¾ñ»µáõÝÇ ¨ Üáõµ³ñ³ß»Ý í³ñã³Ï³Ý ßñç³ÝÝ»ñÇ ÁÝ¹Ñ³Ýáõñ Çñ³í³ëáõÃÛ³Ý ³é³çÇÝ ³ïÛ³ÝÇ ¹³ï³ñ³ÝáõÙ ùñ»³Ï³Ý Ù³ëÝ³·Çï³óáõÙ áõÝ»óáÕ ¹³ï³íáñÝ»ñÇ Ñ³ëïÇùÝ»ñÇ ù³Ý³ÏÁ` 4
B4: êïáõ·Çã Ñ³í³ë³ñáõÙÝ»ñ` 1+3=7+8+10, 7=4+5+6, 14=12+13, 17=15+16 | D4: ÐÐ ùñ»³Ï³Ý ûñ»Ýë·ñùÇ Ñá¹í³ÍÝ»ñ | E4: Ð³ßí»ïáõ Å³Ù³Ý³Ï³Ñ³ïí³ÍÇ ëÏ½µáõÙ Ý³Ëáñ¹ Ñ³ßí»ïáõ Å³Ù³Ý³Ï³Ñ³ïí³ÍÇó ÷áË³Ýóí³Í ·áñÍ»ñÇ ÁÝ¹Ñ³Ýáõñ ÃÇíÁ | F4: ²Û¹ ÃíáõÙ` Ï³ë»óí³Í íÇ×³ÏáõÙ ÷áË³Ýóí³Í | G4: Ð³ßí»ïáõ Å³Ù³Ý³Ï³Ñ³ïí³ÍáõÙ ëï³óí³Í ·áñÍ»ñÇ ÁÝ¹Ñ³Ýáõñ ÃÇíÁ | H4: Ð³ßí»ïáõ Å³Ù³Ý³Ï³Ñ³ïí³ÍáõÙ ³í³ñïí³Í ·áñÍ»ñի ընդհանուր թիվը | L4: àõÕ³ñÏí»É ¿ Áëï ÁÝ¹¹³ïáõÃÛ³Ý | M4: Ð³ßí»ïáõ Å³Ù³Ý³Ï³Ñ³ïí³ÍáõÙ Ï³ë»óí³Í í³ñáõÛÃÝ»ñáí ·áñÍ»ñÇ ÁÝ¹Ñ³Ýáõñ ÃÇíÁ | N4: Ð³ßí»ïáõ Å³Ù³Ý³Ï³Ñ³ïí³ÍáõÙ ³Ý³í³ñï ·áñÍ»ñÇ ÁÝ¹Ñ³Ýáõñ ÃÇíÁ | O4: ²Û¹ ÃíáõÙª Ï³ë»óí³Í | P4: ´áÕáù³ñÏí³Í ¹³ï³Ï³Ý ³Ïï»ñÇ ÃÇíÁ` Áëï ï»ë³ÏÝ»ñÇ | S4: ´»Ï³Ýí³Í ¹³ï³Ï³Ý ³Ïï»ñÇ ÃÇíÁ` Áëï ï»ë³ÏÝ»ñÇ
H5: øÝÝí»É ¿ Áëï ¿áõÃÛ³Ý ¨ ¹³ï³í×Çé Ï³Û³óí»É | J5: ՈñáßáõÙ ¿ Ï³Û³óí»É ³ÝÙ»ÕëáõÝ³ÏÝ»ñÇ ÝÏ³ïÙ³Ùµ µÅßÏ³Ï³Ý µÝáõÛÃÇ Ñ³ñÏ³¹ñ³Ï³Ý ÙÇçáóÝ»ñ ÏÇñ³é»Éáõ Ù³ëÇÝ | K5: ÀÝ¹³Ù»ÝÁ ³í³ñïí»É »Ý ·áñÍ»ñ
I6: ՈñáßáõÙ ¿ Ï³Û³óí»É ùñ»³Ï³Ý ·áñÍÇ í³ñáõÛÃÁ Ï³ñ×»Éáõ ¨ ùñ»³Ï³Ý Ñ»ï³åÝ¹áõÙÁ ¹³¹³ñ»óÝ»Éáõ Ù³ëÇÝ | P6: ²Û¹ ÃíáõÙ` ·áñÍÝ Áëï ¿áõÃÛ³Ý ÉáõÍáÕ ¹³ï³Ï³Ý ³Ïï»ñÁ | Q6: ²Û¹ ÃíáõÙ` ÙÇç³ÝÏÛ³É ¹³ï³Ï³Ý ³Ïï»ñÁ | R6: ÀÝ¹³Ù»ÝÁ | S6: ²Û¹ ÃíáõÙ` ·áñÍÝ Áëï ¿áõÃÛ³Ý ÉáõÍáÕ ¹³ï³Ï³Ý ³Ïï»ñÁ | T6: ²Û¹ ÃíáõÙ` ÙÇç³ÝÏÛ³É ¹³ï³Ï³Ý ³Ïï»ñÁ | U6: ÀÝ¹³Ù»ÝÁ
E7: 1 | F7: 2 | G7: 3 | H7: 4 | I7: 5 | J7: 6 | K7: 7 | L7: 8 | M7: 9 | N7: 10 | O7: 11 | P7: 12 | Q7: 13 | R7: 14 | S7: 15 | T7: 16 | U7: 17 | V7: 1+3=7+8+10 | X7: 7=4+5+6 | Z7: 14=12+13 | AB7: 17=15+16
A8: 1 | B8: 1. | C8: ÀÝ¹³Ù»ÝÁ ÏÛ³ÝùÇ ¨ ³éáÕçáõÃÛ³Ý ¹»Ù áõÕÕí³Í Ñ³Ýó³·áñÍáõÃÛáõÝÝ»ñÁ | E8: =SUM(E9:E35) -> 5 | F8: =SUM(F9:F35) -> 0 | G8: =SUM(G9:G35) -> 19 | H8: =SUM(H9:H35) -> 11 | I8: =SUM(I9:I35) -> 2 | J8: =SUM(J9:J35) -> 0 | K8: =SUM(K9:K35) -> 13 | L8: =SUM(L9:L35) -> 1 | ... AC8: =SUM(AC9:AC35) -> 0
A9: 0 | B9: 1.1 | C9: êå³ÝáõÃÛáõÝÁ | D9: 104 | E9: 1 | G9: 4 | H9: 2 | I9: 1 | K9: 3 | N9: 2 | P9: 2 | R9: 2 | V9: =E9+G9 -> 5 | W9: =K9+L9+N9 -> 5 | X9: =K9 -> 3 | Y9: =H9+I9+J9 -> 3 | Z9: =R9 -> 2 | AA9: =P9+Q9 -> 2 | AB9: =U9 -> 0 | AC9: =S9+T9 -> 0
A10: 0 | B10: 1.2 | C10: Ðá·»Ï³Ý ËÇëï Ñáõ½ÙáõÝùÇ íÇ×³ÏáõÙ Ï³ï³ñí³Í ëå³ÝáõÃÛáõÝÁ | D10: 105 | V10: =E10+G10 -> 0 | W10: =K10+L10+N10 -> 0 | X10: =K10 -> 0 | Y10: =H10+I10+J10 -> 0 | Z10: =R10 -> 0 | AA10: =P10+Q10 -> 0 | AB10: =U10 -> 0 | AC10: =S10+T10 -> 0
A11: 0 | B11: 1.3 | C11: Øáñ ÏáÕÙÇó Ýáñ³ÍÇÝ »ñ»Ë³ÛÇ ëå³ÝáõÃÛáõÝÁ | D11: 106 | V11: =E11+G11 -> 0 | W11: =K11+L11+N11 -> 0 | X11: =K11 -> 0 | Y11: =H11+I11+J11 -> 0 | Z11: =R11 -> 0 | AA11: =P11+Q11 -> 0 | AB11: =U11 -> 0 | AC11: =S11+T11 -> 0
A12: 0 | B12: 1.4 | C12: Ð³Ýó³Ýù Ï³ï³ñ³Í ³ÝÓÇÝ µéÝ»Éáõ Ñ³Ù³ñ ³ÝÑñ³Å»ßï ÙÇçáóÝ»ñÇ ë³ÑÙ³Ý³½³ÝóÙ³Ùµ ëå³ÝáõÃÛáõÝÁ | D12: 107 | V12: =E12+G12 -> 0 | W12: =K12+L12+N12 -> 0 | X12: =K12 -> 0 | Y12: =H12+I12+J12 -> 0 | Z12: =R12 -> 0 | AA12: =P12+Q12 -> 0 | AB12: =U12 -> 0 | AC12: =S12+T12 -> 0
A13: 0 | B13: 1.5 | C13: ²ÝÑñ³Å»ßï å³ßïå³ÝáõÃÛ³Ý ë³ÑÙ³Ý³½³ÝóÙ³Ùµ ëå³ÝáõÃÛáõÝÁ | D13: 108 | V13: =E13+G13 -> 0 | W13: =K13+L13+N13 -> 0 | X13: =K13 -> 0 | Y13: =H13+I13+J13 -> 0 | Z13: =R13 -> 0 | AA13: =P13+Q13 -> 0 | AB13: =U13 -> 0 | AC13: =S13+T13 -> 0
A14: 0 | B14: 1.6 | C14: ²Ý½·áõßáõÃÛ³Ùµ Ù³Ñ å³ï×³é»ÉÁ | D14: 109 | V14: =E14+G14 -> 0 | W14: =K14+L14+N14 -> 0 | X14: =K14 -> 0 | Y14: =H14+I14+J14 -> 0 | Z14: =R14 -> 0 | AA14: =P14+Q14 -> 0 | AB14: =U14 -> 0 | AC14: =S14+T14 -> 0
A15: 0 | B15: 1.7 | C15: ÆÝùÝ³ëå³ÝáõÃÛ³Ý Ñ³ëóÝ»ÉÁ | D15: 110 | V15: =E15+G15 -> 0 | W15: =K15+L15+N15 -> 0 | X15: =K15 -> 0 | Y15: =H15+I15+J15 -> 0 | Z15: =R15 -> 0 | AA15: =P15+Q15 -> 0 | AB15: =U15 -> 0 | AC15: =S15+T15 -> 0
A16: 0 | B16: 1.8 | C16: ÆÝùÝ³ëå³ÝáõÃÛ³Ý Ñ³Ï»ÉÁ | D16: 111 | V16: =E16+G16 -> 0 | W16: =K16+L16+N16 -> 0 | X16: =K16 -> 0 | Y16: =H16+I16+J16 -> 0 | Z16: =R16 -> 0 | AA16: =P16+Q16 -> 0 | AB16: =U16 -> 0 | AC16: =S16+T16 -> 0
A17: 0 | B17: 1.9 | C17: ¸Çï³íáñáõÃÛ³Ùµ ³éáÕçáõÃÛ³ÝÁ Í³Ýñ íÝ³ë å³ï×³é»ÉÁ | D17: 112 | E17: 1 | G17: 12 | H17: 6 | K17: 6 | L17: 1 | N17: 6 | P17: 3 | R17: 3 | V17: =E17+G17 -> 13 | W17: =K17+L17+N17 -> 13 | X17: =K17 -> 6 | Y17: =H17+I17+J17 -> 6 | Z17: =R17 -> 3 | AA17: =P17+Q17 -> 3 | AB17: =U17 -> 0 | AC17: =S17+T17 -> 0
A18: 0 | B18: 1.10 | C18: ¸Çï³íáñáõÃÛ³Ùµ ³éáÕçáõÃÛ³ÝÁ ÙÇçÇÝ Í³ÝñáõÃÛ³Ý íÝ³ë å³ï×³é»ÉÁ | D18: 113 | G18: 2 | H18: 1 | K18: 1 | N18: 1 | V18: =E18+G18 -> 2 | W18: =K18+L18+N18 -> 2 | X18: =K18 -> 1 | Y18: =H18+I18+J18 -> 1 | Z18: =R18 -> 0 | AA18: =P18+Q18 -> 0 | AB18: =U18 -> 0 | AC18: =S18+T18 -> 0
A19: 0 | B19: 1.11 | C19: Ðá·»Ï³Ý ËÇëï Ñáõ½ÙáõÝùÇ íÇ×³ÏáõÙ ³éáÕçáõÃÛ³ÝÁ Í³Ýñ Ï³Ù ÙÇçÇÝ Í³ÝñáõÃÛ³Ý íÝ³ë å³ï×³é»ÉÁ | D19: 114 | V19: =E19+G19 -> 0 | W19: =K19+L19+N19 -> 0 | X19: =K19 -> 0 | Y19: =H19+I19+J19 -> 0 | Z19: =R19 -> 0 | AA19: =P19+Q19 -> 0 | AB19: =U19 -> 0 | AC19: =S19+T19 -> 0
A20: 0 | B20: 1.12 | C20: Ð³Ýó³Ýù Ï³ï³ñ³Í ³ÝÓÇÝ µéÝ»Éáõ Ñ³Ù³ñ ³ÝÑñ³Å»ßï ÙÇçáóÝ»ñÇ ë³ÑÙ³Ý½³ÝóÙ³Ùµ ³éáÕçáõÃÛ³ÝÁ Í³Ýñ Ï³Ù ÙÇçÇÝ Í³ÝñáõÃÛ³Ý íÝ³ë å³ï×³é»ÉÁ | D20: 115 | V20: =E20+G20 -> 0 | W20: =K20+L20+N20 -> 0 | X20: =K20 -> 0 | Y20: =H20+I20+J20 -> 0 | Z20: =R20 -> 0 | AA20: =P20+Q20 -> 0 | AB20: =U20 -> 0 | AC20: =S20+T20 -> 0
A21: 0 | B21: 1.13 | C21: ²éáÕçáõÃÛ³ÝÁ Í³Ýñ Ï³Ù ÙÇçÇÝ Í³ÝñáõÃÛ³Ý íÝ³ë å³ï×³é»ÉÁ ³ÝÑñ³Å»ßï å³ßïå³ÝáõÃÛ³Ý ë³ÑÙ³Ý³Ý³½³ÝóÙ³Ùµ | D21: 116 | V21: =E21+G21 -> 0 | W21: =K21+L21+N21 -> 0 | X21: =K21 -> 0 | Y21: =H21+I21+J21 -> 0 | Z21: =R21 -> 0 | AA21: =P21+Q21 -> 0 | AB21: =U21 -> 0 | AC21: =S21+T21 -> 0
A22: 0 | B22: 1.14 | C22: ¸Çï³íáñáõÃÛ³Ùµ ³éáÕçáõÃÛ³ÝÁ Ã»Ã¨ íÝ³ë å³ï×³é»ÉÁ | D22: 117 | E22: 2 | H22: 1 | I22: 1 | K22: 2 | V22: =E22+G22 -> 2 | W22: =K22+L22+N22 -> 2 | X22: =K22 -> 2 | Y22: =H22+I22+J22 -> 2 | Z22: =R22 -> 0 | AA22: =P22+Q22 -> 0 | AB22: =U22 -> 0 | AC22: =S22+T22 -> 0
A23: 0 | B23: 1.15 | C23: Ì»ÍÁ | D23: 118 | E23: 1 | G23: 1 | H23: 1 | K23: 1 | N23: 1 | V23: =E23+G23 -> 2 | W23: =K23+L23+N23 -> 2 | X23: =K23 -> 1 | Y23: =H23+I23+J23 -> 1 | Z23: =R23 -> 0 | AA23: =P23+Q23 -> 0 | AB23: =U23 -> 0 | AC23: =S23+T23 -> 0
A24: 0 | B24: 1.16 | C24: Êáßï³Ý·áõÙÁ | D24: 119 | V24: =E24+G24 -> 0 | W24: =K24+L24+N24 -> 0 | X24: =K24 -> 0 | Y24: =H24+I24+J24 -> 0 | Z24: =R24 -> 0 | AA24: =P24+Q24 -> 0 | AB24: =U24 -> 0 | AC24: =S24+T24 -> 0
A25: 0 | B25: 1.17 | C25: ²Ý½·áõßáõÃÛ³Ùµ ³éáÕçáõÃÛ³ÝÁ Í³Ýñ íÝ³ë å³ï×³é»ÉÁ | D25: 120 | V25: =E25+G25 -> 0 | W25: =K25+L25+N25 -> 0 | X25: =K25 -> 0 | Y25: =H25+I25+J25 -> 0 | Z25: =R25 -> 0 | AA25: =P25+Q25 -> 0 | AB25: =U25 -> 0 | AC25: =S25+T25 -> 0
A26: 0 | B26: 1.18 | C26: ²Ý½·áõßáõÃÛ³Ùµ ³éáÕçáõÃÛ³ÝÁ ÙÇçÇÝ Í³ÝñáõÃÛ³Ý íÝ³ë å³ï×³é»ÉÁ | D26: 121 | V26: =E26+G26 -> 0 | W26: =K26+L26+N26 -> 0 | X26: =K26 -> 0 | Y26: =H26+I26+J26 -> 0 | Z26: =R26 -> 0 | AA26: =P26+Q26 -> 0 | AB26: =U26 -> 0 | AC26: =S26+T26 -> 0
A27: 0 | B27: 1.19 | C27: ²åûñÇÝÇ ³µáñï Ï³ï³ñ»ÉÁ | D27: 122 | V27: =E27+G27 -> 0 | W27: =K27+L27+N27 -> 0 | X27: =K27 -> 0 | Y27: =H27+I27+J27 -> 0 | Z27: =R27 -> 0 | AA27: =P27+Q27 -> 0 | AB27: =U27 -> 0 | AC27: =S27+T27 -> 0
A28: 0 | B28: 1.20 | C28: Ø³ñ¹áõ ÇÙáõÝ³ÛÇÝ ³Ýµ³í³ñ³ñáõÃÛ³Ý íÇñáõëÇ Ñ³ñáõóÇãáí í³ñ³Ï»ÉÁ | D28: 123 | V28: =E28+G28 -> 0 | W28: =K28+L28+N28 -> 0 | X28: =K28 -> 0 | Y28: =H28+I28+J28 -> 0 | Z28: =R28 -> 0 | AA28: =P28+Q28 -> 0 | AB28: =U28 -> 0 | AC28: =S28+T28 -> 0
A29: 0 | B29: 1.21 | C29: ì»Ý»ñ³Ï³Ý ÑÇí³Ý¹áõÃÛ³Ùµ Ï³Ù ³ÛÉ ë»é³í³ñ³ÏÝ»ñáí í³ñ³Ï»ÉÁ | D29: 124 | V29: =E29+G29 -> 0 | W29: =K29+L29+N29 -> 0 | X29: =K29 -> 0 | Y29: =H29+I29+J29 -> 0 | Z29: =R29 -> 0 | AA29: =P29+Q29 -> 0 | AB29: =U29 -> 0 | AC29: =S29+T29 -> 0
A30: 0 | B30: 1.22 | C30: öáËå³ïí³ëïÙ³Ý íÇñ³Ñ³ïáõÃÛáõÝ Ï³ï³ñ»Éáõ Ï³ÝáÝÝ»ñÁ Ë³Ëï»ÉÁ | D30: 125 | V30: =E30+G30 -> 0 | W30: =K30+L30+N30 -> 0 | X30: =K30 -> 0 | Y30: =H30+I30+J30 -> 0 | Z30: =R30 -> 0 | AA30: =P30+Q30 -> 0 | AB30: =U30 -> 0 | AC30: =S30+T30 -> 0
A31: 0 | B31: 1.24 | C31: ²ÝÓÇÝ ³é³Ýó Çñ Ñ³ÝÓÝ³ñ³ñáõÃÛ³Ý µÅßÏ³Ï³Ý Ï³Ù ·Çï³Ï³Ý ÷áñÓ»ñÇ »ÝÃ³ñÏ»ÉÁ | D31: 127 | V31: =E31+G31 -> 0 | W31: =K31+L31+N31 -> 0 | X31: =K31 -> 0 | Y31: =H31+I31+J31 -> 0 | Z31: =R31 -> 0 | AA31: =P31+Q31 -> 0 | AB31: =U31 -> 0 | AC31: =S31+T31 -> 0
A32: 0 | B32: 1.25 | C32: ìï³Ý·Ç Ù»ç ÃáÕÝ»ÉÁ | D32: 128 | V32: =E32+G32 -> 0 | W32: =K32+L32+N32 -> 0 | X32: =K32 -> 0 | Y32: =H32+I32+J32 -> 0 | Z32: =R32 -> 0 | AA32: =P32+Q32 -> 0 | AB32: =U32 -> 0 | AC32: =S32+T32 -> 0
A33: 0 | B33: 1.26 | C33: ÐÇí³Ý¹ÇÝ û·ÝáõÃÛáõÝ óáõÛó ãï³ÉÁ | D33: 129 | V33: =E33+G33 -> 0 | W33: =K33+L33+N33 -> 0 | X33: =K33 -> 0 | Y33: =H33+I33+J33 -> 0 | Z33: =R33 -> 0 | AA33: =P33+Q33 -> 0 | AB33: =U33 -> 0 | AC33: =S33+T33 -> 0
A34: 0 | B34: 1.27 | C34: ´ÅßÏ³Ï³Ý û·ÝáõÃÛáõÝ ¨ ëå³ë³ñÏáõÙ Çñ³Ï³Ý³óÝáÕÝ»ñÇ ÏáÕÙÇó Ù³ëÝ³·Çï³Ï³Ý å³ñï³Ï³ÝáõÃÛáõÝÝ»ñÁ ãÏ³ï³ñ»ÉÁ Ï³Ù áã å³ïß³× Ï³ï³ñ»ÉÁ | D34: 130 | V34: =E34+G34 -> 0 | W34: =K34+L34+N34 -> 0 | X34: =K34 -> 0 | Y34: =H34+I34+J34 -> 0 | Z34: =R34 -> 0 | AA34: =P34+Q34 -> 0 | AB34: =U34 -> 0 | AC34: =S34+T34 -> 0
A35: 1 | B35: 1.28 | C35: ²ÛÉ Ñ³Ýó³·áñÍáõÃÛáõÝÝ»ñ | V35: =E35+G35 -> 0 | W35: =K35+L35+N35 -> 0 | X35: =K35 -> 0 | Y35: =H35+I35+J35 -> 0 | Z35: =R35 -> 0 | AA35: =P35+Q35 -> 0 | AB35: =U35 -> 0 | AC35: =S35+T35 -> 0
A36: 0 | B36: 2. | C36: ÀÝ¹³Ù»ÝÁ ³ÝÓÇ ³½³ïáõÃÛ³Ý, å³ïíÇ ¨ ³ñÅ³Ý³å³ïíáõÃÛ³Ý ¹»Ù áõÕÕí³Í Ñ³Ýó³·áñÍáõÃÛáõÝÝ»ñÁ | E36: =SUM(E37:E43) -> 3 | F36: =SUM(F37:F43) -> 0 | G36: =SUM(G37:G43) -> 3 | H36: =SUM(H37:H43) -> 3 | I36: =SUM(I37:I43) -> 0 | J36: =SUM(J37:J43) -> 2 | K36: =SUM(K37:K43) -> 5 | L36: =SUM(L37:L43) -> 0 | ... AC36: =SUM(AC37:AC43) -> 0
A37: 0 | B37: 2.1 | C37: Ø³ñ¹áõÝ ³é¨³Ý·»ÉÁ | D37: 131 | E37: 1 | G37: 2 | H37: 2 | K37: 2 | N37: 1 | V37: =E37+G37 -> 3 | W37: =K37+L37+N37 -> 3 | X37: =K37 -> 2 | Y37: =H37+I37+J37 -> 2 | Z37: =R37 -> 0 | AA37: =P37+Q37 -> 0 | AB37: =U37 -> 0 | AC37: =S37+T37 -> 0
B38: 2.2 | C38: Մարդու թրաֆիքինգը կամ շահագործումը | D38: 132 | E38: 1 | G38: 1 | J38: 2 | K38: 2 | V38: =E38+G38 -> 2 | W38: =K38+L38+N38 -> 2 | X38: =K38 -> 2 | Y38: =H38+I38+J38 -> 2 | Z38: =R38 -> 0 | AA38: =P38+Q38 -> 0 | AB38: =U38 -> 0 | AC38: =S38+T38 -> 0
B39: 2.2.1 | C39: Ø³ñ¹áõÝ åáéÝÇÏáõÃÛ³Ý Ï³Ù ë»é³Ï³Ý ß³Ñ³·áñÍÙ³Ý ³ÛÉ Ó¨»ñÇ Ù»ç, Ñ³ñÏ³¹Çñ ³ßË³ï³ÝùÇ Ï³Ù Í³é³ÛáõÃÛáõÝÝ»ñÇ Ý»ñ·ñ³í»ÉÁ Ï³Ù ëïñÏáõÃÛ³Ý Ï³Ù ëïñÏáõÃÛ³ÝÁ ÝÙ³ÝíáÕ íÇ×³ÏÇ Ù»ç ¹Ý»ÉÁ Ï³Ù å³Ñ»ÉÁ | D39: 132.1 | V39: =E39+G39 -> 0 | W39: =K39+L39+N39 -> 0 | X39: =K39 -> 0 | Y39: =H39+I39+J39 -> 0 | Z39: =R39 -> 0 | AA39: =P39+Q39 -> 0 | AB39: =U39 -> 0 | AC39: =S39+T39 -> 0
B40: 2.3 | C40: ²½³ïáõÃÛáõÝÇó ³åûñÇÝÇ ½ñÏ»ÉÁ | D40: 133 | V40: =E40+G40 -> 0 | W40: =K40+L40+N40 -> 0 | X40: =K40 -> 0 | Y40: =H40+I40+J40 -> 0 | Z40: =R40 -> 0 | AA40: =P40+Q40 -> 0 | AB40: =U40 -> 0 | AC40: =S40+T40 -> 0
...

Sheet Arabkir
B1: 2015Ã. | E1: Ð²ÞìºîìàôÂÚàôÜ | R1: Ð³í»Éí³Í Ð³Û³ëï³ÝÇ Ð³Ýñ³å»ïáõÃÛ³Ý ¸³ï³ñ³ÝÝ»ñÇ Ý³Ë³·³ÑÝ»ñÇ ËáñÑñ¹Ç 01.02.2016Ã. ÃÇí 11È áñáßÙ³Ý
B2: ºðºì²Ü ø²Ô²øÆ ²ð²´ÎÆð ºì ø²Ü²øºè-¼ºÚÂàôÜ ì²ðâ²Î²Ü Þðæ²ÜÜºðÆ ÀÜ¸Ð²Üàôð Æð²ì²êàôÂÚ²Ü ²è²æÆÜ ²îÚ²ÜÆ ¸²î²ð²ՆàôØ ՔՐԵԱԿԱՆ ¶àðÌºðÆ øÜÜàôÂÚ²Ü ìºð²´ºðÚ²È
B3: Երևան քաղաքի Արաբկիր և Քանաքեռ-Զեյթուն վարչական շրջանների ÁÝ¹Ñ³Ýáõñ Çñ³í³ëáõÃÛ³Ý ³é³çÇÝ ³ïÛ³ÝÇ ¹³ï³ñ³ÝáõÙ ùñ»³Ï³Ý Ù³ëÝ³·Çï³óáõÙ áõÝ»óáÕ ¹³ï³íáñÝ»ñÇ Ñ³ëïÇùÝ»ñÇ ù³Ý³ÏÁ` 3
B4: êïáõ·Çã Ñ³í³ë³ñáõÙÝ»ñ` 1+3=7+8+10, 7=4+5+6, 14=12+13, 17=15+16 | D4: ÐÐ ùñ»³Ï³Ý ûñ»Ýë·ñùÇ Ñá¹í³ÍÝ»ñ | E4: Ð³ßí»ïáõ Å³Ù³Ý³Ï³Ñ³ïí³ÍÇ ëÏ½µáõÙ Ý³Ëáñ¹ Ñ³ßí»ïáõ Å³Ù³Ý³Ï³Ñ³ïí³ÍÇó ÷áË³Ýóí³Í ·áñÍ»ñÇ ÁÝ¹Ñ³Ýáõñ ÃÇíÁ | F4: ²Û¹ ÃíáõÙ` Ï³ë»óí³Í íÇ×³ÏáõÙ ÷áË³Ýóí³Í | G4: Ð³ßí»ïáõ Å³Ù³Ý³Ï³Ñ³ïí³ÍáõÙ ëï³óí³Í ·áñÍ»ñÇ ÁÝ¹Ñ³Ýáõñ ÃÇíÁ | H4: Ð³ßí»ïáõ Å³Ù³Ý³Ï³Ñ³ïí³ÍáõÙ ³í³ñïí³Í ·áñÍ»ñի ընդհանուր թիվը | L4: àõÕ³ñÏí»É ¿ Áëï ÁÝ¹¹³ïáõÃÛ³Ý | M4: Ð³ßí»ïáõ Å³Ù³Ý³Ï³Ñ³ïí³ÍáõÙ Ï³ë»óí³Í í³ñáõÛÃÝ»ñáí ·áñÍ»ñÇ ÁÝ¹Ñ³Ýáõñ ÃÇíÁ | N4: Ð³ßí»ïáõ Å³Ù³Ý³Ï³Ñ³ïí³ÍáõÙ ³Ý³í³ñï ·áñÍ»ñÇ ÁÝ¹Ñ³Ýáõñ ÃÇíÁ | O4: ²Û¹ ÃíáõÙª Ï³ë»óí³Í | P4: ´áÕáù³ñÏí³Í ¹³ï³Ï³Ý ³Ïï»ñÇ ÃÇíÁ` Áëï ï»ë³ÏÝ»ñÇ | S4: ´»Ï³Ýí³Í ¹³ï³Ï³Ý ³Ïï»ñÇ ÃÇíÁ` Áëï ï»ë³ÏÝ»ñÇ
H5: øÝÝí»É ¿ Áëï ¿áõÃÛ³Ý ¨ ¹³ï³í×Çé Ï³Û³óí»É | J5: ՈñáßáõÙ ¿ Ï³Û³óí»É ³ÝÙ»ÕëáõÝ³ÏÝ»ñÇ ÝÏ³ïÙ³Ùµ µÅßÏ³Ï³Ý µÝáõÛÃÇ Ñ³ñÏ³¹ñ³Ï³Ý ÙÇçáóÝ»ñ ÏÇñ³é»Éáõ Ù³ëÇÝ | K5: ÀÝ¹³Ù»ÝÁ ³í³ñïí»É »Ý ·áñÍ»ñ
I6: ՈñáßáõÙ ¿ Ï³Û³óí»É ùñ»³Ï³Ý ·áñÍÇ í³ñáõÛÃÁ Ï³ñ×»Éáõ ¨ ùñ»³Ï³Ý Ñ»ï³åÝ¹áõÙÁ ¹³¹³ñ»óÝ»Éáõ Ù³ëÇÝ | P6: ²Û¹ ÃíáõÙ` ·áñÍÝ Áëï ¿áõÃÛ³Ý ÉáõÍáÕ ¹³ï³Ï³Ý ³Ïï»ñÁ | Q6: ²Û¹ ÃíáõÙ` ÙÇç³ÝÏÛ³É ¹³ï³Ï³Ý ³Ïï»ñÁ | R6: ÀÝ¹³Ù»ÝÁ | S6: ²Û¹ ÃíáõÙ` ·áñÍÝ Áëï ¿áõÃÛ³Ý ÉáõÍáÕ ¹³ï³Ï³Ý ³Ïï»ñÁ | T6: ²Û¹ ÃíáõÙ` ÙÇç³ÝÏÛ³É ¹³ï³Ï³Ý ³Ïï»ñÁ | U6: ÀÝ¹³Ù»ÝÁ
E7: 1 | F7: 2 | G7: 3 | H7: 4 | I7: 5 | J7: 6 | K7: 7 | L7: 8 | M7: 9 | N7: 10 | O7: 11 | P7: 12 | Q7: 13 | R7: 14 | S7: 15 | T7: 16 | U7: 17 | V7: 1+3=7+8+10 | X7: 7=4+5+6 | Z7: 14=12+13 | AB7: 17=15+16
A8: 1 | B8: 1. | C8: ÀÝ¹³Ù»ÝÁ ÏÛ³ÝùÇ ¨ ³éáÕçáõÃÛ³Ý ¹»Ù áõÕÕí³Í Ñ³Ýó³·áñÍáõÃÛáõÝÝ»ñÁ | E8: =SUM(E9:E35) -> 21 | F8: =SUM(F9:F35) -> 0 | G8: =SUM(G9:G35) -> 45 | H8: =SUM(H9:H35) -> 27 | I8: =SUM(I9:I35) -> 14 | J8: =SUM(J9:J35) -> 1 | K8: =SUM(K9:K35) -> 42 | L8: =SUM(L9:L35) -> 0 | ... AC8: =SUM(AC9:AC35) -> 1
A9: 0 | B9: 1.1 | C9: êå³ÝáõÃÛáõÝÁ | D9: 104 | E9: 5 | G9: 6 | H9: 6 | K9: 6 | N9: 5 | P9: 3 | R9: 3 | V9: =E9+G9 -> 11 | W9: =K9+L9+N9 -> 11 | X9: =K9 -> 6 | Y9: =H9+I9+J9 -> 6 | Z9: =R9 -> 3 | AA9: =P9+Q9 -> 3 | AB9: =U9 -> 0 | AC9: =S9+T9 -> 0
A10: 0 | B10: 1.2 | C10: Ðá·»Ï³Ý ËÇëï Ñáõ½ÙáõÝùÇ íÇ×³ÏáõÙ Ï³ï³ñí³Í ëå³ÝáõÃÛáõÝÁ | D10: 105 | V10: =E10+G10 -> 0 | W10: =K10+L10+N10 -> 0 | X10: =K10 -> 0 | Y10: =H10+I10+J10 -> 0 | Z10: =R10 -> 0 | AA10: =P10+Q10 -> 0 | AB10: =U10 -> 0 | AC10: =S10+T10 -> 0
A11: 0 | B11: 1.3 | C11: Øáñ ÏáÕÙÇó Ýáñ³ÍÇÝ »ñ»Ë³ÛÇ ëå³ÝáõÃÛáõÝÁ | D11: 106 | V11: =E11+G11 -> 0 | W11: =K11+L11+N11 -> 0 | X11: =K11 -> 0 | Y11: =H11+I11+J11 -> 0 | Z11: =R11 -> 0 | AA11: =P11+Q11 -> 0 | AB11: =U11 -> 0 | AC11: =S11+T11 -> 0
A12: 0 | B12: 1.4 | C12: Ð³Ýó³Ýù Ï³ï³ñ³Í ³ÝÓÇÝ µéÝ»Éáõ Ñ³Ù³ñ ³ÝÑñ³Å»ßï ÙÇçáóÝ»ñÇ ë³ÑÙ³Ý³½³ÝóÙ³Ùµ ëå³ÝáõÃÛáõÝÁ | D12: 107 | V12: =E12+G12 -> 0 | W12: =K12+L12+N12 -> 0 | X12: =K12 -> 0 | Y12: =H12+I12+J12 -> 0 | Z12: =R12 -> 0 | AA12: =P12+Q12 -> 0 | AB12: =U12 -> 0 | AC12: =S12+T12 -> 0
A13: 0 | B13: 1.5 | C13: ²ÝÑñ³Å»ßï å³ßïå³ÝáõÃÛ³Ý ë³ÑÙ³Ý³½³ÝóÙ³Ùµ ëå³ÝáõÃÛáõÝÁ | D13: 108 | V13: =E13+G13 -> 0 | W13: =K13+L13+N13 -> 0 | X13: =K13 -> 0 | Y13: =H13+I13+J13 -> 0 | Z13: =R13 -> 0 | AA13: =P13+Q13 -> 0 | AB13: =U13 -> 0 | AC13: =S13+T13 -> 0
A14: 0 | B14: 1.6 | C14: ²Ý½·áõßáõÃÛ³Ùµ Ù³Ñ å³ï×³é»ÉÁ | D14: 109 | G14: 1 | H14: 1 | K14: 1 | V14: =E14+G14 -> 1 | W14: =K14+L14+N14 -> 1 | X14: =K14 -> 1 | Y14: =H14+I14+J14 -> 1 | Z14: =R14 -> 0 | AA14: =P14+Q14 -> 0 | AB14: =U14 -> 0 | AC14: =S14+T14 -> 0
A15: 0 | B15: 1.7 | C15: ÆÝùÝ³ëå³ÝáõÃÛ³Ý Ñ³ëóÝ»ÉÁ | D15: 110 | V15: =E15+G15 -> 0 | W15: =K15+L15+N15 -> 0 | X15: =K15 -> 0 | Y15: =H15+I15+J15 -> 0 | Z15: =R15 -> 0 | AA15: =P15+Q15 -> 0 | AB15: =U15 -> 0 | AC15: =S15+T15 -> 0
A16: 0 | B16: 1.8 | C16: ÆÝùÝ³ëå³ÝáõÃÛ³Ý Ñ³Ï»ÉÁ | D16: 111 | V16: =E16+G16 -> 0 | W16: =K16+L16+N16 -> 0 | X16: =K16 -> 0 | Y16: =H16+I16+J16 -> 0 | Z16: =R16 -> 0 | AA16: =P16+Q16 -> 0 | AB16: =U16 -> 0 | AC16: =S16+T16 -> 0
A17: 0 | B17: 1.9 | C17: ¸Çï³íáñáõÃÛ³Ùµ ³éáÕçáõÃÛ³ÝÁ Í³Ýñ íÝ³ë å³ï×³é»ÉÁ | D17: 112 | E17: 5 | G17: 10 | H17: 8 | I17: 0 | K17: 8 | N17: 7 | P17: 4 | R17: 4 | V17: =E17+G17 -> 15 | W17: =K17+L17+N17 -> 15 | X17: =K17 -> 8 | Y17: =H17+I17+J17 -> 8 | Z17: =R17 -> 4 | AA17: =P17+Q17 -> 4 | AB17: =U17 -> 0 | AC17: =S17+T17 -> 0
A18: 0 | B18: 1.10 | C18: ¸Çï³íáñáõÃÛ³Ùµ ³éáÕçáõÃÛ³ÝÁ ÙÇçÇÝ Í³ÝñáõÃÛ³Ý íÝ³ë å³ï×³é»ÉÁ | D18: 113 | E18: 5 | G18: 3 | H18: 1 | I18: 3 | K18: 4 | N18: 4 | P18: 2 | R18: 2 | S18: 1 | U18: 1 | V18: =E18+G18 -> 8 | W18: =K18+L18+N18 -> 8 | X18: =K18 -> 4 | Y18: =H18+I18+J18 -> 4 | Z18: =R18 -> 2 | AA18: =P18+Q18 -> 2 | AB18: =U18 -> 1 | AC18: =S18+T18 -> 1
A19: 0 | B19: 1.11 | C19: Ðá·»Ï³Ý ËÇëï Ñáõ½ÙáõÝùÇ íÇ×³ÏáõÙ ³éáÕçáõÃÛ³ÝÁ Í³Ýñ Ï³Ù ÙÇçÇÝ Í³ÝñáõÃÛ³Ý íÝ³ë å³ï×³é»ÉÁ | D19: 114 | P19: 1 | R19: 1 | V19: =E19+G19 -> 0 | W19: =K19+L19+N19 -> 0 | X19: =K19 -> 0 | Y19: =H19+I19+J19 -> 0 | Z19: =R19 -> 1 | AA19: =P19+Q19 -> 1 | AB19: =U19 -> 0 | AC19: =S19+T19 -> 0
A20: 0 | B20: 1.12 | C20: Ð³Ýó³Ýù Ï³ï³ñ³Í ³ÝÓÇÝ µéÝ»Éáõ Ñ³Ù³ñ ³ÝÑñ³Å»ßï ÙÇçáóÝ»ñÇ ë³ÑÙ³Ý½³ÝóÙ³Ùµ ³éáÕçáõÃÛ³ÝÁ Í³Ýñ Ï³Ù ÙÇçÇÝ Í³ÝñáõÃÛ³Ý íÝ³ë å³ï×³é»ÉÁ | D20: 115 | V20: =E20+G20 -> 0 | W20: =K20+L20+N20 -> 0 | X20: =K20 -> 0 | Y20: =H20+I20+J20 -> 0 | Z20: =R20 -> 0 | AA20: =P20+Q20 -> 0 | AB20: =U20 -> 0 | AC20: =S20+T20 -> 0
A21: 0 | B21: 1.13 | C21: ²éáÕçáõÃÛ³ÝÁ Í³Ýñ Ï³Ù ÙÇçÇÝ Í³ÝñáõÃÛ³Ý íÝ³ë å³ï×³é»ÉÁ ³ÝÑñ³Å»ßï å³ßïå³ÝáõÃÛ³Ý ë³ÑÙ³Ý³Ý³½³ÝóÙ³Ùµ | D21: 116 | V21: =E21+G21 -> 0 | W21: =K21+L21+N21 -> 0 | X21: =K21 -> 0 | Y21: =H21+I21+J21 -> 0 | Z21: =R21 -> 0 | AA21: =P21+Q21 -> 0 | AB21: =U21 -> 0 | AC21: =S21+T21 -> 0
A22: 0 | B22: 1.14 | C22: ¸Çï³íáñáõÃÛ³Ùµ ³éáÕçáõÃÛ³ÝÁ Ã»Ã¨ íÝ³ë å³ï×³é»ÉÁ | D22: 117 | E22: 2 | G22: 7 | H22: 3 | I22: 2 | K22: 5 | N22: 4 | P22: 1 | R22: 1 | V22: =E22+G22 -> 9 | W22: =K22+L22+N22 -> 9 | X22: =K22 -> 5 | Y22: =H22+I22+J22 -> 5 | Z22: =R22 -> 1 | AA22: =P22+Q22 -> 1 | AB22: =U22 -> 0 | AC22: =S22+T22 -> 0
A23: 0 | B23: 1.15 | C23: Ì»ÍÁ | D23: 118 | E23: 2 | G23: 16 | H23: 5 | I23: 8 | J23: 1 | K23: 14 | N23: 4 | P23: 2 | R23: 2 | V23: =E23+G23 -> 18 | W23: =K23+L23+N23 -> 18 | X23: =K23 -> 14 | Y23: =H23+I23+J23 -> 14 | Z23: =R23 -> 2 | AA23: =P23+Q23 -> 2 | AB23: =U23 -> 0 | AC23: =S23+T23 -> 0
A24: 0 | B24: 1.16 | C24: Êáßï³Ý·áõÙÁ | D24: 119 | G24: 2 | H24: 1 | I24: 1 | K24: 2 | V24: =E24+G24 -> 2 | W24: =K24+L24+N24 -> 2 | X24: =K24 -> 2 | Y24: =H24+I24+J24 -> 2 | Z24: =R24 -> 0 | AA24: =P24+Q24 -> 0 | AB24: =U24 -> 0 | AC24: =S24+T24 -> 0
A25: 0 | B25: 1.17 | C25: ²Ý½·áõßáõÃÛ³Ùµ ³éáÕçáõÃÛ³ÝÁ Í³Ýñ íÝ³ë å³ï×³é»ÉÁ | D25: 120 | E25: 1 | H25: 1 | K25: 1 | V25: =E25+G25 -> 1 | W25: =K25+L25+N25 -> 1 | X25: =K25 -> 1 | Y25: =H25+I25+J25 -> 1 | Z25: =R25 -> 0 | AA25: =P25+Q25 -> 0 | AB25: =U25 -> 0 | AC25: =S25+T25 -> 0
A26: 0 | B26: 1.18 | C26: ²Ý½·áõßáõÃÛ³Ùµ ³éáÕçáõÃÛ³ÝÁ ÙÇçÇÝ Í³ÝñáõÃÛ³Ý íÝ³ë å³ï×³é»ÉÁ | D26: 121 | V26: =E26+G26 -> 0 | W26: =K26+L26+N26 -> 0 | X26: =K26 -> 0 | Y26: =H26+I26+J26 -> 0 | Z26: =R26 -> 0 | AA26: =P26+Q26 -> 0 | AB26: =U26 -> 0 | AC26: =S26+T26 -> 0
A27: 0 | B27: 1.19 | C27: ²åûñÇÝÇ ³µáñï Ï³ï³ñ»ÉÁ | D27: 122 | V27: =E27+G27 -> 0 | W27: =K27+L27+N27 -> 0 | X27: =K27 -> 0 | Y27: =H27+I27+J27 -> 0 | Z27: =R27 -> 0 | AA27: =P27+Q27 -> 0 | AB27: =U27 -> 0 | AC27: =S27+T27 -> 0
A28: 0 | B28: 1.20 | C28: Ø³ñ¹áõ ÇÙáõÝ³ÛÇÝ ³Ýµ³í³ñ³ñáõÃÛ³Ý íÇñáõëÇ Ñ³ñáõóÇãáí í³ñ³Ï»ÉÁ | D28: 123 | V28: =E28+G28 -> 0 | W28: =K28+L28+N28 -> 0 | X28: =K28 -> 0 | Y28: =H28+I28+J28 -> 0 | Z28: =R28 -> 0 | AA28: =P28+Q28 -> 0 | AB28: =U28 -> 0 | AC28: =S28+T28 -> 0
A29: 0 | B29: 1.21 | C29: ì»Ý»ñ³Ï³Ý ÑÇí³Ý¹áõÃÛ³Ùµ Ï³Ù ³ÛÉ ë»é³í³ñ³ÏÝ»ñáí í³ñ³Ï»ÉÁ | D29: 124 | V29: =E29+G29 -> 0 | W29: =K29+L29+N29 -> 0 | X29: =K29 -> 0 | Y29: =H29+I29+J29 -> 0 | Z29: =R29 -> 0 | AA29: =P29+Q29 -> 0 | AB29: =U29 -> 0 | AC29: =S29+T29 -> 0
A30: 0 | B30: 1.22 | C30: öáËå³ïí³ëïÙ³Ý íÇñ³Ñ³ïáõÃÛáõÝ Ï³ï³ñ»Éáõ Ï³ÝáÝÝ»ñÁ Ë³Ëï»ÉÁ | D30: 125 | V30: =E30+G30 -> 0 | W30: =K30+L30+N30 -> 0 | X30: =K30 -> 0 | Y30: =H30+I30+J30 -> 0 | Z30: =R30 -> 0 | AA30: =P30+Q30 -> 0 | AB30: =U30 -> 0 | AC30: =S30+T30 -> 0
A31: 0 | B31: 1.24 | C31: ²ÝÓÇÝ ³é³Ýó Çñ Ñ³ÝÓÝ³ñ³ñáõÃÛ³Ý µÅßÏ³Ï³Ý Ï³Ù ·Çï³Ï³Ý ÷áñÓ»ñÇ »ÝÃ³ñÏ»ÉÁ | D31: 127 | V31: =E31+G31 -> 0 | W31: =K31+L31+N31 -> 0 | X31: =K31 -> 0 | Y31: =H31+I31+J31 -> 0 | Z31: =R31 -> 0 | AA31: =P31+Q31 -> 0 | AB31: =U31 -> 0 | AC31: =S31+T31 -> 0
A32: 0 | B32: 1.25 | C32: ìï³Ý·Ç Ù»ç ÃáÕÝ»ÉÁ | D32: 128 | V32: =E32+G32 -> 0 | W32: =K32+L32+N32 -> 0 | X32: =K32 -> 0 | Y32: =H32+I32+J32 -> 0 | Z32: =R32 -> 0 | AA32: =P32+Q32 -> 0 | AB32: =U32 -> 0 | AC32: =S32+T32 -> 0
A33: 0 | B33: 1.26 | C33: ÐÇí³Ý¹ÇÝ û·ÝáõÃÛáõÝ óáõÛó ãï³ÉÁ | D33: 129 | V33: =E33+G33 -> 0 | W33: =K33+L33+N33 -> 0 | X33: =K33 -> 0 | Y33: =H33+I33+J33 -> 0 | Z33: =R33 -> 0 | AA33: =P33+Q33 -> 0 | AB33: =U33 -> 0 | AC33: =S33+T33 -> 0
A34: 0 | B34: 1.27 | C34: ´ÅßÏ³Ï³Ý û·ÝáõÃÛáõÝ ¨ ëå³ë³ñÏáõÙ Çñ³Ï³Ý³óÝáÕÝ»ñÇ ÏáÕÙÇó Ù³ëÝ³·Çï³Ï³Ý å³ñï³Ï³ÝáõÃÛáõÝÝ»ñÁ ãÏ³ï³ñ»ÉÁ Ï³Ù áã å³ïß³× Ï³ï³ñ»ÉÁ | D34: 130 | E34: 1 | H34: 1 | K34: 1 | V34: =E34+G34 -> 1 | W34: =K34+L34+N34 -> 1 | X34: =K34 -> 1 | Y34: =H34+I34+J34 -> 1 | Z34: =R34 -> 0 | AA34: =P34+Q34 -> 0 | AB34: =U34 -> 0 | AC34: =S34+T34 -> 0
A35: 1 | B35: 1.28 | C35: ²ÛÉ Ñ³Ýó³·áñÍáõÃÛáõÝÝ»ñ | V35: =E35+G35 -> 0 | W35: =K35+L35+N35 -> 0 | X35: =K35 -> 0 | Y35: =H35+I35+J35 -> 0 | Z35: =R35 -> 0 | AA35: =P35+Q35 -> 0 | AB35: =U35 -> 0 | AC35: =S35+T35 -> 0
A36: 0 | B36: 2. | C36: ÀÝ¹³Ù»ÝÁ ³ÝÓÇ ³½³ïáõÃÛ³Ý, å³ïíÇ ¨ ³ñÅ³Ý³å³ïíáõÃÛ³Ý ¹»Ù áõÕÕí³Í Ñ³Ýó³·áñÍáõÃÛáõÝÝ»ñÁ | E36: =SUM(E37:E43) -> 3 | F36: =SUM(F37:F43) -> 0 | G36: =SUM(G37:G43) -> 5 | H36: =SUM(H37:H43) -> 3 | I36: =SUM(I37:I43) -> 0 | J36: =SUM(J37:J43) -> 1 | K36: =SUM(K37:K43) -> 4 | L36: =SUM(L37:L43) -> 0 | ... AC36: =SUM(AC37:AC43) -> 1
A37: 0 | B37: 2.1 | C37: Ø³ñ¹áõÝ ³é¨³Ý·»ÉÁ | D37: 131 | E37: 2 | G37: 4 | H37: 2 | K37: 2 | N37: 4 | P37: 1 | R37: 1 | S37: 1 | U37: 1 | V37: =E37+G37 -> 6 | W37: =K37+L37+N37 -> 6 | X37: =K37 -> 2 | Y37: =H37+I37+J37 -> 2 | Z37: =R37 -> 1 | AA37: =P37+Q37 -> 1 | AB37: =U37 -> 1 | AC37: =S37+T37 -> 1
B38: 2.2 | C38: Մարդու թրաֆիքինգը կամ շահագործումը | D38: 132 | V38: =E38+G38 -> 0 | W38: =K38+L38+N38 -> 0 | X38: =K38 -> 0 | Y38: =H38+I38+J38 -> 0 | Z38: =R38 -> 0 | AA38: =P38+Q38 -> 0 | AB38: =U38 -> 0 | AC38: =S38+T38 -> 0
B39: 2.2.1 | C39: Ø³ñ¹áõÝ åáéÝÇÏáõÃÛ³Ý Ï³Ù ë»é³Ï³Ý ß³Ñ³·áñÍÙ³Ý ³ÛÉ Ó¨»ñÇ Ù»ç, Ñ³ñÏ³¹Çñ ³ßË³ï³ÝùÇ Ï³Ù Í³é³ÛáõÃÛáõÝÝ»ñÇ Ý»ñ·ñ³í»ÉÁ Ï³Ù ëïñÏáõÃÛ³Ý Ï³Ù ëïñÏáõÃÛ³ÝÁ ÝÙ³ÝíáÕ íÇ×³ÏÇ Ù»ç ¹Ý»ÉÁ Ï³Ù å³Ñ»ÉÁ | D39: 132.1 | V39: =E39+G39 -> 0 | W39: =K39+L39+N39 -> 0 | X39: =K39 -> 0 | Y39: =H39+I39+J39 -> 0 | Z39: =R39 -> 0 | AA39: =P39+Q39 -> 0 | AB39: =U39 -> 0 | AC39: =S39+T39 -> 0
B40: 2.3 | C40: ²½³ïáõÃÛáõÝÇó ³åûñÇÝÇ ½ñÏ»ÉÁ | D40: 133 | V40: =E40+G40 -> 0 | W40: =K40+L40+N40 -> 0 | X40: =K40 -> 0 | Y40: =H40+I40+J40 -> 0 | Z40: =R40 -> 0 | AA40: =P40+Q40 -> 0 | AB40: =U40 -> 0 | AC40: =S40+T40 -> 0
...

Sheet Kentron
B1: 2015Ã. | E1: Ð²ÞìºîìàôÂÚàôÜ | R1: Ð³í»Éí³Í Ð³Û³ëï³ÝÇ Ð³Ýñ³å»ïáõÃÛ³Ý ¸³ï³ñ³ÝÝ»ñÇ Ý³Ë³·³ÑÝ»ñÇ ËáñÑñ¹Ç 01.02.2016Ã. ÃÇí 11È áñáßÙ³Ý
B2: ºðºì²Ü ø²Ô²øÆ ÎºÜîðàÜ ºì Üàðø-Ø²ð²Þ ì²ðâ²Î²Ü Þðæ²ÜÜºðÆ ÀÜ¸Ð²Üàôð Æð²ì²êàôÂÚ²Ü ²è²æÆÜ ²îÚ²ÜÆ ¸²î²ð²ՆàôØ ՔՐԵԱԿԱՆ ¶àðÌºðÆ øÜÜàôÂÚ²Ü ìºð²´ºðÚ²È
B3: ºñ¨³Ý ù³Õ³ùÇ Î»ÝïñáÝ ¨ Üáñù-Ø³ñ³ß í³ñã³Ï³Ý ßñç³ÝÝ»ñÇ ÁÝ¹Ñ³Ýáõñ Çñ³í³ëáõÃÛ³Ý ³é³çÇÝ ³ïÛ³ÝÇ ¹³ï³ñ³ÝáõÙ ùñ»³Ï³Ý Ù³ëÝ³·Çï³óáõÙ áõÝ»óáÕ ¹³ï³íáñÝ»ñÇ Ñ³ëïÇùÝ»ñÇ ù³Ý³ÏÁ` 5
B4: êïáõ·Çã Ñ³í³ë³ñáõÙÝ»ñ` 1+3=7+8+10, 7=4+5+6, 14=12+13, 17=15+16 | D4: ÐÐ ùñ»³Ï³Ý ûñ»Ýë·ñùÇ Ñá¹í³ÍÝ»ñ | E4: Ð³ßí»ïáõ Å³Ù³Ý³Ï³Ñ³ïí³ÍÇ ëÏ½µáõÙ Ý³Ëáñ¹ Ñ³ßí»ïáõ Å³Ù³Ý³Ï³Ñ³ïí³ÍÇó ÷áË³Ýóí³Í ·áñÍ»ñÇ ÁÝ¹Ñ³Ýáõñ ÃÇíÁ | F4: ²Û¹ ÃíáõÙ` Ï³ë»óí³Í íÇ×³ÏáõÙ ÷áË³Ýóí³Í | G4: Ð³ßí»ïáõ Å³Ù³Ý³Ï³Ñ³ïí³ÍáõÙ ëï³óí³Í ·áñÍ»ñÇ ÁÝ¹Ñ³Ýáõñ ÃÇíÁ | H4: Ð³ßí»ïáõ Å³Ù³Ý³Ï³Ñ³ïí³ÍáõÙ ³í³ñïí³Í ·áñÍ»ñի ընդհանուր թիվը | L4: àõÕ³ñÏí»É ¿ Áëï ÁÝ¹¹³ïáõÃÛ³Ý | M4: Ð³ßí»ïáõ Å³Ù³Ý³Ï³Ñ³ïí³ÍáõÙ Ï³ë»óí³Í í³ñáõÛÃÝ»ñáí ·áñÍ»ñÇ ÁÝ¹Ñ³Ýáõñ ÃÇíÁ | N4: Ð³ßí»ïáõ Å³Ù³Ý³Ï³Ñ³ïí³ÍáõÙ ³Ý³í³ñï ·áñÍ»ñÇ ÁÝ¹Ñ³Ýáõñ ÃÇíÁ | O4: ²Û¹ ÃíáõÙª Ï³ë»óí³Í | P4: ´áÕáù³ñÏí³Í ¹³ï³Ï³Ý ³Ïï»ñÇ ÃÇíÁ` Áëï ï»ë³ÏÝ»ñÇ | S4: ´»Ï³Ýí³Í ¹³ï³Ï³Ý ³Ïï»ñÇ ÃÇíÁ` Áëï ï»ë³ÏÝ»ñÇ
H5: øÝÝí»É ¿ Áëï ¿áõÃÛ³Ý ¨ ¹³ï³í×Çé Ï³Û³óí»É | J5: ՈñáßáõÙ ¿ Ï³Û³óí»É ³ÝÙ»ÕëáõÝ³ÏÝ»ñÇ ÝÏ³ïÙ³Ùµ µÅßÏ³Ï³Ý µÝáõÛÃÇ Ñ³ñÏ³¹ñ³Ï³Ý ÙÇçáóÝ»ñ ÏÇñ³é»Éáõ Ù³ëÇÝ | K5: ÀÝ¹³Ù»ÝÁ ³í³ñïí»É »Ý ·áñÍ»ñ
I6: ՈñáßáõÙ ¿ Ï³Û³óí»É ùñ»³Ï³Ý ·áñÍÇ í³ñáõÛÃÁ Ï³ñ×»Éáõ ¨ ùñ»³Ï³Ý Ñ»ï³åÝ¹áõÙÁ ¹³¹³ñ»óÝ»Éáõ Ù³ëÇÝ | P6: ²Û¹ ÃíáõÙ` ·áñÍÝ Áëï ¿áõÃÛ³Ý ÉáõÍáÕ ¹³ï³Ï³Ý ³Ïï»ñÁ | Q6: ²Û¹ ÃíáõÙ` ÙÇç³ÝÏÛ³É ¹³ï³Ï³Ý ³Ïï»ñÁ | R6: ÀÝ¹³Ù»ÝÁ | S6: ²Û¹ ÃíáõÙ` ·áñÍÝ Áëï ¿áõÃÛ³Ý ÉáõÍáÕ ¹³ï³Ï³Ý ³Ïï»ñÁ | T6: ²Û¹ ÃíáõÙ` ÙÇç³ÝÏÛ³É ¹³ï³Ï³Ý ³Ïï»ñÁ | U6: ÀÝ¹³Ù»ÝÁ
E7: 1 | F7: 2 | G7: 3 | H7: 4 | I7: 5 | J7: 6 | K7: 7 | L7: 8 | M7: 9 | N7: 10 | O7: 11 | P7: 12 | Q7: 13 | R7: 14 | S7: 15 | T7: 16 | U7: 17 | V7: 1+3=7+8+10 | X7: 7=4+5+6 | Z7: 14=12+13 | AB7: 17=15+16
A8: 1 | B8: 1. | C8: ÀÝ¹³Ù»ÝÁ ÏÛ³ÝùÇ ¨ ³éáÕçáõÃÛ³Ý ¹»Ù áõÕÕí³Í Ñ³Ýó³·áñÍáõÃÛáõÝÝ»ñÁ | E8: =SUM(E9:E35) -> 17 | F8: =SUM(F9:F35) -> 0 | G8: =SUM(G9:G35) -> 41 | H8: =SUM(H9:H35) -> 31 | I8: =SUM(I9:I35) -> 8 | J8: =SUM(J9:J35) -> 1 | K8: =SUM(K9:K35) -> 40 | L8: =SUM(L9:L35) -> 0 | ... AC8: =SUM(AC9:AC35) -> 1
A9: 0 | B9: 1.1 | C9: êå³ÝáõÃÛáõÝÁ | D9: 104 | E9: 3 | G9: 3 | H9: 2 | K9: 2 | N9: 4 | P9: 2 | R9: 2 | V9: =E9+G9 -> 6 | W9: =K9+L9+N9 -> 6 | X9: =K9 -> 2 | Y9: =H9+I9+J9 -> 2 | Z9: =R9 -> 2 | AA9: =P9+Q9 -> 2 | AB9: =U9 -> 0 | AC9: =S9+T9 -> 0
A10: 0 | B10: 1.2 | C10: Ðá·»Ï³Ý ËÇëï Ñáõ½ÙáõÝùÇ íÇ×³ÏáõÙ Ï³ï³ñí³Í ëå³ÝáõÃÛáõÝÁ | D10: 105 | V10: =E10+G10 -> 0 | W10: =K10+L10+N10 -> 0 | X10: =K10 -> 0 | Y10: =H10+I10+J10 -> 0 | Z10: =R10 -> 0 | AA10: =P10+Q10 -> 0 | AB10: =U10 -> 0 | AC10: =S10+T10 -> 0
A11: 0 | B11: 1.3 | C11: Øáñ ÏáÕÙÇó Ýáñ³ÍÇÝ »ñ»Ë³ÛÇ ëå³ÝáõÃÛáõÝÁ | D11: 106 | V11: =E11+G11 -> 0 | W11: =K11+L11+N11 -> 0 | X11: =K11 -> 0 | Y11: =H11+I11+J11 -> 0 | Z11: =R11 -> 0 | AA11: =P11+Q11 -> 0 | AB11: =U11 -> 0 | AC11: =S11+T11 -> 0
A12: 0 | B12: 1.4 | C12: Ð³Ýó³Ýù Ï³ï³ñ³Í ³ÝÓÇÝ µéÝ»Éáõ Ñ³Ù³ñ ³ÝÑñ³Å»ßï ÙÇçáóÝ»ñÇ ë³ÑÙ³Ý³½³ÝóÙ³Ùµ ëå³ÝáõÃÛáõÝÁ | D12: 107 | V12: =E12+G12 -> 0 | W12: =K12+L12+N12 -> 0 | X12: =K12 -> 0 | Y12: =H12+I12+J12 -> 0 | Z12: =R12 -> 0 | AA12: =P12+Q12 -> 0 | AB12: =U12 -> 0 | AC12: =S12+T12 -> 0
A13: 0 | B13: 1.5 | C13: ²ÝÑñ³Å»ßï å³ßïå³ÝáõÃÛ³Ý ë³ÑÙ³Ý³½³ÝóÙ³Ùµ ëå³ÝáõÃÛáõÝÁ | D13: 108 | V13: =E13+G13 -> 0 | W13: =K13+L13+N13 -> 0 | X13: =K13 -> 0 | Y13: =H13+I13+J13 -> 0 | Z13: =R13 -> 0 | AA13: =P13+Q13 -> 0 | AB13: =U13 -> 0 | AC13: =S13+T13 -> 0
A14: 0 | B14: 1.6 | C14: ²Ý½·áõßáõÃÛ³Ùµ Ù³Ñ å³ï×³é»ÉÁ | D14: 109 | V14: =E14+G14 -> 0 | W14: =K14+L14+N14 -> 0 | X14: =K14 -> 0 | Y14: =H14+I14+J14 -> 0 | Z14: =R14 -> 0 | AA14: =P14+Q14 -> 0 | AB14: =U14 -> 0 | AC14: =S14+T14 -> 0
A15: 0 | B15: 1.7 | C15: ÆÝùÝ³ëå³ÝáõÃÛ³Ý Ñ³ëóÝ»ÉÁ | D15: 110 | V15: =E15+G15 -> 0 | W15: =K15+L15+N15 -> 0 | X15: =K15 -> 0 | Y15: =H15+I15+J15 -> 0 | Z15: =R15 -> 0 | AA15: =P15+Q15 -> 0 | AB15: =U15 -> 0 | AC15: =S15+T15 -> 0
A16: 0 | B16: 1.8 | C16: ÆÝùÝ³ëå³ÝáõÃÛ³Ý Ñ³Ï»ÉÁ | D16: 111 | V16: =E16+G16 -> 0 | W16: =K16+L16+N16 -> 0 | X16: =K16 -> 0 | Y16: =H16+I16+J16 -> 0 | Z16: =R16 -> 0 | AA16: =P16+Q16 -> 0 | AB16: =U16 -> 0 | AC16: =S16+T16 -> 0
A17: 0 | B17: 1.9 | C17: ¸Çï³íáñáõÃÛ³Ùµ ³éáÕçáõÃÛ³ÝÁ Í³Ýñ íÝ³ë å³ï×³é»ÉÁ | D17: 112 | E17: 10 | G17: 13 | H17: 16 | K17: 16 | N17: 7 | P17: 5 | R17: 5 | V17: =E17+G17 -> 23 | W17: =K17+L17+N17 -> 23 | X17: =K17 -> 16 | Y17: =H17+I17+J17 -> 16 | Z17: =R17 -> 5 | AA17: =P17+Q17 -> 5 | AB17: =U17 -> 0 | AC17: =S17+T17 -> 0
A18: 0 | B18: 1.10 | C18: ¸Çï³íáñáõÃÛ³Ùµ ³éáÕçáõÃÛ³ÝÁ ÙÇçÇÝ Í³ÝñáõÃÛ³Ý íÝ³ë å³ï×³é»ÉÁ | D18: 113 | G18: 3 | H18: 2 | K18: 2 | N18: 1 | P18: 2 | R18: 2 | V18: =E18+G18 -> 3 | W18: =K18+L18+N18 -> 3 | X18: =K18 -> 2 | Y18: =H18+I18+J18 -> 2 | Z18: =R18 -> 2 | AA18: =P18+Q18 -> 2 | AB18: =U18 -> 0 | AC18: =S18+T18 -> 0
