Workbook

Sheet Ընդամենը
B1: 2015Ã. | E1: Ð²ÞìºîìàôÂÚàôÜ | R1: Ð³í»Éí³Í Ð³Û³ëï³ÝÇ Ð³Ýñ³å»ïáõÃÛ³Ý ¸³ï³ñ³ÝÝ»ñÇ Ý³Ë³·³ÑÝ»ñÇ ËáñÑñ¹Ç 01.02.2016Ã. ÃÇí 11È áñáßÙ³Ý
B2: ÐÐ ÀÜ¸Ð²Üàôð Æð²ì²êàôÂÚ²Ü ²è²æÆÜ ²îÚ²ÜÆ ¸²î²ð²ÜÜºðàôØ ՔՐԵԱԿԱՆ ¶àðÌºðÆ øÜÜàôÂÚ²Ü ìºð²´ºðÚ²È
B3: êïáõ·Çã Ñ³í³ë³ñáõÙÝ»ñ` 1+3=7+8+10, 7=4+5+6, 14=12+13, 17=15+16 | D3: ÐÐ ùñ»³Ï³Ý ûñ»Ýë·ñùÇ Ñá¹í³ÍÝ»ñ | E3: Ð³ßí»ïáõ Å³Ù³Ý³Ï³Ñ³ïí³ÍÇ ëÏ½µáõÙ Ý³Ëáñ¹ Ñ³ßí»ïáõ Å³Ù³Ý³Ï³Ñ³ïí³ÍÇó ÷áË³Ýóí³Í ·áñÍ»ñÇ ÁÝ¹Ñ³Ýáõñ ÃÇíÁ | F3: ²Û¹ ÃíáõÙ` Ï³ë»óí³Í íÇ×³ÏáõÙ ÷áË³Ýóí³Í | G3: Ð³ßí»ïáõ Å³Ù³Ý³Ï³Ñ³ïí³ÍáõÙ ëï³óí³Í ·áñÍ»ñÇ ÁÝ¹Ñ³Ýáõñ ÃÇíÁ | H3: Ð³ßí»ïáõ Å³Ù³Ý³Ï³Ñ³ïí³ÍáõÙ ³í³ñïí³Í ·áñÍ»ñի ընդհանուր թիվը | L3: àõÕ³ñÏí»É ¿ Áëï ÁÝ¹¹³ïáõÃÛ³Ý | M3: Ð³ßí»ïáõ Å³Ù³Ý³Ï³Ñ³ïí³ÍáõÙ Ï³ë»óí³Í í³ñáõÛÃÝ»ñáí ·áñÍ»ñÇ ÁÝ¹Ñ³Ýáõñ ÃÇíÁ | N3: Ð³ßí»ïáõ Å³Ù³Ý³Ï³Ñ³ïí³ÍáõÙ ³Ý³í³ñï ·áñÍ»ñÇ ÁÝ¹Ñ³Ýáõñ ÃÇíÁ | O3: ²Û¹ ÃíáõÙª Ï³ë»óí³Í | P3: ´áÕáù³ñÏí³Í ¹³ï³Ï³Ý ³Ïï»ñÇ ÃÇíÁ` Áëï ï»ë³ÏÝ»ñÇ | S3: ´»Ï³Ýí³Í ¹³ï³Ï³Ý ³Ïï»ñÇ ÃÇíÁ` Áëï ï»ë³ÏÝ»ñÇ
H4: øÝÝí»É ¿ Áëï ¿áõÃÛ³Ý ¨ ¹³ï³í×Çé Ï³Û³óí»É | J4: ՈñáßáõÙ ¿ Ï³Û³óí»É ³ÝÙ»ÕëáõÝ³ÏÝ»ñÇ ÝÏ³ïÙ³Ùµ µÅßÏ³Ï³Ý µÝáõÛÃÇ Ñ³ñÏ³¹ñ³Ï³Ý ÙÇçáóÝ»ñ ÏÇñ³é»Éáõ Ù³ëÇÝ | K4: ÀÝ¹³Ù»ÝÁ ³í³ñïí»É »Ý ·áñÍ»ñ
I5: ՈñáßáõÙ ¿ Ï³Û³óí»É ùñ»³Ï³Ý ·áñÍÇ í³ñáõÛÃÁ Ï³ñ×»Éáõ ¨ ùñ»³Ï³Ý Ñ»ï³åÝ¹áõÙÁ ¹³¹³ñ»óÝ»Éáõ Ù³ëÇÝ | P5: ²Û¹ ÃíáõÙ` ·áñÍÝ Áëï ¿áõÃÛ³Ý ÉáõÍáÕ ¹³ï³Ï³Ý ³Ïï»ñÁ | Q5: ²Û¹ ÃíáõÙ` ÙÇç³ÝÏÛ³É ¹³ï³Ï³Ý ³Ïï»ñÁ | R5: ÀÝ¹³Ù»ÝÁ | S5: ²Û¹ ÃíáõÙ` ·áñÍÝ Áëï ¿áõÃÛ³Ý ÉáõÍáÕ ¹³ï³Ï³Ý ³Ïï»ñÁ | T5: ²Û¹ ÃíáõÙ` ÙÇç³ÝÏÛ³É ¹³ï³Ï³Ý ³Ïï»ñÁ | U5: ÀÝ¹³Ù»ÝÁ
E6: 1 | F6: 2 | G6: 3 | H6: 4 | I6: 5 | J6: 6 | K6: 7 | L6: 8 | M6: 9 | N6: 10 | O6: 11 | P6: 12 | Q6: 13 | R6: 14 | S6: 15 | T6: 16 | U6: 17 | V6: 1+3=7+8+10 | X6: 7=4+5+6 | Z6: 14=12+13 | AB6: 17=15+16
A7: 1 | B7: 1. | C7: ÀÝ¹³Ù»ÝÁ ÏÛ³ÝùÇ ¨ ³éáÕçáõÃÛ³Ý ¹»Ù áõÕÕí³Í Ñ³Ýó³·áñÍáõÃÛáõÝÝ»ñÁ | E7: =SUM(Ajapnjak:Tavush!E8) -> 162 | F7: =SUM(Ajapnjak:Tavush!F8) -> 7 | G7: =SUM(Ajapnjak:Tavush!G8) -> 435 | H7: =SUM(Ajapnjak:Tavush!H8) -> 256 | I7: =SUM(Ajapnjak:Tavush!I8) -> 111 | J7: =SUM(Ajapnjak:Tavush!J8) -> 17 | K7: =SUM(Ajapnjak:Tavush!K8) -> 384 | L7: =SUM(Ajapnjak:Tavush!L8) -> 1 | ... U7: =SUM(Ajapnjak:Tavush!U8) -> 18 | V7: =SUM(V8:V34) -> 597 | W7: =SUM(W8:W34) -> 596 | X7: =SUM(X8:X34) -> 384 | Y7: =SUM(Y8:Y34) -> 384 | Z7: =SUM(Z8:Z34) -> 105 | AA7: =SUM(AA8:AA34) -> 105 | AB7: =SUM(AB8:AB34) -> 18 | AC7: =SUM(AC8:AC34) -> 18
A8: 0 | B8: 1.1 | C8: êå³ÝáõÃÛáõÝÁ | D8: 104 | E8: =SUM(Ajapnjak:Tavush!E9) -> 29 | F8: =SUM(Ajapnjak:Tavush!F9) -> 1 | G8: =SUM(Ajapnjak:Tavush!G9) -> 68 | H8: =SUM(Ajapnjak:Tavush!H9) -> 35 | I8: =SUM(Ajapnjak:Tavush!I9) -> 1 | J8: =SUM(Ajapnjak:Tavush!J9) -> 6 | K8: =SUM(Ajapnjak:Tavush!K9) -> 42 | L8: =SUM(Ajapnjak:Tavush!L9) -> 0 | ... U8: =SUM(Ajapnjak:Tavush!U9) -> 2 | V8: =E8+G8 -> 97 | W8: =K8+L8+N8 -> 97 | X8: =K8 -> 42 | Y8: =H8+I8+J8 -> 42 | Z8: =R8 -> 20 | AA8: =P8+Q8 -> 20 | AB8: =U8 -> 2 | AC8: =S8+T8 -> 2
A9: 0 | B9: 1.2 | C9: Ðá·»Ï³Ý ËÇëï Ñáõ½ÙáõÝùÇ íÇ×³ÏáõÙ Ï³ï³ñí³Í ëå³ÝáõÃÛáõÝÁ | D9: 105 | E9: =SUM(Ajapnjak:Tavush!E10) -> 0 | F9: =SUM(Ajapnjak:Tavush!F10) -> 0 | G9: =SUM(Ajapnjak:Tavush!G10) -> 1 | H9: =SUM(Ajapnjak:Tavush!H10) -> 0 | I9: =SUM(Ajapnjak:Tavush!I10) -> 0 | J9: =SUM(Ajapnjak:Tavush!J10) -> 0 | K9: =SUM(Ajapnjak:Tavush!K10) -> 0 | L9: =SUM(Ajapnjak:Tavush!L10) -> 0 | ... U9: =SUM(Ajapnjak:Tavush!U10) -> 0 | V9: =E9+G9 -> 1 | W9: =K9+L9+N9 -> 1 | X9: =K9 -> 0 | Y9: =H9+I9+J9 -> 0 | Z9: =R9 -> 0 | AA9: =P9+Q9 -> 0 | AB9: =U9 -> 0 | AC9: =S9+T9 -> 0
A10: 0 | B10: 1.3 | C10: Øáñ ÏáÕÙÇó Ýáñ³ÍÇÝ »ñ»Ë³ÛÇ ëå³ÝáõÃÛáõÝÁ | D10: 106 | E10: =SUM(Ajapnjak:Tavush!E11) -> 0 | F10: =SUM(Ajapnjak:Tavush!F11) -> 0 | G10: =SUM(Ajapnjak:Tavush!G11) -> 1 | H10: =SUM(Ajapnjak:Tavush!H11) -> 1 | I10: =SUM(Ajapnjak:Tavush!I11) -> 0 | J10: =SUM(Ajapnjak:Tavush!J11) -> 0 | K10: =SUM(Ajapnjak:Tavush!K11) -> 1 | L10: =SUM(Ajapnjak:Tavush!L11) -> 0 | ... U10: =SUM(Ajapnjak:Tavush!U11) -> 0 | V10: =E10+G10 -> 1 | W10: =K10+L10+N10 -> 1 | X10: =K10 -> 1 | Y10: =H10+I10+J10 -> 1 | Z10: =R10 -> 0 | AA10: =P10+Q10 -> 0 | AB10: =U10 -> 0 | AC10: =S10+T10 -> 0
A11: 0 | B11: 1.4 | C11: Ð³Ýó³Ýù Ï³ï³ñ³Í ³ÝÓÇÝ µéÝ»Éáõ Ñ³Ù³ñ ³ÝÑñ³Å»ßï ÙÇçáóÝ»ñÇ ë³ÑÙ³Ý³½³ÝóÙ³Ùµ ëå³ÝáõÃÛáõÝÁ | D11: 107 | E11: =SUM(Ajapnjak:Tavush!E12) -> 0 | F11: =SUM(Ajapnjak:Tavush!F12) -> 0 | G11: =SUM(Ajapnjak:Tavush!G12) -> 0 | H11: =SUM(Ajapnjak:Tavush!H12) -> 0 | I11: =SUM(Ajapnjak:Tavush!I12) -> 0 | J11: =SUM(Ajapnjak:Tavush!J12) -> 0 | K11: =SUM(Ajapnjak:Tavush!K12) -> 0 | L11: =SUM(Ajapnjak:Tavush!L12) -> 0 | ... U11: =SUM(Ajapnjak:Tavush!U12) -> 0 | V11: =E11+G11 -> 0 | W11: =K11+L11+N11 -> 0 | X11: =K11 -> 0 | Y11: =H11+I11+J11 -> 0 | Z11: =R11 -> 0 | AA11: =P11+Q11 -> 0 | AB11: =U11 -> 0 | AC11: =S11+T11 -> 0
A12: 0 | B12: 1.5 | C12: ²ÝÑñ³Å»ßï å³ßïå³ÝáõÃÛ³Ý ë³ÑÙ³Ý³½³ÝóÙ³Ùµ ëå³ÝáõÃÛáõÝÁ | D12: 108 | E12: =SUM(Ajapnjak:Tavush!E13) -> 0 | F12: =SUM(Ajapnjak:Tavush!F13) -> 0 | G12: =SUM(Ajapnjak:Tavush!G13) -> 0 | H12: =SUM(Ajapnjak:Tavush!H13) -> 0 | I12: =SUM(Ajapnjak:Tavush!I13) -> 0 | J12: =SUM(Ajapnjak:Tavush!J13) -> 0 | K12: =SUM(Ajapnjak:Tavush!K13) -> 0 | L12: =SUM(Ajapnjak:Tavush!L13) -> 0 | ... U12: =SUM(Ajapnjak:Tavush!U13) -> 0 | V12: =E12+G12 -> 0 | W12: =K12+L12+N12 -> 0 | X12: =K12 -> 0 | Y12: =H12+I12+J12 -> 0 | Z12: =R12 -> 0 | AA12: =P12+Q12 -> 0 | AB12: =U12 -> 0 | AC12: =S12+T12 -> 0
A13: 0 | B13: 1.6 | C13: ²Ý½·áõßáõÃÛ³Ùµ Ù³Ñ å³ï×³é»ÉÁ | D13: 109 | E13: =SUM(Ajapnjak:Tavush!E14) -> 3 | F13: =SUM(Ajapnjak:Tavush!F14) -> 0 | G13: =SUM(Ajapnjak:Tavush!G14) -> 4 | H13: =SUM(Ajapnjak:Tavush!H14) -> 5 | I13: =SUM(Ajapnjak:Tavush!I14) -> 0 | J13: =SUM(Ajapnjak:Tavush!J14) -> 0 | K13: =SUM(Ajapnjak:Tavush!K14) -> 5 | L13: =SUM(Ajapnjak:Tavush!L14) -> 0 | ... U13: =SUM(Ajapnjak:Tavush!U14) -> 0 | V13: =E13+G13 -> 7 | W13: =K13+L13+N13 -> 7 | X13: =K13 -> 5 | Y13: =H13+I13+J13 -> 5 | Z13: =R13 -> 0 | AA13: =P13+Q13 -> 0 | AB13: =U13 -> 0 | AC13: =S13+T13 -> 0
A14: 0 | B14: 1.7 | C14: ÆÝùÝ³ëå³ÝáõÃÛ³Ý Ñ³ëóÝ»ÉÁ | D14: 110 | E14: =SUM(Ajapnjak:Tavush!E15) -> 0 | F14: =SUM(Ajapnjak:Tavush!F15) -> 0 | G14: =SUM(Ajapnjak:Tavush!G15) -> 2 | H14: =SUM(Ajapnjak:Tavush!H15) -> 1 | I14: =SUM(Ajapnjak:Tavush!I15) -> 0 | J14: =SUM(Ajapnjak:Tavush!J15) -> 0 | K14: =SUM(Ajapnjak:Tavush!K15) -> 1 | L14: =SUM(Ajapnjak:Tavush!L15) -> 0 | ... U14: =SUM(Ajapnjak:Tavush!U15) -> 0 | V14: =E14+G14 -> 2 | W14: =K14+L14+N14 -> 2 | X14: =K14 -> 1 | Y14: =H14+I14+J14 -> 1 | Z14: =R14 -> 1 | AA14: =P14+Q14 -> 1 | AB14: =U14 -> 0 | AC14: =S14+T14 -> 0
A15: 0 | B15: 1.8 | C15: ÆÝùÝ³ëå³ÝáõÃÛ³Ý Ñ³Ï»ÉÁ | D15: 111 | E15: =SUM(Ajapnjak:Tavush!E16) -> 0 | F15: =SUM(Ajapnjak:Tavush!F16) -> 0 | G15: =SUM(Ajapnjak:Tavush!G16) -> 0 | H15: =SUM(Ajapnjak:Tavush!H16) -> 0 | I15: =SUM(Ajapnjak:Tavush!I16) -> 0 | J15: =SUM(Ajapnjak:Tavush!J16) -> 0 | K15: =SUM(Ajapnjak:Tavush!K16) -> 0 | L15: =SUM(Ajapnjak:Tavush!L16) -> 0 | ... U15: =SUM(Ajapnjak:Tavush!U16) -> 0 | V15: =E15+G15 -> 0 | W15: =K15+L15+N15 -> 0 | X15: =K15 -> 0 | Y15: =H15+I15+J15 -> 0 | Z15: =R15 -> 0 | AA15: =P15+Q15 -> 0 | AB15: =U15 -> 0 | AC15: =S15+T15 -> 0
A16: 0 | B16: 1.9 | C16: ¸Çï³íáñáõÃÛ³Ùµ ³éáÕçáõÃÛ³ÝÁ Í³Ýñ íÝ³ë å³ï×³é»ÉÁ | D16: 112 | E16: =SUM(Ajapnjak:Tavush!E17) -> 72 | F16: =SUM(Ajapnjak:Tavush!F17) -> 1 | G16: =SUM(Ajapnjak:Tavush!G17) -> 126 | H16: =SUM(Ajapnjak:Tavush!H17) -> 119 | I16: =SUM(Ajapnjak:Tavush!I17) -> 2 | J16: =SUM(Ajapnjak:Tavush!J17) -> 3 | K16: =SUM(Ajapnjak:Tavush!K17) -> 124 | L16: =SUM(Ajapnjak:Tavush!L17) -> 1 | ... U16: =SUM(Ajapnjak:Tavush!U17) -> 12 | V16: =E16+G16 -> 198 | W16: =K16+L16+N16 -> 198 | X16: =K16 -> 124 | Y16: =H16+I16+J16 -> 124 | Z16: =R16 -> 59 | AA16: =P16+Q16 -> 59 | AB16: =U16 -> 12 | AC16: =S16+T16 -> 12
A17: 0 | B17: 1.10 | C17: ¸Çï³íáñáõÃÛ³Ùµ ³éáÕçáõÃÛ³ÝÁ ÙÇçÇÝ Í³ÝñáõÃÛ³Ý íÝ³ë å³ï×³é»ÉÁ | D17: 113 | E17: =SUM(Ajapnjak:Tavush!E18) -> 13 | F17: =SUM(Ajapnjak:Tavush!F18) -> 0 | G17: =SUM(Ajapnjak:Tavush!G18) -> 34 | H17: =SUM(Ajapnjak:Tavush!H18) -> 14 | I17: =SUM(Ajapnjak:Tavush!I18) -> 10 | J17: =SUM(Ajapnjak:Tavush!J18) -> 1 | K17: =SUM(Ajapnjak:Tavush!K18) -> 25 | L17: =SUM(Ajapnjak:Tavush!L18) -> 0 | ... U17: =SUM(Ajapnjak:Tavush!U18) -> 3 | V17: =E17+G17 -> 47 | W17: =K17+L17+N17 -> 46 | X17: =K17 -> 25 | Y17: =H17+I17+J17 -> 25 | Z17: =R17 -> 8 | AA17: =P17+Q17 -> 8 | AB17: =U17 -> 3 | AC17: =S17+T17 -> 3
A18: 0 | B18: 1.11 | C18: Ðá·»Ï³Ý ËÇëï Ñáõ½ÙáõÝùÇ íÇ×³ÏáõÙ ³éáÕçáõÃÛ³ÝÁ Í³Ýñ Ï³Ù ÙÇçÇÝ Í³ÝñáõÃÛ³Ý íÝ³ë å³ï×³é»ÉÁ | D18: 114 | E18: =SUM(Ajapnjak:Tavush!E19) -> 1 | F18: =SUM(Ajapnjak:Tavush!F19) -> 1 | G18: =SUM(Ajapnjak:Tavush!G19) -> 0 | H18: =SUM(Ajapnjak:Tavush!H19) -> 0 | I18: =SUM(Ajapnjak:Tavush!I19) -> 0 | J18: =SUM(Ajapnjak:Tavush!J19) -> 0 | K18: =SUM(Ajapnjak:Tavush!K19) -> 0 | L18: =SUM(Ajapnjak:Tavush!L19) -> 0 | ... U18: =SUM(Ajapnjak:Tavush!U19) -> 0 | V18: =E18+G18 -> 1 | W18: =K18+L18+N18 -> 1 | X18: =K18 -> 0 | Y18: =H18+I18+J18 -> 0 | Z18: =R18 -> 1 | AA18: =P18+Q18 -> 1 | AB18: =U18 -> 0 | AC18: =S18+T18 -> 0
A19: 0 | B19: 1.12 | C19: Ð³Ýó³Ýù Ï³ï³ñ³Í ³ÝÓÇÝ µéÝ»Éáõ Ñ³Ù³ñ ³ÝÑñ³Å»ßï ÙÇçáóÝ»ñÇ ë³ÑÙ³Ý½³ÝóÙ³Ùµ ³éáÕçáõÃÛ³ÝÁ Í³Ýñ Ï³Ù ÙÇçÇÝ Í³ÝñáõÃÛ³Ý íÝ³ë å³ï×³é»ÉÁ | D19: 115 | E19: =SUM(Ajapnjak:Tavush!E20) -> 0 | F19: =SUM(Ajapnjak:Tavush!F20) -> 0 | G19: =SUM(Ajapnjak:Tavush!G20) -> 0 | H19: =SUM(Ajapnjak:Tavush!H20) -> 0 | I19: =SUM(Ajapnjak:Tavush!I20) -> 0 | J19: =SUM(Ajapnjak:Tavush!J20) -> 0 | K19: =SUM(Ajapnjak:Tavush!K20) -> 0 | L19: =SUM(Ajapnjak:Tavush!L20) -> 0 | ... U19: =SUM(Ajapnjak:Tavush!U20) -> 0 | V19: =E19+G19 -> 0 | W19: =K19+L19+N19 -> 0 | X19: =K19 -> 0 | Y19: =H19+I19+J19 -> 0 | Z19: =R19 -> 0 | AA19: =P19+Q19 -> 0 | AB19: =U19 -> 0 | AC19: =S19+T19 -> 0
... A33: 0 | B33: 1.27 | C33: ´ÅßÏ³Ï³Ý û·ÝáõÃÛáõÝ ¨ ëå³ë³ñÏáõÙ Çñ³Ï³Ý³óÝáÕÝ»ñÇ ÏáÕÙÇó Ù³ëÝ³·Çï³Ï³Ý å³ñï³Ï³ÝáõÃÛáõÝÝ»ñÁ ãÏ³ï³ñ»ÉÁ Ï³Ù áã å³ïß³× Ï³ï³ñ»ÉÁ | D33: 130 | E33: =SUM(Ajapnjak:Tavush!E34) -> 4 | F33: =SUM(Ajapnjak:Tavush!F34) -> 0 | G33: =SUM(Ajapnjak:Tavush!G34) -> 5 | H33: =SUM(Ajapnjak:Tavush!H34) -> 3 | I33: =SUM(Ajapnjak:Tavush!I34) -> 1 | J33: =SUM(Ajapnjak:Tavush!J34) -> 0 | K33: =SUM(Ajapnjak:Tavush!K34) -> 4 | L33: =SUM(Ajapnjak:Tavush!L34) -> 0 | ... U33: =SUM(Ajapnjak:Tavush!U34) -> 0 | V33: =E33+G33 -> 9 | W33: =K33+L33+N33 -> 9 | X33: =K33 -> 4 | Y33: =H33+I33+J33 -> 4 | Z33: =R33 -> 1 | AA33: =P33+Q33 -> 1 | AB33: =U33 -> 0 | AC33: =S33+T33 -> 0
A34: 1 | B34: 1.28 | C34: ²ÛÉ Ñ³Ýó³·áñÍáõÃÛáõÝÝ»ñ | E34: =SUM(Ajapnjak:Tavush!E35) -> 1 | F34: =SUM(Ajapnjak:Tavush!F35) -> 1 | G34: =SUM(Ajapnjak:Tavush!G35) -> 0 | H34: =SUM(Ajapnjak:Tavush!H35) -> 0 | I34: =SUM(Ajapnjak:Tavush!I35) -> 0 | J34: =SUM(Ajapnjak:Tavush!J35) -> 0 | K34: =SUM(Ajapnjak:Tavush!K35) -> 0 | L34: =SUM(Ajapnjak:Tavush!L35) -> 0 | ... U34: =SUM(Ajapnjak:Tavush!U35) -> 0 | V34: =E34+G34 -> 1 | W34: =K34+L34+N34 -> 1 | X34: =K34 -> 0 | Y34: =H34+I34+J34 -> 0 | Z34: =R34 -> 0 | AA34: =P34+Q34 -> 0 | AB34: =U34 -> 0 | AC34: =S34+T34 -> 0
A35: 0 | B35: 2. | C35: ÀÝ¹³Ù»ÝÁ ³ÝÓÇ ³½³ïáõÃÛ³Ý, å³ïíÇ ¨ ³ñÅ³Ý³å³ïíáõÃÛ³Ý ¹»Ù áõÕÕí³Í Ñ³Ýó³·áñÍáõÃÛáõÝÝ»ñÁ | E35: =SUM(Ajapnjak:Tavush!E36) -> 16 | F35: =SUM(Ajapnjak:Tavush!F36) -> 0 | G35: =SUM(Ajapnjak:Tavush!G36) -> 71 | H35: =SUM(Ajapnjak:Tavush!H36) -> 45 | I35: =SUM(Ajapnjak:Tavush!I36) -> 7 | J35: =SUM(Ajapnjak:Tavush!J36) -> 8 | K35: =SUM(Ajapnjak:Tavush!K36) -> 60 | L35: =SUM(Ajapnjak:Tavush!L36) -> 0 | ... U35: =SUM(Ajapnjak:Tavush!U36) -> 6 | V35: =SUM(V36:V42) -> 87 | W35: =SUM(W36:W42) -> 87 | X35: =SUM(X36:X42) -> 60 | Y35: =SUM(Y36:Y42) -> 60 | Z35: =SUM(Z36:Z42) -> 27 | AA35: =SUM(AA36:AA42) -> 27 | AB35: =SUM(AB36:AB42) -> 6 | AC35: =SUM(AC36:AC42) -> 6
A36: 0 | B36: 2.1 | C36: Ø³ñ¹áõÝ ³é¨³Ý·»ÉÁ | D36: 131 | E36: =SUM(Ajapnjak:Tavush!E37) -> 6 | F36: =SUM(Ajapnjak:Tavush!F37) -> 0 | G36: =SUM(Ajapnjak:Tavush!G37) -> 43 | H36: =SUM(Ajapnjak:Tavush!H37) -> 31 | I36: =SUM(Ajapnjak:Tavush!I37) -> 1 | J36: =SUM(Ajapnjak:Tavush!J37) -> 0 | K36: =SUM(Ajapnjak:Tavush!K37) -> 32 | L36: =SUM(Ajapnjak:Tavush!L37) -> 0 | ... U36: =SUM(Ajapnjak:Tavush!U37) -> 3 | V36: =E36+G36 -> 49 | W36: =K36+L36+N36 -> 49 | X36: =K36 -> 32 | Y36: =H36+I36+J36 -> 32 | Z36: =R36 -> 17 | AA36: =P36+Q36 -> 17 | AB36: =U36 -> 3 | AC36: =S36+T36 -> 3
B37: 2.2 | C37: Մարդու թրաֆիքինգը կամ շահագործումը | D37: 132 | E37: =SUM(Ajapnjak:Tavush!E38) -> 2 | F37: =SUM(Ajapnjak:Tavush!F38) -> 0 | G37: =SUM(Ajapnjak:Tavush!G38) -> 4 | H37: =SUM(Ajapnjak:Tavush!H38) -> 2 | I37: =SUM(Ajapnjak:Tavush!I38) -> 0 | J37: =SUM(Ajapnjak:Tavush!J38) -> 2 | K37: =SUM(Ajapnjak:Tavush!K38) -> 4 | L37: =SUM(Ajapnjak:Tavush!L38) -> 0 | ... U37: =SUM(Ajapnjak:Tavush!U38) -> 0 | V37: =E37+G37 -> 6 | W37: =K37+L37+N37 -> 6 | X37: =K37 -> 4 | Y37: =H37+I37+J37 -> 4 | Z37: =R37 -> 1 | AA37: =P37+Q37 -> 1 | AB37: =U37 -> 0 | AC37: =S37+T37 -> 0
B38: 2.2.1 | C38: Ø³ñ¹áõÝ åáéÝÇÏáõÃÛ³Ý Ï³Ù ë»é³Ï³Ý ß³Ñ³·áñÍÙ³Ý ³ÛÉ Ó¨»ñÇ Ù»ç, Ñ³ñÏ³¹Çñ ³ßË³ï³ÝùÇ Ï³Ù Í³é³ÛáõÃÛáõÝÝ»ñÇ Ý»ñ·ñ³í»ÉÁ Ï³Ù ëïñÏáõÃÛ³Ý Ï³Ù ëïñÏáõÃÛ³ÝÁ ÝÙ³ÝíáÕ íÇ×³ÏÇ Ù»ç ¹Ý»ÉÁ Ï³Ù å³Ñ»ÉÁ | D38: 132.1 | E38: =SUM(Ajapnjak:Tavush!E39) -> 0 | F38: =SUM(Ajapnjak:Tavush!F39) -> 0 | G38: =SUM(Ajapnjak:Tavush!G39) -> 0 | H38: =SUM(Ajapnjak:Tavush!H39) -> 0 | I38: =SUM(Ajapnjak:Tavush!I39) -> 0 | J38: =SUM(Ajapnjak:Tavush!J39) -> 0 | K38: =SUM(Ajapnjak:Tavush!K39) -> 0 | L38: =SUM(Ajapnjak:Tavush!L39) -> 0 | ... U38: =SUM(Ajapnjak:Tavush!U39) -> 0 | V38: =E38+G38 -> 0 | W38: =K38+L38+N38 -> 0 | X38: =K38 -> 0 | Y38: =H38+I38+J38 -> 0 | Z38: =R38 -> 0 | AA38: =P38+Q38 -> 0 | AB38: =U38 -> 0 | AC38: =S38+T38 -> 0
B39: 2.3 | C39: ²½³ïáõÃÛáõÝÇó ³åûñÇÝÇ ½ñÏ»ÉÁ | D39: 133 | E39: =SUM(Ajapnjak:Tavush!E40) -> 0 | F39: =SUM(Ajapnjak:Tavush!F40) -> 0 | G39: =SUM(Ajapnjak:Tavush!G40) -> 1 | H39: =SUM(Ajapnjak:Tavush!H40) -> 1 | I39: =SUM(Ajapnjak:Tavush!I40) -> 0 | J39: =SUM(Ajapnjak:Tavush!J40) -> 0 | K39: =SUM(Ajapnjak:Tavush!K40) -> 1 | L39: =SUM(Ajapnjak:Tavush!L40) -> 0 | ... U39: =SUM(Ajapnjak:Tavush!U40) -> 0 | V39: =E39+G39 -> 1 | W39: =K39+L39+N39 -> 1 | X39: =K39 -> 1 | Y39: =H39+I39+J39 -> 1 | Z39: =R39 -> 0 | AA39: =P39+Q39 -> 0 | AB39: =U39 -> 0 | AC39: =S39+T39 -> 0
B40: 2.4 | C40: Ðá·»µáõÅ³Ï³Ý ÑÇí³Ý¹³ÝáóáõÙ ³åûñÇÝÇ ï»Õ³íáñ»ÉÁ Ï³Ù å³Ñ»ÉÁ | D40: 134 | E40: =SUM(Ajapnjak:Tavush!E41) -> 0 | F40: =SUM(Ajapnjak:Tavush!F41) -> 0 | G40: =SUM(Ajapnjak:Tavush!G41) -> 0 | H40: =SUM(Ajapnjak:Tavush!H41) -> 0 | I40: =SUM(Ajapnjak:Tavush!I41) -> 0 | J40: =SUM(Ajapnjak:Tavush!J41) -> 0 | K40: =SUM(Ajapnjak:Tavush!K41) -> 0 | L40: =SUM(Ajapnjak:Tavush!L41) -> 0 | ... U40: =SUM(Ajapnjak:Tavush!U41) -> 0 | V40: =E40+G40 -> 0 | W40: =K40+L40+N40 -> 0 | X40: =K40 -> 0 | Y40: =H40+I40+J40 -> 0 | Z40: =R40 -> 0 | AA40: =P40+Q40 -> 0 | AB40: =U40 -> 0 | AC40: =S40+T40 -> 0
B41: 2.7 | C41: êå³ÝáõÃÛ³Ý, ³éáÕçáõÃÛ³ÝÁ Í³Ýñ íÝ³ë å³ï×³é»Éáõ Ï³Ù ·áõÛù áãÝã³óÝ»Éáõ ëå³éÝ³ÉÇùÁ | D41: 137 | E41: =SUM(Ajapnjak:Tavush!E42) -> 8 | F41: =SUM(Ajapnjak:Tavush!F42) -> 0 | G41: =SUM(Ajapnjak:Tavush!G42) -> 23 | H41: =SUM(Ajapnjak:Tavush!H42) -> 11 | I41: =SUM(Ajapnjak:Tavush!I42) -> 6 | J41: =SUM(Ajapnjak:Tavush!J42) -> 6 | K41: =SUM(Ajapnjak:Tavush!K42) -> 23 | L41: =SUM(Ajapnjak:Tavush!L42) -> 0 | ... U41: =SUM(Ajapnjak:Tavush!U42) -> 3 | V41: =E41+G41 -> 31 | W41: =K41+L41+N41 -> 31 | X41: =K41 -> 23 | Y41: =H41+I41+J41 -> 23 | Z41: =R41 -> 9 | AA41: =P41+Q41 -> 9 | AB41: =U41 -> 3 | AC41: =S41+T41 -> 3
A42: 0 | B42: 2.8 | C42: ²ÛÉ Ñ³Ýó³·áñÍáõÃÛáõÝÝ»ñ | E42: =SUM(Ajapnjak:Tavush!E43) -> 0 | F42: =SUM(Ajapnjak:Tavush!F43) -> 0 | G42: =SUM(Ajapnjak:Tavush!G43) -> 0 | H42: =SUM(Ajapnjak:Tavush!H43) -> 0 | I42: =SUM(Ajapnjak:Tavush!I43) -> 0 | J42: =SUM(Ajapnjak:Tavush!J43) -> 0 | K42: =SUM(Ajapnjak:Tavush!K43) -> 0 | L42: =SUM(Ajapnjak:Tavush!L43) -> 0 | ... U42: =SUM(Ajapnjak:Tavush!U43) -> 0 | V42: =E42+G42 -> 0 | W42: =K42+L42+N42 -> 0 | X42: =K42 -> 0 | Y42: =H42+I42+J42 -> 0 | Z42: =R42 -> 0 | AA42: =P42+Q42 -> 0 | AB42: =U42 -> 0 | AC42: =S42+T42 -> 0
A43: 0 | B43: 3. | C43: ÀÝ¹³Ù»ÝÁ ë»é³Ï³Ý ³ÝÓ»éÝÙË»ÉÇáõÃÛ³Ý ¨ ë»é³Ï³Ý ³½³ïáõÃÛ³Ý ¹»Ù áõÕÕí³Í Ñ³Ýó³·áñÍáõÃÛáõÝÝ»ñÁ | E43: =SUM(Ajapnjak:Tavush!E44) -> 25 | F43: =SUM(Ajapnjak:Tavush!F44) -> 1 | G43: =SUM(Ajapnjak:Tavush!G44) -> 61 | H43: =SUM(Ajapnjak:Tavush!H44) -> 59 | I43: =SUM(Ajapnjak:Tavush!I44) -> 0 | J43: =SUM(Ajapnjak:Tavush!J44) -> 2 | K43: =SUM(Ajapnjak:Tavush!K44) -> 61 | L43: =SUM(Ajapnjak:Tavush!L44) -> 2 | ... U43: =SUM(Ajapnjak:Tavush!U44) -> 1 | V43: =SUM(V44:V49) -> 86 | W43: =SUM(W44:W49) -> 86 | X43: =SUM(X44:X49) -> 61 | Y43: =SUM(Y44:Y49) -> 61 | Z43: =SUM(Z44:Z49) -> 14 | AA43: =SUM(AA44:AA49) -> 14 | AB43: =SUM(AB44:AB49) -> 1 | AC43: =SUM(AC44:AC49) -> 1
A44: 0 | B44: 3.1 | C44: ´éÝ³µ³ñáõÃÛáõÝÁ | D44: 138 | E44: =SUM(Ajapnjak:Tavush!E45) -> 1 | F44: =SUM(Ajapnjak:Tavush!F45) -> 0 | G44: =SUM(Ajapnjak:Tavush!G45) -> 11 | H44: =SUM(Ajapnjak:Tavush!H45) -> 6 | I44: =SUM(Ajapnjak:Tavush!I45) -> 0 | J44: =SUM(Ajapnjak:Tavush!J45) -> 0 | K44: =SUM(Ajapnjak:Tavush!K45) -> 6 | L44: =SUM(Ajapnjak:Tavush!L45) -> 2 | ... U44: =SUM(Ajapnjak:Tavush!U45) -> 0 | V44: =E44+G44 -> 12 | W44: =K44+L44+N44 -> 12 | X44: =K44 -> 6 | Y44: =H44+I44+J44 -> 6 | Z44: =R44 -> 2 | AA44: =P44+Q44 -> 2 | AB44: =U44 -> 0 | AC44: =S44+T44 -> 0
B45: 3.2 | C45: ê»ùëáõ³É µÝáõÛÃÇ µéÝÇ ·áñÍáÕáõÃÛáõÝÝ»ñÁ | D45: 139 | E45: =SUM(Ajapnjak:Tavush!E46) -> 4 | F45: =SUM(Ajapnjak:Tavush!F46) -> 1 | G45: =SUM(Ajapnjak:Tavush!G46) -> 4 | H45: =SUM(Ajapnjak:Tavush!H46) -> 3 | I45: =SUM(Ajapnjak:Tavush!I46) -> 0 | J45: =SUM(Ajapnjak:Tavush!J46) -> 0 | K45: =SUM(Ajapnjak:Tavush!K46) -> 3 | L45: =SUM(Ajapnjak:Tavush!L46) -> 0 | ... U45: =SUM(Ajapnjak:Tavush!U46) -> 0 | V45: =E45+G45 -> 8 | W45: =K45+L45+N45 -> 8 | X45: =K45 -> 3 | Y45: =H45+I45+J45 -> 3 | Z45: =R45 -> 3 | AA45: =P45+Q45 -> 3 | AB45: =U45 -> 0 | AC45: =S45+T45 -> 0
B46: 3.3 | C46: Սեռական հարաբերության կամ սեքսուալ բնույթի գործողություններին հարկադրելը | D46: 140 | E46: =SUM(Ajapnjak:Tavush!E47) -> 0 | F46: =SUM(Ajapnjak:Tavush!F47) -> 0 | G46: =SUM(Ajapnjak:Tavush!G47) -> 2 | H46: =SUM(Ajapnjak:Tavush!H47) -> 1 | I46: =SUM(Ajapnjak:Tavush!I47) -> 0 | J46: =SUM(Ajapnjak:Tavush!J47) -> 0 | K46: =SUM(Ajapnjak:Tavush!K47) -> 1 | L46: =SUM(Ajapnjak:Tavush!L47) -> 0 | ... U46: =SUM(Ajapnjak:Tavush!U47) -> 0 | V46: =E46+G46 -> 2 | W46: =K46+L46+N46 -> 2 | X46: =K46 -> 1 | Y46: =H46+I46+J46 -> 1 | Z46: =R46 -> 1 | AA46: =P46+Q46 -> 1 | AB46: =U46 -> 0 | AC46: =S46+T46 -> 0
B47: 3.4 | C47: ê»é³Ï³Ý Ñ³ñ³µ»ñáõÃÛáõÝÁ ï³ëÝí»ó ï³ñÇÝ ãÉñ³ó³Í ³ÝÓÇ Ñ»ï Ï³Ù ë»ùëáõ³É µÝáõÛÃÇ ·áñÍáÕáõÃÛáõÝÝ»ñ Ï³ï³ñ»ÉÁ ï³ëÝí»ó ï³ñÇÝ ãÉñ³ó³Í ³ÝÓÇ ÝÏ³ïÙ³Ùµ | D47: 141 | E47: =SUM(Ajapnjak:Tavush!E48) -> 18 | F47: =SUM(Ajapnjak:Tavush!F48) -> 0 | G47: =SUM(Ajapnjak:Tavush!G48) -> 40 | H47: =SUM(Ajapnjak:Tavush!H48) -> 46 | I47: =SUM(Ajapnjak:Tavush!I48) -> 0 | J47: =SUM(Ajapnjak:Tavush!J48) -> 1 | K47: =SUM(Ajapnjak:Tavush!K48) -> 47 | L47: =SUM(Ajapnjak:Tavush!L48) -> 0 | ... U47: =SUM(Ajapnjak:Tavush!U48) -> 1 | V47: =E47+G47 -> 58 | W47: =K47+L47+N47 -> 58 | X47: =K47 -> 47 | Y47: =H47+I47+J47 -> 47 | Z47: =R47 -> 8 | AA47: =P47+Q47 -> 8 | AB47: =U47 -> 1 | AC47: =S47+T47 -> 1
B48: 3.5 | C48: ²Ý³é³Ï³µ³ñá ·áñÍáÕáõÃÛáõÝÝ»ñÁ | D48: 142 | E48: =SUM(Ajapnjak:Tavush!E49) -> 2 | F48: =SUM(Ajapnjak:Tavush!F49) -> 0 | G48: =SUM(Ajapnjak:Tavush!G49) -> 4 | H48: =SUM(Ajapnjak:Tavush!H49) -> 3 | I48: =SUM(Ajapnjak:Tavush!I49) -> 0 | J48: =SUM(Ajapnjak:Tavush!J49) -> 1 | K48: =SUM(Ajapnjak:Tavush!K49) -> 4 | L48: =SUM(Ajapnjak:Tavush!L49) -> 0 | ... U48: =SUM(Ajapnjak:Tavush!U49) -> 0 | V48: =E48+G48 -> 6 | W48: =K48+L48+N48 -> 6 | X48: =K48 -> 4 | Y48: =H48+I48+J48 -> 4 | Z48: =R48 -> 0 | AA48: =P48+Q48 -> 0 | AB48: =U48 -> 0 | AC48: =S48+T48 -> 0
B49: 3.6 | C49: ²ÛÉ Ñ³Ýó³·áñÍáõÃÛáõÝÝ»ñ | E49: =SUM(Ajapnjak:Tavush!E50) -> 0 | F49: =SUM(Ajapnjak:Tavush!F50) -> 0 | G49: =SUM(Ajapnjak:Tavush!G50) -> 0 | H49: =SUM(Ajapnjak:Tavush!H50) -> 0 | I49: =SUM(Ajapnjak:Tavush!I50) -> 0 | J49: =SUM(Ajapnjak:Tavush!J50) -> 0 | K49: =SUM(Ajapnjak:Tavush!K50) -> 0 | L49: =SUM(Ajapnjak:Tavush!L50) -> 0 | ... U49: =SUM(Ajapnjak:Tavush!U50) -> 0 | V49: =E49+G49 -> 0 | W49: =K49+L49+N49 -> 0 | X49: =K49 -> 0 | Y49: =H49+I49+J49 -> 0 | Z49: =R49 -> 0 | AA49: =P49+Q49 -> 0 | AB49: =U49 -> 0 | AC49: =S49+T49 -> 0
B50: 4. | C50: ÀÝ¹³Ù»ÝÁ Ù³ñ¹áõ ¨ ù³Õ³ù³óáõ ë³ÑÙ³Ý³¹ñ³Ï³Ý Çñ³íáõÝùÝ»ñÇ ¨ ³½³ïáõÃÛáõÝÝ»ñÇ ¹»Ù áõÕÕí³Í Ñ³Ýó³·áñÍáõÃÛáõÝÝ»ñÁ | E50: =SUM(Ajapnjak:Tavush!E51) -> 6 | F50: =SUM(Ajapnjak:Tavush!F51) -> 1 | G50: =SUM(Ajapnjak:Tavush!G51) -> 41 | H50: =SUM(Ajapnjak:Tavush!H51) -> 29 | I50: =SUM(Ajapnjak:Tavush!I51) -> 1 | J50: =SUM(Ajapnjak:Tavush!J51) -> 0 | K50: =SUM(Ajapnjak:Tavush!K51) -> 30 | L50: =SUM(Ajapnjak:Tavush!L51) -> 1 | ... U50: =SUM(Ajapnjak:Tavush!U51) -> 1 | V50: =SUM(V51:V78) -> 47 | W50: =SUM(W51:W78) -> 47 | X50: =SUM(X51:X78) -> 30 | Y50: =SUM(Y51:Y78) -> 30 | Z50: =SUM(Z51:Z78) -> 2 | AA50: =SUM(AA51:AA78) -> 2 | AB50: =SUM(AB51:AB78) -> 1 | AC50: =SUM(AC51:AC78) -> 1
B51: 4.1 | C51: Ø³ñ¹áõ ¨ ù³Õ³ù³óáõ Çñ³í³Ñ³í³ë³ñáõÃÛáõÝÁ Ë³Ëï»ÉÁ | D51: 143 | E51: =SUM(Ajapnjak:Tavush!E52) -> 0 | F51: =SUM(Ajapnjak:Tavush!F52) -> 0 | G51: =SUM(Ajapnjak:Tavush!G52) -> 0 | H51: =SUM(Ajapnjak:Tavush!H52) -> 0 | I51: =SUM(Ajapnjak:Tavush!I52) -> 0 | J51: =SUM(Ajapnjak:Tavush!J52) -> 0 | K51: =SUM(Ajapnjak:Tavush!K52) -> 0 | L51: =SUM(Ajapnjak:Tavush!L52) -> 0 | ... U51: =SUM(Ajapnjak:Tavush!U52) -> 0 | V51: =E51+G51 -> 0 | W51: =K51+L51+N51 -> 0 | X51: =K51 -> 0 | Y51: =H51+I51+J51 -> 0 | Z51: =R51 -> 0 | AA51: =P51+Q51 -> 0 | AB51: =U51 -> 0 | AC51: =S51+T51 -> 0
B52: 4.2 | C52: ²ÝÓÝ³Ï³Ý Ï³Ù ÁÝï³Ý»Ï³Ý ÏÛ³ÝùÇ Ù³ëÇÝ ï»Õ»ÏáõÃÛáõÝÝ»ñ ³åûñÇÝÇ Ñ³í³ù»ÉÁ, å³Ñ»ÉÁ, û·ï³·áñÍ»ÉÁ Ï³Ù ï³ñ³Í»ÉÁ | D52: 144 | E52: =SUM(Ajapnjak:Tavush!E53) -> 0 | F52: =SUM(Ajapnjak:Tavush!F53) -> 0 | G52: =SUM(Ajapnjak:Tavush!G53) -> 2 | H52: =SUM(Ajapnjak:Tavush!H53) -> 1 | I52: =SUM(Ajapnjak:Tavush!I53) -> 0 | J52: =SUM(Ajapnjak:Tavush!J53) -> 0 | K52: =SUM(Ajapnjak:Tavush!K53) -> 1 | L52: =SUM(Ajapnjak:Tavush!L53) -> 1 | ... U52: =SUM(Ajapnjak:Tavush!U53) -> 0 | V52: =E52+G52 -> 2 | W52: =K52+L52+N52 -> 2 | X52: =K52 -> 1 | Y52: =H52+I52+J52 -> 1 | Z52: =R52 -> 0 | AA52: =P52+Q52 -> 0 | AB52: =U52 -> 0 | AC52: =S52+T52 -> 0
B53: 4.3 | C53: ´ÅßÏ³Ï³Ý ·³ÕïÝÇùÁ Ññ³å³ñ³Ï»ÉÁ | D53: 145 | E53: =SUM(Ajapnjak:Tavush!E54) -> 0 | F53: =SUM(Ajapnjak:Tavush!F54) -> 0 | G53: =SUM(Ajapnjak:Tavush!G54) -> 0 | H53: =SUM(Ajapnjak:Tavush!H54) -> 0 | I53: =SUM(Ajapnjak:Tavush!I54) -> 0 | J53: =SUM(Ajapnjak:Tavush!J54) -> 0 | K53: =SUM(Ajapnjak:Tavush!K54) -> 0 | L53: =SUM(Ajapnjak:Tavush!L54) -> 0 | ... U53: =SUM(Ajapnjak:Tavush!U54) -> 0 | V53: =E53+G53 -> 0 | W53: =K53+L53+N53 -> 0 | X53: =K53 -> 0 | Y53: =H53+I53+J53 -> 0 | Z53: =R53 -> 0 | AA53: =P53+Q53 -> 0 | AB53: =U53 -> 0 | AC53: =S53+T53 -> 0
B54: 4.4 | C54: Ü³Ù³Ï³·ñáõÃÛ³Ý, Ñ»é³Ëáë³ÛÇÝ Ëáë³ÏóáõÃÛáõÝÝ»ñÇ, ÷áëï³ÛÇÝ, Ñ»é³·ñ³Ï³Ý Ï³Ù ³ÛÉ Ñ³Õáñ¹áõÙÝ»ñÇ ·³ÕïÝÇáõÃÛáõÝÁ Ë³Ëï»ÉÁ | D54: 146 | E54: =SUM(Ajapnjak:Tavush!E55) -> 0 | F54: =SUM(Ajapnjak:Tavush!F55) -> 0 | G54: =SUM(Ajapnjak:Tavush!G55) -> 0 | H54: =SUM(Ajapnjak:Tavush!H55) -> 0 | I54: =SUM(Ajapnjak:Tavush!I55) -> 0 | J54: =SUM(Ajapnjak:Tavush!J55) -> 0 | K54: =SUM(Ajapnjak:Tavush!K55) -> 0 | L54: =SUM(Ajapnjak:Tavush!L55) -> 0 | ... U54: =SUM(Ajapnjak:Tavush!U55) -> 0 | V54: =E54+G54 -> 0 | W54: =K54+L54+N54 -> 0 | X54: =K54 -> 0 | Y54: =H54+I54+J54 -> 0 | Z54: =R54 -> 0 | AA54: =P54+Q54 -> 0 | AB54: =U54 -> 0 | AC54: =S54+T54 -> 0
B55: 4.5 | C55: ´Ý³Ï³ñ³ÝÇ ³ÝÓ»éÝÙË»ÉÇáõÃÛáõÝÁ Ë³Ëï»ÉÁ | D55: 147 | E55: =SUM(Ajapnjak:Tavush!E56) -> 4 | F55: =SUM(Ajapnjak:Tavush!F56) -> 1 | G55: =SUM(Ajapnjak:Tavush!G56) -> 19 | H55: =SUM(Ajapnjak:Tavush!H56) -> 16 | I55: =SUM(Ajapnjak:Tavush!I56) -> 1 | J55: =SUM(Ajapnjak:Tavush!J56) -> 0 | K55: =SUM(Ajapnjak:Tavush!K56) -> 17 | L55: =SUM(Ajapnjak:Tavush!L56) -> 0 | ... U55: =SUM(Ajapnjak:Tavush!U56) -> 0 | V55: =E55+G55 -> 23 | W55: =K55+L55+N55 -> 23 | X55: =K55 -> 17 | Y55: =H55+I55+J55 -> 17 | Z55: =R55 -> 0 | AA55: =P55+Q55 -> 0 | AB55: =U55 -> 0 | AC55: =S55+T55 -> 0
B56: 4.6 | C56: ²ÝÓÇÝ ï»Õ»ÏáõÃÛáõÝ Ý»ñÏ³Û³óÝ»Éáõó Ññ³Å³ñí»ÉÁ | D56: 148 | E56: =SUM(Ajapnjak:Tavush!E57) -> 0 | F56: =SUM(Ajapnjak:Tavush!F57) -> 0 | G56: =SUM(Ajapnjak:Tavush!G57) -> 0 | H56: =SUM(Ajapnjak:Tavush!H57) -> 0 | I56: =SUM(Ajapnjak:Tavush!I57) -> 0 | J56: =SUM(Ajapnjak:Tavush!J57) -> 0 | K56: =SUM(Ajapnjak:Tavush!K57) -> 0 | L56: =SUM(Ajapnjak:Tavush!L57) -> 0 | ... U56: =SUM(Ajapnjak:Tavush!U57) -> 0 | V56: =E56+G56 -> 0 | W56: =K56+L56+N56 -> 0 | X56: =K56 -> 0 | Y56: =H56+I56+J56 -> 0 | Z56: =R56 -> 0 | AA56: =P56+Q56 -> 0 | AB56: =U56 -> 0 | AC56: =S56+T56 -> 0
B57: 4.7 | C57: ÀÝïñ³Ï³Ý Çñ³íáõÝùÇ Çñ³Ï³Ý³óÙ³ÝÁ, ÁÝïñ³Ï³Ý Ñ³ÝÓÝ³ÅáÕáíÝ»ñÇ ³ßË³ï³ÝùÝ»ñÇÝ Ï³Ù ÁÝïñáõÃÛ³ÝÁ Ù³ëÝ³ÏóáÕ ³ÝÓ³Ýó ÉÇ³½áñáõÃÛáõÝÝ»ñÇ Çñ³Ï³Ý³óÙ³ÝÁ ËáãÁÝ¹áï»ÉÁ | D57: 149 | E57: =SUM(Ajapnjak:Tavush!E58) -> 0 | F57: =SUM(Ajapnjak:Tavush!F58) -> 0 | G57: =SUM(Ajapnjak:Tavush!G58) -> 1 | H57: =SUM(Ajapnjak:Tavush!H58) -> 0 | I57: =SUM(Ajapnjak:Tavush!I58) -> 0 | J57: =SUM(Ajapnjak:Tavush!J58) -> 0 | K57: =SUM(Ajapnjak:Tavush!K58) -> 0 | L57: =SUM(Ajapnjak:Tavush!L58) -> 0 | ... U57: =SUM(Ajapnjak:Tavush!U58) -> 0 | V57: =E57+G57 -> 1 | W57: =K57+L57+N57 -> 1 | X57: =K57 -> 0 | Y57: =H57+I57+J57 -> 0 | Z57: =R57 -> 0 | AA57: =P57+Q57 -> 0 | AB57: =U57 -> 0 | AC57: =S57+T57 -> 0
B58: 4.8 | C58: ÀÝïñáõÃÛáõÝÝ»ñÇ Ï³Ù ùí»³ñÏáõÃÛ³Ý ³ñ¹ÛáõÝùÝ»ñÁ Ï»ÕÍ»ÉÁ | D58: 150 | E58: =SUM(Ajapnjak:Tavush!E59) -> 0 | F58: =SUM(Ajapnjak:Tavush!F59) -> 0 | G58: =SUM(Ajapnjak:Tavush!G59) -> 0 | H58: =SUM(Ajapnjak:Tavush!H59) -> 0 | I58: =SUM(Ajapnjak:Tavush!I59) -> 0 | J58: =SUM(Ajapnjak:Tavush!J59) -> 0 | K58: =SUM(Ajapnjak:Tavush!K59) -> 0 | L58: =SUM(Ajapnjak:Tavush!L59) -> 0 | ... U58: =SUM(Ajapnjak:Tavush!U59) -> 0 | V58: =E58+G58 -> 0 | W58: =K58+L58+N58 -> 0 | X58: =K58 -> 0 | Y58: =H58+I58+J58 -> 0 | Z58: =R58 -> 0 | AA58: =P58+Q58 -> 0 | AB58: =U58 -> 0 | AC58: =S58+T58 -> 0
B59: 4.9 | C59: ÀÝïñáõÃÛáõÝÝ»ñÇ ³ÝóÏ³óÙ³Ý ÁÝÃ³óùáõÙ Ã»ÏÝ³ÍáõÇ, Ïáõë³ÏóáõÃÛ³Ý (Ïáõë³ÏóáõÃÛáõÝÝ»ñÇ ¹³ßÇÝùÇ) í»ñ³µ»ñÛ³É ½ñå³ñïã³Ï³Ý ï»Õ»ÏáõÃÛáõÝÝ»ñ ï³ñ³Í»ÉÁ | D59: 151 | E59: =SUM(Ajapnjak:Tavush!E60) -> 0 | F59: =SUM(Ajapnjak:Tavush!F60) -> 0 | G59: =SUM(Ajapnjak:Tavush!G60) -> 0 | H59: =SUM(Ajapnjak:Tavush!H60) -> 0 | I59: =SUM(Ajapnjak:Tavush!I60) -> 0 | J59: =SUM(Ajapnjak:Tavush!J60) -> 0 | K59: =SUM(Ajapnjak:Tavush!K60) -> 0 | L59: =SUM(Ajapnjak:Tavush!L60) -> 0 | ... U59: =SUM(Ajapnjak:Tavush!U60) -> 0 | V59: =E59+G59 -> 0 | W59: =K59+L59+N59 -> 0 | X59: =K59 -> 0 | Y59: =H59+I59+J59 -> 0 | Z59: =R59 -> 0 | AA59: =P59+Q59 -> 0 | AB59: =U59 -> 0 | AC59: =S59+T59 -> 0
B60: 4.10 | C60: ÀÝïñáÕÝ»ñÇ óáõó³ÏÝ»ñÁ Ï³½Ù»Éáõ, ¹ñ³Ýù ù³Õ³ù³óÇÝ»ñÇÝ ¨ Ïáõë³ÏóáõÃÛáõÝÝ»ñÇÝ ïñ³Ù³¹ñ»Éáõ Ï³Ù Ññ³å³ñ³Ï»Éáõ Ï³ñ·Á Ë³Ëï»ÉÁ | D60: 152 | E60: =SUM(Ajapnjak:Tavush!E61) -> 0 | F60: =SUM(Ajapnjak:Tavush!F61) -> 0 | G60: =SUM(Ajapnjak:Tavush!G61) -> 0 | H60: =SUM(Ajapnjak:Tavush!H61) -> 0 | I60: =SUM(Ajapnjak:Tavush!I61) -> 0 | J60: =SUM(Ajapnjak:Tavush!J61) -> 0 | K60: =SUM(Ajapnjak:Tavush!K61) -> 0 | L60: =SUM(Ajapnjak:Tavush!L61) -> 0 | ... U60: =SUM(Ajapnjak:Tavush!U61) -> 0 | V60: =E60+G60 -> 0 | W60: =K60+L60+N60 -> 0 | X60: =K60 -> 0 | Y60: =H60+I60+J60 -> 0 | Z60: =R60 -> 0 | AA60: =P60+Q60 -> 0 | AB60: =U60 -> 0 | AC60: =S60+T60 -> 0
A61: 0 | B61: 4.11 | C61: Ø»ÏÇó ³í»ÉÇ ³Ý·³Ù Ï³Ù ³ÛÉ ³ÝÓÇ ÷áË³ñ»Ý ùí»³ñÏ»ÉÁ | D61: 153 | E61: =SUM(Ajapnjak:Tavush!E62) -> 0 | F61: =SUM(Ajapnjak:Tavush!F62) -> 0 | G61: =SUM(Ajapnjak:Tavush!G62) -> 0 | H61: =SUM(Ajapnjak:Tavush!H62) -> 0 | I61: =SUM(Ajapnjak:Tavush!I62) -> 0 | J61: =SUM(Ajapnjak:Tavush!J62) -> 0 | K61: =SUM(Ajapnjak:Tavush!K62) -> 0 | L61: =SUM(Ajapnjak:Tavush!L62) -> 0 | ... U61: =SUM(Ajapnjak:Tavush!U62) -> 0 | V61: =E61+G61 -> 0 | W61: =K61+L61+N61 -> 0 | X61: =K61 -> 0 | Y61: =H61+I61+J61 -> 0 | Z61: =R61 -> 0 | AA61: =P61+Q61 -> 0 | AB61: =U61 -> 0 | AC61: =S61+T61 -> 0
B62: 4.12 | C62: øí»³ñÏáõÃÛ³Ý ·³ÕïÝÇáõÃÛáõÝÁ Ë³Ëï»ÉÁ | D62: 154 | E62: =SUM(Ajapnjak:Tavush!E63) -> 0 | F62: =SUM(Ajapnjak:Tavush!F63) -> 0 | G62: =SUM(Ajapnjak:Tavush!G63) -> 0 | H62: =SUM(Ajapnjak:Tavush!H63) -> 0 | I62: =SUM(Ajapnjak:Tavush!I63) -> 0 | J62: =SUM(Ajapnjak:Tavush!J63) -> 0 | K62: =SUM(Ajapnjak:Tavush!K63) -> 0 | L62: =SUM(Ajapnjak:Tavush!L63) -> 0 | ... U62: =SUM(Ajapnjak:Tavush!U63) -> 0 | V62: =E62+G62 -> 0 | W62: =K62+L62+N62 -> 0 | X62: =K62 -> 0 | Y62: =H62+I62+J62 -> 0 | Z62: =R62 -> 0 | AA62: =P62+Q62 -> 0 | AB62: =U62 -> 0 | AC62: =S62+T62 -> 0
B63: 4.13 | C63: Î»ÕÍ ÁÝïñ³Ï³Ý ùí»³Ã»ñÃÇÏÝ»ñ Ï³Ù ùí»³ñÏáõÃÛ³Ý Íñ³ñÝ»ñ å³ïñ³ëï»ÉÁ Ï³Ù ³ÏÝÑ³Ûï Ï»ÕÍ ÁÝïñ³Ï³Ý ùí»³Ã»ñÃÇÏÝ»ñ Ï³Ù ùí»³ñÏáõÃÛ³Ý Íñ³ñÝ»ñ Ñ³ÝÓÝ»ÉÁ Ï³Ù Çñ³óÝ»ÉÁ | D63: 154.1 | E63: =SUM(Ajapnjak:Tavush!E64) -> 0 | F63: =SUM(Ajapnjak:Tavush!F64) -> 0 | G63: =SUM(Ajapnjak:Tavush!G64) -> 0 | H63: =SUM(Ajapnjak:Tavush!H64) -> 0 | I63: =SUM(Ajapnjak:Tavush!I64) -> 0 | J63: =SUM(Ajapnjak:Tavush!J64) -> 0 | K63: =SUM(Ajapnjak:Tavush!K64) -> 0 | L63: =SUM(Ajapnjak:Tavush!L64) -> 0 | ... U63: =SUM(Ajapnjak:Tavush!U64) -> 0 | V63: =E63+G63 -> 0 | W63: =K63+L63+N63 -> 0 | X63: =K63 -> 0 | Y63: =H63+I63+J63 -> 0 | Z63: =R63 -> 0 | AA63: =P63+Q63 -> 0 | AB63: =U63 -> 0 | AC63: =S63+T63 -> 0
B64: 4.14 | C64: ÀÝïñáÕÇ Ï³ÙùÇ ³½³ï Çñ³Ï³Ý³óÙ³ÝÁ ËáãÁÝ¹áï»ÉÁ | D64: 154.2 | E64: =SUM(Ajapnjak:Tavush!E65) -> 0 | F64: =SUM(Ajapnjak:Tavush!F65) -> 0 | G64: =SUM(Ajapnjak:Tavush!G65) -> 0 | H64: =SUM(Ajapnjak:Tavush!H65) -> 0 | I64: =SUM(Ajapnjak:Tavush!I65) -> 0 | J64: =SUM(Ajapnjak:Tavush!J65) -> 0 | K64: =SUM(Ajapnjak:Tavush!K65) -> 0 | L64: =SUM(Ajapnjak:Tavush!L65) -> 0 | ... U64: =SUM(Ajapnjak:Tavush!U65) -> 0 | V64: =E64+G64 -> 0 | W64: =K64+L64+N64 -> 0 | X64: =K64 -> 0 | Y64: =H64+I64+J64 -> 0 | Z64: =R64 -> 0 | AA64: =P64+Q64 -> 0 | AB64: =U64 -> 0 | AC64: =S64+T64 -> 0
B65: 4.15 | C65: ÀÝïñ³Ï³Ý Ñ³ÝÓÝ³ÅáÕáíÇ ÏÝÇùÁ ãí»ñ³¹³ñÓÝ»ÉÁ, ÏÝÇùÇ å³Ñå³ÝÙ³Ý ë³ÑÙ³Ýí³Í Ï³ñ·Á Ë³Ëï»ÉÁ | D65: 154.3 | E65: =SUM(Ajapnjak:Tavush!E66) -> 0 | F65: =SUM(Ajapnjak:Tavush!F66) -> 0 | G65: =SUM(Ajapnjak:Tavush!G66) -> 0 | H65: =SUM(Ajapnjak:Tavush!H66) -> 0 | I65: =SUM(Ajapnjak:Tavush!I66) -> 0 | J65: =SUM(Ajapnjak:Tavush!J66) -> 0 | K65: =SUM(Ajapnjak:Tavush!K66) -> 0 | L65: =SUM(Ajapnjak:Tavush!L66) -> 0 | ... U65: =SUM(Ajapnjak:Tavush!U66) -> 0 | V65: =E65+G65 -> 0 | W65: =K65+L65+N65 -> 0 | X65: =K65 -> 0 | Y65: =H65+I65+J65 -> 0 | Z65: =R65 -> 0 | AA65: =P65+Q65 -> 0 | AB65: =U65 -> 0 | AC65: =S65+T65 -> 0
B66: 4.16 | C66: ¼»Ýùáíª ï»Õ³Ù³ë³ÛÇÝ Ï»ÝïñáÝ Ùáõïù ·áñÍ»ÉÁ | D66: 154.4 | E66: =SUM(Ajapnjak:Tavush!E67) -> 0 | F66: =SUM(Ajapnjak:Tavush!F67) -> 0 | G66: =SUM(Ajapnjak:Tavush!G67) -> 0 | H66: =SUM(Ajapnjak:Tavush!H67) -> 0 | I66: =SUM(Ajapnjak:Tavush!I67) -> 0 | J66: =SUM(Ajapnjak:Tavush!J67) -> 0 | K66: =SUM(Ajapnjak:Tavush!K67) -> 0 | L66: =SUM(Ajapnjak:Tavush!L67) -> 0 | ... U66: =SUM(Ajapnjak:Tavush!U67) -> 0 | V66: =E66+G66 -> 0 | W66: =K66+L66+N66 -> 0 | X66: =K66 -> 0 | Y66: =H66+I66+J66 -> 0 | Z66: =R66 -> 0 | AA66: =P66+Q66 -> 0 | AB66: =U66 -> 0 | AC66: =S66+T66 -> 0
B67: 4.17 | C67: ìëï³Ñí³Í ³ÝÓÇÝ,ÁÝïñ³Ï³Ý Ñ³ÝÓÝ³ÅáÕáíÇ ³Ý¹³ÙÇÝ,¹Çïáñ¹ÇÝ Ï³Ù ½³Ý·í³Í³ÛÇÝ Éñ³ïíáõÃÛ³Ý ÙÇçáóÇ Ý»ñÏ³Û³óáõóãÇÝ ÁÝïñ³Ï³Ý ÷³ëï³ÃÕÃ»ñÇÝ Í³ÝáÃ³Ý³ÉáõÝ ËáãÁÝ¹áï»ÉÁ, ÁÝïñ³Ï³Ý Ñ³ÝÓÝ³ÅáÕáíÇ ³ñÓ³Ý³·ñáõÃÛáõÝÝ»ñÇ å³ï×»ÝÝ»ñ ãï³ÉÁ | D67: 154.5 | E67: =SUM(Ajapnjak:Tavush!E68) -> 0 | F67: =SUM(Ajapnjak:Tavush!F68) -> 0 | G67: =SUM(Ajapnjak:Tavush!G68) -> 0 | H67: =SUM(Ajapnjak:Tavush!H68) -> 0 | I67: =SUM(Ajapnjak:Tavush!I68) -> 0 | J67: =SUM(Ajapnjak:Tavush!J68) -> 0 | K67: =SUM(Ajapnjak:Tavush!K68) -> 0 | L67: =SUM(Ajapnjak:Tavush!L68) -> 0 | ... U67: =SUM(Ajapnjak:Tavush!U68) -> 0 | V67: =E67+G67 -> 0 | W67: =K67+L67+N67 -> 0 | X67: =K67 -> 0 | Y67: =H67+I67+J67 -> 0 | Z67: =R67 -> 0 | AA67: =P67+Q67 -> 0 | AB67: =U67 -> 0 | AC67: =S67+T67 -> 0
B68: 4.18 | C68: ¶áñÍ³¹áõÉÇ Ù³ëÝ³Ïó»ÉáõÝ Ï³Ù ·áñÍ³¹áõÉÇ Ù³ëÝ³Ïó»Éáõó Ññ³Å³ñí»ÉáõÝ Ñ³ñÏ³¹ñ»ÉÁ | D68: 155 | E68: =SUM(Ajapnjak:Tavush!E69) -> 0 | F68: =SUM(Ajapnjak:Tavush!F69) -> 0 | G68: =SUM(Ajapnjak:Tavush!G69) -> 0 | H68: =SUM(Ajapnjak:Tavush!H69) -> 0 | I68: =SUM(Ajapnjak:Tavush!I69) -> 0 | J68: =SUM(Ajapnjak:Tavush!J69) -> 0 | K68: =SUM(Ajapnjak:Tavush!K69) -> 0 | L68: =SUM(Ajapnjak:Tavush!L69) -> 0 | ... U68: =SUM(Ajapnjak:Tavush!U69) -> 0 | V68: =E68+G68 -> 0 | W68: =K68+L68+N68 -> 0 | X68: =K68 -> 0 | Y68: =H68+I68+J68 -> 0 | Z68: =R68 -> 0 | AA68: =P68+Q68 -> 0 | AB68: =U68 -> 0 | AC68: =S68+T68 -> 0
B69: 4.19 | C69: ÐÕÇ ÏÝáçÁ Ï³Ù ÙÇÝã¨ »ñ»ù ï³ñ»Ï³Ý »ñ»Ë³ áõÝ»óáÕ ³ÝÓÇÝ ³ßË³ï³ÝùÇ ÁÝ¹áõÝ»Éáõõó Ññ³Å³ñí»ÉÁ Ï³Ù ³ßË³ï³ÝùÇó ³ÝÑÇÙÝ ³½³ï»ÉÁ | D69: 156 | E69: =SUM(Ajapnjak:Tavush!E70) -> 0 | F69: =SUM(Ajapnjak:Tavush!F70) -> 0 | G69: =SUM(Ajapnjak:Tavush!G70) -> 0 | H69: =SUM(Ajapnjak:Tavush!H70) -> 0 | I69: =SUM(Ajapnjak:Tavush!I70) -> 0 | J69: =SUM(Ajapnjak:Tavush!J70) -> 0 | K69: =SUM(Ajapnjak:Tavush!K70) -> 0 | L69: =SUM(Ajapnjak:Tavush!L70) -> 0 | ... U69: =SUM(Ajapnjak:Tavush!U70) -> 0 | V69: =E69+G69 -> 0 | W69: =K69+L69+N69 -> 0 | X69: =K69 -> 0 | Y69: =H69+I69+J69 -> 0 | Z69: =R69 -> 0 | AA69: =P69+Q69 -> 0 | AB69: =U69 -> 0 | AC69: =S69+T69 -> 0
B70: 4.20 | C70: ²ßË³ï³ÝùÇ å³ßïå³ÝáõÃÛ³Ý Ï³ÝáÝÝ»ñÁ Ë³Ëï»ÉÁ | D70: 157 | E70: =SUM(Ajapnjak:Tavush!E71) -> 2 | F70: =SUM(Ajapnjak:Tavush!F71) -> 0 | G70: =SUM(Ajapnjak:Tavush!G71) -> 18 | H70: =SUM(Ajapnjak:Tavush!H71) -> 12 | I70: =SUM(Ajapnjak:Tavush!I71) -> 0 | J70: =SUM(Ajapnjak:Tavush!J71) -> 0 | K70: =SUM(Ajapnjak:Tavush!K71) -> 12 | L70: =SUM(Ajapnjak:Tavush!L71) -> 0 | ... U70: =SUM(Ajapnjak:Tavush!U71) -> 1 | V70: =E70+G70 -> 20 | W70: =K70+L70+N70 -> 20 | X70: =K70 -> 12 | Y70: =H70+I70+J70 -> 12 | Z70: =R70 -> 2 | AA70: =P70+Q70 -> 2 | AB70: =U70 -> 1 | AC70: =S70+T70 -> 1
B71: 4.21 | C71: Ð»ÕÇÝ³Ï³ÛÇÝ ¨ Ñ³ñ³ÏÇó Çñ³íáõÝùÝ»ñÁ Ë³Ëï»ÉÁ | D71: 158 | E71: =SUM(Ajapnjak:Tavush!E72) -> 0 | F71: =SUM(Ajapnjak:Tavush!F72) -> 0 | G71: =SUM(Ajapnjak:Tavush!G72) -> 1 | H71: =SUM(Ajapnjak:Tavush!H72) -> 0 | I71: =SUM(Ajapnjak:Tavush!I72) -> 0 | J71: =SUM(Ajapnjak:Tavush!J72) -> 0 | K71: =SUM(Ajapnjak:Tavush!K72) -> 0 | L71: =SUM(Ajapnjak:Tavush!L72) -> 0 | ... U71: =SUM(Ajapnjak:Tavush!U72) -> 0 | V71: =E71+G71 -> 1 | W71: =K71+L71+N71 -> 1 | X71: =K71 -> 0 | Y71: =H71+I71+J71 -> 0 | Z71: =R71 -> 0 | AA71: =P71+Q71 -> 0 | AB71: =U71 -> 0 | AC71: =S71+T71 -> 0
B72: 4.22 | C72: ²ñïáÝ³·ñ³ÛÇÝ Çñ³íáõÝùÁ Ë³Ëï»ÉÁ | D72: 159 | E72: =SUM(Ajapnjak:Tavush!E73) -> 0 | F72: =SUM(Ajapnjak:Tavush!F73) -> 0 | G72: =SUM(Ajapnjak:Tavush!G73) -> 0 | H72: =SUM(Ajapnjak:Tavush!H73) -> 0 | I72: =SUM(Ajapnjak:Tavush!I73) -> 0 | J72: =SUM(Ajapnjak:Tavush!J73) -> 0 | K72: =SUM(Ajapnjak:Tavush!K73) -> 0 | L72: =SUM(Ajapnjak:Tavush!L73) -> 0 | ... U72: =SUM(Ajapnjak:Tavush!U73) -> 0 | V72: =E72+G72 -> 0 | W72: =K72+L72+N72 -> 0 | X72: =K72 -> 0 | Y72: =H72+I72+J72 -> 0 | Z72: =R72 -> 0 | AA72: =P72+Q72 -> 0 | AB72: =U72 -> 0 | AC72: =S72+T72 -> 0
B73: 4.23 | C73: ÊÕ×Ç Ï³Ù ¹³í³Ý³ÝùÇ ³½³ïáõÃÛ³Ý Çñ³íáõÝùÇ Çñ³Ï³Ý³óÙ³ÝÁ ËáãÁÝ¹áï»ÉÁ | D73: 160 | E73: =SUM(Ajapnjak:Tavush!E74) -> 0 | F73: =SUM(Ajapnjak:Tavush!F74) -> 0 | G73: =SUM(Ajapnjak:Tavush!G74) -> 0 | H73: =SUM(Ajapnjak:Tavush!H74) -> 0 | I73: =SUM(Ajapnjak:Tavush!I74) -> 0 | J73: =SUM(Ajapnjak:Tavush!J74) -> 0 | K73: =SUM(Ajapnjak:Tavush!K74) -> 0 | L73: =SUM(Ajapnjak:Tavush!L74) -> 0 | ... U73: =SUM(Ajapnjak:Tavush!U74) -> 0 | V73: =E73+G73 -> 0 | W73: =K73+L73+N73 -> 0 | X73: =K73 -> 0 | Y73: =H73+I73+J73 -> 0 | Z73: =R73 -> 0 | AA73: =P73+Q73 -> 0 | AB73: =U73 -> 0 | AC73: =S73+T73 -> 0
... B77: 4.27 | C77: Èñ³·ñáÕÇ Ù³ëÝ³·Çï³Ï³Ý ûñÇÝ³Ï³Ý ·áñÍáÕáõÃÛ³ÝÁ ËáãÁÝ¹áï»ÉÁ | D77: 164 | E77: =SUM(Ajapnjak:Tavush!E78) -> 0 | F77: =SUM(Ajapnjak:Tavush!F78) -> 0 | G77: =SUM(Ajapnjak:Tavush!G78) -> 0 | H77: =SUM(Ajapnjak:Tavush!H78) -> 0 | I77: =SUM(Ajapnjak:Tavush!I78) -> 0 | J77: =SUM(Ajapnjak:Tavush!J78) -> 0 | K77: =SUM(Ajapnjak:Tavush!K78) -> 0 | L77: =SUM(Ajapnjak:Tavush!L78) -> 0 | ... U77: =SUM(Ajapnjak:Tavush!U78) -> 0 | V77: =E77+G77 -> 0 | W77: =K77+L77+N77 -> 0 | X77: =K77 -> 0 | Y77: =H77+I77+J77 -> 0 | Z77: =R77 -> 0 | AA77: =P77+Q77 -> 0 | AB77: =U77 -> 0 | AC77: =S77+T77 -> 0
B78: 4.28 | C78: ²ÛÉ Ñ³Ýó³·áñÍáõÃÛáõÝÝ»ñ | E78: =SUM(Ajapnjak:Tavush!E79) -> 0 | F78: =SUM(Ajapnjak:Tavush!F79) -> 0 | G78: =SUM(Ajapnjak:Tavush!G79) -> 0 | H78: =SUM(Ajapnjak:Tavush!H79) -> 0 | I78: =SUM(Ajapnjak:Tavush!I79) -> 0 | J78: =SUM(Ajapnjak:Tavush!J79) -> 0 | K78: =SUM(Ajapnjak:Tavush!K79) -> 0 | L78: =SUM(Ajapnjak:Tavush!L79) -> 0 | ... U78: =SUM(Ajapnjak:Tavush!U79) -> 0 | V78: =E78+G78 -> 0 | W78: =K78+L78+N78 -> 0 | X78: =K78 -> 0 | Y78: =H78+I78+J78 -> 0 | Z78: =R78 -> 0 | AA78: =P78+Q78 -> 0 | AB78: =U78 -> 0 | AC78: =S78+T78 -> 0
B79: 5. | C79: ÀÝ¹³Ù»ÝÁ ÁÝï³ÝÇùÇ ¨ »ñ»Ë³ÛÇ ß³Ñ»ñÇ ¹»Ù áõÕÕí³Í Ñ³Ýó³·áñÍáõÃÛáõÝÝ»ñÁ | E79: =SUM(Ajapnjak:Tavush!E80) -> 1 | F79: =SUM(Ajapnjak:Tavush!F80) -> 1 | G79: =SUM(Ajapnjak:Tavush!G80) -> 4 | H79: =SUM(Ajapnjak:Tavush!H80) -> 5 | I79: =SUM(Ajapnjak:Tavush!I80) -> 0 | J79: =SUM(Ajapnjak:Tavush!J80) -> 0 | K79: =SUM(Ajapnjak:Tavush!K80) -> 5 | L79: =SUM(Ajapnjak:Tavush!L80) -> 0 | ... U79: =SUM(Ajapnjak:Tavush!U80) -> 0 | V79: =SUM(V80:V91) -> 5 | W79: =SUM(W80:W91) -> 5 | X79: =SUM(X80:X91) -> 5 | Y79: =SUM(Y80:Y91) -> 5 | Z79: =SUM(Z80:Z91) -> 1 | AA79: =SUM(AA80:AA91) -> 1 | AB79: =SUM(AB80:AB91) -> 0 | AC79: =SUM(AC80:AC91) -> 0
B80: 5.1 | C80: ²Ýã³÷³Ñ³ëÇÝ Ñ³Ýó³ÝùÇ Ï³ï³ñÙ³ÝÁ Ý»ñ·ñ³í»ÉÁ | D80: 165 | E80: =SUM(Ajapnjak:Tavush!E81) -> 0 | F80: =SUM(Ajapnjak:Tavush!F81) -> 0 | G80: =SUM(Ajapnjak:Tavush!G81) -> 0 | H80: =SUM(Ajapnjak:Tavush!H81) -> 0 | I80: =SUM(Ajapnjak:Tavush!I81) -> 0 | J80: =SUM(Ajapnjak:Tavush!J81) -> 0 | K80: =SUM(Ajapnjak:Tavush!K81) -> 0 | L80: =SUM(Ajapnjak:Tavush!L81) -> 0 | ... U80: =SUM(Ajapnjak:Tavush!U81) -> 0 | V80: =E80+G80 -> 0 | W80: =K80+L80+N80 -> 0 | X80: =K80 -> 0 | Y80: =H80+I80+J80 -> 0 | Z80: =R80 -> 0 | AA80: =P80+Q80 -> 0 | AB80: =U80 -> 0 | AC80: =S80+T80 -> 0
B81: 5.2 | C81: ºñ»Ë³ÛÇÝ åáéÝÏáõÃÛ³Ý Ï³Ù åáéÝÏ³·ñ³Ï³Ý µÝáõÛÃÇ ÝÛáõÃ»ñ Ï³Ù ³é³ñÏ³Ý»ñ å³ïñ³ëï»Éáõ Ñ»ï Ï³åí³Í ·áñÍáÕáõÃÛáõÝÝ»ñ Ï³ï³ñ»ÉáõÝ Ý»ñ·ñ³í»ÉÁ | D81: 166 | E81: =SUM(Ajapnjak:Tavush!E82) -> 0 | F81: =SUM(Ajapnjak:Tavush!F82) -> 0 | G81: =SUM(Ajapnjak:Tavush!G82) -> 1 | H81: =SUM(Ajapnjak:Tavush!H82) -> 1 | I81: =SUM(Ajapnjak:Tavush!I82) -> 0 | J81: =SUM(Ajapnjak:Tavush!J82) -> 0 | K81: =SUM(Ajapnjak:Tavush!K82) -> 1 | L81: =SUM(Ajapnjak:Tavush!L82) -> 0 | ... U81: =SUM(Ajapnjak:Tavush!U82) -> 0 | V81: =E81+G81 -> 1 | W81: =K81+L81+N81 -> 1 | X81: =K81 -> 1 | Y81: =H81+I81+J81 -> 1 | Z81: =R81 -> 0 | AA81: =P81+Q81 -> 0 | AB81: =U81 -> 0 | AC81: =S81+T81 -> 0
B82: 5.3 | C82: ÌÝáÕÝ»ñÇó »ñ»Ë³ÛÇÝ ³åûñÇÝÇ µ³Å³Ý»ÉÁ Ï³Ù »ñ»Ë³ÛÇÝ ÷áË»ÉÁ | D82: 167 | E82: =SUM(Ajapnjak:Tavush!E83) -> 0 | F82: =SUM(Ajapnjak:Tavush!F83) -> 0 | G82: =SUM(Ajapnjak:Tavush!G83) -> 0 | H82: =SUM(Ajapnjak:Tavush!H83) -> 0 | I82: =SUM(Ajapnjak:Tavush!I83) -> 0 | J82: =SUM(Ajapnjak:Tavush!J83) -> 0 | K82: =SUM(Ajapnjak:Tavush!K83) -> 0 | L82: =SUM(Ajapnjak:Tavush!L83) -> 0 | ... U82: =SUM(Ajapnjak:Tavush!U83) -> 0 | V82: =E82+G82 -> 0 | W82: =K82+L82+N82 -> 0 | X82: =K82 -> 0 | Y82: =H82+I82+J82 -> 0 | Z82: =R82 -> 0 | AA82: =P82+Q82 -> 0 | AB82: =U82 -> 0 | AC82: =S82+T82 -> 0
B83: 5.4 | C83: ÊÝ³ÙùÁ ëï³ÝÓÝ»Éáõ Ýå³ï³Ïáí »ñ»Ë³ÛÇ ³éùÁ Ï³Ù ëï³ÝÓÝáÕÇ ËÝ³ÙùÇÝ Ñ³ÝÓÝ»Éáõ Ýå³ï³Ïáí »ñ»Ë³ÛÇ í³×³éùÁ | D83: 168 | E83: =SUM(Ajapnjak:Tavush!E84) -> 1 | F83: =SUM(Ajapnjak:Tavush!F84) -> 1 | G83: =SUM(Ajapnjak:Tavush!G84) -> 0 | H83: =SUM(Ajapnjak:Tavush!H84) -> 1 | I83: =SUM(Ajapnjak:Tavush!I84) -> 0 | J83: =SUM(Ajapnjak:Tavush!J84) -> 0 | K83: =SUM(Ajapnjak:Tavush!K84) -> 1 | L83: =SUM(Ajapnjak:Tavush!L84) -> 0 | ... U83: =SUM(Ajapnjak:Tavush!U84) -> 0 | V83: =E83+G83 -> 1 | W83: =K83+L83+N83 -> 1 | X83: =K83 -> 1 | Y83: =H83+I83+J83 -> 1 | Z83: =R83 -> 1 | AA83: =P83+Q83 -> 1 | AB83: =U83 -> 0 | AC83: =S83+T83 -> 0
B84: 5.5 | C84: àñ¹»·ñÙ³Ý ·³ÕïÝÇùÁ Ññ³å³ñ³Ï»ÉÁ Ï³Ù áñ¹»·ñÙ³Ý Ñ³Ù³Ó³ÛÝáõÃÛáõÝ ï³ÉáõÝ Ñ³Ï»ÉÁ Ï³Ù Ñ³ñÏ³¹ñ»ÉÁ | D84: 169 | E84: =SUM(Ajapnjak:Tavush!E85) -> 0 | F84: =SUM(Ajapnjak:Tavush!F85) -> 0 | G84: =SUM(Ajapnjak:Tavush!G85) -> 0 | H84: =SUM(Ajapnjak:Tavush!H85) -> 0 | I84: =SUM(Ajapnjak:Tavush!I85) -> 0 | J84: =SUM(Ajapnjak:Tavush!J85) -> 0 | K84: =SUM(Ajapnjak:Tavush!K85) -> 0 | L84: =SUM(Ajapnjak:Tavush!L85) -> 0 | ... U84: =SUM(Ajapnjak:Tavush!U85) -> 0 | V84: =E84+G84 -> 0 | W84: =K84+L84+N84 -> 0 | X84: =K84 -> 0 | Y84: =H84+I84+J84 -> 0 | Z84: =R84 -> 0 | AA84: =P84+Q84 -> 0 | AB84: =U84 -> 0 | AC84: =S84+T84 -> 0
B85: 5.6 | C85: ø³Õ³ù³óÇ³Ï³Ý Ï³óáõÃÛ³Ý ³Ïï»ñÇ ·ñ³ÝóÙ³Ý Ù³ñÙÇÝÝ»ñÇÝ ëáõï ï»Õ»ÏáõÃÛáõÝÝ»ñ Ñ³Õáñ¹»ÉÁ | D85: 169.1 | E85: =SUM(Ajapnjak:Tavush!E86) -> 0 | F85: =SUM(Ajapnjak:Tavush!F86) -> 0 | G85: =SUM(Ajapnjak:Tavush!G86) -> 1 | H85: =SUM(Ajapnjak:Tavush!H86) -> 1 | I85: =SUM(Ajapnjak:Tavush!I86) -> 0 | J85: =SUM(Ajapnjak:Tavush!J86) -> 0 | K85: =SUM(Ajapnjak:Tavush!K86) -> 1 | L85: =SUM(Ajapnjak:Tavush!L86) -> 0 | ... U85: =SUM(Ajapnjak:Tavush!U86) -> 0 | V85: =E85+G85 -> 1 | W85: =K85+L85+N85 -> 1 | X85: =K85 -> 1 | Y85: =H85+I85+J85 -> 1 | Z85: =R85 -> 0 | AA85: =P85+Q85 -> 0 | AB85: =U85 -> 0 | AC85: =S85+T85 -> 0
B86: 5.7 | C86: ºñ»Ë³ÛÇÝ ¹³ëïÇ³ñ³Ï»Éáõ å³ñï³Ï³ÝáõÃÛáõÝÁ ãÏ³ï³ñ»ÉÁ | D86: 170 | E86: =SUM(Ajapnjak:Tavush!E87) -> 0 | F86: =SUM(Ajapnjak:Tavush!F87) -> 0 | G86: =SUM(Ajapnjak:Tavush!G87) -> 1 | H86: =SUM(Ajapnjak:Tavush!H87) -> 1 | I86: =SUM(Ajapnjak:Tavush!I87) -> 0 | J86: =SUM(Ajapnjak:Tavush!J87) -> 0 | K86: =SUM(Ajapnjak:Tavush!K87) -> 1 | L86: =SUM(Ajapnjak:Tavush!L87) -> 0 | ... U86: =SUM(Ajapnjak:Tavush!U87) -> 0 | V86: =E86+G86 -> 1 | W86: =K86+L86+N86 -> 1 | X86: =K86 -> 1 | Y86: =H86+I86+J86 -> 1 | Z86: =R86 -> 0 | AA86: =P86+Q86 -> 0 | AB86: =U86 -> 0 | AC86: =S86+T86 -> 0
B87: 5.8 | C87: ºñ»Ë³ÛÇ ÏÛ³ÝùÇ ³Ýíï³Ý·áõÃÛ³Ý ³å³ÑáíÙ³Ý Ï³Ù ³éáÕçáõÃÛ³Ý å³Ñå³ÝÙ³Ý å³ñï³Ï³ÝáõÃÛáõÝÁ ãÏ³ï³ñ»ÉÁ Ï³Ù áã å³ïß³× Ï³ï³ñ»ÉÁ | D87: 171 | E87: =SUM(Ajapnjak:Tavush!E88) -> 0 | F87: =SUM(Ajapnjak:Tavush!F88) -> 0 | G87: =SUM(Ajapnjak:Tavush!G88) -> 0 | H87: =SUM(Ajapnjak:Tavush!H88) -> 0 | I87: =SUM(Ajapnjak:Tavush!I88) -> 0 | J87: =SUM(Ajapnjak:Tavush!J88) -> 0 | K87: =SUM(Ajapnjak:Tavush!K88) -> 0 | L87: =SUM(Ajapnjak:Tavush!L88) -> 0 | ... U87: =SUM(Ajapnjak:Tavush!U88) -> 0 | V87: =E87+G87 -> 0 | W87: =K87+L87+N87 -> 0 | X87: =K87 -> 0 | Y87: =H87+I87+J87 -> 0 | Z87: =R87 -> 0 | AA87: =P87+Q87 -> 0 | AB87: =U87 -> 0 | AC87: =S87+T87 -> 0
B88: 5.9 | C88: ÊÝ³Ù³Ï³ÉÇ Ï³Ù Ñá·³µ³ñÓáõÇ Çñ³íáõÝùÝ»ñÁ ã³ñ³ß³Ñ»ÉÁ | D88: 172 | E88: =SUM(Ajapnjak:Tavush!E89) -> 0 | F88: =SUM(Ajapnjak:Tavush!F89) -> 0 | G88: =SUM(Ajapnjak:Tavush!G89) -> 0 | H88: =SUM(Ajapnjak:Tavush!H89) -> 0 | I88: =SUM(Ajapnjak:Tavush!I89) -> 0 | J88: =SUM(Ajapnjak:Tavush!J89) -> 0 | K88: =SUM(Ajapnjak:Tavush!K89) -> 0 | L88: =SUM(Ajapnjak:Tavush!L89) -> 0 | ... U88: =SUM(Ajapnjak:Tavush!U89) -> 0 | V88: =E88+G88 -> 0 | W88: =K88+L88+N88 -> 0 | X88: =K88 -> 0 | Y88: =H88+I88+J88 -> 0 | Z88: =R88 -> 0 | AA88: =P88+Q88 -> 0 | AB88: =U88 -> 0 | AC88: =S88+T88 -> 0
A89: 0 | B89: 5.10 | C89: ÌÝáÕÇ ÏáÕÙÇó »ñ»Ë³ÛÇÝ å³Ñ»Éáõó ã³ñ³Ùïáñ»Ý Ëáõë³÷»ÉÁ (áõÅÁ Ïáñóñ³Í) | D89: 173 | E89: =SUM(Ajapnjak:Tavush!E90) -> 0 | F89: =SUM(Ajapnjak:Tavush!F90) -> 0 | G89: =SUM(Ajapnjak:Tavush!G90) -> 1 | H89: =SUM(Ajapnjak:Tavush!H90) -> 1 | I89: =SUM(Ajapnjak:Tavush!I90) -> 0 | J89: =SUM(Ajapnjak:Tavush!J90) -> 0 | K89: =SUM(Ajapnjak:Tavush!K90) -> 1 | L89: =SUM(Ajapnjak:Tavush!L90) -> 0 | ... U89: =SUM(Ajapnjak:Tavush!U90) -> 0 | V89: =E89+G89 -> 1 | W89: =K89+L89+N89 -> 1 | X89: =K89 -> 1 | Y89: =H89+I89+J89 -> 1 | Z89: =R89 -> 0 | AA89: =P89+Q89 -> 0 | AB89: =U89 -> 0 | AC89: =S89+T89 -> 0
B90: 5.11 | C90: ¼³í³ÏÇ ÏáÕÙÇó ³Ý³ßË³ïáõÝ³Ï ÍÝáÕÇÝ å³Ñ»Éáõó ã³ñ³Ùïáñ»Ý Ëáõë³÷»ÉÁ | D90: 174 | E90: =SUM(Ajapnjak:Tavush!E91) -> 0 | F90: =SUM(Ajapnjak:Tavush!F91) -> 0 | G90: =SUM(Ajapnjak:Tavush!G91) -> 0 | H90: =SUM(Ajapnjak:Tavush!H91) -> 0 | I90: =SUM(Ajapnjak:Tavush!I91) -> 0 | J90: =SUM(Ajapnjak:Tavush!J91) -> 0 | K90: =SUM(Ajapnjak:Tavush!K91) -> 0 | L90: =SUM(Ajapnjak:Tavush!L91) -> 0 | ... U90: =SUM(Ajapnjak:Tavush!U91) -> 0 | V90: =E90+G90 -> 0 | W90: =K90+L90+N90 -> 0 | X90: =K90 -> 0 | Y90: =H90+I90+J90 -> 0 | Z90: =R90 -> 0 | AA90: =P90+Q90 -> 0 | AB90: =U90 -> 0 | AC90: =S90+T90 -> 0
B91: 5.12 | C91: ²ÛÉ Ñ³Ýó³·áñÍáõÃÛáõÝÝ»ñ | E91: =SUM(Ajapnjak:Tavush!E92) -> 0 | F91: =SUM(Ajapnjak:Tavush!F92) -> 0 | G91: =SUM(Ajapnjak:Tavush!G92) -> 0 | H91: =SUM(Ajapnjak:Tavush!H92) -> 0 | I91: =SUM(Ajapnjak:Tavush!I92) -> 0 | J91: =SUM(Ajapnjak:Tavush!J92) -> 0 | K91: =SUM(Ajapnjak:Tavush!K92) -> 0 | L91: =SUM(Ajapnjak:Tavush!L92) -> 0 | ... U91: =SUM(Ajapnjak:Tavush!U92) -> 0 | V91: =E91+G91 -> 0 | W91: =K91+L91+N91 -> 0 | X91: =K91 -> 0 | Y91: =H91+I91+J91 -> 0 | Z91: =R91 -> 0 | AA91: =P91+Q91 -> 0 | AB91: =U91 -> 0 | AC91: =S91+T91 -> 0
B92: 6. | C92: ÀÝ¹³Ù»ÝÁ ë»÷³Ï³ÝáõÃÛ³Ý ¹»Ù áõÕÕí³Í Ñ³Ýó³·áñÍáõÃÛáõÝÝ»ñÁ | E92: =SUM(Ajapnjak:Tavush!E93) -> 347 | F92: =SUM(Ajapnjak:Tavush!F93) -> 44 | G92: =SUM(Ajapnjak:Tavush!G93) -> 924 | H92: =SUM(Ajapnjak:Tavush!H93) -> 727 | I92: =SUM(Ajapnjak:Tavush!I93) -> 76 | J92: =SUM(Ajapnjak:Tavush!J93) -> 15 | K92: =SUM(Ajapnjak:Tavush!K93) -> 818 | L92: =SUM(Ajapnjak:Tavush!L93) -> 18 | ... U92: =SUM(Ajapnjak:Tavush!U93) -> 31 | V92: =SUM(V93:V105) -> 1271 | W92: =SUM(W93:W105) -> 1257 | X92: =SUM(X93:X105) -> 818 | Y92: =SUM(Y93:Y105) -> 818 | Z92: =SUM(Z93:Z105) -> 239 | AA92: =SUM(AA93:AA105) -> 239 | AB92: =SUM(AB93:AB105) -> 31 | AC92: =SUM(AC93:AC105) -> 31
B93: 6.1 | C93: ²í³½³ÏáõÃÛáõÝÁ | D93: 175 | E93: =SUM(Ajapnjak:Tavush!E94) -> 25 | F93: =SUM(Ajapnjak:Tavush!F94) -> 0 | G93: =SUM(Ajapnjak:Tavush!G94) -> 32 | H93: =SUM(Ajapnjak:Tavush!H94) -> 30 | I93: =SUM(Ajapnjak:Tavush!I94) -> 0 | J93: =SUM(Ajapnjak:Tavush!J94) -> 2 | K93: =SUM(Ajapnjak:Tavush!K94) -> 32 | L93: =SUM(Ajapnjak:Tavush!L94) -> 3 | ... U93: =SUM(Ajapnjak:Tavush!U94) -> 3 | V93: =E93+G93 -> 57 | W93: =K93+L93+N93 -> 57 | X93: =K93 -> 32 | Y93: =H93+I93+J93 -> 32 | Z93: =R93 -> 16 | AA93: =P93+Q93 -> 16 | AB93: =U93 -> 3 | AC93: =S93+T93 -> 3
B94: 6.2 | C94: ÎáÕáåáõïÁ | D94: 176 | E94: =SUM(Ajapnjak:Tavush!E95) -> 23 | F94: =SUM(Ajapnjak:Tavush!F95) -> 2 | G94: =SUM(Ajapnjak:Tavush!G95) -> 83 | H94: =SUM(Ajapnjak:Tavush!H95) -> 70 | I94: =SUM(Ajapnjak:Tavush!I95) -> 2 | J94: =SUM(Ajapnjak:Tavush!J95) -> 2 | K94: =SUM(Ajapnjak:Tavush!K95) -> 74 | L94: =SUM(Ajapnjak:Tavush!L95) -> 0 | ... U94: =SUM(Ajapnjak:Tavush!U95) -> 1 | V94: =E94+G94 -> 106 | W94: =K94+L94+N94 -> 106 | X94: =K94 -> 74 | Y94: =H94+I94+J94 -> 74 | Z94: =R94 -> 23 | AA94: =P94+Q94 -> 23 | AB94: =U94 -> 1 | AC94: =S94+T94 -> 1
B95: 6.3 | C95: ¶áÕáõÃÛáõÝÁ | D95: 177 | E95: =SUM(Ajapnjak:Tavush!E96) -> 138 | F95: =SUM(Ajapnjak:Tavush!F96) -> 17 | G95: =SUM(Ajapnjak:Tavush!G96) -> 532 | H95: =SUM(Ajapnjak:Tavush!H96) -> 413 | I95: =SUM(Ajapnjak:Tavush!I96) -> 42 | J95: =SUM(Ajapnjak:Tavush!J96) -> 11 | K95: =SUM(Ajapnjak:Tavush!K96) -> 466 | L95: =SUM(Ajapnjak:Tavush!L96) -> 5 | ... U95: =SUM(Ajapnjak:Tavush!U96) -> 12 | V95: =E95+G95 -> 670 | W95: =K95+L95+N95 -> 662 | X95: =K95 -> 466 | Y95: =H95+I95+J95 -> 466 | Z95: =R95 -> 112 | AA95: =P95+Q95 -> 112 | AB95: =U95 -> 12 | AC95: =S95+T95 -> 12
B96: 6.4 | C96: Ê³ñ¹³ËáõÃÛáõÝÁ | D96: 178 | E96: =SUM(Ajapnjak:Tavush!E97) -> 121 | F96: =SUM(Ajapnjak:Tavush!F97) -> 18 | G96: =SUM(Ajapnjak:Tavush!G97) -> 167 | H96: =SUM(Ajapnjak:Tavush!H97) -> 132 | I96: =SUM(Ajapnjak:Tavush!I97) -> 21 | J96: =SUM(Ajapnjak:Tavush!J97) -> 0 | K96: =SUM(Ajapnjak:Tavush!K97) -> 153 | L96: =SUM(Ajapnjak:Tavush!L97) -> 8 | ... U96: =SUM(Ajapnjak:Tavush!U97) -> 11 | V96: =E96+G96 -> 288 | W96: =K96+L96+N96 -> 282 | X96: =K96 -> 153 | Y96: =H96+I96+J96 -> 153 | Z96: =R96 -> 61 | AA96: =P96+Q96 -> 61 | AB96: =U96 -> 11 | AC96: =S96+T96 -> 11
B97: 6.5 | C97: Úáõñ³óÝ»ÉÁ Ï³Ù í³ïÝ»ÉÁ | D97: 179 | E97: =SUM(Ajapnjak:Tavush!E98) -> 23 | F97: =SUM(Ajapnjak:Tavush!F98) -> 4 | G97: =SUM(Ajapnjak:Tavush!G98) -> 58 | H97: =SUM(Ajapnjak:Tavush!H98) -> 50 | I97: =SUM(Ajapnjak:Tavush!I98) -> 3 | J97: =SUM(Ajapnjak:Tavush!J98) -> 0 | K97: =SUM(Ajapnjak:Tavush!K98) -> 53 | L97: =SUM(Ajapnjak:Tavush!L98) -> 0 | ... U97: =SUM(Ajapnjak:Tavush!U98) -> 2 | V97: =E97+G97 -> 81 | W97: =K97+L97+N97 -> 81 | X97: =K97 -> 53 | Y97: =H97+I97+J97 -> 53 | Z97: =R97 -> 15 | AA97: =P97+Q97 -> 15 | AB97: =U97 -> 2 | AC97: =S97+T97 -> 2
B98: 6.6 | C98: ²é³ÝÓÝ³ÏÇ ³ñÅ»ù áõÝ»óáÕ ³é³ñÏ³Ý»ñ Ñ³÷ßï³Ï»ÉÁ | D98: 180 | E98: =SUM(Ajapnjak:Tavush!E99) -> 0 | F98: =SUM(Ajapnjak:Tavush!F99) -> 0 | G98: =SUM(Ajapnjak:Tavush!G99) -> 1 | H98: =SUM(Ajapnjak:Tavush!H99) -> 1 | I98: =SUM(Ajapnjak:Tavush!I99) -> 0 | J98: =SUM(Ajapnjak:Tavush!J99) -> 0 | K98: =SUM(Ajapnjak:Tavush!K99) -> 1 | L98: =SUM(Ajapnjak:Tavush!L99) -> 0 | ... U98: =SUM(Ajapnjak:Tavush!U99) -> 0 | V98: =E98+G98 -> 1 | W98: =K98+L98+N98 -> 1 | X98: =K98 -> 1 | Y98: =H98+I98+J98 -> 1 | Z98: =R98 -> 0 | AA98: =P98+Q98 -> 0 | AB98: =U98 -> 0 | AC98: =S98+T98 -> 0
B99: 6.7 | C99: Ð³÷ßï³ÏáõÃÛáõÝÁ, áñÁ Ï³ï³ñí»É ¿ Ñ³Ù³Ï³ñ·ã³ÛÇÝ ï»ËÝÇÏ³ÛÇ û·ï³·áñÍÙ³Ùµ | D99: 181 | E99: =SUM(Ajapnjak:Tavush!E100) -> 0 | F99: =SUM(Ajapnjak:Tavush!F100) -> 0 | G99: =SUM(Ajapnjak:Tavush!G100) -> 1 | H99: =SUM(Ajapnjak:Tavush!H100) -> 1 | I99: =SUM(Ajapnjak:Tavush!I100) -> 0 | J99: =SUM(Ajapnjak:Tavush!J100) -> 0 | K99: =SUM(Ajapnjak:Tavush!K100) -> 1 | L99: =SUM(Ajapnjak:Tavush!L100) -> 0 | ... U99: =SUM(Ajapnjak:Tavush!U100) -> 0 | V99: =E99+G99 -> 1 | W99: =K99+L99+N99 -> 1 | X99: =K99 -> 1 | Y99: =H99+I99+J99 -> 1 | Z99: =R99 -> 0 | AA99: =P99+Q99 -> 0 | AB99: =U99 -> 0 | AC99: =S99+T99 -> 0
B100: 6.8 | C100: ÞáñÃáõÙÁ | D100: 182 | E100: =SUM(Ajapnjak:Tavush!E101) -> 4 | F100: =SUM(Ajapnjak:Tavush!F101) -> 1 | G100: =SUM(Ajapnjak:Tavush!G101) -> 19 | H100: =SUM(Ajapnjak:Tavush!H101) -> 9 | I100: =SUM(Ajapnjak:Tavush!I101) -> 0 | J100: =SUM(Ajapnjak:Tavush!J101) -> 0 | K100: =SUM(Ajapnjak:Tavush!K101) -> 9 | L100: =SUM(Ajapnjak:Tavush!L101) -> 2 | ... U100: =SUM(Ajapnjak:Tavush!U101) -> 1 | V100: =E100+G100 -> 23 | W100: =K100+L100+N100 -> 23 | X100: =K100 -> 9 | Y100: =H100+I100+J100 -> 9 | Z100: =R100 -> 5 | AA100: =P100+Q100 -> 5 | AB100: =U100 -> 1 | AC100: =S100+T100 -> 1
B101: 6.9 | C101: ²íïáÙ»ù»Ý³ÛÇÝ Ï³Ù ïñ³Ýëåáñï³ÛÇÝ ³ÛÉ ÙÇçáóÇÝ ³åûñÇÝ³µ³ñ ïÇñ³Ý³ÉÝ ³é³Ýó Ñ³÷ßï³Ï»Éáõ Ýå³ï³ÏÇ | D101: 183 | E101: =SUM(Ajapnjak:Tavush!E102) -> 3 | F101: =SUM(Ajapnjak:Tavush!F102) -> 2 | G101: =SUM(Ajapnjak:Tavush!G102) -> 5 | H101: =SUM(Ajapnjak:Tavush!H102) -> 1 | I101: =SUM(Ajapnjak:Tavush!I102) -> 2 | J101: =SUM(Ajapnjak:Tavush!J102) -> 0 | K101: =SUM(Ajapnjak:Tavush!K102) -> 3 | L101: =SUM(Ajapnjak:Tavush!L102) -> 0 | ... U101: =SUM(Ajapnjak:Tavush!U102) -> 1 | V101: =E101+G101 -> 8 | W101: =K101+L101+N101 -> 8 | X101: =K101 -> 3 | Y101: =H101+I101+J101 -> 3 | Z101: =R101 -> 0 | AA101: =P101+Q101 -> 0 | AB101: =U101 -> 1 | AC101: =S101+T101 -> 1
B102: 6.10 | C102: ¶áõÛù³ÛÇÝ íÝ³ë å³ï×³é»ÉÁ Ë³µ»áõÃÛ³Ý Ï³Ù íëï³ÑáõÃÛáõÝÁ ã³ñ³ß³Ñ»Éáõ »Õ³Ý³Ïáí | D102: 184 | E102: =SUM(Ajapnjak:Tavush!E103) -> 1 | F102: =SUM(Ajapnjak:Tavush!F103) -> 0 | G102: =SUM(Ajapnjak:Tavush!G103) -> 3 | H102: =SUM(Ajapnjak:Tavush!H103) -> 3 | I102: =SUM(Ajapnjak:Tavush!I103) -> 0 | J102: =SUM(Ajapnjak:Tavush!J103) -> 0 | K102: =SUM(Ajapnjak:Tavush!K103) -> 3 | L102: =SUM(Ajapnjak:Tavush!L103) -> 0 | ... U102: =SUM(Ajapnjak:Tavush!U103) -> 0 | V102: =E102+G102 -> 4 | W102: =K102+L102+N102 -> 4 | X102: =K102 -> 3 | Y102: =H102+I102+J102 -> 3 | Z102: =R102 -> 2 | AA102: =P102+Q102 -> 2 | AB102: =U102 -> 0 | AC102: =S102+T102 -> 0
B103: 6.11 | C103: ¶áõÛùÁ ¹Çï³íáñáõÃÛ³Ùµ áãÝã³óÝ»ÉÁ Ï³Ù íÝ³ë»ÉÁ | D103: 185 | E103: =SUM(Ajapnjak:Tavush!E104) -> 9 | F103: =SUM(Ajapnjak:Tavush!F104) -> 0 | G103: =SUM(Ajapnjak:Tavush!G104) -> 20 | H103: =SUM(Ajapnjak:Tavush!H104) -> 14 | I103: =SUM(Ajapnjak:Tavush!I104) -> 6 | J103: =SUM(Ajapnjak:Tavush!J104) -> 0 | K103: =SUM(Ajapnjak:Tavush!K104) -> 20 | L103: =SUM(Ajapnjak:Tavush!L104) -> 0 | ... U103: =SUM(Ajapnjak:Tavush!U104) -> 0 | V103: =E103+G103 -> 29 | W103: =K103+L103+N103 -> 29 | X103: =K103 -> 20 | Y103: =H103+I103+J103 -> 20 | Z103: =R103 -> 4 | AA103: =P103+Q103 -> 4 | AB103: =U103 -> 0 | AC103: =S103+T103 -> 0
B104: 6.12 | C104: ¶áõÛùÝ ³Ý½·áõßáõÃÛ³Ùµ áãÝã³óÝ»ÉÁ Ï³Ù íÝ³ë»ÉÁ | D104: 186 | E104: =SUM(Ajapnjak:Tavush!E105) -> 0 | F104: =SUM(Ajapnjak:Tavush!F105) -> 0 | G104: =SUM(Ajapnjak:Tavush!G105) -> 2 | H104: =SUM(Ajapnjak:Tavush!H105) -> 2 | I104: =SUM(Ajapnjak:Tavush!I105) -> 0 | J104: =SUM(Ajapnjak:Tavush!J105) -> 0 | K104: =SUM(Ajapnjak:Tavush!K105) -> 2 | L104: =SUM(Ajapnjak:Tavush!L105) -> 0 | ... U104: =SUM(Ajapnjak:Tavush!U105) -> 0 | V104: =E104+G104 -> 2 | W104: =K104+L104+N104 -> 2 | X104: =K104 -> 2 | Y104: =H104+I104+J104 -> 2 | Z104: =R104 -> 1 | AA104: =P104+Q104 -> 1 | AB104: =U104 -> 0 | AC104: =S104+T104 -> 0
B105: 6.13 | C105: Գուքի պահպանության պարտականություններն անփույթ կամ անբարեխիղճ կատարելը | D105: 186.1 | E105: =SUM(Ajapnjak:Tavush!E106) -> 0 | F105: =SUM(Ajapnjak:Tavush!F106) -> 0 | G105: =SUM(Ajapnjak:Tavush!G106) -> 1 | H105: =SUM(Ajapnjak:Tavush!H106) -> 1 | I105: =SUM(Ajapnjak:Tavush!I106) -> 0 | J105: =SUM(Ajapnjak:Tavush!J106) -> 0 | K105: =SUM(Ajapnjak:Tavush!K106) -> 1 | L105: =SUM(Ajapnjak:Tavush!L106) -> 0 | ... U105: =SUM(Ajapnjak:Tavush!U106) -> 0 | V105: =E105+G105 -> 1 | W105: =K105+L105+N105 -> 1 | X105: =K105 -> 1 | Y105: =H105+I105+J105 -> 1 | Z105: =R105 -> 0 | AA105: =P105+Q105 -> 0 | AB105: =U105 -> 0 | AC105: =S105+T105 -> 0
B106: 7. | C106: ÀÝ¹³Ù»ÝÁ ïÝï»ë³Ï³Ý ·áñÍáõÝ»áõÃÛ³Ý ¹»Ù áõÕÕí³Í Ñ³Ýó³·áñÍáõÃÛáõÝÝ»ñÁ | E106: =SUM(Ajapnjak:Tavush!E107) -> 62 | F106: =SUM(Ajapnjak:Tavush!F107) -> 14 | G106: =SUM(Ajapnjak:Tavush!G107) -> 125 | H106: =SUM(Ajapnjak:Tavush!H107) -> 113 | I106: =SUM(Ajapnjak:Tavush!I107) -> 5 | J106: =SUM(Ajapnjak:Tavush!J107) -> 0 | K106: =SUM(Ajapnjak:Tavush!K107) -> 118 | L106: =SUM(Ajapnjak:Tavush!L107) -> 8 | ... U106: =SUM(Ajapnjak:Tavush!U107) -> 5 | V106: =SUM(V107:V138) -> 187 | W106: =SUM(W107:W138) -> 185 | X106: =SUM(X107:X138) -> 118 | Y106: =SUM(Y107:Y138) -> 118 | Z106: =SUM(Z107:Z138) -> 31 | AA106: =SUM(AA107:AA138) -> 31 | AB106: =SUM(AB107:AB138) -> 5 | AC106: =SUM(AC107:AC138) -> 5
B107: 7.1 | C107: úñÇÝ³Ï³Ý Ó»éÝ³ñÏ³ïÇñ³Ï³Ý ¨ ³ÛÉ ïÝï»ë³Ï³Ý ·áñÍáõÝ»áõÃÛ³ÝÁ ËáãÁÝ¹áï»ÉÁ | D107: 187 | E107: =SUM(Ajapnjak:Tavush!E108) -> 0 | F107: =SUM(Ajapnjak:Tavush!F108) -> 0 | G107: =SUM(Ajapnjak:Tavush!G108) -> 3 | H107: =SUM(Ajapnjak:Tavush!H108) -> 3 | I107: =SUM(Ajapnjak:Tavush!I108) -> 0 | J107: =SUM(Ajapnjak:Tavush!J108) -> 0 | K107: =SUM(Ajapnjak:Tavush!K108) -> 3 | L107: =SUM(Ajapnjak:Tavush!L108) -> 0 | ... U107: =SUM(Ajapnjak:Tavush!U108) -> 0 | V107: =E107+G107 -> 3 | W107: =K107+L107+N107 -> 3 | X107: =K107 -> 3 | Y107: =H107+I107+J107 -> 3 | Z107: =R107 -> 0 | AA107: =P107+Q107 -> 0 | AB107: =U107 -> 0 | AC107: =S107+T107 -> 0
B108: 7.2 | C108: ²åûñÇÝÇ Ó»éÝ³ñÏ³ïÇñáõÃÛáõÝÁ | D108: 188 | E108: =SUM(Ajapnjak:Tavush!E109) -> 4 | F108: =SUM(Ajapnjak:Tavush!F109) -> 3 | G108: =SUM(Ajapnjak:Tavush!G109) -> 5 | H108: =SUM(Ajapnjak:Tavush!H109) -> 3 | I108: =SUM(Ajapnjak:Tavush!I109) -> 0 | J108: =SUM(Ajapnjak:Tavush!J109) -> 0 | K108: =SUM(Ajapnjak:Tavush!K109) -> 3 | L108: =SUM(Ajapnjak:Tavush!L109) -> 0 | ... U108: =SUM(Ajapnjak:Tavush!U109) -> 0 | V108: =E108+G108 -> 9 | W108: =K108+L108+N108 -> 9 | X108: =K108 -> 3 | Y108: =H108+I108+J108 -> 3 | Z108: =R108 -> 1 | AA108: =P108+Q108 -> 1 | AB108: =U108 -> 0 | AC108: =S108+T108 -> 0
B109: 7.3 | C109: ²é³Ýó ÉÇó»Ý³½Ç³ÛÇ ³ñï³ñÅáõÛÃÇ í³×³éùÇ Çñ³Ï³Ý³óáõÙÁ | D109: 188.1 | E109: =SUM(Ajapnjak:Tavush!E110) -> 1 | F109: =SUM(Ajapnjak:Tavush!F110) -> 0 | G109: =SUM(Ajapnjak:Tavush!G110) -> 27 | H109: =SUM(Ajapnjak:Tavush!H110) -> 23 | I109: =SUM(Ajapnjak:Tavush!I110) -> 0 | J109: =SUM(Ajapnjak:Tavush!J110) -> 0 | K109: =SUM(Ajapnjak:Tavush!K110) -> 23 | L109: =SUM(Ajapnjak:Tavush!L110) -> 3 | ... U109: =SUM(Ajapnjak:Tavush!U110) -> 0 | V109: =E109+G109 -> 28 | W109: =K109+L109+N109 -> 28 | X109: =K109 -> 23 | Y109: =H109+I109+J109 -> 23 | Z109: =R109 -> 2 | AA109: =P109+Q109 -> 2 | AB109: =U109 -> 0 | AC109: =S109+T109 -> 0
B110: 7.4 | C110: Î»ÕÍ Ó»éÝ³ñÏ³ïÇñáõÃÛáõÝÁ | D110: 189 | E110: =SUM(Ajapnjak:Tavush!E111) -> 2 | F110: =SUM(Ajapnjak:Tavush!F111) -> 1 | G110: =SUM(Ajapnjak:Tavush!G111) -> 1 | H110: =SUM(Ajapnjak:Tavush!H111) -> 0 | I110: =SUM(Ajapnjak:Tavush!I111) -> 0 | J110: =SUM(Ajapnjak:Tavush!J111) -> 0 | K110: =SUM(Ajapnjak:Tavush!K111) -> 0 | L110: =SUM(Ajapnjak:Tavush!L111) -> 0 | ... U110: =SUM(Ajapnjak:Tavush!U111) -> 0 | V110: =E110+G110 -> 3 | W110: =K110+L110+N110 -> 3 | X110: =K110 -> 0 | Y110: =H110+I110+J110 -> 0 | Z110: =R110 -> 0 | AA110: =P110+Q110 -> 0 | AB110: =U110 -> 0 | AC110: =S110+T110 -> 0
B111: 7.5 | C111: Ð³Ýó³íáñ ×³Ý³å³ñÑáí ëï³óí³Í ·áõÛùÝ ûñÇÝ³Ï³Ý³óÝ»ÉÁ (÷áÕ»ñÇ Éí³óáõÙÁ) | D111: 190 | E111: =SUM(Ajapnjak:Tavush!E112) -> 1 | F111: =SUM(Ajapnjak:Tavush!F112) -> 1 | G111: =SUM(Ajapnjak:Tavush!G112) -> 2 | H111: =SUM(Ajapnjak:Tavush!H112) -> 0 | I111: =SUM(Ajapnjak:Tavush!I112) -> 0 | J111: =SUM(Ajapnjak:Tavush!J112) -> 0 | K111: =SUM(Ajapnjak:Tavush!K112) -> 0 | L111: =SUM(Ajapnjak:Tavush!L112) -> 0 | ... U111: =SUM(Ajapnjak:Tavush!U112) -> 0 | V111: =E111+G111 -> 3 | W111: =K111+L111+N111 -> 3 | X111: =K111 -> 0 | Y111: =H111+I111+J111 -> 0 | Z111: =R111 -> 0 | AA111: =P111+Q111 -> 0 | AB111: =U111 -> 0 | AC111: =S111+T111 -> 0
B112: 7.6 | C112: ì³ñÏÁ áã Ýå³ï³Ï³ÛÇÝ û·ï³·áñÍ»ÉÁ | D112: 191 | E112: =SUM(Ajapnjak:Tavush!E113) -> 1 | F112: =SUM(Ajapnjak:Tavush!F113) -> 0 | G112: =SUM(Ajapnjak:Tavush!G113) -> 0 | H112: =SUM(Ajapnjak:Tavush!H113) -> 1 | I112: =SUM(Ajapnjak:Tavush!I113) -> 0 | J112: =SUM(Ajapnjak:Tavush!J113) -> 0 | K112: =SUM(Ajapnjak:Tavush!K113) -> 1 | L112: =SUM(Ajapnjak:Tavush!L113) -> 0 | ... U112: =SUM(Ajapnjak:Tavush!U113) -> 0 | V112: =E112+G112 -> 1 | W112: =K112+L112+N112 -> 1 | X112: =K112 -> 1 | Y112: =H112+I112+J112 -> 1 | Z112: =R112 -> 1 | AA112: =P112+Q112 -> 1 | AB112: =U112 -> 0 | AC112: =S112+T112 -> 0
B113: 7.7 | C113: ²ÝûñÇÝ³Ï³Ý ·áñÍáÕáõÃÛáõÝÝ»ñÁ ëÝ³ÝÏáõÃÛ³Ý ÁÝÃ³óùáõÙ | D113: 192 | E113: =SUM(Ajapnjak:Tavush!E114) -> 0 | F113: =SUM(Ajapnjak:Tavush!F114) -> 0 | G113: =SUM(Ajapnjak:Tavush!G114) -> 0 | H113: =SUM(Ajapnjak:Tavush!H114) -> 0 | I113: =SUM(Ajapnjak:Tavush!I114) -> 0 | J113: =SUM(Ajapnjak:Tavush!J114) -> 0 | K113: =SUM(Ajapnjak:Tavush!K114) -> 0 | L113: =SUM(Ajapnjak:Tavush!L114) -> 0 | ... U113: =SUM(Ajapnjak:Tavush!U114) -> 0 | V113: =E113+G113 -> 0 | W113: =K113+L113+N113 -> 0 | X113: =K113 -> 0 | Y113: =H113+I113+J113 -> 0 | Z113: =R113 -> 0 | AA113: =P113+Q113 -> 0 | AB113: =U113 -> 0 | AC113: =S113+T113 -> 0
B114: 7.8 | C114: Î³ÝË³Ùï³Íí³Í ëÝ³ÝÏáõÃÛáõÝÁ | D114: 193 | E114: =SUM(Ajapnjak:Tavush!E115) -> 3 | F114: =SUM(Ajapnjak:Tavush!F115) -> 1 | G114: =SUM(Ajapnjak:Tavush!G115) -> 4 | H114: =SUM(Ajapnjak:Tavush!H115) -> 2 | I114: =SUM(Ajapnjak:Tavush!I115) -> 0 | J114: =SUM(Ajapnjak:Tavush!J115) -> 0 | K114: =SUM(Ajapnjak:Tavush!K115) -> 2 | L114: =SUM(Ajapnjak:Tavush!L115) -> 1 | ... U114: =SUM(Ajapnjak:Tavush!U115) -> 0 | V114: =E114+G114 -> 7 | W114: =K114+L114+N114 -> 7 | X114: =K114 -> 2 | Y114: =H114+I114+J114 -> 2 | Z114: =R114 -> 1 | AA114: =P114+Q114 -> 1 | AB114: =U114 -> 0 | AC114: =S114+T114 -> 0
B115: 7.9 | C115: Î»ÕÍ ëÝ³ÝÏáõÃÛáõÝÁ | D115: 194 | E115: =SUM(Ajapnjak:Tavush!E116) -> 0 | F115: =SUM(Ajapnjak:Tavush!F116) -> 0 | G115: =SUM(Ajapnjak:Tavush!G116) -> 0 | H115: =SUM(Ajapnjak:Tavush!H116) -> 0 | I115: =SUM(Ajapnjak:Tavush!I116) -> 0 | J115: =SUM(Ajapnjak:Tavush!J116) -> 0 | K115: =SUM(Ajapnjak:Tavush!K116) -> 0 | L115: =SUM(Ajapnjak:Tavush!L116) -> 0 | ... U115: =SUM(Ajapnjak:Tavush!U116) -> 0 | V115: =E115+G115 -> 0 | W115: =K115+L115+N115 -> 0 | X115: =K115 -> 0 | Y115: =H115+I115+J115 -> 0 | Z115: =R115 -> 0 | AA115: =P115+Q115 -> 0 | AB115: =U115 -> 0 | AC115: =S115+T115 -> 0
B116: 7.10 | C116: Ð³Ï³Ùñó³Ïó³ÛÇÝ ·áñÍáõÝ»áõÃÛáõÝÁ | D116: 195 | E116: =SUM(Ajapnjak:Tavush!E117) -> 0 | F116: =SUM(Ajapnjak:Tavush!F117) -> 0 | G116: =SUM(Ajapnjak:Tavush!G117) -> 0 | H116: =SUM(Ajapnjak:Tavush!H117) -> 0 | I116: =SUM(Ajapnjak:Tavush!I117) -> 0 | J116: =SUM(Ajapnjak:Tavush!J117) -> 0 | K116: =SUM(Ajapnjak:Tavush!K117) -> 0 | L116: =SUM(Ajapnjak:Tavush!L117) -> 0 | ... U116: =SUM(Ajapnjak:Tavush!U117) -> 0 | V116: =E116+G116 -> 0 | W116: =K116+L116+N116 -> 0 | X116: =K116 -> 0 | Y116: =H116+I116+J116 -> 0 | Z116: =R116 -> 0 | AA116: =P116+Q116 -> 0 | AB116: =U116 -> 0 | AC116: =S116+T116 -> 0
...

Sheet Ajapnjak
B1: 2015Ã. | E1: Ð²ÞìºîìàôÂÚàôÜ | R1: Ð³í»Éí³Í Ð³Û³ëï³ÝÇ Ð³Ýñ³å»ïáõÃÛ³Ý ¸³ï³ñ³ÝÝ»ñÇ Ý³Ë³·³ÑÝ»ñÇ ËáñÑñ¹Ç 01.02.2016Ã. ÃÇí 11È áñáßÙ³Ý
B2: ºðºì²Ü ø²Ô²øÆ ²æ²öÜÚ²Î ¨ ¸²ìÂ²ÞºÜ ì²ðâ²Î²Ü Þðæ²ÜÜºðÆ ÀÜ¸Ð²Üàôð Æð²ì²êàôÂÚ²Ü ²è²æÆÜ ²îÚ²ÜÆ ¸²î²ð²ՆàôØ ՔՐԵԱԿԱՆ ¶àðÌºðÆ øÜÜàôÂÚ²Ü ìºð²´ºðÚ²È
B3: ºñ¨³Ý ù³Õ³ùÇ ²ç³÷ÝÛ³Ï ¨ ¸³íÃ³ß»Ý í³ñã³Ï³Ý ßñç³ÝÝ»ñÇ ÁÝ¹Ñ³Ýáõñ Çñ³í³ëáõÃÛ³Ý ³é³çÇÝ ³ïÛ³ÝÇ ¹³ï³ñ³ÝáõÙ ùñ»³Ï³Ý Ù³ëÝ³·Çï³óáõÙ áõÝ»óáÕ ¹³ï³íáñÝ»ñÇ Ñ³ëïÇùÝ»ñÇ ù³Ý³ÏÁ` 3
B4: êïáõ·Çã Ñ³í³ë³ñáõÙÝ»ñ` 1+3=7+8+10, 7=4+5+6, 14=12+13, 17=15+16 | D4: ÐÐ ùñ»³Ï³Ý ûñ»Ýë·ñùÇ Ñá¹í³ÍÝ»ñ | E4: Ð³ßí»ïáõ Å³Ù³Ý³Ï³Ñ³ïí³ÍÇ ëÏ½µáõÙ Ý³Ëáñ¹ Ñ³ßí»ïáõ Å³Ù³Ý³Ï³Ñ³ïí³ÍÇó ÷áË³Ýóí³Í ·áñÍ»ñÇ ÁÝ¹Ñ³Ýáõñ ÃÇíÁ | F4: ²Û¹ ÃíáõÙ` Ï³ë»óí³Í íÇ×³ÏáõÙ ÷áË³Ýóí³Í | G4: Ð³ßí»ïáõ Å³Ù³Ý³Ï³Ñ³ïí³ÍáõÙ ëï³óí³Í ·áñÍ»ñÇ ÁÝ¹Ñ³Ýáõñ ÃÇíÁ | H4: Ð³ßí»ïáõ Å³Ù³Ý³Ï³Ñ³ïí³ÍáõÙ ³í³ñïí³Í ·áñÍ»ñի ընդհանուր թիվը | L4: àõÕ³ñÏí»É ¿ Áëï ÁÝ¹¹³ïáõÃÛ³Ý | M4: Ð³ßí»ïáõ Å³Ù³Ý³Ï³Ñ³ïí³ÍáõÙ Ï³ë»óí³Í í³ñáõÛÃÝ»ñáí ·áñÍ»ñÇ ÁÝ¹Ñ³Ýáõñ ÃÇíÁ | N4: Ð³ßí»ïáõ Å³Ù³Ý³Ï³Ñ³ïí³ÍáõÙ ³Ý³í³ñï ·áñÍ»ñÇ ÁÝ¹Ñ³Ýáõñ ÃÇíÁ | O4: ²Û¹ ÃíáõÙª Ï³ë»óí³Í | P4: ´áÕáù³ñÏí³Í ¹³ï³Ï³Ý ³Ïï»ñÇ ÃÇíÁ` Áëï ï»ë³ÏÝ»ñÇ | S4: ´»Ï³Ýí³Í ¹³ï³Ï³Ý ³Ïï»ñÇ ÃÇíÁ` Áëï ï»ë³ÏÝ»ñÇ
H5: øÝÝí»É ¿ Áëï ¿áõÃÛ³Ý ¨ ¹³ï³í×Çé Ï³Û³óí»É | J5: ՈñáßáõÙ ¿ Ï³Û³óí»É ³ÝÙ»ÕëáõÝ³ÏÝ»ñÇ ÝÏ³ïÙ³Ùµ µÅßÏ³Ï³Ý µÝáõÛÃÇ Ñ³ñÏ³¹ñ³Ï³Ý ÙÇçáóÝ»ñ ÏÇñ³é»Éáõ Ù³ëÇÝ | K5: ÀÝ¹³Ù»ÝÁ ³í³ñïí»É »Ý ·áñÍ»ñ
I6: ՈñáßáõÙ ¿ Ï³Û³óí»É ùñ»³Ï³Ý ·áñÍÇ í³ñáõÛÃÁ Ï³ñ×»Éáõ ¨ ùñ»³Ï³Ý Ñ»ï³åÝ¹áõÙÁ ¹³¹³ñ»óÝ»Éáõ Ù³ëÇÝ | P6: ²Û¹ ÃíáõÙ` ·áñÍÝ Áëï ¿áõÃÛ³Ý ÉáõÍáÕ ¹³ï³Ï³Ý ³Ïï»ñÁ | Q6: ²Û¹ ÃíáõÙ` ÙÇç³ÝÏÛ³É ¹³ï³Ï³Ý ³Ïï»ñÁ | R6: ÀÝ¹³Ù»ÝÁ | S6: ²Û¹ ÃíáõÙ` ·áñÍÝ Áëï ¿áõÃÛ³Ý ÉáõÍáÕ ¹³ï³Ï³Ý ³Ïï»ñÁ | T6: ²Û¹ ÃíáõÙ` ÙÇç³ÝÏÛ³É ¹³ï³Ï³Ý ³Ïï»ñÁ | U6: ÀÝ¹³Ù»ÝÁ
E7: 1 | F7: 2 | G7: 3 | H7: 4 | I7: 5 | J7: 6 | K7: 7 | L7: 8 | M7: 9 | N7: 10 | O7: 11 | P7: 12 | Q7: 13 | R7: 14 | S7: 15 | T7: 16 | U7: 17 | V7: 1+3=7+8+10 | X7: 7=4+5+6 | Z7: 14=12+13 | AB7: 17=15+16
A8: 1 | B8: 1. | C8: ÀÝ¹³Ù»ÝÁ ÏÛ³ÝùÇ ¨ ³éáÕçáõÃÛ³Ý ¹»Ù áõÕÕí³Í Ñ³Ýó³·áñÍáõÃÛáõÝÝ»ñÁ | E8: =SUM(E9:E35) -> 11 | F8: =SUM(F9:F35) -> 1 | G8: =SUM(G9:G35) -> 21 | H8: =SUM(H9:H35) -> 15 | I8: =SUM(I9:I35) -> 2 | J8: =SUM(J9:J35) -> 0 | K8: =SUM(K9:K35) -> 17 | L8: =SUM(L9:L35) -> 0 | ... AC8: =SUM(AC9:AC35) -> 1
A9: 0 | B9: 1.1 | C9: êå³ÝáõÃÛáõÝÁ | D9: 104 | E9: 1 | G9: 4 | N9: 5 | V9: =E9+G9 -> 5 | W9: =K9+L9+N9 -> 5 | X9: =K9 -> 0 | Y9: =H9+I9+J9 -> 0 | Z9: =R9 -> 0 | AA9: =P9+Q9 -> 0 | AB9: =U9 -> 0 | AC9: =S9+T9 -> 0
A10: 0 | B10: 1.2 | C10: Ðá·»Ï³Ý ËÇëï Ñáõ½ÙáõÝùÇ íÇ×³ÏáõÙ Ï³ï³ñí³Í ëå³ÝáõÃÛáõÝÁ | D10: 105 | V10: =E10+G10 -> 0 | W10: =K10+L10+N10 -> 0 | X10: =K10 -> 0 | Y10: =H10+I10+J10 -> 0 | Z10: =R10 -> 0 | AA10: =P10+Q10 -> 0 | AB10: =U10 -> 0 | AC10: =S10+T10 -> 0
A11: 0 | B11: 1.3 | C11: Øáñ ÏáÕÙÇó Ýáñ³ÍÇÝ »ñ»Ë³ÛÇ ëå³ÝáõÃÛáõÝÁ | D11: 106 | V11: =E11+G11 -> 0 | W11: =K11+L11+N11 -> 0 | X11: =K11 -> 0 | Y11: =H11+I11+J11 -> 0 | Z11: =R11 -> 0 | AA11: =P11+Q11 -> 0 | AB11: =U11 -> 0 | AC11: =S11+T11 -> 0
A12: 0 | B12: 1.4 | C12: Ð³Ýó³Ýù Ï³ï³ñ³Í ³ÝÓÇÝ µéÝ»Éáõ Ñ³Ù³ñ ³ÝÑñ³Å»ßï ÙÇçáóÝ»ñÇ ë³ÑÙ³Ý³½³ÝóÙ³Ùµ ëå³ÝáõÃÛáõÝÁ | D12: 107 | V12: =E12+G12 -> 0 | W12: =K12+L12+N12 -> 0 | X12: =K12 -> 0 | Y12: =H12+I12+J12 -> 0 | Z12: =R12 -> 0 | AA12: =P12+Q12 -> 0 | AB12: =U12 -> 0 | AC12: =S12+T12 -> 0
A13: 0 | B13: 1.5 | C13: ²ÝÑñ³Å»ßï å³ßïå³ÝáõÃÛ³Ý ë³ÑÙ³Ý³½³ÝóÙ³Ùµ ëå³ÝáõÃÛáõÝÁ | D13: 108 | V13: =E13+G13 -> 0 | W13: =K13+L13+N13 -> 0 | X13: =K13 -> 0 | Y13: =H13+I13+J13 -> 0 | Z13: =R13 -> 0 | AA13: =P13+Q13 -> 0 | AB13: =U13 -> 0 | AC13: =S13+T13 -> 0
A14: 0 | B14: 1.6 | C14: ²Ý½·áõßáõÃÛ³Ùµ Ù³Ñ å³ï×³é»ÉÁ | D14: 109 | G14: 1 | N14: 1 | V14: =E14+G14 -> 1 | W14: =K14+L14+N14 -> 1 | X14: =K14 -> 0 | Y14: =H14+I14+J14 -> 0 | Z14: =R14 -> 0 | AA14: =P14+Q14 -> 0 | AB14: =U14 -> 0 | AC14: =S14+T14 -> 0
A15: 0 | B15: 1.7 | C15: ÆÝùÝ³ëå³ÝáõÃÛ³Ý Ñ³ëóÝ»ÉÁ | D15: 110 | V15: =E15+G15 -> 0 | W15: =K15+L15+N15 -> 0 | X15: =K15 -> 0 | Y15: =H15+I15+J15 -> 0 | Z15: =R15 -> 0 | AA15: =P15+Q15 -> 0 | AB15: =U15 -> 0 | AC15: =S15+T15 -> 0
A16: 0 | B16: 1.8 | C16: ÆÝùÝ³ëå³ÝáõÃÛ³Ý Ñ³Ï»ÉÁ | D16: 111 | V16: =E16+G16 -> 0 | W16: =K16+L16+N16 -> 0 | X16: =K16 -> 0 | Y16: =H16+I16+J16 -> 0 | Z16: =R16 -> 0 | AA16: =P16+Q16 -> 0 | AB16: =U16 -> 0 | AC16: =S16+T16 -> 0
A17: 0 | B17: 1.9 | C17: ¸Çï³íáñáõÃÛ³Ùµ ³éáÕçáõÃÛ³ÝÁ Í³Ýñ íÝ³ë å³ï×³é»ÉÁ | D17: 112 | E17: 4 | G17: 11 | H17: 9 | K17: 9 | N17: 6 | P17: 5 | R17: 5 | V17: =E17+G17 -> 15 | W17: =K17+L17+N17 -> 15 | X17: =K17 -> 9 | Y17: =H17+I17+J17 -> 9 | Z17: =R17 -> 5 | AA17: =P17+Q17 -> 5 | AB17: =U17 -> 0 | AC17: =S17+T17 -> 0
A18: 0 | B18: 1.10 | C18: ¸Çï³íáñáõÃÛ³Ùµ ³éáÕçáõÃÛ³ÝÁ ÙÇçÇÝ Í³ÝñáõÃÛ³Ý íÝ³ë å³ï×³é»ÉÁ | D18: 113 | E18: 2 | H18: 2 | K18: 2 | P18: 1 | R18: 1 | S18: 1 | U18: 1 | V18: =E18+G18 -> 2 | W18: =K18+L18+N18 -> 2 | X18: =K18 -> 2 | Y18: =H18+I18+J18 -> 2 | Z18: =R18 -> 1 | AA18: =P18+Q18 -> 1 | AB18: =U18 -> 1 | AC18: =S18+T18 -> 1
A19: 0 | B19: 1.11 | C19: Ðá·»Ï³Ý ËÇëï Ñáõ½ÙáõÝùÇ íÇ×³ÏáõÙ ³éáÕçáõÃÛ³ÝÁ Í³Ýñ Ï³Ù ÙÇçÇÝ Í³ÝñáõÃÛ³Ý íÝ³ë å³ï×³é»ÉÁ | D19: 114 | V19: =E19+G19 -> 0 | W19: =K19+L19+N19 -> 0 | X19: =K19 -> 0 | Y19: =H19+I19+J19 -> 0 | Z19: =R19 -> 0 | AA19: =P19+Q19 -> 0 | AB19: =U19 -> 0 | AC19: =S19+T19 -> 0
A20: 0 | B20: 1.12 | C20: Ð³Ýó³Ýù Ï³ï³ñ³Í ³ÝÓÇÝ µéÝ»Éáõ Ñ³Ù³ñ ³ÝÑñ³Å»ßï ÙÇçáóÝ»ñÇ ë³ÑÙ³Ý½³ÝóÙ³Ùµ ³éáÕçáõÃÛ³ÝÁ Í³Ýñ Ï³Ù ÙÇçÇÝ Í³ÝñáõÃÛ³Ý íÝ³ë å³ï×³é»ÉÁ | D20: 115 | V20: =E20+G20 -> 0 | W20: =K20+L20+N20 -> 0 | X20: =K20 -> 0 | Y20: =H20+I20+J20 -> 0 | Z20: =R20 -> 0 | AA20: =P20+Q20 -> 0 | AB20: =U20 -> 0 | AC20: =S20+T20 -> 0
A21: 0 | B21: 1.13 | C21: ²éáÕçáõÃÛ³ÝÁ Í³Ýñ Ï³Ù ÙÇçÇÝ Í³ÝñáõÃÛ³Ý íÝ³ë å³ï×³é»ÉÁ ³ÝÑñ³Å»ßï å³ßïå³ÝáõÃÛ³Ý ë³ÑÙ³Ý³Ý³½³ÝóÙ³Ùµ | D21: 116 | V21: =E21+G21 -> 0 | W21: =K21+L21+N21 -> 0 | X21: =K21 -> 0 | Y21: =H21+I21+J21 -> 0 | Z21: =R21 -> 0 | AA21: =P21+Q21 -> 0 | AB21: =U21 -> 0 | AC21: =S21+T21 -> 0
A22: 0 | B22: 1.14 | C22: ¸Çï³íáñáõÃÛ³Ùµ ³éáÕçáõÃÛ³ÝÁ Ã»Ã¨ íÝ³ë å³ï×³é»ÉÁ | D22: 117 | E22: 1 | G22: 2 | H22: 0 | I22: 2 | K22: 2 | N22: 1 | V22: =E22+G22 -> 3 | W22: =K22+L22+N22 -> 3 | X22: =K22 -> 2 | Y22: =H22+I22+J22 -> 2 | Z22: =R22 -> 0 | AA22: =P22+Q22 -> 0 | AB22: =U22 -> 0 | AC22: =S22+T22 -> 0
A23: 0 | B23: 1.15 | C23: Ì»ÍÁ | D23: 118 | E23: 2 | G23: 2 | H23: 4 | K23: 4 | P23: 2 | R23: 2 | V23: =E23+G23 -> 4 | W23: =K23+L23+N23 -> 4 | X23: =K23 -> 4 | Y23: =H23+I23+J23 -> 4 | Z23: =R23 -> 2 | AA23: =P23+Q23 -> 2 | AB23: =U23 -> 0 | AC23: =S23+T23 -> 0
A24: 0 | B24: 1.16 | C24: Êáßï³Ý·áõÙÁ | D24: 119 | V24: =E24+G24 -> 0 | W24: =K24+L24+N24 -> 0 | X24: =K24 -> 0 | Y24: =H24+I24+J24 -> 0 | Z24: =R24 -> 0 | AA24: =P24+Q24 -> 0 | AB24: =U24 -> 0 | AC24: =S24+T24 -> 0
A25: 0 | B25: 1.17 | C25: ²Ý½·áõßáõÃÛ³Ùµ ³éáÕçáõÃÛ³ÝÁ Í³Ýñ íÝ³ë å³ï×³é»ÉÁ | D25: 120 | V25: =E25+G25 -> 0 | W25: =K25+L25+N25 -> 0 | X25: =K25 -> 0 | Y25: =H25+I25+J25 -> 0 | Z25: =R25 -> 0 | AA25: =P25+Q25 -> 0 | AB25: =U25 -> 0 | AC25: =S25+T25 -> 0
A26: 0 | B26: 1.18 | C26: ²Ý½·áõßáõÃÛ³Ùµ ³éáÕçáõÃÛ³ÝÁ ÙÇçÇÝ Í³ÝñáõÃÛ³Ý íÝ³ë å³ï×³é»ÉÁ | D26: 121 | V26: =E26+G26 -> 0 | W26: =K26+L26+N26 -> 0 | X26: =K26 -> 0 | Y26: =H26+I26+J26 -> 0 | Z26: =R26 -> 0 | AA26: =P26+Q26 -> 0 | AB26: =U26 -> 0 | AC26: =S26+T26 -> 0
A27: 0 | B27: 1.19 | C27: ²åûñÇÝÇ ³µáñï Ï³ï³ñ»ÉÁ | D27: 122 | V27: =E27+G27 -> 0 | W27: =K27+L27+N27 -> 0 | X27: =K27 -> 0 | Y27: =H27+I27+J27 -> 0 | Z27: =R27 -> 0 | AA27: =P27+Q27 -> 0 | AB27: =U27 -> 0 | AC27: =S27+T27 -> 0
A28: 0 | B28: 1.20 | C28: Ø³ñ¹áõ ÇÙáõÝ³ÛÇÝ ³Ýµ³í³ñ³ñáõÃÛ³Ý íÇñáõëÇ Ñ³ñáõóÇãáí í³ñ³Ï»ÉÁ | D28: 123 | V28: =E28+G28 -> 0 | W28: =K28+L28+N28 -> 0 | X28: =K28 -> 0 | Y28: =H28+I28+J28 -> 0 | Z28: =R28 -> 0 | AA28: =P28+Q28 -> 0 | AB28: =U28 -> 0 | AC28: =S28+T28 -> 0
A29: 0 | B29: 1.21 | C29: ì»Ý»ñ³Ï³Ý ÑÇí³Ý¹áõÃÛ³Ùµ Ï³Ù ³ÛÉ ë»é³í³ñ³ÏÝ»ñáí í³ñ³Ï»ÉÁ | D29: 124 | V29: =E29+G29 -> 0 | W29: =K29+L29+N29 -> 0 | X29: =K29 -> 0 | Y29: =H29+I29+J29 -> 0 | Z29: =R29 -> 0 | AA29: =P29+Q29 -> 0 | AB29: =U29 -> 0 | AC29: =S29+T29 -> 0
A30: 0 | B30: 1.22 | C30: öáËå³ïí³ëïÙ³Ý íÇñ³Ñ³ïáõÃÛáõÝ Ï³ï³ñ»Éáõ Ï³ÝáÝÝ»ñÁ Ë³Ëï»ÉÁ | D30: 125 | V30: =E30+G30 -> 0 | W30: =K30+L30+N30 -> 0 | X30: =K30 -> 0 | Y30: =H30+I30+J30 -> 0 | Z30: =R30 -> 0 | AA30: =P30+Q30 -> 0 | AB30: =U30 -> 0 | AC30: =S30+T30 -> 0
A31: 0 | B31: 1.24 | C31: ²ÝÓÇÝ ³é³Ýó Çñ Ñ³ÝÓÝ³ñ³ñáõÃÛ³Ý µÅßÏ³Ï³Ý Ï³Ù ·Çï³Ï³Ý ÷áñÓ»ñÇ »ÝÃ³ñÏ»ÉÁ | D31: 127 | V31: =E31+G31 -> 0 | W31: =K31+L31+N31 -> 0 | X31: =K31 -> 0 | Y31: =H31+I31+J31 -> 0 | Z31: =R31 -> 0 | AA31: =P31+Q31 -> 0 | AB31: =U31 -> 0 | AC31: =S31+T31 -> 0
A32: 0 | B32: 1.25 | C32: ìï³Ý·Ç Ù»ç ÃáÕÝ»ÉÁ | D32: 128 | V32: =E32+G32 -> 0 | W32: =K32+L32+N32 -> 0 | X32: =K32 -> 0 | Y32: =H32+I32+J32 -> 0 | Z32: =R32 -> 0 | AA32: =P32+Q32 -> 0 | AB32: =U32 -> 0 | AC32: =S32+T32 -> 0
A33: 0 | B33: 1.26 | C33: ÐÇí³Ý¹ÇÝ û·ÝáõÃÛáõÝ óáõÛó ãï³ÉÁ | D33: 129 | V33: =E33+G33 -> 0 | W33: =K33+L33+N33 -> 0 | X33: =K33 -> 0 | Y33: =H33+I33+J33 -> 0 | Z33: =R33 -> 0 | AA33: =P33+Q33 -> 0 | AB33: =U33 -> 0 | AC33: =S33+T33 -> 0
A34: 0 | B34: 1.27 | C34: ´ÅßÏ³Ï³Ý û·ÝáõÃÛáõÝ ¨ ëå³ë³ñÏáõÙ Çñ³Ï³Ý³óÝáÕÝ»ñÇ ÏáÕÙÇó Ù³ëÝ³·Çï³Ï³Ý å³ñï³Ï³ÝáõÃÛáõÝÝ»ñÁ ãÏ³ï³ñ»ÉÁ Ï³Ù áã å³ïß³× Ï³ï³ñ»ÉÁ | D34: 130 | G34: 1 | N34: 1 | V34: =E34+G34 -> 1 | W34: =K34+L34+N34 -> 1 | X34: =K34 -> 0 | Y34: =H34+I34+J34 -> 0 | Z34: =R34 -> 0 | AA34: =P34+Q34 -> 0 | AB34: =U34 -> 0 | AC34: =S34+T34 -> 0
A35: 1 | B35: 1.28 | C35: ²ÛÉ Ñ³Ýó³·áñÍáõÃÛáõÝÝ»ñ | E35: 1 | F35: 1 | N35: 1 | O35: 1 | V35: =E35+G35 -> 1 | W35: =K35+L35+N35 -> 1 | X35: =K35 -> 0 | Y35: =H35+I35+J35 -> 0 | Z35: =R35 -> 0 | AA35: =P35+Q35 -> 0 | AB35: =U35 -> 0 | AC35: =S35+T35 -> 0
A36: 0 | B36: 2. | C36: ÀÝ¹³Ù»ÝÁ ³ÝÓÇ ³½³ïáõÃÛ³Ý, å³ïíÇ ¨ ³ñÅ³Ý³å³ïíáõÃÛ³Ý ¹»Ù áõÕÕí³Í Ñ³Ýó³·áñÍáõÃÛáõÝÝ»ñÁ | E36: =SUM(E37:E43) -> 3 | F36: =SUM(F37:F43) -> 0 | G36: =SUM(G37:G43) -> 4 | H36: =SUM(H37:H43) -> 3 | I36: =SUM(I37:I43) -> 0 | J36: =SUM(J37:J43) -> 0 | K36: =SUM(K37:K43) -> 3 | L36: =SUM(L37:L43) -> 0 | ... AC36: =SUM(AC37:AC43) -> 1
A37: 0 | B37: 2.1 | C37: Ø³ñ¹áõÝ ³é¨³Ý·»ÉÁ | D37: 131 | E37: 2 | G37: 1 | H37: 1 | K37: 1 | N37: 2 | P37: 1 | R37: 1 | V37: =E37+G37 -> 3 | W37: =K37+L37+N37 -> 3 | X37: =K37 -> 1 | Y37: =H37+I37+J37 -> 1 | Z37: =R37 -> 1 | AA37: =P37+Q37 -> 1 | AB37: =U37 -> 0 | AC37: =S37+T37 -> 0
B38: 2.2 | C38: Մարդու թրաֆիքինգը կամ շահագործումը | D38: 132 | V38: =E38+G38 -> 0 | W38: =K38+L38+N38 -> 0 | X38: =K38 -> 0 | Y38: =H38+I38+J38 -> 0 | Z38: =R38 -> 0 | AA38: =P38+Q38 -> 0 | AB38: =U38 -> 0 | AC38: =S38+T38 -> 0
B39: 2.2.1 | C39: Ø³ñ¹áõÝ åáéÝÇÏáõÃÛ³Ý Ï³Ù ë»é³Ï³Ý ß³Ñ³·áñÍÙ³Ý ³ÛÉ Ó¨»ñÇ Ù»ç, Ñ³ñÏ³¹Çñ ³ßË³ï³ÝùÇ Ï³Ù Í³é³ÛáõÃÛáõÝÝ»ñÇ Ý»ñ·ñ³í»ÉÁ Ï³Ù ëïñÏáõÃÛ³Ý Ï³Ù ëïñÏáõÃÛ³ÝÁ ÝÙ³ÝíáÕ íÇ×³ÏÇ Ù»ç ¹Ý»ÉÁ Ï³Ù å³Ñ»ÉÁ | D39: 132.1 | V39: =E39+G39 -> 0 | W39: =K39+L39+N39 -> 0 | X39: =K39 -> 0 | Y39: =H39+I39+J39 -> 0 | Z39: =R39 -> 0 | AA39: =P39+Q39 -> 0 | AB39: =U39 -> 0 | AC39: =S39+T39 -> 0
B40: 2.3 | C40: ²½³ïáõÃÛáõÝÇó ³åûñÇÝÇ ½ñÏ»ÉÁ | D40: 133 | V40: =E40+G40 -> 0 | W40: =K40+L40+N40 -> 0 | X40: =K40 -> 0 | Y40: =H40+I40+J40 -> 0 | Z40: =R40 -> 0 | AA40: =P40+Q40 -> 0 | AB40: =U40 -> 0 | AC40: =S40+T40 -> 0
B41: 2.4 | C41: Ðá·»µáõÅ³Ï³Ý ÑÇí³Ý¹³ÝáóáõÙ ³åûñÇÝÇ ï»Õ³íáñ»ÉÁ Ï³Ù å³Ñ»ÉÁ | D41: 134 | V41: =E41+G41 -> 0 | W41: =K41+L41+N41 -> 0 | X41: =K41 -> 0 | Y41: =H41+I41+J41 -> 0 | Z41: =R41 -> 0 | AA41: =P41+Q41 -> 0 | AB41: =U41 -> 0 | AC41: =S41+T41 -> 0
B42: 2.7 | C42: êå³ÝáõÃÛ³Ý, ³éáÕçáõÃÛ³ÝÁ Í³Ýñ íÝ³ë å³ï×³é»Éáõ Ï³Ù ·áõÛù áãÝã³óÝ»Éáõ ëå³éÝ³ÉÇùÁ | D42: 137 | E42: 1 | G42: 3 | H42: 2 | K42: 2 | N42: 2 | P42: 2 | R42: 2 | S42: 1 | U42: 1 | V42: =E42+G42 -> 4 | W42: =K42+L42+N42 -> 4 | X42: =K42 -> 2 | Y42: =H42+I42+J42 -> 2 | Z42: =R42 -> 2 | AA42: =P42+Q42 -> 2 | AB42: =U42 -> 1 | AC42: =S42+T42 -> 1
A43: 0 | B43: 2.8 | C43: ²ÛÉ Ñ³Ýó³·áñÍáõÃÛáõÝÝ»ñ | V43: =E43+G43 -> 0 | W43: =K43+L43+N43 -> 0 | X43: =K43 -> 0 | Y43: =H43+I43+J43 -> 0 | Z43: =R43 -> 0 | AA43: =P43+Q43 -> 0 | AB43: =U43 -> 0 | AC43: =S43+T43 -> 0
A44: 0 | B44: 3. | C44: ÀÝ¹³Ù»ÝÁ ë»é³Ï³Ý ³ÝÓ»éÝÙË»ÉÇáõÃÛ³Ý ¨ ë»é³Ï³Ý ³½³ïáõÃÛ³Ý ¹»Ù áõÕÕí³Í Ñ³Ýó³·áñÍáõÃÛáõÝÝ»ñÁ | E44: =SUM(E45:E50) -> 1 | F44: =SUM(F45:F50) -> 0 | G44: =SUM(G45:G50) -> 0 | H44: =SUM(H45:H50) -> 1 | I44: =SUM(I45:I50) -> 0 | J44: =SUM(J45:J50) -> 0 | K44: =SUM(K45:K50) -> 1 | L44: =SUM(L45:L50) -> 0 | ... AC44: =SUM(AC45:AC50) -> 0
A45: 0 | B45: 3.1 | C45: ´éÝ³µ³ñáõÃÛáõÝÁ | D45: 138 | V45: =E45+G45 -> 0 | W45: =K45+L45+N45 -> 0 | X45: =K45 -> 0 | Y45: =H45+I45+J45 -> 0 | Z45: =R45 -> 0 | AA45: =P45+Q45 -> 0 | AB45: =U45 -> 0 | AC45: =S45+T45 -> 0
B46: 3.2 | C46: ê»ùëáõ³É µÝáõÛÃÇ µéÝÇ ·áñÍáÕáõÃÛáõÝÝ»ñÁ | D46: 139 | V46: =E46+G46 -> 0 | W46: =K46+L46+N46 -> 0 | X46: =K46 -> 0 | Y46: =H46+I46+J46 -> 0 | Z46: =R46 -> 0 | AA46: =P46+Q46 -> 0 | AB46: =U46 -> 0 | AC46: =S46+T46 -> 0
B47: 3.3 | C47: Սեռական հարաբերության կամ սեքսուալ բնույթի գործողություններին հարկադրելը | D47: 140 | V47: =E47+G47 -> 0 | W47: =K47+L47+N47 -> 0 | X47: =K47 -> 0 | Y47: =H47+I47+J47 -> 0 | Z47: =R47 -> 0 | AA47: =P47+Q47 -> 0 | AB47: =U47 -> 0 | AC47: =S47+T47 -> 0
B48: 3.4 | C48: ê»é³Ï³Ý Ñ³ñ³µ»ñáõÃÛáõÝÁ ï³ëÝí»ó ï³ñÇÝ ãÉñ³ó³Í ³ÝÓÇ Ñ»ï Ï³Ù ë»ùëáõ³É µÝáõÛÃÇ ·áñÍáÕáõÃÛáõÝÝ»ñ Ï³ï³ñ»ÉÁ ï³ëÝí»ó ï³ñÇÝ ãÉñ³ó³Í ³ÝÓÇ ÝÏ³ïÙ³Ùµ | D48: 141 | E48: 1 | H48: 1 | K48: 1 | V48: =E48+G48 -> 1 | W48: =K48+L48+N48 -> 1 | X48: =K48 -> 1 | Y48: =H48+I48+J48 -> 1 | Z48: =R48 -> 0 | AA48: =P48+Q48 -> 0 | AB48: =U48 -> 0 | AC48: =S48+T48 -> 0
B49: 3.5 | C49: ²Ý³é³Ï³µ³ñá ·áñÍáÕáõÃÛáõÝÝ»ñÁ | D49: 142 | V49: =E49+G49 -> 0 | W49: =K49+L49+N49 -> 0 | X49: =K49 -> 0 | Y49: =H49+I49+J49 -> 0 | Z49: =R49 -> 0 | AA49: =P49+Q49 -> 0 | AB49: =U49 -> 0 | AC49: =S49+T49 -> 0
B50: 3.6 | C50: ²ÛÉ Ñ³Ýó³·áñÍáõÃÛáõÝÝ»ñ | V50: =E50+G50 -> 0 | W50: =K50+L50+N50 -> 0 | X50: =K50 -> 0 | Y50: =H50+I50+J50 -> 0 | Z50: =R50 -> 0 | AA50: =P50+Q50 -> 0 | AB50: =U50 -> 0 | AC50: =S50+T50 -> 0
B51: 4. | C51: ÀÝ¹³Ù»ÝÁ Ù³ñ¹áõ ¨ ù³Õ³ù³óáõ ë³ÑÙ³Ý³¹ñ³Ï³Ý Çñ³íáõÝùÝ»ñÇ ¨ ³½³ïáõÃÛáõÝÝ»ñÇ ¹»Ù áõÕÕí³Í Ñ³Ýó³·áñÍáõÃÛáõÝÝ»ñÁ | E51: =SUM(E52:E79) -> 0 | F51: =SUM(F52:F79) -> 0 | G51: =SUM(G52:G79) -> 2 | H51: =SUM(H52:H79) -> 1 | I51: =SUM(I52:I79) -> 0 | J51: =SUM(J52:J79) -> 0 | K51: =SUM(K52:K79) -> 1 | L51: =SUM(L52:L79) -> 0 | ... AC51: =SUM(AC52:AC79) -> 0
B52: 4.1 | C52: Ø³ñ¹áõ ¨ ù³Õ³ù³óáõ Çñ³í³Ñ³í³ë³ñáõÃÛáõÝÁ Ë³Ëï»ÉÁ | D52: 143 | V52: =E52+G52 -> 0 | W52: =K52+L52+N52 -> 0 | X52: =K52 -> 0 | Y52: =H52+I52+J52 -> 0 | Z52: =R52 -> 0 | AA52: =P52+Q52 -> 0 | AB52: =U52 -> 0 | AC52: =S52+T52 -> 0
B53: 4.2 | C53: ²ÝÓÝ³Ï³Ý Ï³Ù ÁÝï³Ý»Ï³Ý ÏÛ³ÝùÇ Ù³ëÇÝ ï»Õ»ÏáõÃÛáõÝÝ»ñ ³åûñÇÝÇ Ñ³í³ù»ÉÁ, å³Ñ»ÉÁ, û·ï³·áñÍ»ÉÁ Ï³Ù ï³ñ³Í»ÉÁ | D53: 144 | V53: =E53+G53 -> 0 | W53: =K53+L53+N53 -> 0 | X53: =K53 -> 0 | Y53: =H53+I53+J53 -> 0 | Z53: =R53 -> 0 | AA53: =P53+Q53 -> 0 | AB53: =U53 -> 0 | AC53: =S53+T53 -> 0
B54: 4.3 | C54: ´ÅßÏ³Ï³Ý ·³ÕïÝÇùÁ Ññ³å³ñ³Ï»ÉÁ | D54: 145 | V54: =E54+G54 -> 0 | W54: =K54+L54+N54 -> 0 | X54: =K54 -> 0 | Y54: =H54+I54+J54 -> 0 | Z54: =R54 -> 0 | AA54: =P54+Q54 -> 0 | AB54: =U54 -> 0 | AC54: =S54+T54 -> 0
B55: 4.4 | C55: Ü³Ù³Ï³·ñáõÃÛ³Ý, Ñ»é³Ëáë³ÛÇÝ Ëáë³ÏóáõÃÛáõÝÝ»ñÇ, ÷áëï³ÛÇÝ, Ñ»é³·ñ³Ï³Ý Ï³Ù ³ÛÉ Ñ³Õáñ¹áõÙÝ»ñÇ ·³ÕïÝÇáõÃÛáõÝÁ Ë³Ëï»ÉÁ | D55: 146 | V55: =E55+G55 -> 0 | W55: =K55+L55+N55 -> 0 | X55: =K55 -> 0 | Y55: =H55+I55+J55 -> 0 | Z55: =R55 -> 0 | AA55: =P55+Q55 -> 0 | AB55: =U55 -> 0 | AC55: =S55+T55 -> 0
B56: 4.5 | C56: ´Ý³Ï³ñ³ÝÇ ³ÝÓ»éÝÙË»ÉÇáõÃÛáõÝÁ Ë³Ëï»ÉÁ | D56: 147 | G56: 1 | N56: 1 | V56: =E56+G56 -> 1 | W56: =K56+L56+N56 -> 1 | X56: =K56 -> 0 | Y56: =H56+I56+J56 -> 0 | Z56: =R56 -> 0 | AA56: =P56+Q56 -> 0 | AB56: =U56 -> 0 | AC56: =S56+T56 -> 0
B57: 4.6 | C57: ²ÝÓÇÝ ï»Õ»ÏáõÃÛáõÝ Ý»ñÏ³Û³óÝ»Éáõó Ññ³Å³ñí»ÉÁ | D57: 148 | V57: =E57+G57 -> 0 | W57: =K57+L57+N57 -> 0 | X57: =K57 -> 0 | Y57: =H57+I57+J57 -> 0 | Z57: =R57 -> 0 | AA57: =P57+Q57 -> 0 | AB57: =U57 -> 0 | AC57: =S57+T57 -> 0
B58: 4.7 | C58: ÀÝïñ³Ï³Ý Çñ³íáõÝùÇ Çñ³Ï³Ý³óÙ³ÝÁ, ÁÝïñ³Ï³Ý Ñ³ÝÓÝ³ÅáÕáíÝ»ñÇ ³ßË³ï³ÝùÝ»ñÇÝ Ï³Ù ÁÝïñáõÃÛ³ÝÁ Ù³ëÝ³ÏóáÕ ³ÝÓ³Ýó ÉÇ³½áñáõÃÛáõÝÝ»ñÇ Çñ³Ï³Ý³óÙ³ÝÁ ËáãÁÝ¹áï»ÉÁ | D58: 149 | V58: =E58+G58 -> 0 | W58: =K58+L58+N58 -> 0 | X58: =K58 -> 0 | Y58: =H58+I58+J58 -> 0 | Z58: =R58 -> 0 | AA58: =P58+Q58 -> 0 | AB58: =U58 -> 0 | AC58: =S58+T58 -> 0
B59: 4.8 | C59: ÀÝïñáõÃÛáõÝÝ»ñÇ Ï³Ù ùí»³ñÏáõÃÛ³Ý ³ñ¹ÛáõÝùÝ»ñÁ Ï»ÕÍ»ÉÁ | D59: 150 | V59: =E59+G59 -> 0 | W59: =K59+L59+N59 -> 0 | X59: =K59 -> 0 | Y59: =H59+I59+J59 -> 0 | Z59: =R59 -> 0 | AA59: =P59+Q59 -> 0 | AB59: =U59 -> 0 | AC59: =S59+T59 -> 0
B60: 4.9 | C60: ÀÝïñáõÃÛáõÝÝ»ñÇ ³ÝóÏ³óÙ³Ý ÁÝÃ³óùáõÙ Ã»ÏÝ³ÍáõÇ, Ïáõë³ÏóáõÃÛ³Ý (Ïáõë³ÏóáõÃÛáõÝÝ»ñÇ ¹³ßÇÝùÇ) í»ñ³µ»ñÛ³É ½ñå³ñïã³Ï³Ý ï»Õ»ÏáõÃÛáõÝÝ»ñ ï³ñ³Í»ÉÁ | D60: 151 | V60: =E60+G60 -> 0 | W60: =K60+L60+N60 -> 0 | X60: =K60 -> 0 | Y60: =H60+I60+J60 -> 0 | Z60: =R60 -> 0 | AA60: =P60+Q60 -> 0 | AB60: =U60 -> 0 | AC60: =S60+T60 -> 0
B61: 4.10 | C61: ÀÝïñáÕÝ»ñÇ óáõó³ÏÝ»ñÁ Ï³½Ù»Éáõ, ¹ñ³Ýù ù³Õ³ù³óÇÝ»ñÇÝ ¨ Ïáõë³ÏóáõÃÛáõÝÝ»ñÇÝ ïñ³Ù³¹ñ»Éáõ Ï³Ù Ññ³å³ñ³Ï»Éáõ Ï³ñ·Á Ë³Ëï»ÉÁ | D61: 152 | V61: =E61+G61 -> 0 | W61: =K61+L61+N61 -> 0 | X61: =K61 -> 0 | Y61: =H61+I61+J61 -> 0 | Z61: =R61 -> 0 | AA61: =P61+Q61 -> 0 | AB61: =U61 -> 0 | AC61: =S61+T61 -> 0
A62: 0 | B62: 4.11 | C62: Ø»ÏÇó ³í»ÉÇ ³Ý·³Ù Ï³Ù ³ÛÉ ³ÝÓÇ ÷áË³ñ»Ý ùí»³ñÏ»ÉÁ | D62: 153 | V62: =E62+G62 -> 0 | W62: =K62+L62+N62 -> 0 | X62: =K62 -> 0 | Y62: =H62+I62+J62 -> 0 | Z62: =R62 -> 0 | AA62: =P62+Q62 -> 0 | AB62: =U62 -> 0 | AC62: =S62+T62 -> 0
B63: 4.12 | C63: øí»³ñÏáõÃÛ³Ý ·³ÕïÝÇáõÃÛáõÝÁ Ë³Ëï»ÉÁ | D63: 154 | V63: =E63+G63 -> 0 | W63: =K63+L63+N63 -> 0 | X63: =K63 -> 0 | Y63: =H63+I63+J63 -> 0 | Z63: =R63 -> 0 | AA63: =P63+Q63 -> 0 | AB63: =U63 -> 0 | AC63: =S63+T63 -> 0
B64: 4.13 | C64: Î»ÕÍ ÁÝïñ³Ï³Ý ùí»³Ã»ñÃÇÏÝ»ñ Ï³Ù ùí»³ñÏáõÃÛ³Ý Íñ³ñÝ»ñ å³ïñ³ëï»ÉÁ Ï³Ù ³ÏÝÑ³Ûï Ï»ÕÍ ÁÝïñ³Ï³Ý ùí»³Ã»ñÃÇÏÝ»ñ Ï³Ù ùí»³ñÏáõÃÛ³Ý Íñ³ñÝ»ñ Ñ³ÝÓÝ»ÉÁ Ï³Ù Çñ³óÝ»ÉÁ | D64: 154.1 | V64: =E64+G64 -> 0 | W64: =K64+L64+N64 -> 0 | X64: =K64 -> 0 | Y64: =H64+I64+J64 -> 0 | Z64: =R64 -> 0 | AA64: =P64+Q64 -> 0 | AB64: =U64 -> 0 | AC64: =S64+T64 -> 0
B65: 4.14 | C65: ÀÝïñáÕÇ Ï³ÙùÇ ³½³ï Çñ³Ï³Ý³óÙ³ÝÁ ËáãÁÝ¹áï»ÉÁ | D65: 154.2 | V65: =E65+G65 -> 0 | W65: =K65+L65+N65 -> 0 | X65: =K65 -> 0 | Y65: =H65+I65+J65 -> 0 | Z65: =R65 -> 0 | AA65: =P65+Q65 -> 0 | AB65: =U65 -> 0 | AC65: =S65+T65 -> 0
B66: 4.15 | C66: ÀÝïñ³Ï³Ý Ñ³ÝÓÝ³ÅáÕáíÇ ÏÝÇùÁ ãí»ñ³¹³ñÓÝ»ÉÁ, ÏÝÇùÇ å³Ñå³ÝÙ³Ý ë³ÑÙ³Ýí³Í Ï³ñ·Á Ë³Ëï»ÉÁ | D66: 154.3 | V66: =E66+G66 -> 0 | W66: =K66+L66+N66 -> 0 | X66: =K66 -> 0 | Y66: =H66+I66+J66 -> 0 | Z66: =R66 -> 0 | AA66: =P66+Q66 -> 0 | AB66: =U66 -> 0 | AC66: =S66+T66 -> 0
B67: 4.16 | C67: ¼»Ýùáíª ï»Õ³Ù³ë³ÛÇÝ Ï»ÝïñáÝ Ùáõïù ·áñÍ»ÉÁ | D67: 154.4 | V67: =E67+G67 -> 0 | W67: =K67+L67+N67 -> 0 | X67: =K67 -> 0 | Y67: =H67+I67+J67 -> 0 | Z67: =R67 -> 0 | AA67: =P67+Q67 -> 0 | AB67: =U67 -> 0 | AC67: =S67+T67 -> 0
B68: 4.17 | C68: ìëï³Ñí³Í ³ÝÓÇÝ,ÁÝïñ³Ï³Ý Ñ³ÝÓÝ³ÅáÕáíÇ ³Ý¹³ÙÇÝ,¹Çïáñ¹ÇÝ Ï³Ù ½³Ý·í³Í³ÛÇÝ Éñ³ïíáõÃÛ³Ý ÙÇçáóÇ Ý»ñÏ³Û³óáõóãÇÝ ÁÝïñ³Ï³Ý ÷³ëï³ÃÕÃ»ñÇÝ Í³ÝáÃ³Ý³ÉáõÝ ËáãÁÝ¹áï»ÉÁ, ÁÝïñ³Ï³Ý Ñ³ÝÓÝ³ÅáÕáíÇ ³ñÓ³Ý³·ñáõÃÛáõÝÝ»ñÇ å³ï×»ÝÝ»ñ ãï³ÉÁ | D68: 154.5 | V68: =E68+G68 -> 0 | W68: =K68+L68+N68 -> 0 | X68: =K68 -> 0 | Y68: =H68+I68+J68 -> 0 | Z68: =R68 -> 0 | AA68: =P68+Q68 -> 0 | AB68: =U68 -> 0 | AC68: =S68+T68 -> 0
B69: 4.18 | C69: ¶áñÍ³¹áõÉÇ Ù³ëÝ³Ïó»ÉáõÝ Ï³Ù ·áñÍ³¹áõÉÇ Ù³ëÝ³Ïó»Éáõó Ññ³Å³ñí»ÉáõÝ Ñ³ñÏ³¹ñ»ÉÁ | D69: 155 | V69: =E69+G69 -> 0 | W69: =K69+L69+N69 -> 0 | X69: =K69 -> 0 | Y69: =H69+I69+J69 -> 0 | Z69: =R69 -> 0 | AA69: =P69+Q69 -> 0 | AB69: =U69 -> 0 | AC69: =S69+T69 -> 0
B70: 4.19 | C70: ÐÕÇ ÏÝáçÁ Ï³Ù ÙÇÝã¨ »ñ»ù ï³ñ»Ï³Ý »ñ»Ë³ áõÝ»óáÕ ³ÝÓÇÝ ³ßË³ï³ÝùÇ ÁÝ¹áõÝ»Éáõõó Ññ³Å³ñí»ÉÁ Ï³Ù ³ßË³ï³ÝùÇó ³ÝÑÇÙÝ ³½³ï»ÉÁ | D70: 156 | V70: =E70+G70 -> 0 | W70: =K70+L70+N70 -> 0 | X70: =K70 -> 0 | Y70: =H70+I70+J70 -> 0 | Z70: =R70 -> 0 | AA70: =P70+Q70 -> 0 | AB70: =U70 -> 0 | AC70: =S70+T70 -> 0
B71: 4.20 | C71: ²ßË³ï³ÝùÇ å³ßïå³ÝáõÃÛ³Ý Ï³ÝáÝÝ»ñÁ Ë³Ëï»ÉÁ | D71: 157 | G71: 1 | H71: 1 | K71: 1 | V71: =E71+G71 -> 1 | W71: =K71+L71+N71 -> 1 | X71: =K71 -> 1 | Y71: =H71+I71+J71 -> 1 | Z71: =R71 -> 0 | AA71: =P71+Q71 -> 0 | AB71: =U71 -> 0 | AC71: =S71+T71 -> 0
B72: 4.21 | C72: Ð»ÕÇÝ³Ï³ÛÇÝ ¨ Ñ³ñ³ÏÇó Çñ³íáõÝùÝ»ñÁ Ë³Ëï»ÉÁ | D72: 158 | V72: =E72+G72 -> 0 | W72: =K72+L72+N72 -> 0 | X72: =K72 -> 0 | Y72: =H72+I72+J72 -> 0 | Z72: =R72 -> 0 | AA72: =P72+Q72 -> 0 | AB72: =U72 -> 0 | AC72: =S72+T72 -> 0
B73: 4.22 | C73: ²ñïáÝ³·ñ³ÛÇÝ Çñ³íáõÝùÁ Ë³Ëï»ÉÁ | D73: 159 | V73: =E73+G73 -> 0 | W73: =K73+L73+N73 -> 0 | X73: =K73 -> 0 | Y73: =H73+I73+J73 -> 0 | Z73: =R73 -> 0 | AA73: =P73+Q73 -> 0 | AB73: =U73 -> 0 | AC73: =S73+T73 -> 0
B74: 4.23 | C74: ÊÕ×Ç Ï³Ù ¹³í³Ý³ÝùÇ ³½³ïáõÃÛ³Ý Çñ³íáõÝùÇ Çñ³Ï³Ý³óÙ³ÝÁ ËáãÁÝ¹áï»ÉÁ | D74: 160 | V74: =E74+G74 -> 0 | W74: =K74+L74+N74 -> 0 | X74: =K74 -> 0 | Y74: =H74+I74+J74 -> 0 | Z74: =R74 -> 0 | AA74: =P74+Q74 -> 0 | AB74: =U74 -> 0 | AC74: =S74+T74 -> 0
B75: 4.24 | C75: ØÇ³íáñáõÙÝ»ñ (Ñ³ë³ñ³Ï³Ï³Ý Ï³Ù ³ñÑ»ëï³Ïó³Ï³Ý ÙÇáõÃÛáõÝÝ»ñ) Ï³½Ù»Éáõ Ï³Ù Ïáõë³ÏóáõÃÛáõÝÝ»ñ ëï»ÕÍ»Éáõ Çñ³íáõÝùÇ Çñ³Ï³Ý³óÙ³ÝÁ Ï³Ù ¹ñ³Ýó ·áñÍáÕáõÃÛ³ÝÁ ËáãÁÝ¹áï»ÉÁ | D75: 161 | V75: =E75+G75 -> 0 | W75: =K75+L75+N75 -> 0 | X75: =K75 -> 0 | Y75: =H75+I75+J75 -> 0 | Z75: =R75 -> 0 | AA75: =P75+Q75 -> 0 | AB75: =U75 -> 0 | AC75: =S75+T75 -> 0
B76: 4.25 | C76: ²ÝÓ³Ýó Çñ³íáõÝùÝ»ñÇ Ï³Ù ³ÝÓÇ ¹»Ù áïÝÓ·áÕ ÙÇ³íáñáõÙÝ»ñ Ï³½Ù»ÉÁ Ï³Ù Õ»Ï³í³ñ»ÉÁ | D76: 162 | V76: =E76+G76 -> 0 | W76: =K76+L76+N76 -> 0 | X76: =K76 -> 0 | Y76: =H76+I76+J76 -> 0 | Z76: =R76 -> 0 | AA76: =P76+Q76 -> 0 | AB76: =U76 -> 0 | AC76: =S76+T76 -> 0
B77: 4.26 | C77: Հավաքներ անցկացնելուն կամ դրանց մասնակցելուն խոչընդոտելը | D77: 163 | V77: =E77+G77 -> 0 | W77: =K77+L77+N77 -> 0 | X77: =K77 -> 0 | Y77: =H77+I77+J77 -> 0 | Z77: =R77 -> 0 | AA77: =P77+Q77 -> 0 | AB77: =U77 -> 0 | AC77: =S77+T77 -> 0
B78: 4.27 | C78: Èñ³·ñáÕÇ Ù³ëÝ³·Çï³Ï³Ý ûñÇÝ³Ï³Ý ·áñÍáÕáõÃÛ³ÝÁ ËáãÁÝ¹áï»ÉÁ | D78: 164 | V78: =E78+G78 -> 0 | W78: =K78+L78+N78 -> 0 | X78: =K78 -> 0 | Y78: =H78+I78+J78 -> 0 | Z78: =R78 -> 0 | AA78: =P78+Q78 -> 0 | AB78: =U78 -> 0 | AC78: =S78+T78 -> 0
B79: 4.28 | C79: ²ÛÉ Ñ³Ýó³·áñÍáõÃÛáõÝÝ»ñ | V79: =E79+G79 -> 0 | W79: =K79+L79+N79 -> 0 | X79: =K79 -> 0 | Y79: =H79+I79+J79 -> 0 | Z79: =R79 -> 0 | AA79: =P79+Q79 -> 0 | AB79: =U79 -> 0 | AC79: =S79+T79 -> 0
B80: 5. | C80: ÀÝ¹³Ù»ÝÁ ÁÝï³ÝÇùÇ ¨ »ñ»Ë³ÛÇ ß³Ñ»ñÇ ¹»Ù áõÕÕí³Í Ñ³Ýó³·áñÍáõÃÛáõÝÝ»ñÁ | E80: =SUM(E81:E92) -> 0 | F80: =SUM(F81:F92) -> 0 | G80: =SUM(G81:G92) -> 0 | H80: =SUM(H81:H92) -> 0 | I80: =SUM(I81:I92) -> 0 | J80: =SUM(J81:J92) -> 0 | K80: =SUM(K81:K92) -> 0 | L80: =SUM(L81:L92) -> 0 | ... AC80: =SUM(AC81:AC92) -> 0
B81: 5.1 | C81: ²Ýã³÷³Ñ³ëÇÝ Ñ³Ýó³ÝùÇ Ï³ï³ñÙ³ÝÁ Ý»ñ·ñ³í»ÉÁ | D81: 165 | V81: =E81+G81 -> 0 | W81: =K81+L81+N81 -> 0 | X81: =K81 -> 0 | Y81: =H81+I81+J81 -> 0 | Z81: =R81 -> 0 | AA81: =P81+Q81 -> 0 | AB81: =U81 -> 0 | AC81: =S81+T81 -> 0
B82: 5.2 | C82: ºñ»Ë³ÛÇÝ åáéÝÏáõÃÛ³Ý Ï³Ù åáéÝÏ³·ñ³Ï³Ý µÝáõÛÃÇ ÝÛáõÃ»ñ Ï³Ù ³é³ñÏ³Ý»ñ å³ïñ³ëï»Éáõ Ñ»ï Ï³åí³Í ·áñÍáÕáõÃÛáõÝÝ»ñ Ï³ï³ñ»ÉáõÝ Ý»ñ·ñ³í»ÉÁ | D82: 166 | V82: =E82+G82 -> 0 | W82: =K82+L82+N82 -> 0 | X82: =K82 -> 0 | Y82: =H82+I82+J82 -> 0 | Z82: =R82 -> 0 | AA82: =P82+Q82 -> 0 | AB82: =U82 -> 0 | AC82: =S82+T82 -> 0
B83: 5.3 | C83: ÌÝáÕÝ»ñÇó »ñ»Ë³ÛÇÝ ³åûñÇÝÇ µ³Å³Ý»ÉÁ Ï³Ù »ñ»Ë³ÛÇÝ ÷áË»ÉÁ | D83: 167 | V83: =E83+G83 -> 0 | W83: =K83+L83+N83 -> 0 | X83: =K83 -> 0 | Y83: =H83+I83+J83 -> 0 | Z83: =R83 -> 0 | AA83: =P83+Q83 -> 0 | AB83: =U83 -> 0 | AC83: =S83+T83 -> 0
B84: 5.4 | C84: ÊÝ³ÙùÁ ëï³ÝÓÝ»Éáõ Ýå³ï³Ïáí »ñ»Ë³ÛÇ ³éùÁ Ï³Ù ëï³ÝÓÝáÕÇ ËÝ³ÙùÇÝ Ñ³ÝÓÝ»Éáõ Ýå³ï³Ïáí »ñ»Ë³ÛÇ í³×³éùÁ | D84: 168 | V84: =E84+G84 -> 0 | W84: =K84+L84+N84 -> 0 | X84: =K84 -> 0 | Y84: =H84+I84+J84 -> 0 | Z84: =R84 -> 0 | AA84: =P84+Q84 -> 0 | AB84: =U84 -> 0 | AC84: =S84+T84 -> 0
B85: 5.5 | C85: àñ¹»·ñÙ³Ý ·³ÕïÝÇùÁ Ññ³å³ñ³Ï»ÉÁ Ï³Ù áñ¹»·ñÙ³Ý Ñ³Ù³Ó³ÛÝáõÃÛáõÝ ï³ÉáõÝ Ñ³Ï»ÉÁ Ï³Ù Ñ³ñÏ³¹ñ»ÉÁ | D85: 169 | V85: =E85+G85 -> 0 | W85: =K85+L85+N85 -> 0 | X85: =K85 -> 0 | Y85: =H85+I85+J85 -> 0 | Z85: =R85 -> 0 | AA85: =P85+Q85 -> 0 | AB85: =U85 -> 0 | AC85: =S85+T85 -> 0
B86: 5.6 | C86: ø³Õ³ù³óÇ³Ï³Ý Ï³óáõÃÛ³Ý ³Ïï»ñÇ ·ñ³ÝóÙ³Ý Ù³ñÙÇÝÝ»ñÇÝ ëáõï ï»Õ»ÏáõÃÛáõÝÝ»ñ Ñ³Õáñ¹»ÉÁ | D86: 169.1 | V86: =E86+G86 -> 0 | W86: =K86+L86+N86 -> 0 | X86: =K86 -> 0 | Y86: =H86+I86+J86 -> 0 | Z86: =R86 -> 0 | AA86: =P86+Q86 -> 0 | AB86: =U86 -> 0 | AC86: =S86+T86 -> 0
B87: 5.7 | C87: ºñ»Ë³ÛÇÝ ¹³ëïÇ³ñ³Ï»Éáõ å³ñï³Ï³ÝáõÃÛáõÝÁ ãÏ³ï³ñ»ÉÁ | D87: 170 | V87: =E87+G87 -> 0 | W87: =K87+L87+N87 -> 0 | X87: =K87 -> 0 | Y87: =H87+I87+J87 -> 0 | Z87: =R87 -> 0 | AA87: =P87+Q87 -> 0 | AB87: =U87 -> 0 | AC87: =S87+T87 -> 0
B88: 5.8 | C88: ºñ»Ë³ÛÇ ÏÛ³ÝùÇ ³Ýíï³Ý·áõÃÛ³Ý ³å³ÑáíÙ³Ý Ï³Ù ³éáÕçáõÃÛ³Ý å³Ñå³ÝÙ³Ý å³ñï³Ï³ÝáõÃÛáõÝÁ ãÏ³ï³ñ»ÉÁ Ï³Ù áã å³ïß³× Ï³ï³ñ»ÉÁ | D88: 171 | V88: =E88+G88 -> 0 | W88: =K88+L88+N88 -> 0 | X88: =K88 -> 0 | Y88: =H88+I88+J88 -> 0 | Z88: =R88 -> 0 | AA88: =P88+Q88 -> 0 | AB88: =U88 -> 0 | AC88: =S88+T88 -> 0
B89: 5.9 | C89: ÊÝ³Ù³Ï³ÉÇ Ï³Ù Ñá·³µ³ñÓáõÇ Çñ³íáõÝùÝ»ñÁ ã³ñ³ß³Ñ»ÉÁ | D89: 172 | V89: =E89+G89 -> 0 | W89: =K89+L89+N89 -> 0 | X89: =K89 -> 0 | Y89: =H89+I89+J89 -> 0 | Z89: =R89 -> 0 | AA89: =P89+Q89 -> 0 | AB89: =U89 -> 0 | AC89: =S89+T89 -> 0
A90: 0 | B90: 5.10 | C90: ÌÝáÕÇ ÏáÕÙÇó »ñ»Ë³ÛÇÝ å³Ñ»Éáõó ã³ñ³Ùïáñ»Ý Ëáõë³÷»ÉÁ (áõÅÁ Ïáñóñ³Í) | D90: 173 | V90: =E90+G90 -> 0 | W90: =K90+L90+N90 -> 0 | X90: =K90 -> 0 | Y90: =H90+I90+J90 -> 0 | Z90: =R90 -> 0 | AA90: =P90+Q90 -> 0 | AB90: =U90 -> 0 | AC90: =S90+T90 -> 0
B91: 5.11 | C91: ¼³í³ÏÇ ÏáÕÙÇó ³Ý³ßË³ïáõÝ³Ï ÍÝáÕÇÝ å³Ñ»Éáõó ã³ñ³Ùïáñ»Ý Ëáõë³÷»ÉÁ | D91: 174 | V91: =E91+G91 -> 0 | W91: =K91+L91+N91 -> 0 | X91: =K91 -> 0 | Y91: =H91+I91+J91 -> 0 | Z91: =R91 -> 0 | AA91: =P91+Q91 -> 0 | AB91: =U91 -> 0 | AC91: =S91+T91 -> 0
B92: 5.12 | C92: ²ÛÉ Ñ³Ýó³·áñÍáõÃÛáõÝÝ»ñ | V92: =E92+G92 -> 0 | W92: =K92+L92+N92 -> 0 | X92: =K92 -> 0 | Y92: =H92+I92+J92 -> 0 | Z92: =R92 -> 0 | AA92: =P92+Q92 -> 0 | AB92: =U92 -> 0 | AC92: =S92+T92 -> 0
B93: 6. | C93: ÀÝ¹³Ù»ÝÁ ë»÷³Ï³ÝáõÃÛ³Ý ¹»Ù áõÕÕí³Í Ñ³Ýó³·áñÍáõÃÛáõÝÝ»ñÁ | E93: =SUM(E94:E106) -> 23 | F93: =SUM(F94:F106) -> 2 | G93: =SUM(G94:G106) -> 37 | H93: =SUM(H94:H106) -> 41 | I93: =SUM(I94:I106) -> 1 | J93: =SUM(J94:J106) -> 0 | K93: =SUM(K94:K106) -> 42 | L93: =SUM(L94:L106) -> 0 | ... AC93: =SUM(AC94:AC106) -> 2
B94: 6.1 | C94: ²í³½³ÏáõÃÛáõÝÁ | D94: 175 | E94: 1 | G94: 1 | H94: 2 | K94: 2 | P94: 1 | R94: 1 | V94: =E94+G94 -> 2 | W94: =K94+L94+N94 -> 2 | X94: =K94 -> 2 | Y94: =H94+I94+J94 -> 2 | Z94: =R94 -> 1 | AA94: =P94+Q94 -> 1 | AB94: =U94 -> 0 | AC94: =S94+T94 -> 0
B95: 6.2 | C95: ÎáÕáåáõïÁ | D95: 176 | E95: 3 | H95: 3 | K95: 3 | P95: 3 | R95: 3 | V95: =E95+G95 -> 3 | W95: =K95+L95+N95 -> 3 | X95: =K95 -> 3 | Y95: =H95+I95+J95 -> 3 | Z95: =R95 -> 3 | AA95: =P95+Q95 -> 3 | AB95: =U95 -> 0 | AC95: =S95+T95 -> 0
B96: 6.3 | C96: ¶áÕáõÃÛáõÝÁ | D96: 177 | E96: 7 | F96: 1 | G96: 20 | H96: 18 | K96: 18 | N96: 9 | O96: 1 | P96: 9 | R96: 9 | S96: 1 | U96: 1 | V96: =E96+G96 -> 27 | W96: =K96+L96+N96 -> 27 | X96: =K96 -> 18 | Y96: =H96+I96+J96 -> 18 | Z96: =R96 -> 9 | AA96: =P96+Q96 -> 9 | AB96: =U96 -> 1 | AC96: =S96+T96 -> 1
B97: 6.4 | C97: Ê³ñ¹³ËáõÃÛáõÝÁ | D97: 178 | E97: 8 | F97: 1 | G97: 12 | H97: 12 | K97: 12 | N97: 8 | O97: 1 | P97: 5 | R97: 5 | V97: =E97+G97 -> 20 | W97: =K97+L97+N97 -> 20 | X97: =K97 -> 12 | Y97: =H97+I97+J97 -> 12 | Z97: =R97 -> 5 | AA97: =P97+Q97 -> 5 | AB97: =U97 -> 0 | AC97: =S97+T97 -> 0
B98: 6.5 | C98: Úáõñ³óÝ»ÉÁ Ï³Ù í³ïÝ»ÉÁ | D98: 179 | E98: 2 | G98: 3 | H98: 4 | I98: 1 | K98: 5 | P98: 3 | R98: 3 | S98: 1 | U98: 1 | V98: =E98+G98 -> 5 | W98: =K98+L98+N98 -> 5 | X98: =K98 -> 5 | Y98: =H98+I98+J98 -> 5 | Z98: =R98 -> 3 | AA98: =P98+Q98 -> 3 | AB98: =U98 -> 1 | AC98: =S98+T98 -> 1
B99: 6.6 | C99: ²é³ÝÓÝ³ÏÇ ³ñÅ»ù áõÝ»óáÕ ³é³ñÏ³Ý»ñ Ñ³÷ßï³Ï»ÉÁ | D99: 180 | V99: =E99+G99 -> 0 | W99: =K99+L99+N99 -> 0 | X99: =K99 -> 0 | Y99: =H99+I99+J99 -> 0 | Z99: =R99 -> 0 | AA99: =P99+Q99 -> 0 | AB99: =U99 -> 0 | AC99: =S99+T99 -> 0
B100: 6.7 | C100: Ð³÷ßï³ÏáõÃÛáõÝÁ, áñÁ Ï³ï³ñí»É ¿ Ñ³Ù³Ï³ñ·ã³ÛÇÝ ï»ËÝÇÏ³ÛÇ û·ï³·áñÍÙ³Ùµ | D100: 181 | V100: =E100+G100 -> 0 | W100: =K100+L100+N100 -> 0 | X100: =K100 -> 0 | Y100: =H100+I100+J100 -> 0 | Z100: =R100 -> 0 | AA100: =P100+Q100 -> 0 | AB100: =U100 -> 0 | AC100: =S100+T100 -> 0
...

Sheet Erebuni
B1: 2015Ã. | E1: Ð²ÞìºîìàôÂÚàôÜ | R1: Ð³í»Éí³Í Ð³Û³ëï³ÝÇ Ð³Ýñ³å»ïáõÃÛ³Ý ¸³ï³ñ³ÝÝ»ñÇ Ý³Ë³·³ÑÝ»ñÇ ËáñÑñ¹Ç 01.02.2016Ã. ÃÇí 11È áñáßÙ³Ý
B2: ºðºì²Ü ø²Ô²øÆ ¾ðº´àôÜÆ ºì Üàô´²ð²ÞºÜ ì²ðâ²Î²Ü Þðæ²ÜÜºðÆ ÀÜ¸Ð²Üàôð Æð²ì²êàôÂÚ²Ü ²è²æÆÜ ²îÚ²ÜÆ ¸²î²ð²ÜàôØ ՔՐԵԱԿԱՆ ¶àðÌºðÆ øÜÜàôÂÚ²Ü ìºð²´ºðÚ²È
B3: ºñ¨³Ý ù³Õ³ùÇ ¾ñ»µáõÝÇ ¨ Üáõµ³ñ³ß»Ý í³ñã³Ï³Ý ßñç³ÝÝ»ñÇ ÁÝ¹Ñ³Ýáõñ Çñ³í³ëáõÃÛ³Ý ³é³çÇÝ ³ïÛ³ÝÇ ¹³ï³ñ³ÝáõÙ ùñ»³Ï³Ý Ù³ëÝ³·Çï³óáõÙ áõÝ»óáÕ ¹³ï³íáñÝ»ñÇ Ñ³ëïÇùÝ»ñÇ ù³Ý³ÏÁ` 4
B4: êïáõ·Çã Ñ³í³ë³ñáõÙÝ»ñ` 1+3=7+8+10, 7=4+5+6, 14=12+13, 17=15+16 | D4: ÐÐ ùñ»³Ï³Ý ûñ»Ýë·ñùÇ Ñá¹í³ÍÝ»ñ | E4: Ð³ßí»ïáõ Å³Ù³Ý³Ï³Ñ³ïí³ÍÇ ëÏ½µáõÙ Ý³Ëáñ¹ Ñ³ßí»ïáõ Å³Ù³Ý³Ï³Ñ³ïí³ÍÇó ÷áË³Ýóí³Í ·áñÍ»ñÇ ÁÝ¹Ñ³Ýáõñ ÃÇíÁ | F4: ²Û¹ ÃíáõÙ` Ï³ë»óí³Í íÇ×³ÏáõÙ ÷áË³Ýóí³Í | G4: Ð³ßí»ïáõ Å³Ù³Ý³Ï³Ñ³ïí³ÍáõÙ ëï³óí³Í ·áñÍ»ñÇ ÁÝ¹Ñ³Ýáõñ ÃÇíÁ | H4: Ð³ßí»ïáõ Å³Ù³Ý³Ï³Ñ³ïí³ÍáõÙ ³í³ñïí³Í ·áñÍ»ñի ընդհանուր թիվը | L4: àõÕ³ñÏí»É ¿ Áëï ÁÝ¹¹³ïáõÃÛ³Ý | M4: Ð³ßí»ïáõ Å³Ù³Ý³Ï³Ñ³ïí³ÍáõÙ Ï³ë»óí³Í í³ñáõÛÃÝ»ñáí ·áñÍ»ñÇ ÁÝ¹Ñ³Ýáõñ ÃÇíÁ | N4: Ð³ßí»ïáõ Å³Ù³Ý³Ï³Ñ³ïí³ÍáõÙ ³Ý³í³ñï ·áñÍ»ñÇ ÁÝ¹Ñ³Ýáõñ ÃÇíÁ | O4: ²Û¹ ÃíáõÙª Ï³ë»óí³Í | P4: ´áÕáù³ñÏí³Í ¹³ï³Ï³Ý ³Ïï»ñÇ ÃÇíÁ` Áëï ï»ë³ÏÝ»ñÇ | S4: ´»Ï³Ýí³Í ¹³ï³Ï³Ý ³Ïï»ñÇ ÃÇíÁ` Áëï ï»ë³ÏÝ»ñÇ
H5: øÝÝí»É ¿ Áëï ¿áõÃÛ³Ý ¨ ¹³ï³í×Çé Ï³Û³óí»É | J5: ՈñáßáõÙ ¿ Ï³Û³óí»É ³ÝÙ»ÕëáõÝ³ÏÝ»ñÇ ÝÏ³ïÙ³Ùµ µÅßÏ³Ï³Ý µÝáõÛÃÇ Ñ³ñÏ³¹ñ³Ï³Ý ÙÇçáóÝ»ñ ÏÇñ³é»Éáõ Ù³ëÇÝ | K5: ÀÝ¹³Ù»ÝÁ ³í³ñïí»É »Ý ·áñÍ»ñ
I6: ՈñáßáõÙ ¿ Ï³Û³óí»É ùñ»³Ï³Ý ·áñÍÇ í³ñáõÛÃÁ Ï³ñ×»Éáõ ¨ ùñ»³Ï³Ý Ñ»ï³åÝ¹áõÙÁ ¹³¹³ñ»óÝ»Éáõ Ù³ëÇÝ | P6: ²Û¹ ÃíáõÙ` ·áñÍÝ Áëï ¿áõÃÛ³Ý ÉáõÍáÕ ¹³ï³Ï³Ý ³Ïï»ñÁ | Q6: ²Û¹ ÃíáõÙ` ÙÇç³ÝÏÛ³É ¹³ï³Ï³Ý ³Ïï»ñÁ | R6: ÀÝ¹³Ù»ÝÁ | S6: ²Û¹ ÃíáõÙ` ·áñÍÝ Áëï ¿áõÃÛ³Ý ÉáõÍáÕ ¹³ï³Ï³Ý ³Ïï»ñÁ | T6: ²Û¹ ÃíáõÙ` ÙÇç³ÝÏÛ³É ¹³ï³Ï³Ý ³Ïï»ñÁ | U6: ÀÝ¹³Ù»ÝÁ
E7: 1 | F7: 2 | G7: 3 | H7: 4 | I7: 5 | J7: 6 | K7: 7 | L7: 8 | M7: 9 | N7: 10 | O7: 11 | P7: 12 | Q7: 13 | R7: 14 | S7: 15 | T7: 16 | U7: 17 | V7: 1+3=7+8+10 | X7: 7=4+5+6 | Z7: 14=12+13 | AB7: 17=15+16
A8: 1 | B8: 1. | C8: ÀÝ¹³Ù»ÝÁ ÏÛ³ÝùÇ ¨ ³éáÕçáõÃÛ³Ý ¹»Ù áõÕÕí³Í Ñ³Ýó³·áñÍáõÃÛáõÝÝ»ñÁ | E8: =SUM(E9:E35) -> 5 | F8: =SUM(F9:F35) -> 0 | G8: =SUM(G9:G35) -> 19 | H8: =SUM(H9:H35) -> 11 | I8: =SUM(I9:I35) -> 2 | J8: =SUM(J9:J35) -> 0 | K8: =SUM(K9:K35) -> 13 | L8: =SUM(L9:L35) -> 1 | ... AC8: =SUM(AC9:AC35) -> 0
A9: 0 | B9: 1.1 | C9: êå³ÝáõÃÛáõÝÁ | D9: 104 | E9: 1 | G9: 4 | H9: 2 | I9: 1 | K9: 3 | N9: 2 | P9: 2 | R9: 2 | V9: =E9+G9 -> 5 | W9: =K9+L9+N9 -> 5 | X9: =K9 -> 3 | Y9: =H9+I9+J9 -> 3 | Z9: =R9 -> 2 | AA9: =P9+Q9 -> 2 | AB9: =U9 -> 0 | AC9: =S9+T9 -> 0
A10: 0 | B10: 1.2 | C10: Ðá·»Ï³Ý ËÇëï Ñáõ½ÙáõÝùÇ íÇ×³ÏáõÙ Ï³ï³ñí³Í ëå³ÝáõÃÛáõÝÁ | D10: 105 | V10: =E10+G10 -> 0 | W10: =K10+L10+N10 -> 0 | X10: =K10 -> 0 | Y10: =H10+I10+J10 -> 0 | Z10: =R10 -> 0 | AA10: =P10+Q10 -> 0 | AB10: =U10 -> 0 | AC10: =S10+T10 -> 0
A11: 0 | B11: 1.3 | C11: Øáñ ÏáÕÙÇó Ýáñ³ÍÇÝ »ñ»Ë³ÛÇ ëå³ÝáõÃÛáõÝÁ | D11: 106 | V11: =E11+G11 -> 0 | W11: =K11+L11+N11 -> 0 | X11: =K11 -> 0 | Y11: =H11+I11+J11 -> 0 | Z11: =R11 -> 0 | AA11: =P11+Q11 -> 0 | AB11: =U11 -> 0 | AC11: =S11+T11 -> 0
A12: 0 | B12: 1.4 | C12: Ð³Ýó³Ýù Ï³ï³ñ³Í ³ÝÓÇÝ µéÝ»Éáõ Ñ³Ù³ñ ³ÝÑñ³Å»ßï ÙÇçáóÝ»ñÇ ë³ÑÙ³Ý³½³ÝóÙ³Ùµ ëå³ÝáõÃÛáõÝÁ | D12: 107 | V12: =E12+G12 -> 0 | W12: =K12+L12+N12 -> 0 | X12: =K12 -> 0 | Y12: =H12+I12+J12 -> 0 | Z12: =R12 -> 0 | AA12: =P12+Q12 -> 0 | AB12: =U12 -> 0 | AC12: =S12+T12 -> 0
A13: 0 | B13: 1.5 | C13: ²ÝÑñ³Å»ßï å³ßïå³ÝáõÃÛ³Ý ë³ÑÙ³Ý³½³ÝóÙ³Ùµ ëå³ÝáõÃÛáõÝÁ | D13: 108 | V13: =E13+G13 -> 0 | W13: =K13+L13+N13 -> 0 | X13: =K13 -> 0 | Y13: =H13+I13+J13 -> 0 | Z13: =R13 -> 0 | AA13: =P13+Q13 -> 0 | AB13: =U13 -> 0 | AC13: =S13+T13 -> 0
A14: 0 | B14: 1.6 | C14: ²Ý½·áõßáõÃÛ³Ùµ Ù³Ñ å³ï×³é»ÉÁ | D14: 109 | V14: =E14+G14 -> 0 | W14: =K14+L14+N14 -> 0 | X14: =K14 -> 0 | Y14: =H14+I14+J14 -> 0 | Z14: =R14 -> 0 | AA14: =P14+Q14 -> 0 | AB14: =U14 -> 0 | AC14: =S14+T14 -> 0
A15: 0 | B15: 1.7 | C15: ÆÝùÝ³ëå³ÝáõÃÛ³Ý Ñ³ëóÝ»ÉÁ | D15: 110 | V15: =E15+G15 -> 0 | W15: =K15+L15+N15 -> 0 | X15: =K15 -> 0 | Y15: =H15+I15+J15 -> 0 | Z15: =R15 -> 0 | AA15: =P15+Q15 -> 0 | AB15: =U15 -> 0 | AC15: =S15+T15 -> 0
A16: 0 | B16: 1.8 | C16: ÆÝùÝ³ëå³ÝáõÃÛ³Ý Ñ³Ï»ÉÁ | D16: 111 | V16: =E16+G16 -> 0 | W16: =K16+L16+N16 -> 0 | X16: =K16 -> 0 | Y16: =H16+I16+J16 -> 0 | Z16: =R16 -> 0 | AA16: =P16+Q16 -> 0 | AB16: =U16 -> 0 | AC16: =S16+T16 -> 0
A17: 0 | B17: 1.9 | C17: ¸Çï³íáñáõÃÛ³Ùµ ³éáÕçáõÃÛ³ÝÁ Í³Ýñ íÝ³ë å³ï×³é»ÉÁ | D17: 112 | E17: 1 | G17: 12 | H17: 6 | K17: 6 | L17: 1 | N17: 6 | P17: 3 | R17: 3 | V17: =E17+G17 -> 13 | W17: =K17+L17+N17 -> 13 | X17: =K17 -> 6 | Y17: =H17+I17+J17 -> 6 | Z17: =R17 -> 3 | AA17: =P17+Q17 -> 3 | AB17: =U17 -> 0 | AC17: =S17+T17 -> 0
A18: 0 | B18: 1.10 | C18: ¸Çï³íáñáõÃÛ³Ùµ ³éáÕçáõÃÛ³ÝÁ ÙÇçÇÝ Í³ÝñáõÃÛ³Ý íÝ³ë å³ï×³é»ÉÁ | D18: 113 | G18: 2 | H18: 1 | K18: 1 | N18: 1 | V18: =E18+G18 -> 2 | W18: =K18+L18+N18 -> 2 | X18: =K18 -> 1 | Y18: =H18+I18+J18 -> 1 | Z18: =R18 -> 0 | AA18: =P18+Q18 -> 0 | AB18: =U18 -> 0 | AC18: =S18+T18 -> 0
A19: 0 | B19: 1.11 | C19: Ðá·»Ï³Ý ËÇëï Ñáõ½ÙáõÝùÇ íÇ×³ÏáõÙ ³éáÕçáõÃÛ³ÝÁ Í³Ýñ Ï³Ù ÙÇçÇÝ Í³ÝñáõÃÛ³Ý íÝ³ë å³ï×³é»ÉÁ | D19: 114 | V19: =E19+G19 -> 0 | W19: =K19+L19+N19 -> 0 | X19: =K19 -> 0 | Y19: =H19+I19+J19 -> 0 | Z19: =R19 -> 0 | AA19: =P19+Q19 -> 0 | AB19: =U19 -> 0 | AC19: =S19+T19 -> 0
A20: 0 | B20: 1.12 | C20: Ð³Ýó³Ýù Ï³ï³ñ³Í ³ÝÓÇÝ µéÝ»Éáõ Ñ³Ù³ñ ³ÝÑñ³Å»ßï ÙÇçáóÝ»ñÇ ë³ÑÙ³Ý½³ÝóÙ³Ùµ ³éáÕçáõÃÛ³ÝÁ Í³Ýñ Ï³Ù ÙÇçÇÝ Í³ÝñáõÃÛ³Ý íÝ³ë å³ï×³é»ÉÁ | D20: 115 | V20: =E20+G20 -> 0 | W20: =K20+L20+N20 -> 0 | X20: =K20 -> 0 | Y20: =H20+I20+J20 -> 0 | Z20: =R20 -> 0 | AA20: =P20+Q20 -> 0 | AB20: =U20 -> 0 | AC20: =S20+T20 -> 0
A21: 0 | B21: 1.13 | C21: ²éáÕçáõÃÛ³ÝÁ Í³Ýñ Ï³Ù ÙÇçÇÝ Í³ÝñáõÃÛ³Ý íÝ³ë å³ï×³é»ÉÁ ³ÝÑñ³Å»ßï å³ßïå³ÝáõÃÛ³Ý ë³ÑÙ³Ý³Ý³½³ÝóÙ³Ùµ | D21: 116 | V21: =E21+G21 -> 0 | W21: =K21+L21+N21 -> 0 | X21: =K21 -> 0 | Y21: =H21+I21+J21 -> 0 | Z21: =R21 -> 0 | AA21: =P21+Q21 -> 0 | AB21: =U21 -> 0 | AC21: =S21+T21 -> 0
A22: 0 | B22: 1.14 | C22: ¸Çï³íáñáõÃÛ³Ùµ ³éáÕçáõÃÛ³ÝÁ Ã»Ã¨ íÝ³ë å³ï×³é»ÉÁ | D22: 117 | E22: 2 | H22: 1 | I22: 1 | K22: 2 | V22: =E22+G22 -> 2 | W22: =K22+L22+N22 -> 2 | X22: =K22 -> 2 | Y22: =H22+I22+J22 -> 2 | Z22: =R22 -> 0 | AA22: =P22+Q22 -> 0 | AB22: =U22 -> 0 | AC22: =S22+T22 -> 0
A23: 0 | B23: 1.15 | C23: Ì»ÍÁ | D23: 118 | E23: 1 | G23: 1 | H23: 1 | K23: 1 | N23: 1 | V23: =E23+G23 -> 2 | W23: =K23+L23+N23 -> 2 | X23: =K23 -> 1 | Y23: =H23+I23+J23 -> 1 | Z23: =R23 -> 0 | AA23: =P23+Q23 -> 0 | AB23: =U23 -> 0 | AC23: =S23+T23 -> 0
A24: 0 | B24: 1.16 | C24: Êáßï³Ý·áõÙÁ | D24: 119 | V24: =E24+G24 -> 0 | W24: =K24+L24+N24 -> 0 | X24: =K24 -> 0 | Y24: =H24+I24+J24 -> 0 | Z24: =R24 -> 0 | AA24: =P24+Q24 -> 0 | AB24: =U24 -> 0 | AC24: =S24+T24 -> 0
A25: 0 | B25: 1.17 | C25: ²Ý½·áõßáõÃÛ³Ùµ ³éáÕçáõÃÛ³ÝÁ Í³Ýñ íÝ³ë å³ï×³é»ÉÁ | D25: 120 | V25: =E25+G25 -> 0 | W25: =K25+L25+N25 -> 0 | X25: =K25 -> 0 | Y25: =H25+I25+J25 -> 0 | Z25: =R25 -> 0 | AA25: =P25+Q25 -> 0 | AB25: =U25 -> 0 | AC25: =S25+T25 -> 0
A26: 0 | B26: 1.18 | C26: ²Ý½·áõßáõÃÛ³Ùµ ³éáÕçáõÃÛ³ÝÁ ÙÇçÇÝ Í³ÝñáõÃÛ³Ý íÝ³ë å³ï×³é»ÉÁ | D26: 121 | V26: =E26+G26 -> 0 | W26: =K26+L26+N26 -> 0 | X26: =K26 -> 0 | Y26: =H26+I26+J26 -> 0 | Z26: =R26 -> 0 | AA26: =P26+Q26 -> 0 | AB26: =U26 -> 0 | AC26: =S26+T26 -> 0
A27: 0 | B27: 1.19 | C27: ²åûñÇÝÇ ³µáñï Ï³ï³ñ»ÉÁ | D27: 122 | V27: =E27+G27 -> 0 | W27: =K27+L27+N27 -> 0 | X27: =K27 -> 0 | Y27: =H27+I27+J27 -> 0 | Z27: =R27 -> 0 | AA27: =P27+Q27 -> 0 | AB27: =U27 -> 0 | AC27: =S27+T27 -> 0
A28: 0 | B28: 1.20 | C28: Ø³ñ¹áõ ÇÙáõÝ³ÛÇÝ ³Ýµ³í³ñ³ñáõÃÛ³Ý íÇñáõëÇ Ñ³ñáõóÇãáí í³ñ³Ï»ÉÁ | D28: 123 | V28: =E28+G28 -> 0 | W28: =K28+L28+N28 -> 0 | X28: =K28 -> 0 | Y28: =H28+I28+J28 -> 0 | Z28: =R28 -> 0 | AA28: =P28+Q28 -> 0 | AB28: =U28 -> 0 | AC28: =S28+T28 -> 0
A29: 0 | B29: 1.21 | C29: ì»Ý»ñ³Ï³Ý ÑÇí³Ý¹áõÃÛ³Ùµ Ï³Ù ³ÛÉ ë»é³í³ñ³ÏÝ»ñáí í³ñ³Ï»ÉÁ | D29: 124 | V29: =E29+G29 -> 0 | W29: =K29+L29+N29 -> 0 | X29: =K29 -> 0 | Y29: =H29+I29+J29 -> 0 | Z29: =R29 -> 0 | AA29: =P29+Q29 -> 0 | AB29: =U29 -> 0 | AC29: =S29+T29 -> 0
A30: 0 | B30: 1.22 | C30: öáËå³ïí³ëïÙ³Ý íÇñ³Ñ³ïáõÃÛáõÝ Ï³ï³ñ»Éáõ Ï³ÝáÝÝ»ñÁ Ë³Ëï»ÉÁ | D30: 125 | V30: =E30+G30 -> 0 | W30: =K30+L30+N30 -> 0 | X30: =K30 -> 0 | Y30: =H30+I30+J30 -> 0 | Z30: =R30 -> 0 | AA30: =P30+Q30 -> 0 | AB30: =U30 -> 0 | AC30: =S30+T30 -> 0
A31: 0 | B31: 1.24 | C31: ²ÝÓÇÝ ³é³Ýó Çñ Ñ³ÝÓÝ³ñ³ñáõÃÛ³Ý µÅßÏ³Ï³Ý Ï³Ù ·Çï³Ï³Ý ÷áñÓ»ñÇ »ÝÃ³ñÏ»ÉÁ | D31: 127 | V31: =E31+G31 -> 0 | W31: =K31+L31+N31 -> 0 | X31: =K31 -> 0 | Y31: =H31+I31+J31 -> 0 | Z31: =R31 -> 0 | AA31: =P31+Q31 -> 0 | AB31: =U31 -> 0 | AC31: =S31+T31 -> 0
A32: 0 | B32: 1.25 | C32: ìï³Ý·Ç Ù»ç ÃáÕÝ»ÉÁ | D32: 128 | V32: =E32+G32 -> 0 | W32: =K32+L32+N32 -> 0 | X32: =K32 -> 0 | Y32: =H32+I32+J32 -> 0 | Z32: =R32 -> 0 | AA32: =P32+Q32 -> 0 | AB32: =U32 -> 0 | AC32: =S32+T32 -> 0
A33: 0 | B33: 1.26 | C33: ÐÇí³Ý¹ÇÝ û·ÝáõÃÛáõÝ óáõÛó ãï³ÉÁ | D33: 129 | V33: =E33+G33 -> 0 | W33: =K33+L33+N33 -> 0 | X33: =K33 -> 0 | Y33: =H33+I33+J33 -> 0 | Z33: =R33 -> 0 | AA33: =P33+Q33 -> 0 | AB33: =U33 -> 0 | AC33: =S33+T33 -> 0
A34: 0 | B34: 1.27 | C34: ´ÅßÏ³Ï³Ý û·ÝáõÃÛáõÝ ¨ ëå³ë³ñÏáõÙ Çñ³Ï³Ý³óÝáÕÝ»ñÇ ÏáÕÙÇó Ù³ëÝ³·Çï³Ï³Ý å³ñï³Ï³ÝáõÃÛáõÝÝ»ñÁ ãÏ³ï³ñ»ÉÁ Ï³Ù áã å³ïß³× Ï³ï³ñ»ÉÁ | D34: 130 | V34: =E34+G34 -> 0 | W34: =K34+L34+N34 -> 0 | X34: =K34 -> 0 | Y34: =H34+I34+J34 -> 0 | Z34: =R34 -> 0 | AA34: =P34+Q34 -> 0 | AB34: =U34 -> 0 | AC34: =S34+T34 -> 0
A35: 1 | B35: 1.28 | C35: ²ÛÉ Ñ³Ýó³·áñÍáõÃÛáõÝÝ»ñ | V35: =E35+G35 -> 0 | W35: =K35+L35+N35 -> 0 | X35: =K35 -> 0 | Y35: =H35+I35+J35 -> 0 | Z35: =R35 -> 0 | AA35: =P35+Q35 -> 0 | AB35: =U35 -> 0 | AC35: =S35+T35 -> 0
A36: 0 | B36: 2. | C36: ÀÝ¹³Ù»ÝÁ ³ÝÓÇ ³½³ïáõÃÛ³Ý, å³ïíÇ ¨ ³ñÅ³Ý³å³ïíáõÃÛ³Ý ¹»Ù áõÕÕí³Í Ñ³Ýó³·áñÍáõÃÛáõÝÝ»ñÁ | E36: =SUM(E37:E43) -> 3 | F36: =SUM(F37:F43) -> 0 | G36: =SUM(G37:G43) -> 3 | H36: =SUM(H37:H43) -> 3 | I36: =SUM(I37:I43) -> 0 | J36: =SUM(J37:J43) -> 2 | K36: =SUM(K37:K43) -> 5 | L36: =SUM(L37:L43) -> 0 | ... AC36: =SUM(AC37:AC43) -> 0
A37: 0 | B37: 2.1 | C37: Ø³ñ¹áõÝ ³é¨³Ý·»ÉÁ | D37: 131 | E37: 1 | G37: 2 | H37: 2 | K37: 2 | N37: 1 | V37: =E37+G37 -> 3 | W37: =K37+L37+N37 -> 3 | X37: =K37 -> 2 | Y37: =H37+I37+J37 -> 2 | Z37: =R37 -> 0 | AA37: =P37+Q37 -> 0 | AB37: =U37 -> 0 | AC37: =S37+T37 -> 0
B38: 2.2 | C38: Մարդու թրաֆիքինգը կամ շահագործումը | D38: 132 | E38: 1 | G38: 1 | J38: 2 | K38: 2 | V38: =E38+G38 -> 2 | W38: =K38+L38+N38 -> 2 | X38: =K38 -> 2 | Y38: =H38+I38+J38 -> 2 | Z38: =R38 -> 0 | AA38: =P38+Q38 -> 0 | AB38: =U38 -> 0 | AC38: =S38+T38 -> 0
B39: 2.2.1 | C39: Ø³ñ¹áõÝ åáéÝÇÏáõÃÛ³Ý Ï³Ù ë»é³Ï³Ý ß³Ñ³·áñÍÙ³Ý ³ÛÉ Ó¨»ñÇ Ù»ç, Ñ³ñÏ³¹Çñ ³ßË³ï³ÝùÇ Ï³Ù Í³é³ÛáõÃÛáõÝÝ»ñÇ Ý»ñ·ñ³í»ÉÁ Ï³Ù ëïñÏáõÃÛ³Ý Ï³Ù ëïñÏáõÃÛ³ÝÁ ÝÙ³ÝíáÕ íÇ×³ÏÇ Ù»ç ¹Ý»ÉÁ Ï³Ù å³Ñ»ÉÁ | D39: 132.1 | V39: =E39+G39 -> 0 | W39: =K39+L39+N39 -> 0 | X39: =K39 -> 0 | Y39: =H39+I39+J39 -> 0 | Z39: =R39 -> 0 | AA39: =P39+Q39 -> 0 | AB39: =U39 -> 0 | AC39: =S39+T39 -> 0
B40: 2.3 | C40: ²½³ïáõÃÛáõÝÇó ³åûñÇÝÇ ½ñÏ»ÉÁ | D40: 133 | V40: =E40+G40 -> 0 | W40: =K40+L40+N40 -> 0 | X40: =K40 -> 0 | Y40: =H40+I40+J40 -> 0 | Z40: =R40 -> 0 | AA40: =P40+Q40 -> 0 | AB40: =U40 -> 0 | AC40: =S40+T40 -> 0
B41: 2.4 | C41: Ðá·»µáõÅ³Ï³Ý ÑÇí³Ý¹³ÝáóáõÙ ³åûñÇÝÇ ï»Õ³íáñ»ÉÁ Ï³Ù å³Ñ»ÉÁ | D41: 134 | V41: =E41+G41 -> 0 | W41: =K41+L41+N41 -> 0 | X41: =K41 -> 0 | Y41: =H41+I41+J41 -> 0 | Z41: =R41 -> 0 | AA41: =P41+Q41 -> 0 | AB41: =U41 -> 0 | AC41: =S41+T41 -> 0
B42: 2.7 | C42: êå³ÝáõÃÛ³Ý, ³éáÕçáõÃÛ³ÝÁ Í³Ýñ íÝ³ë å³ï×³é»Éáõ Ï³Ù ·áõÛù áãÝã³óÝ»Éáõ ëå³éÝ³ÉÇùÁ | D42: 137 | E42: 1 | H42: 1 | K42: 1 | V42: =E42+G42 -> 1 | W42: =K42+L42+N42 -> 1 | X42: =K42 -> 1 | Y42: =H42+I42+J42 -> 1 | Z42: =R42 -> 0 | AA42: =P42+Q42 -> 0 | AB42: =U42 -> 0 | AC42: =S42+T42 -> 0
A43: 0 | B43: 2.8 | C43: ²ÛÉ Ñ³Ýó³·áñÍáõÃÛáõÝÝ»ñ | V43: =E43+G43 -> 0 | W43: =K43+L43+N43 -> 0 | X43: =K43 -> 0 | Y43: =H43+I43+J43 -> 0 | Z43: =R43 -> 0 | AA43: =P43+Q43 -> 0 | AB43: =U43 -> 0 | AC43: =S43+T43 -> 0
A44: 0 | B44: 3. | C44: ÀÝ¹³Ù»ÝÁ ë»é³Ï³Ý ³ÝÓ»éÝÙË»ÉÇáõÃÛ³Ý ¨ ë»é³Ï³Ý ³½³ïáõÃÛ³Ý ¹»Ù áõÕÕí³Í Ñ³Ýó³·áñÍáõÃÛáõÝÝ»ñÁ | E44: =SUM(E45:E50) -> 3 | F44: =SUM(F45:F50) -> 0 | G44: =SUM(G45:G50) -> 3 | H44: =SUM(H45:H50) -> 4 | I44: =SUM(I45:I50) -> 0 | J44: =SUM(J45:J50) -> 0 | K44: =SUM(K45:K50) -> 4 | L44: =SUM(L45:L50) -> 0 | ... AC44: =SUM(AC45:AC50) -> 0
A45: 0 | B45: 3.1 | C45: ´éÝ³µ³ñáõÃÛáõÝÁ | D45: 138 | G45: 1 | N45: 1 | V45: =E45+G45 -> 1 | W45: =K45+L45+N45 -> 1 | X45: =K45 -> 0 | Y45: =H45+I45+J45 -> 0 | Z45: =R45 -> 0 | AA45: =P45+Q45 -> 0 | AB45: =U45 -> 0 | AC45: =S45+T45 -> 0
B46: 3.2 | C46: ê»ùëáõ³É µÝáõÛÃÇ µéÝÇ ·áñÍáÕáõÃÛáõÝÝ»ñÁ | D46: 139 | V46: =E46+G46 -> 0 | W46: =K46+L46+N46 -> 0 | X46: =K46 -> 0 | Y46: =H46+I46+J46 -> 0 | Z46: =R46 -> 0 | AA46: =P46+Q46 -> 0 | AB46: =U46 -> 0 | AC46: =S46+T46 -> 0
B47: 3.3 | C47: Սեռական հարաբերության կամ սեքսուալ բնույթի գործողություններին հարկադրելը | D47: 140 | V47: =E47+G47 -> 0 | W47: =K47+L47+N47 -> 0 | X47: =K47 -> 0 | Y47: =H47+I47+J47 -> 0 | Z47: =R47 -> 0 | AA47: =P47+Q47 -> 0 | AB47: =U47 -> 0 | AC47: =S47+T47 -> 0
B48: 3.4 | C48: ê»é³Ï³Ý Ñ³ñ³µ»ñáõÃÛáõÝÁ ï³ëÝí»ó ï³ñÇÝ ãÉñ³ó³Í ³ÝÓÇ Ñ»ï Ï³Ù ë»ùëáõ³É µÝáõÛÃÇ ·áñÍáÕáõÃÛáõÝÝ»ñ Ï³ï³ñ»ÉÁ ï³ëÝí»ó ï³ñÇÝ ãÉñ³ó³Í ³ÝÓÇ ÝÏ³ïÙ³Ùµ | D48: 141 | E48: 3 | G48: 2 | H48: 4 | K48: 4 | N48: 1 | V48: =E48+G48 -> 5 | W48: =K48+L48+N48 -> 5 | X48: =K48 -> 4 | Y48: =H48+I48+J48 -> 4 | Z48: =R48 -> 0 | AA48: =P48+Q48 -> 0 | AB48: =U48 -> 0 | AC48: =S48+T48 -> 0
B49: 3.5 | C49: ²Ý³é³Ï³µ³ñá ·áñÍáÕáõÃÛáõÝÝ»ñÁ | D49: 142 | V49: =E49+G49 -> 0 | W49: =K49+L49+N49 -> 0 | X49: =K49 -> 0 | Y49: =H49+I49+J49 -> 0 | Z49: =R49 -> 0 | AA49: =P49+Q49 -> 0 | AB49: =U49 -> 0 | AC49: =S49+T49 -> 0
B50: 3.6 | C50: ²ÛÉ Ñ³Ýó³·áñÍáõÃÛáõÝÝ»ñ | V50: =E50+G50 -> 0 | W50: =K50+L50+N50 -> 0 | X50: =K50 -> 0 | Y50: =H50+I50+J50 -> 0 | Z50: =R50 -> 0 | AA50: =P50+Q50 -> 0 | AB50: =U50 -> 0 | AC50: =S50+T50 -> 0
B51: 4. | C51: ÀÝ¹³Ù»ÝÁ Ù³ñ¹áõ ¨ ù³Õ³ù³óáõ ë³ÑÙ³Ý³¹ñ³Ï³Ý Çñ³íáõÝùÝ»ñÇ ¨ ³½³ïáõÃÛáõÝÝ»ñÇ ¹»Ù áõÕÕí³Í Ñ³Ýó³·áñÍáõÃÛáõÝÝ»ñÁ | E51: =SUM(E52:E79) -> 0 | F51: =SUM(F52:F79) -> 0 | G51: =SUM(G52:G79) -> 1 | H51: =SUM(H52:H79) -> 1 | I51: =SUM(I52:I79) -> 0 | J51: =SUM(J52:J79) -> 0 | K51: =SUM(K52:K79) -> 1 | L51: =SUM(L52:L79) -> 0 | ... AC51: =SUM(AC52:AC79) -> 0
B52: 4.1 | C52: Ø³ñ¹áõ ¨ ù³Õ³ù³óáõ Çñ³í³Ñ³í³ë³ñáõÃÛáõÝÁ Ë³Ëï»ÉÁ | D52: 143 | V52: =E52+G52 -> 0 | W52: =K52+L52+N52 -> 0 | X52: =K52 -> 0 | Y52: =H52+I52+J52 -> 0 | Z52: =R52 -> 0 | AA52: =P52+Q52 -> 0 | AB52: =U52 -> 0 | AC52: =S52+T52 -> 0
B53: 4.2 | C53: ²ÝÓÝ³Ï³Ý Ï³Ù ÁÝï³Ý»Ï³Ý ÏÛ³ÝùÇ Ù³ëÇÝ ï»Õ»ÏáõÃÛáõÝÝ»ñ ³åûñÇÝÇ Ñ³í³ù»ÉÁ, å³Ñ»ÉÁ, û·ï³·áñÍ»ÉÁ Ï³Ù ï³ñ³Í»ÉÁ | D53: 144 | V53: =E53+G53 -> 0 | W53: =K53+L53+N53 -> 0 | X53: =K53 -> 0 | Y53: =H53+I53+J53 -> 0 | Z53: =R53 -> 0 | AA53: =P53+Q53 -> 0 | AB53: =U53 -> 0 | AC53: =S53+T53 -> 0
B54: 4.3 | C54: ´ÅßÏ³Ï³Ý ·³ÕïÝÇùÁ Ññ³å³ñ³Ï»ÉÁ | D54: 145 | V54: =E54+G54 -> 0 | W54: =K54+L54+N54 -> 0 | X54: =K54 -> 0 | Y54: =H54+I54+J54 -> 0 | Z54: =R54 -> 0 | AA54: =P54+Q54 -> 0 | AB54: =U54 -> 0 | AC54: =S54+T54 -> 0
B55: 4.4 | C55: Ü³Ù³Ï³·ñáõÃÛ³Ý, Ñ»é³Ëáë³ÛÇÝ Ëáë³ÏóáõÃÛáõÝÝ»ñÇ, ÷áëï³ÛÇÝ, Ñ»é³·ñ³Ï³Ý Ï³Ù ³ÛÉ Ñ³Õáñ¹áõÙÝ»ñÇ ·³ÕïÝÇáõÃÛáõÝÁ Ë³Ëï»ÉÁ | D55: 146 | V55: =E55+G55 -> 0 | W55: =K55+L55+N55 -> 0 | X55: =K55 -> 0 | Y55: =H55+I55+J55 -> 0 | Z55: =R55 -> 0 | AA55: =P55+Q55 -> 0 | AB55: =U55 -> 0 | AC55: =S55+T55 -> 0
B56: 4.5 | C56: ´Ý³Ï³ñ³ÝÇ ³ÝÓ»éÝÙË»ÉÇáõÃÛáõÝÁ Ë³Ëï»ÉÁ | D56: 147 | G56: 1 | H56: 1 | K56: 1 | V56: =E56+G56 -> 1 | W56: =K56+L56+N56 -> 1 | X56: =K56 -> 1 | Y56: =H56+I56+J56 -> 1 | Z56: =R56 -> 0 | AA56: =P56+Q56 -> 0 | AB56: =U56 -> 0 | AC56: =S56+T56 -> 0
B57: 4.6 | C57: ²ÝÓÇÝ ï»Õ»ÏáõÃÛáõÝ Ý»ñÏ³Û³óÝ»Éáõó Ññ³Å³ñí»ÉÁ | D57: 148 | V57: =E57+G57 -> 0 | W57: =K57+L57+N57 -> 0 | X57: =K57 -> 0 | Y57: =H57+I57+J57 -> 0 | Z57: =R57 -> 0 | AA57: =P57+Q57 -> 0 | AB57: =U57 -> 0 | AC57: =S57+T57 -> 0
B58: 4.7 | C58: ÀÝïñ³Ï³Ý Çñ³íáõÝùÇ Çñ³Ï³Ý³óÙ³ÝÁ, ÁÝïñ³Ï³Ý Ñ³ÝÓÝ³ÅáÕáíÝ»ñÇ ³ßË³ï³ÝùÝ»ñÇÝ Ï³Ù ÁÝïñáõÃÛ³ÝÁ Ù³ëÝ³ÏóáÕ ³ÝÓ³Ýó ÉÇ³½áñáõÃÛáõÝÝ»ñÇ Çñ³Ï³Ý³óÙ³ÝÁ ËáãÁÝ¹áï»ÉÁ | D58: 149 | V58: =E58+G58 -> 0 | W58: =K58+L58+N58 -> 0 | X58: =K58 -> 0 | Y58: =H58+I58+J58 -> 0 | Z58: =R58 -> 0 | AA58: =P58+Q58 -> 0 | AB58: =U58 -> 0 | AC58: =S58+T58 -> 0
B59: 4.8 | C59: ÀÝïñáõÃÛáõÝÝ»ñÇ Ï³Ù ùí»³ñÏáõÃÛ³Ý ³ñ¹ÛáõÝùÝ»ñÁ Ï»ÕÍ»ÉÁ | D59: 150 | V59: =E59+G59 -> 0 | W59: =K59+L59+N59 -> 0 | X59: =K59 -> 0 | Y59: =H59+I59+J59 -> 0 | Z59: =R59 -> 0 | AA59: =P59+Q59 -> 0 | AB59: =U59 -> 0 | AC59: =S59+T59 -> 0
B60: 4.9 | C60: ÀÝïñáõÃÛáõÝÝ»ñÇ ³ÝóÏ³óÙ³Ý ÁÝÃ³óùáõÙ Ã»ÏÝ³ÍáõÇ, Ïáõë³ÏóáõÃÛ³Ý (Ïáõë³ÏóáõÃÛáõÝÝ»ñÇ ¹³ßÇÝùÇ) í»ñ³µ»ñÛ³É ½ñå³ñïã³Ï³Ý ï»Õ»ÏáõÃÛáõÝÝ»ñ ï³ñ³Í»ÉÁ | D60: 151 | V60: =E60+G60 -> 0 | W60: =K60+L60+N60 -> 0 | X60: =K60 -> 0 | Y60: =H60+I60+J60 -> 0 | Z60: =R60 -> 0 | AA60: =P60+Q60 -> 0 | AB60: =U60 -> 0 | AC60: =S60+T60 -> 0
B61: 4.10 | C61: ÀÝïñáÕÝ»ñÇ óáõó³ÏÝ»ñÁ Ï³½Ù»Éáõ, ¹ñ³Ýù ù³Õ³ù³óÇÝ»ñÇÝ ¨ Ïáõë³ÏóáõÃÛáõÝÝ»ñÇÝ ïñ³Ù³¹ñ»Éáõ Ï³Ù Ññ³å³ñ³Ï»Éáõ Ï³ñ·Á Ë³Ëï»ÉÁ | D61: 152 | V61: =E61+G61 -> 0 | W61: =K61+L61+N61 -> 0 | X61: =K61 -> 0 | Y61: =H61+I61+J61 -> 0 | Z61: =R61 -> 0 | AA61: =P61+Q61 -> 0 | AB61: =U61 -> 0 | AC61: =S61+T61 -> 0
A62: 0 | B62: 4.11 | C62: Ø»ÏÇó ³í»ÉÇ ³Ý·³Ù Ï³Ù ³ÛÉ ³ÝÓÇ ÷áË³ñ»Ý ùí»³ñÏ»ÉÁ | D62: 153 | V62: =E62+G62 -> 0 | W62: =K62+L62+N62 -> 0 | X62: =K62 -> 0 | Y62: =H62+I62+J62 -> 0 | Z62: =R62 -> 0 | AA62: =P62+Q62 -> 0 | AB62: =U62 -> 0 | AC62: =S62+T62 -> 0
B63: 4.12 | C63: øí»³ñÏáõÃÛ³Ý ·³ÕïÝÇáõÃÛáõÝÁ Ë³Ëï»ÉÁ | D63: 154 | V63: =E63+G63 -> 0 | W63: =K63+L63+N63 -> 0 | X63: =K63 -> 0 | Y63: =H63+I63+J63 -> 0 | Z63: =R63 -> 0 | AA63: =P63+Q63 -> 0 | AB63: =U63 -> 0 | AC63: =S63+T63 -> 0
B64: 4.13 | C64: Î»ÕÍ ÁÝïñ³Ï³Ý ùí»³Ã»ñÃÇÏÝ»ñ Ï³Ù ùí»³ñÏáõÃÛ³Ý Íñ³ñÝ»ñ å³ïñ³ëï»ÉÁ Ï³Ù ³ÏÝÑ³Ûï Ï»ÕÍ ÁÝïñ³Ï³Ý ùí»³Ã»ñÃÇÏÝ»ñ Ï³Ù ùí»³ñÏáõÃÛ³Ý Íñ³ñÝ»ñ Ñ³ÝÓÝ»ÉÁ Ï³Ù Çñ³óÝ»ÉÁ | D64: 154.1 | V64: =E64+G64 -> 0 | W64: =K64+L64+N64 -> 0 | X64: =K64 -> 0 | Y64: =H64+I64+J64 -> 0 | Z64: =R64 -> 0 | AA64: =P64+Q64 -> 0 | AB64: =U64 -> 0 | AC64: =S64+T64 -> 0
B65: 4.14 | C65: ÀÝïñáÕÇ Ï³ÙùÇ ³½³ï Çñ³Ï³Ý³óÙ³ÝÁ ËáãÁÝ¹áï»ÉÁ | D65: 154.2 | V65: =E65+G65 -> 0 | W65: =K65+L65+N65 -> 0 | X65: =K65 -> 0 | Y65: =H65+I65+J65 -> 0 | Z65: =R65 -> 0 | AA65: =P65+Q65 -> 0 | AB65: =U65 -> 0 | AC65: =S65+T65 -> 0
B66: 4.15 | C66: ÀÝïñ³Ï³Ý Ñ³ÝÓÝ³ÅáÕáíÇ ÏÝÇùÁ ãí»ñ³¹³ñÓÝ»ÉÁ, ÏÝÇùÇ å³Ñå³ÝÙ³Ý ë³ÑÙ³Ýí³Í Ï³ñ·Á Ë³Ëï»ÉÁ | D66: 154.3 | V66: =E66+G66 -> 0 | W66: =K66+L66+N66 -> 0 | X66: =K66 -> 0 | Y66: =H66+I66+J66 -> 0 | Z66: =R66 -> 0 | AA66: =P66+Q66 -> 0 | AB66: =U66 -> 0 | AC66: =S66+T66 -> 0
B67: 4.16 | C67: ¼»Ýùáíª ï»Õ³Ù³ë³ÛÇÝ Ï»ÝïñáÝ Ùáõïù ·áñÍ»ÉÁ | D67: 154.4 | V67: =E67+G67 -> 0 | W67: =K67+L67+N67 -> 0 | X67: =K67 -> 0 | Y67: =H67+I67+J67 -> 0 | Z67: =R67 -> 0 | AA67: =P67+Q67 -> 0 | AB67: =U67 -> 0 | AC67: =S67+T67 -> 0
B68: 4.17 | C68: ìëï³Ñí³Í ³ÝÓÇÝ,ÁÝïñ³Ï³Ý Ñ³ÝÓÝ³ÅáÕáíÇ ³Ý¹³ÙÇÝ,¹Çïáñ¹ÇÝ Ï³Ù ½³Ý·í³Í³ÛÇÝ Éñ³ïíáõÃÛ³Ý ÙÇçáóÇ Ý»ñÏ³Û³óáõóãÇÝ ÁÝïñ³Ï³Ý ÷³ëï³ÃÕÃ»ñÇÝ Í³ÝáÃ³Ý³ÉáõÝ ËáãÁÝ¹áï»ÉÁ, ÁÝïñ³Ï³Ý Ñ³ÝÓÝ³ÅáÕáíÇ ³ñÓ³Ý³·ñáõÃÛáõÝÝ»ñÇ å³ï×»ÝÝ»ñ ãï³ÉÁ | D68: 154.5 | V68: =E68+G68 -> 0 | W68: =K68+L68+N68 -> 0 | X68: =K68 -> 0 | Y68: =H68+I68+J68 -> 0 | Z68: =R68 -> 0 | AA68: =P68+Q68 -> 0 | AB68: =U68 -> 0 | AC68: =S68+T68 -> 0
B69: 4.18 | C69: ¶áñÍ³¹áõÉÇ Ù³ëÝ³Ïó»ÉáõÝ Ï³Ù ·áñÍ³¹áõÉÇ Ù³ëÝ³Ïó»Éáõó Ññ³Å³ñí»ÉáõÝ Ñ³ñÏ³¹ñ»ÉÁ | D69: 155 | V69: =E69+G69 -> 0 | W69: =K69+L69+N69 -> 0 | X69: =K69 -> 0 | Y69: =H69+I69+J69 -> 0 | Z69: =R69 -> 0 | AA69: =P69+Q69 -> 0 | AB69: =U69 -> 0 | AC69: =S69+T69 -> 0
B70: 4.19 | C70: ÐÕÇ ÏÝáçÁ Ï³Ù ÙÇÝã¨ »ñ»ù ï³ñ»Ï³Ý »ñ»Ë³ áõÝ»óáÕ ³ÝÓÇÝ ³ßË³ï³ÝùÇ ÁÝ¹áõÝ»Éáõõó Ññ³Å³ñí»ÉÁ Ï³Ù ³ßË³ï³ÝùÇó ³ÝÑÇÙÝ ³½³ï»ÉÁ | D70: 156 | V70: =E70+G70 -> 0 | W70: =K70+L70+N70 -> 0 | X70: =K70 -> 0 | Y70: =H70+I70+J70 -> 0 | Z70: =R70 -> 0 | AA70: =P70+Q70 -> 0 | AB70: =U70 -> 0 | AC70: =S70+T70 -> 0
B71: 4.20 | C71: ²ßË³ï³ÝùÇ å³ßïå³ÝáõÃÛ³Ý Ï³ÝáÝÝ»ñÁ Ë³Ëï»ÉÁ | D71: 157 | V71: =E71+G71 -> 0 | W71: =K71+L71+N71 -> 0 | X71: =K71 -> 0 | Y71: =H71+I71+J71 -> 0 | Z71: =R71 -> 0 | AA71: =P71+Q71 -> 0 | AB71: =U71 -> 0 | AC71: =S71+T71 -> 0
B72: 4.21 | C72: Ð»ÕÇÝ³Ï³ÛÇÝ ¨ Ñ³ñ³ÏÇó Çñ³íáõÝùÝ»ñÁ Ë³Ëï»ÉÁ | D72: 158 | V72: =E72+G72 -> 0 | W72: =K72+L72+N72 -> 0 | X72: =K72 -> 0 | Y72: =H72+I72+J72 -> 0 | Z72: =R72 -> 0 | AA72: =P72+Q72 -> 0 | AB72: =U72 -> 0 | AC72: =S72+T72 -> 0
B73: 4.22 | C73: ²ñïáÝ³·ñ³ÛÇÝ Çñ³íáõÝùÁ Ë³Ëï»ÉÁ | D73: 159 | V73: =E73+G73 -> 0 | W73: =K73+L73+N73 -> 0 | X73: =K73 -> 0 | Y73: =H73+I73+J73 -> 0 | Z73: =R73 -> 0 | AA73: =P73+Q73 -> 0 | AB73: =U73 -> 0 | AC73: =S73+T73 -> 0
B74: 4.23 | C74: ÊÕ×Ç Ï³Ù ¹³í³Ý³ÝùÇ ³½³ïáõÃÛ³Ý Çñ³íáõÝùÇ Çñ³Ï³Ý³óÙ³ÝÁ ËáãÁÝ¹áï»ÉÁ | D74: 160 | V74: =E74+G74 -> 0 | W74: =K74+L74+N74 -> 0 | X74: =K74 -> 0 | Y74: =H74+I74+J74 -> 0 | Z74: =R74 -> 0 | AA74: =P74+Q74 -> 0 | AB74: =U74 -> 0 | AC74: =S74+T74 -> 0
... B78: 4.27 | C78: Èñ³·ñáÕÇ Ù³ëÝ³·Çï³Ï³Ý ûñÇÝ³Ï³Ý ·áñÍáÕáõÃÛ³ÝÁ ËáãÁÝ¹áï»ÉÁ | D78: 164 | V78: =E78+G78 -> 0 | W78: =K78+L78+N78 -> 0 | X78: =K78 -> 0 | Y78: =H78+I78+J78 -> 0 | Z78: =R78 -> 0 | AA78: =P78+Q78 -> 0 | AB78: =U78 -> 0 | AC78: =S78+T78 -> 0
B79: 4.28 | C79: ²ÛÉ Ñ³Ýó³·áñÍáõÃÛáõÝÝ»ñ | V79: =E79+G79 -> 0 | W79: =K79+L79+N79 -> 0 | X79: =K79 -> 0 | Y79: =H79+I79+J79 -> 0 | Z79: =R79 -> 0 | AA79: =P79+Q79 -> 0 | AB79: =U79 -> 0 | AC79: =S79+T79 -> 0
B80: 5. | C80: ÀÝ¹³Ù»ÝÁ ÁÝï³ÝÇùÇ ¨ »ñ»Ë³ÛÇ ß³Ñ»ñÇ ¹»Ù áõÕÕí³Í Ñ³Ýó³·áñÍáõÃÛáõÝÝ»ñÁ | E80: =SUM(E81:E92) -> 0 | F80: =SUM(F81:F92) -> 0 | G80: =SUM(G81:G92) -> 0 | H80: =SUM(H81:H92) -> 0 | I80: =SUM(I81:I92) -> 0 | J80: =SUM(J81:J92) -> 0 | K80: =SUM(K81:K92) -> 0 | L80: =SUM(L81:L92) -> 0 | ... AC80: =SUM(AC81:AC92) -> 0
B81: 5.1 | C81: ²Ýã³÷³Ñ³ëÇÝ Ñ³Ýó³ÝùÇ Ï³ï³ñÙ³ÝÁ Ý»ñ·ñ³í»ÉÁ | D81: 165 | V81: =E81+G81 -> 0 | W81: =K81+L81+N81 -> 0 | X81: =K81 -> 0 | Y81: =H81+I81+J81 -> 0 | Z81: =R81 -> 0 | AA81: =P81+Q81 -> 0 | AB81: =U81 -> 0 | AC81: =S81+T81 -> 0
B82: 5.2 | C82: ºñ»Ë³ÛÇÝ åáéÝÏáõÃÛ³Ý Ï³Ù åáéÝÏ³·ñ³Ï³Ý µÝáõÛÃÇ ÝÛáõÃ»ñ Ï³Ù ³é³ñÏ³Ý»ñ å³ïñ³ëï»Éáõ Ñ»ï Ï³åí³Í ·áñÍáÕáõÃÛáõÝÝ»ñ Ï³ï³ñ»ÉáõÝ Ý»ñ·ñ³í»ÉÁ | D82: 166 | V82: =E82+G82 -> 0 | W82: =K82+L82+N82 -> 0 | X82: =K82 -> 0 | Y82: =H82+I82+J82 -> 0 | Z82: =R82 -> 0 | AA82: =P82+Q82 -> 0 | AB82: =U82 -> 0 | AC82: =S82+T82 -> 0
B83: 5.3 | C83: ÌÝáÕÝ»ñÇó »ñ»Ë³ÛÇÝ ³åûñÇÝÇ µ³Å³Ý»ÉÁ Ï³Ù »ñ»Ë³ÛÇÝ ÷áË»ÉÁ | D83: 167 | V83: =E83+G83 -> 0 | W83: =K83+L83+N83 -> 0 | X83: =K83 -> 0 | Y83: =H83+I83+J83 -> 0 | Z83: =R83 -> 0 | AA83: =P83+Q83 -> 0 | AB83: =U83 -> 0 | AC83: =S83+T83 -> 0
B84: 5.4 | C84: ÊÝ³ÙùÁ ëï³ÝÓÝ»Éáõ Ýå³ï³Ïáí »ñ»Ë³ÛÇ ³éùÁ Ï³Ù ëï³ÝÓÝáÕÇ ËÝ³ÙùÇÝ Ñ³ÝÓÝ»Éáõ Ýå³ï³Ïáí »ñ»Ë³ÛÇ í³×³éùÁ | D84: 168 | V84: =E84+G84 -> 0 | W84: =K84+L84+N84 -> 0 | X84: =K84 -> 0 | Y84: =H84+I84+J84 -> 0 | Z84: =R84 -> 0 | AA84: =P84+Q84 -> 0 | AB84: =U84 -> 0 | AC84: =S84+T84 -> 0
B85: 5.5 | C85: àñ¹»·ñÙ³Ý ·³ÕïÝÇùÁ Ññ³å³ñ³Ï»ÉÁ Ï³Ù áñ¹»·ñÙ³Ý Ñ³Ù³Ó³ÛÝáõÃÛáõÝ ï³ÉáõÝ Ñ³Ï»ÉÁ Ï³Ù Ñ³ñÏ³¹ñ»ÉÁ | D85: 169 | V85: =E85+G85 -> 0 | W85: =K85+L85+N85 -> 0 | X85: =K85 -> 0 | Y85: =H85+I85+J85 -> 0 | Z85: =R85 -> 0 | AA85: =P85+Q85 -> 0 | AB85: =U85 -> 0 | AC85: =S85+T85 -> 0
B86: 5.6 | C86: ø³Õ³ù³óÇ³Ï³Ý Ï³óáõÃÛ³Ý ³Ïï»ñÇ ·ñ³ÝóÙ³Ý Ù³ñÙÇÝÝ»ñÇÝ ëáõï ï»Õ»ÏáõÃÛáõÝÝ»ñ Ñ³Õáñ¹»ÉÁ | D86: 169.1 | V86: =E86+G86 -> 0 | W86: =K86+L86+N86 -> 0 | X86: =K86 -> 0 | Y86: =H86+I86+J86 -> 0 | Z86: =R86 -> 0 | AA86: =P86+Q86 -> 0 | AB86: =U86 -> 0 | AC86: =S86+T86 -> 0
B87: 5.7 | C87: ºñ»Ë³ÛÇÝ ¹³ëïÇ³ñ³Ï»Éáõ å³ñï³Ï³ÝáõÃÛáõÝÁ ãÏ³ï³ñ»ÉÁ | D87: 170 | V87: =E87+G87 -> 0 | W87: =K87+L87+N87 -> 0 | X87: =K87 -> 0 | Y87: =H87+I87+J87 -> 0 | Z87: =R87 -> 0 | AA87: =P87+Q87 -> 0 | AB87: =U87 -> 0 | AC87: =S87+T87 -> 0
B88: 5.8 | C88: ºñ»Ë³ÛÇ ÏÛ³ÝùÇ ³Ýíï³Ý·áõÃÛ³Ý ³å³ÑáíÙ³Ý Ï³Ù ³éáÕçáõÃÛ³Ý å³Ñå³ÝÙ³Ý å³ñï³Ï³ÝáõÃÛáõÝÁ ãÏ³ï³ñ»ÉÁ Ï³Ù áã å³ïß³× Ï³ï³ñ»ÉÁ | D88: 171 | V88: =E88+G88 -> 0 | W88: =K88+L88+N88 -> 0 | X88: =K88 -> 0 | Y88: =H88+I88+J88 -> 0 | Z88: =R88 -> 0 | AA88: =P88+Q88 -> 0 | AB88: =U88 -> 0 | AC88: =S88+T88 -> 0
B89: 5.9 | C89: ÊÝ³Ù³Ï³ÉÇ Ï³Ù Ñá·³µ³ñÓáõÇ Çñ³íáõÝùÝ»ñÁ ã³ñ³ß³Ñ»ÉÁ | D89: 172 | V89: =E89+G89 -> 0 | W89: =K89+L89+N89 -> 0 | X89: =K89 -> 0 | Y89: =H89+I89+J89 -> 0 | Z89: =R89 -> 0 | AA89: =P89+Q89 -> 0 | AB89: =U89 -> 0 | AC89: =S89+T89 -> 0
A90: 0 | B90: 5.10 | C90: ÌÝáÕÇ ÏáÕÙÇó »ñ»Ë³ÛÇÝ å³Ñ»Éáõó ã³ñ³Ùïáñ»Ý Ëáõë³÷»ÉÁ (áõÅÁ Ïáñóñ³Í) | D90: 173 | V90: =E90+G90 -> 0 | W90: =K90+L90+N90 -> 0 | X90: =K90 -> 0 | Y90: =H90+I90+J90 -> 0 | Z90: =R90 -> 0 | AA90: =P90+Q90 -> 0 | AB90: =U90 -> 0 | AC90: =S90+T90 -> 0
B91: 5.11 | C91: ¼³í³ÏÇ ÏáÕÙÇó ³Ý³ßË³ïáõÝ³Ï ÍÝáÕÇÝ å³Ñ»Éáõó ã³ñ³Ùïáñ»Ý Ëáõë³÷»ÉÁ | D91: 174 | V91: =E91+G91 -> 0 | W91: =K91+L91+N91 -> 0 | X91: =K91 -> 0 | Y91: =H91+I91+J91 -> 0 | Z91: =R91 -> 0 | AA91: =P91+Q91 -> 0 | AB91: =U91 -> 0 | AC91: =S91+T91 -> 0
B92: 5.12 | C92: ²ÛÉ Ñ³Ýó³·áñÍáõÃÛáõÝÝ»ñ | V92: =E92+G92 -> 0 | W92: =K92+L92+N92 -> 0 | X92: =K92 -> 0 | Y92: =H92+I92+J92 -> 0 | Z92: =R92 -> 0 | AA92: =P92+Q92 -> 0 | AB92: =U92 -> 0 | AC92: =S92+T92 -> 0
B93: 6. | C93: ÀÝ¹³Ù»ÝÁ ë»÷³Ï³ÝáõÃÛ³Ý ¹»Ù áõÕÕí³Í Ñ³Ýó³·áñÍáõÃÛáõÝÝ»ñÁ | E93: =SUM(E94:E106) -> 11 | F93: =SUM(F94:F106) -> 2 | G93: =SUM(G94:G106) -> 31 | H93: =SUM(H94:H106) -> 23 | I93: =SUM(I94:I106) -> 1 | J93: =SUM(J94:J106) -> 0 | K93: =SUM(K94:K106) -> 24 | L93: =SUM(L94:L106) -> 0 | ... AC93: =SUM(AC94:AC106) -> 1
B94: 6.1 | C94: ²í³½³ÏáõÃÛáõÝÁ | D94: 175 | E94: 1 | G94: 2 | H94: 2 | K94: 2 | N94: 1 | P94: 1 | Q94: 1 | R94: 2 | V94: =E94+G94 -> 3 | W94: =K94+L94+N94 -> 3 | X94: =K94 -> 2 | Y94: =H94+I94+J94 -> 2 | Z94: =R94 -> 2 | AA94: =P94+Q94 -> 2 | AB94: =U94 -> 0 | AC94: =S94+T94 -> 0
B95: 6.2 | C95: ÎáÕáåáõïÁ | D95: 176 | G95: 3 | H95: 3 | K95: 3 | V95: =E95+G95 -> 3 | W95: =K95+L95+N95 -> 3 | X95: =K95 -> 3 | Y95: =H95+I95+J95 -> 3 | Z95: =R95 -> 0 | AA95: =P95+Q95 -> 0 | AB95: =U95 -> 0 | AC95: =S95+T95 -> 0
B96: 6.3 | C96: ¶áÕáõÃÛáõÝÁ | D96: 177 | E96: 4 | G96: 14 | H96: 11 | K96: 11 | N96: 7 | P96: 3 | R96: 3 | V96: =E96+G96 -> 18 | W96: =K96+L96+N96 -> 18 | X96: =K96 -> 11 | Y96: =H96+I96+J96 -> 11 | Z96: =R96 -> 3 | AA96: =P96+Q96 -> 3 | AB96: =U96 -> 0 | AC96: =S96+T96 -> 0
B97: 6.4 | C97: Ê³ñ¹³ËáõÃÛáõÝÁ | D97: 178 | E97: 5 | F97: 2 | G97: 10 | H97: 5 | I97: 1 | K97: 6 | M97: 1 | N97: 9 | O97: 2 | P97: 3 | Q97: 1 | R97: 4 | S97: 1 | U97: 1 | V97: =E97+G97 -> 15 | W97: =K97+L97+N97 -> 15 | X97: =K97 -> 6 | Y97: =H97+I97+J97 -> 6 | Z97: =R97 -> 4 | AA97: =P97+Q97 -> 4 | AB97: =U97 -> 1 | AC97: =S97+T97 -> 1
B98: 6.5 | C98: Úáõñ³óÝ»ÉÁ Ï³Ù í³ïÝ»ÉÁ | D98: 179 | E98: 1 | G98: 2 | H98: 2 | K98: 2 | N98: 1 | P98: 1 | R98: 1 | V98: =E98+G98 -> 3 | W98: =K98+L98+N98 -> 3 | X98: =K98 -> 2 | Y98: =H98+I98+J98 -> 2 | Z98: =R98 -> 1 | AA98: =P98+Q98 -> 1 | AB98: =U98 -> 0 | AC98: =S98+T98 -> 0
B99: 6.6 | C99: ²é³ÝÓÝ³ÏÇ ³ñÅ»ù áõÝ»óáÕ ³é³ñÏ³Ý»ñ Ñ³÷ßï³Ï»ÉÁ | D99: 180 | V99: =E99+G99 -> 0 | W99: =K99+L99+N99 -> 0 | X99: =K99 -> 0 | Y99: =H99+I99+J99 -> 0 | Z99: =R99 -> 0 | AA99: =P99+Q99 -> 0 | AB99: =U99 -> 0 | AC99: =S99+T99 -> 0
B100: 6.7 | C100: Ð³÷ßï³ÏáõÃÛáõÝÁ, áñÁ Ï³ï³ñí»É ¿ Ñ³Ù³Ï³ñ·ã³ÛÇÝ ï»ËÝÇÏ³ÛÇ û·ï³·áñÍÙ³Ùµ | D100: 181 | V100: =E100+G100 -> 0 | W100: =K100+L100+N100 -> 0 | X100: =K100 -> 0 | Y100: =H100+I100+J100 -> 0 | Z100: =R100 -> 0 | AA100: =P100+Q100 -> 0 | AB100: =U100 -> 0 | AC100: =S100+T100 -> 0
B101: 6.8 | C101: ÞáñÃáõÙÁ | D101: 182 | V101: =E101+G101 -> 0 | W101: =K101+L101+N101 -> 0 | X101: =K101 -> 0 | Y101: =H101+I101+J101 -> 0 | Z101: =R101 -> 0 | AA101: =P101+Q101 -> 0 | AB101: =U101 -> 0 | AC101: =S101+T101 -> 0
B102: 6.9 | C102: ²íïáÙ»ù»Ý³ÛÇÝ Ï³Ù ïñ³Ýëåáñï³ÛÇÝ ³ÛÉ ÙÇçáóÇÝ ³åûñÇÝ³µ³ñ ïÇñ³Ý³ÉÝ ³é³Ýó Ñ³÷ßï³Ï»Éáõ Ýå³ï³ÏÇ | D102: 183 | V102: =E102+G102 -> 0 | W102: =K102+L102+N102 -> 0 | X102: =K102 -> 0 | Y102: =H102+I102+J102 -> 0 | Z102: =R102 -> 0 | AA102: =P102+Q102 -> 0 | AB102: =U102 -> 0 | AC102: =S102+T102 -> 0
B103: 6.10 | C103: ¶áõÛù³ÛÇÝ íÝ³ë å³ï×³é»ÉÁ Ë³µ»áõÃÛ³Ý Ï³Ù íëï³ÑáõÃÛáõÝÁ ã³ñ³ß³Ñ»Éáõ »Õ³Ý³Ïáí | D103: 184 | V103: =E103+G103 -> 0 | W103: =K103+L103+N103 -> 0 | X103: =K103 -> 0 | Y103: =H103+I103+J103 -> 0 | Z103: =R103 -> 0 | AA103: =P103+Q103 -> 0 | AB103: =U103 -> 0 | AC103: =S103+T103 -> 0
...

Sheet Arabkir
B1: 2015Ã. | E1: Ð²ÞìºîìàôÂÚàôÜ | R1: Ð³í»Éí³Í Ð³Û³ëï³ÝÇ Ð³Ýñ³å»ïáõÃÛ³Ý ¸³ï³ñ³ÝÝ»ñÇ Ý³Ë³·³ÑÝ»ñÇ ËáñÑñ¹Ç 01.02.2016Ã. ÃÇí 11È áñáßÙ³Ý
B2: ºðºì²Ü ø²Ô²øÆ ²ð²´ÎÆð ºì ø²Ü²øºè-¼ºÚÂàôÜ ì²ðâ²Î²Ü Þðæ²ÜÜºðÆ ÀÜ¸Ð²Üàôð Æð²ì²êàôÂÚ²Ü ²è²æÆÜ ²îÚ²ÜÆ ¸²î²ð²ՆàôØ ՔՐԵԱԿԱՆ ¶àðÌºðÆ øÜÜàôÂÚ²Ü ìºð²´ºðÚ²È
B3: Երևան քաղաքի Արաբկիր և Քանաքեռ-Զեյթուն վարչական շրջանների ÁÝ¹Ñ³Ýáõñ Çñ³í³ëáõÃÛ³Ý ³é³çÇÝ ³ïÛ³ÝÇ ¹³ï³ñ³ÝáõÙ ùñ»³Ï³Ý Ù³ëÝ³·Çï³óáõÙ áõÝ»óáÕ ¹³ï³íáñÝ»ñÇ Ñ³ëïÇùÝ»ñÇ ù³Ý³ÏÁ` 3
B4: êïáõ·Çã Ñ³í³ë³ñáõÙÝ»ñ` 1+3=7+8+10, 7=4+5+6, 14=12+13, 17=15+16 | D4: ÐÐ ùñ»³Ï³Ý ûñ»Ýë·ñùÇ Ñá¹í³ÍÝ»ñ | E4: Ð³ßí»ïáõ Å³Ù³Ý³Ï³Ñ³ïí³ÍÇ ëÏ½µáõÙ Ý³Ëáñ¹ Ñ³ßí»ïáõ Å³Ù³Ý³Ï³Ñ³ïí³ÍÇó ÷áË³Ýóí³Í ·áñÍ»ñÇ ÁÝ¹Ñ³Ýáõñ ÃÇíÁ | F4: ²Û¹ ÃíáõÙ` Ï³ë»óí³Í íÇ×³ÏáõÙ ÷áË³Ýóí³Í | G4: Ð³ßí»ïáõ Å³Ù³Ý³Ï³Ñ³ïí³ÍáõÙ ëï³óí³Í ·áñÍ»ñÇ ÁÝ¹Ñ³Ýáõñ ÃÇíÁ | H4: Ð³ßí»ïáõ Å³Ù³Ý³Ï³Ñ³ïí³ÍáõÙ ³í³ñïí³Í ·áñÍ»ñի ընդհանուր թիվը | L4: àõÕ³ñÏí»É ¿ Áëï ÁÝ¹¹³ïáõÃÛ³Ý | M4: Ð³ßí»ïáõ Å³Ù³Ý³Ï³Ñ³ïí³ÍáõÙ Ï³ë»óí³Í í³ñáõÛÃÝ»ñáí ·áñÍ»ñÇ ÁÝ¹Ñ³Ýáõñ ÃÇíÁ | N4: Ð³ßí»ïáõ Å³Ù³Ý³Ï³Ñ³ïí³ÍáõÙ ³Ý³í³ñï ·áñÍ»ñÇ ÁÝ¹Ñ³Ýáõñ ÃÇíÁ | O4: ²Û¹ ÃíáõÙª Ï³ë»óí³Í | P4: ´áÕáù³ñÏí³Í ¹³ï³Ï³Ý ³Ïï»ñÇ ÃÇíÁ` Áëï ï»ë³ÏÝ»ñÇ | S4: ´»Ï³Ýí³Í ¹³ï³Ï³Ý ³Ïï»ñÇ ÃÇíÁ` Áëï ï»ë³ÏÝ»ñÇ
H5: øÝÝí»É ¿ Áëï ¿áõÃÛ³Ý ¨ ¹³ï³í×Çé Ï³Û³óí»É | J5: ՈñáßáõÙ ¿ Ï³Û³óí»É ³ÝÙ»ÕëáõÝ³ÏÝ»ñÇ ÝÏ³ïÙ³Ùµ µÅßÏ³Ï³Ý µÝáõÛÃÇ Ñ³ñÏ³¹ñ³Ï³Ý ÙÇçáóÝ»ñ ÏÇñ³é»Éáõ Ù³ëÇÝ | K5: ÀÝ¹³Ù»ÝÁ ³í³ñïí»É »Ý ·áñÍ»ñ
I6: ՈñáßáõÙ ¿ Ï³Û³óí»É ùñ»³Ï³Ý ·áñÍÇ í³ñáõÛÃÁ Ï³ñ×»Éáõ ¨ ùñ»³Ï³Ý Ñ»ï³åÝ¹áõÙÁ ¹³¹³ñ»óÝ»Éáõ Ù³ëÇÝ | P6: ²Û¹ ÃíáõÙ` ·áñÍÝ Áëï ¿áõÃÛ³Ý ÉáõÍáÕ ¹³ï³Ï³Ý ³Ïï»ñÁ | Q6: ²Û¹ ÃíáõÙ` ÙÇç³ÝÏÛ³É ¹³ï³Ï³Ý ³Ïï»ñÁ | R6: ÀÝ¹³Ù»ÝÁ | S6: ²Û¹ ÃíáõÙ` ·áñÍÝ Áëï ¿áõÃÛ³Ý ÉáõÍáÕ ¹³ï³Ï³Ý ³Ïï»ñÁ | T6: ²Û¹ ÃíáõÙ` ÙÇç³ÝÏÛ³É ¹³ï³Ï³Ý ³Ïï»ñÁ | U6: ÀÝ¹³Ù»ÝÁ
E7: 1 | F7: 2 | G7: 3 | H7: 4 | I7: 5 | J7: 6 | K7: 7 | L7: 8 | M7: 9 | N7: 10 | O7: 11 | P7: 12 | Q7: 13 | R7: 14 | S7: 15 | T7: 16 | U7: 17 | V7: 1+3=7+8+10 | X7: 7=4+5+6 | Z7: 14=12+13 | AB7: 17=15+16
A8: 1 | B8: 1. | C8: ÀÝ¹³Ù»ÝÁ ÏÛ³ÝùÇ ¨ ³éáÕçáõÃÛ³Ý ¹»Ù áõÕÕí³Í Ñ³Ýó³·áñÍáõÃÛáõÝÝ»ñÁ | E8: =SUM(E9:E35) -> 21 | F8: =SUM(F9:F35) -> 0 | G8: =SUM(G9:G35) -> 45 | H8: =SUM(H9:H35) -> 27 | I8: =SUM(I9:I35) -> 14 | J8: =SUM(J9:J35) -> 1 | K8: =SUM(K9:K35) -> 42 | L8: =SUM(L9:L35) -> 0 | ... AC8: =SUM(AC9:AC35) -> 1
A9: 0 | B9: 1.1 | C9: êå³ÝáõÃÛáõÝÁ | D9: 104 | E9: 5 | G9: 6 | H9: 6 | K9: 6 | N9: 5 | P9: 3 | R9: 3 | V9: =E9+G9 -> 11 | W9: =K9+L9+N9 -> 11 | X9: =K9 -> 6 | Y9: =H9+I9+J9 -> 6 | Z9: =R9 -> 3 | AA9: =P9+Q9 -> 3 | AB9: =U9 -> 0 | AC9: =S9+T9 -> 0
A10: 0 | B10: 1.2 | C10: Ðá·»Ï³Ý ËÇëï Ñáõ½ÙáõÝùÇ íÇ×³ÏáõÙ Ï³ï³ñí³Í ëå³ÝáõÃÛáõÝÁ | D10: 105 | V10: =E10+G10 -> 0 | W10: =K10+L10+N10 -> 0 | X10: =K10 -> 0 | Y10: =H10+I10+J10 -> 0 | Z10: =R10 -> 0 | AA10: =P10+Q10 -> 0 | AB10: =U10 -> 0 | AC10: =S10+T10 -> 0
A11: 0 | B11: 1.3 | C11: Øáñ ÏáÕÙÇó Ýáñ³ÍÇÝ »ñ»Ë³ÛÇ ëå³ÝáõÃÛáõÝÁ | D11: 106 | V11: =E11+G11 -> 0 | W11: =K11+L11+N11 -> 0 | X11: =K11 -> 0 | Y11: =H11+I11+J11 -> 0 | Z11: =R11 -> 0 | AA11: =P11+Q11 -> 0 | AB11: =U11 -> 0 | AC11: =S11+T11 -> 0
A12: 0 | B12: 1.4 | C12: Ð³Ýó³Ýù Ï³ï³ñ³Í ³ÝÓÇÝ µéÝ»Éáõ Ñ³Ù³ñ ³ÝÑñ³Å»ßï ÙÇçáóÝ»ñÇ ë³ÑÙ³Ý³½³ÝóÙ³Ùµ ëå³ÝáõÃÛáõÝÁ | D12: 107 | V12: =E12+G12 -> 0 | W12: =K12+L12+N12 -> 0 | X12: =K12 -> 0 | Y12: =H12+I12+J12 -> 0 | Z12: =R12 -> 0 | AA12: =P12+Q12 -> 0 | AB12: =U12 -> 0 | AC12: =S12+T12 -> 0
A13: 0 | B13: 1.5 | C13: ²ÝÑñ³Å»ßï å³ßïå³ÝáõÃÛ³Ý ë³ÑÙ³Ý³½³ÝóÙ³Ùµ ëå³ÝáõÃÛáõÝÁ | D13: 108 | V13: =E13+G13 -> 0 | W13: =K13+L13+N13 -> 0 | X13: =K13 -> 0 | Y13: =H13+I13+J13 -> 0 | Z13: =R13 -> 0 | AA13: =P13+Q13 -> 0 | AB13: =U13 -> 0 | AC13: =S13+T13 -> 0
A14: 0 | B14: 1.6 | C14: ²Ý½·áõßáõÃÛ³Ùµ Ù³Ñ å³ï×³é»ÉÁ | D14: 109 | G14: 1 | H14: 1 | K14: 1 | V14: =E14+G14 -> 1 | W14: =K14+L14+N14 -> 1 | X14: =K14 -> 1 | Y14: =H14+I14+J14 -> 1 | Z14: =R14 -> 0 | AA14: =P14+Q14 -> 0 | AB14: =U14 -> 0 | AC14: =S14+T14 -> 0
A15: 0 | B15: 1.7 | C15: ÆÝùÝ³ëå³ÝáõÃÛ³Ý Ñ³ëóÝ»ÉÁ | D15: 110 | V15: =E15+G15 -> 0 | W15: =K15+L15+N15 -> 0 | X15: =K15 -> 0 | Y15: =H15+I15+J15 -> 0 | Z15: =R15 -> 0 | AA15: =P15+Q15 -> 0 | AB15: =U15 -> 0 | AC15: =S15+T15 -> 0
A16: 0 | B16: 1.8 | C16: ÆÝùÝ³ëå³ÝáõÃÛ³Ý Ñ³Ï»ÉÁ | D16: 111 | V16: =E16+G16 -> 0 | W16: =K16+L16+N16 -> 0 | X16: =K16 -> 0 | Y16: =H16+I16+J16 -> 0 | Z16: =R16 -> 0 | AA16: =P16+Q16 -> 0 | AB16: =U16 -> 0 | AC16: =S16+T16 -> 0
A17: 0 | B17: 1.9 | C17: ¸Çï³íáñáõÃÛ³Ùµ ³éáÕçáõÃÛ³ÝÁ Í³Ýñ íÝ³ë å³ï×³é»ÉÁ | D17: 112 | E17: 5 | G17: 10 | H17: 8 | I17: 0 | K17: 8 | N17: 7 | P17: 4 | R17: 4 | V17: =E17+G17 -> 15 | W17: =K17+L17+N17 -> 15 | X17: =K17 -> 8 | Y17: =H17+I17+J17 -> 8 | Z17: =R17 -> 4 | AA17: =P17+Q17 -> 4 | AB17: =U17 -> 0 | AC17: =S17+T17 -> 0
A18: 0 | B18: 1.10 | C18: ¸Çï³íáñáõÃÛ³Ùµ ³éáÕçáõÃÛ³ÝÁ ÙÇçÇÝ Í³ÝñáõÃÛ³Ý íÝ³ë å³ï×³é»ÉÁ | D18: 113 | E18: 5 | G18: 3 | H18: 1 | I18: 3 | K18: 4 | N18: 4 | P18: 2 | R18: 2 | S18: 1 | U18: 1 | V18: =E18+G18 -> 8 | W18: =K18+L18+N18 -> 8 | X18: =K18 -> 4 | Y18: =H18+I18+J18 -> 4 | Z18: =R18 -> 2 | AA18: =P18+Q18 -> 2 | AB18: =U18 -> 1 | AC18: =S18+T18 -> 1
A19: 0 | B19: 1.11 | C19: Ðá·»Ï³Ý ËÇëï Ñáõ½ÙáõÝùÇ íÇ×³ÏáõÙ ³éáÕçáõÃÛ³ÝÁ Í³Ýñ Ï³Ù ÙÇçÇÝ Í³ÝñáõÃÛ³Ý íÝ³ë å³ï×³é»ÉÁ | D19: 114 | P19: 1 | R19: 1 | V19: =E19+G19 -> 0 | W19: =K19+L19+N19 -> 0 | X19: =K19 -> 0 | Y19: =H19+I19+J19 -> 0 | Z19: =R19 -> 1 | AA19: =P19+Q19 -> 1 | AB19: =U19 -> 0 | AC19: =S19+T19 -> 0
A20: 0 | B20: 1.12 | C20: Ð³Ýó³Ýù Ï³ï³ñ³Í ³ÝÓÇÝ µéÝ»Éáõ Ñ³Ù³ñ ³ÝÑñ³Å»ßï ÙÇçáóÝ»ñÇ ë³ÑÙ³Ý½³ÝóÙ³Ùµ ³éáÕçáõÃÛ³ÝÁ Í³Ýñ Ï³Ù ÙÇçÇÝ Í³ÝñáõÃÛ³Ý íÝ³ë å³ï×³é»ÉÁ | D20: 115 | V20: =E20+G20 -> 0 | W20: =K20+L20+N20 -> 0 | X20: =K20 -> 0 | Y20: =H20+I20+J20 -> 0 | Z20: =R20 -> 0 | AA20: =P20+Q20 -> 0 | AB20: =U20 -> 0 | AC20: =S20+T20 -> 0
A21: 0 | B21: 1.13 | C21: ²éáÕçáõÃÛ³ÝÁ Í³Ýñ Ï³Ù ÙÇçÇÝ Í³ÝñáõÃÛ³Ý íÝ³ë å³ï×³é»ÉÁ ³ÝÑñ³Å»ßï å³ßïå³ÝáõÃÛ³Ý ë³ÑÙ³Ý³Ý³½³ÝóÙ³Ùµ | D21: 116 | V21: =E21+G21 -> 0 | W21: =K21+L21+N21 -> 0 | X21: =K21 -> 0 | Y21: =H21+I21+J21 -> 0 | Z21: =R21 -> 0 | AA21: =P21+Q21 -> 0 | AB21: =U21 -> 0 | AC21: =S21+T21 -> 0
A22: 0 | B22: 1.14 | C22: ¸Çï³íáñáõÃÛ³Ùµ ³éáÕçáõÃÛ³ÝÁ Ã»Ã¨ íÝ³ë å³ï×³é»ÉÁ | D22: 117 | E22: 2 | G22: 7 | H22: 3 | I22: 2 | K22: 5 | N22: 4 | P22: 1 | R22: 1 | V22: =E22+G22 -> 9 | W22: =K22+L22+N22 -> 9 | X22: =K22 -> 5 | Y22: =H22+I22+J22 -> 5 | Z22: =R22 -> 1 | AA22: =P22+Q22 -> 1 | AB22: =U22 -> 0 | AC22: =S22+T22 -> 0
A23: 0 | B23: 1.15 | C23: Ì»ÍÁ | D23: 118 | E23: 2 | G23: 16 | H23: 5 | I23: 8 | J23: 1 | K23: 14 | N23: 4 | P23: 2 | R23: 2 | V23: =E23+G23 -> 18 | W23: =K23+L23+N23 -> 18 | X23: =K23 -> 14 | Y23: =H23+I23+J23 -> 14 | Z23: =R23 -> 2 | AA23: =P23+Q23 -> 2 | AB23: =U23 -> 0 | AC23: =S23+T23 -> 0
A24: 0 | B24: 1.16 | C24: Êáßï³Ý·áõÙÁ | D24: 119 | G24: 2 | H24: 1 | I24: 1 | K24: 2 | V24: =E24+G24 -> 2 | W24: =K24+L24+N24 -> 2 | X24: =K24 -> 2 | Y24: =H24+I24+J24 -> 2 | Z24: =R24 -> 0 | AA24: =P24+Q24 -> 0 | AB24: =U24 -> 0 | AC24: =S24+T24 -> 0
A25: 0 | B25: 1.17 | C25: ²Ý½·áõßáõÃÛ³Ùµ ³éáÕçáõÃÛ³ÝÁ Í³Ýñ íÝ³ë å³ï×³é»ÉÁ | D25: 120 | E25: 1 | H25: 1 | K25: 1 | V25: =E25+G25 -> 1 | W25: =K25+L25+N25 -> 1 | X25: =K25 -> 1 | Y25: =H25+I25+J25 -> 1 | Z25: =R25 -> 0 | AA25: =P25+Q25 -> 0 | AB25: =U25 -> 0 | AC25: =S25+T25 -> 0
A26: 0 | B26: 1.18 | C26: ²Ý½·áõßáõÃÛ³Ùµ ³éáÕçáõÃÛ³ÝÁ ÙÇçÇÝ Í³ÝñáõÃÛ³Ý íÝ³ë å³ï×³é»ÉÁ | D26: 121 | V26: =E26+G26 -> 0 | W26: =K26+L26+N26 -> 0 | X26: =K26 -> 0 | Y26: =H26+I26+J26 -> 0 | Z26: =R26 -> 0 | AA26: =P26+Q26 -> 0 | AB26: =U26 -> 0 | AC26: =S26+T26 -> 0
A27: 0 | B27: 1.19 | C27: ²åûñÇÝÇ ³µáñï Ï³ï³ñ»ÉÁ | D27: 122 | V27: =E27+G27 -> 0 | W27: =K27+L27+N27 -> 0 | X27: =K27 -> 0 | Y27: =H27+I27+J27 -> 0 | Z27: =R27 -> 0 | AA27: =P27+Q27 -> 0 | AB27: =U27 -> 0 | AC27: =S27+T27 -> 0
A28: 0 | B28: 1.20 | C28: Ø³ñ¹áõ ÇÙáõÝ³ÛÇÝ ³Ýµ³í³ñ³ñáõÃÛ³Ý íÇñáõëÇ Ñ³ñáõóÇãáí í³ñ³Ï»ÉÁ | D28: 123 | V28: =E28+G28 -> 0 | W28: =K28+L28+N28 -> 0 | X28: =K28 -> 0 | Y28: =H28+I28+J28 -> 0 | Z28: =R28 -> 0 | AA28: =P28+Q28 -> 0 | AB28: =U28 -> 0 | AC28: =S28+T28 -> 0
A29: 0 | B29: 1.21 | C29: ì»Ý»ñ³Ï³Ý ÑÇí³Ý¹áõÃÛ³Ùµ Ï³Ù ³ÛÉ ë»é³í³ñ³ÏÝ»ñáí í³ñ³Ï»ÉÁ | D29: 124 | V29: =E29+G29 -> 0 | W29: =K29+L29+N29 -> 0 | X29: =K29 -> 0 | Y29: =H29+I29+J29 -> 0 | Z29: =R29 -> 0 | AA29: =P29+Q29 -> 0 | AB29: =U29 -> 0 | AC29: =S29+T29 -> 0
A30: 0 | B30: 1.22 | C30: öáËå³ïí³ëïÙ³Ý íÇñ³Ñ³ïáõÃÛáõÝ Ï³ï³ñ»Éáõ Ï³ÝáÝÝ»ñÁ Ë³Ëï»ÉÁ | D30: 125 | V30: =E30+G30 -> 0 | W30: =K30+L30+N30 -> 0 | X30: =K30 -> 0 | Y30: =H30+I30+J30 -> 0 | Z30: =R30 -> 0 | AA30: =P30+Q30 -> 0 | AB30: =U30 -> 0 | AC30: =S30+T30 -> 0
A31: 0 | B31: 1.24 | C31: ²ÝÓÇÝ ³é³Ýó Çñ Ñ³ÝÓÝ³ñ³ñáõÃÛ³Ý µÅßÏ³Ï³Ý Ï³Ù ·Çï³Ï³Ý ÷áñÓ»ñÇ »ÝÃ³ñÏ»ÉÁ | D31: 127 | V31: =E31+G31 -> 0 | W31: =K31+L31+N31 -> 0 | X31: =K31 -> 0 | Y31: =H31+I31+J31 -> 0 | Z31: =R31 -> 0 | AA31: =P31+Q31 -> 0 | AB31: =U31 -> 0 | AC31: =S31+T31 -> 0
A32: 0 | B32: 1.25 | C32: ìï³Ý·Ç Ù»ç ÃáÕÝ»ÉÁ | D32: 128 | V32: =E32+G32 -> 0 | W32: =K32+L32+N32 -> 0 | X32: =K32 -> 0 | Y32: =H32+I32+J32 -> 0 | Z32: =R32 -> 0 | AA32: =P32+Q32 -> 0 | AB32: =U32 -> 0 | AC32: =S32+T32 -> 0
A33: 0 | B33: 1.26 | C33: ÐÇí³Ý¹ÇÝ û·ÝáõÃÛáõÝ óáõÛó ãï³ÉÁ | D33: 129 | V33: =E33+G33 -> 0 | W33: =K33+L33+N33 -> 0 | X33: =K33 -> 0 | Y33: =H33+I33+J33 -> 0 | Z33: =R33 -> 0 | AA33: =P33+Q33 -> 0 | AB33: =U33 -> 0 | AC33: =S33+T33 -> 0
A34: 0 | B34: 1.27 | C34: ´ÅßÏ³Ï³Ý û·ÝáõÃÛáõÝ ¨ ëå³ë³ñÏáõÙ Çñ³Ï³Ý³óÝáÕÝ»ñÇ ÏáÕÙÇó Ù³ëÝ³·Çï³Ï³Ý å³ñï³Ï³ÝáõÃÛáõÝÝ»ñÁ ãÏ³ï³ñ»ÉÁ Ï³Ù áã å³ïß³× Ï³ï³ñ»ÉÁ | D34: 130 | E34: 1 | H34: 1 | K34: 1 | V34: =E34+G34 -> 1 | W34: =K34+L34+N34 -> 1 | X34: =K34 -> 1 | Y34: =H34+I34+J34 -> 1 | Z34: =R34 -> 0 | AA34: =P34+Q34 -> 0 | AB34: =U34 -> 0 | AC34: =S34+T34 -> 0
A35: 1 | B35: 1.28 | C35: ²ÛÉ Ñ³Ýó³·áñÍáõÃÛáõÝÝ»ñ | V35: =E35+G35 -> 0 | W35: =K35+L35+N35 -> 0 | X35: =K35 -> 0 | Y35: =H35+I35+J35 -> 0 | Z35: =R35 -> 0 | AA35: =P35+Q35 -> 0 | AB35: =U35 -> 0 | AC35: =S35+T35 -> 0
A36: 0 | B36: 2. | C36: ÀÝ¹³Ù»ÝÁ ³ÝÓÇ ³½³ïáõÃÛ³Ý, å³ïíÇ ¨ ³ñÅ³Ý³å³ïíáõÃÛ³Ý ¹»Ù áõÕÕí³Í Ñ³Ýó³·áñÍáõÃÛáõÝÝ»ñÁ | E36: =SUM(E37:E43) -> 3 | F36: =SUM(F37:F43) -> 0 | G36: =SUM(G37:G43) -> 5 | H36: =SUM(H37:H43) -> 3 | I36: =SUM(I37:I43) -> 0 | J36: =SUM(J37:J43) -> 1 | K36: =SUM(K37:K43) -> 4 | L36: =SUM(L37:L43) -> 0 | ... AC36: =SUM(AC37:AC43) -> 1
A37: 0 | B37: 2.1 | C37: Ø³ñ¹áõÝ ³é¨³Ý·»ÉÁ | D37: 131 | E37: 2 | G37: 4 | H37: 2 | K37: 2 | N37: 4 | P37: 1 | R37: 1 | S37: 1 | U37: 1 | V37: =E37+G37 -> 6 | W37: =K37+L37+N37 -> 6 | X37: =K37 -> 2 | Y37: =H37+I37+J37 -> 2 | Z37: =R37 -> 1 | AA37: =P37+Q37 -> 1 | AB37: =U37 -> 1 | AC37: =S37+T37 -> 1
B38: 2.2 | C38: Մարդու թրաֆիքինգը կամ շահագործումը | D38: 132 | V38: =E38+G38 -> 0 | W38: =K38+L38+N38 -> 0 | X38: =K38 -> 0 | Y38: =H38+I38+J38 -> 0 | Z38: =R38 -> 0 | AA38: =P38+Q38 -> 0 | AB38: =U38 -> 0 | AC38: =S38+T38 -> 0
B39: 2.2.1 | C39: Ø³ñ¹áõÝ åáéÝÇÏáõÃÛ³Ý Ï³Ù ë»é³Ï³Ý ß³Ñ³·áñÍÙ³Ý ³ÛÉ Ó¨»ñÇ Ù»ç, Ñ³ñÏ³¹Çñ ³ßË³ï³ÝùÇ Ï³Ù Í³é³ÛáõÃÛáõÝÝ»ñÇ Ý»ñ·ñ³í»ÉÁ Ï³Ù ëïñÏáõÃÛ³Ý Ï³Ù ëïñÏáõÃÛ³ÝÁ ÝÙ³ÝíáÕ íÇ×³ÏÇ Ù»ç ¹Ý»ÉÁ Ï³Ù å³Ñ»ÉÁ | D39: 132.1 | V39: =E39+G39 -> 0 | W39: =K39+L39+N39 -> 0 | X39: =K39 -> 0 | Y39: =H39+I39+J39 -> 0 | Z39: =R39 -> 0 | AA39: =P39+Q39 -> 0 | AB39: =U39 -> 0 | AC39: =S39+T39 -> 0
B40: 2.3 | C40: ²½³ïáõÃÛáõÝÇó ³åûñÇÝÇ ½ñÏ»ÉÁ | D40: 133 | V40: =E40+G40 -> 0 | W40: =K40+L40+N40 -> 0 | X40: =K40 -> 0 | Y40: =H40+I40+J40 -> 0 | Z40: =R40 -> 0 | AA40: =P40+Q40 -> 0 | AB40: =U40 -> 0 | AC40: =S40+T40 -> 0
B41: 2.4 | C41: Ðá·»µáõÅ³Ï³Ý ÑÇí³Ý¹³ÝáóáõÙ ³åûñÇÝÇ ï»Õ³íáñ»ÉÁ Ï³Ù å³Ñ»ÉÁ | D41: 134 | V41: =E41+G41 -> 0 | W41: =K41+L41+N41 -> 0 | X41: =K41 -> 0 | Y41: =H41+I41+J41 -> 0 | Z41: =R41 -> 0 | AA41: =P41+Q41 -> 0 | AB41: =U41 -> 0 | AC41: =S41+T41 -> 0
B42: 2.7 | C42: êå³ÝáõÃÛ³Ý, ³éáÕçáõÃÛ³ÝÁ Í³Ýñ íÝ³ë å³ï×³é»Éáõ Ï³Ù ·áõÛù áãÝã³óÝ»Éáõ ëå³éÝ³ÉÇùÁ | D42: 137 | E42: 1 | G42: 1 | H42: 1 | J42: 1 | K42: 2 | P42: 1 | R42: 1 | V42: =E42+G42 -> 2 | W42: =K42+L42+N42 -> 2 | X42: =K42 -> 2 | Y42: =H42+I42+J42 -> 2 | Z42: =R42 -> 1 | AA42: =P42+Q42 -> 1 | AB42: =U42 -> 0 | AC42: =S42+T42 -> 0
A43: 0 | B43: 2.8 | C43: ²ÛÉ Ñ³Ýó³·áñÍáõÃÛáõÝÝ»ñ | V43: =E43+G43 -> 0 | W43: =K43+L43+N43 -> 0 | X43: =K43 -> 0 | Y43: =H43+I43+J43 -> 0 | Z43: =R43 -> 0 | AA43: =P43+Q43 -> 0 | AB43: =U43 -> 0 | AC43: =S43+T43 -> 0
A44: 0 | B44: 3. | C44: ÀÝ¹³Ù»ÝÁ ë»é³Ï³Ý ³ÝÓ»éÝÙË»ÉÇáõÃÛ³Ý ¨ ë»é³Ï³Ý ³½³ïáõÃÛ³Ý ¹»Ù áõÕÕí³Í Ñ³Ýó³·áñÍáõÃÛáõÝÝ»ñÁ | E44: =SUM(E45:E50) -> 3 | F44: =SUM(F45:F50) -> 0 | G44: =SUM(G45:G50) -> 2 | H44: =SUM(H45:H50) -> 2 | I44: =SUM(I45:I50) -> 0 | J44: =SUM(J45:J50) -> 0 | K44: =SUM(K45:K50) -> 2 | L44: =SUM(L45:L50) -> 1 | ... AC44: =SUM(AC45:AC50) -> 0
A45: 0 | B45: 3.1 | C45: ´éÝ³µ³ñáõÃÛáõÝÁ | D45: 138 | G45: 2 | L45: 1 | N45: 1 | V45: =E45+G45 -> 2 | W45: =K45+L45+N45 -> 2 | X45: =K45 -> 0 | Y45: =H45+I45+J45 -> 0 | Z45: =R45 -> 0 | AA45: =P45+Q45 -> 0 | AB45: =U45 -> 0 | AC45: =S45+T45 -> 0
B46: 3.2 | C46: ê»ùëáõ³É µÝáõÛÃÇ µéÝÇ ·áñÍáÕáõÃÛáõÝÝ»ñÁ | D46: 139 | E46: 2 | H46: 1 | K46: 1 | N46: 1 | P46: 1 | R46: 1 | V46: =E46+G46 -> 2 | W46: =K46+L46+N46 -> 2 | X46: =K46 -> 1 | Y46: =H46+I46+J46 -> 1 | Z46: =R46 -> 1 | AA46: =P46+Q46 -> 1 | AB46: =U46 -> 0 | AC46: =S46+T46 -> 0
B47: 3.3 | C47: Սեռական հարաբերության կամ սեքսուալ բնույթի գործողություններին հարկադրելը | D47: 140 | V47: =E47+G47 -> 0 | W47: =K47+L47+N47 -> 0 | X47: =K47 -> 0 | Y47: =H47+I47+J47 -> 0 | Z47: =R47 -> 0 | AA47: =P47+Q47 -> 0 | AB47: =U47 -> 0 | AC47: =S47+T47 -> 0
B48: 3.4 | C48: ê»é³Ï³Ý Ñ³ñ³µ»ñáõÃÛáõÝÁ ï³ëÝí»ó ï³ñÇÝ ãÉñ³ó³Í ³ÝÓÇ Ñ»ï Ï³Ù ë»ùëáõ³É µÝáõÛÃÇ ·áñÍáÕáõÃÛáõÝÝ»ñ Ï³ï³ñ»ÉÁ ï³ëÝí»ó ï³ñÇÝ ãÉñ³ó³Í ³ÝÓÇ ÝÏ³ïÙ³Ùµ | D48: 141 | E48: 1 | H48: 1 | K48: 1 | V48: =E48+G48 -> 1 | W48: =K48+L48+N48 -> 1 | X48: =K48 -> 1 | Y48: =H48+I48+J48 -> 1 | Z48: =R48 -> 0 | AA48: =P48+Q48 -> 0 | AB48: =U48 -> 0 | AC48: =S48+T48 -> 0
B49: 3.5 | C49: ²Ý³é³Ï³µ³ñá ·áñÍáÕáõÃÛáõÝÝ»ñÁ | D49: 142 | V49: =E49+G49 -> 0 | W49: =K49+L49+N49 -> 0 | X49: =K49 -> 0 | Y49: =H49+I49+J49 -> 0 | Z49: =R49 -> 0 | AA49: =P49+Q49 -> 0 | AB49: =U49 -> 0 | AC49: =S49+T49 -> 0
B50: 3.6 | C50: ²ÛÉ Ñ³Ýó³·áñÍáõÃÛáõÝÝ»ñ | V50: =E50+G50 -> 0 | W50: =K50+L50+N50 -> 0 | X50: =K50 -> 0 | Y50: =H50+I50+J50 -> 0 | Z50: =R50 -> 0 | AA50: =P50+Q50 -> 0 | AB50: =U50 -> 0 | AC50: =S50+T50 -> 0
B51: 4. | C51: ÀÝ¹³Ù»ÝÁ Ù³ñ¹áõ ¨ ù³Õ³ù³óáõ ë³ÑÙ³Ý³¹ñ³Ï³Ý Çñ³íáõÝùÝ»ñÇ ¨ ³½³ïáõÃÛáõÝÝ»ñÇ ¹»Ù áõÕÕí³Í Ñ³Ýó³·áñÍáõÃÛáõÝÝ»ñÁ | E51: =SUM(E52:E79) -> 1 | F51: =SUM(F52:F79) -> 0 | G51: =SUM(G52:G79) -> 5 | H51: =SUM(H52:H79) -> 3 | I51: =SUM(I52:I79) -> 0 | J51: =SUM(J52:J79) -> 0 | K51: =SUM(K52:K79) -> 3 | L51: =SUM(L52:L79) -> 0 | ... AC51: =SUM(AC52:AC79) -> 1
B52: 4.1 | C52: Ø³ñ¹áõ ¨ ù³Õ³ù³óáõ Çñ³í³Ñ³í³ë³ñáõÃÛáõÝÁ Ë³Ëï»ÉÁ | D52: 143 | V52: =E52+G52 -> 0 | W52: =K52+L52+N52 -> 0 | X52: =K52 -> 0 | Y52: =H52+I52+J52 -> 0 | Z52: =R52 -> 0 | AA52: =P52+Q52 -> 0 | AB52: =U52 -> 0 | AC52: =S52+T52 -> 0
B53: 4.2 | C53: ²ÝÓÝ³Ï³Ý Ï³Ù ÁÝï³Ý»Ï³Ý ÏÛ³ÝùÇ Ù³ëÇÝ ï»Õ»ÏáõÃÛáõÝÝ»ñ ³åûñÇÝÇ Ñ³í³ù»ÉÁ, å³Ñ»ÉÁ, û·ï³·áñÍ»ÉÁ Ï³Ù ï³ñ³Í»ÉÁ | D53: 144 | V53: =E53+G53 -> 0 | W53: =K53+L53+N53 -> 0 | X53: =K53 -> 0 | Y53: =H53+I53+J53 -> 0 | Z53: =R53 -> 0 | AA53: =P53+Q53 -> 0 | AB53: =U53 -> 0 | AC53: =S53+T53 -> 0
B54: 4.3 | C54: ´ÅßÏ³Ï³Ý ·³ÕïÝÇùÁ Ññ³å³ñ³Ï»ÉÁ | D54: 145 | V54: =E54+G54 -> 0 | W54: =K54+L54+N54 -> 0 | X54: =K54 -> 0 | Y54: =H54+I54+J54 -> 0 | Z54: =R54 -> 0 | AA54: =P54+Q54 -> 0 | AB54: =U54 -> 0 | AC54: =S54+T54 -> 0
B55: 4.4 | C55: Ü³Ù³Ï³·ñáõÃÛ³Ý, Ñ»é³Ëáë³ÛÇÝ Ëáë³ÏóáõÃÛáõÝÝ»ñÇ, ÷áëï³ÛÇÝ, Ñ»é³·ñ³Ï³Ý Ï³Ù ³ÛÉ Ñ³Õáñ¹áõÙÝ»ñÇ ·³ÕïÝÇáõÃÛáõÝÁ Ë³Ëï»ÉÁ | D55: 146 | V55: =E55+G55 -> 0 | W55: =K55+L55+N55 -> 0 | X55: =K55 -> 0 | Y55: =H55+I55+J55 -> 0 | Z55: =R55 -> 0 | AA55: =P55+Q55 -> 0 | AB55: =U55 -> 0 | AC55: =S55+T55 -> 0
B56: 4.5 | C56: ´Ý³Ï³ñ³ÝÇ ³ÝÓ»éÝÙË»ÉÇáõÃÛáõÝÁ Ë³Ëï»ÉÁ | D56: 147 | G56: 2 | H56: 1 | K56: 1 | N56: 1 | V56: =E56+G56 -> 2 | W56: =K56+L56+N56 -> 2 | X56: =K56 -> 1 | Y56: =H56+I56+J56 -> 1 | Z56: =R56 -> 0 | AA56: =P56+Q56 -> 0 | AB56: =U56 -> 0 | AC56: =S56+T56 -> 0
B57: 4.6 | C57: ²ÝÓÇÝ ï»Õ»ÏáõÃÛáõÝ Ý»ñÏ³Û³óÝ»Éáõó Ññ³Å³ñí»ÉÁ | D57: 148 | V57: =E57+G57 -> 0 | W57: =K57+L57+N57 -> 0 | X57: =K57 -> 0 | Y57: =H57+I57+J57 -> 0 | Z57: =R57 -> 0 | AA57: =P57+Q57 -> 0 | AB57: =U57 -> 0 | AC57: =S57+T57 -> 0
B58: 4.7 | C58: ÀÝïñ³Ï³Ý Çñ³íáõÝùÇ Çñ³Ï³Ý³óÙ³ÝÁ, ÁÝïñ³Ï³Ý Ñ³ÝÓÝ³ÅáÕáíÝ»ñÇ ³ßË³ï³ÝùÝ»ñÇÝ Ï³Ù ÁÝïñáõÃÛ³ÝÁ Ù³ëÝ³ÏóáÕ ³ÝÓ³Ýó ÉÇ³½áñáõÃÛáõÝÝ»ñÇ Çñ³Ï³Ý³óÙ³ÝÁ ËáãÁÝ¹áï»ÉÁ | D58: 149 | V58: =E58+G58 -> 0 | W58: =K58+L58+N58 -> 0 | X58: =K58 -> 0 | Y58: =H58+I58+J58 -> 0 | Z58: =R58 -> 0 | AA58: =P58+Q58 -> 0 | AB58: =U58 -> 0 | AC58: =S58+T58 -> 0
B59: 4.8 | C59: ÀÝïñáõÃÛáõÝÝ»ñÇ Ï³Ù ùí»³ñÏáõÃÛ³Ý ³ñ¹ÛáõÝùÝ»ñÁ Ï»ÕÍ»ÉÁ | D59: 150 | V59: =E59+G59 -> 0 | W59: =K59+L59+N59 -> 0 | X59: =K59 -> 0 | Y59: =H59+I59+J59 -> 0 | Z59: =R59 -> 0 | AA59: =P59+Q59 -> 0 | AB59: =U59 -> 0 | AC59: =S59+T59 -> 0
B60: 4.9 | C60: ÀÝïñáõÃÛáõÝÝ»ñÇ ³ÝóÏ³óÙ³Ý ÁÝÃ³óùáõÙ Ã»ÏÝ³ÍáõÇ, Ïáõë³ÏóáõÃÛ³Ý (Ïáõë³ÏóáõÃÛáõÝÝ»ñÇ ¹³ßÇÝùÇ) í»ñ³µ»ñÛ³É ½ñå³ñïã³Ï³Ý ï»Õ»ÏáõÃÛáõÝÝ»ñ ï³ñ³Í»ÉÁ | D60: 151 | V60: =E60+G60 -> 0 | W60: =K60+L60+N60 -> 0 | X60: =K60 -> 0 | Y60: =H60+I60+J60 -> 0 | Z60: =R60 -> 0 | AA60: =P60+Q60 -> 0 | AB60: =U60 -> 0 | AC60: =S60+T60 -> 0
B61: 4.10 | C61: ÀÝïñáÕÝ»ñÇ óáõó³ÏÝ»ñÁ Ï³½Ù»Éáõ, ¹ñ³Ýù ù³Õ³ù³óÇÝ»ñÇÝ ¨ Ïáõë³ÏóáõÃÛáõÝÝ»ñÇÝ ïñ³Ù³¹ñ»Éáõ Ï³Ù Ññ³å³ñ³Ï»Éáõ Ï³ñ·Á Ë³Ëï»ÉÁ | D61: 152 | V61: =E61+G61 -> 0 | W61: =K61+L61+N61 -> 0 | X61: =K61 -> 0 | Y61: =H61+I61+J61 -> 0 | Z61: =R61 -> 0 | AA61: =P61+Q61 -> 0 | AB61: =U61 -> 0 | AC61: =S61+T61 -> 0
A62: 0 | B62: 4.11 | C62: Ø»ÏÇó ³í»ÉÇ ³Ý·³Ù Ï³Ù ³ÛÉ ³ÝÓÇ ÷áË³ñ»Ý ùí»³ñÏ»ÉÁ | D62: 153 | V62: =E62+G62 -> 0 | W62: =K62+L62+N62 -> 0 | X62: =K62 -> 0 | Y62: =H62+I62+J62 -> 0 | Z62: =R62 -> 0 | AA62: =P62+Q62 -> 0 | AB62: =U62 -> 0 | AC62: =S62+T62 -> 0
B63: 4.12 | C63: øí»³ñÏáõÃÛ³Ý ·³ÕïÝÇáõÃÛáõÝÁ Ë³Ëï»ÉÁ | D63: 154 | V63: =E63+G63 -> 0 | W63: =K63+L63+N63 -> 0 | X63: =K63 -> 0 | Y63: =H63+I63+J63 -> 0 | Z63: =R63 -> 0 | AA63: =P63+Q63 -> 0 | AB63: =U63 -> 0 | AC63: =S63+T63 -> 0
B64: 4.13 | C64: Î»ÕÍ ÁÝïñ³Ï³Ý ùí»³Ã»ñÃÇÏÝ»ñ Ï³Ù ùí»³ñÏáõÃÛ³Ý Íñ³ñÝ»ñ å³ïñ³ëï»ÉÁ Ï³Ù ³ÏÝÑ³Ûï Ï»ÕÍ ÁÝïñ³Ï³Ý ùí»³Ã»ñÃÇÏÝ»ñ Ï³Ù ùí»³ñÏáõÃÛ³Ý Íñ³ñÝ»ñ Ñ³ÝÓÝ»ÉÁ Ï³Ù Çñ³óÝ»ÉÁ | D64: 154.1 | V64: =E64+G64 -> 0 | W64: =K64+L64+N64 -> 0 | X64: =K64 -> 0 | Y64: =H64+I64+J64 -> 0 | Z64: =R64 -> 0 | AA64: =P64+Q64 -> 0 | AB64: =U64 -> 0 | AC64: =S64+T64 -> 0
B65: 4.14 | C65: ÀÝïñáÕÇ Ï³ÙùÇ ³½³ï Çñ³Ï³Ý³óÙ³ÝÁ ËáãÁÝ¹áï»ÉÁ | D65: 154.2 | V65: =E65+G65 -> 0 | W65: =K65+L65+N65 -> 0 | X65: =K65 -> 0 | Y65: =H65+I65+J65 -> 0 | Z65: =R65 -> 0 | AA65: =P65+Q65 -> 0 | AB65: =U65 -> 0 | AC65: =S65+T65 -> 0
B66: 4.15 | C66: ÀÝïñ³Ï³Ý Ñ³ÝÓÝ³ÅáÕáíÇ ÏÝÇùÁ ãí»ñ³¹³ñÓÝ»ÉÁ, ÏÝÇùÇ å³Ñå³ÝÙ³Ý ë³ÑÙ³Ýí³Í Ï³ñ·Á Ë³Ëï»ÉÁ | D66: 154.3 | V66: =E66+G66 -> 0 | W66: =K66+L66+N66 -> 0 | X66: =K66 -> 0 | Y66: =H66+I66+J66 -> 0 | Z66: =R66 -> 0 | AA66: =P66+Q66 -> 0 | AB66: =U66 -> 0 | AC66: =S66+T66 -> 0
B67: 4.16 | C67: ¼»Ýùáíª ï»Õ³Ù³ë³ÛÇÝ Ï»ÝïñáÝ Ùáõïù ·áñÍ»ÉÁ | D67: 154.4 | V67: =E67+G67 -> 0 | W67: =K67+L67+N67 -> 0 | X67: =K67 -> 0 | Y67: =H67+I67+J67 -> 0 | Z67: =R67 -> 0 | AA67: =P67+Q67 -> 0 | AB67: =U67 -> 0 | AC67: =S67+T67 -> 0
B68: 4.17 | C68: ìëï³Ñí³Í ³ÝÓÇÝ,ÁÝïñ³Ï³Ý Ñ³ÝÓÝ³ÅáÕáíÇ ³Ý¹³ÙÇÝ,¹Çïáñ¹ÇÝ Ï³Ù ½³Ý·í³Í³ÛÇÝ Éñ³ïíáõÃÛ³Ý ÙÇçáóÇ Ý»ñÏ³Û³óáõóãÇÝ ÁÝïñ³Ï³Ý ÷³ëï³ÃÕÃ»ñÇÝ Í³ÝáÃ³Ý³ÉáõÝ ËáãÁÝ¹áï»ÉÁ, ÁÝïñ³Ï³Ý Ñ³ÝÓÝ³ÅáÕáíÇ ³ñÓ³Ý³·ñáõÃÛáõÝÝ»ñÇ å³ï×»ÝÝ»ñ ãï³ÉÁ | D68: 154.5 | V68: =E68+G68 -> 0 | W68: =K68+L68+N68 -> 0 | X68: =K68 -> 0 | Y68: =H68+I68+J68 -> 0 | Z68: =R68 -> 0 | AA68: =P68+Q68 -> 0 | AB68: =U68 -> 0 | AC68: =S68+T68 -> 0
B69: 4.18 | C69: ¶áñÍ³¹áõÉÇ Ù³ëÝ³Ïó»ÉáõÝ Ï³Ù ·áñÍ³¹áõÉÇ Ù³ëÝ³Ïó»Éáõó Ññ³Å³ñí»ÉáõÝ Ñ³ñÏ³¹ñ»ÉÁ | D69: 155 | V69: =E69+G69 -> 0 | W69: =K69+L69+N69 -> 0 | X69: =K69 -> 0 | Y69: =H69+I69+J69 -> 0 | Z69: =R69 -> 0 | AA69: =P69+Q69 -> 0 | AB69: =U69 -> 0 | AC69: =S69+T69 -> 0
B70: 4.19 | C70: ÐÕÇ ÏÝáçÁ Ï³Ù ÙÇÝã¨ »ñ»ù ï³ñ»Ï³Ý »ñ»Ë³ áõÝ»óáÕ ³ÝÓÇÝ ³ßË³ï³ÝùÇ ÁÝ¹áõÝ»Éáõõó Ññ³Å³ñí»ÉÁ Ï³Ù ³ßË³ï³ÝùÇó ³ÝÑÇÙÝ ³½³ï»ÉÁ | D70: 156 | V70: =E70+G70 -> 0 | W70: =K70+L70+N70 -> 0 | X70: =K70 -> 0 | Y70: =H70+I70+J70 -> 0 | Z70: =R70 -> 0 | AA70: =P70+Q70 -> 0 | AB70: =U70 -> 0 | AC70: =S70+T70 -> 0
B71: 4.20 | C71: ²ßË³ï³ÝùÇ å³ßïå³ÝáõÃÛ³Ý Ï³ÝáÝÝ»ñÁ Ë³Ëï»ÉÁ | D71: 157 | E71: 1 | G71: 3 | H71: 2 | K71: 2 | N71: 2 | P71: 1 | R71: 1 | S71: 1 | U71: 1 | V71: =E71+G71 -> 4 | W71: =K71+L71+N71 -> 4 | X71: =K71 -> 2 | Y71: =H71+I71+J71 -> 2 | Z71: =R71 -> 1 | AA71: =P71+Q71 -> 1 | AB71: =U71 -> 1 | AC71: =S71+T71 -> 1
B72: 4.21 | C72: Ð»ÕÇÝ³Ï³ÛÇÝ ¨ Ñ³ñ³ÏÇó Çñ³íáõÝùÝ»ñÁ Ë³Ëï»ÉÁ | D72: 158 | V72: =E72+G72 -> 0 | W72: =K72+L72+N72 -> 0 | X72: =K72 -> 0 | Y72: =H72+I72+J72 -> 0 | Z72: =R72 -> 0 | AA72: =P72+Q72 -> 0 | AB72: =U72 -> 0 | AC72: =S72+T72 -> 0
B73: 4.22 | C73: ²ñïáÝ³·ñ³ÛÇÝ Çñ³íáõÝùÁ Ë³Ëï»ÉÁ | D73: 159 | V73: =E73+G73 -> 0 | W73: =K73+L73+N73 -> 0 | X73: =K73 -> 0 | Y73: =H73+I73+J73 -> 0 | Z73: =R73 -> 0 | AA73: =P73+Q73 -> 0 | AB73: =U73 -> 0 | AC73: =S73+T73 -> 0
B74: 4.23 | C74: ÊÕ×Ç Ï³Ù ¹³í³Ý³ÝùÇ ³½³ïáõÃÛ³Ý Çñ³íáõÝùÇ Çñ³Ï³Ý³óÙ³ÝÁ ËáãÁÝ¹áï»ÉÁ | D74: 160 | V74: =E74+G74 -> 0 | W74: =K74+L74+N74 -> 0 | X74: =K74 -> 0 | Y74: =H74+I74+J74 -> 0 | Z74: =R74 -> 0 | AA74: =P74+Q74 -> 0 | AB74: =U74 -> 0 | AC74: =S74+T74 -> 0
B75: 4.24 | C75: ØÇ³íáñáõÙÝ»ñ (Ñ³ë³ñ³Ï³Ï³Ý Ï³Ù ³ñÑ»ëï³Ïó³Ï³Ý ÙÇáõÃÛáõÝÝ»ñ) Ï³½Ù»Éáõ Ï³Ù Ïáõë³ÏóáõÃÛáõÝÝ»ñ ëï»ÕÍ»Éáõ Çñ³íáõÝùÇ Çñ³Ï³Ý³óÙ³ÝÁ Ï³Ù ¹ñ³Ýó ·áñÍáÕáõÃÛ³ÝÁ ËáãÁÝ¹áï»ÉÁ | D75: 161 | V75: =E75+G75 -> 0 | W75: =K75+L75+N75 -> 0 | X75: =K75 -> 0 | Y75: =H75+I75+J75 -> 0 | Z75: =R75 -> 0 | AA75: =P75+Q75 -> 0 | AB75: =U75 -> 0 | AC75: =S75+T75 -> 0
B76: 4.25 | C76: ²ÝÓ³Ýó Çñ³íáõÝùÝ»ñÇ Ï³Ù ³ÝÓÇ ¹»Ù áïÝÓ·áÕ ÙÇ³íáñáõÙÝ»ñ Ï³½Ù»ÉÁ Ï³Ù Õ»Ï³í³ñ»ÉÁ | D76: 162 | V76: =E76+G76 -> 0 | W76: =K76+L76+N76 -> 0 | X76: =K76 -> 0 | Y76: =H76+I76+J76 -> 0 | Z76: =R76 -> 0 | AA76: =P76+Q76 -> 0 | AB76: =U76 -> 0 | AC76: =S76+T76 -> 0
B77: 4.26 | C77: Հավաքներ անցկացնելուն կամ դրանց մասնակցելուն խոչընդոտելը | D77: 163 | V77: =E77+G77 -> 0 | W77: =K77+L77+N77 -> 0 | X77: =K77 -> 0 | Y77: =H77+I77+J77 -> 0 | Z77: =R77 -> 0 | AA77: =P77+Q77 -> 0 | AB77: =U77 -> 0 | AC77: =S77+T77 -> 0
B78: 4.27 | C78: Èñ³·ñáÕÇ Ù³ëÝ³·Çï³Ï³Ý ûñÇÝ³Ï³Ý ·áñÍáÕáõÃÛ³ÝÁ ËáãÁÝ¹áï»ÉÁ | D78: 164 | V78: =E78+G78 -> 0 | W78: =K78+L78+N78 -> 0 | X78: =K78 -> 0 | Y78: =H78+I78+J78 -> 0 | Z78: =R78 -> 0 | AA78: =P78+Q78 -> 0 | AB78: =U78 -> 0 | AC78: =S78+T78 -> 0
B79: 4.28 | C79: ²ÛÉ Ñ³Ýó³·áñÍáõÃÛáõÝÝ»ñ | V79: =E79+G79 -> 0 | W79: =K79+L79+N79 -> 0 | X79: =K79 -> 0 | Y79: =H79+I79+J79 -> 0 | Z79: =R79 -> 0 | AA79: =P79+Q79 -> 0 | AB79: =U79 -> 0 | AC79: =S79+T79 -> 0
B80: 5. | C80: ÀÝ¹³Ù»ÝÁ ÁÝï³ÝÇùÇ ¨ »ñ»Ë³ÛÇ ß³Ñ»ñÇ ¹»Ù áõÕÕí³Í Ñ³Ýó³·áñÍáõÃÛáõÝÝ»ñÁ | E80: =SUM(E81:E92) -> 0 | F80: =SUM(F81:F92) -> 0 | G80: =SUM(G81:G92) -> 0 | H80: =SUM(H81:H92) -> 0 | I80: =SUM(I81:I92) -> 0 | J80: =SUM(J81:J92) -> 0 | K80: =SUM(K81:K92) -> 0 | L80: =SUM(L81:L92) -> 0 | ... AC80: =SUM(AC81:AC92) -> 0
B81: 5.1 | C81: ²Ýã³÷³Ñ³ëÇÝ Ñ³Ýó³ÝùÇ Ï³ï³ñÙ³ÝÁ Ý»ñ·ñ³í»ÉÁ | D81: 165 | V81: =E81+G81 -> 0 | W81: =K81+L81+N81 -> 0 | X81: =K81 -> 0 | Y81: =H81+I81+J81 -> 0 | Z81: =R81 -> 0 | AA81: =P81+Q81 -> 0 | AB81: =U81 -> 0 | AC81: =S81+T81 -> 0
B82: 5.2 | C82: ºñ»Ë³ÛÇÝ åáéÝÏáõÃÛ³Ý Ï³Ù åáéÝÏ³·ñ³Ï³Ý µÝáõÛÃÇ ÝÛáõÃ»ñ Ï³Ù ³é³ñÏ³Ý»ñ å³ïñ³ëï»Éáõ Ñ»ï Ï³åí³Í ·áñÍáÕáõÃÛáõÝÝ»ñ Ï³ï³ñ»ÉáõÝ Ý»ñ·ñ³í»ÉÁ | D82: 166 | V82: =E82+G82 -> 0 | W82: =K82+L82+N82 -> 0 | X82: =K82 -> 0 | Y82: =H82+I82+J82 -> 0 | Z82: =R82 -> 0 | AA82: =P82+Q82 -> 0 | AB82: =U82 -> 0 | AC82: =S82+T82 -> 0
B83: 5.3 | C83: ÌÝáÕÝ»ñÇó »ñ»Ë³ÛÇÝ ³åûñÇÝÇ µ³Å³Ý»ÉÁ Ï³Ù »ñ»Ë³ÛÇÝ ÷áË»ÉÁ | D83: 167 | V83: =E83+G83 -> 0 | W83: =K83+L83+N83 -> 0 | X83: =K83 -> 0 | Y83: =H83+I83+J83 -> 0 | Z83: =R83 -> 0 | AA83: =P83+Q83 -> 0 | AB83: =U83 -> 0 | AC83: =S83+T83 -> 0
B84: 5.4 | C84: ÊÝ³ÙùÁ ëï³ÝÓÝ»Éáõ Ýå³ï³Ïáí »ñ»Ë³ÛÇ ³éùÁ Ï³Ù ëï³ÝÓÝáÕÇ ËÝ³ÙùÇÝ Ñ³ÝÓÝ»Éáõ Ýå³ï³Ïáí »ñ»Ë³ÛÇ í³×³éùÁ | D84: 168 | V84: =E84+G84 -> 0 | W84: =K84+L84+N84 -> 0 | X84: =K84 -> 0 | Y84: =H84+I84+J84 -> 0 | Z84: =R84 -> 0 | AA84: =P84+Q84 -> 0 | AB84: =U84 -> 0 | AC84: =S84+T84 -> 0
B85: 5.5 | C85: àñ¹»·ñÙ³Ý ·³ÕïÝÇùÁ Ññ³å³ñ³Ï»ÉÁ Ï³Ù áñ¹»·ñÙ³Ý Ñ³Ù³Ó³ÛÝáõÃÛáõÝ ï³ÉáõÝ Ñ³Ï»ÉÁ Ï³Ù Ñ³ñÏ³¹ñ»ÉÁ | D85: 169 | V85: =E85+G85 -> 0 | W85: =K85+L85+N85 -> 0 | X85: =K85 -> 0 | Y85: =H85+I85+J85 -> 0 | Z85: =R85 -> 0 | AA85: =P85+Q85 -> 0 | AB85: =U85 -> 0 | AC85: =S85+T85 -> 0
B86: 5.6 | C86: ø³Õ³ù³óÇ³Ï³Ý Ï³óáõÃÛ³Ý ³Ïï»ñÇ ·ñ³ÝóÙ³Ý Ù³ñÙÇÝÝ»ñÇÝ ëáõï ï»Õ»ÏáõÃÛáõÝÝ»ñ Ñ³Õáñ¹»ÉÁ | D86: 169.1 | V86: =E86+G86 -> 0 | W86: =K86+L86+N86 -> 0 | X86: =K86 -> 0 | Y86: =H86+I86+J86 -> 0 | Z86: =R86 -> 0 | AA86: =P86+Q86 -> 0 | AB86: =U86 -> 0 | AC86: =S86+T86 -> 0
B87: 5.7 | C87: ºñ»Ë³ÛÇÝ ¹³ëïÇ³ñ³Ï»Éáõ å³ñï³Ï³ÝáõÃÛáõÝÁ ãÏ³ï³ñ»ÉÁ | D87: 170 | V87: =E87+G87 -> 0 | W87: =K87+L87+N87 -> 0 | X87: =K87 -> 0 | Y87: =H87+I87+J87 -> 0 | Z87: =R87 -> 0 | AA87: =P87+Q87 -> 0 | AB87: =U87 -> 0 | AC87: =S87+T87 -> 0
B88: 5.8 | C88: ºñ»Ë³ÛÇ ÏÛ³ÝùÇ ³Ýíï³Ý·áõÃÛ³Ý ³å³ÑáíÙ³Ý Ï³Ù ³éáÕçáõÃÛ³Ý å³Ñå³ÝÙ³Ý å³ñï³Ï³ÝáõÃÛáõÝÁ ãÏ³ï³ñ»ÉÁ Ï³Ù áã å³ïß³× Ï³ï³ñ»ÉÁ | D88: 171 | V88: =E88+G88 -> 0 | W88: =K88+L88+N88 -> 0 | X88: =K88 -> 0 | Y88: =H88+I88+J88 -> 0 | Z88: =R88 -> 0 | AA88: =P88+Q88 -> 0 | AB88: =U88 -> 0 | AC88: =S88+T88 -> 0
B89: 5.9 | C89: ÊÝ³Ù³Ï³ÉÇ Ï³Ù Ñá·³µ³ñÓáõÇ Çñ³íáõÝùÝ»ñÁ ã³ñ³ß³Ñ»ÉÁ | D89: 172 | V89: =E89+G89 -> 0 | W89: =K89+L89+N89 -> 0 | X89: =K89 -> 0 | Y89: =H89+I89+J89 -> 0 | Z89: =R89 -> 0 | AA89: =P89+Q89 -> 0 | AB89: =U89 -> 0 | AC89: =S89+T89 -> 0
A90: 0 | B90: 5.10 | C90: ÌÝáÕÇ ÏáÕÙÇó »ñ»Ë³ÛÇÝ å³Ñ»Éáõó ã³ñ³Ùïáñ»Ý Ëáõë³÷»ÉÁ (áõÅÁ Ïáñóñ³Í) | D90: 173 | V90: =E90+G90 -> 0 | W90: =K90+L90+N90 -> 0 | X90: =K90 -> 0 | Y90: =H90+I90+J90 -> 0 | Z90: =R90 -> 0 | AA90: =P90+Q90 -> 0 | AB90: =U90 -> 0 | AC90: =S90+T90 -> 0
B91: 5.11 | C91: ¼³í³ÏÇ ÏáÕÙÇó ³Ý³ßË³ïáõÝ³Ï ÍÝáÕÇÝ å³Ñ»Éáõó ã³ñ³Ùïáñ»Ý Ëáõë³÷»ÉÁ | D91: 174 | V91: =E91+G91 -> 0 | W91: =K91+L91+N91 -> 0 | X91: =K91 -> 0 | Y91: =H91+I91+J91 -> 0 | Z91: =R91 -> 0 | AA91: =P91+Q91 -> 0 | AB91: =U91 -> 0 | AC91: =S91+T91 -> 0
B92: 5.12 | C92: ²ÛÉ Ñ³Ýó³·áñÍáõÃÛáõÝÝ»ñ | V92: =E92+G92 -> 0 | W92: =K92+L92+N92 -> 0 | X92: =K92 -> 0 | Y92: =H92+I92+J92 -> 0 | Z92: =R92 -> 0 | AA92: =P92+Q92 -> 0 | AB92: =U92 -> 0 | AC92: =S92+T92 -> 0
B93: 6. | C93: ÀÝ¹³Ù»ÝÁ ë»÷³Ï³ÝáõÃÛ³Ý ¹»Ù áõÕÕí³Í Ñ³Ýó³·áñÍáõÃÛáõÝÝ»ñÁ | E93: =SUM(E94:E106) -> 40 | F93: =SUM(F94:F106) -> 5 | G93: =SUM(G94:G106) -> 104 | H93: =SUM(H94:H106) -> 63 | I93: =SUM(I94:I106) -> 10 | J93: =SUM(J94:J106) -> 0 | K93: =SUM(K94:K106) -> 73 | L93: =SUM(L94:L106) -> 4 | ... AC93: =SUM(AC94:AC106) -> 0
B94: 6.1 | C94: ²í³½³ÏáõÃÛáõÝÁ | D94: 175 | E94: 2 | G94: 4 | H94: 2 | K94: 2 | N94: 4 | V94: =E94+G94 -> 6 | W94: =K94+L94+N94 -> 6 | X94: =K94 -> 2 | Y94: =H94+I94+J94 -> 2 | Z94: =R94 -> 0 | AA94: =P94+Q94 -> 0 | AB94: =U94 -> 0 | AC94: =S94+T94 -> 0
B95: 6.2 | C95: ÎáÕáåáõïÁ | D95: 176 | E95: 6 | F95: 1 | G95: 15 | H95: 13 | K95: 13 | N95: 8 | O95: 1 | P95: 4 | R95: 4 | V95: =E95+G95 -> 21 | W95: =K95+L95+N95 -> 21 | X95: =K95 -> 13 | Y95: =H95+I95+J95 -> 13 | Z95: =R95 -> 4 | AA95: =P95+Q95 -> 4 | AB95: =U95 -> 0 | AC95: =S95+T95 -> 0
B96: 6.3 | C96: ¶áÕáõÃÛáõÝÁ | D96: 177 | E96: 13 | F96: 2 | G96: 52 | H96: 25 | I96: 8 | K96: 33 | L96: 1 | N96: 29 | O96: 2 | P96: 6 | R96: 6 | V96: =E96+G96 -> 65 | W96: =K96+L96+N96 -> 63 | X96: =K96 -> 33 | Y96: =H96+I96+J96 -> 33 | Z96: =R96 -> 6 | AA96: =P96+Q96 -> 6 | AB96: =U96 -> 0 | AC96: =S96+T96 -> 0
B97: 6.4 | C97: Ê³ñ¹³ËáõÃÛáõÝÁ | D97: 178 | E97: 15 | F97: 1 | G97: 26 | H97: 17 | I97: 2 | K97: 19 | L97: 3 | N97: 18 | O97: 1 | P97: 5 | R97: 5 | V97: =E97+G97 -> 41 | W97: =K97+L97+N97 -> 40 | X97: =K97 -> 19 | Y97: =H97+I97+J97 -> 19 | Z97: =R97 -> 5 | AA97: =P97+Q97 -> 5 | AB97: =U97 -> 0 | AC97: =S97+T97 -> 0
B98: 6.5 | C98: Úáõñ³óÝ»ÉÁ Ï³Ù í³ïÝ»ÉÁ | D98: 179 | E98: 3 | F98: 1 | G98: 4 | H98: 4 | K98: 4 | N98: 3 | O98: 2 | V98: =E98+G98 -> 7 | W98: =K98+L98+N98 -> 7 | X98: =K98 -> 4 | Y98: =H98+I98+J98 -> 4 | Z98: =R98 -> 0 | AA98: =P98+Q98 -> 0 | AB98: =U98 -> 0 | AC98: =S98+T98 -> 0
B99: 6.6 | C99: ²é³ÝÓÝ³ÏÇ ³ñÅ»ù áõÝ»óáÕ ³é³ñÏ³Ý»ñ Ñ³÷ßï³Ï»ÉÁ | D99: 180 | V99: =E99+G99 -> 0 | W99: =K99+L99+N99 -> 0 | X99: =K99 -> 0 | Y99: =H99+I99+J99 -> 0 | Z99: =R99 -> 0 | AA99: =P99+Q99 -> 0 | AB99: =U99 -> 0 | AC99: =S99+T99 -> 0
B100: 6.7 | C100: Ð³÷ßï³ÏáõÃÛáõÝÁ, áñÁ Ï³ï³ñí»É ¿ Ñ³Ù³Ï³ñ·ã³ÛÇÝ ï»ËÝÇÏ³ÛÇ û·ï³·áñÍÙ³Ùµ | D100: 181 | V100: =E100+G100 -> 0 | W100: =K100+L100+N100 -> 0 | X100: =K100 -> 0 | Y100: =H100+I100+J100 -> 0 | Z100: =R100 -> 0 | AA100: =P100+Q100 -> 0 | AB100: =U100 -> 0 | AC100: =S100+T100 -> 0
...

Sheet Kentron
B1: 2015Ã. | E1: Ð²ÞìºîìàôÂÚàôÜ | R1: Ð³í»Éí³Í Ð³Û³ëï³ÝÇ Ð³Ýñ³å»ïáõÃÛ³Ý ¸³ï³ñ³ÝÝ»ñÇ Ý³Ë³·³ÑÝ»ñÇ ËáñÑñ¹Ç 01.02.2016Ã. ÃÇí 11È áñáßÙ³Ý
B2: ºðºì²Ü ø²Ô²øÆ ÎºÜîðàÜ ºì Üàðø-Ø²ð²Þ ì²ðâ²Î²Ü Þðæ²ÜÜºðÆ ÀÜ¸Ð²Üàôð Æð²ì²êàôÂÚ²Ü ²è²æÆÜ ²îÚ²ÜÆ ¸²î²ð²ՆàôØ ՔՐԵԱԿԱՆ ¶àðÌºðÆ øÜÜàôÂÚ²Ü ìºð²´ºðÚ²È
B3: ºñ¨³Ý ù³Õ³ùÇ Î»ÝïñáÝ ¨ Üáñù-Ø³ñ³ß í³ñã³Ï³Ý ßñç³ÝÝ»ñÇ ÁÝ¹Ñ³Ýáõñ Çñ³í³ëáõÃÛ³Ý ³é³çÇÝ ³ïÛ³ÝÇ ¹³ï³ñ³ÝáõÙ ùñ»³Ï³Ý Ù³ëÝ³·Çï³óáõÙ áõÝ»óáÕ ¹³ï³íáñÝ»ñÇ Ñ³ëïÇùÝ»ñÇ ù³Ý³ÏÁ` 5
B4: êïáõ·Çã Ñ³í³ë³ñáõÙÝ»ñ` 1+3=7+8+10, 7=4+5+6, 14=12+13, 17=15+16 | D4: ÐÐ ùñ»³Ï³Ý ûñ»Ýë·ñùÇ Ñá¹í³ÍÝ»ñ | E4: Ð³ßí»ïáõ Å³Ù³Ý³Ï³Ñ³ïí³ÍÇ ëÏ½µáõÙ Ý³Ëáñ¹ Ñ³ßí»ïáõ Å³Ù³Ý³Ï³Ñ³ïí³ÍÇó ÷áË³Ýóí³Í ·áñÍ»ñÇ ÁÝ¹Ñ³Ýáõñ ÃÇíÁ | F4: ²Û¹ ÃíáõÙ` Ï³ë»óí³Í íÇ×³ÏáõÙ ÷áË³Ýóí³Í | G4: Ð³ßí»ïáõ Å³Ù³Ý³Ï³Ñ³ïí³ÍáõÙ ëï³óí³Í ·áñÍ»ñÇ ÁÝ¹Ñ³Ýáõñ ÃÇíÁ | H4: Ð³ßí»ïáõ Å³Ù³Ý³Ï³Ñ³ïí³ÍáõÙ ³í³ñïí³Í ·áñÍ»ñի ընդհանուր թիվը | L4: àõÕ³ñÏí»É ¿ Áëï ÁÝ¹¹³ïáõÃÛ³Ý | M4: Ð³ßí»ïáõ Å³Ù³Ý³Ï³Ñ³ïí³ÍáõÙ Ï³ë»óí³Í í³ñáõÛÃÝ»ñáí ·áñÍ»ñÇ ÁÝ¹Ñ³Ýáõñ ÃÇíÁ | N4: Ð³ßí»ïáõ Å³Ù³Ý³Ï³Ñ³ïí³ÍáõÙ ³Ý³í³ñï ·áñÍ»ñÇ ÁÝ¹Ñ³Ýáõñ ÃÇíÁ | O4: ²Û¹ ÃíáõÙª Ï³ë»óí³Í | P4: ´áÕáù³ñÏí³Í ¹³ï³Ï³Ý ³Ïï»ñÇ ÃÇíÁ` Áëï ï»ë³ÏÝ»ñÇ | S4: ´»Ï³Ýí³Í ¹³ï³Ï³Ý ³Ïï»ñÇ ÃÇíÁ` Áëï ï»ë³ÏÝ»ñÇ
H5: øÝÝí»É ¿ Áëï ¿áõÃÛ³Ý ¨ ¹³ï³í×Çé Ï³Û³óí»É | J5: ՈñáßáõÙ ¿ Ï³Û³óí»É ³ÝÙ»ÕëáõÝ³ÏÝ»ñÇ ÝÏ³ïÙ³Ùµ µÅßÏ³Ï³Ý µÝáõÛÃÇ Ñ³ñÏ³¹ñ³Ï³Ý ÙÇçáóÝ»ñ ÏÇñ³é»Éáõ Ù³ëÇÝ | K5: ÀÝ¹³Ù»ÝÁ ³í³ñïí»É »Ý ·áñÍ»ñ
I6: ՈñáßáõÙ ¿ Ï³Û³óí»É ùñ»³Ï³Ý ·áñÍÇ í³ñáõÛÃÁ Ï³ñ×»Éáõ ¨ ùñ»³Ï³Ý Ñ»ï³åÝ¹áõÙÁ ¹³¹³ñ»óÝ»Éáõ Ù³ëÇÝ | P6: ²Û¹ ÃíáõÙ` ·áñÍÝ Áëï ¿áõÃÛ³Ý ÉáõÍáÕ ¹³ï³Ï³Ý ³Ïï»ñÁ | Q6: ²Û¹ ÃíáõÙ` ÙÇç³ÝÏÛ³É ¹³ï³Ï³Ý ³Ïï»ñÁ | R6: ÀÝ¹³Ù»ÝÁ | S6: ²Û¹ ÃíáõÙ` ·áñÍÝ Áëï ¿áõÃÛ³Ý ÉáõÍáÕ ¹³ï³Ï³Ý ³Ïï»ñÁ | T6: ²Û¹ ÃíáõÙ` ÙÇç³ÝÏÛ³É ¹³ï³Ï³Ý ³Ïï»ñÁ | U6: ÀÝ¹³Ù»ÝÁ
E7: 1 | F7: 2 | G7: 3 | H7: 4 | I7: 5 | J7: 6 | K7: 7 | L7: 8 | M7: 9 | N7: 10 | O7: 11 | P7: 12 | Q7: 13 | R7: 14 | S7: 15 | T7: 16 | U7: 17 | V7: 1+3=7+8+10 | X7: 7=4+5+6 | Z7: 14=12+13 | AB7: 17=15+16
A8: 1 | B8: 1. | C8: ÀÝ¹³Ù»ÝÁ ÏÛ³ÝùÇ ¨ ³éáÕçáõÃÛ³Ý ¹»Ù áõÕÕí³Í Ñ³Ýó³·áñÍáõÃÛáõÝÝ»ñÁ | E8: =SUM(E9:E35) -> 17 | F8: =SUM(F9:F35) -> 0 | G8: =SUM(G9:G35) -> 41 | H8: =SUM(H9:H35) -> 31 | I8: =SUM(I9:I35) -> 8 | J8: =SUM(J9:J35) -> 1 | K8: =SUM(K9:K35) -> 40 | L8: =SUM(L9:L35) -> 0 | ... AC8: =SUM(AC9:AC35) -> 1
A9: 0 | B9: 1.1 | C9: êå³ÝáõÃÛáõÝÁ | D9: 104 | E9: 3 | G9: 3 | H9: 2 | K9: 2 | N9: 4 | P9: 2 | R9: 2 | V9: =E9+G9 -> 6 | W9: =K9+L9+N9 -> 6 | X9: =K9 -> 2 | Y9: =H9+I9+J9 -> 2 | Z9: =R9 -> 2 | AA9: =P9+Q9 -> 2 | AB9: =U9 -> 0 | AC9: =S9+T9 -> 0
A10: 0 | B10: 1.2 | C10: Ðá·»Ï³Ý ËÇëï Ñáõ½ÙáõÝùÇ íÇ×³ÏáõÙ Ï³ï³ñí³Í ëå³ÝáõÃÛáõÝÁ | D10: 105 | V10: =E10+G10 -> 0 | W10: =K10+L10+N10 -> 0 | X10: =K10 -> 0 | Y10: =H10+I10+J10 -> 0 | Z10: =R10 -> 0 | AA10: =P10+Q10 -> 0 | AB10: =U10 -> 0 | AC10: =S10+T10 -> 0
A11: 0 | B11: 1.3 | C11: Øáñ ÏáÕÙÇó Ýáñ³ÍÇÝ »ñ»Ë³ÛÇ ëå³ÝáõÃÛáõÝÁ | D11: 106 | V11: =E11+G11 -> 0 | W11: =K11+L11+N11 -> 0 | X11: =K11 -> 0 | Y11: =H11+I11+J11 -> 0 | Z11: =R11 -> 0 | AA11: =P11+Q11 -> 0 | AB11: =U11 -> 0 | AC11: =S11+T11 -> 0
A12: 0 | B12: 1.4 | C12: Ð³Ýó³Ýù Ï³ï³ñ³Í ³ÝÓÇÝ µéÝ»Éáõ Ñ³Ù³ñ ³ÝÑñ³Å»ßï ÙÇçáóÝ»ñÇ ë³ÑÙ³Ý³½³ÝóÙ³Ùµ ëå³ÝáõÃÛáõÝÁ | D12: 107 | V12: =E12+G12 -> 0 | W12: =K12+L12+N12 -> 0 | X12: =K12 -> 0 | Y12: =H12+I12+J12 -> 0 | Z12: =R12 -> 0 | AA12: =P12+Q12 -> 0 | AB12: =U12 -> 0 | AC12: =S12+T12 -> 0
A13: 0 | B13: 1.5 | C13: ²ÝÑñ³Å»ßï å³ßïå³ÝáõÃÛ³Ý ë³ÑÙ³Ý³½³ÝóÙ³Ùµ ëå³ÝáõÃÛáõÝÁ | D13: 108 | V13: =E13+G13 -> 0 | W13: =K13+L13+N13 -> 0 | X13: =K13 -> 0 | Y13: =H13+I13+J13 -> 0 | Z13: =R13 -> 0 | AA13: =P13+Q13 -> 0 | AB13: =U13 -> 0 | AC13: =S13+T13 -> 0
A14: 0 | B14: 1.6 | C14: ²Ý½·áõßáõÃÛ³Ùµ Ù³Ñ å³ï×³é»ÉÁ | D14: 109 | V14: =E14+G14 -> 0 | W14: =K14+L14+N14 -> 0 | X14: =K14 -> 0 | Y14: =H14+I14+J14 -> 0 | Z14: =R14 -> 0 | AA14: =P14+Q14 -> 0 | AB14: =U14 -> 0 | AC14: =S14+T14 -> 0
A15: 0 | B15: 1.7 | C15: ÆÝùÝ³ëå³ÝáõÃÛ³Ý Ñ³ëóÝ»ÉÁ | D15: 110 | V15: =E15+G15 -> 0 | W15: =K15+L15+N15 -> 0 | X15: =K15 -> 0 | Y15: =H15+I15+J15 -> 0 | Z15: =R15 -> 0 | AA15: =P15+Q15 -> 0 | AB15: =U15 -> 0 | AC15: =S15+T15 -> 0
A16: 0 | B16: 1.8 | C16: ÆÝùÝ³ëå³ÝáõÃÛ³Ý Ñ³Ï»ÉÁ | D16: 111 | V16: =E16+G16 -> 0 | W16: =K16+L16+N16 -> 0 | X16: =K16 -> 0 | Y16: =H16+I16+J16 -> 0 | Z16: =R16 -> 0 | AA16: =P16+Q16 -> 0 | AB16: =U16 -> 0 | AC16: =S16+T16 -> 0
A17: 0 | B17: 1.9 | C17: ¸Çï³íáñáõÃÛ³Ùµ ³éáÕçáõÃÛ³ÝÁ Í³Ýñ íÝ³ë å³ï×³é»ÉÁ | D17: 112 | E17: 10 | G17: 13 | H17: 16 | K17: 16 | N17: 7 | P17: 5 | R17: 5 | V17: =E17+G17 -> 23 | W17: =K17+L17+N17 -> 23 | X17: =K17 -> 16 | Y17: =H17+I17+J17 -> 16 | Z17: =R17 -> 5 | AA17: =P17+Q17 -> 5 | AB17: =U17 -> 0 | AC17: =S17+T17 -> 0
A18: 0 | B18: 1.10 | C18: ¸Çï³íáñáõÃÛ³Ùµ ³éáÕçáõÃÛ³ÝÁ ÙÇçÇÝ Í³ÝñáõÃÛ³Ý íÝ³ë å³ï×³é»ÉÁ | D18: 113 | G18: 3 | H18: 2 | K18: 2 | N18: 1 | P18: 2 | R18: 2 | V18: =E18+G18 -> 3 | W18: =K18+L18+N18 -> 3 | X18: =K18 -> 2 | Y18: =H18+I18+J18 -> 2 | Z18: =R18 -> 2 | AA18: =P18+Q18 -> 2 | AB18: =U18 -> 0 | AC18: =S18+T18 -> 0
A19: 0 | B19: 1.11 | C19: Ðá·»Ï³Ý ËÇëï Ñáõ½ÙáõÝùÇ íÇ×³ÏáõÙ ³éáÕçáõÃÛ³ÝÁ Í³Ýñ Ï³Ù ÙÇçÇÝ Í³ÝñáõÃÛ³Ý íÝ³ë å³ï×³é»ÉÁ | D19: 114 | V19: =E19+G19 -> 0 | W19: =K19+L19+N19 -> 0 | X19: =K19 -> 0 | Y19: =H19+I19+J19 -> 0 | Z19: =R19 -> 0 | AA19: =P19+Q19 -> 0 | AB19: =U19 -> 0 | AC19: =S19+T19 -> 0
A20: 0 | B20: 1.12 | C20: Ð³Ýó³Ýù Ï³ï³ñ³Í ³ÝÓÇÝ µéÝ»Éáõ Ñ³Ù³ñ ³ÝÑñ³Å»ßï ÙÇçáóÝ»ñÇ ë³ÑÙ³Ý½³ÝóÙ³Ùµ ³éáÕçáõÃÛ³ÝÁ Í³Ýñ Ï³Ù ÙÇçÇÝ Í³ÝñáõÃÛ³Ý íÝ³ë å³ï×³é»ÉÁ | D20: 115 | V20: =E20+G20 -> 0 | W20: =K20+L20+N20 -> 0 | X20: =K20 -> 0 | Y20: =H20+I20+J20 -> 0 | Z20: =R20 -> 0 | AA20: =P20+Q20 -> 0 | AB20: =U20 -> 0 | AC20: =S20+T20 -> 0
A21: 0 | B21: 1.13 | C21: ²éáÕçáõÃÛ³ÝÁ Í³Ýñ Ï³Ù ÙÇçÇÝ Í³ÝñáõÃÛ³Ý íÝ³ë å³ï×³é»ÉÁ ³ÝÑñ³Å»ßï å³ßïå³ÝáõÃÛ³Ý ë³ÑÙ³Ý³Ý³½³ÝóÙ³Ùµ | D21: 116 | V21: =E21+G21 -> 0 | W21: =K21+L21+N21 -> 0 | X21: =K21 -> 0 | Y21: =H21+I21+J21 -> 0 | Z21: =R21 -> 0 | AA21: =P21+Q21 -> 0 | AB21: =U21 -> 0 | AC21: =S21+T21 -> 0
A22: 0 | B22: 1.14 | C22: ¸Çï³íáñáõÃÛ³Ùµ ³éáÕçáõÃÛ³ÝÁ Ã»Ã¨ íÝ³ë å³ï×³é»ÉÁ | D22: 117 | E22: 2 | G22: 5 | H22: 2 | I22: 2 | J22: 1 | K22: 5 | N22: 2 | V22: =E22+G22 -> 7 | W22: =K22+L22+N22 -> 7 | X22: =K22 -> 5 | Y22: =H22+I22+J22 -> 5 | Z22: =R22 -> 0 | AA22: =P22+Q22 -> 0 | AB22: =U22 -> 0 | AC22: =S22+T22 -> 0
A23: 0 | B23: 1.15 | C23: Ì»ÍÁ | D23: 118 | E23: 2 | G23: 16 | H23: 8 | I23: 6 | K23: 14 | N23: 4 | P23: 3 | R23: 3 | S23: 1 | U23: 1 | V23: =E23+G23 -> 18 | W23: =K23+L23+N23 -> 18 | X23: =K23 -> 14 | Y23: =H23+I23+J23 -> 14 | Z23: =R23 -> 3 | AA23: =P23+Q23 -> 3 | AB23: =U23 -> 1 | AC23: =S23+T23 -> 1
A24: 0 | B24: 1.16 | C24: Êáßï³Ý·áõÙÁ | D24: 119 | V24: =E24+G24 -> 0 | W24: =K24+L24+N24 -> 0 | X24: =K24 -> 0 | Y24: =H24+I24+J24 -> 0 | Z24: =R24 -> 0 | AA24: =P24+Q24 -> 0 | AB24: =U24 -> 0 | AC24: =S24+T24 -> 0
A25: 0 | B25: 1.17 | C25: ²Ý½·áõßáõÃÛ³Ùµ ³éáÕçáõÃÛ³ÝÁ Í³Ýñ íÝ³ë å³ï×³é»ÉÁ | D25: 120 | G25: 1 | H25: 1 | K25: 1 | V25: =E25+G25 -> 1 | W25: =K25+L25+N25 -> 1 | X25: =K25 -> 1 | Y25: =H25+I25+J25 -> 1 | Z25: =R25 -> 0 | AA25: =P25+Q25 -> 0 | AB25: =U25 -> 0 | AC25: =S25+T25 -> 0
A26: 0 | B26: 1.18 | C26: ²Ý½·áõßáõÃÛ³Ùµ ³éáÕçáõÃÛ³ÝÁ ÙÇçÇÝ Í³ÝñáõÃÛ³Ý íÝ³ë å³ï×³é»ÉÁ | D26: 121 | V26: =E26+G26 -> 0 | W26: =K26+L26+N26 -> 0 | X26: =K26 -> 0 | Y26: =H26+I26+J26 -> 0 | Z26: =R26 -> 0 | AA26: =P26+Q26 -> 0 | AB26: =U26 -> 0 | AC26: =S26+T26 -> 0
A27: 0 | B27: 1.19 | C27: ²åûñÇÝÇ ³µáñï Ï³ï³ñ»ÉÁ | D27: 122 | V27: =E27+G27 -> 0 | W27: =K27+L27+N27 -> 0 | X27: =K27 -> 0 | Y27: =H27+I27+J27 -> 0 | Z27: =R27 -> 0 | AA27: =P27+Q27 -> 0 | AB27: =U27 -> 0 | AC27: =S27+T27 -> 0
A28: 0 | B28: 1.20 | C28: Ø³ñ¹áõ ÇÙáõÝ³ÛÇÝ ³Ýµ³í³ñ³ñáõÃÛ³Ý íÇñáõëÇ Ñ³ñáõóÇãáí í³ñ³Ï»ÉÁ | D28: 123 | V28: =E28+G28 -> 0 | W28: =K28+L28+N28 -> 0 | X28: =K28 -> 0 | Y28: =H28+I28+J28 -> 0 | Z28: =R28 -> 0 | AA28: =P28+Q28 -> 0 | AB28: =U28 -> 0 | AC28: =S28+T28 -> 0
A29: 0 | B29: 1.21 | C29: ì»Ý»ñ³Ï³Ý ÑÇí³Ý¹áõÃÛ³Ùµ Ï³Ù ³ÛÉ ë»é³í³ñ³ÏÝ»ñáí í³ñ³Ï»ÉÁ | D29: 124 | V29: =E29+G29 -> 0 | W29: =K29+L29+N29 -> 0 | X29: =K29 -> 0 | Y29: =H29+I29+J29 -> 0 | Z29: =R29 -> 0 | AA29: =P29+Q29 -> 0 | AB29: =U29 -> 0 | AC29: =S29+T29 -> 0
A30: 0 | B30: 1.22 | C30: öáËå³ïí³ëïÙ³Ý íÇñ³Ñ³ïáõÃÛáõÝ Ï³ï³ñ»Éáõ Ï³ÝáÝÝ»ñÁ Ë³Ëï»ÉÁ | D30: 125 | V30: =E30+G30 -> 0 | W30: =K30+L30+N30 -> 0 | X30: =K30 -> 0 | Y30: =H30+I30+J30 -> 0 | Z30: =R30 -> 0 | AA30: =P30+Q30 -> 0 | AB30: =U30 -> 0 | AC30: =S30+T30 -> 0
A31: 0 | B31: 1.24 | C31: ²ÝÓÇÝ ³é³Ýó Çñ Ñ³ÝÓÝ³ñ³ñáõÃÛ³Ý µÅßÏ³Ï³Ý Ï³Ù ·Çï³Ï³Ý ÷áñÓ»ñÇ »ÝÃ³ñÏ»ÉÁ | D31: 127 | V31: =E31+G31 -> 0 | W31: =K31+L31+N31 -> 0 | X31: =K31 -> 0 | Y31: =H31+I31+J31 -> 0 | Z31: =R31 -> 0 | AA31: =P31+Q31 -> 0 | AB31: =U31 -> 0 | AC31: =S31+T31 -> 0
A32: 0 | B32: 1.25 | C32: ìï³Ý·Ç Ù»ç ÃáÕÝ»ÉÁ | D32: 128 | V32: =E32+G32 -> 0 | W32: =K32+L32+N32 -> 0 | X32: =K32 -> 0 | Y32: =H32+I32+J32 -> 0 | Z32: =R32 -> 0 | AA32: =P32+Q32 -> 0 | AB32: =U32 -> 0 | AC32: =S32+T32 -> 0
A33: 0 | B33: 1.26 | C33: ÐÇí³Ý¹ÇÝ û·ÝáõÃÛáõÝ óáõÛó ãï³ÉÁ | D33: 129 | V33: =E33+G33 -> 0 | W33: =K33+L33+N33 -> 0 | X33: =K33 -> 0 | Y33: =H33+I33+J33 -> 0 | Z33: =R33 -> 0 | AA33: =P33+Q33 -> 0 | AB33: =U33 -> 0 | AC33: =S33+T33 -> 0
A34: 0 | B34: 1.27 | C34: ´ÅßÏ³Ï³Ý û·ÝáõÃÛáõÝ ¨ ëå³ë³ñÏáõÙ Çñ³Ï³Ý³óÝáÕÝ»ñÇ ÏáÕÙÇó Ù³ëÝ³·Çï³Ï³Ý å³ñï³Ï³ÝáõÃÛáõÝÝ»ñÁ ãÏ³ï³ñ»ÉÁ Ï³Ù áã å³ïß³× Ï³ï³ñ»ÉÁ | D34: 130 | V34: =E34+G34 -> 0 | W34: =K34+L34+N34 -> 0 | X34: =K34 -> 0 | Y34: =H34+I34+J34 -> 0 | Z34: =R34 -> 0 | AA34: =P34+Q34 -> 0 | AB34: =U34 -> 0 | AC34: =S34+T34 -> 0
A35: 1 | B35: 1.28 | C35: ²ÛÉ Ñ³Ýó³·áñÍáõÃÛáõÝÝ»ñ | V35: =E35+G35 -> 0 | W35: =K35+L35+N35 -> 0 | X35: =K35 -> 0 | Y35: =H35+I35+J35 -> 0 | Z35: =R35 -> 0 | AA35: =P35+Q35 -> 0 | AB35: =U35 -> 0 | AC35: =S35+T35 -> 0
A36: 0 | B36: 2. | C36: ÀÝ¹³Ù»ÝÁ ³ÝÓÇ ³½³ïáõÃÛ³Ý, å³ïíÇ ¨ ³ñÅ³Ý³å³ïíáõÃÛ³Ý ¹»Ù áõÕÕí³Í Ñ³Ýó³·áñÍáõÃÛáõÝÝ»ñÁ | E36: =SUM(E37:E43) -> 0 | F36: =SUM(F37:F43) -> 0 | G36: =SUM(G37:G43) -> 6 | H36: =SUM(H37:H43) -> 3 | I36: =SUM(I37:I43) -> 0 | J36: =SUM(J37:J43) -> 0 | K36: =SUM(K37:K43) -> 3 | L36: =SUM(L37:L43) -> 0 | ... AC36: =SUM(AC37:AC43) -> 0
A37: 0 | B37: 2.1 | C37: Ø³ñ¹áõÝ ³é¨³Ý·»ÉÁ | D37: 131 | G37: 5 | H37: 2 | K37: 2 | N37: 3 | P37: 2 | R37: 2 | V37: =E37+G37 -> 5 | W37: =K37+L37+N37 -> 5 | X37: =K37 -> 2 | Y37: =H37+I37+J37 -> 2 | Z37: =R37 -> 2 | AA37: =P37+Q37 -> 2 | AB37: =U37 -> 0 | AC37: =S37+T37 -> 0
B38: 2.2 | C38: Մարդու թրաֆիքինգը կամ շահագործումը | D38: 132 | G38: 1 | H38: 1 | K38: 1 | V38: =E38+G38 -> 1 | W38: =K38+L38+N38 -> 1 | X38: =K38 -> 1 | Y38: =H38+I38+J38 -> 1 | Z38: =R38 -> 0 | AA38: =P38+Q38 -> 0 | AB38: =U38 -> 0 | AC38: =S38+T38 -> 0
B39: 2.2.1 | C39: Ø³ñ¹áõÝ åáéÝÇÏáõÃÛ³Ý Ï³Ù ë»é³Ï³Ý ß³Ñ³·áñÍÙ³Ý ³ÛÉ Ó¨»ñÇ Ù»ç, Ñ³ñÏ³¹Çñ ³ßË³ï³ÝùÇ Ï³Ù Í³é³ÛáõÃÛáõÝÝ»ñÇ Ý»ñ·ñ³í»ÉÁ Ï³Ù ëïñÏáõÃÛ³Ý Ï³Ù ëïñÏáõÃÛ³ÝÁ ÝÙ³ÝíáÕ íÇ×³ÏÇ Ù»ç ¹Ý»ÉÁ Ï³Ù å³Ñ»ÉÁ | D39: 132.1 | V39: =E39+G39 -> 0 | W39: =K39+L39+N39 -> 0 | X39: =K39 -> 0 | Y39: =H39+I39+J39 -> 0 | Z39: =R39 -> 0 | AA39: =P39+Q39 -> 0 | AB39: =U39 -> 0 | AC39: =S39+T39 -> 0
B40: 2.3 | C40: ²½³ïáõÃÛáõÝÇó ³åûñÇÝÇ ½ñÏ»ÉÁ | D40: 133 | V40: =E40+G40 -> 0 | W40: =K40+L40+N40 -> 0 | X40: =K40 -> 0 | Y40: =H40+I40+J40 -> 0 | Z40: =R40 -> 0 | AA40: =P40+Q40 -> 0 | AB40: =U40 -> 0 | AC40: =S40+T40 -> 0
B41: 2.4 | C41: Ðá·»µáõÅ³Ï³Ý ÑÇí³Ý¹³ÝáóáõÙ ³åûñÇÝÇ ï»Õ³íáñ»ÉÁ Ï³Ù å³Ñ»ÉÁ | D41: 134 | V41: =E41+G41 -> 0 | W41: =K41+L41+N41 -> 0 | X41: =K41 -> 0 | Y41: =H41+I41+J41 -> 0 | Z41: =R41 -> 0 | AA41: =P41+Q41 -> 0 | AB41: =U41 -> 0 | AC41: =S41+T41 -> 0
B42: 2.7 | C42: êå³ÝáõÃÛ³Ý, ³éáÕçáõÃÛ³ÝÁ Í³Ýñ íÝ³ë å³ï×³é»Éáõ Ï³Ù ·áõÛù áãÝã³óÝ»Éáõ ëå³éÝ³ÉÇùÁ | D42: 137 | V42: =E42+G42 -> 0 | W42: =K42+L42+N42 -> 0 | X42: =K42 -> 0 | Y42: =H42+I42+J42 -> 0 | Z42: =R42 -> 0 | AA42: =P42+Q42 -> 0 | AB42: =U42 -> 0 | AC42: =S42+T42 -> 0
A43: 0 | B43: 2.8 | C43: ²ÛÉ Ñ³Ýó³·áñÍáõÃÛáõÝÝ»ñ | V43: =E43+G43 -> 0 | W43: =K43+L43+N43 -> 0 | X43: =K43 -> 0 | Y43: =H43+I43+J43 -> 0 | Z43: =R43 -> 0 | AA43: =P43+Q43 -> 0 | AB43: =U43 -> 0 | AC43: =S43+T43 -> 0
A44: 0 | B44: 3. | C44: ÀÝ¹³Ù»ÝÁ ë»é³Ï³Ý ³ÝÓ»éÝÙË»ÉÇáõÃÛ³Ý ¨ ë»é³Ï³Ý ³½³ïáõÃÛ³Ý ¹»Ù áõÕÕí³Í Ñ³Ýó³·áñÍáõÃÛáõÝÝ»ñÁ | E44: =SUM(E45:E50) -> 1 | F44: =SUM(F45:F50) -> 0 | G44: =SUM(G45:G50) -> 2 | H44: =SUM(H45:H50) -> 3 | I44: =SUM(I45:I50) -> 0 | J44: =SUM(J45:J50) -> 0 | K44: =SUM(K45:K50) -> 3 | L44: =SUM(L45:L50) -> 0 | ... AC44: =SUM(AC45:AC50) -> 0
A45: 0 | B45: 3.1 | C45: ´éÝ³µ³ñáõÃÛáõÝÁ | D45: 138 | V45: =E45+G45 -> 0 | W45: =K45+L45+N45 -> 0 | X45: =K45 -> 0 | Y45: =H45+I45+J45 -> 0 | Z45: =R45 -> 0 | AA45: =P45+Q45 -> 0 | AB45: =U45 -> 0 | AC45: =S45+T45 -> 0
B46: 3.2 | C46: ê»ùëáõ³É µÝáõÛÃÇ µéÝÇ ·áñÍáÕáõÃÛáõÝÝ»ñÁ | D46: 139 | V46: =E46+G46 -> 0 | W46: =K46+L46+N46 -> 0 | X46: =K46 -> 0 | Y46: =H46+I46+J46 -> 0 | Z46: =R46 -> 0 | AA46: =P46+Q46 -> 0 | AB46: =U46 -> 0 | AC46: =S46+T46 -> 0
B47: 3.3 | C47: Սեռական հարաբերության կամ սեքսուալ բնույթի գործողություններին հարկադրելը | D47: 140 | V47: =E47+G47 -> 0 | W47: =K47+L47+N47 -> 0 | X47: =K47 -> 0 | Y47: =H47+I47+J47 -> 0 | Z47: =R47 -> 0 | AA47: =P47+Q47 -> 0 | AB47: =U47 -> 0 | AC47: =S47+T47 -> 0
B48: 3.4 | C48: ê»é³Ï³Ý Ñ³ñ³µ»ñáõÃÛáõÝÁ ï³ëÝí»ó ï³ñÇÝ ãÉñ³ó³Í ³ÝÓÇ Ñ»ï Ï³Ù ë»ùëáõ³É µÝáõÛÃÇ ·áñÍáÕáõÃÛáõÝÝ»ñ Ï³ï³ñ»ÉÁ ï³ëÝí»ó ï³ñÇÝ ãÉñ³ó³Í ³ÝÓÇ ÝÏ³ïÙ³Ùµ | D48: 141 | E48: 1 | G48: 1 | H48: 2 | K48: 2 | P48: 1 | R48: 1 | V48: =E48+G48 -> 2 | W48: =K48+L48+N48 -> 2 | X48: =K48 -> 2 | Y48: =H48+I48+J48 -> 2 | Z48: =R48 -> 1 | AA48: =P48+Q48 -> 1 | AB48: =U48 -> 0 | AC48: =S48+T48 -> 0
B49: 3.5 | C49: ²Ý³é³Ï³µ³ñá ·áñÍáÕáõÃÛáõÝÝ»ñÁ | D49: 142 | G49: 1 | H49: 1 | K49: 1 | V49: =E49+G49 -> 1 | W49: =K49+L49+N49 -> 1 | X49: =K49 -> 1 | Y49: =H49+I49+J49 -> 1 | Z49: =R49 -> 0 | AA49: =P49+Q49 -> 0 | AB49: =U49 -> 0 | AC49: =S49+T49 -> 0
B50: 3.6 | C50: ²ÛÉ Ñ³Ýó³·áñÍáõÃÛáõÝÝ»ñ | V50: =E50+G50 -> 0 | W50: =K50+L50+N50 -> 0 | X50: =K50 -> 0 | Y50: =H50+I50+J50 -> 0 | Z50: =R50 -> 0 | AA50: =P50+Q50 -> 0 | AB50: =U50 -> 0 | AC50: =S50+T50 -> 0
B51: 4. | C51: ÀÝ¹³Ù»ÝÁ Ù³ñ¹áõ ¨ ù³Õ³ù³óáõ ë³ÑÙ³Ý³¹ñ³Ï³Ý Çñ³íáõÝùÝ»ñÇ ¨ ³½³ïáõÃÛáõÝÝ»ñÇ ¹»Ù áõÕÕí³Í Ñ³Ýó³·áñÍáõÃÛáõÝÝ»ñÁ | E51: =SUM(E52:E79) -> 0 | F51: =SUM(F52:F79) -> 0 | G51: =SUM(G52:G79) -> 4 | H51: =SUM(H52:H79) -> 3 | I51: =SUM(I52:I79) -> 0 | J51: =SUM(J52:J79) -> 0 | K51: =SUM(K52:K79) -> 3 | L51: =SUM(L52:L79) -> 0 | ... AC51: =SUM(AC52:AC79) -> 0
B52: 4.1 | C52: Ø³ñ¹áõ ¨ ù³Õ³ù³óáõ Çñ³í³Ñ³í³ë³ñáõÃÛáõÝÁ Ë³Ëï»ÉÁ | D52: 143 | V52: =E52+G52 -> 0 | W52: =K52+L52+N52 -> 0 | X52: =K52 -> 0 | Y52: =H52+I52+J52 -> 0 | Z52: =R52 -> 0 | AA52: =P52+Q52 -> 0 | AB52: =U52 -> 0 | AC52: =S52+T52 -> 0
B53: 4.2 | C53: ²ÝÓÝ³Ï³Ý Ï³Ù ÁÝï³Ý»Ï³Ý ÏÛ³ÝùÇ Ù³ëÇÝ ï»Õ»ÏáõÃÛáõÝÝ»ñ ³åûñÇÝÇ Ñ³í³ù»ÉÁ, å³Ñ»ÉÁ, û·ï³·áñÍ»ÉÁ Ï³Ù ï³ñ³Í»ÉÁ | D53: 144 | G53: 1 | H53: 1 | K53: 1 | V53: =E53+G53 -> 1 | W53: =K53+L53+N53 -> 1 | X53: =K53 -> 1 | Y53: =H53+I53+J53 -> 1 | Z53: =R53 -> 0 | AA53: =P53+Q53 -> 0 | AB53: =U53 -> 0 | AC53: =S53+T53 -> 0
B54: 4.3 | C54: ´ÅßÏ³Ï³Ý ·³ÕïÝÇùÁ Ññ³å³ñ³Ï»ÉÁ | D54: 145 | V54: =E54+G54 -> 0 | W54: =K54+L54+N54 -> 0 | X54: =K54 -> 0 | Y54: =H54+I54+J54 -> 0 | Z54: =R54 -> 0 | AA54: =P54+Q54 -> 0 | AB54: =U54 -> 0 | AC54: =S54+T54 -> 0
B55: 4.4 | C55: Ü³Ù³Ï³·ñáõÃÛ³Ý, Ñ»é³Ëáë³ÛÇÝ Ëáë³ÏóáõÃÛáõÝÝ»ñÇ, ÷áëï³ÛÇÝ, Ñ»é³·ñ³Ï³Ý Ï³Ù ³ÛÉ Ñ³Õáñ¹áõÙÝ»ñÇ ·³ÕïÝÇáõÃÛáõÝÁ Ë³Ëï»ÉÁ | D55: 146 | V55: =E55+G55 -> 0 | W55: =K55+L55+N55 -> 0 | X55: =K55 -> 0 | Y55: =H55+I55+J55 -> 0 | Z55: =R55 -> 0 | AA55: =P55+Q55 -> 0 | AB55: =U55 -> 0 | AC55: =S55+T55 -> 0
B56: 4.5 | C56: ´Ý³Ï³ñ³ÝÇ ³ÝÓ»éÝÙË»ÉÇáõÃÛáõÝÁ Ë³Ëï»ÉÁ | D56: 147 | V56: =E56+G56 -> 0 | W56: =K56+L56+N56 -> 0 | X56: =K56 -> 0 | Y56: =H56+I56+J56 -> 0 | Z56: =R56 -> 0 | AA56: =P56+Q56 -> 0 | AB56: =U56 -> 0 | AC56: =S56+T56 -> 0
B57: 4.6 | C57: ²ÝÓÇÝ ï»Õ»ÏáõÃÛáõÝ Ý»ñÏ³Û³óÝ»Éáõó Ññ³Å³ñí»ÉÁ | D57: 148 | V57: =E57+G57 -> 0 | W57: =K57+L57+N57 -> 0 | X57: =K57 -> 0 | Y57: =H57+I57+J57 -> 0 | Z57: =R57 -> 0 | AA57: =P57+Q57 -> 0 | AB57: =U57 -> 0 | AC57: =S57+T57 -> 0
B58: 4.7 | C58: ÀÝïñ³Ï³Ý Çñ³íáõÝùÇ Çñ³Ï³Ý³óÙ³ÝÁ, ÁÝïñ³Ï³Ý Ñ³ÝÓÝ³ÅáÕáíÝ»ñÇ ³ßË³ï³ÝùÝ»ñÇÝ Ï³Ù ÁÝïñáõÃÛ³ÝÁ Ù³ëÝ³ÏóáÕ ³ÝÓ³Ýó ÉÇ³½áñáõÃÛáõÝÝ»ñÇ Çñ³Ï³Ý³óÙ³ÝÁ ËáãÁÝ¹áï»ÉÁ | D58: 149 | G58: 1 | N58: 1 | V58: =E58+G58 -> 1 | W58: =K58+L58+N58 -> 1 | X58: =K58 -> 0 | Y58: =H58+I58+J58 -> 0 | Z58: =R58 -> 0 | AA58: =P58+Q58 -> 0 | AB58: =U58 -> 0 | AC58: =S58+T58 -> 0
B59: 4.8 | C59: ÀÝïñáõÃÛáõÝÝ»ñÇ Ï³Ù ùí»³ñÏáõÃÛ³Ý ³ñ¹ÛáõÝùÝ»ñÁ Ï»ÕÍ»ÉÁ | D59: 150 | V59: =E59+G59 -> 0 | W59: =K59+L59+N59 -> 0 | X59: =K59 -> 0 | Y59: =H59+I59+J59 -> 0 | Z59: =R59 -> 0 | AA59: =P59+Q59 -> 0 | AB59: =U59 -> 0 | AC59: =S59+T59 -> 0
B60: 4.9 | C60: ÀÝïñáõÃÛáõÝÝ»ñÇ ³ÝóÏ³óÙ³Ý ÁÝÃ³óùáõÙ Ã»ÏÝ³ÍáõÇ, Ïáõë³ÏóáõÃÛ³Ý (Ïáõë³ÏóáõÃÛáõÝÝ»ñÇ ¹³ßÇÝùÇ) í»ñ³µ»ñÛ³É ½ñå³ñïã³Ï³Ý ï»Õ»ÏáõÃÛáõÝÝ»ñ ï³ñ³Í»ÉÁ | D60: 151 | V60: =E60+G60 -> 0 | W60: =K60+L60+N60 -> 0 | X60: =K60 -> 0 | Y60: =H60+I60+J60 -> 0 | Z60: =R60 -> 0 | AA60: =P60+Q60 -> 0 | AB60: =U60 -> 0 | AC60: =S60+T60 -> 0
B61: 4.10 | C61: ÀÝïñáÕÝ»ñÇ óáõó³ÏÝ»ñÁ Ï³½Ù»Éáõ, ¹ñ³Ýù ù³Õ³ù³óÇÝ»ñÇÝ ¨ Ïáõë³ÏóáõÃÛáõÝÝ»ñÇÝ ïñ³Ù³¹ñ»Éáõ Ï³Ù Ññ³å³ñ³Ï»Éáõ Ï³ñ·Á Ë³Ëï»ÉÁ | D61: 152 | V61: =E61+G61 -> 0 | W61: =K61+L61+N61 -> 0 | X61: =K61 -> 0 | Y61: =H61+I61+J61 -> 0 | Z61: =R61 -> 0 | AA61: =P61+Q61 -> 0 | AB61: =U61 -> 0 | AC61: =S61+T61 -> 0
A62: 0 | B62: 4.11 | C62: Ø»ÏÇó ³í»ÉÇ ³Ý·³Ù Ï³Ù ³ÛÉ ³ÝÓÇ ÷áË³ñ»Ý ùí»³ñÏ»ÉÁ | D62: 153 | V62: =E62+G62 -> 0 | W62: =K62+L62+N62 -> 0 | X62: =K62 -> 0 | Y62: =H62+I62+J62 -> 0 | Z62: =R62 -> 0 | AA62: =P62+Q62 -> 0 | AB62: =U62 -> 0 | AC62: =S62+T62 -> 0
B63: 4.12 | C63: øí»³ñÏáõÃÛ³Ý ·³ÕïÝÇáõÃÛáõÝÁ Ë³Ëï»ÉÁ | D63: 154 | V63: =E63+G63 -> 0 | W63: =K63+L63+N63 -> 0 | X63: =K63 -> 0 | Y63: =H63+I63+J63 -> 0 | Z63: =R63 -> 0 | AA63: =P63+Q63 -> 0 | AB63: =U63 -> 0 | AC63: =S63+T63 -> 0
B64: 4.13 | C64: Î»ÕÍ ÁÝïñ³Ï³Ý ùí»³Ã»ñÃÇÏÝ»ñ Ï³Ù ùí»³ñÏáõÃÛ³Ý Íñ³ñÝ»ñ å³ïñ³ëï»ÉÁ Ï³Ù ³ÏÝÑ³Ûï Ï»ÕÍ ÁÝïñ³Ï³Ý ùí»³Ã»ñÃÇÏÝ»ñ Ï³Ù ùí»³ñÏáõÃÛ³Ý Íñ³ñÝ»ñ Ñ³ÝÓÝ»ÉÁ Ï³Ù Çñ³óÝ»ÉÁ | D64: 154.1 | V64: =E64+G64 -> 0 | W64: =K64+L64+N64 -> 0 | X64: =K64 -> 0 | Y64: =H64+I64+J64 -> 0 | Z64: =R64 -> 0 | AA64: =P64+Q64 -> 0 | AB64: =U64 -> 0 | AC64: =S64+T64 -> 0
B65: 4.14 | C65: ÀÝïñáÕÇ Ï³ÙùÇ ³½³ï Çñ³Ï³Ý³óÙ³ÝÁ ËáãÁÝ¹áï»ÉÁ | D65: 154.2 | V65: =E65+G65 -> 0 | W65: =K65+L65+N65 -> 0 | X65: =K65 -> 0 | Y65: =H65+I65+J65 -> 0 | Z65: =R65 -> 0 | AA65: =P65+Q65 -> 0 | AB65: =U65 -> 0 | AC65: =S65+T65 -> 0
B66: 4.15 | C66: ÀÝïñ³Ï³Ý Ñ³ÝÓÝ³ÅáÕáíÇ ÏÝÇùÁ ãí»ñ³¹³ñÓÝ»ÉÁ, ÏÝÇùÇ å³Ñå³ÝÙ³Ý ë³ÑÙ³Ýí³Í Ï³ñ·Á Ë³Ëï»ÉÁ | D66: 154.3 | V66: =E66+G66 -> 0 | W66: =K66+L66+N66 -> 0 | X66: =K66 -> 0 | Y66: =H66+I66+J66 -> 0 | Z66: =R66 -> 0 | AA66: =P66+Q66 -> 0 | AB66: =U66 -> 0 | AC66: =S66+T66 -> 0
B67: 4.16 | C67: ¼»Ýùáíª ï»Õ³Ù³ë³ÛÇÝ Ï»ÝïñáÝ Ùáõïù ·áñÍ»ÉÁ | D67: 154.4 | V67: =E67+G67 -> 0 | W67: =K67+L67+N67 -> 0 | X67: =K67 -> 0 | Y67: =H67+I67+J67 -> 0 | Z67: =R67 -> 0 | AA67: =P67+Q67 -> 0 | AB67: =U67 -> 0 | AC67: =S67+T67 -> 0
B68: 4.17 | C68: ìëï³Ñí³Í ³ÝÓÇÝ,ÁÝïñ³Ï³Ý Ñ³ÝÓÝ³ÅáÕáíÇ ³Ý¹³ÙÇÝ,¹Çïáñ¹ÇÝ Ï³Ù ½³Ý·í³Í³ÛÇÝ Éñ³ïíáõÃÛ³Ý ÙÇçáóÇ Ý»ñÏ³Û³óáõóãÇÝ ÁÝïñ³Ï³Ý ÷³ëï³ÃÕÃ»ñÇÝ Í³ÝáÃ³Ý³ÉáõÝ ËáãÁÝ¹áï»ÉÁ, ÁÝïñ³Ï³Ý Ñ³ÝÓÝ³ÅáÕáíÇ ³ñÓ³Ý³·ñáõÃÛáõÝÝ»ñÇ å³ï×»ÝÝ»ñ ãï³ÉÁ | D68: 154.5 | V68: =E68+G68 -> 0 | W68: =K68+L68+N68 -> 0 | X68: =K68 -> 0 | Y68: =H68+I68+J68 -> 0 | Z68: =R68 -> 0 | AA68: =P68+Q68 -> 0 | AB68: =U68 -> 0 | AC68: =S68+T68 -> 0
B69: 4.18 | C69: ¶áñÍ³¹áõÉÇ Ù³ëÝ³Ïó»ÉáõÝ Ï³Ù ·áñÍ³¹áõÉÇ Ù³ëÝ³Ïó»Éáõó Ññ³Å³ñí»ÉáõÝ Ñ³ñÏ³¹ñ»ÉÁ | D69: 155 | V69: =E69+G69 -> 0 | W69: =K69+L69+N69 -> 0 | X69: =K69 -> 0 | Y69: =H69+I69+J69 -> 0 | Z69: =R69 -> 0 | AA69: =P69+Q69 -> 0 | AB69: =U69 -> 0 | AC69: =S69+T69 -> 0
B70: 4.19 | C70: ÐÕÇ ÏÝáçÁ Ï³Ù ÙÇÝã¨ »ñ»ù ï³ñ»Ï³Ý »ñ»Ë³ áõÝ»óáÕ ³ÝÓÇÝ ³ßË³ï³ÝùÇ ÁÝ¹áõÝ»Éáõõó Ññ³Å³ñí»ÉÁ Ï³Ù ³ßË³ï³ÝùÇó ³ÝÑÇÙÝ ³½³ï»ÉÁ | D70: 156 | V70: =E70+G70 -> 0 | W70: =K70+L70+N70 -> 0 | X70: =K70 -> 0 | Y70: =H70+I70+J70 -> 0 | Z70: =R70 -> 0 | AA70: =P70+Q70 -> 0 | AB70: =U70 -> 0 | AC70: =S70+T70 -> 0
B71: 4.20 | C71: ²ßË³ï³ÝùÇ å³ßïå³ÝáõÃÛ³Ý Ï³ÝáÝÝ»ñÁ Ë³Ëï»ÉÁ | D71: 157 | G71: 2 | H71: 2 | K71: 2 | V71: =E71+G71 -> 2 | W71: =K71+L71+N71 -> 2 | X71: =K71 -> 2 | Y71: =H71+I71+J71 -> 2 | Z71: =R71 -> 0 | AA71: =P71+Q71 -> 0 | AB71: =U71 -> 0 | AC71: =S71+T71 -> 0
B72: 4.21 | C72: Ð»ÕÇÝ³Ï³ÛÇÝ ¨ Ñ³ñ³ÏÇó Çñ³íáõÝùÝ»ñÁ Ë³Ëï»ÉÁ | D72: 158 | V72: =E72+G72 -> 0 | W72: =K72+L72+N72 -> 0 | X72: =K72 -> 0 | Y72: =H72+I72+J72 -> 0 | Z72: =R72 -> 0 | AA72: =P72+Q72 -> 0 | AB72: =U72 -> 0 | AC72: =S72+T72 -> 0
B73: 4.22 | C73: ²ñïáÝ³·ñ³ÛÇÝ Çñ³íáõÝùÁ Ë³Ëï»ÉÁ | D73: 159 | V73: =E73+G73 -> 0 | W73: =K73+L73+N73 -> 0 | X73: =K73 -> 0 | Y73: =H73+I73+J73 -> 0 | Z73: =R73 -> 0 | AA73: =P73+Q73 -> 0 | AB73: =U73 -> 0 | AC73: =S73+T73 -> 0
B74: 4.23 | C74: ÊÕ×Ç Ï³Ù ¹³í³Ý³ÝùÇ ³½³ïáõÃÛ³Ý Çñ³íáõÝùÇ Çñ³Ï³Ý³óÙ³ÝÁ ËáãÁÝ¹áï»ÉÁ | D74: 160 | V74: =E74+G74 -> 0 | W74: =K74+L74+N74 -> 0 | X74: =K74 -> 0 | Y74: =H74+I74+J74 -> 0 | Z74: =R74 -> 0 | AA74: =P74+Q74 -> 0 | AB74: =U74 -> 0 | AC74: =S74+T74 -> 0
B75: 4.24 | C75: ØÇ³íáñáõÙÝ»ñ (Ñ³ë³ñ³Ï³Ï³Ý Ï³Ù ³ñÑ»ëï³Ïó³Ï³Ý ÙÇáõÃÛáõÝÝ»ñ) Ï³½Ù»Éáõ Ï³Ù Ïáõë³ÏóáõÃÛáõÝÝ»ñ ëï»ÕÍ»Éáõ Çñ³íáõÝùÇ Çñ³Ï³Ý³óÙ³ÝÁ Ï³Ù ¹ñ³Ýó ·áñÍáÕáõÃÛ³ÝÁ ËáãÁÝ¹áï»ÉÁ | D75: 161 | V75: =E75+G75 -> 0 | W75: =K75+L75+N75 -> 0 | X75: =K75 -> 0 | Y75: =H75+I75+J75 -> 0 | Z75: =R75 -> 0 | AA75: =P75+Q75 -> 0 | AB75: =U75 -> 0 | AC75: =S75+T75 -> 0
B76: 4.25 | C76: ²ÝÓ³Ýó Çñ³íáõÝùÝ»ñÇ Ï³Ù ³ÝÓÇ ¹»Ù áïÝÓ·áÕ ÙÇ³íáñáõÙÝ»ñ Ï³½Ù»ÉÁ Ï³Ù Õ»Ï³í³ñ»ÉÁ | D76: 162 | V76: =E76+G76 -> 0 | W76: =K76+L76+N76 -> 0 | X76: =K76 -> 0 | Y76: =H76+I76+J76 -> 0 | Z76: =R76 -> 0 | AA76: =P76+Q76 -> 0 | AB76: =U76 -> 0 | AC76: =S76+T76 -> 0
B77: 4.26 | C77: Հավաքներ անցկացնելուն կամ դրանց մասնակցելուն խոչընդոտելը | D77: 163 | V77: =E77+G77 -> 0 | W77: =K77+L77+N77 -> 0 | X77: =K77 -> 0 | Y77: =H77+I77+J77 -> 0 | Z77: =R77 -> 0 | AA77: =P77+Q77 -> 0 | AB77: =U77 -> 0 | AC77: =S77+T77 -> 0
B78: 4.27 | C78: Èñ³·ñáÕÇ Ù³ëÝ³·Çï³Ï³Ý ûñÇÝ³Ï³Ý ·áñÍáÕáõÃÛ³ÝÁ ËáãÁÝ¹áï»ÉÁ | D78: 164 | V78: =E78+G78 -> 0 | W78: =K78+L78+N78 -> 0 | X78: =K78 -> 0 | Y78: =H78+I78+J78 -> 0 | Z78: =R78 -> 0 | AA78: =P78+Q78 -> 0 | AB78: =U78 -> 0 | AC78: =S78+T78 -> 0
B79: 4.28 | C79: ²ÛÉ Ñ³Ýó³·áñÍáõÃÛáõÝÝ»ñ | V79: =E79+G79 -> 0 | W79: =K79+L79+N79 -> 0 | X79: =K79 -> 0 | Y79: =H79+I79+J79 -> 0 | Z79: =R79 -> 0 | AA79: =P79+Q79 -> 0 | AB79: =U79 -> 0 | AC79: =S79+T79 -> 0
B80: 5. | C80: ÀÝ¹³Ù»ÝÁ ÁÝï³ÝÇùÇ ¨ »ñ»Ë³ÛÇ ß³Ñ»ñÇ ¹»Ù áõÕÕí³Í Ñ³Ýó³·áñÍáõÃÛáõÝÝ»ñÁ | E80: =SUM(E81:E92) -> 0 | F80: =SUM(F81:F92) -> 0 | G80: =SUM(G81:G92) -> 0 | H80: =SUM(H81:H92) -> 0 | I80: =SUM(I81:I92) -> 0 | J80: =SUM(J81:J92) -> 0 | K80: =SUM(K81:K92) -> 0 | L80: =SUM(L81:L92) -> 0 | ... AC80: =SUM(AC81:AC92) -> 0
B81: 5.1 | C81: ²Ýã³÷³Ñ³ëÇÝ Ñ³Ýó³ÝùÇ Ï³ï³ñÙ³ÝÁ Ý»ñ·ñ³í»ÉÁ | D81: 165 | V81: =E81+G81 -> 0 | W81: =K81+L81+N81 -> 0 | X81: =K81 -> 0 | Y81: =H81+I81+J81 -> 0 | Z81: =R81 -> 0 | AA81: =P81+Q81 -> 0 | AB81: =U81 -> 0 | AC81: =S81+T81 -> 0
B82: 5.2 | C82: ºñ»Ë³ÛÇÝ åáéÝÏáõÃÛ³Ý Ï³Ù åáéÝÏ³·ñ³Ï³Ý µÝáõÛÃÇ ÝÛáõÃ»ñ Ï³Ù ³é³ñÏ³Ý»ñ å³ïñ³ëï»Éáõ Ñ»ï Ï³åí³Í ·áñÍáÕáõÃÛáõÝÝ»ñ Ï³ï³ñ»ÉáõÝ Ý»ñ·ñ³í»ÉÁ | D82: 166 | V82: =E82+G82 -> 0 | W82: =K82+L82+N82 -> 0 | X82: =K82 -> 0 | Y82: =H82+I82+J82 -> 0 | Z82: =R82 -> 0 | AA82: =P82+Q82 -> 0 | AB82: =U82 -> 0 | AC82: =S82+T82 -> 0
B83: 5.3 | C83: ÌÝáÕÝ»ñÇó »ñ»Ë³ÛÇÝ ³åûñÇÝÇ µ³Å³Ý»ÉÁ Ï³Ù »ñ»Ë³ÛÇÝ ÷áË»ÉÁ | D83: 167 | V83: =E83+G83 -> 0 | W83: =K83+L83+N83 -> 0 | X83: =K83 -> 0 | Y83: =H83+I83+J83 -> 0 | Z83: =R83 -> 0 | AA83: =P83+Q83 -> 0 | AB83: =U83 -> 0 | AC83: =S83+T83 -> 0
B84: 5.4 | C84: ÊÝ³ÙùÁ ëï³ÝÓÝ»Éáõ Ýå³ï³Ïáí »ñ»Ë³ÛÇ ³éùÁ Ï³Ù ëï³ÝÓÝáÕÇ ËÝ³ÙùÇÝ Ñ³ÝÓÝ»Éáõ Ýå³ï³Ïáí »ñ»Ë³ÛÇ í³×³éùÁ | D84: 168 | V84: =E84+G84 -> 0 | W84: =K84+L84+N84 -> 0 | X84: =K84 -> 0 | Y84: =H84+I84+J84 -> 0 | Z84: =R84 -> 0 | AA84: =P84+Q84 -> 0 | AB84: =U84 -> 0 | AC84: =S84+T84 -> 0
B85: 5.5 | C85: àñ¹»·ñÙ³Ý ·³ÕïÝÇùÁ Ññ³å³ñ³Ï»ÉÁ Ï³Ù áñ¹»·ñÙ³Ý Ñ³Ù³Ó³ÛÝáõÃÛáõÝ ï³ÉáõÝ Ñ³Ï»ÉÁ Ï³Ù Ñ³ñÏ³¹ñ»ÉÁ | D85: 169 | V85: =E85+G85 -> 0 | W85: =K85+L85+N85 -> 0 | X85: =K85 -> 0 | Y85: =H85+I85+J85 -> 0 | Z85: =R85 -> 0 | AA85: =P85+Q85 -> 0 | AB85: =U85 -> 0 | AC85: =S85+T85 -> 0
B86: 5.6 | C86: ø³Õ³ù³óÇ³Ï³Ý Ï³óáõÃÛ³Ý ³Ïï»ñÇ ·ñ³ÝóÙ³Ý Ù³ñÙÇÝÝ»ñÇÝ ëáõï ï»Õ»ÏáõÃÛáõÝÝ»ñ Ñ³Õáñ¹»ÉÁ | D86: 169.1 | V86: =E86+G86 -> 0 | W86: =K86+L86+N86 -> 0 | X86: =K86 -> 0 | Y86: =H86+I86+J86 -> 0 | Z86: =R86 -> 0 | AA86: =P86+Q86 -> 0 | AB86: =U86 -> 0 | AC86: =S86+T86 -> 0
B87: 5.7 | C87: ºñ»Ë³ÛÇÝ ¹³ëïÇ³ñ³Ï»Éáõ å³ñï³Ï³ÝáõÃÛáõÝÁ ãÏ³ï³ñ»ÉÁ | D87: 170 | V87: =E87+G87 -> 0 | W87: =K87+L87+N87 -> 0 | X87: =K87 -> 0 | Y87: =H87+I87+J87 -> 0 | Z87: =R87 -> 0 | AA87: =P87+Q87 -> 0 | AB87: =U87 -> 0 | AC87: =S87+T87 -> 0
B88: 5.8 | C88: ºñ»Ë³ÛÇ ÏÛ³ÝùÇ ³Ýíï³Ý·áõÃÛ³Ý ³å³ÑáíÙ³Ý Ï³Ù ³éáÕçáõÃÛ³Ý å³Ñå³ÝÙ³Ý å³ñï³Ï³ÝáõÃÛáõÝÁ ãÏ³ï³ñ»ÉÁ Ï³Ù áã å³ïß³× Ï³ï³ñ»ÉÁ | D88: 171 | V88: =E88+G88 -> 0 | W88: =K88+L88+N88 -> 0 | X88: =K88 -> 0 | Y88: =H88+I88+J88 -> 0 | Z88: =R88 -> 0 | AA88: =P88+Q88 -> 0 | AB88: =U88 -> 0 | AC88: =S88+T88 -> 0
B89: 5.9 | C89: ÊÝ³Ù³Ï³ÉÇ Ï³Ù Ñá·³µ³ñÓáõÇ Çñ³íáõÝùÝ»ñÁ ã³ñ³ß³Ñ»ÉÁ | D89: 172 | V89: =E89+G89 -> 0 | W89: =K89+L89+N89 -> 0 | X89: =K89 -> 0 | Y89: =H89+I89+J89 -> 0 | Z89: =R89 -> 0 | AA89: =P89+Q89 -> 0 | AB89: =U89 -> 0 | AC89: =S89+T89 -> 0
A90: 0 | B90: 5.10 | C90: ÌÝáÕÇ ÏáÕÙÇó »ñ»Ë³ÛÇÝ å³Ñ»Éáõó ã³ñ³Ùïáñ»Ý Ëáõë³÷»ÉÁ (áõÅÁ Ïáñóñ³Í) | D90: 173 | V90: =E90+G90 -> 0 | W90: =K90+L90+N90 -> 0 | X90: =K90 -> 0 | Y90: =H90+I90+J90 -> 0 | Z90: =R90 -> 0 | AA90: =P90+Q90 -> 0 | AB90: =U90 -> 0 | AC90: =S90+T90 -> 0
B91: 5.11 | C91: ¼³í³ÏÇ ÏáÕÙÇó ³Ý³ßË³ïáõÝ³Ï ÍÝáÕÇÝ å³Ñ»Éáõó ã³ñ³Ùïáñ»Ý Ëáõë³÷»ÉÁ | D91: 174 | V91: =E91+G91 -> 0 | W91: =K91+L91+N91 -> 0 | X91: =K91 -> 0 | Y91: =H91+I91+J91 -> 0 | Z91: =R91 -> 0 | AA91: =P91+Q91 -> 0 | AB91: =U91 -> 0 | AC91: =S91+T91 -> 0
B92: 5.12 | C92: ²ÛÉ Ñ³Ýó³·áñÍáõÃÛáõÝÝ»ñ | V92: =E92+G92 -> 0 | W92: =K92+L92+N92 -> 0 | X92: =K92 -> 0 | Y92: =H92+I92+J92 -> 0 | Z92: =R92 -> 0 | AA92: =P92+Q92 -> 0 | AB92: =U92 -> 0 | AC92: =S92+T92 -> 0
B93: 6. | C93: ÀÝ¹³Ù»ÝÁ ë»÷³Ï³ÝáõÃÛ³Ý ¹»Ù áõÕÕí³Í Ñ³Ýó³·áñÍáõÃÛáõÝÝ»ñÁ | E93: =SUM(E94:E106) -> 67 | F93: =SUM(F94:F106) -> 13 | G93: =SUM(G94:G106) -> 123 | H93: =SUM(H94:H106) -> 88 | I93: =SUM(I94:I106) -> 18 | J93: =SUM(J94:J106) -> 0 | K93: =SUM(K94:K106) -> 106 | L93: =SUM(L94:L106) -> 8 | ... AC93: =SUM(AC94:AC106) -> 11
B94: 6.1 | C94: ²í³½³ÏáõÃÛáõÝÁ | D94: 175 | E94: 4 | G94: 5 | H94: 5 | K94: 5 | L94: 2 | N94: 2 | P94: 2 | R94: 2 | S94: 2 | U94: 2 | V94: =E94+G94 -> 9 | W94: =K94+L94+N94 -> 9 | X94: =K94 -> 5 | Y94: =H94+I94+J94 -> 5 | Z94: =R94 -> 2 | AA94: =P94+Q94 -> 2 | AB94: =U94 -> 2 | AC94: =S94+T94 -> 2
B95: 6.2 | C95: ÎáÕáåáõïÁ | D95: 176 | E95: 1 | G95: 20 | H95: 12 | K95: 12 | M95: 1 | N95: 9 | O95: 1 | P95: 3 | R95: 3 | V95: =E95+G95 -> 21 | W95: =K95+L95+N95 -> 21 | X95: =K95 -> 12 | Y95: =H95+I95+J95 -> 12 | Z95: =R95 -> 3 | AA95: =P95+Q95 -> 3 | AB95: =U95 -> 0 | AC95: =S95+T95 -> 0
B96: 6.3 | C96: ¶áÕáõÃÛáõÝÁ | D96: 177 | E96: 18 | F96: 4 | G96: 37 | H96: 25 | I96: 9 | K96: 34 | L96: 4 | N96: 16 | O96: 3 | P96: 12 | R96: 12 | S96: 3 | U96: 3 | V96: =E96+G96 -> 55 | W96: =K96+L96+N96 -> 54 | X96: =K96 -> 34 | Y96: =H96+I96+J96 -> 34 | Z96: =R96 -> 12 | AA96: =P96+Q96 -> 12 | AB96: =U96 -> 3 | AC96: =S96+T96 -> 3
B97: 6.4 | C97: Ê³ñ¹³ËáõÃÛáõÝÁ | D97: 178 | E97: 39 | F97: 8 | G97: 39 | H97: 36 | I97: 6 | K97: 42 | L97: 2 | M97: 1 | N97: 33 | O97: 7 | P97: 19 | Q97: 1 | R97: 20 | S97: 5 | U97: 5 | V97: =E97+G97 -> 78 | W97: =K97+L97+N97 -> 77 | X97: =K97 -> 42 | Y97: =H97+I97+J97 -> 42 | Z97: =R97 -> 20 | AA97: =P97+Q97 -> 20 | AB97: =U97 -> 5 | AC97: =S97+T97 -> 5
B98: 6.5 | C98: Úáõñ³óÝ»ÉÁ Ï³Ù í³ïÝ»ÉÁ | D98: 179 | E98: 2 | G98: 12 | H98: 6 | I98: 1 | K98: 7 | N98: 7 | P98: 1 | R98: 1 | S98: 1 | U98: 1 | V98: =E98+G98 -> 14 | W98: =K98+L98+N98 -> 14 | X98: =K98 -> 7 | Y98: =H98+I98+J98 -> 7 | Z98: =R98 -> 1 | AA98: =P98+Q98 -> 1 | AB98: =U98 -> 1 | AC98: =S98+T98 -> 1
B99: 6.6 | C99: ²é³ÝÓÝ³ÏÇ ³ñÅ»ù áõÝ»óáÕ ³é³ñÏ³Ý»ñ Ñ³÷ßï³Ï»ÉÁ | D99: 180 | V99: =E99+G99 -> 0 | W99: =K99+L99+N99 -> 0 | X99: =K99 -> 0 | Y99: =H99+I99+J99 -> 0 | Z99: =R99 -> 0 | AA99: =P99+Q99 -> 0 | AB99: =U99 -> 0 | AC99: =S99+T99 -> 0
B100: 6.7 | C100: Ð³÷ßï³ÏáõÃÛáõÝÁ, áñÁ Ï³ï³ñí»É ¿ Ñ³Ù³Ï³ñ·ã³ÛÇÝ ï»ËÝÇÏ³ÛÇ û·ï³·áñÍÙ³Ùµ | D100: 181 | V100: =E100+G100 -> 0 | W100: =K100+L100+N100 -> 0 | X100: =K100 -> 0 | Y100: =H100+I100+J100 -> 0 | Z100: =R100 -> 0 | AA100: =P100+Q100 -> 0 | AB100: =U100 -> 0 | AC100: =S100+T100 -> 0
...

Sheet Avan
B1: 2015Ã. | E1: Ð²ÞìºîìàôÂÚàôÜ | R1: Ð³í»Éí³Í Ð³Û³ëï³ÝÇ Ð³Ýñ³å»ïáõÃÛ³Ý ¸³ï³ñ³ÝÝ»ñÇ Ý³Ë³·³ÑÝ»ñÇ ËáñÑñ¹Ç 01.02.2016Ã. ÃÇí 11È áñáßÙ³Ý
B2: ºðºì²Ü ø²Ô²øÆ ²ì²Ü ºì Üàð Üàðø ì²ðâ²Î²Ü Þðæ²ÜÜºðÆ ÀÜ¸Ð²Üàôð Æð²ì²êàôÂÚ²Ü ²è²æÆÜ ²îÚ²ÜÆ ¸²î²ð²ՆàôØ ՔՐԵԱԿԱՆ ¶àðÌºðÆ øÜÜàôÂÚ²Ü ìºð²´ºðÚ²È
B3: ºñ¨³Ý ù³Õ³ùÇ ²í³Ý ¨ Üáñ Üáñù í³ñã³Ï³Ý ßñç³ÝÝ»ñÇ ÁÝ¹Ñ³Ýáõñ Çñ³í³ëáõÃÛ³Ý ³é³çÇÝ ³ïÛ³ÝÇ ¹³ï³ñ³ÝáõÙ ùñ»³Ï³Ý Ù³ëÝ³·Çï³óáõÙ áõÝ»óáÕ ¹³ï³íáñÝ»ñÇ Ñ³ëïÇùÝ»ñÇ ù³Ý³ÏÁ` 3
B4: êïáõ·Çã Ñ³í³ë³ñáõÙÝ»ñ` 1+3=7+8+10, 7=4+5+6, 14=12+13, 17=15+16 | D4: ÐÐ ùñ»³Ï³Ý ûñ»Ýë·ñùÇ Ñá¹í³ÍÝ»ñ | E4: Ð³ßí»ïáõ Å³Ù³Ý³Ï³Ñ³ïí³ÍÇ ëÏ½µáõÙ Ý³Ëáñ¹ Ñ³ßí»ïáõ Å³Ù³Ý³Ï³Ñ³ïí³ÍÇó ÷áË³Ýóí³Í ·áñÍ»ñÇ ÁÝ¹Ñ³Ýáõñ ÃÇíÁ | F4: ²Û¹ ÃíáõÙ` Ï³ë»óí³Í íÇ×³ÏáõÙ ÷áË³Ýóí³Í | G4: Ð³ßí»ïáõ Å³Ù³Ý³Ï³Ñ³ïí³ÍáõÙ ëï³óí³Í ·áñÍ»ñÇ ÁÝ¹Ñ³Ýáõñ ÃÇíÁ | H4: Ð³ßí»ïáõ Å³Ù³Ý³Ï³Ñ³ïí³ÍáõÙ ³í³ñïí³Í ·áñÍ»ñի ընդհանուր թիվը | L4: àõÕ³ñÏí»É ¿ Áëï ÁÝ¹¹³ïáõÃÛ³Ý | M4: Ð³ßí»ïáõ Å³Ù³Ý³Ï³Ñ³ïí³ÍáõÙ Ï³ë»óí³Í í³ñáõÛÃÝ»ñáí ·áñÍ»ñÇ ÁÝ¹Ñ³Ýáõñ ÃÇíÁ | N4: Ð³ßí»ïáõ Å³Ù³Ý³Ï³Ñ³ïí³ÍáõÙ ³Ý³í³ñï ·áñÍ»ñÇ ÁÝ¹Ñ³Ýáõñ ÃÇíÁ | O4: ²Û¹ ÃíáõÙª Ï³ë»óí³Í | P4: ´áÕáù³ñÏí³Í ¹³ï³Ï³Ý ³Ïï»ñÇ ÃÇíÁ` Áëï ï»ë³ÏÝ»ñÇ | S4: ´»Ï³Ýí³Í ¹³ï³Ï³Ý ³Ïï»ñÇ ÃÇíÁ` Áëï ï»ë³ÏÝ»ñÇ
H5: øÝÝí»É ¿ Áëï ¿áõÃÛ³Ý ¨ ¹³ï³í×Çé Ï³Û³óí»É | J5: ՈñáßáõÙ ¿ Ï³Û³óí»É ³ÝÙ»ÕëáõÝ³ÏÝ»ñÇ ÝÏ³ïÙ³Ùµ µÅßÏ³Ï³Ý µÝáõÛÃÇ Ñ³ñÏ³¹ñ³Ï³Ý ÙÇçáóÝ»ñ ÏÇñ³é»Éáõ Ù³ëÇÝ | K5: ÀÝ¹³Ù»ÝÁ ³í³ñïí»É »Ý ·áñÍ»ñ
I6: ՈñáßáõÙ ¿ Ï³Û³óí»É ùñ»³Ï³Ý ·áñÍÇ í³ñáõÛÃÁ Ï³ñ×»Éáõ ¨ ùñ»³Ï³Ý Ñ»ï³åÝ¹áõÙÁ ¹³¹³ñ»óÝ»Éáõ Ù³ëÇÝ | P6: ²Û¹ ÃíáõÙ` ·áñÍÝ Áëï ¿áõÃÛ³Ý ÉáõÍáÕ ¹³ï³Ï³Ý ³Ïï»ñÁ | Q6: ²Û¹ ÃíáõÙ` ÙÇç³ÝÏÛ³É ¹³ï³Ï³Ý ³Ïï»ñÁ | R6: ÀÝ¹³Ù»ÝÁ | S6: ²Û¹ ÃíáõÙ` ·áñÍÝ Áëï ¿áõÃÛ³Ý ÉáõÍáÕ ¹³ï³Ï³Ý ³Ïï»ñÁ | T6: ²Û¹ ÃíáõÙ` ÙÇç³ÝÏÛ³É ¹³ï³Ï³Ý ³Ïï»ñÁ | U6: ÀÝ¹³Ù»ÝÁ
E7: 1 | F7: 2 | G7: 3 | H7: 4 | I7: 5 | J7: 6 | K7: 7 | L7: 8 | M7: 9 | N7: 10 | O7: 11 | P7: 12 | Q7: 13 | R7: 14 | S7: 15 | T7: 16 | U7: 17 | V7: 1+3=7+8+10 | X7: 7=4+5+6 | Z7: 14=12+13 | AB7: 17=15+16
A8: 1 | B8: 1. | C8: ÀÝ¹³Ù»ÝÁ ÏÛ³ÝùÇ ¨ ³éáÕçáõÃÛ³Ý ¹»Ù áõÕÕí³Í Ñ³Ýó³·áñÍáõÃÛáõÝÝ»ñÁ | E8: =SUM(E9:E35) -> 11 | F8: =SUM(F9:F35) -> 0 | G8: =SUM(G9:G35) -> 20 | H8: =SUM(H9:H35) -> 11 | I8: =SUM(I9:I35) -> 3 | J8: =SUM(J9:J35) -> 1 | K8: =SUM(K9:K35) -> 15 | L8: =SUM(L9:L35) -> 0 | ... AC8: =SUM(AC9:AC35) -> 3
A9: 0 | B9: 1.1 | C9: êå³ÝáõÃÛáõÝÁ | D9: 104 | E9: 2 | G9: 4 | H9: 1 | J9: 1 | K9: 2 | N9: 4 | P9: 2 | R9: 2 | V9: =E9+G9 -> 6 | W9: =K9+L9+N9 -> 6 | X9: =K9 -> 2 | Y9: =H9+I9+J9 -> 2 | Z9: =R9 -> 2 | AA9: =P9+Q9 -> 2 | AB9: =U9 -> 0 | AC9: =S9+T9 -> 0
A10: 0 | B10: 1.2 | C10: Ðá·»Ï³Ý ËÇëï Ñáõ½ÙáõÝùÇ íÇ×³ÏáõÙ Ï³ï³ñí³Í ëå³ÝáõÃÛáõÝÁ | D10: 105 | V10: =E10+G10 -> 0 | W10: =K10+L10+N10 -> 0 | X10: =K10 -> 0 | Y10: =H10+I10+J10 -> 0 | Z10: =R10 -> 0 | AA10: =P10+Q10 -> 0 | AB10: =U10 -> 0 | AC10: =S10+T10 -> 0
A11: 0 | B11: 1.3 | C11: Øáñ ÏáÕÙÇó Ýáñ³ÍÇÝ »ñ»Ë³ÛÇ ëå³ÝáõÃÛáõÝÁ | D11: 106 | V11: =E11+G11 -> 0 | W11: =K11+L11+N11 -> 0 | X11: =K11 -> 0 | Y11: =H11+I11+J11 -> 0 | Z11: =R11 -> 0 | AA11: =P11+Q11 -> 0 | AB11: =U11 -> 0 | AC11: =S11+T11 -> 0
A12: 0 | B12: 1.4 | C12: Ð³Ýó³Ýù Ï³ï³ñ³Í ³ÝÓÇÝ µéÝ»Éáõ Ñ³Ù³ñ ³ÝÑñ³Å»ßï ÙÇçáóÝ»ñÇ ë³ÑÙ³Ý³½³ÝóÙ³Ùµ ëå³ÝáõÃÛáõÝÁ | D12: 107 | V12: =E12+G12 -> 0 | W12: =K12+L12+N12 -> 0 | X12: =K12 -> 0 | Y12: =H12+I12+J12 -> 0 | Z12: =R12 -> 0 | AA12: =P12+Q12 -> 0 | AB12: =U12 -> 0 | AC12: =S12+T12 -> 0
A13: 0 | B13: 1.5 | C13: ²ÝÑñ³Å»ßï å³ßïå³ÝáõÃÛ³Ý ë³ÑÙ³Ý³½³ÝóÙ³Ùµ ëå³ÝáõÃÛáõÝÁ | D13: 108 | V13: =E13+G13 -> 0 | W13: =K13+L13+N13 -> 0 | X13: =K13 -> 0 | Y13: =H13+I13+J13 -> 0 | Z13: =R13 -> 0 | AA13: =P13+Q13 -> 0 | AB13: =U13 -> 0 | AC13: =S13+T13 -> 0
A14: 0 | B14: 1.6 | C14: ²Ý½·áõßáõÃÛ³Ùµ Ù³Ñ å³ï×³é»ÉÁ | D14: 109 | V14: =E14+G14 -> 0 | W14: =K14+L14+N14 -> 0 | X14: =K14 -> 0 | Y14: =H14+I14+J14 -> 0 | Z14: =R14 -> 0 | AA14: =P14+Q14 -> 0 | AB14: =U14 -> 0 | AC14: =S14+T14 -> 0
A15: 0 | B15: 1.7 | C15: ÆÝùÝ³ëå³ÝáõÃÛ³Ý Ñ³ëóÝ»ÉÁ | D15: 110 | V15: =E15+G15 -> 0 | W15: =K15+L15+N15 -> 0 | X15: =K15 -> 0 | Y15: =H15+I15+J15 -> 0 | Z15: =R15 -> 0 | AA15: =P15+Q15 -> 0 | AB15: =U15 -> 0 | AC15: =S15+T15 -> 0
A16: 0 | B16: 1.8 | C16: ÆÝùÝ³ëå³ÝáõÃÛ³Ý Ñ³Ï»ÉÁ | D16: 111 | V16: =E16+G16 -> 0 | W16: =K16+L16+N16 -> 0 | X16: =K16 -> 0 | Y16: =H16+I16+J16 -> 0 | Z16: =R16 -> 0 | AA16: =P16+Q16 -> 0 | AB16: =U16 -> 0 | AC16: =S16+T16 -> 0
A17: 0 | B17: 1.9 | C17: ¸Çï³íáñáõÃÛ³Ùµ ³éáÕçáõÃÛ³ÝÁ Í³Ýñ íÝ³ë å³ï×³é»ÉÁ | D17: 112 | E17: 7 | G17: 3 | H17: 5 | K17: 5 | N17: 5 | P17: 4 | R17: 4 | S17: 3 | U17: 3 | V17: =E17+G17 -> 10 | W17: =K17+L17+N17 -> 10 | X17: =K17 -> 5 | Y17: =H17+I17+J17 -> 5 | Z17: =R17 -> 4 | AA17: =P17+Q17 -> 4 | AB17: =U17 -> 3 | AC17: =S17+T17 -> 3
A18: 0 | B18: 1.10 | C18: ¸Çï³íáñáõÃÛ³Ùµ ³éáÕçáõÃÛ³ÝÁ ÙÇçÇÝ Í³ÝñáõÃÛ³Ý íÝ³ë å³ï×³é»ÉÁ | D18: 113 | G18: 4 | H18: 1 | K18: 1 | N18: 2 | V18: =E18+G18 -> 4 | W18: =K18+L18+N18 -> 3 | X18: =K18 -> 1 | Y18: =H18+I18+J18 -> 1 | Z18: =R18 -> 0 | AA18: =P18+Q18 -> 0 | AB18: =U18 -> 0 | AC18: =S18+T18 -> 0
A19: 0 | B19: 1.11 | C19: Ðá·»Ï³Ý ËÇëï Ñáõ½ÙáõÝùÇ íÇ×³ÏáõÙ ³éáÕçáõÃÛ³ÝÁ Í³Ýñ Ï³Ù ÙÇçÇÝ Í³ÝñáõÃÛ³Ý íÝ³ë å³ï×³é»ÉÁ | D19: 114 | V19: =E19+G19 -> 0 | W19: =K19+L19+N19 -> 0 | X19: =K19 -> 0 | Y19: =H19+I19+J19 -> 0 | Z19: =R19 -> 0 | AA19: =P19+Q19 -> 0 | AB19: =U19 -> 0 | AC19: =S19+T19 -> 0
A20: 0 | B20: 1.12 | C20: Ð³Ýó³Ýù Ï³ï³ñ³Í ³ÝÓÇÝ µéÝ»Éáõ Ñ³Ù³ñ ³ÝÑñ³Å»ßï ÙÇçáóÝ»ñÇ ë³ÑÙ³Ý½³ÝóÙ³Ùµ ³éáÕçáõÃÛ³ÝÁ Í³Ýñ Ï³Ù ÙÇçÇÝ Í³ÝñáõÃÛ³Ý íÝ³ë å³ï×³é»ÉÁ | D20: 115 | V20: =E20+G20 -> 0 | W20: =K20+L20+N20 -> 0 | X20: =K20 -> 0 | Y20: =H20+I20+J20 -> 0 | Z20: =R20 -> 0 | AA20: =P20+Q20 -> 0 | AB20: =U20 -> 0 | AC20: =S20+T20 -> 0
A21: 0 | B21: 1.13 | C21: ²éáÕçáõÃÛ³ÝÁ Í³Ýñ Ï³Ù ÙÇçÇÝ Í³ÝñáõÃÛ³Ý íÝ³ë å³ï×³é»ÉÁ ³ÝÑñ³Å»ßï å³ßïå³ÝáõÃÛ³Ý ë³ÑÙ³Ý³Ý³½³ÝóÙ³Ùµ | D21: 116 | V21: =E21+G21 -> 0 | W21: =K21+L21+N21 -> 0 | X21: =K21 -> 0 | Y21: =H21+I21+J21 -> 0 | Z21: =R21 -> 0 | AA21: =P21+Q21 -> 0 | AB21: =U21 -> 0 | AC21: =S21+T21 -> 0
A22: 0 | B22: 1.14 | C22: ¸Çï³íáñáõÃÛ³Ùµ ³éáÕçáõÃÛ³ÝÁ Ã»Ã¨ íÝ³ë å³ï×³é»ÉÁ | D22: 117 | E22: 1 | G22: 3 | H22: 2 | I22: 2 | K22: 4 | V22: =E22+G22 -> 4 | W22: =K22+L22+N22 -> 4 | X22: =K22 -> 4 | Y22: =H22+I22+J22 -> 4 | Z22: =R22 -> 0 | AA22: =P22+Q22 -> 0 | AB22: =U22 -> 0 | AC22: =S22+T22 -> 0
A23: 0 | B23: 1.15 | C23: Ì»ÍÁ | D23: 118 | E23: 1 | G23: 6 | H23: 2 | I23: 1 | K23: 3 | N23: 4 | V23: =E23+G23 -> 7 | W23: =K23+L23+N23 -> 7 | X23: =K23 -> 3 | Y23: =H23+I23+J23 -> 3 | Z23: =R23 -> 0 | AA23: =P23+Q23 -> 0 | AB23: =U23 -> 0 | AC23: =S23+T23 -> 0
A24: 0 | B24: 1.16 | C24: Êáßï³Ý·áõÙÁ | D24: 119 | V24: =E24+G24 -> 0 | W24: =K24+L24+N24 -> 0 | X24: =K24 -> 0 | Y24: =H24+I24+J24 -> 0 | Z24: =R24 -> 0 | AA24: =P24+Q24 -> 0 | AB24: =U24 -> 0 | AC24: =S24+T24 -> 0
A25: 0 | B25: 1.17 | C25: ²Ý½·áõßáõÃÛ³Ùµ ³éáÕçáõÃÛ³ÝÁ Í³Ýñ íÝ³ë å³ï×³é»ÉÁ | D25: 120 | V25: =E25+G25 -> 0 | W25: =K25+L25+N25 -> 0 | X25: =K25 -> 0 | Y25: =H25+I25+J25 -> 0 | Z25: =R25 -> 0 | AA25: =P25+Q25 -> 0 | AB25: =U25 -> 0 | AC25: =S25+T25 -> 0
A26: 0 | B26: 1.18 | C26: ²Ý½·áõßáõÃÛ³Ùµ ³éáÕçáõÃÛ³ÝÁ ÙÇçÇÝ Í³ÝñáõÃÛ³Ý íÝ³ë å³ï×³é»ÉÁ | D26: 121 | V26: =E26+G26 -> 0 | W26: =K26+L26+N26 -> 0 | X26: =K26 -> 0 | Y26: =H26+I26+J26 -> 0 | Z26: =R26 -> 0 | AA26: =P26+Q26 -> 0 | AB26: =U26 -> 0 | AC26: =S26+T26 -> 0
A27: 0 | B27: 1.19 | C27: ²åûñÇÝÇ ³µáñï Ï³ï³ñ»ÉÁ | D27: 122 | V27: =E27+G27 -> 0 | W27: =K27+L27+N27 -> 0 | X27: =K27 -> 0 | Y27: =H27+I27+J27 -> 0 | Z27: =R27 -> 0 | AA27: =P27+Q27 -> 0 | AB27: =U27 -> 0 | AC27: =S27+T27 -> 0
A28: 0 | B28: 1.20 | C28: Ø³ñ¹áõ ÇÙáõÝ³ÛÇÝ ³Ýµ³í³ñ³ñáõÃÛ³Ý íÇñáõëÇ Ñ³ñáõóÇãáí í³ñ³Ï»ÉÁ | D28: 123 | V28: =E28+G28 -> 0 | W28: =K28+L28+N28 -> 0 | X28: =K28 -> 0 | Y28: =H28+I28+J28 -> 0 | Z28: =R28 -> 0 | AA28: =P28+Q28 -> 0 | AB28: =U28 -> 0 | AC28: =S28+T28 -> 0
A29: 0 | B29: 1.21 | C29: ì»Ý»ñ³Ï³Ý ÑÇí³Ý¹áõÃÛ³Ùµ Ï³Ù ³ÛÉ ë»é³í³ñ³ÏÝ»ñáí í³ñ³Ï»ÉÁ | D29: 124 | V29: =E29+G29 -> 0 | W29: =K29+L29+N29 -> 0 | X29: =K29 -> 0 | Y29: =H29+I29+J29 -> 0 | Z29: =R29 -> 0 | AA29: =P29+Q29 -> 0 | AB29: =U29 -> 0 | AC29: =S29+T29 -> 0
A30: 0 | B30: 1.22 | C30: öáËå³ïí³ëïÙ³Ý íÇñ³Ñ³ïáõÃÛáõÝ Ï³ï³ñ»Éáõ Ï³ÝáÝÝ»ñÁ Ë³Ëï»ÉÁ | D30: 125 | V30: =E30+G30 -> 0 | W30: =K30+L30+N30 -> 0 | X30: =K30 -> 0 | Y30: =H30+I30+J30 -> 0 | Z30: =R30 -> 0 | AA30: =P30+Q30 -> 0 | AB30: =U30 -> 0 | AC30: =S30+T30 -> 0
A31: 0 | B31: 1.24 | C31: ²ÝÓÇÝ ³é³Ýó Çñ Ñ³ÝÓÝ³ñ³ñáõÃÛ³Ý µÅßÏ³Ï³Ý Ï³Ù ·Çï³Ï³Ý ÷áñÓ»ñÇ »ÝÃ³ñÏ»ÉÁ | D31: 127 | V31: =E31+G31 -> 0 | W31: =K31+L31+N31 -> 0 | X31: =K31 -> 0 | Y31: =H31+I31+J31 -> 0 | Z31: =R31 -> 0 | AA31: =P31+Q31 -> 0 | AB31: =U31 -> 0 | AC31: =S31+T31 -> 0
A32: 0 | B32: 1.25 | C32: ìï³Ý·Ç Ù»ç ÃáÕÝ»ÉÁ | D32: 128 | V32: =E32+G32 -> 0 | W32: =K32+L32+N32 -> 0 | X32: =K32 -> 0 | Y32: =H32+I32+J32 -> 0 | Z32: =R32 -> 0 | AA32: =P32+Q32 -> 0 | AB32: =U32 -> 0 | AC32: =S32+T32 -> 0
A33: 0 | B33: 1.26 | C33: ÐÇí³Ý¹ÇÝ û·ÝáõÃÛáõÝ óáõÛó ãï³ÉÁ | D33: 129 | V33: =E33+G33 -> 0 | W33: =K33+L33+N33 -> 0 | X33: =K33 -> 0 | Y33: =H33+I33+J33 -> 0 | Z33: =R33 -> 0 | AA33: =P33+Q33 -> 0 | AB33: =U33 -> 0 | AC33: =S33+T33 -> 0
A34: 0 | B34: 1.27 | C34: ´ÅßÏ³Ï³Ý û·ÝáõÃÛáõÝ ¨ ëå³ë³ñÏáõÙ Çñ³Ï³Ý³óÝáÕÝ»ñÇ ÏáÕÙÇó Ù³ëÝ³·Çï³Ï³Ý å³ñï³Ï³ÝáõÃÛáõÝÝ»ñÁ ãÏ³ï³ñ»ÉÁ Ï³Ù áã å³ïß³× Ï³ï³ñ»ÉÁ | D34: 130 | V34: =E34+G34 -> 0 | W34: =K34+L34+N34 -> 0 | X34: =K34 -> 0 | Y34: =H34+I34+J34 -> 0 | Z34: =R34 -> 0 | AA34: =P34+Q34 -> 0 | AB34: =U34 -> 0 | AC34: =S34+T34 -> 0
A35: 1 | B35: 1.28 | C35: ²ÛÉ Ñ³Ýó³·áñÍáõÃÛáõÝÝ»ñ | V35: =E35+G35 -> 0 | W35: =K35+L35+N35 -> 0 | X35: =K35 -> 0 | Y35: =H35+I35+J35 -> 0 | Z35: =R35 -> 0 | AA35: =P35+Q35 -> 0 | AB35: =U35 -> 0 | AC35: =S35+T35 -> 0
A36: 0 | B36: 2. | C36: ÀÝ¹³Ù»ÝÁ ³ÝÓÇ ³½³ïáõÃÛ³Ý, å³ïíÇ ¨ ³ñÅ³Ý³å³ïíáõÃÛ³Ý ¹»Ù áõÕÕí³Í Ñ³Ýó³·áñÍáõÃÛáõÝÝ»ñÁ | E36: =SUM(E37:E43) -> 0 | F36: =SUM(F37:F43) -> 0 | G36: =SUM(G37:G43) -> 1 | H36: =SUM(H37:H43) -> 0 | I36: =SUM(I37:I43) -> 0 | J36: =SUM(J37:J43) -> 0 | K36: =SUM(K37:K43) -> 0 | L36: =SUM(L37:L43) -> 0 | ... AC36: =SUM(AC37:AC43) -> 0
A37: 0 | B37: 2.1 | C37: Ø³ñ¹áõÝ ³é¨³Ý·»ÉÁ | D37: 131 | G37: 1 | N37: 1 | V37: =E37+G37 -> 1 | W37: =K37+L37+N37 -> 1 | X37: =K37 -> 0 | Y37: =H37+I37+J37 -> 0 | Z37: =R37 -> 0 | AA37: =P37+Q37 -> 0 | AB37: =U37 -> 0 | AC37: =S37+T37 -> 0
B38: 2.2 | C38: Մարդու թրաֆիքինգը կամ շահագործումը | D38: 132 | V38: =E38+G38 -> 0 | W38: =K38+L38+N38 -> 0 | X38: =K38 -> 0 | Y38: =H38+I38+J38 -> 0 | Z38: =R38 -> 0 | AA38: =P38+Q38 -> 0 | AB38: =U38 -> 0 | AC38: =S38+T38 -> 0
B39: 2.2.1 | C39: Ø³ñ¹áõÝ åáéÝÇÏáõÃÛ³Ý Ï³Ù ë»é³Ï³Ý ß³Ñ³·áñÍÙ³Ý ³ÛÉ Ó¨»ñÇ Ù»ç, Ñ³ñÏ³¹Çñ ³ßË³ï³ÝùÇ Ï³Ù Í³é³ÛáõÃÛáõÝÝ»ñÇ Ý»ñ·ñ³í»ÉÁ Ï³Ù ëïñÏáõÃÛ³Ý Ï³Ù ëïñÏáõÃÛ³ÝÁ ÝÙ³ÝíáÕ íÇ×³ÏÇ Ù»ç ¹Ý»ÉÁ Ï³Ù å³Ñ»ÉÁ | D39: 132.1 | V39: =E39+G39 -> 0 | W39: =K39+L39+N39 -> 0 | X39: =K39 -> 0 | Y39: =H39+I39+J39 -> 0 | Z39: =R39 -> 0 | AA39: =P39+Q39 -> 0 | AB39: =U39 -> 0 | AC39: =S39+T39 -> 0
B40: 2.3 | C40: ²½³ïáõÃÛáõÝÇó ³åûñÇÝÇ ½ñÏ»ÉÁ | D40: 133 | V40: =E40+G40 -> 0 | W40: =K40+L40+N40 -> 0 | X40: =K40 -> 0 | Y40: =H40+I40+J40 -> 0 | Z40: =R40 -> 0 | AA40: =P40+Q40 -> 0 | AB40: =U40 -> 0 | AC40: =S40+T40 -> 0
B41: 2.4 | C41: Ðá·»µáõÅ³Ï³Ý ÑÇí³Ý¹³ÝáóáõÙ ³åûñÇÝÇ ï»Õ³íáñ»ÉÁ Ï³Ù å³Ñ»ÉÁ | D41: 134 | V41: =E41+G41 -> 0 | W41: =K41+L41+N41 -> 0 | X41: =K41 -> 0 | Y41: =H41+I41+J41 -> 0 | Z41: =R41 -> 0 | AA41: =P41+Q41 -> 0 | AB41: =U41 -> 0 | AC41: =S41+T41 -> 0
B42: 2.7 | C42: êå³ÝáõÃÛ³Ý, ³éáÕçáõÃÛ³ÝÁ Í³Ýñ íÝ³ë å³ï×³é»Éáõ Ï³Ù ·áõÛù áãÝã³óÝ»Éáõ ëå³éÝ³ÉÇùÁ | D42: 137 | V42: =E42+G42 -> 0 | W42: =K42+L42+N42 -> 0 | X42: =K42 -> 0 | Y42: =H42+I42+J42 -> 0 | Z42: =R42 -> 0 | AA42: =P42+Q42 -> 0 | AB42: =U42 -> 0 | AC42: =S42+T42 -> 0
A43: 0 | B43: 2.8 | C43: ²ÛÉ Ñ³Ýó³·áñÍáõÃÛáõÝÝ»ñ | V43: =E43+G43 -> 0 | W43: =K43+L43+N43 -> 0 | X43: =K43 -> 0 | Y43: =H43+I43+J43 -> 0 | Z43: =R43 -> 0 | AA43: =P43+Q43 -> 0 | AB43: =U43 -> 0 | AC43: =S43+T43 -> 0
A44: 0 | B44: 3. | C44: ÀÝ¹³Ù»ÝÁ ë»é³Ï³Ý ³ÝÓ»éÝÙË»ÉÇáõÃÛ³Ý ¨ ë»é³Ï³Ý ³½³ïáõÃÛ³Ý ¹»Ù áõÕÕí³Í Ñ³Ýó³·áñÍáõÃÛáõÝÝ»ñÁ | E44: =SUM(E45:E50) -> 0 | F44: =SUM(F45:F50) -> 0 | G44: =SUM(G45:G50) -> 0 | H44: =SUM(H45:H50) -> 0 | I44: =SUM(I45:I50) -> 0 | J44: =SUM(J45:J50) -> 0 | K44: =SUM(K45:K50) -> 0 | L44: =SUM(L45:L50) -> 0 | ... AC44: =SUM(AC45:AC50) -> 0
A45: 0 | B45: 3.1 | C45: ´éÝ³µ³ñáõÃÛáõÝÁ | D45: 138 | V45: =E45+G45 -> 0 | W45: =K45+L45+N45 -> 0 | X45: =K45 -> 0 | Y45: =H45+I45+J45 -> 0 | Z45: =R45 -> 0 | AA45: =P45+Q45 -> 0 | AB45: =U45 -> 0 | AC45: =S45+T45 -> 0
B46: 3.2 | C46: ê»ùëáõ³É µÝáõÛÃÇ µéÝÇ ·áñÍáÕáõÃÛáõÝÝ»ñÁ | D46: 139 | V46: =E46+G46 -> 0 | W46: =K46+L46+N46 -> 0 | X46: =K46 -> 0 | Y46: =H46+I46+J46 -> 0 | Z46: =R46 -> 0 | AA46: =P46+Q46 -> 0 | AB46: =U46 -> 0 | AC46: =S46+T46 -> 0
B47: 3.3 | C47: Սեռական հարաբերության կամ սեքսուալ բնույթի գործողություններին հարկադրելը | D47: 140 | V47: =E47+G47 -> 0 | W47: =K47+L47+N47 -> 0 | X47: =K47 -> 0 | Y47: =H47+I47+J47 -> 0 | Z47: =R47 -> 0 | AA47: =P47+Q47 -> 0 | AB47: =U47 -> 0 | AC47: =S47+T47 -> 0
B48: 3.4 | C48: ê»é³Ï³Ý Ñ³ñ³µ»ñáõÃÛáõÝÁ ï³ëÝí»ó ï³ñÇÝ ãÉñ³ó³Í ³ÝÓÇ Ñ»ï Ï³Ù ë»ùëáõ³É µÝáõÛÃÇ ·áñÍáÕáõÃÛáõÝÝ»ñ Ï³ï³ñ»ÉÁ ï³ëÝí»ó ï³ñÇÝ ãÉñ³ó³Í ³ÝÓÇ ÝÏ³ïÙ³Ùµ | D48: 141 | V48: =E48+G48 -> 0 | W48: =K48+L48+N48 -> 0 | X48: =K48 -> 0 | Y48: =H48+I48+J48 -> 0 | Z48: =R48 -> 0 | AA48: =P48+Q48 -> 0 | AB48: =U48 -> 0 | AC48: =S48+T48 -> 0
B49: 3.5 | C49: ²Ý³é³Ï³µ³ñá ·áñÍáÕáõÃÛáõÝÝ»ñÁ | D49: 142 | V49: =E49+G49 -> 0 | W49: =K49+L49+N49 -> 0 | X49: =K49 -> 0 | Y49: =H49+I49+J49 -> 0 | Z49: =R49 -> 0 | AA49: =P49+Q49 -> 0 | AB49: =U49 -> 0 | AC49: =S49+T49 -> 0
B50: 3.6 | C50: ²ÛÉ Ñ³Ýó³·áñÍáõÃÛáõÝÝ»ñ | V50: =E50+G50 -> 0 | W50: =K50+L50+N50 -> 0 | X50: =K50 -> 0 | Y50: =H50+I50+J50 -> 0 | Z50: =R50 -> 0 | AA50: =P50+Q50 -> 0 | AB50: =U50 -> 0 | AC50: =S50+T50 -> 0
B51: 4. | C51: ÀÝ¹³Ù»ÝÁ Ù³ñ¹áõ ¨ ù³Õ³ù³óáõ ë³ÑÙ³Ý³¹ñ³Ï³Ý Çñ³íáõÝùÝ»ñÇ ¨ ³½³ïáõÃÛáõÝÝ»ñÇ ¹»Ù áõÕÕí³Í Ñ³Ýó³·áñÍáõÃÛáõÝÝ»ñÁ | E51: =SUM(E52:E79) -> 0 | F51: =SUM(F52:F79) -> 0 | G51: =SUM(G52:G79) -> 2 | H51: =SUM(H52:H79) -> 2 | I51: =SUM(I52:I79) -> 0 | J51: =SUM(J52:J79) -> 0 | K51: =SUM(K52:K79) -> 2 | L51: =SUM(L52:L79) -> 0 | ... AC51: =SUM(AC52:AC79) -> 0
B52: 4.1 | C52: Ø³ñ¹áõ ¨ ù³Õ³ù³óáõ Çñ³í³Ñ³í³ë³ñáõÃÛáõÝÁ Ë³Ëï»ÉÁ | D52: 143 | V52: =E52+G52 -> 0 | W52: =K52+L52+N52 -> 0 | X52: =K52 -> 0 | Y52: =H52+I52+J52 -> 0 | Z52: =R52 -> 0 | AA52: =P52+Q52 -> 0 | AB52: =U52 -> 0 | AC52: =S52+T52 -> 0
B53: 4.2 | C53: ²ÝÓÝ³Ï³Ý Ï³Ù ÁÝï³Ý»Ï³Ý ÏÛ³ÝùÇ Ù³ëÇÝ ï»Õ»ÏáõÃÛáõÝÝ»ñ ³åûñÇÝÇ Ñ³í³ù»ÉÁ, å³Ñ»ÉÁ, û·ï³·áñÍ»ÉÁ Ï³Ù ï³ñ³Í»ÉÁ | D53: 144 | V53: =E53+G53 -> 0 | W53: =K53+L53+N53 -> 0 | X53: =K53 -> 0 | Y53: =H53+I53+J53 -> 0 | Z53: =R53 -> 0 | AA53: =P53+Q53 -> 0 | AB53: =U53 -> 0 | AC53: =S53+T53 -> 0
B54: 4.3 | C54: ´ÅßÏ³Ï³Ý ·³ÕïÝÇùÁ Ññ³å³ñ³Ï»ÉÁ | D54: 145 | V54: =E54+G54 -> 0 | W54: =K54+L54+N54 -> 0 | X54: =K54 -> 0 | Y54: =H54+I54+J54 -> 0 | Z54: =R54 -> 0 | AA54: =P54+Q54 -> 0 | AB54: =U54 -> 0 | AC54: =S54+T54 -> 0
B55: 4.4 | C55: Ü³Ù³Ï³·ñáõÃÛ³Ý, Ñ»é³Ëáë³ÛÇÝ Ëáë³ÏóáõÃÛáõÝÝ»ñÇ, ÷áëï³ÛÇÝ, Ñ»é³·ñ³Ï³Ý Ï³Ù ³ÛÉ Ñ³Õáñ¹áõÙÝ»ñÇ ·³ÕïÝÇáõÃÛáõÝÁ Ë³Ëï»ÉÁ | D55: 146 | V55: =E55+G55 -> 0 | W55: =K55+L55+N55 -> 0 | X55: =K55 -> 0 | Y55: =H55+I55+J55 -> 0 | Z55: =R55 -> 0 | AA55: =P55+Q55 -> 0 | AB55: =U55 -> 0 | AC55: =S55+T55 -> 0
B56: 4.5 | C56: ´Ý³Ï³ñ³ÝÇ ³ÝÓ»éÝÙË»ÉÇáõÃÛáõÝÁ Ë³Ëï»ÉÁ | D56: 147 | G56: 1 | H56: 1 | K56: 1 | V56: =E56+G56 -> 1 | W56: =K56+L56+N56 -> 1 | X56: =K56 -> 1 | Y56: =H56+I56+J56 -> 1 | Z56: =R56 -> 0 | AA56: =P56+Q56 -> 0 | AB56: =U56 -> 0 | AC56: =S56+T56 -> 0
B57: 4.6 | C57: ²ÝÓÇÝ ï»Õ»ÏáõÃÛáõÝ Ý»ñÏ³Û³óÝ»Éáõó Ññ³Å³ñí»ÉÁ | D57: 148 | V57: =E57+G57 -> 0 | W57: =K57+L57+N57 -> 0 | X57: =K57 -> 0 | Y57: =H57+I57+J57 -> 0 | Z57: =R57 -> 0 | AA57: =P57+Q57 -> 0 | AB57: =U57 -> 0 | AC57: =S57+T57 -> 0
B58: 4.7 | C58: ÀÝïñ³Ï³Ý Çñ³íáõÝùÇ Çñ³Ï³Ý³óÙ³ÝÁ, ÁÝïñ³Ï³Ý Ñ³ÝÓÝ³ÅáÕáíÝ»ñÇ ³ßË³ï³ÝùÝ»ñÇÝ Ï³Ù ÁÝïñáõÃÛ³ÝÁ Ù³ëÝ³ÏóáÕ ³ÝÓ³Ýó ÉÇ³½áñáõÃÛáõÝÝ»ñÇ Çñ³Ï³Ý³óÙ³ÝÁ ËáãÁÝ¹áï»ÉÁ | D58: 149 | V58: =E58+G58 -> 0 | W58: =K58+L58+N58 -> 0 | X58: =K58 -> 0 | Y58: =H58+I58+J58 -> 0 | Z58: =R58 -> 0 | AA58: =P58+Q58 -> 0 | AB58: =U58 -> 0 | AC58: =S58+T58 -> 0
B59: 4.8 | C59: ÀÝïñáõÃÛáõÝÝ»ñÇ Ï³Ù ùí»³ñÏáõÃÛ³Ý ³ñ¹ÛáõÝùÝ»ñÁ Ï»ÕÍ»ÉÁ | D59: 150 | V59: =E59+G59 -> 0 | W59: =K59+L59+N59 -> 0 | X59: =K59 -> 0 | Y59: =H59+I59+J59 -> 0 | Z59: =R59 -> 0 | AA59: =P59+Q59 -> 0 | AB59: =U59 -> 0 | AC59: =S59+T59 -> 0
B60: 4.9 | C60: ÀÝïñáõÃÛáõÝÝ»ñÇ ³ÝóÏ³óÙ³Ý ÁÝÃ³óùáõÙ Ã»ÏÝ³ÍáõÇ, Ïáõë³ÏóáõÃÛ³Ý (Ïáõë³ÏóáõÃÛáõÝÝ»ñÇ ¹³ßÇÝùÇ) í»ñ³µ»ñÛ³É ½ñå³ñïã³Ï³Ý ï»Õ»ÏáõÃÛáõÝÝ»ñ ï³ñ³Í»ÉÁ | D60: 151 | V60: =E60+G60 -> 0 | W60: =K60+L60+N60 -> 0 | X60: =K60 -> 0 | Y60: =H60+I60+J60 -> 0 | Z60: =R60 -> 0 | AA60: =P60+Q60 -> 0 | AB60: =U60 -> 0 | AC60: =S60+T60 -> 0
B61: 4.10 | C61: ÀÝïñáÕÝ»ñÇ óáõó³ÏÝ»ñÁ Ï³½Ù»Éáõ, ¹ñ³Ýù ù³Õ³ù³óÇÝ»ñÇÝ ¨ Ïáõë³ÏóáõÃÛáõÝÝ»ñÇÝ ïñ³Ù³¹ñ»Éáõ Ï³Ù Ññ³å³ñ³Ï»Éáõ Ï³ñ·Á Ë³Ëï»ÉÁ | D61: 152 | V61: =E61+G61 -> 0 | W61: =K61+L61+N61 -> 0 | X61: =K61 -> 0 | Y61: =H61+I61+J61 -> 0 | Z61: =R61 -> 0 | AA61: =P61+Q61 -> 0 | AB61: =U61 -> 0 | AC61: =S61+T61 -> 0
A62: 0 | B62: 4.11 | C62: Ø»ÏÇó ³í»ÉÇ ³Ý·³Ù Ï³Ù ³ÛÉ ³ÝÓÇ ÷áË³ñ»Ý ùí»³ñÏ»ÉÁ | D62: 153 | V62: =E62+G62 -> 0 | W62: =K62+L62+N62 -> 0 | X62: =K62 -> 0 | Y62: =H62+I62+J62 -> 0 | Z62: =R62 -> 0 | AA62: =P62+Q62 -> 0 | AB62: =U62 -> 0 | AC62: =S62+T62 -> 0
B63: 4.12 | C63: øí»³ñÏáõÃÛ³Ý ·³ÕïÝÇáõÃÛáõÝÁ Ë³Ëï»ÉÁ | D63: 154 | V63: =E63+G63 -> 0 | W63: =K63+L63+N63 -> 0 | X63: =K63 -> 0 | Y63: =H63+I63+J63 -> 0 | Z63: =R63 -> 0 | AA63: =P63+Q63 -> 0 | AB63: =U63 -> 0 | AC63: =S63+T63 -> 0
B64: 4.13 | C64: Î»ÕÍ ÁÝïñ³Ï³Ý ùí»³Ã»ñÃÇÏÝ»ñ Ï³Ù ùí»³ñÏáõÃÛ³Ý Íñ³ñÝ»ñ å³ïñ³ëï»ÉÁ Ï³Ù ³ÏÝÑ³Ûï Ï»ÕÍ ÁÝïñ³Ï³Ý ùí»³Ã»ñÃÇÏÝ»ñ Ï³Ù ùí»³ñÏáõÃÛ³Ý Íñ³ñÝ»ñ Ñ³ÝÓÝ»ÉÁ Ï³Ù Çñ³óÝ»ÉÁ | D64: 154.1 | V64: =E64+G64 -> 0 | W64: =K64+L64+N64 -> 0 | X64: =K64 -> 0 | Y64: =H64+I64+J64 -> 0 | Z64: =R64 -> 0 | AA64: =P64+Q64 -> 0 | AB64: =U64 -> 0 | AC64: =S64+T64 -> 0
B65: 4.14 | C65: ÀÝïñáÕÇ Ï³ÙùÇ ³½³ï Çñ³Ï³Ý³óÙ³ÝÁ ËáãÁÝ¹áï»ÉÁ | D65: 154.2 | V65: =E65+G65 -> 0 | W65: =K65+L65+N65 -> 0 | X65: =K65 -> 0 | Y65: =H65+I65+J65 -> 0 | Z65: =R65 -> 0 | AA65: =P65+Q65 -> 0 | AB65: =U65 -> 0 | AC65: =S65+T65 -> 0
B66: 4.15 | C66: ÀÝïñ³Ï³Ý Ñ³ÝÓÝ³ÅáÕáíÇ ÏÝÇùÁ ãí»ñ³¹³ñÓÝ»ÉÁ, ÏÝÇùÇ å³Ñå³ÝÙ³Ý ë³ÑÙ³Ýí³Í Ï³ñ·Á Ë³Ëï»ÉÁ | D66: 154.3 | V66: =E66+G66 -> 0 | W66: =K66+L66+N66 -> 0 | X66: =K66 -> 0 | Y66: =H66+I66+J66 -> 0 | Z66: =R66 -> 0 | AA66: =P66+Q66 -> 0 | AB66: =U66 -> 0 | AC66: =S66+T66 -> 0
B67: 4.16 | C67: ¼»Ýùáíª ï»Õ³Ù³ë³ÛÇÝ Ï»ÝïñáÝ Ùáõïù ·áñÍ»ÉÁ | D67: 154.4 | V67: =E67+G67 -> 0 | W67: =K67+L67+N67 -> 0 | X67: =K67 -> 0 | Y67: =H67+I67+J67 -> 0 | Z67: =R67 -> 0 | AA67: =P67+Q67 -> 0 | AB67: =U67 -> 0 | AC67: =S67+T67 -> 0
B68: 4.17 | C68: ìëï³Ñí³Í ³ÝÓÇÝ,ÁÝïñ³Ï³Ý Ñ³ÝÓÝ³ÅáÕáíÇ ³Ý¹³ÙÇÝ,¹Çïáñ¹ÇÝ Ï³Ù ½³Ý·í³Í³ÛÇÝ Éñ³ïíáõÃÛ³Ý ÙÇçáóÇ Ý»ñÏ³Û³óáõóãÇÝ ÁÝïñ³Ï³Ý ÷³ëï³ÃÕÃ»ñÇÝ Í³ÝáÃ³Ý³ÉáõÝ ËáãÁÝ¹áï»ÉÁ, ÁÝïñ³Ï³Ý Ñ³ÝÓÝ³ÅáÕáíÇ ³ñÓ³Ý³·ñáõÃÛáõÝÝ»ñÇ å³ï×»ÝÝ»ñ ãï³ÉÁ | D68: 154.5 | V68: =E68+G68 -> 0 | W68: =K68+L68+N68 -> 0 | X68: =K68 -> 0 | Y68: =H68+I68+J68 -> 0 | Z68: =R68 -> 0 | AA68: =P68+Q68 -> 0 | AB68: =U68 -> 0 | AC68: =S68+T68 -> 0
B69: 4.18 | C69: ¶áñÍ³¹áõÉÇ Ù³ëÝ³Ïó»ÉáõÝ Ï³Ù ·áñÍ³¹áõÉÇ Ù³ëÝ³Ïó»Éáõó Ññ³Å³ñí»ÉáõÝ Ñ³ñÏ³¹ñ»ÉÁ | D69: 155 | V69: =E69+G69 -> 0 | W69: =K69+L69+N69 -> 0 | X69: =K69 -> 0 | Y69: =H69+I69+J69 -> 0 | Z69: =R69 -> 0 | AA69: =P69+Q69 -> 0 | AB69: =U69 -> 0 | AC69: =S69+T69 -> 0
B70: 4.19 | C70: ÐÕÇ ÏÝáçÁ Ï³Ù ÙÇÝã¨ »ñ»ù ï³ñ»Ï³Ý »ñ»Ë³ áõÝ»óáÕ ³ÝÓÇÝ ³ßË³ï³ÝùÇ ÁÝ¹áõÝ»Éáõõó Ññ³Å³ñí»ÉÁ Ï³Ù ³ßË³ï³ÝùÇó ³ÝÑÇÙÝ ³½³ï»ÉÁ | D70: 156 | V70: =E70+G70 -> 0 | W70: =K70+L70+N70 -> 0 | X70: =K70 -> 0 | Y70: =H70+I70+J70 -> 0 | Z70: =R70 -> 0 | AA70: =P70+Q70 -> 0 | AB70: =U70 -> 0 | AC70: =S70+T70 -> 0
B71: 4.20 | C71: ²ßË³ï³ÝùÇ å³ßïå³ÝáõÃÛ³Ý Ï³ÝáÝÝ»ñÁ Ë³Ëï»ÉÁ | D71: 157 | G71: 1 | H71: 1 | K71: 1 | P71: 1 | R71: 1 | V71: =E71+G71 -> 1 | W71: =K71+L71+N71 -> 1 | X71: =K71 -> 1 | Y71: =H71+I71+J71 -> 1 | Z71: =R71 -> 1 | AA71: =P71+Q71 -> 1 | AB71: =U71 -> 0 | AC71: =S71+T71 -> 0
B72: 4.21 | C72: Ð»ÕÇÝ³Ï³ÛÇÝ ¨ Ñ³ñ³ÏÇó Çñ³íáõÝùÝ»ñÁ Ë³Ëï»ÉÁ | D72: 158 | V72: =E72+G72 -> 0 | W72: =K72+L72+N72 -> 0 | X72: =K72 -> 0 | Y72: =H72+I72+J72 -> 0 | Z72: =R72 -> 0 | AA72: =P72+Q72 -> 0 | AB72: =U72 -> 0 | AC72: =S72+T72 -> 0
B73: 4.22 | C73: ²ñïáÝ³·ñ³ÛÇÝ Çñ³íáõÝùÁ Ë³Ëï»ÉÁ | D73: 159 | V73: =E73+G73 -> 0 | W73: =K73+L73+N73 -> 0 | X73: =K73 -> 0 | Y73: =H73+I73+J73 -> 0 | Z73: =R73 -> 0 | AA73: =P73+Q73 -> 0 | AB73: =U73 -> 0 | AC73: =S73+T73 -> 0
B74: 4.23 | C74: ÊÕ×Ç Ï³Ù ¹³í³Ý³ÝùÇ ³½³ïáõÃÛ³Ý Çñ³íáõÝùÇ Çñ³Ï³Ý³óÙ³ÝÁ ËáãÁÝ¹áï»ÉÁ | D74: 160 | V74: =E74+G74 -> 0 | W74: =K74+L74+N74 -> 0 | X74: =K74 -> 0 | Y74: =H74+I74+J74 -> 0 | Z74: =R74 -> 0 | AA74: =P74+Q74 -> 0 | AB74: =U74 -> 0 | AC74: =S74+T74 -> 0
B75: 4.24 | C75: ØÇ³íáñáõÙÝ»ñ (Ñ³ë³ñ³Ï³Ï³Ý Ï³Ù ³ñÑ»ëï³Ïó³Ï³Ý ÙÇáõÃÛáõÝÝ»ñ) Ï³½Ù»Éáõ Ï³Ù Ïáõë³ÏóáõÃÛáõÝÝ»ñ ëï»ÕÍ»Éáõ Çñ³íáõÝùÇ Çñ³Ï³Ý³óÙ³ÝÁ Ï³Ù ¹ñ³Ýó ·áñÍáÕáõÃÛ³ÝÁ ËáãÁÝ¹áï»ÉÁ | D75: 161 | V75: =E75+G75 -> 0 | W75: =K75+L75+N75 -> 0 | X75: =K75 -> 0 | Y75: =H75+I75+J75 -> 0 | Z75: =R75 -> 0 | AA75: =P75+Q75 -> 0 | AB75: =U75 -> 0 | AC75: =S75+T75 -> 0
B76: 4.25 | C76: ²ÝÓ³Ýó Çñ³íáõÝùÝ»ñÇ Ï³Ù ³ÝÓÇ ¹»Ù áïÝÓ·áÕ ÙÇ³íáñáõÙÝ»ñ Ï³½Ù»ÉÁ Ï³Ù Õ»Ï³í³ñ»ÉÁ | D76: 162 | V76: =E76+G76 -> 0 | W76: =K76+L76+N76 -> 0 | X76: =K76 -> 0 | Y76: =H76+I76+J76 -> 0 | Z76: =R76 -> 0 | AA76: =P76+Q76 -> 0 | AB76: =U76 -> 0 | AC76: =S76+T76 -> 0
B77: 4.26 | C77: Հավաքներ անցկացնելուն կամ դրանց մասնակցելուն խոչընդոտելը | D77: 163 | V77: =E77+G77 -> 0 | W77: =K77+L77+N77 -> 0 | X77: =K77 -> 0 | Y77: =H77+I77+J77 -> 0 | Z77: =R77 -> 0 | AA77: =P77+Q77 -> 0 | AB77: =U77 -> 0 | AC77: =S77+T77 -> 0
B78: 4.27 | C78: Èñ³·ñáÕÇ Ù³ëÝ³·Çï³Ï³Ý ûñÇÝ³Ï³Ý ·áñÍáÕáõÃÛ³ÝÁ ËáãÁÝ¹áï»ÉÁ | D78: 164 | V78: =E78+G78 -> 0 | W78: =K78+L78+N78 -> 0 | X78: =K78 -> 0 | Y78: =H78+I78+J78 -> 0 | Z78: =R78 -> 0 | AA78: =P78+Q78 -> 0 | AB78: =U78 -> 0 | AC78: =S78+T78 -> 0
B79: 4.28 | C79: ²ÛÉ Ñ³Ýó³·áñÍáõÃÛáõÝÝ»ñ | V79: =E79+G79 -> 0 | W79: =K79+L79+N79 -> 0 | X79: =K79 -> 0 | Y79: =H79+I79+J79 -> 0 | Z79: =R79 -> 0 | AA79: =P79+Q79 -> 0 | AB79: =U79 -> 0 | AC79: =S79+T79 -> 0
B80: 5. | C80: ÀÝ¹³Ù»ÝÁ ÁÝï³ÝÇùÇ ¨ »ñ»Ë³ÛÇ ß³Ñ»ñÇ ¹»Ù áõÕÕí³Í Ñ³Ýó³·áñÍáõÃÛáõÝÝ»ñÁ | E80: =SUM(E81:E92) -> 0 | F80: =SUM(F81:F92) -> 0 | G80: =SUM(G81:G92) -> 0 | H80: =SUM(H81:H92) -> 0 | I80: =SUM(I81:I92) -> 0 | J80: =SUM(J81:J92) -> 0 | K80: =SUM(K81:K92) -> 0 | L80: =SUM(L81:L92) -> 0 | ... AC80: =SUM(AC81:AC92) -> 0
B81: 5.1 | C81: ²Ýã³÷³Ñ³ëÇÝ Ñ³Ýó³ÝùÇ Ï³ï³ñÙ³ÝÁ Ý»ñ·ñ³í»ÉÁ | D81: 165 | V81: =E81+G81 -> 0 | W81: =K81+L81+N81 -> 0 | X81: =K81 -> 0 | Y81: =H81+I81+J81 -> 0 | Z81: =R81 -> 0 | AA81: =P81+Q81 -> 0 | AB81: =U81 -> 0 | AC81: =S81+T81 -> 0
B82: 5.2 | C82: ºñ»Ë³ÛÇÝ åáéÝÏáõÃÛ³Ý Ï³Ù åáéÝÏ³·ñ³Ï³Ý µÝáõÛÃÇ ÝÛáõÃ»ñ Ï³Ù ³é³ñÏ³Ý»ñ å³ïñ³ëï»Éáõ Ñ»ï Ï³åí³Í ·áñÍáÕáõÃÛáõÝÝ»ñ Ï³ï³ñ»ÉáõÝ Ý»ñ·ñ³í»ÉÁ | D82: 166 | V82: =E82+G82 -> 0 | W82: =K82+L82+N82 -> 0 | X82: =K82 -> 0 | Y82: =H82+I82+J82 -> 0 | Z82: =R82 -> 0 | AA82: =P82+Q82 -> 0 | AB82: =U82 -> 0 | AC82: =S82+T82 -> 0
B83: 5.3 | C83: ÌÝáÕÝ»ñÇó »ñ»Ë³ÛÇÝ ³åûñÇÝÇ µ³Å³Ý»ÉÁ Ï³Ù »ñ»Ë³ÛÇÝ ÷áË»ÉÁ | D83: 167 | V83: =E83+G83 -> 0 | W83: =K83+L83+N83 -> 0 | X83: =K83 -> 0 | Y83: =H83+I83+J83 -> 0 | Z83: =R83 -> 0 | AA83: =P83+Q83 -> 0 | AB83: =U83 -> 0 | AC83: =S83+T83 -> 0
B84: 5.4 | C84: ÊÝ³ÙùÁ ëï³ÝÓÝ»Éáõ Ýå³ï³Ïáí »ñ»Ë³ÛÇ ³éùÁ Ï³Ù ëï³ÝÓÝáÕÇ ËÝ³ÙùÇÝ Ñ³ÝÓÝ»Éáõ Ýå³ï³Ïáí »ñ»Ë³ÛÇ í³×³éùÁ | D84: 168 | V84: =E84+G84 -> 0 | W84: =K84+L84+N84 -> 0 | X84: =K84 -> 0 | Y84: =H84+I84+J84 -> 0 | Z84: =R84 -> 0 | AA84: =P84+Q84 -> 0 | AB84: =U84 -> 0 | AC84: =S84+T84 -> 0
B85: 5.5 | C85: àñ¹»·ñÙ³Ý ·³ÕïÝÇùÁ Ññ³å³ñ³Ï»ÉÁ Ï³Ù áñ¹»·ñÙ³Ý Ñ³Ù³Ó³ÛÝáõÃÛáõÝ ï³ÉáõÝ Ñ³Ï»ÉÁ Ï³Ù Ñ³ñÏ³¹ñ»ÉÁ | D85: 169 | V85: =E85+G85 -> 0 | W85: =K85+L85+N85 -> 0 | X85: =K85 -> 0 | Y85: =H85+I85+J85 -> 0 | Z85: =R85 -> 0 | AA85: =P85+Q85 -> 0 | AB85: =U85 -> 0 | AC85: =S85+T85 -> 0
B86: 5.6 | C86: ø³Õ³ù³óÇ³Ï³Ý Ï³óáõÃÛ³Ý ³Ïï»ñÇ ·ñ³ÝóÙ³Ý Ù³ñÙÇÝÝ»ñÇÝ ëáõï ï»Õ»ÏáõÃÛáõÝÝ»ñ Ñ³Õáñ¹»ÉÁ | D86: 169.1 | V86: =E86+G86 -> 0 | W86: =K86+L86+N86 -> 0 | X86: =K86 -> 0 | Y86: =H86+I86+J86 -> 0 | Z86: =R86 -> 0 | AA86: =P86+Q86 -> 0 | AB86: =U86 -> 0 | AC86: =S86+T86 -> 0
B87: 5.7 | C87: ºñ»Ë³ÛÇÝ ¹³ëïÇ³ñ³Ï»Éáõ å³ñï³Ï³ÝáõÃÛáõÝÁ ãÏ³ï³ñ»ÉÁ | D87: 170 | V87: =E87+G87 -> 0 | W87: =K87+L87+N87 -> 0 | X87: =K87 -> 0 | Y87: =H87+I87+J87 -> 0 | Z87: =R87 -> 0 | AA87: =P87+Q87 -> 0 | AB87: =U87 -> 0 | AC87: =S87+T87 -> 0
B88: 5.8 | C88: ºñ»Ë³ÛÇ ÏÛ³ÝùÇ ³Ýíï³Ý·áõÃÛ³Ý ³å³ÑáíÙ³Ý Ï³Ù ³éáÕçáõÃÛ³Ý å³Ñå³ÝÙ³Ý å³ñï³Ï³ÝáõÃÛáõÝÁ ãÏ³ï³ñ»ÉÁ Ï³Ù áã å³ïß³× Ï³ï³ñ»ÉÁ | D88: 171 | V88: =E88+G88 -> 0 | W88: =K88+L88+N88 -> 0 | X88: =K88 -> 0 | Y88: =H88+I88+J88 -> 0 | Z88: =R88 -> 0 | AA88: =P88+Q88 -> 0 | AB88: =U88 -> 0 | AC88: =S88+T88 -> 0
B89: 5.9 | C89: ÊÝ³Ù³Ï³ÉÇ Ï³Ù Ñá·³µ³ñÓáõÇ Çñ³íáõÝùÝ»ñÁ ã³ñ³ß³Ñ»ÉÁ | D89: 172 | V89: =E89+G89 -> 0 | W89: =K89+L89+N89 -> 0 | X89: =K89 -> 0 | Y89: =H89+I89+J89 -> 0 | Z89: =R89 -> 0 | AA89: =P89+Q89 -> 0 | AB89: =U89 -> 0 | AC89: =S89+T89 -> 0
A90: 0 | B90: 5.10 | C90: ÌÝáÕÇ ÏáÕÙÇó »ñ»Ë³ÛÇÝ å³Ñ»Éáõó ã³ñ³Ùïáñ»Ý Ëáõë³÷»ÉÁ (áõÅÁ Ïáñóñ³Í) | D90: 173 | V90: =E90+G90 -> 0 | W90: =K90+L90+N90 -> 0 | X90: =K90 -> 0 | Y90: =H90+I90+J90 -> 0 | Z90: =R90 -> 0 | AA90: =P90+Q90 -> 0 | AB90: =U90 -> 0 | AC90: =S90+T90 -> 0
B91: 5.11 | C91: ¼³í³ÏÇ ÏáÕÙÇó ³Ý³ßË³ïáõÝ³Ï ÍÝáÕÇÝ å³Ñ»Éáõó ã³ñ³Ùïáñ»Ý Ëáõë³÷»ÉÁ | D91: 174 | V91: =E91+G91 -> 0 | W91: =K91+L91+N91 -> 0 | X91: =K91 -> 0 | Y91: =H91+I91+J91 -> 0 | Z91: =R91 -> 0 | AA91: =P91+Q91 -> 0 | AB91: =U91 -> 0 | AC91: =S91+T91 -> 0
B92: 5.12 | C92: ²ÛÉ Ñ³Ýó³·áñÍáõÃÛáõÝÝ»ñ | V92: =E92+G92 -> 0 | W92: =K92+L92+N92 -> 0 | X92: =K92 -> 0 | Y92: =H92+I92+J92 -> 0 | Z92: =R92 -> 0 | AA92: =P92+Q92 -> 0 | AB92: =U92 -> 0 | AC92: =S92+T92 -> 0
B93: 6. | C93: ÀÝ¹³Ù»ÝÁ ë»÷³Ï³ÝáõÃÛ³Ý ¹»Ù áõÕÕí³Í Ñ³Ýó³·áñÍáõÃÛáõÝÝ»ñÁ | E93: =SUM(E94:E106) -> 28 | F93: =SUM(F94:F106) -> 3 | G93: =SUM(G94:G106) -> 22 | H93: =SUM(H94:H106) -> 27 | I93: =SUM(I94:I106) -> 2 | J93: =SUM(J94:J106) -> 0 | K93: =SUM(K94:K106) -> 29 | L93: =SUM(L94:L106) -> 3 | ... AC93: =SUM(AC94:AC106) -> 2
B94: 6.1 | C94: ²í³½³ÏáõÃÛáõÝÁ | D94: 175 | E94: 3 | H94: 3 | K94: 3 | P94: 1 | R94: 1 | S94: 1 | U94: 1 | V94: =E94+G94 -> 3 | W94: =K94+L94+N94 -> 3 | X94: =K94 -> 3 | Y94: =H94+I94+J94 -> 3 | Z94: =R94 -> 1 | AA94: =P94+Q94 -> 1 | AB94: =U94 -> 1 | AC94: =S94+T94 -> 1
B95: 6.2 | C95: ÎáÕáåáõïÁ | D95: 176 | G95: 5 | H95: 2 | K95: 2 | N95: 3 | V95: =E95+G95 -> 5 | W95: =K95+L95+N95 -> 5 | X95: =K95 -> 2 | Y95: =H95+I95+J95 -> 2 | Z95: =R95 -> 0 | AA95: =P95+Q95 -> 0 | AB95: =U95 -> 0 | AC95: =S95+T95 -> 0
B96: 6.3 | C96: ¶áÕáõÃÛáõÝÁ | D96: 177 | E96: 13 | F96: 2 | G96: 11 | H96: 13 | I96: 2 | K96: 15 | N96: 9 | O96: 2 | P96: 7 | R96: 7 | S96: 1 | U96: 1 | V96: =E96+G96 -> 24 | W96: =K96+L96+N96 -> 24 | X96: =K96 -> 15 | Y96: =H96+I96+J96 -> 15 | Z96: =R96 -> 7 | AA96: =P96+Q96 -> 7 | AB96: =U96 -> 1 | AC96: =S96+T96 -> 1
B97: 6.4 | C97: Ê³ñ¹³ËáõÃÛáõÝÁ | D97: 178 | E97: 10 | F97: 1 | G97: 5 | H97: 7 | K97: 7 | L97: 2 | N97: 6 | O97: 1 | P97: 4 | R97: 4 | V97: =E97+G97 -> 15 | W97: =K97+L97+N97 -> 15 | X97: =K97 -> 7 | Y97: =H97+I97+J97 -> 7 | Z97: =R97 -> 4 | AA97: =P97+Q97 -> 4 | AB97: =U97 -> 0 | AC97: =S97+T97 -> 0
B98: 6.5 | C98: Úáõñ³óÝ»ÉÁ Ï³Ù í³ïÝ»ÉÁ | D98: 179 | E98: 1 | H98: 1 | K98: 1 | P98: 1 | R98: 1 | V98: =E98+G98 -> 1 | W98: =K98+L98+N98 -> 1 | X98: =K98 -> 1 | Y98: =H98+I98+J98 -> 1 | Z98: =R98 -> 1 | AA98: =P98+Q98 -> 1 | AB98: =U98 -> 0 | AC98: =S98+T98 -> 0
B99: 6.6 | C99: ²é³ÝÓÝ³ÏÇ ³ñÅ»ù áõÝ»óáÕ ³é³ñÏ³Ý»ñ Ñ³÷ßï³Ï»ÉÁ | D99: 180 | V99: =E99+G99 -> 0 | W99: =K99+L99+N99 -> 0 | X99: =K99 -> 0 | Y99: =H99+I99+J99 -> 0 | Z99: =R99 -> 0 | AA99: =P99+Q99 -> 0 | AB99: =U99 -> 0 | AC99: =S99+T99 -> 0
B100: 6.7 | C100: Ð³÷ßï³ÏáõÃÛáõÝÁ, áñÁ Ï³ï³ñí»É ¿ Ñ³Ù³Ï³ñ·ã³ÛÇÝ ï»ËÝÇÏ³ÛÇ û·ï³·áñÍÙ³Ùµ | D100: 181 | V100: =E100+G100 -> 0 | W100: =K100+L100+N100 -> 0 | X100: =K100 -> 0 | Y100: =H100+I100+J100 -> 0 | Z100: =R100 -> 0 | AA100: =P100+Q100 -> 0 | AB100: =U100 -> 0 | AC100: =S100+T100 -> 0
...

Sheet Shengavit
B1: 2015Ã. | E1: Ð²ÞìºîìàôÂÚàôÜ | R1: Ð³í»Éí³Í Ð³Û³ëï³ÝÇ Ð³Ýñ³å»ïáõÃÛ³Ý ¸³ï³ñ³ÝÝ»ñÇ Ý³Ë³·³ÑÝ»ñÇ ËáñÑñ¹Ç 01.02.2016Ã. ÃÇí 11È áñáßÙ³Ý
B2: ºðºì²Ü ø²Ô²øÆ ՇԵՆԳԱՎԻԹ ì²ðâ²Î²Ü Þðæ²ÜÆ ÀÜ¸Ð²Üàôð Æð²ì²êàôÂÚ²Ü ²è²æÆÜ ²îÚ²ÜÆ ¸²î²ð²ՆàôØ ՔՐԵԱԿԱՆ ¶àðÌºðÆ øÜÜàôÂÚ²Ü ìºð²´ºðÚ²È
B3: Երևան քաղաքի Շենգավիթ վարչական շրջանի ÁÝ¹Ñ³Ýáõñ Çñ³í³ëáõÃÛ³Ý ³é³çÇÝ ³ïÛ³ÝÇ ¹³ï³ñ³ÝáõÙ ùñ»³Ï³Ý Ù³ëÝ³·Çï³óáõÙ áõÝ»óáÕ ¹³ï³íáñÝ»ñÇ Ñ³ëïÇùÝ»ñÇ ù³Ý³ÏÁ` 3
B4: êïáõ·Çã Ñ³í³ë³ñáõÙÝ»ñ` 1+3=7+8+10, 7=4+5+6, 14=12+13, 17=15+16 | D4: ÐÐ ùñ»³Ï³Ý ûñ»Ýë·ñùÇ Ñá¹í³ÍÝ»ñ | E4: Ð³ßí»ïáõ Å³Ù³Ý³Ï³Ñ³ïí³ÍÇ ëÏ½µáõÙ Ý³Ëáñ¹ Ñ³ßí»ïáõ Å³Ù³Ý³Ï³Ñ³ïí³ÍÇó ÷áË³Ýóí³Í ·áñÍ»ñÇ ÁÝ¹Ñ³Ýáõñ ÃÇíÁ | F4: ²Û¹ ÃíáõÙ` Ï³ë»óí³Í íÇ×³ÏáõÙ ÷áË³Ýóí³Í | G4: Ð³ßí»ïáõ Å³Ù³Ý³Ï³Ñ³ïí³ÍáõÙ ëï³óí³Í ·áñÍ»ñÇ ÁÝ¹Ñ³Ýáõñ ÃÇíÁ | H4: Ð³ßí»ïáõ Å³Ù³Ý³Ï³Ñ³ïí³ÍáõÙ ³í³ñïí³Í ·áñÍ»ñի ընդհանուր թիվը | L4: àõÕ³ñÏí»É ¿ Áëï ÁÝ¹¹³ïáõÃÛ³Ý | M4: Ð³ßí»ïáõ Å³Ù³Ý³Ï³Ñ³ïí³ÍáõÙ Ï³ë»óí³Í í³ñáõÛÃÝ»ñáí ·áñÍ»ñÇ ÁÝ¹Ñ³Ýáõñ ÃÇíÁ | N4: Ð³ßí»ïáõ Å³Ù³Ý³Ï³Ñ³ïí³ÍáõÙ ³Ý³í³ñï ·áñÍ»ñÇ ÁÝ¹Ñ³Ýáõñ ÃÇíÁ | O4: ²Û¹ ÃíáõÙª Ï³ë»óí³Í | P4: ´áÕáù³ñÏí³Í ¹³ï³Ï³Ý ³Ïï»ñÇ ÃÇíÁ` Áëï ï»ë³ÏÝ»ñÇ | S4: ´»Ï³Ýí³Í ¹³ï³Ï³Ý ³Ïï»ñÇ ÃÇíÁ` Áëï ï»ë³ÏÝ»ñÇ
H5: øÝÝí»É ¿ Áëï ¿áõÃÛ³Ý ¨ ¹³ï³í×Çé Ï³Û³óí»É | J5: ՈñáßáõÙ ¿ Ï³Û³óí»É ³ÝÙ»ÕëáõÝ³ÏÝ»ñÇ ÝÏ³ïÙ³Ùµ µÅßÏ³Ï³Ý µÝáõÛÃÇ Ñ³ñÏ³¹ñ³Ï³Ý ÙÇçáóÝ»ñ ÏÇñ³é»Éáõ Ù³ëÇÝ | K5: ÀÝ¹³Ù»ÝÁ ³í³ñïí»É »Ý ·áñÍ»ñ
I6: ՈñáßáõÙ ¿ Ï³Û³óí»É ùñ»³Ï³Ý ·áñÍÇ í³ñáõÛÃÁ Ï³ñ×»Éáõ ¨ ùñ»³Ï³Ý Ñ»ï³åÝ¹áõÙÁ ¹³¹³ñ»óÝ»Éáõ Ù³ëÇÝ | P6: ²Û¹ ÃíáõÙ` ·áñÍÝ Áëï ¿áõÃÛ³Ý ÉáõÍáÕ ¹³ï³Ï³Ý ³Ïï»ñÁ | Q6: ²Û¹ ÃíáõÙ` ÙÇç³ÝÏÛ³É ¹³ï³Ï³Ý ³Ïï»ñÁ | R6: ÀÝ¹³Ù»ÝÁ | S6: ²Û¹ ÃíáõÙ` ·áñÍÝ Áëï ¿áõÃÛ³Ý ÉáõÍáÕ ¹³ï³Ï³Ý ³Ïï»ñÁ | T6: ²Û¹ ÃíáõÙ` ÙÇç³ÝÏÛ³É ¹³ï³Ï³Ý ³Ïï»ñÁ | U6: ÀÝ¹³Ù»ÝÁ
E7: 1 | F7: 2 | G7: 3 | H7: 4 | I7: 5 | J7: 6 | K7: 7 | L7: 8 | M7: 9 | N7: 10 | O7: 11 | P7: 12 | Q7: 13 | R7: 14 | S7: 15 | T7: 16 | U7: 17 | V7: 1+3=7+8+10 | X7: 7=4+5+6 | Z7: 14=12+13 | AB7: 17=15+16
A8: 1 | B8: 1. | C8: ÀÝ¹³Ù»ÝÁ ÏÛ³ÝùÇ ¨ ³éáÕçáõÃÛ³Ý ¹»Ù áõÕÕí³Í Ñ³Ýó³·áñÍáõÃÛáõÝÝ»ñÁ | E8: =SUM(E9:E35) -> 11 | F8: =SUM(F9:F35) -> 0 | G8: =SUM(G9:G35) -> 25 | H8: =SUM(H9:H35) -> 16 | I8: =SUM(I9:I35) -> 9 | J8: =SUM(J9:J35) -> 0 | K8: =SUM(K9:K35) -> 25 | L8: =SUM(L9:L35) -> 0 | ... AC8: =SUM(AC9:AC35) -> 2
A9: 0 | B9: 1.1 | C9: êå³ÝáõÃÛáõÝÁ | D9: 104 | E9: 1 | G9: 2 | H9: 2 | K9: 2 | N9: 1 | V9: =E9+G9 -> 3 | W9: =K9+L9+N9 -> 3 | X9: =K9 -> 2 | Y9: =H9+I9+J9 -> 2 | Z9: =R9 -> 0 | AA9: =P9+Q9 -> 0 | AB9: =U9 -> 0 | AC9: =S9+T9 -> 0
A10: 0 | B10: 1.2 | C10: Ðá·»Ï³Ý ËÇëï Ñáõ½ÙáõÝùÇ íÇ×³ÏáõÙ Ï³ï³ñí³Í ëå³ÝáõÃÛáõÝÁ | D10: 105 | V10: =E10+G10 -> 0 | W10: =K10+L10+N10 -> 0 | X10: =K10 -> 0 | Y10: =H10+I10+J10 -> 0 | Z10: =R10 -> 0 | AA10: =P10+Q10 -> 0 | AB10: =U10 -> 0 | AC10: =S10+T10 -> 0
A11: 0 | B11: 1.3 | C11: Øáñ ÏáÕÙÇó Ýáñ³ÍÇÝ »ñ»Ë³ÛÇ ëå³ÝáõÃÛáõÝÁ | D11: 106 | V11: =E11+G11 -> 0 | W11: =K11+L11+N11 -> 0 | X11: =K11 -> 0 | Y11: =H11+I11+J11 -> 0 | Z11: =R11 -> 0 | AA11: =P11+Q11 -> 0 | AB11: =U11 -> 0 | AC11: =S11+T11 -> 0
A12: 0 | B12: 1.4 | C12: Ð³Ýó³Ýù Ï³ï³ñ³Í ³ÝÓÇÝ µéÝ»Éáõ Ñ³Ù³ñ ³ÝÑñ³Å»ßï ÙÇçáóÝ»ñÇ ë³ÑÙ³Ý³½³ÝóÙ³Ùµ ëå³ÝáõÃÛáõÝÁ | D12: 107 | V12: =E12+G12 -> 0 | W12: =K12+L12+N12 -> 0 | X12: =K12 -> 0 | Y12: =H12+I12+J12 -> 0 | Z12: =R12 -> 0 | AA12: =P12+Q12 -> 0 | AB12: =U12 -> 0 | AC12: =S12+T12 -> 0
A13: 0 | B13: 1.5 | C13: ²ÝÑñ³Å»ßï å³ßïå³ÝáõÃÛ³Ý ë³ÑÙ³Ý³½³ÝóÙ³Ùµ ëå³ÝáõÃÛáõÝÁ | D13: 108 | V13: =E13+G13 -> 0 | W13: =K13+L13+N13 -> 0 | X13: =K13 -> 0 | Y13: =H13+I13+J13 -> 0 | Z13: =R13 -> 0 | AA13: =P13+Q13 -> 0 | AB13: =U13 -> 0 | AC13: =S13+T13 -> 0
