Workbook

Sheet Ընդամենը
A1: 2015Ã. | E1: Ð²ÞìºîìàôÂÚàôÜ | AC1: Ð³í»Éí³Í Ð³Û³ëï³ÝÇ Ð³Ýñ³å»ïáõÃÛ³Ý ¸³ï³ñ³ÝÝ»ñÇ Ý³Ë³·³ÑÝ»ñÇ ËáñÑñ¹Ç 01.02.2016Ã. ÃÇí 11È áñáßÙ³Ý
A2: ՀՀ ÀÜ¸Ð²Üàôð Æð²ì²êàôÂÚ²Ü ²è²æÆÜ ²îÚ²ÜÆ ¸²î²ð²ÜÜºðàôØ ø²Ô²ø²òÆ²Î²Ü ¶àðÌºðÆ øÜÜàôÂÚ²Ü ìºð²´ºðÚ²È
A3: ÐÐ ÁÝ¹Ñ³Ýáõñ Çñ³í³ëáõÃÛ³Ý ³é³çÇÝ ³ïÛ³ÝÇ ¹³ï³ñ³ÝÝ»ñáõÙ ù³Õ³ù³óÇ³Ï³Ý Ù³ëÝ³·Çï³óáõÙ áõÝ»óáÕ ¹³ï³íáñÝ»ñÇ Ñ³ëïÇùÝ»ñÇ ù³Ý³ÏÁ` 90
A4: êïáõ·Çã Ñ³í³ë³ñáõÙÝ»ñª 1=2+3+4+5, 6=7+8+9, 2+3+7=20+21+23, 10=11+12+13+14+15, 15=16+17+18, 20=10+19, 27=25+26, 30=28+29 | E4: Ð³ßí»ïáõ Å³Ù³Ý³Ï³Ñ³ïí³ÍáõÙ Ý³Ëáñ¹ Ñ³ßí»ïáõ Å³Ù³Ý³Ï³Ñ³ïí³ÍÇó ÷áË³Ýóí³Í ·áñÍ»ñÇ ÁÝ¹Ñ³Ýáõñ ÃÇíÁ | J4: Ð³ßí»ïáõ Å³Ù³Ý³Ï³Ñ³ïí³ÍáõÙëï³óí³Í ·áñÍ»ñÇ (³Û¹ ÃíáõÙ` Ñ³Ûó³¹ÇÙáõÙÝ»ñÇ, ¹ÇÙáõÙÝ»ñÇ) ÁÝ¹Ñ³Ýáõñ ÃÇíÁ | N4: Ð³ßí»ïáõ Å³Ù³Ý³Ï³Ñ³ïí³ÍáõÙ ³í³ñïí³Í ·áñÍ»ñÇ ÁÝ¹Ñ³Ýáõñ ÃÇíÁ | Y4: ¶áñÍÝ áõÕ³ñÏí»É ¿ Áëï ÁÝ¹¹³ïáõÃÛ³Ý | Z4: Ð³ßí»ïáõ Å³Ù³Ý³Ï³Ñ³ïí³ÍáõÙ Ï³ë»óí³Í í³ñáõÛÃÝ»ñáí ·áñÍ»ñÇ ÁÝ¹Ñ³Ýáõñ ÃÇíÁ | AA4: Ð³ßí»ïáõ Å³Ù³Ý³Ï³Ñ³ïí³ÍáõÙ ³Ý³í³ñï ·áñÍ»ñÇ ÁÝ¹Ñ³Ýáõñ ÃÇíÁ | AB4: ²Û¹ ÃíáõÙª Ï³ë»óí³Í | AC4: ´áÕáù³ñÏí³Í ¹³ï³Ï³Ý ³Ïï»ñÇ ÃÇíÁ` Áëï ï»ë³ÏÝ»ñÇ | AF4: ´»Ï³Ýí³Í ¹³ï³Ï³Ý ³Ïï»ñÇ ÃÇíÁ` Áëï ï»ë³ÏÝ»ñÇ
E7: ÀÝ¹³Ù»ÝÁ | F7: ²Û¹ ÃíáõÙ`Ï³ë»óí³Í íÇ×³ÏáõÙ ÷áË³Ýóí³Í | G7: ²Û¹ ÃíáõÙª ÁÝ¹áõÝí»É ¿ í³ñáõÛÃ | H7: ²Û¹ ÃíáõÙª í»ñ³¹³ñÓí»É ¿ | I7: ²Û¹ ÃíáõÙª ÁÝ¹áõÝáõÙÁ Ù»ñÅí»É ¿ | J7: ÀÝ¹³Ù»ÝÁ | K7: ²Û¹ ÃíáõÙª ÁÝ¹áõÝí»É ¿ í³ñáõÛÃ | L7: ²Û¹ ÃíáõÙª í»ñ³¹³ñÓí»É ¿ | M7: ²Û¹ ÃíáõÙª ÁÝ¹áõÝáõÙÁ Ù»ñÅí»É ¿ | N7: ÀÝ¹³Ù»ÝÁ ³í³ñïí»É »Ý ·áñÍ»ñ ·áñÍÝ Áëï ¿áõÃÛ³Ý ÉáõÍáÕ ¹³ï³Ï³Ý ³Ïï»ñÇ (í×ÇéÝ»ñÇ) Ï³Û³óÙ³Ùµ | O7: ²Û¹ ÃíáõÙª Ñ³ÛóÇ µ³í³ñ³ñÙ³Ùµ | P7: ²Û¹ ÃíáõÙª Ñ³ÛóÇ Ù³ëÝ³ÏÇ µ³í³ñ³ñÙ³Ùµ | Q7: ²Û¹ ÃíáõÙª Ñ³ÛóÇ Ù»ñÅÙ³Ùµ | R7: Ø³ëáí Ï³ñ×í»É ¿, Ù³ëáí Ù»ñÅí»É | S7: ²Û¹ ÃíáõÙª Ï³ñ×í»É »Ý | W7: Ð³ÛóÁ ÃáÕÝí»É ¿ ³é³Ýó ùÝÝáõÃÛ³Ý | X7: ÀÝ¹³Ù»ÝÝ ³í³ñïí»É »Ý ·áñÍ»ñ | AC7: ²Û¹ ÃíáõÙ` ·áñÍÝ Áëï ¿áõÃÛ³Ý ÉáõÍáÕ ¹³ï³Ï³Ý ³Ïï»ñ | AD7: ²Û¹ ÃíáõÙ` ÙÇç³ÝÏÛ³É ¹³ï³Ï³Ý ³Ïï»ñ | AE7: ÀÝ¹³Ù»ÝÁ | AF7: ²Û¹ ÃíáõÙ` ·áñÍÝ Áëï ¿áõÃÛ³Ý ÉáõÍáÕ ¹³ï³Ï³Ý ³Ïï»ñ | AG7: ²Û¹ ÃíáõÙ` ÙÇç³ÝÏÛ³É ¹³ï³Ï³Ý ³Ïï»ñ | AH7: ÀÝ¹³Ù»ÝÁ
S10: ÀÝ¹³Ù»ÝÁ Ï³ñ×í»É »Ý | T10: ²Û¹ ÃíáõÙª Ñ³ëï³ïí»É ¿ ÏÝùí³Í Ñ³ßïáõÃÛ³Ý Ñ³Ù³Ó³ÛÝáõÃÛáõÝÁ | U10: ²Û¹ ÃíáõÙª Ñ³óÇó, ¹ÇÙáõÙÇó Ññ³Å³ñí»Éáõ ÑÇÙùáí | V10: ²Û¹ ÃíáõÙª ³ÛÉ ÑÇÙùáí
A18: ø³Õ³ù³óÇ³Ï³Ý ·áñÍ»ñÇ ¹³ë³Ï³ñ·áõÙÁ | E18: 1 | F18: 2 | G18: 3 | H18: 4 | I18: 5 | J18: 6 | K18: 7 | L18: 8 | M18: 9 | N18: 10 | O18: 11 | P18: 12 | Q18: 13 | R18: 14 | S18: 15 | T18: 16 | U18: 17 | V18: 18 | W18: 19 | X18: 20 | Y18: 21 | Z18: 22 | AA18: 23 | AB18: 24 | AC18: 25 | AD18: 26 | AE18: 27 | AF18: 28 | AG18: 29 | AH18: 30 | AJ18: 1=2+3+4+5 | AL18: 6=7+8+9 | AN18: 2+3+7=20+21+23 | AP18: 10=11+12+13+14+15 | AR18: 15=16+17+18 | AT18: 20=10+19 | AV18: 27=25+26 | AX18: 30=28+29
A19: 1. | B19: ¶áõÛù³ÛÇÝ Çñ³í³Ñ³ñ³µ»ñáõÃÛáõÝÝ»ñÇ í»ñ³µ»ñÛ³É ¹³ï³Ï³Ý ·áñÍ»ñ | E19: =SUM(Ajapnyak:Aragacotn!E19) -> 3461 | F19: =SUM(Ajapnyak:Aragacotn!F19) -> 1318 | G19: =SUM(Ajapnyak:Aragacotn!G19) -> 2142 | H19: =SUM(Ajapnyak:Aragacotn!H19) -> 1 | I19: =SUM(Ajapnyak:Aragacotn!I19) -> 0 | J19: =SUM(Ajapnyak:Aragacotn!J19) -> 3001 | K19: =SUM(Ajapnyak:Aragacotn!K19) -> 2499 | L19: =SUM(Ajapnyak:Aragacotn!L19) -> 451 | ... AH19: =SUM(Ajapnyak:Aragacotn!AH19) -> 81 | AJ19: =SUM(AJ20:AJ38) -> 3461 | AK19: =SUM(AK20:AK38) -> 3461 | AL19: =SUM(AL20:AL38) -> 3001 | AM19: =SUM(AM20:AM38) -> 2999 | AN19: =SUM(AN20:AN38) -> 5959 | AO19: =SUM(AO20:AO38) -> 5950 | AP19: =SUM(AP20:AP38) -> 2443 | AQ19: =SUM(AQ20:AQ38) -> 2443 | ... AY19: =SUM(AY20:AY38) -> 83
A20: 1.1 | B20: ¶áõÛùÇ ÝÏ³ïÙ³Ùµ ë»÷³Ï³ÝáõÃÛ³Ý Çñ³íáõÝùÁ ×³Ý³ã»Éáõ í»ñ³µ»ñÛ³É | E20: =SUM(Ajapnyak:Aragacotn!E20) -> 293 | F20: =SUM(Ajapnyak:Aragacotn!F20) -> 56 | G20: =SUM(Ajapnyak:Aragacotn!G20) -> 237 | H20: =SUM(Ajapnyak:Aragacotn!H20) -> 0 | I20: =SUM(Ajapnyak:Aragacotn!I20) -> 0 | J20: =SUM(Ajapnyak:Aragacotn!J20) -> 383 | K20: =SUM(Ajapnyak:Aragacotn!K20) -> 314 | L20: =SUM(Ajapnyak:Aragacotn!L20) -> 57 | ... AH20: =SUM(Ajapnyak:Aragacotn!AH20) -> 13 | AJ20: =E20 -> 293 | AK20: =F20+G20+H20+I20 -> 293 | AL20: =J20 -> 383 | AM20: =K20+L20+M20 -> 383 | AN20: =F20+G20+K20 -> 607 | AO20: =X20+Y20+AA20 -> 606 | AP20: =N20 -> 299 | AQ20: =O20+P20+Q20+R20+S20 -> 299 | AR20: =S20 -> 75 | AS20: =T20+U20+V20 -> 75 | AT20: =X20 -> 302 | AU20: =N20+W20 -> 302 | AV20: =AE20 -> 75 | AW20: =AC20+AD20 -> 75 | AX20: =AH20 -> 13 | AY20: =AF20+AG20 -> 13
A21: 1.1.1 | B21: ²Û¹ ÃíáõÙª Ó»éùµ»ñÙ³Ý í³Õ»ÙáõÃÛ³Ý áõÅáí | E21: =SUM(Ajapnyak:Aragacotn!E21) -> 205 | F21: =SUM(Ajapnyak:Aragacotn!F21) -> 39 | G21: =SUM(Ajapnyak:Aragacotn!G21) -> 165 | H21: =SUM(Ajapnyak:Aragacotn!H21) -> 1 | I21: =SUM(Ajapnyak:Aragacotn!I21) -> 0 | J21: =SUM(Ajapnyak:Aragacotn!J21) -> 333 | K21: =SUM(Ajapnyak:Aragacotn!K21) -> 296 | L21: =SUM(Ajapnyak:Aragacotn!L21) -> 34 | ... AH21: =SUM(Ajapnyak:Aragacotn!AH21) -> 10 | AJ21: =E21 -> 205 | AK21: =F21+G21+H21+I21 -> 205 | AL21: =J21 -> 333 | AM21: =K21+L21+M21 -> 333 | AN21: =F21+G21+K21 -> 500 | AO21: =X21+Y21+AA21 -> 499 | AP21: =N21 -> 271 | AQ21: =O21+P21+Q21+R21+S21 -> 271 | AR21: =S21 -> 53 | AS21: =T21+U21+V21 -> 53 | AT21: =X21 -> 275 | AU21: =N21+W21 -> 275 | AV21: =AE21 -> 40 | AW21: =AC21+AD21 -> 40 | AX21: =AH21 -> 10 | AY21: =AF21+AG21 -> 10
A22: 1.1.2 | B22: ²Û¹ ÃíáõÙª ïÇñ³½áõñÏ ·áõÛùÇ ÝÏ³ïÙ³Ùµ | E22: =SUM(Ajapnyak:Aragacotn!E22) -> 1 | F22: =SUM(Ajapnyak:Aragacotn!F22) -> 1 | G22: =SUM(Ajapnyak:Aragacotn!G22) -> 0 | H22: =SUM(Ajapnyak:Aragacotn!H22) -> 0 | I22: =SUM(Ajapnyak:Aragacotn!I22) -> 0 | J22: =SUM(Ajapnyak:Aragacotn!J22) -> 4 | K22: =SUM(Ajapnyak:Aragacotn!K22) -> 4 | L22: =SUM(Ajapnyak:Aragacotn!L22) -> 0 | ... AH22: =SUM(Ajapnyak:Aragacotn!AH22) -> 1 | AJ22: =E22 -> 1 | AK22: =F22+G22+H22+I22 -> 1 | AL22: =J22 -> 4 | AM22: =K22+L22+M22 -> 4 | AN22: =F22+G22+K22 -> 5 | AO22: =X22+Y22+AA22 -> 5 | AP22: =N22 -> 3 | AQ22: =O22+P22+Q22+R22+S22 -> 3 | AR22: =S22 -> 1 | AS22: =T22+U22+V22 -> 1 | AT22: =X22 -> 3 | AU22: =N22+W22 -> 3 | AV22: =AE22 -> 0 | AW22: =AC22+AD22 -> 0 | AX22: =AH22 -> 1 | AY22: =AF22+AG22 -> 1
A23: 1.1.3 | B23: ²Û¹ ÃíáõÙª ÇÝùÝ³Ï³Ù Ï³éáõÛóÇ ÝÏ³ïÙ³Ùµ | E23: =SUM(Ajapnyak:Aragacotn!E23) -> 1 | F23: =SUM(Ajapnyak:Aragacotn!F23) -> 1 | G23: =SUM(Ajapnyak:Aragacotn!G23) -> 0 | H23: =SUM(Ajapnyak:Aragacotn!H23) -> 0 | I23: =SUM(Ajapnyak:Aragacotn!I23) -> 0 | J23: =SUM(Ajapnyak:Aragacotn!J23) -> 0 | K23: =SUM(Ajapnyak:Aragacotn!K23) -> 0 | L23: =SUM(Ajapnyak:Aragacotn!L23) -> 0 | ... AH23: =SUM(Ajapnyak:Aragacotn!AH23) -> 0 | AJ23: =E23 -> 1 | AK23: =F23+G23+H23+I23 -> 1 | AL23: =J23 -> 0 | AM23: =K23+L23+M23 -> 0 | AN23: =F23+G23+K23 -> 1 | AO23: =X23+Y23+AA23 -> 1 | AP23: =N23 -> 0 | AQ23: =O23+P23+Q23+R23+S23 -> 0 | AR23: =S23 -> 0 | AS23: =T23+U23+V23 -> 0 | AT23: =X23 -> 0 | AU23: =N23+W23 -> 0 | AV23: =AE23 -> 0 | AW23: =AC23+AD23 -> 0 | AX23: =AH23 -> 0 | AY23: =AF23+AG23 -> 0
A24: 1.2 | B24: ê»÷³Ï³ÝáõÃÛ³Ý Çñ³íáõÝùÇ ¹³¹³ñ»óÙ³Ý í»ñ³µ»ñÛ³É | E24: =SUM(Ajapnyak:Aragacotn!E24) -> 26 | F24: =SUM(Ajapnyak:Aragacotn!F24) -> 8 | G24: =SUM(Ajapnyak:Aragacotn!G24) -> 18 | H24: =SUM(Ajapnyak:Aragacotn!H24) -> 0 | I24: =SUM(Ajapnyak:Aragacotn!I24) -> 0 | J24: =SUM(Ajapnyak:Aragacotn!J24) -> 30 | K24: =SUM(Ajapnyak:Aragacotn!K24) -> 23 | L24: =SUM(Ajapnyak:Aragacotn!L24) -> 6 | ... AH24: =SUM(Ajapnyak:Aragacotn!AH24) -> 0 | AJ24: =E24 -> 26 | AK24: =F24+G24+H24+I24 -> 26 | AL24: =J24 -> 30 | AM24: =K24+L24+M24 -> 30 | AN24: =F24+G24+K24 -> 49 | AO24: =X24+Y24+AA24 -> 49 | AP24: =N24 -> 14 | AQ24: =O24+P24+Q24+R24+S24 -> 14 | AR24: =S24 -> 5 | AS24: =T24+U24+V24 -> 5 | AT24: =X24 -> 14 | AU24: =N24+W24 -> 14 | AV24: =AE24 -> 4 | AW24: =AC24+AD24 -> 4 | AX24: =AH24 -> 0 | AY24: =AF24+AG24 -> 0
A25: 1.3 | B25: ¶áõÛùÇ ÝÏ³ïÙ³Ùµ û·ï³·áñÍÙ³Ý Çñ³íáõÝùÁ ×³Ý³ã»Éáõ í»ñ³µ»ñÛ³É | E25: =SUM(Ajapnyak:Aragacotn!E25) -> 5 | F25: =SUM(Ajapnyak:Aragacotn!F25) -> 2 | G25: =SUM(Ajapnyak:Aragacotn!G25) -> 3 | H25: =SUM(Ajapnyak:Aragacotn!H25) -> 0 | I25: =SUM(Ajapnyak:Aragacotn!I25) -> 0 | J25: =SUM(Ajapnyak:Aragacotn!J25) -> 8 | K25: =SUM(Ajapnyak:Aragacotn!K25) -> 4 | L25: =SUM(Ajapnyak:Aragacotn!L25) -> 4 | ... AH25: =SUM(Ajapnyak:Aragacotn!AH25) -> 0 | AJ25: =E25 -> 5 | AK25: =F25+G25+H25+I25 -> 5 | AL25: =J25 -> 8 | AM25: =K25+L25+M25 -> 8 | AN25: =F25+G25+K25 -> 9 | AO25: =X25+Y25+AA25 -> 9 | AP25: =N25 -> 4 | AQ25: =O25+P25+Q25+R25+S25 -> 4 | AR25: =S25 -> 1 | AS25: =T25+U25+V25 -> 1 | AT25: =X25 -> 4 | AU25: =N25+W25 -> 4 | AV25: =AE25 -> 1 | AW25: =AC25+AD25 -> 1 | AX25: =AH25 -> 0 | AY25: =AF25+AG25 -> 0
A26: 1.3.1 | B26: ²Û¹ ÃíáõÙª µÝ³Ïû·ï³·áñÍÙ³Ý Çñ³íáõÝùÁ ×³Ý³ã»Éáõ í»ñ³µ»ñÛ³É | E26: =SUM(Ajapnyak:Aragacotn!E26) -> 5 | F26: =SUM(Ajapnyak:Aragacotn!F26) -> 0 | G26: =SUM(Ajapnyak:Aragacotn!G26) -> 5 | H26: =SUM(Ajapnyak:Aragacotn!H26) -> 0 | I26: =SUM(Ajapnyak:Aragacotn!I26) -> 0 | J26: =SUM(Ajapnyak:Aragacotn!J26) -> 13 | K26: =SUM(Ajapnyak:Aragacotn!K26) -> 8 | L26: =SUM(Ajapnyak:Aragacotn!L26) -> 4 | ... AH26: =SUM(Ajapnyak:Aragacotn!AH26) -> 0 | AJ26: =E26 -> 5 | AK26: =F26+G26+H26+I26 -> 5 | AL26: =J26 -> 13 | AM26: =K26+L26+M26 -> 13 | AN26: =F26+G26+K26 -> 13 | AO26: =X26+Y26+AA26 -> 13 | AP26: =N26 -> 7 | AQ26: =O26+P26+Q26+R26+S26 -> 7 | AR26: =S26 -> 4 | AS26: =T26+U26+V26 -> 4 | AT26: =X26 -> 7 | AU26: =N26+W26 -> 7 | AV26: =AE26 -> 1 | AW26: =AC26+AD26 -> 1 | AX26: =AH26 -> 0 | AY26: =AF26+AG26 -> 0
A27: 1.3.2 | B27: ²Û¹ ÃíáõÙª ÑáÕ³Ù³ëÇ ÝÏ³ïÙ³Ùµ û·ï³·áñÍÙ³Ý Çñ³íáõÝùÁ ×³Ý³ã»Éáõ í»ñ³µ»ñÛ³É | E27: =SUM(Ajapnyak:Aragacotn!E27) -> 8 | F27: =SUM(Ajapnyak:Aragacotn!F27) -> 2 | G27: =SUM(Ajapnyak:Aragacotn!G27) -> 6 | H27: =SUM(Ajapnyak:Aragacotn!H27) -> 0 | I27: =SUM(Ajapnyak:Aragacotn!I27) -> 0 | J27: =SUM(Ajapnyak:Aragacotn!J27) -> 8 | K27: =SUM(Ajapnyak:Aragacotn!K27) -> 5 | L27: =SUM(Ajapnyak:Aragacotn!L27) -> 3 | ... AH27: =SUM(Ajapnyak:Aragacotn!AH27) -> 0 | AJ27: =E27 -> 8 | AK27: =F27+G27+H27+I27 -> 8 | AL27: =J27 -> 8 | AM27: =K27+L27+M27 -> 8 | AN27: =F27+G27+K27 -> 13 | AO27: =X27+Y27+AA27 -> 13 | AP27: =N27 -> 3 | AQ27: =O27+P27+Q27+R27+S27 -> 3 | AR27: =S27 -> 2 | AS27: =T27+U27+V27 -> 2 | AT27: =X27 -> 3 | AU27: =N27+W27 -> 3 | AV27: =AE27 -> 1 | AW27: =AC27+AD27 -> 1 | AX27: =AH27 -> 0 | AY27: =AF27+AG27 -> 0
A28: 1.4 | B28: ¶áõÛùÇ ÝÏ³ïÙ³Ùµ û·ï³·áñÍÙ³Ý Çñ³íáõÝùÁ ¹³¹³ñ»óÝ»Éáõ í»ñ³µ»ñÛ³É | E28: =SUM(Ajapnyak:Aragacotn!E28) -> 6 | F28: =SUM(Ajapnyak:Aragacotn!F28) -> 2 | G28: =SUM(Ajapnyak:Aragacotn!G28) -> 4 | H28: =SUM(Ajapnyak:Aragacotn!H28) -> 0 | I28: =SUM(Ajapnyak:Aragacotn!I28) -> 0 | J28: =SUM(Ajapnyak:Aragacotn!J28) -> 5 | K28: =SUM(Ajapnyak:Aragacotn!K28) -> 4 | L28: =SUM(Ajapnyak:Aragacotn!L28) -> 0 | ... AH28: =SUM(Ajapnyak:Aragacotn!AH28) -> 2 | AJ28: =E28 -> 6 | AK28: =F28+G28+H28+I28 -> 6 | AL28: =J28 -> 5 | AM28: =K28+L28+M28 -> 5 | AN28: =F28+G28+K28 -> 10 | AO28: =X28+Y28+AA28 -> 10 | AP28: =N28 -> 5 | AQ28: =O28+P28+Q28+R28+S28 -> 5 | AR28: =S28 -> 1 | AS28: =T28+U28+V28 -> 1 | AT28: =X28 -> 5 | AU28: =N28+W28 -> 5 | AV28: =AE28 -> 2 | AW28: =AC28+AD28 -> 2 | AX28: =AH28 -> 2 | AY28: =AF28+AG28 -> 2
A29: 1.4.1 | B29: ²Û¹ ÃíáõÙª µÝ³Ïû·ï³·áñÍÙ³Ý Çñ³íáõÝùÁ ¹³¹³ñ»óÝ»Éáõ í»ñ³µ»ñÛ³É | E29: =SUM(Ajapnyak:Aragacotn!E29) -> 18 | F29: =SUM(Ajapnyak:Aragacotn!F29) -> 8 | G29: =SUM(Ajapnyak:Aragacotn!G29) -> 10 | H29: =SUM(Ajapnyak:Aragacotn!H29) -> 0 | I29: =SUM(Ajapnyak:Aragacotn!I29) -> 0 | J29: =SUM(Ajapnyak:Aragacotn!J29) -> 7 | K29: =SUM(Ajapnyak:Aragacotn!K29) -> 7 | L29: =SUM(Ajapnyak:Aragacotn!L29) -> 0 | ... AH29: =SUM(Ajapnyak:Aragacotn!AH29) -> 3 | AJ29: =E29 -> 18 | AK29: =F29+G29+H29+I29 -> 18 | AL29: =J29 -> 7 | AM29: =K29+L29+M29 -> 7 | AN29: =F29+G29+K29 -> 25 | AO29: =X29+Y29+AA29 -> 25 | AP29: =N29 -> 7 | AQ29: =O29+P29+Q29+R29+S29 -> 7 | AR29: =S29 -> 1 | AS29: =T29+U29+V29 -> 1 | AT29: =X29 -> 7 | AU29: =N29+W29 -> 7 | AV29: =AE29 -> 5 | AW29: =AC29+AD29 -> 5 | AX29: =AH29 -> 3 | AY29: =AF29+AG29 -> 2
A30: 1.4.1/1 | B30: ²Û¹ ÃíáõÙª ÷áËÑ³ïáõóÙ³Ùµ | E30: =SUM(Ajapnyak:Aragacotn!E30) -> 15 | F30: =SUM(Ajapnyak:Aragacotn!F30) -> 7 | G30: =SUM(Ajapnyak:Aragacotn!G30) -> 8 | H30: =SUM(Ajapnyak:Aragacotn!H30) -> 0 | I30: =SUM(Ajapnyak:Aragacotn!I30) -> 0 | J30: =SUM(Ajapnyak:Aragacotn!J30) -> 9 | K30: =SUM(Ajapnyak:Aragacotn!K30) -> 7 | L30: =SUM(Ajapnyak:Aragacotn!L30) -> 2 | ... AH30: =SUM(Ajapnyak:Aragacotn!AH30) -> 0 | AJ30: =E30 -> 15 | AK30: =F30+G30+H30+I30 -> 15 | AL30: =J30 -> 9 | AM30: =K30+L30+M30 -> 9 | AN30: =F30+G30+K30 -> 22 | AO30: =X30+Y30+AA30 -> 22 | AP30: =N30 -> 10 | AQ30: =O30+P30+Q30+R30+S30 -> 10 | AR30: =S30 -> 4 | AS30: =T30+U30+V30 -> 4 | AT30: =X30 -> 10 | AU30: =N30+W30 -> 10 | AV30: =AE30 -> 3 | AW30: =AC30+AD30 -> 3 | AX30: =AH30 -> 0 | AY30: =AF30+AG30 -> 1
A31: 1.5 | B31: ´Ý³Ï³ñ³ÝÇó/ ï³ñ³ÍùÇó/ íï³ñ»Éáõ í»ñ³µ»ñÛ³É | E31: =SUM(Ajapnyak:Aragacotn!E31) -> 220 | F31: =SUM(Ajapnyak:Aragacotn!F31) -> 71 | G31: =SUM(Ajapnyak:Aragacotn!G31) -> 149 | H31: =SUM(Ajapnyak:Aragacotn!H31) -> 0 | I31: =SUM(Ajapnyak:Aragacotn!I31) -> 0 | J31: =SUM(Ajapnyak:Aragacotn!J31) -> 187 | K31: =SUM(Ajapnyak:Aragacotn!K31) -> 164 | L31: =SUM(Ajapnyak:Aragacotn!L31) -> 22 | ... AH31: =SUM(Ajapnyak:Aragacotn!AH31) -> 8 | AJ31: =E31 -> 220 | AK31: =F31+G31+H31+I31 -> 220 | AL31: =J31 -> 187 | AM31: =K31+L31+M31 -> 186 | AN31: =F31+G31+K31 -> 384 | AO31: =X31+Y31+AA31 -> 385 | AP31: =N31 -> 159 | AQ31: =O31+P31+Q31+R31+S31 -> 159 | AR31: =S31 -> 39 | AS31: =T31+U31+V31 -> 39 | AT31: =X31 -> 159 | AU31: =N31+W31 -> 159 | AV31: =AE31 -> 63 | AW31: =AC31+AD31 -> 63 | AX31: =AH31 -> 8 | AY31: =AF31+AG31 -> 8
A32: 1.6 | B32: ¶áõÛùÝ áõñÇßÇ ³åûñÇÝÇ ïÇñ³å»ïáõÙÇó »ï í»ñ³¹³ñÓÝ»Éáõ í»ñ³µ»ñÛ³É | E32: =SUM(Ajapnyak:Aragacotn!E32) -> 227 | F32: =SUM(Ajapnyak:Aragacotn!F32) -> 81 | G32: =SUM(Ajapnyak:Aragacotn!G32) -> 146 | H32: =SUM(Ajapnyak:Aragacotn!H32) -> 0 | I32: =SUM(Ajapnyak:Aragacotn!I32) -> 0 | J32: =SUM(Ajapnyak:Aragacotn!J32) -> 236 | K32: =SUM(Ajapnyak:Aragacotn!K32) -> 202 | L32: =SUM(Ajapnyak:Aragacotn!L32) -> 32 | ... AH32: =SUM(Ajapnyak:Aragacotn!AH32) -> 5 | AJ32: =E32 -> 227 | AK32: =F32+G32+H32+I32 -> 227 | AL32: =J32 -> 236 | AM32: =K32+L32+M32 -> 236 | AN32: =F32+G32+K32 -> 429 | AO32: =X32+Y32+AA32 -> 428 | AP32: =N32 -> 150 | AQ32: =O32+P32+Q32+R32+S32 -> 150 | AR32: =S32 -> 44 | AS32: =T32+U32+V32 -> 44 | AT32: =X32 -> 150 | AU32: =N32+W32 -> 150 | AV32: =AE32 -> 39 | AW32: =AC32+AD32 -> 39 | AX32: =AH32 -> 5 | AY32: =AF32+AG32 -> 5
A33: 1.6.1 | B33: ´³ñ»ËÇÕ× Ó»éùµ»ñáÕÇó Çñ ·áõÛùÁ Ñ»ï å³Ñ³Ýç»Éáõ í»ñ³µ»ñÛ³É | E33: =SUM(Ajapnyak:Aragacotn!E33) -> 0 | F33: =SUM(Ajapnyak:Aragacotn!F33) -> 0 | G33: =SUM(Ajapnyak:Aragacotn!G33) -> 0 | H33: =SUM(Ajapnyak:Aragacotn!H33) -> 0 | I33: =SUM(Ajapnyak:Aragacotn!I33) -> 0 | J33: =SUM(Ajapnyak:Aragacotn!J33) -> 1 | K33: =SUM(Ajapnyak:Aragacotn!K33) -> 1 | L33: =SUM(Ajapnyak:Aragacotn!L33) -> 0 | ... AH33: =SUM(Ajapnyak:Aragacotn!AH33) -> 0 | AJ33: =E33 -> 0 | AK33: =F33+G33+H33+I33 -> 0 | AL33: =J33 -> 1 | AM33: =K33+L33+M33 -> 1 | AN33: =F33+G33+K33 -> 1 | AO33: =X33+Y33+AA33 -> 1 | AP33: =N33 -> 1 | AQ33: =O33+P33+Q33+R33+S33 -> 1 | AR33: =S33 -> 0 | AS33: =T33+U33+V33 -> 0 | AT33: =X33 -> 1 | AU33: =N33+W33 -> 1 | AV33: =AE33 -> 0 | AW33: =AC33+AD33 -> 0 | AX33: =AH33 -> 0 | AY33: =AF33+AG33 -> 0
A34: 1.7 | B34: îÇñ³å»ïáõÙÇó ½ñÏ»Éáõ Ñ»ï ãÏ³åí³Í Çñ³íáõÝùÝ»ñÇ Ë³ËïáõÙÁ í»ñ³óÝ»Éáõ í»ñ³µ»ñÛ³É | E34: =SUM(Ajapnyak:Aragacotn!E34) -> 58 | F34: =SUM(Ajapnyak:Aragacotn!F34) -> 21 | G34: =SUM(Ajapnyak:Aragacotn!G34) -> 37 | H34: =SUM(Ajapnyak:Aragacotn!H34) -> 0 | I34: =SUM(Ajapnyak:Aragacotn!I34) -> 0 | J34: =SUM(Ajapnyak:Aragacotn!J34) -> 31 | K34: =SUM(Ajapnyak:Aragacotn!K34) -> 22 | L34: =SUM(Ajapnyak:Aragacotn!L34) -> 8 | ... AH34: =SUM(Ajapnyak:Aragacotn!AH34) -> 3 | AJ34: =E34 -> 58 | AK34: =F34+G34+H34+I34 -> 58 | AL34: =J34 -> 31 | AM34: =K34+L34+M34 -> 31 | AN34: =F34+G34+K34 -> 80 | AO34: =X34+Y34+AA34 -> 80 | AP34: =N34 -> 26 | AQ34: =O34+P34+Q34+R34+S34 -> 26 | AR34: =S34 -> 12 | AS34: =T34+U34+V34 -> 12 | AT34: =X34 -> 26 | AU34: =N34+W34 -> 26 | AV34: =AE34 -> 11 | AW34: =AC34+AD34 -> 11 | AX34: =AH34 -> 3 | AY34: =AF34+AG34 -> 3
A35: 1.8 | B35: ÀÝ¹Ñ³Ýáõñ µ³ÅÝ³ÛÇÝ ë»÷³Ï³ÝáõÃÛáõÝÇó µ³ÅÇÝÝ ³é³ÝÓÝ³óÝ»Éáõ í»ñ³µ»ñÛ³É | E35: =SUM(Ajapnyak:Aragacotn!E35) -> 1143 | F35: =SUM(Ajapnyak:Aragacotn!F35) -> 567 | G35: =SUM(Ajapnyak:Aragacotn!G35) -> 576 | H35: =SUM(Ajapnyak:Aragacotn!H35) -> 0 | I35: =SUM(Ajapnyak:Aragacotn!I35) -> 0 | J35: =SUM(Ajapnyak:Aragacotn!J35) -> 688 | K35: =SUM(Ajapnyak:Aragacotn!K35) -> 607 | L35: =SUM(Ajapnyak:Aragacotn!L35) -> 79 | ... AH35: =SUM(Ajapnyak:Aragacotn!AH35) -> 14 | AJ35: =E35 -> 1143 | AK35: =F35+G35+H35+I35 -> 1143 | AL35: =J35 -> 688 | AM35: =K35+L35+M35 -> 688 | AN35: =F35+G35+K35 -> 1750 | AO35: =X35+Y35+AA35 -> 1748 | AP35: =N35 -> 635 | AQ35: =O35+P35+Q35+R35+S35 -> 635 | AR35: =S35 -> 266 | AS35: =T35+U35+V35 -> 266 | AT35: =X35 -> 635 | AU35: =N35+W35 -> 635 | AV35: =AE35 -> 87 | AW35: =AC35+AD35 -> 87 | AX35: =AH35 -> 14 | AY35: =AF35+AG35 -> 14
A36: 1.8.1 | B36: Ð³Ù³ï»Õ ë»÷³Ï³ÝáõÃÛ³Ý Ý»ñùá ·ïÝíáÕ ·áõÛùÁ µ³Å³Ý»Éáõ ¨ ¹ñ³ÝÇó µ³ÅÇÝÝ ³é³ÝÓÝ³óÝ»Éáõ í»ñ³µ»ñÛ³É | E36: =SUM(Ajapnyak:Aragacotn!E36) -> 484 | F36: =SUM(Ajapnyak:Aragacotn!F36) -> 198 | G36: =SUM(Ajapnyak:Aragacotn!G36) -> 286 | H36: =SUM(Ajapnyak:Aragacotn!H36) -> 0 | I36: =SUM(Ajapnyak:Aragacotn!I36) -> 0 | J36: =SUM(Ajapnyak:Aragacotn!J36) -> 325 | K36: =SUM(Ajapnyak:Aragacotn!K36) -> 266 | L36: =SUM(Ajapnyak:Aragacotn!L36) -> 53 | ... AH36: =SUM(Ajapnyak:Aragacotn!AH36) -> 7 | AJ36: =E36 -> 484 | AK36: =F36+G36+H36+I36 -> 484 | AL36: =J36 -> 325 | AM36: =K36+L36+M36 -> 324 | AN36: =F36+G36+K36 -> 750 | AO36: =X36+Y36+AA36 -> 748 | AP36: =N36 -> 291 | AQ36: =O36+P36+Q36+R36+S36 -> 291 | AR36: =S36 -> 123 | AS36: =T36+U36+V36 -> 123 | AT36: =X36 -> 291 | AU36: =N36+W36 -> 291 | AV36: =AE36 -> 28 | AW36: =AC36+AD36 -> 28 | AX36: =AH36 -> 7 | AY36: =AF36+AG36 -> 8
... A38: 1.9 | B38: ²ÛÉ í»×»ñ | E38: =SUM(Ajapnyak:Aragacotn!E38) -> 575 | F38: =SUM(Ajapnyak:Aragacotn!F38) -> 187 | G38: =SUM(Ajapnyak:Aragacotn!G38) -> 388 | H38: =SUM(Ajapnyak:Aragacotn!H38) -> 0 | I38: =SUM(Ajapnyak:Aragacotn!I38) -> 0 | J38: =SUM(Ajapnyak:Aragacotn!J38) -> 669 | K38: =SUM(Ajapnyak:Aragacotn!K38) -> 514 | L38: =SUM(Ajapnyak:Aragacotn!L38) -> 136 | ... AH38: =SUM(Ajapnyak:Aragacotn!AH38) -> 12 | AJ38: =E38 -> 575 | AK38: =F38+G38+H38+I38 -> 575 | AL38: =J38 -> 669 | AM38: =K38+L38+M38 -> 669 | AN38: =F38+G38+K38 -> 1089 | AO38: =X38+Y38+AA38 -> 1086 | AP38: =N38 -> 459 | AQ38: =O38+P38+Q38+R38+S38 -> 459 | AR38: =S38 -> 143 | AS38: =T38+U38+V38 -> 143 | AT38: =X38 -> 459 | AU38: =N38+W38 -> 459 | AV38: =AE38 -> 114 | AW38: =AC38+AD38 -> 114 | AX38: =AH38 -> 12 | AY38: =AF38+AG38 -> 13
A39: 2. | B39: ¶áñÍ³ñùÝ»ñÇ Ñ»ï Ï³åí³Í Çñ³í³Ñ³ñ³µ»ñáõÃÛáõÝÝ»ñÇ í»ñ³µ»ñÛ³É ¹³ï³Ï³Ý ·áñÍ»ñ | E39: =SUM(Ajapnyak:Aragacotn!E39) -> 1180 | F39: =SUM(Ajapnyak:Aragacotn!F39) -> 320 | G39: =SUM(Ajapnyak:Aragacotn!G39) -> 860 | H39: =SUM(Ajapnyak:Aragacotn!H39) -> 0 | I39: =SUM(Ajapnyak:Aragacotn!I39) -> 0 | J39: =SUM(Ajapnyak:Aragacotn!J39) -> 1875 | K39: =SUM(Ajapnyak:Aragacotn!K39) -> 1696 | L39: =SUM(Ajapnyak:Aragacotn!L39) -> 165 | ... AH39: =SUM(Ajapnyak:Aragacotn!AH39) -> 35 | AJ39: =SUM(AJ40:AJ50) -> 1180 | AK39: =SUM(AK40:AK50) -> 1180 | AL39: =SUM(AL40:AL50) -> 1875 | AM39: =SUM(AM40:AM50) -> 1875 | AN39: =SUM(AN40:AN50) -> 2876 | AO39: =SUM(AO40:AO50) -> 2871 | AP39: =SUM(AP40:AP50) -> 1621 | AQ39: =SUM(AQ40:AQ50) -> 1621 | ... AY39: =SUM(AY40:AY50) -> 35
A40: 2.1 | B40: ·áñÍ³ñùÝ»ñÇ ³Ýí³í»ñáõÃÛ³Ý Ñ»ï Ï³åí³Í í»×»ñ | E40: =SUM(Ajapnyak:Aragacotn!E40) -> 121 | F40: =SUM(Ajapnyak:Aragacotn!F40) -> 26 | G40: =SUM(Ajapnyak:Aragacotn!G40) -> 95 | H40: =SUM(Ajapnyak:Aragacotn!H40) -> 0 | I40: =SUM(Ajapnyak:Aragacotn!I40) -> 0 | J40: =SUM(Ajapnyak:Aragacotn!J40) -> 121 | K40: =SUM(Ajapnyak:Aragacotn!K40) -> 92 | L40: =SUM(Ajapnyak:Aragacotn!L40) -> 27 | ... AH40: =SUM(Ajapnyak:Aragacotn!AH40) -> 5 | AJ40: =E40 -> 121 | AK40: =F40+G40+H40+I40 -> 121 | AL40: =J40 -> 121 | AM40: =K40+L40+M40 -> 121 | AN40: =F40+G40+K40 -> 213 | AO40: =X40+Y40+AA40 -> 213 | AP40: =N40 -> 92 | AQ40: =O40+P40+Q40+R40+S40 -> 92 | AR40: =S40 -> 29 | AS40: =T40+U40+V40 -> 29 | AT40: =X40 -> 93 | AU40: =N40+W40 -> 93 | AV40: =AE40 -> 43 | AW40: =AC40+AD40 -> 43 | AX40: =AH40 -> 5 | AY40: =AF40+AG40 -> 5
A41: 2.1.1 | B41: ³Û¹ ÃíáõÙ` íÇ×³Ñ³ñáõÛó ·áñÍ³ñùÝ»ñÝ ³Ýí³í»ñ ×³Ý³ã»Éáõ í»ñ³µ»ñÛ³É | E41: =SUM(Ajapnyak:Aragacotn!E41) -> 2 | F41: =SUM(Ajapnyak:Aragacotn!F41) -> 0 | G41: =SUM(Ajapnyak:Aragacotn!G41) -> 2 | H41: =SUM(Ajapnyak:Aragacotn!H41) -> 0 | I41: =SUM(Ajapnyak:Aragacotn!I41) -> 0 | J41: =SUM(Ajapnyak:Aragacotn!J41) -> 5 | K41: =SUM(Ajapnyak:Aragacotn!K41) -> 3 | L41: =SUM(Ajapnyak:Aragacotn!L41) -> 1 | ... AH41: =SUM(Ajapnyak:Aragacotn!AH41) -> 0 | AJ41: =E41 -> 2 | AK41: =F41+G41+H41+I41 -> 2 | AL41: =J41 -> 5 | AM41: =K41+L41+M41 -> 4 | AN41: =F41+G41+K41 -> 5 | AO41: =X41+Y41+AA41 -> 5 | AP41: =N41 -> 1 | AQ41: =O41+P41+Q41+R41+S41 -> 1 | AR41: =S41 -> 0 | AS41: =T41+U41+V41 -> 0 | AT41: =X41 -> 1 | AU41: =N41+W41 -> 1 | AV41: =AE41 -> 2 | AW41: =AC41+AD41 -> 2 | AX41: =AH41 -> 0 | AY41: =AF41+AG41 -> 0
A42: 2.1.2 | B42: ³Û¹ ÃíáõÙ` ·áñÍ³ñùÇ ³éáãÝãáõÃÛ³Ý Ñ»ï¨³ÝùÝ»ñ ÏÇñ³é»Éáõ í»ñ³µ»ñÛ³É | E42: =SUM(Ajapnyak:Aragacotn!E42) -> 98 | F42: =SUM(Ajapnyak:Aragacotn!F42) -> 22 | G42: =SUM(Ajapnyak:Aragacotn!G42) -> 76 | H42: =SUM(Ajapnyak:Aragacotn!H42) -> 0 | I42: =SUM(Ajapnyak:Aragacotn!I42) -> 0 | J42: =SUM(Ajapnyak:Aragacotn!J42) -> 103 | K42: =SUM(Ajapnyak:Aragacotn!K42) -> 79 | L42: =SUM(Ajapnyak:Aragacotn!L42) -> 22 | ... AH42: =SUM(Ajapnyak:Aragacotn!AH42) -> 5 | AJ42: =E42 -> 98 | AK42: =F42+G42+H42+I42 -> 98 | AL42: =J42 -> 103 | AM42: =K42+L42+M42 -> 103 | AN42: =F42+G42+K42 -> 177 | AO42: =X42+Y42+AA42 -> 177 | AP42: =N42 -> 71 | AQ42: =O42+P42+Q42+R42+S42 -> 71 | AR42: =S42 -> 22 | AS42: =T42+U42+V42 -> 22 | AT42: =X42 -> 71 | AU42: =N42+W42 -> 71 | AV42: =AE42 -> 33 | AW42: =AC42+AD42 -> 33 | AX42: =AH42 -> 5 | AY42: =AF42+AG42 -> 5
A43: 2.2 | B43: ¶áñÍ³ñùÁ í³í»ñ ×³Ý³ã»Éáõ í»ñ³µ»ñÛ³É | E43: =SUM(Ajapnyak:Aragacotn!E43) -> 37 | F43: =SUM(Ajapnyak:Aragacotn!F43) -> 9 | G43: =SUM(Ajapnyak:Aragacotn!G43) -> 28 | H43: =SUM(Ajapnyak:Aragacotn!H43) -> 0 | I43: =SUM(Ajapnyak:Aragacotn!I43) -> 0 | J43: =SUM(Ajapnyak:Aragacotn!J43) -> 152 | K43: =SUM(Ajapnyak:Aragacotn!K43) -> 145 | L43: =SUM(Ajapnyak:Aragacotn!L43) -> 6 | ... AH43: =SUM(Ajapnyak:Aragacotn!AH43) -> 0 | AJ43: =E43 -> 37 | AK43: =F43+G43+H43+I43 -> 37 | AL43: =J43 -> 152 | AM43: =K43+L43+M43 -> 153 | AN43: =F43+G43+K43 -> 182 | AO43: =X43+Y43+AA43 -> 182 | AP43: =N43 -> 146 | AQ43: =O43+P43+Q43+R43+S43 -> 146 | AR43: =S43 -> 85 | AS43: =T43+U43+V43 -> 85 | AT43: =X43 -> 146 | AU43: =N43+W43 -> 146 | AV43: =AE43 -> 4 | AW43: =AC43+AD43 -> 4 | AX43: =AH43 -> 0 | AY43: =AF43+AG43 -> 0
A44: 2.3 | B44: ¶áñÍ³ñùÇó Í³·áÕ Çñ³íáõÝùÝ»ñÁ ·ñ³Ýó»Éáõ í»ñ³µ»ñÛ³É | E44: =SUM(Ajapnyak:Aragacotn!E44) -> 2 | F44: =SUM(Ajapnyak:Aragacotn!F44) -> 0 | G44: =SUM(Ajapnyak:Aragacotn!G44) -> 2 | H44: =SUM(Ajapnyak:Aragacotn!H44) -> 0 | I44: =SUM(Ajapnyak:Aragacotn!I44) -> 0 | J44: =SUM(Ajapnyak:Aragacotn!J44) -> 1 | K44: =SUM(Ajapnyak:Aragacotn!K44) -> 0 | L44: =SUM(Ajapnyak:Aragacotn!L44) -> 1 | ... AH44: =SUM(Ajapnyak:Aragacotn!AH44) -> 0 | AJ44: =E44 -> 2 | AK44: =F44+G44+H44+I44 -> 2 | AL44: =J44 -> 1 | AM44: =K44+L44+M44 -> 1 | AN44: =F44+G44+K44 -> 2 | AO44: =X44+Y44+AA44 -> 2 | AP44: =N44 -> 1 | AQ44: =O44+P44+Q44+R44+S44 -> 1 | AR44: =S44 -> 0 | AS44: =T44+U44+V44 -> 0 | AT44: =X44 -> 1 | AU44: =N44+W44 -> 1 | AV44: =AE44 -> 1 | AW44: =AC44+AD44 -> 1 | AX44: =AH44 -> 0 | AY44: =AF44+AG44 -> 0
A45: 2.4 | B45: ä³ÛÙ³Ý³·ÇñÝ ³Ýí³í»ñ ×³Ý³ã»Éáõ í»ñ³µ»ñÛ³É | E45: =SUM(Ajapnyak:Aragacotn!E45) -> 275 | F45: =SUM(Ajapnyak:Aragacotn!F45) -> 89 | G45: =SUM(Ajapnyak:Aragacotn!G45) -> 186 | H45: =SUM(Ajapnyak:Aragacotn!H45) -> 0 | I45: =SUM(Ajapnyak:Aragacotn!I45) -> 0 | J45: =SUM(Ajapnyak:Aragacotn!J45) -> 312 | K45: =SUM(Ajapnyak:Aragacotn!K45) -> 262 | L45: =SUM(Ajapnyak:Aragacotn!L45) -> 49 | ... AH45: =SUM(Ajapnyak:Aragacotn!AH45) -> 15 | AJ45: =E45 -> 275 | AK45: =F45+G45+H45+I45 -> 275 | AL45: =J45 -> 312 | AM45: =K45+L45+M45 -> 312 | AN45: =F45+G45+K45 -> 537 | AO45: =X45+Y45+AA45 -> 534 | AP45: =N45 -> 187 | AQ45: =O45+P45+Q45+R45+S45 -> 187 | AR45: =S45 -> 63 | AS45: =T45+U45+V45 -> 63 | AT45: =X45 -> 187 | AU45: =N45+W45 -> 187 | AV45: =AE45 -> 81 | AW45: =AC45+AD45 -> 81 | AX45: =AH45 -> 15 | AY45: =AF45+AG45 -> 15
A46: 2.5 | B46: ä³ÛÙ³Ý³·ñÇÁ í³í»ñ ×³Ý³ã»Éáõ í»ñ³µ»ñÛ³É | E46: =SUM(Ajapnyak:Aragacotn!E46) -> 38 | F46: =SUM(Ajapnyak:Aragacotn!F46) -> 11 | G46: =SUM(Ajapnyak:Aragacotn!G46) -> 27 | H46: =SUM(Ajapnyak:Aragacotn!H46) -> 0 | I46: =SUM(Ajapnyak:Aragacotn!I46) -> 0 | J46: =SUM(Ajapnyak:Aragacotn!J46) -> 40 | K46: =SUM(Ajapnyak:Aragacotn!K46) -> 36 | L46: =SUM(Ajapnyak:Aragacotn!L46) -> 4 | ... AH46: =SUM(Ajapnyak:Aragacotn!AH46) -> 0 | AJ46: =E46 -> 38 | AK46: =F46+G46+H46+I46 -> 38 | AL46: =J46 -> 40 | AM46: =K46+L46+M46 -> 40 | AN46: =F46+G46+K46 -> 74 | AO46: =X46+Y46+AA46 -> 74 | AP46: =N46 -> 26 | AQ46: =O46+P46+Q46+R46+S46 -> 26 | AR46: =S46 -> 8 | AS46: =T46+U46+V46 -> 8 | AT46: =X46 -> 26 | AU46: =N46+W46 -> 26 | AV46: =AE46 -> 8 | AW46: =AC46+AD46 -> 8 | AX46: =AH46 -> 0 | AY46: =AF46+AG46 -> 0
A47: 2.6 | B47: ä³ÛÙ³Ý³·ñÇó Í³·áÕ Çñ³íáõÝùÝ»ñÁ ·ñ³Ýó»Éáõ í»ñ³µ»ñÛ³É | E47: =SUM(Ajapnyak:Aragacotn!E47) -> 0 | F47: =SUM(Ajapnyak:Aragacotn!F47) -> 0 | G47: =SUM(Ajapnyak:Aragacotn!G47) -> 0 | H47: =SUM(Ajapnyak:Aragacotn!H47) -> 0 | I47: =SUM(Ajapnyak:Aragacotn!I47) -> 0 | J47: =SUM(Ajapnyak:Aragacotn!J47) -> 1 | K47: =SUM(Ajapnyak:Aragacotn!K47) -> 1 | L47: =SUM(Ajapnyak:Aragacotn!L47) -> 0 | ... AH47: =SUM(Ajapnyak:Aragacotn!AH47) -> 0 | AJ47: =E47 -> 0 | AK47: =F47+G47+H47+I47 -> 0 | AL47: =J47 -> 1 | AM47: =K47+L47+M47 -> 1 | AN47: =F47+G47+K47 -> 1 | AO47: =X47+Y47+AA47 -> 1 | AP47: =N47 -> 1 | AQ47: =O47+P47+Q47+R47+S47 -> 1 | AR47: =S47 -> 0 | AS47: =T47+U47+V47 -> 0 | AT47: =X47 -> 1 | AU47: =N47+W47 -> 1 | AV47: =AE47 -> 0 | AW47: =AC47+AD47 -> 0 | AX47: =AH47 -> 0 | AY47: =AF47+AG47 -> 0
A48: 2.7 | B48: ä³ÛÙ³Ý³·ÇñÁ ÷á÷áË»Éáõ ¨ ÉáõÍ»Éáõ í»ñ³µ»ñÛ³É | E48: =SUM(Ajapnyak:Aragacotn!E48) -> 121 | F48: =SUM(Ajapnyak:Aragacotn!F48) -> 26 | G48: =SUM(Ajapnyak:Aragacotn!G48) -> 95 | H48: =SUM(Ajapnyak:Aragacotn!H48) -> 0 | I48: =SUM(Ajapnyak:Aragacotn!I48) -> 0 | J48: =SUM(Ajapnyak:Aragacotn!J48) -> 112 | K48: =SUM(Ajapnyak:Aragacotn!K48) -> 96 | L48: =SUM(Ajapnyak:Aragacotn!L48) -> 15 | ... AH48: =SUM(Ajapnyak:Aragacotn!AH48) -> 1 | AJ48: =E48 -> 121 | AK48: =F48+G48+H48+I48 -> 121 | AL48: =J48 -> 112 | AM48: =K48+L48+M48 -> 112 | AN48: =F48+G48+K48 -> 217 | AO48: =X48+Y48+AA48 -> 216 | AP48: =N48 -> 94 | AQ48: =O48+P48+Q48+R48+S48 -> 94 | AR48: =S48 -> 17 | AS48: =T48+U48+V48 -> 17 | AT48: =X48 -> 94 | AU48: =N48+W48 -> 94 | AV48: =AE48 -> 8 | AW48: =AC48+AD48 -> 8 | AX48: =AH48 -> 1 | AY48: =AF48+AG48 -> 1
A49: 2.8 | B49: ä³ÛÙ³Ý³·Çñ ÏÝù»ÉáõÝ å³ñï³íáñ»óÝ»Éáõ í»ñ³µ»ñÛ³É | E49: =SUM(Ajapnyak:Aragacotn!E49) -> 93 | F49: =SUM(Ajapnyak:Aragacotn!F49) -> 69 | G49: =SUM(Ajapnyak:Aragacotn!G49) -> 24 | H49: =SUM(Ajapnyak:Aragacotn!H49) -> 0 | I49: =SUM(Ajapnyak:Aragacotn!I49) -> 0 | J49: =SUM(Ajapnyak:Aragacotn!J49) -> 49 | K49: =SUM(Ajapnyak:Aragacotn!K49) -> 42 | L49: =SUM(Ajapnyak:Aragacotn!L49) -> 6 | ... AH49: =SUM(Ajapnyak:Aragacotn!AH49) -> 1 | AJ49: =E49 -> 93 | AK49: =F49+G49+H49+I49 -> 93 | AL49: =J49 -> 49 | AM49: =K49+L49+M49 -> 49 | AN49: =F49+G49+K49 -> 135 | AO49: =X49+Y49+AA49 -> 136 | AP49: =N49 -> 40 | AQ49: =O49+P49+Q49+R49+S49 -> 40 | AR49: =S49 -> 20 | AS49: =T49+U49+V49 -> 20 | AT49: =X49 -> 40 | AU49: =N49+W49 -> 40 | AV49: =AE49 -> 5 | AW49: =AC49+AD49 -> 5 | AX49: =AH49 -> 1 | AY49: =AF49+AG49 -> 1
A50: 2.9 | B50: ²ÛÉ í»×»ñ | E50: =SUM(Ajapnyak:Aragacotn!E50) -> 393 | F50: =SUM(Ajapnyak:Aragacotn!F50) -> 68 | G50: =SUM(Ajapnyak:Aragacotn!G50) -> 325 | H50: =SUM(Ajapnyak:Aragacotn!H50) -> 0 | I50: =SUM(Ajapnyak:Aragacotn!I50) -> 0 | J50: =SUM(Ajapnyak:Aragacotn!J50) -> 979 | K50: =SUM(Ajapnyak:Aragacotn!K50) -> 940 | L50: =SUM(Ajapnyak:Aragacotn!L50) -> 34 | ... AH50: =SUM(Ajapnyak:Aragacotn!AH50) -> 8 | AJ50: =E50 -> 393 | AK50: =F50+G50+H50+I50 -> 393 | AL50: =J50 -> 979 | AM50: =K50+L50+M50 -> 979 | AN50: =F50+G50+K50 -> 1333 | AO50: =X50+Y50+AA50 -> 1331 | AP50: =N50 -> 962 | AQ50: =O50+P50+Q50+R50+S50 -> 962 | AR50: =S50 -> 67 | AS50: =T50+U50+V50 -> 67 | AT50: =X50 -> 963 | AU50: =N50+W50 -> 963 | AV50: =AE50 -> 48 | AW50: =AC50+AD50 -> 48 | AX50: =AH50 -> 8 | AY50: =AF50+AG50 -> 8
A51: 3. | B51: Ä³é³Ý·áõÃÛ³Ý Ñ»ï Ï³åí³Í Çñ³í³Ñ³ñ³µ»ñáõÃÛáõÝÝ»ñÇ í»ñ³µ»ñÛ³É ¹³ï³Ï³Ý ·áñÍ»ñ | E51: =SUM(Ajapnyak:Aragacotn!E51) -> 261 | F51: =SUM(Ajapnyak:Aragacotn!F51) -> 45 | G51: =SUM(Ajapnyak:Aragacotn!G51) -> 216 | H51: =SUM(Ajapnyak:Aragacotn!H51) -> 0 | I51: =SUM(Ajapnyak:Aragacotn!I51) -> 0 | J51: =SUM(Ajapnyak:Aragacotn!J51) -> 403 | K51: =SUM(Ajapnyak:Aragacotn!K51) -> 323 | L51: =SUM(Ajapnyak:Aragacotn!L51) -> 77 | ... AH51: =SUM(Ajapnyak:Aragacotn!AH51) -> 13 | AJ51: =SUM(AJ52:AJ58) -> 261 | AK51: =SUM(AK52:AK58) -> 261 | AL51: =SUM(AL52:AL58) -> 403 | AM51: =SUM(AM52:AM58) -> 403 | AN51: =SUM(AN52:AN58) -> 584 | AO51: =SUM(AO52:AO58) -> 583 | AP51: =SUM(AP52:AP58) -> 286 | AQ51: =SUM(AQ52:AQ58) -> 286 | ... AY51: =SUM(AY52:AY58) -> 13
A52: 3.1 | B52: Îï³ÏÝ ³Ýí³í»ñ ×³Ý³ã»Éáõ í»ñ³µ»ñÛ³É | E52: =SUM(Ajapnyak:Aragacotn!E52) -> 15 | F52: =SUM(Ajapnyak:Aragacotn!F52) -> 7 | G52: =SUM(Ajapnyak:Aragacotn!G52) -> 8 | H52: =SUM(Ajapnyak:Aragacotn!H52) -> 0 | I52: =SUM(Ajapnyak:Aragacotn!I52) -> 0 | J52: =SUM(Ajapnyak:Aragacotn!J52) -> 15 | K52: =SUM(Ajapnyak:Aragacotn!K52) -> 11 | L52: =SUM(Ajapnyak:Aragacotn!L52) -> 4 | ... AH52: =SUM(Ajapnyak:Aragacotn!AH52) -> 0 | AJ52: =E52 -> 15 | AK52: =F52+G52+H52+I52 -> 15 | AL52: =J52 -> 15 | AM52: =K52+L52+M52 -> 15 | AN52: =F52+G52+K52 -> 26 | AO52: =X52+Y52+AA52 -> 25 | AP52: =N52 -> 11 | AQ52: =O52+P52+Q52+R52+S52 -> 11 | AR52: =S52 -> 0 | AS52: =T52+U52+V52 -> 0 | AT52: =X52 -> 11 | AU52: =N52+W52 -> 11 | AV52: =AE52 -> 4 | AW52: =AC52+AD52 -> 4 | AX52: =AH52 -> 0 | AY52: =AF52+AG52 -> 0
...

Sheet Ajapnyak
A1: 2015Ã. | E1: Ð²ÞìºîìàôÂÚàôÜ | AC1: Ð³í»Éí³Í Ð³Û³ëï³ÝÇ Ð³Ýñ³å»ïáõÃÛ³Ý ¸³ï³ñ³ÝÝ»ñÇ Ý³Ë³·³ÑÝ»ñÇ ËáñÑñ¹Ç 01.02.2016Ã. ÃÇí 11È áñáßÙ³Ý
A2: ºðºì²Ü ø²Ô²øÆ ²æ²öÜÚ²Î ºì ¸²ìÂ²ÞºÜ ì²ðâ²Î²Ü Þðæ²ÜÜºðÆ ÀÜ¸Ð²Üàôð Æð²ì²êàôÂÚ²Ü ²è²æÆÜ ²îÚ²ÜÆ ¸²î²ð²ÜàôØ ø²Ô²ø²òÆ²Î²Ü ¶àðÌºðÆ øÜÜàôÂÚ²Ü ìºð²´ºðÚ²È
A3: ºñ¨³Ý ù³Õ³ùÇ ²ç³÷ÝÛ³Ï ¨ ¸³íÃ³ß»Ý í³ñã³Ï³Ý ßñç³ÝÝ»ñÇ ÁÝ¹Ñ³Ýáõñ Çñ³í³ëáõÃÛ³Ý ³é³çÇÝ ³ïÛ³ÝÇ ¹³ï³ñ³ÝáõÙ ù³Õ³ù³óÇ³Ï³Ý Ù³ëÝ³·Çï³óáõÙ áõÝ»óáÕ ¹³ï³íáñÝ»ñÇ Ñ³ëïÇùÝ»ñÇ ù³Ý³ÏÁ` 3
A4: êïáõ·Çã Ñ³í³ë³ñáõÙÝ»ñª 1=2+3+4+5, 6=7+8+9, 2+3+7=20+21+23, 10=11+12+13+14+15, 15=16+17+18, 20=10+19, 27=25+26, 30=28+29 | E4: Ð³ßí»ïáõ Å³Ù³Ý³Ï³Ñ³ïí³ÍáõÙ Ý³Ëáñ¹ Ñ³ßí»ïáõ Å³Ù³Ý³Ï³Ñ³ïí³ÍÇó ÷áË³Ýóí³Í ·áñÍ»ñÇ ÁÝ¹Ñ³Ýáõñ ÃÇíÁ | J4: Ð³ßí»ïáõ Å³Ù³Ý³Ï³Ñ³ïí³ÍáõÙëï³óí³Í ·áñÍ»ñÇ (³Û¹ ÃíáõÙ` Ñ³Ûó³¹ÇÙáõÙÝ»ñÇ, ¹ÇÙáõÙÝ»ñÇ) ÁÝ¹Ñ³Ýáõñ ÃÇíÁ | N4: Ð³ßí»ïáõ Å³Ù³Ý³Ï³Ñ³ïí³ÍáõÙ ³í³ñïí³Í ·áñÍ»ñÇ ÁÝ¹Ñ³Ýáõñ ÃÇíÁ | Y4: ¶áñÍÝ áõÕ³ñÏí»É ¿ Áëï ÁÝ¹¹³ïáõÃÛ³Ý | Z4: Ð³ßí»ïáõ Å³Ù³Ý³Ï³Ñ³ïí³ÍáõÙ Ï³ë»óí³Í í³ñáõÛÃÝ»ñáí ·áñÍ»ñÇ ÁÝ¹Ñ³Ýáõñ ÃÇíÁ | AA4: Ð³ßí»ïáõ Å³Ù³Ý³Ï³Ñ³ïí³ÍáõÙ ³Ý³í³ñï ·áñÍ»ñÇ ÁÝ¹Ñ³Ýáõñ ÃÇíÁ | AB4: ²Û¹ ÃíáõÙª Ï³ë»óí³Í | AC4: ´áÕáù³ñÏí³Í ¹³ï³Ï³Ý ³Ïï»ñÇ ÃÇíÁ` Áëï ï»ë³ÏÝ»ñÇ | AF4: ´»Ï³Ýí³Í ¹³ï³Ï³Ý ³Ïï»ñÇ ÃÇíÁ` Áëï ï»ë³ÏÝ»ñÇ
E7: ÀÝ¹³Ù»ÝÁ | F7: ²Û¹ ÃíáõÙ`Ï³ë»óí³Í íÇ×³ÏáõÙ ÷áË³Ýóí³Í | G7: ²Û¹ ÃíáõÙª ÁÝ¹áõÝí»É ¿ í³ñáõÛÃ | H7: ²Û¹ ÃíáõÙª í»ñ³¹³ñÓí»É ¿ | I7: ²Û¹ ÃíáõÙª ÁÝ¹áõÝáõÙÁ Ù»ñÅí»É ¿ | J7: ÀÝ¹³Ù»ÝÁ | K7: ²Û¹ ÃíáõÙª ÁÝ¹áõÝí»É ¿ í³ñáõÛÃ | L7: ²Û¹ ÃíáõÙª í»ñ³¹³ñÓí»É ¿ | M7: ²Û¹ ÃíáõÙª ÁÝ¹áõÝáõÙÁ Ù»ñÅí»É ¿ | N7: ÀÝ¹³Ù»ÝÁ ³í³ñïí»É »Ý ·áñÍ»ñ ·áñÍÝ Áëï ¿áõÃÛ³Ý ÉáõÍáÕ ¹³ï³Ï³Ý ³Ïï»ñÇ (í×ÇéÝ»ñÇ) Ï³Û³óÙ³Ùµ | O7: ²Û¹ ÃíáõÙª Ñ³ÛóÇ µ³í³ñ³ñÙ³Ùµ | P7: ²Û¹ ÃíáõÙª Ñ³ÛóÇ Ù³ëÝ³ÏÇ µ³í³ñ³ñÙ³Ùµ | Q7: ²Û¹ ÃíáõÙª Ñ³ÛóÇ Ù»ñÅÙ³Ùµ | R7: Ø³ëáí Ï³ñ×í»É ¿, Ù³ëáí Ù»ñÅí»É | S7: ²Û¹ ÃíáõÙª Ï³ñ×í»É »Ý | W7: Ð³ÛóÁ ÃáÕÝí»É ¿ ³é³Ýó ùÝÝáõÃÛ³Ý | X7: ÀÝ¹³Ù»ÝÝ ³í³ñïí»É »Ý ·áñÍ»ñ | AC7: ²Û¹ ÃíáõÙ` ·áñÍÝ Áëï ¿áõÃÛ³Ý ÉáõÍáÕ ¹³ï³Ï³Ý ³Ïï»ñ | AD7: ²Û¹ ÃíáõÙ` ÙÇç³ÝÏÛ³É ¹³ï³Ï³Ý ³Ïï»ñ | AE7: ÀÝ¹³Ù»ÝÁ | AF7: ²Û¹ ÃíáõÙ` ·áñÍÝ Áëï ¿áõÃÛ³Ý ÉáõÍáÕ ¹³ï³Ï³Ý ³Ïï»ñ | AG7: ²Û¹ ÃíáõÙ` ÙÇç³ÝÏÛ³É ¹³ï³Ï³Ý ³Ïï»ñ | AH7: ÀÝ¹³Ù»ÝÁ
S10: ÀÝ¹³Ù»ÝÁ Ï³ñ×í»É »Ý | T10: ²Û¹ ÃíáõÙª Ñ³ëï³ïí»É ¿ ÏÝùí³Í Ñ³ßïáõÃÛ³Ý Ñ³Ù³Ó³ÛÝáõÃÛáõÝÁ | U10: ²Û¹ ÃíáõÙª Ñ³óÇó, ¹ÇÙáõÙÇó Ññ³Å³ñí»Éáõ ÑÇÙùáí | V10: ²Û¹ ÃíáõÙª ³ÛÉ ÑÇÙùáí
A18: ø³Õ³ù³óÇ³Ï³Ý ·áñÍ»ñÇ ¹³ë³Ï³ñ·áõÙÁ | E18: 1 | F18: 2 | G18: 3 | H18: 4 | I18: 5 | J18: 6 | K18: 7 | L18: 8 | M18: 9 | N18: 10 | O18: 11 | P18: 12 | Q18: 13 | R18: 14 | S18: 15 | T18: 16 | U18: 17 | V18: 18 | W18: 19 | X18: 20 | Y18: 21 | Z18: 22 | AA18: 23 | AB18: 24 | AC18: 25 | AD18: 26 | AE18: 27 | AF18: 28 | AG18: 29 | AH18: 30 | AJ18: 1=2+3+4+5 | AL18: 6=7+8+9 | AN18: 2+3+7=20+21+23 | AP18: 10=11+12+13+14+15 | AR18: 15=16+17+18 | AT18: 20=10+19 | AV18: 27=25+26 | AX18: 30=28+29
A19: 1. | B19: ¶áõÛù³ÛÇÝ Çñ³í³Ñ³ñ³µ»ñáõÃÛáõÝÝ»ñÇ í»ñ³µ»ñÛ³É ¹³ï³Ï³Ý ·áñÍ»ñ | E19: =SUM(E20:E38) -> 276 | F19: =SUM(F20:F38) -> 66 | G19: =SUM(G20:G38) -> 210 | H19: =SUM(H20:H38) -> 0 | I19: =SUM(I20:I38) -> 0 | J19: =SUM(J20:J38) -> 145 | K19: =SUM(K20:K38) -> 126 | L19: =SUM(L20:L38) -> 17 | ... AH19: =SUM(AH20:AH38) -> 2 | AJ19: =SUM(AJ20:AJ38) -> 276 | AK19: =SUM(AK20:AK38) -> 276 | AL19: =SUM(AL20:AL38) -> 145 | AM19: =SUM(AM20:AM38) -> 145 | AN19: =SUM(AN20:AN38) -> 402 | AO19: =SUM(AO20:AO38) -> 402 | AP19: =SUM(AP20:AP38) -> 72 | AQ19: =SUM(AQ20:AQ38) -> 72 | ... AY19: =SUM(AY20:AY38) -> 2
A20: 1.1 | B20: ¶áõÛùÇ ÝÏ³ïÙ³Ùµ ë»÷³Ï³ÝáõÃÛ³Ý Çñ³íáõÝùÁ ×³Ý³ã»Éáõ í»ñ³µ»ñÛ³É | E20: 22 | F20: 3 | G20: 19 | J20: 25 | K20: 21 | L20: 4 | M20: 0 | N20: 11 | O20: 3 | P20: 2 | Q20: 3 | S20: 3 | T20: 2 | U20: 1 | V20: 0 | W20: 0 | X20: 11 | Y20: 0 | Z20: 2 | AA20: 32 | AB20: 5 | AC20: 3 | AD20: 2 | AE20: 5 | AJ20: =E20 -> 22 | AK20: =F20+G20+H20+I20 -> 22 | AL20: =J20 -> 25 | AM20: =K20+L20+M20 -> 25 | AN20: =F20+G20+K20 -> 43 | AO20: =X20+Y20+AA20 -> 43 | AP20: =N20 -> 11 | AQ20: =O20+P20+Q20+R20+S20 -> 11 | AR20: =S20 -> 3 | AS20: =T20+U20+V20 -> 3 | AT20: =X20 -> 11 | AU20: =N20+W20 -> 11 | AV20: =AE20 -> 5 | AW20: =AC20+AD20 -> 5 | AX20: =AH20 -> 0 | AY20: =AF20+AG20 -> 0
A21: 1.1.1 | B21: ²Û¹ ÃíáõÙª Ó»éùµ»ñÙ³Ý í³Õ»ÙáõÃÛ³Ý áõÅáí | E21: 18 | F21: 5 | G21: 13 | J21: 9 | K21: 9 | L21: 0 | M21: 0 | N21: 3 | O21: 1 | P21: 1 | Q21: 0 | S21: 1 | T21: 0 | U21: 1 | V21: 0 | W21: 0 | X21: 3 | Y21: 0 | Z21: 3 | AA21: 24 | AB21: 5 | AC21: 0 | AD21: 0 | AE21: 0 | AJ21: =E21 -> 18 | AK21: =F21+G21+H21+I21 -> 18 | AL21: =J21 -> 9 | AM21: =K21+L21+M21 -> 9 | AN21: =F21+G21+K21 -> 27 | AO21: =X21+Y21+AA21 -> 27 | AP21: =N21 -> 3 | AQ21: =O21+P21+Q21+R21+S21 -> 3 | AR21: =S21 -> 1 | AS21: =T21+U21+V21 -> 1 | AT21: =X21 -> 3 | AU21: =N21+W21 -> 3 | AV21: =AE21 -> 0 | AW21: =AC21+AD21 -> 0 | AX21: =AH21 -> 0 | AY21: =AF21+AG21 -> 0
A22: 1.1.2 | B22: ²Û¹ ÃíáõÙª ïÇñ³½áõñÏ ·áõÛùÇ ÝÏ³ïÙ³Ùµ | AJ22: =E22 -> 0 | AK22: =F22+G22+H22+I22 -> 0 | AL22: =J22 -> 0 | AM22: =K22+L22+M22 -> 0 | AN22: =F22+G22+K22 -> 0 | AO22: =X22+Y22+AA22 -> 0 | AP22: =N22 -> 0 | AQ22: =O22+P22+Q22+R22+S22 -> 0 | AR22: =S22 -> 0 | AS22: =T22+U22+V22 -> 0 | AT22: =X22 -> 0 | AU22: =N22+W22 -> 0 | AV22: =AE22 -> 0 | AW22: =AC22+AD22 -> 0 | AX22: =AH22 -> 0 | AY22: =AF22+AG22 -> 0
A23: 1.1.3 | B23: ²Û¹ ÃíáõÙª ÇÝùÝ³Ï³Ù Ï³éáõÛóÇ ÝÏ³ïÙ³Ùµ | AJ23: =E23 -> 0 | AK23: =F23+G23+H23+I23 -> 0 | AL23: =J23 -> 0 | AM23: =K23+L23+M23 -> 0 | AN23: =F23+G23+K23 -> 0 | AO23: =X23+Y23+AA23 -> 0 | AP23: =N23 -> 0 | AQ23: =O23+P23+Q23+R23+S23 -> 0 | AR23: =S23 -> 0 | AS23: =T23+U23+V23 -> 0 | AT23: =X23 -> 0 | AU23: =N23+W23 -> 0 | AV23: =AE23 -> 0 | AW23: =AC23+AD23 -> 0 | AX23: =AH23 -> 0 | AY23: =AF23+AG23 -> 0
A24: 1.2 | B24: ê»÷³Ï³ÝáõÃÛ³Ý Çñ³íáõÝùÇ ¹³¹³ñ»óÙ³Ý í»ñ³µ»ñÛ³É | E24: 1 | F24: 0 | G24: 1 | J24: 4 | K24: 4 | L24: 0 | M24: 0 | N24: 0 | O24: 0 | P24: 0 | Q24: 0 | S24: 0 | T24: 0 | U24: 0 | V24: 0 | W24: 0 | X24: 0 | Y24: 0 | Z24: 0 | AA24: 5 | AB24: 0 | AC24: 0 | AD24: 0 | AE24: 0 | AJ24: =E24 -> 1 | AK24: =F24+G24+H24+I24 -> 1 | AL24: =J24 -> 4 | AM24: =K24+L24+M24 -> 4 | AN24: =F24+G24+K24 -> 5 | AO24: =X24+Y24+AA24 -> 5 | AP24: =N24 -> 0 | AQ24: =O24+P24+Q24+R24+S24 -> 0 | AR24: =S24 -> 0 | AS24: =T24+U24+V24 -> 0 | AT24: =X24 -> 0 | AU24: =N24+W24 -> 0 | AV24: =AE24 -> 0 | AW24: =AC24+AD24 -> 0 | AX24: =AH24 -> 0 | AY24: =AF24+AG24 -> 0
A25: 1.3 | B25: ¶áõÛùÇ ÝÏ³ïÙ³Ùµ û·ï³·áñÍÙ³Ý Çñ³íáõÝùÁ ×³Ý³ã»Éáõ í»ñ³µ»ñÛ³É | E25: 0 | F25: 0 | G25: 0 | AJ25: =E25 -> 0 | AK25: =F25+G25+H25+I25 -> 0 | AL25: =J25 -> 0 | AM25: =K25+L25+M25 -> 0 | AN25: =F25+G25+K25 -> 0 | AO25: =X25+Y25+AA25 -> 0 | AP25: =N25 -> 0 | AQ25: =O25+P25+Q25+R25+S25 -> 0 | AR25: =S25 -> 0 | AS25: =T25+U25+V25 -> 0 | AT25: =X25 -> 0 | AU25: =N25+W25 -> 0 | AV25: =AE25 -> 0 | AW25: =AC25+AD25 -> 0 | AX25: =AH25 -> 0 | AY25: =AF25+AG25 -> 0
A26: 1.3.1 | B26: ²Û¹ ÃíáõÙª µÝ³Ïû·ï³·áñÍÙ³Ý Çñ³íáõÝùÁ ×³Ý³ã»Éáõ í»ñ³µ»ñÛ³É | E26: 0 | F26: 0 | G26: 0 | J26: 2 | K26: 2 | L26: 0 | M26: 0 | N26: 0 | O26: 0 | P26: 0 | Q26: 0 | S26: 0 | T26: 0 | U26: 0 | V26: 0 | W26: 0 | X26: 0 | Y26: 0 | Z26: 0 | AA26: 2 | AB26: 0 | AC26: 0 | AD26: 0 | AE26: 0 | AJ26: =E26 -> 0 | AK26: =F26+G26+H26+I26 -> 0 | AL26: =J26 -> 2 | AM26: =K26+L26+M26 -> 2 | AN26: =F26+G26+K26 -> 2 | AO26: =X26+Y26+AA26 -> 2 | AP26: =N26 -> 0 | AQ26: =O26+P26+Q26+R26+S26 -> 0 | AR26: =S26 -> 0 | AS26: =T26+U26+V26 -> 0 | AT26: =X26 -> 0 | AU26: =N26+W26 -> 0 | AV26: =AE26 -> 0 | AW26: =AC26+AD26 -> 0 | AX26: =AH26 -> 0 | AY26: =AF26+AG26 -> 0
A27: 1.3.2 | B27: ²Û¹ ÃíáõÙª ÑáÕ³Ù³ëÇ ÝÏ³ïÙ³Ùµ û·ï³·áñÍÙ³Ý Çñ³íáõÝùÁ ×³Ý³ã»Éáõ í»ñ³µ»ñÛ³É | E27: 1 | F27: 0 | G27: 1 | J27: 0 | K27: 0 | L27: 0 | M27: 0 | N27: 0 | O27: 0 | P27: 0 | Q27: 0 | S27: 0 | T27: 0 | U27: 0 | V27: 0 | W27: 0 | X27: 0 | Y27: 0 | Z27: 0 | AA27: 1 | AB27: 0 | AC27: 0 | AD27: 0 | AE27: 0 | AJ27: =E27 -> 1 | AK27: =F27+G27+H27+I27 -> 1 | AL27: =J27 -> 0 | AM27: =K27+L27+M27 -> 0 | AN27: =F27+G27+K27 -> 1 | AO27: =X27+Y27+AA27 -> 1 | AP27: =N27 -> 0 | AQ27: =O27+P27+Q27+R27+S27 -> 0 | AR27: =S27 -> 0 | AS27: =T27+U27+V27 -> 0 | AT27: =X27 -> 0 | AU27: =N27+W27 -> 0 | AV27: =AE27 -> 0 | AW27: =AC27+AD27 -> 0 | AX27: =AH27 -> 0 | AY27: =AF27+AG27 -> 0
A28: 1.4 | B28: ¶áõÛùÇ ÝÏ³ïÙ³Ùµ û·ï³·áñÍÙ³Ý Çñ³íáõÝùÁ ¹³¹³ñ»óÝ»Éáõ í»ñ³µ»ñÛ³É | E28: 0 | F28: 0 | G28: 0 | AJ28: =E28 -> 0 | AK28: =F28+G28+H28+I28 -> 0 | AL28: =J28 -> 0 | AM28: =K28+L28+M28 -> 0 | AN28: =F28+G28+K28 -> 0 | AO28: =X28+Y28+AA28 -> 0 | AP28: =N28 -> 0 | AQ28: =O28+P28+Q28+R28+S28 -> 0 | AR28: =S28 -> 0 | AS28: =T28+U28+V28 -> 0 | AT28: =X28 -> 0 | AU28: =N28+W28 -> 0 | AV28: =AE28 -> 0 | AW28: =AC28+AD28 -> 0 | AX28: =AH28 -> 0 | AY28: =AF28+AG28 -> 0
A29: 1.4.1 | B29: ²Û¹ ÃíáõÙª µÝ³Ïû·ï³·áñÍÙ³Ý Çñ³íáõÝùÁ ¹³¹³ñ»óÝ»Éáõ í»ñ³µ»ñÛ³É | E29: 6 | F29: 2 | G29: 4 | J29: 1 | K29: 1 | L29: 0 | M29: 0 | N29: 2 | O29: 1 | P29: 0 | Q29: 0 | S29: 1 | T29: 0 | U29: 1 | V29: 0 | W29: 0 | X29: 2 | Y29: 0 | Z29: 0 | AA29: 5 | AB29: 2 | AC29: 1 | AD29: 0 | AE29: 1 | AJ29: =E29 -> 6 | AK29: =F29+G29+H29+I29 -> 6 | AL29: =J29 -> 1 | AM29: =K29+L29+M29 -> 1 | AN29: =F29+G29+K29 -> 7 | AO29: =X29+Y29+AA29 -> 7 | AP29: =N29 -> 2 | AQ29: =O29+P29+Q29+R29+S29 -> 2 | AR29: =S29 -> 1 | AS29: =T29+U29+V29 -> 1 | AT29: =X29 -> 2 | AU29: =N29+W29 -> 2 | AV29: =AE29 -> 1 | AW29: =AC29+AD29 -> 1 | AX29: =AH29 -> 0 | AY29: =AF29+AG29 -> 0
A30: 1.4.1/1 | B30: ²Û¹ ÃíáõÙª ÷áËÑ³ïáõóÙ³Ùµ | E30: 3 | F30: 1 | G30: 2 | J30: 0 | K30: 0 | L30: 0 | M30: 0 | N30: 0 | O30: 0 | P30: 0 | Q30: 0 | S30: 0 | T30: 0 | U30: 0 | V30: 0 | W30: 0 | X30: 0 | Y30: 0 | Z30: 0 | AA30: 3 | AB30: 1 | AC30: 0 | AD30: 0 | AE30: 0 | AJ30: =E30 -> 3 | AK30: =F30+G30+H30+I30 -> 3 | AL30: =J30 -> 0 | AM30: =K30+L30+M30 -> 0 | AN30: =F30+G30+K30 -> 3 | AO30: =X30+Y30+AA30 -> 3 | AP30: =N30 -> 0 | AQ30: =O30+P30+Q30+R30+S30 -> 0 | AR30: =S30 -> 0 | AS30: =T30+U30+V30 -> 0 | AT30: =X30 -> 0 | AU30: =N30+W30 -> 0 | AV30: =AE30 -> 0 | AW30: =AC30+AD30 -> 0 | AX30: =AH30 -> 0 | AY30: =AF30+AG30 -> 0
A31: 1.5 | B31: ´Ý³Ï³ñ³ÝÇó/ ï³ñ³ÍùÇó/ íï³ñ»Éáõ í»ñ³µ»ñÛ³É | E31: 24 | F31: 7 | G31: 17 | J31: 9 | K31: 9 | L31: 0 | M31: 0 | N31: 9 | O31: 2 | P31: 1 | Q31: 2 | S31: 4 | T31: 0 | U31: 4 | V31: 0 | W31: 0 | X31: 9 | Y31: 0 | Z31: 1 | AA31: 24 | AB31: 7 | AC31: 4 | AD31: 0 | AE31: 4 | AF31: 2 | AG31: 0 | AH31: 2 | AJ31: =E31 -> 24 | AK31: =F31+G31+H31+I31 -> 24 | AL31: =J31 -> 9 | AM31: =K31+L31+M31 -> 9 | AN31: =F31+G31+K31 -> 33 | AO31: =X31+Y31+AA31 -> 33 | AP31: =N31 -> 9 | AQ31: =O31+P31+Q31+R31+S31 -> 9 | AR31: =S31 -> 4 | AS31: =T31+U31+V31 -> 4 | AT31: =X31 -> 9 | AU31: =N31+W31 -> 9 | AV31: =AE31 -> 4 | AW31: =AC31+AD31 -> 4 | AX31: =AH31 -> 2 | AY31: =AF31+AG31 -> 2
A32: 1.6 | B32: ¶áõÛùÝ áõñÇßÇ ³åûñÇÝÇ ïÇñ³å»ïáõÙÇó »ï í»ñ³¹³ñÓÝ»Éáõ í»ñ³µ»ñÛ³É | E32: 24 | F32: 7 | G32: 17 | J32: 13 | K32: 13 | L32: 0 | M32: 0 | N32: 5 | O32: 1 | P32: 1 | Q32: 0 | S32: 3 | T32: 0 | U32: 3 | V32: 0 | W32: 0 | X32: 5 | Y32: 0 | Z32: 1 | AA32: 32 | AB32: 6 | AC32: 1 | AD32: 0 | AE32: 1 | AJ32: =E32 -> 24 | AK32: =F32+G32+H32+I32 -> 24 | AL32: =J32 -> 13 | AM32: =K32+L32+M32 -> 13 | AN32: =F32+G32+K32 -> 37 | AO32: =X32+Y32+AA32 -> 37 | AP32: =N32 -> 5 | AQ32: =O32+P32+Q32+R32+S32 -> 5 | AR32: =S32 -> 3 | AS32: =T32+U32+V32 -> 3 | AT32: =X32 -> 5 | AU32: =N32+W32 -> 5 | AV32: =AE32 -> 1 | AW32: =AC32+AD32 -> 1 | AX32: =AH32 -> 0 | AY32: =AF32+AG32 -> 0
A33: 1.6.1 | B33: ´³ñ»ËÇÕ× Ó»éùµ»ñáÕÇó Çñ ·áõÛùÁ Ñ»ï å³Ñ³Ýç»Éáõ í»ñ³µ»ñÛ³É | E33: 0 | F33: 0 | G33: 0 | AJ33: =E33 -> 0 | AK33: =F33+G33+H33+I33 -> 0 | AL33: =J33 -> 0 | AM33: =K33+L33+M33 -> 0 | AN33: =F33+G33+K33 -> 0 | AO33: =X33+Y33+AA33 -> 0 | AP33: =N33 -> 0 | AQ33: =O33+P33+Q33+R33+S33 -> 0 | AR33: =S33 -> 0 | AS33: =T33+U33+V33 -> 0 | AT33: =X33 -> 0 | AU33: =N33+W33 -> 0 | AV33: =AE33 -> 0 | AW33: =AC33+AD33 -> 0 | AX33: =AH33 -> 0 | AY33: =AF33+AG33 -> 0
A34: 1.7 | B34: îÇñ³å»ïáõÙÇó ½ñÏ»Éáõ Ñ»ï ãÏ³åí³Í Çñ³íáõÝùÝ»ñÇ Ë³ËïáõÙÁ í»ñ³óÝ»Éáõ í»ñ³µ»ñÛ³É | E34: 16 | F34: 6 | G34: 10 | J34: 4 | K34: 4 | L34: 0 | M34: 0 | N34: 3 | O34: 1 | P34: 0 | Q34: 0 | S34: 2 | T34: 0 | U34: 2 | V34: 0 | W34: 0 | X34: 3 | Y34: 0 | AA34: 17 | AB34: 4 | AC34: 1 | AD34: 0 | AE34: 1 | AJ34: =E34 -> 16 | AK34: =F34+G34+H34+I34 -> 16 | AL34: =J34 -> 4 | AM34: =K34+L34+M34 -> 4 | AN34: =F34+G34+K34 -> 20 | AO34: =X34+Y34+AA34 -> 20 | AP34: =N34 -> 3 | AQ34: =O34+P34+Q34+R34+S34 -> 3 | AR34: =S34 -> 2 | AS34: =T34+U34+V34 -> 2 | AT34: =X34 -> 3 | AU34: =N34+W34 -> 3 | AV34: =AE34 -> 1 | AW34: =AC34+AD34 -> 1 | AX34: =AH34 -> 0 | AY34: =AF34+AG34 -> 0
A35: 1.8 | B35: ÀÝ¹Ñ³Ýáõñ µ³ÅÝ³ÛÇÝ ë»÷³Ï³ÝáõÃÛáõÝÇó µ³ÅÇÝÝ ³é³ÝÓÝ³óÝ»Éáõ í»ñ³µ»ñÛ³É | E35: 47 | F35: 16 | G35: 31 | J35: 20 | K35: 18 | L35: 2 | M35: 0 | N35: 7 | O35: 1 | P35: 1 | Q35: 1 | S35: 4 | T35: 0 | U35: 4 | V35: 0 | W35: 0 | X35: 7 | Y35: 1 | Z35: 5 | AA35: 57 | AB35: 15 | AC35: 0 | AD35: 0 | AE35: 0 | AJ35: =E35 -> 47 | AK35: =F35+G35+H35+I35 -> 47 | AL35: =J35 -> 20 | AM35: =K35+L35+M35 -> 20 | AN35: =F35+G35+K35 -> 65 | AO35: =X35+Y35+AA35 -> 65 | AP35: =N35 -> 7 | AQ35: =O35+P35+Q35+R35+S35 -> 7 | AR35: =S35 -> 4 | AS35: =T35+U35+V35 -> 4 | AT35: =X35 -> 7 | AU35: =N35+W35 -> 7 | AV35: =AE35 -> 0 | AW35: =AC35+AD35 -> 0 | AX35: =AH35 -> 0 | AY35: =AF35+AG35 -> 0
A36: 1.8.1 | B36: Ð³Ù³ï»Õ ë»÷³Ï³ÝáõÃÛ³Ý Ý»ñùá ·ïÝíáÕ ·áõÛùÁ µ³Å³Ý»Éáõ ¨ ¹ñ³ÝÇó µ³ÅÇÝÝ ³é³ÝÓÝ³óÝ»Éáõ í»ñ³µ»ñÛ³É | E36: 74 | F36: 10 | G36: 64 | J36: 33 | K36: 30 | L36: 3 | M36: 0 | N36: 17 | O36: 1 | P36: 1 | Q36: 0 | S36: 15 | T36: 1 | U36: 14 | V36: 0 | W36: 0 | X36: 17 | Y36: 0 | Z36: 8 | AA36: 87 | AB36: 12 | AC36: 0 | AD36: 0 | AE36: 0 | AJ36: =E36 -> 74 | AK36: =F36+G36+H36+I36 -> 74 | AL36: =J36 -> 33 | AM36: =K36+L36+M36 -> 33 | AN36: =F36+G36+K36 -> 104 | AO36: =X36+Y36+AA36 -> 104 | AP36: =N36 -> 17 | AQ36: =O36+P36+Q36+R36+S36 -> 17 | AR36: =S36 -> 15 | AS36: =T36+U36+V36 -> 15 | AT36: =X36 -> 17 | AU36: =N36+W36 -> 17 | AV36: =AE36 -> 0 | AW36: =AC36+AD36 -> 0 | AX36: =AH36 -> 0 | AY36: =AF36+AG36 -> 0
A37: 1.8.3 | B37: ¶áõÛùÇ íñ³ µéÝ³·³ÝÓáõÙ ï³ñ³Í»Éáõ å³Ñ³ÝçÇ Ù³ëÇÝ | E37: 8 | F37: 2 | G37: 6 | J37: 4 | K37: 2 | L37: 1 | M37: 1 | N37: 2 | O37: 0 | P37: 0 | Q37: 1 | S37: 1 | T37: 0 | U37: 1 | V37: 0 | W37: 0 | X37: 2 | Y37: 0 | Z37: 1 | AA37: 8 | AB37: 3 | AC37: 0 | AD37: 0 | AE37: 0 | AJ37: =E37 -> 8 | AK37: =F37+G37+H37+I37 -> 8 | AL37: =J37 -> 4 | AM37: =K37+L37+M37 -> 4 | AN37: =F37+G37+K37 -> 10 | AO37: =X37+Y37+AA37 -> 10 | AP37: =N37 -> 2 | AQ37: =O37+P37+Q37+R37+S37 -> 2 | AR37: =S37 -> 1 | AS37: =T37+U37+V37 -> 1 | AT37: =X37 -> 2 | AU37: =N37+W37 -> 2 | AV37: =AE37 -> 0 | AW37: =AC37+AD37 -> 0 | AX37: =AH37 -> 0 | AY37: =AF37+AG37 -> 0
A38: 1.9 | B38: ²ÛÉ í»×»ñ | E38: 32 | F38: 7 | G38: 25 | J38: 21 | K38: 13 | L38: 7 | M38: 1 | N38: 13 | O38: 1 | P38: 0 | Q38: 6 | S38: 6 | T38: 1 | U38: 5 | V38: 0 | W38: 0 | X38: 13 | Y38: 0 | Z38: 2 | AA38: 32 | AB38: 8 | AC38: 5 | AD38: 0 | AE38: 5 | AJ38: =E38 -> 32 | AK38: =F38+G38+H38+I38 -> 32 | AL38: =J38 -> 21 | AM38: =K38+L38+M38 -> 21 | AN38: =F38+G38+K38 -> 45 | AO38: =X38+Y38+AA38 -> 45 | AP38: =N38 -> 13 | AQ38: =O38+P38+Q38+R38+S38 -> 13 | AR38: =S38 -> 6 | AS38: =T38+U38+V38 -> 6 | AT38: =X38 -> 13 | AU38: =N38+W38 -> 13 | AV38: =AE38 -> 5 | AW38: =AC38+AD38 -> 5 | AX38: =AH38 -> 0 | AY38: =AF38+AG38 -> 0
A39: 2. | B39: ¶áñÍ³ñùÝ»ñÇ Ñ»ï Ï³åí³Í Çñ³í³Ñ³ñ³µ»ñáõÃÛáõÝÝ»ñÇ í»ñ³µ»ñÛ³É ¹³ï³Ï³Ý ·áñÍ»ñ | E39: =SUM(E40:E50) -> 108 | F39: =SUM(F40:F50) -> 52 | G39: =SUM(G40:G50) -> 56 | H39: =SUM(H40:H50) -> 0 | I39: =SUM(I40:I50) -> 0 | J39: =SUM(J40:J50) -> 61 | K39: =SUM(K40:K50) -> 52 | L39: =SUM(L40:L50) -> 9 | ... AH39: =SUM(AH40:AH50) -> 4 | AJ39: =SUM(AJ40:AJ50) -> 108 | AK39: =SUM(AK40:AK50) -> 108 | AL39: =SUM(AL40:AL50) -> 61 | AM39: =SUM(AM40:AM50) -> 61 | AN39: =SUM(AN40:AN50) -> 160 | AO39: =SUM(AO40:AO50) -> 159 | AP39: =SUM(AP40:AP50) -> 24 | AQ39: =SUM(AQ40:AQ50) -> 24 | ... AY39: =SUM(AY40:AY50) -> 4
A40: 2.1 | B40: ·áñÍ³ñùÝ»ñÇ ³Ýí³í»ñáõÃÛ³Ý Ñ»ï Ï³åí³Í í»×»ñ | E40: 6 | F40: 2 | G40: 4 | J40: 6 | K40: 5 | L40: 1 | M40: 0 | N40: 2 | O40: 0 | P40: 0 | Q40: 1 | S40: 1 | T40: 0 | U40: 1 | V40: 0 | W40: 0 | X40: 2 | Y40: 0 | Z40: 0 | AA40: 9 | AB40: 2 | AC40: 1 | AD40: 0 | AE40: 1 | AF40: 1 | AG40: 0 | AH40: 1 | AJ40: =E40 -> 6 | AK40: =F40+G40+H40+I40 -> 6 | AL40: =J40 -> 6 | AM40: =K40+L40+M40 -> 6 | AN40: =F40+G40+K40 -> 11 | AO40: =X40+Y40+AA40 -> 11 | AP40: =N40 -> 2 | AQ40: =O40+P40+Q40+R40+S40 -> 2 | AR40: =S40 -> 1 | AS40: =T40+U40+V40 -> 1 | AT40: =X40 -> 2 | AU40: =N40+W40 -> 2 | AV40: =AE40 -> 1 | AW40: =AC40+AD40 -> 1 | AX40: =AH40 -> 1 | AY40: =AF40+AG40 -> 1
A41: 2.1.1 | B41: ³Û¹ ÃíáõÙ` íÇ×³Ñ³ñáõÛó ·áñÍ³ñùÝ»ñÝ ³Ýí³í»ñ ×³Ý³ã»Éáõ í»ñ³µ»ñÛ³É | E41: 0 | F41: 0 | G41: 0 | AJ41: =E41 -> 0 | AK41: =F41+G41+H41+I41 -> 0 | AL41: =J41 -> 0 | AM41: =K41+L41+M41 -> 0 | AN41: =F41+G41+K41 -> 0 | AO41: =X41+Y41+AA41 -> 0 | AP41: =N41 -> 0 | AQ41: =O41+P41+Q41+R41+S41 -> 0 | AR41: =S41 -> 0 | AS41: =T41+U41+V41 -> 0 | AT41: =X41 -> 0 | AU41: =N41+W41 -> 0 | AV41: =AE41 -> 0 | AW41: =AC41+AD41 -> 0 | AX41: =AH41 -> 0 | AY41: =AF41+AG41 -> 0
A42: 2.1.2 | B42: ³Û¹ ÃíáõÙ` ·áñÍ³ñùÇ ³éáãÝãáõÃÛ³Ý Ñ»ï¨³ÝùÝ»ñ ÏÇñ³é»Éáõ í»ñ³µ»ñÛ³É | E42: 6 | F42: 1 | G42: 5 | J42: 3 | K42: 3 | L42: 0 | M42: 0 | N42: 3 | O42: 0 | P42: 0 | Q42: 2 | S42: 1 | T42: 0 | U42: 1 | V42: 0 | W42: 0 | X42: 3 | Y42: 0 | Z42: 0 | AA42: 6 | AB42: 1 | AC42: 2 | AD42: 0 | AE42: 2 | AJ42: =E42 -> 6 | AK42: =F42+G42+H42+I42 -> 6 | AL42: =J42 -> 3 | AM42: =K42+L42+M42 -> 3 | AN42: =F42+G42+K42 -> 9 | AO42: =X42+Y42+AA42 -> 9 | AP42: =N42 -> 3 | AQ42: =O42+P42+Q42+R42+S42 -> 3 | AR42: =S42 -> 1 | AS42: =T42+U42+V42 -> 1 | AT42: =X42 -> 3 | AU42: =N42+W42 -> 3 | AV42: =AE42 -> 2 | AW42: =AC42+AD42 -> 2 | AX42: =AH42 -> 0 | AY42: =AF42+AG42 -> 0
A43: 2.2 | B43: ¶áñÍ³ñùÁ í³í»ñ ×³Ý³ã»Éáõ í»ñ³µ»ñÛ³É | E43: 3 | F43: 2 | G43: 1 | J43: 5 | K43: 4 | L43: 1 | M43: 0 | N43: 1 | O43: 0 | P43: 0 | Q43: 0 | S43: 1 | T43: 0 | U43: 1 | V43: 0 | W43: 0 | X43: 1 | Y43: 0 | Z43: 0 | AA43: 6 | AB43: 1 | AC43: 0 | AD43: 0 | AE43: 0 | AJ43: =E43 -> 3 | AK43: =F43+G43+H43+I43 -> 3 | AL43: =J43 -> 5 | AM43: =K43+L43+M43 -> 5 | AN43: =F43+G43+K43 -> 7 | AO43: =X43+Y43+AA43 -> 7 | AP43: =N43 -> 1 | AQ43: =O43+P43+Q43+R43+S43 -> 1 | AR43: =S43 -> 1 | AS43: =T43+U43+V43 -> 1 | AT43: =X43 -> 1 | AU43: =N43+W43 -> 1 | AV43: =AE43 -> 0 | AW43: =AC43+AD43 -> 0 | AX43: =AH43 -> 0 | AY43: =AF43+AG43 -> 0
A44: 2.3 | B44: ¶áñÍ³ñùÇó Í³·áÕ Çñ³íáõÝùÝ»ñÁ ·ñ³Ýó»Éáõ í»ñ³µ»ñÛ³É | E44: 0 | F44: 0 | G44: 0 | AJ44: =E44 -> 0 | AK44: =F44+G44+H44+I44 -> 0 | AL44: =J44 -> 0 | AM44: =K44+L44+M44 -> 0 | AN44: =F44+G44+K44 -> 0 | AO44: =X44+Y44+AA44 -> 0 | AP44: =N44 -> 0 | AQ44: =O44+P44+Q44+R44+S44 -> 0 | AR44: =S44 -> 0 | AS44: =T44+U44+V44 -> 0 | AT44: =X44 -> 0 | AU44: =N44+W44 -> 0 | AV44: =AE44 -> 0 | AW44: =AC44+AD44 -> 0 | AX44: =AH44 -> 0 | AY44: =AF44+AG44 -> 0
A45: 2.4 | B45: ä³ÛÙ³Ý³·ÇñÝ ³Ýí³í»ñ ×³Ý³ã»Éáõ í»ñ³µ»ñÛ³É | E45: 40 | F45: 16 | G45: 24 | J45: 21 | K45: 18 | L45: 3 | M45: 0 | N45: 9 | O45: 2 | P45: 1 | Q45: 3 | S45: 3 | T45: 0 | U45: 3 | V45: 0 | W45: 0 | X45: 9 | Y45: 0 | Z45: 0 | AA45: 49 | AB45: 15 | AC45: 4 | AD45: 0 | AE45: 4 | AF45: 1 | AG45: 0 | AH45: 1 | AJ45: =E45 -> 40 | AK45: =F45+G45+H45+I45 -> 40 | AL45: =J45 -> 21 | AM45: =K45+L45+M45 -> 21 | AN45: =F45+G45+K45 -> 58 | AO45: =X45+Y45+AA45 -> 58 | AP45: =N45 -> 9 | AQ45: =O45+P45+Q45+R45+S45 -> 9 | AR45: =S45 -> 3 | AS45: =T45+U45+V45 -> 3 | AT45: =X45 -> 9 | AU45: =N45+W45 -> 9 | AV45: =AE45 -> 4 | AW45: =AC45+AD45 -> 4 | AX45: =AH45 -> 1 | AY45: =AF45+AG45 -> 1
A46: 2.5 | B46: ä³ÛÙ³Ý³·ñÇÁ í³í»ñ ×³Ý³ã»Éáõ í»ñ³µ»ñÛ³É | E46: 5 | F46: 4 | G46: 1 | J46: 3 | K46: 3 | L46: 0 | M46: 0 | N46: 1 | O46: 0 | P46: 0 | Q46: 0 | S46: 1 | T46: 0 | U46: 1 | V46: 0 | W46: 0 | X46: 1 | Y46: 0 | Z46: 0 | AA46: 7 | AB46: 4 | AC46: 0 | AD46: 0 | AE46: 0 | AJ46: =E46 -> 5 | AK46: =F46+G46+H46+I46 -> 5 | AL46: =J46 -> 3 | AM46: =K46+L46+M46 -> 3 | AN46: =F46+G46+K46 -> 8 | AO46: =X46+Y46+AA46 -> 8 | AP46: =N46 -> 1 | AQ46: =O46+P46+Q46+R46+S46 -> 1 | AR46: =S46 -> 1 | AS46: =T46+U46+V46 -> 1 | AT46: =X46 -> 1 | AU46: =N46+W46 -> 1 | AV46: =AE46 -> 0 | AW46: =AC46+AD46 -> 0 | AX46: =AH46 -> 0 | AY46: =AF46+AG46 -> 0
A47: 2.6 | B47: ä³ÛÙ³Ý³·ñÇó Í³·áÕ Çñ³íáõÝùÝ»ñÁ ·ñ³Ýó»Éáõ í»ñ³µ»ñÛ³É | E47: 0 | F47: 0 | G47: 0 | AJ47: =E47 -> 0 | AK47: =F47+G47+H47+I47 -> 0 | AL47: =J47 -> 0 | AM47: =K47+L47+M47 -> 0 | AN47: =F47+G47+K47 -> 0 | AO47: =X47+Y47+AA47 -> 0 | AP47: =N47 -> 0 | AQ47: =O47+P47+Q47+R47+S47 -> 0 | AR47: =S47 -> 0 | AS47: =T47+U47+V47 -> 0 | AT47: =X47 -> 0 | AU47: =N47+W47 -> 0 | AV47: =AE47 -> 0 | AW47: =AC47+AD47 -> 0 | AX47: =AH47 -> 0 | AY47: =AF47+AG47 -> 0
A48: 2.7 | B48: ä³ÛÙ³Ý³·ÇñÁ ÷á÷áË»Éáõ ¨ ÉáõÍ»Éáõ í»ñ³µ»ñÛ³É | E48: 6 | F48: 0 | G48: 6 | J48: 9 | K48: 7 | L48: 2 | M48: 0 | N48: 3 | O48: 2 | P48: 1 | Q48: 0 | S48: 0 | T48: 0 | U48: 0 | V48: 0 | W48: 0 | X48: 3 | Y48: 0 | Z48: 1 | AA48: 10 | AB48: 1 | AC48: 0 | AD48: 0 | AE48: 0 | AJ48: =E48 -> 6 | AK48: =F48+G48+H48+I48 -> 6 | AL48: =J48 -> 9 | AM48: =K48+L48+M48 -> 9 | AN48: =F48+G48+K48 -> 13 | AO48: =X48+Y48+AA48 -> 13 | AP48: =N48 -> 3 | AQ48: =O48+P48+Q48+R48+S48 -> 3 | AR48: =S48 -> 0 | AS48: =T48+U48+V48 -> 0 | AT48: =X48 -> 3 | AU48: =N48+W48 -> 3 | AV48: =AE48 -> 0 | AW48: =AC48+AD48 -> 0 | AX48: =AH48 -> 0 | AY48: =AF48+AG48 -> 0
A49: 2.8 | B49: ä³ÛÙ³Ý³·Çñ ÏÝù»ÉáõÝ å³ñï³íáñ»óÝ»Éáõ í»ñ³µ»ñÛ³É | E49: 11 | F49: 10 | G49: 1 | J49: 2 | K49: 2 | L49: 0 | M49: 0 | N49: 2 | O49: 0 | P49: 0 | Q49: 0 | S49: 2 | T49: 1 | U49: 1 | V49: 0 | W49: 0 | X49: 2 | Y49: 0 | Z49: 0 | AA49: 11 | AB49: 10 | AC49: 0 | AD49: 0 | AE49: 0 | AJ49: =E49 -> 11 | AK49: =F49+G49+H49+I49 -> 11 | AL49: =J49 -> 2 | AM49: =K49+L49+M49 -> 2 | AN49: =F49+G49+K49 -> 13 | AO49: =X49+Y49+AA49 -> 13 | AP49: =N49 -> 2 | AQ49: =O49+P49+Q49+R49+S49 -> 2 | AR49: =S49 -> 2 | AS49: =T49+U49+V49 -> 2 | AT49: =X49 -> 2 | AU49: =N49+W49 -> 2 | AV49: =AE49 -> 0 | AW49: =AC49+AD49 -> 0 | AX49: =AH49 -> 0 | AY49: =AF49+AG49 -> 0
A50: 2.9 | B50: ²ÛÉ í»×»ñ | E50: 31 | F50: 17 | G50: 14 | J50: 12 | K50: 10 | L50: 2 | M50: 0 | N50: 3 | O50: 1 | P50: 0 | Q50: 1 | S50: 1 | T50: 1 | U50: 0 | V50: 0 | W50: 0 | X50: 3 | Y50: 0 | Z50: 0 | AA50: 37 | AB50: 17 | AC50: 1 | AD50: 3 | AE50: 4 | AF50: 0 | AG50: 2 | AH50: 2 | AJ50: =E50 -> 31 | AK50: =F50+G50+H50+I50 -> 31 | AL50: =J50 -> 12 | AM50: =K50+L50+M50 -> 12 | AN50: =F50+G50+K50 -> 41 | AO50: =X50+Y50+AA50 -> 40 | AP50: =N50 -> 3 | AQ50: =O50+P50+Q50+R50+S50 -> 3 | AR50: =S50 -> 1 | AS50: =T50+U50+V50 -> 1 | AT50: =X50 -> 3 | AU50: =N50+W50 -> 3 | AV50: =AE50 -> 4 | AW50: =AC50+AD50 -> 4 | AX50: =AH50 -> 2 | AY50: =AF50+AG50 -> 2
A51: 3. | B51: Ä³é³Ý·áõÃÛ³Ý Ñ»ï Ï³åí³Í Çñ³í³Ñ³ñ³µ»ñáõÃÛáõÝÝ»ñÇ í»ñ³µ»ñÛ³É ¹³ï³Ï³Ý ·áñÍ»ñ | E51: =SUM(E52:E58) -> 19 | F51: =SUM(F52:F58) -> 2 | G51: =SUM(G52:G58) -> 17 | H51: =SUM(H52:H58) -> 0 | I51: =SUM(I52:I58) -> 0 | J51: =SUM(J52:J58) -> 15 | K51: =SUM(K52:K58) -> 9 | L51: =SUM(L52:L58) -> 6 | ... AH51: =SUM(AH52:AH58) -> 0 | AJ51: =SUM(AJ52:AJ58) -> 19 | AK51: =SUM(AK52:AK58) -> 19 | AL51: =SUM(AL52:AL58) -> 15 | AM51: =SUM(AM52:AM58) -> 15 | AN51: =SUM(AN52:AN58) -> 28 | AO51: =SUM(AO52:AO58) -> 28 | AP51: =SUM(AP52:AP58) -> 10 | AQ51: =SUM(AQ52:AQ58) -> 10 | ... AY51: =SUM(AY52:AY58) -> 0
...

Sheet Avan
A1: 2015Ã. | E1: Ð²ÞìºîìàôÂÚàôÜ | AC1: Ð³í»Éí³Í Ð³Û³ëï³ÝÇ Ð³Ýñ³å»ïáõÃÛ³Ý ¸³ï³ñ³ÝÝ»ñÇ Ý³Ë³·³ÑÝ»ñÇ ËáñÑñ¹Ç 01.02.2016Ã. ÃÇí 11È áñáßÙ³Ý
A2: ºðºì²Ü ø²Ô²øÆ ²ì²Ü ºì Üàð Üàðø ì²ðâ²Î²Ü Þðæ²ÜÜºðÆ ÀÜ¸Ð²Üàôð Æð²ì²êàôÂÚ²Ü ²è²æÆÜ ²îÚ²ÜÆ ¸²î²ð²ÜàôØ ø²Ô²ø²òÆ²Î²Ü ¶àðÌºðÆ øÜÜàôÂÚ²Ü ìºð²´ºðÚ²È
A3: ºñ¨³Ý ù³Õ³ùÇ ²í³Ý ¨ Üáñ Üáñù í³ñã³Ï³Ý ßñç³ÝÝ»ñÇ ÁÝ¹Ñ³Ýáõñ Çñ³í³ëáõÃÛ³Ý ³é³çÇÝ ³ïÛ³ÝÇ ¹³ï³ñ³ÝáõÙ ù³Õ³ù³óÇ³Ï³Ý Ù³ëÝ³·Çï³óáõÙ áõÝ»óáÕ ¹³ï³íáñÝ»ñÇ Ñ³ëïÇùÝ»ñÇ ù³Ý³ÏÁ` 7
A4: êïáõ·Çã Ñ³í³ë³ñáõÙÝ»ñª 1=2+3+4+5, 6=7+8+9, 2+3+7=20+21+23, 10=11+12+13+14+15, 15=16+17+18, 20=10+19, 27=25+26, 30=28+29 | E4: Ð³ßí»ïáõ Å³Ù³Ý³Ï³Ñ³ïí³ÍáõÙ Ý³Ëáñ¹ Ñ³ßí»ïáõ Å³Ù³Ý³Ï³Ñ³ïí³ÍÇó ÷áË³Ýóí³Í ·áñÍ»ñÇ ÁÝ¹Ñ³Ýáõñ ÃÇíÁ | J4: Ð³ßí»ïáõ Å³Ù³Ý³Ï³Ñ³ïí³ÍáõÙëï³óí³Í ·áñÍ»ñÇ (³Û¹ ÃíáõÙ` Ñ³Ûó³¹ÇÙáõÙÝ»ñÇ, ¹ÇÙáõÙÝ»ñÇ) ÁÝ¹Ñ³Ýáõñ ÃÇíÁ | N4: Ð³ßí»ïáõ Å³Ù³Ý³Ï³Ñ³ïí³ÍáõÙ ³í³ñïí³Í ·áñÍ»ñÇ ÁÝ¹Ñ³Ýáõñ ÃÇíÁ | Y4: ¶áñÍÝ áõÕ³ñÏí»É ¿ Áëï ÁÝ¹¹³ïáõÃÛ³Ý | Z4: Ð³ßí»ïáõ Å³Ù³Ý³Ï³Ñ³ïí³ÍáõÙ Ï³ë»óí³Í í³ñáõÛÃÝ»ñáí ·áñÍ»ñÇ ÁÝ¹Ñ³Ýáõñ ÃÇíÁ | AA4: Ð³ßí»ïáõ Å³Ù³Ý³Ï³Ñ³ïí³ÍáõÙ ³Ý³í³ñï ·áñÍ»ñÇ ÁÝ¹Ñ³Ýáõñ ÃÇíÁ | AB4: ²Û¹ ÃíáõÙª Ï³ë»óí³Í | AC4: ´áÕáù³ñÏí³Í ¹³ï³Ï³Ý ³Ïï»ñÇ ÃÇíÁ` Áëï ï»ë³ÏÝ»ñÇ | AF4: ´»Ï³Ýí³Í ¹³ï³Ï³Ý ³Ïï»ñÇ ÃÇíÁ` Áëï ï»ë³ÏÝ»ñÇ
E7: ÀÝ¹³Ù»ÝÁ | F7: ²Û¹ ÃíáõÙ`Ï³ë»óí³Í íÇ×³ÏáõÙ ÷áË³Ýóí³Í | G7: ²Û¹ ÃíáõÙª ÁÝ¹áõÝí»É ¿ í³ñáõÛÃ | H7: ²Û¹ ÃíáõÙª í»ñ³¹³ñÓí»É ¿ | I7: ²Û¹ ÃíáõÙª ÁÝ¹áõÝáõÙÁ Ù»ñÅí»É ¿ | J7: ÀÝ¹³Ù»ÝÁ | K7: ²Û¹ ÃíáõÙª ÁÝ¹áõÝí»É ¿ í³ñáõÛÃ | L7: ²Û¹ ÃíáõÙª í»ñ³¹³ñÓí»É ¿ | M7: ²Û¹ ÃíáõÙª ÁÝ¹áõÝáõÙÁ Ù»ñÅí»É ¿ | N7: ÀÝ¹³Ù»ÝÁ ³í³ñïí»É »Ý ·áñÍ»ñ ·áñÍÝ Áëï ¿áõÃÛ³Ý ÉáõÍáÕ ¹³ï³Ï³Ý ³Ïï»ñÇ (í×ÇéÝ»ñÇ) Ï³Û³óÙ³Ùµ | O7: ²Û¹ ÃíáõÙª Ñ³ÛóÇ µ³í³ñ³ñÙ³Ùµ | P7: ²Û¹ ÃíáõÙª Ñ³ÛóÇ Ù³ëÝ³ÏÇ µ³í³ñ³ñÙ³Ùµ | Q7: ²Û¹ ÃíáõÙª Ñ³ÛóÇ Ù»ñÅÙ³Ùµ | R7: Ø³ëáí Ï³ñ×í»É ¿, Ù³ëáí Ù»ñÅí»É | S7: ²Û¹ ÃíáõÙª Ï³ñ×í»É »Ý | W7: Ð³ÛóÁ ÃáÕÝí»É ¿ ³é³Ýó ùÝÝáõÃÛ³Ý | X7: ÀÝ¹³Ù»ÝÝ ³í³ñïí»É »Ý ·áñÍ»ñ | AC7: ²Û¹ ÃíáõÙ` ·áñÍÝ Áëï ¿áõÃÛ³Ý ÉáõÍáÕ ¹³ï³Ï³Ý ³Ïï»ñ | AD7: ²Û¹ ÃíáõÙ` ÙÇç³ÝÏÛ³É ¹³ï³Ï³Ý ³Ïï»ñ | AE7: ÀÝ¹³Ù»ÝÁ | AF7: ²Û¹ ÃíáõÙ` ·áñÍÝ Áëï ¿áõÃÛ³Ý ÉáõÍáÕ ¹³ï³Ï³Ý ³Ïï»ñ | AG7: ²Û¹ ÃíáõÙ` ÙÇç³ÝÏÛ³É ¹³ï³Ï³Ý ³Ïï»ñ | AH7: ÀÝ¹³Ù»ÝÁ
S10: ÀÝ¹³Ù»ÝÁ Ï³ñ×í»É »Ý | T10: ²Û¹ ÃíáõÙª Ñ³ëï³ïí»É ¿ ÏÝùí³Í Ñ³ßïáõÃÛ³Ý Ñ³Ù³Ó³ÛÝáõÃÛáõÝÁ | U10: ²Û¹ ÃíáõÙª Ñ³óÇó, ¹ÇÙáõÙÇó Ññ³Å³ñí»Éáõ ÑÇÙùáí | V10: ²Û¹ ÃíáõÙª ³ÛÉ ÑÇÙùáí
A18: ø³Õ³ù³óÇ³Ï³Ý ·áñÍ»ñÇ ¹³ë³Ï³ñ·áõÙÁ | E18: 1 | F18: 2 | G18: 3 | H18: 4 | I18: 5 | J18: 6 | K18: 7 | L18: 8 | M18: 9 | N18: 10 | O18: 11 | P18: 12 | Q18: 13 | R18: 14 | S18: 15 | T18: 16 | U18: 17 | V18: 18 | W18: 19 | X18: 20 | Y18: 21 | Z18: 22 | AA18: 23 | AB18: 24 | AC18: 25 | AD18: 26 | AE18: 27 | AF18: 28 | AG18: 29 | AH18: 30 | AJ18: 1=2+3+4+5 | AL18: 6=7+8+9 | AN18: 2+3+7=20+21+23 | AP18: 10=11+12+13+14+15 | AR18: 15=16+17+18 | AT18: 20=10+19 | AV18: 27=25+26 | AX18: 30=28+29
A19: 1. | B19: ¶áõÛù³ÛÇÝ Çñ³í³Ñ³ñ³µ»ñáõÃÛáõÝÝ»ñÇ í»ñ³µ»ñÛ³É ¹³ï³Ï³Ý ·áñÍ»ñ | E19: =SUM(E20:E38) -> 155 | F19: =SUM(F20:F38) -> 64 | G19: =SUM(G20:G38) -> 91 | H19: =SUM(H20:H38) -> 0 | I19: =SUM(I20:I38) -> 0 | J19: =SUM(J20:J38) -> 182 | K19: =SUM(K20:K38) -> 125 | L19: =SUM(L20:L38) -> 54 | ... AH19: =SUM(AH20:AH38) -> 2 | AJ19: =SUM(AJ20:AJ38) -> 155 | AK19: =SUM(AK20:AK38) -> 155 | AL19: =SUM(AL20:AL38) -> 182 | AM19: =SUM(AM20:AM38) -> 181 | AN19: =SUM(AN20:AN38) -> 280 | AO19: =SUM(AO20:AO38) -> 279 | AP19: =SUM(AP20:AP38) -> 110 | AQ19: =SUM(AQ20:AQ38) -> 110 | ... AY19: =SUM(AY20:AY38) -> 4
A20: 1.1 | B20: ¶áõÛùÇ ÝÏ³ïÙ³Ùµ ë»÷³Ï³ÝáõÃÛ³Ý Çñ³íáõÝùÁ ×³Ý³ã»Éáõ í»ñ³µ»ñÛ³É | E20: 7 | F20: 1 | G20: 6 | J20: 24 | K20: 18 | L20: 6 | N20: 11 | O20: 3 | P20: 1 | Q20: 5 | R20: 1 | S20: 1 | U20: 1 | X20: 11 | Y20: 1 | AA20: 13 | AB20: 1 | AC20: 5 | AD20: 1 | AE20: 6 | AF20: 1 | AH20: 1 | AJ20: =E20 -> 7 | AK20: =F20+G20+H20+I20 -> 7 | AL20: =J20 -> 24 | AM20: =K20+L20+M20 -> 24 | AN20: =F20+G20+K20 -> 25 | AO20: =X20+Y20+AA20 -> 25 | AP20: =N20 -> 11 | AQ20: =O20+P20+Q20+R20+S20 -> 11 | AR20: =S20 -> 1 | AS20: =T20+U20+V20 -> 1 | AT20: =X20 -> 11 | AU20: =N20+W20 -> 11 | AV20: =AE20 -> 6 | AW20: =AC20+AD20 -> 6 | AX20: =AH20 -> 1 | AY20: =AF20+AG20 -> 1
A21: 1.1.1 | B21: ²Û¹ ÃíáõÙª Ó»éùµ»ñÙ³Ý í³Õ»ÙáõÃÛ³Ý áõÅáí | E21: 11 | F21: 3 | G21: 8 | J21: 5 | K21: 4 | L21: 1 | N21: 6 | O21: 1 | P21: 1 | Q21: 2 | S21: 2 | U21: 2 | W21: 1 | X21: 7 | Z21: 1 | AA21: 8 | AB21: 3 | AC21: 2 | AE21: 2 | AJ21: =E21 -> 11 | AK21: =F21+G21+H21+I21 -> 11 | AL21: =J21 -> 5 | AM21: =K21+L21+M21 -> 5 | AN21: =F21+G21+K21 -> 15 | AO21: =X21+Y21+AA21 -> 15 | AP21: =N21 -> 6 | AQ21: =O21+P21+Q21+R21+S21 -> 6 | AR21: =S21 -> 2 | AS21: =T21+U21+V21 -> 2 | AT21: =X21 -> 7 | AU21: =N21+W21 -> 7 | AV21: =AE21 -> 2 | AW21: =AC21+AD21 -> 2 | AX21: =AH21 -> 0 | AY21: =AF21+AG21 -> 0
A22: 1.1.2 | B22: ²Û¹ ÃíáõÙª ïÇñ³½áõñÏ ·áõÛùÇ ÝÏ³ïÙ³Ùµ | AJ22: =E22 -> 0 | AK22: =F22+G22+H22+I22 -> 0 | AL22: =J22 -> 0 | AM22: =K22+L22+M22 -> 0 | AN22: =F22+G22+K22 -> 0 | AO22: =X22+Y22+AA22 -> 0 | AP22: =N22 -> 0 | AQ22: =O22+P22+Q22+R22+S22 -> 0 | AR22: =S22 -> 0 | AS22: =T22+U22+V22 -> 0 | AT22: =X22 -> 0 | AU22: =N22+W22 -> 0 | AV22: =AE22 -> 0 | AW22: =AC22+AD22 -> 0 | AX22: =AH22 -> 0 | AY22: =AF22+AG22 -> 0
A23: 1.1.3 | B23: ²Û¹ ÃíáõÙª ÇÝùÝ³Ï³Ù Ï³éáõÛóÇ ÝÏ³ïÙ³Ùµ | AJ23: =E23 -> 0 | AK23: =F23+G23+H23+I23 -> 0 | AL23: =J23 -> 0 | AM23: =K23+L23+M23 -> 0 | AN23: =F23+G23+K23 -> 0 | AO23: =X23+Y23+AA23 -> 0 | AP23: =N23 -> 0 | AQ23: =O23+P23+Q23+R23+S23 -> 0 | AR23: =S23 -> 0 | AS23: =T23+U23+V23 -> 0 | AT23: =X23 -> 0 | AU23: =N23+W23 -> 0 | AV23: =AE23 -> 0 | AW23: =AC23+AD23 -> 0 | AX23: =AH23 -> 0 | AY23: =AF23+AG23 -> 0
A24: 1.2 | B24: ê»÷³Ï³ÝáõÃÛ³Ý Çñ³íáõÝùÇ ¹³¹³ñ»óÙ³Ý í»ñ³µ»ñÛ³É | E24: 1 | F24: 1 | J24: 3 | K24: 2 | L24: 1 | N24: 1 | S24: 1 | T24: 1 | X24: 1 | AA24: 2 | AB24: 1 | AJ24: =E24 -> 1 | AK24: =F24+G24+H24+I24 -> 1 | AL24: =J24 -> 3 | AM24: =K24+L24+M24 -> 3 | AN24: =F24+G24+K24 -> 3 | AO24: =X24+Y24+AA24 -> 3 | AP24: =N24 -> 1 | AQ24: =O24+P24+Q24+R24+S24 -> 1 | AR24: =S24 -> 1 | AS24: =T24+U24+V24 -> 1 | AT24: =X24 -> 1 | AU24: =N24+W24 -> 1 | AV24: =AE24 -> 0 | AW24: =AC24+AD24 -> 0 | AX24: =AH24 -> 0 | AY24: =AF24+AG24 -> 0
A25: 1.3 | B25: ¶áõÛùÇ ÝÏ³ïÙ³Ùµ û·ï³·áñÍÙ³Ý Çñ³íáõÝùÁ ×³Ý³ã»Éáõ í»ñ³µ»ñÛ³É | AJ25: =E25 -> 0 | AK25: =F25+G25+H25+I25 -> 0 | AL25: =J25 -> 0 | AM25: =K25+L25+M25 -> 0 | AN25: =F25+G25+K25 -> 0 | AO25: =X25+Y25+AA25 -> 0 | AP25: =N25 -> 0 | AQ25: =O25+P25+Q25+R25+S25 -> 0 | AR25: =S25 -> 0 | AS25: =T25+U25+V25 -> 0 | AT25: =X25 -> 0 | AU25: =N25+W25 -> 0 | AV25: =AE25 -> 0 | AW25: =AC25+AD25 -> 0 | AX25: =AH25 -> 0 | AY25: =AF25+AG25 -> 0
A26: 1.3.1 | B26: ²Û¹ ÃíáõÙª µÝ³Ïû·ï³·áñÍÙ³Ý Çñ³íáõÝùÁ ×³Ý³ã»Éáõ í»ñ³µ»ñÛ³É | E26: 2 | G26: 2 | J26: 2 | K26: 1 | M26: 1 | N26: 1 | Q26: 1 | X26: 1 | Z26: 1 | AA26: 2 | AB26: 1 | AC26: 1 | AE26: 1 | AJ26: =E26 -> 2 | AK26: =F26+G26+H26+I26 -> 2 | AL26: =J26 -> 2 | AM26: =K26+L26+M26 -> 2 | AN26: =F26+G26+K26 -> 3 | AO26: =X26+Y26+AA26 -> 3 | AP26: =N26 -> 1 | AQ26: =O26+P26+Q26+R26+S26 -> 1 | AR26: =S26 -> 0 | AS26: =T26+U26+V26 -> 0 | AT26: =X26 -> 1 | AU26: =N26+W26 -> 1 | AV26: =AE26 -> 1 | AW26: =AC26+AD26 -> 1 | AX26: =AH26 -> 0 | AY26: =AF26+AG26 -> 0
A27: 1.3.2 | B27: ²Û¹ ÃíáõÙª ÑáÕ³Ù³ëÇ ÝÏ³ïÙ³Ùµ û·ï³·áñÍÙ³Ý Çñ³íáõÝùÁ ×³Ý³ã»Éáõ í»ñ³µ»ñÛ³É | AD27: 1 | AE27: 1 | AJ27: =E27 -> 0 | AK27: =F27+G27+H27+I27 -> 0 | AL27: =J27 -> 0 | AM27: =K27+L27+M27 -> 0 | AN27: =F27+G27+K27 -> 0 | AO27: =X27+Y27+AA27 -> 0 | AP27: =N27 -> 0 | AQ27: =O27+P27+Q27+R27+S27 -> 0 | AR27: =S27 -> 0 | AS27: =T27+U27+V27 -> 0 | AT27: =X27 -> 0 | AU27: =N27+W27 -> 0 | AV27: =AE27 -> 1 | AW27: =AC27+AD27 -> 1 | AX27: =AH27 -> 0 | AY27: =AF27+AG27 -> 0
