Workbook

Sheet Ընդամենը
A1: 2015Ã. | E1: Ð²ÞìºîìàôÂÚàôÜ | AC1: Ð³í»Éí³Í Ð³Û³ëï³ÝÇ Ð³Ýñ³å»ïáõÃÛ³Ý ¸³ï³ñ³ÝÝ»ñÇ Ý³Ë³·³ÑÝ»ñÇ ËáñÑñ¹Ç 01.02.2016Ã. ÃÇí 11È áñáßÙ³Ý
A2: ՀՀ ÀÜ¸Ð²Üàôð Æð²ì²êàôÂÚ²Ü ²è²æÆÜ ²îÚ²ÜÆ ¸²î²ð²ÜÜºðàôØ ø²Ô²ø²òÆ²Î²Ü ¶àðÌºðÆ øÜÜàôÂÚ²Ü ìºð²´ºðÚ²È
A3: ÐÐ ÁÝ¹Ñ³Ýáõñ Çñ³í³ëáõÃÛ³Ý ³é³çÇÝ ³ïÛ³ÝÇ ¹³ï³ñ³ÝÝ»ñáõÙ ù³Õ³ù³óÇ³Ï³Ý Ù³ëÝ³·Çï³óáõÙ áõÝ»óáÕ ¹³ï³íáñÝ»ñÇ Ñ³ëïÇùÝ»ñÇ ù³Ý³ÏÁ` 90
A4: êïáõ·Çã Ñ³í³ë³ñáõÙÝ»ñª 1=2+3+4+5, 6=7+8+9, 2+3+7=20+21+23, 10=11+12+13+14+15, 15=16+17+18, 20=10+19, 27=25+26, 30=28+29 | E4: Ð³ßí»ïáõ Å³Ù³Ý³Ï³Ñ³ïí³ÍáõÙ Ý³Ëáñ¹ Ñ³ßí»ïáõ Å³Ù³Ý³Ï³Ñ³ïí³ÍÇó ÷áË³Ýóí³Í ·áñÍ»ñÇ ÁÝ¹Ñ³Ýáõñ ÃÇíÁ | J4: Ð³ßí»ïáõ Å³Ù³Ý³Ï³Ñ³ïí³ÍáõÙëï³óí³Í ·áñÍ»ñÇ (³Û¹ ÃíáõÙ` Ñ³Ûó³¹ÇÙáõÙÝ»ñÇ, ¹ÇÙáõÙÝ»ñÇ) ÁÝ¹Ñ³Ýáõñ ÃÇíÁ | N4: Ð³ßí»ïáõ Å³Ù³Ý³Ï³Ñ³ïí³ÍáõÙ ³í³ñïí³Í ·áñÍ»ñÇ ÁÝ¹Ñ³Ýáõñ ÃÇíÁ | Y4: ¶áñÍÝ áõÕ³ñÏí»É ¿ Áëï ÁÝ¹¹³ïáõÃÛ³Ý | Z4: Ð³ßí»ïáõ Å³Ù³Ý³Ï³Ñ³ïí³ÍáõÙ Ï³ë»óí³Í í³ñáõÛÃÝ»ñáí ·áñÍ»ñÇ ÁÝ¹Ñ³Ýáõñ ÃÇíÁ | AA4: Ð³ßí»ïáõ Å³Ù³Ý³Ï³Ñ³ïí³ÍáõÙ ³Ý³í³ñï ·áñÍ»ñÇ ÁÝ¹Ñ³Ýáõñ ÃÇíÁ | AB4: ²Û¹ ÃíáõÙª Ï³ë»óí³Í | AC4: ´áÕáù³ñÏí³Í ¹³ï³Ï³Ý ³Ïï»ñÇ ÃÇíÁ` Áëï ï»ë³ÏÝ»ñÇ | AF4: ´»Ï³Ýí³Í ¹³ï³Ï³Ý ³Ïï»ñÇ ÃÇíÁ` Áëï ï»ë³ÏÝ»ñÇ
E7: ÀÝ¹³Ù»ÝÁ | F7: ²Û¹ ÃíáõÙ`Ï³ë»óí³Í íÇ×³ÏáõÙ ÷áË³Ýóí³Í | G7: ²Û¹ ÃíáõÙª ÁÝ¹áõÝí»É ¿ í³ñáõÛÃ | H7: ²Û¹ ÃíáõÙª í»ñ³¹³ñÓí»É ¿ | I7: ²Û¹ ÃíáõÙª ÁÝ¹áõÝáõÙÁ Ù»ñÅí»É ¿ | J7: ÀÝ¹³Ù»ÝÁ | K7: ²Û¹ ÃíáõÙª ÁÝ¹áõÝí»É ¿ í³ñáõÛÃ | L7: ²Û¹ ÃíáõÙª í»ñ³¹³ñÓí»É ¿ | M7: ²Û¹ ÃíáõÙª ÁÝ¹áõÝáõÙÁ Ù»ñÅí»É ¿ | N7: ÀÝ¹³Ù»ÝÁ ³í³ñïí»É »Ý ·áñÍ»ñ ·áñÍÝ Áëï ¿áõÃÛ³Ý ÉáõÍáÕ ¹³ï³Ï³Ý ³Ïï»ñÇ (í×ÇéÝ»ñÇ) Ï³Û³óÙ³Ùµ | O7: ²Û¹ ÃíáõÙª Ñ³ÛóÇ µ³í³ñ³ñÙ³Ùµ | P7: ²Û¹ ÃíáõÙª Ñ³ÛóÇ Ù³ëÝ³ÏÇ µ³í³ñ³ñÙ³Ùµ | Q7: ²Û¹ ÃíáõÙª Ñ³ÛóÇ Ù»ñÅÙ³Ùµ | R7: Ø³ëáí Ï³ñ×í»É ¿, Ù³ëáí Ù»ñÅí»É | S7: ²Û¹ ÃíáõÙª Ï³ñ×í»É »Ý | W7: Ð³ÛóÁ ÃáÕÝí»É ¿ ³é³Ýó ùÝÝáõÃÛ³Ý | X7: ÀÝ¹³Ù»ÝÝ ³í³ñïí»É »Ý ·áñÍ»ñ | AC7: ²Û¹ ÃíáõÙ` ·áñÍÝ Áëï ¿áõÃÛ³Ý ÉáõÍáÕ ¹³ï³Ï³Ý ³Ïï»ñ | AD7: ²Û¹ ÃíáõÙ` ÙÇç³ÝÏÛ³É ¹³ï³Ï³Ý ³Ïï»ñ | AE7: ÀÝ¹³Ù»ÝÁ | AF7: ²Û¹ ÃíáõÙ` ·áñÍÝ Áëï ¿áõÃÛ³Ý ÉáõÍáÕ ¹³ï³Ï³Ý ³Ïï»ñ | AG7: ²Û¹ ÃíáõÙ` ÙÇç³ÝÏÛ³É ¹³ï³Ï³Ý ³Ïï»ñ | AH7: ÀÝ¹³Ù»ÝÁ
S10: ÀÝ¹³Ù»ÝÁ Ï³ñ×í»É »Ý | T10: ²Û¹ ÃíáõÙª Ñ³ëï³ïí»É ¿ ÏÝùí³Í Ñ³ßïáõÃÛ³Ý Ñ³Ù³Ó³ÛÝáõÃÛáõÝÁ | U10: ²Û¹ ÃíáõÙª Ñ³óÇó, ¹ÇÙáõÙÇó Ññ³Å³ñí»Éáõ ÑÇÙùáí | V10: ²Û¹ ÃíáõÙª ³ÛÉ ÑÇÙùáí
A18: ø³Õ³ù³óÇ³Ï³Ý ·áñÍ»ñÇ ¹³ë³Ï³ñ·áõÙÁ | E18: 1 | F18: 2 | G18: 3 | H18: 4 | I18: 5 | J18: 6 | K18: 7 | L18: 8 | M18: 9 | N18: 10 | O18: 11 | P18: 12 | Q18: 13 | R18: 14 | S18: 15 | T18: 16 | U18: 17 | V18: 18 | W18: 19 | X18: 20 | Y18: 21 | Z18: 22 | AA18: 23 | AB18: 24 | AC18: 25 | AD18: 26 | AE18: 27 | AF18: 28 | AG18: 29 | AH18: 30 | AJ18: 1=2+3+4+5 | AL18: 6=7+8+9 | AN18: 2+3+7=20+21+23 | AP18: 10=11+12+13+14+15 | AR18: 15=16+17+18 | AT18: 20=10+19 | AV18: 27=25+26 | AX18: 30=28+29
A19: 1. | B19: ¶áõÛù³ÛÇÝ Çñ³í³Ñ³ñ³µ»ñáõÃÛáõÝÝ»ñÇ í»ñ³µ»ñÛ³É ¹³ï³Ï³Ý ·áñÍ»ñ | E19: =SUM(Ajapnyak:Aragacotn!E19) -> 3461 | F19: =SUM(Ajapnyak:Aragacotn!F19) -> 1318 | G19: =SUM(Ajapnyak:Aragacotn!G19) -> 2142 | H19: =SUM(Ajapnyak:Aragacotn!H19) -> 1 | I19: =SUM(Ajapnyak:Aragacotn!I19) -> 0 | J19: =SUM(Ajapnyak:Aragacotn!J19) -> 3001 | K19: =SUM(Ajapnyak:Aragacotn!K19) -> 2499 | L19: =SUM(Ajapnyak:Aragacotn!L19) -> 451 | ... AH19: =SUM(Ajapnyak:Aragacotn!AH19) -> 81 | AJ19: =SUM(AJ20:AJ38) -> 3461 | AK19: =SUM(AK20:AK38) -> 3461 | AL19: =SUM(AL20:AL38) -> 3001 | AM19: =SUM(AM20:AM38) -> 2999 | AN19: =SUM(AN20:AN38) -> 5959 | AO19: =SUM(AO20:AO38) -> 5950 | AP19: =SUM(AP20:AP38) -> 2443 | AQ19: =SUM(AQ20:AQ38) -> 2443 | ... AY19: =SUM(AY20:AY38) -> 83
A20: 1.1 | B20: ¶áõÛùÇ ÝÏ³ïÙ³Ùµ ë»÷³Ï³ÝáõÃÛ³Ý Çñ³íáõÝùÁ ×³Ý³ã»Éáõ í»ñ³µ»ñÛ³É | E20: =SUM(Ajapnyak:Aragacotn!E20) -> 293 | F20: =SUM(Ajapnyak:Aragacotn!F20) -> 56 | G20: =SUM(Ajapnyak:Aragacotn!G20) -> 237 | H20: =SUM(Ajapnyak:Aragacotn!H20) -> 0 | I20: =SUM(Ajapnyak:Aragacotn!I20) -> 0 | J20: =SUM(Ajapnyak:Aragacotn!J20) -> 383 | K20: =SUM(Ajapnyak:Aragacotn!K20) -> 314 | L20: =SUM(Ajapnyak:Aragacotn!L20) -> 57 | ... AH20: =SUM(Ajapnyak:Aragacotn!AH20) -> 13 | AJ20: =E20 -> 293 | AK20: =F20+G20+H20+I20 -> 293 | AL20: =J20 -> 383 | AM20: =K20+L20+M20 -> 383 | AN20: =F20+G20+K20 -> 607 | AO20: =X20+Y20+AA20 -> 606 | AP20: =N20 -> 299 | AQ20: =O20+P20+Q20+R20+S20 -> 299 | AR20: =S20 -> 75 | AS20: =T20+U20+V20 -> 75 | AT20: =X20 -> 302 | AU20: =N20+W20 -> 302 | AV20: =AE20 -> 75 | AW20: =AC20+AD20 -> 75 | AX20: =AH20 -> 13 | AY20: =AF20+AG20 -> 13
A21: 1.1.1 | B21: ²Û¹ ÃíáõÙª Ó»éùµ»ñÙ³Ý í³Õ»ÙáõÃÛ³Ý áõÅáí | E21: =SUM(Ajapnyak:Aragacotn!E21) -> 205 | F21: =SUM(Ajapnyak:Aragacotn!F21) -> 39 | G21: =SUM(Ajapnyak:Aragacotn!G21) -> 165 | H21: =SUM(Ajapnyak:Aragacotn!H21) -> 1 | I21: =SUM(Ajapnyak:Aragacotn!I21) -> 0 | J21: =SUM(Ajapnyak:Aragacotn!J21) -> 333 | K21: =SUM(Ajapnyak:Aragacotn!K21) -> 296 | L21: =SUM(Ajapnyak:Aragacotn!L21) -> 34 | ... AH21: =SUM(Ajapnyak:Aragacotn!AH21) -> 10 | AJ21: =E21 -> 205 | AK21: =F21+G21+H21+I21 -> 205 | AL21: =J21 -> 333 | AM21: =K21+L21+M21 -> 333 | AN21: =F21+G21+K21 -> 500 | AO21: =X21+Y21+AA21 -> 499 | AP21: =N21 -> 271 | AQ21: =O21+P21+Q21+R21+S21 -> 271 | AR21: =S21 -> 53 | AS21: =T21+U21+V21 -> 53 | AT21: =X21 -> 275 | AU21: =N21+W21 -> 275 | AV21: =AE21 -> 40 | AW21: =AC21+AD21 -> 40 | AX21: =AH21 -> 10 | AY21: =AF21+AG21 -> 10
A22: 1.1.2 | B22: ²Û¹ ÃíáõÙª ïÇñ³½áõñÏ ·áõÛùÇ ÝÏ³ïÙ³Ùµ | E22: =SUM(Ajapnyak:Aragacotn!E22) -> 1 | F22: =SUM(Ajapnyak:Aragacotn!F22) -> 1 | G22: =SUM(Ajapnyak:Aragacotn!G22) -> 0 | H22: =SUM(Ajapnyak:Aragacotn!H22) -> 0 | I22: =SUM(Ajapnyak:Aragacotn!I22) -> 0 | J22: =SUM(Ajapnyak:Aragacotn!J22) -> 4 | K22: =SUM(Ajapnyak:Aragacotn!K22) -> 4 | L22: =SUM(Ajapnyak:Aragacotn!L22) -> 0 | ... AH22: =SUM(Ajapnyak:Aragacotn!AH22) -> 1 | AJ22: =E22 -> 1 | AK22: =F22+G22+H22+I22 -> 1 | AL22: =J22 -> 4 | AM22: =K22+L22+M22 -> 4 | AN22: =F22+G22+K22 -> 5 | AO22: =X22+Y22+AA22 -> 5 | AP22: =N22 -> 3 | AQ22: =O22+P22+Q22+R22+S22 -> 3 | AR22: =S22 -> 1 | AS22: =T22+U22+V22 -> 1 | AT22: =X22 -> 3 | AU22: =N22+W22 -> 3 | AV22: =AE22 -> 0 | AW22: =AC22+AD22 -> 0 | AX22: =AH22 -> 1 | AY22: =AF22+AG22 -> 1
A23: 1.1.3 | B23: ²Û¹ ÃíáõÙª ÇÝùÝ³Ï³Ù Ï³éáõÛóÇ ÝÏ³ïÙ³Ùµ | E23: =SUM(Ajapnyak:Aragacotn!E23) -> 1 | F23: =SUM(Ajapnyak:Aragacotn!F23) -> 1 | G23: =SUM(Ajapnyak:Aragacotn!G23) -> 0 | H23: =SUM(Ajapnyak:Aragacotn!H23) -> 0 | I23: =SUM(Ajapnyak:Aragacotn!I23) -> 0 | J23: =SUM(Ajapnyak:Aragacotn!J23) -> 0 | K23: =SUM(Ajapnyak:Aragacotn!K23) -> 0 | L23: =SUM(Ajapnyak:Aragacotn!L23) -> 0 | ... AH23: =SUM(Ajapnyak:Aragacotn!AH23) -> 0 | AJ23: =E23 -> 1 | AK23: =F23+G23+H23+I23 -> 1 | AL23: =J23 -> 0 | AM23: =K23+L23+M23 -> 0 | AN23: =F23+G23+K23 -> 1 | AO23: =X23+Y23+AA23 -> 1 | AP23: =N23 -> 0 | AQ23: =O23+P23+Q23+R23+S23 -> 0 | AR23: =S23 -> 0 | AS23: =T23+U23+V23 -> 0 | AT23: =X23 -> 0 | AU23: =N23+W23 -> 0 | AV23: =AE23 -> 0 | AW23: =AC23+AD23 -> 0 | AX23: =AH23 -> 0 | AY23: =AF23+AG23 -> 0
A24: 1.2 | B24: ê»÷³Ï³ÝáõÃÛ³Ý Çñ³íáõÝùÇ ¹³¹³ñ»óÙ³Ý í»ñ³µ»ñÛ³É | E24: =SUM(Ajapnyak:Aragacotn!E24) -> 26 | F24: =SUM(Ajapnyak:Aragacotn!F24) -> 8 | G24: =SUM(Ajapnyak:Aragacotn!G24) -> 18 | H24: =SUM(Ajapnyak:Aragacotn!H24) -> 0 | I24: =SUM(Ajapnyak:Aragacotn!I24) -> 0 | J24: =SUM(Ajapnyak:Aragacotn!J24) -> 30 | K24: =SUM(Ajapnyak:Aragacotn!K24) -> 23 | L24: =SUM(Ajapnyak:Aragacotn!L24) -> 6 | ... AH24: =SUM(Ajapnyak:Aragacotn!AH24) -> 0 | AJ24: =E24 -> 26 | AK24: =F24+G24+H24+I24 -> 26 | AL24: =J24 -> 30 | AM24: =K24+L24+M24 -> 30 | AN24: =F24+G24+K24 -> 49 | AO24: =X24+Y24+AA24 -> 49 | AP24: =N24 -> 14 | AQ24: =O24+P24+Q24+R24+S24 -> 14 | AR24: =S24 -> 5 | AS24: =T24+U24+V24 -> 5 | AT24: =X24 -> 14 | AU24: =N24+W24 -> 14 | AV24: =AE24 -> 4 | AW24: =AC24+AD24 -> 4 | AX24: =AH24 -> 0 | AY24: =AF24+AG24 -> 0
A25: 1.3 | B25: ¶áõÛùÇ ÝÏ³ïÙ³Ùµ û·ï³·áñÍÙ³Ý Çñ³íáõÝùÁ ×³Ý³ã»Éáõ í»ñ³µ»ñÛ³É | E25: =SUM(Ajapnyak:Aragacotn!E25) -> 5 | F25: =SUM(Ajapnyak:Aragacotn!F25) -> 2 | G25: =SUM(Ajapnyak:Aragacotn!G25) -> 3 | H25: =SUM(Ajapnyak:Aragacotn!H25) -> 0 | I25: =SUM(Ajapnyak:Aragacotn!I25) -> 0 | J25: =SUM(Ajapnyak:Aragacotn!J25) -> 8 | K25: =SUM(Ajapnyak:Aragacotn!K25) -> 4 | L25: =SUM(Ajapnyak:Aragacotn!L25) -> 4 | ... AH25: =SUM(Ajapnyak:Aragacotn!AH25) -> 0 | AJ25: =E25 -> 5 | AK25: =F25+G25+H25+I25 -> 5 | AL25: =J25 -> 8 | AM25: =K25+L25+M25 -> 8 | AN25: =F25+G25+K25 -> 9 | AO25: =X25+Y25+AA25 -> 9 | AP25: =N25 -> 4 | AQ25: =O25+P25+Q25+R25+S25 -> 4 | AR25: =S25 -> 1 | AS25: =T25+U25+V25 -> 1 | AT25: =X25 -> 4 | AU25: =N25+W25 -> 4 | AV25: =AE25 -> 1 | AW25: =AC25+AD25 -> 1 | AX25: =AH25 -> 0 | AY25: =AF25+AG25 -> 0
A26: 1.3.1 | B26: ²Û¹ ÃíáõÙª µÝ³Ïû·ï³·áñÍÙ³Ý Çñ³íáõÝùÁ ×³Ý³ã»Éáõ í»ñ³µ»ñÛ³É | E26: =SUM(Ajapnyak:Aragacotn!E26) -> 5 | F26: =SUM(Ajapnyak:Aragacotn!F26) -> 0 | G26: =SUM(Ajapnyak:Aragacotn!G26) -> 5 | H26: =SUM(Ajapnyak:Aragacotn!H26) -> 0 | I26: =SUM(Ajapnyak:Aragacotn!I26) -> 0 | J26: =SUM(Ajapnyak:Aragacotn!J26) -> 13 | K26: =SUM(Ajapnyak:Aragacotn!K26) -> 8 | L26: =SUM(Ajapnyak:Aragacotn!L26) -> 4 | ... AH26: =SUM(Ajapnyak:Aragacotn!AH26) -> 0 | AJ26: =E26 -> 5 | AK26: =F26+G26+H26+I26 -> 5 | AL26: =J26 -> 13 | AM26: =K26+L26+M26 -> 13 | AN26: =F26+G26+K26 -> 13 | AO26: =X26+Y26+AA26 -> 13 | AP26: =N26 -> 7 | AQ26: =O26+P26+Q26+R26+S26 -> 7 | AR26: =S26 -> 4 | AS26: =T26+U26+V26 -> 4 | AT26: =X26 -> 7 | AU26: =N26+W26 -> 7 | AV26: =AE26 -> 1 | AW26: =AC26+AD26 -> 1 | AX26: =AH26 -> 0 | AY26: =AF26+AG26 -> 0
A27: 1.3.2 | B27: ²Û¹ ÃíáõÙª ÑáÕ³Ù³ëÇ ÝÏ³ïÙ³Ùµ û·ï³·áñÍÙ³Ý Çñ³íáõÝùÁ ×³Ý³ã»Éáõ í»ñ³µ»ñÛ³É | E27: =SUM(Ajapnyak:Aragacotn!E27) -> 8 | F27: =SUM(Ajapnyak:Aragacotn!F27) -> 2 | G27: =SUM(Ajapnyak:Aragacotn!G27) -> 6 | H27: =SUM(Ajapnyak:Aragacotn!H27) -> 0 | I27: =SUM(Ajapnyak:Aragacotn!I27) -> 0 | J27: =SUM(Ajapnyak:Aragacotn!J27) -> 8 | K27: =SUM(Ajapnyak:Aragacotn!K27) -> 5 | L27: =SUM(Ajapnyak:Aragacotn!L27) -> 3 | ... AH27: =SUM(Ajapnyak:Aragacotn!AH27) -> 0 | AJ27: =E27 -> 8 | AK27: =F27+G27+H27+I27 -> 8 | AL27: =J27 -> 8 | AM27: =K27+L27+M27 -> 8 | AN27: =F27+G27+K27 -> 13 | AO27: =X27+Y27+AA27 -> 13 | AP27: =N27 -> 3 | AQ27: =O27+P27+Q27+R27+S27 -> 3 | AR27: =S27 -> 2 | AS27: =T27+U27+V27 -> 2 | AT27: =X27 -> 3 | AU27: =N27+W27 -> 3 | AV27: =AE27 -> 1 | AW27: =AC27+AD27 -> 1 | AX27: =AH27 -> 0 | AY27: =AF27+AG27 -> 0
A28: 1.4 | B28: ¶áõÛùÇ ÝÏ³ïÙ³Ùµ û·ï³·áñÍÙ³Ý Çñ³íáõÝùÁ ¹³¹³ñ»óÝ»Éáõ í»ñ³µ»ñÛ³É | E28: =SUM(Ajapnyak:Aragacotn!E28) -> 6 | F28: =SUM(Ajapnyak:Aragacotn!F28) -> 2 | G28: =SUM(Ajapnyak:Aragacotn!G28) -> 4 | H28: =SUM(Ajapnyak:Aragacotn!H28) -> 0 | I28: =SUM(Ajapnyak:Aragacotn!I28) -> 0 | J28: =SUM(Ajapnyak:Aragacotn!J28) -> 5 | K28: =SUM(Ajapnyak:Aragacotn!K28) -> 4 | L28: =SUM(Ajapnyak:Aragacotn!L28) -> 0 | ... AH28: =SUM(Ajapnyak:Aragacotn!AH28) -> 2 | AJ28: =E28 -> 6 | AK28: =F28+G28+H28+I28 -> 6 | AL28: =J28 -> 5 | AM28: =K28+L28+M28 -> 5 | AN28: =F28+G28+K28 -> 10 | AO28: =X28+Y28+AA28 -> 10 | AP28: =N28 -> 5 | AQ28: =O28+P28+Q28+R28+S28 -> 5 | AR28: =S28 -> 1 | AS28: =T28+U28+V28 -> 1 | AT28: =X28 -> 5 | AU28: =N28+W28 -> 5 | AV28: =AE28 -> 2 | AW28: =AC28+AD28 -> 2 | AX28: =AH28 -> 2 | AY28: =AF28+AG28 -> 2
A29: 1.4.1 | B29: ²Û¹ ÃíáõÙª µÝ³Ïû·ï³·áñÍÙ³Ý Çñ³íáõÝùÁ ¹³¹³ñ»óÝ»Éáõ í»ñ³µ»ñÛ³É | E29: =SUM(Ajapnyak:Aragacotn!E29) -> 18 | F29: =SUM(Ajapnyak:Aragacotn!F29) -> 8 | G29: =SUM(Ajapnyak:Aragacotn!G29) -> 10 | H29: =SUM(Ajapnyak:Aragacotn!H29) -> 0 | I29: =SUM(Ajapnyak:Aragacotn!I29) -> 0 | J29: =SUM(Ajapnyak:Aragacotn!J29) -> 7 | K29: =SUM(Ajapnyak:Aragacotn!K29) -> 7 | L29: =SUM(Ajapnyak:Aragacotn!L29) -> 0 | ... AH29: =SUM(Ajapnyak:Aragacotn!AH29) -> 3 | AJ29: =E29 -> 18 | AK29: =F29+G29+H29+I29 -> 18 | AL29: =J29 -> 7 | AM29: =K29+L29+M29 -> 7 | AN29: =F29+G29+K29 -> 25 | AO29: =X29+Y29+AA29 -> 25 | AP29: =N29 -> 7 | AQ29: =O29+P29+Q29+R29+S29 -> 7 | AR29: =S29 -> 1 | AS29: =T29+U29+V29 -> 1 | AT29: =X29 -> 7 | AU29: =N29+W29 -> 7 | AV29: =AE29 -> 5 | AW29: =AC29+AD29 -> 5 | AX29: =AH29 -> 3 | AY29: =AF29+AG29 -> 2
A30: 1.4.1/1 | B30: ²Û¹ ÃíáõÙª ÷áËÑ³ïáõóÙ³Ùµ | E30: =SUM(Ajapnyak:Aragacotn!E30) -> 15 | F30: =SUM(Ajapnyak:Aragacotn!F30) -> 7 | G30: =SUM(Ajapnyak:Aragacotn!G30) -> 8 | H30: =SUM(Ajapnyak:Aragacotn!H30) -> 0 | I30: =SUM(Ajapnyak:Aragacotn!I30) -> 0 | J30: =SUM(Ajapnyak:Aragacotn!J30) -> 9 | K30: =SUM(Ajapnyak:Aragacotn!K30) -> 7 | L30: =SUM(Ajapnyak:Aragacotn!L30) -> 2 | ... AH30: =SUM(Ajapnyak:Aragacotn!AH30) -> 0 | AJ30: =E30 -> 15 | AK30: =F30+G30+H30+I30 -> 15 | AL30: =J30 -> 9 | AM30: =K30+L30+M30 -> 9 | AN30: =F30+G30+K30 -> 22 | AO30: =X30+Y30+AA30 -> 22 | AP30: =N30 -> 10 | AQ30: =O30+P30+Q30+R30+S30 -> 10 | AR30: =S30 -> 4 | AS30: =T30+U30+V30 -> 4 | AT30: =X30 -> 10 | AU30: =N30+W30 -> 10 | AV30: =AE30 -> 3 | AW30: =AC30+AD30 -> 3 | AX30: =AH30 -> 0 | AY30: =AF30+AG30 -> 1
A31: 1.5 | B31: ´Ý³Ï³ñ³ÝÇó/ ï³ñ³ÍùÇó/ íï³ñ»Éáõ í»ñ³µ»ñÛ³É | E31: =SUM(Ajapnyak:Aragacotn!E31) -> 220 | F31: =SUM(Ajapnyak:Aragacotn!F31) -> 71 | G31: =SUM(Ajapnyak:Aragacotn!G31) -> 149 | H31: =SUM(Ajapnyak:Aragacotn!H31) -> 0 | I31: =SUM(Ajapnyak:Aragacotn!I31) -> 0 | J31: =SUM(Ajapnyak:Aragacotn!J31) -> 187 | K31: =SUM(Ajapnyak:Aragacotn!K31) -> 164 | L31: =SUM(Ajapnyak:Aragacotn!L31) -> 22 | ... AH31: =SUM(Ajapnyak:Aragacotn!AH31) -> 8 | AJ31: =E31 -> 220 | AK31: =F31+G31+H31+I31 -> 220 | AL31: =J31 -> 187 | AM31: =K31+L31+M31 -> 186 | AN31: =F31+G31+K31 -> 384 | AO31: =X31+Y31+AA31 -> 385 | AP31: =N31 -> 159 | AQ31: =O31+P31+Q31+R31+S31 -> 159 | AR31: =S31 -> 39 | AS31: =T31+U31+V31 -> 39 | AT31: =X31 -> 159 | AU31: =N31+W31 -> 159 | AV31: =AE31 -> 63 | AW31: =AC31+AD31 -> 63 | AX31: =AH31 -> 8 | AY31: =AF31+AG31 -> 8
A32: 1.6 | B32: ¶áõÛùÝ áõñÇßÇ ³åûñÇÝÇ ïÇñ³å»ïáõÙÇó »ï í»ñ³¹³ñÓÝ»Éáõ í»ñ³µ»ñÛ³É | E32: =SUM(Ajapnyak:Aragacotn!E32) -> 227 | F32: =SUM(Ajapnyak:Aragacotn!F32) -> 81 | G32: =SUM(Ajapnyak:Aragacotn!G32) -> 146 | H32: =SUM(Ajapnyak:Aragacotn!H32) -> 0 | I32: =SUM(Ajapnyak:Aragacotn!I32) -> 0 | J32: =SUM(Ajapnyak:Aragacotn!J32) -> 236 | K32: =SUM(Ajapnyak:Aragacotn!K32) -> 202 | L32: =SUM(Ajapnyak:Aragacotn!L32) -> 32 | ... AH32: =SUM(Ajapnyak:Aragacotn!AH32) -> 5 | AJ32: =E32 -> 227 | AK32: =F32+G32+H32+I32 -> 227 | AL32: =J32 -> 236 | AM32: =K32+L32+M32 -> 236 | AN32: =F32+G32+K32 -> 429 | AO32: =X32+Y32+AA32 -> 428 | AP32: =N32 -> 150 | AQ32: =O32+P32+Q32+R32+S32 -> 150 | AR32: =S32 -> 44 | AS32: =T32+U32+V32 -> 44 | AT32: =X32 -> 150 | AU32: =N32+W32 -> 150 | AV32: =AE32 -> 39 | AW32: =AC32+AD32 -> 39 | AX32: =AH32 -> 5 | AY32: =AF32+AG32 -> 5
A33: 1.6.1 | B33: ´³ñ»ËÇÕ× Ó»éùµ»ñáÕÇó Çñ ·áõÛùÁ Ñ»ï å³Ñ³Ýç»Éáõ í»ñ³µ»ñÛ³É | E33: =SUM(Ajapnyak:Aragacotn!E33) -> 0 | F33: =SUM(Ajapnyak:Aragacotn!F33) -> 0 | G33: =SUM(Ajapnyak:Aragacotn!G33) -> 0 | H33: =SUM(Ajapnyak:Aragacotn!H33) -> 0 | I33: =SUM(Ajapnyak:Aragacotn!I33) -> 0 | J33: =SUM(Ajapnyak:Aragacotn!J33) -> 1 | K33: =SUM(Ajapnyak:Aragacotn!K33) -> 1 | L33: =SUM(Ajapnyak:Aragacotn!L33) -> 0 | ... AH33: =SUM(Ajapnyak:Aragacotn!AH33) -> 0 | AJ33: =E33 -> 0 | AK33: =F33+G33+H33+I33 -> 0 | AL33: =J33 -> 1 | AM33: =K33+L33+M33 -> 1 | AN33: =F33+G33+K33 -> 1 | AO33: =X33+Y33+AA33 -> 1 | AP33: =N33 -> 1 | AQ33: =O33+P33+Q33+R33+S33 -> 1 | AR33: =S33 -> 0 | AS33: =T33+U33+V33 -> 0 | AT33: =X33 -> 1 | AU33: =N33+W33 -> 1 | AV33: =AE33 -> 0 | AW33: =AC33+AD33 -> 0 | AX33: =AH33 -> 0 | AY33: =AF33+AG33 -> 0
A34: 1.7 | B34: îÇñ³å»ïáõÙÇó ½ñÏ»Éáõ Ñ»ï ãÏ³åí³Í Çñ³íáõÝùÝ»ñÇ Ë³ËïáõÙÁ í»ñ³óÝ»Éáõ í»ñ³µ»ñÛ³É | E34: =SUM(Ajapnyak:Aragacotn!E34) -> 58 | F34: =SUM(Ajapnyak:Aragacotn!F34) -> 21 | G34: =SUM(Ajapnyak:Aragacotn!G34) -> 37 | H34: =SUM(Ajapnyak:Aragacotn!H34) -> 0 | I34: =SUM(Ajapnyak:Aragacotn!I34) -> 0 | J34: =SUM(Ajapnyak:Aragacotn!J34) -> 31 | K34: =SUM(Ajapnyak:Aragacotn!K34) -> 22 | L34: =SUM(Ajapnyak:Aragacotn!L34) -> 8 | ... AH34: =SUM(Ajapnyak:Aragacotn!AH34) -> 3 | AJ34: =E34 -> 58 | AK34: =F34+G34+H34+I34 -> 58 | AL34: =J34 -> 31 | AM34: =K34+L34+M34 -> 31 | AN34: =F34+G34+K34 -> 80 | AO34: =X34+Y34+AA34 -> 80 | AP34: =N34 -> 26 | AQ34: =O34+P34+Q34+R34+S34 -> 26 | AR34: =S34 -> 12 | AS34: =T34+U34+V34 -> 12 | AT34: =X34 -> 26 | AU34: =N34+W34 -> 26 | AV34: =AE34 -> 11 | AW34: =AC34+AD34 -> 11 | AX34: =AH34 -> 3 | AY34: =AF34+AG34 -> 3
A35: 1.8 | B35: ÀÝ¹Ñ³Ýáõñ µ³ÅÝ³ÛÇÝ ë»÷³Ï³ÝáõÃÛáõÝÇó µ³ÅÇÝÝ ³é³ÝÓÝ³óÝ»Éáõ í»ñ³µ»ñÛ³É | E35: =SUM(Ajapnyak:Aragacotn!E35) -> 1143 | F35: =SUM(Ajapnyak:Aragacotn!F35) -> 567 | G35: =SUM(Ajapnyak:Aragacotn!G35) -> 576 | H35: =SUM(Ajapnyak:Aragacotn!H35) -> 0 | I35: =SUM(Ajapnyak:Aragacotn!I35) -> 0 | J35: =SUM(Ajapnyak:Aragacotn!J35) -> 688 | K35: =SUM(Ajapnyak:Aragacotn!K35) -> 607 | L35: =SUM(Ajapnyak:Aragacotn!L35) -> 79 | ... AH35: =SUM(Ajapnyak:Aragacotn!AH35) -> 14 | AJ35: =E35 -> 1143 | AK35: =F35+G35+H35+I35 -> 1143 | AL35: =J35 -> 688 | AM35: =K35+L35+M35 -> 688 | AN35: =F35+G35+K35 -> 1750 | AO35: =X35+Y35+AA35 -> 1748 | AP35: =N35 -> 635 | AQ35: =O35+P35+Q35+R35+S35 -> 635 | AR35: =S35 -> 266 | AS35: =T35+U35+V35 -> 266 | AT35: =X35 -> 635 | AU35: =N35+W35 -> 635 | AV35: =AE35 -> 87 | AW35: =AC35+AD35 -> 87 | AX35: =AH35 -> 14 | AY35: =AF35+AG35 -> 14
A36: 1.8.1 | B36: Ð³Ù³ï»Õ ë»÷³Ï³ÝáõÃÛ³Ý Ý»ñùá ·ïÝíáÕ ·áõÛùÁ µ³Å³Ý»Éáõ ¨ ¹ñ³ÝÇó µ³ÅÇÝÝ ³é³ÝÓÝ³óÝ»Éáõ í»ñ³µ»ñÛ³É | E36: =SUM(Ajapnyak:Aragacotn!E36) -> 484 | F36: =SUM(Ajapnyak:Aragacotn!F36) -> 198 | G36: =SUM(Ajapnyak:Aragacotn!G36) -> 286 | H36: =SUM(Ajapnyak:Aragacotn!H36) -> 0 | I36: =SUM(Ajapnyak:Aragacotn!I36) -> 0 | J36: =SUM(Ajapnyak:Aragacotn!J36) -> 325 | K36: =SUM(Ajapnyak:Aragacotn!K36) -> 266 | L36: =SUM(Ajapnyak:Aragacotn!L36) -> 53 | ... AH36: =SUM(Ajapnyak:Aragacotn!AH36) -> 7 | AJ36: =E36 -> 484 | AK36: =F36+G36+H36+I36 -> 484 | AL36: =J36 -> 325 | AM36: =K36+L36+M36 -> 324 | AN36: =F36+G36+K36 -> 750 | AO36: =X36+Y36+AA36 -> 748 | AP36: =N36 -> 291 | AQ36: =O36+P36+Q36+R36+S36 -> 291 | AR36: =S36 -> 123 | AS36: =T36+U36+V36 -> 123 | AT36: =X36 -> 291 | AU36: =N36+W36 -> 291 | AV36: =AE36 -> 28 | AW36: =AC36+AD36 -> 28 | AX36: =AH36 -> 7 | AY36: =AF36+AG36 -> 8
... A38: 1.9 | B38: ²ÛÉ í»×»ñ | E38: =SUM(Ajapnyak:Aragacotn!E38) -> 575 | F38: =SUM(Ajapnyak:Aragacotn!F38) -> 187 | G38: =SUM(Ajapnyak:Aragacotn!G38) -> 388 | H38: =SUM(Ajapnyak:Aragacotn!H38) -> 0 | I38: =SUM(Ajapnyak:Aragacotn!I38) -> 0 | J38: =SUM(Ajapnyak:Aragacotn!J38) -> 669 | K38: =SUM(Ajapnyak:Aragacotn!K38) -> 514 | L38: =SUM(Ajapnyak:Aragacotn!L38) -> 136 | ... AH38: =SUM(Ajapnyak:Aragacotn!AH38) -> 12 | AJ38: =E38 -> 575 | AK38: =F38+G38+H38+I38 -> 575 | AL38: =J38 -> 669 | AM38: =K38+L38+M38 -> 669 | AN38: =F38+G38+K38 -> 1089 | AO38: =X38+Y38+AA38 -> 1086 | AP38: =N38 -> 459 | AQ38: =O38+P38+Q38+R38+S38 -> 459 | AR38: =S38 -> 143 | AS38: =T38+U38+V38 -> 143 | AT38: =X38 -> 459 | AU38: =N38+W38 -> 459 | AV38: =AE38 -> 114 | AW38: =AC38+AD38 -> 114 | AX38: =AH38 -> 12 | AY38: =AF38+AG38 -> 13
A39: 2. | B39: ¶áñÍ³ñùÝ»ñÇ Ñ»ï Ï³åí³Í Çñ³í³Ñ³ñ³µ»ñáõÃÛáõÝÝ»ñÇ í»ñ³µ»ñÛ³É ¹³ï³Ï³Ý ·áñÍ»ñ | E39: =SUM(Ajapnyak:Aragacotn!E39) -> 1180 | F39: =SUM(Ajapnyak:Aragacotn!F39) -> 320 | G39: =SUM(Ajapnyak:Aragacotn!G39) -> 860 | H39: =SUM(Ajapnyak:Aragacotn!H39) -> 0 | I39: =SUM(Ajapnyak:Aragacotn!I39) -> 0 | J39: =SUM(Ajapnyak:Aragacotn!J39) -> 1875 | K39: =SUM(Ajapnyak:Aragacotn!K39) -> 1696 | L39: =SUM(Ajapnyak:Aragacotn!L39) -> 165 | ... AH39: =SUM(Ajapnyak:Aragacotn!AH39) -> 35 | AJ39: =SUM(AJ40:AJ50) -> 1180 | AK39: =SUM(AK40:AK50) -> 1180 | AL39: =SUM(AL40:AL50) -> 1875 | AM39: =SUM(AM40:AM50) -> 1875 | AN39: =SUM(AN40:AN50) -> 2876 | AO39: =SUM(AO40:AO50) -> 2871 | AP39: =SUM(AP40:AP50) -> 1621 | AQ39: =SUM(AQ40:AQ50) -> 1621 | ... AY39: =SUM(AY40:AY50) -> 35
A40: 2.1 | B40: ·áñÍ³ñùÝ»ñÇ ³Ýí³í»ñáõÃÛ³Ý Ñ»ï Ï³åí³Í í»×»ñ | E40: =SUM(Ajapnyak:Aragacotn!E40) -> 121 | F40: =SUM(Ajapnyak:Aragacotn!F40) -> 26 | G40: =SUM(Ajapnyak:Aragacotn!G40) -> 95 | H40: =SUM(Ajapnyak:Aragacotn!H40) -> 0 | I40: =SUM(Ajapnyak:Aragacotn!I40) -> 0 | J40: =SUM(Ajapnyak:Aragacotn!J40) -> 121 | K40: =SUM(Ajapnyak:Aragacotn!K40) -> 92 | L40: =SUM(Ajapnyak:Aragacotn!L40) -> 27 | ... AH40: =SUM(Ajapnyak:Aragacotn!AH40) -> 5 | AJ40: =E40 -> 121 | AK40: =F40+G40+H40+I40 -> 121 | AL40: =J40 -> 121 | AM40: =K40+L40+M40 -> 121 | AN40: =F40+G40+K40 -> 213 | AO40: =X40+Y40+AA40 -> 213 | AP40: =N40 -> 92 | AQ40: =O40+P40+Q40+R40+S40 -> 92 | AR40: =S40 -> 29 | AS40: =T40+U40+V40 -> 29 | AT40: =X40 -> 93 | AU40: =N40+W40 -> 93 | AV40: =AE40 -> 43 | AW40: =AC40+AD40 -> 43 | AX40: =AH40 -> 5 | AY40: =AF40+AG40 -> 5
A41: 2.1.1 | B41: ³Û¹ ÃíáõÙ` íÇ×³Ñ³ñáõÛó ·áñÍ³ñùÝ»ñÝ ³Ýí³í»ñ ×³Ý³ã»Éáõ í»ñ³µ»ñÛ³É | E41: =SUM(Ajapnyak:Aragacotn!E41) -> 2 | F41: =SUM(Ajapnyak:Aragacotn!F41) -> 0 | G41: =SUM(Ajapnyak:Aragacotn!G41) -> 2 | H41: =SUM(Ajapnyak:Aragacotn!H41) -> 0 | I41: =SUM(Ajapnyak:Aragacotn!I41) -> 0 | J41: =SUM(Ajapnyak:Aragacotn!J41) -> 5 | K41: =SUM(Ajapnyak:Aragacotn!K41) -> 3 | L41: =SUM(Ajapnyak:Aragacotn!L41) -> 1 | ... AH41: =SUM(Ajapnyak:Aragacotn!AH41) -> 0 | AJ41: =E41 -> 2 | AK41: =F41+G41+H41+I41 -> 2 | AL41: =J41 -> 5 | AM41: =K41+L41+M41 -> 4 | AN41: =F41+G41+K41 -> 5 | AO41: =X41+Y41+AA41 -> 5 | AP41: =N41 -> 1 | AQ41: =O41+P41+Q41+R41+S41 -> 1 | AR41: =S41 -> 0 | AS41: =T41+U41+V41 -> 0 | AT41: =X41 -> 1 | AU41: =N41+W41 -> 1 | AV41: =AE41 -> 2 | AW41: =AC41+AD41 -> 2 | AX41: =AH41 -> 0 | AY41: =AF41+AG41 -> 0
A42: 2.1.2 | B42: ³Û¹ ÃíáõÙ` ·áñÍ³ñùÇ ³éáãÝãáõÃÛ³Ý Ñ»ï¨³ÝùÝ»ñ ÏÇñ³é»Éáõ í»ñ³µ»ñÛ³É | E42: =SUM(Ajapnyak:Aragacotn!E42) -> 98 | F42: =SUM(Ajapnyak:Aragacotn!F42) -> 22 | G42: =SUM(Ajapnyak:Aragacotn!G42) -> 76 | H42: =SUM(Ajapnyak:Aragacotn!H42) -> 0 | I42: =SUM(Ajapnyak:Aragacotn!I42) -> 0 | J42: =SUM(Ajapnyak:Aragacotn!J42) -> 103 | K42: =SUM(Ajapnyak:Aragacotn!K42) -> 79 | L42: =SUM(Ajapnyak:Aragacotn!L42) -> 22 | ... AH42: =SUM(Ajapnyak:Aragacotn!AH42) -> 5 | AJ42: =E42 -> 98 | AK42: =F42+G42+H42+I42 -> 98 | AL42: =J42 -> 103 | AM42: =K42+L42+M42 -> 103 | AN42: =F42+G42+K42 -> 177 | AO42: =X42+Y42+AA42 -> 177 | AP42: =N42 -> 71 | AQ42: =O42+P42+Q42+R42+S42 -> 71 | AR42: =S42 -> 22 | AS42: =T42+U42+V42 -> 22 | AT42: =X42 -> 71 | AU42: =N42+W42 -> 71 | AV42: =AE42 -> 33 | AW42: =AC42+AD42 -> 33 | AX42: =AH42 -> 5 | AY42: =AF42+AG42 -> 5
A43: 2.2 | B43: ¶áñÍ³ñùÁ í³í»ñ ×³Ý³ã»Éáõ í»ñ³µ»ñÛ³É | E43: =SUM(Ajapnyak:Aragacotn!E43) -> 37 | F43: =SUM(Ajapnyak:Aragacotn!F43) -> 9 | G43: =SUM(Ajapnyak:Aragacotn!G43) -> 28 | H43: =SUM(Ajapnyak:Aragacotn!H43) -> 0 | I43: =SUM(Ajapnyak:Aragacotn!I43) -> 0 | J43: =SUM(Ajapnyak:Aragacotn!J43) -> 152 | K43: =SUM(Ajapnyak:Aragacotn!K43) -> 145 | L43: =SUM(Ajapnyak:Aragacotn!L43) -> 6 | ... AH43: =SUM(Ajapnyak:Aragacotn!AH43) -> 0 | AJ43: =E43 -> 37 | AK43: =F43+G43+H43+I43 -> 37 | AL43: =J43 -> 152 | AM43: =K43+L43+M43 -> 153 | AN43: =F43+G43+K43 -> 182 | AO43: =X43+Y43+AA43 -> 182 | AP43: =N43 -> 146 | AQ43: =O43+P43+Q43+R43+S43 -> 146 | AR43: =S43 -> 85 | AS43: =T43+U43+V43 -> 85 | AT43: =X43 -> 146 | AU43: =N43+W43 -> 146 | AV43: =AE43 -> 4 | AW43: =AC43+AD43 -> 4 | AX43: =AH43 -> 0 | AY43: =AF43+AG43 -> 0
A44: 2.3 | B44: ¶áñÍ³ñùÇó Í³·áÕ Çñ³íáõÝùÝ»ñÁ ·ñ³Ýó»Éáõ í»ñ³µ»ñÛ³É | E44: =SUM(Ajapnyak:Aragacotn!E44) -> 2 | F44: =SUM(Ajapnyak:Aragacotn!F44) -> 0 | G44: =SUM(Ajapnyak:Aragacotn!G44) -> 2 | H44: =SUM(Ajapnyak:Aragacotn!H44) -> 0 | I44: =SUM(Ajapnyak:Aragacotn!I44) -> 0 | J44: =SUM(Ajapnyak:Aragacotn!J44) -> 1 | K44: =SUM(Ajapnyak:Aragacotn!K44) -> 0 | L44: =SUM(Ajapnyak:Aragacotn!L44) -> 1 | ... AH44: =SUM(Ajapnyak:Aragacotn!AH44) -> 0 | AJ44: =E44 -> 2 | AK44: =F44+G44+H44+I44 -> 2 | AL44: =J44 -> 1 | AM44: =K44+L44+M44 -> 1 | AN44: =F44+G44+K44 -> 2 | AO44: =X44+Y44+AA44 -> 2 | AP44: =N44 -> 1 | AQ44: =O44+P44+Q44+R44+S44 -> 1 | AR44: =S44 -> 0 | AS44: =T44+U44+V44 -> 0 | AT44: =X44 -> 1 | AU44: =N44+W44 -> 1 | AV44: =AE44 -> 1 | AW44: =AC44+AD44 -> 1 | AX44: =AH44 -> 0 | AY44: =AF44+AG44 -> 0
A45: 2.4 | B45: ä³ÛÙ³Ý³·ÇñÝ ³Ýí³í»ñ ×³Ý³ã»Éáõ í»ñ³µ»ñÛ³É | E45: =SUM(Ajapnyak:Aragacotn!E45) -> 275 | F45: =SUM(Ajapnyak:Aragacotn!F45) -> 89 | G45: =SUM(Ajapnyak:Aragacotn!G45) -> 186 | H45: =SUM(Ajapnyak:Aragacotn!H45) -> 0 | I45: =SUM(Ajapnyak:Aragacotn!I45) -> 0 | J45: =SUM(Ajapnyak:Aragacotn!J45) -> 312 | K45: =SUM(Ajapnyak:Aragacotn!K45) -> 262 | L45: =SUM(Ajapnyak:Aragacotn!L45) -> 49 | ... AH45: =SUM(Ajapnyak:Aragacotn!AH45) -> 15 | AJ45: =E45 -> 275 | AK45: =F45+G45+H45+I45 -> 275 | AL45: =J45 -> 312 | AM45: =K45+L45+M45 -> 312 | AN45: =F45+G45+K45 -> 537 | AO45: =X45+Y45+AA45 -> 534 | AP45: =N45 -> 187 | AQ45: =O45+P45+Q45+R45+S45 -> 187 | AR45: =S45 -> 63 | AS45: =T45+U45+V45 -> 63 | AT45: =X45 -> 187 | AU45: =N45+W45 -> 187 | AV45: =AE45 -> 81 | AW45: =AC45+AD45 -> 81 | AX45: =AH45 -> 15 | AY45: =AF45+AG45 -> 15
A46: 2.5 | B46: ä³ÛÙ³Ý³·ñÇÁ í³í»ñ ×³Ý³ã»Éáõ í»ñ³µ»ñÛ³É | E46: =SUM(Ajapnyak:Aragacotn!E46) -> 38 | F46: =SUM(Ajapnyak:Aragacotn!F46) -> 11 | G46: =SUM(Ajapnyak:Aragacotn!G46) -> 27 | H46: =SUM(Ajapnyak:Aragacotn!H46) -> 0 | I46: =SUM(Ajapnyak:Aragacotn!I46) -> 0 | J46: =SUM(Ajapnyak:Aragacotn!J46) -> 40 | K46: =SUM(Ajapnyak:Aragacotn!K46) -> 36 | L46: =SUM(Ajapnyak:Aragacotn!L46) -> 4 | ... AH46: =SUM(Ajapnyak:Aragacotn!AH46) -> 0 | AJ46: =E46 -> 38 | AK46: =F46+G46+H46+I46 -> 38 | AL46: =J46 -> 40 | AM46: =K46+L46+M46 -> 40 | AN46: =F46+G46+K46 -> 74 | AO46: =X46+Y46+AA46 -> 74 | AP46: =N46 -> 26 | AQ46: =O46+P46+Q46+R46+S46 -> 26 | AR46: =S46 -> 8 | AS46: =T46+U46+V46 -> 8 | AT46: =X46 -> 26 | AU46: =N46+W46 -> 26 | AV46: =AE46 -> 8 | AW46: =AC46+AD46 -> 8 | AX46: =AH46 -> 0 | AY46: =AF46+AG46 -> 0
A47: 2.6 | B47: ä³ÛÙ³Ý³·ñÇó Í³·áÕ Çñ³íáõÝùÝ»ñÁ ·ñ³Ýó»Éáõ í»ñ³µ»ñÛ³É | E47: =SUM(Ajapnyak:Aragacotn!E47) -> 0 | F47: =SUM(Ajapnyak:Aragacotn!F47) -> 0 | G47: =SUM(Ajapnyak:Aragacotn!G47) -> 0 | H47: =SUM(Ajapnyak:Aragacotn!H47) -> 0 | I47: =SUM(Ajapnyak:Aragacotn!I47) -> 0 | J47: =SUM(Ajapnyak:Aragacotn!J47) -> 1 | K47: =SUM(Ajapnyak:Aragacotn!K47) -> 1 | L47: =SUM(Ajapnyak:Aragacotn!L47) -> 0 | ... AH47: =SUM(Ajapnyak:Aragacotn!AH47) -> 0 | AJ47: =E47 -> 0 | AK47: =F47+G47+H47+I47 -> 0 | AL47: =J47 -> 1 | AM47: =K47+L47+M47 -> 1 | AN47: =F47+G47+K47 -> 1 | AO47: =X47+Y47+AA47 -> 1 | AP47: =N47 -> 1 | AQ47: =O47+P47+Q47+R47+S47 -> 1 | AR47: =S47 -> 0 | AS47: =T47+U47+V47 -> 0 | AT47: =X47 -> 1 | AU47: =N47+W47 -> 1 | AV47: =AE47 -> 0 | AW47: =AC47+AD47 -> 0 | AX47: =AH47 -> 0 | AY47: =AF47+AG47 -> 0
A48: 2.7 | B48: ä³ÛÙ³Ý³·ÇñÁ ÷á÷áË»Éáõ ¨ ÉáõÍ»Éáõ í»ñ³µ»ñÛ³É | E48: =SUM(Ajapnyak:Aragacotn!E48) -> 121 | F48: =SUM(Ajapnyak:Aragacotn!F48) -> 26 | G48: =SUM(Ajapnyak:Aragacotn!G48) -> 95 | H48: =SUM(Ajapnyak:Aragacotn!H48) -> 0 | I48: =SUM(Ajapnyak:Aragacotn!I48) -> 0 | J48: =SUM(Ajapnyak:Aragacotn!J48) -> 112 | K48: =SUM(Ajapnyak:Aragacotn!K48) -> 96 | L48: =SUM(Ajapnyak:Aragacotn!L48) -> 15 | ... AH48: =SUM(Ajapnyak:Aragacotn!AH48) -> 1 | AJ48: =E48 -> 121 | AK48: =F48+G48+H48+I48 -> 121 | AL48: =J48 -> 112 | AM48: =K48+L48+M48 -> 112 | AN48: =F48+G48+K48 -> 217 | AO48: =X48+Y48+AA48 -> 216 | AP48: =N48 -> 94 | AQ48: =O48+P48+Q48+R48+S48 -> 94 | AR48: =S48 -> 17 | AS48: =T48+U48+V48 -> 17 | AT48: =X48 -> 94 | AU48: =N48+W48 -> 94 | AV48: =AE48 -> 8 | AW48: =AC48+AD48 -> 8 | AX48: =AH48 -> 1 | AY48: =AF48+AG48 -> 1
A49: 2.8 | B49: ä³ÛÙ³Ý³·Çñ ÏÝù»ÉáõÝ å³ñï³íáñ»óÝ»Éáõ í»ñ³µ»ñÛ³É | E49: =SUM(Ajapnyak:Aragacotn!E49) -> 93 | F49: =SUM(Ajapnyak:Aragacotn!F49) -> 69 | G49: =SUM(Ajapnyak:Aragacotn!G49) -> 24 | H49: =SUM(Ajapnyak:Aragacotn!H49) -> 0 | I49: =SUM(Ajapnyak:Aragacotn!I49) -> 0 | J49: =SUM(Ajapnyak:Aragacotn!J49) -> 49 | K49: =SUM(Ajapnyak:Aragacotn!K49) -> 42 | L49: =SUM(Ajapnyak:Aragacotn!L49) -> 6 | ... AH49: =SUM(Ajapnyak:Aragacotn!AH49) -> 1 | AJ49: =E49 -> 93 | AK49: =F49+G49+H49+I49 -> 93 | AL49: =J49 -> 49 | AM49: =K49+L49+M49 -> 49 | AN49: =F49+G49+K49 -> 135 | AO49: =X49+Y49+AA49 -> 136 | AP49: =N49 -> 40 | AQ49: =O49+P49+Q49+R49+S49 -> 40 | AR49: =S49 -> 20 | AS49: =T49+U49+V49 -> 20 | AT49: =X49 -> 40 | AU49: =N49+W49 -> 40 | AV49: =AE49 -> 5 | AW49: =AC49+AD49 -> 5 | AX49: =AH49 -> 1 | AY49: =AF49+AG49 -> 1
A50: 2.9 | B50: ²ÛÉ í»×»ñ | E50: =SUM(Ajapnyak:Aragacotn!E50) -> 393 | F50: =SUM(Ajapnyak:Aragacotn!F50) -> 68 | G50: =SUM(Ajapnyak:Aragacotn!G50) -> 325 | H50: =SUM(Ajapnyak:Aragacotn!H50) -> 0 | I50: =SUM(Ajapnyak:Aragacotn!I50) -> 0 | J50: =SUM(Ajapnyak:Aragacotn!J50) -> 979 | K50: =SUM(Ajapnyak:Aragacotn!K50) -> 940 | L50: =SUM(Ajapnyak:Aragacotn!L50) -> 34 | ... AH50: =SUM(Ajapnyak:Aragacotn!AH50) -> 8 | AJ50: =E50 -> 393 | AK50: =F50+G50+H50+I50 -> 393 | AL50: =J50 -> 979 | AM50: =K50+L50+M50 -> 979 | AN50: =F50+G50+K50 -> 1333 | AO50: =X50+Y50+AA50 -> 1331 | AP50: =N50 -> 962 | AQ50: =O50+P50+Q50+R50+S50 -> 962 | AR50: =S50 -> 67 | AS50: =T50+U50+V50 -> 67 | AT50: =X50 -> 963 | AU50: =N50+W50 -> 963 | AV50: =AE50 -> 48 | AW50: =AC50+AD50 -> 48 | AX50: =AH50 -> 8 | AY50: =AF50+AG50 -> 8
A51: 3. | B51: Ä³é³Ý·áõÃÛ³Ý Ñ»ï Ï³åí³Í Çñ³í³Ñ³ñ³µ»ñáõÃÛáõÝÝ»ñÇ í»ñ³µ»ñÛ³É ¹³ï³Ï³Ý ·áñÍ»ñ | E51: =SUM(Ajapnyak:Aragacotn!E51) -> 261 | F51: =SUM(Ajapnyak:Aragacotn!F51) -> 45 | G51: =SUM(Ajapnyak:Aragacotn!G51) -> 216 | H51: =SUM(Ajapnyak:Aragacotn!H51) -> 0 | I51: =SUM(Ajapnyak:Aragacotn!I51) -> 0 | J51: =SUM(Ajapnyak:Aragacotn!J51) -> 403 | K51: =SUM(Ajapnyak:Aragacotn!K51) -> 323 | L51: =SUM(Ajapnyak:Aragacotn!L51) -> 77 | ... AH51: =SUM(Ajapnyak:Aragacotn!AH51) -> 13 | AJ51: =SUM(AJ52:AJ58) -> 261 | AK51: =SUM(AK52:AK58) -> 261 | AL51: =SUM(AL52:AL58) -> 403 | AM51: =SUM(AM52:AM58) -> 403 | AN51: =SUM(AN52:AN58) -> 584 | AO51: =SUM(AO52:AO58) -> 583 | AP51: =SUM(AP52:AP58) -> 286 | AQ51: =SUM(AQ52:AQ58) -> 286 | ... AY51: =SUM(AY52:AY58) -> 13
A52: 3.1 | B52: Îï³ÏÝ ³Ýí³í»ñ ×³Ý³ã»Éáõ í»ñ³µ»ñÛ³É | E52: =SUM(Ajapnyak:Aragacotn!E52) -> 15 | F52: =SUM(Ajapnyak:Aragacotn!F52) -> 7 | G52: =SUM(Ajapnyak:Aragacotn!G52) -> 8 | H52: =SUM(Ajapnyak:Aragacotn!H52) -> 0 | I52: =SUM(Ajapnyak:Aragacotn!I52) -> 0 | J52: =SUM(Ajapnyak:Aragacotn!J52) -> 15 | K52: =SUM(Ajapnyak:Aragacotn!K52) -> 11 | L52: =SUM(Ajapnyak:Aragacotn!L52) -> 4 | ... AH52: =SUM(Ajapnyak:Aragacotn!AH52) -> 0 | AJ52: =E52 -> 15 | AK52: =F52+G52+H52+I52 -> 15 | AL52: =J52 -> 15 | AM52: =K52+L52+M52 -> 15 | AN52: =F52+G52+K52 -> 26 | AO52: =X52+Y52+AA52 -> 25 | AP52: =N52 -> 11 | AQ52: =O52+P52+Q52+R52+S52 -> 11 | AR52: =S52 -> 0 | AS52: =T52+U52+V52 -> 0 | AT52: =X52 -> 11 | AU52: =N52+W52 -> 11 | AV52: =AE52 -> 4 | AW52: =AC52+AD52 -> 4 | AX52: =AH52 -> 0 | AY52: =AF52+AG52 -> 0
A53: 3.2 | B53: ²Ý³ñÅ³Ý Å³é³Ý· ×³Ý³ã»Éáõ í»ñ³µ»ñÛ³É | E53: =SUM(Ajapnyak:Aragacotn!E53) -> 0 | F53: =SUM(Ajapnyak:Aragacotn!F53) -> 0 | G53: =SUM(Ajapnyak:Aragacotn!G53) -> 0 | H53: =SUM(Ajapnyak:Aragacotn!H53) -> 0 | I53: =SUM(Ajapnyak:Aragacotn!I53) -> 0 | J53: =SUM(Ajapnyak:Aragacotn!J53) -> 1 | K53: =SUM(Ajapnyak:Aragacotn!K53) -> 1 | L53: =SUM(Ajapnyak:Aragacotn!L53) -> 0 | ... AH53: =SUM(Ajapnyak:Aragacotn!AH53) -> 0 | AJ53: =E53 -> 0 | AK53: =F53+G53+H53+I53 -> 0 | AL53: =J53 -> 1 | AM53: =K53+L53+M53 -> 1 | AN53: =F53+G53+K53 -> 1 | AO53: =X53+Y53+AA53 -> 1 | AP53: =N53 -> 0 | AQ53: =O53+P53+Q53+R53+S53 -> 0 | AR53: =S53 -> 0 | AS53: =T53+U53+V53 -> 0 | AT53: =X53 -> 0 | AU53: =N53+W53 -> 0 | AV53: =AE53 -> 0 | AW53: =AC53+AD53 -> 0 | AX53: =AH53 -> 0 | AY53: =AF53+AG53 -> 0
A54: 3.3 | B54: Ä³é³Ý·áõÃÛáõÝÁ µ³Å³Ý»Éáõ í»ñ³µ»ñÛ³É | E54: =SUM(Ajapnyak:Aragacotn!E54) -> 9 | F54: =SUM(Ajapnyak:Aragacotn!F54) -> 3 | G54: =SUM(Ajapnyak:Aragacotn!G54) -> 6 | H54: =SUM(Ajapnyak:Aragacotn!H54) -> 0 | I54: =SUM(Ajapnyak:Aragacotn!I54) -> 0 | J54: =SUM(Ajapnyak:Aragacotn!J54) -> 7 | K54: =SUM(Ajapnyak:Aragacotn!K54) -> 6 | L54: =SUM(Ajapnyak:Aragacotn!L54) -> 1 | ... AH54: =SUM(Ajapnyak:Aragacotn!AH54) -> 0 | AJ54: =E54 -> 9 | AK54: =F54+G54+H54+I54 -> 9 | AL54: =J54 -> 7 | AM54: =K54+L54+M54 -> 7 | AN54: =F54+G54+K54 -> 15 | AO54: =X54+Y54+AA54 -> 15 | AP54: =N54 -> 10 | AQ54: =O54+P54+Q54+R54+S54 -> 10 | AR54: =S54 -> 5 | AS54: =T54+U54+V54 -> 5 | AT54: =X54 -> 10 | AU54: =N54+W54 -> 10 | AV54: =AE54 -> 2 | AW54: =AC54+AD54 -> 2 | AX54: =AH54 -> 0 | AY54: =AF54+AG54 -> 0
A55: 3.4 | B55: ¶áõÛùÝ ³ÝÅ³é³Ý· ×³Ý³ã»Éáõ í»ñ³µ»ñÛ³É | E55: =SUM(Ajapnyak:Aragacotn!E55) -> 3 | F55: =SUM(Ajapnyak:Aragacotn!F55) -> 0 | G55: =SUM(Ajapnyak:Aragacotn!G55) -> 3 | H55: =SUM(Ajapnyak:Aragacotn!H55) -> 0 | I55: =SUM(Ajapnyak:Aragacotn!I55) -> 0 | J55: =SUM(Ajapnyak:Aragacotn!J55) -> 1 | K55: =SUM(Ajapnyak:Aragacotn!K55) -> 1 | L55: =SUM(Ajapnyak:Aragacotn!L55) -> 0 | ... AH55: =SUM(Ajapnyak:Aragacotn!AH55) -> 0 | AJ55: =E55 -> 3 | AK55: =F55+G55+H55+I55 -> 3 | AL55: =J55 -> 1 | AM55: =K55+L55+M55 -> 1 | AN55: =F55+G55+K55 -> 4 | AO55: =X55+Y55+AA55 -> 4 | AP55: =N55 -> 3 | AQ55: =O55+P55+Q55+R55+S55 -> 3 | AR55: =S55 -> 1 | AS55: =T55+U55+V55 -> 1 | AT55: =X55 -> 3 | AU55: =N55+W55 -> 3 | AV55: =AE55 -> 1 | AW55: =AC55+AD55 -> 1 | AX55: =AH55 -> 0 | AY55: =AF55+AG55 -> 0
A56: 3.5 | B56: Àëï ûñ»ÝùÇ Å³é³Ý·áõÃÛ³Ý Çñ³íáõÝùÇ íÏ³Û³·ÇñÝ ³Ýí³í»ñ ×³Ý³ã»Éáõ í»ñ³µ»ñÛ³É | E56: =SUM(Ajapnyak:Aragacotn!E56) -> 3 | F56: =SUM(Ajapnyak:Aragacotn!F56) -> 1 | G56: =SUM(Ajapnyak:Aragacotn!G56) -> 2 | H56: =SUM(Ajapnyak:Aragacotn!H56) -> 0 | I56: =SUM(Ajapnyak:Aragacotn!I56) -> 0 | J56: =SUM(Ajapnyak:Aragacotn!J56) -> 8 | K56: =SUM(Ajapnyak:Aragacotn!K56) -> 5 | L56: =SUM(Ajapnyak:Aragacotn!L56) -> 3 | ... AH56: =SUM(Ajapnyak:Aragacotn!AH56) -> 0 | AJ56: =E56 -> 3 | AK56: =F56+G56+H56+I56 -> 3 | AL56: =J56 -> 8 | AM56: =K56+L56+M56 -> 8 | AN56: =F56+G56+K56 -> 8 | AO56: =X56+Y56+AA56 -> 8 | AP56: =N56 -> 1 | AQ56: =O56+P56+Q56+R56+S56 -> 1 | AR56: =S56 -> 1 | AS56: =T56+U56+V56 -> 1 | AT56: =X56 -> 1 | AU56: =N56+W56 -> 1 | AV56: =AE56 -> 0 | AW56: =AC56+AD56 -> 0 | AX56: =AH56 -> 0 | AY56: =AF56+AG56 -> 0
A57: 3.6 | B57: Ä³é³Ý·áõÃÛáõÝÝ ÁÝ¹áõÝ»Éáõ µ³ó ÃáÕÝí³Í Å³ÙÏ»ïÁ Ñ³ñ·»ÉÇ Ñ³Ù³ñ»Éáõ í»ñ³µ»ñÛ³É | E57: =SUM(Ajapnyak:Aragacotn!E57) -> 27 | F57: =SUM(Ajapnyak:Aragacotn!F57) -> 1 | G57: =SUM(Ajapnyak:Aragacotn!G57) -> 26 | H57: =SUM(Ajapnyak:Aragacotn!H57) -> 0 | I57: =SUM(Ajapnyak:Aragacotn!I57) -> 0 | J57: =SUM(Ajapnyak:Aragacotn!J57) -> 84 | K57: =SUM(Ajapnyak:Aragacotn!K57) -> 73 | L57: =SUM(Ajapnyak:Aragacotn!L57) -> 11 | ... AH57: =SUM(Ajapnyak:Aragacotn!AH57) -> 3 | AJ57: =E57 -> 27 | AK57: =F57+G57+H57+I57 -> 27 | AL57: =J57 -> 84 | AM57: =K57+L57+M57 -> 84 | AN57: =F57+G57+K57 -> 100 | AO57: =X57+Y57+AA57 -> 100 | AP57: =N57 -> 49 | AQ57: =O57+P57+Q57+R57+S57 -> 49 | AR57: =S57 -> 13 | AS57: =T57+U57+V57 -> 13 | AT57: =X57 -> 53 | AU57: =N57+W57 -> 53 | AV57: =AE57 -> 8 | AW57: =AC57+AD57 -> 8 | AX57: =AH57 -> 3 | AY57: =AF57+AG57 -> 3
A58: 3.7 | B58: ²ÛÉ í»×»ñ | E58: =SUM(Ajapnyak:Aragacotn!E58) -> 204 | F58: =SUM(Ajapnyak:Aragacotn!F58) -> 33 | G58: =SUM(Ajapnyak:Aragacotn!G58) -> 171 | H58: =SUM(Ajapnyak:Aragacotn!H58) -> 0 | I58: =SUM(Ajapnyak:Aragacotn!I58) -> 0 | J58: =SUM(Ajapnyak:Aragacotn!J58) -> 287 | K58: =SUM(Ajapnyak:Aragacotn!K58) -> 226 | L58: =SUM(Ajapnyak:Aragacotn!L58) -> 58 | ... AH58: =SUM(Ajapnyak:Aragacotn!AH58) -> 10 | AJ58: =E58 -> 204 | AK58: =F58+G58+H58+I58 -> 204 | AL58: =J58 -> 287 | AM58: =K58+L58+M58 -> 287 | AN58: =F58+G58+K58 -> 430 | AO58: =X58+Y58+AA58 -> 430 | AP58: =N58 -> 212 | AQ58: =O58+P58+Q58+R58+S58 -> 212 | AR58: =S58 -> 46 | AS58: =T58+U58+V58 -> 46 | AT58: =X58 -> 218 | AU58: =N58+W58 -> 218 | AV58: =AE58 -> 59 | AW58: =AC58+AD58 -> 59 | AX58: =AH58 -> 10 | AY58: =AF58+AG58 -> 10
A59: 4 | B59: ÀÝï³Ý»Ï³Ý Çñ³í³Ñ³ñ³µ»ñáõÃÛáõÝÝ»ñÇ í»ñ³µ»ñÛ³É ¹³ï³Ï³Ý ·áñÍ»ñ | E59: =SUM(Ajapnyak:Aragacotn!E59) -> 1337 | F59: =SUM(Ajapnyak:Aragacotn!F59) -> 111 | G59: =SUM(Ajapnyak:Aragacotn!G59) -> 1225 | H59: =SUM(Ajapnyak:Aragacotn!H59) -> 1 | I59: =SUM(Ajapnyak:Aragacotn!I59) -> 0 | J59: =SUM(Ajapnyak:Aragacotn!J59) -> 3373 | K59: =SUM(Ajapnyak:Aragacotn!K59) -> 3015 | L59: =SUM(Ajapnyak:Aragacotn!L59) -> 339 | ... AH59: =SUM(Ajapnyak:Aragacotn!AH59) -> 45 | AJ59: =SUM(AJ60:AJ72) -> 1337 | AK59: =SUM(AK60:AK72) -> 1337 | AL59: =SUM(AL60:AL72) -> 3373 | AM59: =SUM(AM60:AM72) -> 3369 | AN59: =SUM(AN60:AN72) -> 4351 | AO59: =SUM(AO60:AO72) -> 4341 | AP59: =SUM(AP60:AP72) -> 2848 | AQ59: =SUM(AQ60:AQ72) -> 2848 | ... AY59: =SUM(AY60:AY72) -> 45
A60: 4.1 | B60: ²ÙáõëÝ³ÉáõÍáõÃÛ³Ý í»ñ³µ»ñÛ³É | E60: =SUM(Ajapnyak:Aragacotn!E60) -> 644 | F60: =SUM(Ajapnyak:Aragacotn!F60) -> 26 | G60: =SUM(Ajapnyak:Aragacotn!G60) -> 618 | H60: =SUM(Ajapnyak:Aragacotn!H60) -> 0 | I60: =SUM(Ajapnyak:Aragacotn!I60) -> 0 | J60: =SUM(Ajapnyak:Aragacotn!J60) -> 1747 | K60: =SUM(Ajapnyak:Aragacotn!K60) -> 1556 | L60: =SUM(Ajapnyak:Aragacotn!L60) -> 189 | ... AH60: =SUM(Ajapnyak:Aragacotn!AH60) -> 17 | AJ60: =E60 -> 644 | AK60: =F60+G60+H60+I60 -> 644 | AL60: =J60 -> 1747 | AM60: =K60+L60+M60 -> 1746 | AN60: =F60+G60+K60 -> 2200 | AO60: =X60+Y60+AA60 -> 2198 | AP60: =N60 -> 1483 | AQ60: =O60+P60+Q60+R60+S60 -> 1483 | AR60: =S60 -> 247 | AS60: =T60+U60+V60 -> 247 | AT60: =X60 -> 1485 | AU60: =N60+W60 -> 1485 | AV60: =AE60 -> 76 | AW60: =AC60+AD60 -> 76 | AX60: =AH60 -> 17 | AY60: =AF60+AG60 -> 17
A61: 4.2 | B61: ²ÉÇÙ»ÝïÇ å³Ñ³ÝçÇ í»ñ³µ»ñÛ³É | E61: =SUM(Ajapnyak:Aragacotn!E61) -> 275 | F61: =SUM(Ajapnyak:Aragacotn!F61) -> 34 | G61: =SUM(Ajapnyak:Aragacotn!G61) -> 241 | H61: =SUM(Ajapnyak:Aragacotn!H61) -> 0 | I61: =SUM(Ajapnyak:Aragacotn!I61) -> 0 | J61: =SUM(Ajapnyak:Aragacotn!J61) -> 703 | K61: =SUM(Ajapnyak:Aragacotn!K61) -> 661 | L61: =SUM(Ajapnyak:Aragacotn!L61) -> 40 | ... AH61: =SUM(Ajapnyak:Aragacotn!AH61) -> 6 | AJ61: =E61 -> 275 | AK61: =F61+G61+H61+I61 -> 275 | AL61: =J61 -> 703 | AM61: =K61+L61+M61 -> 702 | AN61: =F61+G61+K61 -> 936 | AO61: =X61+Y61+AA61 -> 932 | AP61: =N61 -> 634 | AQ61: =O61+P61+Q61+R61+S61 -> 634 | AR61: =S61 -> 103 | AS61: =T61+U61+V61 -> 103 | AT61: =X61 -> 634 | AU61: =N61+W61 -> 634 | AV61: =AE61 -> 63 | AW61: =AC61+AD61 -> 63 | AX61: =AH61 -> 6 | AY61: =AF61+AG61 -> 6
A62: 4.3 | B62: ²ÉÇÙ»ÝïÇ ã³÷Á ÷á÷áË»Éáõ í»ñ³µ»ñÛ³É | E62: =SUM(Ajapnyak:Aragacotn!E62) -> 47 | F62: =SUM(Ajapnyak:Aragacotn!F62) -> 4 | G62: =SUM(Ajapnyak:Aragacotn!G62) -> 43 | H62: =SUM(Ajapnyak:Aragacotn!H62) -> 0 | I62: =SUM(Ajapnyak:Aragacotn!I62) -> 0 | J62: =SUM(Ajapnyak:Aragacotn!J62) -> 122 | K62: =SUM(Ajapnyak:Aragacotn!K62) -> 100 | L62: =SUM(Ajapnyak:Aragacotn!L62) -> 20 | ... AH62: =SUM(Ajapnyak:Aragacotn!AH62) -> 3 | AJ62: =E62 -> 47 | AK62: =F62+G62+H62+I62 -> 47 | AL62: =J62 -> 122 | AM62: =K62+L62+M62 -> 121 | AN62: =F62+G62+K62 -> 147 | AO62: =X62+Y62+AA62 -> 147 | AP62: =N62 -> 96 | AQ62: =O62+P62+Q62+R62+S62 -> 96 | AR62: =S62 -> 14 | AS62: =T62+U62+V62 -> 14 | AT62: =X62 -> 96 | AU62: =N62+W62 -> 96 | AV62: =AE62 -> 22 | AW62: =AC62+AD62 -> 22 | AX62: =AH62 -> 3 | AY62: =AF62+AG62 -> 3
A63: 4.4 | B63: ÌÝáÕ³Ï³Ý Çñ³íáõÝùÝ»ñÇó ½ñÏ»Éáõ í»ñ³µ»ñÛ³É | E63: =SUM(Ajapnyak:Aragacotn!E63) -> 17 | F63: =SUM(Ajapnyak:Aragacotn!F63) -> 3 | G63: =SUM(Ajapnyak:Aragacotn!G63) -> 14 | H63: =SUM(Ajapnyak:Aragacotn!H63) -> 0 | I63: =SUM(Ajapnyak:Aragacotn!I63) -> 0 | J63: =SUM(Ajapnyak:Aragacotn!J63) -> 36 | K63: =SUM(Ajapnyak:Aragacotn!K63) -> 30 | L63: =SUM(Ajapnyak:Aragacotn!L63) -> 6 | ... AH63: =SUM(Ajapnyak:Aragacotn!AH63) -> 3 | AJ63: =E63 -> 17 | AK63: =F63+G63+H63+I63 -> 17 | AL63: =J63 -> 36 | AM63: =K63+L63+M63 -> 36 | AN63: =F63+G63+K63 -> 47 | AO63: =X63+Y63+AA63 -> 47 | AP63: =N63 -> 26 | AQ63: =O63+P63+Q63+R63+S63 -> 26 | AR63: =S63 -> 6 | AS63: =T63+U63+V63 -> 6 | AT63: =X63 -> 26 | AU63: =N63+W63 -> 26 | AV63: =AE63 -> 6 | AW63: =AC63+AD63 -> 6 | AX63: =AH63 -> 3 | AY63: =AF63+AG63 -> 3
A64: 4.5 | B64: ÌÝáÕ³Ï³Ý Çñ³íáõÝùÝ»ñÁ í»ñ³Ï³Ý·Ý»Éáõ í»ñ³µ»ñÛ³É | E64: =SUM(Ajapnyak:Aragacotn!E64) -> 1 | F64: =SUM(Ajapnyak:Aragacotn!F64) -> 1 | G64: =SUM(Ajapnyak:Aragacotn!G64) -> 0 | H64: =SUM(Ajapnyak:Aragacotn!H64) -> 0 | I64: =SUM(Ajapnyak:Aragacotn!I64) -> 0 | J64: =SUM(Ajapnyak:Aragacotn!J64) -> 0 | K64: =SUM(Ajapnyak:Aragacotn!K64) -> 0 | L64: =SUM(Ajapnyak:Aragacotn!L64) -> 0 | ... AH64: =SUM(Ajapnyak:Aragacotn!AH64) -> 0 | AJ64: =E64 -> 1 | AK64: =F64+G64+H64+I64 -> 1 | AL64: =J64 -> 0 | AM64: =K64+L64+M64 -> 0 | AN64: =F64+G64+K64 -> 1 | AO64: =X64+Y64+AA64 -> 1 | AP64: =N64 -> 0 | AQ64: =O64+P64+Q64+R64+S64 -> 0 | AR64: =S64 -> 0 | AS64: =T64+U64+V64 -> 0 | AT64: =X64 -> 0 | AU64: =N64+W64 -> 0 | AV64: =AE64 -> 0 | AW64: =AC64+AD64 -> 0 | AX64: =AH64 -> 0 | AY64: =AF64+AG64 -> 0
A65: 4.6 | B65: ºñ»Ë³ÛÇ áñ¹»·ñÙ³Ý í»ñ³µ»ñÛ³É | E65: =SUM(Ajapnyak:Aragacotn!E65) -> 14 | F65: =SUM(Ajapnyak:Aragacotn!F65) -> 0 | G65: =SUM(Ajapnyak:Aragacotn!G65) -> 14 | H65: =SUM(Ajapnyak:Aragacotn!H65) -> 0 | I65: =SUM(Ajapnyak:Aragacotn!I65) -> 0 | J65: =SUM(Ajapnyak:Aragacotn!J65) -> 120 | K65: =SUM(Ajapnyak:Aragacotn!K65) -> 114 | L65: =SUM(Ajapnyak:Aragacotn!L65) -> 6 | ... AH65: =SUM(Ajapnyak:Aragacotn!AH65) -> 2 | AJ65: =E65 -> 14 | AK65: =F65+G65+H65+I65 -> 14 | AL65: =J65 -> 120 | AM65: =K65+L65+M65 -> 120 | AN65: =F65+G65+K65 -> 128 | AO65: =X65+Y65+AA65 -> 128 | AP65: =N65 -> 112 | AQ65: =O65+P65+Q65+R65+S65 -> 112 | AR65: =S65 -> 1 | AS65: =T65+U65+V65 -> 1 | AT65: =X65 -> 112 | AU65: =N65+W65 -> 112 | AV65: =AE65 -> 2 | AW65: =AC65+AD65 -> 2 | AX65: =AH65 -> 2 | AY65: =AF65+AG65 -> 2
A66: 4.7 | B66: ºñ»Ë³ÛÇ áñ¹»·ñáõÙÁ í»ñ³óÝ»Éáõ í»ñ³µ»ñÛ³É | E66: =SUM(Ajapnyak:Aragacotn!E66) -> 7 | F66: =SUM(Ajapnyak:Aragacotn!F66) -> 0 | G66: =SUM(Ajapnyak:Aragacotn!G66) -> 7 | H66: =SUM(Ajapnyak:Aragacotn!H66) -> 0 | I66: =SUM(Ajapnyak:Aragacotn!I66) -> 0 | J66: =SUM(Ajapnyak:Aragacotn!J66) -> 17 | K66: =SUM(Ajapnyak:Aragacotn!K66) -> 14 | L66: =SUM(Ajapnyak:Aragacotn!L66) -> 2 | ... AH66: =SUM(Ajapnyak:Aragacotn!AH66) -> 0 | AJ66: =E66 -> 7 | AK66: =F66+G66+H66+I66 -> 7 | AL66: =J66 -> 17 | AM66: =K66+L66+M66 -> 17 | AN66: =F66+G66+K66 -> 21 | AO66: =X66+Y66+AA66 -> 21 | AP66: =N66 -> 15 | AQ66: =O66+P66+Q66+R66+S66 -> 15 | AR66: =S66 -> 2 | AS66: =T66+U66+V66 -> 2 | AT66: =X66 -> 15 | AU66: =N66+W66 -> 15 | AV66: =AE66 -> 2 | AW66: =AC66+AD66 -> 2 | AX66: =AH66 -> 0 | AY66: =AF66+AG66 -> 0
A67: 4.8 | B67: Ð³ÛñáõÃÛáõÝÁ ×³Ý³ã»Éáõ í»ñ³µ»ñÛ³É | E67: =SUM(Ajapnyak:Aragacotn!E67) -> 73 | F67: =SUM(Ajapnyak:Aragacotn!F67) -> 20 | G67: =SUM(Ajapnyak:Aragacotn!G67) -> 53 | H67: =SUM(Ajapnyak:Aragacotn!H67) -> 0 | I67: =SUM(Ajapnyak:Aragacotn!I67) -> 0 | J67: =SUM(Ajapnyak:Aragacotn!J67) -> 144 | K67: =SUM(Ajapnyak:Aragacotn!K67) -> 130 | L67: =SUM(Ajapnyak:Aragacotn!L67) -> 12 | ... AH67: =SUM(Ajapnyak:Aragacotn!AH67) -> 2 | AJ67: =E67 -> 73 | AK67: =F67+G67+H67+I67 -> 73 | AL67: =J67 -> 144 | AM67: =K67+L67+M67 -> 144 | AN67: =F67+G67+K67 -> 203 | AO67: =X67+Y67+AA67 -> 202 | AP67: =N67 -> 113 | AQ67: =O67+P67+Q67+R67+S67 -> 113 | AR67: =S67 -> 22 | AS67: =T67+U67+V67 -> 22 | AT67: =X67 -> 113 | AU67: =N67+W67 -> 113 | AV67: =AE67 -> 7 | AW67: =AC67+AD67 -> 7 | AX67: =AH67 -> 2 | AY67: =AF67+AG67 -> 2
A68: 4.9 | B68: ºñ»Ë³ÛÇ µÝ³ÏáõÃÛ³Ý í³ÛñÁ áñáß»Éáõ í»ñ³µ»ñÛ³É | E68: =SUM(Ajapnyak:Aragacotn!E68) -> 44 | F68: =SUM(Ajapnyak:Aragacotn!F68) -> 0 | G68: =SUM(Ajapnyak:Aragacotn!G68) -> 44 | H68: =SUM(Ajapnyak:Aragacotn!H68) -> 0 | I68: =SUM(Ajapnyak:Aragacotn!I68) -> 0 | J68: =SUM(Ajapnyak:Aragacotn!J68) -> 138 | K68: =SUM(Ajapnyak:Aragacotn!K68) -> 119 | L68: =SUM(Ajapnyak:Aragacotn!L68) -> 19 | ... AH68: =SUM(Ajapnyak:Aragacotn!AH68) -> 3 | AJ68: =E68 -> 44 | AK68: =F68+G68+H68+I68 -> 44 | AL68: =J68 -> 138 | AM68: =K68+L68+M68 -> 138 | AN68: =F68+G68+K68 -> 163 | AO68: =X68+Y68+AA68 -> 162 | AP68: =N68 -> 89 | AQ68: =O68+P68+Q68+R68+S68 -> 89 | AR68: =S68 -> 32 | AS68: =T68+U68+V68 -> 32 | AT68: =X68 -> 90 | AU68: =N68+W68 -> 90 | AV68: =AE68 -> 16 | AW68: =AC68+AD68 -> 16 | AX68: =AH68 -> 3 | AY68: =AF68+AG68 -> 3
A69: 4.10 | B69: ºñ»Ë³ÛÇ Ñ»ï ï»ë³ÏóáõÃÛ³Ý Ï³ñ· ë³ÑÙ³Ý»Éáõ í»ñ³µ»ñÛ³É | E69: =SUM(Ajapnyak:Aragacotn!E69) -> 108 | F69: =SUM(Ajapnyak:Aragacotn!F69) -> 6 | G69: =SUM(Ajapnyak:Aragacotn!G69) -> 101 | H69: =SUM(Ajapnyak:Aragacotn!H69) -> 1 | I69: =SUM(Ajapnyak:Aragacotn!I69) -> 0 | J69: =SUM(Ajapnyak:Aragacotn!J69) -> 207 | K69: =SUM(Ajapnyak:Aragacotn!K69) -> 180 | L69: =SUM(Ajapnyak:Aragacotn!L69) -> 24 | ... AH69: =SUM(Ajapnyak:Aragacotn!AH69) -> 6 | AJ69: =E69 -> 108 | AK69: =F69+G69+H69+I69 -> 108 | AL69: =J69 -> 207 | AM69: =K69+L69+M69 -> 207 | AN69: =F69+G69+K69 -> 287 | AO69: =X69+Y69+AA69 -> 285 | AP69: =N69 -> 168 | AQ69: =O69+P69+Q69+R69+S69 -> 168 | AR69: =S69 -> 43 | AS69: =T69+U69+V69 -> 43 | AT69: =X69 -> 168 | AU69: =N69+W69 -> 168 | AV69: =AE69 -> 32 | AW69: =AC69+AD69 -> 32 | AX69: =AH69 -> 6 | AY69: =AF69+AG69 -> 6
A70: 4.11 | B70: ²ÙáõëÇÝÝ»ñÇ ÁÝ¹Ñ³Ýáõñ ·áõÛùÁ µ³Å³Ý»Éáõ í»ñ³µ»ñÛ³É | E70: =SUM(Ajapnyak:Aragacotn!E70) -> 48 | F70: =SUM(Ajapnyak:Aragacotn!F70) -> 7 | G70: =SUM(Ajapnyak:Aragacotn!G70) -> 41 | H70: =SUM(Ajapnyak:Aragacotn!H70) -> 0 | I70: =SUM(Ajapnyak:Aragacotn!I70) -> 0 | J70: =SUM(Ajapnyak:Aragacotn!J70) -> 43 | K70: =SUM(Ajapnyak:Aragacotn!K70) -> 40 | L70: =SUM(Ajapnyak:Aragacotn!L70) -> 3 | ... AH70: =SUM(Ajapnyak:Aragacotn!AH70) -> 0 | AJ70: =E70 -> 48 | AK70: =F70+G70+H70+I70 -> 48 | AL70: =J70 -> 43 | AM70: =K70+L70+M70 -> 43 | AN70: =F70+G70+K70 -> 88 | AO70: =X70+Y70+AA70 -> 88 | AP70: =N70 -> 44 | AQ70: =O70+P70+Q70+R70+S70 -> 44 | AR70: =S70 -> 17 | AS70: =T70+U70+V70 -> 17 | AT70: =X70 -> 44 | AU70: =N70+W70 -> 44 | AV70: =AE70 -> 6 | AW70: =AC70+AD70 -> 6 | AX70: =AH70 -> 0 | AY70: =AF70+AG70 -> 0
A71: 4.12 | B71: ²ÙáõëÝ³Ï³Ý å³ÛÙ³Ý³·ñÇ ÷á÷áËÙ³Ý Ï³Ù ÉáõÍÙ³Ý í»ñ³µ»ñÛ³É | E71: =SUM(Ajapnyak:Aragacotn!E71) -> 1 | F71: =SUM(Ajapnyak:Aragacotn!F71) -> 1 | G71: =SUM(Ajapnyak:Aragacotn!G71) -> 0 | H71: =SUM(Ajapnyak:Aragacotn!H71) -> 0 | I71: =SUM(Ajapnyak:Aragacotn!I71) -> 0 | J71: =SUM(Ajapnyak:Aragacotn!J71) -> 0 | K71: =SUM(Ajapnyak:Aragacotn!K71) -> 0 | L71: =SUM(Ajapnyak:Aragacotn!L71) -> 0 | ... AH71: =SUM(Ajapnyak:Aragacotn!AH71) -> 0 | AJ71: =E71 -> 1 | AK71: =F71+G71+H71+I71 -> 1 | AL71: =J71 -> 0 | AM71: =K71+L71+M71 -> 0 | AN71: =F71+G71+K71 -> 1 | AO71: =X71+Y71+AA71 -> 1 | AP71: =N71 -> 0 | AQ71: =O71+P71+Q71+R71+S71 -> 0 | AR71: =S71 -> 0 | AS71: =T71+U71+V71 -> 0 | AT71: =X71 -> 0 | AU71: =N71+W71 -> 0 | AV71: =AE71 -> 0 | AW71: =AC71+AD71 -> 0 | AX71: =AH71 -> 0 | AY71: =AF71+AG71 -> 0
A72: 4.13 | B72: ²ÛÉ í»×»ñ | E72: =SUM(Ajapnyak:Aragacotn!E72) -> 58 | F72: =SUM(Ajapnyak:Aragacotn!F72) -> 9 | G72: =SUM(Ajapnyak:Aragacotn!G72) -> 49 | H72: =SUM(Ajapnyak:Aragacotn!H72) -> 0 | I72: =SUM(Ajapnyak:Aragacotn!I72) -> 0 | J72: =SUM(Ajapnyak:Aragacotn!J72) -> 96 | K72: =SUM(Ajapnyak:Aragacotn!K72) -> 71 | L72: =SUM(Ajapnyak:Aragacotn!L72) -> 18 | ... AH72: =SUM(Ajapnyak:Aragacotn!AH72) -> 3 | AJ72: =E72 -> 58 | AK72: =F72+G72+H72+I72 -> 58 | AL72: =J72 -> 96 | AM72: =K72+L72+M72 -> 95 | AN72: =F72+G72+K72 -> 129 | AO72: =X72+Y72+AA72 -> 129 | AP72: =N72 -> 68 | AQ72: =O72+P72+Q72+R72+S72 -> 68 | AR72: =S72 -> 16 | AS72: =T72+U72+V72 -> 16 | AT72: =X72 -> 68 | AU72: =N72+W72 -> 68 | AV72: =AE72 -> 14 | AW72: =AC72+AD72 -> 14 | AX72: =AH72 -> 3 | AY72: =AF72+AG72 -> 3
A73: 5. | B73: Øï³íáñ ë»÷³Ï³ÝáõÃÛ³Ý Ñ»ï Ï³åí³ÍÇñ³í³Ñ³ñ³µ»ñáõÃÛáõÝÝ»ñÇ í»ñ³µ»ñÛ³É ¹³ï³Ï³Ý ·áñÍ»ñ | E73: =SUM(Ajapnyak:Aragacotn!E73) -> 15 | F73: =SUM(Ajapnyak:Aragacotn!F73) -> 2 | G73: =SUM(Ajapnyak:Aragacotn!G73) -> 13 | H73: =SUM(Ajapnyak:Aragacotn!H73) -> 0 | I73: =SUM(Ajapnyak:Aragacotn!I73) -> 0 | J73: =SUM(Ajapnyak:Aragacotn!J73) -> 10 | K73: =SUM(Ajapnyak:Aragacotn!K73) -> 9 | L73: =SUM(Ajapnyak:Aragacotn!L73) -> 1 | ... AH73: =SUM(Ajapnyak:Aragacotn!AH73) -> 1 | AJ73: =SUM(AJ74:AJ79) -> 15 | AK73: =SUM(AK74:AK79) -> 15 | AL73: =SUM(AL74:AL79) -> 10 | AM73: =SUM(AM74:AM79) -> 10 | AN73: =SUM(AN74:AN79) -> 24 | AO73: =SUM(AO74:AO79) -> 24 | AP73: =SUM(AP74:AP79) -> 12 | AQ73: =SUM(AQ74:AQ79) -> 12 | ... AX73: =SUM(AX74:AX79) -> 1 | AY73: =AF73+AG73 -> 1
A74: 5.1 | B74: ÈÇó»Ý½³ÛÇÝ å³ÛÙ³Ý³·ñÇ ÉáõÍÙ³Ý, ÷á÷áËÙ³Ý ¨ ³Ýí³í»ñáõÃÛ³Ý í»ñ³µ»ñÛ³É | E74: =SUM(Ajapnyak:Aragacotn!E74) -> 0 | F74: =SUM(Ajapnyak:Aragacotn!F74) -> 0 | G74: =SUM(Ajapnyak:Aragacotn!G74) -> 0 | H74: =SUM(Ajapnyak:Aragacotn!H74) -> 0 | I74: =SUM(Ajapnyak:Aragacotn!I74) -> 0 | J74: =SUM(Ajapnyak:Aragacotn!J74) -> 0 | K74: =SUM(Ajapnyak:Aragacotn!K74) -> 0 | L74: =SUM(Ajapnyak:Aragacotn!L74) -> 0 | ... AH74: =SUM(Ajapnyak:Aragacotn!AH74) -> 0 | AJ74: =E74 -> 0 | AK74: =F74+G74+H74+I74 -> 0 | AL74: =J74 -> 0 | AM74: =K74+L74+M74 -> 0 | AN74: =F74+G74+K74 -> 0 | AO74: =X74+Y74+AA74 -> 0 | AP74: =N74 -> 0 | AQ74: =O74+P74+Q74+R74+S74 -> 0 | AR74: =S74 -> 0 | AS74: =T74+U74+V74 -> 0 | AT74: =X74 -> 0 | AU74: =N74+W74 -> 0 | AV74: =AE74 -> 0 | AW74: =AC74+AD74 -> 0 | AX74: =AH74 -> 0 | AY74: =AF74+AG74 -> 0
A75: 5.2 | B75: Øï³íáñ ·áñÍáõÝ»áõÃÛ³Ý ³ñ¹ÛáõÝùÝ»ñ ëï»ÕÍ»Éáõ ¨ û·ï³·áñÍ»Éáõ å³ÛÙ³Ý³·ñÇ ÉáõÍÙ³Ý, ÷á÷áËÙ³Ý áõ ³Ýí³í»ñáõÃÛ³Ý í»ñ³µ»ñÛ³É | E75: =SUM(Ajapnyak:Aragacotn!E75) -> 0 | F75: =SUM(Ajapnyak:Aragacotn!F75) -> 0 | G75: =SUM(Ajapnyak:Aragacotn!G75) -> 0 | H75: =SUM(Ajapnyak:Aragacotn!H75) -> 0 | I75: =SUM(Ajapnyak:Aragacotn!I75) -> 0 | J75: =SUM(Ajapnyak:Aragacotn!J75) -> 0 | K75: =SUM(Ajapnyak:Aragacotn!K75) -> 0 | L75: =SUM(Ajapnyak:Aragacotn!L75) -> 0 | ... AH75: =SUM(Ajapnyak:Aragacotn!AH75) -> 0 | AJ75: =E75 -> 0 | AK75: =F75+G75+H75+I75 -> 0 | AL75: =J75 -> 0 | AM75: =K75+L75+M75 -> 0 | AN75: =F75+G75+K75 -> 0 | AO75: =X75+Y75+AA75 -> 0 | AP75: =N75 -> 0 | AQ75: =O75+P75+Q75+R75+S75 -> 0 | AR75: =S75 -> 0 | AS75: =T75+U75+V75 -> 0 | AT75: =X75 -> 0 | AU75: =N75+W75 -> 0 | AV75: =AE75 -> 0 | AW75: =AC75+AD75 -> 0 | AX75: =AH75 -> 0 | AY75: =AF75+AG75 -> 0
A76: 5.3 | B76: Ð»ÕÇÝ³Ï³ÛÇÝ ¨ Ñ³ñ³ÏÇó Çñ³íáõÝùÝ»ñÇ í»ñ³µ»ñÛ³É | E76: =SUM(Ajapnyak:Aragacotn!E76) -> 7 | F76: =SUM(Ajapnyak:Aragacotn!F76) -> 0 | G76: =SUM(Ajapnyak:Aragacotn!G76) -> 7 | H76: =SUM(Ajapnyak:Aragacotn!H76) -> 0 | I76: =SUM(Ajapnyak:Aragacotn!I76) -> 0 | J76: =SUM(Ajapnyak:Aragacotn!J76) -> 9 | K76: =SUM(Ajapnyak:Aragacotn!K76) -> 8 | L76: =SUM(Ajapnyak:Aragacotn!L76) -> 1 | ... AH76: =SUM(Ajapnyak:Aragacotn!AH76) -> 1 | AJ76: =E76 -> 7 | AK76: =F76+G76+H76+I76 -> 7 | AL76: =J76 -> 9 | AM76: =K76+L76+M76 -> 9 | AN76: =F76+G76+K76 -> 15 | AO76: =X76+Y76+AA76 -> 15 | AP76: =N76 -> 7 | AQ76: =O76+P76+Q76+R76+S76 -> 7 | AR76: =S76 -> 4 | AS76: =T76+U76+V76 -> 4 | AT76: =X76 -> 7 | AU76: =N76+W76 -> 7 | AV76: =AE76 -> 1 | AW76: =AC76+AD76 -> 1 | AX76: =AH76 -> 1 | AY76: =AF76+AG76 -> 1
A77: 5.4 | B77: üÇñÙ³ÛÇÝ ³Ýí³ÝÙ³Ý í»ñ³µ»ñÛ³É | E77: =SUM(Ajapnyak:Aragacotn!E77) -> 0 | F77: =SUM(Ajapnyak:Aragacotn!F77) -> 0 | G77: =SUM(Ajapnyak:Aragacotn!G77) -> 0 | H77: =SUM(Ajapnyak:Aragacotn!H77) -> 0 | I77: =SUM(Ajapnyak:Aragacotn!I77) -> 0 | J77: =SUM(Ajapnyak:Aragacotn!J77) -> 0 | K77: =SUM(Ajapnyak:Aragacotn!K77) -> 0 | L77: =SUM(Ajapnyak:Aragacotn!L77) -> 0 | ... AH77: =SUM(Ajapnyak:Aragacotn!AH77) -> 0 | AJ77: =E77 -> 0 | AK77: =F77+G77+H77+I77 -> 0 | AL77: =J77 -> 0 | AM77: =K77+L77+M77 -> 0 | AN77: =F77+G77+K77 -> 0 | AO77: =X77+Y77+AA77 -> 0 | AP77: =N77 -> 0 | AQ77: =O77+P77+Q77+R77+S77 -> 0 | AR77: =S77 -> 0 | AS77: =T77+U77+V77 -> 0 | AT77: =X77 -> 0 | AU77: =N77+W77 -> 0 | AV77: =AE77 -> 0 | AW77: =AC77+AD77 -> 0 | AX77: =AH77 -> 0 | AY77: =AF77+AG77 -> 0
A78: 5.5 | B78: ²åñ³Ýù³ÛÇÝ Ýß³ÝÇ í»ñ³µ»ñÛ³É | E78: =SUM(Ajapnyak:Aragacotn!E78) -> 7 | F78: =SUM(Ajapnyak:Aragacotn!F78) -> 2 | G78: =SUM(Ajapnyak:Aragacotn!G78) -> 5 | H78: =SUM(Ajapnyak:Aragacotn!H78) -> 0 | I78: =SUM(Ajapnyak:Aragacotn!I78) -> 0 | J78: =SUM(Ajapnyak:Aragacotn!J78) -> 1 | K78: =SUM(Ajapnyak:Aragacotn!K78) -> 1 | L78: =SUM(Ajapnyak:Aragacotn!L78) -> 0 | ... AH78: =SUM(Ajapnyak:Aragacotn!AH78) -> 0 | AJ78: =E78 -> 7 | AK78: =F78+G78+H78+I78 -> 7 | AL78: =J78 -> 1 | AM78: =K78+L78+M78 -> 1 | AN78: =F78+G78+K78 -> 8 | AO78: =X78+Y78+AA78 -> 8 | AP78: =N78 -> 5 | AQ78: =O78+P78+Q78+R78+S78 -> 5 | AR78: =S78 -> 3 | AS78: =T78+U78+V78 -> 3 | AT78: =X78 -> 5 | AU78: =N78+W78 -> 5 | AV78: =AE78 -> 1 | AW78: =AC78+AD78 -> 1 | AX78: =AH78 -> 0 | AY78: =AF78+AG78 -> 0
A79: 5.6 | B79: ²ÛÉ í»×»ñ | E79: =SUM(Ajapnyak:Aragacotn!E79) -> 1 | F79: =SUM(Ajapnyak:Aragacotn!F79) -> 0 | G79: =SUM(Ajapnyak:Aragacotn!G79) -> 1 | H79: =SUM(Ajapnyak:Aragacotn!H79) -> 0 | I79: =SUM(Ajapnyak:Aragacotn!I79) -> 0 | J79: =SUM(Ajapnyak:Aragacotn!J79) -> 0 | K79: =SUM(Ajapnyak:Aragacotn!K79) -> 0 | L79: =SUM(Ajapnyak:Aragacotn!L79) -> 0 | ... AH79: =SUM(Ajapnyak:Aragacotn!AH79) -> 0 | AJ79: =E79 -> 1 | AK79: =F79+G79+H79+I79 -> 1 | AL79: =J79 -> 0 | AM79: =K79+L79+M79 -> 0 | AN79: =F79+G79+K79 -> 1 | AO79: =X79+Y79+AA79 -> 1 | AP79: =N79 -> 0 | AQ79: =O79+P79+Q79+R79+S79 -> 0 | AR79: =S79 -> 0 | AS79: =T79+U79+V79 -> 0 | AT79: =X79 -> 0 | AU79: =N79+W79 -> 0 | AV79: =AE79 -> 0 | AW79: =AC79+AD79 -> 0 | AX79: =AH79 -> 0 | AY79: =AF79+AG79 -> 0
A80: 6. | B80: ²ßË³ï³Ýù³ÛÇÝ Çñ³í³Ñ³ñ³µ»ñáõÃÛáõÝÝ»ñÇ í»ñ³µ»ñÛ³É ¹³ï³Ï³Ý ·áñÍ»ñ | E80: =SUM(Ajapnyak:Aragacotn!E80) -> 170 | F80: =SUM(Ajapnyak:Aragacotn!F80) -> 19 | G80: =SUM(Ajapnyak:Aragacotn!G80) -> 150 | H80: =SUM(Ajapnyak:Aragacotn!H80) -> 1 | I80: =SUM(Ajapnyak:Aragacotn!I80) -> 0 | J80: =SUM(Ajapnyak:Aragacotn!J80) -> 415 | K80: =SUM(Ajapnyak:Aragacotn!K80) -> 386 | L80: =SUM(Ajapnyak:Aragacotn!L80) -> 27 | ... AH80: =SUM(Ajapnyak:Aragacotn!AH80) -> 13 | AJ80: =SUM(AJ81:AJ86) -> 170 | AK80: =SUM(AK81:AK86) -> 170 | AL80: =SUM(AL81:AL86) -> 415 | AM80: =SUM(AM81:AM86) -> 415 | AN80: =SUM(AN81:AN86) -> 555 | AO80: =SUM(AO81:AO86) -> 447 | AP80: =SUM(AP81:AP86) -> 270 | AQ80: =SUM(AQ81:AQ86) -> 270 | ... AY80: =SUM(AY81:AY86) -> 13
A81: 6.1 | B81: ²ßË³ï³Ýù³ÛÇÝ å³ÛÙ³Ý³·ñ»ñÇ í»ñ³µ»ñÛ³É | E81: =SUM(Ajapnyak:Aragacotn!E81) -> 14 | F81: =SUM(Ajapnyak:Aragacotn!F81) -> 0 | G81: =SUM(Ajapnyak:Aragacotn!G81) -> 14 | H81: =SUM(Ajapnyak:Aragacotn!H81) -> 0 | I81: =SUM(Ajapnyak:Aragacotn!I81) -> 0 | J81: =SUM(Ajapnyak:Aragacotn!J81) -> 9 | K81: =SUM(Ajapnyak:Aragacotn!K81) -> 8 | L81: =SUM(Ajapnyak:Aragacotn!L81) -> 1 | ... AH81: =SUM(Ajapnyak:Aragacotn!AH81) -> 0 | AJ81: =E81 -> 14 | AK81: =F81+G81+H81+I81 -> 14 | AL81: =J81 -> 9 | AM81: =K81+L81+M81 -> 9 | AN81: =F81+G81+K81 -> 22 | AO81: =X81+Y81+AA81 -> 22 | AP81: =N81 -> 14 | AQ81: =O81+P81+Q81+R81+S81 -> 14 | AR81: =S81 -> 0 | AS81: =T81+U81+V81 -> 0 | AT81: =X81 -> 14 | AU81: =N81+W81 -> 14 | AV81: =AE81 -> 6 | AW81: =AC81+AD81 -> 6 | AX81: =AH81 -> 0 | AY81: =AF81+AG81 -> 0
A82: 6.2 | B82: ²ßË³ï³ÝùáõÙ í»ñ³Ï³Ý·Ý»Éáõ í»ñ³µ»ñÛ³É | E82: =SUM(Ajapnyak:Aragacotn!E82) -> 58 | F82: =SUM(Ajapnyak:Aragacotn!F82) -> 5 | G82: =SUM(Ajapnyak:Aragacotn!G82) -> 53 | H82: =SUM(Ajapnyak:Aragacotn!H82) -> 0 | I82: =SUM(Ajapnyak:Aragacotn!I82) -> 0 | J82: =SUM(Ajapnyak:Aragacotn!J82) -> 74 | K82: =SUM(Ajapnyak:Aragacotn!K82) -> 67 | L82: =SUM(Ajapnyak:Aragacotn!L82) -> 7 | ... AH82: =SUM(Ajapnyak:Aragacotn!AH82) -> 3 | AJ82: =E82 -> 58 | AK82: =F82+G82+H82+I82 -> 58 | AL82: =J82 -> 74 | AM82: =K82+L82+M82 -> 74 | AN82: =F82+G82+K82 -> 125 | AO82: =X82+Y82+AA82 -> 125 | AP82: =N82 -> 72 | AQ82: =O82+P82+Q82+R82+S82 -> 72 | AR82: =S82 -> 15 | AS82: =T82+U82+V82 -> 15 | AT82: =X82 -> 72 | AU82: =N82+W82 -> 72 | AV82: =AE82 -> 37 | AW82: =AC82+AD82 -> 37 | AX82: =AH82 -> 3 | AY82: =AF82+AG82 -> 3
A83: 6.3 | B83: ¶áñÍ³¹áõÉÝ ³ÝûñÇÝ³Ï³Ý ×³Ý³ã»Éáõ í»ñ³µ»ñÛ³É | E83: =SUM(Ajapnyak:Aragacotn!E83) -> 0 | F83: =SUM(Ajapnyak:Aragacotn!F83) -> 0 | G83: =SUM(Ajapnyak:Aragacotn!G83) -> 0 | H83: =SUM(Ajapnyak:Aragacotn!H83) -> 0 | I83: =SUM(Ajapnyak:Aragacotn!I83) -> 0 | J83: =SUM(Ajapnyak:Aragacotn!J83) -> 0 | K83: =SUM(Ajapnyak:Aragacotn!K83) -> 0 | L83: =SUM(Ajapnyak:Aragacotn!L83) -> 0 | ... AH83: =SUM(Ajapnyak:Aragacotn!AH83) -> 0 | AJ83: =E83 -> 0 | AK83: =F83+G83+H83+I83 -> 0 | AL83: =J83 -> 0 | AM83: =K83+L83+M83 -> 0 | AN83: =F83+G83+K83 -> 0 | AO83: =X83+Y83+AA83 -> 0 | AP83: =N83 -> 0 | AQ83: =O83+P83+Q83+R83+S83 -> 0 | AR83: =S83 -> 0 | AS83: =T83+U83+V83 -> 0 | AT83: =X83 -> 0 | AU83: =N83+W83 -> 0 | AV83: =AE83 -> 0 | AW83: =AC83+AD83 -> 0 | AX83: =AH83 -> 0 | AY83: =AF83+AG83 -> 0
A84: 6.4 | B84: Ð³ñÏ³¹Çñ å³ñ³åáõñ¹Ç Ñ³ïáõóÙ³Ý í»ñ³µ»ñÛ³É | E84: =SUM(Ajapnyak:Aragacotn!E84) -> 1 | F84: =SUM(Ajapnyak:Aragacotn!F84) -> 1 | G84: =SUM(Ajapnyak:Aragacotn!G84) -> 0 | H84: =SUM(Ajapnyak:Aragacotn!H84) -> 0 | I84: =SUM(Ajapnyak:Aragacotn!I84) -> 0 | J84: =SUM(Ajapnyak:Aragacotn!J84) -> 2 | K84: =SUM(Ajapnyak:Aragacotn!K84) -> 2 | L84: =SUM(Ajapnyak:Aragacotn!L84) -> 0 | ... AH84: =SUM(Ajapnyak:Aragacotn!AH84) -> 1 | AJ84: =E84 -> 1 | AK84: =F84+G84+H84+I84 -> 1 | AL84: =J84 -> 2 | AM84: =K84+L84+M84 -> 2 | AN84: =F84+G84+K84 -> 3 | AO84: =X84+Y84+AA84 -> 3 | AP84: =N84 -> 1 | AQ84: =O84+P84+Q84+R84+S84 -> 1 | AR84: =S84 -> 1 | AS84: =T84+U84+V84 -> 1 | AT84: =X84 -> 1 | AU84: =N84+W84 -> 1 | AV84: =AE84 -> 1 | AW84: =AC84+AD84 -> 1 | AX84: =AH84 -> 1 | AY84: =AF84+AG84 -> 1
A85: 6.5 | B85: âí×³ñí³Í ³ßË³ï³í³ñÓÇ ¨/Ï³Ù ³ÛÉ í×³ñÝ»ñÇ µéÝ³·³ÝÓÙ³Ý í»ñ³µ»ñÛ³É | E85: =SUM(Ajapnyak:Aragacotn!E85) -> 74 | F85: =SUM(Ajapnyak:Aragacotn!F85) -> 12 | G85: =SUM(Ajapnyak:Aragacotn!G85) -> 61 | H85: =SUM(Ajapnyak:Aragacotn!H85) -> 1 | I85: =SUM(Ajapnyak:Aragacotn!I85) -> 0 | J85: =SUM(Ajapnyak:Aragacotn!J85) -> 272 | K85: =SUM(Ajapnyak:Aragacotn!K85) -> 263 | L85: =SUM(Ajapnyak:Aragacotn!L85) -> 8 | ... AH85: =SUM(Ajapnyak:Aragacotn!AH85) -> 5 | AJ85: =E85 -> 74 | AK85: =F85+G85+H85+I85 -> 74 | AL85: =J85 -> 272 | AM85: =K85+L85+M85 -> 272 | AN85: =F85+G85+K85 -> 336 | AO85: =X85+Y85+AA85 -> 228 | AP85: =N85 -> 150 | AQ85: =O85+P85+Q85+R85+S85 -> 150 | AR85: =S85 -> 58 | AS85: =T85+U85+V85 -> 58 | AT85: =X85 -> 150 | AU85: =N85+W85 -> 150 | AV85: =AE85 -> 13 | AW85: =AC85+AD85 -> 13 | AX85: =AH85 -> 5 | AY85: =AF85+AG85 -> 5
A86: 6.6 | B86: ²ÛÉ í»×»ñ | E86: =SUM(Ajapnyak:Aragacotn!E86) -> 23 | F86: =SUM(Ajapnyak:Aragacotn!F86) -> 1 | G86: =SUM(Ajapnyak:Aragacotn!G86) -> 22 | H86: =SUM(Ajapnyak:Aragacotn!H86) -> 0 | I86: =SUM(Ajapnyak:Aragacotn!I86) -> 0 | J86: =SUM(Ajapnyak:Aragacotn!J86) -> 58 | K86: =SUM(Ajapnyak:Aragacotn!K86) -> 46 | L86: =SUM(Ajapnyak:Aragacotn!L86) -> 11 | ... AH86: =SUM(Ajapnyak:Aragacotn!AH86) -> 4 | AJ86: =E86 -> 23 | AK86: =F86+G86+H86+I86 -> 23 | AL86: =J86 -> 58 | AM86: =K86+L86+M86 -> 58 | AN86: =F86+G86+K86 -> 69 | AO86: =X86+Y86+AA86 -> 69 | AP86: =N86 -> 33 | AQ86: =O86+P86+Q86+R86+S86 -> 33 | AR86: =S86 -> 7 | AS86: =T86+U86+V86 -> 7 | AT86: =X86 -> 33 | AU86: =N86+W86 -> 33 | AV86: =AE86 -> 19 | AW86: =AC86+AD86 -> 19 | AX86: =AH86 -> 4 | AY86: =AF86+AG86 -> 4
A87: 7. | B87: Æñ³í³µ³Ý³Ï³Ý ³ÝÓÇ ·áñÍáõÝ»áõÃÛáõÝÇó µËáÕ Çñ³í³Ñ³ñ³µ»ñáõÃÛáõÝÝ»ñÇ í»ñ³µ»ñÛ³É ¹³ï³Ï³Ý ·áñÍ»ñ | E87: =SUM(Ajapnyak:Aragacotn!E87) -> 7 | F87: =SUM(Ajapnyak:Aragacotn!F87) -> 2 | G87: =SUM(Ajapnyak:Aragacotn!G87) -> 5 | H87: =SUM(Ajapnyak:Aragacotn!H87) -> 0 | I87: =SUM(Ajapnyak:Aragacotn!I87) -> 0 | J87: =SUM(Ajapnyak:Aragacotn!J87) -> 9 | K87: =SUM(Ajapnyak:Aragacotn!K87) -> 8 | L87: =SUM(Ajapnyak:Aragacotn!L87) -> 1 | ... AH87: =SUM(Ajapnyak:Aragacotn!AH87) -> 1 | AI87: =AI88+AI89 -> 0 | AJ87: =SUM(AJ88:AJ89) -> 7 | AK87: =SUM(AK88:AK89) -> 7 | AL87: =SUM(AL88:AL89) -> 9 | AM87: =SUM(AM88:AM89) -> 9 | AN87: =SUM(AN88:AN89) -> 15 | AO87: =SUM(AO88:AO89) -> 15 | AP87: =SUM(AP88:AP89) -> 7 | AQ87: =SUM(AQ88:AQ89) -> 7 | ... AY87: =SUM(AY88:AY89) -> 1
A88: 7.1 | B88: Îáñåáñ³ïÇí í»×»ñ | E88: =SUM(Ajapnyak:Aragacotn!E88) -> 1 | F88: =SUM(Ajapnyak:Aragacotn!F88) -> 1 | G88: =SUM(Ajapnyak:Aragacotn!G88) -> 0 | H88: =SUM(Ajapnyak:Aragacotn!H88) -> 0 | I88: =SUM(Ajapnyak:Aragacotn!I88) -> 0 | J88: =SUM(Ajapnyak:Aragacotn!J88) -> 2 | K88: =SUM(Ajapnyak:Aragacotn!K88) -> 2 | L88: =SUM(Ajapnyak:Aragacotn!L88) -> 0 | ... AH88: =SUM(Ajapnyak:Aragacotn!AH88) -> 0 | AJ88: =E88 -> 1 | AK88: =F88+G88+H88+I88 -> 1 | AL88: =J88 -> 2 | AM88: =K88+L88+M88 -> 2 | AN88: =F88+G88+K88 -> 3 | AO88: =X88+Y88+AA88 -> 3 | AP88: =N88 -> 0 | AQ88: =O88+P88+Q88+R88+S88 -> 0 | AR88: =S88 -> 0 | AS88: =T88+U88+V88 -> 0 | AT88: =X88 -> 0 | AU88: =N88+W88 -> 0 | AV88: =AE88 -> 0 | AW88: =AC88+AD88 -> 0 | AX88: =AH88 -> 0 | AY88: =AF88+AG88 -> 0
A89: 7.2 | B89: ²ÛÉ í»×»ñ | E89: =SUM(Ajapnyak:Aragacotn!E89) -> 6 | F89: =SUM(Ajapnyak:Aragacotn!F89) -> 1 | G89: =SUM(Ajapnyak:Aragacotn!G89) -> 5 | H89: =SUM(Ajapnyak:Aragacotn!H89) -> 0 | I89: =SUM(Ajapnyak:Aragacotn!I89) -> 0 | J89: =SUM(Ajapnyak:Aragacotn!J89) -> 7 | K89: =SUM(Ajapnyak:Aragacotn!K89) -> 6 | L89: =SUM(Ajapnyak:Aragacotn!L89) -> 1 | ... AH89: =SUM(Ajapnyak:Aragacotn!AH89) -> 1 | AJ89: =E89 -> 6 | AK89: =F89+G89+H89+I89 -> 6 | AL89: =J89 -> 7 | AM89: =K89+L89+M89 -> 7 | AN89: =F89+G89+K89 -> 12 | AO89: =X89+Y89+AA89 -> 12 | AP89: =N89 -> 7 | AQ89: =O89+P89+Q89+R89+S89 -> 7 | AR89: =S89 -> 0 | AS89: =T89+U89+V89 -> 0 | AT89: =X89 -> 7 | AU89: =N89+W89 -> 7 | AV89: =AE89 -> 1 | AW89: =AC89+AD89 -> 1 | AX89: =AH89 -> 1 | AY89: =AF89+AG89 -> 1
A90: 8. | B90: Ð³ïáõÏ í³ñáõÛÃÇ ¹³ï³Ï³Ý ·áñÍ»ñ | E90: =SUM(Ajapnyak:Aragacotn!E90) -> 913 | F90: =SUM(Ajapnyak:Aragacotn!F90) -> 156 | G90: =SUM(Ajapnyak:Aragacotn!G90) -> 757 | H90: =SUM(Ajapnyak:Aragacotn!H90) -> 0 | I90: =SUM(Ajapnyak:Aragacotn!I90) -> 0 | J90: =SUM(Ajapnyak:Aragacotn!J90) -> 3396 | K90: =SUM(Ajapnyak:Aragacotn!K90) -> 2904 | L90: =SUM(Ajapnyak:Aragacotn!L90) -> 434 | ... AH90: =SUM(Ajapnyak:Aragacotn!AH90) -> 22 | AJ90: =SUM(AJ91:AJ111) -> 913 | AK90: =SUM(AK91:AK111) -> 913 | AL90: =SUM(AL91:AL111) -> 3396 | AM90: =SUM(AM91:AM111) -> 3396 | AN90: =SUM(AN91:AN111) -> 3817 | AO90: =SUM(AO91:AO111) -> 3816 | AP90: =SUM(AP91:AP111) -> 2815 | AQ90: =SUM(AQ91:AQ111) -> 2815 | ... AY90: =SUM(AY91:AY111) -> 22
A91: 8.1 | B91: ²Ýã³÷³Ñ³ëÇÝ ÉñÇí ·áñÍáõÝ³Ï ×³Ý³ã»Éáõ /¿Ù³ÝëÇå³óÇ³/ í»ñ³µ»ñÛ³É | E91: =SUM(Ajapnyak:Aragacotn!E91) -> 0 | F91: =SUM(Ajapnyak:Aragacotn!F91) -> 0 | G91: =SUM(Ajapnyak:Aragacotn!G91) -> 0 | H91: =SUM(Ajapnyak:Aragacotn!H91) -> 0 | I91: =SUM(Ajapnyak:Aragacotn!I91) -> 0 | J91: =SUM(Ajapnyak:Aragacotn!J91) -> 0 | K91: =SUM(Ajapnyak:Aragacotn!K91) -> 0 | L91: =SUM(Ajapnyak:Aragacotn!L91) -> 0 | ... AH91: =SUM(Ajapnyak:Aragacotn!AH91) -> 0 | AJ91: =E91 -> 0 | AK91: =F91+G91+H91+I91 -> 0 | AL91: =J91 -> 0 | AM91: =K91+L91+M91 -> 0 | AN91: =F91+G91+K91 -> 0 | AO91: =X91+Y91+AA91 -> 0 | AP91: =N91 -> 0 | AQ91: =O91+P91+Q91+R91+S91 -> 0 | AR91: =S91 -> 0 | AS91: =T91+U91+V91 -> 0 | AT91: =X91 -> 0 | AU91: =N91+W91 -> 0 | AV91: =AE91 -> 0 | AW91: =AC91+AD91 -> 0 | AX91: =AH91 -> 0 | AY91: =AF91+AG91 -> 0
A92: 8.2 | B92: ø³Õ³ù³óáõÝ ³Ý·áñÍáõÝ³Ï Ï³Ù ë³ÑÙ³Ý³÷³Ï ·áñÍáõÝ³Ï ×³Ý³ã»Éáõ í»ñ³µ»ñÛ³É | E92: =SUM(Ajapnyak:Aragacotn!E92) -> 221 | F92: =SUM(Ajapnyak:Aragacotn!F92) -> 126 | G92: =SUM(Ajapnyak:Aragacotn!G92) -> 95 | H92: =SUM(Ajapnyak:Aragacotn!H92) -> 0 | I92: =SUM(Ajapnyak:Aragacotn!I92) -> 0 | J92: =SUM(Ajapnyak:Aragacotn!J92) -> 245 | K92: =SUM(Ajapnyak:Aragacotn!K92) -> 215 | L92: =SUM(Ajapnyak:Aragacotn!L92) -> 25 | ... AH92: =SUM(Ajapnyak:Aragacotn!AH92) -> 2 | AJ92: =E92 -> 221 | AK92: =F92+G92+H92+I92 -> 221 | AL92: =J92 -> 245 | AM92: =K92+L92+M92 -> 245 | AN92: =F92+G92+K92 -> 436 | AO92: =X92+Y92+AA92 -> 436 | AP92: =N92 -> 189 | AQ92: =O92+P92+Q92+R92+S92 -> 189 | AR92: =S92 -> 43 | AS92: =T92+U92+V92 -> 43 | AT92: =X92 -> 189 | AU92: =N92+W92 -> 189 | AV92: =AE92 -> 6 | AW92: =AC92+AD92 -> 6 | AX92: =AH92 -> 2 | AY92: =AF92+AG92 -> 2
A93: 8.3 | B93: ø³Õ³ù³óáõÝ Ñá·»µáõÅ³Ï³Ý ÑÇí³Ý¹³Ýáó³ÛÇÝ Ñ³ñÏ³¹Çñ µáõÅÙ³Ý »ÝÃ³ñÏ»Éáõ í»ñ³µ»ñÛ³É | E93: =SUM(Ajapnyak:Aragacotn!E93) -> 0 | F93: =SUM(Ajapnyak:Aragacotn!F93) -> 0 | G93: =SUM(Ajapnyak:Aragacotn!G93) -> 0 | H93: =SUM(Ajapnyak:Aragacotn!H93) -> 0 | I93: =SUM(Ajapnyak:Aragacotn!I93) -> 0 | J93: =SUM(Ajapnyak:Aragacotn!J93) -> 59 | K93: =SUM(Ajapnyak:Aragacotn!K93) -> 55 | L93: =SUM(Ajapnyak:Aragacotn!L93) -> 3 | ... AH93: =SUM(Ajapnyak:Aragacotn!AH93) -> 0 | AJ93: =E93 -> 0 | AK93: =F93+G93+H93+I93 -> 0 | AL93: =J93 -> 59 | AM93: =K93+L93+M93 -> 59 | AN93: =F93+G93+K93 -> 55 | AO93: =X93+Y93+AA93 -> 56 | AP93: =N93 -> 53 | AQ93: =O93+P93+Q93+R93+S93 -> 53 | AR93: =S93 -> 7 | AS93: =T93+U93+V93 -> 7 | AT93: =X93 -> 53 | AU93: =N93+W93 -> 53 | AV93: =AE93 -> 1 | AW93: =AC93+AD93 -> 1 | AX93: =AH93 -> 0 | AY93: =AF93+AG93 -> 0
A94: 8.4 | B94: ø³Õ³ù³óáõÝ ³ÝÑ³Ûï µ³ó³Ï³ÛáÕ Ï³Ù Ù³Ñ³ó³Í ×³Ý³ã»Éáõ í»ñ³µ»ñÛ³É | E94: =SUM(Ajapnyak:Aragacotn!E94) -> 104 | F94: =SUM(Ajapnyak:Aragacotn!F94) -> 7 | G94: =SUM(Ajapnyak:Aragacotn!G94) -> 97 | H94: =SUM(Ajapnyak:Aragacotn!H94) -> 0 | I94: =SUM(Ajapnyak:Aragacotn!I94) -> 0 | J94: =SUM(Ajapnyak:Aragacotn!J94) -> 281 | K94: =SUM(Ajapnyak:Aragacotn!K94) -> 256 | L94: =SUM(Ajapnyak:Aragacotn!L94) -> 24 | ... AH94: =SUM(Ajapnyak:Aragacotn!AH94) -> 2 | AJ94: =E94 -> 104 | AK94: =F94+G94+H94+I94 -> 104 | AL94: =J94 -> 281 | AM94: =K94+L94+M94 -> 281 | AN94: =F94+G94+K94 -> 360 | AO94: =X94+Y94+AA94 -> 360 | AP94: =N94 -> 248 | AQ94: =O94+P94+Q94+R94+S94 -> 248 | AR94: =S94 -> 30 | AS94: =T94+U94+V94 -> 30 | AT94: =X94 -> 248 | AU94: =N94+W94 -> 248 | AV94: =AE94 -> 4 | AW94: =AC94+AD94 -> 4 | AX94: =AH94 -> 2 | AY94: =AF94+AG94 -> 2
A95: 8.5 | B95: ø³Õ³ù³óÇ³Ï³Ý Ï³óáõÃÛ³Ý ³Ïï»ñÇ ·ñ³éáõÙÝ»ñÇ ³Ý×ßïáõÃÛáõÝÝ»ñÁ å³ñ½»Éáõ í»ñ³µ»ñÛ³É | E95: =SUM(Ajapnyak:Aragacotn!E95) -> 1 | F95: =SUM(Ajapnyak:Aragacotn!F95) -> 0 | G95: =SUM(Ajapnyak:Aragacotn!G95) -> 1 | H95: =SUM(Ajapnyak:Aragacotn!H95) -> 0 | I95: =SUM(Ajapnyak:Aragacotn!I95) -> 0 | J95: =SUM(Ajapnyak:Aragacotn!J95) -> 10 | K95: =SUM(Ajapnyak:Aragacotn!K95) -> 7 | L95: =SUM(Ajapnyak:Aragacotn!L95) -> 1 | ... AH95: =SUM(Ajapnyak:Aragacotn!AH95) -> 0 | AJ95: =E95 -> 1 | AK95: =F95+G95+H95+I95 -> 1 | AL95: =J95 -> 10 | AM95: =K95+L95+M95 -> 10 | AN95: =F95+G95+K95 -> 8 | AO95: =X95+Y95+AA95 -> 7 | AP95: =N95 -> 3 | AQ95: =O95+P95+Q95+R95+S95 -> 3 | AR95: =S95 -> 0 | AS95: =T95+U95+V95 -> 0 | AT95: =X95 -> 4 | AU95: =N95+W95 -> 4 | AV95: =AE95 -> 1 | AW95: =AC95+AD95 -> 1 | AX95: =AH95 -> 0 | AY95: =AF95+AG95 -> 0
A96: 8.6 | B96: ¶áõÛùÁ ïÇñ³½áõñÏ ×³Ý³ã»Éáõ í»ñ³µ»ñÛ³É | E96: =SUM(Ajapnyak:Aragacotn!E96) -> 38 | F96: =SUM(Ajapnyak:Aragacotn!F96) -> 1 | G96: =SUM(Ajapnyak:Aragacotn!G96) -> 37 | H96: =SUM(Ajapnyak:Aragacotn!H96) -> 0 | I96: =SUM(Ajapnyak:Aragacotn!I96) -> 0 | J96: =SUM(Ajapnyak:Aragacotn!J96) -> 72 | K96: =SUM(Ajapnyak:Aragacotn!K96) -> 64 | L96: =SUM(Ajapnyak:Aragacotn!L96) -> 8 | ... AH96: =SUM(Ajapnyak:Aragacotn!AH96) -> 3 | AJ96: =E96 -> 38 | AK96: =F96+G96+H96+I96 -> 38 | AL96: =J96 -> 72 | AM96: =K96+L96+M96 -> 72 | AN96: =F96+G96+K96 -> 102 | AO96: =X96+Y96+AA96 -> 102 | AP96: =N96 -> 74 | AQ96: =O96+P96+Q96+R96+S96 -> 74 | AR96: =S96 -> 9 | AS96: =T96+U96+V96 -> 9 | AT96: =X96 -> 76 | AU96: =N96+W96 -> 76 | AV96: =AE96 -> 10 | AW96: =AC96+AD96 -> 10 | AX96: =AH96 -> 3 | AY96: =AF96+AG96 -> 3
A97: 8.6.1 | B97: ²Û¹ ÃíáõÙª ³Ýß³ñÅ ·áõÛùÁ | E97: =SUM(Ajapnyak:Aragacotn!E97) -> 22 | F97: =SUM(Ajapnyak:Aragacotn!F97) -> 1 | G97: =SUM(Ajapnyak:Aragacotn!G97) -> 21 | H97: =SUM(Ajapnyak:Aragacotn!H97) -> 0 | I97: =SUM(Ajapnyak:Aragacotn!I97) -> 0 | J97: =SUM(Ajapnyak:Aragacotn!J97) -> 26 | K97: =SUM(Ajapnyak:Aragacotn!K97) -> 21 | L97: =SUM(Ajapnyak:Aragacotn!L97) -> 5 | ... AH97: =SUM(Ajapnyak:Aragacotn!AH97) -> 0 | AJ97: =E97 -> 22 | AK97: =F97+G97+H97+I97 -> 22 | AL97: =J97 -> 26 | AM97: =K97+L97+M97 -> 26 | AN97: =F97+G97+K97 -> 43 | AO97: =X97+Y97+AA97 -> 43 | AP97: =N97 -> 22 | AQ97: =O97+P97+Q97+R97+S97 -> 22 | AR97: =S97 -> 8 | AS97: =T97+U97+V97 -> 8 | AT97: =X97 -> 24 | AU97: =N97+W97 -> 24 | AV97: =AE97 -> 3 | AW97: =AC97+AD97 -> 3 | AX97: =AH97 -> 0 | AY97: =AF97+AG97 -> 0
A98: 8.6.2 | B98: ²Û¹ ÃíáõÙª ß³ñÅ³Ï³Ý ·áõÛùÁ | E98: =SUM(Ajapnyak:Aragacotn!E98) -> 1 | F98: =SUM(Ajapnyak:Aragacotn!F98) -> 1 | G98: =SUM(Ajapnyak:Aragacotn!G98) -> 0 | H98: =SUM(Ajapnyak:Aragacotn!H98) -> 0 | I98: =SUM(Ajapnyak:Aragacotn!I98) -> 0 | J98: =SUM(Ajapnyak:Aragacotn!J98) -> 10 | K98: =SUM(Ajapnyak:Aragacotn!K98) -> 6 | L98: =SUM(Ajapnyak:Aragacotn!L98) -> 4 | ... AH98: =SUM(Ajapnyak:Aragacotn!AH98) -> 1 | AJ98: =E98 -> 1 | AK98: =F98+G98+H98+I98 -> 1 | AL98: =J98 -> 10 | AM98: =K98+L98+M98 -> 10 | AN98: =F98+G98+K98 -> 7 | AO98: =X98+Y98+AA98 -> 7 | AP98: =N98 -> 2 | AQ98: =O98+P98+Q98+R98+S98 -> 2 | AR98: =S98 -> 0 | AS98: =T98+U98+V98 -> 0 | AT98: =X98 -> 2 | AU98: =N98+W98 -> 2 | AV98: =AE98 -> 1 | AW98: =AC98+AD98 -> 1 | AX98: =AH98 -> 1 | AY98: =AF98+AG98 -> 1
A99: 8.7 | B99: Æñ³í³µ³Ý³Ï³Ý Ýß³Ý³ÏáõÃÛáõÝ áõÝ»óáÕ ÷³ëï»ñÇ Ñ³ëï³ïÙ³Ý í»ñ³µ»ñÛ³É | E99: =SUM(Ajapnyak:Aragacotn!E99) -> 127 | F99: =SUM(Ajapnyak:Aragacotn!F99) -> 6 | G99: =SUM(Ajapnyak:Aragacotn!G99) -> 121 | H99: =SUM(Ajapnyak:Aragacotn!H99) -> 0 | I99: =SUM(Ajapnyak:Aragacotn!I99) -> 0 | J99: =SUM(Ajapnyak:Aragacotn!J99) -> 374 | K99: =SUM(Ajapnyak:Aragacotn!K99) -> 302 | L99: =SUM(Ajapnyak:Aragacotn!L99) -> 61 | ... AH99: =SUM(Ajapnyak:Aragacotn!AH99) -> 2 | AJ99: =E99 -> 127 | AK99: =F99+G99+H99+I99 -> 127 | AL99: =J99 -> 374 | AM99: =K99+L99+M99 -> 374 | AN99: =F99+G99+K99 -> 429 | AO99: =X99+Y99+AA99 -> 428 | AP99: =N99 -> 347 | AQ99: =O99+P99+Q99+R99+S99 -> 347 | AR99: =S99 -> 27 | AS99: =T99+U99+V99 -> 27 | AT99: =X99 -> 352 | AU99: =N99+W99 -> 352 | AV99: =AE99 -> 21 | AW99: =AC99+AD99 -> 21 | AX99: =AH99 -> 2 | AY99: =AF99+AG99 -> 2
A100: 8.7.1 | B100: ²ÝÓ³Ýó ³½·³Ïó³Ï³Ý Ï³åÁ Ñ³ëï³ï»Éáõ í»ñ³µ»ñÛ³É | E100: =SUM(Ajapnyak:Aragacotn!E100) -> 70 | F100: =SUM(Ajapnyak:Aragacotn!F100) -> 1 | G100: =SUM(Ajapnyak:Aragacotn!G100) -> 69 | H100: =SUM(Ajapnyak:Aragacotn!H100) -> 0 | I100: =SUM(Ajapnyak:Aragacotn!I100) -> 0 | J100: =SUM(Ajapnyak:Aragacotn!J100) -> 473 | K100: =SUM(Ajapnyak:Aragacotn!K100) -> 410 | L100: =SUM(Ajapnyak:Aragacotn!L100) -> 61 | ... AH100: =SUM(Ajapnyak:Aragacotn!AH100) -> 1 | AJ100: =E100 -> 70 | AK100: =F100+G100+H100+I100 -> 70 | AL100: =J100 -> 473 | AM100: =K100+L100+M100 -> 473 | AN100: =F100+G100+K100 -> 480 | AO100: =X100+Y100+AA100 -> 480 | AP100: =N100 -> 353 | AQ100: =O100+P100+Q100+R100+S100 -> 353 | AR100: =S100 -> 19 | AS100: =T100+U100+V100 -> 19 | AT100: =X100 -> 355 | AU100: =N100+W100 -> 355 | AV100: =AE100 -> 6 | AW100: =AC100+AD100 -> 6 | AX100: =AH100 -> 1 | AY100: =AF100+AG100 -> 1
A101: 8.7.2 | B101: ²ÝÓÇª áõñÇßÇ ËÝ³ÙùÇ ï³Ï ·ïÝí»Éáõ í»ñ³µ»ñÛ³É | E101: =SUM(Ajapnyak:Aragacotn!E101) -> 2 | F101: =SUM(Ajapnyak:Aragacotn!F101) -> 0 | G101: =SUM(Ajapnyak:Aragacotn!G101) -> 2 | H101: =SUM(Ajapnyak:Aragacotn!H101) -> 0 | I101: =SUM(Ajapnyak:Aragacotn!I101) -> 0 | J101: =SUM(Ajapnyak:Aragacotn!J101) -> 7 | K101: =SUM(Ajapnyak:Aragacotn!K101) -> 5 | L101: =SUM(Ajapnyak:Aragacotn!L101) -> 2 | ... AH101: =SUM(Ajapnyak:Aragacotn!AH101) -> 0 | AJ101: =E101 -> 2 | AK101: =F101+G101+H101+I101 -> 2 | AL101: =J101 -> 7 | AM101: =K101+L101+M101 -> 7 | AN101: =F101+G101+K101 -> 7 | AO101: =X101+Y101+AA101 -> 7 | AP101: =N101 -> 3 | AQ101: =O101+P101+Q101+R101+S101 -> 3 | AR101: =S101 -> 0 | AS101: =T101+U101+V101 -> 0 | AT101: =X101 -> 4 | AU101: =N101+W101 -> 4 | AV101: =AE101 -> 0 | AW101: =AC101+AD101 -> 0 | AX101: =AH101 -> 0 | AY101: =AF101+AG101 -> 0
A102: 8.7.3 | B102: ÌÝÝ¹Û³Ý, áñ¹»·ñÙ³Ý, ³ÙáõëÝáõÃÛ³Ý, ³å³Ñ³ñ½³ÝÇ ¨ Ù³Ñí³Ý ·ñ³ÝóÙ³Ý í»ñ³µ»ñÛ³É | E102: =SUM(Ajapnyak:Aragacotn!E102) -> 45 | F102: =SUM(Ajapnyak:Aragacotn!F102) -> 0 | G102: =SUM(Ajapnyak:Aragacotn!G102) -> 45 | H102: =SUM(Ajapnyak:Aragacotn!H102) -> 0 | I102: =SUM(Ajapnyak:Aragacotn!I102) -> 0 | J102: =SUM(Ajapnyak:Aragacotn!J102) -> 226 | K102: =SUM(Ajapnyak:Aragacotn!K102) -> 196 | L102: =SUM(Ajapnyak:Aragacotn!L102) -> 25 | ... AH102: =SUM(Ajapnyak:Aragacotn!AH102) -> 1 | AJ102: =E102 -> 45 | AK102: =F102+G102+H102+I102 -> 45 | AL102: =J102 -> 226 | AM102: =K102+L102+M102 -> 226 | AN102: =F102+G102+K102 -> 241 | AO102: =X102+Y102+AA102 -> 241 | AP102: =N102 -> 199 | AQ102: =O102+P102+Q102+R102+S102 -> 199 | AR102: =S102 -> 8 | AS102: =T102+U102+V102 -> 8 | AT102: =X102 -> 199 | AU102: =N102+W102 -> 199 | AV102: =AE102 -> 5 | AW102: =AC102+AD102 -> 5 | AX102: =AH102 -> 1 | AY102: =AF102+AG102 -> 1
... A111: 8.10 | B111: ²ÛÉ í»×»ñ | E111: =SUM(Ajapnyak:Aragacotn!E111) -> 11 | F111: =SUM(Ajapnyak:Aragacotn!F111) -> 1 | G111: =SUM(Ajapnyak:Aragacotn!G111) -> 10 | H111: =SUM(Ajapnyak:Aragacotn!H111) -> 0 | I111: =SUM(Ajapnyak:Aragacotn!I111) -> 0 | J111: =SUM(Ajapnyak:Aragacotn!J111) -> 108 | K111: =SUM(Ajapnyak:Aragacotn!K111) -> 94 | L111: =SUM(Ajapnyak:Aragacotn!L111) -> 12 | ... AH111: =SUM(Ajapnyak:Aragacotn!AH111) -> 2 | AJ111: =E111 -> 11 | AK111: =F111+G111+H111+I111 -> 11 | AL111: =J111 -> 108 | AM111: =K111+L111+M111 -> 107 | AN111: =F111+G111+K111 -> 105 | AO111: =X111+Y111+AA111 -> 105 | AP111: =N111 -> 76 | AQ111: =O111+P111+Q111+R111+S111 -> 76 | AR111: =S111 -> 3 | AS111: =T111+U111+V111 -> 3 | AT111: =X111 -> 78 | AU111: =N111+W111 -> 78 | AV111: =AE111 -> 9 | AW111: =AC111+AD111 -> 9 | AX111: =AH111 -> 2 | AY111: =AF111+AG111 -> 2
A112: 9. | B112: Ð³ïáõÏ Ñ³Ûó³ÛÇÝ í³ñáõÛÃÇ ¹³ï³Ï³Ý ·áñÍ»ñ | E112: =SUM(Ajapnyak:Aragacotn!E112) -> 3 | F112: =SUM(Ajapnyak:Aragacotn!F112) -> 2 | G112: =SUM(Ajapnyak:Aragacotn!G112) -> 1 | H112: =SUM(Ajapnyak:Aragacotn!H112) -> 0 | I112: =SUM(Ajapnyak:Aragacotn!I112) -> 0 | J112: =SUM(Ajapnyak:Aragacotn!J112) -> 4 | K112: =SUM(Ajapnyak:Aragacotn!K112) -> 1 | L112: =SUM(Ajapnyak:Aragacotn!L112) -> 2 | ... AH112: =SUM(Ajapnyak:Aragacotn!AH112) -> 0 | AJ112: =SUM(AJ113:AJ115) -> 3 | AK112: =SUM(AK113:AK115) -> 3 | AL112: =SUM(AL113:AL115) -> 4 | AM112: =SUM(AM113:AM115) -> 4 | AN112: =SUM(AN113:AN115) -> 4 | AO112: =SUM(AO113:AO115) -> 4 | AP112: =SUM(AP113:AP115) -> 2 | AQ112: =SUM(AQ113:AQ115) -> 2 | ... AY112: =SUM(AY113:AY115) -> 0
A113: 9.1 | B113: ø³Õ³ù³óáõ ÏÛ³ÝùÇÝ Ï³Ù ³éáÕçáõÃÛ³ÝÝ ëå³éÝ³óáÕ íï³Ý·Ç í»ñ³µ»ñÛ³É | E113: =SUM(Ajapnyak:Aragacotn!E113) -> 2 | F113: =SUM(Ajapnyak:Aragacotn!F113) -> 1 | G113: =SUM(Ajapnyak:Aragacotn!G113) -> 1 | H113: =SUM(Ajapnyak:Aragacotn!H113) -> 0 | I113: =SUM(Ajapnyak:Aragacotn!I113) -> 0 | J113: =SUM(Ajapnyak:Aragacotn!J113) -> 4 | K113: =SUM(Ajapnyak:Aragacotn!K113) -> 1 | L113: =SUM(Ajapnyak:Aragacotn!L113) -> 2 | ... AH113: =SUM(Ajapnyak:Aragacotn!AH113) -> 0 | AJ113: =E113 -> 2 | AK113: =F113+G113+H113+I113 -> 2 | AL113: =J113 -> 4 | AM113: =K113+L113+M113 -> 4 | AN113: =F113+G113+K113 -> 3 | AO113: =X113+Y113+AA113 -> 3 | AP113: =N113 -> 2 | AQ113: =O113+P113+Q113+R113+S113 -> 2 | AR113: =S113 -> 0 | AS113: =T113+U113+V113 -> 0 | AT113: =X113 -> 2 | AU113: =N113+W113 -> 2 | AV113: =AE113 -> 1 | AW113: =AC113+AD113 -> 1 | AX113: =AH113 -> 0 | AY113: =AF113+AG113 -> 0
A114: 9.2 | B114: ÐÐ Î»ÝïñáÝ³Ï³Ý µ³ÝÏÇ ¨ ³Ýí×³ñáõÝ³Ï µ³ÝÏÇ Ï³Ù í³ñÏ³ÛÇÝ Ï³½Ù³Ï»ñåáõÃÛ³Ý Å³Ù³Ý³Ï³íáñ ³¹ÙÇÝÇëïñ³óÇ³ÛÇ áñáßáõÙÝ»ñÇ µáÕáù³ñÏÙ³Ý í»ñ³µ»ñÛ³É | E114: =SUM(Ajapnyak:Aragacotn!E114) -> 0 | F114: =SUM(Ajapnyak:Aragacotn!F114) -> 0 | G114: =SUM(Ajapnyak:Aragacotn!G114) -> 0 | H114: =SUM(Ajapnyak:Aragacotn!H114) -> 0 | I114: =SUM(Ajapnyak:Aragacotn!I114) -> 0 | J114: =SUM(Ajapnyak:Aragacotn!J114) -> 0 | K114: =SUM(Ajapnyak:Aragacotn!K114) -> 0 | L114: =SUM(Ajapnyak:Aragacotn!L114) -> 0 | ... AH114: =SUM(Ajapnyak:Aragacotn!AH114) -> 0 | AJ114: =E114 -> 0 | AK114: =F114+G114+H114+I114 -> 0 | AL114: =J114 -> 0 | AM114: =K114+L114+M114 -> 0 | AN114: =F114+G114+K114 -> 0 | AO114: =X114+Y114+AA114 -> 0 | AP114: =N114 -> 0 | AQ114: =O114+P114+Q114+R114+S114 -> 0 | AR114: =S114 -> 0 | AS114: =T114+U114+V114 -> 0 | AT114: =X114 -> 0 | AU114: =N114+W114 -> 0 | AV114: =AE114 -> 0 | AW114: =AC114+AD114 -> 0 | AX114: =AH114 -> 0 | AY114: =AF114+AG114 -> 0
A115: 9.3 | B115: ²ÛÉ í»×»ñ | E115: =SUM(Ajapnyak:Aragacotn!E115) -> 1 | F115: =SUM(Ajapnyak:Aragacotn!F115) -> 1 | G115: =SUM(Ajapnyak:Aragacotn!G115) -> 0 | H115: =SUM(Ajapnyak:Aragacotn!H115) -> 0 | I115: =SUM(Ajapnyak:Aragacotn!I115) -> 0 | J115: =SUM(Ajapnyak:Aragacotn!J115) -> 0 | K115: =SUM(Ajapnyak:Aragacotn!K115) -> 0 | L115: =SUM(Ajapnyak:Aragacotn!L115) -> 0 | ... AH115: =SUM(Ajapnyak:Aragacotn!AH115) -> 0 | AJ115: =E115 -> 1 | AK115: =F115+G115+H115+I115 -> 1 | AL115: =J115 -> 0 | AM115: =K115+L115+M115 -> 0 | AN115: =F115+G115+K115 -> 1 | AO115: =X115+Y115+AA115 -> 1 | AP115: =N115 -> 0 | AQ115: =O115+P115+Q115+R115+S115 -> 0 | AR115: =S115 -> 0 | AS115: =T115+U115+V115 -> 0 | AT115: =X115 -> 0 | AU115: =N115+W115 -> 0 | AV115: =AE115 -> 0 | AW115: =AC115+AD115 -> 0 | AX115: =AH115 -> 0 | AY115: =AF115+AG115 -> 0
A116: 11. | B116: ä³ñï³íáñ³Ï³Ý Çñ³í³Ñ³ñ³µ»ñáõÃÛáõÝÝ»ñÇ í»ñ³µ»ñÛ³É ¹³ï³Ï³Ý ·áñÍ»ñ | E116: =SUM(Ajapnyak:Aragacotn!E116) -> 25448 | F116: =SUM(Ajapnyak:Aragacotn!F116) -> 2546 | G116: =SUM(Ajapnyak:Aragacotn!G116) -> 22900 | H116: =SUM(Ajapnyak:Aragacotn!H116) -> 2 | I116: =SUM(Ajapnyak:Aragacotn!I116) -> 0 | J116: =SUM(Ajapnyak:Aragacotn!J116) -> 71427 | K116: =SUM(Ajapnyak:Aragacotn!K116) -> 66598 | L116: =SUM(Ajapnyak:Aragacotn!L116) -> 4739 | ... AH116: =SUM(Ajapnyak:Aragacotn!AH116) -> 267 | AJ116: =SUM(AJ117:AJ124) -> 25448 | AK116: =SUM(AK117:AK124) -> 25448 | AL116: =SUM(AL117:AL124) -> 71427 | AM116: =SUM(AM117:AM124) -> 71397 | AN116: =SUM(AN117:AN124) -> 92044 | AO116: =SUM(AO117:AO124) -> 92029 | AP116: =SUM(AP117:AP124) -> 60659 | AQ116: =SUM(AQ117:AQ124) -> 60659 | ... AY116: =SUM(AY117:AY124) -> 267
A117: 11.1 | B117: ¶áõÙ³ñÇ å³Ñ³ÝçÇ Ù³ëÇÝ | E117: =SUM(Ajapnyak:Aragacotn!E117) -> 24974 | F117: =SUM(Ajapnyak:Aragacotn!F117) -> 2459 | G117: =SUM(Ajapnyak:Aragacotn!G117) -> 22513 | H117: =SUM(Ajapnyak:Aragacotn!H117) -> 2 | I117: =SUM(Ajapnyak:Aragacotn!I117) -> 0 | J117: =SUM(Ajapnyak:Aragacotn!J117) -> 70785 | K117: =SUM(Ajapnyak:Aragacotn!K117) -> 66103 | L117: =SUM(Ajapnyak:Aragacotn!L117) -> 4602 | ... AH117: =SUM(Ajapnyak:Aragacotn!AH117) -> 246 | AJ117: =E117 -> 24974 | AK117: =F117+G117+H117+I117 -> 24974 | AL117: =J117 -> 70785 | AM117: =K117+L117+M117 -> 70755 | AN117: =F117+G117+K117 -> 91075 | AO117: =X117+Y117+AA117 -> 91063 | AP117: =N117 -> 60207 | AQ117: =O117+P117+Q117+R117+S117 -> 60207 | AR117: =S117 -> 4729 | AS117: =T117+U117+V117 -> 4729 | AT117: =X117 -> 60218 | AU117: =N117+W117 -> 60218 | AV117: =AE117 -> 1351 | AW117: =AC117+AD117 -> 1351 | AX117: =AH117 -> 246 | AY117: =AF117+AG117 -> 246
A118: 11.2 | B118: ä³ñï³íáñáõÃÛáõÝÁ µÝ»Õ»Ýáí Ï³ï³ñ»Éáõ å³Ñ³ÝçÇ Ù³ëÇÝ | E118: =SUM(Ajapnyak:Aragacotn!E118) -> 9 | F118: =SUM(Ajapnyak:Aragacotn!F118) -> 0 | G118: =SUM(Ajapnyak:Aragacotn!G118) -> 9 | H118: =SUM(Ajapnyak:Aragacotn!H118) -> 0 | I118: =SUM(Ajapnyak:Aragacotn!I118) -> 0 | J118: =SUM(Ajapnyak:Aragacotn!J118) -> 11 | K118: =SUM(Ajapnyak:Aragacotn!K118) -> 8 | L118: =SUM(Ajapnyak:Aragacotn!L118) -> 3 | ... AH118: =SUM(Ajapnyak:Aragacotn!AH118) -> 0 | AJ118: =E118 -> 9 | AK118: =F118+G118+H118+I118 -> 9 | AL118: =J118 -> 11 | AM118: =K118+L118+M118 -> 11 | AN118: =F118+G118+K118 -> 17 | AO118: =X118+Y118+AA118 -> 17 | AP118: =N118 -> 10 | AQ118: =O118+P118+Q118+R118+S118 -> 10 | AR118: =S118 -> 1 | AS118: =T118+U118+V118 -> 1 | AT118: =X118 -> 10 | AU118: =N118+W118 -> 10 | AV118: =AE118 -> 1 | AW118: =AC118+AD118 -> 1 | AX118: =AH118 -> 0 | AY118: =AF118+AG118 -> 0
A119: 11.3 | B119: ìÝ³ëÁ ¨ µ³ó ÃáÕÝí³Í û·áõïÁ Ñ³ïáõó»Éáõ å³Ñ³ÝçÇ Ù³ëÇÝ | E119: =SUM(Ajapnyak:Aragacotn!E119) -> 340 | F119: =SUM(Ajapnyak:Aragacotn!F119) -> 60 | G119: =SUM(Ajapnyak:Aragacotn!G119) -> 280 | H119: =SUM(Ajapnyak:Aragacotn!H119) -> 0 | I119: =SUM(Ajapnyak:Aragacotn!I119) -> 0 | J119: =SUM(Ajapnyak:Aragacotn!J119) -> 414 | K119: =SUM(Ajapnyak:Aragacotn!K119) -> 322 | L119: =SUM(Ajapnyak:Aragacotn!L119) -> 87 | ... AH119: =SUM(Ajapnyak:Aragacotn!AH119) -> 14 | AJ119: =E119 -> 340 | AK119: =F119+G119+H119+I119 -> 340 | AL119: =J119 -> 414 | AM119: =K119+L119+M119 -> 414 | AN119: =F119+G119+K119 -> 662 | AO119: =X119+Y119+AA119 -> 659 | AP119: =N119 -> 323 | AQ119: =O119+P119+Q119+R119+S119 -> 323 | AR119: =S119 -> 81 | AS119: =T119+U119+V119 -> 81 | AT119: =X119 -> 324 | AU119: =N119+W119 -> 324 | AV119: =AE119 -> 103 | AW119: =AC119+AD119 -> 103 | AX119: =AH119 -> 14 | AY119: =AF119+AG119 -> 14
A120: 11.4 | B120: ø³Õ³ù³óáõ ÏÛ³ÝùÇÝ Ï³Ù ³éáÕçáõÃÛ³ÝÁ å³ï×³éí³Í íÝ³ëÇ Ñ³ïáõóÙ³Ý í»ñ³µ»ñÛ³É | E120: =SUM(Ajapnyak:Aragacotn!E120) -> 19 | F120: =SUM(Ajapnyak:Aragacotn!F120) -> 3 | G120: =SUM(Ajapnyak:Aragacotn!G120) -> 16 | H120: =SUM(Ajapnyak:Aragacotn!H120) -> 0 | I120: =SUM(Ajapnyak:Aragacotn!I120) -> 0 | J120: =SUM(Ajapnyak:Aragacotn!J120) -> 26 | K120: =SUM(Ajapnyak:Aragacotn!K120) -> 18 | L120: =SUM(Ajapnyak:Aragacotn!L120) -> 8 | ... AH120: =SUM(Ajapnyak:Aragacotn!AH120) -> 3 | AJ120: =E120 -> 19 | AK120: =F120+G120+H120+I120 -> 19 | AL120: =J120 -> 26 | AM120: =K120+L120+M120 -> 26 | AN120: =F120+G120+K120 -> 37 | AO120: =X120+Y120+AA120 -> 37 | AP120: =N120 -> 14 | AQ120: =O120+P120+Q120+R120+S120 -> 14 | AR120: =S120 -> 4 | AS120: =T120+U120+V120 -> 4 | AT120: =X120 -> 14 | AU120: =N120+W120 -> 14 | AV120: =AE120 -> 9 | AW120: =AC120+AD120 -> 9 | AX120: =AH120 -> 3 | AY120: =AF120+AG120 -> 3
...

Sheet Ajapnyak
A1: 2015Ã. | E1: Ð²ÞìºîìàôÂÚàôÜ | AC1: Ð³í»Éí³Í Ð³Û³ëï³ÝÇ Ð³Ýñ³å»ïáõÃÛ³Ý ¸³ï³ñ³ÝÝ»ñÇ Ý³Ë³·³ÑÝ»ñÇ ËáñÑñ¹Ç 01.02.2016Ã. ÃÇí 11È áñáßÙ³Ý
A2: ºðºì²Ü ø²Ô²øÆ ²æ²öÜÚ²Î ºì ¸²ìÂ²ÞºÜ ì²ðâ²Î²Ü Þðæ²ÜÜºðÆ ÀÜ¸Ð²Üàôð Æð²ì²êàôÂÚ²Ü ²è²æÆÜ ²îÚ²ÜÆ ¸²î²ð²ÜàôØ ø²Ô²ø²òÆ²Î²Ü ¶àðÌºðÆ øÜÜàôÂÚ²Ü ìºð²´ºðÚ²È
A3: ºñ¨³Ý ù³Õ³ùÇ ²ç³÷ÝÛ³Ï ¨ ¸³íÃ³ß»Ý í³ñã³Ï³Ý ßñç³ÝÝ»ñÇ ÁÝ¹Ñ³Ýáõñ Çñ³í³ëáõÃÛ³Ý ³é³çÇÝ ³ïÛ³ÝÇ ¹³ï³ñ³ÝáõÙ ù³Õ³ù³óÇ³Ï³Ý Ù³ëÝ³·Çï³óáõÙ áõÝ»óáÕ ¹³ï³íáñÝ»ñÇ Ñ³ëïÇùÝ»ñÇ ù³Ý³ÏÁ` 3
A4: êïáõ·Çã Ñ³í³ë³ñáõÙÝ»ñª 1=2+3+4+5, 6=7+8+9, 2+3+7=20+21+23, 10=11+12+13+14+15, 15=16+17+18, 20=10+19, 27=25+26, 30=28+29 | E4: Ð³ßí»ïáõ Å³Ù³Ý³Ï³Ñ³ïí³ÍáõÙ Ý³Ëáñ¹ Ñ³ßí»ïáõ Å³Ù³Ý³Ï³Ñ³ïí³ÍÇó ÷áË³Ýóí³Í ·áñÍ»ñÇ ÁÝ¹Ñ³Ýáõñ ÃÇíÁ | J4: Ð³ßí»ïáõ Å³Ù³Ý³Ï³Ñ³ïí³ÍáõÙëï³óí³Í ·áñÍ»ñÇ (³Û¹ ÃíáõÙ` Ñ³Ûó³¹ÇÙáõÙÝ»ñÇ, ¹ÇÙáõÙÝ»ñÇ) ÁÝ¹Ñ³Ýáõñ ÃÇíÁ | N4: Ð³ßí»ïáõ Å³Ù³Ý³Ï³Ñ³ïí³ÍáõÙ ³í³ñïí³Í ·áñÍ»ñÇ ÁÝ¹Ñ³Ýáõñ ÃÇíÁ | Y4: ¶áñÍÝ áõÕ³ñÏí»É ¿ Áëï ÁÝ¹¹³ïáõÃÛ³Ý | Z4: Ð³ßí»ïáõ Å³Ù³Ý³Ï³Ñ³ïí³ÍáõÙ Ï³ë»óí³Í í³ñáõÛÃÝ»ñáí ·áñÍ»ñÇ ÁÝ¹Ñ³Ýáõñ ÃÇíÁ | AA4: Ð³ßí»ïáõ Å³Ù³Ý³Ï³Ñ³ïí³ÍáõÙ ³Ý³í³ñï ·áñÍ»ñÇ ÁÝ¹Ñ³Ýáõñ ÃÇíÁ | AB4: ²Û¹ ÃíáõÙª Ï³ë»óí³Í | AC4: ´áÕáù³ñÏí³Í ¹³ï³Ï³Ý ³Ïï»ñÇ ÃÇíÁ` Áëï ï»ë³ÏÝ»ñÇ | AF4: ´»Ï³Ýí³Í ¹³ï³Ï³Ý ³Ïï»ñÇ ÃÇíÁ` Áëï ï»ë³ÏÝ»ñÇ
E7: ÀÝ¹³Ù»ÝÁ | F7: ²Û¹ ÃíáõÙ`Ï³ë»óí³Í íÇ×³ÏáõÙ ÷áË³Ýóí³Í | G7: ²Û¹ ÃíáõÙª ÁÝ¹áõÝí»É ¿ í³ñáõÛÃ | H7: ²Û¹ ÃíáõÙª í»ñ³¹³ñÓí»É ¿ | I7: ²Û¹ ÃíáõÙª ÁÝ¹áõÝáõÙÁ Ù»ñÅí»É ¿ | J7: ÀÝ¹³Ù»ÝÁ | K7: ²Û¹ ÃíáõÙª ÁÝ¹áõÝí»É ¿ í³ñáõÛÃ | L7: ²Û¹ ÃíáõÙª í»ñ³¹³ñÓí»É ¿ | M7: ²Û¹ ÃíáõÙª ÁÝ¹áõÝáõÙÁ Ù»ñÅí»É ¿ | N7: ÀÝ¹³Ù»ÝÁ ³í³ñïí»É »Ý ·áñÍ»ñ ·áñÍÝ Áëï ¿áõÃÛ³Ý ÉáõÍáÕ ¹³ï³Ï³Ý ³Ïï»ñÇ (í×ÇéÝ»ñÇ) Ï³Û³óÙ³Ùµ | O7: ²Û¹ ÃíáõÙª Ñ³ÛóÇ µ³í³ñ³ñÙ³Ùµ | P7: ²Û¹ ÃíáõÙª Ñ³ÛóÇ Ù³ëÝ³ÏÇ µ³í³ñ³ñÙ³Ùµ | Q7: ²Û¹ ÃíáõÙª Ñ³ÛóÇ Ù»ñÅÙ³Ùµ | R7: Ø³ëáí Ï³ñ×í»É ¿, Ù³ëáí Ù»ñÅí»É | S7: ²Û¹ ÃíáõÙª Ï³ñ×í»É »Ý | W7: Ð³ÛóÁ ÃáÕÝí»É ¿ ³é³Ýó ùÝÝáõÃÛ³Ý | X7: ÀÝ¹³Ù»ÝÝ ³í³ñïí»É »Ý ·áñÍ»ñ | AC7: ²Û¹ ÃíáõÙ` ·áñÍÝ Áëï ¿áõÃÛ³Ý ÉáõÍáÕ ¹³ï³Ï³Ý ³Ïï»ñ | AD7: ²Û¹ ÃíáõÙ` ÙÇç³ÝÏÛ³É ¹³ï³Ï³Ý ³Ïï»ñ | AE7: ÀÝ¹³Ù»ÝÁ | AF7: ²Û¹ ÃíáõÙ` ·áñÍÝ Áëï ¿áõÃÛ³Ý ÉáõÍáÕ ¹³ï³Ï³Ý ³Ïï»ñ | AG7: ²Û¹ ÃíáõÙ` ÙÇç³ÝÏÛ³É ¹³ï³Ï³Ý ³Ïï»ñ | AH7: ÀÝ¹³Ù»ÝÁ
S10: ÀÝ¹³Ù»ÝÁ Ï³ñ×í»É »Ý | T10: ²Û¹ ÃíáõÙª Ñ³ëï³ïí»É ¿ ÏÝùí³Í Ñ³ßïáõÃÛ³Ý Ñ³Ù³Ó³ÛÝáõÃÛáõÝÁ | U10: ²Û¹ ÃíáõÙª Ñ³óÇó, ¹ÇÙáõÙÇó Ññ³Å³ñí»Éáõ ÑÇÙùáí | V10: ²Û¹ ÃíáõÙª ³ÛÉ ÑÇÙùáí
A18: ø³Õ³ù³óÇ³Ï³Ý ·áñÍ»ñÇ ¹³ë³Ï³ñ·áõÙÁ | E18: 1 | F18: 2 | G18: 3 | H18: 4 | I18: 5 | J18: 6 | K18: 7 | L18: 8 | M18: 9 | N18: 10 | O18: 11 | P18: 12 | Q18: 13 | R18: 14 | S18: 15 | T18: 16 | U18: 17 | V18: 18 | W18: 19 | X18: 20 | Y18: 21 | Z18: 22 | AA18: 23 | AB18: 24 | AC18: 25 | AD18: 26 | AE18: 27 | AF18: 28 | AG18: 29 | AH18: 30 | AJ18: 1=2+3+4+5 | AL18: 6=7+8+9 | AN18: 2+3+7=20+21+23 | AP18: 10=11+12+13+14+15 | AR18: 15=16+17+18 | AT18: 20=10+19 | AV18: 27=25+26 | AX18: 30=28+29
A19: 1. | B19: ¶áõÛù³ÛÇÝ Çñ³í³Ñ³ñ³µ»ñáõÃÛáõÝÝ»ñÇ í»ñ³µ»ñÛ³É ¹³ï³Ï³Ý ·áñÍ»ñ | E19: =SUM(E20:E38) -> 276 | F19: =SUM(F20:F38) -> 66 | G19: =SUM(G20:G38) -> 210 | H19: =SUM(H20:H38) -> 0 | I19: =SUM(I20:I38) -> 0 | J19: =SUM(J20:J38) -> 145 | K19: =SUM(K20:K38) -> 126 | L19: =SUM(L20:L38) -> 17 | ... AH19: =SUM(AH20:AH38) -> 2 | AJ19: =SUM(AJ20:AJ38) -> 276 | AK19: =SUM(AK20:AK38) -> 276 | AL19: =SUM(AL20:AL38) -> 145 | AM19: =SUM(AM20:AM38) -> 145 | AN19: =SUM(AN20:AN38) -> 402 | AO19: =SUM(AO20:AO38) -> 402 | AP19: =SUM(AP20:AP38) -> 72 | AQ19: =SUM(AQ20:AQ38) -> 72 | ... AY19: =SUM(AY20:AY38) -> 2
A20: 1.1 | B20: ¶áõÛùÇ ÝÏ³ïÙ³Ùµ ë»÷³Ï³ÝáõÃÛ³Ý Çñ³íáõÝùÁ ×³Ý³ã»Éáõ í»ñ³µ»ñÛ³É | E20: 22 | F20: 3 | G20: 19 | J20: 25 | K20: 21 | L20: 4 | M20: 0 | N20: 11 | O20: 3 | P20: 2 | Q20: 3 | S20: 3 | T20: 2 | U20: 1 | V20: 0 | W20: 0 | X20: 11 | Y20: 0 | Z20: 2 | AA20: 32 | AB20: 5 | AC20: 3 | AD20: 2 | AE20: 5 | AJ20: =E20 -> 22 | AK20: =F20+G20+H20+I20 -> 22 | AL20: =J20 -> 25 | AM20: =K20+L20+M20 -> 25 | AN20: =F20+G20+K20 -> 43 | AO20: =X20+Y20+AA20 -> 43 | AP20: =N20 -> 11 | AQ20: =O20+P20+Q20+R20+S20 -> 11 | AR20: =S20 -> 3 | AS20: =T20+U20+V20 -> 3 | AT20: =X20 -> 11 | AU20: =N20+W20 -> 11 | AV20: =AE20 -> 5 | AW20: =AC20+AD20 -> 5 | AX20: =AH20 -> 0 | AY20: =AF20+AG20 -> 0
A21: 1.1.1 | B21: ²Û¹ ÃíáõÙª Ó»éùµ»ñÙ³Ý í³Õ»ÙáõÃÛ³Ý áõÅáí | E21: 18 | F21: 5 | G21: 13 | J21: 9 | K21: 9 | L21: 0 | M21: 0 | N21: 3 | O21: 1 | P21: 1 | Q21: 0 | S21: 1 | T21: 0 | U21: 1 | V21: 0 | W21: 0 | X21: 3 | Y21: 0 | Z21: 3 | AA21: 24 | AB21: 5 | AC21: 0 | AD21: 0 | AE21: 0 | AJ21: =E21 -> 18 | AK21: =F21+G21+H21+I21 -> 18 | AL21: =J21 -> 9 | AM21: =K21+L21+M21 -> 9 | AN21: =F21+G21+K21 -> 27 | AO21: =X21+Y21+AA21 -> 27 | AP21: =N21 -> 3 | AQ21: =O21+P21+Q21+R21+S21 -> 3 | AR21: =S21 -> 1 | AS21: =T21+U21+V21 -> 1 | AT21: =X21 -> 3 | AU21: =N21+W21 -> 3 | AV21: =AE21 -> 0 | AW21: =AC21+AD21 -> 0 | AX21: =AH21 -> 0 | AY21: =AF21+AG21 -> 0
A22: 1.1.2 | B22: ²Û¹ ÃíáõÙª ïÇñ³½áõñÏ ·áõÛùÇ ÝÏ³ïÙ³Ùµ | AJ22: =E22 -> 0 | AK22: =F22+G22+H22+I22 -> 0 | AL22: =J22 -> 0 | AM22: =K22+L22+M22 -> 0 | AN22: =F22+G22+K22 -> 0 | AO22: =X22+Y22+AA22 -> 0 | AP22: =N22 -> 0 | AQ22: =O22+P22+Q22+R22+S22 -> 0 | AR22: =S22 -> 0 | AS22: =T22+U22+V22 -> 0 | AT22: =X22 -> 0 | AU22: =N22+W22 -> 0 | AV22: =AE22 -> 0 | AW22: =AC22+AD22 -> 0 | AX22: =AH22 -> 0 | AY22: =AF22+AG22 -> 0
A23: 1.1.3 | B23: ²Û¹ ÃíáõÙª ÇÝùÝ³Ï³Ù Ï³éáõÛóÇ ÝÏ³ïÙ³Ùµ | AJ23: =E23 -> 0 | AK23: =F23+G23+H23+I23 -> 0 | AL23: =J23 -> 0 | AM23: =K23+L23+M23 -> 0 | AN23: =F23+G23+K23 -> 0 | AO23: =X23+Y23+AA23 -> 0 | AP23: =N23 -> 0 | AQ23: =O23+P23+Q23+R23+S23 -> 0 | AR23: =S23 -> 0 | AS23: =T23+U23+V23 -> 0 | AT23: =X23 -> 0 | AU23: =N23+W23 -> 0 | AV23: =AE23 -> 0 | AW23: =AC23+AD23 -> 0 | AX23: =AH23 -> 0 | AY23: =AF23+AG23 -> 0
A24: 1.2 | B24: ê»÷³Ï³ÝáõÃÛ³Ý Çñ³íáõÝùÇ ¹³¹³ñ»óÙ³Ý í»ñ³µ»ñÛ³É | E24: 1 | F24: 0 | G24: 1 | J24: 4 | K24: 4 | L24: 0 | M24: 0 | N24: 0 | O24: 0 | P24: 0 | Q24: 0 | S24: 0 | T24: 0 | U24: 0 | V24: 0 | W24: 0 | X24: 0 | Y24: 0 | Z24: 0 | AA24: 5 | AB24: 0 | AC24: 0 | AD24: 0 | AE24: 0 | AJ24: =E24 -> 1 | AK24: =F24+G24+H24+I24 -> 1 | AL24: =J24 -> 4 | AM24: =K24+L24+M24 -> 4 | AN24: =F24+G24+K24 -> 5 | AO24: =X24+Y24+AA24 -> 5 | AP24: =N24 -> 0 | AQ24: =O24+P24+Q24+R24+S24 -> 0 | AR24: =S24 -> 0 | AS24: =T24+U24+V24 -> 0 | AT24: =X24 -> 0 | AU24: =N24+W24 -> 0 | AV24: =AE24 -> 0 | AW24: =AC24+AD24 -> 0 | AX24: =AH24 -> 0 | AY24: =AF24+AG24 -> 0
A25: 1.3 | B25: ¶áõÛùÇ ÝÏ³ïÙ³Ùµ û·ï³·áñÍÙ³Ý Çñ³íáõÝùÁ ×³Ý³ã»Éáõ í»ñ³µ»ñÛ³É | E25: 0 | F25: 0 | G25: 0 | AJ25: =E25 -> 0 | AK25: =F25+G25+H25+I25 -> 0 | AL25: =J25 -> 0 | AM25: =K25+L25+M25 -> 0 | AN25: =F25+G25+K25 -> 0 | AO25: =X25+Y25+AA25 -> 0 | AP25: =N25 -> 0 | AQ25: =O25+P25+Q25+R25+S25 -> 0 | AR25: =S25 -> 0 | AS25: =T25+U25+V25 -> 0 | AT25: =X25 -> 0 | AU25: =N25+W25 -> 0 | AV25: =AE25 -> 0 | AW25: =AC25+AD25 -> 0 | AX25: =AH25 -> 0 | AY25: =AF25+AG25 -> 0
A26: 1.3.1 | B26: ²Û¹ ÃíáõÙª µÝ³Ïû·ï³·áñÍÙ³Ý Çñ³íáõÝùÁ ×³Ý³ã»Éáõ í»ñ³µ»ñÛ³É | E26: 0 | F26: 0 | G26: 0 | J26: 2 | K26: 2 | L26: 0 | M26: 0 | N26: 0 | O26: 0 | P26: 0 | Q26: 0 | S26: 0 | T26: 0 | U26: 0 | V26: 0 | W26: 0 | X26: 0 | Y26: 0 | Z26: 0 | AA26: 2 | AB26: 0 | AC26: 0 | AD26: 0 | AE26: 0 | AJ26: =E26 -> 0 | AK26: =F26+G26+H26+I26 -> 0 | AL26: =J26 -> 2 | AM26: =K26+L26+M26 -> 2 | AN26: =F26+G26+K26 -> 2 | AO26: =X26+Y26+AA26 -> 2 | AP26: =N26 -> 0 | AQ26: =O26+P26+Q26+R26+S26 -> 0 | AR26: =S26 -> 0 | AS26: =T26+U26+V26 -> 0 | AT26: =X26 -> 0 | AU26: =N26+W26 -> 0 | AV26: =AE26 -> 0 | AW26: =AC26+AD26 -> 0 | AX26: =AH26 -> 0 | AY26: =AF26+AG26 -> 0
A27: 1.3.2 | B27: ²Û¹ ÃíáõÙª ÑáÕ³Ù³ëÇ ÝÏ³ïÙ³Ùµ û·ï³·áñÍÙ³Ý Çñ³íáõÝùÁ ×³Ý³ã»Éáõ í»ñ³µ»ñÛ³É | E27: 1 | F27: 0 | G27: 1 | J27: 0 | K27: 0 | L27: 0 | M27: 0 | N27: 0 | O27: 0 | P27: 0 | Q27: 0 | S27: 0 | T27: 0 | U27: 0 | V27: 0 | W27: 0 | X27: 0 | Y27: 0 | Z27: 0 | AA27: 1 | AB27: 0 | AC27: 0 | AD27: 0 | AE27: 0 | AJ27: =E27 -> 1 | AK27: =F27+G27+H27+I27 -> 1 | AL27: =J27 -> 0 | AM27: =K27+L27+M27 -> 0 | AN27: =F27+G27+K27 -> 1 | AO27: =X27+Y27+AA27 -> 1 | AP27: =N27 -> 0 | AQ27: =O27+P27+Q27+R27+S27 -> 0 | AR27: =S27 -> 0 | AS27: =T27+U27+V27 -> 0 | AT27: =X27 -> 0 | AU27: =N27+W27 -> 0 | AV27: =AE27 -> 0 | AW27: =AC27+AD27 -> 0 | AX27: =AH27 -> 0 | AY27: =AF27+AG27 -> 0
A28: 1.4 | B28: ¶áõÛùÇ ÝÏ³ïÙ³Ùµ û·ï³·áñÍÙ³Ý Çñ³íáõÝùÁ ¹³¹³ñ»óÝ»Éáõ í»ñ³µ»ñÛ³É | E28: 0 | F28: 0 | G28: 0 | AJ28: =E28 -> 0 | AK28: =F28+G28+H28+I28 -> 0 | AL28: =J28 -> 0 | AM28: =K28+L28+M28 -> 0 | AN28: =F28+G28+K28 -> 0 | AO28: =X28+Y28+AA28 -> 0 | AP28: =N28 -> 0 | AQ28: =O28+P28+Q28+R28+S28 -> 0 | AR28: =S28 -> 0 | AS28: =T28+U28+V28 -> 0 | AT28: =X28 -> 0 | AU28: =N28+W28 -> 0 | AV28: =AE28 -> 0 | AW28: =AC28+AD28 -> 0 | AX28: =AH28 -> 0 | AY28: =AF28+AG28 -> 0
A29: 1.4.1 | B29: ²Û¹ ÃíáõÙª µÝ³Ïû·ï³·áñÍÙ³Ý Çñ³íáõÝùÁ ¹³¹³ñ»óÝ»Éáõ í»ñ³µ»ñÛ³É | E29: 6 | F29: 2 | G29: 4 | J29: 1 | K29: 1 | L29: 0 | M29: 0 | N29: 2 | O29: 1 | P29: 0 | Q29: 0 | S29: 1 | T29: 0 | U29: 1 | V29: 0 | W29: 0 | X29: 2 | Y29: 0 | Z29: 0 | AA29: 5 | AB29: 2 | AC29: 1 | AD29: 0 | AE29: 1 | AJ29: =E29 -> 6 | AK29: =F29+G29+H29+I29 -> 6 | AL29: =J29 -> 1 | AM29: =K29+L29+M29 -> 1 | AN29: =F29+G29+K29 -> 7 | AO29: =X29+Y29+AA29 -> 7 | AP29: =N29 -> 2 | AQ29: =O29+P29+Q29+R29+S29 -> 2 | AR29: =S29 -> 1 | AS29: =T29+U29+V29 -> 1 | AT29: =X29 -> 2 | AU29: =N29+W29 -> 2 | AV29: =AE29 -> 1 | AW29: =AC29+AD29 -> 1 | AX29: =AH29 -> 0 | AY29: =AF29+AG29 -> 0
A30: 1.4.1/1 | B30: ²Û¹ ÃíáõÙª ÷áËÑ³ïáõóÙ³Ùµ | E30: 3 | F30: 1 | G30: 2 | J30: 0 | K30: 0 | L30: 0 | M30: 0 | N30: 0 | O30: 0 | P30: 0 | Q30: 0 | S30: 0 | T30: 0 | U30: 0 | V30: 0 | W30: 0 | X30: 0 | Y30: 0 | Z30: 0 | AA30: 3 | AB30: 1 | AC30: 0 | AD30: 0 | AE30: 0 | AJ30: =E30 -> 3 | AK30: =F30+G30+H30+I30 -> 3 | AL30: =J30 -> 0 | AM30: =K30+L30+M30 -> 0 | AN30: =F30+G30+K30 -> 3 | AO30: =X30+Y30+AA30 -> 3 | AP30: =N30 -> 0 | AQ30: =O30+P30+Q30+R30+S30 -> 0 | AR30: =S30 -> 0 | AS30: =T30+U30+V30 -> 0 | AT30: =X30 -> 0 | AU30: =N30+W30 -> 0 | AV30: =AE30 -> 0 | AW30: =AC30+AD30 -> 0 | AX30: =AH30 -> 0 | AY30: =AF30+AG30 -> 0
A31: 1.5 | B31: ´Ý³Ï³ñ³ÝÇó/ ï³ñ³ÍùÇó/ íï³ñ»Éáõ í»ñ³µ»ñÛ³É | E31: 24 | F31: 7 | G31: 17 | J31: 9 | K31: 9 | L31: 0 | M31: 0 | N31: 9 | O31: 2 | P31: 1 | Q31: 2 | S31: 4 | T31: 0 | U31: 4 | V31: 0 | W31: 0 | X31: 9 | Y31: 0 | Z31: 1 | AA31: 24 | AB31: 7 | AC31: 4 | AD31: 0 | AE31: 4 | AF31: 2 | AG31: 0 | AH31: 2 | AJ31: =E31 -> 24 | AK31: =F31+G31+H31+I31 -> 24 | AL31: =J31 -> 9 | AM31: =K31+L31+M31 -> 9 | AN31: =F31+G31+K31 -> 33 | AO31: =X31+Y31+AA31 -> 33 | AP31: =N31 -> 9 | AQ31: =O31+P31+Q31+R31+S31 -> 9 | AR31: =S31 -> 4 | AS31: =T31+U31+V31 -> 4 | AT31: =X31 -> 9 | AU31: =N31+W31 -> 9 | AV31: =AE31 -> 4 | AW31: =AC31+AD31 -> 4 | AX31: =AH31 -> 2 | AY31: =AF31+AG31 -> 2
A32: 1.6 | B32: ¶áõÛùÝ áõñÇßÇ ³åûñÇÝÇ ïÇñ³å»ïáõÙÇó »ï í»ñ³¹³ñÓÝ»Éáõ í»ñ³µ»ñÛ³É | E32: 24 | F32: 7 | G32: 17 | J32: 13 | K32: 13 | L32: 0 | M32: 0 | N32: 5 | O32: 1 | P32: 1 | Q32: 0 | S32: 3 | T32: 0 | U32: 3 | V32: 0 | W32: 0 | X32: 5 | Y32: 0 | Z32: 1 | AA32: 32 | AB32: 6 | AC32: 1 | AD32: 0 | AE32: 1 | AJ32: =E32 -> 24 | AK32: =F32+G32+H32+I32 -> 24 | AL32: =J32 -> 13 | AM32: =K32+L32+M32 -> 13 | AN32: =F32+G32+K32 -> 37 | AO32: =X32+Y32+AA32 -> 37 | AP32: =N32 -> 5 | AQ32: =O32+P32+Q32+R32+S32 -> 5 | AR32: =S32 -> 3 | AS32: =T32+U32+V32 -> 3 | AT32: =X32 -> 5 | AU32: =N32+W32 -> 5 | AV32: =AE32 -> 1 | AW32: =AC32+AD32 -> 1 | AX32: =AH32 -> 0 | AY32: =AF32+AG32 -> 0
A33: 1.6.1 | B33: ´³ñ»ËÇÕ× Ó»éùµ»ñáÕÇó Çñ ·áõÛùÁ Ñ»ï å³Ñ³Ýç»Éáõ í»ñ³µ»ñÛ³É | E33: 0 | F33: 0 | G33: 0 | AJ33: =E33 -> 0 | AK33: =F33+G33+H33+I33 -> 0 | AL33: =J33 -> 0 | AM33: =K33+L33+M33 -> 0 | AN33: =F33+G33+K33 -> 0 | AO33: =X33+Y33+AA33 -> 0 | AP33: =N33 -> 0 | AQ33: =O33+P33+Q33+R33+S33 -> 0 | AR33: =S33 -> 0 | AS33: =T33+U33+V33 -> 0 | AT33: =X33 -> 0 | AU33: =N33+W33 -> 0 | AV33: =AE33 -> 0 | AW33: =AC33+AD33 -> 0 | AX33: =AH33 -> 0 | AY33: =AF33+AG33 -> 0
A34: 1.7 | B34: îÇñ³å»ïáõÙÇó ½ñÏ»Éáõ Ñ»ï ãÏ³åí³Í Çñ³íáõÝùÝ»ñÇ Ë³ËïáõÙÁ í»ñ³óÝ»Éáõ í»ñ³µ»ñÛ³É | E34: 16 | F34: 6 | G34: 10 | J34: 4 | K34: 4 | L34: 0 | M34: 0 | N34: 3 | O34: 1 | P34: 0 | Q34: 0 | S34: 2 | T34: 0 | U34: 2 | V34: 0 | W34: 0 | X34: 3 | Y34: 0 | AA34: 17 | AB34: 4 | AC34: 1 | AD34: 0 | AE34: 1 | AJ34: =E34 -> 16 | AK34: =F34+G34+H34+I34 -> 16 | AL34: =J34 -> 4 | AM34: =K34+L34+M34 -> 4 | AN34: =F34+G34+K34 -> 20 | AO34: =X34+Y34+AA34 -> 20 | AP34: =N34 -> 3 | AQ34: =O34+P34+Q34+R34+S34 -> 3 | AR34: =S34 -> 2 | AS34: =T34+U34+V34 -> 2 | AT34: =X34 -> 3 | AU34: =N34+W34 -> 3 | AV34: =AE34 -> 1 | AW34: =AC34+AD34 -> 1 | AX34: =AH34 -> 0 | AY34: =AF34+AG34 -> 0
A35: 1.8 | B35: ÀÝ¹Ñ³Ýáõñ µ³ÅÝ³ÛÇÝ ë»÷³Ï³ÝáõÃÛáõÝÇó µ³ÅÇÝÝ ³é³ÝÓÝ³óÝ»Éáõ í»ñ³µ»ñÛ³É | E35: 47 | F35: 16 | G35: 31 | J35: 20 | K35: 18 | L35: 2 | M35: 0 | N35: 7 | O35: 1 | P35: 1 | Q35: 1 | S35: 4 | T35: 0 | U35: 4 | V35: 0 | W35: 0 | X35: 7 | Y35: 1 | Z35: 5 | AA35: 57 | AB35: 15 | AC35: 0 | AD35: 0 | AE35: 0 | AJ35: =E35 -> 47 | AK35: =F35+G35+H35+I35 -> 47 | AL35: =J35 -> 20 | AM35: =K35+L35+M35 -> 20 | AN35: =F35+G35+K35 -> 65 | AO35: =X35+Y35+AA35 -> 65 | AP35: =N35 -> 7 | AQ35: =O35+P35+Q35+R35+S35 -> 7 | AR35: =S35 -> 4 | AS35: =T35+U35+V35 -> 4 | AT35: =X35 -> 7 | AU35: =N35+W35 -> 7 | AV35: =AE35 -> 0 | AW35: =AC35+AD35 -> 0 | AX35: =AH35 -> 0 | AY35: =AF35+AG35 -> 0
A36: 1.8.1 | B36: Ð³Ù³ï»Õ ë»÷³Ï³ÝáõÃÛ³Ý Ý»ñùá ·ïÝíáÕ ·áõÛùÁ µ³Å³Ý»Éáõ ¨ ¹ñ³ÝÇó µ³ÅÇÝÝ ³é³ÝÓÝ³óÝ»Éáõ í»ñ³µ»ñÛ³É | E36: 74 | F36: 10 | G36: 64 | J36: 33 | K36: 30 | L36: 3 | M36: 0 | N36: 17 | O36: 1 | P36: 1 | Q36: 0 | S36: 15 | T36: 1 | U36: 14 | V36: 0 | W36: 0 | X36: 17 | Y36: 0 | Z36: 8 | AA36: 87 | AB36: 12 | AC36: 0 | AD36: 0 | AE36: 0 | AJ36: =E36 -> 74 | AK36: =F36+G36+H36+I36 -> 74 | AL36: =J36 -> 33 | AM36: =K36+L36+M36 -> 33 | AN36: =F36+G36+K36 -> 104 | AO36: =X36+Y36+AA36 -> 104 | AP36: =N36 -> 17 | AQ36: =O36+P36+Q36+R36+S36 -> 17 | AR36: =S36 -> 15 | AS36: =T36+U36+V36 -> 15 | AT36: =X36 -> 17 | AU36: =N36+W36 -> 17 | AV36: =AE36 -> 0 | AW36: =AC36+AD36 -> 0 | AX36: =AH36 -> 0 | AY36: =AF36+AG36 -> 0
A37: 1.8.3 | B37: ¶áõÛùÇ íñ³ µéÝ³·³ÝÓáõÙ ï³ñ³Í»Éáõ å³Ñ³ÝçÇ Ù³ëÇÝ | E37: 8 | F37: 2 | G37: 6 | J37: 4 | K37: 2 | L37: 1 | M37: 1 | N37: 2 | O37: 0 | P37: 0 | Q37: 1 | S37: 1 | T37: 0 | U37: 1 | V37: 0 | W37: 0 | X37: 2 | Y37: 0 | Z37: 1 | AA37: 8 | AB37: 3 | AC37: 0 | AD37: 0 | AE37: 0 | AJ37: =E37 -> 8 | AK37: =F37+G37+H37+I37 -> 8 | AL37: =J37 -> 4 | AM37: =K37+L37+M37 -> 4 | AN37: =F37+G37+K37 -> 10 | AO37: =X37+Y37+AA37 -> 10 | AP37: =N37 -> 2 | AQ37: =O37+P37+Q37+R37+S37 -> 2 | AR37: =S37 -> 1 | AS37: =T37+U37+V37 -> 1 | AT37: =X37 -> 2 | AU37: =N37+W37 -> 2 | AV37: =AE37 -> 0 | AW37: =AC37+AD37 -> 0 | AX37: =AH37 -> 0 | AY37: =AF37+AG37 -> 0
A38: 1.9 | B38: ²ÛÉ í»×»ñ | E38: 32 | F38: 7 | G38: 25 | J38: 21 | K38: 13 | L38: 7 | M38: 1 | N38: 13 | O38: 1 | P38: 0 | Q38: 6 | S38: 6 | T38: 1 | U38: 5 | V38: 0 | W38: 0 | X38: 13 | Y38: 0 | Z38: 2 | AA38: 32 | AB38: 8 | AC38: 5 | AD38: 0 | AE38: 5 | AJ38: =E38 -> 32 | AK38: =F38+G38+H38+I38 -> 32 | AL38: =J38 -> 21 | AM38: =K38+L38+M38 -> 21 | AN38: =F38+G38+K38 -> 45 | AO38: =X38+Y38+AA38 -> 45 | AP38: =N38 -> 13 | AQ38: =O38+P38+Q38+R38+S38 -> 13 | AR38: =S38 -> 6 | AS38: =T38+U38+V38 -> 6 | AT38: =X38 -> 13 | AU38: =N38+W38 -> 13 | AV38: =AE38 -> 5 | AW38: =AC38+AD38 -> 5 | AX38: =AH38 -> 0 | AY38: =AF38+AG38 -> 0
A39: 2. | B39: ¶áñÍ³ñùÝ»ñÇ Ñ»ï Ï³åí³Í Çñ³í³Ñ³ñ³µ»ñáõÃÛáõÝÝ»ñÇ í»ñ³µ»ñÛ³É ¹³ï³Ï³Ý ·áñÍ»ñ | E39: =SUM(E40:E50) -> 108 | F39: =SUM(F40:F50) -> 52 | G39: =SUM(G40:G50) -> 56 | H39: =SUM(H40:H50) -> 0 | I39: =SUM(I40:I50) -> 0 | J39: =SUM(J40:J50) -> 61 | K39: =SUM(K40:K50) -> 52 | L39: =SUM(L40:L50) -> 9 | ... AH39: =SUM(AH40:AH50) -> 4 | AJ39: =SUM(AJ40:AJ50) -> 108 | AK39: =SUM(AK40:AK50) -> 108 | AL39: =SUM(AL40:AL50) -> 61 | AM39: =SUM(AM40:AM50) -> 61 | AN39: =SUM(AN40:AN50) -> 160 | AO39: =SUM(AO40:AO50) -> 159 | AP39: =SUM(AP40:AP50) -> 24 | AQ39: =SUM(AQ40:AQ50) -> 24 | ... AY39: =SUM(AY40:AY50) -> 4
A40: 2.1 | B40: ·áñÍ³ñùÝ»ñÇ ³Ýí³í»ñáõÃÛ³Ý Ñ»ï Ï³åí³Í í»×»ñ | E40: 6 | F40: 2 | G40: 4 | J40: 6 | K40: 5 | L40: 1 | M40: 0 | N40: 2 | O40: 0 | P40: 0 | Q40: 1 | S40: 1 | T40: 0 | U40: 1 | V40: 0 | W40: 0 | X40: 2 | Y40: 0 | Z40: 0 | AA40: 9 | AB40: 2 | AC40: 1 | AD40: 0 | AE40: 1 | AF40: 1 | AG40: 0 | AH40: 1 | AJ40: =E40 -> 6 | AK40: =F40+G40+H40+I40 -> 6 | AL40: =J40 -> 6 | AM40: =K40+L40+M40 -> 6 | AN40: =F40+G40+K40 -> 11 | AO40: =X40+Y40+AA40 -> 11 | AP40: =N40 -> 2 | AQ40: =O40+P40+Q40+R40+S40 -> 2 | AR40: =S40 -> 1 | AS40: =T40+U40+V40 -> 1 | AT40: =X40 -> 2 | AU40: =N40+W40 -> 2 | AV40: =AE40 -> 1 | AW40: =AC40+AD40 -> 1 | AX40: =AH40 -> 1 | AY40: =AF40+AG40 -> 1
A41: 2.1.1 | B41: ³Û¹ ÃíáõÙ` íÇ×³Ñ³ñáõÛó ·áñÍ³ñùÝ»ñÝ ³Ýí³í»ñ ×³Ý³ã»Éáõ í»ñ³µ»ñÛ³É | E41: 0 | F41: 0 | G41: 0 | AJ41: =E41 -> 0 | AK41: =F41+G41+H41+I41 -> 0 | AL41: =J41 -> 0 | AM41: =K41+L41+M41 -> 0 | AN41: =F41+G41+K41 -> 0 | AO41: =X41+Y41+AA41 -> 0 | AP41: =N41 -> 0 | AQ41: =O41+P41+Q41+R41+S41 -> 0 | AR41: =S41 -> 0 | AS41: =T41+U41+V41 -> 0 | AT41: =X41 -> 0 | AU41: =N41+W41 -> 0 | AV41: =AE41 -> 0 | AW41: =AC41+AD41 -> 0 | AX41: =AH41 -> 0 | AY41: =AF41+AG41 -> 0
A42: 2.1.2 | B42: ³Û¹ ÃíáõÙ` ·áñÍ³ñùÇ ³éáãÝãáõÃÛ³Ý Ñ»ï¨³ÝùÝ»ñ ÏÇñ³é»Éáõ í»ñ³µ»ñÛ³É | E42: 6 | F42: 1 | G42: 5 | J42: 3 | K42: 3 | L42: 0 | M42: 0 | N42: 3 | O42: 0 | P42: 0 | Q42: 2 | S42: 1 | T42: 0 | U42: 1 | V42: 0 | W42: 0 | X42: 3 | Y42: 0 | Z42: 0 | AA42: 6 | AB42: 1 | AC42: 2 | AD42: 0 | AE42: 2 | AJ42: =E42 -> 6 | AK42: =F42+G42+H42+I42 -> 6 | AL42: =J42 -> 3 | AM42: =K42+L42+M42 -> 3 | AN42: =F42+G42+K42 -> 9 | AO42: =X42+Y42+AA42 -> 9 | AP42: =N42 -> 3 | AQ42: =O42+P42+Q42+R42+S42 -> 3 | AR42: =S42 -> 1 | AS42: =T42+U42+V42 -> 1 | AT42: =X42 -> 3 | AU42: =N42+W42 -> 3 | AV42: =AE42 -> 2 | AW42: =AC42+AD42 -> 2 | AX42: =AH42 -> 0 | AY42: =AF42+AG42 -> 0
A43: 2.2 | B43: ¶áñÍ³ñùÁ í³í»ñ ×³Ý³ã»Éáõ í»ñ³µ»ñÛ³É | E43: 3 | F43: 2 | G43: 1 | J43: 5 | K43: 4 | L43: 1 | M43: 0 | N43: 1 | O43: 0 | P43: 0 | Q43: 0 | S43: 1 | T43: 0 | U43: 1 | V43: 0 | W43: 0 | X43: 1 | Y43: 0 | Z43: 0 | AA43: 6 | AB43: 1 | AC43: 0 | AD43: 0 | AE43: 0 | AJ43: =E43 -> 3 | AK43: =F43+G43+H43+I43 -> 3 | AL43: =J43 -> 5 | AM43: =K43+L43+M43 -> 5 | AN43: =F43+G43+K43 -> 7 | AO43: =X43+Y43+AA43 -> 7 | AP43: =N43 -> 1 | AQ43: =O43+P43+Q43+R43+S43 -> 1 | AR43: =S43 -> 1 | AS43: =T43+U43+V43 -> 1 | AT43: =X43 -> 1 | AU43: =N43+W43 -> 1 | AV43: =AE43 -> 0 | AW43: =AC43+AD43 -> 0 | AX43: =AH43 -> 0 | AY43: =AF43+AG43 -> 0
A44: 2.3 | B44: ¶áñÍ³ñùÇó Í³·áÕ Çñ³íáõÝùÝ»ñÁ ·ñ³Ýó»Éáõ í»ñ³µ»ñÛ³É | E44: 0 | F44: 0 | G44: 0 | AJ44: =E44 -> 0 | AK44: =F44+G44+H44+I44 -> 0 | AL44: =J44 -> 0 | AM44: =K44+L44+M44 -> 0 | AN44: =F44+G44+K44 -> 0 | AO44: =X44+Y44+AA44 -> 0 | AP44: =N44 -> 0 | AQ44: =O44+P44+Q44+R44+S44 -> 0 | AR44: =S44 -> 0 | AS44: =T44+U44+V44 -> 0 | AT44: =X44 -> 0 | AU44: =N44+W44 -> 0 | AV44: =AE44 -> 0 | AW44: =AC44+AD44 -> 0 | AX44: =AH44 -> 0 | AY44: =AF44+AG44 -> 0
A45: 2.4 | B45: ä³ÛÙ³Ý³·ÇñÝ ³Ýí³í»ñ ×³Ý³ã»Éáõ í»ñ³µ»ñÛ³É | E45: 40 | F45: 16 | G45: 24 | J45: 21 | K45: 18 | L45: 3 | M45: 0 | N45: 9 | O45: 2 | P45: 1 | Q45: 3 | S45: 3 | T45: 0 | U45: 3 | V45: 0 | W45: 0 | X45: 9 | Y45: 0 | Z45: 0 | AA45: 49 | AB45: 15 | AC45: 4 | AD45: 0 | AE45: 4 | AF45: 1 | AG45: 0 | AH45: 1 | AJ45: =E45 -> 40 | AK45: =F45+G45+H45+I45 -> 40 | AL45: =J45 -> 21 | AM45: =K45+L45+M45 -> 21 | AN45: =F45+G45+K45 -> 58 | AO45: =X45+Y45+AA45 -> 58 | AP45: =N45 -> 9 | AQ45: =O45+P45+Q45+R45+S45 -> 9 | AR45: =S45 -> 3 | AS45: =T45+U45+V45 -> 3 | AT45: =X45 -> 9 | AU45: =N45+W45 -> 9 | AV45: =AE45 -> 4 | AW45: =AC45+AD45 -> 4 | AX45: =AH45 -> 1 | AY45: =AF45+AG45 -> 1
A46: 2.5 | B46: ä³ÛÙ³Ý³·ñÇÁ í³í»ñ ×³Ý³ã»Éáõ í»ñ³µ»ñÛ³É | E46: 5 | F46: 4 | G46: 1 | J46: 3 | K46: 3 | L46: 0 | M46: 0 | N46: 1 | O46: 0 | P46: 0 | Q46: 0 | S46: 1 | T46: 0 | U46: 1 | V46: 0 | W46: 0 | X46: 1 | Y46: 0 | Z46: 0 | AA46: 7 | AB46: 4 | AC46: 0 | AD46: 0 | AE46: 0 | AJ46: =E46 -> 5 | AK46: =F46+G46+H46+I46 -> 5 | AL46: =J46 -> 3 | AM46: =K46+L46+M46 -> 3 | AN46: =F46+G46+K46 -> 8 | AO46: =X46+Y46+AA46 -> 8 | AP46: =N46 -> 1 | AQ46: =O46+P46+Q46+R46+S46 -> 1 | AR46: =S46 -> 1 | AS46: =T46+U46+V46 -> 1 | AT46: =X46 -> 1 | AU46: =N46+W46 -> 1 | AV46: =AE46 -> 0 | AW46: =AC46+AD46 -> 0 | AX46: =AH46 -> 0 | AY46: =AF46+AG46 -> 0
A47: 2.6 | B47: ä³ÛÙ³Ý³·ñÇó Í³·áÕ Çñ³íáõÝùÝ»ñÁ ·ñ³Ýó»Éáõ í»ñ³µ»ñÛ³É | E47: 0 | F47: 0 | G47: 0 | AJ47: =E47 -> 0 | AK47: =F47+G47+H47+I47 -> 0 | AL47: =J47 -> 0 | AM47: =K47+L47+M47 -> 0 | AN47: =F47+G47+K47 -> 0 | AO47: =X47+Y47+AA47 -> 0 | AP47: =N47 -> 0 | AQ47: =O47+P47+Q47+R47+S47 -> 0 | AR47: =S47 -> 0 | AS47: =T47+U47+V47 -> 0 | AT47: =X47 -> 0 | AU47: =N47+W47 -> 0 | AV47: =AE47 -> 0 | AW47: =AC47+AD47 -> 0 | AX47: =AH47 -> 0 | AY47: =AF47+AG47 -> 0
A48: 2.7 | B48: ä³ÛÙ³Ý³·ÇñÁ ÷á÷áË»Éáõ ¨ ÉáõÍ»Éáõ í»ñ³µ»ñÛ³É | E48: 6 | F48: 0 | G48: 6 | J48: 9 | K48: 7 | L48: 2 | M48: 0 | N48: 3 | O48: 2 | P48: 1 | Q48: 0 | S48: 0 | T48: 0 | U48: 0 | V48: 0 | W48: 0 | X48: 3 | Y48: 0 | Z48: 1 | AA48: 10 | AB48: 1 | AC48: 0 | AD48: 0 | AE48: 0 | AJ48: =E48 -> 6 | AK48: =F48+G48+H48+I48 -> 6 | AL48: =J48 -> 9 | AM48: =K48+L48+M48 -> 9 | AN48: =F48+G48+K48 -> 13 | AO48: =X48+Y48+AA48 -> 13 | AP48: =N48 -> 3 | AQ48: =O48+P48+Q48+R48+S48 -> 3 | AR48: =S48 -> 0 | AS48: =T48+U48+V48 -> 0 | AT48: =X48 -> 3 | AU48: =N48+W48 -> 3 | AV48: =AE48 -> 0 | AW48: =AC48+AD48 -> 0 | AX48: =AH48 -> 0 | AY48: =AF48+AG48 -> 0
A49: 2.8 | B49: ä³ÛÙ³Ý³·Çñ ÏÝù»ÉáõÝ å³ñï³íáñ»óÝ»Éáõ í»ñ³µ»ñÛ³É | E49: 11 | F49: 10 | G49: 1 | J49: 2 | K49: 2 | L49: 0 | M49: 0 | N49: 2 | O49: 0 | P49: 0 | Q49: 0 | S49: 2 | T49: 1 | U49: 1 | V49: 0 | W49: 0 | X49: 2 | Y49: 0 | Z49: 0 | AA49: 11 | AB49: 10 | AC49: 0 | AD49: 0 | AE49: 0 | AJ49: =E49 -> 11 | AK49: =F49+G49+H49+I49 -> 11 | AL49: =J49 -> 2 | AM49: =K49+L49+M49 -> 2 | AN49: =F49+G49+K49 -> 13 | AO49: =X49+Y49+AA49 -> 13 | AP49: =N49 -> 2 | AQ49: =O49+P49+Q49+R49+S49 -> 2 | AR49: =S49 -> 2 | AS49: =T49+U49+V49 -> 2 | AT49: =X49 -> 2 | AU49: =N49+W49 -> 2 | AV49: =AE49 -> 0 | AW49: =AC49+AD49 -> 0 | AX49: =AH49 -> 0 | AY49: =AF49+AG49 -> 0
A50: 2.9 | B50: ²ÛÉ í»×»ñ | E50: 31 | F50: 17 | G50: 14 | J50: 12 | K50: 10 | L50: 2 | M50: 0 | N50: 3 | O50: 1 | P50: 0 | Q50: 1 | S50: 1 | T50: 1 | U50: 0 | V50: 0 | W50: 0 | X50: 3 | Y50: 0 | Z50: 0 | AA50: 37 | AB50: 17 | AC50: 1 | AD50: 3 | AE50: 4 | AF50: 0 | AG50: 2 | AH50: 2 | AJ50: =E50 -> 31 | AK50: =F50+G50+H50+I50 -> 31 | AL50: =J50 -> 12 | AM50: =K50+L50+M50 -> 12 | AN50: =F50+G50+K50 -> 41 | AO50: =X50+Y50+AA50 -> 40 | AP50: =N50 -> 3 | AQ50: =O50+P50+Q50+R50+S50 -> 3 | AR50: =S50 -> 1 | AS50: =T50+U50+V50 -> 1 | AT50: =X50 -> 3 | AU50: =N50+W50 -> 3 | AV50: =AE50 -> 4 | AW50: =AC50+AD50 -> 4 | AX50: =AH50 -> 2 | AY50: =AF50+AG50 -> 2
A51: 3. | B51: Ä³é³Ý·áõÃÛ³Ý Ñ»ï Ï³åí³Í Çñ³í³Ñ³ñ³µ»ñáõÃÛáõÝÝ»ñÇ í»ñ³µ»ñÛ³É ¹³ï³Ï³Ý ·áñÍ»ñ | E51: =SUM(E52:E58) -> 19 | F51: =SUM(F52:F58) -> 2 | G51: =SUM(G52:G58) -> 17 | H51: =SUM(H52:H58) -> 0 | I51: =SUM(I52:I58) -> 0 | J51: =SUM(J52:J58) -> 15 | K51: =SUM(K52:K58) -> 9 | L51: =SUM(L52:L58) -> 6 | ... AH51: =SUM(AH52:AH58) -> 0 | AJ51: =SUM(AJ52:AJ58) -> 19 | AK51: =SUM(AK52:AK58) -> 19 | AL51: =SUM(AL52:AL58) -> 15 | AM51: =SUM(AM52:AM58) -> 15 | AN51: =SUM(AN52:AN58) -> 28 | AO51: =SUM(AO52:AO58) -> 28 | AP51: =SUM(AP52:AP58) -> 10 | AQ51: =SUM(AQ52:AQ58) -> 10 | ... AY51: =SUM(AY52:AY58) -> 0
A52: 3.1 | B52: Îï³ÏÝ ³Ýí³í»ñ ×³Ý³ã»Éáõ í»ñ³µ»ñÛ³É | E52: 1 | F52: 0 | G52: 1 | J52: 0 | K52: 0 | L52: 0 | M52: 0 | N52: 0 | O52: 0 | P52: 0 | Q52: 0 | S52: 0 | T52: 0 | U52: 0 | V52: 0 | W52: 0 | X52: 0 | Y52: 0 | Z52: 0 | AA52: 1 | AB52: 0 | AC52: 0 | AD52: 0 | AE52: 0 | AJ52: =E52 -> 1 | AK52: =F52+G52+H52+I52 -> 1 | AL52: =J52 -> 0 | AM52: =K52+L52+M52 -> 0 | AN52: =F52+G52+K52 -> 1 | AO52: =X52+Y52+AA52 -> 1 | AP52: =N52 -> 0 | AQ52: =O52+P52+Q52+R52+S52 -> 0 | AR52: =S52 -> 0 | AS52: =T52+U52+V52 -> 0 | AT52: =X52 -> 0 | AU52: =N52+W52 -> 0 | AV52: =AE52 -> 0 | AW52: =AC52+AD52 -> 0 | AX52: =AH52 -> 0 | AY52: =AF52+AG52 -> 0
A53: 3.2 | B53: ²Ý³ñÅ³Ý Å³é³Ý· ×³Ý³ã»Éáõ í»ñ³µ»ñÛ³É | E53: 0 | F53: 0 | G53: 0 | AJ53: =E53 -> 0 | AK53: =F53+G53+H53+I53 -> 0 | AL53: =J53 -> 0 | AM53: =K53+L53+M53 -> 0 | AN53: =F53+G53+K53 -> 0 | AO53: =X53+Y53+AA53 -> 0 | AP53: =N53 -> 0 | AQ53: =O53+P53+Q53+R53+S53 -> 0 | AR53: =S53 -> 0 | AS53: =T53+U53+V53 -> 0 | AT53: =X53 -> 0 | AU53: =N53+W53 -> 0 | AV53: =AE53 -> 0 | AW53: =AC53+AD53 -> 0 | AX53: =AH53 -> 0 | AY53: =AF53+AG53 -> 0
A54: 3.3 | B54: Ä³é³Ý·áõÃÛáõÝÁ µ³Å³Ý»Éáõ í»ñ³µ»ñÛ³É | E54: 1 | F54: 0 | G54: 1 | J54: 1 | K54: 1 | L54: 0 | M54: 0 | N54: 1 | O54: 0 | P54: 0 | Q54: 0 | S54: 1 | T54: 0 | U54: 1 | V54: 0 | W54: 0 | X54: 1 | Y54: 0 | Z54: 0 | AA54: 1 | AB54: 0 | AC54: 0 | AD54: 0 | AE54: 0 | AJ54: =E54 -> 1 | AK54: =F54+G54+H54+I54 -> 1 | AL54: =J54 -> 1 | AM54: =K54+L54+M54 -> 1 | AN54: =F54+G54+K54 -> 2 | AO54: =X54+Y54+AA54 -> 2 | AP54: =N54 -> 1 | AQ54: =O54+P54+Q54+R54+S54 -> 1 | AR54: =S54 -> 1 | AS54: =T54+U54+V54 -> 1 | AT54: =X54 -> 1 | AU54: =N54+W54 -> 1 | AV54: =AE54 -> 0 | AW54: =AC54+AD54 -> 0 | AX54: =AH54 -> 0 | AY54: =AF54+AG54 -> 0
A55: 3.4 | B55: ¶áõÛùÝ ³ÝÅ³é³Ý· ×³Ý³ã»Éáõ í»ñ³µ»ñÛ³É | E55: 1 | F55: 0 | G55: 1 | J55: 0 | K55: 0 | L55: 0 | M55: 0 | N55: 1 | O55: 0 | P55: 0 | Q55: 1 | S55: 0 | T55: 0 | U55: 0 | V55: 0 | W55: 0 | X55: 1 | Y55: 0 | Z55: 0 | AA55: 0 | AB55: 0 | AC55: 1 | AD55: 0 | AE55: 1 | AJ55: =E55 -> 1 | AK55: =F55+G55+H55+I55 -> 1 | AL55: =J55 -> 0 | AM55: =K55+L55+M55 -> 0 | AN55: =F55+G55+K55 -> 1 | AO55: =X55+Y55+AA55 -> 1 | AP55: =N55 -> 1 | AQ55: =O55+P55+Q55+R55+S55 -> 1 | AR55: =S55 -> 0 | AS55: =T55+U55+V55 -> 0 | AT55: =X55 -> 1 | AU55: =N55+W55 -> 1 | AV55: =AE55 -> 1 | AW55: =AC55+AD55 -> 1 | AX55: =AH55 -> 0 | AY55: =AF55+AG55 -> 0
A56: 3.5 | B56: Àëï ûñ»ÝùÇ Å³é³Ý·áõÃÛ³Ý Çñ³íáõÝùÇ íÏ³Û³·ÇñÝ ³Ýí³í»ñ ×³Ý³ã»Éáõ í»ñ³µ»ñÛ³É | E56: 0 | F56: 0 | G56: 0 | J56: 1 | K56: 1 | L56: 0 | M56: 0 | N56: 0 | O56: 0 | P56: 0 | Q56: 0 | S56: 0 | T56: 0 | U56: 0 | V56: 0 | W56: 0 | X56: 0 | Y56: 0 | AA56: 1 | AB56: 0 | AJ56: =E56 -> 0 | AK56: =F56+G56+H56+I56 -> 0 | AL56: =J56 -> 1 | AM56: =K56+L56+M56 -> 1 | AN56: =F56+G56+K56 -> 1 | AO56: =X56+Y56+AA56 -> 1 | AP56: =N56 -> 0 | AQ56: =O56+P56+Q56+R56+S56 -> 0 | AR56: =S56 -> 0 | AS56: =T56+U56+V56 -> 0 | AT56: =X56 -> 0 | AU56: =N56+W56 -> 0 | AV56: =AE56 -> 0 | AW56: =AC56+AD56 -> 0 | AX56: =AH56 -> 0 | AY56: =AF56+AG56 -> 0
A57: 3.6 | B57: Ä³é³Ý·áõÃÛáõÝÝ ÁÝ¹áõÝ»Éáõ µ³ó ÃáÕÝí³Í Å³ÙÏ»ïÁ Ñ³ñ·»ÉÇ Ñ³Ù³ñ»Éáõ í»ñ³µ»ñÛ³É | E57: 1 | F57: 1 | G57: 0 | J57: 1 | K57: 0 | L57: 1 | M57: 0 | N57: 0 | O57: 0 | P57: 0 | Q57: 0 | S57: 0 | T57: 0 | U57: 0 | V57: 0 | W57: 0 | X57: 0 | Y57: 0 | Z57: 0 | AA57: 1 | AB57: 1 | AC57: 0 | AD57: 0 | AE57: 0 | AJ57: =E57 -> 1 | AK57: =F57+G57+H57+I57 -> 1 | AL57: =J57 -> 1 | AM57: =K57+L57+M57 -> 1 | AN57: =F57+G57+K57 -> 1 | AO57: =X57+Y57+AA57 -> 1 | AP57: =N57 -> 0 | AQ57: =O57+P57+Q57+R57+S57 -> 0 | AR57: =S57 -> 0 | AS57: =T57+U57+V57 -> 0 | AT57: =X57 -> 0 | AU57: =N57+W57 -> 0 | AV57: =AE57 -> 0 | AW57: =AC57+AD57 -> 0 | AX57: =AH57 -> 0 | AY57: =AF57+AG57 -> 0
A58: 3.7 | B58: ²ÛÉ í»×»ñ | E58: 15 | F58: 1 | G58: 14 | J58: 12 | K58: 7 | L58: 5 | M58: 0 | N58: 8 | O58: 3 | P58: 0 | Q58: 2 | S58: 3 | T58: 0 | U58: 3 | V58: 0 | W58: 0 | X58: 8 | Y58: 0 | Z58: 1 | AA58: 14 | AB58: 2 | AC58: 3 | AD58: 0 | AE58: 3 | AJ58: =E58 -> 15 | AK58: =F58+G58+H58+I58 -> 15 | AL58: =J58 -> 12 | AM58: =K58+L58+M58 -> 12 | AN58: =F58+G58+K58 -> 22 | AO58: =X58+Y58+AA58 -> 22 | AP58: =N58 -> 8 | AQ58: =O58+P58+Q58+R58+S58 -> 8 | AR58: =S58 -> 3 | AS58: =T58+U58+V58 -> 3 | AT58: =X58 -> 8 | AU58: =N58+W58 -> 8 | AV58: =AE58 -> 3 | AW58: =AC58+AD58 -> 3 | AX58: =AH58 -> 0 | AY58: =AF58+AG58 -> 0
A59: 4 | B59: ÀÝï³Ý»Ï³Ý Çñ³í³Ñ³ñ³µ»ñáõÃÛáõÝÝ»ñÇ í»ñ³µ»ñÛ³É ¹³ï³Ï³Ý ·áñÍ»ñ | E59: =SUM(E60:E72) -> 102 | F59: =SUM(F60:F72) -> 3 | G59: =SUM(G60:G72) -> 99 | H59: =SUM(H60:H72) -> 0 | I59: =SUM(I60:I72) -> 0 | J59: =SUM(J60:J72) -> 185 | K59: =SUM(K60:K72) -> 164 | L59: =SUM(L60:L72) -> 20 | ... AH59: =SUM(AH60:AH72) -> 0 | AJ59: =SUM(AJ60:AJ72) -> 102 | AK59: =SUM(AK60:AK72) -> 102 | AL59: =SUM(AL60:AL72) -> 185 | AM59: =SUM(AM60:AM72) -> 185 | AN59: =SUM(AN60:AN72) -> 266 | AO59: =SUM(AO60:AO72) -> 266 | AP59: =SUM(AP60:AP72) -> 101 | AQ59: =SUM(AQ60:AQ72) -> 101 | ... AY59: =SUM(AY60:AY72) -> 0
A60: 4.1 | B60: ²ÙáõëÝ³ÉáõÍáõÃÛ³Ý í»ñ³µ»ñÛ³É | E60: 60 | F60: 0 | G60: 60 | J60: 111 | K60: 97 | L60: 14 | M60: 0 | N60: 70 | O60: 36 | P60: 9 | Q60: 1 | S60: 24 | T60: 1 | U60: 23 | V60: 0 | W60: 0 | X60: 70 | Y60: 1 | Z60: 1 | AA60: 86 | AB60: 1 | AC60: 3 | AD60: 0 | AE60: 3 | AJ60: =E60 -> 60 | AK60: =F60+G60+H60+I60 -> 60 | AL60: =J60 -> 111 | AM60: =K60+L60+M60 -> 111 | AN60: =F60+G60+K60 -> 157 | AO60: =X60+Y60+AA60 -> 157 | AP60: =N60 -> 70 | AQ60: =O60+P60+Q60+R60+S60 -> 70 | AR60: =S60 -> 24 | AS60: =T60+U60+V60 -> 24 | AT60: =X60 -> 70 | AU60: =N60+W60 -> 70 | AV60: =AE60 -> 3 | AW60: =AC60+AD60 -> 3 | AX60: =AH60 -> 0 | AY60: =AF60+AG60 -> 0
A61: 4.2 | B61: ²ÉÇÙ»ÝïÇ å³Ñ³ÝçÇ í»ñ³µ»ñÛ³É | E61: 14 | F61: 1 | G61: 13 | J61: 30 | K61: 28 | L61: 2 | M61: 0 | N61: 10 | O61: 7 | P61: 3 | Q61: 0 | S61: 0 | T61: 0 | U61: 0 | V61: 0 | W61: 0 | X61: 10 | Y61: 0 | Z61: 0 | AA61: 32 | AB61: 1 | AC61: 2 | AD61: 0 | AE61: 2 | AJ61: =E61 -> 14 | AK61: =F61+G61+H61+I61 -> 14 | AL61: =J61 -> 30 | AM61: =K61+L61+M61 -> 30 | AN61: =F61+G61+K61 -> 42 | AO61: =X61+Y61+AA61 -> 42 | AP61: =N61 -> 10 | AQ61: =O61+P61+Q61+R61+S61 -> 10 | AR61: =S61 -> 0 | AS61: =T61+U61+V61 -> 0 | AT61: =X61 -> 10 | AU61: =N61+W61 -> 10 | AV61: =AE61 -> 2 | AW61: =AC61+AD61 -> 2 | AX61: =AH61 -> 0 | AY61: =AF61+AG61 -> 0
A62: 4.3 | B62: ²ÉÇÙ»ÝïÇ ã³÷Á ÷á÷áË»Éáõ í»ñ³µ»ñÛ³É | E62: 3 | F62: 1 | G62: 2 | J62: 8 | K62: 7 | L62: 1 | M62: 0 | N62: 2 | O62: 0 | P62: 0 | Q62: 1 | S62: 1 | T62: 0 | U62: 1 | V62: 0 | W62: 0 | X62: 2 | Y62: 0 | Z62: 0 | AA62: 8 | AB62: 0 | AC62: 0 | AD62: 0 | AE62: 0 | AJ62: =E62 -> 3 | AK62: =F62+G62+H62+I62 -> 3 | AL62: =J62 -> 8 | AM62: =K62+L62+M62 -> 8 | AN62: =F62+G62+K62 -> 10 | AO62: =X62+Y62+AA62 -> 10 | AP62: =N62 -> 2 | AQ62: =O62+P62+Q62+R62+S62 -> 2 | AR62: =S62 -> 1 | AS62: =T62+U62+V62 -> 1 | AT62: =X62 -> 2 | AU62: =N62+W62 -> 2 | AV62: =AE62 -> 0 | AW62: =AC62+AD62 -> 0 | AX62: =AH62 -> 0 | AY62: =AF62+AG62 -> 0
A63: 4.4 | B63: ÌÝáÕ³Ï³Ý Çñ³íáõÝùÝ»ñÇó ½ñÏ»Éáõ í»ñ³µ»ñÛ³É | E63: 0 | F63: 0 | G63: 0 | J63: 1 | K63: 1 | L63: 0 | M63: 0 | N63: 0 | O63: 0 | P63: 0 | Q63: 0 | S63: 0 | T63: 0 | U63: 0 | V63: 0 | W63: 0 | X63: 0 | Y63: 0 | Z63: 0 | AA63: 1 | AB63: 0 | AC63: 0 | AD63: 0 | AE63: 0 | AJ63: =E63 -> 0 | AK63: =F63+G63+H63+I63 -> 0 | AL63: =J63 -> 1 | AM63: =K63+L63+M63 -> 1 | AN63: =F63+G63+K63 -> 1 | AO63: =X63+Y63+AA63 -> 1 | AP63: =N63 -> 0 | AQ63: =O63+P63+Q63+R63+S63 -> 0 | AR63: =S63 -> 0 | AS63: =T63+U63+V63 -> 0 | AT63: =X63 -> 0 | AU63: =N63+W63 -> 0 | AV63: =AE63 -> 0 | AW63: =AC63+AD63 -> 0 | AX63: =AH63 -> 0 | AY63: =AF63+AG63 -> 0
A64: 4.5 | B64: ÌÝáÕ³Ï³Ý Çñ³íáõÝùÝ»ñÁ í»ñ³Ï³Ý·Ý»Éáõ í»ñ³µ»ñÛ³É | E64: 0 | F64: 0 | G64: 0 | AJ64: =E64 -> 0 | AK64: =F64+G64+H64+I64 -> 0 | AL64: =J64 -> 0 | AM64: =K64+L64+M64 -> 0 | AN64: =F64+G64+K64 -> 0 | AO64: =X64+Y64+AA64 -> 0 | AP64: =N64 -> 0 | AQ64: =O64+P64+Q64+R64+S64 -> 0 | AR64: =S64 -> 0 | AS64: =T64+U64+V64 -> 0 | AT64: =X64 -> 0 | AU64: =N64+W64 -> 0 | AV64: =AE64 -> 0 | AW64: =AC64+AD64 -> 0 | AX64: =AH64 -> 0 | AY64: =AF64+AG64 -> 0
A65: 4.6 | B65: ºñ»Ë³ÛÇ áñ¹»·ñÙ³Ý í»ñ³µ»ñÛ³É | E65: 2 | F65: 0 | G65: 2 | J65: 2 | K65: 2 | L65: 0 | M65: 0 | N65: 1 | O65: 1 | P65: 0 | Q65: 0 | S65: 0 | T65: 0 | U65: 0 | V65: 0 | W65: 0 | X65: 1 | Y65: 1 | Z65: 0 | AA65: 2 | AB65: 0 | AC65: 0 | AD65: 0 | AE65: 0 | AJ65: =E65 -> 2 | AK65: =F65+G65+H65+I65 -> 2 | AL65: =J65 -> 2 | AM65: =K65+L65+M65 -> 2 | AN65: =F65+G65+K65 -> 4 | AO65: =X65+Y65+AA65 -> 4 | AP65: =N65 -> 1 | AQ65: =O65+P65+Q65+R65+S65 -> 1 | AR65: =S65 -> 0 | AS65: =T65+U65+V65 -> 0 | AT65: =X65 -> 1 | AU65: =N65+W65 -> 1 | AV65: =AE65 -> 0 | AW65: =AC65+AD65 -> 0 | AX65: =AH65 -> 0 | AY65: =AF65+AG65 -> 0
A66: 4.7 | B66: ºñ»Ë³ÛÇ áñ¹»·ñáõÙÁ í»ñ³óÝ»Éáõ í»ñ³µ»ñÛ³É | E66: 0 | F66: 0 | G66: 0 | AJ66: =E66 -> 0 | AK66: =F66+G66+H66+I66 -> 0 | AL66: =J66 -> 0 | AM66: =K66+L66+M66 -> 0 | AN66: =F66+G66+K66 -> 0 | AO66: =X66+Y66+AA66 -> 0 | AP66: =N66 -> 0 | AQ66: =O66+P66+Q66+R66+S66 -> 0 | AR66: =S66 -> 0 | AS66: =T66+U66+V66 -> 0 | AT66: =X66 -> 0 | AU66: =N66+W66 -> 0 | AV66: =AE66 -> 0 | AW66: =AC66+AD66 -> 0 | AX66: =AH66 -> 0 | AY66: =AF66+AG66 -> 0
A67: 4.8 | B67: Ð³ÛñáõÃÛáõÝÁ ×³Ý³ã»Éáõ í»ñ³µ»ñÛ³É | E67: 2 | F67: 1 | G67: 1 | J67: 6 | K67: 6 | L67: 0 | M67: 0 | N67: 2 | O67: 1 | P67: 0 | Q67: 0 | S67: 1 | T67: 1 | U67: 0 | V67: 0 | W67: 0 | X67: 2 | Y67: 0 | Z67: 1 | AA67: 6 | AB67: 2 | AC67: 0 | AD67: 0 | AE67: 0 | AJ67: =E67 -> 2 | AK67: =F67+G67+H67+I67 -> 2 | AL67: =J67 -> 6 | AM67: =K67+L67+M67 -> 6 | AN67: =F67+G67+K67 -> 8 | AO67: =X67+Y67+AA67 -> 8 | AP67: =N67 -> 2 | AQ67: =O67+P67+Q67+R67+S67 -> 2 | AR67: =S67 -> 1 | AS67: =T67+U67+V67 -> 1 | AT67: =X67 -> 2 | AU67: =N67+W67 -> 2 | AV67: =AE67 -> 0 | AW67: =AC67+AD67 -> 0 | AX67: =AH67 -> 0 | AY67: =AF67+AG67 -> 0
A68: 4.9 | B68: ºñ»Ë³ÛÇ µÝ³ÏáõÃÛ³Ý í³ÛñÁ áñáß»Éáõ í»ñ³µ»ñÛ³É | E68: 2 | F68: 0 | G68: 2 | J68: 7 | K68: 6 | L68: 1 | M68: 0 | N68: 0 | O68: 0 | P68: 0 | Q68: 0 | S68: 0 | T68: 0 | U68: 0 | V68: 0 | W68: 0 | X68: 0 | Y68: 0 | Z68: 0 | AA68: 8 | AB68: 0 | AC68: 0 | AD68: 0 | AE68: 0 | AJ68: =E68 -> 2 | AK68: =F68+G68+H68+I68 -> 2 | AL68: =J68 -> 7 | AM68: =K68+L68+M68 -> 7 | AN68: =F68+G68+K68 -> 8 | AO68: =X68+Y68+AA68 -> 8 | AP68: =N68 -> 0 | AQ68: =O68+P68+Q68+R68+S68 -> 0 | AR68: =S68 -> 0 | AS68: =T68+U68+V68 -> 0 | AT68: =X68 -> 0 | AU68: =N68+W68 -> 0 | AV68: =AE68 -> 0 | AW68: =AC68+AD68 -> 0 | AX68: =AH68 -> 0 | AY68: =AF68+AG68 -> 0
A69: 4.10 | B69: ºñ»Ë³ÛÇ Ñ»ï ï»ë³ÏóáõÃÛ³Ý Ï³ñ· ë³ÑÙ³Ý»Éáõ í»ñ³µ»ñÛ³É | E69: 13 | F69: 0 | G69: 13 | J69: 16 | K69: 15 | L69: 1 | M69: 0 | N69: 11 | O69: 2 | P69: 4 | Q69: 1 | S69: 4 | T69: 2 | U69: 2 | V69: 0 | W69: 0 | X69: 11 | Y69: 0 | Z69: 0 | AA69: 17 | AB69: 0 | AC69: 2 | AD69: 0 | AE69: 2 | AJ69: =E69 -> 13 | AK69: =F69+G69+H69+I69 -> 13 | AL69: =J69 -> 16 | AM69: =K69+L69+M69 -> 16 | AN69: =F69+G69+K69 -> 28 | AO69: =X69+Y69+AA69 -> 28 | AP69: =N69 -> 11 | AQ69: =O69+P69+Q69+R69+S69 -> 11 | AR69: =S69 -> 4 | AS69: =T69+U69+V69 -> 4 | AT69: =X69 -> 11 | AU69: =N69+W69 -> 11 | AV69: =AE69 -> 2 | AW69: =AC69+AD69 -> 2 | AX69: =AH69 -> 0 | AY69: =AF69+AG69 -> 0
A70: 4.11 | B70: ²ÙáõëÇÝÝ»ñÇ ÁÝ¹Ñ³Ýáõñ ·áõÛùÁ µ³Å³Ý»Éáõ í»ñ³µ»ñÛ³É | E70: 1 | F70: 0 | G70: 1 | J70: 2 | K70: 2 | L70: 0 | M70: 0 | N70: 1 | O70: 0 | P70: 0 | Q70: 0 | S70: 1 | T70: 0 | U70: 1 | V70: 0 | W70: 0 | X70: 1 | Y70: 0 | Z70: 0 | AA70: 2 | AB70: 0 | AC70: 0 | AD70: 0 | AE70: 0 | AJ70: =E70 -> 1 | AK70: =F70+G70+H70+I70 -> 1 | AL70: =J70 -> 2 | AM70: =K70+L70+M70 -> 2 | AN70: =F70+G70+K70 -> 3 | AO70: =X70+Y70+AA70 -> 3 | AP70: =N70 -> 1 | AQ70: =O70+P70+Q70+R70+S70 -> 1 | AR70: =S70 -> 1 | AS70: =T70+U70+V70 -> 1 | AT70: =X70 -> 1 | AU70: =N70+W70 -> 1 | AV70: =AE70 -> 0 | AW70: =AC70+AD70 -> 0 | AX70: =AH70 -> 0 | AY70: =AF70+AG70 -> 0
A71: 4.12 | B71: ²ÙáõëÝ³Ï³Ý å³ÛÙ³Ý³·ñÇ ÷á÷áËÙ³Ý Ï³Ù ÉáõÍÙ³Ý í»ñ³µ»ñÛ³É | E71: 0 | F71: 0 | G71: 0 | AJ71: =E71 -> 0 | AK71: =F71+G71+H71+I71 -> 0 | AL71: =J71 -> 0 | AM71: =K71+L71+M71 -> 0 | AN71: =F71+G71+K71 -> 0 | AO71: =X71+Y71+AA71 -> 0 | AP71: =N71 -> 0 | AQ71: =O71+P71+Q71+R71+S71 -> 0 | AR71: =S71 -> 0 | AS71: =T71+U71+V71 -> 0 | AT71: =X71 -> 0 | AU71: =N71+W71 -> 0 | AV71: =AE71 -> 0 | AW71: =AC71+AD71 -> 0 | AX71: =AH71 -> 0 | AY71: =AF71+AG71 -> 0
A72: 4.13 | B72: ²ÛÉ í»×»ñ | E72: 5 | F72: 0 | G72: 5 | J72: 2 | K72: 0 | L72: 1 | M72: 1 | N72: 4 | O72: 1 | P72: 1 | Q72: 0 | S72: 2 | T72: 0 | U72: 2 | V72: 0 | W72: 0 | X72: 4 | Y72: 0 | Z72: 0 | AA72: 1 | AB72: 0 | AC72: 0 | AD72: 0 | AE72: 0 | AJ72: =E72 -> 5 | AK72: =F72+G72+H72+I72 -> 5 | AL72: =J72 -> 2 | AM72: =K72+L72+M72 -> 2 | AN72: =F72+G72+K72 -> 5 | AO72: =X72+Y72+AA72 -> 5 | AP72: =N72 -> 4 | AQ72: =O72+P72+Q72+R72+S72 -> 4 | AR72: =S72 -> 2 | AS72: =T72+U72+V72 -> 2 | AT72: =X72 -> 4 | AU72: =N72+W72 -> 4 | AV72: =AE72 -> 0 | AW72: =AC72+AD72 -> 0 | AX72: =AH72 -> 0 | AY72: =AF72+AG72 -> 0
A73: 5. | B73: Øï³íáñ ë»÷³Ï³ÝáõÃÛ³Ý Ñ»ï Ï³åí³ÍÇñ³í³Ñ³ñ³µ»ñáõÃÛáõÝÝ»ñÇ í»ñ³µ»ñÛ³É ¹³ï³Ï³Ý ·áñÍ»ñ | E73: =SUM(E74:E79) -> 0 | F73: =SUM(F74:F79) -> 0 | G73: =SUM(G74:G79) -> 0 | H73: =SUM(H74:H79) -> 0 | I73: =SUM(I74:I79) -> 0 | J73: =SUM(J74:J79) -> 0 | K73: =SUM(K74:K79) -> 0 | L73: =SUM(L74:L79) -> 0 | ... AH73: =SUM(AH74:AH79) -> 0 | AJ73: =SUM(AJ74:AJ79) -> 0 | AK73: =SUM(AK74:AK79) -> 0 | AL73: =SUM(AL74:AL79) -> 0 | AM73: =SUM(AM74:AM79) -> 0 | AN73: =SUM(AN74:AN79) -> 0 | AO73: =SUM(AO74:AO79) -> 0 | AP73: =SUM(AP74:AP79) -> 0 | AQ73: =SUM(AQ74:AQ79) -> 0 | ... AX73: =SUM(AX74:AX79) -> 0 | AY73: =AF73+AG73 -> 0
A74: 5.1 | B74: ÈÇó»Ý½³ÛÇÝ å³ÛÙ³Ý³·ñÇ ÉáõÍÙ³Ý, ÷á÷áËÙ³Ý ¨ ³Ýí³í»ñáõÃÛ³Ý í»ñ³µ»ñÛ³É | AJ74: =E74 -> 0 | AK74: =F74+G74+H74+I74 -> 0 | AL74: =J74 -> 0 | AM74: =K74+L74+M74 -> 0 | AN74: =F74+G74+K74 -> 0 | AO74: =X74+Y74+AA74 -> 0 | AP74: =N74 -> 0 | AQ74: =O74+P74+Q74+R74+S74 -> 0 | AR74: =S74 -> 0 | AS74: =T74+U74+V74 -> 0 | AT74: =X74 -> 0 | AU74: =N74+W74 -> 0 | AV74: =AE74 -> 0 | AW74: =AC74+AD74 -> 0 | AX74: =AH74 -> 0 | AY74: =AF74+AG74 -> 0
A75: 5.2 | B75: Øï³íáñ ·áñÍáõÝ»áõÃÛ³Ý ³ñ¹ÛáõÝùÝ»ñ ëï»ÕÍ»Éáõ ¨ û·ï³·áñÍ»Éáõ å³ÛÙ³Ý³·ñÇ ÉáõÍÙ³Ý, ÷á÷áËÙ³Ý áõ ³Ýí³í»ñáõÃÛ³Ý í»ñ³µ»ñÛ³É | AJ75: =E75 -> 0 | AK75: =F75+G75+H75+I75 -> 0 | AL75: =J75 -> 0 | AM75: =K75+L75+M75 -> 0 | AN75: =F75+G75+K75 -> 0 | AO75: =X75+Y75+AA75 -> 0 | AP75: =N75 -> 0 | AQ75: =O75+P75+Q75+R75+S75 -> 0 | AR75: =S75 -> 0 | AS75: =T75+U75+V75 -> 0 | AT75: =X75 -> 0 | AU75: =N75+W75 -> 0 | AV75: =AE75 -> 0 | AW75: =AC75+AD75 -> 0 | AX75: =AH75 -> 0 | AY75: =AF75+AG75 -> 0
A76: 5.3 | B76: Ð»ÕÇÝ³Ï³ÛÇÝ ¨ Ñ³ñ³ÏÇó Çñ³íáõÝùÝ»ñÇ í»ñ³µ»ñÛ³É | AJ76: =E76 -> 0 | AK76: =F76+G76+H76+I76 -> 0 | AL76: =J76 -> 0 | AM76: =K76+L76+M76 -> 0 | AN76: =F76+G76+K76 -> 0 | AO76: =X76+Y76+AA76 -> 0 | AP76: =N76 -> 0 | AQ76: =O76+P76+Q76+R76+S76 -> 0 | AR76: =S76 -> 0 | AS76: =T76+U76+V76 -> 0 | AT76: =X76 -> 0 | AU76: =N76+W76 -> 0 | AV76: =AE76 -> 0 | AW76: =AC76+AD76 -> 0 | AX76: =AH76 -> 0 | AY76: =AF76+AG76 -> 0
A77: 5.4 | B77: üÇñÙ³ÛÇÝ ³Ýí³ÝÙ³Ý í»ñ³µ»ñÛ³É | AJ77: =E77 -> 0 | AK77: =F77+G77+H77+I77 -> 0 | AL77: =J77 -> 0 | AM77: =K77+L77+M77 -> 0 | AN77: =F77+G77+K77 -> 0 | AO77: =X77+Y77+AA77 -> 0 | AP77: =N77 -> 0 | AQ77: =O77+P77+Q77+R77+S77 -> 0 | AR77: =S77 -> 0 | AS77: =T77+U77+V77 -> 0 | AT77: =X77 -> 0 | AU77: =N77+W77 -> 0 | AV77: =AE77 -> 0 | AW77: =AC77+AD77 -> 0 | AX77: =AH77 -> 0 | AY77: =AF77+AG77 -> 0
A78: 5.5 | B78: ²åñ³Ýù³ÛÇÝ Ýß³ÝÇ í»ñ³µ»ñÛ³É | AJ78: =E78 -> 0 | AK78: =F78+G78+H78+I78 -> 0 | AL78: =J78 -> 0 | AM78: =K78+L78+M78 -> 0 | AN78: =F78+G78+K78 -> 0 | AO78: =X78+Y78+AA78 -> 0 | AP78: =N78 -> 0 | AQ78: =O78+P78+Q78+R78+S78 -> 0 | AR78: =S78 -> 0 | AS78: =T78+U78+V78 -> 0 | AT78: =X78 -> 0 | AU78: =N78+W78 -> 0 | AV78: =AE78 -> 0 | AW78: =AC78+AD78 -> 0 | AX78: =AH78 -> 0 | AY78: =AF78+AG78 -> 0
A79: 5.6 | B79: ²ÛÉ í»×»ñ | AJ79: =E79 -> 0 | AK79: =F79+G79+H79+I79 -> 0 | AL79: =J79 -> 0 | AM79: =K79+L79+M79 -> 0 | AN79: =F79+G79+K79 -> 0 | AO79: =X79+Y79+AA79 -> 0 | AP79: =N79 -> 0 | AQ79: =O79+P79+Q79+R79+S79 -> 0 | AR79: =S79 -> 0 | AS79: =T79+U79+V79 -> 0 | AT79: =X79 -> 0 | AU79: =N79+W79 -> 0 | AV79: =AE79 -> 0 | AW79: =AC79+AD79 -> 0 | AX79: =AH79 -> 0 | AY79: =AF79+AG79 -> 0
A80: 6. | B80: ²ßË³ï³Ýù³ÛÇÝ Çñ³í³Ñ³ñ³µ»ñáõÃÛáõÝÝ»ñÇ í»ñ³µ»ñÛ³É ¹³ï³Ï³Ý ·áñÍ»ñ | E80: =SUM(E81:E86) -> 10 | F80: =SUM(F81:F86) -> 1 | G80: =SUM(G81:G86) -> 9 | H80: =SUM(H81:H86) -> 0 | I80: =SUM(I81:I86) -> 0 | J80: =SUM(J81:J86) -> 6 | K80: =SUM(K81:K86) -> 6 | L80: =SUM(L81:L86) -> 0 | ... AH80: =SUM(AH81:AH86) -> 0 | AJ80: =SUM(AJ81:AJ86) -> 10 | AK80: =SUM(AK81:AK86) -> 10 | AL80: =SUM(AL81:AL86) -> 6 | AM80: =SUM(AM81:AM86) -> 6 | AN80: =SUM(AN81:AN86) -> 16 | AO80: =SUM(AO81:AO86) -> 16 | AP80: =SUM(AP81:AP86) -> 6 | AQ80: =SUM(AQ81:AQ86) -> 6 | ... AY80: =SUM(AY81:AY86) -> 0
A81: 6.1 | B81: ²ßË³ï³Ýù³ÛÇÝ å³ÛÙ³Ý³·ñ»ñÇ í»ñ³µ»ñÛ³É | AJ81: =E81 -> 0 | AK81: =F81+G81+H81+I81 -> 0 | AL81: =J81 -> 0 | AM81: =K81+L81+M81 -> 0 | AN81: =F81+G81+K81 -> 0 | AO81: =X81+Y81+AA81 -> 0 | AP81: =N81 -> 0 | AQ81: =O81+P81+Q81+R81+S81 -> 0 | AR81: =S81 -> 0 | AS81: =T81+U81+V81 -> 0 | AT81: =X81 -> 0 | AU81: =N81+W81 -> 0 | AV81: =AE81 -> 0 | AW81: =AC81+AD81 -> 0 | AX81: =AH81 -> 0 | AY81: =AF81+AG81 -> 0
A82: 6.2 | B82: ²ßË³ï³ÝùáõÙ í»ñ³Ï³Ý·Ý»Éáõ í»ñ³µ»ñÛ³É | E82: 2 | F82: 0 | G82: 2 | J82: 3 | K82: 3 | L82: 0 | M82: 0 | N82: 3 | O82: 2 | P82: 0 | Q82: 1 | S82: 0 | T82: 0 | U82: 0 | V82: 0 | W82: 0 | X82: 3 | Y82: 0 | Z82: 0 | AA82: 2 | AB82: 0 | AC82: 1 | AD82: 0 | AE82: 1 | AJ82: =E82 -> 2 | AK82: =F82+G82+H82+I82 -> 2 | AL82: =J82 -> 3 | AM82: =K82+L82+M82 -> 3 | AN82: =F82+G82+K82 -> 5 | AO82: =X82+Y82+AA82 -> 5 | AP82: =N82 -> 3 | AQ82: =O82+P82+Q82+R82+S82 -> 3 | AR82: =S82 -> 0 | AS82: =T82+U82+V82 -> 0 | AT82: =X82 -> 3 | AU82: =N82+W82 -> 3 | AV82: =AE82 -> 1 | AW82: =AC82+AD82 -> 1 | AX82: =AH82 -> 0 | AY82: =AF82+AG82 -> 0
A83: 6.3 | B83: ¶áñÍ³¹áõÉÝ ³ÝûñÇÝ³Ï³Ý ×³Ý³ã»Éáõ í»ñ³µ»ñÛ³É | AJ83: =E83 -> 0 | AK83: =F83+G83+H83+I83 -> 0 | AL83: =J83 -> 0 | AM83: =K83+L83+M83 -> 0 | AN83: =F83+G83+K83 -> 0 | AO83: =X83+Y83+AA83 -> 0 | AP83: =N83 -> 0 | AQ83: =O83+P83+Q83+R83+S83 -> 0 | AR83: =S83 -> 0 | AS83: =T83+U83+V83 -> 0 | AT83: =X83 -> 0 | AU83: =N83+W83 -> 0 | AV83: =AE83 -> 0 | AW83: =AC83+AD83 -> 0 | AX83: =AH83 -> 0 | AY83: =AF83+AG83 -> 0
A84: 6.4 | B84: Ð³ñÏ³¹Çñ å³ñ³åáõñ¹Ç Ñ³ïáõóÙ³Ý í»ñ³µ»ñÛ³É | AJ84: =E84 -> 0 | AK84: =F84+G84+H84+I84 -> 0 | AL84: =J84 -> 0 | AM84: =K84+L84+M84 -> 0 | AN84: =F84+G84+K84 -> 0 | AO84: =X84+Y84+AA84 -> 0 | AP84: =N84 -> 0 | AQ84: =O84+P84+Q84+R84+S84 -> 0 | AR84: =S84 -> 0 | AS84: =T84+U84+V84 -> 0 | AT84: =X84 -> 0 | AU84: =N84+W84 -> 0 | AV84: =AE84 -> 0 | AW84: =AC84+AD84 -> 0 | AX84: =AH84 -> 0 | AY84: =AF84+AG84 -> 0
A85: 6.5 | B85: âí×³ñí³Í ³ßË³ï³í³ñÓÇ ¨/Ï³Ù ³ÛÉ í×³ñÝ»ñÇ µéÝ³·³ÝÓÙ³Ý í»ñ³µ»ñÛ³É | E85: 4 | F85: 0 | G85: 4 | J85: 1 | K85: 1 | L85: 0 | M85: 0 | N85: 2 | O85: 0 | P85: 0 | Q85: 2 | S85: 0 | T85: 0 | U85: 0 | V85: 0 | W85: 0 | X85: 2 | Y85: 0 | Z85: 0 | AA85: 3 | AB85: 0 | AC85: 1 | AD85: 0 | AE85: 1 | AJ85: =E85 -> 4 | AK85: =F85+G85+H85+I85 -> 4 | AL85: =J85 -> 1 | AM85: =K85+L85+M85 -> 1 | AN85: =F85+G85+K85 -> 5 | AO85: =X85+Y85+AA85 -> 5 | AP85: =N85 -> 2 | AQ85: =O85+P85+Q85+R85+S85 -> 2 | AR85: =S85 -> 0 | AS85: =T85+U85+V85 -> 0 | AT85: =X85 -> 2 | AU85: =N85+W85 -> 2 | AV85: =AE85 -> 1 | AW85: =AC85+AD85 -> 1 | AX85: =AH85 -> 0 | AY85: =AF85+AG85 -> 0
A86: 6.6 | B86: ²ÛÉ í»×»ñ | E86: 4 | F86: 1 | G86: 3 | J86: 2 | K86: 2 | L86: 0 | M86: 0 | N86: 1 | O86: 0 | P86: 0 | Q86: 0 | S86: 1 | T86: 0 | U86: 1 | V86: 0 | W86: 0 | X86: 1 | Y86: 0 | Z86: 0 | AA86: 5 | AB86: 0 | AC86: 0 | AD86: 0 | AE86: 0 | AJ86: =E86 -> 4 | AK86: =F86+G86+H86+I86 -> 4 | AL86: =J86 -> 2 | AM86: =K86+L86+M86 -> 2 | AN86: =F86+G86+K86 -> 6 | AO86: =X86+Y86+AA86 -> 6 | AP86: =N86 -> 1 | AQ86: =O86+P86+Q86+R86+S86 -> 1 | AR86: =S86 -> 1 | AS86: =T86+U86+V86 -> 1 | AT86: =X86 -> 1 | AU86: =N86+W86 -> 1 | AV86: =AE86 -> 0 | AW86: =AC86+AD86 -> 0 | AX86: =AH86 -> 0 | AY86: =AF86+AG86 -> 0
A87: 7. | B87: Æñ³í³µ³Ý³Ï³Ý ³ÝÓÇ ·áñÍáõÝ»áõÃÛáõÝÇó µËáÕ Çñ³í³Ñ³ñ³µ»ñáõÃÛáõÝÝ»ñÇ í»ñ³µ»ñÛ³É ¹³ï³Ï³Ý ·áñÍ»ñ | E87: =SUM(E88:E89) -> 2 | F87: =SUM(F88:F89) -> 1 | G87: =SUM(G88:G89) -> 1 | H87: =SUM(H88:H89) -> 0 | I87: =SUM(I88:I89) -> 0 | J87: =SUM(J88:J89) -> 1 | K87: =SUM(K88:K89) -> 1 | L87: =SUM(L88:L89) -> 0 | ... AH87: =SUM(AH88:AH89) -> 0 | AI87: =AI88+AI89 -> 0 | AJ87: =SUM(AJ88:AJ89) -> 2 | AK87: =SUM(AK88:AK89) -> 2 | AL87: =SUM(AL88:AL89) -> 1 | AM87: =SUM(AM88:AM89) -> 1 | AN87: =SUM(AN88:AN89) -> 3 | AO87: =SUM(AO88:AO89) -> 3 | AP87: =SUM(AP88:AP89) -> 1 | AQ87: =SUM(AQ88:AQ89) -> 1 | ... AY87: =SUM(AY88:AY89) -> 0
A88: 7.1 | B88: Îáñåáñ³ïÇí í»×»ñ | AJ88: =E88 -> 0 | AK88: =F88+G88+H88+I88 -> 0 | AL88: =J88 -> 0 | AM88: =K88+L88+M88 -> 0 | AN88: =F88+G88+K88 -> 0 | AO88: =X88+Y88+AA88 -> 0 | AP88: =N88 -> 0 | AQ88: =O88+P88+Q88+R88+S88 -> 0 | AR88: =S88 -> 0 | AS88: =T88+U88+V88 -> 0 | AT88: =X88 -> 0 | AU88: =N88+W88 -> 0 | AV88: =AE88 -> 0 | AW88: =AC88+AD88 -> 0 | AX88: =AH88 -> 0 | AY88: =AF88+AG88 -> 0
A89: 7.2 | B89: ²ÛÉ í»×»ñ | E89: 2 | F89: 1 | G89: 1 | J89: 1 | K89: 1 | L89: 0 | M89: 0 | N89: 1 | O89: 1 | P89: 0 | Q89: 0 | S89: 0 | T89: 0 | U89: 0 | V89: 0 | W89: 0 | X89: 1 | Y89: 0 | Z89: 0 | AA89: 2 | AB89: 1 | AC89: 0 | AD89: 0 | AE89: 0 | AJ89: =E89 -> 2 | AK89: =F89+G89+H89+I89 -> 2 | AL89: =J89 -> 1 | AM89: =K89+L89+M89 -> 1 | AN89: =F89+G89+K89 -> 3 | AO89: =X89+Y89+AA89 -> 3 | AP89: =N89 -> 1 | AQ89: =O89+P89+Q89+R89+S89 -> 1 | AR89: =S89 -> 0 | AS89: =T89+U89+V89 -> 0 | AT89: =X89 -> 1 | AU89: =N89+W89 -> 1 | AV89: =AE89 -> 0 | AW89: =AC89+AD89 -> 0 | AX89: =AH89 -> 0 | AY89: =AF89+AG89 -> 0
A90: 8. | B90: Ð³ïáõÏ í³ñáõÛÃÇ ¹³ï³Ï³Ý ·áñÍ»ñ | E90: =SUM(E91:E111) -> 83 | F90: =SUM(F91:F111) -> 14 | G90: =SUM(G91:G111) -> 69 | H90: =SUM(H91:H111) -> 0 | I90: =SUM(I91:I111) -> 0 | J90: =SUM(J91:J111) -> 122 | K90: =SUM(K91:K111) -> 88 | L90: =SUM(L91:L111) -> 28 | ... AH90: =SUM(AH91:AH111) -> 0 | AJ90: =SUM(AJ91:AJ111) -> 83 | AK90: =SUM(AK91:AK111) -> 83 | AL90: =SUM(AL91:AL111) -> 122 | AM90: =SUM(AM91:AM111) -> 122 | AN90: =SUM(AN91:AN111) -> 171 | AO90: =SUM(AO91:AO111) -> 171 | AP90: =SUM(AP91:AP111) -> 77 | AQ90: =SUM(AQ91:AQ111) -> 77 | ... AY90: =SUM(AY91:AY111) -> 0
A91: 8.1 | B91: ²Ýã³÷³Ñ³ëÇÝ ÉñÇí ·áñÍáõÝ³Ï ×³Ý³ã»Éáõ /¿Ù³ÝëÇå³óÇ³/ í»ñ³µ»ñÛ³É | AJ91: =E91 -> 0 | AK91: =F91+G91+H91+I91 -> 0 | AL91: =J91 -> 0 | AM91: =K91+L91+M91 -> 0 | AN91: =F91+G91+K91 -> 0 | AO91: =X91+Y91+AA91 -> 0 | AP91: =N91 -> 0 | AQ91: =O91+P91+Q91+R91+S91 -> 0 | AR91: =S91 -> 0 | AS91: =T91+U91+V91 -> 0 | AT91: =X91 -> 0 | AU91: =N91+W91 -> 0 | AV91: =AE91 -> 0 | AW91: =AC91+AD91 -> 0 | AX91: =AH91 -> 0 | AY91: =AF91+AG91 -> 0
A92: 8.2 | B92: ø³Õ³ù³óáõÝ ³Ý·áñÍáõÝ³Ï Ï³Ù ë³ÑÙ³Ý³÷³Ï ·áñÍáõÝ³Ï ×³Ý³ã»Éáõ í»ñ³µ»ñÛ³É | E92: 25 | F92: 13 | G92: 12 | J92: 16 | K92: 13 | L92: 2 | M92: 1 | N92: 15 | O92: 10 | P92: 0 | Q92: 0 | S92: 5 | T92: 0 | U92: 5 | V92: 0 | W92: 0 | X92: 15 | Y92: 0 | Z92: 5 | AA92: 23 | AB92: 13 | AC92: 0 | AD92: 0 | AE92: 0 | AJ92: =E92 -> 25 | AK92: =F92+G92+H92+I92 -> 25 | AL92: =J92 -> 16 | AM92: =K92+L92+M92 -> 16 | AN92: =F92+G92+K92 -> 38 | AO92: =X92+Y92+AA92 -> 38 | AP92: =N92 -> 15 | AQ92: =O92+P92+Q92+R92+S92 -> 15 | AR92: =S92 -> 5 | AS92: =T92+U92+V92 -> 5 | AT92: =X92 -> 15 | AU92: =N92+W92 -> 15 | AV92: =AE92 -> 0 | AW92: =AC92+AD92 -> 0 | AX92: =AH92 -> 0 | AY92: =AF92+AG92 -> 0
A93: 8.3 | B93: ø³Õ³ù³óáõÝ Ñá·»µáõÅ³Ï³Ý ÑÇí³Ý¹³Ýáó³ÛÇÝ Ñ³ñÏ³¹Çñ µáõÅÙ³Ý »ÝÃ³ñÏ»Éáõ í»ñ³µ»ñÛ³É | AJ93: =E93 -> 0 | AK93: =F93+G93+H93+I93 -> 0 | AL93: =J93 -> 0 | AM93: =K93+L93+M93 -> 0 | AN93: =F93+G93+K93 -> 0 | AO93: =X93+Y93+AA93 -> 0 | AP93: =N93 -> 0 | AQ93: =O93+P93+Q93+R93+S93 -> 0 | AR93: =S93 -> 0 | AS93: =T93+U93+V93 -> 0 | AT93: =X93 -> 0 | AU93: =N93+W93 -> 0 | AV93: =AE93 -> 0 | AW93: =AC93+AD93 -> 0 | AX93: =AH93 -> 0 | AY93: =AF93+AG93 -> 0
A94: 8.4 | B94: ø³Õ³ù³óáõÝ ³ÝÑ³Ûï µ³ó³Ï³ÛáÕ Ï³Ù Ù³Ñ³ó³Í ×³Ý³ã»Éáõ í»ñ³µ»ñÛ³É | E94: 12 | F94: 1 | G94: 11 | J94: 17 | K94: 15 | L94: 1 | M94: 1 | N94: 12 | O94: 7 | P94: 1 | Q94: 3 | S94: 1 | T94: 0 | U94: 1 | V94: 0 | W94: 0 | X94: 12 | Y94: 0 | Z94: 0 | AA94: 15 | AB94: 1 | AC94: 0 | AD94: 1 | AE94: 1 | AJ94: =E94 -> 12 | AK94: =F94+G94+H94+I94 -> 12 | AL94: =J94 -> 17 | AM94: =K94+L94+M94 -> 17 | AN94: =F94+G94+K94 -> 27 | AO94: =X94+Y94+AA94 -> 27 | AP94: =N94 -> 12 | AQ94: =O94+P94+Q94+R94+S94 -> 12 | AR94: =S94 -> 1 | AS94: =T94+U94+V94 -> 1 | AT94: =X94 -> 12 | AU94: =N94+W94 -> 12 | AV94: =AE94 -> 1 | AW94: =AC94+AD94 -> 1 | AX94: =AH94 -> 0 | AY94: =AF94+AG94 -> 0
A95: 8.5 | B95: ø³Õ³ù³óÇ³Ï³Ý Ï³óáõÃÛ³Ý ³Ïï»ñÇ ·ñ³éáõÙÝ»ñÇ ³Ý×ßïáõÃÛáõÝÝ»ñÁ å³ñ½»Éáõ í»ñ³µ»ñÛ³É | E95: 0 | F95: 0 | G95: 0 | J95: 1 | K95: 1 | L95: 0 | M95: 0 | N95: 1 | O95: 0 | P95: 0 | Q95: 1 | S95: 0 | T95: 0 | U95: 0 | V95: 0 | W95: 0 | X95: 1 | Y95: 0 | Z95: 0 | AA95: 0 | AB95: 0 | AC95: 1 | AD95: 0 | AE95: 1 | AJ95: =E95 -> 0 | AK95: =F95+G95+H95+I95 -> 0 | AL95: =J95 -> 1 | AM95: =K95+L95+M95 -> 1 | AN95: =F95+G95+K95 -> 1 | AO95: =X95+Y95+AA95 -> 1 | AP95: =N95 -> 1 | AQ95: =O95+P95+Q95+R95+S95 -> 1 | AR95: =S95 -> 0 | AS95: =T95+U95+V95 -> 0 | AT95: =X95 -> 1 | AU95: =N95+W95 -> 1 | AV95: =AE95 -> 1 | AW95: =AC95+AD95 -> 1 | AX95: =AH95 -> 0 | AY95: =AF95+AG95 -> 0
A96: 8.6 | B96: ¶áõÛùÁ ïÇñ³½áõñÏ ×³Ý³ã»Éáõ í»ñ³µ»ñÛ³É | AJ96: =E96 -> 0 | AK96: =F96+G96+H96+I96 -> 0 | AL96: =J96 -> 0 | AM96: =K96+L96+M96 -> 0 | AN96: =F96+G96+K96 -> 0 | AO96: =X96+Y96+AA96 -> 0 | AP96: =N96 -> 0 | AQ96: =O96+P96+Q96+R96+S96 -> 0 | AR96: =S96 -> 0 | AS96: =T96+U96+V96 -> 0 | AT96: =X96 -> 0 | AU96: =N96+W96 -> 0 | AV96: =AE96 -> 0 | AW96: =AC96+AD96 -> 0 | AX96: =AH96 -> 0 | AY96: =AF96+AG96 -> 0
A97: 8.6.1 | B97: ²Û¹ ÃíáõÙª ³Ýß³ñÅ ·áõÛùÁ | E97: 4 | F97: 0 | G97: 4 | J97: 3 | K97: 3 | L97: 0 | M97: 0 | N97: 1 | O97: 1 | P97: 0 | Q97: 0 | S97: 0 | T97: 0 | U97: 0 | V97: 0 | W97: 0 | X97: 1 | Y97: 0 | Z97: 0 | AA97: 6 | AB97: 0 | AC97: 0 | AD97: 0 | AE97: 0 | AJ97: =E97 -> 4 | AK97: =F97+G97+H97+I97 -> 4 | AL97: =J97 -> 3 | AM97: =K97+L97+M97 -> 3 | AN97: =F97+G97+K97 -> 7 | AO97: =X97+Y97+AA97 -> 7 | AP97: =N97 -> 1 | AQ97: =O97+P97+Q97+R97+S97 -> 1 | AR97: =S97 -> 0 | AS97: =T97+U97+V97 -> 0 | AT97: =X97 -> 1 | AU97: =N97+W97 -> 1 | AV97: =AE97 -> 0 | AW97: =AC97+AD97 -> 0 | AX97: =AH97 -> 0 | AY97: =AF97+AG97 -> 0
A98: 8.6.2 | B98: ²Û¹ ÃíáõÙª ß³ñÅ³Ï³Ý ·áõÛùÁ | E98: 0 | F98: 0 | G98: 0 | J98: 1 | K98: 1 | L98: 0 | M98: 0 | N98: 0 | O98: 0 | P98: 0 | Q98: 0 | S98: 0 | T98: 0 | U98: 0 | V98: 0 | W98: 0 | X98: 0 | Y98: 0 | AA98: 1 | AB98: 0 | AC98: 0 | AD98: 0 | AE98: 0 | AJ98: =E98 -> 0 | AK98: =F98+G98+H98+I98 -> 0 | AL98: =J98 -> 1 | AM98: =K98+L98+M98 -> 1 | AN98: =F98+G98+K98 -> 1 | AO98: =X98+Y98+AA98 -> 1 | AP98: =N98 -> 0 | AQ98: =O98+P98+Q98+R98+S98 -> 0 | AR98: =S98 -> 0 | AS98: =T98+U98+V98 -> 0 | AT98: =X98 -> 0 | AU98: =N98+W98 -> 0 | AV98: =AE98 -> 0 | AW98: =AC98+AD98 -> 0 | AX98: =AH98 -> 0 | AY98: =AF98+AG98 -> 0
A99: 8.7 | B99: Æñ³í³µ³Ý³Ï³Ý Ýß³Ý³ÏáõÃÛáõÝ áõÝ»óáÕ ÷³ëï»ñÇ Ñ³ëï³ïÙ³Ý í»ñ³µ»ñÛ³É | AJ99: =E99 -> 0 | AK99: =F99+G99+H99+I99 -> 0 | AL99: =J99 -> 0 | AM99: =K99+L99+M99 -> 0 | AN99: =F99+G99+K99 -> 0 | AO99: =X99+Y99+AA99 -> 0 | AP99: =N99 -> 0 | AQ99: =O99+P99+Q99+R99+S99 -> 0 | AR99: =S99 -> 0 | AS99: =T99+U99+V99 -> 0 | AT99: =X99 -> 0 | AU99: =N99+W99 -> 0 | AV99: =AE99 -> 0 | AW99: =AC99+AD99 -> 0 | AX99: =AH99 -> 0 | AY99: =AF99+AG99 -> 0
A100: 8.7.1 | B100: ²ÝÓ³Ýó ³½·³Ïó³Ï³Ý Ï³åÁ Ñ³ëï³ï»Éáõ í»ñ³µ»ñÛ³É | E100: 8 | F100: 0 | G100: 8 | J100: 20 | K100: 16 | L100: 4 | M100: 0 | N100: 10 | O100: 10 | P100: 0 | Q100: 0 | S100: 0 | T100: 0 | U100: 0 | V100: 0 | W100: 0 | X100: 10 | Y100: 0 | Z100: 0 | AA100: 14 | AB100: 0 | AC100: 0 | AD100: 0 | AE100: 0 | AJ100: =E100 -> 8 | AK100: =F100+G100+H100+I100 -> 8 | AL100: =J100 -> 20 | AM100: =K100+L100+M100 -> 20 | AN100: =F100+G100+K100 -> 24 | AO100: =X100+Y100+AA100 -> 24 | AP100: =N100 -> 10 | AQ100: =O100+P100+Q100+R100+S100 -> 10 | AR100: =S100 -> 0 | AS100: =T100+U100+V100 -> 0 | AT100: =X100 -> 10 | AU100: =N100+W100 -> 10 | AV100: =AE100 -> 0 | AW100: =AC100+AD100 -> 0 | AX100: =AH100 -> 0 | AY100: =AF100+AG100 -> 0
A101: 8.7.2 | B101: ²ÝÓÇª áõñÇßÇ ËÝ³ÙùÇ ï³Ï ·ïÝí»Éáõ í»ñ³µ»ñÛ³É | AJ101: =E101 -> 0 | AK101: =F101+G101+H101+I101 -> 0 | AL101: =J101 -> 0 | AM101: =K101+L101+M101 -> 0 | AN101: =F101+G101+K101 -> 0 | AO101: =X101+Y101+AA101 -> 0 | AP101: =N101 -> 0 | AQ101: =O101+P101+Q101+R101+S101 -> 0 | AR101: =S101 -> 0 | AS101: =T101+U101+V101 -> 0 | AT101: =X101 -> 0 | AU101: =N101+W101 -> 0 | AV101: =AE101 -> 0 | AW101: =AC101+AD101 -> 0 | AX101: =AH101 -> 0 | AY101: =AF101+AG101 -> 0
A102: 8.7.3 | B102: ÌÝÝ¹Û³Ý, áñ¹»·ñÙ³Ý, ³ÙáõëÝáõÃÛ³Ý, ³å³Ñ³ñ½³ÝÇ ¨ Ù³Ñí³Ý ·ñ³ÝóÙ³Ý í»ñ³µ»ñÛ³É | E102: 5 | F102: 0 | G102: 5 | J102: 2 | K102: 2 | L102: 0 | M102: 0 | N102: 4 | O102: 3 | P102: 0 | Q102: 0 | S102: 1 | T102: 0 | U102: 1 | V102: 0 | W102: 0 | X102: 4 | Y102: 0 | Z102: 0 | AA102: 3 | AB102: 0 | AC102: 0 | AD102: 0 | AE102: 0 | AJ102: =E102 -> 5 | AK102: =F102+G102+H102+I102 -> 5 | AL102: =J102 -> 2 | AM102: =K102+L102+M102 -> 2 | AN102: =F102+G102+K102 -> 7 | AO102: =X102+Y102+AA102 -> 7 | AP102: =N102 -> 4 | AQ102: =O102+P102+Q102+R102+S102 -> 4 | AR102: =S102 -> 1 | AS102: =T102+U102+V102 -> 1 | AT102: =X102 -> 4 | AU102: =N102+W102 -> 4 | AV102: =AE102 -> 0 | AW102: =AC102+AD102 -> 0 | AX102: =AH102 -> 0 | AY102: =AF102+AG102 -> 0
A103: 8.7.4 | B103: ²ÝÓÇª áñáß³ÏÇ Å³Ù³Ý³ÏáõÙ ¨ áñáß³ÏÇ Ñ³Ý·³Ù³ÝùÝ»ñáõÙ Ù³Ñí³Ý í»ñ³µ»ñÛ³É | E103: 0 | F103: 0 | G103: 0 | J103: 1 | K103: 0 | L103: 1 | M103: 0 | N103: 0 | O103: 0 | P103: 0 | Q103: 0 | S103: 0 | T103: 0 | U103: 0 | V103: 0 | W103: 0 | X103: 0 | Y103: 0 | Z103: 0 | AA103: 0 | AB103: 0 | AJ103: =E103 -> 0 | AK103: =F103+G103+H103+I103 -> 0 | AL103: =J103 -> 1 | AM103: =K103+L103+M103 -> 1 | AN103: =F103+G103+K103 -> 0 | AO103: =X103+Y103+AA103 -> 0 | AP103: =N103 -> 0 | AQ103: =O103+P103+Q103+R103+S103 -> 0 | AR103: =S103 -> 0 | AS103: =T103+U103+V103 -> 0 | AT103: =X103 -> 0 | AU103: =N103+W103 -> 0 | AV103: =AE103 -> 0 | AW103: =AC103+AD103 -> 0 | AX103: =AH103 -> 0 | AY103: =AF103+AG103 -> 0
A104: 8.7.5 | B104: Ä³é³Ý·áõÃÛáõÝÝ ÁÝ¹áõÝ»Éáõ ¨ Å³é³Ý·áõÃÛ³Ý µ³óÙ³Ý í³ÛñÇ í»ñ³µ»ñÛ³É | E104: 10 | F104: 0 | G104: 10 | J104: 10 | K104: 4 | L104: 6 | M104: 0 | N104: 8 | O104: 4 | P104: 0 | Q104: 4 | S104: 0 | T104: 0 | U104: 0 | V104: 0 | W104: 1 | X104: 9 | Y104: 0 | Z104: 0 | AA104: 5 | AB104: 0 | AC104: 2 | AD104: 1 | AE104: 3 | AJ104: =E104 -> 10 | AK104: =F104+G104+H104+I104 -> 10 | AL104: =J104 -> 10 | AM104: =K104+L104+M104 -> 10 | AN104: =F104+G104+K104 -> 14 | AO104: =X104+Y104+AA104 -> 14 | AP104: =N104 -> 8 | AQ104: =O104+P104+Q104+R104+S104 -> 8 | AR104: =S104 -> 0 | AS104: =T104+U104+V104 -> 0 | AT104: =X104 -> 9 | AU104: =N104+W104 -> 9 | AV104: =AE104 -> 3 | AW104: =AC104+AD104 -> 3 | AX104: =AH104 -> 0 | AY104: =AF104+AG104 -> 0
A105: 8.7.6 | B105: ¸Åµ³Ëï å³ï³Ñ³ñÇ í»ñ³µ»ñÛ³É | AJ105: =E105 -> 0 | AK105: =F105+G105+H105+I105 -> 0 | AL105: =J105 -> 0 | AM105: =K105+L105+M105 -> 0 | AN105: =F105+G105+K105 -> 0 | AO105: =X105+Y105+AA105 -> 0 | AP105: =N105 -> 0 | AQ105: =O105+P105+Q105+R105+S105 -> 0 | AR105: =S105 -> 0 | AS105: =T105+U105+V105 -> 0 | AT105: =X105 -> 0 | AU105: =N105+W105 -> 0 | AV105: =AE105 -> 0 | AW105: =AC105+AD105 -> 0 | AX105: =AH105 -> 0 | AY105: =AF105+AG105 -> 0
A106: 8.7.7 | B106: Æñ³íáõÝù ë³ÑÙ³ÝáÕ ÷³ëï³ÃÕÃ»ñÇ å³ïÏ³Ý»ÉáõÃÛ³Ý í»ñ³µ»ñÛ³É | E106: 15 | F106: 0 | G106: 15 | J106: 31 | K106: 19 | L106: 11 | M106: 1 | N106: 19 | O106: 16 | P106: 0 | Q106: 3 | S106: 0 | T106: 0 | U106: 0 | V106: 0 | W106: 0 | X106: 19 | Y106: 0 | Z106: 0 | AA106: 15 | AB106: 0 | AC106: 2 | AD106: 0 | AE106: 2 | AJ106: =E106 -> 15 | AK106: =F106+G106+H106+I106 -> 15 | AL106: =J106 -> 31 | AM106: =K106+L106+M106 -> 31 | AN106: =F106+G106+K106 -> 34 | AO106: =X106+Y106+AA106 -> 34 | AP106: =N106 -> 19 | AQ106: =O106+P106+Q106+R106+S106 -> 19 | AR106: =S106 -> 0 | AS106: =T106+U106+V106 -> 0 | AT106: =X106 -> 19 | AU106: =N106+W106 -> 19 | AV106: =AE106 -> 2 | AW106: =AC106+AD106 -> 2 | AX106: =AH106 -> 0 | AY106: =AF106+AG106 -> 0
A107: 8.7.8 | B107: ê»÷³Ï³ÝáõÃÛ³Ý Çñ³íáõÝùáí ·áõÛùÇ ïÇñ³å»ïÙ³Ý í»ñ³µ»ñÛ³É | E107: 2 | F107: 0 | G107: 2 | J107: 3 | K107: 2 | L107: 0 | M107: 1 | N107: 1 | O107: 0 | P107: 1 | Q107: 0 | S107: 0 | T107: 0 | U107: 0 | V107: 0 | W107: 0 | X107: 1 | Y107: 0 | Z107: 1 | AA107: 3 | AB107: 1 | AC107: 0 | AD107: 0 | AE107: 0 | AJ107: =E107 -> 2 | AK107: =F107+G107+H107+I107 -> 2 | AL107: =J107 -> 3 | AM107: =K107+L107+M107 -> 3 | AN107: =F107+G107+K107 -> 4 | AO107: =X107+Y107+AA107 -> 4 | AP107: =N107 -> 1 | AQ107: =O107+P107+Q107+R107+S107 -> 1 | AR107: =S107 -> 0 | AS107: =T107+U107+V107 -> 0 | AT107: =X107 -> 1 | AU107: =N107+W107 -> 1 | AV107: =AE107 -> 0 | AW107: =AC107+AD107 -> 0 | AX107: =AH107 -> 0 | AY107: =AF107+AG107 -> 0
A108: 8.7.9 | B108: ²ÝÑ³ÕÃ³Ñ³ñ»ÉÇ áõÅÇ ³éÏ³ÛáõÃÛ³Ý í»ñ³µ»ñÛ³É | AJ108: =E108 -> 0 | AK108: =F108+G108+H108+I108 -> 0 | AL108: =J108 -> 0 | AM108: =K108+L108+M108 -> 0 | AN108: =F108+G108+K108 -> 0 | AO108: =X108+Y108+AA108 -> 0 | AP108: =N108 -> 0 | AQ108: =O108+P108+Q108+R108+S108 -> 0 | AR108: =S108 -> 0 | AS108: =T108+U108+V108 -> 0 | AT108: =X108 -> 0 | AU108: =N108+W108 -> 0 | AV108: =AE108 -> 0 | AW108: =AC108+AD108 -> 0 | AX108: =AH108 -> 0 | AY108: =AF108+AG108 -> 0
A109: 8.7.10 | B109: úñ»Ýùáí Ý³Ë³ï»ëí³Í ³ÛÉ Çñ³í³µ³Ý³Ï³Ý ÷³ëï»ñÇ í»ñ³µ»ñÛ³É | E109: 2 | F109: 0 | G109: 2 | J109: 13 | K109: 10 | L109: 1 | M109: 2 | N109: 5 | O109: 3 | P109: 0 | Q109: 1 | S109: 1 | T109: 0 | U109: 1 | V109: 0 | W109: 0 | X109: 5 | Y109: 0 | Z109: 0 | AA109: 7 | AB109: 0 | AC109: 0 | AD109: 0 | AE109: 0 | AJ109: =E109 -> 2 | AK109: =F109+G109+H109+I109 -> 2 | AL109: =J109 -> 13 | AM109: =K109+L109+M109 -> 13 | AN109: =F109+G109+K109 -> 12 | AO109: =X109+Y109+AA109 -> 12 | AP109: =N109 -> 5 | AQ109: =O109+P109+Q109+R109+S109 -> 5 | AR109: =S109 -> 1 | AS109: =T109+U109+V109 -> 1 | AT109: =X109 -> 5 | AU109: =N109+W109 -> 5 | AV109: =AE109 -> 0 | AW109: =AC109+AD109 -> 0 | AX109: =AH109 -> 0 | AY109: =AF109+AG109 -> 0
A110: 8.8 | B110: Àëï Ý»ñÏ³Û³óÝáÕÇ ¨ ûñ¹»ñ³ÛÇÝ Ïáñóñ³Í ³ñÅ»ÃÕÃ»ñáí Ñ³í³ëïí³Í Çñ³íáõÝùÝ»ñÁ í»ñ³Ï³Ý·Ý»Éáõ í»ñ³µ»ñÛ³É | AJ110: =E110 -> 0 | AK110: =F110+G110+H110+I110 -> 0 | AL110: =J110 -> 0 | AM110: =K110+L110+M110 -> 0 | AN110: =F110+G110+K110 -> 0 | AO110: =X110+Y110+AA110 -> 0 | AP110: =N110 -> 0 | AQ110: =O110+P110+Q110+R110+S110 -> 0 | AR110: =S110 -> 0 | AS110: =T110+U110+V110 -> 0 | AT110: =X110 -> 0 | AU110: =N110+W110 -> 0 | AV110: =AE110 -> 0 | AW110: =AC110+AD110 -> 0 | AX110: =AH110 -> 0 | AY110: =AF110+AG110 -> 0
A111: 8.10 | B111: ²ÛÉ í»×»ñ | E111: 0 | F111: 0 | G111: 0 | J111: 4 | K111: 2 | L111: 2 | M111: 0 | N111: 1 | O111: 1 | P111: 0 | Q111: 0 | S111: 0 | T111: 0 | U111: 0 | V111: 0 | W111: 0 | X111: 1 | Y111: 0 | Z111: 0 | AA111: 1 | AB111: 0 | AC111: 0 | AD111: 0 | AE111: 0 | AJ111: =E111 -> 0 | AK111: =F111+G111+H111+I111 -> 0 | AL111: =J111 -> 4 | AM111: =K111+L111+M111 -> 4 | AN111: =F111+G111+K111 -> 2 | AO111: =X111+Y111+AA111 -> 2 | AP111: =N111 -> 1 | AQ111: =O111+P111+Q111+R111+S111 -> 1 | AR111: =S111 -> 0 | AS111: =T111+U111+V111 -> 0 | AT111: =X111 -> 1 | AU111: =N111+W111 -> 1 | AV111: =AE111 -> 0 | AW111: =AC111+AD111 -> 0 | AX111: =AH111 -> 0 | AY111: =AF111+AG111 -> 0
...

Sheet Avan
A1: 2015Ã. | E1: Ð²ÞìºîìàôÂÚàôÜ | AC1: Ð³í»Éí³Í Ð³Û³ëï³ÝÇ Ð³Ýñ³å»ïáõÃÛ³Ý ¸³ï³ñ³ÝÝ»ñÇ Ý³Ë³·³ÑÝ»ñÇ ËáñÑñ¹Ç 01.02.2016Ã. ÃÇí 11È áñáßÙ³Ý
A2: ºðºì²Ü ø²Ô²øÆ ²ì²Ü ºì Üàð Üàðø ì²ðâ²Î²Ü Þðæ²ÜÜºðÆ ÀÜ¸Ð²Üàôð Æð²ì²êàôÂÚ²Ü ²è²æÆÜ ²îÚ²ÜÆ ¸²î²ð²ÜàôØ ø²Ô²ø²òÆ²Î²Ü ¶àðÌºðÆ øÜÜàôÂÚ²Ü ìºð²´ºðÚ²È
A3: ºñ¨³Ý ù³Õ³ùÇ ²í³Ý ¨ Üáñ Üáñù í³ñã³Ï³Ý ßñç³ÝÝ»ñÇ ÁÝ¹Ñ³Ýáõñ Çñ³í³ëáõÃÛ³Ý ³é³çÇÝ ³ïÛ³ÝÇ ¹³ï³ñ³ÝáõÙ ù³Õ³ù³óÇ³Ï³Ý Ù³ëÝ³·Çï³óáõÙ áõÝ»óáÕ ¹³ï³íáñÝ»ñÇ Ñ³ëïÇùÝ»ñÇ ù³Ý³ÏÁ` 7
A4: êïáõ·Çã Ñ³í³ë³ñáõÙÝ»ñª 1=2+3+4+5, 6=7+8+9, 2+3+7=20+21+23, 10=11+12+13+14+15, 15=16+17+18, 20=10+19, 27=25+26, 30=28+29 | E4: Ð³ßí»ïáõ Å³Ù³Ý³Ï³Ñ³ïí³ÍáõÙ Ý³Ëáñ¹ Ñ³ßí»ïáõ Å³Ù³Ý³Ï³Ñ³ïí³ÍÇó ÷áË³Ýóí³Í ·áñÍ»ñÇ ÁÝ¹Ñ³Ýáõñ ÃÇíÁ | J4: Ð³ßí»ïáõ Å³Ù³Ý³Ï³Ñ³ïí³ÍáõÙëï³óí³Í ·áñÍ»ñÇ (³Û¹ ÃíáõÙ` Ñ³Ûó³¹ÇÙáõÙÝ»ñÇ, ¹ÇÙáõÙÝ»ñÇ) ÁÝ¹Ñ³Ýáõñ ÃÇíÁ | N4: Ð³ßí»ïáõ Å³Ù³Ý³Ï³Ñ³ïí³ÍáõÙ ³í³ñïí³Í ·áñÍ»ñÇ ÁÝ¹Ñ³Ýáõñ ÃÇíÁ | Y4: ¶áñÍÝ áõÕ³ñÏí»É ¿ Áëï ÁÝ¹¹³ïáõÃÛ³Ý | Z4: Ð³ßí»ïáõ Å³Ù³Ý³Ï³Ñ³ïí³ÍáõÙ Ï³ë»óí³Í í³ñáõÛÃÝ»ñáí ·áñÍ»ñÇ ÁÝ¹Ñ³Ýáõñ ÃÇíÁ | AA4: Ð³ßí»ïáõ Å³Ù³Ý³Ï³Ñ³ïí³ÍáõÙ ³Ý³í³ñï ·áñÍ»ñÇ ÁÝ¹Ñ³Ýáõñ ÃÇíÁ | AB4: ²Û¹ ÃíáõÙª Ï³ë»óí³Í | AC4: ´áÕáù³ñÏí³Í ¹³ï³Ï³Ý ³Ïï»ñÇ ÃÇíÁ` Áëï ï»ë³ÏÝ»ñÇ | AF4: ´»Ï³Ýí³Í ¹³ï³Ï³Ý ³Ïï»ñÇ ÃÇíÁ` Áëï ï»ë³ÏÝ»ñÇ
E7: ÀÝ¹³Ù»ÝÁ | F7: ²Û¹ ÃíáõÙ`Ï³ë»óí³Í íÇ×³ÏáõÙ ÷áË³Ýóí³Í | G7: ²Û¹ ÃíáõÙª ÁÝ¹áõÝí»É ¿ í³ñáõÛÃ | H7: ²Û¹ ÃíáõÙª í»ñ³¹³ñÓí»É ¿ | I7: ²Û¹ ÃíáõÙª ÁÝ¹áõÝáõÙÁ Ù»ñÅí»É ¿ | J7: ÀÝ¹³Ù»ÝÁ | K7: ²Û¹ ÃíáõÙª ÁÝ¹áõÝí»É ¿ í³ñáõÛÃ | L7: ²Û¹ ÃíáõÙª í»ñ³¹³ñÓí»É ¿ | M7: ²Û¹ ÃíáõÙª ÁÝ¹áõÝáõÙÁ Ù»ñÅí»É ¿ | N7: ÀÝ¹³Ù»ÝÁ ³í³ñïí»É »Ý ·áñÍ»ñ ·áñÍÝ Áëï ¿áõÃÛ³Ý ÉáõÍáÕ ¹³ï³Ï³Ý ³Ïï»ñÇ (í×ÇéÝ»ñÇ) Ï³Û³óÙ³Ùµ | O7: ²Û¹ ÃíáõÙª Ñ³ÛóÇ µ³í³ñ³ñÙ³Ùµ | P7: ²Û¹ ÃíáõÙª Ñ³ÛóÇ Ù³ëÝ³ÏÇ µ³í³ñ³ñÙ³Ùµ | Q7: ²Û¹ ÃíáõÙª Ñ³ÛóÇ Ù»ñÅÙ³Ùµ | R7: Ø³ëáí Ï³ñ×í»É ¿, Ù³ëáí Ù»ñÅí»É | S7: ²Û¹ ÃíáõÙª Ï³ñ×í»É »Ý | W7: Ð³ÛóÁ ÃáÕÝí»É ¿ ³é³Ýó ùÝÝáõÃÛ³Ý | X7: ÀÝ¹³Ù»ÝÝ ³í³ñïí»É »Ý ·áñÍ»ñ | AC7: ²Û¹ ÃíáõÙ` ·áñÍÝ Áëï ¿áõÃÛ³Ý ÉáõÍáÕ ¹³ï³Ï³Ý ³Ïï»ñ | AD7: ²Û¹ ÃíáõÙ` ÙÇç³ÝÏÛ³É ¹³ï³Ï³Ý ³Ïï»ñ | AE7: ÀÝ¹³Ù»ÝÁ | AF7: ²Û¹ ÃíáõÙ` ·áñÍÝ Áëï ¿áõÃÛ³Ý ÉáõÍáÕ ¹³ï³Ï³Ý ³Ïï»ñ | AG7: ²Û¹ ÃíáõÙ` ÙÇç³ÝÏÛ³É ¹³ï³Ï³Ý ³Ïï»ñ | AH7: ÀÝ¹³Ù»ÝÁ
S10: ÀÝ¹³Ù»ÝÁ Ï³ñ×í»É »Ý | T10: ²Û¹ ÃíáõÙª Ñ³ëï³ïí»É ¿ ÏÝùí³Í Ñ³ßïáõÃÛ³Ý Ñ³Ù³Ó³ÛÝáõÃÛáõÝÁ | U10: ²Û¹ ÃíáõÙª Ñ³óÇó, ¹ÇÙáõÙÇó Ññ³Å³ñí»Éáõ ÑÇÙùáí | V10: ²Û¹ ÃíáõÙª ³ÛÉ ÑÇÙùáí
A18: ø³Õ³ù³óÇ³Ï³Ý ·áñÍ»ñÇ ¹³ë³Ï³ñ·áõÙÁ | E18: 1 | F18: 2 | G18: 3 | H18: 4 | I18: 5 | J18: 6 | K18: 7 | L18: 8 | M18: 9 | N18: 10 | O18: 11 | P18: 12 | Q18: 13 | R18: 14 | S18: 15 | T18: 16 | U18: 17 | V18: 18 | W18: 19 | X18: 20 | Y18: 21 | Z18: 22 | AA18: 23 | AB18: 24 | AC18: 25 | AD18: 26 | AE18: 27 | AF18: 28 | AG18: 29 | AH18: 30 | AJ18: 1=2+3+4+5 | AL18: 6=7+8+9 | AN18: 2+3+7=20+21+23 | AP18: 10=11+12+13+14+15 | AR18: 15=16+17+18 | AT18: 20=10+19 | AV18: 27=25+26 | AX18: 30=28+29
A19: 1. | B19: ¶áõÛù³ÛÇÝ Çñ³í³Ñ³ñ³µ»ñáõÃÛáõÝÝ»ñÇ í»ñ³µ»ñÛ³É ¹³ï³Ï³Ý ·áñÍ»ñ | E19: =SUM(E20:E38) -> 155 | F19: =SUM(F20:F38) -> 64 | G19: =SUM(G20:G38) -> 91 | H19: =SUM(H20:H38) -> 0 | I19: =SUM(I20:I38) -> 0 | J19: =SUM(J20:J38) -> 182 | K19: =SUM(K20:K38) -> 125 | L19: =SUM(L20:L38) -> 54 | ... AH19: =SUM(AH20:AH38) -> 2 | AJ19: =SUM(AJ20:AJ38) -> 155 | AK19: =SUM(AK20:AK38) -> 155 | AL19: =SUM(AL20:AL38) -> 182 | AM19: =SUM(AM20:AM38) -> 181 | AN19: =SUM(AN20:AN38) -> 280 | AO19: =SUM(AO20:AO38) -> 279 | AP19: =SUM(AP20:AP38) -> 110 | AQ19: =SUM(AQ20:AQ38) -> 110 | ... AY19: =SUM(AY20:AY38) -> 4
A20: 1.1 | B20: ¶áõÛùÇ ÝÏ³ïÙ³Ùµ ë»÷³Ï³ÝáõÃÛ³Ý Çñ³íáõÝùÁ ×³Ý³ã»Éáõ í»ñ³µ»ñÛ³É | E20: 7 | F20: 1 | G20: 6 | J20: 24 | K20: 18 | L20: 6 | N20: 11 | O20: 3 | P20: 1 | Q20: 5 | R20: 1 | S20: 1 | U20: 1 | X20: 11 | Y20: 1 | AA20: 13 | AB20: 1 | AC20: 5 | AD20: 1 | AE20: 6 | AF20: 1 | AH20: 1 | AJ20: =E20 -> 7 | AK20: =F20+G20+H20+I20 -> 7 | AL20: =J20 -> 24 | AM20: =K20+L20+M20 -> 24 | AN20: =F20+G20+K20 -> 25 | AO20: =X20+Y20+AA20 -> 25 | AP20: =N20 -> 11 | AQ20: =O20+P20+Q20+R20+S20 -> 11 | AR20: =S20 -> 1 | AS20: =T20+U20+V20 -> 1 | AT20: =X20 -> 11 | AU20: =N20+W20 -> 11 | AV20: =AE20 -> 6 | AW20: =AC20+AD20 -> 6 | AX20: =AH20 -> 1 | AY20: =AF20+AG20 -> 1
A21: 1.1.1 | B21: ²Û¹ ÃíáõÙª Ó»éùµ»ñÙ³Ý í³Õ»ÙáõÃÛ³Ý áõÅáí | E21: 11 | F21: 3 | G21: 8 | J21: 5 | K21: 4 | L21: 1 | N21: 6 | O21: 1 | P21: 1 | Q21: 2 | S21: 2 | U21: 2 | W21: 1 | X21: 7 | Z21: 1 | AA21: 8 | AB21: 3 | AC21: 2 | AE21: 2 | AJ21: =E21 -> 11 | AK21: =F21+G21+H21+I21 -> 11 | AL21: =J21 -> 5 | AM21: =K21+L21+M21 -> 5 | AN21: =F21+G21+K21 -> 15 | AO21: =X21+Y21+AA21 -> 15 | AP21: =N21 -> 6 | AQ21: =O21+P21+Q21+R21+S21 -> 6 | AR21: =S21 -> 2 | AS21: =T21+U21+V21 -> 2 | AT21: =X21 -> 7 | AU21: =N21+W21 -> 7 | AV21: =AE21 -> 2 | AW21: =AC21+AD21 -> 2 | AX21: =AH21 -> 0 | AY21: =AF21+AG21 -> 0
A22: 1.1.2 | B22: ²Û¹ ÃíáõÙª ïÇñ³½áõñÏ ·áõÛùÇ ÝÏ³ïÙ³Ùµ | AJ22: =E22 -> 0 | AK22: =F22+G22+H22+I22 -> 0 | AL22: =J22 -> 0 | AM22: =K22+L22+M22 -> 0 | AN22: =F22+G22+K22 -> 0 | AO22: =X22+Y22+AA22 -> 0 | AP22: =N22 -> 0 | AQ22: =O22+P22+Q22+R22+S22 -> 0 | AR22: =S22 -> 0 | AS22: =T22+U22+V22 -> 0 | AT22: =X22 -> 0 | AU22: =N22+W22 -> 0 | AV22: =AE22 -> 0 | AW22: =AC22+AD22 -> 0 | AX22: =AH22 -> 0 | AY22: =AF22+AG22 -> 0
A23: 1.1.3 | B23: ²Û¹ ÃíáõÙª ÇÝùÝ³Ï³Ù Ï³éáõÛóÇ ÝÏ³ïÙ³Ùµ | AJ23: =E23 -> 0 | AK23: =F23+G23+H23+I23 -> 0 | AL23: =J23 -> 0 | AM23: =K23+L23+M23 -> 0 | AN23: =F23+G23+K23 -> 0 | AO23: =X23+Y23+AA23 -> 0 | AP23: =N23 -> 0 | AQ23: =O23+P23+Q23+R23+S23 -> 0 | AR23: =S23 -> 0 | AS23: =T23+U23+V23 -> 0 | AT23: =X23 -> 0 | AU23: =N23+W23 -> 0 | AV23: =AE23 -> 0 | AW23: =AC23+AD23 -> 0 | AX23: =AH23 -> 0 | AY23: =AF23+AG23 -> 0
A24: 1.2 | B24: ê»÷³Ï³ÝáõÃÛ³Ý Çñ³íáõÝùÇ ¹³¹³ñ»óÙ³Ý í»ñ³µ»ñÛ³É | E24: 1 | F24: 1 | J24: 3 | K24: 2 | L24: 1 | N24: 1 | S24: 1 | T24: 1 | X24: 1 | AA24: 2 | AB24: 1 | AJ24: =E24 -> 1 | AK24: =F24+G24+H24+I24 -> 1 | AL24: =J24 -> 3 | AM24: =K24+L24+M24 -> 3 | AN24: =F24+G24+K24 -> 3 | AO24: =X24+Y24+AA24 -> 3 | AP24: =N24 -> 1 | AQ24: =O24+P24+Q24+R24+S24 -> 1 | AR24: =S24 -> 1 | AS24: =T24+U24+V24 -> 1 | AT24: =X24 -> 1 | AU24: =N24+W24 -> 1 | AV24: =AE24 -> 0 | AW24: =AC24+AD24 -> 0 | AX24: =AH24 -> 0 | AY24: =AF24+AG24 -> 0
A25: 1.3 | B25: ¶áõÛùÇ ÝÏ³ïÙ³Ùµ û·ï³·áñÍÙ³Ý Çñ³íáõÝùÁ ×³Ý³ã»Éáõ í»ñ³µ»ñÛ³É | AJ25: =E25 -> 0 | AK25: =F25+G25+H25+I25 -> 0 | AL25: =J25 -> 0 | AM25: =K25+L25+M25 -> 0 | AN25: =F25+G25+K25 -> 0 | AO25: =X25+Y25+AA25 -> 0 | AP25: =N25 -> 0 | AQ25: =O25+P25+Q25+R25+S25 -> 0 | AR25: =S25 -> 0 | AS25: =T25+U25+V25 -> 0 | AT25: =X25 -> 0 | AU25: =N25+W25 -> 0 | AV25: =AE25 -> 0 | AW25: =AC25+AD25 -> 0 | AX25: =AH25 -> 0 | AY25: =AF25+AG25 -> 0
A26: 1.3.1 | B26: ²Û¹ ÃíáõÙª µÝ³Ïû·ï³·áñÍÙ³Ý Çñ³íáõÝùÁ ×³Ý³ã»Éáõ í»ñ³µ»ñÛ³É | E26: 2 | G26: 2 | J26: 2 | K26: 1 | M26: 1 | N26: 1 | Q26: 1 | X26: 1 | Z26: 1 | AA26: 2 | AB26: 1 | AC26: 1 | AE26: 1 | AJ26: =E26 -> 2 | AK26: =F26+G26+H26+I26 -> 2 | AL26: =J26 -> 2 | AM26: =K26+L26+M26 -> 2 | AN26: =F26+G26+K26 -> 3 | AO26: =X26+Y26+AA26 -> 3 | AP26: =N26 -> 1 | AQ26: =O26+P26+Q26+R26+S26 -> 1 | AR26: =S26 -> 0 | AS26: =T26+U26+V26 -> 0 | AT26: =X26 -> 1 | AU26: =N26+W26 -> 1 | AV26: =AE26 -> 1 | AW26: =AC26+AD26 -> 1 | AX26: =AH26 -> 0 | AY26: =AF26+AG26 -> 0
A27: 1.3.2 | B27: ²Û¹ ÃíáõÙª ÑáÕ³Ù³ëÇ ÝÏ³ïÙ³Ùµ û·ï³·áñÍÙ³Ý Çñ³íáõÝùÁ ×³Ý³ã»Éáõ í»ñ³µ»ñÛ³É | AD27: 1 | AE27: 1 | AJ27: =E27 -> 0 | AK27: =F27+G27+H27+I27 -> 0 | AL27: =J27 -> 0 | AM27: =K27+L27+M27 -> 0 | AN27: =F27+G27+K27 -> 0 | AO27: =X27+Y27+AA27 -> 0 | AP27: =N27 -> 0 | AQ27: =O27+P27+Q27+R27+S27 -> 0 | AR27: =S27 -> 0 | AS27: =T27+U27+V27 -> 0 | AT27: =X27 -> 0 | AU27: =N27+W27 -> 0 | AV27: =AE27 -> 1 | AW27: =AC27+AD27 -> 1 | AX27: =AH27 -> 0 | AY27: =AF27+AG27 -> 0
A28: 1.4 | B28: ¶áõÛùÇ ÝÏ³ïÙ³Ùµ û·ï³·áñÍÙ³Ý Çñ³íáõÝùÁ ¹³¹³ñ»óÝ»Éáõ í»ñ³µ»ñÛ³É | AJ28: =E28 -> 0 | AK28: =F28+G28+H28+I28 -> 0 | AL28: =J28 -> 0 | AM28: =K28+L28+M28 -> 0 | AN28: =F28+G28+K28 -> 0 | AO28: =X28+Y28+AA28 -> 0 | AP28: =N28 -> 0 | AQ28: =O28+P28+Q28+R28+S28 -> 0 | AR28: =S28 -> 0 | AS28: =T28+U28+V28 -> 0 | AT28: =X28 -> 0 | AU28: =N28+W28 -> 0 | AV28: =AE28 -> 0 | AW28: =AC28+AD28 -> 0 | AX28: =AH28 -> 0 | AY28: =AF28+AG28 -> 0
A29: 1.4.1 | B29: ²Û¹ ÃíáõÙª µÝ³Ïû·ï³·áñÍÙ³Ý Çñ³íáõÝùÁ ¹³¹³ñ»óÝ»Éáõ í»ñ³µ»ñÛ³É | E29: 1 | F29: 1 | AA29: 1 | AH29: 1 | AJ29: =E29 -> 1 | AK29: =F29+G29+H29+I29 -> 1 | AL29: =J29 -> 0 | AM29: =K29+L29+M29 -> 0 | AN29: =F29+G29+K29 -> 1 | AO29: =X29+Y29+AA29 -> 1 | AP29: =N29 -> 0 | AQ29: =O29+P29+Q29+R29+S29 -> 0 | AR29: =S29 -> 0 | AS29: =T29+U29+V29 -> 0 | AT29: =X29 -> 0 | AU29: =N29+W29 -> 0 | AV29: =AE29 -> 0 | AW29: =AC29+AD29 -> 0 | AX29: =AH29 -> 1 | AY29: =AF29+AG29 -> 0
A30: 1.4.1/1 | B30: ²Û¹ ÃíáõÙª ÷áËÑ³ïáõóÙ³Ùµ | E30: 3 | F30: 1 | G30: 2 | J30: 5 | K30: 3 | L30: 2 | N30: 4 | O30: 3 | Q30: 1 | X30: 4 | AA30: 2 | AC30: 1 | AE30: 1 | AF30: 1 | AJ30: =E30 -> 3 | AK30: =F30+G30+H30+I30 -> 3 | AL30: =J30 -> 5 | AM30: =K30+L30+M30 -> 5 | AN30: =F30+G30+K30 -> 6 | AO30: =X30+Y30+AA30 -> 6 | AP30: =N30 -> 4 | AQ30: =O30+P30+Q30+R30+S30 -> 4 | AR30: =S30 -> 0 | AS30: =T30+U30+V30 -> 0 | AT30: =X30 -> 4 | AU30: =N30+W30 -> 4 | AV30: =AE30 -> 1 | AW30: =AC30+AD30 -> 1 | AX30: =AH30 -> 0 | AY30: =AF30+AG30 -> 1
A31: 1.5 | B31: ´Ý³Ï³ñ³ÝÇó/ ï³ñ³ÍùÇó/ íï³ñ»Éáõ í»ñ³µ»ñÛ³É | E31: 8 | F31: 3 | G31: 5 | J31: 15 | K31: 12 | L31: 3 | N31: 4 | O31: 2 | S31: 2 | T31: 1 | U31: 1 | X31: 4 | Z31: 3 | AA31: 16 | AB31: 6 | AC31: 2 | AD31: 1 | AE31: 3 | AJ31: =E31 -> 8 | AK31: =F31+G31+H31+I31 -> 8 | AL31: =J31 -> 15 | AM31: =K31+L31+M31 -> 15 | AN31: =F31+G31+K31 -> 20 | AO31: =X31+Y31+AA31 -> 20 | AP31: =N31 -> 4 | AQ31: =O31+P31+Q31+R31+S31 -> 4 | AR31: =S31 -> 2 | AS31: =T31+U31+V31 -> 2 | AT31: =X31 -> 4 | AU31: =N31+W31 -> 4 | AV31: =AE31 -> 3 | AW31: =AC31+AD31 -> 3 | AX31: =AH31 -> 0 | AY31: =AF31+AG31 -> 0
A32: 1.6 | B32: ¶áõÛùÝ áõñÇßÇ ³åûñÇÝÇ ïÇñ³å»ïáõÙÇó »ï í»ñ³¹³ñÓÝ»Éáõ í»ñ³µ»ñÛ³É | E32: 8 | F32: 2 | G32: 6 | J32: 22 | K32: 15 | L32: 6 | M32: 1 | N32: 7 | O32: 3 | Q32: 2 | S32: 2 | U32: 2 | X32: 7 | AA32: 16 | AB32: 2 | AC32: 3 | AE32: 3 | AJ32: =E32 -> 8 | AK32: =F32+G32+H32+I32 -> 8 | AL32: =J32 -> 22 | AM32: =K32+L32+M32 -> 22 | AN32: =F32+G32+K32 -> 23 | AO32: =X32+Y32+AA32 -> 23 | AP32: =N32 -> 7 | AQ32: =O32+P32+Q32+R32+S32 -> 7 | AR32: =S32 -> 2 | AS32: =T32+U32+V32 -> 2 | AT32: =X32 -> 7 | AU32: =N32+W32 -> 7 | AV32: =AE32 -> 3 | AW32: =AC32+AD32 -> 3 | AX32: =AH32 -> 0 | AY32: =AF32+AG32 -> 0
A33: 1.6.1 | B33: ´³ñ»ËÇÕ× Ó»éùµ»ñáÕÇó Çñ ·áõÛùÁ Ñ»ï å³Ñ³Ýç»Éáõ í»ñ³µ»ñÛ³É | AJ33: =E33 -> 0 | AK33: =F33+G33+H33+I33 -> 0 | AL33: =J33 -> 0 | AM33: =K33+L33+M33 -> 0 | AN33: =F33+G33+K33 -> 0 | AO33: =X33+Y33+AA33 -> 0 | AP33: =N33 -> 0 | AQ33: =O33+P33+Q33+R33+S33 -> 0 | AR33: =S33 -> 0 | AS33: =T33+U33+V33 -> 0 | AT33: =X33 -> 0 | AU33: =N33+W33 -> 0 | AV33: =AE33 -> 0 | AW33: =AC33+AD33 -> 0 | AX33: =AH33 -> 0 | AY33: =AF33+AG33 -> 0
A34: 1.7 | B34: îÇñ³å»ïáõÙÇó ½ñÏ»Éáõ Ñ»ï ãÏ³åí³Í Çñ³íáõÝùÝ»ñÇ Ë³ËïáõÙÁ í»ñ³óÝ»Éáõ í»ñ³µ»ñÛ³É | AJ34: =E34 -> 0 | AK34: =F34+G34+H34+I34 -> 0 | AL34: =J34 -> 0 | AM34: =K34+L34+M34 -> 0 | AN34: =F34+G34+K34 -> 0 | AO34: =X34+Y34+AA34 -> 0 | AP34: =N34 -> 0 | AQ34: =O34+P34+Q34+R34+S34 -> 0 | AR34: =S34 -> 0 | AS34: =T34+U34+V34 -> 0 | AT34: =X34 -> 0 | AU34: =N34+W34 -> 0 | AV34: =AE34 -> 0 | AW34: =AC34+AD34 -> 0 | AX34: =AH34 -> 0 | AY34: =AF34+AG34 -> 0
A35: 1.8 | B35: ÀÝ¹Ñ³Ýáõñ µ³ÅÝ³ÛÇÝ ë»÷³Ï³ÝáõÃÛáõÝÇó µ³ÅÇÝÝ ³é³ÝÓÝ³óÝ»Éáõ í»ñ³µ»ñÛ³É | E35: 41 | F35: 28 | G35: 13 | J35: 22 | K35: 18 | L35: 4 | N35: 21 | O35: 7 | S35: 14 | T35: 4 | U35: 10 | X35: 21 | Z35: 13 | AA35: 38 | AB35: 21 | AC35: 2 | AD35: 1 | AE35: 3 | AJ35: =E35 -> 41 | AK35: =F35+G35+H35+I35 -> 41 | AL35: =J35 -> 22 | AM35: =K35+L35+M35 -> 22 | AN35: =F35+G35+K35 -> 59 | AO35: =X35+Y35+AA35 -> 59 | AP35: =N35 -> 21 | AQ35: =O35+P35+Q35+R35+S35 -> 21 | AR35: =S35 -> 14 | AS35: =T35+U35+V35 -> 14 | AT35: =X35 -> 21 | AU35: =N35+W35 -> 21 | AV35: =AE35 -> 3 | AW35: =AC35+AD35 -> 3 | AX35: =AH35 -> 0 | AY35: =AF35+AG35 -> 0
A36: 1.8.1 | B36: Ð³Ù³ï»Õ ë»÷³Ï³ÝáõÃÛ³Ý Ý»ñùá ·ïÝíáÕ ·áõÛùÁ µ³Å³Ý»Éáõ ¨ ¹ñ³ÝÇó µ³ÅÇÝÝ ³é³ÝÓÝ³óÝ»Éáõ í»ñ³µ»ñÛ³É | E36: 30 | F36: 5 | G36: 25 | J36: 44 | K36: 34 | L36: 9 | N36: 27 | O36: 8 | S36: 19 | T36: 2 | U36: 17 | X36: 27 | Z36: 12 | AA36: 36 | AB36: 13 | AG36: 1 | AJ36: =E36 -> 30 | AK36: =F36+G36+H36+I36 -> 30 | AL36: =J36 -> 44 | AM36: =K36+L36+M36 -> 43 | AN36: =F36+G36+K36 -> 64 | AO36: =X36+Y36+AA36 -> 63 | AP36: =N36 -> 27 | AQ36: =O36+P36+Q36+R36+S36 -> 27 | AR36: =S36 -> 19 | AS36: =T36+U36+V36 -> 19 | AT36: =X36 -> 27 | AU36: =N36+W36 -> 27 | AV36: =AE36 -> 0 | AW36: =AC36+AD36 -> 0 | AX36: =AH36 -> 0 | AY36: =AF36+AG36 -> 1
A37: 1.8.3 | B37: ¶áõÛùÇ íñ³ µéÝ³·³ÝÓáõÙ ï³ñ³Í»Éáõ å³Ñ³ÝçÇ Ù³ëÇÝ | E37: 7 | F37: 4 | G37: 3 | J37: 2 | K37: 1 | L37: 1 | N37: 4 | O37: 1 | Q37: 3 | X37: 4 | AA37: 4 | AB37: 1 | AC37: 2 | AE37: 2 | AJ37: =E37 -> 7 | AK37: =F37+G37+H37+I37 -> 7 | AL37: =J37 -> 2 | AM37: =K37+L37+M37 -> 2 | AN37: =F37+G37+K37 -> 8 | AO37: =X37+Y37+AA37 -> 8 | AP37: =N37 -> 4 | AQ37: =O37+P37+Q37+R37+S37 -> 4 | AR37: =S37 -> 0 | AS37: =T37+U37+V37 -> 0 | AT37: =X37 -> 4 | AU37: =N37+W37 -> 4 | AV37: =AE37 -> 2 | AW37: =AC37+AD37 -> 2 | AX37: =AH37 -> 0 | AY37: =AF37+AG37 -> 0
A38: 1.9 | B38: ²ÛÉ í»×»ñ | E38: 36 | F38: 15 | G38: 21 | J38: 38 | K38: 17 | L38: 21 | N38: 24 | O38: 11 | P38: 1 | Q38: 4 | S38: 8 | T38: 2 | U38: 6 | X38: 24 | Z38: 6 | AA38: 29 | AC38: 4 | AD38: 3 | AE38: 7 | AF38: 1 | AJ38: =E38 -> 36 | AK38: =F38+G38+H38+I38 -> 36 | AL38: =J38 -> 38 | AM38: =K38+L38+M38 -> 38 | AN38: =F38+G38+K38 -> 53 | AO38: =X38+Y38+AA38 -> 53 | AP38: =N38 -> 24 | AQ38: =O38+P38+Q38+R38+S38 -> 24 | AR38: =S38 -> 8 | AS38: =T38+U38+V38 -> 8 | AT38: =X38 -> 24 | AU38: =N38+W38 -> 24 | AV38: =AE38 -> 7 | AW38: =AC38+AD38 -> 7 | AX38: =AH38 -> 0 | AY38: =AF38+AG38 -> 1
A39: 2. | B39: ¶áñÍ³ñùÝ»ñÇ Ñ»ï Ï³åí³Í Çñ³í³Ñ³ñ³µ»ñáõÃÛáõÝÝ»ñÇ í»ñ³µ»ñÛ³É ¹³ï³Ï³Ý ·áñÍ»ñ | E39: =SUM(E40:E50) -> 34 | F39: =SUM(F40:F50) -> 9 | G39: =SUM(G40:G50) -> 25 | H39: =SUM(H40:H50) -> 0 | I39: =SUM(I40:I50) -> 0 | J39: =SUM(J40:J50) -> 71 | K39: =SUM(K40:K50) -> 48 | L39: =SUM(L40:L50) -> 22 | ... AH39: =SUM(AH40:AH50) -> 3 | AJ39: =SUM(AJ40:AJ50) -> 34 | AK39: =SUM(AK40:AK50) -> 34 | AL39: =SUM(AL40:AL50) -> 71 | AM39: =SUM(AM40:AM50) -> 71 | AN39: =SUM(AN40:AN50) -> 82 | AO39: =SUM(AO40:AO50) -> 82 | AP39: =SUM(AP40:AP50) -> 34 | AQ39: =SUM(AQ40:AQ50) -> 34 | ... AY39: =SUM(AY40:AY50) -> 3
A40: 2.1 | B40: ·áñÍ³ñùÝ»ñÇ ³Ýí³í»ñáõÃÛ³Ý Ñ»ï Ï³åí³Í í»×»ñ | E40: 8 | F40: 2 | G40: 6 | J40: 23 | K40: 16 | L40: 7 | N40: 8 | Q40: 4 | S40: 4 | U40: 4 | X40: 8 | Z40: 2 | AA40: 16 | AB40: 4 | AC40: 4 | AD40: 1 | AE40: 5 | AF40: 1 | AH40: 1 | AJ40: =E40 -> 8 | AK40: =F40+G40+H40+I40 -> 8 | AL40: =J40 -> 23 | AM40: =K40+L40+M40 -> 23 | AN40: =F40+G40+K40 -> 24 | AO40: =X40+Y40+AA40 -> 24 | AP40: =N40 -> 8 | AQ40: =O40+P40+Q40+R40+S40 -> 8 | AR40: =S40 -> 4 | AS40: =T40+U40+V40 -> 4 | AT40: =X40 -> 8 | AU40: =N40+W40 -> 8 | AV40: =AE40 -> 5 | AW40: =AC40+AD40 -> 5 | AX40: =AH40 -> 1 | AY40: =AF40+AG40 -> 1
A41: 2.1.1 | B41: ³Û¹ ÃíáõÙ` íÇ×³Ñ³ñáõÛó ·áñÍ³ñùÝ»ñÝ ³Ýí³í»ñ ×³Ý³ã»Éáõ í»ñ³µ»ñÛ³É | J41: 1 | K41: 1 | AA41: 1 | AJ41: =E41 -> 0 | AK41: =F41+G41+H41+I41 -> 0 | AL41: =J41 -> 1 | AM41: =K41+L41+M41 -> 1 | AN41: =F41+G41+K41 -> 1 | AO41: =X41+Y41+AA41 -> 1 | AP41: =N41 -> 0 | AQ41: =O41+P41+Q41+R41+S41 -> 0 | AR41: =S41 -> 0 | AS41: =T41+U41+V41 -> 0 | AT41: =X41 -> 0 | AU41: =N41+W41 -> 0 | AV41: =AE41 -> 0 | AW41: =AC41+AD41 -> 0 | AX41: =AH41 -> 0 | AY41: =AF41+AG41 -> 0
A42: 2.1.2 | B42: ³Û¹ ÃíáõÙ` ·áñÍ³ñùÇ ³éáãÝãáõÃÛ³Ý Ñ»ï¨³ÝùÝ»ñ ÏÇñ³é»Éáõ í»ñ³µ»ñÛ³É | E42: 8 | F42: 3 | G42: 5 | J42: 8 | K42: 7 | L42: 1 | N42: 5 | O42: 2 | Q42: 1 | S42: 2 | T42: 1 | U42: 1 | X42: 5 | AA42: 10 | AC42: 3 | AD42: 1 | AE42: 4 | AF42: 1 | AH42: 1 | AJ42: =E42 -> 8 | AK42: =F42+G42+H42+I42 -> 8 | AL42: =J42 -> 8 | AM42: =K42+L42+M42 -> 8 | AN42: =F42+G42+K42 -> 15 | AO42: =X42+Y42+AA42 -> 15 | AP42: =N42 -> 5 | AQ42: =O42+P42+Q42+R42+S42 -> 5 | AR42: =S42 -> 2 | AS42: =T42+U42+V42 -> 2 | AT42: =X42 -> 5 | AU42: =N42+W42 -> 5 | AV42: =AE42 -> 4 | AW42: =AC42+AD42 -> 4 | AX42: =AH42 -> 1 | AY42: =AF42+AG42 -> 1
A43: 2.2 | B43: ¶áñÍ³ñùÁ í³í»ñ ×³Ý³ã»Éáõ í»ñ³µ»ñÛ³É | J43: 5 | K43: 1 | L43: 3 | M43: 1 | N43: 1 | Q43: 1 | X43: 1 | AD43: 1 | AE43: 1 | AJ43: =E43 -> 0 | AK43: =F43+G43+H43+I43 -> 0 | AL43: =J43 -> 5 | AM43: =K43+L43+M43 -> 5 | AN43: =F43+G43+K43 -> 1 | AO43: =X43+Y43+AA43 -> 1 | AP43: =N43 -> 1 | AQ43: =O43+P43+Q43+R43+S43 -> 1 | AR43: =S43 -> 0 | AS43: =T43+U43+V43 -> 0 | AT43: =X43 -> 1 | AU43: =N43+W43 -> 1 | AV43: =AE43 -> 1 | AW43: =AC43+AD43 -> 1 | AX43: =AH43 -> 0 | AY43: =AF43+AG43 -> 0
A44: 2.3 | B44: ¶áñÍ³ñùÇó Í³·áÕ Çñ³íáõÝùÝ»ñÁ ·ñ³Ýó»Éáõ í»ñ³µ»ñÛ³É | E44: 1 | G44: 1 | N44: 1 | Q44: 1 | X44: 1 | AC44: 1 | AE44: 1 | AJ44: =E44 -> 1 | AK44: =F44+G44+H44+I44 -> 1 | AL44: =J44 -> 0 | AM44: =K44+L44+M44 -> 0 | AN44: =F44+G44+K44 -> 1 | AO44: =X44+Y44+AA44 -> 1 | AP44: =N44 -> 1 | AQ44: =O44+P44+Q44+R44+S44 -> 1 | AR44: =S44 -> 0 | AS44: =T44+U44+V44 -> 0 | AT44: =X44 -> 1 | AU44: =N44+W44 -> 1 | AV44: =AE44 -> 1 | AW44: =AC44+AD44 -> 1 | AX44: =AH44 -> 0 | AY44: =AF44+AG44 -> 0
A45: 2.4 | B45: ä³ÛÙ³Ý³·ÇñÝ ³Ýí³í»ñ ×³Ý³ã»Éáõ í»ñ³µ»ñÛ³É | E45: 3 | F45: 1 | G45: 2 | J45: 3 | K45: 2 | L45: 1 | N45: 2 | Q45: 1 | S45: 1 | U45: 1 | X45: 2 | Z45: 1 | AA45: 3 | AB45: 1 | AC45: 1 | AD45: 1 | AE45: 2 | AJ45: =E45 -> 3 | AK45: =F45+G45+H45+I45 -> 3 | AL45: =J45 -> 3 | AM45: =K45+L45+M45 -> 3 | AN45: =F45+G45+K45 -> 5 | AO45: =X45+Y45+AA45 -> 5 | AP45: =N45 -> 2 | AQ45: =O45+P45+Q45+R45+S45 -> 2 | AR45: =S45 -> 1 | AS45: =T45+U45+V45 -> 1 | AT45: =X45 -> 2 | AU45: =N45+W45 -> 2 | AV45: =AE45 -> 2 | AW45: =AC45+AD45 -> 2 | AX45: =AH45 -> 0 | AY45: =AF45+AG45 -> 0
A46: 2.5 | B46: ä³ÛÙ³Ý³·ñÇÁ í³í»ñ ×³Ý³ã»Éáõ í»ñ³µ»ñÛ³É | AJ46: =E46 -> 0 | AK46: =F46+G46+H46+I46 -> 0 | AL46: =J46 -> 0 | AM46: =K46+L46+M46 -> 0 | AN46: =F46+G46+K46 -> 0 | AO46: =X46+Y46+AA46 -> 0 | AP46: =N46 -> 0 | AQ46: =O46+P46+Q46+R46+S46 -> 0 | AR46: =S46 -> 0 | AS46: =T46+U46+V46 -> 0 | AT46: =X46 -> 0 | AU46: =N46+W46 -> 0 | AV46: =AE46 -> 0 | AW46: =AC46+AD46 -> 0 | AX46: =AH46 -> 0 | AY46: =AF46+AG46 -> 0
A47: 2.6 | B47: ä³ÛÙ³Ý³·ñÇó Í³·áÕ Çñ³íáõÝùÝ»ñÁ ·ñ³Ýó»Éáõ í»ñ³µ»ñÛ³É | AJ47: =E47 -> 0 | AK47: =F47+G47+H47+I47 -> 0 | AL47: =J47 -> 0 | AM47: =K47+L47+M47 -> 0 | AN47: =F47+G47+K47 -> 0 | AO47: =X47+Y47+AA47 -> 0 | AP47: =N47 -> 0 | AQ47: =O47+P47+Q47+R47+S47 -> 0 | AR47: =S47 -> 0 | AS47: =T47+U47+V47 -> 0 | AT47: =X47 -> 0 | AU47: =N47+W47 -> 0 | AV47: =AE47 -> 0 | AW47: =AC47+AD47 -> 0 | AX47: =AH47 -> 0 | AY47: =AF47+AG47 -> 0
A48: 2.7 | B48: ä³ÛÙ³Ý³·ÇñÁ ÷á÷áË»Éáõ ¨ ÉáõÍ»Éáõ í»ñ³µ»ñÛ³É | E48: 3 | F48: 1 | G48: 2 | J48: 12 | K48: 7 | L48: 5 | N48: 5 | O48: 3 | P48: 1 | Q48: 1 | X48: 5 | AA48: 5 | AB48: 1 | AJ48: =E48 -> 3 | AK48: =F48+G48+H48+I48 -> 3 | AL48: =J48 -> 12 | AM48: =K48+L48+M48 -> 12 | AN48: =F48+G48+K48 -> 10 | AO48: =X48+Y48+AA48 -> 10 | AP48: =N48 -> 5 | AQ48: =O48+P48+Q48+R48+S48 -> 5 | AR48: =S48 -> 0 | AS48: =T48+U48+V48 -> 0 | AT48: =X48 -> 5 | AU48: =N48+W48 -> 5 | AV48: =AE48 -> 0 | AW48: =AC48+AD48 -> 0 | AX48: =AH48 -> 0 | AY48: =AF48+AG48 -> 0
A49: 2.8 | B49: ä³ÛÙ³Ý³·Çñ ÏÝù»ÉáõÝ å³ñï³íáñ»óÝ»Éáõ í»ñ³µ»ñÛ³É | E49: 1 | G49: 1 | J49: 11 | K49: 8 | L49: 3 | N49: 3 | O49: 2 | S49: 1 | U49: 1 | X49: 3 | AA49: 6 | AJ49: =E49 -> 1 | AK49: =F49+G49+H49+I49 -> 1 | AL49: =J49 -> 11 | AM49: =K49+L49+M49 -> 11 | AN49: =F49+G49+K49 -> 9 | AO49: =X49+Y49+AA49 -> 9 | AP49: =N49 -> 3 | AQ49: =O49+P49+Q49+R49+S49 -> 3 | AR49: =S49 -> 1 | AS49: =T49+U49+V49 -> 1 | AT49: =X49 -> 3 | AU49: =N49+W49 -> 3 | AV49: =AE49 -> 0 | AW49: =AC49+AD49 -> 0 | AX49: =AH49 -> 0 | AY49: =AF49+AG49 -> 0
A50: 2.9 | B50: ²ÛÉ í»×»ñ | E50: 10 | F50: 2 | G50: 8 | J50: 8 | K50: 6 | L50: 2 | N50: 9 | O50: 1 | P50: 1 | Q50: 3 | S50: 4 | T50: 2 | U50: 2 | X50: 9 | AA50: 7 | AB50: 2 | AG50: 1 | AH50: 1 | AJ50: =E50 -> 10 | AK50: =F50+G50+H50+I50 -> 10 | AL50: =J50 -> 8 | AM50: =K50+L50+M50 -> 8 | AN50: =F50+G50+K50 -> 16 | AO50: =X50+Y50+AA50 -> 16 | AP50: =N50 -> 9 | AQ50: =O50+P50+Q50+R50+S50 -> 9 | AR50: =S50 -> 4 | AS50: =T50+U50+V50 -> 4 | AT50: =X50 -> 9 | AU50: =N50+W50 -> 9 | AV50: =AE50 -> 0 | AW50: =AC50+AD50 -> 0 | AX50: =AH50 -> 1 | AY50: =AF50+AG50 -> 1
A51: 3. | B51: Ä³é³Ý·áõÃÛ³Ý Ñ»ï Ï³åí³Í Çñ³í³Ñ³ñ³µ»ñáõÃÛáõÝÝ»ñÇ í»ñ³µ»ñÛ³É ¹³ï³Ï³Ý ·áñÍ»ñ | E51: =SUM(E52:E58) -> 9 | F51: =SUM(F52:F58) -> 1 | G51: =SUM(G52:G58) -> 8 | H51: =SUM(H52:H58) -> 0 | I51: =SUM(I52:I58) -> 0 | J51: =SUM(J52:J58) -> 27 | K51: =SUM(K52:K58) -> 19 | L51: =SUM(L52:L58) -> 8 | ... AH51: =SUM(AH52:AH58) -> 1 | AJ51: =SUM(AJ52:AJ58) -> 9 | AK51: =SUM(AK52:AK58) -> 9 | AL51: =SUM(AL52:AL58) -> 27 | AM51: =SUM(AM52:AM58) -> 27 | AN51: =SUM(AN52:AN58) -> 28 | AO51: =SUM(AO52:AO58) -> 28 | AP51: =SUM(AP52:AP58) -> 10 | AQ51: =SUM(AQ52:AQ58) -> 10 | ... AY51: =SUM(AY52:AY58) -> 1
A52: 3.1 | B52: Îï³ÏÝ ³Ýí³í»ñ ×³Ý³ã»Éáõ í»ñ³µ»ñÛ³É | J52: 1 | K52: 1 | AA52: 1 | AJ52: =E52 -> 0 | AK52: =F52+G52+H52+I52 -> 0 | AL52: =J52 -> 1 | AM52: =K52+L52+M52 -> 1 | AN52: =F52+G52+K52 -> 1 | AO52: =X52+Y52+AA52 -> 1 | AP52: =N52 -> 0 | AQ52: =O52+P52+Q52+R52+S52 -> 0 | AR52: =S52 -> 0 | AS52: =T52+U52+V52 -> 0 | AT52: =X52 -> 0 | AU52: =N52+W52 -> 0 | AV52: =AE52 -> 0 | AW52: =AC52+AD52 -> 0 | AX52: =AH52 -> 0 | AY52: =AF52+AG52 -> 0
A53: 3.2 | B53: ²Ý³ñÅ³Ý Å³é³Ý· ×³Ý³ã»Éáõ í»ñ³µ»ñÛ³É | AJ53: =E53 -> 0 | AK53: =F53+G53+H53+I53 -> 0 | AL53: =J53 -> 0 | AM53: =K53+L53+M53 -> 0 | AN53: =F53+G53+K53 -> 0 | AO53: =X53+Y53+AA53 -> 0 | AP53: =N53 -> 0 | AQ53: =O53+P53+Q53+R53+S53 -> 0 | AR53: =S53 -> 0 | AS53: =T53+U53+V53 -> 0 | AT53: =X53 -> 0 | AU53: =N53+W53 -> 0 | AV53: =AE53 -> 0 | AW53: =AC53+AD53 -> 0 | AX53: =AH53 -> 0 | AY53: =AF53+AG53 -> 0
A54: 3.3 | B54: Ä³é³Ý·áõÃÛáõÝÁ µ³Å³Ý»Éáõ í»ñ³µ»ñÛ³É | E54: 2 | G54: 2 | N54: 2 | O54: 1 | S54: 1 | U54: 1 | X54: 2 | AJ54: =E54 -> 2 | AK54: =F54+G54+H54+I54 -> 2 | AL54: =J54 -> 0 | AM54: =K54+L54+M54 -> 0 | AN54: =F54+G54+K54 -> 2 | AO54: =X54+Y54+AA54 -> 2 | AP54: =N54 -> 2 | AQ54: =O54+P54+Q54+R54+S54 -> 2 | AR54: =S54 -> 1 | AS54: =T54+U54+V54 -> 1 | AT54: =X54 -> 2 | AU54: =N54+W54 -> 2 | AV54: =AE54 -> 0 | AW54: =AC54+AD54 -> 0 | AX54: =AH54 -> 0 | AY54: =AF54+AG54 -> 0
A55: 3.4 | B55: ¶áõÛùÝ ³ÝÅ³é³Ý· ×³Ý³ã»Éáõ í»ñ³µ»ñÛ³É | AJ55: =E55 -> 0 | AK55: =F55+G55+H55+I55 -> 0 | AL55: =J55 -> 0 | AM55: =K55+L55+M55 -> 0 | AN55: =F55+G55+K55 -> 0 | AO55: =X55+Y55+AA55 -> 0 | AP55: =N55 -> 0 | AQ55: =O55+P55+Q55+R55+S55 -> 0 | AR55: =S55 -> 0 | AS55: =T55+U55+V55 -> 0 | AT55: =X55 -> 0 | AU55: =N55+W55 -> 0 | AV55: =AE55 -> 0 | AW55: =AC55+AD55 -> 0 | AX55: =AH55 -> 0 | AY55: =AF55+AG55 -> 0
A56: 3.5 | B56: Àëï ûñ»ÝùÇ Å³é³Ý·áõÃÛ³Ý Çñ³íáõÝùÇ íÏ³Û³·ÇñÝ ³Ýí³í»ñ ×³Ý³ã»Éáõ í»ñ³µ»ñÛ³É | J56: 2 | K56: 1 | L56: 1 | AA56: 1 | AJ56: =E56 -> 0 | AK56: =F56+G56+H56+I56 -> 0 | AL56: =J56 -> 2 | AM56: =K56+L56+M56 -> 2 | AN56: =F56+G56+K56 -> 1 | AO56: =X56+Y56+AA56 -> 1 | AP56: =N56 -> 0 | AQ56: =O56+P56+Q56+R56+S56 -> 0 | AR56: =S56 -> 0 | AS56: =T56+U56+V56 -> 0 | AT56: =X56 -> 0 | AU56: =N56+W56 -> 0 | AV56: =AE56 -> 0 | AW56: =AC56+AD56 -> 0 | AX56: =AH56 -> 0 | AY56: =AF56+AG56 -> 0
A57: 3.6 | B57: Ä³é³Ý·áõÃÛáõÝÝ ÁÝ¹áõÝ»Éáõ µ³ó ÃáÕÝí³Í Å³ÙÏ»ïÁ Ñ³ñ·»ÉÇ Ñ³Ù³ñ»Éáõ í»ñ³µ»ñÛ³É | J57: 2 | K57: 2 | N57: 1 | O57: 1 | W57: 1 | X57: 2 | AJ57: =E57 -> 0 | AK57: =F57+G57+H57+I57 -> 0 | AL57: =J57 -> 2 | AM57: =K57+L57+M57 -> 2 | AN57: =F57+G57+K57 -> 2 | AO57: =X57+Y57+AA57 -> 2 | AP57: =N57 -> 1 | AQ57: =O57+P57+Q57+R57+S57 -> 1 | AR57: =S57 -> 0 | AS57: =T57+U57+V57 -> 0 | AT57: =X57 -> 2 | AU57: =N57+W57 -> 2 | AV57: =AE57 -> 0 | AW57: =AC57+AD57 -> 0 | AX57: =AH57 -> 0 | AY57: =AF57+AG57 -> 0
A58: 3.7 | B58: ²ÛÉ í»×»ñ | E58: 7 | F58: 1 | G58: 6 | J58: 22 | K58: 15 | L58: 7 | N58: 7 | O58: 1 | P58: 1 | Q58: 2 | S58: 3 | T58: 3 | X58: 7 | Z58: 4 | AA58: 15 | AB58: 4 | AC58: 2 | AE58: 2 | AF58: 1 | AH58: 1 | AJ58: =E58 -> 7 | AK58: =F58+G58+H58+I58 -> 7 | AL58: =J58 -> 22 | AM58: =K58+L58+M58 -> 22 | AN58: =F58+G58+K58 -> 22 | AO58: =X58+Y58+AA58 -> 22 | AP58: =N58 -> 7 | AQ58: =O58+P58+Q58+R58+S58 -> 7 | AR58: =S58 -> 3 | AS58: =T58+U58+V58 -> 3 | AT58: =X58 -> 7 | AU58: =N58+W58 -> 7 | AV58: =AE58 -> 2 | AW58: =AC58+AD58 -> 2 | AX58: =AH58 -> 1 | AY58: =AF58+AG58 -> 1
A59: 4 | B59: ÀÝï³Ý»Ï³Ý Çñ³í³Ñ³ñ³µ»ñáõÃÛáõÝÝ»ñÇ í»ñ³µ»ñÛ³É ¹³ï³Ï³Ý ·áñÍ»ñ | E59: =SUM(E60:E72) -> 87 | F59: =SUM(F60:F72) -> 15 | G59: =SUM(G60:G72) -> 72 | H59: =SUM(H60:H72) -> 0 | I59: =SUM(I60:I72) -> 0 | J59: =SUM(J60:J72) -> 257 | K59: =SUM(K60:K72) -> 198 | L59: =SUM(L60:L72) -> 58 | ... AH59: =SUM(AH60:AH72) -> 2 | AJ59: =SUM(AJ60:AJ72) -> 87 | AK59: =SUM(AK60:AK72) -> 87 | AL59: =SUM(AL60:AL72) -> 257 | AM59: =SUM(AM60:AM72) -> 256 | AN59: =SUM(AN60:AN72) -> 285 | AO59: =SUM(AO60:AO72) -> 284 | AP59: =SUM(AP60:AP72) -> 169 | AQ59: =SUM(AQ60:AQ72) -> 169 | ... AY59: =SUM(AY60:AY72) -> 2
A60: 4.1 | B60: ²ÙáõëÝ³ÉáõÍáõÃÛ³Ý í»ñ³µ»ñÛ³É | E60: 43 | F60: 5 | G60: 38 | J60: 136 | K60: 103 | L60: 33 | N60: 95 | O60: 73 | P60: 9 | S60: 13 | T60: 3 | U60: 10 | X60: 95 | Y60: 1 | Z60: 1 | AA60: 50 | AB60: 2 | AC60: 5 | AD60: 1 | AE60: 6 | AJ60: =E60 -> 43 | AK60: =F60+G60+H60+I60 -> 43 | AL60: =J60 -> 136 | AM60: =K60+L60+M60 -> 136 | AN60: =F60+G60+K60 -> 146 | AO60: =X60+Y60+AA60 -> 146 | AP60: =N60 -> 95 | AQ60: =O60+P60+Q60+R60+S60 -> 95 | AR60: =S60 -> 13 | AS60: =T60+U60+V60 -> 13 | AT60: =X60 -> 95 | AU60: =N60+W60 -> 95 | AV60: =AE60 -> 6 | AW60: =AC60+AD60 -> 6 | AX60: =AH60 -> 0 | AY60: =AF60+AG60 -> 0
A61: 4.2 | B61: ²ÉÇÙ»ÝïÇ å³Ñ³ÝçÇ í»ñ³µ»ñÛ³É | E61: 14 | F61: 5 | G61: 9 | J61: 56 | K61: 49 | L61: 7 | N61: 38 | O61: 9 | P61: 22 | R61: 1 | S61: 6 | T61: 2 | U61: 4 | X61: 38 | AA61: 24 | AB61: 5 | AC61: 3 | AE61: 3 | AJ61: =E61 -> 14 | AK61: =F61+G61+H61+I61 -> 14 | AL61: =J61 -> 56 | AM61: =K61+L61+M61 -> 56 | AN61: =F61+G61+K61 -> 63 | AO61: =X61+Y61+AA61 -> 62 | AP61: =N61 -> 38 | AQ61: =O61+P61+Q61+R61+S61 -> 38 | AR61: =S61 -> 6 | AS61: =T61+U61+V61 -> 6 | AT61: =X61 -> 38 | AU61: =N61+W61 -> 38 | AV61: =AE61 -> 3 | AW61: =AC61+AD61 -> 3 | AX61: =AH61 -> 0 | AY61: =AF61+AG61 -> 0
A62: 4.3 | B62: ²ÉÇÙ»ÝïÇ ã³÷Á ÷á÷áË»Éáõ í»ñ³µ»ñÛ³É | E62: 5 | F62: 1 | G62: 4 | J62: 5 | K62: 2 | L62: 2 | N62: 6 | P62: 3 | Q62: 2 | S62: 1 | T62: 1 | X62: 6 | AA62: 1 | AF62: 1 | AH62: 1 | AJ62: =E62 -> 5 | AK62: =F62+G62+H62+I62 -> 5 | AL62: =J62 -> 5 | AM62: =K62+L62+M62 -> 4 | AN62: =F62+G62+K62 -> 7 | AO62: =X62+Y62+AA62 -> 7 | AP62: =N62 -> 6 | AQ62: =O62+P62+Q62+R62+S62 -> 6 | AR62: =S62 -> 1 | AS62: =T62+U62+V62 -> 1 | AT62: =X62 -> 6 | AU62: =N62+W62 -> 6 | AV62: =AE62 -> 0 | AW62: =AC62+AD62 -> 0 | AX62: =AH62 -> 1 | AY62: =AF62+AG62 -> 1
A63: 4.4 | B63: ÌÝáÕ³Ï³Ý Çñ³íáõÝùÝ»ñÇó ½ñÏ»Éáõ í»ñ³µ»ñÛ³É | E63: 1 | F63: 1 | J63: 3 | K63: 2 | L63: 1 | N63: 1 | O63: 1 | X63: 1 | AA63: 2 | AJ63: =E63 -> 1 | AK63: =F63+G63+H63+I63 -> 1 | AL63: =J63 -> 3 | AM63: =K63+L63+M63 -> 3 | AN63: =F63+G63+K63 -> 3 | AO63: =X63+Y63+AA63 -> 3 | AP63: =N63 -> 1 | AQ63: =O63+P63+Q63+R63+S63 -> 1 | AR63: =S63 -> 0 | AS63: =T63+U63+V63 -> 0 | AT63: =X63 -> 1 | AU63: =N63+W63 -> 1 | AV63: =AE63 -> 0 | AW63: =AC63+AD63 -> 0 | AX63: =AH63 -> 0 | AY63: =AF63+AG63 -> 0
A64: 4.5 | B64: ÌÝáÕ³Ï³Ý Çñ³íáõÝùÝ»ñÁ í»ñ³Ï³Ý·Ý»Éáõ í»ñ³µ»ñÛ³É | AJ64: =E64 -> 0 | AK64: =F64+G64+H64+I64 -> 0 | AL64: =J64 -> 0 | AM64: =K64+L64+M64 -> 0 | AN64: =F64+G64+K64 -> 0 | AO64: =X64+Y64+AA64 -> 0 | AP64: =N64 -> 0 | AQ64: =O64+P64+Q64+R64+S64 -> 0 | AR64: =S64 -> 0 | AS64: =T64+U64+V64 -> 0 | AT64: =X64 -> 0 | AU64: =N64+W64 -> 0 | AV64: =AE64 -> 0 | AW64: =AC64+AD64 -> 0 | AX64: =AH64 -> 0 | AY64: =AF64+AG64 -> 0
A65: 4.6 | B65: ºñ»Ë³ÛÇ áñ¹»·ñÙ³Ý í»ñ³µ»ñÛ³É | E65: 2 | G65: 2 | J65: 3 | K65: 2 | L65: 1 | N65: 3 | O65: 3 | X65: 3 | AA65: 1 | AC65: 1 | AE65: 1 | AF65: 1 | AH65: 1 | AJ65: =E65 -> 2 | AK65: =F65+G65+H65+I65 -> 2 | AL65: =J65 -> 3 | AM65: =K65+L65+M65 -> 3 | AN65: =F65+G65+K65 -> 4 | AO65: =X65+Y65+AA65 -> 4 | AP65: =N65 -> 3 | AQ65: =O65+P65+Q65+R65+S65 -> 3 | AR65: =S65 -> 0 | AS65: =T65+U65+V65 -> 0 | AT65: =X65 -> 3 | AU65: =N65+W65 -> 3 | AV65: =AE65 -> 1 | AW65: =AC65+AD65 -> 1 | AX65: =AH65 -> 1 | AY65: =AF65+AG65 -> 1
A66: 4.7 | B66: ºñ»Ë³ÛÇ áñ¹»·ñáõÙÁ í»ñ³óÝ»Éáõ í»ñ³µ»ñÛ³É | E66: 1 | G66: 1 | N66: 1 | O66: 1 | X66: 1 | AJ66: =E66 -> 1 | AK66: =F66+G66+H66+I66 -> 1 | AL66: =J66 -> 0 | AM66: =K66+L66+M66 -> 0 | AN66: =F66+G66+K66 -> 1 | AO66: =X66+Y66+AA66 -> 1 | AP66: =N66 -> 1 | AQ66: =O66+P66+Q66+R66+S66 -> 1 | AR66: =S66 -> 0 | AS66: =T66+U66+V66 -> 0 | AT66: =X66 -> 1 | AU66: =N66+W66 -> 1 | AV66: =AE66 -> 0 | AW66: =AC66+AD66 -> 0 | AX66: =AH66 -> 0 | AY66: =AF66+AG66 -> 0
A67: 4.8 | B67: Ð³ÛñáõÃÛáõÝÁ ×³Ý³ã»Éáõ í»ñ³µ»ñÛ³É | E67: 7 | F67: 3 | G67: 4 | J67: 3 | K67: 3 | N67: 4 | O67: 2 | P67: 1 | S67: 1 | U67: 1 | X67: 4 | AA67: 6 | AJ67: =E67 -> 7 | AK67: =F67+G67+H67+I67 -> 7 | AL67: =J67 -> 3 | AM67: =K67+L67+M67 -> 3 | AN67: =F67+G67+K67 -> 10 | AO67: =X67+Y67+AA67 -> 10 | AP67: =N67 -> 4 | AQ67: =O67+P67+Q67+R67+S67 -> 4 | AR67: =S67 -> 1 | AS67: =T67+U67+V67 -> 1 | AT67: =X67 -> 4 | AU67: =N67+W67 -> 4 | AV67: =AE67 -> 0 | AW67: =AC67+AD67 -> 0 | AX67: =AH67 -> 0 | AY67: =AF67+AG67 -> 0
A68: 4.9 | B68: ºñ»Ë³ÛÇ µÝ³ÏáõÃÛ³Ý í³ÛñÁ áñáß»Éáõ í»ñ³µ»ñÛ³É | E68: 3 | G68: 3 | J68: 11 | K68: 9 | L68: 2 | N68: 6 | O68: 1 | P68: 2 | S68: 3 | T68: 2 | U68: 1 | X68: 6 | AA68: 6 | AC68: 2 | AE68: 2 | AJ68: =E68 -> 3 | AK68: =F68+G68+H68+I68 -> 3 | AL68: =J68 -> 11 | AM68: =K68+L68+M68 -> 11 | AN68: =F68+G68+K68 -> 12 | AO68: =X68+Y68+AA68 -> 12 | AP68: =N68 -> 6 | AQ68: =O68+P68+Q68+R68+S68 -> 6 | AR68: =S68 -> 3 | AS68: =T68+U68+V68 -> 3 | AT68: =X68 -> 6 | AU68: =N68+W68 -> 6 | AV68: =AE68 -> 2 | AW68: =AC68+AD68 -> 2 | AX68: =AH68 -> 0 | AY68: =AF68+AG68 -> 0
A69: 4.10 | B69: ºñ»Ë³ÛÇ Ñ»ï ï»ë³ÏóáõÃÛ³Ý Ï³ñ· ë³ÑÙ³Ý»Éáõ í»ñ³µ»ñÛ³É | E69: 6 | G69: 6 | J69: 24 | K69: 16 | L69: 8 | N69: 9 | O69: 2 | P69: 5 | S69: 2 | T69: 2 | X69: 9 | Y69: 1 | Z69: 1 | AA69: 12 | AJ69: =E69 -> 6 | AK69: =F69+G69+H69+I69 -> 6 | AL69: =J69 -> 24 | AM69: =K69+L69+M69 -> 24 | AN69: =F69+G69+K69 -> 22 | AO69: =X69+Y69+AA69 -> 22 | AP69: =N69 -> 9 | AQ69: =O69+P69+Q69+R69+S69 -> 9 | AR69: =S69 -> 2 | AS69: =T69+U69+V69 -> 2 | AT69: =X69 -> 9 | AU69: =N69+W69 -> 9 | AV69: =AE69 -> 0 | AW69: =AC69+AD69 -> 0 | AX69: =AH69 -> 0 | AY69: =AF69+AG69 -> 0
A70: 4.11 | B70: ²ÙáõëÇÝÝ»ñÇ ÁÝ¹Ñ³Ýáõñ ·áõÛùÁ µ³Å³Ý»Éáõ í»ñ³µ»ñÛ³É | E70: 4 | G70: 4 | J70: 8 | K70: 7 | L70: 1 | N70: 5 | O70: 1 | P70: 1 | Q70: 1 | S70: 2 | T70: 1 | U70: 1 | X70: 5 | Y70: 1 | AA70: 5 | AJ70: =E70 -> 4 | AK70: =F70+G70+H70+I70 -> 4 | AL70: =J70 -> 8 | AM70: =K70+L70+M70 -> 8 | AN70: =F70+G70+K70 -> 11 | AO70: =X70+Y70+AA70 -> 11 | AP70: =N70 -> 5 | AQ70: =O70+P70+Q70+R70+S70 -> 5 | AR70: =S70 -> 2 | AS70: =T70+U70+V70 -> 2 | AT70: =X70 -> 5 | AU70: =N70+W70 -> 5 | AV70: =AE70 -> 0 | AW70: =AC70+AD70 -> 0 | AX70: =AH70 -> 0 | AY70: =AF70+AG70 -> 0
A71: 4.12 | B71: ²ÙáõëÝ³Ï³Ý å³ÛÙ³Ý³·ñÇ ÷á÷áËÙ³Ý Ï³Ù ÉáõÍÙ³Ý í»ñ³µ»ñÛ³É | AJ71: =E71 -> 0 | AK71: =F71+G71+H71+I71 -> 0 | AL71: =J71 -> 0 | AM71: =K71+L71+M71 -> 0 | AN71: =F71+G71+K71 -> 0 | AO71: =X71+Y71+AA71 -> 0 | AP71: =N71 -> 0 | AQ71: =O71+P71+Q71+R71+S71 -> 0 | AR71: =S71 -> 0 | AS71: =T71+U71+V71 -> 0 | AT71: =X71 -> 0 | AU71: =N71+W71 -> 0 | AV71: =AE71 -> 0 | AW71: =AC71+AD71 -> 0 | AX71: =AH71 -> 0 | AY71: =AF71+AG71 -> 0
A72: 4.13 | B72: ²ÛÉ í»×»ñ | E72: 1 | G72: 1 | J72: 8 | K72: 5 | L72: 3 | N72: 1 | P72: 1 | X72: 1 | AA72: 5 | AJ72: =E72 -> 1 | AK72: =F72+G72+H72+I72 -> 1 | AL72: =J72 -> 8 | AM72: =K72+L72+M72 -> 8 | AN72: =F72+G72+K72 -> 6 | AO72: =X72+Y72+AA72 -> 6 | AP72: =N72 -> 1 | AQ72: =O72+P72+Q72+R72+S72 -> 1 | AR72: =S72 -> 0 | AS72: =T72+U72+V72 -> 0 | AT72: =X72 -> 1 | AU72: =N72+W72 -> 1 | AV72: =AE72 -> 0 | AW72: =AC72+AD72 -> 0 | AX72: =AH72 -> 0 | AY72: =AF72+AG72 -> 0
A73: 5. | B73: Øï³íáñ ë»÷³Ï³ÝáõÃÛ³Ý Ñ»ï Ï³åí³ÍÇñ³í³Ñ³ñ³µ»ñáõÃÛáõÝÝ»ñÇ í»ñ³µ»ñÛ³É ¹³ï³Ï³Ý ·áñÍ»ñ | E73: =SUM(E74:E79) -> 0 | F73: =SUM(F74:F79) -> 0 | G73: =SUM(G74:G79) -> 0 | H73: =SUM(H74:H79) -> 0 | I73: =SUM(I74:I79) -> 0 | J73: =SUM(J74:J79) -> 0 | K73: =SUM(K74:K79) -> 0 | L73: =SUM(L74:L79) -> 0 | ... AH73: =SUM(AH74:AH79) -> 0 | AJ73: =SUM(AJ74:AJ79) -> 0 | AK73: =SUM(AK74:AK79) -> 0 | AL73: =SUM(AL74:AL79) -> 0 | AM73: =SUM(AM74:AM79) -> 0 | AN73: =SUM(AN74:AN79) -> 0 | AO73: =SUM(AO74:AO79) -> 0 | AP73: =SUM(AP74:AP79) -> 0 | AQ73: =SUM(AQ74:AQ79) -> 0 | ... AX73: =SUM(AX74:AX79) -> 0 | AY73: =AF73+AG73 -> 0
A74: 5.1 | B74: ÈÇó»Ý½³ÛÇÝ å³ÛÙ³Ý³·ñÇ ÉáõÍÙ³Ý, ÷á÷áËÙ³Ý ¨ ³Ýí³í»ñáõÃÛ³Ý í»ñ³µ»ñÛ³É | AJ74: =E74 -> 0 | AK74: =F74+G74+H74+I74 -> 0 | AL74: =J74 -> 0 | AM74: =K74+L74+M74 -> 0 | AN74: =F74+G74+K74 -> 0 | AO74: =X74+Y74+AA74 -> 0 | AP74: =N74 -> 0 | AQ74: =O74+P74+Q74+R74+S74 -> 0 | AR74: =S74 -> 0 | AS74: =T74+U74+V74 -> 0 | AT74: =X74 -> 0 | AU74: =N74+W74 -> 0 | AV74: =AE74 -> 0 | AW74: =AC74+AD74 -> 0 | AX74: =AH74 -> 0 | AY74: =AF74+AG74 -> 0
A75: 5.2 | B75: Øï³íáñ ·áñÍáõÝ»áõÃÛ³Ý ³ñ¹ÛáõÝùÝ»ñ ëï»ÕÍ»Éáõ ¨ û·ï³·áñÍ»Éáõ å³ÛÙ³Ý³·ñÇ ÉáõÍÙ³Ý, ÷á÷áËÙ³Ý áõ ³Ýí³í»ñáõÃÛ³Ý í»ñ³µ»ñÛ³É | AJ75: =E75 -> 0 | AK75: =F75+G75+H75+I75 -> 0 | AL75: =J75 -> 0 | AM75: =K75+L75+M75 -> 0 | AN75: =F75+G75+K75 -> 0 | AO75: =X75+Y75+AA75 -> 0 | AP75: =N75 -> 0 | AQ75: =O75+P75+Q75+R75+S75 -> 0 | AR75: =S75 -> 0 | AS75: =T75+U75+V75 -> 0 | AT75: =X75 -> 0 | AU75: =N75+W75 -> 0 | AV75: =AE75 -> 0 | AW75: =AC75+AD75 -> 0 | AX75: =AH75 -> 0 | AY75: =AF75+AG75 -> 0
A76: 5.3 | B76: Ð»ÕÇÝ³Ï³ÛÇÝ ¨ Ñ³ñ³ÏÇó Çñ³íáõÝùÝ»ñÇ í»ñ³µ»ñÛ³É | AJ76: =E76 -> 0 | AK76: =F76+G76+H76+I76 -> 0 | AL76: =J76 -> 0 | AM76: =K76+L76+M76 -> 0 | AN76: =F76+G76+K76 -> 0 | AO76: =X76+Y76+AA76 -> 0 | AP76: =N76 -> 0 | AQ76: =O76+P76+Q76+R76+S76 -> 0 | AR76: =S76 -> 0 | AS76: =T76+U76+V76 -> 0 | AT76: =X76 -> 0 | AU76: =N76+W76 -> 0 | AV76: =AE76 -> 0 | AW76: =AC76+AD76 -> 0 | AX76: =AH76 -> 0 | AY76: =AF76+AG76 -> 0
A77: 5.4 | B77: üÇñÙ³ÛÇÝ ³Ýí³ÝÙ³Ý í»ñ³µ»ñÛ³É | AJ77: =E77 -> 0 | AK77: =F77+G77+H77+I77 -> 0 | AL77: =J77 -> 0 | AM77: =K77+L77+M77 -> 0 | AN77: =F77+G77+K77 -> 0 | AO77: =X77+Y77+AA77 -> 0 | AP77: =N77 -> 0 | AQ77: =O77+P77+Q77+R77+S77 -> 0 | AR77: =S77 -> 0 | AS77: =T77+U77+V77 -> 0 | AT77: =X77 -> 0 | AU77: =N77+W77 -> 0 | AV77: =AE77 -> 0 | AW77: =AC77+AD77 -> 0 | AX77: =AH77 -> 0 | AY77: =AF77+AG77 -> 0
A78: 5.5 | B78: ²åñ³Ýù³ÛÇÝ Ýß³ÝÇ í»ñ³µ»ñÛ³É | AJ78: =E78 -> 0 | AK78: =F78+G78+H78+I78 -> 0 | AL78: =J78 -> 0 | AM78: =K78+L78+M78 -> 0 | AN78: =F78+G78+K78 -> 0 | AO78: =X78+Y78+AA78 -> 0 | AP78: =N78 -> 0 | AQ78: =O78+P78+Q78+R78+S78 -> 0 | AR78: =S78 -> 0 | AS78: =T78+U78+V78 -> 0 | AT78: =X78 -> 0 | AU78: =N78+W78 -> 0 | AV78: =AE78 -> 0 | AW78: =AC78+AD78 -> 0 | AX78: =AH78 -> 0 | AY78: =AF78+AG78 -> 0
A79: 5.6 | B79: ²ÛÉ í»×»ñ | AJ79: =E79 -> 0 | AK79: =F79+G79+H79+I79 -> 0 | AL79: =J79 -> 0 | AM79: =K79+L79+M79 -> 0 | AN79: =F79+G79+K79 -> 0 | AO79: =X79+Y79+AA79 -> 0 | AP79: =N79 -> 0 | AQ79: =O79+P79+Q79+R79+S79 -> 0 | AR79: =S79 -> 0 | AS79: =T79+U79+V79 -> 0 | AT79: =X79 -> 0 | AU79: =N79+W79 -> 0 | AV79: =AE79 -> 0 | AW79: =AC79+AD79 -> 0 | AX79: =AH79 -> 0 | AY79: =AF79+AG79 -> 0
A80: 6. | B80: ²ßË³ï³Ýù³ÛÇÝ Çñ³í³Ñ³ñ³µ»ñáõÃÛáõÝÝ»ñÇ í»ñ³µ»ñÛ³É ¹³ï³Ï³Ý ·áñÍ»ñ | E80: =SUM(E81:E86) -> 4 | F80: =SUM(F81:F86) -> 0 | G80: =SUM(G81:G86) -> 4 | H80: =SUM(H81:H86) -> 0 | I80: =SUM(I81:I86) -> 0 | J80: =SUM(J81:J86) -> 6 | K80: =SUM(K81:K86) -> 5 | L80: =SUM(L81:L86) -> 1 | ... AH80: =SUM(AH81:AH86) -> 1 | AJ80: =SUM(AJ81:AJ86) -> 4 | AK80: =SUM(AK81:AK86) -> 4 | AL80: =SUM(AL81:AL86) -> 6 | AM80: =SUM(AM81:AM86) -> 6 | AN80: =SUM(AN81:AN86) -> 9 | AO80: =SUM(AO81:AO86) -> 9 | AP80: =SUM(AP81:AP86) -> 8 | AQ80: =SUM(AQ81:AQ86) -> 8 | ... AY80: =SUM(AY81:AY86) -> 1
A81: 6.1 | B81: ²ßË³ï³Ýù³ÛÇÝ å³ÛÙ³Ý³·ñ»ñÇ í»ñ³µ»ñÛ³É | J81: 1 | L81: 1 | AJ81: =E81 -> 0 | AK81: =F81+G81+H81+I81 -> 0 | AL81: =J81 -> 1 | AM81: =K81+L81+M81 -> 1 | AN81: =F81+G81+K81 -> 0 | AO81: =X81+Y81+AA81 -> 0 | AP81: =N81 -> 0 | AQ81: =O81+P81+Q81+R81+S81 -> 0 | AR81: =S81 -> 0 | AS81: =T81+U81+V81 -> 0 | AT81: =X81 -> 0 | AU81: =N81+W81 -> 0 | AV81: =AE81 -> 0 | AW81: =AC81+AD81 -> 0 | AX81: =AH81 -> 0 | AY81: =AF81+AG81 -> 0
A82: 6.2 | B82: ²ßË³ï³ÝùáõÙ í»ñ³Ï³Ý·Ý»Éáõ í»ñ³µ»ñÛ³É | J82: 2 | K82: 2 | N82: 2 | O82: 1 | Q82: 1 | X82: 2 | AC82: 1 | AE82: 1 | AJ82: =E82 -> 0 | AK82: =F82+G82+H82+I82 -> 0 | AL82: =J82 -> 2 | AM82: =K82+L82+M82 -> 2 | AN82: =F82+G82+K82 -> 2 | AO82: =X82+Y82+AA82 -> 2 | AP82: =N82 -> 2 | AQ82: =O82+P82+Q82+R82+S82 -> 2 | AR82: =S82 -> 0 | AS82: =T82+U82+V82 -> 0 | AT82: =X82 -> 2 | AU82: =N82+W82 -> 2 | AV82: =AE82 -> 1 | AW82: =AC82+AD82 -> 1 | AX82: =AH82 -> 0 | AY82: =AF82+AG82 -> 0
A83: 6.3 | B83: ¶áñÍ³¹áõÉÝ ³ÝûñÇÝ³Ï³Ý ×³Ý³ã»Éáõ í»ñ³µ»ñÛ³É | AJ83: =E83 -> 0 | AK83: =F83+G83+H83+I83 -> 0 | AL83: =J83 -> 0 | AM83: =K83+L83+M83 -> 0 | AN83: =F83+G83+K83 -> 0 | AO83: =X83+Y83+AA83 -> 0 | AP83: =N83 -> 0 | AQ83: =O83+P83+Q83+R83+S83 -> 0 | AR83: =S83 -> 0 | AS83: =T83+U83+V83 -> 0 | AT83: =X83 -> 0 | AU83: =N83+W83 -> 0 | AV83: =AE83 -> 0 | AW83: =AC83+AD83 -> 0 | AX83: =AH83 -> 0 | AY83: =AF83+AG83 -> 0
A84: 6.4 | B84: Ð³ñÏ³¹Çñ å³ñ³åáõñ¹Ç Ñ³ïáõóÙ³Ý í»ñ³µ»ñÛ³É | AJ84: =E84 -> 0 | AK84: =F84+G84+H84+I84 -> 0 | AL84: =J84 -> 0 | AM84: =K84+L84+M84 -> 0 | AN84: =F84+G84+K84 -> 0 | AO84: =X84+Y84+AA84 -> 0 | AP84: =N84 -> 0 | AQ84: =O84+P84+Q84+R84+S84 -> 0 | AR84: =S84 -> 0 | AS84: =T84+U84+V84 -> 0 | AT84: =X84 -> 0 | AU84: =N84+W84 -> 0 | AV84: =AE84 -> 0 | AW84: =AC84+AD84 -> 0 | AX84: =AH84 -> 0 | AY84: =AF84+AG84 -> 0
A85: 6.5 | B85: âí×³ñí³Í ³ßË³ï³í³ñÓÇ ¨/Ï³Ù ³ÛÉ í×³ñÝ»ñÇ µéÝ³·³ÝÓÙ³Ý í»ñ³µ»ñÛ³É | E85: 4 | G85: 4 | J85: 3 | K85: 3 | N85: 6 | O85: 1 | P85: 2 | S85: 3 | U85: 3 | X85: 6 | AA85: 1 | AC85: 1 | AE85: 1 | AF85: 1 | AH85: 1 | AJ85: =E85 -> 4 | AK85: =F85+G85+H85+I85 -> 4 | AL85: =J85 -> 3 | AM85: =K85+L85+M85 -> 3 | AN85: =F85+G85+K85 -> 7 | AO85: =X85+Y85+AA85 -> 7 | AP85: =N85 -> 6 | AQ85: =O85+P85+Q85+R85+S85 -> 6 | AR85: =S85 -> 3 | AS85: =T85+U85+V85 -> 3 | AT85: =X85 -> 6 | AU85: =N85+W85 -> 6 | AV85: =AE85 -> 1 | AW85: =AC85+AD85 -> 1 | AX85: =AH85 -> 1 | AY85: =AF85+AG85 -> 1
A86: 6.6 | B86: ²ÛÉ í»×»ñ | AJ86: =E86 -> 0 | AK86: =F86+G86+H86+I86 -> 0 | AL86: =J86 -> 0 | AM86: =K86+L86+M86 -> 0 | AN86: =F86+G86+K86 -> 0 | AO86: =X86+Y86+AA86 -> 0 | AP86: =N86 -> 0 | AQ86: =O86+P86+Q86+R86+S86 -> 0 | AR86: =S86 -> 0 | AS86: =T86+U86+V86 -> 0 | AT86: =X86 -> 0 | AU86: =N86+W86 -> 0 | AV86: =AE86 -> 0 | AW86: =AC86+AD86 -> 0 | AX86: =AH86 -> 0 | AY86: =AF86+AG86 -> 0
A87: 7. | B87: Æñ³í³µ³Ý³Ï³Ý ³ÝÓÇ ·áñÍáõÝ»áõÃÛáõÝÇó µËáÕ Çñ³í³Ñ³ñ³µ»ñáõÃÛáõÝÝ»ñÇ í»ñ³µ»ñÛ³É ¹³ï³Ï³Ý ·áñÍ»ñ | E87: =SUM(E88:E89) -> 1 | F87: =SUM(F88:F89) -> 1 | G87: =SUM(G88:G89) -> 0 | H87: =SUM(H88:H89) -> 0 | I87: =SUM(I88:I89) -> 0 | J87: =SUM(J88:J89) -> 0 | K87: =SUM(K88:K89) -> 0 | L87: =SUM(L88:L89) -> 0 | ... AH87: =SUM(AH88:AH89) -> 0 | AI87: =AI88+AI89 -> 0 | AJ87: =SUM(AJ88:AJ89) -> 1 | AK87: =SUM(AK88:AK89) -> 1 | AL87: =SUM(AL88:AL89) -> 0 | AM87: =SUM(AM88:AM89) -> 0 | AN87: =SUM(AN88:AN89) -> 1 | AO87: =SUM(AO88:AO89) -> 1 | AP87: =SUM(AP88:AP89) -> 0 | AQ87: =SUM(AQ88:AQ89) -> 0 | ... AY87: =SUM(AY88:AY89) -> 0
A88: 7.1 | B88: Îáñåáñ³ïÇí í»×»ñ | E88: 1 | F88: 1 | AA88: 1 | AJ88: =E88 -> 1 | AK88: =F88+G88+H88+I88 -> 1 | AL88: =J88 -> 0 | AM88: =K88+L88+M88 -> 0 | AN88: =F88+G88+K88 -> 1 | AO88: =X88+Y88+AA88 -> 1 | AP88: =N88 -> 0 | AQ88: =O88+P88+Q88+R88+S88 -> 0 | AR88: =S88 -> 0 | AS88: =T88+U88+V88 -> 0 | AT88: =X88 -> 0 | AU88: =N88+W88 -> 0 | AV88: =AE88 -> 0 | AW88: =AC88+AD88 -> 0 | AX88: =AH88 -> 0 | AY88: =AF88+AG88 -> 0
A89: 7.2 | B89: ²ÛÉ í»×»ñ | AJ89: =E89 -> 0 | AK89: =F89+G89+H89+I89 -> 0 | AL89: =J89 -> 0 | AM89: =K89+L89+M89 -> 0 | AN89: =F89+G89+K89 -> 0 | AO89: =X89+Y89+AA89 -> 0 | AP89: =N89 -> 0 | AQ89: =O89+P89+Q89+R89+S89 -> 0 | AR89: =S89 -> 0 | AS89: =T89+U89+V89 -> 0 | AT89: =X89 -> 0 | AU89: =N89+W89 -> 0 | AV89: =AE89 -> 0 | AW89: =AC89+AD89 -> 0 | AX89: =AH89 -> 0 | AY89: =AF89+AG89 -> 0
A90: 8. | B90: Ð³ïáõÏ í³ñáõÛÃÇ ¹³ï³Ï³Ý ·áñÍ»ñ | E90: =SUM(E91:E111) -> 41 | F90: =SUM(F91:F111) -> 0 | G90: =SUM(G91:G111) -> 41 | H90: =SUM(H91:H111) -> 0 | I90: =SUM(I91:I111) -> 0 | J90: =SUM(J91:J111) -> 141 | K90: =SUM(K91:K111) -> 101 | L90: =SUM(L91:L111) -> 36 | ... AH90: =SUM(AH91:AH111) -> 1 | AJ90: =SUM(AJ91:AJ111) -> 41 | AK90: =SUM(AK91:AK111) -> 41 | AL90: =SUM(AL91:AL111) -> 141 | AM90: =SUM(AM91:AM111) -> 141 | AN90: =SUM(AN91:AN111) -> 142 | AO90: =SUM(AO91:AO111) -> 142 | AP90: =SUM(AP91:AP111) -> 108 | AQ90: =SUM(AQ91:AQ111) -> 108 | ... AY90: =SUM(AY91:AY111) -> 1
A91: 8.1 | B91: ²Ýã³÷³Ñ³ëÇÝ ÉñÇí ·áñÍáõÝ³Ï ×³Ý³ã»Éáõ /¿Ù³ÝëÇå³óÇ³/ í»ñ³µ»ñÛ³É | AJ91: =E91 -> 0 | AK91: =F91+G91+H91+I91 -> 0 | AL91: =J91 -> 0 | AM91: =K91+L91+M91 -> 0 | AN91: =F91+G91+K91 -> 0 | AO91: =X91+Y91+AA91 -> 0 | AP91: =N91 -> 0 | AQ91: =O91+P91+Q91+R91+S91 -> 0 | AR91: =S91 -> 0 | AS91: =T91+U91+V91 -> 0 | AT91: =X91 -> 0 | AU91: =N91+W91 -> 0 | AV91: =AE91 -> 0 | AW91: =AC91+AD91 -> 0 | AX91: =AH91 -> 0 | AY91: =AF91+AG91 -> 0
A92: 8.2 | B92: ø³Õ³ù³óáõÝ ³Ý·áñÍáõÝ³Ï Ï³Ù ë³ÑÙ³Ý³÷³Ï ·áñÍáõÝ³Ï ×³Ý³ã»Éáõ í»ñ³µ»ñÛ³É | E92: 14 | G92: 14 | J92: 19 | K92: 16 | L92: 3 | N92: 20 | O92: 17 | S92: 3 | U92: 3 | X92: 20 | Z92: 2 | AA92: 10 | AC92: 1 | AE92: 1 | AJ92: =E92 -> 14 | AK92: =F92+G92+H92+I92 -> 14 | AL92: =J92 -> 19 | AM92: =K92+L92+M92 -> 19 | AN92: =F92+G92+K92 -> 30 | AO92: =X92+Y92+AA92 -> 30 | AP92: =N92 -> 20 | AQ92: =O92+P92+Q92+R92+S92 -> 20 | AR92: =S92 -> 3 | AS92: =T92+U92+V92 -> 3 | AT92: =X92 -> 20 | AU92: =N92+W92 -> 20 | AV92: =AE92 -> 1 | AW92: =AC92+AD92 -> 1 | AX92: =AH92 -> 0 | AY92: =AF92+AG92 -> 0
A93: 8.3 | B93: ø³Õ³ù³óáõÝ Ñá·»µáõÅ³Ï³Ý ÑÇí³Ý¹³Ýáó³ÛÇÝ Ñ³ñÏ³¹Çñ µáõÅÙ³Ý »ÝÃ³ñÏ»Éáõ í»ñ³µ»ñÛ³É | J93: 21 | K93: 21 | N93: 20 | O93: 17 | Q93: 1 | S93: 2 | U93: 2 | X93: 20 | AA93: 1 | AJ93: =E93 -> 0 | AK93: =F93+G93+H93+I93 -> 0 | AL93: =J93 -> 21 | AM93: =K93+L93+M93 -> 21 | AN93: =F93+G93+K93 -> 21 | AO93: =X93+Y93+AA93 -> 21 | AP93: =N93 -> 20 | AQ93: =O93+P93+Q93+R93+S93 -> 20 | AR93: =S93 -> 2 | AS93: =T93+U93+V93 -> 2 | AT93: =X93 -> 20 | AU93: =N93+W93 -> 20 | AV93: =AE93 -> 0 | AW93: =AC93+AD93 -> 0 | AX93: =AH93 -> 0 | AY93: =AF93+AG93 -> 0
A94: 8.4 | B94: ø³Õ³ù³óáõÝ ³ÝÑ³Ûï µ³ó³Ï³ÛáÕ Ï³Ù Ù³Ñ³ó³Í ×³Ý³ã»Éáõ í»ñ³µ»ñÛ³É | E94: 8 | G94: 8 | J94: 16 | K94: 12 | L94: 4 | N94: 18 | O94: 14 | Q94: 1 | S94: 3 | U94: 3 | X94: 18 | AA94: 2 | AG94: 1 | AH94: 1 | AJ94: =E94 -> 8 | AK94: =F94+G94+H94+I94 -> 8 | AL94: =J94 -> 16 | AM94: =K94+L94+M94 -> 16 | AN94: =F94+G94+K94 -> 20 | AO94: =X94+Y94+AA94 -> 20 | AP94: =N94 -> 18 | AQ94: =O94+P94+Q94+R94+S94 -> 18 | AR94: =S94 -> 3 | AS94: =T94+U94+V94 -> 3 | AT94: =X94 -> 18 | AU94: =N94+W94 -> 18 | AV94: =AE94 -> 0 | AW94: =AC94+AD94 -> 0 | AX94: =AH94 -> 1 | AY94: =AF94+AG94 -> 1
A95: 8.5 | B95: ø³Õ³ù³óÇ³Ï³Ý Ï³óáõÃÛ³Ý ³Ïï»ñÇ ·ñ³éáõÙÝ»ñÇ ³Ý×ßïáõÃÛáõÝÝ»ñÁ å³ñ½»Éáõ í»ñ³µ»ñÛ³É | J95: 1 | K95: 1 | AA95: 1 | AJ95: =E95 -> 0 | AK95: =F95+G95+H95+I95 -> 0 | AL95: =J95 -> 1 | AM95: =K95+L95+M95 -> 1 | AN95: =F95+G95+K95 -> 1 | AO95: =X95+Y95+AA95 -> 1 | AP95: =N95 -> 0 | AQ95: =O95+P95+Q95+R95+S95 -> 0 | AR95: =S95 -> 0 | AS95: =T95+U95+V95 -> 0 | AT95: =X95 -> 0 | AU95: =N95+W95 -> 0 | AV95: =AE95 -> 0 | AW95: =AC95+AD95 -> 0 | AX95: =AH95 -> 0 | AY95: =AF95+AG95 -> 0
A96: 8.6 | B96: ¶áõÛùÁ ïÇñ³½áõñÏ ×³Ý³ã»Éáõ í»ñ³µ»ñÛ³É | J96: 2 | K96: 2 | AA96: 2 | AJ96: =E96 -> 0 | AK96: =F96+G96+H96+I96 -> 0 | AL96: =J96 -> 2 | AM96: =K96+L96+M96 -> 2 | AN96: =F96+G96+K96 -> 2 | AO96: =X96+Y96+AA96 -> 2 | AP96: =N96 -> 0 | AQ96: =O96+P96+Q96+R96+S96 -> 0 | AR96: =S96 -> 0 | AS96: =T96+U96+V96 -> 0 | AT96: =X96 -> 0 | AU96: =N96+W96 -> 0 | AV96: =AE96 -> 0 | AW96: =AC96+AD96 -> 0 | AX96: =AH96 -> 0 | AY96: =AF96+AG96 -> 0
A97: 8.6.1 | B97: ²Û¹ ÃíáõÙª ³Ýß³ñÅ ·áõÛùÁ | E97: 1 | G97: 1 | J97: 1 | K97: 1 | AA97: 2 | AJ97: =E97 -> 1 | AK97: =F97+G97+H97+I97 -> 1 | AL97: =J97 -> 1 | AM97: =K97+L97+M97 -> 1 | AN97: =F97+G97+K97 -> 2 | AO97: =X97+Y97+AA97 -> 2 | AP97: =N97 -> 0 | AQ97: =O97+P97+Q97+R97+S97 -> 0 | AR97: =S97 -> 0 | AS97: =T97+U97+V97 -> 0 | AT97: =X97 -> 0 | AU97: =N97+W97 -> 0 | AV97: =AE97 -> 0 | AW97: =AC97+AD97 -> 0 | AX97: =AH97 -> 0 | AY97: =AF97+AG97 -> 0
A98: 8.6.2 | B98: ²Û¹ ÃíáõÙª ß³ñÅ³Ï³Ý ·áõÛùÁ | J98: 1 | K98: 1 | AA98: 1 | AJ98: =E98 -> 0 | AK98: =F98+G98+H98+I98 -> 0 | AL98: =J98 -> 1 | AM98: =K98+L98+M98 -> 1 | AN98: =F98+G98+K98 -> 1 | AO98: =X98+Y98+AA98 -> 1 | AP98: =N98 -> 0 | AQ98: =O98+P98+Q98+R98+S98 -> 0 | AR98: =S98 -> 0 | AS98: =T98+U98+V98 -> 0 | AT98: =X98 -> 0 | AU98: =N98+W98 -> 0 | AV98: =AE98 -> 0 | AW98: =AC98+AD98 -> 0 | AX98: =AH98 -> 0 | AY98: =AF98+AG98 -> 0
A99: 8.7 | B99: Æñ³í³µ³Ý³Ï³Ý Ýß³Ý³ÏáõÃÛáõÝ áõÝ»óáÕ ÷³ëï»ñÇ Ñ³ëï³ïÙ³Ý í»ñ³µ»ñÛ³É | AJ99: =E99 -> 0 | AK99: =F99+G99+H99+I99 -> 0 | AL99: =J99 -> 0 | AM99: =K99+L99+M99 -> 0 | AN99: =F99+G99+K99 -> 0 | AO99: =X99+Y99+AA99 -> 0 | AP99: =N99 -> 0 | AQ99: =O99+P99+Q99+R99+S99 -> 0 | AR99: =S99 -> 0 | AS99: =T99+U99+V99 -> 0 | AT99: =X99 -> 0 | AU99: =N99+W99 -> 0 | AV99: =AE99 -> 0 | AW99: =AC99+AD99 -> 0 | AX99: =AH99 -> 0 | AY99: =AF99+AG99 -> 0
A100: 8.7.1 | B100: ²ÝÓ³Ýó ³½·³Ïó³Ï³Ý Ï³åÁ Ñ³ëï³ï»Éáõ í»ñ³µ»ñÛ³É | E100: 4 | G100: 4 | J100: 25 | K100: 13 | L100: 12 | N100: 14 | O100: 13 | P100: 1 | X100: 14 | AA100: 3 | AJ100: =E100 -> 4 | AK100: =F100+G100+H100+I100 -> 4 | AL100: =J100 -> 25 | AM100: =K100+L100+M100 -> 25 | AN100: =F100+G100+K100 -> 17 | AO100: =X100+Y100+AA100 -> 17 | AP100: =N100 -> 14 | AQ100: =O100+P100+Q100+R100+S100 -> 14 | AR100: =S100 -> 0 | AS100: =T100+U100+V100 -> 0 | AT100: =X100 -> 14 | AU100: =N100+W100 -> 14 | AV100: =AE100 -> 0 | AW100: =AC100+AD100 -> 0 | AX100: =AH100 -> 0 | AY100: =AF100+AG100 -> 0
A101: 8.7.2 | B101: ²ÝÓÇª áõñÇßÇ ËÝ³ÙùÇ ï³Ï ·ïÝí»Éáõ í»ñ³µ»ñÛ³É | J101: 1 | L101: 1 | AJ101: =E101 -> 0 | AK101: =F101+G101+H101+I101 -> 0 | AL101: =J101 -> 1 | AM101: =K101+L101+M101 -> 1 | AN101: =F101+G101+K101 -> 0 | AO101: =X101+Y101+AA101 -> 0 | AP101: =N101 -> 0 | AQ101: =O101+P101+Q101+R101+S101 -> 0 | AR101: =S101 -> 0 | AS101: =T101+U101+V101 -> 0 | AT101: =X101 -> 0 | AU101: =N101+W101 -> 0 | AV101: =AE101 -> 0 | AW101: =AC101+AD101 -> 0 | AX101: =AH101 -> 0 | AY101: =AF101+AG101 -> 0
A102: 8.7.3 | B102: ÌÝÝ¹Û³Ý, áñ¹»·ñÙ³Ý, ³ÙáõëÝáõÃÛ³Ý, ³å³Ñ³ñ½³ÝÇ ¨ Ù³Ñí³Ý ·ñ³ÝóÙ³Ý í»ñ³µ»ñÛ³É | E102: 3 | G102: 3 | J102: 6 | K102: 6 | N102: 8 | O102: 6 | Q102: 2 | X102: 8 | AA102: 1 | AC102: 1 | AE102: 1 | AJ102: =E102 -> 3 | AK102: =F102+G102+H102+I102 -> 3 | AL102: =J102 -> 6 | AM102: =K102+L102+M102 -> 6 | AN102: =F102+G102+K102 -> 9 | AO102: =X102+Y102+AA102 -> 9 | AP102: =N102 -> 8 | AQ102: =O102+P102+Q102+R102+S102 -> 8 | AR102: =S102 -> 0 | AS102: =T102+U102+V102 -> 0 | AT102: =X102 -> 8 | AU102: =N102+W102 -> 8 | AV102: =AE102 -> 1 | AW102: =AC102+AD102 -> 1 | AX102: =AH102 -> 0 | AY102: =AF102+AG102 -> 0
A103: 8.7.4 | B103: ²ÝÓÇª áñáß³ÏÇ Å³Ù³Ý³ÏáõÙ ¨ áñáß³ÏÇ Ñ³Ý·³Ù³ÝùÝ»ñáõÙ Ù³Ñí³Ý í»ñ³µ»ñÛ³É | J103: 1 | K103: 1 | N103: 1 | O103: 1 | X103: 1 | AJ103: =E103 -> 0 | AK103: =F103+G103+H103+I103 -> 0 | AL103: =J103 -> 1 | AM103: =K103+L103+M103 -> 1 | AN103: =F103+G103+K103 -> 1 | AO103: =X103+Y103+AA103 -> 1 | AP103: =N103 -> 1 | AQ103: =O103+P103+Q103+R103+S103 -> 1 | AR103: =S103 -> 0 | AS103: =T103+U103+V103 -> 0 | AT103: =X103 -> 1 | AU103: =N103+W103 -> 1 | AV103: =AE103 -> 0 | AW103: =AC103+AD103 -> 0 | AX103: =AH103 -> 0 | AY103: =AF103+AG103 -> 0
A104: 8.7.5 | B104: Ä³é³Ý·áõÃÛáõÝÝ ÁÝ¹áõÝ»Éáõ ¨ Å³é³Ý·áõÃÛ³Ý µ³óÙ³Ý í³ÛñÇ í»ñ³µ»ñÛ³É | E104: 3 | G104: 3 | J104: 8 | K104: 4 | L104: 4 | N104: 5 | O104: 2 | Q104: 1 | S104: 2 | U104: 2 | X104: 5 | AA104: 2 | AC104: 1 | AE104: 1 | AJ104: =E104 -> 3 | AK104: =F104+G104+H104+I104 -> 3 | AL104: =J104 -> 8 | AM104: =K104+L104+M104 -> 8 | AN104: =F104+G104+K104 -> 7 | AO104: =X104+Y104+AA104 -> 7 | AP104: =N104 -> 5 | AQ104: =O104+P104+Q104+R104+S104 -> 5 | AR104: =S104 -> 2 | AS104: =T104+U104+V104 -> 2 | AT104: =X104 -> 5 | AU104: =N104+W104 -> 5 | AV104: =AE104 -> 1 | AW104: =AC104+AD104 -> 1 | AX104: =AH104 -> 0 | AY104: =AF104+AG104 -> 0
A105: 8.7.6 | B105: ¸Åµ³Ëï å³ï³Ñ³ñÇ í»ñ³µ»ñÛ³É | AJ105: =E105 -> 0 | AK105: =F105+G105+H105+I105 -> 0 | AL105: =J105 -> 0 | AM105: =K105+L105+M105 -> 0 | AN105: =F105+G105+K105 -> 0 | AO105: =X105+Y105+AA105 -> 0 | AP105: =N105 -> 0 | AQ105: =O105+P105+Q105+R105+S105 -> 0 | AR105: =S105 -> 0 | AS105: =T105+U105+V105 -> 0 | AT105: =X105 -> 0 | AU105: =N105+W105 -> 0 | AV105: =AE105 -> 0 | AW105: =AC105+AD105 -> 0 | AX105: =AH105 -> 0 | AY105: =AF105+AG105 -> 0
A106: 8.7.7 | B106: Æñ³íáõÝù ë³ÑÙ³ÝáÕ ÷³ëï³ÃÕÃ»ñÇ å³ïÏ³Ý»ÉáõÃÛ³Ý í»ñ³µ»ñÛ³É | E106: 4 | G106: 4 | J106: 22 | K106: 12 | L106: 9 | M106: 1 | N106: 13 | O106: 11 | P106: 1 | S106: 1 | V106: 1 | X106: 13 | AA106: 3 | AJ106: =E106 -> 4 | AK106: =F106+G106+H106+I106 -> 4 | AL106: =J106 -> 22 | AM106: =K106+L106+M106 -> 22 | AN106: =F106+G106+K106 -> 16 | AO106: =X106+Y106+AA106 -> 16 | AP106: =N106 -> 13 | AQ106: =O106+P106+Q106+R106+S106 -> 13 | AR106: =S106 -> 1 | AS106: =T106+U106+V106 -> 1 | AT106: =X106 -> 13 | AU106: =N106+W106 -> 13 | AV106: =AE106 -> 0 | AW106: =AC106+AD106 -> 0 | AX106: =AH106 -> 0 | AY106: =AF106+AG106 -> 0
A107: 8.7.8 | B107: ê»÷³Ï³ÝáõÃÛ³Ý Çñ³íáõÝùáí ·áõÛùÇ ïÇñ³å»ïÙ³Ý í»ñ³µ»ñÛ³É | E107: 1 | G107: 1 | J107: 2 | K107: 1 | L107: 1 | N107: 1 | O107: 1 | X107: 1 | AA107: 1 | AB107: 1 | AJ107: =E107 -> 1 | AK107: =F107+G107+H107+I107 -> 1 | AL107: =J107 -> 2 | AM107: =K107+L107+M107 -> 2 | AN107: =F107+G107+K107 -> 2 | AO107: =X107+Y107+AA107 -> 2 | AP107: =N107 -> 1 | AQ107: =O107+P107+Q107+R107+S107 -> 1 | AR107: =S107 -> 0 | AS107: =T107+U107+V107 -> 0 | AT107: =X107 -> 1 | AU107: =N107+W107 -> 1 | AV107: =AE107 -> 0 | AW107: =AC107+AD107 -> 0 | AX107: =AH107 -> 0 | AY107: =AF107+AG107 -> 0
A108: 8.7.9 | B108: ²ÝÑ³ÕÃ³Ñ³ñ»ÉÇ áõÅÇ ³éÏ³ÛáõÃÛ³Ý í»ñ³µ»ñÛ³É | AJ108: =E108 -> 0 | AK108: =F108+G108+H108+I108 -> 0 | AL108: =J108 -> 0 | AM108: =K108+L108+M108 -> 0 | AN108: =F108+G108+K108 -> 0 | AO108: =X108+Y108+AA108 -> 0 | AP108: =N108 -> 0 | AQ108: =O108+P108+Q108+R108+S108 -> 0 | AR108: =S108 -> 0 | AS108: =T108+U108+V108 -> 0 | AT108: =X108 -> 0 | AU108: =N108+W108 -> 0 | AV108: =AE108 -> 0 | AW108: =AC108+AD108 -> 0 | AX108: =AH108 -> 0 | AY108: =AF108+AG108 -> 0
A109: 8.7.10 | B109: úñ»Ýùáí Ý³Ë³ï»ëí³Í ³ÛÉ Çñ³í³µ³Ý³Ï³Ý ÷³ëï»ñÇ í»ñ³µ»ñÛ³É | E109: 3 | G109: 3 | J109: 15 | K109: 10 | L109: 2 | M109: 3 | N109: 8 | O109: 4 | Q109: 2 | S109: 2 | U109: 2 | X109: 8 | AA109: 5 | AJ109: =E109 -> 3 | AK109: =F109+G109+H109+I109 -> 3 | AL109: =J109 -> 15 | AM109: =K109+L109+M109 -> 15 | AN109: =F109+G109+K109 -> 13 | AO109: =X109+Y109+AA109 -> 13 | AP109: =N109 -> 8 | AQ109: =O109+P109+Q109+R109+S109 -> 8 | AR109: =S109 -> 2 | AS109: =T109+U109+V109 -> 2 | AT109: =X109 -> 8 | AU109: =N109+W109 -> 8 | AV109: =AE109 -> 0 | AW109: =AC109+AD109 -> 0 | AX109: =AH109 -> 0 | AY109: =AF109+AG109 -> 0
A110: 8.8 | B110: Àëï Ý»ñÏ³Û³óÝáÕÇ ¨ ûñ¹»ñ³ÛÇÝ Ïáñóñ³Í ³ñÅ»ÃÕÃ»ñáí Ñ³í³ëïí³Í Çñ³íáõÝùÝ»ñÁ í»ñ³Ï³Ý·Ý»Éáõ í»ñ³µ»ñÛ³É | AJ110: =E110 -> 0 | AK110: =F110+G110+H110+I110 -> 0 | AL110: =J110 -> 0 | AM110: =K110+L110+M110 -> 0 | AN110: =F110+G110+K110 -> 0 | AO110: =X110+Y110+AA110 -> 0 | AP110: =N110 -> 0 | AQ110: =O110+P110+Q110+R110+S110 -> 0 | AR110: =S110 -> 0 | AS110: =T110+U110+V110 -> 0 | AT110: =X110 -> 0 | AU110: =N110+W110 -> 0 | AV110: =AE110 -> 0 | AW110: =AC110+AD110 -> 0 | AX110: =AH110 -> 0 | AY110: =AF110+AG110 -> 0
A111: 8.10 | B111: ²ÛÉ í»×»ñ | AJ111: =E111 -> 0 | AK111: =F111+G111+H111+I111 -> 0 | AL111: =J111 -> 0 | AM111: =K111+L111+M111 -> 0 | AN111: =F111+G111+K111 -> 0 | AO111: =X111+Y111+AA111 -> 0 | AP111: =N111 -> 0 | AQ111: =O111+P111+Q111+R111+S111 -> 0 | AR111: =S111 -> 0 | AS111: =T111+U111+V111 -> 0 | AT111: =X111 -> 0 | AU111: =N111+W111 -> 0 | AV111: =AE111 -> 0 | AW111: =AC111+AD111 -> 0 | AX111: =AH111 -> 0 | AY111: =AF111+AG111 -> 0
...

Sheet Kentron
A1: 2015Ã. | E1: Ð²ÞìºîìàôÂÚàôÜ | AC1: Ð³í»Éí³Í Ð³Û³ëï³ÝÇ Ð³Ýñ³å»ïáõÃÛ³Ý ¸³ï³ñ³ÝÝ»ñÇ Ý³Ë³·³ÑÝ»ñÇ ËáñÑñ¹Ç 01.02.2016Ã. ÃÇí 11È áñáßÙ³Ý
A2: ºðºì²Ü ø²Ô²øÆ ÎºÜîðàÜ ºì Üàðø-Ø²ð²Þ ì²ðâ²Î²Ü Þðæ²ÜÜºðÆ ÀÜ¸Ð²Üàôð Æð²ì²êàôÂÚ²Ü ²è²æÆÜ ²îÚ²ÜÆ ¸²î²ð²ÜàôØ ø²Ô²ø²òÆ²Î²Ü ¶àðÌºðÆ øÜÜàôÂÚ²Ü ìºð²´ºðÚ²È
A3: ºñ¨³Ý ù³Õ³ùÇ Î»ÝïñáÝ ¨ Üáñù- Ø³ñ³ß í³ñã³Ï³Ý ßñç³ÝÝ»ñÇ ÁÝ¹Ñ³Ýáõñ Çñ³í³ëáõÃÛ³Ý ³é³çÇÝ ³ïÛ³ÝÇ ¹³ï³ñ³ÝáõÙ ù³Õ³ù³óÇ³Ï³Ý Ù³ëÝ³·Çï³óáõÙ áõÝ»óáÕ ¹³ï³íáñÝ»ñÇ Ñ³ëïÇùÝ»ñÇ ù³Ý³ÏÁ` 9
A4: êïáõ·Çã Ñ³í³ë³ñáõÙÝ»ñª 1=2+3+4+5, 6=7+8+9, 2+3+7=20+21+23, 10=11+12+13+14+15, 15=16+17+18, 20=10+19, 27=25+26, 30=28+29 | E4: Ð³ßí»ïáõ Å³Ù³Ý³Ï³Ñ³ïí³ÍáõÙ Ý³Ëáñ¹ Ñ³ßí»ïáõ Å³Ù³Ý³Ï³Ñ³ïí³ÍÇó ÷áË³Ýóí³Í ·áñÍ»ñÇ ÁÝ¹Ñ³Ýáõñ ÃÇíÁ | J4: Ð³ßí»ïáõ Å³Ù³Ý³Ï³Ñ³ïí³ÍáõÙëï³óí³Í ·áñÍ»ñÇ (³Û¹ ÃíáõÙ` Ñ³Ûó³¹ÇÙáõÙÝ»ñÇ, ¹ÇÙáõÙÝ»ñÇ) ÁÝ¹Ñ³Ýáõñ ÃÇíÁ | N4: Ð³ßí»ïáõ Å³Ù³Ý³Ï³Ñ³ïí³ÍáõÙ ³í³ñïí³Í ·áñÍ»ñÇ ÁÝ¹Ñ³Ýáõñ ÃÇíÁ | Y4: ¶áñÍÝ áõÕ³ñÏí»É ¿ Áëï ÁÝ¹¹³ïáõÃÛ³Ý | Z4: Ð³ßí»ïáõ Å³Ù³Ý³Ï³Ñ³ïí³ÍáõÙ Ï³ë»óí³Í í³ñáõÛÃÝ»ñáí ·áñÍ»ñÇ ÁÝ¹Ñ³Ýáõñ ÃÇíÁ | AA4: Ð³ßí»ïáõ Å³Ù³Ý³Ï³Ñ³ïí³ÍáõÙ ³Ý³í³ñï ·áñÍ»ñÇ ÁÝ¹Ñ³Ýáõñ ÃÇíÁ | AB4: ²Û¹ ÃíáõÙª Ï³ë»óí³Í | AC4: ´áÕáù³ñÏí³Í ¹³ï³Ï³Ý ³Ïï»ñÇ ÃÇíÁ` Áëï ï»ë³ÏÝ»ñÇ | AF4: ´»Ï³Ýí³Í ¹³ï³Ï³Ý ³Ïï»ñÇ ÃÇíÁ` Áëï ï»ë³ÏÝ»ñÇ
E7: ÀÝ¹³Ù»ÝÁ | F7: ²Û¹ ÃíáõÙ`Ï³ë»óí³Í íÇ×³ÏáõÙ ÷áË³Ýóí³Í | G7: ²Û¹ ÃíáõÙª ÁÝ¹áõÝí»É ¿ í³ñáõÛÃ | H7: ²Û¹ ÃíáõÙª í»ñ³¹³ñÓí»É ¿ | I7: ²Û¹ ÃíáõÙª ÁÝ¹áõÝáõÙÁ Ù»ñÅí»É ¿ | J7: ÀÝ¹³Ù»ÝÁ | K7: ²Û¹ ÃíáõÙª ÁÝ¹áõÝí»É ¿ í³ñáõÛÃ | L7: ²Û¹ ÃíáõÙª í»ñ³¹³ñÓí»É ¿ | M7: ²Û¹ ÃíáõÙª ÁÝ¹áõÝáõÙÁ Ù»ñÅí»É ¿ | N7: ÀÝ¹³Ù»ÝÁ ³í³ñïí»É »Ý ·áñÍ»ñ ·áñÍÝ Áëï ¿áõÃÛ³Ý ÉáõÍáÕ ¹³ï³Ï³Ý ³Ïï»ñÇ (í×ÇéÝ»ñÇ) Ï³Û³óÙ³Ùµ | O7: ²Û¹ ÃíáõÙª Ñ³ÛóÇ µ³í³ñ³ñÙ³Ùµ | P7: ²Û¹ ÃíáõÙª Ñ³ÛóÇ Ù³ëÝ³ÏÇ µ³í³ñ³ñÙ³Ùµ | Q7: ²Û¹ ÃíáõÙª Ñ³ÛóÇ Ù»ñÅÙ³Ùµ | R7: Ø³ëáí Ï³ñ×í»É ¿, Ù³ëáí Ù»ñÅí»É | S7: ²Û¹ ÃíáõÙª Ï³ñ×í»É »Ý | W7: Ð³ÛóÁ ÃáÕÝí»É ¿ ³é³Ýó ùÝÝáõÃÛ³Ý | X7: ÀÝ¹³Ù»ÝÝ ³í³ñïí»É »Ý ·áñÍ»ñ | AC7: ²Û¹ ÃíáõÙ` ·áñÍÝ Áëï ¿áõÃÛ³Ý ÉáõÍáÕ ¹³ï³Ï³Ý ³Ïï»ñ | AD7: ²Û¹ ÃíáõÙ` ÙÇç³ÝÏÛ³É ¹³ï³Ï³Ý ³Ïï»ñ | AE7: ÀÝ¹³Ù»ÝÁ | AF7: ²Û¹ ÃíáõÙ` ·áñÍÝ Áëï ¿áõÃÛ³Ý ÉáõÍáÕ ¹³ï³Ï³Ý ³Ïï»ñ | AG7: ²Û¹ ÃíáõÙ` ÙÇç³ÝÏÛ³É ¹³ï³Ï³Ý ³Ïï»ñ | AH7: ÀÝ¹³Ù»ÝÁ
S10: ÀÝ¹³Ù»ÝÁ Ï³ñ×í»É »Ý | T10: ²Û¹ ÃíáõÙª Ñ³ëï³ïí»É ¿ ÏÝùí³Í Ñ³ßïáõÃÛ³Ý Ñ³Ù³Ó³ÛÝáõÃÛáõÝÁ | U10: ²Û¹ ÃíáõÙª Ñ³óÇó, ¹ÇÙáõÙÇó Ññ³Å³ñí»Éáõ ÑÇÙùáí | V10: ²Û¹ ÃíáõÙª ³ÛÉ ÑÇÙùáí
A18: ø³Õ³ù³óÇ³Ï³Ý ·áñÍ»ñÇ ¹³ë³Ï³ñ·áõÙÁ | E18: 1 | F18: 2 | G18: 3 | H18: 4 | I18: 5 | J18: 6 | K18: 7 | L18: 8 | M18: 9 | N18: 10 | O18: 11 | P18: 12 | Q18: 13 | R18: 14 | S18: 15 | T18: 16 | U18: 17 | V18: 18 | W18: 19 | X18: 20 | Y18: 21 | Z18: 22 | AA18: 23 | AB18: 24 | AC18: 25 | AD18: 26 | AE18: 27 | AF18: 28 | AG18: 29 | AH18: 30 | AJ18: 1=2+3+4+5 | AL18: 6=7+8+9 | AN18: 2+3+7=20+21+23 | AP18: 10=11+12+13+14+15 | AR18: 15=16+17+18 | AT18: 20=10+19 | AV18: 27=25+26 | AX18: 30=28+29
A19: 1. | B19: ¶áõÛù³ÛÇÝ Çñ³í³Ñ³ñ³µ»ñáõÃÛáõÝÝ»ñÇ í»ñ³µ»ñÛ³É ¹³ï³Ï³Ý ·áñÍ»ñ | E19: =SUM(E20:E38) -> 446 | F19: =SUM(F20:F38) -> 130 | G19: =SUM(G20:G38) -> 316 | H19: =SUM(H20:H38) -> 0 | I19: =SUM(I20:I38) -> 0 | J19: =SUM(J20:J38) -> 347 | K19: =SUM(K20:K38) -> 302 | L19: =SUM(L20:L38) -> 38 | ... AH19: =SUM(AH20:AH38) -> 7 | AJ19: =SUM(AJ20:AJ38) -> 446 | AK19: =SUM(AK20:AK38) -> 446 | AL19: =SUM(AL20:AL38) -> 347 | AM19: =SUM(AM20:AM38) -> 347 | AN19: =SUM(AN20:AN38) -> 748 | AO19: =SUM(AO20:AO38) -> 746 | AP19: =SUM(AP20:AP38) -> 256 | AQ19: =SUM(AQ20:AQ38) -> 256 | ... AY19: =SUM(AY20:AY38) -> 7
A20: 1.1 | B20: ¶áõÛùÇ ÝÏ³ïÙ³Ùµ ë»÷³Ï³ÝáõÃÛ³Ý Çñ³íáõÝùÁ ×³Ý³ã»Éáõ í»ñ³µ»ñÛ³É | E20: 59 | F20: 18 | G20: 41 | J20: 47 | K20: 41 | L20: 5 | M20: 1 | N20: 27 | O20: 10 | P20: 1 | Q20: 11 | R20: 1 | S20: 4 | T20: 2 | U20: 2 | W20: 1 | X20: 28 | Z20: 4 | AA20: 72 | AB20: 15 | AC20: 12 | AE20: 12 | AF20: 1 | AH20: 1 | AJ20: =E20 -> 59 | AK20: =F20+G20+H20+I20 -> 59 | AL20: =J20 -> 47 | AM20: =K20+L20+M20 -> 47 | AN20: =F20+G20+K20 -> 100 | AO20: =X20+Y20+AA20 -> 100 | AP20: =N20 -> 27 | AQ20: =O20+P20+Q20+R20+S20 -> 27 | AR20: =S20 -> 4 | AS20: =T20+U20+V20 -> 4 | AT20: =X20 -> 28 | AU20: =N20+W20 -> 28 | AV20: =AE20 -> 12 | AW20: =AC20+AD20 -> 12 | AX20: =AH20 -> 1 | AY20: =AF20+AG20 -> 1
A21: 1.1.1 | B21: ²Û¹ ÃíáõÙª Ó»éùµ»ñÙ³Ý í³Õ»ÙáõÃÛ³Ý áõÅáí | E21: 20 | F21: 8 | G21: 12 | J21: 14 | K21: 14 | N21: 8 | O21: 2 | Q21: 3 | S21: 3 | T21: 2 | V21: 1 | W21: 1 | X21: 9 | AA21: 25 | AB21: 1 | AC21: 4 | AE21: 4 | AF21: 1 | AH21: 1 | AJ21: =E21 -> 20 | AK21: =F21+G21+H21+I21 -> 20 | AL21: =J21 -> 14 | AM21: =K21+L21+M21 -> 14 | AN21: =F21+G21+K21 -> 34 | AO21: =X21+Y21+AA21 -> 34 | AP21: =N21 -> 8 | AQ21: =O21+P21+Q21+R21+S21 -> 8 | AR21: =S21 -> 3 | AS21: =T21+U21+V21 -> 3 | AT21: =X21 -> 9 | AU21: =N21+W21 -> 9 | AV21: =AE21 -> 4 | AW21: =AC21+AD21 -> 4 | AX21: =AH21 -> 1 | AY21: =AF21+AG21 -> 1
A22: 1.1.2 | B22: ²Û¹ ÃíáõÙª ïÇñ³½áõñÏ ·áõÛùÇ ÝÏ³ïÙ³Ùµ | AJ22: =E22 -> 0 | AK22: =F22+G22+H22+I22 -> 0 | AL22: =J22 -> 0 | AM22: =K22+L22+M22 -> 0 | AN22: =F22+G22+K22 -> 0 | AO22: =X22+Y22+AA22 -> 0 | AP22: =N22 -> 0 | AQ22: =O22+P22+Q22+R22+S22 -> 0 | AR22: =S22 -> 0 | AS22: =T22+U22+V22 -> 0 | AT22: =X22 -> 0 | AU22: =N22+W22 -> 0 | AV22: =AE22 -> 0 | AW22: =AC22+AD22 -> 0 | AX22: =AH22 -> 0 | AY22: =AF22+AG22 -> 0
A23: 1.1.3 | B23: ²Û¹ ÃíáõÙª ÇÝùÝ³Ï³Ù Ï³éáõÛóÇ ÝÏ³ïÙ³Ùµ | AJ23: =E23 -> 0 | AK23: =F23+G23+H23+I23 -> 0 | AL23: =J23 -> 0 | AM23: =K23+L23+M23 -> 0 | AN23: =F23+G23+K23 -> 0 | AO23: =X23+Y23+AA23 -> 0 | AP23: =N23 -> 0 | AQ23: =O23+P23+Q23+R23+S23 -> 0 | AR23: =S23 -> 0 | AS23: =T23+U23+V23 -> 0 | AT23: =X23 -> 0 | AU23: =N23+W23 -> 0 | AV23: =AE23 -> 0 | AW23: =AC23+AD23 -> 0 | AX23: =AH23 -> 0 | AY23: =AF23+AG23 -> 0
A24: 1.2 | B24: ê»÷³Ï³ÝáõÃÛ³Ý Çñ³íáõÝùÇ ¹³¹³ñ»óÙ³Ý í»ñ³µ»ñÛ³É | E24: 8 | F24: 2 | G24: 6 | J24: 5 | K24: 5 | N24: 3 | O24: 2 | S24: 1 | U24: 1 | X24: 3 | Z24: 1 | AA24: 10 | AB24: 1 | AC24: 2 | AE24: 2 | AJ24: =E24 -> 8 | AK24: =F24+G24+H24+I24 -> 8 | AL24: =J24 -> 5 | AM24: =K24+L24+M24 -> 5 | AN24: =F24+G24+K24 -> 13 | AO24: =X24+Y24+AA24 -> 13 | AP24: =N24 -> 3 | AQ24: =O24+P24+Q24+R24+S24 -> 3 | AR24: =S24 -> 1 | AS24: =T24+U24+V24 -> 1 | AT24: =X24 -> 3 | AU24: =N24+W24 -> 3 | AV24: =AE24 -> 2 | AW24: =AC24+AD24 -> 2 | AX24: =AH24 -> 0 | AY24: =AF24+AG24 -> 0
A25: 1.3 | B25: ¶áõÛùÇ ÝÏ³ïÙ³Ùµ û·ï³·áñÍÙ³Ý Çñ³íáõÝùÁ ×³Ý³ã»Éáõ í»ñ³µ»ñÛ³É | E25: 1 | G25: 1 | AA25: 1 | AJ25: =E25 -> 1 | AK25: =F25+G25+H25+I25 -> 1 | AL25: =J25 -> 0 | AM25: =K25+L25+M25 -> 0 | AN25: =F25+G25+K25 -> 1 | AO25: =X25+Y25+AA25 -> 1 | AP25: =N25 -> 0 | AQ25: =O25+P25+Q25+R25+S25 -> 0 | AR25: =S25 -> 0 | AS25: =T25+U25+V25 -> 0 | AT25: =X25 -> 0 | AU25: =N25+W25 -> 0 | AV25: =AE25 -> 0 | AW25: =AC25+AD25 -> 0 | AX25: =AH25 -> 0 | AY25: =AF25+AG25 -> 0
A26: 1.3.1 | B26: ²Û¹ ÃíáõÙª µÝ³Ïû·ï³·áñÍÙ³Ý Çñ³íáõÝùÁ ×³Ý³ã»Éáõ í»ñ³µ»ñÛ³É | AJ26: =E26 -> 0 | AK26: =F26+G26+H26+I26 -> 0 | AL26: =J26 -> 0 | AM26: =K26+L26+M26 -> 0 | AN26: =F26+G26+K26 -> 0 | AO26: =X26+Y26+AA26 -> 0 | AP26: =N26 -> 0 | AQ26: =O26+P26+Q26+R26+S26 -> 0 | AR26: =S26 -> 0 | AS26: =T26+U26+V26 -> 0 | AT26: =X26 -> 0 | AU26: =N26+W26 -> 0 | AV26: =AE26 -> 0 | AW26: =AC26+AD26 -> 0 | AX26: =AH26 -> 0 | AY26: =AF26+AG26 -> 0
A27: 1.3.2 | B27: ²Û¹ ÃíáõÙª ÑáÕ³Ù³ëÇ ÝÏ³ïÙ³Ùµ û·ï³·áñÍÙ³Ý Çñ³íáõÝùÁ ×³Ý³ã»Éáõ í»ñ³µ»ñÛ³É | J27: 1 | L27: 1 | AJ27: =E27 -> 0 | AK27: =F27+G27+H27+I27 -> 0 | AL27: =J27 -> 1 | AM27: =K27+L27+M27 -> 1 | AN27: =F27+G27+K27 -> 0 | AO27: =X27+Y27+AA27 -> 0 | AP27: =N27 -> 0 | AQ27: =O27+P27+Q27+R27+S27 -> 0 | AR27: =S27 -> 0 | AS27: =T27+U27+V27 -> 0 | AT27: =X27 -> 0 | AU27: =N27+W27 -> 0 | AV27: =AE27 -> 0 | AW27: =AC27+AD27 -> 0 | AX27: =AH27 -> 0 | AY27: =AF27+AG27 -> 0
A28: 1.4 | B28: ¶áõÛùÇ ÝÏ³ïÙ³Ùµ û·ï³·áñÍÙ³Ý Çñ³íáõÝùÁ ¹³¹³ñ»óÝ»Éáõ í»ñ³µ»ñÛ³É | AJ28: =E28 -> 0 | AK28: =F28+G28+H28+I28 -> 0 | AL28: =J28 -> 0 | AM28: =K28+L28+M28 -> 0 | AN28: =F28+G28+K28 -> 0 | AO28: =X28+Y28+AA28 -> 0 | AP28: =N28 -> 0 | AQ28: =O28+P28+Q28+R28+S28 -> 0 | AR28: =S28 -> 0 | AS28: =T28+U28+V28 -> 0 | AT28: =X28 -> 0 | AU28: =N28+W28 -> 0 | AV28: =AE28 -> 0 | AW28: =AC28+AD28 -> 0 | AX28: =AH28 -> 0 | AY28: =AF28+AG28 -> 0
A29: 1.4.1 | B29: ²Û¹ ÃíáõÙª µÝ³Ïû·ï³·áñÍÙ³Ý Çñ³íáõÝùÁ ¹³¹³ñ»óÝ»Éáõ í»ñ³µ»ñÛ³É | AJ29: =E29 -> 0 | AK29: =F29+G29+H29+I29 -> 0 | AL29: =J29 -> 0 | AM29: =K29+L29+M29 -> 0 | AN29: =F29+G29+K29 -> 0 | AO29: =X29+Y29+AA29 -> 0 | AP29: =N29 -> 0 | AQ29: =O29+P29+Q29+R29+S29 -> 0 | AR29: =S29 -> 0 | AS29: =T29+U29+V29 -> 0 | AT29: =X29 -> 0 | AU29: =N29+W29 -> 0 | AV29: =AE29 -> 0 | AW29: =AC29+AD29 -> 0 | AX29: =AH29 -> 0 | AY29: =AF29+AG29 -> 0
A30: 1.4.1/1 | B30: ²Û¹ ÃíáõÙª ÷áËÑ³ïáõóÙ³Ùµ | AJ30: =E30 -> 0 | AK30: =F30+G30+H30+I30 -> 0 | AL30: =J30 -> 0 | AM30: =K30+L30+M30 -> 0 | AN30: =F30+G30+K30 -> 0 | AO30: =X30+Y30+AA30 -> 0 | AP30: =N30 -> 0 | AQ30: =O30+P30+Q30+R30+S30 -> 0 | AR30: =S30 -> 0 | AS30: =T30+U30+V30 -> 0 | AT30: =X30 -> 0 | AU30: =N30+W30 -> 0 | AV30: =AE30 -> 0 | AW30: =AC30+AD30 -> 0 | AX30: =AH30 -> 0 | AY30: =AF30+AG30 -> 0
A31: 1.5 | B31: ´Ý³Ï³ñ³ÝÇó/ ï³ñ³ÍùÇó/ íï³ñ»Éáõ í»ñ³µ»ñÛ³É | E31: 28 | F31: 3 | G31: 25 | J31: 19 | K31: 18 | L31: 1 | N31: 23 | O31: 11 | Q31: 5 | S31: 7 | U31: 7 | X31: 23 | Z31: 3 | AA31: 23 | AB31: 6 | AC31: 9 | AE31: 9 | AJ31: =E31 -> 28 | AK31: =F31+G31+H31+I31 -> 28 | AL31: =J31 -> 19 | AM31: =K31+L31+M31 -> 19 | AN31: =F31+G31+K31 -> 46 | AO31: =X31+Y31+AA31 -> 46 | AP31: =N31 -> 23 | AQ31: =O31+P31+Q31+R31+S31 -> 23 | AR31: =S31 -> 7 | AS31: =T31+U31+V31 -> 7 | AT31: =X31 -> 23 | AU31: =N31+W31 -> 23 | AV31: =AE31 -> 9 | AW31: =AC31+AD31 -> 9 | AX31: =AH31 -> 0 | AY31: =AF31+AG31 -> 0
A32: 1.6 | B32: ¶áõÛùÝ áõñÇßÇ ³åûñÇÝÇ ïÇñ³å»ïáõÙÇó »ï í»ñ³¹³ñÓÝ»Éáõ í»ñ³µ»ñÛ³É | E32: 22 | F32: 13 | G32: 9 | J32: 22 | K32: 19 | L32: 3 | N32: 12 | O32: 7 | Q32: 1 | S32: 4 | U32: 4 | X32: 12 | Y32: 2 | Z32: 1 | AA32: 27 | AB32: 6 | AC32: 4 | AE32: 4 | AG32: 1 | AH32: 1 | AJ32: =E32 -> 22 | AK32: =F32+G32+H32+I32 -> 22 | AL32: =J32 -> 22 | AM32: =K32+L32+M32 -> 22 | AN32: =F32+G32+K32 -> 41 | AO32: =X32+Y32+AA32 -> 41 | AP32: =N32 -> 12 | AQ32: =O32+P32+Q32+R32+S32 -> 12 | AR32: =S32 -> 4 | AS32: =T32+U32+V32 -> 4 | AT32: =X32 -> 12 | AU32: =N32+W32 -> 12 | AV32: =AE32 -> 4 | AW32: =AC32+AD32 -> 4 | AX32: =AH32 -> 1 | AY32: =AF32+AG32 -> 1
A33: 1.6.1 | B33: ´³ñ»ËÇÕ× Ó»éùµ»ñáÕÇó Çñ ·áõÛùÁ Ñ»ï å³Ñ³Ýç»Éáõ í»ñ³µ»ñÛ³É | AJ33: =E33 -> 0 | AK33: =F33+G33+H33+I33 -> 0 | AL33: =J33 -> 0 | AM33: =K33+L33+M33 -> 0 | AN33: =F33+G33+K33 -> 0 | AO33: =X33+Y33+AA33 -> 0 | AP33: =N33 -> 0 | AQ33: =O33+P33+Q33+R33+S33 -> 0 | AR33: =S33 -> 0 | AS33: =T33+U33+V33 -> 0 | AT33: =X33 -> 0 | AU33: =N33+W33 -> 0 | AV33: =AE33 -> 0 | AW33: =AC33+AD33 -> 0 | AX33: =AH33 -> 0 | AY33: =AF33+AG33 -> 0
A34: 1.7 | B34: îÇñ³å»ïáõÙÇó ½ñÏ»Éáõ Ñ»ï ãÏ³åí³Í Çñ³íáõÝùÝ»ñÇ Ë³ËïáõÙÁ í»ñ³óÝ»Éáõ í»ñ³µ»ñÛ³É | E34: 1 | G34: 1 | J34: 1 | K34: 1 | N34: 1 | O34: 1 | X34: 1 | AA34: 1 | AC34: 1 | AE34: 1 | AJ34: =E34 -> 1 | AK34: =F34+G34+H34+I34 -> 1 | AL34: =J34 -> 1 | AM34: =K34+L34+M34 -> 1 | AN34: =F34+G34+K34 -> 2 | AO34: =X34+Y34+AA34 -> 2 | AP34: =N34 -> 1 | AQ34: =O34+P34+Q34+R34+S34 -> 1 | AR34: =S34 -> 0 | AS34: =T34+U34+V34 -> 0 | AT34: =X34 -> 1 | AU34: =N34+W34 -> 1 | AV34: =AE34 -> 1 | AW34: =AC34+AD34 -> 1 | AX34: =AH34 -> 0 | AY34: =AF34+AG34 -> 0
A35: 1.8 | B35: ÀÝ¹Ñ³Ýáõñ µ³ÅÝ³ÛÇÝ ë»÷³Ï³ÝáõÃÛáõÝÇó µ³ÅÇÝÝ ³é³ÝÓÝ³óÝ»Éáõ í»ñ³µ»ñÛ³É | E35: 112 | F35: 34 | G35: 78 | J35: 62 | K35: 56 | L35: 6 | N35: 56 | O35: 17 | P35: 1 | Q35: 15 | S35: 23 | T35: 5 | U35: 17 | V35: 1 | X35: 56 | Y35: 1 | Z35: 24 | AA35: 111 | AB35: 34 | AC35: 11 | AD35: 1 | AE35: 12 | AF35: 2 | AH35: 2 | AJ35: =E35 -> 112 | AK35: =F35+G35+H35+I35 -> 112 | AL35: =J35 -> 62 | AM35: =K35+L35+M35 -> 62 | AN35: =F35+G35+K35 -> 168 | AO35: =X35+Y35+AA35 -> 168 | AP35: =N35 -> 56 | AQ35: =O35+P35+Q35+R35+S35 -> 56 | AR35: =S35 -> 23 | AS35: =T35+U35+V35 -> 23 | AT35: =X35 -> 56 | AU35: =N35+W35 -> 56 | AV35: =AE35 -> 12 | AW35: =AC35+AD35 -> 12 | AX35: =AH35 -> 2 | AY35: =AF35+AG35 -> 2
