Workbook

Sheet all
B1: 2017Ã. 1-ÇÝ ÏÇë³ÙÛ³Ï | D1: Ð²ÞìºîìàôÂÚàôÜ | AK1: Ð³í»Éí³Í Ð³Û³ëï³ÝÇ Ð³Ýñ³å»ïáõÃÛ³Ý ¸³ï³ñ³ÝÝ»ñÇ Ý³Ë³·³ÑÝ»ñÇ ËáñÑñ¹Ç 25.08.2017Ã. ÃÇí 35-È áñáßÙ³Ý
B4: ÐÐ í»ñ³ùÝÝÇã ùñ»³Ï³Ý ¹³ï³ñ³ÝáõÙ ¹³ï³íáñÝ»ñÇ Ñ³ëïÇùÝ»ñÇ ÃÇíÁ` 16
C5: êïáõ·Çã Ñ³í³ë³ñáõÙÝ»ñ` 2+10=28+30, 1=2+3, 4=5+6+7+8+9, 28=11+12+13+14+15+16+17+18+19+20+21+22+23+24, 28=25+26+27, 34=32+33, 37=35+36 | D5: Ð³ßí»ïáõ Å³Ù³Ý³Ï³Ñ³ïí³ÍÇ ëÏ½µáõÙ Ý³Ëáñ¹ Ñ³ßí»ïáõ Å³Ù³Ý³Ï³Ñ³ïí³ÍÇó ÷áË³Ýóí³Í ·áñÍ»ñÇ ÁÝ¹Ñ³Ýáõñ ÃÇíÁ | G5: Ð³ßí»ïáõ Å³Ù³Ý³Ï³Ñ³ïí³ÍáõÙ ëï³óí³Í µáÕáùÝ»ñÇ ÁÝ¹Ñ³Ýáõñ ÃÇíÁ | M5: ´áÕáù³ñÏí³Í ³Ïï»ñÇ ù³Ý³ÏÁ, áñáÝó ¹»Ù µ»ñí³Í µáÕáùÝ»ñÝ Ñ³ßí»ïáõ Å³Ù³Ý³Ï³ßñç³ÝáõÙ ÁÝ¹áõÝí»É »Ý í³ñáõÛÃ | N5: Ð³ßí»ïáõ Å³Ù³Ý³Ï³ßñç³ÝáõÙ ùÝÝí³Í ·áñÍ»ñáí Ï³Û³óí³Í áñáßáõÙÝ»ñ | AB5: Ð³ßí»ïáõ Å³Ù³Ý³Ï³Ñ³ïí³ÍáõÙ ³í³ñïí³Í ·áñÍ»ñÇ ÁÝ¹Ñ³Ýáõñ ÃÇíÁ | AF5: Ð³ßí»ïáõ Å³Ù³Ý³Ï³Ñ³ïí³ÍáõÙ Ï³ë»óí³Í í³ñáõÛÃÝ»ñáí ·áñÍ»ñÇ ÁÝ¹Ñ³Ýáõñ ÃÇíÁ | AG5: Ð³ßí»ïáõ Å³Ù³Ý³Ï³Ñ³ïí³ÍáõÙ ³Ý³í³ñï ·áñÍ»ñÇ ÁÝ¹Ñ³Ýáõñ ÃÇíÁ | AH5: ²Û¹ ÃíáõÙ` Ï³ë»óí³Í | AI5: ´áÕáù³ñÏí³Í ¹³ï³Ï³Ý ³Ïï»ñÇ ÃÇíÁ` Áëï ï»ë³ÏÝ»ñÇ | AL5: ´»Ï³Ýí³Í ¹³ï³Ï³Ý ³Ïï»ñÇ ÃÇíÁ` Áëï ï»ë³ÏÝ»ñÇ | AO5: ´áÕáù³ñÏí»É »Ý í×é³µ»Ï ¹³ï³ñ³Ý
AI6: ²Û¹ ÃíáõÙ` ·áñÍÝ Áëï ¿áõÃÛ³Ý ÉáõÍáÕ ¹³ï³Ï³Ý ³Ïï»ñ | AJ6: ²Û¹ ÃíáõÙ` գործն ըստ էության չլուծող¹³ï³Ï³Ý ³Ïï»ñ | AK6: ÀÝ¹³Ù»ÝÁ | AL6: ²Û¹ ÃíáõÙ` ·áñÍÝ Áëï ¿áõÃÛ³Ý ÉáõÍáÕ ¹³ï³Ï³Ý ³Ïï»ñ | AM6: ²Û¹ ÃíáõÙ` գործն ըստ էության չլուծող¹³ï³Ï³Ý ³Ïï»ñ | AN6: ÀÝ¹³Ù»ÝÁ
D7: ÀÝ¹³Ù»ÝÁ | E7: Այդ թվում` վարույթ ընդունված µáÕáùÝ»ñáí փոխանցված | F7: Այդ թվում` չքննարկված µáÕáùÝ»ñáí փոխանցված | G7: ÀÝ¹³Ù»ÝÁ | H7: Այդ թվում` ընդունվել է վարույթ | I7: Այդ թվում` թողնվել է առանց քննության | J7: Այդ թվում` ÁÝ¹áõÝáõÙÁ մերժվել է | K7: Այդ թվում` í»ñ³ùÝÝÇã í³ñáõÛÃÁ Ï³ñ×í»É ¿ | L7: Այդ թվում` չի քննարկվել | N7: ¸³ï³Ï³Ý ³ÏïÁ ÃáÕÝí»É ¿ ûñÇÝ³Ï³Ý áõÅÇ Ù»ç | O7: ¸³ï³Ï³Ý ³ÏïÝ ³ÙµáÕçáõÃÛ³Ùµ µ»Ï³Ýí»É ¿ ¨ Ï³Û³óí»É ¿ ·áñÍÝ Áëï ¿áõÃÛ³Ý ÉáõÍáÕ ¹³ï³Ï³Ý ³Ïï | P7: ¸³ï³Ï³Ý ³ÏïÁ Ù³ëÝ³ÏÇáñ»Ý µ»Ï³Ýí»É ¿ ¨ µ»Ï³Ýí³Í Ù³ëáí Ï³Û³óí»É ¿ ·áñÍÝ Áëï ¿áõÃÛ³Ý ÉáõÍáÕ ¹³ï³Ï³Ý ³Ïï | Q7: ¸³ï³Ï³Ý ³ÏïÝ ³ÙµáÕçáõÃÛ³Ùµ µ»Ï³Ýí»É ¿ ¨ ·áñÍÝ áõÕ³ñÏí»É ¿ Ýáñ ùÝÝáõÃÛ³Ý | R7: ¹³ï³Ï³Ý ³ÏïÁ Ù³ëÝ³ÏÇáñ»Ý µ»Ï³Ýí»É ¿ ¨ ·áñÍÝ áõÕ³ñÏí»É ¿ Ýáñ ùÝÝáõÃÛ³Ý | S7: ø³Õ.Ñ³ÛóÇ Ù³ëáí ³ÙµáÕçáõÃÛ³Ùµ µ»Ï³Ýí»É ¿ ¹³ï³Ï³Ý ³ÏïÁ ¨ Ñ³ëï³ïí»É ¿ ÏáÕÙ»ñÇ Ñ³ßïáõÃÛ³Ý Ñ³Ù³Ó³ÛÝáõÃÛáõÝÁ | T7: ø³Õ.Ñ³ÛóÇ Ù³ëáí Ù³ëÝ³ÏÇáñ»Ý µ»Ï³Ýí»É ¿ ¹³ï³Ï³Ý ³ÏïÁ ¨ µ»Ï³Ýí³Í Ù³ëáí Ñ³ëï³ïí»É ¿ ÏáÕÙ»ñÇ Ñ³ßïáõÃÛ³Ý Ñ³Ù³Ó³ÛÝáõÃÛáõÝÁ | U7: ²ÙµáÕçáõÃÛ³Ùµ µ»Ï³Ýí»É ¿ ¹³ï³Ï³Ý ³ÏïÁ ¨ ·áñÍÇ í³ñáõÛÃÁ Ï³ñ×í»É ¿ | V7: Ø³ëÝ³ÏÇáñ»Ý µ»Ï³Ýí»É ¿ ¹³ï³Ï³Ý ³ÏïÁ ¨ ³Û¹ Ù³ëáí ·áñÍÇ í³ñáõÛÃÁ Ï³ñ×í»É ¿ | W7: ¸³ï³Ï³Ý ³ÏïÝ ³ÙµáÕçáõÃÛ³Ùµ µ»Ï³Ýí»É ¨ ÷á÷áËí»É ¿ | X7: ¸³ï³Ï³Ý ³ÏïÁ Ù³ëÝ³ÏÇáñ»Ý µ»Ï³Ýí»É ¿ ¨ ³Û¹ Ù³ëáí ÷á÷áËí»É | Y7: Դ³ï³Ï³Ý ³ÏïÁ µ»Ï³Ýí»É ¿ ¨ ù³Õ. Ñ³ÛóÁ ÃáÕÝí»É ¿ ³é³Ýó ùÝÝáõÃÛ³Ý | Z7: Գործն ըստ էության չլուծող դատական ակտը թողնվել է օրինական ուժի մեջ | AA7: Կայացվել է գործն ըստ էության չլուծող նոր դատական ակտ | AB7: ²Û¹ ÃíáõÙ` ·áñÍÝ Áëï ¿áõÃÛ³Ý ÉáõÍ»Éáõ ÑÇÙùáí ³í³ñïí³Í | AC7: ²Û¹ ÃíáõÙ` ·áñÍÇ í³ñáõÛÃÁ Ï³ñ×»Éáõ ÑÇÙùáí ³í³ñïí³Í | AD7: ²Û¹ ÃíáõÙ` ³ÛÉ ÑÇÙùáí ³í³ñïí³Í | AE7: ÀÝ¹³Ù»ÝÁ
C9: ¸²î²ð²ÜÜºð | D9: 1 | E9: 2 | F9: 3 | G9: 4 | H9: 5 | I9: 6 | J9: 7 | K9: 8 | L9: 9 | M9: 10 | N9: 11 | O9: 12 | P9: 13 | Q9: 14 | R9: 15 | S9: 16 | T9: 17 | U9: 18 | V9: 19 | W9: 20 | X9: 21 | Y9: 22 | Z9: 23 | AA9: 24 | AB9: 25 | AC9: 26 | AD9: 27 | AE9: 28 | AF9: 29 | AG9: 30 | AH9: 31 | AI9: 32 | AJ9: 33 | AK9: 34 | AL9: 35 | AM9: 36 | AN9: 37 | AO9: 38 | AQ9: 1=2+3 | AS9: 4=5+6+7+8+9 | AU9: 2+10=28+30 | AW9: 28 | AZ9: 34=32+33 | BB9: 37=35+36
A10: 1 | B10: 1 | C10: ºñ¨³Ý ù³Õ³ùÇ Î»ÝïñáÝ ¨ Üáñù-Ø³ñ³ß í³ñã³Ï³Ý ßñç³ÝÝ»ñÇ ÁÝ¹Ñ³Ýáõñ Çñ³í³ëáõÃÛ³Ý ³é³çÇÝ ³ïÛ³ÝÇ ¹³ï³ñ³Ý | D10: =SUM('1:6'!D10) -> 0 | E10: =SUM('1:6'!E10) -> 0 | F10: =SUM('1:6'!F10) -> 0 | G10: =SUM('1:6'!G10) -> 104 | H10: =SUM('1:6'!H10) -> 104 | I10: =SUM('1:6'!I10) -> 0 | J10: =SUM('1:6'!J10) -> 0 | K10: =SUM('1:6'!K10) -> 0 | ... AK10: =SUM('1:6'!AK10) -> 80 | AL10: =SUM('1:6'!AN10) -> 14 | AM10: =SUM('1:6'!AO10) -> 0 | AN10: =SUM('1:6'!AP10) -> 14 | AO10: =SUM('1:6'!AQ10) -> 10 | AQ10: =D10 -> 0 | AR10: =E10+F10 -> 0 | AS10: =G10 -> 104 | AT10: =H10+I10+J10+K10+L10 -> 104 | AU10: =E10+M10 -> 80 | AV10: =AE10+AG10 -> 80 | AW10: =AE10 -> 33 | AX10: =N10+O10+P10+Q10+R10+S10+T10+U10+V10+W10+X10+Y10+Z10+AA10 -> 33 | AY10: =AB10+AC10+AD10 -> 33 | AZ10: =AK10 -> 80 | BA10: =AI10+AJ10 -> 80 | BB10: =AN10 -> 14 | BC10: =AL10+AM10 -> 14
A11: 0 | B11: 2 | C11: ºñ¨³Ý ù³Õ³ùÇ ²ñ³µÏÇñ ¨ ø³Ý³ù»é-¼»ÛÃáõÝ í³ñã³Ï³Ý ßñç³ÝÝ»ñÇ ÁÝ¹Ñ³Ýáõñ Çñ³í³ëáõÃÛ³Ý ¹³ï³ñ³Ý | D11: =SUM('1:6'!D11) -> 0 | E11: =SUM('1:6'!E11) -> 0 | F11: =SUM('1:6'!F11) -> 0 | G11: =SUM('1:6'!G11) -> 50 | H11: =SUM('1:6'!H11) -> 50 | I11: =SUM('1:6'!I11) -> 0 | J11: =SUM('1:6'!J11) -> 0 | K11: =SUM('1:6'!K11) -> 0 | ... AK11: =SUM('1:6'!AK11) -> 44 | AL11: =SUM('1:6'!AN11) -> 3 | AM11: =SUM('1:6'!AO11) -> 0 | AN11: =SUM('1:6'!AP11) -> 3 | AO11: =SUM('1:6'!AQ11) -> 10 | AQ11: =D11 -> 0 | AR11: =E11+F11 -> 0 | AS11: =G11 -> 50 | AT11: =H11+I11+J11+K11+L11 -> 50 | AU11: =E11+M11 -> 44 | AV11: =AE11+AG11 -> 44 | AW11: =AE11 -> 19 | AX11: =N11+O11+P11+Q11+R11+S11+T11+U11+V11+W11+X11+Y11+Z11+AA11 -> 19 | AY11: =AB11+AC11+AD11 -> 19 | AZ11: =AK11 -> 44 | BA11: =AI11+AJ11 -> 44 | BB11: =AN11 -> 3 | BC11: =AL11+AM11 -> 3
A12: 0 | B12: 3 | C12: ºñ¨³Ý ù³Õ³ùÇ Þ»Ý·³íÇÃ í³ñã³Ï³Ý ßñç³ÝÇ ÁÝ¹Ñ³Ýáõñ Çñ³í³ëáõÃÛ³Ý ³é³çÇÝ ³ïÛ³ÝÇ ¹³ï³ñ³Ý | D12: =SUM('1:6'!D12) -> 0 | E12: =SUM('1:6'!E12) -> 0 | F12: =SUM('1:6'!F12) -> 0 | G12: =SUM('1:6'!G12) -> 49 | H12: =SUM('1:6'!H12) -> 49 | I12: =SUM('1:6'!I12) -> 0 | J12: =SUM('1:6'!J12) -> 0 | K12: =SUM('1:6'!K12) -> 0 | ... AK12: =SUM('1:6'!AK12) -> 36 | AL12: =SUM('1:6'!AN12) -> 1 | AM12: =SUM('1:6'!AO12) -> 0 | AN12: =SUM('1:6'!AP12) -> 1 | AO12: =SUM('1:6'!AQ12) -> 4 | AQ12: =D12 -> 0 | AR12: =E12+F12 -> 0 | AS12: =G12 -> 49 | AT12: =H12+I12+J12+K12+L12 -> 49 | AU12: =E12+M12 -> 36 | AV12: =AE12+AG12 -> 36 | AW12: =AE12 -> 14 | AX12: =N12+O12+P12+Q12+R12+S12+T12+U12+V12+W12+X12+Y12+Z12+AA12 -> 14 | AY12: =AB12+AC12+AD12 -> 14 | AZ12: =AK12 -> 36 | BA12: =AI12+AJ12 -> 36 | BB12: =AN12 -> 1 | BC12: =AL12+AM12 -> 1
A13: 0 | B13: 4 | C13: ºñ¨³Ý ù³Õ³ùÇ ²ç³÷ÝÛ³Ï ¨ ¸³íÃ³ß»Ý í³ñã³Ï³Ý ßñç³ÝÝ»ñÇ ÁÝ¹Ñ³Ýáõñ Çñ³í³ëáõÃÛ³Ý ³é³çÇÝ ³ïÛ³ÝÇ ¹³ï³ñ³Ý | D13: =SUM('1:6'!D13) -> 0 | E13: =SUM('1:6'!E13) -> 0 | F13: =SUM('1:6'!F13) -> 0 | G13: =SUM('1:6'!G13) -> 52 | H13: =SUM('1:6'!H13) -> 52 | I13: =SUM('1:6'!I13) -> 0 | J13: =SUM('1:6'!J13) -> 0 | K13: =SUM('1:6'!K13) -> 0 | ... AK13: =SUM('1:6'!AK13) -> 39 | AL13: =SUM('1:6'!AN13) -> 4 | AM13: =SUM('1:6'!AO13) -> 0 | AN13: =SUM('1:6'!AP13) -> 4 | AO13: =SUM('1:6'!AQ13) -> 6 | AQ13: =D13 -> 0 | AR13: =E13+F13 -> 0 | AS13: =G13 -> 52 | AT13: =H13+I13+J13+K13+L13 -> 52 | AU13: =E13+M13 -> 39 | AV13: =AE13+AG13 -> 39 | AW13: =AE13 -> 16 | AX13: =N13+O13+P13+Q13+R13+S13+T13+U13+V13+W13+X13+Y13+Z13+AA13 -> 16 | AY13: =AB13+AC13+AD13 -> 16 | AZ13: =AK13 -> 39 | BA13: =AI13+AJ13 -> 39 | BB13: =AN13 -> 4 | BC13: =AL13+AM13 -> 4
A14: 0 | B14: 5 | C14: ºñ¨³Ý ù³Õ³ùÇ ²í³Ý ¨ Üáñ-Üáñù í³ñã³Ï³Ý ßñç³ÝÝ»ñÇ ÁÝ¹Ñ³Ýáõñ Çñ³í³ëáõÃÛ³Ý ³é³çÇÝ ³ïÛ³ÝÇ ¹³ï³ñ³Ý | D14: =SUM('1:6'!D14) -> 0 | E14: =SUM('1:6'!E14) -> 0 | F14: =SUM('1:6'!F14) -> 0 | G14: =SUM('1:6'!G14) -> 25 | H14: =SUM('1:6'!H14) -> 25 | I14: =SUM('1:6'!I14) -> 0 | J14: =SUM('1:6'!J14) -> 0 | K14: =SUM('1:6'!K14) -> 0 | ... AK14: =SUM('1:6'!AK14) -> 21 | AL14: =SUM('1:6'!AN14) -> 2 | AM14: =SUM('1:6'!AO14) -> 0 | AN14: =SUM('1:6'!AP14) -> 2 | AO14: =SUM('1:6'!AQ14) -> 5 | AQ14: =D14 -> 0 | AR14: =E14+F14 -> 0 | AS14: =G14 -> 25 | AT14: =H14+I14+J14+K14+L14 -> 25 | AU14: =E14+M14 -> 21 | AV14: =AE14+AG14 -> 21 | AW14: =AE14 -> 10 | AX14: =N14+O14+P14+Q14+R14+S14+T14+U14+V14+W14+X14+Y14+Z14+AA14 -> 10 | AY14: =AB14+AC14+AD14 -> 10 | AZ14: =AK14 -> 21 | BA14: =AI14+AJ14 -> 21 | BB14: =AN14 -> 2 | BC14: =AL14+AM14 -> 2
A15: 0 | B15: 6 | C15: ºñ¨³Ý ù³Õ³ùÇ ¾ñ»µáõÝÇ-Üáõµ³ñ³ß»Ý í³ñã³Ï³Ý ßñç³ÝÝ»ñÇ ÁÝ¹Ñ³Ýáõñ Çñ³í³ëáõÃÛ³Ý ³é³çÇÝ ³ïÛ³ÝÇ ¹³ï³ñ³Ý | D15: =SUM('1:6'!D15) -> 0 | E15: =SUM('1:6'!E15) -> 0 | F15: =SUM('1:6'!F15) -> 0 | G15: =SUM('1:6'!G15) -> 27 | H15: =SUM('1:6'!H15) -> 27 | I15: =SUM('1:6'!I15) -> 0 | J15: =SUM('1:6'!J15) -> 0 | K15: =SUM('1:6'!K15) -> 0 | ... AK15: =SUM('1:6'!AK15) -> 23 | AL15: =SUM('1:6'!AN15) -> 4 | AM15: =SUM('1:6'!AO15) -> 0 | AN15: =SUM('1:6'!AP15) -> 4 | AO15: =SUM('1:6'!AQ15) -> 4 | AQ15: =D15 -> 0 | AR15: =E15+F15 -> 0 | AS15: =G15 -> 27 | AT15: =H15+I15+J15+K15+L15 -> 27 | AU15: =E15+M15 -> 23 | AV15: =AE15+AG15 -> 23 | AW15: =AE15 -> 12 | AX15: =N15+O15+P15+Q15+R15+S15+T15+U15+V15+W15+X15+Y15+Z15+AA15 -> 12 | AY15: =AB15+AC15+AD15 -> 12 | AZ15: =AK15 -> 23 | BA15: =AI15+AJ15 -> 23 | BB15: =AN15 -> 4 | BC15: =AL15+AM15 -> 4
A16: 0 | B16: 7 | C16: ºñ¨³Ý ù³Õ³ùÇ Ø³É³ÃÇ³-ê»µ³ëïÇ³ í³ñã³Ï³Ý ßñç³ÝÇ ÁÝ¹Ñ³Ýáõñ Çñ³í³ëáõÃÛ³ÝÇ ³é³çÇÝ ³ïÛ³ÝÇ ¹³ï³ñ³Ý | D16: =SUM('1:6'!D16) -> 0 | E16: =SUM('1:6'!E16) -> 0 | F16: =SUM('1:6'!F16) -> 0 | G16: =SUM('1:6'!G16) -> 38 | H16: =SUM('1:6'!H16) -> 38 | I16: =SUM('1:6'!I16) -> 0 | J16: =SUM('1:6'!J16) -> 0 | K16: =SUM('1:6'!K16) -> 0 | ... AK16: =SUM('1:6'!AK16) -> 29 | AL16: =SUM('1:6'!AN16) -> 1 | AM16: =SUM('1:6'!AO16) -> 0 | AN16: =SUM('1:6'!AP16) -> 1 | AO16: =SUM('1:6'!AQ16) -> 3 | AQ16: =D16 -> 0 | AR16: =E16+F16 -> 0 | AS16: =G16 -> 38 | AT16: =H16+I16+J16+K16+L16 -> 38 | AU16: =E16+M16 -> 29 | AV16: =AE16+AG16 -> 29 | AW16: =AE16 -> 13 | AX16: =N16+O16+P16+Q16+R16+S16+T16+U16+V16+W16+X16+Y16+Z16+AA16 -> 13 | AY16: =AB16+AC16+AD16 -> 13 | AZ16: =AK16 -> 29 | BA16: =AI16+AJ16 -> 29 | BB16: =AN16 -> 1 | BC16: =AL16+AM16 -> 1
A17: 0 | B17: 8 | C17: ÐÐ Èáéáõ Ù³ñ½Ç ÁÝ¹Ñ³Ýáõñ Çñ³í³ëáõÃÛ³Ý ³é³çÇÝ ³ïÛ³ÝÇ ¹³ï³ñ³Ý | D17: =SUM('1:6'!D17) -> 0 | E17: =SUM('1:6'!E17) -> 0 | F17: =SUM('1:6'!F17) -> 0 | G17: =SUM('1:6'!G17) -> 21 | H17: =SUM('1:6'!H17) -> 21 | I17: =SUM('1:6'!I17) -> 0 | J17: =SUM('1:6'!J17) -> 0 | K17: =SUM('1:6'!K17) -> 0 | ... AK17: =SUM('1:6'!AK17) -> 21 | AL17: =SUM('1:6'!AN17) -> 4 | AM17: =SUM('1:6'!AO17) -> 0 | AN17: =SUM('1:6'!AP17) -> 4 | AO17: =SUM('1:6'!AQ17) -> 0 | AQ17: =D17 -> 0 | AR17: =E17+F17 -> 0 | AS17: =G17 -> 21 | AT17: =H17+I17+J17+K17+L17 -> 21 | AU17: =E17+M17 -> 21 | AV17: =AE17+AG17 -> 21 | AW17: =AE17 -> 10 | AX17: =N17+O17+P17+Q17+R17+S17+T17+U17+V17+W17+X17+Y17+Z17+AA17 -> 10 | AY17: =AB17+AC17+AD17 -> 10 | AZ17: =AK17 -> 21 | BA17: =AI17+AJ17 -> 21 | BB17: =AN17 -> 4 | BC17: =AL17+AM17 -> 4
A18: 0 | B18: 9 | C18: ÐÐ ÞÇñ³ÏÇ Ù³ñ½Ç ÁÝ¹Ñ³Ýáõñ Çñ³í³ëáõÃÛ³Ý ³é³çÇÝ ³ïÛ³ÝÇ¹³ï³ñ³Ý | D18: =SUM('1:6'!D18) -> 0 | E18: =SUM('1:6'!E18) -> 0 | F18: =SUM('1:6'!F18) -> 0 | G18: =SUM('1:6'!G18) -> 28 | H18: =SUM('1:6'!H18) -> 28 | I18: =SUM('1:6'!I18) -> 0 | J18: =SUM('1:6'!J18) -> 0 | K18: =SUM('1:6'!K18) -> 0 | ... AK18: =SUM('1:6'!AK18) -> 25 | AL18: =SUM('1:6'!AN18) -> 1 | AM18: =SUM('1:6'!AO18) -> 0 | AN18: =SUM('1:6'!AP18) -> 1 | AO18: =SUM('1:6'!AQ18) -> 4 | AQ18: =D18 -> 0 | AR18: =E18+F18 -> 0 | AS18: =G18 -> 28 | AT18: =H18+I18+J18+K18+L18 -> 28 | AU18: =E18+M18 -> 25 | AV18: =AE18+AG18 -> 25 | AW18: =AE18 -> 11 | AX18: =N18+O18+P18+Q18+R18+S18+T18+U18+V18+W18+X18+Y18+Z18+AA18 -> 11 | AY18: =AB18+AC18+AD18 -> 11 | AZ18: =AK18 -> 25 | BA18: =AI18+AJ18 -> 25 | BB18: =AN18 -> 1 | BC18: =AL18+AM18 -> 1
A19: 0 | B19: 10 | C19: ÐÐ ²ñÙ³íÇñÇ Ù³ñ½Ç ÁÝ¹Ñ³Ýáõñ Çñ³í³ëáõÃÛ³Ý ³é³çÇÝ ³ïÛ³ÝÇ ¹³ï³ñ³Ý | D19: =SUM('1:6'!D19) -> 0 | E19: =SUM('1:6'!E19) -> 0 | F19: =SUM('1:6'!F19) -> 0 | G19: =SUM('1:6'!G19) -> 41 | H19: =SUM('1:6'!H19) -> 41 | I19: =SUM('1:6'!I19) -> 0 | J19: =SUM('1:6'!J19) -> 0 | K19: =SUM('1:6'!K19) -> 0 | ... AK19: =SUM('1:6'!AK19) -> 40 | AL19: =SUM('1:6'!AN19) -> 7 | AM19: =SUM('1:6'!AO19) -> 0 | AN19: =SUM('1:6'!AP19) -> 7 | AO19: =SUM('1:6'!AQ19) -> 5 | AQ19: =D19 -> 0 | AR19: =E19+F19 -> 0 | AS19: =G19 -> 41 | AT19: =H19+I19+J19+K19+L19 -> 41 | AU19: =E19+M19 -> 40 | AV19: =AE19+AG19 -> 40 | AW19: =AE19 -> 16 | AX19: =N19+O19+P19+Q19+R19+S19+T19+U19+V19+W19+X19+Y19+Z19+AA19 -> 16 | AY19: =AB19+AC19+AD19 -> 16 | AZ19: =AK19 -> 40 | BA19: =AI19+AJ19 -> 40 | BB19: =AN19 -> 7 | BC19: =AL19+AM19 -> 7
A20: 0 | B20: 11 | C20: ÐÐ Îáï³ÛùÇ Ù³ñ½Ç ÁÝ¹Ñ³Ýáõñ Çñ³í³ëáõÃÛ³Ý ³é³çÇÝ ³ïÛ³ÝÇ ¹³ï³ñ³Ý | D20: =SUM('1:6'!D20) -> 0 | E20: =SUM('1:6'!E20) -> 0 | F20: =SUM('1:6'!F20) -> 0 | G20: =SUM('1:6'!G20) -> 34 | H20: =SUM('1:6'!H20) -> 34 | I20: =SUM('1:6'!I20) -> 0 | J20: =SUM('1:6'!J20) -> 0 | K20: =SUM('1:6'!K20) -> 0 | ... AK20: =SUM('1:6'!AK20) -> 30 | AL20: =SUM('1:6'!AN20) -> 6 | AM20: =SUM('1:6'!AO20) -> 0 | AN20: =SUM('1:6'!AP20) -> 6 | AO20: =SUM('1:6'!AQ20) -> 2 | AQ20: =D20 -> 0 | AR20: =E20+F20 -> 0 | AS20: =G20 -> 34 | AT20: =H20+I20+J20+K20+L20 -> 34 | AU20: =E20+M20 -> 30 | AV20: =AE20+AG20 -> 30 | AW20: =AE20 -> 14 | AX20: =N20+O20+P20+Q20+R20+S20+T20+U20+V20+W20+X20+Y20+Z20+AA20 -> 14 | AY20: =AB20+AC20+AD20 -> 14 | AZ20: =AK20 -> 30 | BA20: =AI20+AJ20 -> 30 | BB20: =AN20 -> 6 | BC20: =AL20+AM20 -> 6
A21: 0 | B21: 12 | C21: ÐÐ ²ñ³ñ³ïÇ ¨ ì³Ûáó ÒáñÇ Ù³ñ½»ñÇ ÁÝ¹Ñ³Ýáõñ Çñ³í³ëáõÃÛ³Ý ³é³çÇÝ ³ïÛ³ÝÇ ¹³ï³ñ³Ý | D21: =SUM('1:6'!D21) -> 0 | E21: =SUM('1:6'!E21) -> 0 | F21: =SUM('1:6'!F21) -> 0 | G21: =SUM('1:6'!G21) -> 61 | H21: =SUM('1:6'!H21) -> 61 | I21: =SUM('1:6'!I21) -> 0 | J21: =SUM('1:6'!J21) -> 0 | K21: =SUM('1:6'!K21) -> 0 | ... AK21: =SUM('1:6'!AK21) -> 47 | AL21: =SUM('1:6'!AN21) -> 8 | AM21: =SUM('1:6'!AO21) -> 0 | AN21: =SUM('1:6'!AP21) -> 8 | AO21: =SUM('1:6'!AQ21) -> 11 | AQ21: =D21 -> 0 | AR21: =E21+F21 -> 0 | AS21: =G21 -> 61 | AT21: =H21+I21+J21+K21+L21 -> 61 | AU21: =E21+M21 -> 47 | AV21: =AE21+AG21 -> 47 | AW21: =AE21 -> 28 | AX21: =N21+O21+P21+Q21+R21+S21+T21+U21+V21+W21+X21+Y21+Z21+AA21 -> 28 | AY21: =AB21+AC21+AD21 -> 28 | AZ21: =AK21 -> 47 | BA21: =AI21+AJ21 -> 47 | BB21: =AN21 -> 8 | BC21: =AL21+AM21 -> 8
... A25: 0 | B25: 16 | C25: ÐÐ î³íáõßÇ Ù³ñ½Ç ÁÝ¹Ñ³Ýáõñ Çñ³í³ëáõÃÛ³Ý ³é³çÇÝ ³ïÛ³ÝÇ ¹³ï³ñ³Ý | D25: =SUM('1:6'!D25) -> 0 | E25: =SUM('1:6'!E25) -> 0 | F25: =SUM('1:6'!F25) -> 0 | G25: =SUM('1:6'!G25) -> 28 | H25: =SUM('1:6'!H25) -> 28 | I25: =SUM('1:6'!I25) -> 0 | J25: =SUM('1:6'!J25) -> 0 | K25: =SUM('1:6'!K25) -> 0 | ... AK25: =SUM('1:6'!AK25) -> 24 | AL25: =SUM('1:6'!AN25) -> 5 | AM25: =SUM('1:6'!AO25) -> 0 | AN25: =SUM('1:6'!AP25) -> 5 | AO25: =SUM('1:6'!AQ25) -> 1 | AQ25: =D25 -> 0 | AR25: =E25+F25 -> 0 | AS25: =G25 -> 28 | AT25: =H25+I25+J25+K25+L25 -> 28 | AU25: =E25+M25 -> 24 | AV25: =AE25+AG25 -> 24 | AW25: =AE25 -> 11 | AX25: =N25+O25+P25+Q25+R25+S25+T25+U25+V25+W25+X25+Y25+Z25+AA25 -> 11 | AY25: =AB25+AC25+AD25 -> 11 | AZ25: =AK25 -> 24 | BA25: =AI25+AJ25 -> 24 | BB25: =AN25 -> 5 | BC25: =AL25+AM25 -> 5
B26: 19 | C26: ÈáõÍ³ñí³Í ¹³ï³ñ³ÝÝ»ñ | D26: =SUM('1:6'!D26) -> 0 | E26: =SUM('1:6'!E26) -> 0 | F26: =SUM('1:6'!F26) -> 0 | G26: =SUM('1:6'!G26) -> 0 | H26: =SUM('1:6'!H26) -> 0 | I26: =SUM('1:6'!I26) -> 0 | J26: =SUM('1:6'!J26) -> 0 | K26: =SUM('1:6'!K26) -> 0 | ... AK26: =SUM('1:6'!AK26) -> 0 | AL26: =SUM('1:6'!AN26) -> 0 | AM26: =SUM('1:6'!AO26) -> 0 | AN26: =SUM('1:6'!AP26) -> 0 | AO26: =SUM('1:6'!AQ26) -> 0 | AQ26: =D26 -> 0 | AR26: =E26+F26 -> 0 | AS26: =G26 -> 0 | AT26: =H26+I26+J26+K26+L26 -> 0 | AU26: =E26+M26 -> 0 | AV26: =AE26+AG26 -> 0 | AW26: =AE26 -> 0 | AX26: =N26+O26+P26+Q26+R26+S26+T26+U26+V26+W26+X26+Y26+Z26+AA26 -> 0 | AY26: =AB26+AC26+AD26 -> 0 | AZ26: =AK26 -> 0 | BA26: =AI26+AJ26 -> 0 | BB26: =AN26 -> 0 | BC26: =AL26+AM26 -> 0
A27: 0 | B27: 20 | C27: ÀÝ¹³Ù»ÝÁ | D27: =SUM(D10:D26) -> 0 | E27: =SUM(E10:E26) -> 0 | F27: =SUM(F10:F26) -> 0 | G27: =SUM(G10:G26) -> 685 | H27: =SUM(H10:H26) -> 685 | I27: =SUM(I10:I26) -> 0 | J27: =SUM(J10:J26) -> 0 | K27: =SUM(K10:K26) -> 0 | ... AO27: =SUM(AO10:AO26) -> 74 | AQ27: =D27 -> 0 | AR27: =E27+F27 -> 0 | AS27: =G27 -> 685 | AT27: =H27+I27+J27+K27+L27 -> 685 | AU27: =E27+M27 -> 549 | AV27: =AE27+AG27 -> 549 | AW27: =AE27 -> 256 | AX27: =N27+O27+P27+Q27+R27+S27+T27+U27+V27+W27+X27+Y27+Z27+AA27 -> 256 | AY27: =AB27+AC27+AD27 -> 256 | AZ27: =AK27 -> 549 | BA27: =AI27+AJ27 -> 549 | BB27: =AN27 -> 73 | BC27: =AL27+AM27 -> 73
A28: 0
A29: 0
A30: 0
A31: 1
A32: 0

Sheet 1
B1: 2017Ã. 1-ÇÝ ÏÇë³ÙÛ³Ï | D1: Ð²ÞìºîìàôÂÚàôÜ | AK1: Ð³í»Éí³Í Ð³Û³ëï³ÝÇ Ð³Ýñ³å»ïáõÃÛ³Ý ¸³ï³ñ³ÝÝ»ñÇ Ý³Ë³·³ÑÝ»ñÇ ËáñÑñ¹Ç 25.08.2017Ã. ÃÇí 35-È áñáßÙ³Ý
B2: ÐÐ ìºð²øÜÜÆâ øðº²Î²Ü ¸²î²ð²ÜՈՒՄ êî²òì²Ì ´àÔàøÜºðÆ øÜÜàôÂÚ²Ü ìºð²´ºðÚ²È
B3: ¸³ï³Ï³Ý Ï³½Ù` Տ.Սահակյան, Ա. Ազարյան, Ա.Խաչատրյան
B4: ÐÐ í»ñ³ùÝÝÇã ùñ»³Ï³Ý ¹³ï³ñ³ÝáõÙ ¹³ï³íáñÝ»ñÇ Ñ³ëïÇùÝ»ñÇ ÃÇíÁ` 16
D5: Ð³ßí»ïáõ Å³Ù³Ý³Ï³Ñ³ïí³ÍÇ ëÏ½µáõÙ Ý³Ëáñ¹ Ñ³ßí»ïáõ Å³Ù³Ý³Ï³Ñ³ïí³ÍÇó ÷áË³Ýóí³Í ·áñÍ»ñÇ ÁÝ¹Ñ³Ýáõñ ÃÇíÁ | G5: Ð³ßí»ïáõ Å³Ù³Ý³Ï³Ñ³ïí³ÍáõÙ ëï³óí³Í µáÕáùÝ»ñÇ ÁÝ¹Ñ³Ýáõñ ÃÇíÁ | M5: ´áÕáù³ñÏí³Í ³Ïï»ñÇ ù³Ý³ÏÁ, áñáÝó ¹»Ù µ»ñí³Í µáÕáùÝ»ñÝ Ñ³ßí»ïáõ Å³Ù³Ý³Ï³ßñç³ÝáõÙ ÁÝ¹áõÝí»É »Ý í³ñáõÛÃ | N5: Ð³ßí»ïáõ Å³Ù³Ý³Ï³ßñç³ÝáõÙ ùÝÝí³Í ·áñÍ»ñáí Ï³Û³óí³Í áñáßáõÙÝ»ñ | AB5: Ð³ßí»ïáõ Å³Ù³Ý³Ï³Ñ³ïí³ÍáõÙ ³í³ñïí³Í ·áñÍ»ñÇ ÁÝ¹Ñ³Ýáõñ ÃÇíÁ | AF5: Ð³ßí»ïáõ Å³Ù³Ý³Ï³Ñ³ïí³ÍáõÙ Ï³ë»óí³Í í³ñáõÛÃÝ»ñáí ·áñÍ»ñÇ ÁÝ¹Ñ³Ýáõñ ÃÇíÁ | AG5: Ð³ßí»ïáõ Å³Ù³Ý³Ï³Ñ³ïí³ÍáõÙ ³Ý³í³ñï ·áñÍ»ñÇ ÁÝ¹Ñ³Ýáõñ ÃÇíÁ | AH5: ²Û¹ ÃíáõÙ` Ï³ë»óí³Í | AI5: ´áÕáù³ñÏí³Í ¹³ï³Ï³Ý ³Ïï»ñÇ ÃÇíÁ` Áëï ï»ë³ÏÝ»ñÇ | AN5: ´»Ï³Ýí³Í ¹³ï³Ï³Ý ³Ïï»ñÇ ÃÇíÁ` Áëï ï»ë³ÏÝ»ñÇ | AQ5: ´áÕáù³ñÏí»É »Ý í×é³µ»Ï ¹³ï³ñ³Ý
AI6: ²Û¹ ÃíáõÙ` ·áñÍÝ Áëï ¿áõÃÛ³Ý ÉáõÍáÕ ¹³ï³Ï³Ý ³Ïï»ñ | AJ6: ²Û¹ ÃíáõÙ` գործն ըստ էության չլուծող¹³ï³Ï³Ý ³Ïï»ñ | AK6: ÀÝ¹³Ù»ÝÁ | AN6: ²Û¹ ÃíáõÙ` ·áñÍÝ Áëï ¿áõÃÛ³Ý ÉáõÍáÕ ¹³ï³Ï³Ý ³Ïï»ñ | AO6: ²Û¹ ÃíáõÙ` գործն ըստ էության չլուծող¹³ï³Ï³Ý ³Ïï»ñ | AP6: ÀÝ¹³Ù»ÝÁ
D7: ÀÝ¹³Ù»ÝÁ | E7: Այդ թվում` վարույթ ընդունված µáÕáùÝ»ñáí փոխանցված | F7: Այդ թվում` չքննարկված µáÕáùÝ»ñáí փոխանցված | G7: ÀÝ¹³Ù»ÝÁ | H7: Այդ թվում` ընդունվել է վարույթ | I7: Այդ թվում` թողնվել է առանց քննության | J7: Այդ թվում` ÁÝ¹áõÝáõÙÁ մերժվել է | K7: Այդ թվում` í»ñ³ùÝÝÇã í³ñáõÛÃÁ Ï³ñ×í»É ¿ | L7: Այդ թվում` չի քննարկվել | N7: ¸³ï³Ï³Ý ³ÏïÁ ÃáÕÝí»É ¿ ûñÇÝ³Ï³Ý áõÅÇ Ù»ç | O7: ¸³ï³Ï³Ý ³ÏïÝ ³ÙµáÕçáõÃÛ³Ùµ µ»Ï³Ýí»É ¿ ¨ Ï³Û³óí»É ¿ ·áñÍÝ Áëï ¿áõÃÛ³Ý ÉáõÍáÕ ¹³ï³Ï³Ý ³Ïï | P7: ¸³ï³Ï³Ý ³ÏïÁ Ù³ëÝ³ÏÇáñ»Ý µ»Ï³Ýí»É ¿ ¨ µ»Ï³Ýí³Í Ù³ëáí Ï³Û³óí»É ¿ ·áñÍÝ Áëï ¿áõÃÛ³Ý ÉáõÍáÕ ¹³ï³Ï³Ý ³Ïï | Q7: ¸³ï³Ï³Ý ³ÏïÝ ³ÙµáÕçáõÃÛ³Ùµ µ»Ï³Ýí»É ¿ ¨ ·áñÍÝ áõÕ³ñÏí»É ¿ Ýáñ ùÝÝáõÃÛ³Ý | R7: ¹³ï³Ï³Ý ³ÏïÁ Ù³ëÝ³ÏÇáñ»Ý µ»Ï³Ýí»É ¿ ¨ ·áñÍÝ áõÕ³ñÏí»É ¿ Ýáñ ùÝÝáõÃÛ³Ý | S7: ø³Õ.Ñ³ÛóÇ Ù³ëáí ³ÙµáÕçáõÃÛ³Ùµ µ»Ï³Ýí»É ¿ ¹³ï³Ï³Ý ³ÏïÁ ¨ Ñ³ëï³ïí»É ¿ ÏáÕÙ»ñÇ Ñ³ßïáõÃÛ³Ý Ñ³Ù³Ó³ÛÝáõÃÛáõÝÁ | T7: ø³Õ.Ñ³ÛóÇ Ù³ëáí Ù³ëÝ³ÏÇáñ»Ý µ»Ï³Ýí»É ¿ ¹³ï³Ï³Ý ³ÏïÁ ¨ µ»Ï³Ýí³Í Ù³ëáí Ñ³ëï³ïí»É ¿ ÏáÕÙ»ñÇ Ñ³ßïáõÃÛ³Ý Ñ³Ù³Ó³ÛÝáõÃÛáõÝÁ | U7: ²ÙµáÕçáõÃÛ³Ùµ µ»Ï³Ýí»É ¿ ¹³ï³Ï³Ý ³ÏïÁ ¨ ·áñÍÇ í³ñáõÛÃÁ Ï³ñ×í»É ¿ | V7: Ø³ëÝ³ÏÇáñ»Ý µ»Ï³Ýí»É ¿ ¹³ï³Ï³Ý ³ÏïÁ ¨ ³Û¹ Ù³ëáí ·áñÍÇ í³ñáõÛÃÁ Ï³ñ×í»É ¿ | W7: ¸³ï³Ï³Ý ³ÏïÝ ³ÙµáÕçáõÃÛ³Ùµ µ»Ï³Ýí»É ¨ ÷á÷áËí»É ¿ | X7: ¸³ï³Ï³Ý ³ÏïÁ Ù³ëÝ³ÏÇáñ»Ý µ»Ï³Ýí»É ¿ ¨ ³Û¹ Ù³ëáí ÷á÷áËí»É | Y7: Դ³ï³Ï³Ý ³ÏïÁ µ»Ï³Ýí»É ¿ ¨ ù³Õ. Ñ³ÛóÁ ÃáÕÝí»É ¿ ³é³Ýó ùÝÝáõÃÛ³Ý | Z7: Գործն ըստ էության չլուծող դատական ակտը թողնվել է օրինական ուժի մեջ | AA7: Կայացվել է գործն ըստ էության չլուծող նոր դատական ակտ | AB7: ²Û¹ ÃíáõÙ` ·áñÍÝ Áëï ¿áõÃÛ³Ý ÉáõÍ»Éáõ ÑÇÙùáí ³í³ñïí³Í | AC7: ²Û¹ ÃíáõÙ` ·áñÍÇ í³ñáõÛÃÁ Ï³ñ×»Éáõ ÑÇÙùáí ³í³ñïí³Í | AD7: ²Û¹ ÃíáõÙ` ³ÛÉ ÑÇÙùáí ³í³ñïí³Í | AE7: ÀÝ¹³Ù»ÝÁ
C9: ¸²î²ð²ÜÜºð | D9: 1 | E9: 2 | F9: 3 | G9: 4 | H9: 5 | I9: 6 | J9: 7 | K9: 8 | L9: 9 | M9: 10 | N9: 11 | O9: 12 | P9: 13 | Q9: 14 | R9: 15 | S9: 16 | T9: 17 | U9: 18 | V9: 19 | W9: 20 | X9: 21 | Y9: 22 | Z9: 23 | AA9: 24 | AB9: 25 | AC9: 26 | AD9: 27 | AE9: 28 | AF9: 29 | AG9: 30 | AH9: 31 | AI9: 32 | AJ9: 33 | AK9: 34 | AL9: 35 | AM9: 36 | AN9: 35 | AO9: 36 | AP9: 37 | AQ9: 38 | AS9: 1=2+3 | AU9: 4=5+6+7+8+9 | AW9: 2+10=28+30 | AY9: 28 | BB9: 34=32+33 | BD9: 37=35+36
A10: 1 | B10: 1 | C10: ºñ¨³Ý ù³Õ³ùÇ Î»ÝïñáÝ ¨ Üáñù-Ø³ñ³ß í³ñã³Ï³Ý ßñç³ÝÝ»ñÇ ÁÝ¹Ñ³Ýáõñ Çñ³í³ëáõÃÛ³Ý ³é³çÇÝ ³ïÛ³ÝÇ ¹³ï³ñ³Ý | G10: 8 | H10: 8 | M10: 7 | N10: 3 | X10: 4 | AB10: 7 | AE10: 7 | AI10: 7 | AK10: 7 | AN10: 4 | AP10: 4 | AQ10: 3 | AS10: =D10 -> 0 | AT10: =E10+F10 -> 0 | AU10: =G10 -> 8 | AV10: =H10+I10+J10+K10+L10 -> 8 | AW10: =E10+M10 -> 7 | AX10: =AE10+AG10 -> 7 | AY10: =AE10 -> 7 | AZ10: =N10+O10+P10+Q10+R10+S10+T10+U10+V10+W10+X10+Y10+Z10+AA10 -> 7 | BA10: =AB10+AC10+AD10 -> 7 | BB10: =AK10 -> 7 | BC10: =AI10+AJ10 -> 7 | BD10: =AP10 -> 4 | BE10: =AN10+AO10 -> 4
A11: 0 | B11: 2 | C11: ºñ¨³Ý ù³Õ³ùÇ ²ñ³µÏÇñ ¨ ø³Ý³ù»é-¼»ÛÃáõÝ í³ñã³Ï³Ý ßñç³ÝÝ»ñÇ ÁÝ¹Ñ³Ýáõñ Çñ³í³ëáõÃÛ³Ý ¹³ï³ñ³Ý | G11: 3 | H11: 3 | M11: 3 | N11: 1 | AB11: 1 | AE11: 1 | AG11: 2 | AI11: 3 | AK11: 3 | AQ11: 1 | AS11: =D11 -> 0 | AT11: =E11+F11 -> 0 | AU11: =G11 -> 3 | AV11: =H11+I11+J11+K11+L11 -> 3 | AW11: =E11+M11 -> 3 | AX11: =AE11+AG11 -> 3 | AY11: =AE11 -> 1 | AZ11: =N11+O11+P11+Q11+R11+S11+T11+U11+V11+W11+X11+Y11+Z11+AA11 -> 1 | BA11: =AB11+AC11+AD11 -> 1 | BB11: =AK11 -> 3 | BC11: =AI11+AJ11 -> 3 | BD11: =AP11 -> 0 | BE11: =AN11+AO11 -> 0
A12: 0 | B12: 3 | C12: ºñ¨³Ý ù³Õ³ùÇ Þ»Ý·³íÇÃ í³ñã³Ï³Ý ßñç³ÝÇ ÁÝ¹Ñ³Ýáõñ Çñ³í³ëáõÃÛ³Ý ³é³çÇÝ ³ïÛ³ÝÇ ¹³ï³ñ³Ý | G12: 5 | H12: 5 | M12: 2 | N12: 1 | AB12: 1 | AE12: 1 | AG12: 1 | AI12: 2 | AK12: 2 | AS12: =D12 -> 0 | AT12: =E12+F12 -> 0 | AU12: =G12 -> 5 | AV12: =H12+I12+J12+K12+L12 -> 5 | AW12: =E12+M12 -> 2 | AX12: =AE12+AG12 -> 2 | AY12: =AE12 -> 1 | AZ12: =N12+O12+P12+Q12+R12+S12+T12+U12+V12+W12+X12+Y12+Z12+AA12 -> 1 | BA12: =AB12+AC12+AD12 -> 1 | BB12: =AK12 -> 2 | BC12: =AI12+AJ12 -> 2 | BD12: =AP12 -> 0 | BE12: =AN12+AO12 -> 0
A13: 0 | B13: 4 | C13: ºñ¨³Ý ù³Õ³ùÇ ²ç³÷ÝÛ³Ï ¨ ¸³íÃ³ß»Ý í³ñã³Ï³Ý ßñç³ÝÝ»ñÇ ÁÝ¹Ñ³Ýáõñ Çñ³í³ëáõÃÛ³Ý ³é³çÇÝ ³ïÛ³ÝÇ ¹³ï³ñ³Ý | G13: 3 | H13: 3 | M13: 3 | N13: 1 | X13: 2 | AB13: 3 | AE13: 3 | AI13: 3 | AK13: 3 | AN13: 2 | AP13: 2 | AQ13: 1 | AS13: =D13 -> 0 | AT13: =E13+F13 -> 0 | AU13: =G13 -> 3 | AV13: =H13+I13+J13+K13+L13 -> 3 | AW13: =E13+M13 -> 3 | AX13: =AE13+AG13 -> 3 | AY13: =AE13 -> 3 | AZ13: =N13+O13+P13+Q13+R13+S13+T13+U13+V13+W13+X13+Y13+Z13+AA13 -> 3 | BA13: =AB13+AC13+AD13 -> 3 | BB13: =AK13 -> 3 | BC13: =AI13+AJ13 -> 3 | BD13: =AP13 -> 2 | BE13: =AN13+AO13 -> 2
A14: 0 | B14: 5 | C14: ºñ¨³Ý ù³Õ³ùÇ ²í³Ý ¨ Üáñ-Üáñù í³ñã³Ï³Ý ßñç³ÝÝ»ñÇ ÁÝ¹Ñ³Ýáõñ Çñ³í³ëáõÃÛ³Ý ³é³çÇÝ ³ïÛ³ÝÇ ¹³ï³ñ³Ý | AS14: =D14 -> 0 | AT14: =E14+F14 -> 0 | AU14: =G14 -> 0 | AV14: =H14+I14+J14+K14+L14 -> 0 | AW14: =E14+M14 -> 0 | AX14: =AE14+AG14 -> 0 | AY14: =AE14 -> 0 | AZ14: =N14+O14+P14+Q14+R14+S14+T14+U14+V14+W14+X14+Y14+Z14+AA14 -> 0 | BA14: =AB14+AC14+AD14 -> 0 | BB14: =AK14 -> 0 | BC14: =AI14+AJ14 -> 0 | BD14: =AP14 -> 0 | BE14: =AN14+AO14 -> 0
A15: 0 | B15: 6 | C15: ºñ¨³Ý ù³Õ³ùÇ ¾ñ»µáõÝÇ-Üáõµ³ñ³ß»Ý í³ñã³Ï³Ý ßñç³ÝÝ»ñÇ ÁÝ¹Ñ³Ýáõñ Çñ³í³ëáõÃÛ³Ý ³é³çÇÝ ³ïÛ³ÝÇ ¹³ï³ñ³Ý | G15: 4 | H15: 4 | M15: 3 | N15: 3 | AB15: 3 | AE15: 3 | AI15: 3 | AK15: 3 | AS15: =D15 -> 0 | AT15: =E15+F15 -> 0 | AU15: =G15 -> 4 | AV15: =H15+I15+J15+K15+L15 -> 4 | AW15: =E15+M15 -> 3 | AX15: =AE15+AG15 -> 3 | AY15: =AE15 -> 3 | AZ15: =N15+O15+P15+Q15+R15+S15+T15+U15+V15+W15+X15+Y15+Z15+AA15 -> 3 | BA15: =AB15+AC15+AD15 -> 3 | BB15: =AK15 -> 3 | BC15: =AI15+AJ15 -> 3 | BD15: =AP15 -> 0 | BE15: =AN15+AO15 -> 0
A16: 0 | B16: 7 | C16: ºñ¨³Ý ù³Õ³ùÇ Ø³É³ÃÇ³-ê»µ³ëïÇ³ í³ñã³Ï³Ý ßñç³ÝÇ ÁÝ¹Ñ³Ýáõñ Çñ³í³ëáõÃÛ³ÝÇ ³é³çÇÝ ³ïÛ³ÝÇ ¹³ï³ñ³Ý | G16: 1 | H16: 1 | M16: 1 | N16: 1 | AB16: 1 | AE16: 1 | AI16: 1 | AK16: 1 | AS16: =D16 -> 0 | AT16: =E16+F16 -> 0 | AU16: =G16 -> 1 | AV16: =H16+I16+J16+K16+L16 -> 1 | AW16: =E16+M16 -> 1 | AX16: =AE16+AG16 -> 1 | AY16: =AE16 -> 1 | AZ16: =N16+O16+P16+Q16+R16+S16+T16+U16+V16+W16+X16+Y16+Z16+AA16 -> 1 | BA16: =AB16+AC16+AD16 -> 1 | BB16: =AK16 -> 1 | BC16: =AI16+AJ16 -> 1 | BD16: =AP16 -> 0 | BE16: =AN16+AO16 -> 0
A17: 0 | B17: 8 | C17: ÐÐ Èáéáõ Ù³ñ½Ç ÁÝ¹Ñ³Ýáõñ Çñ³í³ëáõÃÛ³Ý ³é³çÇÝ ³ïÛ³ÝÇ ¹³ï³ñ³Ý | G17: 1 | H17: 1 | M17: 1 | N17: 1 | AB17: 1 | AE17: 1 | AI17: 1 | AK17: 1 | AS17: =D17 -> 0 | AT17: =E17+F17 -> 0 | AU17: =G17 -> 1 | AV17: =H17+I17+J17+K17+L17 -> 1 | AW17: =E17+M17 -> 1 | AX17: =AE17+AG17 -> 1 | AY17: =AE17 -> 1 | AZ17: =N17+O17+P17+Q17+R17+S17+T17+U17+V17+W17+X17+Y17+Z17+AA17 -> 1 | BA17: =AB17+AC17+AD17 -> 1 | BB17: =AK17 -> 1 | BC17: =AI17+AJ17 -> 1 | BD17: =AP17 -> 0 | BE17: =AN17+AO17 -> 0
A18: 0 | B18: 9 | C18: ÐÐ ÞÇñ³ÏÇ Ù³ñ½Ç ÁÝ¹Ñ³Ýáõñ Çñ³í³ëáõÃÛ³Ý ³é³çÇÝ ³ïÛ³ÝÇ¹³ï³ñ³Ý | G18: 3 | H18: 3 | M18: 4 | N18: 3 | AB18: 3 | AE18: 3 | AG18: 1 | AI18: 4 | AK18: 4 | AQ18: 1 | AS18: =D18 -> 0 | AT18: =E18+F18 -> 0 | AU18: =G18 -> 3 | AV18: =H18+I18+J18+K18+L18 -> 3 | AW18: =E18+M18 -> 4 | AX18: =AE18+AG18 -> 4 | AY18: =AE18 -> 3 | AZ18: =N18+O18+P18+Q18+R18+S18+T18+U18+V18+W18+X18+Y18+Z18+AA18 -> 3 | BA18: =AB18+AC18+AD18 -> 3 | BB18: =AK18 -> 4 | BC18: =AI18+AJ18 -> 4 | BD18: =AP18 -> 0 | BE18: =AN18+AO18 -> 0
A19: 0 | B19: 10 | C19: ÐÐ ²ñÙ³íÇñÇ Ù³ñ½Ç ÁÝ¹Ñ³Ýáõñ Çñ³í³ëáõÃÛ³Ý ³é³çÇÝ ³ïÛ³ÝÇ ¹³ï³ñ³Ý | G19: 2 | H19: 2 | M19: 2 | N19: 1 | U19: 1 | AB19: 1 | AC19: 1 | AE19: 2 | AI19: 2 | AK19: 2 | AN19: 1 | AP19: 1 | AS19: =D19 -> 0 | AT19: =E19+F19 -> 0 | AU19: =G19 -> 2 | AV19: =H19+I19+J19+K19+L19 -> 2 | AW19: =E19+M19 -> 2 | AX19: =AE19+AG19 -> 2 | AY19: =AE19 -> 2 | AZ19: =N19+O19+P19+Q19+R19+S19+T19+U19+V19+W19+X19+Y19+Z19+AA19 -> 2 | BA19: =AB19+AC19+AD19 -> 2 | BB19: =AK19 -> 2 | BC19: =AI19+AJ19 -> 2 | BD19: =AP19 -> 1 | BE19: =AN19+AO19 -> 1
A20: 0 | B20: 11 | C20: ÐÐ Îáï³ÛùÇ Ù³ñ½Ç ÁÝ¹Ñ³Ýáõñ Çñ³í³ëáõÃÛ³Ý ³é³çÇÝ ³ïÛ³ÝÇ ¹³ï³ñ³Ý | G20: 1 | H20: 1 | M20: 1 | W20: 1 | AB20: 1 | AE20: 1 | AI20: 1 | AK20: 1 | AN20: 1 | AP20: 1 | AS20: =D20 -> 0 | AT20: =E20+F20 -> 0 | AU20: =G20 -> 1 | AV20: =H20+I20+J20+K20+L20 -> 1 | AW20: =E20+M20 -> 1 | AX20: =AE20+AG20 -> 1 | AY20: =AE20 -> 1 | AZ20: =N20+O20+P20+Q20+R20+S20+T20+U20+V20+W20+X20+Y20+Z20+AA20 -> 1 | BA20: =AB20+AC20+AD20 -> 1 | BB20: =AK20 -> 1 | BC20: =AI20+AJ20 -> 1 | BD20: =AP20 -> 1 | BE20: =AN20+AO20 -> 1
A21: 0 | B21: 12 | C21: ÐÐ ²ñ³ñ³ïÇ ¨ ì³Ûáó ÒáñÇ Ù³ñ½»ñÇ ÁÝ¹Ñ³Ýáõñ Çñ³í³ëáõÃÛ³Ý ³é³çÇÝ ³ïÛ³ÝÇ ¹³ï³ñ³Ý | G21: 9 | H21: 9 | M21: 6 | N21: 5 | AB21: 5 | AE21: 5 | AG21: 1 | AI21: 6 | AK21: 6 | AQ21: 2 | AS21: =D21 -> 0 | AT21: =E21+F21 -> 0 | AU21: =G21 -> 9 | AV21: =H21+I21+J21+K21+L21 -> 9 | AW21: =E21+M21 -> 6 | AX21: =AE21+AG21 -> 6 | AY21: =AE21 -> 5 | AZ21: =N21+O21+P21+Q21+R21+S21+T21+U21+V21+W21+X21+Y21+Z21+AA21 -> 5 | BA21: =AB21+AC21+AD21 -> 5 | BB21: =AK21 -> 6 | BC21: =AI21+AJ21 -> 6 | BD21: =AP21 -> 0 | BE21: =AN21+AO21 -> 0
A22: 0 | B22: 13 | C22: ÐÐ ¶»Õ³ñùáõÝÇùÇ Ù³ñ½Ç ÁÝ¹Ñ³Ýáõñ Çñ³í³ëáõÃÛ³Ý ³é³çÇÝ ³ïÛ³ÝÇ ¹³ï³ñ³Ý | G22: 3 | H22: 3 | M22: 3 | N22: 1 | X22: 1 | AB22: 2 | AE22: 2 | AG22: 1 | AI22: 3 | AK22: 3 | AN22: 1 | AP22: 1 | AS22: =D22 -> 0 | AT22: =E22+F22 -> 0 | AU22: =G22 -> 3 | AV22: =H22+I22+J22+K22+L22 -> 3 | AW22: =E22+M22 -> 3 | AX22: =AE22+AG22 -> 3 | AY22: =AE22 -> 2 | AZ22: =N22+O22+P22+Q22+R22+S22+T22+U22+V22+W22+X22+Y22+Z22+AA22 -> 2 | BA22: =AB22+AC22+AD22 -> 2 | BB22: =AK22 -> 3 | BC22: =AI22+AJ22 -> 3 | BD22: =AP22 -> 1 | BE22: =AN22+AO22 -> 1
A23: 0 | B23: 14 | C23: ÐÐ ²ñ³·³ÍáïÝÇ Ù³ñ½Ç ÁÝ¹Ñ³Ýáõñ Çñ³í³ëáõÃÛ³Ý ³é³çÇÝ ³ïÛ³ÝÇ ¹³ï³ñ³Ý | AS23: =D23 -> 0 | AT23: =E23+F23 -> 0 | AU23: =G23 -> 0 | AV23: =H23+I23+J23+K23+L23 -> 0 | AW23: =E23+M23 -> 0 | AX23: =AE23+AG23 -> 0 | AY23: =AE23 -> 0 | AZ23: =N23+O23+P23+Q23+R23+S23+T23+U23+V23+W23+X23+Y23+Z23+AA23 -> 0 | BA23: =AB23+AC23+AD23 -> 0 | BB23: =AK23 -> 0 | BC23: =AI23+AJ23 -> 0 | BD23: =AP23 -> 0 | BE23: =AN23+AO23 -> 0
A24: 0 | B24: 15 | C24: ÐÐ êÛáõÝÇùÇ Ù³ñ½Ç ÁÝ¹Ñ³Ýáõñ Çñ³í³ëáõÃÛ³Ý ³é³çÇÝ ³ïÛ³ÝÇ ¹³ï³ñ³Ý | G24: 10 | H24: 10 | M24: 7 | N24: 3 | X24: 2 | AB24: 5 | AE24: 5 | AG24: 2 | AI24: 7 | AK24: 7 | AN24: 2 | AP24: 2 | AQ24: 1 | AS24: =D24 -> 0 | AT24: =E24+F24 -> 0 | AU24: =G24 -> 10 | AV24: =H24+I24+J24+K24+L24 -> 10 | AW24: =E24+M24 -> 7 | AX24: =AE24+AG24 -> 7 | AY24: =AE24 -> 5 | AZ24: =N24+O24+P24+Q24+R24+S24+T24+U24+V24+W24+X24+Y24+Z24+AA24 -> 5 | BA24: =AB24+AC24+AD24 -> 5 | BB24: =AK24 -> 7 | BC24: =AI24+AJ24 -> 7 | BD24: =AP24 -> 2 | BE24: =AN24+AO24 -> 2
A25: 0 | B25: 16 | C25: ÐÐ î³íáõßÇ Ù³ñ½Ç ÁÝ¹Ñ³Ýáõñ Çñ³í³ëáõÃÛ³Ý ³é³çÇÝ ³ïÛ³ÝÇ ¹³ï³ñ³Ý | G25: 4 | H25: 4 | M25: 3 | X25: 2 | AB25: 2 | AE25: 2 | AG25: 1 | AI25: 3 | AK25: 3 | AN25: 2 | AP25: 2 | AQ25: 1 | AS25: =D25 -> 0 | AT25: =E25+F25 -> 0 | AU25: =G25 -> 4 | AV25: =H25+I25+J25+K25+L25 -> 4 | AW25: =E25+M25 -> 3 | AX25: =AE25+AG25 -> 3 | AY25: =AE25 -> 2 | AZ25: =N25+O25+P25+Q25+R25+S25+T25+U25+V25+W25+X25+Y25+Z25+AA25 -> 2 | BA25: =AB25+AC25+AD25 -> 2 | BB25: =AK25 -> 3 | BC25: =AI25+AJ25 -> 3 | BD25: =AP25 -> 2 | BE25: =AN25+AO25 -> 2
B26: 19 | C26: ÈáõÍ³ñí³Í ¹³ï³ñ³ÝÝ»ñ | AS26: =D26 -> 0 | AT26: =E26+F26 -> 0 | AU26: =G26 -> 0 | AV26: =H26+I26+J26+K26+L26 -> 0 | AW26: =E26+M26 -> 0 | AX26: =AE26+AG26 -> 0 | AY26: =AE26 -> 0 | AZ26: =N26+O26+P26+Q26+R26+S26+T26+U26+V26+W26+X26+Y26+Z26+AA26 -> 0 | BA26: =AB26+AC26+AD26 -> 0 | BB26: =AK26 -> 0 | BC26: =AI26+AJ26 -> 0 | BD26: =AP26 -> 0 | BE26: =AN26+AO26 -> 0
A27: 0 | B27: 20 | C27: ÀÝ¹³Ù»ÝÁ | D27: =SUM(D10:D26) -> 0 | E27: =SUM(E10:E26) -> 0 | F27: =SUM(F10:F26) -> 0 | G27: =SUM(G10:G26) -> 57 | H27: =SUM(H10:H26) -> 57 | I27: =SUM(I10:I26) -> 0 | J27: =SUM(J10:J26) -> 0 | K27: =SUM(K10:K26) -> 0 | ... AQ27: =SUM(AQ10:AQ26) -> 10 | AS27: =D27 -> 0 | AT27: =E27+F27 -> 0 | AU27: =G27 -> 57 | AV27: =H27+I27+J27+K27+L27 -> 57 | AW27: =E27+M27 -> 46 | AX27: =AE27+AG27 -> 46 | AY27: =AE27 -> 37 | AZ27: =N27+O27+P27+Q27+R27+S27+T27+U27+V27+W27+X27+Y27+Z27+AA27 -> 37 | BA27: =AB27+AC27+AD27 -> 37 | BB27: =AK27 -> 46 | BC27: =AI27+AJ27 -> 46 | BD27: =AP27 -> 13 | BE27: =AN27+AO27 -> 13
A28: 0
A29: 0
A30: 0
A31: 1
A32: 0

Sheet 2
B1: 2017Ã. 1-ÇÝ ÏÇë³ÙÛ³Ï | D1: Ð²ÞìºîìàôÂÚàôÜ | AK1: Ð³í»Éí³Í Ð³Û³ëï³ÝÇ Ð³Ýñ³å»ïáõÃÛ³Ý ¸³ï³ñ³ÝÝ»ñÇ Ý³Ë³·³ÑÝ»ñÇ ËáñÑñ¹Ç 25.08.2017Ã. ÃÇí 35-È áñáßÙ³Ý
B2: ÐÐ ìºð²øÜÜÆâ øðº²Î²Ü ¸²î²ð²ÜՈՒՄ êî²òì²Ì ´àÔàøÜºðÆ øÜÜàôÂÚ²Ü ìºð²´ºðÚ²È
B3: ¸³ï³Ï³Ý Ï³½Ù` Ռ. Մխիթարյան, Ս. Չիչոյան, Մ. Արղամանյան
B4: ÐÐ í»ñ³ùÝÝÇã ùñ»³Ï³Ý ¹³ï³ñ³ÝáõÙ ¹³ï³íáñÝ»ñÇ Ñ³ëïÇùÝ»ñÇ ÃÇíÁ` 16
D5: Ð³ßí»ïáõ Å³Ù³Ý³Ï³Ñ³ïí³ÍÇ ëÏ½µáõÙ Ý³Ëáñ¹ Ñ³ßí»ïáõ Å³Ù³Ý³Ï³Ñ³ïí³ÍÇó ÷áË³Ýóí³Í ·áñÍ»ñÇ ÁÝ¹Ñ³Ýáõñ ÃÇíÁ | G5: Ð³ßí»ïáõ Å³Ù³Ý³Ï³Ñ³ïí³ÍáõÙ ëï³óí³Í µáÕáùÝ»ñÇ ÁÝ¹Ñ³Ýáõñ ÃÇíÁ | M5: ´áÕáù³ñÏí³Í ³Ïï»ñÇ ù³Ý³ÏÁ, áñáÝó ¹»Ù µ»ñí³Í µáÕáùÝ»ñÝ Ñ³ßí»ïáõ Å³Ù³Ý³Ï³ßñç³ÝáõÙ ÁÝ¹áõÝí»É »Ý í³ñáõÛÃ | N5: Ð³ßí»ïáõ Å³Ù³Ý³Ï³ßñç³ÝáõÙ ùÝÝí³Í ·áñÍ»ñáí Ï³Û³óí³Í áñáßáõÙÝ»ñ | AB5: Ð³ßí»ïáõ Å³Ù³Ý³Ï³Ñ³ïí³ÍáõÙ ³í³ñïí³Í ·áñÍ»ñÇ ÁÝ¹Ñ³Ýáõñ ÃÇíÁ | AF5: Ð³ßí»ïáõ Å³Ù³Ý³Ï³Ñ³ïí³ÍáõÙ Ï³ë»óí³Í í³ñáõÛÃÝ»ñáí ·áñÍ»ñÇ ÁÝ¹Ñ³Ýáõñ ÃÇíÁ | AG5: Ð³ßí»ïáõ Å³Ù³Ý³Ï³Ñ³ïí³ÍáõÙ ³Ý³í³ñï ·áñÍ»ñÇ ÁÝ¹Ñ³Ýáõñ ÃÇíÁ | AH5: ²Û¹ ÃíáõÙ` Ï³ë»óí³Í | AI5: ´áÕáù³ñÏí³Í ¹³ï³Ï³Ý ³Ïï»ñÇ ÃÇíÁ` Áëï ï»ë³ÏÝ»ñÇ | AN5: ´»Ï³Ýí³Í ¹³ï³Ï³Ý ³Ïï»ñÇ ÃÇíÁ` Áëï ï»ë³ÏÝ»ñÇ | AQ5: ´áÕáù³ñÏí»É »Ý í×é³µ»Ï ¹³ï³ñ³Ý
AI6: ²Û¹ ÃíáõÙ` ·áñÍÝ Áëï ¿áõÃÛ³Ý ÉáõÍáÕ ¹³ï³Ï³Ý ³Ïï»ñ | AJ6: ²Û¹ ÃíáõÙ` գործն ըստ էության չլուծող¹³ï³Ï³Ý ³Ïï»ñ | AK6: ÀÝ¹³Ù»ÝÁ | AN6: ²Û¹ ÃíáõÙ` ·áñÍÝ Áëï ¿áõÃÛ³Ý ÉáõÍáÕ ¹³ï³Ï³Ý ³Ïï»ñ | AO6: ²Û¹ ÃíáõÙ` գործն ըստ էության չլուծող¹³ï³Ï³Ý ³Ïï»ñ | AP6: ÀÝ¹³Ù»ÝÁ
D7: ÀÝ¹³Ù»ÝÁ | E7: Այդ թվում` վարույթ ընդունված µáÕáùÝ»ñáí փոխանցված | F7: Այդ թվում` չքննարկված µáÕáùÝ»ñáí փոխանցված | G7: ÀÝ¹³Ù»ÝÁ | H7: Այդ թվում` ընդունվել է վարույթ | I7: Այդ թվում` թողնվել է առանց քննության | J7: Այդ թվում` ÁÝ¹áõÝáõÙÁ մերժվել է | K7: Այդ թվում` í»ñ³ùÝÝÇã í³ñáõÛÃÁ Ï³ñ×í»É ¿ | L7: Այդ թվում` չի քննարկվել | N7: ¸³ï³Ï³Ý ³ÏïÁ ÃáÕÝí»É ¿ ûñÇÝ³Ï³Ý áõÅÇ Ù»ç | O7: ¸³ï³Ï³Ý ³ÏïÝ ³ÙµáÕçáõÃÛ³Ùµ µ»Ï³Ýí»É ¿ ¨ Ï³Û³óí»É ¿ ·áñÍÝ Áëï ¿áõÃÛ³Ý ÉáõÍáÕ ¹³ï³Ï³Ý ³Ïï | P7: ¸³ï³Ï³Ý ³ÏïÁ Ù³ëÝ³ÏÇáñ»Ý µ»Ï³Ýí»É ¿ ¨ µ»Ï³Ýí³Í Ù³ëáí Ï³Û³óí»É ¿ ·áñÍÝ Áëï ¿áõÃÛ³Ý ÉáõÍáÕ ¹³ï³Ï³Ý ³Ïï | Q7: ¸³ï³Ï³Ý ³ÏïÝ ³ÙµáÕçáõÃÛ³Ùµ µ»Ï³Ýí»É ¿ ¨ ·áñÍÝ áõÕ³ñÏí»É ¿ Ýáñ ùÝÝáõÃÛ³Ý | R7: ¹³ï³Ï³Ý ³ÏïÁ Ù³ëÝ³ÏÇáñ»Ý µ»Ï³Ýí»É ¿ ¨ ·áñÍÝ áõÕ³ñÏí»É ¿ Ýáñ ùÝÝáõÃÛ³Ý | S7: ø³Õ.Ñ³ÛóÇ Ù³ëáí ³ÙµáÕçáõÃÛ³Ùµ µ»Ï³Ýí»É ¿ ¹³ï³Ï³Ý ³ÏïÁ ¨ Ñ³ëï³ïí»É ¿ ÏáÕÙ»ñÇ Ñ³ßïáõÃÛ³Ý Ñ³Ù³Ó³ÛÝáõÃÛáõÝÁ | T7: ø³Õ.Ñ³ÛóÇ Ù³ëáí Ù³ëÝ³ÏÇáñ»Ý µ»Ï³Ýí»É ¿ ¹³ï³Ï³Ý ³ÏïÁ ¨ µ»Ï³Ýí³Í Ù³ëáí Ñ³ëï³ïí»É ¿ ÏáÕÙ»ñÇ Ñ³ßïáõÃÛ³Ý Ñ³Ù³Ó³ÛÝáõÃÛáõÝÁ | U7: ²ÙµáÕçáõÃÛ³Ùµ µ»Ï³Ýí»É ¿ ¹³ï³Ï³Ý ³ÏïÁ ¨ ·áñÍÇ í³ñáõÛÃÁ Ï³ñ×í»É ¿ | V7: Ø³ëÝ³ÏÇáñ»Ý µ»Ï³Ýí»É ¿ ¹³ï³Ï³Ý ³ÏïÁ ¨ ³Û¹ Ù³ëáí ·áñÍÇ í³ñáõÛÃÁ Ï³ñ×í»É ¿ | W7: ¸³ï³Ï³Ý ³ÏïÝ ³ÙµáÕçáõÃÛ³Ùµ µ»Ï³Ýí»É ¨ ÷á÷áËí»É ¿ | X7: ¸³ï³Ï³Ý ³ÏïÁ Ù³ëÝ³ÏÇáñ»Ý µ»Ï³Ýí»É ¿ ¨ ³Û¹ Ù³ëáí ÷á÷áËí»É | Y7: Դ³ï³Ï³Ý ³ÏïÁ µ»Ï³Ýí»É ¿ ¨ ù³Õ. Ñ³ÛóÁ ÃáÕÝí»É ¿ ³é³Ýó ùÝÝáõÃÛ³Ý | Z7: Գործն ըստ էության չլուծող դատական ակտը թողնվել է օրինական ուժի մեջ | AA7: Կայացվել է գործն ըստ էության չլուծող նոր դատական ակտ | AB7: ²Û¹ ÃíáõÙ` ·áñÍÝ Áëï ¿áõÃÛ³Ý ÉáõÍ»Éáõ ÑÇÙùáí ³í³ñïí³Í | AC7: ²Û¹ ÃíáõÙ` ·áñÍÇ í³ñáõÛÃÁ Ï³ñ×»Éáõ ÑÇÙùáí ³í³ñïí³Í | AD7: ²Û¹ ÃíáõÙ` ³ÛÉ ÑÇÙùáí ³í³ñïí³Í | AE7: ÀÝ¹³Ù»ÝÁ
C9: ¸²î²ð²ÜÜºð | D9: 1 | E9: 2 | F9: 3 | G9: 4 | H9: 5 | I9: 6 | J9: 7 | K9: 8 | L9: 9 | M9: 10 | N9: 11 | O9: 12 | P9: 13 | Q9: 14 | R9: 15 | S9: 16 | T9: 17 | U9: 18 | V9: 19 | W9: 20 | X9: 21 | Y9: 22 | Z9: 23 | AA9: 24 | AB9: 25 | AC9: 26 | AD9: 27 | AE9: 28 | AF9: 29 | AG9: 30 | AH9: 31 | AI9: 32 | AJ9: 33 | AK9: 34 | AL9: 35 | AM9: 36 | AN9: 35 | AO9: 36 | AP9: 37 | AQ9: 38 | AS9: 1=2+3 | AU9: 4=5+6+7+8+9 | AW9: 2+10=28+30 | AY9: 28 | BB9: 34=32+33 | BD9: 37=35+36
A10: 1 | B10: 1 | C10: ºñ¨³Ý ù³Õ³ùÇ Î»ÝïñáÝ ¨ Üáñù-Ø³ñ³ß í³ñã³Ï³Ý ßñç³ÝÝ»ñÇ ÁÝ¹Ñ³Ýáõñ Çñ³í³ëáõÃÛ³Ý ³é³çÇÝ ³ïÛ³ÝÇ ¹³ï³ñ³Ý | G10: 33 | H10: 33 | M10: 24 | N10: 5 | W10: 1 | X10: 1 | AB10: 7 | AE10: 7 | AG10: 17 | AI10: 24 | AK10: 24 | AN10: 2 | AP10: 2 | AQ10: 3 | AS10: =D10 -> 0 | AT10: =E10+F10 -> 0 | AU10: =G10 -> 33 | AV10: =H10+I10+J10+K10+L10 -> 33 | AW10: =E10+M10 -> 24 | AX10: =AE10+AG10 -> 24 | AY10: =AE10 -> 7 | AZ10: =N10+O10+P10+Q10+R10+S10+T10+U10+V10+W10+X10+Y10+Z10+AA10 -> 7 | BA10: =AB10+AC10+AD10 -> 7 | BB10: =AK10 -> 24 | BC10: =AI10+AJ10 -> 24 | BD10: =AP10 -> 2 | BE10: =AN10+AO10 -> 2
A11: 0 | B11: 2 | C11: ºñ¨³Ý ù³Õ³ùÇ ²ñ³µÏÇñ ¨ ø³Ý³ù»é-¼»ÛÃáõÝ í³ñã³Ï³Ý ßñç³ÝÝ»ñÇ ÁÝ¹Ñ³Ýáõñ Çñ³í³ëáõÃÛ³Ý ¹³ï³ñ³Ý | G11: 11 | H11: 11 | M11: 8 | N11: 5 | X11: 1 | AB11: 6 | AE11: 6 | AG11: 2 | AI11: 8 | AK11: 8 | AN11: 1 | AP11: 1 | AQ11: 3 | AS11: =D11 -> 0 | AT11: =E11+F11 -> 0 | AU11: =G11 -> 11 | AV11: =H11+I11+J11+K11+L11 -> 11 | AW11: =E11+M11 -> 8 | AX11: =AE11+AG11 -> 8 | AY11: =AE11 -> 6 | AZ11: =N11+O11+P11+Q11+R11+S11+T11+U11+V11+W11+X11+Y11+Z11+AA11 -> 6 | BA11: =AB11+AC11+AD11 -> 6 | BB11: =AK11 -> 8 | BC11: =AI11+AJ11 -> 8 | BD11: =AP11 -> 1 | BE11: =AN11+AO11 -> 1
A12: 0 | B12: 3 | C12: ºñ¨³Ý ù³Õ³ùÇ Þ»Ý·³íÇÃ í³ñã³Ï³Ý ßñç³ÝÇ ÁÝ¹Ñ³Ýáõñ Çñ³í³ëáõÃÛ³Ý ³é³çÇÝ ³ïÛ³ÝÇ ¹³ï³ñ³Ý | G12: 9 | H12: 9 | M12: 9 | N12: 4 | AB12: 4 | AE12: 4 | AG12: 5 | AI12: 9 | AK12: 9 | AQ12: 2 | AS12: =D12 -> 0 | AT12: =E12+F12 -> 0 | AU12: =G12 -> 9 | AV12: =H12+I12+J12+K12+L12 -> 9 | AW12: =E12+M12 -> 9 | AX12: =AE12+AG12 -> 9 | AY12: =AE12 -> 4 | AZ12: =N12+O12+P12+Q12+R12+S12+T12+U12+V12+W12+X12+Y12+Z12+AA12 -> 4 | BA12: =AB12+AC12+AD12 -> 4 | BB12: =AK12 -> 9 | BC12: =AI12+AJ12 -> 9 | BD12: =AP12 -> 0 | BE12: =AN12+AO12 -> 0
A13: 0 | B13: 4 | C13: ºñ¨³Ý ù³Õ³ùÇ ²ç³÷ÝÛ³Ï ¨ ¸³íÃ³ß»Ý í³ñã³Ï³Ý ßñç³ÝÝ»ñÇ ÁÝ¹Ñ³Ýáõñ Çñ³í³ëáõÃÛ³Ý ³é³çÇÝ ³ïÛ³ÝÇ ¹³ï³ñ³Ý | G13: 9 | H13: 9 | M13: 8 | N13: 2 | AB13: 2 | AE13: 2 | AG13: 6 | AI13: 8 | AK13: 8 | AS13: =D13 -> 0 | AT13: =E13+F13 -> 0 | AU13: =G13 -> 9 | AV13: =H13+I13+J13+K13+L13 -> 9 | AW13: =E13+M13 -> 8 | AX13: =AE13+AG13 -> 8 | AY13: =AE13 -> 2 | AZ13: =N13+O13+P13+Q13+R13+S13+T13+U13+V13+W13+X13+Y13+Z13+AA13 -> 2 | BA13: =AB13+AC13+AD13 -> 2 | BB13: =AK13 -> 8 | BC13: =AI13+AJ13 -> 8 | BD13: =AP13 -> 0 | BE13: =AN13+AO13 -> 0
A14: 0 | B14: 5 | C14: ºñ¨³Ý ù³Õ³ùÇ ²í³Ý ¨ Üáñ-Üáñù í³ñã³Ï³Ý ßñç³ÝÝ»ñÇ ÁÝ¹Ñ³Ýáõñ Çñ³í³ëáõÃÛ³Ý ³é³çÇÝ ³ïÛ³ÝÇ ¹³ï³ñ³Ý | G14: 5 | H14: 5 | M14: 4 | N14: 3 | AB14: 3 | AE14: 3 | AG14: 1 | AI14: 4 | AK14: 4 | AQ14: 2 | AS14: =D14 -> 0 | AT14: =E14+F14 -> 0 | AU14: =G14 -> 5 | AV14: =H14+I14+J14+K14+L14 -> 5 | AW14: =E14+M14 -> 4 | AX14: =AE14+AG14 -> 4 | AY14: =AE14 -> 3 | AZ14: =N14+O14+P14+Q14+R14+S14+T14+U14+V14+W14+X14+Y14+Z14+AA14 -> 3 | BA14: =AB14+AC14+AD14 -> 3 | BB14: =AK14 -> 4 | BC14: =AI14+AJ14 -> 4 | BD14: =AP14 -> 0 | BE14: =AN14+AO14 -> 0
A15: 0 | B15: 6 | C15: ºñ¨³Ý ù³Õ³ùÇ ¾ñ»µáõÝÇ-Üáõµ³ñ³ß»Ý í³ñã³Ï³Ý ßñç³ÝÝ»ñÇ ÁÝ¹Ñ³Ýáõñ Çñ³í³ëáõÃÛ³Ý ³é³çÇÝ ³ïÛ³ÝÇ ¹³ï³ñ³Ý | G15: 5 | H15: 5 | M15: 5 | N15: 1 | AB15: 1 | AE15: 1 | AG15: 4 | AI15: 5 | AK15: 5 | AS15: =D15 -> 0 | AT15: =E15+F15 -> 0 | AU15: =G15 -> 5 | AV15: =H15+I15+J15+K15+L15 -> 5 | AW15: =E15+M15 -> 5 | AX15: =AE15+AG15 -> 5 | AY15: =AE15 -> 1 | AZ15: =N15+O15+P15+Q15+R15+S15+T15+U15+V15+W15+X15+Y15+Z15+AA15 -> 1 | BA15: =AB15+AC15+AD15 -> 1 | BB15: =AK15 -> 5 | BC15: =AI15+AJ15 -> 5 | BD15: =AP15 -> 0 | BE15: =AN15+AO15 -> 0
A16: 0 | B16: 7 | C16: ºñ¨³Ý ù³Õ³ùÇ Ø³É³ÃÇ³-ê»µ³ëïÇ³ í³ñã³Ï³Ý ßñç³ÝÇ ÁÝ¹Ñ³Ýáõñ Çñ³í³ëáõÃÛ³ÝÇ ³é³çÇÝ ³ïÛ³ÝÇ ¹³ï³ñ³Ý | G16: 13 | H16: 13 | M16: 12 | N16: 5 | AB16: 5 | AE16: 5 | AG16: 7 | AI16: 12 | AK16: 12 | AS16: =D16 -> 0 | AT16: =E16+F16 -> 0 | AU16: =G16 -> 13 | AV16: =H16+I16+J16+K16+L16 -> 13 | AW16: =E16+M16 -> 12 | AX16: =AE16+AG16 -> 12 | AY16: =AE16 -> 5 | AZ16: =N16+O16+P16+Q16+R16+S16+T16+U16+V16+W16+X16+Y16+Z16+AA16 -> 5 | BA16: =AB16+AC16+AD16 -> 5 | BB16: =AK16 -> 12 | BC16: =AI16+AJ16 -> 12 | BD16: =AP16 -> 0 | BE16: =AN16+AO16 -> 0
A17: 0 | B17: 8 | C17: ÐÐ Èáéáõ Ù³ñ½Ç ÁÝ¹Ñ³Ýáõñ Çñ³í³ëáõÃÛ³Ý ³é³çÇÝ ³ïÛ³ÝÇ ¹³ï³ñ³Ý | G17: 3 | H17: 3 | M17: 3 | N17: 2 | AB17: 2 | AE17: 2 | AG17: 1 | AI17: 3 | AK17: 3 | AS17: =D17 -> 0 | AT17: =E17+F17 -> 0 | AU17: =G17 -> 3 | AV17: =H17+I17+J17+K17+L17 -> 3 | AW17: =E17+M17 -> 3 | AX17: =AE17+AG17 -> 3 | AY17: =AE17 -> 2 | AZ17: =N17+O17+P17+Q17+R17+S17+T17+U17+V17+W17+X17+Y17+Z17+AA17 -> 2 | BA17: =AB17+AC17+AD17 -> 2 | BB17: =AK17 -> 3 | BC17: =AI17+AJ17 -> 3 | BD17: =AP17 -> 0 | BE17: =AN17+AO17 -> 0
A18: 0 | B18: 9 | C18: ÐÐ ÞÇñ³ÏÇ Ù³ñ½Ç ÁÝ¹Ñ³Ýáõñ Çñ³í³ëáõÃÛ³Ý ³é³çÇÝ ³ïÛ³ÝÇ¹³ï³ñ³Ý | G18: 10 | H18: 10 | M18: 7 | N18: 1 | AB18: 1 | AE18: 1 | AG18: 6 | AI18: 7 | AK18: 7 | AS18: =D18 -> 0 | AT18: =E18+F18 -> 0 | AU18: =G18 -> 10 | AV18: =H18+I18+J18+K18+L18 -> 10 | AW18: =E18+M18 -> 7 | AX18: =AE18+AG18 -> 7 | AY18: =AE18 -> 1 | AZ18: =N18+O18+P18+Q18+R18+S18+T18+U18+V18+W18+X18+Y18+Z18+AA18 -> 1 | BA18: =AB18+AC18+AD18 -> 1 | BB18: =AK18 -> 7 | BC18: =AI18+AJ18 -> 7 | BD18: =AP18 -> 0 | BE18: =AN18+AO18 -> 0
A19: 0 | B19: 10 | C19: ÐÐ ²ñÙ³íÇñÇ Ù³ñ½Ç ÁÝ¹Ñ³Ýáõñ Çñ³í³ëáõÃÛ³Ý ³é³çÇÝ ³ïÛ³ÝÇ ¹³ï³ñ³Ý | G19: 6 | H19: 6 | M19: 6 | N19: 2 | X19: 1 | AB19: 3 | AE19: 3 | AG19: 3 | AI19: 6 | AK19: 6 | AN19: 1 | AP19: 1 | AQ19: 2 | AS19: =D19 -> 0 | AT19: =E19+F19 -> 0 | AU19: =G19 -> 6 | AV19: =H19+I19+J19+K19+L19 -> 6 | AW19: =E19+M19 -> 6 | AX19: =AE19+AG19 -> 6 | AY19: =AE19 -> 3 | AZ19: =N19+O19+P19+Q19+R19+S19+T19+U19+V19+W19+X19+Y19+Z19+AA19 -> 3 | BA19: =AB19+AC19+AD19 -> 3 | BB19: =AK19 -> 6 | BC19: =AI19+AJ19 -> 6 | BD19: =AP19 -> 1 | BE19: =AN19+AO19 -> 1
A20: 0 | B20: 11 | C20: ÐÐ Îáï³ÛùÇ Ù³ñ½Ç ÁÝ¹Ñ³Ýáõñ Çñ³í³ëáõÃÛ³Ý ³é³çÇÝ ³ïÛ³ÝÇ ¹³ï³ñ³Ý | G20: 8 | H20: 8 | M20: 7 | N20: 2 | AB20: 2 | AE20: 2 | AG20: 5 | AI20: 7 | AK20: 7 | AS20: =D20 -> 0 | AT20: =E20+F20 -> 0 | AU20: =G20 -> 8 | AV20: =H20+I20+J20+K20+L20 -> 8 | AW20: =E20+M20 -> 7 | AX20: =AE20+AG20 -> 7 | AY20: =AE20 -> 2 | AZ20: =N20+O20+P20+Q20+R20+S20+T20+U20+V20+W20+X20+Y20+Z20+AA20 -> 2 | BA20: =AB20+AC20+AD20 -> 2 | BB20: =AK20 -> 7 | BC20: =AI20+AJ20 -> 7 | BD20: =AP20 -> 0 | BE20: =AN20+AO20 -> 0
A21: 0 | B21: 12 | C21: ÐÐ ²ñ³ñ³ïÇ ¨ ì³Ûáó ÒáñÇ Ù³ñ½»ñÇ ÁÝ¹Ñ³Ýáõñ Çñ³í³ëáõÃÛ³Ý ³é³çÇÝ ³ïÛ³ÝÇ ¹³ï³ñ³Ý | G21: 15 | H21: 15 | M21: 11 | N21: 3 | X21: 1 | AB21: 4 | AE21: 4 | AG21: 7 | AI21: 11 | AK21: 11 | AN21: 1 | AP21: 1 | AQ21: 1 | AS21: =D21 -> 0 | AT21: =E21+F21 -> 0 | AU21: =G21 -> 15 | AV21: =H21+I21+J21+K21+L21 -> 15 | AW21: =E21+M21 -> 11 | AX21: =AE21+AG21 -> 11 | AY21: =AE21 -> 4 | AZ21: =N21+O21+P21+Q21+R21+S21+T21+U21+V21+W21+X21+Y21+Z21+AA21 -> 4 | BA21: =AB21+AC21+AD21 -> 4 | BB21: =AK21 -> 11 | BC21: =AI21+AJ21 -> 11 | BD21: =AP21 -> 1 | BE21: =AN21+AO21 -> 1
A22: 0 | B22: 13 | C22: ÐÐ ¶»Õ³ñùáõÝÇùÇ Ù³ñ½Ç ÁÝ¹Ñ³Ýáõñ Çñ³í³ëáõÃÛ³Ý ³é³çÇÝ ³ïÛ³ÝÇ ¹³ï³ñ³Ý | G22: 7 | H22: 7 | M22: 3 | N22: 1 | AB22: 1 | AE22: 1 | AG22: 2 | AI22: 3 | AK22: 3 | AS22: =D22 -> 0 | AT22: =E22+F22 -> 0 | AU22: =G22 -> 7 | AV22: =H22+I22+J22+K22+L22 -> 7 | AW22: =E22+M22 -> 3 | AX22: =AE22+AG22 -> 3 | AY22: =AE22 -> 1 | AZ22: =N22+O22+P22+Q22+R22+S22+T22+U22+V22+W22+X22+Y22+Z22+AA22 -> 1 | BA22: =AB22+AC22+AD22 -> 1 | BB22: =AK22 -> 3 | BC22: =AI22+AJ22 -> 3 | BD22: =AP22 -> 0 | BE22: =AN22+AO22 -> 0
A23: 0 | B23: 14 | C23: ÐÐ ²ñ³·³ÍáïÝÇ Ù³ñ½Ç ÁÝ¹Ñ³Ýáõñ Çñ³í³ëáõÃÛ³Ý ³é³çÇÝ ³ïÛ³ÝÇ ¹³ï³ñ³Ý | G23: 4 | H23: 4 | M23: 4 | N23: 3 | X23: 1 | AB23: 4 | AE23: 4 | AI23: 4 | AK23: 4 | AN23: 1 | AP23: 1 | AQ23: 1 | AS23: =D23 -> 0 | AT23: =E23+F23 -> 0 | AU23: =G23 -> 4 | AV23: =H23+I23+J23+K23+L23 -> 4 | AW23: =E23+M23 -> 4 | AX23: =AE23+AG23 -> 4 | AY23: =AE23 -> 4 | AZ23: =N23+O23+P23+Q23+R23+S23+T23+U23+V23+W23+X23+Y23+Z23+AA23 -> 4 | BA23: =AB23+AC23+AD23 -> 4 | BB23: =AK23 -> 4 | BC23: =AI23+AJ23 -> 4 | BD23: =AP23 -> 1 | BE23: =AN23+AO23 -> 1
A24: 0 | B24: 15 | C24: ÐÐ êÛáõÝÇùÇ Ù³ñ½Ç ÁÝ¹Ñ³Ýáõñ Çñ³í³ëáõÃÛ³Ý ³é³çÇÝ ³ïÛ³ÝÇ ¹³ï³ñ³Ý | G24: 12 | H24: 12 | M24: 11 | N24: 6 | X24: 1 | AB24: 7 | AE24: 7 | AG24: 4 | AI24: 11 | AK24: 11 | AN24: 1 | AP24: 1 | AS24: =D24 -> 0 | AT24: =E24+F24 -> 0 | AU24: =G24 -> 12 | AV24: =H24+I24+J24+K24+L24 -> 12 | AW24: =E24+M24 -> 11 | AX24: =AE24+AG24 -> 11 | AY24: =AE24 -> 7 | AZ24: =N24+O24+P24+Q24+R24+S24+T24+U24+V24+W24+X24+Y24+Z24+AA24 -> 7 | BA24: =AB24+AC24+AD24 -> 7 | BB24: =AK24 -> 11 | BC24: =AI24+AJ24 -> 11 | BD24: =AP24 -> 1 | BE24: =AN24+AO24 -> 1
A25: 0 | B25: 16 | C25: ÐÐ î³íáõßÇ Ù³ñ½Ç ÁÝ¹Ñ³Ýáõñ Çñ³í³ëáõÃÛ³Ý ³é³çÇÝ ³ïÛ³ÝÇ ¹³ï³ñ³Ý | G25: 4 | H25: 4 | M25: 4 | N25: 3 | AB25: 3 | AE25: 3 | AG25: 1 | AI25: 4 | AK25: 4 | AS25: =D25 -> 0 | AT25: =E25+F25 -> 0 | AU25: =G25 -> 4 | AV25: =H25+I25+J25+K25+L25 -> 4 | AW25: =E25+M25 -> 4 | AX25: =AE25+AG25 -> 4 | AY25: =AE25 -> 3 | AZ25: =N25+O25+P25+Q25+R25+S25+T25+U25+V25+W25+X25+Y25+Z25+AA25 -> 3 | BA25: =AB25+AC25+AD25 -> 3 | BB25: =AK25 -> 4 | BC25: =AI25+AJ25 -> 4 | BD25: =AP25 -> 0 | BE25: =AN25+AO25 -> 0
B26: 19 | C26: ÈáõÍ³ñí³Í ¹³ï³ñ³ÝÝ»ñ | AS26: =D26 -> 0 | AT26: =E26+F26 -> 0 | AU26: =G26 -> 0 | AV26: =H26+I26+J26+K26+L26 -> 0 | AW26: =E26+M26 -> 0 | AX26: =AE26+AG26 -> 0 | AY26: =AE26 -> 0 | AZ26: =N26+O26+P26+Q26+R26+S26+T26+U26+V26+W26+X26+Y26+Z26+AA26 -> 0 | BA26: =AB26+AC26+AD26 -> 0 | BB26: =AK26 -> 0 | BC26: =AI26+AJ26 -> 0 | BD26: =AP26 -> 0 | BE26: =AN26+AO26 -> 0
A27: 0 | B27: 20 | C27: ÀÝ¹³Ù»ÝÁ | D27: =SUM(D10:D26) -> 0 | E27: =SUM(E10:E26) -> 0 | F27: =SUM(F10:F26) -> 0 | G27: =SUM(G10:G26) -> 154 | H27: =SUM(H10:H26) -> 154 | I27: =SUM(I10:I26) -> 0 | J27: =SUM(J10:J26) -> 0 | K27: =SUM(K10:K26) -> 0 | ... AQ27: =SUM(AQ10:AQ26) -> 14 | AS27: =D27 -> 0 | AT27: =E27+F27 -> 0 | AU27: =G27 -> 154 | AV27: =H27+I27+J27+K27+L27 -> 154 | AW27: =E27+M27 -> 126 | AX27: =AE27+AG27 -> 126 | AY27: =AE27 -> 55 | AZ27: =N27+O27+P27+Q27+R27+S27+T27+U27+V27+W27+X27+Y27+Z27+AA27 -> 55 | BA27: =AB27+AC27+AD27 -> 55 | BB27: =AK27 -> 126 | BC27: =AI27+AJ27 -> 126 | BD27: =AP27 -> 7 | BE27: =AN27+AO27 -> 7
A28: 0
A29: 0
A30: 0
A31: 1
A32: 0

Sheet 3
B1: 2017Ã. 1-ÇÝ ÏÇë³ÙÛ³Ï | D1: Ð²ÞìºîìàôÂÚàôÜ | AK1: Ð³í»Éí³Í Ð³Û³ëï³ÝÇ Ð³Ýñ³å»ïáõÃÛ³Ý ¸³ï³ñ³ÝÝ»ñÇ Ý³Ë³·³ÑÝ»ñÇ ËáñÑñ¹Ç 25.08.2017Ã. ÃÇí 35-È áñáßÙ³Ý
B2: ÐÐ ìºð²øÜÜÆâ øðº²Î²Ü ¸²î²ð²ÜՈՒՄ êî²òì²Ì ´àÔàøÜºðÆ øÜÜàôÂÚ²Ü ìºð²´ºðÚ²È
B3: ¸³ï³Ï³Ý Ï³½Ù` Մ. Պետրոսյան, Ս. Համբարձումյան, Կ. Ղազարյան
B4: ÐÐ í»ñ³ùÝÝÇã ùñ»³Ï³Ý ¹³ï³ñ³ÝáõÙ ¹³ï³íáñÝ»ñÇ Ñ³ëïÇùÝ»ñÇ ÃÇíÁ` 16
D5: Ð³ßí»ïáõ Å³Ù³Ý³Ï³Ñ³ïí³ÍÇ ëÏ½µáõÙ Ý³Ëáñ¹ Ñ³ßí»ïáõ Å³Ù³Ý³Ï³Ñ³ïí³ÍÇó ÷áË³Ýóí³Í ·áñÍ»ñÇ ÁÝ¹Ñ³Ýáõñ ÃÇíÁ | G5: Ð³ßí»ïáõ Å³Ù³Ý³Ï³Ñ³ïí³ÍáõÙ ëï³óí³Í µáÕáùÝ»ñÇ ÁÝ¹Ñ³Ýáõñ ÃÇíÁ | M5: ´áÕáù³ñÏí³Í ³Ïï»ñÇ ù³Ý³ÏÁ, áñáÝó ¹»Ù µ»ñí³Í µáÕáùÝ»ñÝ Ñ³ßí»ïáõ Å³Ù³Ý³Ï³ßñç³ÝáõÙ ÁÝ¹áõÝí»É »Ý í³ñáõÛÃ | N5: Ð³ßí»ïáõ Å³Ù³Ý³Ï³ßñç³ÝáõÙ ùÝÝí³Í ·áñÍ»ñáí Ï³Û³óí³Í áñáßáõÙÝ»ñ | AB5: Ð³ßí»ïáõ Å³Ù³Ý³Ï³Ñ³ïí³ÍáõÙ ³í³ñïí³Í ·áñÍ»ñÇ ÁÝ¹Ñ³Ýáõñ ÃÇíÁ | AF5: Ð³ßí»ïáõ Å³Ù³Ý³Ï³Ñ³ïí³ÍáõÙ Ï³ë»óí³Í í³ñáõÛÃÝ»ñáí ·áñÍ»ñÇ ÁÝ¹Ñ³Ýáõñ ÃÇíÁ | AG5: Ð³ßí»ïáõ Å³Ù³Ý³Ï³Ñ³ïí³ÍáõÙ ³Ý³í³ñï ·áñÍ»ñÇ ÁÝ¹Ñ³Ýáõñ ÃÇíÁ | AH5: ²Û¹ ÃíáõÙ` Ï³ë»óí³Í | AI5: ´áÕáù³ñÏí³Í ¹³ï³Ï³Ý ³Ïï»ñÇ ÃÇíÁ` Áëï ï»ë³ÏÝ»ñÇ | AN5: ´»Ï³Ýí³Í ¹³ï³Ï³Ý ³Ïï»ñÇ ÃÇíÁ` Áëï ï»ë³ÏÝ»ñÇ | AQ5: ´áÕáù³ñÏí»É »Ý í×é³µ»Ï ¹³ï³ñ³Ý
AI6: ²Û¹ ÃíáõÙ` ·áñÍÝ Áëï ¿áõÃÛ³Ý ÉáõÍáÕ ¹³ï³Ï³Ý ³Ïï»ñ | AJ6: ²Û¹ ÃíáõÙ` գործն ըստ էության չլուծող¹³ï³Ï³Ý ³Ïï»ñ | AK6: ÀÝ¹³Ù»ÝÁ | AN6: ²Û¹ ÃíáõÙ` ·áñÍÝ Áëï ¿áõÃÛ³Ý ÉáõÍáÕ ¹³ï³Ï³Ý ³Ïï»ñ | AO6: ²Û¹ ÃíáõÙ` գործն ըստ էության չլուծող¹³ï³Ï³Ý ³Ïï»ñ | AP6: ÀÝ¹³Ù»ÝÁ
D7: ÀÝ¹³Ù»ÝÁ | E7: Այդ թվում` վարույթ ընդունված µáÕáùÝ»ñáí փոխանցված | F7: Այդ թվում` չքննարկված µáÕáùÝ»ñáí փոխանցված | G7: ÀÝ¹³Ù»ÝÁ | H7: Այդ թվում` ընդունվել է վարույթ | I7: Այդ թվում` թողնվել է առանց քննության | J7: Այդ թվում` ÁÝ¹áõÝáõÙÁ մերժվել է | K7: Այդ թվում` í»ñ³ùÝÝÇã í³ñáõÛÃÁ Ï³ñ×í»É ¿ | L7: Այդ թվում` չի քննարկվել | N7: ¸³ï³Ï³Ý ³ÏïÁ ÃáÕÝí»É ¿ ûñÇÝ³Ï³Ý áõÅÇ Ù»ç | O7: ¸³ï³Ï³Ý ³ÏïÝ ³ÙµáÕçáõÃÛ³Ùµ µ»Ï³Ýí»É ¿ ¨ Ï³Û³óí»É ¿ ·áñÍÝ Áëï ¿áõÃÛ³Ý ÉáõÍáÕ ¹³ï³Ï³Ý ³Ïï | P7: ¸³ï³Ï³Ý ³ÏïÁ Ù³ëÝ³ÏÇáñ»Ý µ»Ï³Ýí»É ¿ ¨ µ»Ï³Ýí³Í Ù³ëáí Ï³Û³óí»É ¿ ·áñÍÝ Áëï ¿áõÃÛ³Ý ÉáõÍáÕ ¹³ï³Ï³Ý ³Ïï | Q7: ¸³ï³Ï³Ý ³ÏïÝ ³ÙµáÕçáõÃÛ³Ùµ µ»Ï³Ýí»É ¿ ¨ ·áñÍÝ áõÕ³ñÏí»É ¿ Ýáñ ùÝÝáõÃÛ³Ý | R7: ¹³ï³Ï³Ý ³ÏïÁ Ù³ëÝ³ÏÇáñ»Ý µ»Ï³Ýí»É ¿ ¨ ·áñÍÝ áõÕ³ñÏí»É ¿ Ýáñ ùÝÝáõÃÛ³Ý | S7: ø³Õ.Ñ³ÛóÇ Ù³ëáí ³ÙµáÕçáõÃÛ³Ùµ µ»Ï³Ýí»É ¿ ¹³ï³Ï³Ý ³ÏïÁ ¨ Ñ³ëï³ïí»É ¿ ÏáÕÙ»ñÇ Ñ³ßïáõÃÛ³Ý Ñ³Ù³Ó³ÛÝáõÃÛáõÝÁ | T7: ø³Õ.Ñ³ÛóÇ Ù³ëáí Ù³ëÝ³ÏÇáñ»Ý µ»Ï³Ýí»É ¿ ¹³ï³Ï³Ý ³ÏïÁ ¨ µ»Ï³Ýí³Í Ù³ëáí Ñ³ëï³ïí»É ¿ ÏáÕÙ»ñÇ Ñ³ßïáõÃÛ³Ý Ñ³Ù³Ó³ÛÝáõÃÛáõÝÁ | U7: ²ÙµáÕçáõÃÛ³Ùµ µ»Ï³Ýí»É ¿ ¹³ï³Ï³Ý ³ÏïÁ ¨ ·áñÍÇ í³ñáõÛÃÁ Ï³ñ×í»É ¿ | V7: Ø³ëÝ³ÏÇáñ»Ý µ»Ï³Ýí»É ¿ ¹³ï³Ï³Ý ³ÏïÁ ¨ ³Û¹ Ù³ëáí ·áñÍÇ í³ñáõÛÃÁ Ï³ñ×í»É ¿ | W7: ¸³ï³Ï³Ý ³ÏïÝ ³ÙµáÕçáõÃÛ³Ùµ µ»Ï³Ýí»É ¨ ÷á÷áËí»É ¿ | X7: ¸³ï³Ï³Ý ³ÏïÁ Ù³ëÝ³ÏÇáñ»Ý µ»Ï³Ýí»É ¿ ¨ ³Û¹ Ù³ëáí ÷á÷áËí»É | Y7: Դ³ï³Ï³Ý ³ÏïÁ µ»Ï³Ýí»É ¿ ¨ ù³Õ. Ñ³ÛóÁ ÃáÕÝí»É ¿ ³é³Ýó ùÝÝáõÃÛ³Ý | Z7: Գործն ըստ էության չլուծող դատական ակտը թողնվել է օրինական ուժի մեջ | AA7: Կայացվել է գործն ըստ էության չլուծող նոր դատական ակտ | AB7: ²Û¹ ÃíáõÙ` ·áñÍÝ Áëï ¿áõÃÛ³Ý ÉáõÍ»Éáõ ÑÇÙùáí ³í³ñïí³Í | AC7: ²Û¹ ÃíáõÙ` ·áñÍÇ í³ñáõÛÃÁ Ï³ñ×»Éáõ ÑÇÙùáí ³í³ñïí³Í | AD7: ²Û¹ ÃíáõÙ` ³ÛÉ ÑÇÙùáí ³í³ñïí³Í | AE7: ÀÝ¹³Ù»ÝÁ
C9: ¸²î²ð²ÜÜºð | D9: 1 | E9: 2 | F9: 3 | G9: 4 | H9: 5 | I9: 6 | J9: 7 | K9: 8 | L9: 9 | M9: 10 | N9: 11 | O9: 12 | P9: 13 | Q9: 14 | R9: 15 | S9: 16 | T9: 17 | U9: 18 | V9: 19 | W9: 20 | X9: 21 | Y9: 22 | Z9: 23 | AA9: 24 | AB9: 25 | AC9: 26 | AD9: 27 | AE9: 28 | AF9: 29 | AG9: 30 | AH9: 31 | AI9: 32 | AJ9: 33 | AK9: 34 | AL9: 35 | AM9: 36 | AN9: 35 | AO9: 36 | AP9: 37 | AQ9: 38 | AS9: 1=2+3 | AU9: 4=5+6+7+8+9 | AW9: 2+10=28+30 | AY9: 28 | BB9: 34=32+33 | BD9: 37=35+36
A10: 1 | B10: 1 | C10: ºñ¨³Ý ù³Õ³ùÇ Î»ÝïñáÝ ¨ Üáñù-Ø³ñ³ß í³ñã³Ï³Ý ßñç³ÝÝ»ñÇ ÁÝ¹Ñ³Ýáõñ Çñ³í³ëáõÃÛ³Ý ³é³çÇÝ ³ïÛ³ÝÇ ¹³ï³ñ³Ý | G10: 34 | H10: 34 | M10: 24 | N10: 6 | U10: 2 | X10: 3 | AB10: 9 | AC10: 2 | AE10: 11 | AG10: 13 | AI10: 24 | AK10: 24 | AN10: 5 | AP10: 5 | AQ10: 1 | AS10: =D10 -> 0 | AT10: =E10+F10 -> 0 | AU10: =G10 -> 34 | AV10: =H10+I10+J10+K10+L10 -> 34 | AW10: =E10+M10 -> 24 | AX10: =AE10+AG10 -> 24 | AY10: =AE10 -> 11 | AZ10: =N10+O10+P10+Q10+R10+S10+T10+U10+V10+W10+X10+Y10+Z10+AA10 -> 11 | BA10: =AB10+AC10+AD10 -> 11 | BB10: =AK10 -> 24 | BC10: =AI10+AJ10 -> 24 | BD10: =AP10 -> 5 | BE10: =AN10+AO10 -> 5
A11: 0 | B11: 2 | C11: ºñ¨³Ý ù³Õ³ùÇ ²ñ³µÏÇñ ¨ ø³Ý³ù»é-¼»ÛÃáõÝ í³ñã³Ï³Ý ßñç³ÝÝ»ñÇ ÁÝ¹Ñ³Ýáõñ Çñ³í³ëáõÃÛ³Ý ¹³ï³ñ³Ý | G11: 11 | H11: 11 | M11: 9 | N11: 5 | AB11: 5 | AE11: 5 | AG11: 4 | AI11: 9 | AK11: 9 | AQ11: 1 | AS11: =D11 -> 0 | AT11: =E11+F11 -> 0 | AU11: =G11 -> 11 | AV11: =H11+I11+J11+K11+L11 -> 11 | AW11: =E11+M11 -> 9 | AX11: =AE11+AG11 -> 9 | AY11: =AE11 -> 5 | AZ11: =N11+O11+P11+Q11+R11+S11+T11+U11+V11+W11+X11+Y11+Z11+AA11 -> 5 | BA11: =AB11+AC11+AD11 -> 5 | BB11: =AK11 -> 9 | BC11: =AI11+AJ11 -> 9 | BD11: =AP11 -> 0 | BE11: =AN11+AO11 -> 0
A12: 0 | B12: 3 | C12: ºñ¨³Ý ù³Õ³ùÇ Þ»Ý·³íÇÃ í³ñã³Ï³Ý ßñç³ÝÇ ÁÝ¹Ñ³Ýáõñ Çñ³í³ëáõÃÛ³Ý ³é³çÇÝ ³ïÛ³ÝÇ ¹³ï³ñ³Ý | G12: 17 | H12: 17 | M12: 11 | N12: 5 | X12: 1 | AB12: 6 | AE12: 6 | AG12: 5 | AI12: 11 | AK12: 11 | AN12: 1 | AP12: 1 | AS12: =D12 -> 0 | AT12: =E12+F12 -> 0 | AU12: =G12 -> 17 | AV12: =H12+I12+J12+K12+L12 -> 17 | AW12: =E12+M12 -> 11 | AX12: =AE12+AG12 -> 11 | AY12: =AE12 -> 6 | AZ12: =N12+O12+P12+Q12+R12+S12+T12+U12+V12+W12+X12+Y12+Z12+AA12 -> 6 | BA12: =AB12+AC12+AD12 -> 6 | BB12: =AK12 -> 11 | BC12: =AI12+AJ12 -> 11 | BD12: =AP12 -> 1 | BE12: =AN12+AO12 -> 1
A13: 0 | B13: 4 | C13: ºñ¨³Ý ù³Õ³ùÇ ²ç³÷ÝÛ³Ï ¨ ¸³íÃ³ß»Ý í³ñã³Ï³Ý ßñç³ÝÝ»ñÇ ÁÝ¹Ñ³Ýáõñ Çñ³í³ëáõÃÛ³Ý ³é³çÇÝ ³ïÛ³ÝÇ ¹³ï³ñ³Ý | G13: 15 | H13: 15 | M13: 10 | N13: 4 | X13: 2 | AB13: 6 | AE13: 6 | AG13: 4 | AI13: 10 | AK13: 10 | AN13: 2 | AP13: 2 | AQ13: 3 | AS13: =D13 -> 0 | AT13: =E13+F13 -> 0 | AU13: =G13 -> 15 | AV13: =H13+I13+J13+K13+L13 -> 15 | AW13: =E13+M13 -> 10 | AX13: =AE13+AG13 -> 10 | AY13: =AE13 -> 6 | AZ13: =N13+O13+P13+Q13+R13+S13+T13+U13+V13+W13+X13+Y13+Z13+AA13 -> 6 | BA13: =AB13+AC13+AD13 -> 6 | BB13: =AK13 -> 10 | BC13: =AI13+AJ13 -> 10 | BD13: =AP13 -> 2 | BE13: =AN13+AO13 -> 2
A14: 0 | B14: 5 | C14: ºñ¨³Ý ù³Õ³ùÇ ²í³Ý ¨ Üáñ-Üáñù í³ñã³Ï³Ý ßñç³ÝÝ»ñÇ ÁÝ¹Ñ³Ýáõñ Çñ³í³ëáõÃÛ³Ý ³é³çÇÝ ³ïÛ³ÝÇ ¹³ï³ñ³Ý | G14: 7 | H14: 7 | M14: 7 | N14: 4 | AB14: 4 | AE14: 4 | AG14: 3 | AI14: 7 | AK14: 7 | AQ14: 2 | AS14: =D14 -> 0 | AT14: =E14+F14 -> 0 | AU14: =G14 -> 7 | AV14: =H14+I14+J14+K14+L14 -> 7 | AW14: =E14+M14 -> 7 | AX14: =AE14+AG14 -> 7 | AY14: =AE14 -> 4 | AZ14: =N14+O14+P14+Q14+R14+S14+T14+U14+V14+W14+X14+Y14+Z14+AA14 -> 4 | BA14: =AB14+AC14+AD14 -> 4 | BB14: =AK14 -> 7 | BC14: =AI14+AJ14 -> 7 | BD14: =AP14 -> 0 | BE14: =AN14+AO14 -> 0
A15: 0 | B15: 6 | C15: ºñ¨³Ý ù³Õ³ùÇ ¾ñ»µáõÝÇ-Üáõµ³ñ³ß»Ý í³ñã³Ï³Ý ßñç³ÝÝ»ñÇ ÁÝ¹Ñ³Ýáõñ Çñ³í³ëáõÃÛ³Ý ³é³çÇÝ ³ïÛ³ÝÇ ¹³ï³ñ³Ý | G15: 7 | H15: 7 | M15: 6 | N15: 1 | X15: 2 | AB15: 3 | AE15: 3 | AG15: 3 | AI15: 6 | AK15: 6 | AN15: 2 | AP15: 2 | AQ15: 3 | AS15: =D15 -> 0 | AT15: =E15+F15 -> 0 | AU15: =G15 -> 7 | AV15: =H15+I15+J15+K15+L15 -> 7 | AW15: =E15+M15 -> 6 | AX15: =AE15+AG15 -> 6 | AY15: =AE15 -> 3 | AZ15: =N15+O15+P15+Q15+R15+S15+T15+U15+V15+W15+X15+Y15+Z15+AA15 -> 3 | BA15: =AB15+AC15+AD15 -> 3 | BB15: =AK15 -> 6 | BC15: =AI15+AJ15 -> 6 | BD15: =AP15 -> 2 | BE15: =AN15+AO15 -> 2
A16: 0 | B16: 7 | C16: ºñ¨³Ý ù³Õ³ùÇ Ø³É³ÃÇ³-ê»µ³ëïÇ³ í³ñã³Ï³Ý ßñç³ÝÇ ÁÝ¹Ñ³Ýáõñ Çñ³í³ëáõÃÛ³ÝÇ ³é³çÇÝ ³ïÛ³ÝÇ ¹³ï³ñ³Ý | G16: 2 | H16: 2 | M16: 2 | N16: 1 | AB16: 1 | AE16: 1 | AG16: 1 | AI16: 2 | AK16: 2 | AS16: =D16 -> 0 | AT16: =E16+F16 -> 0 | AU16: =G16 -> 2 | AV16: =H16+I16+J16+K16+L16 -> 2 | AW16: =E16+M16 -> 2 | AX16: =AE16+AG16 -> 2 | AY16: =AE16 -> 1 | AZ16: =N16+O16+P16+Q16+R16+S16+T16+U16+V16+W16+X16+Y16+Z16+AA16 -> 1 | BA16: =AB16+AC16+AD16 -> 1 | BB16: =AK16 -> 2 | BC16: =AI16+AJ16 -> 2 | BD16: =AP16 -> 0 | BE16: =AN16+AO16 -> 0
A17: 0 | B17: 8 | C17: ÐÐ Èáéáõ Ù³ñ½Ç ÁÝ¹Ñ³Ýáõñ Çñ³í³ëáõÃÛ³Ý ³é³çÇÝ ³ïÛ³ÝÇ ¹³ï³ñ³Ý | G17: 8 | H17: 8 | M17: 8 | X17: 2 | AB17: 2 | AE17: 2 | AG17: 6 | AI17: 8 | AK17: 8 | AN17: 2 | AP17: 2 | AS17: =D17 -> 0 | AT17: =E17+F17 -> 0 | AU17: =G17 -> 8 | AV17: =H17+I17+J17+K17+L17 -> 8 | AW17: =E17+M17 -> 8 | AX17: =AE17+AG17 -> 8 | AY17: =AE17 -> 2 | AZ17: =N17+O17+P17+Q17+R17+S17+T17+U17+V17+W17+X17+Y17+Z17+AA17 -> 2 | BA17: =AB17+AC17+AD17 -> 2 | BB17: =AK17 -> 8 | BC17: =AI17+AJ17 -> 8 | BD17: =AP17 -> 2 | BE17: =AN17+AO17 -> 2
A18: 0 | B18: 9 | C18: ÐÐ ÞÇñ³ÏÇ Ù³ñ½Ç ÁÝ¹Ñ³Ýáõñ Çñ³í³ëáõÃÛ³Ý ³é³çÇÝ ³ïÛ³ÝÇ¹³ï³ñ³Ý | G18: 5 | H18: 5 | M18: 5 | N18: 3 | U18: 1 | AB18: 3 | AC18: 1 | AE18: 4 | AG18: 1 | AI18: 5 | AK18: 5 | AN18: 1 | AP18: 1 | AQ18: 2 | AS18: =D18 -> 0 | AT18: =E18+F18 -> 0 | AU18: =G18 -> 5 | AV18: =H18+I18+J18+K18+L18 -> 5 | AW18: =E18+M18 -> 5 | AX18: =AE18+AG18 -> 5 | AY18: =AE18 -> 4 | AZ18: =N18+O18+P18+Q18+R18+S18+T18+U18+V18+W18+X18+Y18+Z18+AA18 -> 4 | BA18: =AB18+AC18+AD18 -> 4 | BB18: =AK18 -> 5 | BC18: =AI18+AJ18 -> 5 | BD18: =AP18 -> 1 | BE18: =AN18+AO18 -> 1
A19: 0 | B19: 10 | C19: ÐÐ ²ñÙ³íÇñÇ Ù³ñ½Ç ÁÝ¹Ñ³Ýáõñ Çñ³í³ëáõÃÛ³Ý ³é³çÇÝ ³ïÛ³ÝÇ ¹³ï³ñ³Ý | G19: 12 | H19: 12 | M19: 11 | N19: 3 | W19: 2 | AB19: 5 | AE19: 5 | AG19: 6 | AI19: 11 | AK19: 11 | AN19: 2 | AP19: 2 | AQ19: 1 | AS19: =D19 -> 0 | AT19: =E19+F19 -> 0 | AU19: =G19 -> 12 | AV19: =H19+I19+J19+K19+L19 -> 12 | AW19: =E19+M19 -> 11 | AX19: =AE19+AG19 -> 11 | AY19: =AE19 -> 5 | AZ19: =N19+O19+P19+Q19+R19+S19+T19+U19+V19+W19+X19+Y19+Z19+AA19 -> 5 | BA19: =AB19+AC19+AD19 -> 5 | BB19: =AK19 -> 11 | BC19: =AI19+AJ19 -> 11 | BD19: =AP19 -> 2 | BE19: =AN19+AO19 -> 2
A20: 0 | B20: 11 | C20: ÐÐ Îáï³ÛùÇ Ù³ñ½Ç ÁÝ¹Ñ³Ýáõñ Çñ³í³ëáõÃÛ³Ý ³é³çÇÝ ³ïÛ³ÝÇ ¹³ï³ñ³Ý | G20: 6 | H20: 6 | M20: 6 | N20: 2 | X20: 1 | AB20: 3 | AE20: 3 | AG20: 3 | AI20: 6 | AK20: 6 | AN20: 1 | AP20: 1 | AS20: =D20 -> 0 | AT20: =E20+F20 -> 0 | AU20: =G20 -> 6 | AV20: =H20+I20+J20+K20+L20 -> 6 | AW20: =E20+M20 -> 6 | AX20: =AE20+AG20 -> 6 | AY20: =AE20 -> 3 | AZ20: =N20+O20+P20+Q20+R20+S20+T20+U20+V20+W20+X20+Y20+Z20+AA20 -> 3 | BA20: =AB20+AC20+AD20 -> 3 | BB20: =AK20 -> 6 | BC20: =AI20+AJ20 -> 6 | BD20: =AP20 -> 1 | BE20: =AN20+AO20 -> 1
A21: 0 | B21: 12 | C21: ÐÐ ²ñ³ñ³ïÇ ¨ ì³Ûáó ÒáñÇ Ù³ñ½»ñÇ ÁÝ¹Ñ³Ýáõñ Çñ³í³ëáõÃÛ³Ý ³é³çÇÝ ³ïÛ³ÝÇ ¹³ï³ñ³Ý | G21: 20 | H21: 20 | M21: 15 | N21: 10 | W21: 1 | X21: 2 | AB21: 13 | AE21: 13 | AG21: 2 | AI21: 15 | AK21: 15 | AN21: 3 | AP21: 3 | AQ21: 7 | AS21: =D21 -> 0 | AT21: =E21+F21 -> 0 | AU21: =G21 -> 20 | AV21: =H21+I21+J21+K21+L21 -> 20 | AW21: =E21+M21 -> 15 | AX21: =AE21+AG21 -> 15 | AY21: =AE21 -> 13 | AZ21: =N21+O21+P21+Q21+R21+S21+T21+U21+V21+W21+X21+Y21+Z21+AA21 -> 13 | BA21: =AB21+AC21+AD21 -> 13 | BB21: =AK21 -> 15 | BC21: =AI21+AJ21 -> 15 | BD21: =AP21 -> 3 | BE21: =AN21+AO21 -> 3
A22: 0 | B22: 13 | C22: ÐÐ ¶»Õ³ñùáõÝÇùÇ Ù³ñ½Ç ÁÝ¹Ñ³Ýáõñ Çñ³í³ëáõÃÛ³Ý ³é³çÇÝ ³ïÛ³ÝÇ ¹³ï³ñ³Ý | G22: 11 | H22: 11 | M22: 5 | R22: 1 | X22: 3 | AB22: 4 | AE22: 4 | AG22: 1 | AI22: 5 | AK22: 5 | AN22: 4 | AP22: 4 | AS22: =D22 -> 0 | AT22: =E22+F22 -> 0 | AU22: =G22 -> 11 | AV22: =H22+I22+J22+K22+L22 -> 11 | AW22: =E22+M22 -> 5 | AX22: =AE22+AG22 -> 5 | AY22: =AE22 -> 4 | AZ22: =N22+O22+P22+Q22+R22+S22+T22+U22+V22+W22+X22+Y22+Z22+AA22 -> 4 | BA22: =AB22+AC22+AD22 -> 4 | BB22: =AK22 -> 5 | BC22: =AI22+AJ22 -> 5 | BD22: =AP22 -> 4 | BE22: =AN22+AO22 -> 4
A23: 0 | B23: 14 | C23: ÐÐ ²ñ³·³ÍáïÝÇ Ù³ñ½Ç ÁÝ¹Ñ³Ýáõñ Çñ³í³ëáõÃÛ³Ý ³é³çÇÝ ³ïÛ³ÝÇ ¹³ï³ñ³Ý | G23: 3 | H23: 3 | M23: 3 | N23: 3 | AB23: 3 | AE23: 3 | AI23: 3 | AK23: 3 | AQ23: 1 | AS23: =D23 -> 0 | AT23: =E23+F23 -> 0 | AU23: =G23 -> 3 | AV23: =H23+I23+J23+K23+L23 -> 3 | AW23: =E23+M23 -> 3 | AX23: =AE23+AG23 -> 3 | AY23: =AE23 -> 3 | AZ23: =N23+O23+P23+Q23+R23+S23+T23+U23+V23+W23+X23+Y23+Z23+AA23 -> 3 | BA23: =AB23+AC23+AD23 -> 3 | BB23: =AK23 -> 3 | BC23: =AI23+AJ23 -> 3 | BD23: =AP23 -> 0 | BE23: =AN23+AO23 -> 0
A24: 0 | B24: 15 | C24: ÐÐ êÛáõÝÇùÇ Ù³ñ½Ç ÁÝ¹Ñ³Ýáõñ Çñ³í³ëáõÃÛ³Ý ³é³çÇÝ ³ïÛ³ÝÇ ¹³ï³ñ³Ý | G24: 22 | H24: 22 | M24: 13 | N24: 6 | X24: 2 | AB24: 8 | AE24: 8 | AG24: 5 | AI24: 13 | AK24: 13 | AN24: 2 | AP24: 2 | AQ24: 1 | AS24: =D24 -> 0 | AT24: =E24+F24 -> 0 | AU24: =G24 -> 22 | AV24: =H24+I24+J24+K24+L24 -> 22 | AW24: =E24+M24 -> 13 | AX24: =AE24+AG24 -> 13 | AY24: =AE24 -> 8 | AZ24: =N24+O24+P24+Q24+R24+S24+T24+U24+V24+W24+X24+Y24+Z24+AA24 -> 8 | BA24: =AB24+AC24+AD24 -> 8 | BB24: =AK24 -> 13 | BC24: =AI24+AJ24 -> 13 | BD24: =AP24 -> 2 | BE24: =AN24+AO24 -> 2
A25: 0 | B25: 16 | C25: ÐÐ î³íáõßÇ Ù³ñ½Ç ÁÝ¹Ñ³Ýáõñ Çñ³í³ëáõÃÛ³Ý ³é³çÇÝ ³ïÛ³ÝÇ ¹³ï³ñ³Ý | G25: 5 | H25: 5 | M25: 5 | N25: 2 | AB25: 2 | AE25: 2 | AG25: 3 | AI25: 5 | AK25: 5 | AS25: =D25 -> 0 | AT25: =E25+F25 -> 0 | AU25: =G25 -> 5 | AV25: =H25+I25+J25+K25+L25 -> 5 | AW25: =E25+M25 -> 5 | AX25: =AE25+AG25 -> 5 | AY25: =AE25 -> 2 | AZ25: =N25+O25+P25+Q25+R25+S25+T25+U25+V25+W25+X25+Y25+Z25+AA25 -> 2 | BA25: =AB25+AC25+AD25 -> 2 | BB25: =AK25 -> 5 | BC25: =AI25+AJ25 -> 5 | BD25: =AP25 -> 0 | BE25: =AN25+AO25 -> 0
B26: 19 | C26: ÈáõÍ³ñí³Í ¹³ï³ñ³ÝÝ»ñ | AS26: =D26 -> 0 | AT26: =E26+F26 -> 0 | AU26: =G26 -> 0 | AV26: =H26+I26+J26+K26+L26 -> 0 | AW26: =E26+M26 -> 0 | AX26: =AE26+AG26 -> 0 | AY26: =AE26 -> 0 | AZ26: =N26+O26+P26+Q26+R26+S26+T26+U26+V26+W26+X26+Y26+Z26+AA26 -> 0 | BA26: =AB26+AC26+AD26 -> 0 | BB26: =AK26 -> 0 | BC26: =AI26+AJ26 -> 0 | BD26: =AP26 -> 0 | BE26: =AN26+AO26 -> 0
A27: 0 | B27: 20 | C27: ÀÝ¹³Ù»ÝÁ | D27: =SUM(D10:D26) -> 0 | E27: =SUM(E10:E26) -> 0 | F27: =SUM(F10:F26) -> 0 | G27: =SUM(G10:G26) -> 185 | H27: =SUM(H10:H26) -> 185 | I27: =SUM(I10:I26) -> 0 | J27: =SUM(J10:J26) -> 0 | K27: =SUM(K10:K26) -> 0 | ... AQ27: =SUM(AQ10:AQ26) -> 22 | AS27: =D27 -> 0 | AT27: =E27+F27 -> 0 | AU27: =G27 -> 185 | AV27: =H27+I27+J27+K27+L27 -> 185 | AW27: =E27+M27 -> 140 | AX27: =AE27+AG27 -> 140 | AY27: =AE27 -> 80 | AZ27: =N27+O27+P27+Q27+R27+S27+T27+U27+V27+W27+X27+Y27+Z27+AA27 -> 80 | BA27: =AB27+AC27+AD27 -> 80 | BB27: =AK27 -> 140 | BC27: =AI27+AJ27 -> 140 | BD27: =AP27 -> 25 | BE27: =AN27+AO27 -> 25
A28: 0
A29: 0
A30: 0
A31: 1
A32: 0

Sheet 4
B1: 2017Ã. 1-ÇÝ ÏÇë³ÙÛ³Ï | D1: Ð²ÞìºîìàôÂÚàôÜ | AK1: Ð³í»Éí³Í Ð³Û³ëï³ÝÇ Ð³Ýñ³å»ïáõÃÛ³Ý ¸³ï³ñ³ÝÝ»ñÇ Ý³Ë³·³ÑÝ»ñÇ ËáñÑñ¹Ç 25.08.2017Ã. ÃÇí 35-È áñáßÙ³Ý
B2: ÐÐ ìºð²øÜÜÆâ øðº²Î²Ü ¸²î²ð²ÜՈՒՄ êî²òì²Ì ´àÔàøÜºðÆ øÜÜàôÂÚ²Ü ìºð²´ºðÚ²È
B3: ¸³ï³Ï³Ý Ï³½Ù` Մ. Պապոյան, Ա. Դանիելյան, Ռ. Բարսեղյան
B4: ÐÐ í»ñ³ùÝÝÇã ùñ»³Ï³Ý ¹³ï³ñ³ÝáõÙ ¹³ï³íáñÝ»ñÇ Ñ³ëïÇùÝ»ñÇ ÃÇíÁ` 16
D5: Ð³ßí»ïáõ Å³Ù³Ý³Ï³Ñ³ïí³ÍÇ ëÏ½µáõÙ Ý³Ëáñ¹ Ñ³ßí»ïáõ Å³Ù³Ý³Ï³Ñ³ïí³ÍÇó ÷áË³Ýóí³Í ·áñÍ»ñÇ ÁÝ¹Ñ³Ýáõñ ÃÇíÁ | G5: Ð³ßí»ïáõ Å³Ù³Ý³Ï³Ñ³ïí³ÍáõÙ ëï³óí³Í µáÕáùÝ»ñÇ ÁÝ¹Ñ³Ýáõñ ÃÇíÁ | M5: ´áÕáù³ñÏí³Í ³Ïï»ñÇ ù³Ý³ÏÁ, áñáÝó ¹»Ù µ»ñí³Í µáÕáùÝ»ñÝ Ñ³ßí»ïáõ Å³Ù³Ý³Ï³ßñç³ÝáõÙ ÁÝ¹áõÝí»É »Ý í³ñáõÛÃ | N5: Ð³ßí»ïáõ Å³Ù³Ý³Ï³ßñç³ÝáõÙ ùÝÝí³Í ·áñÍ»ñáí Ï³Û³óí³Í áñáßáõÙÝ»ñ | AB5: Ð³ßí»ïáõ Å³Ù³Ý³Ï³Ñ³ïí³ÍáõÙ ³í³ñïí³Í ·áñÍ»ñÇ ÁÝ¹Ñ³Ýáõñ ÃÇíÁ | AF5: Ð³ßí»ïáõ Å³Ù³Ý³Ï³Ñ³ïí³ÍáõÙ Ï³ë»óí³Í í³ñáõÛÃÝ»ñáí ·áñÍ»ñÇ ÁÝ¹Ñ³Ýáõñ ÃÇíÁ | AG5: Ð³ßí»ïáõ Å³Ù³Ý³Ï³Ñ³ïí³ÍáõÙ ³Ý³í³ñï ·áñÍ»ñÇ ÁÝ¹Ñ³Ýáõñ ÃÇíÁ | AH5: ²Û¹ ÃíáõÙ` Ï³ë»óí³Í | AI5: ´áÕáù³ñÏí³Í ¹³ï³Ï³Ý ³Ïï»ñÇ ÃÇíÁ` Áëï ï»ë³ÏÝ»ñÇ | AN5: ´»Ï³Ýí³Í ¹³ï³Ï³Ý ³Ïï»ñÇ ÃÇíÁ` Áëï ï»ë³ÏÝ»ñÇ | AQ5: ´áÕáù³ñÏí»É »Ý í×é³µ»Ï ¹³ï³ñ³Ý
AI6: ²Û¹ ÃíáõÙ` ·áñÍÝ Áëï ¿áõÃÛ³Ý ÉáõÍáÕ ¹³ï³Ï³Ý ³Ïï»ñ | AJ6: ²Û¹ ÃíáõÙ` գործն ըստ էության չլուծող¹³ï³Ï³Ý ³Ïï»ñ | AK6: ÀÝ¹³Ù»ÝÁ | AN6: ²Û¹ ÃíáõÙ` ·áñÍÝ Áëï ¿áõÃÛ³Ý ÉáõÍáÕ ¹³ï³Ï³Ý ³Ïï»ñ | AO6: ²Û¹ ÃíáõÙ` գործն ըստ էության չլուծող¹³ï³Ï³Ý ³Ïï»ñ | AP6: ÀÝ¹³Ù»ÝÁ
D7: ÀÝ¹³Ù»ÝÁ | E7: Այդ թվում` վարույթ ընդունված µáÕáùÝ»ñáí փոխանցված | F7: Այդ թվում` չքննարկված µáÕáùÝ»ñáí փոխանցված | G7: ÀÝ¹³Ù»ÝÁ | H7: Այդ թվում` ընդունվել է վարույթ | I7: Այդ թվում` թողնվել է առանց քննության | J7: Այդ թվում` ÁÝ¹áõÝáõÙÁ մերժվել է | K7: Այդ թվում` í»ñ³ùÝÝÇã í³ñáõÛÃÁ Ï³ñ×í»É ¿ | L7: Այդ թվում` չի քննարկվել | N7: ¸³ï³Ï³Ý ³ÏïÁ ÃáÕÝí»É ¿ ûñÇÝ³Ï³Ý áõÅÇ Ù»ç | O7: ¸³ï³Ï³Ý ³ÏïÝ ³ÙµáÕçáõÃÛ³Ùµ µ»Ï³Ýí»É ¿ ¨ Ï³Û³óí»É ¿ ·áñÍÝ Áëï ¿áõÃÛ³Ý ÉáõÍáÕ ¹³ï³Ï³Ý ³Ïï | P7: ¸³ï³Ï³Ý ³ÏïÁ Ù³ëÝ³ÏÇáñ»Ý µ»Ï³Ýí»É ¿ ¨ µ»Ï³Ýí³Í Ù³ëáí Ï³Û³óí»É ¿ ·áñÍÝ Áëï ¿áõÃÛ³Ý ÉáõÍáÕ ¹³ï³Ï³Ý ³Ïï | Q7: ¸³ï³Ï³Ý ³ÏïÝ ³ÙµáÕçáõÃÛ³Ùµ µ»Ï³Ýí»É ¿ ¨ ·áñÍÝ áõÕ³ñÏí»É ¿ Ýáñ ùÝÝáõÃÛ³Ý | R7: ¹³ï³Ï³Ý ³ÏïÁ Ù³ëÝ³ÏÇáñ»Ý µ»Ï³Ýí»É ¿ ¨ ·áñÍÝ áõÕ³ñÏí»É ¿ Ýáñ ùÝÝáõÃÛ³Ý | S7: ø³Õ.Ñ³ÛóÇ Ù³ëáí ³ÙµáÕçáõÃÛ³Ùµ µ»Ï³Ýí»É ¿ ¹³ï³Ï³Ý ³ÏïÁ ¨ Ñ³ëï³ïí»É ¿ ÏáÕÙ»ñÇ Ñ³ßïáõÃÛ³Ý Ñ³Ù³Ó³ÛÝáõÃÛáõÝÁ | T7: ø³Õ.Ñ³ÛóÇ Ù³ëáí Ù³ëÝ³ÏÇáñ»Ý µ»Ï³Ýí»É ¿ ¹³ï³Ï³Ý ³ÏïÁ ¨ µ»Ï³Ýí³Í Ù³ëáí Ñ³ëï³ïí»É ¿ ÏáÕÙ»ñÇ Ñ³ßïáõÃÛ³Ý Ñ³Ù³Ó³ÛÝáõÃÛáõÝÁ | U7: ²ÙµáÕçáõÃÛ³Ùµ µ»Ï³Ýí»É ¿ ¹³ï³Ï³Ý ³ÏïÁ ¨ ·áñÍÇ í³ñáõÛÃÁ Ï³ñ×í»É ¿ | V7: Ø³ëÝ³ÏÇáñ»Ý µ»Ï³Ýí»É ¿ ¹³ï³Ï³Ý ³ÏïÁ ¨ ³Û¹ Ù³ëáí ·áñÍÇ í³ñáõÛÃÁ Ï³ñ×í»É ¿ | W7: ¸³ï³Ï³Ý ³ÏïÝ ³ÙµáÕçáõÃÛ³Ùµ µ»Ï³Ýí»É ¨ ÷á÷áËí»É ¿ | X7: ¸³ï³Ï³Ý ³ÏïÁ Ù³ëÝ³ÏÇáñ»Ý µ»Ï³Ýí»É ¿ ¨ ³Û¹ Ù³ëáí ÷á÷áËí»É | Y7: Դ³ï³Ï³Ý ³ÏïÁ µ»Ï³Ýí»É ¿ ¨ ù³Õ. Ñ³ÛóÁ ÃáÕÝí»É ¿ ³é³Ýó ùÝÝáõÃÛ³Ý | Z7: Գործն ըստ էության չլուծող դատական ակտը թողնվել է օրինական ուժի մեջ | AA7: Կայացվել է գործն ըստ էության չլուծող նոր դատական ակտ | AB7: ²Û¹ ÃíáõÙ` ·áñÍÝ Áëï ¿áõÃÛ³Ý ÉáõÍ»Éáõ ÑÇÙùáí ³í³ñïí³Í | AC7: ²Û¹ ÃíáõÙ` ·áñÍÇ í³ñáõÛÃÁ Ï³ñ×»Éáõ ÑÇÙùáí ³í³ñïí³Í | AD7: ²Û¹ ÃíáõÙ` ³ÛÉ ÑÇÙùáí ³í³ñïí³Í | AE7: ÀÝ¹³Ù»ÝÁ
C9: ¸²î²ð²ÜÜºð | D9: 1 | E9: 2 | F9: 3 | G9: 4 | H9: 5 | I9: 6 | J9: 7 | K9: 8 | L9: 9 | M9: 10 | N9: 11 | O9: 12 | P9: 13 | Q9: 14 | R9: 15 | S9: 16 | T9: 17 | U9: 18 | V9: 19 | W9: 20 | X9: 21 | Y9: 22 | Z9: 23 | AA9: 24 | AB9: 25 | AC9: 26 | AD9: 27 | AE9: 28 | AF9: 29 | AG9: 30 | AH9: 31 | AI9: 32 | AJ9: 33 | AK9: 34 | AL9: 35 | AM9: 36 | AN9: 35 | AO9: 36 | AP9: 37 | AQ9: 38 | AS9: 1=2+3 | AU9: 4=5+6+7+8+9 | AW9: 2+10=28+30 | AY9: 28 | BB9: 34=32+33 | BD9: 37=35+36
A10: 1 | B10: 1 | C10: ºñ¨³Ý ù³Õ³ùÇ Î»ÝïñáÝ ¨ Üáñù-Ø³ñ³ß í³ñã³Ï³Ý ßñç³ÝÝ»ñÇ ÁÝ¹Ñ³Ýáõñ Çñ³í³ëáõÃÛ³Ý ³é³çÇÝ ³ïÛ³ÝÇ ¹³ï³ñ³Ý | G10: 11 | H10: 11 | M10: 10 | N10: 3 | W10: 1 | X10: 1 | AB10: 5 | AE10: 5 | AG10: 5 | AI10: 10 | AK10: 10 | AN10: 2 | AP10: 2 | AQ10: 1 | AS10: =D10 -> 0 | AT10: =E10+F10 -> 0 | AU10: =G10 -> 11 | AV10: =H10+I10+J10+K10+L10 -> 11 | AW10: =E10+M10 -> 10 | AX10: =AE10+AG10 -> 10 | AY10: =AE10 -> 5 | AZ10: =N10+O10+P10+Q10+R10+S10+T10+U10+V10+W10+X10+Y10+Z10+AA10 -> 5 | BA10: =AB10+AC10+AD10 -> 5 | BB10: =AK10 -> 10 | BC10: =AI10+AJ10 -> 10 | BD10: =AP10 -> 2 | BE10: =AN10+AO10 -> 2
A11: 0 | B11: 2 | C11: ºñ¨³Ý ù³Õ³ùÇ ²ñ³µÏÇñ ¨ ø³Ý³ù»é-¼»ÛÃáõÝ í³ñã³Ï³Ý ßñç³ÝÝ»ñÇ ÁÝ¹Ñ³Ýáõñ Çñ³í³ëáõÃÛ³Ý ¹³ï³ñ³Ý | G11: 11 | H11: 11 | M11: 10 | N11: 1 | AB11: 1 | AE11: 1 | AG11: 9 | AI11: 10 | AK11: 10 | AQ11: 1 | AS11: =D11 -> 0 | AT11: =E11+F11 -> 0 | AU11: =G11 -> 11 | AV11: =H11+I11+J11+K11+L11 -> 11 | AW11: =E11+M11 -> 10 | AX11: =AE11+AG11 -> 10 | AY11: =AE11 -> 1 | AZ11: =N11+O11+P11+Q11+R11+S11+T11+U11+V11+W11+X11+Y11+Z11+AA11 -> 1 | BA11: =AB11+AC11+AD11 -> 1 | BB11: =AK11 -> 10 | BC11: =AI11+AJ11 -> 10 | BD11: =AP11 -> 0 | BE11: =AN11+AO11 -> 0
A12: 0 | B12: 3 | C12: ºñ¨³Ý ù³Õ³ùÇ Þ»Ý·³íÇÃ í³ñã³Ï³Ý ßñç³ÝÇ ÁÝ¹Ñ³Ýáõñ Çñ³í³ëáõÃÛ³Ý ³é³çÇÝ ³ïÛ³ÝÇ ¹³ï³ñ³Ý | G12: 6 | H12: 6 | M12: 5 | N12: 3 | AB12: 3 | AE12: 3 | AG12: 2 | AI12: 5 | AK12: 5 | AQ12: 2 | AS12: =D12 -> 0 | AT12: =E12+F12 -> 0 | AU12: =G12 -> 6 | AV12: =H12+I12+J12+K12+L12 -> 6 | AW12: =E12+M12 -> 5 | AX12: =AE12+AG12 -> 5 | AY12: =AE12 -> 3 | AZ12: =N12+O12+P12+Q12+R12+S12+T12+U12+V12+W12+X12+Y12+Z12+AA12 -> 3 | BA12: =AB12+AC12+AD12 -> 3 | BB12: =AK12 -> 5 | BC12: =AI12+AJ12 -> 5 | BD12: =AP12 -> 0 | BE12: =AN12+AO12 -> 0
A13: 0 | B13: 4 | C13: ºñ¨³Ý ù³Õ³ùÇ ²ç³÷ÝÛ³Ï ¨ ¸³íÃ³ß»Ý í³ñã³Ï³Ý ßñç³ÝÝ»ñÇ ÁÝ¹Ñ³Ýáõñ Çñ³í³ëáõÃÛ³Ý ³é³çÇÝ ³ïÛ³ÝÇ ¹³ï³ñ³Ý | G13: 12 | H13: 12 | M13: 10 | N13: 3 | AB13: 3 | AE13: 3 | AG13: 7 | AI13: 10 | AK13: 10 | AQ13: 2 | AS13: =D13 -> 0 | AT13: =E13+F13 -> 0 | AU13: =G13 -> 12 | AV13: =H13+I13+J13+K13+L13 -> 12 | AW13: =E13+M13 -> 10 | AX13: =AE13+AG13 -> 10 | AY13: =AE13 -> 3 | AZ13: =N13+O13+P13+Q13+R13+S13+T13+U13+V13+W13+X13+Y13+Z13+AA13 -> 3 | BA13: =AB13+AC13+AD13 -> 3 | BB13: =AK13 -> 10 | BC13: =AI13+AJ13 -> 10 | BD13: =AP13 -> 0 | BE13: =AN13+AO13 -> 0
A14: 0 | B14: 5 | C14: ºñ¨³Ý ù³Õ³ùÇ ²í³Ý ¨ Üáñ-Üáñù í³ñã³Ï³Ý ßñç³ÝÝ»ñÇ ÁÝ¹Ñ³Ýáõñ Çñ³í³ëáõÃÛ³Ý ³é³çÇÝ ³ïÛ³ÝÇ ¹³ï³ñ³Ý | G14: 5 | H14: 5 | M14: 3 | N14: 1 | X14: 1 | AB14: 2 | AE14: 2 | AG14: 1 | AI14: 3 | AK14: 3 | AN14: 1 | AP14: 1 | AQ14: 1 | AS14: =D14 -> 0 | AT14: =E14+F14 -> 0 | AU14: =G14 -> 5 | AV14: =H14+I14+J14+K14+L14 -> 5 | AW14: =E14+M14 -> 3 | AX14: =AE14+AG14 -> 3 | AY14: =AE14 -> 2 | AZ14: =N14+O14+P14+Q14+R14+S14+T14+U14+V14+W14+X14+Y14+Z14+AA14 -> 2 | BA14: =AB14+AC14+AD14 -> 2 | BB14: =AK14 -> 3 | BC14: =AI14+AJ14 -> 3 | BD14: =AP14 -> 1 | BE14: =AN14+AO14 -> 1
A15: 0 | B15: 6 | C15: ºñ¨³Ý ù³Õ³ùÇ ¾ñ»µáõÝÇ-Üáõµ³ñ³ß»Ý í³ñã³Ï³Ý ßñç³ÝÝ»ñÇ ÁÝ¹Ñ³Ýáõñ Çñ³í³ëáõÃÛ³Ý ³é³çÇÝ ³ïÛ³ÝÇ ¹³ï³ñ³Ý | G15: 8 | H15: 8 | M15: 8 | N15: 3 | X15: 1 | AB15: 4 | AE15: 4 | AG15: 4 | AI15: 8 | AK15: 8 | AN15: 1 | AP15: 1 | AQ15: 1 | AS15: =D15 -> 0 | AT15: =E15+F15 -> 0 | AU15: =G15 -> 8 | AV15: =H15+I15+J15+K15+L15 -> 8 | AW15: =E15+M15 -> 8 | AX15: =AE15+AG15 -> 8 | AY15: =AE15 -> 4 | AZ15: =N15+O15+P15+Q15+R15+S15+T15+U15+V15+W15+X15+Y15+Z15+AA15 -> 4 | BA15: =AB15+AC15+AD15 -> 4 | BB15: =AK15 -> 8 | BC15: =AI15+AJ15 -> 8 | BD15: =AP15 -> 1 | BE15: =AN15+AO15 -> 1
A16: 0 | B16: 7 | C16: ºñ¨³Ý ù³Õ³ùÇ Ø³É³ÃÇ³-ê»µ³ëïÇ³ í³ñã³Ï³Ý ßñç³ÝÇ ÁÝ¹Ñ³Ýáõñ Çñ³í³ëáõÃÛ³ÝÇ ³é³çÇÝ ³ïÛ³ÝÇ ¹³ï³ñ³Ý | G16: 8 | H16: 8 | M16: 5 | N16: 3 | AB16: 3 | AE16: 3 | AG16: 2 | AI16: 5 | AK16: 5 | AQ16: 2 | AS16: =D16 -> 0 | AT16: =E16+F16 -> 0 | AU16: =G16 -> 8 | AV16: =H16+I16+J16+K16+L16 -> 8 | AW16: =E16+M16 -> 5 | AX16: =AE16+AG16 -> 5 | AY16: =AE16 -> 3 | AZ16: =N16+O16+P16+Q16+R16+S16+T16+U16+V16+W16+X16+Y16+Z16+AA16 -> 3 | BA16: =AB16+AC16+AD16 -> 3 | BB16: =AK16 -> 5 | BC16: =AI16+AJ16 -> 5 | BD16: =AP16 -> 0 | BE16: =AN16+AO16 -> 0
A17: 0 | B17: 8 | C17: ÐÐ Èáéáõ Ù³ñ½Ç ÁÝ¹Ñ³Ýáõñ Çñ³í³ëáõÃÛ³Ý ³é³çÇÝ ³ïÛ³ÝÇ ¹³ï³ñ³Ý | G17: 4 | H17: 4 | M17: 4 | N17: 1 | U17: 1 | AB17: 1 | AC17: 1 | AE17: 2 | AG17: 2 | AI17: 4 | AK17: 4 | AN17: 1 | AP17: 1 | AS17: =D17 -> 0 | AT17: =E17+F17 -> 0 | AU17: =G17 -> 4 | AV17: =H17+I17+J17+K17+L17 -> 4 | AW17: =E17+M17 -> 4 | AX17: =AE17+AG17 -> 4 | AY17: =AE17 -> 2 | AZ17: =N17+O17+P17+Q17+R17+S17+T17+U17+V17+W17+X17+Y17+Z17+AA17 -> 2 | BA17: =AB17+AC17+AD17 -> 2 | BB17: =AK17 -> 4 | BC17: =AI17+AJ17 -> 4 | BD17: =AP17 -> 1 | BE17: =AN17+AO17 -> 1
A18: 0 | B18: 9 | C18: ÐÐ ÞÇñ³ÏÇ Ù³ñ½Ç ÁÝ¹Ñ³Ýáõñ Çñ³í³ëáõÃÛ³Ý ³é³çÇÝ ³ïÛ³ÝÇ¹³ï³ñ³Ý | G18: 4 | H18: 4 | M18: 4 | N18: 1 | AB18: 1 | AE18: 1 | AG18: 3 | AI18: 4 | AK18: 4 | AQ18: 1 | AS18: =D18 -> 0 | AT18: =E18+F18 -> 0 | AU18: =G18 -> 4 | AV18: =H18+I18+J18+K18+L18 -> 4 | AW18: =E18+M18 -> 4 | AX18: =AE18+AG18 -> 4 | AY18: =AE18 -> 1 | AZ18: =N18+O18+P18+Q18+R18+S18+T18+U18+V18+W18+X18+Y18+Z18+AA18 -> 1 | BA18: =AB18+AC18+AD18 -> 1 | BB18: =AK18 -> 4 | BC18: =AI18+AJ18 -> 4 | BD18: =AP18 -> 0 | BE18: =AN18+AO18 -> 0
A19: 0 | B19: 10 | C19: ÐÐ ²ñÙ³íÇñÇ Ù³ñ½Ç ÁÝ¹Ñ³Ýáõñ Çñ³í³ëáõÃÛ³Ý ³é³çÇÝ ³ïÛ³ÝÇ ¹³ï³ñ³Ý | G19: 12 | H19: 12 | M19: 11 | N19: 2 | Q19: 1 | W19: 1 | X19: 1 | AB19: 5 | AE19: 5 | AG19: 6 | AI19: 11 | AK19: 11 | AN19: 3 | AP19: 3 | AQ19: 1 | AS19: =D19 -> 0 | AT19: =E19+F19 -> 0 | AU19: =G19 -> 12 | AV19: =H19+I19+J19+K19+L19 -> 12 | AW19: =E19+M19 -> 11 | AX19: =AE19+AG19 -> 11 | AY19: =AE19 -> 5 | AZ19: =N19+O19+P19+Q19+R19+S19+T19+U19+V19+W19+X19+Y19+Z19+AA19 -> 5 | BA19: =AB19+AC19+AD19 -> 5 | BB19: =AK19 -> 11 | BC19: =AI19+AJ19 -> 11 | BD19: =AP19 -> 3 | BE19: =AN19+AO19 -> 3
A20: 0 | B20: 11 | C20: ÐÐ Îáï³ÛùÇ Ù³ñ½Ç ÁÝ¹Ñ³Ýáõñ Çñ³í³ëáõÃÛ³Ý ³é³çÇÝ ³ïÛ³ÝÇ ¹³ï³ñ³Ý | G20: 10 | H20: 10 | M20: 8 | N20: 3 | X20: 2 | AB20: 5 | AE20: 5 | AG20: 3 | AI20: 8 | AK20: 8 | AN20: 2 | AP20: 2 | AQ20: 1 | AS20: =D20 -> 0 | AT20: =E20+F20 -> 0 | AU20: =G20 -> 10 | AV20: =H20+I20+J20+K20+L20 -> 10 | AW20: =E20+M20 -> 8 | AX20: =AE20+AG20 -> 8 | AY20: =AE20 -> 5 | AZ20: =N20+O20+P20+Q20+R20+S20+T20+U20+V20+W20+X20+Y20+Z20+AA20 -> 5 | BA20: =AB20+AC20+AD20 -> 5 | BB20: =AK20 -> 8 | BC20: =AI20+AJ20 -> 8 | BD20: =AP20 -> 2 | BE20: =AN20+AO20 -> 2
A21: 0 | B21: 12 | C21: ÐÐ ²ñ³ñ³ïÇ ¨ ì³Ûáó ÒáñÇ Ù³ñ½»ñÇ ÁÝ¹Ñ³Ýáõñ Çñ³í³ëáõÃÛ³Ý ³é³çÇÝ ³ïÛ³ÝÇ ¹³ï³ñ³Ý | G21: 4 | H21: 4 | M21: 4 | N21: 2 | W21: 1 | X21: 1 | AB21: 4 | AE21: 4 | AI21: 4 | AK21: 4 | AN21: 2 | AP21: 2 | AQ21: 1 | AS21: =D21 -> 0 | AT21: =E21+F21 -> 0 | AU21: =G21 -> 4 | AV21: =H21+I21+J21+K21+L21 -> 4 | AW21: =E21+M21 -> 4 | AX21: =AE21+AG21 -> 4 | AY21: =AE21 -> 4 | AZ21: =N21+O21+P21+Q21+R21+S21+T21+U21+V21+W21+X21+Y21+Z21+AA21 -> 4 | BA21: =AB21+AC21+AD21 -> 4 | BB21: =AK21 -> 4 | BC21: =AI21+AJ21 -> 4 | BD21: =AP21 -> 2 | BE21: =AN21+AO21 -> 2
A22: 0 | B22: 13 | C22: ÐÐ ¶»Õ³ñùáõÝÇùÇ Ù³ñ½Ç ÁÝ¹Ñ³Ýáõñ Çñ³í³ëáõÃÛ³Ý ³é³çÇÝ ³ïÛ³ÝÇ ¹³ï³ñ³Ý | G22: 10 | H22: 10 | M22: 7 | N22: 1 | X22: 1 | AB22: 2 | AE22: 2 | AG22: 5 | AI22: 7 | AK22: 7 | AN22: 1 | AP22: 1 | AQ22: 1 | AS22: =D22 -> 0 | AT22: =E22+F22 -> 0 | AU22: =G22 -> 10 | AV22: =H22+I22+J22+K22+L22 -> 10 | AW22: =E22+M22 -> 7 | AX22: =AE22+AG22 -> 7 | AY22: =AE22 -> 2 | AZ22: =N22+O22+P22+Q22+R22+S22+T22+U22+V22+W22+X22+Y22+Z22+AA22 -> 2 | BA22: =AB22+AC22+AD22 -> 2 | BB22: =AK22 -> 7 | BC22: =AI22+AJ22 -> 7 | BD22: =AP22 -> 1 | BE22: =AN22+AO22 -> 1
A23: 0 | B23: 14 | C23: ÐÐ ²ñ³·³ÍáïÝÇ Ù³ñ½Ç ÁÝ¹Ñ³Ýáõñ Çñ³í³ëáõÃÛ³Ý ³é³çÇÝ ³ïÛ³ÝÇ ¹³ï³ñ³Ý | G23: 1 | H23: 1 | M23: 1 | N23: 1 | AB23: 1 | AE23: 1 | AI23: 1 | AK23: 1 | AQ23: 1 | AS23: =D23 -> 0 | AT23: =E23+F23 -> 0 | AU23: =G23 -> 1 | AV23: =H23+I23+J23+K23+L23 -> 1 | AW23: =E23+M23 -> 1 | AX23: =AE23+AG23 -> 1 | AY23: =AE23 -> 1 | AZ23: =N23+O23+P23+Q23+R23+S23+T23+U23+V23+W23+X23+Y23+Z23+AA23 -> 1 | BA23: =AB23+AC23+AD23 -> 1 | BB23: =AK23 -> 1 | BC23: =AI23+AJ23 -> 1 | BD23: =AP23 -> 0 | BE23: =AN23+AO23 -> 0
A24: 0 | B24: 15 | C24: ÐÐ êÛáõÝÇùÇ Ù³ñ½Ç ÁÝ¹Ñ³Ýáõñ Çñ³í³ëáõÃÛ³Ý ³é³çÇÝ ³ïÛ³ÝÇ ¹³ï³ñ³Ý | G24: 19 | H24: 19 | M24: 12 | N24: 7 | AB24: 7 | AE24: 7 | AG24: 5 | AI24: 12 | AK24: 12 | AQ24: 1 | AS24: =D24 -> 0 | AT24: =E24+F24 -> 0 | AU24: =G24 -> 19 | AV24: =H24+I24+J24+K24+L24 -> 19 | AW24: =E24+M24 -> 12 | AX24: =AE24+AG24 -> 12 | AY24: =AE24 -> 7 | AZ24: =N24+O24+P24+Q24+R24+S24+T24+U24+V24+W24+X24+Y24+Z24+AA24 -> 7 | BA24: =AB24+AC24+AD24 -> 7 | BB24: =AK24 -> 12 | BC24: =AI24+AJ24 -> 12 | BD24: =AP24 -> 0 | BE24: =AN24+AO24 -> 0
A25: 0 | B25: 16 | C25: ÐÐ î³íáõßÇ Ù³ñ½Ç ÁÝ¹Ñ³Ýáõñ Çñ³í³ëáõÃÛ³Ý ³é³çÇÝ ³ïÛ³ÝÇ ¹³ï³ñ³Ý | G25: 6 | H25: 6 | M25: 6 | W25: 2 | X25: 1 | AB25: 3 | AE25: 3 | AG25: 3 | AI25: 6 | AK25: 6 | AN25: 3 | AP25: 3 | AS25: =D25 -> 0 | AT25: =E25+F25 -> 0 | AU25: =G25 -> 6 | AV25: =H25+I25+J25+K25+L25 -> 6 | AW25: =E25+M25 -> 6 | AX25: =AE25+AG25 -> 6 | AY25: =AE25 -> 3 | AZ25: =N25+O25+P25+Q25+R25+S25+T25+U25+V25+W25+X25+Y25+Z25+AA25 -> 3 | BA25: =AB25+AC25+AD25 -> 3 | BB25: =AK25 -> 6 | BC25: =AI25+AJ25 -> 6 | BD25: =AP25 -> 3 | BE25: =AN25+AO25 -> 3
B26: 19 | C26: ÈáõÍ³ñí³Í ¹³ï³ñ³ÝÝ»ñ | AS26: =D26 -> 0 | AT26: =E26+F26 -> 0 | AU26: =G26 -> 0 | AV26: =H26+I26+J26+K26+L26 -> 0 | AW26: =E26+M26 -> 0 | AX26: =AE26+AG26 -> 0 | AY26: =AE26 -> 0 | AZ26: =N26+O26+P26+Q26+R26+S26+T26+U26+V26+W26+X26+Y26+Z26+AA26 -> 0 | BA26: =AB26+AC26+AD26 -> 0 | BB26: =AK26 -> 0 | BC26: =AI26+AJ26 -> 0 | BD26: =AP26 -> 0 | BE26: =AN26+AO26 -> 0
A27: 0 | B27: 20 | C27: ÀÝ¹³Ù»ÝÁ | D27: =SUM(D10:D26) -> 0 | E27: =SUM(E10:E26) -> 0 | F27: =SUM(F10:F26) -> 0 | G27: =SUM(G10:G26) -> 131 | H27: =SUM(H10:H26) -> 131 | I27: =SUM(I10:I26) -> 0 | J27: =SUM(J10:J26) -> 0 | K27: =SUM(K10:K26) -> 0 | ... AQ27: =SUM(AQ10:AQ26) -> 17 | AS27: =D27 -> 0 | AT27: =E27+F27 -> 0 | AU27: =G27 -> 131 | AV27: =H27+I27+J27+K27+L27 -> 131 | AW27: =E27+M27 -> 108 | AX27: =AE27+AG27 -> 108 | AY27: =AE27 -> 51 | AZ27: =N27+O27+P27+Q27+R27+S27+T27+U27+V27+W27+X27+Y27+Z27+AA27 -> 51 | BA27: =AB27+AC27+AD27 -> 51 | BB27: =AK27 -> 108 | BC27: =AI27+AJ27 -> 108 | BD27: =AP27 -> 16 | BE27: =AN27+AO27 -> 16
A28: 0
A29: 0
A30: 0
A31: 1
A32: 0

Sheet 5
B1: 2017Ã. 1-ÇÝ ÏÇë³ÙÛ³Ï | D1: Ð²ÞìºîìàôÂÚàôÜ | AK1: Ð³í»Éí³Í Ð³Û³ëï³ÝÇ Ð³Ýñ³å»ïáõÃÛ³Ý ¸³ï³ñ³ÝÝ»ñÇ Ý³Ë³·³ÑÝ»ñÇ ËáñÑñ¹Ç 25.08.2017Ã. ÃÇí 35-È áñáßÙ³Ý
B2: ÐÐ ìºð²øÜÜÆâ øðº²Î²Ü ¸²î²ð²ÜՈՒՄ êî²òì²Ì ´àÔàøÜºðÆ øÜÜàôÂÚ²Ü ìºð²´ºðÚ²È
B3: ¸³ï³Ï³Ý Ï³½Ù` Կ. Մարդանյան, Ն. Հովակիմյան, Ա. Մնացականյան
B4: ÐÐ í»ñ³ùÝÝÇã ùñ»³Ï³Ý ¹³ï³ñ³ÝáõÙ ¹³ï³íáñÝ»ñÇ Ñ³ëïÇùÝ»ñÇ ÃÇíÁ` 16
D5: Ð³ßí»ïáõ Å³Ù³Ý³Ï³Ñ³ïí³ÍÇ ëÏ½µáõÙ Ý³Ëáñ¹ Ñ³ßí»ïáõ Å³Ù³Ý³Ï³Ñ³ïí³ÍÇó ÷áË³Ýóí³Í ·áñÍ»ñÇ ÁÝ¹Ñ³Ýáõñ ÃÇíÁ | G5: Ð³ßí»ïáõ Å³Ù³Ý³Ï³Ñ³ïí³ÍáõÙ ëï³óí³Í µáÕáùÝ»ñÇ ÁÝ¹Ñ³Ýáõñ ÃÇíÁ | M5: ´áÕáù³ñÏí³Í ³Ïï»ñÇ ù³Ý³ÏÁ, áñáÝó ¹»Ù µ»ñí³Í µáÕáùÝ»ñÝ Ñ³ßí»ïáõ Å³Ù³Ý³Ï³ßñç³ÝáõÙ ÁÝ¹áõÝí»É »Ý í³ñáõÛÃ | N5: Ð³ßí»ïáõ Å³Ù³Ý³Ï³ßñç³ÝáõÙ ùÝÝí³Í ·áñÍ»ñáí Ï³Û³óí³Í áñáßáõÙÝ»ñ | AB5: Ð³ßí»ïáõ Å³Ù³Ý³Ï³Ñ³ïí³ÍáõÙ ³í³ñïí³Í ·áñÍ»ñÇ ÁÝ¹Ñ³Ýáõñ ÃÇíÁ | AF5: Ð³ßí»ïáõ Å³Ù³Ý³Ï³Ñ³ïí³ÍáõÙ Ï³ë»óí³Í í³ñáõÛÃÝ»ñáí ·áñÍ»ñÇ ÁÝ¹Ñ³Ýáõñ ÃÇíÁ | AG5: Ð³ßí»ïáõ Å³Ù³Ý³Ï³Ñ³ïí³ÍáõÙ ³Ý³í³ñï ·áñÍ»ñÇ ÁÝ¹Ñ³Ýáõñ ÃÇíÁ | AH5: ²Û¹ ÃíáõÙ` Ï³ë»óí³Í | AI5: ´áÕáù³ñÏí³Í ¹³ï³Ï³Ý ³Ïï»ñÇ ÃÇíÁ` Áëï ï»ë³ÏÝ»ñÇ | AN5: ´»Ï³Ýí³Í ¹³ï³Ï³Ý ³Ïï»ñÇ ÃÇíÁ` Áëï ï»ë³ÏÝ»ñÇ | AQ5: ´áÕáù³ñÏí»É »Ý í×é³µ»Ï ¹³ï³ñ³Ý
AI6: ²Û¹ ÃíáõÙ` ·áñÍÝ Áëï ¿áõÃÛ³Ý ÉáõÍáÕ ¹³ï³Ï³Ý ³Ïï»ñ | AJ6: ²Û¹ ÃíáõÙ` գործն ըստ էության չլուծող¹³ï³Ï³Ý ³Ïï»ñ | AK6: ÀÝ¹³Ù»ÝÁ | AN6: ²Û¹ ÃíáõÙ` ·áñÍÝ Áëï ¿áõÃÛ³Ý ÉáõÍáÕ ¹³ï³Ï³Ý ³Ïï»ñ | AO6: ²Û¹ ÃíáõÙ` գործն ըստ էության չլուծող¹³ï³Ï³Ý ³Ïï»ñ | AP6: ÀÝ¹³Ù»ÝÁ
D7: ÀÝ¹³Ù»ÝÁ | E7: Այդ թվում` վարույթ ընդունված µáÕáùÝ»ñáí փոխանցված | F7: Այդ թվում` չքննարկված µáÕáùÝ»ñáí փոխանցված | G7: ÀÝ¹³Ù»ÝÁ | H7: Այդ թվում` ընդունվել է վարույթ | I7: Այդ թվում` թողնվել է առանց քննության | J7: Այդ թվում` ÁÝ¹áõÝáõÙÁ մերժվել է | K7: Այդ թվում` í»ñ³ùÝÝÇã í³ñáõÛÃÁ Ï³ñ×í»É ¿ | L7: Այդ թվում` չի քննարկվել | N7: ¸³ï³Ï³Ý ³ÏïÁ ÃáÕÝí»É ¿ ûñÇÝ³Ï³Ý áõÅÇ Ù»ç | O7: ¸³ï³Ï³Ý ³ÏïÝ ³ÙµáÕçáõÃÛ³Ùµ µ»Ï³Ýí»É ¿ ¨ Ï³Û³óí»É ¿ ·áñÍÝ Áëï ¿áõÃÛ³Ý ÉáõÍáÕ ¹³ï³Ï³Ý ³Ïï | P7: ¸³ï³Ï³Ý ³ÏïÁ Ù³ëÝ³ÏÇáñ»Ý µ»Ï³Ýí»É ¿ ¨ µ»Ï³Ýí³Í Ù³ëáí Ï³Û³óí»É ¿ ·áñÍÝ Áëï ¿áõÃÛ³Ý ÉáõÍáÕ ¹³ï³Ï³Ý ³Ïï | Q7: ¸³ï³Ï³Ý ³ÏïÝ ³ÙµáÕçáõÃÛ³Ùµ µ»Ï³Ýí»É ¿ ¨ ·áñÍÝ áõÕ³ñÏí»É ¿ Ýáñ ùÝÝáõÃÛ³Ý | R7: ¹³ï³Ï³Ý ³ÏïÁ Ù³ëÝ³ÏÇáñ»Ý µ»Ï³Ýí»É ¿ ¨ ·áñÍÝ áõÕ³ñÏí»É ¿ Ýáñ ùÝÝáõÃÛ³Ý | S7: ø³Õ.Ñ³ÛóÇ Ù³ëáí ³ÙµáÕçáõÃÛ³Ùµ µ»Ï³Ýí»É ¿ ¹³ï³Ï³Ý ³ÏïÁ ¨ Ñ³ëï³ïí»É ¿ ÏáÕÙ»ñÇ Ñ³ßïáõÃÛ³Ý Ñ³Ù³Ó³ÛÝáõÃÛáõÝÁ | T7: ø³Õ.Ñ³ÛóÇ Ù³ëáí Ù³ëÝ³ÏÇáñ»Ý µ»Ï³Ýí»É ¿ ¹³ï³Ï³Ý ³ÏïÁ ¨ µ»Ï³Ýí³Í Ù³ëáí Ñ³ëï³ïí»É ¿ ÏáÕÙ»ñÇ Ñ³ßïáõÃÛ³Ý Ñ³Ù³Ó³ÛÝáõÃÛáõÝÁ | U7: ²ÙµáÕçáõÃÛ³Ùµ µ»Ï³Ýí»É ¿ ¹³ï³Ï³Ý ³ÏïÁ ¨ ·áñÍÇ í³ñáõÛÃÁ Ï³ñ×í»É ¿ | V7: Ø³ëÝ³ÏÇáñ»Ý µ»Ï³Ýí»É ¿ ¹³ï³Ï³Ý ³ÏïÁ ¨ ³Û¹ Ù³ëáí ·áñÍÇ í³ñáõÛÃÁ Ï³ñ×í»É ¿ | W7: ¸³ï³Ï³Ý ³ÏïÝ ³ÙµáÕçáõÃÛ³Ùµ µ»Ï³Ýí»É ¨ ÷á÷áËí»É ¿ | X7: ¸³ï³Ï³Ý ³ÏïÁ Ù³ëÝ³ÏÇáñ»Ý µ»Ï³Ýí»É ¿ ¨ ³Û¹ Ù³ëáí ÷á÷áËí»É | Y7: Դ³ï³Ï³Ý ³ÏïÁ µ»Ï³Ýí»É ¿ ¨ ù³Õ. Ñ³ÛóÁ ÃáÕÝí»É ¿ ³é³Ýó ùÝÝáõÃÛ³Ý | Z7: Գործն ըստ էության չլուծող դատական ակտը թողնվել է օրինական ուժի մեջ | AA7: Կայացվել է գործն ըստ էության չլուծող նոր դատական ակտ | AB7: ²Û¹ ÃíáõÙ` ·áñÍÝ Áëï ¿áõÃÛ³Ý ÉáõÍ»Éáõ ÑÇÙùáí ³í³ñïí³Í | AC7: ²Û¹ ÃíáõÙ` ·áñÍÇ í³ñáõÛÃÁ Ï³ñ×»Éáõ ÑÇÙùáí ³í³ñïí³Í | AD7: ²Û¹ ÃíáõÙ` ³ÛÉ ÑÇÙùáí ³í³ñïí³Í | AE7: ÀÝ¹³Ù»ÝÁ
C9: ¸²î²ð²ÜÜºð | D9: 1 | E9: 2 | F9: 3 | G9: 4 | H9: 5 | I9: 6 | J9: 7 | K9: 8 | L9: 9 | M9: 10 | N9: 11 | O9: 12 | P9: 13 | Q9: 14 | R9: 15 | S9: 16 | T9: 17 | U9: 18 | V9: 19 | W9: 20 | X9: 21 | Y9: 22 | Z9: 23 | AA9: 24 | AB9: 25 | AC9: 26 | AD9: 27 | AE9: 28 | AF9: 29 | AG9: 30 | AH9: 31 | AI9: 32 | AJ9: 33 | AK9: 34 | AL9: 35 | AM9: 36 | AN9: 35 | AO9: 36 | AP9: 37 | AQ9: 38 | AS9: 1=2+3 | AU9: 4=5+6+7+8+9 | AW9: 2+10=28+30 | AY9: 28 | BB9: 34=32+33 | BD9: 37=35+36
A10: 1 | B10: 1 | C10: ºñ¨³Ý ù³Õ³ùÇ Î»ÝïñáÝ ¨ Üáñù-Ø³ñ³ß í³ñã³Ï³Ý ßñç³ÝÝ»ñÇ ÁÝ¹Ñ³Ýáõñ Çñ³í³ëáõÃÛ³Ý ³é³çÇÝ ³ïÛ³ÝÇ ¹³ï³ñ³Ý | G10: 14 | H10: 14 | M10: 11 | N10: 1 | W10: 1 | AB10: 2 | AE10: 2 | AG10: 9 | AI10: 11 | AK10: 11 | AN10: 1 | AP10: 1 | AQ10: 2 | AS10: =D10 -> 0 | AT10: =E10+F10 -> 0 | AU10: =G10 -> 14 | AV10: =H10+I10+J10+K10+L10 -> 14 | AW10: =E10+M10 -> 11 | AX10: =AE10+AG10 -> 11 | AY10: =AE10 -> 2 | AZ10: =N10+O10+P10+Q10+R10+S10+T10+U10+V10+W10+X10+Y10+Z10+AA10 -> 2 | BA10: =AB10+AC10+AD10 -> 2 | BB10: =AK10 -> 11 | BC10: =AI10+AJ10 -> 11 | BD10: =AP10 -> 1 | BE10: =AN10+AO10 -> 1
A11: 0 | B11: 2 | C11: ºñ¨³Ý ù³Õ³ùÇ ²ñ³µÏÇñ ¨ ø³Ý³ù»é-¼»ÛÃáõÝ í³ñã³Ï³Ý ßñç³ÝÝ»ñÇ ÁÝ¹Ñ³Ýáõñ Çñ³í³ëáõÃÛ³Ý ¹³ï³ñ³Ý | G11: 9 | H11: 9 | M11: 9 | N11: 3 | U11: 1 | W11: 1 | AB11: 4 | AC11: 1 | AE11: 5 | AG11: 4 | AI11: 9 | AK11: 9 | AN11: 2 | AP11: 2 | AQ11: 4 | AS11: =D11 -> 0 | AT11: =E11+F11 -> 0 | AU11: =G11 -> 9 | AV11: =H11+I11+J11+K11+L11 -> 9 | AW11: =E11+M11 -> 9 | AX11: =AE11+AG11 -> 9 | AY11: =AE11 -> 5 | AZ11: =N11+O11+P11+Q11+R11+S11+T11+U11+V11+W11+X11+Y11+Z11+AA11 -> 5 | BA11: =AB11+AC11+AD11 -> 5 | BB11: =AK11 -> 9 | BC11: =AI11+AJ11 -> 9 | BD11: =AP11 -> 2 | BE11: =AN11+AO11 -> 2
A12: 0 | B12: 3 | C12: ºñ¨³Ý ù³Õ³ùÇ Þ»Ý·³íÇÃ í³ñã³Ï³Ý ßñç³ÝÇ ÁÝ¹Ñ³Ýáõñ Çñ³í³ëáõÃÛ³Ý ³é³çÇÝ ³ïÛ³ÝÇ ¹³ï³ñ³Ý | G12: 10 | H12: 10 | M12: 7 | AG12: 7 | AI12: 7 | AK12: 7 | AS12: =D12 -> 0 | AT12: =E12+F12 -> 0 | AU12: =G12 -> 10 | AV12: =H12+I12+J12+K12+L12 -> 10 | AW12: =E12+M12 -> 7 | AX12: =AE12+AG12 -> 7 | AY12: =AE12 -> 0 | AZ12: =N12+O12+P12+Q12+R12+S12+T12+U12+V12+W12+X12+Y12+Z12+AA12 -> 0 | BA12: =AB12+AC12+AD12 -> 0 | BB12: =AK12 -> 7 | BC12: =AI12+AJ12 -> 7 | BD12: =AP12 -> 0 | BE12: =AN12+AO12 -> 0
A13: 0 | B13: 4 | C13: ºñ¨³Ý ù³Õ³ùÇ ²ç³÷ÝÛ³Ï ¨ ¸³íÃ³ß»Ý í³ñã³Ï³Ý ßñç³ÝÝ»ñÇ ÁÝ¹Ñ³Ýáõñ Çñ³í³ëáõÃÛ³Ý ³é³çÇÝ ³ïÛ³ÝÇ ¹³ï³ñ³Ý | G13: 13 | H13: 13 | M13: 8 | N13: 2 | AB13: 2 | AE13: 2 | AG13: 6 | AI13: 8 | AK13: 8 | AS13: =D13 -> 0 | AT13: =E13+F13 -> 0 | AU13: =G13 -> 13 | AV13: =H13+I13+J13+K13+L13 -> 13 | AW13: =E13+M13 -> 8 | AX13: =AE13+AG13 -> 8 | AY13: =AE13 -> 2 | AZ13: =N13+O13+P13+Q13+R13+S13+T13+U13+V13+W13+X13+Y13+Z13+AA13 -> 2 | BA13: =AB13+AC13+AD13 -> 2 | BB13: =AK13 -> 8 | BC13: =AI13+AJ13 -> 8 | BD13: =AP13 -> 0 | BE13: =AN13+AO13 -> 0
A14: 0 | B14: 5 | C14: ºñ¨³Ý ù³Õ³ùÇ ²í³Ý ¨ Üáñ-Üáñù í³ñã³Ï³Ý ßñç³ÝÝ»ñÇ ÁÝ¹Ñ³Ýáõñ Çñ³í³ëáõÃÛ³Ý ³é³çÇÝ ³ïÛ³ÝÇ ¹³ï³ñ³Ý | G14: 4 | H14: 4 | M14: 4 | U14: 1 | AC14: 1 | AE14: 1 | AG14: 3 | AI14: 4 | AK14: 4 | AN14: 1 | AP14: 1 | AS14: =D14 -> 0 | AT14: =E14+F14 -> 0 | AU14: =G14 -> 4 | AV14: =H14+I14+J14+K14+L14 -> 4 | AW14: =E14+M14 -> 4 | AX14: =AE14+AG14 -> 4 | AY14: =AE14 -> 1 | AZ14: =N14+O14+P14+Q14+R14+S14+T14+U14+V14+W14+X14+Y14+Z14+AA14 -> 1 | BA14: =AB14+AC14+AD14 -> 1 | BB14: =AK14 -> 4 | BC14: =AI14+AJ14 -> 4 | BD14: =AP14 -> 1 | BE14: =AN14+AO14 -> 1
A15: 0 | B15: 6 | C15: ºñ¨³Ý ù³Õ³ùÇ ¾ñ»µáõÝÇ-Üáõµ³ñ³ß»Ý í³ñã³Ï³Ý ßñç³ÝÝ»ñÇ ÁÝ¹Ñ³Ýáõñ Çñ³í³ëáõÃÛ³Ý ³é³çÇÝ ³ïÛ³ÝÇ ¹³ï³ñ³Ý | G15: 3 | H15: 3 | M15: 1 | X15: 1 | AB15: 1 | AE15: 1 | AI15: 1 | AK15: 1 | AN15: 1 | AP15: 1 | AS15: =D15 -> 0 | AT15: =E15+F15 -> 0 | AU15: =G15 -> 3 | AV15: =H15+I15+J15+K15+L15 -> 3 | AW15: =E15+M15 -> 1 | AX15: =AE15+AG15 -> 1 | AY15: =AE15 -> 1 | AZ15: =N15+O15+P15+Q15+R15+S15+T15+U15+V15+W15+X15+Y15+Z15+AA15 -> 1 | BA15: =AB15+AC15+AD15 -> 1 | BB15: =AK15 -> 1 | BC15: =AI15+AJ15 -> 1 | BD15: =AP15 -> 1 | BE15: =AN15+AO15 -> 1
A16: 0 | B16: 7 | C16: ºñ¨³Ý ù³Õ³ùÇ Ø³É³ÃÇ³-ê»µ³ëïÇ³ í³ñã³Ï³Ý ßñç³ÝÇ ÁÝ¹Ñ³Ýáõñ Çñ³í³ëáõÃÛ³ÝÇ ³é³çÇÝ ³ïÛ³ÝÇ ¹³ï³ñ³Ý | G16: 13 | H16: 13 | M16: 8 | N16: 2 | AB16: 2 | AE16: 2 | AG16: 6 | AI16: 8 | AK16: 8 | AQ16: 1 | AS16: =D16 -> 0 | AT16: =E16+F16 -> 0 | AU16: =G16 -> 13 | AV16: =H16+I16+J16+K16+L16 -> 13 | AW16: =E16+M16 -> 8 | AX16: =AE16+AG16 -> 8 | AY16: =AE16 -> 2 | AZ16: =N16+O16+P16+Q16+R16+S16+T16+U16+V16+W16+X16+Y16+Z16+AA16 -> 2 | BA16: =AB16+AC16+AD16 -> 2 | BB16: =AK16 -> 8 | BC16: =AI16+AJ16 -> 8 | BD16: =AP16 -> 0 | BE16: =AN16+AO16 -> 0
A17: 0 | B17: 8 | C17: ÐÐ Èáéáõ Ù³ñ½Ç ÁÝ¹Ñ³Ýáõñ Çñ³í³ëáõÃÛ³Ý ³é³çÇÝ ³ïÛ³ÝÇ ¹³ï³ñ³Ý | G17: 2 | H17: 2 | M17: 2 | N17: 1 | W17: 1 | AB17: 2 | AE17: 2 | AI17: 2 | AK17: 2 | AN17: 1 | AP17: 1 | AS17: =D17 -> 0 | AT17: =E17+F17 -> 0 | AU17: =G17 -> 2 | AV17: =H17+I17+J17+K17+L17 -> 2 | AW17: =E17+M17 -> 2 | AX17: =AE17+AG17 -> 2 | AY17: =AE17 -> 2 | AZ17: =N17+O17+P17+Q17+R17+S17+T17+U17+V17+W17+X17+Y17+Z17+AA17 -> 2 | BA17: =AB17+AC17+AD17 -> 2 | BB17: =AK17 -> 2 | BC17: =AI17+AJ17 -> 2 | BD17: =AP17 -> 1 | BE17: =AN17+AO17 -> 1
A18: 0 | B18: 9 | C18: ÐÐ ÞÇñ³ÏÇ Ù³ñ½Ç ÁÝ¹Ñ³Ýáõñ Çñ³í³ëáõÃÛ³Ý ³é³çÇÝ ³ïÛ³ÝÇ¹³ï³ñ³Ý | G18: 3 | H18: 3 | M18: 2 | N18: 1 | AB18: 1 | AE18: 1 | AG18: 1 | AI18: 2 | AK18: 2 | AS18: =D18 -> 0 | AT18: =E18+F18 -> 0 | AU18: =G18 -> 3 | AV18: =H18+I18+J18+K18+L18 -> 3 | AW18: =E18+M18 -> 2 | AX18: =AE18+AG18 -> 2 | AY18: =AE18 -> 1 | AZ18: =N18+O18+P18+Q18+R18+S18+T18+U18+V18+W18+X18+Y18+Z18+AA18 -> 1 | BA18: =AB18+AC18+AD18 -> 1 | BB18: =AK18 -> 2 | BC18: =AI18+AJ18 -> 2 | BD18: =AP18 -> 0 | BE18: =AN18+AO18 -> 0
A19: 0 | B19: 10 | C19: ÐÐ ²ñÙ³íÇñÇ Ù³ñ½Ç ÁÝ¹Ñ³Ýáõñ Çñ³í³ëáõÃÛ³Ý ³é³çÇÝ ³ïÛ³ÝÇ ¹³ï³ñ³Ý | G19: 8 | H19: 8 | M19: 8 | N19: 1 | AB19: 1 | AE19: 1 | AG19: 7 | AI19: 8 | AK19: 8 | AQ19: 1 | AS19: =D19 -> 0 | AT19: =E19+F19 -> 0 | AU19: =G19 -> 8 | AV19: =H19+I19+J19+K19+L19 -> 8 | AW19: =E19+M19 -> 8 | AX19: =AE19+AG19 -> 8 | AY19: =AE19 -> 1 | AZ19: =N19+O19+P19+Q19+R19+S19+T19+U19+V19+W19+X19+Y19+Z19+AA19 -> 1 | BA19: =AB19+AC19+AD19 -> 1 | BB19: =AK19 -> 8 | BC19: =AI19+AJ19 -> 8 | BD19: =AP19 -> 0 | BE19: =AN19+AO19 -> 0
A20: 0 | B20: 11 | C20: ÐÐ Îáï³ÛùÇ Ù³ñ½Ç ÁÝ¹Ñ³Ýáõñ Çñ³í³ëáõÃÛ³Ý ³é³çÇÝ ³ïÛ³ÝÇ ¹³ï³ñ³Ý | G20: 9 | H20: 9 | M20: 8 | N20: 1 | W20: 1 | X20: 1 | AB20: 3 | AE20: 3 | AG20: 5 | AI20: 8 | AK20: 8 | AN20: 2 | AP20: 2 | AQ20: 1 | AS20: =D20 -> 0 | AT20: =E20+F20 -> 0 | AU20: =G20 -> 9 | AV20: =H20+I20+J20+K20+L20 -> 9 | AW20: =E20+M20 -> 8 | AX20: =AE20+AG20 -> 8 | AY20: =AE20 -> 3 | AZ20: =N20+O20+P20+Q20+R20+S20+T20+U20+V20+W20+X20+Y20+Z20+AA20 -> 3 | BA20: =AB20+AC20+AD20 -> 3 | BB20: =AK20 -> 8 | BC20: =AI20+AJ20 -> 8 | BD20: =AP20 -> 2 | BE20: =AN20+AO20 -> 2
A21: 0 | B21: 12 | C21: ÐÐ ²ñ³ñ³ïÇ ¨ ì³Ûáó ÒáñÇ Ù³ñ½»ñÇ ÁÝ¹Ñ³Ýáõñ Çñ³í³ëáõÃÛ³Ý ³é³çÇÝ ³ïÛ³ÝÇ ¹³ï³ñ³Ý | G21: 7 | H21: 7 | M21: 8 | X21: 2 | AB21: 2 | AE21: 2 | AG21: 6 | AI21: 8 | AK21: 8 | AN21: 2 | AP21: 2 | AS21: =D21 -> 0 | AT21: =E21+F21 -> 0 | AU21: =G21 -> 7 | AV21: =H21+I21+J21+K21+L21 -> 7 | AW21: =E21+M21 -> 8 | AX21: =AE21+AG21 -> 8 | AY21: =AE21 -> 2 | AZ21: =N21+O21+P21+Q21+R21+S21+T21+U21+V21+W21+X21+Y21+Z21+AA21 -> 2 | BA21: =AB21+AC21+AD21 -> 2 | BB21: =AK21 -> 8 | BC21: =AI21+AJ21 -> 8 | BD21: =AP21 -> 2 | BE21: =AN21+AO21 -> 2
A22: 0 | B22: 13 | C22: ÐÐ ¶»Õ³ñùáõÝÇùÇ Ù³ñ½Ç ÁÝ¹Ñ³Ýáõñ Çñ³í³ëáõÃÛ³Ý ³é³çÇÝ ³ïÛ³ÝÇ ¹³ï³ñ³Ý | G22: 6 | H22: 6 | M22: 5 | AG22: 5 | AI22: 5 | AK22: 5 | AS22: =D22 -> 0 | AT22: =E22+F22 -> 0 | AU22: =G22 -> 6 | AV22: =H22+I22+J22+K22+L22 -> 6 | AW22: =E22+M22 -> 5 | AX22: =AE22+AG22 -> 5 | AY22: =AE22 -> 0 | AZ22: =N22+O22+P22+Q22+R22+S22+T22+U22+V22+W22+X22+Y22+Z22+AA22 -> 0 | BA22: =AB22+AC22+AD22 -> 0 | BB22: =AK22 -> 5 | BC22: =AI22+AJ22 -> 5 | BD22: =AP22 -> 0 | BE22: =AN22+AO22 -> 0
A23: 0 | B23: 14 | C23: ÐÐ ²ñ³·³ÍáïÝÇ Ù³ñ½Ç ÁÝ¹Ñ³Ýáõñ Çñ³í³ëáõÃÛ³Ý ³é³çÇÝ ³ïÛ³ÝÇ ¹³ï³ñ³Ý | G23: 2 | H23: 2 | M23: 1 | X23: 1 | AB23: 1 | AE23: 1 | AI23: 1 | AK23: 1 | AN23: 1 | AP23: 1 | AQ23: 1 | AS23: =D23 -> 0 | AT23: =E23+F23 -> 0 | AU23: =G23 -> 2 | AV23: =H23+I23+J23+K23+L23 -> 2 | AW23: =E23+M23 -> 1 | AX23: =AE23+AG23 -> 1 | AY23: =AE23 -> 1 | AZ23: =N23+O23+P23+Q23+R23+S23+T23+U23+V23+W23+X23+Y23+Z23+AA23 -> 1 | BA23: =AB23+AC23+AD23 -> 1 | BB23: =AK23 -> 1 | BC23: =AI23+AJ23 -> 1 | BD23: =AP23 -> 1 | BE23: =AN23+AO23 -> 1
A24: 0 | B24: 15 | C24: ÐÐ êÛáõÝÇùÇ Ù³ñ½Ç ÁÝ¹Ñ³Ýáõñ Çñ³í³ëáõÃÛ³Ý ³é³çÇÝ ³ïÛ³ÝÇ ¹³ï³ñ³Ý | G24: 9 | H24: 9 | M24: 8 | N24: 3 | AB24: 3 | AE24: 3 | AG24: 5 | AI24: 8 | AK24: 8 | AQ24: 1 | AS24: =D24 -> 0 | AT24: =E24+F24 -> 0 | AU24: =G24 -> 9 | AV24: =H24+I24+J24+K24+L24 -> 9 | AW24: =E24+M24 -> 8 | AX24: =AE24+AG24 -> 8 | AY24: =AE24 -> 3 | AZ24: =N24+O24+P24+Q24+R24+S24+T24+U24+V24+W24+X24+Y24+Z24+AA24 -> 3 | BA24: =AB24+AC24+AD24 -> 3 | BB24: =AK24 -> 8 | BC24: =AI24+AJ24 -> 8 | BD24: =AP24 -> 0 | BE24: =AN24+AO24 -> 0
A25: 0 | B25: 16 | C25: ÐÐ î³íáõßÇ Ù³ñ½Ç ÁÝ¹Ñ³Ýáõñ Çñ³í³ëáõÃÛ³Ý ³é³çÇÝ ³ïÛ³ÝÇ ¹³ï³ñ³Ý | G25: 6 | H25: 6 | M25: 4 | N25: 1 | AB25: 1 | AE25: 1 | AG25: 3 | AI25: 4 | AK25: 4 | AS25: =D25 -> 0 | AT25: =E25+F25 -> 0 | AU25: =G25 -> 6 | AV25: =H25+I25+J25+K25+L25 -> 6 | AW25: =E25+M25 -> 4 | AX25: =AE25+AG25 -> 4 | AY25: =AE25 -> 1 | AZ25: =N25+O25+P25+Q25+R25+S25+T25+U25+V25+W25+X25+Y25+Z25+AA25 -> 1 | BA25: =AB25+AC25+AD25 -> 1 | BB25: =AK25 -> 4 | BC25: =AI25+AJ25 -> 4 | BD25: =AP25 -> 0 | BE25: =AN25+AO25 -> 0
B26: 19 | C26: ÈáõÍ³ñí³Í ¹³ï³ñ³ÝÝ»ñ | AS26: =D26 -> 0 | AT26: =E26+F26 -> 0 | AU26: =G26 -> 0 | AV26: =H26+I26+J26+K26+L26 -> 0 | AW26: =E26+M26 -> 0 | AX26: =AE26+AG26 -> 0 | AY26: =AE26 -> 0 | AZ26: =N26+O26+P26+Q26+R26+S26+T26+U26+V26+W26+X26+Y26+Z26+AA26 -> 0 | BA26: =AB26+AC26+AD26 -> 0 | BB26: =AK26 -> 0 | BC26: =AI26+AJ26 -> 0 | BD26: =AP26 -> 0 | BE26: =AN26+AO26 -> 0
A27: 0 | B27: 20 | C27: ÀÝ¹³Ù»ÝÁ | D27: =SUM(D10:D26) -> 0 | E27: =SUM(E10:E26) -> 0 | F27: =SUM(F10:F26) -> 0 | G27: =SUM(G10:G26) -> 118 | H27: =SUM(H10:H26) -> 118 | I27: =SUM(I10:I26) -> 0 | J27: =SUM(J10:J26) -> 0 | K27: =SUM(K10:K26) -> 0 | ... AQ27: =SUM(AQ10:AQ26) -> 11 | AS27: =D27 -> 0 | AT27: =E27+F27 -> 0 | AU27: =G27 -> 118 | AV27: =H27+I27+J27+K27+L27 -> 118 | AW27: =E27+M27 -> 94 | AX27: =AE27+AG27 -> 94 | AY27: =AE27 -> 27 | AZ27: =N27+O27+P27+Q27+R27+S27+T27+U27+V27+W27+X27+Y27+Z27+AA27 -> 27 | BA27: =AB27+AC27+AD27 -> 27 | BB27: =AK27 -> 94 | BC27: =AI27+AJ27 -> 94 | BD27: =AP27 -> 11 | BE27: =AN27+AO27 -> 11
A28: 0
A29: 0
A30: 0
A31: 1
A32: 0

Sheet 6
B1: 2017Ã. 1-ÇÝ ÏÇë³ÙÛ³Ï | D1: Ð²ÞìºîìàôÂÚàôÜ | AK1: Ð³í»Éí³Í Ð³Û³ëï³ÝÇ Ð³Ýñ³å»ïáõÃÛ³Ý ¸³ï³ñ³ÝÝ»ñÇ Ý³Ë³·³ÑÝ»ñÇ ËáñÑñ¹Ç 25.08.2017Ã. ÃÇí 35-È áñáßÙ³Ý
B2: ÐÐ ìºð²øÜÜÆâ øðº²Î²Ü ¸²î²ð²ÜՈՒՄ êî²òì²Ì ´àÔàøÜºðÆ øÜÜàôÂÚ²Ü ìºð²´ºðÚ²È
B3: ¸³ï³Ï³Ý Ï³½Ù` Ա. Ազարյան, Տ. Սահակյան, Մ. Պապոյան, Ս. Համբարձումյան, Ն. Հովակիմյան, Ս. Չիչոյան
B4: ÐÐ í»ñ³ùÝÝÇã ùñ»³Ï³Ý ¹³ï³ñ³ÝáõÙ ¹³ï³íáñÝ»ñÇ Ñ³ëïÇùÝ»ñÇ ÃÇíÁ` 16
D5: Ð³ßí»ïáõ Å³Ù³Ý³Ï³Ñ³ïí³ÍÇ ëÏ½µáõÙ Ý³Ëáñ¹ Ñ³ßí»ïáõ Å³Ù³Ý³Ï³Ñ³ïí³ÍÇó ÷áË³Ýóí³Í ·áñÍ»ñÇ ÁÝ¹Ñ³Ýáõñ ÃÇíÁ | G5: Ð³ßí»ïáõ Å³Ù³Ý³Ï³Ñ³ïí³ÍáõÙ ëï³óí³Í µáÕáùÝ»ñÇ ÁÝ¹Ñ³Ýáõñ ÃÇíÁ | M5: ´áÕáù³ñÏí³Í ³Ïï»ñÇ ù³Ý³ÏÁ, áñáÝó ¹»Ù µ»ñí³Í µáÕáùÝ»ñÝ Ñ³ßí»ïáõ Å³Ù³Ý³Ï³ßñç³ÝáõÙ ÁÝ¹áõÝí»É »Ý í³ñáõÛÃ | N5: Ð³ßí»ïáõ Å³Ù³Ý³Ï³ßñç³ÝáõÙ ùÝÝí³Í ·áñÍ»ñáí Ï³Û³óí³Í áñáßáõÙÝ»ñ | AB5: Ð³ßí»ïáõ Å³Ù³Ý³Ï³Ñ³ïí³ÍáõÙ ³í³ñïí³Í ·áñÍ»ñÇ ÁÝ¹Ñ³Ýáõñ ÃÇíÁ | AF5: Ð³ßí»ïáõ Å³Ù³Ý³Ï³Ñ³ïí³ÍáõÙ Ï³ë»óí³Í í³ñáõÛÃÝ»ñáí ·áñÍ»ñÇ ÁÝ¹Ñ³Ýáõñ ÃÇíÁ | AG5: Ð³ßí»ïáõ Å³Ù³Ý³Ï³Ñ³ïí³ÍáõÙ ³Ý³í³ñï ·áñÍ»ñÇ ÁÝ¹Ñ³Ýáõñ ÃÇíÁ | AH5: ²Û¹ ÃíáõÙ` Ï³ë»óí³Í | AI5: ´áÕáù³ñÏí³Í ¹³ï³Ï³Ý ³Ïï»ñÇ ÃÇíÁ` Áëï ï»ë³ÏÝ»ñÇ | AN5: ´»Ï³Ýí³Í ¹³ï³Ï³Ý ³Ïï»ñÇ ÃÇíÁ` Áëï ï»ë³ÏÝ»ñÇ | AQ5: ´áÕáù³ñÏí»É »Ý í×é³µ»Ï ¹³ï³ñ³Ý
AI6: ²Û¹ ÃíáõÙ` ·áñÍÝ Áëï ¿áõÃÛ³Ý ÉáõÍáÕ ¹³ï³Ï³Ý ³Ïï»ñ | AJ6: ²Û¹ ÃíáõÙ` գործն ըստ էության չլուծող¹³ï³Ï³Ý ³Ïï»ñ | AK6: ÀÝ¹³Ù»ÝÁ | AN6: ²Û¹ ÃíáõÙ` ·áñÍÝ Áëï ¿áõÃÛ³Ý ÉáõÍáÕ ¹³ï³Ï³Ý ³Ïï»ñ | AO6: ²Û¹ ÃíáõÙ` գործն ըստ էության չլուծող¹³ï³Ï³Ý ³Ïï»ñ | AP6: ÀÝ¹³Ù»ÝÁ
D7: ÀÝ¹³Ù»ÝÁ | E7: Այդ թվում` վարույթ ընդունված µáÕáùÝ»ñáí փոխանցված | F7: Այդ թվում` չքննարկված µáÕáùÝ»ñáí փոխանցված | G7: ÀÝ¹³Ù»ÝÁ | H7: Այդ թվում` ընդունվել է վարույթ | I7: Այդ թվում` թողնվել է առանց քննության | J7: Այդ թվում` ÁÝ¹áõÝáõÙÁ մերժվել է | K7: Այդ թվում` í»ñ³ùÝÝÇã í³ñáõÛÃÁ Ï³ñ×í»É ¿ | L7: Այդ թվում` չի քննարկվել | N7: ¸³ï³Ï³Ý ³ÏïÁ ÃáÕÝí»É ¿ ûñÇÝ³Ï³Ý áõÅÇ Ù»ç | O7: ¸³ï³Ï³Ý ³ÏïÝ ³ÙµáÕçáõÃÛ³Ùµ µ»Ï³Ýí»É ¿ ¨ Ï³Û³óí»É ¿ ·áñÍÝ Áëï ¿áõÃÛ³Ý ÉáõÍáÕ ¹³ï³Ï³Ý ³Ïï | P7: ¸³ï³Ï³Ý ³ÏïÁ Ù³ëÝ³ÏÇáñ»Ý µ»Ï³Ýí»É ¿ ¨ µ»Ï³Ýí³Í Ù³ëáí Ï³Û³óí»É ¿ ·áñÍÝ Áëï ¿áõÃÛ³Ý ÉáõÍáÕ ¹³ï³Ï³Ý ³Ïï | Q7: ¸³ï³Ï³Ý ³ÏïÝ ³ÙµáÕçáõÃÛ³Ùµ µ»Ï³Ýí»É ¿ ¨ ·áñÍÝ áõÕ³ñÏí»É ¿ Ýáñ ùÝÝáõÃÛ³Ý | R7: ¹³ï³Ï³Ý ³ÏïÁ Ù³ëÝ³ÏÇáñ»Ý µ»Ï³Ýí»É ¿ ¨ ·áñÍÝ áõÕ³ñÏí»É ¿ Ýáñ ùÝÝáõÃÛ³Ý | S7: ø³Õ.Ñ³ÛóÇ Ù³ëáí ³ÙµáÕçáõÃÛ³Ùµ µ»Ï³Ýí»É ¿ ¹³ï³Ï³Ý ³ÏïÁ ¨ Ñ³ëï³ïí»É ¿ ÏáÕÙ»ñÇ Ñ³ßïáõÃÛ³Ý Ñ³Ù³Ó³ÛÝáõÃÛáõÝÁ | T7: ø³Õ.Ñ³ÛóÇ Ù³ëáí Ù³ëÝ³ÏÇáñ»Ý µ»Ï³Ýí»É ¿ ¹³ï³Ï³Ý ³ÏïÁ ¨ µ»Ï³Ýí³Í Ù³ëáí Ñ³ëï³ïí»É ¿ ÏáÕÙ»ñÇ Ñ³ßïáõÃÛ³Ý Ñ³Ù³Ó³ÛÝáõÃÛáõÝÁ | U7: ²ÙµáÕçáõÃÛ³Ùµ µ»Ï³Ýí»É ¿ ¹³ï³Ï³Ý ³ÏïÁ ¨ ·áñÍÇ í³ñáõÛÃÁ Ï³ñ×í»É ¿ | V7: Ø³ëÝ³ÏÇáñ»Ý µ»Ï³Ýí»É ¿ ¹³ï³Ï³Ý ³ÏïÁ ¨ ³Û¹ Ù³ëáí ·áñÍÇ í³ñáõÛÃÁ Ï³ñ×í»É ¿ | W7: ¸³ï³Ï³Ý ³ÏïÝ ³ÙµáÕçáõÃÛ³Ùµ µ»Ï³Ýí»É ¨ ÷á÷áËí»É ¿ | X7: ¸³ï³Ï³Ý ³ÏïÁ Ù³ëÝ³ÏÇáñ»Ý µ»Ï³Ýí»É ¿ ¨ ³Û¹ Ù³ëáí ÷á÷áËí»É | Y7: Դ³ï³Ï³Ý ³ÏïÁ µ»Ï³Ýí»É ¿ ¨ ù³Õ. Ñ³ÛóÁ ÃáÕÝí»É ¿ ³é³Ýó ùÝÝáõÃÛ³Ý | Z7: Գործն ըստ էության չլուծող դատական ակտը թողնվել է օրինական ուժի մեջ | AA7: Կայացվել է գործն ըստ էության չլուծող նոր դատական ակտ | AB7: ²Û¹ ÃíáõÙ` ·áñÍÝ Áëï ¿áõÃÛ³Ý ÉáõÍ»Éáõ ÑÇÙùáí ³í³ñïí³Í | AC7: ²Û¹ ÃíáõÙ` ·áñÍÇ í³ñáõÛÃÁ Ï³ñ×»Éáõ ÑÇÙùáí ³í³ñïí³Í | AD7: ²Û¹ ÃíáõÙ` ³ÛÉ ÑÇÙùáí ³í³ñïí³Í | AE7: ÀÝ¹³Ù»ÝÁ
C9: ¸²î²ð²ÜÜºð | D9: 1 | E9: 2 | F9: 3 | G9: 4 | H9: 5 | I9: 6 | J9: 7 | K9: 8 | L9: 9 | M9: 10 | N9: 11 | O9: 12 | P9: 13 | Q9: 14 | R9: 15 | S9: 16 | T9: 17 | U9: 18 | V9: 19 | W9: 20 | X9: 21 | Y9: 22 | Z9: 23 | AA9: 24 | AB9: 25 | AC9: 26 | AD9: 27 | AE9: 28 | AF9: 29 | AG9: 30 | AH9: 31 | AI9: 32 | AJ9: 33 | AK9: 34 | AL9: 35 | AM9: 36 | AN9: 35 | AO9: 36 | AP9: 37 | AQ9: 38 | AS9: 1=2+3 | AU9: 4=5+6+7+8+9 | AW9: 2+10=28+30 | AY9: 28 | BB9: 34=32+33 | BD9: 37=35+36
A10: 1 | B10: 1 | C10: ºñ¨³Ý ù³Õ³ùÇ Î»ÝïñáÝ ¨ Üáñù-Ø³ñ³ß í³ñã³Ï³Ý ßñç³ÝÝ»ñÇ ÁÝ¹Ñ³Ýáõñ Çñ³í³ëáõÃÛ³Ý ³é³çÇÝ ³ïÛ³ÝÇ ¹³ï³ñ³Ý | G10: 4 | H10: 4 | M10: 4 | N10: 1 | AB10: 1 | AE10: 1 | AG10: 3 | AI10: 4 | AK10: 4 | AS10: =D10 -> 0 | AT10: =E10+F10 -> 0 | AU10: =G10 -> 4 | AV10: =H10+I10+J10+K10+L10 -> 4 | AW10: =E10+M10 -> 4 | AX10: =AE10+AG10 -> 4 | AY10: =AE10 -> 1 | AZ10: =N10+O10+P10+Q10+R10+S10+T10+U10+V10+W10+X10+Y10+Z10+AA10 -> 1 | BA10: =AB10+AC10+AD10 -> 1 | BB10: =AK10 -> 4 | BC10: =AI10+AJ10 -> 4 | BD10: =AP10 -> 0 | BE10: =AN10+AO10 -> 0
A11: 0 | B11: 2 | C11: ºñ¨³Ý ù³Õ³ùÇ ²ñ³µÏÇñ ¨ ø³Ý³ù»é-¼»ÛÃáõÝ í³ñã³Ï³Ý ßñç³ÝÝ»ñÇ ÁÝ¹Ñ³Ýáõñ Çñ³í³ëáõÃÛ³Ý ¹³ï³ñ³Ý | G11: 5 | H11: 5 | M11: 5 | N11: 1 | AB11: 1 | AE11: 1 | AG11: 4 | AI11: 5 | AK11: 5 | AS11: =D11 -> 0 | AT11: =E11+F11 -> 0 | AU11: =G11 -> 5 | AV11: =H11+I11+J11+K11+L11 -> 5 | AW11: =E11+M11 -> 5 | AX11: =AE11+AG11 -> 5 | AY11: =AE11 -> 1 | AZ11: =N11+O11+P11+Q11+R11+S11+T11+U11+V11+W11+X11+Y11+Z11+AA11 -> 1 | BA11: =AB11+AC11+AD11 -> 1 | BB11: =AK11 -> 5 | BC11: =AI11+AJ11 -> 5 | BD11: =AP11 -> 0 | BE11: =AN11+AO11 -> 0
A12: 0 | B12: 3 | C12: ºñ¨³Ý ù³Õ³ùÇ Þ»Ý·³íÇÃ í³ñã³Ï³Ý ßñç³ÝÇ ÁÝ¹Ñ³Ýáõñ Çñ³í³ëáõÃÛ³Ý ³é³çÇÝ ³ïÛ³ÝÇ ¹³ï³ñ³Ý | G12: 2 | H12: 2 | M12: 2 | AG12: 2 | AI12: 2 | AK12: 2 | AS12: =D12 -> 0 | AT12: =E12+F12 -> 0 | AU12: =G12 -> 2 | AV12: =H12+I12+J12+K12+L12 -> 2 | AW12: =E12+M12 -> 2 | AX12: =AE12+AG12 -> 2 | AY12: =AE12 -> 0 | AZ12: =N12+O12+P12+Q12+R12+S12+T12+U12+V12+W12+X12+Y12+Z12+AA12 -> 0 | BA12: =AB12+AC12+AD12 -> 0 | BB12: =AK12 -> 2 | BC12: =AI12+AJ12 -> 2 | BD12: =AP12 -> 0 | BE12: =AN12+AO12 -> 0
A13: 0 | B13: 4 | C13: ºñ¨³Ý ù³Õ³ùÇ ²ç³÷ÝÛ³Ï ¨ ¸³íÃ³ß»Ý í³ñã³Ï³Ý ßñç³ÝÝ»ñÇ ÁÝ¹Ñ³Ýáõñ Çñ³í³ëáõÃÛ³Ý ³é³çÇÝ ³ïÛ³ÝÇ ¹³ï³ñ³Ý | AS13: =D13 -> 0 | AT13: =E13+F13 -> 0 | AU13: =G13 -> 0 | AV13: =H13+I13+J13+K13+L13 -> 0 | AW13: =E13+M13 -> 0 | AX13: =AE13+AG13 -> 0 | AY13: =AE13 -> 0 | AZ13: =N13+O13+P13+Q13+R13+S13+T13+U13+V13+W13+X13+Y13+Z13+AA13 -> 0 | BA13: =AB13+AC13+AD13 -> 0 | BB13: =AK13 -> 0 | BC13: =AI13+AJ13 -> 0 | BD13: =AP13 -> 0 | BE13: =AN13+AO13 -> 0
A14: 0 | B14: 5 | C14: ºñ¨³Ý ù³Õ³ùÇ ²í³Ý ¨ Üáñ-Üáñù í³ñã³Ï³Ý ßñç³ÝÝ»ñÇ ÁÝ¹Ñ³Ýáõñ Çñ³í³ëáõÃÛ³Ý ³é³çÇÝ ³ïÛ³ÝÇ ¹³ï³ñ³Ý | G14: 4 | H14: 4 | M14: 3 | AG14: 3 | AI14: 3 | AK14: 3 | AS14: =D14 -> 0 | AT14: =E14+F14 -> 0 | AU14: =G14 -> 4 | AV14: =H14+I14+J14+K14+L14 -> 4 | AW14: =E14+M14 -> 3 | AX14: =AE14+AG14 -> 3 | AY14: =AE14 -> 0 | AZ14: =N14+O14+P14+Q14+R14+S14+T14+U14+V14+W14+X14+Y14+Z14+AA14 -> 0 | BA14: =AB14+AC14+AD14 -> 0 | BB14: =AK14 -> 3 | BC14: =AI14+AJ14 -> 3 | BD14: =AP14 -> 0 | BE14: =AN14+AO14 -> 0
A15: 0 | B15: 6 | C15: ºñ¨³Ý ù³Õ³ùÇ ¾ñ»µáõÝÇ-Üáõµ³ñ³ß»Ý í³ñã³Ï³Ý ßñç³ÝÝ»ñÇ ÁÝ¹Ñ³Ýáõñ Çñ³í³ëáõÃÛ³Ý ³é³çÇÝ ³ïÛ³ÝÇ ¹³ï³ñ³Ý | AS15: =D15 -> 0 | AT15: =E15+F15 -> 0 | AU15: =G15 -> 0 | AV15: =H15+I15+J15+K15+L15 -> 0 | AW15: =E15+M15 -> 0 | AX15: =AE15+AG15 -> 0 | AY15: =AE15 -> 0 | AZ15: =N15+O15+P15+Q15+R15+S15+T15+U15+V15+W15+X15+Y15+Z15+AA15 -> 0 | BA15: =AB15+AC15+AD15 -> 0 | BB15: =AK15 -> 0 | BC15: =AI15+AJ15 -> 0 | BD15: =AP15 -> 0 | BE15: =AN15+AO15 -> 0
A16: 0 | B16: 7 | C16: ºñ¨³Ý ù³Õ³ùÇ Ø³É³ÃÇ³-ê»µ³ëïÇ³ í³ñã³Ï³Ý ßñç³ÝÇ ÁÝ¹Ñ³Ýáõñ Çñ³í³ëáõÃÛ³ÝÇ ³é³çÇÝ ³ïÛ³ÝÇ ¹³ï³ñ³Ý | G16: 1 | H16: 1 | M16: 1 | X16: 1 | AB16: 1 | AE16: 1 | AI16: 1 | AK16: 1 | AN16: 1 | AP16: 1 | AS16: =D16 -> 0 | AT16: =E16+F16 -> 0 | AU16: =G16 -> 1 | AV16: =H16+I16+J16+K16+L16 -> 1 | AW16: =E16+M16 -> 1 | AX16: =AE16+AG16 -> 1 | AY16: =AE16 -> 1 | AZ16: =N16+O16+P16+Q16+R16+S16+T16+U16+V16+W16+X16+Y16+Z16+AA16 -> 1 | BA16: =AB16+AC16+AD16 -> 1 | BB16: =AK16 -> 1 | BC16: =AI16+AJ16 -> 1 | BD16: =AP16 -> 1 | BE16: =AN16+AO16 -> 1
A17: 0 | B17: 8 | C17: ÐÐ Èáéáõ Ù³ñ½Ç ÁÝ¹Ñ³Ýáõñ Çñ³í³ëáõÃÛ³Ý ³é³çÇÝ ³ïÛ³ÝÇ ¹³ï³ñ³Ý | G17: 3 | H17: 3 | M17: 3 | N17: 1 | AB17: 1 | AE17: 1 | AG17: 2 | AI17: 3 | AK17: 3 | AS17: =D17 -> 0 | AT17: =E17+F17 -> 0 | AU17: =G17 -> 3 | AV17: =H17+I17+J17+K17+L17 -> 3 | AW17: =E17+M17 -> 3 | AX17: =AE17+AG17 -> 3 | AY17: =AE17 -> 1 | AZ17: =N17+O17+P17+Q17+R17+S17+T17+U17+V17+W17+X17+Y17+Z17+AA17 -> 1 | BA17: =AB17+AC17+AD17 -> 1 | BB17: =AK17 -> 3 | BC17: =AI17+AJ17 -> 3 | BD17: =AP17 -> 0 | BE17: =AN17+AO17 -> 0
A18: 0 | B18: 9 | C18: ÐÐ ÞÇñ³ÏÇ Ù³ñ½Ç ÁÝ¹Ñ³Ýáõñ Çñ³í³ëáõÃÛ³Ý ³é³çÇÝ ³ïÛ³ÝÇ¹³ï³ñ³Ý | G18: 3 | H18: 3 | M18: 3 | N18: 1 | AB18: 1 | AE18: 1 | AG18: 2 | AI18: 3 | AK18: 3 | AS18: =D18 -> 0 | AT18: =E18+F18 -> 0 | AU18: =G18 -> 3 | AV18: =H18+I18+J18+K18+L18 -> 3 | AW18: =E18+M18 -> 3 | AX18: =AE18+AG18 -> 3 | AY18: =AE18 -> 1 | AZ18: =N18+O18+P18+Q18+R18+S18+T18+U18+V18+W18+X18+Y18+Z18+AA18 -> 1 | BA18: =AB18+AC18+AD18 -> 1 | BB18: =AK18 -> 3 | BC18: =AI18+AJ18 -> 3 | BD18: =AP18 -> 0 | BE18: =AN18+AO18 -> 0
A19: 0 | B19: 10 | C19: ÐÐ ²ñÙ³íÇñÇ Ù³ñ½Ç ÁÝ¹Ñ³Ýáõñ Çñ³í³ëáõÃÛ³Ý ³é³çÇÝ ³ïÛ³ÝÇ ¹³ï³ñ³Ý | G19: 1 | H19: 1 | M19: 2 | AG19: 2 | AI19: 2 | AK19: 2 | AS19: =D19 -> 0 | AT19: =E19+F19 -> 0 | AU19: =G19 -> 1 | AV19: =H19+I19+J19+K19+L19 -> 1 | AW19: =E19+M19 -> 2 | AX19: =AE19+AG19 -> 2 | AY19: =AE19 -> 0 | AZ19: =N19+O19+P19+Q19+R19+S19+T19+U19+V19+W19+X19+Y19+Z19+AA19 -> 0 | BA19: =AB19+AC19+AD19 -> 0 | BB19: =AK19 -> 2 | BC19: =AI19+AJ19 -> 2 | BD19: =AP19 -> 0 | BE19: =AN19+AO19 -> 0
A20: 0 | B20: 11 | C20: ÐÐ Îáï³ÛùÇ Ù³ñ½Ç ÁÝ¹Ñ³Ýáõñ Çñ³í³ëáõÃÛ³Ý ³é³çÇÝ ³ïÛ³ÝÇ ¹³ï³ñ³Ý | AS20: =D20 -> 0 | AT20: =E20+F20 -> 0 | AU20: =G20 -> 0 | AV20: =H20+I20+J20+K20+L20 -> 0 | AW20: =E20+M20 -> 0 | AX20: =AE20+AG20 -> 0 | AY20: =AE20 -> 0 | AZ20: =N20+O20+P20+Q20+R20+S20+T20+U20+V20+W20+X20+Y20+Z20+AA20 -> 0 | BA20: =AB20+AC20+AD20 -> 0 | BB20: =AK20 -> 0 | BC20: =AI20+AJ20 -> 0 | BD20: =AP20 -> 0 | BE20: =AN20+AO20 -> 0
A21: 0 | B21: 12 | C21: ÐÐ ²ñ³ñ³ïÇ ¨ ì³Ûáó ÒáñÇ Ù³ñ½»ñÇ ÁÝ¹Ñ³Ýáõñ Çñ³í³ëáõÃÛ³Ý ³é³çÇÝ ³ïÛ³ÝÇ ¹³ï³ñ³Ý | G21: 6 | H21: 6 | M21: 3 | AG21: 3 | AI21: 3 | AK21: 3 | AS21: =D21 -> 0 | AT21: =E21+F21 -> 0 | AU21: =G21 -> 6 | AV21: =H21+I21+J21+K21+L21 -> 6 | AW21: =E21+M21 -> 3 | AX21: =AE21+AG21 -> 3 | AY21: =AE21 -> 0 | AZ21: =N21+O21+P21+Q21+R21+S21+T21+U21+V21+W21+X21+Y21+Z21+AA21 -> 0 | BA21: =AB21+AC21+AD21 -> 0 | BB21: =AK21 -> 3 | BC21: =AI21+AJ21 -> 3 | BD21: =AP21 -> 0 | BE21: =AN21+AO21 -> 0
A22: 0 | B22: 13 | C22: ÐÐ ¶»Õ³ñùáõÝÇùÇ Ù³ñ½Ç ÁÝ¹Ñ³Ýáõñ Çñ³í³ëáõÃÛ³Ý ³é³çÇÝ ³ïÛ³ÝÇ ¹³ï³ñ³Ý | G22: 1 | H22: 1 | M22: 1 | AG22: 1 | AI22: 1 | AK22: 1 | AS22: =D22 -> 0 | AT22: =E22+F22 -> 0 | AU22: =G22 -> 1 | AV22: =H22+I22+J22+K22+L22 -> 1 | AW22: =E22+M22 -> 1 | AX22: =AE22+AG22 -> 1 | AY22: =AE22 -> 0 | AZ22: =N22+O22+P22+Q22+R22+S22+T22+U22+V22+W22+X22+Y22+Z22+AA22 -> 0 | BA22: =AB22+AC22+AD22 -> 0 | BB22: =AK22 -> 1 | BC22: =AI22+AJ22 -> 1 | BD22: =AP22 -> 0 | BE22: =AN22+AO22 -> 0
A23: 0 | B23: 14 | C23: ÐÐ ²ñ³·³ÍáïÝÇ Ù³ñ½Ç ÁÝ¹Ñ³Ýáõñ Çñ³í³ëáõÃÛ³Ý ³é³çÇÝ ³ïÛ³ÝÇ ¹³ï³ñ³Ý | AS23: =D23 -> 0 | AT23: =E23+F23 -> 0 | AU23: =G23 -> 0 | AV23: =H23+I23+J23+K23+L23 -> 0 | AW23: =E23+M23 -> 0 | AX23: =AE23+AG23 -> 0 | AY23: =AE23 -> 0 | AZ23: =N23+O23+P23+Q23+R23+S23+T23+U23+V23+W23+X23+Y23+Z23+AA23 -> 0 | BA23: =AB23+AC23+AD23 -> 0 | BB23: =AK23 -> 0 | BC23: =AI23+AJ23 -> 0 | BD23: =AP23 -> 0 | BE23: =AN23+AO23 -> 0
A24: 0 | B24: 15 | C24: ÐÐ êÛáõÝÇùÇ Ù³ñ½Ç ÁÝ¹Ñ³Ýáõñ Çñ³í³ëáõÃÛ³Ý ³é³çÇÝ ³ïÛ³ÝÇ ¹³ï³ñ³Ý | G24: 7 | H24: 7 | M24: 6 | N24: 1 | AB24: 1 | AE24: 1 | AG24: 5 | AI24: 6 | AK24: 6 | AS24: =D24 -> 0 | AT24: =E24+F24 -> 0 | AU24: =G24 -> 7 | AV24: =H24+I24+J24+K24+L24 -> 7 | AW24: =E24+M24 -> 6 | AX24: =AE24+AG24 -> 6 | AY24: =AE24 -> 1 | AZ24: =N24+O24+P24+Q24+R24+S24+T24+U24+V24+W24+X24+Y24+Z24+AA24 -> 1 | BA24: =AB24+AC24+AD24 -> 1 | BB24: =AK24 -> 6 | BC24: =AI24+AJ24 -> 6 | BD24: =AP24 -> 0 | BE24: =AN24+AO24 -> 0
A25: 0 | B25: 16 | C25: ÐÐ î³íáõßÇ Ù³ñ½Ç ÁÝ¹Ñ³Ýáõñ Çñ³í³ëáõÃÛ³Ý ³é³çÇÝ ³ïÛ³ÝÇ ¹³ï³ñ³Ý | G25: 3 | H25: 3 | M25: 2 | AG25: 2 | AI25: 2 | AK25: 2 | AS25: =D25 -> 0 | AT25: =E25+F25 -> 0 | AU25: =G25 -> 3 | AV25: =H25+I25+J25+K25+L25 -> 3 | AW25: =E25+M25 -> 2 | AX25: =AE25+AG25 -> 2 | AY25: =AE25 -> 0 | AZ25: =N25+O25+P25+Q25+R25+S25+T25+U25+V25+W25+X25+Y25+Z25+AA25 -> 0 | BA25: =AB25+AC25+AD25 -> 0 | BB25: =AK25 -> 2 | BC25: =AI25+AJ25 -> 2 | BD25: =AP25 -> 0 | BE25: =AN25+AO25 -> 0
B26: 19 | C26: ÈáõÍ³ñí³Í ¹³ï³ñ³ÝÝ»ñ | AS26: =D26 -> 0 | AT26: =E26+F26 -> 0 | AU26: =G26 -> 0 | AV26: =H26+I26+J26+K26+L26 -> 0 | AW26: =E26+M26 -> 0 | AX26: =AE26+AG26 -> 0 | AY26: =AE26 -> 0 | AZ26: =N26+O26+P26+Q26+R26+S26+T26+U26+V26+W26+X26+Y26+Z26+AA26 -> 0 | BA26: =AB26+AC26+AD26 -> 0 | BB26: =AK26 -> 0 | BC26: =AI26+AJ26 -> 0 | BD26: =AP26 -> 0 | BE26: =AN26+AO26 -> 0
A27: 0 | B27: 20 | C27: ÀÝ¹³Ù»ÝÁ | D27: =SUM(D10:D26) -> 0 | E27: =SUM(E10:E26) -> 0 | F27: =SUM(F10:F26) -> 0 | G27: =SUM(G10:G26) -> 40 | H27: =SUM(H10:H26) -> 40 | I27: =SUM(I10:I26) -> 0 | J27: =SUM(J10:J26) -> 0 | K27: =SUM(K10:K26) -> 0 | ... AQ27: =SUM(AQ10:AQ26) -> 0 | AS27: =D27 -> 0 | AT27: =E27+F27 -> 0 | AU27: =G27 -> 40 | AV27: =H27+I27+J27+K27+L27 -> 40 | AW27: =E27+M27 -> 35 | AX27: =AE27+AG27 -> 35 | AY27: =AE27 -> 6 | AZ27: =N27+O27+P27+Q27+R27+S27+T27+U27+V27+W27+X27+Y27+Z27+AA27 -> 6 | BA27: =AB27+AC27+AD27 -> 6 | BB27: =AK27 -> 35 | BC27: =AI27+AJ27 -> 35 | BD27: =AP27 -> 1 | BE27: =AN27+AO27 -> 1
A28: 0
A29: 0
A30: 0
A31: 1
A32: 0
