Workbook

Sheet @ndhanur
B1: Ð²ÞìºîìàôÂÚàôÜ
B2: ÐÐ ÁÝ¹Ñ³Ýáõñ Çñ³í³ëáõÃÛ³Ý ³é³çÇÝ ³ïÛ³ÝÇ ¹³ï³ñ³ÝÇ ÏáÕÙÇó í×³ñÙ³Ý Ï³ñ·³¹ñáõÃÛáõÝ ³ñÓ³Ï»Éáõ í³ñáõÛÃÝ»ñÇ ÁÝÃ³óùÇ Ù³ëÇÝ
B3: 2015Ã. 1-ÇÝ ÏÇë³ÙÛ³Ï
A4: êïáõ·Çã Ñ³í³ë³ñáõÙ` 1+2=3+4+5+6+7, 7=8+9+10+11
A5: Ð/Ñ | B5: ¸³ï³íáñÇ ³ÝáõÝ, ³½·³ÝáõÝ | C5: Ð³ßí»ïáõ Å³Ù³Ý³Ï³ßñç³ÝÇ ëÏ½áõÙ ³Ý³í³ñï í³ñáõÛÃÝ»ñÇ ÙÝ³óáñ¹Á | D5: êï³óí»É ¿ í×³ñÙ³Ý Ï³ñ·³¹ñáõÃÛáõÝ ³ñÓ³Ï»Éáõ Ù³ëÇÝ ¹ÇÙáõÙ | E5: ëï³óí»É ¿ ¹ÇÙáõÙ ÁÝÃ³óù ãï³Éáõ Ù³ëÇÝ | F5: Ø»ñÅí»É ¿ | G5: Ø»ñÅí»É ¿ Ù³ëáí | H5: âÇ ³ñÓ³Ïí»É Ñ³ßí»ïáõ Å³Ù³Ý³Ï³ßñç³ÝáõÙ | I5: ²ñÓ³Ïí»É ¿ í×³ñÙ³Ý Ï³ñ·³¹ñáõÃÛáõÝ | J5: êï³óí»É ¿ ³é³ñÏáõÃÛáõÝ | K5: êï³ó»É ¿ ûñÇÝ³Ï³Ý áõÅ | L5: ÂáÕÝí»É ¿ ³ÝÑ»ï¨³Ýù ¨ ûñÇÝ³Ï³Ý áõÅÇ Ù»ç Ùï³Í í×éÇ Ñ»ï¨³Ýù ãÇ ³é³ç³óñ»É | M5: Ð³ßí»ïáõ Å³Ù³Ý³Ï³ßñç³ÝÇ í»ñçáõÙ ³Ý³í³ñï í³ñáõÛÃÝ»ñÇ ÙÝ³óáñ¹Á
C6: 1 | D6: 2 | E6: 3 | F6: 4 | G6: 5 | H6: 6 | I6: 7 | J6: 8 | K6: 9 | L6: 10 | M6: 11
A7: 1 | C7: =Kentron!C7+Arabkir!C7+Ajapnyak!C7+Avan!C7+Shengavit!C7+Erebuni!C7+Malatia!C7+Armavir!C7+Aragacotn!C8+Ararat!C7+Kotayq!C7+Gexarquniq!C7+Lori!C7+Syuniq!C7+Shirak!C7+Tavush!C7 -> 640 | D7: =Kentron!D7+Arabkir!D7+Ajapnyak!D7+Avan!D7+Shengavit!D7+Erebuni!D7+Malatia!D7+Armavir!D7+Aragacotn!D8+Ararat!D7+Kotayq!D7+Gexarquniq!D7+Lori!D7+Syuniq!D7+Shirak!D7+Tavush!D7 -> 4289 | E7: =Kentron!E7+Arabkir!E7+Ajapnyak!E7+Avan!E7+Shengavit!E7+Erebuni!E7+Malatia!E7+Armavir!E7+Aragacotn!E8+Ararat!E7+Kotayq!E7+Gexarquniq!E7+Lori!E7+Syuniq!E7+Shirak!E7+Tavush!E7 -> 14 | F7: =Kentron!F7+Arabkir!F7+Ajapnyak!F7+Avan!F7+Shengavit!F7+Erebuni!F7+Malatia!F7+Armavir!F7+Aragacotn!F8+Ararat!F7+Kotayq!F7+Gexarquniq!F7+Lori!F7+Syuniq!F7+Shirak!F7+Tavush!F7 -> 393 | G7: =Kentron!G7+Arabkir!G7+Ajapnyak!G7+Avan!G7+Shengavit!G7+Erebuni!G7+Malatia!G7+Armavir!G7+Aragacotn!G8+Ararat!G7+Kotayq!G7+Gexarquniq!G7+Lori!G7+Syuniq!G7+Shirak!G7+Tavush!G7 -> 241 | H7: =Kentron!H7+Arabkir!H7+Ajapnyak!H7+Avan!H7+Shengavit!H7+Erebuni!H7+Malatia!H7+Armavir!H7+Aragacotn!H8+Ararat!H7+Kotayq!H7+Gexarquniq!H7+Lori!H7+Syuniq!H7+Shirak!H7+Tavush!H7 -> 761 | I7: =Kentron!I7+Arabkir!I7+Ajapnyak!I7+Avan!I7+Shengavit!I7+Erebuni!I7+Malatia!I7+Armavir!I7+Aragacotn!I8+Ararat!I7+Kotayq!I7+Gexarquniq!I7+Lori!I7+Syuniq!I7+Shirak!I7+Tavush!I7 -> 3520 | J7: =Kentron!J7+Arabkir!J7+Ajapnyak!J7+Avan!J7+Shengavit!J7+Erebuni!J7+Malatia!J7+Armavir!J7+Aragacotn!J8+Ararat!J7+Kotayq!J7+Gexarquniq!J7+Lori!J7+Syuniq!J7+Shirak!J7+Tavush!J7 -> 103 | ... M7: =Kentron!M7+Arabkir!M7+Ajapnyak!M7+Avan!M7+Shengavit!M7+Erebuni!M7+Malatia!M7+Armavir!M7+Aragacotn!M8+Ararat!M7+Kotayq!M7+Gexarquniq!M7+Lori!M7+Syuniq!M7+Shirak!M7+Tavush!M7 -> 1236
A8: 2 | C8: =Kentron!C8+Arabkir!C8+Ajapnyak!C8+Avan!C8+Shengavit!C8+Erebuni!C8+Malatia!C8+Armavir!C8+Aragacotn!C9+Ararat!C8+Kotayq!C8+Gexarquniq!C8+Lori!C8+Syuniq!C8+Shirak!C8+Tavush!C8 -> 176 | D8: =Kentron!D8+Arabkir!D8+Ajapnyak!D8+Avan!D8+Shengavit!D8+Erebuni!D8+Malatia!D8+Armavir!D8+Aragacotn!D9+Ararat!D8+Kotayq!D8+Gexarquniq!D8+Lori!D8+Syuniq!D8+Shirak!D8+Tavush!D8 -> 6340 | E8: =Kentron!E8+Arabkir!E8+Ajapnyak!E8+Avan!E8+Shengavit!E8+Erebuni!E8+Malatia!E8+Armavir!E8+Aragacotn!E9+Ararat!E8+Kotayq!E8+Gexarquniq!E8+Lori!E8+Syuniq!E8+Shirak!E8+Tavush!E8 -> 15 | F8: =Kentron!F8+Arabkir!F8+Ajapnyak!F8+Avan!F8+Shengavit!F8+Erebuni!F8+Malatia!F8+Armavir!F8+Aragacotn!F9+Ararat!F8+Kotayq!F8+Gexarquniq!F8+Lori!F8+Syuniq!F8+Shirak!F8+Tavush!F8 -> 346 | G8: =Kentron!G8+Arabkir!G8+Ajapnyak!G8+Avan!G8+Shengavit!G8+Erebuni!G8+Malatia!G8+Armavir!G8+Aragacotn!G9+Ararat!G8+Kotayq!G8+Gexarquniq!G8+Lori!G8+Syuniq!G8+Shirak!G8+Tavush!G8 -> 394 | H8: =Kentron!H8+Arabkir!H8+Ajapnyak!H8+Avan!H8+Shengavit!H8+Erebuni!H8+Malatia!H8+Armavir!H8+Aragacotn!H9+Ararat!H8+Kotayq!H8+Gexarquniq!H8+Lori!H8+Syuniq!H8+Shirak!H8+Tavush!H8 -> 696 | I8: =Kentron!I8+Arabkir!I8+Ajapnyak!I8+Avan!I8+Shengavit!I8+Erebuni!I8+Malatia!I8+Armavir!I8+Aragacotn!I9+Ararat!I8+Kotayq!I8+Gexarquniq!I8+Lori!I8+Syuniq!I8+Shirak!I8+Tavush!I8 -> 5065 | J8: =Kentron!J8+Arabkir!J8+Ajapnyak!J8+Avan!J8+Shengavit!J8+Erebuni!J8+Malatia!J8+Armavir!J8+Aragacotn!J9+Ararat!J8+Kotayq!J8+Gexarquniq!J8+Lori!J8+Syuniq!J8+Shirak!J8+Tavush!J8 -> 131 | ... M8: =Kentron!M8+Arabkir!M8+Ajapnyak!M8+Avan!M8+Shengavit!M8+Erebuni!M8+Malatia!M8+Armavir!M8+Aragacotn!M9+Ararat!M8+Kotayq!M8+Gexarquniq!M8+Lori!M8+Syuniq!M8+Shirak!M8+Tavush!M8 -> 1791
A9: 3 | C9: =Kentron!C9+Arabkir!C9+Ajapnyak!C9+Avan!C9+Shengavit!C9+Erebuni!C9+Malatia!C9+Armavir!C9+Aragacotn!C10+Ararat!C9+Kotayq!C9+Gexarquniq!C9+Lori!C9+Syuniq!C9+Shirak!C9+Tavush!C9 -> 452 | D9: =Kentron!D9+Arabkir!D9+Ajapnyak!D9+Avan!D9+Shengavit!D9+Erebuni!D9+Malatia!D9+Armavir!D9+Aragacotn!D10+Ararat!D9+Kotayq!D9+Gexarquniq!D9+Lori!D9+Syuniq!D9+Shirak!D9+Tavush!D9 -> 7562 | E9: =Kentron!E9+Arabkir!E9+Ajapnyak!E9+Avan!E9+Shengavit!E9+Erebuni!E9+Malatia!E9+Armavir!E9+Aragacotn!E10+Ararat!E9+Kotayq!E9+Gexarquniq!E9+Lori!E9+Syuniq!E9+Shirak!E9+Tavush!E9 -> 17 | F9: =Kentron!F9+Arabkir!F9+Ajapnyak!F9+Avan!F9+Shengavit!F9+Erebuni!F9+Malatia!F9+Armavir!F9+Aragacotn!F10+Ararat!F9+Kotayq!F9+Gexarquniq!F9+Lori!F9+Syuniq!F9+Shirak!F9+Tavush!F9 -> 498 | G9: =Kentron!G9+Arabkir!G9+Ajapnyak!G9+Avan!G9+Shengavit!G9+Erebuni!G9+Malatia!G9+Armavir!G9+Aragacotn!G10+Ararat!G9+Kotayq!G9+Gexarquniq!G9+Lori!G9+Syuniq!G9+Shirak!G9+Tavush!G9 -> 383 | H9: =Kentron!H9+Arabkir!H9+Ajapnyak!H9+Avan!H9+Shengavit!H9+Erebuni!H9+Malatia!H9+Armavir!H9+Aragacotn!H10+Ararat!H9+Kotayq!H9+Gexarquniq!H9+Lori!H9+Syuniq!H9+Shirak!H9+Tavush!H9 -> 1209 | I9: =Kentron!I9+Arabkir!I9+Ajapnyak!I9+Avan!I9+Shengavit!I9+Erebuni!I9+Malatia!I9+Armavir!I9+Aragacotn!I10+Ararat!I9+Kotayq!I9+Gexarquniq!I9+Lori!I9+Syuniq!I9+Shirak!I9+Tavush!I9 -> 5907 | J9: =Kentron!J9+Arabkir!J9+Ajapnyak!J9+Avan!J9+Shengavit!J9+Erebuni!J9+Malatia!J9+Armavir!J9+Aragacotn!J10+Ararat!J9+Kotayq!J9+Gexarquniq!J9+Lori!J9+Syuniq!J9+Shirak!J9+Tavush!J9 -> 193 | ... M9: =Kentron!M9+Arabkir!M9+Ajapnyak!M9+Avan!M9+Shengavit!M9+Erebuni!M9+Malatia!M9+Armavir!M9+Aragacotn!M10+Ararat!M9+Kotayq!M9+Gexarquniq!M9+Lori!M9+Syuniq!M9+Shirak!M9+Tavush!M9 -> 1526
A10: 4 | C10: =Kentron!C10+Arabkir!C10+Ajapnyak!C10+Avan!C10+Shengavit!C10+Erebuni!C10+Malatia!C10+Armavir!C10+Aragacotn!C11+Ararat!C10+Kotayq!C10+Gexarquniq!C10+Lori!C10+Syuniq!C10+Shirak!C10+Tavush!C10 -> 764 | D10: =Kentron!D10+Arabkir!D10+Ajapnyak!D10+Avan!D10+Shengavit!D10+Erebuni!D10+Malatia!D10+Armavir!D10+Aragacotn!D11+Ararat!D10+Kotayq!D10+Gexarquniq!D10+Lori!D10+Syuniq!D10+Shirak!D10+Tavush!D10 -> 6609 | E10: =Kentron!E10+Arabkir!E10+Ajapnyak!E10+Avan!E10+Shengavit!E10+Erebuni!E10+Malatia!E10+Armavir!E10+Aragacotn!E11+Ararat!E10+Kotayq!E10+Gexarquniq!E10+Lori!E10+Syuniq!E10+Shirak!E10+Tavush!E10 -> 41 | F10: =Kentron!F10+Arabkir!F10+Ajapnyak!F10+Avan!F10+Shengavit!F10+Erebuni!F10+Malatia!F10+Armavir!F10+Aragacotn!F11+Ararat!F10+Kotayq!F10+Gexarquniq!F10+Lori!F10+Syuniq!F10+Shirak!F10+Tavush!F10 -> 272 | G10: =Kentron!G10+Arabkir!G10+Ajapnyak!G10+Avan!G10+Shengavit!G10+Erebuni!G10+Malatia!G10+Armavir!G10+Aragacotn!G11+Ararat!G10+Kotayq!G10+Gexarquniq!G10+Lori!G10+Syuniq!G10+Shirak!G10+Tavush!G10 -> 266 | H10: =Kentron!H10+Arabkir!H10+Ajapnyak!H10+Avan!H10+Shengavit!H10+Erebuni!H10+Malatia!H10+Armavir!H10+Aragacotn!H11+Ararat!H10+Kotayq!H10+Gexarquniq!H10+Lori!H10+Syuniq!H10+Shirak!H10+Tavush!H10 -> 915 | I10: =Kentron!I10+Arabkir!I10+Ajapnyak!I10+Avan!I10+Shengavit!I10+Erebuni!I10+Malatia!I10+Armavir!I10+Aragacotn!I11+Ararat!I10+Kotayq!I10+Gexarquniq!I10+Lori!I10+Syuniq!I10+Shirak!I10+Tavush!I10 -> 5879 | J10: =Kentron!J10+Arabkir!J10+Ajapnyak!J10+Avan!J10+Shengavit!J10+Erebuni!J10+Malatia!J10+Armavir!J10+Aragacotn!J11+Ararat!J10+Kotayq!J10+Gexarquniq!J10+Lori!J10+Syuniq!J10+Shirak!J10+Tavush!J10 -> 163 | ... M10: =Kentron!M10+Arabkir!M10+Ajapnyak!M10+Avan!M10+Shengavit!M10+Erebuni!M10+Malatia!M10+Armavir!M10+Aragacotn!M11+Ararat!M10+Kotayq!M10+Gexarquniq!M10+Lori!M10+Syuniq!M10+Shirak!M10+Tavush!M10 -> 2372
A11: 5 | C11: =Kentron!C11+Arabkir!C11+Ajapnyak!C11+Avan!C11+Shengavit!C11+Erebuni!C11+Malatia!C11+Armavir!C11+Aragacotn!C12+Ararat!C11+Kotayq!C11+Gexarquniq!C11+Lori!C11+Syuniq!C11+Shirak!C11+Tavush!C11 -> 495 | D11: =Kentron!D11+Arabkir!D11+Ajapnyak!D11+Avan!D11+Shengavit!D11+Erebuni!D11+Malatia!D11+Armavir!D11+Aragacotn!D12+Ararat!D11+Kotayq!D11+Gexarquniq!D11+Lori!D11+Syuniq!D11+Shirak!D11+Tavush!D11 -> 5291 | E11: =Kentron!E11+Arabkir!E11+Ajapnyak!E11+Avan!E11+Shengavit!E11+Erebuni!E11+Malatia!E11+Armavir!E11+Aragacotn!E12+Ararat!E11+Kotayq!E11+Gexarquniq!E11+Lori!E11+Syuniq!E11+Shirak!E11+Tavush!E11 -> 33 | F11: =Kentron!F11+Arabkir!F11+Ajapnyak!F11+Avan!F11+Shengavit!F11+Erebuni!F11+Malatia!F11+Armavir!F11+Aragacotn!F12+Ararat!F11+Kotayq!F11+Gexarquniq!F11+Lori!F11+Syuniq!F11+Shirak!F11+Tavush!F11 -> 59 | G11: =Kentron!G11+Arabkir!G11+Ajapnyak!G11+Avan!G11+Shengavit!G11+Erebuni!G11+Malatia!G11+Armavir!G11+Aragacotn!G12+Ararat!G11+Kotayq!G11+Gexarquniq!G11+Lori!G11+Syuniq!G11+Shirak!G11+Tavush!G11 -> 249 | H11: =Kentron!H11+Arabkir!H11+Ajapnyak!H11+Avan!H11+Shengavit!H11+Erebuni!H11+Malatia!H11+Armavir!H11+Aragacotn!H12+Ararat!H11+Kotayq!H11+Gexarquniq!H11+Lori!H11+Syuniq!H11+Shirak!H11+Tavush!H11 -> 863 | I11: =Kentron!I11+Arabkir!I11+Ajapnyak!I11+Avan!I11+Shengavit!I11+Erebuni!I11+Malatia!I11+Armavir!I11+Aragacotn!I12+Ararat!I11+Kotayq!I11+Gexarquniq!I11+Lori!I11+Syuniq!I11+Shirak!I11+Tavush!I11 -> 4582 | J11: =Kentron!J11+Arabkir!J11+Ajapnyak!J11+Avan!J11+Shengavit!J11+Erebuni!J11+Malatia!J11+Armavir!J11+Aragacotn!J12+Ararat!J11+Kotayq!J11+Gexarquniq!J11+Lori!J11+Syuniq!J11+Shirak!J11+Tavush!J11 -> 121 | ... M11: =Kentron!M11+Arabkir!M11+Ajapnyak!M11+Avan!M11+Shengavit!M11+Erebuni!M11+Malatia!M11+Armavir!M11+Aragacotn!M12+Ararat!M11+Kotayq!M11+Gexarquniq!M11+Lori!M11+Syuniq!M11+Shirak!M11+Tavush!M11 -> 1882
A12: 6 | C12: =Kentron!C12+Arabkir!C12+Ajapnyak!C12+Avan!C12+Shengavit!C12+Erebuni!C12+Malatia!C12+Armavir!C12+Aragacotn!C13+Ararat!C12+Kotayq!C12+Gexarquniq!C12+Lori!C12+Syuniq!C12+Shirak!C12+Tavush!C12 -> 87 | D12: =Kentron!D12+Arabkir!D12+Ajapnyak!D12+Avan!D12+Shengavit!D12+Erebuni!D12+Malatia!D12+Armavir!D12+Aragacotn!D13+Ararat!D12+Kotayq!D12+Gexarquniq!D12+Lori!D12+Syuniq!D12+Shirak!D12+Tavush!D12 -> 1618 | E12: =Kentron!E12+Arabkir!E12+Ajapnyak!E12+Avan!E12+Shengavit!E12+Erebuni!E12+Malatia!E12+Armavir!E12+Aragacotn!E13+Ararat!E12+Kotayq!E12+Gexarquniq!E12+Lori!E12+Syuniq!E12+Shirak!E12+Tavush!E12 -> 1 | F12: =Kentron!F12+Arabkir!F12+Ajapnyak!F12+Avan!F12+Shengavit!F12+Erebuni!F12+Malatia!F12+Armavir!F12+Aragacotn!F13+Ararat!F12+Kotayq!F12+Gexarquniq!F12+Lori!F12+Syuniq!F12+Shirak!F12+Tavush!F12 -> 5 | G12: =Kentron!G12+Arabkir!G12+Ajapnyak!G12+Avan!G12+Shengavit!G12+Erebuni!G12+Malatia!G12+Armavir!G12+Aragacotn!G13+Ararat!G12+Kotayq!G12+Gexarquniq!G12+Lori!G12+Syuniq!G12+Shirak!G12+Tavush!G12 -> 41 | H12: =Kentron!H12+Arabkir!H12+Ajapnyak!H12+Avan!H12+Shengavit!H12+Erebuni!H12+Malatia!H12+Armavir!H12+Aragacotn!H13+Ararat!H12+Kotayq!H12+Gexarquniq!H12+Lori!H12+Syuniq!H12+Shirak!H12+Tavush!H12 -> 445 | I12: =Kentron!I12+Arabkir!I12+Ajapnyak!I12+Avan!I12+Shengavit!I12+Erebuni!I12+Malatia!I12+Armavir!I12+Aragacotn!I13+Ararat!I12+Kotayq!I12+Gexarquniq!I12+Lori!I12+Syuniq!I12+Shirak!I12+Tavush!I12 -> 1213 | J12: =Kentron!J12+Arabkir!J12+Ajapnyak!J12+Avan!J12+Shengavit!J12+Erebuni!J12+Malatia!J12+Armavir!J12+Aragacotn!J13+Ararat!J12+Kotayq!J12+Gexarquniq!J12+Lori!J12+Syuniq!J12+Shirak!J12+Tavush!J12 -> 70 | ... M12: =Kentron!M12+Arabkir!M12+Ajapnyak!M12+Avan!M12+Shengavit!M12+Erebuni!M12+Malatia!M12+Armavir!M12+Aragacotn!M13+Ararat!M12+Kotayq!M12+Gexarquniq!M12+Lori!M12+Syuniq!M12+Shirak!M12+Tavush!M12 -> 473
A13: 7 | C13: =Kentron!C13+Arabkir!C13+Ajapnyak!C13+Avan!C13+Shengavit!C13+Erebuni!C13+Malatia!C13+Armavir!C13+Aragacotn!C14+Ararat!C13+Kotayq!C13+Gexarquniq!C13+Lori!C13+Syuniq!C13+Shirak!C13+Tavush!C13 -> 161 | D13: =Kentron!D13+Arabkir!D13+Ajapnyak!D13+Avan!D13+Shengavit!D13+Erebuni!D13+Malatia!D13+Armavir!D13+Aragacotn!D14+Ararat!D13+Kotayq!D13+Gexarquniq!D13+Lori!D13+Syuniq!D13+Shirak!D13+Tavush!D13 -> 2033 | E13: =Kentron!E13+Arabkir!E13+Ajapnyak!E13+Avan!E13+Shengavit!E13+Erebuni!E13+Malatia!E13+Armavir!E13+Aragacotn!E14+Ararat!E13+Kotayq!E13+Gexarquniq!E13+Lori!E13+Syuniq!E13+Shirak!E13+Tavush!E13 -> 22 | F13: =Kentron!F13+Arabkir!F13+Ajapnyak!F13+Avan!F13+Shengavit!F13+Erebuni!F13+Malatia!F13+Armavir!F13+Aragacotn!F14+Ararat!F13+Kotayq!F13+Gexarquniq!F13+Lori!F13+Syuniq!F13+Shirak!F13+Tavush!F13 -> 127 | G13: =Kentron!G13+Arabkir!G13+Ajapnyak!G13+Avan!G13+Shengavit!G13+Erebuni!G13+Malatia!G13+Armavir!G13+Aragacotn!G14+Ararat!G13+Kotayq!G13+Gexarquniq!G13+Lori!G13+Syuniq!G13+Shirak!G13+Tavush!G13 -> 171 | H13: =Kentron!H13+Arabkir!H13+Ajapnyak!H13+Avan!H13+Shengavit!H13+Erebuni!H13+Malatia!H13+Armavir!H13+Aragacotn!H14+Ararat!H13+Kotayq!H13+Gexarquniq!H13+Lori!H13+Syuniq!H13+Shirak!H13+Tavush!H13 -> 237 | I13: =Kentron!I13+Arabkir!I13+Ajapnyak!I13+Avan!I13+Shengavit!I13+Erebuni!I13+Malatia!I13+Armavir!I13+Aragacotn!I14+Ararat!I13+Kotayq!I13+Gexarquniq!I13+Lori!I13+Syuniq!I13+Shirak!I13+Tavush!I13 -> 1637 | J13: =Kentron!J13+Arabkir!J13+Ajapnyak!J13+Avan!J13+Shengavit!J13+Erebuni!J13+Malatia!J13+Armavir!J13+Aragacotn!J14+Ararat!J13+Kotayq!J13+Gexarquniq!J13+Lori!J13+Syuniq!J13+Shirak!J13+Tavush!J13 -> 58 | ... M13: =Kentron!M13+Arabkir!M13+Ajapnyak!M13+Avan!M13+Shengavit!M13+Erebuni!M13+Malatia!M13+Armavir!M13+Aragacotn!M14+Ararat!M13+Kotayq!M13+Gexarquniq!M13+Lori!M13+Syuniq!M13+Shirak!M13+Tavush!M13 -> 518
A14: 8 | C14: =Kentron!C14+Arabkir!C14+Ajapnyak!C14+Avan!C14+Shengavit!C14+Erebuni!C14+Malatia!C14+Armavir!C14+Aragacotn!C15+Ararat!C14+Kotayq!C14+Gexarquniq!C14+Lori!C14+Syuniq!C14+Shirak!C14+Tavush!C14 -> 13 | D14: =Kentron!D14+Arabkir!D14+Ajapnyak!D14+Avan!D14+Shengavit!D14+Erebuni!D14+Malatia!D14+Armavir!D14+Aragacotn!D15+Ararat!D14+Kotayq!D14+Gexarquniq!D14+Lori!D14+Syuniq!D14+Shirak!D14+Tavush!D14 -> 1796 | E14: =Kentron!E14+Arabkir!E14+Ajapnyak!E14+Avan!E14+Shengavit!E14+Erebuni!E14+Malatia!E14+Armavir!E14+Aragacotn!E15+Ararat!E14+Kotayq!E14+Gexarquniq!E14+Lori!E14+Syuniq!E14+Shirak!E14+Tavush!E14 -> 0 | F14: =Kentron!F14+Arabkir!F14+Ajapnyak!F14+Avan!F14+Shengavit!F14+Erebuni!F14+Malatia!F14+Armavir!F14+Aragacotn!F15+Ararat!F14+Kotayq!F14+Gexarquniq!F14+Lori!F14+Syuniq!F14+Shirak!F14+Tavush!F14 -> 108 | G14: =Kentron!G14+Arabkir!G14+Ajapnyak!G14+Avan!G14+Shengavit!G14+Erebuni!G14+Malatia!G14+Armavir!G14+Aragacotn!G15+Ararat!G14+Kotayq!G14+Gexarquniq!G14+Lori!G14+Syuniq!G14+Shirak!G14+Tavush!G14 -> 0 | H14: =Kentron!H14+Arabkir!H14+Ajapnyak!H14+Avan!H14+Shengavit!H14+Erebuni!H14+Malatia!H14+Armavir!H14+Aragacotn!H15+Ararat!H14+Kotayq!H14+Gexarquniq!H14+Lori!H14+Syuniq!H14+Shirak!H14+Tavush!H14 -> 33 | I14: =Kentron!I14+Arabkir!I14+Ajapnyak!I14+Avan!I14+Shengavit!I14+Erebuni!I14+Malatia!I14+Armavir!I14+Aragacotn!I15+Ararat!I14+Kotayq!I14+Gexarquniq!I14+Lori!I14+Syuniq!I14+Shirak!I14+Tavush!I14 -> 1668 | J14: =Kentron!J14+Arabkir!J14+Ajapnyak!J14+Avan!J14+Shengavit!J14+Erebuni!J14+Malatia!J14+Armavir!J14+Aragacotn!J15+Ararat!J14+Kotayq!J14+Gexarquniq!J14+Lori!J14+Syuniq!J14+Shirak!J14+Tavush!J14 -> 91 | ... M14: =Kentron!M14+Arabkir!M14+Ajapnyak!M14+Avan!M14+Shengavit!M14+Erebuni!M14+Malatia!M14+Armavir!M14+Aragacotn!M15+Ararat!M14+Kotayq!M14+Gexarquniq!M14+Lori!M14+Syuniq!M14+Shirak!M14+Tavush!M14 -> 300
A15: 9 | C15: =Kentron!C15+Arabkir!C15+Ajapnyak!C15+Avan!C15+Shengavit!C15+Erebuni!C15+Malatia!C15+Armavir!C15+Aragacotn!C16+Ararat!C15+Kotayq!C15+Gexarquniq!C15+Lori!C15+Syuniq!C15+Shirak!C15+Tavush!C15 -> 0 | D15: =Kentron!D15+Arabkir!D15+Ajapnyak!D15+Avan!D15+Shengavit!D15+Erebuni!D15+Malatia!D15+Armavir!D15+Aragacotn!D16+Ararat!D15+Kotayq!D15+Gexarquniq!D15+Lori!D15+Syuniq!D15+Shirak!D15+Tavush!D15 -> 363 | E15: =Kentron!E15+Arabkir!E15+Ajapnyak!E15+Avan!E15+Shengavit!E15+Erebuni!E15+Malatia!E15+Armavir!E15+Aragacotn!E16+Ararat!E15+Kotayq!E15+Gexarquniq!E15+Lori!E15+Syuniq!E15+Shirak!E15+Tavush!E15 -> 0 | F15: =Kentron!F15+Arabkir!F15+Ajapnyak!F15+Avan!F15+Shengavit!F15+Erebuni!F15+Malatia!F15+Armavir!F15+Aragacotn!F16+Ararat!F15+Kotayq!F15+Gexarquniq!F15+Lori!F15+Syuniq!F15+Shirak!F15+Tavush!F15 -> 33 | G15: =Kentron!G15+Arabkir!G15+Ajapnyak!G15+Avan!G15+Shengavit!G15+Erebuni!G15+Malatia!G15+Armavir!G15+Aragacotn!G16+Ararat!G15+Kotayq!G15+Gexarquniq!G15+Lori!G15+Syuniq!G15+Shirak!G15+Tavush!G15 -> 22 | H15: =Kentron!H15+Arabkir!H15+Ajapnyak!H15+Avan!H15+Shengavit!H15+Erebuni!H15+Malatia!H15+Armavir!H15+Aragacotn!H16+Ararat!H15+Kotayq!H15+Gexarquniq!H15+Lori!H15+Syuniq!H15+Shirak!H15+Tavush!H15 -> 0 | I15: =Kentron!I15+Arabkir!I15+Ajapnyak!I15+Avan!I15+Shengavit!I15+Erebuni!I15+Malatia!I15+Armavir!I15+Aragacotn!I16+Ararat!I15+Kotayq!I15+Gexarquniq!I15+Lori!I15+Syuniq!I15+Shirak!I15+Tavush!I15 -> 308 | J15: =Kentron!J15+Arabkir!J15+Ajapnyak!J15+Avan!J15+Shengavit!J15+Erebuni!J15+Malatia!J15+Armavir!J15+Aragacotn!J16+Ararat!J15+Kotayq!J15+Gexarquniq!J15+Lori!J15+Syuniq!J15+Shirak!J15+Tavush!J15 -> 24 | ... M15: =Kentron!M15+Arabkir!M15+Ajapnyak!M15+Avan!M15+Shengavit!M15+Erebuni!M15+Malatia!M15+Armavir!M15+Aragacotn!M16+Ararat!M15+Kotayq!M15+Gexarquniq!M15+Lori!M15+Syuniq!M15+Shirak!M15+Tavush!M15 -> 76
A16: 10 | C16: =Kentron!C16+Arabkir!C16+Ajapnyak!C16+Avan!C16+Shengavit!C16+Erebuni!C16+Malatia!C16+Armavir!C16+Aragacotn!C17+Ararat!C16+Kotayq!C16+Gexarquniq!C16+Lori!C16+Syuniq!C16+Shirak!C16+Tavush!C16 -> 0 | D16: =Kentron!D16+Arabkir!D16+Ajapnyak!D16+Avan!D16+Shengavit!D16+Erebuni!D16+Malatia!D16+Armavir!D16+Aragacotn!D17+Ararat!D16+Kotayq!D16+Gexarquniq!D16+Lori!D16+Syuniq!D16+Shirak!D16+Tavush!D16 -> 0 | E16: =Kentron!E16+Arabkir!E16+Ajapnyak!E16+Avan!E16+Shengavit!E16+Erebuni!E16+Malatia!E16+Armavir!E16+Aragacotn!E17+Ararat!E16+Kotayq!E16+Gexarquniq!E16+Lori!E16+Syuniq!E16+Shirak!E16+Tavush!E16 -> 0 | F16: =Kentron!F16+Arabkir!F16+Ajapnyak!F16+Avan!F16+Shengavit!F16+Erebuni!F16+Malatia!F16+Armavir!F16+Aragacotn!F17+Ararat!F16+Kotayq!F16+Gexarquniq!F16+Lori!F16+Syuniq!F16+Shirak!F16+Tavush!F16 -> 0 | G16: =Kentron!G16+Arabkir!G16+Ajapnyak!G16+Avan!G16+Shengavit!G16+Erebuni!G16+Malatia!G16+Armavir!G16+Aragacotn!G17+Ararat!G16+Kotayq!G16+Gexarquniq!G16+Lori!G16+Syuniq!G16+Shirak!G16+Tavush!G16 -> 0 | H16: =Kentron!H16+Arabkir!H16+Ajapnyak!H16+Avan!H16+Shengavit!H16+Erebuni!H16+Malatia!H16+Armavir!H16+Aragacotn!H17+Ararat!H16+Kotayq!H16+Gexarquniq!H16+Lori!H16+Syuniq!H16+Shirak!H16+Tavush!H16 -> 0 | I16: =Kentron!I16+Arabkir!I16+Ajapnyak!I16+Avan!I16+Shengavit!I16+Erebuni!I16+Malatia!I16+Armavir!I16+Aragacotn!I17+Ararat!I16+Kotayq!I16+Gexarquniq!I16+Lori!I16+Syuniq!I16+Shirak!I16+Tavush!I16 -> 0 | J16: =Kentron!J16+Arabkir!J16+Ajapnyak!J16+Avan!J16+Shengavit!J16+Erebuni!J16+Malatia!J16+Armavir!J16+Aragacotn!J17+Ararat!J16+Kotayq!J16+Gexarquniq!J16+Lori!J16+Syuniq!J16+Shirak!J16+Tavush!J16 -> 0 | ... M16: =Kentron!M16+Arabkir!M16+Ajapnyak!M16+Avan!M16+Shengavit!M16+Erebuni!M16+Malatia!M16+Armavir!M16+Aragacotn!M17+Ararat!M16+Kotayq!M16+Gexarquniq!M16+Lori!M16+Syuniq!M16+Shirak!M16+Tavush!M16 -> 0
A17: 11 | C17: =Kentron!C17+Arabkir!C17+Ajapnyak!C17+Avan!C17+Shengavit!C17+Erebuni!C17+Malatia!C17+Armavir!C17+Aragacotn!C18+Ararat!C17+Kotayq!C17+Gexarquniq!C17+Lori!C17+Syuniq!C17+Shirak!C17+Tavush!C17 -> 0 | D17: =Kentron!D17+Arabkir!D17+Ajapnyak!D17+Avan!D17+Shengavit!D17+Erebuni!D17+Malatia!D17+Armavir!D17+Aragacotn!D18+Ararat!D17+Kotayq!D17+Gexarquniq!D17+Lori!D17+Syuniq!D17+Shirak!D17+Tavush!D17 -> 0 | E17: =Kentron!E17+Arabkir!E17+Ajapnyak!E17+Avan!E17+Shengavit!E17+Erebuni!E17+Malatia!E17+Armavir!E17+Aragacotn!E18+Ararat!E17+Kotayq!E17+Gexarquniq!E17+Lori!E17+Syuniq!E17+Shirak!E17+Tavush!E17 -> 0 | F17: =Kentron!F17+Arabkir!F17+Ajapnyak!F17+Avan!F17+Shengavit!F17+Erebuni!F17+Malatia!F17+Armavir!F17+Aragacotn!F18+Ararat!F17+Kotayq!F17+Gexarquniq!F17+Lori!F17+Syuniq!F17+Shirak!F17+Tavush!F17 -> 0 | G17: =Kentron!G17+Arabkir!G17+Ajapnyak!G17+Avan!G17+Shengavit!G17+Erebuni!G17+Malatia!G17+Armavir!G17+Aragacotn!G18+Ararat!G17+Kotayq!G17+Gexarquniq!G17+Lori!G17+Syuniq!G17+Shirak!G17+Tavush!G17 -> 0 | H17: =Kentron!H17+Arabkir!H17+Ajapnyak!H17+Avan!H17+Shengavit!H17+Erebuni!H17+Malatia!H17+Armavir!H17+Aragacotn!H18+Ararat!H17+Kotayq!H17+Gexarquniq!H17+Lori!H17+Syuniq!H17+Shirak!H17+Tavush!H17 -> 0 | I17: =Kentron!I17+Arabkir!I17+Ajapnyak!I17+Avan!I17+Shengavit!I17+Erebuni!I17+Malatia!I17+Armavir!I17+Aragacotn!I18+Ararat!I17+Kotayq!I17+Gexarquniq!I17+Lori!I17+Syuniq!I17+Shirak!I17+Tavush!I17 -> 0 | J17: =Kentron!J17+Arabkir!J17+Ajapnyak!J17+Avan!J17+Shengavit!J17+Erebuni!J17+Malatia!J17+Armavir!J17+Aragacotn!J18+Ararat!J17+Kotayq!J17+Gexarquniq!J17+Lori!J17+Syuniq!J17+Shirak!J17+Tavush!J17 -> 0 | ... M17: =Kentron!M17+Arabkir!M17+Ajapnyak!M17+Avan!M17+Shengavit!M17+Erebuni!M17+Malatia!M17+Armavir!M17+Aragacotn!M18+Ararat!M17+Kotayq!M17+Gexarquniq!M17+Lori!M17+Syuniq!M17+Shirak!M17+Tavush!M17 -> 0
A18: 12 | C18: =Kentron!C18+Arabkir!C18+Ajapnyak!C18+Avan!C18+Shengavit!C18+Erebuni!C18+Malatia!C18+Armavir!C18+Aragacotn!C19+Ararat!C18+Kotayq!C18+Gexarquniq!C18+Lori!C18+Syuniq!C18+Shirak!C18+Tavush!C18 -> 0 | D18: =Kentron!D18+Arabkir!D18+Ajapnyak!D18+Avan!D18+Shengavit!D18+Erebuni!D18+Malatia!D18+Armavir!D18+Aragacotn!D19+Ararat!D18+Kotayq!D18+Gexarquniq!D18+Lori!D18+Syuniq!D18+Shirak!D18+Tavush!D18 -> 0 | E18: =Kentron!E18+Arabkir!E18+Ajapnyak!E18+Avan!E18+Shengavit!E18+Erebuni!E18+Malatia!E18+Armavir!E18+Aragacotn!E19+Ararat!E18+Kotayq!E18+Gexarquniq!E18+Lori!E18+Syuniq!E18+Shirak!E18+Tavush!E18 -> 0 | F18: =Kentron!F18+Arabkir!F18+Ajapnyak!F18+Avan!F18+Shengavit!F18+Erebuni!F18+Malatia!F18+Armavir!F18+Aragacotn!F19+Ararat!F18+Kotayq!F18+Gexarquniq!F18+Lori!F18+Syuniq!F18+Shirak!F18+Tavush!F18 -> 0 | G18: =Kentron!G18+Arabkir!G18+Ajapnyak!G18+Avan!G18+Shengavit!G18+Erebuni!G18+Malatia!G18+Armavir!G18+Aragacotn!G19+Ararat!G18+Kotayq!G18+Gexarquniq!G18+Lori!G18+Syuniq!G18+Shirak!G18+Tavush!G18 -> 0 | H18: =Kentron!H18+Arabkir!H18+Ajapnyak!H18+Avan!H18+Shengavit!H18+Erebuni!H18+Malatia!H18+Armavir!H18+Aragacotn!H19+Ararat!H18+Kotayq!H18+Gexarquniq!H18+Lori!H18+Syuniq!H18+Shirak!H18+Tavush!H18 -> 0 | I18: =Kentron!I18+Arabkir!I18+Ajapnyak!I18+Avan!I18+Shengavit!I18+Erebuni!I18+Malatia!I18+Armavir!I18+Aragacotn!I19+Ararat!I18+Kotayq!I18+Gexarquniq!I18+Lori!I18+Syuniq!I18+Shirak!I18+Tavush!I18 -> 0 | J18: =Kentron!J18+Arabkir!J18+Ajapnyak!J18+Avan!J18+Shengavit!J18+Erebuni!J18+Malatia!J18+Armavir!J18+Aragacotn!J19+Ararat!J18+Kotayq!J18+Gexarquniq!J18+Lori!J18+Syuniq!J18+Shirak!J18+Tavush!J18 -> 0 | ... M18: =Kentron!M18+Arabkir!M18+Ajapnyak!M18+Avan!M18+Shengavit!M18+Erebuni!M18+Malatia!M18+Armavir!M18+Aragacotn!M19+Ararat!M18+Kotayq!M18+Gexarquniq!M18+Lori!M18+Syuniq!M18+Shirak!M18+Tavush!M18 -> 0
B19: ÁÝ¹³Ù»ÝÁ | C19: =SUM(C7:C18) -> 2788 | D19: =SUM(D7:D18) -> 35901 | E19: =SUM(E7:E18) -> 143 | F19: =SUM(F7:F18) -> 1841 | G19: =SUM(G7:G18) -> 1767 | H19: =SUM(H7:H18) -> 5159 | I19: =SUM(I7:I18) -> 29779 | J19: =SUM(J7:J18) -> 954 | ... M19: =SUM(M7:M18) -> 10174

Sheet Kentron
B1: Ð²ÞìºîìàôÂÚàôÜ
B2: Կենտրոն և Նորք Մարաշ վարչական շրջանների ÁÝ¹Ñ³Ýáõñ Çñ³í³ëáõÃÛ³Ý ¹³ï³ñ³ÝÇ ÏáÕÙÇó í×³ñÙ³Ý Ï³ñ·³¹ñáõÃÛáõÝ ³ñÓ³Ï»Éáõ í³ñáõÛÃÝ»ñÇ ÁÝÃ³óùÇ Ù³ëÇÝ
B3: 2015Ã. 1-ÇÝ ÏÇë³ÙÛ³Ï
A4: êïáõ·Çã Ñ³í³ë³ñáõÙ` 1+2=3+4+5+6+7, 7=8+9+10+11
A5: Ð/Ñ | B5: ¸³ï³íáñÇ ³ÝáõÝ, ³½·³ÝáõÝ | C5: Ð³ßí»ïáõ Å³Ù³Ý³Ï³ßñç³ÝÇ ëÏ½áõÙ ³Ý³í³ñï í³ñáõÛÃÝ»ñÇ ÙÝ³óáñ¹Á | D5: êï³óí»É ¿ í×³ñÙ³Ý Ï³ñ·³¹ñáõÃÛáõÝ ³ñÓ³Ï»Éáõ Ù³ëÇÝ ¹ÇÙáõÙ | E5: ëï³óí»É ¿ ¹ÇÙáõÙ ÁÝÃ³óù ãï³Éáõ Ù³ëÇÝ | F5: Ø»ñÅí»É ¿ | G5: Ø»ñÅí»É ¿ Ù³ëáí | H5: âÇ ³ñÓ³Ïí»É Ñ³ßí»ïáõ Å³Ù³Ý³Ï³ßñç³ÝáõÙ | I5: ²ñÓ³Ïí»É ¿ í×³ñÙ³Ý Ï³ñ·³¹ñáõÃÛáõÝ | J5: êï³óí»É ¿ ³é³ñÏáõÃÛáõÝ | K5: êï³ó»É ¿ ûñÇÝ³Ï³Ý áõÅ | L5: ÂáÕÝí»É ¿ ³ÝÑ»ï¨³Ýù ¨ ûñÇÝ³Ï³Ý áõÅÇ Ù»ç Ùï³Í í×éÇ Ñ»ï¨³Ýù ãÇ ³é³ç³óñ»É | M5: Ð³ßí»ïáõ Å³Ù³Ý³Ï³ßñç³ÝÇ í»ñçáõÙ ³Ý³í³ñï í³ñáõÛÃÝ»ñÇ ÙÝ³óáñ¹Á
C6: 1 | D6: 2 | E6: 3 | F6: 4 | G6: 5 | H6: 6 | I6: 7 | J6: 8 | K6: 9 | L6: 10 | M6: 11
A7: 1 | B7: Ա.Մելքումյան | C7: 490 | D7: 307 | E7: 0 | F7: 111 | G7: 1 | H7: 508 | I7: 177 | J7: 3 | K7: 48 | L7: 5 | M7: 121
A8: 2 | B8: Հ. Զարգարյան | C8: 0 | D8: 332 | E8: 0 | F8: 0 | G8: 0 | H8: 138 | I8: 194 | J8: 6 | K8: 29 | L8: 31 | M8: 128
A9: 3 | B9: Ռ.Ներսիսյան | C9: 62 | D9: 228 | E9: 4 | F9: 3 | G9: 0 | H9: 59 | I9: 224 | J9: 11 | K9: 75 | L9: 125 | M9: 13
A10: 4 | B10: Էդ.Ավետիսյան | C10: 352 | D10: 270 | E10: 0 | F10: 7 | G10: 1 | H10: 381 | I10: 233 | J10: 10 | K10: 79 | L10: 109 | M10: 35
A11: 5 | B11: Ռ.Ափինյան | C11: 424 | D11: 296 | E11: 0 | F11: 2 | G11: 0 | H11: 392 | I11: 326 | J11: 0 | K11: 177 | L11: 0 | M11: 149
A12: 6 | B12: Կ. Պետրոսյան | C12: 0 | D12: 12 | E12: 0 | F12: 0 | G12: 0 | H12: 12 | I12: 0 | J12: 0 | K12: 0 | L12: 0 | M12: 0
A13: 7 | B13: Գ.Խանդանյան | C13: 156 | D13: 193 | E13: 3 | F13: 14 | G13: 4 | H13: 161 | I13: 167 | J13: 6 | K13: 53 | L13: 91 | M13: 17
A14: 8
A15: 9
A16: 10
A17: 11
A18: 12
B19: ÁÝ¹³Ù»ÝÁ | C19: =SUM(C7:C18) -> 1484 | D19: =SUM(D7:D18) -> 1638 | E19: =SUM(E7:E18) -> 7 | F19: =SUM(F7:F18) -> 137 | G19: =SUM(G7:G18) -> 6 | H19: =SUM(H7:H18) -> 1651 | I19: =SUM(I7:I18) -> 1321 | J19: =SUM(J7:J18) -> 36 | ... M19: =SUM(M7:M18) -> 463

Sheet Arabkir
B1: Ð²ÞìºîìàôÂÚàôÜ
B2: Արաբկիր և Քանաքեռ-Զեյթուն ÁÝ¹Ñ³Ýáõñ Çñ³í³ëáõÃÛ³Ý ¹³ï³ñ³ÝÇ ÏáÕÙÇó í×³ñÙ³Ý Ï³ñ·³¹ñáõÃÛáõÝ ³ñÓ³Ï»Éáõ í³ñáõÛÃÝ»ñÇ ÁÝÃ³óùÇ Ù³ëÇÝ
B3: 2015Ã. 1-ÇÝ ÏÇë³ÙÛ³Ï
A4: êïáõ·Çã Ñ³í³ë³ñáõÙ` 1+2=3+4+5+6+7, 7=8+9+10+11
A5: Ð/Ñ | B5: ¸³ï³íáñÇ ³ÝáõÝ, ³½·³ÝáõÝ | C5: Ð³ßí»ïáõ Å³Ù³Ý³Ï³ßñç³ÝÇ ëÏ½áõÙ ³Ý³í³ñï í³ñáõÛÃÝ»ñÇ ÙÝ³óáñ¹Á | D5: êï³óí»É ¿ í×³ñÙ³Ý Ï³ñ·³¹ñáõÃÛáõÝ ³ñÓ³Ï»Éáõ Ù³ëÇÝ ¹ÇÙáõÙ | E5: ëï³óí»É ¿ ¹ÇÙáõÙ ÁÝÃ³óù ãï³Éáõ Ù³ëÇÝ | F5: Ø»ñÅí»É ¿ | G5: Ø»ñÅí»É ¿ Ù³ëáí | H5: âÇ ³ñÓ³Ïí»É Ñ³ßí»ïáõ Å³Ù³Ý³Ï³ßñç³ÝáõÙ | I5: ²ñÓ³Ïí»É ¿ í×³ñÙ³Ý Ï³ñ·³¹ñáõÃÛáõÝ | J5: êï³óí»É ¿ ³é³ñÏáõÃÛáõÝ | K5: êï³ó»É ¿ ûñÇÝ³Ï³Ý áõÅ | L5: ÂáÕÝí»É ¿ ³ÝÑ»ï¨³Ýù ¨ ûñÇÝ³Ï³Ý áõÅÇ Ù»ç Ùï³Í í×éÇ Ñ»ï¨³Ýù ãÇ ³é³ç³óñ»É | M5: Ð³ßí»ïáõ Å³Ù³Ý³Ï³ßñç³ÝÇ í»ñçáõÙ ³Ý³í³ñï í³ñáõÛÃÝ»ñÇ ÙÝ³óáñ¹Á
C6: 1 | D6: 2 | E6: 3 | F6: 4 | G6: 5 | H6: 6 | I6: 7 | J6: 8 | K6: 9 | L6: 10 | M6: 11
A7: 1 | B7: Ա.Դանիելյան | D7: 6 | H7: 6
A8: 2 | B8: Ռ.Բունիաթյան | D8: 31 | H8: 24 | I8: 7 | M8: 7
A9: 3 | B9: Ս.Հովսեփյան | D9: 920 | F9: 5 | H9: 249 | I9: 666 | J9: 3 | K9: 363 | L9: 300
A10: 4 | B10: Զ.Նախշքարյան | C10: 89 | D10: 1018 | E10: 26 | F10: 59 | H10: 43 | I10: 979 | J10: 23 | K10: 519 | L10: 5 | M10: 432
A11: 5 | B11: Ս. Թադևոսյան | D11: 18 | H11: 18
A12: 6 | B12: Ա.Ստեփանյան
A13: 7 | B13: Հ.Շահնազարյան | D13: 1018 | E13: 17 | F13: 113 | G13: 167 | H13: 47 | I13: 674 | J13: 13 | K13: 603 | L13: 13 | M13: 45
A14: 8
A15: 9
A16: 10
A17: 11
A18: 12
B19: ÁÝ¹³Ù»ÝÁ | C19: =SUM(C7:C18) -> 89 | D19: =SUM(D7:D18) -> 3011 | E19: =SUM(E7:E18) -> 43 | F19: =SUM(F7:F18) -> 177 | G19: =SUM(G7:G18) -> 167 | H19: =SUM(H7:H18) -> 387 | I19: =SUM(I7:I18) -> 2326 | J19: =SUM(J7:J18) -> 39 | ... M19: =SUM(M7:M18) -> 484

Sheet Ajapnyak
B1: Ð²ÞìºîìàôÂÚàôÜ
B2: Աջափնյակ և Դավթաշեն վարչական շրջանների ÁÝ¹Ñ³Ýáõñ Çñ³í³ëáõÃÛ³Ý ¹³ï³ñ³ÝÇ ÏáÕÙÇó í×³ñÙ³Ý Ï³ñ·³¹ñáõÃÛáõÝ ³ñÓ³Ï»Éáõ í³ñáõÛÃÝ»ñÇ ÁÝÃ³óùÇ Ù³ëÇÝ
B3: 2015Ã. 1-ÇÝ ÏÇë³ÙÛ³Ï
A4: êïáõ·Çã Ñ³í³ë³ñáõÙ` 1+2=3+4+5+6+7, 7=8+9+10+11
A5: Ð/Ñ | B5: ¸³ï³íáñÇ ³ÝáõÝ, ³½·³ÝáõÝ | C5: Ð³ßí»ïáõ Å³Ù³Ý³Ï³ßñç³ÝÇ ëÏ½áõÙ ³Ý³í³ñï í³ñáõÛÃÝ»ñÇ ÙÝ³óáñ¹Á | D5: êï³óí»É ¿ í×³ñÙ³Ý Ï³ñ·³¹ñáõÃÛáõÝ ³ñÓ³Ï»Éáõ Ù³ëÇÝ ¹ÇÙáõÙ | E5: ëï³óí»É ¿ ¹ÇÙáõÙ ÁÝÃ³óù ãï³Éáõ Ù³ëÇÝ | F5: Ø»ñÅí»É ¿ | G5: Ø»ñÅí»É ¿ Ù³ëáí | H5: âÇ ³ñÓ³Ïí»É Ñ³ßí»ïáõ Å³Ù³Ý³Ï³ßñç³ÝáõÙ | I5: ²ñÓ³Ïí»É ¿ í×³ñÙ³Ý Ï³ñ·³¹ñáõÃÛáõÝ | J5: êï³óí»É ¿ ³é³ñÏáõÃÛáõÝ | K5: êï³ó»É ¿ ûñÇÝ³Ï³Ý áõÅ | L5: ÂáÕÝí»É ¿ ³ÝÑ»ï¨³Ýù ¨ ûñÇÝ³Ï³Ý áõÅÇ Ù»ç Ùï³Í í×éÇ Ñ»ï¨³Ýù ãÇ ³é³ç³óñ»É | M5: Ð³ßí»ïáõ Å³Ù³Ý³Ï³ßñç³ÝÇ í»ñçáõÙ ³Ý³í³ñï í³ñáõÛÃÝ»ñÇ ÙÝ³óáñ¹Á
C6: 1 | D6: 2 | E6: 3 | F6: 4 | G6: 5 | H6: 6 | I6: 7 | J6: 8 | K6: 9 | L6: 10 | M6: 11
A7: 1 | B7: ²ñÃáõñ êÙµ³ïÛ³Ý | C7: 65 | D7: 261 | E7: 2 | F7: 97 | G7: 32 | H7: 0 | I7: 195 | J7: 2 | K7: 16 | L7: 134 | M7: 43
A8: 2 | B8: Գոռ Թորոսյան | C8: 0 | D8: 886 | E8: 1 | F8: 133 | G8: 124 | H8: 223 | I8: 405 | J8: 3 | K8: 41 | L8: 0 | M8: 361
A9: 3 | B9: ²ÝÇ ØËÇÃ³ñÛ³Ý | C9: 160 | D9: 895 | E9: 2 | F9: 67 | G9: 0 | H9: 357 | I9: 629 | J9: 19 | K9: 150 | L9: 70 | M9: 390
A10: 4 | B10: Աննա Փիլոսյան | C10: 0 | D10: 258 | E10: 0 | F10: 4 | G10: 17 | H10: 86 | I10: 151 | J10: 1 | K10: 0 | L10: 1 | M10: 149
A11: 5
A12: 6
A13: 7
A14: 8
A15: 9
A16: 10
A17: 11
A18: 12
B19: ÁÝ¹³Ù»ÝÁ | C19: =SUM(C7:C18) -> 225 | D19: =SUM(D7:D18) -> 2300 | E19: =SUM(E7:E18) -> 5 | F19: =SUM(F7:F18) -> 301 | G19: =SUM(G7:G18) -> 173 | H19: =SUM(H7:H18) -> 666 | I19: =SUM(I7:I18) -> 1380 | J19: =SUM(J7:J18) -> 25 | ... M19: =SUM(M7:M18) -> 943

Sheet Avan
B1: Ð²ÞìºîìàôÂÚàôÜ
B2: Ավան և Նոր Նորք վարչական շրջանների ÁÝ¹Ñ³Ýáõñ Çñ³í³ëáõÃÛ³Ý ¹³ï³ñ³ÝÇ ÏáÕÙÇó í×³ñÙ³Ý Ï³ñ·³¹ñáõÃÛáõÝ ³ñÓ³Ï»Éáõ í³ñáõÛÃÝ»ñÇ ÁÝÃ³óùÇ Ù³ëÇÝ
B3: 2015Ã. 1-ÇÝ ÏÇë³ÙÛ³Ï
A4: êïáõ·Çã Ñ³í³ë³ñáõÙ` 1+2=3+4+5+6+7, 7=8+9+10+11
A5: Ð/Ñ | B5: ¸³ï³íáñÇ ³ÝáõÝ, ³½·³ÝáõÝ | C5: Ð³ßí»ïáõ Å³Ù³Ý³Ï³ßñç³ÝÇ ëÏ½áõÙ ³Ý³í³ñï í³ñáõÛÃÝ»ñÇ ÙÝ³óáñ¹Á | D5: êï³óí»É ¿ í×³ñÙ³Ý Ï³ñ·³¹ñáõÃÛáõÝ ³ñÓ³Ï»Éáõ Ù³ëÇÝ ¹ÇÙáõÙ | E5: ëï³óí»É ¿ ¹ÇÙáõÙ ÁÝÃ³óù ãï³Éáõ Ù³ëÇÝ | F5: Ø»ñÅí»É ¿ | G5: Ø»ñÅí»É ¿ Ù³ëáí | H5: âÇ ³ñÓ³Ïí»É Ñ³ßí»ïáõ Å³Ù³Ý³Ï³ßñç³ÝáõÙ | I5: ²ñÓ³Ïí»É ¿ í×³ñÙ³Ý Ï³ñ·³¹ñáõÃÛáõÝ | J5: êï³óí»É ¿ ³é³ñÏáõÃÛáõÝ | K5: êï³ó»É ¿ ûñÇÝ³Ï³Ý áõÅ | L5: ÂáÕÝí»É ¿ ³ÝÑ»ï¨³Ýù ¨ ûñÇÝ³Ï³Ý áõÅÇ Ù»ç Ùï³Í í×éÇ Ñ»ï¨³Ýù ãÇ ³é³ç³óñ»É | M5: Ð³ßí»ïáõ Å³Ù³Ý³Ï³ßñç³ÝÇ í»ñçáõÙ ³Ý³í³ñï í³ñáõÛÃÝ»ñÇ ÙÝ³óáñ¹Á
C6: 1 | D6: 2 | E6: 3 | F6: 4 | G6: 5 | H6: 6 | I6: 7 | J6: 8 | K6: 9 | L6: 10 | M6: 11
A7: 1 | B7: Ø³½Ù³ÝÛ³Ý | C7: 62 | D7: 354 | F7: 36 | G7: 66 | I7: 314 | J7: 12 | K7: 222 | L7: 11 | M7: 69
A8: 2 | B8: Ø³ñ·³ñÛ³Ý | C8: 63 | D8: 419 | F8: 38 | H8: 80 | I8: 364 | J8: 7 | K8: 181 | L8: 23 | M8: 153
A9: 3 | B9: ²Ù³ÉÛ³Ý | C9: 49 | D9: 411 | E9: 1 | F9: 30 | G9: 60 | H9: 34 | I9: 335 | J9: 7 | K9: 251 | L9: 8 | M9: 69
A10: 4 | B10: ´³¹ÇñÛ³Ý | C10: 7 | D10: 476 | F10: 24 | G10: 17 | H10: 36 | I10: 406 | J10: 6 | K10: 87 | L10: 100 | M10: 213
A11: 5 | B11: ¸³íÃÛ³Ý | C11: 12 | D11: 525 | E11: 2 | F11: 25 | G11: 57 | H11: 68 | I11: 385 | J11: 13 | K11: 211 | L11: 33 | M11: 128
A12: 6 | B12: ´³µ³Û³Ý
A13: 7 | B13: ä»ïñáëÛ³Ý
A14: 8
A15: 9
A16: 10
A17: 11
A18: 12
B19: ÁÝ¹³Ù»ÝÁ | C19: =SUM(C7:C18) -> 193 | D19: =SUM(D7:D18) -> 2185 | E19: =SUM(E7:E18) -> 3 | F19: =SUM(F7:F18) -> 153 | G19: =SUM(G7:G18) -> 200 | H19: =SUM(H7:H18) -> 218 | I19: =SUM(I7:I18) -> 1804 | J19: =SUM(J7:J18) -> 45 | ... M19: =SUM(M7:M18) -> 632

Sheet Shengavit
B1: Ð²ÞìºîìàôÂÚàôÜ
B2: Շենգավիթ վարչական շրջանի ÁÝ¹Ñ³Ýáõñ Çñ³í³ëáõÃÛ³Ý ¹³ï³ñ³ÝÇ ÏáÕÙÇó í×³ñÙ³Ý Ï³ñ·³¹ñáõÃÛáõÝ ³ñÓ³Ï»Éáõ í³ñáõÛÃÝ»ñÇ ÁÝÃ³óùÇ Ù³ëÇÝ
B3: 2015Ã. 1-ÇÝ ÏÇë³ÙÛ³Ï
A4: êïáõ·Çã Ñ³í³ë³ñáõÙ` 1+2=3+4+5+6+7, 7=8+9+10+11
A5: Ð/Ñ | B5: ¸³ï³íáñÇ ³ÝáõÝ, ³½·³ÝáõÝ | C5: Ð³ßí»ïáõ Å³Ù³Ý³Ï³ßñç³ÝÇ ëÏ½áõÙ ³Ý³í³ñï í³ñáõÛÃÝ»ñÇ ÙÝ³óáñ¹Á | D5: êï³óí»É ¿ í×³ñÙ³Ý Ï³ñ·³¹ñáõÃÛáõÝ ³ñÓ³Ï»Éáõ Ù³ëÇÝ ¹ÇÙáõÙ | E5: ëï³óí»É ¿ ¹ÇÙáõÙ ÁÝÃ³óù ãï³Éáõ Ù³ëÇÝ | F5: Ø»ñÅí»É ¿ | G5: Ø»ñÅí»É ¿ Ù³ëáí | H5: âÇ ³ñÓ³Ïí»É Ñ³ßí»ïáõ Å³Ù³Ý³Ï³ßñç³ÝáõÙ | I5: ²ñÓ³Ïí»É ¿ í×³ñÙ³Ý Ï³ñ·³¹ñáõÃÛáõÝ | J5: êï³óí»É ¿ ³é³ñÏáõÃÛáõÝ | K5: êï³ó»É ¿ ûñÇÝ³Ï³Ý áõÅ | L5: ÂáÕÝí»É ¿ ³ÝÑ»ï¨³Ýù ¨ ûñÇÝ³Ï³Ý áõÅÇ Ù»ç Ùï³Í í×éÇ Ñ»ï¨³Ýù ãÇ ³é³ç³óñ»É | M5: Ð³ßí»ïáõ Å³Ù³Ý³Ï³ßñç³ÝÇ í»ñçáõÙ ³Ý³í³ñï í³ñáõÛÃÝ»ñÇ ÙÝ³óáñ¹Á
C6: 1 | D6: 2 | E6: 3 | F6: 4 | G6: 5 | H6: 6 | I6: 7 | J6: 8 | K6: 9 | L6: 10 | M6: 11
A7: 1 | B7: Ն. Հովսեփյան | C7: 0 | D7: 509 | E7: 7 | F7: 0 | G7: 1 | H7: 72 | I7: 429 | J7: 4 | K7: 76 | L7: 119 | M7: 230
A8: 2 | B8: Ա. Չիչոյան | C8: 0 | D8: 513 | E8: 1 | F8: 0 | G8: 0 | H8: 82 | I8: 430 | J8: 5 | K8: 95 | L8: 115 | M8: 215
A9: 3 | B9: Ա. Կուբանյան | C9: 0 | D9: 507 | E9: 0 | F9: 27 | G9: 91 | H9: 68 | I9: 321 | J9: 16 | K9: 107 | L9: 152 | M9: 46
A10: 4 | B10: Ի. Բարսեղյան | C10: 0 | D10: 522 | E10: 0 | F10: 4 | G10: 0 | H10: 15 | I10: 503 | J10: 10 | K10: 81 | L10: 198 | M10: 214
A11: 5
A12: 6
A13: 7
A14: 8
A15: 9
A16: 10
A17: 11
A18: 12
B19: ÁÝ¹³Ù»ÝÁ | C19: =SUM(C7:C18) -> 0 | D19: =SUM(D7:D18) -> 2051 | E19: =SUM(E7:E18) -> 8 | F19: =SUM(F7:F18) -> 31 | G19: =SUM(G7:G18) -> 92 | H19: =SUM(H7:H18) -> 237 | I19: =SUM(I7:I18) -> 1683 | J19: =SUM(J7:J18) -> 35 | ... M19: =SUM(M7:M18) -> 705

Sheet Erebuni
B1: Ð²ÞìºîìàôÂÚàôÜ
B2: Էրեբունի և Նուբարաշեն վարչական շրջանի ÁÝ¹Ñ³Ýáõñ Çñ³í³ëáõÃÛ³Ý ¹³ï³ñ³ÝÇ ÏáÕÙÇó í×³ñÙ³Ý Ï³ñ·³¹ñáõÃÛáõÝ ³ñÓ³Ï»Éáõ í³ñáõÛÃÝ»ñÇ ÁÝÃ³óùÇ Ù³ëÇÝ
B3: 2015Ã. 1-ÇÝ ÏÇë³ÙÛ³Ï
A4: êïáõ·Çã Ñ³í³ë³ñáõÙ` 1+2=3+4+5+6+7, 7=8+9+10+11
A5: Ð/Ñ | B5: ¸³ï³íáñÇ ³ÝáõÝ, ³½·³ÝáõÝ | C5: Ð³ßí»ïáõ Å³Ù³Ý³Ï³ßñç³ÝÇ ëÏ½áõÙ ³Ý³í³ñï í³ñáõÛÃÝ»ñÇ ÙÝ³óáñ¹Á | D5: êï³óí»É ¿ í×³ñÙ³Ý Ï³ñ·³¹ñáõÃÛáõÝ ³ñÓ³Ï»Éáõ Ù³ëÇÝ ¹ÇÙáõÙ | E5: ëï³óí»É ¿ ¹ÇÙáõÙ ÁÝÃ³óù ãï³Éáõ Ù³ëÇÝ | F5: Ø»ñÅí»É ¿ | G5: Ø»ñÅí»É ¿ Ù³ëáí | H5: âÇ ³ñÓ³Ïí»É Ñ³ßí»ïáõ Å³Ù³Ý³Ï³ßñç³ÝáõÙ | I5: ²ñÓ³Ïí»É ¿ í×³ñÙ³Ý Ï³ñ·³¹ñáõÃÛáõÝ | J5: êï³óí»É ¿ ³é³ñÏáõÃÛáõÝ | K5: êï³ó»É ¿ ûñÇÝ³Ï³Ý áõÅ | L5: ÂáÕÝí»É ¿ ³ÝÑ»ï¨³Ýù ¨ ûñÇÝ³Ï³Ý áõÅÇ Ù»ç Ùï³Í í×éÇ Ñ»ï¨³Ýù ãÇ ³é³ç³óñ»É | M5: Ð³ßí»ïáõ Å³Ù³Ý³Ï³ßñç³ÝÇ í»ñçáõÙ ³Ý³í³ñï í³ñáõÛÃÝ»ñÇ ÙÝ³óáñ¹Á
C6: 1 | D6: 2 | E6: 3 | F6: 4 | G6: 5 | H6: 6 | I6: 7 | J6: 8 | K6: 9 | L6: 10 | M6: 11
A7: 1 | B7: Լ. Գրիգորյան | D7: 461 | E7: 0 | F7: 6 | G7: 85 | H7: 0 | I7: 370 | J7: 3 | K7: 112 | L7: 112 | M7: 143
A8: 2 | B8: Տ. Ստեփանյան | D8: 527 | E8: 0 | F8: 87 | G8: 97 | H8: 0 | I8: 343 | J8: 3 | K8: 111 | L8: 117 | M8: 112
A9: 3 | B9: Ե.Եսոյան | D9: 556 | E9: 0 | F9: 11 | G9: 0 | H9: 0 | I9: 545 | J9: 6 | K9: 293 | L9: 124 | M9: 122
A10: 4 | B10: Գ.Խաչատրյան | D10: 542 | E10: 0 | F10: 29 | G10: 0 | H10: 0 | I10: 513 | J10: 7 | K10: 162 | L10: 158 | M10: 186
A11: 5
A12: 6
A13: 7
A14: 8
A15: 9
A16: 10
A17: 11
A18: 12
B19: ÁÝ¹³Ù»ÝÁ | C19: =SUM(C7:C18) -> 0 | D19: =SUM(D7:D18) -> 2086 | E19: =SUM(E7:E18) -> 0 | F19: =SUM(F7:F18) -> 133 | G19: =SUM(G7:G18) -> 182 | H19: =SUM(H7:H18) -> 0 | I19: =SUM(I7:I18) -> 1771 | J19: =SUM(J7:J18) -> 19 | ... M19: =SUM(M7:M18) -> 563

Sheet Malatia
B1: Ð²ÞìºîìàôÂÚàôÜ
B2: Մալաթիա վարչական շրջանի ÁÝ¹Ñ³Ýáõñ Çñ³í³ëáõÃÛ³Ý ¹³ï³ñ³ÝÇ ÏáÕÙÇó í×³ñÙ³Ý Ï³ñ·³¹ñáõÃÛáõÝ ³ñÓ³Ï»Éáõ í³ñáõÛÃÝ»ñÇ ÁÝÃ³óùÇ Ù³ëÇÝ
B3: 2015Ã. 1-ÇÝ ÏÇë³ÙÛ³Ï
A4: êïáõ·Çã Ñ³í³ë³ñáõÙ` 1+2=3+4+5+6+7, 7=8+9+10+11
A5: Ð/Ñ | B5: ¸³ï³íáñÇ ³ÝáõÝ, ³½·³ÝáõÝ | C5: Ð³ßí»ïáõ Å³Ù³Ý³Ï³ßñç³ÝÇ ëÏ½áõÙ ³Ý³í³ñï í³ñáõÛÃÝ»ñÇ ÙÝ³óáñ¹Á | D5: êï³óí»É ¿ í×³ñÙ³Ý Ï³ñ·³¹ñáõÃÛáõÝ ³ñÓ³Ï»Éáõ Ù³ëÇÝ ¹ÇÙáõÙ | E5: ëï³óí»É ¿ ¹ÇÙáõÙ ÁÝÃ³óù ãï³Éáõ Ù³ëÇÝ | F5: Ø»ñÅí»É ¿ | G5: Ø»ñÅí»É ¿ Ù³ëáí | H5: âÇ ³ñÓ³Ïí»É Ñ³ßí»ïáõ Å³Ù³Ý³Ï³ßñç³ÝáõÙ | I5: ²ñÓ³Ïí»É ¿ í×³ñÙ³Ý Ï³ñ·³¹ñáõÃÛáõÝ | J5: êï³óí»É ¿ ³é³ñÏáõÃÛáõÝ | K5: êï³ó»É ¿ ûñÇÝ³Ï³Ý áõÅ | L5: ÂáÕÝí»É ¿ ³ÝÑ»ï¨³Ýù ¨ ûñÇÝ³Ï³Ý áõÅÇ Ù»ç Ùï³Í í×éÇ Ñ»ï¨³Ýù ãÇ ³é³ç³óñ»É | M5: Ð³ßí»ïáõ Å³Ù³Ý³Ï³ßñç³ÝÇ í»ñçáõÙ ³Ý³í³ñï í³ñáõÛÃÝ»ñÇ ÙÝ³óáñ¹Á
C6: 1 | D6: 2 | E6: 3 | F6: 4 | G6: 5 | H6: 6 | I6: 7 | J6: 8 | K6: 9 | L6: 10 | M6: 11
A7: 1 | B7: Գ. Ավագյան | D7: 10 | F7: 1 | I7: 9 | M7: 9
A8: 2 | B8: Ð.ÐáíÑ³ÝÝÇëÛ³Ý | D8: 441 | E8: 11 | F8: 1 | I8: 429 | J8: 10 | K8: 191 | L8: 185 | M8: 43
A9: 3 | B9: Ն. Կարապետյան | D9: 495 | F9: 230 | H9: 36 | I9: 229 | J9: 3 | K9: 105 | L9: 24 | M9: 97
A10: 4 | B10: ².ØÏñïãÛ³Ý | D10: 485 | E10: 8 | F10: 90 | H10: 63 | I10: 324 | J10: 9 | K10: 134 | L10: 139 | M10: 42
A11: 5 | B11: Լ. Կատվալյան | D11: 491 | E11: 1 | F11: 2 | H11: 64 | I11: 424 | J11: 1 | K11: 25 | L11: 19 | M11: 379
A12: 6
A13: 7
A14: 8
A15: 9
A16: 10
A17: 11
A18: 12
B19: ÁÝ¹³Ù»ÝÁ | C19: =SUM(C7:C18) -> 0 | D19: =SUM(D7:D18) -> 1922 | E19: =SUM(E7:E18) -> 20 | F19: =SUM(F7:F18) -> 324 | G19: =SUM(G7:G18) -> 0 | H19: =SUM(H7:H18) -> 163 | I19: =SUM(I7:I18) -> 1415 | J19: =SUM(J7:J18) -> 23 | ... M19: =SUM(M7:M18) -> 570

Sheet Armavir
B1: Ð²ÞìºîìàôÂÚàôÜ
B2: ÐÐ Արմավիրի մարզի ÁÝ¹Ñ³Ýáõñ Çñ³í³ëáõÃÛ³Ý ¹³ï³ñ³ÝÇ ÏáÕÙÇó í×³ñÙ³Ý Ï³ñ·³¹ñáõÃÛáõÝ ³ñÓ³Ï»Éáõ í³ñáõÛÃÝ»ñÇ ÁÝÃ³óùÇ Ù³ëÇÝ
B3: 2015Ã. 1-ÇÝ ÏÇë³ÙÛ³Ï
A4: êïáõ·Çã Ñ³í³ë³ñáõÙ` 1+2=3+4+5+6+7, 7=8+9+10+11
A5: Ð/Ñ | B5: ¸³ï³íáñÇ ³ÝáõÝ, ³½·³ÝáõÝ | C5: Ð³ßí»ïáõ Å³Ù³Ý³Ï³ßñç³ÝÇ ëÏ½áõÙ ³Ý³í³ñï í³ñáõÛÃÝ»ñÇ ÙÝ³óáñ¹Á | D5: êï³óí»É ¿ í×³ñÙ³Ý Ï³ñ·³¹ñáõÃÛáõÝ ³ñÓ³Ï»Éáõ Ù³ëÇÝ ¹ÇÙáõÙ | E5: ëï³óí»É ¿ ¹ÇÙáõÙ ÁÝÃ³óù ãï³Éáõ Ù³ëÇÝ | F5: Ø»ñÅí»É ¿ | G5: Ø»ñÅí»É ¿ Ù³ëáí | H5: âÇ ³ñÓ³Ïí»É Ñ³ßí»ïáõ Å³Ù³Ý³Ï³ßñç³ÝáõÙ | I5: ²ñÓ³Ïí»É ¿ í×³ñÙ³Ý Ï³ñ·³¹ñáõÃÛáõÝ | J5: êï³óí»É ¿ ³é³ñÏáõÃÛáõÝ | K5: êï³ó»É ¿ ûñÇÝ³Ï³Ý áõÅ | L5: ÂáÕÝí»É ¿ ³ÝÑ»ï¨³Ýù ¨ ûñÇÝ³Ï³Ý áõÅÇ Ù»ç Ùï³Í í×éÇ Ñ»ï¨³Ýù ãÇ ³é³ç³óñ»É | M5: Ð³ßí»ïáõ Å³Ù³Ý³Ï³ßñç³ÝÇ í»ñçáõÙ ³Ý³í³ñï í³ñáõÛÃÝ»ñÇ ÙÝ³óáñ¹Á
C6: 1 | D6: 2 | E6: 3 | F6: 4 | G6: 5 | H6: 6 | I6: 7 | J6: 8 | K6: 9 | L6: 10 | M6: 11
A7: 1 | B7: Սիմոնյան Մանվել | D7: 473 | F7: 2 | H7: 61 | I7: 410 | J7: 14 | K7: 193 | L7: 90 | M7: 113
A8: 2 | B8: Ֆիդանյան Գոհար | D8: 458 | F8: 3 | G8: 62 | H8: 5 | I8: 388 | J8: 16 | K8: 205 | L8: 97 | M8: 70
A9: 3 | B9: Հովհաննիսյան Էդգար | D9: 468 | F9: 12 | H9: 61 | I9: 395 | J9: 16 | K9: 229 | L9: 61 | M9: 89
A10: 4 | B10: Մելքոնյան Հովհաննես | D10: 677 | E10: 2 | F10: 8 | G10: 112 | H10: 0 | I10: 555 | J10: 12 | K10: 243 | L10: 119 | M10: 181
A11: 5 | B11: Գրիգորյան Նաիրա | D11: 687 | G11: 132 | H11: 18 | I11: 537 | J11: 10 | K11: 440 | L11: 27 | M11: 60
A12: 6
A13: 7
A14: 8
A15: 9
A16: 10
A17: 11
A18: 12
B19: ÁÝ¹³Ù»ÝÁ | C19: =SUM(C7:C18) -> 0 | D19: =SUM(D7:D18) -> 2763 | E19: =SUM(E7:E18) -> 2 | F19: =SUM(F7:F18) -> 25 | G19: =SUM(G7:G18) -> 306 | H19: =SUM(H7:H18) -> 145 | I19: =SUM(I7:I18) -> 2285 | J19: =SUM(J7:J18) -> 68 | ... M19: =SUM(M7:M18) -> 513

Sheet Aragacotn
B1: Ð²ÞìºîìàôÂÚàôÜ
A2: Հավելված 2 Հայաստանի Հանրապետության Դատարանների նախագահների խորհրդի 2007թ. դեկտեմբերի 21-ի թիվ 23Լ որոշման
B3: ÐÐ Արագածոտնի մարզի ÁÝ¹Ñ³Ýáõñ Çñ³í³ëáõÃÛ³Ý ¹³ï³ñ³ÝÇ ÏáÕÙÇó í×³ñÙ³Ý Ï³ñ·³¹ñáõÃÛáõÝ ³ñÓ³Ï»Éáõ í³ñáõÛÃÝ»ñÇ ÁÝÃ³óùÇ Ù³ëÇÝ
B4: 2015Ã. 1-ÇÝ ÏÇë³ÙÛ³Ï
A5: êïáõ·Çã Ñ³í³ë³ñáõÙ` 1+2=3+4+5+6+7, 7=8+9+10+11
A6: Ð/Ñ | B6: ¸³ï³íáñÇ ³ÝáõÝ, ³½·³ÝáõÝ | C6: Ð³ßí»ïáõ Å³Ù³Ý³Ï³ßñç³ÝÇ ëÏ½áõÙ ³Ý³í³ñï í³ñáõÛÃÝ»ñÇ ÙÝ³óáñ¹Á | D6: êï³óí»É ¿ í×³ñÙ³Ý Ï³ñ·³¹ñáõÃÛáõÝ ³ñÓ³Ï»Éáõ Ù³ëÇÝ ¹ÇÙáõÙ | E6: ëï³óí»É ¿ ¹ÇÙáõÙ ÁÝÃ³óù ãï³Éáõ Ù³ëÇÝ | F6: Ø»ñÅí»É ¿ | G6: Ø»ñÅí»É ¿ Ù³ëáí | H6: âÇ ³ñÓ³Ïí»É Ñ³ßí»ïáõ Å³Ù³Ý³Ï³ßñç³ÝáõÙ | I6: ²ñÓ³Ïí»É ¿ í×³ñÙ³Ý Ï³ñ·³¹ñáõÃÛáõÝ | J6: êï³óí»É ¿ ³é³ñÏáõÃÛáõÝ | K6: êï³ó»É ¿ ûñÇÝ³Ï³Ý áõÅ | L6: ÂáÕÝí»É ¿ ³ÝÑ»ï¨³Ýù ¨ ûñÇÝ³Ï³Ý áõÅÇ Ù»ç Ùï³Í í×éÇ Ñ»ï¨³Ýù ãÇ ³é³ç³óñ»É | M6: Ð³ßí»ïáõ Å³Ù³Ý³Ï³ßñç³ÝÇ í»ñçáõÙ ³Ý³í³ñï í³ñáõÛÃÝ»ñÇ ÙÝ³óáñ¹Á
C7: 1 | D7: 2 | E7: 3 | F7: 4 | G7: 5 | H7: 6 | I7: 7 | J7: 8 | K7: 9 | L7: 10 | M7: 11
A8: 1 | B8: Մանուկ Մարգարյան | D8: 420 | E8: 5 | F8: 131 | G8: 37 | H8: 32 | I8: 215 | J8: 6 | K8: 90 | L8: 87 | M8: 32
A9: 2 | B9: Արթուր Մարգարյան | D9: 192 | F9: 26 | G9: 7 | I9: 159 | J9: 8 | K9: 82 | L9: 69
A10: 3 | B10: Գոհարիկ Խաչատրյան | D10: 358 | E10: 2 | F10: 63 | G10: 44 | H10: 50 | I10: 199 | J10: 3 | K10: 122 | L10: 24 | M10: 50
A11: 4 | B11: Գևորգ Նարինյան | C11: 1 | D11: 418 | E11: 5 | F11: 37 | G11: 57 | H11: 7 | I11: 313 | J11: 4 | K11: 144 | L11: 158 | M11: 7
A12: 5
A13: 6
A14: 7
A15: 8
A16: 9
A17: 10
A18: 11
A19: 12
B20: ÁÝ¹³Ù»ÝÁ | C20: =SUM(C8:C19) -> 1 | D20: =SUM(D8:D19) -> 1388 | E20: =SUM(E8:E19) -> 12 | F20: =SUM(F8:F19) -> 257 | G20: =SUM(G8:G19) -> 145 | H20: =SUM(H8:H19) -> 89 | I20: =SUM(I8:I19) -> 886 | J20: =SUM(J8:J19) -> 21 | ... M20: =SUM(M8:M19) -> 89

Sheet Ararat
B1: Ð²ÞìºîìàôÂÚàôÜ
B2: ÐÐ Արարատի և վայոց ձորի մարզի ÁÝ¹Ñ³Ýáõñ Çñ³í³ëáõÃÛ³Ý ¹³ï³ñ³ÝÇ ÏáÕÙÇó í×³ñÙ³Ý Ï³ñ·³¹ñáõÃÛáõÝ ³ñÓ³Ï»Éáõ í³ñáõÛÃÝ»ñÇ ÁÝÃ³óùÇ Ù³ëÇÝ
B3: 2015Ã. 1-ÇÝ ÏÇë³ÙÛ³Ï
A4: êïáõ·Çã Ñ³í³ë³ñáõÙ` 1+2=3+4+5+6+7, 7=8+9+10+11
A5: Ð/Ñ | B5: ¸³ï³íáñÇ ³ÝáõÝ, ³½·³ÝáõÝ | C5: Ð³ßí»ïáõ Å³Ù³Ý³Ï³ßñç³ÝÇ ëÏ½áõÙ ³Ý³í³ñï í³ñáõÛÃÝ»ñÇ ÙÝ³óáñ¹Á | D5: êï³óí»É ¿ í×³ñÙ³Ý Ï³ñ·³¹ñáõÃÛáõÝ ³ñÓ³Ï»Éáõ Ù³ëÇÝ ¹ÇÙáõÙ | E5: ëï³óí»É ¿ ¹ÇÙáõÙ ÁÝÃ³óù ãï³Éáõ Ù³ëÇÝ | F5: Ø»ñÅí»É ¿ | G5: Ø»ñÅí»É ¿ Ù³ëáí | H5: âÇ ³ñÓ³Ïí»É Ñ³ßí»ïáõ Å³Ù³Ý³Ï³ßñç³ÝáõÙ | I5: ²ñÓ³Ïí»É ¿ í×³ñÙ³Ý Ï³ñ·³¹ñáõÃÛáõÝ | J5: êï³óí»É ¿ ³é³ñÏáõÃÛáõÝ | K5: êï³ó»É ¿ ûñÇÝ³Ï³Ý áõÅ | L5: ÂáÕÝí»É ¿ ³ÝÑ»ï¨³Ýù ¨ ûñÇÝ³Ï³Ý áõÅÇ Ù»ç Ùï³Í í×éÇ Ñ»ï¨³Ýù ãÇ ³é³ç³óñ»É | M5: Ð³ßí»ïáõ Å³Ù³Ý³Ï³ßñç³ÝÇ í»ñçáõÙ ³Ý³í³ñï í³ñáõÛÃÝ»ñÇ ÙÝ³óáñ¹Á
C6: 1 | D6: 2 | E6: 3 | F6: 4 | G6: 5 | H6: 6 | I6: 7 | J6: 8 | K6: 9 | L6: 10 | M6: 11
A7: 1 | B7: Ելենա Քոչարյան | D7: 69 | I7: 69 | K7: 11 | L7: 4 | M7: 54
A8: 2 | B8: Սերգեյ Սահակյան | C8: 2 | D8: 836 | F8: 38 | H8: 57 | I8: 743 | J8: 13 | K8: 384 | L8: 173 | M8: 173
A9: 3 | B9: Սամվել Մատինյան | C9: 3 | D9: 704 | E9: 7 | F9: 11 | G9: 138 | H9: 46 | I9: 505 | J9: 13 | K9: 245 | L9: 12 | M9: 235
A10: 4 | B10: Գևորգ Բալյան | C10: 62 | D10: 116 | H10: 16 | I10: 162 | J10: 9 | K10: 59 | L10: 9 | M10: 85
A11: 5 | B11: Արտաշես Հովհաննիսյան | C11: 39 | D11: 887 | E11: 30 | H11: 2 | I11: 894 | J11: 16 | K11: 237 | L11: 118 | M11: 523
A12: 6 | B12: Հենրիկ Դարբինյան | D12: 726 | E12: 1 | H12: 209 | I12: 516 | J12: 3 | K12: 136 | L12: 93 | M12: 284
A13: 7
A14: 8
A15: 9
A16: 10
A17: 11
A18: 12
B19: ÁÝ¹³Ù»ÝÁ | C19: =SUM(C7:C18) -> 106 | D19: =SUM(D7:D18) -> 3338 | E19: =SUM(E7:E18) -> 38 | F19: =SUM(F7:F18) -> 49 | G19: =SUM(G7:G18) -> 138 | H19: =SUM(H7:H18) -> 330 | I19: =SUM(I7:I18) -> 2889 | J19: =SUM(J7:J18) -> 54 | ... M19: =SUM(M7:M18) -> 1354

Sheet Kotayq
B1: Ð²ÞìºîìàôÂÚàôÜ
B2: ÐÐ Կոտայքի մարզի ÁÝ¹Ñ³Ýáõñ Çñ³í³ëáõÃÛ³Ý ¹³ï³ñ³ÝÇ ÏáÕÙÇó í×³ñÙ³Ý Ï³ñ·³¹ñáõÃÛáõÝ ³ñÓ³Ï»Éáõ í³ñáõÛÃÝ»ñÇ ÁÝÃ³óùÇ Ù³ëÇÝ
B3: 2015Ã. 1-ÇÝ ÏÇë³ÙÛ³Ï
A4: êïáõ·Çã Ñ³í³ë³ñáõÙ` 1+2=3+4+5+6+7, 7=8+9+10+11
A5: Ð/Ñ | B5: ¸³ï³íáñÇ ³ÝáõÝ, ³½·³ÝáõÝ | C5: Ð³ßí»ïáõ Å³Ù³Ý³Ï³ßñç³ÝÇ ëÏ½áõÙ ³Ý³í³ñï í³ñáõÛÃÝ»ñÇ ÙÝ³óáñ¹Á | D5: êï³óí»É ¿ í×³ñÙ³Ý Ï³ñ·³¹ñáõÃÛáõÝ ³ñÓ³Ï»Éáõ Ù³ëÇÝ ¹ÇÙáõÙ | E5: ëï³óí»É ¿ ¹ÇÙáõÙ ÁÝÃ³óù ãï³Éáõ Ù³ëÇÝ | F5: Ø»ñÅí»É ¿ | G5: Ø»ñÅí»É ¿ Ù³ëáí | H5: âÇ ³ñÓ³Ïí»É Ñ³ßí»ïáõ Å³Ù³Ý³Ï³ßñç³ÝáõÙ | I5: ²ñÓ³Ïí»É ¿ í×³ñÙ³Ý Ï³ñ·³¹ñáõÃÛáõÝ | J5: êï³óí»É ¿ ³é³ñÏáõÃÛáõÝ | K5: êï³ó»É ¿ ûñÇÝ³Ï³Ý áõÅ | L5: ÂáÕÝí»É ¿ ³ÝÑ»ï¨³Ýù ¨ ûñÇÝ³Ï³Ý áõÅÇ Ù»ç Ùï³Í í×éÇ Ñ»ï¨³Ýù ãÇ ³é³ç³óñ»É | M5: Ð³ßí»ïáõ Å³Ù³Ý³Ï³ßñç³ÝÇ í»ñçáõÙ ³Ý³í³ñï í³ñáõÛÃÝ»ñÇ ÙÝ³óáñ¹Á
C6: 1 | D6: 2 | E6: 3 | F6: 4 | G6: 5 | H6: 6 | I6: 7 | J6: 8 | K6: 9 | L6: 10 | M6: 11
A7: 1 | B7: Ա. Սիսակյան | D7: 403 | I7: 403 | J7: 34 | K7: 316 | L7: 53
A8: 2 | B8: Տ.Փոլադյան | C8: 0 | D8: 526 | F8: 8 | G8: 52 | I8: 466 | J8: 14 | K8: 114 | L8: 88 | M8: 250
A9: 3 | B9: Ս. Թորոսյան | C9: 20 | D9: 834 | E9: 1 | H9: 51 | I9: 802 | J9: 58 | K9: 476 | L9: 217 | M9: 51
A10: 4 | B10: Ն. Գալստյան | C10: 202 | D10: 786 | F10: 1 | H10: 29 | I10: 958 | J10: 43 | K10: 306 | L10: 66 | M10: 543
A11: 5 | B11: Գ. Հեբոյան | D11: 1022 | G11: 5 | H11: 150 | I11: 867 | J11: 38 | K11: 221 | L11: 168 | M11: 440
A12: 6 | B12: Էդ.Սեդրակյան | C12: 87 | D12: 558 | H12: 190 | I12: 455 | J12: 38 | K12: 132 | L12: 158 | M12: 127
A13: 7
A14: 8
A15: 9
A16: 10
A17: 11
A18: 12
B19: ÁÝ¹³Ù»ÝÁ | C19: =SUM(C7:C18) -> 309 | D19: =SUM(D7:D18) -> 4129 | E19: =SUM(E7:E18) -> 1 | F19: =SUM(F7:F18) -> 9 | G19: =SUM(G7:G18) -> 57 | H19: =SUM(H7:H18) -> 420 | I19: =SUM(I7:I18) -> 3951 | J19: =SUM(J7:J18) -> 225 | ... M19: =SUM(M7:M18) -> 1411

Sheet Gexarquniq
B1: Ð²ÞìºîìàôÂÚàôÜ
B2: ÐÐ Գեղարքունիքի մարզի ÁÝ¹Ñ³Ýáõñ Çñ³í³ëáõÃÛ³Ý ¹³ï³ñ³ÝÇ ÏáÕÙÇó í×³ñÙ³Ý Ï³ñ·³¹ñáõÃÛáõÝ ³ñÓ³Ï»Éáõ í³ñáõÛÃÝ»ñÇ ÁÝÃ³óùÇ Ù³ëÇÝ
B3: 2015Ã. 1-ÇÝ ÏÇë³ÙÛ³Ï
A4: êïáõ·Çã Ñ³í³ë³ñáõÙ` 1+2=3+4+5+6+7, 7=8+9+10+11
A5: Ð/Ñ | B5: ¸³ï³íáñÇ ³ÝáõÝ, ³½·³ÝáõÝ | C5: Ð³ßí»ïáõ Å³Ù³Ý³Ï³ßñç³ÝÇ ëÏ½áõÙ ³Ý³í³ñï í³ñáõÛÃÝ»ñÇ ÙÝ³óáñ¹Á | D5: êï³óí»É ¿ í×³ñÙ³Ý Ï³ñ·³¹ñáõÃÛáõÝ ³ñÓ³Ï»Éáõ Ù³ëÇÝ ¹ÇÙáõÙ | E5: ëï³óí»É ¿ ¹ÇÙáõÙ ÁÝÃ³óù ãï³Éáõ Ù³ëÇÝ | F5: Ø»ñÅí»É ¿ | G5: Ø»ñÅí»É ¿ Ù³ëáí | H5: âÇ ³ñÓ³Ïí»É Ñ³ßí»ïáõ Å³Ù³Ý³Ï³ßñç³ÝáõÙ | I5: ²ñÓ³Ïí»É ¿ í×³ñÙ³Ý Ï³ñ·³¹ñáõÃÛáõÝ | J5: êï³óí»É ¿ ³é³ñÏáõÃÛáõÝ | K5: êï³ó»É ¿ ûñÇÝ³Ï³Ý áõÅ | L5: ÂáÕÝí»É ¿ ³ÝÑ»ï¨³Ýù ¨ ûñÇÝ³Ï³Ý áõÅÇ Ù»ç Ùï³Í í×éÇ Ñ»ï¨³Ýù ãÇ ³é³ç³óñ»É | M5: Ð³ßí»ïáõ Å³Ù³Ý³Ï³ßñç³ÝÇ í»ñçáõÙ ³Ý³í³ñï í³ñáõÛÃÝ»ñÇ ÙÝ³óáñ¹Á
C6: 1 | D6: 2 | E6: 3 | F6: 4 | G6: 5 | H6: 6 | I6: 7 | J6: 8 | K6: 9 | L6: 10 | M6: 11
A7: 1 | B7: Արթուր Թամրազյան | D7: 376 | H7: 70 | I7: 306 | J7: 9 | K7: 67 | L7: 69 | M7: 161
A8: 2 | B8: Վարդան Հարությունյան
A9: 3 | B9: Յուրիկ Իսկոյան
A10: 4 | B10: Ավագ Գաբրիելյան | D10: 345 | F10: 1 | H10: 126 | I10: 218 | J10: 7 | K10: 132 | L10: 79
A11: 5 | B11: Սերոբ Մանուկյան | C11: 20 | D11: 608 | F11: 6 | H11: 23 | I11: 599 | J11: 17 | K11: 355 | L11: 196 | M11: 31
A12: 6 | B12: Վահագն Մելիքյան
A13: 7 | B13: Վանիկ Վարդանյան | D13: 194 | E13: 2 | I13: 192 | J13: 10 | K13: 30 | L13: 2 | M13: 150
A14: 8
A15: 9
A16: 10
A17: 11
A18: 12
B19: ÁÝ¹³Ù»ÝÁ | C19: =SUM(C7:C18) -> 20 | D19: =SUM(D7:D18) -> 1523 | E19: =SUM(E7:E18) -> 2 | F19: =SUM(F7:F18) -> 7 | G19: =SUM(G7:G18) -> 0 | H19: =SUM(H7:H18) -> 219 | I19: =SUM(I7:I18) -> 1315 | J19: =SUM(J7:J18) -> 43 | ... M19: =SUM(M7:M18) -> 342

Sheet Lori
B1: Ð²ÞìºîìàôÂÚàôÜ
B2: ÐÐ Լոռու մարզի ÁÝ¹Ñ³Ýáõñ Çñ³í³ëáõÃÛ³Ý ¹³ï³ñ³ÝÇ ÏáÕÙÇó í×³ñÙ³Ý Ï³ñ·³¹ñáõÃÛáõÝ ³ñÓ³Ï»Éáõ í³ñáõÛÃÝ»ñÇ ÁÝÃ³óùÇ Ù³ëÇÝ
B3: 2015Ã. 1-ÇÝ ÏÇë³ÙÛ³Ï
A4: êïáõ·Çã Ñ³í³ë³ñáõÙ` 1+2=3+4+5+6+7, 7=8+9+10+11
A5: Ð/Ñ | B5: ¸³ï³íáñÇ ³ÝáõÝ, ³½·³ÝáõÝ | C5: Ð³ßí»ïáõ Å³Ù³Ý³Ï³ßñç³ÝÇ ëÏ½áõÙ ³Ý³í³ñï í³ñáõÛÃÝ»ñÇ ÙÝ³óáñ¹Á | D5: êï³óí»É ¿ í×³ñÙ³Ý Ï³ñ·³¹ñáõÃÛáõÝ ³ñÓ³Ï»Éáõ Ù³ëÇÝ ¹ÇÙáõÙ | E5: ëï³óí»É ¿ ¹ÇÙáõÙ ÁÝÃ³óù ãï³Éáõ Ù³ëÇÝ | F5: Ø»ñÅí»É ¿ | G5: Ø»ñÅí»É ¿ Ù³ëáí | H5: âÇ ³ñÓ³Ïí»É Ñ³ßí»ïáõ Å³Ù³Ý³Ï³ßñç³ÝáõÙ | I5: ²ñÓ³Ïí»É ¿ í×³ñÙ³Ý Ï³ñ·³¹ñáõÃÛáõÝ | J5: êï³óí»É ¿ ³é³ñÏáõÃÛáõÝ | K5: êï³ó»É ¿ ûñÇÝ³Ï³Ý áõÅ | L5: ÂáÕÝí»É ¿ ³ÝÑ»ï¨³Ýù ¨ ûñÇÝ³Ï³Ý áõÅÇ Ù»ç Ùï³Í í×éÇ Ñ»ï¨³Ýù ãÇ ³é³ç³óñ»É | M5: Ð³ßí»ïáõ Å³Ù³Ý³Ï³ßñç³ÝÇ í»ñçáõÙ ³Ý³í³ñï í³ñáõÛÃÝ»ñÇ ÙÝ³óáñ¹Á
C6: 1 | D6: 2 | E6: 3 | F6: 4 | G6: 5 | H6: 6 | I6: 7 | J6: 8 | K6: 9 | L6: 10 | M6: 11
A7: 1 | B7: Գնել Զաքարյան | D7: 182 | I7: 182 | J7: 7 | K7: 18 | L7: 10 | M7: 147
A8: 2 | B8: ´áñÇÏ Գրիգորյան | D8: 137 | H8: 6 | I8: 131 | J8: 2 | K8: 19 | L8: 39 | M8: 71
A9: 3 | B9: ì³ñ¹áõÑÇ Հովնանյան | D9: 114 | F9: 27 | H9: 8 | I9: 79 | J9: 6 | K9: 10 | L9: 23 | M9: 40
A10: 4 | B10: Ü³Çñ³ Ավետիսյան | D10: 144 | H10: 54 | I10: 90 | J10: 1 | K10: 16 | L10: 20 | M10: 53
A11: 5 | B11: Աթաբեկյան Արթուր | C11: 0 | D11: 136 | E11: 0 | F11: 3 | G11: 12 | H11: 34 | I11: 87 | J11: 7 | K11: 39 | L11: 7 | M11: 34
A12: 6 | B12: Աղասի Մկոյան | C12: 0 | D12: 105 | E12: 0 | F12: 1 | G12: 15 | H12: 0 | I12: 89 | J12: 17 | K12: 41 | L12: 31 | M12: 0
A13: 7 | B13: Գագիկյան Գուրգեն | D13: 332 | I13: 332 | J13: 18 | K13: 102 | L13: 87 | M13: 125
A14: 8 | B14: Երիցյան Սարգիս | C14: 13 | D14: 1310 | F14: 105 | H14: 33 | I14: 1185 | J14: 67 | K14: 485 | L14: 424 | M14: 209
A15: 9
A16: 10
A17: 11
A18: 12
B19: ÁÝ¹³Ù»ÝÁ | C19: =SUM(C7:C18) -> 13 | D19: =SUM(D7:D18) -> 2460 | E19: =SUM(E7:E18) -> 0 | F19: =SUM(F7:F18) -> 136 | G19: =SUM(G7:G18) -> 27 | H19: =SUM(H7:H18) -> 135 | I19: =SUM(I7:I18) -> 2175 | J19: =SUM(J7:J18) -> 125 | ... M19: =SUM(M7:M18) -> 679
A20: Գ.Հովհաննիսյան 113 գործ կազմի փոփոխությամբ փոխանցվել է Խ.Խաչատրյանին

Sheet Syuniq
B1: Ð²ÞìºîìàôÂÚàôÜ
B2: ÐÐ Սյունիքի մարզի ÁÝ¹Ñ³Ýáõñ Çñ³í³ëáõÃÛ³Ý ¹³ï³ñ³ÝÇ ÏáÕÙÇó í×³ñÙ³Ý Ï³ñ·³¹ñáõÃÛáõÝ ³ñÓ³Ï»Éáõ í³ñáõÛÃÝ»ñÇ ÁÝÃ³óùÇ Ù³ëÇÝ
B3: 2015Ã. 1-ÇÝ ÏÇë³ÙÛ³Ï
A4: êïáõ·Çã Ñ³í³ë³ñáõÙ` 1+2=3+4+5+6+7, 7=8+9+10+11
A5: Ð/Ñ | B5: ¸³ï³íáñÇ ³ÝáõÝ, ³½·³ÝáõÝ | C5: Ð³ßí»ïáõ Å³Ù³Ý³Ï³ßñç³ÝÇ ëÏ½áõÙ ³Ý³í³ñï í³ñáõÛÃÝ»ñÇ ÙÝ³óáñ¹Á | D5: êï³óí»É ¿ í×³ñÙ³Ý Ï³ñ·³¹ñáõÃÛáõÝ ³ñÓ³Ï»Éáõ Ù³ëÇÝ ¹ÇÙáõÙ | E5: ëï³óí»É ¿ ¹ÇÙáõÙ ÁÝÃ³óù ãï³Éáõ Ù³ëÇÝ | F5: Ø»ñÅí»É ¿ | G5: Ø»ñÅí»É ¿ Ù³ëáí | H5: âÇ ³ñÓ³Ïí»É Ñ³ßí»ïáõ Å³Ù³Ý³Ï³ßñç³ÝáõÙ | I5: ²ñÓ³Ïí»É ¿ í×³ñÙ³Ý Ï³ñ·³¹ñáõÃÛáõÝ | J5: êï³óí»É ¿ ³é³ñÏáõÃÛáõÝ | K5: êï³ó»É ¿ ûñÇÝ³Ï³Ý áõÅ | L5: ÂáÕÝí»É ¿ ³ÝÑ»ï¨³Ýù ¨ ûñÇÝ³Ï³Ý áõÅÇ Ù»ç Ùï³Í í×éÇ Ñ»ï¨³Ýù ãÇ ³é³ç³óñ»É | M5: Ð³ßí»ïáõ Å³Ù³Ý³Ï³ßñç³ÝÇ í»ñçáõÙ ³Ý³í³ñï í³ñáõÛÃÝ»ñÇ ÙÝ³óáñ¹Á
C6: 1 | D6: 2 | E6: 3 | F6: 4 | G6: 5 | H6: 6 | I6: 7 | J6: 8 | K6: 9 | L6: 10 | M6: 11
A7: 1 | B7: Ս.Գրիգորյան | C7: 23 | D7: 46 | E7: 0 | F7: 0 | G7: 13 | H7: 0 | I7: 56 | J7: 0 | K7: 32 | L7: 20 | M7: 4
A8: 2 | B8: Ա.Թումանյան | C8: 111 | D8: 255 | E8: 0 | F8: 9 | G8: 52 | H8: 0 | I8: 305 | J8: 8 | K8: 159 | L8: 66 | M8: 72
A9: 3 | B9: Մ.Հովակիմյան | C9: 137 | D9: 418 | E9: 0 | F9: 4 | G9: 50 | H9: 154 | I9: 347 | J9: 10 | K9: 253 | L9: 29 | M9: 55
A10: 4 | B10: Ի.Բեգլարյան | C10: 51 | D10: 395 | E10: 0 | F10: 1 | G10: 62 | H10: 51 | I10: 332 | J10: 14 | K10: 72 | L10: 41 | M10: 205
A11: 5 | B11: Ժ.Ասատրյան | C11: 0 | D11: 304 | E11: 0 | F11: 17 | G11: 43 | H11: 33 | I11: 211 | J11: 7 | K11: 107 | L11: 55 | M11: 42
A12: 6
A13: 7
A14: 8
A15: 9
A16: 10
A17: 11
A18: 12
B19: ÁÝ¹³Ù»ÝÁ | C19: =SUM(C7:C18) -> 322 | D19: =SUM(D7:D18) -> 1418 | E19: =SUM(E7:E18) -> 0 | F19: =SUM(F7:F18) -> 31 | G19: =SUM(G7:G18) -> 220 | H19: =SUM(H7:H18) -> 238 | I19: =SUM(I7:I18) -> 1251 | J19: =SUM(J7:J18) -> 39 | ... M19: =SUM(M7:M18) -> 378

Sheet Shirak
B1: Ð²ÞìºîìàôÂÚàôÜ
B2: ÐÐ Շիրակի մարզի ÁÝ¹Ñ³Ýáõñ Çñ³í³ëáõÃÛ³Ý ¹³ï³ñ³ÝÇ ÏáÕÙÇó í×³ñÙ³Ý Ï³ñ·³¹ñáõÃÛáõÝ ³ñÓ³Ï»Éáõ í³ñáõÛÃÝ»ñÇ ÁÝÃ³óùÇ Ù³ëÇÝ
B3: 2015Ã. 1-ÇÝ ÏÇë³ÙÛ³Ï
A4: êïáõ·Çã Ñ³í³ë³ñáõÙ` 1+2=3+4+5+6+7, 7=8+9+10+11
A5: Ð/Ñ | B5: ¸³ï³íáñÇ ³ÝáõÝ, ³½·³ÝáõÝ | C5: Ð³ßí»ïáõ Å³Ù³Ý³Ï³ßñç³ÝÇ ëÏ½áõÙ ³Ý³í³ñï í³ñáõÛÃÝ»ñÇ ÙÝ³óáñ¹Á | D5: êï³óí»É ¿ í×³ñÙ³Ý Ï³ñ·³¹ñáõÃÛáõÝ ³ñÓ³Ï»Éáõ Ù³ëÇÝ ¹ÇÙáõÙ | E5: ëï³óí»É ¿ ¹ÇÙáõÙ ÁÝÃ³óù ãï³Éáõ Ù³ëÇÝ | F5: Ø»ñÅí»É ¿ | G5: Ø»ñÅí»É ¿ Ù³ëáí | H5: âÇ ³ñÓ³Ïí»É Ñ³ßí»ïáõ Å³Ù³Ý³Ï³ßñç³ÝáõÙ | I5: ²ñÓ³Ïí»É ¿ í×³ñÙ³Ý Ï³ñ·³¹ñáõÃÛáõÝ | J5: êï³óí»É ¿ ³é³ñÏáõÃÛáõÝ | K5: êï³ó»É ¿ ûñÇÝ³Ï³Ý áõÅ | L5: ÂáÕÝí»É ¿ ³ÝÑ»ï¨³Ýù ¨ ûñÇÝ³Ï³Ý áõÅÇ Ù»ç Ùï³Í í×éÇ Ñ»ï¨³Ýù ãÇ ³é³ç³óñ»É | M5: Ð³ßí»ïáõ Å³Ù³Ý³Ï³ßñç³ÝÇ í»ñçáõÙ ³Ý³í³ñï í³ñáõÛÃÝ»ñÇ ÙÝ³óáñ¹Á
C6: 1 | D6: 2 | E6: 3 | F6: 4 | G6: 5 | H6: 6 | I6: 7 | J6: 8 | K6: 9 | L6: 10 | M6: 11
A7: 1 | B7: Գագիկ Հովհաննիսյան | C7: 0 | D7: 148 | E7: 0 | F7: 2 | G7: 6 | H7: 0 | I7: 140 | K7: 57 | L7: 55 | M7: 28
A8: 2 | B8: Միշա Մարտիրոսյան | D8: 436 | E8: 2 | F8: 2 | H8: 63 | I8: 369 | J8: 26 | K8: 145 | L8: 80 | M8: 118
A9: 3 | B9: Հովհաննես Ղազարյան | C9: 21 | D9: 317 | F9: 5 | G9: 0 | I9: 333 | J9: 5 | K9: 93 | L9: 61 | M9: 174
A10: 4 | B10: Արմեն Խաչատրյան | C10: 0 | D10: 157 | E10: 0 | F10: 7 | H10: 8 | I10: 142 | J10: 7 | K10: 63 | L10: 45 | M10: 27
A11: 5 | B11: Մեխակ Գեվորգյան | C11: 0 | D11: 317 | E11: 0 | F11: 4 | G11: 0 | H11: 61 | I11: 252 | J11: 12 | K11: 94 | L11: 50 | M11: 96
A12: 6 | B12: ԲագրատՄկրտչյան | D12: 217 | F12: 4 | G12: 26 | H12: 34 | I12: 153 | J12: 12 | K12: 56 | L12: 23 | M12: 62
A13: 7 | B13: Լիլիթ Խաչատրյան | C13: 5 | D13: 296 | E13: 0 | F13: 0 | G13: 0 | H13: 29 | I13: 272 | J13: 11 | K13: 52 | L13: 28 | M13: 181
A14: 8 | B14: Սուրեն Մնացյան | D14: 486 | E14: 0 | F14: 3 | G14: 0 | H14: 0 | I14: 483 | J14: 24 | K14: 260 | L14: 108 | M14: 91
A15: 9 | B15: Հայկանուշ Միքայելյան | D15: 363 | F15: 33 | G15: 22 | I15: 308 | J15: 24 | K15: 114 | L15: 94 | M15: 76
A16: 10
A17: 11
A18: 12
B19: ÁÝ¹³Ù»ÝÁ | C19: =SUM(C7:C18) -> 26 | D19: =SUM(D7:D18) -> 2737 | E19: =SUM(E7:E18) -> 2 | F19: =SUM(F7:F18) -> 60 | G19: =SUM(G7:G18) -> 54 | H19: =SUM(H7:H18) -> 195 | I19: =SUM(I7:I18) -> 2452 | J19: =SUM(J7:J18) -> 121 | ... M19: =SUM(M7:M18) -> 853

Sheet Tavush
B1: Ð²ÞìºîìàôÂÚàôÜ
B2: ÐÐ Տավուշի մարզի ÁÝ¹Ñ³Ýáõñ Çñ³í³ëáõÃÛ³Ý ¹³ï³ñ³ÝÇ ÏáÕÙÇó í×³ñÙ³Ý Ï³ñ·³¹ñáõÃÛáõÝ ³ñÓ³Ï»Éáõ í³ñáõÛÃÝ»ñÇ ÁÝÃ³óùÇ Ù³ëÇÝ
B3: 2015Ã. 1-ÇÝ ÏÇë³ÙÛ³Ï
A4: êïáõ·Çã Ñ³í³ë³ñáõÙ` 1+2=3+4+5+6+7, 7=8+9+10+11
A5: Ð/Ñ | B5: ¸³ï³íáñÇ ³ÝáõÝ, ³½·³ÝáõÝ | C5: Ð³ßí»ïáõ Å³Ù³Ý³Ï³ßñç³ÝÇ ëÏ½áõÙ ³Ý³í³ñï í³ñáõÛÃÝ»ñÇ ÙÝ³óáñ¹Á | D5: êï³óí»É ¿ í×³ñÙ³Ý Ï³ñ·³¹ñáõÃÛáõÝ ³ñÓ³Ï»Éáõ Ù³ëÇÝ ¹ÇÙáõÙ | E5: ëï³óí»É ¿ ¹ÇÙáõÙ ÁÝÃ³óù ãï³Éáõ Ù³ëÇÝ | F5: Ø»ñÅí»É ¿ | G5: Ø»ñÅí»É ¿ Ù³ëáí | H5: âÇ ³ñÓ³Ïí»É Ñ³ßí»ïáõ Å³Ù³Ý³Ï³ßñç³ÝáõÙ | I5: ²ñÓ³Ïí»É ¿ í×³ñÙ³Ý Ï³ñ·³¹ñáõÃÛáõÝ | J5: êï³óí»É ¿ ³é³ñÏáõÃÛáõÝ | K5: êï³ó»É ¿ ûñÇÝ³Ï³Ý áõÅ | L5: ÂáÕÝí»É ¿ ³ÝÑ»ï¨³Ýù ¨ ûñÇÝ³Ï³Ý áõÅÇ Ù»ç Ùï³Í í×éÇ Ñ»ï¨³Ýù ãÇ ³é³ç³óñ»É | M5: Ð³ßí»ïáõ Å³Ù³Ý³Ï³ßñç³ÝÇ í»ñçáõÙ ³Ý³í³ñï í³ñáõÛÃÝ»ñÇ ÙÝ³óáñ¹Á
C6: 1 | D6: 2 | E6: 3 | F6: 4 | G6: 5 | H6: 6 | I6: 7 | J6: 8 | K6: 9 | L6: 10 | M6: 11
A7: 1 | B7: ²ñÙ³Ý Îáõñ»ËÛ³Ý | D7: 264 | F7: 7 | H7: 12 | I7: 245 | J7: 9 | K7: 90 | L7: 64 | M7: 82
A8: 2 | B8: ²ßáï Ê³ãÇÏÛ³Ý | D8: 351 | F8: 1 | H8: 18 | I8: 332 | J8: 10 | K8: 101 | L8: 203 | M8: 18
A9: 3 | B9: ÈÇÉÇÃ ê³ñ·ëÛ³Ý | D9: 337 | F9: 3 | H9: 36 | I9: 298 | J9: 17 | K9: 115 | L9: 71 | M9: 95
A10: 4
A11: 5
A12: 6
A13: 7
A14: 8
A15: 9
A16: 10
A17: 11
A18: 12
B19: ÁÝ¹³Ù»ÝÁ | C19: =SUM(C7:C18) -> 0 | D19: =SUM(D7:D18) -> 952 | E19: =SUM(E7:E18) -> 0 | F19: =SUM(F7:F18) -> 11 | G19: =SUM(G7:G18) -> 0 | H19: =SUM(H7:H18) -> 66 | I19: =SUM(I7:I18) -> 875 | J19: =SUM(J7:J18) -> 36 | ... M19: =SUM(M7:M18) -> 195
