Workbook

Sheet Ընդհամենը
A1: 2015Ã. | D1: Ð²ÞìºîìàôÂÚàôÜ | P1: Ï³½Ùí³Í` ÐÐ Ï³é³í³ñáõÃÛ³Ý 19.03.2015Ã. ÃÇí 306-Ü áñáßÙ³Ý ÑÇÙ³Ý íñ³
A2: ØÇÝã¹³ï³Ï³Ý í³ñáõÛÃÇ ÝÏ³ïÙ³Ùµ ¹³ï³Ï³Ý í»ñ³ÑëÏáÕáõÃÛ³ÝÁ, ¹³ï³Ï³Ý ³Ïï»ñÇ ¨ ¹³ï³Ï³Ý Ñ³ÝÓÝ³ñ³ñáõÃÛáõÝÝ»ñÇ Ï³ï³ñÙ³ÝÁ Ñ»ï Ï³åí³Í ÙÇçÝáñ¹áõÃÛáõÝÝ»ñÇ í»ñ³µ»ñÛ³É ¹³ï³Ï³Ý ·áñÍ»ñáí ÐÐ ¶»Õ³ñùáõÝÇùÇ Ù³ñ½Ç ÁÝ¹Ñ³Ýáõñ Çñ³í³ëáõÃÛ³Ý ³é³çÇÝ ³ïÛ³ÝÇ ¹³ï³ñ³ÝÇ ·áñÍáõÝ»áõÃÛ³Ý í»ñ³µ»ñÛ³É
A3: êïáõ·Çã Ñ³í³ë³ñáõÙ` 1+2=3+8+9, 8=4+5+6+7, | D3: Ð³ßí»ïáõ Å³Ù³Ý³Ï³Ñ³ïí³ÍÇ ëÏ½µáõÙ Ý³Ëáñ¹ Ñ³ßí»ïáõ Å³Ù³Ý³Ï³Ñ³ïí³ÍÇó ÷áË³Ýóí³Í ·áñÍ»ñÇ ÁÝ¹Ñ³Ýáõñ ÃÇíÁ | E3: Ð³ßí»ïáõ Å³Ù³Ý³Ï³Ñ³ïí³ÍáõÙ ëï³óí³Í ·áñÍ»ñÇ ÁÝ¹Ñ³Ýáõñ ÃÇíÁ | F3: öáË³Ýóí»É ¿ ³ÛÉ ¹³ï³íáñÇ Ï³Ù ³ÛÉ ¹³ï³ñ³Ý (Ï³½ÙÇ ÷á÷áËáõÃÛáõÝ, ÁÝ¹¹³ïáõÃÛáõÝ) | G3: Ð³ßí»ïáõ Å³Ù³Ý³Ï³Ñ³ïí³ÍáõÙ ³í³ñïí³Í ·áñÍ»ñÇ ÁÝ¹Ñ³Ýáõñ ÃÇíÁ | L3: Ð³ßí»ïáõ Å³Ù³Ý³Ï³Ñ³ïí³ÍáõÙ ³Ý³í³ñï ·áñÍ»ñÇ ÁÝ¹Ñ³Ýáõñ ÃÇíÁ | M3: ØÇçÝáñ¹áõÃÛáõÝÝ»ñáí Ï³Û³óí³Í ¹³ï³Ï³Ý ³Ïï»ñÇó µáÕáù³ñÏí³ÍÝ»ñÇ ù³Ý³ÏÁ | O3: ²Ý³í³ñï µáÕáùÝ»ñ | P3: ØÇçÝáñ¹áõÃÛáõÝÝ»ñáí Ï³Û³óí³Í ¨ µáÕáù³ñÏí³Í ¹³ï³Ï³Ý ³Ïï»ñÇó µ»Ï³Ýí³ÍÝ»ñÇ ù³Ý³ÏÁ | R3: ÙÇçÝáñ¹áõÃÛáõÝÝ»ñáí Ï³Û³óí³Í ¨ µáÕáù³ñÏí³Í ¹³ï³Ï³Ý ³Ïï»ñÇó ³Ý÷á÷áË ÃáÕÝí³ÍÝ»ñÇ ù³Ý³ÏÁ
G4: Ù»ñÅí»É ¿ | H4: µ³í³ñ³ñí»É ¿ | I4: µ³í³ñ³ñí»É ¿ Ù³ëÝ³ÏÇ | J4: ÃáÕÝí»É ¿ ³é³Ýó ùÝÝáõÃÛ³Ý | K4: ÀÝ¹³Ù»ÝÁ
M5: Ý³Ëáñ¹ ï³ñÇÝ»ñÇÝ Ï³Û³óí³Í ³Ïï»ñÇ ¹»Ù | N5: Ñ³ßí»ïáõ Å³Ù³Ý³Ï³ßñç³ÝáõÙ Ï³Û³óí³Í ³Ïï»ñÇ ¹»Ù | P5: Ý³Ëáñ¹ ï³ñÇÝ»ñÇÝ Ï³Û³óí³Í ³Ïï»ñÇ µ»Ï³ÝáõÙÝ»ñÁ | Q5: Ñ³ßí»ïáõ Å³Ù³Ý³Ï³ßñç³ÝáõÙ Ï³Û³óí³Í ³Ïï»ñÇ µ»Ï³ÝáõÙÝ»ñÁ
A6: 1. ØÇÝã¹³ï³Ï³Ý í³ñáõÛÃÇ ÝÏ³ïÙ³Ùµ ¹³ï³Ï³Ý í»ñ³ÑëÏáÕáõÃÛ³Ý áÉáñï | D6: 1 | E6: 2 | F6: 3 | G6: 4 | H6: 5 | I6: 6 | J6: 7 | K6: 8 | L6: 9 | M6: 10 | N6: 11 | O6: 12 | P6: 13 | Q6: 14 | R6: 15 | T6: 1+2=3+8+9 | V6: 8=4+5+6+7
A7: 1 | B7: Ï³É³ÝùÁ áñå»ë Ë³÷³ÝÙ³Ý ÙÇçáó ÏÇñ³é»Éáõ Ù³ëÇÝ ÙÇçÝáñ¹áõÃÛáõÝÝ»ñ | D7: ='Ա. Պետրոսյան'!D7+'Յու. Իսկոյան '!D7+'Վ. Հարությունյան'!D7+'Մ. Հարությունյան'!D7+Վ.Մելիքյան!D7+'Ա. Թամրազյան'!D7+Վ.Վարդանյան!D7 -> 0 | E7: ='Ա. Պետրոսյան'!E7+'Յու. Իսկոյան '!E7+'Վ. Հարությունյան'!E7+'Մ. Հարությունյան'!E7+Վ.Մելիքյան!E7+'Ա. Թամրազյան'!E7+Վ.Վարդանյան!E7 -> 114 | F7: ='Ա. Պետրոսյան'!F7+'Յու. Իսկոյան '!F7+'Վ. Հարությունյան'!F7+'Մ. Հարությունյան'!F7+Վ.Մելիքյան!F7+'Ա. Թամրազյան'!F7+Վ.Վարդանյան!F7 -> 0 | G7: ='Ա. Պետրոսյան'!G7+'Յու. Իսկոյան '!G7+'Վ. Հարությունյան'!G7+'Մ. Հարությունյան'!G7+Վ.Մելիքյան!G7+'Ա. Թամրազյան'!G7+Վ.Վարդանյան!G7 -> 21 | H7: ='Ա. Պետրոսյան'!H7+'Յու. Իսկոյան '!H7+'Վ. Հարությունյան'!H7+'Մ. Հարությունյան'!H7+Վ.Մելիքյան!H7+'Ա. Թամրազյան'!H7+Վ.Վարդանյան!H7 -> 92 | I7: ='Ա. Պետրոսյան'!I7+'Յու. Իսկոյան '!I7+'Վ. Հարությունյան'!I7+'Մ. Հարությունյան'!I7+Վ.Մելիքյան!I7+'Ա. Թամրազյան'!I7+Վ.Վարդանյան!I7 -> 0 | J7: ='Ա. Պետրոսյան'!J7+'Յու. Իսկոյան '!J7+'Վ. Հարությունյան'!J7+'Մ. Հարությունյան'!J7+Վ.Մելիքյան!J7+'Ա. Թամրազյան'!J7+Վ.Վարդանյան!J7 -> 1 | K7: ='Ա. Պետրոսյան'!K7+'Յու. Իսկոյան '!K7+'Վ. Հարությունյան'!K7+'Մ. Հարությունյան'!K7+Վ.Մելիքյան!K7+'Ա. Թամրազյան'!K7+Վ.Վարդանյան!K7 -> 114 | ... R7: ='Ա. Պետրոսյան'!R7+'Յու. Իսկոյան '!R7+'Վ. Հարությունյան'!R7+'Մ. Հարությունյան'!R7+Վ.Մելիքյան!R7+'Ա. Թամրազյան'!R7+Վ.Վարդանյան!R7 -> 3 | S7: ='Ա. Պետրոսյան'!S7+'Յու. Իսկոյան '!S7+'Վ. Հարությունյան'!S7+'Մ. Հարությունյան'!S7+Վ.Մելիքյան!S7+'Ա. Թամրազյան'!S7+Վ.Վարդանյան!S7+#REF! -> #REF! | T7: =D7+E7 -> 114 | U7: =F7+K7+L7 -> 114 | V7: =K7 -> 114 | W7: =G7+H7+I7+J7 -> 114
A8: 2 | B8: Ï³É³ÝùÇ Å³ÙÏ»ïÁ »ñÏ³ñ³óÝ»Éáõ Ù³ëÇÝ ÙÇçÝáñ¹áõÃÛáõÝÝ»ñ | D8: ='Ա. Պետրոսյան'!D8+'Յու. Իսկոյան '!D8+'Վ. Հարությունյան'!D8+'Մ. Հարությունյան'!D8+Վ.Մելիքյան!D8+'Ա. Թամրազյան'!D8+Վ.Վարդանյան!D8 -> 0 | E8: ='Ա. Պետրոսյան'!E8+'Յու. Իսկոյան '!E8+'Վ. Հարությունյան'!E8+'Մ. Հարությունյան'!E8+Վ.Մելիքյան!E8+'Ա. Թամրազյան'!E8+Վ.Վարդանյան!E8 -> 59 | F8: ='Ա. Պետրոսյան'!F8+'Յու. Իսկոյան '!F8+'Վ. Հարությունյան'!F8+'Մ. Հարությունյան'!F8+Վ.Մելիքյան!F8+'Ա. Թամրազյան'!F8+Վ.Վարդանյան!F8 -> 0 | G8: ='Ա. Պետրոսյան'!G8+'Յու. Իսկոյան '!G8+'Վ. Հարությունյան'!G8+'Մ. Հարությունյան'!G8+Վ.Մելիքյան!G8+'Ա. Թամրազյան'!G8+Վ.Վարդանյան!G8 -> 1 | H8: ='Ա. Պետրոսյան'!H8+'Յու. Իսկոյան '!H8+'Վ. Հարությունյան'!H8+'Մ. Հարությունյան'!H8+Վ.Մելիքյան!H8+'Ա. Թամրազյան'!H8+Վ.Վարդանյան!H8 -> 52 | I8: ='Ա. Պետրոսյան'!I8+'Յու. Իսկոյան '!I8+'Վ. Հարությունյան'!I8+'Մ. Հարությունյան'!I8+Վ.Մելիքյան!I8+'Ա. Թամրազյան'!I8+Վ.Վարդանյան!I8 -> 6 | J8: ='Ա. Պետրոսյան'!J8+'Յու. Իսկոյան '!J8+'Վ. Հարությունյան'!J8+'Մ. Հարությունյան'!J8+Վ.Մելիքյան!J8+'Ա. Թամրազյան'!J8+Վ.Վարդանյան!J8 -> 0 | K8: ='Ա. Պետրոսյան'!K8+'Յու. Իսկոյան '!K8+'Վ. Հարությունյան'!K8+'Մ. Հարությունյան'!K8+Վ.Մելիքյան!K8+'Ա. Թամրազյան'!K8+Վ.Վարդանյան!K8 -> 59 | ... R8: ='Ա. Պետրոսյան'!R8+'Յու. Իսկոյան '!R8+'Վ. Հարությունյան'!R8+'Մ. Հարությունյան'!R8+Վ.Մելիքյան!R8+'Ա. Թամրազյան'!R8+Վ.Վարդանյան!R8 -> 8 | S8: ='Ա. Պետրոսյան'!S8+'Յու. Իսկոյան '!S8+'Վ. Հարությունյան'!S8+'Մ. Հարությունյան'!S8+Վ.Մելիքյան!S8+'Ա. Թամրազյան'!S8+Վ.Վարդանյան!S8+#REF! -> #REF! | T8: =D8+E8 -> 59 | U8: =F8+K8+L8 -> 59 | V8: =K8 -> 59 | W8: =G8+H8+I8+J8 -> 59
A9: 3 | B9: Ï³É³ÝùÇ í»ñ³Ñ³ëï³ïÙ³Ý Ù³ëÇÝ ÙÇçÝáñ¹áõÃÛáõÝÝ»ñ | D9: ='Ա. Պետրոսյան'!D9+'Յու. Իսկոյան '!D9+'Վ. Հարությունյան'!D9+'Մ. Հարությունյան'!D9+Վ.Մելիքյան!D9+'Ա. Թամրազյան'!D9+Վ.Վարդանյան!D9 -> 0 | E9: ='Ա. Պետրոսյան'!E9+'Յու. Իսկոյան '!E9+'Վ. Հարությունյան'!E9+'Մ. Հարությունյան'!E9+Վ.Մելիքյան!E9+'Ա. Թամրազյան'!E9+Վ.Վարդանյան!E9 -> 15 | F9: ='Ա. Պետրոսյան'!F9+'Յու. Իսկոյան '!F9+'Վ. Հարությունյան'!F9+'Մ. Հարությունյան'!F9+Վ.Մելիքյան!F9+'Ա. Թամրազյան'!F9+Վ.Վարդանյան!F9 -> 0 | G9: ='Ա. Պետրոսյան'!G9+'Յու. Իսկոյան '!G9+'Վ. Հարությունյան'!G9+'Մ. Հարությունյան'!G9+Վ.Մելիքյան!G9+'Ա. Թամրազյան'!G9+Վ.Վարդանյան!G9 -> 0 | H9: ='Ա. Պետրոսյան'!H9+'Յու. Իսկոյան '!H9+'Վ. Հարությունյան'!H9+'Մ. Հարությունյան'!H9+Վ.Մելիքյան!H9+'Ա. Թամրազյան'!H9+Վ.Վարդանյան!H9 -> 15 | I9: ='Ա. Պետրոսյան'!I9+'Յու. Իսկոյան '!I9+'Վ. Հարությունյան'!I9+'Մ. Հարությունյան'!I9+Վ.Մելիքյան!I9+'Ա. Թամրազյան'!I9+Վ.Վարդանյան!I9 -> 0 | J9: ='Ա. Պետրոսյան'!J9+'Յու. Իսկոյան '!J9+'Վ. Հարությունյան'!J9+'Մ. Հարությունյան'!J9+Վ.Մելիքյան!J9+'Ա. Թամրազյան'!J9+Վ.Վարդանյան!J9 -> 0 | K9: ='Ա. Պետրոսյան'!K9+'Յու. Իսկոյան '!K9+'Վ. Հարությունյան'!K9+'Մ. Հարությունյան'!K9+Վ.Մելիքյան!K9+'Ա. Թամրազյան'!K9+Վ.Վարդանյան!K9 -> 15 | ... R9: ='Ա. Պետրոսյան'!R9+'Յու. Իսկոյան '!R9+'Վ. Հարությունյան'!R9+'Մ. Հարությունյան'!R9+Վ.Մելիքյան!R9+'Ա. Թամրազյան'!R9+Վ.Վարդանյան!R9 -> 0 | S9: ='Ա. Պետրոսյան'!S9+'Յու. Իսկոյան '!S9+'Վ. Հարությունյան'!S9+'Մ. Հարությունյան'!S9+Վ.Մելիքյան!S9+'Ա. Թամրազյան'!S9+Վ.Վարդանյան!S9+#REF! -> #REF! | T9: =D9+E9 -> 15 | U9: =F9+K9+L9 -> 15 | V9: =K9 -> 15 | W9: =G9+H9+I9+J9 -> 15
A10: 4 | B10: ·ñ³íÁ áñå»ë Ï³É³Ý³íáñÙ³Ý ³ÛÉÁÝïñ³Ýù³ÛÇÝ Ë³÷³ÝÙ³Ý ÙÇçáó ÏÇñ³é»Éáõ Ù³ëÇÝ ÙÇçÝáñ¹áõÃÛáõÝÝ»ñ | D10: ='Ա. Պետրոսյան'!D10+'Յու. Իսկոյան '!D10+'Վ. Հարությունյան'!D10+'Մ. Հարությունյան'!D10+Վ.Մելիքյան!D10+'Ա. Թամրազյան'!D10+Վ.Վարդանյան!D10 -> 0 | E10: ='Ա. Պետրոսյան'!E10+'Յու. Իսկոյան '!E10+'Վ. Հարությունյան'!E10+'Մ. Հարությունյան'!E10+Վ.Մելիքյան!E10+'Ա. Թամրազյան'!E10+Վ.Վարդանյան!E10 -> 34 | F10: ='Ա. Պետրոսյան'!F10+'Յու. Իսկոյան '!F10+'Վ. Հարությունյան'!F10+'Մ. Հարությունյան'!F10+Վ.Մելիքյան!F10+'Ա. Թամրազյան'!F10+Վ.Վարդանյան!F10 -> 0 | G10: ='Ա. Պետրոսյան'!G10+'Յու. Իսկոյան '!G10+'Վ. Հարությունյան'!G10+'Մ. Հարությունյան'!G10+Վ.Մելիքյան!G10+'Ա. Թամրազյան'!G10+Վ.Վարդանյան!G10 -> 20 | H10: ='Ա. Պետրոսյան'!H10+'Յու. Իսկոյան '!H10+'Վ. Հարությունյան'!H10+'Մ. Հարությունյան'!H10+Վ.Մելիքյան!H10+'Ա. Թամրազյան'!H10+Վ.Վարդանյան!H10 -> 11 | I10: ='Ա. Պետրոսյան'!I10+'Յու. Իսկոյան '!I10+'Վ. Հարությունյան'!I10+'Մ. Հարությունյան'!I10+Վ.Մելիքյան!I10+'Ա. Թամրազյան'!I10+Վ.Վարդանյան!I10 -> 0 | J10: ='Ա. Պետրոսյան'!J10+'Յու. Իսկոյան '!J10+'Վ. Հարությունյան'!J10+'Մ. Հարությունյան'!J10+Վ.Մելիքյան!J10+'Ա. Թամրազյան'!J10+Վ.Վարդանյան!J10 -> 3 | K10: ='Ա. Պետրոսյան'!K10+'Յու. Իսկոյան '!K10+'Վ. Հարությունյան'!K10+'Մ. Հարությունյան'!K10+Վ.Մելիքյան!K10+'Ա. Թամրազյան'!K10+Վ.Վարդանյան!K10 -> 34 | ... R10: ='Ա. Պետրոսյան'!R10+'Յու. Իսկոյան '!R10+'Վ. Հարությունյան'!R10+'Մ. Հարությունյան'!R10+Վ.Մելիքյան!R10+'Ա. Թամրազյան'!R10+Վ.Վարդանյան!R10 -> 4 | S10: ='Ա. Պետրոսյան'!S10+'Յու. Իսկոյան '!S10+'Վ. Հարությունյան'!S10+'Մ. Հարությունյան'!S10+Վ.Մելիքյան!S10+'Ա. Թամրազյան'!S10+Վ.Վարդանյան!S10+#REF! -> #REF! | T10: =D10+E10 -> 34 | U10: =F10+K10+L10 -> 34 | V10: =K10 -> 34 | W10: =G10+H10+I10+J10 -> 34
A11: 5 | B11: Ëáõ½³ñÏáõÃÛ³Ý Ï³ï³ñÙ³Ý Ù³ëÇÝ ÙÇçÝáñ¹áõÃÛáõÝÝ»ñ | D11: ='Ա. Պետրոսյան'!D11+'Յու. Իսկոյան '!D11+'Վ. Հարությունյան'!D11+'Մ. Հարությունյան'!D11+Վ.Մելիքյան!D11+'Ա. Թամրազյան'!D11+Վ.Վարդանյան!D11 -> 0 | E11: ='Ա. Պետրոսյան'!E11+'Յու. Իսկոյան '!E11+'Վ. Հարությունյան'!E11+'Մ. Հարությունյան'!E11+Վ.Մելիքյան!E11+'Ա. Թամրազյան'!E11+Վ.Վարդանյան!E11 -> 310 | F11: ='Ա. Պետրոսյան'!F11+'Յու. Իսկոյան '!F11+'Վ. Հարությունյան'!F11+'Մ. Հարությունյան'!F11+Վ.Մելիքյան!F11+'Ա. Թամրազյան'!F11+Վ.Վարդանյան!F11 -> 0 | G11: ='Ա. Պետրոսյան'!G11+'Յու. Իսկոյան '!G11+'Վ. Հարությունյան'!G11+'Մ. Հարությունյան'!G11+Վ.Մելիքյան!G11+'Ա. Թամրազյան'!G11+Վ.Վարդանյան!G11 -> 6 | H11: ='Ա. Պետրոսյան'!H11+'Յու. Իսկոյան '!H11+'Վ. Հարությունյան'!H11+'Մ. Հարությունյան'!H11+Վ.Մելիքյան!H11+'Ա. Թամրազյան'!H11+Վ.Վարդանյան!H11 -> 303 | I11: ='Ա. Պետրոսյան'!I11+'Յու. Իսկոյան '!I11+'Վ. Հարությունյան'!I11+'Մ. Հարությունյան'!I11+Վ.Մելիքյան!I11+'Ա. Թամրազյան'!I11+Վ.Վարդանյան!I11 -> 0 | J11: ='Ա. Պետրոսյան'!J11+'Յու. Իսկոյան '!J11+'Վ. Հարությունյան'!J11+'Մ. Հարությունյան'!J11+Վ.Մելիքյան!J11+'Ա. Թամրազյան'!J11+Վ.Վարդանյան!J11 -> 1 | K11: ='Ա. Պետրոսյան'!K11+'Յու. Իսկոյան '!K11+'Վ. Հարությունյան'!K11+'Մ. Հարությունյան'!K11+Վ.Մելիքյան!K11+'Ա. Թամրազյան'!K11+Վ.Վարդանյան!K11 -> 310 | ... R11: ='Ա. Պետրոսյան'!R11+'Յու. Իսկոյան '!R11+'Վ. Հարությունյան'!R11+'Մ. Հարությունյան'!R11+Վ.Մելիքյան!R11+'Ա. Թամրազյան'!R11+Վ.Վարդանյան!R11 -> 0 | S11: ='Ա. Պետրոսյան'!S11+'Յու. Իսկոյան '!S11+'Վ. Հարությունյան'!S11+'Մ. Հարությունյան'!S11+Վ.Մելիքյան!S11+'Ա. Թամրազյան'!S11+Վ.Վարդանյան!S11+#REF! -> #REF! | T11: =D11+E11 -> 310 | U11: =F11+K11+L11 -> 310 | V11: =K11 -> 310 | W11: =G11+H11+I11+J11 -> 310
A12: 6 | B12: µ³ÝÏ³ÛÇÝ, ³å³Ñáí³·ñ³Ï³Ý, Ýáï³ñ³Ï³Ý ·³ÕïÝÇù Ï³½ÙáÕ ï»Õ»ÏáõÃÛáõÝÝ»ñÇ ëï³óÙ³Ý Ñ³Ù³ñ Ëáõ½³ñÏáõÃÛ³Ý Ï³Ù ³é·ñ³íÙ³Ý Ï³ï³ñÙ³Ý Ù³ëÇÝ ÙÇçÝáñ¹áõÃÛáõÝÝ»ñ | D12: ='Ա. Պետրոսյան'!D12+'Յու. Իսկոյան '!D12+'Վ. Հարությունյան'!D12+'Մ. Հարությունյան'!D12+Վ.Մելիքյան!D12+'Ա. Թամրազյան'!D12+Վ.Վարդանյան!D12 -> 0 | E12: ='Ա. Պետրոսյան'!E12+'Յու. Իսկոյան '!E12+'Վ. Հարությունյան'!E12+'Մ. Հարությունյան'!E12+Վ.Մելիքյան!E12+'Ա. Թամրազյան'!E12+Վ.Վարդանյան!E12 -> 4 | F12: ='Ա. Պետրոսյան'!F12+'Յու. Իսկոյան '!F12+'Վ. Հարությունյան'!F12+'Մ. Հարությունյան'!F12+Վ.Մելիքյան!F12+'Ա. Թամրազյան'!F12+Վ.Վարդանյան!F12 -> 0 | G12: ='Ա. Պետրոսյան'!G12+'Յու. Իսկոյան '!G12+'Վ. Հարությունյան'!G12+'Մ. Հարությունյան'!G12+Վ.Մելիքյան!G12+'Ա. Թամրազյան'!G12+Վ.Վարդանյան!G12 -> 1 | H12: ='Ա. Պետրոսյան'!H12+'Յու. Իսկոյան '!H12+'Վ. Հարությունյան'!H12+'Մ. Հարությունյան'!H12+Վ.Մելիքյան!H12+'Ա. Թամրազյան'!H12+Վ.Վարդանյան!H12 -> 0 | I12: ='Ա. Պետրոսյան'!I12+'Յու. Իսկոյան '!I12+'Վ. Հարությունյան'!I12+'Մ. Հարությունյան'!I12+Վ.Մելիքյան!I12+'Ա. Թամրազյան'!I12+Վ.Վարդանյան!I12 -> 3 | J12: ='Ա. Պետրոսյան'!J12+'Յու. Իսկոյան '!J12+'Վ. Հարությունյան'!J12+'Մ. Հարությունյան'!J12+Վ.Մելիքյան!J12+'Ա. Թամրազյան'!J12+Վ.Վարդանյան!J12 -> 0 | K12: ='Ա. Պետրոսյան'!K12+'Յու. Իսկոյան '!K12+'Վ. Հարությունյան'!K12+'Մ. Հարությունյան'!K12+Վ.Մելիքյան!K12+'Ա. Թամրազյան'!K12+Վ.Վարդանյան!K12 -> 4 | ... R12: ='Ա. Պետրոսյան'!R12+'Յու. Իսկոյան '!R12+'Վ. Հարությունյան'!R12+'Մ. Հարությունյան'!R12+Վ.Մելիքյան!R12+'Ա. Թամրազյան'!R12+Վ.Վարդանյան!R12 -> 0 | S12: ='Ա. Պետրոսյան'!S12+'Յու. Իսկոյան '!S12+'Վ. Հարությունյան'!S12+'Մ. Հարությունյան'!S12+Վ.Մելիքյան!S12+'Ա. Թամրազյան'!S12+Վ.Վարդանյան!S12+#REF! -> #REF! | T12: =D12+E12 -> 4 | U12: =F12+K12+L12 -> 4 | V12: =K12 -> 4 | W12: =G12+H12+I12+J12 -> 4
A13: 7 | B13: Ý³Ù³Ï³·ñáõÃÛ³Ý, Ñ»é³·ñ³Ï³Ý, ÷áuï³ÛÇÝ Ñ³Õáñ¹áõÙÝ»ñÇ ÑëÏáÕáõÃÛ³Ý Ù³ëÇÝ ÙÇçÝáñ¹áõÃÛáõÝÝ»ñ | D13: ='Ա. Պետրոսյան'!D13+'Յու. Իսկոյան '!D13+'Վ. Հարությունյան'!D13+'Մ. Հարությունյան'!D13+Վ.Մելիքյան!D13+'Ա. Թամրազյան'!D13+Վ.Վարդանյան!D13 -> 0 | E13: ='Ա. Պետրոսյան'!E13+'Յու. Իսկոյան '!E13+'Վ. Հարությունյան'!E13+'Մ. Հարությունյան'!E13+Վ.Մելիքյան!E13+'Ա. Թամրազյան'!E13+Վ.Վարդանյան!E13 -> 21 | F13: ='Ա. Պետրոսյան'!F13+'Յու. Իսկոյան '!F13+'Վ. Հարությունյան'!F13+'Մ. Հարությունյան'!F13+Վ.Մելիքյան!F13+'Ա. Թամրազյան'!F13+Վ.Վարդանյան!F13 -> 0 | G13: ='Ա. Պետրոսյան'!G13+'Յու. Իսկոյան '!G13+'Վ. Հարությունյան'!G13+'Մ. Հարությունյան'!G13+Վ.Մելիքյան!G13+'Ա. Թամրազյան'!G13+Վ.Վարդանյան!G13 -> 0 | H13: ='Ա. Պետրոսյան'!H13+'Յու. Իսկոյան '!H13+'Վ. Հարությունյան'!H13+'Մ. Հարությունյան'!H13+Վ.Մելիքյան!H13+'Ա. Թամրազյան'!H13+Վ.Վարդանյան!H13 -> 21 | I13: ='Ա. Պետրոսյան'!I13+'Յու. Իսկոյան '!I13+'Վ. Հարությունյան'!I13+'Մ. Հարությունյան'!I13+Վ.Մելիքյան!I13+'Ա. Թամրազյան'!I13+Վ.Վարդանյան!I13 -> 0 | J13: ='Ա. Պետրոսյան'!J13+'Յու. Իսկոյան '!J13+'Վ. Հարությունյան'!J13+'Մ. Հարությունյան'!J13+Վ.Մելիքյան!J13+'Ա. Թամրազյան'!J13+Վ.Վարդանյան!J13 -> 0 | K13: ='Ա. Պետրոսյան'!K13+'Յու. Իսկոյան '!K13+'Վ. Հարությունյան'!K13+'Մ. Հարությունյան'!K13+Վ.Մելիքյան!K13+'Ա. Թամրազյան'!K13+Վ.Վարդանյան!K13 -> 21 | ... R13: ='Ա. Պետրոսյան'!R13+'Յու. Իսկոյան '!R13+'Վ. Հարությունյան'!R13+'Մ. Հարությունյան'!R13+Վ.Մելիքյան!R13+'Ա. Թամրազյան'!R13+Վ.Վարդանյան!R13 -> 0 | S13: ='Ա. Պետրոսյան'!S13+'Յու. Իսկոյան '!S13+'Վ. Հարությունյան'!S13+'Մ. Հարությունյան'!S13+Վ.Մելիքյան!S13+'Ա. Թամրազյան'!S13+Վ.Վարդանյան!S13+#REF! -> #REF! | T13: =D13+E13 -> 21 | U13: =F13+K13+L13 -> 21 | V13: =K13 -> 21 | W13: =G13+H13+I13+J13 -> 21
A14: 8 | B14: Ñ»é³Ëáu³ÛÇÝ Ï³Ù Ï³åÇ ³ÛÉ ÙÇçáóÝ»ñáí ï³ñíáÕ Ëáu³ÏóáõÃÛáõÝÝ»ñÇ ÉuÙ³Ý ¨ Ó³ÛÝ³·ñ³éÙ³Ý Ù³ëÇÝ ÙÇçÝáñ¹áõÃÛáõÝÝ»ñ | D14: ='Ա. Պետրոսյան'!D14+'Յու. Իսկոյան '!D14+'Վ. Հարությունյան'!D14+'Մ. Հարությունյան'!D14+Վ.Մելիքյան!D14+'Ա. Թամրազյան'!D14+Վ.Վարդանյան!D14 -> 0 | E14: ='Ա. Պետրոսյան'!E14+'Յու. Իսկոյան '!E14+'Վ. Հարությունյան'!E14+'Մ. Հարությունյան'!E14+Վ.Մելիքյան!E14+'Ա. Թամրազյան'!E14+Վ.Վարդանյան!E14 -> 3 | F14: ='Ա. Պետրոսյան'!F14+'Յու. Իսկոյան '!F14+'Վ. Հարությունյան'!F14+'Մ. Հարությունյան'!F14+Վ.Մելիքյան!F14+'Ա. Թամրազյան'!F14+Վ.Վարդանյան!F14 -> 0 | G14: ='Ա. Պետրոսյան'!G14+'Յու. Իսկոյան '!G14+'Վ. Հարությունյան'!G14+'Մ. Հարությունյան'!G14+Վ.Մելիքյան!G14+'Ա. Թամրազյան'!G14+Վ.Վարդանյան!G14 -> 0 | H14: ='Ա. Պետրոսյան'!H14+'Յու. Իսկոյան '!H14+'Վ. Հարությունյան'!H14+'Մ. Հարությունյան'!H14+Վ.Մելիքյան!H14+'Ա. Թամրազյան'!H14+Վ.Վարդանյան!H14 -> 3 | I14: ='Ա. Պետրոսյան'!I14+'Յու. Իսկոյան '!I14+'Վ. Հարությունյան'!I14+'Մ. Հարությունյան'!I14+Վ.Մելիքյան!I14+'Ա. Թամրազյան'!I14+Վ.Վարդանյան!I14 -> 0 | J14: ='Ա. Պետրոսյան'!J14+'Յու. Իսկոյան '!J14+'Վ. Հարությունյան'!J14+'Մ. Հարությունյան'!J14+Վ.Մելիքյան!J14+'Ա. Թամրազյան'!J14+Վ.Վարդանյան!J14 -> 0 | K14: ='Ա. Պետրոսյան'!K14+'Յու. Իսկոյան '!K14+'Վ. Հարությունյան'!K14+'Մ. Հարությունյան'!K14+Վ.Մելիքյան!K14+'Ա. Թամրազյան'!K14+Վ.Վարդանյան!K14 -> 3 | ... R14: ='Ա. Պետրոսյան'!R14+'Յու. Իսկոյան '!R14+'Վ. Հարությունյան'!R14+'Մ. Հարությունյան'!R14+Վ.Մելիքյան!R14+'Ա. Թամրազյան'!R14+Վ.Վարդանյան!R14 -> 0 | S14: ='Ա. Պետրոսյան'!S14+'Յու. Իսկոյան '!S14+'Վ. Հարությունյան'!S14+'Մ. Հարությունյան'!S14+Վ.Մելիքյան!S14+'Ա. Թամրազյան'!S14+Վ.Վարդանյան!S14+#REF! -> #REF! | T14: =D14+E14 -> 3 | U14: =F14+K14+L14 -> 3 | V14: =K14 -> 3 | W14: =G14+H14+I14+J14 -> 3
A15: 9 | B15: Ñ»é³ËáëÝ»ñÇ Ùáõïù³ÛÇÝ ¨ »Éù³ÛÇÝ í»ñÍ³ÝÙ³Ý ÃáõÛÉïíáõÃÛáõÝ ëï³Ý³Éáõ Ù³ëÇÝ ÙÇçÝáñ¹áõÃÛáõÝÝ»ñ | D15: ='Ա. Պետրոսյան'!D15+'Յու. Իսկոյան '!D15+'Վ. Հարությունյան'!D15+'Մ. Հարությունյան'!D15+Վ.Մելիքյան!D15+'Ա. Թամրազյան'!D15+Վ.Վարդանյան!D15 -> 0 | E15: ='Ա. Պետրոսյան'!E15+'Յու. Իսկոյան '!E15+'Վ. Հարությունյան'!E15+'Մ. Հարությունյան'!E15+Վ.Մելիքյան!E15+'Ա. Թամրազյան'!E15+Վ.Վարդանյան!E15 -> 161 | F15: ='Ա. Պետրոսյան'!F15+'Յու. Իսկոյան '!F15+'Վ. Հարությունյան'!F15+'Մ. Հարությունյան'!F15+Վ.Մելիքյան!F15+'Ա. Թամրազյան'!F15+Վ.Վարդանյան!F15 -> 0 | G15: ='Ա. Պետրոսյան'!G15+'Յու. Իսկոյան '!G15+'Վ. Հարությունյան'!G15+'Մ. Հարությունյան'!G15+Վ.Մելիքյան!G15+'Ա. Թամրազյան'!G15+Վ.Վարդանյան!G15 -> 0 | H15: ='Ա. Պետրոսյան'!H15+'Յու. Իսկոյան '!H15+'Վ. Հարությունյան'!H15+'Մ. Հարությունյան'!H15+Վ.Մելիքյան!H15+'Ա. Թամրազյան'!H15+Վ.Վարդանյան!H15 -> 161 | I15: ='Ա. Պետրոսյան'!I15+'Յու. Իսկոյան '!I15+'Վ. Հարությունյան'!I15+'Մ. Հարությունյան'!I15+Վ.Մելիքյան!I15+'Ա. Թամրազյան'!I15+Վ.Վարդանյան!I15 -> 0 | J15: ='Ա. Պետրոսյան'!J15+'Յու. Իսկոյան '!J15+'Վ. Հարությունյան'!J15+'Մ. Հարությունյան'!J15+Վ.Մելիքյան!J15+'Ա. Թամրազյան'!J15+Վ.Վարդանյան!J15 -> 0 | K15: ='Ա. Պետրոսյան'!K15+'Յու. Իսկոյան '!K15+'Վ. Հարությունյան'!K15+'Մ. Հարությունյան'!K15+Վ.Մելիքյան!K15+'Ա. Թամրազյան'!K15+Վ.Վարդանյան!K15 -> 161 | ... R15: ='Ա. Պետրոսյան'!R15+'Յու. Իսկոյան '!R15+'Վ. Հարությունյան'!R15+'Մ. Հարությունյան'!R15+Վ.Մելիքյան!R15+'Ա. Թամրազյան'!R15+Վ.Վարդանյան!R15 -> 0 | S15: ='Ա. Պետրոսյան'!S15+'Յու. Իսկոյան '!S15+'Վ. Հարությունյան'!S15+'Մ. Հարությունյան'!S15+Վ.Մելիքյան!S15+'Ա. Թամրազյան'!S15+Վ.Վարդանյան!S15+#REF! -> #REF! | T15: =D15+E15 -> 161 | U15: =F15+K15+L15 -> 161 | V15: =K15 -> 161 | W15: =G15+H15+I15+J15 -> 161
A16: 10 | B16: Ñ»ï³ùÝÝáõÃÛ³Ý Ù³ñÙÝÇ ³ßË³ïáÕÇ, ùÝÝÇãÇ, ¹³ï³Ë³½Ç oå»ñ³ïÇí-Ñ»ï³Ëáõ½³Ï³Ý ·áñÍáÕáõÃÛáõÝÝ»ñ Çñ³Ï³Ý³óÝáÕ Ù³ñÙÇÝÝ»ñÇ ³ÝoñÇÝ³Ï³Ý ¨ ³ÝÑÇÙÝ áñáßáõÙÝ»ñÇ ¨ ·áñÍáÕáõÃÛáõÝÝ»ñÇ ¹»Ù µáÕáùÝ»ñ | D16: ='Ա. Պետրոսյան'!D16+'Յու. Իսկոյան '!D16+'Վ. Հարությունյան'!D16+'Մ. Հարությունյան'!D16+Վ.Մելիքյան!D16+'Ա. Թամրազյան'!D16+Վ.Վարդանյան!D16 -> 1 | E16: ='Ա. Պետրոսյան'!E16+'Յու. Իսկոյան '!E16+'Վ. Հարությունյան'!E16+'Մ. Հարությունյան'!E16+Վ.Մելիքյան!E16+'Ա. Թամրազյան'!E16+Վ.Վարդանյան!E16 -> 17 | F16: ='Ա. Պետրոսյան'!F16+'Յու. Իսկոյան '!F16+'Վ. Հարությունյան'!F16+'Մ. Հարությունյան'!F16+Վ.Մելիքյան!F16+'Ա. Թամրազյան'!F16+Վ.Վարդանյան!F16 -> 2 | G16: ='Ա. Պետրոսյան'!G16+'Յու. Իսկոյան '!G16+'Վ. Հարությունյան'!G16+'Մ. Հարությունյան'!G16+Վ.Մելիքյան!G16+'Ա. Թամրազյան'!G16+Վ.Վարդանյան!G16 -> 12 | H16: ='Ա. Պետրոսյան'!H16+'Յու. Իսկոյան '!H16+'Վ. Հարությունյան'!H16+'Մ. Հարությունյան'!H16+Վ.Մելիքյան!H16+'Ա. Թամրազյան'!H16+Վ.Վարդանյան!H16 -> 2 | I16: ='Ա. Պետրոսյան'!I16+'Յու. Իսկոյան '!I16+'Վ. Հարությունյան'!I16+'Մ. Հարությունյան'!I16+Վ.Մելիքյան!I16+'Ա. Թամրազյան'!I16+Վ.Վարդանյան!I16 -> 0 | J16: ='Ա. Պետրոսյան'!J16+'Յու. Իսկոյան '!J16+'Վ. Հարությունյան'!J16+'Մ. Հարությունյան'!J16+Վ.Մելիքյան!J16+'Ա. Թամրազյան'!J16+Վ.Վարդանյան!J16 -> 0 | K16: ='Ա. Պետրոսյան'!K16+'Յու. Իսկոյան '!K16+'Վ. Հարությունյան'!K16+'Մ. Հարությունյան'!K16+Վ.Մելիքյան!K16+'Ա. Թամրազյան'!K16+Վ.Վարդանյան!K16 -> 14 | ... R16: ='Ա. Պետրոսյան'!R16+'Յու. Իսկոյան '!R16+'Վ. Հարությունյան'!R16+'Մ. Հարությունյան'!R16+Վ.Մելիքյան!R16+'Ա. Թամրազյան'!R16+Վ.Վարդանյան!R16 -> 4 | S16: ='Ա. Պետրոսյան'!S16+'Յու. Իսկոյան '!S16+'Վ. Հարությունյան'!S16+'Մ. Հարությունյան'!S16+Վ.Մելիքյան!S16+'Ա. Թամրազյան'!S16+Վ.Վարդանյան!S16+#REF! -> #REF! | T16: =D16+E16 -> 18 | U16: =F16+K16+L16 -> 18 | V16: =K16 -> 14 | W16: =G16+H16+I16+J16 -> 14
A17: 2. ¸³ï³Ï³Ý ³Ïï»ñÇ ¨ ¹³ï³Ï³Ý Ñ³ÝÓÝ³ñ³ñáõÃÛáõÝÝ»ñÇ Ï³ï³ñÙ³Ý Ñ»ï Ï³åí³Í Ñ³ñó»ñÇ ÉáõÍÙ³Ý áÉáñï | S17: ='Ա. Պետրոսյան'!S17+'Յու. Իսկոյան '!S17+'Վ. Հարությունյան'!S17+'Մ. Հարությունյան'!S17+Վ.Մելիքյան!S17+'Ա. Թամրազյան'!S17+Վ.Վարդանյան!S17+#REF! -> #REF!
A18: 1 | B18: å³ïÅÇó å³ÛÙ³Ý³Ï³Ý í³Õ³Å³ÙÏ»ï ³½³ï»Éáõ Ù³ëÇÝ ÙÇçÝáñ¹áõÃÛáõÝÝ»ñ | D18: ='Ա. Պետրոսյան'!D18+'Յու. Իսկոյան '!D18+'Վ. Հարությունյան'!D18+'Մ. Հարությունյան'!D18+Վ.Մելիքյան!D18+'Ա. Թամրազյան'!D18+Վ.Վարդանյան!D18 -> 0 | E18: ='Ա. Պետրոսյան'!E18+'Յու. Իսկոյան '!E18+'Վ. Հարությունյան'!E18+'Մ. Հարությունյան'!E18+Վ.Մելիքյան!E18+'Ա. Թամրազյան'!E18+Վ.Վարդանյան!E18 -> 0 | F18: ='Ա. Պետրոսյան'!F18+'Յու. Իսկոյան '!F18+'Վ. Հարությունյան'!F18+'Մ. Հարությունյան'!F18+Վ.Մելիքյան!F18+'Ա. Թամրազյան'!F18+Վ.Վարդանյան!F18 -> 0 | G18: ='Ա. Պետրոսյան'!G18+'Յու. Իսկոյան '!G18+'Վ. Հարությունյան'!G18+'Մ. Հարությունյան'!G18+Վ.Մելիքյան!G18+'Ա. Թամրազյան'!G18+Վ.Վարդանյան!G18 -> 0 | H18: ='Ա. Պետրոսյան'!H18+'Յու. Իսկոյան '!H18+'Վ. Հարությունյան'!H18+'Մ. Հարությունյան'!H18+Վ.Մելիքյան!H18+'Ա. Թամրազյան'!H18+Վ.Վարդանյան!H18 -> 0 | I18: ='Ա. Պետրոսյան'!I18+'Յու. Իսկոյան '!I18+'Վ. Հարությունյան'!I18+'Մ. Հարությունյան'!I18+Վ.Մելիքյան!I18+'Ա. Թամրազյան'!I18+Վ.Վարդանյան!I18 -> 0 | J18: ='Ա. Պետրոսյան'!J18+'Յու. Իսկոյան '!J18+'Վ. Հարությունյան'!J18+'Մ. Հարությունյան'!J18+Վ.Մելիքյան!J18+'Ա. Թամրազյան'!J18+Վ.Վարդանյան!J18 -> 0 | K18: ='Ա. Պետրոսյան'!K18+'Յու. Իսկոյան '!K18+'Վ. Հարությունյան'!K18+'Մ. Հարությունյան'!K18+Վ.Մելիքյան!K18+'Ա. Թամրազյան'!K18+Վ.Վարդանյան!K18 -> 0 | ... R18: ='Ա. Պետրոսյան'!R18+'Յու. Իսկոյան '!R18+'Վ. Հարությունյան'!R18+'Մ. Հարությունյան'!R18+Վ.Մելիքյան!R18+'Ա. Թամրազյան'!R18+Վ.Վարդանյան!R18 -> 0 | S18: ='Ա. Պետրոսյան'!S18+'Յու. Իսկոյան '!S18+'Վ. Հարությունյան'!S18+'Մ. Հարությունյան'!S18+Վ.Մելիքյան!S18+'Ա. Թամրազյան'!S18+Վ.Վարդանյան!S18+#REF! -> #REF! | T18: =D18+E18 -> 0 | U18: =F18+K18+L18 -> 0 | V18: =K18 -> 0 | W18: =G18+H18+I18+J18 -> 0
A19: 2 | B19: å³ïÇÅÁ ÷á÷áË»Éáõ, Ñ»ï³Ó·»Éáõ ¨ å³ïÅÇó ³½³ï»Éáõ Ù³uÇÝ ÙÇçÝáñ¹áõÃÛáõÝÝ»ñ | D19: ='Ա. Պետրոսյան'!D19+'Յու. Իսկոյան '!D19+'Վ. Հարությունյան'!D19+'Մ. Հարությունյան'!D19+Վ.Մելիքյան!D19+'Ա. Թամրազյան'!D19+Վ.Վարդանյան!D19 -> 2 | E19: ='Ա. Պետրոսյան'!E19+'Յու. Իսկոյան '!E19+'Վ. Հարությունյան'!E19+'Մ. Հարությունյան'!E19+Վ.Մելիքյան!E19+'Ա. Թամրազյան'!E19+Վ.Վարդանյան!E19 -> 4 | F19: ='Ա. Պետրոսյան'!F19+'Յու. Իսկոյան '!F19+'Վ. Հարությունյան'!F19+'Մ. Հարությունյան'!F19+Վ.Մելիքյան!F19+'Ա. Թամրազյան'!F19+Վ.Վարդանյան!F19 -> 0 | G19: ='Ա. Պետրոսյան'!G19+'Յու. Իսկոյան '!G19+'Վ. Հարությունյան'!G19+'Մ. Հարությունյան'!G19+Վ.Մելիքյան!G19+'Ա. Թամրազյան'!G19+Վ.Վարդանյան!G19 -> 3 | H19: ='Ա. Պետրոսյան'!H19+'Յու. Իսկոյան '!H19+'Վ. Հարությունյան'!H19+'Մ. Հարությունյան'!H19+Վ.Մելիքյան!H19+'Ա. Թամրազյան'!H19+Վ.Վարդանյան!H19 -> 3 | I19: ='Ա. Պետրոսյան'!I19+'Յու. Իսկոյան '!I19+'Վ. Հարությունյան'!I19+'Մ. Հարությունյան'!I19+Վ.Մելիքյան!I19+'Ա. Թամրազյան'!I19+Վ.Վարդանյան!I19 -> 0 | J19: ='Ա. Պետրոսյան'!J19+'Յու. Իսկոյան '!J19+'Վ. Հարությունյան'!J19+'Մ. Հարությունյան'!J19+Վ.Մելիքյան!J19+'Ա. Թամրազյան'!J19+Վ.Վարդանյան!J19 -> 0 | K19: ='Ա. Պետրոսյան'!K19+'Յու. Իսկոյան '!K19+'Վ. Հարությունյան'!K19+'Մ. Հարությունյան'!K19+Վ.Մելիքյան!K19+'Ա. Թամրազյան'!K19+Վ.Վարդանյան!K19 -> 6 | ... R19: ='Ա. Պետրոսյան'!R19+'Յու. Իսկոյան '!R19+'Վ. Հարությունյան'!R19+'Մ. Հարությունյան'!R19+Վ.Մելիքյան!R19+'Ա. Թամրազյան'!R19+Վ.Վարդանյան!R19 -> 0 | S19: ='Ա. Պետրոսյան'!S19+'Յու. Իսկոյան '!S19+'Վ. Հարությունյան'!S19+'Մ. Հարությունյան'!S19+Վ.Մելիքյան!S19+'Ա. Թամրազյան'!S19+Վ.Վարդանյան!S19+#REF! -> #REF! | T19: =D19+E19 -> 6 | U19: =F19+K19+L19 -> 6 | V19: =K19 -> 6 | W19: =G19+H19+I19+J19 -> 6
A20: 3 | B20: Ñ³ñÏ³¹Çñ µáõÅÙ³Ý ï»ë³ÏÇ ÷á÷áËáõÃÛ³Ý Ù³ëÇÝ ÙÇçÝáñ¹áõÃÛáõÝÝ»ñ | D20: ='Ա. Պետրոսյան'!D20+'Յու. Իսկոյան '!D20+'Վ. Հարությունյան'!D20+'Մ. Հարությունյան'!D20+Վ.Մելիքյան!D20+'Ա. Թամրազյան'!D20+Վ.Վարդանյան!D20 -> 0 | E20: ='Ա. Պետրոսյան'!E20+'Յու. Իսկոյան '!E20+'Վ. Հարությունյան'!E20+'Մ. Հարությունյան'!E20+Վ.Մելիքյան!E20+'Ա. Թամրազյան'!E20+Վ.Վարդանյան!E20 -> 8 | F20: ='Ա. Պետրոսյան'!F20+'Յու. Իսկոյան '!F20+'Վ. Հարությունյան'!F20+'Մ. Հարությունյան'!F20+Վ.Մելիքյան!F20+'Ա. Թամրազյան'!F20+Վ.Վարդանյան!F20 -> 0 | G20: ='Ա. Պետրոսյան'!G20+'Յու. Իսկոյան '!G20+'Վ. Հարությունյան'!G20+'Մ. Հարությունյան'!G20+Վ.Մելիքյան!G20+'Ա. Թամրազյան'!G20+Վ.Վարդանյան!G20 -> 0 | H20: ='Ա. Պետրոսյան'!H20+'Յու. Իսկոյան '!H20+'Վ. Հարությունյան'!H20+'Մ. Հարությունյան'!H20+Վ.Մելիքյան!H20+'Ա. Թամրազյան'!H20+Վ.Վարդանյան!H20 -> 7 | I20: ='Ա. Պետրոսյան'!I20+'Յու. Իսկոյան '!I20+'Վ. Հարությունյան'!I20+'Մ. Հարությունյան'!I20+Վ.Մելիքյան!I20+'Ա. Թամրազյան'!I20+Վ.Վարդանյան!I20 -> 0 | J20: ='Ա. Պետրոսյան'!J20+'Յու. Իսկոյան '!J20+'Վ. Հարությունյան'!J20+'Մ. Հարությունյան'!J20+Վ.Մելիքյան!J20+'Ա. Թամրազյան'!J20+Վ.Վարդանյան!J20 -> 1 | K20: ='Ա. Պետրոսյան'!K20+'Յու. Իսկոյան '!K20+'Վ. Հարությունյան'!K20+'Մ. Հարությունյան'!K20+Վ.Մելիքյան!K20+'Ա. Թամրազյան'!K20+Վ.Վարդանյան!K20 -> 8 | ... R20: ='Ա. Պետրոսյան'!R20+'Յու. Իսկոյան '!R20+'Վ. Հարությունյան'!R20+'Մ. Հարությունյան'!R20+Վ.Մելիքյան!R20+'Ա. Թամրազյան'!R20+Վ.Վարդանյան!R20 -> 1 | S20: ='Ա. Պետրոսյան'!S20+'Յու. Իսկոյան '!S20+'Վ. Հարությունյան'!S20+'Մ. Հարությունյան'!S20+Վ.Մելիքյան!S20+'Ա. Թամրազյան'!S20+Վ.Վարդանյան!S20+#REF! -> #REF! | T20: =D20+E20 -> 8 | U20: =F20+K20+L20 -> 8 | V20: =K20 -> 8 | W20: =G20+H20+I20+J20 -> 8
A21: 4 | B21: ³ÛÉ ÙÇçÝáñ¹áõÃÛáõÝÝ»ñ | D21: ='Ա. Պետրոսյան'!D21+'Յու. Իսկոյան '!D21+'Վ. Հարությունյան'!D21+'Մ. Հարությունյան'!D21+Վ.Մելիքյան!D21+'Ա. Թամրազյան'!D21+Վ.Վարդանյան!D21 -> 0 | E21: ='Ա. Պետրոսյան'!E21+'Յու. Իսկոյան '!E21+'Վ. Հարությունյան'!E21+'Մ. Հարությունյան'!E21+Վ.Մելիքյան!E21+'Ա. Թամրազյան'!E21+Վ.Վարդանյան!E21 -> 17 | F21: ='Ա. Պետրոսյան'!F21+'Յու. Իսկոյան '!F21+'Վ. Հարությունյան'!F21+'Մ. Հարությունյան'!F21+Վ.Մելիքյան!F21+'Ա. Թամրազյան'!F21+Վ.Վարդանյան!F21 -> 0 | G21: ='Ա. Պետրոսյան'!G21+'Յու. Իսկոյան '!G21+'Վ. Հարությունյան'!G21+'Մ. Հարությունյան'!G21+Վ.Մելիքյան!G21+'Ա. Թամրազյան'!G21+Վ.Վարդանյան!G21 -> 5 | H21: ='Ա. Պետրոսյան'!H21+'Յու. Իսկոյան '!H21+'Վ. Հարությունյան'!H21+'Մ. Հարությունյան'!H21+Վ.Մելիքյան!H21+'Ա. Թամրազյան'!H21+Վ.Վարդանյան!H21 -> 9 | I21: ='Ա. Պետրոսյան'!I21+'Յու. Իսկոյան '!I21+'Վ. Հարությունյան'!I21+'Մ. Հարությունյան'!I21+Վ.Մելիքյան!I21+'Ա. Թամրազյան'!I21+Վ.Վարդանյան!I21 -> 1 | J21: ='Ա. Պետրոսյան'!J21+'Յու. Իսկոյան '!J21+'Վ. Հարությունյան'!J21+'Մ. Հարությունյան'!J21+Վ.Մելիքյան!J21+'Ա. Թամրազյան'!J21+Վ.Վարդանյան!J21 -> 1 | K21: ='Ա. Պետրոսյան'!K21+'Յու. Իսկոյան '!K21+'Վ. Հարությունյան'!K21+'Մ. Հարությունյան'!K21+Վ.Մելիքյան!K21+'Ա. Թամրազյան'!K21+Վ.Վարդանյան!K21 -> 16 | ... R21: ='Ա. Պետրոսյան'!R21+'Յու. Իսկոյան '!R21+'Վ. Հարությունյան'!R21+'Մ. Հարությունյան'!R21+Վ.Մելիքյան!R21+'Ա. Թամրազյան'!R21+Վ.Վարդանյան!R21 -> 0 | S21: ='Ա. Պետրոսյան'!S21+'Յու. Իսկոյան '!S21+'Վ. Հարությունյան'!S21+'Մ. Հարությունյան'!S21+Վ.Մելիքյան!S21+'Ա. Թամրազյան'!S21+Վ.Վարդանյան!S21+#REF! -> #REF! | T21: =D21+E21 -> 17 | U21: =F21+K21+L21 -> 17 | V21: =K21 -> 16 | W21: =G21+H21+I21+J21 -> 16
A22: 5 | B22: ¹³ï³Ï³Ý Ñ³ÝÓÝ³ñ³ñáõÃÛáõÝÝ»ñ | D22: ='Ա. Պետրոսյան'!D22+'Յու. Իսկոյան '!D22+'Վ. Հարությունյան'!D22+'Մ. Հարությունյան'!D22+Վ.Մելիքյան!D22+'Ա. Թամրազյան'!D22+Վ.Վարդանյան!D22 -> 1 | E22: ='Ա. Պետրոսյան'!E22+'Յու. Իսկոյան '!E22+'Վ. Հարությունյան'!E22+'Մ. Հարությունյան'!E22+Վ.Մելիքյան!E22+'Ա. Թամրազյան'!E22+Վ.Վարդանյան!E22 -> 6 | F22: ='Ա. Պետրոսյան'!F22+'Յու. Իսկոյան '!F22+'Վ. Հարությունյան'!F22+'Մ. Հարությունյան'!F22+Վ.Մելիքյան!F22+'Ա. Թամրազյան'!F22+Վ.Վարդանյան!F22 -> 0 | G22: ='Ա. Պետրոսյան'!G22+'Յու. Իսկոյան '!G22+'Վ. Հարությունյան'!G22+'Մ. Հարությունյան'!G22+Վ.Մելիքյան!G22+'Ա. Թամրազյան'!G22+Վ.Վարդանյան!G22 -> 0 | H22: ='Ա. Պետրոսյան'!H22+'Յու. Իսկոյան '!H22+'Վ. Հարությունյան'!H22+'Մ. Հարությունյան'!H22+Վ.Մելիքյան!H22+'Ա. Թամրազյան'!H22+Վ.Վարդանյան!H22 -> 2 | I22: ='Ա. Պետրոսյան'!I22+'Յու. Իսկոյան '!I22+'Վ. Հարությունյան'!I22+'Մ. Հարությունյան'!I22+Վ.Մելիքյան!I22+'Ա. Թամրազյան'!I22+Վ.Վարդանյան!I22 -> 0 | J22: ='Ա. Պետրոսյան'!J22+'Յու. Իսկոյան '!J22+'Վ. Հարությունյան'!J22+'Մ. Հարությունյան'!J22+Վ.Մելիքյան!J22+'Ա. Թամրազյան'!J22+Վ.Վարդանյան!J22 -> 0 | K22: ='Ա. Պետրոսյան'!K22+'Յու. Իսկոյան '!K22+'Վ. Հարությունյան'!K22+'Մ. Հարությունյան'!K22+Վ.Մելիքյան!K22+'Ա. Թամրազյան'!K22+Վ.Վարդանյան!K22 -> 2 | ... R22: ='Ա. Պետրոսյան'!R22+'Յու. Իսկոյան '!R22+'Վ. Հարությունյան'!R22+'Մ. Հարությունյան'!R22+Վ.Մելիքյան!R22+'Ա. Թամրազյան'!R22+Վ.Վարդանյան!R22 -> 0 | S22: ='Ա. Պետրոսյան'!S22+'Յու. Իսկոյան '!S22+'Վ. Հարությունյան'!S22+'Մ. Հարությունյան'!S22+Վ.Մելիքյան!S22+'Ա. Թամրազյան'!S22+Վ.Վարդանյան!S22+#REF! -> #REF! | T22: =D22+E22 -> 7 | U22: =F22+K22+L22 -> 7 | V22: =K22 -> 2 | W22: =G22+H22+I22+J22 -> 2
A23: ÀÜ¸²ØºÜÀ | D23: ='Ա. Պետրոսյան'!D23+'Յու. Իսկոյան '!D23+'Վ. Հարությունյան'!D23+'Մ. Հարությունյան'!D23+Վ.Մելիքյան!D23+'Ա. Թամրազյան'!D23+Վ.Վարդանյան!D23 -> 4 | E23: ='Ա. Պետրոսյան'!E23+'Յու. Իսկոյան '!E23+'Վ. Հարությունյան'!E23+'Մ. Հարությունյան'!E23+Վ.Մելիքյան!E23+'Ա. Թամրազյան'!E23+Վ.Վարդանյան!E23 -> 773 | F23: ='Ա. Պետրոսյան'!F23+'Յու. Իսկոյան '!F23+'Վ. Հարությունյան'!F23+'Մ. Հարությունյան'!F23+Վ.Մելիքյան!F23+'Ա. Թամրազյան'!F23+Վ.Վարդանյան!F23 -> 2 | G23: ='Ա. Պետրոսյան'!G23+'Յու. Իսկոյան '!G23+'Վ. Հարությունյան'!G23+'Մ. Հարությունյան'!G23+Վ.Մելիքյան!G23+'Ա. Թամրազյան'!G23+Վ.Վարդանյան!G23 -> 69 | H23: ='Ա. Պետրոսյան'!H23+'Յու. Իսկոյան '!H23+'Վ. Հարությունյան'!H23+'Մ. Հարությունյան'!H23+Վ.Մելիքյան!H23+'Ա. Թամրազյան'!H23+Վ.Վարդանյան!H23 -> 681 | I23: ='Ա. Պետրոսյան'!I23+'Յու. Իսկոյան '!I23+'Վ. Հարությունյան'!I23+'Մ. Հարությունյան'!I23+Վ.Մելիքյան!I23+'Ա. Թամրազյան'!I23+Վ.Վարդանյան!I23 -> 10 | J23: ='Ա. Պետրոսյան'!J23+'Յու. Իսկոյան '!J23+'Վ. Հարությունյան'!J23+'Մ. Հարությունյան'!J23+Վ.Մելիքյան!J23+'Ա. Թամրազյան'!J23+Վ.Վարդանյան!J23 -> 7 | K23: ='Ա. Պետրոսյան'!K23+'Յու. Իսկոյան '!K23+'Վ. Հարությունյան'!K23+'Մ. Հարությունյան'!K23+Վ.Մելիքյան!K23+'Ա. Թամրազյան'!K23+Վ.Վարդանյան!K23 -> 767 | ... R23: ='Ա. Պետրոսյան'!R23+'Յու. Իսկոյան '!R23+'Վ. Հարությունյան'!R23+'Մ. Հարությունյան'!R23+Վ.Մելիքյան!R23+'Ա. Թամրազյան'!R23+Վ.Վարդանյան!R23 -> 20 | S23: ='Ա. Պետրոսյան'!S23+'Յու. Իսկոյան '!S23+'Վ. Հարությունյան'!S23+'Մ. Հարությունյան'!S23+Վ.Մելիքյան!S23+'Ա. Թամրազյան'!S23+Վ.Վարդանյան!S23+#REF! -> #REF! | T23: =D23+E23 -> 777 | U23: =F23+K23+L23 -> 777 | V23: =K23 -> 767 | W23: =G23+H23+I23+J23 -> 767

Sheet Ա. Պետրոսյան
A1: 2015Ã. | D1: Ð²ÞìºîìàôÂÚàôÜ | P1: Ð³í»Éí³Í Ð³Û³ëï³ÝÇ Ð³Ýñ³å»ïáõÃÛ³Ý ¸³ï³ñ³ÝÝ»ñÇ Ý³Ë³·³ÑÝ»ñÇ ËáñÑñ¹Ç 01.02.2016Ã. ÃÇí 11È áñáßÙ³Ý
A2: ØÇÝã¹³ï³Ï³Ý í³ñáõÛÃÇ ÝÏ³ïÙ³Ùµ ¹³ï³Ï³Ý í»ñ³ÑëÏáÕáõÃÛ³ÝÁ, ¹³ï³Ï³Ý ³Ïï»ñÇ ¨ ¹³ï³Ï³Ý Ñ³ÝÓÝ³ñ³ñáõÃÛáõÝÝ»ñÇ Ï³ï³ñÙ³ÝÁ Ñ»ï Ï³åí³Í ÙÇçÝáñ¹áõÃÛáõÝÝ»ñÇ í»ñ³µ»ñÛ³É ¹³ï³Ï³Ý ·áñÍ»ñáí ÐÐ ¶»Õ³ñùáõÝÇùÇ Ù³ñ½Ç ÁÝ¹Ñ³Ýáõñ Çñ³í³ëáõÃÛ³Ý ³é³çÇÝ ³ïÛ³ÝÇ ¹³ï³ñ³ÝÇ ¹³ï³íáñ Աղվան Պետրոսյան ·áñÍáõÝ»áõÃÛ³Ý í»ñ³µ»ñÛ³É
A3: êïáõ·Çã Ñ³í³ë³ñáõÙ` 1+2=3+8+9, 8=4+5+6+7, | D3: Ð³ßí»ïáõ Å³Ù³Ý³Ï³Ñ³ïí³ÍÇ ëÏ½µáõÙ Ý³Ëáñ¹ Ñ³ßí»ïáõ Å³Ù³Ý³Ï³Ñ³ïí³ÍÇó ÷áË³Ýóí³Í ·áñÍ»ñÇ ÁÝ¹Ñ³Ýáõñ ÃÇíÁ | E3: Ð³ßí»ïáõ Å³Ù³Ý³Ï³Ñ³ïí³ÍáõÙ ëï³óí³Í ·áñÍ»ñÇ ÁÝ¹Ñ³Ýáõñ ÃÇíÁ | F3: öáË³Ýóí»É ¿ ³ÛÉ ¹³ï³íáñÇ Ï³Ù ³ÛÉ ¹³ï³ñ³Ý (Ï³½ÙÇ ÷á÷áËáõÃÛáõÝ, ÁÝ¹¹³ïáõÃÛáõÝ) | G3: Ð³ßí»ïáõ Å³Ù³Ý³Ï³Ñ³ïí³ÍáõÙ ³í³ñïí³Í ·áñÍ»ñÇ ÁÝ¹Ñ³Ýáõñ ÃÇíÁ | L3: Ð³ßí»ïáõ Å³Ù³Ý³Ï³Ñ³ïí³ÍáõÙ ³Ý³í³ñï ·áñÍ»ñÇ ÁÝ¹Ñ³Ýáõñ ÃÇíÁ | M3: ØÇçÝáñ¹áõÃÛáõÝÝ»ñáí Ï³Û³óí³Í ¹³ï³Ï³Ý ³Ïï»ñÇó µáÕáù³ñÏí³ÍÝ»ñÇ ù³Ý³ÏÁ | O3: ²Ý³í³ñï µáÕáùÝ»ñ | P3: ØÇçÝáñ¹áõÃÛáõÝÝ»ñáí Ï³Û³óí³Í ¨ µáÕáù³ñÏí³Í ¹³ï³Ï³Ý ³Ïï»ñÇó µ»Ï³Ýí³ÍÝ»ñÇ ù³Ý³ÏÁ | R3: ÙÇçÝáñ¹áõÃÛáõÝÝ»ñáí Ï³Û³óí³Í ¨ µáÕáù³ñÏí³Í ¹³ï³Ï³Ý ³Ïï»ñÇó ³Ý÷á÷áË ÃáÕÝí³ÍÝ»ñÇ ù³Ý³ÏÁ
G4: Ù»ñÅí»É ¿ | H4: µ³í³ñ³ñí»É ¿ | I4: µ³í³ñ³ñí»É ¿ Ù³ëÝ³ÏÇ | J4: ÃáÕÝí»É ¿ ³é³Ýó ùÝÝáõÃÛ³Ý | K4: ÀÝ¹³Ù»ÝÁ
M5: Ý³Ëáñ¹ ï³ñÇÝ»ñÇÝ Ï³Û³óí³Í ³Ïï»ñÇ ¹»Ù | N5: Ñ³ßí»ïáõ Å³Ù³Ý³Ï³ßñç³ÝáõÙ Ï³Û³óí³Í ³Ïï»ñÇ ¹»Ù | P5: Ý³Ëáñ¹ ï³ñÇÝ»ñÇÝ Ï³Û³óí³Í ³Ïï»ñÇ µ»Ï³ÝáõÙÝ»ñÁ | Q5: Ñ³ßí»ïáõ Å³Ù³Ý³Ï³ßñç³ÝáõÙ Ï³Û³óí³Í ³Ïï»ñÇ µ»Ï³ÝáõÙÝ»ñÁ
A6: 1. ØÇÝã¹³ï³Ï³Ý í³ñáõÛÃÇ ÝÏ³ïÙ³Ùµ ¹³ï³Ï³Ý í»ñ³ÑëÏáÕáõÃÛ³Ý áÉáñï | D6: 1 | E6: 2 | F6: 3 | G6: 4 | H6: 5 | I6: 6 | J6: 7 | K6: 8 | L6: 9 | M6: 10 | N6: 11 | O6: 12 | P6: 13 | Q6: 14 | R6: 15 | T6: 1+2=3+8+9 | V6: 8=4+5+6+7
A7: 1 | B7: Ï³É³ÝùÁ áñå»ë Ë³÷³ÝÙ³Ý ÙÇçáó ÏÇñ³é»Éáõ Ù³ëÇÝ ÙÇçÝáñ¹áõÃÛáõÝÝ»ñ | E7: 37 | H7: 37 | K7: 37 | T7: =D7+E7 -> 37 | U7: =F7+K7+L7 -> 37 | V7: =K7 -> 37 | W7: =G7+H7+I7+J7 -> 37
A8: 2 | B8: Ï³É³ÝùÇ Å³ÙÏ»ïÁ »ñÏ³ñ³óÝ»Éáõ Ù³ëÇÝ ÙÇçÝáñ¹áõÃÛáõÝÝ»ñ | E8: 2 | H8: 2 | K8: 2 | N8: 1 | R8: 1 | T8: =D8+E8 -> 2 | U8: =F8+K8+L8 -> 2 | V8: =K8 -> 2 | W8: =G8+H8+I8+J8 -> 2
A9: 3 | B9: Ï³É³ÝùÇ í»ñ³Ñ³ëï³ïÙ³Ý Ù³ëÇÝ ÙÇçÝáñ¹áõÃÛáõÝÝ»ñ | E9: 5 | H9: 5 | K9: 5 | T9: =D9+E9 -> 5 | U9: =F9+K9+L9 -> 5 | V9: =K9 -> 5 | W9: =G9+H9+I9+J9 -> 5
A10: 4 | B10: ·ñ³íÁ áñå»ë Ï³É³Ý³íáñÙ³Ý ³ÛÉÁÝïñ³Ýù³ÛÇÝ Ë³÷³ÝÙ³Ý ÙÇçáó ÏÇñ³é»Éáõ Ù³ëÇÝ ÙÇçÝáñ¹áõÃÛáõÝÝ»ñ | E10: 7 | H10: 6 | J10: 1 | K10: 7 | N10: 4 | O10: 3 | R10: 1 | T10: =D10+E10 -> 7 | U10: =F10+K10+L10 -> 7 | V10: =K10 -> 7 | W10: =G10+H10+I10+J10 -> 7
A11: 5 | B11: Ëáõ½³ñÏáõÃÛ³Ý Ï³ï³ñÙ³Ý Ù³ëÇÝ ÙÇçÝáñ¹áõÃÛáõÝÝ»ñ | E11: 103 | H11: 102 | J11: 1 | K11: 103 | T11: =D11+E11 -> 103 | U11: =F11+K11+L11 -> 103 | V11: =K11 -> 103 | W11: =G11+H11+I11+J11 -> 103
A12: 6 | B12: µ³ÝÏ³ÛÇÝ, ³å³Ñáí³·ñ³Ï³Ý, Ýáï³ñ³Ï³Ý ·³ÕïÝÇù Ï³½ÙáÕ ï»Õ»ÏáõÃÛáõÝÝ»ñÇ ëï³óÙ³Ý Ñ³Ù³ñ Ëáõ½³ñÏáõÃÛ³Ý Ï³Ù ³é·ñ³íÙ³Ý Ï³ï³ñÙ³Ý Ù³ëÇÝ ÙÇçÝáñ¹áõÃÛáõÝÝ»ñ | T12: =D12+E12 -> 0 | U12: =F12+K12+L12 -> 0 | V12: =K12 -> 0 | W12: =G12+H12+I12+J12 -> 0
A13: 7 | B13: Ý³Ù³Ï³·ñáõÃÛ³Ý, Ñ»é³·ñ³Ï³Ý, ÷áuï³ÛÇÝ Ñ³Õáñ¹áõÙÝ»ñÇ ÑëÏáÕáõÃÛ³Ý Ù³ëÇÝ ÙÇçÝáñ¹áõÃÛáõÝÝ»ñ | E13: 21 | H13: 21 | K13: 21 | T13: =D13+E13 -> 21 | U13: =F13+K13+L13 -> 21 | V13: =K13 -> 21 | W13: =G13+H13+I13+J13 -> 21
A14: 8 | B14: Ñ»é³Ëáu³ÛÇÝ Ï³Ù Ï³åÇ ³ÛÉ ÙÇçáóÝ»ñáí ï³ñíáÕ Ëáu³ÏóáõÃÛáõÝÝ»ñÇ ÉuÙ³Ý ¨ Ó³ÛÝ³·ñ³éÙ³Ý Ù³ëÇÝ ÙÇçÝáñ¹áõÃÛáõÝÝ»ñ | E14: 2 | H14: 2 | K14: 2 | T14: =D14+E14 -> 2 | U14: =F14+K14+L14 -> 2 | V14: =K14 -> 2 | W14: =G14+H14+I14+J14 -> 2
A15: 9 | B15: Ñ»é³ËáëÝ»ñÇ Ùáõïù³ÛÇÝ ¨ »Éù³ÛÇÝ í»ñÍ³ÝÙ³Ý ÃáõÛÉïíáõÃÛáõÝ ëï³Ý³Éáõ Ù³ëÇÝ ÙÇçÝáñ¹áõÃÛáõÝÝ»ñ | E15: 51 | H15: 51 | K15: 51 | T15: =D15+E15 -> 51 | U15: =F15+K15+L15 -> 51 | V15: =K15 -> 51 | W15: =G15+H15+I15+J15 -> 51
A16: 10 | B16: Ñ»ï³ùÝÝáõÃÛ³Ý Ù³ñÙÝÇ ³ßË³ïáÕÇ, ùÝÝÇãÇ, ¹³ï³Ë³½Ç oå»ñ³ïÇí-Ñ»ï³Ëáõ½³Ï³Ý ·áñÍáÕáõÃÛáõÝÝ»ñ Çñ³Ï³Ý³óÝáÕ Ù³ñÙÇÝÝ»ñÇ ³ÝoñÇÝ³Ï³Ý ¨ ³ÝÑÇÙÝ áñáßáõÙÝ»ñÇ ¨ ·áñÍáÕáõÃÛáõÝÝ»ñÇ ¹»Ù µáÕáùÝ»ñ | T16: =D16+E16 -> 0 | U16: =F16+K16+L16 -> 0 | V16: =K16 -> 0 | W16: =G16+H16+I16+J16 -> 0
A17: 2. ¸³ï³Ï³Ý ³Ïï»ñÇ ¨ ¹³ï³Ï³Ý Ñ³ÝÓÝ³ñ³ñáõÃÛáõÝÝ»ñÇ Ï³ï³ñÙ³Ý Ñ»ï Ï³åí³Í Ñ³ñó»ñÇ ÉáõÍÙ³Ý áÉáñï
A18: 1 | B18: å³ïÅÇó å³ÛÙ³Ý³Ï³Ý í³Õ³Å³ÙÏ»ï ³½³ï»Éáõ Ù³ëÇÝ ÙÇçÝáñ¹áõÃÛáõÝÝ»ñ | T18: =D18+E18 -> 0 | U18: =F18+K18+L18 -> 0 | V18: =K18 -> 0 | W18: =G18+H18+I18+J18 -> 0
A19: 2 | B19: å³ïÇÅÁ ÷á÷áË»Éáõ, Ñ»ï³Ó·»Éáõ ¨ å³ïÅÇó ³½³ï»Éáõ Ù³uÇÝ ÙÇçÝáñ¹áõÃÛáõÝÝ»ñ | T19: =D19+E19 -> 0 | U19: =F19+K19+L19 -> 0 | V19: =K19 -> 0 | W19: =G19+H19+I19+J19 -> 0
A20: 3 | B20: Ñ³ñÏ³¹Çñ µáõÅÙ³Ý ï»ë³ÏÇ ÷á÷áËáõÃÛ³Ý Ù³ëÇÝ ÙÇçÝáñ¹áõÃÛáõÝÝ»ñ | E20: 2 | H20: 2 | K20: 2 | N20: 1 | R20: 1 | T20: =D20+E20 -> 2 | U20: =F20+K20+L20 -> 2 | V20: =K20 -> 2 | W20: =G20+H20+I20+J20 -> 2
A21: 4 | B21: ³ÛÉ ÙÇçÝáñ¹áõÃÛáõÝÝ»ñ | E21: 8 | G21: 2 | H21: 4 | I21: 1 | J21: 1 | K21: 8 | N21: 1 | Q21: 1 | T21: =D21+E21 -> 8 | U21: =F21+K21+L21 -> 8 | V21: =K21 -> 8 | W21: =G21+H21+I21+J21 -> 8
A22: 5 | B22: ¹³ï³Ï³Ý Ñ³ÝÓÝ³ñ³ñáõÃÛáõÝÝ»ñ | T22: =D22+E22 -> 0 | U22: =F22+K22+L22 -> 0 | V22: =K22 -> 0 | W22: =G22+H22+I22+J22 -> 0
A23: ÀÜ¸²ØºÜÀ | D23: =D7+D8+D9+D10+D11+D12+D13+D14+D15+D16+D18+D19+D20+D21+D22 -> 0 | E23: =E7+E8+E9+E10+E11+E12+E13+E14+E15+E16+E18+E19+E20+E21+E22 -> 238 | F23: =F7+F8+F9+F10+F11+F12+F13+F14+F15+F16+F18+F19+F20+F21+F22 -> 0 | G23: =G7+G8+G9+G10+G11+G12+G13+G14+G15+G16+G18+G19+G20+G21+G22 -> 2 | H23: =H7+H8+H9+H10+H11+H12+H13+H14+H15+H16+H18+H19+H20+H21+H22 -> 232 | I23: =I7+I8+I9+I10+I11+I12+I13+I14+I15+I16+I18+I19+I20+I21+I22 -> 1 | J23: =J7+J8+J9+J10+J11+J12+J13+J14+J15+J16+J18+J19+J20+J21+J22 -> 3 | K23: =K7+K8+K9+K10+K11+K12+K13+K14+K15+K16+K18+K19+K20+K21+K22 -> 238 | ... R23: =R7+R8+R9+R10+R11+R12+R13+R14+R15+R16+R18+R19+R20+R21+R22 -> 3 | T23: =D23+E23 -> 238 | U23: =F23+K23+L23 -> 238 | V23: =K23 -> 238 | W23: =G23+H23+I23+J23 -> 238

Sheet Յու. Իսկոյան 
A1: 2015Ã. | D1: Ð²ÞìºîìàôÂÚàôÜ | P1: Ð³í»Éí³Í Ð³Û³ëï³ÝÇ Ð³Ýñ³å»ïáõÃÛ³Ý ¸³ï³ñ³ÝÝ»ñÇ Ý³Ë³·³ÑÝ»ñÇ ËáñÑñ¹Ç 01.02.2016Ã. ÃÇí 11È áñáßÙ³Ý
A2: ØÇÝã¹³ï³Ï³Ý í³ñáõÛÃÇ ÝÏ³ïÙ³Ùµ ¹³ï³Ï³Ý í»ñ³ÑëÏáÕáõÃÛ³ÝÁ, ¹³ï³Ï³Ý ³Ïï»ñÇ ¨ ¹³ï³Ï³Ý Ñ³ÝÓÝ³ñ³ñáõÃÛáõÝÝ»ñÇ Ï³ï³ñÙ³ÝÁ Ñ»ï Ï³åí³Í ÙÇçÝáñ¹áõÃÛáõÝÝ»ñÇ í»ñ³µ»ñÛ³É ¹³ï³Ï³Ý ·áñÍ»ñáí ÐÐ ¶»Õ³ñùáõÝÇùÇ Ù³ñ½Ç ÁÝ¹Ñ³Ýáõñ Çñ³í³ëáõÃÛ³Ý ³é³çÇÝ ³ïÛ³ÝÇ ¹³ï³ñ³ÝÇ ¹³ï³íáñ Յուրիկ Իսկոյանի ·áñÍáõÝ»áõÃÛ³Ý í»ñ³µ»ñÛ³É
A3: êïáõ·Çã Ñ³í³ë³ñáõÙ` 1+2=3+8+9, 8=4+5+6+7, | D3: Ð³ßí»ïáõ Å³Ù³Ý³Ï³Ñ³ïí³ÍÇ ëÏ½µáõÙ Ý³Ëáñ¹ Ñ³ßí»ïáõ Å³Ù³Ý³Ï³Ñ³ïí³ÍÇó ÷áË³Ýóí³Í ·áñÍ»ñÇ ÁÝ¹Ñ³Ýáõñ ÃÇíÁ | E3: Ð³ßí»ïáõ Å³Ù³Ý³Ï³Ñ³ïí³ÍáõÙ ëï³óí³Í ·áñÍ»ñÇ ÁÝ¹Ñ³Ýáõñ ÃÇíÁ | F3: öáË³Ýóí»É ¿ ³ÛÉ ¹³ï³íáñÇ Ï³Ù ³ÛÉ ¹³ï³ñ³Ý (Ï³½ÙÇ ÷á÷áËáõÃÛáõÝ, ÁÝ¹¹³ïáõÃÛáõÝ) | G3: Ð³ßí»ïáõ Å³Ù³Ý³Ï³Ñ³ïí³ÍáõÙ ³í³ñïí³Í ·áñÍ»ñÇ ÁÝ¹Ñ³Ýáõñ ÃÇíÁ | L3: Ð³ßí»ïáõ Å³Ù³Ý³Ï³Ñ³ïí³ÍáõÙ ³Ý³í³ñï ·áñÍ»ñÇ ÁÝ¹Ñ³Ýáõñ ÃÇíÁ | M3: ØÇçÝáñ¹áõÃÛáõÝÝ»ñáí Ï³Û³óí³Í ¹³ï³Ï³Ý ³Ïï»ñÇó µáÕáù³ñÏí³ÍÝ»ñÇ ù³Ý³ÏÁ | O3: ²Ý³í³ñï µáÕáùÝ»ñ | P3: ØÇçÝáñ¹áõÃÛáõÝÝ»ñáí Ï³Û³óí³Í ¨ µáÕáù³ñÏí³Í ¹³ï³Ï³Ý ³Ïï»ñÇó µ»Ï³Ýí³ÍÝ»ñÇ ù³Ý³ÏÁ | R3: ÙÇçÝáñ¹áõÃÛáõÝÝ»ñáí Ï³Û³óí³Í ¨ µáÕáù³ñÏí³Í ¹³ï³Ï³Ý ³Ïï»ñÇó ³Ý÷á÷áË ÃáÕÝí³ÍÝ»ñÇ ù³Ý³ÏÁ
G4: Ù»ñÅí»É ¿ | H4: µ³í³ñ³ñí»É ¿ | I4: µ³í³ñ³ñí»É ¿ Ù³ëÝ³ÏÇ | J4: ÃáÕÝí»É ¿ ³é³Ýó ùÝÝáõÃÛ³Ý | K4: ÀÝ¹³Ù»ÝÁ
M5: Ý³Ëáñ¹ ï³ñÇÝ»ñÇÝ Ï³Û³óí³Í ³Ïï»ñÇ ¹»Ù | N5: Ñ³ßí»ïáõ Å³Ù³Ý³Ï³ßñç³ÝáõÙ Ï³Û³óí³Í ³Ïï»ñÇ ¹»Ù | P5: Ý³Ëáñ¹ ï³ñÇÝ»ñÇÝ Ï³Û³óí³Í ³Ïï»ñÇ µ»Ï³ÝáõÙÝ»ñÁ | Q5: Ñ³ßí»ïáõ Å³Ù³Ý³Ï³ßñç³ÝáõÙ Ï³Û³óí³Í ³Ïï»ñÇ µ»Ï³ÝáõÙÝ»ñÁ
A6: 1. ØÇÝã¹³ï³Ï³Ý í³ñáõÛÃÇ ÝÏ³ïÙ³Ùµ ¹³ï³Ï³Ý í»ñ³ÑëÏáÕáõÃÛ³Ý áÉáñï | D6: 1 | E6: 2 | F6: 3 | G6: 4 | H6: 5 | I6: 6 | J6: 7 | K6: 8 | L6: 9 | M6: 10 | N6: 11 | O6: 12 | P6: 13 | Q6: 14 | R6: 15 | T6: 1+2=3+8+9 | V6: 8=4+5+6+7
A7: 1 | B7: Ï³É³ÝùÁ áñå»ë Ë³÷³ÝÙ³Ý ÙÇçáó ÏÇñ³é»Éáõ Ù³ëÇÝ ÙÇçÝáñ¹áõÃÛáõÝÝ»ñ | E7: 47 | G7: 21 | H7: 25 | J7: 1 | K7: 47 | N7: 4 | O7: 1 | R7: 3 | T7: =D7+E7 -> 47 | U7: =F7+K7+L7 -> 47 | V7: =K7 -> 47 | W7: =G7+H7+I7+J7 -> 47
A8: 2 | B8: Ï³É³ÝùÇ Å³ÙÏ»ïÁ »ñÏ³ñ³óÝ»Éáõ Ù³ëÇÝ ÙÇçÝáñ¹áõÃÛáõÝÝ»ñ | E8: 27 | H8: 27 | K8: 27 | N8: 3 | R8: 3 | T8: =D8+E8 -> 27 | U8: =F8+K8+L8 -> 27 | V8: =K8 -> 27 | W8: =G8+H8+I8+J8 -> 27
A9: 3 | B9: Ï³É³ÝùÇ í»ñ³Ñ³ëï³ïÙ³Ý Ù³ëÇÝ ÙÇçÝáñ¹áõÃÛáõÝÝ»ñ | E9: 5 | H9: 5 | K9: 5 | T9: =D9+E9 -> 5 | U9: =F9+K9+L9 -> 5 | V9: =K9 -> 5 | W9: =G9+H9+I9+J9 -> 5
A10: 4 | B10: ·ñ³íÁ áñå»ë Ï³É³Ý³íáñÙ³Ý ³ÛÉÁÝïñ³Ýù³ÛÇÝ Ë³÷³ÝÙ³Ý ÙÇçáó ÏÇñ³é»Éáõ Ù³ëÇÝ ÙÇçÝáñ¹áõÃÛáõÝÝ»ñ | E10: 8 | G10: 4 | H10: 4 | K10: 8 | N10: 4 | Q10: 1 | R10: 3 | T10: =D10+E10 -> 8 | U10: =F10+K10+L10 -> 8 | V10: =K10 -> 8 | W10: =G10+H10+I10+J10 -> 8
A11: 5 | B11: Ëáõ½³ñÏáõÃÛ³Ý Ï³ï³ñÙ³Ý Ù³ëÇÝ ÙÇçÝáñ¹áõÃÛáõÝÝ»ñ | E11: 81 | G11: 2 | H11: 79 | K11: 81 | T11: =D11+E11 -> 81 | U11: =F11+K11+L11 -> 81 | V11: =K11 -> 81 | W11: =G11+H11+I11+J11 -> 81
A12: 6 | B12: µ³ÝÏ³ÛÇÝ, ³å³Ñáí³·ñ³Ï³Ý, Ýáï³ñ³Ï³Ý ·³ÕïÝÇù Ï³½ÙáÕ ï»Õ»ÏáõÃÛáõÝÝ»ñÇ ëï³óÙ³Ý Ñ³Ù³ñ Ëáõ½³ñÏáõÃÛ³Ý Ï³Ù ³é·ñ³íÙ³Ý Ï³ï³ñÙ³Ý Ù³ëÇÝ ÙÇçÝáñ¹áõÃÛáõÝÝ»ñ | E12: 2 | I12: 2 | K12: 2 | T12: =D12+E12 -> 2 | U12: =F12+K12+L12 -> 2 | V12: =K12 -> 2 | W12: =G12+H12+I12+J12 -> 2
A13: 7 | B13: Ý³Ù³Ï³·ñáõÃÛ³Ý, Ñ»é³·ñ³Ï³Ý, ÷áuï³ÛÇÝ Ñ³Õáñ¹áõÙÝ»ñÇ ÑëÏáÕáõÃÛ³Ý Ù³ëÇÝ ÙÇçÝáñ¹áõÃÛáõÝÝ»ñ | T13: =D13+E13 -> 0 | U13: =F13+K13+L13 -> 0 | V13: =K13 -> 0 | W13: =G13+H13+I13+J13 -> 0
A14: 8 | B14: Ñ»é³Ëáu³ÛÇÝ Ï³Ù Ï³åÇ ³ÛÉ ÙÇçáóÝ»ñáí ï³ñíáÕ Ëáu³ÏóáõÃÛáõÝÝ»ñÇ ÉuÙ³Ý ¨ Ó³ÛÝ³·ñ³éÙ³Ý Ù³ëÇÝ ÙÇçÝáñ¹áõÃÛáõÝÝ»ñ | E14: 1 | H14: 1 | K14: 1 | T14: =D14+E14 -> 1 | U14: =F14+K14+L14 -> 1 | V14: =K14 -> 1 | W14: =G14+H14+I14+J14 -> 1
A15: 9 | B15: Ñ»é³ËáëÝ»ñÇ Ùáõïù³ÛÇÝ ¨ »Éù³ÛÇÝ í»ñÍ³ÝÙ³Ý ÃáõÛÉïíáõÃÛáõÝ ëï³Ý³Éáõ Ù³ëÇÝ ÙÇçÝáñ¹áõÃÛáõÝÝ»ñ | E15: 45 | H15: 45 | K15: 45 | T15: =D15+E15 -> 45 | U15: =F15+K15+L15 -> 45 | V15: =K15 -> 45 | W15: =G15+H15+I15+J15 -> 45
A16: 10 | B16: Ñ»ï³ùÝÝáõÃÛ³Ý Ù³ñÙÝÇ ³ßË³ïáÕÇ, ùÝÝÇãÇ, ¹³ï³Ë³½Ç oå»ñ³ïÇí-Ñ»ï³Ëáõ½³Ï³Ý ·áñÍáÕáõÃÛáõÝÝ»ñ Çñ³Ï³Ý³óÝáÕ Ù³ñÙÇÝÝ»ñÇ ³ÝoñÇÝ³Ï³Ý ¨ ³ÝÑÇÙÝ áñáßáõÙÝ»ñÇ ¨ ·áñÍáÕáõÃÛáõÝÝ»ñÇ ¹»Ù µáÕáùÝ»ñ | E16: 5 | F16: 2 | G16: 3 | K16: 3 | N16: 2 | R16: 2 | T16: =D16+E16 -> 5 | U16: =F16+K16+L16 -> 5 | V16: =K16 -> 3 | W16: =G16+H16+I16+J16 -> 3
A17: 2. ¸³ï³Ï³Ý ³Ïï»ñÇ ¨ ¹³ï³Ï³Ý Ñ³ÝÓÝ³ñ³ñáõÃÛáõÝÝ»ñÇ Ï³ï³ñÙ³Ý Ñ»ï Ï³åí³Í Ñ³ñó»ñÇ ÉáõÍÙ³Ý áÉáñï
A18: 1 | B18: å³ïÅÇó å³ÛÙ³Ý³Ï³Ý í³Õ³Å³ÙÏ»ï ³½³ï»Éáõ Ù³ëÇÝ ÙÇçÝáñ¹áõÃÛáõÝÝ»ñ | T18: =D18+E18 -> 0 | U18: =F18+K18+L18 -> 0 | V18: =K18 -> 0 | W18: =G18+H18+I18+J18 -> 0
A19: 2 | B19: å³ïÇÅÁ ÷á÷áË»Éáõ, Ñ»ï³Ó·»Éáõ ¨ å³ïÅÇó ³½³ï»Éáõ Ù³uÇÝ ÙÇçÝáñ¹áõÃÛáõÝÝ»ñ | E19: 1 | G19: 1 | K19: 1 | T19: =D19+E19 -> 1 | U19: =F19+K19+L19 -> 1 | V19: =K19 -> 1 | W19: =G19+H19+I19+J19 -> 1
A20: 3 | B20: Ñ³ñÏ³¹Çñ µáõÅÙ³Ý ï»ë³ÏÇ ÷á÷áËáõÃÛ³Ý Ù³ëÇÝ ÙÇçÝáñ¹áõÃÛáõÝÝ»ñ | E20: 2 | H20: 1 | J20: 1 | K20: 2 | T20: =D20+E20 -> 2 | U20: =F20+K20+L20 -> 2 | V20: =K20 -> 2 | W20: =G20+H20+I20+J20 -> 2
A21: 4 | B21: ³ÛÉ ÙÇçÝáñ¹áõÃÛáõÝÝ»ñ | E21: 5 | G21: 1 | H21: 3 | K21: 4 | L21: 1 | T21: =D21+E21 -> 5 | U21: =F21+K21+L21 -> 5 | V21: =K21 -> 4 | W21: =G21+H21+I21+J21 -> 4
A22: 5 | B22: ¹³ï³Ï³Ý Ñ³ÝÓÝ³ñ³ñáõÃÛáõÝÝ»ñ | E22: 3 | H22: 1 | K22: 1 | L22: 2 | T22: =D22+E22 -> 3 | U22: =F22+K22+L22 -> 3 | V22: =K22 -> 1 | W22: =G22+H22+I22+J22 -> 1
A23: ÀÜ¸²ØºÜÀ | D23: =D7+D8+D9+D10+D11+D12+D13+D14+D15+D16+D18+D19+D20+D21+D22 -> 0 | E23: =E7+E8+E9+E10+E11+E12+E13+E14+E15+E16+E18+E19+E20+E21+E22 -> 232 | F23: =F7+F8+F9+F10+F11+F12+F13+F14+F15+F16+F18+F19+F20+F21+F22 -> 2 | G23: =G7+G8+G9+G10+G11+G12+G13+G14+G15+G16+G18+G19+G20+G21+G22 -> 32 | H23: =H7+H8+H9+H10+H11+H12+H13+H14+H15+H16+H18+H19+H20+H21+H22 -> 191 | I23: =I7+I8+I9+I10+I11+I12+I13+I14+I15+I16+I18+I19+I20+I21+I22 -> 2 | J23: =J7+J8+J9+J10+J11+J12+J13+J14+J15+J16+J18+J19+J20+J21+J22 -> 2 | K23: =K7+K8+K9+K10+K11+K12+K13+K14+K15+K16+K18+K19+K20+K21+K22 -> 227 | ... R23: =R7+R8+R9+R10+R11+R12+R13+R14+R15+R16+R18+R19+R20+R21+R22 -> 11 | T23: =D23+E23 -> 232 | U23: =F23+K23+L23 -> 232 | V23: =K23 -> 227 | W23: =G23+H23+I23+J23 -> 227

Sheet Վ. Հարությունյան
A1: 2015Ã. | D1: Ð²ÞìºîìàôÂÚàôÜ | P1: Ð³í»Éí³Í Ð³Û³ëï³ÝÇ Ð³Ýñ³å»ïáõÃÛ³Ý ¸³ï³ñ³ÝÝ»ñÇ Ý³Ë³·³ÑÝ»ñÇ ËáñÑñ¹Ç 01.02.2016Ã. ÃÇí 11È áñáßÙ³Ý
A2: ØÇÝã¹³ï³Ï³Ý í³ñáõÛÃÇ ÝÏ³ïÙ³Ùµ ¹³ï³Ï³Ý í»ñ³ÑëÏáÕáõÃÛ³ÝÁ, ¹³ï³Ï³Ý ³Ïï»ñÇ ¨ ¹³ï³Ï³Ý Ñ³ÝÓÝ³ñ³ñáõÃÛáõÝÝ»ñÇ Ï³ï³ñÙ³ÝÁ Ñ»ï Ï³åí³Í ÙÇçÝáñ¹áõÃÛáõÝÝ»ñÇ í»ñ³µ»ñÛ³É ¹³ï³Ï³Ý ·áñÍ»ñáí ÐÐ ¶»Õ³ñùáõÝÇùÇ Ù³ñ½Ç ÁÝ¹Ñ³Ýáõñ Çñ³í³ëáõÃÛ³Ý ³é³çÇÝ ³ïÛ³ÝÇ ¹³ï³ñ³ÝÇ ¹³ï³íáñ ìարդան Ð³ñáõÃÛáõÝÛ³ÝÇ ·áñÍáõÝ»áõÃÛ³Ý í»ñ³µ»ñÛ³É
A3: êïáõ·Çã Ñ³í³ë³ñáõÙ` 1+2=3+8+9, 8=4+5+6+7, | D3: Ð³ßí»ïáõ Å³Ù³Ý³Ï³Ñ³ïí³ÍÇ ëÏ½µáõÙ Ý³Ëáñ¹ Ñ³ßí»ïáõ Å³Ù³Ý³Ï³Ñ³ïí³ÍÇó ÷áË³Ýóí³Í ·áñÍ»ñÇ ÁÝ¹Ñ³Ýáõñ ÃÇíÁ | E3: Ð³ßí»ïáõ Å³Ù³Ý³Ï³Ñ³ïí³ÍáõÙ ëï³óí³Í ·áñÍ»ñÇ ÁÝ¹Ñ³Ýáõñ ÃÇíÁ | F3: öáË³Ýóí»É ¿ ³ÛÉ ¹³ï³íáñÇ Ï³Ù ³ÛÉ ¹³ï³ñ³Ý (Ï³½ÙÇ ÷á÷áËáõÃÛáõÝ, ÁÝ¹¹³ïáõÃÛáõÝ) | G3: Ð³ßí»ïáõ Å³Ù³Ý³Ï³Ñ³ïí³ÍáõÙ ³í³ñïí³Í ·áñÍ»ñÇ ÁÝ¹Ñ³Ýáõñ ÃÇíÁ | L3: Ð³ßí»ïáõ Å³Ù³Ý³Ï³Ñ³ïí³ÍáõÙ ³Ý³í³ñï ·áñÍ»ñÇ ÁÝ¹Ñ³Ýáõñ ÃÇíÁ | M3: ØÇçÝáñ¹áõÃÛáõÝÝ»ñáí Ï³Û³óí³Í ¹³ï³Ï³Ý ³Ïï»ñÇó µáÕáù³ñÏí³ÍÝ»ñÇ ù³Ý³ÏÁ | O3: ²Ý³í³ñï µáÕáùÝ»ñ | P3: ØÇçÝáñ¹áõÃÛáõÝÝ»ñáí Ï³Û³óí³Í ¨ µáÕáù³ñÏí³Í ¹³ï³Ï³Ý ³Ïï»ñÇó µ»Ï³Ýí³ÍÝ»ñÇ ù³Ý³ÏÁ | R3: ÙÇçÝáñ¹áõÃÛáõÝÝ»ñáí Ï³Û³óí³Í ¨ µáÕáù³ñÏí³Í ¹³ï³Ï³Ý ³Ïï»ñÇó ³Ý÷á÷áË ÃáÕÝí³ÍÝ»ñÇ ù³Ý³ÏÁ
G4: Ù»ñÅí»É ¿ | H4: µ³í³ñ³ñí»É ¿ | I4: µ³í³ñ³ñí»É ¿ Ù³ëÝ³ÏÇ | J4: ÃáÕÝí»É ¿ ³é³Ýó ùÝÝáõÃÛ³Ý | K4: ÀÝ¹³Ù»ÝÁ
M5: Ý³Ëáñ¹ ï³ñÇÝ»ñÇÝ Ï³Û³óí³Í ³Ïï»ñÇ ¹»Ù | N5: Ñ³ßí»ïáõ Å³Ù³Ý³Ï³ßñç³ÝáõÙ Ï³Û³óí³Í ³Ïï»ñÇ ¹»Ù | P5: Ý³Ëáñ¹ ï³ñÇÝ»ñÇÝ Ï³Û³óí³Í ³Ïï»ñÇ µ»Ï³ÝáõÙÝ»ñÁ | Q5: Ñ³ßí»ïáõ Å³Ù³Ý³Ï³ßñç³ÝáõÙ Ï³Û³óí³Í ³Ïï»ñÇ µ»Ï³ÝáõÙÝ»ñÁ
A6: 1. ØÇÝã¹³ï³Ï³Ý í³ñáõÛÃÇ ÝÏ³ïÙ³Ùµ ¹³ï³Ï³Ý í»ñ³ÑëÏáÕáõÃÛ³Ý áÉáñï | D6: 1 | E6: 2 | F6: 3 | G6: 4 | H6: 5 | I6: 6 | J6: 7 | K6: 8 | L6: 9 | M6: 10 | N6: 11 | O6: 12 | P6: 13 | Q6: 14 | R6: 15 | T6: 1+2=3+8+9 | V6: 8=4+5+6+7
A7: 1 | B7: Ï³É³ÝùÁ áñå»ë Ë³÷³ÝÙ³Ý ÙÇçáó ÏÇñ³é»Éáõ Ù³ëÇÝ ÙÇçÝáñ¹áõÃÛáõÝÝ»ñ | E7: 4 | H7: 4 | K7: 4 | T7: =D7+E7 -> 4 | U7: =F7+K7+L7 -> 4 | V7: =K7 -> 4 | W7: =G7+H7+I7+J7 -> 4
A8: 2 | B8: Ï³É³ÝùÇ Å³ÙÏ»ïÁ »ñÏ³ñ³óÝ»Éáõ Ù³ëÇÝ ÙÇçÝáñ¹áõÃÛáõÝÝ»ñ | E8: 17 | G8: 1 | H8: 14 | I8: 2 | K8: 17 | N8: 3 | R8: 3 | T8: =D8+E8 -> 17 | U8: =F8+K8+L8 -> 17 | V8: =K8 -> 17 | W8: =G8+H8+I8+J8 -> 17
A9: 3 | B9: Ï³É³ÝùÇ í»ñ³Ñ³ëï³ïÙ³Ý Ù³ëÇÝ ÙÇçÝáñ¹áõÃÛáõÝÝ»ñ | E9: 3 | H9: 3 | K9: 3 | T9: =D9+E9 -> 3 | U9: =F9+K9+L9 -> 3 | V9: =K9 -> 3 | W9: =G9+H9+I9+J9 -> 3
A10: 4 | B10: ·ñ³íÁ áñå»ë Ï³É³Ý³íáñÙ³Ý ³ÛÉÁÝïñ³Ýù³ÛÇÝ Ë³÷³ÝÙ³Ý ÙÇçáó ÏÇñ³é»Éáõ Ù³ëÇÝ ÙÇçÝáñ¹áõÃÛáõÝÝ»ñ | E10: 10 | G10: 8 | H10: 1 | J10: 1 | K10: 10 | T10: =D10+E10 -> 10 | U10: =F10+K10+L10 -> 10 | V10: =K10 -> 10 | W10: =G10+H10+I10+J10 -> 10
A11: 5 | B11: Ëáõ½³ñÏáõÃÛ³Ý Ï³ï³ñÙ³Ý Ù³ëÇÝ ÙÇçÝáñ¹áõÃÛáõÝÝ»ñ | E11: 51 | H11: 51 | K11: 51 | T11: =D11+E11 -> 51 | U11: =F11+K11+L11 -> 51 | V11: =K11 -> 51 | W11: =G11+H11+I11+J11 -> 51
A12: 6 | B12: µ³ÝÏ³ÛÇÝ, ³å³Ñáí³·ñ³Ï³Ý, Ýáï³ñ³Ï³Ý ·³ÕïÝÇù Ï³½ÙáÕ ï»Õ»ÏáõÃÛáõÝÝ»ñÇ ëï³óÙ³Ý Ñ³Ù³ñ Ëáõ½³ñÏáõÃÛ³Ý Ï³Ù ³é·ñ³íÙ³Ý Ï³ï³ñÙ³Ý Ù³ëÇÝ ÙÇçÝáñ¹áõÃÛáõÝÝ»ñ | E12: 2 | G12: 1 | I12: 1 | K12: 2 | T12: =D12+E12 -> 2 | U12: =F12+K12+L12 -> 2 | V12: =K12 -> 2 | W12: =G12+H12+I12+J12 -> 2
A13: 7 | B13: Ý³Ù³Ï³·ñáõÃÛ³Ý, Ñ»é³·ñ³Ï³Ý, ÷áuï³ÛÇÝ Ñ³Õáñ¹áõÙÝ»ñÇ ÑëÏáÕáõÃÛ³Ý Ù³ëÇÝ ÙÇçÝáñ¹áõÃÛáõÝÝ»ñ | T13: =D13+E13 -> 0 | U13: =F13+K13+L13 -> 0 | V13: =K13 -> 0 | W13: =G13+H13+I13+J13 -> 0
A14: 8 | B14: Ñ»é³Ëáu³ÛÇÝ Ï³Ù Ï³åÇ ³ÛÉ ÙÇçáóÝ»ñáí ï³ñíáÕ Ëáu³ÏóáõÃÛáõÝÝ»ñÇ ÉuÙ³Ý ¨ Ó³ÛÝ³·ñ³éÙ³Ý Ù³ëÇÝ ÙÇçÝáñ¹áõÃÛáõÝÝ»ñ | T14: =D14+E14 -> 0 | U14: =F14+K14+L14 -> 0 | V14: =K14 -> 0 | W14: =G14+H14+I14+J14 -> 0
A15: 9 | B15: Ñ»é³ËáëÝ»ñÇ Ùáõïù³ÛÇÝ ¨ »Éù³ÛÇÝ í»ñÍ³ÝÙ³Ý ÃáõÛÉïíáõÃÛáõÝ ëï³Ý³Éáõ Ù³ëÇÝ ÙÇçÝáñ¹áõÃÛáõÝÝ»ñ | E15: 18 | H15: 18 | K15: 18 | T15: =D15+E15 -> 18 | U15: =F15+K15+L15 -> 18 | V15: =K15 -> 18 | W15: =G15+H15+I15+J15 -> 18
A16: 10 | B16: Ñ»ï³ùÝÝáõÃÛ³Ý Ù³ñÙÝÇ ³ßË³ïáÕÇ, ùÝÝÇãÇ, ¹³ï³Ë³½Ç oå»ñ³ïÇí-Ñ»ï³Ëáõ½³Ï³Ý ·áñÍáÕáõÃÛáõÝÝ»ñ Çñ³Ï³Ý³óÝáÕ Ù³ñÙÇÝÝ»ñÇ ³ÝoñÇÝ³Ï³Ý ¨ ³ÝÑÇÙÝ áñáßáõÙÝ»ñÇ ¨ ·áñÍáÕáõÃÛáõÝÝ»ñÇ ¹»Ù µáÕáùÝ»ñ | D16: 1 | E16: 4 | G16: 2 | H16: 1 | K16: 3 | L16: 2 | T16: =D16+E16 -> 5 | U16: =F16+K16+L16 -> 5 | V16: =K16 -> 3 | W16: =G16+H16+I16+J16 -> 3
A17: 2. ¸³ï³Ï³Ý ³Ïï»ñÇ ¨ ¹³ï³Ï³Ý Ñ³ÝÓÝ³ñ³ñáõÃÛáõÝÝ»ñÇ Ï³ï³ñÙ³Ý Ñ»ï Ï³åí³Í Ñ³ñó»ñÇ ÉáõÍÙ³Ý áÉáñï
A18: 1 | B18: å³ïÅÇó å³ÛÙ³Ý³Ï³Ý í³Õ³Å³ÙÏ»ï ³½³ï»Éáõ Ù³ëÇÝ ÙÇçÝáñ¹áõÃÛáõÝÝ»ñ | T18: =D18+E18 -> 0 | U18: =F18+K18+L18 -> 0 | V18: =K18 -> 0 | W18: =G18+H18+I18+J18 -> 0
A19: 2 | B19: å³ïÇÅÁ ÷á÷áË»Éáõ, Ñ»ï³Ó·»Éáõ ¨ å³ïÅÇó ³½³ï»Éáõ Ù³uÇÝ ÙÇçÝáñ¹áõÃÛáõÝÝ»ñ | D19: 2 | E19: 1 | G19: 1 | H19: 2 | K19: 3 | T19: =D19+E19 -> 3 | U19: =F19+K19+L19 -> 3 | V19: =K19 -> 3 | W19: =G19+H19+I19+J19 -> 3
A20: 3 | B20: Ñ³ñÏ³¹Çñ µáõÅÙ³Ý ï»ë³ÏÇ ÷á÷áËáõÃÛ³Ý Ù³ëÇÝ ÙÇçÝáñ¹áõÃÛáõÝÝ»ñ | T20: =D20+E20 -> 0 | U20: =F20+K20+L20 -> 0 | V20: =K20 -> 0 | W20: =G20+H20+I20+J20 -> 0
A21: 4 | B21: ³ÛÉ ÙÇçÝáñ¹áõÃÛáõÝÝ»ñ | E21: 1 | G21: 1 | K21: 1 | T21: =D21+E21 -> 1 | U21: =F21+K21+L21 -> 1 | V21: =K21 -> 1 | W21: =G21+H21+I21+J21 -> 1
A22: 5 | B22: ¹³ï³Ï³Ý Ñ³ÝÓÝ³ñ³ñáõÃÛáõÝÝ»ñ | T22: =D22+E22 -> 0 | U22: =F22+K22+L22 -> 0 | V22: =K22 -> 0 | W22: =G22+H22+I22+J22 -> 0
A23: ÀÜ¸²ØºÜÀ | D23: =D7+D8+D9+D10+D11+D12+D13+D14+D15+D16+D18+D19+D20+D21+D22 -> 3 | E23: =E7+E8+E9+E10+E11+E12+E13+E14+E15+E16+E18+E19+E20+E21+E22 -> 111 | F23: =F7+F8+F9+F10+F11+F12+F13+F14+F15+F16+F18+F19+F20+F21+F22 -> 0 | G23: =G7+G8+G9+G10+G11+G12+G13+G14+G15+G16+G18+G19+G20+G21+G22 -> 14 | H23: =H7+H8+H9+H10+H11+H12+H13+H14+H15+H16+H18+H19+H20+H21+H22 -> 94 | I23: =I7+I8+I9+I10+I11+I12+I13+I14+I15+I16+I18+I19+I20+I21+I22 -> 3 | J23: =J7+J8+J9+J10+J11+J12+J13+J14+J15+J16+J18+J19+J20+J21+J22 -> 1 | K23: =K7+K8+K9+K10+K11+K12+K13+K14+K15+K16+K18+K19+K20+K21+K22 -> 112 | ... R23: =R7+R8+R9+R10+R11+R12+R13+R14+R15+R16+R18+R19+R20+R21+R22 -> 3 | T23: =D23+E23 -> 114 | U23: =F23+K23+L23 -> 114 | V23: =K23 -> 112 | W23: =G23+H23+I23+J23 -> 112

Sheet Մ. Հարությունյան
A1: 2015Ã. | D1: Ð²ÞìºîìàôÂÚàôÜ | P1: Ð³í»Éí³Í Ð³Û³ëï³ÝÇ Ð³Ýñ³å»ïáõÃÛ³Ý ¸³ï³ñ³ÝÝ»ñÇ Ý³Ë³·³ÑÝ»ñÇ ËáñÑñ¹Ç 01.02.2016Ã. ÃÇí 11È áñáßÙ³Ý
A2: ØÇÝã¹³ï³Ï³Ý í³ñáõÛÃÇ ÝÏ³ïÙ³Ùµ ¹³ï³Ï³Ý í»ñ³ÑëÏáÕáõÃÛ³ÝÁ, ¹³ï³Ï³Ý ³Ïï»ñÇ ¨ ¹³ï³Ï³Ý Ñ³ÝÓÝ³ñ³ñáõÃÛáõÝÝ»ñÇ Ï³ï³ñÙ³ÝÁ Ñ»ï Ï³åí³Í ÙÇçÝáñ¹áõÃÛáõÝÝ»ñÇ í»ñ³µ»ñÛ³É ¹³ï³Ï³Ý ·áñÍ»ñáí ÐÐ ¶»Õ³ñùáõÝÇùÇ Ù³ñ½Ç ÁÝ¹Ñ³Ýáõñ Çñ³í³ëáõÃÛ³Ý ³é³çÇÝ ³ïÛ³ÝÇ ¹³ï³ñ³ÝÇ ¹³ï³íáñ Մնացական Հարությունյանի ·áñÍáõÝ»áõÃÛ³Ý í»ñ³µ»ñÛ³É
A3: êïáõ·Çã Ñ³í³ë³ñáõÙ` 1+2=3+8+9, 8=4+5+6+7, | D3: Ð³ßí»ïáõ Å³Ù³Ý³Ï³Ñ³ïí³ÍÇ ëÏ½µáõÙ Ý³Ëáñ¹ Ñ³ßí»ïáõ Å³Ù³Ý³Ï³Ñ³ïí³ÍÇó ÷áË³Ýóí³Í ·áñÍ»ñÇ ÁÝ¹Ñ³Ýáõñ ÃÇíÁ | E3: Ð³ßí»ïáõ Å³Ù³Ý³Ï³Ñ³ïí³ÍáõÙ ëï³óí³Í ·áñÍ»ñÇ ÁÝ¹Ñ³Ýáõñ ÃÇíÁ | F3: öáË³Ýóí»É ¿ ³ÛÉ ¹³ï³íáñÇ Ï³Ù ³ÛÉ ¹³ï³ñ³Ý (Ï³½ÙÇ ÷á÷áËáõÃÛáõÝ, ÁÝ¹¹³ïáõÃÛáõÝ) | G3: Ð³ßí»ïáõ Å³Ù³Ý³Ï³Ñ³ïí³ÍáõÙ ³í³ñïí³Í ·áñÍ»ñÇ ÁÝ¹Ñ³Ýáõñ ÃÇíÁ | L3: Ð³ßí»ïáõ Å³Ù³Ý³Ï³Ñ³ïí³ÍáõÙ ³Ý³í³ñï ·áñÍ»ñÇ ÁÝ¹Ñ³Ýáõñ ÃÇíÁ | M3: ØÇçÝáñ¹áõÃÛáõÝÝ»ñáí Ï³Û³óí³Í ¹³ï³Ï³Ý ³Ïï»ñÇó µáÕáù³ñÏí³ÍÝ»ñÇ ù³Ý³ÏÁ | O3: ²Ý³í³ñï µáÕáùÝ»ñ | P3: ØÇçÝáñ¹áõÃÛáõÝÝ»ñáí Ï³Û³óí³Í ¨ µáÕáù³ñÏí³Í ¹³ï³Ï³Ý ³Ïï»ñÇó µ»Ï³Ýí³ÍÝ»ñÇ ù³Ý³ÏÁ | R3: ÙÇçÝáñ¹áõÃÛáõÝÝ»ñáí Ï³Û³óí³Í ¨ µáÕáù³ñÏí³Í ¹³ï³Ï³Ý ³Ïï»ñÇó ³Ý÷á÷áË ÃáÕÝí³ÍÝ»ñÇ ù³Ý³ÏÁ
G4: Ù»ñÅí»É ¿ | H4: µ³í³ñ³ñí»É ¿ | I4: µ³í³ñ³ñí»É ¿ Ù³ëÝ³ÏÇ | J4: ÃáÕÝí»É ¿ ³é³Ýó ùÝÝáõÃÛ³Ý | K4: ÀÝ¹³Ù»ÝÁ
M5: Ý³Ëáñ¹ ï³ñÇÝ»ñÇÝ Ï³Û³óí³Í ³Ïï»ñÇ ¹»Ù | N5: Ñ³ßí»ïáõ Å³Ù³Ý³Ï³ßñç³ÝáõÙ Ï³Û³óí³Í ³Ïï»ñÇ ¹»Ù | P5: Ý³Ëáñ¹ ï³ñÇÝ»ñÇÝ Ï³Û³óí³Í ³Ïï»ñÇ µ»Ï³ÝáõÙÝ»ñÁ | Q5: Ñ³ßí»ïáõ Å³Ù³Ý³Ï³ßñç³ÝáõÙ Ï³Û³óí³Í ³Ïï»ñÇ µ»Ï³ÝáõÙÝ»ñÁ
A6: 1. ØÇÝã¹³ï³Ï³Ý í³ñáõÛÃÇ ÝÏ³ïÙ³Ùµ ¹³ï³Ï³Ý í»ñ³ÑëÏáÕáõÃÛ³Ý áÉáñï | D6: 1 | E6: 2 | F6: 3 | G6: 4 | H6: 5 | I6: 6 | J6: 7 | K6: 8 | L6: 9 | M6: 10 | N6: 11 | O6: 12 | P6: 13 | Q6: 14 | R6: 15 | T6: 1+2=3+8+9 | V6: 8=4+5+6+7
A7: 1 | B7: Ï³É³ÝùÁ áñå»ë Ë³÷³ÝÙ³Ý ÙÇçáó ÏÇñ³é»Éáõ Ù³ëÇÝ ÙÇçÝáñ¹áõÃÛáõÝÝ»ñ | E7: 3 | H7: 3 | K7: 3 | N7: 1 | O7: 1 | T7: =D7+E7 -> 3 | U7: =F7+K7+L7 -> 3 | V7: =K7 -> 3 | W7: =G7+H7+I7+J7 -> 3
A8: 2 | B8: Ï³É³ÝùÇ Å³ÙÏ»ïÁ »ñÏ³ñ³óÝ»Éáõ Ù³ëÇÝ ÙÇçÝáñ¹áõÃÛáõÝÝ»ñ | E8: 8 | H8: 5 | I8: 3 | K8: 8 | N8: 3 | O8: 1 | Q8: 1 | R8: 1 | T8: =D8+E8 -> 8 | U8: =F8+K8+L8 -> 8 | V8: =K8 -> 8 | W8: =G8+H8+I8+J8 -> 8
A9: 3 | B9: Ï³É³ÝùÇ í»ñ³Ñ³ëï³ïÙ³Ý Ù³ëÇÝ ÙÇçÝáñ¹áõÃÛáõÝÝ»ñ | T9: =D9+E9 -> 0 | U9: =F9+K9+L9 -> 0 | V9: =K9 -> 0 | W9: =G9+H9+I9+J9 -> 0
A10: 4 | B10: ·ñ³íÁ áñå»ë Ï³É³Ý³íáñÙ³Ý ³ÛÉÁÝïñ³Ýù³ÛÇÝ Ë³÷³ÝÙ³Ý ÙÇçáó ÏÇñ³é»Éáõ Ù³ëÇÝ ÙÇçÝáñ¹áõÃÛáõÝÝ»ñ | E10: 5 | G10: 5 | K10: 5 | T10: =D10+E10 -> 5 | U10: =F10+K10+L10 -> 5 | V10: =K10 -> 5 | W10: =G10+H10+I10+J10 -> 5
A11: 5 | B11: Ëáõ½³ñÏáõÃÛ³Ý Ï³ï³ñÙ³Ý Ù³ëÇÝ ÙÇçÝáñ¹áõÃÛáõÝÝ»ñ | E11: 6 | G11: 4 | H11: 2 | K11: 6 | T11: =D11+E11 -> 6 | U11: =F11+K11+L11 -> 6 | V11: =K11 -> 6 | W11: =G11+H11+I11+J11 -> 6
A12: 6 | B12: µ³ÝÏ³ÛÇÝ, ³å³Ñáí³·ñ³Ï³Ý, Ýáï³ñ³Ï³Ý ·³ÕïÝÇù Ï³½ÙáÕ ï»Õ»ÏáõÃÛáõÝÝ»ñÇ ëï³óÙ³Ý Ñ³Ù³ñ Ëáõ½³ñÏáõÃÛ³Ý Ï³Ù ³é·ñ³íÙ³Ý Ï³ï³ñÙ³Ý Ù³ëÇÝ ÙÇçÝáñ¹áõÃÛáõÝÝ»ñ | T12: =D12+E12 -> 0 | U12: =F12+K12+L12 -> 0 | V12: =K12 -> 0 | W12: =G12+H12+I12+J12 -> 0
A13: 7 | B13: Ý³Ù³Ï³·ñáõÃÛ³Ý, Ñ»é³·ñ³Ï³Ý, ÷áuï³ÛÇÝ Ñ³Õáñ¹áõÙÝ»ñÇ ÑëÏáÕáõÃÛ³Ý Ù³ëÇÝ ÙÇçÝáñ¹áõÃÛáõÝÝ»ñ | T13: =D13+E13 -> 0 | U13: =F13+K13+L13 -> 0 | V13: =K13 -> 0 | W13: =G13+H13+I13+J13 -> 0
A14: 8 | B14: Ñ»é³Ëáu³ÛÇÝ Ï³Ù Ï³åÇ ³ÛÉ ÙÇçáóÝ»ñáí ï³ñíáÕ Ëáu³ÏóáõÃÛáõÝÝ»ñÇ ÉuÙ³Ý ¨ Ó³ÛÝ³·ñ³éÙ³Ý Ù³ëÇÝ ÙÇçÝáñ¹áõÃÛáõÝÝ»ñ | T14: =D14+E14 -> 0 | U14: =F14+K14+L14 -> 0 | V14: =K14 -> 0 | W14: =G14+H14+I14+J14 -> 0
A15: 9 | B15: Ñ»é³ËáëÝ»ñÇ Ùáõïù³ÛÇÝ ¨ »Éù³ÛÇÝ í»ñÍ³ÝÙ³Ý ÃáõÛÉïíáõÃÛáõÝ ëï³Ý³Éáõ Ù³ëÇÝ ÙÇçÝáñ¹áõÃÛáõÝÝ»ñ | E15: 1 | H15: 1 | K15: 1 | T15: =D15+E15 -> 1 | U15: =F15+K15+L15 -> 1 | V15: =K15 -> 1 | W15: =G15+H15+I15+J15 -> 1
A16: 10 | B16: Ñ»ï³ùÝÝáõÃÛ³Ý Ù³ñÙÝÇ ³ßË³ïáÕÇ, ùÝÝÇãÇ, ¹³ï³Ë³½Ç oå»ñ³ïÇí-Ñ»ï³Ëáõ½³Ï³Ý ·áñÍáÕáõÃÛáõÝÝ»ñ Çñ³Ï³Ý³óÝáÕ Ù³ñÙÇÝÝ»ñÇ ³ÝoñÇÝ³Ï³Ý ¨ ³ÝÑÇÙÝ áñáßáõÙÝ»ñÇ ¨ ·áñÍáÕáõÃÛáõÝÝ»ñÇ ¹»Ù µáÕáùÝ»ñ | E16: 4 | G16: 4 | K16: 4 | N16: 2 | R16: 2 | T16: =D16+E16 -> 4 | U16: =F16+K16+L16 -> 4 | V16: =K16 -> 4 | W16: =G16+H16+I16+J16 -> 4
A17: 2. ¸³ï³Ï³Ý ³Ïï»ñÇ ¨ ¹³ï³Ï³Ý Ñ³ÝÓÝ³ñ³ñáõÃÛáõÝÝ»ñÇ Ï³ï³ñÙ³Ý Ñ»ï Ï³åí³Í Ñ³ñó»ñÇ ÉáõÍÙ³Ý áÉáñï
A18: 1 | B18: å³ïÅÇó å³ÛÙ³Ý³Ï³Ý í³Õ³Å³ÙÏ»ï ³½³ï»Éáõ Ù³ëÇÝ ÙÇçÝáñ¹áõÃÛáõÝÝ»ñ | T18: =D18+E18 -> 0 | U18: =F18+K18+L18 -> 0 | V18: =K18 -> 0 | W18: =G18+H18+I18+J18 -> 0
A19: 2 | B19: å³ïÇÅÁ ÷á÷áË»Éáõ, Ñ»ï³Ó·»Éáõ ¨ å³ïÅÇó ³½³ï»Éáõ Ù³uÇÝ ÙÇçÝáñ¹áõÃÛáõÝÝ»ñ | T19: =D19+E19 -> 0 | U19: =F19+K19+L19 -> 0 | V19: =K19 -> 0 | W19: =G19+H19+I19+J19 -> 0
A20: 3 | B20: Ñ³ñÏ³¹Çñ µáõÅÙ³Ý ï»ë³ÏÇ ÷á÷áËáõÃÛ³Ý Ù³ëÇÝ ÙÇçÝáñ¹áõÃÛáõÝÝ»ñ | T20: =D20+E20 -> 0 | U20: =F20+K20+L20 -> 0 | V20: =K20 -> 0 | W20: =G20+H20+I20+J20 -> 0
A21: 4 | B21: ³ÛÉ ÙÇçÝáñ¹áõÃÛáõÝÝ»ñ | T21: =D21+E21 -> 0 | U21: =F21+K21+L21 -> 0 | V21: =K21 -> 0 | W21: =G21+H21+I21+J21 -> 0
A22: 5 | B22: ¹³ï³Ï³Ý Ñ³ÝÓÝ³ñ³ñáõÃÛáõÝÝ»ñ | T22: =D22+E22 -> 0 | U22: =F22+K22+L22 -> 0 | V22: =K22 -> 0 | W22: =G22+H22+I22+J22 -> 0
A23: ÀÜ¸²ØºÜÀ | D23: =D7+D8+D9+D10+D11+D12+D13+D14+D15+D16+D18+D19+D20+D21+D22 -> 0 | E23: =E7+E8+E9+E10+E11+E12+E13+E14+E15+E16+E18+E19+E20+E21+E22 -> 27 | F23: =F7+F8+F9+F10+F11+F12+F13+F14+F15+F16+F18+F19+F20+F21+F22 -> 0 | G23: =G7+G8+G9+G10+G11+G12+G13+G14+G15+G16+G18+G19+G20+G21+G22 -> 13 | H23: =H7+H8+H9+H10+H11+H12+H13+H14+H15+H16+H18+H19+H20+H21+H22 -> 11 | I23: =I7+I8+I9+I10+I11+I12+I13+I14+I15+I16+I18+I19+I20+I21+I22 -> 3 | J23: =J7+J8+J9+J10+J11+J12+J13+J14+J15+J16+J18+J19+J20+J21+J22 -> 0 | K23: =K7+K8+K9+K10+K11+K12+K13+K14+K15+K16+K18+K19+K20+K21+K22 -> 27 | ... R23: =R7+R8+R9+R10+R11+R12+R13+R14+R15+R16+R18+R19+R20+R21+R22 -> 3 | T23: =D23+E23 -> 27 | U23: =F23+K23+L23 -> 27 | V23: =K23 -> 27 | W23: =G23+H23+I23+J23 -> 27

Sheet Վ.Մելիքյան
A1: 2015Ã. | D1: Ð²ÞìºîìàôÂÚàôÜ | P1: Ð³í»Éí³Í Ð³Û³ëï³ÝÇ Ð³Ýñ³å»ïáõÃÛ³Ý ¸³ï³ñ³ÝÝ»ñÇ Ý³Ë³·³ÑÝ»ñÇ ËáñÑñ¹Ç 01.02.2016Ã. ÃÇí 11È áñáßÙ³Ý
A2: ØÇÝã¹³ï³Ï³Ý í³ñáõÛÃÇ ÝÏ³ïÙ³Ùµ ¹³ï³Ï³Ý í»ñ³ÑëÏáÕáõÃÛ³ÝÁ, ¹³ï³Ï³Ý ³Ïï»ñÇ ¨ ¹³ï³Ï³Ý Ñ³ÝÓÝ³ñ³ñáõÃÛáõÝÝ»ñÇ Ï³ï³ñÙ³ÝÁ Ñ»ï Ï³åí³Í ÙÇçÝáñ¹áõÃÛáõÝÝ»ñÇ í»ñ³µ»ñÛ³É ¹³ï³Ï³Ý ·áñÍ»ñáí ÐÐ ¶»Õ³ñùáõÝÇùÇ Ù³ñ½Ç ÁÝ¹Ñ³Ýáõñ Çñ³í³ëáõÃÛ³Ý ³é³çÇÝ ³ïÛ³ÝÇ ¹³ï³ñ³ÝÇ ¹³ï³íáր Վահագն Մելիքյանի ·áñÍáõÝ»áõÃÛ³Ý í»ñ³µ»ñÛ³É
A3: êïáõ·Çã Ñ³í³ë³ñáõÙ` 1+2=3+8+9, 8=4+5+6+7, | D3: Ð³ßí»ïáõ Å³Ù³Ý³Ï³Ñ³ïí³ÍÇ ëÏ½µáõÙ Ý³Ëáñ¹ Ñ³ßí»ïáõ Å³Ù³Ý³Ï³Ñ³ïí³ÍÇó ÷áË³Ýóí³Í ·áñÍ»ñÇ ÁÝ¹Ñ³Ýáõñ ÃÇíÁ | E3: Ð³ßí»ïáõ Å³Ù³Ý³Ï³Ñ³ïí³ÍáõÙ ëï³óí³Í ·áñÍ»ñÇ ÁÝ¹Ñ³Ýáõñ ÃÇíÁ | F3: öáË³Ýóí»É ¿ ³ÛÉ ¹³ï³íáñÇ Ï³Ù ³ÛÉ ¹³ï³ñ³Ý (Ï³½ÙÇ ÷á÷áËáõÃÛáõÝ, ÁÝ¹¹³ïáõÃÛáõÝ) | G3: Ð³ßí»ïáõ Å³Ù³Ý³Ï³Ñ³ïí³ÍáõÙ ³í³ñïí³Í ·áñÍ»ñÇ ÁÝ¹Ñ³Ýáõñ ÃÇíÁ | L3: Ð³ßí»ïáõ Å³Ù³Ý³Ï³Ñ³ïí³ÍáõÙ ³Ý³í³ñï ·áñÍ»ñÇ ÁÝ¹Ñ³Ýáõñ ÃÇíÁ | M3: ØÇçÝáñ¹áõÃÛáõÝÝ»ñáí Ï³Û³óí³Í ¹³ï³Ï³Ý ³Ïï»ñÇó µáÕáù³ñÏí³ÍÝ»ñÇ ù³Ý³ÏÁ | O3: ²Ý³í³ñï µáÕáùÝ»ñ | P3: ØÇçÝáñ¹áõÃÛáõÝÝ»ñáí Ï³Û³óí³Í ¨ µáÕáù³ñÏí³Í ¹³ï³Ï³Ý ³Ïï»ñÇó µ»Ï³Ýí³ÍÝ»ñÇ ù³Ý³ÏÁ | R3: ÙÇçÝáñ¹áõÃÛáõÝÝ»ñáí Ï³Û³óí³Í ¨ µáÕáù³ñÏí³Í ¹³ï³Ï³Ý ³Ïï»ñÇó ³Ý÷á÷áË ÃáÕÝí³ÍÝ»ñÇ ù³Ý³ÏÁ
G4: Ù»ñÅí»É ¿ | H4: µ³í³ñ³ñí»É ¿ | I4: µ³í³ñ³ñí»É ¿ Ù³ëÝ³ÏÇ | J4: ÃáÕÝí»É ¿ ³é³Ýó ùÝÝáõÃÛ³Ý | K4: ÀÝ¹³Ù»ÝÁ
M5: Ý³Ëáñ¹ ï³ñÇÝ»ñÇÝ Ï³Û³óí³Í ³Ïï»ñÇ ¹»Ù | N5: Ñ³ßí»ïáõ Å³Ù³Ý³Ï³ßñç³ÝáõÙ Ï³Û³óí³Í ³Ïï»ñÇ ¹»Ù | P5: Ý³Ëáñ¹ ï³ñÇÝ»ñÇÝ Ï³Û³óí³Í ³Ïï»ñÇ µ»Ï³ÝáõÙÝ»ñÁ | Q5: Ñ³ßí»ïáõ Å³Ù³Ý³Ï³ßñç³ÝáõÙ Ï³Û³óí³Í ³Ïï»ñÇ µ»Ï³ÝáõÙÝ»ñÁ
A6: 1. ØÇÝã¹³ï³Ï³Ý í³ñáõÛÃÇ ÝÏ³ïÙ³Ùµ ¹³ï³Ï³Ý í»ñ³ÑëÏáÕáõÃÛ³Ý áÉáñï | D6: 1 | E6: 2 | F6: 3 | G6: 4 | H6: 5 | I6: 6 | J6: 7 | K6: 8 | L6: 9 | M6: 10 | N6: 11 | O6: 12 | P6: 13 | Q6: 14 | R6: 15 | T6: 1+2=3+8+9 | V6: 8=4+5+6+7
A7: 1 | B7: Ï³É³ÝùÁ áñå»ë Ë³÷³ÝÙ³Ý ÙÇçáó ÏÇñ³é»Éáõ Ù³ëÇÝ ÙÇçÝáñ¹áõÃÛáõÝÝ»ñ | E7: 23 | H7: 23 | K7: 23 | T7: =D7+E7 -> 23 | U7: =F7+K7+L7 -> 23 | V7: =K7 -> 23 | W7: =G7+H7+I7+J7 -> 23
A8: 2 | B8: Ï³É³ÝùÇ Å³ÙÏ»ïÁ »ñÏ³ñ³óÝ»Éáõ Ù³ëÇÝ ÙÇçÝáñ¹áõÃÛáõÝÝ»ñ | E8: 4 | H8: 4 | K8: 4 | T8: =D8+E8 -> 4 | U8: =F8+K8+L8 -> 4 | V8: =K8 -> 4 | W8: =G8+H8+I8+J8 -> 4
A9: 3 | B9: Ï³É³ÝùÇ í»ñ³Ñ³ëï³ïÙ³Ý Ù³ëÇÝ ÙÇçÝáñ¹áõÃÛáõÝÝ»ñ | E9: 2 | H9: 2 | K9: 2 | T9: =D9+E9 -> 2 | U9: =F9+K9+L9 -> 2 | V9: =K9 -> 2 | W9: =G9+H9+I9+J9 -> 2
A10: 4 | B10: ·ñ³íÁ áñå»ë Ï³É³Ý³íáñÙ³Ý ³ÛÉÁÝïñ³Ýù³ÛÇÝ Ë³÷³ÝÙ³Ý ÙÇçáó ÏÇñ³é»Éáõ Ù³ëÇÝ ÙÇçÝáñ¹áõÃÛáõÝÝ»ñ | E10: 4 | G10: 3 | J10: 1 | K10: 4 | T10: =D10+E10 -> 4 | U10: =F10+K10+L10 -> 4 | V10: =K10 -> 4 | W10: =G10+H10+I10+J10 -> 4
A11: 5 | B11: Ëáõ½³ñÏáõÃÛ³Ý Ï³ï³ñÙ³Ý Ù³ëÇÝ ÙÇçÝáñ¹áõÃÛáõÝÝ»ñ | E11: 66 | H11: 66 | K11: 66 | T11: =D11+E11 -> 66 | U11: =F11+K11+L11 -> 66 | V11: =K11 -> 66 | W11: =G11+H11+I11+J11 -> 66
A12: 6 | B12: µ³ÝÏ³ÛÇÝ, ³å³Ñáí³·ñ³Ï³Ý, Ýáï³ñ³Ï³Ý ·³ÕïÝÇù Ï³½ÙáÕ ï»Õ»ÏáõÃÛáõÝÝ»ñÇ ëï³óÙ³Ý Ñ³Ù³ñ Ëáõ½³ñÏáõÃÛ³Ý Ï³Ù ³é·ñ³íÙ³Ý Ï³ï³ñÙ³Ý Ù³ëÇÝ ÙÇçÝáñ¹áõÃÛáõÝÝ»ñ | T12: =D12+E12 -> 0 | U12: =F12+K12+L12 -> 0 | V12: =K12 -> 0 | W12: =G12+H12+I12+J12 -> 0
A13: 7 | B13: Ý³Ù³Ï³·ñáõÃÛ³Ý, Ñ»é³·ñ³Ï³Ý, ÷áuï³ÛÇÝ Ñ³Õáñ¹áõÙÝ»ñÇ ÑëÏáÕáõÃÛ³Ý Ù³ëÇÝ ÙÇçÝáñ¹áõÃÛáõÝÝ»ñ | T13: =D13+E13 -> 0 | U13: =F13+K13+L13 -> 0 | V13: =K13 -> 0 | W13: =G13+H13+I13+J13 -> 0
A14: 8 | B14: Ñ»é³Ëáu³ÛÇÝ Ï³Ù Ï³åÇ ³ÛÉ ÙÇçáóÝ»ñáí ï³ñíáÕ Ëáu³ÏóáõÃÛáõÝÝ»ñÇ ÉuÙ³Ý ¨ Ó³ÛÝ³·ñ³éÙ³Ý Ù³ëÇÝ ÙÇçÝáñ¹áõÃÛáõÝÝ»ñ | T14: =D14+E14 -> 0 | U14: =F14+K14+L14 -> 0 | V14: =K14 -> 0 | W14: =G14+H14+I14+J14 -> 0
A15: 9 | B15: Ñ»é³ËáëÝ»ñÇ Ùáõïù³ÛÇÝ ¨ »Éù³ÛÇÝ í»ñÍ³ÝÙ³Ý ÃáõÛÉïíáõÃÛáõÝ ëï³Ý³Éáõ Ù³ëÇÝ ÙÇçÝáñ¹áõÃÛáõÝÝ»ñ | E15: 45 | H15: 45 | K15: 45 | T15: =D15+E15 -> 45 | U15: =F15+K15+L15 -> 45 | V15: =K15 -> 45 | W15: =G15+H15+I15+J15 -> 45
A16: 10 | B16: Ñ»ï³ùÝÝáõÃÛ³Ý Ù³ñÙÝÇ ³ßË³ïáÕÇ, ùÝÝÇãÇ, ¹³ï³Ë³½Ç oå»ñ³ïÇí-Ñ»ï³Ëáõ½³Ï³Ý ·áñÍáÕáõÃÛáõÝÝ»ñ Çñ³Ï³Ý³óÝáÕ Ù³ñÙÇÝÝ»ñÇ ³ÝoñÇÝ³Ï³Ý ¨ ³ÝÑÇÙÝ áñáßáõÙÝ»ñÇ ¨ ·áñÍáÕáõÃÛáõÝÝ»ñÇ ¹»Ù µáÕáùÝ»ñ | E16: 4 | G16: 3 | H16: 1 | K16: 4 | N16: 1 | O16: 1 | T16: =D16+E16 -> 4 | U16: =F16+K16+L16 -> 4 | V16: =K16 -> 4 | W16: =G16+H16+I16+J16 -> 4
A17: 2. ¸³ï³Ï³Ý ³Ïï»ñÇ ¨ ¹³ï³Ï³Ý Ñ³ÝÓÝ³ñ³ñáõÃÛáõÝÝ»ñÇ Ï³ï³ñÙ³Ý Ñ»ï Ï³åí³Í Ñ³ñó»ñÇ ÉáõÍÙ³Ý áÉáñï
A18: 1 | B18: å³ïÅÇó å³ÛÙ³Ý³Ï³Ý í³Õ³Å³ÙÏ»ï ³½³ï»Éáõ Ù³ëÇÝ ÙÇçÝáñ¹áõÃÛáõÝÝ»ñ | T18: =D18+E18 -> 0 | U18: =F18+K18+L18 -> 0 | V18: =K18 -> 0 | W18: =G18+H18+I18+J18 -> 0
A19: 2 | B19: å³ïÇÅÁ ÷á÷áË»Éáõ, Ñ»ï³Ó·»Éáõ ¨ å³ïÅÇó ³½³ï»Éáõ Ù³uÇÝ ÙÇçÝáñ¹áõÃÛáõÝÝ»ñ | E19: 2 | G19: 1 | H19: 1 | K19: 2 | T19: =D19+E19 -> 2 | U19: =F19+K19+L19 -> 2 | V19: =K19 -> 2 | W19: =G19+H19+I19+J19 -> 2
A20: 3 | B20: Ñ³ñÏ³¹Çñ µáõÅÙ³Ý ï»ë³ÏÇ ÷á÷áËáõÃÛ³Ý Ù³ëÇÝ ÙÇçÝáñ¹áõÃÛáõÝÝ»ñ | E20: 4 | H20: 4 | K20: 4 | T20: =D20+E20 -> 4 | U20: =F20+K20+L20 -> 4 | V20: =K20 -> 4 | W20: =G20+H20+I20+J20 -> 4
A21: 4 | B21: ³ÛÉ ÙÇçÝáñ¹áõÃÛáõÝÝ»ñ | E21: 3 | G21: 1 | H21: 2 | K21: 3 | T21: =D21+E21 -> 3 | U21: =F21+K21+L21 -> 3 | V21: =K21 -> 3 | W21: =G21+H21+I21+J21 -> 3
A22: 5 | B22: ¹³ï³Ï³Ý Ñ³ÝÓÝ³ñ³ñáõÃÛáõÝÝ»ñ | T22: =D22+E22 -> 0 | U22: =F22+K22+L22 -> 0 | V22: =K22 -> 0 | W22: =G22+H22+I22+J22 -> 0
A23: ÀÜ¸²ØºÜÀ | D23: =D7+D8+D9+D10+D11+D12+D13+D14+D15+D16+D18+D19+D20+D21+D22 -> 0 | E23: =E7+E8+E9+E10+E11+E12+E13+E14+E15+E16+E18+E19+E20+E21+E22 -> 157 | F23: =F7+F8+F9+F10+F11+F12+F13+F14+F15+F16+F18+F19+F20+F21+F22 -> 0 | G23: =G7+G8+G9+G10+G11+G12+G13+G14+G15+G16+G18+G19+G20+G21+G22 -> 8 | H23: =H7+H8+H9+H10+H11+H12+H13+H14+H15+H16+H18+H19+H20+H21+H22 -> 148 | I23: =I7+I8+I9+I10+I11+I12+I13+I14+I15+I16+I18+I19+I20+I21+I22 -> 0 | J23: =J7+J8+J9+J10+J11+J12+J13+J14+J15+J16+J18+J19+J20+J21+J22 -> 1 | K23: =K7+K8+K9+K10+K11+K12+K13+K14+K15+K16+K18+K19+K20+K21+K22 -> 157 | ... R23: =R7+R8+R9+R10+R11+R12+R13+R14+R15+R16+R18+R19+R20+R21+R22 -> 0 | T23: =D23+E23 -> 157 | U23: =F23+K23+L23 -> 157 | V23: =K23 -> 157 | W23: =G23+H23+I23+J23 -> 157

Sheet Ա. Թամրազյան
A1: 2015Ã. | D1: Ð²ÞìºîìàôÂÚàôÜ | P1: Ð³í»Éí³Í Ð³Û³ëï³ÝÇ Ð³Ýñ³å»ïáõÃÛ³Ý ¸³ï³ñ³ÝÝ»ñÇ Ý³Ë³·³ÑÝ»ñÇ ËáñÑñ¹Ç 01.02.2016Ã. ÃÇí 11È áñáßÙ³Ý
A2: ØÇÝã¹³ï³Ï³Ý í³ñáõÛÃÇ ÝÏ³ïÙ³Ùµ ¹³ï³Ï³Ý í»ñ³ÑëÏáÕáõÃÛ³ÝÁ, ¹³ï³Ï³Ý ³Ïï»ñÇ ¨ ¹³ï³Ï³Ý Ñ³ÝÓÝ³ñ³ñáõÃÛáõÝÝ»ñÇ Ï³ï³ñÙ³ÝÁ Ñ»ï Ï³åí³Í ÙÇçÝáñ¹áõÃÛáõÝÝ»ñÇ í»ñ³µ»ñÛ³É ¹³ï³Ï³Ý ·áñÍ»ñáí ÐÐ ¶»Õ³ñùáõÝÇùÇ Ù³ñ½Ç ÁÝ¹Ñ³Ýáõñ Çñ³í³ëáõÃÛ³Ý ³é³çÇÝ ³ïÛ³ÝÇ ¹³ï³ñ³ÝÇ ¹³ï³íáñ Արթուր Թամրազյանի ·áñÍáõÝ»áõÃÛ³Ý í»ñ³µ»ñÛ³É
A3: êïáõ·Çã Ñ³í³ë³ñáõÙ` 1+2=3+8+9, 8=4+5+6+7, | D3: Ð³ßí»ïáõ Å³Ù³Ý³Ï³Ñ³ïí³ÍÇ ëÏ½µáõÙ Ý³Ëáñ¹ Ñ³ßí»ïáõ Å³Ù³Ý³Ï³Ñ³ïí³ÍÇó ÷áË³Ýóí³Í ·áñÍ»ñÇ ÁÝ¹Ñ³Ýáõñ ÃÇíÁ | E3: Ð³ßí»ïáõ Å³Ù³Ý³Ï³Ñ³ïí³ÍáõÙ ëï³óí³Í ·áñÍ»ñÇ ÁÝ¹Ñ³Ýáõñ ÃÇíÁ | F3: öáË³Ýóí»É ¿ ³ÛÉ ¹³ï³íáñÇ Ï³Ù ³ÛÉ ¹³ï³ñ³Ý (Ï³½ÙÇ ÷á÷áËáõÃÛáõÝ, ÁÝ¹¹³ïáõÃÛáõÝ) | G3: Ð³ßí»ïáõ Å³Ù³Ý³Ï³Ñ³ïí³ÍáõÙ ³í³ñïí³Í ·áñÍ»ñÇ ÁÝ¹Ñ³Ýáõñ ÃÇíÁ | L3: Ð³ßí»ïáõ Å³Ù³Ý³Ï³Ñ³ïí³ÍáõÙ ³Ý³í³ñï ·áñÍ»ñÇ ÁÝ¹Ñ³Ýáõñ ÃÇíÁ | M3: ØÇçÝáñ¹áõÃÛáõÝÝ»ñáí Ï³Û³óí³Í ¹³ï³Ï³Ý ³Ïï»ñÇó µáÕáù³ñÏí³ÍÝ»ñÇ ù³Ý³ÏÁ | O3: ²Ý³í³ñï µáÕáùÝ»ñ | P3: ØÇçÝáñ¹áõÃÛáõÝÝ»ñáí Ï³Û³óí³Í ¨ µáÕáù³ñÏí³Í ¹³ï³Ï³Ý ³Ïï»ñÇó µ»Ï³Ýí³ÍÝ»ñÇ ù³Ý³ÏÁ | R3: ÙÇçÝáñ¹áõÃÛáõÝÝ»ñáí Ï³Û³óí³Í ¨ µáÕáù³ñÏí³Í ¹³ï³Ï³Ý ³Ïï»ñÇó ³Ý÷á÷áË ÃáÕÝí³ÍÝ»ñÇ ù³Ý³ÏÁ
G4: Ù»ñÅí»É ¿ | H4: µ³í³ñ³ñí»É ¿ | I4: µ³í³ñ³ñí»É ¿ Ù³ëÝ³ÏÇ | J4: ÃáÕÝí»É ¿ ³é³Ýó ùÝÝáõÃÛ³Ý | K4: ÀÝ¹³Ù»ÝÁ
M5: Ý³Ëáñ¹ ï³ñÇÝ»ñÇÝ Ï³Û³óí³Í ³Ïï»ñÇ ¹»Ù | N5: Ñ³ßí»ïáõ Å³Ù³Ý³Ï³ßñç³ÝáõÙ Ï³Û³óí³Í ³Ïï»ñÇ ¹»Ù | P5: Ý³Ëáñ¹ ï³ñÇÝ»ñÇÝ Ï³Û³óí³Í ³Ïï»ñÇ µ»Ï³ÝáõÙÝ»ñÁ | Q5: Ñ³ßí»ïáõ Å³Ù³Ý³Ï³ßñç³ÝáõÙ Ï³Û³óí³Í ³Ïï»ñÇ µ»Ï³ÝáõÙÝ»ñÁ
A6: 1. ØÇÝã¹³ï³Ï³Ý í³ñáõÛÃÇ ÝÏ³ïÙ³Ùµ ¹³ï³Ï³Ý í»ñ³ÑëÏáÕáõÃÛ³Ý áÉáñï | D6: 1 | E6: 2 | F6: 3 | G6: 4 | H6: 5 | I6: 6 | J6: 7 | K6: 8 | L6: 9 | M6: 10 | N6: 11 | O6: 12 | P6: 13 | Q6: 14 | R6: 15 | T6: 1+2=3+8+9 | V6: 8=4+5+6+7
A7: 1 | B7: Ï³É³ÝùÁ áñå»ë Ë³÷³ÝÙ³Ý ÙÇçáó ÏÇñ³é»Éáõ Ù³ëÇÝ ÙÇçÝáñ¹áõÃÛáõÝÝ»ñ | T7: =D7+E7 -> 0 | U7: =F7+K7+L7 -> 0 | V7: =K7 -> 0 | W7: =G7+H7+I7+J7 -> 0
A8: 2 | B8: Ï³É³ÝùÇ Å³ÙÏ»ïÁ »ñÏ³ñ³óÝ»Éáõ Ù³ëÇÝ ÙÇçÝáñ¹áõÃÛáõÝÝ»ñ | T8: =D8+E8 -> 0 | U8: =F8+K8+L8 -> 0 | V8: =K8 -> 0 | W8: =G8+H8+I8+J8 -> 0
A9: 3 | B9: Ï³É³ÝùÇ í»ñ³Ñ³ëï³ïÙ³Ý Ù³ëÇÝ ÙÇçÝáñ¹áõÃÛáõÝÝ»ñ | T9: =D9+E9 -> 0 | U9: =F9+K9+L9 -> 0 | V9: =K9 -> 0 | W9: =G9+H9+I9+J9 -> 0
A10: 4 | B10: ·ñ³íÁ áñå»ë Ï³É³Ý³íáñÙ³Ý ³ÛÉÁÝïñ³Ýù³ÛÇÝ Ë³÷³ÝÙ³Ý ÙÇçáó ÏÇñ³é»Éáõ Ù³ëÇÝ ÙÇçÝáñ¹áõÃÛáõÝÝ»ñ | T10: =D10+E10 -> 0 | U10: =F10+K10+L10 -> 0 | V10: =K10 -> 0 | W10: =G10+H10+I10+J10 -> 0
A11: 5 | B11: Ëáõ½³ñÏáõÃÛ³Ý Ï³ï³ñÙ³Ý Ù³ëÇÝ ÙÇçÝáñ¹áõÃÛáõÝÝ»ñ | T11: =D11+E11 -> 0 | U11: =F11+K11+L11 -> 0 | V11: =K11 -> 0 | W11: =G11+H11+I11+J11 -> 0
A12: 6 | B12: µ³ÝÏ³ÛÇÝ, ³å³Ñáí³·ñ³Ï³Ý, Ýáï³ñ³Ï³Ý ·³ÕïÝÇù Ï³½ÙáÕ ï»Õ»ÏáõÃÛáõÝÝ»ñÇ ëï³óÙ³Ý Ñ³Ù³ñ Ëáõ½³ñÏáõÃÛ³Ý Ï³Ù ³é·ñ³íÙ³Ý Ï³ï³ñÙ³Ý Ù³ëÇÝ ÙÇçÝáñ¹áõÃÛáõÝÝ»ñ | T12: =D12+E12 -> 0 | U12: =F12+K12+L12 -> 0 | V12: =K12 -> 0 | W12: =G12+H12+I12+J12 -> 0
A13: 7 | B13: Ý³Ù³Ï³·ñáõÃÛ³Ý, Ñ»é³·ñ³Ï³Ý, ÷áuï³ÛÇÝ Ñ³Õáñ¹áõÙÝ»ñÇ ÑëÏáÕáõÃÛ³Ý Ù³ëÇÝ ÙÇçÝáñ¹áõÃÛáõÝÝ»ñ | T13: =D13+E13 -> 0 | U13: =F13+K13+L13 -> 0 | V13: =K13 -> 0 | W13: =G13+H13+I13+J13 -> 0
A14: 8 | B14: Ñ»é³Ëáu³ÛÇÝ Ï³Ù Ï³åÇ ³ÛÉ ÙÇçáóÝ»ñáí ï³ñíáÕ Ëáu³ÏóáõÃÛáõÝÝ»ñÇ ÉuÙ³Ý ¨ Ó³ÛÝ³·ñ³éÙ³Ý Ù³ëÇÝ ÙÇçÝáñ¹áõÃÛáõÝÝ»ñ | T14: =D14+E14 -> 0 | U14: =F14+K14+L14 -> 0 | V14: =K14 -> 0 | W14: =G14+H14+I14+J14 -> 0
A15: 9 | B15: Ñ»é³ËáëÝ»ñÇ Ùáõïù³ÛÇÝ ¨ »Éù³ÛÇÝ í»ñÍ³ÝÙ³Ý ÃáõÛÉïíáõÃÛáõÝ ëï³Ý³Éáõ Ù³ëÇÝ ÙÇçÝáñ¹áõÃÛáõÝÝ»ñ | T15: =D15+E15 -> 0 | U15: =F15+K15+L15 -> 0 | V15: =K15 -> 0 | W15: =G15+H15+I15+J15 -> 0
