Workbook

Sheet ԴԱՏԱՎՈՐ
AE1: Հավելված 2 Բարձրագույն դատական խորհրդի 2022թվականի դեկտեմբերի 26-ի թիվ ԲԴԽ-122-Ո-408 որոշման
A2: 2025 ԹՎԱԿԱՆԻ ՏԱՐԵԿԱՆ ՀԱՇՎԵՏՎՈՒԹՅՈՒՆ ՀԿԱԿՈՌՈՒՊՑԻՈՆ ԴԱՏԱՐԱՆԻ ԴԱՏԱՎՈՐ --- ԳՈՐԾՈՒՆԵՈՒԹՅԱՆ ՎԵՐԱԲԵՐՅԱԼ
A3: Ստուգիչ հավասարումներ` 1+3=4+12+17+19, 12= 9+10+11, 25=21+22+23+24, 30=25+26+27+28+29 | C3: ՀՀ քրեական օրենսգրքի հոդվածներ | D3: Հաշվետու ժամանակահատվածի սկզբում նախորդ հաշվետու ժամանակահատվածից փոխանցված գործերի ընդհանուր թիվը | E3: Այդ թվում` կասեցված վիճակում փոխանցված | F3: Հաշվետու ժամանակահատվածում ստացված գործերի ընդհանուր թիվը | G3: փոխանցվել թ այլ դատավորի (վերաբաշխում) | H3: Որոշում է կայացվել քրեական գործը վերադարձնել հսկող դատախազին | I3: քանի գործով է կիրառվել համաձայնեցման վարույթ | J3: քանի գործով է կիրառվել համագործակցության վարույթ | K3: Հաշվետու ժամանակաշրջանում կայացվել է վերդիկտ | L3: Հաշվետու ժամանակաշրջանում կայացվել է դատավճիռ | M3: քրեական վարույթը կարճելու մաuին որոշում | N3: Հաշվետու ժամանակաշրջանում կայացվել է բժշկական հարկադրանքի դատավճիռ /ՀՀ ՔՐ. ԴԱՏ. ՕՐ. 432-ՐԴ ՀՈԴՎԱԾ/ | O3: ընդամենը | P3: Հաշվետու ժամանակահատվածում ավարտված գործերի ընդհանուր թիվը /ՀՀ ՔՐ. ԴԱՏ. ՕՐ. 14-ՐԴ ՀՈԴՎԱԾ/ | T3: Ուղարկվել է ըստ ընդդատության | U3: Հաշվետու ժամանակահատվածում կասեցված վարույթներով գործերի ընդհանուր թիվը | V3: Հաշվետու ժամանակահատվածում անավարտ գործերի ընդհանուր թիվը | W3: Այդ թվում՝ կասեցված | X3: Բողոքարկված վարութային ակտերի թիվը` ըստ տեսակների | AB3: ընդամենը բողոքարկվել են ակտեր | AC3: Բեկանված և փոփոխված ակտերի թիվը` ըստ տեսակների | AG3: ընդամենը բեկանվել են ակտեր
P4: քրեական վարույթը կարճելու մաuին որոշումն ուժի մեջ մտնելով. | Q4: Եզրափակիչ դատական ակտն ուժի մեջ է մտել | R4: Եզրափակիչ դատական ակտը հանձնվել է կատարման | S4: ավարտվել են քրեական գործեր | X4: Այդ թվում` եզրափակիչ դատական ակտերը | Z4: Այդ թվում` եզրափակիչ դատավարական ակտերը | AC4: Այդ թվում` եզրափակիչ դատական ակտերը | AE4: Այդ թվում` եզրափակիչ դատավարական ակտերը
X5: նախորդ տարիների կայացված ակտերի բողոքարկումը | Y5: հաշվետու ժամանակահատվածում կայացված ակտերի բողոքարկումը | Z5: նախորդ տարիների կայացված ակտերի բողոքարկումը | AA5: հաշվետու ժամանակահատվածում կայացված ակտերի բողոքարկումը | AC5: նախորդ տարիների կայացված ակտերի բողոքարկումը | AD5: հաշվետու ժամանակահատվածում կայացված ակտերի բողոքարկումը | AE5: նախորդ տարիների կայացված ակտերի բողոքարկումը | AF5: հաշվետու ժամանակահատվածում կայացված ակտերի բողոքարկումը | AH5: 1+3 | AI5: 4+12+17+19 | AJ5: 12 | AK5: 9+10+11 | AL5: 25 | AM5: 21+22+23+24 | AN5: 30 | AO5: 25+26+27+28+29
B6: Հակակոռուպցիոն հանցագործություններ | D6: 1 | E6: 2 | F6: 3 | G6: 4 | H6: 5 | I6: 6 | J6: 7 | K6: 8 | L6: 9 | M6: 10 | N6: 11 | O6: 12 | P6: 13 | Q6: 14 | R6: 15 | S6: 16 | T6: 17 | U6: 18 | V6: 19 | W6: 20 | X6: 21 | Y6: 22 | Z6: 23 | AA6: 24 | AB6: 25 | AC6: 26 | AD6: 27 | AE6: 28 | AF6: 29 | AG6: 30
A7: 9.4.1 | B7: Խարդախությունը՝ իշխանական կամ ծառայողական լիազորությունները կամ դրանցով պայմանավորված ազդեցությունն օգտագործելով | C7: 255 հ. 2-րդ մաս. 2-րդ կետ | D7: =SUM('Խ. Ղազարյան:Ս.Պետրոսյան'!D7) -> 5 | E7: =SUM('Խ. Ղազարյան:Ս.Պետրոսյան'!E7) -> 0 | F7: =SUM('Խ. Ղազարյան:Ս.Պետրոսյան'!F7) -> 10 | G7: =SUM('Խ. Ղազարյան:Ս.Պետրոսյան'!G7) -> 0 | H7: =SUM('Խ. Ղազարյան:Ս.Պետրոսյան'!H7) -> 0 | I7: =SUM('Խ. Ղազարյան:Ս.Պետրոսյան'!I7) -> 2 | J7: =SUM('Խ. Ղազարյան:Ս.Պետրոսյան'!J7) -> 0 | K7: =SUM('Խ. Ղազարյան:Ս.Պետրոսյան'!K7) -> 0 | ... AO7: =SUM('Խ. Ղազարյան:Ս.Պետրոսյան'!AO7) -> 0
A8: 9.4.2 | B8: Խարդախությունը՝ եթե կատարվել է իշխանական կամ ծառայողական լիազորությունները կամ դրանցով պայմանավորված ազդեցությունն օգտագործելով | C8: 255 հ. 3-րդ մաս. | D8: =SUM('Խ. Ղազարյան:Ս.Պետրոսյան'!D8) -> 21 | E8: =SUM('Խ. Ղազարյան:Ս.Պետրոսյան'!E8) -> 0 | F8: =SUM('Խ. Ղազարյան:Ս.Պետրոսյան'!F8) -> 24 | G8: =SUM('Խ. Ղազարյան:Ս.Պետրոսյան'!G8) -> 8 | H8: =SUM('Խ. Ղազարյան:Ս.Պետրոսյան'!H8) -> 0 | I8: =SUM('Խ. Ղազարյան:Ս.Պետրոսյան'!I8) -> 1 | J8: =SUM('Խ. Ղազարյան:Ս.Պետրոսյան'!J8) -> 0 | K8: =SUM('Խ. Ղազարյան:Ս.Պետրոսյան'!K8) -> 0 | ... AO8: =SUM('Խ. Ղազարյան:Ս.Պետրոսյան'!AO8) -> 0
A9: 9.5.1 | B9: Վստահված գույքը հափշտակելը՝ իշխանական կամ ծառայողական լիազորությունները կամ դրանցով պայմանավորված ազդեցությունն օգտագործելով, | C9: 256 հ. 2-րդ մաս. 2-րդ կետ | D9: =SUM('Խ. Ղազարյան:Ս.Պետրոսյան'!D9) -> 23 | E9: =SUM('Խ. Ղազարյան:Ս.Պետրոսյան'!E9) -> 0 | F9: =SUM('Խ. Ղազարյան:Ս.Պետրոսյան'!F9) -> 33 | G9: =SUM('Խ. Ղազարյան:Ս.Պետրոսյան'!G9) -> 3 | H9: =SUM('Խ. Ղազարյան:Ս.Պետրոսյան'!H9) -> 0 | I9: =SUM('Խ. Ղազարյան:Ս.Պետրոսյան'!I9) -> 2 | J9: =SUM('Խ. Ղազարյան:Ս.Պետրոսյան'!J9) -> 0 | K9: =SUM('Խ. Ղազարյան:Ս.Պետրոսյան'!K9) -> 0 | ... AO9: =SUM('Խ. Ղազարյան:Ս.Պետրոսյան'!AO9) -> 0
A10: 9.5.2 | B10: Վստահված գույքը հափշտակելը՝ եթե կատարվել է իշխանական կամ ծառայողական լիազորությունները կամ դրանցով պայմանավորված ազդեցությունն օգտագործելով | C10: 256 հ. 3-րդ մաս. | D10: =SUM('Խ. Ղազարյան:Ս.Պետրոսյան'!D10) -> 37 | E10: =SUM('Խ. Ղազարյան:Ս.Պետրոսյան'!E10) -> 0 | F10: =SUM('Խ. Ղազարյան:Ս.Պետրոսյան'!F10) -> 23 | G10: =SUM('Խ. Ղազարյան:Ս.Պետրոսյան'!G10) -> 2 | H10: =SUM('Խ. Ղազարյան:Ս.Պետրոսյան'!H10) -> 0 | I10: =SUM('Խ. Ղազարյան:Ս.Պետրոսյան'!I10) -> 2 | J10: =SUM('Խ. Ղազարյան:Ս.Պետրոսյան'!J10) -> 0 | K10: =SUM('Խ. Ղազարյան:Ս.Պետրոսյան'!K10) -> 0 | ... AO10: =SUM('Խ. Ղազարյան:Ս.Պետրոսյան'!AO10) -> 0
A11: 10.1.1 | B11: Շորթումը՝ իշխանական կամ ծառայողական լիազորությունները կամ դրանցով պայմանավորված ազդեցությունն օգտագործելով | C11: 258 հ. 2-րդ մաս. 9-րդ կետ | D11: =SUM('Խ. Ղազարյան:Ս.Պետրոսյան'!D11) -> 0 | E11: =SUM('Խ. Ղազարյան:Ս.Պետրոսյան'!E11) -> 0 | F11: =SUM('Խ. Ղազարյան:Ս.Պետրոսյան'!F11) -> 0 | G11: =SUM('Խ. Ղազարյան:Ս.Պետրոսյան'!G11) -> 0 | H11: =SUM('Խ. Ղազարյան:Ս.Պետրոսյան'!H11) -> 0 | I11: =SUM('Խ. Ղազարյան:Ս.Պետրոսյան'!I11) -> 0 | J11: =SUM('Խ. Ղազարյան:Ս.Պետրոսյան'!J11) -> 0 | K11: =SUM('Խ. Ղազարյան:Ս.Պետրոսյան'!K11) -> 0 | ... AO11: =SUM('Խ. Ղազարյան:Ս.Պետրոսյան'!AO11) -> 0
A12: 10.1.2 | B12: Շորթումը՝ եթե կատարվել է իշխանական կամ ծառայողական լիազորությունները կամ դրանցով պայմանավորված ազդեցությունն օգտագործելով | C12: 258 հ. 3-րդ մաս. | D12: =SUM('Խ. Ղազարյան:Ս.Պետրոսյան'!D12) -> 0 | E12: =SUM('Խ. Ղազարյան:Ս.Պետրոսյան'!E12) -> 0 | F12: =SUM('Խ. Ղազարյան:Ս.Պետրոսյան'!F12) -> 0 | G12: =SUM('Խ. Ղազարյան:Ս.Պետրոսյան'!G12) -> 0 | H12: =SUM('Խ. Ղազարյան:Ս.Պետրոսյան'!H12) -> 0 | I12: =SUM('Խ. Ղազարյան:Ս.Պետրոսյան'!I12) -> 0 | J12: =SUM('Խ. Ղազարյան:Ս.Պետրոսյան'!J12) -> 0 | K12: =SUM('Խ. Ղազարյան:Ս.Պետրոսյան'!K12) -> 0 | ... AO12: =SUM('Խ. Ղազարյան:Ս.Պետրոսյան'!AO12) -> 0
A13: 11.2.1 | B13: Ներքին տեղեկությունների անբարեխիղճ օգտագործումը՝ իշխանական կամ ծառայողական լիազորությունները կամ դրանցով պայմանավորված ազդեցությունն օգտագործելով | C13: 268 հ. 3-րդ մաս. 2-րդ. կետ | D13: =SUM('Խ. Ղազարյան:Ս.Պետրոսյան'!D13) -> 0 | E13: =SUM('Խ. Ղազարյան:Ս.Պետրոսյան'!E13) -> 0 | F13: =SUM('Խ. Ղազարյան:Ս.Պետրոսյան'!F13) -> 0 | G13: =SUM('Խ. Ղազարյան:Ս.Պետրոսյան'!G13) -> 0 | H13: =SUM('Խ. Ղազարյան:Ս.Պետրոսյան'!H13) -> 0 | I13: =SUM('Խ. Ղազարյան:Ս.Պետրոսյան'!I13) -> 0 | J13: =SUM('Խ. Ղազարյան:Ս.Պետրոսյան'!J13) -> 0 | K13: =SUM('Խ. Ղազարյան:Ս.Պետրոսյան'!K13) -> 0 | ... AO13: =SUM('Խ. Ղազարյան:Ս.Պետրոսյան'!AO13) -> 0
A14: 11.3.1 | B14: Արժեթղթերի շուկայում գնային չարաշահումը՝ իշխանական կամ ծառայողական լիազորությունները կամ դրանցով պայմանավորված ազդեցությունն օգտագործելով | C14: 269 հ. 3-րդ մաս. 3-րդ. կետ | D14: =SUM('Խ. Ղազարյան:Ս.Պետրոսյան'!D14) -> 0 | E14: =SUM('Խ. Ղազարյան:Ս.Պետրոսյան'!E14) -> 0 | F14: =SUM('Խ. Ղազարյան:Ս.Պետրոսյան'!F14) -> 0 | G14: =SUM('Խ. Ղազարյան:Ս.Պետրոսյան'!G14) -> 0 | H14: =SUM('Խ. Ղազարյան:Ս.Պետրոսյան'!H14) -> 0 | I14: =SUM('Խ. Ղազարյան:Ս.Պետրոսյան'!I14) -> 0 | J14: =SUM('Խ. Ղազարյան:Ս.Պետրոսյան'!J14) -> 0 | K14: =SUM('Խ. Ղազարյան:Ս.Պետրոսյան'!K14) -> 0 | ... AO14: =SUM('Խ. Ղազարյան:Ս.Պետրոսյան'!AO14) -> 0
A15: 11.6 | B15: Մասնավոր ոլորտում կաշառք ստանալը | C15: 272 | D15: =SUM('Խ. Ղազարյան:Ս.Պետրոսյան'!D15) -> 1 | E15: =SUM('Խ. Ղազարյան:Ս.Պետրոսյան'!E15) -> 0 | F15: =SUM('Խ. Ղազարյան:Ս.Պետրոսյան'!F15) -> 8 | G15: =SUM('Խ. Ղազարյան:Ս.Պետրոսյան'!G15) -> 1 | H15: =SUM('Խ. Ղազարյան:Ս.Պետրոսյան'!H15) -> 0 | I15: =SUM('Խ. Ղազարյան:Ս.Պետրոսյան'!I15) -> 0 | J15: =SUM('Խ. Ղազարյան:Ս.Պետրոսյան'!J15) -> 0 | K15: =SUM('Խ. Ղազարյան:Ս.Պետրոսյան'!K15) -> 0 | ... AO15: =SUM('Խ. Ղազարյան:Ս.Պետրոսյան'!AO15) -> 0
A16: 11.7 | B16: Մասնավոր ոլորտում կաշառք տալը | C16: 273 | D16: =SUM('Խ. Ղազարյան:Ս.Պետրոսյան'!D16) -> 0 | E16: =SUM('Խ. Ղազարյան:Ս.Պետրոսյան'!E16) -> 0 | F16: =SUM('Խ. Ղազարյան:Ս.Պետրոսյան'!F16) -> 1 | G16: =SUM('Խ. Ղազարյան:Ս.Պետրոսյան'!G16) -> 0 | H16: =SUM('Խ. Ղազարյան:Ս.Պետրոսյան'!H16) -> 0 | I16: =SUM('Խ. Ղազարյան:Ս.Պետրոսյան'!I16) -> 0 | J16: =SUM('Խ. Ղազարյան:Ս.Պետրոսյան'!J16) -> 0 | K16: =SUM('Խ. Ղազարյան:Ս.Պետրոսյան'!K16) -> 0 | ... AO16: =SUM('Խ. Ղազարյան:Ս.Պետրոսյան'!AO16) -> 0
A17: 11.8 | B17: Հայաստանի Հանրապետության կամ այլ պետության մարզիկի, մրցավարի, թիմի ղեկավարի, մարզչի, արհեստավարժ մարզամրցման այլ մասնակցի կամ դրա կազմակերպչի, հանդիսադիր առևտրային մրցույթի մասնակցի կամ դրա կազմակերպչի կամ մրցանակաբաշխային հանձնաժողովի անդամի կողմից կաշառք ստանալը | C17: 274 | D17: =SUM('Խ. Ղազարյան:Ս.Պետրոսյան'!D17) -> 0 | E17: =SUM('Խ. Ղազարյան:Ս.Պետրոսյան'!E17) -> 0 | F17: =SUM('Խ. Ղազարյան:Ս.Պետրոսյան'!F17) -> 0 | G17: =SUM('Խ. Ղազարյան:Ս.Պետրոսյան'!G17) -> 0 | H17: =SUM('Խ. Ղազարյան:Ս.Պետրոսյան'!H17) -> 0 | I17: =SUM('Խ. Ղազարյան:Ս.Պետրոսյան'!I17) -> 0 | J17: =SUM('Խ. Ղազարյան:Ս.Պետրոսյան'!J17) -> 0 | K17: =SUM('Խ. Ղազարյան:Ս.Պետրոսյան'!K17) -> 0 | ... AO17: =SUM('Խ. Ղազարյան:Ս.Պետրոսյան'!AO17) -> 0
A18: 11.9 | B18: Հայաստանի Հանրապետության կամ այլ պետության մարզիկին, մրցավարին, թիմի ղեկավարին, մարզչին, արհեստավարժ մարզամրցման այլ մասնակցի կամ դրա կազմակերպչին, հանդիսադիր առևտրային մրցույթի մասնակցին կամ դրա կազմակերպչին կամ մրցանակաբաշխային հանձնաժողովի անդամին կաշառք տալը | C18: 275 | D18: =SUM('Խ. Ղազարյան:Ս.Պետրոսյան'!D18) -> 0 | E18: =SUM('Խ. Ղազարյան:Ս.Պետրոսյան'!E18) -> 0 | F18: =SUM('Խ. Ղազարյան:Ս.Պետրոսյան'!F18) -> 0 | G18: =SUM('Խ. Ղազարյան:Ս.Պետրոսյան'!G18) -> 0 | H18: =SUM('Խ. Ղազարյան:Ս.Պետրոսյան'!H18) -> 0 | I18: =SUM('Խ. Ղազարյան:Ս.Պետրոսյան'!I18) -> 0 | J18: =SUM('Խ. Ղազարյան:Ս.Պետրոսյան'!J18) -> 0 | K18: =SUM('Խ. Ղազարյան:Ս.Պետրոսյան'!K18) -> 0 | ... AO18: =SUM('Խ. Ղազարյան:Ս.Պետրոսյան'!AO18) -> 0
A19: 11.1 | B19: Ծառայողական կամ մասնագիտական պարտականությունները կատարելու համար ապօրինի վարձատրություն ստանալը կամ պահանջելը | C19: 276 | D19: =SUM('Խ. Ղազարյան:Ս.Պետրոսյան'!D19) -> 0 | E19: =SUM('Խ. Ղազարյան:Ս.Պետրոսյան'!E19) -> 0 | F19: =SUM('Խ. Ղազարյան:Ս.Պետրոսյան'!F19) -> 1 | G19: =SUM('Խ. Ղազարյան:Ս.Պետրոսյան'!G19) -> 0 | H19: =SUM('Խ. Ղազարյան:Ս.Պետրոսյան'!H19) -> 0 | I19: =SUM('Խ. Ղազարյան:Ս.Պետրոսյան'!I19) -> 0 | J19: =SUM('Խ. Ղազարյան:Ս.Պետրոսյան'!J19) -> 0 | K19: =SUM('Խ. Ղազարյան:Ս.Պետրոսյան'!K19) -> 0 | ... AO19: =SUM('Խ. Ղազարյան:Ս.Պետրոսյան'!AO19) -> 0
A20: 11.11 | B20: Մասնավոր ոլորտում ծառայողական լիազորությունները կամ դրանցով պայմանավորված ազդեցությունը չարաշահելը | C20: 277 | D20: =SUM('Խ. Ղազարյան:Ս.Պետրոսյան'!D20) -> 1 | E20: =SUM('Խ. Ղազարյան:Ս.Պետրոսյան'!E20) -> 0 | F20: =SUM('Խ. Ղազարյան:Ս.Պետրոսյան'!F20) -> 2 | G20: =SUM('Խ. Ղազարյան:Ս.Պետրոսյան'!G20) -> 0 | H20: =SUM('Խ. Ղազարյան:Ս.Պետրոսյան'!H20) -> 0 | I20: =SUM('Խ. Ղազարյան:Ս.Պետրոսյան'!I20) -> 0 | J20: =SUM('Խ. Ղազարյան:Ս.Պետրոսյան'!J20) -> 0 | K20: =SUM('Խ. Ղազարյան:Ս.Պետրոսյան'!K20) -> 0 | ... AO20: =SUM('Խ. Ղազարյան:Ս.Պետրոսյան'!AO20) -> 0
A21: 11.16.1 | B21: Ֆինանսական բուրգ ստեղծելը, կազմակերպելը կամ ղեկավարելը՝ իշխանական կամ ծառայողական լիազորությունները կամ դրանցով պայմանավորված ազդեցությունն օգտագործելով. | C21: 282հ. 2-րդ մաս. 2-րդ կետ | D21: =SUM('Խ. Ղազարյան:Ս.Պետրոսյան'!D21) -> 0 | E21: =SUM('Խ. Ղազարյան:Ս.Պետրոսյան'!E21) -> 0 | F21: =SUM('Խ. Ղազարյան:Ս.Պետրոսյան'!F21) -> 0 | G21: =SUM('Խ. Ղազարյան:Ս.Պետրոսյան'!G21) -> 0 | H21: =SUM('Խ. Ղազարյան:Ս.Պետրոսյան'!H21) -> 0 | I21: =SUM('Խ. Ղազարյան:Ս.Պետրոսյան'!I21) -> 0 | J21: =SUM('Խ. Ղազարյան:Ս.Պետրոսյան'!J21) -> 0 | K21: =SUM('Խ. Ղազարյան:Ս.Պետրոսյան'!K21) -> 0 | ... AO21: =SUM('Խ. Ղազարյան:Ս.Պետրոսյան'!AO21) -> 0
A22: 11.16.2 | B22: Ֆինանսական բուրգ ստեղծելը,եթե կատարվել է իշխանական կամ ծառայողական լիազորությունները կամ դրանցով պայմանավորված ազդեցությունն օգտագործելով | C22: 282հ. 3-րդ մաս. | D22: =SUM('Խ. Ղազարյան:Ս.Պետրոսյան'!D22) -> 0 | E22: =SUM('Խ. Ղազարյան:Ս.Պետրոսյան'!E22) -> 0 | F22: =SUM('Խ. Ղազարյան:Ս.Պետրոսյան'!F22) -> 0 | G22: =SUM('Խ. Ղազարյան:Ս.Պետրոսյան'!G22) -> 0 | H22: =SUM('Խ. Ղազարյան:Ս.Պետրոսյան'!H22) -> 0 | I22: =SUM('Խ. Ղազարյան:Ս.Պետրոսյան'!I22) -> 0 | J22: =SUM('Խ. Ղազարյան:Ս.Պետրոսյան'!J22) -> 0 | K22: =SUM('Խ. Ղազարյան:Ս.Պետրոսյան'!K22) -> 0 | ... AO22: =SUM('Խ. Ղազարյան:Ս.Պետրոսյան'!AO22) -> 0
A23: 11.18.1 | B23: Հակամրցակցային գործունեությունը՝ իշխանական կամ ծառայողական լիազորությունները կամ դրանցով պայմանավորված ազդեցությունն օգտագործելով | C23: 284հ 2-րդ մաս. 2-րդ կետ | D23: =SUM('Խ. Ղազարյան:Ս.Պետրոսյան'!D23) -> 0 | E23: =SUM('Խ. Ղազարյան:Ս.Պետրոսյան'!E23) -> 0 | F23: =SUM('Խ. Ղազարյան:Ս.Պետրոսյան'!F23) -> 0 | G23: =SUM('Խ. Ղազարյան:Ս.Պետրոսյան'!G23) -> 0 | H23: =SUM('Խ. Ղազարյան:Ս.Պետրոսյան'!H23) -> 0 | I23: =SUM('Խ. Ղազարյան:Ս.Պետրոսյան'!I23) -> 0 | J23: =SUM('Խ. Ղազարյան:Ս.Պետրոսյան'!J23) -> 0 | K23: =SUM('Խ. Ղազարյան:Ս.Պետրոսյան'!K23) -> 0 | ... AO23: =SUM('Խ. Ղազարյան:Ս.Պետրոսյան'!AO23) -> 0
A24: 11.18.2 | B24: Հակամրցակցային գործունեությունը՝ եթե կատարվել է իշխանական կամ ծառայողական լիազորությունները կամ դրանցով պայմանավորված ազդեցությունն օգտագործելով | C24: 284հ 3-րդ մաս. | D24: =SUM('Խ. Ղազարյան:Ս.Պետրոսյան'!D24) -> 0 | E24: =SUM('Խ. Ղազարյան:Ս.Պետրոսյան'!E24) -> 0 | F24: =SUM('Խ. Ղազարյան:Ս.Պետրոսյան'!F24) -> 0 | G24: =SUM('Խ. Ղազարյան:Ս.Պետրոսյան'!G24) -> 0 | H24: =SUM('Խ. Ղազարյան:Ս.Պետրոսյան'!H24) -> 0 | I24: =SUM('Խ. Ղազարյան:Ս.Պետրոսյան'!I24) -> 0 | J24: =SUM('Խ. Ղազարյան:Ս.Պետրոսյան'!J24) -> 0 | K24: =SUM('Խ. Ղազարյան:Ս.Պետրոսյան'!K24) -> 0 | ... AO24: =SUM('Խ. Ղազարյան:Ս.Պետրոսյան'!AO24) -> 0
A25: 11.3 | B25: Փողերի լվացումը | C25: 296 | D25: =SUM('Խ. Ղազարյան:Ս.Պետրոսյան'!D25) -> 28 | E25: =SUM('Խ. Ղազարյան:Ս.Պետրոսյան'!E25) -> 0 | F25: =SUM('Խ. Ղազարյան:Ս.Պետրոսյան'!F25) -> 36 | G25: =SUM('Խ. Ղազարյան:Ս.Պետրոսյան'!G25) -> 6 | H25: =SUM('Խ. Ղազարյան:Ս.Պետրոսյան'!H25) -> 0 | I25: =SUM('Խ. Ղազարյան:Ս.Պետրոսյան'!I25) -> 0 | J25: =SUM('Խ. Ղազարյան:Ս.Պետրոսյան'!J25) -> 0 | K25: =SUM('Խ. Ղազարյան:Ս.Պետրոսյան'!K25) -> 1 | ... AO25: =SUM('Խ. Ղազարյան:Ս.Պետրոսյան'!AO25) -> 0
A26: 22.1 | B26: Կաշառք ստանալը | C26: 435 | D26: =SUM('Խ. Ղազարյան:Ս.Պետրոսյան'!D26) -> 104 | E26: =SUM('Խ. Ղազարյան:Ս.Պետրոսյան'!E26) -> 0 | F26: =SUM('Խ. Ղազարյան:Ս.Պետրոսյան'!F26) -> 84 | G26: =SUM('Խ. Ղազարյան:Ս.Պետրոսյան'!G26) -> 12 | H26: =SUM('Խ. Ղազարյան:Ս.Պետրոսյան'!H26) -> 0 | I26: =SUM('Խ. Ղազարյան:Ս.Պետրոսյան'!I26) -> 4 | J26: =SUM('Խ. Ղազարյան:Ս.Պետրոսյան'!J26) -> 0 | K26: =SUM('Խ. Ղազարյան:Ս.Պետրոսյան'!K26) -> 0 | ... AO26: =SUM('Խ. Ղազարյան:Ս.Պետրոսյան'!AO26) -> 0
A27: 22.2 | B27: Կաշառք տալը | C27: 436 | D27: =SUM('Խ. Ղազարյան:Ս.Պետրոսյան'!D27) -> 14 | E27: =SUM('Խ. Ղազարյան:Ս.Պետրոսյան'!E27) -> 0 | F27: =SUM('Խ. Ղազարյան:Ս.Պետրոսյան'!F27) -> 48 | G27: =SUM('Խ. Ղազարյան:Ս.Պետրոսյան'!G27) -> 1 | H27: =SUM('Խ. Ղազարյան:Ս.Պետրոսյան'!H27) -> 0 | I27: =SUM('Խ. Ղազարյան:Ս.Պետրոսյան'!I27) -> 5 | J27: =SUM('Խ. Ղազարյան:Ս.Պետրոսյան'!J27) -> 0 | K27: =SUM('Խ. Ղազարյան:Ս.Պետրոսյան'!K27) -> 0 | ... AO27: =SUM('Խ. Ղազարյան:Ս.Պետրոսյան'!AO27) -> 0
A28: 22.3 | B28: Կաշառքի միջնորդությունը | C28: 437 | D28: =SUM('Խ. Ղազարյան:Ս.Պետրոսյան'!D28) -> 0 | E28: =SUM('Խ. Ղազարյան:Ս.Պետրոսյան'!E28) -> 0 | F28: =SUM('Խ. Ղազարյան:Ս.Պետրոսյան'!F28) -> 0 | G28: =SUM('Խ. Ղազարյան:Ս.Պետրոսյան'!G28) -> 0 | H28: =SUM('Խ. Ղազարյան:Ս.Պետրոսյան'!H28) -> 0 | I28: =SUM('Խ. Ղազարյան:Ս.Պետրոսյան'!I28) -> 0 | J28: =SUM('Խ. Ղազարյան:Ս.Պետրոսյան'!J28) -> 0 | K28: =SUM('Խ. Ղազարյան:Ս.Պետրոսյան'!K28) -> 0 | ... AO28: =SUM('Խ. Ղազարյան:Ս.Պետրոսյան'!AO28) -> 0
A29: 22.4 | B29: Պաշտոնատար անձի նկատմամբ ունեցած իրական կամ ենթադրյալ ազդեցությունն օգտագործելը | C29: 438 | D29: =SUM('Խ. Ղազարյան:Ս.Պետրոսյան'!D29) -> 0 | E29: =SUM('Խ. Ղազարյան:Ս.Պետրոսյան'!E29) -> 0 | F29: =SUM('Խ. Ղազարյան:Ս.Պետրոսյան'!F29) -> 3 | G29: =SUM('Խ. Ղազարյան:Ս.Պետրոսյան'!G29) -> 0 | H29: =SUM('Խ. Ղազարյան:Ս.Պետրոսյան'!H29) -> 0 | I29: =SUM('Խ. Ղազարյան:Ս.Պետրոսյան'!I29) -> 1 | J29: =SUM('Խ. Ղազարյան:Ս.Պետրոսյան'!J29) -> 0 | K29: =SUM('Խ. Ղազարյան:Ս.Պետրոսյան'!K29) -> 0 | ... AO29: =SUM('Խ. Ղազարյան:Ս.Պետրոսյան'!AO29) -> 0
A30: 22.5 | B30: Պաշտոնատար անձի նկատմամբ ունեցած իրական կամ ենթադրյալ ազդեցությունն օգտագործելու նպատակով ապօրինի վարձատրություն տալը | C30: 439 | D30: =SUM('Խ. Ղազարյան:Ս.Պետրոսյան'!D30) -> 1 | E30: =SUM('Խ. Ղազարյան:Ս.Պետրոսյան'!E30) -> 0 | F30: =SUM('Խ. Ղազարյան:Ս.Պետրոսյան'!F30) -> 3 | G30: =SUM('Խ. Ղազարյան:Ս.Պետրոսյան'!G30) -> 1 | H30: =SUM('Խ. Ղազարյան:Ս.Պետրոսյան'!H30) -> 0 | I30: =SUM('Խ. Ղազարյան:Ս.Պետրոսյան'!I30) -> 1 | J30: =SUM('Խ. Ղազարյան:Ս.Պետրոսյան'!J30) -> 0 | K30: =SUM('Խ. Ղազարյան:Ս.Պետրոսյան'!K30) -> 0 | ... AO30: =SUM('Խ. Ղազարյան:Ս.Պետրոսյան'!AO30) -> 0
A31: 22.6 | B31: Կաշառք ստանալու, կաշառքի միջնորդության կամ իրական կամ ենթադրյալ ազդեցությունը շահադիտական, անձնական այլ շահագրգռվածությունից կամ խմբային շահերից ելնելով օգտագործելու պատրվակով գույք, ներառյալ դրամական միջոց, արժեթուղթ, վճարային այլ գործիք, գույքի նկատմամբ իրավունք, ծառայություն կամ որևէ այլ առավելություն ստանալը | C31: 440 | D31: =SUM('Խ. Ղազարյան:Ս.Պետրոսյան'!D31) -> 2 | E31: =SUM('Խ. Ղազարյան:Ս.Պետրոսյան'!E31) -> 0 | F31: =SUM('Խ. Ղազարյան:Ս.Պետրոսյան'!F31) -> 4 | G31: =SUM('Խ. Ղազարյան:Ս.Պետրոսյան'!G31) -> 0 | H31: =SUM('Խ. Ղազարյան:Ս.Պետրոսյան'!H31) -> 0 | I31: =SUM('Խ. Ղազարյան:Ս.Պետրոսյան'!I31) -> 0 | J31: =SUM('Խ. Ղազարյան:Ս.Պետրոսյան'!J31) -> 0 | K31: =SUM('Խ. Ղազարյան:Ս.Պետրոսյան'!K31) -> 0 | ... AO31: =SUM('Խ. Ղազարյան:Ս.Պետրոսյան'!AO31) -> 0
A32: 22.7 | B32: Պաշտոնատար անձի կողմից իշխանական կամ ծառայողական լիազորությունները կամ դրանցով պայմանավորված ազդեցությունը չարաշահելը կամ լիազորություններն անցնելը | C32: 441 | D32: =SUM('Խ. Ղազարյան:Ս.Պետրոսյան'!D32) -> 38 | E32: =SUM('Խ. Ղազարյան:Ս.Պետրոսյան'!E32) -> 0 | F32: =SUM('Խ. Ղազարյան:Ս.Պետրոսյան'!F32) -> 43 | G32: =SUM('Խ. Ղազարյան:Ս.Պետրոսյան'!G32) -> 6 | H32: =SUM('Խ. Ղազարյան:Ս.Պետրոսյան'!H32) -> 0 | I32: =SUM('Խ. Ղազարյան:Ս.Պետրոսյան'!I32) -> 0 | J32: =SUM('Խ. Ղազարյան:Ս.Պետրոսյան'!J32) -> 0 | K32: =SUM('Խ. Ղազարյան:Ս.Պետրոսյան'!K32) -> 1 | ... AO32: =SUM('Խ. Ղազարյան:Ս.Պետրոսյան'!AO32) -> 0
A33: 22.8 | B33: Պաշտոնատար անձի կողմից ձեռնարկատիրական գործունեությանն ապօրինի մասնակցելը | C33: 442 | D33: =SUM('Խ. Ղազարյան:Ս.Պետրոսյան'!D33) -> 0 | E33: =SUM('Խ. Ղազարյան:Ս.Պետրոսյան'!E33) -> 0 | F33: =SUM('Խ. Ղազարյան:Ս.Պետրոսյան'!F33) -> 0 | G33: =SUM('Խ. Ղազարյան:Ս.Պետրոսյան'!G33) -> 0 | H33: =SUM('Խ. Ղազարյան:Ս.Պետրոսյան'!H33) -> 0 | I33: =SUM('Խ. Ղազարյան:Ս.Պետրոսյան'!I33) -> 0 | J33: =SUM('Խ. Ղազարյան:Ս.Պետրոսյան'!J33) -> 0 | K33: =SUM('Խ. Ղազարյան:Ս.Պետրոսյան'!K33) -> 0 | ... AO33: =SUM('Խ. Ղազարյան:Ս.Պետրոսյան'!AO33) -> 0
A34: 22.9 | B34: Ապօրինի հարստանալը | C34: 443 | D34: =SUM('Խ. Ղազարյան:Ս.Պետրոսյան'!D34) -> 0 | E34: =SUM('Խ. Ղազարյան:Ս.Պետրոսյան'!E34) -> 0 | F34: =SUM('Խ. Ղազարյան:Ս.Պետրոսյան'!F34) -> 1 | G34: =SUM('Խ. Ղազարյան:Ս.Պետրոսյան'!G34) -> 0 | H34: =SUM('Խ. Ղազարյան:Ս.Պետրոսյան'!H34) -> 0 | I34: =SUM('Խ. Ղազարյան:Ս.Պետրոսյան'!I34) -> 0 | J34: =SUM('Խ. Ղազարյան:Ս.Պետրոսյան'!J34) -> 0 | K34: =SUM('Խ. Ղազարյան:Ս.Պետրոսյան'!K34) -> 0 | ... AO34: =SUM('Խ. Ղազարյան:Ս.Պետրոսյան'!AO34) -> 0
A35: 22.1 | B35: Հայաստանի Հանրապետության օրենսդրությամբ սահմանված` հայտարարագիր ներկայացնելու պարտականություն ունեցող անձի կողմից հայտարարագրում կեղծ տվյալներ ներկայացնելը, հայտարարագրման ենթակա տվյալները թաքցնելը կամ հայտարարագիր չներկայացնելը | C35: 444 | D35: =SUM('Խ. Ղազարյան:Ս.Պետրոսյան'!D35) -> 0 | E35: =SUM('Խ. Ղազարյան:Ս.Պետրոսյան'!E35) -> 0 | F35: =SUM('Խ. Ղազարյան:Ս.Պետրոսյան'!F35) -> 8 | G35: =SUM('Խ. Ղազարյան:Ս.Պետրոսյան'!G35) -> 0 | H35: =SUM('Խ. Ղազարյան:Ս.Պետրոսյան'!H35) -> 0 | I35: =SUM('Խ. Ղազարյան:Ս.Պետրոսյան'!I35) -> 0 | J35: =SUM('Խ. Ղազարյան:Ս.Պետրոսյան'!J35) -> 0 | K35: =SUM('Խ. Ղազարյան:Ս.Պետրոսյան'!K35) -> 0 | ... AO35: =SUM('Խ. Ղազարյան:Ս.Պետրոսյան'!AO35) -> 0
A36: 22.11 | B36: Պաշտոնեական կեղծիքը | C36: 445 | D36: =SUM('Խ. Ղազարյան:Ս.Պետրոսյան'!D36) -> 17 | E36: =SUM('Խ. Ղազարյան:Ս.Պետրոսյան'!E36) -> 0 | F36: =SUM('Խ. Ղազարյան:Ս.Պետրոսյան'!F36) -> 22 | G36: =SUM('Խ. Ղազարյան:Ս.Պետրոսյան'!G36) -> 2 | H36: =SUM('Խ. Ղազարյան:Ս.Պետրոսյան'!H36) -> 0 | I36: =SUM('Խ. Ղազարյան:Ս.Պետրոսյան'!I36) -> 1 | J36: =SUM('Խ. Ղազարյան:Ս.Պետրոսյան'!J36) -> 0 | K36: =SUM('Խ. Ղազարյան:Ս.Պետրոսյան'!K36) -> 0 | ... AO36: =SUM('Խ. Ղազարյան:Ս.Պետրոսյան'!AO36) -> 0
... A40: 24.1 | B40: Ակնհայտ անարդար դատավճիռ, վճիռ կամ դատական այլ ակտ կայացնելը | C40: 482 | D40: =SUM('Խ. Ղազարյան:Ս.Պետրոսյան'!D40) -> 0 | E40: =SUM('Խ. Ղազարյան:Ս.Պետրոսյան'!E40) -> 0 | F40: =SUM('Խ. Ղազարյան:Ս.Պետրոսյան'!F40) -> 0 | G40: =SUM('Խ. Ղազարյան:Ս.Պետրոսյան'!G40) -> 0 | H40: =SUM('Խ. Ղազարյան:Ս.Պետրոսյան'!H40) -> 0 | I40: =SUM('Խ. Ղազարյան:Ս.Պետրոսյան'!I40) -> 0 | J40: =SUM('Խ. Ղազարյան:Ս.Պետրոսյան'!J40) -> 0 | K40: =SUM('Խ. Ղազարյան:Ս.Պետրոսյան'!K40) -> 0 | ... AO40: =SUM('Խ. Ղազարյան:Ս.Պետրոսյան'!AO40) -> 0
A41: 24.1.1 | B41: Արդարադատության իրականացմանը կամ գործի քննությանը միջամտելը՝ որը կատարվել է իշխանական կամ ծառայողական լիազորությունները կամ դրանցով պայմանավորված ազդեցությունն օգտագործելով, | C41: 486 hոդ. 2-րդ մաս. 2-րդ կետ. | D41: =SUM('Խ. Ղազարյան:Ս.Պետրոսյան'!D41) -> 0 | E41: =SUM('Խ. Ղազարյան:Ս.Պետրոսյան'!E41) -> 0 | F41: =SUM('Խ. Ղազարյան:Ս.Պետրոսյան'!F41) -> 0 | G41: =SUM('Խ. Ղազարյան:Ս.Պետրոսյան'!G41) -> 0 | H41: =SUM('Խ. Ղազարյան:Ս.Պետրոսյան'!H41) -> 0 | I41: =SUM('Խ. Ղազարյան:Ս.Պետրոսյան'!I41) -> 0 | J41: =SUM('Խ. Ղազարյան:Ս.Պետրոսյան'!J41) -> 0 | K41: =SUM('Խ. Ղազարյան:Ս.Պետրոսյան'!K41) -> 0 | ... AO41: =SUM('Խ. Ղազարյան:Ս.Պետրոսյան'!AO41) -> 0
A42: 24.1.2 | B42: Արդարադատության իրականացմանը կամ գործի քննությանը միջամտելը՝ եթե կատարվել է իշխանական կամ ծառայողական լիազորությունները կամ դրանցով պայմանավորված ազդեցությունն օգտագործելով | C42: 486 hոդ. 3-րդ մաս. | D42: =SUM('Խ. Ղազարյան:Ս.Պետրոսյան'!D42) -> 0 | E42: =SUM('Խ. Ղազարյան:Ս.Պետրոսյան'!E42) -> 0 | F42: =SUM('Խ. Ղազարյան:Ս.Պետրոսյան'!F42) -> 0 | G42: =SUM('Խ. Ղազարյան:Ս.Պետրոսյան'!G42) -> 0 | H42: =SUM('Խ. Ղազարյան:Ս.Պետրոսյան'!H42) -> 0 | I42: =SUM('Խ. Ղազարյան:Ս.Պետրոսյան'!I42) -> 0 | J42: =SUM('Խ. Ղազարյան:Ս.Պետրոսյան'!J42) -> 0 | K42: =SUM('Խ. Ղազարյան:Ս.Պետրոսյան'!K42) -> 0 | ... AO42: =SUM('Խ. Ղազարյան:Ս.Պետրոսյան'!AO42) -> 0
A43: 24.24 | B43: Դատավարության մասնակիցներին՝ իրենց լիազորությունների հետ կապված կաշառք տալը | C43: 496 | D43: =SUM('Խ. Ղազարյան:Ս.Պետրոսյան'!D43) -> 0 | E43: =SUM('Խ. Ղազարյան:Ս.Պետրոսյան'!E43) -> 0 | F43: =SUM('Խ. Ղազարյան:Ս.Պետրոսյան'!F43) -> 1 | G43: =SUM('Խ. Ղազարյան:Ս.Պետրոսյան'!G43) -> 0 | H43: =SUM('Խ. Ղազարյան:Ս.Պետրոսյան'!H43) -> 0 | I43: =SUM('Խ. Ղազարյան:Ս.Պետրոսյան'!I43) -> 0 | J43: =SUM('Խ. Ղազարյան:Ս.Պետրոսյան'!J43) -> 0 | K43: =SUM('Խ. Ղազարյան:Ս.Պետրոսյան'!K43) -> 0 | ... AO43: =SUM('Խ. Ղազարյան:Ս.Պետրոսյան'!AO43) -> 0
A44: 24.25 | B44: Դատավարության մասնակիցների կողմից իրենց լիազորությունների հետ կապված կաշառք ստանալը | C44: 497 | D44: =SUM('Խ. Ղազարյան:Ս.Պետրոսյան'!D44) -> 0 | E44: =SUM('Խ. Ղազարյան:Ս.Պետրոսյան'!E44) -> 0 | F44: =SUM('Խ. Ղազարյան:Ս.Պետրոսյան'!F44) -> 0 | G44: =SUM('Խ. Ղազարյան:Ս.Պետրոսյան'!G44) -> 0 | H44: =SUM('Խ. Ղազարյան:Ս.Պետրոսյան'!H44) -> 0 | I44: =SUM('Խ. Ղազարյան:Ս.Պետրոսյան'!I44) -> 0 | J44: =SUM('Խ. Ղազարյան:Ս.Պետրոսյան'!J44) -> 0 | K44: =SUM('Խ. Ղազարյան:Ս.Պետրոսյան'!K44) -> 0 | ... AO44: =SUM('Խ. Ղազարյան:Ս.Պետրոսյան'!AO44) -> 0
A45: 29.1 | B45: Իշխանազանցությունը կամ իշխանությունը չարաշահելը | C45: 549 | D45: =SUM('Խ. Ղազարյան:Ս.Պետրոսյան'!D45) -> 9 | E45: =SUM('Խ. Ղազարյան:Ս.Պետրոսյան'!E45) -> 0 | F45: =SUM('Խ. Ղազարյան:Ս.Պետրոսյան'!F45) -> 12 | G45: =SUM('Խ. Ղազարյան:Ս.Պետրոսյան'!G45) -> 2 | H45: =SUM('Խ. Ղազարյան:Ս.Պետրոսյան'!H45) -> 0 | I45: =SUM('Խ. Ղազարյան:Ս.Պետրոսյան'!I45) -> 0 | J45: =SUM('Խ. Ղազարյան:Ս.Պետրոսյան'!J45) -> 0 | K45: =SUM('Խ. Ղազարյան:Ս.Պետրոսյան'!K45) -> 0 | ... AO45: =SUM('Խ. Ղազարյան:Ս.Պետրոսյան'!AO45) -> 0
A46: 30 | B46: Այլ հանցագործւթյուններ | D46: =SUM('Խ. Ղազարյան:Ս.Պետրոսյան'!D46) -> 4 | E46: =SUM('Խ. Ղազարյան:Ս.Պետրոսյան'!E46) -> 0 | F46: =SUM('Խ. Ղազարյան:Ս.Պետրոսյան'!F46) -> 4 | G46: =SUM('Խ. Ղազարյան:Ս.Պետրոսյան'!G46) -> 1 | H46: =SUM('Խ. Ղազարյան:Ս.Պետրոսյան'!H46) -> 0 | I46: =SUM('Խ. Ղազարյան:Ս.Պետրոսյան'!I46) -> 0 | J46: =SUM('Խ. Ղազարյան:Ս.Պետրոսյան'!J46) -> 0 | K46: =SUM('Խ. Ղազարյան:Ս.Պետրոսյան'!K46) -> 0 | ... AO46: =SUM('Խ. Ղազարյան:Ս.Պետրոսյան'!AO46) -> 0
B47: Ընդամենը | D47: =SUM(D7:D46) -> 305 | E47: =SUM(E7:E46) -> 0 | F47: =SUM(F7:F46) -> 371 | G47: =SUM(G7+G8+G9+G10+G11+G12+G13+G14+G15+G16+G17+G18+G19+G20+G21+G22+G23+G24+G25+G26+G27+G28+G29+G30+G31+G32+G33+G34+G35+G36+G37+G38+G39+G40+G41+G42+G43+G44+G45+G46) -> 45 | H47: =SUM(H7+H8+H9+H10+H11+H12+H13+H14+H15+H16+H17+H18+H19+H20+H21+H22+H23+H24+H25+H26+H27+H28+H29+H30+H31+H32+H33+H34+H35+H36+H37+H38+H39+H40+H41+H42+H43+H44+H45+H46) -> 0 | I47: =SUM(I7+I8+I9+I10+I11+I12+I13+I14+I15+I16+I17+I18+I19+I20+I21+I22+I23+I24+I25+I26+I27+I28+I29+I30+I31+I32+I33+I34+I35+I36+I37+I38+I39+I40+I41+I42+I43+I44+I45+I46) -> 19 | J47: =SUM(J7+J8+J9+J10+J11+J12+J13+J14+J15+J16+J17+J18+J19+J20+J21+J22+J23+J24+J25+J26+J27+J28+J29+J30+J31+J32+J33+J34+J35+J36+J37+J38+J39+J40+J41+J42+J43+J44+J45+J46) -> 0 | K47: =SUM(K7+K8+K9+K10+K11+K12+K13+K14+K15+K16+K17+K18+K19+K20+K21+K22+K23+K24+K25+K26+K27+K28+K29+K30+K31+K32+K33+K34+K35+K36+K37+K38+K39+K40+K41+K42+K43+K44+K45+K46) -> 2 | L47: =SUM(L7+L8+L9+L10+L11+L12+L13+L14+L15+L16+L17+L18+L19+L20+L21+L22+L23+L24+L25+L26+L27+L28+L29+L30+L31+L32+L33+L34+L35+L36+L37+L38+L39+L40+L41+L42+L43+L44+L45+L46) -> 140 | M47: =SUM(M7+M8+M9+M10+M11+M12+M13+M14+M15+M16+M17+M18+M19+M20+M21+M22+M23+M24+M25+M26+M27+M28+M29+M30+M31+M32+M33+M34+M35+M36+M37+M38+M39+M40+M41+M42+M43+M44+M45+M46) -> 13 | N47: =SUM(N7+N8+N9+N10+N11+N12+N13+N14+N15+N16+N17+N18+N19+N20+N21+N22+N23+N24+N25+N26+N27+N28+N29+N30+N31+N32+N33+N34+N35+N36+N37+N38+N39+N40+N41+N42+N43+N44+N45+N46) -> 0 | ... AG47: =SUM(AG7+AG8+AG9+AG10+AG11+AG12+AG13+AG14+AG15+AG16+AG17+AG18+AG19+AG20+AG21+AG22+AG23+AG24+AG25+AG26+AG27+AG28+AG29+AG30+AG31+AG32+AG33+AG34+AG35+AG36+AG37+AG38+AG39+AG40+AG41+AG42+AG43+AG44+AG45+AG46) -> 36 | AH47: =D47+F47 -> 676 | AI47: =G47+O47+T47+V47 -> 665 | AJ47: =O47 -> 153 | AK47: =SUM(L47:N47) -> 153 | AL47: =AB47 -> 349 | AM47: =SUM(X47:AA47) -> 349 | AN47: =AG47 -> 36 | AO47: 36
B48: Ծանոթացում Ա. Գրիգորյանի թիվ ՀԿԴ/0122/01/25 գործը վիճ. տող 22.1 միացել է Ա. Գրիգորյանի թիվ ՀԿԴ/0094/01/25 գործին վիճ. տող 11.30
B49: Ծանոթացում Ս.Դադոյանի թիվ ՀԿԴ/0054/01/25 գործը վիճ. տող 9.5.2 միացել է Ս. Դադոյանի թիվ ՀԿԴ/0264/01/24 գործին վիճ տող 9.5.2
B50: Ծանոթացում Վ.Ստեփանյանի թիվ ՀԿԴ/0211/01/25 գործը վիճ տող 22.1 միացել է Վ. Դոլմազյանի թիվ ՀԿԴ/0280/01/23 գործին վիճ տող 22.1
B51: Ծանոթացում Մ. Մոսինյանի թիվ ՀԿԴ/0027/01/24 գործը վիճ. տող 22.2 միացել է Մ. Մոսինյանի թիվ ՀԿԴ1/0005/01/22 գործին վիճ. տող 11.1
B52: Ծանոթացում Մ.Մոսինյանի թիվ ՀԿԴ/0162/01/25 գործը վիճ. տող 22.1 միացել է Մ.Մոսինյանի թիվ ՀԿԴ/0124/01/25 գործին վիճ. տող 22.1
B53: Ծանոթացում Ա. Գրիգորյանի թիվ ՀԿԴ/0214/01/24 գործը վիճ. տող 9.5.2 միացել է Մ. Մոսինյանի թիվ ՀԿԴ/0127/01/24 գործին վիճ. տող 9.5.1
B54: Ծանոթացում Խ.Ղազարյանի թիվ ՀԿԴ/0139/01/25 գործը վիճ տող 22.1 միացել է Վ. Ստեփանյանի թիվ ՀԿԴ/0130/01/24 գործին վիճ տող 22.1
B55: Ծանոթացում Վ. Սարգսյանի թիվ ՀԿԴ/0272/01/25 գործը վիճ տող 11.30 միացել է Վ. Ստեփանյանի թիվ ՀԿԴ/0210/01/25 գործին վիճ տող 11.30
B56: Ծանոթացում Ս. Պետրոսյանի թիվ ՀԿԴ/0293/01/25 գործը վիճ տող 22.1 միացել է Ս. Պետրոսյանի թիվ ՀԿԴ/0225/01/25 գործին վիճ տող 22.2
B57: Ծանոթացում Մ.Մոսինյանի թիվ ՀԿԴ/0232/01/25 գործը վիճ. տող 11.30 միացել է Ս. Պետրոսյանի թիվ ՀԿԴ/0236/01/25 գործին վիճ. տող 11.30
B58: Ծանոթացում Մ.Մոսինյանի թիվ ՀԿԴ/0129/01/25 գործը վիճ. տող 9.4.2 միացել է Մ.Մոսինյանի թիվ ՀԿԴ/0244/01/24 գործին վիճ. տող 11.30

Sheet Խ. Ղազարյան
AE1: Հավելված 2 Բարձրագույն դատական խորհրդի 2022թվականի դեկտեմբերի 26-ի թիվ ԲԴԽ-122-Ո-408 որոշման
A2: 2025 ԹՎԱԿԱՆԻ ՏԱՐԵԿԱՆ ՀԱՇՎԵՏՎՈՒԹՅՈՒՆ ՀԱԿԱԿՈՌՈՒՊՑԻՈՆ ԴԱՏԱՐԱՆԻ ԴԱՏԱՎՈՐ ԽԱՉԻԿ ՂԱԶԱՐՅԱՆԻ ԳՈՐԾՈՒՆԵՈՒԹՅԱՆ ՎԵՐԱԲԵՐՅԱԼ
A3: Ստուգիչ հավասարումներ` 1+3=4+12+17+19, 12= 9+10+11, 25=21+22+23+24, 30=25+26+27+28+29 | C3: ՀՀ քրեական օրենսգրքի հոդվածներ | D3: Հաշվետու ժամանակահատվածի սկզբում նախորդ հաշվետու ժամանակահատվածից փոխանցված գործերի ընդհանուր թիվը | E3: Այդ թվում` կասեցված վիճակում փոխանցված | F3: Հաշվետու ժամանակահատվածում ստացված գործերի ընդհանուր թիվը | G3: փոխանցվել թ այլ դատավորի (վերաբաշխում) | H3: Որոշում է կայացվել քրեական գործը վերադարձնել հսկող դատախազին | I3: քանի գործով է կիրառվել համաձայնեցման վարույթ | J3: քանի գործով է կիրառվել համագործակցության վարույթ | K3: Հաշվետու ժամանակաշրջանում կայացվել է վերդիկտ | L3: Հաշվետու ժամանակաշրջանում կայացվել է դատավճիռ | M3: քրեական վարույթը կարճելու մաuին որոշում | N3: Հաշվետու ժամանակաշրջանում կայացվել է բժշկական հարկադրանքի դատավճիռ /ՀՀ ՔՐ. ԴԱՏ. ՕՐ. 432-ՐԴ ՀՈԴՎԱԾ/ | O3: ընդամենը | P3: Հաշվետու ժամանակահատվածում ավարտված գործերի ընդհանուր թիվը /ՀՀ ՔՐ. ԴԱՏ. ՕՐ. 14-ՐԴ ՀՈԴՎԱԾ/ | T3: Ուղարկվել է ըստ ընդդատության | U3: Հաշվետու ժամանակահատվածում կասեցված վարույթներով գործերի ընդհանուր թիվը | V3: Հաշվետու ժամանակահատվածում անավարտ գործերի ընդհանուր թիվը | W3: Այդ թվում՝ կասեցված | X3: Բողոքարկված վարութային ակտերի թիվը` ըստ տեսակների | AB3: ընդամենը բողոքարկվել են ակտեր | AC3: Բեկանված և փոփոխված ակտերի թիվը` ըստ տեսակների | AG3: ընդամենը բեկանվել են ակտեր
P4: քրեական վարույթը կարճելու մաuին որոշումն ուժի մեջ մտնելով. | Q4: Եզրափակիչ դատական ակտն ուժի մեջ է մտել | R4: Եզրափակիչ դատական ակտը հանձնվել է կատարման | S4: ավարտվել են քրեական գործեր | X4: Այդ թվում` եզրափակիչ դատական ակտերը | Z4: Այդ թվում` եզրափակիչ դատավարական ակտերը | AC4: Այդ թվում` եզրափակիչ դատական ակտերը | AE4: Այդ թվում` եզրափակիչ դատավարական ակտերը
X5: նախորդ տարիների կայացված ակտերի բողոքարկումը | Y5: հաշվետու ժամանակահատվածում կայացված ակտերի բողոքարկումը | Z5: նախորդ տարիների կայացված ակտերի բողոքարկումը | AA5: հաշվետու ժամանակահատվածում կայացված ակտերի բողոքարկումը | AC5: նախորդ տարիների կայացված ակտերի բողոքարկումը | AD5: հաշվետու ժամանակահատվածում կայացված ակտերի բողոքարկումը | AE5: նախորդ տարիների կայացված ակտերի բողոքարկումը | AF5: հաշվետու ժամանակահատվածում կայացված ակտերի բողոքարկումը
B6: Կոռուպցիոն հանցագործություններ | D6: 1 | E6: 2 | F6: 3 | G6: 4 | H6: 5 | I6: 6 | J6: 7 | K6: 8 | L6: 9 | M6: 10 | N6: 11 | O6: 12 | P6: 13 | Q6: 14 | R6: 15 | S6: 16 | T6: 17 | U6: 18 | V6: 19 | W6: 20 | X6: 21 | Y6: 22 | Z6: 23 | AA6: 24 | AB6: 25 | AC6: 26 | AD6: 27 | AE6: 28 | AF6: 29 | AG6: 30
A7: 9.4.1 | B7: Խարդախությունը՝ իշխանական կամ ծառայողական լիազորությունները կամ դրանցով պայմանավորված ազդեցությունն օգտագործելով | C7: 255 հ. 2-րդ մաս. 2-րդ կետ | F7: 1 | V7: 1 | X7: 1 | AB7: 1
A8: 9.4.2 | B8: Խարդախությունը՝ եթե կատարվել է իշխանական կամ ծառայողական լիազորությունները կամ դրանցով պայմանավորված ազդեցությունն օգտագործելով | C8: 255 հ. 3-րդ մաս. | F8: 1 | V8: 1 | AA8: 2 | AB8: 2
A9: 9.5.1 | B9: Վստահված գույքը հափշտակելը՝ իշխանական կամ ծառայողական լիազորությունները կամ դրանցով պայմանավորված ազդեցությունն օգտագործելով, | C9: 256 հ. 2-րդ մաս. 2-րդ կետ | D9: 1 | F9: 1 | L9: 2 | O9: 2 | X9: 3 | Y9: 1 | AB9: 4 | AC9: 2 | AG9: 2
A10: 9.5.2 | B10: Վստահված գույքը հափշտակելը՝ եթե կատարվել է իշխանական կամ ծառայողական լիազորությունները կամ դրանցով պայմանավորված ազդեցությունն օգտագործելով | C10: 256 հ. 3-րդ մաս. | D10: 3 | L10: 1 | O10: 1 | V10: 2 | Y10: 1 | AB10: 1
A11: 10.1.1 | B11: Շորթումը՝ իշխանական կամ ծառայողական լիազորությունները կամ դրանցով պայմանավորված ազդեցությունն օգտագործելով | C11: 258 հ. 2-րդ մաս. 9-րդ կետ
A12: 10.1.2 | B12: Շորթումը՝ եթե կատարվել է իշխանական կամ ծառայողական լիազորությունները կամ դրանցով պայմանավորված ազդեցությունն օգտագործելով | C12: 258 հ. 3-րդ մաս.
A13: 11.2.1 | B13: Ներքին տեղեկությունների անբարեխիղճ օգտագործումը՝ իշխանական կամ ծառայողական լիազորությունները կամ դրանցով պայմանավորված ազդեցությունն օգտագործելով | C13: 268 հ. 3-րդ մաս. 2-րդ. կետ
A14: 11.3.1 | B14: Արժեթղթերի շուկայում գնային չարաշահումը՝ իշխանական կամ ծառայողական լիազորությունները կամ դրանցով պայմանավորված ազդեցությունն օգտագործելով | C14: 269 հ. 3-րդ մաս. 3-րդ. կետ
A15: 11.6 | B15: Մասնավոր ոլորտում կաշառք ստանալը | C15: 272
A16: 11.7 | B16: Մասնավոր ոլորտում կաշառք տալը | C16: 273
A17: 11.8 | B17: Հայաստանի Հանրապետության կամ այլ պետության մարզիկի, մրցավարի, թիմի ղեկավարի, մարզչի, արհեստավարժ մարզամրցման այլ մասնակցի կամ դրա կազմակերպչի, հանդիսադիր առևտրային մրցույթի մասնակցի կամ դրա կազմակերպչի կամ մրցանակաբաշխային հանձնաժողովի անդամի կողմից կաշառք ստանալը | C17: 274
A18: 11.9 | B18: Հայաստանի Հանրապետության կամ այլ պետության մարզիկին, մրցավարին, թիմի ղեկավարին, մարզչին, արհեստավարժ մարզամրցման այլ մասնակցի կամ դրա կազմակերպչին, հանդիսադիր առևտրային մրցույթի մասնակցին կամ դրա կազմակերպչին կամ մրցանակաբաշխային հանձնաժողովի անդամին կաշառք տալը | C18: 275
A19: 11.1 | B19: Ծառայողական կամ մասնագիտական պարտականությունները կատարելու համար ապօրինի վարձատրություն ստանալը կամ պահանջելը | C19: 276
A20: 11.11 | B20: Մասնավոր ոլորտում ծառայողական լիազորությունները կամ դրանցով պայմանավորված ազդեցությունը չարաշահելը | C20: 277
A21: 11.16.1 | B21: Ֆինանսական բուրգ ստեղծելը, կազմակերպելը կամ ղեկավարելը՝ իշխանական կամ ծառայողական լիազորությունները կամ դրանցով պայմանավորված ազդեցությունն օգտագործելով. | C21: 282հ. 2-րդ մաս. 2-րդ կետ
A22: 11.16.2 | B22: Ֆինանսական բուրգ ստեղծելը,եթե կատարվել է իշխանական կամ ծառայողական լիազորությունները կամ դրանցով պայմանավորված ազդեցությունն օգտագործելով | C22: 282հ. 3-րդ մաս.
A23: 11.18.1 | B23: Հակամրցակցային գործունեությունը՝ իշխանական կամ ծառայողական լիազորությունները կամ դրանցով պայմանավորված ազդեցությունն օգտագործելով | C23: 284հ 2-րդ մաս. 2-րդ կետ
A24: 11.18.2 | B24: Հակամրցակցային գործունեությունը՝ եթե կատարվել է իշխանական կամ ծառայողական լիազորությունները կամ դրանցով պայմանավորված ազդեցությունն օգտագործելով | C24: 284հ 3-րդ մաս.
A25: 11.3 | B25: Փողերի լվացումը | C25: 296 | D25: 1 | F25: 5 | V25: 6 | AA25: 5 | AB25: 5
A26: 22.1 | B26: Կաշառք ստանալը | C26: 435 | D26: 8 | F26: 4 | G26: 1 | L26: 4 | O26: 4 | R26: 2 | S26: 2 | V26: 7 | Y26: 3 | Z26: 2 | AA26: 4 | AB26: 9
A27: 22.2 | B27: Կաշառք տալը | C27: 436 | F27: 3 | L27: 2 | O27: 2 | R27: 1 | S27: 1 | V27: 1
A28: 22.3 | B28: Կաշառքի միջնորդությունը | C28: 437
A29: 22.4 | B29: Պաշտոնատար անձի նկատմամբ ունեցած իրական կամ ենթադրյալ ազդեցությունն օգտագործելը | C29: 438
A30: 22.5 | B30: Պաշտոնատար անձի նկատմամբ ունեցած իրական կամ ենթադրյալ ազդեցությունն օգտագործելու նպատակով ապօրինի վարձատրություն տալը | C30: 439
A31: 22.6 | B31: Կաշառք ստանալու, կաշառքի միջնորդության կամ իրական կամ ենթադրյալ ազդեցությունը շահադիտական, անձնական այլ շահագրգռվածությունից կամ խմբային շահերից ելնելով օգտագործելու պատրվակով գույք, ներառյալ դրամական միջոց, արժեթուղթ, վճարային այլ գործիք, գույքի նկատմամբ իրավունք, ծառայություն կամ որևէ այլ առավելություն ստանալը | C31: 440
A32: 22.7 | B32: Պաշտոնատար անձի կողմից իշխանական կամ ծառայողական լիազորությունները կամ դրանցով պայմանավորված ազդեցությունը չարաշահելը կամ լիազորություններն անցնելը | C32: 441 | F32: 4 | L32: 2 | O32: 2 | R32: 2 | S32: 2 | V32: 2 | Y32: 1 | AB32: 1
A33: 22.8 | B33: Պաշտոնատար անձի կողմից ձեռնարկատիրական գործունեությանն ապօրինի մասնակցելը | C33: 442
A34: 22.9 | B34: Ապօրինի հարստանալը | C34: 443
A35: 22.1 | B35: Հայաստանի Հանրապետության օրենսդրությամբ սահմանված` հայտարարագիր ներկայացնելու պարտականություն ունեցող անձի կողմից հայտարարագրում կեղծ տվյալներ ներկայացնելը, հայտարարագրման ենթակա տվյալները թաքցնելը կամ հայտարարագիր չներկայացնելը | C35: 444
A36: 22.11 | B36: Պաշտոնեական կեղծիքը | C36: 445 | F36: 2 | V36: 2 | X36: 1 | AB36: 1 | AC36: 1 | AG36: 1
A37: 24.5 | B37: Կաշառքի կամ մասնավոր ոլորտում կաշառքի պրովոկացիան | C37: 477
A38: 24.8 | B38: Ակնհայտ անմեղ անձին քրեական պատասխանատվության ենթարկելը | C38: 480
A39: 24.9 | B39: Քրեական պատասխանատվությունից ապօրինի ազատելը | C39: 481
A40: 24.1 | B40: Ակնհայտ անարդար դատավճիռ, վճիռ կամ դատական այլ ակտ կայացնելը | C40: 482
A41: 24.1.1 | B41: Արդարադատության իրականացմանը կամ գործի քննությանը միջամտելը՝ որը կատարվել է իշխանական կամ ծառայողական լիազորությունները կամ դրանցով պայմանավորված ազդեցությունն օգտագործելով, | C41: 486 hոդ. 2-րդ մաս. 2-րդ կետ.
A42: 24.1.2 | B42: Արդարադատության իրականացմանը կամ գործի քննությանը միջամտելը՝ եթե կատարվել է իշխանական կամ ծառայողական լիազորությունները կամ դրանցով պայմանավորված ազդեցությունն օգտագործելով | C42: 486 hոդ. 3-րդ մաս.
A43: 24.24 | B43: Դատավարության մասնակիցներին՝ իրենց լիազորությունների հետ կապված կաշառք տալը | C43: 496 | F43: 1 | V43: 1
A44: 24.25 | B44: Դատավարության մասնակիցների կողմից իրենց լիազորությունների հետ կապված կաշառք ստանալը | C44: 497
A45: 29.1 | B45: Իշխանազանցությունը կամ իշխանությունը չարաշահելը | C45: 549 | D45: 1 | F45: 1 | V45: 2 | AA45: 2 | AB45: 2
A46: 30 | B46: Այլ հանցագործւթյուններ
B47: Ընդամենը | D47: =SUM(D7+D8+D9+D10+D11+D12+D13+D14+D15+D16+D17+D18+D19+D20+D21+D22+D23+D24+D25+D26+D27+D28+D29+D30+D31+D32+D33+D34+D35+D36+D37+D38+D39+D40+D41+D42+D43+D44+D45+D46) -> 14 | E47: =SUM(E7+E8+E9+E10+E11+E12+E13+E14+E15+E16+E17+E18+E19+E20+E21+E22+E23+E24+E25+E26+E27+E28+E29+E30+E31+E32+E33+E34+E35+E36+E37+E38+E39+E40+E41+E42+E43+E44+E45+E46) -> 0 | F47: =SUM(F7+F8+F9+F10+F11+F12+F13+F14+F15+F16+F17+F18+F19+F20+F21+F22+F23+F24+F25+F26+F27+F28+F29+F30+F31+F32+F33+F34+F35+F36+F37+F38+F39+F40+F41+F42+F43+F44+F45+F46) -> 23 | G47: =SUM(G7+G8+G9+G10+G11+G12+G13+G14+G15+G16+G17+G18+G19+G20+G21+G22+G23+G24+G25+G26+G27+G28+G29+G30+G31+G32+G33+G34+G35+G36+G37+G38+G39+G40+G41+G42+G43+G44+G45+G46) -> 1 | H47: =SUM(H7+H8+H9+H10+H11+H12+H13+H14+H15+H16+H17+H18+H19+H20+H21+H22+H23+H24+H25+H26+H27+H28+H29+H30+H31+H32+H33+H34+H35+H36+H37+H38+H39+H40+H41+H42+H43+H44+H45+H46) -> 0 | I47: =SUM(I7+I8+I9+I10+I11+I12+I13+I14+I15+I16+I17+I18+I19+I20+I21+I22+I23+I24+I25+I26+I27+I28+I29+I30+I31+I32+I33+I34+I35+I36+I37+I38+I39+I40+I41+I42+I43+I44+I45+I46) -> 0 | J47: =SUM(J7+J8+J9+J10+J11+J12+J13+J14+J15+J16+J17+J18+J19+J20+J21+J22+J23+J24+J25+J26+J27+J28+J29+J30+J31+J32+J33+J34+J35+J36+J37+J38+J39+J40+J41+J42+J43+J44+J45+J46) -> 0 | K47: =SUM(K7+K8+K9+K10+K11+K12+K13+K14+K15+K16+K17+K18+K19+K20+K21+K22+K23+K24+K25+K26+K27+K28+K29+K30+K31+K32+K33+K34+K35+K36+K37+K38+K39+K40+K41+K42+K43+K44+K45+K46) -> 0 | ... AG47: =SUM(AG7+AG8+AG9+AG10+AG11+AG12+AG13+AG14+AG15+AG16+AG17+AG18+AG19+AG20+AG21+AG22+AG23+AG24+AG25+AG26+AG27+AG28+AG29+AG30+AG31+AG32+AG33+AG34+AG35+AG36+AG37+AG38+AG39+AG40+AG41+AG42+AG43+AG44+AG45+AG46) -> 3
B49: (18.04.2003թ. ընդունված և 01.08.2003թ. ուժի մեջ մտած քրեական օրենսգրքով) դատավորին նախորդ հաշվետու ժամանակահատվածից փոխանցվել է 2, հաշվետու ժամանակահատվածում ստացվել է 2, կայացվել է դատավճիռ 2, կարճվել է 0, բժշկական բնույթի հարկադրանքի միջոց 0, ընդդատություն- 0, միացում - 0, վերաբաշխվել է 1, հաշվետու ժամանակաշրջանում անավարտ գործեր 1-ը:

Sheet Ա. Գրիգորյան
AE1: Հավելված 2 Բարձրագույն դատական խորհրդի 2022թվականի դեկտեմբերի 26-ի թիվ ԲԴԽ-122-Ո-408 որոշման
A2: 2025 ԹՎԱԿԱՆԻ ՏԱՐԵԿԱՆ ՀԱՇՎԵՏՎՈՒԹՅՈՒՆ ՀԱԿԱԿՈՌՈՒՊՑԻՈՆ ԴԱՏԱՐԱՆԻ ԴԱՏԱՎՈՐ ԱՐԱՄ ԳՐԻԳՈՐՅԱՆԻ ԳՈՐԾՈՒՆԵՈՒԹՅԱՆ ՎԵՐԱԲԵՐՅԱԼ
A3: Ստուգիչ հավասարումներ` 1+3=4+12+17+19, 12= 9+10+11, 25=21+22+23+24, 30=25+26+27+28+29 | C3: ՀՀ քրեական օրենսգրքի հոդվածներ | D3: Հաշվետու ժամանակահատվածի սկզբում նախորդ հաշվետու ժամանակահատվածից փոխանցված գործերի ընդհանուր թիվը | E3: Այդ թվում` կասեցված վիճակում փոխանցված | F3: Հաշվետու ժամանակահատվածում ստացված գործերի ընդհանուր թիվը | G3: փոխանցվել թ այլ դատավորի (վերաբաշխում) | H3: Որոշում է կայացվել քրեական գործը վերադարձնել հսկող դատախազին | I3: քանի գործով է կիրառվել համաձայնեցման վարույթ | J3: քանի գործով է կիրառվել համագործակցության վարույթ | K3: Հաշվետու ժամանակաշրջանում կայացվել է վերդիկտ | L3: Հաշվետու ժամանակաշրջանում կայացվել է դատավճիռ | M3: քրեական վարույթը կարճելու մաuին որոշում | N3: Հաշվետու ժամանակաշրջանում կայացվել է բժշկական հարկադրանքի դատավճիռ /ՀՀ ՔՐ. ԴԱՏ. ՕՐ. 432-ՐԴ ՀՈԴՎԱԾ/ | O3: ընդամենը | P3: Հաշվետու ժամանակահատվածում ավարտված գործերի ընդհանուր թիվը /ՀՀ ՔՐ. ԴԱՏ. ՕՐ. 14-ՐԴ ՀՈԴՎԱԾ/ | T3: Ուղարկվել է ըստ ընդդատության | U3: Հաշվետու ժամանակահատվածում կասեցված վարույթներով գործերի ընդհանուր թիվը | V3: Հաշվետու ժամանակահատվածում անավարտ գործերի ընդհանուր թիվը | W3: Այդ թվում՝ կասեցված | X3: Բողոքարկված վարութային ակտերի թիվը` ըստ տեսակների | AB3: ընդամենը բողոքարկվել են ակտեր | AC3: Բեկանված և փոփոխված ակտերի թիվը` ըստ տեսակների | AG3: ընդամենը բեկանվել են ակտեր
P4: քրեական վարույթը կարճելու մաuին որոշումն ուժի մեջ մտնելով. | Q4: Եզրափակիչ դատական ակտն ուժի մեջ է մտել | R4: Եզրափակիչ դատական ակտը հանձնվել է կատարման | S4: ավարտվել են քրեական գործեր | X4: Այդ թվում` եզրափակիչ դատական ակտերը | Z4: Այդ թվում` եզրափակիչ դատավարական ակտերը | AC4: Այդ թվում` եզրափակիչ դատական ակտերը | AE4: Այդ թվում` եզրափակիչ դատավարական ակտերը
X5: նախորդ տարիների կայացված ակտերի բողոքարկումը | Y5: հաշվետու ժամանակահատվածում կայացված ակտերի բողոքարկումը | Z5: նախորդ տարիների կայացված ակտերի բողոքարկումը | AA5: հաշվետու ժամանակահատվածում կայացված ակտերի բողոքարկումը | AC5: նախորդ տարիների կայացված ակտերի բողոքարկումը | AD5: հաշվետու ժամանակահատվածում կայացված ակտերի բողոքարկումը | AE5: նախորդ տարիների կայացված ակտերի բողոքարկումը | AF5: հաշվետու ժամանակահատվածում կայացված ակտերի բողոքարկումը
B6: Կոռուպցիոն հանցագործություններ | D6: 1 | E6: 2 | F6: 3 | G6: 4 | H6: 5 | I6: 6 | J6: 7 | K6: 8 | L6: 9 | M6: 10 | N6: 11 | O6: 12 | P6: 13 | Q6: 14 | R6: 15 | S6: 16 | T6: 17 | U6: 18 | V6: 19 | W6: 20 | X6: 21 | Y6: 22 | Z6: 23 | AA6: 24 | AB6: 25 | AC6: 26 | AD6: 27 | AE6: 28 | AF6: 29 | AG6: 30
A7: 9.4.1 | B7: Խարդախությունը՝ իշխանական կամ ծառայողական լիազորությունները կամ դրանցով պայմանավորված ազդեցությունն օգտագործելով | C7: 255 հ. 2-րդ մաս. 2-րդ կետ | D7: 1 | V7: 1 | AA7: 1 | AB7: 1
A8: 9.4.2 | B8: Խարդախությունը՝ եթե կատարվել է իշխանական կամ ծառայողական լիազորությունները կամ դրանցով պայմանավորված ազդեցությունն օգտագործելով | C8: 255 հ. 3-րդ մաս. | D8: 3 | L8: 1 | O8: 1 | V8: 2 | AA8: 3 | AB8: 3
A9: 9.5.1 | B9: Վստահված գույքը հափշտակելը՝ իշխանական կամ ծառայողական լիազորությունները կամ դրանցով պայմանավորված ազդեցությունն օգտագործելով, | C9: 256 հ. 2-րդ մաս. 2-րդ կետ | D9: 4 | F9: 3 | L9: 1 | O9: 1 | T9: 1 | V9: 5 | X9: 1 | AB9: 1 | AC9: 1 | AG9: 1
A10: 9.5.2 | B10: Վստահված գույքը հափշտակելը՝ եթե կատարվել է իշխանական կամ ծառայողական լիազորությունները կամ դրանցով պայմանավորված ազդեցությունն օգտագործելով | C10: 256 հ. 3-րդ մաս. | D10: 3 | F10: 3 | G10: 1 | I10: 1 | L10: 1 | O10: 1 | V10: 4
A11: 10.1.1 | B11: Շորթումը՝ իշխանական կամ ծառայողական լիազորությունները կամ դրանցով պայմանավորված ազդեցությունն օգտագործելով | C11: 258 հ. 2-րդ մաս. 9-րդ կետ | D11: 0
A12: 10.1.2 | B12: Շորթումը՝ եթե կատարվել է իշխանական կամ ծառայողական լիազորությունները կամ դրանցով պայմանավորված ազդեցությունն օգտագործելով | C12: 258 հ. 3-րդ մաս. | D12: 0
A13: 11.2.1 | B13: Ներքին տեղեկությունների անբարեխիղճ օգտագործումը՝ իշխանական կամ ծառայողական լիազորությունները կամ դրանցով պայմանավորված ազդեցությունն օգտագործելով | C13: 268 հ. 3-րդ մաս. 2-րդ. կետ | D13: 0
A14: 11.3.1 | B14: Արժեթղթերի շուկայում գնային չարաշահումը՝ իշխանական կամ ծառայողական լիազորությունները կամ դրանցով պայմանավորված ազդեցությունն օգտագործելով | C14: 269 հ. 3-րդ մաս. 3-րդ. կետ | D14: 0
A15: 11.6 | B15: Մասնավոր ոլորտում կաշառք ստանալը | C15: 272 | D15: 0 | F15: 1 | V15: 1 | AA15: 1 | AB15: 1
A16: 11.7 | B16: Մասնավոր ոլորտում կաշառք տալը | C16: 273 | D16: 0
A17: 11.8 | B17: Հայաստանի Հանրապետության կամ այլ պետության մարզիկի, մրցավարի, թիմի ղեկավարի, մարզչի, արհեստավարժ մարզամրցման այլ մասնակցի կամ դրա կազմակերպչի, հանդիսադիր առևտրային մրցույթի մասնակցի կամ դրա կազմակերպչի կամ մրցանակաբաշխային հանձնաժողովի անդամի կողմից կաշառք ստանալը | C17: 274 | D17: 0
A18: 11.9 | B18: Հայաստանի Հանրապետության կամ այլ պետության մարզիկին, մրցավարին, թիմի ղեկավարին, մարզչին, արհեստավարժ մարզամրցման այլ մասնակցի կամ դրա կազմակերպչին, հանդիսադիր առևտրային մրցույթի մասնակցին կամ դրա կազմակերպչին կամ մրցանակաբաշխային հանձնաժողովի անդամին կաշառք տալը | C18: 275 | D18: 0
A19: 11.1 | B19: Ծառայողական կամ մասնագիտական պարտականությունները կատարելու համար ապօրինի վարձատրություն ստանալը կամ պահանջելը | C19: 276 | D19: 0
A20: 11.11 | B20: Մասնավոր ոլորտում ծառայողական լիազորությունները կամ դրանցով պայմանավորված ազդեցությունը չարաշահելը | C20: 277 | D20: 0
A21: 11.16.1 | B21: Ֆինանսական բուրգ ստեղծելը, կազմակերպելը կամ ղեկավարելը՝ իշխանական կամ ծառայողական լիազորությունները կամ դրանցով պայմանավորված ազդեցությունն օգտագործելով. | C21: 282հ. 2-րդ մաս. 2-րդ կետ | D21: 0
A22: 11.16.2 | B22: Ֆինանսական բուրգ ստեղծելը,եթե կատարվել է իշխանական կամ ծառայողական լիազորությունները կամ դրանցով պայմանավորված ազդեցությունն օգտագործելով | C22: 282հ. 3-րդ մաս. | D22: 0
A23: 11.18.1 | B23: Հակամրցակցային գործունեությունը՝ իշխանական կամ ծառայողական լիազորությունները կամ դրանցով պայմանավորված ազդեցությունն օգտագործելով | C23: 284հ 2-րդ մաս. 2-րդ կետ | D23: 0
A24: 11.18.2 | B24: Հակամրցակցային գործունեությունը՝ եթե կատարվել է իշխանական կամ ծառայողական լիազորությունները կամ դրանցով պայմանավորված ազդեցությունն օգտագործելով | C24: 284հ 3-րդ մաս. | D24: 0
A25: 11.3 | B25: Փողերի լվացումը | C25: 296 | D25: 5 | F25: 4 | L25: 2 | O25: 2 | V25: 7 | AA25: 1 | AB25: 1
A26: 22.1 | B26: Կաշառք ստանալը | C26: 435 | D26: 14 | F26: 6 | I26: 1 | L26: 3 | O26: 3 | R26: 1 | S26: 1 | V26: 16 | Y26: 1 | Z26: 4 | AA26: 8 | AB26: 13 | AE26: 2 | AG26: 2
A27: 22.2 | B27: Կաշառք տալը | C27: 436 | D27: 4 | F27: 4 | L27: 3 | O27: 3 | R27: 2 | S27: 2 | V27: 5 | Z27: 1 | AA27: 1 | AB27: 2
A28: 22.3 | B28: Կաշառքի միջնորդությունը | C28: 437 | D28: 0
A29: 22.4 | B29: Պաշտոնատար անձի նկատմամբ ունեցած իրական կամ ենթադրյալ ազդեցությունն օգտագործելը | C29: 438 | D29: 0
A30: 22.5 | B30: Պաշտոնատար անձի նկատմամբ ունեցած իրական կամ ենթադրյալ ազդեցությունն օգտագործելու նպատակով ապօրինի վարձատրություն տալը | C30: 439 | D30: 0
A31: 22.6 | B31: Կաշառք ստանալու, կաշառքի միջնորդության կամ իրական կամ ենթադրյալ ազդեցությունը շահադիտական, անձնական այլ շահագրգռվածությունից կամ խմբային շահերից ելնելով օգտագործելու պատրվակով գույք, ներառյալ դրամական միջոց, արժեթուղթ, վճարային այլ գործիք, գույքի նկատմամբ իրավունք, ծառայություն կամ որևէ այլ առավելություն ստանալը | C31: 440 | D31: 1 | F31: 3 | L31: 2 | O31: 2 | V31: 2
A32: 22.7 | B32: Պաշտոնատար անձի կողմից իշխանական կամ ծառայողական լիազորությունները կամ դրանցով պայմանավորված ազդեցությունը չարաշահելը կամ լիազորություններն անցնելը | C32: 441 | D32: 4 | F32: 2 | V32: 6 | Z32: 1 | AA32: 1 | AB32: 2
A33: 22.8 | B33: Պաշտոնատար անձի կողմից ձեռնարկատիրական գործունեությանն ապօրինի մասնակցելը | C33: 442 | D33: 0
A34: 22.9 | B34: Ապօրինի հարստանալը | C34: 443 | D34: 0
A35: 22.1 | B35: Հայաստանի Հանրապետության օրենսդրությամբ սահմանված` հայտարարագիր ներկայացնելու պարտականություն ունեցող անձի կողմից հայտարարագրում կեղծ տվյալներ ներկայացնելը, հայտարարագրման ենթակա տվյալները թաքցնելը կամ հայտարարագիր չներկայացնելը | C35: 444 | D35: 0
A36: 22.11 | B36: Պաշտոնեական կեղծիքը | C36: 445 | D36: 2 | F36: 1 | L36: 1 | O36: 1 | R36: 1 | S36: 1 | V36: 2 | X36: 1 | Y36: 1 | AB36: 2 | AC36: 1 | AD36: 1 | AG36: 2
A37: 24.5 | B37: Կաշառքի կամ մասնավոր ոլորտում կաշառքի պրովոկացիան | C37: 477 | D37: 0
A38: 24.8 | B38: Ակնհայտ անմեղ անձին քրեական պատասխանատվության ենթարկելը | C38: 480 | D38: 0
A39: 24.9 | B39: Քրեական պատասխանատվությունից ապօրինի ազատելը | C39: 481 | D39: 0
A40: 24.1 | B40: Ակնհայտ անարդար դատավճիռ, վճիռ կամ դատական այլ ակտ կայացնելը | C40: 482 | D40: 0
A41: 24.1.1 | B41: Արդարադատության իրականացմանը կամ գործի քննությանը միջամտելը՝ որը կատարվել է իշխանական կամ ծառայողական լիազորությունները կամ դրանցով պայմանավորված ազդեցությունն օգտագործելով, | C41: 486 hոդ. 2-րդ մաս. 2-րդ կետ. | D41: 0
A42: 24.1.2 | B42: Արդարադատության իրականացմանը կամ գործի քննությանը միջամտելը՝ եթե կատարվել է իշխանական կամ ծառայողական լիազորությունները կամ դրանցով պայմանավորված ազդեցությունն օգտագործելով | C42: 486 hոդ. 3-րդ մաս. | D42: 0
A43: 24.24 | B43: Դատավարության մասնակիցներին՝ իրենց լիազորությունների հետ կապված կաշառք տալը | C43: 496 | D43: 0
A44: 24.25 | B44: Դատավարության մասնակիցների կողմից իրենց լիազորությունների հետ կապված կաշառք ստանալը | C44: 497 | D44: 0
A45: 29.1 | B45: Իշխանազանցությունը կամ իշխանությունը չարաշահելը | C45: 549 | D45: 1 | F45: 1 | L45: 1 | O45: 1 | V45: 1
A46: 30 | B46: Այլ հանցագործւթյուններ | C46: 219 7.17 267 12.1 | D46: 2 | V46: 2
B47: Ընդամենը | D47: =SUM(D7+D8+D9+D10+D11+D12+D13+D14+D15+D16+D17+D18+D19+D20+D21+D22+D23+D24+D25+D26+D27+D28+D29+D30+D31+D32+D33+D34+D35+D36+D37+D38+D39+D40+D41+D42+D43+D44+D45+D46) -> 44 | E47: =SUM(E7+E8+E9+E10+E11+E12+E13+E14+E15+E16+E17+E18+E19+E20+E21+E22+E23+E24+E25+E26+E27+E28+E29+E30+E31+E32+E33+E34+E35+E36+E37+E38+E39+E40+E41+E42+E43+E44+E45+E46) -> 0 | F47: =SUM(F7+F8+F9+F10+F11+F12+F13+F14+F15+F16+F17+F18+F19+F20+F21+F22+F23+F24+F25+F26+F27+F28+F29+F30+F31+F32+F33+F34+F35+F36+F37+F38+F39+F40+F41+F42+F43+F44+F45+F46) -> 28 | G47: =SUM(G7+G8+G9+G10+G11+G12+G13+G14+G15+G16+G17+G18+G19+G20+G21+G22+G23+G24+G25+G26+G27+G28+G29+G30+G31+G32+G33+G34+G35+G36+G37+G38+G39+G40+G41+G42+G43+G44+G45+G46) -> 1 | H47: =SUM(H7+H8+H9+H10+H11+H12+H13+H14+H15+H16+H17+H18+H19+H20+H21+H22+H23+H24+H25+H26+H27+H28+H29+H30+H31+H32+H33+H34+H35+H36+H37+H38+H39+H40+H41+H42+H43+H44+H45+H46) -> 0 | I47: =SUM(I7+I8+I9+I10+I11+I12+I13+I14+I15+I16+I17+I18+I19+I20+I21+I22+I23+I24+I25+I26+I27+I28+I29+I30+I31+I32+I33+I34+I35+I36+I37+I38+I39+I40+I41+I42+I43+I44+I45+I46) -> 2 | J47: =SUM(J7+J8+J9+J10+J11+J12+J13+J14+J15+J16+J17+J18+J19+J20+J21+J22+J23+J24+J25+J26+J27+J28+J29+J30+J31+J32+J33+J34+J35+J36+J37+J38+J39+J40+J41+J42+J43+J44+J45+J46) -> 0 | K47: =SUM(K7+K8+K9+K10+K11+K12+K13+K14+K15+K16+K17+K18+K19+K20+K21+K22+K23+K24+K25+K26+K27+K28+K29+K30+K31+K32+K33+K34+K35+K36+K37+K38+K39+K40+K41+K42+K43+K44+K45+K46) -> 0 | ... AG47: =SUM(AG7+AG8+AG9+AG10+AG11+AG12+AG13+AG14+AG15+AG16+AG17+AG18+AG19+AG20+AG21+AG22+AG23+AG24+AG25+AG26+AG27+AG28+AG29+AG30+AG31+AG32+AG33+AG34+AG35+AG36+AG37+AG38+AG39+AG40+AG41+AG42+AG43+AG44+AG45+AG46) -> 5
B48: Ծանոթություն՝ Թվով 1 գործ միացվել է;
B50: (18.04.2003թ. ընդունված և 01.08.2003թ. ուժի մեջ մտած քրեական օրենսգրքով) դատավորին նախորդ հաշվետու ժամանակահատվածից փոխանցվել է 24, հաշվետու ժամանակահատվածում ստացվել է 8, կայացվել է դատավճիռ 4, կարճվել է 0, բժշկական բնույթի հարկադրանքի միջոց 0, ընդդատություն- 0, միացում - 0, վերաբաշխվել է 0, հաշվետու ժամանակաշրջանում անավարտ գործեր 28-ը:

Sheet Ս. Դադոյան
AE1: Հավելված 2 Բարձրագույն դատական խորհրդի 2022թվականի դեկտեմբերի 26-ի թիվ ԲԴԽ-122-Ո-408 որոշման
A2: 2025 ԹՎԱԿԱՆԻ ՏԱՐԵԿԱՆ ՀԱՇՎԵՏՎՈՒԹՅՈՒՆ ՀԱԿԱԿՈՌՈՒՊՑԻՈՆ ԴԱՏԱՐԱՆԻ ԴԱՏԱՎՈՐ ՍԱՐԳԻՍ ԴԱԴՈՅԱՆԻ ԳՈՐԾՈՒՆԵՈՒԹՅԱՆ ՎԵՐԱԲԵՐՅԱԼ
A3: Ստուգիչ հավասարումներ` 1+3=4+12+17+19, 12= 9+10+11, 25=21+22+23+24, 30=25+26+27+28+29 | C3: ՀՀ քրեական օրենսգրքի հոդվածներ | D3: Հաշվետու ժամանակահատվածի սկզբում նախորդ հաշվետու ժամանակահատվածից փոխանցված գործերի ընդհանուր թիվը | E3: Այդ թվում` կասեցված վիճակում փոխանցված | F3: Հաշվետու ժամանակահատվածում ստացված գործերի ընդհանուր թիվը | G3: փոխանցվել թ այլ դատավորի (վերաբաշխում) | H3: Որոշում է կայացվել քրեական գործը վերադարձնել հսկող դատախազին | I3: քանի գործով է կիրառվել համաձայնեցման վարույթ | J3: քանի գործով է կիրառվել համագործակցության վարույթ | K3: Հաշվետու ժամանակաշրջանում կայացվել է վերդիկտ | L3: Հաշվետու ժամանակաշրջանում կայացվել է դատավճիռ | M3: քրեական վարույթը կարճելու մաuին որոշում | N3: Հաշվետու ժամանակաշրջանում կայացվել է բժշկական հարկադրանքի դատավճիռ /ՀՀ ՔՐ. ԴԱՏ. ՕՐ. 432-ՐԴ ՀՈԴՎԱԾ/ | O3: ընդամենը | P3: Հաշվետու ժամանակահատվածում ավարտված գործերի ընդհանուր թիվը /ՀՀ ՔՐ. ԴԱՏ. ՕՐ. 14-ՐԴ ՀՈԴՎԱԾ/ | T3: Ուղարկվել է ըստ ընդդատության | U3: Հաշվետու ժամանակահատվածում կասեցված վարույթներով գործերի ընդհանուր թիվը | V3: Հաշվետու ժամանակահատվածում անավարտ գործերի ընդհանուր թիվը | W3: Այդ թվում՝ կասեցված | X3: Բողոքարկված վարութային ակտերի թիվը` ըստ տեսակների | AB3: ընդամենը բողոքարկվել են ակտեր | AC3: Բեկանված և փոփոխված ակտերի թիվը` ըստ տեսակների | AG3: ընդամենը բեկանվել են ակտեր
P4: քրեական վարույթը կարճելու մաuին որոշումն ուժի մեջ մտնելով. | Q4: Եզրափակիչ դատական ակտն ուժի մեջ է մտել | R4: Եզրափակիչ դատական ակտը հանձնվել է կատարման | S4: ավարտվել են քրեական գործեր | X4: Այդ թվում` եզրափակիչ դատական ակտերը | Z4: Այդ թվում` եզրափակիչ դատավարական ակտերը | AC4: Այդ թվում` եզրափակիչ դատական ակտերը | AE4: Այդ թվում` եզրափակիչ դատավարական ակտերը
X5: նախորդ տարիների կայացված ակտերի բողոքարկումը | Y5: հաշվետու ժամանակահատվածում կայացված ակտերի բողոքարկումը | Z5: նախորդ տարիների կայացված ակտերի բողոքարկումը | AA5: հաշվետու ժամանակահատվածում կայացված ակտերի բողոքարկումը | AC5: նախորդ տարիների կայացված ակտերի բողոքարկումը | AD5: հաշվետու ժամանակահատվածում կայացված ակտերի բողոքարկումը | AE5: նախորդ տարիների կայացված ակտերի բողոքարկումը | AF5: հաշվետու ժամանակահատվածում կայացված ակտերի բողոքարկումը
B6: Կոռուպցիոն հանցագործություններ | D6: 1 | E6: 2 | F6: 3 | G6: 4 | H6: 5 | I6: 6 | J6: 7 | K6: 8 | L6: 9 | M6: 10 | N6: 11 | O6: 12 | P6: 13 | Q6: 14 | R6: 15 | S6: 16 | T6: 17 | U6: 18 | V6: 19 | W6: 20 | X6: 21 | Y6: 22 | Z6: 23 | AA6: 24 | AB6: 25 | AC6: 26 | AD6: 27 | AE6: 28 | AF6: 29 | AG6: 30
A7: 9.4.1 | B7: Խարդախությունը՝ իշխանական կամ ծառայողական լիազորությունները կամ դրանցով պայմանավորված ազդեցությունն օգտագործելով | C7: 255 հ. 2-րդ մաս. 2-րդ կետ | D7: 0 | F7: 3 | I7: 1 | L7: 1 | O7: 1 | V7: 2
A8: 9.4.2 | B8: Խարդախությունը՝ եթե կատարվել է իշխանական կամ ծառայողական լիազորությունները կամ դրանցով պայմանավորված ազդեցությունն օգտագործելով | C8: 255 հ. 3-րդ մաս. | D8: 4 | L8: 2 | O8: 2 | V8: 2 | Y8: 1 | AB8: 1
A9: 9.5.1 | B9: Վստահված գույքը հափշտակելը՝ իշխանական կամ ծառայողական լիազորությունները կամ դրանցով պայմանավորված ազդեցությունն օգտագործելով, | C9: 256 հ. 2-րդ մաս. 2-րդ կետ | D9: 3 | F9: 3 | L9: 2 | O9: 2 | V9: 4
A10: 9.5.2 | B10: Վստահված գույքը հափշտակելը՝ եթե կատարվել է իշխանական կամ ծառայողական լիազորությունները կամ դրանցով պայմանավորված ազդեցությունն օգտագործելով | C10: 256 հ. 3-րդ մաս. | D10: 4 | F10: 2 | L10: 1 | M10: 1 | O10: 2 | T10: 1 | V10: 2
A11: 10.1.1 | B11: Շորթումը՝ իշխանական կամ ծառայողական լիազորությունները կամ դրանցով պայմանավորված ազդեցությունն օգտագործելով | C11: 258 հ. 2-րդ մաս. 9-րդ կետ | D11: 0
A12: 10.1.2 | B12: Շորթումը՝ եթե կատարվել է իշխանական կամ ծառայողական լիազորությունները կամ դրանցով պայմանավորված ազդեցությունն օգտագործելով | C12: 258 հ. 3-րդ մաս. | D12: 0
A13: 11.2.1 | B13: Ներքին տեղեկությունների անբարեխիղճ օգտագործումը՝ իշխանական կամ ծառայողական լիազորությունները կամ դրանցով պայմանավորված ազդեցությունն օգտագործելով | C13: 268 հ. 3-րդ մաս. 2-րդ. կետ | D13: 0
A14: 11.3.1 | B14: Արժեթղթերի շուկայում գնային չարաշահումը՝ իշխանական կամ ծառայողական լիազորությունները կամ դրանցով պայմանավորված ազդեցությունն օգտագործելով | C14: 269 հ. 3-րդ մաս. 3-րդ. կետ | D14: 0
A15: 11.6 | B15: Մասնավոր ոլորտում կաշառք ստանալը | C15: 272 | D15: 0
A16: 11.7 | B16: Մասնավոր ոլորտում կաշառք տալը | C16: 273 | D16: 0
A17: 11.8 | B17: Հայաստանի Հանրապետության կամ այլ պետության մարզիկի, մրցավարի, թիմի ղեկավարի, մարզչի, արհեստավարժ մարզամրցման այլ մասնակցի կամ դրա կազմակերպչի, հանդիսադիր առևտրային մրցույթի մասնակցի կամ դրա կազմակերպչի կամ մրցանակաբաշխային հանձնաժողովի անդամի կողմից կաշառք ստանալը | C17: 274 | D17: 0
A18: 11.9 | B18: Հայաստանի Հանրապետության կամ այլ պետության մարզիկին, մրցավարին, թիմի ղեկավարին, մարզչին, արհեստավարժ մարզամրցման այլ մասնակցի կամ դրա կազմակերպչին, հանդիսադիր առևտրային մրցույթի մասնակցին կամ դրա կազմակերպչին կամ մրցանակաբաշխային հանձնաժողովի անդամին կաշառք տալը | C18: 275 | D18: 0
A19: 11.1 | B19: Ծառայողական կամ մասնագիտական պարտականությունները կատարելու համար ապօրինի վարձատրություն ստանալը կամ պահանջելը | C19: 276 | D19: 0
A20: 11.11 | B20: Մասնավոր ոլորտում ծառայողական լիազորությունները կամ դրանցով պայմանավորված ազդեցությունը չարաշահելը | C20: 277 | D20: 0
A21: 11.16.1 | B21: Ֆինանսական բուրգ ստեղծելը, կազմակերպելը կամ ղեկավարելը՝ իշխանական կամ ծառայողական լիազորությունները կամ դրանցով պայմանավորված ազդեցությունն օգտագործելով. | C21: 282հ. 2-րդ մաս. 2-րդ կետ | D21: 0
A22: 11.16.2 | B22: Ֆինանսական բուրգ ստեղծելը,եթե կատարվել է իշխանական կամ ծառայողական լիազորությունները կամ դրանցով պայմանավորված ազդեցությունն օգտագործելով | C22: 282հ. 3-րդ մաս. | D22: 0
A23: 11.18.1 | B23: Հակամրցակցային գործունեությունը՝ իշխանական կամ ծառայողական լիազորությունները կամ դրանցով պայմանավորված ազդեցությունն օգտագործելով | C23: 284հ 2-րդ մաս. 2-րդ կետ | D23: 0
A24: 11.18.2 | B24: Հակամրցակցային գործունեությունը՝ եթե կատարվել է իշխանական կամ ծառայողական լիազորությունները կամ դրանցով պայմանավորված ազդեցությունն օգտագործելով | C24: 284հ 3-րդ մաս. | D24: 0
A25: 11.3 | B25: Փողերի լվացումը | C25: 296 | D25: 3 | F25: 2 | T25: 1 | V25: 4
A26: 22.1 | B26: Կաշառք ստանալը | C26: 435 | D26: 20 | F26: 13 | I26: 1 | L26: 5 | O26: 5 | R26: 2 | S26: 2 | V26: 28 | X26: 2 | Y26: 2 | Z26: 9 | AA26: 29 | AB26: 42 | AE26: 1 | AF26: 3 | AG26: 4
A27: 22.2 | B27: Կաշառք տալը | C27: 436 | D27: 1 | F27: 3 | L27: 1 | O27: 1 | V27: 3 | X27: 3 | AB27: 3
A28: 22.3 | B28: Կաշառքի միջնորդությունը | C28: 437 | D28: 0
A29: 22.4 | B29: Պաշտոնատար անձի նկատմամբ ունեցած իրական կամ ենթադրյալ ազդեցությունն օգտագործելը | C29: 438 | D29: 0 | F29: 1 | I29: 1 | L29: 1 | O29: 1
A30: 22.5 | B30: Պաշտոնատար անձի նկատմամբ ունեցած իրական կամ ենթադրյալ ազդեցությունն օգտագործելու նպատակով ապօրինի վարձատրություն տալը | C30: 439 | D30: 0
A31: 22.6 | B31: Կաշառք ստանալու, կաշառքի միջնորդության կամ իրական կամ ենթադրյալ ազդեցությունը շահադիտական, անձնական այլ շահագրգռվածությունից կամ խմբային շահերից ելնելով օգտագործելու պատրվակով գույք, ներառյալ դրամական միջոց, արժեթուղթ, վճարային այլ գործիք, գույքի նկատմամբ իրավունք, ծառայություն կամ որևէ այլ առավելություն ստանալը | C31: 440 | D31: 0
A32: 22.7 | B32: Պաշտոնատար անձի կողմից իշխանական կամ ծառայողական լիազորությունները կամ դրանցով պայմանավորված ազդեցությունը չարաշահելը կամ լիազորություններն անցնելը | C32: 441 | D32: 4 | F32: 5 | G32: 1 | L32: 1 | M32: 1 | O32: 2 | V32: 6 | Y32: 1 | Z32: 2 | AA32: 2 | AB32: 5 | AE32: 1 | AF32: 2 | AG32: 3
A33: 22.8 | B33: Պաշտոնատար անձի կողմից ձեռնարկատիրական գործունեությանն ապօրինի մասնակցելը | C33: 442 | D33: 0
A34: 22.9 | B34: Ապօրինի հարստանալը | C34: 443 | D34: 0 | F34: 1 | V34: 1
A35: 22.1 | B35: Հայաստանի Հանրապետության օրենսդրությամբ սահմանված` հայտարարագիր ներկայացնելու պարտականություն ունեցող անձի կողմից հայտարարագրում կեղծ տվյալներ ներկայացնելը, հայտարարագրման ենթակա տվյալները թաքցնելը կամ հայտարարագիր չներկայացնելը | C35: 444 | D35: 0
A36: 22.11 | B36: Պաշտոնեական կեղծիքը | C36: 445 | D36: 0 | F36: 1 | V36: 1 | X36: 1 | AB36: 1
A37: 24.5 | B37: Կաշառքի կամ մասնավոր ոլորտում կաշառքի պրովոկացիան | C37: 477 | D37: 0
A38: 24.8 | B38: Ակնհայտ անմեղ անձին քրեական պատասխանատվության ենթարկելը | C38: 480 | D38: 0
A39: 24.9 | B39: Քրեական պատասխանատվությունից ապօրինի ազատելը | C39: 481 | D39: 0
A40: 24.1 | B40: Ակնհայտ անարդար դատավճիռ, վճիռ կամ դատական այլ ակտ կայացնելը | C40: 482 | D40: 0
A41: 24.1.1 | B41: Արդարադատության իրականացմանը կամ գործի քննությանը միջամտելը՝ որը կատարվել է իշխանական կամ ծառայողական լիազորությունները կամ դրանցով պայմանավորված ազդեցությունն օգտագործելով, | C41: 486 hոդ. 2-րդ մաս. 2-րդ կետ. | D41: 0
A42: 24.1.2 | B42: Արդարադատության իրականացմանը կամ գործի քննությանը միջամտելը՝ եթե կատարվել է իշխանական կամ ծառայողական լիազորությունները կամ դրանցով պայմանավորված ազդեցությունն օգտագործելով | C42: 486 hոդ. 3-րդ մաս. | D42: 0
A43: 24.24 | B43: Դատավարության մասնակիցներին՝ իրենց լիազորությունների հետ կապված կաշառք տալը | C43: 496 | D43: 0
A44: 24.25 | B44: Դատավարության մասնակիցների կողմից իրենց լիազորությունների հետ կապված կաշառք ստանալը | C44: 497 | D44: 0
A45: 29.1 | B45: Իշխանազանցությունը կամ իշխանությունը չարաշահելը | C45: 549 | D45: 0
A46: 30 | B46: Այլ հանցագործւթյուններ | C46: 219 7.17 | D46: 0
B47: Ընդամենը | D47: =SUM(D7+D8+D9+D10+D11+D12+D13+D14+D15+D16+D17+D18+D19+D20+D21+D22+D23+D24+D25+D26+D27+D28+D29+D30+D31+D32+D33+D34+D35+D36+D37+D38+D39+D40+D41+D42+D43+D44+D45+D46) -> 39 | E47: =SUM(E7+E8+E9+E10+E11+E12+E13+E14+E15+E16+E17+E18+E19+E20+E21+E22+E23+E24+E25+E26+E27+E28+E29+E30+E31+E32+E33+E34+E35+E36+E37+E38+E39+E40+E41+E42+E43+E44+E45+E46) -> 0 | F47: =SUM(F7+F8+F9+F10+F11+F12+F13+F14+F15+F16+F17+F18+F19+F20+F21+F22+F23+F24+F25+F26+F27+F28+F29+F30+F31+F32+F33+F34+F35+F36+F37+F38+F39+F40+F41+F42+F43+F44+F45+F46) -> 34 | G47: =SUM(G7+G8+G9+G10+G11+G12+G13+G14+G15+G16+G17+G18+G19+G20+G21+G22+G23+G24+G25+G26+G27+G28+G29+G30+G31+G32+G33+G34+G35+G36+G37+G38+G39+G40+G41+G42+G43+G44+G45+G46) -> 1 | H47: =SUM(H7+H8+H9+H10+H11+H12+H13+H14+H15+H16+H17+H18+H19+H20+H21+H22+H23+H24+H25+H26+H27+H28+H29+H30+H31+H32+H33+H34+H35+H36+H37+H38+H39+H40+H41+H42+H43+H44+H45+H46) -> 0 | I47: =SUM(I7+I8+I9+I10+I11+I12+I13+I14+I15+I16+I17+I18+I19+I20+I21+I22+I23+I24+I25+I26+I27+I28+I29+I30+I31+I32+I33+I34+I35+I36+I37+I38+I39+I40+I41+I42+I43+I44+I45+I46) -> 3 | J47: =SUM(J7+J8+J9+J10+J11+J12+J13+J14+J15+J16+J17+J18+J19+J20+J21+J22+J23+J24+J25+J26+J27+J28+J29+J30+J31+J32+J33+J34+J35+J36+J37+J38+J39+J40+J41+J42+J43+J44+J45+J46) -> 0 | K47: =SUM(K7+K8+K9+K10+K11+K12+K13+K14+K15+K16+K17+K18+K19+K20+K21+K22+K23+K24+K25+K26+K27+K28+K29+K30+K31+K32+K33+K34+K35+K36+K37+K38+K39+K40+K41+K42+K43+K44+K45+K46) -> 0 | ... AG47: =SUM(AG7+AG8+AG9+AG10+AG11+AG12+AG13+AG14+AG15+AG16+AG17+AG18+AG19+AG20+AG21+AG22+AG23+AG24+AG25+AG26+AG27+AG28+AG29+AG30+AG31+AG32+AG33+AG34+AG35+AG36+AG37+AG38+AG39+AG40+AG41+AG42+AG43+AG44+AG45+AG46) -> 7
B48: Ծանոթություն՝ Թվով 1 գործ միացվել է;
B49: (18.04.2003թ. ընդունված և 01.08.2003թ. ուժի մեջ մտած քրեական օրենսգրքով) դատավորին նախորդ հաշվետու ժամանակահատվածից փոխանցվել է 28, հաշվետու ժամանակահատվածում ստացվել է 6, կայացվել է դատավճիռ 5, կարճվել է՝ 2, բժշկական բնույթի հարկադրանքի միջոց 0, ընդդատություն- 0, միացում - 0, վերաբաշխվել է 1, հաշվետու ժամանակաշրջանում անավարտ գործեր 26-ը:

Sheet Տ. Դավթյան
AE1: Հավելված 2 Բարձրագույն դատական խորհրդի 2022թվականի դեկտեմբերի 26-ի թիվ ԲԴԽ-122-Ո-408 որոշման
A2: 2025 ԹՎԱԿԱՆԻ ՏԱՐԵԿԱՆ ՀԱՇՎԵՏՎՈՒԹՅՈՒՆ ՀԱԿԱԿՈՌՈՒՊՑԻՈՆ ԴԱՏԱՐԱՆԻ ԴԱՏԱՎՈՐ ՏԻԳՐԱՆ ԴԱՎԹՅԱՆԻ ԳՈՐԾՈՒՆԵՈՒԹՅԱՆ ՎԵՐԱԲԵՐՅԱԼ
A3: Ստուգիչ հավասարումներ` 1+3=4+12+17+19, 12= 9+10+11, 25=21+22+23+24, 30=25+26+27+28+29 | C3: ՀՀ քրեական օրենսգրքի հոդվածներ | D3: Հաշվետու ժամանակահատվածի սկզբում նախորդ հաշվետու ժամանակահատվածից փոխանցված գործերի ընդհանուր թիվը | E3: Այդ թվում` կասեցված վիճակում փոխանցված | F3: Հաշվետու ժամանակահատվածում ստացված գործերի ընդհանուր թիվը | G3: փոխանցվել թ այլ դատավորի (վերաբաշխում) | H3: Որոշում է կայացվել քրեական գործը վերադարձնել հսկող դատախազին | I3: քանի գործով է կիրառվել համաձայնեցման վարույթ | J3: քանի գործով է կիրառվել համագործակցության վարույթ | K3: Հաշվետու ժամանակաշրջանում կայացվել է վերդիկտ | L3: Հաշվետու ժամանակաշրջանում կայացվել է դատավճիռ | M3: քրեական վարույթը կարճելու մաuին որոշում | N3: Հաշվետու ժամանակաշրջանում կայացվել է բժշկական հարկադրանքի դատավճիռ /ՀՀ ՔՐ. ԴԱՏ. ՕՐ. 432-ՐԴ ՀՈԴՎԱԾ/ | O3: ընդամենը | P3: Հաշվետու ժամանակահատվածում ավարտված գործերի ընդհանուր թիվը /ՀՀ ՔՐ. ԴԱՏ. ՕՐ. 14-ՐԴ ՀՈԴՎԱԾ/ | T3: Ուղարկվել է ըստ ընդդատության | U3: Հաշվետու ժամանակահատվածում կասեցված վարույթներով գործերի ընդհանուր թիվը | V3: Հաշվետու ժամանակահատվածում անավարտ գործերի ընդհանուր թիվը | W3: Այդ թվում՝ կասեցված | X3: Բողոքարկված վարութային ակտերի թիվը` ըստ տեսակների | AB3: ընդամենը բողոքարկվել են ակտեր | AC3: ` | AG3: ընդամենը բեկանվել են ակտեր
P4: քրեական վարույթը կարճելու մաuին որոշումն ուժի մեջ մտնելով. | Q4: Եզրափակիչ դատական ակտն ուժի մեջ է մտել | R4: Եզրափակիչ դատական ակտը հանձնվել է կատարման | S4: ավարտվել են քրեական գործեր | X4: Այդ թվում` եզրափակիչ դատական ակտերը | Z4: Այդ թվում` եզրափակիչ դատավարական ակտերը | AC4: Այդ թվում` եզրափակիչ դատական ակտերը | AE4: Այդ թվում` եզրափակիչ դատավարական ակտերը
X5: նախորդ տարիների կայացված ակտերի բողոքարկումը | Y5: հաշվետու ժամանակահատվածում կայացված ակտերի բողոքարկումը | Z5: նախորդ տարիների կայացված ակտերի բողոքարկումը | AA5: հաշվետու ժամանակահատվածում կայացված ակտերի բողոքարկումը | AC5: նախորդ տարիների կայացված ակտերի բողոքարկումը | AD5: հաշվետու ժամանակահատվածում կայացված ակտերի բողոքարկումը | AE5: նախորդ տարիների կայացված ակտերի բողոքարկումը | AF5: հաշվետու ժամանակահատվածում կայացված ակտերի բողոքարկումը
B6: Կոռուպցիոն հանցագործություններ | D6: 1 | E6: 2 | F6: 3 | G6: 4 | H6: 5 | I6: 6 | J6: 7 | K6: 8 | L6: 9 | M6: 10 | N6: 11 | O6: 12 | P6: 13 | Q6: 14 | R6: 15 | S6: 16 | T6: 17 | U6: 18 | V6: 19 | W6: 20 | X6: 21 | Y6: 22 | Z6: 23 | AA6: 24 | AB6: 25 | AC6: 26 | AD6: 27 | AE6: 28 | AF6: 29 | AG6: 30
A7: 9.4.1 | B7: Խարդախությունը՝ իշխանական կամ ծառայողական լիազորությունները կամ դրանցով պայմանավորված ազդեցությունն օգտագործելով | C7: 255 հ. 2-րդ մաս. 2-րդ կետ | D7: 2 | L7: 1 | O7: 1 | R7: 1 | S7: 1 | V7: 1 | Y7: 1 | Z7: 1 | AB7: 2 | AD7: 1 | AG7: 1
A8: 9.4.2 | B8: Խարդախությունը՝ եթե կատարվել է իշխանական կամ ծառայողական լիազորությունները կամ դրանցով պայմանավորված ազդեցությունն օգտագործելով | C8: 255 հ. 3-րդ մաս. | D8: 2 | V8: 2
A9: 9.5.1 | B9: Վստահված գույքը հափշտակելը՝ իշխանական կամ ծառայողական լիազորությունները կամ դրանցով պայմանավորված ազդեցությունն օգտագործելով, | C9: 256 հ. 2-րդ մաս. 2-րդ կետ | D9: 2 | F9: 3 | G9: 1 | L9: 2 | O9: 2 | R9: 1 | S9: 1 | V9: 2 | Y9: 2 | AB9: 2
A10: 9.5.2 | B10: Վստահված գույքը հափշտակելը՝ եթե կատարվել է իշխանական կամ ծառայողական լիազորությունները կամ դրանցով պայմանավորված ազդեցությունն օգտագործելով | C10: 256 հ. 3-րդ մաս. | D10: 6 | F10: 2 | L10: 1 | O10: 1 | V10: 7 | X10: 1 | Z10: 1 | AB10: 2 | AC10: 1 | AE10: 1 | AG10: 2
A11: 10.1.1 | B11: Շորթումը՝ իշխանական կամ ծառայողական լիազորությունները կամ դրանցով պայմանավորված ազդեցությունն օգտագործելով | C11: 258 հ. 2-րդ մաս. 9-րդ կետ | D11: 0
A12: 10.1.2 | B12: Շորթումը՝ եթե կատարվել է իշխանական կամ ծառայողական լիազորությունները կամ դրանցով պայմանավորված ազդեցությունն օգտագործելով | C12: 258 հ. 3-րդ մաս. | D12: 0
A13: 11.2.1 | B13: Ներքին տեղեկությունների անբարեխիղճ օգտագործումը՝ իշխանական կամ ծառայողական լիազորությունները կամ դրանցով պայմանավորված ազդեցությունն օգտագործելով | C13: 268 հ. 3-րդ մաս. 2-րդ. կետ | D13: 0
A14: 11.3.1 | B14: Արժեթղթերի շուկայում գնային չարաշահումը՝ իշխանական կամ ծառայողական լիազորությունները կամ դրանցով պայմանավորված ազդեցությունն օգտագործելով | C14: 269 հ. 3-րդ մաս. 3-րդ. կետ | D14: 0
A15: 11.6 | B15: Մասնավոր ոլորտում կաշառք ստանալը | C15: 272 | D15: 0 | X15: 1 | AB15: 1
A16: 11.7 | B16: Մասնավոր ոլորտում կաշառք տալը | C16: 273 | D16: 0
A17: 11.8 | B17: Հայաստանի Հանրապետության կամ այլ պետության մարզիկի, մրցավարի, թիմի ղեկավարի, մարզչի, արհեստավարժ մարզամրցման այլ մասնակցի կամ դրա կազմակերպչի, հանդիսադիր առևտրային մրցույթի մասնակցի կամ դրա կազմակերպչի կամ մրցանակաբաշխային հանձնաժողովի անդամի կողմից կաշառք ստանալը | C17: 274 | D17: 0
A18: 11.9 | B18: Հայաստանի Հանրապետության կամ այլ պետության մարզիկին, մրցավարին, թիմի ղեկավարին, մարզչին, արհեստավարժ մարզամրցման այլ մասնակցի կամ դրա կազմակերպչին, հանդիսադիր առևտրային մրցույթի մասնակցին կամ դրա կազմակերպչին կամ մրցանակաբաշխային հանձնաժողովի անդամին կաշառք տալը | C18: 275 | D18: 0
A19: 11.1 | B19: Ծառայողական կամ մասնագիտական պարտականությունները կատարելու համար ապօրինի վարձատրություն ստանալը կամ պահանջելը | C19: 276 | D19: 0 | F19: 1 | V19: 1 | AA19: 1 | AB19: 1
A20: 11.11 | B20: Մասնավոր ոլորտում ծառայողական լիազորությունները կամ դրանցով պայմանավորված ազդեցությունը չարաշահելը | C20: 277 | D20: 0
A21: 11.16.1 | B21: Ֆինանսական բուրգ ստեղծելը, կազմակերպելը կամ ղեկավարելը՝ իշխանական կամ ծառայողական լիազորությունները կամ դրանցով պայմանավորված ազդեցությունն օգտագործելով. | C21: 282հ. 2-րդ մաս. 2-րդ կետ | D21: 0
A22: 11.16.2 | B22: Ֆինանսական բուրգ ստեղծելը,եթե կատարվել է իշխանական կամ ծառայողական լիազորությունները կամ դրանցով պայմանավորված ազդեցությունն օգտագործելով | C22: 282հ. 3-րդ մաս. | D22: 0
A23: 11.18.1 | B23: Հակամրցակցային գործունեությունը՝ իշխանական կամ ծառայողական լիազորությունները կամ դրանցով պայմանավորված ազդեցությունն օգտագործելով | C23: 284հ 2-րդ մաս. 2-րդ կետ | D23: 0
A24: 11.18.2 | B24: Հակամրցակցային գործունեությունը՝ եթե կատարվել է իշխանական կամ ծառայողական լիազորությունները կամ դրանցով պայմանավորված ազդեցությունն օգտագործելով | C24: 284հ 3-րդ մաս. | D24: 0
A25: 11.3 | B25: Փողերի լվացումը | C25: 296 | D25: 5 | F25: 3 | G25: 1 | K25: 1 | L25: 1 | O25: 1 | V25: 6 | Y25: 1 | Z25: 3 | AA25: 1 | AB25: 5
A26: 22.1 | B26: Կաշառք ստանալը | C26: 435 | D26: 9 | F26: 9 | I26: 1 | L26: 3 | O26: 3 | R26: 2 | S26: 2 | V26: 15 | X26: 2 | Y26: 1 | Z26: 10 | AA26: 22 | AB26: 35
A27: 22.2 | B27: Կաշառք տալը | C27: 436 | D27: 1 | F27: 1 | V27: 2 | X27: 2 | AB27: 2 | AC27: 1 | AG27: 1
A28: 22.3 | B28: Կաշառքի միջնորդությունը | C28: 437 | D28: 0
A29: 22.4 | B29: Պաշտոնատար անձի նկատմամբ ունեցած իրական կամ ենթադրյալ ազդեցությունն օգտագործելը | C29: 438 | D29: 0
A30: 22.5 | B30: Պաշտոնատար անձի նկատմամբ ունեցած իրական կամ ենթադրյալ ազդեցությունն օգտագործելու նպատակով ապօրինի վարձատրություն տալը | C30: 439 | D30: 1 | G30: 1
A31: 22.6 | B31: Կաշառք ստանալու, կաշառքի միջնորդության կամ իրական կամ ենթադրյալ ազդեցությունը շահադիտական, անձնական այլ շահագրգռվածությունից կամ խմբային շահերից ելնելով օգտագործելու պատրվակով գույք, ներառյալ դրամական միջոց, արժեթուղթ, վճարային այլ գործիք, գույքի նկատմամբ իրավունք, ծառայություն կամ որևէ այլ առավելություն ստանալը | C31: 440 | D31: 0
A32: 22.7 | B32: Պաշտոնատար անձի կողմից իշխանական կամ ծառայողական լիազորությունները կամ դրանցով պայմանավորված ազդեցությունը չարաշահելը կամ լիազորություններն անցնելը | C32: 441 | D32: 5 | F32: 5 | K32: 1 | L32: 4 | M32: 3 | O32: 7 | P32: 1 | S32: 1 | V32: 3 | Y32: 4 | AA32: 1 | AB32: 5
A33: 22.8 | B33: Պաշտոնատար անձի կողմից ձեռնարկատիրական գործունեությանն ապօրինի մասնակցելը | C33: 442 | D33: 0
A34: 22.9 | B34: Ապօրինի հարստանալը | C34: 443 | D34: 0
A35: 22.1 | B35: Հայաստանի Հանրապետության օրենսդրությամբ սահմանված` հայտարարագիր ներկայացնելու պարտականություն ունեցող անձի կողմից հայտարարագրում կեղծ տվյալներ ներկայացնելը, հայտարարագրման ենթակա տվյալները թաքցնելը կամ հայտարարագիր չներկայացնելը | C35: 444 | D35: 0
A36: 22.11 | B36: Պաշտոնեական կեղծիքը | C36: 445 | D36: 1 | F36: 1 | L36: 1 | O36: 1 | V36: 1 | X36: 1 | AB36: 1
A37: 24.5 | B37: Կաշառքի կամ մասնավոր ոլորտում կաշառքի պրովոկացիան | C37: 477 | D37: 0
A38: 24.8 | B38: Ակնհայտ անմեղ անձին քրեական պատասխանատվության ենթարկելը | C38: 480 | D38: 0
A39: 24.9 | B39: Քրեական պատասխանատվությունից ապօրինի ազատելը | C39: 481 | D39: 0
A40: 24.1 | B40: Ակնհայտ անարդար դատավճիռ, վճիռ կամ դատական այլ ակտ կայացնելը | C40: 482 | D40: 0
A41: 24.1.1 | B41: Արդարադատության իրականացմանը կամ գործի քննությանը միջամտելը՝ որը կատարվել է իշխանական կամ ծառայողական լիազորությունները կամ դրանցով պայմանավորված ազդեցությունն օգտագործելով, | C41: 486 hոդ. 2-րդ մաս. 2-րդ կետ. | D41: 0
A42: 24.1.2 | B42: Արդարադատության իրականացմանը կամ գործի քննությանը միջամտելը՝ եթե կատարվել է իշխանական կամ ծառայողական լիազորությունները կամ դրանցով պայմանավորված ազդեցությունն օգտագործելով | C42: 486 hոդ. 3-րդ մաս. | D42: 0
A43: 24.24 | B43: Դատավարության մասնակիցներին՝ իրենց լիազորությունների հետ կապված կաշառք տալը | C43: 496 | D43: 0
A44: 24.25 | B44: Դատավարության մասնակիցների կողմից իրենց լիազորությունների հետ կապված կաշառք ստանալը | C44: 497 | D44: 0
A45: 29.1 | B45: Իշխանազանցությունը կամ իշխանությունը չարաշահելը | C45: 549 | D45: 0 | F45: 2 | V45: 2 | AA45: 3 | AB45: 3
A46: 30 | B46: Այլ հանցագործւթյուններ | C46: 446 9.3 22.12 | D46: 1 | F46: 1 | M46: 1 | O46: 1 | P46: 1 | S46: 1 | V46: 1
B47: Ընդամենը | D47: =SUM(D7+D8+D9+D10+D11+D12+D13+D14+D15+D16+D17+D18+D19+D20+D21+D22+D23+D24+D25+D26+D27+D28+D29+D30+D31+D32+D33+D34+D35+D36+D37+D38+D39+D40+D41+D42+D43+D44+D45+D46) -> 35 | E47: =SUM(E7+E8+E9+E10+E11+E12+E13+E14+E15+E16+E17+E18+E19+E20+E21+E22+E23+E24+E25+E26+E27+E28+E29+E30+E31+E32+E33+E34+E35+E36+E37+E38+E39+E40+E41+E42+E43+E44+E45+E46) -> 0 | F47: =SUM(F7+F8+F9+F10+F11+F12+F13+F14+F15+F16+F17+F18+F19+F20+F21+F22+F23+F24+F25+F26+F27+F28+F29+F30+F31+F32+F33+F34+F35+F36+F37+F38+F39+F40+F41+F42+F43+F44+F45+F46) -> 28 | G47: =SUM(G7+G8+G9+G10+G11+G12+G13+G14+G15+G16+G17+G18+G19+G20+G21+G22+G23+G24+G25+G26+G27+G28+G29+G30+G31+G32+G33+G34+G35+G36+G37+G38+G39+G40+G41+G42+G43+G44+G45+G46) -> 3 | H47: =SUM(H7+H8+H9+H10+H11+H12+H13+H14+H15+H16+H17+H18+H19+H20+H21+H22+H23+H24+H25+H26+H27+H28+H29+H30+H31+H32+H33+H34+H35+H36+H37+H38+H39+H40+H41+H42+H43+H44+H45+H46) -> 0 | I47: =SUM(I7+I8+I9+I10+I11+I12+I13+I14+I15+I16+I17+I18+I19+I20+I21+I22+I23+I24+I25+I26+I27+I28+I29+I30+I31+I32+I33+I34+I35+I36+I37+I38+I39+I40+I41+I42+I43+I44+I45+I46) -> 1 | J47: =SUM(J7+J8+J9+J10+J11+J12+J13+J14+J15+J16+J17+J18+J19+J20+J21+J22+J23+J24+J25+J26+J27+J28+J29+J30+J31+J32+J33+J34+J35+J36+J37+J38+J39+J40+J41+J42+J43+J44+J45+J46) -> 0 | K47: =SUM(K7+K8+K9+K10+K11+K12+K13+K14+K15+K16+K17+K18+K19+K20+K21+K22+K23+K24+K25+K26+K27+K28+K29+K30+K31+K32+K33+K34+K35+K36+K37+K38+K39+K40+K41+K42+K43+K44+K45+K46) -> 2 | ... AG47: =SUM(AG7+AG8+AG9+AG10+AG11+AG12+AG13+AG14+AG15+AG16+AG17+AG18+AG19+AG20+AG21+AG22+AG23+AG24+AG25+AG26+AG27+AG28+AG29+AG30+AG31+AG32+AG33+AG34+AG35+AG36+AG37+AG38+AG39+AG40+AG41+AG42+AG43+AG44+AG45+AG46) -> 4
B48: (18.04.2003թ. ընդունված և 01.08.2003թ. ուժի մեջ մտած քրեական օրենսգրքով) դատավորին նախորդ հաշվետու ժամանակահատվածից փոխանցվել է 16, հաշվետու ժամանակահատվածում ստացվել է 8, կայացվել է դատավճիռ 5, կարճվել է՝ 1, բժշկական բնույթի հարկադրանքի միջոց 0, ընդդատություն- 0, միացում - 0, վերաբաշխվել է 0, հաշվետու ժամանակաշրջանում անավարտ գործեր 18-ը:

Sheet Վ.Դոլմազյան
AE1: Հավելված 2 Բարձրագույն դատական խորհրդի 2022թվականի դեկտեմբերի 26-ի թիվ ԲԴԽ-122-Ո-408 որոշման
A2: 2025 ԹՎԱԿԱՆԻ ՏԱՐԵԿԱՆ ՀԱՇՎԵՏՎՈՒԹՅՈՒՆ ՀԱԿԱԿՈՌՈՒՊՑԻՈՆ ԴԱՏԱՐԱՆԻ ԴԱՏԱՎՈՐ ՎԱՀԵ ԴՈԼՄԱԶՅԱՆԻ ԳՈՐԾՈՒՆԵՈՒԹՅԱՆ ՎԵՐԱԲԵՐՅԱԼ
A3: Ստուգիչ հավասարումներ` 1+3=4+12+17+19, 12= 9+10+11, 25=21+22+23+24, 30=25+26+27+28+29 | C3: ՀՀ քրեական օրենսգրքի հոդվածներ | D3: Հաշվետու ժամանակահատվածի սկզբում նախորդ հաշվետու ժամանակահատվածից փոխանցված գործերի ընդհանուր թիվը | E3: Այդ թվում` կասեցված վիճակում փոխանցված | F3: Հաշվետու ժամանակահատվածում ստացված գործերի ընդհանուր թիվը | G3: փոխանցվել թ այլ դատավորի (վերաբաշխում) | H3: Որոշում է կայացվել քրեական գործը վերադարձնել հսկող դատախազին | I3: քանի գործով է կիրառվել համաձայնեցման վարույթ | J3: քանի գործով է կիրառվել համագործակցության վարույթ | K3: Հաշվետու ժամանակաշրջանում կայացվել է վերդիկտ | L3: Հաշվետու ժամանակաշրջանում կայացվել է դատավճիռ | M3: քրեական վարույթը կարճելու մաuին որոշում | N3: Հաշվետու ժամանակաշրջանում կայացվել է բժշկական հարկադրանքի դատավճիռ /ՀՀ ՔՐ. ԴԱՏ. ՕՐ. 432-ՐԴ ՀՈԴՎԱԾ/ | O3: ընդամենը | P3: Հաշվետու ժամանակահատվածում ավարտված գործերի ընդհանուր թիվը /ՀՀ ՔՐ. ԴԱՏ. ՕՐ. 14-ՐԴ ՀՈԴՎԱԾ/ | T3: Ուղարկվել է ըստ ընդդատության | U3: Հաշվետու ժամանակահատվածում կասեցված վարույթներով գործերի ընդհանուր թիվը | V3: Հաշվետու ժամանակահատվածում անավարտ գործերի ընդհանուր թիվը | W3: Այդ թվում՝ կասեցված | X3: Բողոքարկված վարութային ակտերի թիվը` ըստ տեսակների | AB3: ընդամենը բողոքարկվել են ակտեր | AC3: Բեկանված և փոփոխված ակտերի թիվը` ըստ տեսակների | AG3: ընդամենը բեկանվել են ակտեր
P4: քրեական վարույթը կարճելու մաuին որոշումն ուժի մեջ մտնելով. | Q4: Եզրափակիչ դատական ակտն ուժի մեջ է մտել | R4: Եզրափակիչ դատական ակտը հանձնվել է կատարման | S4: ավարտվել են քրեական գործեր | X4: Այդ թվում` եզրափակիչ դատական ակտերը | Z4: Այդ թվում` եզրափակիչ դատավարական ակտերը | AC4: Այդ թվում` եզրափակիչ դատական ակտերը | AE4: Այդ թվում` եզրափակիչ դատավարական ակտերը
X5: նախորդ տարիների կայացված ակտերի բողոքարկումը | Y5: հաշվետու ժամանակահատվածում կայացված ակտերի բողոքարկումը | Z5: նախորդ տարիների կայացված ակտերի բողոքարկումը | AA5: հաշվետու ժամանակահատվածում կայացված ակտերի բողոքարկումը | AC5: նախորդ տարիների կայացված ակտերի բողոքարկումը | AD5: հաշվետու ժամանակահատվածում կայացված ակտերի բողոքարկումը | AE5: նախորդ տարիների կայացված ակտերի բողոքարկումը | AF5: հաշվետու ժամանակահատվածում կայացված ակտերի բողոքարկումը
B6: Կոռուպցիոն հանցագործություններ | D6: 1 | E6: 2 | F6: 3 | G6: 4 | H6: 5 | I6: 6 | J6: 7 | K6: 8 | L6: 9 | M6: 10 | N6: 11 | O6: 12 | P6: 13 | Q6: 14 | R6: 15 | S6: 16 | T6: 17 | U6: 18 | V6: 19 | W6: 20 | X6: 21 | Y6: 22 | Z6: 23 | AA6: 24 | AB6: 25 | AC6: 26 | AD6: 27 | AE6: 28 | AF6: 29 | AG6: 30
A7: 9.4.1 | B7: Խարդախությունը՝ իշխանական կամ ծառայողական լիազորությունները կամ դրանցով պայմանավորված ազդեցությունն օգտագործելով | C7: 255 հ. 2-րդ մաս. 2-րդ կետ | D7: 1 | F7: 1 | V7: 2 | X7: 1 | AB7: 1 | AC7: 1 | AG7: 1
A8: 9.4.2 | B8: Խարդախությունը՝ եթե կատարվել է իշխանական կամ ծառայողական լիազորությունները կամ դրանցով պայմանավորված ազդեցությունն օգտագործելով | C8: 255 հ. 3-րդ մաս. | D8: 1 | F8: 4 | V8: 5
A9: 9.5.1 | B9: Վստահված գույքը հափշտակելը՝ իշխանական կամ ծառայողական լիազորությունները կամ դրանցով պայմանավորված ազդեցությունն օգտագործելով, | C9: 256 հ. 2-րդ մաս. 2-րդ կետ | D9: 0 | F9: 3 | M9: 1 | O9: 1 | V9: 2
A10: 9.5.2 | B10: Վստահված գույքը հափշտակելը՝ եթե կատարվել է իշխանական կամ ծառայողական լիազորությունները կամ դրանցով պայմանավորված ազդեցությունն օգտագործելով | C10: 256 հ. 3-րդ մաս. | D10: 4 | F10: 1 | V10: 5
A11: 10.1.1 | B11: Շորթումը՝ իշխանական կամ ծառայողական լիազորությունները կամ դրանցով պայմանավորված ազդեցությունն օգտագործելով | C11: 258 հ. 2-րդ մաս. 9-րդ կետ | D11: 0
A12: 10.1.2 | B12: Շորթումը՝ եթե կատարվել է իշխանական կամ ծառայողական լիազորությունները կամ դրանցով պայմանավորված ազդեցությունն օգտագործելով | C12: 258 հ. 3-րդ մաս. | D12: 0
A13: 11.2.1 | B13: Ներքին տեղեկությունների անբարեխիղճ օգտագործումը՝ իշխանական կամ ծառայողական լիազորությունները կամ դրանցով պայմանավորված ազդեցությունն օգտագործելով | C13: 268 հ. 3-րդ մաս. 2-րդ. կետ | D13: 0
A14: 11.3.1 | B14: Արժեթղթերի շուկայում գնային չարաշահումը՝ իշխանական կամ ծառայողական լիազորությունները կամ դրանցով պայմանավորված ազդեցությունն օգտագործելով | C14: 269 հ. 3-րդ մաս. 3-րդ. կետ | D14: 0
A15: 11.6 | B15: Մասնավոր ոլորտում կաշառք ստանալը | C15: 272 | D15: 0
A16: 11.7 | B16: Մասնավոր ոլորտում կաշառք տալը | C16: 273 | D16: 0
A17: 11.8 | B17: Հայաստանի Հանրապետության կամ այլ պետության մարզիկի, մրցավարի, թիմի ղեկավարի, մարզչի, արհեստավարժ մարզամրցման այլ մասնակցի կամ դրա կազմակերպչի, հանդիսադիր առևտրային մրցույթի մասնակցի կամ դրա կազմակերպչի կամ մրցանակաբաշխային հանձնաժողովի անդամի կողմից կաշառք ստանալը | C17: 274 | D17: 0
A18: 11.9 | B18: Հայաստանի Հանրապետության կամ այլ պետության մարզիկին, մրցավարին, թիմի ղեկավարին, մարզչին, արհեստավարժ մարզամրցման այլ մասնակցի կամ դրա կազմակերպչին, հանդիսադիր առևտրային մրցույթի մասնակցին կամ դրա կազմակերպչին կամ մրցանակաբաշխային հանձնաժողովի անդամին կաշառք տալը | C18: 275 | D18: 0
A19: 11.1 | B19: Ծառայողական կամ մասնագիտական պարտականությունները կատարելու համար ապօրինի վարձատրություն ստանալը կամ պահանջելը | C19: 276 | D19: 0
A20: 11.11 | B20: Մասնավոր ոլորտում ծառայողական լիազորությունները կամ դրանցով պայմանավորված ազդեցությունը չարաշահելը | C20: 277 | D20: 0
A21: 11.16.1 | B21: Ֆինանսական բուրգ ստեղծելը, կազմակերպելը կամ ղեկավարելը՝ իշխանական կամ ծառայողական լիազորությունները կամ դրանցով պայմանավորված ազդեցությունն օգտագործելով. | C21: 282հ. 2-րդ մաս. 2-րդ կետ | D21: 0
A22: 11.16.2 | B22: Ֆինանսական բուրգ ստեղծելը,եթե կատարվել է իշխանական կամ ծառայողական լիազորությունները կամ դրանցով պայմանավորված ազդեցությունն օգտագործելով | C22: 282հ. 3-րդ մաս. | D22: 0
A23: 11.18.1 | B23: Հակամրցակցային գործունեությունը՝ իշխանական կամ ծառայողական լիազորությունները կամ դրանցով պայմանավորված ազդեցությունն օգտագործելով | C23: 284հ 2-րդ մաս. 2-րդ կետ | D23: 0
A24: 11.18.2 | B24: Հակամրցակցային գործունեությունը՝ եթե կատարվել է իշխանական կամ ծառայողական լիազորությունները կամ դրանցով պայմանավորված ազդեցությունն օգտագործելով | C24: 284հ 3-րդ մաս. | D24: 0
A25: 11.3 | B25: Փողերի լվացումը | C25: 296 | D25: 3 | F25: 2 | V25: 5 | AA25: 3 | AB25: 3 | AF25: 1 | AG25: 1
A26: 22.1 | B26: Կաշառք ստանալը | C26: 435 | D26: 9 | F26: 4 | L26: 2 | O26: 2 | R26: 1 | S26: 1 | V26: 10 | Z26: 4 | AA26: 3 | AB26: 7
A27: 22.2 | B27: Կաշառք տալը | C27: 436 | D27: 2 | F27: 7 | I27: 1 | L27: 3 | O27: 3 | V27: 6 | X27: 1 | Y27: 1 | AA27: 1 | AB27: 3 | AC27: 1 | AG27: 1
A28: 22.3 | B28: Կաշառքի միջնորդությունը | C28: 437 | D28: 0
A29: 22.4 | B29: Պաշտոնատար անձի նկատմամբ ունեցած իրական կամ ենթադրյալ ազդեցությունն օգտագործելը | C29: 438 | D29: 0 | F29: 1 | V29: 1
A30: 22.5 | B30: Պաշտոնատար անձի նկատմամբ ունեցած իրական կամ ենթադրյալ ազդեցությունն օգտագործելու նպատակով ապօրինի վարձատրություն տալը | C30: 439 | D30: 0
A31: 22.6 | B31: Կաշառք ստանալու, կաշառքի միջնորդության կամ իրական կամ ենթադրյալ ազդեցությունը շահադիտական, անձնական այլ շահագրգռվածությունից կամ խմբային շահերից ելնելով օգտագործելու պատրվակով գույք, ներառյալ դրամական միջոց, արժեթուղթ, վճարային այլ գործիք, գույքի նկատմամբ իրավունք, ծառայություն կամ որևէ այլ առավելություն ստանալը | C31: 440 | D31: 0
A32: 22.7 | B32: Պաշտոնատար անձի կողմից իշխանական կամ ծառայողական լիազորությունները կամ դրանցով պայմանավորված ազդեցությունը չարաշահելը կամ լիազորություններն անցնելը | C32: 441 | D32: 6 | F32: 3 | V32: 9 | Z32: 3 | AA32: 1 | AB32: 4
A33: 22.8 | B33: Պաշտոնատար անձի կողմից ձեռնարկատիրական գործունեությանն ապօրինի մասնակցելը | C33: 442 | D33: 0
A34: 22.9 | B34: Ապօրինի հարստանալը | C34: 443 | D34: 0
A35: 22.1 | B35: Հայաստանի Հանրապետության օրենսդրությամբ սահմանված` հայտարարագիր ներկայացնելու պարտականություն ունեցող անձի կողմից հայտարարագրում կեղծ տվյալներ ներկայացնելը, հայտարարագրման ենթակա տվյալները թաքցնելը կամ հայտարարագիր չներկայացնելը | C35: 444 | D35: 0 | F35: 1 | L35: 1 | O35: 1
A36: 22.11 | B36: Պաշտոնեական կեղծիքը | C36: 445 | D36: 4 | F36: 5 | I36: 1 | L36: 2 | O36: 2 | R36: 1 | S36: 1 | V36: 7
A37: 24.5 | B37: Կաշառքի կամ մասնավոր ոլորտում կաշառքի պրովոկացիան | C37: 477 | D37: 0
A38: 24.8 | B38: Ակնհայտ անմեղ անձին քրեական պատասխանատվության ենթարկելը | C38: 480 | D38: 0
A39: 24.9 | B39: Քրեական պատասխանատվությունից ապօրինի ազատելը | C39: 481 | D39: 0
A40: 24.1 | B40: Ակնհայտ անարդար դատավճիռ, վճիռ կամ դատական այլ ակտ կայացնելը | C40: 482 | D40: 0
A41: 24.1.1 | B41: Արդարադատության իրականացմանը կամ գործի քննությանը միջամտելը՝ որը կատարվել է իշխանական կամ ծառայողական լիազորությունները կամ դրանցով պայմանավորված ազդեցությունն օգտագործելով, | C41: 486 hոդ. 2-րդ մաս. 2-րդ կետ. | D41: 0
A42: 24.1.2 | B42: Արդարադատության իրականացմանը կամ գործի քննությանը միջամտելը՝ եթե կատարվել է իշխանական կամ ծառայողական լիազորությունները կամ դրանցով պայմանավորված ազդեցությունն օգտագործելով | C42: 486 hոդ. 3-րդ մաս. | D42: 0
A43: 24.24 | B43: Դատավարության մասնակիցներին՝ իրենց լիազորությունների հետ կապված կաշառք տալը | C43: 496 | D43: 0
A44: 24.25 | B44: Դատավարության մասնակիցների կողմից իրենց լիազորությունների հետ կապված կաշառք ստանալը | C44: 497 | D44: 0
A45: 29.1 | B45: Իշխանազանցությունը կամ իշխանությունը չարաշահելը | C45: 549 | D45: 0
A46: 30 | B46: Այլ հանցագործւթյուններ | D46: 0
B47: Ընդամենը | D47: =SUM(D7+D8+D9+D10+D11+D12+D13+D14+D15+D16+D17+D18+D19+D20+D21+D22+D23+D24+D25+D26+D27+D28+D29+D30+D31+D32+D33+D34+D35+D36+D37+D38+D39+D40+D41+D42+D43+D44+D45+D46) -> 30 | E47: =SUM(E7+E8+E9+E10+E11+E12+E13+E14+E15+E16+E17+E18+E19+E20+E21+E22+E23+E24+E25+E26+E27+E28+E29+E30+E31+E32+E33+E34+E35+E36+E37+E38+E39+E40+E41+E42+E43+E44+E45+E46) -> 0 | F47: =SUM(F7+F8+F9+F10+F11+F12+F13+F14+F15+F16+F17+F18+F19+F20+F21+F22+F23+F24+F25+F26+F27+F28+F29+F30+F31+F32+F33+F34+F35+F36+F37+F38+F39+F40+F41+F42+F43+F44+F45+F46) -> 32 | G47: =SUM(G7+G8+G9+G10+G11+G12+G13+G14+G15+G16+G17+G18+G19+G20+G21+G22+G23+G24+G25+G26+G27+G28+G29+G30+G31+G32+G33+G34+G35+G36+G37+G38+G39+G40+G41+G42+G43+G44+G45+G46) -> 0 | H47: =SUM(H7+H8+H9+H10+H11+H12+H13+H14+H15+H16+H17+H18+H19+H20+H21+H22+H23+H24+H25+H26+H27+H28+H29+H30+H31+H32+H33+H34+H35+H36+H37+H38+H39+H40+H41+H42+H43+H44+H45+H46) -> 0 | I47: =SUM(I7+I8+I9+I10+I11+I12+I13+I14+I15+I16+I17+I18+I19+I20+I21+I22+I23+I24+I25+I26+I27+I28+I29+I30+I31+I32+I33+I34+I35+I36+I37+I38+I39+I40+I41+I42+I43+I44+I45+I46) -> 2 | J47: =SUM(J7+J8+J9+J10+J11+J12+J13+J14+J15+J16+J17+J18+J19+J20+J21+J22+J23+J24+J25+J26+J27+J28+J29+J30+J31+J32+J33+J34+J35+J36+J37+J38+J39+J40+J41+J42+J43+J44+J45+J46) -> 0 | K47: =SUM(K7+K8+K9+K10+K11+K12+K13+K14+K15+K16+K17+K18+K19+K20+K21+K22+K23+K24+K25+K26+K27+K28+K29+K30+K31+K32+K33+K34+K35+K36+K37+K38+K39+K40+K41+K42+K43+K44+K45+K46) -> 0 | ... N47: =SUM(N7+N8+N9+N10+N11+N12+N13+N14+N15+N16+N17+N18+N19+N20+N21+N22+N23+N24+N25+N26+N27+N28+N29+N30+N31+N32+N33+N34+N35+N36+N37+N38+N39+N40+N41+N42+N43+N44+N45+N46) -> 0 | O47: 9 | P47: =SUM(P7+P8+P9+P10+P11+P12+P13+P14+P15+P16+P17+P18+P19+P20+P21+P22+P23+P24+P25+P26+P27+P28+P29+P30+P31+P32+P33+P34+P35+P36+P37+P38+P39+P40+P41+P42+P43+P44+P45+P46) -> 0 | Q47: =SUM(Q7+Q8+Q9+Q10+Q11+Q12+Q13+Q14+Q15+Q16+Q17+Q18+Q19+Q20+Q21+Q22+Q23+Q24+Q25+Q26+Q27+Q28+Q29+Q30+Q31+Q32+Q33+Q34+Q35+Q36+Q37+Q38+Q39+Q40+Q41+Q42+Q43+Q44+Q45+Q46) -> 0 | R47: =SUM(R7+R8+R9+R10+R11+R12+R13+R14+R15+R16+R17+R18+R19+R20+R21+R22+R23+R24+R25+R26+R27+R28+R29+R30+R31+R32+R33+R34+R35+R36+R37+R38+R39+R40+R41+R42+R43+R44+R45+R46) -> 2 | S47: =SUM(S7+S8+S9+S10+S11+S12+S13+S14+S15+S16+S17+S18+S19+S20+S21+S22+S23+S24+S25+S26+S27+S28+S29+S30+S31+S32+S33+S34+S35+S36+S37+S38+S39+S40+S41+S42+S43+S44+S45+S46) -> 2 | T47: =SUM(T7+T8+T9+T10+T11+T12+T13+T14+T15+T16+T17+T18+T19+T20+T21+T22+T23+T24+T25+T26+T27+T28+T29+T30+T31+T32+T33+T34+T35+T36+T37+T38+T39+T40+T41+T42+T43+T44+T45+T46) -> 0 | U47: =SUM(U7+U8+U9+U10+U11+U12+U13+U14+U15+U16+U17+U18+U19+U20+U21+U22+U23+U24+U25+U26+U27+U28+U29+U30+U31+U32+U33+U34+U35+U36+U37+U38+U39+U40+U41+U42+U43+U44+U45+U46) -> 0 | V47: =SUM(V7+V8+V9+V10+V11+V12+V13+V14+V15+V16+V17+V18+V19+V20+V21+V22+V23+V24+V25+V26+V27+V28+V29+V30+V31+V32+V33+V34+V35+V36+V37+V38+V39+V40+V41+V42+V43+V44+V45+V46) -> 52 | W47: =SUM(W7+W8+W9+W10+W11+W12+W13+W14+W15+W16+W17+W18+W19+W20+W21+W22+W23+W24+W25+W26+W27+W28+W29+W30+W31+W32+W33+W34+W35+W36+W37+W38+W39+W40+W41+W42+W43+W44+W45+W46) -> 0 | ... AG47: =SUM(AG7+AG8+AG9+AG10+AG11+AG12+AG13+AG14+AG15+AG16+AG17+AG18+AG19+AG20+AG21+AG22+AG23+AG24+AG25+AG26+AG27+AG28+AG29+AG30+AG31+AG32+AG33+AG34+AG35+AG36+AG37+AG38+AG39+AG40+AG41+AG42+AG43+AG44+AG45+AG46) -> 3
B48: Ծանոթություն՝ Թվով 1 գործ միացվել է:
B49: (18.04.2003թ. ընդունված և 01.08.2003թ. ուժի մեջ մտած քրեական օրենսգրքով) դատավորին նախորդ հաշվետու ժամանակահատվածից փոխանցվել է 21, հաշվետու ժամանակահատվածում ստացվել է 10, կայացվել է դատավճիռ 4, կարճվել է՝ 1, բժշկական բնույթի հարկադրանքի միջոց 0, ընդդատություն- 0, միացում - 0, վերաբաշխվել է 2, հաշվետու ժամանակաշրջանում անավարտ գործեր 24-ը:

Sheet Ս.Խաչատրյան
A1: Ց | AE1: Հավելված 2 Բարձրագույն դատական խորհրդի 2022թվականի դեկտեմբերի 26-ի թիվ ԲԴԽ-122-Ո-408 որոշման
A2: 2025 ԹՎԱԿԱՆԻ ՏԱՐԵԿԱՆ ՀԱՇՎԵՏՎՈՒԹՅՈՒՆ ՀԱԿԱԿՈՌՈՒՊՑԻՈՆ ԴԱՏԱՐԱՆԻ ԴԱՏԱՎՈՐ ՍՈՒՐԵՆ ԽԱՉԱՏՐՅԱՆԻ ԳՈՐԾՈՒՆԵՈՒԹՅԱՆ ՎԵՐԱԲԵՐՅԱԼ
A3: Ստուգիչ հավասարումներ` 1+3=4+12+17+19, 12= 9+10+11, 25=21+22+23+24, 30=25+26+27+28+29 | C3: ՀՀ քրեական օրենսգրքի հոդվածներ | D3: Հաշվետու ժամանակահատվածի սկզբում նախորդ հաշվետու ժամանակահատվածից փոխանցված գործերի ընդհանուր թիվը | E3: Այդ թվում` կասեցված վիճակում փոխանցված | F3: Հաշվետու ժամանակահատվածում ստացված գործերի ընդհանուր թիվը | G3: փոխանցվել թ այլ դատավորի (վերաբաշխում) | H3: Որոշում է կայացվել քրեական գործը վերադարձնել հսկող դատախազին | I3: քանի գործով է կիրառվել համաձայնեցման վարույթ | J3: քանի գործով է կիրառվել համագործակցության վարույթ | K3: Հաշվետու ժամանակաշրջանում կայացվել է վերդիկտ | L3: Հաշվետու ժամանակաշրջանում կայացվել է դատավճիռ | M3: քրեական վարույթը կարճելու մաuին որոշում | N3: Հաշվետու ժամանակաշրջանում կայացվել է բժշկական հարկադրանքի դատավճիռ /ՀՀ ՔՐ. ԴԱՏ. ՕՐ. 432-ՐԴ ՀՈԴՎԱԾ/ | O3: ընդամենը | P3: Հաշվետու ժամանակահատվածում ավարտված գործերի ընդհանուր թիվը /ՀՀ ՔՐ. ԴԱՏ. ՕՐ. 14-ՐԴ ՀՈԴՎԱԾ/ | T3: Ուղարկվել է ըստ ընդդատության | U3: Հաշվետու ժամանակահատվածում կասեցված վարույթներով գործերի ընդհանուր թիվը | V3: Հաշվետու ժամանակահատվածում անավարտ գործերի ընդհանուր թիվը | W3: Այդ թվում՝ կասեցված | X3: Բողոքարկված վարութային ակտերի թիվը` ըստ տեսակների | AB3: ընդամենը բողոքարկվել են ակտեր | AC3: Բեկանված և փոփոխված ակտերի թիվը` ըստ տեսակների | AG3: ընդամենը բեկանվել են ակտեր
P4: քրեական վարույթը կարճելու մաuին որոշումն ուժի մեջ մտնելով. | Q4: Եզրափակիչ դատական ակտն ուժի մեջ է մտել | R4: Եզրափակիչ դատական ակտը հանձնվել է կատարման | S4: ավարտվել են քրեական գործեր | X4: Այդ թվում` եզրափակիչ դատական ակտերը | Z4: Այդ թվում` եզրափակիչ դատավարական ակտերը | AC4: Այդ թվում` եզրափակիչ դատական ակտերը | AE4: Այդ թվում` եզրափակիչ դատավարական ակտերը
X5: նախորդ տարիների կայացված ակտերի բողոքարկումը | Y5: հաշվետու ժամանակահատվածում կայացված ակտերի բողոքարկումը | Z5: նախորդ տարիների կայացված ակտերի բողոքարկումը | AA5: հաշվետու ժամանակահատվածում կայացված ակտերի բողոքարկումը | AC5: նախորդ տարիների կայացված ակտերի բողոքարկումը | AD5: հաշվետու ժամանակահատվածում կայացված ակտերի բողոքարկումը | AE5: նախորդ տարիների կայացված ակտերի բողոքարկումը | AF5: հաշվետու ժամանակահատվածում կայացված ակտերի բողոքարկումը
B6: Կոռուպցիոն հանցագործություններ | D6: 1 | E6: 2 | F6: 3 | G6: 4 | H6: 5 | I6: 6 | J6: 7 | K6: 8 | L6: 9 | M6: 10 | N6: 11 | O6: 12 | P6: 13 | Q6: 14 | R6: 15 | S6: 16 | T6: 17 | U6: 18 | V6: 19 | W6: 20 | X6: 21 | Y6: 22 | Z6: 23 | AA6: 24 | AB6: 25 | AC6: 26 | AD6: 27 | AE6: 28 | AF6: 29 | AG6: 30
A7: 9.4.1 | B7: Խարդախությունը՝ իշխանական կամ ծառայողական լիազորությունները կամ դրանցով պայմանավորված ազդեցությունն օգտագործելով | C7: 255 հ. 2-րդ մաս. 2-րդ կետ | D7: 0
A8: 9.4.2 | B8: Խարդախությունը՝ եթե կատարվել է իշխանական կամ ծառայողական լիազորությունները կամ դրանցով պայմանավորված ազդեցությունն օգտագործելով | C8: 255 հ. 3-րդ մաս. | D8: 5 | F8: 2 | G8: 7 | Z8: 3 | AA8: 9 | AB8: 12
A9: 9.5.1 | B9: Վստահված գույքը հափշտակելը՝ իշխանական կամ ծառայողական լիազորությունները կամ դրանցով պայմանավորված ազդեցությունն օգտագործելով, | C9: 256 հ. 2-րդ մաս. 2-րդ կետ | D9: 0 | F9: 3 | G9: 2 | L9: 1 | O9: 1 | R9: 1 | S9: 1 | X9: 1 | Y9: 1 | AB9: 2
A10: 9.5.2 | B10: Վստահված գույքը հափշտակելը՝ եթե կատարվել է իշխանական կամ ծառայողական լիազորությունները կամ դրանցով պայմանավորված ազդեցությունն օգտագործելով | C10: 256 հ. 3-րդ մաս. | D10: 0 | F10: 1 | G10: 1
A11: 10.1.1 | B11: Շորթումը՝ իշխանական կամ ծառայողական լիազորությունները կամ դրանցով պայմանավորված ազդեցությունն օգտագործելով | C11: 258 հ. 2-րդ մաս. 9-րդ կետ | D11: 0
A12: 10.1.2 | B12: Շորթումը՝ եթե կատարվել է իշխանական կամ ծառայողական լիազորությունները կամ դրանցով պայմանավորված ազդեցությունն օգտագործելով | C12: 258 հ. 3-րդ մաս. | D12: 0
A13: 11.2.1 | B13: Ներքին տեղեկությունների անբարեխիղճ օգտագործումը՝ իշխանական կամ ծառայողական լիազորությունները կամ դրանցով պայմանավորված ազդեցությունն օգտագործելով | C13: 268 հ. 3-րդ մաս. 2-րդ. կետ | D13: 0
A14: 11.3.1 | B14: Արժեթղթերի շուկայում գնային չարաշահումը՝ իշխանական կամ ծառայողական լիազորությունները կամ դրանցով պայմանավորված ազդեցությունն օգտագործելով | C14: 269 հ. 3-րդ մաս. 3-րդ. կետ | D14: 0
A15: 11.6 | B15: Մասնավոր ոլորտում կաշառք ստանալը | C15: 272 | D15: 0 | F15: 2 | G15: 1 | L15: 1 | O15: 1 | R15: 1 | S15: 1
A16: 11.7 | B16: Մասնավոր ոլորտում կաշառք տալը | C16: 273 | D16: 0
A17: 11.8 | B17: Հայաստանի Հանրապետության կամ այլ պետության մարզիկի, մրցավարի, թիմի ղեկավարի, մարզչի, արհեստավարժ մարզամրցման այլ մասնակցի կամ դրա կազմակերպչի, հանդիսադիր առևտրային մրցույթի մասնակցի կամ դրա կազմակերպչի կամ մրցանակաբաշխային հանձնաժողովի անդամի կողմից կաշառք ստանալը | C17: 274 | D17: 0
A18: 11.9 | B18: Հայաստանի Հանրապետության կամ այլ պետության մարզիկին, մրցավարին, թիմի ղեկավարին, մարզչին, արհեստավարժ մարզամրցման այլ մասնակցի կամ դրա կազմակերպչին, հանդիսադիր առևտրային մրցույթի մասնակցին կամ դրա կազմակերպչին կամ մրցանակաբաշխային հանձնաժողովի անդամին կաշառք տալը | C18: 275 | D18: 0
A19: 11.1 | B19: Ծառայողական կամ մասնագիտական պարտականությունները կատարելու համար ապօրինի վարձատրություն ստանալը կամ պահանջելը | C19: 276 | D19: 0
A20: 11.11 | B20: Մասնավոր ոլորտում ծառայողական լիազորությունները կամ դրանցով պայմանավորված ազդեցությունը չարաշահելը | C20: 277 | D20: 1 | L20: 1 | O20: 1
A21: 11.16.1 | B21: Ֆինանսական բուրգ ստեղծելը, կազմակերպելը կամ ղեկավարելը՝ իշխանական կամ ծառայողական լիազորությունները կամ դրանցով պայմանավորված ազդեցությունն օգտագործելով. | C21: 282հ. 2-րդ մաս. 2-րդ կետ | D21: 0
A22: 11.16.2 | B22: Ֆինանսական բուրգ ստեղծելը,եթե կատարվել է իշխանական կամ ծառայողական լիազորությունները կամ դրանցով պայմանավորված ազդեցությունն օգտագործելով | C22: 282հ. 3-րդ մաս. | D22: 0
A23: 11.18.1 | B23: Հակամրցակցային գործունեությունը՝ իշխանական կամ ծառայողական լիազորությունները կամ դրանցով պայմանավորված ազդեցությունն օգտագործելով | C23: 284հ 2-րդ մաս. 2-րդ կետ | D23: 0
A24: 11.18.2 | B24: Հակամրցակցային գործունեությունը՝ եթե կատարվել է իշխանական կամ ծառայողական լիազորությունները կամ դրանցով պայմանավորված ազդեցությունն օգտագործելով | C24: 284հ 3-րդ մաս. | D24: 0
A25: 11.3 | B25: Փողերի լվացումը | C25: 296 | D25: 1 | G25: 1
A26: 22.1 | B26: Կաշառք ստանալը | C26: 435 | D26: 10 | F26: 2 | G26: 10 | L26: 2 | O26: 2 | R26: 2 | S26: 2 | Y26: 2 | Z26: 1 | AB26: 3
A27: 22.2 | B27: Կաշառք տալը | C27: 436 | D27: 2 | F27: 2 | G27: 1 | I27: 1 | L27: 3 | O27: 3 | R27: 1 | S27: 1 | AA27: 1 | AB27: 1
A28: 22.3 | B28: Կաշառքի միջնորդությունը | C28: 437 | D28: 0
A29: 22.4 | B29: Պաշտոնատար անձի նկատմամբ ունեցած իրական կամ ենթադրյալ ազդեցությունն օգտագործելը | C29: 438 | D29: 0
A30: 22.5 | B30: Պաշտոնատար անձի նկատմամբ ունեցած իրական կամ ենթադրյալ ազդեցությունն օգտագործելու նպատակով ապօրինի վարձատրություն տալը | C30: 439 | D30: 0 | F30: 1 | I30: 1 | L30: 1 | O30: 1 | X30: 1 | Y30: 1 | AB30: 2 | AC30: 1 | AG30: 1
A31: 22.6 | B31: Կաշառք ստանալու, կաշառքի միջնորդության կամ իրական կամ ենթադրյալ ազդեցությունը շահադիտական, անձնական այլ շահագրգռվածությունից կամ խմբային շահերից ելնելով օգտագործելու պատրվակով գույք, ներառյալ դրամական միջոց, արժեթուղթ, վճարային այլ գործիք, գույքի նկատմամբ իրավունք, ծառայություն կամ որևէ այլ առավելություն ստանալը | C31: 440 | D31: 1 | L31: 1 | O31: 1 | X31: 1 | Y31: 1 | Z31: 1 | AB31: 3
A32: 22.7 | B32: Պաշտոնատար անձի կողմից իշխանական կամ ծառայողական լիազորությունները կամ դրանցով պայմանավորված ազդեցությունը չարաշահելը կամ լիազորություններն անցնելը | C32: 441 | D32: 5 | F32: 1 | G32: 5 | L32: 1 | O32: 1 | X32: 1 | Y32: 2 | AB32: 3
A33: 22.8 | B33: Պաշտոնատար անձի կողմից ձեռնարկատիրական գործունեությանն ապօրինի մասնակցելը | C33: 442 | D33: 0
A34: 22.9 | B34: Ապօրինի հարստանալը | C34: 443 | D34: 0
A35: 22.1 | B35: Հայաստանի Հանրապետության օրենսդրությամբ սահմանված` հայտարարագիր ներկայացնելու պարտականություն ունեցող անձի կողմից հայտարարագրում կեղծ տվյալներ ներկայացնելը, հայտարարագրման ենթակա տվյալները թաքցնելը կամ հայտարարագիր չներկայացնելը | C35: 444 | D35: 0
A36: 22.11 | B36: Պաշտոնեական կեղծիքը | C36: 445 | D36: 2 | G36: 2 | X36: 1 | AB36: 1 | AC36: 1 | AG36: 1
A37: 24.5 | B37: Կաշառքի կամ մասնավոր ոլորտում կաշառքի պրովոկացիան | C37: 477 | D37: 0
A38: 24.8 | B38: Ակնհայտ անմեղ անձին քրեական պատասխանատվության ենթարկելը | C38: 480 | D38: 0
A39: 24.9 | B39: Քրեական պատասխանատվությունից ապօրինի ազատելը | C39: 481 | D39: 0
A40: 24.1 | B40: Ակնհայտ անարդար դատավճիռ, վճիռ կամ դատական այլ ակտ կայացնելը | C40: 482 | D40: 0
A41: 24.1.1 | B41: Արդարադատության իրականացմանը կամ գործի քննությանը միջամտելը՝ որը կատարվել է իշխանական կամ ծառայողական լիազորությունները կամ դրանցով պայմանավորված ազդեցությունն օգտագործելով, | C41: 486 hոդ. 2-րդ մաս. 2-րդ կետ. | D41: 0
A42: 24.1.2 | B42: Արդարադատության իրականացմանը կամ գործի քննությանը միջամտելը՝ եթե կատարվել է իշխանական կամ ծառայողական լիազորությունները կամ դրանցով պայմանավորված ազդեցությունն օգտագործելով | C42: 486 hոդ. 3-րդ մաս. | D42: 0
A43: 24.24 | B43: Դատավարության մասնակիցներին՝ իրենց լիազորությունների հետ կապված կաշառք տալը | C43: 496 | D43: 0
A44: 24.25 | B44: Դատավարության մասնակիցների կողմից իրենց լիազորությունների հետ կապված կաշառք ստանալը | C44: 497 | D44: 0
A45: 29.1 | B45: Իշխանազանցությունը կամ իշխանությունը չարաշահելը | C45: 549 | D45: 0 | F45: 2 | G45: 2 | X45: 1 | AB45: 1 | AC45: 1 | AG45: 1
A46: 30 | B46: Այլ հանցագործւթյուններ | C46: 393 19.1 | D46: 1 | G46: 1
B47: Ընդամենը | D47: =SUM(D7+D8+D9+D10+D11+D12+D13+D14+D15+D16+D17+D18+D19+D20+D21+D22+D23+D24+D25+D26+D27+D28+D29+D30+D31+D32+D33+D34+D35+D36+D37+D38+D39+D40+D41+D42+D43+D44+D45+D46) -> 28 | E47: =SUM(E7+E8+E9+E10+E11+E12+E13+E14+E15+E16+E17+E18+E19+E20+E21+E22+E23+E24+E25+E26+E27+E28+E29+E30+E31+E32+E33+E34+E35+E36+E37+E38+E39+E40+E41+E42+E43+E44+E45+E46) -> 0 | F47: =SUM(F7+F8+F9+F10+F11+F12+F13+F14+F15+F16+F17+F18+F19+F20+F21+F22+F23+F24+F25+F26+F27+F28+F29+F30+F31+F32+F33+F34+F35+F36+F37+F38+F39+F40+F41+F42+F43+F44+F45+F46) -> 16 | G47: =SUM(G7+G8+G9+G10+G11+G12+G13+G14+G15+G16+G17+G18+G19+G20+G21+G22+G23+G24+G25+G26+G27+G28+G29+G30+G31+G32+G33+G34+G35+G36+G37+G38+G39+G40+G41+G42+G43+G44+G45+G46) -> 33 | H47: =SUM(H7+H8+H9+H10+H11+H12+H13+H14+H15+H16+H17+H18+H19+H20+H21+H22+H23+H24+H25+H26+H27+H28+H29+H30+H31+H32+H33+H34+H35+H36+H37+H38+H39+H40+H41+H42+H43+H44+H45+H46) -> 0 | I47: =SUM(I7+I8+I9+I10+I11+I12+I13+I14+I15+I16+I17+I18+I19+I20+I21+I22+I23+I24+I25+I26+I27+I28+I29+I30+I31+I32+I33+I34+I35+I36+I37+I38+I39+I40+I41+I42+I43+I44+I45+I46) -> 2 | J47: =SUM(J7+J8+J9+J10+J11+J12+J13+J14+J15+J16+J17+J18+J19+J20+J21+J22+J23+J24+J25+J26+J27+J28+J29+J30+J31+J32+J33+J34+J35+J36+J37+J38+J39+J40+J41+J42+J43+J44+J45+J46) -> 0 | K47: =SUM(K7+K8+K9+K10+K11+K12+K13+K14+K15+K16+K17+K18+K19+K20+K21+K22+K23+K24+K25+K26+K27+K28+K29+K30+K31+K32+K33+K34+K35+K36+K37+K38+K39+K40+K41+K42+K43+K44+K45+K46) -> 0 | ... AG47: =SUM(AG7+AG8+AG9+AG10+AG11+AG12+AG13+AG14+AG15+AG16+AG17+AG18+AG19+AG20+AG21+AG22+AG23+AG24+AG25+AG26+AG27+AG28+AG29+AG30+AG31+AG32+AG33+AG34+AG35+AG36+AG37+AG38+AG39+AG40+AG41+AG42+AG43+AG44+AG45+AG46) -> 3
B48: (18.04.2003թ. ընդունված և 01.08.2003թ. ուժի մեջ մտած քրեական օրենսգրքով) դատավորին նախորդ հաշվետու ժամանակահատվածից փոխանցվել է 29, հաշվետու ժամանակահատվածում ստացվել է 1, կայացվել է դատավճիռ 8, կարճվել է՝ 0, բժշկական բնույթի հարկադրանքի միջոց 0, ընդդատություն- 0, միացում - 0, վերաբաշխվել է 22, հաշվետու ժամանակաշրջանում անավարտ գործեր 0-ը:

Sheet Վ. Սարգսյան
AE1: Հավելված 2 Բարձրագույն դատական խորհրդի 2022թվականի դեկտեմբերի 26-ի թիվ ԲԴԽ-122-Ո-408 որոշման
A2: 2025 ԹՎԱԿԱՆԻ ՏԱՐԵԿԱՆ ՀԱՇՎԵՏՎՈՒԹՅՈՒՆ ՀԱԿԱԿՈՌՈՒՊՑԻՈՆ ԴԱՏԱՐԱՆԻ ԴԱՏԱՎՈՐ ՎԱՐԴԳԵՍ ՍԱՐԳՍՅԱՆԻ ԳՈՐԾՈՒՆԵՈՒԹՅԱՆ ՎԵՐԱԲԵՐՅԱԼ
A3: Ստուգիչ հավասարումներ` 1+3=4+12+17+19, 12= 9+10+11, 25=21+22+23+24, 30=25+26+27+28+29 | C3: ՀՀ քրեական օրենսգրքի հոդվածներ | D3: Հաշվետու ժամանակահատվածի սկզբում նախորդ հաշվետու ժամանակահատվածից փոխանցված գործերի ընդհանուր թիվը | E3: Այդ թվում` կասեցված վիճակում փոխանցված | F3: Հաշվետու ժամանակահատվածում ստացված գործերի ընդհանուր թիվը | G3: փոխանցվել թ այլ դատավորի (վերաբաշխում) | H3: Որոշում է կայացվել քրեական գործը վերադարձնել հսկող դատախազին | I3: քանի գործով է կիրառվել համաձայնեցման վարույթ | J3: քանի գործով է կիրառվել համագործակցության վարույթ | K3: Հաշվետու ժամանակաշրջանում կայացվել է վերդիկտ | L3: Հաշվետու ժամանակաշրջանում կայացվել է դատավճիռ | M3: քրեական վարույթը կարճելու մաuին որոշում | N3: Հաշվետու ժամանակաշրջանում կայացվել է բժշկական հարկադրանքի դատավճիռ /ՀՀ ՔՐ. ԴԱՏ. ՕՐ. 432-ՐԴ ՀՈԴՎԱԾ/ | O3: ընդամենը | P3: Հաշվետու ժամանակահատվածում ավարտված գործերի ընդհանուր թիվը /ՀՀ ՔՐ. ԴԱՏ. ՕՐ. 14-ՐԴ ՀՈԴՎԱԾ/ | T3: Ուղարկվել է ըստ ընդդատության | U3: Հաշվետու ժամանակահատվածում կասեցված վարույթներով գործերի ընդհանուր թիվը | V3: Հաշվետու ժամանակահատվածում անավարտ գործերի ընդհանուր թիվը | W3: Այդ թվում՝ կասեցված | X3: Բողոքարկված վարութային ակտերի թիվը` ըստ տեսակների | AB3: ընդամենը բողոքարկվել են ակտեր | AC3: Բեկանված և փոփոխված ակտերի թիվը` ըստ տեսակների | AG3: ընդամենը բեկանվել են ակտեր
P4: քրեական վարույթը կարճելու մաuին որոշումն ուժի մեջ մտնելով. | Q4: Եզրափակիչ դատական ակտն ուժի մեջ է մտել | R4: Եզրափակիչ դատական ակտը հանձնվել է կատարման | S4: ավարտվել են քրեական գործեր | X4: Այդ թվում` եզրափակիչ դատական ակտերը | Z4: Այդ թվում` եզրափակիչ դատավարական ակտերը | AC4: Այդ թվում` եզրափակիչ դատական ակտերը | AE4: Այդ թվում` եզրափակիչ դատավարական ակտերը
X5: նախորդ տարիների կայացված ակտերի բողոքարկումը | Y5: հաշվետու ժամանակահատվածում կայացված ակտերի բողոքարկումը | Z5: նախորդ տարիների կայացված ակտերի բողոքարկումը | AA5: հաշվետու ժամանակահատվածում կայացված ակտերի բողոքարկումը | AC5: նախորդ տարիների կայացված ակտերի բողոքարկումը | AD5: հաշվետու ժամանակահատվածում կայացված ակտերի բողոքարկումը | AE5: նախորդ տարիների կայացված ակտերի բողոքարկումը | AF5: հաշվետու ժամանակահատվածում կայացված ակտերի բողոքարկումը
B6: Կոռուպցիոն հանցագործություններ | D6: 1 | E6: 2 | F6: 3 | G6: 4 | H6: 5 | I6: 6 | J6: 7 | K6: 8 | L6: 9 | M6: 10 | N6: 11 | O6: 12 | P6: 13 | Q6: 14 | R6: 15 | S6: 16 | T6: 17 | U6: 18 | V6: 19 | W6: 20 | X6: 21 | Y6: 22 | Z6: 23 | AA6: 24 | AB6: 25 | AC6: 26 | AD6: 27 | AE6: 28 | AF6: 29 | AG6: 30
A7: 9.4.1 | B7: Խարդախությունը՝ իշխանական կամ ծառայողական լիազորությունները կամ դրանցով պայմանավորված ազդեցությունն օգտագործելով | C7: 255 հ. 2-րդ մաս. 2-րդ կետ | D7: 0 | F7: 2 | L7: 1 | O7: 1 | V7: 1 | Y7: 1 | AB7: 1
A8: 9.4.2 | B8: Խարդախությունը՝ եթե կատարվել է իշխանական կամ ծառայողական լիազորությունները կամ դրանցով պայմանավորված ազդեցությունն օգտագործելով | C8: 255 հ. 3-րդ մաս. | D8: 1 | F8: 2 | G8: 1 | T8: 1 | V8: 1
A9: 9.5.1 | B9: Վստահված գույքը հափշտակելը՝ իշխանական կամ ծառայողական լիազորությունները կամ դրանցով պայմանավորված ազդեցությունն օգտագործելով, | C9: 256 հ. 2-րդ մաս. 2-րդ կետ | D9: 7 | F9: 2 | L9: 4 | O9: 4 | R9: 3 | S9: 3 | V9: 5
A10: 9.5.2 | B10: Վստահված գույքը հափշտակելը՝ եթե կատարվել է իշխանական կամ ծառայողական լիազորությունները կամ դրանցով պայմանավորված ազդեցությունն օգտագործելով | C10: 256 հ. 3-րդ մաս. | D10: 6 | F10: 4 | L10: 1 | O10: 1 | R10: 1 | S10: 1 | V10: 9 | AA10: 4 | AB10: 4
A11: 10.1.1 | B11: Շորթումը՝ իշխանական կամ ծառայողական լիազորությունները կամ դրանցով պայմանավորված ազդեցությունն օգտագործելով | C11: 258 հ. 2-րդ մաս. 9-րդ կետ | D11: 0
A12: 10.1.2 | B12: Շորթումը՝ եթե կատարվել է իշխանական կամ ծառայողական լիազորությունները կամ դրանցով պայմանավորված ազդեցությունն օգտագործելով | C12: 258 հ. 3-րդ մաս. | D12: 0
A13: 11.2.1 | B13: Ներքին տեղեկությունների անբարեխիղճ օգտագործումը՝ իշխանական կամ ծառայողական լիազորությունները կամ դրանցով պայմանավորված ազդեցությունն օգտագործելով | C13: 268 հ. 3-րդ մաս. 2-րդ. կետ | D13: 0
A14: 11.3.1 | B14: Արժեթղթերի շուկայում գնային չարաշահումը՝ իշխանական կամ ծառայողական լիազորությունները կամ դրանցով պայմանավորված ազդեցությունն օգտագործելով | C14: 269 հ. 3-րդ մաս. 3-րդ. կետ | D14: 0
A15: 11.6 | B15: Մասնավոր ոլորտում կաշառք ստանալը | C15: 272 | D15: 1 | V15: 1
A16: 11.7 | B16: Մասնավոր ոլորտում կաշառք տալը | C16: 273 | D16: 0
A17: 11.8 | B17: Հայաստանի Հանրապետության կամ այլ պետության մարզիկի, մրցավարի, թիմի ղեկավարի, մարզչի, արհեստավարժ մարզամրցման այլ մասնակցի կամ դրա կազմակերպչի, հանդիսադիր առևտրային մրցույթի մասնակցի կամ դրա կազմակերպչի կամ մրցանակաբաշխային հանձնաժողովի անդամի կողմից կաշառք ստանալը | C17: 274 | D17: 0
A18: 11.9 | B18: Հայաստանի Հանրապետության կամ այլ պետության մարզիկին, մրցավարին, թիմի ղեկավարին, մարզչին, արհեստավարժ մարզամրցման այլ մասնակցի կամ դրա կազմակերպչին, հանդիսադիր առևտրային մրցույթի մասնակցին կամ դրա կազմակերպչին կամ մրցանակաբաշխային հանձնաժողովի անդամին կաշառք տալը | C18: 275 | D18: 0
A19: 11.1 | B19: Ծառայողական կամ մասնագիտական պարտականությունները կատարելու համար ապօրինի վարձատրություն ստանալը կամ պահանջելը | C19: 276 | D19: 0
A20: 11.11 | B20: Մասնավոր ոլորտում ծառայողական լիազորությունները կամ դրանցով պայմանավորված ազդեցությունը չարաշահելը | C20: 277 | D20: 0
A21: 11.16.1 | B21: Ֆինանսական բուրգ ստեղծելը, կազմակերպելը կամ ղեկավարելը՝ իշխանական կամ ծառայողական լիազորությունները կամ դրանցով պայմանավորված ազդեցությունն օգտագործելով. | C21: 282հ. 2-րդ մաս. 2-րդ կետ | D21: 0
A22: 11.16.2 | B22: Ֆինանսական բուրգ ստեղծելը,եթե կատարվել է իշխանական կամ ծառայողական լիազորությունները կամ դրանցով պայմանավորված ազդեցությունն օգտագործելով | C22: 282հ. 3-րդ մաս. | D22: 0
A23: 11.18.1 | B23: Հակամրցակցային գործունեությունը՝ իշխանական կամ ծառայողական լիազորությունները կամ դրանցով պայմանավորված ազդեցությունն օգտագործելով | C23: 284հ 2-րդ մաս. 2-րդ կետ | D23: 0
A24: 11.18.2 | B24: Հակամրցակցային գործունեությունը՝ եթե կատարվել է իշխանական կամ ծառայողական լիազորությունները կամ դրանցով պայմանավորված ազդեցությունն օգտագործելով | C24: 284հ 3-րդ մաս. | D24: 0
A25: 11.3 | B25: Փողերի լվացումը | C25: 296 | D25: 3 | F25: 3 | G25: 1 | V25: 5
A26: 22.1 | B26: Կաշառք ստանալը | C26: 435 | D26: 9 | F26: 3 | L26: 3 | O26: 3 | R26: 1 | S26: 1 | V26: 9 | X26: 2 | Y26: 2 | AB26: 4
A27: 22.2 | B27: Կաշառք տալը | C27: 436 | D27: 1 | F27: 4 | L27: 2 | O27: 2 | V27: 3 | Y27: 2 | AB27: 2
A28: 22.3 | B28: Կաշառքի միջնորդությունը | C28: 437 | D28: 0
A29: 22.4 | B29: Պաշտոնատար անձի նկատմամբ ունեցած իրական կամ ենթադրյալ ազդեցությունն օգտագործելը | C29: 438 | D29: 0 | F29: 1 | V29: 1
A30: 22.5 | B30: Պաշտոնատար անձի նկատմամբ ունեցած իրական կամ ենթադրյալ ազդեցությունն օգտագործելու նպատակով ապօրինի վարձատրություն տալը | C30: 439 | D30: 0 | F30: 2 | L30: 1 | O30: 1 | R30: 1 | S30: 1 | V30: 1 | Y30: 1 | AB30: 1
A31: 22.6 | B31: Կաշառք ստանալու, կաշառքի միջնորդության կամ իրական կամ ենթադրյալ ազդեցությունը շահադիտական, անձնական այլ շահագրգռվածությունից կամ խմբային շահերից ելնելով օգտագործելու պատրվակով գույք, ներառյալ դրամական միջոց, արժեթուղթ, վճարային այլ գործիք, գույքի նկատմամբ իրավունք, ծառայություն կամ որևէ այլ առավելություն ստանալը | C31: 440 | D31: 0
A32: 22.7 | B32: Պաշտոնատար անձի կողմից իշխանական կամ ծառայողական լիազորությունները կամ դրանցով պայմանավորված ազդեցությունը չարաշահելը կամ լիազորություններն անցնելը | C32: 441 | D32: 3 | F32: 2 | V32: 5
A33: 22.8 | B33: Պաշտոնատար անձի կողմից ձեռնարկատիրական գործունեությանն ապօրինի մասնակցելը | C33: 442 | D33: 0
A34: 22.9 | B34: Ապօրինի հարստանալը | C34: 443 | D34: 0
A35: 22.1 | B35: Հայաստանի Հանրապետության օրենսդրությամբ սահմանված` հայտարարագիր ներկայացնելու պարտականություն ունեցող անձի կողմից հայտարարագրում կեղծ տվյալներ ներկայացնելը, հայտարարագրման ենթակա տվյալները թաքցնելը կամ հայտարարագիր չներկայացնելը | C35: 444 | D35: 0 | F35: 1 | L35: 1 | O35: 1 | R35: 1 | S35: 1
A36: 22.11 | B36: Պաշտոնեական կեղծիքը | C36: 445 | D36: 1 | F36: 1 | L36: 1 | O36: 1 | V36: 1 | Y36: 1 | AB36: 1
A37: 24.5 | B37: Կաշառքի կամ մասնավոր ոլորտում կաշառքի պրովոկացիան | C37: 477 | D37: 0
A38: 24.8 | B38: Ակնհայտ անմեղ անձին քրեական պատասխանատվության ենթարկելը | C38: 480 | D38: 0
A39: 24.9 | B39: Քրեական պատասխանատվությունից ապօրինի ազատելը | C39: 481 | D39: 0
A40: 24.1 | B40: Ակնհայտ անարդար դատավճիռ, վճիռ կամ դատական այլ ակտ կայացնելը | C40: 482 | D40: 0
A41: 24.1.1 | B41: Արդարադատության իրականացմանը կամ գործի քննությանը միջամտելը՝ որը կատարվել է իշխանական կամ ծառայողական լիազորությունները կամ դրանցով պայմանավորված ազդեցությունն օգտագործելով, | C41: 486 hոդ. 2-րդ մաս. 2-րդ կետ. | D41: 0
A42: 24.1.2 | B42: Արդարադատության իրականացմանը կամ գործի քննությանը միջամտելը՝ եթե կատարվել է իշխանական կամ ծառայողական լիազորությունները կամ դրանցով պայմանավորված ազդեցությունն օգտագործելով | C42: 486 hոդ. 3-րդ մաս. | D42: 0
A43: 24.24 | B43: Դատավարության մասնակիցներին՝ իրենց լիազորությունների հետ կապված կաշառք տալը | C43: 496 | D43: 0
A44: 24.25 | B44: Դատավարության մասնակիցների կողմից իրենց լիազորությունների հետ կապված կաշառք ստանալը | C44: 497 | D44: 0
A45: 29.1 | B45: Իշխանազանցությունը կամ իշխանությունը չարաշահելը | C45: 549 | D45: 4 | L45: 1 | O45: 1 | R45: 1 | S45: 1 | V45: 3 | Z45: 1 | AA45: 3 | AB45: 4
A46: 30 | B46: Այլ հանցագործւթյուններ | D46: 0
B47: Ընդամենը | D47: =SUM(D7+D8+D9+D10+D11+D12+D13+D14+D15+D16+D17+D18+D19+D20+D21+D22+D23+D24+D25+D26+D27+D28+D29+D30+D31+D32+D33+D34+D35+D36+D37+D38+D39+D40+D41+D42+D43+D44+D45+D46) -> 36 | E47: =SUM(E7+E8+E9+E10+E11+E12+E13+E14+E15+E16+E17+E18+E19+E20+E21+E22+E23+E24+E25+E26+E27+E28+E29+E30+E31+E32+E33+E34+E35+E36+E37+E38+E39+E40+E41+E42+E43+E44+E45+E46) -> 0 | F47: =SUM(F7+F8+F9+F10+F11+F12+F13+F14+F15+F16+F17+F18+F19+F20+F21+F22+F23+F24+F25+F26+F27+F28+F29+F30+F31+F32+F33+F34+F35+F36+F37+F38+F39+F40+F41+F42+F43+F44+F45+F46) -> 27 | G47: =SUM(G7+G8+G9+G10+G11+G12+G13+G14+G15+G16+G17+G18+G19+G20+G21+G22+G23+G24+G25+G26+G27+G28+G29+G30+G31+G32+G33+G34+G35+G36+G37+G38+G39+G40+G41+G42+G43+G44+G45+G46) -> 2 | H47: =SUM(H7+H8+H9+H10+H11+H12+H13+H14+H15+H16+H17+H18+H19+H20+H21+H22+H23+H24+H25+H26+H27+H28+H29+H30+H31+H32+H33+H34+H35+H36+H37+H38+H39+H40+H41+H42+H43+H44+H45+H46) -> 0 | I47: =SUM(I7+I8+I9+I10+I11+I12+I13+I14+I15+I16+I17+I18+I19+I20+I21+I22+I23+I24+I25+I26+I27+I28+I29+I30+I31+I32+I33+I34+I35+I36+I37+I38+I39+I40+I41+I42+I43+I44+I45+I46) -> 0 | J47: =SUM(J7+J8+J9+J10+J11+J12+J13+J14+J15+J16+J17+J18+J19+J20+J21+J22+J23+J24+J25+J26+J27+J28+J29+J30+J31+J32+J33+J34+J35+J36+J37+J38+J39+J40+J41+J42+J43+J44+J45+J46) -> 0 | K47: =SUM(K7+K8+K9+K10+K11+K12+K13+K14+K15+K16+K17+K18+K19+K20+K21+K22+K23+K24+K25+K26+K27+K28+K29+K30+K31+K32+K33+K34+K35+K36+K37+K38+K39+K40+K41+K42+K43+K44+K45+K46) -> 0 | ... AG47: =SUM(AG7+AG8+AG9+AG10+AG11+AG12+AG13+AG14+AG15+AG16+AG17+AG18+AG19+AG20+AG21+AG22+AG23+AG24+AG25+AG26+AG27+AG28+AG29+AG30+AG31+AG32+AG33+AG34+AG35+AG36+AG37+AG38+AG39+AG40+AG41+AG42+AG43+AG44+AG45+AG46) -> 0
B48: (18.04.2003թ. ընդունված և 01.08.2003թ. ուժի մեջ մտած քրեական օրենսգրքով) դատավորին նախորդ հաշվետու ժամանակահատվածից փոխանցվել է 18, հաշվետու ժամանակահատվածում ստացվել է 10, կայացվել է դատավճիռ 5, կարճվել է՝ 0, բժշկական բնույթի հարկադրանքի միջոց 0, ընդդատություն- 0, միացում - 1, վերաբաշխվել է 2, հաշվետու ժամանակաշրջանում անավարտ գործեր 20-ը:

Sheet Գ. Հովհաննիսյան
AE1: Հավելված 2 Բարձրագույն դատական խորհրդի 2022թվականի դեկտեմբերի 26-ի թիվ ԲԴԽ-122-Ո-408 որոշման
A2: 2025 ԹՎԱԿԱՆԻ ՏԱՐԵԿԱՆ ՀԱՇՎԵՏՎՈՒԹՅՈՒՆ ՀԱԿԱԿՈՌՈՒՊՑԻՈՆ ԴԱՏԱՐԱՆԻ ԴԱՏԱՎՈՐ ԳԻՎԻ ՀՈՎՀԱՆՆԻՍՅԱՆԻ ԳՈՐԾՈՒՆԵՈՒԹՅԱՆ ՎԵՐԱԲԵՐՅԱԼ
A3: Ստուգիչ հավասարումներ` 1+3=4+12+17+19, 12= 9+10+11, 25=21+22+23+24, 30=25+26+27+28+29 | C3: ՀՀ քրեական օրենսգրքի հոդվածներ | D3: Հաշվետու ժամանակահատվածի սկզբում նախորդ հաշվետու ժամանակահատվածից փոխանցված գործերի ընդհանուր թիվը | E3: Այդ թվում` կասեցված վիճակում փոխանցված | F3: Հաշվետու ժամանակահատվածում ստացված գործերի ընդհանուր թիվը | G3: փոխանցվել թ այլ դատավորի (վերաբաշխում) | H3: Որոշում է կայացվել քրեական գործը վերադարձնել հսկող դատախազին | I3: քանի գործով է կիրառվել համաձայնեցման վարույթ | J3: քանի գործով է կիրառվել համագործակցության վարույթ | K3: Հաշվետու ժամանակաշրջանում կայացվել է վերդիկտ | L3: Հաշվետու ժամանակաշրջանում կայացվել է դատավճիռ | M3: քրեական վարույթը կարճելու մաuին որոշում | N3: Հաշվետու ժամանակաշրջանում կայացվել է բժշկական հարկադրանքի դատավճիռ /ՀՀ ՔՐ. ԴԱՏ. ՕՐ. 432-ՐԴ ՀՈԴՎԱԾ/ | O3: ընդամենը | P3: Հաշվետու ժամանակահատվածում ավարտված գործերի ընդհանուր թիվը /ՀՀ ՔՐ. ԴԱՏ. ՕՐ. 14-ՐԴ ՀՈԴՎԱԾ/ | T3: Ուղարկվել է ըստ ընդդատության | U3: Հաշվետու ժամանակահատվածում կասեցված վարույթներով գործերի ընդհանուր թիվը | V3: Հաշվետու ժամանակահատվածում անավարտ գործերի ընդհանուր թիվը | W3: Այդ թվում՝ կասեցված | X3: Բողոքարկված վարութային ակտերի թիվը` ըստ տեսակների | AB3: ընդամենը բողոքարկվել են ակտեր | AC3: Բեկանված և փոփոխված ակտերի թիվը` ըստ տեսակների | AG3: ընդամենը բեկանվել են ակտեր
P4: քրեական վարույթը կարճելու մաuին որոշումն ուժի մեջ մտնելով. | Q4: Եզրափակիչ դատական ակտն ուժի մեջ է մտել | R4: Եզրափակիչ դատական ակտը հանձնվել է կատարման | S4: ավարտվել են քրեական գործեր | X4: Այդ թվում` եզրափակիչ դատական ակտերը | Z4: Այդ թվում` եզրափակիչ դատավարական ակտերը | AC4: Այդ թվում` եզրափակիչ դատական ակտերը | AE4: Այդ թվում` եզրափակիչ դատավարական ակտերը
X5: նախորդ տարիների կայացված ակտերի բողոքարկումը | Y5: հաշվետու ժամանակահատվածում կայացված ակտերի բողոքարկումը | Z5: նախորդ տարիների կայացված ակտերի բողոքարկումը | AA5: հաշվետու ժամանակահատվածում կայացված ակտերի բողոքարկումը | AC5: նախորդ տարիների կայացված ակտերի բողոքարկումը | AD5: հաշվետու ժամանակահատվածում կայացված ակտերի բողոքարկումը | AE5: նախորդ տարիների կայացված ակտերի բողոքարկումը | AF5: հաշվետու ժամանակահատվածում կայացված ակտերի բողոքարկումը
B6: Կոռուպցիոն հանցագործություններ | D6: 1 | E6: 2 | F6: 3 | G6: 4 | H6: 5 | I6: 6 | J6: 7 | K6: 8 | L6: 9 | M6: 10 | N6: 11 | O6: 12 | P6: 13 | Q6: 14 | R6: 15 | S6: 16 | T6: 17 | U6: 18 | V6: 19 | W6: 20 | X6: 21 | Y6: 22 | Z6: 23 | AA6: 24 | AB6: 25 | AC6: 26 | AD6: 27 | AE6: 28 | AF6: 29 | AG6: 30
A7: 9.4.1 | B7: Խարդախությունը՝ իշխանական կամ ծառայողական լիազորությունները կամ դրանցով պայմանավորված ազդեցությունն օգտագործելով | C7: 255 հ. 2-րդ մաս. 2-րդ կետ | D7: 0 | F7: 1 | I7: 1 | L7: 1 | O7: 1 | R7: 1 | S7: 1
A8: 9.4.2 | B8: Խարդախությունը՝ եթե կատարվել է իշխանական կամ ծառայողական լիազորությունները կամ դրանցով պայմանավորված ազդեցությունն օգտագործելով | C8: 255 հ. 3-րդ մաս. | D8: 2 | V8: 2 | AA8: 1 | AB8: 1
A9: 9.5.1 | B9: Վստահված գույքը հափշտակելը՝ իշխանական կամ ծառայողական լիազորությունները կամ դրանցով պայմանավորված ազդեցությունն օգտագործելով, | C9: 256 հ. 2-րդ մաս. 2-րդ կետ | D9: 4 | F9: 7 | I9: 1 | L9: 2 | M9: 2 | O9: 4 | P9: 1 | S9: 1 | V9: 7 | X9: 1 | Y9: 1 | AA9: 3 | AB9: 5 | AC9: 1 | AG9: 1
A10: 9.5.2 | B10: Վստահված գույքը հափշտակելը՝ եթե կատարվել է իշխանական կամ ծառայողական լիազորությունները կամ դրանցով պայմանավորված ազդեցությունն օգտագործելով | C10: 256 հ. 3-րդ մաս. | D10: 3 | F10: 2 | L10: 1 | O10: 1 | V10: 4 | Z10: 1 | AA10: 1 | AB10: 2
A11: 10.1.1 | B11: Շորթումը՝ իշխանական կամ ծառայողական լիազորությունները կամ դրանցով պայմանավորված ազդեցությունն օգտագործելով | C11: 258 հ. 2-րդ մաս. 9-րդ կետ | D11: 0
A12: 10.1.2 | B12: Շորթումը՝ եթե կատարվել է իշխանական կամ ծառայողական լիազորությունները կամ դրանցով պայմանավորված ազդեցությունն օգտագործելով | C12: 258 հ. 3-րդ մաս. | D12: 0
A13: 11.2.1 | B13: Ներքին տեղեկությունների անբարեխիղճ օգտագործումը՝ իշխանական կամ ծառայողական լիազորությունները կամ դրանցով պայմանավորված ազդեցությունն օգտագործելով | C13: 268 հ. 3-րդ մաս. 2-րդ. կետ | D13: 0
A14: 11.3.1 | B14: Արժեթղթերի շուկայում գնային չարաշահումը՝ իշխանական կամ ծառայողական լիազորությունները կամ դրանցով պայմանավորված ազդեցությունն օգտագործելով | C14: 269 հ. 3-րդ մաս. 3-րդ. կետ | D14: 0
A15: 11.6 | B15: Մասնավոր ոլորտում կաշառք ստանալը | C15: 272 | D15: 0
A16: 11.7 | B16: Մասնավոր ոլորտում կաշառք տալը | C16: 273 | D16: 0
A17: 11.8 | B17: Հայաստանի Հանրապետության կամ այլ պետության մարզիկի, մրցավարի, թիմի ղեկավարի, մարզչի, արհեստավարժ մարզամրցման այլ մասնակցի կամ դրա կազմակերպչի, հանդիսադիր առևտրային մրցույթի մասնակցի կամ դրա կազմակերպչի կամ մրցանակաբաշխային հանձնաժողովի անդամի կողմից կաշառք ստանալը | C17: 274 | D17: 0
A18: 11.9 | B18: Հայաստանի Հանրապետության կամ այլ պետության մարզիկին, մրցավարին, թիմի ղեկավարին, մարզչին, արհեստավարժ մարզամրցման այլ մասնակցի կամ դրա կազմակերպչին, հանդիսադիր առևտրային մրցույթի մասնակցին կամ դրա կազմակերպչին կամ մրցանակաբաշխային հանձնաժողովի անդամին կաշառք տալը | C18: 275 | D18: 0
A19: 11.1 | B19: Ծառայողական կամ մասնագիտական պարտականությունները կատարելու համար ապօրինի վարձատրություն ստանալը կամ պահանջելը | C19: 276 | D19: 0
A20: 11.11 | B20: Մասնավոր ոլորտում ծառայողական լիազորությունները կամ դրանցով պայմանավորված ազդեցությունը չարաշահելը | C20: 277 | D20: 0 | F20: 1 | V20: 1
A21: 11.16.1 | B21: Ֆինանսական բուրգ ստեղծելը, կազմակերպելը կամ ղեկավարելը՝ իշխանական կամ ծառայողական լիազորությունները կամ դրանցով պայմանավորված ազդեցությունն օգտագործելով. | C21: 282հ. 2-րդ մաս. 2-րդ կետ | D21: 0
A22: 11.16.2 | B22: Ֆինանսական բուրգ ստեղծելը,եթե կատարվել է իշխանական կամ ծառայողական լիազորությունները կամ դրանցով պայմանավորված ազդեցությունն օգտագործելով | C22: 282հ. 3-րդ մաս. | D22: 0
A23: 11.18.1 | B23: Հակամրցակցային գործունեությունը՝ իշխանական կամ ծառայողական լիազորությունները կամ դրանցով պայմանավորված ազդեցությունն օգտագործելով | C23: 284հ 2-րդ մաս. 2-րդ կետ | D23: 0
A24: 11.18.2 | B24: Հակամրցակցային գործունեությունը՝ եթե կատարվել է իշխանական կամ ծառայողական լիազորությունները կամ դրանցով պայմանավորված ազդեցությունն օգտագործելով | C24: 284հ 3-րդ մաս. | D24: 0
A25: 11.3 | B25: Փողերի լվացումը | C25: 296 | D25: 4 | F25: 1 | V25: 5 | Z25: 1 | AB25: 1
A26: 22.1 | B26: Կաշառք ստանալը | C26: 435 | D26: 8 | F26: 5 | L26: 1 | O26: 1 | V26: 12 | X26: 1 | Z26: 1 | AA26: 16 | AB26: 18
A27: 22.2 | B27: Կաշառք տալը | C27: 436 | D27: 1 | F27: 6 | L27: 2 | O27: 2 | R27: 1 | S27: 1 | V27: 5 | AA27: 1 | AB27: 1 | AF27: 1 | AG27: 1
A28: 22.3 | B28: Կաշառքի միջնորդությունը | C28: 437 | D28: 0
A29: 22.4 | B29: Պաշտոնատար անձի նկատմամբ ունեցած իրական կամ ենթադրյալ ազդեցությունն օգտագործելը | C29: 438 | D29: 0
A30: 22.5 | B30: Պաշտոնատար անձի նկատմամբ ունեցած իրական կամ ենթադրյալ ազդեցությունն օգտագործելու նպատակով ապօրինի վարձատրություն տալը | C30: 439 | D30: 0
A31: 22.6 | B31: Կաշառք ստանալու, կաշառքի միջնորդության կամ իրական կամ ենթադրյալ ազդեցությունը շահադիտական, անձնական այլ շահագրգռվածությունից կամ խմբային շահերից ելնելով օգտագործելու պատրվակով գույք, ներառյալ դրամական միջոց, արժեթուղթ, վճարային այլ գործիք, գույքի նկատմամբ իրավունք, ծառայություն կամ որևէ այլ առավելություն ստանալը | C31: 440 | D31: 0
A32: 22.7 | B32: Պաշտոնատար անձի կողմից իշխանական կամ ծառայողական լիազորությունները կամ դրանցով պայմանավորված ազդեցությունը չարաշահելը կամ լիազորություններն անցնելը | C32: 441 | D32: 5 | F32: 6 | L32: 3 | O32: 3 | R32: 1 | S32: 1 | V32: 8 | X32: 2 | Y32: 1 | Z32: 2 | AA32: 1 | AB32: 6 | AF32: 1 | AG32: 1
A33: 22.8 | B33: Պաշտոնատար անձի կողմից ձեռնարկատիրական գործունեությանն ապօրինի մասնակցելը | C33: 442 | D33: 0
A34: 22.9 | B34: Ապօրինի հարստանալը | C34: 443 | D34: 0
A35: 22.1 | B35: Հայաստանի Հանրապետության օրենսդրությամբ սահմանված` հայտարարագիր ներկայացնելու պարտականություն ունեցող անձի կողմից հայտարարագրում կեղծ տվյալներ ներկայացնելը, հայտարարագրման ենթակա տվյալները թաքցնելը կամ հայտարարագիր չներկայացնելը | C35: 444 | D35: 0
A36: 22.11 | B36: Պաշտոնեական կեղծիքը | C36: 445 | D36: 2 | F36: 3 | L36: 3 | O36: 3 | R36: 1 | S36: 1 | V36: 2 | X36: 1 | AA36: 1 | AB36: 2 | AC36: 1 | AG36: 1
A37: 24.5 | B37: Կաշառքի կամ մասնավոր ոլորտում կաշառքի պրովոկացիան | C37: 477 | D37: 0
A38: 24.8 | B38: Ակնհայտ անմեղ անձին քրեական պատասխանատվության ենթարկելը | C38: 480 | D38: 0
A39: 24.9 | B39: Քրեական պատասխանատվությունից ապօրինի ազատելը | C39: 481 | D39: 0
A40: 24.1 | B40: Ակնհայտ անարդար դատավճիռ, վճիռ կամ դատական այլ ակտ կայացնելը | C40: 482 | D40: 0
A41: 24.1.1 | B41: Արդարադատության իրականացմանը կամ գործի քննությանը միջամտելը՝ որը կատարվել է իշխանական կամ ծառայողական լիազորությունները կամ դրանցով պայմանավորված ազդեցությունն օգտագործելով, | C41: 486 hոդ. 2-րդ մաս. 2-րդ կետ. | D41: 0
A42: 24.1.2 | B42: Արդարադատության իրականացմանը կամ գործի քննությանը միջամտելը՝ եթե կատարվել է իշխանական կամ ծառայողական լիազորությունները կամ դրանցով պայմանավորված ազդեցությունն օգտագործելով | C42: 486 hոդ. 3-րդ մաս. | D42: 0
A43: 24.24 | B43: Դատավարության մասնակիցներին՝ իրենց լիազորությունների հետ կապված կաշառք տալը | C43: 496 | D43: 0
A44: 24.25 | B44: Դատավարության մասնակիցների կողմից իրենց լիազորությունների հետ կապված կաշառք ստանալը | C44: 497 | D44: 0
A45: 29.1 | B45: Իշխանազանցությունը կամ իշխանությունը չարաշահելը | C45: 549 | D45: 1 | F45: 1 | V45: 2
A46: 30 | B46: Այլ հանցագործւթյուններ | C46: 23.7 | D46: 0 | F46: 1 | T46: 1
B47: Ընդամենը | D47: =SUM(D7+D8+D9+D10+D11+D12+D13+D14+D15+D16+D17+D18+D19+D20+D21+D22+D23+D24+D25+D26+D27+D28+D29+D30+D31+D32+D33+D34+D35+D36+D37+D38+D39+D40+D41+D42+D43+D44+D45+D46) -> 30 | E47: =SUM(E7+E8+E9+E10+E11+E12+E13+E14+E15+E16+E17+E18+E19+E20+E21+E22+E23+E24+E25+E26+E27+E28+E29+E30+E31+E32+E33+E34+E35+E36+E37+E38+E39+E40+E41+E42+E43+E44+E45+E46) -> 0 | F47: =SUM(F7+F8+F9+F10+F11+F12+F13+F14+F15+F16+F17+F18+F19+F20+F21+F22+F23+F24+F25+F26+F27+F28+F29+F30+F31+F32+F33+F34+F35+F36+F37+F38+F39+F40+F41+F42+F43+F44+F45+F46) -> 34 | G47: =SUM(G7+G8+G9+G10+G11+G12+G13+G14+G15+G16+G17+G18+G19+G20+G21+G22+G23+G24+G25+G26+G27+G28+G29+G30+G31+G32+G33+G34+G35+G36+G37+G38+G39+G40+G41+G42+G43+G44+G45+G46) -> 0 | H47: =SUM(H7+H8+H9+H10+H11+H12+H13+H14+H15+H16+H17+H18+H19+H20+H21+H22+H23+H24+H25+H26+H27+H28+H29+H30+H31+H32+H33+H34+H35+H36+H37+H38+H39+H40+H41+H42+H43+H44+H45+H46) -> 0 | I47: =SUM(I7+I8+I9+I10+I11+I12+I13+I14+I15+I16+I17+I18+I19+I20+I21+I22+I23+I24+I25+I26+I27+I28+I29+I30+I31+I32+I33+I34+I35+I36+I37+I38+I39+I40+I41+I42+I43+I44+I45+I46) -> 2 | J47: =SUM(J7+J8+J9+J10+J11+J12+J13+J14+J15+J16+J17+J18+J19+J20+J21+J22+J23+J24+J25+J26+J27+J28+J29+J30+J31+J32+J33+J34+J35+J36+J37+J38+J39+J40+J41+J42+J43+J44+J45+J46) -> 0 | K47: =SUM(K7+K8+K9+K10+K11+K12+K13+K14+K15+K16+K17+K18+K19+K20+K21+K22+K23+K24+K25+K26+K27+K28+K29+K30+K31+K32+K33+K34+K35+K36+K37+K38+K39+K40+K41+K42+K43+K44+K45+K46) -> 0 | ... AG47: =SUM(AG7+AG8+AG9+AG10+AG11+AG12+AG13+AG14+AG15+AG16+AG17+AG18+AG19+AG20+AG21+AG22+AG23+AG24+AG25+AG26+AG27+AG28+AG29+AG30+AG31+AG32+AG33+AG34+AG35+AG36+AG37+AG38+AG39+AG40+AG41+AG42+AG43+AG44+AG45+AG46) -> 4
B48: (18.04.2003թ. ընդունված և 01.08.2003թ. ուժի մեջ մտած քրեական օրենսգրքով) դատավորին նախորդ հաշվետու ժամանակահատվածից փոխանցվել է 22, հաշվետու ժամանակահատվածում ստացվել է 5, կայացվել է դատավճիռ 0, կարճվել է՝ 1, բժշկական բնույթի հարկադրանքի միջոց 0, ընդդատություն- 1, միացում - 1, վերաբաշխվել է 0, հաշվետու ժամանակաշրջանում անավարտ գործեր 24-ը:

Sheet Մ. Մոսինյան
AE1: Հավելված 2 Բարձրագույն դատական խորհրդի 2022թվականի դեկտեմբերի 26-ի թիվ ԲԴԽ-122-Ո-408 որոշման
A2: 2025 ԹՎԱԿԱՆԻ ՏԱՐԵԿԱՆ ՀԱՇՎԵՏՎՈՒԹՅՈՒՆ ՀԱԿԱԿՈՌՈՒՊՑԻՈՆ ԴԱՏԱՐԱՆԻ ԴԱՏԱՎՈՐ ՄԵՐԻ ՄՈՍԻՆՅԱՆԻ ԳՈՐԾՈՒՆԵՈՒԹՅԱՆ ՎԵՐԱԲԵՐՅԱԼ
A3: Ստուգիչ հավասարումներ` 1+3=4+12+17+19, 12= 9+10+11, 25=21+22+23+24, 30=25+26+27+28+29 | C3: ՀՀ քրեական օրենսգրքի հոդվածներ | D3: Հաշվետու ժամանակահատվածի սկզբում նախորդ հաշվետու ժամանակահատվածից փոխանցված գործերի ընդհանուր թիվը | E3: Այդ թվում` կասեցված վիճակում փոխանցված | F3: Հաշվետու ժամանակահատվածում ստացված գործերի ընդհանուր թիվը | G3: փոխանցվել թ այլ դատավորի (վերաբաշխում) | H3: Որոշում է կայացվել քրեական գործը վերադարձնել հսկող դատախազին | I3: քանի գործով է կիրառվել համաձայնեցման վարույթ | J3: քանի գործով է կիրառվել համագործակցության վարույթ | K3: Հաշվետու ժամանակաշրջանում կայացվել է վերդիկտ | L3: Հաշվետու ժամանակաշրջանում կայացվել է դատավճիռ | M3: քրեական վարույթը կարճելու մաuին որոշում | N3: Հաշվետու ժամանակաշրջանում կայացվել է բժշկական հարկադրանքի դատավճիռ /ՀՀ ՔՐ. ԴԱՏ. ՕՐ. 432-ՐԴ ՀՈԴՎԱԾ/ | O3: ընդամենը | P3: Հաշվետու ժամանակահատվածում ավարտված գործերի ընդհանուր թիվը /ՀՀ ՔՐ. ԴԱՏ. ՕՐ. 14-ՐԴ ՀՈԴՎԱԾ/ | T3: Ուղարկվել է ըստ ընդդատության | U3: Հաշվետու ժամանակահատվածում կասեցված վարույթներով գործերի ընդհանուր թիվը | V3: Հաշվետու ժամանակահատվածում անավարտ գործերի ընդհանուր թիվը | W3: Այդ թվում՝ կասեցված | X3: Բողոքարկված վարութային ակտերի թիվը` ըստ տեսակների | AB3: ընդամենը բողոքարկվել են ակտեր | AC3: Բեկանված և փոփոխված ակտերի թիվը` ըստ տեսակների | AG3: ընդամենը բեկանվել են ակտեր
P4: քրեական վարույթը կարճելու մաuին որոշումն ուժի մեջ մտնելով. | Q4: Եզրափակիչ դատական ակտն ուժի մեջ է մտել | R4: Եզրափակիչ դատական ակտը հանձնվել է կատարման | S4: ավարտվել են քրեական գործեր | X4: Այդ թվում` եզրափակիչ դատական ակտերը | Z4: Այդ թվում` եզրափակիչ դատավարական ակտերը | AC4: Այդ թվում` եզրափակիչ դատական ակտերը | AE4: Այդ թվում` եզրափակիչ դատավարական ակտերը
X5: նախորդ տարիների կայացված ակտերի բողոքարկումը | Y5: հաշվետու ժամանակահատվածում կայացված ակտերի բողոքարկումը | Z5: նախորդ տարիների կայացված ակտերի բողոքարկումը | AA5: հաշվետու ժամանակահատվածում կայացված ակտերի բողոքարկումը | AC5: նախորդ տարիների կայացված ակտերի բողոքարկումը | AD5: հաշվետու ժամանակահատվածում կայացված ակտերի բողոքարկումը | AE5: նախորդ տարիների կայացված ակտերի բողոքարկումը | AF5: հաշվետու ժամանակահատվածում կայացված ակտերի բողոքարկումը
B6: Կոռուպցիոն հանցագործություններ | D6: 1 | E6: 2 | F6: 3 | G6: 4 | H6: 5 | I6: 6 | J6: 7 | K6: 8 | L6: 9 | M6: 10 | N6: 11 | O6: 12 | P6: 13 | Q6: 14 | R6: 15 | S6: 16 | T6: 17 | U6: 18 | V6: 19 | W6: 20 | X6: 21 | Y6: 22 | Z6: 23 | AA6: 24 | AB6: 25 | AC6: 26 | AD6: 27 | AE6: 28 | AF6: 29 | AG6: 30
A7: 9.4.1 | B7: Խարդախությունը՝ իշխանական կամ ծառայողական լիազորությունները կամ դրանցով պայմանավորված ազդեցությունն օգտագործելով | C7: 255 հ. 2-րդ մաս. 2-րդ կետ | D7: 0 | F7: 1 | V7: 1
A8: 9.4.2 | B8: Խարդախությունը՝ եթե կատարվել է իշխանական կամ ծառայողական լիազորությունները կամ դրանցով պայմանավորված ազդեցությունն օգտագործելով | C8: 255 հ. 3-րդ մաս. | D8: 1 | F8: 2 | V8: 2
A9: 9.5.1 | B9: Վստահված գույքը հափշտակելը՝ իշխանական կամ ծառայողական լիազորությունները կամ դրանցով պայմանավորված ազդեցությունն օգտագործելով, | C9: 256 հ. 2-րդ մաս. 2-րդ կետ | D9: 2 | F9: 2 | L9: 1 | O9: 1 | V9: 3 | Y9: 1 | AB9: 1 | AD9: 1 | AG9: 1
A10: 9.5.2 | B10: Վստահված գույքը հափշտակելը՝ եթե կատարվել է իշխանական կամ ծառայողական լիազորությունները կամ դրանցով պայմանավորված ազդեցությունն օգտագործելով | C10: 256 հ. 3-րդ մաս. | D10: 4 | F10: 3 | L10: 3 | M10: 1 | O10: 4 | P10: 1 | R10: 1 | S10: 2 | V10: 2 | Y10: 2 | AB10: 2
A11: 10.1.1 | B11: Շորթումը՝ իշխանական կամ ծառայողական լիազորությունները կամ դրանցով պայմանավորված ազդեցությունն օգտագործելով | C11: 258 հ. 2-րդ մաս. 9-րդ կետ | D11: 0
A12: 10.1.2 | B12: Շորթումը՝ եթե կատարվել է իշխանական կամ ծառայողական լիազորությունները կամ դրանցով պայմանավորված ազդեցությունն օգտագործելով | C12: 258 հ. 3-րդ մաս. | D12: 0
A13: 11.2.1 | B13: Ներքին տեղեկությունների անբարեխիղճ օգտագործումը՝ իշխանական կամ ծառայողական լիազորությունները կամ դրանցով պայմանավորված ազդեցությունն օգտագործելով | C13: 268 հ. 3-րդ մաս. 2-րդ. կետ | D13: 0
A14: 11.3.1 | B14: Արժեթղթերի շուկայում գնային չարաշահումը՝ իշխանական կամ ծառայողական լիազորությունները կամ դրանցով պայմանավորված ազդեցությունն օգտագործելով | C14: 269 հ. 3-րդ մաս. 3-րդ. կետ | D14: 0
A15: 11.6 | B15: Մասնավոր ոլորտում կաշառք ստանալը | C15: 272 | D15: 0 | F15: 1 | L15: 1 | O15: 1
A16: 11.7 | B16: Մասնավոր ոլորտում կաշառք տալը | C16: 273 | D16: 0 | F16: 1 | L16: 1 | O16: 1 | R16: 1 | S16: 1
A17: 11.8 | B17: Հայաստանի Հանրապետության կամ այլ պետության մարզիկի, մրցավարի, թիմի ղեկավարի, մարզչի, արհեստավարժ մարզամրցման այլ մասնակցի կամ դրա կազմակերպչի, հանդիսադիր առևտրային մրցույթի մասնակցի կամ դրա կազմակերպչի կամ մրցանակաբաշխային հանձնաժողովի անդամի կողմից կաշառք ստանալը | C17: 274 | D17: 0
A18: 11.9 | B18: Հայաստանի Հանրապետության կամ այլ պետության մարզիկին, մրցավարին, թիմի ղեկավարին, մարզչին, արհեստավարժ մարզամրցման այլ մասնակցի կամ դրա կազմակերպչին, հանդիսադիր առևտրային մրցույթի մասնակցին կամ դրա կազմակերպչին կամ մրցանակաբաշխային հանձնաժողովի անդամին կաշառք տալը | C18: 275 | D18: 0
A19: 11.1 | B19: Ծառայողական կամ մասնագիտական պարտականությունները կատարելու համար ապօրինի վարձատրություն ստանալը կամ պահանջելը | C19: 276 | D19: 0
A20: 11.11 | B20: Մասնավոր ոլորտում ծառայողական լիազորությունները կամ դրանցով պայմանավորված ազդեցությունը չարաշահելը | C20: 277 | D20: 0
A21: 11.16.1 | B21: Ֆինանսական բուրգ ստեղծելը, կազմակերպելը կամ ղեկավարելը՝ իշխանական կամ ծառայողական լիազորությունները կամ դրանցով պայմանավորված ազդեցությունն օգտագործելով. | C21: 282հ. 2-րդ մաս. 2-րդ կետ | D21: 0
A22: 11.16.2 | B22: Ֆինանսական բուրգ ստեղծելը,եթե կատարվել է իշխանական կամ ծառայողական լիազորությունները կամ դրանցով պայմանավորված ազդեցությունն օգտագործելով | C22: 282հ. 3-րդ մաս. | D22: 0
A23: 11.18.1 | B23: Հակամրցակցային գործունեությունը՝ իշխանական կամ ծառայողական լիազորությունները կամ դրանցով պայմանավորված ազդեցությունն օգտագործելով | C23: 284հ 2-րդ մաս. 2-րդ կետ | D23: 0
A24: 11.18.2 | B24: Հակամրցակցային գործունեությունը՝ եթե կատարվել է իշխանական կամ ծառայողական լիազորությունները կամ դրանցով պայմանավորված ազդեցությունն օգտագործելով | C24: 284հ 3-րդ մաս. | D24: 0
A25: 11.3 | B25: Փողերի լվացումը | C25: 296 | D25: 2 | F25: 4 | G25: 2 | V25: 4
A26: 22.1 | B26: Կաշառք ստանալը | C26: 435 | D26: 6 | F26: 8 | I26: 1 | L26: 2 | O26: 2 | R26: 1 | S26: 1 | V26: 11 | Y26: 1 | Z26: 2 | AA26: 7 | AB26: 10 | AF26: 2 | AG26: 2
A27: 22.2 | B27: Կաշառք տալը | C27: 436 | D27: 1 | F27: 6 | I27: 1 | L27: 2 | O27: 2 | R27: 2 | S27: 2 | V27: 4 | X27: 1 | AA27: 1 | AB27: 2
A28: 22.3 | B28: Կաշառքի միջնորդությունը | C28: 437 | D28: 0
A29: 22.4 | B29: Պաշտոնատար անձի նկատմամբ ունեցած իրական կամ ենթադրյալ ազդեցությունն օգտագործելը | C29: 438 | D29: 0
A30: 22.5 | B30: Պաշտոնատար անձի նկատմամբ ունեցած իրական կամ ենթադրյալ ազդեցությունն օգտագործելու նպատակով ապօրինի վարձատրություն տալը | C30: 439 | D30: 0
A31: 22.6 | B31: Կաշառք ստանալու, կաշառքի միջնորդության կամ իրական կամ ենթադրյալ ազդեցությունը շահադիտական, անձնական այլ շահագրգռվածությունից կամ խմբային շահերից ելնելով օգտագործելու պատրվակով գույք, ներառյալ դրամական միջոց, արժեթուղթ, վճարային այլ գործիք, գույքի նկատմամբ իրավունք, ծառայություն կամ որևէ այլ առավելություն ստանալը | C31: 440 | D31: 0
A32: 22.7 | B32: Պաշտոնատար անձի կողմից իշխանական կամ ծառայողական լիազորությունները կամ դրանցով պայմանավորված ազդեցությունը չարաշահելը կամ լիազորություններն անցնելը | C32: 441 | D32: 6 | F32: 2 | L32: 2 | O32: 2 | V32: 6 | X32: 1 | Y32: 2 | AB32: 3
A33: 22.8 | B33: Պաշտոնատար անձի կողմից ձեռնարկատիրական գործունեությանն ապօրինի մասնակցելը | C33: 442 | D33: 0
A34: 22.9 | B34: Ապօրինի հարստանալը | C34: 443 | D34: 0
A35: 22.1 | B35: Հայաստանի Հանրապետության օրենսդրությամբ սահմանված` հայտարարագիր ներկայացնելու պարտականություն ունեցող անձի կողմից հայտարարագրում կեղծ տվյալներ ներկայացնելը, հայտարարագրման ենթակա տվյալները թաքցնելը կամ հայտարարագիր չներկայացնելը | C35: 444 | D35: 0 | F35: 1 | V35: 1
A36: 22.11 | B36: Պաշտոնեական կեղծիքը | C36: 445 | D36: 2 | F36: 3 | L36: 2 | O36: 2 | R36: 1 | S36: 1 | V36: 3 | X36: 1 | AB36: 1
A37: 24.5 | B37: Կաշառքի կամ մասնավոր ոլորտում կաշառքի պրովոկացիան | C37: 477 | D37: 0
A38: 24.8 | B38: Ակնհայտ անմեղ անձին քրեական պատասխանատվության ենթարկելը | C38: 480 | D38: 0
A39: 24.9 | B39: Քրեական պատասխանատվությունից ապօրինի ազատելը | C39: 481 | D39: 0
A40: 24.1 | B40: Ակնհայտ անարդար դատավճիռ, վճիռ կամ դատական այլ ակտ կայացնելը | C40: 482 | D40: 0
A41: 24.1.1 | B41: Արդարադատության իրականացմանը կամ գործի քննությանը միջամտելը՝ որը կատարվել է իշխանական կամ ծառայողական լիազորությունները կամ դրանցով պայմանավորված ազդեցությունն օգտագործելով, | C41: 486 hոդ. 2-րդ մաս. 2-րդ կետ. | D41: 0
A42: 24.1.2 | B42: Արդարադատության իրականացմանը կամ գործի քննությանը միջամտելը՝ եթե կատարվել է իշխանական կամ ծառայողական լիազորությունները կամ դրանցով պայմանավորված ազդեցությունն օգտագործելով | C42: 486 hոդ. 3-րդ մաս. | D42: 0
A43: 24.24 | B43: Դատավարության մասնակիցներին՝ իրենց լիազորությունների հետ կապված կաշառք տալը | C43: 496 | D43: 0
A44: 24.25 | B44: Դատավարության մասնակիցների կողմից իրենց լիազորությունների հետ կապված կաշառք ստանալը | C44: 497 | D44: 0
A45: 29.1 | B45: Իշխանազանցությունը կամ իշխանությունը չարաշահելը | C45: 549 | D45: 1 | F45: 2 | L45: 1 | O45: 1 | V45: 2 | Y45: 1 | AA45: 4 | AB45: 5
A46: 30 | B46: Այլ հանցագործւթյուններ | D46: 0
B47: Ընդամենը | D47: =SUM(D7+D8+D9+D10+D11+D12+D13+D14+D15+D16+D17+D18+D19+D20+D21+D22+D23+D24+D25+D26+D27+D28+D29+D30+D31+D32+D33+D34+D35+D36+D37+D38+D39+D40+D41+D42+D43+D44+D45+D46) -> 25 | E47: =SUM(E7+E8+E9+E10+E11+E12+E13+E14+E15+E16+E17+E18+E19+E20+E21+E22+E23+E24+E25+E26+E27+E28+E29+E30+E31+E32+E33+E34+E35+E36+E37+E38+E39+E40+E41+E42+E43+E44+E45+E46) -> 0 | F47: =SUM(F7+F8+F9+F10+F11+F12+F13+F14+F15+F16+F17+F18+F19+F20+F21+F22+F23+F24+F25+F26+F27+F28+F29+F30+F31+F32+F33+F34+F35+F36+F37+F38+F39+F40+F41+F42+F43+F44+F45+F46) -> 36 | G47: =SUM(G7+G8+G9+G10+G11+G12+G13+G14+G15+G16+G17+G18+G19+G20+G21+G22+G23+G24+G25+G26+G27+G28+G29+G30+G31+G32+G33+G34+G35+G36+G37+G38+G39+G40+G41+G42+G43+G44+G45+G46) -> 2 | H47: =SUM(H7+H8+H9+H10+H11+H12+H13+H14+H15+H16+H17+H18+H19+H20+H21+H22+H23+H24+H25+H26+H27+H28+H29+H30+H31+H32+H33+H34+H35+H36+H37+H38+H39+H40+H41+H42+H43+H44+H45+H46) -> 0 | I47: =SUM(I7+I8+I9+I10+I11+I12+I13+I14+I15+I16+I17+I18+I19+I20+I21+I22+I23+I24+I25+I26+I27+I28+I29+I30+I31+I32+I33+I34+I35+I36+I37+I38+I39+I40+I41+I42+I43+I44+I45+I46) -> 2 | J47: =SUM(J7+J8+J9+J10+J11+J12+J13+J14+J15+J16+J17+J18+J19+J20+J21+J22+J23+J24+J25+J26+J27+J28+J29+J30+J31+J32+J33+J34+J35+J36+J37+J38+J39+J40+J41+J42+J43+J44+J45+J46) -> 0 | K47: =SUM(K7+K8+K9+K10+K11+K12+K13+K14+K15+K16+K17+K18+K19+K20+K21+K22+K23+K24+K25+K26+K27+K28+K29+K30+K31+K32+K33+K34+K35+K36+K37+K38+K39+K40+K41+K42+K43+K44+K45+K46) -> 0 | ... AG47: =SUM(AG7+AG8+AG9+AG10+AG11+AG12+AG13+AG14+AG15+AG16+AG17+AG18+AG19+AG20+AG21+AG22+AG23+AG24+AG25+AG26+AG27+AG28+AG29+AG30+AG31+AG32+AG33+AG34+AG35+AG36+AG37+AG38+AG39+AG40+AG41+AG42+AG43+AG44+AG45+AG46) -> 3
B48: Ծանոթություն՝ Թվով 4 գործ միացվել է;
B49: (18.04.2003թ. ընդունված և 01.08.2003թ. ուժի մեջ մտած քրեական օրենսգրքով) դատավորին նախորդ հաշվետու ժամանակահատվածից փոխանցվել է 37, հաշվետու ժամանակահատվածում ստացվել է 7, կայացվել է դատավճիռ 10, կարճվել է՝ 4, բժշկական բնույթի հարկադրանքի միջոց 0, ընդդատություն- 0, միացում - 0, վերաբաշխվել է 2, հաշվետու ժամանակաշրջանում անավարտ գործեր 28-ը:
P100: 5
P228: 3

Sheet Վ. Ստեփանյան
AE1: Հավելված 2 Բարձրագույն դատական խորհրդի 2022թվականի դեկտեմբերի 26-ի թիվ ԲԴԽ-122-Ո-408 որոշման
A2: 2025 ԹՎԱԿԱՆԻ ՏԱՐԵԿԱՆ ՀԱՇՎԵՏՎՈՒԹՅՈՒՆ ՀԱԿԱԿՈՌՈՒՊՑԻՈՆ ԴԱՏԱՐԱՆԻ ԴԱՏԱՎՈՐ ՎԱՐԴԳԵՍ ՍՏԵՓԱՆՅԱՆԻ ԳՈՐԾՈՒՆԵՈՒԹՅԱՆ ՎԵՐԱԲԵՐՅԱԼ
A3: Ստուգիչ հավասարումներ` 1+3=4+12+17+19, 12= 9+10+11, 25=21+22+23+24, 30=25+26+27+28+29 | C3: ՀՀ քրեական օրենսգրքի հոդվածներ | D3: Հաշվետու ժամանակահատվածի սկզբում նախորդ հաշվետու ժամանակահատվածից փոխանցված գործերի ընդհանուր թիվը | E3: Այդ թվում` կասեցված վիճակում փոխանցված | F3: Հաշվետու ժամանակահատվածում ստացված գործերի ընդհանուր թիվը | G3: փոխանցվել թ այլ դատավորի (վերաբաշխում) | H3: Որոշում է կայացվել քրեական գործը վերադարձնել հսկող դատախազին | I3: քանի գործով է կիրառվել համաձայնեցման վարույթ | J3: քանի գործով է կիրառվել համագործակցության վարույթ | K3: Հաշվետու ժամանակաշրջանում կայացվել է վերդիկտ | L3: Հաշվետու ժամանակաշրջանում կայացվել է դատավճիռ | M3: քրեական վարույթը կարճելու մաuին որոշում | N3: Հաշվետու ժամանակաշրջանում կայացվել է բժշկական հարկադրանքի դատավճիռ /ՀՀ ՔՐ. ԴԱՏ. ՕՐ. 432-ՐԴ ՀՈԴՎԱԾ/ | O3: ընդամենը | P3: Հաշվետու ժամանակահատվածում ավարտված գործերի ընդհանուր թիվը /ՀՀ ՔՐ. ԴԱՏ. ՕՐ. 14-ՐԴ ՀՈԴՎԱԾ/ | T3: Ուղարկվել է ըստ ընդդատության | U3: Հաշվետու ժամանակահատվածում կասեցված վարույթներով գործերի ընդհանուր թիվը | V3: Հաշվետու ժամանակահատվածում անավարտ գործերի ընդհանուր թիվը | W3: Այդ թվում՝ կասեցված | X3: Բողոքարկված վարութային ակտերի թիվը` ըստ տեսակների | AB3: ընդամենը բողոքարկվել են ակտեր | AC3: Բեկանված և փոփոխված ակտերի թիվը` ըստ տեսակների | AG3: ընդամենը բեկանվել են ակտեր
P4: քրեական վարույթը կարճելու մաuին որոշումն ուժի մեջ մտնելով. | Q4: Եզրափակիչ դատական ակտն ուժի մեջ է մտել | R4: Եզրափակիչ դատական ակտը հանձնվել է կատարման | S4: ավարտվել են քրեական գործեր | X4: Այդ թվում` եզրափակիչ դատական ակտերը | Z4: Այդ թվում` եզրափակիչ դատավարական ակտերը | AC4: Այդ թվում` եզրափակիչ դատական ակտերը | AE4: Այդ թվում` եզրափակիչ դատավարական ակտերը
X5: նախորդ տարիների կայացված ակտերի բողոքարկումը | Y5: հաշվետու ժամանակահատվածում կայացված ակտերի բողոքարկումը | Z5: նախորդ տարիների կայացված ակտերի բողոքարկումը | AA5: հաշվետու ժամանակահատվածում կայացված ակտերի բողոքարկումը | AC5: նախորդ տարիների կայացված ակտերի բողոքարկումը | AD5: հաշվետու ժամանակահատվածում կայացված ակտերի բողոքարկումը | AE5: նախորդ տարիների կայացված ակտերի բողոքարկումը | AF5: հաշվետու ժամանակահատվածում կայացված ակտերի բողոքարկումը
B6: Կոռուպցիոն հանցագործություններ | D6: 1 | E6: 2 | F6: 3 | G6: 4 | H6: 5 | I6: 6 | J6: 7 | K6: 8 | L6: 9 | M6: 10 | N6: 11 | O6: 12 | P6: 13 | Q6: 14 | R6: 15 | S6: 16 | T6: 17 | U6: 18 | V6: 19 | W6: 20 | X6: 21 | Y6: 22 | Z6: 23 | AA6: 24 | AB6: 25 | AC6: 26 | AD6: 27 | AE6: 28 | AF6: 29 | AG6: 30
A7: 9.4.1 | B7: Խարդախությունը՝ իշխանական կամ ծառայողական լիազորությունները կամ դրանցով պայմանավորված ազդեցությունն օգտագործելով | C7: 255 հ. 2-րդ մաս. 2-րդ կետ | D7: 0
A8: 9.4.2 | B8: Խարդախությունը՝ եթե կատարվել է իշխանական կամ ծառայողական լիազորությունները կամ դրանցով պայմանավորված ազդեցությունն օգտագործելով | C8: 255 հ. 3-րդ մաս. | D8: 1 | F8: 2 | V8: 3 | AA8: 1 | AB8: 1
A9: 9.5.1 | B9: Վստահված գույքը հափշտակելը՝ իշխանական կամ ծառայողական լիազորությունները կամ դրանցով պայմանավորված ազդեցությունն օգտագործելով, | C9: 256 հ. 2-րդ մաս. 2-րդ կետ | D9: 0 | F9: 2 | L9: 1 | O9: 1 | V9: 1
A10: 9.5.2 | B10: Վստահված գույքը հափշտակելը՝ եթե կատարվել է իշխանական կամ ծառայողական լիազորությունները կամ դրանցով պայմանավորված ազդեցությունն օգտագործելով | C10: 256 հ. 3-րդ մաս. | D10: 3 | F10: 2 | I10: 1 | L10: 1 | O10: 1 | R10: 1 | S10: 1 | V10: 4 | Z10: 1 | AB10: 1
A11: 10.1.1 | B11: Շորթումը՝ իշխանական կամ ծառայողական լիազորությունները կամ դրանցով պայմանավորված ազդեցությունն օգտագործելով | C11: 258 հ. 2-րդ մաս. 9-րդ կետ | D11: 0
A12: 10.1.2 | B12: Շորթումը՝ եթե կատարվել է իշխանական կամ ծառայողական լիազորությունները կամ դրանցով պայմանավորված ազդեցությունն օգտագործելով | C12: 258 հ. 3-րդ մաս. | D12: 0
A13: 11.2.1 | B13: Ներքին տեղեկությունների անբարեխիղճ օգտագործումը՝ իշխանական կամ ծառայողական լիազորությունները կամ դրանցով պայմանավորված ազդեցությունն օգտագործելով | C13: 268 հ. 3-րդ մաս. 2-րդ. կետ | D13: 0
A14: 11.3.1 | B14: Արժեթղթերի շուկայում գնային չարաշահումը՝ իշխանական կամ ծառայողական լիազորությունները կամ դրանցով պայմանավորված ազդեցությունն օգտագործելով | C14: 269 հ. 3-րդ մաս. 3-րդ. կետ | D14: 0
A15: 11.6 | B15: Մասնավոր ոլորտում կաշառք ստանալը | C15: 272 | D15: 0 | F15: 3 | V15: 3
A16: 11.7 | B16: Մասնավոր ոլորտում կաշառք տալը | C16: 273 | D16: 0
A17: 11.8 | B17: Հայաստանի Հանրապետության կամ այլ պետության մարզիկի, մրցավարի, թիմի ղեկավարի, մարզչի, արհեստավարժ մարզամրցման այլ մասնակցի կամ դրա կազմակերպչի, հանդիսադիր առևտրային մրցույթի մասնակցի կամ դրա կազմակերպչի կամ մրցանակաբաշխային հանձնաժողովի անդամի կողմից կաշառք ստանալը | C17: 274 | D17: 0
A18: 11.9 | B18: Հայաստանի Հանրապետության կամ այլ պետության մարզիկին, մրցավարին, թիմի ղեկավարին, մարզչին, արհեստավարժ մարզամրցման այլ մասնակցի կամ դրա կազմակերպչին, հանդիսադիր առևտրային մրցույթի մասնակցին կամ դրա կազմակերպչին կամ մրցանակաբաշխային հանձնաժողովի անդամին կաշառք տալը | C18: 275 | D18: 0
A19: 11.1 | B19: Ծառայողական կամ մասնագիտական պարտականությունները կատարելու համար ապօրինի վարձատրություն ստանալը կամ պահանջելը | C19: 276 | D19: 0
A20: 11.11 | B20: Մասնավոր ոլորտում ծառայողական լիազորությունները կամ դրանցով պայմանավորված ազդեցությունը չարաշահելը | C20: 277 | D20: 0
A21: 11.16.1 | B21: Ֆինանսական բուրգ ստեղծելը, կազմակերպելը կամ ղեկավարելը՝ իշխանական կամ ծառայողական լիազորությունները կամ դրանցով պայմանավորված ազդեցությունն օգտագործելով. | C21: 282հ. 2-րդ մաս. 2-րդ կետ | D21: 0
A22: 11.16.2 | B22: Ֆինանսական բուրգ ստեղծելը,եթե կատարվել է իշխանական կամ ծառայողական լիազորությունները կամ դրանցով պայմանավորված ազդեցությունն օգտագործելով | C22: 282հ. 3-րդ մաս. | D22: 0
A23: 11.18.1 | B23: Հակամրցակցային գործունեությունը՝ իշխանական կամ ծառայողական լիազորությունները կամ դրանցով պայմանավորված ազդեցությունն օգտագործելով | C23: 284հ 2-րդ մաս. 2-րդ կետ | D23: 0
A24: 11.18.2 | B24: Հակամրցակցային գործունեությունը՝ եթե կատարվել է իշխանական կամ ծառայողական լիազորությունները կամ դրանցով պայմանավորված ազդեցությունն օգտագործելով | C24: 284հ 3-րդ մաս. | D24: 0
A25: 11.3 | B25: Փողերի լվացումը | C25: 296 | D25: 1 | F25: 6 | G25: 1 | V25: 5 | AA25: 2 | AB25: 2 | AF25: 1 | AG25: 1
A26: 22.1 | B26: Կաշառք ստանալը | C26: 435 | D26: 7 | F26: 11 | G26: 1 | L26: 1 | O26: 1 | V26: 15 | Z26: 5 | AA26: 13 | AB26: 18 | AE26: 2 | AF26: 1 | AG26: 3
A27: 22.2 | B27: Կաշառք տալը | C27: 436 | D27: 1 | F27: 3 | L27: 2 | O27: 2 | V27: 2 | AA27: 2 | AB27: 2
A28: 22.3 | B28: Կաշառքի միջնորդությունը | C28: 437 | D28: 0
A29: 22.4 | B29: Պաշտոնատար անձի նկատմամբ ունեցած իրական կամ ենթադրյալ ազդեցությունն օգտագործելը | C29: 438 | D29: 0
A30: 22.5 | B30: Պաշտոնատար անձի նկատմամբ ունեցած իրական կամ ենթադրյալ ազդեցությունն օգտագործելու նպատակով ապօրինի վարձատրություն տալը | C30: 439 | D30: 0
A31: 22.6 | B31: Կաշառք ստանալու, կաշառքի միջնորդության կամ իրական կամ ենթադրյալ ազդեցությունը շահադիտական, անձնական այլ շահագրգռվածությունից կամ խմբային շահերից ելնելով օգտագործելու պատրվակով գույք, ներառյալ դրամական միջոց, արժեթուղթ, վճարային այլ գործիք, գույքի նկատմամբ իրավունք, ծառայություն կամ որևէ այլ առավելություն ստանալը | C31: 440 | D31: 0
A32: 22.7 | B32: Պաշտոնատար անձի կողմից իշխանական կամ ծառայողական լիազորությունները կամ դրանցով պայմանավորված ազդեցությունը չարաշահելը կամ լիազորություններն անցնելը | C32: 441 | D32: 0 | F32: 5 | V32: 5 | X32: 2 | Y32: 1 | AB32: 3
A33: 22.8 | B33: Պաշտոնատար անձի կողմից ձեռնարկատիրական գործունեությանն ապօրինի մասնակցելը | C33: 442 | D33: 0
A34: 22.9 | B34: Ապօրինի հարստանալը | C34: 443 | D34: 0
A35: 22.1 | B35: Հայաստանի Հանրապետության օրենսդրությամբ սահմանված` հայտարարագիր ներկայացնելու պարտականություն ունեցող անձի կողմից հայտարարագրում կեղծ տվյալներ ներկայացնելը, հայտարարագրման ենթակա տվյալները թաքցնելը կամ հայտարարագիր չներկայացնելը | C35: 444 | D35: 0 | F35: 1 | V35: 1 | AA35: 5 | AB35: 5
A36: 22.11 | B36: Պաշտոնեական կեղծիքը | C36: 445 | D36: 3 | F36: 3 | L36: 1 | O36: 1 | V36: 5 | X36: 1 | Y36: 2 | AA36: 1 | AB36: 4
A37: 24.5 | B37: Կաշառքի կամ մասնավոր ոլորտում կաշառքի պրովոկացիան | C37: 477 | D37: 0
A38: 24.8 | B38: Ակնհայտ անմեղ անձին քրեական պատասխանատվության ենթարկելը | C38: 480 | D38: 0
A39: 24.9 | B39: Քրեական պատասխանատվությունից ապօրինի ազատելը | C39: 481 | D39: 0
A40: 24.1 | B40: Ակնհայտ անարդար դատավճիռ, վճիռ կամ դատական այլ ակտ կայացնելը | C40: 482 | D40: 0
A41: 24.1.1 | B41: Արդարադատության իրականացմանը կամ գործի քննությանը միջամտելը՝ որը կատարվել է իշխանական կամ ծառայողական լիազորությունները կամ դրանցով պայմանավորված ազդեցությունն օգտագործելով, | C41: 486 hոդ. 2-րդ մաս. 2-րդ կետ. | D41: 0
A42: 24.1.2 | B42: Արդարադատության իրականացմանը կամ գործի քննությանը միջամտելը՝ եթե կատարվել է իշխանական կամ ծառայողական լիազորությունները կամ դրանցով պայմանավորված ազդեցությունն օգտագործելով | C42: 486 hոդ. 3-րդ մաս. | D42: 0
A43: 24.24 | B43: Դատավարության մասնակիցներին՝ իրենց լիազորությունների հետ կապված կաշառք տալը | C43: 496 | D43: 0
A44: 24.25 | B44: Դատավարության մասնակիցների կողմից իրենց լիազորությունների հետ կապված կաշառք ստանալը | C44: 497 | D44: 0
A45: 29.1 | B45: Իշխանազանցությունը կամ իշխանությունը չարաշահելը | C45: 549 | D45: 1 | F45: 2 | L45: 1 | O45: 1 | V45: 2 | AA45: 1 | AB45: 1
A46: 30 | B46: Այլ հանցագործւթյուններ | D46: 0
B47: Ընդամենը | D47: =SUM(D7+D8+D9+D10+D11+D12+D13+D14+D15+D16+D17+D18+D19+D20+D21+D22+D23+D24+D25+D26+D27+D28+D29+D30+D31+D32+D33+D34+D35+D36+D37+D38+D39+D40+D41+D42+D43+D44+D45+D46) -> 17 | E47: =SUM(E7+E8+E9+E10+E11+E12+E13+E14+E15+E16+E17+E18+E19+E20+E21+E22+E23+E24+E25+E26+E27+E28+E29+E30+E31+E32+E33+E34+E35+E36+E37+E38+E39+E40+E41+E42+E43+E44+E45+E46) -> 0 | F47: =SUM(F7+F8+F9+F10+F11+F12+F13+F14+F15+F16+F17+F18+F19+F20+F21+F22+F23+F24+F25+F26+F27+F28+F29+F30+F31+F32+F33+F34+F35+F36+F37+F38+F39+F40+F41+F42+F43+F44+F45+F46) -> 40 | G47: =SUM(G7+G8+G9+G10+G11+G12+G13+G14+G15+G16+G17+G18+G19+G20+G21+G22+G23+G24+G25+G26+G27+G28+G29+G30+G31+G32+G33+G34+G35+G36+G37+G38+G39+G40+G41+G42+G43+G44+G45+G46) -> 2 | H47: =SUM(H7+H8+H9+H10+H11+H12+H13+H14+H15+H16+H17+H18+H19+H20+H21+H22+H23+H24+H25+H26+H27+H28+H29+H30+H31+H32+H33+H34+H35+H36+H37+H38+H39+H40+H41+H42+H43+H44+H45+H46) -> 0 | I47: =SUM(I7+I8+I9+I10+I11+I12+I13+I14+I15+I16+I17+I18+I19+I20+I21+I22+I23+I24+I25+I26+I27+I28+I29+I30+I31+I32+I33+I34+I35+I36+I37+I38+I39+I40+I41+I42+I43+I44+I45+I46) -> 1 | J47: =SUM(J7+J8+J9+J10+J11+J12+J13+J14+J15+J16+J17+J18+J19+J20+J21+J22+J23+J24+J25+J26+J27+J28+J29+J30+J31+J32+J33+J34+J35+J36+J37+J38+J39+J40+J41+J42+J43+J44+J45+J46) -> 0 | K47: =SUM(K7+K8+K9+K10+K11+K12+K13+K14+K15+K16+K17+K18+K19+K20+K21+K22+K23+K24+K25+K26+K27+K28+K29+K30+K31+K32+K33+K34+K35+K36+K37+K38+K39+K40+K41+K42+K43+K44+K45+K46) -> 0 | ... AG47: =SUM(AG7+AG8+AG9+AG10+AG11+AG12+AG13+AG14+AG15+AG16+AG17+AG18+AG19+AG20+AG21+AG22+AG23+AG24+AG25+AG26+AG27+AG28+AG29+AG30+AG31+AG32+AG33+AG34+AG35+AG36+AG37+AG38+AG39+AG40+AG41+AG42+AG43+AG44+AG45+AG46) -> 4
B48: Ծանոթություն՝ Թվով 2 գործ միացվել է:
B49: (18.04.2003թ. ընդունված և 01.08.2003թ. ուժի մեջ մտած քրեական օրենսգրքով) դատավորին նախորդ հաշվետու ժամանակահատվածից փոխանցվել է 4, հաշվետու ժամանակահատվածում ստացվել է 8, կայացվել է դատավճիռ 0, կարճվել է՝ 2, բժշկական բնույթի հարկադրանքի միջոց 0, ընդդատություն- 1, միացում - 0, վերաբաշխվել է 0, հաշվետու ժամանակաշրջանում անավարտ գործեր 9-ը:

Sheet Լ.Պետրոսյան
AE1: Հավելված 2 Բարձրագույն դատական խորհրդի 2022թվականի դեկտեմբերի 26-ի թիվ ԲԴԽ-122-Ո-408 որոշման
A2: 2025 ԹՎԱԿԱՆԻ ՏԱՐԵԿԱՆ ՀԱՇՎԵՏՎՈՒԹՅՈՒՆ ՀԿԱԿՈՌՈՒՊՑԻՈՆ ԴԱՏԱՐԱՆԻ ԴԱՏԱՎՈՐ ԼԵՎՈՆ ՊԵՏՐՈՍՅԱՆԻ ԳՈՐԾՈՒՆԵՈՒԹՅԱՆ ՎԵՐԱԲԵՐՅԱԼ
A3: Ստուգիչ հավասարումներ` 1+3=4+12+17+19, 12= 9+10+11, 25=21+22+23+24, 30=25+26+27+28+29 | C3: ՀՀ քրեական օրենսգրքի հոդվածներ | D3: Հաշվետու ժամանակահատվածի սկզբում նախորդ հաշվետու ժամանակահատվածից փոխանցված գործերի ընդհանուր թիվը | E3: Այդ թվում` կասեցված վիճակում փոխանցված | F3: Հաշվետու ժամանակահատվածում ստացված գործերի ընդհանուր թիվը | G3: փոխանցվել թ այլ դատավորի (վերաբաշխում) | H3: Որոշում է կայացվել քրեական գործը վերադարձնել հսկող դատախազին | I3: քանի գործով է կիրառվել համաձայնեցման վարույթ | J3: քանի գործով է կիրառվել համագործակցության վարույթ | K3: Հաշվետու ժամանակաշրջանում կայացվել է վերդիկտ | L3: Հաշվետու ժամանակաշրջանում կայացվել է դատավճիռ | M3: քրեական վարույթը կարճելու մաuին որոշում | N3: Հաշվետու ժամանակաշրջանում կայացվել է բժշկական հարկադրանքի դատավճիռ /ՀՀ ՔՐ. ԴԱՏ. ՕՐ. 432-ՐԴ ՀՈԴՎԱԾ/ | O3: ընդամենը | P3: Հաշվետու ժամանակահատվածում ավարտված գործերի ընդհանուր թիվը /ՀՀ ՔՐ. ԴԱՏ. ՕՐ. 14-ՐԴ ՀՈԴՎԱԾ/ | T3: Ուղարկվել է ըստ ընդդատության | U3: Հաշվետու ժամանակահատվածում կասեցված վարույթներով գործերի ընդհանուր թիվը | V3: Հաշվետու ժամանակահատվածում անավարտ գործերի ընդհանուր թիվը | W3: Այդ թվում՝ կասեցված | X3: Բողոքարկված վարութային ակտերի թիվը` ըստ տեսակների | AB3: ընդամենը բողոքարկվել են ակտեր | AC3: Բեկանված և փոփոխված ակտերի թիվը` ըստ տեսակների | AG3: ընդամենը բեկանվել են ակտեր
P4: քրեական վարույթը կարճելու մաuին որոշումն ուժի մեջ մտնելով. | Q4: Եզրափակիչ դատական ակտն ուժի մեջ է մտել | R4: Եզրափակիչ դատական ակտը հանձնվել է կատարման | S4: ավարտվել են քրեական գործեր | X4: Այդ թվում` եզրափակիչ դատական ակտերը | Z4: Այդ թվում` եզրափակիչ դատավարական ակտերը | AC4: Այդ թվում` եզրափակիչ դատական ակտերը | AE4: Այդ թվում` եզրափակիչ դատավարական ակտերը
X5: նախորդ տարիների կայացված ակտերի բողոքարկումը | Y5: հաշվետու ժամանակահատվածում կայացված ակտերի բողոքարկումը | Z5: նախորդ տարիների կայացված ակտերի բողոքարկումը | AA5: հաշվետու ժամանակահատվածում կայացված ակտերի բողոքարկումը | AC5: նախորդ տարիների կայացված ակտերի բողոքարկումը | AD5: հաշվետու ժամանակահատվածում կայացված ակտերի բողոքարկումը | AE5: նախորդ տարիների կայացված ակտերի բողոքարկումը | AF5: հաշվետու ժամանակահատվածում կայացված ակտերի բողոքարկումը
B6: Կոռուպցիոն հանցագործություններ | D6: 1 | E6: 2 | F6: 3 | G6: 4 | H6: 5 | I6: 6 | J6: 7 | K6: 8 | L6: 9 | M6: 10 | N6: 11 | O6: 12 | P6: 13 | Q6: 14 | R6: 15 | S6: 16 | T6: 17 | U6: 18 | V6: 19 | W6: 20 | X6: 21 | Y6: 22 | Z6: 23 | AA6: 24 | AB6: 25 | AC6: 26 | AD6: 27 | AE6: 28 | AF6: 29 | AG6: 30
A7: 9.4.1 | B7: Խարդախությունը՝ իշխանական կամ ծառայողական լիազորությունները կամ դրանցով պայմանավորված ազդեցությունն օգտագործելով | C7: 255 հ. 2-րդ մաս. 2-րդ կետ | D7: 0
A8: 9.4.2 | B8: Խարդախությունը՝ եթե կատարվել է իշխանական կամ ծառայողական լիազորությունները կամ դրանցով պայմանավորված ազդեցությունն օգտագործելով | C8: 255 հ. 3-րդ մաս. | D8: 0 | F8: 7 | I8: 1 | L8: 1 | O8: 1 | R8: 1 | S8: 1 | V8: 6
A9: 9.5.1 | B9: Վստահված գույքը հափշտակելը՝ իշխանական կամ ծառայողական լիազորությունները կամ դրանցով պայմանավորված ազդեցությունն օգտագործելով, | C9: 256 հ. 2-րդ մաս. 2-րդ կետ | D9: 0 | F9: 1 | V9: 1
A10: 9.5.2 | B10: Վստահված գույքը հափշտակելը՝ եթե կատարվել է իշխանական կամ ծառայողական լիազորությունները կամ դրանցով պայմանավորված ազդեցությունն օգտագործելով | C10: 256 հ. 3-րդ մաս. | D10: 0 | F10: 1 | V10: 1
A11: 10.1.1 | B11: Շորթումը՝ իշխանական կամ ծառայողական լիազորությունները կամ դրանցով պայմանավորված ազդեցությունն օգտագործելով | C11: 258 հ. 2-րդ մաս. 9-րդ կետ | D11: 0
A12: 10.1.2 | B12: Շորթումը՝ եթե կատարվել է իշխանական կամ ծառայողական լիազորությունները կամ դրանցով պայմանավորված ազդեցությունն օգտագործելով | C12: 258 հ. 3-րդ մաս. | D12: 0
A13: 11.2.1 | B13: Ներքին տեղեկությունների անբարեխիղճ օգտագործումը՝ իշխանական կամ ծառայողական լիազորությունները կամ դրանցով պայմանավորված ազդեցությունն օգտագործելով | C13: 268 հ. 3-րդ մաս. 2-րդ. կետ | D13: 0
A14: 11.3.1 | B14: Արժեթղթերի շուկայում գնային չարաշահումը՝ իշխանական կամ ծառայողական լիազորությունները կամ դրանցով պայմանավորված ազդեցությունն օգտագործելով | C14: 269 հ. 3-րդ մաս. 3-րդ. կետ | D14: 0
A15: 11.6 | B15: Մասնավոր ոլորտում կաշառք ստանալը | C15: 272 | D15: 0 | F15: 1 | V15: 1
A16: 11.7 | B16: Մասնավոր ոլորտում կաշառք տալը | C16: 273 | D16: 0
A17: 11.8 | B17: Հայաստանի Հանրապետության կամ այլ պետության մարզիկի, մրցավարի, թիմի ղեկավարի, մարզչի, արհեստավարժ մարզամրցման այլ մասնակցի կամ դրա կազմակերպչի, հանդիսադիր առևտրային մրցույթի մասնակցի կամ դրա կազմակերպչի կամ մրցանակաբաշխային հանձնաժողովի անդամի կողմից կաշառք ստանալը | C17: 274 | D17: 0
A18: 11.9 | B18: Հայաստանի Հանրապետության կամ այլ պետության մարզիկին, մրցավարին, թիմի ղեկավարին, մարզչին, արհեստավարժ մարզամրցման այլ մասնակցի կամ դրա կազմակերպչին, հանդիսադիր առևտրային մրցույթի մասնակցին կամ դրա կազմակերպչին կամ մրցանակաբաշխային հանձնաժողովի անդամին կաշառք տալը | C18: 275 | D18: 0
A19: 11.1 | B19: Ծառայողական կամ մասնագիտական պարտականությունները կատարելու համար ապօրինի վարձատրություն ստանալը կամ պահանջելը | C19: 276 | D19: 0
A20: 11.11 | B20: Մասնավոր ոլորտում ծառայողական լիազորությունները կամ դրանցով պայմանավորված ազդեցությունը չարաշահելը | C20: 277 | D20: 0 | F20: 1 | V20: 1
A21: 11.16.1 | B21: Ֆինանսական բուրգ ստեղծելը, կազմակերպելը կամ ղեկավարելը՝ իշխանական կամ ծառայողական լիազորությունները կամ դրանցով պայմանավորված ազդեցությունն օգտագործելով. | C21: 282հ. 2-րդ մաս. 2-րդ կետ | D21: 0
A22: 11.16.2 | B22: Ֆինանսական բուրգ ստեղծելը,եթե կատարվել է իշխանական կամ ծառայողական լիազորությունները կամ դրանցով պայմանավորված ազդեցությունն օգտագործելով | C22: 282հ. 3-րդ մաս. | D22: 0
A23: 11.18.1 | B23: Հակամրցակցային գործունեությունը՝ իշխանական կամ ծառայողական լիազորությունները կամ դրանցով պայմանավորված ազդեցությունն օգտագործելով | C23: 284հ 2-րդ մաս. 2-րդ կետ | D23: 0
A24: 11.18.2 | B24: Հակամրցակցային գործունեությունը՝ եթե կատարվել է իշխանական կամ ծառայողական լիազորությունները կամ դրանցով պայմանավորված ազդեցությունն օգտագործելով | C24: 284հ 3-րդ մաս. | D24: 0
A25: 11.3 | B25: Փողերի լվացումը | C25: 296 | D25: 0 | F25: 1 | V25: 1
A26: 22.1 | B26: Կաշառք ստանալը | C26: 435 | D26: 0 | F26: 5 | V26: 5
A27: 22.2 | B27: Կաշառք տալը | C27: 436 | D27: 0 | F27: 2 | L27: 1 | O27: 1 | V27: 1
A28: 22.3 | B28: Կաշառքի միջնորդությունը | C28: 437 | D28: 0
A29: 22.4 | B29: Պաշտոնատար անձի նկատմամբ ունեցած իրական կամ ենթադրյալ ազդեցությունն օգտագործելը | C29: 438 | D29: 0
A30: 22.5 | B30: Պաշտոնատար անձի նկատմամբ ունեցած իրական կամ ենթադրյալ ազդեցությունն օգտագործելու նպատակով ապօրինի վարձատրություն տալը | C30: 439 | D30: 0
A31: 22.6 | B31: Կաշառք ստանալու, կաշառքի միջնորդության կամ իրական կամ ենթադրյալ ազդեցությունը շահադիտական, անձնական այլ շահագրգռվածությունից կամ խմբային շահերից ելնելով օգտագործելու պատրվակով գույք, ներառյալ դրամական միջոց, արժեթուղթ, վճարային այլ գործիք, գույքի նկատմամբ իրավունք, ծառայություն կամ որևէ այլ առավելություն ստանալը | C31: 440 | D31: 0
A32: 22.7 | B32: Պաշտոնատար անձի կողմից իշխանական կամ ծառայողական լիազորությունները կամ դրանցով պայմանավորված ազդեցությունը չարաշահելը կամ լիազորություններն անցնելը | C32: 441 | D32: 0 | F32: 3 | M32: 1 | O32: 1 | V32: 2
A33: 22.8 | B33: Պաշտոնատար անձի կողմից ձեռնարկատիրական գործունեությանն ապօրինի մասնակցելը | C33: 442 | D33: 0
A34: 22.9 | B34: Ապօրինի հարստանալը | C34: 443 | D34: 0
A35: 22.1 | B35: Հայաստանի Հանրապետության օրենսդրությամբ սահմանված` հայտարարագիր ներկայացնելու պարտականություն ունեցող անձի կողմից հայտարարագրում կեղծ տվյալներ ներկայացնելը, հայտարարագրման ենթակա տվյալները թաքցնելը կամ հայտարարագիր չներկայացնելը | C35: 444 | D35: 0 | F35: 1 | V35: 1
A36: 22.11 | B36: Պաշտոնեական կեղծիքը | C36: 445 | D36: 0 | F36: 1 | L36: 1 | O36: 1
A37: 24.5 | B37: Կաշառքի կամ մասնավոր ոլորտում կաշառքի պրովոկացիան | C37: 477 | D37: 0
A38: 24.8 | B38: Ակնհայտ անմեղ անձին քրեական պատասխանատվության ենթարկելը | C38: 480 | D38: 0
A39: 24.9 | B39: Քրեական պատասխանատվությունից ապօրինի ազատելը | C39: 481 | D39: 0
A40: 24.1 | B40: Ակնհայտ անարդար դատավճիռ, վճիռ կամ դատական այլ ակտ կայացնելը | C40: 482 | D40: 0
A41: 24.1.1 | B41: Արդարադատության իրականացմանը կամ գործի քննությանը միջամտելը՝ որը կատարվել է իշխանական կամ ծառայողական լիազորությունները կամ դրանցով պայմանավորված ազդեցությունն օգտագործելով, | C41: 486 hոդ. 2-րդ մաս. 2-րդ կետ. | D41: 0
A42: 24.1.2 | B42: Արդարադատության իրականացմանը կամ գործի քննությանը միջամտելը՝ եթե կատարվել է իշխանական կամ ծառայողական լիազորությունները կամ դրանցով պայմանավորված ազդեցությունն օգտագործելով | C42: 486 hոդ. 3-րդ մաս. | D42: 0
A43: 24.24 | B43: Դատավարության մասնակիցներին՝ իրենց լիազորությունների հետ կապված կաշառք տալը | C43: 496 | D43: 0
A44: 24.25 | B44: Դատավարության մասնակիցների կողմից իրենց լիազորությունների հետ կապված կաշառք ստանալը | C44: 497 | D44: 0
A45: 29.1 | B45: Իշխանազանցությունը կամ իշխանությունը չարաշահելը | C45: 549 | D45: 0 | F45: 1 | V45: 1
A46: 30 | B46: Այլ հանցագործւթյուններ | C46: 19.1 | D46: 0 | F46: 1 | V46: 1
B47: Ընդամենը | D47: 0 | E47: =SUM(E7+E8+E9+E10+E11+E12+E13+E14+E15+E16+E17+E18+E19+E20+E21+E22+E23+E24+E25+E26+E27+E28+E29+E30+E31+E32+E33+E34+E35+E36+E37+E38+E39+E40+E41+E42+E43+E44+E45+E46) -> 0 | F47: =SUM(F7+F8+F9+F10+F11+F12+F13+F14+F15+F16+F17+F18+F19+F20+F21+F22+F23+F24+F25+F26+F27+F28+F29+F30+F31+F32+F33+F34+F35+F36+F37+F38+F39+F40+F41+F42+F43+F44+F45+F46) -> 26 | G47: =SUM(G7+G8+G9+G10+G11+G12+G13+G14+G15+G16+G17+G18+G19+G20+G21+G22+G23+G24+G25+G26+G27+G28+G29+G30+G31+G32+G33+G34+G35+G36+G37+G38+G39+G40+G41+G42+G43+G44+G45+G46) -> 0 | H47: =SUM(H7+H8+H9+H10+H11+H12+H13+H14+H15+H16+H17+H18+H19+H20+H21+H22+H23+H24+H25+H26+H27+H28+H29+H30+H31+H32+H33+H34+H35+H36+H37+H38+H39+H40+H41+H42+H43+H44+H45+H46) -> 0 | I47: =SUM(I7+I8+I9+I10+I11+I12+I13+I14+I15+I16+I17+I18+I19+I20+I21+I22+I23+I24+I25+I26+I27+I28+I29+I30+I31+I32+I33+I34+I35+I36+I37+I38+I39+I40+I41+I42+I43+I44+I45+I46) -> 1 | J47: =SUM(J7+J8+J9+J10+J11+J12+J13+J14+J15+J16+J17+J18+J19+J20+J21+J22+J23+J24+J25+J26+J27+J28+J29+J30+J31+J32+J33+J34+J35+J36+J37+J38+J39+J40+J41+J42+J43+J44+J45+J46) -> 0 | K47: =SUM(K7+K8+K9+K10+K11+K12+K13+K14+K15+K16+K17+K18+K19+K20+K21+K22+K23+K24+K25+K26+K27+K28+K29+K30+K31+K32+K33+K34+K35+K36+K37+K38+K39+K40+K41+K42+K43+K44+K45+K46) -> 0 | L47: =SUM(L7+L8+L9+L10+L11+L12+L13+L14+L15+L16+L17+L18+L19+L20+L21+L22+L23+L24+L25+L26+L27+L28+L29+L30+L31+L32+L33+L34+L35+L36+L37+L38+L39+L40+L41+L42+L43+L44+L45+L46) -> 3 | ... AG47: =SUM(AG7+AG8+AG9+AG10+AG11+AG12+AG13+AG14+AG15+AG16+AG17+AG18+AG19+AG20+AG21+AG22+AG23+AG24+AG25+AG26+AG27+AG28+AG29+AG30+AG31+AG32+AG33+AG34+AG35+AG36+AG37+AG38+AG39+AG40+AG41+AG42+AG43+AG44+AG45+AG46) -> 0
B48: (18.04.2003թ. ընդունված և 01.08.2003թ. ուժի մեջ մտած քրեական օրենսգրքով) դատավորին նախորդ հաշվետու ժամանակահատվածից փոխանցվել է 0, հաշվետու ժամանակահատվածում ստացվել է 16, կայացվել է դատավճիռ 1, կարճվել է՝ 0, բժշկական բնույթի հարկադրանքի միջոց 0, ընդդատություն- 0, միացում - 0, վերաբաշխվել է 0, հաշվետու ժամանակաշրջանում անավարտ գործեր 15-ը:

Sheet Ս.Պետրոսյան
AE1: Հավելված 2 Բարձրագույն դատական խորհրդի 2022թվականի դեկտեմբերի 26-ի թիվ ԲԴԽ-122-Ո-408 որոշման
A2: 2025 ԹՎԱԿԱՆԻ ՏԱՐԵԿԱՆ ՀԱՇՎԵՏՎՈՒԹՅՈՒՆ ՀԱԿԱԿՈՌՈՒՊՑԻՈՆ ԴԱՏԱՐԱՆԻ ԴԱՏԱՎՈՐ ՍԱՐԳԻՍ ՊԵՏՐՈՍՅԱՆԻ ԳՈՐԾՈՒՆԵՈՒԹՅԱՆ ՎԵՐԱԲԵՐՅԱԼ
A3: Ստուգիչ հավասարումներ` 1+3=4+12+17+19, 12= 9+10+11, 25=21+22+23+24, 30=25+26+27+28+29 | C3: ՀՀ քրեական օրենսգրքի հոդվածներ | D3: Հաշվետու ժամանակահատվածի սկզբում նախորդ հաշվետու ժամանակահատվածից փոխանցված գործերի ընդհանուր թիվը | E3: Այդ թվում` կասեցված վիճակում փոխանցված | F3: Հաշվետու ժամանակահատվածում ստացված գործերի ընդհանուր թիվը | G3: փոխանցվել թ այլ դատավորի (վերաբաշխում) | H3: Որոշում է կայացվել քրեական գործը վերադարձնել հսկող դատախազին | I3: քանի գործով է կիրառվել համաձայնեցման վարույթ | J3: քանի գործով է կիրառվել համագործակցության վարույթ | K3: Հաշվետու ժամանակաշրջանում կայացվել է վերդիկտ | L3: Հաշվետու ժամանակաշրջանում կայացվել է դատավճիռ | M3: քրեական վարույթը կարճելու մաuին որոշում | N3: Հաշվետու ժամանակաշրջանում կայացվել է բժշկական հարկադրանքի դատավճիռ /ՀՀ ՔՐ. ԴԱՏ. ՕՐ. 432-ՐԴ ՀՈԴՎԱԾ/ | O3: ընդամենը | P3: Հաշվետու ժամանակահատվածում ավարտված գործերի ընդհանուր թիվը /ՀՀ ՔՐ. ԴԱՏ. ՕՐ. 14-ՐԴ ՀՈԴՎԱԾ/ | T3: Ուղարկվել է ըստ ընդդատության | U3: Հաշվետու ժամանակահատվածում կասեցված վարույթներով գործերի ընդհանուր թիվը | V3: Հաշվետու ժամանակահատվածում անավարտ գործերի ընդհանուր թիվը | W3: Այդ թվում՝ կասեցված | X3: Բողոքարկված վարութային ակտերի թիվը` ըստ տեսակների | AB3: ընդամենը բողոքարկվել են ակտեր | AC3: Բեկանված և փոփոխված ակտերի թիվը` ըստ տեսակների | AG3: ընդամենը բեկանվել են ակտեր
P4: քրեական վարույթը կարճելու մաuին որոշումն ուժի մեջ մտնելով. | Q4: Եզրափակիչ դատական ակտն ուժի մեջ է մտել | R4: Եզրափակիչ դատական ակտը հանձնվել է կատարման | S4: ավարտվել են քրեական գործեր | X4: Այդ թվում` եզրափակիչ դատական ակտերը | Z4: Այդ թվում` եզրափակիչ դատավարական ակտերը | AC4: Այդ թվում` եզրափակիչ դատական ակտերը | AE4: Այդ թվում` եզրափակիչ դատավարական ակտերը
X5: նախորդ տարիների կայացված ակտերի բողոքարկումը | Y5: հաշվետու ժամանակահատվածում կայացված ակտերի բողոքարկումը | Z5: նախորդ տարիների կայացված ակտերի բողոքարկումը | AA5: հաշվետու ժամանակահատվածում կայացված ակտերի բողոքարկումը | AC5: նախորդ տարիների կայացված ակտերի բողոքարկումը | AD5: հաշվետու ժամանակահատվածում կայացված ակտերի բողոքարկումը | AE5: նախորդ տարիների կայացված ակտերի բողոքարկումը | AF5: հաշվետու ժամանակահատվածում կայացված ակտերի բողոքարկումը
B6: Կոռուպցիոն հանցագործություններ | D6: 1 | E6: 2 | F6: 3 | G6: 4 | H6: 5 | I6: 6 | J6: 7 | K6: 8 | L6: 9 | M6: 10 | N6: 11 | O6: 12 | P6: 13 | Q6: 14 | R6: 15 | S6: 16 | T6: 17 | U6: 18 | V6: 19 | W6: 20 | X6: 21 | Y6: 22 | Z6: 23 | AA6: 24 | AB6: 25 | AC6: 26 | AD6: 27 | AE6: 28 | AF6: 29 | AG6: 30
A7: 9.4.1 | B7: Խարդախությունը՝ իշխանական կամ ծառայողական լիազորությունները կամ դրանցով պայմանավորված ազդեցությունն օգտագործելով | C7: 255 հ. 2-րդ մաս. 2-րդ կետ | D7: 1 | F7: 1 | M7: 1 | O7: 1 | P7: 1 | S7: 1 | V7: 1
A8: 9.4.2 | B8: Խարդախությունը՝ եթե կատարվել է իշխանական կամ ծառայողական լիազորությունները կամ դրանցով պայմանավորված ազդեցությունն օգտագործելով | C8: 255 հ. 3-րդ մաս. | D8: 1 | F8: 4 | L8: 1 | O8: 1 | V8: 4 | Y8: 1 | AB8: 1
A9: 9.5.1 | B9: Վստահված գույքը հափշտակելը՝ իշխանական կամ ծառայողական լիազորությունները կամ դրանցով պայմանավորված ազդեցությունն օգտագործելով, | C9: 256 հ. 2-րդ մաս. 2-րդ կետ | D9: 0 | F9: 3 | I9: 1 | L9: 1 | O9: 1 | V9: 2 | X9: 1 | AB9: 1
A10: 9.5.2 | B10: Վստահված գույքը հափշտակելը՝ եթե կատարվել է իշխանական կամ ծառայողական լիազորությունները կամ դրանցով պայմանավորված ազդեցությունն օգտագործելով | C10: 256 հ. 3-րդ մաս. | D10: 1 | F10: 2 | V10: 3
A11: 10.1.1 | B11: Շորթումը՝ իշխանական կամ ծառայողական լիազորությունները կամ դրանցով պայմանավորված ազդեցությունն օգտագործելով | C11: 258 հ. 2-րդ մաս. 9-րդ կետ | D11: 0
A12: 10.1.2 | B12: Շորթումը՝ եթե կատարվել է իշխանական կամ ծառայողական լիազորությունները կամ դրանցով պայմանավորված ազդեցությունն օգտագործելով | C12: 258 հ. 3-րդ մաս. | D12: 0
A13: 11.2.1 | B13: Ներքին տեղեկությունների անբարեխիղճ օգտագործումը՝ իշխանական կամ ծառայողական լիազորությունները կամ դրանցով պայմանավորված ազդեցությունն օգտագործելով | C13: 268 հ. 3-րդ մաս. 2-րդ. կետ | D13: 0
A14: 11.3.1 | B14: Արժեթղթերի շուկայում գնային չարաշահումը՝ իշխանական կամ ծառայողական լիազորությունները կամ դրանցով պայմանավորված ազդեցությունն օգտագործելով | C14: 269 հ. 3-րդ մաս. 3-րդ. կետ | D14: 0
A15: 11.6 | B15: Մասնավոր ոլորտում կաշառք ստանալը | C15: 272 | D15: 0
A16: 11.7 | B16: Մասնավոր ոլորտում կաշառք տալը | C16: 273 | D16: 0
A17: 11.8 | B17: Հայաստանի Հանրապետության կամ այլ պետության մարզիկի, մրցավարի, թիմի ղեկավարի, մարզչի, արհեստավարժ մարզամրցման այլ մասնակցի կամ դրա կազմակերպչի, հանդիսադիր առևտրային մրցույթի մասնակցի կամ դրա կազմակերպչի կամ մրցանակաբաշխային հանձնաժողովի անդամի կողմից կաշառք ստանալը | C17: 274 | D17: 0
A18: 11.9 | B18: Հայաստանի Հանրապետության կամ այլ պետության մարզիկին, մրցավարին, թիմի ղեկավարին, մարզչին, արհեստավարժ մարզամրցման այլ մասնակցի կամ դրա կազմակերպչին, հանդիսադիր առևտրային մրցույթի մասնակցին կամ դրա կազմակերպչին կամ մրցանակաբաշխային հանձնաժողովի անդամին կաշառք տալը | C18: 275 | D18: 0
A19: 11.1 | B19: Ծառայողական կամ մասնագիտական պարտականությունները կատարելու համար ապօրինի վարձատրություն ստանալը կամ պահանջելը | C19: 276 | D19: 0
A20: 11.11 | B20: Մասնավոր ոլորտում ծառայողական լիազորությունները կամ դրանցով պայմանավորված ազդեցությունը չարաշահելը | C20: 277 | D20: 0
A21: 11.16.1 | B21: Ֆինանսական բուրգ ստեղծելը, կազմակերպելը կամ ղեկավարելը՝ իշխանական կամ ծառայողական լիազորությունները կամ դրանցով պայմանավորված ազդեցությունն օգտագործելով. | C21: 282հ. 2-րդ մաս. 2-րդ կետ | D21: 0
A22: 11.16.2 | B22: Ֆինանսական բուրգ ստեղծելը,եթե կատարվել է իշխանական կամ ծառայողական լիազորությունները կամ դրանցով պայմանավորված ազդեցությունն օգտագործելով | C22: 282հ. 3-րդ մաս. | D22: 0
A23: 11.18.1 | B23: Հակամրցակցային գործունեությունը՝ իշխանական կամ ծառայողական լիազորությունները կամ դրանցով պայմանավորված ազդեցությունն օգտագործելով | C23: 284հ 2-րդ մաս. 2-րդ կետ | D23: 0
A24: 11.18.2 | B24: Հակամրցակցային գործունեությունը՝ եթե կատարվել է իշխանական կամ ծառայողական լիազորությունները կամ դրանցով պայմանավորված ազդեցությունն օգտագործելով | C24: 284հ 3-րդ մաս. | D24: 0
A25: 11.3 | B25: Փողերի լվացումը | C25: 296 | D25: 0 | F25: 5 | V25: 4
A26: 22.1 | B26: Կաշառք ստանալը | C26: 435 | D26: 4 | F26: 14 | L26: 2 | O26: 2 | V26: 15 | Y26: 2 | Z26: 6 | AA26: 12 | AB26: 20
A27: 22.2 | B27: Կաշառք տալը | C27: 436 | D27: 0 | F27: 7 | I27: 2 | L27: 5 | M27: 1 | O27: 6 | P27: 1 | S27: 1 | V27: 1 | Y27: 1 | AB27: 1
A28: 22.3 | B28: Կաշառքի միջնորդությունը | C28: 437 | D28: 0
A29: 22.4 | B29: Պաշտոնատար անձի նկատմամբ ունեցած իրական կամ ենթադրյալ ազդեցությունն օգտագործելը | C29: 438 | D29: 0
A30: 22.5 | B30: Պաշտոնատար անձի նկատմամբ ունեցած իրական կամ ենթադրյալ ազդեցությունն օգտագործելու նպատակով ապօրինի վարձատրություն տալը | C30: 439 | D30: 0
A31: 22.6 | B31: Կաշառք ստանալու, կաշառքի միջնորդության կամ իրական կամ ենթադրյալ ազդեցությունը շահադիտական, անձնական այլ շահագրգռվածությունից կամ խմբային շահերից ելնելով օգտագործելու պատրվակով գույք, ներառյալ դրամական միջոց, արժեթուղթ, վճարային այլ գործիք, գույքի նկատմամբ իրավունք, ծառայություն կամ որևէ այլ առավելություն ստանալը | C31: 440 | D31: 0 | F31: 1 | L31: 1 | O31: 1 | Y31: 1 | AB31: 1
A32: 22.7 | B32: Պաշտոնատար անձի կողմից իշխանական կամ ծառայողական լիազորությունները կամ դրանցով պայմանավորված ազդեցությունը չարաշահելը կամ լիազորություններն անցնելը | C32: 441 | D32: 0 | F32: 5 | L32: 2 | O32: 2 | V32: 3 | Y32: 1 | AB32: 1
A33: 22.8 | B33: Պաշտոնատար անձի կողմից ձեռնարկատիրական գործունեությանն ապօրինի մասնակցելը | C33: 442 | D33: 0
A34: 22.9 | B34: Ապօրինի հարստանալը | C34: 443 | D34: 0
A35: 22.1 | B35: Հայաստանի Հանրապետության օրենսդրությամբ սահմանված` հայտարարագիր ներկայացնելու պարտականություն ունեցող անձի կողմից հայտարարագրում կեղծ տվյալներ ներկայացնելը, հայտարարագրման ենթակա տվյալները թաքցնելը կամ հայտարարագիր չներկայացնելը | C35: 444 | D35: 0 | F35: 3 | L35: 3 | O35: 3 | R35: 2 | S35: 2
A36: 22.11 | B36: Պաշտոնեական կեղծիքը | C36: 445 | D36: 0 | F36: 1 | V36: 1 | X36: 1 | AB36: 1
A37: 24.5 | B37: Կաշառքի կամ մասնավոր ոլորտում կաշառքի պրովոկացիան | C37: 477 | D37: 0
A38: 24.8 | B38: Ակնհայտ անմեղ անձին քրեական պատասխանատվության ենթարկելը | C38: 480 | D38: 0
A39: 24.9 | B39: Քրեական պատասխանատվությունից ապօրինի ազատելը | C39: 481 | D39: 0
A40: 24.1 | B40: Ակնհայտ անարդար դատավճիռ, վճիռ կամ դատական այլ ակտ կայացնելը | C40: 482 | D40: 0
A41: 24.1.1 | B41: Արդարադատության իրականացմանը կամ գործի քննությանը միջամտելը՝ որը կատարվել է իշխանական կամ ծառայողական լիազորությունները կամ դրանցով պայմանավորված ազդեցությունն օգտագործելով, | C41: 486 hոդ. 2-րդ մաս. 2-րդ կետ. | D41: 0
A42: 24.1.2 | B42: Արդարադատության իրականացմանը կամ գործի քննությանը միջամտելը՝ եթե կատարվել է իշխանական կամ ծառայողական լիազորությունները կամ դրանցով պայմանավորված ազդեցությունն օգտագործելով | C42: 486 hոդ. 3-րդ մաս. | D42: 0
A43: 24.24 | B43: Դատավարության մասնակիցներին՝ իրենց լիազորությունների հետ կապված կաշառք տալը | C43: 496 | D43: 0
A44: 24.25 | B44: Դատավարության մասնակիցների կողմից իրենց լիազորությունների հետ կապված կաշառք ստանալը | C44: 497 | D44: 0
A45: 29.1 | B45: Իշխանազանցությունը կամ իշխանությունը չարաշահելը | C45: 549 | D45: 0
A46: 30 | B46: Այլ հանցագործւթյուններ | C46: 24.7 | D46: 0 | F46: 1 | V46: 1
B47: Ընդամենը | D47: =SUM(D7+D8+D9+D10+D11+D12+D13+D14+D15+D16+D17+D18+D19+D20+D21+D22+D23+D24+D25+D26+D27+D28+D29+D30+D31+D32+D33+D34+D35+D36+D37+D38+D39+D40+D41+D42+D43+D44+D45+D46) -> 7 | E47: =SUM(E7+E8+E9+E10+E11+E12+E13+E14+E15+E16+E17+E18+E19+E20+E21+E22+E23+E24+E25+E26+E27+E28+E29+E30+E31+E32+E33+E34+E35+E36+E37+E38+E39+E40+E41+E42+E43+E44+E45+E46) -> 0 | F47: =SUM(F7+F8+F9+F10+F11+F12+F13+F14+F15+F16+F17+F18+F19+F20+F21+F22+F23+F24+F25+F26+F27+F28+F29+F30+F31+F32+F33+F34+F35+F36+F37+F38+F39+F40+F41+F42+F43+F44+F45+F46) -> 47 | G47: =SUM(G7+G8+G9+G10+G11+G12+G13+G14+G15+G16+G17+G18+G19+G20+G21+G22+G23+G24+G25+G26+G27+G28+G29+G30+G31+G32+G33+G34+G35+G36+G37+G38+G39+G40+G41+G42+G43+G44+G45+G46) -> 0 | H47: =SUM(H7+H8+H9+H10+H11+H12+H13+H14+H15+H16+H17+H18+H19+H20+H21+H22+H23+H24+H25+H26+H27+H28+H29+H30+H31+H32+H33+H34+H35+H36+H37+H38+H39+H40+H41+H42+H43+H44+H45+H46) -> 0 | I47: =SUM(I7+I8+I9+I10+I11+I12+I13+I14+I15+I16+I17+I18+I19+I20+I21+I22+I23+I24+I25+I26+I27+I28+I29+I30+I31+I32+I33+I34+I35+I36+I37+I38+I39+I40+I41+I42+I43+I44+I45+I46) -> 3 | J47: =SUM(J7+J8+J9+J10+J11+J12+J13+J14+J15+J16+J17+J18+J19+J20+J21+J22+J23+J24+J25+J26+J27+J28+J29+J30+J31+J32+J33+J34+J35+J36+J37+J38+J39+J40+J41+J42+J43+J44+J45+J46) -> 0 | K47: =SUM(K7+K8+K9+K10+K11+K12+K13+K14+K15+K16+K17+K18+K19+K20+K21+K22+K23+K24+K25+K26+K27+K28+K29+K30+K31+K32+K33+K34+K35+K36+K37+K38+K39+K40+K41+K42+K43+K44+K45+K46) -> 0 | ... AG47: =SUM(AG7+AG8+AG9+AG10+AG11+AG12+AG13+AG14+AG15+AG16+AG17+AG18+AG19+AG20+AG21+AG22+AG23+AG24+AG25+AG26+AG27+AG28+AG29+AG30+AG31+AG32+AG33+AG34+AG35+AG36+AG37+AG38+AG39+AG40+AG41+AG42+AG43+AG44+AG45+AG46) -> 0
B48: Ծանոթություն՝ Թվով 2 գործ միացվել է;
B49: (18.04.2003թ. ընդունված և 01.08.2003թ. ուժի մեջ մտած քրեական օրենսգրքով) դատավորին նախորդ հաշվետու ժամանակահատվածից փոխանցվել է 4, հաշվետու ժամանակահատվածում ստացվել է 4, կայացվել է դատավճիռ 1, կարճվել է՝ 1, բժշկական բնույթի հարկադրանքի միջոց 0, ընդդատություն- 0, միացում - 0, վերաբաշխվել է 0, հաշվետու ժամանակաշրջանում անավարտ գործեր 6-ը:
