Workbook

Sheet ԴԱՏԱՎՈՐ
AE1: Հավելված 2 Բարձրագույն դատական խորհրդի 2022թվականի դեկտեմբերի 26-ի թիվ ԲԴԽ-122-Ո-408 որոշման
A2: 2025 ԹՎԱԿԱՆԻ ՏԱՐԵԿԱՆ ՀԱՇՎԵՏՎՈՒԹՅՈՒՆ ՀԿԱԿՈՌՈՒՊՑԻՈՆ ԴԱՏԱՐԱՆԻ ԴԱՏԱՎՈՐ --- ԳՈՐԾՈՒՆԵՈՒԹՅԱՆ ՎԵՐԱԲԵՐՅԱԼ
A3: Ստուգիչ հավասարումներ` 1+3=4+12+17+19, 12= 9+10+11, 25=21+22+23+24, 30=25+26+27+28+29 | C3: ՀՀ քրեական օրենսգրքի հոդվածներ | D3: Հաշվետու ժամանակահատվածի սկզբում նախորդ հաշվետու ժամանակահատվածից փոխանցված գործերի ընդհանուր թիվը | E3: Այդ թվում` կասեցված վիճակում փոխանցված | F3: Հաշվետու ժամանակահատվածում ստացված գործերի ընդհանուր թիվը | G3: փոխանցվել թ այլ դատավորի (վերաբաշխում) | H3: Որոշում է կայացվել քրեական գործը վերադարձնել հսկող դատախազին | I3: քանի գործով է կիրառվել համաձայնեցման վարույթ | J3: քանի գործով է կիրառվել համագործակցության վարույթ | K3: Հաշվետու ժամանակաշրջանում կայացվել է վերդիկտ | L3: Հաշվետու ժամանակաշրջանում կայացվել է դատավճիռ | M3: քրեական վարույթը կարճելու մաuին որոշում | N3: Հաշվետու ժամանակաշրջանում կայացվել է բժշկական հարկադրանքի դատավճիռ /ՀՀ ՔՐ. ԴԱՏ. ՕՐ. 432-ՐԴ ՀՈԴՎԱԾ/ | O3: ընդամենը | P3: Հաշվետու ժամանակահատվածում ավարտված գործերի ընդհանուր թիվը /ՀՀ ՔՐ. ԴԱՏ. ՕՐ. 14-ՐԴ ՀՈԴՎԱԾ/ | T3: Ուղարկվել է ըստ ընդդատության | U3: Հաշվետու ժամանակահատվածում կասեցված վարույթներով գործերի ընդհանուր թիվը | V3: Հաշվետու ժամանակահատվածում անավարտ գործերի ընդհանուր թիվը | W3: Այդ թվում՝ կասեցված | X3: Բողոքարկված վարութային ակտերի թիվը` ըստ տեսակների | AB3: ընդամենը բողոքարկվել են ակտեր | AC3: Բեկանված և փոփոխված ակտերի թիվը` ըստ տեսակների | AG3: ընդամենը բեկանվել են ակտեր
P4: քրեական վարույթը կարճելու մաuին որոշումն ուժի մեջ մտնելով. | Q4: Եզրափակիչ դատական ակտն ուժի մեջ է մտել | R4: Եզրափակիչ դատական ակտը հանձնվել է կատարման | S4: ավարտվել են քրեական գործեր | X4: Այդ թվում` եզրափակիչ դատական ակտերը | Z4: Այդ թվում` եզրափակիչ դատավարական ակտերը | AC4: Այդ թվում` եզրափակիչ դատական ակտերը | AE4: Այդ թվում` եզրափակիչ դատավարական ակտերը
X5: նախորդ տարիների կայացված ակտերի բողոքարկումը | Y5: հաշվետու ժամանակահատվածում կայացված ակտերի բողոքարկումը | Z5: նախորդ տարիների կայացված ակտերի բողոքարկումը | AA5: հաշվետու ժամանակահատվածում կայացված ակտերի բողոքարկումը | AC5: նախորդ տարիների կայացված ակտերի բողոքարկումը | AD5: հաշվետու ժամանակահատվածում կայացված ակտերի բողոքարկումը | AE5: նախորդ տարիների կայացված ակտերի բողոքարկումը | AF5: հաշվետու ժամանակահատվածում կայացված ակտերի բողոքարկումը | AH5: 1+3 | AI5: 4+12+17+19 | AJ5: 12 | AK5: 9+10+11 | AL5: 25 | AM5: 21+22+23+24 | AN5: 30 | AO5: 25+26+27+28+29
B6: Հակակոռուպցիոն հանցագործություններ | D6: 1 | E6: 2 | F6: 3 | G6: 4 | H6: 5 | I6: 6 | J6: 7 | K6: 8 | L6: 9 | M6: 10 | N6: 11 | O6: 12 | P6: 13 | Q6: 14 | R6: 15 | S6: 16 | T6: 17 | U6: 18 | V6: 19 | W6: 20 | X6: 21 | Y6: 22 | Z6: 23 | AA6: 24 | AB6: 25 | AC6: 26 | AD6: 27 | AE6: 28 | AF6: 29 | AG6: 30
A7: 9.4.1 | B7: Խարդախությունը՝ իշխանական կամ ծառայողական լիազորությունները կամ դրանցով պայմանավորված ազդեցությունն օգտագործելով | C7: 255 հ. 2-րդ մաս. 2-րդ կետ | D7: =SUM('Խ. Ղազարյան:Ս.Պետրոսյան'!D7) -> 5 | E7: =SUM('Խ. Ղազարյան:Ս.Պետրոսյան'!E7) -> 0 | F7: =SUM('Խ. Ղազարյան:Ս.Պետրոսյան'!F7) -> 10 | G7: =SUM('Խ. Ղազարյան:Ս.Պետրոսյան'!G7) -> 0 | H7: =SUM('Խ. Ղազարյան:Ս.Պետրոսյան'!H7) -> 0 | I7: =SUM('Խ. Ղազարյան:Ս.Պետրոսյան'!I7) -> 2 | J7: =SUM('Խ. Ղազարյան:Ս.Պետրոսյան'!J7) -> 0 | K7: =SUM('Խ. Ղազարյան:Ս.Պետրոսյան'!K7) -> 0 | ... AO7: =SUM('Խ. Ղազարյան:Ս.Պետրոսյան'!AO7) -> 0
A8: 9.4.2 | B8: Խարդախությունը՝ եթե կատարվել է իշխանական կամ ծառայողական լիազորությունները կամ դրանցով պայմանավորված ազդեցությունն օգտագործելով | C8: 255 հ. 3-րդ մաս. | D8: =SUM('Խ. Ղազարյան:Ս.Պետրոսյան'!D8) -> 21 | E8: =SUM('Խ. Ղազարյան:Ս.Պետրոսյան'!E8) -> 0 | F8: =SUM('Խ. Ղազարյան:Ս.Պետրոսյան'!F8) -> 24 | G8: =SUM('Խ. Ղազարյան:Ս.Պետրոսյան'!G8) -> 8 | H8: =SUM('Խ. Ղազարյան:Ս.Պետրոսյան'!H8) -> 0 | I8: =SUM('Խ. Ղազարյան:Ս.Պետրոսյան'!I8) -> 1 | J8: =SUM('Խ. Ղազարյան:Ս.Պետրոսյան'!J8) -> 0 | K8: =SUM('Խ. Ղազարյան:Ս.Պետրոսյան'!K8) -> 0 | ... AO8: =SUM('Խ. Ղազարյան:Ս.Պետրոսյան'!AO8) -> 0
A9: 9.5.1 | B9: Վստահված գույքը հափշտակելը՝ իշխանական կամ ծառայողական լիազորությունները կամ դրանցով պայմանավորված ազդեցությունն օգտագործելով, | C9: 256 հ. 2-րդ մաս. 2-րդ կետ | D9: =SUM('Խ. Ղազարյան:Ս.Պետրոսյան'!D9) -> 23 | E9: =SUM('Խ. Ղազարյան:Ս.Պետրոսյան'!E9) -> 0 | F9: =SUM('Խ. Ղազարյան:Ս.Պետրոսյան'!F9) -> 33 | G9: =SUM('Խ. Ղազարյան:Ս.Պետրոսյան'!G9) -> 3 | H9: =SUM('Խ. Ղազարյան:Ս.Պետրոսյան'!H9) -> 0 | I9: =SUM('Խ. Ղազարյան:Ս.Պետրոսյան'!I9) -> 2 | J9: =SUM('Խ. Ղազարյան:Ս.Պետրոսյան'!J9) -> 0 | K9: =SUM('Խ. Ղազարյան:Ս.Պետրոսյան'!K9) -> 0 | ... AO9: =SUM('Խ. Ղազարյան:Ս.Պետրոսյան'!AO9) -> 0
A10: 9.5.2 | B10: Վստահված գույքը հափշտակելը՝ եթե կատարվել է իշխանական կամ ծառայողական լիազորությունները կամ դրանցով պայմանավորված ազդեցությունն օգտագործելով | C10: 256 հ. 3-րդ մաս. | D10: =SUM('Խ. Ղազարյան:Ս.Պետրոսյան'!D10) -> 37 | E10: =SUM('Խ. Ղազարյան:Ս.Պետրոսյան'!E10) -> 0 | F10: =SUM('Խ. Ղազարյան:Ս.Պետրոսյան'!F10) -> 23 | G10: =SUM('Խ. Ղազարյան:Ս.Պետրոսյան'!G10) -> 2 | H10: =SUM('Խ. Ղազարյան:Ս.Պետրոսյան'!H10) -> 0 | I10: =SUM('Խ. Ղազարյան:Ս.Պետրոսյան'!I10) -> 2 | J10: =SUM('Խ. Ղազարյան:Ս.Պետրոսյան'!J10) -> 0 | K10: =SUM('Խ. Ղազարյան:Ս.Պետրոսյան'!K10) -> 0 | ... AO10: =SUM('Խ. Ղազարյան:Ս.Պետրոսյան'!AO10) -> 0
A11: 10.1.1 | B11: Շորթումը՝ իշխանական կամ ծառայողական լիազորությունները կամ դրանցով պայմանավորված ազդեցությունն օգտագործելով | C11: 258 հ. 2-րդ մաս. 9-րդ կետ | D11: =SUM('Խ. Ղազարյան:Ս.Պետրոսյան'!D11) -> 0 | E11: =SUM('Խ. Ղազարյան:Ս.Պետրոսյան'!E11) -> 0 | F11: =SUM('Խ. Ղազարյան:Ս.Պետրոսյան'!F11) -> 0 | G11: =SUM('Խ. Ղազարյան:Ս.Պետրոսյան'!G11) -> 0 | H11: =SUM('Խ. Ղազարյան:Ս.Պետրոսյան'!H11) -> 0 | I11: =SUM('Խ. Ղազարյան:Ս.Պետրոսյան'!I11) -> 0 | J11: =SUM('Խ. Ղազարյան:Ս.Պետրոսյան'!J11) -> 0 | K11: =SUM('Խ. Ղազարյան:Ս.Պետրոսյան'!K11) -> 0 | ... AO11: =SUM('Խ. Ղազարյան:Ս.Պետրոսյան'!AO11) -> 0
A12: 10.1.2 | B12: Շորթումը՝ եթե կատարվել է իշխանական կամ ծառայողական լիազորությունները կամ դրանցով պայմանավորված ազդեցությունն օգտագործելով | C12: 258 հ. 3-րդ մաս. | D12: =SUM('Խ. Ղազարյան:Ս.Պետրոսյան'!D12) -> 0 | E12: =SUM('Խ. Ղազարյան:Ս.Պետրոսյան'!E12) -> 0 | F12: =SUM('Խ. Ղազարյան:Ս.Պետրոսյան'!F12) -> 0 | G12: =SUM('Խ. Ղազարյան:Ս.Պետրոսյան'!G12) -> 0 | H12: =SUM('Խ. Ղազարյան:Ս.Պետրոսյան'!H12) -> 0 | I12: =SUM('Խ. Ղազարյան:Ս.Պետրոսյան'!I12) -> 0 | J12: =SUM('Խ. Ղազարյան:Ս.Պետրոսյան'!J12) -> 0 | K12: =SUM('Խ. Ղազարյան:Ս.Պետրոսյան'!K12) -> 0 | ... AO12: =SUM('Խ. Ղազարյան:Ս.Պետրոսյան'!AO12) -> 0
A13: 11.2.1 | B13: Ներքին տեղեկությունների անբարեխիղճ օգտագործումը՝ իշխանական կամ ծառայողական լիազորությունները կամ դրանցով պայմանավորված ազդեցությունն օգտագործելով | C13: 268 հ. 3-րդ մաս. 2-րդ. կետ | D13: =SUM('Խ. Ղազարյան:Ս.Պետրոսյան'!D13) -> 0 | E13: =SUM('Խ. Ղազարյան:Ս.Պետրոսյան'!E13) -> 0 | F13: =SUM('Խ. Ղազարյան:Ս.Պետրոսյան'!F13) -> 0 | G13: =SUM('Խ. Ղազարյան:Ս.Պետրոսյան'!G13) -> 0 | H13: =SUM('Խ. Ղազարյան:Ս.Պետրոսյան'!H13) -> 0 | I13: =SUM('Խ. Ղազարյան:Ս.Պետրոսյան'!I13) -> 0 | J13: =SUM('Խ. Ղազարյան:Ս.Պետրոսյան'!J13) -> 0 | K13: =SUM('Խ. Ղազարյան:Ս.Պետրոսյան'!K13) -> 0 | ... AO13: =SUM('Խ. Ղազարյան:Ս.Պետրոսյան'!AO13) -> 0
A14: 11.3.1 | B14: Արժեթղթերի շուկայում գնային չարաշահումը՝ իշխանական կամ ծառայողական լիազորությունները կամ դրանցով պայմանավորված ազդեցությունն օգտագործելով | C14: 269 հ. 3-րդ մաս. 3-րդ. կետ | D14: =SUM('Խ. Ղազարյան:Ս.Պետրոսյան'!D14) -> 0 | E14: =SUM('Խ. Ղազարյան:Ս.Պետրոսյան'!E14) -> 0 | F14: =SUM('Խ. Ղազարյան:Ս.Պետրոսյան'!F14) -> 0 | G14: =SUM('Խ. Ղազարյան:Ս.Պետրոսյան'!G14) -> 0 | H14: =SUM('Խ. Ղազարյան:Ս.Պետրոսյան'!H14) -> 0 | I14: =SUM('Խ. Ղազարյան:Ս.Պետրոսյան'!I14) -> 0 | J14: =SUM('Խ. Ղազարյան:Ս.Պետրոսյան'!J14) -> 0 | K14: =SUM('Խ. Ղազարյան:Ս.Պետրոսյան'!K14) -> 0 | ... AO14: =SUM('Խ. Ղազարյան:Ս.Պետրոսյան'!AO14) -> 0
A15: 11.6 | B15: Մասնավոր ոլորտում կաշառք ստանալը | C15: 272 | D15: =SUM('Խ. Ղազարյան:Ս.Պետրոսյան'!D15) -> 1 | E15: =SUM('Խ. Ղազարյան:Ս.Պետրոսյան'!E15) -> 0 | F15: =SUM('Խ. Ղազարյան:Ս.Պետրոսյան'!F15) -> 8 | G15: =SUM('Խ. Ղազարյան:Ս.Պետրոսյան'!G15) -> 1 | H15: =SUM('Խ. Ղազարյան:Ս.Պետրոսյան'!H15) -> 0 | I15: =SUM('Խ. Ղազարյան:Ս.Պետրոսյան'!I15) -> 0 | J15: =SUM('Խ. Ղազարյան:Ս.Պետրոսյան'!J15) -> 0 | K15: =SUM('Խ. Ղազարյան:Ս.Պետրոսյան'!K15) -> 0 | ... AO15: =SUM('Խ. Ղազարյան:Ս.Պետրոսյան'!AO15) -> 0
A16: 11.7 | B16: Մասնավոր ոլորտում կաշառք տալը | C16: 273 | D16: =SUM('Խ. Ղազարյան:Ս.Պետրոսյան'!D16) -> 0 | E16: =SUM('Խ. Ղազարյան:Ս.Պետրոսյան'!E16) -> 0 | F16: =SUM('Խ. Ղազարյան:Ս.Պետրոսյան'!F16) -> 1 | G16: =SUM('Խ. Ղազարյան:Ս.Պետրոսյան'!G16) -> 0 | H16: =SUM('Խ. Ղազարյան:Ս.Պետրոսյան'!H16) -> 0 | I16: =SUM('Խ. Ղազարյան:Ս.Պետրոսյան'!I16) -> 0 | J16: =SUM('Խ. Ղազարյան:Ս.Պետրոսյան'!J16) -> 0 | K16: =SUM('Խ. Ղազարյան:Ս.Պետրոսյան'!K16) -> 0 | ... AO16: =SUM('Խ. Ղազարյան:Ս.Պետրոսյան'!AO16) -> 0
A17: 11.8 | B17: Հայաստանի Հանրապետության կամ այլ պետության մարզիկի, մրցավարի, թիմի ղեկավարի, մարզչի, արհեստավարժ մարզամրցման այլ մասնակցի կամ դրա կազմակերպչի, հանդիսադիր առևտրային մրցույթի մասնակցի կամ դրա կազմակերպչի կամ մրցանակաբաշխային հանձնաժողովի անդամի կողմից կաշառք ստանալը | C17: 274 | D17: =SUM('Խ. Ղազարյան:Ս.Պետրոսյան'!D17) -> 0 | E17: =SUM('Խ. Ղազարյան:Ս.Պետրոսյան'!E17) -> 0 | F17: =SUM('Խ. Ղազարյան:Ս.Պետրոսյան'!F17) -> 0 | G17: =SUM('Խ. Ղազարյան:Ս.Պետրոսյան'!G17) -> 0 | H17: =SUM('Խ. Ղազարյան:Ս.Պետրոսյան'!H17) -> 0 | I17: =SUM('Խ. Ղազարյան:Ս.Պետրոսյան'!I17) -> 0 | J17: =SUM('Խ. Ղազարյան:Ս.Պետրոսյան'!J17) -> 0 | K17: =SUM('Խ. Ղազարյան:Ս.Պետրոսյան'!K17) -> 0 | ... AO17: =SUM('Խ. Ղազարյան:Ս.Պետրոսյան'!AO17) -> 0
A18: 11.9 | B18: Հայաստանի Հանրապետության կամ այլ պետության մարզիկին, մրցավարին, թիմի ղեկավարին, մարզչին, արհեստավարժ մարզամրցման այլ մասնակցի կամ դրա կազմակերպչին, հանդիսադիր առևտրային մրցույթի մասնակցին կամ դրա կազմակերպչին կամ մրցանակաբաշխային հանձնաժողովի անդամին կաշառք տալը | C18: 275 | D18: =SUM('Խ. Ղազարյան:Ս.Պետրոսյան'!D18) -> 0 | E18: =SUM('Խ. Ղազարյան:Ս.Պետրոսյան'!E18) -> 0 | F18: =SUM('Խ. Ղազարյան:Ս.Պետրոսյան'!F18) -> 0 | G18: =SUM('Խ. Ղազարյան:Ս.Պետրոսյան'!G18) -> 0 | H18: =SUM('Խ. Ղազարյան:Ս.Պետրոսյան'!H18) -> 0 | I18: =SUM('Խ. Ղազարյան:Ս.Պետրոսյան'!I18) -> 0 | J18: =SUM('Խ. Ղազարյան:Ս.Պետրոսյան'!J18) -> 0 | K18: =SUM('Խ. Ղազարյան:Ս.Պետրոսյան'!K18) -> 0 | ... AO18: =SUM('Խ. Ղազարյան:Ս.Պետրոսյան'!AO18) -> 0
A19: 11.1 | B19: Ծառայողական կամ մասնագիտական պարտականությունները կատարելու համար ապօրինի վարձատրություն ստանալը կամ պահանջելը | C19: 276 | D19: =SUM('Խ. Ղազարյան:Ս.Պետրոսյան'!D19) -> 0 | E19: =SUM('Խ. Ղազարյան:Ս.Պետրոսյան'!E19) -> 0 | F19: =SUM('Խ. Ղազարյան:Ս.Պետրոսյան'!F19) -> 1 | G19: =SUM('Խ. Ղազարյան:Ս.Պետրոսյան'!G19) -> 0 | H19: =SUM('Խ. Ղազարյան:Ս.Պետրոսյան'!H19) -> 0 | I19: =SUM('Խ. Ղազարյան:Ս.Պետրոսյան'!I19) -> 0 | J19: =SUM('Խ. Ղազարյան:Ս.Պետրոսյան'!J19) -> 0 | K19: =SUM('Խ. Ղազարյան:Ս.Պետրոսյան'!K19) -> 0 | ... AO19: =SUM('Խ. Ղազարյան:Ս.Պետրոսյան'!AO19) -> 0
A20: 11.11 | B20: Մասնավոր ոլորտում ծառայողական լիազորությունները կամ դրանցով պայմանավորված ազդեցությունը չարաշահելը | C20: 277 | D20: =SUM('Խ. Ղազարյան:Ս.Պետրոսյան'!D20) -> 1 | E20: =SUM('Խ. Ղազարյան:Ս.Պետրոսյան'!E20) -> 0 | F20: =SUM('Խ. Ղազարյան:Ս.Պետրոսյան'!F20) -> 2 | G20: =SUM('Խ. Ղազարյան:Ս.Պետրոսյան'!G20) -> 0 | H20: =SUM('Խ. Ղազարյան:Ս.Պետրոսյան'!H20) -> 0 | I20: =SUM('Խ. Ղազարյան:Ս.Պետրոսյան'!I20) -> 0 | J20: =SUM('Խ. Ղազարյան:Ս.Պետրոսյան'!J20) -> 0 | K20: =SUM('Խ. Ղազարյան:Ս.Պետրոսյան'!K20) -> 0 | ... AO20: =SUM('Խ. Ղազարյան:Ս.Պետրոսյան'!AO20) -> 0
A21: 11.16.1 | B21: Ֆինանսական բուրգ ստեղծելը, կազմակերպելը կամ ղեկավարելը՝ իշխանական կամ ծառայողական լիազորությունները կամ դրանցով պայմանավորված ազդեցությունն օգտագործելով. | C21: 282հ. 2-րդ մաս. 2-րդ կետ | D21: =SUM('Խ. Ղազարյան:Ս.Պետրոսյան'!D21) -> 0 | E21: =SUM('Խ. Ղազարյան:Ս.Պետրոսյան'!E21) -> 0 | F21: =SUM('Խ. Ղազարյան:Ս.Պետրոսյան'!F21) -> 0 | G21: =SUM('Խ. Ղազարյան:Ս.Պետրոսյան'!G21) -> 0 | H21: =SUM('Խ. Ղազարյան:Ս.Պետրոսյան'!H21) -> 0 | I21: =SUM('Խ. Ղազարյան:Ս.Պետրոսյան'!I21) -> 0 | J21: =SUM('Խ. Ղազարյան:Ս.Պետրոսյան'!J21) -> 0 | K21: =SUM('Խ. Ղազարյան:Ս.Պետրոսյան'!K21) -> 0 | ... AO21: =SUM('Խ. Ղազարյան:Ս.Պետրոսյան'!AO21) -> 0
A22: 11.16.2 | B22: Ֆինանսական բուրգ ստեղծելը,եթե կատարվել է իշխանական կամ ծառայողական լիազորությունները կամ դրանցով պայմանավորված ազդեցությունն օգտագործելով | C22: 282հ. 3-րդ մաս. | D22: =SUM('Խ. Ղազարյան:Ս.Պետրոսյան'!D22) -> 0 | E22: =SUM('Խ. Ղազարյան:Ս.Պետրոսյան'!E22) -> 0 | F22: =SUM('Խ. Ղազարյան:Ս.Պետրոսյան'!F22) -> 0 | G22: =SUM('Խ. Ղազարյան:Ս.Պետրոսյան'!G22) -> 0 | H22: =SUM('Խ. Ղազարյան:Ս.Պետրոսյան'!H22) -> 0 | I22: =SUM('Խ. Ղազարյան:Ս.Պետրոսյան'!I22) -> 0 | J22: =SUM('Խ. Ղազարյան:Ս.Պետրոսյան'!J22) -> 0 | K22: =SUM('Խ. Ղազարյան:Ս.Պետրոսյան'!K22) -> 0 | ... AO22: =SUM('Խ. Ղազարյան:Ս.Պետրոսյան'!AO22) -> 0
A23: 11.18.1 | B23: Հակամրցակցային գործունեությունը՝ իշխանական կամ ծառայողական լիազորությունները կամ դրանցով պայմանավորված ազդեցությունն օգտագործելով | C23: 284հ 2-րդ մաս. 2-րդ կետ | D23: =SUM('Խ. Ղազարյան:Ս.Պետրոսյան'!D23) -> 0 | E23: =SUM('Խ. Ղազարյան:Ս.Պետրոսյան'!E23) -> 0 | F23: =SUM('Խ. Ղազարյան:Ս.Պետրոսյան'!F23) -> 0 | G23: =SUM('Խ. Ղազարյան:Ս.Պետրոսյան'!G23) -> 0 | H23: =SUM('Խ. Ղազարյան:Ս.Պետրոսյան'!H23) -> 0 | I23: =SUM('Խ. Ղազարյան:Ս.Պետրոսյան'!I23) -> 0 | J23: =SUM('Խ. Ղազարյան:Ս.Պետրոսյան'!J23) -> 0 | K23: =SUM('Խ. Ղազարյան:Ս.Պետրոսյան'!K23) -> 0 | ... AO23: =SUM('Խ. Ղազարյան:Ս.Պետրոսյան'!AO23) -> 0
A24: 11.18.2 | B24: Հակամրցակցային գործունեությունը՝ եթե կատարվել է իշխանական կամ ծառայողական լիազորությունները կամ դրանցով պայմանավորված ազդեցությունն օգտագործելով | C24: 284հ 3-րդ մաս. | D24: =SUM('Խ. Ղազարյան:Ս.Պետրոսյան'!D24) -> 0 | E24: =SUM('Խ. Ղազարյան:Ս.Պետրոսյան'!E24) -> 0 | F24: =SUM('Խ. Ղազարյան:Ս.Պետրոսյան'!F24) -> 0 | G24: =SUM('Խ. Ղազարյան:Ս.Պետրոսյան'!G24) -> 0 | H24: =SUM('Խ. Ղազարյան:Ս.Պետրոսյան'!H24) -> 0 | I24: =SUM('Խ. Ղազարյան:Ս.Պետրոսյան'!I24) -> 0 | J24: =SUM('Խ. Ղազարյան:Ս.Պետրոսյան'!J24) -> 0 | K24: =SUM('Խ. Ղազարյան:Ս.Պետրոսյան'!K24) -> 0 | ... AO24: =SUM('Խ. Ղազարյան:Ս.Պետրոսյան'!AO24) -> 0
A25: 11.3 | B25: Փողերի լվացումը | C25: 296 | D25: =SUM('Խ. Ղազարյան:Ս.Պետրոսյան'!D25) -> 28 | E25: =SUM('Խ. Ղազարյան:Ս.Պետրոսյան'!E25) -> 0 | F25: =SUM('Խ. Ղազարյան:Ս.Պետրոսյան'!F25) -> 36 | G25: =SUM('Խ. Ղազարյան:Ս.Պետրոսյան'!G25) -> 6 | H25: =SUM('Խ. Ղազարյան:Ս.Պետրոսյան'!H25) -> 0 | I25: =SUM('Խ. Ղազարյան:Ս.Պետրոսյան'!I25) -> 0 | J25: =SUM('Խ. Ղազարյան:Ս.Պետրոսյան'!J25) -> 0 | K25: =SUM('Խ. Ղազարյան:Ս.Պետրոսյան'!K25) -> 1 | ... AO25: =SUM('Խ. Ղազարյան:Ս.Պետրոսյան'!AO25) -> 0
A26: 22.1 | B26: Կաշառք ստանալը | C26: 435 | D26: =SUM('Խ. Ղազարյան:Ս.Պետրոսյան'!D26) -> 104 | E26: =SUM('Խ. Ղազարյան:Ս.Պետրոսյան'!E26) -> 0 | F26: =SUM('Խ. Ղազարյան:Ս.Պետրոսյան'!F26) -> 84 | G26: =SUM('Խ. Ղազարյան:Ս.Պետրոսյան'!G26) -> 12 | H26: =SUM('Խ. Ղազարյան:Ս.Պետրոսյան'!H26) -> 0 | I26: =SUM('Խ. Ղազարյան:Ս.Պետրոսյան'!I26) -> 4 | J26: =SUM('Խ. Ղազարյան:Ս.Պետրոսյան'!J26) -> 0 | K26: =SUM('Խ. Ղազարյան:Ս.Պետրոսյան'!K26) -> 0 | ... AO26: =SUM('Խ. Ղազարյան:Ս.Պետրոսյան'!AO26) -> 0
A27: 22.2 | B27: Կաշառք տալը | C27: 436 | D27: =SUM('Խ. Ղազարյան:Ս.Պետրոսյան'!D27) -> 14 | E27: =SUM('Խ. Ղազարյան:Ս.Պետրոսյան'!E27) -> 0 | F27: =SUM('Խ. Ղազարյան:Ս.Պետրոսյան'!F27) -> 48 | G27: =SUM('Խ. Ղազարյան:Ս.Պետրոսյան'!G27) -> 1 | H27: =SUM('Խ. Ղազարյան:Ս.Պետրոսյան'!H27) -> 0 | I27: =SUM('Խ. Ղազարյան:Ս.Պետրոսյան'!I27) -> 5 | J27: =SUM('Խ. Ղազարյան:Ս.Պետրոսյան'!J27) -> 0 | K27: =SUM('Խ. Ղազարյան:Ս.Պետրոսյան'!K27) -> 0 | ... AO27: =SUM('Խ. Ղազարյան:Ս.Պետրոսյան'!AO27) -> 0
A28: 22.3 | B28: Կաշառքի միջնորդությունը | C28: 437 | D28: =SUM('Խ. Ղազարյան:Ս.Պետրոսյան'!D28) -> 0 | E28: =SUM('Խ. Ղազարյան:Ս.Պետրոսյան'!E28) -> 0 | F28: =SUM('Խ. Ղազարյան:Ս.Պետրոսյան'!F28) -> 0 | G28: =SUM('Խ. Ղազարյան:Ս.Պետրոսյան'!G28) -> 0 | H28: =SUM('Խ. Ղազարյան:Ս.Պետրոսյան'!H28) -> 0 | I28: =SUM('Խ. Ղազարյան:Ս.Պետրոսյան'!I28) -> 0 | J28: =SUM('Խ. Ղազարյան:Ս.Պետրոսյան'!J28) -> 0 | K28: =SUM('Խ. Ղազարյան:Ս.Պետրոսյան'!K28) -> 0 | ... AO28: =SUM('Խ. Ղազարյան:Ս.Պետրոսյան'!AO28) -> 0
A29: 22.4 | B29: Պաշտոնատար անձի նկատմամբ ունեցած իրական կամ ենթադրյալ ազդեցությունն օգտագործելը | C29: 438 | D29: =SUM('Խ. Ղազարյան:Ս.Պետրոսյան'!D29) -> 0 | E29: =SUM('Խ. Ղազարյան:Ս.Պետրոսյան'!E29) -> 0 | F29: =SUM('Խ. Ղազարյան:Ս.Պետրոսյան'!F29) -> 3 | G29: =SUM('Խ. Ղազարյան:Ս.Պետրոսյան'!G29) -> 0 | H29: =SUM('Խ. Ղազարյան:Ս.Պետրոսյան'!H29) -> 0 | I29: =SUM('Խ. Ղազարյան:Ս.Պետրոսյան'!I29) -> 1 | J29: =SUM('Խ. Ղազարյան:Ս.Պետրոսյան'!J29) -> 0 | K29: =SUM('Խ. Ղազարյան:Ս.Պետրոսյան'!K29) -> 0 | ... AO29: =SUM('Խ. Ղազարյան:Ս.Պետրոսյան'!AO29) -> 0
A30: 22.5 | B30: Պաշտոնատար անձի նկատմամբ ունեցած իրական կամ ենթադրյալ ազդեցությունն օգտագործելու նպատակով ապօրինի վարձատրություն տալը | C30: 439 | D30: =SUM('Խ. Ղազարյան:Ս.Պետրոսյան'!D30) -> 1 | E30: =SUM('Խ. Ղազարյան:Ս.Պետրոսյան'!E30) -> 0 | F30: =SUM('Խ. Ղազարյան:Ս.Պետրոսյան'!F30) -> 3 | G30: =SUM('Խ. Ղազարյան:Ս.Պետրոսյան'!G30) -> 1 | H30: =SUM('Խ. Ղազարյան:Ս.Պետրոսյան'!H30) -> 0 | I30: =SUM('Խ. Ղազարյան:Ս.Պետրոսյան'!I30) -> 1 | J30: =SUM('Խ. Ղազարյան:Ս.Պետրոսյան'!J30) -> 0 | K30: =SUM('Խ. Ղազարյան:Ս.Պետրոսյան'!K30) -> 0 | ... AO30: =SUM('Խ. Ղազարյան:Ս.Պետրոսյան'!AO30) -> 0
A31: 22.6 | B31: Կաշառք ստանալու, կաշառքի միջնորդության կամ իրական կամ ենթադրյալ ազդեցությունը շահադիտական, անձնական այլ շահագրգռվածությունից կամ խմբային շահերից ելնելով օգտագործելու պատրվակով գույք, ներառյալ դրամական միջոց, արժեթուղթ, վճարային այլ գործիք, գույքի նկատմամբ իրավունք, ծառայություն կամ որևէ այլ առավելություն ստանալը | C31: 440 | D31: =SUM('Խ. Ղազարյան:Ս.Պետրոսյան'!D31) -> 2 | E31: =SUM('Խ. Ղազարյան:Ս.Պետրոսյան'!E31) -> 0 | F31: =SUM('Խ. Ղազարյան:Ս.Պետրոսյան'!F31) -> 4 | G31: =SUM('Խ. Ղազարյան:Ս.Պետրոսյան'!G31) -> 0 | H31: =SUM('Խ. Ղազարյան:Ս.Պետրոսյան'!H31) -> 0 | I31: =SUM('Խ. Ղազարյան:Ս.Պետրոսյան'!I31) -> 0 | J31: =SUM('Խ. Ղազարյան:Ս.Պետրոսյան'!J31) -> 0 | K31: =SUM('Խ. Ղազարյան:Ս.Պետրոսյան'!K31) -> 0 | ... AO31: =SUM('Խ. Ղազարյան:Ս.Պետրոսյան'!AO31) -> 0
A32: 22.7 | B32: Պաշտոնատար անձի կողմից իշխանական կամ ծառայողական լիազորությունները կամ դրանցով պայմանավորված ազդեցությունը չարաշահելը կամ լիազորություններն անցնելը | C32: 441 | D32: =SUM('Խ. Ղազարյան:Ս.Պետրոսյան'!D32) -> 38 | E32: =SUM('Խ. Ղազարյան:Ս.Պետրոսյան'!E32) -> 0 | F32: =SUM('Խ. Ղազարյան:Ս.Պետրոսյան'!F32) -> 43 | G32: =SUM('Խ. Ղազարյան:Ս.Պետրոսյան'!G32) -> 6 | H32: =SUM('Խ. Ղազարյան:Ս.Պետրոսյան'!H32) -> 0 | I32: =SUM('Խ. Ղազարյան:Ս.Պետրոսյան'!I32) -> 0 | J32: =SUM('Խ. Ղազարյան:Ս.Պետրոսյան'!J32) -> 0 | K32: =SUM('Խ. Ղազարյան:Ս.Պետրոսյան'!K32) -> 1 | ... AO32: =SUM('Խ. Ղազարյան:Ս.Պետրոսյան'!AO32) -> 0
A33: 22.8 | B33: Պաշտոնատար անձի կողմից ձեռնարկատիրական գործունեությանն ապօրինի մասնակցելը | C33: 442 | D33: =SUM('Խ. Ղազարյան:Ս.Պետրոսյան'!D33) -> 0 | E33: =SUM('Խ. Ղազարյան:Ս.Պետրոսյան'!E33) -> 0 | F33: =SUM('Խ. Ղազարյան:Ս.Պետրոսյան'!F33) -> 0 | G33: =SUM('Խ. Ղազարյան:Ս.Պետրոսյան'!G33) -> 0 | H33: =SUM('Խ. Ղազարյան:Ս.Պետրոսյան'!H33) -> 0 | I33: =SUM('Խ. Ղազարյան:Ս.Պետրոսյան'!I33) -> 0 | J33: =SUM('Խ. Ղազարյան:Ս.Պետրոսյան'!J33) -> 0 | K33: =SUM('Խ. Ղազարյան:Ս.Պետրոսյան'!K33) -> 0 | ... AO33: =SUM('Խ. Ղազարյան:Ս.Պետրոսյան'!AO33) -> 0
A34: 22.9 | B34: Ապօրինի հարստանալը | C34: 443 | D34: =SUM('Խ. Ղազարյան:Ս.Պետրոսյան'!D34) -> 0 | E34: =SUM('Խ. Ղազարյան:Ս.Պետրոսյան'!E34) -> 0 | F34: =SUM('Խ. Ղազարյան:Ս.Պետրոսյան'!F34) -> 1 | G34: =SUM('Խ. Ղազարյան:Ս.Պետրոսյան'!G34) -> 0 | H34: =SUM('Խ. Ղազարյան:Ս.Պետրոսյան'!H34) -> 0 | I34: =SUM('Խ. Ղազարյան:Ս.Պետրոսյան'!I34) -> 0 | J34: =SUM('Խ. Ղազարյան:Ս.Պետրոսյան'!J34) -> 0 | K34: =SUM('Խ. Ղազարյան:Ս.Պետրոսյան'!K34) -> 0 | ... AO34: =SUM('Խ. Ղազարյան:Ս.Պետրոսյան'!AO34) -> 0
A35: 22.1 | B35: Հայաստանի Հանրապետության օրենսդրությամբ սահմանված` հայտարարագիր ներկայացնելու պարտականություն ունեցող անձի կողմից հայտարարագրում կեղծ տվյալներ ներկայացնելը, հայտարարագրման ենթակա տվյալները թաքցնելը կամ հայտարարագիր չներկայացնելը | C35: 444 | D35: =SUM('Խ. Ղազարյան:Ս.Պետրոսյան'!D35) -> 0 | E35: =SUM('Խ. Ղազարյան:Ս.Պետրոսյան'!E35) -> 0 | F35: =SUM('Խ. Ղազարյան:Ս.Պետրոսյան'!F35) -> 8 | G35: =SUM('Խ. Ղազարյան:Ս.Պետրոսյան'!G35) -> 0 | H35: =SUM('Խ. Ղազարյան:Ս.Պետրոսյան'!H35) -> 0 | I35: =SUM('Խ. Ղազարյան:Ս.Պետրոսյան'!I35) -> 0 | J35: =SUM('Խ. Ղազարյան:Ս.Պետրոսյան'!J35) -> 0 | K35: =SUM('Խ. Ղազարյան:Ս.Պետրոսյան'!K35) -> 0 | ... AO35: =SUM('Խ. Ղազարյան:Ս.Պետրոսյան'!AO35) -> 0
A36: 22.11 | B36: Պաշտոնեական կեղծիքը | C36: 445 | D36: =SUM('Խ. Ղազարյան:Ս.Պետրոսյան'!D36) -> 17 | E36: =SUM('Խ. Ղազարյան:Ս.Պետրոսյան'!E36) -> 0 | F36: =SUM('Խ. Ղազարյան:Ս.Պետրոսյան'!F36) -> 22 | G36: =SUM('Խ. Ղազարյան:Ս.Պետրոսյան'!G36) -> 2 | H36: =SUM('Խ. Ղազարյան:Ս.Պետրոսյան'!H36) -> 0 | I36: =SUM('Խ. Ղազարյան:Ս.Պետրոսյան'!I36) -> 1 | J36: =SUM('Խ. Ղազարյան:Ս.Պետրոսյան'!J36) -> 0 | K36: =SUM('Խ. Ղազարյան:Ս.Պետրոսյան'!K36) -> 0 | ... AO36: =SUM('Խ. Ղազարյան:Ս.Պետրոսյան'!AO36) -> 0
... A40: 24.1 | B40: Ակնհայտ անարդար դատավճիռ, վճիռ կամ դատական այլ ակտ կայացնելը | C40: 482 | D40: =SUM('Խ. Ղազարյան:Ս.Պետրոսյան'!D40) -> 0 | E40: =SUM('Խ. Ղազարյան:Ս.Պետրոսյան'!E40) -> 0 | F40: =SUM('Խ. Ղազարյան:Ս.Պետրոսյան'!F40) -> 0 | G40: =SUM('Խ. Ղազարյան:Ս.Պետրոսյան'!G40) -> 0 | H40: =SUM('Խ. Ղազարյան:Ս.Պետրոսյան'!H40) -> 0 | I40: =SUM('Խ. Ղազարյան:Ս.Պետրոսյան'!I40) -> 0 | J40: =SUM('Խ. Ղազարյան:Ս.Պետրոսյան'!J40) -> 0 | K40: =SUM('Խ. Ղազարյան:Ս.Պետրոսյան'!K40) -> 0 | ... AO40: =SUM('Խ. Ղազարյան:Ս.Պետրոսյան'!AO40) -> 0
A41: 24.1.1 | B41: Արդարադատության իրականացմանը կամ գործի քննությանը միջամտելը՝ որը կատարվել է իշխանական կամ ծառայողական լիազորությունները կամ դրանցով պայմանավորված ազդեցությունն օգտագործելով, | C41: 486 hոդ. 2-րդ մաս. 2-րդ կետ. | D41: =SUM('Խ. Ղազարյան:Ս.Պետրոսյան'!D41) -> 0 | E41: =SUM('Խ. Ղազարյան:Ս.Պետրոսյան'!E41) -> 0 | F41: =SUM('Խ. Ղազարյան:Ս.Պետրոսյան'!F41) -> 0 | G41: =SUM('Խ. Ղազարյան:Ս.Պետրոսյան'!G41) -> 0 | H41: =SUM('Խ. Ղազարյան:Ս.Պետրոսյան'!H41) -> 0 | I41: =SUM('Խ. Ղազարյան:Ս.Պետրոսյան'!I41) -> 0 | J41: =SUM('Խ. Ղազարյան:Ս.Պետրոսյան'!J41) -> 0 | K41: =SUM('Խ. Ղազարյան:Ս.Պետրոսյան'!K41) -> 0 | ... AO41: =SUM('Խ. Ղազարյան:Ս.Պետրոսյան'!AO41) -> 0
A42: 24.1.2 | B42: Արդարադատության իրականացմանը կամ գործի քննությանը միջամտելը՝ եթե կատարվել է իշխանական կամ ծառայողական լիազորությունները կամ դրանցով պայմանավորված ազդեցությունն օգտագործելով | C42: 486 hոդ. 3-րդ մաս. | D42: =SUM('Խ. Ղազարյան:Ս.Պետրոսյան'!D42) -> 0 | E42: =SUM('Խ. Ղազարյան:Ս.Պետրոսյան'!E42) -> 0 | F42: =SUM('Խ. Ղազարյան:Ս.Պետրոսյան'!F42) -> 0 | G42: =SUM('Խ. Ղազարյան:Ս.Պետրոսյան'!G42) -> 0 | H42: =SUM('Խ. Ղազարյան:Ս.Պետրոսյան'!H42) -> 0 | I42: =SUM('Խ. Ղազարյան:Ս.Պետրոսյան'!I42) -> 0 | J42: =SUM('Խ. Ղազարյան:Ս.Պետրոսյան'!J42) -> 0 | K42: =SUM('Խ. Ղազարյան:Ս.Պետրոսյան'!K42) -> 0 | ... AO42: =SUM('Խ. Ղազարյան:Ս.Պետրոսյան'!AO42) -> 0
A43: 24.24 | B43: Դատավարության մասնակիցներին՝ իրենց լիազորությունների հետ կապված կաշառք տալը | C43: 496 | D43: =SUM('Խ. Ղազարյան:Ս.Պետրոսյան'!D43) -> 0 | E43: =SUM('Խ. Ղազարյան:Ս.Պետրոսյան'!E43) -> 0 | F43: =SUM('Խ. Ղազարյան:Ս.Պետրոսյան'!F43) -> 1 | G43: =SUM('Խ. Ղազարյան:Ս.Պետրոսյան'!G43) -> 0 | H43: =SUM('Խ. Ղազարյան:Ս.Պետրոսյան'!H43) -> 0 | I43: =SUM('Խ. Ղազարյան:Ս.Պետրոսյան'!I43) -> 0 | J43: =SUM('Խ. Ղազարյան:Ս.Պետրոսյան'!J43) -> 0 | K43: =SUM('Խ. Ղազարյան:Ս.Պետրոսյան'!K43) -> 0 | ... AO43: =SUM('Խ. Ղազարյան:Ս.Պետրոսյան'!AO43) -> 0
...

Sheet Խ. Ղազարյան
AE1: Հավելված 2 Բարձրագույն դատական խորհրդի 2022թվականի դեկտեմբերի 26-ի թիվ ԲԴԽ-122-Ո-408 որոշման
A2: 2025 ԹՎԱԿԱՆԻ ՏԱՐԵԿԱՆ ՀԱՇՎԵՏՎՈՒԹՅՈՒՆ ՀԱԿԱԿՈՌՈՒՊՑԻՈՆ ԴԱՏԱՐԱՆԻ ԴԱՏԱՎՈՐ ԽԱՉԻԿ ՂԱԶԱՐՅԱՆԻ ԳՈՐԾՈՒՆԵՈՒԹՅԱՆ ՎԵՐԱԲԵՐՅԱԼ
A3: Ստուգիչ հավասարումներ` 1+3=4+12+17+19, 12= 9+10+11, 25=21+22+23+24, 30=25+26+27+28+29 | C3: ՀՀ քրեական օրենսգրքի հոդվածներ | D3: Հաշվետու ժամանակահատվածի սկզբում նախորդ հաշվետու ժամանակահատվածից փոխանցված գործերի ընդհանուր թիվը | E3: Այդ թվում` կասեցված վիճակում փոխանցված | F3: Հաշվետու ժամանակահատվածում ստացված գործերի ընդհանուր թիվը | G3: փոխանցվել թ այլ դատավորի (վերաբաշխում) | H3: Որոշում է կայացվել քրեական գործը վերադարձնել հսկող դատախազին | I3: քանի գործով է կիրառվել համաձայնեցման վարույթ | J3: քանի գործով է կիրառվել համագործակցության վարույթ | K3: Հաշվետու ժամանակաշրջանում կայացվել է վերդիկտ | L3: Հաշվետու ժամանակաշրջանում կայացվել է դատավճիռ | M3: քրեական վարույթը կարճելու մաuին որոշում | N3: Հաշվետու ժամանակաշրջանում կայացվել է բժշկական հարկադրանքի դատավճիռ /ՀՀ ՔՐ. ԴԱՏ. ՕՐ. 432-ՐԴ ՀՈԴՎԱԾ/ | O3: ընդամենը | P3: Հաշվետու ժամանակահատվածում ավարտված գործերի ընդհանուր թիվը /ՀՀ ՔՐ. ԴԱՏ. ՕՐ. 14-ՐԴ ՀՈԴՎԱԾ/ | T3: Ուղարկվել է ըստ ընդդատության | U3: Հաշվետու ժամանակահատվածում կասեցված վարույթներով գործերի ընդհանուր թիվը | V3: Հաշվետու ժամանակահատվածում անավարտ գործերի ընդհանուր թիվը | W3: Այդ թվում՝ կասեցված | X3: Բողոքարկված վարութային ակտերի թիվը` ըստ տեսակների | AB3: ընդամենը բողոքարկվել են ակտեր | AC3: Բեկանված և փոփոխված ակտերի թիվը` ըստ տեսակների | AG3: ընդամենը բեկանվել են ակտեր
P4: քրեական վարույթը կարճելու մաuին որոշումն ուժի մեջ մտնելով. | Q4: Եզրափակիչ դատական ակտն ուժի մեջ է մտել | R4: Եզրափակիչ դատական ակտը հանձնվել է կատարման | S4: ավարտվել են քրեական գործեր | X4: Այդ թվում` եզրափակիչ դատական ակտերը | Z4: Այդ թվում` եզրափակիչ դատավարական ակտերը | AC4: Այդ թվում` եզրափակիչ դատական ակտերը | AE4: Այդ թվում` եզրափակիչ դատավարական ակտերը
X5: նախորդ տարիների կայացված ակտերի բողոքարկումը | Y5: հաշվետու ժամանակահատվածում կայացված ակտերի բողոքարկումը | Z5: նախորդ տարիների կայացված ակտերի բողոքարկումը | AA5: հաշվետու ժամանակահատվածում կայացված ակտերի բողոքարկումը | AC5: նախորդ տարիների կայացված ակտերի բողոքարկումը | AD5: հաշվետու ժամանակահատվածում կայացված ակտերի բողոքարկումը | AE5: նախորդ տարիների կայացված ակտերի բողոքարկումը | AF5: հաշվետու ժամանակահատվածում կայացված ակտերի բողոքարկումը
B6: Կոռուպցիոն հանցագործություններ | D6: 1 | E6: 2 | F6: 3 | G6: 4 | H6: 5 | I6: 6 | J6: 7 | K6: 8 | L6: 9 | M6: 10 | N6: 11 | O6: 12 | P6: 13 | Q6: 14 | R6: 15 | S6: 16 | T6: 17 | U6: 18 | V6: 19 | W6: 20 | X6: 21 | Y6: 22 | Z6: 23 | AA6: 24 | AB6: 25 | AC6: 26 | AD6: 27 | AE6: 28 | AF6: 29 | AG6: 30
A7: 9.4.1 | B7: Խարդախությունը՝ իշխանական կամ ծառայողական լիազորությունները կամ դրանցով պայմանավորված ազդեցությունն օգտագործելով | C7: 255 հ. 2-րդ մաս. 2-րդ կետ | F7: 1 | V7: 1 | X7: 1 | AB7: 1
A8: 9.4.2 | B8: Խարդախությունը՝ եթե կատարվել է իշխանական կամ ծառայողական լիազորությունները կամ դրանցով պայմանավորված ազդեցությունն օգտագործելով | C8: 255 հ. 3-րդ մաս. | F8: 1 | V8: 1 | AA8: 2 | AB8: 2
A9: 9.5.1 | B9: Վստահված գույքը հափշտակելը՝ իշխանական կամ ծառայողական լիազորությունները կամ դրանցով պայմանավորված ազդեցությունն օգտագործելով, | C9: 256 հ. 2-րդ մաս. 2-րդ կետ | D9: 1 | F9: 1 | L9: 2 | O9: 2 | X9: 3 | Y9: 1 | AB9: 4 | AC9: 2 | AG9: 2
A10: 9.5.2 | B10: Վստահված գույքը հափշտակելը՝ եթե կատարվել է իշխանական կամ ծառայողական լիազորությունները կամ դրանցով պայմանավորված ազդեցությունն օգտագործելով | C10: 256 հ. 3-րդ մաս. | D10: 3 | L10: 1 | O10: 1 | V10: 2 | Y10: 1 | AB10: 1
A11: 10.1.1 | B11: Շորթումը՝ իշխանական կամ ծառայողական լիազորությունները կամ դրանցով պայմանավորված ազդեցությունն օգտագործելով | C11: 258 հ. 2-րդ մաս. 9-րդ կետ
A12: 10.1.2 | B12: Շորթումը՝ եթե կատարվել է իշխանական կամ ծառայողական լիազորությունները կամ դրանցով պայմանավորված ազդեցությունն օգտագործելով | C12: 258 հ. 3-րդ մաս.
A13: 11.2.1 | B13: Ներքին տեղեկությունների անբարեխիղճ օգտագործումը՝ իշխանական կամ ծառայողական լիազորությունները կամ դրանցով պայմանավորված ազդեցությունն օգտագործելով | C13: 268 հ. 3-րդ մաս. 2-րդ. կետ
A14: 11.3.1 | B14: Արժեթղթերի շուկայում գնային չարաշահումը՝ իշխանական կամ ծառայողական լիազորությունները կամ դրանցով պայմանավորված ազդեցությունն օգտագործելով | C14: 269 հ. 3-րդ մաս. 3-րդ. կետ
A15: 11.6 | B15: Մասնավոր ոլորտում կաշառք ստանալը | C15: 272
A16: 11.7 | B16: Մասնավոր ոլորտում կաշառք տալը | C16: 273
A17: 11.8 | B17: Հայաստանի Հանրապետության կամ այլ պետության մարզիկի, մրցավարի, թիմի ղեկավարի, մարզչի, արհեստավարժ մարզամրցման այլ մասնակցի կամ դրա կազմակերպչի, հանդիսադիր առևտրային մրցույթի մասնակցի կամ դրա կազմակերպչի կամ մրցանակաբաշխային հանձնաժողովի անդամի կողմից կաշառք ստանալը | C17: 274
A18: 11.9 | B18: Հայաստանի Հանրապետության կամ այլ պետության մարզիկին, մրցավարին, թիմի ղեկավարին, մարզչին, արհեստավարժ մարզամրցման այլ մասնակցի կամ դրա կազմակերպչին, հանդիսադիր առևտրային մրցույթի մասնակցին կամ դրա կազմակերպչին կամ մրցանակաբաշխային հանձնաժողովի անդամին կաշառք տալը | C18: 275
A19: 11.1 | B19: Ծառայողական կամ մասնագիտական պարտականությունները կատարելու համար ապօրինի վարձատրություն ստանալը կամ պահանջելը | C19: 276
A20: 11.11 | B20: Մասնավոր ոլորտում ծառայողական լիազորությունները կամ դրանցով պայմանավորված ազդեցությունը չարաշահելը | C20: 277
A21: 11.16.1 | B21: Ֆինանսական բուրգ ստեղծելը, կազմակերպելը կամ ղեկավարելը՝ իշխանական կամ ծառայողական լիազորությունները կամ դրանցով պայմանավորված ազդեցությունն օգտագործելով. | C21: 282հ. 2-րդ մաս. 2-րդ կետ
A22: 11.16.2 | B22: Ֆինանսական բուրգ ստեղծելը,եթե կատարվել է իշխանական կամ ծառայողական լիազորությունները կամ դրանցով պայմանավորված ազդեցությունն օգտագործելով | C22: 282հ. 3-րդ մաս.
A23: 11.18.1 | B23: Հակամրցակցային գործունեությունը՝ իշխանական կամ ծառայողական լիազորությունները կամ դրանցով պայմանավորված ազդեցությունն օգտագործելով | C23: 284հ 2-րդ մաս. 2-րդ կետ
A24: 11.18.2 | B24: Հակամրցակցային գործունեությունը՝ եթե կատարվել է իշխանական կամ ծառայողական լիազորությունները կամ դրանցով պայմանավորված ազդեցությունն օգտագործելով | C24: 284հ 3-րդ մաս.
A25: 11.3 | B25: Փողերի լվացումը | C25: 296 | D25: 1 | F25: 5 | V25: 6 | AA25: 5 | AB25: 5
A26: 22.1 | B26: Կաշառք ստանալը | C26: 435 | D26: 8 | F26: 4 | G26: 1 | L26: 4 | O26: 4 | R26: 2 | S26: 2 | V26: 7 | Y26: 3 | Z26: 2 | AA26: 4 | AB26: 9
A27: 22.2 | B27: Կաշառք տալը | C27: 436 | F27: 3 | L27: 2 | O27: 2 | R27: 1 | S27: 1 | V27: 1
A28: 22.3 | B28: Կաշառքի միջնորդությունը | C28: 437
A29: 22.4 | B29: Պաշտոնատար անձի նկատմամբ ունեցած իրական կամ ենթադրյալ ազդեցությունն օգտագործելը | C29: 438
A30: 22.5 | B30: Պաշտոնատար անձի նկատմամբ ունեցած իրական կամ ենթադրյալ ազդեցությունն օգտագործելու նպատակով ապօրինի վարձատրություն տալը | C30: 439
A31: 22.6 | B31: Կաշառք ստանալու, կաշառքի միջնորդության կամ իրական կամ ենթադրյալ ազդեցությունը շահադիտական, անձնական այլ շահագրգռվածությունից կամ խմբային շահերից ելնելով օգտագործելու պատրվակով գույք, ներառյալ դրամական միջոց, արժեթուղթ, վճարային այլ գործիք, գույքի նկատմամբ իրավունք, ծառայություն կամ որևէ այլ առավելություն ստանալը | C31: 440
A32: 22.7 | B32: Պաշտոնատար անձի կողմից իշխանական կամ ծառայողական լիազորությունները կամ դրանցով պայմանավորված ազդեցությունը չարաշահելը կամ լիազորություններն անցնելը | C32: 441 | F32: 4 | L32: 2 | O32: 2 | R32: 2 | S32: 2 | V32: 2 | Y32: 1 | AB32: 1
A33: 22.8 | B33: Պաշտոնատար անձի կողմից ձեռնարկատիրական գործունեությանն ապօրինի մասնակցելը | C33: 442
A34: 22.9 | B34: Ապօրինի հարստանալը | C34: 443
A35: 22.1 | B35: Հայաստանի Հանրապետության օրենսդրությամբ սահմանված` հայտարարագիր ներկայացնելու պարտականություն ունեցող անձի կողմից հայտարարագրում կեղծ տվյալներ ներկայացնելը, հայտարարագրման ենթակա տվյալները թաքցնելը կամ հայտարարագիր չներկայացնելը | C35: 444
A36: 22.11 | B36: Պաշտոնեական կեղծիքը | C36: 445 | F36: 2 | V36: 2 | X36: 1 | AB36: 1 | AC36: 1 | AG36: 1
A37: 24.5 | B37: Կաշառքի կամ մասնավոր ոլորտում կաշառքի պրովոկացիան | C37: 477
A38: 24.8 | B38: Ակնհայտ անմեղ անձին քրեական պատասխանատվության ենթարկելը | C38: 480
A39: 24.9 | B39: Քրեական պատասխանատվությունից ապօրինի ազատելը | C39: 481
A40: 24.1 | B40: Ակնհայտ անարդար դատավճիռ, վճիռ կամ դատական այլ ակտ կայացնելը | C40: 482
...

Sheet Ա. Գրիգորյան
AE1: Հավելված 2 Բարձրագույն դատական խորհրդի 2022թվականի դեկտեմբերի 26-ի թիվ ԲԴԽ-122-Ո-408 որոշման
A2: 2025 ԹՎԱԿԱՆԻ ՏԱՐԵԿԱՆ ՀԱՇՎԵՏՎՈՒԹՅՈՒՆ ՀԱԿԱԿՈՌՈՒՊՑԻՈՆ ԴԱՏԱՐԱՆԻ ԴԱՏԱՎՈՐ ԱՐԱՄ ԳՐԻԳՈՐՅԱՆԻ ԳՈՐԾՈՒՆԵՈՒԹՅԱՆ ՎԵՐԱԲԵՐՅԱԼ
A3: Ստուգիչ հավասարումներ` 1+3=4+12+17+19, 12= 9+10+11, 25=21+22+23+24, 30=25+26+27+28+29 | C3: ՀՀ քրեական օրենսգրքի հոդվածներ | D3: Հաշվետու ժամանակահատվածի սկզբում նախորդ հաշվետու ժամանակահատվածից փոխանցված գործերի ընդհանուր թիվը | E3: Այդ թվում` կասեցված վիճակում փոխանցված | F3: Հաշվետու ժամանակահատվածում ստացված գործերի ընդհանուր թիվը | G3: փոխանցվել թ այլ դատավորի (վերաբաշխում) | H3: Որոշում է կայացվել քրեական գործը վերադարձնել հսկող դատախազին | I3: քանի գործով է կիրառվել համաձայնեցման վարույթ | J3: քանի գործով է կիրառվել համագործակցության վարույթ | K3: Հաշվետու ժամանակաշրջանում կայացվել է վերդիկտ | L3: Հաշվետու ժամանակաշրջանում կայացվել է դատավճիռ | M3: քրեական վարույթը կարճելու մաuին որոշում | N3: Հաշվետու ժամանակաշրջանում կայացվել է բժշկական հարկադրանքի դատավճիռ /ՀՀ ՔՐ. ԴԱՏ. ՕՐ. 432-ՐԴ ՀՈԴՎԱԾ/ | O3: ընդամենը | P3: Հաշվետու ժամանակահատվածում ավարտված գործերի ընդհանուր թիվը /ՀՀ ՔՐ. ԴԱՏ. ՕՐ. 14-ՐԴ ՀՈԴՎԱԾ/ | T3: Ուղարկվել է ըստ ընդդատության | U3: Հաշվետու ժամանակահատվածում կասեցված վարույթներով գործերի ընդհանուր թիվը | V3: Հաշվետու ժամանակահատվածում անավարտ գործերի ընդհանուր թիվը | W3: Այդ թվում՝ կասեցված | X3: Բողոքարկված վարութային ակտերի թիվը` ըստ տեսակների | AB3: ընդամենը բողոքարկվել են ակտեր | AC3: Բեկանված և փոփոխված ակտերի թիվը` ըստ տեսակների | AG3: ընդամենը բեկանվել են ակտեր
P4: քրեական վարույթը կարճելու մաuին որոշումն ուժի մեջ մտնելով. | Q4: Եզրափակիչ դատական ակտն ուժի մեջ է մտել | R4: Եզրափակիչ դատական ակտը հանձնվել է կատարման | S4: ավարտվել են քրեական գործեր | X4: Այդ թվում` եզրափակիչ դատական ակտերը | Z4: Այդ թվում` եզրափակիչ դատավարական ակտերը | AC4: Այդ թվում` եզրափակիչ դատական ակտերը | AE4: Այդ թվում` եզրափակիչ դատավարական ակտերը
X5: նախորդ տարիների կայացված ակտերի բողոքարկումը | Y5: հաշվետու ժամանակահատվածում կայացված ակտերի բողոքարկումը | Z5: նախորդ տարիների կայացված ակտերի բողոքարկումը | AA5: հաշվետու ժամանակահատվածում կայացված ակտերի բողոքարկումը | AC5: նախորդ տարիների կայացված ակտերի բողոքարկումը | AD5: հաշվետու ժամանակահատվածում կայացված ակտերի բողոքարկումը | AE5: նախորդ տարիների կայացված ակտերի բողոքարկումը | AF5: հաշվետու ժամանակահատվածում կայացված ակտերի բողոքարկումը
B6: Կոռուպցիոն հանցագործություններ | D6: 1 | E6: 2 | F6: 3 | G6: 4 | H6: 5 | I6: 6 | J6: 7 | K6: 8 | L6: 9 | M6: 10 | N6: 11 | O6: 12 | P6: 13 | Q6: 14 | R6: 15 | S6: 16 | T6: 17 | U6: 18 | V6: 19 | W6: 20 | X6: 21 | Y6: 22 | Z6: 23 | AA6: 24 | AB6: 25 | AC6: 26 | AD6: 27 | AE6: 28 | AF6: 29 | AG6: 30
A7: 9.4.1 | B7: Խարդախությունը՝ իշխանական կամ ծառայողական լիազորությունները կամ դրանցով պայմանավորված ազդեցությունն օգտագործելով | C7: 255 հ. 2-րդ մաս. 2-րդ կետ | D7: 1 | V7: 1 | AA7: 1 | AB7: 1
A8: 9.4.2 | B8: Խարդախությունը՝ եթե կատարվել է իշխանական կամ ծառայողական լիազորությունները կամ դրանցով պայմանավորված ազդեցությունն օգտագործելով | C8: 255 հ. 3-րդ մաս. | D8: 3 | L8: 1 | O8: 1 | V8: 2 | AA8: 3 | AB8: 3
A9: 9.5.1 | B9: Վստահված գույքը հափշտակելը՝ իշխանական կամ ծառայողական լիազորությունները կամ դրանցով պայմանավորված ազդեցությունն օգտագործելով, | C9: 256 հ. 2-րդ մաս. 2-րդ կետ | D9: 4 | F9: 3 | L9: 1 | O9: 1 | T9: 1 | V9: 5 | X9: 1 | AB9: 1 | AC9: 1 | AG9: 1
A10: 9.5.2 | B10: Վստահված գույքը հափշտակելը՝ եթե կատարվել է իշխանական կամ ծառայողական լիազորությունները կամ դրանցով պայմանավորված ազդեցությունն օգտագործելով | C10: 256 հ. 3-րդ մաս. | D10: 3 | F10: 3 | G10: 1 | I10: 1 | L10: 1 | O10: 1 | V10: 4
A11: 10.1.1 | B11: Շորթումը՝ իշխանական կամ ծառայողական լիազորությունները կամ դրանցով պայմանավորված ազդեցությունն օգտագործելով | C11: 258 հ. 2-րդ մաս. 9-րդ կետ | D11: 0
A12: 10.1.2 | B12: Շորթումը՝ եթե կատարվել է իշխանական կամ ծառայողական լիազորությունները կամ դրանցով պայմանավորված ազդեցությունն օգտագործելով | C12: 258 հ. 3-րդ մաս. | D12: 0
A13: 11.2.1 | B13: Ներքին տեղեկությունների անբարեխիղճ օգտագործումը՝ իշխանական կամ ծառայողական լիազորությունները կամ դրանցով պայմանավորված ազդեցությունն օգտագործելով | C13: 268 հ. 3-րդ մաս. 2-րդ. կետ | D13: 0
A14: 11.3.1 | B14: Արժեթղթերի շուկայում գնային չարաշահումը՝ իշխանական կամ ծառայողական լիազորությունները կամ դրանցով պայմանավորված ազդեցությունն օգտագործելով | C14: 269 հ. 3-րդ մաս. 3-րդ. կետ | D14: 0
A15: 11.6 | B15: Մասնավոր ոլորտում կաշառք ստանալը | C15: 272 | D15: 0 | F15: 1 | V15: 1 | AA15: 1 | AB15: 1
A16: 11.7 | B16: Մասնավոր ոլորտում կաշառք տալը | C16: 273 | D16: 0
A17: 11.8 | B17: Հայաստանի Հանրապետության կամ այլ պետության մարզիկի, մրցավարի, թիմի ղեկավարի, մարզչի, արհեստավարժ մարզամրցման այլ մասնակցի կամ դրա կազմակերպչի, հանդիսադիր առևտրային մրցույթի մասնակցի կամ դրա կազմակերպչի կամ մրցանակաբաշխային հանձնաժողովի անդամի կողմից կաշառք ստանալը | C17: 274 | D17: 0
A18: 11.9 | B18: Հայաստանի Հանրապետության կամ այլ պետության մարզիկին, մրցավարին, թիմի ղեկավարին, մարզչին, արհեստավարժ մարզամրցման այլ մասնակցի կամ դրա կազմակերպչին, հանդիսադիր առևտրային մրցույթի մասնակցին կամ դրա կազմակերպչին կամ մրցանակաբաշխային հանձնաժողովի անդամին կաշառք տալը | C18: 275 | D18: 0
A19: 11.1 | B19: Ծառայողական կամ մասնագիտական պարտականությունները կատարելու համար ապօրինի վարձատրություն ստանալը կամ պահանջելը | C19: 276 | D19: 0
A20: 11.11 | B20: Մասնավոր ոլորտում ծառայողական լիազորությունները կամ դրանցով պայմանավորված ազդեցությունը չարաշահելը | C20: 277 | D20: 0
A21: 11.16.1 | B21: Ֆինանսական բուրգ ստեղծելը, կազմակերպելը կամ ղեկավարելը՝ իշխանական կամ ծառայողական լիազորությունները կամ դրանցով պայմանավորված ազդեցությունն օգտագործելով. | C21: 282հ. 2-րդ մաս. 2-րդ կետ | D21: 0
A22: 11.16.2 | B22: Ֆինանսական բուրգ ստեղծելը,եթե կատարվել է իշխանական կամ ծառայողական լիազորությունները կամ դրանցով պայմանավորված ազդեցությունն օգտագործելով | C22: 282հ. 3-րդ մաս. | D22: 0
A23: 11.18.1 | B23: Հակամրցակցային գործունեությունը՝ իշխանական կամ ծառայողական լիազորությունները կամ դրանցով պայմանավորված ազդեցությունն օգտագործելով | C23: 284հ 2-րդ մաս. 2-րդ կետ | D23: 0
A24: 11.18.2 | B24: Հակամրցակցային գործունեությունը՝ եթե կատարվել է իշխանական կամ ծառայողական լիազորությունները կամ դրանցով պայմանավորված ազդեցությունն օգտագործելով | C24: 284հ 3-րդ մաս. | D24: 0
A25: 11.3 | B25: Փողերի լվացումը | C25: 296 | D25: 5 | F25: 4 | L25: 2 | O25: 2 | V25: 7 | AA25: 1 | AB25: 1
A26: 22.1 | B26: Կաշառք ստանալը | C26: 435 | D26: 14 | F26: 6 | I26: 1 | L26: 3 | O26: 3 | R26: 1 | S26: 1 | V26: 16 | Y26: 1 | Z26: 4 | AA26: 8 | AB26: 13 | AE26: 2 | AG26: 2
A27: 22.2 | B27: Կաշառք տալը | C27: 436 | D27: 4 | F27: 4 | L27: 3 | O27: 3 | R27: 2 | S27: 2 | V27: 5 | Z27: 1 | AA27: 1 | AB27: 2
A28: 22.3 | B28: Կաշառքի միջնորդությունը | C28: 437 | D28: 0
A29: 22.4 | B29: Պաշտոնատար անձի նկատմամբ ունեցած իրական կամ ենթադրյալ ազդեցությունն օգտագործելը | C29: 438 | D29: 0
A30: 22.5 | B30: Պաշտոնատար անձի նկատմամբ ունեցած իրական կամ ենթադրյալ ազդեցությունն օգտագործելու նպատակով ապօրինի վարձատրություն տալը | C30: 439 | D30: 0
A31: 22.6 | B31: Կաշառք ստանալու, կաշառքի միջնորդության կամ իրական կամ ենթադրյալ ազդեցությունը շահադիտական, անձնական այլ շահագրգռվածությունից կամ խմբային շահերից ելնելով օգտագործելու պատրվակով գույք, ներառյալ դրամական միջոց, արժեթուղթ, վճարային այլ գործիք, գույքի նկատմամբ իրավունք, ծառայություն կամ որևէ այլ առավելություն ստանալը | C31: 440 | D31: 1 | F31: 3 | L31: 2 | O31: 2 | V31: 2
A32: 22.7 | B32: Պաշտոնատար անձի կողմից իշխանական կամ ծառայողական լիազորությունները կամ դրանցով պայմանավորված ազդեցությունը չարաշահելը կամ լիազորություններն անցնելը | C32: 441 | D32: 4 | F32: 2 | V32: 6 | Z32: 1 | AA32: 1 | AB32: 2
A33: 22.8 | B33: Պաշտոնատար անձի կողմից ձեռնարկատիրական գործունեությանն ապօրինի մասնակցելը | C33: 442 | D33: 0
A34: 22.9 | B34: Ապօրինի հարստանալը | C34: 443 | D34: 0
A35: 22.1 | B35: Հայաստանի Հանրապետության օրենսդրությամբ սահմանված` հայտարարագիր ներկայացնելու պարտականություն ունեցող անձի կողմից հայտարարագրում կեղծ տվյալներ ներկայացնելը, հայտարարագրման ենթակա տվյալները թաքցնելը կամ հայտարարագիր չներկայացնելը | C35: 444 | D35: 0
A36: 22.11 | B36: Պաշտոնեական կեղծիքը | C36: 445 | D36: 2 | F36: 1 | L36: 1 | O36: 1 | R36: 1 | S36: 1 | V36: 2 | X36: 1 | Y36: 1 | AB36: 2 | AC36: 1 | AD36: 1 | AG36: 2
A37: 24.5 | B37: Կաշառքի կամ մասնավոր ոլորտում կաշառքի պրովոկացիան | C37: 477 | D37: 0
A38: 24.8 | B38: Ակնհայտ անմեղ անձին քրեական պատասխանատվության ենթարկելը | C38: 480 | D38: 0
A39: 24.9 | B39: Քրեական պատասխանատվությունից ապօրինի ազատելը | C39: 481 | D39: 0
A40: 24.1 | B40: Ակնհայտ անարդար դատավճիռ, վճիռ կամ դատական այլ ակտ կայացնելը | C40: 482 | D40: 0
...

Sheet Ս. Դադոյան
AE1: Հավելված 2 Բարձրագույն դատական խորհրդի 2022թվականի դեկտեմբերի 26-ի թիվ ԲԴԽ-122-Ո-408 որոշման
A2: 2025 ԹՎԱԿԱՆԻ ՏԱՐԵԿԱՆ ՀԱՇՎԵՏՎՈՒԹՅՈՒՆ ՀԱԿԱԿՈՌՈՒՊՑԻՈՆ ԴԱՏԱՐԱՆԻ ԴԱՏԱՎՈՐ ՍԱՐԳԻՍ ԴԱԴՈՅԱՆԻ ԳՈՐԾՈՒՆԵՈՒԹՅԱՆ ՎԵՐԱԲԵՐՅԱԼ
A3: Ստուգիչ հավասարումներ` 1+3=4+12+17+19, 12= 9+10+11, 25=21+22+23+24, 30=25+26+27+28+29 | C3: ՀՀ քրեական օրենսգրքի հոդվածներ | D3: Հաշվետու ժամանակահատվածի սկզբում նախորդ հաշվետու ժամանակահատվածից փոխանցված գործերի ընդհանուր թիվը | E3: Այդ թվում` կասեցված վիճակում փոխանցված | F3: Հաշվետու ժամանակահատվածում ստացված գործերի ընդհանուր թիվը | G3: փոխանցվել թ այլ դատավորի (վերաբաշխում) | H3: Որոշում է կայացվել քրեական գործը վերադարձնել հսկող դատախազին | I3: քանի գործով է կիրառվել համաձայնեցման վարույթ | J3: քանի գործով է կիրառվել համագործակցության վարույթ | K3: Հաշվետու ժամանակաշրջանում կայացվել է վերդիկտ | L3: Հաշվետու ժամանակաշրջանում կայացվել է դատավճիռ | M3: քրեական վարույթը կարճելու մաuին որոշում | N3: Հաշվետու ժամանակաշրջանում կայացվել է բժշկական հարկադրանքի դատավճիռ /ՀՀ ՔՐ. ԴԱՏ. ՕՐ. 432-ՐԴ ՀՈԴՎԱԾ/ | O3: ընդամենը | P3: Հաշվետու ժամանակահատվածում ավարտված գործերի ընդհանուր թիվը /ՀՀ ՔՐ. ԴԱՏ. ՕՐ. 14-ՐԴ ՀՈԴՎԱԾ/ | T3: Ուղարկվել է ըստ ընդդատության | U3: Հաշվետու ժամանակահատվածում կասեցված վարույթներով գործերի ընդհանուր թիվը | V3: Հաշվետու ժամանակահատվածում անավարտ գործերի ընդհանուր թիվը | W3: Այդ թվում՝ կասեցված | X3: Բողոքարկված վարութային ակտերի թիվը` ըստ տեսակների | AB3: ընդամենը բողոքարկվել են ակտեր | AC3: Բեկանված և փոփոխված ակտերի թիվը` ըստ տեսակների | AG3: ընդամենը բեկանվել են ակտեր
P4: քրեական վարույթը կարճելու մաuին որոշումն ուժի մեջ մտնելով. | Q4: Եզրափակիչ դատական ակտն ուժի մեջ է մտել | R4: Եզրափակիչ դատական ակտը հանձնվել է կատարման | S4: ավարտվել են քրեական գործեր | X4: Այդ թվում` եզրափակիչ դատական ակտերը | Z4: Այդ թվում` եզրափակիչ դատավարական ակտերը | AC4: Այդ թվում` եզրափակիչ դատական ակտերը | AE4: Այդ թվում` եզրափակիչ դատավարական ակտերը
X5: նախորդ տարիների կայացված ակտերի բողոքարկումը | Y5: հաշվետու ժամանակահատվածում կայացված ակտերի բողոքարկումը | Z5: նախորդ տարիների կայացված ակտերի բողոքարկումը | AA5: հաշվետու ժամանակահատվածում կայացված ակտերի բողոքարկումը | AC5: նախորդ տարիների կայացված ակտերի բողոքարկումը | AD5: հաշվետու ժամանակահատվածում կայացված ակտերի բողոքարկումը | AE5: նախորդ տարիների կայացված ակտերի բողոքարկումը | AF5: հաշվետու ժամանակահատվածում կայացված ակտերի բողոքարկումը
B6: Կոռուպցիոն հանցագործություններ | D6: 1 | E6: 2 | F6: 3 | G6: 4 | H6: 5 | I6: 6 | J6: 7 | K6: 8 | L6: 9 | M6: 10 | N6: 11 | O6: 12 | P6: 13 | Q6: 14 | R6: 15 | S6: 16 | T6: 17 | U6: 18 | V6: 19 | W6: 20 | X6: 21 | Y6: 22 | Z6: 23 | AA6: 24 | AB6: 25 | AC6: 26 | AD6: 27 | AE6: 28 | AF6: 29 | AG6: 30
A7: 9.4.1 | B7: Խարդախությունը՝ իշխանական կամ ծառայողական լիազորությունները կամ դրանցով պայմանավորված ազդեցությունն օգտագործելով | C7: 255 հ. 2-րդ մաս. 2-րդ կետ | D7: 0 | F7: 3 | I7: 1 | L7: 1 | O7: 1 | V7: 2
A8: 9.4.2 | B8: Խարդախությունը՝ եթե կատարվել է իշխանական կամ ծառայողական լիազորությունները կամ դրանցով պայմանավորված ազդեցությունն օգտագործելով | C8: 255 հ. 3-րդ մաս. | D8: 4 | L8: 2 | O8: 2 | V8: 2 | Y8: 1 | AB8: 1
A9: 9.5.1 | B9: Վստահված գույքը հափշտակելը՝ իշխանական կամ ծառայողական լիազորությունները կամ դրանցով պայմանավորված ազդեցությունն օգտագործելով, | C9: 256 հ. 2-րդ մաս. 2-րդ կետ | D9: 3 | F9: 3 | L9: 2 | O9: 2 | V9: 4
A10: 9.5.2 | B10: Վստահված գույքը հափշտակելը՝ եթե կատարվել է իշխանական կամ ծառայողական լիազորությունները կամ դրանցով պայմանավորված ազդեցությունն օգտագործելով | C10: 256 հ. 3-րդ մաս. | D10: 4 | F10: 2 | L10: 1 | M10: 1 | O10: 2 | T10: 1 | V10: 2
A11: 10.1.1 | B11: Շորթումը՝ իշխանական կամ ծառայողական լիազորությունները կամ դրանցով պայմանավորված ազդեցությունն օգտագործելով | C11: 258 հ. 2-րդ մաս. 9-րդ կետ | D11: 0
A12: 10.1.2 | B12: Շորթումը՝ եթե կատարվել է իշխանական կամ ծառայողական լիազորությունները կամ դրանցով պայմանավորված ազդեցությունն օգտագործելով | C12: 258 հ. 3-րդ մաս. | D12: 0
A13: 11.2.1 | B13: Ներքին տեղեկությունների անբարեխիղճ օգտագործումը՝ իշխանական կամ ծառայողական լիազորությունները կամ դրանցով պայմանավորված ազդեցությունն օգտագործելով | C13: 268 հ. 3-րդ մաս. 2-րդ. կետ | D13: 0
A14: 11.3.1 | B14: Արժեթղթերի շուկայում գնային չարաշահումը՝ իշխանական կամ ծառայողական լիազորությունները կամ դրանցով պայմանավորված ազդեցությունն օգտագործելով | C14: 269 հ. 3-րդ մաս. 3-րդ. կետ | D14: 0
A15: 11.6 | B15: Մասնավոր ոլորտում կաշառք ստանալը | C15: 272 | D15: 0
A16: 11.7 | B16: Մասնավոր ոլորտում կաշառք տալը | C16: 273 | D16: 0
A17: 11.8 | B17: Հայաստանի Հանրապետության կամ այլ պետության մարզիկի, մրցավարի, թիմի ղեկավարի, մարզչի, արհեստավարժ մարզամրցման այլ մասնակցի կամ դրա կազմակերպչի, հանդիսադիր առևտրային մրցույթի մասնակցի կամ դրա կազմակերպչի կամ մրցանակաբաշխային հանձնաժողովի անդամի կողմից կաշառք ստանալը | C17: 274 | D17: 0
A18: 11.9 | B18: Հայաստանի Հանրապետության կամ այլ պետության մարզիկին, մրցավարին, թիմի ղեկավարին, մարզչին, արհեստավարժ մարզամրցման այլ մասնակցի կամ դրա կազմակերպչին, հանդիսադիր առևտրային մրցույթի մասնակցին կամ դրա կազմակերպչին կամ մրցանակաբաշխային հանձնաժողովի անդամին կաշառք տալը | C18: 275 | D18: 0
A19: 11.1 | B19: Ծառայողական կամ մասնագիտական պարտականությունները կատարելու համար ապօրինի վարձատրություն ստանալը կամ պահանջելը | C19: 276 | D19: 0
A20: 11.11 | B20: Մասնավոր ոլորտում ծառայողական լիազորությունները կամ դրանցով պայմանավորված ազդեցությունը չարաշահելը | C20: 277 | D20: 0
A21: 11.16.1 | B21: Ֆինանսական բուրգ ստեղծելը, կազմակերպելը կամ ղեկավարելը՝ իշխանական կամ ծառայողական լիազորությունները կամ դրանցով պայմանավորված ազդեցությունն օգտագործելով. | C21: 282հ. 2-րդ մաս. 2-րդ կետ | D21: 0
A22: 11.16.2 | B22: Ֆինանսական բուրգ ստեղծելը,եթե կատարվել է իշխանական կամ ծառայողական լիազորությունները կամ դրանցով պայմանավորված ազդեցությունն օգտագործելով | C22: 282հ. 3-րդ մաս. | D22: 0
A23: 11.18.1 | B23: Հակամրցակցային գործունեությունը՝ իշխանական կամ ծառայողական լիազորությունները կամ դրանցով պայմանավորված ազդեցությունն օգտագործելով | C23: 284հ 2-րդ մաս. 2-րդ կետ | D23: 0
A24: 11.18.2 | B24: Հակամրցակցային գործունեությունը՝ եթե կատարվել է իշխանական կամ ծառայողական լիազորությունները կամ դրանցով պայմանավորված ազդեցությունն օգտագործելով | C24: 284հ 3-րդ մաս. | D24: 0
A25: 11.3 | B25: Փողերի լվացումը | C25: 296 | D25: 3 | F25: 2 | T25: 1 | V25: 4
A26: 22.1 | B26: Կաշառք ստանալը | C26: 435 | D26: 20 | F26: 13 | I26: 1 | L26: 5 | O26: 5 | R26: 2 | S26: 2 | V26: 28 | X26: 2 | Y26: 2 | Z26: 9 | AA26: 29 | AB26: 42 | AE26: 1 | AF26: 3 | AG26: 4
A27: 22.2 | B27: Կաշառք տալը | C27: 436 | D27: 1 | F27: 3 | L27: 1 | O27: 1 | V27: 3 | X27: 3 | AB27: 3
A28: 22.3 | B28: Կաշառքի միջնորդությունը | C28: 437 | D28: 0
A29: 22.4 | B29: Պաշտոնատար անձի նկատմամբ ունեցած իրական կամ ենթադրյալ ազդեցությունն օգտագործելը | C29: 438 | D29: 0 | F29: 1 | I29: 1 | L29: 1 | O29: 1
A30: 22.5 | B30: Պաշտոնատար անձի նկատմամբ ունեցած իրական կամ ենթադրյալ ազդեցությունն օգտագործելու նպատակով ապօրինի վարձատրություն տալը | C30: 439 | D30: 0
A31: 22.6 | B31: Կաշառք ստանալու, կաշառքի միջնորդության կամ իրական կամ ենթադրյալ ազդեցությունը շահադիտական, անձնական այլ շահագրգռվածությունից կամ խմբային շահերից ելնելով օգտագործելու պատրվակով գույք, ներառյալ դրամական միջոց, արժեթուղթ, վճարային այլ գործիք, գույքի նկատմամբ իրավունք, ծառայություն կամ որևէ այլ առավելություն ստանալը | C31: 440 | D31: 0
A32: 22.7 | B32: Պաշտոնատար անձի կողմից իշխանական կամ ծառայողական լիազորությունները կամ դրանցով պայմանավորված ազդեցությունը չարաշահելը կամ լիազորություններն անցնելը | C32: 441 | D32: 4 | F32: 5 | G32: 1 | L32: 1 | M32: 1 | O32: 2 | V32: 6 | Y32: 1 | Z32: 2 | AA32: 2 | AB32: 5 | AE32: 1 | AF32: 2 | AG32: 3
A33: 22.8 | B33: Պաշտոնատար անձի կողմից ձեռնարկատիրական գործունեությանն ապօրինի մասնակցելը | C33: 442 | D33: 0
A34: 22.9 | B34: Ապօրինի հարստանալը | C34: 443 | D34: 0 | F34: 1 | V34: 1
A35: 22.1 | B35: Հայաստանի Հանրապետության օրենսդրությամբ սահմանված` հայտարարագիր ներկայացնելու պարտականություն ունեցող անձի կողմից հայտարարագրում կեղծ տվյալներ ներկայացնելը, հայտարարագրման ենթակա տվյալները թաքցնելը կամ հայտարարագիր չներկայացնելը | C35: 444 | D35: 0
A36: 22.11 | B36: Պաշտոնեական կեղծիքը | C36: 445 | D36: 0 | F36: 1 | V36: 1 | X36: 1 | AB36: 1
A37: 24.5 | B37: Կաշառքի կամ մասնավոր ոլորտում կաշառքի պրովոկացիան | C37: 477 | D37: 0
A38: 24.8 | B38: Ակնհայտ անմեղ անձին քրեական պատասխանատվության ենթարկելը | C38: 480 | D38: 0
A39: 24.9 | B39: Քրեական պատասխանատվությունից ապօրինի ազատելը | C39: 481 | D39: 0
A40: 24.1 | B40: Ակնհայտ անարդար դատավճիռ, վճիռ կամ դատական այլ ակտ կայացնելը | C40: 482 | D40: 0
...

Sheet Տ. Դավթյան
AE1: Հավելված 2 Բարձրագույն դատական խորհրդի 2022թվականի դեկտեմբերի 26-ի թիվ ԲԴԽ-122-Ո-408 որոշման
A2: 2025 ԹՎԱԿԱՆԻ ՏԱՐԵԿԱՆ ՀԱՇՎԵՏՎՈՒԹՅՈՒՆ ՀԱԿԱԿՈՌՈՒՊՑԻՈՆ ԴԱՏԱՐԱՆԻ ԴԱՏԱՎՈՐ ՏԻԳՐԱՆ ԴԱՎԹՅԱՆԻ ԳՈՐԾՈՒՆԵՈՒԹՅԱՆ ՎԵՐԱԲԵՐՅԱԼ
A3: Ստուգիչ հավասարումներ` 1+3=4+12+17+19, 12= 9+10+11, 25=21+22+23+24, 30=25+26+27+28+29 | C3: ՀՀ քրեական օրենսգրքի հոդվածներ | D3: Հաշվետու ժամանակահատվածի սկզբում նախորդ հաշվետու ժամանակահատվածից փոխանցված գործերի ընդհանուր թիվը | E3: Այդ թվում` կասեցված վիճակում փոխանցված | F3: Հաշվետու ժամանակահատվածում ստացված գործերի ընդհանուր թիվը | G3: փոխանցվել թ այլ դատավորի (վերաբաշխում) | H3: Որոշում է կայացվել քրեական գործը վերադարձնել հսկող դատախազին | I3: քանի գործով է կիրառվել համաձայնեցման վարույթ | J3: քանի գործով է կիրառվել համագործակցության վարույթ | K3: Հաշվետու ժամանակաշրջանում կայացվել է վերդիկտ | L3: Հաշվետու ժամանակաշրջանում կայացվել է դատավճիռ | M3: քրեական վարույթը կարճելու մաuին որոշում | N3: Հաշվետու ժամանակաշրջանում կայացվել է բժշկական հարկադրանքի դատավճիռ /ՀՀ ՔՐ. ԴԱՏ. ՕՐ. 432-ՐԴ ՀՈԴՎԱԾ/ | O3: ընդամենը | P3: Հաշվետու ժամանակահատվածում ավարտված գործերի ընդհանուր թիվը /ՀՀ ՔՐ. ԴԱՏ. ՕՐ. 14-ՐԴ ՀՈԴՎԱԾ/ | T3: Ուղարկվել է ըստ ընդդատության | U3: Հաշվետու ժամանակահատվածում կասեցված վարույթներով գործերի ընդհանուր թիվը | V3: Հաշվետու ժամանակահատվածում անավարտ գործերի ընդհանուր թիվը | W3: Այդ թվում՝ կասեցված | X3: Բողոքարկված վարութային ակտերի թիվը` ըստ տեսակների | AB3: ընդամենը բողոքարկվել են ակտեր | AC3: ` | AG3: ընդամենը բեկանվել են ակտեր
P4: քրեական վարույթը կարճելու մաuին որոշումն ուժի մեջ մտնելով. | Q4: Եզրափակիչ դատական ակտն ուժի մեջ է մտել | R4: Եզրափակիչ դատական ակտը հանձնվել է կատարման | S4: ավարտվել են քրեական գործեր | X4: Այդ թվում` եզրափակիչ դատական ակտերը | Z4: Այդ թվում` եզրափակիչ դատավարական ակտերը | AC4: Այդ թվում` եզրափակիչ դատական ակտերը | AE4: Այդ թվում` եզրափակիչ դատավարական ակտերը
X5: նախորդ տարիների կայացված ակտերի բողոքարկումը | Y5: հաշվետու ժամանակահատվածում կայացված ակտերի բողոքարկումը | Z5: նախորդ տարիների կայացված ակտերի բողոքարկումը | AA5: հաշվետու ժամանակահատվածում կայացված ակտերի բողոքարկումը | AC5: նախորդ տարիների կայացված ակտերի բողոքարկումը | AD5: հաշվետու ժամանակահատվածում կայացված ակտերի բողոքարկումը | AE5: նախորդ տարիների կայացված ակտերի բողոքարկումը | AF5: հաշվետու ժամանակահատվածում կայացված ակտերի բողոքարկումը
B6: Կոռուպցիոն հանցագործություններ | D6: 1 | E6: 2 | F6: 3 | G6: 4 | H6: 5 | I6: 6 | J6: 7 | K6: 8 | L6: 9 | M6: 10 | N6: 11 | O6: 12 | P6: 13 | Q6: 14 | R6: 15 | S6: 16 | T6: 17 | U6: 18 | V6: 19 | W6: 20 | X6: 21 | Y6: 22 | Z6: 23 | AA6: 24 | AB6: 25 | AC6: 26 | AD6: 27 | AE6: 28 | AF6: 29 | AG6: 30
A7: 9.4.1 | B7: Խարդախությունը՝ իշխանական կամ ծառայողական լիազորությունները կամ դրանցով պայմանավորված ազդեցությունն օգտագործելով | C7: 255 հ. 2-րդ մաս. 2-րդ կետ | D7: 2 | L7: 1 | O7: 1 | R7: 1 | S7: 1 | V7: 1 | Y7: 1 | Z7: 1 | AB7: 2 | AD7: 1 | AG7: 1
A8: 9.4.2 | B8: Խարդախությունը՝ եթե կատարվել է իշխանական կամ ծառայողական լիազորությունները կամ դրանցով պայմանավորված ազդեցությունն օգտագործելով | C8: 255 հ. 3-րդ մաս. | D8: 2 | V8: 2
A9: 9.5.1 | B9: Վստահված գույքը հափշտակելը՝ իշխանական կամ ծառայողական լիազորությունները կամ դրանցով պայմանավորված ազդեցությունն օգտագործելով, | C9: 256 հ. 2-րդ մաս. 2-րդ կետ | D9: 2 | F9: 3 | G9: 1 | L9: 2 | O9: 2 | R9: 1 | S9: 1 | V9: 2 | Y9: 2 | AB9: 2
A10: 9.5.2 | B10: Վստահված գույքը հափշտակելը՝ եթե կատարվել է իշխանական կամ ծառայողական լիազորությունները կամ դրանցով պայմանավորված ազդեցությունն օգտագործելով | C10: 256 հ. 3-րդ մաս. | D10: 6 | F10: 2 | L10: 1 | O10: 1 | V10: 7 | X10: 1 | Z10: 1 | AB10: 2 | AC10: 1 | AE10: 1 | AG10: 2
A11: 10.1.1 | B11: Շորթումը՝ իշխանական կամ ծառայողական լիազորությունները կամ դրանցով պայմանավորված ազդեցությունն օգտագործելով | C11: 258 հ. 2-րդ մաս. 9-րդ կետ | D11: 0
A12: 10.1.2 | B12: Շորթումը՝ եթե կատարվել է իշխանական կամ ծառայողական լիազորությունները կամ դրանցով պայմանավորված ազդեցությունն օգտագործելով | C12: 258 հ. 3-րդ մաս. | D12: 0
A13: 11.2.1 | B13: Ներքին տեղեկությունների անբարեխիղճ օգտագործումը՝ իշխանական կամ ծառայողական լիազորությունները կամ դրանցով պայմանավորված ազդեցությունն օգտագործելով | C13: 268 հ. 3-րդ մաս. 2-րդ. կետ | D13: 0
A14: 11.3.1 | B14: Արժեթղթերի շուկայում գնային չարաշահումը՝ իշխանական կամ ծառայողական լիազորությունները կամ դրանցով պայմանավորված ազդեցությունն օգտագործելով | C14: 269 հ. 3-րդ մաս. 3-րդ. կետ | D14: 0
A15: 11.6 | B15: Մասնավոր ոլորտում կաշառք ստանալը | C15: 272 | D15: 0 | X15: 1 | AB15: 1
A16: 11.7 | B16: Մասնավոր ոլորտում կաշառք տալը | C16: 273 | D16: 0
A17: 11.8 | B17: Հայաստանի Հանրապետության կամ այլ պետության մարզիկի, մրցավարի, թիմի ղեկավարի, մարզչի, արհեստավարժ մարզամրցման այլ մասնակցի կամ դրա կազմակերպչի, հանդիսադիր առևտրային մրցույթի մասնակցի կամ դրա կազմակերպչի կամ մրցանակաբաշխային հանձնաժողովի անդամի կողմից կաշառք ստանալը | C17: 274 | D17: 0
A18: 11.9 | B18: Հայաստանի Հանրապետության կամ այլ պետության մարզիկին, մրցավարին, թիմի ղեկավարին, մարզչին, արհեստավարժ մարզամրցման այլ մասնակցի կամ դրա կազմակերպչին, հանդիսադիր առևտրային մրցույթի մասնակցին կամ դրա կազմակերպչին կամ մրցանակաբաշխային հանձնաժողովի անդամին կաշառք տալը | C18: 275 | D18: 0
A19: 11.1 | B19: Ծառայողական կամ մասնագիտական պարտականությունները կատարելու համար ապօրինի վարձատրություն ստանալը կամ պահանջելը | C19: 276 | D19: 0 | F19: 1 | V19: 1 | AA19: 1 | AB19: 1
A20: 11.11 | B20: Մասնավոր ոլորտում ծառայողական լիազորությունները կամ դրանցով պայմանավորված ազդեցությունը չարաշահելը | C20: 277 | D20: 0
A21: 11.16.1 | B21: Ֆինանսական բուրգ ստեղծելը, կազմակերպելը կամ ղեկավարելը՝ իշխանական կամ ծառայողական լիազորությունները կամ դրանցով պայմանավորված ազդեցությունն օգտագործելով. | C21: 282հ. 2-րդ մաս. 2-րդ կետ | D21: 0
A22: 11.16.2 | B22: Ֆինանսական բուրգ ստեղծելը,եթե կատարվել է իշխանական կամ ծառայողական լիազորությունները կամ դրանցով պայմանավորված ազդեցությունն օգտագործելով | C22: 282հ. 3-րդ մաս. | D22: 0
A23: 11.18.1 | B23: Հակամրցակցային գործունեությունը՝ իշխանական կամ ծառայողական լիազորությունները կամ դրանցով պայմանավորված ազդեցությունն օգտագործելով | C23: 284հ 2-րդ մաս. 2-րդ կետ | D23: 0
A24: 11.18.2 | B24: Հակամրցակցային գործունեությունը՝ եթե կատարվել է իշխանական կամ ծառայողական լիազորությունները կամ դրանցով պայմանավորված ազդեցությունն օգտագործելով | C24: 284հ 3-րդ մաս. | D24: 0
A25: 11.3 | B25: Փողերի լվացումը | C25: 296 | D25: 5 | F25: 3 | G25: 1 | K25: 1 | L25: 1 | O25: 1 | V25: 6 | Y25: 1 | Z25: 3 | AA25: 1 | AB25: 5
A26: 22.1 | B26: Կաշառք ստանալը | C26: 435 | D26: 9 | F26: 9 | I26: 1 | L26: 3 | O26: 3 | R26: 2 | S26: 2 | V26: 15 | X26: 2 | Y26: 1 | Z26: 10 | AA26: 22 | AB26: 35
A27: 22.2 | B27: Կաշառք տալը | C27: 436 | D27: 1 | F27: 1 | V27: 2 | X27: 2 | AB27: 2 | AC27: 1 | AG27: 1
A28: 22.3 | B28: Կաշառքի միջնորդությունը | C28: 437 | D28: 0
A29: 22.4 | B29: Պաշտոնատար անձի նկատմամբ ունեցած իրական կամ ենթադրյալ ազդեցությունն օգտագործելը | C29: 438 | D29: 0
A30: 22.5 | B30: Պաշտոնատար անձի նկատմամբ ունեցած իրական կամ ենթադրյալ ազդեցությունն օգտագործելու նպատակով ապօրինի վարձատրություն տալը | C30: 439 | D30: 1 | G30: 1
A31: 22.6 | B31: Կաշառք ստանալու, կաշառքի միջնորդության կամ իրական կամ ենթադրյալ ազդեցությունը շահադիտական, անձնական այլ շահագրգռվածությունից կամ խմբային շահերից ելնելով օգտագործելու պատրվակով գույք, ներառյալ դրամական միջոց, արժեթուղթ, վճարային այլ գործիք, գույքի նկատմամբ իրավունք, ծառայություն կամ որևէ այլ առավելություն ստանալը | C31: 440 | D31: 0
A32: 22.7 | B32: Պաշտոնատար անձի կողմից իշխանական կամ ծառայողական լիազորությունները կամ դրանցով պայմանավորված ազդեցությունը չարաշահելը կամ լիազորություններն անցնելը | C32: 441 | D32: 5 | F32: 5 | K32: 1 | L32: 4 | M32: 3 | O32: 7 | P32: 1 | S32: 1 | V32: 3 | Y32: 4 | AA32: 1 | AB32: 5
A33: 22.8 | B33: Պաշտոնատար անձի կողմից ձեռնարկատիրական գործունեությանն ապօրինի մասնակցելը | C33: 442 | D33: 0
A34: 22.9 | B34: Ապօրինի հարստանալը | C34: 443 | D34: 0
A35: 22.1 | B35: Հայաստանի Հանրապետության օրենսդրությամբ սահմանված` հայտարարագիր ներկայացնելու պարտականություն ունեցող անձի կողմից հայտարարագրում կեղծ տվյալներ ներկայացնելը, հայտարարագրման ենթակա տվյալները թաքցնելը կամ հայտարարագիր չներկայացնելը | C35: 444 | D35: 0
A36: 22.11 | B36: Պաշտոնեական կեղծիքը | C36: 445 | D36: 1 | F36: 1 | L36: 1 | O36: 1 | V36: 1 | X36: 1 | AB36: 1
A37: 24.5 | B37: Կաշառքի կամ մասնավոր ոլորտում կաշառքի պրովոկացիան | C37: 477 | D37: 0
A38: 24.8 | B38: Ակնհայտ անմեղ անձին քրեական պատասխանատվության ենթարկելը | C38: 480 | D38: 0
A39: 24.9 | B39: Քրեական պատասխանատվությունից ապօրինի ազատելը | C39: 481 | D39: 0
A40: 24.1 | B40: Ակնհայտ անարդար դատավճիռ, վճիռ կամ դատական այլ ակտ կայացնելը | C40: 482 | D40: 0
...

Sheet Վ.Դոլմազյան
AE1: Հավելված 2 Բարձրագույն դատական խորհրդի 2022թվականի դեկտեմբերի 26-ի թիվ ԲԴԽ-122-Ո-408 որոշման
A2: 2025 ԹՎԱԿԱՆԻ ՏԱՐԵԿԱՆ ՀԱՇՎԵՏՎՈՒԹՅՈՒՆ ՀԱԿԱԿՈՌՈՒՊՑԻՈՆ ԴԱՏԱՐԱՆԻ ԴԱՏԱՎՈՐ ՎԱՀԵ ԴՈԼՄԱԶՅԱՆԻ ԳՈՐԾՈՒՆԵՈՒԹՅԱՆ ՎԵՐԱԲԵՐՅԱԼ
A3: Ստուգիչ հավասարումներ` 1+3=4+12+17+19, 12= 9+10+11, 25=21+22+23+24, 30=25+26+27+28+29 | C3: ՀՀ քրեական օրենսգրքի հոդվածներ | D3: Հաշվետու ժամանակահատվածի սկզբում նախորդ հաշվետու ժամանակահատվածից փոխանցված գործերի ընդհանուր թիվը | E3: Այդ թվում` կասեցված վիճակում փոխանցված | F3: Հաշվետու ժամանակահատվածում ստացված գործերի ընդհանուր թիվը | G3: փոխանցվել թ այլ դատավորի (վերաբաշխում) | H3: Որոշում է կայացվել քրեական գործը վերադարձնել հսկող դատախազին | I3: քանի գործով է կիրառվել համաձայնեցման վարույթ | J3: քանի գործով է կիրառվել համագործակցության վարույթ | K3: Հաշվետու ժամանակաշրջանում կայացվել է վերդիկտ | L3: Հաշվետու ժամանակաշրջանում կայացվել է դատավճիռ | M3: քրեական վարույթը կարճելու մաuին որոշում | N3: Հաշվետու ժամանակաշրջանում կայացվել է բժշկական հարկադրանքի դատավճիռ /ՀՀ ՔՐ. ԴԱՏ. ՕՐ. 432-ՐԴ ՀՈԴՎԱԾ/ | O3: ընդամենը | P3: Հաշվետու ժամանակահատվածում ավարտված գործերի ընդհանուր թիվը /ՀՀ ՔՐ. ԴԱՏ. ՕՐ. 14-ՐԴ ՀՈԴՎԱԾ/ | T3: Ուղարկվել է ըստ ընդդատության | U3: Հաշվետու ժամանակահատվածում կասեցված վարույթներով գործերի ընդհանուր թիվը | V3: Հաշվետու ժամանակահատվածում անավարտ գործերի ընդհանուր թիվը | W3: Այդ թվում՝ կասեցված | X3: Բողոքարկված վարութային ակտերի թիվը` ըստ տեսակների | AB3: ընդամենը բողոքարկվել են ակտեր | AC3: Բեկանված և փոփոխված ակտերի թիվը` ըստ տեսակների | AG3: ընդամենը բեկանվել են ակտեր
P4: քրեական վարույթը կարճելու մաuին որոշումն ուժի մեջ մտնելով. | Q4: Եզրափակիչ դատական ակտն ուժի մեջ է մտել | R4: Եզրափակիչ դատական ակտը հանձնվել է կատարման | S4: ավարտվել են քրեական գործեր | X4: Այդ թվում` եզրափակիչ դատական ակտերը | Z4: Այդ թվում` եզրափակիչ դատավարական ակտերը | AC4: Այդ թվում` եզրափակիչ դատական ակտերը | AE4: Այդ թվում` եզրափակիչ դատավարական ակտերը
X5: նախորդ տարիների կայացված ակտերի բողոքարկումը | Y5: հաշվետու ժամանակահատվածում կայացված ակտերի բողոքարկումը | Z5: նախորդ տարիների կայացված ակտերի բողոքարկումը | AA5: հաշվետու ժամանակահատվածում կայացված ակտերի բողոքարկումը | AC5: նախորդ տարիների կայացված ակտերի բողոքարկումը | AD5: հաշվետու ժամանակահատվածում կայացված ակտերի բողոքարկումը | AE5: նախորդ տարիների կայացված ակտերի բողոքարկումը | AF5: հաշվետու ժամանակահատվածում կայացված ակտերի բողոքարկումը
B6: Կոռուպցիոն հանցագործություններ | D6: 1 | E6: 2 | F6: 3 | G6: 4 | H6: 5 | I6: 6 | J6: 7 | K6: 8 | L6: 9 | M6: 10 | N6: 11 | O6: 12 | P6: 13 | Q6: 14 | R6: 15 | S6: 16 | T6: 17 | U6: 18 | V6: 19 | W6: 20 | X6: 21 | Y6: 22 | Z6: 23 | AA6: 24 | AB6: 25 | AC6: 26 | AD6: 27 | AE6: 28 | AF6: 29 | AG6: 30
A7: 9.4.1 | B7: Խարդախությունը՝ իշխանական կամ ծառայողական լիազորությունները կամ դրանցով պայմանավորված ազդեցությունն օգտագործելով | C7: 255 հ. 2-րդ մաս. 2-րդ կետ | D7: 1 | F7: 1 | V7: 2 | X7: 1 | AB7: 1 | AC7: 1 | AG7: 1
A8: 9.4.2 | B8: Խարդախությունը՝ եթե կատարվել է իշխանական կամ ծառայողական լիազորությունները կամ դրանցով պայմանավորված ազդեցությունն օգտագործելով | C8: 255 հ. 3-րդ մաս. | D8: 1 | F8: 4 | V8: 5
A9: 9.5.1 | B9: Վստահված գույքը հափշտակելը՝ իշխանական կամ ծառայողական լիազորությունները կամ դրանցով պայմանավորված ազդեցությունն օգտագործելով, | C9: 256 հ. 2-րդ մաս. 2-րդ կետ | D9: 0 | F9: 3 | M9: 1 | O9: 1 | V9: 2
A10: 9.5.2 | B10: Վստահված գույքը հափշտակելը՝ եթե կատարվել է իշխանական կամ ծառայողական լիազորությունները կամ դրանցով պայմանավորված ազդեցությունն օգտագործելով | C10: 256 հ. 3-րդ մաս. | D10: 4 | F10: 1 | V10: 5
