Workbook

Sheet Лист1
A1: î»Õ»Ï³Ýù
A2: 2019, 2018 Ãí³Ï³ÝÝ»ñÇ ¹³ï³ñ³ÝÝ»ñÇ µÛáõç»Ç, ýÇÝ³Ýë³Ï³Ý Í³Ëë»ñÇ, ÇÝãå»ë Ý³¨ Áëï ¹³ï³ñ³ÝÝ»ñÇ ¹³ï³íáñÝ»ñÇ Ù»Ï ³Ùëí³ ÙÇçÇÝ ³ßË³ï³í³ñÓÇ í»ñ³µ»ñÛ³É
K4: Ñ³½³ñ ¹ñ³Ù
A5: NN | B5: 2019Ã ï³ñ»Ï³Ý | F5: 2018Ã ï³ñ»Ï³Ý | I5: Ð³Ù»Ù³ï³Ï³Ý /³í»É³óáõÙ/+/, Ï³Ù Ýí³½»óáõÙ/-/ Ý³Ëáñ¹ Ñ³ßí»ïáõ ï³ñí³ ÝÏ³ïÙ³Ùµ/
B6: ¸³ï³ñ³ÝÝ»ñÇ ¹³ë³Ï³ñ·áõÙÁ Áëï ³ïÛ³ÝÝ»ñÇ | C6: ¸³ï³ñ³ÝÇ ×ßïí³Í µÛáõç»Ý | D6: ¸³ï³ñ³ÝÇ ýÇÝ³Ýë³Ï³Ý Í³ËëÁ (Ï³ï³ñáÕ³Ï³Ý) | E6: ¸³ï³íáñÇ Ù»Ï ³Ùëí³ ÙÇçÇÝ ³ßË³ï³í³ñÓÁ | F6: ¸³ï³ñ³ÝÇ ×ßïí³Í µÛáõç»Ý | G6: ¸³ï³ñ³ÝÇ ýÇÝ³Ýë³Ï³Ý Í³ËëÁ (Ï³ï³ñáÕ³Ï³Ý) | H6: ¸³ï³íáñÇ Ù»Ï ³Ùëí³ ÙÇçÇÝ ³ßË³ï³í³ñÓÁ | I6: ¸³ï³ñ³ÝÇ ×ßïí³Í µÛáõç»Ý | J6: ¸³ï³ñ³ÝÇ ýÇÝ³Ýë³Ï³Ý Í³ËëÁ (Ï³ï³ñáÕ³Ï³Ý) | K6: ¸³ï³íáñÇ Ù»Ï ³Ùëí³ ÙÇçÇÝ ³ßË³ï³í³ñÓÁ
A7: 1 | B7: ²é³çÇÝ ³ïÛ³ÝÇ ÁÝ¹Ñ³Ýáõñ Çñ³í³ëáõÃÛ³Ý ¹³ï³ñ³ÝÝ»ñ ¨ í³ñã³Ï³Ý ¹³ï³ñ³Ý | C7: =+'[1]1-ին ատյան'!C19 -> 6334293.3 | D7: =+'[1]1-ին ատյան'!D19 -> 6126461.1 | E7: =+'[1]1-ին ատյան'!G19 -> 808.81322 | F7: 4569422.6 | G7: 3986201.3 | H7: 825.9 | I7: =C7-F7 -> 1764870.7 | J7: =D7-G7 -> 2140259.8 | K7: =E7-H7 -> -17.086783
A8: 2 | B8: ì»ñ³ùÝÝÇã ¹³ï³ñ³ÝÝ»ñ | C8: =+[1]վերաքննիչ!C10 -> 1375325.9 | D8: =+[1]վերաքննիչ!D10 -> 1362500.2 | E8: =+[1]վերաքննիչ!G10 -> 972.76468 | F8: 1043261.3 | G8: 1040085.9 | H8: 966.6 | I8: =C8-F8 -> 332064.6 | J8: =D8-G8 -> 322414.29 | K8: =E8-H8 -> 6.1646818
A9: 3 | B9: ì×é³µ»Ï ¹³ï³ñ³Ý | C9: =+[1]վճռաբեկ!C8 -> 730039 | D9: =+[1]վճռաբեկ!D8 -> 718737.87 | E9: =+[1]վճռաբեկ!G8 -> 1201.8456 | F9: 594729.2 | G9: 592906.8 | H9: 1230.3 | I9: =C9-F9 -> 135309.8 | J9: =D9-G9 -> 125831.07 | K9: =E9-H9 -> -28.454412
B10: ÀÝ¹³Ù»ÝÁ | C10: =SUM(C7:C9) -> 8439658.2 | D10: =SUM(D7:D9) -> 8207699.2 | E10: =SUM(E7:E9) -> 2983.4235 | F10: =SUM(F7:F9) -> 6207413.1 | G10: =SUM(G7:G9) -> 5619194 | H10: =SUM(H7:H9) -> 3022.8 | I10: =SUM(I7:I9) -> 2232245.1 | J10: =SUM(J7:J9) -> 2588505.2 | K10: =SUM(K7:K9) -> -39.376513
