Workbook

Sheet @ndhanur
A1: Հավելված 2 Հայաստանի Հանրապետության Դատարանների նախագահների խորհրդի 2007թ. ¹»Ïï»Ùµ»ñÇ 21-ի թիվ 23Լ որոշման
A2: ÐÐ ÀÜ¸Ð²Üàôð Æð²ì²êàôÂÚ²Ü ¸²î²ð²ÜàôØ ØÆÜâ¸²î²Î²Ü ì²ðàôÚÂÆ ÜÎ²îØ²Ø´ ¸²î²Î²Ü ìºð²ÐêÎàÔàôÂÚ²Ü, ¸²î²Î²Ü ²ÎîºðÆ Î²î²ðØ²Ü Ðºî Î²äì²Ì Ð²ðòºðÆ ìºð²´ºðÚ²È 2013 թվականի
A3: ØÇçÝáñ¹áõÃÛáõÝÝ»ñÇ ùÝÝ³ñÏÙ³Ý ÁÝÃ³óùÁ | D3: Ü»ñÏ³Û³óí³Í ÙÇçÝáñ¹áõÃÛáõÝÝ»ñÇ ù³Ý³ÏÁ | E3: Ù»ñÅí»É ¿ | F3: µ³í³ñ³ñí»É ¿ | G3: ÃáÕÝí»É ³é³Ýó ùÝÝáõÃÛ³Ý | H3: ³Ý³í³ñï | I3: µáÕáù³ñÏí»É ¿ í»ñ³ùÝÝÇã ¹³ï³ñ³Ý
A4: êïáõ·Çã Ñ³í³ë³ñáõÙ` 1=2+3+4+5
A5: 1. ØÇÝã¹³ï³Ï³Ý í³ñáõÛÃÇ ÝÏ³ïÙ³Ùµ ¹³ï³Ï³Ý í»ñ³ÑëÏáÕáõÃÛ³Ý áÉáñï | D5: 1 | E5: 2 | F5: 3 | G5: 4 | H5: 5 | I5: 6
A6: ³(06) | B6: Ï³É³ÝùÁ áñå»ë Ë³÷³ÝÙ³Ý ÙÇçáó ÏÇñ³é»Éáõ Ù³ëÇÝ | D6: =kotayq!D6+shirak!D6+syuniq!D6+lori!D6+gexarquniq!D6+tavush!D6+aragacotn!D6+armavir!D6+ararat!D6+arabkir!D6+ajapnyak!D6+avan!D6+kentron!D6+malatia!D6+shengavit!D6+erebuni!D6 -> 3172 | E6: =kotayq!E6+shirak!E6+syuniq!E6+lori!E6+gexarquniq!E6+tavush!E6+aragacotn!E6+armavir!E6+ararat!E6+arabkir!E6+ajapnyak!E6+avan!E6+kentron!E6+malatia!E6+shengavit!E6+erebuni!E6 -> 153 | F6: =kotayq!F6+shirak!F6+syuniq!F6+lori!F6+gexarquniq!F6+tavush!F6+aragacotn!F6+armavir!F6+ararat!F6+arabkir!F6+ajapnyak!F6+avan!F6+kentron!F6+malatia!F6+shengavit!F6+erebuni!F6 -> 3011 | G6: =kotayq!G6+shirak!G6+syuniq!G6+lori!G6+gexarquniq!G6+tavush!G6+aragacotn!G6+armavir!G6+ararat!G6+arabkir!G6+ajapnyak!G6+avan!G6+kentron!G6+malatia!G6+shengavit!G6+erebuni!G6 -> 8 | H6: =kotayq!H6+shirak!H6+syuniq!H6+lori!H6+gexarquniq!H6+tavush!H6+aragacotn!H6+armavir!H6+ararat!H6+arabkir!H6+ajapnyak!H6+avan!H6+kentron!H6+malatia!H6+shengavit!H6+erebuni!H6 -> 0 | I6: =kotayq!I6+shirak!I6+syuniq!I6+lori!I6+gexarquniq!I6+tavush!I6+aragacotn!I6+armavir!I6+ararat!I6+arabkir!I6+ajapnyak!I6+avan!I6+kentron!I6+malatia!I6+shengavit!I6+erebuni!I6 -> 319
A7: µ(06) | B7: Ï³É³ÝùÇ Å³ÙÏ»ïÇ »ñÏ³ñ³óÝ»Éáõ Ù³ëÇÝ | D7: =kotayq!D7+shirak!D7+syuniq!D7+lori!D7+gexarquniq!D7+tavush!D7+aragacotn!D7+armavir!D7+ararat!D7+arabkir!D7+ajapnyak!D7+avan!D7+kentron!D7+malatia!D7+shengavit!D7+erebuni!D7 -> 1596 | E7: =kotayq!E7+shirak!E7+syuniq!E7+lori!E7+gexarquniq!E7+tavush!E7+aragacotn!E7+armavir!E7+ararat!E7+arabkir!E7+ajapnyak!E7+avan!E7+kentron!E7+malatia!E7+shengavit!E7+erebuni!E7 -> 29 | F7: =kotayq!F7+shirak!F7+syuniq!F7+lori!F7+gexarquniq!F7+tavush!F7+aragacotn!F7+armavir!F7+ararat!F7+arabkir!F7+ajapnyak!F7+avan!F7+kentron!F7+malatia!F7+shengavit!F7+erebuni!F7 -> 1527 | G7: =kotayq!G7+shirak!G7+syuniq!G7+lori!G7+gexarquniq!G7+tavush!G7+aragacotn!G7+armavir!G7+ararat!G7+arabkir!G7+ajapnyak!G7+avan!G7+kentron!G7+malatia!G7+shengavit!G7+erebuni!G7 -> 13 | H7: =kotayq!H7+shirak!H7+syuniq!H7+lori!H7+gexarquniq!H7+tavush!H7+aragacotn!H7+armavir!H7+ararat!H7+arabkir!H7+ajapnyak!H7+avan!H7+kentron!H7+malatia!H7+shengavit!H7+erebuni!H7 -> 26 | I7: =kotayq!I7+shirak!I7+syuniq!I7+lori!I7+gexarquniq!I7+tavush!I7+aragacotn!I7+armavir!I7+ararat!I7+arabkir!I7+ajapnyak!I7+avan!I7+kentron!I7+malatia!I7+shengavit!I7+erebuni!I7 -> 271
A8: ·(06) | B8: ·ñ³íÁ áñå»ë Ï³É³Ý³íáñÙ³Ý ³ÛÉÁÝïñ³Ýù³ÛÇÝ Ë³÷³ÝÙ³Ý ÙÇçáó ÏÇñ³é»Éáõ Ù³ëÇÝ | D8: =kotayq!D8+shirak!D8+syuniq!D8+lori!D8+gexarquniq!D8+tavush!D8+aragacotn!D8+armavir!D8+ararat!D8+arabkir!D8+ajapnyak!D8+avan!D8+kentron!D8+malatia!D8+shengavit!D8+erebuni!D8 -> 576 | E8: =kotayq!E8+shirak!E8+syuniq!E8+lori!E8+gexarquniq!E8+tavush!E8+aragacotn!E8+armavir!E8+ararat!E8+arabkir!E8+ajapnyak!E8+avan!E8+kentron!E8+malatia!E8+shengavit!E8+erebuni!E8 -> 427 | F8: =kotayq!F8+shirak!F8+syuniq!F8+lori!F8+gexarquniq!F8+tavush!F8+aragacotn!F8+armavir!F8+ararat!F8+arabkir!F8+ajapnyak!F8+avan!F8+kentron!F8+malatia!F8+shengavit!F8+erebuni!F8 -> 129 | G8: =kotayq!G8+shirak!G8+syuniq!G8+lori!G8+gexarquniq!G8+tavush!G8+aragacotn!G8+armavir!G8+ararat!G8+arabkir!G8+ajapnyak!G8+avan!G8+kentron!G8+malatia!G8+shengavit!G8+erebuni!G8 -> 16 | H8: =kotayq!H8+shirak!H8+syuniq!H8+lori!H8+gexarquniq!H8+tavush!H8+aragacotn!H8+armavir!H8+ararat!H8+arabkir!H8+ajapnyak!H8+avan!H8+kentron!H8+malatia!H8+shengavit!H8+erebuni!H8 -> 3 | I8: =kotayq!I8+shirak!I8+syuniq!I8+lori!I8+gexarquniq!I8+tavush!I8+aragacotn!I8+armavir!I8+ararat!I8+arabkir!I8+ajapnyak!I8+avan!I8+kentron!I8+malatia!I8+shengavit!I8+erebuni!I8 -> 111
A9: ¹(07) | B9: Ëáõ½³ñÏáõÃÛ³Ý Ï³ï³ñÙ³Ý Ù³ëÇÝ | D9: =kotayq!D9+shirak!D9+syuniq!D9+lori!D9+gexarquniq!D9+tavush!D9+aragacotn!D9+armavir!D9+ararat!D9+arabkir!D9+ajapnyak!D9+avan!D9+kentron!D9+malatia!D9+shengavit!D9+erebuni!D9 -> 3956 | E9: =kotayq!E9+shirak!E9+syuniq!E9+lori!E9+gexarquniq!E9+tavush!E9+aragacotn!E9+armavir!E9+ararat!E9+arabkir!E9+ajapnyak!E9+avan!E9+kentron!E9+malatia!E9+shengavit!E9+erebuni!E9 -> 80 | F9: =kotayq!F9+shirak!F9+syuniq!F9+lori!F9+gexarquniq!F9+tavush!F9+aragacotn!F9+armavir!F9+ararat!F9+arabkir!F9+ajapnyak!F9+avan!F9+kentron!F9+malatia!F9+shengavit!F9+erebuni!F9 -> 3862 | G9: =kotayq!G9+shirak!G9+syuniq!G9+lori!G9+gexarquniq!G9+tavush!G9+aragacotn!G9+armavir!G9+ararat!G9+arabkir!G9+ajapnyak!G9+avan!G9+kentron!G9+malatia!G9+shengavit!G9+erebuni!G9 -> 14 | H9: =kotayq!H9+shirak!H9+syuniq!H9+lori!H9+gexarquniq!H9+tavush!H9+aragacotn!H9+armavir!H9+ararat!H9+arabkir!H9+ajapnyak!H9+avan!H9+kentron!H9+malatia!H9+shengavit!H9+erebuni!H9 -> 0 | I9: =kotayq!I9+shirak!I9+syuniq!I9+lori!I9+gexarquniq!I9+tavush!I9+aragacotn!I9+armavir!I9+ararat!I9+arabkir!I9+ajapnyak!I9+avan!I9+kentron!I9+malatia!I9+shengavit!I9+erebuni!I9 -> 9
A10: »(08) | B10: Ý³Ù³Ï³·ñáõÃÛ³Ý, Ñ»é³·ñ³Ï³Ý, ÷áuï³ÛÇÝ Ñ³Õáñ¹áõÙÝ»ñÇ ÑëÏáÕáõÃÛ³Ý ÙÇçÝáñ¹áõÃÛáõÝÝ»ñÇ Ù³ëÇÝ | D10: =kotayq!D10+shirak!D10+syuniq!D10+lori!D10+gexarquniq!D10+tavush!D10+aragacotn!D10+armavir!D10+ararat!D10+arabkir!D10+ajapnyak!D10+avan!D10+kentron!D10+malatia!D10+shengavit!D10+erebuni!D10 -> 1073 | E10: =kotayq!E10+shirak!E10+syuniq!E10+lori!E10+gexarquniq!E10+tavush!E10+aragacotn!E10+armavir!E10+ararat!E10+arabkir!E10+ajapnyak!E10+avan!E10+kentron!E10+malatia!E10+shengavit!E10+erebuni!E10 -> 5 | F10: =kotayq!F10+shirak!F10+syuniq!F10+lori!F10+gexarquniq!F10+tavush!F10+aragacotn!F10+armavir!F10+ararat!F10+arabkir!F10+ajapnyak!F10+avan!F10+kentron!F10+malatia!F10+shengavit!F10+erebuni!F10 -> 1067 | G10: =kotayq!G10+shirak!G10+syuniq!G10+lori!G10+gexarquniq!G10+tavush!G10+aragacotn!G10+armavir!G10+ararat!G10+arabkir!G10+ajapnyak!G10+avan!G10+kentron!G10+malatia!G10+shengavit!G10+erebuni!G10 -> 1 | H10: =kotayq!H10+shirak!H10+syuniq!H10+lori!H10+gexarquniq!H10+tavush!H10+aragacotn!H10+armavir!H10+ararat!H10+arabkir!H10+ajapnyak!H10+avan!H10+kentron!H10+malatia!H10+shengavit!H10+erebuni!H10 -> 0 | I10: =kotayq!I10+shirak!I10+syuniq!I10+lori!I10+gexarquniq!I10+tavush!I10+aragacotn!I10+armavir!I10+ararat!I10+arabkir!I10+ajapnyak!I10+avan!I10+kentron!I10+malatia!I10+shengavit!I10+erebuni!I10 -> 0
A11: ½(09) | B11: Ñ»é³Ëáu³ÛÇÝ Ï³Ù Ï³åÇ ³ÛÉ ÙÇçáóÝ»ñáí ï³ñíáÕ Ëáu³ÏóáõÃÛáõÝÝ»ñÇ ÉuÙ³Ý ¨ Ó³ÛÝ³·ñ³éÙ³Ý ÙÇçÝáñ¹áõÃÛáõÝÝ»ñÇ Ù³ëÇÝ | D11: =kotayq!D11+shirak!D11+syuniq!D11+lori!D11+gexarquniq!D11+tavush!D11+aragacotn!D11+armavir!D11+ararat!D11+arabkir!D11+ajapnyak!D11+avan!D11+kentron!D11+malatia!D11+shengavit!D11+erebuni!D11 -> 253 | E11: =kotayq!E11+shirak!E11+syuniq!E11+lori!E11+gexarquniq!E11+tavush!E11+aragacotn!E11+armavir!E11+ararat!E11+arabkir!E11+ajapnyak!E11+avan!E11+kentron!E11+malatia!E11+shengavit!E11+erebuni!E11 -> 1 | F11: =kotayq!F11+shirak!F11+syuniq!F11+lori!F11+gexarquniq!F11+tavush!F11+aragacotn!F11+armavir!F11+ararat!F11+arabkir!F11+ajapnyak!F11+avan!F11+kentron!F11+malatia!F11+shengavit!F11+erebuni!F11 -> 252 | G11: =kotayq!G11+shirak!G11+syuniq!G11+lori!G11+gexarquniq!G11+tavush!G11+aragacotn!G11+armavir!G11+ararat!G11+arabkir!G11+ajapnyak!G11+avan!G11+kentron!G11+malatia!G11+shengavit!G11+erebuni!G11 -> 0 | H11: =kotayq!H11+shirak!H11+syuniq!H11+lori!H11+gexarquniq!H11+tavush!H11+aragacotn!H11+armavir!H11+ararat!H11+arabkir!H11+ajapnyak!H11+avan!H11+kentron!H11+malatia!H11+shengavit!H11+erebuni!H11 -> 0 | I11: =kotayq!I11+shirak!I11+syuniq!I11+lori!I11+gexarquniq!I11+tavush!I11+aragacotn!I11+armavir!I11+ararat!I11+arabkir!I11+ajapnyak!I11+avan!I11+kentron!I11+malatia!I11+shengavit!I11+erebuni!I11 -> 0
A12: ¿(10) | B12: Ñ»é³ËáëÝ»ñÇ Ùáõïù³ÛÇÝ ¨ »Éù³ÛÇÝ í»ñÍ³ÝÙ³Ý ÃáõÛÉïíáõÃÛáõÝ ëï³Ý³Éáõ ÙÇçÝáñ¹áõÃÛáõÝÝ»ñÇ Ù³ëÇÝ | D12: =kotayq!D12+shirak!D12+syuniq!D12+lori!D12+gexarquniq!D12+tavush!D12+aragacotn!D12+armavir!D12+ararat!D12+arabkir!D12+ajapnyak!D12+avan!D12+kentron!D12+malatia!D12+shengavit!D12+erebuni!D12 -> 3287 | E12: =kotayq!E12+shirak!E12+syuniq!E12+lori!E12+gexarquniq!E12+tavush!E12+aragacotn!E12+armavir!E12+ararat!E12+arabkir!E12+ajapnyak!E12+avan!E12+kentron!E12+malatia!E12+shengavit!E12+erebuni!E12 -> 40 | F12: =kotayq!F12+shirak!F12+syuniq!F12+lori!F12+gexarquniq!F12+tavush!F12+aragacotn!F12+armavir!F12+ararat!F12+arabkir!F12+ajapnyak!F12+avan!F12+kentron!F12+malatia!F12+shengavit!F12+erebuni!F12 -> 3245 | G12: =kotayq!G12+shirak!G12+syuniq!G12+lori!G12+gexarquniq!G12+tavush!G12+aragacotn!G12+armavir!G12+ararat!G12+arabkir!G12+ajapnyak!G12+avan!G12+kentron!G12+malatia!G12+shengavit!G12+erebuni!G12 -> 2 | H12: =kotayq!H12+shirak!H12+syuniq!H12+lori!H12+gexarquniq!H12+tavush!H12+aragacotn!H12+armavir!H12+ararat!H12+arabkir!H12+ajapnyak!H12+avan!H12+kentron!H12+malatia!H12+shengavit!H12+erebuni!H12 -> 0 | I12: =kotayq!I12+shirak!I12+syuniq!I12+lori!I12+gexarquniq!I12+tavush!I12+aragacotn!I12+armavir!I12+ararat!I12+arabkir!I12+ajapnyak!I12+avan!I12+kentron!I12+malatia!I12+shengavit!I12+erebuni!I12 -> 2
A13: Á(11) | B13: Ñ»ï³ùÝÝáõÃÛ³Ý Ù³ñÙÝÇ ³ßË³ïáÕÇ, ùÝÝÇãÇ, ¹³ï³Ë³½Ç oå»ñ³ïÇí-Ñ»ï³Ëáõ½³Ï³Ý ·áñÍáÕáõÃÛáõÝÝ»ñ Çñ³Ï³Ý³óÝáÕ Ù³ñÙÇÝÝ»ñÇ ³ÝoñÇÝ³Ï³Ý ¨ ³ÝÑÇÙÝ áñáßáõÙÝ»ñÇ ¨ ·áñÍáÕáõÃÛáõÝÝ»ñÇ ¹»Ù µáÕáùÝ»ñÇ Ù³ëÇÝ | D13: =kotayq!D13+shirak!D13+syuniq!D13+lori!D13+gexarquniq!D13+tavush!D13+aragacotn!D13+armavir!D13+ararat!D13+arabkir!D13+ajapnyak!D13+avan!D13+kentron!D13+malatia!D13+shengavit!D13+erebuni!D13 -> 617 | E13: =kotayq!E13+shirak!E13+syuniq!E13+lori!E13+gexarquniq!E13+tavush!E13+aragacotn!E13+armavir!E13+ararat!E13+arabkir!E13+ajapnyak!E13+avan!E13+kentron!E13+malatia!E13+shengavit!E13+erebuni!E13 -> 365 | F13: =kotayq!F13+shirak!F13+syuniq!F13+lori!F13+gexarquniq!F13+tavush!F13+aragacotn!F13+armavir!F13+ararat!F13+arabkir!F13+ajapnyak!F13+avan!F13+kentron!F13+malatia!F13+shengavit!F13+erebuni!F13 -> 81 | G13: =kotayq!G13+shirak!G13+syuniq!G13+lori!G13+gexarquniq!G13+tavush!G13+aragacotn!G13+armavir!G13+ararat!G13+arabkir!G13+ajapnyak!G13+avan!G13+kentron!G13+malatia!G13+shengavit!G13+erebuni!G13 -> 52 | H13: =kotayq!H13+shirak!H13+syuniq!H13+lori!H13+gexarquniq!H13+tavush!H13+aragacotn!H13+armavir!H13+ararat!H13+arabkir!H13+ajapnyak!H13+avan!H13+kentron!H13+malatia!H13+shengavit!H13+erebuni!H13 -> 101 | I13: =kotayq!I13+shirak!I13+syuniq!I13+lori!I13+gexarquniq!I13+tavush!I13+aragacotn!I13+armavir!I13+ararat!I13+arabkir!I13+ajapnyak!I13+avan!I13+kentron!I13+malatia!I13+shengavit!I13+erebuni!I13 -> 261
A14: 2. ¸³ï³Ï³Ý ³Ïï»ñÇ Ñ»ï Ï³ï³ñÙ³Ý Ñ»ï Ï³åí³Í Ñ³ñó»ñÇ ÉáõÍÙ³Ý áÉáñï
A15: ³(12) | B15: å³ïÅÇó å³ÛÙ³Ý³Ï³Ý í³Õ³Å³ÙÏ»ï ³½³ï»Éáõ Ù³ëÇÝ | D15: =kotayq!D15+shirak!D15+syuniq!D15+lori!D15+gexarquniq!D15+tavush!D15+aragacotn!D15+armavir!D15+ararat!D15+arabkir!D15+ajapnyak!D15+avan!D15+kentron!D15+malatia!D15+shengavit!D15+erebuni!D15 -> 477 | E15: =kotayq!E15+shirak!E15+syuniq!E15+lori!E15+gexarquniq!E15+tavush!E15+aragacotn!E15+armavir!E15+ararat!E15+arabkir!E15+ajapnyak!E15+avan!E15+kentron!E15+malatia!E15+shengavit!E15+erebuni!E15 -> 54 | F15: =kotayq!F15+shirak!F15+syuniq!F15+lori!F15+gexarquniq!F15+tavush!F15+aragacotn!F15+armavir!F15+ararat!F15+arabkir!F15+ajapnyak!F15+avan!F15+kentron!F15+malatia!F15+shengavit!F15+erebuni!F15 -> 399 | G15: =kotayq!G15+shirak!G15+syuniq!G15+lori!G15+gexarquniq!G15+tavush!G15+aragacotn!G15+armavir!G15+ararat!G15+arabkir!G15+ajapnyak!G15+avan!G15+kentron!G15+malatia!G15+shengavit!G15+erebuni!G15 -> 12 | H15: =kotayq!H15+shirak!H15+syuniq!H15+lori!H15+gexarquniq!H15+tavush!H15+aragacotn!H15+armavir!H15+ararat!H15+arabkir!H15+ajapnyak!H15+avan!H15+kentron!H15+malatia!H15+shengavit!H15+erebuni!H15 -> 12 | I15: =kotayq!I15+shirak!I15+syuniq!I15+lori!I15+gexarquniq!I15+tavush!I15+aragacotn!I15+armavir!I15+ararat!I15+arabkir!I15+ajapnyak!I15+avan!I15+kentron!I15+malatia!I15+shengavit!I15+erebuni!I15 -> 26
A16: µ(13) | B16: ÀÝ¹³Ù»ÝÁ å³ïÇÅÁ ÷á÷áË»Éáõ, Ñ»ï³Ó·»Éáõ ¨ å³ïÅÇó ³½³ï»Éáõ Ù³uÇÝ ÙÇçÝáñ¹áõÃÛáõÝÝ»ñ | D16: =kotayq!D16+shirak!D16+syuniq!D16+lori!D16+gexarquniq!D16+tavush!D16+aragacotn!D16+armavir!D16+ararat!D16+arabkir!D16+ajapnyak!D16+avan!D16+kentron!D16+malatia!D16+shengavit!D16+erebuni!D16 -> 1347 | E16: =kotayq!E16+shirak!E16+syuniq!E16+lori!E16+gexarquniq!E16+tavush!E16+aragacotn!E16+armavir!E16+ararat!E16+arabkir!E16+ajapnyak!E16+avan!E16+kentron!E16+malatia!E16+shengavit!E16+erebuni!E16 -> 370 | F16: =kotayq!F16+shirak!F16+syuniq!F16+lori!F16+gexarquniq!F16+tavush!F16+aragacotn!F16+armavir!F16+ararat!F16+arabkir!F16+ajapnyak!F16+avan!F16+kentron!F16+malatia!F16+shengavit!F16+erebuni!F16 -> 799 | G16: =kotayq!G16+shirak!G16+syuniq!G16+lori!G16+gexarquniq!G16+tavush!G16+aragacotn!G16+armavir!G16+ararat!G16+arabkir!G16+ajapnyak!G16+avan!G16+kentron!G16+malatia!G16+shengavit!G16+erebuni!G16 -> 103 | H16: =kotayq!H16+shirak!H16+syuniq!H16+lori!H16+gexarquniq!H16+tavush!H16+aragacotn!H16+armavir!H16+ararat!H16+arabkir!H16+ajapnyak!H16+avan!H16+kentron!H16+malatia!H16+shengavit!H16+erebuni!H16 -> 51 | I16: =kotayq!I16+shirak!I16+syuniq!I16+lori!I16+gexarquniq!I16+tavush!I16+aragacotn!I16+armavir!I16+ararat!I16+arabkir!I16+ajapnyak!I16+avan!I16+kentron!I16+malatia!I16+shengavit!I16+erebuni!I16 -> 31
A17: ·(14) | B17: Ñ³ñÏ³¹Çñ µáõÅÙ³Ý ï»ë³ÏÇ ÷á÷áËáõÃÛ³Ý Ù³ëÇÝ | D17: =kotayq!D17+shirak!D17+syuniq!D17+lori!D17+gexarquniq!D17+tavush!D17+aragacotn!D17+armavir!D17+ararat!D17+arabkir!D17+ajapnyak!D17+avan!D17+kentron!D17+malatia!D17+shengavit!D17+erebuni!D17 -> 224 | E17: =kotayq!E17+shirak!E17+syuniq!E17+lori!E17+gexarquniq!E17+tavush!E17+aragacotn!E17+armavir!E17+ararat!E17+arabkir!E17+ajapnyak!E17+avan!E17+kentron!E17+malatia!E17+shengavit!E17+erebuni!E17 -> 16 | F17: =kotayq!F17+shirak!F17+syuniq!F17+lori!F17+gexarquniq!F17+tavush!F17+aragacotn!F17+armavir!F17+ararat!F17+arabkir!F17+ajapnyak!F17+avan!F17+kentron!F17+malatia!F17+shengavit!F17+erebuni!F17 -> 201 | G17: =kotayq!G17+shirak!G17+syuniq!G17+lori!G17+gexarquniq!G17+tavush!G17+aragacotn!G17+armavir!G17+ararat!G17+arabkir!G17+ajapnyak!G17+avan!G17+kentron!G17+malatia!G17+shengavit!G17+erebuni!G17 -> 3 | H17: =kotayq!H17+shirak!H17+syuniq!H17+lori!H17+gexarquniq!H17+tavush!H17+aragacotn!H17+armavir!H17+ararat!H17+arabkir!H17+ajapnyak!H17+avan!H17+kentron!H17+malatia!H17+shengavit!H17+erebuni!H17 -> 4 | I17: =kotayq!I17+shirak!I17+syuniq!I17+lori!I17+gexarquniq!I17+tavush!I17+aragacotn!I17+armavir!I17+ararat!I17+arabkir!I17+ajapnyak!I17+avan!I17+kentron!I17+malatia!I17+shengavit!I17+erebuni!I17 -> 2
A18: ¹(15) | B18: ³ÛÉ ÙÇçÝáñ¹áõÃÛáõÝÝ»ñ | D18: =kotayq!D18+shirak!D18+syuniq!D18+lori!D18+gexarquniq!D18+tavush!D18+aragacotn!D18+armavir!D18+ararat!D18+arabkir!D18+ajapnyak!D18+avan!D18+kentron!D18+malatia!D18+shengavit!D18+erebuni!D18 -> 681 | E18: =kotayq!E18+shirak!E18+syuniq!E18+lori!E18+gexarquniq!E18+tavush!E18+aragacotn!E18+armavir!E18+ararat!E18+arabkir!E18+ajapnyak!E18+avan!E18+kentron!E18+malatia!E18+shengavit!E18+erebuni!E18 -> 116 | F18: =kotayq!F18+shirak!F18+syuniq!F18+lori!F18+gexarquniq!F18+tavush!F18+aragacotn!F18+armavir!F18+ararat!F18+arabkir!F18+ajapnyak!F18+avan!F18+kentron!F18+malatia!F18+shengavit!F18+erebuni!F18 -> 440 | G18: =kotayq!G18+shirak!G18+syuniq!G18+lori!G18+gexarquniq!G18+tavush!G18+aragacotn!G18+armavir!G18+ararat!G18+arabkir!G18+ajapnyak!G18+avan!G18+kentron!G18+malatia!G18+shengavit!G18+erebuni!G18 -> 33 | H18: =kotayq!H18+shirak!H18+syuniq!H18+lori!H18+gexarquniq!H18+tavush!H18+aragacotn!H18+armavir!H18+ararat!H18+arabkir!H18+ajapnyak!H18+avan!H18+kentron!H18+malatia!H18+shengavit!H18+erebuni!H18 -> 66 | I18: =kotayq!I18+shirak!I18+syuniq!I18+lori!I18+gexarquniq!I18+tavush!I18+aragacotn!I18+armavir!I18+ararat!I18+arabkir!I18+ajapnyak!I18+avan!I18+kentron!I18+malatia!I18+shengavit!I18+erebuni!I18 -> 35
A19: ÀÜ¸²ØºÜÀ | D19: =SUM(D6:D18) -> 17259 | E19: =SUM(E6:E18) -> 1656 | F19: =SUM(F6:F18) -> 15013 | G19: =SUM(G6:G18) -> 257 | H19: =SUM(H6:H18) -> 263 | I19: =SUM(I6:I18) -> 1067
A22: /16/ | B22: դատական հանձնարարություն | D22: 200 | E22: =kotayq!E22+shirak!E22+syuniq!E22+lori!E22+gexarquniq!E22+tavush!E22+aragacotn!E22+armavir!E22+ararat!E22+arabkir!E22+ajapnyak!E22+avan!E22+kentron!E22+malatia!E22+shengavit!E22+erebuni!E22 -> 16 | F22: 85 | G22: 11 | H22: 65 | I22: =kotayq!I22+shirak!I22+syuniq!I22+lori!I22+gexarquniq!I22+tavush!I22+aragacotn!I22+armavir!I22+ararat!I22+arabkir!I22+ajapnyak!I22+avan!I22+kentron!I22+malatia!I22+shengavit!I22+erebuni!I22 -> 1
A23: /06/ | B23: կալանքի վերահաստատում | D23: 318 | E23: 21 | F23: 295 | G23: =kotayq!G23+shirak!G23+syuniq!G23+lori!G23+gexarquniq!G23+tavush!G23+aragacotn!G23+armavir!G23+ararat!G23+arabkir!G23+ajapnyak!G23+avan!G23+kentron!G23+malatia!G23+shengavit!G23+erebuni!G23 -> 2 | H23: =kotayq!H23+shirak!H23+syuniq!H23+lori!H23+gexarquniq!H23+tavush!H23+aragacotn!H23+armavir!H23+ararat!H23+arabkir!H23+ajapnyak!H23+avan!H23+kentron!H23+malatia!H23+shengavit!H23+erebuni!H23 -> 0 | I23: =kotayq!I23+shirak!I23+syuniq!I23+lori!I23+gexarquniq!I23+tavush!I23+aragacotn!I23+armavir!I23+ararat!I23+arabkir!I23+ajapnyak!I23+avan!I23+kentron!I23+malatia!I23+shengavit!I23+erebuni!I23 -> 23
B26: ÀÜ¸²ØºÜÀ | D26: 17777 | E26: 1693 | F26: 15393 | G26: 270 | H26: 328 | I26: 1087
C27: 45-ընդդատություն ,
C28: 3-ընդունումը մերծվել է
C29: 8-վերադարձվել է
C30: 17-դատական հանձնարարություն անկատար է
C31: 21-գործ միացվել է

Sheet kotayq
A1: Հավելված 2 Հայաստանի Հանրապետության Դատարանների նախագահների խորհրդի 2007թ. ¹»Ïï»Ùµ»ñÇ 21-ի թիվ 23Լ որոշման
A2: ÐÐ ÀÜ¸Ð²Üàôð Æð²ì²êàôÂÚ²Ü ¸²î²ð²ÜàôØ ØÆÜâ¸²î²Î²Ü ì²ðàôÚÂÆ ÜÎ²îØ²Ø´ ¸²î²Î²Ü ìºð²ÐêÎàÔàôÂÚ²Ü, ¸²î²Î²Ü ²ÎîºðÆ Î²î²ðØ²Ü Ðºî Î²äì²Ì Ð²ðòºðÆ ìºð²´ºðÚ²È 2013 թվականի
A3: ØÇçÝáñ¹áõÃÛáõÝÝ»ñÇ ùÝÝ³ñÏÙ³Ý ÁÝÃ³óùÁ | D3: Ü»ñÏ³Û³óí³Í ÙÇçÝáñ¹áõÃÛáõÝÝ»ñÇ ù³Ý³ÏÁ | E3: Ù»ñÅí»É ¿ | F3: µ³í³ñ³ñí»É ¿ | G3: ÃáÕÝí»É ³é³Ýó ùÝÝáõÃÛ³Ý | H3: ³Ý³í³ñï | I3: µáÕáù³ñÏí»É ¿ í»ñ³ùÝÝÇã ¹³ï³ñ³Ý
A4: êïáõ·Çã Ñ³í³ë³ñáõÙ` 1=2+3+4+5
A5: 1. ØÇÝã¹³ï³Ï³Ý í³ñáõÛÃÇ ÝÏ³ïÙ³Ùµ ¹³ï³Ï³Ý í»ñ³ÑëÏáÕáõÃÛ³Ý áÉáñï | D5: 1 | E5: 2 | F5: 3 | G5: 4 | H5: 5 | I5: 6
A6: ³(06) | B6: Ï³É³ÝùÁ áñå»ë Ë³÷³ÝÙ³Ý ÙÇçáó ÏÇñ³é»Éáõ Ù³ëÇÝ | D6: 238 | E6: 10 | F6: 228 | I6: 13
A7: µ(06) | B7: Ï³É³ÝùÇ Å³ÙÏ»ïÇ »ñÏ³ñ³óÝ»Éáõ Ù³ëÇÝ | D7: 89 | E7: 4 | F7: 80 | G7: 1 | H7: 4 | I7: 10
A8: ·(06) | B8: ·ñ³íÁ áñå»ë Ï³É³Ý³íáñÙ³Ý ³ÛÉÁÝïñ³Ýù³ÛÇÝ Ë³÷³ÝÙ³Ý ÙÇçáó ÏÇñ³é»Éáõ Ù³ëÇÝ | D8: 46 | E8: 32 | F8: 13 | G8: 1 | I8: 5
A9: ¹(07) | B9: Ëáõ½³ñÏáõÃÛ³Ý Ï³ï³ñÙ³Ý Ù³ëÇÝ | D9: 258 | E9: 3 | F9: 255
A10: »(08) | B10: Ý³Ù³Ï³·ñáõÃÛ³Ý, Ñ»é³·ñ³Ï³Ý, ÷áuï³ÛÇÝ Ñ³Õáñ¹áõÙÝ»ñÇ ÑëÏáÕáõÃÛ³Ý ÙÇçÝáñ¹áõÃÛáõÝÝ»ñÇ Ù³ëÇÝ | D10: 128 | E10: 1 | F10: 127
A11: ½(09) | B11: Ñ»é³Ëáu³ÛÇÝ Ï³Ù Ï³åÇ ³ÛÉ ÙÇçáóÝ»ñáí ï³ñíáÕ Ëáu³ÏóáõÃÛáõÝÝ»ñÇ ÉuÙ³Ý ¨ Ó³ÛÝ³·ñ³éÙ³Ý ÙÇçÝáñ¹áõÃÛáõÝÝ»ñÇ Ù³ëÇÝ | D11: 10 | F11: 10
A12: ¿(10) | B12: Ñ»é³ËáëÝ»ñÇ Ùáõïù³ÛÇÝ ¨ »Éù³ÛÇÝ í»ñÍ³ÝÙ³Ý ÃáõÛÉïíáõÃÛáõÝ ëï³Ý³Éáõ ÙÇçÝáñ¹áõÃÛáõÝÝ»ñÇ Ù³ëÇÝ | D12: 160 | E12: 6 | F12: 154
A13: Á(11) | B13: Ñ»ï³ùÝÝáõÃÛ³Ý Ù³ñÙÝÇ ³ßË³ïáÕÇ, ùÝÝÇãÇ, ¹³ï³Ë³½Ç oå»ñ³ïÇí-Ñ»ï³Ëáõ½³Ï³Ý ·áñÍáÕáõÃÛáõÝÝ»ñ Çñ³Ï³Ý³óÝáÕ Ù³ñÙÇÝÝ»ñÇ ³ÝoñÇÝ³Ï³Ý ¨ ³ÝÑÇÙÝ áñáßáõÙÝ»ñÇ ¨ ·áñÍáÕáõÃÛáõÝÝ»ñÇ ¹»Ù µáÕáùÝ»ñÇ Ù³ëÇÝ | D13: 19 | E13: 11 | F13: 5 | G13: 1 | H13: 2 | I13: 6
A14: 2. ¸³ï³Ï³Ý ³Ïï»ñÇ Ñ»ï Ï³ï³ñÙ³Ý Ñ»ï Ï³åí³Í Ñ³ñó»ñÇ ÉáõÍÙ³Ý áÉáñï
A15: ³(12) | B15: å³ïÅÇó å³ÛÙ³Ý³Ï³Ý í³Õ³Å³ÙÏ»ï ³½³ï»Éáõ Ù³ëÇÝ | D15: 146 | E15: 13 | F15: 129 | G15: 1 | H15: 3 | I15: 7
A16: µ(13) | B16: ÀÝ¹³Ù»ÝÁ å³ïÇÅÁ ÷á÷áË»Éáõ, Ñ»ï³Ó·»Éáõ ¨ å³ïÅÇó ³½³ï»Éáõ Ù³uÇÝ ÙÇçÝáñ¹áõÃÛáõÝÝ»ñ | D16: 167 | E16: 33 | F16: 108 | G16: 9 | H16: 12 | I16: 3
A17: ·(14) | B17: Ñ³ñÏ³¹Çñ µáõÅÙ³Ý ï»ë³ÏÇ ÷á÷áËáõÃÛ³Ý Ù³ëÇÝ | D17: 13 | F17: 12 | H17: 1
A18: ¹(15) | B18: ³ÛÉ ÙÇçÝáñ¹áõÃÛáõÝÝ»ñ | D18: 102 | E18: 23 | F18: 25 | G18: 3 | H18: 44 | I18: 9
A19: ÀÜ¸²ØºÜÀ | D19: =SUM(D6:D18) -> 1376 | E19: =SUM(E6:E18) -> 136 | F19: =SUM(F6:F18) -> 1146 | G19: =SUM(G6:G18) -> 16 | H19: 66 | I19: =SUM(I6:I18) -> 53
A22: /16/ | B22: դատական հանձնարարություն | D22: 21 | E22: 1 | F22: 15 | H22: 2
A23: /06/ | B23: կալանքի վերահաստատում | D23: 15 | F23: 15 | I23: 2
C25: 8-գործ.- ուղ. Է ընդ.
C26: 2 գործ.- միացվել է
C27: 2-գործ.- վերադարձվ.
C28: 3 գործ.- դատական հանձնարարություն անկատար է

Sheet shirak
A1: Հավելված 2 Հայաստանի Հանրապետության Դատարանների նախագահների խորհրդի 2007թ. ¹»Ïï»Ùµ»ñÇ 21-ի թիվ 23Լ որոշման
A2: ÐÐ ÀÜ¸Ð²Üàôð Æð²ì²êàôÂÚ²Ü ¸²î²ð²ÜàôØ ØÆÜâ¸²î²Î²Ü ì²ðàôÚÂÆ ÜÎ²îØ²Ø´ ¸²î²Î²Ü ìºð²ÐêÎàÔàôÂÚ²Ü, ¸²î²Î²Ü ²ÎîºðÆ Î²î²ðØ²Ü Ðºî Î²äì²Ì Ð²ðòºðÆ ìºð²´ºðÚ²È 2013 թվականի
A3: ØÇçÝáñ¹áõÃÛáõÝÝ»ñÇ ùÝÝ³ñÏÙ³Ý ÁÝÃ³óùÁ | D3: Ü»ñÏ³Û³óí³Í ÙÇçÝáñ¹áõÃÛáõÝÝ»ñÇ ù³Ý³ÏÁ | E3: Ù»ñÅí»É ¿ | F3: µ³í³ñ³ñí»É ¿ | G3: ÃáÕÝí»É ³é³Ýó ùÝÝáõÃÛ³Ý | H3: ³Ý³í³ñï | I3: µáÕáù³ñÏí»É ¿ í»ñ³ùÝÝÇã ¹³ï³ñ³Ý
A4: êïáõ·Çã Ñ³í³ë³ñáõÙ` 1=2+3+4+5
A5: 1. ØÇÝã¹³ï³Ï³Ý í³ñáõÛÃÇ ÝÏ³ïÙ³Ùµ ¹³ï³Ï³Ý í»ñ³ÑëÏáÕáõÃÛ³Ý áÉáñï | D5: 1 | E5: 2 | F5: 3 | G5: 4 | H5: 5 | I5: 6
A6: ³(06) | B6: Ï³É³ÝùÁ áñå»ë Ë³÷³ÝÙ³Ý ÙÇçáó ÏÇñ³é»Éáõ Ù³ëÇÝ | D6: 266 | E6: 4 | F6: 262 | I6: 12
A7: µ(06) | B7: Ï³É³ÝùÇ Å³ÙÏ»ïÇ »ñÏ³ñ³óÝ»Éáõ Ù³ëÇÝ | D7: 71 | F7: 71 | I7: 4
A8: ·(06) | B8: ·ñ³íÁ áñå»ë Ï³É³Ý³íáñÙ³Ý ³ÛÉÁÝïñ³Ýù³ÛÇÝ Ë³÷³ÝÙ³Ý ÙÇçáó ÏÇñ³é»Éáõ Ù³ëÇÝ | D8: 46 | E8: 21 | F8: 22 | G8: 2 | H8: 1 | I8: 4
A9: ¹(07) | B9: Ëáõ½³ñÏáõÃÛ³Ý Ï³ï³ñÙ³Ý Ù³ëÇÝ | D9: 313 | F9: 313
A10: »(08) | B10: Ý³Ù³Ï³·ñáõÃÛ³Ý, Ñ»é³·ñ³Ï³Ý, ÷áuï³ÛÇÝ Ñ³Õáñ¹áõÙÝ»ñÇ ÑëÏáÕáõÃÛ³Ý ÙÇçÝáñ¹áõÃÛáõÝÝ»ñÇ Ù³ëÇÝ | D10: 184 | F10: 184
A11: ½(09) | B11: Ñ»é³Ëáu³ÛÇÝ Ï³Ù Ï³åÇ ³ÛÉ ÙÇçáóÝ»ñáí ï³ñíáÕ Ëáu³ÏóáõÃÛáõÝÝ»ñÇ ÉuÙ³Ý ¨ Ó³ÛÝ³·ñ³éÙ³Ý ÙÇçÝáñ¹áõÃÛáõÝÝ»ñÇ Ù³ëÇÝ | D11: 1 | F11: 1
A12: ¿(10) | B12: Ñ»é³ËáëÝ»ñÇ Ùáõïù³ÛÇÝ ¨ »Éù³ÛÇÝ í»ñÍ³ÝÙ³Ý ÃáõÛÉïíáõÃÛáõÝ ëï³Ý³Éáõ ÙÇçÝáñ¹áõÃÛáõÝÝ»ñÇ Ù³ëÇÝ | D12: 144 | E12: 1 | F12: 143
A13: Á(11) | B13: Ñ»ï³ùÝÝáõÃÛ³Ý Ù³ñÙÝÇ ³ßË³ïáÕÇ, ùÝÝÇãÇ, ¹³ï³Ë³½Ç oå»ñ³ïÇí-Ñ»ï³Ëáõ½³Ï³Ý ·áñÍáÕáõÃÛáõÝÝ»ñ Çñ³Ï³Ý³óÝáÕ Ù³ñÙÇÝÝ»ñÇ ³ÝoñÇÝ³Ï³Ý ¨ ³ÝÑÇÙÝ áñáßáõÙÝ»ñÇ ¨ ·áñÍáÕáõÃÛáõÝÝ»ñÇ ¹»Ù µáÕáùÝ»ñÇ Ù³ëÇÝ | D13: 21 | E13: 12 | F13: 3 | G13: 3 | H13: 3 | I13: 10
A14: 2. ¸³ï³Ï³Ý ³Ïï»ñÇ Ñ»ï Ï³ï³ñÙ³Ý Ñ»ï Ï³åí³Í Ñ³ñó»ñÇ ÉáõÍÙ³Ý áÉáñï
A15: ³(12) | B15: å³ïÅÇó å³ÛÙ³Ý³Ï³Ý í³Õ³Å³ÙÏ»ï ³½³ï»Éáõ Ù³ëÇÝ | D15: 8 | F15: 8 | I15: 1
A16: µ(13) | B16: ÀÝ¹³Ù»ÝÁ å³ïÇÅÁ ÷á÷áË»Éáõ, Ñ»ï³Ó·»Éáõ ¨ å³ïÅÇó ³½³ï»Éáõ Ù³uÇÝ ÙÇçÝáñ¹áõÃÛáõÝÝ»ñ | D16: 73 | E16: 13 | F16: 53 | G16: 5 | H16: 1 | I16: 1
A17: ·(14) | B17: Ñ³ñÏ³¹Çñ µáõÅÙ³Ý ï»ë³ÏÇ ÷á÷áËáõÃÛ³Ý Ù³ëÇÝ | D17: 5 | F17: 5
A18: ¹(15) | B18: ³ÛÉ ÙÇçÝáñ¹áõÃÛáõÝÝ»ñ | D18: 52 | E18: 10 | F18: 39 | G18: 3 | I18: 5
A19: ÀÜ¸²ØºÜÀ | D19: 1184 | E19: =SUM(E6:E18) -> 61 | F19: =SUM(F6:F18) -> 1104 | G19: =SUM(G6:G18) -> 13 | H19: =SUM(H6:H18) -> 5 | I19: =SUM(I6:I18) -> 37
A22: /16/ | B22: դատական հանձնարարություն | D22: 12 | E22: 1 | F22: 4 | G22: 6 | H22: 1
A23: /06/ | B23: կալանքի վերահաստատում | D23: 25 | E23: 1 | F23: 24 | I23: 1
C25: 1 ընդ.

Sheet syuniq
A1: Հավելված 2 Հայաստանի Հանրապետության Դատարանների նախագահների խորհրդի 2007թ. ¹»Ïï»Ùµ»ñÇ 21-ի թիվ 23Լ որոշման
A2: ÐÐ ÀÜ¸Ð²Üàôð Æð²ì²êàôÂÚ²Ü ¸²î²ð²ÜàôØ ØÆÜâ¸²î²Î²Ü ì²ðàôÚÂÆ ÜÎ²îØ²Ø´ ¸²î²Î²Ü ìºð²ÐêÎàÔàôÂÚ²Ü, ¸²î²Î²Ü ²ÎîºðÆ Î²î²ðØ²Ü Ðºî Î²äì²Ì Ð²ðòºðÆ ìºð²´ºðÚ²È 2013 թվականի
A3: ØÇçÝáñ¹áõÃÛáõÝÝ»ñÇ ùÝÝ³ñÏÙ³Ý ÁÝÃ³óùÁ | D3: Ü»ñÏ³Û³óí³Í ÙÇçÝáñ¹áõÃÛáõÝÝ»ñÇ ù³Ý³ÏÁ | E3: Ù»ñÅí»É ¿ | F3: µ³í³ñ³ñí»É ¿ | G3: ÃáÕÝí»É ³é³Ýó ùÝÝáõÃÛ³Ý | H3: ³Ý³í³ñï | I3: µáÕáù³ñÏí»É ¿ í»ñ³ùÝÝÇã ¹³ï³ñ³Ý
A4: êïáõ·Çã Ñ³í³ë³ñáõÙ` 1=2+3+4+5
A5: 1. ØÇÝã¹³ï³Ï³Ý í³ñáõÛÃÇ ÝÏ³ïÙ³Ùµ ¹³ï³Ï³Ý í»ñ³ÑëÏáÕáõÃÛ³Ý áÉáñï | D5: 1 | E5: 2 | F5: 3 | G5: 4 | H5: 5 | I5: 6
A6: ³(06) | B6: Ï³É³ÝùÁ áñå»ë Ë³÷³ÝÙ³Ý ÙÇçáó ÏÇñ³é»Éáõ Ù³ëÇÝ | D6: 179 | E6: 24 | F6: 155 | G6: 0 | H6: 0 | I6: 21
A7: µ(06) | B7: Ï³É³ÝùÇ Å³ÙÏ»ïÇ »ñÏ³ñ³óÝ»Éáõ Ù³ëÇÝ | D7: 117 | E7: 4 | F7: 112 | G7: 0 | H7: 1 | I7: 10
A8: ·(06) | B8: ·ñ³íÁ áñå»ë Ï³É³Ý³íáñÙ³Ý ³ÛÉÁÝïñ³Ýù³ÛÇÝ Ë³÷³ÝÙ³Ý ÙÇçáó ÏÇñ³é»Éáõ Ù³ëÇÝ | D8: 46 | E8: 43 | F8: 3 | G8: 0 | H8: 0 | I8: 5
A9: ¹(07) | B9: Ëáõ½³ñÏáõÃÛ³Ý Ï³ï³ñÙ³Ý Ù³ëÇÝ | D9: 99 | E9: 4 | F9: 95 | G9: 0 | H9: 0 | I9: 0
A10: »(08) | B10: Ý³Ù³Ï³·ñáõÃÛ³Ý, Ñ»é³·ñ³Ï³Ý, ÷áuï³ÛÇÝ Ñ³Õáñ¹áõÙÝ»ñÇ ÑëÏáÕáõÃÛ³Ý ÙÇçÝáñ¹áõÃÛáõÝÝ»ñÇ Ù³ëÇÝ | D10: 28 | E10: 0 | F10: 28 | G10: 0 | H10: 0 | I10: 0
A11: ½(09) | B11: Ñ»é³Ëáu³ÛÇÝ Ï³Ù Ï³åÇ ³ÛÉ ÙÇçáóÝ»ñáí ï³ñíáÕ Ëáu³ÏóáõÃÛáõÝÝ»ñÇ ÉuÙ³Ý ¨ Ó³ÛÝ³·ñ³éÙ³Ý ÙÇçÝáñ¹áõÃÛáõÝÝ»ñÇ Ù³ëÇÝ | D11: 2 | E11: 0 | F11: 2 | G11: 0 | H11: 0 | I11: 0
A12: ¿(10) | B12: Ñ»é³ËáëÝ»ñÇ Ùáõïù³ÛÇÝ ¨ »Éù³ÛÇÝ í»ñÍ³ÝÙ³Ý ÃáõÛÉïíáõÃÛáõÝ ëï³Ý³Éáõ ÙÇçÝáñ¹áõÃÛáõÝÝ»ñÇ Ù³ëÇÝ | D12: 64 | E12: 2 | F12: 62 | G12: 0 | H12: 0 | I12: 0
A13: Á(11) | B13: Ñ»ï³ùÝÝáõÃÛ³Ý Ù³ñÙÝÇ ³ßË³ïáÕÇ, ùÝÝÇãÇ, ¹³ï³Ë³½Ç oå»ñ³ïÇí-Ñ»ï³Ëáõ½³Ï³Ý ·áñÍáÕáõÃÛáõÝÝ»ñ Çñ³Ï³Ý³óÝáÕ Ù³ñÙÇÝÝ»ñÇ ³ÝoñÇÝ³Ï³Ý ¨ ³ÝÑÇÙÝ áñáßáõÙÝ»ñÇ ¨ ·áñÍáÕáõÃÛáõÝÝ»ñÇ ¹»Ù µáÕáùÝ»ñÇ Ù³ëÇÝ | D13: 11 | E13: 9 | F13: 1 | G13: 1 | H13: 0 | I13: 7
A14: 2. ¸³ï³Ï³Ý ³Ïï»ñÇ Ñ»ï Ï³ï³ñÙ³Ý Ñ»ï Ï³åí³Í Ñ³ñó»ñÇ ÉáõÍÙ³Ý áÉáñï
A15: ³(12) | B15: å³ïÅÇó å³ÛÙ³Ý³Ï³Ý í³Õ³Å³ÙÏ»ï ³½³ï»Éáõ Ù³ëÇÝ | D15: 4 | E15: 2 | F15: 2 | G15: 0 | H15: 0 | I15: 1
A16: µ(13) | B16: ÀÝ¹³Ù»ÝÁ å³ïÇÅÁ ÷á÷áË»Éáõ, Ñ»ï³Ó·»Éáõ ¨ å³ïÅÇó ³½³ï»Éáõ Ù³uÇÝ ÙÇçÝáñ¹áõÃÛáõÝÝ»ñ | D16: 44 | E16: 7 | F16: 35 | G16: 2 | H16: 0 | I16: 1
A17: ·(14) | B17: Ñ³ñÏ³¹Çñ µáõÅÙ³Ý ï»ë³ÏÇ ÷á÷áËáõÃÛ³Ý Ù³ëÇÝ | D17: 0 | E17: 0 | F17: 0 | G17: 0 | H17: 0 | I17: 0
A18: ¹(15) | B18: ³ÛÉ ÙÇçÝáñ¹áõÃÛáõÝÝ»ñ | D18: 67 | E18: 20 | F18: 45 | G18: 2 | H18: 0 | I18: 4
A19: ÀÜ¸²ØºÜÀ | D19: =SUM(D6:D18) -> 661 | E19: =SUM(E6:E18) -> 115 | F19: =SUM(F6:F18) -> 540 | G19: =SUM(G6:G18) -> 5 | H19: =SUM(H6:H18) -> 1 | I19: =SUM(I6:I18) -> 49
A22: /16/ | B22: դատական հանձնարարություն | D22: 9 | E22: 2 | F22: 2 | G22: 1 | H22: 4
A23: /06/ | B23: կալանքի վերահաստատում | D23: 17 | E23: 1 | F23: 15 | G23: 1 | H23: 0

Sheet lori
A1: Հավելված 2 Հայաստանի Հանրապետության Դատարանների նախագահների խորհրդի 2007թ. ¹»Ïï»Ùµ»ñÇ 21-ի թիվ 23Լ որոշման
A2: ÐÐ ÀÜ¸Ð²Üàôð Æð²ì²êàôÂÚ²Ü ¸²î²ð²ÜàôØ ØÆÜâ¸²î²Î²Ü ì²ðàôÚÂÆ ÜÎ²îØ²Ø´ ¸²î²Î²Ü ìºð²ÐêÎàÔàôÂÚ²Ü, ¸²î²Î²Ü ²ÎîºðÆ Î²î²ðØ²Ü Ðºî Î²äì²Ì Ð²ðòºðÆ ìºð²´ºðÚ²È 2013 թվականի
A3: ØÇçÝáñ¹áõÃÛáõÝÝ»ñÇ ùÝÝ³ñÏÙ³Ý ÁÝÃ³óùÁ | D3: Ü»ñÏ³Û³óí³Í ÙÇçÝáñ¹áõÃÛáõÝÝ»ñÇ ù³Ý³ÏÁ | E3: Ù»ñÅí»É ¿ | F3: µ³í³ñ³ñí»É ¿ | G3: ÃáÕÝí»É ³é³Ýó ùÝÝáõÃÛ³Ý | H3: ³Ý³í³ñï | I3: µáÕáù³ñÏí»É ¿ í»ñ³ùÝÝÇã ¹³ï³ñ³Ý
A4: êïáõ·Çã Ñ³í³ë³ñáõÙ` 1=2+3+4+5
A5: 1. ØÇÝã¹³ï³Ï³Ý í³ñáõÛÃÇ ÝÏ³ïÙ³Ùµ ¹³ï³Ï³Ý í»ñ³ÑëÏáÕáõÃÛ³Ý áÉáñï | D5: 1 | E5: 2 | F5: 3 | G5: 4 | H5: 5 | I5: 6
A6: ³(06) | B6: Ï³É³ÝùÁ áñå»ë Ë³÷³ÝÙ³Ý ÙÇçáó ÏÇñ³é»Éáõ Ù³ëÇÝ | D6: 259 | E6: 18 | F6: 241 | I6: 13
A7: µ(06) | B7: Ï³É³ÝùÇ Å³ÙÏ»ïÇ »ñÏ³ñ³óÝ»Éáõ Ù³ëÇÝ | D7: 123 | E7: 1 | F7: 118 | G7: 1 | H7: 2 | I7: 16
A8: ·(06) | B8: ·ñ³íÁ áñå»ë Ï³É³Ý³íáñÙ³Ý ³ÛÉÁÝïñ³Ýù³ÛÇÝ Ë³÷³ÝÙ³Ý ÙÇçáó ÏÇñ³é»Éáõ Ù³ëÇÝ | D8: 94 | E8: 78 | F8: 15 | G8: 1 | I8: 2
A9: ¹(07) | B9: Ëáõ½³ñÏáõÃÛ³Ý Ï³ï³ñÙ³Ý Ù³ëÇÝ | D9: 331 | E9: 6 | F9: 325
A10: »(08) | B10: Ý³Ù³Ï³·ñáõÃÛ³Ý, Ñ»é³·ñ³Ï³Ý, ÷áuï³ÛÇÝ Ñ³Õáñ¹áõÙÝ»ñÇ ÑëÏáÕáõÃÛ³Ý ÙÇçÝáñ¹áõÃÛáõÝÝ»ñÇ Ù³ëÇÝ | D10: 131 | F10: 131
A11: ½(09) | B11: Ñ»é³Ëáu³ÛÇÝ Ï³Ù Ï³åÇ ³ÛÉ ÙÇçáóÝ»ñáí ï³ñíáÕ Ëáu³ÏóáõÃÛáõÝÝ»ñÇ ÉuÙ³Ý ¨ Ó³ÛÝ³·ñ³éÙ³Ý ÙÇçÝáñ¹áõÃÛáõÝÝ»ñÇ Ù³ëÇÝ | D11: 6 | F11: 6
A12: ¿(10) | B12: Ñ»é³ËáëÝ»ñÇ Ùáõïù³ÛÇÝ ¨ »Éù³ÛÇÝ í»ñÍ³ÝÙ³Ý ÃáõÛÉïíáõÃÛáõÝ ëï³Ý³Éáõ ÙÇçÝáñ¹áõÃÛáõÝÝ»ñÇ Ù³ëÇÝ | D12: 159 | E12: 2 | F12: 157
A13: Á(11) | B13: Ñ»ï³ùÝÝáõÃÛ³Ý Ù³ñÙÝÇ ³ßË³ïáÕÇ, ùÝÝÇãÇ, ¹³ï³Ë³½Ç oå»ñ³ïÇí-Ñ»ï³Ëáõ½³Ï³Ý ·áñÍáÕáõÃÛáõÝÝ»ñ Çñ³Ï³Ý³óÝáÕ Ù³ñÙÇÝÝ»ñÇ ³ÝoñÇÝ³Ï³Ý ¨ ³ÝÑÇÙÝ áñáßáõÙÝ»ñÇ ¨ ·áñÍáÕáõÃÛáõÝÝ»ñÇ ¹»Ù µáÕáùÝ»ñÇ Ù³ëÇÝ | D13: 51 | E13: 32 | F13: 6 | G13: 6 | H13: 7 | I13: 20
A14: 2. ¸³ï³Ï³Ý ³Ïï»ñÇ Ñ»ï Ï³ï³ñÙ³Ý Ñ»ï Ï³åí³Í Ñ³ñó»ñÇ ÉáõÍÙ³Ý áÉáñï
A15: ³(12) | B15: å³ïÅÇó å³ÛÙ³Ý³Ï³Ý í³Õ³Å³ÙÏ»ï ³½³ï»Éáõ Ù³ëÇÝ | D15: 3 | F15: 3
A16: µ(13) | B16: ÀÝ¹³Ù»ÝÁ å³ïÇÅÁ ÷á÷áË»Éáõ, Ñ»ï³Ó·»Éáõ ¨ å³ïÅÇó ³½³ï»Éáõ Ù³uÇÝ ÙÇçÝáñ¹áõÃÛáõÝÝ»ñ | D16: 83 | E16: 9 | F16: 28 | G16: 30 | H16: 10 | I16: 1
A17: ·(14) | B17: Ñ³ñÏ³¹Çñ µáõÅÙ³Ý ï»ë³ÏÇ ÷á÷áËáõÃÛ³Ý Ù³ëÇÝ | D17: 27 | E17: 3 | F17: 24
A18: ¹(15) | B18: ³ÛÉ ÙÇçÝáñ¹áõÃÛáõÝÝ»ñ | D18: 34 | E18: 6 | F18: 19 | G18: 3 | H18: 2
A19: ÀÜ¸²ØºÜÀ | D19: =SUM(D6:D18) -> 1301 | E19: =SUM(E6:E18) -> 155 | F19: =SUM(F6:F18) -> 1073 | G19: =SUM(G6:G18) -> 41 | H19: =SUM(H6:H18) -> 21 | I19: =SUM(I6:I18) -> 52
A22: /16/ | B22: դատական հանձնարարություն | D22: 20 | E22: 1 | F22: 2 | H22: 5
A23: /06/ | B23: կալանքի վերահաստատում | D23: 33 | E23: 3 | F23: 30 | I23: 3
C25: 5գործ ուղ ընդդ.
C26: 13 անկատար
C27: 5 գործ միացվել է

Sheet gexarquniq
A1: Հավելված 2 Հայաստանի Հանրապետության Դատարանների նախագահների խորհրդի 2007թ. ¹»Ïï»Ùµ»ñÇ 21-ի թիվ 23Լ որոշման
A2: ÐÐ ÀÜ¸Ð²Üàôð Æð²ì²êàôÂÚ²Ü ¸²î²ð²ÜàôØ ØÆÜâ¸²î²Î²Ü ì²ðàôÚÂÆ ÜÎ²îØ²Ø´ ¸²î²Î²Ü ìºð²ÐêÎàÔàôÂÚ²Ü, ¸²î²Î²Ü ²ÎîºðÆ Î²î²ðØ²Ü Ðºî Î²äì²Ì Ð²ðòºðÆ ìºð²´ºðÚ²È 2013 թվականի
A3: ØÇçÝáñ¹áõÃÛáõÝÝ»ñÇ ùÝÝ³ñÏÙ³Ý ÁÝÃ³óùÁ | D3: Ü»ñÏ³Û³óí³Í ÙÇçÝáñ¹áõÃÛáõÝÝ»ñÇ ù³Ý³ÏÁ | E3: Ù»ñÅí»É ¿ | F3: µ³í³ñ³ñí»É ¿ | G3: ÃáÕÝí»É ³é³Ýó ùÝÝáõÃÛ³Ý | H3: ³Ý³í³ñï | I3: µáÕáù³ñÏí»É ¿ í»ñ³ùÝÝÇã ¹³ï³ñ³Ý
A4: êïáõ·Çã Ñ³í³ë³ñáõÙ` 1=2+3+4+5
A5: 1. ØÇÝã¹³ï³Ï³Ý í³ñáõÛÃÇ ÝÏ³ïÙ³Ùµ ¹³ï³Ï³Ý í»ñ³ÑëÏáÕáõÃÛ³Ý áÉáñï | D5: 1 | E5: 2 | F5: 3 | G5: 4 | H5: 5 | I5: 6
A6: ³(06) | B6: Ï³É³ÝùÁ áñå»ë Ë³÷³ÝÙ³Ý ÙÇçáó ÏÇñ³é»Éáõ Ù³ëÇÝ | D6: 151 | E6: 7 | F6: 144 | I6: 13
A7: µ(06) | B7: Ï³É³ÝùÇ Å³ÙÏ»ïÇ »ñÏ³ñ³óÝ»Éáõ Ù³ëÇÝ | D7: 47 | E7: 6 | F7: 40 | G7: 1 | I7: 10
A8: ·(06) | B8: ·ñ³íÁ áñå»ë Ï³É³Ý³íáñÙ³Ý ³ÛÉÁÝïñ³Ýù³ÛÇÝ Ë³÷³ÝÙ³Ý ÙÇçáó ÏÇñ³é»Éáõ Ù³ëÇÝ | D8: 26 | E8: 14 | F8: 8 | G8: 4 | I8: 7
A9: ¹(07) | B9: Ëáõ½³ñÏáõÃÛ³Ý Ï³ï³ñÙ³Ý Ù³ëÇÝ | D9: 161 | E9: 1 | F9: 160 | I9: 1
A10: »(08) | B10: Ý³Ù³Ï³·ñáõÃÛ³Ý, Ñ»é³·ñ³Ï³Ý, ÷áuï³ÛÇÝ Ñ³Õáñ¹áõÙÝ»ñÇ ÑëÏáÕáõÃÛ³Ý ÙÇçÝáñ¹áõÃÛáõÝÝ»ñÇ Ù³ëÇÝ | D10: 82 | F10: 82
A11: ½(09) | B11: Ñ»é³Ëáu³ÛÇÝ Ï³Ù Ï³åÇ ³ÛÉ ÙÇçáóÝ»ñáí ï³ñíáÕ Ëáu³ÏóáõÃÛáõÝÝ»ñÇ ÉuÙ³Ý ¨ Ó³ÛÝ³·ñ³éÙ³Ý ÙÇçÝáñ¹áõÃÛáõÝÝ»ñÇ Ù³ëÇÝ
A12: ¿(10) | B12: Ñ»é³ËáëÝ»ñÇ Ùáõïù³ÛÇÝ ¨ »Éù³ÛÇÝ í»ñÍ³ÝÙ³Ý ÃáõÛÉïíáõÃÛáõÝ ëï³Ý³Éáõ ÙÇçÝáñ¹áõÃÛáõÝÝ»ñÇ Ù³ëÇÝ | D12: 107 | E12: 3 | F12: 104
A13: Á(11) | B13: Ñ»ï³ùÝÝáõÃÛ³Ý Ù³ñÙÝÇ ³ßË³ïáÕÇ, ùÝÝÇãÇ, ¹³ï³Ë³½Ç oå»ñ³ïÇí-Ñ»ï³Ëáõ½³Ï³Ý ·áñÍáÕáõÃÛáõÝÝ»ñ Çñ³Ï³Ý³óÝáÕ Ù³ñÙÇÝÝ»ñÇ ³ÝoñÇÝ³Ï³Ý ¨ ³ÝÑÇÙÝ áñáßáõÙÝ»ñÇ ¨ ·áñÍáÕáõÃÛáõÝÝ»ñÇ ¹»Ù µáÕáùÝ»ñÇ Ù³ëÇÝ | D13: 23 | E13: 13 | F13: 2 | G13: 4 | H13: 4 | I13: 7
A14: 2. ¸³ï³Ï³Ý ³Ïï»ñÇ Ñ»ï Ï³ï³ñÙ³Ý Ñ»ï Ï³åí³Í Ñ³ñó»ñÇ ÉáõÍÙ³Ý áÉáñï
A15: ³(12) | B15: å³ïÅÇó å³ÛÙ³Ý³Ï³Ý í³Õ³Å³ÙÏ»ï ³½³ï»Éáõ Ù³ëÇÝ
A16: µ(13) | B16: ÀÝ¹³Ù»ÝÁ å³ïÇÅÁ ÷á÷áË»Éáõ, Ñ»ï³Ó·»Éáõ ¨ å³ïÅÇó ³½³ï»Éáõ Ù³uÇÝ ÙÇçÝáñ¹áõÃÛáõÝÝ»ñ | D16: 111 | E16: 20 | F16: 77 | G16: 13 | H16: 1 | I16: 1
A17: ·(14) | B17: Ñ³ñÏ³¹Çñ µáõÅÙ³Ý ï»ë³ÏÇ ÷á÷áËáõÃÛ³Ý Ù³ëÇÝ | D17: 4 | E17: 1 | F17: 2 | G17: 1
A18: ¹(15) | B18: ³ÛÉ ÙÇçÝáñ¹áõÃÛáõÝÝ»ñ | D18: 32 | E18: 4 | F18: 25 | G18: 3
A19: ÀÜ¸²ØºÜÀ | D19: =SUM(D6:D18) -> 744 | E19: =SUM(E6:E18) -> 69 | F19: =SUM(F6:F18) -> 644 | G19: =SUM(G6:G18) -> 26 | H19: =SUM(H6:H18) -> 5 | I19: =SUM(I6:I18) -> 39
A22: /16/ | B22: դատական հանձնարարություն | D22: 11 | F22: 9 | H22: 2
A23: /06/ | B23: կալանքի վերահաստատում | D23: 15 | E23: 3 | F23: 12

Sheet tavush
A1: Հավելված 2 Հայաստանի Հանրապետության Դատարանների նախագահների խորհրդի 2007թ. ¹»Ïï»Ùµ»ñÇ 21-ի թիվ 23Լ որոշման
A2: ÐÐ ÀÜ¸Ð²Üàôð Æð²ì²êàôÂÚ²Ü ¸²î²ð²ÜàôØ ØÆÜâ¸²î²Î²Ü ì²ðàôÚÂÆ ÜÎ²îØ²Ø´ ¸²î²Î²Ü ìºð²ÐêÎàÔàôÂÚ²Ü, ¸²î²Î²Ü ²ÎîºðÆ Î²î²ðØ²Ü Ðºî Î²äì²Ì Ð²ðòºðÆ ìºð²´ºðÚ²È 2013 թվականի
A3: ØÇçÝáñ¹áõÃÛáõÝÝ»ñÇ ùÝÝ³ñÏÙ³Ý ÁÝÃ³óùÁ | D3: Ü»ñÏ³Û³óí³Í ÙÇçÝáñ¹áõÃÛáõÝÝ»ñÇ ù³Ý³ÏÁ | E3: Ù»ñÅí»É ¿ | F3: µ³í³ñ³ñí»É ¿ | G3: ÃáÕÝí»É ³é³Ýó ùÝÝáõÃÛ³Ý | H3: ³Ý³í³ñï | I3: µáÕáù³ñÏí»É ¿ í»ñ³ùÝÝÇã ¹³ï³ñ³Ý
A4: êïáõ·Çã Ñ³í³ë³ñáõÙ` 1=2+3+4+5
A5: 1. ØÇÝã¹³ï³Ï³Ý í³ñáõÛÃÇ ÝÏ³ïÙ³Ùµ ¹³ï³Ï³Ý í»ñ³ÑëÏáÕáõÃÛ³Ý áÉáñï | D5: 1 | E5: 2 | F5: 3 | G5: 4 | H5: 5 | I5: 6
A6: ³(06) | B6: Ï³É³ÝùÁ áñå»ë Ë³÷³ÝÙ³Ý ÙÇçáó ÏÇñ³é»Éáõ Ù³ëÇÝ | D6: 97 | E6: 13 | F6: 84 | I6: 5
A7: µ(06) | B7: Ï³É³ÝùÇ Å³ÙÏ»ïÇ »ñÏ³ñ³óÝ»Éáõ Ù³ëÇÝ | D7: 46 | E7: 1 | F7: 45 | I7: 8
A8: ·(06) | B8: ·ñ³íÁ áñå»ë Ï³É³Ý³íáñÙ³Ý ³ÛÉÁÝïñ³Ýù³ÛÇÝ Ë³÷³ÝÙ³Ý ÙÇçáó ÏÇñ³é»Éáõ Ù³ëÇÝ | D8: 6 | E8: 4 | F8: 1 | G8: 1 | I8: 4
A9: ¹(07) | B9: Ëáõ½³ñÏáõÃÛ³Ý Ï³ï³ñÙ³Ý Ù³ëÇÝ | D9: 59 | E9: 3 | F9: 56
A10: »(08) | B10: Ý³Ù³Ï³·ñáõÃÛ³Ý, Ñ»é³·ñ³Ï³Ý, ÷áuï³ÛÇÝ Ñ³Õáñ¹áõÙÝ»ñÇ ÑëÏáÕáõÃÛ³Ý ÙÇçÝáñ¹áõÃÛáõÝÝ»ñÇ Ù³ëÇÝ | D10: 22 | F10: 22
A11: ½(09) | B11: Ñ»é³Ëáu³ÛÇÝ Ï³Ù Ï³åÇ ³ÛÉ ÙÇçáóÝ»ñáí ï³ñíáÕ Ëáu³ÏóáõÃÛáõÝÝ»ñÇ ÉuÙ³Ý ¨ Ó³ÛÝ³·ñ³éÙ³Ý ÙÇçÝáñ¹áõÃÛáõÝÝ»ñÇ Ù³ëÇÝ | D11: 1 | F11: 1
A12: ¿(10) | B12: Ñ»é³ËáëÝ»ñÇ Ùáõïù³ÛÇÝ ¨ »Éù³ÛÇÝ í»ñÍ³ÝÙ³Ý ÃáõÛÉïíáõÃÛáõÝ ëï³Ý³Éáõ ÙÇçÝáñ¹áõÃÛáõÝÝ»ñÇ Ù³ëÇÝ | D12: 42 | E12: 1 | F12: 41
A13: Á(11) | B13: Ñ»ï³ùÝÝáõÃÛ³Ý Ù³ñÙÝÇ ³ßË³ïáÕÇ, ùÝÝÇãÇ, ¹³ï³Ë³½Ç oå»ñ³ïÇí-Ñ»ï³Ëáõ½³Ï³Ý ·áñÍáÕáõÃÛáõÝÝ»ñ Çñ³Ï³Ý³óÝáÕ Ù³ñÙÇÝÝ»ñÇ ³ÝoñÇÝ³Ï³Ý ¨ ³ÝÑÇÙÝ áñáßáõÙÝ»ñÇ ¨ ·áñÍáÕáõÃÛáõÝÝ»ñÇ ¹»Ù µáÕáùÝ»ñÇ Ù³ëÇÝ | D13: 8 | E13: 3 | F13: 4 | H13: 1 | I13: 2
A14: 2. ¸³ï³Ï³Ý ³Ïï»ñÇ Ñ»ï Ï³ï³ñÙ³Ý Ñ»ï Ï³åí³Í Ñ³ñó»ñÇ ÉáõÍÙ³Ý áÉáñï
A15: ³(12) | B15: å³ïÅÇó å³ÛÙ³Ý³Ï³Ý í³Õ³Å³ÙÏ»ï ³½³ï»Éáõ Ù³ëÇÝ
A16: µ(13) | B16: ÀÝ¹³Ù»ÝÁ å³ïÇÅÁ ÷á÷áË»Éáõ, Ñ»ï³Ó·»Éáõ ¨ å³ïÅÇó ³½³ï»Éáõ Ù³uÇÝ ÙÇçÝáñ¹áõÃÛáõÝÝ»ñ | D16: 39 | E16: 11 | F16: 26 | G16: 2 | I16: 1
A17: ·(14) | B17: Ñ³ñÏ³¹Çñ µáõÅÙ³Ý ï»ë³ÏÇ ÷á÷áËáõÃÛ³Ý Ù³ëÇÝ
A18: ¹(15) | B18: ³ÛÉ ÙÇçÝáñ¹áõÃÛáõÝÝ»ñ | D18: 19 | E18: 2 | F18: 17 | I18: 2
A19: ÀÜ¸²ØºÜÀ | D19: =SUM(D6:D18) -> 339 | E19: =SUM(E6:E18) -> 38 | F19: =SUM(F6:F18) -> 297 | G19: =SUM(G6:G18) -> 3 | H19: =SUM(H6:H18) -> 1 | I19: =SUM(I6:I18) -> 22
A22: /16/ | B22: դատական հանձնարարություն | D22: 4 | E22: 1 | F22: 1 | H22: 2
A23: /06/ | B23: կալանքի վերահաստատում | D23: 16 | E23: 1 | F23: 14 | G23: 1 | I23: 1

Sheet aragacotn
A1: Հավելված 2 Հայաստանի Հանրապետության Դատարանների նախագահների խորհրդի 2007թ. ¹»Ïï»Ùµ»ñÇ 21-ի թիվ 23Լ որոշման
A2: ÐÐ ÀÜ¸Ð²Üàôð Æð²ì²êàôÂÚ²Ü ¸²î²ð²ÜàôØ ØÆÜâ¸²î²Î²Ü ì²ðàôÚÂÆ ÜÎ²îØ²Ø´ ¸²î²Î²Ü ìºð²ÐêÎàÔàôÂÚ²Ü, ¸²î²Î²Ü ²ÎîºðÆ Î²î²ðØ²Ü Ðºî Î²äì²Ì Ð²ðòºðÆ ìºð²´ºðÚ²È 2013 թվականի
A3: ØÇçÝáñ¹áõÃÛáõÝÝ»ñÇ ùÝÝ³ñÏÙ³Ý ÁÝÃ³óùÁ | D3: Ü»ñÏ³Û³óí³Í ÙÇçÝáñ¹áõÃÛáõÝÝ»ñÇ ù³Ý³ÏÁ | E3: Ù»ñÅí»É ¿ | F3: µ³í³ñ³ñí»É ¿ | G3: ÃáÕÝí»É ³é³Ýó ùÝÝáõÃÛ³Ý | H3: ³Ý³í³ñï | I3: µáÕáù³ñÏí»É ¿ í»ñ³ùÝÝÇã ¹³ï³ñ³Ý
A4: êïáõ·Çã Ñ³í³ë³ñáõÙ` 1=2+3+4+5
A5: 1. ØÇÝã¹³ï³Ï³Ý í³ñáõÛÃÇ ÝÏ³ïÙ³Ùµ ¹³ï³Ï³Ý í»ñ³ÑëÏáÕáõÃÛ³Ý áÉáñï | D5: 1 | E5: 2 | F5: 3 | G5: 4 | H5: 5 | I5: 6
A6: ³(06) | B6: Ï³É³ÝùÁ áñå»ë Ë³÷³ÝÙ³Ý ÙÇçáó ÏÇñ³é»Éáõ Ù³ëÇÝ | D6: 71 | E6: 3 | F6: 68 | I6: 10
A7: µ(06) | B7: Ï³É³ÝùÇ Å³ÙÏ»ïÇ »ñÏ³ñ³óÝ»Éáõ Ù³ëÇÝ | D7: 28 | E7: 2 | F7: 26 | I7: 2
A8: ·(06) | B8: ·ñ³íÁ áñå»ë Ï³É³Ý³íáñÙ³Ý ³ÛÉÁÝïñ³Ýù³ÛÇÝ Ë³÷³ÝÙ³Ý ÙÇçáó ÏÇñ³é»Éáõ Ù³ëÇÝ | D8: 6 | E8: 6 | I8: 2
A9: ¹(07) | B9: Ëáõ½³ñÏáõÃÛ³Ý Ï³ï³ñÙ³Ý Ù³ëÇÝ | D9: 87 | F9: 87
A10: »(08) | B10: Ý³Ù³Ï³·ñáõÃÛ³Ý, Ñ»é³·ñ³Ï³Ý, ÷áuï³ÛÇÝ Ñ³Õáñ¹áõÙÝ»ñÇ ÑëÏáÕáõÃÛ³Ý ÙÇçÝáñ¹áõÃÛáõÝÝ»ñÇ Ù³ëÇÝ | D10: 50 | F10: 50
A11: ½(09) | B11: Ñ»é³Ëáu³ÛÇÝ Ï³Ù Ï³åÇ ³ÛÉ ÙÇçáóÝ»ñáí ï³ñíáÕ Ëáu³ÏóáõÃÛáõÝÝ»ñÇ ÉuÙ³Ý ¨ Ó³ÛÝ³·ñ³éÙ³Ý ÙÇçÝáñ¹áõÃÛáõÝÝ»ñÇ Ù³ëÇÝ
A12: ¿(10) | B12: Ñ»é³ËáëÝ»ñÇ Ùáõïù³ÛÇÝ ¨ »Éù³ÛÇÝ í»ñÍ³ÝÙ³Ý ÃáõÛÉïíáõÃÛáõÝ ëï³Ý³Éáõ ÙÇçÝáñ¹áõÃÛáõÝÝ»ñÇ Ù³ëÇÝ | D12: 92 | F12: 92
A13: Á(11) | B13: Ñ»ï³ùÝÝáõÃÛ³Ý Ù³ñÙÝÇ ³ßË³ïáÕÇ, ùÝÝÇãÇ, ¹³ï³Ë³½Ç oå»ñ³ïÇí-Ñ»ï³Ëáõ½³Ï³Ý ·áñÍáÕáõÃÛáõÝÝ»ñ Çñ³Ï³Ý³óÝáÕ Ù³ñÙÇÝÝ»ñÇ ³ÝoñÇÝ³Ï³Ý ¨ ³ÝÑÇÙÝ áñáßáõÙÝ»ñÇ ¨ ·áñÍáÕáõÃÛáõÝÝ»ñÇ ¹»Ù µáÕáùÝ»ñÇ Ù³ëÇÝ | D13: 9 | E13: 7 | F13: 1 | I13: 3
A14: 2. ¸³ï³Ï³Ý ³Ïï»ñÇ Ñ»ï Ï³ï³ñÙ³Ý Ñ»ï Ï³åí³Í Ñ³ñó»ñÇ ÉáõÍÙ³Ý áÉáñï
A15: ³(12) | B15: å³ïÅÇó å³ÛÙ³Ý³Ï³Ý í³Õ³Å³ÙÏ»ï ³½³ï»Éáõ Ù³ëÇÝ | D15: 89 | E15: 3 | F15: 86 | I15: 3
A16: µ(13) | B16: ÀÝ¹³Ù»ÝÁ å³ïÇÅÁ ÷á÷áË»Éáõ, Ñ»ï³Ó·»Éáõ ¨ å³ïÅÇó ³½³ï»Éáõ Ù³uÇÝ ÙÇçÝáñ¹áõÃÛáõÝÝ»ñ | D16: 53 | E16: 23 | F16: 26 | G16: 3 | H16: 1 | I16: 1
A17: ·(14) | B17: Ñ³ñÏ³¹Çñ µáõÅÙ³Ý ï»ë³ÏÇ ÷á÷áËáõÃÛ³Ý Ù³ëÇÝ
A18: ¹(15) | B18: ³ÛÉ ÙÇçÝáñ¹áõÃÛáõÝÝ»ñ | D18: 88 | E18: 3 | F18: 84
A19: ÀÜ¸²ØºÜÀ | D19: =SUM(D6:D18) -> 573 | E19: =SUM(E6:E18) -> 47 | F19: =SUM(F6:F18) -> 520 | G19: =SUM(G6:G18) -> 3 | H19: =SUM(H6:H18) -> 1 | I19: =SUM(I6:I18) -> 21
A22: /16/ | B22: դատական հանձնարարություն | D22: 4 | F22: 2 | H22: 1
A23: /06/ | B23: կալանքի վերահաստատում | D23: 3 | F23: 3
C25: 2-գործ ուղ. Ընդդատության
C26: 1-անկար

Sheet armavir
A1: Հավելված 2 Հայաստանի Հանրապետության Դատարանների նախագահների խորհրդի 2007թ. ¹»Ïï»Ùµ»ñÇ 21-ի թիվ 23Լ որոշման
A2: ÐÐ ÀÜ¸Ð²Üàôð Æð²ì²êàôÂÚ²Ü ¸²î²ð²ÜàôØ ØÆÜâ¸²î²Î²Ü ì²ðàôÚÂÆ ÜÎ²îØ²Ø´ ¸²î²Î²Ü ìºð²ÐêÎàÔàôÂÚ²Ü, ¸²î²Î²Ü ²ÎîºðÆ Î²î²ðØ²Ü Ðºî Î²äì²Ì Ð²ðòºðÆ ìºð²´ºðÚ²È 2013 թվականի
A3: ØÇçÝáñ¹áõÃÛáõÝÝ»ñÇ ùÝÝ³ñÏÙ³Ý ÁÝÃ³óùÁ | D3: Ü»ñÏ³Û³óí³Í ÙÇçÝáñ¹áõÃÛáõÝÝ»ñÇ ù³Ý³ÏÁ | E3: Ù»ñÅí»É ¿ | F3: µ³í³ñ³ñí»É ¿ | G3: ÃáÕÝí»É ³é³Ýó ùÝÝáõÃÛ³Ý | H3: ³Ý³í³ñï | I3: µáÕáù³ñÏí»É ¿ í»ñ³ùÝÝÇã ¹³ï³ñ³Ý
A4: êïáõ·Çã Ñ³í³ë³ñáõÙ` 1=2+3+4+5
A5: 1. ØÇÝã¹³ï³Ï³Ý í³ñáõÛÃÇ ÝÏ³ïÙ³Ùµ ¹³ï³Ï³Ý í»ñ³ÑëÏáÕáõÃÛ³Ý áÉáñï | D5: 1 | E5: 2 | F5: 3 | G5: 4 | H5: 5 | I5: 6
A6: ³(06) | B6: Ï³É³ÝùÁ áñå»ë Ë³÷³ÝÙ³Ý ÙÇçáó ÏÇñ³é»Éáõ Ù³ëÇÝ | D6: 270 | E6: 3 | F6: 265 | G6: 2 | I6: 14
A7: µ(06) | B7: Ï³É³ÝùÇ Å³ÙÏ»ïÇ »ñÏ³ñ³óÝ»Éáõ Ù³ëÇÝ | D7: 69 | F7: 68 | H7: 1 | I7: 14
A8: ·(06) | B8: ·ñ³íÁ áñå»ë Ï³É³Ý³íáñÙ³Ý ³ÛÉÁÝïñ³Ýù³ÛÇÝ Ë³÷³ÝÙ³Ý ÙÇçáó ÏÇñ³é»Éáõ Ù³ëÇÝ | D8: 35 | E8: 23 | F8: 12 | I8: 15
A9: ¹(07) | B9: Ëáõ½³ñÏáõÃÛ³Ý Ï³ï³ñÙ³Ý Ù³ëÇÝ | D9: 220 | E9: 3 | F9: 217
A10: »(08) | B10: Ý³Ù³Ï³·ñáõÃÛ³Ý, Ñ»é³·ñ³Ï³Ý, ÷áuï³ÛÇÝ Ñ³Õáñ¹áõÙÝ»ñÇ ÑëÏáÕáõÃÛ³Ý ÙÇçÝáñ¹áõÃÛáõÝÝ»ñÇ Ù³ëÇÝ | D10: 182 | F10: 181 | G10: 1
A11: ½(09) | B11: Ñ»é³Ëáu³ÛÇÝ Ï³Ù Ï³åÇ ³ÛÉ ÙÇçáóÝ»ñáí ï³ñíáÕ Ëáu³ÏóáõÃÛáõÝÝ»ñÇ ÉuÙ³Ý ¨ Ó³ÛÝ³·ñ³éÙ³Ý ÙÇçÝáñ¹áõÃÛáõÝÝ»ñÇ Ù³ëÇÝ | D11: 40 | F11: 40
A12: ¿(10) | B12: Ñ»é³ËáëÝ»ñÇ Ùáõïù³ÛÇÝ ¨ »Éù³ÛÇÝ í»ñÍ³ÝÙ³Ý ÃáõÛÉïíáõÃÛáõÝ ëï³Ý³Éáõ ÙÇçÝáñ¹áõÃÛáõÝÝ»ñÇ Ù³ëÇÝ | D12: 117 | F12: 117
A13: Á(11) | B13: Ñ»ï³ùÝÝáõÃÛ³Ý Ù³ñÙÝÇ ³ßË³ïáÕÇ, ùÝÝÇãÇ, ¹³ï³Ë³½Ç oå»ñ³ïÇí-Ñ»ï³Ëáõ½³Ï³Ý ·áñÍáÕáõÃÛáõÝÝ»ñ Çñ³Ï³Ý³óÝáÕ Ù³ñÙÇÝÝ»ñÇ ³ÝoñÇÝ³Ï³Ý ¨ ³ÝÑÇÙÝ áñáßáõÙÝ»ñÇ ¨ ·áñÍáÕáõÃÛáõÝÝ»ñÇ ¹»Ù µáÕáùÝ»ñÇ Ù³ëÇÝ | D13: 22 | E13: 12 | F13: 3 | G13: 1 | H13: 3 | I13: 8
A14: 2. ¸³ï³Ï³Ý ³Ïï»ñÇ Ñ»ï Ï³ï³ñÙ³Ý Ñ»ï Ï³åí³Í Ñ³ñó»ñÇ ÉáõÍÙ³Ý áÉáñï
A15: ³(12) | B15: å³ïÅÇó å³ÛÙ³Ý³Ï³Ý í³Õ³Å³ÙÏ»ï ³½³ï»Éáõ Ù³ëÇÝ
A16: µ(13) | B16: ÀÝ¹³Ù»ÝÁ å³ïÇÅÁ ÷á÷áË»Éáõ, Ñ»ï³Ó·»Éáõ ¨ å³ïÅÇó ³½³ï»Éáõ Ù³uÇÝ ÙÇçÝáñ¹áõÃÛáõÝÝ»ñ | D16: 55 | E16: 17 | F16: 36 | G16: 1 | H16: 1 | I16: 1
A17: ·(14) | B17: Ñ³ñÏ³¹Çñ µáõÅÙ³Ý ï»ë³ÏÇ ÷á÷áËáõÃÛ³Ý Ù³ëÇÝ | D17: 3 | F17: 3 | I17: 1
A18: ¹(15) | B18: ³ÛÉ ÙÇçÝáñ¹áõÃÛáõÝÝ»ñ | D18: 24 | E18: 2 | F18: 22
A19: ÀÜ¸²ØºÜÀ | D19: =SUM(D6:D18) -> 1037 | E19: =SUM(E6:E18) -> 60 | F19: =SUM(F6:F18) -> 964 | G19: =SUM(G6:G18) -> 5 | H19: =SUM(H6:H18) -> 5 | I19: =SUM(I6:I18) -> 53
A22: /16/ | B22: դատական հանձնարարություն | D22: 12 | F22: 8 | H22: 1
A23: /06/ | B23: կալանքի վերահաստատում | D23: 10 | E23: 1 | F23: 9 | I23: 1
C25: 3-ընդունումը մերժվել է
C26: 3 դատական հանձնարարաություն վերադարձվել է

Sheet ararat
A1: Հավելված 2 Հայաստանի Հանրապետության Դատարանների նախագահների խորհրդի 2007թ. ¹»Ïï»Ùµ»ñÇ 21-ի թիվ 23Լ որոշման
A2: ÐÐ ÀÜ¸Ð²Üàôð Æð²ì²êàôÂÚ²Ü ¸²î²ð²ÜàôØ ØÆÜâ¸²î²Î²Ü ì²ðàôÚÂÆ ÜÎ²îØ²Ø´ ¸²î²Î²Ü ìºð²ÐêÎàÔàôÂÚ²Ü, ¸²î²Î²Ü ²ÎîºðÆ Î²î²ðØ²Ü Ðºî Î²äì²Ì Ð²ðòºðÆ ìºð²´ºðÚ²È
A3: ØÇçÝáñ¹áõÃÛáõÝÝ»ñÇ ùÝÝ³ñÏÙ³Ý ÁÝÃ³óùÁ | D3: Ü»ñÏ³Û³óí³Í ÙÇçÝáñ¹áõÃÛáõÝÝ»ñÇ ù³Ý³ÏÁ | E3: Ù»ñÅí»É ¿ | F3: µ³í³ñ³ñí»É ¿ | G3: ÃáÕÝí»É ³é³Ýó ùÝÝáõÃÛ³Ý | H3: ³Ý³í³ñï | I3: µáÕáù³ñÏí»É ¿ í»ñ³ùÝÝÇã ¹³ï³ñ³Ý
A4: êïáõ·Çã Ñ³í³ë³ñáõÙ` 1=2+3+4+5
A5: 1. ØÇÝã¹³ï³Ï³Ý í³ñáõÛÃÇ ÝÏ³ïÙ³Ùµ ¹³ï³Ï³Ý í»ñ³ÑëÏáÕáõÃÛ³Ý áÉáñï | D5: 1 | E5: 2 | F5: 3 | G5: 4 | H5: 5 | I5: 6
A6: ³(06) | B6: Ï³É³ÝùÁ áñå»ë Ë³÷³ÝÙ³Ý ÙÇçáó ÏÇñ³é»Éáõ Ù³ëÇÝ | D6: 229 | E6: 11 | F6: 218 | I6: 20
A7: µ(06) | B7: Ï³É³ÝùÇ Å³ÙÏ»ïÇ »ñÏ³ñ³óÝ»Éáõ Ù³ëÇÝ | D7: 76 | E7: 1 | F7: 75 | I7: 3
A8: ·(06) | B8: ·ñ³íÁ áñå»ë Ï³É³Ý³íáñÙ³Ý ³ÛÉÁÝïñ³Ýù³ÛÇÝ Ë³÷³ÝÙ³Ý ÙÇçáó ÏÇñ³é»Éáõ Ù³ëÇÝ | D8: 27 | E8: 17 | F8: 8 | G8: 2 | I8: 3
A9: ¹(07) | B9: Ëáõ½³ñÏáõÃÛ³Ý Ï³ï³ñÙ³Ý Ù³ëÇÝ | D9: 229 | E9: 8 | F9: 219 | G9: 2 | I9: 4
A10: »(08) | B10: Ý³Ù³Ï³·ñáõÃÛ³Ý, Ñ»é³·ñ³Ï³Ý, ÷áuï³ÛÇÝ Ñ³Õáñ¹áõÙÝ»ñÇ ÑëÏáÕáõÃÛ³Ý ÙÇçÝáñ¹áõÃÛáõÝÝ»ñÇ Ù³ëÇÝ | D10: 120 | F10: 120
A11: ½(09) | B11: Ñ»é³Ëáu³ÛÇÝ Ï³Ù Ï³åÇ ³ÛÉ ÙÇçáóÝ»ñáí ï³ñíáÕ Ëáu³ÏóáõÃÛáõÝÝ»ñÇ ÉuÙ³Ý ¨ Ó³ÛÝ³·ñ³éÙ³Ý ÙÇçÝáñ¹áõÃÛáõÝÝ»ñÇ Ù³ëÇÝ
A12: ¿(10) | B12: Ñ»é³ËáëÝ»ñÇ Ùáõïù³ÛÇÝ ¨ »Éù³ÛÇÝ í»ñÍ³ÝÙ³Ý ÃáõÛÉïíáõÃÛáõÝ ëï³Ý³Éáõ ÙÇçÝáñ¹áõÃÛáõÝÝ»ñÇ Ù³ëÇÝ | D12: 153 | E12: 3 | F12: 150
A13: Á(11) | B13: Ñ»ï³ùÝÝáõÃÛ³Ý Ù³ñÙÝÇ ³ßË³ïáÕÇ, ùÝÝÇãÇ, ¹³ï³Ë³½Ç oå»ñ³ïÇí-Ñ»ï³Ëáõ½³Ï³Ý ·áñÍáÕáõÃÛáõÝÝ»ñ Çñ³Ï³Ý³óÝáÕ Ù³ñÙÇÝÝ»ñÇ ³ÝoñÇÝ³Ï³Ý ¨ ³ÝÑÇÙÝ áñáßáõÙÝ»ñÇ ¨ ·áñÍáÕáõÃÛáõÝÝ»ñÇ ¹»Ù µáÕáùÝ»ñÇ Ù³ëÇÝ | D13: 32 | E13: 22 | F13: 4 | H13: 6 | I13: 16
A14: 2. ¸³ï³Ï³Ý ³Ïï»ñÇ Ñ»ï Ï³ï³ñÙ³Ý Ñ»ï Ï³åí³Í Ñ³ñó»ñÇ ÉáõÍÙ³Ý áÉáñï
A15: ³(12) | B15: å³ïÅÇó å³ÛÙ³Ý³Ï³Ý í³Õ³Å³ÙÏ»ï ³½³ï»Éáõ Ù³ëÇÝ
A16: µ(13) | B16: ÀÝ¹³Ù»ÝÁ å³ïÇÅÁ ÷á÷áË»Éáõ, Ñ»ï³Ó·»Éáõ ¨ å³ïÅÇó ³½³ï»Éáõ Ù³uÇÝ ÙÇçÝáñ¹áõÃÛáõÝÝ»ñ | D16: 120 | E16: 39 | F16: 73 | G16: 1 | H16: 5 | I16: 3
A17: ·(14) | B17: Ñ³ñÏ³¹Çñ µáõÅÙ³Ý ï»ë³ÏÇ ÷á÷áËáõÃÛ³Ý Ù³ëÇÝ | D17: 2 | F17: 2
A18: ¹(15) | B18: ³ÛÉ ÙÇçÝáñ¹áõÃÛáõÝÝ»ñ | D18: 19 | E18: 2 | F18: 17
A19: ÀÜ¸²ØºÜÀ | D19: 1007 | F19: 886 | G19: 5 | H19: 11 | I19: 49
A22: /16/ | B22: դատական հանձնարարություն | D22: 18 | E22: 2 | F22: 10 | G22: 1 | H22: 5
A23: /06/ | B23: կալանքի վերահաստատում | D23: 28 | E23: 2 | F23: 26 | I23: 2
C25: 2-գործ միացվել է

Sheet ajapnyak
A1: Հավելված 2 Հայաստանի Հանրապետության Դատարանների նախագահների խորհրդի 2007թ. ¹»Ïï»Ùµ»ñÇ 21-ի թիվ 23Լ որոշման
A2: ÐÐ ÀÜ¸Ð²Üàôð Æð²ì²êàôÂÚ²Ü ¸²î²ð²ÜàôØ ØÆÜâ¸²î²Î²Ü ì²ðàôÚÂÆ ÜÎ²îØ²Ø´ ¸²î²Î²Ü ìºð²ÐêÎàÔàôÂÚ²Ü, ¸²î²Î²Ü ²ÎîºðÆ Î²î²ðØ²Ü Ðºî Î²äì²Ì Ð²ðòºðÆ ìºð²´ºðÚ²È 2013 թվականի
A3: ØÇçÝáñ¹áõÃÛáõÝÝ»ñÇ ùÝÝ³ñÏÙ³Ý ÁÝÃ³óùÁ | D3: Ü»ñÏ³Û³óí³Í ÙÇçÝáñ¹áõÃÛáõÝÝ»ñÇ ù³Ý³ÏÁ | E3: Ù»ñÅí»É ¿ | F3: µ³í³ñ³ñí»É ¿ | G3: ÃáÕÝí»É ³é³Ýó ùÝÝáõÃÛ³Ý | H3: ³Ý³í³ñï | I3: µáÕáù³ñÏí»É ¿ í»ñ³ùÝÝÇã ¹³ï³ñ³Ý
A4: êïáõ·Çã Ñ³í³ë³ñáõÙ` 1=2+3+4+5
A5: 1. ØÇÝã¹³ï³Ï³Ý í³ñáõÛÃÇ ÝÏ³ïÙ³Ùµ ¹³ï³Ï³Ý í»ñ³ÑëÏáÕáõÃÛ³Ý áÉáñï | D5: 1 | E5: 2 | F5: 3 | G5: 4 | H5: 5 | I5: 6
A6: ³(06) | B6: Ï³É³ÝùÁ áñå»ë Ë³÷³ÝÙ³Ý ÙÇçáó ÏÇñ³é»Éáõ Ù³ëÇÝ | D6: 91 | E6: 7 | F6: 84 | G6: 0 | H6: 0 | I6: 5
A7: µ(06) | B7: Ï³É³ÝùÇ Å³ÙÏ»ïÇ »ñÏ³ñ³óÝ»Éáõ Ù³ëÇÝ | D7: 45 | E7: 3 | F7: 42 | G7: 0 | H7: 0 | I7: 10
A8: ·(06) | B8: ·ñ³íÁ áñå»ë Ï³É³Ý³íáñÙ³Ý ³ÛÉÁÝïñ³Ýù³ÛÇÝ Ë³÷³ÝÙ³Ý ÙÇçáó ÏÇñ³é»Éáõ Ù³ëÇÝ | D8: 21 | E8: 18 | F8: 3 | G8: 0 | H8: 0 | I8: 6
A9: ¹(07) | B9: Ëáõ½³ñÏáõÃÛ³Ý Ï³ï³ñÙ³Ý Ù³ëÇÝ | D9: 138 | E9: 18 | F9: 120 | G9: 0 | H9: 0 | I9: 0
A10: »(08) | B10: Ý³Ù³Ï³·ñáõÃÛ³Ý, Ñ»é³·ñ³Ï³Ý, ÷áuï³ÛÇÝ Ñ³Õáñ¹áõÙÝ»ñÇ ÑëÏáÕáõÃÛ³Ý ÙÇçÝáñ¹áõÃÛáõÝÝ»ñÇ Ù³ëÇÝ
A11: ½(09) | B11: Ñ»é³Ëáu³ÛÇÝ Ï³Ù Ï³åÇ ³ÛÉ ÙÇçáóÝ»ñáí ï³ñíáÕ Ëáu³ÏóáõÃÛáõÝÝ»ñÇ ÉuÙ³Ý ¨ Ó³ÛÝ³·ñ³éÙ³Ý ÙÇçÝáñ¹áõÃÛáõÝÝ»ñÇ Ù³ëÇÝ | D11: 4 | E11: 0 | F11: 4 | G11: 0 | H11: 0 | I11: 0
A12: ¿(10) | B12: Ñ»é³ËáëÝ»ñÇ Ùáõïù³ÛÇÝ ¨ »Éù³ÛÇÝ í»ñÍ³ÝÙ³Ý ÃáõÛÉïíáõÃÛáõÝ ëï³Ý³Éáõ ÙÇçÝáñ¹áõÃÛáõÝÝ»ñÇ Ù³ëÇÝ | D12: 115 | E12: 10 | F12: 105 | G12: 0 | H12: 0 | I12: 2
A13: Á(11) | B13: Ñ»ï³ùÝÝáõÃÛ³Ý Ù³ñÙÝÇ ³ßË³ïáÕÇ, ùÝÝÇãÇ, ¹³ï³Ë³½Ç oå»ñ³ïÇí-Ñ»ï³Ëáõ½³Ï³Ý ·áñÍáÕáõÃÛáõÝÝ»ñ Çñ³Ï³Ý³óÝáÕ Ù³ñÙÇÝÝ»ñÇ ³ÝoñÇÝ³Ï³Ý ¨ ³ÝÑÇÙÝ áñáßáõÙÝ»ñÇ ¨ ·áñÍáÕáõÃÛáõÝÝ»ñÇ ¹»Ù µáÕáùÝ»ñÇ Ù³ëÇÝ | D13: 30 | E13: 11 | F13: 9 | G13: 0 | H13: 6 | I13: 11
A14: 2. ¸³ï³Ï³Ý ³Ïï»ñÇ Ñ»ï Ï³ï³ñÙ³Ý Ñ»ï Ï³åí³Í Ñ³ñó»ñÇ ÉáõÍÙ³Ý áÉáñï
A15: ³(12) | B15: å³ïÅÇó å³ÛÙ³Ý³Ï³Ý í³Õ³Å³ÙÏ»ï ³½³ï»Éáõ Ù³ëÇÝ
A16: µ(13) | B16: ÀÝ¹³Ù»ÝÁ å³ïÇÅÁ ÷á÷áË»Éáõ, Ñ»ï³Ó·»Éáõ ¨ å³ïÅÇó ³½³ï»Éáõ Ù³uÇÝ ÙÇçÝáñ¹áõÃÛáõÝÝ»ñ | D16: 58 | E16: 23 | F16: 32 | G16: 0 | H16: 2 | I16: 8
A17: ·(14) | B17: Ñ³ñÏ³¹Çñ µáõÅÙ³Ý ï»ë³ÏÇ ÷á÷áËáõÃÛ³Ý Ù³ëÇÝ
A18: ¹(15) | B18: ³ÛÉ ÙÇçÝáñ¹áõÃÛáõÝÝ»ñ | D18: 23 | E18: 6 | F18: 14 | G18: 2 | H18: 0 | I18: 0
A19: ÀÜ¸²ØºÜÀ | D19: =SUM(D6:D18) -> 525 | E19: =SUM(E6:E18) -> 96 | F19: =SUM(F6:F18) -> 413 | G19: =SUM(G6:G18) -> 2 | H19: =SUM(H6:H18) -> 8 | I19: =SUM(I6:I18) -> 42
A22: /16/ | B22: դատական հանձնարարություն | D22: 7 | E22: 1 | F22: 2 | G22: 0 | H22: 4 | I22: 0
A23: /06/ | B23: կալանքի վերահաստատում | D23: 10 | E23: 0 | F23: 10 | G23: 0 | H23: 0 | I23: 1
C25: 6 գործ միացվել է

Sheet arabkir
A1: Հավելված 2 Հայաստանի Հանրապետության Դատարանների նախագահների խորհրդի 2007թ. ¹»Ïï»Ùµ»ñÇ 21-ի թիվ 23Լ որոշման
A2: ÐÐ ÀÜ¸Ð²Üàôð Æð²ì²êàôÂÚ²Ü ¸²î²ð²ÜàôØ ØÆÜâ¸²î²Î²Ü ì²ðàôÚÂÆ ÜÎ²îØ²Ø´ ¸²î²Î²Ü ìºð²ÐêÎàÔàôÂÚ²Ü, ¸²î²Î²Ü ²ÎîºðÆ Î²î²ðØ²Ü Ðºî Î²äì²Ì Ð²ðòºðÆ ìºð²´ºðÚ²È 2013 թվականի
A3: ØÇçÝáñ¹áõÃÛáõÝÝ»ñÇ ùÝÝ³ñÏÙ³Ý ÁÝÃ³óùÁ | D3: Ü»ñÏ³Û³óí³Í ÙÇçÝáñ¹áõÃÛáõÝÝ»ñÇ ù³Ý³ÏÁ | E3: Ù»ñÅí»É ¿ | F3: µ³í³ñ³ñí»É ¿ | G3: ÃáÕÝí»É ³é³Ýó ùÝÝáõÃÛ³Ý | H3: ³Ý³í³ñï | I3: µáÕáù³ñÏí»É ¿ í»ñ³ùÝÝÇã ¹³ï³ñ³Ý
A4: êïáõ·Çã Ñ³í³ë³ñáõÙ` 1=2+3+4+5
A5: 1. ØÇÝã¹³ï³Ï³Ý í³ñáõÛÃÇ ÝÏ³ïÙ³Ùµ ¹³ï³Ï³Ý í»ñ³ÑëÏáÕáõÃÛ³Ý áÉáñï | D5: 1 | E5: 2 | F5: 3 | G5: 4 | H5: 5 | I5: 6
A6: ³(06) | B6: Ï³É³ÝùÁ áñå»ë Ë³÷³ÝÙ³Ý ÙÇçáó ÏÇñ³é»Éáõ Ù³ëÇÝ | D6: 262 | E6: 15 | F6: 245 | G6: 2 | I6: 42
A7: µ(06) | B7: Ï³É³ÝùÇ Å³ÙÏ»ïÇ »ñÏ³ñ³óÝ»Éáõ Ù³ëÇÝ | D7: 120 | E7: 2 | F7: 113 | G7: 2 | H7: 3 | I7: 29
A8: ·(06) | B8: ·ñ³íÁ áñå»ë Ï³É³Ý³íáñÙ³Ý ³ÛÉÁÝïñ³Ýù³ÛÇÝ Ë³÷³ÝÙ³Ý ÙÇçáó ÏÇñ³é»Éáõ Ù³ëÇÝ | D8: 5 | E8: 3 | F8: 1 | G8: 1 | I8: 5
A9: ¹(07) | B9: Ëáõ½³ñÏáõÃÛ³Ý Ï³ï³ñÙ³Ý Ù³ëÇÝ | D9: 271 | E9: 2 | F9: 264 | G9: 5 | I9: 1
A10: »(08) | B10: Ý³Ù³Ï³·ñáõÃÛ³Ý, Ñ»é³·ñ³Ï³Ý, ÷áuï³ÛÇÝ Ñ³Õáñ¹áõÙÝ»ñÇ ÑëÏáÕáõÃÛ³Ý ÙÇçÝáñ¹áõÃÛáõÝÝ»ñÇ Ù³ëÇÝ | D10: 2 | F10: 2
A11: ½(09) | B11: Ñ»é³Ëáu³ÛÇÝ Ï³Ù Ï³åÇ ³ÛÉ ÙÇçáóÝ»ñáí ï³ñíáÕ Ëáu³ÏóáõÃÛáõÝÝ»ñÇ ÉuÙ³Ý ¨ Ó³ÛÝ³·ñ³éÙ³Ý ÙÇçÝáñ¹áõÃÛáõÝÝ»ñÇ Ù³ëÇÝ | D11: 107 | F11: 107
A12: ¿(10) | B12: Ñ»é³ËáëÝ»ñÇ Ùáõïù³ÛÇÝ ¨ »Éù³ÛÇÝ í»ñÍ³ÝÙ³Ý ÃáõÛÉïíáõÃÛáõÝ ëï³Ý³Éáõ ÙÇçÝáñ¹áõÃÛáõÝÝ»ñÇ Ù³ëÇÝ | D12: 318 | E12: 4 | F12: 313 | G12: 1
A13: Á(11) | B13: Ñ»ï³ùÝÝáõÃÛ³Ý Ù³ñÙÝÇ ³ßË³ïáÕÇ, ùÝÝÇãÇ, ¹³ï³Ë³½Ç oå»ñ³ïÇí-Ñ»ï³Ëáõ½³Ï³Ý ·áñÍáÕáõÃÛáõÝÝ»ñ Çñ³Ï³Ý³óÝáÕ Ù³ñÙÇÝÝ»ñÇ ³ÝoñÇÝ³Ï³Ý ¨ ³ÝÑÇÙÝ áñáßáõÙÝ»ñÇ ¨ ·áñÍáÕáõÃÛáõÝÝ»ñÇ ¹»Ù µáÕáùÝ»ñÇ Ù³ëÇÝ | D13: 65 | E13: 43 | F13: 7 | G13: 6 | H13: 6 | I13: 38
A14: 2. ¸³ï³Ï³Ý ³Ïï»ñÇ Ñ»ï Ï³ï³ñÙ³Ý Ñ»ï Ï³åí³Í Ñ³ñó»ñÇ ÉáõÍÙ³Ý áÉáñï
A15: ³(12) | B15: å³ïÅÇó å³ÛÙ³Ý³Ï³Ý í³Õ³Å³ÙÏ»ï ³½³ï»Éáõ Ù³ëÇÝ | D15: 68 | E15: 18 | F15: 40 | G15: 6 | H15: 4 | I15: 1
A16: µ(13) | B16: ÀÝ¹³Ù»ÝÁ å³ïÇÅÁ ÷á÷áË»Éáõ, Ñ»ï³Ó·»Éáõ ¨ å³ïÅÇó ³½³ï»Éáõ Ù³uÇÝ ÙÇçÝáñ¹áõÃÛáõÝÝ»ñ | D16: 9 | F16: 9
A17: ·(14) | B17: Ñ³ñÏ³¹Çñ µáõÅÙ³Ý ï»ë³ÏÇ ÷á÷áËáõÃÛ³Ý Ù³ëÇÝ | D17: 5 | F17: 3 | G17: 2
A18: ¹(15) | B18: ³ÛÉ ÙÇçÝáñ¹áõÃÛáõÝÝ»ñ
A19: ÀÜ¸²ØºÜÀ | D19: =SUM(D6:D18) -> 1232 | E19: =SUM(E6:E18) -> 87 | F19: =SUM(F6:F18) -> 1104 | G19: =SUM(G6:G18) -> 25 | H19: =SUM(H6:H18) -> 13 | I19: =SUM(I6:I18) -> 116
A22: /16/ | B22: դատական հանձնարարություն | D22: 14 | E22: 2 | F22: 3 | H22: 8
A23: /06/ | B23: կալանքի վերահաստատում | D23: 28 | E23: 1 | F23: 27 | I23: 4
C25: 1-գործ ուղ. ընդդատ.
C26: 4-գործ միացվել է

Sheet avan
A1: Հավելված 2 Հայաստանի Հանրապետության Դատարանների նախագահների խորհրդի 2007թ. ¹»Ïï»Ùµ»ñÇ 21-ի թիվ 23Լ որոշման
A2: ÐÐ ÀÜ¸Ð²Üàôð Æð²ì²êàôÂÚ²Ü ¸²î²ð²ÜàôØ ØÆÜâ¸²î²Î²Ü ì²ðàôÚÂÆ ÜÎ²îØ²Ø´ ¸²î²Î²Ü ìºð²ÐêÎàÔàôÂÚ²Ü, ¸²î²Î²Ü ²ÎîºðÆ Î²î²ðØ²Ü Ðºî Î²äì²Ì Ð²ðòºðÆ ìºð²´ºðÚ²È2013 թվականի
A3: ØÇçÝáñ¹áõÃÛáõÝÝ»ñÇ ùÝÝ³ñÏÙ³Ý ÁÝÃ³óùÁ | D3: Ü»ñÏ³Û³óí³Í ÙÇçÝáñ¹áõÃÛáõÝÝ»ñÇ ù³Ý³ÏÁ | E3: Ù»ñÅí»É ¿ | F3: µ³í³ñ³ñí»É ¿ | G3: ÃáÕÝí»É ³é³Ýó ùÝÝáõÃÛ³Ý | H3: ³Ý³í³ñï | I3: µáÕáù³ñÏí»É ¿ í»ñ³ùÝÝÇã ¹³ï³ñ³Ý
A4: êïáõ·Çã Ñ³í³ë³ñáõÙ` 1=2+3+4+5
A5: 1. ØÇÝã¹³ï³Ï³Ý í³ñáõÛÃÇ ÝÏ³ïÙ³Ùµ ¹³ï³Ï³Ý í»ñ³ÑëÏáÕáõÃÛ³Ý áÉáñï | D5: 1 | E5: 2 | F5: 3 | G5: 4 | H5: 5 | I5: 6
A6: ³(06) | B6: Ï³É³ÝùÁ áñå»ë Ë³÷³ÝÙ³Ý ÙÇçáó ÏÇñ³é»Éáõ Ù³ëÇÝ | D6: 166 | E6: 10 | F6: 156 | I6: 12
A7: µ(06) | B7: Ï³É³ÝùÇ Å³ÙÏ»ïÇ »ñÏ³ñ³óÝ»Éáõ Ù³ëÇÝ | D7: 43 | F7: 43 | I7: 7
A8: ·(06) | B8: ·ñ³íÁ áñå»ë Ï³É³Ý³íáñÙ³Ý ³ÛÉÁÝïñ³Ýù³ÛÇÝ Ë³÷³ÝÙ³Ý ÙÇçáó ÏÇñ³é»Éáõ Ù³ëÇÝ | D8: 40 | E8: 30 | F8: 10 | I8: 6
A9: ¹(07) | B9: Ëáõ½³ñÏáõÃÛ³Ý Ï³ï³ñÙ³Ý Ù³ëÇÝ | D9: 160 | E9: 2 | F9: 158
A10: »(08) | B10: Ý³Ù³Ï³·ñáõÃÛ³Ý, Ñ»é³·ñ³Ï³Ý, ÷áuï³ÛÇÝ Ñ³Õáñ¹áõÙÝ»ñÇ ÑëÏáÕáõÃÛ³Ý ÙÇçÝáñ¹áõÃÛáõÝÝ»ñÇ Ù³ëÇÝ
A11: ½(09) | B11: Ñ»é³Ëáu³ÛÇÝ Ï³Ù Ï³åÇ ³ÛÉ ÙÇçáóÝ»ñáí ï³ñíáÕ Ëáu³ÏóáõÃÛáõÝÝ»ñÇ ÉuÙ³Ý ¨ Ó³ÛÝ³·ñ³éÙ³Ý ÙÇçÝáñ¹áõÃÛáõÝÝ»ñÇ Ù³ëÇÝ | D11: 6 | F11: 6
A12: ¿(10) | B12: Ñ»é³ËáëÝ»ñÇ Ùáõïù³ÛÇÝ ¨ »Éù³ÛÇÝ í»ñÍ³ÝÙ³Ý ÃáõÛÉïíáõÃÛáõÝ ëï³Ý³Éáõ ÙÇçÝáñ¹áõÃÛáõÝÝ»ñÇ Ù³ëÇÝ | D12: 140 | E12: 1 | F12: 139
A13: Á(11) | B13: Ñ»ï³ùÝÝáõÃÛ³Ý Ù³ñÙÝÇ ³ßË³ïáÕÇ, ùÝÝÇãÇ, ¹³ï³Ë³½Ç oå»ñ³ïÇí-Ñ»ï³Ëáõ½³Ï³Ý ·áñÍáÕáõÃÛáõÝÝ»ñ Çñ³Ï³Ý³óÝáÕ Ù³ñÙÇÝÝ»ñÇ ³ÝoñÇÝ³Ï³Ý ¨ ³ÝÑÇÙÝ áñáßáõÙÝ»ñÇ ¨ ·áñÍáÕáõÃÛáõÝÝ»ñÇ ¹»Ù µáÕáùÝ»ñÇ Ù³ëÇÝ | D13: 25 | E13: 14 | F13: 6 | H13: 4 | I13: 10
A14: 2. ¸³ï³Ï³Ý ³Ïï»ñÇ Ñ»ï Ï³ï³ñÙ³Ý Ñ»ï Ï³åí³Í Ñ³ñó»ñÇ ÉáõÍÙ³Ý áÉáñï
A15: ³(12) | B15: å³ïÅÇó å³ÛÙ³Ý³Ï³Ý í³Õ³Å³ÙÏ»ï ³½³ï»Éáõ Ù³ëÇÝ
A16: µ(13) | B16: ÀÝ¹³Ù»ÝÁ å³ïÇÅÁ ÷á÷áË»Éáõ, Ñ»ï³Ó·»Éáõ ¨ å³ïÅÇó ³½³ï»Éáõ Ù³uÇÝ ÙÇçÝáñ¹áõÃÛáõÝÝ»ñ | D16: 86 | E16: 38 | F16: 43 | G16: 2 | H16: 2 | I16: 1
A17: ·(14) | B17: Ñ³ñÏ³¹Çñ µáõÅÙ³Ý ï»ë³ÏÇ ÷á÷áËáõÃÛ³Ý Ù³ëÇÝ | D17: 32 | E17: 4 | F17: 25 | H17: 3 | I17: 1
A18: ¹(15) | B18: ³ÛÉ ÙÇçÝáñ¹áõÃÛáõÝÝ»ñ | D18: 22 | E18: 5 | F18: 17 | I18: 2
A19: ÀÜ¸²ØºÜÀ | D19: 720 | E19: 104 | F19: 603 | G19: 2 | H19: 9 | I19: 39
A22: /16/ | B22: դատական հանձնարարություն | D22: 20 | E22: 1 | F22: 10 | H22: 7
A23: /06/ | B23: կալանքի վերահաստատում | D23: 15 | E23: 2 | F23: 13 | I23: 3
C25: 2-գործ միացվել է
C26: 2- գործվերադարձվել է

Sheet kentron
A1: Հավելված 2 Հայաստանի Հանրապետության Դատարանների նախագահների խորհրդի 2007թ. ¹»Ïï»Ùµ»ñÇ 21-ի թիվ 23Լ որոշման
A2: ÐÐ ÀÜ¸Ð²Üàôð Æð²ì²êàôÂÚ²Ü ¸²î²ð²ÜàôØ ØÆÜâ¸²î²Î²Ü ì²ðàôÚÂÆ ÜÎ²îØ²Ø´ ¸²î²Î²Ü ìºð²ÐêÎàÔàôÂÚ²Ü, ¸²î²Î²Ü ²ÎîºðÆ Î²î²ðØ²Ü Ðºî Î²äì²Ì Ð²ðòºðÆ ìºð²´ºðÚ²È
A3: ØÇçÝáñ¹áõÃÛáõÝÝ»ñÇ ùÝÝ³ñÏÙ³Ý ÁÝÃ³óùÁ | D3: Ü»ñÏ³Û³óí³Í ÙÇçÝáñ¹áõÃÛáõÝÝ»ñÇ ù³Ý³ÏÁ | E3: Ù»ñÅí»É ¿ | F3: µ³í³ñ³ñí»É ¿ | G3: ÃáÕÝí»É ³é³Ýó ùÝÝáõÃÛ³Ý | H3: ³Ý³í³ñï | I3: µáÕáù³ñÏí»É ¿ í»ñ³ùÝÝÇã ¹³ï³ñ³Ý
A4: êïáõ·Çã Ñ³í³ë³ñáõÙ` 1=2+3+4+5
A5: 1. ØÇÝã¹³ï³Ï³Ý í³ñáõÛÃÇ ÝÏ³ïÙ³Ùµ ¹³ï³Ï³Ý í»ñ³ÑëÏáÕáõÃÛ³Ý áÉáñï | D5: 1 | E5: 2 | F5: 3 | G5: 4 | H5: 5 | I5: 6
A6: ³(06) | B6: Ï³É³ÝùÁ áñå»ë Ë³÷³ÝÙ³Ý ÙÇçáó ÏÇñ³é»Éáõ Ù³ëÇÝ | D6: 477 | E6: 16 | F6: 458 | G6: 3 | H6: 0 | I6: 109
A7: µ(06) | B7: Ï³É³ÝùÇ Å³ÙÏ»ïÇ »ñÏ³ñ³óÝ»Éáõ Ù³ëÇÝ | D7: 553 | E7: 5 | F7: 531 | G7: 4 | H7: 13 | I7: 128
A8: ·(06) | B8: ·ñ³íÁ áñå»ë Ï³É³Ý³íáñÙ³Ý ³ÛÉÁÝïñ³Ýù³ÛÇÝ Ë³÷³ÝÙ³Ý ÙÇçáó ÏÇñ³é»Éáõ Ù³ëÇÝ | D8: 90 | E8: 75 | F8: 10 | G8: 3 | H8: 2 | I8: 17
A9: ¹(07) | B9: Ëáõ½³ñÏáõÃÛ³Ý Ï³ï³ñÙ³Ý Ù³ëÇÝ | D9: 1121 | E9: 23 | F9: 1093 | G9: 5 | H9: 0 | I9: 1
A10: »(08) | B10: Ý³Ù³Ï³·ñáõÃÛ³Ý, Ñ»é³·ñ³Ï³Ý, ÷áuï³ÛÇÝ Ñ³Õáñ¹áõÙÝ»ñÇ ÑëÏáÕáõÃÛ³Ý ÙÇçÝáñ¹áõÃÛáõÝÝ»ñÇ Ù³ëÇÝ | D10: 69 | E10: 0 | F10: 69 | G10: 0 | H10: 0 | I10: 0
A11: ½(09) | B11: Ñ»é³Ëáu³ÛÇÝ Ï³Ù Ï³åÇ ³ÛÉ ÙÇçáóÝ»ñáí ï³ñíáÕ Ëáu³ÏóáõÃÛáõÝÝ»ñÇ ÉuÙ³Ý ¨ Ó³ÛÝ³·ñ³éÙ³Ý ÙÇçÝáñ¹áõÃÛáõÝÝ»ñÇ Ù³ëÇÝ | D11: 20 | E11: 0 | F11: 20 | G11: 0 | H11: 0 | I11: 0
A12: ¿(10) | B12: Ñ»é³ËáëÝ»ñÇ Ùáõïù³ÛÇÝ ¨ »Éù³ÛÇÝ í»ñÍ³ÝÙ³Ý ÃáõÛÉïíáõÃÛáõÝ ëï³Ý³Éáõ ÙÇçÝáñ¹áõÃÛáõÝÝ»ñÇ Ù³ëÇÝ | D12: 1034 | E12: 6 | F12: 1027 | G12: 1 | H12: 0 | I12: 0
A13: Á(11) | B13: Ñ»ï³ùÝÝáõÃÛ³Ý Ù³ñÙÝÇ ³ßË³ïáÕÇ, ùÝÝÇãÇ, ¹³ï³Ë³½Ç oå»ñ³ïÇí-Ñ»ï³Ëáõ½³Ï³Ý ·áñÍáÕáõÃÛáõÝÝ»ñ Çñ³Ï³Ý³óÝáÕ Ù³ñÙÇÝÝ»ñÇ ³ÝoñÇÝ³Ï³Ý ¨ ³ÝÑÇÙÝ áñáßáõÙÝ»ñÇ ¨ ·áñÍáÕáõÃÛáõÝÝ»ñÇ ¹»Ù µáÕáùÝ»ñÇ Ù³ëÇÝ | D13: 222 | E13: 128 | F13: 19 | G13: 27 | H13: 44 | I13: 89
A14: 2. ¸³ï³Ï³Ý ³Ïï»ñÇ Ñ»ï Ï³ï³ñÙ³Ý Ñ»ï Ï³åí³Í Ñ³ñó»ñÇ ÉáõÍÙ³Ý áÉáñï
A15: ³(12) | B15: å³ïÅÇó å³ÛÙ³Ý³Ï³Ý í³Õ³Å³ÙÏ»ï ³½³ï»Éáõ Ù³ëÇÝ | D15: 22 | E15: 5 | F15: 16 | G15: 0 | H15: 1 | I15: 5
A16: µ(13) | B16: ÀÝ¹³Ù»ÝÁ å³ïÇÅÁ ÷á÷áË»Éáõ, Ñ»ï³Ó·»Éáõ ¨ å³ïÅÇó ³½³ï»Éáõ Ù³uÇÝ ÙÇçÝáñ¹áõÃÛáõÝÝ»ñ | D16: 95 | E16: 28 | F16: 52 | G16: 10 | H16: 1 | I16: 1
A17: ·(14) | B17: Ñ³ñÏ³¹Çñ µáõÅÙ³Ý ï»ë³ÏÇ ÷á÷áËáõÃÛ³Ý Ù³ëÇÝ | D17: 101 | E17: 4 | F17: 97 | G17: 0 | H17: 0 | I17: 0
A18: ¹(15) | B18: ³ÛÉ ÙÇçÝáñ¹áõÃÛáõÝÝ»ñ | D18: 82 | E18: 16 | F18: 44 | G18: 8 | H18: 11 | I18: 8
A19: ÀÜ¸²ØºÜÀ | D19: =SUM(D6:D18) -> 3886 | E19: =SUM(E6:E18) -> 306 | F19: =SUM(F6:F18) -> 3436 | G19: =SUM(G6:G18) -> 61 | H19: =SUM(H6:H18) -> 72 | I19: =SUM(I6:I18) -> 358
A22: /16/ | B22: դատական հանձնարարություն | D22: 17 | E22: 1 | F22: 6 | G22: 2 | H22: 7 | I22: 1
A23: /06/ | B23: կալանքի վերահաստատում | D23: 70 | E23: 5 | F23: 65 | G23: 0 | H23: 0
C27: 12 գորժ-ուղ. Ընդ.

Sheet malatia
A1: Հավելված 2 Հայաստանի Հանրապետության Դատարանների նախագահների խորհրդի 2007թ. ¹»Ïï»Ùµ»ñÇ 21-ի թիվ 23Լ որոշման
A2: ÐÐ ÀÜ¸Ð²Üàôð Æð²ì²êàôÂÚ²Ü ¸²î²ð²ÜàôØ ØÆÜâ¸²î²Î²Ü ì²ðàôÚÂÆ ÜÎ²îØ²Ø´ ¸²î²Î²Ü ìºð²ÐêÎàÔàôÂÚ²Ü, ¸²î²Î²Ü ²ÎîºðÆ Î²î²ðØ²Ü Ðºî Î²äì²Ì Ð²ðòºðÆ ìºð²´ºðÚ²È2013 թվականի
A3: ØÇçÝáñ¹áõÃÛáõÝÝ»ñÇ ùÝÝ³ñÏÙ³Ý ÁÝÃ³óùÁ | D3: Ü»ñÏ³Û³óí³Í ÙÇçÝáñ¹áõÃÛáõÝÝ»ñÇ ù³Ý³ÏÁ | E3: Ù»ñÅí»É ¿ | F3: µ³í³ñ³ñí»É ¿ | G3: ÃáÕÝí»É ³é³Ýó ùÝÝáõÃÛ³Ý | H3: ³Ý³í³ñï | I3: µáÕáù³ñÏí»É ¿ í»ñ³ùÝÝÇã ¹³ï³ñ³Ý
A4: êïáõ·Çã Ñ³í³ë³ñáõÙ` 1=2+3+4+5
A5: 1. ØÇÝã¹³ï³Ï³Ý í³ñáõÛÃÇ ÝÏ³ïÙ³Ùµ ¹³ï³Ï³Ý í»ñ³ÑëÏáÕáõÃÛ³Ý áÉáñï | D5: 1 | E5: 2 | F5: 3 | G5: 4 | H5: 5 | I5: 6
A6: ³(06) | B6: Ï³É³ÝùÁ áñå»ë Ë³÷³ÝÙ³Ý ÙÇçáó ÏÇñ³é»Éáõ Ù³ëÇÝ | D6: 135 | E6: 6 | F6: 129 | I6: 7
A7: µ(06) | B7: Ï³É³ÝùÇ Å³ÙÏ»ïÇ »ñÏ³ñ³óÝ»Éáõ Ù³ëÇÝ | D7: 41 | F7: 38 | G7: 1 | H7: 2 | I7: 8
A8: ·(06) | B8: ·ñ³íÁ áñå»ë Ï³É³Ý³íáñÙ³Ý ³ÛÉÁÝïñ³Ýù³ÛÇÝ Ë³÷³ÝÙ³Ý ÙÇçáó ÏÇñ³é»Éáõ Ù³ëÇÝ | D8: 26 | E8: 17 | F8: 9 | I8: 10
A9: ¹(07) | B9: Ëáõ½³ñÏáõÃÛ³Ý Ï³ï³ñÙ³Ý Ù³ëÇÝ | D9: 159 | F9: 159
A10: »(08) | B10: Ý³Ù³Ï³·ñáõÃÛ³Ý, Ñ»é³·ñ³Ï³Ý, ÷áuï³ÛÇÝ Ñ³Õáñ¹áõÙÝ»ñÇ ÑëÏáÕáõÃÛ³Ý ÙÇçÝáñ¹áõÃÛáõÝÝ»ñÇ Ù³ëÇÝ | D10: 4 | E10: 4
A11: ½(09) | B11: Ñ»é³Ëáu³ÛÇÝ Ï³Ù Ï³åÇ ³ÛÉ ÙÇçáóÝ»ñáí ï³ñíáÕ Ëáu³ÏóáõÃÛáõÝÝ»ñÇ ÉuÙ³Ý ¨ Ó³ÛÝ³·ñ³éÙ³Ý ÙÇçÝáñ¹áõÃÛáõÝÝ»ñÇ Ù³ëÇÝ | D11: 26 | F11: 26
A12: ¿(10) | B12: Ñ»é³ËáëÝ»ñÇ Ùáõïù³ÛÇÝ ¨ »Éù³ÛÇÝ í»ñÍ³ÝÙ³Ý ÃáõÛÉïíáõÃÛáõÝ ëï³Ý³Éáõ ÙÇçÝáñ¹áõÃÛáõÝÝ»ñÇ Ù³ëÇÝ | D12: 243 | F12: 243
A13: Á(11) | B13: Ñ»ï³ùÝÝáõÃÛ³Ý Ù³ñÙÝÇ ³ßË³ïáÕÇ, ùÝÝÇãÇ, ¹³ï³Ë³½Ç oå»ñ³ïÇí-Ñ»ï³Ëáõ½³Ï³Ý ·áñÍáÕáõÃÛáõÝÝ»ñ Çñ³Ï³Ý³óÝáÕ Ù³ñÙÇÝÝ»ñÇ ³ÝoñÇÝ³Ï³Ý ¨ ³ÝÑÇÙÝ áñáßáõÙÝ»ñÇ ¨ ·áñÍáÕáõÃÛáõÝÝ»ñÇ ¹»Ù µáÕáùÝ»ñÇ Ù³ëÇÝ | D13: 26 | E13: 21 | F13: 1 | G13: 1 | H13: 3 | I13: 16
A14: 2. ¸³ï³Ï³Ý ³Ïï»ñÇ Ñ»ï Ï³ï³ñÙ³Ý Ñ»ï Ï³åí³Í Ñ³ñó»ñÇ ÉáõÍÙ³Ý áÉáñï
A15: ³(12) | B15: å³ïÅÇó å³ÛÙ³Ý³Ï³Ý í³Õ³Å³ÙÏ»ï ³½³ï»Éáõ Ù³ëÇÝ
A16: µ(13) | B16: ÀÝ¹³Ù»ÝÁ å³ïÇÅÁ ÷á÷áË»Éáõ, Ñ»ï³Ó·»Éáõ ¨ å³ïÅÇó ³½³ï»Éáõ Ù³uÇÝ ÙÇçÝáñ¹áõÃÛáõÝÝ»ñ | D16: 64 | E16: 19 | F16: 35 | G16: 9 | H16: 1
A17: ·(14) | B17: Ñ³ñÏ³¹Çñ µáõÅÙ³Ý ï»ë³ÏÇ ÷á÷áËáõÃÛ³Ý Ù³ëÇÝ | D17: 4 | F17: 4
A18: ¹(15) | B18: ³ÛÉ ÙÇçÝáñ¹áõÃÛáõÝÝ»ñ | D18: 22 | E18: 2 | F18: 17 | G18: 1
A19: ÀÜ¸²ØºÜÀ | D19: =SUM(D6:D18) -> 750 | E19: =SUM(E6:E18) -> 69 | F19: =SUM(F6:F18) -> 661 | G19: =SUM(G6:G18) -> 12 | H19: =SUM(H6:H18) -> 6 | I19: =SUM(I6:I18) -> 41
A22: /16/ | B22: դատական հանձնարարություն | D22: 12 | F22: 4 | H22: 8
A23: /06/ | B23: կալանքի վերահաստատում | D23: 3 | F23: 3 | I23: 1
C25: 1-գործ ուղ. ընդ.
C26: 1 գործ վերադարձվելէ

Sheet shengavit
A1: Հավելված 2 Հայաստանի Հանրապետության Դատարանների նախագահների խորհրդի 2007թ. ¹»Ïï»Ùµ»ñÇ 21-ի թիվ 23Լ որոշման
A2: ÐÐ ÀÜ¸Ð²Üàôð Æð²ì²êàôÂÚ²Ü ¸²î²ð²ÜàôØ ØÆÜâ¸²î²Î²Ü ì²ðàôÚÂÆ ÜÎ²îØ²Ø´ ¸²î²Î²Ü ìºð²ÐêÎàÔàôÂÚ²Ü, ¸²î²Î²Ü ²ÎîºðÆ Î²î²ðØ²Ü Ðºî Î²äì²Ì Ð²ðòºðÆ ìºð²´ºðÚ²È2013 թվականի
A3: ØÇçÝáñ¹áõÃÛáõÝÝ»ñÇ ùÝÝ³ñÏÙ³Ý ÁÝÃ³óùÁ | D3: Ü»ñÏ³Û³óí³Í ÙÇçÝáñ¹áõÃÛáõÝÝ»ñÇ ù³Ý³ÏÁ | E3: Ù»ñÅí»É ¿ | F3: µ³í³ñ³ñí»É ¿ | G3: ÃáÕÝí»É ³é³Ýó ùÝÝáõÃÛ³Ý | H3: ³Ý³í³ñï | I3: µáÕáù³ñÏí»É ¿ í»ñ³ùÝÝÇã ¹³ï³ñ³Ý
A4: êïáõ·Çã Ñ³í³ë³ñáõÙ` 1=2+3+4+5
A5: 1. ØÇÝã¹³ï³Ï³Ý í³ñáõÛÃÇ ÝÏ³ïÙ³Ùµ ¹³ï³Ï³Ý í»ñ³ÑëÏáÕáõÃÛ³Ý áÉáñï | D5: 1 | E5: 2 | F5: 3 | G5: 4 | H5: 5 | I5: 6
A6: ³(06) | B6: Ï³É³ÝùÁ áñå»ë Ë³÷³ÝÙ³Ý ÙÇçáó ÏÇñ³é»Éáõ Ù³ëÇÝ | D6: 135 | E6: 1 | F6: 134 | I6: 12
A7: µ(06) | B7: Ï³É³ÝùÇ Å³ÙÏ»ïÇ »ñÏ³ñ³óÝ»Éáõ Ù³ëÇÝ | D7: 48 | F7: 46 | G7: 2 | I7: 11
A8: ·(06) | B8: ·ñ³íÁ áñå»ë Ï³É³Ý³íáñÙ³Ý ³ÛÉÁÝïñ³Ýù³ÛÇÝ Ë³÷³ÝÙ³Ý ÙÇçáó ÏÇñ³é»Éáõ Ù³ëÇÝ | D8: 31 | E8: 27 | F8: 4 | I8: 18
A9: ¹(07) | B9: Ëáõ½³ñÏáõÃÛ³Ý Ï³ï³ñÙ³Ý Ù³ëÇÝ | D9: 175 | E9: 2 | F9: 173 | I9: 2
A10: »(08) | B10: Ý³Ù³Ï³·ñáõÃÛ³Ý, Ñ»é³·ñ³Ï³Ý, ÷áuï³ÛÇÝ Ñ³Õáñ¹áõÙÝ»ñÇ ÑëÏáÕáõÃÛ³Ý ÙÇçÝáñ¹áõÃÛáõÝÝ»ñÇ Ù³ëÇÝ | D10: 11 | F10: 11
A11: ½(09) | B11: Ñ»é³Ëáu³ÛÇÝ Ï³Ù Ï³åÇ ³ÛÉ ÙÇçáóÝ»ñáí ï³ñíáÕ Ëáu³ÏóáõÃÛáõÝÝ»ñÇ ÉuÙ³Ý ¨ Ó³ÛÝ³·ñ³éÙ³Ý ÙÇçÝáñ¹áõÃÛáõÝÝ»ñÇ Ù³ëÇÝ | D11: 23 | F11: 23
A12: ¿(10) | B12: Ñ»é³ËáëÝ»ñÇ Ùáõïù³ÛÇÝ ¨ »Éù³ÛÇÝ í»ñÍ³ÝÙ³Ý ÃáõÛÉïíáõÃÛáõÝ ëï³Ý³Éáõ ÙÇçÝáñ¹áõÃÛáõÝÝ»ñÇ Ù³ëÇÝ | D12: 139 | E12: 1 | F12: 138
A13: Á(11) | B13: Ñ»ï³ùÝÝáõÃÛ³Ý Ù³ñÙÝÇ ³ßË³ïáÕÇ, ùÝÝÇãÇ, ¹³ï³Ë³½Ç oå»ñ³ïÇí-Ñ»ï³Ëáõ½³Ï³Ý ·áñÍáÕáõÃÛáõÝÝ»ñ Çñ³Ï³Ý³óÝáÕ Ù³ñÙÇÝÝ»ñÇ ³ÝoñÇÝ³Ï³Ý ¨ ³ÝÑÇÙÝ áñáßáõÙÝ»ñÇ ¨ ·áñÍáÕáõÃÛáõÝÝ»ñÇ ¹»Ù µáÕáùÝ»ñÇ Ù³ëÇÝ | D13: 15 | E13: 10 | G13: 2 | H13: 2 | I13: 5
A14: 2. ¸³ï³Ï³Ý ³Ïï»ñÇ Ñ»ï Ï³ï³ñÙ³Ý Ñ»ï Ï³åí³Í Ñ³ñó»ñÇ ÉáõÍÙ³Ý áÉáñï
A15: ³(12) | B15: å³ïÅÇó å³ÛÙ³Ý³Ï³Ý í³Õ³Å³ÙÏ»ï ³½³ï»Éáõ Ù³ëÇÝ | I15: =C15 -> 0
A16: µ(13) | B16: ÀÝ¹³Ù»ÝÁ å³ïÇÅÁ ÷á÷áË»Éáõ, Ñ»ï³Ó·»Éáõ ¨ å³ïÅÇó ³½³ï»Éáõ Ù³uÇÝ ÙÇçÝáñ¹áõÃÛáõÝÝ»ñ | D16: 104 | E16: 26 | F16: 56 | G16: 9 | H16: 11 | I16: 1
A17: ·(14) | B17: Ñ³ñÏ³¹Çñ µáõÅÙ³Ý ï»ë³ÏÇ ÷á÷áËáõÃÛ³Ý Ù³ëÇÝ
A18: ¹(15) | B18: ³ÛÉ ÙÇçÝáñ¹áõÃÛáõÝÝ»ñ | D18: 31 | E18: 2 | F18: 24 | G18: 3 | H18: 2 | I18: 1
A19: ÀÜ¸²ØºÜÀ | D19: =SUM(D6:D18) -> 712 | E19: =SUM(E6:E18) -> 69 | F19: =SUM(F6:F18) -> 609 | G19: =SUM(G6:G18) -> 16 | H19: =SUM(H6:H18) -> 15 | I19: =SUM(I6:I18) -> 50
A22: /16/ | B22: դատական հանձնարարություն | D22: 11 | F22: 4 | H22: 7
A23: /06/ | B23: կալանքի վերահաստատում | D23: 16 | F23: 16 | I23: 3
C25: 3-գործ ուղ. ընդ

Sheet erebuni
A1: Հավելված 2 Հայաստանի Հանրապետության Դատարանների նախագահների խորհրդի 2007թ. ¹»Ïï»Ùµ»ñÇ 21-ի թիվ 23Լ որոշման
A2: ÐÐ ÀÜ¸Ð²Üàôð Æð²ì²êàôÂÚ²Ü ¸²î²ð²ÜàôØ ØÆÜâ¸²î²Î²Ü ì²ðàôÚÂÆ ÜÎ²îØ²Ø´ ¸²î²Î²Ü ìºð²ÐêÎàÔàôÂÚ²Ü, ¸²î²Î²Ü ²ÎîºðÆ Î²î²ðØ²Ü Ðºî Î²äì²Ì Ð²ðòºðÆ ìºð²´ºðÚ²È 2013թվականի
A3: ØÇçÝáñ¹áõÃÛáõÝÝ»ñÇ ùÝÝ³ñÏÙ³Ý ÁÝÃ³óùÁ | D3: Ü»ñÏ³Û³óí³Í ÙÇçÝáñ¹áõÃÛáõÝÝ»ñÇ ù³Ý³ÏÁ | E3: Ù»ñÅí»É ¿ | F3: µ³í³ñ³ñí»É ¿ | G3: ÃáÕÝí»É ³é³Ýó ùÝÝáõÃÛ³Ý | H3: ³Ý³í³ñï | I3: µáÕáù³ñÏí»É ¿ í»ñ³ùÝÝÇã ¹³ï³ñ³Ý
A4: êïáõ·Çã Ñ³í³ë³ñáõÙ` 1=2+3+4+5
A5: 1. ØÇÝã¹³ï³Ï³Ý í³ñáõÛÃÇ ÝÏ³ïÙ³Ùµ ¹³ï³Ï³Ý í»ñ³ÑëÏáÕáõÃÛ³Ý áÉáñï | D5: 1 | E5: 2 | F5: 3 | G5: 4 | H5: 5 | I5: 6
A6: ³(06) | B6: Ï³É³ÝùÁ áñå»ë Ë³÷³ÝÙ³Ý ÙÇçáó ÏÇñ³é»Éáõ Ù³ëÇÝ | D6: 146 | E6: 5 | F6: 140 | G6: 1 | I6: 11
A7: µ(06) | B7: Ï³É³ÝùÇ Å³ÙÏ»ïÇ »ñÏ³ñ³óÝ»Éáõ Ù³ëÇÝ | D7: 80 | F7: 79 | G7: 1 | I7: 1
A8: ·(06) | B8: ·ñ³íÁ áñå»ë Ï³É³Ý³íáñÙ³Ý ³ÛÉÁÝïñ³Ýù³ÛÇÝ Ë³÷³ÝÙ³Ý ÙÇçáó ÏÇñ³é»Éáõ Ù³ëÇÝ | D8: 31 | E8: 19 | F8: 10 | G8: 1 | I8: 2
A9: ¹(07) | B9: Ëáõ½³ñÏáõÃÛ³Ý Ï³ï³ñÙ³Ý Ù³ëÇÝ | D9: 175 | E9: 5 | F9: 168 | G9: 2
A10: »(08) | B10: Ý³Ù³Ï³·ñáõÃÛ³Ý, Ñ»é³·ñ³Ï³Ý, ÷áuï³ÛÇÝ Ñ³Õáñ¹áõÙÝ»ñÇ ÑëÏáÕáõÃÛ³Ý ÙÇçÝáñ¹áõÃÛáõÝÝ»ñÇ Ù³ëÇÝ | D10: 60 | F10: 60
A11: ½(09) | B11: Ñ»é³Ëáu³ÛÇÝ Ï³Ù Ï³åÇ ³ÛÉ ÙÇçáóÝ»ñáí ï³ñíáÕ Ëáu³ÏóáõÃÛáõÝÝ»ñÇ ÉuÙ³Ý ¨ Ó³ÛÝ³·ñ³éÙ³Ý ÙÇçÝáñ¹áõÃÛáõÝÝ»ñÇ Ù³ëÇÝ | D11: 7 | E11: 1 | F11: 6
A12: ¿(10) | B12: Ñ»é³ËáëÝ»ñÇ Ùáõïù³ÛÇÝ ¨ »Éù³ÛÇÝ í»ñÍ³ÝÙ³Ý ÃáõÛÉïíáõÃÛáõÝ ëï³Ý³Éáõ ÙÇçÝáñ¹áõÃÛáõÝÝ»ñÇ Ù³ëÇÝ | D12: 260 | F12: 260
A13: Á(11) | B13: Ñ»ï³ùÝÝáõÃÛ³Ý Ù³ñÙÝÇ ³ßË³ïáÕÇ, ùÝÝÇãÇ, ¹³ï³Ë³½Ç oå»ñ³ïÇí-Ñ»ï³Ëáõ½³Ï³Ý ·áñÍáÕáõÃÛáõÝÝ»ñ Çñ³Ï³Ý³óÝáÕ Ù³ñÙÇÝÝ»ñÇ ³ÝoñÇÝ³Ï³Ý ¨ ³ÝÑÇÙÝ áñáßáõÙÝ»ñÇ ¨ ·áñÍáÕáõÃÛáõÝÝ»ñÇ ¹»Ù µáÕáùÝ»ñÇ Ù³ëÇÝ | D13: 38 | E13: 17 | F13: 10 | H13: 10 | I13: 13
A14: 2. ¸³ï³Ï³Ý ³Ïï»ñÇ Ñ»ï Ï³ï³ñÙ³Ý Ñ»ï Ï³åí³Í Ñ³ñó»ñÇ ÉáõÍÙ³Ý áÉáñï
A15: ³(12) | B15: å³ïÅÇó å³ÛÙ³Ý³Ï³Ý í³Õ³Å³ÙÏ»ï ³½³ï»Éáõ Ù³ëÇÝ | D15: 137 | E15: 13 | F15: 115 | G15: 5 | H15: 4 | I15: 8
A16: µ(13) | B16: ÀÝ¹³Ù»ÝÁ å³ïÇÅÁ ÷á÷áË»Éáõ, Ñ»ï³Ó·»Éáõ ¨ å³ïÅÇó ³½³ï»Éáõ Ù³uÇÝ ÙÇçÝáñ¹áõÃÛáõÝÝ»ñ | D16: 186 | E16: 64 | F16: 110 | G16: 7 | H16: 3 | I16: 7
A17: ·(14) | B17: Ñ³ñÏ³¹Çñ µáõÅÙ³Ý ï»ë³ÏÇ ÷á÷áËáõÃÛ³Ý Ù³ëÇÝ | D17: 28 | E17: 4 | F17: 24
A18: ¹(15) | B18: ³ÛÉ ÙÇçÝáñ¹áõÃÛáõÝÝ»ñ | D18: 64 | E18: 13 | F18: 31 | G18: 5 | H18: 7 | I18: 4
A19: ÀÜ¸²ØºÜÀ | D19: =SUM(D6:D18) -> 1212 | E19: =SUM(E6:E18) -> 141 | F19: =SUM(F6:F18) -> 1013 | G19: =SUM(G6:G18) -> 22 | H19: =SUM(H6:H18) -> 24 | I19: =SUM(I6:I18) -> 46
A22: /16/ | B22: դատական հանձնարարություն | D22: 8 | E22: 3 | F22: 3 | G22: 1 | H22: 1
A23: /06/ | B23: կալանքի վերահաստատում | D23: 14 | E23: 1 | F23: 13 | I23: 1
C26: 12-գործ ուղ. Է ընդդատ.
G33: 0
