Workbook

Sheet AJAPNYAK
B1: Ð²ÞìºîìàôÂÚàôÜ
B2: ³é³çÇÝ ³ïÛ³ÝÇ ¹³ï³ñ³ÝÇ ÏáÕÙÇó í×³ñÙ³Ý Ï³ñ·³¹ñáõÃÛáõÝ ³ñÓ³Ï»Éáõ í³ñáõÛÃÝ»ñÇ ÁÝÃ³óùÇ Ù³ëÇÝ
B3: 2010Ã. ï³ñí³ Ñ³Ù³ñ
A4: êïáõ·Çã Ñ³í³ë³ñáõÙ` 1+2=3+4+5+6+7, 7=8+9+10+11
A5: Ð/Ñ | B5: ¸³ï³íáñÇ ³ÝáõÝ, ³½·³ÝáõÝ | C5: Ð³ßí»ïáõ Å³Ù³Ý³Ï³ßñç³ÝÇ ëÏ½áõÙ ³Ý³í³ñï í³ñáõÛÃÝ»ñÇ ÙÝ³óáñ¹Á | D5: êï³óí»É ¿ í×³ñÙ³Ý Ï³ñ·³¹ñáõÃÛáõÝ ³ñÓ³Ï»Éáõ Ù³ëÇÝ ¹ÇÙáõÙ | E5: ëï³óí»É ¿ ¹ÇÙáõÙ ÁÝÃ³óù ãï³Éáõ Ù³ëÇÝ | F5: Ø»ñÅí»É ¿ | G5: Ø»ñÅí»É ¿ Ù³ëáí | H5: âÇ ³ñÓ³Ïí»É Ñ³ßí»ïáõ Å³Ù³Ý³Ï³ßñç³ÝáõÙ | I5: ²ñÓ³Ïí»É ¿ í×³ñÙ³Ý Ï³ñ·³¹ñáõÃÛáõÝ | J5: êï³óí»É ¿ ³é³ñÏáõÃÛáõÝ | K5: êï³ó»É ¿ ûñÇÝ³Ï³Ý áõÅ | L5: ÂáÕÝí»É ¿ ³ÝÑ»ï¨³Ýù ¨ ûñÇÝ³Ï³Ý áõÅÇ Ù»ç Ùï³Í í×éÇ Ñ»ï¨³Ýù ãÇ ³é³ç³óñ»É | M5: Ð³ßí»ïáõ Å³Ù³Ý³Ï³ßñç³ÝÇ í»ñçáõÙ ³Ý³í³ñï í³ñáõÛÃÝ»ñÇ ÙÝ³óáñ¹Á
C6: 1 | D6: 2 | E6: 3 | F6: 4 | G6: 5 | H6: 6 | I6: 7 | J6: 8 | K6: 9 | L6: 10 | M6: 11
C7: 5 | D7: 430 | E7: 0 | F7: 39 | G7: 0 | H7: 0 | I7: =SUM(J7:L7) -> 396 | J7: 38 | K7: 233 | L7: 125 | M7: 0
C8: 0 | D8: 421 | E8: 0 | F8: 62 | G8: 0 | H8: 4 | I8: =SUM(J8:L8) -> 351 | J8: 27 | K8: 225 | L8: 99 | M8: 22
C9: 28 | D9: 418 | E9: 0 | F9: 139 | G9: 0 | H9: 13 | I9: =SUM(J9:L9) -> 281 | J9: 14 | K9: 171 | L9: 96 | M9: 12
C10: 0 | D10: 21 | E10: 0 | F10: 2 | G10: 0 | H10: 0 | I10: =SUM(J10:L10) -> 19 | J10: 2 | K10: 9 | L10: 8 | M10: 0
C11: 0 | D11: 23 | E11: 0 | F11: 16 | G11: 0 | H11: 0 | I11: =SUM(J11:L11) -> 7 | J11: 1 | K11: 5 | L11: 1 | M11: 0

Sheet ARABKIR
B1: Ð²ÞìºîìàôÂÚàôÜ
B2: ÐÐ ÁÝ¹Ñ³Ýáõñ Çñ³í³ëáõÃÛ³Ý ³é³çÇÝ ³ïÛ³ÝÇ ¹³ï³ñ³ÝÇ ÏáÕÙÇó í×³ñÙ³Ý Ï³ñ·³¹ñáõÃÛáõÝ ³ñÓ³Ï»Éáõ í³ñáõÛÃÝ»ñÇ ÁÝÃ³óùÇ Ù³ëÇÝ
A4: êïáõ·Çã Ñ³í³ë³ñáõÙ` 1+2=3+4+5+6+7, 7=8+9+10+11
A5: Ð/Ñ | B5: ¸³ï³íáñÇ ³ÝáõÝ, ³½·³ÝáõÝ | C5: Ð³ßí»ïáõ Å³Ù³Ý³Ï³ßñç³ÝÇ ëÏ½áõÙ ³Ý³í³ñï í³ñáõÛÃÝ»ñÇ ÙÝ³óáñ¹Á | D5: êï³óí»É ¿ í×³ñÙ³Ý Ï³ñ·³¹ñáõÃÛáõÝ ³ñÓ³Ï»Éáõ Ù³ëÇÝ ¹ÇÙáõÙ | E5: ëï³óí»É ¿ ¹ÇÙáõÙ ÁÝÃ³óù ãï³Éáõ Ù³ëÇÝ | F5: Ø»ñÅí»É ¿ | G5: Ø»ñÅí»É ¿ Ù³ëáí | H5: âÇ ³ñÓ³Ïí»É Ñ³ßí»ïáõ Å³Ù³Ý³Ï³ßñç³ÝáõÙ | I5: ²ñÓ³Ïí»É ¿ í×³ñÙ³Ý Ï³ñ·³¹ñáõÃÛáõÝ | J5: êï³óí»É ¿ ³é³ñÏáõÃÛáõÝ | K5: êï³ó»É ¿ ûñÇÝ³Ï³Ý áõÅ | L5: ÂáÕÝí»É ¿ ³ÝÑ»ï¨³Ýù ¨ ûñÇÝ³Ï³Ý áõÅÇ Ù»ç Ùï³Í í×éÇ Ñ»ï¨³Ýù ãÇ ³é³ç³óñ»É | M5: Ð³ßí»ïáõ Å³Ù³Ý³Ï³ßñç³ÝÇ í»ñçáõÙ ³Ý³í³ñï í³ñáõÛÃÝ»ñÇ ÙÝ³óáñ¹Á
C6: 1 | D6: 2 | E6: 3 | F6: 4 | G6: 5 | H6: 6 | I6: 7 | J6: 8 | K6: 9 | L6: 10 | M6: 11
A7: 1 | C7: 28 | D7: 331 | E7: 0 | F7: 0 | G7: 0 | H7: 96 | I7: 263 | J7: 7 | K7: 208 | L7: 48 | M7: 0
A8: 2 | C8: 33 | D8: 308 | E8: 0 | F8: 41 | G8: 0 | H8: 10 | I8: 290 | J8: 22 | K8: 167 | L8: 101 | M8: 0
A9: 3 | C9: 71 | D9: 295 | E9: 0 | F9: 21 | G9: 0 | H9: 80 | I9: 265 | J9: 1 | K9: 80 | L9: 184 | M9: 0
A10: 4 | C10: 160 | D10: 454 | E10: 0 | F10: 15 | G10: 0 | H10: 196 | I10: 403 | J10: 32 | K10: 248 | L10: 123 | M10: 0
A11: 5 | C11: 29 | D11: 66 | E11: 0 | F11: 0 | G11: 0 | H11: 31 | I11: 64 | J11: 2 | K11: 39 | L11: 23 | M11: 0
A12: 6 | C12: 46 | D12: 306 | E12: 0 | F12: 56 | G12: 0 | H12: 47 | I12: 249 | J12: 17 | K12: 131 | L12: 101 | M12: 0
A13: 7 | C13: 22 | D13: 229 | E13: 0 | F13: 23 | G13: 0 | H13: 24 | I13: 204 | J13: 20 | K13: 118 | L13: 66 | M13: 0

Sheet AVAN
B1: Ð²ÞìºîìàôÂÚàôÜ
A2: Հավելված 2 Հայաստանի Հանրապետության Դատարանների նախագահների խորհրդի 2007թ. դեկտեմբերի 21-ի թիվ 23Լ որոշման
B3: ÐÐ Երևան քաղաքի Ավան և Նոր Նորք վարչական շրջանների ÁÝ¹Ñ³Ýáõñ Çñ³í³ëáõÃÛ³Ý ³é³çÇÝ ³ïÛ³ÝÇ ¹³ï³ñ³ÝÇ ÏáÕÙÇó í×³ñÙ³Ý Ï³ñ·³¹ñáõÃÛáõÝ ³ñÓ³Ï»Éáõ í³ñáõÛÃÝ»ñÇ 2010թ. տարեկան ÁÝÃ³óùÇ Ù³ëÇÝ
A4: êïáõ·Çã Ñ³í³ë³ñáõÙ` 1+2=3+4+5+6+7, 7=8+9+10+11
A5: Ð/Ñ | B5: ¸³ï³íáñÇ ³ÝáõÝ, ³½·³ÝáõÝ | C5: Ð³ßí»ïáõ Å³Ù³Ý³Ï³ßñç³ÝÇ ëÏ½áõÙ ³Ý³í³ñï í³ñáõÛÃÝ»ñÇ ÙÝ³óáñ¹Á | D5: êï³óí»É ¿ í×³ñÙ³Ý Ï³ñ·³¹ñáõÃÛáõÝ ³ñÓ³Ï»Éáõ Ù³ëÇÝ ¹ÇÙáõÙ | E5: ëï³óí»É ¿ ¹ÇÙáõÙ ÁÝÃ³óù ãï³Éáõ Ù³ëÇÝ | F5: Ø»ñÅí»É ¿ | G5: Ø»ñÅí»É ¿ Ù³ëáí | H5: âÇ ³ñÓ³Ïí»É Ñ³ßí»ïáõ Å³Ù³Ý³Ï³ßñç³ÝáõÙ | I5: ²ñÓ³Ïí»É ¿ í×³ñÙ³Ý Ï³ñ·³¹ñáõÃÛáõÝ | J5: êï³óí»É ¿ ³é³ñÏáõÃÛáõÝ | K5: êï³ó»É ¿ ûñÇÝ³Ï³Ý áõÅ | L5: ÂáÕÝí»É ¿ ³ÝÑ»ï¨³Ýù ¨ ûñÇÝ³Ï³Ý áõÅÇ Ù»ç Ùï³Í í×éÇ Ñ»ï¨³Ýù ãÇ ³é³ç³óñ»É | M5: Ð³ßí»ïáõ Å³Ù³Ý³Ï³ßñç³ÝÇ í»ñçáõÙ ³Ý³í³ñï í³ñáõÛÃÝ»ñÇ ÙÝ³óáñ¹Á
C6: 1 | D6: 2 | E6: 3 | F6: 4 | G6: 5 | H6: 6 | I6: 7 | J6: 8 | K6: 9 | L6: 10 | M6: 11
A7: 1 | C7: 0 | D7: 14 | E7: 0 | F7: 0 | G7: 0 | H7: 0 | I7: 14 | J7: 1 | K7: 0 | L7: 4 | M7: 9
A8: 2 | C8: 0 | D8: 171 | E8: 2 | F8: 90 | G8: 0 | H8: 0 | I8: 79 | J8: 4 | K8: 49 | L8: 26 | M8: 0
A9: 3 | C9: 0 | D9: 477 | E9: 1 | F9: 142 | G9: 1 | H9: 0 | I9: 333 | J9: 29 | K9: 230 | L9: 74 | M9: 0
A10: 4 | C10: 0 | D10: 110 | E10: 0 | F10: 53 | G10: 2 | H10: 0 | I10: 55 | J10: 2 | K10: 38 | L10: 15 | M10: 0
A11: 5 | C11: 0 | D11: 20 | E11: 0 | F11: 0 | G11: 0 | H11: 0 | I11: 20 | J11: 0 | K11: 14 | L11: 6 | M11: 0
A12: 6 | C12: 0 | D12: 346 | E12: 0 | F12: 8 | G12: 0 | H12: 0 | I12: 338 | J12: 29 | K12: 196 | L12: 113 | M12: 0
A13: 7 | C13: 0 | D13: 449 | E13: 5 | F13: 117 | G13: 0 | H13: 0 | I13: 327 | J13: 35 | K13: 204 | L13: 88 | M13: 0
A14: 8 | C14: 0 | D14: 1587 | E14: 8 | F14: 410 | G14: 3 | H14: 0 | I14: 1166 | J14: 100 | K14: 740 | L14: 326 | M14: 0

Sheet Erebuni
B1: Ð²ÞìºîìàôÂÚàôÜ
B2: ÐÐ ÁÝ¹Ñ³Ýáõñ Çñ³í³ëáõÃÛ³Ý ³é³çÇÝ ³ïÛ³ÝÇ ¹³ï³ñ³ÝÇ ÏáÕÙÇó í×³ñÙ³Ý Ï³ñ·³¹ñáõÃÛáõÝ ³ñÓ³Ï»Éáõ í³ñáõÛÃÝ»ñÇ ÁÝÃ³óùÇ Ù³ëÇÝ
B3: 01-01-2010-31-12-2010թ դրությամբ
A4: êïáõ·Çã Ñ³í³ë³ñáõÙ` 1+2=3+4+5+6+7, 7=8+9+10+11
A5: Ð/Ñ | B5: ¸³ï³íáñÇ ³ÝáõÝ, ³½·³ÝáõÝ | C5: Ð³ßí»ïáõ Å³Ù³Ý³Ï³ßñç³ÝÇ ëÏ½áõÙ ³Ý³í³ñï í³ñáõÛÃÝ»ñÇ ÙÝ³óáñ¹Á | D5: êï³óí»É ¿ í×³ñÙ³Ý Ï³ñ·³¹ñáõÃÛáõÝ ³ñÓ³Ï»Éáõ Ù³ëÇÝ ¹ÇÙáõÙ | E5: ëï³óí»É ¿ ¹ÇÙáõÙ ÁÝÃ³óù ãï³Éáõ Ù³ëÇÝ | F5: Ø»ñÅí»É ¿ | G5: Ø»ñÅí»É ¿ Ù³ëáí | H5: âÇ ³ñÓ³Ïí»É Ñ³ßí»ïáõ Å³Ù³Ý³Ï³ßñç³ÝáõÙ | I5: ²ñÓ³Ïí»É ¿ í×³ñÙ³Ý Ï³ñ·³¹ñáõÃÛáõÝ | J5: êï³óí»É ¿ ³é³ñÏáõÃÛáõÝ | K5: êï³ó»É ¿ ûñÇÝ³Ï³Ý áõÅ | L5: ÂáÕÝí»É ¿ ³ÝÑ»ï¨³Ýù ¨ ûñÇÝ³Ï³Ý áõÅÇ Ù»ç Ùï³Í í×éÇ Ñ»ï¨³Ýù ãÇ ³é³ç³óñ»É | M5: Ð³ßí»ïáõ Å³Ù³Ý³Ï³ßñç³ÝÇ í»ñçáõÙ ³Ý³í³ñï í³ñáõÛÃÝ»ñÇ ÙÝ³óáñ¹Á
C6: 1 | D6: 2 | E6: 3 | F6: 4 | G6: 5 | H6: 6 | I6: 7 | J6: 8 | K6: 9 | L6: 10 | M6: 11
A7: 1 | C7: 2 | D7: 263 | E7: 0 | F7: 2 | G7: 0 | H7: 0 | I7: 263 | J7: 9 | K7: 156 | L7: 88 | M7: 10
A8: 2 | C8: 0 | D8: 226 | E8: 26 | F8: 68 | G8: 3 | H8: 0 | I8: 129 | J8: 4 | K8: 92 | L8: 29 | M8: 4
A9: 3 | C9: 0 | D9: 164 | E9: 0 | F9: 8 | G9: 0 | H9: 0 | I9: 156 | J9: 8 | K9: 116 | L9: 28 | M9: 4
A10: 4 | C10: 0 | D10: 215 | E10: 14 | F10: 33 | G10: 0 | H10: 0 | I10: 168 | J10: 0 | K10: 95 | L10: 68 | M10: 5
A11: 5 | C11: 0 | D11: 133 | E11: 0 | F11: 72 | G11: 0 | H11: 0 | I11: 61 | J11: 6 | K11: 35 | L11: 20 | M11: 0
A12: 6 | C12: 0 | D12: 174 | E12: 0 | F12: 11 | G12: 3 | H12: 0 | I12: 160 | J12: 5 | K12: 122 | L12: 33 | M12: 0

Sheet MALATYA
A1: Հավելված 2 Հայաստանի Հանրապետության Դատարանների նախագահների խորհրդի 2007թ. դեկտեմբերի 21-ի թիվ 23Լ որոշման
B2: ÐÐ ÁÝ¹Ñ³Ýáõñ Çñ³í³ëáõÃÛ³Ý ³é³çÇÝ ³ïÛ³ÝÇ ¹³ï³ñ³ÝÇ ÏáÕÙÇó í×³ñÙ³Ý Ï³ñ·³¹ñáõÃÛáõÝ ³ñÓ³Ï»Éáõ í³ñáõÛÃÝ»ñÇ ÁÝÃ³óùÇ Ù³ëÇÝ
A4: êïáõ·Çã Ñ³í³ë³ñáõÙ` 1+2=3+4+5+6+7, 7=8+9+10+11
A5: Ð/Ñ | B5: ¸³ï³íáñÇ ³ÝáõÝ, ³½·³ÝáõÝ | C5: Ð³ßí»ïáõ Å³Ù³Ý³Ï³ßñç³ÝÇ ëÏ½áõÙ ³Ý³í³ñï í³ñáõÛÃÝ»ñÇ ÙÝ³óáñ¹Á | D5: êï³óí»É ¿ í×³ñÙ³Ý Ï³ñ·³¹ñáõÃÛáõÝ ³ñÓ³Ï»Éáõ Ù³ëÇÝ ¹ÇÙáõÙ | E5: ëï³óí»É ¿ ¹ÇÙáõÙ ÁÝÃ³óù ãï³Éáõ Ù³ëÇÝ | F5: Ø»ñÅí»É ¿ | G5: Ø»ñÅí»É ¿ Ù³ëáí | H5: âÇ ³ñÓ³Ïí»É Ñ³ßí»ïáõ Å³Ù³Ý³Ï³ßñç³ÝáõÙ | I5: ²ñÓ³Ïí»É ¿ í×³ñÙ³Ý Ï³ñ·³¹ñáõÃÛáõÝ | J5: êï³óí»É ¿ ³é³ñÏáõÃÛáõÝ | K5: êï³ó»É ¿ ûñÇÝ³Ï³Ý áõÅ | L5: ÂáÕÝí»É ¿ ³ÝÑ»ï¨³Ýù ¨ ûñÇÝ³Ï³Ý áõÅÇ Ù»ç Ùï³Í í×éÇ Ñ»ï¨³Ýù ãÇ ³é³ç³óñ»É | M5: Ð³ßí»ïáõ Å³Ù³Ý³Ï³ßñç³ÝÇ í»ñçáõÙ ³Ý³í³ñï í³ñáõÛÃÝ»ñÇ ÙÝ³óáñ¹Á
C6: 1 | D6: 2 | E6: 3 | F6: 4 | G6: 5 | H6: 6 | I6: 7 | J6: 8 | K6: 9 | L6: 10 | M6: 11
A7: 1 | C7: 0 | D7: 138 | E7: 0 | F7: 6 | G7: 0 | H7: 0 | I7: 132 | J7: 8 | K7: 97 | L7: 27 | M7: 0
A8: 2 | C8: 0 | D8: 251 | E8: 0 | F8: 61 | G8: 0 | H8: 0 | I8: 190 | J8: 9 | K8: 132 | L8: 47 | M8: 2
A9: 3 | C9: 0 | D9: 262 | E9: 0 | F9: 14 | G9: 1 | H9: 0 | I9: 247 | J9: 22 | K9: 155 | L9: 65 | M9: 5
A10: 4 | C10: 0 | D10: 262 | E10: 0 | F10: 205 | G10: 0 | H10: 0 | I10: 57 | J10: 7 | K10: 44 | L10: 6 | M10: 0
A11: 5 | C11: 0 | D11: 261 | E11: 0 | F11: 53 | G11: 0 | H11: 0 | I11: 208 | J11: 6 | K11: 144 | L11: 48 | M11: 10

Sheet Shengavit
B1: Ð²ÞìºîìàôÂÚàôÜ
B2: ÐÐ Շենգավիթ վարչական շրջանի ÁÝ¹Ñ³Ýáõñ Çñ³í³ëáõÃÛ³Ý ³é³çÇÝ ³ïÛ³ÝÇ ¹³ï³ñ³ÝÇ ÏáÕÙÇó í×³ñÙ³Ý Ï³ñ·³¹ñáõÃÛáõÝ ³ñÓ³Ï»Éáõ í³ñáõÛÃÝ»ñÇ ÁÝÃ³óùÇ Ù³ëÇÝ
A4: êïáõ·Çã Ñ³í³ë³ñáõÙ` 1+2=3+4+5+6+7, 7=8+9+10+11
A5: Ð/Ñ | B5: ¸³ï³íáñÇ ³ÝáõÝ, ³½·³ÝáõÝ | C5: Ð³ßí»ïáõ Å³Ù³Ý³Ï³ßñç³ÝÇ ëÏ½áõÙ ³Ý³í³ñï í³ñáõÛÃÝ»ñÇ ÙÝ³óáñ¹Á | D5: êï³óí»É ¿ í×³ñÙ³Ý Ï³ñ·³¹ñáõÃÛáõÝ ³ñÓ³Ï»Éáõ Ù³ëÇÝ ¹ÇÙáõÙ | E5: ëï³óí»É ¿ ¹ÇÙáõÙ ÁÝÃ³óù ãï³Éáõ Ù³ëÇÝ | F5: Ø»ñÅí»É ¿ | G5: Ø»ñÅí»É ¿ Ù³ëáí | H5: âÇ ³ñÓ³Ïí»É Ñ³ßí»ïáõ Å³Ù³Ý³Ï³ßñç³ÝáõÙ | I5: ²ñÓ³Ïí»É ¿ í×³ñÙ³Ý Ï³ñ·³¹ñáõÃÛáõÝ | J5: êï³óí»É ¿ ³é³ñÏáõÃÛáõÝ | K5: êï³ó»É ¿ ûñÇÝ³Ï³Ý áõÅ | L5: ÂáÕÝí»É ¿ ³ÝÑ»ï¨³Ýù ¨ ûñÇÝ³Ï³Ý áõÅÇ Ù»ç Ùï³Í í×éÇ Ñ»ï¨³Ýù ãÇ ³é³ç³óñ»É | M5: Ð³ßí»ïáõ Å³Ù³Ý³Ï³ßñç³ÝÇ í»ñçáõÙ ³Ý³í³ñï í³ñáõÛÃÝ»ñÇ ÙÝ³óáñ¹Á
C6: 1 | D6: 2 | E6: 3 | F6: 4 | G6: 5 | H6: 6 | I6: 7 | J6: 8 | K6: 9 | L6: 10 | M6: 11
A7: 1 | C7: 29 | D7: 499 | E7: 12 | F7: 2 | G7: 1 | H7: 0 | I7: 513 | J7: 26 | K7: 399 | L7: 88 | M7: 0
A8: 2 | C8: 0 | D8: 459 | E8: 0 | F8: 0 | G8: 0 | H8: 0 | I8: 459 | J8: 55 | K8: 281 | L8: 109 | M8: 14
A9: 3 | C9: 103 | D9: 384 | E9: 0 | F9: 0 | G9: 2 | H9: 0 | I9: 487 | J9: 34 | K9: 336 | L9: 38 | M9: 79
A10: 4 | C10: 115 | D10: 369 | E10: 0 | F10: 118 | G10: 1 | H10: 0 | I10: 365 | J10: 32 | K10: 262 | L10: 71 | M10: 0

Sheet Kentron
B1: Ð²ÞìºîìàôÂÚàôÜ
B2: Կենտրոն և Նորք-Մարշ վարչական շրջանների ÁÝ¹Ñ³Ýáõñ Çñ³í³ëáõÃÛ³Ý ³é³çÇÝ ³ïÛ³ÝÇ ¹³ï³ñ³ÝÇ ÏáÕÙÇó 2010թ í×³ñÙ³Ý Ï³ñ·³¹ñáõÃÛáõÝ ³ñÓ³Ï»Éáõ í³ñáõÛÃÝ»ñÇ ÁÝÃ³óùÇ Ù³ëÇÝ
A4: êïáõ·Çã Ñ³í³ë³ñáõÙ` 1+2=3+4+5+6+7, 7=8+9+10+11
A5: Ð/Ñ | B5: ¸³ï³íáñÇ ³ÝáõÝ, ³½·³ÝáõÝ | C5: Ð³ßí»ïáõ Å³Ù³Ý³Ï³ßñç³ÝÇ ëÏ½áõÙ ³Ý³í³ñï í³ñáõÛÃÝ»ñÇ ÙÝ³óáñ¹Á | D5: êï³óí»É ¿ í×³ñÙ³Ý Ï³ñ·³¹ñáõÃÛáõÝ ³ñÓ³Ï»Éáõ Ù³ëÇÝ ¹ÇÙáõÙ | E5: ëï³óí»É ¿ ¹ÇÙáõÙ ÁÝÃ³óù ãï³Éáõ Ù³ëÇÝ | F5: Ø»ñÅí»É ¿ | G5: Ø»ñÅí»É ¿ Ù³ëáí | H5: âÇ ³ñÓ³Ïí»É Ñ³ßí»ïáõ Å³Ù³Ý³Ï³ßñç³ÝáõÙ | I5: ²ñÓ³Ïí»É ¿ í×³ñÙ³Ý Ï³ñ·³¹ñáõÃÛáõÝ | J5: êï³óí»É ¿ ³é³ñÏáõÃÛáõÝ | K5: êï³ó»É ¿ ûñÇÝ³Ï³Ý áõÅ | L5: ÂáÕÝí»É ¿ ³ÝÑ»ï¨³Ýù ¨ ûñÇÝ³Ï³Ý áõÅÇ Ù»ç Ùï³Í í×éÇ Ñ»ï¨³Ýù ãÇ ³é³ç³óñ»É | M5: Ð³ßí»ïáõ Å³Ù³Ý³Ï³ßñç³ÝÇ í»ñçáõÙ ³Ý³í³ñï í³ñáõÛÃÝ»ñÇ ÙÝ³óáñ¹Á
C6: 1 | D6: 2 | E6: 3 | F6: 4 | G6: 5 | H6: 6 | I6: 7 | J6: 8 | K6: 9 | L6: 10 | M6: 11
A7: 1 | C7: 17 | D7: 205 | E7: 1 | F7: 103 | G7: 3 | H7: 9 | I7: 106 | J7: 1 | K7: 83 | L7: 1 | M7: 21
A8: 2 | D8: 226 | F8: 78 | I8: 148 | J8: 10 | K8: 102 | L8: 10 | M8: 26
A9: 3 | C9: 6 | D9: 181 | F9: 94 | H9: 3 | I9: 90 | J9: 2 | K9: 60 | L9: 2 | M9: 26
A10: 4 | C10: 2 | D10: 253 | E10: 1 | F10: 77 | H10: 1 | I10: 176 | J10: 6 | K10: 115 | L10: 6 | M10: 49
A11: 5 | C11: 11 | D11: 265 | F11: 2 | H11: 2 | I11: 272 | J11: 14 | K11: 163 | L11: 15 | M11: 80
A12: 6 | C12: 6 | D12: 218 | E12: 8 | F12: 92 | I12: 124 | J12: 1 | K12: 72 | L12: 1 | M12: 50
A13: 7 | C13: 5 | D13: 92 | E13: 1 | H13: 12 | I13: 84 | J13: 4 | K13: 73 | L13: 4 | M13: 3
A14: 8 | C14: 4 | D14: 101 | F14: 1 | G14: 1 | I14: 103 | J14: 8 | K14: 90 | L14: 5
A15: 9 | C15: 8 | D15: 241 | E15: 2 | F15: 2 | H15: 131 | I15: 114 | J15: 2 | K15: 68 | L15: 2 | M15: 42

Sheet Aragacotn
B1: Ð²ÞìºîìàôÂÚàôÜ
B2: Արագածոտնի մարզի ÁÝ¹Ñ³Ýáõñ Çñ³í³ëáõÃÛ³Ý ¹³ï³ñ³ÝÇ ÏáÕÙÇó í×³ñÙ³Ý Ï³ñ·³¹ñáõÃÛáõÝ ³ñÓ³Ï»Éáõ í³ñáõÛÃÝ»ñÇ ÁÝÃ³óùÇ Ù³ëÇÝ
B3: 2010Ã. ï³ñí³ Ñ³Ù³ñ
A4: êïáõ·Çã Ñ³í³ë³ñáõÙ` 1+2=3+4+5+6+7, 7=8+9+10+11
A5: Ð/Ñ | B5: ¸³ï³íáñÇ ³ÝáõÝ, ³½·³ÝáõÝ | C5: Ð³ßí»ïáõ Å³Ù³Ý³Ï³ßñç³ÝÇ ëÏ½áõÙ ³Ý³í³ñï í³ñáõÛÃÝ»ñÇ ÙÝ³óáñ¹Á | D5: êï³óí»É ¿ í×³ñÙ³Ý Ï³ñ·³¹ñáõÃÛáõÝ ³ñÓ³Ï»Éáõ Ù³ëÇÝ ¹ÇÙáõÙ | E5: ëï³óí»É ¿ ¹ÇÙáõÙ ÁÝÃ³óù ãï³Éáõ Ù³ëÇÝ | F5: Ø»ñÅí»É ¿ | G5: Ø»ñÅí»É ¿ Ù³ëáí | H5: âÇ ³ñÓ³Ïí»É Ñ³ßí»ïáõ Å³Ù³Ý³Ï³ßñç³ÝáõÙ | I5: ²ñÓ³Ïí»É ¿ í×³ñÙ³Ý Ï³ñ·³¹ñáõÃÛáõÝ | J5: êï³óí»É ¿ ³é³ñÏáõÃÛáõÝ | K5: êï³ó»É ¿ ûñÇÝ³Ï³Ý áõÅ | L5: ÂáÕÝí»É ¿ ³ÝÑ»ï¨³Ýù ¨ ûñÇÝ³Ï³Ý áõÅÇ Ù»ç Ùï³Í í×éÇ Ñ»ï¨³Ýù ãÇ ³é³ç³óñ»É | M5: Ð³ßí»ïáõ Å³Ù³Ý³Ï³ßñç³ÝÇ í»ñçáõÙ ³Ý³í³ñï í³ñáõÛÃÝ»ñÇ ÙÝ³óáñ¹Á
C6: 1 | D6: 2 | E6: 3 | F6: 4 | G6: 5 | H6: 6 | I6: 7 | J6: 8 | K6: 9 | L6: 10 | M6: 11
A7: 1 | C7: 0 | D7: 13 | E7: 0 | F7: 0 | G7: 0 | H7: 0 | I7: 13 | J7: 1 | K7: 12 | L7: 0 | M7: 0
A8: 2 | C8: 8 | D8: 370 | E8: 2 | F8: 52 | G8: 0 | H8: 0 | I8: 324 | J8: 14 | K8: 208 | L8: 102 | M8: 0
A9: 3 | C9: 12 | D9: 355 | E9: 2 | F9: 3 | G9: 0 | H9: 0 | I9: 362 | J9: 18 | K9: 233 | L9: 111 | M9: 0
A10: 4 | C10: 1 | D10: 341 | E10: 1 | F10: 9 | G10: 0 | H10: 0 | I10: 332 | J10: 16 | K10: 227 | L10: 89 | M10: 0
A11: 5 | C11: 64 | D11: 276 | E11: 0 | F11: 0 | G11: 0 | H11: 0 | I11: 340 | J11: 5 | K11: 325 | L11: 10 | M11: 0
A12: 6 | C12: 0 | D12: 112 | E12: 0 | F12: 0 | G12: 0 | H12: 0 | I12: 112 | J12: 2 | K12: 1 | L12: 109 | M12: 0

Sheet Ararat
B1: Ð²ÞìºîìàôÂÚàôÜ
B2: Արարատի և Վայոց ձորի մարզերի ÁÝ¹Ñ³Ýáõñ Çñ³í³ëáõÃÛ³Ý ¹³ï³ñ³ÝÇ ÏáÕÙÇó í×³ñÙ³Ý Ï³ñ·³¹ñáõÃÛáõÝ ³ñÓ³Ï»Éáõ í³ñáõÛÃÝ»ñÇ ÁÝÃ³óùÇ Ù³ëÇÝ
B3: 2010Ã.
A4: êïáõ·Çã Ñ³í³ë³ñáõÙ` 1+2=3+4+5+6+7, 7=8+9+10+11
A5: Ð/Ñ | B5: ¸³ï³íáñÇ ³ÝáõÝ, ³½·³ÝáõÝ | C5: Ð³ßí»ïáõ Å³Ù³Ý³Ï³ßñç³ÝÇ ëÏ½áõÙ ³Ý³í³ñï í³ñáõÛÃÝ»ñÇ ÙÝ³óáñ¹Á | D5: êï³óí»É ¿ í×³ñÙ³Ý Ï³ñ·³¹ñáõÃÛáõÝ ³ñÓ³Ï»Éáõ Ù³ëÇÝ ¹ÇÙáõÙ | E5: ëï³óí»É ¿ ¹ÇÙáõÙ ÁÝÃ³óù ãï³Éáõ Ù³ëÇÝ | F5: Ø»ñÅí»É ¿ | G5: Ø»ñÅí»É ¿ Ù³ëáí | H5: âÇ ³ñÓ³Ïí»É Ñ³ßí»ïáõ Å³Ù³Ý³Ï³ßñç³ÝáõÙ | I5: ²ñÓ³Ïí»É ¿ í×³ñÙ³Ý Ï³ñ·³¹ñáõÃÛáõÝ | J5: êï³óí»É ¿ ³é³ñÏáõÃÛáõÝ | K5: êï³ó»É ¿ ûñÇÝ³Ï³Ý áõÅ | L5: ÂáÕÝí»É ¿ ³ÝÑ»ï¨³Ýù ¨ ûñÇÝ³Ï³Ý áõÅÇ Ù»ç Ùï³Í í×éÇ Ñ»ï¨³Ýù ãÇ ³é³ç³óñ»É | M5: Ð³ßí»ïáõ Å³Ù³Ý³Ï³ßñç³ÝÇ í»ñçáõÙ ³Ý³í³ñï í³ñáõÛÃÝ»ñÇ ÙÝ³óáñ¹Á
C6: 1 | D6: 2 | E6: 3 | F6: 4 | G6: 5 | H6: 6 | I6: 7 | J6: 8 | K6: 9 | L6: 10 | M6: 11
A7: 1 | C7: 39 | D7: 543 | E7: 1 | F7: 0 | G7: 0 | H7: 0 | I7: 581 | J7: 15 | K7: 506 | L7: 55 | M7: 5
A8: 2 | C8: 3 | D8: 418 | E8: 0 | F8: 7 | G8: 0 | H8: 3 | I8: 411 | J8: 13 | K8: 304 | L8: 67 | M8: 27
A9: 3 | C9: 0 | D9: 491 | E9: 0 | F9: 3 | G9: 0 | H9: 10 | I9: 478 | J9: 29 | K9: 403 | L9: 36 | M9: 10
A10: 4 | C10: 667 | D10: 2018 | E10: 0 | F10: 0 | G10: 0 | H10: 0 | I10: 2685 | J10: 51 | K10: 1075 | L10: 101 | M10: 1458
A11: 5 | C11: 384 | D11: 2410 | E11: 4 | F11: 0 | G11: 0 | H11: 10 | I11: 2780 | J11: 416 | K11: 2344 | L11: 10 | M11: 10
A12: 6 | C12: 25 | D12: 297 | E12: 1 | F12: 1 | G12: 0 | H12: 0 | I12: 320 | J12: 7 | K12: 244 | L12: 67 | M12: 2

Sheet Armavir
B1: Ð²ÞìºîìàôÂÚàôÜ
B2: ÁÝ¹Ñ³Ýáõñ Çñ³í³ëáõÃÛ³Ý ¹³ï³ñ³ÝÇ ÏáÕÙÇó í×³ñÙ³Ý Ï³ñ·³¹ñáõÃÛáõÝ ³ñÓ³Ï»Éáõ í³ñáõÛÃÝ»ñÇ ÁÝÃ³óùÇ Ù³ëÇÝ
B3: 2010թ, տարվա ժամանակահատվածում
A4: êïáõ·Çã Ñ³í³ë³ñáõÙ` 1+2=3+4+5+6+7, 7=8+9+10+11
A5: Ð/Ñ | B5: ¸³ï³íáñÇ ³ÝáõÝ, ³½·³ÝáõÝ | C5: Ð³ßí»ïáõ Å³Ù³Ý³Ï³ßñç³ÝÇ ëÏ½áõÙ ³Ý³í³ñï í³ñáõÛÃÝ»ñÇ ÙÝ³óáñ¹Á | D5: êï³óí»É ¿ í×³ñÙ³Ý Ï³ñ·³¹ñáõÃÛáõÝ ³ñÓ³Ï»Éáõ Ù³ëÇÝ ¹ÇÙáõÙ | E5: ëï³óí»É ¿ ¹ÇÙáõÙ ÁÝÃ³óù ãï³Éáõ Ù³ëÇÝ | F5: Ø»ñÅí»É ¿ | G5: Ø»ñÅí»É ¿ Ù³ëáí | H5: âÇ ³ñÓ³Ïí»É Ñ³ßí»ïáõ Å³Ù³Ý³Ï³ßñç³ÝáõÙ | I5: ²ñÓ³Ïí»É ¿ í×³ñÙ³Ý Ï³ñ·³¹ñáõÃÛáõÝ | J5: êï³óí»É ¿ ³é³ñÏáõÃÛáõÝ | K5: êï³ó»É ¿ ûñÇÝ³Ï³Ý áõÅ | L5: ÂáÕÝí»É ¿ ³ÝÑ»ï¨³Ýù ¨ ûñÇÝ³Ï³Ý áõÅÇ Ù»ç Ùï³Í í×éÇ Ñ»ï¨³Ýù ãÇ ³é³ç³óñ»É | M5: Ð³ßí»ïáõ Å³Ù³Ý³Ï³ßñç³ÝÇ í»ñçáõÙ ³Ý³í³ñï í³ñáõÛÃÝ»ñÇ ÙÝ³óáñ¹Á
C6: 1 | D6: 2 | E6: 3 | F6: 4 | G6: 5 | H6: 6 | I6: 7 | J6: 8 | K6: 9 | L6: 10 | M6: 11
C7: 89 | D7: 628 | E7: 0 | F7: 25 | G7: 0 | H7: 0 | I7: 692 | J7: 21 | K7: 550 | L7: 54 | M7: 67
C8: 0 | D8: 694 | E8: 0 | F8: 170 | G8: 0 | H8: 0 | I8: 524 | J8: 32 | K8: 184 | L8: 82 | M8: 226
C9: 0 | D9: 716 | E9: 0 | F9: 0 | G9: 0 | H9: 0 | I9: 716 | J9: 25 | K9: 522 | L9: 0 | M9: 169
C10: 0 | D10: 714 | E10: 1 | F10: 1 | G10: 0 | H10: 0 | I10: 712 | J10: 28 | K10: 481 | L10: 32 | M10: 171

Sheet Gexarquniq
A1: Հավելված 2 Հայաստանի Հանրապետության Դատարանների նախագահների խորհրդի 2007թ. դեկտեմբերի 21-ի թիվ 23Լ որոշման
B2: ÐÐ ÁÝ¹Ñ³Ýáõñ Çñ³í³ëáõÃÛ³Ý ³é³çÇÝ ³ïÛ³ÝÇ ¹³ï³ñ³ÝÇ ÏáÕÙÇó í×³ñÙ³Ý 2010Ã. ÁÝÃ³óùáõÙ Ï³ñ·³¹ñáõÃÛáõÝ ³ñÓ³Ï»Éáõ í³ñáõÛÃÝ»ñÇ ÁÝÃ³óùÇ Ù³ëÇÝ
A4: êïáõ·Çã Ñ³í³ë³ñáõÙ` 1+2=3+4+5+6+7, 7=8+9+10+11
A5: Ð/Ñ | B5: ¸³ï³íáñÇ ³ÝáõÝ, ³½·³ÝáõÝ | C5: Ð³ßí»ïáõ Å³Ù³Ý³Ï³ßñç³ÝÇ ëÏ½áõÙ ³Ý³í³ñï í³ñáõÛÃÝ»ñÇ ÙÝ³óáñ¹Á | D5: êï³óí»É ¿ í×³ñÙ³Ý Ï³ñ·³¹ñáõÃÛáõÝ ³ñÓ³Ï»Éáõ Ù³ëÇÝ ¹ÇÙáõÙ | E5: ëï³óí»É ¿ ¹ÇÙáõÙ ÁÝÃ³óù ãï³Éáõ Ù³ëÇÝ | F5: Ø»ñÅí»É ¿ | G5: Ø»ñÅí»É ¿ Ù³ëáí | H5: âÇ ³ñÓ³Ïí»É Ñ³ßí»ïáõ Å³Ù³Ý³Ï³ßñç³ÝáõÙ | I5: ²ñÓ³Ïí»É ¿ í×³ñÙ³Ý Ï³ñ·³¹ñáõÃÛáõÝ | J5: êï³óí»É ¿ ³é³ñÏáõÃÛáõÝ | K5: êï³ó»É ¿ ûñÇÝ³Ï³Ý áõÅ | L5: ÂáÕÝí»É ¿ ³ÝÑ»ï¨³Ýù ¨ ûñÇÝ³Ï³Ý áõÅÇ Ù»ç Ùï³Í í×éÇ Ñ»ï¨³Ýù ãÇ ³é³ç³óñ»É | M5: Ð³ßí»ïáõ Å³Ù³Ý³Ï³ßñç³ÝÇ í»ñçáõÙ ³Ý³í³ñï í³ñáõÛÃÝ»ñÇ ÙÝ³óáñ¹Á
C6: 1 | D6: 2 | E6: 3 | F6: 4 | G6: 5 | H6: 6 | I6: 7 | J6: 8 | K6: 9 | L6: 10 | M6: 11
A7: 1 | C7: 0 | D7: 79 | E7: 0 | F7: 12 | G7: 0 | H7: 0 | I7: 67 | J7: 5 | K7: 51 | L7: 11 | M7: 0
A8: 2 | C8: 0 | D8: 146 | E8: 0 | F8: 14 | G8: 0 | H8: 0 | I8: 132 | J8: 14 | K8: 58 | L8: 19 | M8: 41
A9: 3 | C9: 0 | D9: 123 | E9: 0 | F9: 1 | G9: 0 | H9: 1 | I9: 121 | J9: 2 | K9: 38 | L9: 25 | M9: 56
A10: 4 | C10: 3 | D10: 12 | E10: 1 | F10: 0 | G10: 0 | H10: 0 | I10: 14 | J10: 0 | K10: 14 | L10: 0 | M10: 0
A11: 5 | C11: 32 | D11: 190 | E11: 0 | F11: 0 | G11: 0 | H11: 0 | I11: 222 | J11: 81 | K11: 105 | L11: 32 | M11: 4
A12: 6 | C12: 32 | D12: 313 | E12: 0 | F12: 0 | G12: 0 | H12: 0 | I12: 345 | J12: 52 | K12: 194 | L12: 25 | M12: 74
A13: 7 | C13: 0 | D13: 151 | E13: 0 | F13: 2 | G13: 0 | H13: 0 | I13: 149 | J13: 12 | K13: 125 | L13: 12 | M13: 0
A14: 8 | C14: 58 | D14: 522 | E14: 0 | F14: 0 | G14: 0 | H14: 0 | I14: 580 | J14: 50 | K14: 413 | L14: 110 | M14: 7

Sheet Kotayk
A1: Հավելված 2 Հայաստանի Հանրապետության Դատարանների նախագահների խորհրդի 2007թ. դեկտեմբերի 21-ի թիվ 23Լ որոշման
B2: ÐÐ ÁÝ¹Ñ³Ýáõñ Çñ³í³ëáõÃÛ³Ý ³é³çÇÝ ³ïÛ³ÝÇ ¹³ï³ñ³ÝÇ ÏáÕÙÇó í×³ñÙ³Ý Ï³ñ·³¹ñáõÃÛáõÝ ³ñÓ³Ï»Éáõ í³ñáõÛÃÝ»ñÇ ÁÝÃ³óùÇ Ù³ëÇÝ
A4: êïáõ·Çã Ñ³í³ë³ñáõÙ` 1+2=3+4+5+6+7, 7=8+9+10+11
A5: Ð/Ñ | B5: ¸³ï³íáñÇ ³ÝáõÝ, ³½·³ÝáõÝ | C5: Ð³ßí»ïáõ Å³Ù³Ý³Ï³ßñç³ÝÇ ëÏ½áõÙ ³Ý³í³ñï í³ñáõÛÃÝ»ñÇ ÙÝ³óáñ¹Á | D5: êï³óí»É ¿ í×³ñÙ³Ý Ï³ñ·³¹ñáõÃÛáõÝ ³ñÓ³Ï»Éáõ Ù³ëÇÝ ¹ÇÙáõÙ | E5: ëï³óí»É ¿ ¹ÇÙáõÙ ÁÝÃ³óù ãï³Éáõ Ù³ëÇÝ | F5: Ø»ñÅí»É ¿ | G5: Ø»ñÅí»É ¿ Ù³ëáí | H5: âÇ ³ñÓ³Ïí»É Ñ³ßí»ïáõ Å³Ù³Ý³Ï³ßñç³ÝáõÙ | I5: ²ñÓ³Ïí»É ¿ í×³ñÙ³Ý Ï³ñ·³¹ñáõÃÛáõÝ | J5: êï³óí»É ¿ ³é³ñÏáõÃÛáõÝ | K5: êï³ó»É ¿ ûñÇÝ³Ï³Ý áõÅ | L5: ÂáÕÝí»É ¿ ³ÝÑ»ï¨³Ýù ¨ ûñÇÝ³Ï³Ý áõÅÇ Ù»ç Ùï³Í í×éÇ Ñ»ï¨³Ýù ãÇ ³é³ç³óñ»É | M5: Ð³ßí»ïáõ Å³Ù³Ý³Ï³ßñç³ÝÇ í»ñçáõÙ ³Ý³í³ñï í³ñáõÛÃÝ»ñÇ ÙÝ³óáñ¹Á
C6: 1 | D6: 2 | E6: 3 | F6: 4 | G6: 5 | H6: 6 | I6: 7 | J6: 8 | K6: 9 | L6: 10 | M6: 11
C7: 0 | D7: 226 | E7: 0 | F7: 3 | G7: 0 | H7: 0 | I7: 223 | J7: 40 | K7: 155 | L7: 28 | M7: 0
C8: 0 | D8: 620 | E8: 3 | F8: 1 | G8: 2 | H8: 0 | I8: 614 | J8: 67 | K8: 266 | L8: 100 | M8: 181
C9: 0 | D9: 917 | E9: 0 | F9: 275 | G9: 0 | H9: 0 | I9: 642 | J9: 9 | K9: 448 | L9: 65 | M9: 120
C10: 0 | D10: 450 | E10: 0 | F10: 131 | G10: 0 | H10: 0 | I10: 319 | J10: 5 | K10: 128 | L10: 84 | M10: 102
C11: 0 | D11: 787 | E11: 0 | F11: 255 | G11: 0 | H11: 114 | I11: 418 | J11: 14 | K11: 242 | L11: 135 | M11: 27
C12: 0 | D12: 750 | E12: 0 | F12: 384 | G12: 0 | H12: 0 | I12: 366 | J12: 13 | K12: 302 | L12: 42 | M12: 9
C13: 0 | D13: 542 | E13: 0 | F13: 1 | G13: 3 | H13: 0 | I13: 538 | J13: 42 | K13: 266 | L13: 66 | M13: 164

Sheet Lori
A1: Հավելված 2 Հայաստանի Հանրապետության Դատարանների նախագահների խորհրդի 2007թ. դեկտեմբերի 21-ի թիվ 23Լ որոշման
B2: ÐÐ Լոռու մարզի ÁÝ¹Ñ³Ýáõñ Çñ³í³ëáõÃÛ³Ý ³é³çÇÝ ³ïÛ³ÝÇ ¹³ï³ñ³ÝÇ ÏáÕÙÇó í×³ñÙ³Ý Ï³ñ·³¹ñáõÃÛáõÝ ³ñÓ³Ï»Éáõ í³ñáõÛÃÝ»ñÇ ÁÝÃ³óùÇ Ù³ëÇÝ
B3: 2010թ. տարվա համար
A4: êïáõ·Çã Ñ³í³ë³ñáõÙ` 1+2=3+4+5+6+7, 7=8+9+10+11
A5: Ð/Ñ | B5: ¸³ï³íáñÇ ³ÝáõÝ, ³½·³ÝáõÝ | C5: Ð³ßí»ïáõ Å³Ù³Ý³Ï³ßñç³ÝÇ ëÏ½áõÙ ³Ý³í³ñï í³ñáõÛÃÝ»ñÇ ÙÝ³óáñ¹Á | D5: êï³óí»É ¿ í×³ñÙ³Ý Ï³ñ·³¹ñáõÃÛáõÝ ³ñÓ³Ï»Éáõ Ù³ëÇÝ ¹ÇÙáõÙ | E5: ëï³óí»É ¿ ¹ÇÙáõÙ ÁÝÃ³óù ãï³Éáõ Ù³ëÇÝ | F5: Ø»ñÅí»É ¿ | G5: Ø»ñÅí»É ¿ Ù³ëáí | H5: âÇ ³ñÓ³Ïí»É Ñ³ßí»ïáõ Å³Ù³Ý³Ï³ßñç³ÝáõÙ | I5: ²ñÓ³Ïí»É ¿ í×³ñÙ³Ý Ï³ñ·³¹ñáõÃÛáõÝ | J5: êï³óí»É ¿ ³é³ñÏáõÃÛáõÝ | K5: êï³ó»É ¿ ûñÇÝ³Ï³Ý áõÅ | L5: ÂáÕÝí»É ¿ ³ÝÑ»ï¨³Ýù ¨ ûñÇÝ³Ï³Ý áõÅÇ Ù»ç Ùï³Í í×éÇ Ñ»ï¨³Ýù ãÇ ³é³ç³óñ»É | M5: Ð³ßí»ïáõ Å³Ù³Ý³Ï³ßñç³ÝÇ í»ñçáõÙ ³Ý³í³ñï í³ñáõÛÃÝ»ñÇ ÙÝ³óáñ¹Á
C6: 1 | D6: 2 | E6: 3 | F6: 4 | G6: 5 | H6: 6 | I6: 7 | J6: 8 | K6: 9 | L6: 10 | M6: 11
C7: 1 | D7: 94 | E7: 0 | F7: 0 | G7: 0 | H7: 0 | I7: 95 | J7: 9 | K7: 38 | L7: 16 | M7: 32
C8: 150 | D8: 457 | E8: 0 | F8: 1 | G8: 0 | H8: 96 | I8: 510 | J8: 54 | K8: 288 | L8: 134 | M8: 34
C9: 13 | D9: 44 | E9: 0 | F9: 1 | G9: 0 | H9: 0 | I9: 56 | J9: 14 | K9: 27 | L9: 15 | M9: 0
C10: 0 | D10: 132 | E10: 0 | F10: 0 | G10: 0 | H10: 0 | I10: 132 | J10: 19 | K10: 89 | L10: 24 | M10: 0
C11: 0 | D11: 56 | E11: 0 | F11: 0 | G11: 0 | H11: 0 | I11: 56 | J11: 15 | K11: 41 | L11: 0 | M11: 0
C12: 45 | D12: 65 | E12: 0 | F12: 34 | G12: 0 | H12: 0 | I12: 75 | J12: 4 | K12: 54 | L12: 17 | M12: 0

Sheet Shirak
B1: Ð²ÞìºîìàôÂÚàôÜ
B2: ÁÝ¹Ñ³Ýáõñ Çñ³í³ëáõÃÛ³Ý ¹³ï³ñ³ÝÇ ÏáÕÙÇó í×³ñÙ³Ý Ï³ñ·³¹ñáõÃÛáõÝ ³ñÓ³Ï»Éáõ í³ñáõÛÃÝ»ñÇ ÁÝÃ³óùÇ Ù³ëÇÝ
B3: 2010Ã. 2-րդ ÏÇë³ÙÛ³ÏÇ (ï³ñí³) Ñ³Ù³ñ
A4: êïáõ·Çã Ñ³í³ë³ñáõÙ` 1+2=3+4+5+6+7, 7=8+9+10+11
A5: Ð/Ñ | B5: ¸³ï³íáñÇ ³ÝáõÝ, ³½·³ÝáõÝ | C5: Ð³ßí»ïáõ Å³Ù³Ý³Ï³ßñç³ÝÇ ëÏ½áõÙ ³Ý³í³ñï í³ñáõÛÃÝ»ñÇ ÙÝ³óáñ¹Á | D5: êï³óí»É ¿ í×³ñÙ³Ý Ï³ñ·³¹ñáõÃÛáõÝ ³ñÓ³Ï»Éáõ Ù³ëÇÝ ¹ÇÙáõÙ | E5: ëï³óí»É ¿ ¹ÇÙáõÙ ÁÝÃ³óù ãï³Éáõ Ù³ëÇÝ | F5: Ø»ñÅí»É ¿ | G5: Ø»ñÅí»É ¿ Ù³ëáí | H5: âÇ ³ñÓ³Ïí»É Ñ³ßí»ïáõ Å³Ù³Ý³Ï³ßñç³ÝáõÙ | I5: ²ñÓ³Ïí»É ¿ í×³ñÙ³Ý Ï³ñ·³¹ñáõÃÛáõÝ | J5: êï³óí»É ¿ ³é³ñÏáõÃÛáõÝ | K5: êï³ó»É ¿ ûñÇÝ³Ï³Ý áõÅ | L5: ÂáÕÝí»É ¿ ³ÝÑ»ï¨³Ýù ¨ ûñÇÝ³Ï³Ý áõÅÇ Ù»ç Ùï³Í í×éÇ Ñ»ï¨³Ýù ãÇ ³é³ç³óñ»É | M5: Ð³ßí»ïáõ Å³Ù³Ý³Ï³ßñç³ÝÇ í»ñçáõÙ ³Ý³í³ñï í³ñáõÛÃÝ»ñÇ ÙÝ³óáñ¹Á
C6: 1 | D6: 2 | E6: 3 | F6: 4 | G6: 5 | H6: 6 | I6: 7 | J6: 8 | K6: 9 | L6: 10 | M6: 11
C7: 0 | D7: 92 | E7: 0 | F7: 0 | G7: 0 | H7: 0 | I7: 92 | J7: 8 | K7: 19 | L7: 30 | M7: 35
C8: 0 | D8: 223 | E8: 0 | F8: 0 | G8: 0 | H8: 0 | I8: 223 | J8: 15 | K8: 76 | L8: 0 | M8: 132
C9: 0 | D9: 9 | E9: 0 | F9: 0 | G9: 0 | H9: 0 | I9: 9 | J9: 0 | K9: 3 | L9: 5 | M9: 1
C10: 6 | D10: 97 | E10: 0 | F10: 7 | G10: 0 | H10: 0 | I10: 96 | J10: 7 | K10: 53 | L10: 32 | M10: 4
C11: 0 | D11: 24 | E11: 1 | F11: 0 | G11: 0 | H11: 0 | I11: 23 | J11: 0 | K11: 12 | L11: 11 | M11: 0
C12: 1 | D12: 37 | E12: 7 | F12: 1 | G12: 0 | H12: 0 | I12: 30 | J12: 4 | K12: 12 | L12: 14 | M12: 0
C13: 14 | D13: 338 | E13: 0 | F13: 0 | G13: 0 | H13: 0 | I13: 352 | J13: 40 | K13: 176 | L13: 30 | M13: 106
C14: 0 | D14: 33 | E14: 0 | F14: 0 | G14: 0 | H14: 0 | I14: 33 | J14: 1 | K14: 4 | L14: 15 | M14: 13
C15: 0 | D15: 42 | E15: 0 | F15: 0 | G15: 0 | H15: 0 | I15: 42 | J15: 13 | K15: 22 | L15: 7 | M15: 0
C16: 8 | D16: 130 | E16: 0 | F16: 0 | G16: 0 | H16: 0 | I16: 138 | J16: 15 | K16: 70 | L16: 28 | M16: 25

Sheet Syuniq
A1: Հավելված 2 Հայաստանի Հանրապետության Դատարանների նախագահների խորհրդի 2007թ. դեկտեմբերի 21-ի թիվ 23Լ որոշման
B2: ÐÐ Սյունիքի մարզի ÁÝ¹Ñ³Ýáõñ Çñ³í³ëáõÃÛ³Ý ³é³çÇÝ ³ïÛ³ÝÇ ¹³ï³ñ³ÝÇ ÏáÕÙÇó í×³ñÙ³Ý Ï³ñ·³¹ñáõÃÛáõÝ ³ñÓ³Ï»Éáõ í³ñáõÛÃÝ»ñÇ ÁÝÃ³óùÇ Ù³ëÇÝ
A4: êïáõ·Çã Ñ³í³ë³ñáõÙ` 1+2=3+4+5+6+7, 7=8+9+10+11
A5: Ð/Ñ | B5: ¸³ï³íáñÇ ³ÝáõÝ, ³½·³ÝáõÝ | C5: Ð³ßí»ïáõ Å³Ù³Ý³Ï³ßñç³ÝÇ ëÏ½áõÙ ³Ý³í³ñï í³ñáõÛÃÝ»ñÇ ÙÝ³óáñ¹Á | D5: êï³óí»É ¿ í×³ñÙ³Ý Ï³ñ·³¹ñáõÃÛáõÝ ³ñÓ³Ï»Éáõ Ù³ëÇÝ ¹ÇÙáõÙ | E5: ëï³óí»É ¿ ¹ÇÙáõÙ ÁÝÃ³óù ãï³Éáõ Ù³ëÇÝ | F5: Ø»ñÅí»É ¿ | G5: Ø»ñÅí»É ¿ Ù³ëáí | H5: âÇ ³ñÓ³Ïí»É Ñ³ßí»ïáõ Å³Ù³Ý³Ï³ßñç³ÝáõÙ | I5: ²ñÓ³Ïí»É ¿ í×³ñÙ³Ý Ï³ñ·³¹ñáõÃÛáõÝ | J5: êï³óí»É ¿ ³é³ñÏáõÃÛáõÝ | K5: êï³ó»É ¿ ûñÇÝ³Ï³Ý áõÅ | L5: ÂáÕÝí»É ¿ ³ÝÑ»ï¨³Ýù ¨ ûñÇÝ³Ï³Ý áõÅÇ Ù»ç Ùï³Í í×éÇ Ñ»ï¨³Ýù ãÇ ³é³ç³óñ»É | M5: Ð³ßí»ïáõ Å³Ù³Ý³Ï³ßñç³ÝÇ í»ñçáõÙ ³Ý³í³ñï í³ñáõÛÃÝ»ñÇ ÙÝ³óáñ¹Á
C6: 1 | D6: 2 | E6: 3 | F6: 4 | G6: 5 | H6: 6 | I6: 7 | J6: 8 | K6: 9 | L6: 10 | M6: 11
C7: 1 | D7: 49 | E7: 0 | F7: 20 | G7: 0 | H7: 0 | I7: 30 | J7: 5 | K7: 17 | L7: 8 | M7: 0
C8: 1 | D8: 72 | E8: 1 | F8: 1 | G8: 0 | H8: 0 | I8: 71 | J8: 8 | K8: 51 | L8: 9 | M8: 3
C9: 4 | D9: 102 | E9: 0 | F9: 0 | G9: 0 | H9: 0 | I9: 106 | J9: 14 | K9: 41 | L9: 12 | M9: 39
C10: 1 | D10: 118 | E10: 0 | F10: 2 | G10: 1 | H10: 0 | I10: 116 | J10: 9 | K10: 84 | L10: 18 | M10: 5
C11: 10 | D11: 149 | E11: 0 | F11: 19 | G11: 0 | H11: 7 | I11: 133 | J11: 14 | K11: 101 | L11: 13 | M11: 5
F19: =507-1-42-0-7-456 -> 1

Sheet Tavush
A1: Հավելված 2 Հայաստանի Հանրապետության Դատարանների նախագահների խորհրդի 2007թ. դեկտեմբերի 21-ի թիվ 23Լ որոշման
A4: êïáõ·Çã Ñ³í³ë³ñáõÙ` 1+2=3+4+5+6+7, 7=8+9+10+11
A5: Ð/Ñ | B5: ¸³ï³íáñÇ ³ÝáõÝ, ³½·³ÝáõÝ | C5: Ð³ßí»ïáõ Å³Ù³Ý³Ï³ßñç³ÝÇ ëÏ½áõÙ ³Ý³í³ñï í³ñáõÛÃÝ»ñÇ ÙÝ³óáñ¹Á | D5: êï³óí»É ¿ í×³ñÙ³Ý Ï³ñ·³¹ñáõÃÛáõÝ ³ñÓ³Ï»Éáõ Ù³ëÇÝ ¹ÇÙáõÙ | E5: ëï³óí»É ¿ ¹ÇÙáõÙ ÁÝÃ³óù ãï³Éáõ Ù³ëÇÝ | F5: Ø»ñÅí»É ¿ | G5: Ø»ñÅí»É ¿ Ù³ëáí | H5: âÇ ³ñÓ³Ïí»É Ñ³ßí»ïáõ Å³Ù³Ý³Ï³ßñç³ÝáõÙ | I5: ²ñÓ³Ïí»É ¿ í×³ñÙ³Ý Ï³ñ·³¹ñáõÃÛáõÝ | J5: êï³óí»É ¿ ³é³ñÏáõÃÛáõÝ | K5: êï³ó»É ¿ ûñÇÝ³Ï³Ý áõÅ | L5: ÂáÕÝí»É ¿ ³ÝÑ»ï¨³Ýù ¨ ûñÇÝ³Ï³Ý áõÅÇ Ù»ç Ùï³Í í×éÇ Ñ»ï¨³Ýù ãÇ ³é³ç³óñ»É | M5: Ð³ßí»ïáõ Å³Ù³Ý³Ï³ßñç³ÝÇ í»ñçáõÙ ³Ý³í³ñï í³ñáõÛÃÝ»ñÇ ÙÝ³óáñ¹Á
C6: 1 | D6: 2 | E6: 3 | F6: 4 | G6: 5 | H6: 6 | I6: 7 | J6: 8 | K6: 9 | L6: 10 | M6: 11
C7: 5 | D7: 165 | E7: 0 | F7: 3 | G7: 0 | H7: 60 | I7: 107 | J7: 26 | K7: 59 | L7: 22 | M7: 0
C8: 14 | D8: 180 | E8: 2 | F8: 0 | G8: 0 | H8: 69 | I8: 123 | J8: 18 | K8: 87 | L8: 14 | M8: 4
C9: 1 | D9: 126 | E9: 0 | F9: 4 | G9: 0 | H9: 70 | I9: 53 | J9: 6 | K9: 31 | L9: 16 | M9: 0
C10: 0 | D10: 89 | E10: 0 | F10: 0 | G10: 0 | H10: 2 | I10: 87 | J10: 8 | K10: 57 | L10: 22 | M10: 0

Sheet Yndhanur
B1: Ð²ÞìºîìàôÂÚàôÜ
B2: ÐÐ ÁÝ¹Ñ³Ýáõñ Çñ³í³ëáõÃÛ³Ý ³é³çÇÝ ³ïÛ³ÝÇ ¹³ï³ñ³ÝÝ»ñÇ ÏáÕÙÇó í×³ñÙ³Ý Ï³ñ·³¹ñáõÃÛáõÝ ³ñÓ³Ï»Éáõ í³ñáõÛÃÝ»ñÇ ÁÝÃ³óùÇ Ù³ëÇÝ
B3: 2010 Ãվականի Ñ³Ù³ñ
A4: êïáõ·Çã Ñ³í³ë³ñáõÙ` 1+2=3+4+5+6+7, 7=8+9+10+11
A5: Ð/Ñ | B5: ¸³ï³íáñÇ ³ÝáõÝ, ³½·³ÝáõÝ | C5: Ð³ßí»ïáõ Å³Ù³Ý³Ï³ßñç³ÝÇ ëÏ½áõÙ ³Ý³í³ñï í³ñáõÛÃÝ»ñÇ ÙÝ³óáñ¹Á | D5: êï³óí»É ¿ í×³ñÙ³Ý Ï³ñ·³¹ñáõÃÛáõÝ ³ñÓ³Ï»Éáõ Ù³ëÇÝ ¹ÇÙáõÙ | E5: ëï³óí»É ¿ ¹ÇÙáõÙ ÁÝÃ³óù ãï³Éáõ Ù³ëÇÝ | F5: Ø»ñÅí»É ¿ | G5: Ø»ñÅí»É ¿ Ù³ëáí | H5: âÇ ³ñÓ³Ïí»É Ñ³ßí»ïáõ Å³Ù³Ý³Ï³ßñç³ÝáõÙ | I5: ²ñÓ³Ïí»É ¿ í×³ñÙ³Ý Ï³ñ·³¹ñáõÃÛáõÝ | J5: êï³óí»É ¿ ³é³ñÏáõÃÛáõÝ | K5: êï³ó»É ¿ ûñÇÝ³Ï³Ý áõÅ | L5: ÂáÕÝí»É ¿ ³ÝÑ»ï¨³Ýù ¨ ûñÇÝ³Ï³Ý áõÅÇ Ù»ç Ùï³Í í×éÇ Ñ»ï¨³Ýù ãÇ ³é³ç³óñ»É | M5: Ð³ßí»ïáõ Å³Ù³Ý³Ï³ßñç³ÝÇ í»ñçáõÙ ³Ý³í³ñï í³ñáõÛÃÝ»ñÇ ÙÝ³óáñ¹Á
C6: 1 | D6: 2 | E6: 3 | F6: 4 | G6: 5 | H6: 6 | I6: 7 | J6: 8 | K6: 9 | L6: 10 | M6: 11
A7: 1 | C7: =SUM(AJAPNYAK!C7+ARABKIR!C7+AVAN!C7+Erebuni!C7+MALATYA!C7+Shengavit!C7+Kentron!C7+Aragacotn!C7+Ararat!C7+Armavir!C7+Gexarquniq!C7+Kotayk!C7+Lori!C7+Shirak!C7+Syuniq!C7+Tavush!C7) -> 216 | D7: =SUM(AJAPNYAK!D7+ARABKIR!D7+AVAN!D7+Erebuni!D7+MALATYA!D7+Shengavit!D7+Kentron!D7+Aragacotn!D7+Ararat!D7+Armavir!D7+Gexarquniq!D7+Kotayk!D7+Lori!D7+Shirak!D7+Syuniq!D7+Tavush!D7) -> 3769 | E7: =SUM(AJAPNYAK!E7+ARABKIR!E7+AVAN!E7+Erebuni!E7+MALATYA!E7+Shengavit!E7+Kentron!E7+Aragacotn!E7+Ararat!E7+Armavir!E7+Gexarquniq!E7+Kotayk!E7+Lori!E7+Shirak!E7+Syuniq!E7+Tavush!E7) -> 14 | F7: =SUM(AJAPNYAK!F7+ARABKIR!F7+AVAN!F7+Erebuni!F7+MALATYA!F7+Shengavit!F7+Kentron!F7+Aragacotn!F7+Ararat!F7+Armavir!F7+Gexarquniq!F7+Kotayk!F7+Lori!F7+Shirak!F7+Syuniq!F7+Tavush!F7) -> 215 | G7: =SUM(AJAPNYAK!G7+ARABKIR!G7+AVAN!G7+Erebuni!G7+MALATYA!G7+Shengavit!G7+Kentron!G7+Aragacotn!G7+Ararat!G7+Armavir!G7+Gexarquniq!G7+Kotayk!G7+Lori!G7+Shirak!G7+Syuniq!G7+Tavush!G7) -> 4 | H7: =SUM(AJAPNYAK!H7+ARABKIR!H7+AVAN!H7+Erebuni!H7+MALATYA!H7+Shengavit!H7+Kentron!H7+Aragacotn!H7+Ararat!H7+Armavir!H7+Gexarquniq!H7+Kotayk!H7+Lori!H7+Shirak!H7+Syuniq!H7+Tavush!H7) -> 165 | I7: =SUM(AJAPNYAK!I7+ARABKIR!I7+AVAN!I7+Erebuni!I7+MALATYA!I7+Shengavit!I7+Kentron!I7+Aragacotn!I7+Ararat!I7+Armavir!I7+Gexarquniq!I7+Kotayk!I7+Lori!I7+Shirak!I7+Syuniq!I7+Tavush!I7) -> 3587 | J7: =SUM(AJAPNYAK!J7+ARABKIR!J7+AVAN!J7+Erebuni!J7+MALATYA!J7+Shengavit!J7+Kentron!J7+Aragacotn!J7+Ararat!J7+Armavir!J7+Gexarquniq!J7+Kotayk!J7+Lori!J7+Shirak!J7+Syuniq!J7+Tavush!J7) -> 220 | ... M7: =SUM(AJAPNYAK!M7+ARABKIR!M7+AVAN!M7+Erebuni!M7+MALATYA!M7+Shengavit!M7+Kentron!M7+Aragacotn!M7+Ararat!M7+Armavir!M7+Gexarquniq!M7+Kotayk!M7+Lori!M7+Shirak!M7+Syuniq!M7+Tavush!M7) -> 179
A8: 2 | C8: =SUM(AJAPNYAK!C8+ARABKIR!C8+AVAN!C8+Erebuni!C8+MALATYA!C8+Shengavit!C8+Kentron!C8+Aragacotn!C8+Ararat!C8+Armavir!C8+Gexarquniq!C8+Kotayk!C8+Lori!C8+Shirak!C8+Syuniq!C8+Tavush!C8) -> 209 | D8: =SUM(AJAPNYAK!D8+ARABKIR!D8+AVAN!D8+Erebuni!D8+MALATYA!D8+Shengavit!D8+Kentron!D8+Aragacotn!D8+Ararat!D8+Armavir!D8+Gexarquniq!D8+Kotayk!D8+Lori!D8+Shirak!D8+Syuniq!D8+Tavush!D8) -> 5242 | E8: =SUM(AJAPNYAK!E8+ARABKIR!E8+AVAN!E8+Erebuni!E8+MALATYA!E8+Shengavit!E8+Kentron!E8+Aragacotn!E8+Ararat!E8+Armavir!E8+Gexarquniq!E8+Kotayk!E8+Lori!E8+Shirak!E8+Syuniq!E8+Tavush!E8) -> 36 | F8: =SUM(AJAPNYAK!F8+ARABKIR!F8+AVAN!F8+Erebuni!F8+MALATYA!F8+Shengavit!F8+Kentron!F8+Aragacotn!F8+Ararat!F8+Armavir!F8+Gexarquniq!F8+Kotayk!F8+Lori!F8+Shirak!F8+Syuniq!F8+Tavush!F8) -> 646 | G8: =SUM(AJAPNYAK!G8+ARABKIR!G8+AVAN!G8+Erebuni!G8+MALATYA!G8+Shengavit!G8+Kentron!G8+Aragacotn!G8+Ararat!G8+Armavir!G8+Gexarquniq!G8+Kotayk!G8+Lori!G8+Shirak!G8+Syuniq!G8+Tavush!G8) -> 5 | H8: =SUM(AJAPNYAK!H8+ARABKIR!H8+AVAN!H8+Erebuni!H8+MALATYA!H8+Shengavit!H8+Kentron!H8+Aragacotn!H8+Ararat!H8+Armavir!H8+Gexarquniq!H8+Kotayk!H8+Lori!H8+Shirak!H8+Syuniq!H8+Tavush!H8) -> 182 | I8: =SUM(AJAPNYAK!I8+ARABKIR!I8+AVAN!I8+Erebuni!I8+MALATYA!I8+Shengavit!I8+Kentron!I8+Aragacotn!I8+Ararat!I8+Armavir!I8+Gexarquniq!I8+Kotayk!I8+Lori!I8+Shirak!I8+Syuniq!I8+Tavush!I8) -> 4578 | J8: =SUM(AJAPNYAK!J8+ARABKIR!J8+AVAN!J8+Erebuni!J8+MALATYA!J8+Shengavit!J8+Kentron!J8+Aragacotn!J8+Ararat!J8+Armavir!J8+Gexarquniq!J8+Kotayk!J8+Lori!J8+Shirak!J8+Syuniq!J8+Tavush!J8) -> 366 | ... M8: =SUM(AJAPNYAK!M8+ARABKIR!M8+AVAN!M8+Erebuni!M8+MALATYA!M8+Shengavit!M8+Kentron!M8+Aragacotn!M8+Ararat!M8+Armavir!M8+Gexarquniq!M8+Kotayk!M8+Lori!M8+Shirak!M8+Syuniq!M8+Tavush!M8) -> 716
A9: 3 | C9: =SUM(AJAPNYAK!C9+ARABKIR!C9+AVAN!C9+Erebuni!C9+MALATYA!C9+Shengavit!C9+Kentron!C9+Aragacotn!C9+Ararat!C9+Armavir!C9+Gexarquniq!C9+Kotayk!C9+Lori!C9+Shirak!C9+Syuniq!C9+Tavush!C9) -> 238 | D9: =SUM(AJAPNYAK!D9+ARABKIR!D9+AVAN!D9+Erebuni!D9+MALATYA!D9+Shengavit!D9+Kentron!D9+Aragacotn!D9+Ararat!D9+Armavir!D9+Gexarquniq!D9+Kotayk!D9+Lori!D9+Shirak!D9+Syuniq!D9+Tavush!D9) -> 5064 | E9: =SUM(AJAPNYAK!E9+ARABKIR!E9+AVAN!E9+Erebuni!E9+MALATYA!E9+Shengavit!E9+Kentron!E9+Aragacotn!E9+Ararat!E9+Armavir!E9+Gexarquniq!E9+Kotayk!E9+Lori!E9+Shirak!E9+Syuniq!E9+Tavush!E9) -> 3 | F9: =SUM(AJAPNYAK!F9+ARABKIR!F9+AVAN!F9+Erebuni!F9+MALATYA!F9+Shengavit!F9+Kentron!F9+Aragacotn!F9+Ararat!F9+Armavir!F9+Gexarquniq!F9+Kotayk!F9+Lori!F9+Shirak!F9+Syuniq!F9+Tavush!F9) -> 705 | G9: =SUM(AJAPNYAK!G9+ARABKIR!G9+AVAN!G9+Erebuni!G9+MALATYA!G9+Shengavit!G9+Kentron!G9+Aragacotn!G9+Ararat!G9+Armavir!G9+Gexarquniq!G9+Kotayk!G9+Lori!G9+Shirak!G9+Syuniq!G9+Tavush!G9) -> 4 | H9: =SUM(AJAPNYAK!H9+ARABKIR!H9+AVAN!H9+Erebuni!H9+MALATYA!H9+Shengavit!H9+Kentron!H9+Aragacotn!H9+Ararat!H9+Armavir!H9+Gexarquniq!H9+Kotayk!H9+Lori!H9+Shirak!H9+Syuniq!H9+Tavush!H9) -> 177 | I9: =SUM(AJAPNYAK!I9+ARABKIR!I9+AVAN!I9+Erebuni!I9+MALATYA!I9+Shengavit!I9+Kentron!I9+Aragacotn!I9+Ararat!I9+Armavir!I9+Gexarquniq!I9+Kotayk!I9+Lori!I9+Shirak!I9+Syuniq!I9+Tavush!I9) -> 4402 | J9: =SUM(AJAPNYAK!J9+ARABKIR!J9+AVAN!J9+Erebuni!J9+MALATYA!J9+Shengavit!J9+Kentron!J9+Aragacotn!J9+Ararat!J9+Armavir!J9+Gexarquniq!J9+Kotayk!J9+Lori!J9+Shirak!J9+Syuniq!J9+Tavush!J9) -> 227 | ... M9: =SUM(AJAPNYAK!M9+ARABKIR!M9+AVAN!M9+Erebuni!M9+MALATYA!M9+Shengavit!M9+Kentron!M9+Aragacotn!M9+Ararat!M9+Armavir!M9+Gexarquniq!M9+Kotayk!M9+Lori!M9+Shirak!M9+Syuniq!M9+Tavush!M9) -> 521
A10: 4 | C10: =SUM(AJAPNYAK!C10+ARABKIR!C10+AVAN!C10+Erebuni!C10+MALATYA!C10+Shengavit!C10+Kentron!C10+Aragacotn!C10+Ararat!C10+Armavir!C10+Gexarquniq!C10+Kotayk!C10+Lori!C10+Shirak!C10+Syuniq!C10+Tavush!C10) -> 955 | D10: =SUM(AJAPNYAK!D10+ARABKIR!D10+AVAN!D10+Erebuni!D10+MALATYA!D10+Shengavit!D10+Kentron!D10+Aragacotn!D10+Ararat!D10+Armavir!D10+Gexarquniq!D10+Kotayk!D10+Lori!D10+Shirak!D10+Syuniq!D10+Tavush!D10) -> 5655 | E10: =SUM(AJAPNYAK!E10+ARABKIR!E10+AVAN!E10+Erebuni!E10+MALATYA!E10+Shengavit!E10+Kentron!E10+Aragacotn!E10+Ararat!E10+Armavir!E10+Gexarquniq!E10+Kotayk!E10+Lori!E10+Shirak!E10+Syuniq!E10+Tavush!E10) -> 18 | F10: =SUM(AJAPNYAK!F10+ARABKIR!F10+AVAN!F10+Erebuni!F10+MALATYA!F10+Shengavit!F10+Kentron!F10+Aragacotn!F10+Ararat!F10+Armavir!F10+Gexarquniq!F10+Kotayk!F10+Lori!F10+Shirak!F10+Syuniq!F10+Tavush!F10) -> 653 | G10: =SUM(AJAPNYAK!G10+ARABKIR!G10+AVAN!G10+Erebuni!G10+MALATYA!G10+Shengavit!G10+Kentron!G10+Aragacotn!G10+Ararat!G10+Armavir!G10+Gexarquniq!G10+Kotayk!G10+Lori!G10+Shirak!G10+Syuniq!G10+Tavush!G10) -> 4 | H10: =SUM(AJAPNYAK!H10+ARABKIR!H10+AVAN!H10+Erebuni!H10+MALATYA!H10+Shengavit!H10+Kentron!H10+Aragacotn!H10+Ararat!H10+Armavir!H10+Gexarquniq!H10+Kotayk!H10+Lori!H10+Shirak!H10+Syuniq!H10+Tavush!H10) -> 199 | I10: =SUM(AJAPNYAK!I10+ARABKIR!I10+AVAN!I10+Erebuni!I10+MALATYA!I10+Shengavit!I10+Kentron!I10+Aragacotn!I10+Ararat!I10+Armavir!I10+Gexarquniq!I10+Kotayk!I10+Lori!I10+Shirak!I10+Syuniq!I10+Tavush!I10) -> 5736 | J10: =SUM(AJAPNYAK!J10+ARABKIR!J10+AVAN!J10+Erebuni!J10+MALATYA!J10+Shengavit!J10+Kentron!J10+Aragacotn!J10+Ararat!J10+Armavir!J10+Gexarquniq!J10+Kotayk!J10+Lori!J10+Shirak!J10+Syuniq!J10+Tavush!J10) -> 224 | ... L10: =SUM(AJAPNYAK!L10+ARABKIR!L10+AVAN!L10+Erebuni!L10+MALATYA!L10+Shengavit!L10+Kentron!L10+Aragacotn!L10+Ararat!L10+Armavir!L10+Gexarquniq!L10+Kotayk!L10+Lori!L10+Shirak!L10+Syuniq!L10+Tavush!L10) -> 699 | M10: 1760
A11: 5 | C11: =SUM(AJAPNYAK!C11+ARABKIR!C11+AVAN!C11+Erebuni!C11+MALATYA!C11+Shengavit!C11+Kentron!C11+Aragacotn!C11+Ararat!C11+Armavir!C11+Gexarquniq!C11+Kotayk!C11+Lori!C11+Shirak!C11+Syuniq!C11+Tavush!C11) -> 530 | D11: =SUM(AJAPNYAK!D11+ARABKIR!D11+AVAN!D11+Erebuni!D11+MALATYA!D11+Shengavit!D11+Kentron!D11+Aragacotn!D11+Ararat!D11+Armavir!D11+Gexarquniq!D11+Kotayk!D11+Lori!D11+Shirak!D11+Syuniq!D11+Tavush!D11) -> 4660 | E11: =SUM(AJAPNYAK!E11+ARABKIR!E11+AVAN!E11+Erebuni!E11+MALATYA!E11+Shengavit!E11+Kentron!E11+Aragacotn!E11+Ararat!E11+Armavir!E11+Gexarquniq!E11+Kotayk!E11+Lori!E11+Shirak!E11+Syuniq!E11+Tavush!E11) -> 5 | F11: =SUM(AJAPNYAK!F11+ARABKIR!F11+AVAN!F11+Erebuni!F11+MALATYA!F11+Shengavit!F11+Kentron!F11+Aragacotn!F11+Ararat!F11+Armavir!F11+Gexarquniq!F11+Kotayk!F11+Lori!F11+Shirak!F11+Syuniq!F11+Tavush!F11) -> 417 | G11: =SUM(AJAPNYAK!G11+ARABKIR!G11+AVAN!G11+Erebuni!G11+MALATYA!G11+Shengavit!G11+Kentron!G11+Aragacotn!G11+Ararat!G11+Armavir!G11+Gexarquniq!G11+Kotayk!G11+Lori!G11+Shirak!G11+Syuniq!G11+Tavush!G11) -> 0 | H11: =SUM(AJAPNYAK!H11+ARABKIR!H11+AVAN!H11+Erebuni!H11+MALATYA!H11+Shengavit!H11+Kentron!H11+Aragacotn!H11+Ararat!H11+Armavir!H11+Gexarquniq!H11+Kotayk!H11+Lori!H11+Shirak!H11+Syuniq!H11+Tavush!H11) -> 164 | I11: =SUM(AJAPNYAK!I11+ARABKIR!I11+AVAN!I11+Erebuni!I11+MALATYA!I11+Shengavit!I11+Kentron!I11+Aragacotn!I11+Ararat!I11+Armavir!I11+Gexarquniq!I11+Kotayk!I11+Lori!I11+Shirak!I11+Syuniq!I11+Tavush!I11) -> 4604 | J11: =SUM(AJAPNYAK!J11+ARABKIR!J11+AVAN!J11+Erebuni!J11+MALATYA!J11+Shengavit!J11+Kentron!J11+Aragacotn!J11+Ararat!J11+Armavir!J11+Gexarquniq!J11+Kotayk!J11+Lori!J11+Shirak!J11+Syuniq!J11+Tavush!J11) -> 574 | ... M11: =SUM(AJAPNYAK!M11+ARABKIR!M11+AVAN!M11+Erebuni!M11+MALATYA!M11+Shengavit!M11+Kentron!M11+Aragacotn!M11+Ararat!M11+Armavir!M11+Gexarquniq!M11+Kotayk!M11+Lori!M11+Shirak!M11+Syuniq!M11+Tavush!M11) -> 136
A12: 6 | C12: =SUM(AJAPNYAK!C12+ARABKIR!C12+AVAN!C12+Erebuni!C12+MALATYA!C12+Shengavit!C12+Kentron!C12+Aragacotn!C12+Ararat!C12+Armavir!C12+Gexarquniq!C12+Kotayk!C12+Lori!C12+Shirak!C12+Syuniq!C12+Tavush!C12) -> 155 | D12: =SUM(AJAPNYAK!D12+ARABKIR!D12+AVAN!D12+Erebuni!D12+MALATYA!D12+Shengavit!D12+Kentron!D12+Aragacotn!D12+Ararat!D12+Armavir!D12+Gexarquniq!D12+Kotayk!D12+Lori!D12+Shirak!D12+Syuniq!D12+Tavush!D12) -> 2618 | E12: =SUM(AJAPNYAK!E12+ARABKIR!E12+AVAN!E12+Erebuni!E12+MALATYA!E12+Shengavit!E12+Kentron!E12+Aragacotn!E12+Ararat!E12+Armavir!E12+Gexarquniq!E12+Kotayk!E12+Lori!E12+Shirak!E12+Syuniq!E12+Tavush!E12) -> 16 | F12: =SUM(AJAPNYAK!F12+ARABKIR!F12+AVAN!F12+Erebuni!F12+MALATYA!F12+Shengavit!F12+Kentron!F12+Aragacotn!F12+Ararat!F12+Armavir!F12+Gexarquniq!F12+Kotayk!F12+Lori!F12+Shirak!F12+Syuniq!F12+Tavush!F12) -> 587 | G12: =SUM(AJAPNYAK!G12+ARABKIR!G12+AVAN!G12+Erebuni!G12+MALATYA!G12+Shengavit!G12+Kentron!G12+Aragacotn!G12+Ararat!G12+Armavir!G12+Gexarquniq!G12+Kotayk!G12+Lori!G12+Shirak!G12+Syuniq!G12+Tavush!G12) -> 3 | H12: 52 | I12: =SUM(AJAPNYAK!I12+ARABKIR!I12+AVAN!I12+Erebuni!I12+MALATYA!I12+Shengavit!I12+Kentron!I12+Aragacotn!I12+Ararat!I12+Armavir!I12+Gexarquniq!I12+Kotayk!I12+Lori!I12+Shirak!I12+Syuniq!I12+Tavush!I12) -> 2119 | J12: =SUM(AJAPNYAK!J12+ARABKIR!J12+AVAN!J12+Erebuni!J12+MALATYA!J12+Shengavit!J12+Kentron!J12+Aragacotn!J12+Ararat!J12+Armavir!J12+Gexarquniq!J12+Kotayk!J12+Lori!J12+Shirak!J12+Syuniq!J12+Tavush!J12) -> 134 | K12: =SUM(AJAPNYAK!K12+ARABKIR!K12+AVAN!K12+Erebuni!K12+MALATYA!K12+Shengavit!K12+Kentron!K12+Aragacotn!K12+Ararat!K12+Armavir!K12+Gexarquniq!K12+Kotayk!K12+Lori!K12+Shirak!K12+Syuniq!K12+Tavush!K12) -> 1328 | L12: =SUM(AJAPNYAK!L12+ARABKIR!L12+AVAN!L12+Erebuni!L12+MALATYA!L12+Shengavit!L12+Kentron!L12+Aragacotn!L12+Ararat!L12+Armavir!L12+Gexarquniq!L12+Kotayk!L12+Lori!L12+Shirak!L12+Syuniq!L12+Tavush!L12) -> 522 | M12: =SUM(AJAPNYAK!M12+ARABKIR!M12+AVAN!M12+Erebuni!M12+MALATYA!M12+Shengavit!M12+Kentron!M12+Aragacotn!M12+Ararat!M12+Armavir!M12+Gexarquniq!M12+Kotayk!M12+Lori!M12+Shirak!M12+Syuniq!M12+Tavush!M12) -> 135
A13: 7 | C13: =SUM(AJAPNYAK!C13+ARABKIR!C13+AVAN!C13+Erebuni!C13+MALATYA!C13+Shengavit!C13+Kentron!C13+Aragacotn!C13+Ararat!C13+Armavir!C13+Gexarquniq!C13+Kotayk!C13+Lori!C13+Shirak!C13+Syuniq!C13+Tavush!C13) -> 41 | D13: =SUM(AJAPNYAK!D13+ARABKIR!D13+AVAN!D13+Erebuni!D13+MALATYA!D13+Shengavit!D13+Kentron!D13+Aragacotn!D13+Ararat!D13+Armavir!D13+Gexarquniq!D13+Kotayk!D13+Lori!D13+Shirak!D13+Syuniq!D13+Tavush!D13) -> 1801 | E13: =SUM(AJAPNYAK!E13+ARABKIR!E13+AVAN!E13+Erebuni!E13+MALATYA!E13+Shengavit!E13+Kentron!E13+Aragacotn!E13+Ararat!E13+Armavir!E13+Gexarquniq!E13+Kotayk!E13+Lori!E13+Shirak!E13+Syuniq!E13+Tavush!E13) -> 6 | F13: =SUM(AJAPNYAK!F13+ARABKIR!F13+AVAN!F13+Erebuni!F13+MALATYA!F13+Shengavit!F13+Kentron!F13+Aragacotn!F13+Ararat!F13+Armavir!F13+Gexarquniq!F13+Kotayk!F13+Lori!F13+Shirak!F13+Syuniq!F13+Tavush!F13) -> 143 | G13: =SUM(AJAPNYAK!G13+ARABKIR!G13+AVAN!G13+Erebuni!G13+MALATYA!G13+Shengavit!G13+Kentron!G13+Aragacotn!G13+Ararat!G13+Armavir!G13+Gexarquniq!G13+Kotayk!G13+Lori!G13+Shirak!G13+Syuniq!G13+Tavush!G13) -> 3 | H13: =SUM(AJAPNYAK!H13+ARABKIR!H13+AVAN!H13+Erebuni!H13+MALATYA!H13+Shengavit!H13+Kentron!H13+Aragacotn!H13+Ararat!H13+Armavir!H13+Gexarquniq!H13+Kotayk!H13+Lori!H13+Shirak!H13+Syuniq!H13+Tavush!H13) -> 36 | I13: =SUM(AJAPNYAK!I13+ARABKIR!I13+AVAN!I13+Erebuni!I13+MALATYA!I13+Shengavit!I13+Kentron!I13+Aragacotn!I13+Ararat!I13+Armavir!I13+Gexarquniq!I13+Kotayk!I13+Lori!I13+Shirak!I13+Syuniq!I13+Tavush!I13) -> 1654 | J13: =SUM(AJAPNYAK!J13+ARABKIR!J13+AVAN!J13+Erebuni!J13+MALATYA!J13+Shengavit!J13+Kentron!J13+Aragacotn!J13+Ararat!J13+Armavir!J13+Gexarquniq!J13+Kotayk!J13+Lori!J13+Shirak!J13+Syuniq!J13+Tavush!J13) -> 153 | ... M13: =SUM(AJAPNYAK!M13+ARABKIR!M13+AVAN!M13+Erebuni!M13+MALATYA!M13+Shengavit!M13+Kentron!M13+Aragacotn!M13+Ararat!M13+Armavir!M13+Gexarquniq!M13+Kotayk!M13+Lori!M13+Shirak!M13+Syuniq!M13+Tavush!M13) -> 273
A14: 8 | C14: =SUM(AJAPNYAK!C14+ARABKIR!C14+AVAN!C14+Erebuni!C14+MALATYA!C14+Shengavit!C14+Kentron!C14+Aragacotn!C14+Ararat!C14+Armavir!C14+Gexarquniq!C14+Kotayk!C14+Lori!C14+Shirak!C14+Syuniq!C14+Tavush!C14) -> 62 | D14: =SUM(AJAPNYAK!D14+ARABKIR!D14+AVAN!D14+Erebuni!D14+MALATYA!D14+Shengavit!D14+Kentron!D14+Aragacotn!D14+Ararat!D14+Armavir!D14+Gexarquniq!D14+Kotayk!D14+Lori!D14+Shirak!D14+Syuniq!D14+Tavush!D14) -> 2243 | E14: =SUM(AJAPNYAK!E14+ARABKIR!E14+AVAN!E14+Erebuni!E14+MALATYA!E14+Shengavit!E14+Kentron!E14+Aragacotn!E14+Ararat!E14+Armavir!E14+Gexarquniq!E14+Kotayk!E14+Lori!E14+Shirak!E14+Syuniq!E14+Tavush!E14) -> 8 | F14: =SUM(AJAPNYAK!F14+ARABKIR!F14+AVAN!F14+Erebuni!F14+MALATYA!F14+Shengavit!F14+Kentron!F14+Aragacotn!F14+Ararat!F14+Armavir!F14+Gexarquniq!F14+Kotayk!F14+Lori!F14+Shirak!F14+Syuniq!F14+Tavush!F14) -> 411 | G14: =SUM(AJAPNYAK!G14+ARABKIR!G14+AVAN!G14+Erebuni!G14+MALATYA!G14+Shengavit!G14+Kentron!G14+Aragacotn!G14+Ararat!G14+Armavir!G14+Gexarquniq!G14+Kotayk!G14+Lori!G14+Shirak!G14+Syuniq!G14+Tavush!G14) -> 4 | H14: =SUM(AJAPNYAK!H14+ARABKIR!H14+AVAN!H14+Erebuni!H14+MALATYA!H14+Shengavit!H14+Kentron!H14+Aragacotn!H14+Ararat!H14+Armavir!H14+Gexarquniq!H14+Kotayk!H14+Lori!H14+Shirak!H14+Syuniq!H14+Tavush!H14) -> 0 | I14: =SUM(AJAPNYAK!I14+ARABKIR!I14+AVAN!I14+Erebuni!I14+MALATYA!I14+Shengavit!I14+Kentron!I14+Aragacotn!I14+Ararat!I14+Armavir!I14+Gexarquniq!I14+Kotayk!I14+Lori!I14+Shirak!I14+Syuniq!I14+Tavush!I14) -> 1882 | J14: =SUM(AJAPNYAK!J14+ARABKIR!J14+AVAN!J14+Erebuni!J14+MALATYA!J14+Shengavit!J14+Kentron!J14+Aragacotn!J14+Ararat!J14+Armavir!J14+Gexarquniq!J14+Kotayk!J14+Lori!J14+Shirak!J14+Syuniq!J14+Tavush!J14) -> 159 | ... M14: =SUM(AJAPNYAK!M14+ARABKIR!M14+AVAN!M14+Erebuni!M14+MALATYA!M14+Shengavit!M14+Kentron!M14+Aragacotn!M14+Ararat!M14+Armavir!M14+Gexarquniq!M14+Kotayk!M14+Lori!M14+Shirak!M14+Syuniq!M14+Tavush!M14) -> 20
A15: 9 | C15: =SUM(AJAPNYAK!C15+ARABKIR!C15+AVAN!C15+Erebuni!C15+MALATYA!C15+Shengavit!C15+Kentron!C15+Aragacotn!C15+Ararat!C15+Armavir!C15+Gexarquniq!C15+Kotayk!C15+Lori!C15+Shirak!C15+Syuniq!C15+Tavush!C15) -> 8 | D15: =SUM(AJAPNYAK!D15+ARABKIR!D15+AVAN!D15+Erebuni!D15+MALATYA!D15+Shengavit!D15+Kentron!D15+Aragacotn!D15+Ararat!D15+Armavir!D15+Gexarquniq!D15+Kotayk!D15+Lori!D15+Shirak!D15+Syuniq!D15+Tavush!D15) -> 283 | E15: =SUM(AJAPNYAK!E15+ARABKIR!E15+AVAN!E15+Erebuni!E15+MALATYA!E15+Shengavit!E15+Kentron!E15+Aragacotn!E15+Ararat!E15+Armavir!E15+Gexarquniq!E15+Kotayk!E15+Lori!E15+Shirak!E15+Syuniq!E15+Tavush!E15) -> 2 | F15: =SUM(AJAPNYAK!F15+ARABKIR!F15+AVAN!F15+Erebuni!F15+MALATYA!F15+Shengavit!F15+Kentron!F15+Aragacotn!F15+Ararat!F15+Armavir!F15+Gexarquniq!F15+Kotayk!F15+Lori!F15+Shirak!F15+Syuniq!F15+Tavush!F15) -> 2 | G15: =SUM(AJAPNYAK!G15+ARABKIR!G15+AVAN!G15+Erebuni!G15+MALATYA!G15+Shengavit!G15+Kentron!G15+Aragacotn!G15+Ararat!G15+Armavir!G15+Gexarquniq!G15+Kotayk!G15+Lori!G15+Shirak!G15+Syuniq!G15+Tavush!G15) -> 0 | H15: 141 | I15: =SUM(AJAPNYAK!I15+ARABKIR!I15+AVAN!I15+Erebuni!I15+MALATYA!I15+Shengavit!I15+Kentron!I15+Aragacotn!I15+Ararat!I15+Armavir!I15+Gexarquniq!I15+Kotayk!I15+Lori!I15+Shirak!I15+Syuniq!I15+Tavush!I15) -> 156 | J15: =SUM(AJAPNYAK!J15+ARABKIR!J15+AVAN!J15+Erebuni!J15+MALATYA!J15+Shengavit!J15+Kentron!J15+Aragacotn!J15+Ararat!J15+Armavir!J15+Gexarquniq!J15+Kotayk!J15+Lori!J15+Shirak!J15+Syuniq!J15+Tavush!J15) -> 15 | K15: =SUM(AJAPNYAK!K15+ARABKIR!K15+AVAN!K15+Erebuni!K15+MALATYA!K15+Shengavit!K15+Kentron!K15+Aragacotn!K15+Ararat!K15+Armavir!K15+Gexarquniq!K15+Kotayk!K15+Lori!K15+Shirak!K15+Syuniq!K15+Tavush!K15) -> 90 | L15: =SUM(AJAPNYAK!L15+ARABKIR!L15+AVAN!L15+Erebuni!L15+MALATYA!L15+Shengavit!L15+Kentron!L15+Aragacotn!L15+Ararat!L15+Armavir!L15+Gexarquniq!L15+Kotayk!L15+Lori!L15+Shirak!L15+Syuniq!L15+Tavush!L15) -> 9 | M15: =SUM(AJAPNYAK!M15+ARABKIR!M15+AVAN!M15+Erebuni!M15+MALATYA!M15+Shengavit!M15+Kentron!M15+Aragacotn!M15+Ararat!M15+Armavir!M15+Gexarquniq!M15+Kotayk!M15+Lori!M15+Shirak!M15+Syuniq!M15+Tavush!M15) -> 42
A16: 10 | C16: =SUM(AJAPNYAK!C16+ARABKIR!C16+AVAN!C16+Erebuni!C16+MALATYA!C16+Shengavit!C16+Kentron!C16+Aragacotn!C16+Ararat!C16+Armavir!C16+Gexarquniq!C16+Kotayk!C16+Lori!C16+Shirak!C16+Syuniq!C16+Tavush!C16) -> 8 | D16: =SUM(AJAPNYAK!D16+ARABKIR!D16+AVAN!D16+Erebuni!D16+MALATYA!D16+Shengavit!D16+Kentron!D16+Aragacotn!D16+Ararat!D16+Armavir!D16+Gexarquniq!D16+Kotayk!D16+Lori!D16+Shirak!D16+Syuniq!D16+Tavush!D16) -> 130 | E16: =SUM(AJAPNYAK!E16+ARABKIR!E16+AVAN!E16+Erebuni!E16+MALATYA!E16+Shengavit!E16+Kentron!E16+Aragacotn!E16+Ararat!E16+Armavir!E16+Gexarquniq!E16+Kotayk!E16+Lori!E16+Shirak!E16+Syuniq!E16+Tavush!E16) -> 0 | F16: =SUM(AJAPNYAK!F16+ARABKIR!F16+AVAN!F16+Erebuni!F16+MALATYA!F16+Shengavit!F16+Kentron!F16+Aragacotn!F16+Ararat!F16+Armavir!F16+Gexarquniq!F16+Kotayk!F16+Lori!F16+Shirak!F16+Syuniq!F16+Tavush!F16) -> 0 | G16: =SUM(AJAPNYAK!G16+ARABKIR!G16+AVAN!G16+Erebuni!G16+MALATYA!G16+Shengavit!G16+Kentron!G16+Aragacotn!G16+Ararat!G16+Armavir!G16+Gexarquniq!G16+Kotayk!G16+Lori!G16+Shirak!G16+Syuniq!G16+Tavush!G16) -> 0 | H16: =SUM(AJAPNYAK!H16+ARABKIR!H16+AVAN!H16+Erebuni!H16+MALATYA!H16+Shengavit!H16+Kentron!H16+Aragacotn!H16+Ararat!H16+Armavir!H16+Gexarquniq!H16+Kotayk!H16+Lori!H16+Shirak!H16+Syuniq!H16+Tavush!H16) -> 0 | I16: =SUM(AJAPNYAK!I16+ARABKIR!I16+AVAN!I16+Erebuni!I16+MALATYA!I16+Shengavit!I16+Kentron!I16+Aragacotn!I16+Ararat!I16+Armavir!I16+Gexarquniq!I16+Kotayk!I16+Lori!I16+Shirak!I16+Syuniq!I16+Tavush!I16) -> 138 | J16: =SUM(AJAPNYAK!J16+ARABKIR!J16+AVAN!J16+Erebuni!J16+MALATYA!J16+Shengavit!J16+Kentron!J16+Aragacotn!J16+Ararat!J16+Armavir!J16+Gexarquniq!J16+Kotayk!J16+Lori!J16+Shirak!J16+Syuniq!J16+Tavush!J16) -> 15 | ... M16: =SUM(AJAPNYAK!M16+ARABKIR!M16+AVAN!M16+Erebuni!M16+MALATYA!M16+Shengavit!M16+Kentron!M16+Aragacotn!M16+Ararat!M16+Armavir!M16+Gexarquniq!M16+Kotayk!M16+Lori!M16+Shirak!M16+Syuniq!M16+Tavush!M16) -> 25
A17: 11 | C17: =SUM(AJAPNYAK!C17+ARABKIR!C17+AVAN!C17+Erebuni!C17+MALATYA!C17+Shengavit!C17+Kentron!C17+Aragacotn!C17+Ararat!C17+Armavir!C17+Gexarquniq!C17+Kotayk!C17+Lori!C17+Shirak!C17+Syuniq!C17+Tavush!C17) -> 0 | D17: =SUM(AJAPNYAK!D17+ARABKIR!D17+AVAN!D17+Erebuni!D17+MALATYA!D17+Shengavit!D17+Kentron!D17+Aragacotn!D17+Ararat!D17+Armavir!D17+Gexarquniq!D17+Kotayk!D17+Lori!D17+Shirak!D17+Syuniq!D17+Tavush!D17) -> 0 | E17: =SUM(AJAPNYAK!E17+ARABKIR!E17+AVAN!E17+Erebuni!E17+MALATYA!E17+Shengavit!E17+Kentron!E17+Aragacotn!E17+Ararat!E17+Armavir!E17+Gexarquniq!E17+Kotayk!E17+Lori!E17+Shirak!E17+Syuniq!E17+Tavush!E17) -> 0 | F17: =SUM(AJAPNYAK!F17+ARABKIR!F17+AVAN!F17+Erebuni!F17+MALATYA!F17+Shengavit!F17+Kentron!F17+Aragacotn!F17+Ararat!F17+Armavir!F17+Gexarquniq!F17+Kotayk!F17+Lori!F17+Shirak!F17+Syuniq!F17+Tavush!F17) -> 0 | G17: =SUM(AJAPNYAK!G17+ARABKIR!G17+AVAN!G17+Erebuni!G17+MALATYA!G17+Shengavit!G17+Kentron!G17+Aragacotn!G17+Ararat!G17+Armavir!G17+Gexarquniq!G17+Kotayk!G17+Lori!G17+Shirak!G17+Syuniq!G17+Tavush!G17) -> 0 | H17: =SUM(AJAPNYAK!H17+ARABKIR!H17+AVAN!H17+Erebuni!H17+MALATYA!H17+Shengavit!H17+Kentron!H17+Aragacotn!H17+Ararat!H17+Armavir!H17+Gexarquniq!H17+Kotayk!H17+Lori!H17+Shirak!H17+Syuniq!H17+Tavush!H17) -> 0 | I17: =SUM(AJAPNYAK!I17+ARABKIR!I17+AVAN!I17+Erebuni!I17+MALATYA!I17+Shengavit!I17+Kentron!I17+Aragacotn!I17+Ararat!I17+Armavir!I17+Gexarquniq!I17+Kotayk!I17+Lori!I17+Shirak!I17+Syuniq!I17+Tavush!I17) -> 0 | J17: =SUM(AJAPNYAK!J17+ARABKIR!J17+AVAN!J17+Erebuni!J17+MALATYA!J17+Shengavit!J17+Kentron!J17+Aragacotn!J17+Ararat!J17+Armavir!J17+Gexarquniq!J17+Kotayk!J17+Lori!J17+Shirak!J17+Syuniq!J17+Tavush!J17) -> 0 | ... M17: =SUM(AJAPNYAK!M17+ARABKIR!M17+AVAN!M17+Erebuni!M17+MALATYA!M17+Shengavit!M17+Kentron!M17+Aragacotn!M17+Ararat!M17+Armavir!M17+Gexarquniq!M17+Kotayk!M17+Lori!M17+Shirak!M17+Syuniq!M17+Tavush!M17) -> 0
A18: 12 | C18: =SUM(AJAPNYAK!C18+ARABKIR!C18+AVAN!C18+Erebuni!C18+MALATYA!C18+Shengavit!C18+Kentron!C18+Aragacotn!C18+Ararat!C18+Armavir!C18+Gexarquniq!C18+Kotayk!C18+Lori!C18+Shirak!C18+Syuniq!C18+Tavush!C18) -> 0 | D18: =SUM(AJAPNYAK!D18+ARABKIR!D18+AVAN!D18+Erebuni!D18+MALATYA!D18+Shengavit!D18+Kentron!D18+Aragacotn!D18+Ararat!D18+Armavir!D18+Gexarquniq!D18+Kotayk!D18+Lori!D18+Shirak!D18+Syuniq!D18+Tavush!D18) -> 0 | E18: =SUM(AJAPNYAK!E18+ARABKIR!E18+AVAN!E18+Erebuni!E18+MALATYA!E18+Shengavit!E18+Kentron!E18+Aragacotn!E18+Ararat!E18+Armavir!E18+Gexarquniq!E18+Kotayk!E18+Lori!E18+Shirak!E18+Syuniq!E18+Tavush!E18) -> 0 | F18: =SUM(AJAPNYAK!F18+ARABKIR!F18+AVAN!F18+Erebuni!F18+MALATYA!F18+Shengavit!F18+Kentron!F18+Aragacotn!F18+Ararat!F18+Armavir!F18+Gexarquniq!F18+Kotayk!F18+Lori!F18+Shirak!F18+Syuniq!F18+Tavush!F18) -> 0 | G18: =SUM(AJAPNYAK!G18+ARABKIR!G18+AVAN!G18+Erebuni!G18+MALATYA!G18+Shengavit!G18+Kentron!G18+Aragacotn!G18+Ararat!G18+Armavir!G18+Gexarquniq!G18+Kotayk!G18+Lori!G18+Shirak!G18+Syuniq!G18+Tavush!G18) -> 0 | H18: =SUM(AJAPNYAK!H18+ARABKIR!H18+AVAN!H18+Erebuni!H18+MALATYA!H18+Shengavit!H18+Kentron!H18+Aragacotn!H18+Ararat!H18+Armavir!H18+Gexarquniq!H18+Kotayk!H18+Lori!H18+Shirak!H18+Syuniq!H18+Tavush!H18) -> 0 | I18: =SUM(AJAPNYAK!I18+ARABKIR!I18+AVAN!I18+Erebuni!I18+MALATYA!I18+Shengavit!I18+Kentron!I18+Aragacotn!I18+Ararat!I18+Armavir!I18+Gexarquniq!I18+Kotayk!I18+Lori!I18+Shirak!I18+Syuniq!I18+Tavush!I18) -> 0 | J18: =SUM(AJAPNYAK!J18+ARABKIR!J18+AVAN!J18+Erebuni!J18+MALATYA!J18+Shengavit!J18+Kentron!J18+Aragacotn!J18+Ararat!J18+Armavir!J18+Gexarquniq!J18+Kotayk!J18+Lori!J18+Shirak!J18+Syuniq!J18+Tavush!J18) -> 0 | ... M18: =SUM(AJAPNYAK!M18+ARABKIR!M18+AVAN!M18+Erebuni!M18+MALATYA!M18+Shengavit!M18+Kentron!M18+Aragacotn!M18+Ararat!M18+Armavir!M18+Gexarquniq!M18+Kotayk!M18+Lori!M18+Shirak!M18+Syuniq!M18+Tavush!M18) -> 0
A19: 13 | C19: =SUM(AJAPNYAK!C19+ARABKIR!C19+AVAN!C19+Erebuni!C19+MALATYA!C19+Shengavit!C19+Kentron!C19+Aragacotn!C19+Ararat!C19+Armavir!C19+Gexarquniq!C19+Kotayk!C19+Lori!C19+Shirak!C19+Syuniq!C19+Tavush!C19) -> 0 | D19: =SUM(AJAPNYAK!D19+ARABKIR!D19+AVAN!D19+Erebuni!D19+MALATYA!D19+Shengavit!D19+Kentron!D19+Aragacotn!D19+Ararat!D19+Armavir!D19+Gexarquniq!D19+Kotayk!D19+Lori!D19+Shirak!D19+Syuniq!D19+Tavush!D19) -> 0 | E19: =SUM(AJAPNYAK!E19+ARABKIR!E19+AVAN!E19+Erebuni!E19+MALATYA!E19+Shengavit!E19+Kentron!E19+Aragacotn!E19+Ararat!E19+Armavir!E19+Gexarquniq!E19+Kotayk!E19+Lori!E19+Shirak!E19+Syuniq!E19+Tavush!E19) -> 0 | F19: =SUM(AJAPNYAK!F19+ARABKIR!F19+AVAN!F19+Erebuni!F19+MALATYA!F19+Shengavit!F19+Kentron!F19+Aragacotn!F19+Ararat!F19+Armavir!F19+Gexarquniq!F19+Kotayk!F19+Lori!F19+Shirak!F19+Syuniq!F19+Tavush!F19) -> 1 | G19: =SUM(AJAPNYAK!G19+ARABKIR!G19+AVAN!G19+Erebuni!G19+MALATYA!G19+Shengavit!G19+Kentron!G19+Aragacotn!G19+Ararat!G19+Armavir!G19+Gexarquniq!G19+Kotayk!G19+Lori!G19+Shirak!G19+Syuniq!G19+Tavush!G19) -> 0 | H19: =SUM(AJAPNYAK!H19+ARABKIR!H19+AVAN!H19+Erebuni!H19+MALATYA!H19+Shengavit!H19+Kentron!H19+Aragacotn!H19+Ararat!H19+Armavir!H19+Gexarquniq!H19+Kotayk!H19+Lori!H19+Shirak!H19+Syuniq!H19+Tavush!H19) -> 0 | I19: =SUM(AJAPNYAK!I19+ARABKIR!I19+AVAN!I19+Erebuni!I19+MALATYA!I19+Shengavit!I19+Kentron!I19+Aragacotn!I19+Ararat!I19+Armavir!I19+Gexarquniq!I19+Kotayk!I19+Lori!I19+Shirak!I19+Syuniq!I19+Tavush!I19) -> 0 | J19: =SUM(AJAPNYAK!J19+ARABKIR!J19+AVAN!J19+Erebuni!J19+MALATYA!J19+Shengavit!J19+Kentron!J19+Aragacotn!J19+Ararat!J19+Armavir!J19+Gexarquniq!J19+Kotayk!J19+Lori!J19+Shirak!J19+Syuniq!J19+Tavush!J19) -> 0 | ... M19: =SUM(AJAPNYAK!M19+ARABKIR!M19+AVAN!M19+Erebuni!M19+MALATYA!M19+Shengavit!M19+Kentron!M19+Aragacotn!M19+Ararat!M19+Armavir!M19+Gexarquniq!M19+Kotayk!M19+Lori!M19+Shirak!M19+Syuniq!M19+Tavush!M19) -> 0
A20: 14 | C20: =SUM(AJAPNYAK!C20+ARABKIR!C20+AVAN!C20+Erebuni!C20+MALATYA!C20+Shengavit!C20+Kentron!C20+Aragacotn!C20+Ararat!C20+Armavir!C20+Gexarquniq!C20+Kotayk!C20+Lori!C20+Shirak!C20+Syuniq!C20+Tavush!C20) -> 0 | D20: =SUM(AJAPNYAK!D20+ARABKIR!D20+AVAN!D20+Erebuni!D20+MALATYA!D20+Shengavit!D20+Kentron!D20+Aragacotn!D20+Ararat!D20+Armavir!D20+Gexarquniq!D20+Kotayk!D20+Lori!D20+Shirak!D20+Syuniq!D20+Tavush!D20) -> 0 | E20: =SUM(AJAPNYAK!E20+ARABKIR!E20+AVAN!E20+Erebuni!E20+MALATYA!E20+Shengavit!E20+Kentron!E20+Aragacotn!E20+Ararat!E20+Armavir!E20+Gexarquniq!E20+Kotayk!E20+Lori!E20+Shirak!E20+Syuniq!E20+Tavush!E20) -> 0 | F20: =SUM(AJAPNYAK!F20+ARABKIR!F20+AVAN!F20+Erebuni!F20+MALATYA!F20+Shengavit!F20+Kentron!F20+Aragacotn!F20+Ararat!F20+Armavir!F20+Gexarquniq!F20+Kotayk!F20+Lori!F20+Shirak!F20+Syuniq!F20+Tavush!F20) -> 0 | G20: =SUM(AJAPNYAK!G20+ARABKIR!G20+AVAN!G20+Erebuni!G20+MALATYA!G20+Shengavit!G20+Kentron!G20+Aragacotn!G20+Ararat!G20+Armavir!G20+Gexarquniq!G20+Kotayk!G20+Lori!G20+Shirak!G20+Syuniq!G20+Tavush!G20) -> 0 | H20: =SUM(AJAPNYAK!H20+ARABKIR!H20+AVAN!H20+Erebuni!H20+MALATYA!H20+Shengavit!H20+Kentron!H20+Aragacotn!H20+Ararat!H20+Armavir!H20+Gexarquniq!H20+Kotayk!H20+Lori!H20+Shirak!H20+Syuniq!H20+Tavush!H20) -> 0 | I20: =SUM(AJAPNYAK!I20+ARABKIR!I20+AVAN!I20+Erebuni!I20+MALATYA!I20+Shengavit!I20+Kentron!I20+Aragacotn!I20+Ararat!I20+Armavir!I20+Gexarquniq!I20+Kotayk!I20+Lori!I20+Shirak!I20+Syuniq!I20+Tavush!I20) -> 0 | J20: =SUM(AJAPNYAK!J20+ARABKIR!J20+AVAN!J20+Erebuni!J20+MALATYA!J20+Shengavit!J20+Kentron!J20+Aragacotn!J20+Ararat!J20+Armavir!J20+Gexarquniq!J20+Kotayk!J20+Lori!J20+Shirak!J20+Syuniq!J20+Tavush!J20) -> 0 | ... M20: =SUM(AJAPNYAK!M20+ARABKIR!M20+AVAN!M20+Erebuni!M20+MALATYA!M20+Shengavit!M20+Kentron!M20+Aragacotn!M20+Ararat!M20+Armavir!M20+Gexarquniq!M20+Kotayk!M20+Lori!M20+Shirak!M20+Syuniq!M20+Tavush!M20) -> 0
B21: ԸՆԴԱՄԵՆԸ | C21: =SUM(C7:C20) -> 2422 | D21: =SUM(D7:D20) -> 31465 | E21: =SUM(E7:E20) -> 108 | F21: =SUM(F7:F20) -> 3780 | G21: =SUM(G7:G20) -> 27 | H21: =SUM(H7:H20) -> 1116 | I21: =SUM(I7:I20) -> 28856 | J21: =SUM(J7:J20) -> 2087 | ... M21: =SUM(M7:M20) -> 3807
