Workbook

Sheet Ընդհամենը
A1: 2016Ã. | D1: Ð²ÞìºîìàôÂÚàôÜ | P1: Ï³½Ùí³Í` ÐÐ Ï³é³í³ñáõÃÛ³Ý 19.03.2015Ã. ÃÇí 306-Ü áñáßÙ³Ý ÑÇÙ³Ý íñ³
A2: ØÇÝã¹³ï³Ï³Ý í³ñáõÛÃÇ ÝÏ³ïÙ³Ùµ ¹³ï³Ï³Ý í»ñ³ÑëÏáÕáõÃÛ³ÝÁ, ¹³ï³Ï³Ý ³Ïï»ñÇ ¨ ¹³ï³Ï³Ý Ñ³ÝÓÝ³ñ³ñáõÃÛáõÝÝ»ñÇ Ï³ï³ñÙ³Ý Ñ»ï Ï³åí³Í ÙÇçÝáñ¹áõÃÛáõÝÝ»ñÇ í»ñ³µ»ñÛ³É ¹³ï³Ï³Ý ·áñÍ»ñáí ÐÐ Èáéáõ Ù³ñ½Ç ÁÝ¹Ñ³Ýáõñ Çñ³í³ëáõÃÛ³Ý ³é³çÇÝ ³ïÛ³ÝÇ ¹³ï³ñ³ÝÇ ·áñÍáõÝ»áõÃÛ³Ý í»ñ³µ»ñÛ³É
A3: êïáõ·Çã Ñ³í³ë³ñáõÙ` 1+2=3+8+9, 8=4+5+6+7, | D3: Ð³ßí»ïáõ Å³Ù³Ý³Ï³Ñ³ïí³ÍÇ ëÏ½µáõÙ Ý³Ëáñ¹ Ñ³ßí»ïáõ Å³Ù³Ý³Ï³Ñ³ïí³ÍÇó ÷áË³Ýóí³Í ·áñÍ»ñÇ ÁÝ¹Ñ³Ýáõñ ÃÇíÁ | E3: Ð³ßí»ïáõ Å³Ù³Ý³Ï³Ñ³ïí³ÍáõÙ ëï³óí³Í ·áñÍ»ñÇ ÁÝ¹Ñ³Ýáõñ ÃÇíÁ | F3: öáË³Ýóí»É ¿ ³ÛÉ ¹³ï³íáñÇ Ï³Ù ³ÛÉ ¹³ï³ñ³Ý (Ï³½ÙÇ ÷á÷áËáõÃÛáõÝ, ÁÝ¹¹³ïáõÃÛáõÝ) | G3: Ð³ßí»ïáõ Å³Ù³Ý³Ï³Ñ³ïí³ÍáõÙ ³í³ñïí³Í ·áñÍ»ñÇ ÁÝ¹Ñ³Ýáõñ ÃÇíÁ | L3: Ð³ßí»ïáõ Å³Ù³Ý³Ï³Ñ³ïí³ÍáõÙ ³Ý³í³ñï ·áñÍ»ñÇ ÁÝ¹Ñ³Ýáõñ ÃÇíÁ | M3: ØÇçÝáñ¹áõÃÛáõÝÝ»ñáí Ï³Û³óí³Í ¹³ï³Ï³Ý ³Ïï»ñÇó µáÕáù³ñÏí³ÍÝ»ñÇ ù³Ý³ÏÁ | O3: ²Ý³í³ñï µáÕáùÝ»ñ | P3: ØÇçÝáñ¹áõÃÛáõÝÝ»ñáí Ï³Û³óí³Í ¨ µáÕáù³ñÏí³Í ¹³ï³Ï³Ý ³Ïï»ñÇó µ»Ï³Ýí³ÍÝ»ñÇ ù³Ý³ÏÁ | R3: ÙÇçÝáñ¹áõÃÛáõÝÝ»ñáí Ï³Û³óí³Í ¨ µáÕáù³ñÏí³Í ¹³ï³Ï³Ý ³Ïï»ñÇó ³Ý÷á÷áË ÃáÕÝí³ÍÝ»ñÇ ù³Ý³ÏÁ
G4: Ù»ñÅí»É ¿ | H4: µ³í³ñ³ñí»É ¿ | I4: µ³í³ñ³ñí»É ¿ Ù³ëÝ³ÏÇ | J4: ÃáÕÝí»É ¿ ³é³Ýó ùÝÝáõÃÛ³Ý | K4: ÀÝ¹³Ù»ÝÁ
M5: Ý³Ëáñ¹ ï³ñÇÝ»ñÇÝ Ï³Û³óí³Í ³Ïï»ñÇ ¹»Ù | N5: Ñ³ßí»ïáõ Å³Ù³Ý³Ï³ßñç³ÝáõÙ Ï³Û³óí³Í ³Ïï»ñÇ ¹»Ù | P5: Ý³Ëáñ¹ ï³ñÇÝ»ñÇÝ Ï³Û³óí³Í ³Ïï»ñÇ µ»Ï³ÝáõÙÝ»ñÁ | Q5: Ñ³ßí»ïáõ Å³Ù³Ý³Ï³ßñç³ÝáõÙ Ï³Û³óí³Í ³Ïï»ñÇ µ»Ï³ÝáõÙÝ»ñÁ
A6: 1. ØÇÝã¹³ï³Ï³Ý í³ñáõÛÃÇ ÝÏ³ïÙ³Ùµ ¹³ï³Ï³Ý í»ñ³ÑëÏáÕáõÃÛ³Ý áÉáñï | D6: 1 | E6: 2 | F6: 3 | G6: 4 | H6: 5 | I6: 6 | J6: 7 | K6: 8 | L6: 9 | M6: 10 | N6: 11 | O6: 12 | P6: 13 | Q6: 14 | R6: 15 | T6: 1+2=3+8+9 | V6: 8=4+5+6+7
A7: 1 | B7: Ï³É³ÝùÁ áñå»ë Ë³÷³ÝÙ³Ý ÙÇçáó ÏÇñ³é»Éáõ Ù³ëÇÝ ÙÇçÝáñ¹áõÃÛáõÝÝ»ñ | D7: ='Ս. Բաղդասարյան'!D7+'Ա. Մկոյան'!D7+'Վ. Հովնանյան'!D7+'Ն. Հովակիմյան'!D7+'Գ. Զաքարյան'!D7+'Ս. Երիցյան'!D7+'Բ. Գրիգորյան'!D7+'Ա. Աթաբեկյան'!D7+'Լ. Աբգարյան'!D7+'Մ. Հարությունյան'!D7+'Գ. Գագիկյան'!D7+Տ.Գրիգորյան!D7+Գ.Վարդանյան!D7 -> 0 | E7: ='Ս. Բաղդասարյան'!E7+'Ա. Մկոյան'!E7+'Վ. Հովնանյան'!E7+'Ն. Հովակիմյան'!E7+'Գ. Զաքարյան'!E7+'Ս. Երիցյան'!E7+'Բ. Գրիգորյան'!E7+'Ա. Աթաբեկյան'!E7+'Լ. Աբգարյան'!E7+'Մ. Հարությունյան'!E7+'Գ. Գագիկյան'!E7+Տ.Գրիգորյան!E7+Գ.Վարդանյան!E7 -> 172 | F7: ='Ս. Բաղդասարյան'!F7+'Ա. Մկոյան'!F7+'Վ. Հովնանյան'!F7+'Ն. Հովակիմյան'!F7+'Գ. Զաքարյան'!F7+'Ս. Երիցյան'!F7+'Բ. Գրիգորյան'!F7+'Ա. Աթաբեկյան'!F7+'Լ. Աբգարյան'!F7+'Մ. Հարությունյան'!F7+'Գ. Գագիկյան'!F7+Տ.Գրիգորյան!F7+Գ.Վարդանյան!F7 -> 1 | G7: ='Ս. Բաղդասարյան'!G7+'Ա. Մկոյան'!G7+'Վ. Հովնանյան'!G7+'Ն. Հովակիմյան'!G7+'Գ. Զաքարյան'!G7+'Ս. Երիցյան'!G7+'Բ. Գրիգորյան'!G7+'Ա. Աթաբեկյան'!G7+'Լ. Աբգարյան'!G7+'Մ. Հարությունյան'!G7+'Գ. Գագիկյան'!G7+Տ.Գրիգորյան!G7+Գ.Վարդանյան!G7 -> 18 | H7: ='Ս. Բաղդասարյան'!H7+'Ա. Մկոյան'!H7+'Վ. Հովնանյան'!H7+'Ն. Հովակիմյան'!H7+'Գ. Զաքարյան'!H7+'Ս. Երիցյան'!H7+'Բ. Գրիգորյան'!H7+'Ա. Աթաբեկյան'!H7+'Լ. Աբգարյան'!H7+'Մ. Հարությունյան'!H7+'Գ. Գագիկյան'!H7+Տ.Գրիգորյան!H7+Գ.Վարդանյան!H7 -> 151 | I7: ='Ս. Բաղդասարյան'!I7+'Ա. Մկոյան'!I7+'Վ. Հովնանյան'!I7+'Ն. Հովակիմյան'!I7+'Գ. Զաքարյան'!I7+'Ս. Երիցյան'!I7+'Բ. Գրիգորյան'!I7+'Ա. Աթաբեկյան'!I7+'Լ. Աբգարյան'!I7+'Մ. Հարությունյան'!I7+'Գ. Գագիկյան'!I7+Տ.Գրիգորյան!I7+Գ.Վարդանյան!I7 -> 2 | J7: ='Ս. Բաղդասարյան'!J7+'Ա. Մկոյան'!J7+'Վ. Հովնանյան'!J7+'Ն. Հովակիմյան'!J7+'Գ. Զաքարյան'!J7+'Ս. Երիցյան'!J7+'Բ. Գրիգորյան'!J7+'Ա. Աթաբեկյան'!J7+'Լ. Աբգարյան'!J7+'Մ. Հարությունյան'!J7+'Գ. Գագիկյան'!J7+Տ.Գրիգորյան!J7+Գ.Վարդանյան!J7 -> 0 | K7: ='Ս. Բաղդասարյան'!K7+'Ա. Մկոյան'!K7+'Վ. Հովնանյան'!K7+'Ն. Հովակիմյան'!K7+'Գ. Զաքարյան'!K7+'Ս. Երիցյան'!K7+'Բ. Գրիգորյան'!K7+'Ա. Աթաբեկյան'!K7+'Լ. Աբգարյան'!K7+'Մ. Հարությունյան'!K7+'Գ. Գագիկյան'!K7+Տ.Գրիգորյան!K7+Գ.Վարդանյան!K7 -> 171 | ... R7: ='Ս. Բաղդասարյան'!R7+'Ա. Մկոյան'!R7+'Վ. Հովնանյան'!R7+'Ն. Հովակիմյան'!R7+'Գ. Զաքարյան'!R7+'Ս. Երիցյան'!R7+'Բ. Գրիգորյան'!R7+'Ա. Աթաբեկյան'!R7+'Լ. Աբգարյան'!R7+'Մ. Հարությունյան'!R7+'Գ. Գագիկյան'!R7+Տ.Գրիգորյան!R7+Գ.Վարդանյան!R7 -> 10 | S7: ='Ս. Բաղդասարյան'!S7+'Ա. Մկոյան'!S7+'Վ. Հովնանյան'!S7+'Ն. Հովակիմյան'!S7+'Գ. Զաքարյան'!S7+'Ս. Երիցյան'!S7+'Բ. Գրիգորյան'!S7+'Գ. Գագիկյան'!S7 -> 0 | T7: =D7+E7 -> 172 | U7: =F7+K7+L7 -> 172 | V7: =K7 -> 171 | W7: =G7+H7+I7+J7 -> 171
A8: 2 | B8: Ï³É³ÝùÇ Å³ÙÏ»ïÁ »ñÏ³ñ³óÝ»Éáõ Ù³ëÇÝ ÙÇçÝáñ¹áõÃÛáõÝÝ»ñ | D8: ='Ս. Բաղդասարյան'!D8+'Ա. Մկոյան'!D8+'Վ. Հովնանյան'!D8+'Ն. Հովակիմյան'!D8+'Գ. Զաքարյան'!D8+'Ս. Երիցյան'!D8+'Բ. Գրիգորյան'!D8+'Ա. Աթաբեկյան'!D8+'Լ. Աբգարյան'!D8+'Մ. Հարությունյան'!D8+'Գ. Գագիկյան'!D8+Տ.Գրիգորյան!D8+Գ.Վարդանյան!D8 -> 2 | E8: ='Ս. Բաղդասարյան'!E8+'Ա. Մկոյան'!E8+'Վ. Հովնանյան'!E8+'Ն. Հովակիմյան'!E8+'Գ. Զաքարյան'!E8+'Ս. Երիցյան'!E8+'Բ. Գրիգորյան'!E8+'Ա. Աթաբեկյան'!E8+'Լ. Աբգարյան'!E8+'Մ. Հարությունյան'!E8+'Գ. Գագիկյան'!E8+Տ.Գրիգորյան!E8+Գ.Վարդանյան!E8 -> 58 | F8: ='Ս. Բաղդասարյան'!F8+'Ա. Մկոյան'!F8+'Վ. Հովնանյան'!F8+'Ն. Հովակիմյան'!F8+'Գ. Զաքարյան'!F8+'Ս. Երիցյան'!F8+'Բ. Գրիգորյան'!F8+'Ա. Աթաբեկյան'!F8+'Լ. Աբգարյան'!F8+'Մ. Հարությունյան'!F8+'Գ. Գագիկյան'!F8+Տ.Գրիգորյան!F8+Գ.Վարդանյան!F8 -> 1 | G8: ='Ս. Բաղդասարյան'!G8+'Ա. Մկոյան'!G8+'Վ. Հովնանյան'!G8+'Ն. Հովակիմյան'!G8+'Գ. Զաքարյան'!G8+'Ս. Երիցյան'!G8+'Բ. Գրիգորյան'!G8+'Ա. Աթաբեկյան'!G8+'Լ. Աբգարյան'!G8+'Մ. Հարությունյան'!G8+'Գ. Գագիկյան'!G8+Տ.Գրիգորյան!G8+Գ.Վարդանյան!G8 -> 2 | H8: ='Ս. Բաղդասարյան'!H8+'Ա. Մկոյան'!H8+'Վ. Հովնանյան'!H8+'Ն. Հովակիմյան'!H8+'Գ. Զաքարյան'!H8+'Ս. Երիցյան'!H8+'Բ. Գրիգորյան'!H8+'Ա. Աթաբեկյան'!H8+'Լ. Աբգարյան'!H8+'Մ. Հարությունյան'!H8+'Գ. Գագիկյան'!H8+Տ.Գրիգորյան!H8+Գ.Վարդանյան!H8 -> 46 | I8: ='Ս. Բաղդասարյան'!I8+'Ա. Մկոյան'!I8+'Վ. Հովնանյան'!I8+'Ն. Հովակիմյան'!I8+'Գ. Զաքարյան'!I8+'Ս. Երիցյան'!I8+'Բ. Գրիգորյան'!I8+'Ա. Աթաբեկյան'!I8+'Լ. Աբգարյան'!I8+'Մ. Հարությունյան'!I8+'Գ. Գագիկյան'!I8+Տ.Գրիգորյան!I8+Գ.Վարդանյան!I8 -> 9 | J8: ='Ս. Բաղդասարյան'!J8+'Ա. Մկոյան'!J8+'Վ. Հովնանյան'!J8+'Ն. Հովակիմյան'!J8+'Գ. Զաքարյան'!J8+'Ս. Երիցյան'!J8+'Բ. Գրիգորյան'!J8+'Ա. Աթաբեկյան'!J8+'Լ. Աբգարյան'!J8+'Մ. Հարությունյան'!J8+'Գ. Գագիկյան'!J8+Տ.Գրիգորյան!J8+Գ.Վարդանյան!J8 -> 0 | K8: ='Ս. Բաղդասարյան'!K8+'Ա. Մկոյան'!K8+'Վ. Հովնանյան'!K8+'Ն. Հովակիմյան'!K8+'Գ. Զաքարյան'!K8+'Ս. Երիցյան'!K8+'Բ. Գրիգորյան'!K8+'Ա. Աթաբեկյան'!K8+'Լ. Աբգարյան'!K8+'Մ. Հարությունյան'!K8+'Գ. Գագիկյան'!K8+Տ.Գրիգորյան!K8+Գ.Վարդանյան!K8 -> 57 | ... R8: ='Ս. Բաղդասարյան'!R8+'Ա. Մկոյան'!R8+'Վ. Հովնանյան'!R8+'Ն. Հովակիմյան'!R8+'Գ. Զաքարյան'!R8+'Ս. Երիցյան'!R8+'Բ. Գրիգորյան'!R8+'Ա. Աթաբեկյան'!R8+'Լ. Աբգարյան'!R8+'Մ. Հարությունյան'!R8+'Գ. Գագիկյան'!R8+Տ.Գրիգորյան!R8+Գ.Վարդանյան!R8 -> 13 | S8: ='Ս. Բաղդասարյան'!S8+'Ա. Մկոյան'!S8+'Վ. Հովնանյան'!S8+'Ն. Հովակիմյան'!S8+'Գ. Զաքարյան'!S8+'Ս. Երիցյան'!S8+'Բ. Գրիգորյան'!S8+'Գ. Գագիկյան'!S8 -> 0 | T8: =D8+E8 -> 60 | U8: =F8+K8+L8 -> 60 | V8: =K8 -> 57 | W8: =G8+H8+I8+J8 -> 57
A9: 3 | B9: Ï³É³ÝùÇ í»ñ³Ñ³ëï³ïÙ³Ý Ù³ëÇÝ ÙÇçÝáñ¹áõÃÛáõÝÝ»ñ | D9: ='Ս. Բաղդասարյան'!D9+'Ա. Մկոյան'!D9+'Վ. Հովնանյան'!D9+'Ն. Հովակիմյան'!D9+'Գ. Զաքարյան'!D9+'Ս. Երիցյան'!D9+'Բ. Գրիգորյան'!D9+'Ա. Աթաբեկյան'!D9+'Լ. Աբգարյան'!D9+'Մ. Հարությունյան'!D9+'Գ. Գագիկյան'!D9+Տ.Գրիգորյան!D9+Գ.Վարդանյան!D9 -> 0 | E9: ='Ս. Բաղդասարյան'!E9+'Ա. Մկոյան'!E9+'Վ. Հովնանյան'!E9+'Ն. Հովակիմյան'!E9+'Գ. Զաքարյան'!E9+'Ս. Երիցյան'!E9+'Բ. Գրիգորյան'!E9+'Ա. Աթաբեկյան'!E9+'Լ. Աբգարյան'!E9+'Մ. Հարությունյան'!E9+'Գ. Գագիկյան'!E9+Տ.Գրիգորյան!E9+Գ.Վարդանյան!E9 -> 16 | F9: ='Ս. Բաղդասարյան'!F9+'Ա. Մկոյան'!F9+'Վ. Հովնանյան'!F9+'Ն. Հովակիմյան'!F9+'Գ. Զաքարյան'!F9+'Ս. Երիցյան'!F9+'Բ. Գրիգորյան'!F9+'Ա. Աթաբեկյան'!F9+'Լ. Աբգարյան'!F9+'Մ. Հարությունյան'!F9+'Գ. Գագիկյան'!F9+Տ.Գրիգորյան!F9+Գ.Վարդանյան!F9 -> 2 | G9: ='Ս. Բաղդասարյան'!G9+'Ա. Մկոյան'!G9+'Վ. Հովնանյան'!G9+'Ն. Հովակիմյան'!G9+'Գ. Զաքարյան'!G9+'Ս. Երիցյան'!G9+'Բ. Գրիգորյան'!G9+'Ա. Աթաբեկյան'!G9+'Լ. Աբգարյան'!G9+'Մ. Հարությունյան'!G9+'Գ. Գագիկյան'!G9+Տ.Գրիգորյան!G9+Գ.Վարդանյան!G9 -> 1 | H9: ='Ս. Բաղդասարյան'!H9+'Ա. Մկոյան'!H9+'Վ. Հովնանյան'!H9+'Ն. Հովակիմյան'!H9+'Գ. Զաքարյան'!H9+'Ս. Երիցյան'!H9+'Բ. Գրիգորյան'!H9+'Ա. Աթաբեկյան'!H9+'Լ. Աբգարյան'!H9+'Մ. Հարությունյան'!H9+'Գ. Գագիկյան'!H9+Տ.Գրիգորյան!H9+Գ.Վարդանյան!H9 -> 13 | I9: ='Ս. Բաղդասարյան'!I9+'Ա. Մկոյան'!I9+'Վ. Հովնանյան'!I9+'Ն. Հովակիմյան'!I9+'Գ. Զաքարյան'!I9+'Ս. Երիցյան'!I9+'Բ. Գրիգորյան'!I9+'Ա. Աթաբեկյան'!I9+'Լ. Աբգարյան'!I9+'Մ. Հարությունյան'!I9+'Գ. Գագիկյան'!I9+Տ.Գրիգորյան!I9+Գ.Վարդանյան!I9 -> 0 | J9: ='Ս. Բաղդասարյան'!J9+'Ա. Մկոյան'!J9+'Վ. Հովնանյան'!J9+'Ն. Հովակիմյան'!J9+'Գ. Զաքարյան'!J9+'Ս. Երիցյան'!J9+'Բ. Գրիգորյան'!J9+'Ա. Աթաբեկյան'!J9+'Լ. Աբգարյան'!J9+'Մ. Հարությունյան'!J9+'Գ. Գագիկյան'!J9+Տ.Գրիգորյան!J9+Գ.Վարդանյան!J9 -> 0 | K9: ='Ս. Բաղդասարյան'!K9+'Ա. Մկոյան'!K9+'Վ. Հովնանյան'!K9+'Ն. Հովակիմյան'!K9+'Գ. Զաքարյան'!K9+'Ս. Երիցյան'!K9+'Բ. Գրիգորյան'!K9+'Ա. Աթաբեկյան'!K9+'Լ. Աբգարյան'!K9+'Մ. Հարությունյան'!K9+'Գ. Գագիկյան'!K9+Տ.Գրիգորյան!K9+Գ.Վարդանյան!K9 -> 14 | ... R9: ='Ս. Բաղդասարյան'!R9+'Ա. Մկոյան'!R9+'Վ. Հովնանյան'!R9+'Ն. Հովակիմյան'!R9+'Գ. Զաքարյան'!R9+'Ս. Երիցյան'!R9+'Բ. Գրիգորյան'!R9+'Ա. Աթաբեկյան'!R9+'Լ. Աբգարյան'!R9+'Մ. Հարությունյան'!R9+'Գ. Գագիկյան'!R9+Տ.Գրիգորյան!R9+Գ.Վարդանյան!R9 -> 3 | S9: ='Ս. Բաղդասարյան'!S9+'Ա. Մկոյան'!S9+'Վ. Հովնանյան'!S9+'Ն. Հովակիմյան'!S9+'Գ. Զաքարյան'!S9+'Ս. Երիցյան'!S9+'Բ. Գրիգորյան'!S9+'Գ. Գագիկյան'!S9 -> 0 | T9: =D9+E9 -> 16 | U9: =F9+K9+L9 -> 16 | V9: =K9 -> 14 | W9: =G9+H9+I9+J9 -> 14
A10: 4 | B10: ·ñ³íÁ áñå»ë Ï³É³Ý³íáñÙ³Ý ³ÛÉÁÝïñ³Ýù³ÛÇÝ Ë³÷³ÝÙ³Ý ÙÇçáó ÏÇñ³é»Éáõ Ù³ëÇÝ ÙÇçÝáñ¹áõÃÛáõÝÝ»ñ | D10: ='Ս. Բաղդասարյան'!D10+'Ա. Մկոյան'!D10+'Վ. Հովնանյան'!D10+'Ն. Հովակիմյան'!D10+'Գ. Զաքարյան'!D10+'Ս. Երիցյան'!D10+'Բ. Գրիգորյան'!D10+'Ա. Աթաբեկյան'!D10+'Լ. Աբգարյան'!D10+'Մ. Հարությունյան'!D10+'Գ. Գագիկյան'!D10+Տ.Գրիգորյան!D10+Գ.Վարդանյան!D10 -> 0 | E10: ='Ս. Բաղդասարյան'!E10+'Ա. Մկոյան'!E10+'Վ. Հովնանյան'!E10+'Ն. Հովակիմյան'!E10+'Գ. Զաքարյան'!E10+'Ս. Երիցյան'!E10+'Բ. Գրիգորյան'!E10+'Ա. Աթաբեկյան'!E10+'Լ. Աբգարյան'!E10+'Մ. Հարությունյան'!E10+'Գ. Գագիկյան'!E10+Տ.Գրիգորյան!E10+Գ.Վարդանյան!E10 -> 55 | F10: ='Ս. Բաղդասարյան'!F10+'Ա. Մկոյան'!F10+'Վ. Հովնանյան'!F10+'Ն. Հովակիմյան'!F10+'Գ. Զաքարյան'!F10+'Ս. Երիցյան'!F10+'Բ. Գրիգորյան'!F10+'Ա. Աթաբեկյան'!F10+'Լ. Աբգարյան'!F10+'Մ. Հարությունյան'!F10+'Գ. Գագիկյան'!F10+Տ.Գրիգորյան!F10+Գ.Վարդանյան!F10 -> 0 | G10: ='Ս. Բաղդասարյան'!G10+'Ա. Մկոյան'!G10+'Վ. Հովնանյան'!G10+'Ն. Հովակիմյան'!G10+'Գ. Զաքարյան'!G10+'Ս. Երիցյան'!G10+'Բ. Գրիգորյան'!G10+'Ա. Աթաբեկյան'!G10+'Լ. Աբգարյան'!G10+'Մ. Հարությունյան'!G10+'Գ. Գագիկյան'!G10+Տ.Գրիգորյան!G10+Գ.Վարդանյան!G10 -> 39 | H10: ='Ս. Բաղդասարյան'!H10+'Ա. Մկոյան'!H10+'Վ. Հովնանյան'!H10+'Ն. Հովակիմյան'!H10+'Գ. Զաքարյան'!H10+'Ս. Երիցյան'!H10+'Բ. Գրիգորյան'!H10+'Ա. Աթաբեկյան'!H10+'Լ. Աբգարյան'!H10+'Մ. Հարությունյան'!H10+'Գ. Գագիկյան'!H10+Տ.Գրիգորյան!H10+Գ.Վարդանյան!H10 -> 16 | I10: ='Ս. Բաղդասարյան'!I10+'Ա. Մկոյան'!I10+'Վ. Հովնանյան'!I10+'Ն. Հովակիմյան'!I10+'Գ. Զաքարյան'!I10+'Ս. Երիցյան'!I10+'Բ. Գրիգորյան'!I10+'Ա. Աթաբեկյան'!I10+'Լ. Աբգարյան'!I10+'Մ. Հարությունյան'!I10+'Գ. Գագիկյան'!I10+Տ.Գրիգորյան!I10+Գ.Վարդանյան!I10 -> 0 | J10: ='Ս. Բաղդասարյան'!J10+'Ա. Մկոյան'!J10+'Վ. Հովնանյան'!J10+'Ն. Հովակիմյան'!J10+'Գ. Զաքարյան'!J10+'Ս. Երիցյան'!J10+'Բ. Գրիգորյան'!J10+'Ա. Աթաբեկյան'!J10+'Լ. Աբգարյան'!J10+'Մ. Հարությունյան'!J10+'Գ. Գագիկյան'!J10+Տ.Գրիգորյան!J10+Գ.Վարդանյան!J10 -> 0 | K10: ='Ս. Բաղդասարյան'!K10+'Ա. Մկոյան'!K10+'Վ. Հովնանյան'!K10+'Ն. Հովակիմյան'!K10+'Գ. Զաքարյան'!K10+'Ս. Երիցյան'!K10+'Բ. Գրիգորյան'!K10+'Ա. Աթաբեկյան'!K10+'Լ. Աբգարյան'!K10+'Մ. Հարությունյան'!K10+'Գ. Գագիկյան'!K10+Տ.Գրիգորյան!K10+Գ.Վարդանյան!K10 -> 55 | ... R10: ='Ս. Բաղդասարյան'!R10+'Ա. Մկոյան'!R10+'Վ. Հովնանյան'!R10+'Ն. Հովակիմյան'!R10+'Գ. Զաքարյան'!R10+'Ս. Երիցյան'!R10+'Բ. Գրիգորյան'!R10+'Ա. Աթաբեկյան'!R10+'Լ. Աբգարյան'!R10+'Մ. Հարությունյան'!R10+'Գ. Գագիկյան'!R10+Տ.Գրիգորյան!R10+Գ.Վարդանյան!R10 -> 6 | S10: ='Ս. Բաղդասարյան'!S10+'Ա. Մկոյան'!S10+'Վ. Հովնանյան'!S10+'Ն. Հովակիմյան'!S10+'Գ. Զաքարյան'!S10+'Ս. Երիցյան'!S10+'Բ. Գրիգորյան'!S10+'Գ. Գագիկյան'!S10 -> 0 | T10: =D10+E10 -> 55 | U10: =F10+K10+L10 -> 55 | V10: =K10 -> 55 | W10: =G10+H10+I10+J10 -> 55
A11: 5 | B11: Ëáõ½³ñÏáõÃÛ³Ý Ï³ï³ñÙ³Ý Ù³ëÇÝ ÙÇçÝáñ¹áõÃÛáõÝÝ»ñ | D11: ='Ս. Բաղդասարյան'!D11+'Ա. Մկոյան'!D11+'Վ. Հովնանյան'!D11+'Ն. Հովակիմյան'!D11+'Գ. Զաքարյան'!D11+'Ս. Երիցյան'!D11+'Բ. Գրիգորյան'!D11+'Ա. Աթաբեկյան'!D11+'Լ. Աբգարյան'!D11+'Մ. Հարությունյան'!D11+'Գ. Գագիկյան'!D11+Տ.Գրիգորյան!D11+Գ.Վարդանյան!D11 -> 0 | E11: ='Ս. Բաղդասարյան'!E11+'Ա. Մկոյան'!E11+'Վ. Հովնանյան'!E11+'Ն. Հովակիմյան'!E11+'Գ. Զաքարյան'!E11+'Ս. Երիցյան'!E11+'Բ. Գրիգորյան'!E11+'Ա. Աթաբեկյան'!E11+'Լ. Աբգարյան'!E11+'Մ. Հարությունյան'!E11+'Գ. Գագիկյան'!E11+Տ.Գրիգորյան!E11+Գ.Վարդանյան!E11 -> 279 | F11: ='Ս. Բաղդասարյան'!F11+'Ա. Մկոյան'!F11+'Վ. Հովնանյան'!F11+'Ն. Հովակիմյան'!F11+'Գ. Զաքարյան'!F11+'Ս. Երիցյան'!F11+'Բ. Գրիգորյան'!F11+'Ա. Աթաբեկյան'!F11+'Լ. Աբգարյան'!F11+'Մ. Հարությունյան'!F11+'Գ. Գագիկյան'!F11+Տ.Գրիգորյան!F11+Գ.Վարդանյան!F11 -> 0 | G11: ='Ս. Բաղդասարյան'!G11+'Ա. Մկոյան'!G11+'Վ. Հովնանյան'!G11+'Ն. Հովակիմյան'!G11+'Գ. Զաքարյան'!G11+'Ս. Երիցյան'!G11+'Բ. Գրիգորյան'!G11+'Ա. Աթաբեկյան'!G11+'Լ. Աբգարյան'!G11+'Մ. Հարությունյան'!G11+'Գ. Գագիկյան'!G11+Տ.Գրիգորյան!G11+Գ.Վարդանյան!G11 -> 14 | H11: ='Ս. Բաղդասարյան'!H11+'Ա. Մկոյան'!H11+'Վ. Հովնանյան'!H11+'Ն. Հովակիմյան'!H11+'Գ. Զաքարյան'!H11+'Ս. Երիցյան'!H11+'Բ. Գրիգորյան'!H11+'Ա. Աթաբեկյան'!H11+'Լ. Աբգարյան'!H11+'Մ. Հարությունյան'!H11+'Գ. Գագիկյան'!H11+Տ.Գրիգորյան!H11+Գ.Վարդանյան!H11 -> 265 | I11: ='Ս. Բաղդասարյան'!I11+'Ա. Մկոյան'!I11+'Վ. Հովնանյան'!I11+'Ն. Հովակիմյան'!I11+'Գ. Զաքարյան'!I11+'Ս. Երիցյան'!I11+'Բ. Գրիգորյան'!I11+'Ա. Աթաբեկյան'!I11+'Լ. Աբգարյան'!I11+'Մ. Հարությունյան'!I11+'Գ. Գագիկյան'!I11+Տ.Գրիգորյան!I11+Գ.Վարդանյան!I11 -> 0 | J11: ='Ս. Բաղդասարյան'!J11+'Ա. Մկոյան'!J11+'Վ. Հովնանյան'!J11+'Ն. Հովակիմյան'!J11+'Գ. Զաքարյան'!J11+'Ս. Երիցյան'!J11+'Բ. Գրիգորյան'!J11+'Ա. Աթաբեկյան'!J11+'Լ. Աբգարյան'!J11+'Մ. Հարությունյան'!J11+'Գ. Գագիկյան'!J11+Տ.Գրիգորյան!J11+Գ.Վարդանյան!J11 -> 0 | K11: ='Ս. Բաղդասարյան'!K11+'Ա. Մկոյան'!K11+'Վ. Հովնանյան'!K11+'Ն. Հովակիմյան'!K11+'Գ. Զաքարյան'!K11+'Ս. Երիցյան'!K11+'Բ. Գրիգորյան'!K11+'Ա. Աթաբեկյան'!K11+'Լ. Աբգարյան'!K11+'Մ. Հարությունյան'!K11+'Գ. Գագիկյան'!K11+Տ.Գրիգորյան!K11+Գ.Վարդանյան!K11 -> 279 | ... R11: ='Ս. Բաղդասարյան'!R11+'Ա. Մկոյան'!R11+'Վ. Հովնանյան'!R11+'Ն. Հովակիմյան'!R11+'Գ. Զաքարյան'!R11+'Ս. Երիցյան'!R11+'Բ. Գրիգորյան'!R11+'Ա. Աթաբեկյան'!R11+'Լ. Աբգարյան'!R11+'Մ. Հարությունյան'!R11+'Գ. Գագիկյան'!R11+Տ.Գրիգորյան!R11+Գ.Վարդանյան!R11 -> 0 | S11: ='Ս. Բաղդասարյան'!S11+'Ա. Մկոյան'!S11+'Վ. Հովնանյան'!S11+'Ն. Հովակիմյան'!S11+'Գ. Զաքարյան'!S11+'Ս. Երիցյան'!S11+'Բ. Գրիգորյան'!S11+'Գ. Գագիկյան'!S11 -> 0 | T11: =D11+E11 -> 279 | U11: =F11+K11+L11 -> 279 | V11: =K11 -> 279 | W11: =G11+H11+I11+J11 -> 279
A12: 6 | B12: µ³ÝÏ³ÛÇÝ, ³å³Ñáí³·ñ³Ï³Ý, Ýáï³ñ³Ï³Ý ·³ÕïÝÇù Ï³½ÙáÕ ï»Õ»ÏáõÃÛáõÝÝ»ñÇ ëï³óÙ³Ý Ñ³Ù³ñ Ëáõ½³ñÏáõÃÛ³Ý Ï³Ù ³é·ñ³íÙ³Ý Ï³ï³ñÙ³Ý Ù³ëÇÝ ÙÇçÝáñ¹áõÃÛáõÝÝ»ñ | D12: ='Ս. Բաղդասարյան'!D12+'Ա. Մկոյան'!D12+'Վ. Հովնանյան'!D12+'Ն. Հովակիմյան'!D12+'Գ. Զաքարյան'!D12+'Ս. Երիցյան'!D12+'Բ. Գրիգորյան'!D12+'Ա. Աթաբեկյան'!D12+'Լ. Աբգարյան'!D12+'Մ. Հարությունյան'!D12+'Գ. Գագիկյան'!D12+Տ.Գրիգորյան!D12+Գ.Վարդանյան!D12 -> 0 | E12: ='Ս. Բաղդասարյան'!E12+'Ա. Մկոյան'!E12+'Վ. Հովնանյան'!E12+'Ն. Հովակիմյան'!E12+'Գ. Զաքարյան'!E12+'Ս. Երիցյան'!E12+'Բ. Գրիգորյան'!E12+'Ա. Աթաբեկյան'!E12+'Լ. Աբգարյան'!E12+'Մ. Հարությունյան'!E12+'Գ. Գագիկյան'!E12+Տ.Գրիգորյան!E12+Գ.Վարդանյան!E12 -> 16 | F12: ='Ս. Բաղդասարյան'!F12+'Ա. Մկոյան'!F12+'Վ. Հովնանյան'!F12+'Ն. Հովակիմյան'!F12+'Գ. Զաքարյան'!F12+'Ս. Երիցյան'!F12+'Բ. Գրիգորյան'!F12+'Ա. Աթաբեկյան'!F12+'Լ. Աբգարյան'!F12+'Մ. Հարությունյան'!F12+'Գ. Գագիկյան'!F12+Տ.Գրիգորյան!F12+Գ.Վարդանյան!F12 -> 0 | G12: ='Ս. Բաղդասարյան'!G12+'Ա. Մկոյան'!G12+'Վ. Հովնանյան'!G12+'Ն. Հովակիմյան'!G12+'Գ. Զաքարյան'!G12+'Ս. Երիցյան'!G12+'Բ. Գրիգորյան'!G12+'Ա. Աթաբեկյան'!G12+'Լ. Աբգարյան'!G12+'Մ. Հարությունյան'!G12+'Գ. Գագիկյան'!G12+Տ.Գրիգորյան!G12+Գ.Վարդանյան!G12 -> 8 | H12: ='Ս. Բաղդասարյան'!H12+'Ա. Մկոյան'!H12+'Վ. Հովնանյան'!H12+'Ն. Հովակիմյան'!H12+'Գ. Զաքարյան'!H12+'Ս. Երիցյան'!H12+'Բ. Գրիգորյան'!H12+'Ա. Աթաբեկյան'!H12+'Լ. Աբգարյան'!H12+'Մ. Հարությունյան'!H12+'Գ. Գագիկյան'!H12+Տ.Գրիգորյան!H12+Գ.Վարդանյան!H12 -> 8 | I12: ='Ս. Բաղդասարյան'!I12+'Ա. Մկոյան'!I12+'Վ. Հովնանյան'!I12+'Ն. Հովակիմյան'!I12+'Գ. Զաքարյան'!I12+'Ս. Երիցյան'!I12+'Բ. Գրիգորյան'!I12+'Ա. Աթաբեկյան'!I12+'Լ. Աբգարյան'!I12+'Մ. Հարությունյան'!I12+'Գ. Գագիկյան'!I12+Տ.Գրիգորյան!I12+Գ.Վարդանյան!I12 -> 0 | J12: ='Ս. Բաղդասարյան'!J12+'Ա. Մկոյան'!J12+'Վ. Հովնանյան'!J12+'Ն. Հովակիմյան'!J12+'Գ. Զաքարյան'!J12+'Ս. Երիցյան'!J12+'Բ. Գրիգորյան'!J12+'Ա. Աթաբեկյան'!J12+'Լ. Աբգարյան'!J12+'Մ. Հարությունյան'!J12+'Գ. Գագիկյան'!J12+Տ.Գրիգորյան!J12+Գ.Վարդանյան!J12 -> 0 | K12: ='Ս. Բաղդասարյան'!K12+'Ա. Մկոյան'!K12+'Վ. Հովնանյան'!K12+'Ն. Հովակիմյան'!K12+'Գ. Զաքարյան'!K12+'Ս. Երիցյան'!K12+'Բ. Գրիգորյան'!K12+'Ա. Աթաբեկյան'!K12+'Լ. Աբգարյան'!K12+'Մ. Հարությունյան'!K12+'Գ. Գագիկյան'!K12+Տ.Գրիգորյան!K12+Գ.Վարդանյան!K12 -> 16 | ... R12: ='Ս. Բաղդասարյան'!R12+'Ա. Մկոյան'!R12+'Վ. Հովնանյան'!R12+'Ն. Հովակիմյան'!R12+'Գ. Զաքարյան'!R12+'Ս. Երիցյան'!R12+'Բ. Գրիգորյան'!R12+'Ա. Աթաբեկյան'!R12+'Լ. Աբգարյան'!R12+'Մ. Հարությունյան'!R12+'Գ. Գագիկյան'!R12+Տ.Գրիգորյան!R12+Գ.Վարդանյան!R12 -> 1 | S12: ='Ս. Բաղդասարյան'!S12+'Ա. Մկոյան'!S12+'Վ. Հովնանյան'!S12+'Ն. Հովակիմյան'!S12+'Գ. Զաքարյան'!S12+'Ս. Երիցյան'!S12+'Բ. Գրիգորյան'!S12+'Գ. Գագիկյան'!S12 -> 0 | T12: =D12+E12 -> 16 | U12: =F12+K12+L12 -> 16 | V12: =K12 -> 16 | W12: =G12+H12+I12+J12 -> 16
A13: 7 | B13: Ý³Ù³Ï³·ñáõÃÛ³Ý, Ñ»é³·ñ³Ï³Ý, ÷áuï³ÛÇÝ Ñ³Õáñ¹áõÙÝ»ñÇ ÑëÏáÕáõÃÛ³Ý Ù³ëÇÝ ÙÇçÝáñ¹áõÃÛáõÝÝ»ñ | D13: ='Ս. Բաղդասարյան'!D13+'Ա. Մկոյան'!D13+'Վ. Հովնանյան'!D13+'Ն. Հովակիմյան'!D13+'Գ. Զաքարյան'!D13+'Ս. Երիցյան'!D13+'Բ. Գրիգորյան'!D13+'Ա. Աթաբեկյան'!D13+'Լ. Աբգարյան'!D13+'Մ. Հարությունյան'!D13+'Գ. Գագիկյան'!D13+Տ.Գրիգորյան!D13+Գ.Վարդանյան!D13 -> 0 | E13: ='Ս. Բաղդասարյան'!E13+'Ա. Մկոյան'!E13+'Վ. Հովնանյան'!E13+'Ն. Հովակիմյան'!E13+'Գ. Զաքարյան'!E13+'Ս. Երիցյան'!E13+'Բ. Գրիգորյան'!E13+'Ա. Աթաբեկյան'!E13+'Լ. Աբգարյան'!E13+'Մ. Հարությունյան'!E13+'Գ. Գագիկյան'!E13+Տ.Գրիգորյան!E13+Գ.Վարդանյան!E13 -> 14 | F13: ='Ս. Բաղդասարյան'!F13+'Ա. Մկոյան'!F13+'Վ. Հովնանյան'!F13+'Ն. Հովակիմյան'!F13+'Գ. Զաքարյան'!F13+'Ս. Երիցյան'!F13+'Բ. Գրիգորյան'!F13+'Ա. Աթաբեկյան'!F13+'Լ. Աբգարյան'!F13+'Մ. Հարությունյան'!F13+'Գ. Գագիկյան'!F13+Տ.Գրիգորյան!F13+Գ.Վարդանյան!F13 -> 0 | G13: ='Ս. Բաղդասարյան'!G13+'Ա. Մկոյան'!G13+'Վ. Հովնանյան'!G13+'Ն. Հովակիմյան'!G13+'Գ. Զաքարյան'!G13+'Ս. Երիցյան'!G13+'Բ. Գրիգորյան'!G13+'Ա. Աթաբեկյան'!G13+'Լ. Աբգարյան'!G13+'Մ. Հարությունյան'!G13+'Գ. Գագիկյան'!G13+Տ.Գրիգորյան!G13+Գ.Վարդանյան!G13 -> 2 | H13: ='Ս. Բաղդասարյան'!H13+'Ա. Մկոյան'!H13+'Վ. Հովնանյան'!H13+'Ն. Հովակիմյան'!H13+'Գ. Զաքարյան'!H13+'Ս. Երիցյան'!H13+'Բ. Գրիգորյան'!H13+'Ա. Աթաբեկյան'!H13+'Լ. Աբգարյան'!H13+'Մ. Հարությունյան'!H13+'Գ. Գագիկյան'!H13+Տ.Գրիգորյան!H13+Գ.Վարդանյան!H13 -> 12 | I13: ='Ս. Բաղդասարյան'!I13+'Ա. Մկոյան'!I13+'Վ. Հովնանյան'!I13+'Ն. Հովակիմյան'!I13+'Գ. Զաքարյան'!I13+'Ս. Երիցյան'!I13+'Բ. Գրիգորյան'!I13+'Ա. Աթաբեկյան'!I13+'Լ. Աբգարյան'!I13+'Մ. Հարությունյան'!I13+'Գ. Գագիկյան'!I13+Տ.Գրիգորյան!I13+Գ.Վարդանյան!I13 -> 0 | J13: ='Ս. Բաղդասարյան'!J13+'Ա. Մկոյան'!J13+'Վ. Հովնանյան'!J13+'Ն. Հովակիմյան'!J13+'Գ. Զաքարյան'!J13+'Ս. Երիցյան'!J13+'Բ. Գրիգորյան'!J13+'Ա. Աթաբեկյան'!J13+'Լ. Աբգարյան'!J13+'Մ. Հարությունյան'!J13+'Գ. Գագիկյան'!J13+Տ.Գրիգորյան!J13+Գ.Վարդանյան!J13 -> 0 | K13: ='Ս. Բաղդասարյան'!K13+'Ա. Մկոյան'!K13+'Վ. Հովնանյան'!K13+'Ն. Հովակիմյան'!K13+'Գ. Զաքարյան'!K13+'Ս. Երիցյան'!K13+'Բ. Գրիգորյան'!K13+'Ա. Աթաբեկյան'!K13+'Լ. Աբգարյան'!K13+'Մ. Հարությունյան'!K13+'Գ. Գագիկյան'!K13+Տ.Գրիգորյան!K13+Գ.Վարդանյան!K13 -> 14 | ... R13: ='Ս. Բաղդասարյան'!R13+'Ա. Մկոյան'!R13+'Վ. Հովնանյան'!R13+'Ն. Հովակիմյան'!R13+'Գ. Զաքարյան'!R13+'Ս. Երիցյան'!R13+'Բ. Գրիգորյան'!R13+'Ա. Աթաբեկյան'!R13+'Լ. Աբգարյան'!R13+'Մ. Հարությունյան'!R13+'Գ. Գագիկյան'!R13+Տ.Գրիգորյան!R13+Գ.Վարդանյան!R13 -> 0 | S13: ='Ս. Բաղդասարյան'!S13+'Ա. Մկոյան'!S13+'Վ. Հովնանյան'!S13+'Ն. Հովակիմյան'!S13+'Գ. Զաքարյան'!S13+'Ս. Երիցյան'!S13+'Բ. Գրիգորյան'!S13+'Գ. Գագիկյան'!S13 -> 0 | T13: =D13+E13 -> 14 | U13: =F13+K13+L13 -> 14 | V13: =K13 -> 14 | W13: =G13+H13+I13+J13 -> 14
A14: 8 | B14: Ñ»é³Ëáu³ÛÇÝ Ï³Ù Ï³åÇ ³ÛÉ ÙÇçáóÝ»ñáí ï³ñíáÕ Ëáu³ÏóáõÃÛáõÝÝ»ñÇ ÉuÙ³Ý ¨ Ó³ÛÝ³·ñ³éÙ³Ý Ù³ëÇÝ ÙÇçÝáñ¹áõÃÛáõÝÝ»ñ | D14: ='Ս. Բաղդասարյան'!D14+'Ա. Մկոյան'!D14+'Վ. Հովնանյան'!D14+'Ն. Հովակիմյան'!D14+'Գ. Զաքարյան'!D14+'Ս. Երիցյան'!D14+'Բ. Գրիգորյան'!D14+'Ա. Աթաբեկյան'!D14+'Լ. Աբգարյան'!D14+'Մ. Հարությունյան'!D14+'Գ. Գագիկյան'!D14+Տ.Գրիգորյան!D14+Գ.Վարդանյան!D14 -> 0 | E14: ='Ս. Բաղդասարյան'!E14+'Ա. Մկոյան'!E14+'Վ. Հովնանյան'!E14+'Ն. Հովակիմյան'!E14+'Գ. Զաքարյան'!E14+'Ս. Երիցյան'!E14+'Բ. Գրիգորյան'!E14+'Ա. Աթաբեկյան'!E14+'Լ. Աբգարյան'!E14+'Մ. Հարությունյան'!E14+'Գ. Գագիկյան'!E14+Տ.Գրիգորյան!E14+Գ.Վարդանյան!E14 -> 0 | F14: ='Ս. Բաղդասարյան'!F14+'Ա. Մկոյան'!F14+'Վ. Հովնանյան'!F14+'Ն. Հովակիմյան'!F14+'Գ. Զաքարյան'!F14+'Ս. Երիցյան'!F14+'Բ. Գրիգորյան'!F14+'Ա. Աթաբեկյան'!F14+'Լ. Աբգարյան'!F14+'Մ. Հարությունյան'!F14+'Գ. Գագիկյան'!F14+Տ.Գրիգորյան!F14+Գ.Վարդանյան!F14 -> 0 | G14: ='Ս. Բաղդասարյան'!G14+'Ա. Մկոյան'!G14+'Վ. Հովնանյան'!G14+'Ն. Հովակիմյան'!G14+'Գ. Զաքարյան'!G14+'Ս. Երիցյան'!G14+'Բ. Գրիգորյան'!G14+'Ա. Աթաբեկյան'!G14+'Լ. Աբգարյան'!G14+'Մ. Հարությունյան'!G14+'Գ. Գագիկյան'!G14+Տ.Գրիգորյան!G14+Գ.Վարդանյան!G14 -> 0 | H14: ='Ս. Բաղդասարյան'!H14+'Ա. Մկոյան'!H14+'Վ. Հովնանյան'!H14+'Ն. Հովակիմյան'!H14+'Գ. Զաքարյան'!H14+'Ս. Երիցյան'!H14+'Բ. Գրիգորյան'!H14+'Ա. Աթաբեկյան'!H14+'Լ. Աբգարյան'!H14+'Մ. Հարությունյան'!H14+'Գ. Գագիկյան'!H14+Տ.Գրիգորյան!H14+Գ.Վարդանյան!H14 -> 0 | I14: ='Ս. Բաղդասարյան'!I14+'Ա. Մկոյան'!I14+'Վ. Հովնանյան'!I14+'Ն. Հովակիմյան'!I14+'Գ. Զաքարյան'!I14+'Ս. Երիցյան'!I14+'Բ. Գրիգորյան'!I14+'Ա. Աթաբեկյան'!I14+'Լ. Աբգարյան'!I14+'Մ. Հարությունյան'!I14+'Գ. Գագիկյան'!I14+Տ.Գրիգորյան!I14+Գ.Վարդանյան!I14 -> 0 | J14: ='Ս. Բաղդասարյան'!J14+'Ա. Մկոյան'!J14+'Վ. Հովնանյան'!J14+'Ն. Հովակիմյան'!J14+'Գ. Զաքարյան'!J14+'Ս. Երիցյան'!J14+'Բ. Գրիգորյան'!J14+'Ա. Աթաբեկյան'!J14+'Լ. Աբգարյան'!J14+'Մ. Հարությունյան'!J14+'Գ. Գագիկյան'!J14+Տ.Գրիգորյան!J14+Գ.Վարդանյան!J14 -> 0 | K14: ='Ս. Բաղդասարյան'!K14+'Ա. Մկոյան'!K14+'Վ. Հովնանյան'!K14+'Ն. Հովակիմյան'!K14+'Գ. Զաքարյան'!K14+'Ս. Երիցյան'!K14+'Բ. Գրիգորյան'!K14+'Ա. Աթաբեկյան'!K14+'Լ. Աբգարյան'!K14+'Մ. Հարությունյան'!K14+'Գ. Գագիկյան'!K14+Տ.Գրիգորյան!K14+Գ.Վարդանյան!K14 -> 0 | ... R14: ='Ս. Բաղդասարյան'!R14+'Ա. Մկոյան'!R14+'Վ. Հովնանյան'!R14+'Ն. Հովակիմյան'!R14+'Գ. Զաքարյան'!R14+'Ս. Երիցյան'!R14+'Բ. Գրիգորյան'!R14+'Ա. Աթաբեկյան'!R14+'Լ. Աբգարյան'!R14+'Մ. Հարությունյան'!R14+'Գ. Գագիկյան'!R14+Տ.Գրիգորյան!R14+Գ.Վարդանյան!R14 -> 0 | S14: ='Ս. Բաղդասարյան'!S14+'Ա. Մկոյան'!S14+'Վ. Հովնանյան'!S14+'Ն. Հովակիմյան'!S14+'Գ. Զաքարյան'!S14+'Ս. Երիցյան'!S14+'Բ. Գրիգորյան'!S14+'Գ. Գագիկյան'!S14 -> 0 | T14: =D14+E14 -> 0 | U14: =F14+K14+L14 -> 0 | V14: =K14 -> 0 | W14: =G14+H14+I14+J14 -> 0
A15: 9 | B15: Ñ»é³ËáëÝ»ñÇ Ùáõïù³ÛÇÝ ¨ »Éù³ÛÇÝ í»ñÍ³ÝÙ³Ý ÃáõÛÉïíáõÃÛáõÝ ëï³Ý³Éáõ Ù³ëÇÝ ÙÇçÝáñ¹áõÃÛáõÝÝ»ñ | D15: ='Ս. Բաղդասարյան'!D15+'Ա. Մկոյան'!D15+'Վ. Հովնանյան'!D15+'Ն. Հովակիմյան'!D15+'Գ. Զաքարյան'!D15+'Ս. Երիցյան'!D15+'Բ. Գրիգորյան'!D15+'Ա. Աթաբեկյան'!D15+'Լ. Աբգարյան'!D15+'Մ. Հարությունյան'!D15+'Գ. Գագիկյան'!D15+Տ.Գրիգորյան!D15+Գ.Վարդանյան!D15 -> 0 | E15: ='Ս. Բաղդասարյան'!E15+'Ա. Մկոյան'!E15+'Վ. Հովնանյան'!E15+'Ն. Հովակիմյան'!E15+'Գ. Զաքարյան'!E15+'Ս. Երիցյան'!E15+'Բ. Գրիգորյան'!E15+'Ա. Աթաբեկյան'!E15+'Լ. Աբգարյան'!E15+'Մ. Հարությունյան'!E15+'Գ. Գագիկյան'!E15+Տ.Գրիգորյան!E15+Գ.Վարդանյան!E15 -> 266 | F15: ='Ս. Բաղդասարյան'!F15+'Ա. Մկոյան'!F15+'Վ. Հովնանյան'!F15+'Ն. Հովակիմյան'!F15+'Գ. Զաքարյան'!F15+'Ս. Երիցյան'!F15+'Բ. Գրիգորյան'!F15+'Ա. Աթաբեկյան'!F15+'Լ. Աբգարյան'!F15+'Մ. Հարությունյան'!F15+'Գ. Գագիկյան'!F15+Տ.Գրիգորյան!F15+Գ.Վարդանյան!F15 -> 2 | G15: ='Ս. Բաղդասարյան'!G15+'Ա. Մկոյան'!G15+'Վ. Հովնանյան'!G15+'Ն. Հովակիմյան'!G15+'Գ. Զաքարյան'!G15+'Ս. Երիցյան'!G15+'Բ. Գրիգորյան'!G15+'Ա. Աթաբեկյան'!G15+'Լ. Աբգարյան'!G15+'Մ. Հարությունյան'!G15+'Գ. Գագիկյան'!G15+Տ.Գրիգորյան!G15+Գ.Վարդանյան!G15 -> 15 | H15: ='Ս. Բաղդասարյան'!H15+'Ա. Մկոյան'!H15+'Վ. Հովնանյան'!H15+'Ն. Հովակիմյան'!H15+'Գ. Զաքարյան'!H15+'Ս. Երիցյան'!H15+'Բ. Գրիգորյան'!H15+'Ա. Աթաբեկյան'!H15+'Լ. Աբգարյան'!H15+'Մ. Հարությունյան'!H15+'Գ. Գագիկյան'!H15+Տ.Գրիգորյան!H15+Գ.Վարդանյան!H15 -> 239 | I15: ='Ս. Բաղդասարյան'!I15+'Ա. Մկոյան'!I15+'Վ. Հովնանյան'!I15+'Ն. Հովակիմյան'!I15+'Գ. Զաքարյան'!I15+'Ս. Երիցյան'!I15+'Բ. Գրիգորյան'!I15+'Ա. Աթաբեկյան'!I15+'Լ. Աբգարյան'!I15+'Մ. Հարությունյան'!I15+'Գ. Գագիկյան'!I15+Տ.Գրիգորյան!I15+Գ.Վարդանյան!I15 -> 10 | J15: ='Ս. Բաղդասարյան'!J15+'Ա. Մկոյան'!J15+'Վ. Հովնանյան'!J15+'Ն. Հովակիմյան'!J15+'Գ. Զաքարյան'!J15+'Ս. Երիցյան'!J15+'Բ. Գրիգորյան'!J15+'Ա. Աթաբեկյան'!J15+'Լ. Աբգարյան'!J15+'Մ. Հարությունյան'!J15+'Գ. Գագիկյան'!J15+Տ.Գրիգորյան!J15+Գ.Վարդանյան!J15 -> 0 | K15: ='Ս. Բաղդասարյան'!K15+'Ա. Մկոյան'!K15+'Վ. Հովնանյան'!K15+'Ն. Հովակիմյան'!K15+'Գ. Զաքարյան'!K15+'Ս. Երիցյան'!K15+'Բ. Գրիգորյան'!K15+'Ա. Աթաբեկյան'!K15+'Լ. Աբգարյան'!K15+'Մ. Հարությունյան'!K15+'Գ. Գագիկյան'!K15+Տ.Գրիգորյան!K15+Գ.Վարդանյան!K15 -> 264 | ... R15: ='Ս. Բաղդասարյան'!R15+'Ա. Մկոյան'!R15+'Վ. Հովնանյան'!R15+'Ն. Հովակիմյան'!R15+'Գ. Զաքարյան'!R15+'Ս. Երիցյան'!R15+'Բ. Գրիգորյան'!R15+'Ա. Աթաբեկյան'!R15+'Լ. Աբգարյան'!R15+'Մ. Հարությունյան'!R15+'Գ. Գագիկյան'!R15+Տ.Գրիգորյան!R15+Գ.Վարդանյան!R15 -> 0 | S15: ='Ս. Բաղդասարյան'!S15+'Ա. Մկոյան'!S15+'Վ. Հովնանյան'!S15+'Ն. Հովակիմյան'!S15+'Գ. Զաքարյան'!S15+'Ս. Երիցյան'!S15+'Բ. Գրիգորյան'!S15+'Գ. Գագիկյան'!S15 -> 0 | T15: =D15+E15 -> 266 | U15: =F15+K15+L15 -> 266 | V15: =K15 -> 264 | W15: =G15+H15+I15+J15 -> 264
A16: 10 | B16: Ñ»ï³ùÝÝáõÃÛ³Ý Ù³ñÙÝÇ ³ßË³ïáÕÇ, ùÝÝÇãÇ, ¹³ï³Ë³½Ç oå»ñ³ïÇí-Ñ»ï³Ëáõ½³Ï³Ý ·áñÍáÕáõÃÛáõÝÝ»ñ Çñ³Ï³Ý³óÝáÕ Ù³ñÙÇÝÝ»ñÇ ³ÝoñÇÝ³Ï³Ý ¨ ³ÝÑÇÙÝ áñáßáõÙÝ»ñÇ ¨ ·áñÍáÕáõÃÛáõÝÝ»ñÇ ¹»Ù µáÕáùÝ»ñ | D16: ='Ս. Բաղդասարյան'!D16+'Ա. Մկոյան'!D16+'Վ. Հովնանյան'!D16+'Ն. Հովակիմյան'!D16+'Գ. Զաքարյան'!D16+'Ս. Երիցյան'!D16+'Բ. Գրիգորյան'!D16+'Ա. Աթաբեկյան'!D16+'Լ. Աբգարյան'!D16+'Մ. Հարությունյան'!D16+'Գ. Գագիկյան'!D16+Տ.Գրիգորյան!D16+Գ.Վարդանյան!D16 -> 4 | E16: ='Ս. Բաղդասարյան'!E16+'Ա. Մկոյան'!E16+'Վ. Հովնանյան'!E16+'Ն. Հովակիմյան'!E16+'Գ. Զաքարյան'!E16+'Ս. Երիցյան'!E16+'Բ. Գրիգորյան'!E16+'Ա. Աթաբեկյան'!E16+'Լ. Աբգարյան'!E16+'Մ. Հարությունյան'!E16+'Գ. Գագիկյան'!E16+Տ.Գրիգորյան!E16+Գ.Վարդանյան!E16 -> 42 | F16: ='Ս. Բաղդասարյան'!F16+'Ա. Մկոյան'!F16+'Վ. Հովնանյան'!F16+'Ն. Հովակիմյան'!F16+'Գ. Զաքարյան'!F16+'Ս. Երիցյան'!F16+'Բ. Գրիգորյան'!F16+'Ա. Աթաբեկյան'!F16+'Լ. Աբգարյան'!F16+'Մ. Հարությունյան'!F16+'Գ. Գագիկյան'!F16+Տ.Գրիգորյան!F16+Գ.Վարդանյան!F16 -> 0 | G16: ='Ս. Բաղդասարյան'!G16+'Ա. Մկոյան'!G16+'Վ. Հովնանյան'!G16+'Ն. Հովակիմյան'!G16+'Գ. Զաքարյան'!G16+'Ս. Երիցյան'!G16+'Բ. Գրիգորյան'!G16+'Ա. Աթաբեկյան'!G16+'Լ. Աբգարյան'!G16+'Մ. Հարությունյան'!G16+'Գ. Գագիկյան'!G16+Տ.Գրիգորյան!G16+Գ.Վարդանյան!G16 -> 39 | H16: ='Ս. Բաղդասարյան'!H16+'Ա. Մկոյան'!H16+'Վ. Հովնանյան'!H16+'Ն. Հովակիմյան'!H16+'Գ. Զաքարյան'!H16+'Ս. Երիցյան'!H16+'Բ. Գրիգորյան'!H16+'Ա. Աթաբեկյան'!H16+'Լ. Աբգարյան'!H16+'Մ. Հարությունյան'!H16+'Գ. Գագիկյան'!H16+Տ.Գրիգորյան!H16+Գ.Վարդանյան!H16 -> 3 | I16: ='Ս. Բաղդասարյան'!I16+'Ա. Մկոյան'!I16+'Վ. Հովնանյան'!I16+'Ն. Հովակիմյան'!I16+'Գ. Զաքարյան'!I16+'Ս. Երիցյան'!I16+'Բ. Գրիգորյան'!I16+'Ա. Աթաբեկյան'!I16+'Լ. Աբգարյան'!I16+'Մ. Հարությունյան'!I16+'Գ. Գագիկյան'!I16+Տ.Գրիգորյան!I16+Գ.Վարդանյան!I16 -> 0 | J16: ='Ս. Բաղդասարյան'!J16+'Ա. Մկոյան'!J16+'Վ. Հովնանյան'!J16+'Ն. Հովակիմյան'!J16+'Գ. Զաքարյան'!J16+'Ս. Երիցյան'!J16+'Բ. Գրիգորյան'!J16+'Ա. Աթաբեկյան'!J16+'Լ. Աբգարյան'!J16+'Մ. Հարությունյան'!J16+'Գ. Գագիկյան'!J16+Տ.Գրիգորյան!J16+Գ.Վարդանյան!J16 -> 3 | K16: ='Ս. Բաղդասարյան'!K16+'Ա. Մկոյան'!K16+'Վ. Հովնանյան'!K16+'Ն. Հովակիմյան'!K16+'Գ. Զաքարյան'!K16+'Ս. Երիցյան'!K16+'Բ. Գրիգորյան'!K16+'Ա. Աթաբեկյան'!K16+'Լ. Աբգարյան'!K16+'Մ. Հարությունյան'!K16+'Գ. Գագիկյան'!K16+Տ.Գրիգորյան!K16+Գ.Վարդանյան!K16 -> 45 | ... R16: ='Ս. Բաղդասարյան'!R16+'Ա. Մկոյան'!R16+'Վ. Հովնանյան'!R16+'Ն. Հովակիմյան'!R16+'Գ. Զաքարյան'!R16+'Ս. Երիցյան'!R16+'Բ. Գրիգորյան'!R16+'Ա. Աթաբեկյան'!R16+'Լ. Աբգարյան'!R16+'Մ. Հարությունյան'!R16+'Գ. Գագիկյան'!R16+Տ.Գրիգորյան!R16+Գ.Վարդանյան!R16 -> 12 | T16: =D16+E16 -> 46 | U16: =F16+K16+L16 -> 46 | V16: =K16 -> 45 | W16: =G16+H16+I16+J16 -> 45
A17: 11 | B17: ²½³ïáõÃÛáõÝÇó ½ñÏ»Éáõ Çñ³í³ã³÷áõÃÛ³Ý í»ñ³µ»ñÛ³É µáÕáùÝ»ñáí ·áñÍ»ñ | D17: ='Ս. Բաղդասարյան'!D17+'Ա. Մկոյան'!D17+'Վ. Հովնանյան'!D17+'Ն. Հովակիմյան'!D17+'Գ. Զաքարյան'!D17+'Ս. Երիցյան'!D17+'Բ. Գրիգորյան'!D17+'Ա. Աթաբեկյան'!D17+'Լ. Աբգարյան'!D17+'Մ. Հարությունյան'!D17+'Գ. Գագիկյան'!D17+Տ.Գրիգորյան!D17+Գ.Վարդանյան!D17 -> 0 | E17: ='Ս. Բաղդասարյան'!E17+'Ա. Մկոյան'!E17+'Վ. Հովնանյան'!E17+'Ն. Հովակիմյան'!E17+'Գ. Զաքարյան'!E17+'Ս. Երիցյան'!E17+'Բ. Գրիգորյան'!E17+'Ա. Աթաբեկյան'!E17+'Լ. Աբգարյան'!E17+'Մ. Հարությունյան'!E17+'Գ. Գագիկյան'!E17+Տ.Գրիգորյան!E17+Գ.Վարդանյան!E17 -> 4 | F17: ='Ս. Բաղդասարյան'!F17+'Ա. Մկոյան'!F17+'Վ. Հովնանյան'!F17+'Ն. Հովակիմյան'!F17+'Գ. Զաքարյան'!F17+'Ս. Երիցյան'!F17+'Բ. Գրիգորյան'!F17+'Ա. Աթաբեկյան'!F17+'Լ. Աբգարյան'!F17+'Մ. Հարությունյան'!F17+'Գ. Գագիկյան'!F17+Տ.Գրիգորյան!F17+Գ.Վարդանյան!F17 -> 0 | G17: ='Ս. Բաղդասարյան'!G17+'Ա. Մկոյան'!G17+'Վ. Հովնանյան'!G17+'Ն. Հովակիմյան'!G17+'Գ. Զաքարյան'!G17+'Ս. Երիցյան'!G17+'Բ. Գրիգորյան'!G17+'Ա. Աթաբեկյան'!G17+'Լ. Աբգարյան'!G17+'Մ. Հարությունյան'!G17+'Գ. Գագիկյան'!G17+Տ.Գրիգորյան!G17+Գ.Վարդանյան!G17 -> 0 | H17: ='Ս. Բաղդասարյան'!H17+'Ա. Մկոյան'!H17+'Վ. Հովնանյան'!H17+'Ն. Հովակիմյան'!H17+'Գ. Զաքարյան'!H17+'Ս. Երիցյան'!H17+'Բ. Գրիգորյան'!H17+'Ա. Աթաբեկյան'!H17+'Լ. Աբգարյան'!H17+'Մ. Հարությունյան'!H17+'Գ. Գագիկյան'!H17+Տ.Գրիգորյան!H17+Գ.Վարդանյան!H17 -> 4 | I17: ='Ս. Բաղդասարյան'!I17+'Ա. Մկոյան'!I17+'Վ. Հովնանյան'!I17+'Ն. Հովակիմյան'!I17+'Գ. Զաքարյան'!I17+'Ս. Երիցյան'!I17+'Բ. Գրիգորյան'!I17+'Ա. Աթաբեկյան'!I17+'Լ. Աբգարյան'!I17+'Մ. Հարությունյան'!I17+'Գ. Գագիկյան'!I17+Տ.Գրիգորյան!I17+Գ.Վարդանյան!I17 -> 0 | J17: ='Ս. Բաղդասարյան'!J17+'Ա. Մկոյան'!J17+'Վ. Հովնանյան'!J17+'Ն. Հովակիմյան'!J17+'Գ. Զաքարյան'!J17+'Ս. Երիցյան'!J17+'Բ. Գրիգորյան'!J17+'Ա. Աթաբեկյան'!J17+'Լ. Աբգարյան'!J17+'Մ. Հարությունյան'!J17+'Գ. Գագիկյան'!J17+Տ.Գրիգորյան!J17+Գ.Վարդանյան!J17 -> 0 | K17: ='Ս. Բաղդասարյան'!K17+'Ա. Մկոյան'!K17+'Վ. Հովնանյան'!K17+'Ն. Հովակիմյան'!K17+'Գ. Զաքարյան'!K17+'Ս. Երիցյան'!K17+'Բ. Գրիգորյան'!K17+'Ա. Աթաբեկյան'!K17+'Լ. Աբգարյան'!K17+'Մ. Հարությունյան'!K17+'Գ. Գագիկյան'!K17+Տ.Գրիգորյան!K17+Գ.Վարդանյան!K17 -> 4 | ... R17: ='Ս. Բաղդասարյան'!R17+'Ա. Մկոյան'!R17+'Վ. Հովնանյան'!R17+'Ն. Հովակիմյան'!R17+'Գ. Զաքարյան'!R17+'Ս. Երիցյան'!R17+'Բ. Գրիգորյան'!R17+'Ա. Աթաբեկյան'!R17+'Լ. Աբգարյան'!R17+'Մ. Հարությունյան'!R17+'Գ. Գագիկյան'!R17+Տ.Գրիգորյան!R17+Գ.Վարդանյան!R17 -> 0 | S17: ='Ս. Բաղդասարյան'!S17+'Ա. Մկոյան'!S17+'Վ. Հովնանյան'!S17+'Ն. Հովակիմյան'!S17+'Գ. Զաքարյան'!S17+'Ս. Երիցյան'!S17+'Բ. Գրիգորյան'!S17+'Գ. Գագիկյան'!S17 -> 0 | T17: =D17+E17 -> 4 | U17: =F17+K17+L17 -> 4 | V17: =K17 -> 4 | W17: =G17+H17+I17+J17 -> 4
A18: 2. ¸³ï³Ï³Ý ³Ïï»ñÇ ¨ ¹³ï³Ï³Ý Ñ³ÝÓÝ³ñ³ñáõÃÛáõÝÝ»ñÇ Ï³ï³ñÙ³Ý Ñ»ï Ï³åí³Í Ñ³ñó»ñÇ ÉáõÍÙ³Ý áÉáñï | D18: ='Ս. Բաղդասարյան'!D18+'Ա. Մկոյան'!D18+'Վ. Հովնանյան'!D18+'Ն. Հովակիմյան'!D18+'Գ. Զաքարյան'!D18+'Ս. Երիցյան'!D18+'Բ. Գրիգորյան'!D18+'Ա. Աթաբեկյան'!D18+'Լ. Աբգարյան'!D18+'Մ. Հարությունյան'!D18+'Գ. Գագիկյան'!D18+Տ.Գրիգորյան!D18+Գ.Վարդանյան!D18 -> 0 | E18: ='Ս. Բաղդասարյան'!E18+'Ա. Մկոյան'!E18+'Վ. Հովնանյան'!E18+'Ն. Հովակիմյան'!E18+'Գ. Զաքարյան'!E18+'Ս. Երիցյան'!E18+'Բ. Գրիգորյան'!E18+'Ա. Աթաբեկյան'!E18+'Լ. Աբգարյան'!E18+'Մ. Հարությունյան'!E18+'Գ. Գագիկյան'!E18+Տ.Գրիգորյան!E18+Գ.Վարդանյան!E18 -> 0 | F18: ='Ս. Բաղդասարյան'!F18+'Ա. Մկոյան'!F18+'Վ. Հովնանյան'!F18+'Ն. Հովակիմյան'!F18+'Գ. Զաքարյան'!F18+'Ս. Երիցյան'!F18+'Բ. Գրիգորյան'!F18+'Ա. Աթաբեկյան'!F18+'Լ. Աբգարյան'!F18+'Մ. Հարությունյան'!F18+'Գ. Գագիկյան'!F18+Տ.Գրիգորյան!F18+Գ.Վարդանյան!F18 -> 0 | G18: ='Ս. Բաղդասարյան'!G18+'Ա. Մկոյան'!G18+'Վ. Հովնանյան'!G18+'Ն. Հովակիմյան'!G18+'Գ. Զաքարյան'!G18+'Ս. Երիցյան'!G18+'Բ. Գրիգորյան'!G18+'Ա. Աթաբեկյան'!G18+'Լ. Աբգարյան'!G18+'Մ. Հարությունյան'!G18+'Գ. Գագիկյան'!G18+Տ.Գրիգորյան!G18+Գ.Վարդանյան!G18 -> 0 | H18: ='Ս. Բաղդասարյան'!H18+'Ա. Մկոյան'!H18+'Վ. Հովնանյան'!H18+'Ն. Հովակիմյան'!H18+'Գ. Զաքարյան'!H18+'Ս. Երիցյան'!H18+'Բ. Գրիգորյան'!H18+'Ա. Աթաբեկյան'!H18+'Լ. Աբգարյան'!H18+'Մ. Հարությունյան'!H18+'Գ. Գագիկյան'!H18+Տ.Գրիգորյան!H18+Գ.Վարդանյան!H18 -> 0 | I18: ='Ս. Բաղդասարյան'!I18+'Ա. Մկոյան'!I18+'Վ. Հովնանյան'!I18+'Ն. Հովակիմյան'!I18+'Գ. Զաքարյան'!I18+'Ս. Երիցյան'!I18+'Բ. Գրիգորյան'!I18+'Ա. Աթաբեկյան'!I18+'Լ. Աբգարյան'!I18+'Մ. Հարությունյան'!I18+'Գ. Գագիկյան'!I18+Տ.Գրիգորյան!I18+Գ.Վարդանյան!I18 -> 0 | J18: ='Ս. Բաղդասարյան'!J18+'Ա. Մկոյան'!J18+'Վ. Հովնանյան'!J18+'Ն. Հովակիմյան'!J18+'Գ. Զաքարյան'!J18+'Ս. Երիցյան'!J18+'Բ. Գրիգորյան'!J18+'Ա. Աթաբեկյան'!J18+'Լ. Աբգարյան'!J18+'Մ. Հարությունյան'!J18+'Գ. Գագիկյան'!J18+Տ.Գրիգորյան!J18+Գ.Վարդանյան!J18 -> 0 | K18: ='Ս. Բաղդասարյան'!K18+'Ա. Մկոյան'!K18+'Վ. Հովնանյան'!K18+'Ն. Հովակիմյան'!K18+'Գ. Զաքարյան'!K18+'Ս. Երիցյան'!K18+'Բ. Գրիգորյան'!K18+'Ա. Աթաբեկյան'!K18+'Լ. Աբգարյան'!K18+'Մ. Հարությունյան'!K18+'Գ. Գագիկյան'!K18+Տ.Գրիգորյան!K18+Գ.Վարդանյան!K18 -> 0 | ... R18: ='Ս. Բաղդասարյան'!R18+'Ա. Մկոյան'!R18+'Վ. Հովնանյան'!R18+'Ն. Հովակիմյան'!R18+'Գ. Զաքարյան'!R18+'Ս. Երիցյան'!R18+'Բ. Գրիգորյան'!R18+'Ա. Աթաբեկյան'!R18+'Լ. Աբգարյան'!R18+'Մ. Հարությունյան'!R18+'Գ. Գագիկյան'!R18+Տ.Գրիգորյան!R18+Գ.Վարդանյան!R18 -> 0 | S18: ='Ս. Բաղդասարյան'!S18+'Ա. Մկոյան'!S18+'Վ. Հովնանյան'!S18+'Ն. Հովակիմյան'!S18+'Գ. Զաքարյան'!S18+'Ս. Երիցյան'!S18+'Բ. Գրիգորյան'!S18+'Գ. Գագիկյան'!S18 -> 0
A19: 1 | B19: å³ïÅÇó å³ÛÙ³Ý³Ï³Ý í³Õ³Å³ÙÏ»ï ³½³ï»Éáõ Ù³ëÇÝ ÙÇçÝáñ¹áõÃÛáõÝÝ»ñ | D19: ='Ս. Բաղդասարյան'!D19+'Ա. Մկոյան'!D19+'Վ. Հովնանյան'!D19+'Ն. Հովակիմյան'!D19+'Գ. Զաքարյան'!D19+'Ս. Երիցյան'!D19+'Բ. Գրիգորյան'!D19+'Ա. Աթաբեկյան'!D19+'Լ. Աբգարյան'!D19+'Մ. Հարությունյան'!D19+'Գ. Գագիկյան'!D19+Տ.Գրիգորյան!D19+Գ.Վարդանյան!D19 -> 0 | E19: ='Ս. Բաղդասարյան'!E19+'Ա. Մկոյան'!E19+'Վ. Հովնանյան'!E19+'Ն. Հովակիմյան'!E19+'Գ. Զաքարյան'!E19+'Ս. Երիցյան'!E19+'Բ. Գրիգորյան'!E19+'Ա. Աթաբեկյան'!E19+'Լ. Աբգարյան'!E19+'Մ. Հարությունյան'!E19+'Գ. Գագիկյան'!E19+Տ.Գրիգորյան!E19+Գ.Վարդանյան!E19 -> 7 | F19: ='Ս. Բաղդասարյան'!F19+'Ա. Մկոյան'!F19+'Վ. Հովնանյան'!F19+'Ն. Հովակիմյան'!F19+'Գ. Զաքարյան'!F19+'Ս. Երիցյան'!F19+'Բ. Գրիգորյան'!F19+'Ա. Աթաբեկյան'!F19+'Լ. Աբգարյան'!F19+'Մ. Հարությունյան'!F19+'Գ. Գագիկյան'!F19+Տ.Գրիգորյան!F19+Գ.Վարդանյան!F19 -> 0 | G19: ='Ս. Բաղդասարյան'!G19+'Ա. Մկոյան'!G19+'Վ. Հովնանյան'!G19+'Ն. Հովակիմյան'!G19+'Գ. Զաքարյան'!G19+'Ս. Երիցյան'!G19+'Բ. Գրիգորյան'!G19+'Ա. Աթաբեկյան'!G19+'Լ. Աբգարյան'!G19+'Մ. Հարությունյան'!G19+'Գ. Գագիկյան'!G19+Տ.Գրիգորյան!G19+Գ.Վարդանյան!G19 -> 0 | H19: ='Ս. Բաղդասարյան'!H19+'Ա. Մկոյան'!H19+'Վ. Հովնանյան'!H19+'Ն. Հովակիմյան'!H19+'Գ. Զաքարյան'!H19+'Ս. Երիցյան'!H19+'Բ. Գրիգորյան'!H19+'Ա. Աթաբեկյան'!H19+'Լ. Աբգարյան'!H19+'Մ. Հարությունյան'!H19+'Գ. Գագիկյան'!H19+Տ.Գրիգորյան!H19+Գ.Վարդանյան!H19 -> 7 | I19: ='Ս. Բաղդասարյան'!I19+'Ա. Մկոյան'!I19+'Վ. Հովնանյան'!I19+'Ն. Հովակիմյան'!I19+'Գ. Զաքարյան'!I19+'Ս. Երիցյան'!I19+'Բ. Գրիգորյան'!I19+'Ա. Աթաբեկյան'!I19+'Լ. Աբգարյան'!I19+'Մ. Հարությունյան'!I19+'Գ. Գագիկյան'!I19+Տ.Գրիգորյան!I19+Գ.Վարդանյան!I19 -> 0 | J19: ='Ս. Բաղդասարյան'!J19+'Ա. Մկոյան'!J19+'Վ. Հովնանյան'!J19+'Ն. Հովակիմյան'!J19+'Գ. Զաքարյան'!J19+'Ս. Երիցյան'!J19+'Բ. Գրիգորյան'!J19+'Ա. Աթաբեկյան'!J19+'Լ. Աբգարյան'!J19+'Մ. Հարությունյան'!J19+'Գ. Գագիկյան'!J19+Տ.Գրիգորյան!J19+Գ.Վարդանյան!J19 -> 0 | K19: ='Ս. Բաղդասարյան'!K19+'Ա. Մկոյան'!K19+'Վ. Հովնանյան'!K19+'Ն. Հովակիմյան'!K19+'Գ. Զաքարյան'!K19+'Ս. Երիցյան'!K19+'Բ. Գրիգորյան'!K19+'Ա. Աթաբեկյան'!K19+'Լ. Աբգարյան'!K19+'Մ. Հարությունյան'!K19+'Գ. Գագիկյան'!K19+Տ.Գրիգորյան!K19+Գ.Վարդանյան!K19 -> 7 | ... R19: ='Ս. Բաղդասարյան'!R19+'Ա. Մկոյան'!R19+'Վ. Հովնանյան'!R19+'Ն. Հովակիմյան'!R19+'Գ. Զաքարյան'!R19+'Ս. Երիցյան'!R19+'Բ. Գրիգորյան'!R19+'Ա. Աթաբեկյան'!R19+'Լ. Աբգարյան'!R19+'Մ. Հարությունյան'!R19+'Գ. Գագիկյան'!R19+Տ.Գրիգորյան!R19+Գ.Վարդանյան!R19 -> 3 | S19: ='Ս. Բաղդասարյան'!S19+'Ա. Մկոյան'!S19+'Վ. Հովնանյան'!S19+'Ն. Հովակիմյան'!S19+'Գ. Զաքարյան'!S19+'Ս. Երիցյան'!S19+'Բ. Գրիգորյան'!S19+'Գ. Գագիկյան'!S19 -> 0 | T19: =D19+E19 -> 7 | U19: =F19+K19+L19 -> 7 | V19: =K19 -> 7 | W19: =G19+H19+I19+J19 -> 7
A20: 2 | B20: å³ïÇÅÁ ÷á÷áË»Éáõ, Ñ»ï³Ó·»Éáõ ¨ å³ïÅÇó ³½³ï»Éáõ Ù³uÇÝ ÙÇçÝáñ¹áõÃÛáõÝÝ»ñ | D20: ='Ս. Բաղդասարյան'!D20+'Ա. Մկոյան'!D20+'Վ. Հովնանյան'!D20+'Ն. Հովակիմյան'!D20+'Գ. Զաքարյան'!D20+'Ս. Երիցյան'!D20+'Բ. Գրիգորյան'!D20+'Ա. Աթաբեկյան'!D20+'Լ. Աբգարյան'!D20+'Մ. Հարությունյան'!D20+'Գ. Գագիկյան'!D20+Տ.Գրիգորյան!D20+Գ.Վարդանյան!D20 -> 2 | E20: ='Ս. Բաղդասարյան'!E20+'Ա. Մկոյան'!E20+'Վ. Հովնանյան'!E20+'Ն. Հովակիմյան'!E20+'Գ. Զաքարյան'!E20+'Ս. Երիցյան'!E20+'Բ. Գրիգորյան'!E20+'Ա. Աթաբեկյան'!E20+'Լ. Աբգարյան'!E20+'Մ. Հարությունյան'!E20+'Գ. Գագիկյան'!E20+Տ.Գրիգորյան!E20+Գ.Վարդանյան!E20 -> 24 | F20: ='Ս. Բաղդասարյան'!F20+'Ա. Մկոյան'!F20+'Վ. Հովնանյան'!F20+'Ն. Հովակիմյան'!F20+'Գ. Զաքարյան'!F20+'Ս. Երիցյան'!F20+'Բ. Գրիգորյան'!F20+'Ա. Աթաբեկյան'!F20+'Լ. Աբգարյան'!F20+'Մ. Հարությունյան'!F20+'Գ. Գագիկյան'!F20+Տ.Գրիգորյան!F20+Գ.Վարդանյան!F20 -> 3 | G20: ='Ս. Բաղդասարյան'!G20+'Ա. Մկոյան'!G20+'Վ. Հովնանյան'!G20+'Ն. Հովակիմյան'!G20+'Գ. Զաքարյան'!G20+'Ս. Երիցյան'!G20+'Բ. Գրիգորյան'!G20+'Ա. Աթաբեկյան'!G20+'Լ. Աբգարյան'!G20+'Մ. Հարությունյան'!G20+'Գ. Գագիկյան'!G20+Տ.Գրիգորյան!G20+Գ.Վարդանյան!G20 -> 5 | H20: ='Ս. Բաղդասարյան'!H20+'Ա. Մկոյան'!H20+'Վ. Հովնանյան'!H20+'Ն. Հովակիմյան'!H20+'Գ. Զաքարյան'!H20+'Ս. Երիցյան'!H20+'Բ. Գրիգորյան'!H20+'Ա. Աթաբեկյան'!H20+'Լ. Աբգարյան'!H20+'Մ. Հարությունյան'!H20+'Գ. Գագիկյան'!H20+Տ.Գրիգորյան!H20+Գ.Վարդանյան!H20 -> 14 | I20: ='Ս. Բաղդասարյան'!I20+'Ա. Մկոյան'!I20+'Վ. Հովնանյան'!I20+'Ն. Հովակիմյան'!I20+'Գ. Զաքարյան'!I20+'Ս. Երիցյան'!I20+'Բ. Գրիգորյան'!I20+'Ա. Աթաբեկյան'!I20+'Լ. Աբգարյան'!I20+'Մ. Հարությունյան'!I20+'Գ. Գագիկյան'!I20+Տ.Գրիգորյան!I20+Գ.Վարդանյան!I20 -> 1 | J20: ='Ս. Բաղդասարյան'!J20+'Ա. Մկոյան'!J20+'Վ. Հովնանյան'!J20+'Ն. Հովակիմյան'!J20+'Գ. Զաքարյան'!J20+'Ս. Երիցյան'!J20+'Բ. Գրիգորյան'!J20+'Ա. Աթաբեկյան'!J20+'Լ. Աբգարյան'!J20+'Մ. Հարությունյան'!J20+'Գ. Գագիկյան'!J20+Տ.Գրիգորյան!J20+Գ.Վարդանյան!J20 -> 0 | K20: ='Ս. Բաղդասարյան'!K20+'Ա. Մկոյան'!K20+'Վ. Հովնանյան'!K20+'Ն. Հովակիմյան'!K20+'Գ. Զաքարյան'!K20+'Ս. Երիցյան'!K20+'Բ. Գրիգորյան'!K20+'Ա. Աթաբեկյան'!K20+'Լ. Աբգարյան'!K20+'Մ. Հարությունյան'!K20+'Գ. Գագիկյան'!K20+Տ.Գրիգորյան!K20+Գ.Վարդանյան!K20 -> 20 | ... R20: ='Ս. Բաղդասարյան'!R20+'Ա. Մկոյան'!R20+'Վ. Հովնանյան'!R20+'Ն. Հովակիմյան'!R20+'Գ. Զաքարյան'!R20+'Ս. Երիցյան'!R20+'Բ. Գրիգորյան'!R20+'Ա. Աթաբեկյան'!R20+'Լ. Աբգարյան'!R20+'Մ. Հարությունյան'!R20+'Գ. Գագիկյան'!R20+Տ.Գրիգորյան!R20+Գ.Վարդանյան!R20 -> 1 | S20: ='Ս. Բաղդասարյան'!S20+'Ա. Մկոյան'!S20+'Վ. Հովնանյան'!S20+'Ն. Հովակիմյան'!S20+'Գ. Զաքարյան'!S20+'Ս. Երիցյան'!S20+'Բ. Գրիգորյան'!S20+'Գ. Գագիկյան'!S20 -> 0 | T20: =D20+E20 -> 26 | U20: =F20+K20+L20 -> 25 | V20: =K20 -> 20 | W20: =G20+H20+I20+J20 -> 20
A21: 3 | B21: Ñ³ñÏ³¹Çñ µáõÅÙ³Ý ï»ë³ÏÇ ÷á÷áËáõÃÛ³Ý Ù³ëÇÝ ÙÇçÝáñ¹áõÃÛáõÝÝ»ñ | D21: ='Ս. Բաղդասարյան'!D21+'Ա. Մկոյան'!D21+'Վ. Հովնանյան'!D21+'Ն. Հովակիմյան'!D21+'Գ. Զաքարյան'!D21+'Ս. Երիցյան'!D21+'Բ. Գրիգորյան'!D21+'Ա. Աթաբեկյան'!D21+'Լ. Աբգարյան'!D21+'Մ. Հարությունյան'!D21+'Գ. Գագիկյան'!D21+Տ.Գրիգորյան!D21+Գ.Վարդանյան!D21 -> 0 | E21: ='Ս. Բաղդասարյան'!E21+'Ա. Մկոյան'!E21+'Վ. Հովնանյան'!E21+'Ն. Հովակիմյան'!E21+'Գ. Զաքարյան'!E21+'Ս. Երիցյան'!E21+'Բ. Գրիգորյան'!E21+'Ա. Աթաբեկյան'!E21+'Լ. Աբգարյան'!E21+'Մ. Հարությունյան'!E21+'Գ. Գագիկյան'!E21+Տ.Գրիգորյան!E21+Գ.Վարդանյան!E21 -> 7 | F21: ='Ս. Բաղդասարյան'!F21+'Ա. Մկոյան'!F21+'Վ. Հովնանյան'!F21+'Ն. Հովակիմյան'!F21+'Գ. Զաքարյան'!F21+'Ս. Երիցյան'!F21+'Բ. Գրիգորյան'!F21+'Ա. Աթաբեկյան'!F21+'Լ. Աբգարյան'!F21+'Մ. Հարությունյան'!F21+'Գ. Գագիկյան'!F21+Տ.Գրիգորյան!F21+Գ.Վարդանյան!F21 -> 0 | G21: ='Ս. Բաղդասարյան'!G21+'Ա. Մկոյան'!G21+'Վ. Հովնանյան'!G21+'Ն. Հովակիմյան'!G21+'Գ. Զաքարյան'!G21+'Ս. Երիցյան'!G21+'Բ. Գրիգորյան'!G21+'Ա. Աթաբեկյան'!G21+'Լ. Աբգարյան'!G21+'Մ. Հարությունյան'!G21+'Գ. Գագիկյան'!G21+Տ.Գրիգորյան!G21+Գ.Վարդանյան!G21 -> 2 | H21: ='Ս. Բաղդասարյան'!H21+'Ա. Մկոյան'!H21+'Վ. Հովնանյան'!H21+'Ն. Հովակիմյան'!H21+'Գ. Զաքարյան'!H21+'Ս. Երիցյան'!H21+'Բ. Գրիգորյան'!H21+'Ա. Աթաբեկյան'!H21+'Լ. Աբգարյան'!H21+'Մ. Հարությունյան'!H21+'Գ. Գագիկյան'!H21+Տ.Գրիգորյան!H21+Գ.Վարդանյան!H21 -> 4 | I21: ='Ս. Բաղդասարյան'!I21+'Ա. Մկոյան'!I21+'Վ. Հովնանյան'!I21+'Ն. Հովակիմյան'!I21+'Գ. Զաքարյան'!I21+'Ս. Երիցյան'!I21+'Բ. Գրիգորյան'!I21+'Ա. Աթաբեկյան'!I21+'Լ. Աբգարյան'!I21+'Մ. Հարությունյան'!I21+'Գ. Գագիկյան'!I21+Տ.Գրիգորյան!I21+Գ.Վարդանյան!I21 -> 0 | J21: ='Ս. Բաղդասարյան'!J21+'Ա. Մկոյան'!J21+'Վ. Հովնանյան'!J21+'Ն. Հովակիմյան'!J21+'Գ. Զաքարյան'!J21+'Ս. Երիցյան'!J21+'Բ. Գրիգորյան'!J21+'Ա. Աթաբեկյան'!J21+'Լ. Աբգարյան'!J21+'Մ. Հարությունյան'!J21+'Գ. Գագիկյան'!J21+Տ.Գրիգորյան!J21+Գ.Վարդանյան!J21 -> 0 | K21: ='Ս. Բաղդասարյան'!K21+'Ա. Մկոյան'!K21+'Վ. Հովնանյան'!K21+'Ն. Հովակիմյան'!K21+'Գ. Զաքարյան'!K21+'Ս. Երիցյան'!K21+'Բ. Գրիգորյան'!K21+'Ա. Աթաբեկյան'!K21+'Լ. Աբգարյան'!K21+'Մ. Հարությունյան'!K21+'Գ. Գագիկյան'!K21+Տ.Գրիգորյան!K21+Գ.Վարդանյան!K21 -> 6 | ... R21: ='Ս. Բաղդասարյան'!R21+'Ա. Մկոյան'!R21+'Վ. Հովնանյան'!R21+'Ն. Հովակիմյան'!R21+'Գ. Զաքարյան'!R21+'Ս. Երիցյան'!R21+'Բ. Գրիգորյան'!R21+'Ա. Աթաբեկյան'!R21+'Լ. Աբգարյան'!R21+'Մ. Հարությունյան'!R21+'Գ. Գագիկյան'!R21+Տ.Գրիգորյան!R21+Գ.Վարդանյան!R21 -> 2 | S21: ='Ս. Բաղդասարյան'!S21+'Ա. Մկոյան'!S21+'Վ. Հովնանյան'!S21+'Ն. Հովակիմյան'!S21+'Գ. Զաքարյան'!S21+'Ս. Երիցյան'!S21+'Բ. Գրիգորյան'!S21+'Գ. Գագիկյան'!S21 -> 0 | T21: =D21+E21 -> 7 | U21: =F21+K21+L21 -> 7 | V21: =K21 -> 6 | W21: =G21+H21+I21+J21 -> 6
A22: 4 | B22: ³ÛÉ ÙÇçÝáñ¹áõÃÛáõÝÝ»ñ | D22: ='Ս. Բաղդասարյան'!D22+'Ա. Մկոյան'!D22+'Վ. Հովնանյան'!D22+'Ն. Հովակիմյան'!D22+'Գ. Զաքարյան'!D22+'Ս. Երիցյան'!D22+'Բ. Գրիգորյան'!D22+'Ա. Աթաբեկյան'!D22+'Լ. Աբգարյան'!D22+'Մ. Հարությունյան'!D22+'Գ. Գագիկյան'!D22+Տ.Գրիգորյան!D22+Գ.Վարդանյան!D22 -> 0 | E22: ='Ս. Բաղդասարյան'!E22+'Ա. Մկոյան'!E22+'Վ. Հովնանյան'!E22+'Ն. Հովակիմյան'!E22+'Գ. Զաքարյան'!E22+'Ս. Երիցյան'!E22+'Բ. Գրիգորյան'!E22+'Ա. Աթաբեկյան'!E22+'Լ. Աբգարյան'!E22+'Մ. Հարությունյան'!E22+'Գ. Գագիկյան'!E22+Տ.Գրիգորյան!E22+Գ.Վարդանյան!E22 -> 3 | F22: ='Ս. Բաղդասարյան'!F22+'Ա. Մկոյան'!F22+'Վ. Հովնանյան'!F22+'Ն. Հովակիմյան'!F22+'Գ. Զաքարյան'!F22+'Ս. Երիցյան'!F22+'Բ. Գրիգորյան'!F22+'Ա. Աթաբեկյան'!F22+'Լ. Աբգարյան'!F22+'Մ. Հարությունյան'!F22+'Գ. Գագիկյան'!F22+Տ.Գրիգորյան!F22+Գ.Վարդանյան!F22 -> 0 | G22: ='Ս. Բաղդասարյան'!G22+'Ա. Մկոյան'!G22+'Վ. Հովնանյան'!G22+'Ն. Հովակիմյան'!G22+'Գ. Զաքարյան'!G22+'Ս. Երիցյան'!G22+'Բ. Գրիգորյան'!G22+'Ա. Աթաբեկյան'!G22+'Լ. Աբգարյան'!G22+'Մ. Հարությունյան'!G22+'Գ. Գագիկյան'!G22+Տ.Գրիգորյան!G22+Գ.Վարդանյան!G22 -> 0 | H22: ='Ս. Բաղդասարյան'!H22+'Ա. Մկոյան'!H22+'Վ. Հովնանյան'!H22+'Ն. Հովակիմյան'!H22+'Գ. Զաքարյան'!H22+'Ս. Երիցյան'!H22+'Բ. Գրիգորյան'!H22+'Ա. Աթաբեկյան'!H22+'Լ. Աբգարյան'!H22+'Մ. Հարությունյան'!H22+'Գ. Գագիկյան'!H22+Տ.Գրիգորյան!H22+Գ.Վարդանյան!H22 -> 3 | I22: ='Ս. Բաղդասարյան'!I22+'Ա. Մկոյան'!I22+'Վ. Հովնանյան'!I22+'Ն. Հովակիմյան'!I22+'Գ. Զաքարյան'!I22+'Ս. Երիցյան'!I22+'Բ. Գրիգորյան'!I22+'Ա. Աթաբեկյան'!I22+'Լ. Աբգարյան'!I22+'Մ. Հարությունյան'!I22+'Գ. Գագիկյան'!I22+Տ.Գրիգորյան!I22+Գ.Վարդանյան!I22 -> 0 | J22: ='Ս. Բաղդասարյան'!J22+'Ա. Մկոյան'!J22+'Վ. Հովնանյան'!J22+'Ն. Հովակիմյան'!J22+'Գ. Զաքարյան'!J22+'Ս. Երիցյան'!J22+'Բ. Գրիգորյան'!J22+'Ա. Աթաբեկյան'!J22+'Լ. Աբգարյան'!J22+'Մ. Հարությունյան'!J22+'Գ. Գագիկյան'!J22+Տ.Գրիգորյան!J22+Գ.Վարդանյան!J22 -> 0 | K22: ='Ս. Բաղդասարյան'!K22+'Ա. Մկոյան'!K22+'Վ. Հովնանյան'!K22+'Ն. Հովակիմյան'!K22+'Գ. Զաքարյան'!K22+'Ս. Երիցյան'!K22+'Բ. Գրիգորյան'!K22+'Ա. Աթաբեկյան'!K22+'Լ. Աբգարյան'!K22+'Մ. Հարությունյան'!K22+'Գ. Գագիկյան'!K22+Տ.Գրիգորյան!K22+Գ.Վարդանյան!K22 -> 3 | ... R22: ='Ս. Բաղդասարյան'!R22+'Ա. Մկոյան'!R22+'Վ. Հովնանյան'!R22+'Ն. Հովակիմյան'!R22+'Գ. Զաքարյան'!R22+'Ս. Երիցյան'!R22+'Բ. Գրիգորյան'!R22+'Ա. Աթաբեկյան'!R22+'Լ. Աբգարյան'!R22+'Մ. Հարությունյան'!R22+'Գ. Գագիկյան'!R22+Տ.Գրիգորյան!R22+Գ.Վարդանյան!R22 -> 2 | S22: ='Ս. Բաղդասարյան'!S22+'Ա. Մկոյան'!S22+'Վ. Հովնանյան'!S22+'Ն. Հովակիմյան'!S22+'Գ. Զաքարյան'!S22+'Ս. Երիցյան'!S22+'Բ. Գրիգորյան'!S22+'Գ. Գագիկյան'!S22 -> 0 | T22: =D22+E22 -> 3 | U22: =F22+K22+L22 -> 3 | V22: =K22 -> 3 | W22: =G22+H22+I22+J22 -> 3
A23: 5 | B23: ¹³ï³Ï³Ý Ñ³ÝÓÝ³ñ³ñáõÃÛáõÝÝ»ñ | D23: ='Ս. Բաղդասարյան'!D23+'Ա. Մկոյան'!D23+'Վ. Հովնանյան'!D23+'Ն. Հովակիմյան'!D23+'Գ. Զաքարյան'!D23+'Ս. Երիցյան'!D23+'Բ. Գրիգորյան'!D23+'Ա. Աթաբեկյան'!D23+'Լ. Աբգարյան'!D23+'Մ. Հարությունյան'!D23+'Գ. Գագիկյան'!D23+Տ.Գրիգորյան!D23+Գ.Վարդանյան!D23 -> 7 | E23: ='Ս. Բաղդասարյան'!E23+'Ա. Մկոյան'!E23+'Վ. Հովնանյան'!E23+'Ն. Հովակիմյան'!E23+'Գ. Զաքարյան'!E23+'Ս. Երիցյան'!E23+'Բ. Գրիգորյան'!E23+'Ա. Աթաբեկյան'!E23+'Լ. Աբգարյան'!E23+'Մ. Հարությունյան'!E23+'Գ. Գագիկյան'!E23+Տ.Գրիգորյան!E23+Գ.Վարդանյան!E23 -> 24 | F23: ='Ս. Բաղդասարյան'!F23+'Ա. Մկոյան'!F23+'Վ. Հովնանյան'!F23+'Ն. Հովակիմյան'!F23+'Գ. Զաքարյան'!F23+'Ս. Երիցյան'!F23+'Բ. Գրիգորյան'!F23+'Ա. Աթաբեկյան'!F23+'Լ. Աբգարյան'!F23+'Մ. Հարությունյան'!F23+'Գ. Գագիկյան'!F23+Տ.Գրիգորյան!F23+Գ.Վարդանյան!F23 -> 1 | G23: ='Ս. Բաղդասարյան'!G23+'Ա. Մկոյան'!G23+'Վ. Հովնանյան'!G23+'Ն. Հովակիմյան'!G23+'Գ. Զաքարյան'!G23+'Ս. Երիցյան'!G23+'Բ. Գրիգորյան'!G23+'Ա. Աթաբեկյան'!G23+'Լ. Աբգարյան'!G23+'Մ. Հարությունյան'!G23+'Գ. Գագիկյան'!G23+Տ.Գրիգորյան!G23+Գ.Վարդանյան!G23 -> 17 | H23: ='Ս. Բաղդասարյան'!H23+'Ա. Մկոյան'!H23+'Վ. Հովնանյան'!H23+'Ն. Հովակիմյան'!H23+'Գ. Զաքարյան'!H23+'Ս. Երիցյան'!H23+'Բ. Գրիգորյան'!H23+'Ա. Աթաբեկյան'!H23+'Լ. Աբգարյան'!H23+'Մ. Հարությունյան'!H23+'Գ. Գագիկյան'!H23+Տ.Գրիգորյան!H23+Գ.Վարդանյան!H23 -> 8 | I23: ='Ս. Բաղդասարյան'!I23+'Ա. Մկոյան'!I23+'Վ. Հովնանյան'!I23+'Ն. Հովակիմյան'!I23+'Գ. Զաքարյան'!I23+'Ս. Երիցյան'!I23+'Բ. Գրիգորյան'!I23+'Ա. Աթաբեկյան'!I23+'Լ. Աբգարյան'!I23+'Մ. Հարությունյան'!I23+'Գ. Գագիկյան'!I23+Տ.Գրիգորյան!I23+Գ.Վարդանյան!I23 -> 0 | J23: ='Ս. Բաղդասարյան'!J23+'Ա. Մկոյան'!J23+'Վ. Հովնանյան'!J23+'Ն. Հովակիմյան'!J23+'Գ. Զաքարյան'!J23+'Ս. Երիցյան'!J23+'Բ. Գրիգորյան'!J23+'Ա. Աթաբեկյան'!J23+'Լ. Աբգարյան'!J23+'Մ. Հարությունյան'!J23+'Գ. Գագիկյան'!J23+Տ.Գրիգորյան!J23+Գ.Վարդանյան!J23 -> 0 | K23: ='Ս. Բաղդասարյան'!K23+'Ա. Մկոյան'!K23+'Վ. Հովնանյան'!K23+'Ն. Հովակիմյան'!K23+'Գ. Զաքարյան'!K23+'Ս. Երիցյան'!K23+'Բ. Գրիգորյան'!K23+'Ա. Աթաբեկյան'!K23+'Լ. Աբգարյան'!K23+'Մ. Հարությունյան'!K23+'Գ. Գագիկյան'!K23+Տ.Գրիգորյան!K23+Գ.Վարդանյան!K23 -> 25 | ... R23: ='Ս. Բաղդասարյան'!R23+'Ա. Մկոյան'!R23+'Վ. Հովնանյան'!R23+'Ն. Հովակիմյան'!R23+'Գ. Զաքարյան'!R23+'Ս. Երիցյան'!R23+'Բ. Գրիգորյան'!R23+'Ա. Աթաբեկյան'!R23+'Լ. Աբգարյան'!R23+'Մ. Հարությունյան'!R23+'Գ. Գագիկյան'!R23+Տ.Գրիգորյան!R23+Գ.Վարդանյան!R23 -> 0 | S23: ='Ս. Բաղդասարյան'!S23+'Ա. Մկոյան'!S23+'Վ. Հովնանյան'!S23+'Ն. Հովակիմյան'!S23+'Գ. Զաքարյան'!S23+'Ս. Երիցյան'!S23+'Բ. Գրիգորյան'!S23+'Գ. Գագիկյան'!S23 -> 0 | T23: =D23+E23 -> 31 | U23: =F23+K23+L23 -> 31 | V23: =K23 -> 25 | W23: =G23+H23+I23+J23 -> 25
A24: ÀÜ¸²ØºÜÀ | D24: ='Ս. Բաղդասարյան'!D24+'Ա. Մկոյան'!D24+'Վ. Հովնանյան'!D24+'Ն. Հովակիմյան'!D24+'Գ. Զաքարյան'!D24+'Ս. Երիցյան'!D24+'Բ. Գրիգորյան'!D24+'Ա. Աթաբեկյան'!D24+'Լ. Աբգարյան'!D24+'Մ. Հարությունյան'!D24+'Գ. Գագիկյան'!D24+Տ.Գրիգորյան!D24+Գ.Վարդանյան!D24 -> 15 | E24: ='Ս. Բաղդասարյան'!E24+'Ա. Մկոյան'!E24+'Վ. Հովնանյան'!E24+'Ն. Հովակիմյան'!E24+'Գ. Զաքարյան'!E24+'Ս. Երիցյան'!E24+'Բ. Գրիգորյան'!E24+'Ա. Աթաբեկյան'!E24+'Լ. Աբգարյան'!E24+'Մ. Հարությունյան'!E24+'Գ. Գագիկյան'!E24+Տ.Գրիգորյան!E24+Գ.Վարդանյան!E24 -> 987 | F24: ='Ս. Բաղդասարյան'!F24+'Ա. Մկոյան'!F24+'Վ. Հովնանյան'!F24+'Ն. Հովակիմյան'!F24+'Գ. Զաքարյան'!F24+'Ս. Երիցյան'!F24+'Բ. Գրիգորյան'!F24+'Ա. Աթաբեկյան'!F24+'Լ. Աբգարյան'!F24+'Մ. Հարությունյան'!F24+'Գ. Գագիկյան'!F24+Տ.Գրիգորյան!F24+Գ.Վարդանյան!F24 -> 10 | G24: ='Ս. Բաղդասարյան'!G24+'Ա. Մկոյան'!G24+'Վ. Հովնանյան'!G24+'Ն. Հովակիմյան'!G24+'Գ. Զաքարյան'!G24+'Ս. Երիցյան'!G24+'Բ. Գրիգորյան'!G24+'Ա. Աթաբեկյան'!G24+'Լ. Աբգարյան'!G24+'Մ. Հարությունյան'!G24+'Գ. Գագիկյան'!G24+Տ.Գրիգորյան!G24+Գ.Վարդանյան!G24 -> 162 | H24: ='Ս. Բաղդասարյան'!H24+'Ա. Մկոյան'!H24+'Վ. Հովնանյան'!H24+'Ն. Հովակիմյան'!H24+'Գ. Զաքարյան'!H24+'Ս. Երիցյան'!H24+'Բ. Գրիգորյան'!H24+'Ա. Աթաբեկյան'!H24+'Լ. Աբգարյան'!H24+'Մ. Հարությունյան'!H24+'Գ. Գագիկյան'!H24+Տ.Գրիգորյան!H24+Գ.Վարդանյան!H24 -> 793 | I24: ='Ս. Բաղդասարյան'!I24+'Ա. Մկոյան'!I24+'Վ. Հովնանյան'!I24+'Ն. Հովակիմյան'!I24+'Գ. Զաքարյան'!I24+'Ս. Երիցյան'!I24+'Բ. Գրիգորյան'!I24+'Ա. Աթաբեկյան'!I24+'Լ. Աբգարյան'!I24+'Մ. Հարությունյան'!I24+'Գ. Գագիկյան'!I24+Տ.Գրիգորյան!I24+Գ.Վարդանյան!I24 -> 22 | J24: ='Ս. Բաղդասարյան'!J24+'Ա. Մկոյան'!J24+'Վ. Հովնանյան'!J24+'Ն. Հովակիմյան'!J24+'Գ. Զաքարյան'!J24+'Ս. Երիցյան'!J24+'Բ. Գրիգորյան'!J24+'Ա. Աթաբեկյան'!J24+'Լ. Աբգարյան'!J24+'Մ. Հարությունյան'!J24+'Գ. Գագիկյան'!J24+Տ.Գրիգորյան!J24+Գ.Վարդանյան!J24 -> 3 | K24: ='Ս. Բաղդասարյան'!K24+'Ա. Մկոյան'!K24+'Վ. Հովնանյան'!K24+'Ն. Հովակիմյան'!K24+'Գ. Զաքարյան'!K24+'Ս. Երիցյան'!K24+'Բ. Գրիգորյան'!K24+'Ա. Աթաբեկյան'!K24+'Լ. Աբգարյան'!K24+'Մ. Հարությունյան'!K24+'Գ. Գագիկյան'!K24+Տ.Գրիգորյան!K24+Գ.Վարդանյան!K24 -> 980 | ... R24: ='Ս. Բաղդասարյան'!R24+'Ա. Մկոյան'!R24+'Վ. Հովնանյան'!R24+'Ն. Հովակիմյան'!R24+'Գ. Զաքարյան'!R24+'Ս. Երիցյան'!R24+'Բ. Գրիգորյան'!R24+'Ա. Աթաբեկյան'!R24+'Լ. Աբգարյան'!R24+'Մ. Հարությունյան'!R24+'Գ. Գագիկյան'!R24+Տ.Գրիգորյան!R24+Գ.Վարդանյան!R24 -> 53 | S24: ='Ս. Բաղդասարյան'!S24+'Ա. Մկոյան'!S24+'Վ. Հովնանյան'!S24+'Ն. Հովակիմյան'!S24+'Գ. Զաքարյան'!S24+'Ս. Երիցյան'!S24+'Բ. Գրիգորյան'!S24+'Գ. Գագիկյան'!S24 -> 0 | T24: =D24+E24 -> 1002 | U24: =F24+K24+L24 -> 1001 | V24: =K24 -> 980 | W24: =G24+H24+I24+J24 -> 980

Sheet Ս. Բաղդասարյան
A1: 2016Ã. | D1: Ð²ÞìºîìàôÂÚàôÜ | P1: Ð³í»Éí³Í Ð³Û³ëï³ÝÇ Ð³Ýñ³å»ïáõÃÛ³Ý ¸³ï³ñ³ÝÝ»ñÇ Ý³Ë³·³ÑÝ»ñÇ ËáñÑñ¹Ç 27.01.2017Ã. ÃÇí 01-È áñáßÙ³Ý
A2: ØÇÝã¹³ï³Ï³Ý í³ñáõÛÃÇ ÝÏ³ïÙ³Ùµ ¹³ï³Ï³Ý í»ñ³ÑëÏáÕáõÃÛ³ÝÁ, ¹³ï³Ï³Ý ³Ïï»ñÇ ¨ ¹³ï³Ï³Ý Ñ³ÝÓÝ³ñ³ñáõÃÛáõÝÝ»ñÇ Ï³ï³ñÙ³Ý Ñ»ï Ï³åí³Í ÙÇçÝáñ¹áõÃÛáõÝÝ»ñÇ í»ñ³µ»ñÛ³É ¹³ï³Ï³Ý ·áñÍ»ñáí ÐÐ Èáéáõ Ù³ñ½Ç ÁÝ¹Ñ³Ýáõñ Çñ³í³ëáõÃÛ³Ý ³é³çÇÝ ³ïÛ³ÝÇ ¹³ï³ñ³ÝÇ ¹³ï³íáñ Ս. Բաղդասարյանի ·áñÍáõÝ»áõÃÛ³Ý í»ñ³µ»ñÛ³É
A3: êïáõ·Çã Ñ³í³ë³ñáõÙ` 1+2=3+8+9, 8=4+5+6+7, | D3: Ð³ßí»ïáõ Å³Ù³Ý³Ï³Ñ³ïí³ÍÇ ëÏ½µáõÙ Ý³Ëáñ¹ Ñ³ßí»ïáõ Å³Ù³Ý³Ï³Ñ³ïí³ÍÇó ÷áË³Ýóí³Í ·áñÍ»ñÇ ÁÝ¹Ñ³Ýáõñ ÃÇíÁ | E3: Ð³ßí»ïáõ Å³Ù³Ý³Ï³Ñ³ïí³ÍáõÙ ëï³óí³Í ·áñÍ»ñÇ ÁÝ¹Ñ³Ýáõñ ÃÇíÁ | F3: öáË³Ýóí»É ¿ ³ÛÉ ¹³ï³íáñÇ Ï³Ù ³ÛÉ ¹³ï³ñ³Ý (Ï³½ÙÇ ÷á÷áËáõÃÛáõÝ, ÁÝ¹¹³ïáõÃÛáõÝ) | G3: Ð³ßí»ïáõ Å³Ù³Ý³Ï³Ñ³ïí³ÍáõÙ ³í³ñïí³Í ·áñÍ»ñÇ ÁÝ¹Ñ³Ýáõñ ÃÇíÁ | L3: Ð³ßí»ïáõ Å³Ù³Ý³Ï³Ñ³ïí³ÍáõÙ ³Ý³í³ñï ·áñÍ»ñÇ ÁÝ¹Ñ³Ýáõñ ÃÇíÁ | M3: ØÇçÝáñ¹áõÃÛáõÝÝ»ñáí Ï³Û³óí³Í ¹³ï³Ï³Ý ³Ïï»ñÇó µáÕáù³ñÏí³ÍÝ»ñÇ ù³Ý³ÏÁ | O3: ²Ý³í³ñï µáÕáùÝ»ñ | P3: ØÇçÝáñ¹áõÃÛáõÝÝ»ñáí Ï³Û³óí³Í ¨ µáÕáù³ñÏí³Í ¹³ï³Ï³Ý ³Ïï»ñÇó µ»Ï³Ýí³ÍÝ»ñÇ ù³Ý³ÏÁ | R3: ÙÇçÝáñ¹áõÃÛáõÝÝ»ñáí Ï³Û³óí³Í ¨ µáÕáù³ñÏí³Í ¹³ï³Ï³Ý ³Ïï»ñÇó ³Ý÷á÷áË ÃáÕÝí³ÍÝ»ñÇ ù³Ý³ÏÁ
G4: Ù»ñÅí»É ¿ | H4: µ³í³ñ³ñí»É ¿ | I4: µ³í³ñ³ñí»É ¿ Ù³ëÝ³ÏÇ | J4: ÃáÕÝí»É ¿ ³é³Ýó ùÝÝáõÃÛ³Ý | K4: ÀÝ¹³Ù»ÝÁ
M5: Ý³Ëáñ¹ ï³ñÇÝ»ñÇÝ Ï³Û³óí³Í ³Ïï»ñÇ ¹»Ù | N5: Ñ³ßí»ïáõ Å³Ù³Ý³Ï³ßñç³ÝáõÙ Ï³Û³óí³Í ³Ïï»ñÇ ¹»Ù | P5: Ý³Ëáñ¹ ï³ñÇÝ»ñÇÝ Ï³Û³óí³Í ³Ïï»ñÇ µ»Ï³ÝáõÙÝ»ñÁ | Q5: Ñ³ßí»ïáõ Å³Ù³Ý³Ï³ßñç³ÝáõÙ Ï³Û³óí³Í ³Ïï»ñÇ µ»Ï³ÝáõÙÝ»ñÁ
A6: 1. ØÇÝã¹³ï³Ï³Ý í³ñáõÛÃÇ ÝÏ³ïÙ³Ùµ ¹³ï³Ï³Ý í»ñ³ÑëÏáÕáõÃÛ³Ý áÉáñï | D6: 1 | E6: 2 | F6: 3 | G6: 4 | H6: 5 | I6: 6 | J6: 7 | K6: 8 | L6: 9 | M6: 10 | N6: 11 | O6: 12 | P6: 13 | Q6: 14 | R6: 15 | T6: 1+2=3+8+9 | V6: 8=4+5+6+7
A7: 1 | B7: Ï³É³ÝùÁ áñå»ë Ë³÷³ÝÙ³Ý ÙÇçáó ÏÇñ³é»Éáõ Ù³ëÇÝ ÙÇçÝáñ¹áõÃÛáõÝÝ»ñ | E7: 30 | G7: 6 | H7: 23 | I7: 1 | K7: =+J7+I7+H7+G7 -> 30 | N7: 6 | O7: 1 | Q7: 2 | R7: 3 | T7: =D7+E7 -> 30 | U7: =F7+K7+L7 -> 30 | V7: =K7 -> 30 | W7: =G7+H7+I7+J7 -> 30
A8: 2 | B8: Ï³É³ÝùÇ Å³ÙÏ»ïÁ »ñÏ³ñ³óÝ»Éáõ Ù³ëÇÝ ÙÇçÝáñ¹áõÃÛáõÝÝ»ñ | E8: 31 | F8: 1 | H8: 22 | I8: 8 | K8: =+J8+I8+H8+G8 -> 30 | N8: 7 | O8: 1 | R8: 6 | T8: =D8+E8 -> 31 | U8: =F8+K8+L8 -> 31 | V8: =K8 -> 30 | W8: =G8+H8+I8+J8 -> 30
A9: 3 | B9: Ï³É³ÝùÇ í»ñ³Ñ³ëï³ïÙ³Ý Ù³ëÇÝ ÙÇçÝáñ¹áõÃÛáõÝÝ»ñ | E9: 1 | H9: 1 | K9: =+J9+I9+H9+G9 -> 1 | N9: 1 | O9: 1 | T9: =D9+E9 -> 1 | U9: =F9+K9+L9 -> 1 | V9: =K9 -> 1 | W9: =G9+H9+I9+J9 -> 1
A10: 4 | B10: ·ñ³íÁ áñå»ë Ï³É³Ý³íáñÙ³Ý ³ÛÉÁÝïñ³Ýù³ÛÇÝ Ë³÷³ÝÙ³Ý ÙÇçáó ÏÇñ³é»Éáõ Ù³ëÇÝ ÙÇçÝáñ¹áõÃÛáõÝÝ»ñ | E10: 19 | G10: 17 | H10: 2 | K10: =+J10+I10+H10+G10 -> 19 | N10: 4 | O10: 3 | R10: 1 | T10: =D10+E10 -> 19 | U10: =F10+K10+L10 -> 19 | V10: =K10 -> 19 | W10: =G10+H10+I10+J10 -> 19
A11: 5 | B11: Ëáõ½³ñÏáõÃÛ³Ý Ï³ï³ñÙ³Ý Ù³ëÇÝ ÙÇçÝáñ¹áõÃÛáõÝÝ»ñ | E11: 85 | G11: 1 | H11: 84 | K11: =+J11+I11+H11+G11 -> 85 | T11: =D11+E11 -> 85 | U11: =F11+K11+L11 -> 85 | V11: =K11 -> 85 | W11: =G11+H11+I11+J11 -> 85
A12: 6 | B12: µ³ÝÏ³ÛÇÝ, ³å³Ñáí³·ñ³Ï³Ý, Ýáï³ñ³Ï³Ý ·³ÕïÝÇù Ï³½ÙáÕ ï»Õ»ÏáõÃÛáõÝÝ»ñÇ ëï³óÙ³Ý Ñ³Ù³ñ Ëáõ½³ñÏáõÃÛ³Ý Ï³Ù ³é·ñ³íÙ³Ý Ï³ï³ñÙ³Ý Ù³ëÇÝ ÙÇçÝáñ¹áõÃÛáõÝÝ»ñ | E12: 8 | G12: 3 | H12: 5 | K12: =+J12+I12+H12+G12 -> 8 | R12: 1 | T12: =D12+E12 -> 8 | U12: =F12+K12+L12 -> 8 | V12: =K12 -> 8 | W12: =G12+H12+I12+J12 -> 8
A13: 7 | B13: Ý³Ù³Ï³·ñáõÃÛ³Ý, Ñ»é³·ñ³Ï³Ý, ÷áuï³ÛÇÝ Ñ³Õáñ¹áõÙÝ»ñÇ ÑëÏáÕáõÃÛ³Ý Ù³ëÇÝ ÙÇçÝáñ¹áõÃÛáõÝÝ»ñ | E13: 3 | H13: 3 | K13: =+J13+I13+H13+G13 -> 3 | T13: =D13+E13 -> 3 | U13: =F13+K13+L13 -> 3 | V13: =K13 -> 3 | W13: =G13+H13+I13+J13 -> 3
A14: 8 | B14: Ñ»é³Ëáu³ÛÇÝ Ï³Ù Ï³åÇ ³ÛÉ ÙÇçáóÝ»ñáí ï³ñíáÕ Ëáu³ÏóáõÃÛáõÝÝ»ñÇ ÉuÙ³Ý ¨ Ó³ÛÝ³·ñ³éÙ³Ý Ù³ëÇÝ ÙÇçÝáñ¹áõÃÛáõÝÝ»ñ | K14: =+J14+I14+H14+G14 -> 0 | T14: =D14+E14 -> 0 | U14: =F14+K14+L14 -> 0 | V14: =K14 -> 0 | W14: =G14+H14+I14+J14 -> 0
A15: 9 | B15: Ñ»é³ËáëÝ»ñÇ Ùáõïù³ÛÇÝ ¨ »Éù³ÛÇÝ í»ñÍ³ÝÙ³Ý ÃáõÛÉïíáõÃÛáõÝ ëï³Ý³Éáõ Ù³ëÇÝ ÙÇçÝáñ¹áõÃÛáõÝÝ»ñ | E15: 55 | H15: 55 | K15: =+J15+I15+H15+G15 -> 55 | T15: =D15+E15 -> 55 | U15: =F15+K15+L15 -> 55 | V15: =K15 -> 55 | W15: =G15+H15+I15+J15 -> 55
A16: 10 | B16: Ñ»ï³ùÝÝáõÃÛ³Ý Ù³ñÙÝÇ ³ßË³ïáÕÇ, ùÝÝÇãÇ, ¹³ï³Ë³½Ç oå»ñ³ïÇí-Ñ»ï³Ëáõ½³Ï³Ý ·áñÍáÕáõÃÛáõÝÝ»ñ Çñ³Ï³Ý³óÝáÕ Ù³ñÙÇÝÝ»ñÇ ³ÝoñÇÝ³Ï³Ý ¨ ³ÝÑÇÙÝ áñáßáõÙÝ»ñÇ ¨ ·áñÍáÕáõÃÛáõÝÝ»ñÇ ¹»Ù µáÕáùÝ»ñ | D16: 3 | E16: 15 | G16: 14 | H16: 2 | J16: 2 | K16: =+J16+I16+H16+G16 -> 18 | N16: 8 | O16: 3 | Q16: 2 | R16: 3 | T16: =D16+E16 -> 18 | U16: =F16+K16+L16 -> 18 | V16: =K16 -> 18 | W16: =G16+H16+I16+J16 -> 18
A17: 11 | B17: ²½³ïáõÃÛáõÝÇó ½ñÏ»Éáõ Çñ³í³ã³÷áõÃÛ³Ý í»ñ³µ»ñÛ³É µáÕáùÝ»ñáí ·áñÍ»ñ | K17: =+J17+I17+H17+G17 -> 0 | T17: =D17+E17 -> 0 | U17: =F17+K17+L17 -> 0 | V17: =K17 -> 0 | W17: =G17+H17+I17+J17 -> 0
A18: 2. ¸³ï³Ï³Ý ³Ïï»ñÇ ¨ ¹³ï³Ï³Ý Ñ³ÝÓÝ³ñ³ñáõÃÛáõÝÝ»ñÇ Ï³ï³ñÙ³Ý Ñ»ï Ï³åí³Í Ñ³ñó»ñÇ ÉáõÍÙ³Ý áÉáñï
A19: 1 | B19: å³ïÅÇó å³ÛÙ³Ý³Ï³Ý í³Õ³Å³ÙÏ»ï ³½³ï»Éáõ Ù³ëÇÝ ÙÇçÝáñ¹áõÃÛáõÝÝ»ñ | K19: =+J19+I19+H19+G19 -> 0 | T19: =D19+E19 -> 0 | U19: =F19+K19+L19 -> 0 | V19: =K19 -> 0 | W19: =G19+H19+I19+J19 -> 0
A20: 2 | B20: å³ïÇÅÁ ÷á÷áË»Éáõ, Ñ»ï³Ó·»Éáõ ¨ å³ïÅÇó ³½³ï»Éáõ Ù³uÇÝ ÙÇçÝáñ¹áõÃÛáõÝÝ»ñ | E20: 11 | F20: 1 | H20: 10 | K20: =+J20+I20+H20+G20 -> 10 | T20: =D20+E20 -> 11 | U20: =F20+K20+L20 -> 11 | V20: =K20 -> 10 | W20: =G20+H20+I20+J20 -> 10
A21: 3 | B21: Ñ³ñÏ³¹Çñ µáõÅÙ³Ý ï»ë³ÏÇ ÷á÷áËáõÃÛ³Ý Ù³ëÇÝ ÙÇçÝáñ¹áõÃÛáõÝÝ»ñ | E21: 3 | G21: 1 | H21: 2 | K21: =+J21+I21+H21+G21 -> 3 | T21: =D21+E21 -> 3 | U21: =F21+K21+L21 -> 3 | V21: =K21 -> 3 | W21: =G21+H21+I21+J21 -> 3
A22: 4 | B22: ³ÛÉ ÙÇçÝáñ¹áõÃÛáõÝÝ»ñ | E22: 3 | H22: 3 | K22: =+J22+I22+H22+G22 -> 3 | T22: =D22+E22 -> 3 | U22: =F22+K22+L22 -> 3 | V22: =K22 -> 3 | W22: =G22+H22+I22+J22 -> 3
A23: 5 | B23: ¹³ï³Ï³Ý Ñ³ÝÓÝ³ñ³ñáõÃÛáõÝÝ»ñ | D23: 1 | E23: 3 | G23: 4 | K23: =+J23+I23+H23+G23 -> 4 | T23: =D23+E23 -> 4 | U23: =F23+K23+L23 -> 4 | V23: =K23 -> 4 | W23: =G23+H23+I23+J23 -> 4
A24: ÀÜ¸²ØºÜÀ | D24: =D7+D8+D9+D10+D11+D12+D13+D14+D15+D17+D19+D20+D21+D22+D23+D16 -> 4 | E24: =E7+E8+E9+E10+E11+E12+E13+E14+E15+E17+E19+E20+E21+E22+E23+E16 -> 267 | F24: =F7+F8+F9+F10+F11+F12+F13+F14+F15+F17+F19+F20+F21+F22+F23+F16 -> 2 | G24: =G7+G8+G9+G10+G11+G12+G13+G14+G15+G17+G19+G20+G21+G22+G23+G16 -> 46 | H24: =H7+H8+H9+H10+H11+H12+H13+H14+H15+H17+H19+H20+H21+H22+H23+H16 -> 212 | I24: =I7+I8+I9+I10+I11+I12+I13+I14+I15+I17+I19+I20+I21+I22+I23+I16 -> 9 | J24: =J7+J8+J9+J10+J11+J12+J13+J14+J15+J17+J19+J20+J21+J22+J23+J16 -> 2 | K24: =K7+K8+K9+K10+K11+K12+K13+K14+K15+K17+K19+K20+K21+K22+K23+K16 -> 269 | ... R24: =R7+R8+R9+R10+R11+R12+R13+R14+R15+R17+R19+R20+R21+R22+R23+R16 -> 14 | T24: =D24+E24 -> 271 | U24: =F24+K24+L24 -> 271 | V24: =K24 -> 269 | W24: =G24+H24+I24+J24 -> 269

Sheet Տ.Գրիգորյան
A1: 2016Ã. | D1: Ð²ÞìºîìàôÂÚàôÜ | P1: Ð³í»Éí³Í Ð³Û³ëï³ÝÇ Ð³Ýñ³å»ïáõÃÛ³Ý ¸³ï³ñ³ÝÝ»ñÇ Ý³Ë³·³ÑÝ»ñÇ ËáñÑñ¹Ç 27.01.2017Ã. ÃÇí 01-È áñáßÙ³Ý
A2: ØÇÝã¹³ï³Ï³Ý í³ñáõÛÃÇ ÝÏ³ïÙ³Ùµ ¹³ï³Ï³Ý í»ñ³ÑëÏáÕáõÃÛ³ÝÁ, ¹³ï³Ï³Ý ³Ïï»ñÇ ¨ ¹³ï³Ï³Ý Ñ³ÝÓÝ³ñ³ñáõÃÛáõÝÝ»ñÇ Ï³ï³ñÙ³Ý Ñ»ï Ï³åí³Í ÙÇçÝáñ¹áõÃÛáõÝÝ»ñÇ í»ñ³µ»ñÛ³É ¹³ï³Ï³Ý ·áñÍ»ñáí ÐÐ Èáéáõ Ù³ñ½Ç ÁÝ¹Ñ³Ýáõñ Çñ³í³ëáõÃÛ³Ý ³é³çÇÝ ³ïÛ³ÝÇ ¹³ï³ñ³ÝÇ ¹³ï³íáñ î.¶ñÇ·áñÛ³ÝÇ ·áñÍáõÝ»áõÃÛ³Ý í»ñ³µ»ñÛ³É
A3: êïáõ·Çã Ñ³í³ë³ñáõÙ` 1+2=3+8+9, 8=4+5+6+7, | D3: Ð³ßí»ïáõ Å³Ù³Ý³Ï³Ñ³ïí³ÍÇ ëÏ½µáõÙ Ý³Ëáñ¹ Ñ³ßí»ïáõ Å³Ù³Ý³Ï³Ñ³ïí³ÍÇó ÷áË³Ýóí³Í ·áñÍ»ñÇ ÁÝ¹Ñ³Ýáõñ ÃÇíÁ | E3: Ð³ßí»ïáõ Å³Ù³Ý³Ï³Ñ³ïí³ÍáõÙ ëï³óí³Í ·áñÍ»ñÇ ÁÝ¹Ñ³Ýáõñ ÃÇíÁ | F3: öáË³Ýóí»É ¿ ³ÛÉ ¹³ï³íáñÇ Ï³Ù ³ÛÉ ¹³ï³ñ³Ý (Ï³½ÙÇ ÷á÷áËáõÃÛáõÝ, ÁÝ¹¹³ïáõÃÛáõÝ) | G3: Ð³ßí»ïáõ Å³Ù³Ý³Ï³Ñ³ïí³ÍáõÙ ³í³ñïí³Í ·áñÍ»ñÇ ÁÝ¹Ñ³Ýáõñ ÃÇíÁ | L3: Ð³ßí»ïáõ Å³Ù³Ý³Ï³Ñ³ïí³ÍáõÙ ³Ý³í³ñï ·áñÍ»ñÇ ÁÝ¹Ñ³Ýáõñ ÃÇíÁ | M3: ØÇçÝáñ¹áõÃÛáõÝÝ»ñáí Ï³Û³óí³Í ¹³ï³Ï³Ý ³Ïï»ñÇó µáÕáù³ñÏí³ÍÝ»ñÇ ù³Ý³ÏÁ | O3: ²Ý³í³ñï µáÕáùÝ»ñ | P3: ØÇçÝáñ¹áõÃÛáõÝÝ»ñáí Ï³Û³óí³Í ¨ µáÕáù³ñÏí³Í ¹³ï³Ï³Ý ³Ïï»ñÇó µ»Ï³Ýí³ÍÝ»ñÇ ù³Ý³ÏÁ | R3: ÙÇçÝáñ¹áõÃÛáõÝÝ»ñáí Ï³Û³óí³Í ¨ µáÕáù³ñÏí³Í ¹³ï³Ï³Ý ³Ïï»ñÇó ³Ý÷á÷áË ÃáÕÝí³ÍÝ»ñÇ ù³Ý³ÏÁ
G4: Ù»ñÅí»É ¿ | H4: µ³í³ñ³ñí»É ¿ | I4: µ³í³ñ³ñí»É ¿ Ù³ëÝ³ÏÇ | J4: ÃáÕÝí»É ¿ ³é³Ýó ùÝÝáõÃÛ³Ý | K4: ÀÝ¹³Ù»ÝÁ
M5: Ý³Ëáñ¹ ï³ñÇÝ»ñÇÝ Ï³Û³óí³Í ³Ïï»ñÇ ¹»Ù | N5: Ñ³ßí»ïáõ Å³Ù³Ý³Ï³ßñç³ÝáõÙ Ï³Û³óí³Í ³Ïï»ñÇ ¹»Ù | P5: Ý³Ëáñ¹ ï³ñÇÝ»ñÇÝ Ï³Û³óí³Í ³Ïï»ñÇ µ»Ï³ÝáõÙÝ»ñÁ | Q5: Ñ³ßí»ïáõ Å³Ù³Ý³Ï³ßñç³ÝáõÙ Ï³Û³óí³Í ³Ïï»ñÇ µ»Ï³ÝáõÙÝ»ñÁ
A6: 1. ØÇÝã¹³ï³Ï³Ý í³ñáõÛÃÇ ÝÏ³ïÙ³Ùµ ¹³ï³Ï³Ý í»ñ³ÑëÏáÕáõÃÛ³Ý áÉáñï | D6: 1 | E6: 2 | F6: 3 | G6: 4 | H6: 5 | I6: 6 | J6: 7 | K6: 8 | L6: 9 | M6: 10 | N6: 11 | O6: 12 | P6: 13 | Q6: 14 | R6: 15 | T6: 1+2=3+8+9 | V6: 8=4+5+6+7
A7: 1 | B7: Ï³É³ÝùÁ áñå»ë Ë³÷³ÝÙ³Ý ÙÇçáó ÏÇñ³é»Éáõ Ù³ëÇÝ ÙÇçÝáñ¹áõÃÛáõÝÝ»ñ | K7: =+J7+I7+H7+G7 -> 0 | T7: =D7+E7 -> 0 | U7: =F7+K7+L7 -> 0 | V7: =K7 -> 0 | W7: =G7+H7+I7+J7 -> 0
A8: 2 | B8: Ï³É³ÝùÇ Å³ÙÏ»ïÁ »ñÏ³ñ³óÝ»Éáõ Ù³ëÇÝ ÙÇçÝáñ¹áõÃÛáõÝÝ»ñ | K8: =+J8+I8+H8+G8 -> 0 | T8: =D8+E8 -> 0 | U8: =F8+K8+L8 -> 0 | V8: =K8 -> 0 | W8: =G8+H8+I8+J8 -> 0
A9: 3 | B9: Ï³É³ÝùÇ í»ñ³Ñ³ëï³ïÙ³Ý Ù³ëÇÝ ÙÇçÝáñ¹áõÃÛáõÝÝ»ñ | K9: =+J9+I9+H9+G9 -> 0 | T9: =D9+E9 -> 0 | U9: =F9+K9+L9 -> 0 | V9: =K9 -> 0 | W9: =G9+H9+I9+J9 -> 0
A10: 4 | B10: ·ñ³íÁ áñå»ë Ï³É³Ý³íáñÙ³Ý ³ÛÉÁÝïñ³Ýù³ÛÇÝ Ë³÷³ÝÙ³Ý ÙÇçáó ÏÇñ³é»Éáõ Ù³ëÇÝ ÙÇçÝáñ¹áõÃÛáõÝÝ»ñ | K10: =+J10+I10+H10+G10 -> 0 | T10: =D10+E10 -> 0 | U10: =F10+K10+L10 -> 0 | V10: =K10 -> 0 | W10: =G10+H10+I10+J10 -> 0
A11: 5 | B11: Ëáõ½³ñÏáõÃÛ³Ý Ï³ï³ñÙ³Ý Ù³ëÇÝ ÙÇçÝáñ¹áõÃÛáõÝÝ»ñ | K11: =+J11+I11+H11+G11 -> 0 | T11: =D11+E11 -> 0 | U11: =F11+K11+L11 -> 0 | V11: =K11 -> 0 | W11: =G11+H11+I11+J11 -> 0
A12: 6 | B12: µ³ÝÏ³ÛÇÝ, ³å³Ñáí³·ñ³Ï³Ý, Ýáï³ñ³Ï³Ý ·³ÕïÝÇù Ï³½ÙáÕ ï»Õ»ÏáõÃÛáõÝÝ»ñÇ ëï³óÙ³Ý Ñ³Ù³ñ Ëáõ½³ñÏáõÃÛ³Ý Ï³Ù ³é·ñ³íÙ³Ý Ï³ï³ñÙ³Ý Ù³ëÇÝ ÙÇçÝáñ¹áõÃÛáõÝÝ»ñ | K12: =+J12+I12+H12+G12 -> 0 | T12: =D12+E12 -> 0 | U12: =F12+K12+L12 -> 0 | V12: =K12 -> 0 | W12: =G12+H12+I12+J12 -> 0
A13: 7 | B13: Ý³Ù³Ï³·ñáõÃÛ³Ý, Ñ»é³·ñ³Ï³Ý, ÷áuï³ÛÇÝ Ñ³Õáñ¹áõÙÝ»ñÇ ÑëÏáÕáõÃÛ³Ý Ù³ëÇÝ ÙÇçÝáñ¹áõÃÛáõÝÝ»ñ | K13: =+J13+I13+H13+G13 -> 0 | T13: =D13+E13 -> 0 | U13: =F13+K13+L13 -> 0 | V13: =K13 -> 0 | W13: =G13+H13+I13+J13 -> 0
A14: 8 | B14: Ñ»é³Ëáu³ÛÇÝ Ï³Ù Ï³åÇ ³ÛÉ ÙÇçáóÝ»ñáí ï³ñíáÕ Ëáu³ÏóáõÃÛáõÝÝ»ñÇ ÉuÙ³Ý ¨ Ó³ÛÝ³·ñ³éÙ³Ý Ù³ëÇÝ ÙÇçÝáñ¹áõÃÛáõÝÝ»ñ | K14: =+J14+I14+H14+G14 -> 0 | T14: =D14+E14 -> 0 | U14: =F14+K14+L14 -> 0 | V14: =K14 -> 0 | W14: =G14+H14+I14+J14 -> 0
A15: 9 | B15: Ñ»é³ËáëÝ»ñÇ Ùáõïù³ÛÇÝ ¨ »Éù³ÛÇÝ í»ñÍ³ÝÙ³Ý ÃáõÛÉïíáõÃÛáõÝ ëï³Ý³Éáõ Ù³ëÇÝ ÙÇçÝáñ¹áõÃÛáõÝÝ»ñ | K15: =+J15+I15+H15+G15 -> 0 | T15: =D15+E15 -> 0 | U15: =F15+K15+L15 -> 0 | V15: =K15 -> 0 | W15: =G15+H15+I15+J15 -> 0
A16: 10 | B16: Ñ»ï³ùÝÝáõÃÛ³Ý Ù³ñÙÝÇ ³ßË³ïáÕÇ, ùÝÝÇãÇ, ¹³ï³Ë³½Ç oå»ñ³ïÇí-Ñ»ï³Ëáõ½³Ï³Ý ·áñÍáÕáõÃÛáõÝÝ»ñ Çñ³Ï³Ý³óÝáÕ Ù³ñÙÇÝÝ»ñÇ ³ÝoñÇÝ³Ï³Ý ¨ ³ÝÑÇÙÝ áñáßáõÙÝ»ñÇ ¨ ·áñÍáÕáõÃÛáõÝÝ»ñÇ ¹»Ù µáÕáùÝ»ñ | K16: =+J16+I16+H16+G16 -> 0 | T16: =D16+E16 -> 0 | U16: =F16+K16+L16 -> 0 | V16: =K16 -> 0 | W16: =G16+H16+I16+J16 -> 0
A17: 11 | B17: ²½³ïáõÃÛáõÝÇó ½ñÏ»Éáõ Çñ³í³ã³÷áõÃÛ³Ý í»ñ³µ»ñÛ³É µáÕáùÝ»ñáí ·áñÍ»ñ | K17: =+J17+I17+H17+G17 -> 0 | T17: =D17+E17 -> 0 | U17: =F17+K17+L17 -> 0 | V17: =K17 -> 0 | W17: =G17+H17+I17+J17 -> 0
A18: 2. ¸³ï³Ï³Ý ³Ïï»ñÇ ¨ ¹³ï³Ï³Ý Ñ³ÝÓÝ³ñ³ñáõÃÛáõÝÝ»ñÇ Ï³ï³ñÙ³Ý Ñ»ï Ï³åí³Í Ñ³ñó»ñÇ ÉáõÍÙ³Ý áÉáñï
A19: 1 | B19: å³ïÅÇó å³ÛÙ³Ý³Ï³Ý í³Õ³Å³ÙÏ»ï ³½³ï»Éáõ Ù³ëÇÝ ÙÇçÝáñ¹áõÃÛáõÝÝ»ñ | K19: =+J19+I19+H19+G19 -> 0 | T19: =D19+E19 -> 0 | U19: =F19+K19+L19 -> 0 | V19: =K19 -> 0 | W19: =G19+H19+I19+J19 -> 0
A20: 2 | B20: å³ïÇÅÁ ÷á÷áË»Éáõ, Ñ»ï³Ó·»Éáõ ¨ å³ïÅÇó ³½³ï»Éáõ Ù³uÇÝ ÙÇçÝáñ¹áõÃÛáõÝÝ»ñ | K20: =+J20+I20+H20+G20 -> 0 | T20: =D20+E20 -> 0 | U20: =F20+K20+L20 -> 0 | V20: =K20 -> 0 | W20: =G20+H20+I20+J20 -> 0
A21: 3 | B21: Ñ³ñÏ³¹Çñ µáõÅÙ³Ý ï»ë³ÏÇ ÷á÷áËáõÃÛ³Ý Ù³ëÇÝ ÙÇçÝáñ¹áõÃÛáõÝÝ»ñ | K21: =+J21+I21+H21+G21 -> 0 | T21: =D21+E21 -> 0 | U21: =F21+K21+L21 -> 0 | V21: =K21 -> 0 | W21: =G21+H21+I21+J21 -> 0
A22: 4 | B22: ³ÛÉ ÙÇçÝáñ¹áõÃÛáõÝÝ»ñ | K22: =+J22+I22+H22+G22 -> 0 | T22: =D22+E22 -> 0 | U22: =F22+K22+L22 -> 0 | V22: =K22 -> 0 | W22: =G22+H22+I22+J22 -> 0
A23: 5 | B23: ¹³ï³Ï³Ý Ñ³ÝÓÝ³ñ³ñáõÃÛáõÝÝ»ñ | E23: 2 | K23: =+J23+I23+H23+G23 -> 0 | L23: 2 | T23: =D23+E23 -> 2 | U23: =F23+K23+L23 -> 2 | V23: =K23 -> 0 | W23: =G23+H23+I23+J23 -> 0
