Workbook

Sheet Ընդամենը
A1: 2015Ã. | D1: Ð²ÞìºîìàôÂÚàôÜ | P1: Ï³½Ùí³Í` ÐÐ Ï³é³í³ñáõÃÛ³Ý 19.03.2015Ã. ÃÇí 306-Ü áñáßÙ³Ý ÑÇÙ³Ý íñ³
A2: ØÇÝã¹³ï³Ï³Ý í³ñáõÛÃÇ ÝÏ³ïÙ³Ùµ ¹³ï³Ï³Ý í»ñ³ÑëÏáÕáõÃÛ³ÝÁ, ¹³ï³Ï³Ý ³Ïï»ñÇ ¨ ¹³ï³Ï³Ý Ñ³ÝÓÝ³ñ³ñáõÃÛáõÝÝ»ñÇ Ï³ï³ñÙ³ÝÁ Ñ»ï Ï³åí³Í ÙÇçÝáñ¹áõÃÛáõÝÝ»ñÇ í»ñ³µ»ñÛ³É ¹³ï³Ï³Ý ·áñÍ»ñáí ÐÐ Îáï³ÛùÇ Ù³ñ½Ç ÁÝ¹Ñ³Ýáõñ Çñ³í³ëáõÃÛ³Ý ³é³çÇÝ ³ïÛ³ÝÇ ¹³ï³ñ³ÝÇ ·áñÍáõÝ»áõÃÛ³Ý í»ñ³µ»ñÛ³É
A3: êïáõ·Çã Ñ³í³ë³ñáõÙ` 1+2=3+8+9, 8=4+5+6+7, | D3: Ð³ßí»ïáõ Å³Ù³Ý³Ï³Ñ³ïí³ÍÇ ëÏ½µáõÙ Ý³Ëáñ¹ Ñ³ßí»ïáõ Å³Ù³Ý³Ï³Ñ³ïí³ÍÇó ÷áË³Ýóí³Í ·áñÍ»ñÇ ÁÝ¹Ñ³Ýáõñ ÃÇíÁ | E3: Ð³ßí»ïáõ Å³Ù³Ý³Ï³Ñ³ïí³ÍáõÙ ëï³óí³Í ·áñÍ»ñÇ ÁÝ¹Ñ³Ýáõñ ÃÇíÁ | F3: öáË³Ýóí»É ¿ ³ÛÉ ¹³ï³íáñÇ Ï³Ù ³ÛÉ ¹³ï³ñ³Ý (Ï³½ÙÇ ÷á÷áËáõÃÛáõÝ, ÁÝ¹¹³ïáõÃÛáõÝ) | G3: Ð³ßí»ïáõ Å³Ù³Ý³Ï³Ñ³ïí³ÍáõÙ ³í³ñïí³Í ·áñÍ»ñÇ ÁÝ¹Ñ³Ýáõñ ÃÇíÁ | L3: Ð³ßí»ïáõ Å³Ù³Ý³Ï³Ñ³ïí³ÍáõÙ ³Ý³í³ñï ·áñÍ»ñÇ ÁÝ¹Ñ³Ýáõñ ÃÇíÁ | M3: ØÇçÝáñ¹áõÃÛáõÝÝ»ñáí Ï³Û³óí³Í ¹³ï³Ï³Ý ³Ïï»ñÇó µáÕáù³ñÏí³ÍÝ»ñÇ ù³Ý³ÏÁ | O3: ²Ý³í³ñï µáÕáùÝ»ñ | P3: ØÇçÝáñ¹áõÃÛáõÝÝ»ñáí Ï³Û³óí³Í ¨ µáÕáù³ñÏí³Í ¹³ï³Ï³Ý ³Ïï»ñÇó µ»Ï³Ýí³ÍÝ»ñÇ ù³Ý³ÏÁ | R3: ÙÇçÝáñ¹áõÃÛáõÝÝ»ñáí Ï³Û³óí³Í ¨ µáÕáù³ñÏí³Í ¹³ï³Ï³Ý ³Ïï»ñÇó ³Ý÷á÷áË ÃáÕÝí³ÍÝ»ñÇ ù³Ý³ÏÁ
G4: Ù»ñÅí»É ¿ | H4: µ³í³ñ³ñí»É ¿ | I4: µ³í³ñ³ñí»É ¿ Ù³ëÝ³ÏÇ | J4: ÃáÕÝí»É ¿ ³é³Ýó ùÝÝáõÃÛ³Ý | K4: ÀÝ¹³Ù»ÝÁ
M5: Ý³Ëáñ¹ ï³ñÇÝ»ñÇÝ Ï³Û³óí³Í ³Ïï»ñÇ ¹»Ù | N5: Ñ³ßí»ïáõ Å³Ù³Ý³Ï³ßñç³ÝáõÙ Ï³Û³óí³Í ³Ïï»ñÇ ¹»Ù | P5: Ý³Ëáñ¹ ï³ñÇÝ»ñÇÝ Ï³Û³óí³Í ³Ïï»ñÇ µ»Ï³ÝáõÙÝ»ñÁ | Q5: Ñ³ßí»ïáõ Å³Ù³Ý³Ï³ßñç³ÝáõÙ Ï³Û³óí³Í ³Ïï»ñÇ µ»Ï³ÝáõÙÝ»ñÁ
A6: 1. ØÇÝã¹³ï³Ï³Ý í³ñáõÛÃÇ ÝÏ³ïÙ³Ùµ ¹³ï³Ï³Ý í»ñ³ÑëÏáÕáõÃÛ³Ý áÉáñï | D6: 1 | E6: 2 | F6: 3 | G6: 4 | H6: 5 | I6: 6 | J6: 7 | K6: 8 | L6: 9 | M6: 10 | N6: 11 | O6: 12 | P6: 13 | Q6: 14 | R6: 15 | T6: 1+2=3+8+9 | V6: 8=4+5+6+7
A7: 1 | B7: Ï³É³ÝùÁ áñå»ë Ë³÷³ÝÙ³Ý ÙÇçáó ÏÇñ³é»Éáõ Ù³ëÇÝ ÙÇçÝáñ¹áõÃÛáõÝÝ»ñ | D7: =Վ.Ստեփանյան!D7+Ա.Սիսակյան!D7+Տ.Փոլադյան!D7+#REF!+#REF!+Հ.Ավագյան!D7+Վ.Մկրտչյան!D7+Ն.Գալստյան!D7+Մ.Պապոյան!D7+Յու.Բաղդասարյան!D7+Գ.Հեբոյան!D7 -> #REF! | E7: =Վ.Ստեփանյան!E7+Ա.Սիսակյան!E7+Տ.Փոլադյան!E7+#REF!+#REF!+Հ.Ավագյան!E7+Վ.Մկրտչյան!E7+Ն.Գալստյան!E7+Մ.Պապոյան!E7+Յու.Բաղդասարյան!E7+Գ.Հեբոյան!E7 -> #REF! | F7: =Վ.Ստեփանյան!F7+Ա.Սիսակյան!F7+Տ.Փոլադյան!F7+#REF!+#REF!+Հ.Ավագյան!F7+Վ.Մկրտչյան!F7+Ն.Գալստյան!F7+Մ.Պապոյան!F7+Յու.Բաղդասարյան!F7+Գ.Հեբոյան!F7 -> #REF! | G7: =Վ.Ստեփանյան!G7+Ա.Սիսակյան!G7+Տ.Փոլադյան!G7+#REF!+#REF!+Հ.Ավագյան!G7+Վ.Մկրտչյան!G7+Ն.Գալստյան!G7+Մ.Պապոյան!G7+Յու.Բաղդասարյան!G7+Գ.Հեբոյան!G7 -> #REF! | H7: =Վ.Ստեփանյան!H7+Ա.Սիսակյան!H7+Տ.Փոլադյան!H7+#REF!+#REF!+Հ.Ավագյան!H7+Վ.Մկրտչյան!H7+Ն.Գալստյան!H7+Մ.Պապոյան!H7+Յու.Բաղդասարյան!H7+Գ.Հեբոյան!H7 -> #REF! | I7: =Վ.Ստեփանյան!I7+Ա.Սիսակյան!I7+Տ.Փոլադյան!I7+#REF!+#REF!+Հ.Ավագյան!I7+Վ.Մկրտչյան!I7+Ն.Գալստյան!I7+Մ.Պապոյան!I7+Յու.Բաղդասարյան!I7+Գ.Հեբոյան!I7 -> #REF! | J7: =Վ.Ստեփանյան!J7+Ա.Սիսակյան!J7+Տ.Փոլադյան!J7+#REF!+#REF!+Հ.Ավագյան!J7+Վ.Մկրտչյան!J7+Ն.Գալստյան!J7+Մ.Պապոյան!J7+Յու.Բաղդասարյան!J7+Գ.Հեբոյան!J7 -> #REF! | K7: =Վ.Ստեփանյան!K7+Ա.Սիսակյան!K7+Տ.Փոլադյան!K7+#REF!+#REF!+Հ.Ավագյան!K7+Վ.Մկրտչյան!K7+Ն.Գալստյան!K7+Մ.Պապոյան!K7+Յու.Բաղդասարյան!K7+Գ.Հեբոյան!K7 -> #REF! | ... R7: =Վ.Ստեփանյան!R7+Ա.Սիսակյան!R7+Տ.Փոլադյան!R7+#REF!+#REF!+Հ.Ավագյան!R7+Վ.Մկրտչյան!R7+Ն.Գալստյան!R7+Մ.Պապոյան!R7+Յու.Բաղդասարյան!R7+Գ.Հեբոյան!R7 -> #REF! | S7: =Վ.Ստեփանյան!S7+Ա.Սիսակյան!S7+Տ.Փոլադյան!S7+#REF!+Հ.Ավագյան!S7+Վ.Մկրտչյան!S7+Ն.Գալստյան!S7+#REF! -> #REF! | T7: =D7+E7 -> #REF! | U7: =F7+K7+L7 -> #REF! | V7: =K7 -> #REF! | W7: =G7+H7+I7+J7 -> #REF!
A8: 2 | B8: Ï³É³ÝùÇ Å³ÙÏ»ïÁ »ñÏ³ñ³óÝ»Éáõ Ù³ëÇÝ ÙÇçÝáñ¹áõÃÛáõÝÝ»ñ | D8: =Վ.Ստեփանյան!D8+Ա.Սիսակյան!D8+Տ.Փոլադյան!D8+#REF!+#REF!+Հ.Ավագյան!D8+Վ.Մկրտչյան!D8+Ն.Գալստյան!D8+Մ.Պապոյան!D8+Յու.Բաղդասարյան!D8+Գ.Հեբոյան!D8 -> #REF! | E8: =Վ.Ստեփանյան!E8+Ա.Սիսակյան!E8+Տ.Փոլադյան!E8+#REF!+#REF!+Հ.Ավագյան!E8+Վ.Մկրտչյան!E8+Ն.Գալստյան!E8+Մ.Պապոյան!E8+Յու.Բաղդասարյան!E8+Գ.Հեբոյան!E8 -> #REF! | F8: =Վ.Ստեփանյան!F8+Ա.Սիսակյան!F8+Տ.Փոլադյան!F8+#REF!+#REF!+Հ.Ավագյան!F8+Վ.Մկրտչյան!F8+Ն.Գալստյան!F8+Մ.Պապոյան!F8+Յու.Բաղդասարյան!F8+Գ.Հեբոյան!F8 -> #REF! | G8: =Վ.Ստեփանյան!G8+Ա.Սիսակյան!G8+Տ.Փոլադյան!G8+#REF!+#REF!+Հ.Ավագյան!G8+Վ.Մկրտչյան!G8+Ն.Գալստյան!G8+Մ.Պապոյան!G8+Յու.Բաղդասարյան!G8+Գ.Հեբոյան!G8 -> #REF! | H8: =Վ.Ստեփանյան!H8+Ա.Սիսակյան!H8+Տ.Փոլադյան!H8+#REF!+#REF!+Հ.Ավագյան!H8+Վ.Մկրտչյան!H8+Ն.Գալստյան!H8+Մ.Պապոյան!H8+Յու.Բաղդասարյան!H8+Գ.Հեբոյան!H8 -> #REF! | I8: =Վ.Ստեփանյան!I8+Ա.Սիսակյան!I8+Տ.Փոլադյան!I8+#REF!+#REF!+Հ.Ավագյան!I8+Վ.Մկրտչյան!I8+Ն.Գալստյան!I8+Մ.Պապոյան!I8+Յու.Բաղդասարյան!I8+Գ.Հեբոյան!I8 -> #REF! | J8: =Վ.Ստեփանյան!J8+Ա.Սիսակյան!J8+Տ.Փոլադյան!J8+#REF!+#REF!+Հ.Ավագյան!J8+Վ.Մկրտչյան!J8+Ն.Գալստյան!J8+Մ.Պապոյան!J8+Յու.Բաղդասարյան!J8+Գ.Հեբոյան!J8 -> #REF! | K8: =Վ.Ստեփանյան!K8+Ա.Սիսակյան!K8+Տ.Փոլադյան!K8+#REF!+#REF!+Հ.Ավագյան!K8+Վ.Մկրտչյան!K8+Ն.Գալստյան!K8+Մ.Պապոյան!K8+Յու.Բաղդասարյան!K8+Գ.Հեբոյան!K8 -> #REF! | ... R8: =Վ.Ստեփանյան!R8+Ա.Սիսակյան!R8+Տ.Փոլադյան!R8+#REF!+#REF!+Հ.Ավագյան!R8+Վ.Մկրտչյան!R8+Ն.Գալստյան!R8+Մ.Պապոյան!R8+Յու.Բաղդասարյան!R8+Գ.Հեբոյան!R8 -> #REF! | S8: =Վ.Ստեփանյան!S8+Ա.Սիսակյան!S8+Տ.Փոլադյան!S8+#REF!+Հ.Ավագյան!S8+Վ.Մկրտչյան!S8+Ն.Գալստյան!S8+#REF! -> #REF! | T8: =D8+E8 -> #REF! | U8: =F8+K8+L8 -> #REF! | V8: =K8 -> #REF! | W8: =G8+H8+I8+J8 -> #REF!
A9: 3 | B9: Ï³É³ÝùÇ í»ñ³Ñ³ëï³ïÙ³Ý Ù³ëÇÝ ÙÇçÝáñ¹áõÃÛáõÝÝ»ñ | D9: =Վ.Ստեփանյան!D9+Ա.Սիսակյան!D9+Տ.Փոլադյան!D9+#REF!+#REF!+Հ.Ավագյան!D9+Վ.Մկրտչյան!D9+Ն.Գալստյան!D9+Մ.Պապոյան!D9+Յու.Բաղդասարյան!D9+Գ.Հեբոյան!D9 -> #REF! | E9: =Վ.Ստեփանյան!E9+Ա.Սիսակյան!E9+Տ.Փոլադյան!E9+#REF!+#REF!+Հ.Ավագյան!E9+Վ.Մկրտչյան!E9+Ն.Գալստյան!E9+Մ.Պապոյան!E9+Յու.Բաղդասարյան!E9+Գ.Հեբոյան!E9 -> #REF! | F9: =Վ.Ստեփանյան!F9+Ա.Սիսակյան!F9+Տ.Փոլադյան!F9+#REF!+#REF!+Հ.Ավագյան!F9+Վ.Մկրտչյան!F9+Ն.Գալստյան!F9+Մ.Պապոյան!F9+Յու.Բաղդասարյան!F9+Գ.Հեբոյան!F9 -> #REF! | G9: =Վ.Ստեփանյան!G9+Ա.Սիսակյան!G9+Տ.Փոլադյան!G9+#REF!+#REF!+Հ.Ավագյան!G9+Վ.Մկրտչյան!G9+Ն.Գալստյան!G9+Մ.Պապոյան!G9+Յու.Բաղդասարյան!G9+Գ.Հեբոյան!G9 -> #REF! | H9: =Վ.Ստեփանյան!H9+Ա.Սիսակյան!H9+Տ.Փոլադյան!H9+#REF!+#REF!+Հ.Ավագյան!H9+Վ.Մկրտչյան!H9+Ն.Գալստյան!H9+Մ.Պապոյան!H9+Յու.Բաղդասարյան!H9+Գ.Հեբոյան!H9 -> #REF! | I9: =Վ.Ստեփանյան!I9+Ա.Սիսակյան!I9+Տ.Փոլադյան!I9+#REF!+#REF!+Հ.Ավագյան!I9+Վ.Մկրտչյան!I9+Ն.Գալստյան!I9+Մ.Պապոյան!I9+Յու.Բաղդասարյան!I9+Գ.Հեբոյան!I9 -> #REF! | J9: =Վ.Ստեփանյան!J9+Ա.Սիսակյան!J9+Տ.Փոլադյան!J9+#REF!+#REF!+Հ.Ավագյան!J9+Վ.Մկրտչյան!J9+Ն.Գալստյան!J9+Մ.Պապոյան!J9+Յու.Բաղդասարյան!J9+Գ.Հեբոյան!J9 -> #REF! | K9: =Վ.Ստեփանյան!K9+Ա.Սիսակյան!K9+Տ.Փոլադյան!K9+#REF!+#REF!+Հ.Ավագյան!K9+Վ.Մկրտչյան!K9+Ն.Գալստյան!K9+Մ.Պապոյան!K9+Յու.Բաղդասարյան!K9+Գ.Հեբոյան!K9 -> #REF! | ... R9: =Վ.Ստեփանյան!R9+Ա.Սիսակյան!R9+Տ.Փոլադյան!R9+#REF!+#REF!+Հ.Ավագյան!R9+Վ.Մկրտչյան!R9+Ն.Գալստյան!R9+Մ.Պապոյան!R9+Յու.Բաղդասարյան!R9+Գ.Հեբոյան!R9 -> #REF! | S9: =Վ.Ստեփանյան!S9+Ա.Սիսակյան!S9+Տ.Փոլադյան!S9+#REF!+Հ.Ավագյան!S9+Վ.Մկրտչյան!S9+Ն.Գալստյան!S9+#REF! -> #REF! | T9: =D9+E9 -> #REF! | U9: =F9+K9+L9 -> #REF! | V9: =K9 -> #REF! | W9: =G9+H9+I9+J9 -> #REF!
A10: 4 | B10: ·ñ³íÁ áñå»ë Ï³É³Ý³íáñÙ³Ý ³ÛÉÁÝïñ³Ýù³ÛÇÝ Ë³÷³ÝÙ³Ý ÙÇçáó ÏÇñ³é»Éáõ Ù³ëÇÝ ÙÇçÝáñ¹áõÃÛáõÝÝ»ñ | D10: =Վ.Ստեփանյան!D10+Ա.Սիսակյան!D10+Տ.Փոլադյան!D10+#REF!+#REF!+Հ.Ավագյան!D10+Վ.Մկրտչյան!D10+Ն.Գալստյան!D10+Մ.Պապոյան!D10+Յու.Բաղդասարյան!D10+Գ.Հեբոյան!D10 -> #REF! | E10: =Վ.Ստեփանյան!E10+Ա.Սիսակյան!E10+Տ.Փոլադյան!E10+#REF!+#REF!+Հ.Ավագյան!E10+Վ.Մկրտչյան!E10+Ն.Գալստյան!E10+Մ.Պապոյան!E10+Յու.Բաղդասարյան!E10+Գ.Հեբոյան!E10 -> #REF! | F10: =Վ.Ստեփանյան!F10+Ա.Սիսակյան!F10+Տ.Փոլադյան!F10+#REF!+#REF!+Հ.Ավագյան!F10+Վ.Մկրտչյան!F10+Ն.Գալստյան!F10+Մ.Պապոյան!F10+Յու.Բաղդասարյան!F10+Գ.Հեբոյան!F10 -> #REF! | G10: =Վ.Ստեփանյան!G10+Ա.Սիսակյան!G10+Տ.Փոլադյան!G10+#REF!+#REF!+Հ.Ավագյան!G10+Վ.Մկրտչյան!G10+Ն.Գալստյան!G10+Մ.Պապոյան!G10+Յու.Բաղդասարյան!G10+Գ.Հեբոյան!G10 -> #REF! | H10: =Վ.Ստեփանյան!H10+Ա.Սիսակյան!H10+Տ.Փոլադյան!H10+#REF!+#REF!+Հ.Ավագյան!H10+Վ.Մկրտչյան!H10+Ն.Գալստյան!H10+Մ.Պապոյան!H10+Յու.Բաղդասարյան!H10+Գ.Հեբոյան!H10 -> #REF! | I10: =Վ.Ստեփանյան!I10+Ա.Սիսակյան!I10+Տ.Փոլադյան!I10+#REF!+#REF!+Հ.Ավագյան!I10+Վ.Մկրտչյան!I10+Ն.Գալստյան!I10+Մ.Պապոյան!I10+Յու.Բաղդասարյան!I10+Գ.Հեբոյան!I10 -> #REF! | J10: =Վ.Ստեփանյան!J10+Ա.Սիսակյան!J10+Տ.Փոլադյան!J10+#REF!+#REF!+Հ.Ավագյան!J10+Վ.Մկրտչյան!J10+Ն.Գալստյան!J10+Մ.Պապոյան!J10+Յու.Բաղդասարյան!J10+Գ.Հեբոյան!J10 -> #REF! | K10: =Վ.Ստեփանյան!K10+Ա.Սիսակյան!K10+Տ.Փոլադյան!K10+#REF!+#REF!+Հ.Ավագյան!K10+Վ.Մկրտչյան!K10+Ն.Գալստյան!K10+Մ.Պապոյան!K10+Յու.Բաղդասարյան!K10+Գ.Հեբոյան!K10 -> #REF! | ... R10: =Վ.Ստեփանյան!R10+Ա.Սիսակյան!R10+Տ.Փոլադյան!R10+#REF!+#REF!+Հ.Ավագյան!R10+Վ.Մկրտչյան!R10+Ն.Գալստյան!R10+Մ.Պապոյան!R10+Յու.Բաղդասարյան!R10+Գ.Հեբոյան!R10 -> #REF! | S10: =Վ.Ստեփանյան!S10+Ա.Սիսակյան!S10+Տ.Փոլադյան!S10+#REF!+Հ.Ավագյան!S10+Վ.Մկրտչյան!S10+Ն.Գալստյան!S10+#REF! -> #REF! | T10: =D10+E10 -> #REF! | U10: =F10+K10+L10 -> #REF! | V10: =K10 -> #REF! | W10: =G10+H10+I10+J10 -> #REF!
A11: 5 | B11: Ëáõ½³ñÏáõÃÛ³Ý Ï³ï³ñÙ³Ý Ù³ëÇÝ ÙÇçÝáñ¹áõÃÛáõÝÝ»ñ | D11: =Վ.Ստեփանյան!D11+Ա.Սիսակյան!D11+Տ.Փոլադյան!D11+#REF!+#REF!+Հ.Ավագյան!D11+Վ.Մկրտչյան!D11+Ն.Գալստյան!D11+Մ.Պապոյան!D11+Յու.Բաղդասարյան!D11+Գ.Հեբոյան!D11 -> #REF! | E11: =Վ.Ստեփանյան!E11+Ա.Սիսակյան!E11+Տ.Փոլադյան!E11+#REF!+#REF!+Հ.Ավագյան!E11+Վ.Մկրտչյան!E11+Ն.Գալստյան!E11+Մ.Պապոյան!E11+Յու.Բաղդասարյան!E11+Գ.Հեբոյան!E11 -> #REF! | F11: =Վ.Ստեփանյան!F11+Ա.Սիսակյան!F11+Տ.Փոլադյան!F11+#REF!+#REF!+Հ.Ավագյան!F11+Վ.Մկրտչյան!F11+Ն.Գալստյան!F11+Մ.Պապոյան!F11+Յու.Բաղդասարյան!F11+Գ.Հեբոյան!F11 -> #REF! | G11: =Վ.Ստեփանյան!G11+Ա.Սիսակյան!G11+Տ.Փոլադյան!G11+#REF!+#REF!+Հ.Ավագյան!G11+Վ.Մկրտչյան!G11+Ն.Գալստյան!G11+Մ.Պապոյան!G11+Յու.Բաղդասարյան!G11+Գ.Հեբոյան!G11 -> #REF! | H11: =Վ.Ստեփանյան!H11+Ա.Սիսակյան!H11+Տ.Փոլադյան!H11+#REF!+#REF!+Հ.Ավագյան!H11+Վ.Մկրտչյան!H11+Ն.Գալստյան!H11+Մ.Պապոյան!H11+Յու.Բաղդասարյան!H11+Գ.Հեբոյան!H11 -> #REF! | I11: =Վ.Ստեփանյան!I11+Ա.Սիսակյան!I11+Տ.Փոլադյան!I11+#REF!+#REF!+Հ.Ավագյան!I11+Վ.Մկրտչյան!I11+Ն.Գալստյան!I11+Մ.Պապոյան!I11+Յու.Բաղդասարյան!I11+Գ.Հեբոյան!I11 -> #REF! | J11: =Վ.Ստեփանյան!J11+Ա.Սիսակյան!J11+Տ.Փոլադյան!J11+#REF!+#REF!+Հ.Ավագյան!J11+Վ.Մկրտչյան!J11+Ն.Գալստյան!J11+Մ.Պապոյան!J11+Յու.Բաղդասարյան!J11+Գ.Հեբոյան!J11 -> #REF! | K11: =Վ.Ստեփանյան!K11+Ա.Սիսակյան!K11+Տ.Փոլադյան!K11+#REF!+#REF!+Հ.Ավագյան!K11+Վ.Մկրտչյան!K11+Ն.Գալստյան!K11+Մ.Պապոյան!K11+Յու.Բաղդասարյան!K11+Գ.Հեբոյան!K11 -> #REF! | ... R11: =Վ.Ստեփանյան!R11+Ա.Սիսակյան!R11+Տ.Փոլադյան!R11+#REF!+#REF!+Հ.Ավագյան!R11+Վ.Մկրտչյան!R11+Ն.Գալստյան!R11+Մ.Պապոյան!R11+Յու.Բաղդասարյան!R11+Գ.Հեբոյան!R11 -> #REF! | S11: =Վ.Ստեփանյան!S11+Ա.Սիսակյան!S11+Տ.Փոլադյան!S11+#REF!+Հ.Ավագյան!S11+Վ.Մկրտչյան!S11+Ն.Գալստյան!S11+#REF! -> #REF! | T11: =D11+E11 -> #REF! | U11: =F11+K11+L11 -> #REF! | V11: =K11 -> #REF! | W11: =G11+H11+I11+J11 -> #REF!
A12: 6 | B12: µ³ÝÏ³ÛÇÝ, ³å³Ñáí³·ñ³Ï³Ý, Ýáï³ñ³Ï³Ý ·³ÕïÝÇù Ï³½ÙáÕ ï»Õ»ÏáõÃÛáõÝÝ»ñÇ ëï³óÙ³Ý Ñ³Ù³ñ Ëáõ½³ñÏáõÃÛ³Ý Ï³Ù ³é·ñ³íÙ³Ý Ï³ï³ñÙ³Ý Ù³ëÇÝ ÙÇçÝáñ¹áõÃÛáõÝÝ»ñ | D12: =Վ.Ստեփանյան!D12+Ա.Սիսակյան!D12+Տ.Փոլադյան!D12+#REF!+#REF!+Հ.Ավագյան!D12+Վ.Մկրտչյան!D12+Ն.Գալստյան!D12+Մ.Պապոյան!D12+Յու.Բաղդասարյան!D12+Գ.Հեբոյան!D12 -> #REF! | E12: =Վ.Ստեփանյան!E12+Ա.Սիսակյան!E12+Տ.Փոլադյան!E12+#REF!+#REF!+Հ.Ավագյան!E12+Վ.Մկրտչյան!E12+Ն.Գալստյան!E12+Մ.Պապոյան!E12+Յու.Բաղդասարյան!E12+Գ.Հեբոյան!E12 -> #REF! | F12: =Վ.Ստեփանյան!F12+Ա.Սիսակյան!F12+Տ.Փոլադյան!F12+#REF!+#REF!+Հ.Ավագյան!F12+Վ.Մկրտչյան!F12+Ն.Գալստյան!F12+Մ.Պապոյան!F12+Յու.Բաղդասարյան!F12+Գ.Հեբոյան!F12 -> #REF! | G12: =Վ.Ստեփանյան!G12+Ա.Սիսակյան!G12+Տ.Փոլադյան!G12+#REF!+#REF!+Հ.Ավագյան!G12+Վ.Մկրտչյան!G12+Ն.Գալստյան!G12+Մ.Պապոյան!G12+Յու.Բաղդասարյան!G12+Գ.Հեբոյան!G12 -> #REF! | H12: =Վ.Ստեփանյան!H12+Ա.Սիսակյան!H12+Տ.Փոլադյան!H12+#REF!+#REF!+Հ.Ավագյան!H12+Վ.Մկրտչյան!H12+Ն.Գալստյան!H12+Մ.Պապոյան!H12+Յու.Բաղդասարյան!H12+Գ.Հեբոյան!H12 -> #REF! | I12: =Վ.Ստեփանյան!I12+Ա.Սիսակյան!I12+Տ.Փոլադյան!I12+#REF!+#REF!+Հ.Ավագյան!I12+Վ.Մկրտչյան!I12+Ն.Գալստյան!I12+Մ.Պապոյան!I12+Յու.Բաղդասարյան!I12+Գ.Հեբոյան!I12 -> #REF! | J12: =Վ.Ստեփանյան!J12+Ա.Սիսակյան!J12+Տ.Փոլադյան!J12+#REF!+#REF!+Հ.Ավագյան!J12+Վ.Մկրտչյան!J12+Ն.Գալստյան!J12+Մ.Պապոյան!J12+Յու.Բաղդասարյան!J12+Գ.Հեբոյան!J12 -> #REF! | K12: =Վ.Ստեփանյան!K12+Ա.Սիսակյան!K12+Տ.Փոլադյան!K12+#REF!+#REF!+Հ.Ավագյան!K12+Վ.Մկրտչյան!K12+Ն.Գալստյան!K12+Մ.Պապոյան!K12+Յու.Բաղդասարյան!K12+Գ.Հեբոյան!K12 -> #REF! | ... R12: =Վ.Ստեփանյան!R12+Ա.Սիսակյան!R12+Տ.Փոլադյան!R12+#REF!+#REF!+Հ.Ավագյան!R12+Վ.Մկրտչյան!R12+Ն.Գալստյան!R12+Մ.Պապոյան!R12+Յու.Բաղդասարյան!R12+Գ.Հեբոյան!R12 -> #REF! | S12: =Վ.Ստեփանյան!S12+Ա.Սիսակյան!S12+Տ.Փոլադյան!S12+#REF!+Հ.Ավագյան!S12+Վ.Մկրտչյան!S12+Ն.Գալստյան!S12+#REF! -> #REF! | T12: =D12+E12 -> #REF! | U12: =F12+K12+L12 -> #REF! | V12: =K12 -> #REF! | W12: =G12+H12+I12+J12 -> #REF!
A13: 7 | B13: Ý³Ù³Ï³·ñáõÃÛ³Ý, Ñ»é³·ñ³Ï³Ý, ÷áuï³ÛÇÝ Ñ³Õáñ¹áõÙÝ»ñÇ ÑëÏáÕáõÃÛ³Ý Ù³ëÇÝ ÙÇçÝáñ¹áõÃÛáõÝÝ»ñ | D13: =Վ.Ստեփանյան!D13+Ա.Սիսակյան!D13+Տ.Փոլադյան!D13+#REF!+#REF!+Հ.Ավագյան!D13+Վ.Մկրտչյան!D13+Ն.Գալստյան!D13+Մ.Պապոյան!D13+Յու.Բաղդասարյան!D13+Գ.Հեբոյան!D13 -> #REF! | E13: =Վ.Ստեփանյան!E13+Ա.Սիսակյան!E13+Տ.Փոլադյան!E13+#REF!+#REF!+Հ.Ավագյան!E13+Վ.Մկրտչյան!E13+Ն.Գալստյան!E13+Մ.Պապոյան!E13+Յու.Բաղդասարյան!E13+Գ.Հեբոյան!E13 -> #REF! | F13: =Վ.Ստեփանյան!F13+Ա.Սիսակյան!F13+Տ.Փոլադյան!F13+#REF!+#REF!+Հ.Ավագյան!F13+Վ.Մկրտչյան!F13+Ն.Գալստյան!F13+Մ.Պապոյան!F13+Յու.Բաղդասարյան!F13+Գ.Հեբոյան!F13 -> #REF! | G13: =Վ.Ստեփանյան!G13+Ա.Սիսակյան!G13+Տ.Փոլադյան!G13+#REF!+#REF!+Հ.Ավագյան!G13+Վ.Մկրտչյան!G13+Ն.Գալստյան!G13+Մ.Պապոյան!G13+Յու.Բաղդասարյան!G13+Գ.Հեբոյան!G13 -> #REF! | H13: =Վ.Ստեփանյան!H13+Ա.Սիսակյան!H13+Տ.Փոլադյան!H13+#REF!+#REF!+Հ.Ավագյան!H13+Վ.Մկրտչյան!H13+Ն.Գալստյան!H13+Մ.Պապոյան!H13+Յու.Բաղդասարյան!H13+Գ.Հեբոյան!H13 -> #REF! | I13: =Վ.Ստեփանյան!I13+Ա.Սիսակյան!I13+Տ.Փոլադյան!I13+#REF!+#REF!+Հ.Ավագյան!I13+Վ.Մկրտչյան!I13+Ն.Գալստյան!I13+Մ.Պապոյան!I13+Յու.Բաղդասարյան!I13+Գ.Հեբոյան!I13 -> #REF! | J13: =Վ.Ստեփանյան!J13+Ա.Սիսակյան!J13+Տ.Փոլադյան!J13+#REF!+#REF!+Հ.Ավագյան!J13+Վ.Մկրտչյան!J13+Ն.Գալստյան!J13+Մ.Պապոյան!J13+Յու.Բաղդասարյան!J13+Գ.Հեբոյան!J13 -> #REF! | K13: =Վ.Ստեփանյան!K13+Ա.Սիսակյան!K13+Տ.Փոլադյան!K13+#REF!+#REF!+Հ.Ավագյան!K13+Վ.Մկրտչյան!K13+Ն.Գալստյան!K13+Մ.Պապոյան!K13+Յու.Բաղդասարյան!K13+Գ.Հեբոյան!K13 -> #REF! | ... R13: =Վ.Ստեփանյան!R13+Ա.Սիսակյան!R13+Տ.Փոլադյան!R13+#REF!+#REF!+Հ.Ավագյան!R13+Վ.Մկրտչյան!R13+Ն.Գալստյան!R13+Մ.Պապոյան!R13+Յու.Բաղդասարյան!R13+Գ.Հեբոյան!R13 -> #REF! | S13: =Վ.Ստեփանյան!S13+Ա.Սիսակյան!S13+Տ.Փոլադյան!S13+#REF!+Հ.Ավագյան!S13+Վ.Մկրտչյան!S13+Ն.Գալստյան!S13+#REF! -> #REF! | T13: =D13+E13 -> #REF! | U13: =F13+K13+L13 -> #REF! | V13: =K13 -> #REF! | W13: =G13+H13+I13+J13 -> #REF!
A14: 8 | B14: Ñ»é³Ëáu³ÛÇÝ Ï³Ù Ï³åÇ ³ÛÉ ÙÇçáóÝ»ñáí ï³ñíáÕ Ëáu³ÏóáõÃÛáõÝÝ»ñÇ ÉuÙ³Ý ¨ Ó³ÛÝ³·ñ³éÙ³Ý Ù³ëÇÝ ÙÇçÝáñ¹áõÃÛáõÝÝ»ñ | D14: =Վ.Ստեփանյան!D14+Ա.Սիսակյան!D14+Տ.Փոլադյան!D14+#REF!+#REF!+Հ.Ավագյան!D14+Վ.Մկրտչյան!D14+Ն.Գալստյան!D14+Մ.Պապոյան!D14+Յու.Բաղդասարյան!D14+Գ.Հեբոյան!D14 -> #REF! | E14: =Վ.Ստեփանյան!E14+Ա.Սիսակյան!E14+Տ.Փոլադյան!E14+#REF!+#REF!+Հ.Ավագյան!E14+Վ.Մկրտչյան!E14+Ն.Գալստյան!E14+Մ.Պապոյան!E14+Յու.Բաղդասարյան!E14+Գ.Հեբոյան!E14 -> #REF! | F14: =Վ.Ստեփանյան!F14+Ա.Սիսակյան!F14+Տ.Փոլադյան!F14+#REF!+#REF!+Հ.Ավագյան!F14+Վ.Մկրտչյան!F14+Ն.Գալստյան!F14+Մ.Պապոյան!F14+Յու.Բաղդասարյան!F14+Գ.Հեբոյան!F14 -> #REF! | G14: =Վ.Ստեփանյան!G14+Ա.Սիսակյան!G14+Տ.Փոլադյան!G14+#REF!+#REF!+Հ.Ավագյան!G14+Վ.Մկրտչյան!G14+Ն.Գալստյան!G14+Մ.Պապոյան!G14+Յու.Բաղդասարյան!G14+Գ.Հեբոյան!G14 -> #REF! | H14: =Վ.Ստեփանյան!H14+Ա.Սիսակյան!H14+Տ.Փոլադյան!H14+#REF!+#REF!+Հ.Ավագյան!H14+Վ.Մկրտչյան!H14+Ն.Գալստյան!H14+Մ.Պապոյան!H14+Յու.Բաղդասարյան!H14+Գ.Հեբոյան!H14 -> #REF! | I14: =Վ.Ստեփանյան!I14+Ա.Սիսակյան!I14+Տ.Փոլադյան!I14+#REF!+#REF!+Հ.Ավագյան!I14+Վ.Մկրտչյան!I14+Ն.Գալստյան!I14+Մ.Պապոյան!I14+Յու.Բաղդասարյան!I14+Գ.Հեբոյան!I14 -> #REF! | J14: =Վ.Ստեփանյան!J14+Ա.Սիսակյան!J14+Տ.Փոլադյան!J14+#REF!+#REF!+Հ.Ավագյան!J14+Վ.Մկրտչյան!J14+Ն.Գալստյան!J14+Մ.Պապոյան!J14+Յու.Բաղդասարյան!J14+Գ.Հեբոյան!J14 -> #REF! | K14: =Վ.Ստեփանյան!K14+Ա.Սիսակյան!K14+Տ.Փոլադյան!K14+#REF!+#REF!+Հ.Ավագյան!K14+Վ.Մկրտչյան!K14+Ն.Գալստյան!K14+Մ.Պապոյան!K14+Յու.Բաղդասարյան!K14+Գ.Հեբոյան!K14 -> #REF! | ... R14: =Վ.Ստեփանյան!R14+Ա.Սիսակյան!R14+Տ.Փոլադյան!R14+#REF!+#REF!+Հ.Ավագյան!R14+Վ.Մկրտչյան!R14+Ն.Գալստյան!R14+Մ.Պապոյան!R14+Յու.Բաղդասարյան!R14+Գ.Հեբոյան!R14 -> #REF! | S14: =Վ.Ստեփանյան!S14+Ա.Սիսակյան!S14+Տ.Փոլադյան!S14+#REF!+Հ.Ավագյան!S14+Վ.Մկրտչյան!S14+Ն.Գալստյան!S14+#REF! -> #REF! | T14: =D14+E14 -> #REF! | U14: =F14+K14+L14 -> #REF! | V14: =K14 -> #REF! | W14: =G14+H14+I14+J14 -> #REF!
A15: 9 | B15: Ñ»é³ËáëÝ»ñÇ Ùáõïù³ÛÇÝ ¨ »Éù³ÛÇÝ í»ñÍ³ÝÙ³Ý ÃáõÛÉïíáõÃÛáõÝ ëï³Ý³Éáõ Ù³ëÇÝ ÙÇçÝáñ¹áõÃÛáõÝÝ»ñ | D15: =Վ.Ստեփանյան!D15+Ա.Սիսակյան!D15+Տ.Փոլադյան!D15+#REF!+#REF!+Հ.Ավագյան!D15+Վ.Մկրտչյան!D15+Ն.Գալստյան!D15+Մ.Պապոյան!D15+Յու.Բաղդասարյան!D15+Գ.Հեբոյան!D15 -> #REF! | E15: =Վ.Ստեփանյան!E15+Ա.Սիսակյան!E15+Տ.Փոլադյան!E15+#REF!+#REF!+Հ.Ավագյան!E15+Վ.Մկրտչյան!E15+Ն.Գալստյան!E15+Մ.Պապոյան!E15+Յու.Բաղդասարյան!E15+Գ.Հեբոյան!E15 -> #REF! | F15: =Վ.Ստեփանյան!F15+Ա.Սիսակյան!F15+Տ.Փոլադյան!F15+#REF!+#REF!+Հ.Ավագյան!F15+Վ.Մկրտչյան!F15+Ն.Գալստյան!F15+Մ.Պապոյան!F15+Յու.Բաղդասարյան!F15+Գ.Հեբոյան!F15 -> #REF! | G15: =Վ.Ստեփանյան!G15+Ա.Սիսակյան!G15+Տ.Փոլադյան!G15+#REF!+#REF!+Հ.Ավագյան!G15+Վ.Մկրտչյան!G15+Ն.Գալստյան!G15+Մ.Պապոյան!G15+Յու.Բաղդասարյան!G15+Գ.Հեբոյան!G15 -> #REF! | H15: =Վ.Ստեփանյան!H15+Ա.Սիսակյան!H15+Տ.Փոլադյան!H15+#REF!+#REF!+Հ.Ավագյան!H15+Վ.Մկրտչյան!H15+Ն.Գալստյան!H15+Մ.Պապոյան!H15+Յու.Բաղդասարյան!H15+Գ.Հեբոյան!H15 -> #REF! | I15: =Վ.Ստեփանյան!I15+Ա.Սիսակյան!I15+Տ.Փոլադյան!I15+#REF!+#REF!+Հ.Ավագյան!I15+Վ.Մկրտչյան!I15+Ն.Գալստյան!I15+Մ.Պապոյան!I15+Յու.Բաղդասարյան!I15+Գ.Հեբոյան!I15 -> #REF! | J15: =Վ.Ստեփանյան!J15+Ա.Սիսակյան!J15+Տ.Փոլադյան!J15+#REF!+#REF!+Հ.Ավագյան!J15+Վ.Մկրտչյան!J15+Ն.Գալստյան!J15+Մ.Պապոյան!J15+Յու.Բաղդասարյան!J15+Գ.Հեբոյան!J15 -> #REF! | K15: =Վ.Ստեփանյան!K15+Ա.Սիսակյան!K15+Տ.Փոլադյան!K15+#REF!+#REF!+Հ.Ավագյան!K15+Վ.Մկրտչյան!K15+Ն.Գալստյան!K15+Մ.Պապոյան!K15+Յու.Բաղդասարյան!K15+Գ.Հեբոյան!K15 -> #REF! | ... R15: =Վ.Ստեփանյան!R15+Ա.Սիսակյան!R15+Տ.Փոլադյան!R15+#REF!+#REF!+Հ.Ավագյան!R15+Վ.Մկրտչյան!R15+Ն.Գալստյան!R15+Մ.Պապոյան!R15+Յու.Բաղդասարյան!R15+Գ.Հեբոյան!R15 -> #REF! | S15: =Վ.Ստեփանյան!S15+Ա.Սիսակյան!S15+Տ.Փոլադյան!S15+#REF!+Հ.Ավագյան!S15+Վ.Մկրտչյան!S15+Ն.Գալստյան!S15+#REF! -> #REF! | T15: =D15+E15 -> #REF! | U15: =F15+K15+L15 -> #REF! | V15: =K15 -> #REF! | W15: =G15+H15+I15+J15 -> #REF!
A16: 10 | B16: Ñ»ï³ùÝÝáõÃÛ³Ý Ù³ñÙÝÇ ³ßË³ïáÕÇ, ùÝÝÇãÇ, ¹³ï³Ë³½Ç oå»ñ³ïÇí-Ñ»ï³Ëáõ½³Ï³Ý ·áñÍáÕáõÃÛáõÝÝ»ñ Çñ³Ï³Ý³óÝáÕ Ù³ñÙÇÝÝ»ñÇ ³ÝoñÇÝ³Ï³Ý ¨ ³ÝÑÇÙÝ áñáßáõÙÝ»ñÇ ¨ ·áñÍáÕáõÃÛáõÝÝ»ñÇ ¹»Ù µáÕáùÝ»ñ | D16: =Վ.Ստեփանյան!D16+Ա.Սիսակյան!D16+Տ.Փոլադյան!D16+#REF!+#REF!+Հ.Ավագյան!D16+Վ.Մկրտչյան!D16+Ն.Գալստյան!D16+Մ.Պապոյան!D16+Յու.Բաղդասարյան!D16+Գ.Հեբոյան!D16 -> #REF! | E16: =Վ.Ստեփանյան!E16+Ա.Սիսակյան!E16+Տ.Փոլադյան!E16+#REF!+#REF!+Հ.Ավագյան!E16+Վ.Մկրտչյան!E16+Ն.Գալստյան!E16+Մ.Պապոյան!E16+Յու.Բաղդասարյան!E16+Գ.Հեբոյան!E16 -> #REF! | F16: =Վ.Ստեփանյան!F16+Ա.Սիսակյան!F16+Տ.Փոլադյան!F16+#REF!+#REF!+Հ.Ավագյան!F16+Վ.Մկրտչյան!F16+Ն.Գալստյան!F16+Մ.Պապոյան!F16+Յու.Բաղդասարյան!F16+Գ.Հեբոյան!F16 -> #REF! | G16: =Վ.Ստեփանյան!G16+Ա.Սիսակյան!G16+Տ.Փոլադյան!G16+#REF!+#REF!+Հ.Ավագյան!G16+Վ.Մկրտչյան!G16+Ն.Գալստյան!G16+Մ.Պապոյան!G16+Յու.Բաղդասարյան!G16+Գ.Հեբոյան!G16 -> #REF! | H16: =Վ.Ստեփանյան!H16+Ա.Սիսակյան!H16+Տ.Փոլադյան!H16+#REF!+#REF!+Հ.Ավագյան!H16+Վ.Մկրտչյան!H16+Ն.Գալստյան!H16+Մ.Պապոյան!H16+Յու.Բաղդասարյան!H16+Գ.Հեբոյան!H16 -> #REF! | I16: =Վ.Ստեփանյան!I16+Ա.Սիսակյան!I16+Տ.Փոլադյան!I16+#REF!+#REF!+Հ.Ավագյան!I16+Վ.Մկրտչյան!I16+Ն.Գալստյան!I16+Մ.Պապոյան!I16+Յու.Բաղդասարյան!I16+Գ.Հեբոյան!I16 -> #REF! | J16: =Վ.Ստեփանյան!J16+Ա.Սիսակյան!J16+Տ.Փոլադյան!J16+#REF!+#REF!+Հ.Ավագյան!J16+Վ.Մկրտչյան!J16+Ն.Գալստյան!J16+Մ.Պապոյան!J16+Յու.Բաղդասարյան!J16+Գ.Հեբոյան!J16 -> #REF! | K16: =Վ.Ստեփանյան!K16+Ա.Սիսակյան!K16+Տ.Փոլադյան!K16+#REF!+#REF!+Հ.Ավագյան!K16+Վ.Մկրտչյան!K16+Ն.Գալստյան!K16+Մ.Պապոյան!K16+Յու.Բաղդասարյան!K16+Գ.Հեբոյան!K16 -> #REF! | ... M16: =Վ.Ստեփանյան!M16+Ա.Սիսակյան!M16+Տ.Փոլադյան!M16+#REF!+#REF!+Հ.Ավագյան!M16+Վ.Մկրտչյան!M16+Ն.Գալստյան!M16+Մ.Պապոյան!M16+Յու.Բաղդասարյան!M16+Գ.Հեբոյան!M16 -> #REF! | N16: 10 | O16: =Վ.Ստեփանյան!O18+Ա.Սիսակյան!O16+Տ.Փոլադյան!O16+#REF!+#REF!+Հ.Ավագյան!O16+Վ.Մկրտչյան!O16+Ն.Գալստյան!O16+Մ.Պապոյան!O16+Յու.Բաղդասարյան!O16+Գ.Հեբոյան!O16 -> #REF! | P16: =Վ.Ստեփանյան!P18+Ա.Սիսակյան!P16+Տ.Փոլադյան!P16+#REF!+#REF!+Հ.Ավագյան!P16+Վ.Մկրտչյան!P16+Ն.Գալստյան!P16+Մ.Պապոյան!P16+Յու.Բաղդասարյան!P16+Գ.Հեբոյան!P16 -> #REF! | Q16: =Վ.Ստեփանյան!Q18+Ա.Սիսակյան!Q16+Տ.Փոլադյան!Q16+#REF!+#REF!+Հ.Ավագյան!Q16+Վ.Մկրտչյան!Q16+Ն.Գալստյան!Q16+Մ.Պապոյան!Q16+Յու.Բաղդասարյան!Q16+Գ.Հեբոյան!Q16 -> #REF! | R16: =Վ.Ստեփանյան!R18+Ա.Սիսակյան!R16+Տ.Փոլադյան!R16+#REF!+#REF!+Հ.Ավագյան!R16+Վ.Մկրտչյան!R16+Ն.Գալստյան!R16+Մ.Պապոյան!R16+Յու.Բաղդասարյան!R16+Գ.Հեբոյան!R16 -> #REF! | S16: =Վ.Ստեփանյան!S16+Ա.Սիսակյան!S16+Տ.Փոլադյան!S16+#REF!+Հ.Ավագյան!S16+Վ.Մկրտչյան!S16+Ն.Գալստյան!S16+#REF! -> #REF! | T16: =D16+E16 -> #REF! | U16: =F16+K16+L16 -> #REF! | V16: =K16 -> #REF! | W16: =G16+H16+I16+J16 -> #REF!
A17: 2. ¸³ï³Ï³Ý ³Ïï»ñÇ ¨ ¹³ï³Ï³Ý Ñ³ÝÓÝ³ñ³ñáõÃÛáõÝÝ»ñÇ Ï³ï³ñÙ³Ý Ñ»ï Ï³åí³Í Ñ³ñó»ñÇ ÉáõÍÙ³Ý áÉáñï | S17: =Վ.Ստեփանյան!S17+Ա.Սիսակյան!S17+Տ.Փոլադյան!S17+#REF!+Հ.Ավագյան!S17+Վ.Մկրտչյան!S17+Ն.Գալստյան!S17+#REF! -> #REF!
A18: 1 | B18: å³ïÅÇó å³ÛÙ³Ý³Ï³Ý í³Õ³Å³ÙÏ»ï ³½³ï»Éáõ Ù³ëÇÝ ÙÇçÝáñ¹áõÃÛáõÝÝ»ñ | D18: =Վ.Ստեփանյան!D18+Ա.Սիսակյան!D18+Տ.Փոլադյան!D18+#REF!+#REF!+Հ.Ավագյան!D18+Վ.Մկրտչյան!D18+Ն.Գալստյան!D18+Մ.Պապոյան!D18+Յու.Բաղդասարյան!D18+Գ.Հեբոյան!D18 -> #REF! | E18: =Վ.Ստեփանյան!E18+Ա.Սիսակյան!E18+Տ.Փոլադյան!E18+#REF!+#REF!+Հ.Ավագյան!E18+Վ.Մկրտչյան!E18+Ն.Գալստյան!E18+Մ.Պապոյան!E18+Յու.Բաղդասարյան!E18+Գ.Հեբոյան!E18 -> #REF! | F18: =Վ.Ստեփանյան!F18+Ա.Սիսակյան!F18+Տ.Փոլադյան!F18+#REF!+#REF!+Հ.Ավագյան!F18+Վ.Մկրտչյան!F18+Ն.Գալստյան!F18+Մ.Պապոյան!F18+Յու.Բաղդասարյան!F18+Գ.Հեբոյան!F18 -> #REF! | G18: =Վ.Ստեփանյան!G18+Ա.Սիսակյան!G18+Տ.Փոլադյան!G18+#REF!+#REF!+Հ.Ավագյան!G18+Վ.Մկրտչյան!G18+Ն.Գալստյան!G18+Մ.Պապոյան!G18+Յու.Բաղդասարյան!G18+Գ.Հեբոյան!G18 -> #REF! | H18: =Վ.Ստեփանյան!H18+Ա.Սիսակյան!H18+Տ.Փոլադյան!H18+#REF!+#REF!+Հ.Ավագյան!H18+Վ.Մկրտչյան!H18+Ն.Գալստյան!H18+Մ.Պապոյան!H18+Յու.Բաղդասարյան!H18+Գ.Հեբոյան!H18 -> #REF! | I18: =Վ.Ստեփանյան!I18+Ա.Սիսակյան!I18+Տ.Փոլադյան!I18+#REF!+#REF!+Հ.Ավագյան!I18+Վ.Մկրտչյան!I18+Ն.Գալստյան!I18+Մ.Պապոյան!I18+Յու.Բաղդասարյան!I18+Գ.Հեբոյան!I18 -> #REF! | J18: =Վ.Ստեփանյան!J18+Ա.Սիսակյան!J18+Տ.Փոլադյան!J18+#REF!+#REF!+Հ.Ավագյան!J18+Վ.Մկրտչյան!J18+Ն.Գալստյան!J18+Մ.Պապոյան!J18+Յու.Բաղդասարյան!J18+Գ.Հեբոյան!J18 -> #REF! | K18: =Վ.Ստեփանյան!K18+Ա.Սիսակյան!K18+Տ.Փոլադյան!K18+#REF!+#REF!+Հ.Ավագյան!K18+Վ.Մկրտչյան!K18+Ն.Գալստյան!K18+Մ.Պապոյան!K18+Յու.Բաղդասարյան!K18+Գ.Հեբոյան!K18 -> #REF! | ... S18: =Վ.Ստեփանյան!S18+Ա.Սիսակյան!S18+Տ.Փոլադյան!S18+#REF!+#REF!+Հ.Ավագյան!S18+Վ.Մկրտչյան!S18+Ն.Գալստյան!S18+Մ.Պապոյան!S18+Յու.Բաղդասարյան!S18+Գ.Հեբոյան!S18 -> #REF! | T18: =D18+E18 -> #REF! | U18: =F18+K18+L18 -> #REF! | V18: =K18 -> #REF! | W18: =G18+H18+I18+J18 -> #REF!
A19: 2 | B19: å³ïÇÅÁ ÷á÷áË»Éáõ, Ñ»ï³Ó·»Éáõ ¨ å³ïÅÇó ³½³ï»Éáõ Ù³uÇÝ ÙÇçÝáñ¹áõÃÛáõÝÝ»ñ | D19: =Վ.Ստեփանյան!D19+Ա.Սիսակյան!D19+Տ.Փոլադյան!D19+#REF!+#REF!+Հ.Ավագյան!D19+Վ.Մկրտչյան!D19+Ն.Գալստյան!D19+Մ.Պապոյան!D19+Յու.Բաղդասարյան!D19+Գ.Հեբոյան!D19 -> #REF! | E19: =Վ.Ստեփանյան!E19+Ա.Սիսակյան!E19+Տ.Փոլադյան!E19+#REF!+#REF!+Հ.Ավագյան!E19+Վ.Մկրտչյան!E19+Ն.Գալստյան!E19+Մ.Պապոյան!E19+Յու.Բաղդասարյան!E19+Գ.Հեբոյան!E19 -> #REF! | F19: =Վ.Ստեփանյան!F19+Ա.Սիսակյան!F19+Տ.Փոլադյան!F19+#REF!+#REF!+Հ.Ավագյան!F19+Վ.Մկրտչյան!F19+Ն.Գալստյան!F19+Մ.Պապոյան!F19+Յու.Բաղդասարյան!F19+Գ.Հեբոյան!F19 -> #REF! | G19: =Վ.Ստեփանյան!G19+Ա.Սիսակյան!G19+Տ.Փոլադյան!G19+#REF!+#REF!+Հ.Ավագյան!G19+Վ.Մկրտչյան!G19+Ն.Գալստյան!G19+Մ.Պապոյան!G19+Յու.Բաղդասարյան!G19+Գ.Հեբոյան!G19 -> #REF! | H19: =Վ.Ստեփանյան!H19+Ա.Սիսակյան!H19+Տ.Փոլադյան!H19+#REF!+#REF!+Հ.Ավագյան!H19+Վ.Մկրտչյան!H19+Ն.Գալստյան!H19+Մ.Պապոյան!H19+Յու.Բաղդասարյան!H19+Գ.Հեբոյան!H19 -> #REF! | I19: =Վ.Ստեփանյան!I19+Ա.Սիսակյան!I19+Տ.Փոլադյան!I19+#REF!+#REF!+Հ.Ավագյան!I19+Վ.Մկրտչյան!I19+Ն.Գալստյան!I19+Մ.Պապոյան!I19+Յու.Բաղդասարյան!I19+Գ.Հեբոյան!I19 -> #REF! | J19: =Վ.Ստեփանյան!J19+Ա.Սիսակյան!J19+Տ.Փոլադյան!J19+#REF!+#REF!+Հ.Ավագյան!J19+Վ.Մկրտչյան!J19+Ն.Գալստյան!J19+Մ.Պապոյան!J19+Յու.Բաղդասարյան!J19+Գ.Հեբոյան!J19 -> #REF! | K19: =Վ.Ստեփանյան!K19+Ա.Սիսակյան!K19+Տ.Փոլադյան!K19+#REF!+#REF!+Հ.Ավագյան!K19+Վ.Մկրտչյան!K19+Ն.Գալստյան!K19+Մ.Պապոյան!K19+Յու.Բաղդասարյան!K19+Գ.Հեբոյան!K19 -> #REF! | ... R19: =Վ.Ստեփանյան!R19+Ա.Սիսակյան!R19+Տ.Փոլադյան!R19+#REF!+#REF!+Հ.Ավագյան!R19+Վ.Մկրտչյան!R19+Ն.Գալստյան!R19+Մ.Պապոյան!R19+Յու.Բաղդասարյան!R19+Գ.Հեբոյան!R19 -> #REF! | S19: =Վ.Ստեփանյան!S19+Ա.Սիսակյան!S19+Տ.Փոլադյան!S19+#REF!+Հ.Ավագյան!S19+Վ.Մկրտչյան!S19+Ն.Գալստյան!S19+#REF! -> #REF! | T19: =D19+E19 -> #REF! | U19: =F19+K19+L19 -> #REF! | V19: =K19 -> #REF! | W19: =G19+H19+I19+J19 -> #REF!
A20: 3 | B20: Ñ³ñÏ³¹Çñ µáõÅÙ³Ý ï»ë³ÏÇ ÷á÷áËáõÃÛ³Ý Ù³ëÇÝ ÙÇçÝáñ¹áõÃÛáõÝÝ»ñ | D20: =Վ.Ստեփանյան!D20+Ա.Սիսակյան!D20+Տ.Փոլադյան!D20+#REF!+#REF!+Հ.Ավագյան!D20+Վ.Մկրտչյան!D20+Ն.Գալստյան!D20+Մ.Պապոյան!D20+Յու.Բաղդասարյան!D20+Գ.Հեբոյան!D20 -> #REF! | E20: =Վ.Ստեփանյան!E20+Ա.Սիսակյան!E20+Տ.Փոլադյան!E20+#REF!+#REF!+Հ.Ավագյան!E20+Վ.Մկրտչյան!E20+Ն.Գալստյան!E20+Մ.Պապոյան!E20+Յու.Բաղդասարյան!E20+Գ.Հեբոյան!E20 -> #REF! | F20: =Վ.Ստեփանյան!F20+Ա.Սիսակյան!F20+Տ.Փոլադյան!F20+#REF!+#REF!+Հ.Ավագյան!F20+Վ.Մկրտչյան!F20+Ն.Գալստյան!F20+Մ.Պապոյան!F20+Յու.Բաղդասարյան!F20+Գ.Հեբոյան!F20 -> #REF! | G20: =Վ.Ստեփանյան!G20+Ա.Սիսակյան!G20+Տ.Փոլադյան!G20+#REF!+#REF!+Հ.Ավագյան!G20+Վ.Մկրտչյան!G20+Ն.Գալստյան!G20+Մ.Պապոյան!G20+Յու.Բաղդասարյան!G20+Գ.Հեբոյան!G20 -> #REF! | H20: =Վ.Ստեփանյան!H20+Ա.Սիսակյան!H20+Տ.Փոլադյան!H20+#REF!+#REF!+Հ.Ավագյան!H20+Վ.Մկրտչյան!H20+Ն.Գալստյան!H20+Մ.Պապոյան!H20+Յու.Բաղդասարյան!H20+Գ.Հեբոյան!H20 -> #REF! | I20: =Վ.Ստեփանյան!I20+Ա.Սիսակյան!I20+Տ.Փոլադյան!I20+#REF!+#REF!+Հ.Ավագյան!I20+Վ.Մկրտչյան!I20+Ն.Գալստյան!I20+Մ.Պապոյան!I20+Յու.Բաղդասարյան!I20+Գ.Հեբոյան!I20 -> #REF! | J20: =Վ.Ստեփանյան!J20+Ա.Սիսակյան!J20+Տ.Փոլադյան!J20+#REF!+#REF!+Հ.Ավագյան!J20+Վ.Մկրտչյան!J20+Ն.Գալստյան!J20+Մ.Պապոյան!J20+Յու.Բաղդասարյան!J20+Գ.Հեբոյան!J20 -> #REF! | K20: =Վ.Ստեփանյան!K20+Ա.Սիսակյան!K20+Տ.Փոլադյան!K20+#REF!+#REF!+Հ.Ավագյան!K20+Վ.Մկրտչյան!K20+Ն.Գալստյան!K20+Մ.Պապոյան!K20+Յու.Բաղդասարյան!K20+Գ.Հեբոյան!K20 -> #REF! | ... R20: =Վ.Ստեփանյան!R20+Ա.Սիսակյան!R20+Տ.Փոլադյան!R20+#REF!+#REF!+Հ.Ավագյան!R20+Վ.Մկրտչյան!R20+Ն.Գալստյան!R20+Մ.Պապոյան!R20+Յու.Բաղդասարյան!R20+Գ.Հեբոյան!R20 -> #REF! | S20: =Վ.Ստեփանյան!S20+Ա.Սիսակյան!S20+Տ.Փոլադյան!S20+#REF!+Հ.Ավագյան!S20+Վ.Մկրտչյան!S20+Ն.Գալստյան!S20+#REF! -> #REF! | T20: =D20+E20 -> #REF! | U20: =F20+K20+L20 -> #REF! | V20: =K20 -> #REF! | W20: =G20+H20+I20+J20 -> #REF!
A21: 4 | B21: ³ÛÉ ÙÇçÝáñ¹áõÃÛáõÝÝ»ñ | D21: =Վ.Ստեփանյան!D21+Ա.Սիսակյան!D21+Տ.Փոլադյան!D21+#REF!+#REF!+Հ.Ավագյան!D21+Վ.Մկրտչյան!D21+Ն.Գալստյան!D21+Մ.Պապոյան!D21+Յու.Բաղդասարյան!D21+Գ.Հեբոյան!D21 -> #REF! | E21: =Վ.Ստեփանյան!E21+Ա.Սիսակյան!E21+Տ.Փոլադյան!E21+#REF!+#REF!+Հ.Ավագյան!E21+Վ.Մկրտչյան!E21+Ն.Գալստյան!E21+Մ.Պապոյան!E21+Յու.Բաղդասարյան!E21+Գ.Հեբոյան!E21 -> #REF! | F21: =Վ.Ստեփանյան!F21+Ա.Սիսակյան!F21+Տ.Փոլադյան!F21+#REF!+#REF!+Հ.Ավագյան!F21+Վ.Մկրտչյան!F21+Ն.Գալստյան!F21+Մ.Պապոյան!F21+Յու.Բաղդասարյան!F21+Գ.Հեբոյան!F21 -> #REF! | G21: =Վ.Ստեփանյան!G21+Ա.Սիսակյան!G21+Տ.Փոլադյան!G21+#REF!+#REF!+Հ.Ավագյան!G21+Վ.Մկրտչյան!G21+Ն.Գալստյան!G21+Մ.Պապոյան!G21+Յու.Բաղդասարյան!G21+Գ.Հեբոյան!G21 -> #REF! | H21: =Վ.Ստեփանյան!H21+Ա.Սիսակյան!H21+Տ.Փոլադյան!H21+#REF!+#REF!+Հ.Ավագյան!H21+Վ.Մկրտչյան!H21+Ն.Գալստյան!H21+Մ.Պապոյան!H21+Յու.Բաղդասարյան!H21+Գ.Հեբոյան!H21 -> #REF! | I21: =Վ.Ստեփանյան!I21+Ա.Սիսակյան!I21+Տ.Փոլադյան!I21+#REF!+#REF!+Հ.Ավագյան!I21+Վ.Մկրտչյան!I21+Ն.Գալստյան!I21+Մ.Պապոյան!I21+Յու.Բաղդասարյան!I21+Գ.Հեբոյան!I21 -> #REF! | J21: =Վ.Ստեփանյան!J21+Ա.Սիսակյան!J21+Տ.Փոլադյան!J21+#REF!+#REF!+Հ.Ավագյան!J21+Վ.Մկրտչյան!J21+Ն.Գալստյան!J21+Մ.Պապոյան!J21+Յու.Բաղդասարյան!J21+Գ.Հեբոյան!J21 -> #REF! | K21: =Վ.Ստեփանյան!K21+Ա.Սիսակյան!K21+Տ.Փոլադյան!K21+#REF!+#REF!+Հ.Ավագյան!K21+Վ.Մկրտչյան!K21+Ն.Գալստյան!K21+Մ.Պապոյան!K21+Յու.Բաղդասարյան!K21+Գ.Հեբոյան!K21 -> #REF! | ... R21: =Վ.Ստեփանյան!R21+Ա.Սիսակյան!R21+Տ.Փոլադյան!R21+#REF!+#REF!+Հ.Ավագյան!R21+Վ.Մկրտչյան!R21+Ն.Գալստյան!R21+Մ.Պապոյան!R21+Յու.Բաղդասարյան!R21+Գ.Հեբոյան!R21 -> #REF! | S21: =Վ.Ստեփանյան!S21+Ա.Սիսակյան!S21+Տ.Փոլադյան!S21+#REF!+Հ.Ավագյան!S21+Վ.Մկրտչյան!S21+Ն.Գալստյան!S21+#REF! -> #REF! | T21: =D21+E21 -> #REF! | U21: =F21+K21+L21 -> #REF! | V21: =K21 -> #REF! | W21: =G21+H21+I21+J21 -> #REF!
A22: 5 | B22: ¹³ï³Ï³Ý Ñ³ÝÓÝ³ñ³ñáõÃÛáõÝÝ»ñ | D22: =Վ.Ստեփանյան!D22+Ա.Սիսակյան!D22+Տ.Փոլադյան!D22+#REF!+#REF!+Հ.Ավագյան!D22+Վ.Մկրտչյան!D22+Ն.Գալստյան!D22+Մ.Պապոյան!D22+Յու.Բաղդասարյան!D22+Գ.Հեբոյան!D22 -> #REF! | E22: =Վ.Ստեփանյան!E22+Ա.Սիսակյան!E22+Տ.Փոլադյան!E22+#REF!+#REF!+Հ.Ավագյան!E22+Վ.Մկրտչյան!E22+Ն.Գալստյան!E22+Մ.Պապոյան!E22+Յու.Բաղդասարյան!E22+Գ.Հեբոյան!E22 -> #REF! | F22: =Վ.Ստեփանյան!F22+Ա.Սիսակյան!F22+Տ.Փոլադյան!F22+#REF!+#REF!+Հ.Ավագյան!F22+Վ.Մկրտչյան!F22+Ն.Գալստյան!F22+Մ.Պապոյան!F22+Յու.Բաղդասարյան!F22+Գ.Հեբոյան!F22 -> #REF! | G22: =Վ.Ստեփանյան!G22+Ա.Սիսակյան!G22+Տ.Փոլադյան!G22+#REF!+#REF!+Հ.Ավագյան!G22+Վ.Մկրտչյան!G22+Ն.Գալստյան!G22+Մ.Պապոյան!G22+Յու.Բաղդասարյան!G22+Գ.Հեբոյան!G22 -> #REF! | H22: =Վ.Ստեփանյան!H22+Ա.Սիսակյան!H22+Տ.Փոլադյան!H22+#REF!+#REF!+Հ.Ավագյան!H22+Վ.Մկրտչյան!H22+Ն.Գալստյան!H22+Մ.Պապոյան!H22+Յու.Բաղդասարյան!H22+Գ.Հեբոյան!H22 -> #REF! | I22: =Վ.Ստեփանյան!I22+Ա.Սիսակյան!I22+Տ.Փոլադյան!I22+#REF!+#REF!+Հ.Ավագյան!I22+Վ.Մկրտչյան!I22+Ն.Գալստյան!I22+Մ.Պապոյան!I22+Յու.Բաղդասարյան!I22+Գ.Հեբոյան!I22 -> #REF! | J22: =Վ.Ստեփանյան!J22+Ա.Սիսակյան!J22+Տ.Փոլադյան!J22+#REF!+#REF!+Հ.Ավագյան!J22+Վ.Մկրտչյան!J22+Ն.Գալստյան!J22+Մ.Պապոյան!J22+Յու.Բաղդասարյան!J22+Գ.Հեբոյան!J22 -> #REF! | K22: =Վ.Ստեփանյան!K22+Ա.Սիսակյան!K22+Տ.Փոլադյան!K22+#REF!+#REF!+Հ.Ավագյան!K22+Վ.Մկրտչյան!K22+Ն.Գալստյան!K22+Մ.Պապոյան!K22+Յու.Բաղդասարյան!K22+Գ.Հեբոյան!K22 -> #REF! | ... R22: =Վ.Ստեփանյան!R22+Ա.Սիսակյան!R22+Տ.Փոլադյան!R22+#REF!+#REF!+Հ.Ավագյան!R22+Վ.Մկրտչյան!R22+Ն.Գալստյան!R22+Մ.Պապոյան!R22+Յու.Բաղդասարյան!R22+Գ.Հեբոյան!R22 -> #REF! | S22: =Վ.Ստեփանյան!S22+Ա.Սիսակյան!S22+Տ.Փոլադյան!S22+#REF!+Հ.Ավագյան!S22+Վ.Մկրտչյան!S22+Ն.Գալստյան!S22+#REF! -> #REF! | T22: =D22+E22 -> #REF! | U22: =F22+K22+L22 -> #REF! | V22: =K22 -> #REF! | W22: =G22+H22+I22+J22 -> #REF!
A23: ÀÜ¸²ØºÜÀ | D23: =Վ.Ստեփանյան!D23+Ա.Սիսակյան!D23+Տ.Փոլադյան!D23+#REF!+#REF!+Հ.Ավագյան!D23+Վ.Մկրտչյան!D23+Ն.Գալստյան!D23+Մ.Պապոյան!D23+Յու.Բաղդասարյան!D23+Գ.Հեբոյան!D23 -> #REF! | E23: =Վ.Ստեփանյան!E23+Ա.Սիսակյան!E23+Տ.Փոլադյան!E23+#REF!+#REF!+Հ.Ավագյան!E23+Վ.Մկրտչյան!E23+Ն.Գալստյան!E23+Մ.Պապոյան!E23+Յու.Բաղդասարյան!E23+Գ.Հեբոյան!E23 -> #REF! | F23: =Վ.Ստեփանյան!F23+Ա.Սիսակյան!F23+Տ.Փոլադյան!F23+#REF!+#REF!+Հ.Ավագյան!F23+Վ.Մկրտչյան!F23+Ն.Գալստյան!F23+Մ.Պապոյան!F23+Յու.Բաղդասարյան!F23+Գ.Հեբոյան!F23 -> #REF! | G23: =Վ.Ստեփանյան!G23+Ա.Սիսակյան!G23+Տ.Փոլադյան!G23+#REF!+#REF!+Հ.Ավագյան!G23+Վ.Մկրտչյան!G23+Ն.Գալստյան!G23+Մ.Պապոյան!G23+Յու.Բաղդասարյան!G23+Գ.Հեբոյան!G23 -> #REF! | H23: =Վ.Ստեփանյան!H23+Ա.Սիսակյան!H23+Տ.Փոլադյան!H23+#REF!+#REF!+Հ.Ավագյան!H23+Վ.Մկրտչյան!H23+Ն.Գալստյան!H23+Մ.Պապոյան!H23+Յու.Բաղդասարյան!H23+Գ.Հեբոյան!H23 -> #REF! | I23: =Վ.Ստեփանյան!I23+Ա.Սիսակյան!I23+Տ.Փոլադյան!I23+#REF!+#REF!+Հ.Ավագյան!I23+Վ.Մկրտչյան!I23+Ն.Գալստյան!I23+Մ.Պապոյան!I23+Յու.Բաղդասարյան!I23+Գ.Հեբոյան!I23 -> #REF! | J23: =Վ.Ստեփանյան!J23+Ա.Սիսակյան!J23+Տ.Փոլադյան!J23+#REF!+#REF!+Հ.Ավագյան!J23+Վ.Մկրտչյան!J23+Ն.Գալստյան!J23+Մ.Պապոյան!J23+Յու.Բաղդասարյան!J23+Գ.Հեբոյան!J23 -> #REF! | K23: =Վ.Ստեփանյան!K23+Ա.Սիսակյան!K23+Տ.Փոլադյան!K23+#REF!+#REF!+Հ.Ավագյան!K23+Վ.Մկրտչյան!K23+Ն.Գալստյան!K23+Մ.Պապոյան!K23+Յու.Բաղդասարյան!K23+Գ.Հեբոյան!K23 -> #REF! | ... R23: =Վ.Ստեփանյան!R23+Ա.Սիսակյան!R23+Տ.Փոլադյան!R23+#REF!+#REF!+Հ.Ավագյան!R23+Վ.Մկրտչյան!R23+Ն.Գալստյան!R23+Մ.Պապոյան!R23+Յու.Բաղդասարյան!R23+Գ.Հեբոյան!R23 -> #REF! | S23: =Վ.Ստեփանյան!S23+Ա.Սիսակյան!S23+Տ.Փոլադյան!S23+#REF!+Հ.Ավագյան!S23+Վ.Մկրտչյան!S23+Ն.Գալստյան!S23+#REF! -> #REF! | T23: =D23+E23 -> #REF! | U23: =F23+K23+L23 -> #REF! | V23: =K23 -> #REF! | W23: =G23+H23+I23+J23 -> #REF!
C25: Ծանոթություն՝ԿԴ1/0006/11/16 դատական գործը միացել է ԿԴ1/0003/11/16 դատական գործին:
C26: Ծանոթություն՝ ԿԴ/0004/16/15 դատական գործով ,,Որոշում չի կայացվել,,:

Sheet Վ.Ստեփանյան
A1: 2016Ã. 1-ԻՆ ԿԻՍԱՄՅԱԿ | D1: Ð²ÞìºîìàôÂÚàôÜ | P1: Ð³í»Éí³Í Ð³Û³ëï³ÝÇ Ð³Ýñ³å»ïáõÃÛ³Ý ¸³ï³ñ³ÝÝ»ñÇ Ý³Ë³·³ÑÝ»ñÇ ËáñÑñ¹Ç 25.08.2016Ã. ÃÇí 44-È áñáßÙ³Ý
A2: ØÇÝã¹³ï³Ï³Ý í³ñáõÛÃÇ ÝÏ³ïÙ³Ùµ ¹³ï³Ï³Ý í»ñ³ÑëÏáÕáõÃÛ³ÝÁ, ¹³ï³Ï³Ý ³Ïï»ñÇ ¨ ¹³ï³Ï³Ý Ñ³ÝÓÝ³ñ³ñáõÃÛáõÝÝ»ñÇ Ï³ï³ñÙ³ÝÁ Ñ»ï Ï³åí³Í ÙÇçÝáñ¹áõÃÛáõÝÝ»ñÇ í»ñ³µ»ñÛ³É ¹³ï³Ï³Ý ·áñÍ»ñáí ÐÐ Îáï³ÛùÇ Ù³ñ½Ç ÁÝ¹Ñ³Ýáõñ Çñ³í³ëáõÃÛ³Ý ³é³çÇÝ ³ïÛ³ÝÇ ¹³ï³ñ³ÝÇ ¹³ï³íáñ Վ.ՍՏԵՓԱՆՅԱՆԻ ·áñÍáõÝ»áõÃÛ³Ý í»ñ³µ»ñÛ³É
A3: êïáõ·Çã Ñ³í³ë³ñáõÙ` 1+2=3+8+9, 8=4+5+6+7, | D3: Ð³ßí»ïáõ Å³Ù³Ý³Ï³Ñ³ïí³ÍÇ ëÏ½µáõÙ Ý³Ëáñ¹ Ñ³ßí»ïáõ Å³Ù³Ý³Ï³Ñ³ïí³ÍÇó ÷áË³Ýóí³Í ·áñÍ»ñÇ ÁÝ¹Ñ³Ýáõñ ÃÇíÁ | E3: Ð³ßí»ïáõ Å³Ù³Ý³Ï³Ñ³ïí³ÍáõÙ ëï³óí³Í ·áñÍ»ñÇ ÁÝ¹Ñ³Ýáõñ ÃÇíÁ | F3: öáË³Ýóí»É ¿ ³ÛÉ ¹³ï³íáñÇ Ï³Ù ³ÛÉ ¹³ï³ñ³Ý (Ï³½ÙÇ ÷á÷áËáõÃÛáõÝ, ÁÝ¹¹³ïáõÃÛáõÝ) | G3: Ð³ßí»ïáõ Å³Ù³Ý³Ï³Ñ³ïí³ÍáõÙ ³í³ñïí³Í ·áñÍ»ñÇ ÁÝ¹Ñ³Ýáõñ ÃÇíÁ | L3: Ð³ßí»ïáõ Å³Ù³Ý³Ï³Ñ³ïí³ÍáõÙ ³Ý³í³ñï ·áñÍ»ñÇ ÁÝ¹Ñ³Ýáõñ ÃÇíÁ | M3: ØÇçÝáñ¹áõÃÛáõÝÝ»ñáí Ï³Û³óí³Í ¹³ï³Ï³Ý ³Ïï»ñÇó µáÕáù³ñÏí³ÍÝ»ñÇ ù³Ý³ÏÁ | O3: ²Ý³í³ñï µáÕáùÝ»ñ | P3: ØÇçÝáñ¹áõÃÛáõÝÝ»ñáí Ï³Û³óí³Í ¨ µáÕáù³ñÏí³Í ¹³ï³Ï³Ý ³Ïï»ñÇó µ»Ï³Ýí³ÍÝ»ñÇ ù³Ý³ÏÁ | R3: ÙÇçÝáñ¹áõÃÛáõÝÝ»ñáí Ï³Û³óí³Í ¨ µáÕáù³ñÏí³Í ¹³ï³Ï³Ý ³Ïï»ñÇó ³Ý÷á÷áË ÃáÕÝí³ÍÝ»ñÇ ù³Ý³ÏÁ
G4: Ù»ñÅí»É ¿ | H4: µ³í³ñ³ñí»É ¿ | I4: µ³í³ñ³ñí»É ¿ Ù³ëÝ³ÏÇ | J4: ÃáÕÝí»É ¿ ³é³Ýó ùÝÝáõÃÛ³Ý | K4: ÀÝ¹³Ù»ÝÁ
M5: Ý³Ëáñ¹ ï³ñÇÝ»ñÇÝ Ï³Û³óí³Í ³Ïï»ñÇ ¹»Ù | N5: Ñ³ßí»ïáõ Å³Ù³Ý³Ï³ßñç³ÝáõÙ Ï³Û³óí³Í ³Ïï»ñÇ ¹»Ù | P5: Ý³Ëáñ¹ ï³ñÇÝ»ñÇÝ Ï³Û³óí³Í ³Ïï»ñÇ µ»Ï³ÝáõÙÝ»ñÁ | Q5: Ñ³ßí»ïáõ Å³Ù³Ý³Ï³ßñç³ÝáõÙ Ï³Û³óí³Í ³Ïï»ñÇ µ»Ï³ÝáõÙÝ»ñÁ
A6: 1. ØÇÝã¹³ï³Ï³Ý í³ñáõÛÃÇ ÝÏ³ïÙ³Ùµ ¹³ï³Ï³Ý í»ñ³ÑëÏáÕáõÃÛ³Ý áÉáñï | D6: 1 | E6: 2 | F6: 3 | G6: 4 | H6: 5 | I6: 6 | J6: 7 | K6: 8 | L6: 9 | M6: 10 | N6: 11 | O6: 12 | P6: 13 | Q6: 14 | R6: 15 | T6: 1+2=3+8+9 | V6: 8=4+5+6+7
A7: 1 | B7: Ï³É³ÝùÁ áñå»ë Ë³÷³ÝÙ³Ý ÙÇçáó ÏÇñ³é»Éáõ Ù³ëÇÝ ÙÇçÝáñ¹áõÃÛáõÝÝ»ñ | T7: =D7+E7 -> 0 | U7: =F7+K7+L7 -> 0 | V7: =K7 -> 0 | W7: =G7+H7+I7+J7 -> 0
A8: 2 | B8: Ï³É³ÝùÇ Å³ÙÏ»ïÁ »ñÏ³ñ³óÝ»Éáõ Ù³ëÇÝ ÙÇçÝáñ¹áõÃÛáõÝÝ»ñ | T8: =D8+E8 -> 0 | U8: =F8+K8+L8 -> 0 | V8: =K8 -> 0 | W8: =G8+H8+I8+J8 -> 0
A9: 3 | B9: Ï³É³ÝùÇ í»ñ³Ñ³ëï³ïÙ³Ý Ù³ëÇÝ ÙÇçÝáñ¹áõÃÛáõÝÝ»ñ | T9: =D9+E9 -> 0 | U9: =F9+K9+L9 -> 0 | V9: =K9 -> 0 | W9: =G9+H9+I9+J9 -> 0
A10: 4 | B10: ·ñ³íÁ áñå»ë Ï³É³Ý³íáñÙ³Ý ³ÛÉÁÝïñ³Ýù³ÛÇÝ Ë³÷³ÝÙ³Ý ÙÇçáó ÏÇñ³é»Éáõ Ù³ëÇÝ ÙÇçÝáñ¹áõÃÛáõÝÝ»ñ | T10: =D10+E10 -> 0 | U10: =F10+K10+L10 -> 0 | V10: =K10 -> 0 | W10: =G10+H10+I10+J10 -> 0
A11: 5 | B11: Ëáõ½³ñÏáõÃÛ³Ý Ï³ï³ñÙ³Ý Ù³ëÇÝ ÙÇçÝáñ¹áõÃÛáõÝÝ»ñ | T11: =D11+E11 -> 0 | U11: =F11+K11+L11 -> 0 | V11: =K11 -> 0 | W11: =G11+H11+I11+J11 -> 0
A12: 6 | B12: µ³ÝÏ³ÛÇÝ, ³å³Ñáí³·ñ³Ï³Ý, Ýáï³ñ³Ï³Ý ·³ÕïÝÇù Ï³½ÙáÕ ï»Õ»ÏáõÃÛáõÝÝ»ñÇ ëï³óÙ³Ý Ñ³Ù³ñ Ëáõ½³ñÏáõÃÛ³Ý Ï³Ù ³é·ñ³íÙ³Ý Ï³ï³ñÙ³Ý Ù³ëÇÝ ÙÇçÝáñ¹áõÃÛáõÝÝ»ñ | T12: =D12+E12 -> 0 | U12: =F12+K12+L12 -> 0 | V12: =K12 -> 0 | W12: =G12+H12+I12+J12 -> 0
A13: 7 | B13: Ý³Ù³Ï³·ñáõÃÛ³Ý, Ñ»é³·ñ³Ï³Ý, ÷áuï³ÛÇÝ Ñ³Õáñ¹áõÙÝ»ñÇ ÑëÏáÕáõÃÛ³Ý Ù³ëÇÝ ÙÇçÝáñ¹áõÃÛáõÝÝ»ñ | T13: =D13+E13 -> 0 | U13: =F13+K13+L13 -> 0 | V13: =K13 -> 0 | W13: =G13+H13+I13+J13 -> 0
A14: 8 | B14: Ñ»é³Ëáu³ÛÇÝ Ï³Ù Ï³åÇ ³ÛÉ ÙÇçáóÝ»ñáí ï³ñíáÕ Ëáu³ÏóáõÃÛáõÝÝ»ñÇ ÉuÙ³Ý ¨ Ó³ÛÝ³·ñ³éÙ³Ý Ù³ëÇÝ ÙÇçÝáñ¹áõÃÛáõÝÝ»ñ | T14: =D14+E14 -> 0 | U14: =F14+K14+L14 -> 0 | V14: =K14 -> 0 | W14: =G14+H14+I14+J14 -> 0
A15: 9 | B15: Ñ»é³ËáëÝ»ñÇ Ùáõïù³ÛÇÝ ¨ »Éù³ÛÇÝ í»ñÍ³ÝÙ³Ý ÃáõÛÉïíáõÃÛáõÝ ëï³Ý³Éáõ Ù³ëÇÝ ÙÇçÝáñ¹áõÃÛáõÝÝ»ñ | T15: =D15+E15 -> 0 | U15: =F15+K15+L15 -> 0 | V15: =K15 -> 0 | W15: =G15+H15+I15+J15 -> 0
A16: 10 | B16: Ñ»ï³ùÝÝáõÃÛ³Ý Ù³ñÙÝÇ ³ßË³ïáÕÇ, ùÝÝÇãÇ, ¹³ï³Ë³½Ç oå»ñ³ïÇí-Ñ»ï³Ëáõ½³Ï³Ý ·áñÍáÕáõÃÛáõÝÝ»ñ Çñ³Ï³Ý³óÝáÕ Ù³ñÙÇÝÝ»ñÇ ³ÝoñÇÝ³Ï³Ý ¨ ³ÝÑÇÙÝ áñáßáõÙÝ»ñÇ ¨ ·áñÍáÕáõÃÛáõÝÝ»ñÇ ¹»Ù µáÕáùÝ»ñ | T16: =D16+E16 -> 0 | U16: =F16+K16+L16 -> 0 | V16: =K16 -> 0 | W16: =G16+H16+I16+J16 -> 0
A17: 2. ¸³ï³Ï³Ý ³Ïï»ñÇ ¨ ¹³ï³Ï³Ý Ñ³ÝÓÝ³ñ³ñáõÃÛáõÝÝ»ñÇ Ï³ï³ñÙ³Ý Ñ»ï Ï³åí³Í Ñ³ñó»ñÇ ÉáõÍÙ³Ý áÉáñï
A18: 1 | B18: å³ïÅÇó å³ÛÙ³Ý³Ï³Ý í³Õ³Å³ÙÏ»ï ³½³ï»Éáõ Ù³ëÇÝ ÙÇçÝáñ¹áõÃÛáõÝÝ»ñ | E18: 27 | G18: 6 | H18: 21 | K18: 27 | N18: 10 | O18: 6 | R18: 4 | T18: =D18+E18 -> 27 | U18: =F18+K18+L18 -> 27 | V18: =K18 -> 27 | W18: =G18+H18+I18+J18 -> 27
A19: 2 | B19: å³ïÇÅÁ ÷á÷áË»Éáõ, Ñ»ï³Ó·»Éáõ ¨ å³ïÅÇó ³½³ï»Éáõ Ù³uÇÝ ÙÇçÝáñ¹áõÃÛáõÝÝ»ñ | E19: 2 | H19: 1 | K19: 1 | L19: 1 | T19: =D19+E19 -> 2 | U19: =F19+K19+L19 -> 2 | V19: =K19 -> 1 | W19: =G19+H19+I19+J19 -> 1
A20: 3 | B20: Ñ³ñÏ³¹Çñ µáõÅÙ³Ý ï»ë³ÏÇ ÷á÷áËáõÃÛ³Ý Ù³ëÇÝ ÙÇçÝáñ¹áõÃÛáõÝÝ»ñ | T20: =D20+E20 -> 0 | U20: =F20+K20+L20 -> 0 | V20: =K20 -> 0 | W20: =G20+H20+I20+J20 -> 0
A21: 4 | B21: ³ÛÉ ÙÇçÝáñ¹áõÃÛáõÝÝ»ñ | D21: 1 | E21: 4 | J21: 4 | K21: 4 | L21: 1 | T21: =D21+E21 -> 5 | U21: =F21+K21+L21 -> 5 | V21: =K21 -> 4 | W21: =G21+H21+I21+J21 -> 4
A22: 5 | B22: ¹³ï³Ï³Ý Ñ³ÝÓÝ³ñ³ñáõÃÛáõÝÝ»ñ | E22: 4 | H22: 4 | K22: 4 | T22: =D22+E22 -> 4 | U22: =F22+K22+L22 -> 4 | V22: =K22 -> 4 | W22: =G22+H22+I22+J22 -> 4
A23: ÀÜ¸²ØºÜÀ | D23: =D7+D8+D9+D10+D11+D12+D13+D14+D15+D16+D18+D19+D20+D21+D22 -> 1 | E23: =E7+E8+E9+E10+E11+E12+E13+E14+E15+E16+E18+E19+E20+E21+E22 -> 37 | F23: =F7+F8+F9+F10+F11+F12+F13+F14+F15+F16+F18+F19+F20+F21+F22 -> 0 | G23: =G7+G8+G9+G10+G11+G12+G13+G14+G15+G16+G18+G19+G20+G21+G22 -> 6 | H23: =H7+H8+H9+H10+H11+H12+H13+H14+H15+H16+H18+H19+H20+H21+H22 -> 26 | I23: =I7+I8+I9+I10+I11+I12+I13+I14+I15+I16+I18+I19+I20+I21+I22 -> 0 | J23: =J7+J8+J9+J10+J11+J12+J13+J14+J15+J16+J18+J19+J20+J21+J22 -> 4 | K23: =K7+K8+K9+K10+K11+K12+K13+K14+K15+K16+K18+K19+K20+K21+K22 -> 36 | ... R23: =R7+R8+R9+R10+R11+R12+R13+R14+R15+R16+R18+R19+R20+R21+R22 -> 4 | T23: =D23+E23 -> 38 | U23: =F23+K23+L23 -> 38 | V23: =K23 -> 36 | W23: =G23+H23+I23+J23 -> 36

Sheet Ա.Սիսակյան
A1: 2016Ã. 1-ԻՆ ԿԻՍԱՄՅԱԿ | D1: Ð²ÞìºîìàôÂÚàôÜ | P1: Ð³í»Éí³Í Ð³Û³ëï³ÝÇ Ð³Ýñ³å»ïáõÃÛ³Ý ¸³ï³ñ³ÝÝ»ñÇ Ý³Ë³·³ÑÝ»ñÇ ËáñÑñ¹Ç 25.08.2016Ã. ÃÇí 44-È áñáßÙ³Ý
A2: ØÇÝã¹³ï³Ï³Ý í³ñáõÛÃÇ ÝÏ³ïÙ³Ùµ ¹³ï³Ï³Ý í»ñ³ÑëÏáÕáõÃÛ³ÝÁ, ¹³ï³Ï³Ý ³Ïï»ñÇ ¨ ¹³ï³Ï³Ý Ñ³ÝÓÝ³ñ³ñáõÃÛáõÝÝ»ñÇ Ï³ï³ñÙ³ÝÁ Ñ»ï Ï³åí³Í ÙÇçÝáñ¹áõÃÛáõÝÝ»ñÇ í»ñ³µ»ñÛ³É ¹³ï³Ï³Ý ·áñÍ»ñáí ÐÐ Îáï³ÛùÇ Ù³ñ½Ç ÁÝ¹Ñ³Ýáõñ Çñ³í³ëáõÃÛ³Ý ³é³çÇÝ ³ïÛ³ÝÇ ¹³ï³ñ³ÝÇ ¹³ï³íáñ Ա. ՍԻՍԱԿՅԱՆԻ ·áñÍáõÝ»áõÃÛ³Ý í»ñ³µ»ñÛ³É
A3: êïáõ·Çã Ñ³í³ë³ñáõÙ` 1+2=3+8+9, 8=4+5+6+7, | D3: Ð³ßí»ïáõ Å³Ù³Ý³Ï³Ñ³ïí³ÍÇ ëÏ½µáõÙ Ý³Ëáñ¹ Ñ³ßí»ïáõ Å³Ù³Ý³Ï³Ñ³ïí³ÍÇó ÷áË³Ýóí³Í ·áñÍ»ñÇ ÁÝ¹Ñ³Ýáõñ ÃÇíÁ | E3: Ð³ßí»ïáõ Å³Ù³Ý³Ï³Ñ³ïí³ÍáõÙ ëï³óí³Í ·áñÍ»ñÇ ÁÝ¹Ñ³Ýáõñ ÃÇíÁ | F3: öáË³Ýóí»É ¿ ³ÛÉ ¹³ï³íáñÇ Ï³Ù ³ÛÉ ¹³ï³ñ³Ý (Ï³½ÙÇ ÷á÷áËáõÃÛáõÝ, ÁÝ¹¹³ïáõÃÛáõÝ) | G3: Ð³ßí»ïáõ Å³Ù³Ý³Ï³Ñ³ïí³ÍáõÙ ³í³ñïí³Í ·áñÍ»ñÇ ÁÝ¹Ñ³Ýáõñ ÃÇíÁ | L3: Ð³ßí»ïáõ Å³Ù³Ý³Ï³Ñ³ïí³ÍáõÙ ³Ý³í³ñï ·áñÍ»ñÇ ÁÝ¹Ñ³Ýáõñ ÃÇíÁ | M3: ØÇçÝáñ¹áõÃÛáõÝÝ»ñáí Ï³Û³óí³Í ¹³ï³Ï³Ý ³Ïï»ñÇó µáÕáù³ñÏí³ÍÝ»ñÇ ù³Ý³ÏÁ | O3: ²Ý³í³ñï µáÕáùÝ»ñ | P3: ØÇçÝáñ¹áõÃÛáõÝÝ»ñáí Ï³Û³óí³Í ¨ µáÕáù³ñÏí³Í ¹³ï³Ï³Ý ³Ïï»ñÇó µ»Ï³Ýí³ÍÝ»ñÇ ù³Ý³ÏÁ | R3: ÙÇçÝáñ¹áõÃÛáõÝÝ»ñáí Ï³Û³óí³Í ¨ µáÕáù³ñÏí³Í ¹³ï³Ï³Ý ³Ïï»ñÇó ³Ý÷á÷áË ÃáÕÝí³ÍÝ»ñÇ ù³Ý³ÏÁ
G4: Ù»ñÅí»É ¿ | H4: µ³í³ñ³ñí»É ¿ | I4: µ³í³ñ³ñí»É ¿ Ù³ëÝ³ÏÇ | J4: ÃáÕÝí»É ¿ ³é³Ýó ùÝÝáõÃÛ³Ý | K4: ÀÝ¹³Ù»ÝÁ
M5: Ý³Ëáñ¹ ï³ñÇÝ»ñÇÝ Ï³Û³óí³Í ³Ïï»ñÇ ¹»Ù | N5: Ñ³ßí»ïáõ Å³Ù³Ý³Ï³ßñç³ÝáõÙ Ï³Û³óí³Í ³Ïï»ñÇ ¹»Ù | P5: Ý³Ëáñ¹ ï³ñÇÝ»ñÇÝ Ï³Û³óí³Í ³Ïï»ñÇ µ»Ï³ÝáõÙÝ»ñÁ | Q5: Ñ³ßí»ïáõ Å³Ù³Ý³Ï³ßñç³ÝáõÙ Ï³Û³óí³Í ³Ïï»ñÇ µ»Ï³ÝáõÙÝ»ñÁ
A6: 1. ØÇÝã¹³ï³Ï³Ý í³ñáõÛÃÇ ÝÏ³ïÙ³Ùµ ¹³ï³Ï³Ý í»ñ³ÑëÏáÕáõÃÛ³Ý áÉáñï | D6: 1 | E6: 2 | F6: 3 | G6: 4 | H6: 5 | I6: 6 | J6: 7 | K6: 8 | L6: 9 | M6: 10 | N6: 11 | O6: 12 | P6: 13 | Q6: 14 | R6: 15 | T6: 1+2=3+8+9 | V6: 8=4+5+6+7
A7: 1 | B7: Ï³É³ÝùÁ áñå»ë Ë³÷³ÝÙ³Ý ÙÇçáó ÏÇñ³é»Éáõ Ù³ëÇÝ ÙÇçÝáñ¹áõÃÛáõÝÝ»ñ | E7: 5 | H7: 5 | K7: 5 | T7: =D7+E7 -> 5 | U7: =F7+K7+L7 -> 5 | V7: =K7 -> 5 | W7: =G7+H7+I7+J7 -> 5
A8: 2 | B8: Ï³É³ÝùÇ Å³ÙÏ»ïÁ »ñÏ³ñ³óÝ»Éáõ Ù³ëÇÝ ÙÇçÝáñ¹áõÃÛáõÝÝ»ñ | E8: 3 | H8: 3 | K8: 3 | T8: =D8+E8 -> 3 | U8: =F8+K8+L8 -> 3 | V8: =K8 -> 3 | W8: =G8+H8+I8+J8 -> 3
A9: 3 | B9: Ï³É³ÝùÇ í»ñ³Ñ³ëï³ïÙ³Ý Ù³ëÇÝ ÙÇçÝáñ¹áõÃÛáõÝÝ»ñ | E9: 2 | H9: 2 | K9: 2 | T9: =D9+E9 -> 2 | U9: =F9+K9+L9 -> 2 | V9: =K9 -> 2 | W9: =G9+H9+I9+J9 -> 2
A10: 4 | B10: ·ñ³íÁ áñå»ë Ï³É³Ý³íáñÙ³Ý ³ÛÉÁÝïñ³Ýù³ÛÇÝ Ë³÷³ÝÙ³Ý ÙÇçáó ÏÇñ³é»Éáõ Ù³ëÇÝ ÙÇçÝáñ¹áõÃÛáõÝÝ»ñ | E10: 2 | G10: 2 | K10: 2 | N10: 1 | Q10: 1 | T10: =D10+E10 -> 2 | U10: =F10+K10+L10 -> 2 | V10: =K10 -> 2 | W10: =G10+H10+I10+J10 -> 2
A11: 5 | B11: Ëáõ½³ñÏáõÃÛ³Ý Ï³ï³ñÙ³Ý Ù³ëÇÝ ÙÇçÝáñ¹áõÃÛáõÝÝ»ñ | E11: 9 | G11: 1 | H11: 7 | I11: 1 | K11: 9 | N11: 1 | R11: 1 | T11: =D11+E11 -> 9 | U11: =F11+K11+L11 -> 9 | V11: =K11 -> 9 | W11: =G11+H11+I11+J11 -> 9
A12: 6 | B12: µ³ÝÏ³ÛÇÝ, ³å³Ñáí³·ñ³Ï³Ý, Ýáï³ñ³Ï³Ý ·³ÕïÝÇù Ï³½ÙáÕ ï»Õ»ÏáõÃÛáõÝÝ»ñÇ ëï³óÙ³Ý Ñ³Ù³ñ Ëáõ½³ñÏáõÃÛ³Ý Ï³Ù ³é·ñ³íÙ³Ý Ï³ï³ñÙ³Ý Ù³ëÇÝ ÙÇçÝáñ¹áõÃÛáõÝÝ»ñ | E12: 3 | H12: 3 | K12: 3 | T12: =D12+E12 -> 3 | U12: =F12+K12+L12 -> 3 | V12: =K12 -> 3 | W12: =G12+H12+I12+J12 -> 3
A13: 7 | B13: Ý³Ù³Ï³·ñáõÃÛ³Ý, Ñ»é³·ñ³Ï³Ý, ÷áuï³ÛÇÝ Ñ³Õáñ¹áõÙÝ»ñÇ ÑëÏáÕáõÃÛ³Ý Ù³ëÇÝ ÙÇçÝáñ¹áõÃÛáõÝÝ»ñ | T13: =D13+E13 -> 0 | U13: =F13+K13+L13 -> 0 | V13: =K13 -> 0 | W13: =G13+H13+I13+J13 -> 0
A14: 8 | B14: Ñ»é³Ëáu³ÛÇÝ Ï³Ù Ï³åÇ ³ÛÉ ÙÇçáóÝ»ñáí ï³ñíáÕ Ëáu³ÏóáõÃÛáõÝÝ»ñÇ ÉuÙ³Ý ¨ Ó³ÛÝ³·ñ³éÙ³Ý Ù³ëÇÝ ÙÇçÝáñ¹áõÃÛáõÝÝ»ñ | T14: =D14+E14 -> 0 | U14: =F14+K14+L14 -> 0 | V14: =K14 -> 0 | W14: =G14+H14+I14+J14 -> 0
A15: 9 | B15: Ñ»é³ËáëÝ»ñÇ Ùáõïù³ÛÇÝ ¨ »Éù³ÛÇÝ í»ñÍ³ÝÙ³Ý ÃáõÛÉïíáõÃÛáõÝ ëï³Ý³Éáõ Ù³ëÇÝ ÙÇçÝáñ¹áõÃÛáõÝÝ»ñ | E15: 9 | H15: 9 | K15: 9 | T15: =D15+E15 -> 9 | U15: =F15+K15+L15 -> 9 | V15: =K15 -> 9 | W15: =G15+H15+I15+J15 -> 9
A16: 10 | B16: Ñ»ï³ùÝÝáõÃÛ³Ý Ù³ñÙÝÇ ³ßË³ïáÕÇ, ùÝÝÇãÇ, ¹³ï³Ë³½Ç oå»ñ³ïÇí-Ñ»ï³Ëáõ½³Ï³Ý ·áñÍáÕáõÃÛáõÝÝ»ñ Çñ³Ï³Ý³óÝáÕ Ù³ñÙÇÝÝ»ñÇ ³ÝoñÇÝ³Ï³Ý ¨ ³ÝÑÇÙÝ áñáßáõÙÝ»ñÇ ¨ ·áñÍáÕáõÃÛáõÝÝ»ñÇ ¹»Ù µáÕáùÝ»ñ | T16: =D16+E16 -> 0 | U16: =F16+K16+L16 -> 0 | V16: =K16 -> 0 | W16: =G16+H16+I16+J16 -> 0
A17: 2. ¸³ï³Ï³Ý ³Ïï»ñÇ ¨ ¹³ï³Ï³Ý Ñ³ÝÓÝ³ñ³ñáõÃÛáõÝÝ»ñÇ Ï³ï³ñÙ³Ý Ñ»ï Ï³åí³Í Ñ³ñó»ñÇ ÉáõÍÙ³Ý áÉáñï
A18: 1 | B18: å³ïÅÇó å³ÛÙ³Ý³Ï³Ý í³Õ³Å³ÙÏ»ï ³½³ï»Éáõ Ù³ëÇÝ ÙÇçÝáñ¹áõÃÛáõÝÝ»ñ | T18: =D18+E18 -> 0 | U18: =F18+K18+L18 -> 0 | V18: =K18 -> 0 | W18: =G18+H18+I18+J18 -> 0
A19: 2 | B19: å³ïÇÅÁ ÷á÷áË»Éáõ, Ñ»ï³Ó·»Éáõ ¨ å³ïÅÇó ³½³ï»Éáõ Ù³uÇÝ ÙÇçÝáñ¹áõÃÛáõÝÝ»ñ | M19: 2 | P19: 2 | T19: =D19+E19 -> 0 | U19: =F19+K19+L19 -> 0 | V19: =K19 -> 0 | W19: =G19+H19+I19+J19 -> 0
A20: 3 | B20: Ñ³ñÏ³¹Çñ µáõÅÙ³Ý ï»ë³ÏÇ ÷á÷áËáõÃÛ³Ý Ù³ëÇÝ ÙÇçÝáñ¹áõÃÛáõÝÝ»ñ | T20: =D20+E20 -> 0 | U20: =F20+K20+L20 -> 0 | V20: =K20 -> 0 | W20: =G20+H20+I20+J20 -> 0
A21: 4 | B21: ³ÛÉ ÙÇçÝáñ¹áõÃÛáõÝÝ»ñ | T21: =D21+E21 -> 0 | U21: =F21+K21+L21 -> 0 | V21: =K21 -> 0 | W21: =G21+H21+I21+J21 -> 0
A22: 5 | B22: ¹³ï³Ï³Ý Ñ³ÝÓÝ³ñ³ñáõÃÛáõÝÝ»ñ | D22: 2 | G22: 1 | H22: 1 | K22: 2 | T22: =D22+E22 -> 2 | U22: =F22+K22+L22 -> 2 | V22: =K22 -> 2 | W22: =G22+H22+I22+J22 -> 2
A23: ÀÜ¸²ØºÜÀ | D23: =D7+D8+D9+D10+D11+D12+D13+D14+D15+D16+D18+D19+D20+D21+D22 -> 2 | E23: =E7+E8+E9+E10+E11+E12+E13+E14+E15+E16+E18+E19+E20+E21+E22 -> 33 | F23: =F7+F8+F9+F10+F11+F12+F13+F14+F15+F16+F18+F19+F20+F21+F22 -> 0 | G23: =G7+G8+G9+G10+G11+G12+G13+G14+G15+G16+G18+G19+G20+G21+G22 -> 4 | H23: =H7+H8+H9+H10+H11+H12+H13+H14+H15+H16+H18+H19+H20+H21+H22 -> 30 | I23: =I7+I8+I9+I10+I11+I12+I13+I14+I15+I16+I18+I19+I20+I21+I22 -> 1 | J23: =J7+J8+J9+J10+J11+J12+J13+J14+J15+J16+J18+J19+J20+J21+J22 -> 0 | K23: =K7+K8+K9+K10+K11+K12+K13+K14+K15+K16+K18+K19+K20+K21+K22 -> 35 | ... R23: =R7+R8+R9+R10+R11+R12+R13+R14+R15+R16+R18+R19+R20+R21+R22 -> 1 | T23: =D23+E23 -> 35 | U23: =F23+K23+L23 -> 35 | V23: =K23 -> 35 | W23: =G23+H23+I23+J23 -> 35

Sheet Տ.Փոլադյան
A1: 2016Ã. 1-ԻՆ ԿԻՍԱՄՅԱԿ | D1: Ð²ÞìºîìàôÂÚàôÜ | P1: Ð³í»Éí³Í Ð³Û³ëï³ÝÇ Ð³Ýñ³å»ïáõÃÛ³Ý ¸³ï³ñ³ÝÝ»ñÇ Ý³Ë³·³ÑÝ»ñÇ ËáñÑñ¹Ç 25.08.2016Ã. ÃÇí 44-È áñáßÙ³Ý
A2: ØÇÝã¹³ï³Ï³Ý í³ñáõÛÃÇ ÝÏ³ïÙ³Ùµ ¹³ï³Ï³Ý í»ñ³ÑëÏáÕáõÃÛ³ÝÁ, ¹³ï³Ï³Ý ³Ïï»ñÇ ¨ ¹³ï³Ï³Ý Ñ³ÝÓÝ³ñ³ñáõÃÛáõÝÝ»ñÇ Ï³ï³ñÙ³ÝÁ Ñ»ï Ï³åí³Í ÙÇçÝáñ¹áõÃÛáõÝÝ»ñÇ í»ñ³µ»ñÛ³É ¹³ï³Ï³Ý ·áñÍ»ñáí ÐÐ Îáï³ÛùÇ Ù³ñ½Ç ÁÝ¹Ñ³Ýáõñ Çñ³í³ëáõÃÛ³Ý ³é³çÇÝ ³ïÛ³ÝÇ ¹³ï³ñ³ÝÇ ¹³ï³íáñ Տ.ՓՈԼԱԴՅԱՆԻ ·áñÍáõÝ»áõÃÛ³Ý í»ñ³µ»ñÛ³É
A3: êïáõ·Çã Ñ³í³ë³ñáõÙ` 1+2=3+8+9, 8=4+5+6+7, | D3: Ð³ßí»ïáõ Å³Ù³Ý³Ï³Ñ³ïí³ÍÇ ëÏ½µáõÙ Ý³Ëáñ¹ Ñ³ßí»ïáõ Å³Ù³Ý³Ï³Ñ³ïí³ÍÇó ÷áË³Ýóí³Í ·áñÍ»ñÇ ÁÝ¹Ñ³Ýáõñ ÃÇíÁ | E3: Ð³ßí»ïáõ Å³Ù³Ý³Ï³Ñ³ïí³ÍáõÙ ëï³óí³Í ·áñÍ»ñÇ ÁÝ¹Ñ³Ýáõñ ÃÇíÁ | F3: öáË³Ýóí»É ¿ ³ÛÉ ¹³ï³íáñÇ Ï³Ù ³ÛÉ ¹³ï³ñ³Ý (Ï³½ÙÇ ÷á÷áËáõÃÛáõÝ, ÁÝ¹¹³ïáõÃÛáõÝ) | G3: Ð³ßí»ïáõ Å³Ù³Ý³Ï³Ñ³ïí³ÍáõÙ ³í³ñïí³Í ·áñÍ»ñÇ ÁÝ¹Ñ³Ýáõñ ÃÇíÁ | L3: Ð³ßí»ïáõ Å³Ù³Ý³Ï³Ñ³ïí³ÍáõÙ ³Ý³í³ñï ·áñÍ»ñÇ ÁÝ¹Ñ³Ýáõñ ÃÇíÁ | M3: ØÇçÝáñ¹áõÃÛáõÝÝ»ñáí Ï³Û³óí³Í ¹³ï³Ï³Ý ³Ïï»ñÇó µáÕáù³ñÏí³ÍÝ»ñÇ ù³Ý³ÏÁ | O3: ²Ý³í³ñï µáÕáùÝ»ñ | P3: ØÇçÝáñ¹áõÃÛáõÝÝ»ñáí Ï³Û³óí³Í ¨ µáÕáù³ñÏí³Í ¹³ï³Ï³Ý ³Ïï»ñÇó µ»Ï³Ýí³ÍÝ»ñÇ ù³Ý³ÏÁ | R3: ÙÇçÝáñ¹áõÃÛáõÝÝ»ñáí Ï³Û³óí³Í ¨ µáÕáù³ñÏí³Í ¹³ï³Ï³Ý ³Ïï»ñÇó ³Ý÷á÷áË ÃáÕÝí³ÍÝ»ñÇ ù³Ý³ÏÁ
G4: Ù»ñÅí»É ¿ | H4: µ³í³ñ³ñí»É ¿ | I4: µ³í³ñ³ñí»É ¿ Ù³ëÝ³ÏÇ | J4: ÃáÕÝí»É ¿ ³é³Ýó ùÝÝáõÃÛ³Ý | K4: ÀÝ¹³Ù»ÝÁ
M5: Ý³Ëáñ¹ ï³ñÇÝ»ñÇÝ Ï³Û³óí³Í ³Ïï»ñÇ ¹»Ù | N5: Ñ³ßí»ïáõ Å³Ù³Ý³Ï³ßñç³ÝáõÙ Ï³Û³óí³Í ³Ïï»ñÇ ¹»Ù | P5: Ý³Ëáñ¹ ï³ñÇÝ»ñÇÝ Ï³Û³óí³Í ³Ïï»ñÇ µ»Ï³ÝáõÙÝ»ñÁ | Q5: Ñ³ßí»ïáõ Å³Ù³Ý³Ï³ßñç³ÝáõÙ Ï³Û³óí³Í ³Ïï»ñÇ µ»Ï³ÝáõÙÝ»ñÁ
A6: 1. ØÇÝã¹³ï³Ï³Ý í³ñáõÛÃÇ ÝÏ³ïÙ³Ùµ ¹³ï³Ï³Ý í»ñ³ÑëÏáÕáõÃÛ³Ý áÉáñï | D6: 1 | E6: 2 | F6: 3 | G6: 4 | H6: 5 | I6: 6 | J6: 7 | K6: 8 | L6: 9 | M6: 10 | N6: 11 | O6: 12 | P6: 13 | Q6: 14 | R6: 15 | T6: 1+2=3+8+9 | V6: 8=4+5+6+7
A7: 1 | B7: Ï³É³ÝùÁ áñå»ë Ë³÷³ÝÙ³Ý ÙÇçáó ÏÇñ³é»Éáõ Ù³ëÇÝ ÙÇçÝáñ¹áõÃÛáõÝÝ»ñ | E7: 2 | H7: 2 | K7: 2 | T7: =D7+E7 -> 2 | U7: =F7+K7+L7 -> 2 | V7: =K7 -> 2 | W7: =G7+H7+I7+J7 -> 2
A8: 2 | B8: Ï³É³ÝùÇ Å³ÙÏ»ïÁ »ñÏ³ñ³óÝ»Éáõ Ù³ëÇÝ ÙÇçÝáñ¹áõÃÛáõÝÝ»ñ | T8: =D8+E8 -> 0 | U8: =F8+K8+L8 -> 0 | V8: =K8 -> 0 | W8: =G8+H8+I8+J8 -> 0
A9: 3 | B9: Ï³É³ÝùÇ í»ñ³Ñ³ëï³ïÙ³Ý Ù³ëÇÝ ÙÇçÝáñ¹áõÃÛáõÝÝ»ñ | T9: =D9+E9 -> 0 | U9: =F9+K9+L9 -> 0 | V9: =K9 -> 0 | W9: =G9+H9+I9+J9 -> 0
A10: 4 | B10: ·ñ³íÁ áñå»ë Ï³É³Ý³íáñÙ³Ý ³ÛÉÁÝïñ³Ýù³ÛÇÝ Ë³÷³ÝÙ³Ý ÙÇçáó ÏÇñ³é»Éáõ Ù³ëÇÝ ÙÇçÝáñ¹áõÃÛáõÝÝ»ñ | D10: 1 | E10: 1 | H10: 2 | K10: 2 | N10: 1 | Q10: 1 | T10: =D10+E10 -> 2 | U10: =F10+K10+L10 -> 2 | V10: =K10 -> 2 | W10: =G10+H10+I10+J10 -> 2
A11: 5 | B11: Ëáõ½³ñÏáõÃÛ³Ý Ï³ï³ñÙ³Ý Ù³ëÇÝ ÙÇçÝáñ¹áõÃÛáõÝÝ»ñ | E11: 2 | H11: 2 | K11: 2 | T11: =D11+E11 -> 2 | U11: =F11+K11+L11 -> 2 | V11: =K11 -> 2 | W11: =G11+H11+I11+J11 -> 2
A12: 6 | B12: µ³ÝÏ³ÛÇÝ, ³å³Ñáí³·ñ³Ï³Ý, Ýáï³ñ³Ï³Ý ·³ÕïÝÇù Ï³½ÙáÕ ï»Õ»ÏáõÃÛáõÝÝ»ñÇ ëï³óÙ³Ý Ñ³Ù³ñ Ëáõ½³ñÏáõÃÛ³Ý Ï³Ù ³é·ñ³íÙ³Ý Ï³ï³ñÙ³Ý Ù³ëÇÝ ÙÇçÝáñ¹áõÃÛáõÝÝ»ñ | T12: =D12+E12 -> 0 | U12: =F12+K12+L12 -> 0 | V12: =K12 -> 0 | W12: =G12+H12+I12+J12 -> 0
A13: 7 | B13: Ý³Ù³Ï³·ñáõÃÛ³Ý, Ñ»é³·ñ³Ï³Ý, ÷áuï³ÛÇÝ Ñ³Õáñ¹áõÙÝ»ñÇ ÑëÏáÕáõÃÛ³Ý Ù³ëÇÝ ÙÇçÝáñ¹áõÃÛáõÝÝ»ñ | T13: =D13+E13 -> 0 | U13: =F13+K13+L13 -> 0 | V13: =K13 -> 0 | W13: =G13+H13+I13+J13 -> 0
A14: 8 | B14: Ñ»é³Ëáu³ÛÇÝ Ï³Ù Ï³åÇ ³ÛÉ ÙÇçáóÝ»ñáí ï³ñíáÕ Ëáu³ÏóáõÃÛáõÝÝ»ñÇ ÉuÙ³Ý ¨ Ó³ÛÝ³·ñ³éÙ³Ý Ù³ëÇÝ ÙÇçÝáñ¹áõÃÛáõÝÝ»ñ | T14: =D14+E14 -> 0 | U14: =F14+K14+L14 -> 0 | V14: =K14 -> 0 | W14: =G14+H14+I14+J14 -> 0
A15: 9 | B15: Ñ»é³ËáëÝ»ñÇ Ùáõïù³ÛÇÝ ¨ »Éù³ÛÇÝ í»ñÍ³ÝÙ³Ý ÃáõÛÉïíáõÃÛáõÝ ëï³Ý³Éáõ Ù³ëÇÝ ÙÇçÝáñ¹áõÃÛáõÝÝ»ñ | E15: 4 | H15: 2 | I15: 2 | K15: 4 | T15: =D15+E15 -> 4 | U15: =F15+K15+L15 -> 4 | V15: =K15 -> 4 | W15: =G15+H15+I15+J15 -> 4
A16: 10 | B16: Ñ»ï³ùÝÝáõÃÛ³Ý Ù³ñÙÝÇ ³ßË³ïáÕÇ, ùÝÝÇãÇ, ¹³ï³Ë³½Ç oå»ñ³ïÇí-Ñ»ï³Ëáõ½³Ï³Ý ·áñÍáÕáõÃÛáõÝÝ»ñ Çñ³Ï³Ý³óÝáÕ Ù³ñÙÇÝÝ»ñÇ ³ÝoñÇÝ³Ï³Ý ¨ ³ÝÑÇÙÝ áñáßáõÙÝ»ñÇ ¨ ·áñÍáÕáõÃÛáõÝÝ»ñÇ ¹»Ù µáÕáùÝ»ñ | T16: =D16+E16 -> 0 | U16: =F16+K16+L16 -> 0 | V16: =K16 -> 0 | W16: =G16+H16+I16+J16 -> 0
A17: 2. ¸³ï³Ï³Ý ³Ïï»ñÇ ¨ ¹³ï³Ï³Ý Ñ³ÝÓÝ³ñ³ñáõÃÛáõÝÝ»ñÇ Ï³ï³ñÙ³Ý Ñ»ï Ï³åí³Í Ñ³ñó»ñÇ ÉáõÍÙ³Ý áÉáñï
A18: 1 | B18: å³ïÅÇó å³ÛÙ³Ý³Ï³Ý í³Õ³Å³ÙÏ»ï ³½³ï»Éáõ Ù³ëÇÝ ÙÇçÝáñ¹áõÃÛáõÝÝ»ñ | T18: =D18+E18 -> 0 | U18: =F18+K18+L18 -> 0 | V18: =K18 -> 0 | W18: =G18+H18+I18+J18 -> 0
A19: 2 | B19: å³ïÇÅÁ ÷á÷áË»Éáõ, Ñ»ï³Ó·»Éáõ ¨ å³ïÅÇó ³½³ï»Éáõ Ù³uÇÝ ÙÇçÝáñ¹áõÃÛáõÝÝ»ñ | T19: =D19+E19 -> 0 | U19: =F19+K19+L19 -> 0 | V19: =K19 -> 0 | W19: =G19+H19+I19+J19 -> 0
A20: 3 | B20: Ñ³ñÏ³¹Çñ µáõÅÙ³Ý ï»ë³ÏÇ ÷á÷áËáõÃÛ³Ý Ù³ëÇÝ ÙÇçÝáñ¹áõÃÛáõÝÝ»ñ | T20: =D20+E20 -> 0 | U20: =F20+K20+L20 -> 0 | V20: =K20 -> 0 | W20: =G20+H20+I20+J20 -> 0
A21: 4 | B21: ³ÛÉ ÙÇçÝáñ¹áõÃÛáõÝÝ»ñ | T21: =D21+E21 -> 0 | U21: =F21+K21+L21 -> 0 | V21: =K21 -> 0 | W21: =G21+H21+I21+J21 -> 0
A22: 5 | B22: ¹³ï³Ï³Ý Ñ³ÝÓÝ³ñ³ñáõÃÛáõÝÝ»ñ | E22: 1 | L22: 1 | T22: =D22+E22 -> 1 | U22: =F22+K22+L22 -> 1 | V22: =K22 -> 0 | W22: =G22+H22+I22+J22 -> 0
A23: ÀÜ¸²ØºÜÀ | D23: =D7+D8+D9+D10+D11+D12+D13+D14+D15+D16+D18+D19+D20+D21+D22 -> 1 | E23: =E7+E8+E9+E10+E11+E12+E13+E14+E15+E16+E18+E19+E20+E21+E22 -> 10 | F23: =F7+F8+F9+F10+F11+F12+F13+F14+F15+F16+F18+F19+F20+F21+F22 -> 0 | G23: =G7+G8+G9+G10+G11+G12+G13+G14+G15+G16+G18+G19+G20+G21+G22 -> 0 | H23: =H7+H8+H9+H10+H11+H12+H13+H14+H15+H16+H18+H19+H20+H21+H22 -> 8 | I23: =I7+I8+I9+I10+I11+I12+I13+I14+I15+I16+I18+I19+I20+I21+I22 -> 2 | J23: =J7+J8+J9+J10+J11+J12+J13+J14+J15+J16+J18+J19+J20+J21+J22 -> 0 | K23: =K7+K8+K9+K10+K11+K12+K13+K14+K15+K16+K18+K19+K20+K21+K22 -> 10 | ... R23: =R7+R8+R9+R10+R11+R12+R13+R14+R15+R16+R18+R19+R20+R21+R22 -> 0 | T23: =D23+E23 -> 11 | U23: =F23+K23+L23 -> 11 | V23: =K23 -> 10 | W23: =G23+H23+I23+J23 -> 10

Sheet Հ.Ավագյան
A1: 2016Ã. 1-ԻՆ ԿԻՍԱՄՅԱԿ | D1: Ð²ÞìºîìàôÂÚàôÜ | P1: Ð³í»Éí³Í Ð³Û³ëï³ÝÇ Ð³Ýñ³å»ïáõÃÛ³Ý ¸³ï³ñ³ÝÝ»ñÇ Ý³Ë³·³ÑÝ»ñÇ ËáñÑñ¹Ç 25.08.2016Ã. ÃÇí 44-È áñáßÙ³Ý
A2: ØÇÝã¹³ï³Ï³Ý í³ñáõÛÃÇ ÝÏ³ïÙ³Ùµ ¹³ï³Ï³Ý í»ñ³ÑëÏáÕáõÃÛ³ÝÁ, ¹³ï³Ï³Ý ³Ïï»ñÇ ¨ ¹³ï³Ï³Ý Ñ³ÝÓÝ³ñ³ñáõÃÛáõÝÝ»ñÇ Ï³ï³ñÙ³ÝÁ Ñ»ï Ï³åí³Í ÙÇçÝáñ¹áõÃÛáõÝÝ»ñÇ í»ñ³µ»ñÛ³É ¹³ï³Ï³Ý ·áñÍ»ñáí ÐÐ Îáï³ÛùÇ Ù³ñ½Ç ÁÝ¹Ñ³Ýáõñ Çñ³í³ëáõÃÛ³Ý ³é³çÇÝ ³ïÛ³ÝÇ ¹³ï³ñ³ÝÇ ¹³ï³íáñ Հ.ԱՎԱԳՅԱՆԻ ·áñÍáõÝ»áõÃÛ³Ý í»ñ³µ»ñÛ³É
A3: êïáõ·Çã Ñ³í³ë³ñáõÙ` 1+2=3+8+9, 8=4+5+6+7, | D3: Ð³ßí»ïáõ Å³Ù³Ý³Ï³Ñ³ïí³ÍÇ ëÏ½µáõÙ Ý³Ëáñ¹ Ñ³ßí»ïáõ Å³Ù³Ý³Ï³Ñ³ïí³ÍÇó ÷áË³Ýóí³Í ·áñÍ»ñÇ ÁÝ¹Ñ³Ýáõñ ÃÇíÁ | E3: Ð³ßí»ïáõ Å³Ù³Ý³Ï³Ñ³ïí³ÍáõÙ ëï³óí³Í ·áñÍ»ñÇ ÁÝ¹Ñ³Ýáõñ ÃÇíÁ | F3: öáË³Ýóí»É ¿ ³ÛÉ ¹³ï³íáñÇ Ï³Ù ³ÛÉ ¹³ï³ñ³Ý (Ï³½ÙÇ ÷á÷áËáõÃÛáõÝ, ÁÝ¹¹³ïáõÃÛáõÝ) | G3: Ð³ßí»ïáõ Å³Ù³Ý³Ï³Ñ³ïí³ÍáõÙ ³í³ñïí³Í ·áñÍ»ñÇ ÁÝ¹Ñ³Ýáõñ ÃÇíÁ | L3: Ð³ßí»ïáõ Å³Ù³Ý³Ï³Ñ³ïí³ÍáõÙ ³Ý³í³ñï ·áñÍ»ñÇ ÁÝ¹Ñ³Ýáõñ ÃÇíÁ | M3: ØÇçÝáñ¹áõÃÛáõÝÝ»ñáí Ï³Û³óí³Í ¹³ï³Ï³Ý ³Ïï»ñÇó µáÕáù³ñÏí³ÍÝ»ñÇ ù³Ý³ÏÁ | O3: ²Ý³í³ñï µáÕáùÝ»ñ | P3: ØÇçÝáñ¹áõÃÛáõÝÝ»ñáí Ï³Û³óí³Í ¨ µáÕáù³ñÏí³Í ¹³ï³Ï³Ý ³Ïï»ñÇó µ»Ï³Ýí³ÍÝ»ñÇ ù³Ý³ÏÁ | R3: ÙÇçÝáñ¹áõÃÛáõÝÝ»ñáí Ï³Û³óí³Í ¨ µáÕáù³ñÏí³Í ¹³ï³Ï³Ý ³Ïï»ñÇó ³Ý÷á÷áË ÃáÕÝí³ÍÝ»ñÇ ù³Ý³ÏÁ
G4: Ù»ñÅí»É ¿ | H4: µ³í³ñ³ñí»É ¿ | I4: µ³í³ñ³ñí»É ¿ Ù³ëÝ³ÏÇ | J4: ÃáÕÝí»É ¿ ³é³Ýó ùÝÝáõÃÛ³Ý | K4: ÀÝ¹³Ù»ÝÁ
M5: Ý³Ëáñ¹ ï³ñÇÝ»ñÇÝ Ï³Û³óí³Í ³Ïï»ñÇ ¹»Ù | N5: Ñ³ßí»ïáõ Å³Ù³Ý³Ï³ßñç³ÝáõÙ Ï³Û³óí³Í ³Ïï»ñÇ ¹»Ù | P5: Ý³Ëáñ¹ ï³ñÇÝ»ñÇÝ Ï³Û³óí³Í ³Ïï»ñÇ µ»Ï³ÝáõÙÝ»ñÁ | Q5: Ñ³ßí»ïáõ Å³Ù³Ý³Ï³ßñç³ÝáõÙ Ï³Û³óí³Í ³Ïï»ñÇ µ»Ï³ÝáõÙÝ»ñÁ
A6: 1. ØÇÝã¹³ï³Ï³Ý í³ñáõÛÃÇ ÝÏ³ïÙ³Ùµ ¹³ï³Ï³Ý í»ñ³ÑëÏáÕáõÃÛ³Ý áÉáñï | D6: 1 | E6: 2 | F6: 3 | G6: 4 | H6: 5 | I6: 6 | J6: 7 | K6: 8 | L6: 9 | M6: 10 | N6: 11 | O6: 12 | P6: 13 | Q6: 14 | R6: 15 | T6: 1+2=3+8+9 | V6: 8=4+5+6+7
A7: 1 | B7: Ï³É³ÝùÁ áñå»ë Ë³÷³ÝÙ³Ý ÙÇçáó ÏÇñ³é»Éáõ Ù³ëÇÝ ÙÇçÝáñ¹áõÃÛáõÝÝ»ñ | E7: 6 | H7: 6 | K7: 6 | T7: =D7+E7 -> 6 | U7: =F7+K7+L7 -> 6 | V7: =K7 -> 6 | W7: =G7+H7+I7+J7 -> 6
A8: 2 | B8: Ï³É³ÝùÇ Å³ÙÏ»ïÁ »ñÏ³ñ³óÝ»Éáõ Ù³ëÇÝ ÙÇçÝáñ¹áõÃÛáõÝÝ»ñ | D8: 1 | E8: 9 | G8: 1 | H8: 8 | K8: 9 | L8: 1 | N8: 1 | R8: 1 | T8: =D8+E8 -> 10 | U8: =F8+K8+L8 -> 10 | V8: =K8 -> 9 | W8: =G8+H8+I8+J8 -> 9
A9: 3 | B9: Ï³É³ÝùÇ í»ñ³Ñ³ëï³ïÙ³Ý Ù³ëÇÝ ÙÇçÝáñ¹áõÃÛáõÝÝ»ñ | T9: =D9+E9 -> 0 | U9: =F9+K9+L9 -> 0 | V9: =K9 -> 0 | W9: =G9+H9+I9+J9 -> 0
A10: 4 | B10: ·ñ³íÁ áñå»ë Ï³É³Ý³íáñÙ³Ý ³ÛÉÁÝïñ³Ýù³ÛÇÝ Ë³÷³ÝÙ³Ý ÙÇçáó ÏÇñ³é»Éáõ Ù³ëÇÝ ÙÇçÝáñ¹áõÃÛáõÝÝ»ñ | E10: 9 | G10: 7 | H10: 2 | K10: 9 | N10: 1 | R10: 1 | T10: =D10+E10 -> 9 | U10: =F10+K10+L10 -> 9 | V10: =K10 -> 9 | W10: =G10+H10+I10+J10 -> 9
A11: 5 | B11: Ëáõ½³ñÏáõÃÛ³Ý Ï³ï³ñÙ³Ý Ù³ëÇÝ ÙÇçÝáñ¹áõÃÛáõÝÝ»ñ | E11: 59 | G11: 5 | H11: 54 | K11: 59 | T11: =D11+E11 -> 59 | U11: =F11+K11+L11 -> 59 | V11: =K11 -> 59 | W11: =G11+H11+I11+J11 -> 59
A12: 6 | B12: µ³ÝÏ³ÛÇÝ, ³å³Ñáí³·ñ³Ï³Ý, Ýáï³ñ³Ï³Ý ·³ÕïÝÇù Ï³½ÙáÕ ï»Õ»ÏáõÃÛáõÝÝ»ñÇ ëï³óÙ³Ý Ñ³Ù³ñ Ëáõ½³ñÏáõÃÛ³Ý Ï³Ù ³é·ñ³íÙ³Ý Ï³ï³ñÙ³Ý Ù³ëÇÝ ÙÇçÝáñ¹áõÃÛáõÝÝ»ñ | E12: 1 | H12: 1 | K12: 1 | T12: =D12+E12 -> 1 | U12: =F12+K12+L12 -> 1 | V12: =K12 -> 1 | W12: =G12+H12+I12+J12 -> 1
A13: 7 | B13: Ý³Ù³Ï³·ñáõÃÛ³Ý, Ñ»é³·ñ³Ï³Ý, ÷áuï³ÛÇÝ Ñ³Õáñ¹áõÙÝ»ñÇ ÑëÏáÕáõÃÛ³Ý Ù³ëÇÝ ÙÇçÝáñ¹áõÃÛáõÝÝ»ñ | E13: 9 | H13: 9 | K13: 9 | T13: =D13+E13 -> 9 | U13: =F13+K13+L13 -> 9 | V13: =K13 -> 9 | W13: =G13+H13+I13+J13 -> 9
A14: 8 | B14: Ñ»é³Ëáu³ÛÇÝ Ï³Ù Ï³åÇ ³ÛÉ ÙÇçáóÝ»ñáí ï³ñíáÕ Ëáu³ÏóáõÃÛáõÝÝ»ñÇ ÉuÙ³Ý ¨ Ó³ÛÝ³·ñ³éÙ³Ý Ù³ëÇÝ ÙÇçÝáñ¹áõÃÛáõÝÝ»ñ | T14: =D14+E14 -> 0 | U14: =F14+K14+L14 -> 0 | V14: =K14 -> 0 | W14: =G14+H14+I14+J14 -> 0
A15: 9 | B15: Ñ»é³ËáëÝ»ñÇ Ùáõïù³ÛÇÝ ¨ »Éù³ÛÇÝ í»ñÍ³ÝÙ³Ý ÃáõÛÉïíáõÃÛáõÝ ëï³Ý³Éáõ Ù³ëÇÝ ÙÇçÝáñ¹áõÃÛáõÝÝ»ñ | E15: 41 | G15: 2 | H15: 33 | I15: 6 | K15: 41 | T15: =D15+E15 -> 41 | U15: =F15+K15+L15 -> 41 | V15: =K15 -> 41 | W15: =G15+H15+I15+J15 -> 41
A16: 10 | B16: Ñ»ï³ùÝÝáõÃÛ³Ý Ù³ñÙÝÇ ³ßË³ïáÕÇ, ùÝÝÇãÇ, ¹³ï³Ë³½Ç oå»ñ³ïÇí-Ñ»ï³Ëáõ½³Ï³Ý ·áñÍáÕáõÃÛáõÝÝ»ñ Çñ³Ï³Ý³óÝáÕ Ù³ñÙÇÝÝ»ñÇ ³ÝoñÇÝ³Ï³Ý ¨ ³ÝÑÇÙÝ áñáßáõÙÝ»ñÇ ¨ ·áñÍáÕáõÃÛáõÝÝ»ñÇ ¹»Ù µáÕáùÝ»ñ | D16: 3 | E16: 8 | G16: 5 | H16: 1 | K16: 6 | L16: 5 | N16: 4 | O16: 1 | R16: 3 | T16: =D16+E16 -> 11 | U16: =F16+K16+L16 -> 11 | V16: =K16 -> 6 | W16: =G16+H16+I16+J16 -> 6
A17: 2. ¸³ï³Ï³Ý ³Ïï»ñÇ ¨ ¹³ï³Ï³Ý Ñ³ÝÓÝ³ñ³ñáõÃÛáõÝÝ»ñÇ Ï³ï³ñÙ³Ý Ñ»ï Ï³åí³Í Ñ³ñó»ñÇ ÉáõÍÙ³Ý áÉáñï
A18: 1 | B18: å³ïÅÇó å³ÛÙ³Ý³Ï³Ý í³Õ³Å³ÙÏ»ï ³½³ï»Éáõ Ù³ëÇÝ ÙÇçÝáñ¹áõÃÛáõÝÝ»ñ | E18: 10 | G18: 4 | H18: 6 | K18: 10 | N18: 7 | O18: 7 | T18: =D18+E18 -> 10 | U18: =F18+K18+L18 -> 10 | V18: =K18 -> 10 | W18: =G18+H18+I18+J18 -> 10
A19: 2 | B19: å³ïÇÅÁ ÷á÷áË»Éáõ, Ñ»ï³Ó·»Éáõ ¨ å³ïÅÇó ³½³ï»Éáõ Ù³uÇÝ ÙÇçÝáñ¹áõÃÛáõÝÝ»ñ | D19: 2 | E19: 3 | G19: 3 | H19: 1 | I19: 1 | K19: 5 | N19: 1 | Q19: 1 | T19: =D19+E19 -> 5 | U19: =F19+K19+L19 -> 5 | V19: =K19 -> 5 | W19: =G19+H19+I19+J19 -> 5
A20: 3 | B20: Ñ³ñÏ³¹Çñ µáõÅÙ³Ý ï»ë³ÏÇ ÷á÷áËáõÃÛ³Ý Ù³ëÇÝ ÙÇçÝáñ¹áõÃÛáõÝÝ»ñ | E20: 2 | H20: 2 | K20: 2 | T20: =D20+E20 -> 2 | U20: =F20+K20+L20 -> 2 | V20: =K20 -> 2 | W20: =G20+H20+I20+J20 -> 2
A21: 4 | B21: ³ÛÉ ÙÇçÝáñ¹áõÃÛáõÝÝ»ñ | D21: 1 | E21: 10 | F21: 1 | G21: 6 | H21: 1 | J21: 2 | K21: 9 | L21: 1 | N21: 3 | O21: 3 | T21: =D21+E21 -> 11 | U21: =F21+K21+L21 -> 11 | V21: =K21 -> 9 | W21: =G21+H21+I21+J21 -> 9
A22: 5 | B22: ¹³ï³Ï³Ý Ñ³ÝÓÝ³ñ³ñáõÃÛáõÝÝ»ñ | E22: 1 | H22: 1 | K22: 1 | T22: =D22+E22 -> 1 | U22: =F22+K22+L22 -> 1 | V22: =K22 -> 1 | W22: =G22+H22+I22+J22 -> 1
A23: ÀÜ¸²ØºÜÀ | D23: =D7+D8+D9+D10+D11+D12+D13+D14+D15+D16+D18+D19+D20+D21+D22 -> 7 | E23: =E7+E8+E9+E10+E11+E12+E13+E14+E15+E16+E18+E19+E20+E21+E22 -> 168 | F23: =F7+F8+F9+F10+F11+F12+F13+F14+F15+F16+F18+F19+F20+F21+F22 -> 1 | G23: =G7+G8+G9+G10+G11+G12+G13+G14+G15+G16+G18+G19+G20+G21+G22 -> 33 | H23: =H7+H8+H9+H10+H11+H12+H13+H14+H15+H16+H18+H19+H20+H21+H22 -> 125 | I23: =I7+I8+I9+I10+I11+I12+I13+I14+I15+I16+I18+I19+I20+I21+I22 -> 7 | J23: =J7+J8+J9+J10+J11+J12+J13+J14+J15+J16+J18+J19+J20+J21+J22 -> 2 | K23: =K7+K8+K9+K10+K11+K12+K13+K14+K15+K16+K18+K19+K20+K21+K22 -> 167 | ... R23: =R7+R8+R9+R10+R11+R12+R13+R14+R15+R16+R18+R19+R20+R21+R22 -> 5 | T23: =D23+E23 -> 175 | U23: =F23+K23+L23 -> 175 | V23: =K23 -> 167 | W23: =G23+H23+I23+J23 -> 167

Sheet Վ.Մկրտչյան
A1: 2016Ã. 1-ԻՆ ԿԻՍԱՄՅԱԿ | D1: Ð²ÞìºîìàôÂÚàôÜ | P1: Ð³í»Éí³Í Ð³Û³ëï³ÝÇ Ð³Ýñ³å»ïáõÃÛ³Ý ¸³ï³ñ³ÝÝ»ñÇ Ý³Ë³·³ÑÝ»ñÇ ËáñÑñ¹Ç 25.08.2016Ã. ÃÇí 44-È áñáßÙ³Ý
A2: ØÇÝã¹³ï³Ï³Ý í³ñáõÛÃÇ ÝÏ³ïÙ³Ùµ ¹³ï³Ï³Ý í»ñ³ÑëÏáÕáõÃÛ³ÝÁ, ¹³ï³Ï³Ý ³Ïï»ñÇ ¨ ¹³ï³Ï³Ý Ñ³ÝÓÝ³ñ³ñáõÃÛáõÝÝ»ñÇ Ï³ï³ñÙ³ÝÁ Ñ»ï Ï³åí³Í ÙÇçÝáñ¹áõÃÛáõÝÝ»ñÇ í»ñ³µ»ñÛ³É ¹³ï³Ï³Ý ·áñÍ»ñáí ÐÐ Îáï³ÛùÇ Ù³ñ½Ç ÁÝ¹Ñ³Ýáõñ Çñ³í³ëáõÃÛ³Ý ³é³çÇÝ ³ïÛ³ÝÇ ¹³ï³ñ³ÝÇ ¹³ï³íáñ Վ.ՄԿՐՏՉՅԱՆԻ ·áñÍáõÝ»áõÃÛ³Ý í»ñ³µ»ñÛ³É
A3: êïáõ·Çã Ñ³í³ë³ñáõÙ` 1+2=3+8+9, 8=4+5+6+7, | D3: Ð³ßí»ïáõ Å³Ù³Ý³Ï³Ñ³ïí³ÍÇ ëÏ½µáõÙ Ý³Ëáñ¹ Ñ³ßí»ïáõ Å³Ù³Ý³Ï³Ñ³ïí³ÍÇó ÷áË³Ýóí³Í ·áñÍ»ñÇ ÁÝ¹Ñ³Ýáõñ ÃÇíÁ | E3: Ð³ßí»ïáõ Å³Ù³Ý³Ï³Ñ³ïí³ÍáõÙ ëï³óí³Í ·áñÍ»ñÇ ÁÝ¹Ñ³Ýáõñ ÃÇíÁ | F3: öáË³Ýóí»É ¿ ³ÛÉ ¹³ï³íáñÇ Ï³Ù ³ÛÉ ¹³ï³ñ³Ý (Ï³½ÙÇ ÷á÷áËáõÃÛáõÝ, ÁÝ¹¹³ïáõÃÛáõÝ) | G3: Ð³ßí»ïáõ Å³Ù³Ý³Ï³Ñ³ïí³ÍáõÙ ³í³ñïí³Í ·áñÍ»ñÇ ÁÝ¹Ñ³Ýáõñ ÃÇíÁ | L3: Ð³ßí»ïáõ Å³Ù³Ý³Ï³Ñ³ïí³ÍáõÙ ³Ý³í³ñï ·áñÍ»ñÇ ÁÝ¹Ñ³Ýáõñ ÃÇíÁ | M3: ØÇçÝáñ¹áõÃÛáõÝÝ»ñáí Ï³Û³óí³Í ¹³ï³Ï³Ý ³Ïï»ñÇó µáÕáù³ñÏí³ÍÝ»ñÇ ù³Ý³ÏÁ | O3: ²Ý³í³ñï µáÕáùÝ»ñ | P3: ØÇçÝáñ¹áõÃÛáõÝÝ»ñáí Ï³Û³óí³Í ¨ µáÕáù³ñÏí³Í ¹³ï³Ï³Ý ³Ïï»ñÇó µ»Ï³Ýí³ÍÝ»ñÇ ù³Ý³ÏÁ | R3: ÙÇçÝáñ¹áõÃÛáõÝÝ»ñáí Ï³Û³óí³Í ¨ µáÕáù³ñÏí³Í ¹³ï³Ï³Ý ³Ïï»ñÇó ³Ý÷á÷áË ÃáÕÝí³ÍÝ»ñÇ ù³Ý³ÏÁ
G4: Ù»ñÅí»É ¿ | H4: µ³í³ñ³ñí»É ¿ | I4: µ³í³ñ³ñí»É ¿ Ù³ëÝ³ÏÇ | J4: ÃáÕÝí»É ¿ ³é³Ýó ùÝÝáõÃÛ³Ý | K4: ÀÝ¹³Ù»ÝÁ
M5: Ý³Ëáñ¹ ï³ñÇÝ»ñÇÝ Ï³Û³óí³Í ³Ïï»ñÇ ¹»Ù | N5: Ñ³ßí»ïáõ Å³Ù³Ý³Ï³ßñç³ÝáõÙ Ï³Û³óí³Í ³Ïï»ñÇ ¹»Ù | P5: Ý³Ëáñ¹ ï³ñÇÝ»ñÇÝ Ï³Û³óí³Í ³Ïï»ñÇ µ»Ï³ÝáõÙÝ»ñÁ | Q5: Ñ³ßí»ïáõ Å³Ù³Ý³Ï³ßñç³ÝáõÙ Ï³Û³óí³Í ³Ïï»ñÇ µ»Ï³ÝáõÙÝ»ñÁ
A6: 1. ØÇÝã¹³ï³Ï³Ý í³ñáõÛÃÇ ÝÏ³ïÙ³Ùµ ¹³ï³Ï³Ý í»ñ³ÑëÏáÕáõÃÛ³Ý áÉáñï | D6: 1 | E6: 2 | F6: 3 | G6: 4 | H6: 5 | I6: 6 | J6: 7 | K6: 8 | L6: 9 | M6: 10 | N6: 11 | O6: 12 | P6: 13 | Q6: 14 | R6: 15 | T6: 1+2=3+8+9 | V6: 8=4+5+6+7
A7: 1 | B7: Ï³É³ÝùÁ áñå»ë Ë³÷³ÝÙ³Ý ÙÇçáó ÏÇñ³é»Éáõ Ù³ëÇÝ ÙÇçÝáñ¹áõÃÛáõÝÝ»ñ | E7: 10 | G7: 5 | H7: 5 | K7: 10 | N7: 1 | O7: 1 | T7: =D7+E7 -> 10 | U7: =F7+K7+L7 -> 10 | V7: =K7 -> 10 | W7: =G7+H7+I7+J7 -> 10
A8: 2 | B8: Ï³É³ÝùÇ Å³ÙÏ»ïÁ »ñÏ³ñ³óÝ»Éáõ Ù³ëÇÝ ÙÇçÝáñ¹áõÃÛáõÝÝ»ñ | E8: 2 | H8: 2 | K8: 2 | T8: =D8+E8 -> 2 | U8: =F8+K8+L8 -> 2 | V8: =K8 -> 2 | W8: =G8+H8+I8+J8 -> 2
A9: 3 | B9: Ï³É³ÝùÇ í»ñ³Ñ³ëï³ïÙ³Ý Ù³ëÇÝ ÙÇçÝáñ¹áõÃÛáõÝÝ»ñ | T9: =D9+E9 -> 0 | U9: =F9+K9+L9 -> 0 | V9: =K9 -> 0 | W9: =G9+H9+I9+J9 -> 0
A10: 4 | B10: ·ñ³íÁ áñå»ë Ï³É³Ý³íáñÙ³Ý ³ÛÉÁÝïñ³Ýù³ÛÇÝ Ë³÷³ÝÙ³Ý ÙÇçáó ÏÇñ³é»Éáõ Ù³ëÇÝ ÙÇçÝáñ¹áõÃÛáõÝÝ»ñ | E10: 6 | G10: 3 | H10: 3 | K10: 6 | T10: =D10+E10 -> 6 | U10: =F10+K10+L10 -> 6 | V10: =K10 -> 6 | W10: =G10+H10+I10+J10 -> 6
A11: 5 | B11: Ëáõ½³ñÏáõÃÛ³Ý Ï³ï³ñÙ³Ý Ù³ëÇÝ ÙÇçÝáñ¹áõÃÛáõÝÝ»ñ | E11: 56 | G11: 4 | H11: 52 | K11: 56 | T11: =D11+E11 -> 56 | U11: =F11+K11+L11 -> 56 | V11: =K11 -> 56 | W11: =G11+H11+I11+J11 -> 56
A12: 6 | B12: µ³ÝÏ³ÛÇÝ, ³å³Ñáí³·ñ³Ï³Ý, Ýáï³ñ³Ï³Ý ·³ÕïÝÇù Ï³½ÙáÕ ï»Õ»ÏáõÃÛáõÝÝ»ñÇ ëï³óÙ³Ý Ñ³Ù³ñ Ëáõ½³ñÏáõÃÛ³Ý Ï³Ù ³é·ñ³íÙ³Ý Ï³ï³ñÙ³Ý Ù³ëÇÝ ÙÇçÝáñ¹áõÃÛáõÝÝ»ñ | T12: =D12+E12 -> 0 | U12: =F12+K12+L12 -> 0 | V12: =K12 -> 0 | W12: =G12+H12+I12+J12 -> 0
A13: 7 | B13: Ý³Ù³Ï³·ñáõÃÛ³Ý, Ñ»é³·ñ³Ï³Ý, ÷áuï³ÛÇÝ Ñ³Õáñ¹áõÙÝ»ñÇ ÑëÏáÕáõÃÛ³Ý Ù³ëÇÝ ÙÇçÝáñ¹áõÃÛáõÝÝ»ñ | E13: 7 | H13: 7 | K13: 7 | T13: =D13+E13 -> 7 | U13: =F13+K13+L13 -> 7 | V13: =K13 -> 7 | W13: =G13+H13+I13+J13 -> 7
A14: 8 | B14: Ñ»é³Ëáu³ÛÇÝ Ï³Ù Ï³åÇ ³ÛÉ ÙÇçáóÝ»ñáí ï³ñíáÕ Ëáu³ÏóáõÃÛáõÝÝ»ñÇ ÉuÙ³Ý ¨ Ó³ÛÝ³·ñ³éÙ³Ý Ù³ëÇÝ ÙÇçÝáñ¹áõÃÛáõÝÝ»ñ | T14: =D14+E14 -> 0 | U14: =F14+K14+L14 -> 0 | V14: =K14 -> 0 | W14: =G14+H14+I14+J14 -> 0
A15: 9 | B15: Ñ»é³ËáëÝ»ñÇ Ùáõïù³ÛÇÝ ¨ »Éù³ÛÇÝ í»ñÍ³ÝÙ³Ý ÃáõÛÉïíáõÃÛáõÝ ëï³Ý³Éáõ Ù³ëÇÝ ÙÇçÝáñ¹áõÃÛáõÝÝ»ñ | E15: 37 | G15: 4 | H15: 20 | I15: 13 | K15: 37 | T15: =D15+E15 -> 37 | U15: =F15+K15+L15 -> 37 | V15: =K15 -> 37 | W15: =G15+H15+I15+J15 -> 37
A16: 10 | B16: Ñ»ï³ùÝÝáõÃÛ³Ý Ù³ñÙÝÇ ³ßË³ïáÕÇ, ùÝÝÇãÇ, ¹³ï³Ë³½Ç oå»ñ³ïÇí-Ñ»ï³Ëáõ½³Ï³Ý ·áñÍáÕáõÃÛáõÝÝ»ñ Çñ³Ï³Ý³óÝáÕ Ù³ñÙÇÝÝ»ñÇ ³ÝoñÇÝ³Ï³Ý ¨ ³ÝÑÇÙÝ áñáßáõÙÝ»ñÇ ¨ ·áñÍáÕáõÃÛáõÝÝ»ñÇ ¹»Ù µáÕáùÝ»ñ | D16: 1 | E16: 10 | G16: 2 | H16: 1 | J16: 2 | K16: 5 | L16: 5 | N16: 2 | O16: 1 | Q16: 1 | T16: =D16+E16 -> 11 | U16: =F16+K16+L16 -> 10 | V16: =K16 -> 5 | W16: =G16+H16+I16+J16 -> 5
A17: 2. ¸³ï³Ï³Ý ³Ïï»ñÇ ¨ ¹³ï³Ï³Ý Ñ³ÝÓÝ³ñ³ñáõÃÛáõÝÝ»ñÇ Ï³ï³ñÙ³Ý Ñ»ï Ï³åí³Í Ñ³ñó»ñÇ ÉáõÍÙ³Ý áÉáñï
A18: 1 | B18: å³ïÅÇó å³ÛÙ³Ý³Ï³Ý í³Õ³Å³ÙÏ»ï ³½³ï»Éáõ Ù³ëÇÝ ÙÇçÝáñ¹áõÃÛáõÝÝ»ñ | E18: 3 | H18: 2 | J18: 1 | K18: 3 | N18: 1 | O18: 1 | T18: =D18+E18 -> 3 | U18: =F18+K18+L18 -> 3 | V18: =K18 -> 3 | W18: =G18+H18+I18+J18 -> 3
A19: 2 | B19: å³ïÇÅÁ ÷á÷áË»Éáõ, Ñ»ï³Ó·»Éáõ ¨ å³ïÅÇó ³½³ï»Éáõ Ù³uÇÝ ÙÇçÝáñ¹áõÃÛáõÝÝ»ñ | D19: 4 | E19: 3 | G19: 1 | H19: 2 | K19: 3 | L19: 4 | T19: =D19+E19 -> 7 | U19: =F19+K19+L19 -> 7 | V19: =K19 -> 3 | W19: =G19+H19+I19+J19 -> 3
A20: 3 | B20: Ñ³ñÏ³¹Çñ µáõÅÙ³Ý ï»ë³ÏÇ ÷á÷áËáõÃÛ³Ý Ù³ëÇÝ ÙÇçÝáñ¹áõÃÛáõÝÝ»ñ | E20: 1 | H20: 1 | K20: 1 | T20: =D20+E20 -> 1 | U20: =F20+K20+L20 -> 1 | V20: =K20 -> 1 | W20: =G20+H20+I20+J20 -> 1
A21: 4 | B21: ³ÛÉ ÙÇçÝáñ¹áõÃÛáõÝÝ»ñ | D21: 2 | E21: 7 | G21: 7 | J21: 1 | K21: 8 | L21: 1 | M21: 2 | N21: 2 | O21: 2 | R21: 2 | T21: =D21+E21 -> 9 | U21: =F21+K21+L21 -> 9 | V21: =K21 -> 8 | W21: =G21+H21+I21+J21 -> 8
A22: 5 | B22: ¹³ï³Ï³Ý Ñ³ÝÓÝ³ñ³ñáõÃÛáõÝÝ»ñ | T22: =D22+E22 -> 0 | U22: =F22+K22+L22 -> 0 | V22: =K22 -> 0 | W22: =G22+H22+I22+J22 -> 0
A23: ÀÜ¸²ØºÜÀ | D23: =D7+D8+D9+D10+D11+D12+D13+D14+D15+D16+D18+D19+D20+D21+D22 -> 7 | E23: =E7+E8+E9+E10+E11+E12+E13+E14+E15+E16+E18+E19+E20+E21+E22 -> 142 | F23: =F7+F8+F9+F10+F11+F12+F13+F14+F15+F16+F18+F19+F20+F21+F22 -> 0 | G23: =G7+G8+G9+G10+G11+G12+G13+G14+G15+G16+G18+G19+G20+G21+G22 -> 26 | H23: =H7+H8+H9+H10+H11+H12+H13+H14+H15+H16+H18+H19+H20+H21+H22 -> 95 | I23: =I7+I8+I9+I10+I11+I12+I13+I14+I15+I16+I18+I19+I20+I21+I22 -> 13 | J23: =J7+J8+J9+J10+J11+J12+J13+J14+J15+J16+J18+J19+J20+J21+J22 -> 4 | K23: =K7+K8+K9+K10+K11+K12+K13+K14+K15+K16+K18+K19+K20+K21+K22 -> 138 | ... R23: =R7+R8+R9+R10+R11+R12+R13+R14+R15+R16+R18+R19+R20+R21+R22 -> 2 | T23: =D23+E23 -> 149 | U23: =F23+K23+L23 -> 148 | V23: =K23 -> 138 | W23: =G23+H23+I23+J23 -> 138

Sheet Ն.Գալստյան
A1: 2016Ã. 1-ԻՆ ԿԻՍԱՄՅԱԿ | D1: Ð²ÞìºîìàôÂÚàôÜ | P1: Ð³í»Éí³Í Ð³Û³ëï³ÝÇ Ð³Ýñ³å»ïáõÃÛ³Ý ¸³ï³ñ³ÝÝ»ñÇ Ý³Ë³·³ÑÝ»ñÇ ËáñÑñ¹Ç 25.08.2016Ã. ÃÇí 44-È áñáßÙ³Ý
A2: ØÇÝã¹³ï³Ï³Ý í³ñáõÛÃÇ ÝÏ³ïÙ³Ùµ ¹³ï³Ï³Ý í»ñ³ÑëÏáÕáõÃÛ³ÝÁ, ¹³ï³Ï³Ý ³Ïï»ñÇ ¨ ¹³ï³Ï³Ý Ñ³ÝÓÝ³ñ³ñáõÃÛáõÝÝ»ñÇ Ï³ï³ñÙ³ÝÁ Ñ»ï Ï³åí³Í ÙÇçÝáñ¹áõÃÛáõÝÝ»ñÇ í»ñ³µ»ñÛ³É ¹³ï³Ï³Ý ·áñÍ»ñáí ÐÐ Îáï³ÛùÇ Ù³ñ½Ç ÁÝ¹Ñ³Ýáõñ Çñ³í³ëáõÃÛ³Ý ³é³çÇÝ ³ïÛ³ÝÇ ¹³ï³ñ³ÝÇ ¹³ï³íáñ Ն. ԳԱԼՍՏՅԱՆԻ ·áñÍáõÝ»áõÃÛ³Ý í»ñ³µ»ñÛ³É
A3: êïáõ·Çã Ñ³í³ë³ñáõÙ` 1+2=3+8+9, 8=4+5+6+7, | D3: Ð³ßí»ïáõ Å³Ù³Ý³Ï³Ñ³ïí³ÍÇ ëÏ½µáõÙ Ý³Ëáñ¹ Ñ³ßí»ïáõ Å³Ù³Ý³Ï³Ñ³ïí³ÍÇó ÷áË³Ýóí³Í ·áñÍ»ñÇ ÁÝ¹Ñ³Ýáõñ ÃÇíÁ | E3: Ð³ßí»ïáõ Å³Ù³Ý³Ï³Ñ³ïí³ÍáõÙ ëï³óí³Í ·áñÍ»ñÇ ÁÝ¹Ñ³Ýáõñ ÃÇíÁ | F3: öáË³Ýóí»É ¿ ³ÛÉ ¹³ï³íáñÇ Ï³Ù ³ÛÉ ¹³ï³ñ³Ý (Ï³½ÙÇ ÷á÷áËáõÃÛáõÝ, ÁÝ¹¹³ïáõÃÛáõÝ) | G3: Ð³ßí»ïáõ Å³Ù³Ý³Ï³Ñ³ïí³ÍáõÙ ³í³ñïí³Í ·áñÍ»ñÇ ÁÝ¹Ñ³Ýáõñ ÃÇíÁ | L3: Ð³ßí»ïáõ Å³Ù³Ý³Ï³Ñ³ïí³ÍáõÙ ³Ý³í³ñï ·áñÍ»ñÇ ÁÝ¹Ñ³Ýáõñ ÃÇíÁ | M3: ØÇçÝáñ¹áõÃÛáõÝÝ»ñáí Ï³Û³óí³Í ¹³ï³Ï³Ý ³Ïï»ñÇó µáÕáù³ñÏí³ÍÝ»ñÇ ù³Ý³ÏÁ | O3: ²Ý³í³ñï µáÕáùÝ»ñ | P3: ØÇçÝáñ¹áõÃÛáõÝÝ»ñáí Ï³Û³óí³Í ¨ µáÕáù³ñÏí³Í ¹³ï³Ï³Ý ³Ïï»ñÇó µ»Ï³Ýí³ÍÝ»ñÇ ù³Ý³ÏÁ | R3: ÙÇçÝáñ¹áõÃÛáõÝÝ»ñáí Ï³Û³óí³Í ¨ µáÕáù³ñÏí³Í ¹³ï³Ï³Ý ³Ïï»ñÇó ³Ý÷á÷áË ÃáÕÝí³ÍÝ»ñÇ ù³Ý³ÏÁ
G4: Ù»ñÅí»É ¿ | H4: µ³í³ñ³ñí»É ¿ | I4: µ³í³ñ³ñí»É ¿ Ù³ëÝ³ÏÇ | J4: ÃáÕÝí»É ¿ ³é³Ýó ùÝÝáõÃÛ³Ý | K4: ÀÝ¹³Ù»ÝÁ
M5: Ý³Ëáñ¹ ï³ñÇÝ»ñÇÝ Ï³Û³óí³Í ³Ïï»ñÇ ¹»Ù | N5: Ñ³ßí»ïáõ Å³Ù³Ý³Ï³ßñç³ÝáõÙ Ï³Û³óí³Í ³Ïï»ñÇ ¹»Ù | P5: Ý³Ëáñ¹ ï³ñÇÝ»ñÇÝ Ï³Û³óí³Í ³Ïï»ñÇ µ»Ï³ÝáõÙÝ»ñÁ | Q5: Ñ³ßí»ïáõ Å³Ù³Ý³Ï³ßñç³ÝáõÙ Ï³Û³óí³Í ³Ïï»ñÇ µ»Ï³ÝáõÙÝ»ñÁ
A6: 1. ØÇÝã¹³ï³Ï³Ý í³ñáõÛÃÇ ÝÏ³ïÙ³Ùµ ¹³ï³Ï³Ý í»ñ³ÑëÏáÕáõÃÛ³Ý áÉáñï | D6: 1 | E6: 2 | F6: 3 | G6: 4 | H6: 5 | I6: 6 | J6: 7 | K6: 8 | L6: 9 | M6: 10 | N6: 11 | O6: 12 | P6: 13 | Q6: 14 | R6: 15 | T6: 1+2=3+8+9 | V6: 8=4+5+6+7
A7: 1 | B7: Ï³É³ÝùÁ áñå»ë Ë³÷³ÝÙ³Ý ÙÇçáó ÏÇñ³é»Éáõ Ù³ëÇÝ ÙÇçÝáñ¹áõÃÛáõÝÝ»ñ | E7: 1 | H7: 1 | K7: 1 | T7: =D7+E7 -> 1 | U7: =F7+K7+L7 -> 1 | V7: =K7 -> 1 | W7: =G7+H7+I7+J7 -> 1
A8: 2 | B8: Ï³É³ÝùÇ Å³ÙÏ»ïÁ »ñÏ³ñ³óÝ»Éáõ Ù³ëÇÝ ÙÇçÝáñ¹áõÃÛáõÝÝ»ñ | T8: =D8+E8 -> 0 | U8: =F8+K8+L8 -> 0 | V8: =K8 -> 0 | W8: =G8+H8+I8+J8 -> 0
A9: 3 | B9: Ï³É³ÝùÇ í»ñ³Ñ³ëï³ïÙ³Ý Ù³ëÇÝ ÙÇçÝáñ¹áõÃÛáõÝÝ»ñ | T9: =D9+E9 -> 0 | U9: =F9+K9+L9 -> 0 | V9: =K9 -> 0 | W9: =G9+H9+I9+J9 -> 0
A10: 4 | B10: ·ñ³íÁ áñå»ë Ï³É³Ý³íáñÙ³Ý ³ÛÉÁÝïñ³Ýù³ÛÇÝ Ë³÷³ÝÙ³Ý ÙÇçáó ÏÇñ³é»Éáõ Ù³ëÇÝ ÙÇçÝáñ¹áõÃÛáõÝÝ»ñ | T10: =D10+E10 -> 0 | U10: =F10+K10+L10 -> 0 | V10: =K10 -> 0 | W10: =G10+H10+I10+J10 -> 0
A11: 5 | B11: Ëáõ½³ñÏáõÃÛ³Ý Ï³ï³ñÙ³Ý Ù³ëÇÝ ÙÇçÝáñ¹áõÃÛáõÝÝ»ñ | E11: 5 | H11: 5 | K11: 5 | T11: =D11+E11 -> 5 | U11: =F11+K11+L11 -> 5 | V11: =K11 -> 5 | W11: =G11+H11+I11+J11 -> 5
A12: 6 | B12: µ³ÝÏ³ÛÇÝ, ³å³Ñáí³·ñ³Ï³Ý, Ýáï³ñ³Ï³Ý ·³ÕïÝÇù Ï³½ÙáÕ ï»Õ»ÏáõÃÛáõÝÝ»ñÇ ëï³óÙ³Ý Ñ³Ù³ñ Ëáõ½³ñÏáõÃÛ³Ý Ï³Ù ³é·ñ³íÙ³Ý Ï³ï³ñÙ³Ý Ù³ëÇÝ ÙÇçÝáñ¹áõÃÛáõÝÝ»ñ | T12: =D12+E12 -> 0 | U12: =F12+K12+L12 -> 0 | V12: =K12 -> 0 | W12: =G12+H12+I12+J12 -> 0
A13: 7 | B13: Ý³Ù³Ï³·ñáõÃÛ³Ý, Ñ»é³·ñ³Ï³Ý, ÷áuï³ÛÇÝ Ñ³Õáñ¹áõÙÝ»ñÇ ÑëÏáÕáõÃÛ³Ý Ù³ëÇÝ ÙÇçÝáñ¹áõÃÛáõÝÝ»ñ | E13: 1 | H13: 1 | K13: 1 | T13: =D13+E13 -> 1 | U13: =F13+K13+L13 -> 1 | V13: =K13 -> 1 | W13: =G13+H13+I13+J13 -> 1
A14: 8 | B14: Ñ»é³Ëáu³ÛÇÝ Ï³Ù Ï³åÇ ³ÛÉ ÙÇçáóÝ»ñáí ï³ñíáÕ Ëáu³ÏóáõÃÛáõÝÝ»ñÇ ÉuÙ³Ý ¨ Ó³ÛÝ³·ñ³éÙ³Ý Ù³ëÇÝ ÙÇçÝáñ¹áõÃÛáõÝÝ»ñ | T14: =D14+E14 -> 0 | U14: =F14+K14+L14 -> 0 | V14: =K14 -> 0 | W14: =G14+H14+I14+J14 -> 0
A15: 9 | B15: Ñ»é³ËáëÝ»ñÇ Ùáõïù³ÛÇÝ ¨ »Éù³ÛÇÝ í»ñÍ³ÝÙ³Ý ÃáõÛÉïíáõÃÛáõÝ ëï³Ý³Éáõ Ù³ëÇÝ ÙÇçÝáñ¹áõÃÛáõÝÝ»ñ | E15: 1 | H15: 1 | K15: 1 | T15: =D15+E15 -> 1 | U15: =F15+K15+L15 -> 1 | V15: =K15 -> 1 | W15: =G15+H15+I15+J15 -> 1
A16: 10 | B16: Ñ»ï³ùÝÝáõÃÛ³Ý Ù³ñÙÝÇ ³ßË³ïáÕÇ, ùÝÝÇãÇ, ¹³ï³Ë³½Ç oå»ñ³ïÇí-Ñ»ï³Ëáõ½³Ï³Ý ·áñÍáÕáõÃÛáõÝÝ»ñ Çñ³Ï³Ý³óÝáÕ Ù³ñÙÇÝÝ»ñÇ ³ÝoñÇÝ³Ï³Ý ¨ ³ÝÑÇÙÝ áñáßáõÙÝ»ñÇ ¨ ·áñÍáÕáõÃÛáõÝÝ»ñÇ ¹»Ù µáÕáùÝ»ñ | T16: =D16+E16 -> 0 | U16: =F16+K16+L16 -> 0 | V16: =K16 -> 0 | W16: =G16+H16+I16+J16 -> 0
A17: 2. ¸³ï³Ï³Ý ³Ïï»ñÇ ¨ ¹³ï³Ï³Ý Ñ³ÝÓÝ³ñ³ñáõÃÛáõÝÝ»ñÇ Ï³ï³ñÙ³Ý Ñ»ï Ï³åí³Í Ñ³ñó»ñÇ ÉáõÍÙ³Ý áÉáñï
A18: 1 | B18: å³ïÅÇó å³ÛÙ³Ý³Ï³Ý í³Õ³Å³ÙÏ»ï ³½³ï»Éáõ Ù³ëÇÝ ÙÇçÝáñ¹áõÃÛáõÝÝ»ñ | T18: =D18+E18 -> 0 | U18: =F18+K18+L18 -> 0 | V18: =K18 -> 0 | W18: =G18+H18+I18+J18 -> 0
A19: 2 | B19: å³ïÇÅÁ ÷á÷áË»Éáõ, Ñ»ï³Ó·»Éáõ ¨ å³ïÅÇó ³½³ï»Éáõ Ù³uÇÝ ÙÇçÝáñ¹áõÃÛáõÝÝ»ñ | T19: =D19+E19 -> 0 | U19: =F19+K19+L19 -> 0 | V19: =K19 -> 0 | W19: =G19+H19+I19+J19 -> 0
A20: 3 | B20: Ñ³ñÏ³¹Çñ µáõÅÙ³Ý ï»ë³ÏÇ ÷á÷áËáõÃÛ³Ý Ù³ëÇÝ ÙÇçÝáñ¹áõÃÛáõÝÝ»ñ | T20: =D20+E20 -> 0 | U20: =F20+K20+L20 -> 0 | V20: =K20 -> 0 | W20: =G20+H20+I20+J20 -> 0
A21: 4 | B21: ³ÛÉ ÙÇçÝáñ¹áõÃÛáõÝÝ»ñ | T21: =D21+E21 -> 0 | U21: =F21+K21+L21 -> 0 | V21: =K21 -> 0 | W21: =G21+H21+I21+J21 -> 0
A22: 5 | B22: ¹³ï³Ï³Ý Ñ³ÝÓÝ³ñ³ñáõÃÛáõÝÝ»ñ | D22: 2 | H22: 1 | K22: 1 | T22: =D22+E22 -> 2 | U22: =F22+K22+L22 -> 1 | V22: =K22 -> 1 | W22: =G22+H22+I22+J22 -> 1
A23: ÀÜ¸²ØºÜÀ | D23: =D7+D8+D9+D10+D11+D12+D13+D14+D15+D16+D18+D19+D20+D21+D22 -> 2 | E23: =E7+E8+E9+E10+E11+E12+E13+E14+E15+E16+E18+E19+E20+E21+E22 -> 8 | F23: =F7+F8+F9+F10+F11+F12+F13+F14+F15+F16+F18+F19+F20+F21+F22 -> 0 | G23: =G7+G8+G9+G10+G11+G12+G13+G14+G15+G16+G18+G19+G20+G21+G22 -> 0 | H23: =H7+H8+H9+H10+H11+H12+H13+H14+H15+H16+H18+H19+H20+H21+H22 -> 9 | I23: =I7+I8+I9+I10+I11+I12+I13+I14+I15+I16+I18+I19+I20+I21+I22 -> 0 | J23: =J7+J8+J9+J10+J11+J12+J13+J14+J15+J16+J18+J19+J20+J21+J22 -> 0 | K23: =K7+K8+K9+K10+K11+K12+K13+K14+K15+K16+K18+K19+K20+K21+K22 -> 9 | ... R23: =R7+R8+R9+R10+R11+R12+R13+R14+R15+R16+R18+R19+R20+R21+R22 -> 0 | T23: =D23+E23 -> 10 | U23: =F23+K23+L23 -> 9 | V23: =K23 -> 9 | W23: =G23+H23+I23+J23 -> 9

Sheet Մ.Պապոյան
A1: 2016Ã. 1-ԻՆ ԿԻՍԱՄՅԱԿ | D1: Ð²ÞìºîìàôÂÚàôÜ | P1: Ð³í»Éí³Í Ð³Û³ëï³ÝÇ Ð³Ýñ³å»ïáõÃÛ³Ý ¸³ï³ñ³ÝÝ»ñÇ Ý³Ë³·³ÑÝ»ñÇ ËáñÑñ¹Ç 25.08.2016Ã. ÃÇí 44-È áñáßÙ³Ý
A2: ØÇÝã¹³ï³Ï³Ý í³ñáõÛÃÇ ÝÏ³ïÙ³Ùµ ¹³ï³Ï³Ý í»ñ³ÑëÏáÕáõÃÛ³ÝÁ, ¹³ï³Ï³Ý ³Ïï»ñÇ ¨ ¹³ï³Ï³Ý Ñ³ÝÓÝ³ñ³ñáõÃÛáõÝÝ»ñÇ Ï³ï³ñÙ³ÝÁ Ñ»ï Ï³åí³Í ÙÇçÝáñ¹áõÃÛáõÝÝ»ñÇ í»ñ³µ»ñÛ³É ¹³ï³Ï³Ý ·áñÍ»ñáí ÐÐ Îáï³ÛùÇ Ù³ñ½Ç ÁÝ¹Ñ³Ýáõñ Çñ³í³ëáõÃÛ³Ý ³é³çÇÝ ³ïÛ³ÝÇ ¹³ï³ñ³ÝÇ ¹³ï³íáñ Մ.ՊԱՊՈՅԱՆԻ ·áñÍáõÝ»áõÃÛ³Ý í»ñ³µ»ñÛ³É
A3: êïáõ·Çã Ñ³í³ë³ñáõÙ` 1+2=3+8+9, 8=4+5+6+7, | D3: Ð³ßí»ïáõ Å³Ù³Ý³Ï³Ñ³ïí³ÍÇ ëÏ½µáõÙ Ý³Ëáñ¹ Ñ³ßí»ïáõ Å³Ù³Ý³Ï³Ñ³ïí³ÍÇó ÷áË³Ýóí³Í ·áñÍ»ñÇ ÁÝ¹Ñ³Ýáõñ ÃÇíÁ | E3: Ð³ßí»ïáõ Å³Ù³Ý³Ï³Ñ³ïí³ÍáõÙ ëï³óí³Í ·áñÍ»ñÇ ÁÝ¹Ñ³Ýáõñ ÃÇíÁ | F3: öáË³Ýóí»É ¿ ³ÛÉ ¹³ï³íáñÇ Ï³Ù ³ÛÉ ¹³ï³ñ³Ý (Ï³½ÙÇ ÷á÷áËáõÃÛáõÝ, ÁÝ¹¹³ïáõÃÛáõÝ) | G3: Ð³ßí»ïáõ Å³Ù³Ý³Ï³Ñ³ïí³ÍáõÙ ³í³ñïí³Í ·áñÍ»ñÇ ÁÝ¹Ñ³Ýáõñ ÃÇíÁ | L3: Ð³ßí»ïáõ Å³Ù³Ý³Ï³Ñ³ïí³ÍáõÙ ³Ý³í³ñï ·áñÍ»ñÇ ÁÝ¹Ñ³Ýáõñ ÃÇíÁ | M3: ØÇçÝáñ¹áõÃÛáõÝÝ»ñáí Ï³Û³óí³Í ¹³ï³Ï³Ý ³Ïï»ñÇó µáÕáù³ñÏí³ÍÝ»ñÇ ù³Ý³ÏÁ | O3: ²Ý³í³ñï µáÕáùÝ»ñ | P3: ØÇçÝáñ¹áõÃÛáõÝÝ»ñáí Ï³Û³óí³Í ¨ µáÕáù³ñÏí³Í ¹³ï³Ï³Ý ³Ïï»ñÇó µ»Ï³Ýí³ÍÝ»ñÇ ù³Ý³ÏÁ | R3: ÙÇçÝáñ¹áõÃÛáõÝÝ»ñáí Ï³Û³óí³Í ¨ µáÕáù³ñÏí³Í ¹³ï³Ï³Ý ³Ïï»ñÇó ³Ý÷á÷áË ÃáÕÝí³ÍÝ»ñÇ ù³Ý³ÏÁ
G4: Ù»ñÅí»É ¿ | H4: µ³í³ñ³ñí»É ¿ | I4: µ³í³ñ³ñí»É ¿ Ù³ëÝ³ÏÇ | J4: ÃáÕÝí»É ¿ ³é³Ýó ùÝÝáõÃÛ³Ý | K4: ÀÝ¹³Ù»ÝÁ
M5: Ý³Ëáñ¹ ï³ñÇÝ»ñÇÝ Ï³Û³óí³Í ³Ïï»ñÇ ¹»Ù | N5: Ñ³ßí»ïáõ Å³Ù³Ý³Ï³ßñç³ÝáõÙ Ï³Û³óí³Í ³Ïï»ñÇ ¹»Ù | P5: Ý³Ëáñ¹ ï³ñÇÝ»ñÇÝ Ï³Û³óí³Í ³Ïï»ñÇ µ»Ï³ÝáõÙÝ»ñÁ | Q5: Ñ³ßí»ïáõ Å³Ù³Ý³Ï³ßñç³ÝáõÙ Ï³Û³óí³Í ³Ïï»ñÇ µ»Ï³ÝáõÙÝ»ñÁ
A6: 1. ØÇÝã¹³ï³Ï³Ý í³ñáõÛÃÇ ÝÏ³ïÙ³Ùµ ¹³ï³Ï³Ý í»ñ³ÑëÏáÕáõÃÛ³Ý áÉáñï | D6: 1 | E6: 2 | F6: 3 | G6: 4 | H6: 5 | I6: 6 | J6: 7 | K6: 8 | L6: 9 | M6: 10 | N6: 11 | O6: 12 | P6: 13 | Q6: 14 | R6: 15 | T6: 1+2=3+8+9 | V6: 8=4+5+6+7
A7: 1 | B7: Ï³É³ÝùÁ áñå»ë Ë³÷³ÝÙ³Ý ÙÇçáó ÏÇñ³é»Éáõ Ù³ëÇÝ ÙÇçÝáñ¹áõÃÛáõÝÝ»ñ | E7: 2 | H7: 2 | K7: 2 | N7: 1 | R7: 1 | T7: =D7+E7 -> 2 | U7: =F7+K7+L7 -> 2 | V7: =K7 -> 2 | W7: =G7+H7+I7+J7 -> 2
A8: 2 | B8: Ï³É³ÝùÇ Å³ÙÏ»ïÁ »ñÏ³ñ³óÝ»Éáõ Ù³ëÇÝ ÙÇçÝáñ¹áõÃÛáõÝÝ»ñ | E8: 2 | H8: 2 | K8: 2 | T8: =D8+E8 -> 2 | U8: =F8+K8+L8 -> 2 | V8: =K8 -> 2 | W8: =G8+H8+I8+J8 -> 2
A9: 3 | B9: Ï³É³ÝùÇ í»ñ³Ñ³ëï³ïÙ³Ý Ù³ëÇÝ ÙÇçÝáñ¹áõÃÛáõÝÝ»ñ | T9: =D9+E9 -> 0 | U9: =F9+K9+L9 -> 0 | V9: =K9 -> 0 | W9: =G9+H9+I9+J9 -> 0
A10: 4 | B10: ·ñ³íÁ áñå»ë Ï³É³Ý³íáñÙ³Ý ³ÛÉÁÝïñ³Ýù³ÛÇÝ Ë³÷³ÝÙ³Ý ÙÇçáó ÏÇñ³é»Éáõ Ù³ëÇÝ ÙÇçÝáñ¹áõÃÛáõÝÝ»ñ | T10: =D10+E10 -> 0 | U10: =F10+K10+L10 -> 0 | V10: =K10 -> 0 | W10: =G10+H10+I10+J10 -> 0
A11: 5 | B11: Ëáõ½³ñÏáõÃÛ³Ý Ï³ï³ñÙ³Ý Ù³ëÇÝ ÙÇçÝáñ¹áõÃÛáõÝÝ»ñ | E11: 6 | G11: 1 | H11: 5 | K11: 6 | T11: =D11+E11 -> 6 | U11: =F11+K11+L11 -> 6 | V11: =K11 -> 6 | W11: =G11+H11+I11+J11 -> 6
A12: 6 | B12: µ³ÝÏ³ÛÇÝ, ³å³Ñáí³·ñ³Ï³Ý, Ýáï³ñ³Ï³Ý ·³ÕïÝÇù Ï³½ÙáÕ ï»Õ»ÏáõÃÛáõÝÝ»ñÇ ëï³óÙ³Ý Ñ³Ù³ñ Ëáõ½³ñÏáõÃÛ³Ý Ï³Ù ³é·ñ³íÙ³Ý Ï³ï³ñÙ³Ý Ù³ëÇÝ ÙÇçÝáñ¹áõÃÛáõÝÝ»ñ | E12: 2 | H12: 2 | K12: 2 | T12: =D12+E12 -> 2 | U12: =F12+K12+L12 -> 2 | V12: =K12 -> 2 | W12: =G12+H12+I12+J12 -> 2
A13: 7 | B13: Ý³Ù³Ï³·ñáõÃÛ³Ý, Ñ»é³·ñ³Ï³Ý, ÷áuï³ÛÇÝ Ñ³Õáñ¹áõÙÝ»ñÇ ÑëÏáÕáõÃÛ³Ý Ù³ëÇÝ ÙÇçÝáñ¹áõÃÛáõÝÝ»ñ | E13: 2 | H13: 2 | K13: 2 | T13: =D13+E13 -> 2 | U13: =F13+K13+L13 -> 2 | V13: =K13 -> 2 | W13: =G13+H13+I13+J13 -> 2
A14: 8 | B14: Ñ»é³Ëáu³ÛÇÝ Ï³Ù Ï³åÇ ³ÛÉ ÙÇçáóÝ»ñáí ï³ñíáÕ Ëáu³ÏóáõÃÛáõÝÝ»ñÇ ÉuÙ³Ý ¨ Ó³ÛÝ³·ñ³éÙ³Ý Ù³ëÇÝ ÙÇçÝáñ¹áõÃÛáõÝÝ»ñ | T14: =D14+E14 -> 0 | U14: =F14+K14+L14 -> 0 | V14: =K14 -> 0 | W14: =G14+H14+I14+J14 -> 0
A15: 9 | B15: Ñ»é³ËáëÝ»ñÇ Ùáõïù³ÛÇÝ ¨ »Éù³ÛÇÝ í»ñÍ³ÝÙ³Ý ÃáõÛÉïíáõÃÛáõÝ ëï³Ý³Éáõ Ù³ëÇÝ ÙÇçÝáñ¹áõÃÛáõÝÝ»ñ | E15: 14 | H15: 14 | K15: 14 | T15: =D15+E15 -> 14 | U15: =F15+K15+L15 -> 14 | V15: =K15 -> 14 | W15: =G15+H15+I15+J15 -> 14
A16: 10 | B16: Ñ»ï³ùÝÝáõÃÛ³Ý Ù³ñÙÝÇ ³ßË³ïáÕÇ, ùÝÝÇãÇ, ¹³ï³Ë³½Ç oå»ñ³ïÇí-Ñ»ï³Ëáõ½³Ï³Ý ·áñÍáÕáõÃÛáõÝÝ»ñ Çñ³Ï³Ý³óÝáÕ Ù³ñÙÇÝÝ»ñÇ ³ÝoñÇÝ³Ï³Ý ¨ ³ÝÑÇÙÝ áñáßáõÙÝ»ñÇ ¨ ·áñÍáÕáõÃÛáõÝÝ»ñÇ ¹»Ù µáÕáùÝ»ñ | T16: =D16+E16 -> 0 | U16: =F16+K16+L16 -> 0 | V16: =K16 -> 0 | W16: =G16+H16+I16+J16 -> 0
A17: 2. ¸³ï³Ï³Ý ³Ïï»ñÇ ¨ ¹³ï³Ï³Ý Ñ³ÝÓÝ³ñ³ñáõÃÛáõÝÝ»ñÇ Ï³ï³ñÙ³Ý Ñ»ï Ï³åí³Í Ñ³ñó»ñÇ ÉáõÍÙ³Ý áÉáñï
A18: 1 | B18: å³ïÅÇó å³ÛÙ³Ý³Ï³Ý í³Õ³Å³ÙÏ»ï ³½³ï»Éáõ Ù³ëÇÝ ÙÇçÝáñ¹áõÃÛáõÝÝ»ñ | T18: =D18+E18 -> 0 | U18: =F18+K18+L18 -> 0 | V18: =K18 -> 0 | W18: =G18+H18+I18+J18 -> 0
A19: 2 | B19: å³ïÇÅÁ ÷á÷áË»Éáõ, Ñ»ï³Ó·»Éáõ ¨ å³ïÅÇó ³½³ï»Éáõ Ù³uÇÝ ÙÇçÝáñ¹áõÃÛáõÝÝ»ñ | T19: =D19+E19 -> 0 | U19: =F19+K19+L19 -> 0 | V19: =K19 -> 0 | W19: =G19+H19+I19+J19 -> 0
A20: 3 | B20: Ñ³ñÏ³¹Çñ µáõÅÙ³Ý ï»ë³ÏÇ ÷á÷áËáõÃÛ³Ý Ù³ëÇÝ ÙÇçÝáñ¹áõÃÛáõÝÝ»ñ | T20: =D20+E20 -> 0 | U20: =F20+K20+L20 -> 0 | V20: =K20 -> 0 | W20: =G20+H20+I20+J20 -> 0
A21: 4 | B21: ³ÛÉ ÙÇçÝáñ¹áõÃÛáõÝÝ»ñ | T21: =D21+E21 -> 0 | U21: =F21+K21+L21 -> 0 | V21: =K21 -> 0 | W21: =G21+H21+I21+J21 -> 0
A22: 5 | B22: ¹³ï³Ï³Ý Ñ³ÝÓÝ³ñ³ñáõÃÛáõÝÝ»ñ | E22: 1 | L22: 1 | T22: =D22+E22 -> 1 | U22: =F22+K22+L22 -> 1 | V22: =K22 -> 0 | W22: =G22+H22+I22+J22 -> 0
A23: ÀÜ¸²ØºÜÀ | D23: =D7+D8+D9+D10+D11+D12+D13+D14+D15+D16+D18+D19+D20+D21+D22 -> 0 | E23: =E7+E8+E9+E10+E11+E12+E13+E14+E15+E16+E18+E19+E20+E21+E22 -> 29 | F23: =F7+F8+F9+F10+F11+F12+F13+F14+F15+F16+F18+F19+F20+F21+F22 -> 0 | G23: =G7+G8+G9+G10+G11+G12+G13+G14+G15+G16+G18+G19+G20+G21+G22 -> 1 | H23: =H7+H8+H9+H10+H11+H12+H13+H14+H15+H16+H18+H19+H20+H21+H22 -> 27 | I23: =I7+I8+I9+I10+I11+I12+I13+I14+I15+I16+I18+I19+I20+I21+I22 -> 0 | J23: =J7+J8+J9+J10+J11+J12+J13+J14+J15+J16+J18+J19+J20+J21+J22 -> 0 | K23: =K7+K8+K9+K10+K11+K12+K13+K14+K15+K16+K18+K19+K20+K21+K22 -> 28 | ... R23: =R7+R8+R9+R10+R11+R12+R13+R14+R15+R16+R18+R19+R20+R21+R22 -> 1 | T23: =D23+E23 -> 29 | U23: =F23+K23+L23 -> 29 | V23: =K23 -> 28 | W23: =G23+H23+I23+J23 -> 28

Sheet Յու.Բաղդասարյան
A1: 2016Ã. 1-ԻՆ ԿԻՍԱՄՅԱԿ | D1: Ð²ÞìºîìàôÂÚàôÜ | P1: Ð³í»Éí³Í Ð³Û³ëï³ÝÇ Ð³Ýñ³å»ïáõÃÛ³Ý ¸³ï³ñ³ÝÝ»ñÇ Ý³Ë³·³ÑÝ»ñÇ ËáñÑñ¹Ç 25.08.2016Ã. ÃÇí 44-È áñáßÙ³Ý
A2: ØÇÝã¹³ï³Ï³Ý í³ñáõÛÃÇ ÝÏ³ïÙ³Ùµ ¹³ï³Ï³Ý í»ñ³ÑëÏáÕáõÃÛ³ÝÁ, ¹³ï³Ï³Ý ³Ïï»ñÇ ¨ ¹³ï³Ï³Ý Ñ³ÝÓÝ³ñ³ñáõÃÛáõÝÝ»ñÇ Ï³ï³ñÙ³ÝÁ Ñ»ï Ï³åí³Í ÙÇçÝáñ¹áõÃÛáõÝÝ»ñÇ í»ñ³µ»ñÛ³É ¹³ï³Ï³Ý ·áñÍ»ñáí ÐÐ Îáï³ÛùÇ Ù³ñ½Ç ÁÝ¹Ñ³Ýáõñ Çñ³í³ëáõÃÛ³Ý ³é³çÇÝ ³ïÛ³ÝÇ ¹³ï³ñ³ÝÇ ¹³ï³íáñ Յու.ԲԱՂԴԱՍԱՐՅԱՆԻ ·áñÍáõÝ»áõÃÛ³Ý í»ñ³µ»ñÛ³É
A3: êïáõ·Çã Ñ³í³ë³ñáõÙ` 1+2=3+8+9, 8=4+5+6+7, | D3: Ð³ßí»ïáõ Å³Ù³Ý³Ï³Ñ³ïí³ÍÇ ëÏ½µáõÙ Ý³Ëáñ¹ Ñ³ßí»ïáõ Å³Ù³Ý³Ï³Ñ³ïí³ÍÇó ÷áË³Ýóí³Í ·áñÍ»ñÇ ÁÝ¹Ñ³Ýáõñ ÃÇíÁ | E3: Ð³ßí»ïáõ Å³Ù³Ý³Ï³Ñ³ïí³ÍáõÙ ëï³óí³Í ·áñÍ»ñÇ ÁÝ¹Ñ³Ýáõñ ÃÇíÁ | F3: öáË³Ýóí»É ¿ ³ÛÉ ¹³ï³íáñÇ Ï³Ù ³ÛÉ ¹³ï³ñ³Ý (Ï³½ÙÇ ÷á÷áËáõÃÛáõÝ, ÁÝ¹¹³ïáõÃÛáõÝ) | G3: Ð³ßí»ïáõ Å³Ù³Ý³Ï³Ñ³ïí³ÍáõÙ ³í³ñïí³Í ·áñÍ»ñÇ ÁÝ¹Ñ³Ýáõñ ÃÇíÁ | L3: Ð³ßí»ïáõ Å³Ù³Ý³Ï³Ñ³ïí³ÍáõÙ ³Ý³í³ñï ·áñÍ»ñÇ ÁÝ¹Ñ³Ýáõñ ÃÇíÁ | M3: ØÇçÝáñ¹áõÃÛáõÝÝ»ñáí Ï³Û³óí³Í ¹³ï³Ï³Ý ³Ïï»ñÇó µáÕáù³ñÏí³ÍÝ»ñÇ ù³Ý³ÏÁ | O3: ²Ý³í³ñï µáÕáùÝ»ñ | P3: ØÇçÝáñ¹áõÃÛáõÝÝ»ñáí Ï³Û³óí³Í ¨ µáÕáù³ñÏí³Í ¹³ï³Ï³Ý ³Ïï»ñÇó µ»Ï³Ýí³ÍÝ»ñÇ ù³Ý³ÏÁ | R3: ÙÇçÝáñ¹áõÃÛáõÝÝ»ñáí Ï³Û³óí³Í ¨ µáÕáù³ñÏí³Í ¹³ï³Ï³Ý ³Ïï»ñÇó ³Ý÷á÷áË ÃáÕÝí³ÍÝ»ñÇ ù³Ý³ÏÁ
G4: Ù»ñÅí»É ¿ | H4: µ³í³ñ³ñí»É ¿ | I4: µ³í³ñ³ñí»É ¿ Ù³ëÝ³ÏÇ | J4: ÃáÕÝí»É ¿ ³é³Ýó ùÝÝáõÃÛ³Ý | K4: ÀÝ¹³Ù»ÝÁ
M5: Ý³Ëáñ¹ ï³ñÇÝ»ñÇÝ Ï³Û³óí³Í ³Ïï»ñÇ ¹»Ù | N5: Ñ³ßí»ïáõ Å³Ù³Ý³Ï³ßñç³ÝáõÙ Ï³Û³óí³Í ³Ïï»ñÇ ¹»Ù | P5: Ý³Ëáñ¹ ï³ñÇÝ»ñÇÝ Ï³Û³óí³Í ³Ïï»ñÇ µ»Ï³ÝáõÙÝ»ñÁ | Q5: Ñ³ßí»ïáõ Å³Ù³Ý³Ï³ßñç³ÝáõÙ Ï³Û³óí³Í ³Ïï»ñÇ µ»Ï³ÝáõÙÝ»ñÁ
A6: 1. ØÇÝã¹³ï³Ï³Ý í³ñáõÛÃÇ ÝÏ³ïÙ³Ùµ ¹³ï³Ï³Ý í»ñ³ÑëÏáÕáõÃÛ³Ý áÉáñï | D6: 1 | E6: 2 | F6: 3 | G6: 4 | H6: 5 | I6: 6 | J6: 7 | K6: 8 | L6: 9 | M6: 10 | N6: 11 | O6: 12 | P6: 13 | Q6: 14 | R6: 15 | T6: 1+2=3+8+9 | V6: 8=4+5+6+7
A7: 1 | B7: Ï³É³ÝùÁ áñå»ë Ë³÷³ÝÙ³Ý ÙÇçáó ÏÇñ³é»Éáõ Ù³ëÇÝ ÙÇçÝáñ¹áõÃÛáõÝÝ»ñ | E7: 6 | G7: 1 | H7: 5 | K7: 6 | T7: =D7+E7 -> 6 | U7: =F7+K7+L7 -> 6 | V7: =K7 -> 6 | W7: =G7+H7+I7+J7 -> 6
A8: 2 | B8: Ï³É³ÝùÇ Å³ÙÏ»ïÁ »ñÏ³ñ³óÝ»Éáõ Ù³ëÇÝ ÙÇçÝáñ¹áõÃÛáõÝÝ»ñ | D8: 1 | E8: 17 | H8: 17 | J8: 1 | K8: 18 | N8: 6 | O8: 2 | R8: 4 | T8: =D8+E8 -> 18 | U8: =F8+K8+L8 -> 18 | V8: =K8 -> 18 | W8: =G8+H8+I8+J8 -> 18
A9: 3 | B9: Ï³É³ÝùÇ í»ñ³Ñ³ëï³ïÙ³Ý Ù³ëÇÝ ÙÇçÝáñ¹áõÃÛáõÝÝ»ñ | E9: 3 | H9: 3 | K9: 3 | N9: 1 | R9: 1 | T9: =D9+E9 -> 3 | U9: =F9+K9+L9 -> 3 | V9: =K9 -> 3 | W9: =G9+H9+I9+J9 -> 3
A10: 4 | B10: ·ñ³íÁ áñå»ë Ï³É³Ý³íáñÙ³Ý ³ÛÉÁÝïñ³Ýù³ÛÇÝ Ë³÷³ÝÙ³Ý ÙÇçáó ÏÇñ³é»Éáõ Ù³ëÇÝ ÙÇçÝáñ¹áõÃÛáõÝÝ»ñ | E10: 13 | G10: 13 | K10: 13 | T10: =D10+E10 -> 13 | U10: =F10+K10+L10 -> 13 | V10: =K10 -> 13 | W10: =G10+H10+I10+J10 -> 13
A11: 5 | B11: Ëáõ½³ñÏáõÃÛ³Ý Ï³ï³ñÙ³Ý Ù³ëÇÝ ÙÇçÝáñ¹áõÃÛáõÝÝ»ñ | E11: 25 | H11: 25 | K11: 25 | T11: =D11+E11 -> 25 | U11: =F11+K11+L11 -> 25 | V11: =K11 -> 25 | W11: =G11+H11+I11+J11 -> 25
A12: 6 | B12: µ³ÝÏ³ÛÇÝ, ³å³Ñáí³·ñ³Ï³Ý, Ýáï³ñ³Ï³Ý ·³ÕïÝÇù Ï³½ÙáÕ ï»Õ»ÏáõÃÛáõÝÝ»ñÇ ëï³óÙ³Ý Ñ³Ù³ñ Ëáõ½³ñÏáõÃÛ³Ý Ï³Ù ³é·ñ³íÙ³Ý Ï³ï³ñÙ³Ý Ù³ëÇÝ ÙÇçÝáñ¹áõÃÛáõÝÝ»ñ | T12: =D12+E12 -> 0 | U12: =F12+K12+L12 -> 0 | V12: =K12 -> 0 | W12: =G12+H12+I12+J12 -> 0
A13: 7 | B13: Ý³Ù³Ï³·ñáõÃÛ³Ý, Ñ»é³·ñ³Ï³Ý, ÷áuï³ÛÇÝ Ñ³Õáñ¹áõÙÝ»ñÇ ÑëÏáÕáõÃÛ³Ý Ù³ëÇÝ ÙÇçÝáñ¹áõÃÛáõÝÝ»ñ | E13: 4 | H13: 4 | K13: 4 | T13: =D13+E13 -> 4 | U13: =F13+K13+L13 -> 4 | V13: =K13 -> 4 | W13: =G13+H13+I13+J13 -> 4
A14: 8 | B14: Ñ»é³Ëáu³ÛÇÝ Ï³Ù Ï³åÇ ³ÛÉ ÙÇçáóÝ»ñáí ï³ñíáÕ Ëáu³ÏóáõÃÛáõÝÝ»ñÇ ÉuÙ³Ý ¨ Ó³ÛÝ³·ñ³éÙ³Ý Ù³ëÇÝ ÙÇçÝáñ¹áõÃÛáõÝÝ»ñ | T14: =D14+E14 -> 0 | U14: =F14+K14+L14 -> 0 | V14: =K14 -> 0 | W14: =G14+H14+I14+J14 -> 0
A15: 9 | B15: Ñ»é³ËáëÝ»ñÇ Ùáõïù³ÛÇÝ ¨ »Éù³ÛÇÝ í»ñÍ³ÝÙ³Ý ÃáõÛÉïíáõÃÛáõÝ ëï³Ý³Éáõ Ù³ëÇÝ ÙÇçÝáñ¹áõÃÛáõÝÝ»ñ | E15: 34 | H15: 34 | K15: 34 | T15: =D15+E15 -> 34 | U15: =F15+K15+L15 -> 34 | V15: =K15 -> 34 | W15: =G15+H15+I15+J15 -> 34
A16: 10 | B16: Ñ»ï³ùÝÝáõÃÛ³Ý Ù³ñÙÝÇ ³ßË³ïáÕÇ, ùÝÝÇãÇ, ¹³ï³Ë³½Ç oå»ñ³ïÇí-Ñ»ï³Ëáõ½³Ï³Ý ·áñÍáÕáõÃÛáõÝÝ»ñ Çñ³Ï³Ý³óÝáÕ Ù³ñÙÇÝÝ»ñÇ ³ÝoñÇÝ³Ï³Ý ¨ ³ÝÑÇÙÝ áñáßáõÙÝ»ñÇ ¨ ·áñÍáÕáõÃÛáõÝÝ»ñÇ ¹»Ù µáÕáùÝ»ñ | D16: 3 | E16: 3 | G16: 4 | H16: 1 | K16: 5 | L16: 1 | N16: 3 | O16: 2 | Q16: 1 | T16: =D16+E16 -> 6 | U16: =F16+K16+L16 -> 6 | V16: =K16 -> 5 | W16: =G16+H16+I16+J16 -> 5
A17: 2. ¸³ï³Ï³Ý ³Ïï»ñÇ ¨ ¹³ï³Ï³Ý Ñ³ÝÓÝ³ñ³ñáõÃÛáõÝÝ»ñÇ Ï³ï³ñÙ³Ý Ñ»ï Ï³åí³Í Ñ³ñó»ñÇ ÉáõÍÙ³Ý áÉáñï
A18: 1 | B18: å³ïÅÇó å³ÛÙ³Ý³Ï³Ý í³Õ³Å³ÙÏ»ï ³½³ï»Éáõ Ù³ëÇÝ ÙÇçÝáñ¹áõÃÛáõÝÝ»ñ | T18: =D18+E18 -> 0 | U18: =F18+K18+L18 -> 0 | V18: =K18 -> 0 | W18: =G18+H18+I18+J18 -> 0
A19: 2 | B19: å³ïÇÅÁ ÷á÷áË»Éáõ, Ñ»ï³Ó·»Éáõ ¨ å³ïÅÇó ³½³ï»Éáõ Ù³uÇÝ ÙÇçÝáñ¹áõÃÛáõÝÝ»ñ | D19: 3 | E19: 3 | G19: 2 | H19: 2 | J19: 1 | K19: 5 | L19: 1 | T19: =D19+E19 -> 6 | U19: =F19+K19+L19 -> 6 | V19: =K19 -> 5 | W19: =G19+H19+I19+J19 -> 5
A20: 3 | B20: Ñ³ñÏ³¹Çñ µáõÅÙ³Ý ï»ë³ÏÇ ÷á÷áËáõÃÛ³Ý Ù³ëÇÝ ÙÇçÝáñ¹áõÃÛáõÝÝ»ñ | T20: =D20+E20 -> 0 | U20: =F20+K20+L20 -> 0 | V20: =K20 -> 0 | W20: =G20+H20+I20+J20 -> 0
A21: 4 | B21: ³ÛÉ ÙÇçÝáñ¹áõÃÛáõÝÝ»ñ | D21: 1 | L21: 1 | T21: =D21+E21 -> 1 | U21: =F21+K21+L21 -> 1 | V21: =K21 -> 0 | W21: =G21+H21+I21+J21 -> 0
A22: 5 | B22: ¹³ï³Ï³Ý Ñ³ÝÓÝ³ñ³ñáõÃÛáõÝÝ»ñ | D22: 1 | E22: 1 | H22: 2 | K22: 2 | T22: =D22+E22 -> 2 | U22: =F22+K22+L22 -> 2 | V22: =K22 -> 2 | W22: =G22+H22+I22+J22 -> 2
A23: ÀÜ¸²ØºÜÀ | D23: =D7+D8+D9+D10+D11+D12+D13+D14+D15+D16+D18+D19+D20+D21+D22 -> 9 | E23: =E7+E8+E9+E10+E11+E12+E13+E14+E15+E16+E18+E19+E20+E21+E22 -> 109 | F23: =F7+F8+F9+F10+F11+F12+F13+F14+F15+F16+F18+F19+F20+F21+F22 -> 0 | G23: =G7+G8+G9+G10+G11+G12+G13+G14+G15+G16+G18+G19+G20+G21+G22 -> 20 | H23: =H7+H8+H9+H10+H11+H12+H13+H14+H15+H16+H18+H19+H20+H21+H22 -> 93 | I23: =I7+I8+I9+I10+I11+I12+I13+I14+I15+I16+I18+I19+I20+I21+I22 -> 0 | J23: =J7+J8+J9+J10+J11+J12+J13+J14+J15+J16+J18+J19+J20+J21+J22 -> 2 | K23: =K7+K8+K9+K10+K11+K12+K13+K14+K15+K16+K18+K19+K20+K21+K22 -> 115 | ... R23: =R7+R8+R9+R10+R11+R12+R13+R14+R15+R16+R18+R19+R20+R21+R22 -> 5 | T23: =D23+E23 -> 118 | U23: =F23+K23+L23 -> 118 | V23: =K23 -> 115 | W23: =G23+H23+I23+J23 -> 115

Sheet Գ.Հեբոյան
A1: 2016Ã. 1-ԻՆ ԿԻՍԱՄՅԱԿ | D1: Ð²ÞìºîìàôÂÚàôÜ | P1: Ð³í»Éí³Í Ð³Û³ëï³ÝÇ Ð³Ýñ³å»ïáõÃÛ³Ý ¸³ï³ñ³ÝÝ»ñÇ Ý³Ë³·³ÑÝ»ñÇ ËáñÑñ¹Ç 25.08.2016Ã. ÃÇí 44-È áñáßÙ³Ý
A2: ØÇÝã¹³ï³Ï³Ý í³ñáõÛÃÇ ÝÏ³ïÙ³Ùµ ¹³ï³Ï³Ý í»ñ³ÑëÏáÕáõÃÛ³ÝÁ, ¹³ï³Ï³Ý ³Ïï»ñÇ ¨ ¹³ï³Ï³Ý Ñ³ÝÓÝ³ñ³ñáõÃÛáõÝÝ»ñÇ Ï³ï³ñÙ³ÝÁ Ñ»ï Ï³åí³Í ÙÇçÝáñ¹áõÃÛáõÝÝ»ñÇ í»ñ³µ»ñÛ³É ¹³ï³Ï³Ý ·áñÍ»ñáí ÐÐ Îáï³ÛùÇ Ù³ñ½Ç ÁÝ¹Ñ³Ýáõñ Çñ³í³ëáõÃÛ³Ý ³é³çÇÝ ³ïÛ³ÝÇ ¹³ï³ñ³ÝÇ ¹³ï³íáñ Գ.ՀԵԲՈՅԱՆԻ ·áñÍáõÝ»áõÃÛ³Ý í»ñ³µ»ñÛ³É
A3: êïáõ·Çã Ñ³í³ë³ñáõÙ` 1+2=3+8+9, 8=4+5+6+7, | D3: Ð³ßí»ïáõ Å³Ù³Ý³Ï³Ñ³ïí³ÍÇ ëÏ½µáõÙ Ý³Ëáñ¹ Ñ³ßí»ïáõ Å³Ù³Ý³Ï³Ñ³ïí³ÍÇó ÷áË³Ýóí³Í ·áñÍ»ñÇ ÁÝ¹Ñ³Ýáõñ ÃÇíÁ | E3: Ð³ßí»ïáõ Å³Ù³Ý³Ï³Ñ³ïí³ÍáõÙ ëï³óí³Í ·áñÍ»ñÇ ÁÝ¹Ñ³Ýáõñ ÃÇíÁ | F3: öáË³Ýóí»É ¿ ³ÛÉ ¹³ï³íáñÇ Ï³Ù ³ÛÉ ¹³ï³ñ³Ý (Ï³½ÙÇ ÷á÷áËáõÃÛáõÝ, ÁÝ¹¹³ïáõÃÛáõÝ) | G3: Ð³ßí»ïáõ Å³Ù³Ý³Ï³Ñ³ïí³ÍáõÙ ³í³ñïí³Í ·áñÍ»ñÇ ÁÝ¹Ñ³Ýáõñ ÃÇíÁ | L3: Ð³ßí»ïáõ Å³Ù³Ý³Ï³Ñ³ïí³ÍáõÙ ³Ý³í³ñï ·áñÍ»ñÇ ÁÝ¹Ñ³Ýáõñ ÃÇíÁ | M3: ØÇçÝáñ¹áõÃÛáõÝÝ»ñáí Ï³Û³óí³Í ¹³ï³Ï³Ý ³Ïï»ñÇó µáÕáù³ñÏí³ÍÝ»ñÇ ù³Ý³ÏÁ | O3: ²Ý³í³ñï µáÕáùÝ»ñ | P3: ØÇçÝáñ¹áõÃÛáõÝÝ»ñáí Ï³Û³óí³Í ¨ µáÕáù³ñÏí³Í ¹³ï³Ï³Ý ³Ïï»ñÇó µ»Ï³Ýí³ÍÝ»ñÇ ù³Ý³ÏÁ | R3: ÙÇçÝáñ¹áõÃÛáõÝÝ»ñáí Ï³Û³óí³Í ¨ µáÕáù³ñÏí³Í ¹³ï³Ï³Ý ³Ïï»ñÇó ³Ý÷á÷áË ÃáÕÝí³ÍÝ»ñÇ ù³Ý³ÏÁ
G4: Ù»ñÅí»É ¿ | H4: µ³í³ñ³ñí»É ¿ | I4: µ³í³ñ³ñí»É ¿ Ù³ëÝ³ÏÇ | J4: ÃáÕÝí»É ¿ ³é³Ýó ùÝÝáõÃÛ³Ý | K4: ÀÝ¹³Ù»ÝÁ
M5: Ý³Ëáñ¹ ï³ñÇÝ»ñÇÝ Ï³Û³óí³Í ³Ïï»ñÇ ¹»Ù | N5: Ñ³ßí»ïáõ Å³Ù³Ý³Ï³ßñç³ÝáõÙ Ï³Û³óí³Í ³Ïï»ñÇ ¹»Ù | P5: Ý³Ëáñ¹ ï³ñÇÝ»ñÇÝ Ï³Û³óí³Í ³Ïï»ñÇ µ»Ï³ÝáõÙÝ»ñÁ | Q5: Ñ³ßí»ïáõ Å³Ù³Ý³Ï³ßñç³ÝáõÙ Ï³Û³óí³Í ³Ïï»ñÇ µ»Ï³ÝáõÙÝ»ñÁ
A6: 1. ØÇÝã¹³ï³Ï³Ý í³ñáõÛÃÇ ÝÏ³ïÙ³Ùµ ¹³ï³Ï³Ý í»ñ³ÑëÏáÕáõÃÛ³Ý áÉáñï | D6: 1 | E6: 2 | F6: 3 | G6: 4 | H6: 5 | I6: 6 | J6: 7 | K6: 8 | L6: 9 | M6: 10 | N6: 11 | O6: 12 | P6: 13 | Q6: 14 | R6: 15 | T6: 1+2=3+8+9 | V6: 8=4+5+6+7
A7: 1 | B7: Ï³É³ÝùÁ áñå»ë Ë³÷³ÝÙ³Ý ÙÇçáó ÏÇñ³é»Éáõ Ù³ëÇÝ ÙÇçÝáñ¹áõÃÛáõÝÝ»ñ | E7: 1 | H7: 1 | K7: 1 | T7: =D7+E7 -> 1 | U7: =F7+K7+L7 -> 1 | V7: =K7 -> 1 | W7: =G7+H7+I7+J7 -> 1
A8: 2 | B8: Ï³É³ÝùÇ Å³ÙÏ»ïÁ »ñÏ³ñ³óÝ»Éáõ Ù³ëÇÝ ÙÇçÝáñ¹áõÃÛáõÝÝ»ñ | T8: =D8+E8 -> 0 | U8: =F8+K8+L8 -> 0 | V8: =K8 -> 0 | W8: =G8+H8+I8+J8 -> 0
A9: 3 | B9: Ï³É³ÝùÇ í»ñ³Ñ³ëï³ïÙ³Ý Ù³ëÇÝ ÙÇçÝáñ¹áõÃÛáõÝÝ»ñ | T9: =D9+E9 -> 0 | U9: =F9+K9+L9 -> 0 | V9: =K9 -> 0 | W9: =G9+H9+I9+J9 -> 0
A10: 4 | B10: ·ñ³íÁ áñå»ë Ï³É³Ý³íáñÙ³Ý ³ÛÉÁÝïñ³Ýù³ÛÇÝ Ë³÷³ÝÙ³Ý ÙÇçáó ÏÇñ³é»Éáõ Ù³ëÇÝ ÙÇçÝáñ¹áõÃÛáõÝÝ»ñ | T10: =D10+E10 -> 0 | U10: =F10+K10+L10 -> 0 | V10: =K10 -> 0 | W10: =G10+H10+I10+J10 -> 0
A11: 5 | B11: Ëáõ½³ñÏáõÃÛ³Ý Ï³ï³ñÙ³Ý Ù³ëÇÝ ÙÇçÝáñ¹áõÃÛáõÝÝ»ñ | T11: =D11+E11 -> 0 | U11: =F11+K11+L11 -> 0 | V11: =K11 -> 0 | W11: =G11+H11+I11+J11 -> 0
A12: 6 | B12: µ³ÝÏ³ÛÇÝ, ³å³Ñáí³·ñ³Ï³Ý, Ýáï³ñ³Ï³Ý ·³ÕïÝÇù Ï³½ÙáÕ ï»Õ»ÏáõÃÛáõÝÝ»ñÇ ëï³óÙ³Ý Ñ³Ù³ñ Ëáõ½³ñÏáõÃÛ³Ý Ï³Ù ³é·ñ³íÙ³Ý Ï³ï³ñÙ³Ý Ù³ëÇÝ ÙÇçÝáñ¹áõÃÛáõÝÝ»ñ | T12: =D12+E12 -> 0 | U12: =F12+K12+L12 -> 0 | V12: =K12 -> 0 | W12: =G12+H12+I12+J12 -> 0
A13: 7 | B13: Ý³Ù³Ï³·ñáõÃÛ³Ý, Ñ»é³·ñ³Ï³Ý, ÷áuï³ÛÇÝ Ñ³Õáñ¹áõÙÝ»ñÇ ÑëÏáÕáõÃÛ³Ý Ù³ëÇÝ ÙÇçÝáñ¹áõÃÛáõÝÝ»ñ | T13: =D13+E13 -> 0 | U13: =F13+K13+L13 -> 0 | V13: =K13 -> 0 | W13: =G13+H13+I13+J13 -> 0
A14: 8 | B14: Ñ»é³Ëáu³ÛÇÝ Ï³Ù Ï³åÇ ³ÛÉ ÙÇçáóÝ»ñáí ï³ñíáÕ Ëáu³ÏóáõÃÛáõÝÝ»ñÇ ÉuÙ³Ý ¨ Ó³ÛÝ³·ñ³éÙ³Ý Ù³ëÇÝ ÙÇçÝáñ¹áõÃÛáõÝÝ»ñ | T14: =D14+E14 -> 0 | U14: =F14+K14+L14 -> 0 | V14: =K14 -> 0 | W14: =G14+H14+I14+J14 -> 0
A15: 9 | B15: Ñ»é³ËáëÝ»ñÇ Ùáõïù³ÛÇÝ ¨ »Éù³ÛÇÝ í»ñÍ³ÝÙ³Ý ÃáõÛÉïíáõÃÛáõÝ ëï³Ý³Éáõ Ù³ëÇÝ ÙÇçÝáñ¹áõÃÛáõÝÝ»ñ | E15: 3 | H15: 3 | K15: 3 | T15: =D15+E15 -> 3 | U15: =F15+K15+L15 -> 3 | V15: =K15 -> 3 | W15: =G15+H15+I15+J15 -> 3
A16: 10 | B16: Ñ»ï³ùÝÝáõÃÛ³Ý Ù³ñÙÝÇ ³ßË³ïáÕÇ, ùÝÝÇãÇ, ¹³ï³Ë³½Ç oå»ñ³ïÇí-Ñ»ï³Ëáõ½³Ï³Ý ·áñÍáÕáõÃÛáõÝÝ»ñ Çñ³Ï³Ý³óÝáÕ Ù³ñÙÇÝÝ»ñÇ ³ÝoñÇÝ³Ï³Ý ¨ ³ÝÑÇÙÝ áñáßáõÙÝ»ñÇ ¨ ·áñÍáÕáõÃÛáõÝÝ»ñÇ ¹»Ù µáÕáùÝ»ñ | T16: =D16+E16 -> 0 | U16: =F16+K16+L16 -> 0 | V16: =K16 -> 0 | W16: =G16+H16+I16+J16 -> 0
A17: 2. ¸³ï³Ï³Ý ³Ïï»ñÇ ¨ ¹³ï³Ï³Ý Ñ³ÝÓÝ³ñ³ñáõÃÛáõÝÝ»ñÇ Ï³ï³ñÙ³Ý Ñ»ï Ï³åí³Í Ñ³ñó»ñÇ ÉáõÍÙ³Ý áÉáñï
A18: 1 | B18: å³ïÅÇó å³ÛÙ³Ý³Ï³Ý í³Õ³Å³ÙÏ»ï ³½³ï»Éáõ Ù³ëÇÝ ÙÇçÝáñ¹áõÃÛáõÝÝ»ñ | T18: =D18+E18 -> 0 | U18: =F18+K18+L18 -> 0 | V18: =K18 -> 0 | W18: =G18+H18+I18+J18 -> 0
A19: 2 | B19: å³ïÇÅÁ ÷á÷áË»Éáõ, Ñ»ï³Ó·»Éáõ ¨ å³ïÅÇó ³½³ï»Éáõ Ù³uÇÝ ÙÇçÝáñ¹áõÃÛáõÝÝ»ñ | T19: =D19+E19 -> 0 | U19: =F19+K19+L19 -> 0 | V19: =K19 -> 0 | W19: =G19+H19+I19+J19 -> 0
A20: 3 | B20: Ñ³ñÏ³¹Çñ µáõÅÙ³Ý ï»ë³ÏÇ ÷á÷áËáõÃÛ³Ý Ù³ëÇÝ ÙÇçÝáñ¹áõÃÛáõÝÝ»ñ | T20: =D20+E20 -> 0 | U20: =F20+K20+L20 -> 0 | V20: =K20 -> 0 | W20: =G20+H20+I20+J20 -> 0
A21: 4 | B21: ³ÛÉ ÙÇçÝáñ¹áõÃÛáõÝÝ»ñ | T21: =D21+E21 -> 0 | U21: =F21+K21+L21 -> 0 | V21: =K21 -> 0 | W21: =G21+H21+I21+J21 -> 0
A22: 5 | B22: ¹³ï³Ï³Ý Ñ³ÝÓÝ³ñ³ñáõÃÛáõÝÝ»ñ | D22: 2 | E22: 2 | H22: 3 | K22: 3 | L22: 1 | T22: =D22+E22 -> 4 | U22: =F22+K22+L22 -> 4 | V22: =K22 -> 3 | W22: =G22+H22+I22+J22 -> 3
A23: ÀÜ¸²ØºÜÀ | D23: =D7+D8+D9+D10+D11+D12+D13+D14+D15+D16+D18+D19+D20+D21+D22 -> 2 | E23: =E7+E8+E9+E10+E11+E12+E13+E14+E15+E16+E18+E19+E20+E21+E22 -> 6 | F23: =F7+F8+F9+F10+F11+F12+F13+F14+F15+F16+F18+F19+F20+F21+F22 -> 0 | G23: =G7+G8+G9+G10+G11+G12+G13+G14+G15+G16+G18+G19+G20+G21+G22 -> 0 | H23: =H7+H8+H9+H10+H11+H12+H13+H14+H15+H16+H18+H19+H20+H21+H22 -> 7 | I23: =I7+I8+I9+I10+I11+I12+I13+I14+I15+I16+I18+I19+I20+I21+I22 -> 0 | J23: =J7+J8+J9+J10+J11+J12+J13+J14+J15+J16+J18+J19+J20+J21+J22 -> 0 | K23: =K7+K8+K9+K10+K11+K12+K13+K14+K15+K16+K18+K19+K20+K21+K22 -> 7 | ... R23: =R7+R8+R9+R10+R11+R12+R13+R14+R15+R16+R18+R19+R20+R21+R22 -> 0 | T23: =D23+E23 -> 8 | U23: =F23+K23+L23 -> 8 | V23: =K23 -> 7 | W23: =G23+H23+I23+J23 -> 7
