Workbook

Sheet Ընդհամենը
A1: 2016Ã. | D1: Ð²ÞìºîìàôÂÚàôÜ | P1: Ï³½Ùí³Í` ÐÐ Ï³é³í³ñáõÃÛ³Ý 19.03.2015Ã. ÃÇí 306-Ü áñáßÙ³Ý ÑÇÙ³Ý íñ³
A2: ØÇÝã¹³ï³Ï³Ý í³ñáõÛÃÇ ÝÏ³ïÙ³Ùµ ¹³ï³Ï³Ý í»ñ³ÑëÏáÕáõÃÛ³ÝÁ, ¹³ï³Ï³Ý ³Ïï»ñÇ ¨ ¹³ï³Ï³Ý Ñ³ÝÓÝ³ñ³ñáõÃÛáõÝÝ»ñÇ Ï³ï³ñÙ³ÝÁ Ñ»ï Ï³åí³Í ÙÇçÝáñ¹áõÃÛáõÝÝ»ñÇ í»ñ³µ»ñÛ³É ¹³ï³Ï³Ý ·áñÍ»ñáí ÐÐ ²ñÙ³íÇñÇ Ù³ñ½Ç ÁÝ¹Ñ³Ýáõñ Çñ³í³ëáõÃÛ³Ý ³é³çÇÝ ³ïÛ³ÝÇ ¹³ï³ñ³ÝÇ ·áñÍáõÝ»áõÃÛ³Ý í»ñ³µ»ñÛ³É
A3: êïáõ·Çã Ñ³í³ë³ñáõÙ` 1+2=3+8+9, 8=4+5+6+7, | D3: Ð³ßí»ïáõ Å³Ù³Ý³Ï³Ñ³ïí³ÍÇ ëÏ½µáõÙ Ý³Ëáñ¹ Ñ³ßí»ïáõ Å³Ù³Ý³Ï³Ñ³ïí³ÍÇó ÷áË³Ýóí³Í ·áñÍ»ñÇ ÁÝ¹Ñ³Ýáõñ ÃÇíÁ | E3: Ð³ßí»ïáõ Å³Ù³Ý³Ï³Ñ³ïí³ÍáõÙ ëï³óí³Í ·áñÍ»ñÇ ÁÝ¹Ñ³Ýáõñ ÃÇíÁ | F3: öáË³Ýóí»É ¿ ³ÛÉ ¹³ï³íáñÇ Ï³Ù ³ÛÉ ¹³ï³ñ³Ý (Ï³½ÙÇ ÷á÷áËáõÃÛáõÝ, ÁÝ¹¹³ïáõÃÛáõÝ) | G3: Ð³ßí»ïáõ Å³Ù³Ý³Ï³Ñ³ïí³ÍáõÙ ³í³ñïí³Í ·áñÍ»ñÇ ÁÝ¹Ñ³Ýáõñ ÃÇíÁ | L3: Ð³ßí»ïáõ Å³Ù³Ý³Ï³Ñ³ïí³ÍáõÙ ³Ý³í³ñï ·áñÍ»ñÇ ÁÝ¹Ñ³Ýáõñ ÃÇíÁ | M3: ØÇçÝáñ¹áõÃÛáõÝÝ»ñáí Ï³Û³óí³Í ¹³ï³Ï³Ý ³Ïï»ñÇó µáÕáù³ñÏí³ÍÝ»ñÇ ù³Ý³ÏÁ | O3: ²Ý³í³ñï µáÕáùÝ»ñ | P3: ØÇçÝáñ¹áõÃÛáõÝÝ»ñáí Ï³Û³óí³Í ¨ µáÕáù³ñÏí³Í ¹³ï³Ï³Ý ³Ïï»ñÇó µ»Ï³Ýí³ÍÝ»ñÇ ù³Ý³ÏÁ | R3: ÙÇçÝáñ¹áõÃÛáõÝÝ»ñáí Ï³Û³óí³Í ¨ µáÕáù³ñÏí³Í ¹³ï³Ï³Ý ³Ïï»ñÇó ³Ý÷á÷áË ÃáÕÝí³ÍÝ»ñÇ ù³Ý³ÏÁ
G4: Ù»ñÅí»É ¿ | H4: µ³í³ñ³ñí»É ¿ | I4: µ³í³ñ³ñí»É ¿ Ù³ëÝ³ÏÇ | J4: ÃáÕÝí»É ¿ ³é³Ýó ùÝÝáõÃÛ³Ý | K4: ÀÝ¹³Ù»ÝÁ
M5: Ý³Ëáñ¹ ï³ñÇÝ»ñÇÝ Ï³Û³óí³Í ³Ïï»ñÇ ¹»Ù | N5: Ñ³ßí»ïáõ Å³Ù³Ý³Ï³ßñç³ÝáõÙ Ï³Û³óí³Í ³Ïï»ñÇ ¹»Ù | P5: Ý³Ëáñ¹ ï³ñÇÝ»ñÇÝ Ï³Û³óí³Í ³Ïï»ñÇ µ»Ï³ÝáõÙÝ»ñÁ | Q5: Ñ³ßí»ïáõ Å³Ù³Ý³Ï³ßñç³ÝáõÙ Ï³Û³óí³Í ³Ïï»ñÇ µ»Ï³ÝáõÙÝ»ñÁ
A6: 1. ØÇÝã¹³ï³Ï³Ý í³ñáõÛÃÇ ÝÏ³ïÙ³Ùµ ¹³ï³Ï³Ý í»ñ³ÑëÏáÕáõÃÛ³Ý áÉáñï | D6: 1 | E6: 2 | F6: 3 | G6: 4 | H6: 5 | I6: 6 | J6: 7 | K6: 8 | L6: 9 | M6: 10 | N6: 11 | O6: 12 | P6: 13 | Q6: 14 | R6: 15 | T6: 1+2=3+8+9 | V6: 8=4+5+6+7
A7: 1 | B7: Ï³É³ÝùÁ áñå»ë Ë³÷³ÝÙ³Ý ÙÇçáó ÏÇñ³é»Éáõ Ù³ëÇÝ ÙÇçÝáñ¹áõÃÛáõÝÝ»ñ | D7: ='Ա. Ադամյան'!D7+'Ն. Գրիգորյան'!D7+'Վ. Խալաթյան'!D7+'Հ. Սարգսյան'!D7+'Գ. Ֆիդանյան'!D7+'Էդ. Հովհաննիսյան'!D7+'Հ. Մելքոնյան'!D7+'Մ. Սիմոնյան'!D7 -> 0 | E7: ='Ա. Ադամյան'!E7+'Ն. Գրիգորյան'!E7+'Վ. Խալաթյան'!E7+'Հ. Սարգսյան'!E7+'Գ. Ֆիդանյան'!E7+'Էդ. Հովհաննիսյան'!E7+'Հ. Մելքոնյան'!E7+'Մ. Սիմոնյան'!E7 -> 73 | F7: ='Ա. Ադամյան'!F7+'Ն. Գրիգորյան'!F7+'Վ. Խալաթյան'!F7+'Հ. Սարգսյան'!F7+'Գ. Ֆիդանյան'!F7+'Էդ. Հովհաննիսյան'!F7+'Հ. Մելքոնյան'!F7+'Մ. Սիմոնյան'!F7 -> 0 | G7: ='Ա. Ադամյան'!G7+'Ն. Գրիգորյան'!G7+'Վ. Խալաթյան'!G7+'Հ. Սարգսյան'!G7+'Գ. Ֆիդանյան'!G7+'Էդ. Հովհաննիսյան'!G7+'Հ. Մելքոնյան'!G7+'Մ. Սիմոնյան'!G7 -> 2 | H7: ='Ա. Ադամյան'!H7+'Ն. Գրիգորյան'!H7+'Վ. Խալաթյան'!H7+'Հ. Սարգսյան'!H7+'Գ. Ֆիդանյան'!H7+'Էդ. Հովհաննիսյան'!H7+'Հ. Մելքոնյան'!H7+'Մ. Սիմոնյան'!H7 -> 71 | I7: ='Ա. Ադամյան'!I7+'Ն. Գրիգորյան'!I7+'Վ. Խալաթյան'!I7+'Հ. Սարգսյան'!I7+'Գ. Ֆիդանյան'!I7+'Էդ. Հովհաննիսյան'!I7+'Հ. Մելքոնյան'!I7+'Մ. Սիմոնյան'!I7 -> 0 | J7: ='Ա. Ադամյան'!J7+'Ն. Գրիգորյան'!J7+'Վ. Խալաթյան'!J7+'Հ. Սարգսյան'!J7+'Գ. Ֆիդանյան'!J7+'Էդ. Հովհաննիսյան'!J7+'Հ. Մելքոնյան'!J7+'Մ. Սիմոնյան'!J7 -> 0 | K7: ='Ա. Ադամյան'!K7+'Ն. Գրիգորյան'!K7+'Վ. Խալաթյան'!K7+'Հ. Սարգսյան'!K7+'Գ. Ֆիդանյան'!K7+'Էդ. Հովհաննիսյան'!K7+'Հ. Մելքոնյան'!K7+'Մ. Սիմոնյան'!K7 -> 73 | ... R7: ='Ա. Ադամյան'!R7+'Ն. Գրիգորյան'!R7+'Վ. Խալաթյան'!R7+'Հ. Սարգսյան'!R7+'Գ. Ֆիդանյան'!R7+'Էդ. Հովհաննիսյան'!R7+'Հ. Մելքոնյան'!R7+'Մ. Սիմոնյան'!R7 -> 4 | S7: ='Ա. Ադամյան'!#REF!+'Ն. Գրիգորյան'!#REF!+'Վ. Խալաթյան'!#REF!+'Հ. Սարգսյան'!#REF!+'Գ. Ֆիդանյան'!#REF!+'Էդ. Հովհաննիսյան'!#REF!+'Հ. Մելքոնյան'!#REF!+'Մ. Սիմոնյան'!#REF! -> #REF! | T7: =D7+E7 -> 73 | U7: =F7+K7+L7 -> 73 | V7: =K7 -> 73 | W7: =G7+H7+I7+J7 -> 73
A8: 2 | B8: Ï³É³ÝùÇ Å³ÙÏ»ïÁ »ñÏ³ñ³óÝ»Éáõ Ù³ëÇÝ ÙÇçÝáñ¹áõÃÛáõÝÝ»ñ | D8: ='Ա. Ադամյան'!D8+'Ն. Գրիգորյան'!D8+'Վ. Խալաթյան'!D8+'Հ. Սարգսյան'!D8+'Գ. Ֆիդանյան'!D8+'Էդ. Հովհաննիսյան'!D8+'Հ. Մելքոնյան'!D8+'Մ. Սիմոնյան'!D8 -> 0 | E8: ='Ա. Ադամյան'!E8+'Ն. Գրիգորյան'!E8+'Վ. Խալաթյան'!E8+'Հ. Սարգսյան'!E8+'Գ. Ֆիդանյան'!E8+'Էդ. Հովհաննիսյան'!E8+'Հ. Մելքոնյան'!E8+'Մ. Սիմոնյան'!E8 -> 60 | F8: ='Ա. Ադամյան'!F8+'Ն. Գրիգորյան'!F8+'Վ. Խալաթյան'!F8+'Հ. Սարգսյան'!F8+'Գ. Ֆիդանյան'!F8+'Էդ. Հովհաննիսյան'!F8+'Հ. Մելքոնյան'!F8+'Մ. Սիմոնյան'!F8 -> 0 | G8: ='Ա. Ադամյան'!G8+'Ն. Գրիգորյան'!G8+'Վ. Խալաթյան'!G8+'Հ. Սարգսյան'!G8+'Գ. Ֆիդանյան'!G8+'Էդ. Հովհաննիսյան'!G8+'Հ. Մելքոնյան'!G8+'Մ. Սիմոնյան'!G8 -> 4 | H8: ='Ա. Ադամյան'!H8+'Ն. Գրիգորյան'!H8+'Վ. Խալաթյան'!H8+'Հ. Սարգսյան'!H8+'Գ. Ֆիդանյան'!H8+'Էդ. Հովհաննիսյան'!H8+'Հ. Մելքոնյան'!H8+'Մ. Սիմոնյան'!H8 -> 53 | I8: ='Ա. Ադամյան'!I8+'Ն. Գրիգորյան'!I8+'Վ. Խալաթյան'!I8+'Հ. Սարգսյան'!I8+'Գ. Ֆիդանյան'!I8+'Էդ. Հովհաննիսյան'!I8+'Հ. Մելքոնյան'!I8+'Մ. Սիմոնյան'!I8 -> 1 | J8: ='Ա. Ադամյան'!J8+'Ն. Գրիգորյան'!J8+'Վ. Խալաթյան'!J8+'Հ. Սարգսյան'!J8+'Գ. Ֆիդանյան'!J8+'Էդ. Հովհաննիսյան'!J8+'Հ. Մելքոնյան'!J8+'Մ. Սիմոնյան'!J8 -> 1 | K8: ='Ա. Ադամյան'!K8+'Ն. Գրիգորյան'!K8+'Վ. Խալաթյան'!K8+'Հ. Սարգսյան'!K8+'Գ. Ֆիդանյան'!K8+'Էդ. Հովհաննիսյան'!K8+'Հ. Մելքոնյան'!K8+'Մ. Սիմոնյան'!K8 -> 59 | ... R8: ='Ա. Ադամյան'!R8+'Ն. Գրիգորյան'!R8+'Վ. Խալաթյան'!R8+'Հ. Սարգսյան'!R8+'Գ. Ֆիդանյան'!R8+'Էդ. Հովհաննիսյան'!R8+'Հ. Մելքոնյան'!R8+'Մ. Սիմոնյան'!R8 -> 4 | S8: ='Ա. Ադամյան'!#REF!+'Ն. Գրիգորյան'!#REF!+'Վ. Խալաթյան'!#REF!+'Հ. Սարգսյան'!#REF!+'Գ. Ֆիդանյան'!#REF!+'Էդ. Հովհաննիսյան'!#REF!+'Հ. Մելքոնյան'!#REF!+'Մ. Սիմոնյան'!#REF! -> #REF! | T8: =D8+E8 -> 60 | U8: =F8+K8+L8 -> 60 | V8: =K8 -> 59 | W8: =G8+H8+I8+J8 -> 59
A9: 3 | B9: Ï³É³ÝùÇ í»ñ³Ñ³ëï³ïÙ³Ý Ù³ëÇÝ ÙÇçÝáñ¹áõÃÛáõÝÝ»ñ | D9: ='Ա. Ադամյան'!D9+'Ն. Գրիգորյան'!D9+'Վ. Խալաթյան'!D9+'Հ. Սարգսյան'!D9+'Գ. Ֆիդանյան'!D9+'Էդ. Հովհաննիսյան'!D9+'Հ. Մելքոնյան'!D9+'Մ. Սիմոնյան'!D9 -> 0 | E9: ='Ա. Ադամյան'!E9+'Ն. Գրիգորյան'!E9+'Վ. Խալաթյան'!E9+'Հ. Սարգսյան'!E9+'Գ. Ֆիդանյան'!E9+'Էդ. Հովհաննիսյան'!E9+'Հ. Մելքոնյան'!E9+'Մ. Սիմոնյան'!E9 -> 10 | F9: ='Ա. Ադամյան'!F9+'Ն. Գրիգորյան'!F9+'Վ. Խալաթյան'!F9+'Հ. Սարգսյան'!F9+'Գ. Ֆիդանյան'!F9+'Էդ. Հովհաննիսյան'!F9+'Հ. Մելքոնյան'!F9+'Մ. Սիմոնյան'!F9 -> 0 | G9: ='Ա. Ադամյան'!G9+'Ն. Գրիգորյան'!G9+'Վ. Խալաթյան'!G9+'Հ. Սարգսյան'!G9+'Գ. Ֆիդանյան'!G9+'Էդ. Հովհաննիսյան'!G9+'Հ. Մելքոնյան'!G9+'Մ. Սիմոնյան'!G9 -> 0 | H9: ='Ա. Ադամյան'!H9+'Ն. Գրիգորյան'!H9+'Վ. Խալաթյան'!H9+'Հ. Սարգսյան'!H9+'Գ. Ֆիդանյան'!H9+'Էդ. Հովհաննիսյան'!H9+'Հ. Մելքոնյան'!H9+'Մ. Սիմոնյան'!H9 -> 9 | I9: ='Ա. Ադամյան'!I9+'Ն. Գրիգորյան'!I9+'Վ. Խալաթյան'!I9+'Հ. Սարգսյան'!I9+'Գ. Ֆիդանյան'!I9+'Էդ. Հովհաննիսյան'!I9+'Հ. Մելքոնյան'!I9+'Մ. Սիմոնյան'!I9 -> 1 | J9: ='Ա. Ադամյան'!J9+'Ն. Գրիգորյան'!J9+'Վ. Խալաթյան'!J9+'Հ. Սարգսյան'!J9+'Գ. Ֆիդանյան'!J9+'Էդ. Հովհաննիսյան'!J9+'Հ. Մելքոնյան'!J9+'Մ. Սիմոնյան'!J9 -> 0 | K9: ='Ա. Ադամյան'!K9+'Ն. Գրիգորյան'!K9+'Վ. Խալաթյան'!K9+'Հ. Սարգսյան'!K9+'Գ. Ֆիդանյան'!K9+'Էդ. Հովհաննիսյան'!K9+'Հ. Մելքոնյան'!K9+'Մ. Սիմոնյան'!K9 -> 10 | ... R9: ='Ա. Ադամյան'!R9+'Ն. Գրիգորյան'!R9+'Վ. Խալաթյան'!R9+'Հ. Սարգսյան'!R9+'Գ. Ֆիդանյան'!R9+'Էդ. Հովհաննիսյան'!R9+'Հ. Մելքոնյան'!R9+'Մ. Սիմոնյան'!R9 -> 0 | S9: ='Ա. Ադամյան'!#REF!+'Ն. Գրիգորյան'!#REF!+'Վ. Խալաթյան'!#REF!+'Հ. Սարգսյան'!#REF!+'Գ. Ֆիդանյան'!#REF!+'Էդ. Հովհաննիսյան'!#REF!+'Հ. Մելքոնյան'!#REF!+'Մ. Սիմոնյան'!#REF! -> #REF! | T9: =D9+E9 -> 10 | U9: =F9+K9+L9 -> 10 | V9: =K9 -> 10 | W9: =G9+H9+I9+J9 -> 10
A10: 4 | B10: ·ñ³íÁ áñå»ë Ï³É³Ý³íáñÙ³Ý ³ÛÉÁÝïñ³Ýù³ÛÇÝ Ë³÷³ÝÙ³Ý ÙÇçáó ÏÇñ³é»Éáõ Ù³ëÇÝ ÙÇçÝáñ¹áõÃÛáõÝÝ»ñ | D10: ='Ա. Ադամյան'!D10+'Ն. Գրիգորյան'!D10+'Վ. Խալաթյան'!D10+'Հ. Սարգսյան'!D10+'Գ. Ֆիդանյան'!D10+'Էդ. Հովհաննիսյան'!D10+'Հ. Մելքոնյան'!D10+'Մ. Սիմոնյան'!D10 -> 0 | E10: ='Ա. Ադամյան'!E10+'Ն. Գրիգորյան'!E10+'Վ. Խալաթյան'!E10+'Հ. Սարգսյան'!E10+'Գ. Ֆիդանյան'!E10+'Էդ. Հովհաննիսյան'!E10+'Հ. Մելքոնյան'!E10+'Մ. Սիմոնյան'!E10 -> 51 | F10: ='Ա. Ադամյան'!F10+'Ն. Գրիգորյան'!F10+'Վ. Խալաթյան'!F10+'Հ. Սարգսյան'!F10+'Գ. Ֆիդանյան'!F10+'Էդ. Հովհաննիսյան'!F10+'Հ. Մելքոնյան'!F10+'Մ. Սիմոնյան'!F10 -> 1 | G10: ='Ա. Ադամյան'!G10+'Ն. Գրիգորյան'!G10+'Վ. Խալաթյան'!G10+'Հ. Սարգսյան'!G10+'Գ. Ֆիդանյան'!G10+'Էդ. Հովհաննիսյան'!G10+'Հ. Մելքոնյան'!G10+'Մ. Սիմոնյան'!G10 -> 42 | H10: ='Ա. Ադամյան'!H10+'Ն. Գրիգորյան'!H10+'Վ. Խալաթյան'!H10+'Հ. Սարգսյան'!H10+'Գ. Ֆիդանյան'!H10+'Էդ. Հովհաննիսյան'!H10+'Հ. Մելքոնյան'!H10+'Մ. Սիմոնյան'!H10 -> 8 | I10: ='Ա. Ադամյան'!I10+'Ն. Գրիգորյան'!I10+'Վ. Խալաթյան'!I10+'Հ. Սարգսյան'!I10+'Գ. Ֆիդանյան'!I10+'Էդ. Հովհաննիսյան'!I10+'Հ. Մելքոնյան'!I10+'Մ. Սիմոնյան'!I10 -> 0 | J10: ='Ա. Ադամյան'!J10+'Ն. Գրիգորյան'!J10+'Վ. Խալաթյան'!J10+'Հ. Սարգսյան'!J10+'Գ. Ֆիդանյան'!J10+'Էդ. Հովհաննիսյան'!J10+'Հ. Մելքոնյան'!J10+'Մ. Սիմոնյան'!J10 -> 0 | K10: ='Ա. Ադամյան'!K10+'Ն. Գրիգորյան'!K10+'Վ. Խալաթյան'!K10+'Հ. Սարգսյան'!K10+'Գ. Ֆիդանյան'!K10+'Էդ. Հովհաննիսյան'!K10+'Հ. Մելքոնյան'!K10+'Մ. Սիմոնյան'!K10 -> 50 | ... R10: ='Ա. Ադամյան'!R10+'Ն. Գրիգորյան'!R10+'Վ. Խալաթյան'!R10+'Հ. Սարգսյան'!R10+'Գ. Ֆիդանյան'!R10+'Էդ. Հովհաննիսյան'!R10+'Հ. Մելքոնյան'!R10+'Մ. Սիմոնյան'!R10 -> 0 | S10: ='Ա. Ադամյան'!#REF!+'Ն. Գրիգորյան'!#REF!+'Վ. Խալաթյան'!#REF!+'Հ. Սարգսյան'!#REF!+'Գ. Ֆիդանյան'!#REF!+'Էդ. Հովհաննիսյան'!#REF!+'Հ. Մելքոնյան'!#REF!+'Մ. Սիմոնյան'!#REF! -> #REF! | T10: =D10+E10 -> 51 | U10: =F10+K10+L10 -> 51 | V10: =K10 -> 50 | W10: =G10+H10+I10+J10 -> 50
A11: 5 | B11: Ëáõ½³ñÏáõÃÛ³Ý Ï³ï³ñÙ³Ý Ù³ëÇÝ ÙÇçÝáñ¹áõÃÛáõÝÝ»ñ | D11: ='Ա. Ադամյան'!D11+'Ն. Գրիգորյան'!D11+'Վ. Խալաթյան'!D11+'Հ. Սարգսյան'!D11+'Գ. Ֆիդանյան'!D11+'Էդ. Հովհաննիսյան'!D11+'Հ. Մելքոնյան'!D11+'Մ. Սիմոնյան'!D11 -> 0 | E11: ='Ա. Ադամյան'!E11+'Ն. Գրիգորյան'!E11+'Վ. Խալաթյան'!E11+'Հ. Սարգսյան'!E11+'Գ. Ֆիդանյան'!E11+'Էդ. Հովհաննիսյան'!E11+'Հ. Մելքոնյան'!E11+'Մ. Սիմոնյան'!E11 -> 212 | F11: ='Ա. Ադամյան'!F11+'Ն. Գրիգորյան'!F11+'Վ. Խալաթյան'!F11+'Հ. Սարգսյան'!F11+'Գ. Ֆիդանյան'!F11+'Էդ. Հովհաննիսյան'!F11+'Հ. Մելքոնյան'!F11+'Մ. Սիմոնյան'!F11 -> 0 | G11: ='Ա. Ադամյան'!G11+'Ն. Գրիգորյան'!G11+'Վ. Խալաթյան'!G11+'Հ. Սարգսյան'!G11+'Գ. Ֆիդանյան'!G11+'Էդ. Հովհաննիսյան'!G11+'Հ. Մելքոնյան'!G11+'Մ. Սիմոնյան'!G11 -> 6 | H11: ='Ա. Ադամյան'!H11+'Ն. Գրիգորյան'!H11+'Վ. Խալաթյան'!H11+'Հ. Սարգսյան'!H11+'Գ. Ֆիդանյան'!H11+'Էդ. Հովհաննիսյան'!H11+'Հ. Մելքոնյան'!H11+'Մ. Սիմոնյան'!H11 -> 205 | I11: ='Ա. Ադամյան'!I11+'Ն. Գրիգորյան'!I11+'Վ. Խալաթյան'!I11+'Հ. Սարգսյան'!I11+'Գ. Ֆիդանյան'!I11+'Էդ. Հովհաննիսյան'!I11+'Հ. Մելքոնյան'!I11+'Մ. Սիմոնյան'!I11 -> 1 | J11: ='Ա. Ադամյան'!J11+'Ն. Գրիգորյան'!J11+'Վ. Խալաթյան'!J11+'Հ. Սարգսյան'!J11+'Գ. Ֆիդանյան'!J11+'Էդ. Հովհաննիսյան'!J11+'Հ. Մելքոնյան'!J11+'Մ. Սիմոնյան'!J11 -> 0 | K11: ='Ա. Ադամյան'!K11+'Ն. Գրիգորյան'!K11+'Վ. Խալաթյան'!K11+'Հ. Սարգսյան'!K11+'Գ. Ֆիդանյան'!K11+'Էդ. Հովհաննիսյան'!K11+'Հ. Մելքոնյան'!K11+'Մ. Սիմոնյան'!K11 -> 212 | ... R11: ='Ա. Ադամյան'!R11+'Ն. Գրիգորյան'!R11+'Վ. Խալաթյան'!R11+'Հ. Սարգսյան'!R11+'Գ. Ֆիդանյան'!R11+'Էդ. Հովհաննիսյան'!R11+'Հ. Մելքոնյան'!R11+'Մ. Սիմոնյան'!R11 -> 0 | S11: ='Ա. Ադամյան'!#REF!+'Ն. Գրիգորյան'!#REF!+'Վ. Խալաթյան'!#REF!+'Հ. Սարգսյան'!#REF!+'Գ. Ֆիդանյան'!#REF!+'Էդ. Հովհաննիսյան'!#REF!+'Հ. Մելքոնյան'!#REF!+'Մ. Սիմոնյան'!#REF! -> #REF! | T11: =D11+E11 -> 212 | U11: =F11+K11+L11 -> 212 | V11: =K11 -> 212 | W11: =G11+H11+I11+J11 -> 212
A12: 6 | B12: µ³ÝÏ³ÛÇÝ, ³å³Ñáí³·ñ³Ï³Ý, Ýáï³ñ³Ï³Ý ·³ÕïÝÇù Ï³½ÙáÕ ï»Õ»ÏáõÃÛáõÝÝ»ñÇ ëï³óÙ³Ý Ñ³Ù³ñ Ëáõ½³ñÏáõÃÛ³Ý Ï³Ù ³é·ñ³íÙ³Ý Ï³ï³ñÙ³Ý Ù³ëÇÝ ÙÇçÝáñ¹áõÃÛáõÝÝ»ñ | D12: ='Ա. Ադամյան'!D12+'Ն. Գրիգորյան'!D12+'Վ. Խալաթյան'!D12+'Հ. Սարգսյան'!D12+'Գ. Ֆիդանյան'!D12+'Էդ. Հովհաննիսյան'!D12+'Հ. Մելքոնյան'!D12+'Մ. Սիմոնյան'!D12 -> 0 | E12: ='Ա. Ադամյան'!E12+'Ն. Գրիգորյան'!E12+'Վ. Խալաթյան'!E12+'Հ. Սարգսյան'!E12+'Գ. Ֆիդանյան'!E12+'Էդ. Հովհաննիսյան'!E12+'Հ. Մելքոնյան'!E12+'Մ. Սիմոնյան'!E12 -> 0 | F12: ='Ա. Ադամյան'!F12+'Ն. Գրիգորյան'!F12+'Վ. Խալաթյան'!F12+'Հ. Սարգսյան'!F12+'Գ. Ֆիդանյան'!F12+'Էդ. Հովհաննիսյան'!F12+'Հ. Մելքոնյան'!F12+'Մ. Սիմոնյան'!F12 -> 0 | G12: ='Ա. Ադամյան'!G12+'Ն. Գրիգորյան'!G12+'Վ. Խալաթյան'!G12+'Հ. Սարգսյան'!G12+'Գ. Ֆիդանյան'!G12+'Էդ. Հովհաննիսյան'!G12+'Հ. Մելքոնյան'!G12+'Մ. Սիմոնյան'!G12 -> 0 | H12: ='Ա. Ադամյան'!H12+'Ն. Գրիգորյան'!H12+'Վ. Խալաթյան'!H12+'Հ. Սարգսյան'!H12+'Գ. Ֆիդանյան'!H12+'Էդ. Հովհաննիսյան'!H12+'Հ. Մելքոնյան'!H12+'Մ. Սիմոնյան'!H12 -> 0 | I12: ='Ա. Ադամյան'!I12+'Ն. Գրիգորյան'!I12+'Վ. Խալաթյան'!I12+'Հ. Սարգսյան'!I12+'Գ. Ֆիդանյան'!I12+'Էդ. Հովհաննիսյան'!I12+'Հ. Մելքոնյան'!I12+'Մ. Սիմոնյան'!I12 -> 0 | J12: ='Ա. Ադամյան'!J12+'Ն. Գրիգորյան'!J12+'Վ. Խալաթյան'!J12+'Հ. Սարգսյան'!J12+'Գ. Ֆիդանյան'!J12+'Էդ. Հովհաննիսյան'!J12+'Հ. Մելքոնյան'!J12+'Մ. Սիմոնյան'!J12 -> 0 | K12: ='Ա. Ադամյան'!K12+'Ն. Գրիգորյան'!K12+'Վ. Խալաթյան'!K12+'Հ. Սարգսյան'!K12+'Գ. Ֆիդանյան'!K12+'Էդ. Հովհաննիսյան'!K12+'Հ. Մելքոնյան'!K12+'Մ. Սիմոնյան'!K12 -> 0 | ... R12: ='Ա. Ադամյան'!R12+'Ն. Գրիգորյան'!R12+'Վ. Խալաթյան'!R12+'Հ. Սարգսյան'!R12+'Գ. Ֆիդանյան'!R12+'Էդ. Հովհաննիսյան'!R12+'Հ. Մելքոնյան'!R12+'Մ. Սիմոնյան'!R12 -> 0 | S12: ='Ա. Ադամյան'!#REF!+'Ն. Գրիգորյան'!#REF!+'Վ. Խալաթյան'!#REF!+'Հ. Սարգսյան'!#REF!+'Գ. Ֆիդանյան'!#REF!+'Էդ. Հովհաննիսյան'!#REF!+'Հ. Մելքոնյան'!#REF!+'Մ. Սիմոնյան'!#REF! -> #REF! | T12: =D12+E12 -> 0 | U12: =F12+K12+L12 -> 0 | V12: =K12 -> 0 | W12: =G12+H12+I12+J12 -> 0
A13: 7 | B13: Ý³Ù³Ï³·ñáõÃÛ³Ý, Ñ»é³·ñ³Ï³Ý, ÷áuï³ÛÇÝ Ñ³Õáñ¹áõÙÝ»ñÇ ÑëÏáÕáõÃÛ³Ý Ù³ëÇÝ ÙÇçÝáñ¹áõÃÛáõÝÝ»ñ | D13: ='Ա. Ադամյան'!D13+'Ն. Գրիգորյան'!D13+'Վ. Խալաթյան'!D13+'Հ. Սարգսյան'!D13+'Գ. Ֆիդանյան'!D13+'Էդ. Հովհաննիսյան'!D13+'Հ. Մելքոնյան'!D13+'Մ. Սիմոնյան'!D13 -> 0 | E13: ='Ա. Ադամյան'!E13+'Ն. Գրիգորյան'!E13+'Վ. Խալաթյան'!E13+'Հ. Սարգսյան'!E13+'Գ. Ֆիդանյան'!E13+'Էդ. Հովհաննիսյան'!E13+'Հ. Մելքոնյան'!E13+'Մ. Սիմոնյան'!E13 -> 0 | F13: ='Ա. Ադամյան'!F13+'Ն. Գրիգորյան'!F13+'Վ. Խալաթյան'!F13+'Հ. Սարգսյան'!F13+'Գ. Ֆիդանյան'!F13+'Էդ. Հովհաննիսյան'!F13+'Հ. Մելքոնյան'!F13+'Մ. Սիմոնյան'!F13 -> 0 | G13: ='Ա. Ադամյան'!G13+'Ն. Գրիգորյան'!G13+'Վ. Խալաթյան'!G13+'Հ. Սարգսյան'!G13+'Գ. Ֆիդանյան'!G13+'Էդ. Հովհաննիսյան'!G13+'Հ. Մելքոնյան'!G13+'Մ. Սիմոնյան'!G13 -> 0 | H13: ='Ա. Ադամյան'!H13+'Ն. Գրիգորյան'!H13+'Վ. Խալաթյան'!H13+'Հ. Սարգսյան'!H13+'Գ. Ֆիդանյան'!H13+'Էդ. Հովհաննիսյան'!H13+'Հ. Մելքոնյան'!H13+'Մ. Սիմոնյան'!H13 -> 0 | I13: ='Ա. Ադամյան'!I13+'Ն. Գրիգորյան'!I13+'Վ. Խալաթյան'!I13+'Հ. Սարգսյան'!I13+'Գ. Ֆիդանյան'!I13+'Էդ. Հովհաննիսյան'!I13+'Հ. Մելքոնյան'!I13+'Մ. Սիմոնյան'!I13 -> 0 | J13: ='Ա. Ադամյան'!J13+'Ն. Գրիգորյան'!J13+'Վ. Խալաթյան'!J13+'Հ. Սարգսյան'!J13+'Գ. Ֆիդանյան'!J13+'Էդ. Հովհաննիսյան'!J13+'Հ. Մելքոնյան'!J13+'Մ. Սիմոնյան'!J13 -> 0 | K13: ='Ա. Ադամյան'!K13+'Ն. Գրիգորյան'!K13+'Վ. Խալաթյան'!K13+'Հ. Սարգսյան'!K13+'Գ. Ֆիդանյան'!K13+'Էդ. Հովհաննիսյան'!K13+'Հ. Մելքոնյան'!K13+'Մ. Սիմոնյան'!K13 -> 0 | ... R13: ='Ա. Ադամյան'!R13+'Ն. Գրիգորյան'!R13+'Վ. Խալաթյան'!R13+'Հ. Սարգսյան'!R13+'Գ. Ֆիդանյան'!R13+'Էդ. Հովհաննիսյան'!R13+'Հ. Մելքոնյան'!R13+'Մ. Սիմոնյան'!R13 -> 0 | S13: ='Ա. Ադամյան'!#REF!+'Ն. Գրիգորյան'!#REF!+'Վ. Խալաթյան'!#REF!+'Հ. Սարգսյան'!#REF!+'Գ. Ֆիդանյան'!#REF!+'Էդ. Հովհաննիսյան'!#REF!+'Հ. Մելքոնյան'!#REF!+'Մ. Սիմոնյան'!#REF! -> #REF! | T13: =D13+E13 -> 0 | U13: =F13+K13+L13 -> 0 | V13: =K13 -> 0 | W13: =G13+H13+I13+J13 -> 0
A14: 8 | B14: Ñ»é³Ëáu³ÛÇÝ Ï³Ù Ï³åÇ ³ÛÉ ÙÇçáóÝ»ñáí ï³ñíáÕ Ëáu³ÏóáõÃÛáõÝÝ»ñÇ ÉuÙ³Ý ¨ Ó³ÛÝ³·ñ³éÙ³Ý Ù³ëÇÝ ÙÇçÝáñ¹áõÃÛáõÝÝ»ñ | D14: ='Ա. Ադամյան'!D14+'Ն. Գրիգորյան'!D14+'Վ. Խալաթյան'!D14+'Հ. Սարգսյան'!D14+'Գ. Ֆիդանյան'!D14+'Էդ. Հովհաննիսյան'!D14+'Հ. Մելքոնյան'!D14+'Մ. Սիմոնյան'!D14 -> 0 | E14: ='Ա. Ադամյան'!E14+'Ն. Գրիգորյան'!E14+'Վ. Խալաթյան'!E14+'Հ. Սարգսյան'!E14+'Գ. Ֆիդանյան'!E14+'Էդ. Հովհաննիսյան'!E14+'Հ. Մելքոնյան'!E14+'Մ. Սիմոնյան'!E14 -> 1 | F14: ='Ա. Ադամյան'!F14+'Ն. Գրիգորյան'!F14+'Վ. Խալաթյան'!F14+'Հ. Սարգսյան'!F14+'Գ. Ֆիդանյան'!F14+'Էդ. Հովհաննիսյան'!F14+'Հ. Մելքոնյան'!F14+'Մ. Սիմոնյան'!F14 -> 0 | G14: ='Ա. Ադամյան'!G14+'Ն. Գրիգորյան'!G14+'Վ. Խալաթյան'!G14+'Հ. Սարգսյան'!G14+'Գ. Ֆիդանյան'!G14+'Էդ. Հովհաննիսյան'!G14+'Հ. Մելքոնյան'!G14+'Մ. Սիմոնյան'!G14 -> 0 | H14: ='Ա. Ադամյան'!H14+'Ն. Գրիգորյան'!H14+'Վ. Խալաթյան'!H14+'Հ. Սարգսյան'!H14+'Գ. Ֆիդանյան'!H14+'Էդ. Հովհաննիսյան'!H14+'Հ. Մելքոնյան'!H14+'Մ. Սիմոնյան'!H14 -> 1 | I14: ='Ա. Ադամյան'!I14+'Ն. Գրիգորյան'!I14+'Վ. Խալաթյան'!I14+'Հ. Սարգսյան'!I14+'Գ. Ֆիդանյան'!I14+'Էդ. Հովհաննիսյան'!I14+'Հ. Մելքոնյան'!I14+'Մ. Սիմոնյան'!I14 -> 0 | J14: ='Ա. Ադամյան'!J14+'Ն. Գրիգորյան'!J14+'Վ. Խալաթյան'!J14+'Հ. Սարգսյան'!J14+'Գ. Ֆիդանյան'!J14+'Էդ. Հովհաննիսյան'!J14+'Հ. Մելքոնյան'!J14+'Մ. Սիմոնյան'!J14 -> 0 | K14: ='Ա. Ադամյան'!K14+'Ն. Գրիգորյան'!K14+'Վ. Խալաթյան'!K14+'Հ. Սարգսյան'!K14+'Գ. Ֆիդանյան'!K14+'Էդ. Հովհաննիսյան'!K14+'Հ. Մելքոնյան'!K14+'Մ. Սիմոնյան'!K14 -> 1 | ... R14: ='Ա. Ադամյան'!R14+'Ն. Գրիգորյան'!R14+'Վ. Խալաթյան'!R14+'Հ. Սարգսյան'!R14+'Գ. Ֆիդանյան'!R14+'Էդ. Հովհաննիսյան'!R14+'Հ. Մելքոնյան'!R14+'Մ. Սիմոնյան'!R14 -> 0 | S14: ='Ա. Ադամյան'!#REF!+'Ն. Գրիգորյան'!#REF!+'Վ. Խալաթյան'!#REF!+'Հ. Սարգսյան'!#REF!+'Գ. Ֆիդանյան'!#REF!+'Էդ. Հովհաննիսյան'!#REF!+'Հ. Մելքոնյան'!#REF!+'Մ. Սիմոնյան'!#REF! -> #REF! | T14: =D14+E14 -> 1 | U14: =F14+K14+L14 -> 1 | V14: =K14 -> 1 | W14: =G14+H14+I14+J14 -> 1
A15: 9 | B15: Ñ»é³ËáëÝ»ñÇ Ùáõïù³ÛÇÝ ¨ »Éù³ÛÇÝ í»ñÍ³ÝÙ³Ý ÃáõÛÉïíáõÃÛáõÝ ëï³Ý³Éáõ Ù³ëÇÝ ÙÇçÝáñ¹áõÃÛáõÝÝ»ñ | D15: ='Ա. Ադամյան'!D15+'Ն. Գրիգորյան'!D15+'Վ. Խալաթյան'!D15+'Հ. Սարգսյան'!D15+'Գ. Ֆիդանյան'!D15+'Էդ. Հովհաննիսյան'!D15+'Հ. Մելքոնյան'!D15+'Մ. Սիմոնյան'!D15 -> 0 | E15: ='Ա. Ադամյան'!E15+'Ն. Գրիգորյան'!E15+'Վ. Խալաթյան'!E15+'Հ. Սարգսյան'!E15+'Գ. Ֆիդանյան'!E15+'Էդ. Հովհաննիսյան'!E15+'Հ. Մելքոնյան'!E15+'Մ. Սիմոնյան'!E15 -> 192 | F15: ='Ա. Ադամյան'!F15+'Ն. Գրիգորյան'!F15+'Վ. Խալաթյան'!F15+'Հ. Սարգսյան'!F15+'Գ. Ֆիդանյան'!F15+'Էդ. Հովհաննիսյան'!F15+'Հ. Մելքոնյան'!F15+'Մ. Սիմոնյան'!F15 -> 1 | G15: ='Ա. Ադամյան'!G15+'Ն. Գրիգորյան'!G15+'Վ. Խալաթյան'!G15+'Հ. Սարգսյան'!G15+'Գ. Ֆիդանյան'!G15+'Էդ. Հովհաննիսյան'!G15+'Հ. Մելքոնյան'!G15+'Մ. Սիմոնյան'!G15 -> 0 | H15: ='Ա. Ադամյան'!H15+'Ն. Գրիգորյան'!H15+'Վ. Խալաթյան'!H15+'Հ. Սարգսյան'!H15+'Գ. Ֆիդանյան'!H15+'Էդ. Հովհաննիսյան'!H15+'Հ. Մելքոնյան'!H15+'Մ. Սիմոնյան'!H15 -> 189 | I15: ='Ա. Ադամյան'!I15+'Ն. Գրիգորյան'!I15+'Վ. Խալաթյան'!I15+'Հ. Սարգսյան'!I15+'Գ. Ֆիդանյան'!I15+'Էդ. Հովհաննիսյան'!I15+'Հ. Մելքոնյան'!I15+'Մ. Սիմոնյան'!I15 -> 2 | J15: ='Ա. Ադամյան'!J15+'Ն. Գրիգորյան'!J15+'Վ. Խալաթյան'!J15+'Հ. Սարգսյան'!J15+'Գ. Ֆիդանյան'!J15+'Էդ. Հովհաննիսյան'!J15+'Հ. Մելքոնյան'!J15+'Մ. Սիմոնյան'!J15 -> 0 | K15: ='Ա. Ադամյան'!K15+'Ն. Գրիգորյան'!K15+'Վ. Խալաթյան'!K15+'Հ. Սարգսյան'!K15+'Գ. Ֆիդանյան'!K15+'Էդ. Հովհաննիսյան'!K15+'Հ. Մելքոնյան'!K15+'Մ. Սիմոնյան'!K15 -> 191 | ... R15: ='Ա. Ադամյան'!R15+'Ն. Գրիգորյան'!R15+'Վ. Խալաթյան'!R15+'Հ. Սարգսյան'!R15+'Գ. Ֆիդանյան'!R15+'Էդ. Հովհաննիսյան'!R15+'Հ. Մելքոնյան'!R15+'Մ. Սիմոնյան'!R15 -> 0 | S15: ='Ա. Ադամյան'!#REF!+'Ն. Գրիգորյան'!#REF!+'Վ. Խալաթյան'!#REF!+'Հ. Սարգսյան'!#REF!+'Գ. Ֆիդանյան'!#REF!+'Էդ. Հովհաննիսյան'!#REF!+'Հ. Մելքոնյան'!#REF!+'Մ. Սիմոնյան'!#REF! -> #REF! | T15: =D15+E15 -> 192 | U15: =F15+K15+L15 -> 192 | V15: =K15 -> 191 | W15: =G15+H15+I15+J15 -> 191
A16: 10 | B16: Ñ»ï³ùÝÝáõÃÛ³Ý Ù³ñÙÝÇ ³ßË³ïáÕÇ, ùÝÝÇãÇ, ¹³ï³Ë³½Ç oå»ñ³ïÇí-Ñ»ï³Ëáõ½³Ï³Ý ·áñÍáÕáõÃÛáõÝÝ»ñ Çñ³Ï³Ý³óÝáÕ Ù³ñÙÇÝÝ»ñÇ ³ÝoñÇÝ³Ï³Ý ¨ ³ÝÑÇÙÝ áñáßáõÙÝ»ñÇ ¨ ·áñÍáÕáõÃÛáõÝÝ»ñÇ ¹»Ù µáÕáùÝ»ñ | D16: ='Ա. Ադամյան'!D16+'Ն. Գրիգորյան'!D16+'Վ. Խալաթյան'!D16+'Հ. Սարգսյան'!D16+'Գ. Ֆիդանյան'!D16+'Էդ. Հովհաննիսյան'!D16+'Հ. Մելքոնյան'!D16+'Մ. Սիմոնյան'!D16 -> 2 | E16: ='Ա. Ադամյան'!E16+'Ն. Գրիգորյան'!E16+'Վ. Խալաթյան'!E16+'Հ. Սարգսյան'!E16+'Գ. Ֆիդանյան'!E16+'Էդ. Հովհաննիսյան'!E16+'Հ. Մելքոնյան'!E16+'Մ. Սիմոնյան'!E16 -> 29 | F16: ='Ա. Ադամյան'!F16+'Ն. Գրիգորյան'!F16+'Վ. Խալաթյան'!F16+'Հ. Սարգսյան'!F16+'Գ. Ֆիդանյան'!F16+'Էդ. Հովհաննիսյան'!F16+'Հ. Մելքոնյան'!F16+'Մ. Սիմոնյան'!F16 -> 3 | G16: ='Ա. Ադամյան'!G16+'Ն. Գրիգորյան'!G16+'Վ. Խալաթյան'!G16+'Հ. Սարգսյան'!G16+'Գ. Ֆիդանյան'!G16+'Էդ. Հովհաննիսյան'!G16+'Հ. Մելքոնյան'!G16+'Մ. Սիմոնյան'!G16 -> 13 | H16: ='Ա. Ադամյան'!H16+'Ն. Գրիգորյան'!H16+'Վ. Խալաթյան'!H16+'Հ. Սարգսյան'!H16+'Գ. Ֆիդանյան'!H16+'Էդ. Հովհաննիսյան'!H16+'Հ. Մելքոնյան'!H16+'Մ. Սիմոնյան'!H16 -> 5 | I16: ='Ա. Ադամյան'!I16+'Ն. Գրիգորյան'!I16+'Վ. Խալաթյան'!I16+'Հ. Սարգսյան'!I16+'Գ. Ֆիդանյան'!I16+'Էդ. Հովհաննիսյան'!I16+'Հ. Մելքոնյան'!I16+'Մ. Սիմոնյան'!I16 -> 0 | J16: ='Ա. Ադամյան'!J16+'Ն. Գրիգորյան'!J16+'Վ. Խալաթյան'!J16+'Հ. Սարգսյան'!J16+'Գ. Ֆիդանյան'!J16+'Էդ. Հովհաննիսյան'!J16+'Հ. Մելքոնյան'!J16+'Մ. Սիմոնյան'!J16 -> 1 | K16: ='Ա. Ադամյան'!K16+'Ն. Գրիգորյան'!K16+'Վ. Խալաթյան'!K16+'Հ. Սարգսյան'!K16+'Գ. Ֆիդանյան'!K16+'Էդ. Հովհաննիսյան'!K16+'Հ. Մելքոնյան'!K16+'Մ. Սիմոնյան'!K16 -> 19 | ... R16: ='Ա. Ադամյան'!R16+'Ն. Գրիգորյան'!R16+'Վ. Խալաթյան'!R16+'Հ. Սարգսյան'!R16+'Գ. Ֆիդանյան'!R16+'Էդ. Հովհաննիսյան'!R16+'Հ. Մելքոնյան'!R16+'Մ. Սիմոնյան'!R16 -> 2 | T16: =D16+E16 -> 31 | U16: =F16+K16+L16 -> 29 | V16: =K16 -> 19 | W16: =G16+H16+I16+J16 -> 19
A17: 11 | B17: ²½³ïáõÃÛáõÝÇó ½ñÏ»Éáõ Çñ³í³ã³÷áõÃÛ³Ý í»ñ³µ»ñÛ³É µáÕáùÝ»ñáí ·áñÍ»ñ | D17: ='Ա. Ադամյան'!D17+'Ն. Գրիգորյան'!D17+'Վ. Խալաթյան'!D17+'Հ. Սարգսյան'!D17+'Գ. Ֆիդանյան'!D17+'Էդ. Հովհաննիսյան'!D17+'Հ. Մելքոնյան'!D17+'Մ. Սիմոնյան'!D17 -> 0 | E17: ='Ա. Ադամյան'!E17+'Ն. Գրիգորյան'!E17+'Վ. Խալաթյան'!E17+'Հ. Սարգսյան'!E17+'Գ. Ֆիդանյան'!E17+'Էդ. Հովհաննիսյան'!E17+'Հ. Մելքոնյան'!E17+'Մ. Սիմոնյան'!E17 -> 0 | F17: ='Ա. Ադամյան'!F17+'Ն. Գրիգորյան'!F17+'Վ. Խալաթյան'!F17+'Հ. Սարգսյան'!F17+'Գ. Ֆիդանյան'!F17+'Էդ. Հովհաննիսյան'!F17+'Հ. Մելքոնյան'!F17+'Մ. Սիմոնյան'!F17 -> 0 | G17: ='Ա. Ադամյան'!G17+'Ն. Գրիգորյան'!G17+'Վ. Խալաթյան'!G17+'Հ. Սարգսյան'!G17+'Գ. Ֆիդանյան'!G17+'Էդ. Հովհաննիսյան'!G17+'Հ. Մելքոնյան'!G17+'Մ. Սիմոնյան'!G17 -> 0 | H17: ='Ա. Ադամյան'!H17+'Ն. Գրիգորյան'!H17+'Վ. Խալաթյան'!H17+'Հ. Սարգսյան'!H17+'Գ. Ֆիդանյան'!H17+'Էդ. Հովհաննիսյան'!H17+'Հ. Մելքոնյան'!H17+'Մ. Սիմոնյան'!H17 -> 0 | I17: ='Ա. Ադամյան'!I17+'Ն. Գրիգորյան'!I17+'Վ. Խալաթյան'!I17+'Հ. Սարգսյան'!I17+'Գ. Ֆիդանյան'!I17+'Էդ. Հովհաննիսյան'!I17+'Հ. Մելքոնյան'!I17+'Մ. Սիմոնյան'!I17 -> 0 | J17: ='Ա. Ադամյան'!J17+'Ն. Գրիգորյան'!J17+'Վ. Խալաթյան'!J17+'Հ. Սարգսյան'!J17+'Գ. Ֆիդանյան'!J17+'Էդ. Հովհաննիսյան'!J17+'Հ. Մելքոնյան'!J17+'Մ. Սիմոնյան'!J17 -> 0 | K17: ='Ա. Ադամյան'!K17+'Ն. Գրիգորյան'!K17+'Վ. Խալաթյան'!K17+'Հ. Սարգսյան'!K17+'Գ. Ֆիդանյան'!K17+'Էդ. Հովհաննիսյան'!K17+'Հ. Մելքոնյան'!K17+'Մ. Սիմոնյան'!K17 -> 0 | ... R17: ='Ա. Ադամյան'!R17+'Ն. Գրիգորյան'!R17+'Վ. Խալաթյան'!R17+'Հ. Սարգսյան'!R17+'Գ. Ֆիդանյան'!R17+'Էդ. Հովհաննիսյան'!R17+'Հ. Մելքոնյան'!R17+'Մ. Սիմոնյան'!R17 -> 0 | S17: ='Ա. Ադամյան'!#REF!+'Ն. Գրիգորյան'!#REF!+'Վ. Խալաթյան'!#REF!+'Հ. Սարգսյան'!#REF!+'Գ. Ֆիդանյան'!#REF!+'Էդ. Հովհաննիսյան'!#REF!+'Հ. Մելքոնյան'!#REF!+'Մ. Սիմոնյան'!#REF! -> #REF! | T17: =D17+E17 -> 0 | U17: =F17+K17+L17 -> 0 | V17: =K17 -> 0 | W17: =G17+H17+I17+J17 -> 0
A18: 2. ¸³ï³Ï³Ý ³Ïï»ñÇ ¨ ¹³ï³Ï³Ý Ñ³ÝÓÝ³ñ³ñáõÃÛáõÝÝ»ñÇ Ï³ï³ñÙ³Ý Ñ»ï Ï³åí³Í Ñ³ñó»ñÇ ÉáõÍÙ³Ý áÉáñï | S18: ='Ա. Ադամյան'!#REF!+'Ն. Գրիգորյան'!#REF!+'Վ. Խալաթյան'!#REF!+'Հ. Սարգսյան'!#REF!+'Գ. Ֆիդանյան'!#REF!+'Էդ. Հովհաննիսյան'!#REF!+'Հ. Մելքոնյան'!#REF!+'Մ. Սիմոնյան'!#REF! -> #REF!
A19: 1 | B19: å³ïÅÇó å³ÛÙ³Ý³Ï³Ý í³Õ³Å³ÙÏ»ï ³½³ï»Éáõ Ù³ëÇÝ ÙÇçÝáñ¹áõÃÛáõÝÝ»ñ | D19: ='Ա. Ադամյան'!D19+'Ն. Գրիգորյան'!D19+'Վ. Խալաթյան'!D19+'Հ. Սարգսյան'!D19+'Գ. Ֆիդանյան'!D19+'Էդ. Հովհաննիսյան'!D19+'Հ. Մելքոնյան'!D19+'Մ. Սիմոնյան'!D19 -> 0 | E19: ='Ա. Ադամյան'!E19+'Ն. Գրիգորյան'!E19+'Վ. Խալաթյան'!E19+'Հ. Սարգսյան'!E19+'Գ. Ֆիդանյան'!E19+'Էդ. Հովհաննիսյան'!E19+'Հ. Մելքոնյան'!E19+'Մ. Սիմոնյան'!E19 -> 11 | F19: ='Ա. Ադամյան'!F19+'Ն. Գրիգորյան'!F19+'Վ. Խալաթյան'!F19+'Հ. Սարգսյան'!F19+'Գ. Ֆիդանյան'!F19+'Էդ. Հովհաննիսյան'!F19+'Հ. Մելքոնյան'!F19+'Մ. Սիմոնյան'!F19 -> 0 | G19: ='Ա. Ադամյան'!G19+'Ն. Գրիգորյան'!G19+'Վ. Խալաթյան'!G19+'Հ. Սարգսյան'!G19+'Գ. Ֆիդանյան'!G19+'Էդ. Հովհաննիսյան'!G19+'Հ. Մելքոնյան'!G19+'Մ. Սիմոնյան'!G19 -> 5 | H19: ='Ա. Ադամյան'!H19+'Ն. Գրիգորյան'!H19+'Վ. Խալաթյան'!H19+'Հ. Սարգսյան'!H19+'Գ. Ֆիդանյան'!H19+'Էդ. Հովհաննիսյան'!H19+'Հ. Մելքոնյան'!H19+'Մ. Սիմոնյան'!H19 -> 6 | I19: ='Ա. Ադամյան'!I19+'Ն. Գրիգորյան'!I19+'Վ. Խալաթյան'!I19+'Հ. Սարգսյան'!I19+'Գ. Ֆիդանյան'!I19+'Էդ. Հովհաննիսյան'!I19+'Հ. Մելքոնյան'!I19+'Մ. Սիմոնյան'!I19 -> 0 | J19: ='Ա. Ադամյան'!J19+'Ն. Գրիգորյան'!J19+'Վ. Խալաթյան'!J19+'Հ. Սարգսյան'!J19+'Գ. Ֆիդանյան'!J19+'Էդ. Հովհաննիսյան'!J19+'Հ. Մելքոնյան'!J19+'Մ. Սիմոնյան'!J19 -> 0 | K19: ='Ա. Ադամյան'!K19+'Ն. Գրիգորյան'!K19+'Վ. Խալաթյան'!K19+'Հ. Սարգսյան'!K19+'Գ. Ֆիդանյան'!K19+'Էդ. Հովհաննիսյան'!K19+'Հ. Մելքոնյան'!K19+'Մ. Սիմոնյան'!K19 -> 11 | ... R19: ='Ա. Ադամյան'!R19+'Ն. Գրիգորյան'!R19+'Վ. Խալաթյան'!R19+'Հ. Սարգսյան'!R19+'Գ. Ֆիդանյան'!R19+'Էդ. Հովհաննիսյան'!R19+'Հ. Մելքոնյան'!R19+'Մ. Սիմոնյան'!R19 -> 0 | S19: ='Ա. Ադամյան'!#REF!+'Ն. Գրիգորյան'!#REF!+'Վ. Խալաթյան'!#REF!+'Հ. Սարգսյան'!#REF!+'Գ. Ֆիդանյան'!#REF!+'Էդ. Հովհաննիսյան'!#REF!+'Հ. Մելքոնյան'!#REF!+'Մ. Սիմոնյան'!#REF! -> #REF! | T19: =D19+E19 -> 11 | U19: =F19+K19+L19 -> 11 | V19: =K19 -> 11 | W19: =G19+H19+I19+J19 -> 11
A20: 2 | B20: å³ïÇÅÁ ÷á÷áË»Éáõ, Ñ»ï³Ó·»Éáõ ¨ å³ïÅÇó ³½³ï»Éáõ Ù³uÇÝ ÙÇçÝáñ¹áõÃÛáõÝÝ»ñ | D20: ='Ա. Ադամյան'!D20+'Ն. Գրիգորյան'!D20+'Վ. Խալաթյան'!D20+'Հ. Սարգսյան'!D20+'Գ. Ֆիդանյան'!D20+'Էդ. Հովհաննիսյան'!D20+'Հ. Մելքոնյան'!D20+'Մ. Սիմոնյան'!D20 -> 0 | E20: ='Ա. Ադամյան'!E20+'Ն. Գրիգորյան'!E20+'Վ. Խալաթյան'!E20+'Հ. Սարգսյան'!E20+'Գ. Ֆիդանյան'!E20+'Էդ. Հովհաննիսյան'!E20+'Հ. Մելքոնյան'!E20+'Մ. Սիմոնյան'!E20 -> 8 | F20: ='Ա. Ադամյան'!F20+'Ն. Գրիգորյան'!F20+'Վ. Խալաթյան'!F20+'Հ. Սարգսյան'!F20+'Գ. Ֆիդանյան'!F20+'Էդ. Հովհաննիսյան'!F20+'Հ. Մելքոնյան'!F20+'Մ. Սիմոնյան'!F20 -> 1 | G20: ='Ա. Ադամյան'!G20+'Ն. Գրիգորյան'!G20+'Վ. Խալաթյան'!G20+'Հ. Սարգսյան'!G20+'Գ. Ֆիդանյան'!G20+'Էդ. Հովհաննիսյան'!G20+'Հ. Մելքոնյան'!G20+'Մ. Սիմոնյան'!G20 -> 3 | H20: ='Ա. Ադամյան'!H20+'Ն. Գրիգորյան'!H20+'Վ. Խալաթյան'!H20+'Հ. Սարգսյան'!H20+'Գ. Ֆիդանյան'!H20+'Էդ. Հովհաննիսյան'!H20+'Հ. Մելքոնյան'!H20+'Մ. Սիմոնյան'!H20 -> 3 | I20: ='Ա. Ադամյան'!I20+'Ն. Գրիգորյան'!I20+'Վ. Խալաթյան'!I20+'Հ. Սարգսյան'!I20+'Գ. Ֆիդանյան'!I20+'Էդ. Հովհաննիսյան'!I20+'Հ. Մելքոնյան'!I20+'Մ. Սիմոնյան'!I20 -> 0 | J20: ='Ա. Ադամյան'!J20+'Ն. Գրիգորյան'!J20+'Վ. Խալաթյան'!J20+'Հ. Սարգսյան'!J20+'Գ. Ֆիդանյան'!J20+'Էդ. Հովհաննիսյան'!J20+'Հ. Մելքոնյան'!J20+'Մ. Սիմոնյան'!J20 -> 0 | K20: ='Ա. Ադամյան'!K20+'Ն. Գրիգորյան'!K20+'Վ. Խալաթյան'!K20+'Հ. Սարգսյան'!K20+'Գ. Ֆիդանյան'!K20+'Էդ. Հովհաննիսյան'!K20+'Հ. Մելքոնյան'!K20+'Մ. Սիմոնյան'!K20 -> 6 | ... R20: ='Ա. Ադամյան'!R20+'Ն. Գրիգորյան'!R20+'Վ. Խալաթյան'!R20+'Հ. Սարգսյան'!R20+'Գ. Ֆիդանյան'!R20+'Էդ. Հովհաննիսյան'!R20+'Հ. Մելքոնյան'!R20+'Մ. Սիմոնյան'!R20 -> 0 | S20: ='Ա. Ադամյան'!#REF!+'Ն. Գրիգորյան'!#REF!+'Վ. Խալաթյան'!#REF!+'Հ. Սարգսյան'!#REF!+'Գ. Ֆիդանյան'!#REF!+'Էդ. Հովհաննիսյան'!#REF!+'Հ. Մելքոնյան'!#REF!+'Մ. Սիմոնյան'!#REF! -> #REF! | T20: =D20+E20 -> 8 | U20: =F20+K20+L20 -> 8 | V20: =K20 -> 6 | W20: =G20+H20+I20+J20 -> 6
A21: 3 | B21: Ñ³ñÏ³¹Çñ µáõÅÙ³Ý ï»ë³ÏÇ ÷á÷áËáõÃÛ³Ý Ù³ëÇÝ ÙÇçÝáñ¹áõÃÛáõÝÝ»ñ | D21: ='Ա. Ադամյան'!D21+'Ն. Գրիգորյան'!D21+'Վ. Խալաթյան'!D21+'Հ. Սարգսյան'!D21+'Գ. Ֆիդանյան'!D21+'Էդ. Հովհաննիսյան'!D21+'Հ. Մելքոնյան'!D21+'Մ. Սիմոնյան'!D21 -> 0 | E21: ='Ա. Ադամյան'!E21+'Ն. Գրիգորյան'!E21+'Վ. Խալաթյան'!E21+'Հ. Սարգսյան'!E21+'Գ. Ֆիդանյան'!E21+'Էդ. Հովհաննիսյան'!E21+'Հ. Մելքոնյան'!E21+'Մ. Սիմոնյան'!E21 -> 10 | F21: ='Ա. Ադամյան'!F21+'Ն. Գրիգորյան'!F21+'Վ. Խալաթյան'!F21+'Հ. Սարգսյան'!F21+'Գ. Ֆիդանյան'!F21+'Էդ. Հովհաննիսյան'!F21+'Հ. Մելքոնյան'!F21+'Մ. Սիմոնյան'!F21 -> 0 | G21: ='Ա. Ադամյան'!G21+'Ն. Գրիգորյան'!G21+'Վ. Խալաթյան'!G21+'Հ. Սարգսյան'!G21+'Գ. Ֆիդանյան'!G21+'Էդ. Հովհաննիսյան'!G21+'Հ. Մելքոնյան'!G21+'Մ. Սիմոնյան'!G21 -> 0 | H21: ='Ա. Ադամյան'!H21+'Ն. Գրիգորյան'!H21+'Վ. Խալաթյան'!H21+'Հ. Սարգսյան'!H21+'Գ. Ֆիդանյան'!H21+'Էդ. Հովհաննիսյան'!H21+'Հ. Մելքոնյան'!H21+'Մ. Սիմոնյան'!H21 -> 10 | I21: ='Ա. Ադամյան'!I21+'Ն. Գրիգորյան'!I21+'Վ. Խալաթյան'!I21+'Հ. Սարգսյան'!I21+'Գ. Ֆիդանյան'!I21+'Էդ. Հովհաննիսյան'!I21+'Հ. Մելքոնյան'!I21+'Մ. Սիմոնյան'!I21 -> 0 | J21: ='Ա. Ադամյան'!J21+'Ն. Գրիգորյան'!J21+'Վ. Խալաթյան'!J21+'Հ. Սարգսյան'!J21+'Գ. Ֆիդանյան'!J21+'Էդ. Հովհաննիսյան'!J21+'Հ. Մելքոնյան'!J21+'Մ. Սիմոնյան'!J21 -> 0 | K21: ='Ա. Ադամյան'!K21+'Ն. Գրիգորյան'!K21+'Վ. Խալաթյան'!K21+'Հ. Սարգսյան'!K21+'Գ. Ֆիդանյան'!K21+'Էդ. Հովհաննիսյան'!K21+'Հ. Մելքոնյան'!K21+'Մ. Սիմոնյան'!K21 -> 10 | ... R21: ='Ա. Ադամյան'!R21+'Ն. Գրիգորյան'!R21+'Վ. Խալաթյան'!R21+'Հ. Սարգսյան'!R21+'Գ. Ֆիդանյան'!R21+'Էդ. Հովհաննիսյան'!R21+'Հ. Մելքոնյան'!R21+'Մ. Սիմոնյան'!R21 -> 0 | S21: ='Ա. Ադամյան'!#REF!+'Ն. Գրիգորյան'!#REF!+'Վ. Խալաթյան'!#REF!+'Հ. Սարգսյան'!#REF!+'Գ. Ֆիդանյան'!#REF!+'Էդ. Հովհաննիսյան'!#REF!+'Հ. Մելքոնյան'!#REF!+'Մ. Սիմոնյան'!#REF! -> #REF! | T21: =D21+E21 -> 10 | U21: =F21+K21+L21 -> 10 | V21: =K21 -> 10 | W21: =G21+H21+I21+J21 -> 10
A22: 4 | B22: ³ÛÉ ÙÇçÝáñ¹áõÃÛáõÝÝ»ñ | D22: ='Ա. Ադամյան'!D22+'Ն. Գրիգորյան'!D22+'Վ. Խալաթյան'!D22+'Հ. Սարգսյան'!D22+'Գ. Ֆիդանյան'!D22+'Էդ. Հովհաննիսյան'!D22+'Հ. Մելքոնյան'!D22+'Մ. Սիմոնյան'!D22 -> 0 | E22: ='Ա. Ադամյան'!E22+'Ն. Գրիգորյան'!E22+'Վ. Խալաթյան'!E22+'Հ. Սարգսյան'!E22+'Գ. Ֆիդանյան'!E22+'Էդ. Հովհաննիսյան'!E22+'Հ. Մելքոնյան'!E22+'Մ. Սիմոնյան'!E22 -> 20 | F22: ='Ա. Ադամյան'!F22+'Ն. Գրիգորյան'!F22+'Վ. Խալաթյան'!F22+'Հ. Սարգսյան'!F22+'Գ. Ֆիդանյան'!F22+'Էդ. Հովհաննիսյան'!F22+'Հ. Մելքոնյան'!F22+'Մ. Սիմոնյան'!F22 -> 1 | G22: ='Ա. Ադամյան'!G22+'Ն. Գրիգորյան'!G22+'Վ. Խալաթյան'!G22+'Հ. Սարգսյան'!G22+'Գ. Ֆիդանյան'!G22+'Էդ. Հովհաննիսյան'!G22+'Հ. Մելքոնյան'!G22+'Մ. Սիմոնյան'!G22 -> 8 | H22: ='Ա. Ադամյան'!H22+'Ն. Գրիգորյան'!H22+'Վ. Խալաթյան'!H22+'Հ. Սարգսյան'!H22+'Գ. Ֆիդանյան'!H22+'Էդ. Հովհաննիսյան'!H22+'Հ. Մելքոնյան'!H22+'Մ. Սիմոնյան'!H22 -> 9 | I22: ='Ա. Ադամյան'!I22+'Ն. Գրիգորյան'!I22+'Վ. Խալաթյան'!I22+'Հ. Սարգսյան'!I22+'Գ. Ֆիդանյան'!I22+'Էդ. Հովհաննիսյան'!I22+'Հ. Մելքոնյան'!I22+'Մ. Սիմոնյան'!I22 -> 0 | J22: ='Ա. Ադամյան'!J22+'Ն. Գրիգորյան'!J22+'Վ. Խալաթյան'!J22+'Հ. Սարգսյան'!J22+'Գ. Ֆիդանյան'!J22+'Էդ. Հովհաննիսյան'!J22+'Հ. Մելքոնյան'!J22+'Մ. Սիմոնյան'!J22 -> 0 | K22: ='Ա. Ադամյան'!K22+'Ն. Գրիգորյան'!K22+'Վ. Խալաթյան'!K22+'Հ. Սարգսյան'!K22+'Գ. Ֆիդանյան'!K22+'Էդ. Հովհաննիսյան'!K22+'Հ. Մելքոնյան'!K22+'Մ. Սիմոնյան'!K22 -> 17 | ... R22: ='Ա. Ադամյան'!R22+'Ն. Գրիգորյան'!R22+'Վ. Խալաթյան'!R22+'Հ. Սարգսյան'!R22+'Գ. Ֆիդանյան'!R22+'Էդ. Հովհաննիսյան'!R22+'Հ. Մելքոնյան'!R22+'Մ. Սիմոնյան'!R22 -> 0 | S22: ='Ա. Ադամյան'!#REF!+'Ն. Գրիգորյան'!#REF!+'Վ. Խալաթյան'!#REF!+'Հ. Սարգսյան'!#REF!+'Գ. Ֆիդանյան'!#REF!+'Էդ. Հովհաննիսյան'!#REF!+'Հ. Մելքոնյան'!#REF!+'Մ. Սիմոնյան'!#REF! -> #REF! | T22: =D22+E22 -> 20 | U22: =F22+K22+L22 -> 20 | V22: =K22 -> 17 | W22: =G22+H22+I22+J22 -> 17
A23: 5 | B23: ¹³ï³Ï³Ý Ñ³ÝÓÝ³ñ³ñáõÃÛáõÝÝ»ñ | D23: ='Ա. Ադամյան'!D23+'Ն. Գրիգորյան'!D23+'Վ. Խալաթյան'!D23+'Հ. Սարգսյան'!D23+'Գ. Ֆիդանյան'!D23+'Էդ. Հովհաննիսյան'!D23+'Հ. Մելքոնյան'!D23+'Մ. Սիմոնյան'!D23 -> 4 | E23: ='Ա. Ադամյան'!E23+'Ն. Գրիգորյան'!E23+'Վ. Խալաթյան'!E23+'Հ. Սարգսյան'!E23+'Գ. Ֆիդանյան'!E23+'Էդ. Հովհաննիսյան'!E23+'Հ. Մելքոնյան'!E23+'Մ. Սիմոնյան'!E23 -> 7 | F23: ='Ա. Ադամյան'!F23+'Ն. Գրիգորյան'!F23+'Վ. Խալաթյան'!F23+'Հ. Սարգսյան'!F23+'Գ. Ֆիդանյան'!F23+'Էդ. Հովհաննիսյան'!F23+'Հ. Մելքոնյան'!F23+'Մ. Սիմոնյան'!F23 -> 0 | G23: ='Ա. Ադամյան'!G23+'Ն. Գրիգորյան'!G23+'Վ. Խալաթյան'!G23+'Հ. Սարգսյան'!G23+'Գ. Ֆիդանյան'!G23+'Էդ. Հովհաննիսյան'!G23+'Հ. Մելքոնյան'!G23+'Մ. Սիմոնյան'!G23 -> 0 | H23: ='Ա. Ադամյան'!H23+'Ն. Գրիգորյան'!H23+'Վ. Խալաթյան'!H23+'Հ. Սարգսյան'!H23+'Գ. Ֆիդանյան'!H23+'Էդ. Հովհաննիսյան'!H23+'Հ. Մելքոնյան'!H23+'Մ. Սիմոնյան'!H23 -> 8 | I23: ='Ա. Ադամյան'!I23+'Ն. Գրիգորյան'!I23+'Վ. Խալաթյան'!I23+'Հ. Սարգսյան'!I23+'Գ. Ֆիդանյան'!I23+'Էդ. Հովհաննիսյան'!I23+'Հ. Մելքոնյան'!I23+'Մ. Սիմոնյան'!I23 -> 0 | J23: ='Ա. Ադամյան'!J23+'Ն. Գրիգորյան'!J23+'Վ. Խալաթյան'!J23+'Հ. Սարգսյան'!J23+'Գ. Ֆիդանյան'!J23+'Էդ. Հովհաննիսյան'!J23+'Հ. Մելքոնյան'!J23+'Մ. Սիմոնյան'!J23 -> 0 | K23: ='Ա. Ադամյան'!K23+'Ն. Գրիգորյան'!K23+'Վ. Խալաթյան'!K23+'Հ. Սարգսյան'!K23+'Գ. Ֆիդանյան'!K23+'Էդ. Հովհաննիսյան'!K23+'Հ. Մելքոնյան'!K23+'Մ. Սիմոնյան'!K23 -> 8 | ... R23: ='Ա. Ադամյան'!R23+'Ն. Գրիգորյան'!R23+'Վ. Խալաթյան'!R23+'Հ. Սարգսյան'!R23+'Գ. Ֆիդանյան'!R23+'Էդ. Հովհաննիսյան'!R23+'Հ. Մելքոնյան'!R23+'Մ. Սիմոնյան'!R23 -> 0 | S23: ='Ա. Ադամյան'!#REF!+'Ն. Գրիգորյան'!#REF!+'Վ. Խալաթյան'!#REF!+'Հ. Սարգսյան'!#REF!+'Գ. Ֆիդանյան'!#REF!+'Էդ. Հովհաննիսյան'!#REF!+'Հ. Մելքոնյան'!#REF!+'Մ. Սիմոնյան'!#REF! -> #REF! | T23: =D23+E23 -> 11 | U23: =F23+K23+L23 -> 11 | V23: =K23 -> 8 | W23: =G23+H23+I23+J23 -> 8
A24: ÀÜ¸²ØºÜÀ | D24: ='Ա. Ադամյան'!D24+'Ն. Գրիգորյան'!D24+'Վ. Խալաթյան'!D24+'Հ. Սարգսյան'!D24+'Գ. Ֆիդանյան'!D24+'Էդ. Հովհաննիսյան'!D24+'Հ. Մելքոնյան'!D24+'Մ. Սիմոնյան'!D24 -> 6 | E24: ='Ա. Ադամյան'!E24+'Ն. Գրիգորյան'!E24+'Վ. Խալաթյան'!E24+'Հ. Սարգսյան'!E24+'Գ. Ֆիդանյան'!E24+'Էդ. Հովհաննիսյան'!E24+'Հ. Մելքոնյան'!E24+'Մ. Սիմոնյան'!E24 -> 684 | F24: ='Ա. Ադամյան'!F24+'Ն. Գրիգորյան'!F24+'Վ. Խալաթյան'!F24+'Հ. Սարգսյան'!F24+'Գ. Ֆիդանյան'!F24+'Էդ. Հովհաննիսյան'!F24+'Հ. Մելքոնյան'!F24+'Մ. Սիմոնյան'!F24 -> 7 | G24: ='Ա. Ադամյան'!G24+'Ն. Գրիգորյան'!G24+'Վ. Խալաթյան'!G24+'Հ. Սարգսյան'!G24+'Գ. Ֆիդանյան'!G24+'Էդ. Հովհաննիսյան'!G24+'Հ. Մելքոնյան'!G24+'Մ. Սիմոնյան'!G24 -> 83 | H24: ='Ա. Ադամյան'!H24+'Ն. Գրիգորյան'!H24+'Վ. Խալաթյան'!H24+'Հ. Սարգսյան'!H24+'Գ. Ֆիդանյան'!H24+'Էդ. Հովհաննիսյան'!H24+'Հ. Մելքոնյան'!H24+'Մ. Սիմոնյան'!H24 -> 577 | I24: ='Ա. Ադամյան'!I24+'Ն. Գրիգորյան'!I24+'Վ. Խալաթյան'!I24+'Հ. Սարգսյան'!I24+'Գ. Ֆիդանյան'!I24+'Էդ. Հովհաննիսյան'!I24+'Հ. Մելքոնյան'!I24+'Մ. Սիմոնյան'!I24 -> 5 | J24: ='Ա. Ադամյան'!J24+'Ն. Գրիգորյան'!J24+'Վ. Խալաթյան'!J24+'Հ. Սարգսյան'!J24+'Գ. Ֆիդանյան'!J24+'Էդ. Հովհաննիսյան'!J24+'Հ. Մելքոնյան'!J24+'Մ. Սիմոնյան'!J24 -> 2 | K24: ='Ա. Ադամյան'!K24+'Ն. Գրիգորյան'!K24+'Վ. Խալաթյան'!K24+'Հ. Սարգսյան'!K24+'Գ. Ֆիդանյան'!K24+'Էդ. Հովհաննիսյան'!K24+'Հ. Մելքոնյան'!K24+'Մ. Սիմոնյան'!K24 -> 667 | ... R24: ='Ա. Ադամյան'!R24+'Ն. Գրիգորյան'!R24+'Վ. Խալաթյան'!R24+'Հ. Սարգսյան'!R24+'Գ. Ֆիդանյան'!R24+'Էդ. Հովհաննիսյան'!R24+'Հ. Մելքոնյան'!R24+'Մ. Սիմոնյան'!R24 -> 10 | S24: ='Ա. Ադամյան'!#REF!+'Ն. Գրիգորյան'!#REF!+'Վ. Խալաթյան'!#REF!+'Հ. Սարգսյան'!#REF!+'Գ. Ֆիդանյան'!#REF!+'Էդ. Հովհաննիսյան'!#REF!+'Հ. Մելքոնյան'!#REF!+'Մ. Սիմոնյան'!#REF! -> #REF! | T24: =D24+E24 -> 690 | U24: =F24+K24+L24 -> 688 | V24: =K24 -> 667 | W24: =G24+H24+I24+J24 -> 667

Sheet Ա. Ադամյան
A1: 2016Ã. | D1: Ð²ÞìºîìàôÂÚàôÜ | P1: Ð³í»Éí³Í Ð³Û³ëï³ÝÇ Ð³Ýñ³å»ïáõÃÛ³Ý ¸³ï³ñ³ÝÝ»ñÇ Ý³Ë³·³ÑÝ»ñÇ ËáñÑñ¹Ç 27.01.2017Ã. ÃÇí 01-È áñáßÙ³Ý
A2: ØÇÝã¹³ï³Ï³Ý í³ñáõÛÃÇ ÝÏ³ïÙ³Ùµ ¹³ï³Ï³Ý í»ñ³ÑëÏáÕáõÃÛ³ÝÁ, ¹³ï³Ï³Ý ³Ïï»ñÇ ¨ ¹³ï³Ï³Ý Ñ³ÝÓÝ³ñ³ñáõÃÛáõÝÝ»ñÇ Ï³ï³ñÙ³ÝÁ Ñ»ï Ï³åí³Í ÙÇçÝáñ¹áõÃÛáõÝÝ»ñÇ í»ñ³µ»ñÛ³É ¹³ï³Ï³Ý ·áñÍ»ñáí ÐÐ ²ñÙ³íÇñÇ Ù³ñ½Ç ÁÝ¹Ñ³Ýáõñ Çñ³í³ëáõÃÛ³Ý ³é³çÇÝ ³ïÛ³ÝÇ ¹³ï³ñ³ÝÇ ¹³ï³íáñ ². ²¸²ØÚ²ÜÆ ·áñÍáõÝ»áõÃÛ³Ý í»ñ³µ»ñÛ³É
A3: êïáõ·Çã Ñ³í³ë³ñáõÙ` 1+2=3+8+9, 8=4+5+6+7, | D3: Ð³ßí»ïáõ Å³Ù³Ý³Ï³Ñ³ïí³ÍÇ ëÏ½µáõÙ Ý³Ëáñ¹ Ñ³ßí»ïáõ Å³Ù³Ý³Ï³Ñ³ïí³ÍÇó ÷áË³Ýóí³Í ·áñÍ»ñÇ ÁÝ¹Ñ³Ýáõñ ÃÇíÁ | E3: Ð³ßí»ïáõ Å³Ù³Ý³Ï³Ñ³ïí³ÍáõÙ ëï³óí³Í ·áñÍ»ñÇ ÁÝ¹Ñ³Ýáõñ ÃÇíÁ | F3: öáË³Ýóí»É ¿ ³ÛÉ ¹³ï³íáñÇ Ï³Ù ³ÛÉ ¹³ï³ñ³Ý (Ï³½ÙÇ ÷á÷áËáõÃÛáõÝ, ÁÝ¹¹³ïáõÃÛáõÝ) | G3: Ð³ßí»ïáõ Å³Ù³Ý³Ï³Ñ³ïí³ÍáõÙ ³í³ñïí³Í ·áñÍ»ñÇ ÁÝ¹Ñ³Ýáõñ ÃÇíÁ | L3: Ð³ßí»ïáõ Å³Ù³Ý³Ï³Ñ³ïí³ÍáõÙ ³Ý³í³ñï ·áñÍ»ñÇ ÁÝ¹Ñ³Ýáõñ ÃÇíÁ | M3: ØÇçÝáñ¹áõÃÛáõÝÝ»ñáí Ï³Û³óí³Í ¹³ï³Ï³Ý ³Ïï»ñÇó µáÕáù³ñÏí³ÍÝ»ñÇ ù³Ý³ÏÁ | O3: ²Ý³í³ñï µáÕáùÝ»ñ | P3: ØÇçÝáñ¹áõÃÛáõÝÝ»ñáí Ï³Û³óí³Í ¨ µáÕáù³ñÏí³Í ¹³ï³Ï³Ý ³Ïï»ñÇó µ»Ï³Ýí³ÍÝ»ñÇ ù³Ý³ÏÁ | R3: ÙÇçÝáñ¹áõÃÛáõÝÝ»ñáí Ï³Û³óí³Í ¨ µáÕáù³ñÏí³Í ¹³ï³Ï³Ý ³Ïï»ñÇó ³Ý÷á÷áË ÃáÕÝí³ÍÝ»ñÇ ù³Ý³ÏÁ
G4: Ù»ñÅí»É ¿ | H4: µ³í³ñ³ñí»É ¿ | I4: µ³í³ñ³ñí»É ¿ Ù³ëÝ³ÏÇ | J4: ÃáÕÝí»É ¿ ³é³Ýó ùÝÝáõÃÛ³Ý | K4: ÀÝ¹³Ù»ÝÁ
M5: Ý³Ëáñ¹ ï³ñÇÝ»ñÇÝ Ï³Û³óí³Í ³Ïï»ñÇ ¹»Ù | N5: Ñ³ßí»ïáõ Å³Ù³Ý³Ï³ßñç³ÝáõÙ Ï³Û³óí³Í ³Ïï»ñÇ ¹»Ù | P5: Ý³Ëáñ¹ ï³ñÇÝ»ñÇÝ Ï³Û³óí³Í ³Ïï»ñÇ µ»Ï³ÝáõÙÝ»ñÁ | Q5: Ñ³ßí»ïáõ Å³Ù³Ý³Ï³ßñç³ÝáõÙ Ï³Û³óí³Í ³Ïï»ñÇ µ»Ï³ÝáõÙÝ»ñÁ
A6: 1. ØÇÝã¹³ï³Ï³Ý í³ñáõÛÃÇ ÝÏ³ïÙ³Ùµ ¹³ï³Ï³Ý í»ñ³ÑëÏáÕáõÃÛ³Ý áÉáñï | D6: 1 | E6: 2 | F6: 3 | G6: 4 | H6: 5 | I6: 6 | J6: 7 | K6: 8 | L6: 9 | M6: 10 | N6: 11 | O6: 12 | P6: 13 | Q6: 14 | R6: 15 | S6: 1+2=3+8+9 | U6: 8=4+5+6+7
A7: 1 | B7: Ï³É³ÝùÁ áñå»ë Ë³÷³ÝÙ³Ý ÙÇçáó ÏÇñ³é»Éáõ Ù³ëÇÝ ÙÇçÝáñ¹áõÃÛáõÝÝ»ñ | E7: 11 | H7: 11 | K7: 11 | N7: 5 | O7: 4 | R7: 1 | S7: =D7+E7 -> 11 | T7: =F7+K7+L7 -> 11 | U7: =K7 -> 11 | V7: =G7+H7+I7+J7 -> 11
A8: 2 | B8: Ï³É³ÝùÇ Å³ÙÏ»ïÁ »ñÏ³ñ³óÝ»Éáõ Ù³ëÇÝ ÙÇçÝáñ¹áõÃÛáõÝÝ»ñ | E8: 5 | G8: 2 | H8: 3 | K8: 5 | S8: =D8+E8 -> 5 | T8: =F8+K8+L8 -> 5 | U8: =K8 -> 5 | V8: =G8+H8+I8+J8 -> 5
A9: 3 | B9: Ï³É³ÝùÇ í»ñ³Ñ³ëï³ïÙ³Ý Ù³ëÇÝ ÙÇçÝáñ¹áõÃÛáõÝÝ»ñ | S9: =D9+E9 -> 0 | T9: =F9+K9+L9 -> 0 | U9: =K9 -> 0 | V9: =G9+H9+I9+J9 -> 0
A10: 4 | B10: ·ñ³íÁ áñå»ë Ï³É³Ý³íáñÙ³Ý ³ÛÉÁÝïñ³Ýù³ÛÇÝ Ë³÷³ÝÙ³Ý ÙÇçáó ÏÇñ³é»Éáõ Ù³ëÇÝ ÙÇçÝáñ¹áõÃÛáõÝÝ»ñ | E10: 4 | F10: 1 | H10: 3 | K10: 3 | N10: 2 | O10: 1 | Q10: 1 | S10: =D10+E10 -> 4 | T10: =F10+K10+L10 -> 4 | U10: =K10 -> 3 | V10: =G10+H10+I10+J10 -> 3
A11: 5 | B11: Ëáõ½³ñÏáõÃÛ³Ý Ï³ï³ñÙ³Ý Ù³ëÇÝ ÙÇçÝáñ¹áõÃÛáõÝÝ»ñ | E11: 23 | H11: 23 | K11: 23 | S11: =D11+E11 -> 23 | T11: =F11+K11+L11 -> 23 | U11: =K11 -> 23 | V11: =G11+H11+I11+J11 -> 23
A12: 6 | B12: µ³ÝÏ³ÛÇÝ, ³å³Ñáí³·ñ³Ï³Ý, Ýáï³ñ³Ï³Ý ·³ÕïÝÇù Ï³½ÙáÕ ï»Õ»ÏáõÃÛáõÝÝ»ñÇ ëï³óÙ³Ý Ñ³Ù³ñ Ëáõ½³ñÏáõÃÛ³Ý Ï³Ù ³é·ñ³íÙ³Ý Ï³ï³ñÙ³Ý Ù³ëÇÝ ÙÇçÝáñ¹áõÃÛáõÝÝ»ñ | S12: =D12+E12 -> 0 | T12: =F12+K12+L12 -> 0 | U12: =K12 -> 0 | V12: =G12+H12+I12+J12 -> 0
A13: 7 | B13: Ý³Ù³Ï³·ñáõÃÛ³Ý, Ñ»é³·ñ³Ï³Ý, ÷áuï³ÛÇÝ Ñ³Õáñ¹áõÙÝ»ñÇ ÑëÏáÕáõÃÛ³Ý Ù³ëÇÝ ÙÇçÝáñ¹áõÃÛáõÝÝ»ñ | S13: =D13+E13 -> 0 | T13: =F13+K13+L13 -> 0 | U13: =K13 -> 0 | V13: =G13+H13+I13+J13 -> 0
A14: 8 | B14: Ñ»é³Ëáu³ÛÇÝ Ï³Ù Ï³åÇ ³ÛÉ ÙÇçáóÝ»ñáí ï³ñíáÕ Ëáu³ÏóáõÃÛáõÝÝ»ñÇ ÉuÙ³Ý ¨ Ó³ÛÝ³·ñ³éÙ³Ý Ù³ëÇÝ ÙÇçÝáñ¹áõÃÛáõÝÝ»ñ | S14: =D14+E14 -> 0 | T14: =F14+K14+L14 -> 0 | U14: =K14 -> 0 | V14: =G14+H14+I14+J14 -> 0
A15: 9 | B15: Ñ»é³ËáëÝ»ñÇ Ùáõïù³ÛÇÝ ¨ »Éù³ÛÇÝ í»ñÍ³ÝÙ³Ý ÃáõÛÉïíáõÃÛáõÝ ëï³Ý³Éáõ Ù³ëÇÝ ÙÇçÝáñ¹áõÃÛáõÝÝ»ñ | E15: 31 | H15: 31 | K15: 31 | S15: =D15+E15 -> 31 | T15: =F15+K15+L15 -> 31 | U15: =K15 -> 31 | V15: =G15+H15+I15+J15 -> 31
A16: 10 | B16: Ñ»ï³ùÝÝáõÃÛ³Ý Ù³ñÙÝÇ ³ßË³ïáÕÇ, ùÝÝÇãÇ, ¹³ï³Ë³½Ç oå»ñ³ïÇí-Ñ»ï³Ëáõ½³Ï³Ý ·áñÍáÕáõÃÛáõÝÝ»ñ Çñ³Ï³Ý³óÝáÕ Ù³ñÙÇÝÝ»ñÇ ³ÝoñÇÝ³Ï³Ý ¨ ³ÝÑÇÙÝ áñáßáõÙÝ»ñÇ ¨ ·áñÍáÕáõÃÛáõÝÝ»ñÇ ¹»Ù µáÕáùÝ»ñ | E16: 7 | F16: 2 | G16: 5 | K16: 5 | N16: 3 | O16: 3 | S16: =D16+E16 -> 7 | T16: =F16+K16+L16 -> 7 | U16: =K16 -> 5 | V16: =G16+H16+I16+J16 -> 5
A17: 11 | B17: ²½³ïáõÃÛáõÝÇó ½ñÏ»Éáõ Çñ³í³ã³÷áõÃÛ³Ý í»ñ³µ»ñÛ³É µáÕáùÝ»ñáí ·áñÍ»ñ | S17: =D17+E17 -> 0 | T17: =F17+K17+L17 -> 0 | U17: =K17 -> 0 | V17: =G17+H17+I17+J17 -> 0
A18: 2. ¸³ï³Ï³Ý ³Ïï»ñÇ ¨ ¹³ï³Ï³Ý Ñ³ÝÓÝ³ñ³ñáõÃÛáõÝÝ»ñÇ Ï³ï³ñÙ³Ý Ñ»ï Ï³åí³Í Ñ³ñó»ñÇ ÉáõÍÙ³Ý áÉáñï
A19: 1 | B19: å³ïÅÇó å³ÛÙ³Ý³Ï³Ý í³Õ³Å³ÙÏ»ï ³½³ï»Éáõ Ù³ëÇÝ ÙÇçÝáñ¹áõÃÛáõÝÝ»ñ | E19: 3 | G19: 2 | H19: 1 | K19: 3 | N19: 1 | O19: 1 | S19: =D19+E19 -> 3 | T19: =F19+K19+L19 -> 3 | U19: =K19 -> 3 | V19: =G19+H19+I19+J19 -> 3
A20: 2 | B20: å³ïÇÅÁ ÷á÷áË»Éáõ, Ñ»ï³Ó·»Éáõ ¨ å³ïÅÇó ³½³ï»Éáõ Ù³uÇÝ ÙÇçÝáñ¹áõÃÛáõÝÝ»ñ | E20: 4 | G20: 3 | K20: 3 | L20: 1 | S20: =D20+E20 -> 4 | T20: =F20+K20+L20 -> 4 | U20: =K20 -> 3 | V20: =G20+H20+I20+J20 -> 3
A21: 3 | B21: Ñ³ñÏ³¹Çñ µáõÅÙ³Ý ï»ë³ÏÇ ÷á÷áËáõÃÛ³Ý Ù³ëÇÝ ÙÇçÝáñ¹áõÃÛáõÝÝ»ñ | E21: 1 | H21: 1 | K21: 1 | S21: =D21+E21 -> 1 | T21: =F21+K21+L21 -> 1 | U21: =K21 -> 1 | V21: =G21+H21+I21+J21 -> 1
A22: 4 | B22: ³ÛÉ ÙÇçÝáñ¹áõÃÛáõÝÝ»ñ | E22: 9 | F22: 1 | G22: 6 | H22: 1 | K22: 7 | L22: 1 | N22: 1 | O22: 1 | S22: =D22+E22 -> 9 | T22: =F22+K22+L22 -> 9 | U22: =K22 -> 7 | V22: =G22+H22+I22+J22 -> 7
A23: 5 | B23: ¹³ï³Ï³Ý Ñ³ÝÓÝ³ñ³ñáõÃÛáõÝÝ»ñ | S23: =D23+E23 -> 0 | T23: =F23+K23+L23 -> 0 | U23: =K23 -> 0 | V23: =G23+H23+I23+J23 -> 0
A24: ÀÜ¸²ØºÜÀ | D24: =D7+D8+D9+D10+D11+D12+D13+D14+D15+D17+D19+D20+D21+D22+D23+D16 -> 0 | E24: =E7+E8+E9+E10+E11+E12+E13+E14+E15+E17+E19+E20+E21+E22+E23+E16 -> 98 | F24: =F7+F8+F9+F10+F11+F12+F13+F14+F15+F17+F19+F20+F21+F22+F23+F16 -> 4 | G24: =G7+G8+G9+G10+G11+G12+G13+G14+G15+G17+G19+G20+G21+G22+G23+G16 -> 18 | H24: =H7+H8+H9+H10+H11+H12+H13+H14+H15+H17+H19+H20+H21+H22+H23+H16 -> 74 | I24: =I7+I8+I9+I10+I11+I12+I13+I14+I15+I17+I19+I20+I21+I22+I23+I16 -> 0 | J24: =J7+J8+J9+J10+J11+J12+J13+J14+J15+J17+J19+J20+J21+J22+J23+J16 -> 0 | K24: =K7+K8+K9+K10+K11+K12+K13+K14+K15+K17+K19+K20+K21+K22+K23+K16 -> 92 | ... R24: =R7+R8+R9+R10+R11+R12+R13+R14+R15+R17+R19+R20+R21+R22+R23+R16 -> 1 | S24: =D24+E24 -> 98 | T24: =F24+K24+L24 -> 98 | U24: =K24 -> 92 | V24: =G24+H24+I24+J24 -> 92

Sheet Ն. Գրիգորյան
A1: 2016Ã. | D1: Ð²ÞìºîìàôÂÚàôÜ | P1: Ð³í»Éí³Í Ð³Û³ëï³ÝÇ Ð³Ýñ³å»ïáõÃÛ³Ý ¸³ï³ñ³ÝÝ»ñÇ Ý³Ë³·³ÑÝ»ñÇ ËáñÑñ¹Ç 27.01.2017Ã. ÃÇí 01-È áñáßÙ³Ý
A2: ØÇÝã¹³ï³Ï³Ý í³ñáõÛÃÇ ÝÏ³ïÙ³Ùµ ¹³ï³Ï³Ý í»ñ³ÑëÏáÕáõÃÛ³ÝÁ, ¹³ï³Ï³Ý ³Ïï»ñÇ ¨ ¹³ï³Ï³Ý Ñ³ÝÓÝ³ñ³ñáõÃÛáõÝÝ»ñÇ Ï³ï³ñÙ³ÝÁ Ñ»ï Ï³åí³Í ÙÇçÝáñ¹áõÃÛáõÝÝ»ñÇ í»ñ³µ»ñÛ³É ¹³ï³Ï³Ý ·áñÍ»ñáí ÐÐ ²ñÙ³íÇñÇ Ù³ñ½Ç ÁÝ¹Ñ³Ýáõñ Çñ³í³ëáõÃÛ³Ý ³é³çÇÝ ³ïÛ³ÝÇ ¹³ï³ñ³ÝÇ ¹³ï³íáñ Ն. Գրիգորյանի ·áñÍáõÝ»áõÃÛ³Ý í»ñ³µ»ñÛ³É
A3: êïáõ·Çã Ñ³í³ë³ñáõÙ` 1+2=3+8+9, 8=4+5+6+7, | D3: Ð³ßí»ïáõ Å³Ù³Ý³Ï³Ñ³ïí³ÍÇ ëÏ½µáõÙ Ý³Ëáñ¹ Ñ³ßí»ïáõ Å³Ù³Ý³Ï³Ñ³ïí³ÍÇó ÷áË³Ýóí³Í ·áñÍ»ñÇ ÁÝ¹Ñ³Ýáõñ ÃÇíÁ | E3: Ð³ßí»ïáõ Å³Ù³Ý³Ï³Ñ³ïí³ÍáõÙ ëï³óí³Í ·áñÍ»ñÇ ÁÝ¹Ñ³Ýáõñ ÃÇíÁ | F3: öáË³Ýóí»É ¿ ³ÛÉ ¹³ï³íáñÇ Ï³Ù ³ÛÉ ¹³ï³ñ³Ý (Ï³½ÙÇ ÷á÷áËáõÃÛáõÝ, ÁÝ¹¹³ïáõÃÛáõÝ) | G3: Ð³ßí»ïáõ Å³Ù³Ý³Ï³Ñ³ïí³ÍáõÙ ³í³ñïí³Í ·áñÍ»ñÇ ÁÝ¹Ñ³Ýáõñ ÃÇíÁ | L3: Ð³ßí»ïáõ Å³Ù³Ý³Ï³Ñ³ïí³ÍáõÙ ³Ý³í³ñï ·áñÍ»ñÇ ÁÝ¹Ñ³Ýáõñ ÃÇíÁ | M3: ØÇçÝáñ¹áõÃÛáõÝÝ»ñáí Ï³Û³óí³Í ¹³ï³Ï³Ý ³Ïï»ñÇó µáÕáù³ñÏí³ÍÝ»ñÇ ù³Ý³ÏÁ | O3: ²Ý³í³ñï µáÕáùÝ»ñ | P3: ØÇçÝáñ¹áõÃÛáõÝÝ»ñáí Ï³Û³óí³Í ¨ µáÕáù³ñÏí³Í ¹³ï³Ï³Ý ³Ïï»ñÇó µ»Ï³Ýí³ÍÝ»ñÇ ù³Ý³ÏÁ | R3: ÙÇçÝáñ¹áõÃÛáõÝÝ»ñáí Ï³Û³óí³Í ¨ µáÕáù³ñÏí³Í ¹³ï³Ï³Ý ³Ïï»ñÇó ³Ý÷á÷áË ÃáÕÝí³ÍÝ»ñÇ ù³Ý³ÏÁ
G4: Ù»ñÅí»É ¿ | H4: µ³í³ñ³ñí»É ¿ | I4: µ³í³ñ³ñí»É ¿ Ù³ëÝ³ÏÇ | J4: ÃáÕÝí»É ¿ ³é³Ýó ùÝÝáõÃÛ³Ý | K4: ÀÝ¹³Ù»ÝÁ
M5: Ý³Ëáñ¹ ï³ñÇÝ»ñÇÝ Ï³Û³óí³Í ³Ïï»ñÇ ¹»Ù | N5: Ñ³ßí»ïáõ Å³Ù³Ý³Ï³ßñç³ÝáõÙ Ï³Û³óí³Í ³Ïï»ñÇ ¹»Ù | P5: Ý³Ëáñ¹ ï³ñÇÝ»ñÇÝ Ï³Û³óí³Í ³Ïï»ñÇ µ»Ï³ÝáõÙÝ»ñÁ | Q5: Ñ³ßí»ïáõ Å³Ù³Ý³Ï³ßñç³ÝáõÙ Ï³Û³óí³Í ³Ïï»ñÇ µ»Ï³ÝáõÙÝ»ñÁ
A6: 1. ØÇÝã¹³ï³Ï³Ý í³ñáõÛÃÇ ÝÏ³ïÙ³Ùµ ¹³ï³Ï³Ý í»ñ³ÑëÏáÕáõÃÛ³Ý áÉáñï | D6: 1 | E6: 2 | F6: 3 | G6: 4 | H6: 5 | I6: 6 | J6: 7 | K6: 8 | L6: 9 | M6: 10 | N6: 11 | O6: 12 | P6: 13 | Q6: 14 | R6: 15 | S6: 1+2=3+8+9 | U6: 8=4+5+6+7
A7: 1 | B7: Ï³É³ÝùÁ áñå»ë Ë³÷³ÝÙ³Ý ÙÇçáó ÏÇñ³é»Éáõ Ù³ëÇÝ ÙÇçÝáñ¹áõÃÛáõÝÝ»ñ | E7: 15 | H7: 15 | K7: 15 | N7: 2 | O7: 1 | S7: =D7+E7 -> 15 | T7: =F7+K7+L7 -> 15 | U7: =K7 -> 15 | V7: =G7+H7+I7+J7 -> 15
A8: 2 | B8: Ï³É³ÝùÇ Å³ÙÏ»ïÁ »ñÏ³ñ³óÝ»Éáõ Ù³ëÇÝ ÙÇçÝáñ¹áõÃÛáõÝÝ»ñ | E8: 10 | H8: 10 | K8: 10 | N8: 1 | S8: =D8+E8 -> 10 | T8: =F8+K8+L8 -> 10 | U8: =K8 -> 10 | V8: =G8+H8+I8+J8 -> 10
A9: 3 | B9: Ï³É³ÝùÇ í»ñ³Ñ³ëï³ïÙ³Ý Ù³ëÇÝ ÙÇçÝáñ¹áõÃÛáõÝÝ»ñ | E9: 1 | H9: 1 | K9: 1 | S9: =D9+E9 -> 1 | T9: =F9+K9+L9 -> 1 | U9: =K9 -> 1 | V9: =G9+H9+I9+J9 -> 1
A10: 4 | B10: ·ñ³íÁ áñå»ë Ï³É³Ý³íáñÙ³Ý ³ÛÉÁÝïñ³Ýù³ÛÇÝ Ë³÷³ÝÙ³Ý ÙÇçáó ÏÇñ³é»Éáõ Ù³ëÇÝ ÙÇçÝáñ¹áõÃÛáõÝÝ»ñ | E10: 15 | G10: 15 | K10: 15 | N10: 6 | O10: 2 | S10: =D10+E10 -> 15 | T10: =F10+K10+L10 -> 15 | U10: =K10 -> 15 | V10: =G10+H10+I10+J10 -> 15
A11: 5 | B11: Ëáõ½³ñÏáõÃÛ³Ý Ï³ï³ñÙ³Ý Ù³ëÇÝ ÙÇçÝáñ¹áõÃÛáõÝÝ»ñ | E11: 47 | H11: 47 | K11: 47 | S11: =D11+E11 -> 47 | T11: =F11+K11+L11 -> 47 | U11: =K11 -> 47 | V11: =G11+H11+I11+J11 -> 47
A12: 6 | B12: µ³ÝÏ³ÛÇÝ, ³å³Ñáí³·ñ³Ï³Ý, Ýáï³ñ³Ï³Ý ·³ÕïÝÇù Ï³½ÙáÕ ï»Õ»ÏáõÃÛáõÝÝ»ñÇ ëï³óÙ³Ý Ñ³Ù³ñ Ëáõ½³ñÏáõÃÛ³Ý Ï³Ù ³é·ñ³íÙ³Ý Ï³ï³ñÙ³Ý Ù³ëÇÝ ÙÇçÝáñ¹áõÃÛáõÝÝ»ñ | S12: =D12+E12 -> 0 | T12: =F12+K12+L12 -> 0 | U12: =K12 -> 0 | V12: =G12+H12+I12+J12 -> 0
A13: 7 | B13: Ý³Ù³Ï³·ñáõÃÛ³Ý, Ñ»é³·ñ³Ï³Ý, ÷áuï³ÛÇÝ Ñ³Õáñ¹áõÙÝ»ñÇ ÑëÏáÕáõÃÛ³Ý Ù³ëÇÝ ÙÇçÝáñ¹áõÃÛáõÝÝ»ñ | S13: =D13+E13 -> 0 | T13: =F13+K13+L13 -> 0 | U13: =K13 -> 0 | V13: =G13+H13+I13+J13 -> 0
A14: 8 | B14: Ñ»é³Ëáu³ÛÇÝ Ï³Ù Ï³åÇ ³ÛÉ ÙÇçáóÝ»ñáí ï³ñíáÕ Ëáu³ÏóáõÃÛáõÝÝ»ñÇ ÉuÙ³Ý ¨ Ó³ÛÝ³·ñ³éÙ³Ý Ù³ëÇÝ ÙÇçÝáñ¹áõÃÛáõÝÝ»ñ | S14: =D14+E14 -> 0 | T14: =F14+K14+L14 -> 0 | U14: =K14 -> 0 | V14: =G14+H14+I14+J14 -> 0
A15: 9 | B15: Ñ»é³ËáëÝ»ñÇ Ùáõïù³ÛÇÝ ¨ »Éù³ÛÇÝ í»ñÍ³ÝÙ³Ý ÃáõÛÉïíáõÃÛáõÝ ëï³Ý³Éáõ Ù³ëÇÝ ÙÇçÝáñ¹áõÃÛáõÝÝ»ñ | E15: 43 | H15: 43 | K15: 43 | S15: =D15+E15 -> 43 | T15: =F15+K15+L15 -> 43 | U15: =K15 -> 43 | V15: =G15+H15+I15+J15 -> 43
A16: 10 | B16: Ñ»ï³ùÝÝáõÃÛ³Ý Ù³ñÙÝÇ ³ßË³ïáÕÇ, ùÝÝÇãÇ, ¹³ï³Ë³½Ç oå»ñ³ïÇí-Ñ»ï³Ëáõ½³Ï³Ý ·áñÍáÕáõÃÛáõÝÝ»ñ Çñ³Ï³Ý³óÝáÕ Ù³ñÙÇÝÝ»ñÇ ³ÝoñÇÝ³Ï³Ý ¨ ³ÝÑÇÙÝ áñáßáõÙÝ»ñÇ ¨ ·áñÍáÕáõÃÛáõÝÝ»ñÇ ¹»Ù µáÕáùÝ»ñ | E16: 1 | G16: 1 | K16: 1 | N16: 1 | Q16: 1 | S16: =D16+E16 -> 1 | T16: =F16+K16+L16 -> 1 | U16: =K16 -> 1 | V16: =G16+H16+I16+J16 -> 1
A17: 11 | B17: ²½³ïáõÃÛáõÝÇó ½ñÏ»Éáõ Çñ³í³ã³÷áõÃÛ³Ý í»ñ³µ»ñÛ³É µáÕáùÝ»ñáí ·áñÍ»ñ | S17: =D17+E17 -> 0 | T17: =F17+K17+L17 -> 0 | U17: =K17 -> 0 | V17: =G17+H17+I17+J17 -> 0
A18: 2. ¸³ï³Ï³Ý ³Ïï»ñÇ ¨ ¹³ï³Ï³Ý Ñ³ÝÓÝ³ñ³ñáõÃÛáõÝÝ»ñÇ Ï³ï³ñÙ³Ý Ñ»ï Ï³åí³Í Ñ³ñó»ñÇ ÉáõÍÙ³Ý áÉáñï
A19: 1 | B19: å³ïÅÇó å³ÛÙ³Ý³Ï³Ý í³Õ³Å³ÙÏ»ï ³½³ï»Éáõ Ù³ëÇÝ ÙÇçÝáñ¹áõÃÛáõÝÝ»ñ | S19: =D19+E19 -> 0 | T19: =F19+K19+L19 -> 0 | U19: =K19 -> 0 | V19: =G19+H19+I19+J19 -> 0
A20: 2 | B20: å³ïÇÅÁ ÷á÷áË»Éáõ, Ñ»ï³Ó·»Éáõ ¨ å³ïÅÇó ³½³ï»Éáõ Ù³uÇÝ ÙÇçÝáñ¹áõÃÛáõÝÝ»ñ | S20: =D20+E20 -> 0 | T20: =F20+K20+L20 -> 0 | U20: =K20 -> 0 | V20: =G20+H20+I20+J20 -> 0
A21: 3 | B21: Ñ³ñÏ³¹Çñ µáõÅÙ³Ý ï»ë³ÏÇ ÷á÷áËáõÃÛ³Ý Ù³ëÇÝ ÙÇçÝáñ¹áõÃÛáõÝÝ»ñ | S21: =D21+E21 -> 0 | T21: =F21+K21+L21 -> 0 | U21: =K21 -> 0 | V21: =G21+H21+I21+J21 -> 0
A22: 4 | B22: ³ÛÉ ÙÇçÝáñ¹áõÃÛáõÝÝ»ñ | E22: 2 | H22: 2 | K22: 2 | S22: =D22+E22 -> 2 | T22: =F22+K22+L22 -> 2 | U22: =K22 -> 2 | V22: =G22+H22+I22+J22 -> 2
A23: 5 | B23: ¹³ï³Ï³Ý Ñ³ÝÓÝ³ñ³ñáõÃÛáõÝÝ»ñ | D23: 2 | E23: 3 | H23: 3 | K23: 3 | L23: 2 | S23: =D23+E23 -> 5 | T23: =F23+K23+L23 -> 5 | U23: =K23 -> 3 | V23: =G23+H23+I23+J23 -> 3
A24: ÀÜ¸²ØºÜÀ | D24: =D7+D8+D9+D10+D11+D12+D13+D14+D15+D17+D19+D20+D21+D22+D23+D16 -> 2 | E24: =E7+E8+E9+E10+E11+E12+E13+E14+E15+E17+E19+E20+E21+E22+E23+E16 -> 137 | F24: =F7+F8+F9+F10+F11+F12+F13+F14+F15+F17+F19+F20+F21+F22+F23+F16 -> 0 | G24: =G7+G8+G9+G10+G11+G12+G13+G14+G15+G17+G19+G20+G21+G22+G23+G16 -> 16 | H24: =H7+H8+H9+H10+H11+H12+H13+H14+H15+H17+H19+H20+H21+H22+H23+H16 -> 121 | I24: =I7+I8+I9+I10+I11+I12+I13+I14+I15+I17+I19+I20+I21+I22+I23+I16 -> 0 | J24: =J7+J8+J9+J10+J11+J12+J13+J14+J15+J17+J19+J20+J21+J22+J23+J16 -> 0 | K24: =K7+K8+K9+K10+K11+K12+K13+K14+K15+K17+K19+K20+K21+K22+K23+K16 -> 137 | ... R24: =R7+R8+R9+R10+R11+R12+R13+R14+R15+R17+R19+R20+R21+R22+R23+R16 -> 0 | S24: =D24+E24 -> 139 | T24: =F24+K24+L24 -> 139 | U24: =K24 -> 137 | V24: =G24+H24+I24+J24 -> 137

Sheet Վ. Խալաթյան
A1: 2016Ã. | D1: Ð²ÞìºîìàôÂÚàôÜ | P1: Ð³í»Éí³Í Ð³Û³ëï³ÝÇ Ð³Ýñ³å»ïáõÃÛ³Ý ¸³ï³ñ³ÝÝ»ñÇ Ý³Ë³·³ÑÝ»ñÇ ËáñÑñ¹Ç 27.01.2017Ã. ÃÇí 01-È áñáßÙ³Ý
A2: ØÇÝã¹³ï³Ï³Ý í³ñáõÛÃÇ ÝÏ³ïÙ³Ùµ ¹³ï³Ï³Ý í»ñ³ÑëÏáÕáõÃÛ³ÝÁ, ¹³ï³Ï³Ý ³Ïï»ñÇ ¨ ¹³ï³Ï³Ý Ñ³ÝÓÝ³ñ³ñáõÃÛáõÝÝ»ñÇ Ï³ï³ñÙ³ÝÁ Ñ»ï Ï³åí³Í ÙÇçÝáñ¹áõÃÛáõÝÝ»ñÇ í»ñ³µ»ñÛ³É ¹³ï³Ï³Ý ·áñÍ»ñáí ÐÐ ²ñÙ³íÇñÇ Ù³ñ½Ç ÁÝ¹Ñ³Ýáõñ Çñ³í³ëáõÃÛ³Ý ³é³çÇÝ ³ïÛ³ÝÇ ¹³ï³ñ³ÝÇ ¹³ï³íáñ ì. Ê³É³Ãյանի ·áñÍáõÝ»áõÃÛ³Ý í»ñ³µ»ñÛ³É
A3: êïáõ·Çã Ñ³í³ë³ñáõÙ` 1+2=3+8+9, 8=4+5+6+7, | D3: Ð³ßí»ïáõ Å³Ù³Ý³Ï³Ñ³ïí³ÍÇ ëÏ½µáõÙ Ý³Ëáñ¹ Ñ³ßí»ïáõ Å³Ù³Ý³Ï³Ñ³ïí³ÍÇó ÷áË³Ýóí³Í ·áñÍ»ñÇ ÁÝ¹Ñ³Ýáõñ ÃÇíÁ | E3: Ð³ßí»ïáõ Å³Ù³Ý³Ï³Ñ³ïí³ÍáõÙ ëï³óí³Í ·áñÍ»ñÇ ÁÝ¹Ñ³Ýáõñ ÃÇíÁ | F3: öáË³Ýóí»É ¿ ³ÛÉ ¹³ï³íáñÇ Ï³Ù ³ÛÉ ¹³ï³ñ³Ý (Ï³½ÙÇ ÷á÷áËáõÃÛáõÝ, ÁÝ¹¹³ïáõÃÛáõÝ) | G3: Ð³ßí»ïáõ Å³Ù³Ý³Ï³Ñ³ïí³ÍáõÙ ³í³ñïí³Í ·áñÍ»ñÇ ÁÝ¹Ñ³Ýáõñ ÃÇíÁ | L3: Ð³ßí»ïáõ Å³Ù³Ý³Ï³Ñ³ïí³ÍáõÙ ³Ý³í³ñï ·áñÍ»ñÇ ÁÝ¹Ñ³Ýáõñ ÃÇíÁ | M3: ØÇçÝáñ¹áõÃÛáõÝÝ»ñáí Ï³Û³óí³Í ¹³ï³Ï³Ý ³Ïï»ñÇó µáÕáù³ñÏí³ÍÝ»ñÇ ù³Ý³ÏÁ | O3: ²Ý³í³ñï µáÕáùÝ»ñ | P3: ØÇçÝáñ¹áõÃÛáõÝÝ»ñáí Ï³Û³óí³Í ¨ µáÕáù³ñÏí³Í ¹³ï³Ï³Ý ³Ïï»ñÇó µ»Ï³Ýí³ÍÝ»ñÇ ù³Ý³ÏÁ | R3: ÙÇçÝáñ¹áõÃÛáõÝÝ»ñáí Ï³Û³óí³Í ¨ µáÕáù³ñÏí³Í ¹³ï³Ï³Ý ³Ïï»ñÇó ³Ý÷á÷áË ÃáÕÝí³ÍÝ»ñÇ ù³Ý³ÏÁ
G4: Ù»ñÅí»É ¿ | H4: µ³í³ñ³ñí»É ¿ | I4: µ³í³ñ³ñí»É ¿ Ù³ëÝ³ÏÇ | J4: ÃáÕÝí»É ¿ ³é³Ýó ùÝÝáõÃÛ³Ý | K4: ÀÝ¹³Ù»ÝÁ
M5: Ý³Ëáñ¹ ï³ñÇÝ»ñÇÝ Ï³Û³óí³Í ³Ïï»ñÇ ¹»Ù | N5: Ñ³ßí»ïáõ Å³Ù³Ý³Ï³ßñç³ÝáõÙ Ï³Û³óí³Í ³Ïï»ñÇ ¹»Ù | P5: Ý³Ëáñ¹ ï³ñÇÝ»ñÇÝ Ï³Û³óí³Í ³Ïï»ñÇ µ»Ï³ÝáõÙÝ»ñÁ | Q5: Ñ³ßí»ïáõ Å³Ù³Ý³Ï³ßñç³ÝáõÙ Ï³Û³óí³Í ³Ïï»ñÇ µ»Ï³ÝáõÙÝ»ñÁ
A6: 1. ØÇÝã¹³ï³Ï³Ý í³ñáõÛÃÇ ÝÏ³ïÙ³Ùµ ¹³ï³Ï³Ý í»ñ³ÑëÏáÕáõÃÛ³Ý áÉáñï | D6: 1 | E6: 2 | F6: 3 | G6: 4 | H6: 5 | I6: 6 | J6: 7 | K6: 8 | L6: 9 | M6: 10 | N6: 11 | O6: 12 | P6: 13 | Q6: 14 | R6: 15 | S6: 1+2=3+8+9 | U6: 8=4+5+6+7
A7: 1 | B7: Ï³É³ÝùÁ áñå»ë Ë³÷³ÝÙ³Ý ÙÇçáó ÏÇñ³é»Éáõ Ù³ëÇÝ ÙÇçÝáñ¹áõÃÛáõÝÝ»ñ | E7: 15 | H7: 15 | K7: 15 | N7: 3 | S7: =D7+E7 -> 15 | T7: =F7+K7+L7 -> 15 | U7: =K7 -> 15 | V7: =G7+H7+I7+J7 -> 15
A8: 2 | B8: Ï³É³ÝùÇ Å³ÙÏ»ïÁ »ñÏ³ñ³óÝ»Éáõ Ù³ëÇÝ ÙÇçÝáñ¹áõÃÛáõÝÝ»ñ | E8: 7 | H8: 5 | J8: 1 | K8: 6 | L8: 1 | N8: 2 | S8: =D8+E8 -> 7 | T8: =F8+K8+L8 -> 7 | U8: =K8 -> 6 | V8: =G8+H8+I8+J8 -> 6
A9: 3 | B9: Ï³É³ÝùÇ í»ñ³Ñ³ëï³ïÙ³Ý Ù³ëÇÝ ÙÇçÝáñ¹áõÃÛáõÝÝ»ñ | E9: 3 | H9: 3 | K9: 3 | S9: =D9+E9 -> 3 | T9: =F9+K9+L9 -> 3 | U9: =K9 -> 3 | V9: =G9+H9+I9+J9 -> 3
A10: 4 | B10: ·ñ³íÁ áñå»ë Ï³É³Ý³íáñÙ³Ý ³ÛÉÁÝïñ³Ýù³ÛÇÝ Ë³÷³ÝÙ³Ý ÙÇçáó ÏÇñ³é»Éáõ Ù³ëÇÝ ÙÇçÝáñ¹áõÃÛáõÝÝ»ñ | E10: 6 | G10: 6 | K10: 6 | S10: =D10+E10 -> 6 | T10: =F10+K10+L10 -> 6 | U10: =K10 -> 6 | V10: =G10+H10+I10+J10 -> 6
A11: 5 | B11: Ëáõ½³ñÏáõÃÛ³Ý Ï³ï³ñÙ³Ý Ù³ëÇÝ ÙÇçÝáñ¹áõÃÛáõÝÝ»ñ | E11: 33 | H11: 33 | K11: 33 | S11: =D11+E11 -> 33 | T11: =F11+K11+L11 -> 33 | U11: =K11 -> 33 | V11: =G11+H11+I11+J11 -> 33
A12: 6 | B12: µ³ÝÏ³ÛÇÝ, ³å³Ñáí³·ñ³Ï³Ý, Ýáï³ñ³Ï³Ý ·³ÕïÝÇù Ï³½ÙáÕ ï»Õ»ÏáõÃÛáõÝÝ»ñÇ ëï³óÙ³Ý Ñ³Ù³ñ Ëáõ½³ñÏáõÃÛ³Ý Ï³Ù ³é·ñ³íÙ³Ý Ï³ï³ñÙ³Ý Ù³ëÇÝ ÙÇçÝáñ¹áõÃÛáõÝÝ»ñ | S12: =D12+E12 -> 0 | T12: =F12+K12+L12 -> 0 | U12: =K12 -> 0 | V12: =G12+H12+I12+J12 -> 0
A13: 7 | B13: Ý³Ù³Ï³·ñáõÃÛ³Ý, Ñ»é³·ñ³Ï³Ý, ÷áuï³ÛÇÝ Ñ³Õáñ¹áõÙÝ»ñÇ ÑëÏáÕáõÃÛ³Ý Ù³ëÇÝ ÙÇçÝáñ¹áõÃÛáõÝÝ»ñ | S13: =D13+E13 -> 0 | T13: =F13+K13+L13 -> 0 | U13: =K13 -> 0 | V13: =G13+H13+I13+J13 -> 0
A14: 8 | B14: Ñ»é³Ëáu³ÛÇÝ Ï³Ù Ï³åÇ ³ÛÉ ÙÇçáóÝ»ñáí ï³ñíáÕ Ëáu³ÏóáõÃÛáõÝÝ»ñÇ ÉuÙ³Ý ¨ Ó³ÛÝ³·ñ³éÙ³Ý Ù³ëÇÝ ÙÇçÝáñ¹áõÃÛáõÝÝ»ñ | S14: =D14+E14 -> 0 | T14: =F14+K14+L14 -> 0 | U14: =K14 -> 0 | V14: =G14+H14+I14+J14 -> 0
A15: 9 | B15: Ñ»é³ËáëÝ»ñÇ Ùáõïù³ÛÇÝ ¨ »Éù³ÛÇÝ í»ñÍ³ÝÙ³Ý ÃáõÛÉïíáõÃÛáõÝ ëï³Ý³Éáõ Ù³ëÇÝ ÙÇçÝáñ¹áõÃÛáõÝÝ»ñ | E15: 29 | H15: 29 | K15: 29 | S15: =D15+E15 -> 29 | T15: =F15+K15+L15 -> 29 | U15: =K15 -> 29 | V15: =G15+H15+I15+J15 -> 29
A16: 10 | B16: Ñ»ï³ùÝÝáõÃÛ³Ý Ù³ñÙÝÇ ³ßË³ïáÕÇ, ùÝÝÇãÇ, ¹³ï³Ë³½Ç oå»ñ³ïÇí-Ñ»ï³Ëáõ½³Ï³Ý ·áñÍáÕáõÃÛáõÝÝ»ñ Çñ³Ï³Ý³óÝáÕ Ù³ñÙÇÝÝ»ñÇ ³ÝoñÇÝ³Ï³Ý ¨ ³ÝÑÇÙÝ áñáßáõÙÝ»ñÇ ¨ ·áñÍáÕáõÃÛáõÝÝ»ñÇ ¹»Ù µáÕáùÝ»ñ | D16: 1 | E16: 11 | G16: 1 | H16: 2 | K16: 3 | L16: 7 | N16: 1 | S16: =D16+E16 -> 12 | T16: =F16+K16+L16 -> 10 | U16: =K16 -> 3 | V16: =G16+H16+I16+J16 -> 3
A17: 11 | B17: ²½³ïáõÃÛáõÝÇó ½ñÏ»Éáõ Çñ³í³ã³÷áõÃÛ³Ý í»ñ³µ»ñÛ³É µáÕáùÝ»ñáí ·áñÍ»ñ | S17: =D17+E17 -> 0 | T17: =F17+K17+L17 -> 0 | U17: =K17 -> 0 | V17: =G17+H17+I17+J17 -> 0
A18: 2. ¸³ï³Ï³Ý ³Ïï»ñÇ ¨ ¹³ï³Ï³Ý Ñ³ÝÓÝ³ñ³ñáõÃÛáõÝÝ»ñÇ Ï³ï³ñÙ³Ý Ñ»ï Ï³åí³Í Ñ³ñó»ñÇ ÉáõÍÙ³Ý áÉáñï
A19: 1 | B19: å³ïÅÇó å³ÛÙ³Ý³Ï³Ý í³Õ³Å³ÙÏ»ï ³½³ï»Éáõ Ù³ëÇÝ ÙÇçÝáñ¹áõÃÛáõÝÝ»ñ | E19: 8 | G19: 3 | H19: 5 | K19: 8 | N19: 2 | S19: =D19+E19 -> 8 | T19: =F19+K19+L19 -> 8 | U19: =K19 -> 8 | V19: =G19+H19+I19+J19 -> 8
A20: 2 | B20: å³ïÇÅÁ ÷á÷áË»Éáõ, Ñ»ï³Ó·»Éáõ ¨ å³ïÅÇó ³½³ï»Éáõ Ù³uÇÝ ÙÇçÝáñ¹áõÃÛáõÝÝ»ñ | E20: 4 | F20: 1 | H20: 3 | K20: 3 | S20: =D20+E20 -> 4 | T20: =F20+K20+L20 -> 4 | U20: =K20 -> 3 | V20: =G20+H20+I20+J20 -> 3
A21: 3 | B21: Ñ³ñÏ³¹Çñ µáõÅÙ³Ý ï»ë³ÏÇ ÷á÷áËáõÃÛ³Ý Ù³ëÇÝ ÙÇçÝáñ¹áõÃÛáõÝÝ»ñ | E21: 3 | H21: 3 | K21: 3 | S21: =D21+E21 -> 3 | T21: =F21+K21+L21 -> 3 | U21: =K21 -> 3 | V21: =G21+H21+I21+J21 -> 3
A22: 4 | B22: ³ÛÉ ÙÇçÝáñ¹áõÃÛáõÝÝ»ñ | E22: 3 | H22: 2 | K22: 2 | L22: 1 | N22: 1 | S22: =D22+E22 -> 3 | T22: =F22+K22+L22 -> 3 | U22: =K22 -> 2 | V22: =G22+H22+I22+J22 -> 2
A23: 5 | B23: ¹³ï³Ï³Ý Ñ³ÝÓÝ³ñ³ñáõÃÛáõÝÝ»ñ | S23: =D23+E23 -> 0 | T23: =F23+K23+L23 -> 0 | U23: =K23 -> 0 | V23: =G23+H23+I23+J23 -> 0
A24: ÀÜ¸²ØºÜÀ | D24: =D7+D8+D9+D10+D11+D12+D13+D14+D15+D17+D19+D20+D21+D22+D23+D16 -> 1 | E24: =E7+E8+E9+E10+E11+E12+E13+E14+E15+E17+E19+E20+E21+E22+E23+E16 -> 122 | F24: =F7+F8+F9+F10+F11+F12+F13+F14+F15+F17+F19+F20+F21+F22+F23+F16 -> 1 | G24: =G7+G8+G9+G10+G11+G12+G13+G14+G15+G17+G19+G20+G21+G22+G23+G16 -> 10 | H24: =H7+H8+H9+H10+H11+H12+H13+H14+H15+H17+H19+H20+H21+H22+H23+H16 -> 100 | I24: =I7+I8+I9+I10+I11+I12+I13+I14+I15+I17+I19+I20+I21+I22+I23+I16 -> 0 | J24: =J7+J8+J9+J10+J11+J12+J13+J14+J15+J17+J19+J20+J21+J22+J23+J16 -> 1 | K24: =K7+K8+K9+K10+K11+K12+K13+K14+K15+K17+K19+K20+K21+K22+K23+K16 -> 111 | ... R24: =R7+R8+R9+R10+R11+R12+R13+R14+R15+R17+R19+R20+R21+R22+R23+R16 -> 0 | S24: =D24+E24 -> 123 | T24: =F24+K24+L24 -> 121 | U24: =K24 -> 111 | V24: =G24+H24+I24+J24 -> 111
C27: Ñ»ï³ùÝÝáõÃÛ³Ý Ù³ñÙÝÇ ³ßË³ïáÕÇ,,,, µáÕáùÝ»ñÇ Ù»ç 2 ·áñÍ ÙÇ³óí»É ¿,

Sheet Հ. Սարգսյան
A1: 2016Ã. | D1: Ð²ÞìºîìàôÂÚàôÜ | P1: Ð³í»Éí³Í Ð³Û³ëï³ÝÇ Ð³Ýñ³å»ïáõÃÛ³Ý ¸³ï³ñ³ÝÝ»ñÇ Ý³Ë³·³ÑÝ»ñÇ ËáñÑñ¹Ç 27.01.2017Ã. ÃÇí 01-È áñáßÙ³Ý
A2: ØÇÝã¹³ï³Ï³Ý í³ñáõÛÃÇ ÝÏ³ïÙ³Ùµ ¹³ï³Ï³Ý í»ñ³ÑëÏáÕáõÃÛ³ÝÁ, ¹³ï³Ï³Ý ³Ïï»ñÇ ¨ ¹³ï³Ï³Ý Ñ³ÝÓÝ³ñ³ñáõÃÛáõÝÝ»ñÇ Ï³ï³ñÙ³ÝÁ Ñ»ï Ï³åí³Í ÙÇçÝáñ¹áõÃÛáõÝÝ»ñÇ í»ñ³µ»ñÛ³É ¹³ï³Ï³Ý ·áñÍ»ñáí ÐÐ ²ñÙ³íÇñÇ Ù³ñ½Ç ÁÝ¹Ñ³Ýáõñ Çñ³í³ëáõÃÛ³Ý ³é³çÇÝ ³ïÛ³ÝÇ ¹³ï³ñ³ÝÇ ¹³ï³íáñ Ð. ê³ñ·ëանի ·áñÍáõÝ»áõÃÛ³Ý í»ñ³µ»ñÛ³É
A3: êïáõ·Çã Ñ³í³ë³ñáõÙ` 1+2=3+8+9, 8=4+5+6+7, | D3: Ð³ßí»ïáõ Å³Ù³Ý³Ï³Ñ³ïí³ÍÇ ëÏ½µáõÙ Ý³Ëáñ¹ Ñ³ßí»ïáõ Å³Ù³Ý³Ï³Ñ³ïí³ÍÇó ÷áË³Ýóí³Í ·áñÍ»ñÇ ÁÝ¹Ñ³Ýáõñ ÃÇíÁ | E3: Ð³ßí»ïáõ Å³Ù³Ý³Ï³Ñ³ïí³ÍáõÙ ëï³óí³Í ·áñÍ»ñÇ ÁÝ¹Ñ³Ýáõñ ÃÇíÁ | F3: öáË³Ýóí»É ¿ ³ÛÉ ¹³ï³íáñÇ Ï³Ù ³ÛÉ ¹³ï³ñ³Ý (Ï³½ÙÇ ÷á÷áËáõÃÛáõÝ, ÁÝ¹¹³ïáõÃÛáõÝ) | G3: Ð³ßí»ïáõ Å³Ù³Ý³Ï³Ñ³ïí³ÍáõÙ ³í³ñïí³Í ·áñÍ»ñÇ ÁÝ¹Ñ³Ýáõñ ÃÇíÁ | L3: Ð³ßí»ïáõ Å³Ù³Ý³Ï³Ñ³ïí³ÍáõÙ ³Ý³í³ñï ·áñÍ»ñÇ ÁÝ¹Ñ³Ýáõñ ÃÇíÁ | M3: ØÇçÝáñ¹áõÃÛáõÝÝ»ñáí Ï³Û³óí³Í ¹³ï³Ï³Ý ³Ïï»ñÇó µáÕáù³ñÏí³ÍÝ»ñÇ ù³Ý³ÏÁ | O3: ²Ý³í³ñï µáÕáùÝ»ñ | P3: ØÇçÝáñ¹áõÃÛáõÝÝ»ñáí Ï³Û³óí³Í ¨ µáÕáù³ñÏí³Í ¹³ï³Ï³Ý ³Ïï»ñÇó µ»Ï³Ýí³ÍÝ»ñÇ ù³Ý³ÏÁ | R3: ÙÇçÝáñ¹áõÃÛáõÝÝ»ñáí Ï³Û³óí³Í ¨ µáÕáù³ñÏí³Í ¹³ï³Ï³Ý ³Ïï»ñÇó ³Ý÷á÷áË ÃáÕÝí³ÍÝ»ñÇ ù³Ý³ÏÁ
G4: Ù»ñÅí»É ¿ | H4: µ³í³ñ³ñí»É ¿ | I4: µ³í³ñ³ñí»É ¿ Ù³ëÝ³ÏÇ | J4: ÃáÕÝí»É ¿ ³é³Ýó ùÝÝáõÃÛ³Ý | K4: ÀÝ¹³Ù»ÝÁ
M5: Ý³Ëáñ¹ ï³ñÇÝ»ñÇÝ Ï³Û³óí³Í ³Ïï»ñÇ ¹»Ù | N5: Ñ³ßí»ïáõ Å³Ù³Ý³Ï³ßñç³ÝáõÙ Ï³Û³óí³Í ³Ïï»ñÇ ¹»Ù | P5: Ý³Ëáñ¹ ï³ñÇÝ»ñÇÝ Ï³Û³óí³Í ³Ïï»ñÇ µ»Ï³ÝáõÙÝ»ñÁ | Q5: Ñ³ßí»ïáõ Å³Ù³Ý³Ï³ßñç³ÝáõÙ Ï³Û³óí³Í ³Ïï»ñÇ µ»Ï³ÝáõÙÝ»ñÁ
A6: 1. ØÇÝã¹³ï³Ï³Ý í³ñáõÛÃÇ ÝÏ³ïÙ³Ùµ ¹³ï³Ï³Ý í»ñ³ÑëÏáÕáõÃÛ³Ý áÉáñï | D6: 1 | E6: 2 | F6: 3 | G6: 4 | H6: 5 | I6: 6 | J6: 7 | K6: 8 | L6: 9 | M6: 10 | N6: 11 | O6: 12 | P6: 13 | Q6: 14 | R6: 15 | S6: 1+2=3+8+9 | U6: 8=4+5+6+7
A7: 1 | B7: Ï³É³ÝùÁ áñå»ë Ë³÷³ÝÙ³Ý ÙÇçáó ÏÇñ³é»Éáõ Ù³ëÇÝ ÙÇçÝáñ¹áõÃÛáõÝÝ»ñ | S7: =D7+E7 -> 0 | T7: =F7+K7+L7 -> 0 | U7: =K7 -> 0 | V7: =G7+H7+I7+J7 -> 0
A8: 2 | B8: Ï³É³ÝùÇ Å³ÙÏ»ïÁ »ñÏ³ñ³óÝ»Éáõ Ù³ëÇÝ ÙÇçÝáñ¹áõÃÛáõÝÝ»ñ | S8: =D8+E8 -> 0 | T8: =F8+K8+L8 -> 0 | U8: =K8 -> 0 | V8: =G8+H8+I8+J8 -> 0
A9: 3 | B9: Ï³É³ÝùÇ í»ñ³Ñ³ëï³ïÙ³Ý Ù³ëÇÝ ÙÇçÝáñ¹áõÃÛáõÝÝ»ñ | S9: =D9+E9 -> 0 | T9: =F9+K9+L9 -> 0 | U9: =K9 -> 0 | V9: =G9+H9+I9+J9 -> 0
A10: 4 | B10: ·ñ³íÁ áñå»ë Ï³É³Ý³íáñÙ³Ý ³ÛÉÁÝïñ³Ýù³ÛÇÝ Ë³÷³ÝÙ³Ý ÙÇçáó ÏÇñ³é»Éáõ Ù³ëÇÝ ÙÇçÝáñ¹áõÃÛáõÝÝ»ñ | S10: =D10+E10 -> 0 | T10: =F10+K10+L10 -> 0 | U10: =K10 -> 0 | V10: =G10+H10+I10+J10 -> 0
A11: 5 | B11: Ëáõ½³ñÏáõÃÛ³Ý Ï³ï³ñÙ³Ý Ù³ëÇÝ ÙÇçÝáñ¹áõÃÛáõÝÝ»ñ | E11: 1 | H11: 1 | K11: 1 | S11: =D11+E11 -> 1 | T11: =F11+K11+L11 -> 1 | U11: =K11 -> 1 | V11: =G11+H11+I11+J11 -> 1
A12: 6 | B12: µ³ÝÏ³ÛÇÝ, ³å³Ñáí³·ñ³Ï³Ý, Ýáï³ñ³Ï³Ý ·³ÕïÝÇù Ï³½ÙáÕ ï»Õ»ÏáõÃÛáõÝÝ»ñÇ ëï³óÙ³Ý Ñ³Ù³ñ Ëáõ½³ñÏáõÃÛ³Ý Ï³Ù ³é·ñ³íÙ³Ý Ï³ï³ñÙ³Ý Ù³ëÇÝ ÙÇçÝáñ¹áõÃÛáõÝÝ»ñ | S12: =D12+E12 -> 0 | T12: =F12+K12+L12 -> 0 | U12: =K12 -> 0 | V12: =G12+H12+I12+J12 -> 0
A13: 7 | B13: Ý³Ù³Ï³·ñáõÃÛ³Ý, Ñ»é³·ñ³Ï³Ý, ÷áuï³ÛÇÝ Ñ³Õáñ¹áõÙÝ»ñÇ ÑëÏáÕáõÃÛ³Ý Ù³ëÇÝ ÙÇçÝáñ¹áõÃÛáõÝÝ»ñ | S13: =D13+E13 -> 0 | T13: =F13+K13+L13 -> 0 | U13: =K13 -> 0 | V13: =G13+H13+I13+J13 -> 0
A14: 8 | B14: Ñ»é³Ëáu³ÛÇÝ Ï³Ù Ï³åÇ ³ÛÉ ÙÇçáóÝ»ñáí ï³ñíáÕ Ëáu³ÏóáõÃÛáõÝÝ»ñÇ ÉuÙ³Ý ¨ Ó³ÛÝ³·ñ³éÙ³Ý Ù³ëÇÝ ÙÇçÝáñ¹áõÃÛáõÝÝ»ñ | S14: =D14+E14 -> 0 | T14: =F14+K14+L14 -> 0 | U14: =K14 -> 0 | V14: =G14+H14+I14+J14 -> 0
A15: 9 | B15: Ñ»é³ËáëÝ»ñÇ Ùáõïù³ÛÇÝ ¨ »Éù³ÛÇÝ í»ñÍ³ÝÙ³Ý ÃáõÛÉïíáõÃÛáõÝ ëï³Ý³Éáõ Ù³ëÇÝ ÙÇçÝáñ¹áõÃÛáõÝÝ»ñ | E15: 3 | H15: 3 | K15: 3 | S15: =D15+E15 -> 3 | T15: =F15+K15+L15 -> 3 | U15: =K15 -> 3 | V15: =G15+H15+I15+J15 -> 3
A16: 10 | B16: Ñ»ï³ùÝÝáõÃÛ³Ý Ù³ñÙÝÇ ³ßË³ïáÕÇ, ùÝÝÇãÇ, ¹³ï³Ë³½Ç oå»ñ³ïÇí-Ñ»ï³Ëáõ½³Ï³Ý ·áñÍáÕáõÃÛáõÝÝ»ñ Çñ³Ï³Ý³óÝáÕ Ù³ñÙÇÝÝ»ñÇ ³ÝoñÇÝ³Ï³Ý ¨ ³ÝÑÇÙÝ áñáßáõÙÝ»ñÇ ¨ ·áñÍáÕáõÃÛáõÝÝ»ñÇ ¹»Ù µáÕáùÝ»ñ | S16: =D16+E16 -> 0 | T16: =F16+K16+L16 -> 0 | U16: =K16 -> 0 | V16: =G16+H16+I16+J16 -> 0
A17: 11 | B17: ²½³ïáõÃÛáõÝÇó ½ñÏ»Éáõ Çñ³í³ã³÷áõÃÛ³Ý í»ñ³µ»ñÛ³É µáÕáùÝ»ñáí ·áñÍ»ñ | S17: =D17+E17 -> 0 | T17: =F17+K17+L17 -> 0 | U17: =K17 -> 0 | V17: =G17+H17+I17+J17 -> 0
A18: 2. ¸³ï³Ï³Ý ³Ïï»ñÇ ¨ ¹³ï³Ï³Ý Ñ³ÝÓÝ³ñ³ñáõÃÛáõÝÝ»ñÇ Ï³ï³ñÙ³Ý Ñ»ï Ï³åí³Í Ñ³ñó»ñÇ ÉáõÍÙ³Ý áÉáñï
A19: 1 | B19: å³ïÅÇó å³ÛÙ³Ý³Ï³Ý í³Õ³Å³ÙÏ»ï ³½³ï»Éáõ Ù³ëÇÝ ÙÇçÝáñ¹áõÃÛáõÝÝ»ñ | S19: =D19+E19 -> 0 | T19: =F19+K19+L19 -> 0 | U19: =K19 -> 0 | V19: =G19+H19+I19+J19 -> 0
A20: 2 | B20: å³ïÇÅÁ ÷á÷áË»Éáõ, Ñ»ï³Ó·»Éáõ ¨ å³ïÅÇó ³½³ï»Éáõ Ù³uÇÝ ÙÇçÝáñ¹áõÃÛáõÝÝ»ñ | S20: =D20+E20 -> 0 | T20: =F20+K20+L20 -> 0 | U20: =K20 -> 0 | V20: =G20+H20+I20+J20 -> 0
A21: 3 | B21: Ñ³ñÏ³¹Çñ µáõÅÙ³Ý ï»ë³ÏÇ ÷á÷áËáõÃÛ³Ý Ù³ëÇÝ ÙÇçÝáñ¹áõÃÛáõÝÝ»ñ | S21: =D21+E21 -> 0 | T21: =F21+K21+L21 -> 0 | U21: =K21 -> 0 | V21: =G21+H21+I21+J21 -> 0
A22: 4 | B22: ³ÛÉ ÙÇçÝáñ¹áõÃÛáõÝÝ»ñ | S22: =D22+E22 -> 0 | T22: =F22+K22+L22 -> 0 | U22: =K22 -> 0 | V22: =G22+H22+I22+J22 -> 0
A23: 5 | B23: ¹³ï³Ï³Ý Ñ³ÝÓÝ³ñ³ñáõÃÛáõÝÝ»ñ | S23: =D23+E23 -> 0 | T23: =F23+K23+L23 -> 0 | U23: =K23 -> 0 | V23: =G23+H23+I23+J23 -> 0
A24: ÀÜ¸²ØºÜÀ | D24: =D7+D8+D9+D10+D11+D12+D13+D14+D15+D17+D19+D20+D21+D22+D23+D16 -> 0 | E24: =E7+E8+E9+E10+E11+E12+E13+E14+E15+E17+E19+E20+E21+E22+E23+E16 -> 4 | F24: =F7+F8+F9+F10+F11+F12+F13+F14+F15+F17+F19+F20+F21+F22+F23+F16 -> 0 | G24: =G7+G8+G9+G10+G11+G12+G13+G14+G15+G17+G19+G20+G21+G22+G23+G16 -> 0 | H24: =H7+H8+H9+H10+H11+H12+H13+H14+H15+H17+H19+H20+H21+H22+H23+H16 -> 4 | I24: =I7+I8+I9+I10+I11+I12+I13+I14+I15+I17+I19+I20+I21+I22+I23+I16 -> 0 | J24: =J7+J8+J9+J10+J11+J12+J13+J14+J15+J17+J19+J20+J21+J22+J23+J16 -> 0 | K24: =K7+K8+K9+K10+K11+K12+K13+K14+K15+K17+K19+K20+K21+K22+K23+K16 -> 4 | ... R24: =R7+R8+R9+R10+R11+R12+R13+R14+R15+R17+R19+R20+R21+R22+R23+R16 -> 0 | S24: =D24+E24 -> 4 | T24: =F24+K24+L24 -> 4 | U24: =K24 -> 4 | V24: =G24+H24+I24+J24 -> 4

Sheet Գ. Ֆիդանյան
A1: 2016Ã. | D1: Ð²ÞìºîìàôÂÚàôÜ | P1: Ð³í»Éí³Í Ð³Û³ëï³ÝÇ Ð³Ýñ³å»ïáõÃÛ³Ý ¸³ï³ñ³ÝÝ»ñÇ Ý³Ë³·³ÑÝ»ñÇ ËáñÑñ¹Ç 27.01.2017Ã. ÃÇí 01-È áñáßÙ³Ý
A2: ØÇÝã¹³ï³Ï³Ý í³ñáõÛÃÇ ÝÏ³ïÙ³Ùµ ¹³ï³Ï³Ý í»ñ³ÑëÏáÕáõÃÛ³ÝÁ, ¹³ï³Ï³Ý ³Ïï»ñÇ ¨ ¹³ï³Ï³Ý Ñ³ÝÓÝ³ñ³ñáõÃÛáõÝÝ»ñÇ Ï³ï³ñÙ³ÝÁ Ñ»ï Ï³åí³Í ÙÇçÝáñ¹áõÃÛáõÝÝ»ñÇ í»ñ³µ»ñÛ³É ¹³ï³Ï³Ý ·áñÍ»ñáí ÐÐ ²ñÙ³íÇñÇ Ù³ñ½Ç ÁÝ¹Ñ³Ýáõñ Çñ³í³ëáõÃÛ³Ý ³é³çÇÝ ³ïÛ³ÝÇ ¹³ï³ñ³ÝÇ ¹³ï³íáñ Գ. Ֆիդանյանի ·áñÍáõÝ»áõÃÛ³Ý í»ñ³µ»ñÛ³É
A3: êïáõ·Çã Ñ³í³ë³ñáõÙ` 1+2=3+8+9, 8=4+5+6+7, | D3: Ð³ßí»ïáõ Å³Ù³Ý³Ï³Ñ³ïí³ÍÇ ëÏ½µáõÙ Ý³Ëáñ¹ Ñ³ßí»ïáõ Å³Ù³Ý³Ï³Ñ³ïí³ÍÇó ÷áË³Ýóí³Í ·áñÍ»ñÇ ÁÝ¹Ñ³Ýáõñ ÃÇíÁ | E3: Ð³ßí»ïáõ Å³Ù³Ý³Ï³Ñ³ïí³ÍáõÙ ëï³óí³Í ·áñÍ»ñÇ ÁÝ¹Ñ³Ýáõñ ÃÇíÁ | F3: öáË³Ýóí»É ¿ ³ÛÉ ¹³ï³íáñÇ Ï³Ù ³ÛÉ ¹³ï³ñ³Ý (Ï³½ÙÇ ÷á÷áËáõÃÛáõÝ, ÁÝ¹¹³ïáõÃÛáõÝ) | G3: Ð³ßí»ïáõ Å³Ù³Ý³Ï³Ñ³ïí³ÍáõÙ ³í³ñïí³Í ·áñÍ»ñÇ ÁÝ¹Ñ³Ýáõñ ÃÇíÁ | L3: Ð³ßí»ïáõ Å³Ù³Ý³Ï³Ñ³ïí³ÍáõÙ ³Ý³í³ñï ·áñÍ»ñÇ ÁÝ¹Ñ³Ýáõñ ÃÇíÁ | M3: ØÇçÝáñ¹áõÃÛáõÝÝ»ñáí Ï³Û³óí³Í ¹³ï³Ï³Ý ³Ïï»ñÇó µáÕáù³ñÏí³ÍÝ»ñÇ ù³Ý³ÏÁ | O3: ²Ý³í³ñï µáÕáùÝ»ñ | P3: ØÇçÝáñ¹áõÃÛáõÝÝ»ñáí Ï³Û³óí³Í ¨ µáÕáù³ñÏí³Í ¹³ï³Ï³Ý ³Ïï»ñÇó µ»Ï³Ýí³ÍÝ»ñÇ ù³Ý³ÏÁ | R3: ÙÇçÝáñ¹áõÃÛáõÝÝ»ñáí Ï³Û³óí³Í ¨ µáÕáù³ñÏí³Í ¹³ï³Ï³Ý ³Ïï»ñÇó ³Ý÷á÷áË ÃáÕÝí³ÍÝ»ñÇ ù³Ý³ÏÁ
G4: Ù»ñÅí»É ¿ | H4: µ³í³ñ³ñí»É ¿ | I4: µ³í³ñ³ñí»É ¿ Ù³ëÝ³ÏÇ | J4: ÃáÕÝí»É ¿ ³é³Ýó ùÝÝáõÃÛ³Ý | K4: ÀÝ¹³Ù»ÝÁ
M5: Ý³Ëáñ¹ ï³ñÇÝ»ñÇÝ Ï³Û³óí³Í ³Ïï»ñÇ ¹»Ù | N5: Ñ³ßí»ïáõ Å³Ù³Ý³Ï³ßñç³ÝáõÙ Ï³Û³óí³Í ³Ïï»ñÇ ¹»Ù | P5: Ý³Ëáñ¹ ï³ñÇÝ»ñÇÝ Ï³Û³óí³Í ³Ïï»ñÇ µ»Ï³ÝáõÙÝ»ñÁ | Q5: Ñ³ßí»ïáõ Å³Ù³Ý³Ï³ßñç³ÝáõÙ Ï³Û³óí³Í ³Ïï»ñÇ µ»Ï³ÝáõÙÝ»ñÁ
A6: 1. ØÇÝã¹³ï³Ï³Ý í³ñáõÛÃÇ ÝÏ³ïÙ³Ùµ ¹³ï³Ï³Ý í»ñ³ÑëÏáÕáõÃÛ³Ý áÉáñï | D6: 1 | E6: 2 | F6: 3 | G6: 4 | H6: 5 | I6: 6 | J6: 7 | K6: 8 | L6: 9 | M6: 10 | N6: 11 | O6: 12 | P6: 13 | Q6: 14 | R6: 15 | S6: 1+2=3+8+9 | U6: 8=4+5+6+7
A7: 1 | B7: Ï³É³ÝùÁ áñå»ë Ë³÷³ÝÙ³Ý ÙÇçáó ÏÇñ³é»Éáõ Ù³ëÇÝ ÙÇçÝáñ¹áõÃÛáõÝÝ»ñ | E7: 1 | H7: 1 | K7: 1 | N7: 1 | R7: 1 | S7: =D7+E7 -> 1 | T7: =F7+K7+L7 -> 1 | U7: =K7 -> 1 | V7: =G7+H7+I7+J7 -> 1
A8: 2 | B8: Ï³É³ÝùÇ Å³ÙÏ»ïÁ »ñÏ³ñ³óÝ»Éáõ Ù³ëÇÝ ÙÇçÝáñ¹áõÃÛáõÝÝ»ñ | E8: 4 | H8: 4 | K8: 4 | N8: 1 | R8: 1 | S8: =D8+E8 -> 4 | T8: =F8+K8+L8 -> 4 | U8: =K8 -> 4 | V8: =G8+H8+I8+J8 -> 4
A9: 3 | B9: Ï³É³ÝùÇ í»ñ³Ñ³ëï³ïÙ³Ý Ù³ëÇÝ ÙÇçÝáñ¹áõÃÛáõÝÝ»ñ | S9: =D9+E9 -> 0 | T9: =F9+K9+L9 -> 0 | U9: =K9 -> 0 | V9: =G9+H9+I9+J9 -> 0
A10: 4 | B10: ·ñ³íÁ áñå»ë Ï³É³Ý³íáñÙ³Ý ³ÛÉÁÝïñ³Ýù³ÛÇÝ Ë³÷³ÝÙ³Ý ÙÇçáó ÏÇñ³é»Éáõ Ù³ëÇÝ ÙÇçÝáñ¹áõÃÛáõÝÝ»ñ | S10: =D10+E10 -> 0 | T10: =F10+K10+L10 -> 0 | U10: =K10 -> 0 | V10: =G10+H10+I10+J10 -> 0
A11: 5 | B11: Ëáõ½³ñÏáõÃÛ³Ý Ï³ï³ñÙ³Ý Ù³ëÇÝ ÙÇçÝáñ¹áõÃÛáõÝÝ»ñ | E11: 33 | H11: 33 | K11: 33 | S11: =D11+E11 -> 33 | T11: =F11+K11+L11 -> 33 | U11: =K11 -> 33 | V11: =G11+H11+I11+J11 -> 33
A12: 6 | B12: µ³ÝÏ³ÛÇÝ, ³å³Ñáí³·ñ³Ï³Ý, Ýáï³ñ³Ï³Ý ·³ÕïÝÇù Ï³½ÙáÕ ï»Õ»ÏáõÃÛáõÝÝ»ñÇ ëï³óÙ³Ý Ñ³Ù³ñ Ëáõ½³ñÏáõÃÛ³Ý Ï³Ù ³é·ñ³íÙ³Ý Ï³ï³ñÙ³Ý Ù³ëÇÝ ÙÇçÝáñ¹áõÃÛáõÝÝ»ñ | S12: =D12+E12 -> 0 | T12: =F12+K12+L12 -> 0 | U12: =K12 -> 0 | V12: =G12+H12+I12+J12 -> 0
A13: 7 | B13: Ý³Ù³Ï³·ñáõÃÛ³Ý, Ñ»é³·ñ³Ï³Ý, ÷áuï³ÛÇÝ Ñ³Õáñ¹áõÙÝ»ñÇ ÑëÏáÕáõÃÛ³Ý Ù³ëÇÝ ÙÇçÝáñ¹áõÃÛáõÝÝ»ñ | S13: =D13+E13 -> 0 | T13: =F13+K13+L13 -> 0 | U13: =K13 -> 0 | V13: =G13+H13+I13+J13 -> 0
A14: 8 | B14: Ñ»é³Ëáu³ÛÇÝ Ï³Ù Ï³åÇ ³ÛÉ ÙÇçáóÝ»ñáí ï³ñíáÕ Ëáu³ÏóáõÃÛáõÝÝ»ñÇ ÉuÙ³Ý ¨ Ó³ÛÝ³·ñ³éÙ³Ý Ù³ëÇÝ ÙÇçÝáñ¹áõÃÛáõÝÝ»ñ | S14: =D14+E14 -> 0 | T14: =F14+K14+L14 -> 0 | U14: =K14 -> 0 | V14: =G14+H14+I14+J14 -> 0
A15: 9 | B15: Ñ»é³ËáëÝ»ñÇ Ùáõïù³ÛÇÝ ¨ »Éù³ÛÇÝ í»ñÍ³ÝÙ³Ý ÃáõÛÉïíáõÃÛáõÝ ëï³Ý³Éáõ Ù³ëÇÝ ÙÇçÝáñ¹áõÃÛáõÝÝ»ñ | E15: 24 | H15: 23 | I15: 1 | K15: 24 | S15: =D15+E15 -> 24 | T15: =F15+K15+L15 -> 24 | U15: =K15 -> 24 | V15: =G15+H15+I15+J15 -> 24
A16: 10 | B16: Ñ»ï³ùÝÝáõÃÛ³Ý Ù³ñÙÝÇ ³ßË³ïáÕÇ, ùÝÝÇãÇ, ¹³ï³Ë³½Ç oå»ñ³ïÇí-Ñ»ï³Ëáõ½³Ï³Ý ·áñÍáÕáõÃÛáõÝÝ»ñ Çñ³Ï³Ý³óÝáÕ Ù³ñÙÇÝÝ»ñÇ ³ÝoñÇÝ³Ï³Ý ¨ ³ÝÑÇÙÝ áñáßáõÙÝ»ñÇ ¨ ·áñÍáÕáõÃÛáõÝÝ»ñÇ ¹»Ù µáÕáùÝ»ñ | S16: =D16+E16 -> 0 | T16: =F16+K16+L16 -> 0 | U16: =K16 -> 0 | V16: =G16+H16+I16+J16 -> 0
A17: 11 | B17: ²½³ïáõÃÛáõÝÇó ½ñÏ»Éáõ Çñ³í³ã³÷áõÃÛ³Ý í»ñ³µ»ñÛ³É µáÕáùÝ»ñáí ·áñÍ»ñ | S17: =D17+E17 -> 0 | T17: =F17+K17+L17 -> 0 | U17: =K17 -> 0 | V17: =G17+H17+I17+J17 -> 0
A18: 2. ¸³ï³Ï³Ý ³Ïï»ñÇ ¨ ¹³ï³Ï³Ý Ñ³ÝÓÝ³ñ³ñáõÃÛáõÝÝ»ñÇ Ï³ï³ñÙ³Ý Ñ»ï Ï³åí³Í Ñ³ñó»ñÇ ÉáõÍÙ³Ý áÉáñï
A19: 1 | B19: å³ïÅÇó å³ÛÙ³Ý³Ï³Ý í³Õ³Å³ÙÏ»ï ³½³ï»Éáõ Ù³ëÇÝ ÙÇçÝáñ¹áõÃÛáõÝÝ»ñ | S19: =D19+E19 -> 0 | T19: =F19+K19+L19 -> 0 | U19: =K19 -> 0 | V19: =G19+H19+I19+J19 -> 0
A20: 2 | B20: å³ïÇÅÁ ÷á÷áË»Éáõ, Ñ»ï³Ó·»Éáõ ¨ å³ïÅÇó ³½³ï»Éáõ Ù³uÇÝ ÙÇçÝáñ¹áõÃÛáõÝÝ»ñ | S20: =D20+E20 -> 0 | T20: =F20+K20+L20 -> 0 | U20: =K20 -> 0 | V20: =G20+H20+I20+J20 -> 0
A21: 3 | B21: Ñ³ñÏ³¹Çñ µáõÅÙ³Ý ï»ë³ÏÇ ÷á÷áËáõÃÛ³Ý Ù³ëÇÝ ÙÇçÝáñ¹áõÃÛáõÝÝ»ñ | E21: 1 | H21: 1 | K21: 1 | S21: =D21+E21 -> 1 | T21: =F21+K21+L21 -> 1 | U21: =K21 -> 1 | V21: =G21+H21+I21+J21 -> 1
A22: 4 | B22: ³ÛÉ ÙÇçÝáñ¹áõÃÛáõÝÝ»ñ | E22: 1 | H22: 1 | K22: 1 | N22: 1 | O22: 1 | S22: =D22+E22 -> 1 | T22: =F22+K22+L22 -> 1 | U22: =K22 -> 1 | V22: =G22+H22+I22+J22 -> 1
A23: 5 | B23: ¹³ï³Ï³Ý Ñ³ÝÓÝ³ñ³ñáõÃÛáõÝÝ»ñ | E23: 1 | H23: 1 | K23: 1 | S23: =D23+E23 -> 1 | T23: =F23+K23+L23 -> 1 | U23: =K23 -> 1 | V23: =G23+H23+I23+J23 -> 1
A24: ÀÜ¸²ØºÜÀ | D24: =D7+D8+D9+D10+D11+D12+D13+D14+D15+D17+D19+D20+D21+D22+D23+D16 -> 0 | E24: =E7+E8+E9+E10+E11+E12+E13+E14+E15+E17+E19+E20+E21+E22+E23+E16 -> 65 | F24: =F7+F8+F9+F10+F11+F12+F13+F14+F15+F17+F19+F20+F21+F22+F23+F16 -> 0 | G24: =G7+G8+G9+G10+G11+G12+G13+G14+G15+G17+G19+G20+G21+G22+G23+G16 -> 0 | H24: =H7+H8+H9+H10+H11+H12+H13+H14+H15+H17+H19+H20+H21+H22+H23+H16 -> 64 | I24: =I7+I8+I9+I10+I11+I12+I13+I14+I15+I17+I19+I20+I21+I22+I23+I16 -> 1 | J24: =J7+J8+J9+J10+J11+J12+J13+J14+J15+J17+J19+J20+J21+J22+J23+J16 -> 0 | K24: =K7+K8+K9+K10+K11+K12+K13+K14+K15+K17+K19+K20+K21+K22+K23+K16 -> 65 | ... R24: =R7+R8+R9+R10+R11+R12+R13+R14+R15+R17+R19+R20+R21+R22+R23+R16 -> 2 | S24: =D24+E24 -> 65 | T24: =F24+K24+L24 -> 65 | U24: =K24 -> 65 | V24: =G24+H24+I24+J24 -> 65

Sheet Էդ. Հովհաննիսյան
A1: 2016Ã. | D1: Ð²ÞìºîìàôÂÚàôÜ | P1: Ð³í»Éí³Í Ð³Û³ëï³ÝÇ Ð³Ýñ³å»ïáõÃÛ³Ý ¸³ï³ñ³ÝÝ»ñÇ Ý³Ë³·³ÑÝ»ñÇ ËáñÑñ¹Ç 27.01.2017Ã. ÃÇí 01-È áñáßÙ³Ý
A2: ØÇÝã¹³ï³Ï³Ý í³ñáõÛÃÇ ÝÏ³ïÙ³Ùµ ¹³ï³Ï³Ý í»ñ³ÑëÏáÕáõÃÛ³ÝÁ, ¹³ï³Ï³Ý ³Ïï»ñÇ ¨ ¹³ï³Ï³Ý Ñ³ÝÓÝ³ñ³ñáõÃÛáõÝÝ»ñÇ Ï³ï³ñÙ³ÝÁ Ñ»ï Ï³åí³Í ÙÇçÝáñ¹áõÃÛáõÝÝ»ñÇ í»ñ³µ»ñÛ³É ¹³ï³Ï³Ý ·áñÍ»ñáí ÐÐ ²ñÙ³íÇñÇ Ù³ñ½Ç ÁÝ¹Ñ³Ýáõñ Çñ³í³ëáõÃÛ³Ý ³é³çÇÝ ³ïÛ³ÝÇ ¹³ï³ñ³ÝÇ ¹³ï³íáñ Էդ. Հովհաննիսյանի ·áñÍáõÝ»áõÃÛ³Ý í»ñ³µ»ñÛ³É
A3: êïáõ·Çã Ñ³í³ë³ñáõÙ` 1+2=3+8+9, 8=4+5+6+7, | D3: Ð³ßí»ïáõ Å³Ù³Ý³Ï³Ñ³ïí³ÍÇ ëÏ½µáõÙ Ý³Ëáñ¹ Ñ³ßí»ïáõ Å³Ù³Ý³Ï³Ñ³ïí³ÍÇó ÷áË³Ýóí³Í ·áñÍ»ñÇ ÁÝ¹Ñ³Ýáõñ ÃÇíÁ | E3: Ð³ßí»ïáõ Å³Ù³Ý³Ï³Ñ³ïí³ÍáõÙ ëï³óí³Í ·áñÍ»ñÇ ÁÝ¹Ñ³Ýáõñ ÃÇíÁ | F3: öáË³Ýóí»É ¿ ³ÛÉ ¹³ï³íáñÇ Ï³Ù ³ÛÉ ¹³ï³ñ³Ý (Ï³½ÙÇ ÷á÷áËáõÃÛáõÝ, ÁÝ¹¹³ïáõÃÛáõÝ) | G3: Ð³ßí»ïáõ Å³Ù³Ý³Ï³Ñ³ïí³ÍáõÙ ³í³ñïí³Í ·áñÍ»ñÇ ÁÝ¹Ñ³Ýáõñ ÃÇíÁ | L3: Ð³ßí»ïáõ Å³Ù³Ý³Ï³Ñ³ïí³ÍáõÙ ³Ý³í³ñï ·áñÍ»ñÇ ÁÝ¹Ñ³Ýáõñ ÃÇíÁ | M3: ØÇçÝáñ¹áõÃÛáõÝÝ»ñáí Ï³Û³óí³Í ¹³ï³Ï³Ý ³Ïï»ñÇó µáÕáù³ñÏí³ÍÝ»ñÇ ù³Ý³ÏÁ | O3: ²Ý³í³ñï µáÕáùÝ»ñ | P3: ØÇçÝáñ¹áõÃÛáõÝÝ»ñáí Ï³Û³óí³Í ¨ µáÕáù³ñÏí³Í ¹³ï³Ï³Ý ³Ïï»ñÇó µ»Ï³Ýí³ÍÝ»ñÇ ù³Ý³ÏÁ | R3: ÙÇçÝáñ¹áõÃÛáõÝÝ»ñáí Ï³Û³óí³Í ¨ µáÕáù³ñÏí³Í ¹³ï³Ï³Ý ³Ïï»ñÇó ³Ý÷á÷áË ÃáÕÝí³ÍÝ»ñÇ ù³Ý³ÏÁ
G4: Ù»ñÅí»É ¿ | H4: µ³í³ñ³ñí»É ¿ | I4: µ³í³ñ³ñí»É ¿ Ù³ëÝ³ÏÇ | J4: ÃáÕÝí»É ¿ ³é³Ýó ùÝÝáõÃÛ³Ý | K4: ÀÝ¹³Ù»ÝÁ
M5: Ý³Ëáñ¹ ï³ñÇÝ»ñÇÝ Ï³Û³óí³Í ³Ïï»ñÇ ¹»Ù | N5: Ñ³ßí»ïáõ Å³Ù³Ý³Ï³ßñç³ÝáõÙ Ï³Û³óí³Í ³Ïï»ñÇ ¹»Ù | P5: Ý³Ëáñ¹ ï³ñÇÝ»ñÇÝ Ï³Û³óí³Í ³Ïï»ñÇ µ»Ï³ÝáõÙÝ»ñÁ | Q5: Ñ³ßí»ïáõ Å³Ù³Ý³Ï³ßñç³ÝáõÙ Ï³Û³óí³Í ³Ïï»ñÇ µ»Ï³ÝáõÙÝ»ñÁ
A6: 1. ØÇÝã¹³ï³Ï³Ý í³ñáõÛÃÇ ÝÏ³ïÙ³Ùµ ¹³ï³Ï³Ý í»ñ³ÑëÏáÕáõÃÛ³Ý áÉáñï | D6: 1 | E6: 2 | F6: 3 | G6: 4 | H6: 5 | I6: 6 | J6: 7 | K6: 8 | L6: 9 | M6: 10 | N6: 11 | O6: 12 | P6: 13 | Q6: 14 | R6: 15 | S6: 1+2=3+8+9 | U6: 8=4+5+6+7
A7: 1 | B7: Ï³É³ÝùÁ áñå»ë Ë³÷³ÝÙ³Ý ÙÇçáó ÏÇñ³é»Éáõ Ù³ëÇÝ ÙÇçÝáñ¹áõÃÛáõÝÝ»ñ | E7: 4 | H7: 4 | K7: 4 | S7: =D7+E7 -> 4 | T7: =F7+K7+L7 -> 4 | U7: =K7 -> 4 | V7: =G7+H7+I7+J7 -> 4
A8: 2 | B8: Ï³É³ÝùÇ Å³ÙÏ»ïÁ »ñÏ³ñ³óÝ»Éáõ Ù³ëÇÝ ÙÇçÝáñ¹áõÃÛáõÝÝ»ñ | E8: 5 | G8: 1 | H8: 4 | K8: 5 | N8: 2 | O8: 1 | R8: 1 | S8: =D8+E8 -> 5 | T8: =F8+K8+L8 -> 5 | U8: =K8 -> 5 | V8: =G8+H8+I8+J8 -> 5
A9: 3 | B9: Ï³É³ÝùÇ í»ñ³Ñ³ëï³ïÙ³Ý Ù³ëÇÝ ÙÇçÝáñ¹áõÃÛáõÝÝ»ñ | S9: =D9+E9 -> 0 | T9: =F9+K9+L9 -> 0 | U9: =K9 -> 0 | V9: =G9+H9+I9+J9 -> 0
A10: 4 | B10: ·ñ³íÁ áñå»ë Ï³É³Ý³íáñÙ³Ý ³ÛÉÁÝïñ³Ýù³ÛÇÝ Ë³÷³ÝÙ³Ý ÙÇçáó ÏÇñ³é»Éáõ Ù³ëÇÝ ÙÇçÝáñ¹áõÃÛáõÝÝ»ñ | E10: 2 | G10: 2 | K10: 2 | N10: 1 | O10: 1 | S10: =D10+E10 -> 2 | T10: =F10+K10+L10 -> 2 | U10: =K10 -> 2 | V10: =G10+H10+I10+J10 -> 2
A11: 5 | B11: Ëáõ½³ñÏáõÃÛ³Ý Ï³ï³ñÙ³Ý Ù³ëÇÝ ÙÇçÝáñ¹áõÃÛáõÝÝ»ñ | E11: 5 | G11: 2 | H11: 2 | I11: 1 | K11: 5 | S11: =D11+E11 -> 5 | T11: =F11+K11+L11 -> 5 | U11: =K11 -> 5 | V11: =G11+H11+I11+J11 -> 5
A12: 6 | B12: µ³ÝÏ³ÛÇÝ, ³å³Ñáí³·ñ³Ï³Ý, Ýáï³ñ³Ï³Ý ·³ÕïÝÇù Ï³½ÙáÕ ï»Õ»ÏáõÃÛáõÝÝ»ñÇ ëï³óÙ³Ý Ñ³Ù³ñ Ëáõ½³ñÏáõÃÛ³Ý Ï³Ù ³é·ñ³íÙ³Ý Ï³ï³ñÙ³Ý Ù³ëÇÝ ÙÇçÝáñ¹áõÃÛáõÝÝ»ñ | S12: =D12+E12 -> 0 | T12: =F12+K12+L12 -> 0 | U12: =K12 -> 0 | V12: =G12+H12+I12+J12 -> 0
A13: 7 | B13: Ý³Ù³Ï³·ñáõÃÛ³Ý, Ñ»é³·ñ³Ï³Ý, ÷áuï³ÛÇÝ Ñ³Õáñ¹áõÙÝ»ñÇ ÑëÏáÕáõÃÛ³Ý Ù³ëÇÝ ÙÇçÝáñ¹áõÃÛáõÝÝ»ñ | S13: =D13+E13 -> 0 | T13: =F13+K13+L13 -> 0 | U13: =K13 -> 0 | V13: =G13+H13+I13+J13 -> 0
A14: 8 | B14: Ñ»é³Ëáu³ÛÇÝ Ï³Ù Ï³åÇ ³ÛÉ ÙÇçáóÝ»ñáí ï³ñíáÕ Ëáu³ÏóáõÃÛáõÝÝ»ñÇ ÉuÙ³Ý ¨ Ó³ÛÝ³·ñ³éÙ³Ý Ù³ëÇÝ ÙÇçÝáñ¹áõÃÛáõÝÝ»ñ | S14: =D14+E14 -> 0 | T14: =F14+K14+L14 -> 0 | U14: =K14 -> 0 | V14: =G14+H14+I14+J14 -> 0
A15: 9 | B15: Ñ»é³ËáëÝ»ñÇ Ùáõïù³ÛÇÝ ¨ »Éù³ÛÇÝ í»ñÍ³ÝÙ³Ý ÃáõÛÉïíáõÃÛáõÝ ëï³Ý³Éáõ Ù³ëÇÝ ÙÇçÝáñ¹áõÃÛáõÝÝ»ñ | E15: 8 | H15: 8 | K15: 8 | S15: =D15+E15 -> 8 | T15: =F15+K15+L15 -> 8 | U15: =K15 -> 8 | V15: =G15+H15+I15+J15 -> 8
A16: 10 | B16: Ñ»ï³ùÝÝáõÃÛ³Ý Ù³ñÙÝÇ ³ßË³ïáÕÇ, ùÝÝÇãÇ, ¹³ï³Ë³½Ç oå»ñ³ïÇí-Ñ»ï³Ëáõ½³Ï³Ý ·áñÍáÕáõÃÛáõÝÝ»ñ Çñ³Ï³Ý³óÝáÕ Ù³ñÙÇÝÝ»ñÇ ³ÝoñÇÝ³Ï³Ý ¨ ³ÝÑÇÙÝ áñáßáõÙÝ»ñÇ ¨ ·áñÍáÕáõÃÛáõÝÝ»ñÇ ¹»Ù µáÕáùÝ»ñ | S16: =D16+E16 -> 0 | T16: =F16+K16+L16 -> 0 | U16: =K16 -> 0 | V16: =G16+H16+I16+J16 -> 0
A17: 11 | B17: ²½³ïáõÃÛáõÝÇó ½ñÏ»Éáõ Çñ³í³ã³÷áõÃÛ³Ý í»ñ³µ»ñÛ³É µáÕáùÝ»ñáí ·áñÍ»ñ | S17: =D17+E17 -> 0 | T17: =F17+K17+L17 -> 0 | U17: =K17 -> 0 | V17: =G17+H17+I17+J17 -> 0
A18: 2. ¸³ï³Ï³Ý ³Ïï»ñÇ ¨ ¹³ï³Ï³Ý Ñ³ÝÓÝ³ñ³ñáõÃÛáõÝÝ»ñÇ Ï³ï³ñÙ³Ý Ñ»ï Ï³åí³Í Ñ³ñó»ñÇ ÉáõÍÙ³Ý áÉáñï
A19: 1 | B19: å³ïÅÇó å³ÛÙ³Ý³Ï³Ý í³Õ³Å³ÙÏ»ï ³½³ï»Éáõ Ù³ëÇÝ ÙÇçÝáñ¹áõÃÛáõÝÝ»ñ | S19: =D19+E19 -> 0 | T19: =F19+K19+L19 -> 0 | U19: =K19 -> 0 | V19: =G19+H19+I19+J19 -> 0
A20: 2 | B20: å³ïÇÅÁ ÷á÷áË»Éáõ, Ñ»ï³Ó·»Éáõ ¨ å³ïÅÇó ³½³ï»Éáõ Ù³uÇÝ ÙÇçÝáñ¹áõÃÛáõÝÝ»ñ | S20: =D20+E20 -> 0 | T20: =F20+K20+L20 -> 0 | U20: =K20 -> 0 | V20: =G20+H20+I20+J20 -> 0
A21: 3 | B21: Ñ³ñÏ³¹Çñ µáõÅÙ³Ý ï»ë³ÏÇ ÷á÷áËáõÃÛ³Ý Ù³ëÇÝ ÙÇçÝáñ¹áõÃÛáõÝÝ»ñ | S21: =D21+E21 -> 0 | T21: =F21+K21+L21 -> 0 | U21: =K21 -> 0 | V21: =G21+H21+I21+J21 -> 0
A22: 4 | B22: ³ÛÉ ÙÇçÝáñ¹áõÃÛáõÝÝ»ñ | S22: =D22+E22 -> 0 | T22: =F22+K22+L22 -> 0 | U22: =K22 -> 0 | V22: =G22+H22+I22+J22 -> 0
A23: 5 | B23: ¹³ï³Ï³Ý Ñ³ÝÓÝ³ñ³ñáõÃÛáõÝÝ»ñ | D23: 1 | H23: 1 | K23: 1 | S23: =D23+E23 -> 1 | T23: =F23+K23+L23 -> 1 | U23: =K23 -> 1 | V23: =G23+H23+I23+J23 -> 1
A24: ÀÜ¸²ØºÜÀ | D24: =D7+D8+D9+D10+D11+D12+D13+D14+D15+D17+D19+D20+D21+D22+D23+D16 -> 1 | E24: =E7+E8+E9+E10+E11+E12+E13+E14+E15+E17+E19+E20+E21+E22+E23+E16 -> 24 | F24: =F7+F8+F9+F10+F11+F12+F13+F14+F15+F17+F19+F20+F21+F22+F23+F16 -> 0 | G24: =G7+G8+G9+G10+G11+G12+G13+G14+G15+G17+G19+G20+G21+G22+G23+G16 -> 5 | H24: =H7+H8+H9+H10+H11+H12+H13+H14+H15+H17+H19+H20+H21+H22+H23+H16 -> 19 | I24: =I7+I8+I9+I10+I11+I12+I13+I14+I15+I17+I19+I20+I21+I22+I23+I16 -> 1 | J24: =J7+J8+J9+J10+J11+J12+J13+J14+J15+J17+J19+J20+J21+J22+J23+J16 -> 0 | K24: =K7+K8+K9+K10+K11+K12+K13+K14+K15+K17+K19+K20+K21+K22+K23+K16 -> 25 | ... R24: =R7+R8+R9+R10+R11+R12+R13+R14+R15+R17+R19+R20+R21+R22+R23+R16 -> 1 | S24: =D24+E24 -> 25 | T24: =F24+K24+L24 -> 25 | U24: =K24 -> 25 | V24: =G24+H24+I24+J24 -> 25

Sheet Հ. Մելքոնյան
A1: 2016Ã. | D1: Ð²ÞìºîìàôÂÚàôÜ | P1: Ð³í»Éí³Í Ð³Û³ëï³ÝÇ Ð³Ýñ³å»ïáõÃÛ³Ý ¸³ï³ñ³ÝÝ»ñÇ Ý³Ë³·³ÑÝ»ñÇ ËáñÑñ¹Ç 27.01.2017Ã. ÃÇí 01-È áñáßÙ³Ý
A2: ØÇÝã¹³ï³Ï³Ý í³ñáõÛÃÇ ÝÏ³ïÙ³Ùµ ¹³ï³Ï³Ý í»ñ³ÑëÏáÕáõÃÛ³ÝÁ, ¹³ï³Ï³Ý ³Ïï»ñÇ ¨ ¹³ï³Ï³Ý Ñ³ÝÓÝ³ñ³ñáõÃÛáõÝÝ»ñÇ Ï³ï³ñÙ³ÝÁ Ñ»ï Ï³åí³Í ÙÇçÝáñ¹áõÃÛáõÝÝ»ñÇ í»ñ³µ»ñÛ³É ¹³ï³Ï³Ý ·áñÍ»ñáí ÐÐ ²ñÙ³íÇñÇ Ù³ñ½Ç ÁÝ¹Ñ³Ýáõñ Çñ³í³ëáõÃÛ³Ý ³é³çÇÝ ³ïÛ³ÝÇ ¹³ï³ñ³ÝÇ ¹³ï³íáñ Ð. Ø»ÉùáÝյանի ·áñÍáõÝ»áõÃÛ³Ý í»ñ³µ»ñÛ³É
A3: êïáõ·Çã Ñ³í³ë³ñáõÙ` 1+2=3+8+9, 8=4+5+6+7, | D3: Ð³ßí»ïáõ Å³Ù³Ý³Ï³Ñ³ïí³ÍÇ ëÏ½µáõÙ Ý³Ëáñ¹ Ñ³ßí»ïáõ Å³Ù³Ý³Ï³Ñ³ïí³ÍÇó ÷áË³Ýóí³Í ·áñÍ»ñÇ ÁÝ¹Ñ³Ýáõñ ÃÇíÁ | E3: Ð³ßí»ïáõ Å³Ù³Ý³Ï³Ñ³ïí³ÍáõÙ ëï³óí³Í ·áñÍ»ñÇ ÁÝ¹Ñ³Ýáõñ ÃÇíÁ | F3: öáË³Ýóí»É ¿ ³ÛÉ ¹³ï³íáñÇ Ï³Ù ³ÛÉ ¹³ï³ñ³Ý (Ï³½ÙÇ ÷á÷áËáõÃÛáõÝ, ÁÝ¹¹³ïáõÃÛáõÝ) | G3: Ð³ßí»ïáõ Å³Ù³Ý³Ï³Ñ³ïí³ÍáõÙ ³í³ñïí³Í ·áñÍ»ñÇ ÁÝ¹Ñ³Ýáõñ ÃÇíÁ | L3: Ð³ßí»ïáõ Å³Ù³Ý³Ï³Ñ³ïí³ÍáõÙ ³Ý³í³ñï ·áñÍ»ñÇ ÁÝ¹Ñ³Ýáõñ ÃÇíÁ | M3: ØÇçÝáñ¹áõÃÛáõÝÝ»ñáí Ï³Û³óí³Í ¹³ï³Ï³Ý ³Ïï»ñÇó µáÕáù³ñÏí³ÍÝ»ñÇ ù³Ý³ÏÁ | O3: ²Ý³í³ñï µáÕáùÝ»ñ | P3: ØÇçÝáñ¹áõÃÛáõÝÝ»ñáí Ï³Û³óí³Í ¨ µáÕáù³ñÏí³Í ¹³ï³Ï³Ý ³Ïï»ñÇó µ»Ï³Ýí³ÍÝ»ñÇ ù³Ý³ÏÁ | R3: ÙÇçÝáñ¹áõÃÛáõÝÝ»ñáí Ï³Û³óí³Í ¨ µáÕáù³ñÏí³Í ¹³ï³Ï³Ý ³Ïï»ñÇó ³Ý÷á÷áË ÃáÕÝí³ÍÝ»ñÇ ù³Ý³ÏÁ
G4: Ù»ñÅí»É ¿ | H4: µ³í³ñ³ñí»É ¿ | I4: µ³í³ñ³ñí»É ¿ Ù³ëÝ³ÏÇ | J4: ÃáÕÝí»É ¿ ³é³Ýó ùÝÝáõÃÛ³Ý | K4: ÀÝ¹³Ù»ÝÁ
M5: Ý³Ëáñ¹ ï³ñÇÝ»ñÇÝ Ï³Û³óí³Í ³Ïï»ñÇ ¹»Ù | N5: Ñ³ßí»ïáõ Å³Ù³Ý³Ï³ßñç³ÝáõÙ Ï³Û³óí³Í ³Ïï»ñÇ ¹»Ù | P5: Ý³Ëáñ¹ ï³ñÇÝ»ñÇÝ Ï³Û³óí³Í ³Ïï»ñÇ µ»Ï³ÝáõÙÝ»ñÁ | Q5: Ñ³ßí»ïáõ Å³Ù³Ý³Ï³ßñç³ÝáõÙ Ï³Û³óí³Í ³Ïï»ñÇ µ»Ï³ÝáõÙÝ»ñÁ
A6: 1. ØÇÝã¹³ï³Ï³Ý í³ñáõÛÃÇ ÝÏ³ïÙ³Ùµ ¹³ï³Ï³Ý í»ñ³ÑëÏáÕáõÃÛ³Ý áÉáñï | D6: 1 | E6: 2 | F6: 3 | G6: 4 | H6: 5 | I6: 6 | J6: 7 | K6: 8 | L6: 9 | M6: 10 | N6: 11 | O6: 12 | P6: 13 | Q6: 14 | R6: 15 | S6: 1+2=3+8+9 | U6: 8=4+5+6+7
A7: 1 | B7: Ï³É³ÝùÁ áñå»ë Ë³÷³ÝÙ³Ý ÙÇçáó ÏÇñ³é»Éáõ Ù³ëÇÝ ÙÇçÝáñ¹áõÃÛáõÝÝ»ñ | E7: 19 | G7: 1 | H7: 18 | K7: 19 | N7: 4 | O7: 1 | S7: =D7+E7 -> 19 | T7: =F7+K7+L7 -> 19 | U7: =K7 -> 19 | V7: =G7+H7+I7+J7 -> 19
A8: 2 | B8: Ï³É³ÝùÇ Å³ÙÏ»ïÁ »ñÏ³ñ³óÝ»Éáõ Ù³ëÇÝ ÙÇçÝáñ¹áõÃÛáõÝÝ»ñ | E8: 19 | H8: 19 | K8: 19 | N8: 3 | S8: =D8+E8 -> 19 | T8: =F8+K8+L8 -> 19 | U8: =K8 -> 19 | V8: =G8+H8+I8+J8 -> 19
A9: 3 | B9: Ï³É³ÝùÇ í»ñ³Ñ³ëï³ïÙ³Ý Ù³ëÇÝ ÙÇçÝáñ¹áõÃÛáõÝÝ»ñ | E9: 5 | H9: 5 | K9: 5 | S9: =D9+E9 -> 5 | T9: =F9+K9+L9 -> 5 | U9: =K9 -> 5 | V9: =G9+H9+I9+J9 -> 5
A10: 4 | B10: ·ñ³íÁ áñå»ë Ï³É³Ý³íáñÙ³Ý ³ÛÉÁÝïñ³Ýù³ÛÇÝ Ë³÷³ÝÙ³Ý ÙÇçáó ÏÇñ³é»Éáõ Ù³ëÇÝ ÙÇçÝáñ¹áõÃÛáõÝÝ»ñ | E10: 20 | G10: 16 | H10: 4 | K10: 20 | N10: 9 | O10: 3 | S10: =D10+E10 -> 20 | T10: =F10+K10+L10 -> 20 | U10: =K10 -> 20 | V10: =G10+H10+I10+J10 -> 20
A11: 5 | B11: Ëáõ½³ñÏáõÃÛ³Ý Ï³ï³ñÙ³Ý Ù³ëÇÝ ÙÇçÝáñ¹áõÃÛáõÝÝ»ñ | E11: 52 | G11: 4 | H11: 48 | K11: 52 | S11: =D11+E11 -> 52 | T11: =F11+K11+L11 -> 52 | U11: =K11 -> 52 | V11: =G11+H11+I11+J11 -> 52
A12: 6 | B12: µ³ÝÏ³ÛÇÝ, ³å³Ñáí³·ñ³Ï³Ý, Ýáï³ñ³Ï³Ý ·³ÕïÝÇù Ï³½ÙáÕ ï»Õ»ÏáõÃÛáõÝÝ»ñÇ ëï³óÙ³Ý Ñ³Ù³ñ Ëáõ½³ñÏáõÃÛ³Ý Ï³Ù ³é·ñ³íÙ³Ý Ï³ï³ñÙ³Ý Ù³ëÇÝ ÙÇçÝáñ¹áõÃÛáõÝÝ»ñ | S12: =D12+E12 -> 0 | T12: =F12+K12+L12 -> 0 | U12: =K12 -> 0 | V12: =G12+H12+I12+J12 -> 0
A13: 7 | B13: Ý³Ù³Ï³·ñáõÃÛ³Ý, Ñ»é³·ñ³Ï³Ý, ÷áuï³ÛÇÝ Ñ³Õáñ¹áõÙÝ»ñÇ ÑëÏáÕáõÃÛ³Ý Ù³ëÇÝ ÙÇçÝáñ¹áõÃÛáõÝÝ»ñ | S13: =D13+E13 -> 0 | T13: =F13+K13+L13 -> 0 | U13: =K13 -> 0 | V13: =G13+H13+I13+J13 -> 0
A14: 8 | B14: Ñ»é³Ëáu³ÛÇÝ Ï³Ù Ï³åÇ ³ÛÉ ÙÇçáóÝ»ñáí ï³ñíáÕ Ëáu³ÏóáõÃÛáõÝÝ»ñÇ ÉuÙ³Ý ¨ Ó³ÛÝ³·ñ³éÙ³Ý Ù³ëÇÝ ÙÇçÝáñ¹áõÃÛáõÝÝ»ñ | E14: 1 | H14: 1 | K14: 1 | S14: =D14+E14 -> 1 | T14: =F14+K14+L14 -> 1 | U14: =K14 -> 1 | V14: =G14+H14+I14+J14 -> 1
A15: 9 | B15: Ñ»é³ËáëÝ»ñÇ Ùáõïù³ÛÇÝ ¨ »Éù³ÛÇÝ í»ñÍ³ÝÙ³Ý ÃáõÛÉïíáõÃÛáõÝ ëï³Ý³Éáõ Ù³ëÇÝ ÙÇçÝáñ¹áõÃÛáõÝÝ»ñ | E15: 30 | H15: 29 | I15: 1 | K15: 30 | S15: =D15+E15 -> 30 | T15: =F15+K15+L15 -> 30 | U15: =K15 -> 30 | V15: =G15+H15+I15+J15 -> 30
A16: 10 | B16: Ñ»ï³ùÝÝáõÃÛ³Ý Ù³ñÙÝÇ ³ßË³ïáÕÇ, ùÝÝÇãÇ, ¹³ï³Ë³½Ç oå»ñ³ïÇí-Ñ»ï³Ëáõ½³Ï³Ý ·áñÍáÕáõÃÛáõÝÝ»ñ Çñ³Ï³Ý³óÝáÕ Ù³ñÙÇÝÝ»ñÇ ³ÝoñÇÝ³Ï³Ý ¨ ³ÝÑÇÙÝ áñáßáõÙÝ»ñÇ ¨ ·áñÍáÕáõÃÛáõÝÝ»ñÇ ¹»Ù µáÕáùÝ»ñ | E16: 5 | F16: 1 | G16: 2 | H16: 1 | J16: 1 | K16: 4 | N16: 1 | S16: =D16+E16 -> 5 | T16: =F16+K16+L16 -> 5 | U16: =K16 -> 4 | V16: =G16+H16+I16+J16 -> 4
A17: 11 | B17: ²½³ïáõÃÛáõÝÇó ½ñÏ»Éáõ Çñ³í³ã³÷áõÃÛ³Ý í»ñ³µ»ñÛ³É µáÕáùÝ»ñáí ·áñÍ»ñ | S17: =D17+E17 -> 0 | T17: =F17+K17+L17 -> 0 | U17: =K17 -> 0 | V17: =G17+H17+I17+J17 -> 0
A18: 2. ¸³ï³Ï³Ý ³Ïï»ñÇ ¨ ¹³ï³Ï³Ý Ñ³ÝÓÝ³ñ³ñáõÃÛáõÝÝ»ñÇ Ï³ï³ñÙ³Ý Ñ»ï Ï³åí³Í Ñ³ñó»ñÇ ÉáõÍÙ³Ý áÉáñï
A19: 1 | B19: å³ïÅÇó å³ÛÙ³Ý³Ï³Ý í³Õ³Å³ÙÏ»ï ³½³ï»Éáõ Ù³ëÇÝ ÙÇçÝáñ¹áõÃÛáõÝÝ»ñ | S19: =D19+E19 -> 0 | T19: =F19+K19+L19 -> 0 | U19: =K19 -> 0 | V19: =G19+H19+I19+J19 -> 0
A20: 2 | B20: å³ïÇÅÁ ÷á÷áË»Éáõ, Ñ»ï³Ó·»Éáõ ¨ å³ïÅÇó ³½³ï»Éáõ Ù³uÇÝ ÙÇçÝáñ¹áõÃÛáõÝÝ»ñ | S20: =D20+E20 -> 0 | T20: =F20+K20+L20 -> 0 | U20: =K20 -> 0 | V20: =G20+H20+I20+J20 -> 0
A21: 3 | B21: Ñ³ñÏ³¹Çñ µáõÅÙ³Ý ï»ë³ÏÇ ÷á÷áËáõÃÛ³Ý Ù³ëÇÝ ÙÇçÝáñ¹áõÃÛáõÝÝ»ñ | E21: 4 | H21: 4 | K21: 4 | S21: =D21+E21 -> 4 | T21: =F21+K21+L21 -> 4 | U21: =K21 -> 4 | V21: =G21+H21+I21+J21 -> 4
A22: 4 | B22: ³ÛÉ ÙÇçÝáñ¹áõÃÛáõÝÝ»ñ | E22: 5 | G22: 2 | H22: 3 | K22: 5 | S22: =D22+E22 -> 5 | T22: =F22+K22+L22 -> 5 | U22: =K22 -> 5 | V22: =G22+H22+I22+J22 -> 5
A23: 5 | B23: ¹³ï³Ï³Ý Ñ³ÝÓÝ³ñ³ñáõÃÛáõÝÝ»ñ | D23: 1 | E23: 2 | H23: 2 | K23: 2 | L23: 1 | S23: =D23+E23 -> 3 | T23: =F23+K23+L23 -> 3 | U23: =K23 -> 2 | V23: =G23+H23+I23+J23 -> 2
A24: ÀÜ¸²ØºÜÀ | D24: =D7+D8+D9+D10+D11+D12+D13+D14+D15+D17+D19+D20+D21+D22+D23+D16 -> 1 | E24: =E7+E8+E9+E10+E11+E12+E13+E14+E15+E17+E19+E20+E21+E22+E23+E16 -> 162 | F24: =F7+F8+F9+F10+F11+F12+F13+F14+F15+F17+F19+F20+F21+F22+F23+F16 -> 1 | G24: =G7+G8+G9+G10+G11+G12+G13+G14+G15+G17+G19+G20+G21+G22+G23+G16 -> 25 | H24: =H7+H8+H9+H10+H11+H12+H13+H14+H15+H17+H19+H20+H21+H22+H23+H16 -> 134 | I24: =I7+I8+I9+I10+I11+I12+I13+I14+I15+I17+I19+I20+I21+I22+I23+I16 -> 1 | J24: =J7+J8+J9+J10+J11+J12+J13+J14+J15+J17+J19+J20+J21+J22+J23+J16 -> 1 | K24: =K7+K8+K9+K10+K11+K12+K13+K14+K15+K17+K19+K20+K21+K22+K23+K16 -> 161 | ... R24: =R7+R8+R9+R10+R11+R12+R13+R14+R15+R17+R19+R20+R21+R22+R23+R16 -> 0 | S24: =D24+E24 -> 163 | T24: =F24+K24+L24 -> 163 | U24: =K24 -> 161 | V24: =G24+H24+I24+J24 -> 161

Sheet Մ. Սիմոնյան
A1: 2016Ã. | D1: Ð²ÞìºîìàôÂÚàôÜ | P1: Ð³í»Éí³Í Ð³Û³ëï³ÝÇ Ð³Ýñ³å»ïáõÃÛ³Ý ¸³ï³ñ³ÝÝ»ñÇ Ý³Ë³·³ÑÝ»ñÇ ËáñÑñ¹Ç 27.01.2017Ã. ÃÇí 01-È áñáßÙ³Ý
A2: ØÇÝã¹³ï³Ï³Ý í³ñáõÛÃÇ ÝÏ³ïÙ³Ùµ ¹³ï³Ï³Ý í»ñ³ÑëÏáÕáõÃÛ³ÝÁ, ¹³ï³Ï³Ý ³Ïï»ñÇ ¨ ¹³ï³Ï³Ý Ñ³ÝÓÝ³ñ³ñáõÃÛáõÝÝ»ñÇ Ï³ï³ñÙ³ÝÁ Ñ»ï Ï³åí³Í ÙÇçÝáñ¹áõÃÛáõÝÝ»ñÇ í»ñ³µ»ñÛ³É ¹³ï³Ï³Ý ·áñÍ»ñáí ÐÐ ²ñÙ³íÇñÇ Ù³ñ½Ç ÁÝ¹Ñ³Ýáõñ Çñ³í³ëáõÃÛ³Ý ³é³çÇÝ ³ïÛ³ÝÇ ¹³ï³ñ³ÝÇ ¹³ï³íáñ Մ.Սիմոնյան ·áñÍáõÝ»áõÃÛ³Ý í»ñ³µ»ñÛ³É
A3: êïáõ·Çã Ñ³í³ë³ñáõÙ` 1+2=3+8+9, 8=4+5+6+7, | D3: Ð³ßí»ïáõ Å³Ù³Ý³Ï³Ñ³ïí³ÍÇ ëÏ½µáõÙ Ý³Ëáñ¹ Ñ³ßí»ïáõ Å³Ù³Ý³Ï³Ñ³ïí³ÍÇó ÷áË³Ýóí³Í ·áñÍ»ñÇ ÁÝ¹Ñ³Ýáõñ ÃÇíÁ | E3: Ð³ßí»ïáõ Å³Ù³Ý³Ï³Ñ³ïí³ÍáõÙ ëï³óí³Í ·áñÍ»ñÇ ÁÝ¹Ñ³Ýáõñ ÃÇíÁ | F3: öáË³Ýóí»É ¿ ³ÛÉ ¹³ï³íáñÇ Ï³Ù ³ÛÉ ¹³ï³ñ³Ý (Ï³½ÙÇ ÷á÷áËáõÃÛáõÝ, ÁÝ¹¹³ïáõÃÛáõÝ) | G3: Ð³ßí»ïáõ Å³Ù³Ý³Ï³Ñ³ïí³ÍáõÙ ³í³ñïí³Í ·áñÍ»ñÇ ÁÝ¹Ñ³Ýáõñ ÃÇíÁ | L3: Ð³ßí»ïáõ Å³Ù³Ý³Ï³Ñ³ïí³ÍáõÙ ³Ý³í³ñï ·áñÍ»ñÇ ÁÝ¹Ñ³Ýáõñ ÃÇíÁ | M3: ØÇçÝáñ¹áõÃÛáõÝÝ»ñáí Ï³Û³óí³Í ¹³ï³Ï³Ý ³Ïï»ñÇó µáÕáù³ñÏí³ÍÝ»ñÇ ù³Ý³ÏÁ | O3: ²Ý³í³ñï µáÕáùÝ»ñ | P3: ØÇçÝáñ¹áõÃÛáõÝÝ»ñáí Ï³Û³óí³Í ¨ µáÕáù³ñÏí³Í ¹³ï³Ï³Ý ³Ïï»ñÇó µ»Ï³Ýí³ÍÝ»ñÇ ù³Ý³ÏÁ | R3: ÙÇçÝáñ¹áõÃÛáõÝÝ»ñáí Ï³Û³óí³Í ¨ µáÕáù³ñÏí³Í ¹³ï³Ï³Ý ³Ïï»ñÇó ³Ý÷á÷áË ÃáÕÝí³ÍÝ»ñÇ ù³Ý³ÏÁ
G4: Ù»ñÅí»É ¿ | H4: µ³í³ñ³ñí»É ¿ | I4: µ³í³ñ³ñí»É ¿ Ù³ëÝ³ÏÇ | J4: ÃáÕÝí»É ¿ ³é³Ýó ùÝÝáõÃÛ³Ý | K4: ÀÝ¹³Ù»ÝÁ
M5: Ý³Ëáñ¹ ï³ñÇÝ»ñÇÝ Ï³Û³óí³Í ³Ïï»ñÇ ¹»Ù | N5: Ñ³ßí»ïáõ Å³Ù³Ý³Ï³ßñç³ÝáõÙ Ï³Û³óí³Í ³Ïï»ñÇ ¹»Ù | P5: Ý³Ëáñ¹ ï³ñÇÝ»ñÇÝ Ï³Û³óí³Í ³Ïï»ñÇ µ»Ï³ÝáõÙÝ»ñÁ | Q5: Ñ³ßí»ïáõ Å³Ù³Ý³Ï³ßñç³ÝáõÙ Ï³Û³óí³Í ³Ïï»ñÇ µ»Ï³ÝáõÙÝ»ñÁ
A6: 1. ØÇÝã¹³ï³Ï³Ý í³ñáõÛÃÇ ÝÏ³ïÙ³Ùµ ¹³ï³Ï³Ý í»ñ³ÑëÏáÕáõÃÛ³Ý áÉáñï | D6: 1 | E6: 2 | F6: 3 | G6: 4 | H6: 5 | I6: 6 | J6: 7 | K6: 8 | L6: 9 | M6: 10 | N6: 11 | O6: 12 | P6: 13 | Q6: 14 | R6: 15 | S6: 1+2=3+8+9 | U6: 8=4+5+6+7
A7: 1 | B7: Ï³É³ÝùÁ áñå»ë Ë³÷³ÝÙ³Ý ÙÇçáó ÏÇñ³é»Éáõ Ù³ëÇÝ ÙÇçÝáñ¹áõÃÛáõÝÝ»ñ | E7: 8 | G7: 1 | H7: 7 | K7: 8 | N7: 3 | O7: 1 | R7: 2 | S7: =D7+E7 -> 8 | T7: =F7+K7+L7 -> 8 | U7: =K7 -> 8 | V7: =G7+H7+I7+J7 -> 8
A8: 2 | B8: Ï³É³ÝùÇ Å³ÙÏ»ïÁ »ñÏ³ñ³óÝ»Éáõ Ù³ëÇÝ ÙÇçÝáñ¹áõÃÛáõÝÝ»ñ | E8: 10 | G8: 1 | H8: 8 | I8: 1 | K8: 10 | N8: 2 | R8: 2 | S8: =D8+E8 -> 10 | T8: =F8+K8+L8 -> 10 | U8: =K8 -> 10 | V8: =G8+H8+I8+J8 -> 10
A9: 3 | B9: Ï³É³ÝùÇ í»ñ³Ñ³ëï³ïÙ³Ý Ù³ëÇÝ ÙÇçÝáñ¹áõÃÛáõÝÝ»ñ | E9: 1 | I9: 1 | K9: 1 | S9: =D9+E9 -> 1 | T9: =F9+K9+L9 -> 1 | U9: =K9 -> 1 | V9: =G9+H9+I9+J9 -> 1
A10: 4 | B10: ·ñ³íÁ áñå»ë Ï³É³Ý³íáñÙ³Ý ³ÛÉÁÝïñ³Ýù³ÛÇÝ Ë³÷³ÝÙ³Ý ÙÇçáó ÏÇñ³é»Éáõ Ù³ëÇÝ ÙÇçÝáñ¹áõÃÛáõÝÝ»ñ | E10: 4 | G10: 3 | H10: 1 | K10: 4 | N10: 1 | O10: 1 | S10: =D10+E10 -> 4 | T10: =F10+K10+L10 -> 4 | U10: =K10 -> 4 | V10: =G10+H10+I10+J10 -> 4
A11: 5 | B11: Ëáõ½³ñÏáõÃÛ³Ý Ï³ï³ñÙ³Ý Ù³ëÇÝ ÙÇçÝáñ¹áõÃÛáõÝÝ»ñ | E11: 18 | H11: 18 | K11: 18 | S11: =D11+E11 -> 18 | T11: =F11+K11+L11 -> 18 | U11: =K11 -> 18 | V11: =G11+H11+I11+J11 -> 18
A12: 6 | B12: µ³ÝÏ³ÛÇÝ, ³å³Ñáí³·ñ³Ï³Ý, Ýáï³ñ³Ï³Ý ·³ÕïÝÇù Ï³½ÙáÕ ï»Õ»ÏáõÃÛáõÝÝ»ñÇ ëï³óÙ³Ý Ñ³Ù³ñ Ëáõ½³ñÏáõÃÛ³Ý Ï³Ù ³é·ñ³íÙ³Ý Ï³ï³ñÙ³Ý Ù³ëÇÝ ÙÇçÝáñ¹áõÃÛáõÝÝ»ñ | S12: =D12+E12 -> 0 | T12: =F12+K12+L12 -> 0 | U12: =K12 -> 0 | V12: =G12+H12+I12+J12 -> 0
A13: 7 | B13: Ý³Ù³Ï³·ñáõÃÛ³Ý, Ñ»é³·ñ³Ï³Ý, ÷áuï³ÛÇÝ Ñ³Õáñ¹áõÙÝ»ñÇ ÑëÏáÕáõÃÛ³Ý Ù³ëÇÝ ÙÇçÝáñ¹áõÃÛáõÝÝ»ñ | S13: =D13+E13 -> 0 | T13: =F13+K13+L13 -> 0 | U13: =K13 -> 0 | V13: =G13+H13+I13+J13 -> 0
A14: 8 | B14: Ñ»é³Ëáu³ÛÇÝ Ï³Ù Ï³åÇ ³ÛÉ ÙÇçáóÝ»ñáí ï³ñíáÕ Ëáu³ÏóáõÃÛáõÝÝ»ñÇ ÉuÙ³Ý ¨ Ó³ÛÝ³·ñ³éÙ³Ý Ù³ëÇÝ ÙÇçÝáñ¹áõÃÛáõÝÝ»ñ | S14: =D14+E14 -> 0 | T14: =F14+K14+L14 -> 0 | U14: =K14 -> 0 | V14: =G14+H14+I14+J14 -> 0
A15: 9 | B15: Ñ»é³ËáëÝ»ñÇ Ùáõïù³ÛÇÝ ¨ »Éù³ÛÇÝ í»ñÍ³ÝÙ³Ý ÃáõÛÉïíáõÃÛáõÝ ëï³Ý³Éáõ Ù³ëÇÝ ÙÇçÝáñ¹áõÃÛáõÝÝ»ñ | E15: 24 | F15: 1 | H15: 23 | K15: 23 | S15: =D15+E15 -> 24 | T15: =F15+K15+L15 -> 24 | U15: =K15 -> 23 | V15: =G15+H15+I15+J15 -> 23
A16: 10 | B16: Ñ»ï³ùÝÝáõÃÛ³Ý Ù³ñÙÝÇ ³ßË³ïáÕÇ, ùÝÝÇãÇ, ¹³ï³Ë³½Ç oå»ñ³ïÇí-Ñ»ï³Ëáõ½³Ï³Ý ·áñÍáÕáõÃÛáõÝÝ»ñ Çñ³Ï³Ý³óÝáÕ Ù³ñÙÇÝÝ»ñÇ ³ÝoñÇÝ³Ï³Ý ¨ ³ÝÑÇÙÝ áñáßáõÙÝ»ñÇ ¨ ·áñÍáÕáõÃÛáõÝÝ»ñÇ ¹»Ù µáÕáùÝ»ñ | D16: 1 | E16: 5 | G16: 4 | H16: 2 | K16: 6 | N16: 2 | R16: 2 | S16: =D16+E16 -> 6 | T16: =F16+K16+L16 -> 6 | U16: =K16 -> 6 | V16: =G16+H16+I16+J16 -> 6
A17: 11 | B17: ²½³ïáõÃÛáõÝÇó ½ñÏ»Éáõ Çñ³í³ã³÷áõÃÛ³Ý í»ñ³µ»ñÛ³É µáÕáùÝ»ñáí ·áñÍ»ñ | S17: =D17+E17 -> 0 | T17: =F17+K17+L17 -> 0 | U17: =K17 -> 0 | V17: =G17+H17+I17+J17 -> 0
A18: 2. ¸³ï³Ï³Ý ³Ïï»ñÇ ¨ ¹³ï³Ï³Ý Ñ³ÝÓÝ³ñ³ñáõÃÛáõÝÝ»ñÇ Ï³ï³ñÙ³Ý Ñ»ï Ï³åí³Í Ñ³ñó»ñÇ ÉáõÍÙ³Ý áÉáñï
A19: 1 | B19: å³ïÅÇó å³ÛÙ³Ý³Ï³Ý í³Õ³Å³ÙÏ»ï ³½³ï»Éáõ Ù³ëÇÝ ÙÇçÝáñ¹áõÃÛáõÝÝ»ñ | S19: =D19+E19 -> 0 | T19: =F19+K19+L19 -> 0 | U19: =K19 -> 0 | V19: =G19+H19+I19+J19 -> 0
A20: 2 | B20: å³ïÇÅÁ ÷á÷áË»Éáõ, Ñ»ï³Ó·»Éáõ ¨ å³ïÅÇó ³½³ï»Éáõ Ù³uÇÝ ÙÇçÝáñ¹áõÃÛáõÝÝ»ñ | S20: =D20+E20 -> 0 | T20: =F20+K20+L20 -> 0 | U20: =K20 -> 0 | V20: =G20+H20+I20+J20 -> 0
A21: 3 | B21: Ñ³ñÏ³¹Çñ µáõÅÙ³Ý ï»ë³ÏÇ ÷á÷áËáõÃÛ³Ý Ù³ëÇÝ ÙÇçÝáñ¹áõÃÛáõÝÝ»ñ | E21: 1 | H21: 1 | K21: 1 | S21: =D21+E21 -> 1 | T21: =F21+K21+L21 -> 1 | U21: =K21 -> 1 | V21: =G21+H21+I21+J21 -> 1
A22: 4 | B22: ³ÛÉ ÙÇçÝáñ¹áõÃÛáõÝÝ»ñ | S22: =D22+E22 -> 0 | T22: =F22+K22+L22 -> 0 | U22: =K22 -> 0 | V22: =G22+H22+I22+J22 -> 0
A23: 5 | B23: ¹³ï³Ï³Ý Ñ³ÝÓÝ³ñ³ñáõÃÛáõÝÝ»ñ | E23: 1 | H23: 1 | K23: 1 | S23: =D23+E23 -> 1 | T23: =F23+K23+L23 -> 1 | U23: =K23 -> 1 | V23: =G23+H23+I23+J23 -> 1
A24: ÀÜ¸²ØºÜÀ | D24: =D7+D8+D9+D10+D11+D12+D13+D14+D15+D17+D19+D20+D21+D22+D23+D16 -> 1 | E24: =E7+E8+E9+E10+E11+E12+E13+E14+E15+E17+E19+E20+E21+E22+E23+E16 -> 72 | F24: =F7+F8+F9+F10+F11+F12+F13+F14+F15+F17+F19+F20+F21+F22+F23+F16 -> 1 | G24: =G7+G8+G9+G10+G11+G12+G13+G14+G15+G17+G19+G20+G21+G22+G23+G16 -> 9 | H24: =H7+H8+H9+H10+H11+H12+H13+H14+H15+H17+H19+H20+H21+H22+H23+H16 -> 61 | I24: =I7+I8+I9+I10+I11+I12+I13+I14+I15+I17+I19+I20+I21+I22+I23+I16 -> 2 | J24: =J7+J8+J9+J10+J11+J12+J13+J14+J15+J17+J19+J20+J21+J22+J23+J16 -> 0 | K24: =K7+K8+K9+K10+K11+K12+K13+K14+K15+K17+K19+K20+K21+K22+K23+K16 -> 72 | ... R24: =R7+R8+R9+R10+R11+R12+R13+R14+R15+R17+R19+R20+R21+R22+R23+R16 -> 6 | S24: =D24+E24 -> 73 | T24: =F24+K24+L24 -> 73 | U24: =K24 -> 72 | V24: =G24+H24+I24+J24 -> 72
