Workbook

Sheet Ընդամենը
A1: 2017Ã. 1-ÇÝ ÏÇë³ÙÛ³Ï | D1: Ð²ÞìºîìàôÂÚàôÜ | P1: Ð³í»Éí³Í Ð³Û³ëï³ÝÇ Ð³Ýñ³å»ïáõÃÛ³Ý ¸³ï³ñ³ÝÝ»ñÇ Ý³Ë³·³ÑÝ»ñÇ ËáñÑñ¹Ç 25.08.2017Ã. ÃÇí 35-È áñáßÙ³Ý
A2: ØÇÝã¹³ï³Ï³Ý í³ñáõÛÃÇ ÝÏ³ïÙ³Ùµ ¹³ï³Ï³Ý í»ñ³ÑëÏáÕáõÃÛ³Ý, ¹³ï³Ï³Ý ³Ïï»ñÇ ¨ ¹³ï³Ï³Ý Ñ³ÝÓÝ³ñ³ñáõÃÛáõÝÝ»ñÇ Ï³ï³ñÙ³Ý Ñ»ï Ï³åí³Í ÙÇçÝáñ¹áõÃÛáõÝÝ»ñÇ í»ñ³µ»ñÛ³É ¹³ï³Ï³Ý ·áñÍ»ñáí ÐÐ î³íáõßÇ Ù³ñ½Ç ÁÝ¹Ñ³Ýáõñ Çñ³í³ëáõÃÛ³Ý ³é³çÇÝ ³ïÛ³ÝÇ ¹³ï³ñ³ÝÇ ·áñÍáõÝ»áõÃÛ³Ý í»ñ³µ»ñÛ³É
A3: êïáõ·Çã Ñ³í³ë³ñáõÙ` 1+2=3+8+9, 8=4+5+6+7, | D3: Ð³ßí»ïáõ Å³Ù³Ý³Ï³Ñ³ïí³ÍÇ ëÏ½µáõÙ Ý³Ëáñ¹ Ñ³ßí»ïáõ Å³Ù³Ý³Ï³Ñ³ïí³ÍÇó ÷áË³Ýóí³Í ·áñÍ»ñÇ ÁÝ¹Ñ³Ýáõñ ÃÇíÁ | E3: Ð³ßí»ïáõ Å³Ù³Ý³Ï³Ñ³ïí³ÍáõÙ ëï³óí³Í ·áñÍ»ñÇ ÁÝ¹Ñ³Ýáõñ ÃÇíÁ | F3: öáË³Ýóí»É ¿ ³ÛÉ ¹³ï³íáñÇ Ï³Ù ³ÛÉ ¹³ï³ñ³Ý (Ï³½ÙÇ ÷á÷áËáõÃÛáõÝ, ÁÝ¹¹³ïáõÃÛáõÝ) | G3: Ð³ßí»ïáõ Å³Ù³Ý³Ï³Ñ³ïí³ÍáõÙ ³í³ñïí³Í ·áñÍ»ñÇ ÁÝ¹Ñ³Ýáõñ ÃÇíÁ | L3: Ð³ßí»ïáõ Å³Ù³Ý³Ï³Ñ³ïí³ÍáõÙ ³Ý³í³ñï ·áñÍ»ñÇ ÁÝ¹Ñ³Ýáõñ ÃÇíÁ | M3: ØÇçÝáñ¹áõÃÛáõÝÝ»ñáí Ï³Û³óí³Í ¹³ï³Ï³Ý ³Ïï»ñÇó µáÕáù³ñÏí³ÍÝ»ñÇ ù³Ý³ÏÁ | O3: ²Ý³í³ñï µáÕáùÝ»ñ | P3: ØÇçÝáñ¹áõÃÛáõÝÝ»ñáí Ï³Û³óí³Í ¨ µáÕáù³ñÏí³Í ¹³ï³Ï³Ý ³Ïï»ñÇó µ»Ï³Ýí³ÍÝ»ñÇ ù³Ý³ÏÁ | R3: ÙÇçÝáñ¹áõÃÛáõÝÝ»ñáí Ï³Û³óí³Í ¨ µáÕáù³ñÏí³Í ¹³ï³Ï³Ý ³Ïï»ñÇó ³Ý÷á÷áË ÃáÕÝí³ÍÝ»ñÇ ù³Ý³ÏÁ
G4: Ù»ñÅí»É ¿ | H4: µ³í³ñ³ñí»É ¿ | I4: µ³í³ñ³ñí»É ¿ Ù³ëÝ³ÏÇ | J4: ÃáÕÝí»É ¿ ³é³Ýó ùÝÝáõÃÛ³Ý | K4: ÀÝ¹³Ù»ÝÁ
M5: Ý³Ëáñ¹ ï³ñÇÝ»ñÇÝ Ï³Û³óí³Í ³Ïï»ñÇ ¹»Ù | N5: Ñ³ßí»ïáõ Å³Ù³Ý³Ï³ßñç³ÝáõÙ Ï³Û³óí³Í ³Ïï»ñÇ ¹»Ù | P5: Ý³Ëáñ¹ ï³ñÇÝ»ñÇÝ Ï³Û³óí³Í ³Ïï»ñÇ µ»Ï³ÝáõÙÝ»ñÁ | Q5: Ñ³ßí»ïáõ Å³Ù³Ý³Ï³ßñç³ÝáõÙ Ï³Û³óí³Í ³Ïï»ñÇ µ»Ï³ÝáõÙÝ»ñÁ
A6: 1. ØÇÝã¹³ï³Ï³Ý í³ñáõÛÃÇ ÝÏ³ïÙ³Ùµ ¹³ï³Ï³Ý í»ñ³ÑëÏáÕáõÃÛ³Ý áÉáñï | D6: 1 | E6: 2 | F6: 3 | G6: 4 | H6: 5 | I6: 6 | J6: 7 | K6: 8 | L6: 9 | M6: 10 | N6: 11 | O6: 12 | P6: 13 | Q6: 14 | R6: 15 | T6: 1+2=3+8+9 | V6: 8=4+5+6+7
A7: 1 | B7: Ï³É³ÝùÁ áñå»ë Ë³÷³ÝÙ³Ý ÙÇçáó ÏÇñ³é»Éáõ Ù³ëÇÝ ÙÇçÝáñ¹áõÃÛáõÝÝ»ñ | D7: ='Ս. Մարդանյան'!D7+Ա.Խաչիկյան!D7+'Ռ. Մելքոնյան'!D7+'Զ. Զաքինյան'!D7+'Ա. Կուրեխյան'!D7+'Ա. Օհանյան'!D7+'Ս. Իսկանդարյան'!D7 -> 0 | E7: ='Ս. Մարդանյան'!E7+Ա.Խաչիկյան!E7+'Ռ. Մելքոնյան'!E7+'Զ. Զաքինյան'!E7+'Ա. Կուրեխյան'!E7+'Ա. Օհանյան'!E7+'Ս. Իսկանդարյան'!E7 -> 21 | F7: ='Ս. Մարդանյան'!F7+Ա.Խաչիկյան!F7+'Ռ. Մելքոնյան'!F7+'Զ. Զաքինյան'!F7+'Ա. Կուրեխյան'!F7+'Ա. Օհանյան'!F7+'Ս. Իսկանդարյան'!F7 -> 0 | G7: ='Ս. Մարդանյան'!G7+Ա.Խաչիկյան!G7+'Ռ. Մելքոնյան'!G7+'Զ. Զաքինյան'!G7+'Ա. Կուրեխյան'!G7+'Ա. Օհանյան'!G7+'Ս. Իսկանդարյան'!G7 -> 0 | H7: ='Ս. Մարդանյան'!H7+Ա.Խաչիկյան!H7+'Ռ. Մելքոնյան'!H7+'Զ. Զաքինյան'!H7+'Ա. Կուրեխյան'!H7+'Ա. Օհանյան'!H7+'Ս. Իսկանդարյան'!H7 -> 20 | I7: ='Ս. Մարդանյան'!I7+Ա.Խաչիկյան!I7+'Ռ. Մելքոնյան'!I7+'Զ. Զաքինյան'!I7+'Ա. Կուրեխյան'!I7+'Ա. Օհանյան'!I7+'Ս. Իսկանդարյան'!I7 -> 1 | J7: ='Ս. Մարդանյան'!J7+Ա.Խաչիկյան!J7+'Ռ. Մելքոնյան'!J7+'Զ. Զաքինյան'!J7+'Ա. Կուրեխյան'!J7+'Ա. Օհանյան'!J7+'Ս. Իսկանդարյան'!J7 -> 0 | K7: ='Ս. Մարդանյան'!K7+Ա.Խաչիկյան!K7+'Ռ. Մելքոնյան'!K7+'Զ. Զաքինյան'!K7+'Ա. Կուրեխյան'!K7+'Ա. Օհանյան'!K7+'Ս. Իսկանդարյան'!K7 -> 21 | ... R7: ='Ս. Մարդանյան'!R7+Ա.Խաչիկյան!R7+'Ռ. Մելքոնյան'!R7+'Զ. Զաքինյան'!R7+'Ա. Կուրեխյան'!R7+'Ա. Օհանյան'!R7+'Ս. Իսկանդարյան'!R7 -> 1 | S7: ='Ս. Մարդանյան'!S7+Ա.Խաչիկյան!S7+'Ռ. Մելքոնյան'!S7+'Զ. Զաքինյան'!S7+'Ա. Կուրեխյան'!S7+#REF!+#REF!+#REF! -> #REF! | T7: =D7+E7 -> 21 | U7: =F7+K7+L7 -> 21 | V7: =K7 -> 21 | W7: =G7+H7+I7+J7 -> 21
A8: 2 | B8: Ï³É³ÝùÇ Å³ÙÏ»ïÁ »ñÏ³ñ³óÝ»Éáõ Ù³ëÇÝ ÙÇçÝáñ¹áõÃÛáõÝÝ»ñ | D8: ='Ս. Մարդանյան'!D8+Ա.Խաչիկյան!D8+'Ռ. Մելքոնյան'!D8+'Զ. Զաքինյան'!D8+'Ա. Կուրեխյան'!D8+'Ա. Օհանյան'!D8+'Ս. Իսկանդարյան'!D8 -> 0 | E8: ='Ս. Մարդանյան'!E8+Ա.Խաչիկյան!E8+'Ռ. Մելքոնյան'!E8+'Զ. Զաքինյան'!E8+'Ա. Կուրեխյան'!E8+'Ա. Օհանյան'!E8+'Ս. Իսկանդարյան'!E8 -> 7 | F8: ='Ս. Մարդանյան'!F8+Ա.Խաչիկյան!F8+'Ռ. Մելքոնյան'!F8+'Զ. Զաքինյան'!F8+'Ա. Կուրեխյան'!F8+'Ա. Օհանյան'!F8+'Ս. Իսկանդարյան'!F8 -> 0 | G8: ='Ս. Մարդանյան'!G8+Ա.Խաչիկյան!G8+'Ռ. Մելքոնյան'!G8+'Զ. Զաքինյան'!G8+'Ա. Կուրեխյան'!G8+'Ա. Օհանյան'!G8+'Ս. Իսկանդարյան'!G8 -> 0 | H8: ='Ս. Մարդանյան'!H8+Ա.Խաչիկյան!H8+'Ռ. Մելքոնյան'!H8+'Զ. Զաքինյան'!H8+'Ա. Կուրեխյան'!H8+'Ա. Օհանյան'!H8+'Ս. Իսկանդարյան'!H8 -> 5 | I8: ='Ս. Մարդանյան'!I8+Ա.Խաչիկյան!I8+'Ռ. Մելքոնյան'!I8+'Զ. Զաքինյան'!I8+'Ա. Կուրեխյան'!I8+'Ա. Օհանյան'!I8+'Ս. Իսկանդարյան'!I8 -> 0 | J8: ='Ս. Մարդանյան'!J8+Ա.Խաչիկյան!J8+'Ռ. Մելքոնյան'!J8+'Զ. Զաքինյան'!J8+'Ա. Կուրեխյան'!J8+'Ա. Օհանյան'!J8+'Ս. Իսկանդարյան'!J8 -> 0 | K8: ='Ս. Մարդանյան'!K8+Ա.Խաչիկյան!K8+'Ռ. Մելքոնյան'!K8+'Զ. Զաքինյան'!K8+'Ա. Կուրեխյան'!K8+'Ա. Օհանյան'!K8+'Ս. Իսկանդարյան'!K8 -> 5 | ... R8: ='Ս. Մարդանյան'!R8+Ա.Խաչիկյան!R8+'Ռ. Մելքոնյան'!R8+'Զ. Զաքինյան'!R8+'Ա. Կուրեխյան'!R8+'Ա. Օհանյան'!R8+'Ս. Իսկանդարյան'!R8 -> 1 | S8: ='Ս. Մարդանյան'!S8+Ա.Խաչիկյան!S8+'Ռ. Մելքոնյան'!S8+'Զ. Զաքինյան'!S8+'Ա. Կուրեխյան'!S8+#REF!+#REF!+#REF! -> #REF! | T8: =D8+E8 -> 7 | U8: =F8+K8+L8 -> 7 | V8: =K8 -> 5 | W8: =G8+H8+I8+J8 -> 5
A9: 3 | B9: Ï³É³ÝùÇ í»ñ³Ñ³ëï³ïÙ³Ý Ù³ëÇÝ ÙÇçÝáñ¹áõÃÛáõÝÝ»ñ | D9: ='Ս. Մարդանյան'!D9+Ա.Խաչիկյան!D9+'Ռ. Մելքոնյան'!D9+'Զ. Զաքինյան'!D9+'Ա. Կուրեխյան'!D9+'Ա. Օհանյան'!D9+'Ս. Իսկանդարյան'!D9 -> 0 | E9: ='Ս. Մարդանյան'!E9+Ա.Խաչիկյան!E9+'Ռ. Մելքոնյան'!E9+'Զ. Զաքինյան'!E9+'Ա. Կուրեխյան'!E9+'Ա. Օհանյան'!E9+'Ս. Իսկանդարյան'!E9 -> 4 | F9: ='Ս. Մարդանյան'!F9+Ա.Խաչիկյան!F9+'Ռ. Մելքոնյան'!F9+'Զ. Զաքինյան'!F9+'Ա. Կուրեխյան'!F9+'Ա. Օհանյան'!F9+'Ս. Իսկանդարյան'!F9 -> 0 | G9: ='Ս. Մարդանյան'!G9+Ա.Խաչիկյան!G9+'Ռ. Մելքոնյան'!G9+'Զ. Զաքինյան'!G9+'Ա. Կուրեխյան'!G9+'Ա. Օհանյան'!G9+'Ս. Իսկանդարյան'!G9 -> 0 | H9: ='Ս. Մարդանյան'!H9+Ա.Խաչիկյան!H9+'Ռ. Մելքոնյան'!H9+'Զ. Զաքինյան'!H9+'Ա. Կուրեխյան'!H9+'Ա. Օհանյան'!H9+'Ս. Իսկանդարյան'!H9 -> 4 | I9: ='Ս. Մարդանյան'!I9+Ա.Խաչիկյան!I9+'Ռ. Մելքոնյան'!I9+'Զ. Զաքինյան'!I9+'Ա. Կուրեխյան'!I9+'Ա. Օհանյան'!I9+'Ս. Իսկանդարյան'!I9 -> 0 | J9: ='Ս. Մարդանյան'!J9+Ա.Խաչիկյան!J9+'Ռ. Մելքոնյան'!J9+'Զ. Զաքինյան'!J9+'Ա. Կուրեխյան'!J9+'Ա. Օհանյան'!J9+'Ս. Իսկանդարյան'!J9 -> 0 | K9: ='Ս. Մարդանյան'!K9+Ա.Խաչիկյան!K9+'Ռ. Մելքոնյան'!K9+'Զ. Զաքինյան'!K9+'Ա. Կուրեխյան'!K9+'Ա. Օհանյան'!K9+'Ս. Իսկանդարյան'!K9 -> 4 | ... R9: ='Ս. Մարդանյան'!R9+Ա.Խաչիկյան!R9+'Ռ. Մելքոնյան'!R9+'Զ. Զաքինյան'!R9+'Ա. Կուրեխյան'!R9+'Ա. Օհանյան'!R9+'Ս. Իսկանդարյան'!R9 -> 0 | S9: ='Ս. Մարդանյան'!S9+Ա.Խաչիկյան!S9+'Ռ. Մելքոնյան'!S9+'Զ. Զաքինյան'!S9+'Ա. Կուրեխյան'!S9+#REF!+#REF!+#REF! -> #REF! | T9: =D9+E9 -> 4 | U9: =F9+K9+L9 -> 4 | V9: =K9 -> 4 | W9: =G9+H9+I9+J9 -> 4
A10: 4 | B10: ·ñ³íÁ áñå»ë Ï³É³Ý³íáñÙ³Ý ³ÛÉÁÝïñ³Ýù³ÛÇÝ Ë³÷³ÝÙ³Ý ÙÇçáó ÏÇñ³é»Éáõ Ù³ëÇÝ ÙÇçÝáñ¹áõÃÛáõÝÝ»ñ | D10: ='Ս. Մարդանյան'!D10+Ա.Խաչիկյան!D10+'Ռ. Մելքոնյան'!D10+'Զ. Զաքինյան'!D10+'Ա. Կուրեխյան'!D10+'Ա. Օհանյան'!D10+'Ս. Իսկանդարյան'!D10 -> 0 | E10: ='Ս. Մարդանյան'!E10+Ա.Խաչիկյան!E10+'Ռ. Մելքոնյան'!E10+'Զ. Զաքինյան'!E10+'Ա. Կուրեխյան'!E10+'Ա. Օհանյան'!E10+'Ս. Իսկանդարյան'!E10 -> 2 | F10: ='Ս. Մարդանյան'!F10+Ա.Խաչիկյան!F10+'Ռ. Մելքոնյան'!F10+'Զ. Զաքինյան'!F10+'Ա. Կուրեխյան'!F10+'Ա. Օհանյան'!F10+'Ս. Իսկանդարյան'!F10 -> 0 | G10: ='Ս. Մարդանյան'!G10+Ա.Խաչիկյան!G10+'Ռ. Մելքոնյան'!G10+'Զ. Զաքինյան'!G10+'Ա. Կուրեխյան'!G10+'Ա. Օհանյան'!G10+'Ս. Իսկանդարյան'!G10 -> 2 | H10: ='Ս. Մարդանյան'!H10+Ա.Խաչիկյան!H10+'Ռ. Մելքոնյան'!H10+'Զ. Զաքինյան'!H10+'Ա. Կուրեխյան'!H10+'Ա. Օհանյան'!H10+'Ս. Իսկանդարյան'!H10 -> 0 | I10: ='Ս. Մարդանյան'!I10+Ա.Խաչիկյան!I10+'Ռ. Մելքոնյան'!I10+'Զ. Զաքինյան'!I10+'Ա. Կուրեխյան'!I10+'Ա. Օհանյան'!I10+'Ս. Իսկանդարյան'!I10 -> 0 | J10: ='Ս. Մարդանյան'!J10+Ա.Խաչիկյան!J10+'Ռ. Մելքոնյան'!J10+'Զ. Զաքինյան'!J10+'Ա. Կուրեխյան'!J10+'Ա. Օհանյան'!J10+'Ս. Իսկանդարյան'!J10 -> 0 | K10: ='Ս. Մարդանյան'!K10+Ա.Խաչիկյան!K10+'Ռ. Մելքոնյան'!K10+'Զ. Զաքինյան'!K10+'Ա. Կուրեխյան'!K10+'Ա. Օհանյան'!K10+'Ս. Իսկանդարյան'!K10 -> 2 | ... R10: ='Ս. Մարդանյան'!R10+Ա.Խաչիկյան!R10+'Ռ. Մելքոնյան'!R10+'Զ. Զաքինյան'!R10+'Ա. Կուրեխյան'!R10+'Ա. Օհանյան'!R10+'Ս. Իսկանդարյան'!R10 -> 0 | S10: ='Ս. Մարդանյան'!S10+Ա.Խաչիկյան!S10+'Ռ. Մելքոնյան'!S10+'Զ. Զաքինյան'!S10+'Ա. Կուրեխյան'!S10+#REF!+#REF!+#REF! -> #REF! | T10: =D10+E10 -> 2 | U10: =F10+K10+L10 -> 2 | V10: =K10 -> 2 | W10: =G10+H10+I10+J10 -> 2
A11: 5 | B11: Ëáõ½³ñÏáõÃÛ³Ý Ï³ï³ñÙ³Ý Ù³ëÇÝ ÙÇçÝáñ¹áõÃÛáõÝÝ»ñ | D11: ='Ս. Մարդանյան'!D11+Ա.Խաչիկյան!D11+'Ռ. Մելքոնյան'!D11+'Զ. Զաքինյան'!D11+'Ա. Կուրեխյան'!D11+'Ա. Օհանյան'!D11+'Ս. Իսկանդարյան'!D11 -> 0 | E11: ='Ս. Մարդանյան'!E11+Ա.Խաչիկյան!E11+'Ռ. Մելքոնյան'!E11+'Զ. Զաքինյան'!E11+'Ա. Կուրեխյան'!E11+'Ա. Օհանյան'!E11+'Ս. Իսկանդարյան'!E11 -> 29 | F11: ='Ս. Մարդանյան'!F11+Ա.Խաչիկյան!F11+'Ռ. Մելքոնյան'!F11+'Զ. Զաքինյան'!F11+'Ա. Կուրեխյան'!F11+'Ա. Օհանյան'!F11+'Ս. Իսկանդարյան'!F11 -> 0 | G11: ='Ս. Մարդանյան'!G11+Ա.Խաչիկյան!G11+'Ռ. Մելքոնյան'!G11+'Զ. Զաքինյան'!G11+'Ա. Կուրեխյան'!G11+'Ա. Օհանյան'!G11+'Ս. Իսկանդարյան'!G11 -> 0 | H11: ='Ս. Մարդանյան'!H11+Ա.Խաչիկյան!H11+'Ռ. Մելքոնյան'!H11+'Զ. Զաքինյան'!H11+'Ա. Կուրեխյան'!H11+'Ա. Օհանյան'!H11+'Ս. Իսկանդարյան'!H11 -> 29 | I11: ='Ս. Մարդանյան'!I11+Ա.Խաչիկյան!I11+'Ռ. Մելքոնյան'!I11+'Զ. Զաքինյան'!I11+'Ա. Կուրեխյան'!I11+'Ա. Օհանյան'!I11+'Ս. Իսկանդարյան'!I11 -> 0 | J11: ='Ս. Մարդանյան'!J11+Ա.Խաչիկյան!J11+'Ռ. Մելքոնյան'!J11+'Զ. Զաքինյան'!J11+'Ա. Կուրեխյան'!J11+'Ա. Օհանյան'!J11+'Ս. Իսկանդարյան'!J11 -> 0 | K11: ='Ս. Մարդանյան'!K11+Ա.Խաչիկյան!K11+'Ռ. Մելքոնյան'!K11+'Զ. Զաքինյան'!K11+'Ա. Կուրեխյան'!K11+'Ա. Օհանյան'!K11+'Ս. Իսկանդարյան'!K11 -> 29 | ... R11: ='Ս. Մարդանյան'!R11+Ա.Խաչիկյան!R11+'Ռ. Մելքոնյան'!R11+'Զ. Զաքինյան'!R11+'Ա. Կուրեխյան'!R11+'Ա. Օհանյան'!R11+'Ս. Իսկանդարյան'!R11 -> 0 | S11: ='Ս. Մարդանյան'!S11+Ա.Խաչիկյան!S11+'Ռ. Մելքոնյան'!S11+'Զ. Զաքինյան'!S11+'Ա. Կուրեխյան'!S11+#REF!+#REF!+#REF! -> #REF! | T11: =D11+E11 -> 29 | U11: =F11+K11+L11 -> 29 | V11: =K11 -> 29 | W11: =G11+H11+I11+J11 -> 29
A12: 6 | B12: µ³ÝÏ³ÛÇÝ, ³å³Ñáí³·ñ³Ï³Ý, Ýáï³ñ³Ï³Ý ·³ÕïÝÇù Ï³½ÙáÕ ï»Õ»ÏáõÃÛáõÝÝ»ñÇ ëï³óÙ³Ý Ñ³Ù³ñ Ëáõ½³ñÏáõÃÛ³Ý Ï³Ù ³é·ñ³íÙ³Ý Ï³ï³ñÙ³Ý Ù³ëÇÝ ÙÇçÝáñ¹áõÃÛáõÝÝ»ñ | D12: ='Ս. Մարդանյան'!D12+Ա.Խաչիկյան!D12+'Ռ. Մելքոնյան'!D12+'Զ. Զաքինյան'!D12+'Ա. Կուրեխյան'!D12+'Ա. Օհանյան'!D12+'Ս. Իսկանդարյան'!D12 -> 0 | E12: ='Ս. Մարդանյան'!E12+Ա.Խաչիկյան!E12+'Ռ. Մելքոնյան'!E12+'Զ. Զաքինյան'!E12+'Ա. Կուրեխյան'!E12+'Ա. Օհանյան'!E12+'Ս. Իսկանդարյան'!E12 -> 2 | F12: ='Ս. Մարդանյան'!F12+Ա.Խաչիկյան!F12+'Ռ. Մելքոնյան'!F12+'Զ. Զաքինյան'!F12+'Ա. Կուրեխյան'!F12+'Ա. Օհանյան'!F12+'Ս. Իսկանդարյան'!F12 -> 0 | G12: ='Ս. Մարդանյան'!G12+Ա.Խաչիկյան!G12+'Ռ. Մելքոնյան'!G12+'Զ. Զաքինյան'!G12+'Ա. Կուրեխյան'!G12+'Ա. Օհանյան'!G12+'Ս. Իսկանդարյան'!G12 -> 0 | H12: ='Ս. Մարդանյան'!H12+Ա.Խաչիկյան!H12+'Ռ. Մելքոնյան'!H12+'Զ. Զաքինյան'!H12+'Ա. Կուրեխյան'!H12+'Ա. Օհանյան'!H12+'Ս. Իսկանդարյան'!H12 -> 2 | I12: ='Ս. Մարդանյան'!I12+Ա.Խաչիկյան!I12+'Ռ. Մելքոնյան'!I12+'Զ. Զաքինյան'!I12+'Ա. Կուրեխյան'!I12+'Ա. Օհանյան'!I12+'Ս. Իսկանդարյան'!I12 -> 0 | J12: ='Ս. Մարդանյան'!J12+Ա.Խաչիկյան!J12+'Ռ. Մելքոնյան'!J12+'Զ. Զաքինյան'!J12+'Ա. Կուրեխյան'!J12+'Ա. Օհանյան'!J12+'Ս. Իսկանդարյան'!J12 -> 0 | K12: ='Ս. Մարդանյան'!K12+Ա.Խաչիկյան!K12+'Ռ. Մելքոնյան'!K12+'Զ. Զաքինյան'!K12+'Ա. Կուրեխյան'!K12+'Ա. Օհանյան'!K12+'Ս. Իսկանդարյան'!K12 -> 2 | ... R12: ='Ս. Մարդանյան'!R12+Ա.Խաչիկյան!R12+'Ռ. Մելքոնյան'!R12+'Զ. Զաքինյան'!R12+'Ա. Կուրեխյան'!R12+'Ա. Օհանյան'!R12+'Ս. Իսկանդարյան'!R12 -> 0 | S12: ='Ս. Մարդանյան'!S12+Ա.Խաչիկյան!S12+'Ռ. Մելքոնյան'!S12+'Զ. Զաքինյան'!S12+'Ա. Կուրեխյան'!S12+#REF!+#REF!+#REF! -> #REF! | T12: =D12+E12 -> 2 | U12: =F12+K12+L12 -> 2 | V12: =K12 -> 2 | W12: =G12+H12+I12+J12 -> 2
A13: 7 | B13: Ý³Ù³Ï³·ñáõÃÛ³Ý, Ñ»é³·ñ³Ï³Ý, ÷áuï³ÛÇÝ Ñ³Õáñ¹áõÙÝ»ñÇ ÑëÏáÕáõÃÛ³Ý Ù³ëÇÝ ÙÇçÝáñ¹áõÃÛáõÝÝ»ñ | D13: ='Ս. Մարդանյան'!D13+Ա.Խաչիկյան!D13+'Ռ. Մելքոնյան'!D13+'Զ. Զաքինյան'!D13+'Ա. Կուրեխյան'!D13+'Ա. Օհանյան'!D13+'Ս. Իսկանդարյան'!D13 -> 0 | E13: ='Ս. Մարդանյան'!E13+Ա.Խաչիկյան!E13+'Ռ. Մելքոնյան'!E13+'Զ. Զաքինյան'!E13+'Ա. Կուրեխյան'!E13+'Ա. Օհանյան'!E13+'Ս. Իսկանդարյան'!E13 -> 0 | F13: ='Ս. Մարդանյան'!F13+Ա.Խաչիկյան!F13+'Ռ. Մելքոնյան'!F13+'Զ. Զաքինյան'!F13+'Ա. Կուրեխյան'!F13+'Ա. Օհանյան'!F13+'Ս. Իսկանդարյան'!F13 -> 0 | G13: ='Ս. Մարդանյան'!G13+Ա.Խաչիկյան!G13+'Ռ. Մելքոնյան'!G13+'Զ. Զաքինյան'!G13+'Ա. Կուրեխյան'!G13+'Ա. Օհանյան'!G13+'Ս. Իսկանդարյան'!G13 -> 0 | H13: ='Ս. Մարդանյան'!H13+Ա.Խաչիկյան!H13+'Ռ. Մելքոնյան'!H13+'Զ. Զաքինյան'!H13+'Ա. Կուրեխյան'!H13+'Ա. Օհանյան'!H13+'Ս. Իսկանդարյան'!H13 -> 0 | I13: ='Ս. Մարդանյան'!I13+Ա.Խաչիկյան!I13+'Ռ. Մելքոնյան'!I13+'Զ. Զաքինյան'!I13+'Ա. Կուրեխյան'!I13+'Ա. Օհանյան'!I13+'Ս. Իսկանդարյան'!I13 -> 0 | J13: ='Ս. Մարդանյան'!J13+Ա.Խաչիկյան!J13+'Ռ. Մելքոնյան'!J13+'Զ. Զաքինյան'!J13+'Ա. Կուրեխյան'!J13+'Ա. Օհանյան'!J13+'Ս. Իսկանդարյան'!J13 -> 0 | K13: ='Ս. Մարդանյան'!K13+Ա.Խաչիկյան!K13+'Ռ. Մելքոնյան'!K13+'Զ. Զաքինյան'!K13+'Ա. Կուրեխյան'!K13+'Ա. Օհանյան'!K13+'Ս. Իսկանդարյան'!K13 -> 0 | ... R13: ='Ս. Մարդանյան'!R13+Ա.Խաչիկյան!R13+'Ռ. Մելքոնյան'!R13+'Զ. Զաքինյան'!R13+'Ա. Կուրեխյան'!R13+'Ա. Օհանյան'!R13+'Ս. Իսկանդարյան'!R13 -> 0 | S13: ='Ս. Մարդանյան'!S13+Ա.Խաչիկյան!S13+'Ռ. Մելքոնյան'!S13+'Զ. Զաքինյան'!S13+'Ա. Կուրեխյան'!S13+#REF!+#REF!+#REF! -> #REF! | T13: =D13+E13 -> 0 | U13: =F13+K13+L13 -> 0 | V13: =K13 -> 0 | W13: =G13+H13+I13+J13 -> 0
A14: 8 | B14: Ñ»é³Ëáu³ÛÇÝ Ï³Ù Ï³åÇ ³ÛÉ ÙÇçáóÝ»ñáí ï³ñíáÕ Ëáu³ÏóáõÃÛáõÝÝ»ñÇ ÉuÙ³Ý ¨ Ó³ÛÝ³·ñ³éÙ³Ý Ù³ëÇÝ ÙÇçÝáñ¹áõÃÛáõÝÝ»ñ | D14: ='Ս. Մարդանյան'!D14+Ա.Խաչիկյան!D14+'Ռ. Մելքոնյան'!D14+'Զ. Զաքինյան'!D14+'Ա. Կուրեխյան'!D14+'Ա. Օհանյան'!D14+'Ս. Իսկանդարյան'!D14 -> 0 | E14: ='Ս. Մարդանյան'!E14+Ա.Խաչիկյան!E14+'Ռ. Մելքոնյան'!E14+'Զ. Զաքինյան'!E14+'Ա. Կուրեխյան'!E14+'Ա. Օհանյան'!E14+'Ս. Իսկանդարյան'!E14 -> 0 | F14: ='Ս. Մարդանյան'!F14+Ա.Խաչիկյան!F14+'Ռ. Մելքոնյան'!F14+'Զ. Զաքինյան'!F14+'Ա. Կուրեխյան'!F14+'Ա. Օհանյան'!F14+'Ս. Իսկանդարյան'!F14 -> 0 | G14: ='Ս. Մարդանյան'!G14+Ա.Խաչիկյան!G14+'Ռ. Մելքոնյան'!G14+'Զ. Զաքինյան'!G14+'Ա. Կուրեխյան'!G14+'Ա. Օհանյան'!G14+'Ս. Իսկանդարյան'!G14 -> 0 | H14: ='Ս. Մարդանյան'!H14+Ա.Խաչիկյան!H14+'Ռ. Մելքոնյան'!H14+'Զ. Զաքինյան'!H14+'Ա. Կուրեխյան'!H14+'Ա. Օհանյան'!H14+'Ս. Իսկանդարյան'!H14 -> 0 | I14: ='Ս. Մարդանյան'!I14+Ա.Խաչիկյան!I14+'Ռ. Մելքոնյան'!I14+'Զ. Զաքինյան'!I14+'Ա. Կուրեխյան'!I14+'Ա. Օհանյան'!I14+'Ս. Իսկանդարյան'!I14 -> 0 | J14: ='Ս. Մարդանյան'!J14+Ա.Խաչիկյան!J14+'Ռ. Մելքոնյան'!J14+'Զ. Զաքինյան'!J14+'Ա. Կուրեխյան'!J14+'Ա. Օհանյան'!J14+'Ս. Իսկանդարյան'!J14 -> 0 | K14: ='Ս. Մարդանյան'!K14+Ա.Խաչիկյան!K14+'Ռ. Մելքոնյան'!K14+'Զ. Զաքինյան'!K14+'Ա. Կուրեխյան'!K14+'Ա. Օհանյան'!K14+'Ս. Իսկանդարյան'!K14 -> 0 | ... R14: ='Ս. Մարդանյան'!R14+Ա.Խաչիկյան!R14+'Ռ. Մելքոնյան'!R14+'Զ. Զաքինյան'!R14+'Ա. Կուրեխյան'!R14+'Ա. Օհանյան'!R14+'Ս. Իսկանդարյան'!R14 -> 0 | S14: ='Ս. Մարդանյան'!S14+Ա.Խաչիկյան!S14+'Ռ. Մելքոնյան'!S14+'Զ. Զաքինյան'!S14+'Ա. Կուրեխյան'!S14+#REF!+#REF!+#REF! -> #REF! | T14: =D14+E14 -> 0 | U14: =F14+K14+L14 -> 0 | V14: =K14 -> 0 | W14: =G14+H14+I14+J14 -> 0
A15: 9 | B15: Ñ»é³ËáëÝ»ñÇ Ùáõïù³ÛÇÝ ¨ »Éù³ÛÇÝ í»ñÍ³ÝÙ³Ý ÃáõÛÉïíáõÃÛáõÝ ëï³Ý³Éáõ Ù³ëÇÝ ÙÇçÝáñ¹áõÃÛáõÝÝ»ñ | D15: ='Ս. Մարդանյան'!D15+Ա.Խաչիկյան!D15+'Ռ. Մելքոնյան'!D15+'Զ. Զաքինյան'!D15+'Ա. Կուրեխյան'!D15+'Ա. Օհանյան'!D15+'Ս. Իսկանդարյան'!D15 -> 0 | E15: ='Ս. Մարդանյան'!E15+Ա.Խաչիկյան!E15+'Ռ. Մելքոնյան'!E15+'Զ. Զաքինյան'!E15+'Ա. Կուրեխյան'!E15+'Ա. Օհանյան'!E15+'Ս. Իսկանդարյան'!E15 -> 29 | F15: ='Ս. Մարդանյան'!F15+Ա.Խաչիկյան!F15+'Ռ. Մելքոնյան'!F15+'Զ. Զաքինյան'!F15+'Ա. Կուրեխյան'!F15+'Ա. Օհանյան'!F15+'Ս. Իսկանդարյան'!F15 -> 0 | G15: ='Ս. Մարդանյան'!G15+Ա.Խաչիկյան!G15+'Ռ. Մելքոնյան'!G15+'Զ. Զաքինյան'!G15+'Ա. Կուրեխյան'!G15+'Ա. Օհանյան'!G15+'Ս. Իսկանդարյան'!G15 -> 0 | H15: ='Ս. Մարդանյան'!H15+Ա.Խաչիկյան!H15+'Ռ. Մելքոնյան'!H15+'Զ. Զաքինյան'!H15+'Ա. Կուրեխյան'!H15+'Ա. Օհանյան'!H15+'Ս. Իսկանդարյան'!H15 -> 29 | I15: ='Ս. Մարդանյան'!I15+Ա.Խաչիկյան!I15+'Ռ. Մելքոնյան'!I15+'Զ. Զաքինյան'!I15+'Ա. Կուրեխյան'!I15+'Ա. Օհանյան'!I15+'Ս. Իսկանդարյան'!I15 -> 0 | J15: ='Ս. Մարդանյան'!J15+Ա.Խաչիկյան!J15+'Ռ. Մելքոնյան'!J15+'Զ. Զաքինյան'!J15+'Ա. Կուրեխյան'!J15+'Ա. Օհանյան'!J15+'Ս. Իսկանդարյան'!J15 -> 0 | K15: ='Ս. Մարդանյան'!K15+Ա.Խաչիկյան!K15+'Ռ. Մելքոնյան'!K15+'Զ. Զաքինյան'!K15+'Ա. Կուրեխյան'!K15+'Ա. Օհանյան'!K15+'Ս. Իսկանդարյան'!K15 -> 29 | ... R15: ='Ս. Մարդանյան'!R15+Ա.Խաչիկյան!R15+'Ռ. Մելքոնյան'!R15+'Զ. Զաքինյան'!R15+'Ա. Կուրեխյան'!R15+'Ա. Օհանյան'!R15+'Ս. Իսկանդարյան'!R15 -> 0 | S15: ='Ս. Մարդանյան'!S15+Ա.Խաչիկյան!S15+'Ռ. Մելքոնյան'!S15+'Զ. Զաքինյան'!S15+'Ա. Կուրեխյան'!S15+#REF!+#REF!+#REF! -> #REF! | T15: =D15+E15 -> 29 | U15: =F15+K15+L15 -> 29 | V15: =K15 -> 29 | W15: =G15+H15+I15+J15 -> 29
A16: 10 | B16: Ñ»ï³ùÝÝáõÃÛ³Ý Ù³ñÙÝÇ ³ßË³ïáÕÇ, ùÝÝÇãÇ, ¹³ï³Ë³½Ç oå»ñ³ïÇí-Ñ»ï³Ëáõ½³Ï³Ý ·áñÍáÕáõÃÛáõÝÝ»ñ Çñ³Ï³Ý³óÝáÕ Ù³ñÙÇÝÝ»ñÇ ³ÝoñÇÝ³Ï³Ý ¨ ³ÝÑÇÙÝ áñáßáõÙÝ»ñÇ ¨ ·áñÍáÕáõÃÛáõÝÝ»ñÇ ¹»Ù µáÕáùÝ»ñ | D16: ='Ս. Մարդանյան'!D16+Ա.Խաչիկյան!D16+'Ռ. Մելքոնյան'!D16+'Զ. Զաքինյան'!D16+'Ա. Կուրեխյան'!D16+'Ա. Օհանյան'!D16+'Ս. Իսկանդարյան'!D16 -> 1 | E16: ='Ս. Մարդանյան'!E16+Ա.Խաչիկյան!E16+'Ռ. Մելքոնյան'!E16+'Զ. Զաքինյան'!E16+'Ա. Կուրեխյան'!E16+'Ա. Օհանյան'!E16+'Ս. Իսկանդարյան'!E16 -> 8 | F16: ='Ս. Մարդանյան'!F16+Ա.Խաչիկյան!F16+'Ռ. Մելքոնյան'!F16+'Զ. Զաքինյան'!F16+'Ա. Կուրեխյան'!F16+'Ա. Օհանյան'!F16+'Ս. Իսկանդարյան'!F16 -> 0 | G16: ='Ս. Մարդանյան'!G16+Ա.Խաչիկյան!G16+'Ռ. Մելքոնյան'!G16+'Զ. Զաքինյան'!G16+'Ա. Կուրեխյան'!G16+'Ա. Օհանյան'!G16+'Ս. Իսկանդարյան'!G16 -> 4 | H16: ='Ս. Մարդանյան'!H16+Ա.Խաչիկյան!H16+'Ռ. Մելքոնյան'!H16+'Զ. Զաքինյան'!H16+'Ա. Կուրեխյան'!H16+'Ա. Օհանյան'!H16+'Ս. Իսկանդարյան'!H16 -> 3 | I16: ='Ս. Մարդանյան'!I16+Ա.Խաչիկյան!I16+'Ռ. Մելքոնյան'!I16+'Զ. Զաքինյան'!I16+'Ա. Կուրեխյան'!I16+'Ա. Օհանյան'!I16+'Ս. Իսկանդարյան'!I16 -> 0 | J16: ='Ս. Մարդանյան'!J16+Ա.Խաչիկյան!J16+'Ռ. Մելքոնյան'!J16+'Զ. Զաքինյան'!J16+'Ա. Կուրեխյան'!J16+'Ա. Օհանյան'!J16+'Ս. Իսկանդարյան'!J16 -> 0 | K16: ='Ս. Մարդանյան'!K16+Ա.Խաչիկյան!K16+'Ռ. Մելքոնյան'!K16+'Զ. Զաքինյան'!K16+'Ա. Կուրեխյան'!K16+'Ա. Օհանյան'!K16+'Ս. Իսկանդարյան'!K16 -> 7 | ... R16: ='Ս. Մարդանյան'!R16+Ա.Խաչիկյան!R16+'Ռ. Մելքոնյան'!R16+'Զ. Զաքինյան'!R16+'Ա. Կուրեխյան'!R16+'Ա. Օհանյան'!R16+'Ս. Իսկանդարյան'!R16 -> 0 | T16: =D16+E16 -> 9 | U16: =F16+K16+L16 -> 9 | V16: =K16 -> 7 | W16: =G16+H16+I16+J16 -> 7
A17: 11 | B17: ²½³ïáõÃÛáõÝÇó ½ñÏ»Éáõ Çñ³í³ã³÷áõÃÛ³Ý í»ñ³µ»ñÛ³É µáÕáùÝ»ñáí ·áñÍ»ñ | D17: ='Ս. Մարդանյան'!D17+Ա.Խաչիկյան!D17+'Ռ. Մելքոնյան'!D17+'Զ. Զաքինյան'!D17+'Ա. Կուրեխյան'!D17+'Ա. Օհանյան'!D17+'Ս. Իսկանդարյան'!D17 -> 0 | E17: ='Ս. Մարդանյան'!E17+Ա.Խաչիկյան!E17+'Ռ. Մելքոնյան'!E17+'Զ. Զաքինյան'!E17+'Ա. Կուրեխյան'!E17+'Ա. Օհանյան'!E17+'Ս. Իսկանդարյան'!E17 -> 0 | F17: ='Ս. Մարդանյան'!F17+Ա.Խաչիկյան!F17+'Ռ. Մելքոնյան'!F17+'Զ. Զաքինյան'!F17+'Ա. Կուրեխյան'!F17+'Ա. Օհանյան'!F17+'Ս. Իսկանդարյան'!F17 -> 0 | G17: ='Ս. Մարդանյան'!G17+Ա.Խաչիկյան!G17+'Ռ. Մելքոնյան'!G17+'Զ. Զաքինյան'!G17+'Ա. Կուրեխյան'!G17+'Ա. Օհանյան'!G17+'Ս. Իսկանդարյան'!G17 -> 0 | H17: ='Ս. Մարդանյան'!H17+Ա.Խաչիկյան!H17+'Ռ. Մելքոնյան'!H17+'Զ. Զաքինյան'!H17+'Ա. Կուրեխյան'!H17+'Ա. Օհանյան'!H17+'Ս. Իսկանդարյան'!H17 -> 0 | I17: ='Ս. Մարդանյան'!I17+Ա.Խաչիկյան!I17+'Ռ. Մելքոնյան'!I17+'Զ. Զաքինյան'!I17+'Ա. Կուրեխյան'!I17+'Ա. Օհանյան'!I17+'Ս. Իսկանդարյան'!I17 -> 0 | J17: ='Ս. Մարդանյան'!J17+Ա.Խաչիկյան!J17+'Ռ. Մելքոնյան'!J17+'Զ. Զաքինյան'!J17+'Ա. Կուրեխյան'!J17+'Ա. Օհանյան'!J17+'Ս. Իսկանդարյան'!J17 -> 0 | K17: ='Ս. Մարդանյան'!K17+Ա.Խաչիկյան!K17+'Ռ. Մելքոնյան'!K17+'Զ. Զաքինյան'!K17+'Ա. Կուրեխյան'!K17+'Ա. Օհանյան'!K17+'Ս. Իսկանդարյան'!K17 -> 0 | ... R17: ='Ս. Մարդանյան'!R17+Ա.Խաչիկյան!R17+'Ռ. Մելքոնյան'!R17+'Զ. Զաքինյան'!R17+'Ա. Կուրեխյան'!R17+'Ա. Օհանյան'!R17+'Ս. Իսկանդարյան'!R17 -> 0 | S17: ='Ս. Մարդանյան'!S17+Ա.Խաչիկյան!S17+'Ռ. Մելքոնյան'!S17+'Զ. Զաքինյան'!S17+'Ա. Կուրեխյան'!S17+#REF!+#REF!+#REF! -> #REF! | T17: =D17+E17 -> 0 | U17: =F17+K17+L17 -> 0 | V17: =K17 -> 0 | W17: =G17+H17+I17+J17 -> 0
A18: 2. ¸³ï³Ï³Ý ³Ïï»ñÇ ¨ ¹³ï³Ï³Ý Ñ³ÝÓÝ³ñ³ñáõÃÛáõÝÝ»ñÇ Ï³ï³ñÙ³Ý Ñ»ï Ï³åí³Í Ñ³ñó»ñÇ ÉáõÍÙ³Ý áÉáñï | S18: ='Ս. Մարդանյան'!S18+Ա.Խաչիկյան!S18+'Ռ. Մելքոնյան'!S18+'Զ. Զաքինյան'!S18+'Ա. Կուրեխյան'!S18+#REF!+#REF!+#REF! -> #REF!
A19: 1 | B19: å³ïÅÇó å³ÛÙ³Ý³Ï³Ý í³Õ³Å³ÙÏ»ï ³½³ï»Éáõ Ù³ëÇÝ ÙÇçÝáñ¹áõÃÛáõÝÝ»ñ | D19: ='Ս. Մարդանյան'!D19+Ա.Խաչիկյան!D19+'Ռ. Մելքոնյան'!D19+'Զ. Զաքինյան'!D19+'Ա. Կուրեխյան'!D19+'Ա. Օհանյան'!D19+'Ս. Իսկանդարյան'!D19 -> 0 | E19: ='Ս. Մարդանյան'!E19+Ա.Խաչիկյան!E19+'Ռ. Մելքոնյան'!E19+'Զ. Զաքինյան'!E19+'Ա. Կուրեխյան'!E19+'Ա. Օհանյան'!E19+'Ս. Իսկանդարյան'!E19 -> 0 | F19: ='Ս. Մարդանյան'!F19+Ա.Խաչիկյան!F19+'Ռ. Մելքոնյան'!F19+'Զ. Զաքինյան'!F19+'Ա. Կուրեխյան'!F19+'Ա. Օհանյան'!F19+'Ս. Իսկանդարյան'!F19 -> 0 | G19: ='Ս. Մարդանյան'!G19+Ա.Խաչիկյան!G19+'Ռ. Մելքոնյան'!G19+'Զ. Զաքինյան'!G19+'Ա. Կուրեխյան'!G19+'Ա. Օհանյան'!G19+'Ս. Իսկանդարյան'!G19 -> 0 | H19: ='Ս. Մարդանյան'!H19+Ա.Խաչիկյան!H19+'Ռ. Մելքոնյան'!H19+'Զ. Զաքինյան'!H19+'Ա. Կուրեխյան'!H19+'Ա. Օհանյան'!H19+'Ս. Իսկանդարյան'!H19 -> 0 | I19: ='Ս. Մարդանյան'!I19+Ա.Խաչիկյան!I19+'Ռ. Մելքոնյան'!I19+'Զ. Զաքինյան'!I19+'Ա. Կուրեխյան'!I19+'Ա. Օհանյան'!I19+'Ս. Իսկանդարյան'!I19 -> 0 | J19: ='Ս. Մարդանյան'!J19+Ա.Խաչիկյան!J19+'Ռ. Մելքոնյան'!J19+'Զ. Զաքինյան'!J19+'Ա. Կուրեխյան'!J19+'Ա. Օհանյան'!J19+'Ս. Իսկանդարյան'!J19 -> 0 | K19: ='Ս. Մարդանյան'!K19+Ա.Խաչիկյան!K19+'Ռ. Մելքոնյան'!K19+'Զ. Զաքինյան'!K19+'Ա. Կուրեխյան'!K19+'Ա. Օհանյան'!K19+'Ս. Իսկանդարյան'!K19 -> 0 | ... R19: ='Ս. Մարդանյան'!R19+Ա.Խաչիկյան!R19+'Ռ. Մելքոնյան'!R19+'Զ. Զաքինյան'!R19+'Ա. Կուրեխյան'!R19+'Ա. Օհանյան'!R19+'Ս. Իսկանդարյան'!R19 -> 0 | S19: ='Ս. Մարդանյան'!S19+Ա.Խաչիկյան!S19+'Ռ. Մելքոնյան'!S19+'Զ. Զաքինյան'!S19+'Ա. Կուրեխյան'!S19+#REF!+#REF!+#REF! -> #REF! | T19: =D19+E19 -> 0 | U19: =F19+K19+L19 -> 0 | V19: =K19 -> 0 | W19: =G19+H19+I19+J19 -> 0
A20: 2 | B20: å³ïÇÅÁ ÷á÷áË»Éáõ, Ñ»ï³Ó·»Éáõ ¨ å³ïÅÇó ³½³ï»Éáõ Ù³uÇÝ ÙÇçÝáñ¹áõÃÛáõÝÝ»ñ | D20: ='Ս. Մարդանյան'!D20+Ա.Խաչիկյան!D20+'Ռ. Մելքոնյան'!D20+'Զ. Զաքինյան'!D20+'Ա. Կուրեխյան'!D20+'Ա. Օհանյան'!D20+'Ս. Իսկանդարյան'!D20 -> 0 | E20: ='Ս. Մարդանյան'!E20+Ա.Խաչիկյան!E20+'Ռ. Մելքոնյան'!E20+'Զ. Զաքինյան'!E20+'Ա. Կուրեխյան'!E20+'Ա. Օհանյան'!E20+'Ս. Իսկանդարյան'!E20 -> 56 | F20: ='Ս. Մարդանյան'!F20+Ա.Խաչիկյան!F20+'Ռ. Մելքոնյան'!F20+'Զ. Զաքինյան'!F20+'Ա. Կուրեխյան'!F20+'Ա. Օհանյան'!F20+'Ս. Իսկանդարյան'!F20 -> 0 | G20: ='Ս. Մարդանյան'!G20+Ա.Խաչիկյան!G20+'Ռ. Մելքոնյան'!G20+'Զ. Զաքինյան'!G20+'Ա. Կուրեխյան'!G20+'Ա. Օհանյան'!G20+'Ս. Իսկանդարյան'!G20 -> 31 | H20: ='Ս. Մարդանյան'!H20+Ա.Խաչիկյան!H20+'Ռ. Մելքոնյան'!H20+'Զ. Զաքինյան'!H20+'Ա. Կուրեխյան'!H20+'Ա. Օհանյան'!H20+'Ս. Իսկանդարյան'!H20 -> 19 | I20: ='Ս. Մարդանյան'!I20+Ա.Խաչիկյան!I20+'Ռ. Մելքոնյան'!I20+'Զ. Զաքինյան'!I20+'Ա. Կուրեխյան'!I20+'Ա. Օհանյան'!I20+'Ս. Իսկանդարյան'!I20 -> 0 | J20: ='Ս. Մարդանյան'!J20+Ա.Խաչիկյան!J20+'Ռ. Մելքոնյան'!J20+'Զ. Զաքինյան'!J20+'Ա. Կուրեխյան'!J20+'Ա. Օհանյան'!J20+'Ս. Իսկանդարյան'!J20 -> 2 | K20: ='Ս. Մարդանյան'!K20+Ա.Խաչիկյան!K20+'Ռ. Մելքոնյան'!K20+'Զ. Զաքինյան'!K20+'Ա. Կուրեխյան'!K20+'Ա. Օհանյան'!K20+'Ս. Իսկանդարյան'!K20 -> 52 | ... R20: ='Ս. Մարդանյան'!R20+Ա.Խաչիկյան!R20+'Ռ. Մելքոնյան'!R20+'Զ. Զաքինյան'!R20+'Ա. Կուրեխյան'!R20+'Ա. Օհանյան'!R20+'Ս. Իսկանդարյան'!R20 -> 0 | S20: ='Ս. Մարդանյան'!S20+Ա.Խաչիկյան!S20+'Ռ. Մելքոնյան'!S20+'Զ. Զաքինյան'!S20+'Ա. Կուրեխյան'!S20+#REF!+#REF!+#REF! -> #REF! | T20: =D20+E20 -> 56 | U20: =F20+K20+L20 -> 56 | V20: =K20 -> 52 | W20: =G20+H20+I20+J20 -> 52
A21: 3 | B21: Ñ³ñÏ³¹Çñ µáõÅÙ³Ý ï»ë³ÏÇ ÷á÷áËáõÃÛ³Ý Ù³ëÇÝ ÙÇçÝáñ¹áõÃÛáõÝÝ»ñ | D21: ='Ս. Մարդանյան'!D21+Ա.Խաչիկյան!D21+'Ռ. Մելքոնյան'!D21+'Զ. Զաքինյան'!D21+'Ա. Կուրեխյան'!D21+'Ա. Օհանյան'!D21+'Ս. Իսկանդարյան'!D21 -> 0 | E21: ='Ս. Մարդանյան'!E21+Ա.Խաչիկյան!E21+'Ռ. Մելքոնյան'!E21+'Զ. Զաքինյան'!E21+'Ա. Կուրեխյան'!E21+'Ա. Օհանյան'!E21+'Ս. Իսկանդարյան'!E21 -> 0 | F21: ='Ս. Մարդանյան'!F21+Ա.Խաչիկյան!F21+'Ռ. Մելքոնյան'!F21+'Զ. Զաքինյան'!F21+'Ա. Կուրեխյան'!F21+'Ա. Օհանյան'!F21+'Ս. Իսկանդարյան'!F21 -> 0 | G21: ='Ս. Մարդանյան'!G21+Ա.Խաչիկյան!G21+'Ռ. Մելքոնյան'!G21+'Զ. Զաքինյան'!G21+'Ա. Կուրեխյան'!G21+'Ա. Օհանյան'!G21+'Ս. Իսկանդարյան'!G21 -> 0 | H21: ='Ս. Մարդանյան'!H21+Ա.Խաչիկյան!H21+'Ռ. Մելքոնյան'!H21+'Զ. Զաքինյան'!H21+'Ա. Կուրեխյան'!H21+'Ա. Օհանյան'!H21+'Ս. Իսկանդարյան'!H21 -> 0 | I21: ='Ս. Մարդանյան'!I21+Ա.Խաչիկյան!I21+'Ռ. Մելքոնյան'!I21+'Զ. Զաքինյան'!I21+'Ա. Կուրեխյան'!I21+'Ա. Օհանյան'!I21+'Ս. Իսկանդարյան'!I21 -> 0 | J21: ='Ս. Մարդանյան'!J21+Ա.Խաչիկյան!J21+'Ռ. Մելքոնյան'!J21+'Զ. Զաքինյան'!J21+'Ա. Կուրեխյան'!J21+'Ա. Օհանյան'!J21+'Ս. Իսկանդարյան'!J21 -> 0 | K21: ='Ս. Մարդանյան'!K21+Ա.Խաչիկյան!K21+'Ռ. Մելքոնյան'!K21+'Զ. Զաքինյան'!K21+'Ա. Կուրեխյան'!K21+'Ա. Օհանյան'!K21+'Ս. Իսկանդարյան'!K21 -> 0 | ... R21: ='Ս. Մարդանյան'!R21+Ա.Խաչիկյան!R21+'Ռ. Մելքոնյան'!R21+'Զ. Զաքինյան'!R21+'Ա. Կուրեխյան'!R21+'Ա. Օհանյան'!R21+'Ս. Իսկանդարյան'!R21 -> 0 | S21: ='Ս. Մարդանյան'!S21+Ա.Խաչիկյան!S21+'Ռ. Մելքոնյան'!S21+'Զ. Զաքինյան'!S21+'Ա. Կուրեխյան'!S21+#REF!+#REF!+#REF! -> #REF! | T21: =D21+E21 -> 0 | U21: =F21+K21+L21 -> 0 | V21: =K21 -> 0 | W21: =G21+H21+I21+J21 -> 0
A22: 4 | B22: ³ÛÉ ÙÇçÝáñ¹áõÃÛáõÝÝ»ñ | D22: ='Ս. Մարդանյան'!D22+Ա.Խաչիկյան!D22+'Ռ. Մելքոնյան'!D22+'Զ. Զաքինյան'!D22+'Ա. Կուրեխյան'!D22+'Ա. Օհանյան'!D22+'Ս. Իսկանդարյան'!D22 -> 0 | E22: ='Ս. Մարդանյան'!E22+Ա.Խաչիկյան!E22+'Ռ. Մելքոնյան'!E22+'Զ. Զաքինյան'!E22+'Ա. Կուրեխյան'!E22+'Ա. Օհանյան'!E22+'Ս. Իսկանդարյան'!E22 -> 2 | F22: ='Ս. Մարդանյան'!F22+Ա.Խաչիկյան!F22+'Ռ. Մելքոնյան'!F22+'Զ. Զաքինյան'!F22+'Ա. Կուրեխյան'!F22+'Ա. Օհանյան'!F22+'Ս. Իսկանդարյան'!F22 -> 0 | G22: ='Ս. Մարդանյան'!G22+Ա.Խաչիկյան!G22+'Ռ. Մելքոնյան'!G22+'Զ. Զաքինյան'!G22+'Ա. Կուրեխյան'!G22+'Ա. Օհանյան'!G22+'Ս. Իսկանդարյան'!G22 -> 0 | H22: ='Ս. Մարդանյան'!H22+Ա.Խաչիկյան!H22+'Ռ. Մելքոնյան'!H22+'Զ. Զաքինյան'!H22+'Ա. Կուրեխյան'!H22+'Ա. Օհանյան'!H22+'Ս. Իսկանդարյան'!H22 -> 2 | I22: ='Ս. Մարդանյան'!I22+Ա.Խաչիկյան!I22+'Ռ. Մելքոնյան'!I22+'Զ. Զաքինյան'!I22+'Ա. Կուրեխյան'!I22+'Ա. Օհանյան'!I22+'Ս. Իսկանդարյան'!I22 -> 0 | J22: ='Ս. Մարդանյան'!J22+Ա.Խաչիկյան!J22+'Ռ. Մելքոնյան'!J22+'Զ. Զաքինյան'!J22+'Ա. Կուրեխյան'!J22+'Ա. Օհանյան'!J22+'Ս. Իսկանդարյան'!J22 -> 0 | K22: ='Ս. Մարդանյան'!K22+Ա.Խաչիկյան!K22+'Ռ. Մելքոնյան'!K22+'Զ. Զաքինյան'!K22+'Ա. Կուրեխյան'!K22+'Ա. Օհանյան'!K22+'Ս. Իսկանդարյան'!K22 -> 2 | ... R22: ='Ս. Մարդանյան'!R22+Ա.Խաչիկյան!R22+'Ռ. Մելքոնյան'!R22+'Զ. Զաքինյան'!R22+'Ա. Կուրեխյան'!R22+'Ա. Օհանյան'!R22+'Ս. Իսկանդարյան'!R22 -> 0 | S22: ='Ս. Մարդանյան'!S22+Ա.Խաչիկյան!S22+'Ռ. Մելքոնյան'!S22+'Զ. Զաքինյան'!S22+'Ա. Կուրեխյան'!S22+#REF!+#REF!+#REF! -> #REF! | T22: =D22+E22 -> 2 | U22: =F22+K22+L22 -> 2 | V22: =K22 -> 2 | W22: =G22+H22+I22+J22 -> 2
A23: 5 | B23: ¹³ï³Ï³Ý Ñ³ÝÓÝ³ñ³ñáõÃÛáõÝÝ»ñ | D23: ='Ս. Մարդանյան'!D23+Ա.Խաչիկյան!D23+'Ռ. Մելքոնյան'!D23+'Զ. Զաքինյան'!D23+'Ա. Կուրեխյան'!D23+'Ա. Օհանյան'!D23+'Ս. Իսկանդարյան'!D23 -> 1 | E23: ='Ս. Մարդանյան'!E23+Ա.Խաչիկյան!E23+'Ռ. Մելքոնյան'!E23+'Զ. Զաքինյան'!E23+'Ա. Կուրեխյան'!E23+'Ա. Օհանյան'!E23+'Ս. Իսկանդարյան'!E23 -> 4 | F23: ='Ս. Մարդանյան'!F23+Ա.Խաչիկյան!F23+'Ռ. Մելքոնյան'!F23+'Զ. Զաքինյան'!F23+'Ա. Կուրեխյան'!F23+'Ա. Օհանյան'!F23+'Ս. Իսկանդարյան'!F23 -> 1 | G23: ='Ս. Մարդանյան'!G23+Ա.Խաչիկյան!G23+'Ռ. Մելքոնյան'!G23+'Զ. Զաքինյան'!G23+'Ա. Կուրեխյան'!G23+'Ա. Օհանյան'!G23+'Ս. Իսկանդարյան'!G23 -> 0 | H23: ='Ս. Մարդանյան'!H23+Ա.Խաչիկյան!H23+'Ռ. Մելքոնյան'!H23+'Զ. Զաքինյան'!H23+'Ա. Կուրեխյան'!H23+'Ա. Օհանյան'!H23+'Ս. Իսկանդարյան'!H23 -> 0 | I23: ='Ս. Մարդանյան'!I23+Ա.Խաչիկյան!I23+'Ռ. Մելքոնյան'!I23+'Զ. Զաքինյան'!I23+'Ա. Կուրեխյան'!I23+'Ա. Օհանյան'!I23+'Ս. Իսկանդարյան'!I23 -> 1 | J23: ='Ս. Մարդանյան'!J23+Ա.Խաչիկյան!J23+'Ռ. Մելքոնյան'!J23+'Զ. Զաքինյան'!J23+'Ա. Կուրեխյան'!J23+'Ա. Օհանյան'!J23+'Ս. Իսկանդարյան'!J23 -> 0 | K23: ='Ս. Մարդանյան'!K23+Ա.Խաչիկյան!K23+'Ռ. Մելքոնյան'!K23+'Զ. Զաքինյան'!K23+'Ա. Կուրեխյան'!K23+'Ա. Օհանյան'!K23+'Ս. Իսկանդարյան'!K23 -> 1 | ... R23: ='Ս. Մարդանյան'!R23+Ա.Խաչիկյան!R23+'Ռ. Մելքոնյան'!R23+'Զ. Զաքինյան'!R23+'Ա. Կուրեխյան'!R23+'Ա. Օհանյան'!R23+'Ս. Իսկանդարյան'!R23 -> 0 | S23: ='Ս. Մարդանյան'!S23+Ա.Խաչիկյան!S23+'Ռ. Մելքոնյան'!S23+'Զ. Զաքինյան'!S23+'Ա. Կուրեխյան'!S23+#REF!+#REF!+#REF! -> #REF! | T23: =D23+E23 -> 5 | U23: =F23+K23+L23 -> 5 | V23: =K23 -> 1 | W23: =G23+H23+I23+J23 -> 1
A24: ÀÜ¸²ØºÜÀ | D24: ='Ս. Մարդանյան'!D24+Ա.Խաչիկյան!D24+'Ռ. Մելքոնյան'!D24+'Զ. Զաքինյան'!D24+'Ա. Կուրեխյան'!D24+'Ա. Օհանյան'!D24+'Ս. Իսկանդարյան'!D24 -> 2 | E24: ='Ս. Մարդանյան'!E24+Ա.Խաչիկյան!E24+'Ռ. Մելքոնյան'!E24+'Զ. Զաքինյան'!E24+'Ա. Կուրեխյան'!E24+'Ա. Օհանյան'!E24+'Ս. Իսկանդարյան'!E24 -> 164 | F24: ='Ս. Մարդանյան'!F24+Ա.Խաչիկյան!F24+'Ռ. Մելքոնյան'!F24+'Զ. Զաքինյան'!F24+'Ա. Կուրեխյան'!F24+'Ա. Օհանյան'!F24+'Ս. Իսկանդարյան'!F24 -> 1 | G24: ='Ս. Մարդանյան'!G24+Ա.Խաչիկյան!G24+'Ռ. Մելքոնյան'!G24+'Զ. Զաքինյան'!G24+'Ա. Կուրեխյան'!G24+'Ա. Օհանյան'!G24+'Ս. Իսկանդարյան'!G24 -> 37 | H24: ='Ս. Մարդանյան'!H24+Ա.Խաչիկյան!H24+'Ռ. Մելքոնյան'!H24+'Զ. Զաքինյան'!H24+'Ա. Կուրեխյան'!H24+'Ա. Օհանյան'!H24+'Ս. Իսկանդարյան'!H24 -> 113 | I24: ='Ս. Մարդանյան'!I24+Ա.Խաչիկյան!I24+'Ռ. Մելքոնյան'!I24+'Զ. Զաքինյան'!I24+'Ա. Կուրեխյան'!I24+'Ա. Օհանյան'!I24+'Ս. Իսկանդարյան'!I24 -> 2 | J24: ='Ս. Մարդանյան'!J24+Ա.Խաչիկյան!J24+'Ռ. Մելքոնյան'!J24+'Զ. Զաքինյան'!J24+'Ա. Կուրեխյան'!J24+'Ա. Օհանյան'!J24+'Ս. Իսկանդարյան'!J24 -> 2 | K24: ='Ս. Մարդանյան'!K24+Ա.Խաչիկյան!K24+'Ռ. Մելքոնյան'!K24+'Զ. Զաքինյան'!K24+'Ա. Կուրեխյան'!K24+'Ա. Օհանյան'!K24+'Ս. Իսկանդարյան'!K24 -> 154 | ... R24: ='Ս. Մարդանյան'!R24+Ա.Խաչիկյան!R24+'Ռ. Մելքոնյան'!R24+'Զ. Զաքինյան'!R24+'Ա. Կուրեխյան'!R24+'Ա. Օհանյան'!R24+'Ս. Իսկանդարյան'!R24 -> 2 | S24: ='Ս. Մարդանյան'!S24+Ա.Խաչիկյան!S24+'Ռ. Մելքոնյան'!S24+'Զ. Զաքինյան'!S24+'Ա. Կուրեխյան'!S24+#REF!+#REF!+#REF! -> #REF! | T24: =D24+E24 -> 166 | U24: =F24+K24+L24 -> 166 | V24: =K24 -> 154 | W24: =G24+H24+I24+J24 -> 154

Sheet Ս. Մարդանյան
A1: 2017Ã. 1-ÇÝ ÏÇë³ÙÛ³Ï | D1: Ð²ÞìºîìàôÂÚàôÜ | P1: Ð³í»Éí³Í Ð³Û³ëï³ÝÇ Ð³Ýñ³å»ïáõÃÛ³Ý ¸³ï³ñ³ÝÝ»ñÇ Ý³Ë³·³ÑÝ»ñÇ ËáñÑñ¹Ç 25.08.2017Ã. ÃÇí 35-È áñáßÙ³Ý
A2: ØÇÝã¹³ï³Ï³Ý í³ñáõÛÃÇ ÝÏ³ïÙ³Ùµ ¹³ï³Ï³Ý í»ñ³ÑëÏáÕáõÃÛ³Ý, ¹³ï³Ï³Ý ³Ïï»ñÇ ¨ ¹³ï³Ï³Ý Ñ³ÝÓÝ³ñ³ñáõÃÛáõÝÝ»ñÇ Ï³ï³ñÙ³Ý Ñ»ï Ï³åí³Í ÙÇçÝáñ¹áõÃÛáõÝÝ»ñÇ í»ñ³µ»ñÛ³É ¹³ï³Ï³Ý ·áñÍ»ñáí ÐÐ î³íáõßÇ Ù³ñ½Ç ÁÝ¹Ñ³Ýáõñ Çñ³í³ëáõÃÛ³Ý ³é³çÇÝ ³ïÛ³ÝÇ ¹³ï³ñ³ÝÇ ¹³ï³íáñ Ս. Մարդանյանի ·áñÍáõÝ»áõÃÛ³Ý í»ñ³µ»ñÛ³É
A3: êïáõ·Çã Ñ³í³ë³ñáõÙ` 1+2=3+8+9, 8=4+5+6+7, | D3: Ð³ßí»ïáõ Å³Ù³Ý³Ï³Ñ³ïí³ÍÇ ëÏ½µáõÙ Ý³Ëáñ¹ Ñ³ßí»ïáõ Å³Ù³Ý³Ï³Ñ³ïí³ÍÇó ÷áË³Ýóí³Í ·áñÍ»ñÇ ÁÝ¹Ñ³Ýáõñ ÃÇíÁ | E3: Ð³ßí»ïáõ Å³Ù³Ý³Ï³Ñ³ïí³ÍáõÙ ëï³óí³Í ·áñÍ»ñÇ ÁÝ¹Ñ³Ýáõñ ÃÇíÁ | F3: öáË³Ýóí»É ¿ ³ÛÉ ¹³ï³íáñÇ Ï³Ù ³ÛÉ ¹³ï³ñ³Ý (Ï³½ÙÇ ÷á÷áËáõÃÛáõÝ, ÁÝ¹¹³ïáõÃÛáõÝ) | G3: Ð³ßí»ïáõ Å³Ù³Ý³Ï³Ñ³ïí³ÍáõÙ ³í³ñïí³Í ·áñÍ»ñÇ ÁÝ¹Ñ³Ýáõñ ÃÇíÁ | L3: Ð³ßí»ïáõ Å³Ù³Ý³Ï³Ñ³ïí³ÍáõÙ ³Ý³í³ñï ·áñÍ»ñÇ ÁÝ¹Ñ³Ýáõñ ÃÇíÁ | M3: ØÇçÝáñ¹áõÃÛáõÝÝ»ñáí Ï³Û³óí³Í ¹³ï³Ï³Ý ³Ïï»ñÇó µáÕáù³ñÏí³ÍÝ»ñÇ ù³Ý³ÏÁ | O3: ²Ý³í³ñï µáÕáùÝ»ñ | P3: ØÇçÝáñ¹áõÃÛáõÝÝ»ñáí Ï³Û³óí³Í ¨ µáÕáù³ñÏí³Í ¹³ï³Ï³Ý ³Ïï»ñÇó µ»Ï³Ýí³ÍÝ»ñÇ ù³Ý³ÏÁ | R3: ÙÇçÝáñ¹áõÃÛáõÝÝ»ñáí Ï³Û³óí³Í ¨ µáÕáù³ñÏí³Í ¹³ï³Ï³Ý ³Ïï»ñÇó ³Ý÷á÷áË ÃáÕÝí³ÍÝ»ñÇ ù³Ý³ÏÁ
G4: Ù»ñÅí»É ¿ | H4: µ³í³ñ³ñí»É ¿ | I4: µ³í³ñ³ñí»É ¿ Ù³ëÝ³ÏÇ | J4: ÃáÕÝí»É ¿ ³é³Ýó ùÝÝáõÃÛ³Ý | K4: ÀÝ¹³Ù»ÝÁ
M5: Ý³Ëáñ¹ ï³ñÇÝ»ñÇÝ Ï³Û³óí³Í ³Ïï»ñÇ ¹»Ù | N5: Ñ³ßí»ïáõ Å³Ù³Ý³Ï³ßñç³ÝáõÙ Ï³Û³óí³Í ³Ïï»ñÇ ¹»Ù | P5: Ý³Ëáñ¹ ï³ñÇÝ»ñÇÝ Ï³Û³óí³Í ³Ïï»ñÇ µ»Ï³ÝáõÙÝ»ñÁ | Q5: Ñ³ßí»ïáõ Å³Ù³Ý³Ï³ßñç³ÝáõÙ Ï³Û³óí³Í ³Ïï»ñÇ µ»Ï³ÝáõÙÝ»ñÁ
A6: 1. ØÇÝã¹³ï³Ï³Ý í³ñáõÛÃÇ ÝÏ³ïÙ³Ùµ ¹³ï³Ï³Ý í»ñ³ÑëÏáÕáõÃÛ³Ý áÉáñï | D6: 1 | E6: 2 | F6: 3 | G6: 4 | H6: 5 | I6: 6 | J6: 7 | K6: 8 | L6: 9 | M6: 10 | N6: 11 | O6: 12 | P6: 13 | Q6: 14 | R6: 15 | T6: 1+2=3+8+9 | V6: 8=4+5+6+7
A7: 1 | B7: Ï³É³ÝùÁ áñå»ë Ë³÷³ÝÙ³Ý ÙÇçáó ÏÇñ³é»Éáõ Ù³ëÇÝ ÙÇçÝáñ¹áõÃÛáõÝÝ»ñ | E7: 3 | H7: 2 | I7: 1 | K7: 3 | N7: 1 | O7: 1 | T7: =D7+E7 -> 3 | U7: =F7+K7+L7 -> 3 | V7: =K7 -> 3 | W7: =G7+H7+I7+J7 -> 3
A8: 2 | B8: Ï³É³ÝùÇ Å³ÙÏ»ïÁ »ñÏ³ñ³óÝ»Éáõ Ù³ëÇÝ ÙÇçÝáñ¹áõÃÛáõÝÝ»ñ | E8: 1 | H8: 1 | K8: 1 | T8: =D8+E8 -> 1 | U8: =F8+K8+L8 -> 1 | V8: =K8 -> 1 | W8: =G8+H8+I8+J8 -> 1
A9: 3 | B9: Ï³É³ÝùÇ í»ñ³Ñ³ëï³ïÙ³Ý Ù³ëÇÝ ÙÇçÝáñ¹áõÃÛáõÝÝ»ñ | E9: 1 | H9: 1 | K9: 1 | T9: =D9+E9 -> 1 | U9: =F9+K9+L9 -> 1 | V9: =K9 -> 1 | W9: =G9+H9+I9+J9 -> 1
A10: 4 | B10: ·ñ³íÁ áñå»ë Ï³É³Ý³íáñÙ³Ý ³ÛÉÁÝïñ³Ýù³ÛÇÝ Ë³÷³ÝÙ³Ý ÙÇçáó ÏÇñ³é»Éáõ Ù³ëÇÝ ÙÇçÝáñ¹áõÃÛáõÝÝ»ñ | E10: 1 | G10: 1 | K10: 1 | N10: 1 | O10: 1 | T10: =D10+E10 -> 1 | U10: =F10+K10+L10 -> 1 | V10: =K10 -> 1 | W10: =G10+H10+I10+J10 -> 1
A11: 5 | B11: Ëáõ½³ñÏáõÃÛ³Ý Ï³ï³ñÙ³Ý Ù³ëÇÝ ÙÇçÝáñ¹áõÃÛáõÝÝ»ñ | T11: =D11+E11 -> 0 | U11: =F11+K11+L11 -> 0 | V11: =K11 -> 0 | W11: =G11+H11+I11+J11 -> 0
A12: 6 | B12: µ³ÝÏ³ÛÇÝ, ³å³Ñáí³·ñ³Ï³Ý, Ýáï³ñ³Ï³Ý ·³ÕïÝÇù Ï³½ÙáÕ ï»Õ»ÏáõÃÛáõÝÝ»ñÇ ëï³óÙ³Ý Ñ³Ù³ñ Ëáõ½³ñÏáõÃÛ³Ý Ï³Ù ³é·ñ³íÙ³Ý Ï³ï³ñÙ³Ý Ù³ëÇÝ ÙÇçÝáñ¹áõÃÛáõÝÝ»ñ | T12: =D12+E12 -> 0 | U12: =F12+K12+L12 -> 0 | V12: =K12 -> 0 | W12: =G12+H12+I12+J12 -> 0
A13: 7 | B13: Ý³Ù³Ï³·ñáõÃÛ³Ý, Ñ»é³·ñ³Ï³Ý, ÷áuï³ÛÇÝ Ñ³Õáñ¹áõÙÝ»ñÇ ÑëÏáÕáõÃÛ³Ý Ù³ëÇÝ ÙÇçÝáñ¹áõÃÛáõÝÝ»ñ | T13: =D13+E13 -> 0 | U13: =F13+K13+L13 -> 0 | V13: =K13 -> 0 | W13: =G13+H13+I13+J13 -> 0
A14: 8 | B14: Ñ»é³Ëáu³ÛÇÝ Ï³Ù Ï³åÇ ³ÛÉ ÙÇçáóÝ»ñáí ï³ñíáÕ Ëáu³ÏóáõÃÛáõÝÝ»ñÇ ÉuÙ³Ý ¨ Ó³ÛÝ³·ñ³éÙ³Ý Ù³ëÇÝ ÙÇçÝáñ¹áõÃÛáõÝÝ»ñ | T14: =D14+E14 -> 0 | U14: =F14+K14+L14 -> 0 | V14: =K14 -> 0 | W14: =G14+H14+I14+J14 -> 0
A15: 9 | B15: Ñ»é³ËáëÝ»ñÇ Ùáõïù³ÛÇÝ ¨ »Éù³ÛÇÝ í»ñÍ³ÝÙ³Ý ÃáõÛÉïíáõÃÛáõÝ ëï³Ý³Éáõ Ù³ëÇÝ ÙÇçÝáñ¹áõÃÛáõÝÝ»ñ | T15: =D15+E15 -> 0 | U15: =F15+K15+L15 -> 0 | V15: =K15 -> 0 | W15: =G15+H15+I15+J15 -> 0
A16: 10 | B16: Ñ»ï³ùÝÝáõÃÛ³Ý Ù³ñÙÝÇ ³ßË³ïáÕÇ, ùÝÝÇãÇ, ¹³ï³Ë³½Ç oå»ñ³ïÇí-Ñ»ï³Ëáõ½³Ï³Ý ·áñÍáÕáõÃÛáõÝÝ»ñ Çñ³Ï³Ý³óÝáÕ Ù³ñÙÇÝÝ»ñÇ ³ÝoñÇÝ³Ï³Ý ¨ ³ÝÑÇÙÝ áñáßáõÙÝ»ñÇ ¨ ·áñÍáÕáõÃÛáõÝÝ»ñÇ ¹»Ù µáÕáùÝ»ñ | E16: 1 | H16: 1 | K16: 1 | T16: =D16+E16 -> 1 | U16: =F16+K16+L16 -> 1 | V16: =K16 -> 1 | W16: =G16+H16+I16+J16 -> 1
A17: 11 | B17: ²½³ïáõÃÛáõÝÇó ½ñÏ»Éáõ Çñ³í³ã³÷áõÃÛ³Ý í»ñ³µ»ñÛ³É µáÕáùÝ»ñáí ·áñÍ»ñ | T17: =D17+E17 -> 0 | U17: =F17+K17+L17 -> 0 | V17: =K17 -> 0 | W17: =G17+H17+I17+J17 -> 0
A18: 2. ¸³ï³Ï³Ý ³Ïï»ñÇ ¨ ¹³ï³Ï³Ý Ñ³ÝÓÝ³ñ³ñáõÃÛáõÝÝ»ñÇ Ï³ï³ñÙ³Ý Ñ»ï Ï³åí³Í Ñ³ñó»ñÇ ÉáõÍÙ³Ý áÉáñï
A19: 1 | B19: å³ïÅÇó å³ÛÙ³Ý³Ï³Ý í³Õ³Å³ÙÏ»ï ³½³ï»Éáõ Ù³ëÇÝ ÙÇçÝáñ¹áõÃÛáõÝÝ»ñ | T19: =D19+E19 -> 0 | U19: =F19+K19+L19 -> 0 | V19: =K19 -> 0 | W19: =G19+H19+I19+J19 -> 0
A20: 2 | B20: å³ïÇÅÁ ÷á÷áË»Éáõ, Ñ»ï³Ó·»Éáõ ¨ å³ïÅÇó ³½³ï»Éáõ Ù³uÇÝ ÙÇçÝáñ¹áõÃÛáõÝÝ»ñ | E20: 9 | G20: 1 | H20: 5 | J20: 1 | K20: 7 | L20: 2 | N20: 2 | O20: 2 | T20: =D20+E20 -> 9 | U20: =F20+K20+L20 -> 9 | V20: =K20 -> 7 | W20: =G20+H20+I20+J20 -> 7
A21: 3 | B21: Ñ³ñÏ³¹Çñ µáõÅÙ³Ý ï»ë³ÏÇ ÷á÷áËáõÃÛ³Ý Ù³ëÇÝ ÙÇçÝáñ¹áõÃÛáõÝÝ»ñ | T21: =D21+E21 -> 0 | U21: =F21+K21+L21 -> 0 | V21: =K21 -> 0 | W21: =G21+H21+I21+J21 -> 0
A22: 4 | B22: ³ÛÉ ÙÇçÝáñ¹áõÃÛáõÝÝ»ñ | T22: =D22+E22 -> 0 | U22: =F22+K22+L22 -> 0 | V22: =K22 -> 0 | W22: =G22+H22+I22+J22 -> 0
A23: 5 | B23: ¹³ï³Ï³Ý Ñ³ÝÓÝ³ñ³ñáõÃÛáõÝÝ»ñ | T23: =D23+E23 -> 0 | U23: =F23+K23+L23 -> 0 | V23: =K23 -> 0 | W23: =G23+H23+I23+J23 -> 0
A24: ÀÜ¸²ØºÜÀ | D24: =D7+D8+D9+D10+D11+D12+D13+D14+D15+D17+D19+D20+D21+D22+D23+D16 -> 0 | E24: =E7+E8+E9+E10+E11+E12+E13+E14+E15+E17+E19+E20+E21+E22+E23+E16 -> 16 | F24: =F7+F8+F9+F10+F11+F12+F13+F14+F15+F17+F19+F20+F21+F22+F23+F16 -> 0 | G24: =G7+G8+G9+G10+G11+G12+G13+G14+G15+G17+G19+G20+G21+G22+G23+G16 -> 2 | H24: =H7+H8+H9+H10+H11+H12+H13+H14+H15+H17+H19+H20+H21+H22+H23+H16 -> 10 | I24: =I7+I8+I9+I10+I11+I12+I13+I14+I15+I17+I19+I20+I21+I22+I23+I16 -> 1 | J24: =J7+J8+J9+J10+J11+J12+J13+J14+J15+J17+J19+J20+J21+J22+J23+J16 -> 1 | K24: =K7+K8+K9+K10+K11+K12+K13+K14+K15+K17+K19+K20+K21+K22+K23+K16 -> 14 | ... R24: =R7+R8+R9+R10+R11+R12+R13+R14+R15+R17+R19+R20+R21+R22+R23+R16 -> 0 | T24: =D24+E24 -> 16 | U24: =F24+K24+L24 -> 16 | V24: =K24 -> 14 | W24: =G24+H24+I24+J24 -> 14

Sheet Ա.Խաչիկյան
A1: 2016Ã. | D1: Ð²ÞìºîìàôÂÚàôÜ | P1: Ð³í»Éí³Í Ð³Û³ëï³ÝÇ Ð³Ýñ³å»ïáõÃÛ³Ý ¸³ï³ñ³ÝÝ»ñÇ Ý³Ë³·³ÑÝ»ñÇ ËáñÑñ¹Ç 25.08.2016Ã. ÃÇí 44-È áñáßÙ³Ý
A2: ØÇÝã¹³ï³Ï³Ý í³ñáõÛÃÇ ÝÏ³ïÙ³Ùµ ¹³ï³Ï³Ý í»ñ³ÑëÏáÕáõÃÛ³ÝÁ, ¹³ï³Ï³Ý ³Ïï»ñÇ ¨ ¹³ï³Ï³Ý Ñ³ÝÓÝ³ñ³ñáõÃÛáõÝÝ»ñÇ Ï³ï³ñÙ³Ý Ñ»ï Ï³åí³Í ÙÇçÝáñ¹áõÃÛáõÝÝ»ñÇ í»ñ³µ»ñÛ³É ¹³ï³Ï³Ý ·áñÍ»ñáí ÐÐ î³íáõßÇ Ù³ñ½Ç ÁÝ¹Ñ³Ýáõñ Çñ³í³ëáõÃÛ³Ý ³é³çÇÝ ³ïÛ³ÝÇ ¹³ï³ñ³ÝÇ ¹³ï³íáñ Ա. Խաչիկյանի ·áñÍáõÝ»áõÃÛ³Ý í»ñ³µ»ñÛ³É
A3: êïáõ·Çã Ñ³í³ë³ñáõÙ` 1+2=3+8+9, 8=4+5+6+7, | D3: Ð³ßí»ïáõ Å³Ù³Ý³Ï³Ñ³ïí³ÍÇ ëÏ½µáõÙ Ý³Ëáñ¹ Ñ³ßí»ïáõ Å³Ù³Ý³Ï³Ñ³ïí³ÍÇó ÷áË³Ýóí³Í ·áñÍ»ñÇ ÁÝ¹Ñ³Ýáõñ ÃÇíÁ | E3: Ð³ßí»ïáõ Å³Ù³Ý³Ï³Ñ³ïí³ÍáõÙ ëï³óí³Í ·áñÍ»ñÇ ÁÝ¹Ñ³Ýáõñ ÃÇíÁ | F3: öáË³Ýóí»É ¿ ³ÛÉ ¹³ï³íáñÇ Ï³Ù ³ÛÉ ¹³ï³ñ³Ý (Ï³½ÙÇ ÷á÷áËáõÃÛáõÝ, ÁÝ¹¹³ïáõÃÛáõÝ) | G3: Ð³ßí»ïáõ Å³Ù³Ý³Ï³Ñ³ïí³ÍáõÙ ³í³ñïí³Í ·áñÍ»ñÇ ÁÝ¹Ñ³Ýáõñ ÃÇíÁ | L3: Ð³ßí»ïáõ Å³Ù³Ý³Ï³Ñ³ïí³ÍáõÙ ³Ý³í³ñï ·áñÍ»ñÇ ÁÝ¹Ñ³Ýáõñ ÃÇíÁ | M3: ØÇçÝáñ¹áõÃÛáõÝÝ»ñáí Ï³Û³óí³Í ¹³ï³Ï³Ý ³Ïï»ñÇó µáÕáù³ñÏí³ÍÝ»ñÇ ù³Ý³ÏÁ | O3: ²Ý³í³ñï µáÕáùÝ»ñ | P3: ØÇçÝáñ¹áõÃÛáõÝÝ»ñáí Ï³Û³óí³Í ¨ µáÕáù³ñÏí³Í ¹³ï³Ï³Ý ³Ïï»ñÇó µ»Ï³Ýí³ÍÝ»ñÇ ù³Ý³ÏÁ | R3: ÙÇçÝáñ¹áõÃÛáõÝÝ»ñáí Ï³Û³óí³Í ¨ µáÕáù³ñÏí³Í ¹³ï³Ï³Ý ³Ïï»ñÇó ³Ý÷á÷áË ÃáÕÝí³ÍÝ»ñÇ ù³Ý³ÏÁ
G4: Ù»ñÅí»É ¿ | H4: µ³í³ñ³ñí»É ¿ | I4: µ³í³ñ³ñí»É ¿ Ù³ëÝ³ÏÇ | J4: ÃáÕÝí»É ¿ ³é³Ýó ùÝÝáõÃÛ³Ý | K4: ÀÝ¹³Ù»ÝÁ
M5: Ý³Ëáñ¹ ï³ñÇÝ»ñÇÝ Ï³Û³óí³Í ³Ïï»ñÇ ¹»Ù | N5: Ñ³ßí»ïáõ Å³Ù³Ý³Ï³ßñç³ÝáõÙ Ï³Û³óí³Í ³Ïï»ñÇ ¹»Ù | P5: Ý³Ëáñ¹ ï³ñÇÝ»ñÇÝ Ï³Û³óí³Í ³Ïï»ñÇ µ»Ï³ÝáõÙÝ»ñÁ | Q5: Ñ³ßí»ïáõ Å³Ù³Ý³Ï³ßñç³ÝáõÙ Ï³Û³óí³Í ³Ïï»ñÇ µ»Ï³ÝáõÙÝ»ñÁ
A6: 1. ØÇÝã¹³ï³Ï³Ý í³ñáõÛÃÇ ÝÏ³ïÙ³Ùµ ¹³ï³Ï³Ý í»ñ³ÑëÏáÕáõÃÛ³Ý áÉáñï | D6: 1 | E6: 2 | F6: 3 | G6: 4 | H6: 5 | I6: 6 | J6: 7 | K6: 8 | L6: 9 | M6: 10 | N6: 11 | O6: 12 | P6: 13 | Q6: 14 | R6: 15 | T6: 1+2=3+8+9 | V6: 8=4+5+6+7
A7: 1 | B7: Ï³É³ÝùÁ áñå»ë Ë³÷³ÝÙ³Ý ÙÇçáó ÏÇñ³é»Éáõ Ù³ëÇÝ ÙÇçÝáñ¹áõÃÛáõÝÝ»ñ | T7: =D7+E7 -> 0 | U7: =F7+K7+L7 -> 0 | V7: =K7 -> 0 | W7: =G7+H7+I7+J7 -> 0
A8: 2 | B8: Ï³É³ÝùÇ Å³ÙÏ»ïÁ »ñÏ³ñ³óÝ»Éáõ Ù³ëÇÝ ÙÇçÝáñ¹áõÃÛáõÝÝ»ñ | T8: =D8+E8 -> 0 | U8: =F8+K8+L8 -> 0 | V8: =K8 -> 0 | W8: =G8+H8+I8+J8 -> 0
A9: 3 | B9: Ï³É³ÝùÇ í»ñ³Ñ³ëï³ïÙ³Ý Ù³ëÇÝ ÙÇçÝáñ¹áõÃÛáõÝÝ»ñ | T9: =D9+E9 -> 0 | U9: =F9+K9+L9 -> 0 | V9: =K9 -> 0 | W9: =G9+H9+I9+J9 -> 0
A10: 4 | B10: ·ñ³íÁ áñå»ë Ï³É³Ý³íáñÙ³Ý ³ÛÉÁÝïñ³Ýù³ÛÇÝ Ë³÷³ÝÙ³Ý ÙÇçáó ÏÇñ³é»Éáõ Ù³ëÇÝ ÙÇçÝáñ¹áõÃÛáõÝÝ»ñ | T10: =D10+E10 -> 0 | U10: =F10+K10+L10 -> 0 | V10: =K10 -> 0 | W10: =G10+H10+I10+J10 -> 0
A11: 5 | B11: Ëáõ½³ñÏáõÃÛ³Ý Ï³ï³ñÙ³Ý Ù³ëÇÝ ÙÇçÝáñ¹áõÃÛáõÝÝ»ñ | T11: =D11+E11 -> 0 | U11: =F11+K11+L11 -> 0 | V11: =K11 -> 0 | W11: =G11+H11+I11+J11 -> 0
A12: 6 | B12: µ³ÝÏ³ÛÇÝ, ³å³Ñáí³·ñ³Ï³Ý, Ýáï³ñ³Ï³Ý ·³ÕïÝÇù Ï³½ÙáÕ ï»Õ»ÏáõÃÛáõÝÝ»ñÇ ëï³óÙ³Ý Ñ³Ù³ñ Ëáõ½³ñÏáõÃÛ³Ý Ï³Ù ³é·ñ³íÙ³Ý Ï³ï³ñÙ³Ý Ù³ëÇÝ ÙÇçÝáñ¹áõÃÛáõÝÝ»ñ | T12: =D12+E12 -> 0 | U12: =F12+K12+L12 -> 0 | V12: =K12 -> 0 | W12: =G12+H12+I12+J12 -> 0
A13: 7 | B13: Ý³Ù³Ï³·ñáõÃÛ³Ý, Ñ»é³·ñ³Ï³Ý, ÷áuï³ÛÇÝ Ñ³Õáñ¹áõÙÝ»ñÇ ÑëÏáÕáõÃÛ³Ý Ù³ëÇÝ ÙÇçÝáñ¹áõÃÛáõÝÝ»ñ | T13: =D13+E13 -> 0 | U13: =F13+K13+L13 -> 0 | V13: =K13 -> 0 | W13: =G13+H13+I13+J13 -> 0
A14: 8 | B14: Ñ»é³Ëáu³ÛÇÝ Ï³Ù Ï³åÇ ³ÛÉ ÙÇçáóÝ»ñáí ï³ñíáÕ Ëáu³ÏóáõÃÛáõÝÝ»ñÇ ÉuÙ³Ý ¨ Ó³ÛÝ³·ñ³éÙ³Ý Ù³ëÇÝ ÙÇçÝáñ¹áõÃÛáõÝÝ»ñ | T14: =D14+E14 -> 0 | U14: =F14+K14+L14 -> 0 | V14: =K14 -> 0 | W14: =G14+H14+I14+J14 -> 0
A15: 9 | B15: Ñ»é³ËáëÝ»ñÇ Ùáõïù³ÛÇÝ ¨ »Éù³ÛÇÝ í»ñÍ³ÝÙ³Ý ÃáõÛÉïíáõÃÛáõÝ ëï³Ý³Éáõ Ù³ëÇÝ ÙÇçÝáñ¹áõÃÛáõÝÝ»ñ | T15: =D15+E15 -> 0 | U15: =F15+K15+L15 -> 0 | V15: =K15 -> 0 | W15: =G15+H15+I15+J15 -> 0
A16: 10 | B16: Ñ»ï³ùÝÝáõÃÛ³Ý Ù³ñÙÝÇ ³ßË³ïáÕÇ, ùÝÝÇãÇ, ¹³ï³Ë³½Ç oå»ñ³ïÇí-Ñ»ï³Ëáõ½³Ï³Ý ·áñÍáÕáõÃÛáõÝÝ»ñ Çñ³Ï³Ý³óÝáÕ Ù³ñÙÇÝÝ»ñÇ ³ÝoñÇÝ³Ï³Ý ¨ ³ÝÑÇÙÝ áñáßáõÙÝ»ñÇ ¨ ·áñÍáÕáõÃÛáõÝÝ»ñÇ ¹»Ù µáÕáùÝ»ñ | T16: =D16+E16 -> 0 | U16: =F16+K16+L16 -> 0 | V16: =K16 -> 0 | W16: =G16+H16+I16+J16 -> 0
A17: 11 | B17: ²½³ïáõÃÛáõÝÇó ½ñÏ»Éáõ Çñ³í³ã³÷áõÃÛ³Ý í»ñ³µ»ñÛ³É µáÕáùÝ»ñáí ·áñÍ»ñ | T17: =D17+E17 -> 0 | U17: =F17+K17+L17 -> 0 | V17: =K17 -> 0 | W17: =G17+H17+I17+J17 -> 0
A18: 2. ¸³ï³Ï³Ý ³Ïï»ñÇ ¨ ¹³ï³Ï³Ý Ñ³ÝÓÝ³ñ³ñáõÃÛáõÝÝ»ñÇ Ï³ï³ñÙ³Ý Ñ»ï Ï³åí³Í Ñ³ñó»ñÇ ÉáõÍÙ³Ý áÉáñï
A19: 1 | B19: å³ïÅÇó å³ÛÙ³Ý³Ï³Ý í³Õ³Å³ÙÏ»ï ³½³ï»Éáõ Ù³ëÇÝ ÙÇçÝáñ¹áõÃÛáõÝÝ»ñ | T19: =D19+E19 -> 0 | U19: =F19+K19+L19 -> 0 | V19: =K19 -> 0 | W19: =G19+H19+I19+J19 -> 0
A20: 2 | B20: å³ïÇÅÁ ÷á÷áË»Éáõ, Ñ»ï³Ó·»Éáõ ¨ å³ïÅÇó ³½³ï»Éáõ Ù³uÇÝ ÙÇçÝáñ¹áõÃÛáõÝÝ»ñ | T20: =D20+E20 -> 0 | U20: =F20+K20+L20 -> 0 | V20: =K20 -> 0 | W20: =G20+H20+I20+J20 -> 0
A21: 3 | B21: Ñ³ñÏ³¹Çñ µáõÅÙ³Ý ï»ë³ÏÇ ÷á÷áËáõÃÛ³Ý Ù³ëÇÝ ÙÇçÝáñ¹áõÃÛáõÝÝ»ñ | T21: =D21+E21 -> 0 | U21: =F21+K21+L21 -> 0 | V21: =K21 -> 0 | W21: =G21+H21+I21+J21 -> 0
A22: 4 | B22: ³ÛÉ ÙÇçÝáñ¹áõÃÛáõÝÝ»ñ | T22: =D22+E22 -> 0 | U22: =F22+K22+L22 -> 0 | V22: =K22 -> 0 | W22: =G22+H22+I22+J22 -> 0
A23: 5 | B23: ¹³ï³Ï³Ý Ñ³ÝÓÝ³ñ³ñáõÃÛáõÝÝ»ñ | T23: =D23+E23 -> 0 | U23: =F23+K23+L23 -> 0 | V23: =K23 -> 0 | W23: =G23+H23+I23+J23 -> 0
A24: ÀÜ¸²ØºÜÀ | D24: =D7+D8+D9+D10+D11+D12+D13+D14+D15+D17+D19+D20+D21+D22+D23+D16 -> 0 | E24: =E7+E8+E9+E10+E11+E12+E13+E14+E15+E17+E19+E20+E21+E22+E23+E16 -> 0 | F24: =F7+F8+F9+F10+F11+F12+F13+F14+F15+F17+F19+F20+F21+F22+F23+F16 -> 0 | G24: =G7+G8+G9+G10+G11+G12+G13+G14+G15+G17+G19+G20+G21+G22+G23+G16 -> 0 | H24: =H7+H8+H9+H10+H11+H12+H13+H14+H15+H17+H19+H20+H21+H22+H23+H16 -> 0 | I24: =I7+I8+I9+I10+I11+I12+I13+I14+I15+I17+I19+I20+I21+I22+I23+I16 -> 0 | J24: =J7+J8+J9+J10+J11+J12+J13+J14+J15+J17+J19+J20+J21+J22+J23+J16 -> 0 | K24: =K7+K8+K9+K10+K11+K12+K13+K14+K15+K17+K19+K20+K21+K22+K23+K16 -> 0 | ... R24: =R7+R8+R9+R10+R11+R12+R13+R14+R15+R17+R19+R20+R21+R22+R23+R16 -> 0 | T24: =D24+E24 -> 0 | U24: =F24+K24+L24 -> 0 | V24: =K24 -> 0 | W24: =G24+H24+I24+J24 -> 0

Sheet Ա. Օհանյան
A1: 2017Ã. 1-ÇÝ ÏÇë³ÙÛ³Ï | D1: Ð²ÞìºîìàôÂÚàôÜ | P1: Ð³í»Éí³Í Ð³Û³ëï³ÝÇ Ð³Ýñ³å»ïáõÃÛ³Ý ¸³ï³ñ³ÝÝ»ñÇ Ý³Ë³·³ÑÝ»ñÇ ËáñÑñ¹Ç 25.08.2017Ã. ÃÇí 35-È áñáßÙ³Ý
A2: ØÇÝã¹³ï³Ï³Ý í³ñáõÛÃÇ ÝÏ³ïÙ³Ùµ ¹³ï³Ï³Ý í»ñ³ÑëÏáÕáõÃÛ³Ý, ¹³ï³Ï³Ý ³Ïï»ñÇ ¨ ¹³ï³Ï³Ý Ñ³ÝÓÝ³ñ³ñáõÃÛáõÝÝ»ñÇ Ï³ï³ñÙ³Ý Ñ»ï Ï³åí³Í ÙÇçÝáñ¹áõÃÛáõÝÝ»ñÇ í»ñ³µ»ñÛ³É ¹³ï³Ï³Ý ·áñÍ»ñáí ÐÐ î³íáõßÇ Ù³ñ½Ç ÁÝ¹Ñ³Ýáõñ Çñ³í³ëáõÃÛ³Ý ³é³çÇÝ ³ïÛ³ÝÇ ¹³ï³ñ³ÝÇ ¹³ï³íáñ ². úÑ³ÝÛ³ÝÇ ·áñÍáõÝ»áõÃÛ³Ý í»ñ³µ»ñÛ³É
A3: êïáõ·Çã Ñ³í³ë³ñáõÙ` 1+2=3+8+9, 8=4+5+6+7, | D3: Ð³ßí»ïáõ Å³Ù³Ý³Ï³Ñ³ïí³ÍÇ ëÏ½µáõÙ Ý³Ëáñ¹ Ñ³ßí»ïáõ Å³Ù³Ý³Ï³Ñ³ïí³ÍÇó ÷áË³Ýóí³Í ·áñÍ»ñÇ ÁÝ¹Ñ³Ýáõñ ÃÇíÁ | E3: Ð³ßí»ïáõ Å³Ù³Ý³Ï³Ñ³ïí³ÍáõÙ ëï³óí³Í ·áñÍ»ñÇ ÁÝ¹Ñ³Ýáõñ ÃÇíÁ | F3: öáË³Ýóí»É ¿ ³ÛÉ ¹³ï³íáñÇ Ï³Ù ³ÛÉ ¹³ï³ñ³Ý (Ï³½ÙÇ ÷á÷áËáõÃÛáõÝ, ÁÝ¹¹³ïáõÃÛáõÝ) | G3: Ð³ßí»ïáõ Å³Ù³Ý³Ï³Ñ³ïí³ÍáõÙ ³í³ñïí³Í ·áñÍ»ñÇ ÁÝ¹Ñ³Ýáõñ ÃÇíÁ | L3: Ð³ßí»ïáõ Å³Ù³Ý³Ï³Ñ³ïí³ÍáõÙ ³Ý³í³ñï ·áñÍ»ñÇ ÁÝ¹Ñ³Ýáõñ ÃÇíÁ | M3: ØÇçÝáñ¹áõÃÛáõÝÝ»ñáí Ï³Û³óí³Í ¹³ï³Ï³Ý ³Ïï»ñÇó µáÕáù³ñÏí³ÍÝ»ñÇ ù³Ý³ÏÁ | O3: ²Ý³í³ñï µáÕáùÝ»ñ | P3: ØÇçÝáñ¹áõÃÛáõÝÝ»ñáí Ï³Û³óí³Í ¨ µáÕáù³ñÏí³Í ¹³ï³Ï³Ý ³Ïï»ñÇó µ»Ï³Ýí³ÍÝ»ñÇ ù³Ý³ÏÁ | R3: ÙÇçÝáñ¹áõÃÛáõÝÝ»ñáí Ï³Û³óí³Í ¨ µáÕáù³ñÏí³Í ¹³ï³Ï³Ý ³Ïï»ñÇó ³Ý÷á÷áË ÃáÕÝí³ÍÝ»ñÇ ù³Ý³ÏÁ
G4: Ù»ñÅí»É ¿ | H4: µ³í³ñ³ñí»É ¿ | I4: µ³í³ñ³ñí»É ¿ Ù³ëÝ³ÏÇ | J4: ÃáÕÝí»É ¿ ³é³Ýó ùÝÝáõÃÛ³Ý | K4: ÀÝ¹³Ù»ÝÁ
M5: Ý³Ëáñ¹ ï³ñÇÝ»ñÇÝ Ï³Û³óí³Í ³Ïï»ñÇ ¹»Ù | N5: Ñ³ßí»ïáõ Å³Ù³Ý³Ï³ßñç³ÝáõÙ Ï³Û³óí³Í ³Ïï»ñÇ ¹»Ù | P5: Ý³Ëáñ¹ ï³ñÇÝ»ñÇÝ Ï³Û³óí³Í ³Ïï»ñÇ µ»Ï³ÝáõÙÝ»ñÁ | Q5: Ñ³ßí»ïáõ Å³Ù³Ý³Ï³ßñç³ÝáõÙ Ï³Û³óí³Í ³Ïï»ñÇ µ»Ï³ÝáõÙÝ»ñÁ
A6: 1. ØÇÝã¹³ï³Ï³Ý í³ñáõÛÃÇ ÝÏ³ïÙ³Ùµ ¹³ï³Ï³Ý í»ñ³ÑëÏáÕáõÃÛ³Ý áÉáñï | D6: 1 | E6: 2 | F6: 3 | G6: 4 | H6: 5 | I6: 6 | J6: 7 | K6: 8 | L6: 9 | M6: 10 | N6: 11 | O6: 12 | P6: 13 | Q6: 14 | R6: 15 | T6: 1+2=3+8+9 | V6: 8=4+5+6+7
A7: 1 | B7: Ï³É³ÝùÁ áñå»ë Ë³÷³ÝÙ³Ý ÙÇçáó ÏÇñ³é»Éáõ Ù³ëÇÝ ÙÇçÝáñ¹áõÃÛáõÝÝ»ñ | E7: 4 | H7: 4 | K7: 4 | T7: =D7+E7 -> 4 | U7: =F7+K7+L7 -> 4 | V7: =K7 -> 4 | W7: =G7+H7+I7+J7 -> 4
A8: 2 | B8: Ï³É³ÝùÇ Å³ÙÏ»ïÁ »ñÏ³ñ³óÝ»Éáõ Ù³ëÇÝ ÙÇçÝáñ¹áõÃÛáõÝÝ»ñ | T8: =D8+E8 -> 0 | U8: =F8+K8+L8 -> 0 | V8: =K8 -> 0 | W8: =G8+H8+I8+J8 -> 0
A9: 3 | B9: Ï³É³ÝùÇ í»ñ³Ñ³ëï³ïÙ³Ý Ù³ëÇÝ ÙÇçÝáñ¹áõÃÛáõÝÝ»ñ | T9: =D9+E9 -> 0 | U9: =F9+K9+L9 -> 0 | V9: =K9 -> 0 | W9: =G9+H9+I9+J9 -> 0
A10: 4 | B10: ·ñ³íÁ áñå»ë Ï³É³Ý³íáñÙ³Ý ³ÛÉÁÝïñ³Ýù³ÛÇÝ Ë³÷³ÝÙ³Ý ÙÇçáó ÏÇñ³é»Éáõ Ù³ëÇÝ ÙÇçÝáñ¹áõÃÛáõÝÝ»ñ | T10: =D10+E10 -> 0 | U10: =F10+K10+L10 -> 0 | V10: =K10 -> 0 | W10: =G10+H10+I10+J10 -> 0
A11: 5 | B11: Ëáõ½³ñÏáõÃÛ³Ý Ï³ï³ñÙ³Ý Ù³ëÇÝ ÙÇçÝáñ¹áõÃÛáõÝÝ»ñ | T11: =D11+E11 -> 0 | U11: =F11+K11+L11 -> 0 | V11: =K11 -> 0 | W11: =G11+H11+I11+J11 -> 0
A12: 6 | B12: µ³ÝÏ³ÛÇÝ, ³å³Ñáí³·ñ³Ï³Ý, Ýáï³ñ³Ï³Ý ·³ÕïÝÇù Ï³½ÙáÕ ï»Õ»ÏáõÃÛáõÝÝ»ñÇ ëï³óÙ³Ý Ñ³Ù³ñ Ëáõ½³ñÏáõÃÛ³Ý Ï³Ù ³é·ñ³íÙ³Ý Ï³ï³ñÙ³Ý Ù³ëÇÝ ÙÇçÝáñ¹áõÃÛáõÝÝ»ñ | T12: =D12+E12 -> 0 | U12: =F12+K12+L12 -> 0 | V12: =K12 -> 0 | W12: =G12+H12+I12+J12 -> 0
A13: 7 | B13: Ý³Ù³Ï³·ñáõÃÛ³Ý, Ñ»é³·ñ³Ï³Ý, ÷áuï³ÛÇÝ Ñ³Õáñ¹áõÙÝ»ñÇ ÑëÏáÕáõÃÛ³Ý Ù³ëÇÝ ÙÇçÝáñ¹áõÃÛáõÝÝ»ñ | T13: =D13+E13 -> 0 | U13: =F13+K13+L13 -> 0 | V13: =K13 -> 0 | W13: =G13+H13+I13+J13 -> 0
A14: 8 | B14: Ñ»é³Ëáu³ÛÇÝ Ï³Ù Ï³åÇ ³ÛÉ ÙÇçáóÝ»ñáí ï³ñíáÕ Ëáu³ÏóáõÃÛáõÝÝ»ñÇ ÉuÙ³Ý ¨ Ó³ÛÝ³·ñ³éÙ³Ý Ù³ëÇÝ ÙÇçÝáñ¹áõÃÛáõÝÝ»ñ | T14: =D14+E14 -> 0 | U14: =F14+K14+L14 -> 0 | V14: =K14 -> 0 | W14: =G14+H14+I14+J14 -> 0
A15: 9 | B15: Ñ»é³ËáëÝ»ñÇ Ùáõïù³ÛÇÝ ¨ »Éù³ÛÇÝ í»ñÍ³ÝÙ³Ý ÃáõÛÉïíáõÃÛáõÝ ëï³Ý³Éáõ Ù³ëÇÝ ÙÇçÝáñ¹áõÃÛáõÝÝ»ñ | T15: =D15+E15 -> 0 | U15: =F15+K15+L15 -> 0 | V15: =K15 -> 0 | W15: =G15+H15+I15+J15 -> 0
A16: 10 | B16: Ñ»ï³ùÝÝáõÃÛ³Ý Ù³ñÙÝÇ ³ßË³ïáÕÇ, ùÝÝÇãÇ, ¹³ï³Ë³½Ç oå»ñ³ïÇí-Ñ»ï³Ëáõ½³Ï³Ý ·áñÍáÕáõÃÛáõÝÝ»ñ Çñ³Ï³Ý³óÝáÕ Ù³ñÙÇÝÝ»ñÇ ³ÝoñÇÝ³Ï³Ý ¨ ³ÝÑÇÙÝ áñáßáõÙÝ»ñÇ ¨ ·áñÍáÕáõÃÛáõÝÝ»ñÇ ¹»Ù µáÕáùÝ»ñ | T16: =D16+E16 -> 0 | U16: =F16+K16+L16 -> 0 | V16: =K16 -> 0 | W16: =G16+H16+I16+J16 -> 0
A17: 11 | B17: ²½³ïáõÃÛáõÝÇó ½ñÏ»Éáõ Çñ³í³ã³÷áõÃÛ³Ý í»ñ³µ»ñÛ³É µáÕáùÝ»ñáí ·áñÍ»ñ | T17: =D17+E17 -> 0 | U17: =F17+K17+L17 -> 0 | V17: =K17 -> 0 | W17: =G17+H17+I17+J17 -> 0
A18: 2. ¸³ï³Ï³Ý ³Ïï»ñÇ ¨ ¹³ï³Ï³Ý Ñ³ÝÓÝ³ñ³ñáõÃÛáõÝÝ»ñÇ Ï³ï³ñÙ³Ý Ñ»ï Ï³åí³Í Ñ³ñó»ñÇ ÉáõÍÙ³Ý áÉáñï
A19: 1 | B19: å³ïÅÇó å³ÛÙ³Ý³Ï³Ý í³Õ³Å³ÙÏ»ï ³½³ï»Éáõ Ù³ëÇÝ ÙÇçÝáñ¹áõÃÛáõÝÝ»ñ | T19: =D19+E19 -> 0 | U19: =F19+K19+L19 -> 0 | V19: =K19 -> 0 | W19: =G19+H19+I19+J19 -> 0
A20: 2 | B20: å³ïÇÅÁ ÷á÷áË»Éáõ, Ñ»ï³Ó·»Éáõ ¨ å³ïÅÇó ³½³ï»Éáõ Ù³uÇÝ ÙÇçÝáñ¹áõÃÛáõÝÝ»ñ | T20: =D20+E20 -> 0 | U20: =F20+K20+L20 -> 0 | V20: =K20 -> 0 | W20: =G20+H20+I20+J20 -> 0
A21: 3 | B21: Ñ³ñÏ³¹Çñ µáõÅÙ³Ý ï»ë³ÏÇ ÷á÷áËáõÃÛ³Ý Ù³ëÇÝ ÙÇçÝáñ¹áõÃÛáõÝÝ»ñ | T21: =D21+E21 -> 0 | U21: =F21+K21+L21 -> 0 | V21: =K21 -> 0 | W21: =G21+H21+I21+J21 -> 0
A22: 4 | B22: ³ÛÉ ÙÇçÝáñ¹áõÃÛáõÝÝ»ñ | T22: =D22+E22 -> 0 | U22: =F22+K22+L22 -> 0 | V22: =K22 -> 0 | W22: =G22+H22+I22+J22 -> 0
A23: 5 | B23: ¹³ï³Ï³Ý Ñ³ÝÓÝ³ñ³ñáõÃÛáõÝÝ»ñ | T23: =D23+E23 -> 0 | U23: =F23+K23+L23 -> 0 | V23: =K23 -> 0 | W23: =G23+H23+I23+J23 -> 0
A24: ÀÜ¸²ØºÜÀ | D24: =D7+D8+D9+D10+D11+D12+D13+D14+D15+D17+D19+D20+D21+D22+D23+D16 -> 0 | E24: =E7+E8+E9+E10+E11+E12+E13+E14+E15+E17+E19+E20+E21+E22+E23+E16 -> 4 | F24: =F7+F8+F9+F10+F11+F12+F13+F14+F15+F17+F19+F20+F21+F22+F23+F16 -> 0 | G24: =G7+G8+G9+G10+G11+G12+G13+G14+G15+G17+G19+G20+G21+G22+G23+G16 -> 0 | H24: =H7+H8+H9+H10+H11+H12+H13+H14+H15+H17+H19+H20+H21+H22+H23+H16 -> 4 | I24: =I7+I8+I9+I10+I11+I12+I13+I14+I15+I17+I19+I20+I21+I22+I23+I16 -> 0 | J24: =J7+J8+J9+J10+J11+J12+J13+J14+J15+J17+J19+J20+J21+J22+J23+J16 -> 0 | K24: =K7+K8+K9+K10+K11+K12+K13+K14+K15+K17+K19+K20+K21+K22+K23+K16 -> 4 | ... R24: =R7+R8+R9+R10+R11+R12+R13+R14+R15+R17+R19+R20+R21+R22+R23+R16 -> 0 | T24: =D24+E24 -> 4 | U24: =F24+K24+L24 -> 4 | V24: =K24 -> 4 | W24: =G24+H24+I24+J24 -> 4

Sheet Ս. Իսկանդարյան
A1: 2017Ã. 1-ÇÝ ÏÇë³ÙÛ³Ï | D1: Ð²ÞìºîìàôÂÚàôÜ | P1: Ð³í»Éí³Í Ð³Û³ëï³ÝÇ Ð³Ýñ³å»ïáõÃÛ³Ý ¸³ï³ñ³ÝÝ»ñÇ Ý³Ë³·³ÑÝ»ñÇ ËáñÑñ¹Ç 25.08.2017Ã. ÃÇí 35-È áñáßÙ³Ý
A2: ØÇÝã¹³ï³Ï³Ý í³ñáõÛÃÇ ÝÏ³ïÙ³Ùµ ¹³ï³Ï³Ý í»ñ³ÑëÏáÕáõÃÛ³Ý, ¹³ï³Ï³Ý ³Ïï»ñÇ ¨ ¹³ï³Ï³Ý Ñ³ÝÓÝ³ñ³ñáõÃÛáõÝÝ»ñÇ Ï³ï³ñÙ³Ý Ñ»ï Ï³åí³Í ÙÇçÝáñ¹áõÃÛáõÝÝ»ñÇ í»ñ³µ»ñÛ³É ¹³ï³Ï³Ý ·áñÍ»ñáí ÐÐ î³íáõßÇ Ù³ñ½Ç ÁÝ¹Ñ³Ýáõñ Çñ³í³ëáõÃÛ³Ý ³é³çÇÝ ³ïÛ³ÝÇ ¹³ï³ñ³ÝÇ ¹³ï³íáñ ê. ÆëÏ³Ý¹³ñÛ³ÝÇ ·áñÍáõÝ»áõÃÛ³Ý í»ñ³µ»ñÛ³É
A3: êïáõ·Çã Ñ³í³ë³ñáõÙ` 1+2=3+8+9, 8=4+5+6+7, | D3: Ð³ßí»ïáõ Å³Ù³Ý³Ï³Ñ³ïí³ÍÇ ëÏ½µáõÙ Ý³Ëáñ¹ Ñ³ßí»ïáõ Å³Ù³Ý³Ï³Ñ³ïí³ÍÇó ÷áË³Ýóí³Í ·áñÍ»ñÇ ÁÝ¹Ñ³Ýáõñ ÃÇíÁ | E3: Ð³ßí»ïáõ Å³Ù³Ý³Ï³Ñ³ïí³ÍáõÙ ëï³óí³Í ·áñÍ»ñÇ ÁÝ¹Ñ³Ýáõñ ÃÇíÁ | F3: öáË³Ýóí»É ¿ ³ÛÉ ¹³ï³íáñÇ Ï³Ù ³ÛÉ ¹³ï³ñ³Ý (Ï³½ÙÇ ÷á÷áËáõÃÛáõÝ, ÁÝ¹¹³ïáõÃÛáõÝ) | G3: Ð³ßí»ïáõ Å³Ù³Ý³Ï³Ñ³ïí³ÍáõÙ ³í³ñïí³Í ·áñÍ»ñÇ ÁÝ¹Ñ³Ýáõñ ÃÇíÁ | L3: Ð³ßí»ïáõ Å³Ù³Ý³Ï³Ñ³ïí³ÍáõÙ ³Ý³í³ñï ·áñÍ»ñÇ ÁÝ¹Ñ³Ýáõñ ÃÇíÁ | M3: ØÇçÝáñ¹áõÃÛáõÝÝ»ñáí Ï³Û³óí³Í ¹³ï³Ï³Ý ³Ïï»ñÇó µáÕáù³ñÏí³ÍÝ»ñÇ ù³Ý³ÏÁ | O3: ²Ý³í³ñï µáÕáùÝ»ñ | P3: ØÇçÝáñ¹áõÃÛáõÝÝ»ñáí Ï³Û³óí³Í ¨ µáÕáù³ñÏí³Í ¹³ï³Ï³Ý ³Ïï»ñÇó µ»Ï³Ýí³ÍÝ»ñÇ ù³Ý³ÏÁ | R3: ÙÇçÝáñ¹áõÃÛáõÝÝ»ñáí Ï³Û³óí³Í ¨ µáÕáù³ñÏí³Í ¹³ï³Ï³Ý ³Ïï»ñÇó ³Ý÷á÷áË ÃáÕÝí³ÍÝ»ñÇ ù³Ý³ÏÁ
G4: Ù»ñÅí»É ¿ | H4: µ³í³ñ³ñí»É ¿ | I4: µ³í³ñ³ñí»É ¿ Ù³ëÝ³ÏÇ | J4: ÃáÕÝí»É ¿ ³é³Ýó ùÝÝáõÃÛ³Ý | K4: ÀÝ¹³Ù»ÝÁ
M5: Ý³Ëáñ¹ ï³ñÇÝ»ñÇÝ Ï³Û³óí³Í ³Ïï»ñÇ ¹»Ù | N5: Ñ³ßí»ïáõ Å³Ù³Ý³Ï³ßñç³ÝáõÙ Ï³Û³óí³Í ³Ïï»ñÇ ¹»Ù | P5: Ý³Ëáñ¹ ï³ñÇÝ»ñÇÝ Ï³Û³óí³Í ³Ïï»ñÇ µ»Ï³ÝáõÙÝ»ñÁ | Q5: Ñ³ßí»ïáõ Å³Ù³Ý³Ï³ßñç³ÝáõÙ Ï³Û³óí³Í ³Ïï»ñÇ µ»Ï³ÝáõÙÝ»ñÁ
A6: 1. ØÇÝã¹³ï³Ï³Ý í³ñáõÛÃÇ ÝÏ³ïÙ³Ùµ ¹³ï³Ï³Ý í»ñ³ÑëÏáÕáõÃÛ³Ý áÉáñï | D6: 1 | E6: 2 | F6: 3 | G6: 4 | H6: 5 | I6: 6 | J6: 7 | K6: 8 | L6: 9 | M6: 10 | N6: 11 | O6: 12 | P6: 13 | Q6: 14 | R6: 15 | T6: 1+2=3+8+9 | V6: 8=4+5+6+7
A7: 1 | B7: Ï³É³ÝùÁ áñå»ë Ë³÷³ÝÙ³Ý ÙÇçáó ÏÇñ³é»Éáõ Ù³ëÇÝ ÙÇçÝáñ¹áõÃÛáõÝÝ»ñ | T7: =D7+E7 -> 0 | U7: =F7+K7+L7 -> 0 | V7: =K7 -> 0 | W7: =G7+H7+I7+J7 -> 0
A8: 2 | B8: Ï³É³ÝùÇ Å³ÙÏ»ïÁ »ñÏ³ñ³óÝ»Éáõ Ù³ëÇÝ ÙÇçÝáñ¹áõÃÛáõÝÝ»ñ | T8: =D8+E8 -> 0 | U8: =F8+K8+L8 -> 0 | V8: =K8 -> 0 | W8: =G8+H8+I8+J8 -> 0
A9: 3 | B9: Ï³É³ÝùÇ í»ñ³Ñ³ëï³ïÙ³Ý Ù³ëÇÝ ÙÇçÝáñ¹áõÃÛáõÝÝ»ñ | T9: =D9+E9 -> 0 | U9: =F9+K9+L9 -> 0 | V9: =K9 -> 0 | W9: =G9+H9+I9+J9 -> 0
A10: 4 | B10: ·ñ³íÁ áñå»ë Ï³É³Ý³íáñÙ³Ý ³ÛÉÁÝïñ³Ýù³ÛÇÝ Ë³÷³ÝÙ³Ý ÙÇçáó ÏÇñ³é»Éáõ Ù³ëÇÝ ÙÇçÝáñ¹áõÃÛáõÝÝ»ñ | T10: =D10+E10 -> 0 | U10: =F10+K10+L10 -> 0 | V10: =K10 -> 0 | W10: =G10+H10+I10+J10 -> 0
A11: 5 | B11: Ëáõ½³ñÏáõÃÛ³Ý Ï³ï³ñÙ³Ý Ù³ëÇÝ ÙÇçÝáñ¹áõÃÛáõÝÝ»ñ | T11: =D11+E11 -> 0 | U11: =F11+K11+L11 -> 0 | V11: =K11 -> 0 | W11: =G11+H11+I11+J11 -> 0
A12: 6 | B12: µ³ÝÏ³ÛÇÝ, ³å³Ñáí³·ñ³Ï³Ý, Ýáï³ñ³Ï³Ý ·³ÕïÝÇù Ï³½ÙáÕ ï»Õ»ÏáõÃÛáõÝÝ»ñÇ ëï³óÙ³Ý Ñ³Ù³ñ Ëáõ½³ñÏáõÃÛ³Ý Ï³Ù ³é·ñ³íÙ³Ý Ï³ï³ñÙ³Ý Ù³ëÇÝ ÙÇçÝáñ¹áõÃÛáõÝÝ»ñ | T12: =D12+E12 -> 0 | U12: =F12+K12+L12 -> 0 | V12: =K12 -> 0 | W12: =G12+H12+I12+J12 -> 0
A13: 7 | B13: Ý³Ù³Ï³·ñáõÃÛ³Ý, Ñ»é³·ñ³Ï³Ý, ÷áuï³ÛÇÝ Ñ³Õáñ¹áõÙÝ»ñÇ ÑëÏáÕáõÃÛ³Ý Ù³ëÇÝ ÙÇçÝáñ¹áõÃÛáõÝÝ»ñ | T13: =D13+E13 -> 0 | U13: =F13+K13+L13 -> 0 | V13: =K13 -> 0 | W13: =G13+H13+I13+J13 -> 0
A14: 8 | B14: Ñ»é³Ëáu³ÛÇÝ Ï³Ù Ï³åÇ ³ÛÉ ÙÇçáóÝ»ñáí ï³ñíáÕ Ëáu³ÏóáõÃÛáõÝÝ»ñÇ ÉuÙ³Ý ¨ Ó³ÛÝ³·ñ³éÙ³Ý Ù³ëÇÝ ÙÇçÝáñ¹áõÃÛáõÝÝ»ñ | T14: =D14+E14 -> 0 | U14: =F14+K14+L14 -> 0 | V14: =K14 -> 0 | W14: =G14+H14+I14+J14 -> 0
A15: 9 | B15: Ñ»é³ËáëÝ»ñÇ Ùáõïù³ÛÇÝ ¨ »Éù³ÛÇÝ í»ñÍ³ÝÙ³Ý ÃáõÛÉïíáõÃÛáõÝ ëï³Ý³Éáõ Ù³ëÇÝ ÙÇçÝáñ¹áõÃÛáõÝÝ»ñ | T15: =D15+E15 -> 0 | U15: =F15+K15+L15 -> 0 | V15: =K15 -> 0 | W15: =G15+H15+I15+J15 -> 0
A16: 10 | B16: Ñ»ï³ùÝÝáõÃÛ³Ý Ù³ñÙÝÇ ³ßË³ïáÕÇ, ùÝÝÇãÇ, ¹³ï³Ë³½Ç oå»ñ³ïÇí-Ñ»ï³Ëáõ½³Ï³Ý ·áñÍáÕáõÃÛáõÝÝ»ñ Çñ³Ï³Ý³óÝáÕ Ù³ñÙÇÝÝ»ñÇ ³ÝoñÇÝ³Ï³Ý ¨ ³ÝÑÇÙÝ áñáßáõÙÝ»ñÇ ¨ ·áñÍáÕáõÃÛáõÝÝ»ñÇ ¹»Ù µáÕáùÝ»ñ | T16: =D16+E16 -> 0 | U16: =F16+K16+L16 -> 0 | V16: =K16 -> 0 | W16: =G16+H16+I16+J16 -> 0
A17: 11 | B17: ²½³ïáõÃÛáõÝÇó ½ñÏ»Éáõ Çñ³í³ã³÷áõÃÛ³Ý í»ñ³µ»ñÛ³É µáÕáùÝ»ñáí ·áñÍ»ñ | T17: =D17+E17 -> 0 | U17: =F17+K17+L17 -> 0 | V17: =K17 -> 0 | W17: =G17+H17+I17+J17 -> 0
A18: 2. ¸³ï³Ï³Ý ³Ïï»ñÇ ¨ ¹³ï³Ï³Ý Ñ³ÝÓÝ³ñ³ñáõÃÛáõÝÝ»ñÇ Ï³ï³ñÙ³Ý Ñ»ï Ï³åí³Í Ñ³ñó»ñÇ ÉáõÍÙ³Ý áÉáñï
A19: 1 | B19: å³ïÅÇó å³ÛÙ³Ý³Ï³Ý í³Õ³Å³ÙÏ»ï ³½³ï»Éáõ Ù³ëÇÝ ÙÇçÝáñ¹áõÃÛáõÝÝ»ñ | T19: =D19+E19 -> 0 | U19: =F19+K19+L19 -> 0 | V19: =K19 -> 0 | W19: =G19+H19+I19+J19 -> 0
A20: 2 | B20: å³ïÇÅÁ ÷á÷áË»Éáõ, Ñ»ï³Ó·»Éáõ ¨ å³ïÅÇó ³½³ï»Éáõ Ù³uÇÝ ÙÇçÝáñ¹áõÃÛáõÝÝ»ñ | T20: =D20+E20 -> 0 | U20: =F20+K20+L20 -> 0 | V20: =K20 -> 0 | W20: =G20+H20+I20+J20 -> 0
A21: 3 | B21: Ñ³ñÏ³¹Çñ µáõÅÙ³Ý ï»ë³ÏÇ ÷á÷áËáõÃÛ³Ý Ù³ëÇÝ ÙÇçÝáñ¹áõÃÛáõÝÝ»ñ | T21: =D21+E21 -> 0 | U21: =F21+K21+L21 -> 0 | V21: =K21 -> 0 | W21: =G21+H21+I21+J21 -> 0
A22: 4 | B22: ³ÛÉ ÙÇçÝáñ¹áõÃÛáõÝÝ»ñ | T22: =D22+E22 -> 0 | U22: =F22+K22+L22 -> 0 | V22: =K22 -> 0 | W22: =G22+H22+I22+J22 -> 0
A23: 5 | B23: ¹³ï³Ï³Ý Ñ³ÝÓÝ³ñ³ñáõÃÛáõÝÝ»ñ | E23: 1 | L23: 1 | T23: =D23+E23 -> 1 | U23: =F23+K23+L23 -> 1 | V23: =K23 -> 0 | W23: =G23+H23+I23+J23 -> 0
A24: ÀÜ¸²ØºÜÀ | D24: =D7+D8+D9+D10+D11+D12+D13+D14+D15+D17+D19+D20+D21+D22+D23+D16 -> 0 | E24: =E7+E8+E9+E10+E11+E12+E13+E14+E15+E17+E19+E20+E21+E22+E23+E16 -> 1 | F24: =F7+F8+F9+F10+F11+F12+F13+F14+F15+F17+F19+F20+F21+F22+F23+F16 -> 0 | G24: =G7+G8+G9+G10+G11+G12+G13+G14+G15+G17+G19+G20+G21+G22+G23+G16 -> 0 | H24: =H7+H8+H9+H10+H11+H12+H13+H14+H15+H17+H19+H20+H21+H22+H23+H16 -> 0 | I24: =I7+I8+I9+I10+I11+I12+I13+I14+I15+I17+I19+I20+I21+I22+I23+I16 -> 0 | J24: =J7+J8+J9+J10+J11+J12+J13+J14+J15+J17+J19+J20+J21+J22+J23+J16 -> 0 | K24: =K7+K8+K9+K10+K11+K12+K13+K14+K15+K17+K19+K20+K21+K22+K23+K16 -> 0 | ... R24: =R7+R8+R9+R10+R11+R12+R13+R14+R15+R17+R19+R20+R21+R22+R23+R16 -> 0 | T24: =D24+E24 -> 1 | U24: =F24+K24+L24 -> 1 | V24: =K24 -> 0 | W24: =G24+H24+I24+J24 -> 0

Sheet Ռ. Մելքոնյան
A1: 2017Ã. 1-ÇÝ ÏÇë³ÙÛ³Ï | D1: Ð²ÞìºîìàôÂÚàôÜ | P1: Ð³í»Éí³Í Ð³Û³ëï³ÝÇ Ð³Ýñ³å»ïáõÃÛ³Ý ¸³ï³ñ³ÝÝ»ñÇ Ý³Ë³·³ÑÝ»ñÇ ËáñÑñ¹Ç 25.08.2017Ã. ÃÇí 35-È áñáßÙ³Ý
A2: ØÇÝã¹³ï³Ï³Ý í³ñáõÛÃÇ ÝÏ³ïÙ³Ùµ ¹³ï³Ï³Ý í»ñ³ÑëÏáÕáõÃÛ³Ý, ¹³ï³Ï³Ý ³Ïï»ñÇ ¨ ¹³ï³Ï³Ý Ñ³ÝÓÝ³ñ³ñáõÃÛáõÝÝ»ñÇ Ï³ï³ñÙ³Ý Ñ»ï Ï³åí³Í ÙÇçÝáñ¹áõÃÛáõÝÝ»ñÇ í»ñ³µ»ñÛ³É ¹³ï³Ï³Ý ·áñÍ»ñáí ÐÐ î³íáõßÇ Ù³ñ½Ç ÁÝ¹Ñ³Ýáõñ Çñ³í³ëáõÃÛ³Ý ³é³çÇÝ ³ïÛ³ÝÇ ¹³ï³ñ³ÝÇ ¹³ï³íáñ Ռ. Մելքոնյանի ·áñÍáõÝ»áõÃÛ³Ý í»ñ³µ»ñÛ³É
A3: êïáõ·Çã Ñ³í³ë³ñáõÙ` 1+2=3+8+9, 8=4+5+6+7, | D3: Ð³ßí»ïáõ Å³Ù³Ý³Ï³Ñ³ïí³ÍÇ ëÏ½µáõÙ Ý³Ëáñ¹ Ñ³ßí»ïáõ Å³Ù³Ý³Ï³Ñ³ïí³ÍÇó ÷áË³Ýóí³Í ·áñÍ»ñÇ ÁÝ¹Ñ³Ýáõñ ÃÇíÁ | E3: Ð³ßí»ïáõ Å³Ù³Ý³Ï³Ñ³ïí³ÍáõÙ ëï³óí³Í ·áñÍ»ñÇ ÁÝ¹Ñ³Ýáõñ ÃÇíÁ | F3: öáË³Ýóí»É ¿ ³ÛÉ ¹³ï³íáñÇ Ï³Ù ³ÛÉ ¹³ï³ñ³Ý (Ï³½ÙÇ ÷á÷áËáõÃÛáõÝ, ÁÝ¹¹³ïáõÃÛáõÝ) | G3: Ð³ßí»ïáõ Å³Ù³Ý³Ï³Ñ³ïí³ÍáõÙ ³í³ñïí³Í ·áñÍ»ñÇ ÁÝ¹Ñ³Ýáõñ ÃÇíÁ | L3: Ð³ßí»ïáõ Å³Ù³Ý³Ï³Ñ³ïí³ÍáõÙ ³Ý³í³ñï ·áñÍ»ñÇ ÁÝ¹Ñ³Ýáõñ ÃÇíÁ | M3: ØÇçÝáñ¹áõÃÛáõÝÝ»ñáí Ï³Û³óí³Í ¹³ï³Ï³Ý ³Ïï»ñÇó µáÕáù³ñÏí³ÍÝ»ñÇ ù³Ý³ÏÁ | O3: ²Ý³í³ñï µáÕáùÝ»ñ | P3: ØÇçÝáñ¹áõÃÛáõÝÝ»ñáí Ï³Û³óí³Í ¨ µáÕáù³ñÏí³Í ¹³ï³Ï³Ý ³Ïï»ñÇó µ»Ï³Ýí³ÍÝ»ñÇ ù³Ý³ÏÁ | R3: ÙÇçÝáñ¹áõÃÛáõÝÝ»ñáí Ï³Û³óí³Í ¨ µáÕáù³ñÏí³Í ¹³ï³Ï³Ý ³Ïï»ñÇó ³Ý÷á÷áË ÃáÕÝí³ÍÝ»ñÇ ù³Ý³ÏÁ
G4: Ù»ñÅí»É ¿ | H4: µ³í³ñ³ñí»É ¿ | I4: µ³í³ñ³ñí»É ¿ Ù³ëÝ³ÏÇ | J4: ÃáÕÝí»É ¿ ³é³Ýó ùÝÝáõÃÛ³Ý | K4: ÀÝ¹³Ù»ÝÁ
M5: Ý³Ëáñ¹ ï³ñÇÝ»ñÇÝ Ï³Û³óí³Í ³Ïï»ñÇ ¹»Ù | N5: Ñ³ßí»ïáõ Å³Ù³Ý³Ï³ßñç³ÝáõÙ Ï³Û³óí³Í ³Ïï»ñÇ ¹»Ù | P5: Ý³Ëáñ¹ ï³ñÇÝ»ñÇÝ Ï³Û³óí³Í ³Ïï»ñÇ µ»Ï³ÝáõÙÝ»ñÁ | Q5: Ñ³ßí»ïáõ Å³Ù³Ý³Ï³ßñç³ÝáõÙ Ï³Û³óí³Í ³Ïï»ñÇ µ»Ï³ÝáõÙÝ»ñÁ
A6: 1. ØÇÝã¹³ï³Ï³Ý í³ñáõÛÃÇ ÝÏ³ïÙ³Ùµ ¹³ï³Ï³Ý í»ñ³ÑëÏáÕáõÃÛ³Ý áÉáñï | D6: 1 | E6: 2 | F6: 3 | G6: 4 | H6: 5 | I6: 6 | J6: 7 | K6: 8 | L6: 9 | M6: 10 | N6: 11 | O6: 12 | P6: 13 | Q6: 14 | R6: 15 | T6: 1+2=3+8+9 | V6: 8=4+5+6+7
A7: 1 | B7: Ï³É³ÝùÁ áñå»ë Ë³÷³ÝÙ³Ý ÙÇçáó ÏÇñ³é»Éáõ Ù³ëÇÝ ÙÇçÝáñ¹áõÃÛáõÝÝ»ñ | E7: 6 | H7: 6 | K7: 6 | N7: 1 | O7: 1 | T7: =D7+E7 -> 6 | U7: =F7+K7+L7 -> 6 | V7: =K7 -> 6 | W7: =G7+H7+I7+J7 -> 6
A8: 2 | B8: Ï³É³ÝùÇ Å³ÙÏ»ïÁ »ñÏ³ñ³óÝ»Éáõ Ù³ëÇÝ ÙÇçÝáñ¹áõÃÛáõÝÝ»ñ | E8: 3 | H8: 2 | K8: 2 | L8: 1 | N8: 1 | R8: 1 | T8: =D8+E8 -> 3 | U8: =F8+K8+L8 -> 3 | V8: =K8 -> 2 | W8: =G8+H8+I8+J8 -> 2
A9: 3 | B9: Ï³É³ÝùÇ í»ñ³Ñ³ëï³ïÙ³Ý Ù³ëÇÝ ÙÇçÝáñ¹áõÃÛáõÝÝ»ñ | E9: 1 | H9: 1 | K9: 1 | T9: =D9+E9 -> 1 | U9: =F9+K9+L9 -> 1 | V9: =K9 -> 1 | W9: =G9+H9+I9+J9 -> 1
A10: 4 | B10: ·ñ³íÁ áñå»ë Ï³É³Ý³íáñÙ³Ý ³ÛÉÁÝïñ³Ýù³ÛÇÝ Ë³÷³ÝÙ³Ý ÙÇçáó ÏÇñ³é»Éáõ Ù³ëÇÝ ÙÇçÝáñ¹áõÃÛáõÝÝ»ñ | E10: 1 | G10: 1 | K10: 1 | T10: =D10+E10 -> 1 | U10: =F10+K10+L10 -> 1 | V10: =K10 -> 1 | W10: =G10+H10+I10+J10 -> 1
A11: 5 | B11: Ëáõ½³ñÏáõÃÛ³Ý Ï³ï³ñÙ³Ý Ù³ëÇÝ ÙÇçÝáñ¹áõÃÛáõÝÝ»ñ | E11: 21 | H11: 21 | K11: 21 | T11: =D11+E11 -> 21 | U11: =F11+K11+L11 -> 21 | V11: =K11 -> 21 | W11: =G11+H11+I11+J11 -> 21
A12: 6 | B12: µ³ÝÏ³ÛÇÝ, ³å³Ñáí³·ñ³Ï³Ý, Ýáï³ñ³Ï³Ý ·³ÕïÝÇù Ï³½ÙáÕ ï»Õ»ÏáõÃÛáõÝÝ»ñÇ ëï³óÙ³Ý Ñ³Ù³ñ Ëáõ½³ñÏáõÃÛ³Ý Ï³Ù ³é·ñ³íÙ³Ý Ï³ï³ñÙ³Ý Ù³ëÇÝ ÙÇçÝáñ¹áõÃÛáõÝÝ»ñ | E12: 1 | H12: 1 | K12: 1 | T12: =D12+E12 -> 1 | U12: =F12+K12+L12 -> 1 | V12: =K12 -> 1 | W12: =G12+H12+I12+J12 -> 1
A13: 7 | B13: Ý³Ù³Ï³·ñáõÃÛ³Ý, Ñ»é³·ñ³Ï³Ý, ÷áuï³ÛÇÝ Ñ³Õáñ¹áõÙÝ»ñÇ ÑëÏáÕáõÃÛ³Ý Ù³ëÇÝ ÙÇçÝáñ¹áõÃÛáõÝÝ»ñ | T13: =D13+E13 -> 0 | U13: =F13+K13+L13 -> 0 | V13: =K13 -> 0 | W13: =G13+H13+I13+J13 -> 0
A14: 8 | B14: Ñ»é³Ëáu³ÛÇÝ Ï³Ù Ï³åÇ ³ÛÉ ÙÇçáóÝ»ñáí ï³ñíáÕ Ëáu³ÏóáõÃÛáõÝÝ»ñÇ ÉuÙ³Ý ¨ Ó³ÛÝ³·ñ³éÙ³Ý Ù³ëÇÝ ÙÇçÝáñ¹áõÃÛáõÝÝ»ñ | T14: =D14+E14 -> 0 | U14: =F14+K14+L14 -> 0 | V14: =K14 -> 0 | W14: =G14+H14+I14+J14 -> 0
A15: 9 | B15: Ñ»é³ËáëÝ»ñÇ Ùáõïù³ÛÇÝ ¨ »Éù³ÛÇÝ í»ñÍ³ÝÙ³Ý ÃáõÛÉïíáõÃÛáõÝ ëï³Ý³Éáõ Ù³ëÇÝ ÙÇçÝáñ¹áõÃÛáõÝÝ»ñ | E15: 23 | H15: 23 | K15: 23 | T15: =D15+E15 -> 23 | U15: =F15+K15+L15 -> 23 | V15: =K15 -> 23 | W15: =G15+H15+I15+J15 -> 23
A16: 10 | B16: Ñ»ï³ùÝÝáõÃÛ³Ý Ù³ñÙÝÇ ³ßË³ïáÕÇ, ùÝÝÇãÇ, ¹³ï³Ë³½Ç oå»ñ³ïÇí-Ñ»ï³Ëáõ½³Ï³Ý ·áñÍáÕáõÃÛáõÝÝ»ñ Çñ³Ï³Ý³óÝáÕ Ù³ñÙÇÝÝ»ñÇ ³ÝoñÇÝ³Ï³Ý ¨ ³ÝÑÇÙÝ áñáßáõÙÝ»ñÇ ¨ ·áñÍáÕáõÃÛáõÝÝ»ñÇ ¹»Ù µáÕáùÝ»ñ | E16: 6 | G16: 3 | H16: 1 | K16: 4 | L16: 2 | N16: 3 | O16: 3 | T16: =D16+E16 -> 6 | U16: =F16+K16+L16 -> 6 | V16: =K16 -> 4 | W16: =G16+H16+I16+J16 -> 4
A17: 11 | B17: ²½³ïáõÃÛáõÝÇó ½ñÏ»Éáõ Çñ³í³ã³÷áõÃÛ³Ý í»ñ³µ»ñÛ³É µáÕáùÝ»ñáí ·áñÍ»ñ | T17: =D17+E17 -> 0 | U17: =F17+K17+L17 -> 0 | V17: =K17 -> 0 | W17: =G17+H17+I17+J17 -> 0
A18: 2. ¸³ï³Ï³Ý ³Ïï»ñÇ ¨ ¹³ï³Ï³Ý Ñ³ÝÓÝ³ñ³ñáõÃÛáõÝÝ»ñÇ Ï³ï³ñÙ³Ý Ñ»ï Ï³åí³Í Ñ³ñó»ñÇ ÉáõÍÙ³Ý áÉáñï
A19: 1 | B19: å³ïÅÇó å³ÛÙ³Ý³Ï³Ý í³Õ³Å³ÙÏ»ï ³½³ï»Éáõ Ù³ëÇÝ ÙÇçÝáñ¹áõÃÛáõÝÝ»ñ | T19: =D19+E19 -> 0 | U19: =F19+K19+L19 -> 0 | V19: =K19 -> 0 | W19: =G19+H19+I19+J19 -> 0
A20: 2 | B20: å³ïÇÅÁ ÷á÷áË»Éáõ, Ñ»ï³Ó·»Éáõ ¨ å³ïÅÇó ³½³ï»Éáõ Ù³uÇÝ ÙÇçÝáñ¹áõÃÛáõÝÝ»ñ | E20: 31 | G20: 29 | K20: 29 | L20: 2 | T20: =D20+E20 -> 31 | U20: =F20+K20+L20 -> 31 | V20: =K20 -> 29 | W20: =G20+H20+I20+J20 -> 29
A21: 3 | B21: Ñ³ñÏ³¹Çñ µáõÅÙ³Ý ï»ë³ÏÇ ÷á÷áËáõÃÛ³Ý Ù³ëÇÝ ÙÇçÝáñ¹áõÃÛáõÝÝ»ñ | T21: =D21+E21 -> 0 | U21: =F21+K21+L21 -> 0 | V21: =K21 -> 0 | W21: =G21+H21+I21+J21 -> 0
A22: 4 | B22: ³ÛÉ ÙÇçÝáñ¹áõÃÛáõÝÝ»ñ | E22: 2 | H22: 2 | K22: 2 | T22: =D22+E22 -> 2 | U22: =F22+K22+L22 -> 2 | V22: =K22 -> 2 | W22: =G22+H22+I22+J22 -> 2
A23: 5 | B23: ¹³ï³Ï³Ý Ñ³ÝÓÝ³ñ³ñáõÃÛáõÝÝ»ñ | E23: 1 | L23: 1 | T23: =D23+E23 -> 1 | U23: =F23+K23+L23 -> 1 | V23: =K23 -> 0 | W23: =G23+H23+I23+J23 -> 0
A24: ÀÜ¸²ØºÜÀ | D24: =D7+D8+D9+D10+D11+D12+D13+D14+D15+D17+D19+D20+D21+D22+D23+D16 -> 0 | E24: =E7+E8+E9+E10+E11+E12+E13+E14+E15+E17+E19+E20+E21+E22+E23+E16 -> 96 | F24: =F7+F8+F9+F10+F11+F12+F13+F14+F15+F17+F19+F20+F21+F22+F23+F16 -> 0 | G24: =G7+G8+G9+G10+G11+G12+G13+G14+G15+G17+G19+G20+G21+G22+G23+G16 -> 33 | H24: =H7+H8+H9+H10+H11+H12+H13+H14+H15+H17+H19+H20+H21+H22+H23+H16 -> 57 | I24: =I7+I8+I9+I10+I11+I12+I13+I14+I15+I17+I19+I20+I21+I22+I23+I16 -> 0 | J24: =J7+J8+J9+J10+J11+J12+J13+J14+J15+J17+J19+J20+J21+J22+J23+J16 -> 0 | K24: =K7+K8+K9+K10+K11+K12+K13+K14+K15+K17+K19+K20+K21+K22+K23+K16 -> 90 | ... R24: =R7+R8+R9+R10+R11+R12+R13+R14+R15+R17+R19+R20+R21+R22+R23+R16 -> 1 | T24: =D24+E24 -> 96 | U24: =F24+K24+L24 -> 96 | V24: =K24 -> 90 | W24: =G24+H24+I24+J24 -> 90

Sheet Զ. Զաքինյան
A1: 2017Ã. 1-ÇÝ ÏÇë³ÙÛ³Ï | D1: Ð²ÞìºîìàôÂÚàôÜ | P1: Ð³í»Éí³Í Ð³Û³ëï³ÝÇ Ð³Ýñ³å»ïáõÃÛ³Ý ¸³ï³ñ³ÝÝ»ñÇ Ý³Ë³·³ÑÝ»ñÇ ËáñÑñ¹Ç 25.08.2017Ã. ÃÇí 35-È áñáßÙ³Ý
A2: ØÇÝã¹³ï³Ï³Ý í³ñáõÛÃÇ ÝÏ³ïÙ³Ùµ ¹³ï³Ï³Ý í»ñ³ÑëÏáÕáõÃÛ³Ý, ¹³ï³Ï³Ý ³Ïï»ñÇ ¨ ¹³ï³Ï³Ý Ñ³ÝÓÝ³ñ³ñáõÃÛáõÝÝ»ñÇ Ï³ï³ñÙ³Ý Ñ»ï Ï³åí³Í ÙÇçÝáñ¹áõÃÛáõÝÝ»ñÇ í»ñ³µ»ñÛ³É ¹³ï³Ï³Ý ·áñÍ»ñáí ÐÐ î³íáõßÇ Ù³ñ½Ç ÁÝ¹Ñ³Ýáõñ Çñ³í³ëáõÃÛ³Ý ³é³çÇÝ ³ïÛ³ÝÇ ¹³ï³ñ³ÝÇ ¹³ï³íáñ Զ. Զաքինյանի ·áñÍáõÝ»áõÃÛ³Ý í»ñ³µ»ñÛ³É
A3: êïáõ·Çã Ñ³í³ë³ñáõÙ` 1+2=3+8+9, 8=4+5+6+7, | D3: Ð³ßí»ïáõ Å³Ù³Ý³Ï³Ñ³ïí³ÍÇ ëÏ½µáõÙ Ý³Ëáñ¹ Ñ³ßí»ïáõ Å³Ù³Ý³Ï³Ñ³ïí³ÍÇó ÷áË³Ýóí³Í ·áñÍ»ñÇ ÁÝ¹Ñ³Ýáõñ ÃÇíÁ | E3: Ð³ßí»ïáõ Å³Ù³Ý³Ï³Ñ³ïí³ÍáõÙ ëï³óí³Í ·áñÍ»ñÇ ÁÝ¹Ñ³Ýáõñ ÃÇíÁ | F3: öáË³Ýóí»É ¿ ³ÛÉ ¹³ï³íáñÇ Ï³Ù ³ÛÉ ¹³ï³ñ³Ý (Ï³½ÙÇ ÷á÷áËáõÃÛáõÝ, ÁÝ¹¹³ïáõÃÛáõÝ) | G3: Ð³ßí»ïáõ Å³Ù³Ý³Ï³Ñ³ïí³ÍáõÙ ³í³ñïí³Í ·áñÍ»ñÇ ÁÝ¹Ñ³Ýáõñ ÃÇíÁ | L3: Ð³ßí»ïáõ Å³Ù³Ý³Ï³Ñ³ïí³ÍáõÙ ³Ý³í³ñï ·áñÍ»ñÇ ÁÝ¹Ñ³Ýáõñ ÃÇíÁ | M3: ØÇçÝáñ¹áõÃÛáõÝÝ»ñáí Ï³Û³óí³Í ¹³ï³Ï³Ý ³Ïï»ñÇó µáÕáù³ñÏí³ÍÝ»ñÇ ù³Ý³ÏÁ | O3: ²Ý³í³ñï µáÕáùÝ»ñ | P3: ØÇçÝáñ¹áõÃÛáõÝÝ»ñáí Ï³Û³óí³Í ¨ µáÕáù³ñÏí³Í ¹³ï³Ï³Ý ³Ïï»ñÇó µ»Ï³Ýí³ÍÝ»ñÇ ù³Ý³ÏÁ | R3: ÙÇçÝáñ¹áõÃÛáõÝÝ»ñáí Ï³Û³óí³Í ¨ µáÕáù³ñÏí³Í ¹³ï³Ï³Ý ³Ïï»ñÇó ³Ý÷á÷áË ÃáÕÝí³ÍÝ»ñÇ ù³Ý³ÏÁ
G4: Ù»ñÅí»É ¿ | H4: µ³í³ñ³ñí»É ¿ | I4: µ³í³ñ³ñí»É ¿ Ù³ëÝ³ÏÇ | J4: ÃáÕÝí»É ¿ ³é³Ýó ùÝÝáõÃÛ³Ý | K4: ÀÝ¹³Ù»ÝÁ
M5: Ý³Ëáñ¹ ï³ñÇÝ»ñÇÝ Ï³Û³óí³Í ³Ïï»ñÇ ¹»Ù | N5: Ñ³ßí»ïáõ Å³Ù³Ý³Ï³ßñç³ÝáõÙ Ï³Û³óí³Í ³Ïï»ñÇ ¹»Ù | P5: Ý³Ëáñ¹ ï³ñÇÝ»ñÇÝ Ï³Û³óí³Í ³Ïï»ñÇ µ»Ï³ÝáõÙÝ»ñÁ | Q5: Ñ³ßí»ïáõ Å³Ù³Ý³Ï³ßñç³ÝáõÙ Ï³Û³óí³Í ³Ïï»ñÇ µ»Ï³ÝáõÙÝ»ñÁ
A6: 1. ØÇÝã¹³ï³Ï³Ý í³ñáõÛÃÇ ÝÏ³ïÙ³Ùµ ¹³ï³Ï³Ý í»ñ³ÑëÏáÕáõÃÛ³Ý áÉáñï | D6: 1 | E6: 2 | F6: 3 | G6: 4 | H6: 5 | I6: 6 | J6: 7 | K6: 8 | L6: 9 | M6: 10 | N6: 11 | O6: 12 | P6: 13 | Q6: 14 | R6: 15 | T6: 1+2=3+8+9 | V6: 8=4+5+6+7
A7: 1 | B7: Ï³É³ÝùÁ áñå»ë Ë³÷³ÝÙ³Ý ÙÇçáó ÏÇñ³é»Éáõ Ù³ëÇÝ ÙÇçÝáñ¹áõÃÛáõÝÝ»ñ | E7: 8 | H7: 8 | K7: 8 | N7: 1 | R7: 1 | T7: =D7+E7 -> 8 | U7: =F7+K7+L7 -> 8 | V7: =K7 -> 8 | W7: =G7+H7+I7+J7 -> 8
A8: 2 | B8: Ï³É³ÝùÇ Å³ÙÏ»ïÁ »ñÏ³ñ³óÝ»Éáõ Ù³ëÇÝ ÙÇçÝáñ¹áõÃÛáõÝÝ»ñ | E8: 3 | H8: 2 | K8: 2 | L8: 1 | T8: =D8+E8 -> 3 | U8: =F8+K8+L8 -> 3 | V8: =K8 -> 2 | W8: =G8+H8+I8+J8 -> 2
A9: 3 | B9: Ï³É³ÝùÇ í»ñ³Ñ³ëï³ïÙ³Ý Ù³ëÇÝ ÙÇçÝáñ¹áõÃÛáõÝÝ»ñ | E9: 2 | H9: 2 | K9: 2 | T9: =D9+E9 -> 2 | U9: =F9+K9+L9 -> 2 | V9: =K9 -> 2 | W9: =G9+H9+I9+J9 -> 2
A10: 4 | B10: ·ñ³íÁ áñå»ë Ï³É³Ý³íáñÙ³Ý ³ÛÉÁÝïñ³Ýù³ÛÇÝ Ë³÷³ÝÙ³Ý ÙÇçáó ÏÇñ³é»Éáõ Ù³ëÇÝ ÙÇçÝáñ¹áõÃÛáõÝÝ»ñ | T10: =D10+E10 -> 0 | U10: =F10+K10+L10 -> 0 | V10: =K10 -> 0 | W10: =G10+H10+I10+J10 -> 0
A11: 5 | B11: Ëáõ½³ñÏáõÃÛ³Ý Ï³ï³ñÙ³Ý Ù³ëÇÝ ÙÇçÝáñ¹áõÃÛáõÝÝ»ñ | E11: 8 | H11: 8 | K11: 8 | T11: =D11+E11 -> 8 | U11: =F11+K11+L11 -> 8 | V11: =K11 -> 8 | W11: =G11+H11+I11+J11 -> 8
A12: 6 | B12: µ³ÝÏ³ÛÇÝ, ³å³Ñáí³·ñ³Ï³Ý, Ýáï³ñ³Ï³Ý ·³ÕïÝÇù Ï³½ÙáÕ ï»Õ»ÏáõÃÛáõÝÝ»ñÇ ëï³óÙ³Ý Ñ³Ù³ñ Ëáõ½³ñÏáõÃÛ³Ý Ï³Ù ³é·ñ³íÙ³Ý Ï³ï³ñÙ³Ý Ù³ëÇÝ ÙÇçÝáñ¹áõÃÛáõÝÝ»ñ | E12: 1 | H12: 1 | K12: 1 | T12: =D12+E12 -> 1 | U12: =F12+K12+L12 -> 1 | V12: =K12 -> 1 | W12: =G12+H12+I12+J12 -> 1
A13: 7 | B13: Ý³Ù³Ï³·ñáõÃÛ³Ý, Ñ»é³·ñ³Ï³Ý, ÷áuï³ÛÇÝ Ñ³Õáñ¹áõÙÝ»ñÇ ÑëÏáÕáõÃÛ³Ý Ù³ëÇÝ ÙÇçÝáñ¹áõÃÛáõÝÝ»ñ | T13: =D13+E13 -> 0 | U13: =F13+K13+L13 -> 0 | V13: =K13 -> 0 | W13: =G13+H13+I13+J13 -> 0
A14: 8 | B14: Ñ»é³Ëáu³ÛÇÝ Ï³Ù Ï³åÇ ³ÛÉ ÙÇçáóÝ»ñáí ï³ñíáÕ Ëáu³ÏóáõÃÛáõÝÝ»ñÇ ÉuÙ³Ý ¨ Ó³ÛÝ³·ñ³éÙ³Ý Ù³ëÇÝ ÙÇçÝáñ¹áõÃÛáõÝÝ»ñ | T14: =D14+E14 -> 0 | U14: =F14+K14+L14 -> 0 | V14: =K14 -> 0 | W14: =G14+H14+I14+J14 -> 0
A15: 9 | B15: Ñ»é³ËáëÝ»ñÇ Ùáõïù³ÛÇÝ ¨ »Éù³ÛÇÝ í»ñÍ³ÝÙ³Ý ÃáõÛÉïíáõÃÛáõÝ ëï³Ý³Éáõ Ù³ëÇÝ ÙÇçÝáñ¹áõÃÛáõÝÝ»ñ | E15: 6 | H15: 6 | K15: 6 | T15: =D15+E15 -> 6 | U15: =F15+K15+L15 -> 6 | V15: =K15 -> 6 | W15: =G15+H15+I15+J15 -> 6
A16: 10 | B16: Ñ»ï³ùÝÝáõÃÛ³Ý Ù³ñÙÝÇ ³ßË³ïáÕÇ, ùÝÝÇãÇ, ¹³ï³Ë³½Ç oå»ñ³ïÇí-Ñ»ï³Ëáõ½³Ï³Ý ·áñÍáÕáõÃÛáõÝÝ»ñ Çñ³Ï³Ý³óÝáÕ Ù³ñÙÇÝÝ»ñÇ ³ÝoñÇÝ³Ï³Ý ¨ ³ÝÑÇÙÝ áñáßáõÙÝ»ñÇ ¨ ·áñÍáÕáõÃÛáõÝÝ»ñÇ ¹»Ù µáÕáùÝ»ñ | D16: 1 | E16: 1 | G16: 1 | H16: 1 | K16: 2 | T16: =D16+E16 -> 2 | U16: =F16+K16+L16 -> 2 | V16: =K16 -> 2 | W16: =G16+H16+I16+J16 -> 2
A17: 11 | B17: ²½³ïáõÃÛáõÝÇó ½ñÏ»Éáõ Çñ³í³ã³÷áõÃÛ³Ý í»ñ³µ»ñÛ³É µáÕáùÝ»ñáí ·áñÍ»ñ | T17: =D17+E17 -> 0 | U17: =F17+K17+L17 -> 0 | V17: =K17 -> 0 | W17: =G17+H17+I17+J17 -> 0
A18: 2. ¸³ï³Ï³Ý ³Ïï»ñÇ ¨ ¹³ï³Ï³Ý Ñ³ÝÓÝ³ñ³ñáõÃÛáõÝÝ»ñÇ Ï³ï³ñÙ³Ý Ñ»ï Ï³åí³Í Ñ³ñó»ñÇ ÉáõÍÙ³Ý áÉáñï
A19: 1 | B19: å³ïÅÇó å³ÛÙ³Ý³Ï³Ý í³Õ³Å³ÙÏ»ï ³½³ï»Éáõ Ù³ëÇÝ ÙÇçÝáñ¹áõÃÛáõÝÝ»ñ | T19: =D19+E19 -> 0 | U19: =F19+K19+L19 -> 0 | V19: =K19 -> 0 | W19: =G19+H19+I19+J19 -> 0
A20: 2 | B20: å³ïÇÅÁ ÷á÷áË»Éáõ, Ñ»ï³Ó·»Éáõ ¨ å³ïÅÇó ³½³ï»Éáõ Ù³uÇÝ ÙÇçÝáñ¹áõÃÛáõÝÝ»ñ | E20: 16 | G20: 1 | H20: 14 | J20: 1 | K20: 16 | T20: =D20+E20 -> 16 | U20: =F20+K20+L20 -> 16 | V20: =K20 -> 16 | W20: =G20+H20+I20+J20 -> 16
A21: 3 | B21: Ñ³ñÏ³¹Çñ µáõÅÙ³Ý ï»ë³ÏÇ ÷á÷áËáõÃÛ³Ý Ù³ëÇÝ ÙÇçÝáñ¹áõÃÛáõÝÝ»ñ | T21: =D21+E21 -> 0 | U21: =F21+K21+L21 -> 0 | V21: =K21 -> 0 | W21: =G21+H21+I21+J21 -> 0
A22: 4 | B22: ³ÛÉ ÙÇçÝáñ¹áõÃÛáõÝÝ»ñ | T22: =D22+E22 -> 0 | U22: =F22+K22+L22 -> 0 | V22: =K22 -> 0 | W22: =G22+H22+I22+J22 -> 0
A23: 5 | B23: ¹³ï³Ï³Ý Ñ³ÝÓÝ³ñ³ñáõÃÛáõÝÝ»ñ | T23: =D23+E23 -> 0 | U23: =F23+K23+L23 -> 0 | V23: =K23 -> 0 | W23: =G23+H23+I23+J23 -> 0
A24: ÀÜ¸²ØºÜÀ | D24: =D7+D8+D9+D10+D11+D12+D13+D14+D15+D17+D19+D20+D21+D22+D23+D16 -> 1 | E24: =E7+E8+E9+E10+E11+E12+E13+E14+E15+E17+E19+E20+E21+E22+E23+E16 -> 45 | F24: =F7+F8+F9+F10+F11+F12+F13+F14+F15+F17+F19+F20+F21+F22+F23+F16 -> 0 | G24: =G7+G8+G9+G10+G11+G12+G13+G14+G15+G17+G19+G20+G21+G22+G23+G16 -> 2 | H24: =H7+H8+H9+H10+H11+H12+H13+H14+H15+H17+H19+H20+H21+H22+H23+H16 -> 42 | I24: =I7+I8+I9+I10+I11+I12+I13+I14+I15+I17+I19+I20+I21+I22+I23+I16 -> 0 | J24: =J7+J8+J9+J10+J11+J12+J13+J14+J15+J17+J19+J20+J21+J22+J23+J16 -> 1 | K24: =K7+K8+K9+K10+K11+K12+K13+K14+K15+K17+K19+K20+K21+K22+K23+K16 -> 45 | ... R24: =R7+R8+R9+R10+R11+R12+R13+R14+R15+R17+R19+R20+R21+R22+R23+R16 -> 1 | T24: =D24+E24 -> 46 | U24: =F24+K24+L24 -> 46 | V24: =K24 -> 45 | W24: =G24+H24+I24+J24 -> 45

Sheet Ա. Կուրեխյան
A1: 2017Ã. 1-ÇÝ ÏÇë³ÙÛ³Ï | D1: Ð²ÞìºîìàôÂÚàôÜ | P1: Ð³í»Éí³Í Ð³Û³ëï³ÝÇ Ð³Ýñ³å»ïáõÃÛ³Ý ¸³ï³ñ³ÝÝ»ñÇ Ý³Ë³·³ÑÝ»ñÇ ËáñÑñ¹Ç 25.08.2017Ã. ÃÇí 35-È áñáßÙ³Ý
A2: ØÇÝã¹³ï³Ï³Ý í³ñáõÛÃÇ ÝÏ³ïÙ³Ùµ ¹³ï³Ï³Ý í»ñ³ÑëÏáÕáõÃÛ³Ý, ¹³ï³Ï³Ý ³Ïï»ñÇ ¨ ¹³ï³Ï³Ý Ñ³ÝÓÝ³ñ³ñáõÃÛáõÝÝ»ñÇ Ï³ï³ñÙ³Ý Ñ»ï Ï³åí³Í ÙÇçÝáñ¹áõÃÛáõÝÝ»ñÇ í»ñ³µ»ñÛ³É ¹³ï³Ï³Ý ·áñÍ»ñáí ÐÐ î³íáõßÇ Ù³ñ½Ç ÁÝ¹Ñ³Ýáõñ Çñ³í³ëáõÃÛ³Ý ³é³çÇÝ ³ïÛ³ÝÇ ¹³ï³ñ³ÝÇ ¹³ï³íáñ Ա. Կուրեխյանի ·áñÍáõÝ»áõÃÛ³Ý í»ñ³µ»ñÛ³É
A3: êïáõ·Çã Ñ³í³ë³ñáõÙ` 1+2=3+8+9, 8=4+5+6+7, | D3: Ð³ßí»ïáõ Å³Ù³Ý³Ï³Ñ³ïí³ÍÇ ëÏ½µáõÙ Ý³Ëáñ¹ Ñ³ßí»ïáõ Å³Ù³Ý³Ï³Ñ³ïí³ÍÇó ÷áË³Ýóí³Í ·áñÍ»ñÇ ÁÝ¹Ñ³Ýáõñ ÃÇíÁ | E3: Ð³ßí»ïáõ Å³Ù³Ý³Ï³Ñ³ïí³ÍáõÙ ëï³óí³Í ·áñÍ»ñÇ ÁÝ¹Ñ³Ýáõñ ÃÇíÁ | F3: öáË³Ýóí»É ¿ ³ÛÉ ¹³ï³íáñÇ Ï³Ù ³ÛÉ ¹³ï³ñ³Ý (Ï³½ÙÇ ÷á÷áËáõÃÛáõÝ, ÁÝ¹¹³ïáõÃÛáõÝ) | G3: Ð³ßí»ïáõ Å³Ù³Ý³Ï³Ñ³ïí³ÍáõÙ ³í³ñïí³Í ·áñÍ»ñÇ ÁÝ¹Ñ³Ýáõñ ÃÇíÁ | L3: Ð³ßí»ïáõ Å³Ù³Ý³Ï³Ñ³ïí³ÍáõÙ ³Ý³í³ñï ·áñÍ»ñÇ ÁÝ¹Ñ³Ýáõñ ÃÇíÁ | M3: ØÇçÝáñ¹áõÃÛáõÝÝ»ñáí Ï³Û³óí³Í ¹³ï³Ï³Ý ³Ïï»ñÇó µáÕáù³ñÏí³ÍÝ»ñÇ ù³Ý³ÏÁ | O3: ²Ý³í³ñï µáÕáùÝ»ñ | P3: ØÇçÝáñ¹áõÃÛáõÝÝ»ñáí Ï³Û³óí³Í ¨ µáÕáù³ñÏí³Í ¹³ï³Ï³Ý ³Ïï»ñÇó µ»Ï³Ýí³ÍÝ»ñÇ ù³Ý³ÏÁ | R3: ÙÇçÝáñ¹áõÃÛáõÝÝ»ñáí Ï³Û³óí³Í ¨ µáÕáù³ñÏí³Í ¹³ï³Ï³Ý ³Ïï»ñÇó ³Ý÷á÷áË ÃáÕÝí³ÍÝ»ñÇ ù³Ý³ÏÁ
G4: Ù»ñÅí»É ¿ | H4: µ³í³ñ³ñí»É ¿ | I4: µ³í³ñ³ñí»É ¿ Ù³ëÝ³ÏÇ | J4: ÃáÕÝí»É ¿ ³é³Ýó ùÝÝáõÃÛ³Ý | K4: ÀÝ¹³Ù»ÝÁ
M5: Ý³Ëáñ¹ ï³ñÇÝ»ñÇÝ Ï³Û³óí³Í ³Ïï»ñÇ ¹»Ù | N5: Ñ³ßí»ïáõ Å³Ù³Ý³Ï³ßñç³ÝáõÙ Ï³Û³óí³Í ³Ïï»ñÇ ¹»Ù | P5: Ý³Ëáñ¹ ï³ñÇÝ»ñÇÝ Ï³Û³óí³Í ³Ïï»ñÇ µ»Ï³ÝáõÙÝ»ñÁ | Q5: Ñ³ßí»ïáõ Å³Ù³Ý³Ï³ßñç³ÝáõÙ Ï³Û³óí³Í ³Ïï»ñÇ µ»Ï³ÝáõÙÝ»ñÁ
A6: 1. ØÇÝã¹³ï³Ï³Ý í³ñáõÛÃÇ ÝÏ³ïÙ³Ùµ ¹³ï³Ï³Ý í»ñ³ÑëÏáÕáõÃÛ³Ý áÉáñï | D6: 1 | E6: 2 | F6: 3 | G6: 4 | H6: 5 | I6: 6 | J6: 7 | K6: 8 | L6: 9 | M6: 10 | N6: 11 | O6: 12 | P6: 13 | Q6: 14 | R6: 15 | T6: 1+2=3+8+9 | V6: 8=4+5+6+7
A7: 1 | B7: Ï³É³ÝùÁ áñå»ë Ë³÷³ÝÙ³Ý ÙÇçáó ÏÇñ³é»Éáõ Ù³ëÇÝ ÙÇçÝáñ¹áõÃÛáõÝÝ»ñ | T7: =D7+E7 -> 0 | U7: =F7+K7+L7 -> 0 | V7: =K7 -> 0 | W7: =G7+H7+I7+J7 -> 0
A8: 2 | B8: Ï³É³ÝùÇ Å³ÙÏ»ïÁ »ñÏ³ñ³óÝ»Éáõ Ù³ëÇÝ ÙÇçÝáñ¹áõÃÛáõÝÝ»ñ | T8: =D8+E8 -> 0 | U8: =F8+K8+L8 -> 0 | V8: =K8 -> 0 | W8: =G8+H8+I8+J8 -> 0
A9: 3 | B9: Ï³É³ÝùÇ í»ñ³Ñ³ëï³ïÙ³Ý Ù³ëÇÝ ÙÇçÝáñ¹áõÃÛáõÝÝ»ñ | T9: =D9+E9 -> 0 | U9: =F9+K9+L9 -> 0 | V9: =K9 -> 0 | W9: =G9+H9+I9+J9 -> 0
A10: 4 | B10: ·ñ³íÁ áñå»ë Ï³É³Ý³íáñÙ³Ý ³ÛÉÁÝïñ³Ýù³ÛÇÝ Ë³÷³ÝÙ³Ý ÙÇçáó ÏÇñ³é»Éáõ Ù³ëÇÝ ÙÇçÝáñ¹áõÃÛáõÝÝ»ñ | T10: =D10+E10 -> 0 | U10: =F10+K10+L10 -> 0 | V10: =K10 -> 0 | W10: =G10+H10+I10+J10 -> 0
A11: 5 | B11: Ëáõ½³ñÏáõÃÛ³Ý Ï³ï³ñÙ³Ý Ù³ëÇÝ ÙÇçÝáñ¹áõÃÛáõÝÝ»ñ | T11: =D11+E11 -> 0 | U11: =F11+K11+L11 -> 0 | V11: =K11 -> 0 | W11: =G11+H11+I11+J11 -> 0
A12: 6 | B12: µ³ÝÏ³ÛÇÝ, ³å³Ñáí³·ñ³Ï³Ý, Ýáï³ñ³Ï³Ý ·³ÕïÝÇù Ï³½ÙáÕ ï»Õ»ÏáõÃÛáõÝÝ»ñÇ ëï³óÙ³Ý Ñ³Ù³ñ Ëáõ½³ñÏáõÃÛ³Ý Ï³Ù ³é·ñ³íÙ³Ý Ï³ï³ñÙ³Ý Ù³ëÇÝ ÙÇçÝáñ¹áõÃÛáõÝÝ»ñ | T12: =D12+E12 -> 0 | U12: =F12+K12+L12 -> 0 | V12: =K12 -> 0 | W12: =G12+H12+I12+J12 -> 0
A13: 7 | B13: Ý³Ù³Ï³·ñáõÃÛ³Ý, Ñ»é³·ñ³Ï³Ý, ÷áuï³ÛÇÝ Ñ³Õáñ¹áõÙÝ»ñÇ ÑëÏáÕáõÃÛ³Ý Ù³ëÇÝ ÙÇçÝáñ¹áõÃÛáõÝÝ»ñ | T13: =D13+E13 -> 0 | U13: =F13+K13+L13 -> 0 | V13: =K13 -> 0 | W13: =G13+H13+I13+J13 -> 0
A14: 8 | B14: Ñ»é³Ëáu³ÛÇÝ Ï³Ù Ï³åÇ ³ÛÉ ÙÇçáóÝ»ñáí ï³ñíáÕ Ëáu³ÏóáõÃÛáõÝÝ»ñÇ ÉuÙ³Ý ¨ Ó³ÛÝ³·ñ³éÙ³Ý Ù³ëÇÝ ÙÇçÝáñ¹áõÃÛáõÝÝ»ñ | T14: =D14+E14 -> 0 | U14: =F14+K14+L14 -> 0 | V14: =K14 -> 0 | W14: =G14+H14+I14+J14 -> 0
A15: 9 | B15: Ñ»é³ËáëÝ»ñÇ Ùáõïù³ÛÇÝ ¨ »Éù³ÛÇÝ í»ñÍ³ÝÙ³Ý ÃáõÛÉïíáõÃÛáõÝ ëï³Ý³Éáõ Ù³ëÇÝ ÙÇçÝáñ¹áõÃÛáõÝÝ»ñ | T15: =D15+E15 -> 0 | U15: =F15+K15+L15 -> 0 | V15: =K15 -> 0 | W15: =G15+H15+I15+J15 -> 0
A16: 10 | B16: Ñ»ï³ùÝÝáõÃÛ³Ý Ù³ñÙÝÇ ³ßË³ïáÕÇ, ùÝÝÇãÇ, ¹³ï³Ë³½Ç oå»ñ³ïÇí-Ñ»ï³Ëáõ½³Ï³Ý ·áñÍáÕáõÃÛáõÝÝ»ñ Çñ³Ï³Ý³óÝáÕ Ù³ñÙÇÝÝ»ñÇ ³ÝoñÇÝ³Ï³Ý ¨ ³ÝÑÇÙÝ áñáßáõÙÝ»ñÇ ¨ ·áñÍáÕáõÃÛáõÝÝ»ñÇ ¹»Ù µáÕáùÝ»ñ | T16: =D16+E16 -> 0 | U16: =F16+K16+L16 -> 0 | V16: =K16 -> 0 | W16: =G16+H16+I16+J16 -> 0
A17: 11 | B17: ²½³ïáõÃÛáõÝÇó ½ñÏ»Éáõ Çñ³í³ã³÷áõÃÛ³Ý í»ñ³µ»ñÛ³É µáÕáùÝ»ñáí ·áñÍ»ñ | T17: =D17+E17 -> 0 | U17: =F17+K17+L17 -> 0 | V17: =K17 -> 0 | W17: =G17+H17+I17+J17 -> 0
A18: 2. ¸³ï³Ï³Ý ³Ïï»ñÇ ¨ ¹³ï³Ï³Ý Ñ³ÝÓÝ³ñ³ñáõÃÛáõÝÝ»ñÇ Ï³ï³ñÙ³Ý Ñ»ï Ï³åí³Í Ñ³ñó»ñÇ ÉáõÍÙ³Ý áÉáñï
A19: 1 | B19: å³ïÅÇó å³ÛÙ³Ý³Ï³Ý í³Õ³Å³ÙÏ»ï ³½³ï»Éáõ Ù³ëÇÝ ÙÇçÝáñ¹áõÃÛáõÝÝ»ñ | T19: =D19+E19 -> 0 | U19: =F19+K19+L19 -> 0 | V19: =K19 -> 0 | W19: =G19+H19+I19+J19 -> 0
A20: 2 | B20: å³ïÇÅÁ ÷á÷áË»Éáõ, Ñ»ï³Ó·»Éáõ ¨ å³ïÅÇó ³½³ï»Éáõ Ù³uÇÝ ÙÇçÝáñ¹áõÃÛáõÝÝ»ñ | T20: =D20+E20 -> 0 | U20: =F20+K20+L20 -> 0 | V20: =K20 -> 0 | W20: =G20+H20+I20+J20 -> 0
A21: 3 | B21: Ñ³ñÏ³¹Çñ µáõÅÙ³Ý ï»ë³ÏÇ ÷á÷áËáõÃÛ³Ý Ù³ëÇÝ ÙÇçÝáñ¹áõÃÛáõÝÝ»ñ | T21: =D21+E21 -> 0 | U21: =F21+K21+L21 -> 0 | V21: =K21 -> 0 | W21: =G21+H21+I21+J21 -> 0
A22: 4 | B22: ³ÛÉ ÙÇçÝáñ¹áõÃÛáõÝÝ»ñ | T22: =D22+E22 -> 0 | U22: =F22+K22+L22 -> 0 | V22: =K22 -> 0 | W22: =G22+H22+I22+J22 -> 0
A23: 5 | B23: ¹³ï³Ï³Ý Ñ³ÝÓÝ³ñ³ñáõÃÛáõÝÝ»ñ | D23: 1 | E23: 2 | F23: 1 | I23: 1 | K23: 1 | L23: 1 | T23: =D23+E23 -> 3 | U23: =F23+K23+L23 -> 3 | V23: =K23 -> 1 | W23: =G23+H23+I23+J23 -> 1
A24: ÀÜ¸²ØºÜÀ | D24: =D7+D8+D9+D10+D11+D12+D13+D14+D15+D17+D19+D20+D21+D22+D23+D16 -> 1 | E24: =E7+E8+E9+E10+E11+E12+E13+E14+E15+E17+E19+E20+E21+E22+E23+E16 -> 2 | F24: =F7+F8+F9+F10+F11+F12+F13+F14+F15+F17+F19+F20+F21+F22+F23+F16 -> 1 | G24: =G7+G8+G9+G10+G11+G12+G13+G14+G15+G17+G19+G20+G21+G22+G23+G16 -> 0 | H24: =H7+H8+H9+H10+H11+H12+H13+H14+H15+H17+H19+H20+H21+H22+H23+H16 -> 0 | I24: =I7+I8+I9+I10+I11+I12+I13+I14+I15+I17+I19+I20+I21+I22+I23+I16 -> 1 | J24: =J7+J8+J9+J10+J11+J12+J13+J14+J15+J17+J19+J20+J21+J22+J23+J16 -> 0 | K24: =K7+K8+K9+K10+K11+K12+K13+K14+K15+K17+K19+K20+K21+K22+K23+K16 -> 1 | ... R24: =R7+R8+R9+R10+R11+R12+R13+R14+R15+R17+R19+R20+R21+R22+R23+R16 -> 0 | T24: =D24+E24 -> 3 | U24: =F24+K24+L24 -> 3 | V24: =K24 -> 1 | W24: =G24+H24+I24+J24 -> 1
