Workbook

Sheet Ընդհանուր
A1: 2017թ. | G1: Ð²ÞìºîìàôÂÚàôÜ | AM1: Ð³í»Éí³Í Ð³Û³ëï³ÝÇ Ð³Ýñ³å»ïáõÃÛ³Ý ¸³ï³ñ³ÝÝ»ñÇ Ý³Ë³·³ÑÝ»ñÇ ËáñÑñ¹Ç 29.01.2018Ã. ÃÇí 10-È áñáßÙ³Ý
A2: ºðºì²ÜÆ ²æ²öÜÚ²Î ºì ¸²ìÂ²ÞºÜ ì²ðâ²Î²Ü Þðæ²ÜÜºðÆ ÀÜ¸Ð²Üàôð Æð²ì²êàôÂÚ²Ü ²è²æÆÜ ²îÚ²ÜÆ ¸²î²ð²ÜÆ ¸²î²ìàð | Z2: ¶àðÌàôÜºàôÂÚ²Ü ìºð²´ºðÚ²È
A3: ø²Ô²ø²òÆ²Î²Ü ¶àðÌºðàì
A4: ºñ¨³ÝÇ ²ç³÷ÝÛ³Ï ¨ ¸³íÃ³ß»Ý í³ñã³Ï³Ý ßñç³ÝÝ»ñÇ ÁÝ¹Ñ³Ýáõñ Çñ³í³ëáõÃÛ³Ý ³é³çÇÝ ³ïÛ³ÝÇ ¹³ï³ñ³ÝÇ ù³Õ³ù³óÇ³Ï³Ý Ù³ëÝ³·Çï³óáõÙ áõÝ»óáÕ ¹³ï³íáñÝ»ñÇ Ñ³ëïÇùÝ»ñÇ ù³Ý³ÏÁ` 5
E5: Ð³ßí»ïáõ Å³Ù³Ý³Ï³Ñ³ïí³ÍáõÙ Ý³Ëáñ¹ Ñ³ßí»ïáõ Å³Ù³Ý³Ï³Ñ³ïí³ÍÇó ÷áË³Ýóí³Í ·áñÍ»ñÇ ÁÝ¹Ñ³Ýáõñ ÃÇíÁ | J5: Ð³ßí»ïáõ Å³Ù³Ý³Ï³Ñ³ïí³ÍáõÙëï³óí³Í ·áñÍ»ñÇ (³Û¹ ÃíáõÙ` Ñ³Ûó³¹ÇÙáõÙÝ»ñÇ, ¹ÇÙáõÙÝ»ñÇ) ÁÝ¹Ñ³Ýáõñ ÃÇíÁ | N5: öáË³Ýóí»É ¿ ³ÛÉ ¹³ï³íáñÇ (Ï³½ÙÇ ÷á÷áËáõÃÛáõÝ) | O5: Ð³ßí»ïáõ Å³Ù³Ý³Ï³Ñ³ïí³ÍáõÙ ³í³ñïí³Í ·áñÍ»ñÇ ÁÝ¹Ñ³Ýáõñ ÃÇíÁ | Z5: ¶áñÍÝ áõÕ³ñÏí»É ¿ Áëï ÁÝ¹¹³ïáõÃÛ³Ý | AA5: Ð³ßí»ïáõ Å³Ù³Ý³Ï³Ñ³ïí³ÍáõÙ Ï³ë»óí³Í í³ñáõÛÃÝ»ñáí ·áñÍ»ñÇ ÁÝ¹Ñ³Ýáõñ ÃÇíÁ | AB5: Ð³ßí»ïáõ Å³Ù³Ý³Ï³Ñ³ïí³ÍáõÙ ³Ý³í³ñï ·áñÍ»ñÇ ÁÝ¹Ñ³Ýáõñ ÃÇíÁ | AC5: ²Û¹ ÃíáõÙª Ï³ë»óí³Í | AD5: ´áÕáù³ñÏí³Í ¹³ï³Ï³Ý ³Ïï»ñÁ | AI5: ²í³ñïí³Í ¹³ï³Ï³Ý ·áñÍ»ñÇ µáÕáù³ñÏÙ³Ý ïáÏáëÁ (Ñ³ßí»ïáõ Å³Ù³Ý³Ï³ßñç³ÝáõÙ) | AJ5: ²Ý³í³ñï µáÕáùÝ»ñ | AK5: ´»Ï³Ýí³Í ¹³ï³Ï³Ý ³Ïï»ñÁ | AP5: µ»Ï³ÝáõÙÝ»ñÇ ïáÏáëÁ ³í³ñïí³Í ·áñÍ»ñÇó(Ñ³ßí»ïáõ Å³Ù³Ý³Ï³ßñç³ÝáõÙ) | AQ5: Î³ÛáõÝáõÃÛ³Ý ïáÏáëÁ ³í³ñïí³Í ·áñÍ»ñÇó(Ñ³ßí»ïáõ Å³Ù³Ý³Ï³ßñç³ÝáõÙ) | AR5: µ»Ï³ÝáõÙÝ»ñÇ ïáÏáëÁ µáÕáù³ñÏí³Í ·áñÍ»ñÇó(Ñ³ßí»ïáõ Å³Ù³Ý³Ï³ßñç³ÝáõÙ) | AS5: Ï³ÛáõÝáõÃÛ³Ý ïáÏáëÁ(Ñ³ßí»ïáõ Å³Ù³Ý³Ï³ßñç³ÝáõÙ)
E6: ÀÝ¹³Ù»ÝÁ | F6: ²Û¹ ÃíáõÙ`Ï³ë»óí³Í íÇ×³ÏáõÙ ÷áË³Ýóí³Í | G6: ²Û¹ ÃíáõÙª ÁÝ¹áõÝí»É ¿ í³ñáõÛÃ | H6: ²Û¹ ÃíáõÙª í»ñ³¹³ñÓí»É ¿ | I6: ²Û¹ ÃíáõÙª ÁÝ¹áõÝáõÙÁ Ù»ñÅí»É ¿ | J6: ÀÝ¹³Ù»ÝÁ | K6: ²Û¹ ÃíáõÙª ÁÝ¹áõÝí»É ¿ í³ñáõÛÃ | L6: ²Û¹ ÃíáõÙª í»ñ³¹³ñÓí»É ¿ | M6: ²Û¹ ÃíáõÙª ÁÝ¹áõÝáõÙÁ Ù»ñÅí»É ¿ | O6: ÀÝ¹³Ù»ÝÁ ³í³ñïí»É »Ý ·áñÍ»ñ ·áñÍÝ Áëï ¿áõÃÛ³Ý ÉáõÍáÕ ¹³ï³Ï³Ý ³Ïï»ñÇ (í×ÇéÝ»ñÇ) Ï³Û³óÙ³Ùµ | P6: ²Û¹ ÃíáõÙª Ñ³ÛóÇ µ³í³ñ³ñÙ³Ùµ | Q6: ²Û¹ ÃíáõÙª Ñ³ÛóÇ Ù³ëÝ³ÏÇ µ³í³ñ³ñÙ³Ùµ | R6: ²Û¹ ÃíáõÙª Ñ³ÛóÇ Ù»ñÅÙ³Ùµ | S6: Ø³ëáí Ï³ñ×í»É ¿É, Ù³ëáí Ù»ñÅí»É | T6: ²Û¹ ÃíáõÙª Ï³ñ×í»É »Ý | X6: Ð³ÛóÁ ÃáÕÝí»É ¿ ³é³Ýó ùÝÝáõÃÛ³Ý | Y6: ÀÝ¹³Ù»ÝÝ ³í³ñïí»É »Ý ·áñÍ»ñ | AD6: ²Û¹ ÃíáõÙ` ·áñÍÝ Áëï ¿áõÃÛ³Ý ÉáõÍáÕ ¹³ï³Ï³Ý ³Ïï»ñÁ | AE6: ²Û¹ ÃíáõÙ` ÙÇç³ÝÏÛ³É ¹³ï³Ï³Ý ³Ïï»ñÁ | AF6: ÀÝ¹³Ù»ÝÁ | AG6: Ü³Ëáñ¹ ï³ñÇÝ»ñÇÝ Ï³Û³óí³Í ³Ïï»ñÇ µáÕáù³ñÏáõÙÁ Ñ³ßí»ïáõ Å³Ù³Ý³Ï³ßñç³ÝáõÙ | AH6: Ð³ßí»ïáõ Å³Ù³Ý³Ï³ßñç³ÝáõÙ Ï³Û³óí³Í ³Ïï»ñÇ µáÕáù³ñÏáõÙÁ | AK6: ²Û¹ ÃíáõÙ` ·áñÍÝ Áëï ¿áõÃÛ³Ý ÉáõÍáÕ ¹³ï³Ï³Ý ³Ïï»ñÁ | AL6: ²Û¹ ÃíáõÙ` ÙÇç³ÝÏÛ³É ¹³ï³Ï³Ý ³Ïï»ñÁ | AM6: ÀÝ¹³Ù»ÝÁ | AN6: Ü³Ëáñ¹ ï³ñÇÝ»ñÇÝ Ï³Û³óí³Í ³Ïï»ñÇ µ»Ï³ÝáõÙÝ»ñÁ Ñ³ßí»ïáõ Å³Ù³Ý³Ï³ßñç³ÝáõÙ | AO6: Ð³ßí»ïáõ Å³Ù³Ý³Ï³ßñç³ÝáõÙ Ï³Û³óí³Í ³Ïï»ñÇ µ»Ï³ÝáõÙÁ
T7: ÀÝ¹³Ù»ÝÁ Ï³ñ×í»É »Ý | U7: ²Û¹ ÃíáõÙª Ñ³ëï³ïí»É ¿ ÏÝùí³Í Ñ³ßïáõÃÛ³Ý Ñ³Ù³Ó³ÛÝáõÃÛáõÝÁ | V7: ²Û¹ ÃíáõÙª Ñ³óÇó, ¹ÇÙáõÙÇó Ññ³Å³ñí»Éáõ ÑÇÙùáí | W7: ²Û¹ ÃíáõÙª ³ÛÉ ÑÇÙùáí
E8: 1 | F8: 2 | G8: 3 | H8: 4 | I8: 5 | J8: 6 | K8: 7 | L8: 8 | M8: 9 | N8: 10 | O8: 11 | P8: 12 | Q8: 13 | R8: 14 | S8: 15 | T8: 16 | U8: 17 | V8: 18 | W8: 19 | X8: 20 | Y8: 21 | Z8: 22 | AA8: 23 | AB8: 24 | AC8: 25 | AD8: 26 | AE8: 27 | AF8: 28 | AG8: 29 | AH8: 30 | AI8: 31 | AJ8: 32 | AK8: 33 | AL8: 34 | AM8: 35 | AN8: 36 | AO8: 37 | AP8: 38 | AQ8: 39 | AR8: 40 | AS8: 41
A9: 1. | B9: ¶áõÛù³ÛÇÝ Çñ³í³Ñ³ñ³µ»ñáõÃÛáõÝÝ»ñÇ í»ñ³µ»ñÛ³É ¹³ï³Ï³Ý ·áñÍ»ñ | E9: =SUM(E10:E28) -> 319 | F9: =SUM(F10:F28) -> 96 | G9: =SUM(G10:G28) -> 223 | H9: =SUM(H10:H28) -> 0 | I9: =SUM(I10:I28) -> 0 | J9: =SUM(J10:J28) -> 182 | K9: =SUM(K10:K28) -> 154 | L9: =SUM(L10:L28) -> 27 | ... AS9: =SUM(AS10:AS28) -> 0
A10: 1.1 | B10: ¶áõÛùÇ ÝÏ³ïÙ³Ùµ ë»÷³Ï³ÝáõÃÛ³Ý Çñ³íáõÝùÁ ×³Ý³ã»Éáõ í»ñ³µ»ñÛ³É | E10: =SUM('Գ. Թորոսյանի:Ն. Ավետիսյան'!E10) -> 29 | F10: =SUM('Գ. Թորոսյանի:Ն. Ավետիսյան'!F10) -> 6 | G10: =SUM('Գ. Թորոսյանի:Ն. Ավետիսյան'!G10) -> 23 | H10: =SUM('Գ. Թորոսյանի:Ն. Ավետիսյան'!H10) -> 0 | I10: =SUM('Գ. Թորոսյանի:Ն. Ավետիսյան'!I10) -> 0 | J10: =SUM('Գ. Թորոսյանի:Ն. Ավետիսյան'!J10) -> 23 | K10: =SUM('Գ. Թորոսյանի:Ն. Ավետիսյան'!K10) -> 20 | L10: =SUM('Գ. Թորոսյանի:Ն. Ավետիսյան'!L10) -> 3 | ... AS10: =SUM('Գ. Թորոսյանի:Ն. Ավետիսյան'!AS10) -> 0
A11: 1.1.1 | B11: ²Û¹ ÃíáõÙª Ó»éùµ»ñÙ³Ý í³Õ»ÙáõÃÛ³Ý áõÅáí | E11: =SUM('Գ. Թորոսյանի:Ն. Ավետիսյան'!E11) -> 23 | F11: =SUM('Գ. Թորոսյանի:Ն. Ավետիսյան'!F11) -> 3 | G11: =SUM('Գ. Թորոսյանի:Ն. Ավետիսյան'!G11) -> 20 | H11: =SUM('Գ. Թորոսյանի:Ն. Ավետիսյան'!H11) -> 0 | I11: =SUM('Գ. Թորոսյանի:Ն. Ավետիսյան'!I11) -> 0 | J11: =SUM('Գ. Թորոսյանի:Ն. Ավետիսյան'!J11) -> 10 | K11: =SUM('Գ. Թորոսյանի:Ն. Ավետիսյան'!K11) -> 9 | L11: =SUM('Գ. Թորոսյանի:Ն. Ավետիսյան'!L11) -> 0 | ... AS11: =SUM('Գ. Թորոսյանի:Ն. Ավետիսյան'!AS11) -> 0
A12: 1.1.2 | B12: ²Û¹ ÃíáõÙª ïÇñ³½áõñÏ ·áõÛùÇ ÝÏ³ïÙ³Ùµ | E12: =SUM('Գ. Թորոսյանի:Ն. Ավետիսյան'!E12) -> 0 | F12: =SUM('Գ. Թորոսյանի:Ն. Ավետիսյան'!F12) -> 0 | G12: =SUM('Գ. Թորոսյանի:Ն. Ավետիսյան'!G12) -> 0 | H12: =SUM('Գ. Թորոսյանի:Ն. Ավետիսյան'!H12) -> 0 | I12: =SUM('Գ. Թորոսյանի:Ն. Ավետիսյան'!I12) -> 0 | J12: =SUM('Գ. Թորոսյանի:Ն. Ավետիսյան'!J12) -> 0 | K12: =SUM('Գ. Թորոսյանի:Ն. Ավետիսյան'!K12) -> 0 | L12: =SUM('Գ. Թորոսյանի:Ն. Ավետիսյան'!L12) -> 0 | ... AS12: =SUM('Գ. Թորոսյանի:Ն. Ավետիսյան'!AS12) -> 0
A13: 1.1.3 | B13: ²Û¹ ÃíáõÙª ÇÝùÝ³Ï³Ù Ï³éáõÛóÇ ÝÏ³ïÙ³Ùµ | E13: =SUM('Գ. Թորոսյանի:Ն. Ավետիսյան'!E13) -> 0 | F13: =SUM('Գ. Թորոսյանի:Ն. Ավետիսյան'!F13) -> 0 | G13: =SUM('Գ. Թորոսյանի:Ն. Ավետիսյան'!G13) -> 0 | H13: =SUM('Գ. Թորոսյանի:Ն. Ավետիսյան'!H13) -> 0 | I13: =SUM('Գ. Թորոսյանի:Ն. Ավետիսյան'!I13) -> 0 | J13: =SUM('Գ. Թորոսյանի:Ն. Ավետիսյան'!J13) -> 0 | K13: =SUM('Գ. Թորոսյանի:Ն. Ավետիսյան'!K13) -> 0 | L13: =SUM('Գ. Թորոսյանի:Ն. Ավետիսյան'!L13) -> 0 | ... AS13: =SUM('Գ. Թորոսյանի:Ն. Ավետիսյան'!AS13) -> 0
A14: 1.2 | B14: ê»÷³Ï³ÝáõÃÛ³Ý Çñ³íáõÝùÇ ¹³¹³ñ»óÙ³Ý í»ñ³µ»ñÛ³É | E14: =SUM('Գ. Թորոսյանի:Ն. Ավետիսյան'!E14) -> 6 | F14: =SUM('Գ. Թորոսյանի:Ն. Ավետիսյան'!F14) -> 0 | G14: =SUM('Գ. Թորոսյանի:Ն. Ավետիսյան'!G14) -> 6 | H14: =SUM('Գ. Թորոսյանի:Ն. Ավետիսյան'!H14) -> 0 | I14: =SUM('Գ. Թորոսյանի:Ն. Ավետիսյան'!I14) -> 0 | J14: =SUM('Գ. Թորոսյանի:Ն. Ավետիսյան'!J14) -> 8 | K14: =SUM('Գ. Թորոսյանի:Ն. Ավետիսյան'!K14) -> 5 | L14: =SUM('Գ. Թորոսյանի:Ն. Ավետիսյան'!L14) -> 3 | ... AS14: =SUM('Գ. Թորոսյանի:Ն. Ավետիսյան'!AS14) -> 0
A15: 1.3 | B15: ¶áõÛùÇ ÝÏ³ïÙ³Ùµ û·ï³·áñÍÙ³Ý Çñ³íáõÝùÁ ×³Ý³ã»Éáõ í»ñ³µ»ñÛ³É | E15: =SUM('Գ. Թորոսյանի:Ն. Ավետիսյան'!E15) -> 0 | F15: =SUM('Գ. Թորոսյանի:Ն. Ավետիսյան'!F15) -> 0 | G15: =SUM('Գ. Թորոսյանի:Ն. Ավետիսյան'!G15) -> 0 | H15: =SUM('Գ. Թորոսյանի:Ն. Ավետիսյան'!H15) -> 0 | I15: =SUM('Գ. Թորոսյանի:Ն. Ավետիսյան'!I15) -> 0 | J15: =SUM('Գ. Թորոսյանի:Ն. Ավետիսյան'!J15) -> 0 | K15: =SUM('Գ. Թորոսյանի:Ն. Ավետիսյան'!K15) -> 0 | L15: =SUM('Գ. Թորոսյանի:Ն. Ավետիսյան'!L15) -> 0 | ... AS15: =SUM('Գ. Թորոսյանի:Ն. Ավետիսյան'!AS15) -> 0
A16: 1.3.1 | B16: ²Û¹ ÃíáõÙª µÝ³Ïû·ï³·áñÍÙ³Ý Çñ³íáõÝùÁ ×³Ý³ã»Éáõ í»ñ³µ»ñÛ³É | E16: =SUM('Գ. Թորոսյանի:Ն. Ավետիսյան'!E16) -> 0 | F16: =SUM('Գ. Թորոսյանի:Ն. Ավետիսյան'!F16) -> 0 | G16: =SUM('Գ. Թորոսյանի:Ն. Ավետիսյան'!G16) -> 0 | H16: =SUM('Գ. Թորոսյանի:Ն. Ավետիսյան'!H16) -> 0 | I16: =SUM('Գ. Թորոսյանի:Ն. Ավետիսյան'!I16) -> 0 | J16: =SUM('Գ. Թորոսյանի:Ն. Ավետիսյան'!J16) -> 0 | K16: =SUM('Գ. Թորոսյանի:Ն. Ավետիսյան'!K16) -> 0 | L16: =SUM('Գ. Թորոսյանի:Ն. Ավետիսյան'!L16) -> 0 | ... AS16: =SUM('Գ. Թորոսյանի:Ն. Ավետիսյան'!AS16) -> 0
A17: 1.3.2 | B17: ²Û¹ ÃíáõÙª ÑáÕ³Ù³ëÇ ÝÏ³ïÙ³Ùµ û·ï³·áñÍÙ³Ý Çñ³íáõÝùÁ ×³Ý³ã»Éáõ í»ñ³µ»ñÛ³É | E17: =SUM('Գ. Թորոսյանի:Ն. Ավետիսյան'!E17) -> 1 | F17: =SUM('Գ. Թորոսյանի:Ն. Ավետիսյան'!F17) -> 0 | G17: =SUM('Գ. Թորոսյանի:Ն. Ավետիսյան'!G17) -> 1 | H17: =SUM('Գ. Թորոսյանի:Ն. Ավետիսյան'!H17) -> 0 | I17: =SUM('Գ. Թորոսյանի:Ն. Ավետիսյան'!I17) -> 0 | J17: =SUM('Գ. Թորոսյանի:Ն. Ավետիսյան'!J17) -> 0 | K17: =SUM('Գ. Թորոսյանի:Ն. Ավետիսյան'!K17) -> 0 | L17: =SUM('Գ. Թորոսյանի:Ն. Ավետիսյան'!L17) -> 0 | ... AS17: =SUM('Գ. Թորոսյանի:Ն. Ավետիսյան'!AS17) -> 0
A18: 1.4 | B18: ¶áõÛùÇ ÝÏ³ïÙ³Ùµ û·ï³·áñÍÙ³Ý Çñ³íáõÝùÁ ¹³¹³ñ»óÝ»Éáõ í»ñ³µ»ñÛ³É | E18: =SUM('Գ. Թորոսյանի:Ն. Ավետիսյան'!E18) -> 0 | F18: =SUM('Գ. Թորոսյանի:Ն. Ավետիսյան'!F18) -> 0 | G18: =SUM('Գ. Թորոսյանի:Ն. Ավետիսյան'!G18) -> 0 | H18: =SUM('Գ. Թորոսյանի:Ն. Ավետիսյան'!H18) -> 0 | I18: =SUM('Գ. Թորոսյանի:Ն. Ավետիսյան'!I18) -> 0 | J18: =SUM('Գ. Թորոսյանի:Ն. Ավետիսյան'!J18) -> 0 | K18: =SUM('Գ. Թորոսյանի:Ն. Ավետիսյան'!K18) -> 0 | L18: =SUM('Գ. Թորոսյանի:Ն. Ավետիսյան'!L18) -> 0 | ... AS18: =SUM('Գ. Թորոսյանի:Ն. Ավետիսյան'!AS18) -> 0
A19: 1.4.1 | B19: ²Û¹ ÃíáõÙª µÝ³Ïû·ï³·áñÍÙ³Ý Çñ³íáõÝùÁ ¹³¹³ñ»óÝ»Éáõ í»ñ³µ»ñÛ³É | E19: =SUM('Գ. Թորոսյանի:Ն. Ավետիսյան'!E19) -> 4 | F19: =SUM('Գ. Թորոսյանի:Ն. Ավետիսյան'!F19) -> 2 | G19: =SUM('Գ. Թորոսյանի:Ն. Ավետիսյան'!G19) -> 2 | H19: =SUM('Գ. Թորոսյանի:Ն. Ավետիսյան'!H19) -> 0 | I19: =SUM('Գ. Թորոսյանի:Ն. Ավետիսյան'!I19) -> 0 | J19: =SUM('Գ. Թորոսյանի:Ն. Ավետիսյան'!J19) -> 0 | K19: =SUM('Գ. Թորոսյանի:Ն. Ավետիսյան'!K19) -> 0 | L19: =SUM('Գ. Թորոսյանի:Ն. Ավետիսյան'!L19) -> 0 | ... AS19: =SUM('Գ. Թորոսյանի:Ն. Ավետիսյան'!AS19) -> 0
A20: 1.4.1/1 | B20: ²Û¹ ÃíáõÙª ÷áËÑ³ïáõóÙ³Ùµ | E20: =SUM('Գ. Թորոսյանի:Ն. Ավետիսյան'!E20) -> 3 | F20: =SUM('Գ. Թորոսյանի:Ն. Ավետիսյան'!F20) -> 1 | G20: =SUM('Գ. Թորոսյանի:Ն. Ավետիսյան'!G20) -> 2 | H20: =SUM('Գ. Թորոսյանի:Ն. Ավետիսյան'!H20) -> 0 | I20: =SUM('Գ. Թորոսյանի:Ն. Ավետիսյան'!I20) -> 0 | J20: =SUM('Գ. Թորոսյանի:Ն. Ավետիսյան'!J20) -> 0 | K20: =SUM('Գ. Թորոսյանի:Ն. Ավետիսյան'!K20) -> 0 | L20: =SUM('Գ. Թորոսյանի:Ն. Ավետիսյան'!L20) -> 0 | ... AS20: =SUM('Գ. Թորոսյանի:Ն. Ավետիսյան'!AS20) -> 0
A21: 1.5 | B21: ´Ý³Ï³ñ³ÝÇó/ ï³ñ³ÍùÇó/ íï³ñ»Éáõ í»ñ³µ»ñÛ³É | E21: =SUM('Գ. Թորոսյանի:Ն. Ավետիսյան'!E21) -> 27 | F21: =SUM('Գ. Թորոսյանի:Ն. Ավետիսյան'!F21) -> 11 | G21: =SUM('Գ. Թորոսյանի:Ն. Ավետիսյան'!G21) -> 16 | H21: =SUM('Գ. Թորոսյանի:Ն. Ավետիսյան'!H21) -> 0 | I21: =SUM('Գ. Թորոսյանի:Ն. Ավետիսյան'!I21) -> 0 | J21: =SUM('Գ. Թորոսյանի:Ն. Ավետիսյան'!J21) -> 10 | K21: =SUM('Գ. Թորոսյանի:Ն. Ավետիսյան'!K21) -> 9 | L21: =SUM('Գ. Թորոսյանի:Ն. Ավետիսյան'!L21) -> 1 | ... AS21: =SUM('Գ. Թորոսյանի:Ն. Ավետիսյան'!AS21) -> 0
A22: 1.6 | B22: ¶áõÛùÝ áõñÇßÇ ³åûñÇÝÇ ïÇñ³å»ïáõÙÇó »ï í»ñ³¹³ñÓÝ»Éáõ í»ñ³µ»ñÛ³É | E22: =SUM('Գ. Թորոսյանի:Ն. Ավետիսյան'!E22) -> 19 | F22: =SUM('Գ. Թորոսյանի:Ն. Ավետիսյան'!F22) -> 6 | G22: =SUM('Գ. Թորոսյանի:Ն. Ավետիսյան'!G22) -> 13 | H22: =SUM('Գ. Թորոսյանի:Ն. Ավետիսյան'!H22) -> 0 | I22: =SUM('Գ. Թորոսյանի:Ն. Ավետիսյան'!I22) -> 0 | J22: =SUM('Գ. Թորոսյանի:Ն. Ավետիսյան'!J22) -> 11 | K22: =SUM('Գ. Թորոսյանի:Ն. Ավետիսյան'!K22) -> 9 | L22: =SUM('Գ. Թորոսյանի:Ն. Ավետիսյան'!L22) -> 2 | ... AS22: =SUM('Գ. Թորոսյանի:Ն. Ավետիսյան'!AS22) -> 0
A23: 1.6.1 | B23: ´³ñ»ËÇÕ× Ó»éùµ»ñáÕÇó Çñ ·áõÛùÁ Ñ»ï å³Ñ³Ýç»Éáõ í»ñ³µ»ñÛ³É | E23: =SUM('Գ. Թորոսյանի:Ն. Ավետիսյան'!E23) -> 0 | F23: =SUM('Գ. Թորոսյանի:Ն. Ավետիսյան'!F23) -> 0 | G23: =SUM('Գ. Թորոսյանի:Ն. Ավետիսյան'!G23) -> 0 | H23: =SUM('Գ. Թորոսյանի:Ն. Ավետիսյան'!H23) -> 0 | I23: =SUM('Գ. Թորոսյանի:Ն. Ավետիսյան'!I23) -> 0 | J23: =SUM('Գ. Թորոսյանի:Ն. Ավետիսյան'!J23) -> 0 | K23: =SUM('Գ. Թորոսյանի:Ն. Ավետիսյան'!K23) -> 0 | L23: =SUM('Գ. Թորոսյանի:Ն. Ավետիսյան'!L23) -> 0 | ... AS23: =SUM('Գ. Թորոսյանի:Ն. Ավետիսյան'!AS23) -> 0
A24: 1.7 | B24: îÇñ³å»ïáõÙÇó ½ñÏ»Éáõ Ñ»ï ãÏ³åí³Í Çñ³íáõÝùÝ»ñÇ Ë³ËïáõÙÁ í»ñ³óÝ»Éáõ í»ñ³µ»ñÛ³É | E24: =SUM('Գ. Թորոսյանի:Ն. Ավետիսյան'!E24) -> 15 | F24: =SUM('Գ. Թորոսյանի:Ն. Ավետիսյան'!F24) -> 4 | G24: =SUM('Գ. Թորոսյանի:Ն. Ավետիսյան'!G24) -> 11 | H24: =SUM('Գ. Թորոսյանի:Ն. Ավետիսյան'!H24) -> 0 | I24: =SUM('Գ. Թորոսյանի:Ն. Ավետիսյան'!I24) -> 0 | J24: =SUM('Գ. Թորոսյանի:Ն. Ավետիսյան'!J24) -> 4 | K24: =SUM('Գ. Թորոսյանի:Ն. Ավետիսյան'!K24) -> 3 | L24: =SUM('Գ. Թորոսյանի:Ն. Ավետիսյան'!L24) -> 1 | ... AS24: =SUM('Գ. Թորոսյանի:Ն. Ավետիսյան'!AS24) -> 0
A25: 1.8 | B25: ÀÝ¹Ñ³Ýáõñ µ³ÅÝ³ÛÇÝ ë»÷³Ï³ÝáõÃÛáõÝÇó µ³ÅÇÝÝ ³é³ÝÓÝ³óÝ»Éáõ í»ñ³µ»ñÛ³É | E25: =SUM('Գ. Թորոսյանի:Ն. Ավետիսյան'!E25) -> 51 | F25: =SUM('Գ. Թորոսյանի:Ն. Ավետիսյան'!F25) -> 21 | G25: =SUM('Գ. Թորոսյանի:Ն. Ավետիսյան'!G25) -> 30 | H25: =SUM('Գ. Թորոսյանի:Ն. Ավետիսյան'!H25) -> 0 | I25: =SUM('Գ. Թորոսյանի:Ն. Ավետիսյան'!I25) -> 0 | J25: =SUM('Գ. Թորոսյանի:Ն. Ավետիսյան'!J25) -> 33 | K25: =SUM('Գ. Թորոսյանի:Ն. Ավետիսյան'!K25) -> 27 | L25: =SUM('Գ. Թորոսյանի:Ն. Ավետիսյան'!L25) -> 6 | ... AS25: =SUM('Գ. Թորոսյանի:Ն. Ավետիսյան'!AS25) -> 0
A26: 1.8.1 | B26: Ð³Ù³ï»Õ ë»÷³Ï³ÝáõÃÛ³Ý Ý»ñùá ·ïÝíáÕ ·áõÛùÁ µ³Å³Ý»Éáõ ¨ ¹ñ³ÝÇó µ³ÅÇÝÝ ³é³ÝÓÝ³óÝ»Éáõ í»ñ³µ»ñÛ³É | E26: =SUM('Գ. Թորոսյանի:Ն. Ավետիսյան'!E26) -> 94 | F26: =SUM('Գ. Թորոսյանի:Ն. Ավետիսյան'!F26) -> 31 | G26: =SUM('Գ. Թորոսյանի:Ն. Ավետիսյան'!G26) -> 63 | H26: =SUM('Գ. Թորոսյանի:Ն. Ավետիսյան'!H26) -> 0 | I26: =SUM('Գ. Թորոսյանի:Ն. Ավետիսյան'!I26) -> 0 | J26: =SUM('Գ. Թորոսյանի:Ն. Ավետիսյան'!J26) -> 39 | K26: =SUM('Գ. Թորոսյանի:Ն. Ավետիսյան'!K26) -> 34 | L26: =SUM('Գ. Թորոսյանի:Ն. Ավետիսյան'!L26) -> 5 | ... AS26: =SUM('Գ. Թորոսյանի:Ն. Ավետիսյան'!AS26) -> 0
... A28: 1.9 | B28: ²ÛÉ í»×»ñ | E28: =SUM('Գ. Թորոսյանի:Ն. Ավետիսյան'!E28) -> 40 | F28: =SUM('Գ. Թորոսյանի:Ն. Ավետիսյան'!F28) -> 8 | G28: =SUM('Գ. Թորոսյանի:Ն. Ավետիսյան'!G28) -> 32 | H28: =SUM('Գ. Թորոսյանի:Ն. Ավետիսյան'!H28) -> 0 | I28: =SUM('Գ. Թորոսյանի:Ն. Ավետիսյան'!I28) -> 0 | J28: =SUM('Գ. Թորոսյանի:Ն. Ավետիսյան'!J28) -> 40 | K28: =SUM('Գ. Թորոսյանի:Ն. Ավետիսյան'!K28) -> 34 | L28: =SUM('Գ. Թորոսյանի:Ն. Ավետիսյան'!L28) -> 6 | ... AS28: =SUM('Գ. Թորոսյանի:Ն. Ավետիսյան'!AS28) -> 0
A29: 2. | B29: ¶áñÍ³ñùÝ»ñÇ Ñ»ï Ï³åí³Í Çñ³í³Ñ³ñ³µ»ñáõÃÛáõÝÝ»ñÇ í»ñ³µ»ñÛ³É ¹³ï³Ï³Ý ·áñÍ»ñ | E29: =SUM(E30:E40) -> 129 | F29: =SUM(F30:F40) -> 39 | G29: =SUM(G30:G40) -> 90 | H29: =SUM(H30:H40) -> 0 | I29: =SUM(I30:I40) -> 0 | J29: =SUM(J30:J40) -> 56 | K29: =SUM(K30:K40) -> 43 | L29: =SUM(L30:L40) -> 13 | ... AS29: =SUM(AS30:AS40) -> 0
A30: 2.1 | B30: ·áñÍ³ñùÝ»ñÇ ³Ýí³í»ñáõÃÛ³Ý Ñ»ï Ï³åí³Í í»×»ñ | E30: =SUM('Գ. Թորոսյանի:Ն. Ավետիսյան'!E30) -> 13 | F30: =SUM('Գ. Թորոսյանի:Ն. Ավետիսյան'!F30) -> 2 | G30: =SUM('Գ. Թորոսյանի:Ն. Ավետիսյան'!G30) -> 11 | H30: =SUM('Գ. Թորոսյանի:Ն. Ավետիսյան'!H30) -> 0 | I30: =SUM('Գ. Թորոսյանի:Ն. Ավետիսյան'!I30) -> 0 | J30: =SUM('Գ. Թորոսյանի:Ն. Ավետիսյան'!J30) -> 14 | K30: =SUM('Գ. Թորոսյանի:Ն. Ավետիսյան'!K30) -> 13 | L30: =SUM('Գ. Թորոսյանի:Ն. Ավետիսյան'!L30) -> 1 | ... AS30: =SUM('Գ. Թորոսյանի:Ն. Ավետիսյան'!AS30) -> 0
A31: 2.1.1 | B31: ³Û¹ ÃíáõÙ` íÇ×³Ñ³ñáõÛó ·áñÍ³ñùÝ»ñÝ ³Ýí³í»ñ ×³Ý³ã»Éáõ í»ñ³µ»ñÛ³É | E31: =SUM('Գ. Թորոսյանի:Ն. Ավետիսյան'!E31) -> 0 | F31: =SUM('Գ. Թորոսյանի:Ն. Ավետիսյան'!F31) -> 0 | G31: =SUM('Գ. Թորոսյանի:Ն. Ավետիսյան'!G31) -> 0 | H31: =SUM('Գ. Թորոսյանի:Ն. Ավետիսյան'!H31) -> 0 | I31: =SUM('Գ. Թորոսյանի:Ն. Ավետիսյան'!I31) -> 0 | J31: =SUM('Գ. Թորոսյանի:Ն. Ավետիսյան'!J31) -> 0 | K31: =SUM('Գ. Թորոսյանի:Ն. Ավետիսյան'!K31) -> 0 | L31: =SUM('Գ. Թորոսյանի:Ն. Ավետիսյան'!L31) -> 0 | ... AS31: =SUM('Գ. Թորոսյանի:Ն. Ավետիսյան'!AS31) -> 0
A32: 2.1.2 | B32: ³Û¹ ÃíáõÙ` ·áñÍ³ñùÇ ³éáãÝãáõÃÛ³Ý Ñ»ï¨³ÝùÝ»ñ ÏÇñ³é»Éáõ í»ñ³µ»ñÛ³É | E32: =SUM('Գ. Թորոսյանի:Ն. Ավետիսյան'!E32) -> 4 | F32: =SUM('Գ. Թորոսյանի:Ն. Ավետիսյան'!F32) -> 1 | G32: =SUM('Գ. Թորոսյանի:Ն. Ավետիսյան'!G32) -> 3 | H32: =SUM('Գ. Թորոսյանի:Ն. Ավետիսյան'!H32) -> 0 | I32: =SUM('Գ. Թորոսյանի:Ն. Ավետիսյան'!I32) -> 0 | J32: =SUM('Գ. Թորոսյանի:Ն. Ավետիսյան'!J32) -> 3 | K32: =SUM('Գ. Թորոսյանի:Ն. Ավետիսյան'!K32) -> 3 | L32: =SUM('Գ. Թորոսյանի:Ն. Ավետիսյան'!L32) -> 0 | ... AS32: =SUM('Գ. Թորոսյանի:Ն. Ավետիսյան'!AS32) -> 0
A33: 2.2 | B33: ¶áñÍ³ñùÁ í³í»ñ ×³Ý³ã»Éáõ í»ñ³µ»ñÛ³É | E33: =SUM('Գ. Թորոսյանի:Ն. Ավետիսյան'!E33) -> 5 | F33: =SUM('Գ. Թորոսյանի:Ն. Ավետիսյան'!F33) -> 1 | G33: =SUM('Գ. Թորոսյանի:Ն. Ավետիսյան'!G33) -> 4 | H33: =SUM('Գ. Թորոսյանի:Ն. Ավետիսյան'!H33) -> 0 | I33: =SUM('Գ. Թորոսյանի:Ն. Ավետիսյան'!I33) -> 0 | J33: =SUM('Գ. Թորոսյանի:Ն. Ավետիսյան'!J33) -> 1 | K33: =SUM('Գ. Թորոսյանի:Ն. Ավետիսյան'!K33) -> 1 | L33: =SUM('Գ. Թորոսյանի:Ն. Ավետիսյան'!L33) -> 0 | ... AS33: =SUM('Գ. Թորոսյանի:Ն. Ավետիսյան'!AS33) -> 0
A34: 2.3 | B34: ¶áñÍ³ñùÇó Í³·áÕ Çñ³íáõÝùÝ»ñÁ ·ñ³Ýó»Éáõ í»ñ³µ»ñÛ³É | E34: =SUM('Գ. Թորոսյանի:Ն. Ավետիսյան'!E34) -> 0 | F34: =SUM('Գ. Թորոսյանի:Ն. Ավետիսյան'!F34) -> 0 | G34: =SUM('Գ. Թորոսյանի:Ն. Ավետիսյան'!G34) -> 0 | H34: =SUM('Գ. Թորոսյանի:Ն. Ավետիսյան'!H34) -> 0 | I34: =SUM('Գ. Թորոսյանի:Ն. Ավետիսյան'!I34) -> 0 | J34: =SUM('Գ. Թորոսյանի:Ն. Ավետիսյան'!J34) -> 0 | K34: =SUM('Գ. Թորոսյանի:Ն. Ավետիսյան'!K34) -> 0 | L34: =SUM('Գ. Թորոսյանի:Ն. Ավետիսյան'!L34) -> 0 | ... AS34: =SUM('Գ. Թորոսյանի:Ն. Ավետիսյան'!AS34) -> 0
A35: 2.4 | B35: ä³ÛÙ³Ý³·ÇñÝ ³Ýí³í»ñ ×³Ý³ã»Éáõ í»ñ³µ»ñÛ³É | E35: =SUM('Գ. Թորոսյանի:Ն. Ավետիսյան'!E35) -> 50 | F35: =SUM('Գ. Թորոսյանի:Ն. Ավետիսյան'!F35) -> 13 | G35: =SUM('Գ. Թորոսյանի:Ն. Ավետիսյան'!G35) -> 37 | H35: =SUM('Գ. Թորոսյանի:Ն. Ավետիսյան'!H35) -> 0 | I35: =SUM('Գ. Թորոսյանի:Ն. Ավետիսյան'!I35) -> 0 | J35: =SUM('Գ. Թորոսյանի:Ն. Ավետիսյան'!J35) -> 12 | K35: =SUM('Գ. Թորոսյանի:Ն. Ավետիսյան'!K35) -> 9 | L35: =SUM('Գ. Թորոսյանի:Ն. Ավետիսյան'!L35) -> 3 | ... AS35: =SUM('Գ. Թորոսյանի:Ն. Ավետիսյան'!AS35) -> 0
A36: 2.5 | B36: ä³ÛÙ³Ý³·ñÇÁ í³í»ñ ×³Ý³ã»Éáõ í»ñ³µ»ñÛ³É | E36: =SUM('Գ. Թորոսյանի:Ն. Ավետիսյան'!E36) -> 5 | F36: =SUM('Գ. Թորոսյանի:Ն. Ավետիսյան'!F36) -> 4 | G36: =SUM('Գ. Թորոսյանի:Ն. Ավետիսյան'!G36) -> 1 | H36: =SUM('Գ. Թորոսյանի:Ն. Ավետիսյան'!H36) -> 0 | I36: =SUM('Գ. Թորոսյանի:Ն. Ավետիսյան'!I36) -> 0 | J36: =SUM('Գ. Թորոսյանի:Ն. Ավետիսյան'!J36) -> 3 | K36: =SUM('Գ. Թորոսյանի:Ն. Ավետիսյան'!K36) -> 3 | L36: =SUM('Գ. Թորոսյանի:Ն. Ավետիսյան'!L36) -> 0 | ... AS36: =SUM('Գ. Թորոսյանի:Ն. Ավետիսյան'!AS36) -> 0
A37: 2.6 | B37: ä³ÛÙ³Ý³·ñÇó Í³·áÕ Çñ³íáõÝùÝ»ñÁ ·ñ³Ýó»Éáõ í»ñ³µ»ñÛ³É | E37: =SUM('Գ. Թորոսյանի:Ն. Ավետիսյան'!E37) -> 0 | F37: =SUM('Գ. Թորոսյանի:Ն. Ավետիսյան'!F37) -> 0 | G37: =SUM('Գ. Թորոսյանի:Ն. Ավետիսյան'!G37) -> 0 | H37: =SUM('Գ. Թորոսյանի:Ն. Ավետիսյան'!H37) -> 0 | I37: =SUM('Գ. Թորոսյանի:Ն. Ավետիսյան'!I37) -> 0 | J37: =SUM('Գ. Թորոսյանի:Ն. Ավետիսյան'!J37) -> 0 | K37: =SUM('Գ. Թորոսյանի:Ն. Ավետիսյան'!K37) -> 0 | L37: =SUM('Գ. Թորոսյանի:Ն. Ավետիսյան'!L37) -> 0 | ... AS37: =SUM('Գ. Թորոսյանի:Ն. Ավետիսյան'!AS37) -> 0
A38: 2.7 | B38: ä³ÛÙ³Ý³·ÇñÁ ÷á÷áË»Éáõ ¨ ÉáõÍ»Éáõ í»ñ³µ»ñÛ³É | E38: =SUM('Գ. Թորոսյանի:Ն. Ավետիսյան'!E38) -> 9 | F38: =SUM('Գ. Թորոսյանի:Ն. Ավետիսյան'!F38) -> 0 | G38: =SUM('Գ. Թորոսյանի:Ն. Ավետիսյան'!G38) -> 9 | H38: =SUM('Գ. Թորոսյանի:Ն. Ավետիսյան'!H38) -> 0 | I38: =SUM('Գ. Թորոսյանի:Ն. Ավետիսյան'!I38) -> 0 | J38: =SUM('Գ. Թորոսյանի:Ն. Ավետիսյան'!J38) -> 7 | K38: =SUM('Գ. Թորոսյանի:Ն. Ավետիսյան'!K38) -> 5 | L38: =SUM('Գ. Թորոսյանի:Ն. Ավետիսյան'!L38) -> 2 | ... AS38: =SUM('Գ. Թորոսյանի:Ն. Ավետիսյան'!AS38) -> 0
A39: 2.8 | B39: ä³ÛÙ³Ý³·Çñ ÏÝù»ÉáõÝ å³ñï³íáñ»óÝ»Éáõ í»ñ³µ»ñÛ³É | E39: =SUM('Գ. Թորոսյանի:Ն. Ավետիսյան'!E39) -> 11 | F39: =SUM('Գ. Թորոսյանի:Ն. Ավետիսյան'!F39) -> 6 | G39: =SUM('Գ. Թորոսյանի:Ն. Ավետիսյան'!G39) -> 5 | H39: =SUM('Գ. Թորոսյանի:Ն. Ավետիսյան'!H39) -> 0 | I39: =SUM('Գ. Թորոսյանի:Ն. Ավետիսյան'!I39) -> 0 | J39: =SUM('Գ. Թորոսյանի:Ն. Ավետիսյան'!J39) -> 4 | K39: =SUM('Գ. Թորոսյանի:Ն. Ավետիսյան'!K39) -> 2 | L39: =SUM('Գ. Թորոսյանի:Ն. Ավետիսյան'!L39) -> 2 | ... AS39: =SUM('Գ. Թորոսյանի:Ն. Ավետիսյան'!AS39) -> 0
A40: 2.9 | B40: ²ÛÉ í»×»ñ | E40: =SUM('Գ. Թորոսյանի:Ն. Ավետիսյան'!E40) -> 32 | F40: =SUM('Գ. Թորոսյանի:Ն. Ավետիսյան'!F40) -> 12 | G40: =SUM('Գ. Թորոսյանի:Ն. Ավետիսյան'!G40) -> 20 | H40: =SUM('Գ. Թորոսյանի:Ն. Ավետիսյան'!H40) -> 0 | I40: =SUM('Գ. Թորոսյանի:Ն. Ավետիսյան'!I40) -> 0 | J40: =SUM('Գ. Թորոսյանի:Ն. Ավետիսյան'!J40) -> 12 | K40: =SUM('Գ. Թորոսյանի:Ն. Ավետիսյան'!K40) -> 7 | L40: =SUM('Գ. Թորոսյանի:Ն. Ավետիսյան'!L40) -> 5 | ... AS40: =SUM('Գ. Թորոսյանի:Ն. Ավետիսյան'!AS40) -> 0
A41: 3. | B41: Ä³é³Ý·áõÃÛ³Ý Ñ»ï Ï³åí³Í Çñ³í³Ñ³ñ³µ»ñáõÃÛáõÝÝ»ñÇ í»ñ³µ»ñÛ³É ¹³ï³Ï³Ý ·áñÍ»ñ | E41: =SUM(E42:E48) -> 16 | F41: =SUM(F42:F48) -> 2 | G41: =SUM(G42:G48) -> 14 | H41: =SUM(H42:H48) -> 0 | I41: =SUM(I42:I48) -> 0 | J41: =SUM(J42:J48) -> 11 | K41: =SUM(K42:K48) -> 9 | L41: =SUM(L42:L48) -> 2 | ... AS41: =SUM(AS42:AS48) -> 0
...

Sheet Գ. Թորոսյանի
A1: 2017թ. | G1: Ð²ÞìºîìàôÂÚàôÜ | AM1: Ð³í»Éí³Í Ð³Û³ëï³ÝÇ Ð³Ýñ³å»ïáõÃÛ³Ý ¸³ï³ñ³ÝÝ»ñÇ Ý³Ë³·³ÑÝ»ñÇ ËáñÑñ¹Ç 29.01.2018Ã. ÃÇí 10-È áñáßÙ³Ý
A2: ºðºì²ÜÆ ²æ²öÜÚ²Î ºì ¸²ìÂ²ÞºÜ ì²ðâ²Î²Ü Þðæ²ÜÜºðÆ ÀÜ¸Ð²Üàôð Æð²ì²êàôÂÚ²Ü ²è²æÆÜ ²îÚ²ÜÆ ¸²î²ð²ÜÆ ¸²î²ìàð | Z2: ¶. ÂàðàêÚ²ÜÆ | AH2: ¶àðÌàôÜºàôÂÚ²Ü ìºð²´ºðÚ²È
A3: ø²Ô²ø²òÆ²Î²Ü ¶àðÌºðàì
A4: ºñ¨³ÝÇ ²ç³÷ÝÛ³Ï ¨ ¸³íÃ³ß»Ý í³ñã³Ï³Ý ßñç³ÝÝ»ñÇ ÁÝ¹Ñ³Ýáõñ Çñ³í³ëáõÃÛ³Ý ³é³çÇÝ ³ïÛ³ÝÇ ¹³ï³ñ³ÝÇ ù³Õ³ù³óÇ³Ï³Ý Ù³ëÝ³·Çï³óáõÙ áõÝ»óáÕ ¹³ï³íáñÝ»ñÇ Ñ³ëïÇùÝ»ñÇ ù³Ý³ÏÁ` 5
E5: Ð³ßí»ïáõ Å³Ù³Ý³Ï³Ñ³ïí³ÍáõÙ Ý³Ëáñ¹ Ñ³ßí»ïáõ Å³Ù³Ý³Ï³Ñ³ïí³ÍÇó ÷áË³Ýóí³Í ·áñÍ»ñÇ ÁÝ¹Ñ³Ýáõñ ÃÇíÁ | J5: Ð³ßí»ïáõ Å³Ù³Ý³Ï³Ñ³ïí³ÍáõÙëï³óí³Í ·áñÍ»ñÇ (³Û¹ ÃíáõÙ` Ñ³Ûó³¹ÇÙáõÙÝ»ñÇ, ¹ÇÙáõÙÝ»ñÇ) ÁÝ¹Ñ³Ýáõñ ÃÇíÁ | N5: öáË³Ýóí»É ¿ ³ÛÉ ¹³ï³íáñÇ (Ï³½ÙÇ ÷á÷áËáõÃÛáõÝ) | O5: Ð³ßí»ïáõ Å³Ù³Ý³Ï³Ñ³ïí³ÍáõÙ ³í³ñïí³Í ·áñÍ»ñÇ ÁÝ¹Ñ³Ýáõñ ÃÇíÁ | Z5: ¶áñÍÝ áõÕ³ñÏí»É ¿ Áëï ÁÝ¹¹³ïáõÃÛ³Ý | AA5: Ð³ßí»ïáõ Å³Ù³Ý³Ï³Ñ³ïí³ÍáõÙ Ï³ë»óí³Í í³ñáõÛÃÝ»ñáí ·áñÍ»ñÇ ÁÝ¹Ñ³Ýáõñ ÃÇíÁ | AB5: Ð³ßí»ïáõ Å³Ù³Ý³Ï³Ñ³ïí³ÍáõÙ ³Ý³í³ñï ·áñÍ»ñÇ ÁÝ¹Ñ³Ýáõñ ÃÇíÁ | AC5: ²Û¹ ÃíáõÙª Ï³ë»óí³Í | AD5: ´áÕáù³ñÏí³Í ¹³ï³Ï³Ý ³Ïï»ñÁ | AI5: ²í³ñïí³Í ¹³ï³Ï³Ý ·áñÍ»ñÇ µáÕáù³ñÏÙ³Ý ïáÏáëÁ (Ñ³ßí»ïáõ Å³Ù³Ý³Ï³ßñç³ÝáõÙ) | AJ5: ²Ý³í³ñï µáÕáùÝ»ñ | AK5: ´»Ï³Ýí³Í ¹³ï³Ï³Ý ³Ïï»ñÁ | AP5: µ»Ï³ÝáõÙÝ»ñÇ ïáÏáëÁ ³í³ñïí³Í ·áñÍ»ñÇó(Ñ³ßí»ïáõ Å³Ù³Ý³Ï³ßñç³ÝáõÙ) | AQ5: Î³ÛáõÝáõÃÛ³Ý ïáÏáëÁ ³í³ñïí³Í ·áñÍ»ñÇó(Ñ³ßí»ïáõ Å³Ù³Ý³Ï³ßñç³ÝáõÙ) | AR5: µ»Ï³ÝáõÙÝ»ñÇ ïáÏáëÁ µáÕáù³ñÏí³Í ·áñÍ»ñÇó(Ñ³ßí»ïáõ Å³Ù³Ý³Ï³ßñç³ÝáõÙ) | AS5: Ï³ÛáõÝáõÃÛ³Ý ïáÏáëÁ(Ñ³ßí»ïáõ Å³Ù³Ý³Ï³ßñç³ÝáõÙ)
E6: ÀÝ¹³Ù»ÝÁ | F6: ²Û¹ ÃíáõÙ`Ï³ë»óí³Í íÇ×³ÏáõÙ ÷áË³Ýóí³Í | G6: ²Û¹ ÃíáõÙª ÁÝ¹áõÝí»É ¿ í³ñáõÛÃ | H6: ²Û¹ ÃíáõÙª í»ñ³¹³ñÓí»É ¿ | I6: ²Û¹ ÃíáõÙª ÁÝ¹áõÝáõÙÁ Ù»ñÅí»É ¿ | J6: ÀÝ¹³Ù»ÝÁ | K6: ²Û¹ ÃíáõÙª ÁÝ¹áõÝí»É ¿ í³ñáõÛÃ | L6: ²Û¹ ÃíáõÙª í»ñ³¹³ñÓí»É ¿ | M6: ²Û¹ ÃíáõÙª ÁÝ¹áõÝáõÙÁ Ù»ñÅí»É ¿ | O6: ÀÝ¹³Ù»ÝÁ ³í³ñïí»É »Ý ·áñÍ»ñ ·áñÍÝ Áëï ¿áõÃÛ³Ý ÉáõÍáÕ ¹³ï³Ï³Ý ³Ïï»ñÇ (í×ÇéÝ»ñÇ) Ï³Û³óÙ³Ùµ | P6: ²Û¹ ÃíáõÙª Ñ³ÛóÇ µ³í³ñ³ñÙ³Ùµ | Q6: ²Û¹ ÃíáõÙª Ñ³ÛóÇ Ù³ëÝ³ÏÇ µ³í³ñ³ñÙ³Ùµ | R6: ²Û¹ ÃíáõÙª Ñ³ÛóÇ Ù»ñÅÙ³Ùµ | S6: Ø³ëáí Ï³ñ×í»É ¿É, Ù³ëáí Ù»ñÅí»É | T6: ²Û¹ ÃíáõÙª Ï³ñ×í»É »Ý | X6: Ð³ÛóÁ ÃáÕÝí»É ¿ ³é³Ýó ùÝÝáõÃÛ³Ý | Y6: ÀÝ¹³Ù»ÝÝ ³í³ñïí»É »Ý ·áñÍ»ñ | AD6: ²Û¹ ÃíáõÙ` ·áñÍÝ Áëï ¿áõÃÛ³Ý ÉáõÍáÕ ¹³ï³Ï³Ý ³Ïï»ñÁ | AE6: ²Û¹ ÃíáõÙ` ÙÇç³ÝÏÛ³É ¹³ï³Ï³Ý ³Ïï»ñÁ | AF6: ÀÝ¹³Ù»ÝÁ | AG6: Ü³Ëáñ¹ ï³ñÇÝ»ñÇÝ Ï³Û³óí³Í ³Ïï»ñÇ µáÕáù³ñÏáõÙÁ Ñ³ßí»ïáõ Å³Ù³Ý³Ï³ßñç³ÝáõÙ | AH6: Ð³ßí»ïáõ Å³Ù³Ý³Ï³ßñç³ÝáõÙ Ï³Û³óí³Í ³Ïï»ñÇ µáÕáù³ñÏáõÙÁ | AK6: ²Û¹ ÃíáõÙ` ·áñÍÝ Áëï ¿áõÃÛ³Ý ÉáõÍáÕ ¹³ï³Ï³Ý ³Ïï»ñÁ | AL6: ²Û¹ ÃíáõÙ` ÙÇç³ÝÏÛ³É ¹³ï³Ï³Ý ³Ïï»ñÁ | AM6: ÀÝ¹³Ù»ÝÁ | AN6: Ü³Ëáñ¹ ï³ñÇÝ»ñÇÝ Ï³Û³óí³Í ³Ïï»ñÇ µ»Ï³ÝáõÙÝ»ñÁ Ñ³ßí»ïáõ Å³Ù³Ý³Ï³ßñç³ÝáõÙ | AO6: Ð³ßí»ïáõ Å³Ù³Ý³Ï³ßñç³ÝáõÙ Ï³Û³óí³Í ³Ïï»ñÇ µ»Ï³ÝáõÙÁ
T7: ÀÝ¹³Ù»ÝÁ Ï³ñ×í»É »Ý | U7: ²Û¹ ÃíáõÙª Ñ³ëï³ïí»É ¿ ÏÝùí³Í Ñ³ßïáõÃÛ³Ý Ñ³Ù³Ó³ÛÝáõÃÛáõÝÁ | V7: ²Û¹ ÃíáõÙª Ñ³óÇó, ¹ÇÙáõÙÇó Ññ³Å³ñí»Éáõ ÑÇÙùáí | W7: ²Û¹ ÃíáõÙª ³ÛÉ ÑÇÙùáí
E8: 1 | F8: 2 | G8: 3 | H8: 4 | I8: 5 | J8: 6 | K8: 7 | L8: 8 | M8: 9 | N8: 10 | O8: 11 | P8: 12 | Q8: 13 | R8: 14 | S8: 15 | T8: 16 | U8: 17 | V8: 18 | W8: 19 | X8: 20 | Y8: 21 | Z8: 22 | AA8: 23 | AB8: 24 | AC8: 25 | AD8: 26 | AE8: 27 | AF8: 28 | AG8: 29 | AH8: 30 | AI8: 31 | AJ8: 32 | AK8: 33 | AL8: 34 | AM8: 35 | AN8: 36 | AO8: 37 | AP8: 38 | AQ8: 39 | AR8: 40 | AS8: 41
A9: 1. | B9: ¶áõÛù³ÛÇÝ Çñ³í³Ñ³ñ³µ»ñáõÃÛáõÝÝ»ñÇ í»ñ³µ»ñÛ³É ¹³ï³Ï³Ý ·áñÍ»ñ | E9: =SUM(E10:E28) -> 90 | F9: =SUM(F10:F28) -> 38 | G9: =SUM(G10:G28) -> 52 | H9: =SUM(H10:H28) -> 0 | I9: =SUM(I10:I28) -> 0 | J9: =SUM(J10:J28) -> 30 | K9: =SUM(K10:K28) -> 28 | L9: =SUM(L10:L28) -> 2 | ... AS9: =SUM(AS10:AS28) -> 0
A10: 1.1 | B10: ¶áõÛùÇ ÝÏ³ïÙ³Ùµ ë»÷³Ï³ÝáõÃÛ³Ý Çñ³íáõÝùÁ ×³Ý³ã»Éáõ í»ñ³µ»ñÛ³É | E10: 7 | F10: 1 | G10: 6 | J10: 6 | K10: 5 | L10: 1 | O10: 3 | P10: 1 | R10: 2 | Y10: 3 | AB10: 9
A11: 1.1.1 | B11: ²Û¹ ÃíáõÙª Ó»éùµ»ñÙ³Ý í³Õ»ÙáõÃÛ³Ý áõÅáí | E11: 5 | F11: 1 | G11: 4 | J11: 3 | K11: 3 | O11: 4 | Q11: 2 | R11: 2 | Y11: 4 | AB11: 4 | AC11: 1
A12: 1.1.2 | B12: ²Û¹ ÃíáõÙª ïÇñ³½áõñÏ ·áõÛùÇ ÝÏ³ïÙ³Ùµ
A13: 1.1.3 | B13: ²Û¹ ÃíáõÙª ÇÝùÝ³Ï³Ù Ï³éáõÛóÇ ÝÏ³ïÙ³Ùµ
A14: 1.2 | B14: ê»÷³Ï³ÝáõÃÛ³Ý Çñ³íáõÝùÇ ¹³¹³ñ»óÙ³Ý í»ñ³µ»ñÛ³É | E14: 2 | G14: 2 | O14: 1 | R14: 1 | Y14: 1 | AB14: 1 | AD14: 1 | AF14: 1 | AH14: 1 | AK14: 1 | AM14: 1 | AO14: 1
A15: 1.3 | B15: ¶áõÛùÇ ÝÏ³ïÙ³Ùµ û·ï³·áñÍÙ³Ý Çñ³íáõÝùÁ ×³Ý³ã»Éáõ í»ñ³µ»ñÛ³É
A16: 1.3.1 | B16: ²Û¹ ÃíáõÙª µÝ³Ïû·ï³·áñÍÙ³Ý Çñ³íáõÝùÁ ×³Ý³ã»Éáõ í»ñ³µ»ñÛ³É
A17: 1.3.2 | B17: ²Û¹ ÃíáõÙª ÑáÕ³Ù³ëÇ ÝÏ³ïÙ³Ùµ û·ï³·áñÍÙ³Ý Çñ³íáõÝùÁ ×³Ý³ã»Éáõ í»ñ³µ»ñÛ³É | E17: 1 | G17: 1 | O17: 1 | P17: 1 | Y17: 1 | AD17: 1 | AF17: 1 | AH17: 1
A18: 1.4 | B18: ¶áõÛùÇ ÝÏ³ïÙ³Ùµ û·ï³·áñÍÙ³Ý Çñ³íáõÝùÁ ¹³¹³ñ»óÝ»Éáõ í»ñ³µ»ñÛ³É
A19: 1.4.1 | B19: ²Û¹ ÃíáõÙª µÝ³Ïû·ï³·áñÍÙ³Ý Çñ³íáõÝùÁ ¹³¹³ñ»óÝ»Éáõ í»ñ³µ»ñÛ³É | E19: 1 | F19: 1 | AB19: 1 | AC19: 1
A20: 1.4.1/1 | B20: ²Û¹ ÃíáõÙª ÷áËÑ³ïáõóÙ³Ùµ | E20: 1 | F20: 1 | AB20: 1 | AC20: 1
A21: 1.5 | B21: ´Ý³Ï³ñ³ÝÇó/ ï³ñ³ÍùÇó/ íï³ñ»Éáõ í»ñ³µ»ñÛ³É | E21: 7 | F21: 6 | G21: 1 | J21: 3 | K21: 3 | O21: 1 | P21: 1 | Y21: 1 | AB21: 9 | AC21: 6 | AD21: 1 | AF21: 1 | AH21: 1
A22: 1.6 | B22: ¶áõÛùÝ áõñÇßÇ ³åûñÇÝÇ ïÇñ³å»ïáõÙÇó »ï í»ñ³¹³ñÓÝ»Éáõ í»ñ³µ»ñÛ³É | E22: 8 | F22: 4 | G22: 4 | J22: 1 | K22: 1 | O22: 1 | T22: 1 | V22: 1 | Y22: 1 | AB22: 8 | AC22: 4
A23: 1.6.1 | B23: ´³ñ»ËÇÕ× Ó»éùµ»ñáÕÇó Çñ ·áõÛùÁ Ñ»ï å³Ñ³Ýç»Éáõ í»ñ³µ»ñÛ³É
A24: 1.7 | B24: îÇñ³å»ïáõÙÇó ½ñÏ»Éáõ Ñ»ï ãÏ³åí³Í Çñ³íáõÝùÝ»ñÇ Ë³ËïáõÙÁ í»ñ³óÝ»Éáõ í»ñ³µ»ñÛ³É | E24: 5 | F24: 2 | G24: 3 | J24: 1 | K24: 1 | O24: 2 | R24: 1 | S24: 1 | Y24: 2 | AB24: 4 | AC24: 3 | AD24: 1 | AF24: 1 | AH24: 1 | AJ24: 1
A25: 1.8 | B25: ÀÝ¹Ñ³Ýáõñ µ³ÅÝ³ÛÇÝ ë»÷³Ï³ÝáõÃÛáõÝÇó µ³ÅÇÝÝ ³é³ÝÓÝ³óÝ»Éáõ í»ñ³µ»ñÛ³É | E25: 14 | F25: 8 | G25: 6 | J25: 6 | K25: 6 | O25: 4 | P25: 2 | T25: 2 | V25: 2 | Y25: 4 | AA25: 4 | AB25: 16 | AC25: 8 | AD25: 1 | AF25: 1 | AH25: 1 | AJ25: 1
A26: 1.8.1 | B26: Ð³Ù³ï»Õ ë»÷³Ï³ÝáõÃÛ³Ý Ý»ñùá ·ïÝíáÕ ·áõÛùÁ µ³Å³Ý»Éáõ ¨ ¹ñ³ÝÇó µ³ÅÇÝÝ ³é³ÝÓÝ³óÝ»Éáõ í»ñ³µ»ñÛ³É | E26: 27 | F26: 9 | G26: 18 | J26: 5 | K26: 5 | O26: 7 | P26: 2 | Q26: 1 | R26: 1 | T26: 3 | U26: 1 | V26: 2 | Y26: 7 | Z26: 1 | AA26: 3 | AB26: 24 | AC26: 6 | AD26: 2 | AF26: 2 | AH26: 2 | AK26: 1 | AM26: 1 | AO26: 1
A27: 1.8.3 | B27: ¶áõÛùÇ íñ³ µéÝ³·³ÝÓáõÙ ï³ñ³Í»Éáõ å³Ñ³ÝçÇ Ù³ëÇÝ | E27: 2 | F27: 2 | G27: 0 | AB27: 2 | AC27: 2
A28: 1.9 | B28: ²ÛÉ í»×»ñ | E28: 10 | F28: 3 | G28: 7 | J28: 5 | K28: 4 | L28: 1 | O28: 6 | P28: 1 | Q28: 1 | R28: 1 | T28: 3 | V28: 2 | W28: 1 | Y28: 6 | AA28: 1 | AB28: 8 | AC28: 4 | AD28: 1 | AF28: 1 | AH28: 1 | AK28: 1 | AM28: 1 | AO28: 1
A29: 2. | B29: ¶áñÍ³ñùÝ»ñÇ Ñ»ï Ï³åí³Í Çñ³í³Ñ³ñ³µ»ñáõÃÛáõÝÝ»ñÇ í»ñ³µ»ñÛ³É ¹³ï³Ï³Ý ·áñÍ»ñ | E29: =SUM(E30:E40) -> 49 | F29: =SUM(F30:F40) -> 16 | G29: =SUM(G30:G40) -> 33 | H29: =SUM(H30:H40) -> 0 | I29: =SUM(I30:I40) -> 0 | J29: =SUM(J30:J40) -> 13 | K29: =SUM(K30:K40) -> 8 | L29: =SUM(L30:L40) -> 5 | ... AS29: =SUM(AS30:AS40) -> 0
A30: 2.1 | B30: ·áñÍ³ñùÝ»ñÇ ³Ýí³í»ñáõÃÛ³Ý Ñ»ï Ï³åí³Í í»×»ñ | E30: 3 | G30: 3 | J30: 1 | K30: 1 | O30: 1 | R30: 1 | Y30: 1 | AB30: 3 | AD30: 1 | AF30: 1 | AH30: 1
A31: 2.1.1 | B31: ³Û¹ ÃíáõÙ` íÇ×³Ñ³ñáõÛó ·áñÍ³ñùÝ»ñÝ ³Ýí³í»ñ ×³Ý³ã»Éáõ í»ñ³µ»ñÛ³É
A32: 2.1.2 | B32: ³Û¹ ÃíáõÙ` ·áñÍ³ñùÇ ³éáãÝãáõÃÛ³Ý Ñ»ï¨³ÝùÝ»ñ ÏÇñ³é»Éáõ í»ñ³µ»ñÛ³É | E32: 1 | G32: 1 | O32: 1 | P32: 1 | Y32: 1 | AD32: 1 | AF32: 1 | AH32: 1
A33: 2.2 | B33: ¶áñÍ³ñùÁ í³í»ñ ×³Ý³ã»Éáõ í»ñ³µ»ñÛ³É | E33: 3 | F33: 1 | G33: 2 | AB33: 3 | AC33: 1
A34: 2.3 | B34: ¶áñÍ³ñùÇó Í³·áÕ Çñ³íáõÝùÝ»ñÁ ·ñ³Ýó»Éáõ í»ñ³µ»ñÛ³É
A35: 2.4 | B35: ä³ÛÙ³Ý³·ÇñÝ ³Ýí³í»ñ ×³Ý³ã»Éáõ í»ñ³µ»ñÛ³É | E35: 15 | F35: 4 | G35: 11 | J35: 5 | K35: 3 | L35: 2 | O35: 6 | P35: 1 | R35: 3 | T35: 2 | V35: 1 | W35: 1 | Y35: 6 | AB35: 12 | AC35: 3 | AD35: 5 | AF35: 5 | AG35: 2 | AH35: 3 | AJ35: 3
A36: 2.5 | B36: ä³ÛÙ³Ý³·ñÇÁ í³í»ñ ×³Ý³ã»Éáõ í»ñ³µ»ñÛ³É | E36: 3 | F36: 3 | G36: 0 | AB36: 3 | AC36: 2
A37: 2.6 | B37: ä³ÛÙ³Ý³·ñÇó Í³·áÕ Çñ³íáõÝùÝ»ñÁ ·ñ³Ýó»Éáõ í»ñ³µ»ñÛ³É
A38: 2.7 | B38: ä³ÛÙ³Ý³·ÇñÁ ÷á÷áË»Éáõ ¨ ÉáõÍ»Éáõ í»ñ³µ»ñÛ³É | E38: 2 | G38: 2 | O38: 2 | Q38: 2 | Y38: 2
A39: 2.8 | B39: ä³ÛÙ³Ý³·Çñ ÏÝù»ÉáõÝ å³ñï³íáñ»óÝ»Éáõ í»ñ³µ»ñÛ³É | E39: 8 | F39: 4 | G39: 4 | J39: 3 | K39: 1 | L39: 2 | AB39: 9 | AC39: 4
A40: 2.9 | B40: ²ÛÉ í»×»ñ | E40: 14 | F40: 4 | G40: 10 | J40: 4 | K40: 3 | L40: 1 | O40: 4 | Q40: 1 | R40: 1 | T40: 2 | V40: 2 | Y40: 4 | AB40: 13 | AC40: 3 | AD40: 1 | AF40: 1 | AH40: 1 | AJ40: 1
...

Sheet Ս. Երիցյանի
A1: 2017թ. | G1: Ð²ÞìºîìàôÂÚàôÜ | AM1: Ð³í»Éí³Í Ð³Û³ëï³ÝÇ Ð³Ýñ³å»ïáõÃÛ³Ý ¸³ï³ñ³ÝÝ»ñÇ Ý³Ë³·³ÑÝ»ñÇ ËáñÑñ¹Ç 29.01.2018Ã. ÃÇí 10-È áñáßÙ³Ý
A2: ºðºì²ÜÆ ²æ²öÜÚ²Î ºì ¸²ìÂ²ÞºÜ ì²ðâ²Î²Ü Þðæ²ÜÜºðÆ ÀÜ¸Ð²Üàôð Æð²ì²êàôÂÚ²Ü ²è²æÆÜ ²îÚ²ÜÆ ¸²î²ð²ÜÆ ¸²î²ìàð | Z2: ê. ºðÆòÚ²ÜÆ | AH2: ¶àðÌàôÜºàôÂÚ²Ü ìºð²´ºðÚ²È
A3: ø²Ô²ø²òÆ²Î²Ü ¶àðÌºðàì
A4: ºñ¨³ÝÇ ²ç³÷ÝÛ³Ï ¨ ¸³íÃ³ß»Ý í³ñã³Ï³Ý ßñç³ÝÝ»ñÇ ÁÝ¹Ñ³Ýáõñ Çñ³í³ëáõÃÛ³Ý ³é³çÇÝ ³ïÛ³ÝÇ ¹³ï³ñ³ÝÇ ù³Õ³ù³óÇ³Ï³Ý Ù³ëÝ³·Çï³óáõÙ áõÝ»óáÕ ¹³ï³íáñÝ»ñÇ Ñ³ëïÇùÝ»ñÇ ù³Ý³ÏÁ` 5
E5: Ð³ßí»ïáõ Å³Ù³Ý³Ï³Ñ³ïí³ÍáõÙ Ý³Ëáñ¹ Ñ³ßí»ïáõ Å³Ù³Ý³Ï³Ñ³ïí³ÍÇó ÷áË³Ýóí³Í ·áñÍ»ñÇ ÁÝ¹Ñ³Ýáõñ ÃÇíÁ | J5: Ð³ßí»ïáõ Å³Ù³Ý³Ï³Ñ³ïí³ÍáõÙëï³óí³Í ·áñÍ»ñÇ (³Û¹ ÃíáõÙ` Ñ³Ûó³¹ÇÙáõÙÝ»ñÇ, ¹ÇÙáõÙÝ»ñÇ) ÁÝ¹Ñ³Ýáõñ ÃÇíÁ | N5: öáË³Ýóí»É ¿ ³ÛÉ ¹³ï³íáñÇ (Ï³½ÙÇ ÷á÷áËáõÃÛáõÝ) | O5: Ð³ßí»ïáõ Å³Ù³Ý³Ï³Ñ³ïí³ÍáõÙ ³í³ñïí³Í ·áñÍ»ñÇ ÁÝ¹Ñ³Ýáõñ ÃÇíÁ | Z5: ¶áñÍÝ áõÕ³ñÏí»É ¿ Áëï ÁÝ¹¹³ïáõÃÛ³Ý | AA5: Ð³ßí»ïáõ Å³Ù³Ý³Ï³Ñ³ïí³ÍáõÙ Ï³ë»óí³Í í³ñáõÛÃÝ»ñáí ·áñÍ»ñÇ ÁÝ¹Ñ³Ýáõñ ÃÇíÁ | AB5: Ð³ßí»ïáõ Å³Ù³Ý³Ï³Ñ³ïí³ÍáõÙ ³Ý³í³ñï ·áñÍ»ñÇ ÁÝ¹Ñ³Ýáõñ ÃÇíÁ | AC5: ²Û¹ ÃíáõÙª Ï³ë»óí³Í | AD5: ´áÕáù³ñÏí³Í ¹³ï³Ï³Ý ³Ïï»ñÁ | AI5: ²í³ñïí³Í ¹³ï³Ï³Ý ·áñÍ»ñÇ µáÕáù³ñÏÙ³Ý ïáÏáëÁ (Ñ³ßí»ïáõ Å³Ù³Ý³Ï³ßñç³ÝáõÙ) | AJ5: ²Ý³í³ñï µáÕáùÝ»ñ | AK5: ´»Ï³Ýí³Í ¹³ï³Ï³Ý ³Ïï»ñÁ | AP5: µ»Ï³ÝáõÙÝ»ñÇ ïáÏáëÁ ³í³ñïí³Í ·áñÍ»ñÇó(Ñ³ßí»ïáõ Å³Ù³Ý³Ï³ßñç³ÝáõÙ) | AQ5: Î³ÛáõÝáõÃÛ³Ý ïáÏáëÁ ³í³ñïí³Í ·áñÍ»ñÇó(Ñ³ßí»ïáõ Å³Ù³Ý³Ï³ßñç³ÝáõÙ) | AR5: µ»Ï³ÝáõÙÝ»ñÇ ïáÏáëÁ µáÕáù³ñÏí³Í ·áñÍ»ñÇó(Ñ³ßí»ïáõ Å³Ù³Ý³Ï³ßñç³ÝáõÙ) | AS5: Ï³ÛáõÝáõÃÛ³Ý ïáÏáëÁ(Ñ³ßí»ïáõ Å³Ù³Ý³Ï³ßñç³ÝáõÙ)
E6: ÀÝ¹³Ù»ÝÁ | F6: ²Û¹ ÃíáõÙ`Ï³ë»óí³Í íÇ×³ÏáõÙ ÷áË³Ýóí³Í | G6: ²Û¹ ÃíáõÙª ÁÝ¹áõÝí»É ¿ í³ñáõÛÃ | H6: ²Û¹ ÃíáõÙª í»ñ³¹³ñÓí»É ¿ | I6: ²Û¹ ÃíáõÙª ÁÝ¹áõÝáõÙÁ Ù»ñÅí»É ¿ | J6: ÀÝ¹³Ù»ÝÁ | K6: ²Û¹ ÃíáõÙª ÁÝ¹áõÝí»É ¿ í³ñáõÛÃ | L6: ²Û¹ ÃíáõÙª í»ñ³¹³ñÓí»É ¿ | M6: ²Û¹ ÃíáõÙª ÁÝ¹áõÝáõÙÁ Ù»ñÅí»É ¿ | O6: ÀÝ¹³Ù»ÝÁ ³í³ñïí»É »Ý ·áñÍ»ñ ·áñÍÝ Áëï ¿áõÃÛ³Ý ÉáõÍáÕ ¹³ï³Ï³Ý ³Ïï»ñÇ (í×ÇéÝ»ñÇ) Ï³Û³óÙ³Ùµ | P6: ²Û¹ ÃíáõÙª Ñ³ÛóÇ µ³í³ñ³ñÙ³Ùµ | Q6: ²Û¹ ÃíáõÙª Ñ³ÛóÇ Ù³ëÝ³ÏÇ µ³í³ñ³ñÙ³Ùµ | R6: ²Û¹ ÃíáõÙª Ñ³ÛóÇ Ù»ñÅÙ³Ùµ | S6: Ø³ëáí Ï³ñ×í»É ¿É, Ù³ëáí Ù»ñÅí»É | T6: ²Û¹ ÃíáõÙª Ï³ñ×í»É »Ý | X6: Ð³ÛóÁ ÃáÕÝí»É ¿ ³é³Ýó ùÝÝáõÃÛ³Ý | Y6: ÀÝ¹³Ù»ÝÝ ³í³ñïí»É »Ý ·áñÍ»ñ | AD6: ²Û¹ ÃíáõÙ` ·áñÍÝ Áëï ¿áõÃÛ³Ý ÉáõÍáÕ ¹³ï³Ï³Ý ³Ïï»ñÁ | AE6: ²Û¹ ÃíáõÙ` ÙÇç³ÝÏÛ³É ¹³ï³Ï³Ý ³Ïï»ñÁ | AF6: ÀÝ¹³Ù»ÝÁ | AG6: Ü³Ëáñ¹ ï³ñÇÝ»ñÇÝ Ï³Û³óí³Í ³Ïï»ñÇ µáÕáù³ñÏáõÙÁ Ñ³ßí»ïáõ Å³Ù³Ý³Ï³ßñç³ÝáõÙ | AH6: Ð³ßí»ïáõ Å³Ù³Ý³Ï³ßñç³ÝáõÙ Ï³Û³óí³Í ³Ïï»ñÇ µáÕáù³ñÏáõÙÁ | AK6: ²Û¹ ÃíáõÙ` ·áñÍÝ Áëï ¿áõÃÛ³Ý ÉáõÍáÕ ¹³ï³Ï³Ý ³Ïï»ñÁ | AL6: ²Û¹ ÃíáõÙ` ÙÇç³ÝÏÛ³É ¹³ï³Ï³Ý ³Ïï»ñÁ | AM6: ÀÝ¹³Ù»ÝÁ | AN6: Ü³Ëáñ¹ ï³ñÇÝ»ñÇÝ Ï³Û³óí³Í ³Ïï»ñÇ µ»Ï³ÝáõÙÝ»ñÁ Ñ³ßí»ïáõ Å³Ù³Ý³Ï³ßñç³ÝáõÙ | AO6: Ð³ßí»ïáõ Å³Ù³Ý³Ï³ßñç³ÝáõÙ Ï³Û³óí³Í ³Ïï»ñÇ µ»Ï³ÝáõÙÁ
T7: ÀÝ¹³Ù»ÝÁ Ï³ñ×í»É »Ý | U7: ²Û¹ ÃíáõÙª Ñ³ëï³ïí»É ¿ ÏÝùí³Í Ñ³ßïáõÃÛ³Ý Ñ³Ù³Ó³ÛÝáõÃÛáõÝÁ | V7: ²Û¹ ÃíáõÙª Ñ³óÇó, ¹ÇÙáõÙÇó Ññ³Å³ñí»Éáõ ÑÇÙùáí | W7: ²Û¹ ÃíáõÙª ³ÛÉ ÑÇÙùáí
E8: 1 | F8: 2 | G8: 3 | H8: 4 | I8: 5 | J8: 6 | K8: 7 | L8: 8 | M8: 9 | N8: 10 | O8: 11 | P8: 12 | Q8: 13 | R8: 14 | S8: 15 | T8: 16 | U8: 17 | V8: 18 | W8: 19 | X8: 20 | Y8: 21 | Z8: 22 | AA8: 23 | AB8: 24 | AC8: 25 | AD8: 26 | AE8: 27 | AF8: 28 | AG8: 29 | AH8: 30 | AI8: 31 | AJ8: 32 | AK8: 33 | AL8: 34 | AM8: 35 | AN8: 36 | AO8: 37 | AP8: 38 | AQ8: 39 | AR8: 40 | AS8: 41
A9: 1. | B9: ¶áõÛù³ÛÇÝ Çñ³í³Ñ³ñ³µ»ñáõÃÛáõÝÝ»ñÇ í»ñ³µ»ñÛ³É ¹³ï³Ï³Ý ·áñÍ»ñ | E9: =SUM(E10:E28) -> 29 | F9: =SUM(F10:F28) -> 9 | G9: =SUM(G10:G28) -> 20 | H9: =SUM(H10:H28) -> 0 | I9: =SUM(I10:I28) -> 0 | J9: =SUM(J10:J28) -> 30 | K9: =SUM(K10:K28) -> 27 | L9: =SUM(L10:L28) -> 3 | ... AS9: =SUM(AS10:AS28) -> 0
A10: 1.1 | B10: ¶áõÛùÇ ÝÏ³ïÙ³Ùµ ë»÷³Ï³ÝáõÃÛ³Ý Çñ³íáõÝùÁ ×³Ý³ã»Éáõ í»ñ³µ»ñÛ³É | E10: 2 | F10: 1 | G10: 1 | J10: 4 | K10: 4 | O10: 5 | P10: 2 | Q10: 1 | R10: 1 | T10: 1 | V10: 1 | Y10: 5 | AB10: 1 | AD10: 1 | AF10: 1 | AH10: 1 | AK10: 1 | AM10: 1 | AO10: 1
A11: 1.1.1 | B11: ²Û¹ ÃíáõÙª Ó»éùµ»ñÙ³Ý í³Õ»ÙáõÃÛ³Ý áõÅáí | E11: 1 | G11: 1 | J11: 3 | K11: 3 | AA11: 1 | AB11: 4 | AC11: 1
A12: 1.1.2 | B12: ²Û¹ ÃíáõÙª ïÇñ³½áõñÏ ·áõÛùÇ ÝÏ³ïÙ³Ùµ
A13: 1.1.3 | B13: ²Û¹ ÃíáõÙª ÇÝùÝ³Ï³Ù Ï³éáõÛóÇ ÝÏ³ïÙ³Ùµ
A14: 1.2 | B14: ê»÷³Ï³ÝáõÃÛ³Ý Çñ³íáõÝùÇ ¹³¹³ñ»óÙ³Ý í»ñ³µ»ñÛ³É | E14: 1 | G14: 1 | J14: 1 | K14: 1 | O14: 1 | T14: 1 | U14: 1 | Y14: 1 | AA14: 1 | AB14: 1 | AC14: 1
A15: 1.3 | B15: ¶áõÛùÇ ÝÏ³ïÙ³Ùµ û·ï³·áñÍÙ³Ý Çñ³íáõÝùÁ ×³Ý³ã»Éáõ í»ñ³µ»ñÛ³É
A16: 1.3.1 | B16: ²Û¹ ÃíáõÙª µÝ³Ïû·ï³·áñÍÙ³Ý Çñ³íáõÝùÁ ×³Ý³ã»Éáõ í»ñ³µ»ñÛ³É
A17: 1.3.2 | B17: ²Û¹ ÃíáõÙª ÑáÕ³Ù³ëÇ ÝÏ³ïÙ³Ùµ û·ï³·áñÍÙ³Ý Çñ³íáõÝùÁ ×³Ý³ã»Éáõ í»ñ³µ»ñÛ³É
A18: 1.4 | B18: ¶áõÛùÇ ÝÏ³ïÙ³Ùµ û·ï³·áñÍÙ³Ý Çñ³íáõÝùÁ ¹³¹³ñ»óÝ»Éáõ í»ñ³µ»ñÛ³É
A19: 1.4.1 | B19: ²Û¹ ÃíáõÙª µÝ³Ïû·ï³·áñÍÙ³Ý Çñ³íáõÝùÁ ¹³¹³ñ»óÝ»Éáõ í»ñ³µ»ñÛ³É | E19: 0 | G19: 0
A20: 1.4.1/1 | B20: ²Û¹ ÃíáõÙª ÷áËÑ³ïáõóÙ³Ùµ
A21: 1.5 | B21: ´Ý³Ï³ñ³ÝÇó/ ï³ñ³ÍùÇó/ íï³ñ»Éáõ í»ñ³µ»ñÛ³É | E21: 1 | G21: 1 | O21: 1 | P21: 1 | Y21: 1 | AD21: 2 | AF21: 2 | AG21: 1 | AH21: 1 | AJ21: 1
A22: 1.6 | B22: ¶áõÛùÝ áõñÇßÇ ³åûñÇÝÇ ïÇñ³å»ïáõÙÇó »ï í»ñ³¹³ñÓÝ»Éáõ í»ñ³µ»ñÛ³É | J22: 3 | K22: 3 | O22: 1 | P22: 1 | Y22: 1 | AB22: 2 | AD22: 1 | AF22: 1 | AG22: 1 | AK22: 1 | AM22: 1 | AN22: 1
A23: 1.6.1 | B23: ´³ñ»ËÇÕ× Ó»éùµ»ñáÕÇó Çñ ·áõÛùÁ Ñ»ï å³Ñ³Ýç»Éáõ í»ñ³µ»ñÛ³É
A24: 1.7 | B24: îÇñ³å»ïáõÙÇó ½ñÏ»Éáõ Ñ»ï ãÏ³åí³Í Çñ³íáõÝùÝ»ñÇ Ë³ËïáõÙÁ í»ñ³óÝ»Éáõ í»ñ³µ»ñÛ³É | E24: 3 | G24: 3 | J24: 2 | K24: 1 | L24: 1 | O24: 4 | P24: 1 | R24: 3 | Y24: 4 | AD24: 3 | AF24: 3 | AH24: 3 | AJ24: 1
A25: 1.8 | B25: ÀÝ¹Ñ³Ýáõñ µ³ÅÝ³ÛÇÝ ë»÷³Ï³ÝáõÃÛáõÝÇó µ³ÅÇÝÝ ³é³ÝÓÝ³óÝ»Éáõ í»ñ³µ»ñÛ³É | E25: 1 | G25: 1 | J25: 4 | K25: 4 | O25: 2 | P25: 1 | T25: 1 | V25: 1 | Y25: 2 | AB25: 3
A26: 1.8.1 | B26: Ð³Ù³ï»Õ ë»÷³Ï³ÝáõÃÛ³Ý Ý»ñùá ·ïÝíáÕ ·áõÛùÁ µ³Å³Ý»Éáõ ¨ ¹ñ³ÝÇó µ³ÅÇÝÝ ³é³ÝÓÝ³óÝ»Éáõ í»ñ³µ»ñÛ³É | E26: 12 | F26: 7 | G26: 5 | J26: 7 | K26: 5 | L26: 2 | O26: 9 | P26: 5 | Q26: 2 | R26: 1 | T26: 1 | U26: 1 | Y26: 9 | Z26: 1 | AA26: 4 | AB26: 7 | AC26: 5 | AD26: 3 | AF26: 3 | AG26: 1 | AH26: 2 | AJ26: 1 | AK26: 1 | AM26: 1 | AN26: 1
A27: 1.8.3 | B27: ¶áõÛùÇ íñ³ µéÝ³·³ÝÓáõÙ ï³ñ³Í»Éáõ å³Ñ³ÝçÇ Ù³ëÇÝ | E27: 1 | F27: 1 | J27: 1 | K27: 1 | AB27: 2 | AC27: 1
A28: 1.9 | B28: ²ÛÉ í»×»ñ | E28: 7 | G28: 7 | J28: 5 | K28: 5 | O28: 9 | P28: 1 | Q28: 1 | R28: 5 | S28: 1 | T28: 1 | V28: 1 | Y28: 9 | AA28: 1 | AB28: 3 | AC28: 1 | AD28: 4 | AF28: 4 | AG28: 1 | AH28: 3 | AJ28: 3 | AK28: 1 | AM28: 1 | AN28: 1
A29: 2. | B29: ¶áñÍ³ñùÝ»ñÇ Ñ»ï Ï³åí³Í Çñ³í³Ñ³ñ³µ»ñáõÃÛáõÝÝ»ñÇ í»ñ³µ»ñÛ³É ¹³ï³Ï³Ý ·áñÍ»ñ | E29: =SUM(E30:E40) -> 12 | F29: =SUM(F30:F40) -> 3 | G29: =SUM(G30:G40) -> 9 | H29: =SUM(H30:H40) -> 0 | I29: =SUM(I30:I40) -> 0 | J29: =SUM(J30:J40) -> 10 | K29: =SUM(K30:K40) -> 10 | L29: =SUM(L30:L40) -> 0 | ... AS29: =SUM(AS30:AS40) -> 0
A30: 2.1 | B30: ·áñÍ³ñùÝ»ñÇ ³Ýí³í»ñáõÃÛ³Ý Ñ»ï Ï³åí³Í í»×»ñ | E30: 1 | G30: 1 | J30: 2 | K30: 2 | O30: 1 | R30: 1 | Y30: 1 | AB30: 2
A31: 2.1.1 | B31: ³Û¹ ÃíáõÙ` íÇ×³Ñ³ñáõÛó ·áñÍ³ñùÝ»ñÝ ³Ýí³í»ñ ×³Ý³ã»Éáõ í»ñ³µ»ñÛ³É
A32: 2.1.2 | B32: ³Û¹ ÃíáõÙ` ·áñÍ³ñùÇ ³éáãÝãáõÃÛ³Ý Ñ»ï¨³ÝùÝ»ñ ÏÇñ³é»Éáõ í»ñ³µ»ñÛ³É | J32: 2 | K32: 2 | O32: 1 | R32: 1 | Y32: 1 | AB32: 1
A33: 2.2 | B33: ¶áñÍ³ñùÁ í³í»ñ ×³Ý³ã»Éáõ í»ñ³µ»ñÛ³É | E33: 1 | G33: 1 | J33: 1 | K33: 1 | O33: 1 | R33: 1 | Y33: 1 | AB33: 1 | AD33: 1 | AF33: 1 | AH33: 1 | AK33: 1 | AM33: 1 | AO33: 1
A34: 2.3 | B34: ¶áñÍ³ñùÇó Í³·áÕ Çñ³íáõÝùÝ»ñÁ ·ñ³Ýó»Éáõ í»ñ³µ»ñÛ³É
A35: 2.4 | B35: ä³ÛÙ³Ý³·ÇñÝ ³Ýí³í»ñ ×³Ý³ã»Éáõ í»ñ³µ»ñÛ³É | E35: 6 | F35: 1 | G35: 5 | J35: 2 | K35: 2 | O35: 5 | R35: 3 | S35: 1 | T35: 1 | V35: 1 | Y35: 5 | AB35: 3 | AC35: 1 | AD35: 5 | AF35: 5 | AG35: 1 | AH35: 4 | AJ35: 2
A36: 2.5 | B36: ä³ÛÙ³Ý³·ñÇÁ í³í»ñ ×³Ý³ã»Éáõ í»ñ³µ»ñÛ³É
A37: 2.6 | B37: ä³ÛÙ³Ý³·ñÇó Í³·áÕ Çñ³íáõÝùÝ»ñÁ ·ñ³Ýó»Éáõ í»ñ³µ»ñÛ³É
A38: 2.7 | B38: ä³ÛÙ³Ý³·ÇñÁ ÷á÷áË»Éáõ ¨ ÉáõÍ»Éáõ í»ñ³µ»ñÛ³É | E38: 1 | G38: 1 | J38: 2 | K38: 2 | O38: 1 | Q38: 1 | Y38: 1 | AB38: 2 | AD38: 1 | AF38: 1 | AH38: 1 | AJ38: 1
A39: 2.8 | B39: ä³ÛÙ³Ý³·Çñ ÏÝù»ÉáõÝ å³ñï³íáñ»óÝ»Éáõ í»ñ³µ»ñÛ³É
A40: 2.9 | B40: ²ÛÉ í»×»ñ | E40: 3 | F40: 2 | G40: 1 | J40: 1 | K40: 1 | O40: 2 | Q40: 1 | R40: 1 | Y40: 2 | AB40: 2 | AC40: 1 | AD40: 2 | AF40: 2 | AH40: 2 | AJ40: 2
...

Sheet Ա.Մխիթարյան
A1: 2017թ. | G1: Ð²ÞìºîìàôÂÚàôÜ | AM1: Ð³í»Éí³Í Ð³Û³ëï³ÝÇ Ð³Ýñ³å»ïáõÃÛ³Ý ¸³ï³ñ³ÝÝ»ñÇ Ý³Ë³·³ÑÝ»ñÇ ËáñÑñ¹Ç 29.01.2018Ã. ÃÇí 10-È áñáßÙ³Ý
A2: ºðºì²ÜÆ ²æ²öÜÚ²Î ºì ¸²ìÂ²ÞºÜ ì²ðâ²Î²Ü Þðæ²ÜÜºðÆ ÀÜ¸Ð²Üàôð Æð²ì²êàôÂÚ²Ü ²è²æÆÜ ²îÚ²ÜÆ ¸²î²ð²ÜÆ ¸²î²ìàð | Z2: ². ØÊÆÂ²ðÚ²ÜÆ | AH2: ¶àðÌàôÜºàôÂÚ²Ü ìºð²´ºðÚ²È
A3: ø²Ô²ø²òÆ²Î²Ü ¶àðÌºðàì
A4: ºñ¨³ÝÇ ²ç³÷ÝÛ³Ï ¨ ¸³íÃ³ß»Ý í³ñã³Ï³Ý ßñç³ÝÝ»ñÇ ÁÝ¹Ñ³Ýáõñ Çñ³í³ëáõÃÛ³Ý ³é³çÇÝ ³ïÛ³ÝÇ ¹³ï³ñ³ÝÇ ù³Õ³ù³óÇ³Ï³Ý Ù³ëÝ³·Çï³óáõÙ áõÝ»óáÕ ¹³ï³íáñÝ»ñÇ Ñ³ëïÇùÝ»ñÇ ù³Ý³ÏÁ` 5
E5: Ð³ßí»ïáõ Å³Ù³Ý³Ï³Ñ³ïí³ÍáõÙ Ý³Ëáñ¹ Ñ³ßí»ïáõ Å³Ù³Ý³Ï³Ñ³ïí³ÍÇó ÷áË³Ýóí³Í ·áñÍ»ñÇ ÁÝ¹Ñ³Ýáõñ ÃÇíÁ | J5: Ð³ßí»ïáõ Å³Ù³Ý³Ï³Ñ³ïí³ÍáõÙëï³óí³Í ·áñÍ»ñÇ (³Û¹ ÃíáõÙ` Ñ³Ûó³¹ÇÙáõÙÝ»ñÇ, ¹ÇÙáõÙÝ»ñÇ) ÁÝ¹Ñ³Ýáõñ ÃÇíÁ | N5: öáË³Ýóí»É ¿ ³ÛÉ ¹³ï³íáñÇ (Ï³½ÙÇ ÷á÷áËáõÃÛáõÝ) | O5: Ð³ßí»ïáõ Å³Ù³Ý³Ï³Ñ³ïí³ÍáõÙ ³í³ñïí³Í ·áñÍ»ñÇ ÁÝ¹Ñ³Ýáõñ ÃÇíÁ | Z5: ¶áñÍÝ áõÕ³ñÏí»É ¿ Áëï ÁÝ¹¹³ïáõÃÛ³Ý | AA5: Ð³ßí»ïáõ Å³Ù³Ý³Ï³Ñ³ïí³ÍáõÙ Ï³ë»óí³Í í³ñáõÛÃÝ»ñáí ·áñÍ»ñÇ ÁÝ¹Ñ³Ýáõñ ÃÇíÁ | AB5: Ð³ßí»ïáõ Å³Ù³Ý³Ï³Ñ³ïí³ÍáõÙ ³Ý³í³ñï ·áñÍ»ñÇ ÁÝ¹Ñ³Ýáõñ ÃÇíÁ | AC5: ²Û¹ ÃíáõÙª Ï³ë»óí³Í | AD5: ´áÕáù³ñÏí³Í ¹³ï³Ï³Ý ³Ïï»ñÁ | AI5: ²í³ñïí³Í ¹³ï³Ï³Ý ·áñÍ»ñÇ µáÕáù³ñÏÙ³Ý ïáÏáëÁ (Ñ³ßí»ïáõ Å³Ù³Ý³Ï³ßñç³ÝáõÙ) | AJ5: ²Ý³í³ñï µáÕáùÝ»ñ | AK5: ´»Ï³Ýí³Í ¹³ï³Ï³Ý ³Ïï»ñÁ | AP5: µ»Ï³ÝáõÙÝ»ñÇ ïáÏáëÁ ³í³ñïí³Í ·áñÍ»ñÇó(Ñ³ßí»ïáõ Å³Ù³Ý³Ï³ßñç³ÝáõÙ) | AQ5: Î³ÛáõÝáõÃÛ³Ý ïáÏáëÁ ³í³ñïí³Í ·áñÍ»ñÇó(Ñ³ßí»ïáõ Å³Ù³Ý³Ï³ßñç³ÝáõÙ) | AR5: µ»Ï³ÝáõÙÝ»ñÇ ïáÏáëÁ µáÕáù³ñÏí³Í ·áñÍ»ñÇó(Ñ³ßí»ïáõ Å³Ù³Ý³Ï³ßñç³ÝáõÙ) | AS5: Ï³ÛáõÝáõÃÛ³Ý ïáÏáëÁ(Ñ³ßí»ïáõ Å³Ù³Ý³Ï³ßñç³ÝáõÙ)
E6: ÀÝ¹³Ù»ÝÁ | F6: ²Û¹ ÃíáõÙ`Ï³ë»óí³Í íÇ×³ÏáõÙ ÷áË³Ýóí³Í | G6: ²Û¹ ÃíáõÙª ÁÝ¹áõÝí»É ¿ í³ñáõÛÃ | H6: ²Û¹ ÃíáõÙª í»ñ³¹³ñÓí»É ¿ | I6: ²Û¹ ÃíáõÙª ÁÝ¹áõÝáõÙÁ Ù»ñÅí»É ¿ | J6: ÀÝ¹³Ù»ÝÁ | K6: ²Û¹ ÃíáõÙª ÁÝ¹áõÝí»É ¿ í³ñáõÛÃ | L6: ²Û¹ ÃíáõÙª í»ñ³¹³ñÓí»É ¿ | M6: ²Û¹ ÃíáõÙª ÁÝ¹áõÝáõÙÁ Ù»ñÅí»É ¿ | O6: ÀÝ¹³Ù»ÝÁ ³í³ñïí»É »Ý ·áñÍ»ñ ·áñÍÝ Áëï ¿áõÃÛ³Ý ÉáõÍáÕ ¹³ï³Ï³Ý ³Ïï»ñÇ (í×ÇéÝ»ñÇ) Ï³Û³óÙ³Ùµ | P6: ²Û¹ ÃíáõÙª Ñ³ÛóÇ µ³í³ñ³ñÙ³Ùµ | Q6: ²Û¹ ÃíáõÙª Ñ³ÛóÇ Ù³ëÝ³ÏÇ µ³í³ñ³ñÙ³Ùµ | R6: ²Û¹ ÃíáõÙª Ñ³ÛóÇ Ù»ñÅÙ³Ùµ | S6: Ø³ëáí Ï³ñ×í»É ¿É, Ù³ëáí Ù»ñÅí»É | T6: ²Û¹ ÃíáõÙª Ï³ñ×í»É »Ý | X6: Ð³ÛóÁ ÃáÕÝí»É ¿ ³é³Ýó ùÝÝáõÃÛ³Ý | Y6: ÀÝ¹³Ù»ÝÝ ³í³ñïí»É »Ý ·áñÍ»ñ | AD6: ²Û¹ ÃíáõÙ` ·áñÍÝ Áëï ¿áõÃÛ³Ý ÉáõÍáÕ ¹³ï³Ï³Ý ³Ïï»ñÁ | AE6: ²Û¹ ÃíáõÙ` ÙÇç³ÝÏÛ³É ¹³ï³Ï³Ý ³Ïï»ñÁ | AF6: ÀÝ¹³Ù»ÝÁ | AG6: Ü³Ëáñ¹ ï³ñÇÝ»ñÇÝ Ï³Û³óí³Í ³Ïï»ñÇ µáÕáù³ñÏáõÙÁ Ñ³ßí»ïáõ Å³Ù³Ý³Ï³ßñç³ÝáõÙ | AH6: Ð³ßí»ïáõ Å³Ù³Ý³Ï³ßñç³ÝáõÙ Ï³Û³óí³Í ³Ïï»ñÇ µáÕáù³ñÏáõÙÁ | AK6: ²Û¹ ÃíáõÙ` ·áñÍÝ Áëï ¿áõÃÛ³Ý ÉáõÍáÕ ¹³ï³Ï³Ý ³Ïï»ñÁ | AL6: ²Û¹ ÃíáõÙ` ÙÇç³ÝÏÛ³É ¹³ï³Ï³Ý ³Ïï»ñÁ | AM6: ÀÝ¹³Ù»ÝÁ | AN6: Ü³Ëáñ¹ ï³ñÇÝ»ñÇÝ Ï³Û³óí³Í ³Ïï»ñÇ µ»Ï³ÝáõÙÝ»ñÁ Ñ³ßí»ïáõ Å³Ù³Ý³Ï³ßñç³ÝáõÙ | AO6: Ð³ßí»ïáõ Å³Ù³Ý³Ï³ßñç³ÝáõÙ Ï³Û³óí³Í ³Ïï»ñÇ µ»Ï³ÝáõÙÁ
T7: ÀÝ¹³Ù»ÝÁ Ï³ñ×í»É »Ý | U7: ²Û¹ ÃíáõÙª Ñ³ëï³ïí»É ¿ ÏÝùí³Í Ñ³ßïáõÃÛ³Ý Ñ³Ù³Ó³ÛÝáõÃÛáõÝÁ | V7: ²Û¹ ÃíáõÙª Ñ³óÇó, ¹ÇÙáõÙÇó Ññ³Å³ñí»Éáõ ÑÇÙùáí | W7: ²Û¹ ÃíáõÙª ³ÛÉ ÑÇÙùáí
E8: 1 | F8: 2 | G8: 3 | H8: 4 | I8: 5 | J8: 6 | K8: 7 | L8: 8 | M8: 9 | N8: 10 | O8: 11 | P8: 12 | Q8: 13 | R8: 14 | S8: 15 | T8: 16 | U8: 17 | V8: 18 | W8: 19 | X8: 20 | Y8: 21 | Z8: 22 | AA8: 23 | AB8: 24 | AC8: 25 | AD8: 26 | AE8: 27 | AF8: 28 | AG8: 29 | AH8: 30 | AI8: 31 | AJ8: 32 | AK8: 33 | AL8: 34 | AM8: 35 | AN8: 36 | AO8: 37 | AP8: 38 | AQ8: 39 | AR8: 40 | AS8: 41
A9: 1. | B9: ¶áõÛù³ÛÇÝ Çñ³í³Ñ³ñ³µ»ñáõÃÛáõÝÝ»ñÇ í»ñ³µ»ñÛ³É ¹³ï³Ï³Ý ·áñÍ»ñ | E9: =SUM(E10:E28) -> 85 | F9: =SUM(F10:F28) -> 29 | G9: =SUM(G10:G28) -> 56 | H9: =SUM(H10:H28) -> 0 | I9: =SUM(I10:I28) -> 0 | J9: =SUM(J10:J28) -> 34 | K9: =SUM(K10:K28) -> 29 | L9: =SUM(L10:L28) -> 4 | ... AS9: =SUM(AS10:AS28) -> 0
A10: 1.1 | B10: ¶áõÛùÇ ÝÏ³ïÙ³Ùµ ë»÷³Ï³ÝáõÃÛ³Ý Çñ³íáõÝùÁ ×³Ý³ã»Éáõ í»ñ³µ»ñÛ³É | E10: 7 | F10: 2 | G10: 5 | J10: 3 | K10: 2 | L10: 1 | O10: 3 | R10: 3 | Y10: 3 | AB10: 6 | AC10: 1 | AD10: 1 | AF10: 1 | AH10: 1 | AJ10: 1
A11: 1.1.1 | B11: ²Û¹ ÃíáõÙª Ó»éùµ»ñÙ³Ý í³Õ»ÙáõÃÛ³Ý áõÅáí | E11: 9 | F11: 1 | G11: 8 | J11: 2 | K11: 1 | M11: 1 | O11: 2 | Q11: 2 | Y11: 2 | AA11: 1 | AB11: 8 | AC11: 1 | AD11: 2 | AF11: 2 | AH11: 2 | AJ11: 2
A12: 1.1.2 | B12: ²Û¹ ÃíáõÙª ïÇñ³½áõñÏ ·áõÛùÇ ÝÏ³ïÙ³Ùµ
A13: 1.1.3 | B13: ²Û¹ ÃíáõÙª ÇÝùÝ³Ï³Ù Ï³éáõÛóÇ ÝÏ³ïÙ³Ùµ
A14: 1.2 | B14: ê»÷³Ï³ÝáõÃÛ³Ý Çñ³íáõÝùÇ ¹³¹³ñ»óÙ³Ý í»ñ³µ»ñÛ³É | E14: 2 | G14: 2 | J14: 1 | K14: 1 | AB14: 3
A15: 1.3 | B15: ¶áõÛùÇ ÝÏ³ïÙ³Ùµ û·ï³·áñÍÙ³Ý Çñ³íáõÝùÁ ×³Ý³ã»Éáõ í»ñ³µ»ñÛ³É
A16: 1.3.1 | B16: ²Û¹ ÃíáõÙª µÝ³Ïû·ï³·áñÍÙ³Ý Çñ³íáõÝùÁ ×³Ý³ã»Éáõ í»ñ³µ»ñÛ³É
A17: 1.3.2 | B17: ²Û¹ ÃíáõÙª ÑáÕ³Ù³ëÇ ÝÏ³ïÙ³Ùµ û·ï³·áñÍÙ³Ý Çñ³íáõÝùÁ ×³Ý³ã»Éáõ í»ñ³µ»ñÛ³É
A18: 1.4 | B18: ¶áõÛùÇ ÝÏ³ïÙ³Ùµ û·ï³·áñÍÙ³Ý Çñ³íáõÝùÁ ¹³¹³ñ»óÝ»Éáõ í»ñ³µ»ñÛ³É
A19: 1.4.1 | B19: ²Û¹ ÃíáõÙª µÝ³Ïû·ï³·áñÍÙ³Ý Çñ³íáõÝùÁ ¹³¹³ñ»óÝ»Éáõ í»ñ³µ»ñÛ³É | E19: 3 | F19: 1 | G19: 2 | AA19: 1 | AB19: 3 | AC19: 2
A20: 1.4.1/1 | B20: ²Û¹ ÃíáõÙª ÷áËÑ³ïáõóÙ³Ùµ
A21: 1.5 | B21: ´Ý³Ï³ñ³ÝÇó/ ï³ñ³ÍùÇó/ íï³ñ»Éáõ í»ñ³µ»ñÛ³É | E21: 7 | F21: 2 | G21: 5 | J21: 2 | K21: 2 | O21: 1 | P21: 1 | Y21: 1 | AA21: 1 | AB21: 8 | AC21: 2 | AD21: 2 | AF21: 2 | AG21: 1 | AH21: 1 | AJ21: 1
A22: 1.6 | B22: ¶áõÛùÝ áõñÇßÇ ³åûñÇÝÇ ïÇñ³å»ïáõÙÇó »ï í»ñ³¹³ñÓÝ»Éáõ í»ñ³µ»ñÛ³É | E22: 2 | F22: 1 | G22: 1 | AB22: 2 | AC22: 1
A23: 1.6.1 | B23: ´³ñ»ËÇÕ× Ó»éùµ»ñáÕÇó Çñ ·áõÛùÁ Ñ»ï å³Ñ³Ýç»Éáõ í»ñ³µ»ñÛ³É
A24: 1.7 | B24: îÇñ³å»ïáõÙÇó ½ñÏ»Éáõ Ñ»ï ãÏ³åí³Í Çñ³íáõÝùÝ»ñÇ Ë³ËïáõÙÁ í»ñ³óÝ»Éáõ í»ñ³µ»ñÛ³É | E24: 4 | F24: 2 | G24: 2 | J24: 1 | K24: 1 | AB24: 5 | AC24: 2
A25: 1.8 | B25: ÀÝ¹Ñ³Ýáõñ µ³ÅÝ³ÛÇÝ ë»÷³Ï³ÝáõÃÛáõÝÇó µ³ÅÇÝÝ ³é³ÝÓÝ³óÝ»Éáõ í»ñ³µ»ñÛ³É | E25: 18 | F25: 9 | G25: 9 | J25: 8 | K25: 6 | L25: 2 | O25: 1 | T25: 1 | V25: 1 | Y25: 1 | AA25: 2 | AB25: 23 | AC25: 7
A26: 1.8.1 | B26: Ð³Ù³ï»Õ ë»÷³Ï³ÝáõÃÛ³Ý Ý»ñùá ·ïÝíáÕ ·áõÛùÁ µ³Å³Ý»Éáõ ¨ ¹ñ³ÝÇó µ³ÅÇÝÝ ³é³ÝÓÝ³óÝ»Éáõ í»ñ³µ»ñÛ³É | E26: 22 | F26: 9 | G26: 13 | J26: 10 | K26: 9 | L26: 1 | O26: 4 | Q26: 2 | T26: 2 | V26: 2 | Y26: 4 | AA26: 3 | AB26: 27 | AC26: 6 | AD26: 1 | AF26: 1 | AH26: 1
A27: 1.8.3 | B27: ¶áõÛùÇ íñ³ µéÝ³·³ÝÓáõÙ ï³ñ³Í»Éáõ å³Ñ³ÝçÇ Ù³ëÇÝ
A28: 1.9 | B28: ²ÛÉ í»×»ñ | E28: 11 | F28: 2 | G28: 9 | J28: 7 | K28: 7 | O28: 4 | T28: 4 | V28: 4 | Y28: 4 | AB28: 14
A29: 2. | B29: ¶áñÍ³ñùÝ»ñÇ Ñ»ï Ï³åí³Í Çñ³í³Ñ³ñ³µ»ñáõÃÛáõÝÝ»ñÇ í»ñ³µ»ñÛ³É ¹³ï³Ï³Ý ·áñÍ»ñ | E29: =SUM(E30:E40) -> 38 | F29: =SUM(F30:F40) -> 13 | G29: =SUM(G30:G40) -> 25 | H29: =SUM(H30:H40) -> 0 | I29: =SUM(I30:I40) -> 0 | J29: =SUM(J30:J40) -> 13 | K29: =SUM(K30:K40) -> 12 | L29: =SUM(L30:L40) -> 1 | ... AS29: =SUM(AS30:AS40) -> 0
A30: 2.1 | B30: ·áñÍ³ñùÝ»ñÇ ³Ýí³í»ñáõÃÛ³Ý Ñ»ï Ï³åí³Í í»×»ñ | E30: 5 | F30: 2 | G30: 3 | J30: 4 | K30: 4 | O30: 1 | T30: 1 | V30: 1 | Y30: 1 | AB30: 8 | AC30: 2
A31: 2.1.1 | B31: ³Û¹ ÃíáõÙ` íÇ×³Ñ³ñáõÛó ·áñÍ³ñùÝ»ñÝ ³Ýí³í»ñ ×³Ý³ã»Éáõ í»ñ³µ»ñÛ³É
A32: 2.1.2 | B32: ³Û¹ ÃíáõÙ` ·áñÍ³ñùÇ ³éáãÝãáõÃÛ³Ý Ñ»ï¨³ÝùÝ»ñ ÏÇñ³é»Éáõ í»ñ³µ»ñÛ³É | E32: 2 | G32: 2 | O32: 1 | R32: 1 | Y32: 1 | AB32: 1 | AD32: 1 | AF32: 1 | AH32: 1 | AJ32: 1
A33: 2.2 | B33: ¶áñÍ³ñùÁ í³í»ñ ×³Ý³ã»Éáõ í»ñ³µ»ñÛ³É | E33: 1 | G33: 1 | AB33: 1
A34: 2.3 | B34: ¶áñÍ³ñùÇó Í³·áÕ Çñ³íáõÝùÝ»ñÁ ·ñ³Ýó»Éáõ í»ñ³µ»ñÛ³É
A35: 2.4 | B35: ä³ÛÙ³Ý³·ÇñÝ ³Ýí³í»ñ ×³Ý³ã»Éáõ í»ñ³µ»ñÛ³É | E35: 16 | F35: 6 | G35: 10 | J35: 2 | K35: 2 | O35: 6 | Q35: 1 | R35: 4 | T35: 1 | U35: 1 | Y35: 6 | AB35: 12 | AC35: 4 | AD35: 3 | AF35: 3 | AH35: 3 | AJ35: 1
A36: 2.5 | B36: ä³ÛÙ³Ý³·ñÇÁ í³í»ñ ×³Ý³ã»Éáõ í»ñ³µ»ñÛ³É | E36: 1 | F36: 1 | J36: 3 | K36: 3 | AB36: 4 | AC36: 1
A37: 2.6 | B37: ä³ÛÙ³Ý³·ñÇó Í³·áÕ Çñ³íáõÝùÝ»ñÁ ·ñ³Ýó»Éáõ í»ñ³µ»ñÛ³É
A38: 2.7 | B38: ä³ÛÙ³Ý³·ÇñÁ ÷á÷áË»Éáõ ¨ ÉáõÍ»Éáõ í»ñ³µ»ñÛ³É | E38: 2 | G38: 2 | J38: 1 | K38: 1 | O38: 1 | R38: 1 | Y38: 1 | AB38: 2 | AD38: 1 | AF38: 1 | AH38: 1 | AK38: 1 | AM38: 1 | AO38: 1
A39: 2.8 | B39: ä³ÛÙ³Ý³·Çñ ÏÝù»ÉáõÝ å³ñï³íáñ»óÝ»Éáõ í»ñ³µ»ñÛ³É | E39: 2 | F39: 1 | G39: 1 | O39: 1 | T39: 1 | V39: 1 | Y39: 1 | AB39: 1 | AC39: 1
A40: 2.9 | B40: ²ÛÉ í»×»ñ | E40: 9 | F40: 3 | G40: 6 | J40: 3 | K40: 2 | L40: 1 | O40: 3 | P40: 1 | T40: 2 | V40: 2 | Y40: 3 | AB40: 8 | AC40: 3
...

Sheet Ա. Փիլոսյան
A1: 2017թ. | G1: Ð²ÞìºîìàôÂÚàôÜ | AM1: Ð³í»Éí³Í Ð³Û³ëï³ÝÇ Ð³Ýñ³å»ïáõÃÛ³Ý ¸³ï³ñ³ÝÝ»ñÇ Ý³Ë³·³ÑÝ»ñÇ ËáñÑñ¹Ç 29.01.2018Ã. ÃÇí 10-È áñáßÙ³Ý
A2: ºðºì²ÜÆ ²æ²öÜÚ²Î ºì ¸²ìÂ²ÞºÜ ì²ðâ²Î²Ü Þðæ²ÜÜºðÆ ÀÜ¸Ð²Üàôð Æð²ì²êàôÂÚ²Ü ²è²æÆÜ ²îÚ²ÜÆ ¸²î²ð²ÜÆ ¸²î²ìàð | Z2: ². ՓԻԼՈՍՅԱՆԻ | AH2: ¶àðÌàôÜºàôÂÚ²Ü ìºð²´ºðÚ²È
A3: ø²Ô²ø²òÆ²Î²Ü ¶àðÌºðàì
A4: ºñ¨³ÝÇ ²ç³÷ÝÛ³Ï ¨ ¸³íÃ³ß»Ý í³ñã³Ï³Ý ßñç³ÝÝ»ñÇ ÁÝ¹Ñ³Ýáõñ Çñ³í³ëáõÃÛ³Ý ³é³çÇÝ ³ïÛ³ÝÇ ¹³ï³ñ³ÝÇ ù³Õ³ù³óÇ³Ï³Ý Ù³ëÝ³·Çï³óáõÙ áõÝ»óáÕ ¹³ï³íáñÝ»ñÇ Ñ³ëïÇùÝ»ñÇ ù³Ý³ÏÁ` 5
E5: Ð³ßí»ïáõ Å³Ù³Ý³Ï³Ñ³ïí³ÍáõÙ Ý³Ëáñ¹ Ñ³ßí»ïáõ Å³Ù³Ý³Ï³Ñ³ïí³ÍÇó ÷áË³Ýóí³Í ·áñÍ»ñÇ ÁÝ¹Ñ³Ýáõñ ÃÇíÁ | J5: Ð³ßí»ïáõ Å³Ù³Ý³Ï³Ñ³ïí³ÍáõÙëï³óí³Í ·áñÍ»ñÇ (³Û¹ ÃíáõÙ` Ñ³Ûó³¹ÇÙáõÙÝ»ñÇ, ¹ÇÙáõÙÝ»ñÇ) ÁÝ¹Ñ³Ýáõñ ÃÇíÁ | N5: öáË³Ýóí»É ¿ ³ÛÉ ¹³ï³íáñÇ (Ï³½ÙÇ ÷á÷áËáõÃÛáõÝ) | O5: Ð³ßí»ïáõ Å³Ù³Ý³Ï³Ñ³ïí³ÍáõÙ ³í³ñïí³Í ·áñÍ»ñÇ ÁÝ¹Ñ³Ýáõñ ÃÇíÁ | Z5: ¶áñÍÝ áõÕ³ñÏí»É ¿ Áëï ÁÝ¹¹³ïáõÃÛ³Ý | AA5: Ð³ßí»ïáõ Å³Ù³Ý³Ï³Ñ³ïí³ÍáõÙ Ï³ë»óí³Í í³ñáõÛÃÝ»ñáí ·áñÍ»ñÇ ÁÝ¹Ñ³Ýáõñ ÃÇíÁ | AB5: Ð³ßí»ïáõ Å³Ù³Ý³Ï³Ñ³ïí³ÍáõÙ ³Ý³í³ñï ·áñÍ»ñÇ ÁÝ¹Ñ³Ýáõñ ÃÇíÁ | AC5: ²Û¹ ÃíáõÙª Ï³ë»óí³Í | AD5: ´áÕáù³ñÏí³Í ¹³ï³Ï³Ý ³Ïï»ñÁ | AI5: ²í³ñïí³Í ¹³ï³Ï³Ý ·áñÍ»ñÇ µáÕáù³ñÏÙ³Ý ïáÏáëÁ (Ñ³ßí»ïáõ Å³Ù³Ý³Ï³ßñç³ÝáõÙ) | AJ5: ²Ý³í³ñï µáÕáùÝ»ñ | AK5: ´»Ï³Ýí³Í ¹³ï³Ï³Ý ³Ïï»ñÁ | AP5: µ»Ï³ÝáõÙÝ»ñÇ ïáÏáëÁ ³í³ñïí³Í ·áñÍ»ñÇó(Ñ³ßí»ïáõ Å³Ù³Ý³Ï³ßñç³ÝáõÙ) | AQ5: Î³ÛáõÝáõÃÛ³Ý ïáÏáëÁ ³í³ñïí³Í ·áñÍ»ñÇó(Ñ³ßí»ïáõ Å³Ù³Ý³Ï³ßñç³ÝáõÙ) | AR5: µ»Ï³ÝáõÙÝ»ñÇ ïáÏáëÁ µáÕáù³ñÏí³Í ·áñÍ»ñÇó(Ñ³ßí»ïáõ Å³Ù³Ý³Ï³ßñç³ÝáõÙ) | AS5: Ï³ÛáõÝáõÃÛ³Ý ïáÏáëÁ(Ñ³ßí»ïáõ Å³Ù³Ý³Ï³ßñç³ÝáõÙ)
E6: ÀÝ¹³Ù»ÝÁ | F6: ²Û¹ ÃíáõÙ`Ï³ë»óí³Í íÇ×³ÏáõÙ ÷áË³Ýóí³Í | G6: ²Û¹ ÃíáõÙª ÁÝ¹áõÝí»É ¿ í³ñáõÛÃ | H6: ²Û¹ ÃíáõÙª í»ñ³¹³ñÓí»É ¿ | I6: ²Û¹ ÃíáõÙª ÁÝ¹áõÝáõÙÁ Ù»ñÅí»É ¿ | J6: ÀÝ¹³Ù»ÝÁ | K6: ²Û¹ ÃíáõÙª ÁÝ¹áõÝí»É ¿ í³ñáõÛÃ | L6: ²Û¹ ÃíáõÙª í»ñ³¹³ñÓí»É ¿ | M6: ²Û¹ ÃíáõÙª ÁÝ¹áõÝáõÙÁ Ù»ñÅí»É ¿ | O6: ÀÝ¹³Ù»ÝÁ ³í³ñïí»É »Ý ·áñÍ»ñ ·áñÍÝ Áëï ¿áõÃÛ³Ý ÉáõÍáÕ ¹³ï³Ï³Ý ³Ïï»ñÇ (í×ÇéÝ»ñÇ) Ï³Û³óÙ³Ùµ | P6: ²Û¹ ÃíáõÙª Ñ³ÛóÇ µ³í³ñ³ñÙ³Ùµ | Q6: ²Û¹ ÃíáõÙª Ñ³ÛóÇ Ù³ëÝ³ÏÇ µ³í³ñ³ñÙ³Ùµ | R6: ²Û¹ ÃíáõÙª Ñ³ÛóÇ Ù»ñÅÙ³Ùµ | S6: Ø³ëáí Ï³ñ×í»É ¿, Ù³ëáí Ù»ñÅí»É | T6: ²Û¹ ÃíáõÙª Ï³ñ×í»É »Ý | X6: Ð³ÛóÁ ÃáÕÝí»É ¿ ³é³Ýó ùÝÝáõÃÛ³Ý | Y6: ÀÝ¹³Ù»ÝÝ ³í³ñïí»É »Ý ·áñÍ»ñ | AD6: ²Û¹ ÃíáõÙ` ·áñÍÝ Áëï ¿áõÃÛ³Ý ÉáõÍáÕ ¹³ï³Ï³Ý ³Ïï»ñÁ | AE6: ²Û¹ ÃíáõÙ` ÙÇç³ÝÏÛ³É ¹³ï³Ï³Ý ³Ïï»ñÁ | AF6: ÀÝ¹³Ù»ÝÁ | AG6: Ü³Ëáñ¹ ï³ñÇÝ»ñÇÝ Ï³Û³óí³Í ³Ïï»ñÇ µáÕáù³ñÏáõÙÁ Ñ³ßí»ïáõ Å³Ù³Ý³Ï³ßñç³ÝáõÙ | AH6: Ð³ßí»ïáõ Å³Ù³Ý³Ï³ßñç³ÝáõÙ Ï³Û³óí³Í ³Ïï»ñÇ µáÕáù³ñÏáõÙÁ | AK6: ²Û¹ ÃíáõÙ` ·áñÍÝ Áëï ¿áõÃÛ³Ý ÉáõÍáÕ ¹³ï³Ï³Ý ³Ïï»ñÁ | AL6: ²Û¹ ÃíáõÙ` ÙÇç³ÝÏÛ³É ¹³ï³Ï³Ý ³Ïï»ñÁ | AM6: ÀÝ¹³Ù»ÝÁ | AN6: Ü³Ëáñ¹ ï³ñÇÝ»ñÇÝ Ï³Û³óí³Í ³Ïï»ñÇ µ»Ï³ÝáõÙÝ»ñÁ Ñ³ßí»ïáõ Å³Ù³Ý³Ï³ßñç³ÝáõÙ | AO6: Ð³ßí»ïáõ Å³Ù³Ý³Ï³ßñç³ÝáõÙ Ï³Û³óí³Í ³Ïï»ñÇ µ»Ï³ÝáõÙÁ
T7: ÀÝ¹³Ù»ÝÁ Ï³ñ×í»É »Ý | U7: ²Û¹ ÃíáõÙª Ñ³ëï³ïí»É ¿ ÏÝùí³Í Ñ³ßïáõÃÛ³Ý Ñ³Ù³Ó³ÛÝáõÃÛáõÝÁ | V7: ²Û¹ ÃíáõÙª Ñ³óÇó, ¹ÇÙáõÙÇó Ññ³Å³ñí»Éáõ ÑÇÙùáí | W7: ²Û¹ ÃíáõÙª ³ÛÉ ÑÇÙùáí
E8: 1 | F8: 2 | G8: 3 | H8: 4 | I8: 5 | J8: 6 | K8: 7 | L8: 8 | M8: 9 | N8: 10 | O8: 11 | P8: 12 | Q8: 13 | R8: 14 | S8: 15 | T8: 16 | U8: 17 | V8: 18 | W8: 19 | X8: 20 | Y8: 21 | Z8: 22 | AA8: 23 | AB8: 24 | AC8: 25 | AD8: 26 | AE8: 27 | AF8: 28 | AG8: 29 | AH8: 30 | AI8: 31 | AJ8: 32 | AK8: 33 | AL8: 34 | AM8: 35 | AN8: 36 | AO8: 37 | AP8: 38 | AQ8: 39 | AR8: 40 | AS8: 41
A9: 1. | B9: ¶áõÛù³ÛÇÝ Çñ³í³Ñ³ñ³µ»ñáõÃÛáõÝÝ»ñÇ í»ñ³µ»ñÛ³É ¹³ï³Ï³Ý ·áñÍ»ñ | E9: =SUM(E10:E28) -> 83 | F9: =SUM(F10:F28) -> 16 | G9: =SUM(G10:G28) -> 67 | H9: =SUM(H10:H28) -> 0 | I9: =SUM(I10:I28) -> 0 | J9: =SUM(J10:J28) -> 46 | K9: =SUM(K10:K28) -> 33 | L9: =SUM(L10:L28) -> 13 | ... AS9: =SUM(AS10:AS28) -> 0
A10: 1.1 | B10: ¶áõÛùÇ ÝÏ³ïÙ³Ùµ ë»÷³Ï³ÝáõÃÛ³Ý Çñ³íáõÝùÁ ×³Ý³ã»Éáõ í»ñ³µ»ñÛ³É | E10: 8 | F10: 2 | G10: 6 | J10: 7 | K10: 6 | L10: 1 | O10: 5 | R10: 3 | T10: 2 | V10: 2 | Y10: 5 | AA10: 1 | AB10: 9 | AC10: 2 | AD10: 1 | AF10: 1 | AH10: 1 | AJ10: 1
A11: 1.1.1 | B11: ²Û¹ ÃíáõÙª Ó»éùµ»ñÙ³Ý í³Õ»ÙáõÃÛ³Ý áõÅáí | E11: 4 | G11: 4 | J11: 2 | K11: 2 | O11: 3 | R11: 2 | T11: 1 | V11: 1 | Y11: 3 | AB11: 3 | AD11: 2 | AF11: 2 | AG11: 1 | AH11: 1 | AK11: 1 | AM11: 1 | AN11: 1
A12: 1.1.2 | B12: ²Û¹ ÃíáõÙª ïÇñ³½áõñÏ ·áõÛùÇ ÝÏ³ïÙ³Ùµ
A13: 1.1.3 | B13: ²Û¹ ÃíáõÙª ÇÝùÝ³Ï³Ù Ï³éáõÛóÇ ÝÏ³ïÙ³Ùµ
A14: 1.2 | B14: ê»÷³Ï³ÝáõÃÛ³Ý Çñ³íáõÝùÇ ¹³¹³ñ»óÙ³Ý í»ñ³µ»ñÛ³É | E14: 1 | G14: 1 | J14: 5 | K14: 2 | L14: 3 | O14: 1 | T14: 1 | V14: 1 | Y14: 1 | AB14: 2
A15: 1.3 | B15: ¶áõÛùÇ ÝÏ³ïÙ³Ùµ û·ï³·áñÍÙ³Ý Çñ³íáõÝùÁ ×³Ý³ã»Éáõ í»ñ³µ»ñÛ³É
A16: 1.3.1 | B16: ²Û¹ ÃíáõÙª µÝ³Ïû·ï³·áñÍÙ³Ý Çñ³íáõÝùÁ ×³Ý³ã»Éáõ í»ñ³µ»ñÛ³É
A17: 1.3.2 | B17: ²Û¹ ÃíáõÙª ÑáÕ³Ù³ëÇ ÝÏ³ïÙ³Ùµ û·ï³·áñÍÙ³Ý Çñ³íáõÝùÁ ×³Ý³ã»Éáõ í»ñ³µ»ñÛ³É
A18: 1.4 | B18: ¶áõÛùÇ ÝÏ³ïÙ³Ùµ û·ï³·áñÍÙ³Ý Çñ³íáõÝùÁ ¹³¹³ñ»óÝ»Éáõ í»ñ³µ»ñÛ³É
A19: 1.4.1 | B19: ²Û¹ ÃíáõÙª µÝ³Ïû·ï³·áñÍÙ³Ý Çñ³íáõÝùÁ ¹³¹³ñ»óÝ»Éáõ í»ñ³µ»ñÛ³É
A20: 1.4.1/1 | B20: ²Û¹ ÃíáõÙª ÷áËÑ³ïáõóÙ³Ùµ | E20: 2 | G20: 2 | O20: 1 | T20: 1 | V20: 1 | Y20: 1 | AA20: 1 | AB20: 1 | AC20: 1
A21: 1.5 | B21: ´Ý³Ï³ñ³ÝÇó/ ï³ñ³ÍùÇó/ íï³ñ»Éáõ í»ñ³µ»ñÛ³É | E21: 5 | F21: 2 | G21: 3 | J21: 1 | K21: 1 | O21: 2 | Q21: 2 | Y21: 2 | AB21: 4 | AC21: 2 | AD21: 1 | AF21: 1 | AH21: 1
A22: 1.6 | B22: ¶áõÛùÝ áõñÇßÇ ³åûñÇÝÇ ïÇñ³å»ïáõÙÇó »ï í»ñ³¹³ñÓÝ»Éáõ í»ñ³µ»ñÛ³É | E22: 7 | F22: 1 | G22: 6 | J22: 3 | K22: 2 | L22: 1 | O22: 3 | P22: 1 | R22: 2 | Y22: 3 | AA22: 1 | AB22: 6 | AC22: 1 | AD22: 3 | AF22: 3 | AG22: 1 | AH22: 2 | AJ22: 1 | AK22: 1 | AM22: 1 | AN22: 1
A23: 1.6.1 | B23: ´³ñ»ËÇÕ× Ó»éùµ»ñáÕÇó Çñ ·áõÛùÁ Ñ»ï å³Ñ³Ýç»Éáõ í»ñ³µ»ñÛ³É
A24: 1.7 | B24: îÇñ³å»ïáõÙÇó ½ñÏ»Éáõ Ñ»ï ãÏ³åí³Í Çñ³íáõÝùÝ»ñÇ Ë³ËïáõÙÁ í»ñ³óÝ»Éáõ í»ñ³µ»ñÛ³É | E24: 3 | G24: 3 | O24: 1 | R24: 1 | Y24: 1 | AB24: 2 | AE24: 1 | AF24: 1 | AG24: 1
A25: 1.8 | B25: ÀÝ¹Ñ³Ýáõñ µ³ÅÝ³ÛÇÝ ë»÷³Ï³ÝáõÃÛáõÝÇó µ³ÅÇÝÝ ³é³ÝÓÝ³óÝ»Éáõ í»ñ³µ»ñÛ³É | E25: 16 | F25: 4 | G25: 12 | J25: 10 | K25: 7 | L25: 3 | O25: 4 | P25: 2 | R25: 1 | T25: 1 | V25: 1 | Y25: 4 | AA25: 3 | AB25: 19 | AC25: 5
A26: 1.8.1 | B26: Ð³Ù³ï»Õ ë»÷³Ï³ÝáõÃÛ³Ý Ý»ñùá ·ïÝíáÕ ·áõÛùÁ µ³Å³Ý»Éáõ ¨ ¹ñ³ÝÇó µ³ÅÇÝÝ ³é³ÝÓÝ³óÝ»Éáõ í»ñ³µ»ñÛ³É | E26: 26 | F26: 4 | G26: 22 | J26: 6 | K26: 5 | L26: 1 | O26: 12 | P26: 7 | Q26: 1 | R26: 2 | T26: 2 | V26: 2 | Y26: 12 | AA26: 7 | AB26: 19 | AC26: 8 | AD26: 5 | AF26: 5 | AG26: 2 | AH26: 3 | AJ26: 1
A27: 1.8.3 | B27: ¶áõÛùÇ íñ³ µéÝ³·³ÝÓáõÙ ï³ñ³Í»Éáõ å³Ñ³ÝçÇ Ù³ëÇÝ | E27: 2 | G27: 2 | AA27: 1 | AB27: 2 | AC27: 1
A28: 1.9 | B28: ²ÛÉ í»×»ñ | E28: 9 | F28: 3 | G28: 6 | J28: 12 | K28: 8 | L28: 4 | O28: 8 | P28: 1 | R28: 2 | T28: 5 | U28: 1 | V28: 4 | Y28: 8 | AA28: 2 | AB28: 9 | AC28: 4
A29: 2. | B29: ¶áñÍ³ñùÝ»ñÇ Ñ»ï Ï³åí³Í Çñ³í³Ñ³ñ³µ»ñáõÃÛáõÝÝ»ñÇ í»ñ³µ»ñÛ³É ¹³ï³Ï³Ý ·áñÍ»ñ | E29: =SUM(E30:E40) -> 23 | F29: =SUM(F30:F40) -> 6 | G29: =SUM(G30:G40) -> 17 | H29: =SUM(H30:H40) -> 0 | I29: =SUM(I30:I40) -> 0 | J29: =SUM(J30:J40) -> 10 | K29: =SUM(K30:K40) -> 9 | L29: =SUM(L30:L40) -> 1 | ... AS29: =SUM(AS30:AS40) -> 0
A30: 2.1 | B30: ·áñÍ³ñùÝ»ñÇ ³Ýí³í»ñáõÃÛ³Ý Ñ»ï Ï³åí³Í í»×»ñ | E30: 2 | G30: 2 | J30: 3 | K30: 3 | O30: 2 | P30: 1 | R30: 1 | Y30: 2 | AB30: 3 | AD30: 1 | AF30: 1 | AH30: 1 | AJ30: 1
A31: 2.1.1 | B31: ³Û¹ ÃíáõÙ` íÇ×³Ñ³ñáõÛó ·áñÍ³ñùÝ»ñÝ ³Ýí³í»ñ ×³Ý³ã»Éáõ í»ñ³µ»ñÛ³É
A32: 2.1.2 | B32: ³Û¹ ÃíáõÙ` ·áñÍ³ñùÇ ³éáãÝãáõÃÛ³Ý Ñ»ï¨³ÝùÝ»ñ ÏÇñ³é»Éáõ í»ñ³µ»ñÛ³É | E32: 1 | F32: 1 | J32: 1 | K32: 1 | O32: 1 | P32: 1 | Y32: 1 | AB32: 1
A33: 2.2 | B33: ¶áñÍ³ñùÁ í³í»ñ ×³Ý³ã»Éáõ í»ñ³µ»ñÛ³É
A34: 2.3 | B34: ¶áñÍ³ñùÇó Í³·áÕ Çñ³íáõÝùÝ»ñÁ ·ñ³Ýó»Éáõ í»ñ³µ»ñÛ³É
A35: 2.4 | B35: ä³ÛÙ³Ý³·ÇñÝ ³Ýí³í»ñ ×³Ý³ã»Éáõ í»ñ³µ»ñÛ³É | E35: 10 | F35: 2 | G35: 8 | J35: 2 | K35: 2 | O35: 5 | P35: 1 | R35: 3 | T35: 1 | W35: 1 | Y35: 5 | AB35: 7 | AD35: 2 | AF35: 2 | AH35: 2 | AJ35: 1 | AK35: 1 | AM35: 1 | AO35: 1
A36: 2.5 | B36: ä³ÛÙ³Ý³·ñÇÁ í³í»ñ ×³Ý³ã»Éáõ í»ñ³µ»ñÛ³É | E36: 1 | G36: 1 | O36: 1 | T36: 1 | V36: 1 | Y36: 1
A37: 2.6 | B37: ä³ÛÙ³Ý³·ñÇó Í³·áÕ Çñ³íáõÝùÝ»ñÁ ·ñ³Ýó»Éáõ í»ñ³µ»ñÛ³É
A38: 2.7 | B38: ä³ÛÙ³Ý³·ÇñÁ ÷á÷áË»Éáõ ¨ ÉáõÍ»Éáõ í»ñ³µ»ñÛ³É | E38: 3 | G38: 3 | J38: 2 | K38: 2 | O38: 2 | Q38: 1 | R38: 1 | Y38: 2 | AB38: 3 | AC38: 1
A39: 2.8 | B39: ä³ÛÙ³Ý³·Çñ ÏÝù»ÉáõÝ å³ñï³íáñ»óÝ»Éáõ í»ñ³µ»ñÛ³É | E39: 1 | F39: 1 | AB39: 1 | AC39: 1
A40: 2.9 | B40: ²ÛÉ í»×»ñ | E40: 5 | F40: 2 | G40: 3 | J40: 2 | K40: 1 | L40: 1 | O40: 3 | S40: 1 | T40: 2 | V40: 2 | Y40: 3 | AB40: 3 | AD40: 1 | AF40: 1 | AG40: 1
...

Sheet Ն. Ավետիսյան
A1: 2017թ. | G1: Ð²ÞìºîìàôÂÚàôÜ | AM1: Ð³í»Éí³Í Ð³Û³ëï³ÝÇ Ð³Ýñ³å»ïáõÃÛ³Ý ¸³ï³ñ³ÝÝ»ñÇ Ý³Ë³·³ÑÝ»ñÇ ËáñÑñ¹Ç 29.01.2018Ã. ÃÇí 10-È áñáßÙ³Ý
A2: ºðºì²ÜÆ ²æ²öÜÚ²Î ºì ¸²ìÂ²ÞºÜ ì²ðâ²Î²Ü Þðæ²ÜÜºðÆ ÀÜ¸Ð²Üàôð Æð²ì²êàôÂÚ²Ü ²è²æÆÜ ²îÚ²ÜÆ ¸²î²ð²ÜÆ ¸²î²ìàð | Z2: Ü. ²ìºîÆêÚ²ÜÆ | AH2: ¶àðÌàôÜºàôÂÚ²Ü ìºð²´ºðÚ²È
A3: ø²Ô²ø²òÆ²Î²Ü ¶àðÌºðàì
A4: ºñ¨³ÝÇ ²ç³÷ÝÛ³Ï ¨ ¸³íÃ³ß»Ý í³ñã³Ï³Ý ßñç³ÝÝ»ñÇ ÁÝ¹Ñ³Ýáõñ Çñ³í³ëáõÃÛ³Ý ³é³çÇÝ ³ïÛ³ÝÇ ¹³ï³ñ³ÝÇ ù³Õ³ù³óÇ³Ï³Ý Ù³ëÝ³·Çï³óáõÙ áõÝ»óáÕ ¹³ï³íáñÝ»ñÇ Ñ³ëïÇùÝ»ñÇ ù³Ý³ÏÁ` 5
E5: Ð³ßí»ïáõ Å³Ù³Ý³Ï³Ñ³ïí³ÍáõÙ Ý³Ëáñ¹ Ñ³ßí»ïáõ Å³Ù³Ý³Ï³Ñ³ïí³ÍÇó ÷áË³Ýóí³Í ·áñÍ»ñÇ ÁÝ¹Ñ³Ýáõñ ÃÇíÁ | J5: Ð³ßí»ïáõ Å³Ù³Ý³Ï³Ñ³ïí³ÍáõÙëï³óí³Í ·áñÍ»ñÇ (³Û¹ ÃíáõÙ` Ñ³Ûó³¹ÇÙáõÙÝ»ñÇ, ¹ÇÙáõÙÝ»ñÇ) ÁÝ¹Ñ³Ýáõñ ÃÇíÁ | N5: öáË³Ýóí»É ¿ ³ÛÉ ¹³ï³íáñÇ (Ï³½ÙÇ ÷á÷áËáõÃÛáõÝ) | O5: Ð³ßí»ïáõ Å³Ù³Ý³Ï³Ñ³ïí³ÍáõÙ ³í³ñïí³Í ·áñÍ»ñÇ ÁÝ¹Ñ³Ýáõñ ÃÇíÁ | Z5: ¶áñÍÝ áõÕ³ñÏí»É ¿ Áëï ÁÝ¹¹³ïáõÃÛ³Ý | AA5: Ð³ßí»ïáõ Å³Ù³Ý³Ï³Ñ³ïí³ÍáõÙ Ï³ë»óí³Í í³ñáõÛÃÝ»ñáí ·áñÍ»ñÇ ÁÝ¹Ñ³Ýáõñ ÃÇíÁ | AB5: Ð³ßí»ïáõ Å³Ù³Ý³Ï³Ñ³ïí³ÍáõÙ ³Ý³í³ñï ·áñÍ»ñÇ ÁÝ¹Ñ³Ýáõñ ÃÇíÁ | AC5: ²Û¹ ÃíáõÙª Ï³ë»óí³Í | AD5: ´áÕáù³ñÏí³Í ¹³ï³Ï³Ý ³Ïï»ñÁ | AI5: ²í³ñïí³Í ¹³ï³Ï³Ý ·áñÍ»ñÇ µáÕáù³ñÏÙ³Ý ïáÏáëÁ (Ñ³ßí»ïáõ Å³Ù³Ý³Ï³ßñç³ÝáõÙ) | AJ5: ²Ý³í³ñï µáÕáùÝ»ñ | AK5: ´»Ï³Ýí³Í ¹³ï³Ï³Ý ³Ïï»ñÁ | AP5: µ»Ï³ÝáõÙÝ»ñÇ ïáÏáëÁ ³í³ñïí³Í ·áñÍ»ñÇó(Ñ³ßí»ïáõ Å³Ù³Ý³Ï³ßñç³ÝáõÙ) | AQ5: Î³ÛáõÝáõÃÛ³Ý ïáÏáëÁ ³í³ñïí³Í ·áñÍ»ñÇó(Ñ³ßí»ïáõ Å³Ù³Ý³Ï³ßñç³ÝáõÙ) | AR5: µ»Ï³ÝáõÙÝ»ñÇ ïáÏáëÁ µáÕáù³ñÏí³Í ·áñÍ»ñÇó(Ñ³ßí»ïáõ Å³Ù³Ý³Ï³ßñç³ÝáõÙ) | AS5: Ï³ÛáõÝáõÃÛ³Ý ïáÏáëÁ(Ñ³ßí»ïáõ Å³Ù³Ý³Ï³ßñç³ÝáõÙ)
E6: ÀÝ¹³Ù»ÝÁ | F6: ²Û¹ ÃíáõÙ`Ï³ë»óí³Í íÇ×³ÏáõÙ ÷áË³Ýóí³Í | G6: ²Û¹ ÃíáõÙª ÁÝ¹áõÝí»É ¿ í³ñáõÛÃ | H6: ²Û¹ ÃíáõÙª í»ñ³¹³ñÓí»É ¿ | I6: ²Û¹ ÃíáõÙª ÁÝ¹áõÝáõÙÁ Ù»ñÅí»É ¿ | J6: ÀÝ¹³Ù»ÝÁ | K6: ²Û¹ ÃíáõÙª ÁÝ¹áõÝí»É ¿ í³ñáõÛÃ | L6: ²Û¹ ÃíáõÙª í»ñ³¹³ñÓí»É ¿ | M6: ²Û¹ ÃíáõÙª ÁÝ¹áõÝáõÙÁ Ù»ñÅí»É ¿ | O6: ÀÝ¹³Ù»ÝÁ ³í³ñïí»É »Ý ·áñÍ»ñ ·áñÍÝ Áëï ¿áõÃÛ³Ý ÉáõÍáÕ ¹³ï³Ï³Ý ³Ïï»ñÇ (í×ÇéÝ»ñÇ) Ï³Û³óÙ³Ùµ | P6: ²Û¹ ÃíáõÙª Ñ³ÛóÇ µ³í³ñ³ñÙ³Ùµ | Q6: ²Û¹ ÃíáõÙª Ñ³ÛóÇ Ù³ëÝ³ÏÇ µ³í³ñ³ñÙ³Ùµ | R6: ²Û¹ ÃíáõÙª Ñ³ÛóÇ Ù»ñÅÙ³Ùµ | S6: Ø³ëáí Ï³ñ×í»É ¿, Ù³ëáí Ù»ñÅí»É | T6: ²Û¹ ÃíáõÙª Ï³ñ×í»É »Ý | X6: Ð³ÛóÁ ÃáÕÝí»É ¿ ³é³Ýó ùÝÝáõÃÛ³Ý | Y6: ÀÝ¹³Ù»ÝÝ ³í³ñïí»É »Ý ·áñÍ»ñ | AD6: ²Û¹ ÃíáõÙ` ·áñÍÝ Áëï ¿áõÃÛ³Ý ÉáõÍáÕ ¹³ï³Ï³Ý ³Ïï»ñÁ | AE6: ²Û¹ ÃíáõÙ` ÙÇç³ÝÏÛ³É ¹³ï³Ï³Ý ³Ïï»ñÁ | AF6: ÀÝ¹³Ù»ÝÁ | AG6: Ü³Ëáñ¹ ï³ñÇÝ»ñÇÝ Ï³Û³óí³Í ³Ïï»ñÇ µáÕáù³ñÏáõÙÁ Ñ³ßí»ïáõ Å³Ù³Ý³Ï³ßñç³ÝáõÙ | AH6: Ð³ßí»ïáõ Å³Ù³Ý³Ï³ßñç³ÝáõÙ Ï³Û³óí³Í ³Ïï»ñÇ µáÕáù³ñÏáõÙÁ | AK6: ²Û¹ ÃíáõÙ` ·áñÍÝ Áëï ¿áõÃÛ³Ý ÉáõÍáÕ ¹³ï³Ï³Ý ³Ïï»ñÁ | AL6: ²Û¹ ÃíáõÙ` ÙÇç³ÝÏÛ³É ¹³ï³Ï³Ý ³Ïï»ñÁ | AM6: ÀÝ¹³Ù»ÝÁ | AN6: Ü³Ëáñ¹ ï³ñÇÝ»ñÇÝ Ï³Û³óí³Í ³Ïï»ñÇ µ»Ï³ÝáõÙÝ»ñÁ Ñ³ßí»ïáõ Å³Ù³Ý³Ï³ßñç³ÝáõÙ | AO6: Ð³ßí»ïáõ Å³Ù³Ý³Ï³ßñç³ÝáõÙ Ï³Û³óí³Í ³Ïï»ñÇ µ»Ï³ÝáõÙÁ
T7: ÀÝ¹³Ù»ÝÁ Ï³ñ×í»É »Ý | U7: ²Û¹ ÃíáõÙª Ñ³ëï³ïí»É ¿ ÏÝùí³Í Ñ³ßïáõÃÛ³Ý Ñ³Ù³Ó³ÛÝáõÃÛáõÝÁ | V7: ²Û¹ ÃíáõÙª Ñ³óÇó, ¹ÇÙáõÙÇó Ññ³Å³ñí»Éáõ ÑÇÙùáí | W7: ²Û¹ ÃíáõÙª ³ÛÉ ÑÇÙùáí
E8: 1 | F8: 2 | G8: 3 | H8: 4 | I8: 5 | J8: 6 | K8: 7 | L8: 8 | M8: 9 | N8: 10 | O8: 11 | P8: 12 | Q8: 13 | R8: 14 | S8: 15 | T8: 16 | U8: 17 | V8: 18 | W8: 19 | X8: 20 | Y8: 21 | Z8: 22 | AA8: 23 | AB8: 24 | AC8: 25 | AD8: 26 | AE8: 27 | AF8: 28 | AG8: 29 | AH8: 30 | AI8: 31 | AJ8: 32 | AK8: 33 | AL8: 34 | AM8: 35 | AN8: 36 | AO8: 37 | AP8: 38 | AQ8: 39 | AR8: 40 | AS8: 41
A9: 1. | B9: ¶áõÛù³ÛÇÝ Çñ³í³Ñ³ñ³µ»ñáõÃÛáõÝÝ»ñÇ í»ñ³µ»ñÛ³É ¹³ï³Ï³Ý ·áñÍ»ñ | E9: =SUM(E10:E28) -> 32 | F9: =SUM(F10:F28) -> 4 | G9: =SUM(G10:G28) -> 28 | H9: =SUM(H10:H28) -> 0 | I9: =SUM(I10:I28) -> 0 | J9: =SUM(J10:J28) -> 42 | K9: =SUM(K10:K28) -> 37 | L9: =SUM(L10:L28) -> 5 | ... AS9: =SUM(AS10:AS28) -> 0
A10: 1.1 | B10: ¶áõÛùÇ ÝÏ³ïÙ³Ùµ ë»÷³Ï³ÝáõÃÛ³Ý Çñ³íáõÝùÁ ×³Ý³ã»Éáõ í»ñ³µ»ñÛ³É | E10: 5 | G10: 5 | J10: 3 | K10: 3 | O10: 4 | P10: 3 | T10: 1 | V10: 1 | Y10: 4 | AB10: 4 | AD10: 3 | AF10: 3 | AH10: 3 | AJ10: 1 | AK10: 1 | AM10: 1 | AO10: 1
A11: 1.1.1 | B11: ²Û¹ ÃíáõÙª Ó»éùµ»ñÙ³Ý í³Õ»ÙáõÃÛ³Ý áõÅáí | E11: 4 | F11: 1 | G11: 3 | O11: 2 | P11: 1 | R11: 1 | Y11: 2 | AB11: 2 | AD11: 1 | AF11: 1 | AH11: 1 | AJ11: 1
A12: 1.1.2 | B12: ²Û¹ ÃíáõÙª ïÇñ³½áõñÏ ·áõÛùÇ ÝÏ³ïÙ³Ùµ
A13: 1.1.3 | B13: ²Û¹ ÃíáõÙª ÇÝùÝ³Ï³Ù Ï³éáõÛóÇ ÝÏ³ïÙ³Ùµ
A14: 1.2 | B14: ê»÷³Ï³ÝáõÃÛ³Ý Çñ³íáõÝùÇ ¹³¹³ñ»óÙ³Ý í»ñ³µ»ñÛ³É | J14: 1 | K14: 1 | AB14: 1
A15: 1.3 | B15: ¶áõÛùÇ ÝÏ³ïÙ³Ùµ û·ï³·áñÍÙ³Ý Çñ³íáõÝùÁ ×³Ý³ã»Éáõ í»ñ³µ»ñÛ³É
A16: 1.3.1 | B16: ²Û¹ ÃíáõÙª µÝ³Ïû·ï³·áñÍÙ³Ý Çñ³íáõÝùÁ ×³Ý³ã»Éáõ í»ñ³µ»ñÛ³É
A17: 1.3.2 | B17: ²Û¹ ÃíáõÙª ÑáÕ³Ù³ëÇ ÝÏ³ïÙ³Ùµ û·ï³·áñÍÙ³Ý Çñ³íáõÝùÁ ×³Ý³ã»Éáõ í»ñ³µ»ñÛ³É
A18: 1.4 | B18: ¶áõÛùÇ ÝÏ³ïÙ³Ùµ û·ï³·áñÍÙ³Ý Çñ³íáõÝùÁ ¹³¹³ñ»óÝ»Éáõ í»ñ³µ»ñÛ³É
A19: 1.4.1 | B19: ²Û¹ ÃíáõÙª µÝ³Ïû·ï³·áñÍÙ³Ý Çñ³íáõÝùÁ ¹³¹³ñ»óÝ»Éáõ í»ñ³µ»ñÛ³É
A20: 1.4.1/1 | B20: ²Û¹ ÃíáõÙª ÷áËÑ³ïáõóÙ³Ùµ
A21: 1.5 | B21: ´Ý³Ï³ñ³ÝÇó/ ï³ñ³ÍùÇó/ íï³ñ»Éáõ í»ñ³µ»ñÛ³É | E21: 7 | F21: 1 | G21: 6 | J21: 4 | K21: 3 | L21: 1 | O21: 5 | P21: 1 | Q21: 1 | R21: 1 | T21: 2 | U21: 1 | V21: 1 | Y21: 5 | AA21: 1 | AB21: 5 | AC21: 2 | AD21: 1 | AF21: 1 | AH21: 1 | AJ21: 1
A22: 1.6 | B22: ¶áõÛùÝ áõñÇßÇ ³åûñÇÝÇ ïÇñ³å»ïáõÙÇó »ï í»ñ³¹³ñÓÝ»Éáõ í»ñ³µ»ñÛ³É | E22: 2 | G22: 2 | J22: 4 | K22: 3 | L22: 1 | O22: 1 | R22: 1 | Y22: 1 | AB22: 4 | AD22: 1 | AF22: 1 | AH22: 1 | AJ22: 1
A23: 1.6.1 | B23: ´³ñ»ËÇÕ× Ó»éùµ»ñáÕÇó Çñ ·áõÛùÁ Ñ»ï å³Ñ³Ýç»Éáõ í»ñ³µ»ñÛ³É
A24: 1.7 | B24: îÇñ³å»ïáõÙÇó ½ñÏ»Éáõ Ñ»ï ãÏ³åí³Í Çñ³íáõÝùÝ»ñÇ Ë³ËïáõÙÁ í»ñ³óÝ»Éáõ í»ñ³µ»ñÛ³É
A25: 1.8 | B25: ÀÝ¹Ñ³Ýáõñ µ³ÅÝ³ÛÇÝ ë»÷³Ï³ÝáõÃÛáõÝÇó µ³ÅÇÝÝ ³é³ÝÓÝ³óÝ»Éáõ í»ñ³µ»ñÛ³É | E25: 2 | G25: 2 | J25: 5 | K25: 4 | L25: 1 | O25: 2 | R25: 1 | T25: 1 | U25: 1 | Y25: 2 | AA25: 1 | AB25: 4 | AC25: 1
A26: 1.8.1 | B26: Ð³Ù³ï»Õ ë»÷³Ï³ÝáõÃÛ³Ý Ý»ñùá ·ïÝíáÕ ·áõÛùÁ µ³Å³Ý»Éáõ ¨ ¹ñ³ÝÇó µ³ÅÇÝÝ ³é³ÝÓÝ³óÝ»Éáõ í»ñ³µ»ñÛ³É | E26: 7 | F26: 2 | G26: 5 | J26: 11 | K26: 10 | L26: 1 | O26: 5 | P26: 1 | R26: 1 | T26: 3 | U26: 1 | V26: 2 | Y26: 5 | AA26: 3 | AB26: 12 | AC26: 3
A27: 1.8.3 | B27: ¶áõÛùÇ íñ³ µéÝ³·³ÝÓáõÙ ï³ñ³Í»Éáõ å³Ñ³ÝçÇ Ù³ëÇÝ | E27: 2 | G27: 2 | J27: 3 | K27: 3 | O27: 3 | P27: 1 | Q27: 1 | R27: 1 | Y27: 3 | AB27: 2 | AD27: 4 | AF27: 4 | AG27: 1 | AH27: 3 | AK27: 1 | AM27: 1 | AO27: 1
A28: 1.9 | B28: ²ÛÉ í»×»ñ | E28: 3 | G28: 3 | J28: 11 | K28: 10 | L28: 1 | O28: 5 | P28: 1 | R28: 3 | T28: 1 | V28: 1 | Y28: 5 | AA28: 3 | AB28: 8 | AC28: 3 | AD28: 2 | AF28: 2 | AH28: 2
A29: 2. | B29: ¶áñÍ³ñùÝ»ñÇ Ñ»ï Ï³åí³Í Çñ³í³Ñ³ñ³µ»ñáõÃÛáõÝÝ»ñÇ í»ñ³µ»ñÛ³É ¹³ï³Ï³Ý ·áñÍ»ñ | E29: =SUM(E30:E40) -> 7 | F29: =SUM(F30:F40) -> 1 | G29: =SUM(G30:G40) -> 6 | H29: =SUM(H30:H40) -> 0 | I29: =SUM(I30:I40) -> 0 | J29: =SUM(J30:J40) -> 10 | K29: =SUM(K30:K40) -> 4 | L29: =SUM(L30:L40) -> 6 | ... AS29: =SUM(AS30:AS40) -> 0
A30: 2.1 | B30: ·áñÍ³ñùÝ»ñÇ ³Ýí³í»ñáõÃÛ³Ý Ñ»ï Ï³åí³Í í»×»ñ | E30: 2 | G30: 2 | J30: 4 | K30: 3 | L30: 1 | O30: 1 | R30: 1 | Y30: 1 | AA30: 1 | AB30: 4 | AC30: 1
A31: 2.1.1 | B31: ³Û¹ ÃíáõÙ` íÇ×³Ñ³ñáõÛó ·áñÍ³ñùÝ»ñÝ ³Ýí³í»ñ ×³Ý³ã»Éáõ í»ñ³µ»ñÛ³É
A32: 2.1.2 | B32: ³Û¹ ÃíáõÙ` ·áñÍ³ñùÇ ³éáãÝãáõÃÛ³Ý Ñ»ï¨³ÝùÝ»ñ ÏÇñ³é»Éáõ í»ñ³µ»ñÛ³É
A33: 2.2 | B33: ¶áñÍ³ñùÁ í³í»ñ ×³Ý³ã»Éáõ í»ñ³µ»ñÛ³É
A34: 2.3 | B34: ¶áñÍ³ñùÇó Í³·áÕ Çñ³íáõÝùÝ»ñÁ ·ñ³Ýó»Éáõ í»ñ³µ»ñÛ³É
A35: 2.4 | B35: ä³ÛÙ³Ý³·ÇñÝ ³Ýí³í»ñ ×³Ý³ã»Éáõ í»ñ³µ»ñÛ³É | E35: 3 | G35: 3 | J35: 1 | L35: 1 | O35: 2 | Q35: 1 | S35: 1 | Y35: 2 | AB35: 1 | AD35: 2 | AF35: 2 | AG35: 1 | AH35: 1
A36: 2.5 | B36: ä³ÛÙ³Ý³·ñÇÁ í³í»ñ ×³Ý³ã»Éáõ í»ñ³µ»ñÛ³É
A37: 2.6 | B37: ä³ÛÙ³Ý³·ñÇó Í³·áÕ Çñ³íáõÝùÝ»ñÁ ·ñ³Ýó»Éáõ í»ñ³µ»ñÛ³É
A38: 2.7 | B38: ä³ÛÙ³Ý³·ÇñÁ ÷á÷áË»Éáõ ¨ ÉáõÍ»Éáõ í»ñ³µ»ñÛ³É | E38: 1 | G38: 1 | J38: 2 | L38: 2 | O38: 1 | R38: 1 | Y38: 1 | AD38: 1 | AF38: 1 | AH38: 1
A39: 2.8 | B39: ä³ÛÙ³Ý³·Çñ ÏÝù»ÉáõÝ å³ñï³íáñ»óÝ»Éáõ í»ñ³µ»ñÛ³É | J39: 1 | K39: 1 | AB39: 1 | AE39: 1 | AF39: 1 | AH39: 1
A40: 2.9 | B40: ²ÛÉ í»×»ñ | E40: 1 | F40: 1 | G40: 0 | J40: 2 | L40: 2 | AB40: 1
...
