Workbook

Sheet Ընդհանուր
A1: 2017թ. | G1: Ð²ÞìºîìàôÂÚàôÜ | AM1: Ð³í»Éí³Í Ð³Û³ëï³ÝÇ Ð³Ýñ³å»ïáõÃÛ³Ý ¸³ï³ñ³ÝÝ»ñÇ Ý³Ë³·³ÑÝ»ñÇ ËáñÑñ¹Ç 29.01.2018Ã. ÃÇí 10-È áñáßÙ³Ý
A2: ºðºì²ÜÆ ²æ²öÜÚ²Î ºì ¸²ìÂ²ÞºÜ ì²ðâ²Î²Ü Þðæ²ÜÜºðÆ ÀÜ¸Ð²Üàôð Æð²ì²êàôÂÚ²Ü ²è²æÆÜ ²îÚ²ÜÆ ¸²î²ð²ÜÆ ¸²î²ìàð | Z2: ¶àðÌàôÜºàôÂÚ²Ü ìºð²´ºðÚ²È
A3: ø²Ô²ø²òÆ²Î²Ü ¶àðÌºðàì
A4: ºñ¨³ÝÇ ²ç³÷ÝÛ³Ï ¨ ¸³íÃ³ß»Ý í³ñã³Ï³Ý ßñç³ÝÝ»ñÇ ÁÝ¹Ñ³Ýáõñ Çñ³í³ëáõÃÛ³Ý ³é³çÇÝ ³ïÛ³ÝÇ ¹³ï³ñ³ÝÇ ù³Õ³ù³óÇ³Ï³Ý Ù³ëÝ³·Çï³óáõÙ áõÝ»óáÕ ¹³ï³íáñÝ»ñÇ Ñ³ëïÇùÝ»ñÇ ù³Ý³ÏÁ` 5
E5: Ð³ßí»ïáõ Å³Ù³Ý³Ï³Ñ³ïí³ÍáõÙ Ý³Ëáñ¹ Ñ³ßí»ïáõ Å³Ù³Ý³Ï³Ñ³ïí³ÍÇó ÷áË³Ýóí³Í ·áñÍ»ñÇ ÁÝ¹Ñ³Ýáõñ ÃÇíÁ | J5: Ð³ßí»ïáõ Å³Ù³Ý³Ï³Ñ³ïí³ÍáõÙëï³óí³Í ·áñÍ»ñÇ (³Û¹ ÃíáõÙ` Ñ³Ûó³¹ÇÙáõÙÝ»ñÇ, ¹ÇÙáõÙÝ»ñÇ) ÁÝ¹Ñ³Ýáõñ ÃÇíÁ | N5: öáË³Ýóí»É ¿ ³ÛÉ ¹³ï³íáñÇ (Ï³½ÙÇ ÷á÷áËáõÃÛáõÝ) | O5: Ð³ßí»ïáõ Å³Ù³Ý³Ï³Ñ³ïí³ÍáõÙ ³í³ñïí³Í ·áñÍ»ñÇ ÁÝ¹Ñ³Ýáõñ ÃÇíÁ | Z5: ¶áñÍÝ áõÕ³ñÏí»É ¿ Áëï ÁÝ¹¹³ïáõÃÛ³Ý | AA5: Ð³ßí»ïáõ Å³Ù³Ý³Ï³Ñ³ïí³ÍáõÙ Ï³ë»óí³Í í³ñáõÛÃÝ»ñáí ·áñÍ»ñÇ ÁÝ¹Ñ³Ýáõñ ÃÇíÁ | AB5: Ð³ßí»ïáõ Å³Ù³Ý³Ï³Ñ³ïí³ÍáõÙ ³Ý³í³ñï ·áñÍ»ñÇ ÁÝ¹Ñ³Ýáõñ ÃÇíÁ | AC5: ²Û¹ ÃíáõÙª Ï³ë»óí³Í | AD5: ´áÕáù³ñÏí³Í ¹³ï³Ï³Ý ³Ïï»ñÁ | AI5: ²í³ñïí³Í ¹³ï³Ï³Ý ·áñÍ»ñÇ µáÕáù³ñÏÙ³Ý ïáÏáëÁ (Ñ³ßí»ïáõ Å³Ù³Ý³Ï³ßñç³ÝáõÙ) | AJ5: ²Ý³í³ñï µáÕáùÝ»ñ | AK5: ´»Ï³Ýí³Í ¹³ï³Ï³Ý ³Ïï»ñÁ | AP5: µ»Ï³ÝáõÙÝ»ñÇ ïáÏáëÁ ³í³ñïí³Í ·áñÍ»ñÇó(Ñ³ßí»ïáõ Å³Ù³Ý³Ï³ßñç³ÝáõÙ) | AQ5: Î³ÛáõÝáõÃÛ³Ý ïáÏáëÁ ³í³ñïí³Í ·áñÍ»ñÇó(Ñ³ßí»ïáõ Å³Ù³Ý³Ï³ßñç³ÝáõÙ) | AR5: µ»Ï³ÝáõÙÝ»ñÇ ïáÏáëÁ µáÕáù³ñÏí³Í ·áñÍ»ñÇó(Ñ³ßí»ïáõ Å³Ù³Ý³Ï³ßñç³ÝáõÙ) | AS5: Ï³ÛáõÝáõÃÛ³Ý ïáÏáëÁ(Ñ³ßí»ïáõ Å³Ù³Ý³Ï³ßñç³ÝáõÙ)
E6: ÀÝ¹³Ù»ÝÁ | F6: ²Û¹ ÃíáõÙ`Ï³ë»óí³Í íÇ×³ÏáõÙ ÷áË³Ýóí³Í | G6: ²Û¹ ÃíáõÙª ÁÝ¹áõÝí»É ¿ í³ñáõÛÃ | H6: ²Û¹ ÃíáõÙª í»ñ³¹³ñÓí»É ¿ | I6: ²Û¹ ÃíáõÙª ÁÝ¹áõÝáõÙÁ Ù»ñÅí»É ¿ | J6: ÀÝ¹³Ù»ÝÁ | K6: ²Û¹ ÃíáõÙª ÁÝ¹áõÝí»É ¿ í³ñáõÛÃ | L6: ²Û¹ ÃíáõÙª í»ñ³¹³ñÓí»É ¿ | M6: ²Û¹ ÃíáõÙª ÁÝ¹áõÝáõÙÁ Ù»ñÅí»É ¿ | O6: ÀÝ¹³Ù»ÝÁ ³í³ñïí»É »Ý ·áñÍ»ñ ·áñÍÝ Áëï ¿áõÃÛ³Ý ÉáõÍáÕ ¹³ï³Ï³Ý ³Ïï»ñÇ (í×ÇéÝ»ñÇ) Ï³Û³óÙ³Ùµ | P6: ²Û¹ ÃíáõÙª Ñ³ÛóÇ µ³í³ñ³ñÙ³Ùµ | Q6: ²Û¹ ÃíáõÙª Ñ³ÛóÇ Ù³ëÝ³ÏÇ µ³í³ñ³ñÙ³Ùµ | R6: ²Û¹ ÃíáõÙª Ñ³ÛóÇ Ù»ñÅÙ³Ùµ | S6: Ø³ëáí Ï³ñ×í»É ¿É, Ù³ëáí Ù»ñÅí»É | T6: ²Û¹ ÃíáõÙª Ï³ñ×í»É »Ý | X6: Ð³ÛóÁ ÃáÕÝí»É ¿ ³é³Ýó ùÝÝáõÃÛ³Ý | Y6: ÀÝ¹³Ù»ÝÝ ³í³ñïí»É »Ý ·áñÍ»ñ | AD6: ²Û¹ ÃíáõÙ` ·áñÍÝ Áëï ¿áõÃÛ³Ý ÉáõÍáÕ ¹³ï³Ï³Ý ³Ïï»ñÁ | AE6: ²Û¹ ÃíáõÙ` ÙÇç³ÝÏÛ³É ¹³ï³Ï³Ý ³Ïï»ñÁ | AF6: ÀÝ¹³Ù»ÝÁ | AG6: Ü³Ëáñ¹ ï³ñÇÝ»ñÇÝ Ï³Û³óí³Í ³Ïï»ñÇ µáÕáù³ñÏáõÙÁ Ñ³ßí»ïáõ Å³Ù³Ý³Ï³ßñç³ÝáõÙ | AH6: Ð³ßí»ïáõ Å³Ù³Ý³Ï³ßñç³ÝáõÙ Ï³Û³óí³Í ³Ïï»ñÇ µáÕáù³ñÏáõÙÁ | AK6: ²Û¹ ÃíáõÙ` ·áñÍÝ Áëï ¿áõÃÛ³Ý ÉáõÍáÕ ¹³ï³Ï³Ý ³Ïï»ñÁ | AL6: ²Û¹ ÃíáõÙ` ÙÇç³ÝÏÛ³É ¹³ï³Ï³Ý ³Ïï»ñÁ | AM6: ÀÝ¹³Ù»ÝÁ | AN6: Ü³Ëáñ¹ ï³ñÇÝ»ñÇÝ Ï³Û³óí³Í ³Ïï»ñÇ µ»Ï³ÝáõÙÝ»ñÁ Ñ³ßí»ïáõ Å³Ù³Ý³Ï³ßñç³ÝáõÙ | AO6: Ð³ßí»ïáõ Å³Ù³Ý³Ï³ßñç³ÝáõÙ Ï³Û³óí³Í ³Ïï»ñÇ µ»Ï³ÝáõÙÁ
T7: ÀÝ¹³Ù»ÝÁ Ï³ñ×í»É »Ý | U7: ²Û¹ ÃíáõÙª Ñ³ëï³ïí»É ¿ ÏÝùí³Í Ñ³ßïáõÃÛ³Ý Ñ³Ù³Ó³ÛÝáõÃÛáõÝÁ | V7: ²Û¹ ÃíáõÙª Ñ³óÇó, ¹ÇÙáõÙÇó Ññ³Å³ñí»Éáõ ÑÇÙùáí | W7: ²Û¹ ÃíáõÙª ³ÛÉ ÑÇÙùáí
E8: 1 | F8: 2 | G8: 3 | H8: 4 | I8: 5 | J8: 6 | K8: 7 | L8: 8 | M8: 9 | N8: 10 | O8: 11 | P8: 12 | Q8: 13 | R8: 14 | S8: 15 | T8: 16 | U8: 17 | V8: 18 | W8: 19 | X8: 20 | Y8: 21 | Z8: 22 | AA8: 23 | AB8: 24 | AC8: 25 | AD8: 26 | AE8: 27 | AF8: 28 | AG8: 29 | AH8: 30 | AI8: 31 | AJ8: 32 | AK8: 33 | AL8: 34 | AM8: 35 | AN8: 36 | AO8: 37 | AP8: 38 | AQ8: 39 | AR8: 40 | AS8: 41
A9: 1. | B9: ¶áõÛù³ÛÇÝ Çñ³í³Ñ³ñ³µ»ñáõÃÛáõÝÝ»ñÇ í»ñ³µ»ñÛ³É ¹³ï³Ï³Ý ·áñÍ»ñ | E9: =SUM(E10:E28) -> 319 | F9: =SUM(F10:F28) -> 96 | G9: =SUM(G10:G28) -> 223 | H9: =SUM(H10:H28) -> 0 | I9: =SUM(I10:I28) -> 0 | J9: =SUM(J10:J28) -> 182 | K9: =SUM(K10:K28) -> 154 | L9: =SUM(L10:L28) -> 27 | ... AS9: =SUM(AS10:AS28) -> 0
A10: 1.1 | B10: ¶áõÛùÇ ÝÏ³ïÙ³Ùµ ë»÷³Ï³ÝáõÃÛ³Ý Çñ³íáõÝùÁ ×³Ý³ã»Éáõ í»ñ³µ»ñÛ³É | E10: =SUM('Գ. Թորոսյանի:Ն. Ավետիսյան'!E10) -> 29 | F10: =SUM('Գ. Թորոսյանի:Ն. Ավետիսյան'!F10) -> 6 | G10: =SUM('Գ. Թորոսյանի:Ն. Ավետիսյան'!G10) -> 23 | H10: =SUM('Գ. Թորոսյանի:Ն. Ավետիսյան'!H10) -> 0 | I10: =SUM('Գ. Թորոսյանի:Ն. Ավետիսյան'!I10) -> 0 | J10: =SUM('Գ. Թորոսյանի:Ն. Ավետիսյան'!J10) -> 23 | K10: =SUM('Գ. Թորոսյանի:Ն. Ավետիսյան'!K10) -> 20 | L10: =SUM('Գ. Թորոսյանի:Ն. Ավետիսյան'!L10) -> 3 | ... AS10: =SUM('Գ. Թորոսյանի:Ն. Ավետիսյան'!AS10) -> 0
A11: 1.1.1 | B11: ²Û¹ ÃíáõÙª Ó»éùµ»ñÙ³Ý í³Õ»ÙáõÃÛ³Ý áõÅáí | E11: =SUM('Գ. Թորոսյանի:Ն. Ավետիսյան'!E11) -> 23 | F11: =SUM('Գ. Թորոսյանի:Ն. Ավետիսյան'!F11) -> 3 | G11: =SUM('Գ. Թորոսյանի:Ն. Ավետիսյան'!G11) -> 20 | H11: =SUM('Գ. Թորոսյանի:Ն. Ավետիսյան'!H11) -> 0 | I11: =SUM('Գ. Թորոսյանի:Ն. Ավետիսյան'!I11) -> 0 | J11: =SUM('Գ. Թորոսյանի:Ն. Ավետիսյան'!J11) -> 10 | K11: =SUM('Գ. Թորոսյանի:Ն. Ավետիսյան'!K11) -> 9 | L11: =SUM('Գ. Թորոսյանի:Ն. Ավետիսյան'!L11) -> 0 | ... AS11: =SUM('Գ. Թորոսյանի:Ն. Ավետիսյան'!AS11) -> 0
A12: 1.1.2 | B12: ²Û¹ ÃíáõÙª ïÇñ³½áõñÏ ·áõÛùÇ ÝÏ³ïÙ³Ùµ | E12: =SUM('Գ. Թորոսյանի:Ն. Ավետիսյան'!E12) -> 0 | F12: =SUM('Գ. Թորոսյանի:Ն. Ավետիսյան'!F12) -> 0 | G12: =SUM('Գ. Թորոսյանի:Ն. Ավետիսյան'!G12) -> 0 | H12: =SUM('Գ. Թորոսյանի:Ն. Ավետիսյան'!H12) -> 0 | I12: =SUM('Գ. Թորոսյանի:Ն. Ավետիսյան'!I12) -> 0 | J12: =SUM('Գ. Թորոսյանի:Ն. Ավետիսյան'!J12) -> 0 | K12: =SUM('Գ. Թորոսյանի:Ն. Ավետիսյան'!K12) -> 0 | L12: =SUM('Գ. Թորոսյանի:Ն. Ավետիսյան'!L12) -> 0 | ... AS12: =SUM('Գ. Թորոսյանի:Ն. Ավետիսյան'!AS12) -> 0
A13: 1.1.3 | B13: ²Û¹ ÃíáõÙª ÇÝùÝ³Ï³Ù Ï³éáõÛóÇ ÝÏ³ïÙ³Ùµ | E13: =SUM('Գ. Թորոսյանի:Ն. Ավետիսյան'!E13) -> 0 | F13: =SUM('Գ. Թորոսյանի:Ն. Ավետիսյան'!F13) -> 0 | G13: =SUM('Գ. Թորոսյանի:Ն. Ավետիսյան'!G13) -> 0 | H13: =SUM('Գ. Թորոսյանի:Ն. Ավետիսյան'!H13) -> 0 | I13: =SUM('Գ. Թորոսյանի:Ն. Ավետիսյան'!I13) -> 0 | J13: =SUM('Գ. Թորոսյանի:Ն. Ավետիսյան'!J13) -> 0 | K13: =SUM('Գ. Թորոսյանի:Ն. Ավետիսյան'!K13) -> 0 | L13: =SUM('Գ. Թորոսյանի:Ն. Ավետիսյան'!L13) -> 0 | ... AS13: =SUM('Գ. Թորոսյանի:Ն. Ավետիսյան'!AS13) -> 0
A14: 1.2 | B14: ê»÷³Ï³ÝáõÃÛ³Ý Çñ³íáõÝùÇ ¹³¹³ñ»óÙ³Ý í»ñ³µ»ñÛ³É | E14: =SUM('Գ. Թորոսյանի:Ն. Ավետիսյան'!E14) -> 6 | F14: =SUM('Գ. Թորոսյանի:Ն. Ավետիսյան'!F14) -> 0 | G14: =SUM('Գ. Թորոսյանի:Ն. Ավետիսյան'!G14) -> 6 | H14: =SUM('Գ. Թորոսյանի:Ն. Ավետիսյան'!H14) -> 0 | I14: =SUM('Գ. Թորոսյանի:Ն. Ավետիսյան'!I14) -> 0 | J14: =SUM('Գ. Թորոսյանի:Ն. Ավետիսյան'!J14) -> 8 | K14: =SUM('Գ. Թորոսյանի:Ն. Ավետիսյան'!K14) -> 5 | L14: =SUM('Գ. Թորոսյանի:Ն. Ավետիսյան'!L14) -> 3 | ... AS14: =SUM('Գ. Թորոսյանի:Ն. Ավետիսյան'!AS14) -> 0
A15: 1.3 | B15: ¶áõÛùÇ ÝÏ³ïÙ³Ùµ û·ï³·áñÍÙ³Ý Çñ³íáõÝùÁ ×³Ý³ã»Éáõ í»ñ³µ»ñÛ³É | E15: =SUM('Գ. Թորոսյանի:Ն. Ավետիսյան'!E15) -> 0 | F15: =SUM('Գ. Թորոսյանի:Ն. Ավետիսյան'!F15) -> 0 | G15: =SUM('Գ. Թորոսյանի:Ն. Ավետիսյան'!G15) -> 0 | H15: =SUM('Գ. Թորոսյանի:Ն. Ավետիսյան'!H15) -> 0 | I15: =SUM('Գ. Թորոսյանի:Ն. Ավետիսյան'!I15) -> 0 | J15: =SUM('Գ. Թորոսյանի:Ն. Ավետիսյան'!J15) -> 0 | K15: =SUM('Գ. Թորոսյանի:Ն. Ավետիսյան'!K15) -> 0 | L15: =SUM('Գ. Թորոսյանի:Ն. Ավետիսյան'!L15) -> 0 | ... AS15: =SUM('Գ. Թորոսյանի:Ն. Ավետիսյան'!AS15) -> 0
A16: 1.3.1 | B16: ²Û¹ ÃíáõÙª µÝ³Ïû·ï³·áñÍÙ³Ý Çñ³íáõÝùÁ ×³Ý³ã»Éáõ í»ñ³µ»ñÛ³É | E16: =SUM('Գ. Թորոսյանի:Ն. Ավետիսյան'!E16) -> 0 | F16: =SUM('Գ. Թորոսյանի:Ն. Ավետիսյան'!F16) -> 0 | G16: =SUM('Գ. Թորոսյանի:Ն. Ավետիսյան'!G16) -> 0 | H16: =SUM('Գ. Թորոսյանի:Ն. Ավետիսյան'!H16) -> 0 | I16: =SUM('Գ. Թորոսյանի:Ն. Ավետիսյան'!I16) -> 0 | J16: =SUM('Գ. Թորոսյանի:Ն. Ավետիսյան'!J16) -> 0 | K16: =SUM('Գ. Թորոսյանի:Ն. Ավետիսյան'!K16) -> 0 | L16: =SUM('Գ. Թորոսյանի:Ն. Ավետիսյան'!L16) -> 0 | ... AS16: =SUM('Գ. Թորոսյանի:Ն. Ավետիսյան'!AS16) -> 0
A17: 1.3.2 | B17: ²Û¹ ÃíáõÙª ÑáÕ³Ù³ëÇ ÝÏ³ïÙ³Ùµ û·ï³·áñÍÙ³Ý Çñ³íáõÝùÁ ×³Ý³ã»Éáõ í»ñ³µ»ñÛ³É | E17: =SUM('Գ. Թորոսյանի:Ն. Ավետիսյան'!E17) -> 1 | F17: =SUM('Գ. Թորոսյանի:Ն. Ավետիսյան'!F17) -> 0 | G17: =SUM('Գ. Թորոսյանի:Ն. Ավետիսյան'!G17) -> 1 | H17: =SUM('Գ. Թորոսյանի:Ն. Ավետիսյան'!H17) -> 0 | I17: =SUM('Գ. Թորոսյանի:Ն. Ավետիսյան'!I17) -> 0 | J17: =SUM('Գ. Թորոսյանի:Ն. Ավետիսյան'!J17) -> 0 | K17: =SUM('Գ. Թորոսյանի:Ն. Ավետիսյան'!K17) -> 0 | L17: =SUM('Գ. Թորոսյանի:Ն. Ավետիսյան'!L17) -> 0 | ... AS17: =SUM('Գ. Թորոսյանի:Ն. Ավետիսյան'!AS17) -> 0
A18: 1.4 | B18: ¶áõÛùÇ ÝÏ³ïÙ³Ùµ û·ï³·áñÍÙ³Ý Çñ³íáõÝùÁ ¹³¹³ñ»óÝ»Éáõ í»ñ³µ»ñÛ³É | E18: =SUM('Գ. Թորոսյանի:Ն. Ավետիսյան'!E18) -> 0 | F18: =SUM('Գ. Թորոսյանի:Ն. Ավետիսյան'!F18) -> 0 | G18: =SUM('Գ. Թորոսյանի:Ն. Ավետիսյան'!G18) -> 0 | H18: =SUM('Գ. Թորոսյանի:Ն. Ավետիսյան'!H18) -> 0 | I18: =SUM('Գ. Թորոսյանի:Ն. Ավետիսյան'!I18) -> 0 | J18: =SUM('Գ. Թորոսյանի:Ն. Ավետիսյան'!J18) -> 0 | K18: =SUM('Գ. Թորոսյանի:Ն. Ավետիսյան'!K18) -> 0 | L18: =SUM('Գ. Թորոսյանի:Ն. Ավետիսյան'!L18) -> 0 | ... AS18: =SUM('Գ. Թորոսյանի:Ն. Ավետիսյան'!AS18) -> 0
A19: 1.4.1 | B19: ²Û¹ ÃíáõÙª µÝ³Ïû·ï³·áñÍÙ³Ý Çñ³íáõÝùÁ ¹³¹³ñ»óÝ»Éáõ í»ñ³µ»ñÛ³É | E19: =SUM('Գ. Թորոսյանի:Ն. Ավետիսյան'!E19) -> 4 | F19: =SUM('Գ. Թորոսյանի:Ն. Ավետիսյան'!F19) -> 2 | G19: =SUM('Գ. Թորոսյանի:Ն. Ավետիսյան'!G19) -> 2 | H19: =SUM('Գ. Թորոսյանի:Ն. Ավետիսյան'!H19) -> 0 | I19: =SUM('Գ. Թորոսյանի:Ն. Ավետիսյան'!I19) -> 0 | J19: =SUM('Գ. Թորոսյանի:Ն. Ավետիսյան'!J19) -> 0 | K19: =SUM('Գ. Թորոսյանի:Ն. Ավետիսյան'!K19) -> 0 | L19: =SUM('Գ. Թորոսյանի:Ն. Ավետիսյան'!L19) -> 0 | ... AS19: =SUM('Գ. Թորոսյանի:Ն. Ավետիսյան'!AS19) -> 0
A20: 1.4.1/1 | B20: ²Û¹ ÃíáõÙª ÷áËÑ³ïáõóÙ³Ùµ | E20: =SUM('Գ. Թորոսյանի:Ն. Ավետիսյան'!E20) -> 3 | F20: =SUM('Գ. Թորոսյանի:Ն. Ավետիսյան'!F20) -> 1 | G20: =SUM('Գ. Թորոսյանի:Ն. Ավետիսյան'!G20) -> 2 | H20: =SUM('Գ. Թորոսյանի:Ն. Ավետիսյան'!H20) -> 0 | I20: =SUM('Գ. Թորոսյանի:Ն. Ավետիսյան'!I20) -> 0 | J20: =SUM('Գ. Թորոսյանի:Ն. Ավետիսյան'!J20) -> 0 | K20: =SUM('Գ. Թորոսյանի:Ն. Ավետիսյան'!K20) -> 0 | L20: =SUM('Գ. Թորոսյանի:Ն. Ավետիսյան'!L20) -> 0 | ... AS20: =SUM('Գ. Թորոսյանի:Ն. Ավետիսյան'!AS20) -> 0
A21: 1.5 | B21: ´Ý³Ï³ñ³ÝÇó/ ï³ñ³ÍùÇó/ íï³ñ»Éáõ í»ñ³µ»ñÛ³É | E21: =SUM('Գ. Թորոսյանի:Ն. Ավետիսյան'!E21) -> 27 | F21: =SUM('Գ. Թորոսյանի:Ն. Ավետիսյան'!F21) -> 11 | G21: =SUM('Գ. Թորոսյանի:Ն. Ավետիսյան'!G21) -> 16 | H21: =SUM('Գ. Թորոսյանի:Ն. Ավետիսյան'!H21) -> 0 | I21: =SUM('Գ. Թորոսյանի:Ն. Ավետիսյան'!I21) -> 0 | J21: =SUM('Գ. Թորոսյանի:Ն. Ավետիսյան'!J21) -> 10 | K21: =SUM('Գ. Թորոսյանի:Ն. Ավետիսյան'!K21) -> 9 | L21: =SUM('Գ. Թորոսյանի:Ն. Ավետիսյան'!L21) -> 1 | ... AS21: =SUM('Գ. Թորոսյանի:Ն. Ավետիսյան'!AS21) -> 0
A22: 1.6 | B22: ¶áõÛùÝ áõñÇßÇ ³åûñÇÝÇ ïÇñ³å»ïáõÙÇó »ï í»ñ³¹³ñÓÝ»Éáõ í»ñ³µ»ñÛ³É | E22: =SUM('Գ. Թորոսյանի:Ն. Ավետիսյան'!E22) -> 19 | F22: =SUM('Գ. Թորոսյանի:Ն. Ավետիսյան'!F22) -> 6 | G22: =SUM('Գ. Թորոսյանի:Ն. Ավետիսյան'!G22) -> 13 | H22: =SUM('Գ. Թորոսյանի:Ն. Ավետիսյան'!H22) -> 0 | I22: =SUM('Գ. Թորոսյանի:Ն. Ավետիսյան'!I22) -> 0 | J22: =SUM('Գ. Թորոսյանի:Ն. Ավետիսյան'!J22) -> 11 | K22: =SUM('Գ. Թորոսյանի:Ն. Ավետիսյան'!K22) -> 9 | L22: =SUM('Գ. Թորոսյանի:Ն. Ավետիսյան'!L22) -> 2 | ... AS22: =SUM('Գ. Թորոսյանի:Ն. Ավետիսյան'!AS22) -> 0
A23: 1.6.1 | B23: ´³ñ»ËÇÕ× Ó»éùµ»ñáÕÇó Çñ ·áõÛùÁ Ñ»ï å³Ñ³Ýç»Éáõ í»ñ³µ»ñÛ³É | E23: =SUM('Գ. Թորոսյանի:Ն. Ավետիսյան'!E23) -> 0 | F23: =SUM('Գ. Թորոսյանի:Ն. Ավետիսյան'!F23) -> 0 | G23: =SUM('Գ. Թորոսյանի:Ն. Ավետիսյան'!G23) -> 0 | H23: =SUM('Գ. Թորոսյանի:Ն. Ավետիսյան'!H23) -> 0 | I23: =SUM('Գ. Թորոսյանի:Ն. Ավետիսյան'!I23) -> 0 | J23: =SUM('Գ. Թորոսյանի:Ն. Ավետիսյան'!J23) -> 0 | K23: =SUM('Գ. Թորոսյանի:Ն. Ավետիսյան'!K23) -> 0 | L23: =SUM('Գ. Թորոսյանի:Ն. Ավետիսյան'!L23) -> 0 | ... AS23: =SUM('Գ. Թորոսյանի:Ն. Ավետիսյան'!AS23) -> 0
A24: 1.7 | B24: îÇñ³å»ïáõÙÇó ½ñÏ»Éáõ Ñ»ï ãÏ³åí³Í Çñ³íáõÝùÝ»ñÇ Ë³ËïáõÙÁ í»ñ³óÝ»Éáõ í»ñ³µ»ñÛ³É | E24: =SUM('Գ. Թորոսյանի:Ն. Ավետիսյան'!E24) -> 15 | F24: =SUM('Գ. Թորոսյանի:Ն. Ավետիսյան'!F24) -> 4 | G24: =SUM('Գ. Թորոսյանի:Ն. Ավետիսյան'!G24) -> 11 | H24: =SUM('Գ. Թորոսյանի:Ն. Ավետիսյան'!H24) -> 0 | I24: =SUM('Գ. Թորոսյանի:Ն. Ավետիսյան'!I24) -> 0 | J24: =SUM('Գ. Թորոսյանի:Ն. Ավետիսյան'!J24) -> 4 | K24: =SUM('Գ. Թորոսյանի:Ն. Ավետիսյան'!K24) -> 3 | L24: =SUM('Գ. Թորոսյանի:Ն. Ավետիսյան'!L24) -> 1 | ... AS24: =SUM('Գ. Թորոսյանի:Ն. Ավետիսյան'!AS24) -> 0
A25: 1.8 | B25: ÀÝ¹Ñ³Ýáõñ µ³ÅÝ³ÛÇÝ ë»÷³Ï³ÝáõÃÛáõÝÇó µ³ÅÇÝÝ ³é³ÝÓÝ³óÝ»Éáõ í»ñ³µ»ñÛ³É | E25: =SUM('Գ. Թորոսյանի:Ն. Ավետիսյան'!E25) -> 51 | F25: =SUM('Գ. Թորոսյանի:Ն. Ավետիսյան'!F25) -> 21 | G25: =SUM('Գ. Թորոսյանի:Ն. Ավետիսյան'!G25) -> 30 | H25: =SUM('Գ. Թորոսյանի:Ն. Ավետիսյան'!H25) -> 0 | I25: =SUM('Գ. Թորոսյանի:Ն. Ավետիսյան'!I25) -> 0 | J25: =SUM('Գ. Թորոսյանի:Ն. Ավետիսյան'!J25) -> 33 | K25: =SUM('Գ. Թորոսյանի:Ն. Ավետիսյան'!K25) -> 27 | L25: =SUM('Գ. Թորոսյանի:Ն. Ավետիսյան'!L25) -> 6 | ... AS25: =SUM('Գ. Թորոսյանի:Ն. Ավետիսյան'!AS25) -> 0
A26: 1.8.1 | B26: Ð³Ù³ï»Õ ë»÷³Ï³ÝáõÃÛ³Ý Ý»ñùá ·ïÝíáÕ ·áõÛùÁ µ³Å³Ý»Éáõ ¨ ¹ñ³ÝÇó µ³ÅÇÝÝ ³é³ÝÓÝ³óÝ»Éáõ í»ñ³µ»ñÛ³É | E26: =SUM('Գ. Թորոսյանի:Ն. Ավետիսյան'!E26) -> 94 | F26: =SUM('Գ. Թորոսյանի:Ն. Ավետիսյան'!F26) -> 31 | G26: =SUM('Գ. Թորոսյանի:Ն. Ավետիսյան'!G26) -> 63 | H26: =SUM('Գ. Թորոսյանի:Ն. Ավետիսյան'!H26) -> 0 | I26: =SUM('Գ. Թորոսյանի:Ն. Ավետիսյան'!I26) -> 0 | J26: =SUM('Գ. Թորոսյանի:Ն. Ավետիսյան'!J26) -> 39 | K26: =SUM('Գ. Թորոսյանի:Ն. Ավետիսյան'!K26) -> 34 | L26: =SUM('Գ. Թորոսյանի:Ն. Ավետիսյան'!L26) -> 5 | ... AS26: =SUM('Գ. Թորոսյանի:Ն. Ավետիսյան'!AS26) -> 0
... A28: 1.9 | B28: ²ÛÉ í»×»ñ | E28: =SUM('Գ. Թորոսյանի:Ն. Ավետիսյան'!E28) -> 40 | F28: =SUM('Գ. Թորոսյանի:Ն. Ավետիսյան'!F28) -> 8 | G28: =SUM('Գ. Թորոսյանի:Ն. Ավետիսյան'!G28) -> 32 | H28: =SUM('Գ. Թորոսյանի:Ն. Ավետիսյան'!H28) -> 0 | I28: =SUM('Գ. Թորոսյանի:Ն. Ավետիսյան'!I28) -> 0 | J28: =SUM('Գ. Թորոսյանի:Ն. Ավետիսյան'!J28) -> 40 | K28: =SUM('Գ. Թորոսյանի:Ն. Ավետիսյան'!K28) -> 34 | L28: =SUM('Գ. Թորոսյանի:Ն. Ավետիսյան'!L28) -> 6 | ... AS28: =SUM('Գ. Թորոսյանի:Ն. Ավետիսյան'!AS28) -> 0
A29: 2. | B29: ¶áñÍ³ñùÝ»ñÇ Ñ»ï Ï³åí³Í Çñ³í³Ñ³ñ³µ»ñáõÃÛáõÝÝ»ñÇ í»ñ³µ»ñÛ³É ¹³ï³Ï³Ý ·áñÍ»ñ | E29: =SUM(E30:E40) -> 129 | F29: =SUM(F30:F40) -> 39 | G29: =SUM(G30:G40) -> 90 | H29: =SUM(H30:H40) -> 0 | I29: =SUM(I30:I40) -> 0 | J29: =SUM(J30:J40) -> 56 | K29: =SUM(K30:K40) -> 43 | L29: =SUM(L30:L40) -> 13 | ... AS29: =SUM(AS30:AS40) -> 0
A30: 2.1 | B30: ·áñÍ³ñùÝ»ñÇ ³Ýí³í»ñáõÃÛ³Ý Ñ»ï Ï³åí³Í í»×»ñ | E30: =SUM('Գ. Թորոսյանի:Ն. Ավետիսյան'!E30) -> 13 | F30: =SUM('Գ. Թորոսյանի:Ն. Ավետիսյան'!F30) -> 2 | G30: =SUM('Գ. Թորոսյանի:Ն. Ավետիսյան'!G30) -> 11 | H30: =SUM('Գ. Թորոսյանի:Ն. Ավետիսյան'!H30) -> 0 | I30: =SUM('Գ. Թորոսյանի:Ն. Ավետիսյան'!I30) -> 0 | J30: =SUM('Գ. Թորոսյանի:Ն. Ավետիսյան'!J30) -> 14 | K30: =SUM('Գ. Թորոսյանի:Ն. Ավետիսյան'!K30) -> 13 | L30: =SUM('Գ. Թորոսյանի:Ն. Ավետիսյան'!L30) -> 1 | ... AS30: =SUM('Գ. Թորոսյանի:Ն. Ավետիսյան'!AS30) -> 0
A31: 2.1.1 | B31: ³Û¹ ÃíáõÙ` íÇ×³Ñ³ñáõÛó ·áñÍ³ñùÝ»ñÝ ³Ýí³í»ñ ×³Ý³ã»Éáõ í»ñ³µ»ñÛ³É | E31: =SUM('Գ. Թորոսյանի:Ն. Ավետիսյան'!E31) -> 0 | F31: =SUM('Գ. Թորոսյանի:Ն. Ավետիսյան'!F31) -> 0 | G31: =SUM('Գ. Թորոսյանի:Ն. Ավետիսյան'!G31) -> 0 | H31: =SUM('Գ. Թորոսյանի:Ն. Ավետիսյան'!H31) -> 0 | I31: =SUM('Գ. Թորոսյանի:Ն. Ավետիսյան'!I31) -> 0 | J31: =SUM('Գ. Թորոսյանի:Ն. Ավետիսյան'!J31) -> 0 | K31: =SUM('Գ. Թորոսյանի:Ն. Ավետիսյան'!K31) -> 0 | L31: =SUM('Գ. Թորոսյանի:Ն. Ավետիսյան'!L31) -> 0 | ... AS31: =SUM('Գ. Թորոսյանի:Ն. Ավետիսյան'!AS31) -> 0
A32: 2.1.2 | B32: ³Û¹ ÃíáõÙ` ·áñÍ³ñùÇ ³éáãÝãáõÃÛ³Ý Ñ»ï¨³ÝùÝ»ñ ÏÇñ³é»Éáõ í»ñ³µ»ñÛ³É | E32: =SUM('Գ. Թորոսյանի:Ն. Ավետիսյան'!E32) -> 4 | F32: =SUM('Գ. Թորոսյանի:Ն. Ավետիսյան'!F32) -> 1 | G32: =SUM('Գ. Թորոսյանի:Ն. Ավետիսյան'!G32) -> 3 | H32: =SUM('Գ. Թորոսյանի:Ն. Ավետիսյան'!H32) -> 0 | I32: =SUM('Գ. Թորոսյանի:Ն. Ավետիսյան'!I32) -> 0 | J32: =SUM('Գ. Թորոսյանի:Ն. Ավետիսյան'!J32) -> 3 | K32: =SUM('Գ. Թորոսյանի:Ն. Ավետիսյան'!K32) -> 3 | L32: =SUM('Գ. Թորոսյանի:Ն. Ավետիսյան'!L32) -> 0 | ... AS32: =SUM('Գ. Թորոսյանի:Ն. Ավետիսյան'!AS32) -> 0
A33: 2.2 | B33: ¶áñÍ³ñùÁ í³í»ñ ×³Ý³ã»Éáõ í»ñ³µ»ñÛ³É | E33: =SUM('Գ. Թորոսյանի:Ն. Ավետիսյան'!E33) -> 5 | F33: =SUM('Գ. Թորոսյանի:Ն. Ավետիսյան'!F33) -> 1 | G33: =SUM('Գ. Թորոսյանի:Ն. Ավետիսյան'!G33) -> 4 | H33: =SUM('Գ. Թորոսյանի:Ն. Ավետիսյան'!H33) -> 0 | I33: =SUM('Գ. Թորոսյանի:Ն. Ավետիսյան'!I33) -> 0 | J33: =SUM('Գ. Թորոսյանի:Ն. Ավետիսյան'!J33) -> 1 | K33: =SUM('Գ. Թորոսյանի:Ն. Ավետիսյան'!K33) -> 1 | L33: =SUM('Գ. Թորոսյանի:Ն. Ավետիսյան'!L33) -> 0 | ... AS33: =SUM('Գ. Թորոսյանի:Ն. Ավետիսյան'!AS33) -> 0
A34: 2.3 | B34: ¶áñÍ³ñùÇó Í³·áÕ Çñ³íáõÝùÝ»ñÁ ·ñ³Ýó»Éáõ í»ñ³µ»ñÛ³É | E34: =SUM('Գ. Թորոսյանի:Ն. Ավետիսյան'!E34) -> 0 | F34: =SUM('Գ. Թորոսյանի:Ն. Ավետիսյան'!F34) -> 0 | G34: =SUM('Գ. Թորոսյանի:Ն. Ավետիսյան'!G34) -> 0 | H34: =SUM('Գ. Թորոսյանի:Ն. Ավետիսյան'!H34) -> 0 | I34: =SUM('Գ. Թորոսյանի:Ն. Ավետիսյան'!I34) -> 0 | J34: =SUM('Գ. Թորոսյանի:Ն. Ավետիսյան'!J34) -> 0 | K34: =SUM('Գ. Թորոսյանի:Ն. Ավետիսյան'!K34) -> 0 | L34: =SUM('Գ. Թորոսյանի:Ն. Ավետիսյան'!L34) -> 0 | ... AS34: =SUM('Գ. Թորոսյանի:Ն. Ավետիսյան'!AS34) -> 0
A35: 2.4 | B35: ä³ÛÙ³Ý³·ÇñÝ ³Ýí³í»ñ ×³Ý³ã»Éáõ í»ñ³µ»ñÛ³É | E35: =SUM('Գ. Թորոսյանի:Ն. Ավետիսյան'!E35) -> 50 | F35: =SUM('Գ. Թորոսյանի:Ն. Ավետիսյան'!F35) -> 13 | G35: =SUM('Գ. Թորոսյանի:Ն. Ավետիսյան'!G35) -> 37 | H35: =SUM('Գ. Թորոսյանի:Ն. Ավետիսյան'!H35) -> 0 | I35: =SUM('Գ. Թորոսյանի:Ն. Ավետիսյան'!I35) -> 0 | J35: =SUM('Գ. Թորոսյանի:Ն. Ավետիսյան'!J35) -> 12 | K35: =SUM('Գ. Թորոսյանի:Ն. Ավետիսյան'!K35) -> 9 | L35: =SUM('Գ. Թորոսյանի:Ն. Ավետիսյան'!L35) -> 3 | ... AS35: =SUM('Գ. Թորոսյանի:Ն. Ավետիսյան'!AS35) -> 0
A36: 2.5 | B36: ä³ÛÙ³Ý³·ñÇÁ í³í»ñ ×³Ý³ã»Éáõ í»ñ³µ»ñÛ³É | E36: =SUM('Գ. Թորոսյանի:Ն. Ավետիսյան'!E36) -> 5 | F36: =SUM('Գ. Թորոսյանի:Ն. Ավետիսյան'!F36) -> 4 | G36: =SUM('Գ. Թորոսյանի:Ն. Ավետիսյան'!G36) -> 1 | H36: =SUM('Գ. Թորոսյանի:Ն. Ավետիսյան'!H36) -> 0 | I36: =SUM('Գ. Թորոսյանի:Ն. Ավետիսյան'!I36) -> 0 | J36: =SUM('Գ. Թորոսյանի:Ն. Ավետիսյան'!J36) -> 3 | K36: =SUM('Գ. Թորոսյանի:Ն. Ավետիսյան'!K36) -> 3 | L36: =SUM('Գ. Թորոսյանի:Ն. Ավետիսյան'!L36) -> 0 | ... AS36: =SUM('Գ. Թորոսյանի:Ն. Ավետիսյան'!AS36) -> 0
A37: 2.6 | B37: ä³ÛÙ³Ý³·ñÇó Í³·áÕ Çñ³íáõÝùÝ»ñÁ ·ñ³Ýó»Éáõ í»ñ³µ»ñÛ³É | E37: =SUM('Գ. Թորոսյանի:Ն. Ավետիսյան'!E37) -> 0 | F37: =SUM('Գ. Թորոսյանի:Ն. Ավետիսյան'!F37) -> 0 | G37: =SUM('Գ. Թորոսյանի:Ն. Ավետիսյան'!G37) -> 0 | H37: =SUM('Գ. Թորոսյանի:Ն. Ավետիսյան'!H37) -> 0 | I37: =SUM('Գ. Թորոսյանի:Ն. Ավետիսյան'!I37) -> 0 | J37: =SUM('Գ. Թորոսյանի:Ն. Ավետիսյան'!J37) -> 0 | K37: =SUM('Գ. Թորոսյանի:Ն. Ավետիսյան'!K37) -> 0 | L37: =SUM('Գ. Թորոսյանի:Ն. Ավետիսյան'!L37) -> 0 | ... AS37: =SUM('Գ. Թորոսյանի:Ն. Ավետիսյան'!AS37) -> 0
A38: 2.7 | B38: ä³ÛÙ³Ý³·ÇñÁ ÷á÷áË»Éáõ ¨ ÉáõÍ»Éáõ í»ñ³µ»ñÛ³É | E38: =SUM('Գ. Թորոսյանի:Ն. Ավետիսյան'!E38) -> 9 | F38: =SUM('Գ. Թորոսյանի:Ն. Ավետիսյան'!F38) -> 0 | G38: =SUM('Գ. Թորոսյանի:Ն. Ավետիսյան'!G38) -> 9 | H38: =SUM('Գ. Թորոսյանի:Ն. Ավետիսյան'!H38) -> 0 | I38: =SUM('Գ. Թորոսյանի:Ն. Ավետիսյան'!I38) -> 0 | J38: =SUM('Գ. Թորոսյանի:Ն. Ավետիսյան'!J38) -> 7 | K38: =SUM('Գ. Թորոսյանի:Ն. Ավետիսյան'!K38) -> 5 | L38: =SUM('Գ. Թորոսյանի:Ն. Ավետիսյան'!L38) -> 2 | ... AS38: =SUM('Գ. Թորոսյանի:Ն. Ավետիսյան'!AS38) -> 0
A39: 2.8 | B39: ä³ÛÙ³Ý³·Çñ ÏÝù»ÉáõÝ å³ñï³íáñ»óÝ»Éáõ í»ñ³µ»ñÛ³É | E39: =SUM('Գ. Թորոսյանի:Ն. Ավետիսյան'!E39) -> 11 | F39: =SUM('Գ. Թորոսյանի:Ն. Ավետիսյան'!F39) -> 6 | G39: =SUM('Գ. Թորոսյանի:Ն. Ավետիսյան'!G39) -> 5 | H39: =SUM('Գ. Թորոսյանի:Ն. Ավետիսյան'!H39) -> 0 | I39: =SUM('Գ. Թորոսյանի:Ն. Ավետիսյան'!I39) -> 0 | J39: =SUM('Գ. Թորոսյանի:Ն. Ավետիսյան'!J39) -> 4 | K39: =SUM('Գ. Թորոսյանի:Ն. Ավետիսյան'!K39) -> 2 | L39: =SUM('Գ. Թորոսյանի:Ն. Ավետիսյան'!L39) -> 2 | ... AS39: =SUM('Գ. Թորոսյանի:Ն. Ավետիսյան'!AS39) -> 0
A40: 2.9 | B40: ²ÛÉ í»×»ñ | E40: =SUM('Գ. Թորոսյանի:Ն. Ավետիսյան'!E40) -> 32 | F40: =SUM('Գ. Թորոսյանի:Ն. Ավետիսյան'!F40) -> 12 | G40: =SUM('Գ. Թորոսյանի:Ն. Ավետիսյան'!G40) -> 20 | H40: =SUM('Գ. Թորոսյանի:Ն. Ավետիսյան'!H40) -> 0 | I40: =SUM('Գ. Թորոսյանի:Ն. Ավետիսյան'!I40) -> 0 | J40: =SUM('Գ. Թորոսյանի:Ն. Ավետիսյան'!J40) -> 12 | K40: =SUM('Գ. Թորոսյանի:Ն. Ավետիսյան'!K40) -> 7 | L40: =SUM('Գ. Թորոսյանի:Ն. Ավետիսյան'!L40) -> 5 | ... AS40: =SUM('Գ. Թորոսյանի:Ն. Ավետիսյան'!AS40) -> 0
A41: 3. | B41: Ä³é³Ý·áõÃÛ³Ý Ñ»ï Ï³åí³Í Çñ³í³Ñ³ñ³µ»ñáõÃÛáõÝÝ»ñÇ í»ñ³µ»ñÛ³É ¹³ï³Ï³Ý ·áñÍ»ñ | E41: =SUM(E42:E48) -> 16 | F41: =SUM(F42:F48) -> 2 | G41: =SUM(G42:G48) -> 14 | H41: =SUM(H42:H48) -> 0 | I41: =SUM(I42:I48) -> 0 | J41: =SUM(J42:J48) -> 11 | K41: =SUM(K42:K48) -> 9 | L41: =SUM(L42:L48) -> 2 | ... AS41: =SUM(AS42:AS48) -> 0
A42: 3.1 | B42: Îï³ÏÝ ³Ýí³í»ñ ×³Ý³ã»Éáõ í»ñ³µ»ñÛ³É | E42: =SUM('Գ. Թորոսյանի:Ն. Ավետիսյան'!E42) -> 0 | F42: =SUM('Գ. Թորոսյանի:Ն. Ավետիսյան'!F42) -> 0 | G42: =SUM('Գ. Թորոսյանի:Ն. Ավետիսյան'!G42) -> 0 | H42: =SUM('Գ. Թորոսյանի:Ն. Ավետիսյան'!H42) -> 0 | I42: =SUM('Գ. Թորոսյանի:Ն. Ավետիսյան'!I42) -> 0 | J42: =SUM('Գ. Թորոսյանի:Ն. Ավետիսյան'!J42) -> 0 | K42: =SUM('Գ. Թորոսյանի:Ն. Ավետիսյան'!K42) -> 0 | L42: =SUM('Գ. Թորոսյանի:Ն. Ավետիսյան'!L42) -> 0 | ... AS42: =SUM('Գ. Թորոսյանի:Ն. Ավետիսյան'!AS42) -> 0
A43: 3.2 | B43: ²Ý³ñÅ³Ý Å³é³Ý· ×³Ý³ã»Éáõ í»ñ³µ»ñÛ³É | E43: =SUM('Գ. Թորոսյանի:Ն. Ավետիսյան'!E43) -> 0 | F43: =SUM('Գ. Թորոսյանի:Ն. Ավետիսյան'!F43) -> 0 | G43: =SUM('Գ. Թորոսյանի:Ն. Ավետիսյան'!G43) -> 0 | H43: =SUM('Գ. Թորոսյանի:Ն. Ավետիսյան'!H43) -> 0 | I43: =SUM('Գ. Թորոսյանի:Ն. Ավետիսյան'!I43) -> 0 | J43: =SUM('Գ. Թորոսյանի:Ն. Ավետիսյան'!J43) -> 0 | K43: =SUM('Գ. Թորոսյանի:Ն. Ավետիսյան'!K43) -> 0 | L43: =SUM('Գ. Թորոսյանի:Ն. Ավետիսյան'!L43) -> 0 | ... AS43: =SUM('Գ. Թորոսյանի:Ն. Ավետիսյան'!AS43) -> 0
A44: 3.3 | B44: Ä³é³Ý·áõÃÛáõÝÁ µ³Å³Ý»Éáõ í»ñ³µ»ñÛ³É | E44: =SUM('Գ. Թորոսյանի:Ն. Ավետիսյան'!E44) -> 1 | F44: =SUM('Գ. Թորոսյանի:Ն. Ավետիսյան'!F44) -> 0 | G44: =SUM('Գ. Թորոսյանի:Ն. Ավետիսյան'!G44) -> 1 | H44: =SUM('Գ. Թորոսյանի:Ն. Ավետիսյան'!H44) -> 0 | I44: =SUM('Գ. Թորոսյանի:Ն. Ավետիսյան'!I44) -> 0 | J44: =SUM('Գ. Թորոսյանի:Ն. Ավետիսյան'!J44) -> 0 | K44: =SUM('Գ. Թորոսյանի:Ն. Ավետիսյան'!K44) -> 0 | L44: =SUM('Գ. Թորոսյանի:Ն. Ավետիսյան'!L44) -> 0 | ... AS44: =SUM('Գ. Թորոսյանի:Ն. Ավետիսյան'!AS44) -> 0
A45: 3.4 | B45: ¶áõÛùÝ ³ÝÅ³é³Ý· ×³Ý³ã»Éáõ í»ñ³µ»ñÛ³É | E45: =SUM('Գ. Թորոսյանի:Ն. Ավետիսյան'!E45) -> 0 | F45: =SUM('Գ. Թորոսյանի:Ն. Ավետիսյան'!F45) -> 0 | G45: =SUM('Գ. Թորոսյանի:Ն. Ավետիսյան'!G45) -> 0 | H45: =SUM('Գ. Թորոսյանի:Ն. Ավետիսյան'!H45) -> 0 | I45: =SUM('Գ. Թորոսյանի:Ն. Ավետիսյան'!I45) -> 0 | J45: =SUM('Գ. Թորոսյանի:Ն. Ավետիսյան'!J45) -> 0 | K45: =SUM('Գ. Թորոսյանի:Ն. Ավետիսյան'!K45) -> 0 | L45: =SUM('Գ. Թորոսյանի:Ն. Ավետիսյան'!L45) -> 0 | ... AS45: =SUM('Գ. Թորոսյանի:Ն. Ավետիսյան'!AS45) -> 0
A46: 3.5 | B46: Àëï ûñ»ÝùÇ Å³é³Ý·áõÃÛ³Ý Çñ³íáõÝùÇ íÏ³Û³·ÇñÝ ³Ýí³í»ñ ×³Ý³ã»Éáõ í»ñ³µ»ñÛ³É | E46: =SUM('Գ. Թորոսյանի:Ն. Ավետիսյան'!E46) -> 0 | F46: =SUM('Գ. Թորոսյանի:Ն. Ավետիսյան'!F46) -> 0 | G46: =SUM('Գ. Թորոսյանի:Ն. Ավետիսյան'!G46) -> 0 | H46: =SUM('Գ. Թորոսյանի:Ն. Ավետիսյան'!H46) -> 0 | I46: =SUM('Գ. Թորոսյանի:Ն. Ավետիսյան'!I46) -> 0 | J46: =SUM('Գ. Թորոսյանի:Ն. Ավետիսյան'!J46) -> 3 | K46: =SUM('Գ. Թորոսյանի:Ն. Ավետիսյան'!K46) -> 2 | L46: =SUM('Գ. Թորոսյանի:Ն. Ավետիսյան'!L46) -> 1 | ... AS46: =SUM('Գ. Թորոսյանի:Ն. Ավետիսյան'!AS46) -> 0
A47: 3.6 | B47: Ä³é³Ý·áõÃÛáõÝÝ ÁÝ¹áõÝ»Éáõ µ³ó ÃáÕÝí³Í Å³ÙÏ»ïÁ Ñ³ñ·»ÉÇ Ñ³Ù³ñ»Éáõ í»ñ³µ»ñÛ³É | E47: =SUM('Գ. Թորոսյանի:Ն. Ավետիսյան'!E47) -> 1 | F47: =SUM('Գ. Թորոսյանի:Ն. Ավետիսյան'!F47) -> 0 | G47: =SUM('Գ. Թորոսյանի:Ն. Ավետիսյան'!G47) -> 1 | H47: =SUM('Գ. Թորոսյանի:Ն. Ավետիսյան'!H47) -> 0 | I47: =SUM('Գ. Թորոսյանի:Ն. Ավետիսյան'!I47) -> 0 | J47: =SUM('Գ. Թորոսյանի:Ն. Ավետիսյան'!J47) -> 0 | K47: =SUM('Գ. Թորոսյանի:Ն. Ավետիսյան'!K47) -> 0 | L47: =SUM('Գ. Թորոսյանի:Ն. Ավետիսյան'!L47) -> 0 | ... AS47: =SUM('Գ. Թորոսյանի:Ն. Ավետիսյան'!AS47) -> 0
A48: 3.7 | B48: ²ÛÉ í»×»ñ | E48: =SUM('Գ. Թորոսյանի:Ն. Ավետիսյան'!E48) -> 14 | F48: =SUM('Գ. Թորոսյանի:Ն. Ավետիսյան'!F48) -> 2 | G48: =SUM('Գ. Թորոսյանի:Ն. Ավետիսյան'!G48) -> 12 | H48: =SUM('Գ. Թորոսյանի:Ն. Ավետիսյան'!H48) -> 0 | I48: =SUM('Գ. Թորոսյանի:Ն. Ավետիսյան'!I48) -> 0 | J48: =SUM('Գ. Թորոսյանի:Ն. Ավետիսյան'!J48) -> 8 | K48: =SUM('Գ. Թորոսյանի:Ն. Ավետիսյան'!K48) -> 7 | L48: =SUM('Գ. Թորոսյանի:Ն. Ավետիսյան'!L48) -> 1 | ... AS48: =SUM('Գ. Թորոսյանի:Ն. Ավետիսյան'!AS48) -> 0
A49: 4 | B49: ÀÝï³Ý»Ï³Ý Çñ³í³Ñ³ñ³µ»ñáõÃÛáõÝÝ»ñÇ í»ñ³µ»ñÛ³É ¹³ï³Ï³Ý ·áñÍ»ñ | E49: =SUM(E50:E62) -> 113 | F49: =SUM(F50:F62) -> 9 | G49: =SUM(G50:G62) -> 104 | H49: =SUM(H50:H62) -> 0 | I49: =SUM(I50:I62) -> 0 | J49: =SUM(J50:J62) -> 189 | K49: =SUM(K50:K62) -> 162 | L49: =SUM(L50:L62) -> 27 | ... AS49: =SUM(AS50:AS62) -> 0
A50: 4.1 | B50: ²ÙáõëÝ³ÉáõÍáõÃÛ³Ý í»ñ³µ»ñÛ³É | E50: =SUM('Գ. Թորոսյանի:Ն. Ավետիսյան'!E50) -> 59 | F50: =SUM('Գ. Թորոսյանի:Ն. Ավետիսյան'!F50) -> 3 | G50: =SUM('Գ. Թորոսյանի:Ն. Ավետիսյան'!G50) -> 56 | H50: =SUM('Գ. Թորոսյանի:Ն. Ավետիսյան'!H50) -> 0 | I50: =SUM('Գ. Թորոսյանի:Ն. Ավետիսյան'!I50) -> 0 | J50: =SUM('Գ. Թորոսյանի:Ն. Ավետիսյան'!J50) -> 112 | K50: =SUM('Գ. Թորոսյանի:Ն. Ավետիսյան'!K50) -> 93 | L50: =SUM('Գ. Թորոսյանի:Ն. Ավետիսյան'!L50) -> 19 | ... AS50: =SUM('Գ. Թորոսյանի:Ն. Ավետիսյան'!AS50) -> 0
A51: 4.2 | B51: ²ÉÇÙ»ÝïÇ å³Ñ³ÝçÇ í»ñ³µ»ñÛ³É | E51: =SUM('Գ. Թորոսյանի:Ն. Ավետիսյան'!E51) -> 16 | F51: =SUM('Գ. Թորոսյանի:Ն. Ավետիսյան'!F51) -> 1 | G51: =SUM('Գ. Թորոսյանի:Ն. Ավետիսյան'!G51) -> 15 | H51: =SUM('Գ. Թորոսյանի:Ն. Ավետիսյան'!H51) -> 0 | I51: =SUM('Գ. Թորոսյանի:Ն. Ավետիսյան'!I51) -> 0 | J51: =SUM('Գ. Թորոսյանի:Ն. Ավետիսյան'!J51) -> 33 | K51: =SUM('Գ. Թորոսյանի:Ն. Ավետիսյան'!K51) -> 32 | L51: =SUM('Գ. Թորոսյանի:Ն. Ավետիսյան'!L51) -> 1 | ... AS51: =SUM('Գ. Թորոսյանի:Ն. Ավետիսյան'!AS51) -> 0
A52: 4.3 | B52: ²ÉÇÙ»ÝïÇ ã³÷Á ÷á÷áË»Éáõ í»ñ³µ»ñÛ³É | E52: =SUM('Գ. Թորոսյանի:Ն. Ավետիսյան'!E52) -> 7 | F52: =SUM('Գ. Թորոսյանի:Ն. Ավետիսյան'!F52) -> 0 | G52: =SUM('Գ. Թորոսյանի:Ն. Ավետիսյան'!G52) -> 7 | H52: =SUM('Գ. Թորոսյանի:Ն. Ավետիսյան'!H52) -> 0 | I52: =SUM('Գ. Թորոսյանի:Ն. Ավետիսյան'!I52) -> 0 | J52: =SUM('Գ. Թորոսյանի:Ն. Ավետիսյան'!J52) -> 11 | K52: =SUM('Գ. Թորոսյանի:Ն. Ավետիսյան'!K52) -> 10 | L52: =SUM('Գ. Թորոսյանի:Ն. Ավետիսյան'!L52) -> 1 | ... AS52: =SUM('Գ. Թորոսյանի:Ն. Ավետիսյան'!AS52) -> 0
A53: 4.4 | B53: ÌÝáÕ³Ï³Ý Çñ³íáõÝùÝ»ñÇó ½ñÏ»Éáõ í»ñ³µ»ñÛ³É | E53: =SUM('Գ. Թորոսյանի:Ն. Ավետիսյան'!E53) -> 1 | F53: =SUM('Գ. Թորոսյանի:Ն. Ավետիսյան'!F53) -> 0 | G53: =SUM('Գ. Թորոսյանի:Ն. Ավետիսյան'!G53) -> 1 | H53: =SUM('Գ. Թորոսյանի:Ն. Ավետիսյան'!H53) -> 0 | I53: =SUM('Գ. Թորոսյանի:Ն. Ավետիսյան'!I53) -> 0 | J53: =SUM('Գ. Թորոսյանի:Ն. Ավետիսյան'!J53) -> 2 | K53: =SUM('Գ. Թորոսյանի:Ն. Ավետիսյան'!K53) -> 1 | L53: =SUM('Գ. Թորոսյանի:Ն. Ավետիսյան'!L53) -> 1 | ... AS53: =SUM('Գ. Թորոսյանի:Ն. Ավետիսյան'!AS53) -> 0
A54: 4.5 | B54: ÌÝáÕ³Ï³Ý Çñ³íáõÝùÝ»ñÁ í»ñ³Ï³Ý·Ý»Éáõ í»ñ³µ»ñÛ³É | E54: =SUM('Գ. Թորոսյանի:Ն. Ավետիսյան'!E54) -> 0 | F54: =SUM('Գ. Թորոսյանի:Ն. Ավետիսյան'!F54) -> 0 | G54: =SUM('Գ. Թորոսյանի:Ն. Ավետիսյան'!G54) -> 0 | H54: =SUM('Գ. Թորոսյանի:Ն. Ավետիսյան'!H54) -> 0 | I54: =SUM('Գ. Թորոսյանի:Ն. Ավետիսյան'!I54) -> 0 | J54: =SUM('Գ. Թորոսյանի:Ն. Ավետիսյան'!J54) -> 0 | K54: =SUM('Գ. Թորոսյանի:Ն. Ավետիսյան'!K54) -> 0 | L54: =SUM('Գ. Թորոսյանի:Ն. Ավետիսյան'!L54) -> 0 | ... AS54: =SUM('Գ. Թորոսյանի:Ն. Ավետիսյան'!AS54) -> 0
A55: 4.6 | B55: ºñ»Ë³ÛÇ áñ¹»·ñÙ³Ý í»ñ³µ»ñÛ³É | E55: =SUM('Գ. Թորոսյանի:Ն. Ավետիսյան'!E55) -> 0 | F55: =SUM('Գ. Թորոսյանի:Ն. Ավետիսյան'!F55) -> 0 | G55: =SUM('Գ. Թորոսյանի:Ն. Ավետիսյան'!G55) -> 0 | H55: =SUM('Գ. Թորոսյանի:Ն. Ավետիսյան'!H55) -> 0 | I55: =SUM('Գ. Թորոսյանի:Ն. Ավետիսյան'!I55) -> 0 | J55: =SUM('Գ. Թորոսյանի:Ն. Ավետիսյան'!J55) -> 0 | K55: =SUM('Գ. Թորոսյանի:Ն. Ավետիսյան'!K55) -> 0 | L55: =SUM('Գ. Թորոսյանի:Ն. Ավետիսյան'!L55) -> 0 | ... AS55: =SUM('Գ. Թորոսյանի:Ն. Ավետիսյան'!AS55) -> 0
A56: 4.7 | B56: ºñ»Ë³ÛÇ áñ¹»·ñáõÙÁ í»ñ³óÝ»Éáõ í»ñ³µ»ñÛ³É | E56: =SUM('Գ. Թորոսյանի:Ն. Ավետիսյան'!E56) -> 0 | F56: =SUM('Գ. Թորոսյանի:Ն. Ավետիսյան'!F56) -> 0 | G56: =SUM('Գ. Թորոսյանի:Ն. Ավետիսյան'!G56) -> 0 | H56: =SUM('Գ. Թորոսյանի:Ն. Ավետիսյան'!H56) -> 0 | I56: =SUM('Գ. Թորոսյանի:Ն. Ավետիսյան'!I56) -> 0 | J56: =SUM('Գ. Թորոսյանի:Ն. Ավետիսյան'!J56) -> 0 | K56: =SUM('Գ. Թորոսյանի:Ն. Ավետիսյան'!K56) -> 0 | L56: =SUM('Գ. Թորոսյանի:Ն. Ավետիսյան'!L56) -> 0 | ... AS56: =SUM('Գ. Թորոսյանի:Ն. Ավետիսյան'!AS56) -> 0
A57: 4.8 | B57: Ð³ÛñáõÃÛáõÝÁ ×³Ý³ã»Éáõ í»ñ³µ»ñÛ³É | E57: =SUM('Գ. Թորոսյանի:Ն. Ավետիսյան'!E57) -> 6 | F57: =SUM('Գ. Թորոսյանի:Ն. Ավետիսյան'!F57) -> 3 | G57: =SUM('Գ. Թորոսյանի:Ն. Ավետիսյան'!G57) -> 3 | H57: =SUM('Գ. Թորոսյանի:Ն. Ավետիսյան'!H57) -> 0 | I57: =SUM('Գ. Թորոսյանի:Ն. Ավետիսյան'!I57) -> 0 | J57: =SUM('Գ. Թորոսյանի:Ն. Ավետիսյան'!J57) -> 6 | K57: =SUM('Գ. Թորոսյանի:Ն. Ավետիսյան'!K57) -> 5 | L57: =SUM('Գ. Թորոսյանի:Ն. Ավետիսյան'!L57) -> 1 | ... AS57: =SUM('Գ. Թորոսյանի:Ն. Ավետիսյան'!AS57) -> 0
A58: 4.9 | B58: ºñ»Ë³ÛÇ µÝ³ÏáõÃÛ³Ý í³ÛñÁ áñáß»Éáõ í»ñ³µ»ñÛ³É | E58: =SUM('Գ. Թորոսյանի:Ն. Ավետիսյան'!E58) -> 6 | F58: =SUM('Գ. Թորոսյանի:Ն. Ավետիսյան'!F58) -> 0 | G58: =SUM('Գ. Թորոսյանի:Ն. Ավետիսյան'!G58) -> 6 | H58: =SUM('Գ. Թորոսյանի:Ն. Ավետիսյան'!H58) -> 0 | I58: =SUM('Գ. Թորոսյանի:Ն. Ավետիսյան'!I58) -> 0 | J58: =SUM('Գ. Թորոսյանի:Ն. Ավետիսյան'!J58) -> 6 | K58: =SUM('Գ. Թորոսյանի:Ն. Ավետիսյան'!K58) -> 5 | L58: =SUM('Գ. Թորոսյանի:Ն. Ավետիսյան'!L58) -> 1 | ... AS58: =SUM('Գ. Թորոսյանի:Ն. Ավետիսյան'!AS58) -> 0
A59: 4.10 | B59: ºñ»Ë³ÛÇ Ñ»ï ï»ë³ÏóáõÃÛ³Ý Ï³ñ· ë³ÑÙ³Ý»Éáõ í»ñ³µ»ñÛ³É | E59: =SUM('Գ. Թորոսյանի:Ն. Ավետիսյան'!E59) -> 14 | F59: =SUM('Գ. Թորոսյանի:Ն. Ավետիսյան'!F59) -> 0 | G59: =SUM('Գ. Թորոսյանի:Ն. Ավետիսյան'!G59) -> 14 | H59: =SUM('Գ. Թորոսյանի:Ն. Ավետիսյան'!H59) -> 0 | I59: =SUM('Գ. Թորոսյանի:Ն. Ավետիսյան'!I59) -> 0 | J59: =SUM('Գ. Թորոսյանի:Ն. Ավետիսյան'!J59) -> 11 | K59: =SUM('Գ. Թորոսյանի:Ն. Ավետիսյան'!K59) -> 9 | L59: =SUM('Գ. Թորոսյանի:Ն. Ավետիսյան'!L59) -> 2 | ... AS59: =SUM('Գ. Թորոսյանի:Ն. Ավետիսյան'!AS59) -> 0
A60: 4.11 | B60: ²ÙáõëÇÝÝ»ñÇ ÁÝ¹Ñ³Ýáõñ ·áõÛùÁ µ³Å³Ý»Éáõ í»ñ³µ»ñÛ³É | E60: =SUM('Գ. Թորոսյանի:Ն. Ավետիսյան'!E60) -> 3 | F60: =SUM('Գ. Թորոսյանի:Ն. Ավետիսյան'!F60) -> 1 | G60: =SUM('Գ. Թորոսյանի:Ն. Ավետիսյան'!G60) -> 2 | H60: =SUM('Գ. Թորոսյանի:Ն. Ավետիսյան'!H60) -> 0 | I60: =SUM('Գ. Թորոսյանի:Ն. Ավետիսյան'!I60) -> 0 | J60: =SUM('Գ. Թորոսյանի:Ն. Ավետիսյան'!J60) -> 3 | K60: =SUM('Գ. Թորոսյանի:Ն. Ավետիսյան'!K60) -> 3 | L60: =SUM('Գ. Թորոսյանի:Ն. Ավետիսյան'!L60) -> 0 | ... AS60: =SUM('Գ. Թորոսյանի:Ն. Ավետիսյան'!AS60) -> 0
A61: 4.12 | B61: ²ÙáõëÝ³Ï³Ý å³ÛÙ³Ý³·ñÇ ÷á÷áËÙ³Ý Ï³Ù ÉáõÍÙ³Ý í»ñ³µ»ñÛ³É | E61: =SUM('Գ. Թորոսյանի:Ն. Ավետիսյան'!E61) -> 0 | F61: =SUM('Գ. Թորոսյանի:Ն. Ավետիսյան'!F61) -> 0 | G61: =SUM('Գ. Թորոսյանի:Ն. Ավետիսյան'!G61) -> 0 | H61: =SUM('Գ. Թորոսյանի:Ն. Ավետիսյան'!H61) -> 0 | I61: =SUM('Գ. Թորոսյանի:Ն. Ավետիսյան'!I61) -> 0 | J61: =SUM('Գ. Թորոսյանի:Ն. Ավետիսյան'!J61) -> 0 | K61: =SUM('Գ. Թորոսյանի:Ն. Ավետիսյան'!K61) -> 0 | L61: =SUM('Գ. Թորոսյանի:Ն. Ավետիսյան'!L61) -> 0 | ... AS61: =SUM('Գ. Թորոսյանի:Ն. Ավետիսյան'!AS61) -> 0
A62: 4.13 | B62: ²ÛÉ í»×»ñ | E62: =SUM('Գ. Թորոսյանի:Ն. Ավետիսյան'!E62) -> 1 | F62: =SUM('Գ. Թորոսյանի:Ն. Ավետիսյան'!F62) -> 1 | G62: =SUM('Գ. Թորոսյանի:Ն. Ավետիսյան'!G62) -> 0 | H62: =SUM('Գ. Թորոսյանի:Ն. Ավետիսյան'!H62) -> 0 | I62: =SUM('Գ. Թորոսյանի:Ն. Ավետիսյան'!I62) -> 0 | J62: =SUM('Գ. Թորոսյանի:Ն. Ավետիսյան'!J62) -> 5 | K62: =SUM('Գ. Թորոսյանի:Ն. Ավետիսյան'!K62) -> 4 | L62: =SUM('Գ. Թորոսյանի:Ն. Ավետիսյան'!L62) -> 1 | ... AS62: =SUM('Գ. Թորոսյանի:Ն. Ավետիսյան'!AS62) -> 0
A63: 5. | B63: Øï³íáñ ë»÷³Ï³ÝáõÃÛ³Ý Ñ»ï Ï³åí³ÍÇñ³í³Ñ³ñ³µ»ñáõÃÛáõÝÝ»ñÇ í»ñ³µ»ñÛ³É ¹³ï³Ï³Ý ·áñÍ»ñ | E63: =SUM(E64:E69) -> 0 | F63: =SUM(F64:F69) -> 0 | G63: =SUM(G64:G69) -> 0 | H63: =SUM(H64:H69) -> 0 | I63: =SUM(I64:I69) -> 0 | J63: =SUM(J64:J69) -> 4 | K63: =SUM(K64:K69) -> 1 | L63: =SUM(L64:L69) -> 3 | ... AS63: =SUM(AS64:AS69) -> 0
A64: 5.1 | B64: ÈÇó»Ý½³ÛÇÝ å³ÛÙ³Ý³·ñÇ ÉáõÍÙ³Ý, ÷á÷áËÙ³Ý ¨ ³Ýí³í»ñáõÃÛ³Ý í»ñ³µ»ñÛ³É | E64: =SUM('Գ. Թորոսյանի:Ն. Ավետիսյան'!E64) -> 0 | F64: =SUM('Գ. Թորոսյանի:Ն. Ավետիսյան'!F64) -> 0 | G64: =SUM('Գ. Թորոսյանի:Ն. Ավետիսյան'!G64) -> 0 | H64: =SUM('Գ. Թորոսյանի:Ն. Ավետիսյան'!H64) -> 0 | I64: =SUM('Գ. Թորոսյանի:Ն. Ավետիսյան'!I64) -> 0 | J64: =SUM('Գ. Թորոսյանի:Ն. Ավետիսյան'!J64) -> 0 | K64: =SUM('Գ. Թորոսյանի:Ն. Ավետիսյան'!K64) -> 0 | L64: =SUM('Գ. Թորոսյանի:Ն. Ավետիսյան'!L64) -> 0 | ... AS64: =SUM('Գ. Թորոսյանի:Ն. Ավետիսյան'!AS64) -> 0
A65: 5.2 | B65: Øï³íáñ ·áñÍáõÝ»áõÃÛ³Ý ³ñ¹ÛáõÝùÝ»ñ ëï»ÕÍ»Éáõ ¨ û·ï³·áñÍ»Éáõ å³ÛÙ³Ý³·ñÇ ÉáõÍÙ³Ý, ÷á÷áËÙ³Ý áõ ³Ýí³í»ñáõÃÛ³Ý í»ñ³µ»ñÛ³É | E65: =SUM('Գ. Թորոսյանի:Ն. Ավետիսյան'!E65) -> 0 | F65: =SUM('Գ. Թորոսյանի:Ն. Ավետիսյան'!F65) -> 0 | G65: =SUM('Գ. Թորոսյանի:Ն. Ավետիսյան'!G65) -> 0 | H65: =SUM('Գ. Թորոսյանի:Ն. Ավետիսյան'!H65) -> 0 | I65: =SUM('Գ. Թորոսյանի:Ն. Ավետիսյան'!I65) -> 0 | J65: =SUM('Գ. Թորոսյանի:Ն. Ավետիսյան'!J65) -> 0 | K65: =SUM('Գ. Թորոսյանի:Ն. Ավետիսյան'!K65) -> 0 | L65: =SUM('Գ. Թորոսյանի:Ն. Ավետիսյան'!L65) -> 0 | ... AS65: =SUM('Գ. Թորոսյանի:Ն. Ավետիսյան'!AS65) -> 0
A66: 5.3 | B66: Ð»ÕÇÝ³Ï³ÛÇÝ ¨ Ñ³ñ³ÏÇó Çñ³íáõÝùÝ»ñÇ í»ñ³µ»ñÛ³É | E66: =SUM('Գ. Թորոսյանի:Ն. Ավետիսյան'!E66) -> 0 | F66: =SUM('Գ. Թորոսյանի:Ն. Ավետիսյան'!F66) -> 0 | G66: =SUM('Գ. Թորոսյանի:Ն. Ավետիսյան'!G66) -> 0 | H66: =SUM('Գ. Թորոսյանի:Ն. Ավետիսյան'!H66) -> 0 | I66: =SUM('Գ. Թորոսյանի:Ն. Ավետիսյան'!I66) -> 0 | J66: =SUM('Գ. Թորոսյանի:Ն. Ավետիսյան'!J66) -> 0 | K66: =SUM('Գ. Թորոսյանի:Ն. Ավետիսյան'!K66) -> 0 | L66: =SUM('Գ. Թորոսյանի:Ն. Ավետիսյան'!L66) -> 0 | ... AS66: =SUM('Գ. Թորոսյանի:Ն. Ավետիսյան'!AS66) -> 0
A67: 5.4 | B67: üÇñÙ³ÛÇÝ ³Ýí³ÝÙ³Ý í»ñ³µ»ñÛ³É | E67: =SUM('Գ. Թորոսյանի:Ն. Ավետիսյան'!E67) -> 0 | F67: =SUM('Գ. Թորոսյանի:Ն. Ավետիսյան'!F67) -> 0 | G67: =SUM('Գ. Թորոսյանի:Ն. Ավետիսյան'!G67) -> 0 | H67: =SUM('Գ. Թորոսյանի:Ն. Ավետիսյան'!H67) -> 0 | I67: =SUM('Գ. Թորոսյանի:Ն. Ավետիսյան'!I67) -> 0 | J67: =SUM('Գ. Թորոսյանի:Ն. Ավետիսյան'!J67) -> 0 | K67: =SUM('Գ. Թորոսյանի:Ն. Ավետիսյան'!K67) -> 0 | L67: =SUM('Գ. Թորոսյանի:Ն. Ավետիսյան'!L67) -> 0 | ... AS67: =SUM('Գ. Թորոսյանի:Ն. Ավետիսյան'!AS67) -> 0
A68: 5.5 | B68: ²åñ³Ýù³ÛÇÝ Ýß³ÝÇ í»ñ³µ»ñÛ³É | E68: =SUM('Գ. Թորոսյանի:Ն. Ավետիսյան'!E68) -> 0 | F68: =SUM('Գ. Թորոսյանի:Ն. Ավետիսյան'!F68) -> 0 | G68: =SUM('Գ. Թորոսյանի:Ն. Ավետիսյան'!G68) -> 0 | H68: =SUM('Գ. Թորոսյանի:Ն. Ավետիսյան'!H68) -> 0 | I68: =SUM('Գ. Թորոսյանի:Ն. Ավետիսյան'!I68) -> 0 | J68: =SUM('Գ. Թորոսյանի:Ն. Ավետիսյան'!J68) -> 4 | K68: =SUM('Գ. Թորոսյանի:Ն. Ավետիսյան'!K68) -> 1 | L68: =SUM('Գ. Թորոսյանի:Ն. Ավետիսյան'!L68) -> 3 | ... AS68: =SUM('Գ. Թորոսյանի:Ն. Ավետիսյան'!AS68) -> 0
A69: 5.6 | B69: ²ÛÉ í»×»ñ | E69: =SUM('Գ. Թորոսյանի:Ն. Ավետիսյան'!E69) -> 0 | F69: =SUM('Գ. Թորոսյանի:Ն. Ավետիսյան'!F69) -> 0 | G69: =SUM('Գ. Թորոսյանի:Ն. Ավետիսյան'!G69) -> 0 | H69: =SUM('Գ. Թորոսյանի:Ն. Ավետիսյան'!H69) -> 0 | I69: =SUM('Գ. Թորոսյանի:Ն. Ավետիսյան'!I69) -> 0 | J69: =SUM('Գ. Թորոսյանի:Ն. Ավետիսյան'!J69) -> 0 | K69: =SUM('Գ. Թորոսյանի:Ն. Ավետիսյան'!K69) -> 0 | L69: =SUM('Գ. Թորոսյանի:Ն. Ավետիսյան'!L69) -> 0 | ... AS69: =SUM('Գ. Թորոսյանի:Ն. Ավետիսյան'!AS69) -> 0
A70: 6. | B70: ²ßË³ï³Ýù³ÛÇÝ Çñ³í³Ñ³ñ³µ»ñáõÃÛáõÝÝ»ñÇ í»ñ³µ»ñÛ³É ¹³ï³Ï³Ý ·áñÍ»ñ | E70: =SUM(E71:E76) -> 2 | F70: =SUM(F71:F76) -> 0 | G70: =SUM(G71:G76) -> 2 | H70: =SUM(H71:H76) -> 0 | I70: =SUM(I71:I76) -> 0 | J70: =SUM(J71:J76) -> 16 | K70: =SUM(K71:K76) -> 15 | L70: =SUM(L71:L76) -> 1 | ... AS70: =SUM(AS71:AS76) -> 0
A71: 6.1 | B71: ²ßË³ï³Ýù³ÛÇÝ å³ÛÙ³Ý³·ñ»ñÇ í»ñ³µ»ñÛ³É | E71: =SUM('Գ. Թորոսյանի:Ն. Ավետիսյան'!E71) -> 0 | F71: =SUM('Գ. Թորոսյանի:Ն. Ավետիսյան'!F71) -> 0 | G71: =SUM('Գ. Թորոսյանի:Ն. Ավետիսյան'!G71) -> 0 | H71: =SUM('Գ. Թորոսյանի:Ն. Ավետիսյան'!H71) -> 0 | I71: =SUM('Գ. Թորոսյանի:Ն. Ավետիսյան'!I71) -> 0 | J71: =SUM('Գ. Թորոսյանի:Ն. Ավետիսյան'!J71) -> 0 | K71: =SUM('Գ. Թորոսյանի:Ն. Ավետիսյան'!K71) -> 0 | L71: =SUM('Գ. Թորոսյանի:Ն. Ավետիսյան'!L71) -> 0 | ... AS71: =SUM('Գ. Թորոսյանի:Ն. Ավետիսյան'!AS71) -> 0
A72: 6.2 | B72: ²ßË³ï³ÝùáõÙ í»ñ³Ï³Ý·Ý»Éáõ í»ñ³µ»ñÛ³É | E72: =SUM('Գ. Թորոսյանի:Ն. Ավետիսյան'!E72) -> 0 | F72: =SUM('Գ. Թորոսյանի:Ն. Ավետիսյան'!F72) -> 0 | G72: =SUM('Գ. Թորոսյանի:Ն. Ավետիսյան'!G72) -> 0 | H72: =SUM('Գ. Թորոսյանի:Ն. Ավետիսյան'!H72) -> 0 | I72: =SUM('Գ. Թորոսյանի:Ն. Ավետիսյան'!I72) -> 0 | J72: =SUM('Գ. Թորոսյանի:Ն. Ավետիսյան'!J72) -> 5 | K72: =SUM('Գ. Թորոսյանի:Ն. Ավետիսյան'!K72) -> 4 | L72: =SUM('Գ. Թորոսյանի:Ն. Ավետիսյան'!L72) -> 1 | ... AS72: =SUM('Գ. Թորոսյանի:Ն. Ավետիսյան'!AS72) -> 0
A73: 6.3 | B73: ¶áñÍ³¹áõÉÝ ³ÝûñÇÝ³Ï³Ý ×³Ý³ã»Éáõ í»ñ³µ»ñÛ³É | E73: =SUM('Գ. Թորոսյանի:Ն. Ավետիսյան'!E73) -> 0 | F73: =SUM('Գ. Թորոսյանի:Ն. Ավետիսյան'!F73) -> 0 | G73: =SUM('Գ. Թորոսյանի:Ն. Ավետիսյան'!G73) -> 0 | H73: =SUM('Գ. Թորոսյանի:Ն. Ավետիսյան'!H73) -> 0 | I73: =SUM('Գ. Թորոսյանի:Ն. Ավետիսյան'!I73) -> 0 | J73: =SUM('Գ. Թորոսյանի:Ն. Ավետիսյան'!J73) -> 0 | K73: =SUM('Գ. Թորոսյանի:Ն. Ավետիսյան'!K73) -> 0 | L73: =SUM('Գ. Թորոսյանի:Ն. Ավետիսյան'!L73) -> 0 | ... AS73: =SUM('Գ. Թորոսյանի:Ն. Ավետիսյան'!AS73) -> 0
A74: 6.4 | B74: Ð³ñÏ³¹Çñ å³ñ³åáõñ¹Ç Ñ³ïáõóÙ³Ý í»ñ³µ»ñÛ³É | E74: =SUM('Գ. Թորոսյանի:Ն. Ավետիսյան'!E74) -> 0 | F74: =SUM('Գ. Թորոսյանի:Ն. Ավետիսյան'!F74) -> 0 | G74: =SUM('Գ. Թորոսյանի:Ն. Ավետիսյան'!G74) -> 0 | H74: =SUM('Գ. Թորոսյանի:Ն. Ավետիսյան'!H74) -> 0 | I74: =SUM('Գ. Թորոսյանի:Ն. Ավետիսյան'!I74) -> 0 | J74: =SUM('Գ. Թորոսյանի:Ն. Ավետիսյան'!J74) -> 0 | K74: =SUM('Գ. Թորոսյանի:Ն. Ավետիսյան'!K74) -> 0 | L74: =SUM('Գ. Թորոսյանի:Ն. Ավետիսյան'!L74) -> 0 | ... AS74: =SUM('Գ. Թորոսյանի:Ն. Ավետիսյան'!AS74) -> 0
A75: 6.5 | B75: âí×³ñí³Í ³ßË³ï³í³ñÓÇ ¨/Ï³Ù ³ÛÉ í×³ñÝ»ñÇ µéÝ³·³ÝÓÙ³Ý í»ñ³µ»ñÛ³É | E75: =SUM('Գ. Թորոսյանի:Ն. Ավետիսյան'!E75) -> 1 | F75: =SUM('Գ. Թորոսյանի:Ն. Ավետիսյան'!F75) -> 0 | G75: =SUM('Գ. Թորոսյանի:Ն. Ավետիսյան'!G75) -> 1 | H75: =SUM('Գ. Թորոսյանի:Ն. Ավետիսյան'!H75) -> 0 | I75: =SUM('Գ. Թորոսյանի:Ն. Ավետիսյան'!I75) -> 0 | J75: =SUM('Գ. Թորոսյանի:Ն. Ավետիսյան'!J75) -> 8 | K75: =SUM('Գ. Թորոսյանի:Ն. Ավետիսյան'!K75) -> 8 | L75: =SUM('Գ. Թորոսյանի:Ն. Ավետիսյան'!L75) -> 0 | ... AS75: =SUM('Գ. Թորոսյանի:Ն. Ավետիսյան'!AS75) -> 0
A76: 6.6 | B76: ²ÛÉ í»×»ñ | E76: =SUM('Գ. Թորոսյանի:Ն. Ավետիսյան'!E76) -> 1 | F76: =SUM('Գ. Թորոսյանի:Ն. Ավետիսյան'!F76) -> 0 | G76: =SUM('Գ. Թորոսյանի:Ն. Ավետիսյան'!G76) -> 1 | H76: =SUM('Գ. Թորոսյանի:Ն. Ավետիսյան'!H76) -> 0 | I76: =SUM('Գ. Թորոսյանի:Ն. Ավետիսյան'!I76) -> 0 | J76: =SUM('Գ. Թորոսյանի:Ն. Ավետիսյան'!J76) -> 3 | K76: =SUM('Գ. Թորոսյանի:Ն. Ավետիսյան'!K76) -> 3 | L76: =SUM('Գ. Թորոսյանի:Ն. Ավետիսյան'!L76) -> 0 | ... AS76: =SUM('Գ. Թորոսյանի:Ն. Ավետիսյան'!AS76) -> 0
A77: 7. | B77: Æñ³í³µ³Ý³Ï³Ý ³ÝÓÇ ·áñÍáõÝ»áõÃÛáõÝÇó µËáÕ Çñ³í³Ñ³ñ³µ»ñáõÃÛáõÝÝ»ñÇ í»ñ³µ»ñÛ³É ¹³ï³Ï³Ý ·áñÍ»ñ | E77: =SUM(E78:E79) -> 3 | F77: =SUM(F78:F79) -> 1 | G77: =SUM(G78:G79) -> 2 | H77: =SUM(H78:H79) -> 0 | I77: =SUM(I78:I79) -> 0 | J77: =SUM(J78:J79) -> 0 | K77: =SUM(K78:K79) -> 0 | L77: =SUM(L78:L79) -> 0 | ... AS77: =SUM(AS78:AS79) -> 0
A78: 7.1 | B78: Îáñåáñ³ïÇí í»×»ñ | E78: =SUM('Գ. Թորոսյանի:Ն. Ավետիսյան'!E78) -> 0 | F78: =SUM('Գ. Թորոսյանի:Ն. Ավետիսյան'!F78) -> 0 | G78: =SUM('Գ. Թորոսյանի:Ն. Ավետիսյան'!G78) -> 0 | H78: =SUM('Գ. Թորոսյանի:Ն. Ավետիսյան'!H78) -> 0 | I78: =SUM('Գ. Թորոսյանի:Ն. Ավետիսյան'!I78) -> 0 | J78: =SUM('Գ. Թորոսյանի:Ն. Ավետիսյան'!J78) -> 0 | K78: =SUM('Գ. Թորոսյանի:Ն. Ավետիսյան'!K78) -> 0 | L78: =SUM('Գ. Թորոսյանի:Ն. Ավետիսյան'!L78) -> 0 | ... AS78: =SUM('Գ. Թորոսյանի:Ն. Ավետիսյան'!AS78) -> 0
A79: 7.2 | B79: ²ÛÉ í»×»ñ | E79: =SUM('Գ. Թորոսյանի:Ն. Ավետիսյան'!E79) -> 3 | F79: =SUM('Գ. Թորոսյանի:Ն. Ավետիսյան'!F79) -> 1 | G79: =SUM('Գ. Թորոսյանի:Ն. Ավետիսյան'!G79) -> 2 | H79: =SUM('Գ. Թորոսյանի:Ն. Ավետիսյան'!H79) -> 0 | I79: =SUM('Գ. Թորոսյանի:Ն. Ավետիսյան'!I79) -> 0 | J79: =SUM('Գ. Թորոսյանի:Ն. Ավետիսյան'!J79) -> 0 | K79: =SUM('Գ. Թորոսյանի:Ն. Ավետիսյան'!K79) -> 0 | L79: =SUM('Գ. Թորոսյանի:Ն. Ավետիսյան'!L79) -> 0 | ... AS79: =SUM('Գ. Թորոսյանի:Ն. Ավետիսյան'!AS79) -> 0
A80: 8. | B80: Ð³ïáõÏ í³ñáõÛÃÇ ¹³ï³Ï³Ý ·áñÍ»ñ | E80: =SUM(E81:E101) -> 56 | F80: =SUM(F81:F101) -> 8 | G80: =SUM(G81:G101) -> 48 | H80: =SUM(H81:H101) -> 0 | I80: =SUM(I81:I101) -> 0 | J80: =SUM(J81:J101) -> 109 | K80: =SUM(K81:K101) -> 80 | L80: =SUM(L81:L101) -> 25 | ... AS80: =SUM(AS81:AS101) -> 0
A81: 8.1 | B81: ²Ýã³÷³Ñ³ëÇÝ ÉñÇí ·áñÍáõÝ³Ï ×³Ý³ã»Éáõ /¿Ù³ÝëÇå³óÇ³/ í»ñ³µ»ñÛ³É | E81: =SUM('Գ. Թորոսյանի:Ն. Ավետիսյան'!E81) -> 0 | F81: =SUM('Գ. Թորոսյանի:Ն. Ավետիսյան'!F81) -> 0 | G81: =SUM('Գ. Թորոսյանի:Ն. Ավետիսյան'!G81) -> 0 | H81: =SUM('Գ. Թորոսյանի:Ն. Ավետիսյան'!H81) -> 0 | I81: =SUM('Գ. Թորոսյանի:Ն. Ավետիսյան'!I81) -> 0 | J81: =SUM('Գ. Թորոսյանի:Ն. Ավետիսյան'!J81) -> 0 | K81: =SUM('Գ. Թորոսյանի:Ն. Ավետիսյան'!K81) -> 0 | L81: =SUM('Գ. Թորոսյանի:Ն. Ավետիսյան'!L81) -> 0 | ... AS81: =SUM('Գ. Թորոսյանի:Ն. Ավետիսյան'!AS81) -> 0
A82: 8.2 | B82: ø³Õ³ù³óáõÝ ³Ý·áñÍáõÝ³Ï Ï³Ù ë³ÑÙ³Ý³÷³Ï ·áñÍáõÝ³Ï ×³Ý³ã»Éáõ í»ñ³µ»ñÛ³É | E82: =SUM('Գ. Թորոսյանի:Ն. Ավետիսյան'!E82) -> 22 | F82: =SUM('Գ. Թորոսյանի:Ն. Ավետիսյան'!F82) -> 6 | G82: =SUM('Գ. Թորոսյանի:Ն. Ավետիսյան'!G82) -> 16 | H82: =SUM('Գ. Թորոսյանի:Ն. Ավետիսյան'!H82) -> 0 | I82: =SUM('Գ. Թորոսյանի:Ն. Ավետիսյան'!I82) -> 0 | J82: =SUM('Գ. Թորոսյանի:Ն. Ավետիսյան'!J82) -> 21 | K82: =SUM('Գ. Թորոսյանի:Ն. Ավետիսյան'!K82) -> 17 | L82: =SUM('Գ. Թորոսյանի:Ն. Ավետիսյան'!L82) -> 4 | ... AS82: =SUM('Գ. Թորոսյանի:Ն. Ավետիսյան'!AS82) -> 0
A83: 8.3 | B83: ø³Õ³ù³óáõÝ Ñá·»µáõÅ³Ï³Ý ÑÇí³Ý¹³Ýáó³ÛÇÝ Ñ³ñÏ³¹Çñ µáõÅÙ³Ý »ÝÃ³ñÏ»Éáõ í»ñ³µ»ñÛ³É | E83: =SUM('Գ. Թորոսյանի:Ն. Ավետիսյան'!E83) -> 0 | F83: =SUM('Գ. Թորոսյանի:Ն. Ավետիսյան'!F83) -> 0 | G83: =SUM('Գ. Թորոսյանի:Ն. Ավետիսյան'!G83) -> 0 | H83: =SUM('Գ. Թորոսյանի:Ն. Ավետիսյան'!H83) -> 0 | I83: =SUM('Գ. Թորոսյանի:Ն. Ավետիսյան'!I83) -> 0 | J83: =SUM('Գ. Թորոսյանի:Ն. Ավետիսյան'!J83) -> 0 | K83: =SUM('Գ. Թորոսյանի:Ն. Ավետիսյան'!K83) -> 0 | L83: =SUM('Գ. Թորոսյանի:Ն. Ավետիսյան'!L83) -> 0 | ... AS83: =SUM('Գ. Թորոսյանի:Ն. Ավետիսյան'!AS83) -> 0
A84: 8.4 | B84: ø³Õ³ù³óáõÝ ³ÝÑ³Ûï µ³ó³Ï³ÛáÕ Ï³Ù Ù³Ñ³ó³Í ×³Ý³ã»Éáõ í»ñ³µ»ñÛ³É | E84: =SUM('Գ. Թորոսյանի:Ն. Ավետիսյան'!E84) -> 10 | F84: =SUM('Գ. Թորոսյանի:Ն. Ավետիսյան'!F84) -> 1 | G84: =SUM('Գ. Թորոսյանի:Ն. Ավետիսյան'!G84) -> 9 | H84: =SUM('Գ. Թորոսյանի:Ն. Ավետիսյան'!H84) -> 0 | I84: =SUM('Գ. Թորոսյանի:Ն. Ավետիսյան'!I84) -> 0 | J84: =SUM('Գ. Թորոսյանի:Ն. Ավետիսյան'!J84) -> 14 | K84: =SUM('Գ. Թորոսյանի:Ն. Ավետիսյան'!K84) -> 10 | L84: =SUM('Գ. Թորոսյանի:Ն. Ավետիսյան'!L84) -> 4 | ... AS84: =SUM('Գ. Թորոսյանի:Ն. Ավետիսյան'!AS84) -> 0
A85: 8.5 | B85: ø³Õ³ù³óÇ³Ï³Ý Ï³óáõÃÛ³Ý ³Ïï»ñÇ ·ñ³éáõÙÝ»ñÇ ³Ý×ßïáõÃÛáõÝÝ»ñÁ å³ñ½»Éáõ í»ñ³µ»ñÛ³É | E85: =SUM('Գ. Թորոսյանի:Ն. Ավետիսյան'!E85) -> 0 | F85: =SUM('Գ. Թորոսյանի:Ն. Ավետիսյան'!F85) -> 0 | G85: =SUM('Գ. Թորոսյանի:Ն. Ավետիսյան'!G85) -> 0 | H85: =SUM('Գ. Թորոսյանի:Ն. Ավետիսյան'!H85) -> 0 | I85: =SUM('Գ. Թորոսյանի:Ն. Ավետիսյան'!I85) -> 0 | J85: =SUM('Գ. Թորոսյանի:Ն. Ավետիսյան'!J85) -> 0 | K85: =SUM('Գ. Թորոսյանի:Ն. Ավետիսյան'!K85) -> 0 | L85: =SUM('Գ. Թորոսյանի:Ն. Ավետիսյան'!L85) -> 0 | ... AS85: =SUM('Գ. Թորոսյանի:Ն. Ավետիսյան'!AS85) -> 0
A86: 8.6 | B86: ¶áõÛùÁ ïÇñ³½áõñÏ ×³Ý³ã»Éáõ í»ñ³µ»ñÛ³É | E86: =SUM('Գ. Թորոսյանի:Ն. Ավետիսյան'!E86) -> 0 | F86: =SUM('Գ. Թորոսյանի:Ն. Ավետիսյան'!F86) -> 0 | G86: =SUM('Գ. Թորոսյանի:Ն. Ավետիսյան'!G86) -> 0 | H86: =SUM('Գ. Թորոսյանի:Ն. Ավետիսյան'!H86) -> 0 | I86: =SUM('Գ. Թորոսյանի:Ն. Ավետիսյան'!I86) -> 0 | J86: =SUM('Գ. Թորոսյանի:Ն. Ավետիսյան'!J86) -> 0 | K86: =SUM('Գ. Թորոսյանի:Ն. Ավետիսյան'!K86) -> 0 | L86: =SUM('Գ. Թորոսյանի:Ն. Ավետիսյան'!L86) -> 0 | ... AS86: =SUM('Գ. Թորոսյանի:Ն. Ավետիսյան'!AS86) -> 0
A87: 8.6.1 | B87: ²Û¹ ÃíáõÙª ³Ýß³ñÅ ·áõÛùÁ | E87: =SUM('Գ. Թորոսյանի:Ն. Ավետիսյան'!E87) -> 2 | F87: =SUM('Գ. Թորոսյանի:Ն. Ավետիսյան'!F87) -> 0 | G87: =SUM('Գ. Թորոսյանի:Ն. Ավետիսյան'!G87) -> 2 | H87: =SUM('Գ. Թորոսյանի:Ն. Ավետիսյան'!H87) -> 0 | I87: =SUM('Գ. Թորոսյանի:Ն. Ավետիսյան'!I87) -> 0 | J87: =SUM('Գ. Թորոսյանի:Ն. Ավետիսյան'!J87) -> 1 | K87: =SUM('Գ. Թորոսյանի:Ն. Ավետիսյան'!K87) -> 1 | L87: =SUM('Գ. Թորոսյանի:Ն. Ավետիսյան'!L87) -> 0 | ... AS87: =SUM('Գ. Թորոսյանի:Ն. Ավետիսյան'!AS87) -> 0
A88: 8.6.2 | B88: ²Û¹ ÃíáõÙª ß³ñÅ³Ï³Ý ·áõÛùÁ | E88: =SUM('Գ. Թորոսյանի:Ն. Ավետիսյան'!E88) -> 1 | F88: =SUM('Գ. Թորոսյանի:Ն. Ավետիսյան'!F88) -> 0 | G88: =SUM('Գ. Թորոսյանի:Ն. Ավետիսյան'!G88) -> 1 | H88: =SUM('Գ. Թորոսյանի:Ն. Ավետիսյան'!H88) -> 0 | I88: =SUM('Գ. Թորոսյանի:Ն. Ավետիսյան'!I88) -> 0 | J88: =SUM('Գ. Թորոսյանի:Ն. Ավետիսյան'!J88) -> 0 | K88: =SUM('Գ. Թորոսյանի:Ն. Ավետիսյան'!K88) -> 0 | L88: =SUM('Գ. Թորոսյանի:Ն. Ավետիսյան'!L88) -> 0 | ... AS88: =SUM('Գ. Թորոսյանի:Ն. Ավետիսյան'!AS88) -> 0
A89: 8.7 | B89: Æñ³í³µ³Ý³Ï³Ý Ýß³Ý³ÏáõÃÛáõÝ áõÝ»óáÕ ÷³ëï»ñÇ Ñ³ëï³ïÙ³Ý í»ñ³µ»ñÛ³É | E89: =SUM('Գ. Թորոսյանի:Ն. Ավետիսյան'!E89) -> 0 | F89: =SUM('Գ. Թորոսյանի:Ն. Ավետիսյան'!F89) -> 0 | G89: =SUM('Գ. Թորոսյանի:Ն. Ավետիսյան'!G89) -> 0 | H89: =SUM('Գ. Թորոսյանի:Ն. Ավետիսյան'!H89) -> 0 | I89: =SUM('Գ. Թորոսյանի:Ն. Ավետիսյան'!I89) -> 0 | J89: =SUM('Գ. Թորոսյանի:Ն. Ավետիսյան'!J89) -> 0 | K89: =SUM('Գ. Թորոսյանի:Ն. Ավետիսյան'!K89) -> 0 | L89: =SUM('Գ. Թորոսյանի:Ն. Ավետիսյան'!L89) -> 0 | ... AS89: =SUM('Գ. Թորոսյանի:Ն. Ավետիսյան'!AS89) -> 0
A90: 8.7.1 | B90: ²ÝÓ³Ýó ³½·³Ïó³Ï³Ý Ï³åÁ Ñ³ëï³ï»Éáõ í»ñ³µ»ñÛ³É | E90: =SUM('Գ. Թորոսյանի:Ն. Ավետիսյան'!E90) -> 5 | F90: =SUM('Գ. Թորոսյանի:Ն. Ավետիսյան'!F90) -> 1 | G90: =SUM('Գ. Թորոսյանի:Ն. Ավետիսյան'!G90) -> 4 | H90: =SUM('Գ. Թորոսյանի:Ն. Ավետիսյան'!H90) -> 0 | I90: =SUM('Գ. Թորոսյանի:Ն. Ավետիսյան'!I90) -> 0 | J90: =SUM('Գ. Թորոսյանի:Ն. Ավետիսյան'!J90) -> 17 | K90: =SUM('Գ. Թորոսյանի:Ն. Ավետիսյան'!K90) -> 9 | L90: =SUM('Գ. Թորոսյանի:Ն. Ավետիսյան'!L90) -> 7 | ... AS90: =SUM('Գ. Թորոսյանի:Ն. Ավետիսյան'!AS90) -> 0
A91: 8.7.2 | B91: ²ÝÓÇª áõñÇßÇ ËÝ³ÙùÇ ï³Ï ·ïÝí»Éáõ í»ñ³µ»ñÛ³É | E91: =SUM('Գ. Թորոսյանի:Ն. Ավետիսյան'!E91) -> 0 | F91: =SUM('Գ. Թորոսյանի:Ն. Ավետիսյան'!F91) -> 0 | G91: =SUM('Գ. Թորոսյանի:Ն. Ավետիսյան'!G91) -> 0 | H91: =SUM('Գ. Թորոսյանի:Ն. Ավետիսյան'!H91) -> 0 | I91: =SUM('Գ. Թորոսյանի:Ն. Ավետիսյան'!I91) -> 0 | J91: =SUM('Գ. Թորոսյանի:Ն. Ավետիսյան'!J91) -> 0 | K91: =SUM('Գ. Թորոսյանի:Ն. Ավետիսյան'!K91) -> 0 | L91: =SUM('Գ. Թորոսյանի:Ն. Ավետիսյան'!L91) -> 0 | ... AS91: =SUM('Գ. Թորոսյանի:Ն. Ավետիսյան'!AS91) -> 0
A92: 8.7.3 | B92: ÌÝÝ¹Û³Ý, áñ¹»·ñÙ³Ý, ³ÙáõëÝáõÃÛ³Ý, ³å³Ñ³ñ½³ÝÇ ¨ Ù³Ñí³Ý ·ñ³ÝóÙ³Ý í»ñ³µ»ñÛ³É | E92: =SUM('Գ. Թորոսյանի:Ն. Ավետիսյան'!E92) -> 1 | F92: =SUM('Գ. Թորոսյանի:Ն. Ավետիսյան'!F92) -> 0 | G92: =SUM('Գ. Թորոսյանի:Ն. Ավետիսյան'!G92) -> 1 | H92: =SUM('Գ. Թորոսյանի:Ն. Ավետիսյան'!H92) -> 0 | I92: =SUM('Գ. Թորոսյանի:Ն. Ավետիսյան'!I92) -> 0 | J92: =SUM('Գ. Թորոսյանի:Ն. Ավետիսյան'!J92) -> 7 | K92: =SUM('Գ. Թորոսյանի:Ն. Ավետիսյան'!K92) -> 3 | L92: =SUM('Գ. Թորոսյանի:Ն. Ավետիսյան'!L92) -> 3 | ... AS92: =SUM('Գ. Թորոսյանի:Ն. Ավետիսյան'!AS92) -> 0
... A101: 8.10 | B101: ²ÛÉ í»×»ñ | E101: =SUM('Գ. Թորոսյանի:Ն. Ավետիսյան'!E101) -> 1 | F101: =SUM('Գ. Թորոսյանի:Ն. Ավետիսյան'!F101) -> 0 | G101: =SUM('Գ. Թորոսյանի:Ն. Ավետիսյան'!G101) -> 1 | H101: =SUM('Գ. Թորոսյանի:Ն. Ավետիսյան'!H101) -> 0 | I101: =SUM('Գ. Թորոսյանի:Ն. Ավետիսյան'!I101) -> 0 | J101: =SUM('Գ. Թորոսյանի:Ն. Ավետիսյան'!J101) -> 2 | K101: =SUM('Գ. Թորոսյանի:Ն. Ավետիսյան'!K101) -> 2 | L101: =SUM('Գ. Թորոսյանի:Ն. Ավետիսյան'!L101) -> 0 | ... AS101: =SUM('Գ. Թորոսյանի:Ն. Ավետիսյան'!AS101) -> 0
A102: 9. | B102: Ð³ïáõÏ Ñ³Ûó³ÛÇÝ í³ñáõÛÃÇ ¹³ï³Ï³Ý ·áñÍ»ñ | E102: =SUM(E103:E105) -> 0 | F102: =SUM(F103:F105) -> 0 | G102: =SUM(G103:G105) -> 0 | H102: =SUM(H103:H105) -> 0 | I102: =SUM(I103:I105) -> 0 | J102: =SUM(J103:J105) -> 0 | K102: =SUM(K103:K105) -> 0 | L102: =SUM(L103:L105) -> 0 | ... AS102: =SUM(AS103:AS105) -> 0
A103: 9.1 | B103: ø³Õ³ù³óáõ ÏÛ³ÝùÇÝ Ï³Ù ³éáÕçáõÃÛ³ÝÝ ëå³éÝ³óáÕ íï³Ý·Ç í»ñ³µ»ñÛ³É | E103: =SUM('Գ. Թորոսյանի:Ն. Ավետիսյան'!E103) -> 0 | F103: =SUM('Գ. Թորոսյանի:Ն. Ավետիսյան'!F103) -> 0 | G103: =SUM('Գ. Թորոսյանի:Ն. Ավետիսյան'!G103) -> 0 | H103: =SUM('Գ. Թորոսյանի:Ն. Ավետիսյան'!H103) -> 0 | I103: =SUM('Գ. Թորոսյանի:Ն. Ավետիսյան'!I103) -> 0 | J103: =SUM('Գ. Թորոսյանի:Ն. Ավետիսյան'!J103) -> 0 | K103: =SUM('Գ. Թորոսյանի:Ն. Ավետիսյան'!K103) -> 0 | L103: =SUM('Գ. Թորոսյանի:Ն. Ավետիսյան'!L103) -> 0 | ... AS103: =SUM('Գ. Թորոսյանի:Ն. Ավետիսյան'!AS103) -> 0
A104: 9.2 | B104: ÐÐ Î»ÝïñáÝ³Ï³Ý µ³ÝÏÇ ¨ ³Ýí×³ñáõÝ³Ï µ³ÝÏÇ Ï³Ù í³ñÏ³ÛÇÝ Ï³½Ù³Ï»ñåáõÃÛ³Ý Å³Ù³Ý³Ï³íáñ ³¹ÙÇÝÇëïñ³óÇ³ÛÇ áñáßáõÙÝ»ñÇ µáÕáù³ñÏÙ³Ý í»ñ³µ»ñÛ³É | E104: =SUM('Գ. Թորոսյանի:Ն. Ավետիսյան'!E104) -> 0 | F104: =SUM('Գ. Թորոսյանի:Ն. Ավետիսյան'!F104) -> 0 | G104: =SUM('Գ. Թորոսյանի:Ն. Ավետիսյան'!G104) -> 0 | H104: =SUM('Գ. Թորոսյանի:Ն. Ավետիսյան'!H104) -> 0 | I104: =SUM('Գ. Թորոսյանի:Ն. Ավետիսյան'!I104) -> 0 | J104: =SUM('Գ. Թորոսյանի:Ն. Ավետիսյան'!J104) -> 0 | K104: =SUM('Գ. Թորոսյանի:Ն. Ավետիսյան'!K104) -> 0 | L104: =SUM('Գ. Թորոսյանի:Ն. Ավետիսյան'!L104) -> 0 | ... AS104: =SUM('Գ. Թորոսյանի:Ն. Ավետիսյան'!AS104) -> 0
A105: 9.3 | B105: ²ÛÉ í»×»ñ | E105: =SUM('Գ. Թորոսյանի:Ն. Ավետիսյան'!E105) -> 0 | F105: =SUM('Գ. Թորոսյանի:Ն. Ավետիսյան'!F105) -> 0 | G105: =SUM('Գ. Թորոսյանի:Ն. Ավետիսյան'!G105) -> 0 | H105: =SUM('Գ. Թորոսյանի:Ն. Ավետիսյան'!H105) -> 0 | I105: =SUM('Գ. Թորոսյանի:Ն. Ավետիսյան'!I105) -> 0 | J105: =SUM('Գ. Թորոսյանի:Ն. Ավետիսյան'!J105) -> 0 | K105: =SUM('Գ. Թորոսյանի:Ն. Ավետիսյան'!K105) -> 0 | L105: =SUM('Գ. Թորոսյանի:Ն. Ավետիսյան'!L105) -> 0 | ... AS105: =SUM('Գ. Թորոսյանի:Ն. Ավետիսյան'!AS105) -> 0
A106: 11. | B106: ä³ñï³íáñ³Ï³Ý Çñ³í³Ñ³ñ³µ»ñáõÃÛáõÝÝ»ñÇ í»ñ³µ»ñÛ³É ¹³ï³Ï³Ý ·áñÍ»ñ | E106: =SUM(E107:E114) -> 2108 | F106: =SUM(F107:F114) -> 124 | G106: =SUM(G107:G114) -> 1984 | H106: =SUM(H107:H114) -> 0 | I106: =SUM(I107:I114) -> 0 | J106: =SUM(J107:J114) -> 4220 | K106: =SUM(K107:K114) -> 3908 | L106: =SUM(L107:L114) -> 312 | ... AS106: =SUM(AS107:AS114) -> 0
A107: 11.1 | B107: ¶áõÙ³ñÇ å³Ñ³ÝçÇ Ù³ëÇÝ | E107: =SUM('Գ. Թորոսյանի:Ն. Ավետիսյան'!E107) -> 2093 | F107: =SUM('Գ. Թորոսյանի:Ն. Ավետիսյան'!F107) -> 119 | G107: =SUM('Գ. Թորոսյանի:Ն. Ավետիսյան'!G107) -> 1974 | H107: =SUM('Գ. Թորոսյանի:Ն. Ավետիսյան'!H107) -> 0 | I107: =SUM('Գ. Թորոսյանի:Ն. Ավետիսյան'!I107) -> 0 | J107: =SUM('Գ. Թորոսյանի:Ն. Ավետիսյան'!J107) -> 4217 | K107: =SUM('Գ. Թորոսյանի:Ն. Ավետիսյան'!K107) -> 3905 | L107: =SUM('Գ. Թորոսյանի:Ն. Ավետիսյան'!L107) -> 312 | ... AS107: =SUM('Գ. Թորոսյանի:Ն. Ավետիսյան'!AS107) -> 0
A108: 11.2 | B108: ä³ñï³íáñáõÃÛáõÝÁ µÝ»Õ»Ýáí Ï³ï³ñ»Éáõ å³Ñ³ÝçÇ Ù³ëÇÝ | E108: =SUM('Գ. Թորոսյանի:Ն. Ավետիսյան'!E108) -> 0 | F108: =SUM('Գ. Թորոսյանի:Ն. Ավետիսյան'!F108) -> 0 | G108: =SUM('Գ. Թորոսյանի:Ն. Ավետիսյան'!G108) -> 0 | H108: =SUM('Գ. Թորոսյանի:Ն. Ավետիսյան'!H108) -> 0 | I108: =SUM('Գ. Թորոսյանի:Ն. Ավետիսյան'!I108) -> 0 | J108: =SUM('Գ. Թորոսյանի:Ն. Ավետիսյան'!J108) -> 0 | K108: =SUM('Գ. Թորոսյանի:Ն. Ավետիսյան'!K108) -> 0 | L108: =SUM('Գ. Թորոսյանի:Ն. Ավետիսյան'!L108) -> 0 | ... AS108: =SUM('Գ. Թորոսյանի:Ն. Ավետիսյան'!AS108) -> 0
A109: 11.3 | B109: ìÝ³ëÁ ¨ µ³ó ÃáÕÝí³Í û·áõïÁ Ñ³ïáõó»Éáõ å³Ñ³ÝçÇ Ù³ëÇÝ | E109: =SUM('Գ. Թորոսյանի:Ն. Ավետիսյան'!E109) -> 6 | F109: =SUM('Գ. Թորոսյանի:Ն. Ավետիսյան'!F109) -> 3 | G109: =SUM('Գ. Թորոսյանի:Ն. Ավետիսյան'!G109) -> 3 | H109: =SUM('Գ. Թորոսյանի:Ն. Ավետիսյան'!H109) -> 0 | I109: =SUM('Գ. Թորոսյանի:Ն. Ավետիսյան'!I109) -> 0 | J109: =SUM('Գ. Թորոսյանի:Ն. Ավետիսյան'!J109) -> 0 | K109: =SUM('Գ. Թորոսյանի:Ն. Ավետիսյան'!K109) -> 0 | L109: =SUM('Գ. Թորոսյանի:Ն. Ավետիսյան'!L109) -> 0 | ... AS109: =SUM('Գ. Թորոսյանի:Ն. Ավետիսյան'!AS109) -> 0
...

Sheet Գ. Թորոսյանի
A1: 2017թ. | G1: Ð²ÞìºîìàôÂÚàôÜ | AM1: Ð³í»Éí³Í Ð³Û³ëï³ÝÇ Ð³Ýñ³å»ïáõÃÛ³Ý ¸³ï³ñ³ÝÝ»ñÇ Ý³Ë³·³ÑÝ»ñÇ ËáñÑñ¹Ç 29.01.2018Ã. ÃÇí 10-È áñáßÙ³Ý
A2: ºðºì²ÜÆ ²æ²öÜÚ²Î ºì ¸²ìÂ²ÞºÜ ì²ðâ²Î²Ü Þðæ²ÜÜºðÆ ÀÜ¸Ð²Üàôð Æð²ì²êàôÂÚ²Ü ²è²æÆÜ ²îÚ²ÜÆ ¸²î²ð²ÜÆ ¸²î²ìàð | Z2: ¶. ÂàðàêÚ²ÜÆ | AH2: ¶àðÌàôÜºàôÂÚ²Ü ìºð²´ºðÚ²È
A3: ø²Ô²ø²òÆ²Î²Ü ¶àðÌºðàì
A4: ºñ¨³ÝÇ ²ç³÷ÝÛ³Ï ¨ ¸³íÃ³ß»Ý í³ñã³Ï³Ý ßñç³ÝÝ»ñÇ ÁÝ¹Ñ³Ýáõñ Çñ³í³ëáõÃÛ³Ý ³é³çÇÝ ³ïÛ³ÝÇ ¹³ï³ñ³ÝÇ ù³Õ³ù³óÇ³Ï³Ý Ù³ëÝ³·Çï³óáõÙ áõÝ»óáÕ ¹³ï³íáñÝ»ñÇ Ñ³ëïÇùÝ»ñÇ ù³Ý³ÏÁ` 5
E5: Ð³ßí»ïáõ Å³Ù³Ý³Ï³Ñ³ïí³ÍáõÙ Ý³Ëáñ¹ Ñ³ßí»ïáõ Å³Ù³Ý³Ï³Ñ³ïí³ÍÇó ÷áË³Ýóí³Í ·áñÍ»ñÇ ÁÝ¹Ñ³Ýáõñ ÃÇíÁ | J5: Ð³ßí»ïáõ Å³Ù³Ý³Ï³Ñ³ïí³ÍáõÙëï³óí³Í ·áñÍ»ñÇ (³Û¹ ÃíáõÙ` Ñ³Ûó³¹ÇÙáõÙÝ»ñÇ, ¹ÇÙáõÙÝ»ñÇ) ÁÝ¹Ñ³Ýáõñ ÃÇíÁ | N5: öáË³Ýóí»É ¿ ³ÛÉ ¹³ï³íáñÇ (Ï³½ÙÇ ÷á÷áËáõÃÛáõÝ) | O5: Ð³ßí»ïáõ Å³Ù³Ý³Ï³Ñ³ïí³ÍáõÙ ³í³ñïí³Í ·áñÍ»ñÇ ÁÝ¹Ñ³Ýáõñ ÃÇíÁ | Z5: ¶áñÍÝ áõÕ³ñÏí»É ¿ Áëï ÁÝ¹¹³ïáõÃÛ³Ý | AA5: Ð³ßí»ïáõ Å³Ù³Ý³Ï³Ñ³ïí³ÍáõÙ Ï³ë»óí³Í í³ñáõÛÃÝ»ñáí ·áñÍ»ñÇ ÁÝ¹Ñ³Ýáõñ ÃÇíÁ | AB5: Ð³ßí»ïáõ Å³Ù³Ý³Ï³Ñ³ïí³ÍáõÙ ³Ý³í³ñï ·áñÍ»ñÇ ÁÝ¹Ñ³Ýáõñ ÃÇíÁ | AC5: ²Û¹ ÃíáõÙª Ï³ë»óí³Í | AD5: ´áÕáù³ñÏí³Í ¹³ï³Ï³Ý ³Ïï»ñÁ | AI5: ²í³ñïí³Í ¹³ï³Ï³Ý ·áñÍ»ñÇ µáÕáù³ñÏÙ³Ý ïáÏáëÁ (Ñ³ßí»ïáõ Å³Ù³Ý³Ï³ßñç³ÝáõÙ) | AJ5: ²Ý³í³ñï µáÕáùÝ»ñ | AK5: ´»Ï³Ýí³Í ¹³ï³Ï³Ý ³Ïï»ñÁ | AP5: µ»Ï³ÝáõÙÝ»ñÇ ïáÏáëÁ ³í³ñïí³Í ·áñÍ»ñÇó(Ñ³ßí»ïáõ Å³Ù³Ý³Ï³ßñç³ÝáõÙ) | AQ5: Î³ÛáõÝáõÃÛ³Ý ïáÏáëÁ ³í³ñïí³Í ·áñÍ»ñÇó(Ñ³ßí»ïáõ Å³Ù³Ý³Ï³ßñç³ÝáõÙ) | AR5: µ»Ï³ÝáõÙÝ»ñÇ ïáÏáëÁ µáÕáù³ñÏí³Í ·áñÍ»ñÇó(Ñ³ßí»ïáõ Å³Ù³Ý³Ï³ßñç³ÝáõÙ) | AS5: Ï³ÛáõÝáõÃÛ³Ý ïáÏáëÁ(Ñ³ßí»ïáõ Å³Ù³Ý³Ï³ßñç³ÝáõÙ)
E6: ÀÝ¹³Ù»ÝÁ | F6: ²Û¹ ÃíáõÙ`Ï³ë»óí³Í íÇ×³ÏáõÙ ÷áË³Ýóí³Í | G6: ²Û¹ ÃíáõÙª ÁÝ¹áõÝí»É ¿ í³ñáõÛÃ | H6: ²Û¹ ÃíáõÙª í»ñ³¹³ñÓí»É ¿ | I6: ²Û¹ ÃíáõÙª ÁÝ¹áõÝáõÙÁ Ù»ñÅí»É ¿ | J6: ÀÝ¹³Ù»ÝÁ | K6: ²Û¹ ÃíáõÙª ÁÝ¹áõÝí»É ¿ í³ñáõÛÃ | L6: ²Û¹ ÃíáõÙª í»ñ³¹³ñÓí»É ¿ | M6: ²Û¹ ÃíáõÙª ÁÝ¹áõÝáõÙÁ Ù»ñÅí»É ¿ | O6: ÀÝ¹³Ù»ÝÁ ³í³ñïí»É »Ý ·áñÍ»ñ ·áñÍÝ Áëï ¿áõÃÛ³Ý ÉáõÍáÕ ¹³ï³Ï³Ý ³Ïï»ñÇ (í×ÇéÝ»ñÇ) Ï³Û³óÙ³Ùµ | P6: ²Û¹ ÃíáõÙª Ñ³ÛóÇ µ³í³ñ³ñÙ³Ùµ | Q6: ²Û¹ ÃíáõÙª Ñ³ÛóÇ Ù³ëÝ³ÏÇ µ³í³ñ³ñÙ³Ùµ | R6: ²Û¹ ÃíáõÙª Ñ³ÛóÇ Ù»ñÅÙ³Ùµ | S6: Ø³ëáí Ï³ñ×í»É ¿É, Ù³ëáí Ù»ñÅí»É | T6: ²Û¹ ÃíáõÙª Ï³ñ×í»É »Ý | X6: Ð³ÛóÁ ÃáÕÝí»É ¿ ³é³Ýó ùÝÝáõÃÛ³Ý | Y6: ÀÝ¹³Ù»ÝÝ ³í³ñïí»É »Ý ·áñÍ»ñ | AD6: ²Û¹ ÃíáõÙ` ·áñÍÝ Áëï ¿áõÃÛ³Ý ÉáõÍáÕ ¹³ï³Ï³Ý ³Ïï»ñÁ | AE6: ²Û¹ ÃíáõÙ` ÙÇç³ÝÏÛ³É ¹³ï³Ï³Ý ³Ïï»ñÁ | AF6: ÀÝ¹³Ù»ÝÁ | AG6: Ü³Ëáñ¹ ï³ñÇÝ»ñÇÝ Ï³Û³óí³Í ³Ïï»ñÇ µáÕáù³ñÏáõÙÁ Ñ³ßí»ïáõ Å³Ù³Ý³Ï³ßñç³ÝáõÙ | AH6: Ð³ßí»ïáõ Å³Ù³Ý³Ï³ßñç³ÝáõÙ Ï³Û³óí³Í ³Ïï»ñÇ µáÕáù³ñÏáõÙÁ | AK6: ²Û¹ ÃíáõÙ` ·áñÍÝ Áëï ¿áõÃÛ³Ý ÉáõÍáÕ ¹³ï³Ï³Ý ³Ïï»ñÁ | AL6: ²Û¹ ÃíáõÙ` ÙÇç³ÝÏÛ³É ¹³ï³Ï³Ý ³Ïï»ñÁ | AM6: ÀÝ¹³Ù»ÝÁ | AN6: Ü³Ëáñ¹ ï³ñÇÝ»ñÇÝ Ï³Û³óí³Í ³Ïï»ñÇ µ»Ï³ÝáõÙÝ»ñÁ Ñ³ßí»ïáõ Å³Ù³Ý³Ï³ßñç³ÝáõÙ | AO6: Ð³ßí»ïáõ Å³Ù³Ý³Ï³ßñç³ÝáõÙ Ï³Û³óí³Í ³Ïï»ñÇ µ»Ï³ÝáõÙÁ
T7: ÀÝ¹³Ù»ÝÁ Ï³ñ×í»É »Ý | U7: ²Û¹ ÃíáõÙª Ñ³ëï³ïí»É ¿ ÏÝùí³Í Ñ³ßïáõÃÛ³Ý Ñ³Ù³Ó³ÛÝáõÃÛáõÝÁ | V7: ²Û¹ ÃíáõÙª Ñ³óÇó, ¹ÇÙáõÙÇó Ññ³Å³ñí»Éáõ ÑÇÙùáí | W7: ²Û¹ ÃíáõÙª ³ÛÉ ÑÇÙùáí
E8: 1 | F8: 2 | G8: 3 | H8: 4 | I8: 5 | J8: 6 | K8: 7 | L8: 8 | M8: 9 | N8: 10 | O8: 11 | P8: 12 | Q8: 13 | R8: 14 | S8: 15 | T8: 16 | U8: 17 | V8: 18 | W8: 19 | X8: 20 | Y8: 21 | Z8: 22 | AA8: 23 | AB8: 24 | AC8: 25 | AD8: 26 | AE8: 27 | AF8: 28 | AG8: 29 | AH8: 30 | AI8: 31 | AJ8: 32 | AK8: 33 | AL8: 34 | AM8: 35 | AN8: 36 | AO8: 37 | AP8: 38 | AQ8: 39 | AR8: 40 | AS8: 41
A9: 1. | B9: ¶áõÛù³ÛÇÝ Çñ³í³Ñ³ñ³µ»ñáõÃÛáõÝÝ»ñÇ í»ñ³µ»ñÛ³É ¹³ï³Ï³Ý ·áñÍ»ñ | E9: =SUM(E10:E28) -> 90 | F9: =SUM(F10:F28) -> 38 | G9: =SUM(G10:G28) -> 52 | H9: =SUM(H10:H28) -> 0 | I9: =SUM(I10:I28) -> 0 | J9: =SUM(J10:J28) -> 30 | K9: =SUM(K10:K28) -> 28 | L9: =SUM(L10:L28) -> 2 | ... AS9: =SUM(AS10:AS28) -> 0
A10: 1.1 | B10: ¶áõÛùÇ ÝÏ³ïÙ³Ùµ ë»÷³Ï³ÝáõÃÛ³Ý Çñ³íáõÝùÁ ×³Ý³ã»Éáõ í»ñ³µ»ñÛ³É | E10: 7 | F10: 1 | G10: 6 | J10: 6 | K10: 5 | L10: 1 | O10: 3 | P10: 1 | R10: 2 | Y10: 3 | AB10: 9
A11: 1.1.1 | B11: ²Û¹ ÃíáõÙª Ó»éùµ»ñÙ³Ý í³Õ»ÙáõÃÛ³Ý áõÅáí | E11: 5 | F11: 1 | G11: 4 | J11: 3 | K11: 3 | O11: 4 | Q11: 2 | R11: 2 | Y11: 4 | AB11: 4 | AC11: 1
A12: 1.1.2 | B12: ²Û¹ ÃíáõÙª ïÇñ³½áõñÏ ·áõÛùÇ ÝÏ³ïÙ³Ùµ
A13: 1.1.3 | B13: ²Û¹ ÃíáõÙª ÇÝùÝ³Ï³Ù Ï³éáõÛóÇ ÝÏ³ïÙ³Ùµ
A14: 1.2 | B14: ê»÷³Ï³ÝáõÃÛ³Ý Çñ³íáõÝùÇ ¹³¹³ñ»óÙ³Ý í»ñ³µ»ñÛ³É | E14: 2 | G14: 2 | O14: 1 | R14: 1 | Y14: 1 | AB14: 1 | AD14: 1 | AF14: 1 | AH14: 1 | AK14: 1 | AM14: 1 | AO14: 1
A15: 1.3 | B15: ¶áõÛùÇ ÝÏ³ïÙ³Ùµ û·ï³·áñÍÙ³Ý Çñ³íáõÝùÁ ×³Ý³ã»Éáõ í»ñ³µ»ñÛ³É
A16: 1.3.1 | B16: ²Û¹ ÃíáõÙª µÝ³Ïû·ï³·áñÍÙ³Ý Çñ³íáõÝùÁ ×³Ý³ã»Éáõ í»ñ³µ»ñÛ³É
A17: 1.3.2 | B17: ²Û¹ ÃíáõÙª ÑáÕ³Ù³ëÇ ÝÏ³ïÙ³Ùµ û·ï³·áñÍÙ³Ý Çñ³íáõÝùÁ ×³Ý³ã»Éáõ í»ñ³µ»ñÛ³É | E17: 1 | G17: 1 | O17: 1 | P17: 1 | Y17: 1 | AD17: 1 | AF17: 1 | AH17: 1
A18: 1.4 | B18: ¶áõÛùÇ ÝÏ³ïÙ³Ùµ û·ï³·áñÍÙ³Ý Çñ³íáõÝùÁ ¹³¹³ñ»óÝ»Éáõ í»ñ³µ»ñÛ³É
A19: 1.4.1 | B19: ²Û¹ ÃíáõÙª µÝ³Ïû·ï³·áñÍÙ³Ý Çñ³íáõÝùÁ ¹³¹³ñ»óÝ»Éáõ í»ñ³µ»ñÛ³É | E19: 1 | F19: 1 | AB19: 1 | AC19: 1
A20: 1.4.1/1 | B20: ²Û¹ ÃíáõÙª ÷áËÑ³ïáõóÙ³Ùµ | E20: 1 | F20: 1 | AB20: 1 | AC20: 1
A21: 1.5 | B21: ´Ý³Ï³ñ³ÝÇó/ ï³ñ³ÍùÇó/ íï³ñ»Éáõ í»ñ³µ»ñÛ³É | E21: 7 | F21: 6 | G21: 1 | J21: 3 | K21: 3 | O21: 1 | P21: 1 | Y21: 1 | AB21: 9 | AC21: 6 | AD21: 1 | AF21: 1 | AH21: 1
A22: 1.6 | B22: ¶áõÛùÝ áõñÇßÇ ³åûñÇÝÇ ïÇñ³å»ïáõÙÇó »ï í»ñ³¹³ñÓÝ»Éáõ í»ñ³µ»ñÛ³É | E22: 8 | F22: 4 | G22: 4 | J22: 1 | K22: 1 | O22: 1 | T22: 1 | V22: 1 | Y22: 1 | AB22: 8 | AC22: 4
A23: 1.6.1 | B23: ´³ñ»ËÇÕ× Ó»éùµ»ñáÕÇó Çñ ·áõÛùÁ Ñ»ï å³Ñ³Ýç»Éáõ í»ñ³µ»ñÛ³É
A24: 1.7 | B24: îÇñ³å»ïáõÙÇó ½ñÏ»Éáõ Ñ»ï ãÏ³åí³Í Çñ³íáõÝùÝ»ñÇ Ë³ËïáõÙÁ í»ñ³óÝ»Éáõ í»ñ³µ»ñÛ³É | E24: 5 | F24: 2 | G24: 3 | J24: 1 | K24: 1 | O24: 2 | R24: 1 | S24: 1 | Y24: 2 | AB24: 4 | AC24: 3 | AD24: 1 | AF24: 1 | AH24: 1 | AJ24: 1
A25: 1.8 | B25: ÀÝ¹Ñ³Ýáõñ µ³ÅÝ³ÛÇÝ ë»÷³Ï³ÝáõÃÛáõÝÇó µ³ÅÇÝÝ ³é³ÝÓÝ³óÝ»Éáõ í»ñ³µ»ñÛ³É | E25: 14 | F25: 8 | G25: 6 | J25: 6 | K25: 6 | O25: 4 | P25: 2 | T25: 2 | V25: 2 | Y25: 4 | AA25: 4 | AB25: 16 | AC25: 8 | AD25: 1 | AF25: 1 | AH25: 1 | AJ25: 1
A26: 1.8.1 | B26: Ð³Ù³ï»Õ ë»÷³Ï³ÝáõÃÛ³Ý Ý»ñùá ·ïÝíáÕ ·áõÛùÁ µ³Å³Ý»Éáõ ¨ ¹ñ³ÝÇó µ³ÅÇÝÝ ³é³ÝÓÝ³óÝ»Éáõ í»ñ³µ»ñÛ³É | E26: 27 | F26: 9 | G26: 18 | J26: 5 | K26: 5 | O26: 7 | P26: 2 | Q26: 1 | R26: 1 | T26: 3 | U26: 1 | V26: 2 | Y26: 7 | Z26: 1 | AA26: 3 | AB26: 24 | AC26: 6 | AD26: 2 | AF26: 2 | AH26: 2 | AK26: 1 | AM26: 1 | AO26: 1
A27: 1.8.3 | B27: ¶áõÛùÇ íñ³ µéÝ³·³ÝÓáõÙ ï³ñ³Í»Éáõ å³Ñ³ÝçÇ Ù³ëÇÝ | E27: 2 | F27: 2 | G27: 0 | AB27: 2 | AC27: 2
A28: 1.9 | B28: ²ÛÉ í»×»ñ | E28: 10 | F28: 3 | G28: 7 | J28: 5 | K28: 4 | L28: 1 | O28: 6 | P28: 1 | Q28: 1 | R28: 1 | T28: 3 | V28: 2 | W28: 1 | Y28: 6 | AA28: 1 | AB28: 8 | AC28: 4 | AD28: 1 | AF28: 1 | AH28: 1 | AK28: 1 | AM28: 1 | AO28: 1
A29: 2. | B29: ¶áñÍ³ñùÝ»ñÇ Ñ»ï Ï³åí³Í Çñ³í³Ñ³ñ³µ»ñáõÃÛáõÝÝ»ñÇ í»ñ³µ»ñÛ³É ¹³ï³Ï³Ý ·áñÍ»ñ | E29: =SUM(E30:E40) -> 49 | F29: =SUM(F30:F40) -> 16 | G29: =SUM(G30:G40) -> 33 | H29: =SUM(H30:H40) -> 0 | I29: =SUM(I30:I40) -> 0 | J29: =SUM(J30:J40) -> 13 | K29: =SUM(K30:K40) -> 8 | L29: =SUM(L30:L40) -> 5 | ... AS29: =SUM(AS30:AS40) -> 0
A30: 2.1 | B30: ·áñÍ³ñùÝ»ñÇ ³Ýí³í»ñáõÃÛ³Ý Ñ»ï Ï³åí³Í í»×»ñ | E30: 3 | G30: 3 | J30: 1 | K30: 1 | O30: 1 | R30: 1 | Y30: 1 | AB30: 3 | AD30: 1 | AF30: 1 | AH30: 1
A31: 2.1.1 | B31: ³Û¹ ÃíáõÙ` íÇ×³Ñ³ñáõÛó ·áñÍ³ñùÝ»ñÝ ³Ýí³í»ñ ×³Ý³ã»Éáõ í»ñ³µ»ñÛ³É
A32: 2.1.2 | B32: ³Û¹ ÃíáõÙ` ·áñÍ³ñùÇ ³éáãÝãáõÃÛ³Ý Ñ»ï¨³ÝùÝ»ñ ÏÇñ³é»Éáõ í»ñ³µ»ñÛ³É | E32: 1 | G32: 1 | O32: 1 | P32: 1 | Y32: 1 | AD32: 1 | AF32: 1 | AH32: 1
A33: 2.2 | B33: ¶áñÍ³ñùÁ í³í»ñ ×³Ý³ã»Éáõ í»ñ³µ»ñÛ³É | E33: 3 | F33: 1 | G33: 2 | AB33: 3 | AC33: 1
A34: 2.3 | B34: ¶áñÍ³ñùÇó Í³·áÕ Çñ³íáõÝùÝ»ñÁ ·ñ³Ýó»Éáõ í»ñ³µ»ñÛ³É
A35: 2.4 | B35: ä³ÛÙ³Ý³·ÇñÝ ³Ýí³í»ñ ×³Ý³ã»Éáõ í»ñ³µ»ñÛ³É | E35: 15 | F35: 4 | G35: 11 | J35: 5 | K35: 3 | L35: 2 | O35: 6 | P35: 1 | R35: 3 | T35: 2 | V35: 1 | W35: 1 | Y35: 6 | AB35: 12 | AC35: 3 | AD35: 5 | AF35: 5 | AG35: 2 | AH35: 3 | AJ35: 3
A36: 2.5 | B36: ä³ÛÙ³Ý³·ñÇÁ í³í»ñ ×³Ý³ã»Éáõ í»ñ³µ»ñÛ³É | E36: 3 | F36: 3 | G36: 0 | AB36: 3 | AC36: 2
A37: 2.6 | B37: ä³ÛÙ³Ý³·ñÇó Í³·áÕ Çñ³íáõÝùÝ»ñÁ ·ñ³Ýó»Éáõ í»ñ³µ»ñÛ³É
A38: 2.7 | B38: ä³ÛÙ³Ý³·ÇñÁ ÷á÷áË»Éáõ ¨ ÉáõÍ»Éáõ í»ñ³µ»ñÛ³É | E38: 2 | G38: 2 | O38: 2 | Q38: 2 | Y38: 2
A39: 2.8 | B39: ä³ÛÙ³Ý³·Çñ ÏÝù»ÉáõÝ å³ñï³íáñ»óÝ»Éáõ í»ñ³µ»ñÛ³É | E39: 8 | F39: 4 | G39: 4 | J39: 3 | K39: 1 | L39: 2 | AB39: 9 | AC39: 4
A40: 2.9 | B40: ²ÛÉ í»×»ñ | E40: 14 | F40: 4 | G40: 10 | J40: 4 | K40: 3 | L40: 1 | O40: 4 | Q40: 1 | R40: 1 | T40: 2 | V40: 2 | Y40: 4 | AB40: 13 | AC40: 3 | AD40: 1 | AF40: 1 | AH40: 1 | AJ40: 1
A41: 3. | B41: Ä³é³Ý·áõÃÛ³Ý Ñ»ï Ï³åí³Í Çñ³í³Ñ³ñ³µ»ñáõÃÛáõÝÝ»ñÇ í»ñ³µ»ñÛ³É ¹³ï³Ï³Ý ·áñÍ»ñ | E41: =SUM(E42:E48) -> 3 | F41: =SUM(F42:F48) -> 0 | G41: =SUM(G42:G48) -> 3 | H41: =SUM(H42:H48) -> 0 | I41: =SUM(I42:I48) -> 0 | J41: =SUM(J42:J48) -> 3 | K41: =SUM(K42:K48) -> 2 | L41: =SUM(L42:L48) -> 1 | ... AS41: =SUM(AS42:AS48) -> 0
A42: 3.1 | B42: Îï³ÏÝ ³Ýí³í»ñ ×³Ý³ã»Éáõ í»ñ³µ»ñÛ³É
A43: 3.2 | B43: ²Ý³ñÅ³Ý Å³é³Ý· ×³Ý³ã»Éáõ í»ñ³µ»ñÛ³É
A44: 3.3 | B44: Ä³é³Ý·áõÃÛáõÝÁ µ³Å³Ý»Éáõ í»ñ³µ»ñÛ³É | E44: 1 | G44: 1 | AB44: 1
A45: 3.4 | B45: ¶áõÛùÝ ³ÝÅ³é³Ý· ×³Ý³ã»Éáõ í»ñ³µ»ñÛ³É
A46: 3.5 | B46: Àëï ûñ»ÝùÇ Å³é³Ý·áõÃÛ³Ý Çñ³íáõÝùÇ íÏ³Û³·ÇñÝ ³Ýí³í»ñ ×³Ý³ã»Éáõ í»ñ³µ»ñÛ³É
A47: 3.6 | B47: Ä³é³Ý·áõÃÛáõÝÝ ÁÝ¹áõÝ»Éáõ µ³ó ÃáÕÝí³Í Å³ÙÏ»ïÁ Ñ³ñ·»ÉÇ Ñ³Ù³ñ»Éáõ í»ñ³µ»ñÛ³É
A48: 3.7 | B48: ²ÛÉ í»×»ñ | E48: 2 | G48: 2 | J48: 3 | K48: 2 | L48: 1 | O48: 2 | R48: 1 | T48: 1 | V48: 1 | Y48: 2 | AB48: 2
A49: 4 | B49: ÀÝï³Ý»Ï³Ý Çñ³í³Ñ³ñ³µ»ñáõÃÛáõÝÝ»ñÇ í»ñ³µ»ñÛ³É ¹³ï³Ï³Ý ·áñÍ»ñ | E49: =SUM(E50:E62) -> 33 | F49: =SUM(F50:F62) -> 1 | G49: =SUM(G50:G62) -> 32 | H49: =SUM(H50:H62) -> 0 | I49: =SUM(I50:I62) -> 0 | J49: =SUM(J50:J62) -> 40 | K49: =SUM(K50:K62) -> 36 | L49: =SUM(L50:L62) -> 4 | ... AS49: =SUM(AS50:AS62) -> 0
A50: 4.1 | B50: ²ÙáõëÝ³ÉáõÍáõÃÛ³Ý í»ñ³µ»ñÛ³É | E50: 16 | G50: 16 | J50: 26 | K50: 24 | L50: 2 | O50: 16 | P50: 13 | Q50: 1 | T50: 2 | U50: 1 | W50: 1 | Y50: 16 | AB50: 24 | AD50: 1 | AF50: 1 | AH50: 1 | AJ50: 1
A51: 4.2 | B51: ²ÉÇÙ»ÝïÇ å³Ñ³ÝçÇ í»ñ³µ»ñÛ³É | E51: 5 | F51: 1 | G51: 4 | J51: 3 | K51: 3 | O51: 2 | Q51: 2 | Y51: 2 | AB51: 6 | AC51: 1 | AD51: 2 | AF51: 2 | AH51: 2 | AK51: 1 | AM51: 1 | AO51: 1
A52: 4.3 | B52: ²ÉÇÙ»ÝïÇ ã³÷Á ÷á÷áË»Éáõ í»ñ³µ»ñÛ³É | E52: 3 | G52: 3 | J52: 2 | K52: 2 | O52: 3 | P52: 1 | R52: 2 | Y52: 3 | AB52: 2 | AD52: 2 | AF52: 2 | AH52: 2 | AJ52: 1
A53: 4.4 | B53: ÌÝáÕ³Ï³Ý Çñ³íáõÝùÝ»ñÇó ½ñÏ»Éáõ í»ñ³µ»ñÛ³É | E53: 1 | G53: 1 | AB53: 1
A54: 4.5 | B54: ÌÝáÕ³Ï³Ý Çñ³íáõÝùÝ»ñÁ í»ñ³Ï³Ý·Ý»Éáõ í»ñ³µ»ñÛ³É
A55: 4.6 | B55: ºñ»Ë³ÛÇ áñ¹»·ñÙ³Ý í»ñ³µ»ñÛ³É
A56: 4.7 | B56: ºñ»Ë³ÛÇ áñ¹»·ñáõÙÁ í»ñ³óÝ»Éáõ í»ñ³µ»ñÛ³É
A57: 4.8 | B57: Ð³ÛñáõÃÛáõÝÁ ×³Ý³ã»Éáõ í»ñ³µ»ñÛ³É | J57: 1 | K57: 1 | AB57: 1
A58: 4.9 | B58: ºñ»Ë³ÛÇ µÝ³ÏáõÃÛ³Ý í³ÛñÁ áñáß»Éáõ í»ñ³µ»ñÛ³É | E58: 1 | G58: 1 | J58: 2 | K58: 2 | O58: 1 | T58: 1 | V58: 1 | Y58: 1 | AB58: 2
A59: 4.10 | B59: ºñ»Ë³ÛÇ Ñ»ï ï»ë³ÏóáõÃÛ³Ý Ï³ñ· ë³ÑÙ³Ý»Éáõ í»ñ³µ»ñÛ³É | E59: 7 | G59: 7 | J59: 4 | K59: 3 | L59: 1 | O59: 6 | P59: 1 | Q59: 4 | T59: 1 | U59: 1 | Y59: 6 | AB59: 4
A60: 4.11 | B60: ²ÙáõëÇÝÝ»ñÇ ÁÝ¹Ñ³Ýáõñ ·áõÛùÁ µ³Å³Ý»Éáõ í»ñ³µ»ñÛ³É | J60: 1 | K60: 1 | AB60: 1
A61: 4.12 | B61: ²ÙáõëÝ³Ï³Ý å³ÛÙ³Ý³·ñÇ ÷á÷áËÙ³Ý Ï³Ù ÉáõÍÙ³Ý í»ñ³µ»ñÛ³É
A62: 4.13 | B62: ²ÛÉ í»×»ñ | E62: 0 | J62: 1 | L62: 1
A63: 5. | B63: Øï³íáñ ë»÷³Ï³ÝáõÃÛ³Ý Ñ»ï Ï³åí³ÍÇñ³í³Ñ³ñ³µ»ñáõÃÛáõÝÝ»ñÇ í»ñ³µ»ñÛ³É ¹³ï³Ï³Ý ·áñÍ»ñ | E63: =SUM(E64:E69) -> 0 | F63: =SUM(F64:F69) -> 0 | G63: =SUM(G64:G69) -> 0 | H63: =SUM(H64:H69) -> 0 | I63: =SUM(I64:I69) -> 0 | J63: =SUM(J64:J69) -> 1 | K63: =SUM(K64:K69) -> 0 | L63: =SUM(L64:L69) -> 1 | ... AS63: =SUM(AS64:AS69) -> 0
A64: 5.1 | B64: ÈÇó»Ý½³ÛÇÝ å³ÛÙ³Ý³·ñÇ ÉáõÍÙ³Ý, ÷á÷áËÙ³Ý ¨ ³Ýí³í»ñáõÃÛ³Ý í»ñ³µ»ñÛ³É
A65: 5.2 | B65: Øï³íáñ ·áñÍáõÝ»áõÃÛ³Ý ³ñ¹ÛáõÝùÝ»ñ ëï»ÕÍ»Éáõ ¨ û·ï³·áñÍ»Éáõ å³ÛÙ³Ý³·ñÇ ÉáõÍÙ³Ý, ÷á÷áËÙ³Ý áõ ³Ýí³í»ñáõÃÛ³Ý í»ñ³µ»ñÛ³É
A66: 5.3 | B66: Ð»ÕÇÝ³Ï³ÛÇÝ ¨ Ñ³ñ³ÏÇó Çñ³íáõÝùÝ»ñÇ í»ñ³µ»ñÛ³É
A67: 5.4 | B67: üÇñÙ³ÛÇÝ ³Ýí³ÝÙ³Ý í»ñ³µ»ñÛ³É
A68: 5.5 | B68: ²åñ³Ýù³ÛÇÝ Ýß³ÝÇ í»ñ³µ»ñÛ³É | J68: 1 | L68: 1
A69: 5.6 | B69: ²ÛÉ í»×»ñ
A70: 6. | B70: ²ßË³ï³Ýù³ÛÇÝ Çñ³í³Ñ³ñ³µ»ñáõÃÛáõÝÝ»ñÇ í»ñ³µ»ñÛ³É ¹³ï³Ï³Ý ·áñÍ»ñ | E70: =SUM(E71:E76) -> 0 | F70: =SUM(F71:F76) -> 0 | G70: =SUM(G71:G76) -> 0 | H70: =SUM(H71:H76) -> 0 | I70: =SUM(I71:I76) -> 0 | J70: =SUM(J71:J76) -> 4 | K70: =SUM(K71:K76) -> 3 | L70: =SUM(L71:L76) -> 1 | ... AS70: =SUM(AS71:AS76) -> 0
A71: 6.1 | B71: ²ßË³ï³Ýù³ÛÇÝ å³ÛÙ³Ý³·ñ»ñÇ í»ñ³µ»ñÛ³É
A72: 6.2 | B72: ²ßË³ï³ÝùáõÙ í»ñ³Ï³Ý·Ý»Éáõ í»ñ³µ»ñÛ³É | J72: 1 | L72: 1 | AB72: 0
A73: 6.3 | B73: ¶áñÍ³¹áõÉÝ ³ÝûñÇÝ³Ï³Ý ×³Ý³ã»Éáõ í»ñ³µ»ñÛ³É
A74: 6.4 | B74: Ð³ñÏ³¹Çñ å³ñ³åáõñ¹Ç Ñ³ïáõóÙ³Ý í»ñ³µ»ñÛ³É
A75: 6.5 | B75: âí×³ñí³Í ³ßË³ï³í³ñÓÇ ¨/Ï³Ù ³ÛÉ í×³ñÝ»ñÇ µéÝ³·³ÝÓÙ³Ý í»ñ³µ»ñÛ³É | J75: 3 | K75: 3 | AB75: 3
A76: 6.6 | B76: ²ÛÉ í»×»ñ
A77: 7. | B77: Æñ³í³µ³Ý³Ï³Ý ³ÝÓÇ ·áñÍáõÝ»áõÃÛáõÝÇó µËáÕ Çñ³í³Ñ³ñ³µ»ñáõÃÛáõÝÝ»ñÇ í»ñ³µ»ñÛ³É ¹³ï³Ï³Ý ·áñÍ»ñ | E77: =SUM(E78:E79) -> 1 | F77: =SUM(F78:F79) -> 1 | G77: =SUM(G78:G79) -> 0 | H77: =SUM(H78:H79) -> 0 | I77: =SUM(I78:I79) -> 0 | J77: =SUM(J78:J79) -> 0 | K77: =SUM(K78:K79) -> 0 | L77: =SUM(L78:L79) -> 0 | ... AS77: =SUM(AS78:AS79) -> 0
A78: 7.1 | B78: Îáñåáñ³ïÇí í»×»ñ
A79: 7.2 | B79: ²ÛÉ í»×»ñ | E79: 1 | F79: 1 | AB79: 1 | AC79: 1
A80: 8. | B80: Ð³ïáõÏ í³ñáõÛÃÇ ¹³ï³Ï³Ý ·áñÍ»ñ | E80: =SUM(E81:E101) -> 21 | F80: =SUM(F81:F101) -> 6 | G80: =SUM(G81:G101) -> 15 | H80: =SUM(H81:H101) -> 0 | I80: =SUM(I81:I101) -> 0 | J80: =SUM(J81:J101) -> 18 | K80: =SUM(K81:K101) -> 11 | L80: =SUM(L81:L101) -> 7 | ... AS80: =SUM(AS81:AS101) -> 0
A81: 8.1 | B81: ²Ýã³÷³Ñ³ëÇÝ ÉñÇí ·áñÍáõÝ³Ï ×³Ý³ã»Éáõ /¿Ù³ÝëÇå³óÇ³/ í»ñ³µ»ñÛ³É
A82: 8.2 | B82: ø³Õ³ù³óáõÝ ³Ý·áñÍáõÝ³Ï Ï³Ù ë³ÑÙ³Ý³÷³Ï ·áñÍáõÝ³Ï ×³Ý³ã»Éáõ í»ñ³µ»ñÛ³É | E82: 9 | F82: 5 | G82: 4 | O82: 2 | P82: 2 | Y82: 2 | AB82: 7 | AC82: 5
A83: 8.3 | B83: ø³Õ³ù³óáõÝ Ñá·»µáõÅ³Ï³Ý ÑÇí³Ý¹³Ýáó³ÛÇÝ Ñ³ñÏ³¹Çñ µáõÅÙ³Ý »ÝÃ³ñÏ»Éáõ í»ñ³µ»ñÛ³É
A84: 8.4 | B84: ø³Õ³ù³óáõÝ ³ÝÑ³Ûï µ³ó³Ï³ÛáÕ Ï³Ù Ù³Ñ³ó³Í ×³Ý³ã»Éáõ í»ñ³µ»ñÛ³É | E84: 2 | G84: 2 | J84: 4 | K84: 4 | O84: 4 | P84: 2 | T84: 2 | V84: 2 | Y84: 4 | AB84: 2
A85: 8.5 | B85: ø³Õ³ù³óÇ³Ï³Ý Ï³óáõÃÛ³Ý ³Ïï»ñÇ ·ñ³éáõÙÝ»ñÇ ³Ý×ßïáõÃÛáõÝÝ»ñÁ å³ñ½»Éáõ í»ñ³µ»ñÛ³É
A86: 8.6 | B86: ¶áõÛùÁ ïÇñ³½áõñÏ ×³Ý³ã»Éáõ í»ñ³µ»ñÛ³É
A87: 8.6.1 | B87: ²Û¹ ÃíáõÙª ³Ýß³ñÅ ·áõÛùÁ | E87: 1 | G87: 1 | X87: 1 | Y87: 1 | AB87: 0 | AE87: 1 | AF87: 1 | AH87: 1 | AJ87: 0
A88: 8.6.2 | B88: ²Û¹ ÃíáõÙª ß³ñÅ³Ï³Ý ·áõÛùÁ | E88: 1 | G88: 1 | AA88: 1 | AB88: 1 | AC88: 1
A89: 8.7 | B89: Æñ³í³µ³Ý³Ï³Ý Ýß³Ý³ÏáõÃÛáõÝ áõÝ»óáÕ ÷³ëï»ñÇ Ñ³ëï³ïÙ³Ý í»ñ³µ»ñÛ³É
A90: 8.7.1 | B90: ²ÝÓ³Ýó ³½·³Ïó³Ï³Ý Ï³åÁ Ñ³ëï³ï»Éáõ í»ñ³µ»ñÛ³É | E90: 2 | F90: 1 | G90: 1 | J90: 4 | L90: 4 | O90: 1 | P90: 1 | Y90: 1 | AB90: 1 | AC90: 1 | AE90: 1 | AF90: 1 | AH90: 1 | AJ90: 1
A91: 8.7.2 | B91: ²ÝÓÇª áõñÇßÇ ËÝ³ÙùÇ ï³Ï ·ïÝí»Éáõ í»ñ³µ»ñÛ³É
A92: 8.7.3 | B92: ÌÝÝ¹Û³Ý, áñ¹»·ñÙ³Ý, ³ÙáõëÝáõÃÛ³Ý, ³å³Ñ³ñ½³ÝÇ ¨ Ù³Ñí³Ý ·ñ³ÝóÙ³Ý í»ñ³µ»ñÛ³É | E92: 0 | G92: 0
A93: 8.7.4 | B93: ²ÝÓÇª áñáß³ÏÇ Å³Ù³Ý³ÏáõÙ ¨ áñáß³ÏÇ Ñ³Ý·³Ù³ÝùÝ»ñáõÙ Ù³Ñí³Ý í»ñ³µ»ñÛ³É
A94: 8.7.5 | B94: Ä³é³Ý·áõÃÛáõÝÝ ÁÝ¹áõÝ»Éáõ ¨ Å³é³Ý·áõÃÛ³Ý µ³óÙ³Ý í³ÛñÇ í»ñ³µ»ñÛ³É | E94: 2 | G94: 2 | J94: 1 | K94: 1 | O94: 1 | P94: 1 | Y94: 1 | AB94: 2
A95: 8.7.6 | B95: ¸Åµ³Ëï å³ï³Ñ³ñÇ í»ñ³µ»ñÛ³É
A96: 8.7.7 | B96: Æñ³íáõÝù ë³ÑÙ³ÝáÕ ÷³ëï³ÃÕÃ»ñÇ å³ïÏ³Ý»ÉáõÃÛ³Ý í»ñ³µ»ñÛ³É | E96: 1 | G96: 1 | J96: 3 | K96: 2 | L96: 1 | O96: 3 | P96: 2 | Q96: 1 | Y96: 3 | AD96: 1 | AF96: 1 | AH96: 1 | AJ96: 1
A97: 8.7.8 | B97: ê»÷³Ï³ÝáõÃÛ³Ý Çñ³íáõÝùáí ·áõÛùÇ ïÇñ³å»ïÙ³Ý í»ñ³µ»ñÛ³É | J97: 2 | K97: 2 | AB97: 2
A98: 8.7.9 | B98: ²ÝÑ³ÕÃ³Ñ³ñ»ÉÇ áõÅÇ ³éÏ³ÛáõÃÛ³Ý í»ñ³µ»ñÛ³É
A99: 8.7.10 | B99: úñ»Ýùáí Ý³Ë³ï»ëí³Í ³ÛÉ Çñ³í³µ³Ý³Ï³Ý ÷³ëï»ñÇ í»ñ³µ»ñÛ³É | E99: 2 | G99: 2 | J99: 4 | K99: 2 | L99: 2 | O99: 3 | P99: 2 | Q99: 1 | Y99: 3 | AB99: 1
A100: 8.8 | B100: Àëï Ý»ñÏ³Û³óÝáÕÇ ¨ ûñ¹»ñ³ÛÇÝ Ïáñóñ³Í ³ñÅ»ÃÕÃ»ñáí Ñ³í³ëïí³Í Çñ³íáõÝùÝ»ñÁ í»ñ³Ï³Ý·Ý»Éáõ í»ñ³µ»ñÛ³É
...

Sheet Ս. Երիցյանի
A1: 2017թ. | G1: Ð²ÞìºîìàôÂÚàôÜ | AM1: Ð³í»Éí³Í Ð³Û³ëï³ÝÇ Ð³Ýñ³å»ïáõÃÛ³Ý ¸³ï³ñ³ÝÝ»ñÇ Ý³Ë³·³ÑÝ»ñÇ ËáñÑñ¹Ç 29.01.2018Ã. ÃÇí 10-È áñáßÙ³Ý
A2: ºðºì²ÜÆ ²æ²öÜÚ²Î ºì ¸²ìÂ²ÞºÜ ì²ðâ²Î²Ü Þðæ²ÜÜºðÆ ÀÜ¸Ð²Üàôð Æð²ì²êàôÂÚ²Ü ²è²æÆÜ ²îÚ²ÜÆ ¸²î²ð²ÜÆ ¸²î²ìàð | Z2: ê. ºðÆòÚ²ÜÆ | AH2: ¶àðÌàôÜºàôÂÚ²Ü ìºð²´ºðÚ²È
A3: ø²Ô²ø²òÆ²Î²Ü ¶àðÌºðàì
A4: ºñ¨³ÝÇ ²ç³÷ÝÛ³Ï ¨ ¸³íÃ³ß»Ý í³ñã³Ï³Ý ßñç³ÝÝ»ñÇ ÁÝ¹Ñ³Ýáõñ Çñ³í³ëáõÃÛ³Ý ³é³çÇÝ ³ïÛ³ÝÇ ¹³ï³ñ³ÝÇ ù³Õ³ù³óÇ³Ï³Ý Ù³ëÝ³·Çï³óáõÙ áõÝ»óáÕ ¹³ï³íáñÝ»ñÇ Ñ³ëïÇùÝ»ñÇ ù³Ý³ÏÁ` 5
E5: Ð³ßí»ïáõ Å³Ù³Ý³Ï³Ñ³ïí³ÍáõÙ Ý³Ëáñ¹ Ñ³ßí»ïáõ Å³Ù³Ý³Ï³Ñ³ïí³ÍÇó ÷áË³Ýóí³Í ·áñÍ»ñÇ ÁÝ¹Ñ³Ýáõñ ÃÇíÁ | J5: Ð³ßí»ïáõ Å³Ù³Ý³Ï³Ñ³ïí³ÍáõÙëï³óí³Í ·áñÍ»ñÇ (³Û¹ ÃíáõÙ` Ñ³Ûó³¹ÇÙáõÙÝ»ñÇ, ¹ÇÙáõÙÝ»ñÇ) ÁÝ¹Ñ³Ýáõñ ÃÇíÁ | N5: öáË³Ýóí»É ¿ ³ÛÉ ¹³ï³íáñÇ (Ï³½ÙÇ ÷á÷áËáõÃÛáõÝ) | O5: Ð³ßí»ïáõ Å³Ù³Ý³Ï³Ñ³ïí³ÍáõÙ ³í³ñïí³Í ·áñÍ»ñÇ ÁÝ¹Ñ³Ýáõñ ÃÇíÁ | Z5: ¶áñÍÝ áõÕ³ñÏí»É ¿ Áëï ÁÝ¹¹³ïáõÃÛ³Ý | AA5: Ð³ßí»ïáõ Å³Ù³Ý³Ï³Ñ³ïí³ÍáõÙ Ï³ë»óí³Í í³ñáõÛÃÝ»ñáí ·áñÍ»ñÇ ÁÝ¹Ñ³Ýáõñ ÃÇíÁ | AB5: Ð³ßí»ïáõ Å³Ù³Ý³Ï³Ñ³ïí³ÍáõÙ ³Ý³í³ñï ·áñÍ»ñÇ ÁÝ¹Ñ³Ýáõñ ÃÇíÁ | AC5: ²Û¹ ÃíáõÙª Ï³ë»óí³Í | AD5: ´áÕáù³ñÏí³Í ¹³ï³Ï³Ý ³Ïï»ñÁ | AI5: ²í³ñïí³Í ¹³ï³Ï³Ý ·áñÍ»ñÇ µáÕáù³ñÏÙ³Ý ïáÏáëÁ (Ñ³ßí»ïáõ Å³Ù³Ý³Ï³ßñç³ÝáõÙ) | AJ5: ²Ý³í³ñï µáÕáùÝ»ñ | AK5: ´»Ï³Ýí³Í ¹³ï³Ï³Ý ³Ïï»ñÁ | AP5: µ»Ï³ÝáõÙÝ»ñÇ ïáÏáëÁ ³í³ñïí³Í ·áñÍ»ñÇó(Ñ³ßí»ïáõ Å³Ù³Ý³Ï³ßñç³ÝáõÙ) | AQ5: Î³ÛáõÝáõÃÛ³Ý ïáÏáëÁ ³í³ñïí³Í ·áñÍ»ñÇó(Ñ³ßí»ïáõ Å³Ù³Ý³Ï³ßñç³ÝáõÙ) | AR5: µ»Ï³ÝáõÙÝ»ñÇ ïáÏáëÁ µáÕáù³ñÏí³Í ·áñÍ»ñÇó(Ñ³ßí»ïáõ Å³Ù³Ý³Ï³ßñç³ÝáõÙ) | AS5: Ï³ÛáõÝáõÃÛ³Ý ïáÏáëÁ(Ñ³ßí»ïáõ Å³Ù³Ý³Ï³ßñç³ÝáõÙ)
E6: ÀÝ¹³Ù»ÝÁ | F6: ²Û¹ ÃíáõÙ`Ï³ë»óí³Í íÇ×³ÏáõÙ ÷áË³Ýóí³Í | G6: ²Û¹ ÃíáõÙª ÁÝ¹áõÝí»É ¿ í³ñáõÛÃ | H6: ²Û¹ ÃíáõÙª í»ñ³¹³ñÓí»É ¿ | I6: ²Û¹ ÃíáõÙª ÁÝ¹áõÝáõÙÁ Ù»ñÅí»É ¿ | J6: ÀÝ¹³Ù»ÝÁ | K6: ²Û¹ ÃíáõÙª ÁÝ¹áõÝí»É ¿ í³ñáõÛÃ | L6: ²Û¹ ÃíáõÙª í»ñ³¹³ñÓí»É ¿ | M6: ²Û¹ ÃíáõÙª ÁÝ¹áõÝáõÙÁ Ù»ñÅí»É ¿ | O6: ÀÝ¹³Ù»ÝÁ ³í³ñïí»É »Ý ·áñÍ»ñ ·áñÍÝ Áëï ¿áõÃÛ³Ý ÉáõÍáÕ ¹³ï³Ï³Ý ³Ïï»ñÇ (í×ÇéÝ»ñÇ) Ï³Û³óÙ³Ùµ | P6: ²Û¹ ÃíáõÙª Ñ³ÛóÇ µ³í³ñ³ñÙ³Ùµ | Q6: ²Û¹ ÃíáõÙª Ñ³ÛóÇ Ù³ëÝ³ÏÇ µ³í³ñ³ñÙ³Ùµ | R6: ²Û¹ ÃíáõÙª Ñ³ÛóÇ Ù»ñÅÙ³Ùµ | S6: Ø³ëáí Ï³ñ×í»É ¿É, Ù³ëáí Ù»ñÅí»É | T6: ²Û¹ ÃíáõÙª Ï³ñ×í»É »Ý | X6: Ð³ÛóÁ ÃáÕÝí»É ¿ ³é³Ýó ùÝÝáõÃÛ³Ý | Y6: ÀÝ¹³Ù»ÝÝ ³í³ñïí»É »Ý ·áñÍ»ñ | AD6: ²Û¹ ÃíáõÙ` ·áñÍÝ Áëï ¿áõÃÛ³Ý ÉáõÍáÕ ¹³ï³Ï³Ý ³Ïï»ñÁ | AE6: ²Û¹ ÃíáõÙ` ÙÇç³ÝÏÛ³É ¹³ï³Ï³Ý ³Ïï»ñÁ | AF6: ÀÝ¹³Ù»ÝÁ | AG6: Ü³Ëáñ¹ ï³ñÇÝ»ñÇÝ Ï³Û³óí³Í ³Ïï»ñÇ µáÕáù³ñÏáõÙÁ Ñ³ßí»ïáõ Å³Ù³Ý³Ï³ßñç³ÝáõÙ | AH6: Ð³ßí»ïáõ Å³Ù³Ý³Ï³ßñç³ÝáõÙ Ï³Û³óí³Í ³Ïï»ñÇ µáÕáù³ñÏáõÙÁ | AK6: ²Û¹ ÃíáõÙ` ·áñÍÝ Áëï ¿áõÃÛ³Ý ÉáõÍáÕ ¹³ï³Ï³Ý ³Ïï»ñÁ | AL6: ²Û¹ ÃíáõÙ` ÙÇç³ÝÏÛ³É ¹³ï³Ï³Ý ³Ïï»ñÁ | AM6: ÀÝ¹³Ù»ÝÁ | AN6: Ü³Ëáñ¹ ï³ñÇÝ»ñÇÝ Ï³Û³óí³Í ³Ïï»ñÇ µ»Ï³ÝáõÙÝ»ñÁ Ñ³ßí»ïáõ Å³Ù³Ý³Ï³ßñç³ÝáõÙ | AO6: Ð³ßí»ïáõ Å³Ù³Ý³Ï³ßñç³ÝáõÙ Ï³Û³óí³Í ³Ïï»ñÇ µ»Ï³ÝáõÙÁ
T7: ÀÝ¹³Ù»ÝÁ Ï³ñ×í»É »Ý | U7: ²Û¹ ÃíáõÙª Ñ³ëï³ïí»É ¿ ÏÝùí³Í Ñ³ßïáõÃÛ³Ý Ñ³Ù³Ó³ÛÝáõÃÛáõÝÁ | V7: ²Û¹ ÃíáõÙª Ñ³óÇó, ¹ÇÙáõÙÇó Ññ³Å³ñí»Éáõ ÑÇÙùáí | W7: ²Û¹ ÃíáõÙª ³ÛÉ ÑÇÙùáí
E8: 1 | F8: 2 | G8: 3 | H8: 4 | I8: 5 | J8: 6 | K8: 7 | L8: 8 | M8: 9 | N8: 10 | O8: 11 | P8: 12 | Q8: 13 | R8: 14 | S8: 15 | T8: 16 | U8: 17 | V8: 18 | W8: 19 | X8: 20 | Y8: 21 | Z8: 22 | AA8: 23 | AB8: 24 | AC8: 25 | AD8: 26 | AE8: 27 | AF8: 28 | AG8: 29 | AH8: 30 | AI8: 31 | AJ8: 32 | AK8: 33 | AL8: 34 | AM8: 35 | AN8: 36 | AO8: 37 | AP8: 38 | AQ8: 39 | AR8: 40 | AS8: 41
A9: 1. | B9: ¶áõÛù³ÛÇÝ Çñ³í³Ñ³ñ³µ»ñáõÃÛáõÝÝ»ñÇ í»ñ³µ»ñÛ³É ¹³ï³Ï³Ý ·áñÍ»ñ | E9: =SUM(E10:E28) -> 29 | F9: =SUM(F10:F28) -> 9 | G9: =SUM(G10:G28) -> 20 | H9: =SUM(H10:H28) -> 0 | I9: =SUM(I10:I28) -> 0 | J9: =SUM(J10:J28) -> 30 | K9: =SUM(K10:K28) -> 27 | L9: =SUM(L10:L28) -> 3 | ... AS9: =SUM(AS10:AS28) -> 0
A10: 1.1 | B10: ¶áõÛùÇ ÝÏ³ïÙ³Ùµ ë»÷³Ï³ÝáõÃÛ³Ý Çñ³íáõÝùÁ ×³Ý³ã»Éáõ í»ñ³µ»ñÛ³É | E10: 2 | F10: 1 | G10: 1 | J10: 4 | K10: 4 | O10: 5 | P10: 2 | Q10: 1 | R10: 1 | T10: 1 | V10: 1 | Y10: 5 | AB10: 1 | AD10: 1 | AF10: 1 | AH10: 1 | AK10: 1 | AM10: 1 | AO10: 1
A11: 1.1.1 | B11: ²Û¹ ÃíáõÙª Ó»éùµ»ñÙ³Ý í³Õ»ÙáõÃÛ³Ý áõÅáí | E11: 1 | G11: 1 | J11: 3 | K11: 3 | AA11: 1 | AB11: 4 | AC11: 1
A12: 1.1.2 | B12: ²Û¹ ÃíáõÙª ïÇñ³½áõñÏ ·áõÛùÇ ÝÏ³ïÙ³Ùµ
A13: 1.1.3 | B13: ²Û¹ ÃíáõÙª ÇÝùÝ³Ï³Ù Ï³éáõÛóÇ ÝÏ³ïÙ³Ùµ
A14: 1.2 | B14: ê»÷³Ï³ÝáõÃÛ³Ý Çñ³íáõÝùÇ ¹³¹³ñ»óÙ³Ý í»ñ³µ»ñÛ³É | E14: 1 | G14: 1 | J14: 1 | K14: 1 | O14: 1 | T14: 1 | U14: 1 | Y14: 1 | AA14: 1 | AB14: 1 | AC14: 1
A15: 1.3 | B15: ¶áõÛùÇ ÝÏ³ïÙ³Ùµ û·ï³·áñÍÙ³Ý Çñ³íáõÝùÁ ×³Ý³ã»Éáõ í»ñ³µ»ñÛ³É
A16: 1.3.1 | B16: ²Û¹ ÃíáõÙª µÝ³Ïû·ï³·áñÍÙ³Ý Çñ³íáõÝùÁ ×³Ý³ã»Éáõ í»ñ³µ»ñÛ³É
A17: 1.3.2 | B17: ²Û¹ ÃíáõÙª ÑáÕ³Ù³ëÇ ÝÏ³ïÙ³Ùµ û·ï³·áñÍÙ³Ý Çñ³íáõÝùÁ ×³Ý³ã»Éáõ í»ñ³µ»ñÛ³É
A18: 1.4 | B18: ¶áõÛùÇ ÝÏ³ïÙ³Ùµ û·ï³·áñÍÙ³Ý Çñ³íáõÝùÁ ¹³¹³ñ»óÝ»Éáõ í»ñ³µ»ñÛ³É
A19: 1.4.1 | B19: ²Û¹ ÃíáõÙª µÝ³Ïû·ï³·áñÍÙ³Ý Çñ³íáõÝùÁ ¹³¹³ñ»óÝ»Éáõ í»ñ³µ»ñÛ³É | E19: 0 | G19: 0
A20: 1.4.1/1 | B20: ²Û¹ ÃíáõÙª ÷áËÑ³ïáõóÙ³Ùµ
A21: 1.5 | B21: ´Ý³Ï³ñ³ÝÇó/ ï³ñ³ÍùÇó/ íï³ñ»Éáõ í»ñ³µ»ñÛ³É | E21: 1 | G21: 1 | O21: 1 | P21: 1 | Y21: 1 | AD21: 2 | AF21: 2 | AG21: 1 | AH21: 1 | AJ21: 1
A22: 1.6 | B22: ¶áõÛùÝ áõñÇßÇ ³åûñÇÝÇ ïÇñ³å»ïáõÙÇó »ï í»ñ³¹³ñÓÝ»Éáõ í»ñ³µ»ñÛ³É | J22: 3 | K22: 3 | O22: 1 | P22: 1 | Y22: 1 | AB22: 2 | AD22: 1 | AF22: 1 | AG22: 1 | AK22: 1 | AM22: 1 | AN22: 1
A23: 1.6.1 | B23: ´³ñ»ËÇÕ× Ó»éùµ»ñáÕÇó Çñ ·áõÛùÁ Ñ»ï å³Ñ³Ýç»Éáõ í»ñ³µ»ñÛ³É
A24: 1.7 | B24: îÇñ³å»ïáõÙÇó ½ñÏ»Éáõ Ñ»ï ãÏ³åí³Í Çñ³íáõÝùÝ»ñÇ Ë³ËïáõÙÁ í»ñ³óÝ»Éáõ í»ñ³µ»ñÛ³É | E24: 3 | G24: 3 | J24: 2 | K24: 1 | L24: 1 | O24: 4 | P24: 1 | R24: 3 | Y24: 4 | AD24: 3 | AF24: 3 | AH24: 3 | AJ24: 1
A25: 1.8 | B25: ÀÝ¹Ñ³Ýáõñ µ³ÅÝ³ÛÇÝ ë»÷³Ï³ÝáõÃÛáõÝÇó µ³ÅÇÝÝ ³é³ÝÓÝ³óÝ»Éáõ í»ñ³µ»ñÛ³É | E25: 1 | G25: 1 | J25: 4 | K25: 4 | O25: 2 | P25: 1 | T25: 1 | V25: 1 | Y25: 2 | AB25: 3
A26: 1.8.1 | B26: Ð³Ù³ï»Õ ë»÷³Ï³ÝáõÃÛ³Ý Ý»ñùá ·ïÝíáÕ ·áõÛùÁ µ³Å³Ý»Éáõ ¨ ¹ñ³ÝÇó µ³ÅÇÝÝ ³é³ÝÓÝ³óÝ»Éáõ í»ñ³µ»ñÛ³É | E26: 12 | F26: 7 | G26: 5 | J26: 7 | K26: 5 | L26: 2 | O26: 9 | P26: 5 | Q26: 2 | R26: 1 | T26: 1 | U26: 1 | Y26: 9 | Z26: 1 | AA26: 4 | AB26: 7 | AC26: 5 | AD26: 3 | AF26: 3 | AG26: 1 | AH26: 2 | AJ26: 1 | AK26: 1 | AM26: 1 | AN26: 1
A27: 1.8.3 | B27: ¶áõÛùÇ íñ³ µéÝ³·³ÝÓáõÙ ï³ñ³Í»Éáõ å³Ñ³ÝçÇ Ù³ëÇÝ | E27: 1 | F27: 1 | J27: 1 | K27: 1 | AB27: 2 | AC27: 1
A28: 1.9 | B28: ²ÛÉ í»×»ñ | E28: 7 | G28: 7 | J28: 5 | K28: 5 | O28: 9 | P28: 1 | Q28: 1 | R28: 5 | S28: 1 | T28: 1 | V28: 1 | Y28: 9 | AA28: 1 | AB28: 3 | AC28: 1 | AD28: 4 | AF28: 4 | AG28: 1 | AH28: 3 | AJ28: 3 | AK28: 1 | AM28: 1 | AN28: 1
A29: 2. | B29: ¶áñÍ³ñùÝ»ñÇ Ñ»ï Ï³åí³Í Çñ³í³Ñ³ñ³µ»ñáõÃÛáõÝÝ»ñÇ í»ñ³µ»ñÛ³É ¹³ï³Ï³Ý ·áñÍ»ñ | E29: =SUM(E30:E40) -> 12 | F29: =SUM(F30:F40) -> 3 | G29: =SUM(G30:G40) -> 9 | H29: =SUM(H30:H40) -> 0 | I29: =SUM(I30:I40) -> 0 | J29: =SUM(J30:J40) -> 10 | K29: =SUM(K30:K40) -> 10 | L29: =SUM(L30:L40) -> 0 | ... AS29: =SUM(AS30:AS40) -> 0
A30: 2.1 | B30: ·áñÍ³ñùÝ»ñÇ ³Ýí³í»ñáõÃÛ³Ý Ñ»ï Ï³åí³Í í»×»ñ | E30: 1 | G30: 1 | J30: 2 | K30: 2 | O30: 1 | R30: 1 | Y30: 1 | AB30: 2
A31: 2.1.1 | B31: ³Û¹ ÃíáõÙ` íÇ×³Ñ³ñáõÛó ·áñÍ³ñùÝ»ñÝ ³Ýí³í»ñ ×³Ý³ã»Éáõ í»ñ³µ»ñÛ³É
A32: 2.1.2 | B32: ³Û¹ ÃíáõÙ` ·áñÍ³ñùÇ ³éáãÝãáõÃÛ³Ý Ñ»ï¨³ÝùÝ»ñ ÏÇñ³é»Éáõ í»ñ³µ»ñÛ³É | J32: 2 | K32: 2 | O32: 1 | R32: 1 | Y32: 1 | AB32: 1
A33: 2.2 | B33: ¶áñÍ³ñùÁ í³í»ñ ×³Ý³ã»Éáõ í»ñ³µ»ñÛ³É | E33: 1 | G33: 1 | J33: 1 | K33: 1 | O33: 1 | R33: 1 | Y33: 1 | AB33: 1 | AD33: 1 | AF33: 1 | AH33: 1 | AK33: 1 | AM33: 1 | AO33: 1
A34: 2.3 | B34: ¶áñÍ³ñùÇó Í³·áÕ Çñ³íáõÝùÝ»ñÁ ·ñ³Ýó»Éáõ í»ñ³µ»ñÛ³É
A35: 2.4 | B35: ä³ÛÙ³Ý³·ÇñÝ ³Ýí³í»ñ ×³Ý³ã»Éáõ í»ñ³µ»ñÛ³É | E35: 6 | F35: 1 | G35: 5 | J35: 2 | K35: 2 | O35: 5 | R35: 3 | S35: 1 | T35: 1 | V35: 1 | Y35: 5 | AB35: 3 | AC35: 1 | AD35: 5 | AF35: 5 | AG35: 1 | AH35: 4 | AJ35: 2
A36: 2.5 | B36: ä³ÛÙ³Ý³·ñÇÁ í³í»ñ ×³Ý³ã»Éáõ í»ñ³µ»ñÛ³É
A37: 2.6 | B37: ä³ÛÙ³Ý³·ñÇó Í³·áÕ Çñ³íáõÝùÝ»ñÁ ·ñ³Ýó»Éáõ í»ñ³µ»ñÛ³É
A38: 2.7 | B38: ä³ÛÙ³Ý³·ÇñÁ ÷á÷áË»Éáõ ¨ ÉáõÍ»Éáõ í»ñ³µ»ñÛ³É | E38: 1 | G38: 1 | J38: 2 | K38: 2 | O38: 1 | Q38: 1 | Y38: 1 | AB38: 2 | AD38: 1 | AF38: 1 | AH38: 1 | AJ38: 1
A39: 2.8 | B39: ä³ÛÙ³Ý³·Çñ ÏÝù»ÉáõÝ å³ñï³íáñ»óÝ»Éáõ í»ñ³µ»ñÛ³É
A40: 2.9 | B40: ²ÛÉ í»×»ñ | E40: 3 | F40: 2 | G40: 1 | J40: 1 | K40: 1 | O40: 2 | Q40: 1 | R40: 1 | Y40: 2 | AB40: 2 | AC40: 1 | AD40: 2 | AF40: 2 | AH40: 2 | AJ40: 2
A41: 3. | B41: Ä³é³Ý·áõÃÛ³Ý Ñ»ï Ï³åí³Í Çñ³í³Ñ³ñ³µ»ñáõÃÛáõÝÝ»ñÇ í»ñ³µ»ñÛ³É ¹³ï³Ï³Ý ·áñÍ»ñ | E41: =SUM(E42:E48) -> 2 | F41: =SUM(F42:F48) -> 0 | G41: =SUM(G42:G48) -> 2 | H41: =SUM(H42:H48) -> 0 | I41: =SUM(I42:I48) -> 0 | J41: =SUM(J42:J48) -> 3 | K41: =SUM(K42:K48) -> 3 | L41: =SUM(L42:L48) -> 0 | ... AS41: =SUM(AS42:AS48) -> 0
A42: 3.1 | B42: Îï³ÏÝ ³Ýí³í»ñ ×³Ý³ã»Éáõ í»ñ³µ»ñÛ³É
A43: 3.2 | B43: ²Ý³ñÅ³Ý Å³é³Ý· ×³Ý³ã»Éáõ í»ñ³µ»ñÛ³É
A44: 3.3 | B44: Ä³é³Ý·áõÃÛáõÝÁ µ³Å³Ý»Éáõ í»ñ³µ»ñÛ³É
A45: 3.4 | B45: ¶áõÛùÝ ³ÝÅ³é³Ý· ×³Ý³ã»Éáõ í»ñ³µ»ñÛ³É
A46: 3.5 | B46: Àëï ûñ»ÝùÇ Å³é³Ý·áõÃÛ³Ý Çñ³íáõÝùÇ íÏ³Û³·ÇñÝ ³Ýí³í»ñ ×³Ý³ã»Éáõ í»ñ³µ»ñÛ³É
A47: 3.6 | B47: Ä³é³Ý·áõÃÛáõÝÝ ÁÝ¹áõÝ»Éáõ µ³ó ÃáÕÝí³Í Å³ÙÏ»ïÁ Ñ³ñ·»ÉÇ Ñ³Ù³ñ»Éáõ í»ñ³µ»ñÛ³É
A48: 3.7 | B48: ²ÛÉ í»×»ñ | E48: 2 | G48: 2 | J48: 3 | K48: 3 | O48: 2 | P48: 1 | R48: 1 | Y48: 2 | AA48: 1 | AB48: 3 | AC48: 1 | AD48: 1 | AF48: 1 | AH48: 1
A49: 4 | B49: ÀÝï³Ý»Ï³Ý Çñ³í³Ñ³ñ³µ»ñáõÃÛáõÝÝ»ñÇ í»ñ³µ»ñÛ³É ¹³ï³Ï³Ý ·áñÍ»ñ | E49: =SUM(E50:E62) -> 14 | F49: =SUM(F50:F62) -> 4 | G49: =SUM(G50:G62) -> 10 | H49: =SUM(H50:H62) -> 0 | I49: =SUM(I50:I62) -> 0 | J49: =SUM(J50:J62) -> 35 | K49: =SUM(K50:K62) -> 31 | L49: =SUM(L50:L62) -> 4 | ... AS49: =SUM(AS50:AS62) -> 0
A50: 4.1 | B50: ²ÙáõëÝ³ÉáõÍáõÃÛ³Ý í»ñ³µ»ñÛ³É | E50: 7 | F50: 1 | G50: 6 | J50: 18 | K50: 15 | L50: 3 | O50: 17 | P50: 9 | Q50: 2 | R50: 2 | T50: 4 | V50: 4 | Y50: 17 | AA50: 1 | AB50: 5 | AC50: 1 | AD50: 5 | AF50: 5 | AG50: 1 | AH50: 4 | AJ50: 1 | AK50: 3 | AM50: 3 | AN50: 1 | AO50: 2
A51: 4.2 | B51: ²ÉÇÙ»ÝïÇ å³Ñ³ÝçÇ í»ñ³µ»ñÛ³É | E51: 4 | G51: 4 | J51: 12 | K51: 12 | O51: 14 | P51: 8 | Q51: 6 | Y51: 14 | Z51: 2 | AD51: 3 | AF51: 3 | AH51: 3 | AJ51: 1 | AK51: 1 | AM51: 1 | AO51: 1
A52: 4.3 | B52: ²ÉÇÙ»ÝïÇ ã³÷Á ÷á÷áË»Éáõ í»ñ³µ»ñÛ³É | J52: 1 | K52: 1 | O52: 1 | R52: 1 | Y52: 1 | AD52: 1 | AF52: 1 | AH52: 1
A53: 4.4 | B53: ÌÝáÕ³Ï³Ý Çñ³íáõÝùÝ»ñÇó ½ñÏ»Éáõ í»ñ³µ»ñÛ³É
A54: 4.5 | B54: ÌÝáÕ³Ï³Ý Çñ³íáõÝùÝ»ñÁ í»ñ³Ï³Ý·Ý»Éáõ í»ñ³µ»ñÛ³É
A55: 4.6 | B55: ºñ»Ë³ÛÇ áñ¹»·ñÙ³Ý í»ñ³µ»ñÛ³É
A56: 4.7 | B56: ºñ»Ë³ÛÇ áñ¹»·ñáõÙÁ í»ñ³óÝ»Éáõ í»ñ³µ»ñÛ³É
A57: 4.8 | B57: Ð³ÛñáõÃÛáõÝÁ ×³Ý³ã»Éáõ í»ñ³µ»ñÛ³É | E57: 1 | F57: 1 | J57: 1 | L57: 1 | AA57: 1 | AB57: 1 | AC57: 1
A58: 4.9 | B58: ºñ»Ë³ÛÇ µÝ³ÏáõÃÛ³Ý í³ÛñÁ áñáß»Éáõ í»ñ³µ»ñÛ³É
A59: 4.10 | B59: ºñ»Ë³ÛÇ Ñ»ï ï»ë³ÏóáõÃÛ³Ý Ï³ñ· ë³ÑÙ³Ý»Éáõ í»ñ³µ»ñÛ³É | J59: 2 | K59: 2 | O59: 1 | P59: 1 | Y59: 1 | AB59: 1
A60: 4.11 | B60: ²ÙáõëÇÝÝ»ñÇ ÁÝ¹Ñ³Ýáõñ ·áõÛùÁ µ³Å³Ý»Éáõ í»ñ³µ»ñÛ³É | E60: 1 | F60: 1 | O60: 1 | P60: 1 | Y60: 1 | AD60: 1 | AF60: 1 | AH60: 1 | AJ60: 1
A61: 4.12 | B61: ²ÙáõëÝ³Ï³Ý å³ÛÙ³Ý³·ñÇ ÷á÷áËÙ³Ý Ï³Ù ÉáõÍÙ³Ý í»ñ³µ»ñÛ³É
A62: 4.13 | B62: ²ÛÉ í»×»ñ | E62: 1 | F62: 1 | J62: 1 | K62: 1 | AB62: 2 | AC62: 1
A63: 5. | B63: Øï³íáñ ë»÷³Ï³ÝáõÃÛ³Ý Ñ»ï Ï³åí³ÍÇñ³í³Ñ³ñ³µ»ñáõÃÛáõÝÝ»ñÇ í»ñ³µ»ñÛ³É ¹³ï³Ï³Ý ·áñÍ»ñ | E63: =SUM(E64:E69) -> 0 | F63: =SUM(F64:F69) -> 0 | G63: =SUM(G64:G69) -> 0 | H63: =SUM(H64:H69) -> 0 | I63: =SUM(I64:I69) -> 0 | J63: =SUM(J64:J69) -> 0 | K63: =SUM(K64:K69) -> 0 | L63: =SUM(L64:L69) -> 0 | ... AS63: =SUM(AS64:AS69) -> 0
A64: 5.1 | B64: ÈÇó»Ý½³ÛÇÝ å³ÛÙ³Ý³·ñÇ ÉáõÍÙ³Ý, ÷á÷áËÙ³Ý ¨ ³Ýí³í»ñáõÃÛ³Ý í»ñ³µ»ñÛ³É
A65: 5.2 | B65: Øï³íáñ ·áñÍáõÝ»áõÃÛ³Ý ³ñ¹ÛáõÝùÝ»ñ ëï»ÕÍ»Éáõ ¨ û·ï³·áñÍ»Éáõ å³ÛÙ³Ý³·ñÇ ÉáõÍÙ³Ý, ÷á÷áËÙ³Ý áõ ³Ýí³í»ñáõÃÛ³Ý í»ñ³µ»ñÛ³É
A66: 5.3 | B66: Ð»ÕÇÝ³Ï³ÛÇÝ ¨ Ñ³ñ³ÏÇó Çñ³íáõÝùÝ»ñÇ í»ñ³µ»ñÛ³É
A67: 5.4 | B67: üÇñÙ³ÛÇÝ ³Ýí³ÝÙ³Ý í»ñ³µ»ñÛ³É
A68: 5.5 | B68: ²åñ³Ýù³ÛÇÝ Ýß³ÝÇ í»ñ³µ»ñÛ³É
A69: 5.6 | B69: ²ÛÉ í»×»ñ
A70: 6. | B70: ²ßË³ï³Ýù³ÛÇÝ Çñ³í³Ñ³ñ³µ»ñáõÃÛáõÝÝ»ñÇ í»ñ³µ»ñÛ³É ¹³ï³Ï³Ý ·áñÍ»ñ | E70: =SUM(E71:E76) -> 0 | F70: =SUM(F71:F76) -> 0 | G70: =SUM(G71:G76) -> 0 | H70: =SUM(H71:H76) -> 0 | I70: =SUM(I71:I76) -> 0 | J70: =SUM(J71:J76) -> 3 | K70: =SUM(K71:K76) -> 3 | L70: =SUM(L71:L76) -> 0 | ... AS70: =SUM(AS71:AS76) -> 0
A71: 6.1 | B71: ²ßË³ï³Ýù³ÛÇÝ å³ÛÙ³Ý³·ñ»ñÇ í»ñ³µ»ñÛ³É
A72: 6.2 | B72: ²ßË³ï³ÝùáõÙ í»ñ³Ï³Ý·Ý»Éáõ í»ñ³µ»ñÛ³É
A73: 6.3 | B73: ¶áñÍ³¹áõÉÝ ³ÝûñÇÝ³Ï³Ý ×³Ý³ã»Éáõ í»ñ³µ»ñÛ³É
A74: 6.4 | B74: Ð³ñÏ³¹Çñ å³ñ³åáõñ¹Ç Ñ³ïáõóÙ³Ý í»ñ³µ»ñÛ³É
A75: 6.5 | B75: âí×³ñí³Í ³ßË³ï³í³ñÓÇ ¨/Ï³Ù ³ÛÉ í×³ñÝ»ñÇ µéÝ³·³ÝÓÙ³Ý í»ñ³µ»ñÛ³É | J75: 2 | K75: 2 | O75: 2 | Q75: 1 | T75: 1 | V75: 1 | Y75: 2
A76: 6.6 | B76: ²ÛÉ í»×»ñ | J76: 1 | K76: 1 | O76: 1 | T76: 1 | V76: 1 | Y76: 1
A77: 7. | B77: Æñ³í³µ³Ý³Ï³Ý ³ÝÓÇ ·áñÍáõÝ»áõÃÛáõÝÇó µËáÕ Çñ³í³Ñ³ñ³µ»ñáõÃÛáõÝÝ»ñÇ í»ñ³µ»ñÛ³É ¹³ï³Ï³Ý ·áñÍ»ñ | E77: =SUM(E78:E79) -> 1 | F77: =SUM(F78:F79) -> 0 | G77: =SUM(G78:G79) -> 1 | H77: =SUM(H78:H79) -> 0 | I77: =SUM(I78:I79) -> 0 | J77: =SUM(J78:J79) -> 0 | K77: =SUM(K78:K79) -> 0 | L77: =SUM(L78:L79) -> 0 | ... AS77: =SUM(AS78:AS79) -> 0
A78: 7.1 | B78: Îáñåáñ³ïÇí í»×»ñ
A79: 7.2 | B79: ²ÛÉ í»×»ñ | E79: 1 | G79: 1 | O79: 1 | P79: 1 | Y79: 1
A80: 8. | B80: Ð³ïáõÏ í³ñáõÛÃÇ ¹³ï³Ï³Ý ·áñÍ»ñ | E80: =SUM(E81:E101) -> 3 | F80: =SUM(F81:F101) -> 1 | G80: =SUM(G81:G101) -> 2 | H80: =SUM(H81:H101) -> 0 | I80: =SUM(I81:I101) -> 0 | J80: =SUM(J81:J101) -> 28 | K80: =SUM(K81:K101) -> 18 | L80: =SUM(L81:L101) -> 10 | ... AS80: =SUM(AS81:AS101) -> 0
A81: 8.1 | B81: ²Ýã³÷³Ñ³ëÇÝ ÉñÇí ·áñÍáõÝ³Ï ×³Ý³ã»Éáõ /¿Ù³ÝëÇå³óÇ³/ í»ñ³µ»ñÛ³É
A82: 8.2 | B82: ø³Õ³ù³óáõÝ ³Ý·áñÍáõÝ³Ï Ï³Ù ë³ÑÙ³Ý³÷³Ï ·áñÍáõÝ³Ï ×³Ý³ã»Éáõ í»ñ³µ»ñÛ³É | E82: 1 | F82: 1 | J82: 10 | K82: 7 | L82: 3 | O82: 5 | P82: 3 | T82: 2 | V82: 2 | Y82: 5 | AB82: 3
A83: 8.3 | B83: ø³Õ³ù³óáõÝ Ñá·»µáõÅ³Ï³Ý ÑÇí³Ý¹³Ýáó³ÛÇÝ Ñ³ñÏ³¹Çñ µáõÅÙ³Ý »ÝÃ³ñÏ»Éáõ í»ñ³µ»ñÛ³É
A84: 8.4 | B84: ø³Õ³ù³óáõÝ ³ÝÑ³Ûï µ³ó³Ï³ÛáÕ Ï³Ù Ù³Ñ³ó³Í ×³Ý³ã»Éáõ í»ñ³µ»ñÛ³É | E84: 2 | G84: 2 | J84: 5 | K84: 1 | L84: 4 | O84: 3 | P84: 2 | R84: 1 | Y84: 3
A85: 8.5 | B85: ø³Õ³ù³óÇ³Ï³Ý Ï³óáõÃÛ³Ý ³Ïï»ñÇ ·ñ³éáõÙÝ»ñÇ ³Ý×ßïáõÃÛáõÝÝ»ñÁ å³ñ½»Éáõ í»ñ³µ»ñÛ³É
A86: 8.6 | B86: ¶áõÛùÁ ïÇñ³½áõñÏ ×³Ý³ã»Éáõ í»ñ³µ»ñÛ³É
A87: 8.6.1 | B87: ²Û¹ ÃíáõÙª ³Ýß³ñÅ ·áõÛùÁ | J87: 1 | K87: 1 | O87: 1 | R87: 1 | Y87: 1 | AD87: 1 | AF87: 1 | AH87: 1 | AJ87: 1
A88: 8.6.2 | B88: ²Û¹ ÃíáõÙª ß³ñÅ³Ï³Ý ·áõÛùÁ
A89: 8.7 | B89: Æñ³í³µ³Ý³Ï³Ý Ýß³Ý³ÏáõÃÛáõÝ áõÝ»óáÕ ÷³ëï»ñÇ Ñ³ëï³ïÙ³Ý í»ñ³µ»ñÛ³É
A90: 8.7.1 | B90: ²ÝÓ³Ýó ³½·³Ïó³Ï³Ý Ï³åÁ Ñ³ëï³ï»Éáõ í»ñ³µ»ñÛ³É | J90: 3 | K90: 3 | O90: 2 | Q90: 1 | R90: 1 | Y90: 2 | AB90: 1 | AD90: 1 | AF90: 1 | AH90: 1 | AJ90: 1
A91: 8.7.2 | B91: ²ÝÓÇª áõñÇßÇ ËÝ³ÙùÇ ï³Ï ·ïÝí»Éáõ í»ñ³µ»ñÛ³É
A92: 8.7.3 | B92: ÌÝÝ¹Û³Ý, áñ¹»·ñÙ³Ý, ³ÙáõëÝáõÃÛ³Ý, ³å³Ñ³ñ½³ÝÇ ¨ Ù³Ñí³Ý ·ñ³ÝóÙ³Ý í»ñ³µ»ñÛ³É | J92: 2 | L92: 2 | AB92: 0
A93: 8.7.4 | B93: ²ÝÓÇª áñáß³ÏÇ Å³Ù³Ý³ÏáõÙ ¨ áñáß³ÏÇ Ñ³Ý·³Ù³ÝùÝ»ñáõÙ Ù³Ñí³Ý í»ñ³µ»ñÛ³É
A94: 8.7.5 | B94: Ä³é³Ý·áõÃÛáõÝÝ ÁÝ¹áõÝ»Éáõ ¨ Å³é³Ý·áõÃÛ³Ý µ³óÙ³Ý í³ÛñÇ í»ñ³µ»ñÛ³É | J94: 2 | K94: 2 | X94: 1 | Y94: 1 | AB94: 1 | AE94: 1 | AF94: 1 | AG94: 1 | AI94: 1 | AJ94: 1
A95: 8.7.6 | B95: ¸Åµ³Ëï å³ï³Ñ³ñÇ í»ñ³µ»ñÛ³É
A96: 8.7.7 | B96: Æñ³íáõÝù ë³ÑÙ³ÝáÕ ÷³ëï³ÃÕÃ»ñÇ å³ïÏ³Ý»ÉáõÃÛ³Ý í»ñ³µ»ñÛ³É | J96: 1 | K96: 1 | O96: 1 | P96: 1 | Y96: 1
A97: 8.7.8 | B97: ê»÷³Ï³ÝáõÃÛ³Ý Çñ³íáõÝùáí ·áõÛùÇ ïÇñ³å»ïÙ³Ý í»ñ³µ»ñÛ³É | J97: 2 | K97: 1 | L97: 1 | O97: 1 | R97: 1 | Y97: 1 | AD97: 1 | AF97: 1 | AH97: 1 | AJ97: 1
A98: 8.7.9 | B98: ²ÝÑ³ÕÃ³Ñ³ñ»ÉÇ áõÅÇ ³éÏ³ÛáõÃÛ³Ý í»ñ³µ»ñÛ³É
A99: 8.7.10 | B99: úñ»Ýùáí Ý³Ë³ï»ëí³Í ³ÛÉ Çñ³í³µ³Ý³Ï³Ý ÷³ëï»ñÇ í»ñ³µ»ñÛ³É | J99: 1 | K99: 1 | O99: 1 | R99: 1 | Y99: 1 | AD99: 1 | AF99: 1 | AH99: 1
A100: 8.8 | B100: Àëï Ý»ñÏ³Û³óÝáÕÇ ¨ ûñ¹»ñ³ÛÇÝ Ïáñóñ³Í ³ñÅ»ÃÕÃ»ñáí Ñ³í³ëïí³Í Çñ³íáõÝùÝ»ñÁ í»ñ³Ï³Ý·Ý»Éáõ í»ñ³µ»ñÛ³É
...

Sheet Ա.Մխիթարյան
A1: 2017թ. | G1: Ð²ÞìºîìàôÂÚàôÜ | AM1: Ð³í»Éí³Í Ð³Û³ëï³ÝÇ Ð³Ýñ³å»ïáõÃÛ³Ý ¸³ï³ñ³ÝÝ»ñÇ Ý³Ë³·³ÑÝ»ñÇ ËáñÑñ¹Ç 29.01.2018Ã. ÃÇí 10-È áñáßÙ³Ý
A2: ºðºì²ÜÆ ²æ²öÜÚ²Î ºì ¸²ìÂ²ÞºÜ ì²ðâ²Î²Ü Þðæ²ÜÜºðÆ ÀÜ¸Ð²Üàôð Æð²ì²êàôÂÚ²Ü ²è²æÆÜ ²îÚ²ÜÆ ¸²î²ð²ÜÆ ¸²î²ìàð | Z2: ². ØÊÆÂ²ðÚ²ÜÆ | AH2: ¶àðÌàôÜºàôÂÚ²Ü ìºð²´ºðÚ²È
A3: ø²Ô²ø²òÆ²Î²Ü ¶àðÌºðàì
A4: ºñ¨³ÝÇ ²ç³÷ÝÛ³Ï ¨ ¸³íÃ³ß»Ý í³ñã³Ï³Ý ßñç³ÝÝ»ñÇ ÁÝ¹Ñ³Ýáõñ Çñ³í³ëáõÃÛ³Ý ³é³çÇÝ ³ïÛ³ÝÇ ¹³ï³ñ³ÝÇ ù³Õ³ù³óÇ³Ï³Ý Ù³ëÝ³·Çï³óáõÙ áõÝ»óáÕ ¹³ï³íáñÝ»ñÇ Ñ³ëïÇùÝ»ñÇ ù³Ý³ÏÁ` 5
E5: Ð³ßí»ïáõ Å³Ù³Ý³Ï³Ñ³ïí³ÍáõÙ Ý³Ëáñ¹ Ñ³ßí»ïáõ Å³Ù³Ý³Ï³Ñ³ïí³ÍÇó ÷áË³Ýóí³Í ·áñÍ»ñÇ ÁÝ¹Ñ³Ýáõñ ÃÇíÁ | J5: Ð³ßí»ïáõ Å³Ù³Ý³Ï³Ñ³ïí³ÍáõÙëï³óí³Í ·áñÍ»ñÇ (³Û¹ ÃíáõÙ` Ñ³Ûó³¹ÇÙáõÙÝ»ñÇ, ¹ÇÙáõÙÝ»ñÇ) ÁÝ¹Ñ³Ýáõñ ÃÇíÁ | N5: öáË³Ýóí»É ¿ ³ÛÉ ¹³ï³íáñÇ (Ï³½ÙÇ ÷á÷áËáõÃÛáõÝ) | O5: Ð³ßí»ïáõ Å³Ù³Ý³Ï³Ñ³ïí³ÍáõÙ ³í³ñïí³Í ·áñÍ»ñÇ ÁÝ¹Ñ³Ýáõñ ÃÇíÁ | Z5: ¶áñÍÝ áõÕ³ñÏí»É ¿ Áëï ÁÝ¹¹³ïáõÃÛ³Ý | AA5: Ð³ßí»ïáõ Å³Ù³Ý³Ï³Ñ³ïí³ÍáõÙ Ï³ë»óí³Í í³ñáõÛÃÝ»ñáí ·áñÍ»ñÇ ÁÝ¹Ñ³Ýáõñ ÃÇíÁ | AB5: Ð³ßí»ïáõ Å³Ù³Ý³Ï³Ñ³ïí³ÍáõÙ ³Ý³í³ñï ·áñÍ»ñÇ ÁÝ¹Ñ³Ýáõñ ÃÇíÁ | AC5: ²Û¹ ÃíáõÙª Ï³ë»óí³Í | AD5: ´áÕáù³ñÏí³Í ¹³ï³Ï³Ý ³Ïï»ñÁ | AI5: ²í³ñïí³Í ¹³ï³Ï³Ý ·áñÍ»ñÇ µáÕáù³ñÏÙ³Ý ïáÏáëÁ (Ñ³ßí»ïáõ Å³Ù³Ý³Ï³ßñç³ÝáõÙ) | AJ5: ²Ý³í³ñï µáÕáùÝ»ñ | AK5: ´»Ï³Ýí³Í ¹³ï³Ï³Ý ³Ïï»ñÁ | AP5: µ»Ï³ÝáõÙÝ»ñÇ ïáÏáëÁ ³í³ñïí³Í ·áñÍ»ñÇó(Ñ³ßí»ïáõ Å³Ù³Ý³Ï³ßñç³ÝáõÙ) | AQ5: Î³ÛáõÝáõÃÛ³Ý ïáÏáëÁ ³í³ñïí³Í ·áñÍ»ñÇó(Ñ³ßí»ïáõ Å³Ù³Ý³Ï³ßñç³ÝáõÙ) | AR5: µ»Ï³ÝáõÙÝ»ñÇ ïáÏáëÁ µáÕáù³ñÏí³Í ·áñÍ»ñÇó(Ñ³ßí»ïáõ Å³Ù³Ý³Ï³ßñç³ÝáõÙ) | AS5: Ï³ÛáõÝáõÃÛ³Ý ïáÏáëÁ(Ñ³ßí»ïáõ Å³Ù³Ý³Ï³ßñç³ÝáõÙ)
E6: ÀÝ¹³Ù»ÝÁ | F6: ²Û¹ ÃíáõÙ`Ï³ë»óí³Í íÇ×³ÏáõÙ ÷áË³Ýóí³Í | G6: ²Û¹ ÃíáõÙª ÁÝ¹áõÝí»É ¿ í³ñáõÛÃ | H6: ²Û¹ ÃíáõÙª í»ñ³¹³ñÓí»É ¿ | I6: ²Û¹ ÃíáõÙª ÁÝ¹áõÝáõÙÁ Ù»ñÅí»É ¿ | J6: ÀÝ¹³Ù»ÝÁ | K6: ²Û¹ ÃíáõÙª ÁÝ¹áõÝí»É ¿ í³ñáõÛÃ | L6: ²Û¹ ÃíáõÙª í»ñ³¹³ñÓí»É ¿ | M6: ²Û¹ ÃíáõÙª ÁÝ¹áõÝáõÙÁ Ù»ñÅí»É ¿ | O6: ÀÝ¹³Ù»ÝÁ ³í³ñïí»É »Ý ·áñÍ»ñ ·áñÍÝ Áëï ¿áõÃÛ³Ý ÉáõÍáÕ ¹³ï³Ï³Ý ³Ïï»ñÇ (í×ÇéÝ»ñÇ) Ï³Û³óÙ³Ùµ | P6: ²Û¹ ÃíáõÙª Ñ³ÛóÇ µ³í³ñ³ñÙ³Ùµ | Q6: ²Û¹ ÃíáõÙª Ñ³ÛóÇ Ù³ëÝ³ÏÇ µ³í³ñ³ñÙ³Ùµ | R6: ²Û¹ ÃíáõÙª Ñ³ÛóÇ Ù»ñÅÙ³Ùµ | S6: Ø³ëáí Ï³ñ×í»É ¿É, Ù³ëáí Ù»ñÅí»É | T6: ²Û¹ ÃíáõÙª Ï³ñ×í»É »Ý | X6: Ð³ÛóÁ ÃáÕÝí»É ¿ ³é³Ýó ùÝÝáõÃÛ³Ý | Y6: ÀÝ¹³Ù»ÝÝ ³í³ñïí»É »Ý ·áñÍ»ñ | AD6: ²Û¹ ÃíáõÙ` ·áñÍÝ Áëï ¿áõÃÛ³Ý ÉáõÍáÕ ¹³ï³Ï³Ý ³Ïï»ñÁ | AE6: ²Û¹ ÃíáõÙ` ÙÇç³ÝÏÛ³É ¹³ï³Ï³Ý ³Ïï»ñÁ | AF6: ÀÝ¹³Ù»ÝÁ | AG6: Ü³Ëáñ¹ ï³ñÇÝ»ñÇÝ Ï³Û³óí³Í ³Ïï»ñÇ µáÕáù³ñÏáõÙÁ Ñ³ßí»ïáõ Å³Ù³Ý³Ï³ßñç³ÝáõÙ | AH6: Ð³ßí»ïáõ Å³Ù³Ý³Ï³ßñç³ÝáõÙ Ï³Û³óí³Í ³Ïï»ñÇ µáÕáù³ñÏáõÙÁ | AK6: ²Û¹ ÃíáõÙ` ·áñÍÝ Áëï ¿áõÃÛ³Ý ÉáõÍáÕ ¹³ï³Ï³Ý ³Ïï»ñÁ | AL6: ²Û¹ ÃíáõÙ` ÙÇç³ÝÏÛ³É ¹³ï³Ï³Ý ³Ïï»ñÁ | AM6: ÀÝ¹³Ù»ÝÁ | AN6: Ü³Ëáñ¹ ï³ñÇÝ»ñÇÝ Ï³Û³óí³Í ³Ïï»ñÇ µ»Ï³ÝáõÙÝ»ñÁ Ñ³ßí»ïáõ Å³Ù³Ý³Ï³ßñç³ÝáõÙ | AO6: Ð³ßí»ïáõ Å³Ù³Ý³Ï³ßñç³ÝáõÙ Ï³Û³óí³Í ³Ïï»ñÇ µ»Ï³ÝáõÙÁ
T7: ÀÝ¹³Ù»ÝÁ Ï³ñ×í»É »Ý | U7: ²Û¹ ÃíáõÙª Ñ³ëï³ïí»É ¿ ÏÝùí³Í Ñ³ßïáõÃÛ³Ý Ñ³Ù³Ó³ÛÝáõÃÛáõÝÁ | V7: ²Û¹ ÃíáõÙª Ñ³óÇó, ¹ÇÙáõÙÇó Ññ³Å³ñí»Éáõ ÑÇÙùáí | W7: ²Û¹ ÃíáõÙª ³ÛÉ ÑÇÙùáí
E8: 1 | F8: 2 | G8: 3 | H8: 4 | I8: 5 | J8: 6 | K8: 7 | L8: 8 | M8: 9 | N8: 10 | O8: 11 | P8: 12 | Q8: 13 | R8: 14 | S8: 15 | T8: 16 | U8: 17 | V8: 18 | W8: 19 | X8: 20 | Y8: 21 | Z8: 22 | AA8: 23 | AB8: 24 | AC8: 25 | AD8: 26 | AE8: 27 | AF8: 28 | AG8: 29 | AH8: 30 | AI8: 31 | AJ8: 32 | AK8: 33 | AL8: 34 | AM8: 35 | AN8: 36 | AO8: 37 | AP8: 38 | AQ8: 39 | AR8: 40 | AS8: 41
A9: 1. | B9: ¶áõÛù³ÛÇÝ Çñ³í³Ñ³ñ³µ»ñáõÃÛáõÝÝ»ñÇ í»ñ³µ»ñÛ³É ¹³ï³Ï³Ý ·áñÍ»ñ | E9: =SUM(E10:E28) -> 85 | F9: =SUM(F10:F28) -> 29 | G9: =SUM(G10:G28) -> 56 | H9: =SUM(H10:H28) -> 0 | I9: =SUM(I10:I28) -> 0 | J9: =SUM(J10:J28) -> 34 | K9: =SUM(K10:K28) -> 29 | L9: =SUM(L10:L28) -> 4 | ... AS9: =SUM(AS10:AS28) -> 0
A10: 1.1 | B10: ¶áõÛùÇ ÝÏ³ïÙ³Ùµ ë»÷³Ï³ÝáõÃÛ³Ý Çñ³íáõÝùÁ ×³Ý³ã»Éáõ í»ñ³µ»ñÛ³É | E10: 7 | F10: 2 | G10: 5 | J10: 3 | K10: 2 | L10: 1 | O10: 3 | R10: 3 | Y10: 3 | AB10: 6 | AC10: 1 | AD10: 1 | AF10: 1 | AH10: 1 | AJ10: 1
A11: 1.1.1 | B11: ²Û¹ ÃíáõÙª Ó»éùµ»ñÙ³Ý í³Õ»ÙáõÃÛ³Ý áõÅáí | E11: 9 | F11: 1 | G11: 8 | J11: 2 | K11: 1 | M11: 1 | O11: 2 | Q11: 2 | Y11: 2 | AA11: 1 | AB11: 8 | AC11: 1 | AD11: 2 | AF11: 2 | AH11: 2 | AJ11: 2
A12: 1.1.2 | B12: ²Û¹ ÃíáõÙª ïÇñ³½áõñÏ ·áõÛùÇ ÝÏ³ïÙ³Ùµ
A13: 1.1.3 | B13: ²Û¹ ÃíáõÙª ÇÝùÝ³Ï³Ù Ï³éáõÛóÇ ÝÏ³ïÙ³Ùµ
A14: 1.2 | B14: ê»÷³Ï³ÝáõÃÛ³Ý Çñ³íáõÝùÇ ¹³¹³ñ»óÙ³Ý í»ñ³µ»ñÛ³É | E14: 2 | G14: 2 | J14: 1 | K14: 1 | AB14: 3
A15: 1.3 | B15: ¶áõÛùÇ ÝÏ³ïÙ³Ùµ û·ï³·áñÍÙ³Ý Çñ³íáõÝùÁ ×³Ý³ã»Éáõ í»ñ³µ»ñÛ³É
A16: 1.3.1 | B16: ²Û¹ ÃíáõÙª µÝ³Ïû·ï³·áñÍÙ³Ý Çñ³íáõÝùÁ ×³Ý³ã»Éáõ í»ñ³µ»ñÛ³É
A17: 1.3.2 | B17: ²Û¹ ÃíáõÙª ÑáÕ³Ù³ëÇ ÝÏ³ïÙ³Ùµ û·ï³·áñÍÙ³Ý Çñ³íáõÝùÁ ×³Ý³ã»Éáõ í»ñ³µ»ñÛ³É
A18: 1.4 | B18: ¶áõÛùÇ ÝÏ³ïÙ³Ùµ û·ï³·áñÍÙ³Ý Çñ³íáõÝùÁ ¹³¹³ñ»óÝ»Éáõ í»ñ³µ»ñÛ³É
A19: 1.4.1 | B19: ²Û¹ ÃíáõÙª µÝ³Ïû·ï³·áñÍÙ³Ý Çñ³íáõÝùÁ ¹³¹³ñ»óÝ»Éáõ í»ñ³µ»ñÛ³É | E19: 3 | F19: 1 | G19: 2 | AA19: 1 | AB19: 3 | AC19: 2
A20: 1.4.1/1 | B20: ²Û¹ ÃíáõÙª ÷áËÑ³ïáõóÙ³Ùµ
A21: 1.5 | B21: ´Ý³Ï³ñ³ÝÇó/ ï³ñ³ÍùÇó/ íï³ñ»Éáõ í»ñ³µ»ñÛ³É | E21: 7 | F21: 2 | G21: 5 | J21: 2 | K21: 2 | O21: 1 | P21: 1 | Y21: 1 | AA21: 1 | AB21: 8 | AC21: 2 | AD21: 2 | AF21: 2 | AG21: 1 | AH21: 1 | AJ21: 1
A22: 1.6 | B22: ¶áõÛùÝ áõñÇßÇ ³åûñÇÝÇ ïÇñ³å»ïáõÙÇó »ï í»ñ³¹³ñÓÝ»Éáõ í»ñ³µ»ñÛ³É | E22: 2 | F22: 1 | G22: 1 | AB22: 2 | AC22: 1
A23: 1.6.1 | B23: ´³ñ»ËÇÕ× Ó»éùµ»ñáÕÇó Çñ ·áõÛùÁ Ñ»ï å³Ñ³Ýç»Éáõ í»ñ³µ»ñÛ³É
A24: 1.7 | B24: îÇñ³å»ïáõÙÇó ½ñÏ»Éáõ Ñ»ï ãÏ³åí³Í Çñ³íáõÝùÝ»ñÇ Ë³ËïáõÙÁ í»ñ³óÝ»Éáõ í»ñ³µ»ñÛ³É | E24: 4 | F24: 2 | G24: 2 | J24: 1 | K24: 1 | AB24: 5 | AC24: 2
A25: 1.8 | B25: ÀÝ¹Ñ³Ýáõñ µ³ÅÝ³ÛÇÝ ë»÷³Ï³ÝáõÃÛáõÝÇó µ³ÅÇÝÝ ³é³ÝÓÝ³óÝ»Éáõ í»ñ³µ»ñÛ³É | E25: 18 | F25: 9 | G25: 9 | J25: 8 | K25: 6 | L25: 2 | O25: 1 | T25: 1 | V25: 1 | Y25: 1 | AA25: 2 | AB25: 23 | AC25: 7
A26: 1.8.1 | B26: Ð³Ù³ï»Õ ë»÷³Ï³ÝáõÃÛ³Ý Ý»ñùá ·ïÝíáÕ ·áõÛùÁ µ³Å³Ý»Éáõ ¨ ¹ñ³ÝÇó µ³ÅÇÝÝ ³é³ÝÓÝ³óÝ»Éáõ í»ñ³µ»ñÛ³É | E26: 22 | F26: 9 | G26: 13 | J26: 10 | K26: 9 | L26: 1 | O26: 4 | Q26: 2 | T26: 2 | V26: 2 | Y26: 4 | AA26: 3 | AB26: 27 | AC26: 6 | AD26: 1 | AF26: 1 | AH26: 1
A27: 1.8.3 | B27: ¶áõÛùÇ íñ³ µéÝ³·³ÝÓáõÙ ï³ñ³Í»Éáõ å³Ñ³ÝçÇ Ù³ëÇÝ
A28: 1.9 | B28: ²ÛÉ í»×»ñ | E28: 11 | F28: 2 | G28: 9 | J28: 7 | K28: 7 | O28: 4 | T28: 4 | V28: 4 | Y28: 4 | AB28: 14
A29: 2. | B29: ¶áñÍ³ñùÝ»ñÇ Ñ»ï Ï³åí³Í Çñ³í³Ñ³ñ³µ»ñáõÃÛáõÝÝ»ñÇ í»ñ³µ»ñÛ³É ¹³ï³Ï³Ý ·áñÍ»ñ | E29: =SUM(E30:E40) -> 38 | F29: =SUM(F30:F40) -> 13 | G29: =SUM(G30:G40) -> 25 | H29: =SUM(H30:H40) -> 0 | I29: =SUM(I30:I40) -> 0 | J29: =SUM(J30:J40) -> 13 | K29: =SUM(K30:K40) -> 12 | L29: =SUM(L30:L40) -> 1 | ... AS29: =SUM(AS30:AS40) -> 0
A30: 2.1 | B30: ·áñÍ³ñùÝ»ñÇ ³Ýí³í»ñáõÃÛ³Ý Ñ»ï Ï³åí³Í í»×»ñ | E30: 5 | F30: 2 | G30: 3 | J30: 4 | K30: 4 | O30: 1 | T30: 1 | V30: 1 | Y30: 1 | AB30: 8 | AC30: 2
A31: 2.1.1 | B31: ³Û¹ ÃíáõÙ` íÇ×³Ñ³ñáõÛó ·áñÍ³ñùÝ»ñÝ ³Ýí³í»ñ ×³Ý³ã»Éáõ í»ñ³µ»ñÛ³É
A32: 2.1.2 | B32: ³Û¹ ÃíáõÙ` ·áñÍ³ñùÇ ³éáãÝãáõÃÛ³Ý Ñ»ï¨³ÝùÝ»ñ ÏÇñ³é»Éáõ í»ñ³µ»ñÛ³É | E32: 2 | G32: 2 | O32: 1 | R32: 1 | Y32: 1 | AB32: 1 | AD32: 1 | AF32: 1 | AH32: 1 | AJ32: 1
A33: 2.2 | B33: ¶áñÍ³ñùÁ í³í»ñ ×³Ý³ã»Éáõ í»ñ³µ»ñÛ³É | E33: 1 | G33: 1 | AB33: 1
A34: 2.3 | B34: ¶áñÍ³ñùÇó Í³·áÕ Çñ³íáõÝùÝ»ñÁ ·ñ³Ýó»Éáõ í»ñ³µ»ñÛ³É
A35: 2.4 | B35: ä³ÛÙ³Ý³·ÇñÝ ³Ýí³í»ñ ×³Ý³ã»Éáõ í»ñ³µ»ñÛ³É | E35: 16 | F35: 6 | G35: 10 | J35: 2 | K35: 2 | O35: 6 | Q35: 1 | R35: 4 | T35: 1 | U35: 1 | Y35: 6 | AB35: 12 | AC35: 4 | AD35: 3 | AF35: 3 | AH35: 3 | AJ35: 1
A36: 2.5 | B36: ä³ÛÙ³Ý³·ñÇÁ í³í»ñ ×³Ý³ã»Éáõ í»ñ³µ»ñÛ³É | E36: 1 | F36: 1 | J36: 3 | K36: 3 | AB36: 4 | AC36: 1
A37: 2.6 | B37: ä³ÛÙ³Ý³·ñÇó Í³·áÕ Çñ³íáõÝùÝ»ñÁ ·ñ³Ýó»Éáõ í»ñ³µ»ñÛ³É
A38: 2.7 | B38: ä³ÛÙ³Ý³·ÇñÁ ÷á÷áË»Éáõ ¨ ÉáõÍ»Éáõ í»ñ³µ»ñÛ³É | E38: 2 | G38: 2 | J38: 1 | K38: 1 | O38: 1 | R38: 1 | Y38: 1 | AB38: 2 | AD38: 1 | AF38: 1 | AH38: 1 | AK38: 1 | AM38: 1 | AO38: 1
A39: 2.8 | B39: ä³ÛÙ³Ý³·Çñ ÏÝù»ÉáõÝ å³ñï³íáñ»óÝ»Éáõ í»ñ³µ»ñÛ³É | E39: 2 | F39: 1 | G39: 1 | O39: 1 | T39: 1 | V39: 1 | Y39: 1 | AB39: 1 | AC39: 1
A40: 2.9 | B40: ²ÛÉ í»×»ñ | E40: 9 | F40: 3 | G40: 6 | J40: 3 | K40: 2 | L40: 1 | O40: 3 | P40: 1 | T40: 2 | V40: 2 | Y40: 3 | AB40: 8 | AC40: 3
A41: 3. | B41: Ä³é³Ý·áõÃÛ³Ý Ñ»ï Ï³åí³Í Çñ³í³Ñ³ñ³µ»ñáõÃÛáõÝÝ»ñÇ í»ñ³µ»ñÛ³É ¹³ï³Ï³Ý ·áñÍ»ñ | E41: =SUM(E42:E48) -> 4 | F41: =SUM(F42:F48) -> 1 | G41: =SUM(G42:G48) -> 3 | H41: =SUM(H42:H48) -> 0 | I41: =SUM(I42:I48) -> 0 | J41: =SUM(J42:J48) -> 4 | K41: =SUM(K42:K48) -> 3 | L41: =SUM(L42:L48) -> 1 | ... AS41: =SUM(AS42:AS48) -> 0
A42: 3.1 | B42: Îï³ÏÝ ³Ýí³í»ñ ×³Ý³ã»Éáõ í»ñ³µ»ñÛ³É
A43: 3.2 | B43: ²Ý³ñÅ³Ý Å³é³Ý· ×³Ý³ã»Éáõ í»ñ³µ»ñÛ³É
A44: 3.3 | B44: Ä³é³Ý·áõÃÛáõÝÁ µ³Å³Ý»Éáõ í»ñ³µ»ñÛ³É
A45: 3.4 | B45: ¶áõÛùÝ ³ÝÅ³é³Ý· ×³Ý³ã»Éáõ í»ñ³µ»ñÛ³É
A46: 3.5 | B46: Àëï ûñ»ÝùÇ Å³é³Ý·áõÃÛ³Ý Çñ³íáõÝùÇ íÏ³Û³·ÇñÝ ³Ýí³í»ñ ×³Ý³ã»Éáõ í»ñ³µ»ñÛ³É | J46: 3 | K46: 2 | L46: 1 | AB46: 2
A47: 3.6 | B47: Ä³é³Ý·áõÃÛáõÝÝ ÁÝ¹áõÝ»Éáõ µ³ó ÃáÕÝí³Í Å³ÙÏ»ïÁ Ñ³ñ·»ÉÇ Ñ³Ù³ñ»Éáõ í»ñ³µ»ñÛ³É
A48: 3.7 | B48: ²ÛÉ í»×»ñ | E48: 4 | F48: 1 | G48: 3 | J48: 1 | K48: 1 | O48: 2 | T48: 2 | V48: 2 | Y48: 2 | AA48: 1 | AB48: 3 | AC48: 2
A49: 4 | B49: ÀÝï³Ý»Ï³Ý Çñ³í³Ñ³ñ³µ»ñáõÃÛáõÝÝ»ñÇ í»ñ³µ»ñÛ³É ¹³ï³Ï³Ý ·áñÍ»ñ | E49: =SUM(E50:E62) -> 18 | F49: =SUM(F50:F62) -> 1 | G49: =SUM(G50:G62) -> 17 | H49: =SUM(H50:H62) -> 0 | I49: =SUM(I50:I62) -> 0 | J49: =SUM(J50:J62) -> 34 | K49: =SUM(K50:K62) -> 28 | L49: =SUM(L50:L62) -> 6 | ... AS49: =SUM(AS50:AS62) -> 0
A50: 4.1 | B50: ²ÙáõëÝ³ÉáõÍáõÃÛ³Ý í»ñ³µ»ñÛ³É | E50: 6 | G50: 6 | J50: 19 | K50: 15 | L50: 4 | O50: 5 | P50: 4 | R50: 1 | Y50: 5 | AA50: 1 | AB50: 16 | AC50: 1 | AD50: 1 | AF50: 1 | AH50: 1 | AJ50: 1
A51: 4.2 | B51: ²ÉÇÙ»ÝïÇ å³Ñ³ÝçÇ í»ñ³µ»ñÛ³É | E51: 3 | G51: 3 | J51: 7 | K51: 7 | O51: 5 | P51: 1 | Q51: 4 | Y51: 5 | AB51: 5
A52: 4.3 | B52: ²ÉÇÙ»ÝïÇ ã³÷Á ÷á÷áË»Éáõ í»ñ³µ»ñÛ³É | J52: 1 | K52: 1 | AB52: 1
A53: 4.4 | B53: ÌÝáÕ³Ï³Ý Çñ³íáõÝùÝ»ñÇó ½ñÏ»Éáõ í»ñ³µ»ñÛ³É
A54: 4.5 | B54: ÌÝáÕ³Ï³Ý Çñ³íáõÝùÝ»ñÁ í»ñ³Ï³Ý·Ý»Éáõ í»ñ³µ»ñÛ³É
A55: 4.6 | B55: ºñ»Ë³ÛÇ áñ¹»·ñÙ³Ý í»ñ³µ»ñÛ³É
A56: 4.7 | B56: ºñ»Ë³ÛÇ áñ¹»·ñáõÙÁ í»ñ³óÝ»Éáõ í»ñ³µ»ñÛ³É
A57: 4.8 | B57: Ð³ÛñáõÃÛáõÝÁ ×³Ý³ã»Éáõ í»ñ³µ»ñÛ³É | E57: 1 | F57: 1 | J57: 1 | K57: 1 | AB57: 2 | AC57: 1
A58: 4.9 | B58: ºñ»Ë³ÛÇ µÝ³ÏáõÃÛ³Ý í³ÛñÁ áñáß»Éáõ í»ñ³µ»ñÛ³É | J58: 3 | K58: 2 | L58: 1 | AB58: 2
A59: 4.10 | B59: ºñ»Ë³ÛÇ Ñ»ï ï»ë³ÏóáõÃÛ³Ý Ï³ñ· ë³ÑÙ³Ý»Éáõ í»ñ³µ»ñÛ³É | E59: 6 | G59: 6 | J59: 3 | K59: 2 | L59: 1 | O59: 2 | Q59: 1 | T59: 1 | V59: 1 | Y59: 2 | AB59: 6 | AD59: 1 | AF59: 1 | AG59: 1 | AK59: 1 | AM59: 1 | AN59: 1
A60: 4.11 | B60: ²ÙáõëÇÝÝ»ñÇ ÁÝ¹Ñ³Ýáõñ ·áõÛùÁ µ³Å³Ý»Éáõ í»ñ³µ»ñÛ³É | E60: 2 | G60: 2 | AA60: 1 | AB60: 2 | AC60: 1
A61: 4.12 | B61: ²ÙáõëÝ³Ï³Ý å³ÛÙ³Ý³·ñÇ ÷á÷áËÙ³Ý Ï³Ù ÉáõÍÙ³Ý í»ñ³µ»ñÛ³É
A62: 4.13 | B62: ²ÛÉ í»×»ñ
A63: 5. | B63: Øï³íáñ ë»÷³Ï³ÝáõÃÛ³Ý Ñ»ï Ï³åí³ÍÇñ³í³Ñ³ñ³µ»ñáõÃÛáõÝÝ»ñÇ í»ñ³µ»ñÛ³É ¹³ï³Ï³Ý ·áñÍ»ñ | E63: =SUM(E64:E69) -> 0 | F63: =SUM(F64:F69) -> 0 | G63: =SUM(G64:G69) -> 0 | H63: =SUM(H64:H69) -> 0 | I63: =SUM(I64:I69) -> 0 | J63: =SUM(J64:J69) -> 1 | K63: =SUM(K64:K69) -> 0 | L63: =SUM(L64:L69) -> 1 | ... AS63: =SUM(AS64:AS69) -> 0
A64: 5.1 | B64: ÈÇó»Ý½³ÛÇÝ å³ÛÙ³Ý³·ñÇ ÉáõÍÙ³Ý, ÷á÷áËÙ³Ý ¨ ³Ýí³í»ñáõÃÛ³Ý í»ñ³µ»ñÛ³É
A65: 5.2 | B65: Øï³íáñ ·áñÍáõÝ»áõÃÛ³Ý ³ñ¹ÛáõÝùÝ»ñ ëï»ÕÍ»Éáõ ¨ û·ï³·áñÍ»Éáõ å³ÛÙ³Ý³·ñÇ ÉáõÍÙ³Ý, ÷á÷áËÙ³Ý áõ ³Ýí³í»ñáõÃÛ³Ý í»ñ³µ»ñÛ³É
A66: 5.3 | B66: Ð»ÕÇÝ³Ï³ÛÇÝ ¨ Ñ³ñ³ÏÇó Çñ³íáõÝùÝ»ñÇ í»ñ³µ»ñÛ³É
A67: 5.4 | B67: üÇñÙ³ÛÇÝ ³Ýí³ÝÙ³Ý í»ñ³µ»ñÛ³É
A68: 5.5 | B68: ²åñ³Ýù³ÛÇÝ Ýß³ÝÇ í»ñ³µ»ñÛ³É | J68: 1 | L68: 1
A69: 5.6 | B69: ²ÛÉ í»×»ñ
A70: 6. | B70: ²ßË³ï³Ýù³ÛÇÝ Çñ³í³Ñ³ñ³µ»ñáõÃÛáõÝÝ»ñÇ í»ñ³µ»ñÛ³É ¹³ï³Ï³Ý ·áñÍ»ñ | E70: =SUM(E71:E76) -> 1 | F70: =SUM(F71:F76) -> 0 | G70: =SUM(G71:G76) -> 1 | H70: =SUM(H71:H76) -> 0 | I70: =SUM(I71:I76) -> 0 | J70: =SUM(J71:J76) -> 2 | K70: =SUM(K71:K76) -> 2 | L70: =SUM(L71:L76) -> 0 | ... AS70: =SUM(AS71:AS76) -> 0
A71: 6.1 | B71: ²ßË³ï³Ýù³ÛÇÝ å³ÛÙ³Ý³·ñ»ñÇ í»ñ³µ»ñÛ³É
A72: 6.2 | B72: ²ßË³ï³ÝùáõÙ í»ñ³Ï³Ý·Ý»Éáõ í»ñ³µ»ñÛ³É | J72: 1 | K72: 1 | AB72: 1
A73: 6.3 | B73: ¶áñÍ³¹áõÉÝ ³ÝûñÇÝ³Ï³Ý ×³Ý³ã»Éáõ í»ñ³µ»ñÛ³É
A74: 6.4 | B74: Ð³ñÏ³¹Çñ å³ñ³åáõñ¹Ç Ñ³ïáõóÙ³Ý í»ñ³µ»ñÛ³É
A75: 6.5 | B75: âí×³ñí³Í ³ßË³ï³í³ñÓÇ ¨/Ï³Ù ³ÛÉ í×³ñÝ»ñÇ µéÝ³·³ÝÓÙ³Ý í»ñ³µ»ñÛ³É
A76: 6.6 | B76: ²ÛÉ í»×»ñ | E76: 1 | G76: 1 | J76: 1 | K76: 1 | O76: 1 | R76: 1 | Y76: 1 | AB76: 1 | AD76: 1 | AF76: 1 | AH76: 1 | AJ76: 1
A77: 7. | B77: Æñ³í³µ³Ý³Ï³Ý ³ÝÓÇ ·áñÍáõÝ»áõÃÛáõÝÇó µËáÕ Çñ³í³Ñ³ñ³µ»ñáõÃÛáõÝÝ»ñÇ í»ñ³µ»ñÛ³É ¹³ï³Ï³Ý ·áñÍ»ñ | E77: =SUM(E78:E79) -> 1 | F77: =SUM(F78:F79) -> 0 | G77: =SUM(G78:G79) -> 1 | H77: =SUM(H78:H79) -> 0 | I77: =SUM(I78:I79) -> 0 | J77: =SUM(J78:J79) -> 0 | K77: =SUM(K78:K79) -> 0 | L77: =SUM(L78:L79) -> 0 | ... AS77: =SUM(AS78:AS79) -> 0
A78: 7.1 | B78: Îáñåáñ³ïÇí í»×»ñ
A79: 7.2 | B79: ²ÛÉ í»×»ñ | E79: 1 | G79: 1 | O79: 1 | P79: 1 | Y79: 1
A80: 8. | B80: Ð³ïáõÏ í³ñáõÛÃÇ ¹³ï³Ï³Ý ·áñÍ»ñ | E80: =SUM(E81:E101) -> 13 | F80: =SUM(F81:F101) -> 1 | G80: =SUM(G81:G101) -> 12 | H80: =SUM(H81:H101) -> 0 | I80: =SUM(I81:I101) -> 0 | J80: =SUM(J81:J101) -> 18 | K80: =SUM(K81:K101) -> 13 | L80: =SUM(L81:L101) -> 4 | ... AS80: =SUM(AS81:AS101) -> 0
A81: 8.1 | B81: ²Ýã³÷³Ñ³ëÇÝ ÉñÇí ·áñÍáõÝ³Ï ×³Ý³ã»Éáõ /¿Ù³ÝëÇå³óÇ³/ í»ñ³µ»ñÛ³É
A82: 8.2 | B82: ø³Õ³ù³óáõÝ ³Ý·áñÍáõÝ³Ï Ï³Ù ë³ÑÙ³Ý³÷³Ï ·áñÍáõÝ³Ï ×³Ý³ã»Éáõ í»ñ³µ»ñÛ³É | E82: 5 | G82: 5 | J82: 2 | K82: 2 | O82: 2 | P82: 1 | T82: 1 | V82: 1 | Y82: 2 | AB82: 5
A83: 8.3 | B83: ø³Õ³ù³óáõÝ Ñá·»µáõÅ³Ï³Ý ÑÇí³Ý¹³Ýáó³ÛÇÝ Ñ³ñÏ³¹Çñ µáõÅÙ³Ý »ÝÃ³ñÏ»Éáõ í»ñ³µ»ñÛ³É
A84: 8.4 | B84: ø³Õ³ù³óáõÝ ³ÝÑ³Ûï µ³ó³Ï³ÛáÕ Ï³Ù Ù³Ñ³ó³Í ×³Ý³ã»Éáõ í»ñ³µ»ñÛ³É | E84: 3 | F84: 1 | G84: 2 | J84: 1 | K84: 1 | O84: 2 | P84: 1 | T84: 1 | V84: 1 | Y84: 2 | AB84: 2 | AC84: 1
A85: 8.5 | B85: ø³Õ³ù³óÇ³Ï³Ý Ï³óáõÃÛ³Ý ³Ïï»ñÇ ·ñ³éáõÙÝ»ñÇ ³Ý×ßïáõÃÛáõÝÝ»ñÁ å³ñ½»Éáõ í»ñ³µ»ñÛ³É
A86: 8.6 | B86: ¶áõÛùÁ ïÇñ³½áõñÏ ×³Ý³ã»Éáõ í»ñ³µ»ñÛ³É
A87: 8.6.1 | B87: ²Û¹ ÃíáõÙª ³Ýß³ñÅ ·áõÛùÁ
A88: 8.6.2 | B88: ²Û¹ ÃíáõÙª ß³ñÅ³Ï³Ý ·áõÛùÁ
A89: 8.7 | B89: Æñ³í³µ³Ý³Ï³Ý Ýß³Ý³ÏáõÃÛáõÝ áõÝ»óáÕ ÷³ëï»ñÇ Ñ³ëï³ïÙ³Ý í»ñ³µ»ñÛ³É
A90: 8.7.1 | B90: ²ÝÓ³Ýó ³½·³Ïó³Ï³Ý Ï³åÁ Ñ³ëï³ï»Éáõ í»ñ³µ»ñÛ³É | E90: 1 | G90: 1 | J90: 3 | L90: 3 | AB90: 1
A91: 8.7.2 | B91: ²ÝÓÇª áõñÇßÇ ËÝ³ÙùÇ ï³Ï ·ïÝí»Éáõ í»ñ³µ»ñÛ³É
A92: 8.7.3 | B92: ÌÝÝ¹Û³Ý, áñ¹»·ñÙ³Ý, ³ÙáõëÝáõÃÛ³Ý, ³å³Ñ³ñ½³ÝÇ ¨ Ù³Ñí³Ý ·ñ³ÝóÙ³Ý í»ñ³µ»ñÛ³É | J92: 4 | K92: 3 | M92: 1 | AB92: 3
A93: 8.7.4 | B93: ²ÝÓÇª áñáß³ÏÇ Å³Ù³Ý³ÏáõÙ ¨ áñáß³ÏÇ Ñ³Ý·³Ù³ÝùÝ»ñáõÙ Ù³Ñí³Ý í»ñ³µ»ñÛ³É
A94: 8.7.5 | B94: Ä³é³Ý·áõÃÛáõÝÝ ÁÝ¹áõÝ»Éáõ ¨ Å³é³Ý·áõÃÛ³Ý µ³óÙ³Ý í³ÛñÇ í»ñ³µ»ñÛ³É | J94: 3 | K94: 3 | AB94: 3
A95: 8.7.6 | B95: ¸Åµ³Ëï å³ï³Ñ³ñÇ í»ñ³µ»ñÛ³É
A96: 8.7.7 | B96: Æñ³íáõÝù ë³ÑÙ³ÝáÕ ÷³ëï³ÃÕÃ»ñÇ å³ïÏ³Ý»ÉáõÃÛ³Ý í»ñ³µ»ñÛ³É | E96: 1 | G96: 1 | J96: 3 | K96: 2 | L96: 1 | AB96: 3
A97: 8.7.8 | B97: ê»÷³Ï³ÝáõÃÛ³Ý Çñ³íáõÝùáí ·áõÛùÇ ïÇñ³å»ïÙ³Ý í»ñ³µ»ñÛ³É | E97: 1 | G97: 1 | J97: 1 | K97: 1 | O97: 1 | R97: 1 | Y97: 1 | AB97: 1
A98: 8.7.9 | B98: ²ÝÑ³ÕÃ³Ñ³ñ»ÉÇ áõÅÇ ³éÏ³ÛáõÃÛ³Ý í»ñ³µ»ñÛ³É
A99: 8.7.10 | B99: úñ»Ýùáí Ý³Ë³ï»ëí³Í ³ÛÉ Çñ³í³µ³Ý³Ï³Ý ÷³ëï»ñÇ í»ñ³µ»ñÛ³É | E99: 2 | G99: 2 | J99: 1 | K99: 1 | AB99: 3
A100: 8.8 | B100: Àëï Ý»ñÏ³Û³óÝáÕÇ ¨ ûñ¹»ñ³ÛÇÝ Ïáñóñ³Í ³ñÅ»ÃÕÃ»ñáí Ñ³í³ëïí³Í Çñ³íáõÝùÝ»ñÁ í»ñ³Ï³Ý·Ý»Éáõ í»ñ³µ»ñÛ³É
...

Sheet Ա. Փիլոսյան
A1: 2017թ. | G1: Ð²ÞìºîìàôÂÚàôÜ | AM1: Ð³í»Éí³Í Ð³Û³ëï³ÝÇ Ð³Ýñ³å»ïáõÃÛ³Ý ¸³ï³ñ³ÝÝ»ñÇ Ý³Ë³·³ÑÝ»ñÇ ËáñÑñ¹Ç 29.01.2018Ã. ÃÇí 10-È áñáßÙ³Ý
A2: ºðºì²ÜÆ ²æ²öÜÚ²Î ºì ¸²ìÂ²ÞºÜ ì²ðâ²Î²Ü Þðæ²ÜÜºðÆ ÀÜ¸Ð²Üàôð Æð²ì²êàôÂÚ²Ü ²è²æÆÜ ²îÚ²ÜÆ ¸²î²ð²ÜÆ ¸²î²ìàð | Z2: ². ՓԻԼՈՍՅԱՆԻ | AH2: ¶àðÌàôÜºàôÂÚ²Ü ìºð²´ºðÚ²È
A3: ø²Ô²ø²òÆ²Î²Ü ¶àðÌºðàì
A4: ºñ¨³ÝÇ ²ç³÷ÝÛ³Ï ¨ ¸³íÃ³ß»Ý í³ñã³Ï³Ý ßñç³ÝÝ»ñÇ ÁÝ¹Ñ³Ýáõñ Çñ³í³ëáõÃÛ³Ý ³é³çÇÝ ³ïÛ³ÝÇ ¹³ï³ñ³ÝÇ ù³Õ³ù³óÇ³Ï³Ý Ù³ëÝ³·Çï³óáõÙ áõÝ»óáÕ ¹³ï³íáñÝ»ñÇ Ñ³ëïÇùÝ»ñÇ ù³Ý³ÏÁ` 5
E5: Ð³ßí»ïáõ Å³Ù³Ý³Ï³Ñ³ïí³ÍáõÙ Ý³Ëáñ¹ Ñ³ßí»ïáõ Å³Ù³Ý³Ï³Ñ³ïí³ÍÇó ÷áË³Ýóí³Í ·áñÍ»ñÇ ÁÝ¹Ñ³Ýáõñ ÃÇíÁ | J5: Ð³ßí»ïáõ Å³Ù³Ý³Ï³Ñ³ïí³ÍáõÙëï³óí³Í ·áñÍ»ñÇ (³Û¹ ÃíáõÙ` Ñ³Ûó³¹ÇÙáõÙÝ»ñÇ, ¹ÇÙáõÙÝ»ñÇ) ÁÝ¹Ñ³Ýáõñ ÃÇíÁ | N5: öáË³Ýóí»É ¿ ³ÛÉ ¹³ï³íáñÇ (Ï³½ÙÇ ÷á÷áËáõÃÛáõÝ) | O5: Ð³ßí»ïáõ Å³Ù³Ý³Ï³Ñ³ïí³ÍáõÙ ³í³ñïí³Í ·áñÍ»ñÇ ÁÝ¹Ñ³Ýáõñ ÃÇíÁ | Z5: ¶áñÍÝ áõÕ³ñÏí»É ¿ Áëï ÁÝ¹¹³ïáõÃÛ³Ý | AA5: Ð³ßí»ïáõ Å³Ù³Ý³Ï³Ñ³ïí³ÍáõÙ Ï³ë»óí³Í í³ñáõÛÃÝ»ñáí ·áñÍ»ñÇ ÁÝ¹Ñ³Ýáõñ ÃÇíÁ | AB5: Ð³ßí»ïáõ Å³Ù³Ý³Ï³Ñ³ïí³ÍáõÙ ³Ý³í³ñï ·áñÍ»ñÇ ÁÝ¹Ñ³Ýáõñ ÃÇíÁ | AC5: ²Û¹ ÃíáõÙª Ï³ë»óí³Í | AD5: ´áÕáù³ñÏí³Í ¹³ï³Ï³Ý ³Ïï»ñÁ | AI5: ²í³ñïí³Í ¹³ï³Ï³Ý ·áñÍ»ñÇ µáÕáù³ñÏÙ³Ý ïáÏáëÁ (Ñ³ßí»ïáõ Å³Ù³Ý³Ï³ßñç³ÝáõÙ) | AJ5: ²Ý³í³ñï µáÕáùÝ»ñ | AK5: ´»Ï³Ýí³Í ¹³ï³Ï³Ý ³Ïï»ñÁ | AP5: µ»Ï³ÝáõÙÝ»ñÇ ïáÏáëÁ ³í³ñïí³Í ·áñÍ»ñÇó(Ñ³ßí»ïáõ Å³Ù³Ý³Ï³ßñç³ÝáõÙ) | AQ5: Î³ÛáõÝáõÃÛ³Ý ïáÏáëÁ ³í³ñïí³Í ·áñÍ»ñÇó(Ñ³ßí»ïáõ Å³Ù³Ý³Ï³ßñç³ÝáõÙ) | AR5: µ»Ï³ÝáõÙÝ»ñÇ ïáÏáëÁ µáÕáù³ñÏí³Í ·áñÍ»ñÇó(Ñ³ßí»ïáõ Å³Ù³Ý³Ï³ßñç³ÝáõÙ) | AS5: Ï³ÛáõÝáõÃÛ³Ý ïáÏáëÁ(Ñ³ßí»ïáõ Å³Ù³Ý³Ï³ßñç³ÝáõÙ)
E6: ÀÝ¹³Ù»ÝÁ | F6: ²Û¹ ÃíáõÙ`Ï³ë»óí³Í íÇ×³ÏáõÙ ÷áË³Ýóí³Í | G6: ²Û¹ ÃíáõÙª ÁÝ¹áõÝí»É ¿ í³ñáõÛÃ | H6: ²Û¹ ÃíáõÙª í»ñ³¹³ñÓí»É ¿ | I6: ²Û¹ ÃíáõÙª ÁÝ¹áõÝáõÙÁ Ù»ñÅí»É ¿ | J6: ÀÝ¹³Ù»ÝÁ | K6: ²Û¹ ÃíáõÙª ÁÝ¹áõÝí»É ¿ í³ñáõÛÃ | L6: ²Û¹ ÃíáõÙª í»ñ³¹³ñÓí»É ¿ | M6: ²Û¹ ÃíáõÙª ÁÝ¹áõÝáõÙÁ Ù»ñÅí»É ¿ | O6: ÀÝ¹³Ù»ÝÁ ³í³ñïí»É »Ý ·áñÍ»ñ ·áñÍÝ Áëï ¿áõÃÛ³Ý ÉáõÍáÕ ¹³ï³Ï³Ý ³Ïï»ñÇ (í×ÇéÝ»ñÇ) Ï³Û³óÙ³Ùµ | P6: ²Û¹ ÃíáõÙª Ñ³ÛóÇ µ³í³ñ³ñÙ³Ùµ | Q6: ²Û¹ ÃíáõÙª Ñ³ÛóÇ Ù³ëÝ³ÏÇ µ³í³ñ³ñÙ³Ùµ | R6: ²Û¹ ÃíáõÙª Ñ³ÛóÇ Ù»ñÅÙ³Ùµ | S6: Ø³ëáí Ï³ñ×í»É ¿, Ù³ëáí Ù»ñÅí»É | T6: ²Û¹ ÃíáõÙª Ï³ñ×í»É »Ý | X6: Ð³ÛóÁ ÃáÕÝí»É ¿ ³é³Ýó ùÝÝáõÃÛ³Ý | Y6: ÀÝ¹³Ù»ÝÝ ³í³ñïí»É »Ý ·áñÍ»ñ | AD6: ²Û¹ ÃíáõÙ` ·áñÍÝ Áëï ¿áõÃÛ³Ý ÉáõÍáÕ ¹³ï³Ï³Ý ³Ïï»ñÁ | AE6: ²Û¹ ÃíáõÙ` ÙÇç³ÝÏÛ³É ¹³ï³Ï³Ý ³Ïï»ñÁ | AF6: ÀÝ¹³Ù»ÝÁ | AG6: Ü³Ëáñ¹ ï³ñÇÝ»ñÇÝ Ï³Û³óí³Í ³Ïï»ñÇ µáÕáù³ñÏáõÙÁ Ñ³ßí»ïáõ Å³Ù³Ý³Ï³ßñç³ÝáõÙ | AH6: Ð³ßí»ïáõ Å³Ù³Ý³Ï³ßñç³ÝáõÙ Ï³Û³óí³Í ³Ïï»ñÇ µáÕáù³ñÏáõÙÁ | AK6: ²Û¹ ÃíáõÙ` ·áñÍÝ Áëï ¿áõÃÛ³Ý ÉáõÍáÕ ¹³ï³Ï³Ý ³Ïï»ñÁ | AL6: ²Û¹ ÃíáõÙ` ÙÇç³ÝÏÛ³É ¹³ï³Ï³Ý ³Ïï»ñÁ | AM6: ÀÝ¹³Ù»ÝÁ | AN6: Ü³Ëáñ¹ ï³ñÇÝ»ñÇÝ Ï³Û³óí³Í ³Ïï»ñÇ µ»Ï³ÝáõÙÝ»ñÁ Ñ³ßí»ïáõ Å³Ù³Ý³Ï³ßñç³ÝáõÙ | AO6: Ð³ßí»ïáõ Å³Ù³Ý³Ï³ßñç³ÝáõÙ Ï³Û³óí³Í ³Ïï»ñÇ µ»Ï³ÝáõÙÁ
T7: ÀÝ¹³Ù»ÝÁ Ï³ñ×í»É »Ý | U7: ²Û¹ ÃíáõÙª Ñ³ëï³ïí»É ¿ ÏÝùí³Í Ñ³ßïáõÃÛ³Ý Ñ³Ù³Ó³ÛÝáõÃÛáõÝÁ | V7: ²Û¹ ÃíáõÙª Ñ³óÇó, ¹ÇÙáõÙÇó Ññ³Å³ñí»Éáõ ÑÇÙùáí | W7: ²Û¹ ÃíáõÙª ³ÛÉ ÑÇÙùáí
E8: 1 | F8: 2 | G8: 3 | H8: 4 | I8: 5 | J8: 6 | K8: 7 | L8: 8 | M8: 9 | N8: 10 | O8: 11 | P8: 12 | Q8: 13 | R8: 14 | S8: 15 | T8: 16 | U8: 17 | V8: 18 | W8: 19 | X8: 20 | Y8: 21 | Z8: 22 | AA8: 23 | AB8: 24 | AC8: 25 | AD8: 26 | AE8: 27 | AF8: 28 | AG8: 29 | AH8: 30 | AI8: 31 | AJ8: 32 | AK8: 33 | AL8: 34 | AM8: 35 | AN8: 36 | AO8: 37 | AP8: 38 | AQ8: 39 | AR8: 40 | AS8: 41
A9: 1. | B9: ¶áõÛù³ÛÇÝ Çñ³í³Ñ³ñ³µ»ñáõÃÛáõÝÝ»ñÇ í»ñ³µ»ñÛ³É ¹³ï³Ï³Ý ·áñÍ»ñ | E9: =SUM(E10:E28) -> 83 | F9: =SUM(F10:F28) -> 16 | G9: =SUM(G10:G28) -> 67 | H9: =SUM(H10:H28) -> 0 | I9: =SUM(I10:I28) -> 0 | J9: =SUM(J10:J28) -> 46 | K9: =SUM(K10:K28) -> 33 | L9: =SUM(L10:L28) -> 13 | ... AS9: =SUM(AS10:AS28) -> 0
A10: 1.1 | B10: ¶áõÛùÇ ÝÏ³ïÙ³Ùµ ë»÷³Ï³ÝáõÃÛ³Ý Çñ³íáõÝùÁ ×³Ý³ã»Éáõ í»ñ³µ»ñÛ³É | E10: 8 | F10: 2 | G10: 6 | J10: 7 | K10: 6 | L10: 1 | O10: 5 | R10: 3 | T10: 2 | V10: 2 | Y10: 5 | AA10: 1 | AB10: 9 | AC10: 2 | AD10: 1 | AF10: 1 | AH10: 1 | AJ10: 1
A11: 1.1.1 | B11: ²Û¹ ÃíáõÙª Ó»éùµ»ñÙ³Ý í³Õ»ÙáõÃÛ³Ý áõÅáí | E11: 4 | G11: 4 | J11: 2 | K11: 2 | O11: 3 | R11: 2 | T11: 1 | V11: 1 | Y11: 3 | AB11: 3 | AD11: 2 | AF11: 2 | AG11: 1 | AH11: 1 | AK11: 1 | AM11: 1 | AN11: 1
A12: 1.1.2 | B12: ²Û¹ ÃíáõÙª ïÇñ³½áõñÏ ·áõÛùÇ ÝÏ³ïÙ³Ùµ
A13: 1.1.3 | B13: ²Û¹ ÃíáõÙª ÇÝùÝ³Ï³Ù Ï³éáõÛóÇ ÝÏ³ïÙ³Ùµ
A14: 1.2 | B14: ê»÷³Ï³ÝáõÃÛ³Ý Çñ³íáõÝùÇ ¹³¹³ñ»óÙ³Ý í»ñ³µ»ñÛ³É | E14: 1 | G14: 1 | J14: 5 | K14: 2 | L14: 3 | O14: 1 | T14: 1 | V14: 1 | Y14: 1 | AB14: 2
A15: 1.3 | B15: ¶áõÛùÇ ÝÏ³ïÙ³Ùµ û·ï³·áñÍÙ³Ý Çñ³íáõÝùÁ ×³Ý³ã»Éáõ í»ñ³µ»ñÛ³É
A16: 1.3.1 | B16: ²Û¹ ÃíáõÙª µÝ³Ïû·ï³·áñÍÙ³Ý Çñ³íáõÝùÁ ×³Ý³ã»Éáõ í»ñ³µ»ñÛ³É
A17: 1.3.2 | B17: ²Û¹ ÃíáõÙª ÑáÕ³Ù³ëÇ ÝÏ³ïÙ³Ùµ û·ï³·áñÍÙ³Ý Çñ³íáõÝùÁ ×³Ý³ã»Éáõ í»ñ³µ»ñÛ³É
A18: 1.4 | B18: ¶áõÛùÇ ÝÏ³ïÙ³Ùµ û·ï³·áñÍÙ³Ý Çñ³íáõÝùÁ ¹³¹³ñ»óÝ»Éáõ í»ñ³µ»ñÛ³É
A19: 1.4.1 | B19: ²Û¹ ÃíáõÙª µÝ³Ïû·ï³·áñÍÙ³Ý Çñ³íáõÝùÁ ¹³¹³ñ»óÝ»Éáõ í»ñ³µ»ñÛ³É
A20: 1.4.1/1 | B20: ²Û¹ ÃíáõÙª ÷áËÑ³ïáõóÙ³Ùµ | E20: 2 | G20: 2 | O20: 1 | T20: 1 | V20: 1 | Y20: 1 | AA20: 1 | AB20: 1 | AC20: 1
A21: 1.5 | B21: ´Ý³Ï³ñ³ÝÇó/ ï³ñ³ÍùÇó/ íï³ñ»Éáõ í»ñ³µ»ñÛ³É | E21: 5 | F21: 2 | G21: 3 | J21: 1 | K21: 1 | O21: 2 | Q21: 2 | Y21: 2 | AB21: 4 | AC21: 2 | AD21: 1 | AF21: 1 | AH21: 1
A22: 1.6 | B22: ¶áõÛùÝ áõñÇßÇ ³åûñÇÝÇ ïÇñ³å»ïáõÙÇó »ï í»ñ³¹³ñÓÝ»Éáõ í»ñ³µ»ñÛ³É | E22: 7 | F22: 1 | G22: 6 | J22: 3 | K22: 2 | L22: 1 | O22: 3 | P22: 1 | R22: 2 | Y22: 3 | AA22: 1 | AB22: 6 | AC22: 1 | AD22: 3 | AF22: 3 | AG22: 1 | AH22: 2 | AJ22: 1 | AK22: 1 | AM22: 1 | AN22: 1
A23: 1.6.1 | B23: ´³ñ»ËÇÕ× Ó»éùµ»ñáÕÇó Çñ ·áõÛùÁ Ñ»ï å³Ñ³Ýç»Éáõ í»ñ³µ»ñÛ³É
A24: 1.7 | B24: îÇñ³å»ïáõÙÇó ½ñÏ»Éáõ Ñ»ï ãÏ³åí³Í Çñ³íáõÝùÝ»ñÇ Ë³ËïáõÙÁ í»ñ³óÝ»Éáõ í»ñ³µ»ñÛ³É | E24: 3 | G24: 3 | O24: 1 | R24: 1 | Y24: 1 | AB24: 2 | AE24: 1 | AF24: 1 | AG24: 1
A25: 1.8 | B25: ÀÝ¹Ñ³Ýáõñ µ³ÅÝ³ÛÇÝ ë»÷³Ï³ÝáõÃÛáõÝÇó µ³ÅÇÝÝ ³é³ÝÓÝ³óÝ»Éáõ í»ñ³µ»ñÛ³É | E25: 16 | F25: 4 | G25: 12 | J25: 10 | K25: 7 | L25: 3 | O25: 4 | P25: 2 | R25: 1 | T25: 1 | V25: 1 | Y25: 4 | AA25: 3 | AB25: 19 | AC25: 5
A26: 1.8.1 | B26: Ð³Ù³ï»Õ ë»÷³Ï³ÝáõÃÛ³Ý Ý»ñùá ·ïÝíáÕ ·áõÛùÁ µ³Å³Ý»Éáõ ¨ ¹ñ³ÝÇó µ³ÅÇÝÝ ³é³ÝÓÝ³óÝ»Éáõ í»ñ³µ»ñÛ³É | E26: 26 | F26: 4 | G26: 22 | J26: 6 | K26: 5 | L26: 1 | O26: 12 | P26: 7 | Q26: 1 | R26: 2 | T26: 2 | V26: 2 | Y26: 12 | AA26: 7 | AB26: 19 | AC26: 8 | AD26: 5 | AF26: 5 | AG26: 2 | AH26: 3 | AJ26: 1
A27: 1.8.3 | B27: ¶áõÛùÇ íñ³ µéÝ³·³ÝÓáõÙ ï³ñ³Í»Éáõ å³Ñ³ÝçÇ Ù³ëÇÝ | E27: 2 | G27: 2 | AA27: 1 | AB27: 2 | AC27: 1
A28: 1.9 | B28: ²ÛÉ í»×»ñ | E28: 9 | F28: 3 | G28: 6 | J28: 12 | K28: 8 | L28: 4 | O28: 8 | P28: 1 | R28: 2 | T28: 5 | U28: 1 | V28: 4 | Y28: 8 | AA28: 2 | AB28: 9 | AC28: 4
A29: 2. | B29: ¶áñÍ³ñùÝ»ñÇ Ñ»ï Ï³åí³Í Çñ³í³Ñ³ñ³µ»ñáõÃÛáõÝÝ»ñÇ í»ñ³µ»ñÛ³É ¹³ï³Ï³Ý ·áñÍ»ñ | E29: =SUM(E30:E40) -> 23 | F29: =SUM(F30:F40) -> 6 | G29: =SUM(G30:G40) -> 17 | H29: =SUM(H30:H40) -> 0 | I29: =SUM(I30:I40) -> 0 | J29: =SUM(J30:J40) -> 10 | K29: =SUM(K30:K40) -> 9 | L29: =SUM(L30:L40) -> 1 | ... AS29: =SUM(AS30:AS40) -> 0
A30: 2.1 | B30: ·áñÍ³ñùÝ»ñÇ ³Ýí³í»ñáõÃÛ³Ý Ñ»ï Ï³åí³Í í»×»ñ | E30: 2 | G30: 2 | J30: 3 | K30: 3 | O30: 2 | P30: 1 | R30: 1 | Y30: 2 | AB30: 3 | AD30: 1 | AF30: 1 | AH30: 1 | AJ30: 1
A31: 2.1.1 | B31: ³Û¹ ÃíáõÙ` íÇ×³Ñ³ñáõÛó ·áñÍ³ñùÝ»ñÝ ³Ýí³í»ñ ×³Ý³ã»Éáõ í»ñ³µ»ñÛ³É
A32: 2.1.2 | B32: ³Û¹ ÃíáõÙ` ·áñÍ³ñùÇ ³éáãÝãáõÃÛ³Ý Ñ»ï¨³ÝùÝ»ñ ÏÇñ³é»Éáõ í»ñ³µ»ñÛ³É | E32: 1 | F32: 1 | J32: 1 | K32: 1 | O32: 1 | P32: 1 | Y32: 1 | AB32: 1
A33: 2.2 | B33: ¶áñÍ³ñùÁ í³í»ñ ×³Ý³ã»Éáõ í»ñ³µ»ñÛ³É
A34: 2.3 | B34: ¶áñÍ³ñùÇó Í³·áÕ Çñ³íáõÝùÝ»ñÁ ·ñ³Ýó»Éáõ í»ñ³µ»ñÛ³É
A35: 2.4 | B35: ä³ÛÙ³Ý³·ÇñÝ ³Ýí³í»ñ ×³Ý³ã»Éáõ í»ñ³µ»ñÛ³É | E35: 10 | F35: 2 | G35: 8 | J35: 2 | K35: 2 | O35: 5 | P35: 1 | R35: 3 | T35: 1 | W35: 1 | Y35: 5 | AB35: 7 | AD35: 2 | AF35: 2 | AH35: 2 | AJ35: 1 | AK35: 1 | AM35: 1 | AO35: 1
A36: 2.5 | B36: ä³ÛÙ³Ý³·ñÇÁ í³í»ñ ×³Ý³ã»Éáõ í»ñ³µ»ñÛ³É | E36: 1 | G36: 1 | O36: 1 | T36: 1 | V36: 1 | Y36: 1
A37: 2.6 | B37: ä³ÛÙ³Ý³·ñÇó Í³·áÕ Çñ³íáõÝùÝ»ñÁ ·ñ³Ýó»Éáõ í»ñ³µ»ñÛ³É
A38: 2.7 | B38: ä³ÛÙ³Ý³·ÇñÁ ÷á÷áË»Éáõ ¨ ÉáõÍ»Éáõ í»ñ³µ»ñÛ³É | E38: 3 | G38: 3 | J38: 2 | K38: 2 | O38: 2 | Q38: 1 | R38: 1 | Y38: 2 | AB38: 3 | AC38: 1
A39: 2.8 | B39: ä³ÛÙ³Ý³·Çñ ÏÝù»ÉáõÝ å³ñï³íáñ»óÝ»Éáõ í»ñ³µ»ñÛ³É | E39: 1 | F39: 1 | AB39: 1 | AC39: 1
A40: 2.9 | B40: ²ÛÉ í»×»ñ | E40: 5 | F40: 2 | G40: 3 | J40: 2 | K40: 1 | L40: 1 | O40: 3 | S40: 1 | T40: 2 | V40: 2 | Y40: 3 | AB40: 3 | AD40: 1 | AF40: 1 | AG40: 1
A41: 3. | B41: Ä³é³Ý·áõÃÛ³Ý Ñ»ï Ï³åí³Í Çñ³í³Ñ³ñ³µ»ñáõÃÛáõÝÝ»ñÇ í»ñ³µ»ñÛ³É ¹³ï³Ï³Ý ·áñÍ»ñ | E41: =SUM(E42:E48) -> 6 | F41: =SUM(F42:F48) -> 1 | G41: =SUM(G42:G48) -> 5 | H41: =SUM(H42:H48) -> 0 | I41: =SUM(I42:I48) -> 0 | J41: =SUM(J42:J48) -> 0 | K41: =SUM(K42:K48) -> 0 | L41: =SUM(L42:L48) -> 0 | ... AS41: =SUM(AS42:AS48) -> 0
A42: 3.1 | B42: Îï³ÏÝ ³Ýí³í»ñ ×³Ý³ã»Éáõ í»ñ³µ»ñÛ³É
A43: 3.2 | B43: ²Ý³ñÅ³Ý Å³é³Ý· ×³Ý³ã»Éáõ í»ñ³µ»ñÛ³É
A44: 3.3 | B44: Ä³é³Ý·áõÃÛáõÝÁ µ³Å³Ý»Éáõ í»ñ³µ»ñÛ³É
A45: 3.4 | B45: ¶áõÛùÝ ³ÝÅ³é³Ý· ×³Ý³ã»Éáõ í»ñ³µ»ñÛ³É
A46: 3.5 | B46: Àëï ûñ»ÝùÇ Å³é³Ý·áõÃÛ³Ý Çñ³íáõÝùÇ íÏ³Û³·ÇñÝ ³Ýí³í»ñ ×³Ý³ã»Éáõ í»ñ³µ»ñÛ³É
A47: 3.6 | B47: Ä³é³Ý·áõÃÛáõÝÝ ÁÝ¹áõÝ»Éáõ µ³ó ÃáÕÝí³Í Å³ÙÏ»ïÁ Ñ³ñ·»ÉÇ Ñ³Ù³ñ»Éáõ í»ñ³µ»ñÛ³É | E47: 1 | G47: 1 | AA47: 1 | AB47: 1 | AC47: 1
A48: 3.7 | B48: ²ÛÉ í»×»ñ | E48: 5 | F48: 1 | G48: 4 | O48: 2 | R48: 2 | Y48: 2 | AB48: 3 | AC48: 1
A49: 4 | B49: ÀÝï³Ý»Ï³Ý Çñ³í³Ñ³ñ³µ»ñáõÃÛáõÝÝ»ñÇ í»ñ³µ»ñÛ³É ¹³ï³Ï³Ý ·áñÍ»ñ | E49: =SUM(E50:E62) -> 17 | F49: =SUM(F50:F62) -> 2 | G49: =SUM(G50:G62) -> 15 | H49: =SUM(H50:H62) -> 0 | I49: =SUM(I50:I62) -> 0 | J49: =SUM(J50:J62) -> 39 | K49: =SUM(K50:K62) -> 32 | L49: =SUM(L50:L62) -> 7 | ... AS49: =SUM(AS50:AS62) -> 0
A50: 4.1 | B50: ²ÙáõëÝ³ÉáõÍáõÃÛ³Ý í»ñ³µ»ñÛ³É | E50: 7 | F50: 1 | G50: 6 | J50: 21 | K50: 16 | L50: 5 | O50: 13 | P50: 9 | Q50: 2 | T50: 2 | V50: 2 | Y50: 13 | AB50: 10 | AC50: 1 | AD50: 2 | AE50: 1 | AF50: 3 | AG50: 2 | AH50: 1 | AL50: 1 | AM50: 1 | AN50: 1
A51: 4.2 | B51: ²ÉÇÙ»ÝïÇ å³Ñ³ÝçÇ í»ñ³µ»ñÛ³É | E51: 3 | G51: 3 | J51: 8 | K51: 7 | L51: 1 | O51: 4 | Q51: 3 | R51: 1 | Y51: 4 | AB51: 6
A52: 4.3 | B52: ²ÉÇÙ»ÝïÇ ã³÷Á ÷á÷áË»Éáõ í»ñ³µ»ñÛ³É | E52: 1 | G52: 1 | J52: 2 | K52: 2 | O52: 1 | Q52: 1 | Y52: 1 | AB52: 2
A53: 4.4 | B53: ÌÝáÕ³Ï³Ý Çñ³íáõÝùÝ»ñÇó ½ñÏ»Éáõ í»ñ³µ»ñÛ³É | J53: 2 | K53: 1 | L53: 1 | AB53: 1
A54: 4.5 | B54: ÌÝáÕ³Ï³Ý Çñ³íáõÝùÝ»ñÁ í»ñ³Ï³Ý·Ý»Éáõ í»ñ³µ»ñÛ³É
A55: 4.6 | B55: ºñ»Ë³ÛÇ áñ¹»·ñÙ³Ý í»ñ³µ»ñÛ³É
A56: 4.7 | B56: ºñ»Ë³ÛÇ áñ¹»·ñáõÙÁ í»ñ³óÝ»Éáõ í»ñ³µ»ñÛ³É
A57: 4.8 | B57: Ð³ÛñáõÃÛáõÝÁ ×³Ý³ã»Éáõ í»ñ³µ»ñÛ³É | E57: 2 | F57: 1 | G57: 1 | J57: 1 | K57: 1 | AB57: 3 | AC57: 1
A58: 4.9 | B58: ºñ»Ë³ÛÇ µÝ³ÏáõÃÛ³Ý í³ÛñÁ áñáß»Éáõ í»ñ³µ»ñÛ³É | E58: 3 | G58: 3 | O58: 2 | P58: 1 | T58: 1 | U58: 1 | Y58: 2 | AB58: 1
A59: 4.10 | B59: ºñ»Ë³ÛÇ Ñ»ï ï»ë³ÏóáõÃÛ³Ý Ï³ñ· ë³ÑÙ³Ý»Éáõ í»ñ³µ»ñÛ³É | E59: 1 | G59: 1 | J59: 1 | K59: 1 | AB59: 2
A60: 4.11 | B60: ²ÙáõëÇÝÝ»ñÇ ÁÝ¹Ñ³Ýáõñ ·áõÛùÁ µ³Å³Ý»Éáõ í»ñ³µ»ñÛ³É | J60: 1 | K60: 1 | AB60: 1
A61: 4.12 | B61: ²ÙáõëÝ³Ï³Ý å³ÛÙ³Ý³·ñÇ ÷á÷áËÙ³Ý Ï³Ù ÉáõÍÙ³Ý í»ñ³µ»ñÛ³É
A62: 4.13 | B62: ²ÛÉ í»×»ñ | J62: 3 | K62: 3 | O62: 1 | P62: 1 | Y62: 1 | AB62: 2
A63: 5. | B63: Øï³íáñ ë»÷³Ï³ÝáõÃÛ³Ý Ñ»ï Ï³åí³ÍÇñ³í³Ñ³ñ³µ»ñáõÃÛáõÝÝ»ñÇ í»ñ³µ»ñÛ³É ¹³ï³Ï³Ý ·áñÍ»ñ | E63: =SUM(E64:E69) -> 0 | F63: =SUM(F64:F69) -> 0 | G63: =SUM(G64:G69) -> 0 | H63: =SUM(H64:H69) -> 0 | I63: =SUM(I64:I69) -> 0 | J63: =SUM(J64:J69) -> 2 | K63: =SUM(K64:K69) -> 1 | L63: =SUM(L64:L69) -> 1 | ... AS63: =SUM(AS64:AS69) -> 0
A64: 5.1 | B64: ÈÇó»Ý½³ÛÇÝ å³ÛÙ³Ý³·ñÇ ÉáõÍÙ³Ý, ÷á÷áËÙ³Ý ¨ ³Ýí³í»ñáõÃÛ³Ý í»ñ³µ»ñÛ³É
A65: 5.2 | B65: Øï³íáñ ·áñÍáõÝ»áõÃÛ³Ý ³ñ¹ÛáõÝùÝ»ñ ëï»ÕÍ»Éáõ ¨ û·ï³·áñÍ»Éáõ å³ÛÙ³Ý³·ñÇ ÉáõÍÙ³Ý, ÷á÷áËÙ³Ý áõ ³Ýí³í»ñáõÃÛ³Ý í»ñ³µ»ñÛ³É
A66: 5.3 | B66: Ð»ÕÇÝ³Ï³ÛÇÝ ¨ Ñ³ñ³ÏÇó Çñ³íáõÝùÝ»ñÇ í»ñ³µ»ñÛ³É
A67: 5.4 | B67: üÇñÙ³ÛÇÝ ³Ýí³ÝÙ³Ý í»ñ³µ»ñÛ³É
A68: 5.5 | B68: ²åñ³Ýù³ÛÇÝ Ýß³ÝÇ í»ñ³µ»ñÛ³É | J68: 2 | K68: 1 | L68: 1 | AB68: 1
A69: 5.6 | B69: ²ÛÉ í»×»ñ
A70: 6. | B70: ²ßË³ï³Ýù³ÛÇÝ Çñ³í³Ñ³ñ³µ»ñáõÃÛáõÝÝ»ñÇ í»ñ³µ»ñÛ³É ¹³ï³Ï³Ý ·áñÍ»ñ | E70: =SUM(E71:E76) -> 0 | F70: =SUM(F71:F76) -> 0 | G70: =SUM(G71:G76) -> 0 | H70: =SUM(H71:H76) -> 0 | I70: =SUM(I71:I76) -> 0 | J70: =SUM(J71:J76) -> 4 | K70: =SUM(K71:K76) -> 4 | L70: =SUM(L71:L76) -> 0 | ... AS70: =SUM(AS71:AS76) -> 0
A71: 6.1 | B71: ²ßË³ï³Ýù³ÛÇÝ å³ÛÙ³Ý³·ñ»ñÇ í»ñ³µ»ñÛ³É
A72: 6.2 | B72: ²ßË³ï³ÝùáõÙ í»ñ³Ï³Ý·Ý»Éáõ í»ñ³µ»ñÛ³É | J72: 1 | K72: 1 | AB72: 1
A73: 6.3 | B73: ¶áñÍ³¹áõÉÝ ³ÝûñÇÝ³Ï³Ý ×³Ý³ã»Éáõ í»ñ³µ»ñÛ³É
A74: 6.4 | B74: Ð³ñÏ³¹Çñ å³ñ³åáõñ¹Ç Ñ³ïáõóÙ³Ý í»ñ³µ»ñÛ³É
A75: 6.5 | B75: âí×³ñí³Í ³ßË³ï³í³ñÓÇ ¨/Ï³Ù ³ÛÉ í×³ñÝ»ñÇ µéÝ³·³ÝÓÙ³Ý í»ñ³µ»ñÛ³É | J75: 2 | K75: 2 | O75: 1 | Q75: 1 | Y75: 1 | AB75: 1
A76: 6.6 | B76: ²ÛÉ í»×»ñ | J76: 1 | K76: 1 | AB76: 1
A77: 7. | B77: Æñ³í³µ³Ý³Ï³Ý ³ÝÓÇ ·áñÍáõÝ»áõÃÛáõÝÇó µËáÕ Çñ³í³Ñ³ñ³µ»ñáõÃÛáõÝÝ»ñÇ í»ñ³µ»ñÛ³É ¹³ï³Ï³Ý ·áñÍ»ñ | E77: =SUM(E78:E79) -> 0 | F77: =SUM(F78:F79) -> 0 | G77: =SUM(G78:G79) -> 0 | H77: =SUM(H78:H79) -> 0 | I77: =SUM(I78:I79) -> 0 | J77: =SUM(J78:J79) -> 0 | K77: =SUM(K78:K79) -> 0 | L77: =SUM(L78:L79) -> 0 | ... AS77: =SUM(AS78:AS79) -> 0
A78: 7.1 | B78: Îáñåáñ³ïÇí í»×»ñ
A79: 7.2 | B79: ²ÛÉ í»×»ñ
A80: 8. | B80: Ð³ïáõÏ í³ñáõÛÃÇ ¹³ï³Ï³Ý ·áñÍ»ñ | E80: =SUM(E81:E101) -> 13 | F80: =SUM(F81:F101) -> 0 | G80: =SUM(G81:G101) -> 13 | H80: =SUM(H81:H101) -> 0 | I80: =SUM(I81:I101) -> 0 | J80: =SUM(J81:J101) -> 24 | K80: =SUM(K81:K101) -> 20 | L80: =SUM(L81:L101) -> 2 | ... AS80: =SUM(AS81:AS101) -> 0
A81: 8.1 | B81: ²Ýã³÷³Ñ³ëÇÝ ÉñÇí ·áñÍáõÝ³Ï ×³Ý³ã»Éáõ /¿Ù³ÝëÇå³óÇ³/ í»ñ³µ»ñÛ³É
A82: 8.2 | B82: ø³Õ³ù³óáõÝ ³Ý·áñÍáõÝ³Ï Ï³Ù ë³ÑÙ³Ý³÷³Ï ·áñÍáõÝ³Ï ×³Ý³ã»Éáõ í»ñ³µ»ñÛ³É | E82: 4 | G82: 4 | J82: 6 | K82: 6 | O82: 3 | P82: 1 | R82: 1 | T82: 1 | V82: 1 | Y82: 3 | AA82: 2 | AB82: 7 | AC82: 2
A83: 8.3 | B83: ø³Õ³ù³óáõÝ Ñá·»µáõÅ³Ï³Ý ÑÇí³Ý¹³Ýáó³ÛÇÝ Ñ³ñÏ³¹Çñ µáõÅÙ³Ý »ÝÃ³ñÏ»Éáõ í»ñ³µ»ñÛ³É
A84: 8.4 | B84: ø³Õ³ù³óáõÝ ³ÝÑ³Ûï µ³ó³Ï³ÛáÕ Ï³Ù Ù³Ñ³ó³Í ×³Ý³ã»Éáõ í»ñ³µ»ñÛ³É | E84: 3 | G84: 3 | J84: 3 | K84: 3 | O84: 3 | P84: 2 | R84: 1 | Y84: 3 | AB84: 3
A85: 8.5 | B85: ø³Õ³ù³óÇ³Ï³Ý Ï³óáõÃÛ³Ý ³Ïï»ñÇ ·ñ³éáõÙÝ»ñÇ ³Ý×ßïáõÃÛáõÝÝ»ñÁ å³ñ½»Éáõ í»ñ³µ»ñÛ³É
A86: 8.6 | B86: ¶áõÛùÁ ïÇñ³½áõñÏ ×³Ý³ã»Éáõ í»ñ³µ»ñÛ³É
A87: 8.6.1 | B87: ²Û¹ ÃíáõÙª ³Ýß³ñÅ ·áõÛùÁ | E87: 1 | G87: 1 | AB87: 1
A88: 8.6.2 | B88: ²Û¹ ÃíáõÙª ß³ñÅ³Ï³Ý ·áõÛùÁ
A89: 8.7 | B89: Æñ³í³µ³Ý³Ï³Ý Ýß³Ý³ÏáõÃÛáõÝ áõÝ»óáÕ ÷³ëï»ñÇ Ñ³ëï³ïÙ³Ý í»ñ³µ»ñÛ³É
A90: 8.7.1 | B90: ²ÝÓ³Ýó ³½·³Ïó³Ï³Ý Ï³åÁ Ñ³ëï³ï»Éáõ í»ñ³µ»ñÛ³É | E90: 1 | G90: 1 | J90: 1 | M90: 1 | O90: 1 | P90: 1 | Y90: 1
A91: 8.7.2 | B91: ²ÝÓÇª áõñÇßÇ ËÝ³ÙùÇ ï³Ï ·ïÝí»Éáõ í»ñ³µ»ñÛ³É
A92: 8.7.3 | B92: ÌÝÝ¹Û³Ý, áñ¹»·ñÙ³Ý, ³ÙáõëÝáõÃÛ³Ý, ³å³Ñ³ñ½³ÝÇ ¨ Ù³Ñí³Ý ·ñ³ÝóÙ³Ý í»ñ³µ»ñÛ³É | E92: 1 | G92: 1 | J92: 1 | L92: 1 | O92: 1 | R92: 1 | Y92: 1
A93: 8.7.4 | B93: ²ÝÓÇª áñáß³ÏÇ Å³Ù³Ý³ÏáõÙ ¨ áñáß³ÏÇ Ñ³Ý·³Ù³ÝùÝ»ñáõÙ Ù³Ñí³Ý í»ñ³µ»ñÛ³É
A94: 8.7.5 | B94: Ä³é³Ý·áõÃÛáõÝÝ ÁÝ¹áõÝ»Éáõ ¨ Å³é³Ý·áõÃÛ³Ý µ³óÙ³Ý í³ÛñÇ í»ñ³µ»ñÛ³É | E94: 1 | G94: 1 | J94: 1 | K94: 1 | O94: 1 | R94: 1 | Y94: 1 | AB94: 1 | AD94: 1 | AF94: 1 | AH94: 1
A95: 8.7.6 | B95: ¸Åµ³Ëï å³ï³Ñ³ñÇ í»ñ³µ»ñÛ³É
A96: 8.7.7 | B96: Æñ³íáõÝù ë³ÑÙ³ÝáÕ ÷³ëï³ÃÕÃ»ñÇ å³ïÏ³Ý»ÉáõÃÛ³Ý í»ñ³µ»ñÛ³É | E96: 2 | G96: 2 | J96: 7 | K96: 6 | M96: 1 | O96: 4 | P96: 1 | R96: 1 | T96: 2 | V96: 1 | W96: 1 | Y96: 4 | AB96: 4
A97: 8.7.8 | B97: ê»÷³Ï³ÝáõÃÛ³Ý Çñ³íáõÝùáí ·áõÛùÇ ïÇñ³å»ïÙ³Ý í»ñ³µ»ñÛ³É | J97: 2 | K97: 2 | O97: 2 | T97: 2 | V97: 2 | Y97: 2
A98: 8.7.9 | B98: ²ÝÑ³ÕÃ³Ñ³ñ»ÉÇ áõÅÇ ³éÏ³ÛáõÃÛ³Ý í»ñ³µ»ñÛ³É
A99: 8.7.10 | B99: úñ»Ýùáí Ý³Ë³ï»ëí³Í ³ÛÉ Çñ³í³µ³Ý³Ï³Ý ÷³ëï»ñÇ í»ñ³µ»ñÛ³É | J99: 3 | K99: 2 | L99: 1 | O99: 1 | R99: 1 | Y99: 1 | AB99: 1
A100: 8.8 | B100: Àëï Ý»ñÏ³Û³óÝáÕÇ ¨ ûñ¹»ñ³ÛÇÝ Ïáñóñ³Í ³ñÅ»ÃÕÃ»ñáí Ñ³í³ëïí³Í Çñ³íáõÝùÝ»ñÁ í»ñ³Ï³Ý·Ý»Éáõ í»ñ³µ»ñÛ³É
...

Sheet Ն. Ավետիսյան
A1: 2017թ. | G1: Ð²ÞìºîìàôÂÚàôÜ | AM1: Ð³í»Éí³Í Ð³Û³ëï³ÝÇ Ð³Ýñ³å»ïáõÃÛ³Ý ¸³ï³ñ³ÝÝ»ñÇ Ý³Ë³·³ÑÝ»ñÇ ËáñÑñ¹Ç 29.01.2018Ã. ÃÇí 10-È áñáßÙ³Ý
A2: ºðºì²ÜÆ ²æ²öÜÚ²Î ºì ¸²ìÂ²ÞºÜ ì²ðâ²Î²Ü Þðæ²ÜÜºðÆ ÀÜ¸Ð²Üàôð Æð²ì²êàôÂÚ²Ü ²è²æÆÜ ²îÚ²ÜÆ ¸²î²ð²ÜÆ ¸²î²ìàð | Z2: Ü. ²ìºîÆêÚ²ÜÆ | AH2: ¶àðÌàôÜºàôÂÚ²Ü ìºð²´ºðÚ²È
A3: ø²Ô²ø²òÆ²Î²Ü ¶àðÌºðàì
A4: ºñ¨³ÝÇ ²ç³÷ÝÛ³Ï ¨ ¸³íÃ³ß»Ý í³ñã³Ï³Ý ßñç³ÝÝ»ñÇ ÁÝ¹Ñ³Ýáõñ Çñ³í³ëáõÃÛ³Ý ³é³çÇÝ ³ïÛ³ÝÇ ¹³ï³ñ³ÝÇ ù³Õ³ù³óÇ³Ï³Ý Ù³ëÝ³·Çï³óáõÙ áõÝ»óáÕ ¹³ï³íáñÝ»ñÇ Ñ³ëïÇùÝ»ñÇ ù³Ý³ÏÁ` 5
E5: Ð³ßí»ïáõ Å³Ù³Ý³Ï³Ñ³ïí³ÍáõÙ Ý³Ëáñ¹ Ñ³ßí»ïáõ Å³Ù³Ý³Ï³Ñ³ïí³ÍÇó ÷áË³Ýóí³Í ·áñÍ»ñÇ ÁÝ¹Ñ³Ýáõñ ÃÇíÁ | J5: Ð³ßí»ïáõ Å³Ù³Ý³Ï³Ñ³ïí³ÍáõÙëï³óí³Í ·áñÍ»ñÇ (³Û¹ ÃíáõÙ` Ñ³Ûó³¹ÇÙáõÙÝ»ñÇ, ¹ÇÙáõÙÝ»ñÇ) ÁÝ¹Ñ³Ýáõñ ÃÇíÁ | N5: öáË³Ýóí»É ¿ ³ÛÉ ¹³ï³íáñÇ (Ï³½ÙÇ ÷á÷áËáõÃÛáõÝ) | O5: Ð³ßí»ïáõ Å³Ù³Ý³Ï³Ñ³ïí³ÍáõÙ ³í³ñïí³Í ·áñÍ»ñÇ ÁÝ¹Ñ³Ýáõñ ÃÇíÁ | Z5: ¶áñÍÝ áõÕ³ñÏí»É ¿ Áëï ÁÝ¹¹³ïáõÃÛ³Ý | AA5: Ð³ßí»ïáõ Å³Ù³Ý³Ï³Ñ³ïí³ÍáõÙ Ï³ë»óí³Í í³ñáõÛÃÝ»ñáí ·áñÍ»ñÇ ÁÝ¹Ñ³Ýáõñ ÃÇíÁ | AB5: Ð³ßí»ïáõ Å³Ù³Ý³Ï³Ñ³ïí³ÍáõÙ ³Ý³í³ñï ·áñÍ»ñÇ ÁÝ¹Ñ³Ýáõñ ÃÇíÁ | AC5: ²Û¹ ÃíáõÙª Ï³ë»óí³Í | AD5: ´áÕáù³ñÏí³Í ¹³ï³Ï³Ý ³Ïï»ñÁ | AI5: ²í³ñïí³Í ¹³ï³Ï³Ý ·áñÍ»ñÇ µáÕáù³ñÏÙ³Ý ïáÏáëÁ (Ñ³ßí»ïáõ Å³Ù³Ý³Ï³ßñç³ÝáõÙ) | AJ5: ²Ý³í³ñï µáÕáùÝ»ñ | AK5: ´»Ï³Ýí³Í ¹³ï³Ï³Ý ³Ïï»ñÁ | AP5: µ»Ï³ÝáõÙÝ»ñÇ ïáÏáëÁ ³í³ñïí³Í ·áñÍ»ñÇó(Ñ³ßí»ïáõ Å³Ù³Ý³Ï³ßñç³ÝáõÙ) | AQ5: Î³ÛáõÝáõÃÛ³Ý ïáÏáëÁ ³í³ñïí³Í ·áñÍ»ñÇó(Ñ³ßí»ïáõ Å³Ù³Ý³Ï³ßñç³ÝáõÙ) | AR5: µ»Ï³ÝáõÙÝ»ñÇ ïáÏáëÁ µáÕáù³ñÏí³Í ·áñÍ»ñÇó(Ñ³ßí»ïáõ Å³Ù³Ý³Ï³ßñç³ÝáõÙ) | AS5: Ï³ÛáõÝáõÃÛ³Ý ïáÏáëÁ(Ñ³ßí»ïáõ Å³Ù³Ý³Ï³ßñç³ÝáõÙ)
E6: ÀÝ¹³Ù»ÝÁ | F6: ²Û¹ ÃíáõÙ`Ï³ë»óí³Í íÇ×³ÏáõÙ ÷áË³Ýóí³Í | G6: ²Û¹ ÃíáõÙª ÁÝ¹áõÝí»É ¿ í³ñáõÛÃ | H6: ²Û¹ ÃíáõÙª í»ñ³¹³ñÓí»É ¿ | I6: ²Û¹ ÃíáõÙª ÁÝ¹áõÝáõÙÁ Ù»ñÅí»É ¿ | J6: ÀÝ¹³Ù»ÝÁ | K6: ²Û¹ ÃíáõÙª ÁÝ¹áõÝí»É ¿ í³ñáõÛÃ | L6: ²Û¹ ÃíáõÙª í»ñ³¹³ñÓí»É ¿ | M6: ²Û¹ ÃíáõÙª ÁÝ¹áõÝáõÙÁ Ù»ñÅí»É ¿ | O6: ÀÝ¹³Ù»ÝÁ ³í³ñïí»É »Ý ·áñÍ»ñ ·áñÍÝ Áëï ¿áõÃÛ³Ý ÉáõÍáÕ ¹³ï³Ï³Ý ³Ïï»ñÇ (í×ÇéÝ»ñÇ) Ï³Û³óÙ³Ùµ | P6: ²Û¹ ÃíáõÙª Ñ³ÛóÇ µ³í³ñ³ñÙ³Ùµ | Q6: ²Û¹ ÃíáõÙª Ñ³ÛóÇ Ù³ëÝ³ÏÇ µ³í³ñ³ñÙ³Ùµ | R6: ²Û¹ ÃíáõÙª Ñ³ÛóÇ Ù»ñÅÙ³Ùµ | S6: Ø³ëáí Ï³ñ×í»É ¿, Ù³ëáí Ù»ñÅí»É | T6: ²Û¹ ÃíáõÙª Ï³ñ×í»É »Ý | X6: Ð³ÛóÁ ÃáÕÝí»É ¿ ³é³Ýó ùÝÝáõÃÛ³Ý | Y6: ÀÝ¹³Ù»ÝÝ ³í³ñïí»É »Ý ·áñÍ»ñ | AD6: ²Û¹ ÃíáõÙ` ·áñÍÝ Áëï ¿áõÃÛ³Ý ÉáõÍáÕ ¹³ï³Ï³Ý ³Ïï»ñÁ | AE6: ²Û¹ ÃíáõÙ` ÙÇç³ÝÏÛ³É ¹³ï³Ï³Ý ³Ïï»ñÁ | AF6: ÀÝ¹³Ù»ÝÁ | AG6: Ü³Ëáñ¹ ï³ñÇÝ»ñÇÝ Ï³Û³óí³Í ³Ïï»ñÇ µáÕáù³ñÏáõÙÁ Ñ³ßí»ïáõ Å³Ù³Ý³Ï³ßñç³ÝáõÙ | AH6: Ð³ßí»ïáõ Å³Ù³Ý³Ï³ßñç³ÝáõÙ Ï³Û³óí³Í ³Ïï»ñÇ µáÕáù³ñÏáõÙÁ | AK6: ²Û¹ ÃíáõÙ` ·áñÍÝ Áëï ¿áõÃÛ³Ý ÉáõÍáÕ ¹³ï³Ï³Ý ³Ïï»ñÁ | AL6: ²Û¹ ÃíáõÙ` ÙÇç³ÝÏÛ³É ¹³ï³Ï³Ý ³Ïï»ñÁ | AM6: ÀÝ¹³Ù»ÝÁ | AN6: Ü³Ëáñ¹ ï³ñÇÝ»ñÇÝ Ï³Û³óí³Í ³Ïï»ñÇ µ»Ï³ÝáõÙÝ»ñÁ Ñ³ßí»ïáõ Å³Ù³Ý³Ï³ßñç³ÝáõÙ | AO6: Ð³ßí»ïáõ Å³Ù³Ý³Ï³ßñç³ÝáõÙ Ï³Û³óí³Í ³Ïï»ñÇ µ»Ï³ÝáõÙÁ
T7: ÀÝ¹³Ù»ÝÁ Ï³ñ×í»É »Ý | U7: ²Û¹ ÃíáõÙª Ñ³ëï³ïí»É ¿ ÏÝùí³Í Ñ³ßïáõÃÛ³Ý Ñ³Ù³Ó³ÛÝáõÃÛáõÝÁ | V7: ²Û¹ ÃíáõÙª Ñ³óÇó, ¹ÇÙáõÙÇó Ññ³Å³ñí»Éáõ ÑÇÙùáí | W7: ²Û¹ ÃíáõÙª ³ÛÉ ÑÇÙùáí
E8: 1 | F8: 2 | G8: 3 | H8: 4 | I8: 5 | J8: 6 | K8: 7 | L8: 8 | M8: 9 | N8: 10 | O8: 11 | P8: 12 | Q8: 13 | R8: 14 | S8: 15 | T8: 16 | U8: 17 | V8: 18 | W8: 19 | X8: 20 | Y8: 21 | Z8: 22 | AA8: 23 | AB8: 24 | AC8: 25 | AD8: 26 | AE8: 27 | AF8: 28 | AG8: 29 | AH8: 30 | AI8: 31 | AJ8: 32 | AK8: 33 | AL8: 34 | AM8: 35 | AN8: 36 | AO8: 37 | AP8: 38 | AQ8: 39 | AR8: 40 | AS8: 41
A9: 1. | B9: ¶áõÛù³ÛÇÝ Çñ³í³Ñ³ñ³µ»ñáõÃÛáõÝÝ»ñÇ í»ñ³µ»ñÛ³É ¹³ï³Ï³Ý ·áñÍ»ñ | E9: =SUM(E10:E28) -> 32 | F9: =SUM(F10:F28) -> 4 | G9: =SUM(G10:G28) -> 28 | H9: =SUM(H10:H28) -> 0 | I9: =SUM(I10:I28) -> 0 | J9: =SUM(J10:J28) -> 42 | K9: =SUM(K10:K28) -> 37 | L9: =SUM(L10:L28) -> 5 | ... AS9: =SUM(AS10:AS28) -> 0
A10: 1.1 | B10: ¶áõÛùÇ ÝÏ³ïÙ³Ùµ ë»÷³Ï³ÝáõÃÛ³Ý Çñ³íáõÝùÁ ×³Ý³ã»Éáõ í»ñ³µ»ñÛ³É | E10: 5 | G10: 5 | J10: 3 | K10: 3 | O10: 4 | P10: 3 | T10: 1 | V10: 1 | Y10: 4 | AB10: 4 | AD10: 3 | AF10: 3 | AH10: 3 | AJ10: 1 | AK10: 1 | AM10: 1 | AO10: 1
A11: 1.1.1 | B11: ²Û¹ ÃíáõÙª Ó»éùµ»ñÙ³Ý í³Õ»ÙáõÃÛ³Ý áõÅáí | E11: 4 | F11: 1 | G11: 3 | O11: 2 | P11: 1 | R11: 1 | Y11: 2 | AB11: 2 | AD11: 1 | AF11: 1 | AH11: 1 | AJ11: 1
A12: 1.1.2 | B12: ²Û¹ ÃíáõÙª ïÇñ³½áõñÏ ·áõÛùÇ ÝÏ³ïÙ³Ùµ
A13: 1.1.3 | B13: ²Û¹ ÃíáõÙª ÇÝùÝ³Ï³Ù Ï³éáõÛóÇ ÝÏ³ïÙ³Ùµ
A14: 1.2 | B14: ê»÷³Ï³ÝáõÃÛ³Ý Çñ³íáõÝùÇ ¹³¹³ñ»óÙ³Ý í»ñ³µ»ñÛ³É | J14: 1 | K14: 1 | AB14: 1
A15: 1.3 | B15: ¶áõÛùÇ ÝÏ³ïÙ³Ùµ û·ï³·áñÍÙ³Ý Çñ³íáõÝùÁ ×³Ý³ã»Éáõ í»ñ³µ»ñÛ³É
A16: 1.3.1 | B16: ²Û¹ ÃíáõÙª µÝ³Ïû·ï³·áñÍÙ³Ý Çñ³íáõÝùÁ ×³Ý³ã»Éáõ í»ñ³µ»ñÛ³É
A17: 1.3.2 | B17: ²Û¹ ÃíáõÙª ÑáÕ³Ù³ëÇ ÝÏ³ïÙ³Ùµ û·ï³·áñÍÙ³Ý Çñ³íáõÝùÁ ×³Ý³ã»Éáõ í»ñ³µ»ñÛ³É
A18: 1.4 | B18: ¶áõÛùÇ ÝÏ³ïÙ³Ùµ û·ï³·áñÍÙ³Ý Çñ³íáõÝùÁ ¹³¹³ñ»óÝ»Éáõ í»ñ³µ»ñÛ³É
A19: 1.4.1 | B19: ²Û¹ ÃíáõÙª µÝ³Ïû·ï³·áñÍÙ³Ý Çñ³íáõÝùÁ ¹³¹³ñ»óÝ»Éáõ í»ñ³µ»ñÛ³É
A20: 1.4.1/1 | B20: ²Û¹ ÃíáõÙª ÷áËÑ³ïáõóÙ³Ùµ
A21: 1.5 | B21: ´Ý³Ï³ñ³ÝÇó/ ï³ñ³ÍùÇó/ íï³ñ»Éáõ í»ñ³µ»ñÛ³É | E21: 7 | F21: 1 | G21: 6 | J21: 4 | K21: 3 | L21: 1 | O21: 5 | P21: 1 | Q21: 1 | R21: 1 | T21: 2 | U21: 1 | V21: 1 | Y21: 5 | AA21: 1 | AB21: 5 | AC21: 2 | AD21: 1 | AF21: 1 | AH21: 1 | AJ21: 1
A22: 1.6 | B22: ¶áõÛùÝ áõñÇßÇ ³åûñÇÝÇ ïÇñ³å»ïáõÙÇó »ï í»ñ³¹³ñÓÝ»Éáõ í»ñ³µ»ñÛ³É | E22: 2 | G22: 2 | J22: 4 | K22: 3 | L22: 1 | O22: 1 | R22: 1 | Y22: 1 | AB22: 4 | AD22: 1 | AF22: 1 | AH22: 1 | AJ22: 1
A23: 1.6.1 | B23: ´³ñ»ËÇÕ× Ó»éùµ»ñáÕÇó Çñ ·áõÛùÁ Ñ»ï å³Ñ³Ýç»Éáõ í»ñ³µ»ñÛ³É
A24: 1.7 | B24: îÇñ³å»ïáõÙÇó ½ñÏ»Éáõ Ñ»ï ãÏ³åí³Í Çñ³íáõÝùÝ»ñÇ Ë³ËïáõÙÁ í»ñ³óÝ»Éáõ í»ñ³µ»ñÛ³É
A25: 1.8 | B25: ÀÝ¹Ñ³Ýáõñ µ³ÅÝ³ÛÇÝ ë»÷³Ï³ÝáõÃÛáõÝÇó µ³ÅÇÝÝ ³é³ÝÓÝ³óÝ»Éáõ í»ñ³µ»ñÛ³É | E25: 2 | G25: 2 | J25: 5 | K25: 4 | L25: 1 | O25: 2 | R25: 1 | T25: 1 | U25: 1 | Y25: 2 | AA25: 1 | AB25: 4 | AC25: 1
A26: 1.8.1 | B26: Ð³Ù³ï»Õ ë»÷³Ï³ÝáõÃÛ³Ý Ý»ñùá ·ïÝíáÕ ·áõÛùÁ µ³Å³Ý»Éáõ ¨ ¹ñ³ÝÇó µ³ÅÇÝÝ ³é³ÝÓÝ³óÝ»Éáõ í»ñ³µ»ñÛ³É | E26: 7 | F26: 2 | G26: 5 | J26: 11 | K26: 10 | L26: 1 | O26: 5 | P26: 1 | R26: 1 | T26: 3 | U26: 1 | V26: 2 | Y26: 5 | AA26: 3 | AB26: 12 | AC26: 3
A27: 1.8.3 | B27: ¶áõÛùÇ íñ³ µéÝ³·³ÝÓáõÙ ï³ñ³Í»Éáõ å³Ñ³ÝçÇ Ù³ëÇÝ | E27: 2 | G27: 2 | J27: 3 | K27: 3 | O27: 3 | P27: 1 | Q27: 1 | R27: 1 | Y27: 3 | AB27: 2 | AD27: 4 | AF27: 4 | AG27: 1 | AH27: 3 | AK27: 1 | AM27: 1 | AO27: 1
A28: 1.9 | B28: ²ÛÉ í»×»ñ | E28: 3 | G28: 3 | J28: 11 | K28: 10 | L28: 1 | O28: 5 | P28: 1 | R28: 3 | T28: 1 | V28: 1 | Y28: 5 | AA28: 3 | AB28: 8 | AC28: 3 | AD28: 2 | AF28: 2 | AH28: 2
A29: 2. | B29: ¶áñÍ³ñùÝ»ñÇ Ñ»ï Ï³åí³Í Çñ³í³Ñ³ñ³µ»ñáõÃÛáõÝÝ»ñÇ í»ñ³µ»ñÛ³É ¹³ï³Ï³Ý ·áñÍ»ñ | E29: =SUM(E30:E40) -> 7 | F29: =SUM(F30:F40) -> 1 | G29: =SUM(G30:G40) -> 6 | H29: =SUM(H30:H40) -> 0 | I29: =SUM(I30:I40) -> 0 | J29: =SUM(J30:J40) -> 10 | K29: =SUM(K30:K40) -> 4 | L29: =SUM(L30:L40) -> 6 | ... AS29: =SUM(AS30:AS40) -> 0
A30: 2.1 | B30: ·áñÍ³ñùÝ»ñÇ ³Ýí³í»ñáõÃÛ³Ý Ñ»ï Ï³åí³Í í»×»ñ | E30: 2 | G30: 2 | J30: 4 | K30: 3 | L30: 1 | O30: 1 | R30: 1 | Y30: 1 | AA30: 1 | AB30: 4 | AC30: 1
A31: 2.1.1 | B31: ³Û¹ ÃíáõÙ` íÇ×³Ñ³ñáõÛó ·áñÍ³ñùÝ»ñÝ ³Ýí³í»ñ ×³Ý³ã»Éáõ í»ñ³µ»ñÛ³É
A32: 2.1.2 | B32: ³Û¹ ÃíáõÙ` ·áñÍ³ñùÇ ³éáãÝãáõÃÛ³Ý Ñ»ï¨³ÝùÝ»ñ ÏÇñ³é»Éáõ í»ñ³µ»ñÛ³É
A33: 2.2 | B33: ¶áñÍ³ñùÁ í³í»ñ ×³Ý³ã»Éáõ í»ñ³µ»ñÛ³É
A34: 2.3 | B34: ¶áñÍ³ñùÇó Í³·áÕ Çñ³íáõÝùÝ»ñÁ ·ñ³Ýó»Éáõ í»ñ³µ»ñÛ³É
A35: 2.4 | B35: ä³ÛÙ³Ý³·ÇñÝ ³Ýí³í»ñ ×³Ý³ã»Éáõ í»ñ³µ»ñÛ³É | E35: 3 | G35: 3 | J35: 1 | L35: 1 | O35: 2 | Q35: 1 | S35: 1 | Y35: 2 | AB35: 1 | AD35: 2 | AF35: 2 | AG35: 1 | AH35: 1
A36: 2.5 | B36: ä³ÛÙ³Ý³·ñÇÁ í³í»ñ ×³Ý³ã»Éáõ í»ñ³µ»ñÛ³É
A37: 2.6 | B37: ä³ÛÙ³Ý³·ñÇó Í³·áÕ Çñ³íáõÝùÝ»ñÁ ·ñ³Ýó»Éáõ í»ñ³µ»ñÛ³É
A38: 2.7 | B38: ä³ÛÙ³Ý³·ÇñÁ ÷á÷áË»Éáõ ¨ ÉáõÍ»Éáõ í»ñ³µ»ñÛ³É | E38: 1 | G38: 1 | J38: 2 | L38: 2 | O38: 1 | R38: 1 | Y38: 1 | AD38: 1 | AF38: 1 | AH38: 1
A39: 2.8 | B39: ä³ÛÙ³Ý³·Çñ ÏÝù»ÉáõÝ å³ñï³íáñ»óÝ»Éáõ í»ñ³µ»ñÛ³É | J39: 1 | K39: 1 | AB39: 1 | AE39: 1 | AF39: 1 | AH39: 1
A40: 2.9 | B40: ²ÛÉ í»×»ñ | E40: 1 | F40: 1 | G40: 0 | J40: 2 | L40: 2 | AB40: 1
A41: 3. | B41: Ä³é³Ý·áõÃÛ³Ý Ñ»ï Ï³åí³Í Çñ³í³Ñ³ñ³µ»ñáõÃÛáõÝÝ»ñÇ í»ñ³µ»ñÛ³É ¹³ï³Ï³Ý ·áñÍ»ñ | E41: =SUM(E42:E48) -> 1 | F41: =SUM(F42:F48) -> 0 | G41: =SUM(G42:G48) -> 1 | H41: =SUM(H42:H48) -> 0 | I41: =SUM(I42:I48) -> 0 | J41: =SUM(J42:J48) -> 1 | K41: =SUM(K42:K48) -> 1 | L41: =SUM(L42:L48) -> 0 | ... AS41: =SUM(AS42:AS48) -> 0
A42: 3.1 | B42: Îï³ÏÝ ³Ýí³í»ñ ×³Ý³ã»Éáõ í»ñ³µ»ñÛ³É
A43: 3.2 | B43: ²Ý³ñÅ³Ý Å³é³Ý· ×³Ý³ã»Éáõ í»ñ³µ»ñÛ³É
A44: 3.3 | B44: Ä³é³Ý·áõÃÛáõÝÁ µ³Å³Ý»Éáõ í»ñ³µ»ñÛ³É
A45: 3.4 | B45: ¶áõÛùÝ ³ÝÅ³é³Ý· ×³Ý³ã»Éáõ í»ñ³µ»ñÛ³É
A46: 3.5 | B46: Àëï ûñ»ÝùÇ Å³é³Ý·áõÃÛ³Ý Çñ³íáõÝùÇ íÏ³Û³·ÇñÝ ³Ýí³í»ñ ×³Ý³ã»Éáõ í»ñ³µ»ñÛ³É
A47: 3.6 | B47: Ä³é³Ý·áõÃÛáõÝÝ ÁÝ¹áõÝ»Éáõ µ³ó ÃáÕÝí³Í Å³ÙÏ»ïÁ Ñ³ñ·»ÉÇ Ñ³Ù³ñ»Éáõ í»ñ³µ»ñÛ³É
A48: 3.7 | B48: ²ÛÉ í»×»ñ | E48: 1 | G48: 1 | J48: 1 | K48: 1 | O48: 1 | T48: 1 | U48: 1 | Y48: 1 | AB48: 1
A49: 4 | B49: ÀÝï³Ý»Ï³Ý Çñ³í³Ñ³ñ³µ»ñáõÃÛáõÝÝ»ñÇ í»ñ³µ»ñÛ³É ¹³ï³Ï³Ý ·áñÍ»ñ | E49: =SUM(E50:E62) -> 31 | F49: =SUM(F50:F62) -> 1 | G49: =SUM(G50:G62) -> 30 | H49: =SUM(H50:H62) -> 0 | I49: =SUM(I50:I62) -> 0 | J49: =SUM(J50:J62) -> 41 | K49: =SUM(K50:K62) -> 35 | L49: =SUM(L50:L62) -> 6 | ... AS49: =SUM(AS50:AS62) -> 0
A50: 4.1 | B50: ²ÙáõëÝ³ÉáõÍáõÃÛ³Ý í»ñ³µ»ñÛ³É | E50: 23 | F50: 1 | G50: 22 | J50: 28 | K50: 23 | L50: 5 | O50: 36 | P50: 23 | Q50: 8 | T50: 5 | U50: 1 | V50: 4 | Y50: 36 | Z50: 2 | AB50: 8 | AD50: 3 | AF50: 3 | AH50: 3
A51: 4.2 | B51: ²ÉÇÙ»ÝïÇ å³Ñ³ÝçÇ í»ñ³µ»ñÛ³É | E51: 1 | G51: 1 | J51: 3 | K51: 3 | O51: 2 | Q51: 1 | T51: 1 | V51: 1 | Y51: 2 | AB51: 2 | AD51: 1 | AF51: 1 | AG51: 1 | AK51: 1 | AM51: 1 | AN51: 1
A52: 4.3 | B52: ²ÉÇÙ»ÝïÇ ã³÷Á ÷á÷áË»Éáõ í»ñ³µ»ñÛ³É | E52: 3 | G52: 3 | J52: 5 | K52: 4 | L52: 1 | O52: 4 | P52: 1 | Q52: 2 | R52: 1 | Y52: 4 | Z52: 1 | AB52: 2 | AD52: 1 | AE52: 1 | AF52: 2 | AH52: 2
A53: 4.4 | B53: ÌÝáÕ³Ï³Ý Çñ³íáõÝùÝ»ñÇó ½ñÏ»Éáõ í»ñ³µ»ñÛ³É
A54: 4.5 | B54: ÌÝáÕ³Ï³Ý Çñ³íáõÝùÝ»ñÁ í»ñ³Ï³Ý·Ý»Éáõ í»ñ³µ»ñÛ³É
A55: 4.6 | B55: ºñ»Ë³ÛÇ áñ¹»·ñÙ³Ý í»ñ³µ»ñÛ³É
A56: 4.7 | B56: ºñ»Ë³ÛÇ áñ¹»·ñáõÙÁ í»ñ³óÝ»Éáõ í»ñ³µ»ñÛ³É
A57: 4.8 | B57: Ð³ÛñáõÃÛáõÝÁ ×³Ý³ã»Éáõ í»ñ³µ»ñÛ³É | E57: 2 | G57: 2 | J57: 2 | K57: 2 | O57: 2 | R57: 1 | T57: 1 | V57: 1 | Y57: 2 | AA57: 1 | AB57: 2 | AC57: 1
A58: 4.9 | B58: ºñ»Ë³ÛÇ µÝ³ÏáõÃÛ³Ý í³ÛñÁ áñáß»Éáõ í»ñ³µ»ñÛ³É | E58: 2 | G58: 2 | J58: 1 | K58: 1 | O58: 1 | T58: 1 | U58: 1 | Y58: 1 | AB58: 2
A59: 4.10 | B59: ºñ»Ë³ÛÇ Ñ»ï ï»ë³ÏóáõÃÛ³Ý Ï³ñ· ë³ÑÙ³Ý»Éáõ í»ñ³µ»ñÛ³É | J59: 1 | K59: 1 | O59: 1 | T59: 1 | V59: 1 | Y59: 1
A60: 4.11 | B60: ²ÙáõëÇÝÝ»ñÇ ÁÝ¹Ñ³Ýáõñ ·áõÛùÁ µ³Å³Ý»Éáõ í»ñ³µ»ñÛ³É | J60: 1 | K60: 1 | O60: 1 | T60: 1 | U60: 1 | Y60: 1
A61: 4.12 | B61: ²ÙáõëÝ³Ï³Ý å³ÛÙ³Ý³·ñÇ ÷á÷áËÙ³Ý Ï³Ù ÉáõÍÙ³Ý í»ñ³µ»ñÛ³É
A62: 4.13 | B62: ²ÛÉ í»×»ñ
A63: 5. | B63: Øï³íáñ ë»÷³Ï³ÝáõÃÛ³Ý Ñ»ï Ï³åí³ÍÇñ³í³Ñ³ñ³µ»ñáõÃÛáõÝÝ»ñÇ í»ñ³µ»ñÛ³É ¹³ï³Ï³Ý ·áñÍ»ñ | E63: =SUM(E64:E69) -> 0 | F63: =SUM(F64:F69) -> 0 | G63: =SUM(G64:G69) -> 0 | H63: =SUM(H64:H69) -> 0 | I63: =SUM(I64:I69) -> 0 | J63: =SUM(J64:J69) -> 0 | K63: =SUM(K64:K69) -> 0 | L63: =SUM(L64:L69) -> 0 | ... AS63: =SUM(AS64:AS69) -> 0
A64: 5.1 | B64: ÈÇó»Ý½³ÛÇÝ å³ÛÙ³Ý³·ñÇ ÉáõÍÙ³Ý, ÷á÷áËÙ³Ý ¨ ³Ýí³í»ñáõÃÛ³Ý í»ñ³µ»ñÛ³É
A65: 5.2 | B65: Øï³íáñ ·áñÍáõÝ»áõÃÛ³Ý ³ñ¹ÛáõÝùÝ»ñ ëï»ÕÍ»Éáõ ¨ û·ï³·áñÍ»Éáõ å³ÛÙ³Ý³·ñÇ ÉáõÍÙ³Ý, ÷á÷áËÙ³Ý áõ ³Ýí³í»ñáõÃÛ³Ý í»ñ³µ»ñÛ³É
A66: 5.3 | B66: Ð»ÕÇÝ³Ï³ÛÇÝ ¨ Ñ³ñ³ÏÇó Çñ³íáõÝùÝ»ñÇ í»ñ³µ»ñÛ³É
A67: 5.4 | B67: üÇñÙ³ÛÇÝ ³Ýí³ÝÙ³Ý í»ñ³µ»ñÛ³É
A68: 5.5 | B68: ²åñ³Ýù³ÛÇÝ Ýß³ÝÇ í»ñ³µ»ñÛ³É
A69: 5.6 | B69: ²ÛÉ í»×»ñ
A70: 6. | B70: ²ßË³ï³Ýù³ÛÇÝ Çñ³í³Ñ³ñ³µ»ñáõÃÛáõÝÝ»ñÇ í»ñ³µ»ñÛ³É ¹³ï³Ï³Ý ·áñÍ»ñ | E70: =SUM(E71:E76) -> 1 | F70: =SUM(F71:F76) -> 0 | G70: =SUM(G71:G76) -> 1 | H70: =SUM(H71:H76) -> 0 | I70: =SUM(I71:I76) -> 0 | J70: =SUM(J71:J76) -> 3 | K70: =SUM(K71:K76) -> 3 | L70: =SUM(L71:L76) -> 0 | ... AS70: =SUM(AS71:AS76) -> 0
A71: 6.1 | B71: ²ßË³ï³Ýù³ÛÇÝ å³ÛÙ³Ý³·ñ»ñÇ í»ñ³µ»ñÛ³É
A72: 6.2 | B72: ²ßË³ï³ÝùáõÙ í»ñ³Ï³Ý·Ý»Éáõ í»ñ³µ»ñÛ³É | J72: 2 | K72: 2 | AB72: 2
A73: 6.3 | B73: ¶áñÍ³¹áõÉÝ ³ÝûñÇÝ³Ï³Ý ×³Ý³ã»Éáõ í»ñ³µ»ñÛ³É
A74: 6.4 | B74: Ð³ñÏ³¹Çñ å³ñ³åáõñ¹Ç Ñ³ïáõóÙ³Ý í»ñ³µ»ñÛ³É
A75: 6.5 | B75: âí×³ñí³Í ³ßË³ï³í³ñÓÇ ¨/Ï³Ù ³ÛÉ í×³ñÝ»ñÇ µéÝ³·³ÝÓÙ³Ý í»ñ³µ»ñÛ³É | E75: 1 | G75: 1 | J75: 1 | K75: 1 | O75: 1 | Q75: 1 | Y75: 1 | Z75: 1
A76: 6.6 | B76: ²ÛÉ í»×»ñ
A77: 7. | B77: Æñ³í³µ³Ý³Ï³Ý ³ÝÓÇ ·áñÍáõÝ»áõÃÛáõÝÇó µËáÕ Çñ³í³Ñ³ñ³µ»ñáõÃÛáõÝÝ»ñÇ í»ñ³µ»ñÛ³É ¹³ï³Ï³Ý ·áñÍ»ñ | E77: =SUM(E78:E79) -> 0 | F77: =SUM(F78:F79) -> 0 | G77: =SUM(G78:G79) -> 0 | H77: =SUM(H78:H79) -> 0 | I77: =SUM(I78:I79) -> 0 | J77: =SUM(J78:J79) -> 0 | K77: =SUM(K78:K79) -> 0 | L77: =SUM(L78:L79) -> 0 | ... AS77: =SUM(AS78:AS79) -> 0
A78: 7.1 | B78: Îáñåáñ³ïÇí í»×»ñ
A79: 7.2 | B79: ²ÛÉ í»×»ñ
A80: 8. | B80: Ð³ïáõÏ í³ñáõÛÃÇ ¹³ï³Ï³Ý ·áñÍ»ñ | E80: =SUM(E81:E101) -> 6 | F80: =SUM(F81:F101) -> 0 | G80: =SUM(G81:G101) -> 6 | H80: =SUM(H81:H101) -> 0 | I80: =SUM(I81:I101) -> 0 | J80: =SUM(J81:J101) -> 21 | K80: =SUM(K81:K101) -> 18 | L80: =SUM(L81:L101) -> 2 | ... AS80: =SUM(AS81:AS101) -> 0
A81: 8.1 | B81: ²Ýã³÷³Ñ³ëÇÝ ÉñÇí ·áñÍáõÝ³Ï ×³Ý³ã»Éáõ /¿Ù³ÝëÇå³óÇ³/ í»ñ³µ»ñÛ³É
A82: 8.2 | B82: ø³Õ³ù³óáõÝ ³Ý·áñÍáõÝ³Ï Ï³Ù ë³ÑÙ³Ý³÷³Ï ·áñÍáõÝ³Ï ×³Ý³ã»Éáõ í»ñ³µ»ñÛ³É | E82: 3 | G82: 3 | J82: 3 | K82: 2 | L82: 1 | O82: 5 | P82: 3 | R82: 1 | T82: 1 | V82: 1 | Y82: 5
A83: 8.3 | B83: ø³Õ³ù³óáõÝ Ñá·»µáõÅ³Ï³Ý ÑÇí³Ý¹³Ýáó³ÛÇÝ Ñ³ñÏ³¹Çñ µáõÅÙ³Ý »ÝÃ³ñÏ»Éáõ í»ñ³µ»ñÛ³É
A84: 8.4 | B84: ø³Õ³ù³óáõÝ ³ÝÑ³Ûï µ³ó³Ï³ÛáÕ Ï³Ù Ù³Ñ³ó³Í ×³Ý³ã»Éáõ í»ñ³µ»ñÛ³É | J84: 1 | K84: 1 | O84: 1 | P84: 1 | Y84: 1
A85: 8.5 | B85: ø³Õ³ù³óÇ³Ï³Ý Ï³óáõÃÛ³Ý ³Ïï»ñÇ ·ñ³éáõÙÝ»ñÇ ³Ý×ßïáõÃÛáõÝÝ»ñÁ å³ñ½»Éáõ í»ñ³µ»ñÛ³É
A86: 8.6 | B86: ¶áõÛùÁ ïÇñ³½áõñÏ ×³Ý³ã»Éáõ í»ñ³µ»ñÛ³É
A87: 8.6.1 | B87: ²Û¹ ÃíáõÙª ³Ýß³ñÅ ·áõÛùÁ
A88: 8.6.2 | B88: ²Û¹ ÃíáõÙª ß³ñÅ³Ï³Ý ·áõÛùÁ
A89: 8.7 | B89: Æñ³í³µ³Ý³Ï³Ý Ýß³Ý³ÏáõÃÛáõÝ áõÝ»óáÕ ÷³ëï»ñÇ Ñ³ëï³ïÙ³Ý í»ñ³µ»ñÛ³É
A90: 8.7.1 | B90: ²ÝÓ³Ýó ³½·³Ïó³Ï³Ý Ï³åÁ Ñ³ëï³ï»Éáõ í»ñ³µ»ñÛ³É | E90: 1 | G90: 1 | J90: 6 | K90: 6 | O90: 7 | P90: 5 | Q90: 2 | Y90: 7
A91: 8.7.2 | B91: ²ÝÓÇª áõñÇßÇ ËÝ³ÙùÇ ï³Ï ·ïÝí»Éáõ í»ñ³µ»ñÛ³É
A92: 8.7.3 | B92: ÌÝÝ¹Û³Ý, áñ¹»·ñÙ³Ý, ³ÙáõëÝáõÃÛ³Ý, ³å³Ñ³ñ½³ÝÇ ¨ Ù³Ñí³Ý ·ñ³ÝóÙ³Ý í»ñ³µ»ñÛ³É
A93: 8.7.4 | B93: ²ÝÓÇª áñáß³ÏÇ Å³Ù³Ý³ÏáõÙ ¨ áñáß³ÏÇ Ñ³Ý·³Ù³ÝùÝ»ñáõÙ Ù³Ñí³Ý í»ñ³µ»ñÛ³É
A94: 8.7.5 | B94: Ä³é³Ý·áõÃÛáõÝÝ ÁÝ¹áõÝ»Éáõ ¨ Å³é³Ý·áõÃÛ³Ý µ³óÙ³Ý í³ÛñÇ í»ñ³µ»ñÛ³É | E94: 1 | G94: 1 | O94: 1 | P94: 1 | Y94: 1
A95: 8.7.6 | B95: ¸Åµ³Ëï å³ï³Ñ³ñÇ í»ñ³µ»ñÛ³É
A96: 8.7.7 | B96: Æñ³íáõÝù ë³ÑÙ³ÝáÕ ÷³ëï³ÃÕÃ»ñÇ å³ïÏ³Ý»ÉáõÃÛ³Ý í»ñ³µ»ñÛ³É | E96: 1 | G96: 1 | J96: 8 | K96: 7 | L96: 1 | O96: 7 | P96: 4 | Q96: 2 | T96: 1 | V96: 1 | Y96: 7 | AB96: 1
A97: 8.7.8 | B97: ê»÷³Ï³ÝáõÃÛ³Ý Çñ³íáõÝùáí ·áõÛùÇ ïÇñ³å»ïÙ³Ý í»ñ³µ»ñÛ³É
A98: 8.7.9 | B98: ²ÝÑ³ÕÃ³Ñ³ñ»ÉÇ áõÅÇ ³éÏ³ÛáõÃÛ³Ý í»ñ³µ»ñÛ³É
A99: 8.7.10 | B99: úñ»Ýùáí Ý³Ë³ï»ëí³Í ³ÛÉ Çñ³í³µ³Ý³Ï³Ý ÷³ëï»ñÇ í»ñ³µ»ñÛ³É | J99: 2 | K99: 1 | M99: 1 | O99: 1 | Q99: 1 | Y99: 1 | AE99: 1 | AF99: 1 | AH99: 1 | AL99: 1 | AM99: 1 | AO99: 1
A100: 8.8 | B100: Àëï Ý»ñÏ³Û³óÝáÕÇ ¨ ûñ¹»ñ³ÛÇÝ Ïáñóñ³Í ³ñÅ»ÃÕÃ»ñáí Ñ³í³ëïí³Í Çñ³íáõÝùÝ»ñÁ í»ñ³Ï³Ý·Ý»Éáõ í»ñ³µ»ñÛ³É
...
