Workbook

Sheet Ընդհամենը
A1: 2015Ã. | D1: Ð²ÞìºîìàôÂÚàôÜ | P1: Ï³½Ùí³Í` ÐÐ Ï³é³í³ñáõÃÛ³Ý 19.03.2015Ã. ÃÇí 306-Ü áñáßÙ³Ý ÑÇÙ³Ý íñ³
A2: ØÇÝã¹³ï³Ï³Ý í³ñáõÛÃÇ ÝÏ³ïÙ³Ùµ ¹³ï³Ï³Ý í»ñ³ÑëÏáÕáõÃÛ³ÝÁ, ¹³ï³Ï³Ý ³Ïï»ñÇ ¨ ¹³ï³Ï³Ý Ñ³ÝÓÝ³ñ³ñáõÃÛáõÝÝ»ñÇ Ï³ï³ñÙ³ÝÁ Ñ»ï Ï³åí³Í ÙÇçÝáñ¹áõÃÛáõÝÝ»ñÇ í»ñ³µ»ñÛ³É ¹³ï³Ï³Ý ·áñÍ»ñáí ºñ¨³Ý ù³Õ³ùÇ ²ç³÷ÝÛ³Ï ¨ ¸³íÃ³ß»Ý í³ñã³Ï³Ý ßñç³ÝÝ»ñÇ ÁÝ¹Ñ³Ýáõñ Çñ³í³ëáõÃÛ³Ý ³é³çÇÝ ³ïÛ³ÝÇ ¹³ï³ñ³ÝÇ ·áñÍáõÝ»áõÃÛ³Ý í»ñ³µ»ñÛ³É
A3: êïáõ·Çã Ñ³í³ë³ñáõÙ` 1+2=3+8+9, 8=4+5+6+7, | D3: Ð³ßí»ïáõ Å³Ù³Ý³Ï³Ñ³ïí³ÍÇ ëÏ½µáõÙ Ý³Ëáñ¹ Ñ³ßí»ïáõ Å³Ù³Ý³Ï³Ñ³ïí³ÍÇó ÷áË³Ýóí³Í ·áñÍ»ñÇ ÁÝ¹Ñ³Ýáõñ ÃÇíÁ | E3: Ð³ßí»ïáõ Å³Ù³Ý³Ï³Ñ³ïí³ÍáõÙ ëï³óí³Í ·áñÍ»ñÇ ÁÝ¹Ñ³Ýáõñ ÃÇíÁ | F3: öáË³Ýóí»É ¿ ³ÛÉ ¹³ï³íáñÇ Ï³Ù ³ÛÉ ¹³ï³ñ³Ý (Ï³½ÙÇ ÷á÷áËáõÃÛáõÝ, ÁÝ¹¹³ïáõÃÛáõÝ) | G3: Ð³ßí»ïáõ Å³Ù³Ý³Ï³Ñ³ïí³ÍáõÙ ³í³ñïí³Í ·áñÍ»ñÇ ÁÝ¹Ñ³Ýáõñ ÃÇíÁ | L3: Ð³ßí»ïáõ Å³Ù³Ý³Ï³Ñ³ïí³ÍáõÙ ³Ý³í³ñï ·áñÍ»ñÇ ÁÝ¹Ñ³Ýáõñ ÃÇíÁ | M3: ØÇçÝáñ¹áõÃÛáõÝÝ»ñáí Ï³Û³óí³Í ¹³ï³Ï³Ý ³Ïï»ñÇó µáÕáù³ñÏí³ÍÝ»ñÇ ù³Ý³ÏÁ | O3: ²Ý³í³ñï µáÕáùÝ»ñ | P3: ØÇçÝáñ¹áõÃÛáõÝÝ»ñáí Ï³Û³óí³Í ¨ µáÕáù³ñÏí³Í ¹³ï³Ï³Ý ³Ïï»ñÇó µ»Ï³Ýí³ÍÝ»ñÇ ù³Ý³ÏÁ | R3: ÙÇçÝáñ¹áõÃÛáõÝÝ»ñáí Ï³Û³óí³Í ¨ µáÕáù³ñÏí³Í ¹³ï³Ï³Ý ³Ïï»ñÇó ³Ý÷á÷áË ÃáÕÝí³ÍÝ»ñÇ ù³Ý³ÏÁ
G4: Ù»ñÅí»É ¿ | H4: µ³í³ñ³ñí»É ¿ | I4: µ³í³ñ³ñí»É ¿ Ù³ëÝ³ÏÇ | J4: ÃáÕÝí»É ¿ ³é³Ýó ùÝÝáõÃÛ³Ý | K4: ÀÝ¹³Ù»ÝÁ
M5: Ý³Ëáñ¹ ï³ñÇÝ»ñÇÝ Ï³Û³óí³Í ³Ïï»ñÇ ¹»Ù | N5: Ñ³ßí»ïáõ Å³Ù³Ý³Ï³ßñç³ÝáõÙ Ï³Û³óí³Í ³Ïï»ñÇ ¹»Ù | P5: Ý³Ëáñ¹ ï³ñÇÝ»ñÇÝ Ï³Û³óí³Í ³Ïï»ñÇ µ»Ï³ÝáõÙÝ»ñÁ | Q5: Ñ³ßí»ïáõ Å³Ù³Ý³Ï³ßñç³ÝáõÙ Ï³Û³óí³Í ³Ïï»ñÇ µ»Ï³ÝáõÙÝ»ñÁ
A6: 1. ØÇÝã¹³ï³Ï³Ý í³ñáõÛÃÇ ÝÏ³ïÙ³Ùµ ¹³ï³Ï³Ý í»ñ³ÑëÏáÕáõÃÛ³Ý áÉáñï | D6: 1 | E6: 2 | F6: 3 | G6: 4 | H6: 5 | I6: 6 | J6: 7 | K6: 8 | L6: 9 | M6: 10 | N6: 11 | O6: 12 | P6: 13 | Q6: 14 | R6: 15 | T6: 1+2=3+8+9 | V6: 8=4+5+6+7
A7: 1 | B7: Ï³É³ÝùÁ áñå»ë Ë³÷³ÝÙ³Ý ÙÇçáó ÏÇñ³é»Éáõ Ù³ëÇÝ ÙÇçÝáñ¹áõÃÛáõÝÝ»ñ | D7: ='Ա. Սմբատյան'!D7+'Դ. Բալայան'!D7+'Մ. Մելքոնյան'!D7+'Տ. Գրիգորյան'!D7+'Գ. Թորոսյան'!D7+'Ա. Մխիթարյան'!D7+'Ա. Փիլոսյան'!D7+'Վ. Աբրահամյան'!D7 -> 0 | E7: ='Ա. Սմբատյան'!E7+'Դ. Բալայան'!E7+'Մ. Մելքոնյան'!E7+'Տ. Գրիգորյան'!E7+'Գ. Թորոսյան'!E7+'Ա. Մխիթարյան'!E7+'Ա. Փիլոսյան'!E7+'Վ. Աբրահամյան'!E7 -> 46 | F7: ='Ա. Սմբատյան'!F7+'Դ. Բալայան'!F7+'Մ. Մելքոնյան'!F7+'Տ. Գրիգորյան'!F7+'Գ. Թորոսյան'!F7+'Ա. Մխիթարյան'!F7+'Ա. Փիլոսյան'!F7+'Վ. Աբրահամյան'!F7 -> 0 | G7: ='Ա. Սմբատյան'!G7+'Դ. Բալայան'!G7+'Մ. Մելքոնյան'!G7+'Տ. Գրիգորյան'!G7+'Գ. Թորոսյան'!G7+'Ա. Մխիթարյան'!G7+'Ա. Փիլոսյան'!G7+'Վ. Աբրահամյան'!G7 -> 6 | H7: ='Ա. Սմբատյան'!H7+'Դ. Բալայան'!H7+'Մ. Մելքոնյան'!H7+'Տ. Գրիգորյան'!H7+'Գ. Թորոսյան'!H7+'Ա. Մխիթարյան'!H7+'Ա. Փիլոսյան'!H7+'Վ. Աբրահամյան'!H7 -> 37 | I7: ='Ա. Սմբատյան'!I7+'Դ. Բալայան'!I7+'Մ. Մելքոնյան'!I7+'Տ. Գրիգորյան'!I7+'Գ. Թորոսյան'!I7+'Ա. Մխիթարյան'!I7+'Ա. Փիլոսյան'!I7+'Վ. Աբրահամյան'!I7 -> 2 | J7: ='Ա. Սմբատյան'!J7+'Դ. Բալայան'!J7+'Մ. Մելքոնյան'!J7+'Տ. Գրիգորյան'!J7+'Գ. Թորոսյան'!J7+'Ա. Մխիթարյան'!J7+'Ա. Փիլոսյան'!J7+'Վ. Աբրահամյան'!J7 -> 1 | K7: ='Ա. Սմբատյան'!K7+'Դ. Բալայան'!K7+'Մ. Մելքոնյան'!K7+'Տ. Գրիգորյան'!K7+'Գ. Թորոսյան'!K7+'Ա. Մխիթարյան'!K7+'Ա. Փիլոսյան'!K7+'Վ. Աբրահամյան'!K7 -> 46 | ... S7: ='Ա. Սմբատյան'!S7+'Դ. Բալայան'!S7+'Մ. Մելքոնյան'!S7+'Տ. Գրիգորյան'!S7+'Գ. Թորոսյան'!S7+'Ա. Մխիթարյան'!S7+'Ա. Փիլոսյան'!S7+'Վ. Աբրահամյան'!S7 -> 0 | T7: =D7+E7 -> 46 | U7: =F7+K7+L7 -> 46 | V7: =K7 -> 46 | W7: =G7+H7+I7+J7 -> 46
A8: 2 | B8: Ï³É³ÝùÇ Å³ÙÏ»ïÁ »ñÏ³ñ³óÝ»Éáõ Ù³ëÇÝ ÙÇçÝáñ¹áõÃÛáõÝÝ»ñ | D8: ='Ա. Սմբատյան'!D8+'Դ. Բալայան'!D8+'Մ. Մելքոնյան'!D8+'Տ. Գրիգորյան'!D8+'Գ. Թորոսյան'!D8+'Ա. Մխիթարյան'!D8+'Ա. Փիլոսյան'!D8+'Վ. Աբրահամյան'!D8 -> 0 | E8: ='Ա. Սմբատյան'!E8+'Դ. Բալայան'!E8+'Մ. Մելքոնյան'!E8+'Տ. Գրիգորյան'!E8+'Գ. Թորոսյան'!E8+'Ա. Մխիթարյան'!E8+'Ա. Փիլոսյան'!E8+'Վ. Աբրահամյան'!E8 -> 44 | F8: ='Ա. Սմբատյան'!F8+'Դ. Բալայան'!F8+'Մ. Մելքոնյան'!F8+'Տ. Գրիգորյան'!F8+'Գ. Թորոսյան'!F8+'Ա. Մխիթարյան'!F8+'Ա. Փիլոսյան'!F8+'Վ. Աբրահամյան'!F8 -> 0 | G8: ='Ա. Սմբատյան'!G8+'Դ. Բալայան'!G8+'Մ. Մելքոնյան'!G8+'Տ. Գրիգորյան'!G8+'Գ. Թորոսյան'!G8+'Ա. Մխիթարյան'!G8+'Ա. Փիլոսյան'!G8+'Վ. Աբրահամյան'!G8 -> 2 | H8: ='Ա. Սմբատյան'!H8+'Դ. Բալայան'!H8+'Մ. Մելքոնյան'!H8+'Տ. Գրիգորյան'!H8+'Գ. Թորոսյան'!H8+'Ա. Մխիթարյան'!H8+'Ա. Փիլոսյան'!H8+'Վ. Աբրահամյան'!H8 -> 32 | I8: ='Ա. Սմբատյան'!I8+'Դ. Բալայան'!I8+'Մ. Մելքոնյան'!I8+'Տ. Գրիգորյան'!I8+'Գ. Թորոսյան'!I8+'Ա. Մխիթարյան'!I8+'Ա. Փիլոսյան'!I8+'Վ. Աբրահամյան'!I8 -> 6 | J8: ='Ա. Սմբատյան'!J8+'Դ. Բալայան'!J8+'Մ. Մելքոնյան'!J8+'Տ. Գրիգորյան'!J8+'Գ. Թորոսյան'!J8+'Ա. Մխիթարյան'!J8+'Ա. Փիլոսյան'!J8+'Վ. Աբրահամյան'!J8 -> 0 | K8: ='Ա. Սմբատյան'!K8+'Դ. Բալայան'!K8+'Մ. Մելքոնյան'!K8+'Տ. Գրիգորյան'!K8+'Գ. Թորոսյան'!K8+'Ա. Մխիթարյան'!K8+'Ա. Փիլոսյան'!K8+'Վ. Աբրահամյան'!K8 -> 40 | ... S8: ='Ա. Սմբատյան'!S8+'Դ. Բալայան'!S8+'Մ. Մելքոնյան'!S8+'Տ. Գրիգորյան'!S8+'Գ. Թորոսյան'!S8+'Ա. Մխիթարյան'!S8+'Ա. Փիլոսյան'!S8+'Վ. Աբրահամյան'!S8 -> 0 | T8: =D8+E8 -> 44 | U8: =F8+K8+L8 -> 44 | V8: =K8 -> 40 | W8: =G8+H8+I8+J8 -> 40
A9: 3 | B9: Ï³É³ÝùÇ í»ñ³Ñ³ëï³ïÙ³Ý Ù³ëÇÝ ÙÇçÝáñ¹áõÃÛáõÝÝ»ñ | D9: ='Ա. Սմբատյան'!D9+'Դ. Բալայան'!D9+'Մ. Մելքոնյան'!D9+'Տ. Գրիգորյան'!D9+'Գ. Թորոսյան'!D9+'Ա. Մխիթարյան'!D9+'Ա. Փիլոսյան'!D9+'Վ. Աբրահամյան'!D9 -> 0 | E9: ='Ա. Սմբատյան'!E9+'Դ. Բալայան'!E9+'Մ. Մելքոնյան'!E9+'Տ. Գրիգորյան'!E9+'Գ. Թորոսյան'!E9+'Ա. Մխիթարյան'!E9+'Ա. Փիլոսյան'!E9+'Վ. Աբրահամյան'!E9 -> 12 | F9: ='Ա. Սմբատյան'!F9+'Դ. Բալայան'!F9+'Մ. Մելքոնյան'!F9+'Տ. Գրիգորյան'!F9+'Գ. Թորոսյան'!F9+'Ա. Մխիթարյան'!F9+'Ա. Փիլոսյան'!F9+'Վ. Աբրահամյան'!F9 -> 0 | G9: ='Ա. Սմբատյան'!G9+'Դ. Բալայան'!G9+'Մ. Մելքոնյան'!G9+'Տ. Գրիգորյան'!G9+'Գ. Թորոսյան'!G9+'Ա. Մխիթարյան'!G9+'Ա. Փիլոսյան'!G9+'Վ. Աբրահամյան'!G9 -> 0 | H9: ='Ա. Սմբատյան'!H9+'Դ. Բալայան'!H9+'Մ. Մելքոնյան'!H9+'Տ. Գրիգորյան'!H9+'Գ. Թորոսյան'!H9+'Ա. Մխիթարյան'!H9+'Ա. Փիլոսյան'!H9+'Վ. Աբրահամյան'!H9 -> 12 | I9: ='Ա. Սմբատյան'!I9+'Դ. Բալայան'!I9+'Մ. Մելքոնյան'!I9+'Տ. Գրիգորյան'!I9+'Գ. Թորոսյան'!I9+'Ա. Մխիթարյան'!I9+'Ա. Փիլոսյան'!I9+'Վ. Աբրահամյան'!I9 -> 0 | J9: ='Ա. Սմբատյան'!J9+'Դ. Բալայան'!J9+'Մ. Մելքոնյան'!J9+'Տ. Գրիգորյան'!J9+'Գ. Թորոսյան'!J9+'Ա. Մխիթարյան'!J9+'Ա. Փիլոսյան'!J9+'Վ. Աբրահամյան'!J9 -> 0 | K9: ='Ա. Սմբատյան'!K9+'Դ. Բալայան'!K9+'Մ. Մելքոնյան'!K9+'Տ. Գրիգորյան'!K9+'Գ. Թորոսյան'!K9+'Ա. Մխիթարյան'!K9+'Ա. Փիլոսյան'!K9+'Վ. Աբրահամյան'!K9 -> 12 | ... S9: ='Ա. Սմբատյան'!S9+'Դ. Բալայան'!S9+'Մ. Մելքոնյան'!S9+'Տ. Գրիգորյան'!S9+'Գ. Թորոսյան'!S9+'Ա. Մխիթարյան'!S9+'Ա. Փիլոսյան'!S9+'Վ. Աբրահամյան'!S9 -> 0 | T9: =D9+E9 -> 12 | U9: =F9+K9+L9 -> 12 | V9: =K9 -> 12 | W9: =G9+H9+I9+J9 -> 12
A10: 4 | B10: ·ñ³íÁ áñå»ë Ï³É³Ý³íáñÙ³Ý ³ÛÉÁÝïñ³Ýù³ÛÇÝ Ë³÷³ÝÙ³Ý ÙÇçáó ÏÇñ³é»Éáõ Ù³ëÇÝ ÙÇçÝáñ¹áõÃÛáõÝÝ»ñ | D10: ='Ա. Սմբատյան'!D10+'Դ. Բալայան'!D10+'Մ. Մելքոնյան'!D10+'Տ. Գրիգորյան'!D10+'Գ. Թորոսյան'!D10+'Ա. Մխիթարյան'!D10+'Ա. Փիլոսյան'!D10+'Վ. Աբրահամյան'!D10 -> 0 | E10: ='Ա. Սմբատյան'!E10+'Դ. Բալայան'!E10+'Մ. Մելքոնյան'!E10+'Տ. Գրիգորյան'!E10+'Գ. Թորոսյան'!E10+'Ա. Մխիթարյան'!E10+'Ա. Փիլոսյան'!E10+'Վ. Աբրահամյան'!E10 -> 41 | F10: ='Ա. Սմբատյան'!F10+'Դ. Բալայան'!F10+'Մ. Մելքոնյան'!F10+'Տ. Գրիգորյան'!F10+'Գ. Թորոսյան'!F10+'Ա. Մխիթարյան'!F10+'Ա. Փիլոսյան'!F10+'Վ. Աբրահամյան'!F10 -> 0 | G10: ='Ա. Սմբատյան'!G10+'Դ. Բալայան'!G10+'Մ. Մելքոնյան'!G10+'Տ. Գրիգորյան'!G10+'Գ. Թորոսյան'!G10+'Ա. Մխիթարյան'!G10+'Ա. Փիլոսյան'!G10+'Վ. Աբրահամյան'!G10 -> 30 | H10: ='Ա. Սմբատյան'!H10+'Դ. Բալայան'!H10+'Մ. Մելքոնյան'!H10+'Տ. Գրիգորյան'!H10+'Գ. Թորոսյան'!H10+'Ա. Մխիթարյան'!H10+'Ա. Փիլոսյան'!H10+'Վ. Աբրահամյան'!H10 -> 9 | I10: ='Ա. Սմբատյան'!I10+'Դ. Բալայան'!I10+'Մ. Մելքոնյան'!I10+'Տ. Գրիգորյան'!I10+'Գ. Թորոսյան'!I10+'Ա. Մխիթարյան'!I10+'Ա. Փիլոսյան'!I10+'Վ. Աբրահամյան'!I10 -> 0 | J10: ='Ա. Սմբատյան'!J10+'Դ. Բալայան'!J10+'Մ. Մելքոնյան'!J10+'Տ. Գրիգորյան'!J10+'Գ. Թորոսյան'!J10+'Ա. Մխիթարյան'!J10+'Ա. Փիլոսյան'!J10+'Վ. Աբրահամյան'!J10 -> 1 | K10: ='Ա. Սմբատյան'!K10+'Դ. Բալայան'!K10+'Մ. Մելքոնյան'!K10+'Տ. Գրիգորյան'!K10+'Գ. Թորոսյան'!K10+'Ա. Մխիթարյան'!K10+'Ա. Փիլոսյան'!K10+'Վ. Աբրահամյան'!K10 -> 40 | ... S10: ='Ա. Սմբատյան'!S10+'Դ. Բալայան'!S10+'Մ. Մելքոնյան'!S10+'Տ. Գրիգորյան'!S10+'Գ. Թորոսյան'!S10+'Ա. Մխիթարյան'!S10+'Ա. Փիլոսյան'!S10+'Վ. Աբրահամյան'!S10 -> 0 | T10: =D10+E10 -> 41 | U10: =F10+K10+L10 -> 41 | V10: =K10 -> 40 | W10: =G10+H10+I10+J10 -> 40
A11: 5 | B11: Ëáõ½³ñÏáõÃÛ³Ý Ï³ï³ñÙ³Ý Ù³ëÇÝ ÙÇçÝáñ¹áõÃÛáõÝÝ»ñ | D11: ='Ա. Սմբատյան'!D11+'Դ. Բալայան'!D11+'Մ. Մելքոնյան'!D11+'Տ. Գրիգորյան'!D11+'Գ. Թորոսյան'!D11+'Ա. Մխիթարյան'!D11+'Ա. Փիլոսյան'!D11+'Վ. Աբրահամյան'!D11 -> 0 | E11: ='Ա. Սմբատյան'!E11+'Դ. Բալայան'!E11+'Մ. Մելքոնյան'!E11+'Տ. Գրիգորյան'!E11+'Գ. Թորոսյան'!E11+'Ա. Մխիթարյան'!E11+'Ա. Փիլոսյան'!E11+'Վ. Աբրահամյան'!E11 -> 173 | F11: ='Ա. Սմբատյան'!F11+'Դ. Բալայան'!F11+'Մ. Մելքոնյան'!F11+'Տ. Գրիգորյան'!F11+'Գ. Թորոսյան'!F11+'Ա. Մխիթարյան'!F11+'Ա. Փիլոսյան'!F11+'Վ. Աբրահամյան'!F11 -> 0 | G11: ='Ա. Սմբատյան'!G11+'Դ. Բալայան'!G11+'Մ. Մելքոնյան'!G11+'Տ. Գրիգորյան'!G11+'Գ. Թորոսյան'!G11+'Ա. Մխիթարյան'!G11+'Ա. Փիլոսյան'!G11+'Վ. Աբրահամյան'!G11 -> 11 | H11: ='Ա. Սմբատյան'!H11+'Դ. Բալայան'!H11+'Մ. Մելքոնյան'!H11+'Տ. Գրիգորյան'!H11+'Գ. Թորոսյան'!H11+'Ա. Մխիթարյան'!H11+'Ա. Փիլոսյան'!H11+'Վ. Աբրահամյան'!H11 -> 161 | I11: ='Ա. Սմբատյան'!I11+'Դ. Բալայան'!I11+'Մ. Մելքոնյան'!I11+'Տ. Գրիգորյան'!I11+'Գ. Թորոսյան'!I11+'Ա. Մխիթարյան'!I11+'Ա. Փիլոսյան'!I11+'Վ. Աբրահամյան'!I11 -> 1 | J11: ='Ա. Սմբատյան'!J11+'Դ. Բալայան'!J11+'Մ. Մելքոնյան'!J11+'Տ. Գրիգորյան'!J11+'Գ. Թորոսյան'!J11+'Ա. Մխիթարյան'!J11+'Ա. Փիլոսյան'!J11+'Վ. Աբրահամյան'!J11 -> 0 | K11: ='Ա. Սմբատյան'!K11+'Դ. Բալայան'!K11+'Մ. Մելքոնյան'!K11+'Տ. Գրիգորյան'!K11+'Գ. Թորոսյան'!K11+'Ա. Մխիթարյան'!K11+'Ա. Փիլոսյան'!K11+'Վ. Աբրահամյան'!K11 -> 173 | ... S11: ='Ա. Սմբատյան'!S11+'Դ. Բալայան'!S11+'Մ. Մելքոնյան'!S11+'Տ. Գրիգորյան'!S11+'Գ. Թորոսյան'!S11+'Ա. Մխիթարյան'!S11+'Ա. Փիլոսյան'!S11+'Վ. Աբրահամյան'!S11 -> 0 | T11: =D11+E11 -> 173 | U11: =F11+K11+L11 -> 173 | V11: =K11 -> 173 | W11: =G11+H11+I11+J11 -> 173
A12: 6 | B12: µ³ÝÏ³ÛÇÝ, ³å³Ñáí³·ñ³Ï³Ý, Ýáï³ñ³Ï³Ý ·³ÕïÝÇù Ï³½ÙáÕ ï»Õ»ÏáõÃÛáõÝÝ»ñÇ ëï³óÙ³Ý Ñ³Ù³ñ Ëáõ½³ñÏáõÃÛ³Ý Ï³Ù ³é·ñ³íÙ³Ý Ï³ï³ñÙ³Ý Ù³ëÇÝ ÙÇçÝáñ¹áõÃÛáõÝÝ»ñ | D12: ='Ա. Սմբատյան'!D12+'Դ. Բալայան'!D12+'Մ. Մելքոնյան'!D12+'Տ. Գրիգորյան'!D12+'Գ. Թորոսյան'!D12+'Ա. Մխիթարյան'!D12+'Ա. Փիլոսյան'!D12+'Վ. Աբրահամյան'!D12 -> 0 | E12: ='Ա. Սմբատյան'!E12+'Դ. Բալայան'!E12+'Մ. Մելքոնյան'!E12+'Տ. Գրիգորյան'!E12+'Գ. Թորոսյան'!E12+'Ա. Մխիթարյան'!E12+'Ա. Փիլոսյան'!E12+'Վ. Աբրահամյան'!E12 -> 5 | F12: ='Ա. Սմբատյան'!F12+'Դ. Բալայան'!F12+'Մ. Մելքոնյան'!F12+'Տ. Գրիգորյան'!F12+'Գ. Թորոսյան'!F12+'Ա. Մխիթարյան'!F12+'Ա. Փիլոսյան'!F12+'Վ. Աբրահամյան'!F12 -> 0 | G12: ='Ա. Սմբատյան'!G12+'Դ. Բալայան'!G12+'Մ. Մելքոնյան'!G12+'Տ. Գրիգորյան'!G12+'Գ. Թորոսյան'!G12+'Ա. Մխիթարյան'!G12+'Ա. Փիլոսյան'!G12+'Վ. Աբրահամյան'!G12 -> 2 | H12: ='Ա. Սմբատյան'!H12+'Դ. Բալայան'!H12+'Մ. Մելքոնյան'!H12+'Տ. Գրիգորյան'!H12+'Գ. Թորոսյան'!H12+'Ա. Մխիթարյան'!H12+'Ա. Փիլոսյան'!H12+'Վ. Աբրահամյան'!H12 -> 3 | I12: ='Ա. Սմբատյան'!I12+'Դ. Բալայան'!I12+'Մ. Մելքոնյան'!I12+'Տ. Գրիգորյան'!I12+'Գ. Թորոսյան'!I12+'Ա. Մխիթարյան'!I12+'Ա. Փիլոսյան'!I12+'Վ. Աբրահամյան'!I12 -> 0 | J12: ='Ա. Սմբատյան'!J12+'Դ. Բալայան'!J12+'Մ. Մելքոնյան'!J12+'Տ. Գրիգորյան'!J12+'Գ. Թորոսյան'!J12+'Ա. Մխիթարյան'!J12+'Ա. Փիլոսյան'!J12+'Վ. Աբրահամյան'!J12 -> 0 | K12: ='Ա. Սմբատյան'!K12+'Դ. Բալայան'!K12+'Մ. Մելքոնյան'!K12+'Տ. Գրիգորյան'!K12+'Գ. Թորոսյան'!K12+'Ա. Մխիթարյան'!K12+'Ա. Փիլոսյան'!K12+'Վ. Աբրահամյան'!K12 -> 5 | ... S12: ='Ա. Սմբատյան'!S12+'Դ. Բալայան'!S12+'Մ. Մելքոնյան'!S12+'Տ. Գրիգորյան'!S12+'Գ. Թորոսյան'!S12+'Ա. Մխիթարյան'!S12+'Ա. Փիլոսյան'!S12+'Վ. Աբրահամյան'!S12 -> 0 | T12: =D12+E12 -> 5 | U12: =F12+K12+L12 -> 5 | V12: =K12 -> 5 | W12: =G12+H12+I12+J12 -> 5
A13: 7 | B13: Ý³Ù³Ï³·ñáõÃÛ³Ý, Ñ»é³·ñ³Ï³Ý, ÷áuï³ÛÇÝ Ñ³Õáñ¹áõÙÝ»ñÇ ÑëÏáÕáõÃÛ³Ý Ù³ëÇÝ ÙÇçÝáñ¹áõÃÛáõÝÝ»ñ | D13: ='Ա. Սմբատյան'!D13+'Դ. Բալայան'!D13+'Մ. Մելքոնյան'!D13+'Տ. Գրիգորյան'!D13+'Գ. Թորոսյան'!D13+'Ա. Մխիթարյան'!D13+'Ա. Փիլոսյան'!D13+'Վ. Աբրահամյան'!D13 -> 0 | E13: ='Ա. Սմբատյան'!E13+'Դ. Բալայան'!E13+'Մ. Մելքոնյան'!E13+'Տ. Գրիգորյան'!E13+'Գ. Թորոսյան'!E13+'Ա. Մխիթարյան'!E13+'Ա. Փիլոսյան'!E13+'Վ. Աբրահամյան'!E13 -> 2 | F13: ='Ա. Սմբատյան'!F13+'Դ. Բալայան'!F13+'Մ. Մելքոնյան'!F13+'Տ. Գրիգորյան'!F13+'Գ. Թորոսյան'!F13+'Ա. Մխիթարյան'!F13+'Ա. Փիլոսյան'!F13+'Վ. Աբրահամյան'!F13 -> 0 | G13: ='Ա. Սմբատյան'!G13+'Դ. Բալայան'!G13+'Մ. Մելքոնյան'!G13+'Տ. Գրիգորյան'!G13+'Գ. Թորոսյան'!G13+'Ա. Մխիթարյան'!G13+'Ա. Փիլոսյան'!G13+'Վ. Աբրահամյան'!G13 -> 1 | H13: ='Ա. Սմբատյան'!H13+'Դ. Բալայան'!H13+'Մ. Մելքոնյան'!H13+'Տ. Գրիգորյան'!H13+'Գ. Թորոսյան'!H13+'Ա. Մխիթարյան'!H13+'Ա. Փիլոսյան'!H13+'Վ. Աբրահամյան'!H13 -> 1 | I13: ='Ա. Սմբատյան'!I13+'Դ. Բալայան'!I13+'Մ. Մելքոնյան'!I13+'Տ. Գրիգորյան'!I13+'Գ. Թորոսյան'!I13+'Ա. Մխիթարյան'!I13+'Ա. Փիլոսյան'!I13+'Վ. Աբրահամյան'!I13 -> 0 | J13: ='Ա. Սմբատյան'!J13+'Դ. Բալայան'!J13+'Մ. Մելքոնյան'!J13+'Տ. Գրիգորյան'!J13+'Գ. Թորոսյան'!J13+'Ա. Մխիթարյան'!J13+'Ա. Փիլոսյան'!J13+'Վ. Աբրահամյան'!J13 -> 0 | K13: ='Ա. Սմբատյան'!K13+'Դ. Բալայան'!K13+'Մ. Մելքոնյան'!K13+'Տ. Գրիգորյան'!K13+'Գ. Թորոսյան'!K13+'Ա. Մխիթարյան'!K13+'Ա. Փիլոսյան'!K13+'Վ. Աբրահամյան'!K13 -> 2 | ... S13: ='Ա. Սմբատյան'!S13+'Դ. Բալայան'!S13+'Մ. Մելքոնյան'!S13+'Տ. Գրիգորյան'!S13+'Գ. Թորոսյան'!S13+'Ա. Մխիթարյան'!S13+'Ա. Փիլոսյան'!S13+'Վ. Աբրահամյան'!S13 -> 0 | T13: =D13+E13 -> 2 | U13: =F13+K13+L13 -> 2 | V13: =K13 -> 2 | W13: =G13+H13+I13+J13 -> 2
A14: 8 | B14: Ñ»é³Ëáu³ÛÇÝ Ï³Ù Ï³åÇ ³ÛÉ ÙÇçáóÝ»ñáí ï³ñíáÕ Ëáu³ÏóáõÃÛáõÝÝ»ñÇ ÉuÙ³Ý ¨ Ó³ÛÝ³·ñ³éÙ³Ý Ù³ëÇÝ ÙÇçÝáñ¹áõÃÛáõÝÝ»ñ | D14: ='Ա. Սմբատյան'!D14+'Դ. Բալայան'!D14+'Մ. Մելքոնյան'!D14+'Տ. Գրիգորյան'!D14+'Գ. Թորոսյան'!D14+'Ա. Մխիթարյան'!D14+'Ա. Փիլոսյան'!D14+'Վ. Աբրահամյան'!D14 -> 0 | E14: ='Ա. Սմբատյան'!E14+'Դ. Բալայան'!E14+'Մ. Մելքոնյան'!E14+'Տ. Գրիգորյան'!E14+'Գ. Թորոսյան'!E14+'Ա. Մխիթարյան'!E14+'Ա. Փիլոսյան'!E14+'Վ. Աբրահամյան'!E14 -> 3 | F14: ='Ա. Սմբատյան'!F14+'Դ. Բալայան'!F14+'Մ. Մելքոնյան'!F14+'Տ. Գրիգորյան'!F14+'Գ. Թորոսյան'!F14+'Ա. Մխիթարյան'!F14+'Ա. Փիլոսյան'!F14+'Վ. Աբրահամյան'!F14 -> 0 | G14: ='Ա. Սմբատյան'!G14+'Դ. Բալայան'!G14+'Մ. Մելքոնյան'!G14+'Տ. Գրիգորյան'!G14+'Գ. Թորոսյան'!G14+'Ա. Մխիթարյան'!G14+'Ա. Փիլոսյան'!G14+'Վ. Աբրահամյան'!G14 -> 0 | H14: ='Ա. Սմբատյան'!H14+'Դ. Բալայան'!H14+'Մ. Մելքոնյան'!H14+'Տ. Գրիգորյան'!H14+'Գ. Թորոսյան'!H14+'Ա. Մխիթարյան'!H14+'Ա. Փիլոսյան'!H14+'Վ. Աբրահամյան'!H14 -> 2 | I14: ='Ա. Սմբատյան'!I14+'Դ. Բալայան'!I14+'Մ. Մելքոնյան'!I14+'Տ. Գրիգորյան'!I14+'Գ. Թորոսյան'!I14+'Ա. Մխիթարյան'!I14+'Ա. Փիլոսյան'!I14+'Վ. Աբրահամյան'!I14 -> 1 | J14: ='Ա. Սմբատյան'!J14+'Դ. Բալայան'!J14+'Մ. Մելքոնյան'!J14+'Տ. Գրիգորյան'!J14+'Գ. Թորոսյան'!J14+'Ա. Մխիթարյան'!J14+'Ա. Փիլոսյան'!J14+'Վ. Աբրահամյան'!J14 -> 0 | K14: ='Ա. Սմբատյան'!K14+'Դ. Բալայան'!K14+'Մ. Մելքոնյան'!K14+'Տ. Գրիգորյան'!K14+'Գ. Թորոսյան'!K14+'Ա. Մխիթարյան'!K14+'Ա. Փիլոսյան'!K14+'Վ. Աբրահամյան'!K14 -> 3 | ... S14: ='Ա. Սմբատյան'!S14+'Դ. Բալայան'!S14+'Մ. Մելքոնյան'!S14+'Տ. Գրիգորյան'!S14+'Գ. Թորոսյան'!S14+'Ա. Մխիթարյան'!S14+'Ա. Փիլոսյան'!S14+'Վ. Աբրահամյան'!S14 -> 0 | T14: =D14+E14 -> 3 | U14: =F14+K14+L14 -> 3 | V14: =K14 -> 3 | W14: =G14+H14+I14+J14 -> 3
A15: 9 | B15: Ñ»é³ËáëÝ»ñÇ Ùáõïù³ÛÇÝ ¨ »Éù³ÛÇÝ í»ñÍ³ÝÙ³Ý ÃáõÛÉïíáõÃÛáõÝ ëï³Ý³Éáõ Ù³ëÇÝ ÙÇçÝáñ¹áõÃÛáõÝÝ»ñ | D15: ='Ա. Սմբատյան'!D15+'Դ. Բալայան'!D15+'Մ. Մելքոնյան'!D15+'Տ. Գրիգորյան'!D15+'Գ. Թորոսյան'!D15+'Ա. Մխիթարյան'!D15+'Ա. Փիլոսյան'!D15+'Վ. Աբրահամյան'!D15 -> 0 | E15: ='Ա. Սմբատյան'!E15+'Դ. Բալայան'!E15+'Մ. Մելքոնյան'!E15+'Տ. Գրիգորյան'!E15+'Գ. Թորոսյան'!E15+'Ա. Մխիթարյան'!E15+'Ա. Փիլոսյան'!E15+'Վ. Աբրահամյան'!E15 -> 175 | F15: ='Ա. Սմբատյան'!F15+'Դ. Բալայան'!F15+'Մ. Մելքոնյան'!F15+'Տ. Գրիգորյան'!F15+'Գ. Թորոսյան'!F15+'Ա. Մխիթարյան'!F15+'Ա. Փիլոսյան'!F15+'Վ. Աբրահամյան'!F15 -> 0 | G15: ='Ա. Սմբատյան'!G15+'Դ. Բալայան'!G15+'Մ. Մելքոնյան'!G15+'Տ. Գրիգորյան'!G15+'Գ. Թորոսյան'!G15+'Ա. Մխիթարյան'!G15+'Ա. Փիլոսյան'!G15+'Վ. Աբրահամյան'!G15 -> 6 | H15: ='Ա. Սմբատյան'!H15+'Դ. Բալայան'!H15+'Մ. Մելքոնյան'!H15+'Տ. Գրիգորյան'!H15+'Գ. Թորոսյան'!H15+'Ա. Մխիթարյան'!H15+'Ա. Փիլոսյան'!H15+'Վ. Աբրահամյան'!H15 -> 165 | I15: ='Ա. Սմբատյան'!I15+'Դ. Բալայան'!I15+'Մ. Մելքոնյան'!I15+'Տ. Գրիգորյան'!I15+'Գ. Թորոսյան'!I15+'Ա. Մխիթարյան'!I15+'Ա. Փիլոսյան'!I15+'Վ. Աբրահամյան'!I15 -> 4 | J15: ='Ա. Սմբատյան'!J15+'Դ. Բալայան'!J15+'Մ. Մելքոնյան'!J15+'Տ. Գրիգորյան'!J15+'Գ. Թորոսյան'!J15+'Ա. Մխիթարյան'!J15+'Ա. Փիլոսյան'!J15+'Վ. Աբրահամյան'!J15 -> 0 | K15: ='Ա. Սմբատյան'!K15+'Դ. Բալայան'!K15+'Մ. Մելքոնյան'!K15+'Տ. Գրիգորյան'!K15+'Գ. Թորոսյան'!K15+'Ա. Մխիթարյան'!K15+'Ա. Փիլոսյան'!K15+'Վ. Աբրահամյան'!K15 -> 175 | ... S15: ='Ա. Սմբատյան'!S15+'Դ. Բալայան'!S15+'Մ. Մելքոնյան'!S15+'Տ. Գրիգորյան'!S15+'Գ. Թորոսյան'!S15+'Ա. Մխիթարյան'!S15+'Ա. Փիլոսյան'!S15+'Վ. Աբրահամյան'!S15 -> 0 | T15: =D15+E15 -> 175 | U15: =F15+K15+L15 -> 175 | V15: =K15 -> 175 | W15: =G15+H15+I15+J15 -> 175
A16: 10 | B16: Ñ»ï³ùÝÝáõÃÛ³Ý Ù³ñÙÝÇ ³ßË³ïáÕÇ, ùÝÝÇãÇ, ¹³ï³Ë³½Ç oå»ñ³ïÇí-Ñ»ï³Ëáõ½³Ï³Ý ·áñÍáÕáõÃÛáõÝÝ»ñ Çñ³Ï³Ý³óÝáÕ Ù³ñÙÇÝÝ»ñÇ ³ÝoñÇÝ³Ï³Ý ¨ ³ÝÑÇÙÝ áñáßáõÙÝ»ñÇ ¨ ·áñÍáÕáõÃÛáõÝÝ»ñÇ ¹»Ù µáÕáùÝ»ñ | D16: ='Ա. Սմբատյան'!D16+'Դ. Բալայան'!D16+'Մ. Մելքոնյան'!D16+'Տ. Գրիգորյան'!D16+'Գ. Թորոսյան'!D16+'Ա. Մխիթարյան'!D16+'Ա. Փիլոսյան'!D16+'Վ. Աբրահամյան'!D16 -> 5 | E16: ='Ա. Սմբատյան'!E16+'Դ. Բալայան'!E16+'Մ. Մելքոնյան'!E16+'Տ. Գրիգորյան'!E16+'Գ. Թորոսյան'!E16+'Ա. Մխիթարյան'!E16+'Ա. Փիլոսյան'!E16+'Վ. Աբրահամյան'!E16 -> 42 | F16: ='Ա. Սմբատյան'!F16+'Դ. Բալայան'!F16+'Մ. Մելքոնյան'!F16+'Տ. Գրիգորյան'!F16+'Գ. Թորոսյան'!F16+'Ա. Մխիթարյան'!F16+'Ա. Փիլոսյան'!F16+'Վ. Աբրահամյան'!F16 -> 6 | G16: ='Ա. Սմբատյան'!G16+'Դ. Բալայան'!G16+'Մ. Մելքոնյան'!G16+'Տ. Գրիգորյան'!G16+'Գ. Թորոսյան'!G16+'Ա. Մխիթարյան'!G16+'Ա. Փիլոսյան'!G16+'Վ. Աբրահամյան'!G16 -> 31 | H16: ='Ա. Սմբատյան'!H16+'Դ. Բալայան'!H16+'Մ. Մելքոնյան'!H16+'Տ. Գրիգորյան'!H16+'Գ. Թորոսյան'!H16+'Ա. Մխիթարյան'!H16+'Ա. Փիլոսյան'!H16+'Վ. Աբրահամյան'!H16 -> 4 | I16: ='Ա. Սմբատյան'!I16+'Դ. Բալայան'!I16+'Մ. Մելքոնյան'!I16+'Տ. Գրիգորյան'!I16+'Գ. Թորոսյան'!I16+'Ա. Մխիթարյան'!I16+'Ա. Փիլոսյան'!I16+'Վ. Աբրահամյան'!I16 -> 0 | J16: ='Ա. Սմբատյան'!J16+'Դ. Բալայան'!J16+'Մ. Մելքոնյան'!J16+'Տ. Գրիգորյան'!J16+'Գ. Թորոսյան'!J16+'Ա. Մխիթարյան'!J16+'Ա. Փիլոսյան'!J16+'Վ. Աբրահամյան'!J16 -> 0 | K16: ='Ա. Սմբատյան'!K16+'Դ. Բալայան'!K16+'Մ. Մելքոնյան'!K16+'Տ. Գրիգորյան'!K16+'Գ. Թորոսյան'!K16+'Ա. Մխիթարյան'!K16+'Ա. Փիլոսյան'!K16+'Վ. Աբրահամյան'!K16 -> 35 | ... S16: ='Ա. Սմբատյան'!S16+'Դ. Բալայան'!S16+'Մ. Մելքոնյան'!S16+'Տ. Գրիգորյան'!S16+'Գ. Թորոսյան'!S16+'Ա. Մխիթարյան'!S16+'Ա. Փիլոսյան'!S16+'Վ. Աբրահամյան'!S16 -> 0 | T16: =D16+E16 -> 47 | U16: =F16+K16+L16 -> 47 | V16: =K16 -> 35 | W16: =G16+H16+I16+J16 -> 35
A17: 2. ¸³ï³Ï³Ý ³Ïï»ñÇ ¨ ¹³ï³Ï³Ý Ñ³ÝÓÝ³ñ³ñáõÃÛáõÝÝ»ñÇ Ï³ï³ñÙ³Ý Ñ»ï Ï³åí³Í Ñ³ñó»ñÇ ÉáõÍÙ³Ý áÉáñï | S17: ='Ա. Սմբատյան'!S17+'Դ. Բալայան'!S17+'Մ. Մելքոնյան'!S17+'Տ. Գրիգորյան'!S17+'Գ. Թորոսյան'!S17+'Ա. Մխիթարյան'!S17+'Ա. Փիլոսյան'!S17+'Վ. Աբրահամյան'!S17 -> 0
A18: 1 | B18: å³ïÅÇó å³ÛÙ³Ý³Ï³Ý í³Õ³Å³ÙÏ»ï ³½³ï»Éáõ Ù³ëÇÝ ÙÇçÝáñ¹áõÃÛáõÝÝ»ñ | D18: ='Ա. Սմբատյան'!D18+'Դ. Բալայան'!D18+'Մ. Մելքոնյան'!D18+'Տ. Գրիգորյան'!D18+'Գ. Թորոսյան'!D18+'Ա. Մխիթարյան'!D18+'Ա. Փիլոսյան'!D18+'Վ. Աբրահամյան'!D18 -> 0 | E18: ='Ա. Սմբատյան'!E18+'Դ. Բալայան'!E18+'Մ. Մելքոնյան'!E18+'Տ. Գրիգորյան'!E18+'Գ. Թորոսյան'!E18+'Ա. Մխիթարյան'!E18+'Ա. Փիլոսյան'!E18+'Վ. Աբրահամյան'!E18 -> 0 | F18: ='Ա. Սմբատյան'!F18+'Դ. Բալայան'!F18+'Մ. Մելքոնյան'!F18+'Տ. Գրիգորյան'!F18+'Գ. Թորոսյան'!F18+'Ա. Մխիթարյան'!F18+'Ա. Փիլոսյան'!F18+'Վ. Աբրահամյան'!F18 -> 0 | G18: ='Ա. Սմբատյան'!G18+'Դ. Բալայան'!G18+'Մ. Մելքոնյան'!G18+'Տ. Գրիգորյան'!G18+'Գ. Թորոսյան'!G18+'Ա. Մխիթարյան'!G18+'Ա. Փիլոսյան'!G18+'Վ. Աբրահամյան'!G18 -> 0 | H18: ='Ա. Սմբատյան'!H18+'Դ. Բալայան'!H18+'Մ. Մելքոնյան'!H18+'Տ. Գրիգորյան'!H18+'Գ. Թորոսյան'!H18+'Ա. Մխիթարյան'!H18+'Ա. Փիլոսյան'!H18+'Վ. Աբրահամյան'!H18 -> 0 | I18: ='Ա. Սմբատյան'!I18+'Դ. Բալայան'!I18+'Մ. Մելքոնյան'!I18+'Տ. Գրիգորյան'!I18+'Գ. Թորոսյան'!I18+'Ա. Մխիթարյան'!I18+'Ա. Փիլոսյան'!I18+'Վ. Աբրահամյան'!I18 -> 0 | J18: ='Ա. Սմբատյան'!J18+'Դ. Բալայան'!J18+'Մ. Մելքոնյան'!J18+'Տ. Գրիգորյան'!J18+'Գ. Թորոսյան'!J18+'Ա. Մխիթարյան'!J18+'Ա. Փիլոսյան'!J18+'Վ. Աբրահամյան'!J18 -> 0 | K18: ='Ա. Սմբատյան'!K18+'Դ. Բալայան'!K18+'Մ. Մելքոնյան'!K18+'Տ. Գրիգորյան'!K18+'Գ. Թորոսյան'!K18+'Ա. Մխիթարյան'!K18+'Ա. Փիլոսյան'!K18+'Վ. Աբրահամյան'!K18 -> 0 | ... S18: ='Ա. Սմբատյան'!S18+'Դ. Բալայան'!S18+'Մ. Մելքոնյան'!S18+'Տ. Գրիգորյան'!S18+'Գ. Թորոսյան'!S18+'Ա. Մխիթարյան'!S18+'Ա. Փիլոսյան'!S18+'Վ. Աբրահամյան'!S18 -> 0 | T18: =D18+E18 -> 0 | U18: =F18+K18+L18 -> 0 | V18: =K18 -> 0 | W18: =G18+H18+I18+J18 -> 0
A19: 2 | B19: å³ïÇÅÁ ÷á÷áË»Éáõ, Ñ»ï³Ó·»Éáõ ¨ å³ïÅÇó ³½³ï»Éáõ Ù³uÇÝ ÙÇçÝáñ¹áõÃÛáõÝÝ»ñ | D19: ='Ա. Սմբատյան'!D19+'Դ. Բալայան'!D19+'Մ. Մելքոնյան'!D19+'Տ. Գրիգորյան'!D19+'Գ. Թորոսյան'!D19+'Ա. Մխիթարյան'!D19+'Ա. Փիլոսյան'!D19+'Վ. Աբրահամյան'!D19 -> 2 | E19: ='Ա. Սմբատյան'!E19+'Դ. Բալայան'!E19+'Մ. Մելքոնյան'!E19+'Տ. Գրիգորյան'!E19+'Գ. Թորոսյան'!E19+'Ա. Մխիթարյան'!E19+'Ա. Փիլոսյան'!E19+'Վ. Աբրահամյան'!E19 -> 8 | F19: ='Ա. Սմբատյան'!F19+'Դ. Բալայան'!F19+'Մ. Մելքոնյան'!F19+'Տ. Գրիգորյան'!F19+'Գ. Թորոսյան'!F19+'Ա. Մխիթարյան'!F19+'Ա. Փիլոսյան'!F19+'Վ. Աբրահամյան'!F19 -> 0 | G19: ='Ա. Սմբատյան'!G19+'Դ. Բալայան'!G19+'Մ. Մելքոնյան'!G19+'Տ. Գրիգորյան'!G19+'Գ. Թորոսյան'!G19+'Ա. Մխիթարյան'!G19+'Ա. Փիլոսյան'!G19+'Վ. Աբրահամյան'!G19 -> 3 | H19: ='Ա. Սմբատյան'!H19+'Դ. Բալայան'!H19+'Մ. Մելքոնյան'!H19+'Տ. Գրիգորյան'!H19+'Գ. Թորոսյան'!H19+'Ա. Մխիթարյան'!H19+'Ա. Փիլոսյան'!H19+'Վ. Աբրահամյան'!H19 -> 5 | I19: ='Ա. Սմբատյան'!I19+'Դ. Բալայան'!I19+'Մ. Մելքոնյան'!I19+'Տ. Գրիգորյան'!I19+'Գ. Թորոսյան'!I19+'Ա. Մխիթարյան'!I19+'Ա. Փիլոսյան'!I19+'Վ. Աբրահամյան'!I19 -> 2 | J19: ='Ա. Սմբատյան'!J19+'Դ. Բալայան'!J19+'Մ. Մելքոնյան'!J19+'Տ. Գրիգորյան'!J19+'Գ. Թորոսյան'!J19+'Ա. Մխիթարյան'!J19+'Ա. Փիլոսյան'!J19+'Վ. Աբրահամյան'!J19 -> 0 | K19: ='Ա. Սմբատյան'!K19+'Դ. Բալայան'!K19+'Մ. Մելքոնյան'!K19+'Տ. Գրիգորյան'!K19+'Գ. Թորոսյան'!K19+'Ա. Մխիթարյան'!K19+'Ա. Փիլոսյան'!K19+'Վ. Աբրահամյան'!K19 -> 10 | ... S19: ='Ա. Սմբատյան'!S19+'Դ. Բալայան'!S19+'Մ. Մելքոնյան'!S19+'Տ. Գրիգորյան'!S19+'Գ. Թորոսյան'!S19+'Ա. Մխիթարյան'!S19+'Ա. Փիլոսյան'!S19+'Վ. Աբրահամյան'!S19 -> 0 | T19: =D19+E19 -> 10 | U19: =F19+K19+L19 -> 10 | V19: =K19 -> 10 | W19: =G19+H19+I19+J19 -> 10
A20: 3 | B20: Ñ³ñÏ³¹Çñ µáõÅÙ³Ý ï»ë³ÏÇ ÷á÷áËáõÃÛ³Ý Ù³ëÇÝ ÙÇçÝáñ¹áõÃÛáõÝÝ»ñ | D20: ='Ա. Սմբատյան'!D20+'Դ. Բալայան'!D20+'Մ. Մելքոնյան'!D20+'Տ. Գրիգորյան'!D20+'Գ. Թորոսյան'!D20+'Ա. Մխիթարյան'!D20+'Ա. Փիլոսյան'!D20+'Վ. Աբրահամյան'!D20 -> 0 | E20: ='Ա. Սմբատյան'!E20+'Դ. Բալայան'!E20+'Մ. Մելքոնյան'!E20+'Տ. Գրիգորյան'!E20+'Գ. Թորոսյան'!E20+'Ա. Մխիթարյան'!E20+'Ա. Փիլոսյան'!E20+'Վ. Աբրահամյան'!E20 -> 0 | F20: ='Ա. Սմբատյան'!F20+'Դ. Բալայան'!F20+'Մ. Մելքոնյան'!F20+'Տ. Գրիգորյան'!F20+'Գ. Թորոսյան'!F20+'Ա. Մխիթարյան'!F20+'Ա. Փիլոսյան'!F20+'Վ. Աբրահամյան'!F20 -> 0 | G20: ='Ա. Սմբատյան'!G20+'Դ. Բալայան'!G20+'Մ. Մելքոնյան'!G20+'Տ. Գրիգորյան'!G20+'Գ. Թորոսյան'!G20+'Ա. Մխիթարյան'!G20+'Ա. Փիլոսյան'!G20+'Վ. Աբրահամյան'!G20 -> 0 | H20: ='Ա. Սմբատյան'!H20+'Դ. Բալայան'!H20+'Մ. Մելքոնյան'!H20+'Տ. Գրիգորյան'!H20+'Գ. Թորոսյան'!H20+'Ա. Մխիթարյան'!H20+'Ա. Փիլոսյան'!H20+'Վ. Աբրահամյան'!H20 -> 0 | I20: ='Ա. Սմբատյան'!I20+'Դ. Բալայան'!I20+'Մ. Մելքոնյան'!I20+'Տ. Գրիգորյան'!I20+'Գ. Թորոսյան'!I20+'Ա. Մխիթարյան'!I20+'Ա. Փիլոսյան'!I20+'Վ. Աբրահամյան'!I20 -> 0 | J20: ='Ա. Սմբատյան'!J20+'Դ. Բալայան'!J20+'Մ. Մելքոնյան'!J20+'Տ. Գրիգորյան'!J20+'Գ. Թորոսյան'!J20+'Ա. Մխիթարյան'!J20+'Ա. Փիլոսյան'!J20+'Վ. Աբրահամյան'!J20 -> 0 | K20: ='Ա. Սմբատյան'!K20+'Դ. Բալայան'!K20+'Մ. Մելքոնյան'!K20+'Տ. Գրիգորյան'!K20+'Գ. Թորոսյան'!K20+'Ա. Մխիթարյան'!K20+'Ա. Փիլոսյան'!K20+'Վ. Աբրահամյան'!K20 -> 0 | ... S20: ='Ա. Սմբատյան'!S20+'Դ. Բալայան'!S20+'Մ. Մելքոնյան'!S20+'Տ. Գրիգորյան'!S20+'Գ. Թորոսյան'!S20+'Ա. Մխիթարյան'!S20+'Ա. Փիլոսյան'!S20+'Վ. Աբրահամյան'!S20 -> 0 | T20: =D20+E20 -> 0 | U20: =F20+K20+L20 -> 0 | V20: =K20 -> 0 | W20: =G20+H20+I20+J20 -> 0
A21: 4 | B21: ³ÛÉ ÙÇçÝáñ¹áõÃÛáõÝÝ»ñ | D21: ='Ա. Սմբատյան'!D21+'Դ. Բալայան'!D21+'Մ. Մելքոնյան'!D21+'Տ. Գրիգորյան'!D21+'Գ. Թորոսյան'!D21+'Ա. Մխիթարյան'!D21+'Ա. Փիլոսյան'!D21+'Վ. Աբրահամյան'!D21 -> 0 | E21: ='Ա. Սմբատյան'!E21+'Դ. Բալայան'!E21+'Մ. Մելքոնյան'!E21+'Տ. Գրիգորյան'!E21+'Գ. Թորոսյան'!E21+'Ա. Մխիթարյան'!E21+'Ա. Փիլոսյան'!E21+'Վ. Աբրահամյան'!E21 -> 10 | F21: ='Ա. Սմբատյան'!F21+'Դ. Բալայան'!F21+'Մ. Մելքոնյան'!F21+'Տ. Գրիգորյան'!F21+'Գ. Թորոսյան'!F21+'Ա. Մխիթարյան'!F21+'Ա. Փիլոսյան'!F21+'Վ. Աբրահամյան'!F21 -> 1 | G21: ='Ա. Սմբատյան'!G21+'Դ. Բալայան'!G21+'Մ. Մելքոնյան'!G21+'Տ. Գրիգորյան'!G21+'Գ. Թորոսյան'!G21+'Ա. Մխիթարյան'!G21+'Ա. Փիլոսյան'!G21+'Վ. Աբրահամյան'!G21 -> 3 | H21: ='Ա. Սմբատյան'!H21+'Դ. Բալայան'!H21+'Մ. Մելքոնյան'!H21+'Տ. Գրիգորյան'!H21+'Գ. Թորոսյան'!H21+'Ա. Մխիթարյան'!H21+'Ա. Փիլոսյան'!H21+'Վ. Աբրահամյան'!H21 -> 4 | I21: ='Ա. Սմբատյան'!I21+'Դ. Բալայան'!I21+'Մ. Մելքոնյան'!I21+'Տ. Գրիգորյան'!I21+'Գ. Թորոսյան'!I21+'Ա. Մխիթարյան'!I21+'Ա. Փիլոսյան'!I21+'Վ. Աբրահամյան'!I21 -> 0 | J21: ='Ա. Սմբատյան'!J21+'Դ. Բալայան'!J21+'Մ. Մելքոնյան'!J21+'Տ. Գրիգորյան'!J21+'Գ. Թորոսյան'!J21+'Ա. Մխիթարյան'!J21+'Ա. Փիլոսյան'!J21+'Վ. Աբրահամյան'!J21 -> 2 | K21: ='Ա. Սմբատյան'!K21+'Դ. Բալայան'!K21+'Մ. Մելքոնյան'!K21+'Տ. Գրիգորյան'!K21+'Գ. Թորոսյան'!K21+'Ա. Մխիթարյան'!K21+'Ա. Փիլոսյան'!K21+'Վ. Աբրահամյան'!K21 -> 9 | ... S21: ='Ա. Սմբատյան'!S21+'Դ. Բալայան'!S21+'Մ. Մելքոնյան'!S21+'Տ. Գրիգորյան'!S21+'Գ. Թորոսյան'!S21+'Ա. Մխիթարյան'!S21+'Ա. Փիլոսյան'!S21+'Վ. Աբրահամյան'!S21 -> 0 | T21: =D21+E21 -> 10 | U21: =F21+K21+L21 -> 10 | V21: =K21 -> 9 | W21: =G21+H21+I21+J21 -> 9
A22: 5 | B22: ¹³ï³Ï³Ý Ñ³ÝÓÝ³ñ³ñáõÃÛáõÝÝ»ñ | D22: ='Ա. Սմբատյան'!D22+'Դ. Բալայան'!D22+'Մ. Մելքոնյան'!D22+'Տ. Գրիգորյան'!D22+'Գ. Թորոսյան'!D22+'Ա. Մխիթարյան'!D22+'Ա. Փիլոսյան'!D22+'Վ. Աբրահամյան'!D22 -> 10 | E22: ='Ա. Սմբատյան'!E22+'Դ. Բալայան'!E22+'Մ. Մելքոնյան'!E22+'Տ. Գրիգորյան'!E22+'Գ. Թորոսյան'!E22+'Ա. Մխիթարյան'!E22+'Ա. Փիլոսյան'!E22+'Վ. Աբրահամյան'!E22 -> 17 | F22: ='Ա. Սմբատյան'!F22+'Դ. Բալայան'!F22+'Մ. Մելքոնյան'!F22+'Տ. Գրիգորյան'!F22+'Գ. Թորոսյան'!F22+'Ա. Մխիթարյան'!F22+'Ա. Փիլոսյան'!F22+'Վ. Աբրահամյան'!F22 -> 7 | G22: ='Ա. Սմբատյան'!G22+'Դ. Բալայան'!G22+'Մ. Մելքոնյան'!G22+'Տ. Գրիգորյան'!G22+'Գ. Թորոսյան'!G22+'Ա. Մխիթարյան'!G22+'Ա. Փիլոսյան'!G22+'Վ. Աբրահամյան'!G22 -> 1 | H22: ='Ա. Սմբատյան'!H22+'Դ. Բալայան'!H22+'Մ. Մելքոնյան'!H22+'Տ. Գրիգորյան'!H22+'Գ. Թորոսյան'!H22+'Ա. Մխիթարյան'!H22+'Ա. Փիլոսյան'!H22+'Վ. Աբրահամյան'!H22 -> 4 | I22: ='Ա. Սմբատյան'!I22+'Դ. Բալայան'!I22+'Մ. Մելքոնյան'!I22+'Տ. Գրիգորյան'!I22+'Գ. Թորոսյան'!I22+'Ա. Մխիթարյան'!I22+'Ա. Փիլոսյան'!I22+'Վ. Աբրահամյան'!I22 -> 1 | J22: ='Ա. Սմբատյան'!J22+'Դ. Բալայան'!J22+'Մ. Մելքոնյան'!J22+'Տ. Գրիգորյան'!J22+'Գ. Թորոսյան'!J22+'Ա. Մխիթարյան'!J22+'Ա. Փիլոսյան'!J22+'Վ. Աբրահամյան'!J22 -> 3 | K22: ='Ա. Սմբատյան'!K22+'Դ. Բալայան'!K22+'Մ. Մելքոնյան'!K22+'Տ. Գրիգորյան'!K22+'Գ. Թորոսյան'!K22+'Ա. Մխիթարյան'!K22+'Ա. Փիլոսյան'!K22+'Վ. Աբրահամյան'!K22 -> 9 | ... S22: ='Ա. Սմբատյան'!S22+'Դ. Բալայան'!S22+'Մ. Մելքոնյան'!S22+'Տ. Գրիգորյան'!S22+'Գ. Թորոսյան'!S22+'Ա. Մխիթարյան'!S22+'Ա. Փիլոսյան'!S22+'Վ. Աբրահամյան'!S22 -> 0 | T22: =D22+E22 -> 27 | U22: =F22+K22+L22 -> 27 | V22: =K22 -> 9 | W22: =G22+H22+I22+J22 -> 9
A23: ÀÜ¸²ØºÜÀ | D23: ='Ա. Սմբատյան'!D23+'Դ. Բալայան'!D23+'Մ. Մելքոնյան'!D23+'Տ. Գրիգորյան'!D23+'Գ. Թորոսյան'!D23+'Ա. Մխիթարյան'!D23+'Ա. Փիլոսյան'!D23+'Վ. Աբրահամյան'!D23 -> 17 | E23: ='Ա. Սմբատյան'!E23+'Դ. Բալայան'!E23+'Մ. Մելքոնյան'!E23+'Տ. Գրիգորյան'!E23+'Գ. Թորոսյան'!E23+'Ա. Մխիթարյան'!E23+'Ա. Փիլոսյան'!E23+'Վ. Աբրահամյան'!E23 -> 578 | F23: ='Ա. Սմբատյան'!F23+'Դ. Բալայան'!F23+'Մ. Մելքոնյան'!F23+'Տ. Գրիգորյան'!F23+'Գ. Թորոսյան'!F23+'Ա. Մխիթարյան'!F23+'Ա. Փիլոսյան'!F23+'Վ. Աբրահամյան'!F23 -> 14 | G23: ='Ա. Սմբատյան'!G23+'Դ. Բալայան'!G23+'Մ. Մելքոնյան'!G23+'Տ. Գրիգորյան'!G23+'Գ. Թորոսյան'!G23+'Ա. Մխիթարյան'!G23+'Ա. Փիլոսյան'!G23+'Վ. Աբրահամյան'!G23 -> 96 | H23: ='Ա. Սմբատյան'!H23+'Դ. Բալայան'!H23+'Մ. Մելքոնյան'!H23+'Տ. Գրիգորյան'!H23+'Գ. Թորոսյան'!H23+'Ա. Մխիթարյան'!H23+'Ա. Փիլոսյան'!H23+'Վ. Աբրահամյան'!H23 -> 439 | I23: ='Ա. Սմբատյան'!I23+'Դ. Բալայան'!I23+'Մ. Մելքոնյան'!I23+'Տ. Գրիգորյան'!I23+'Գ. Թորոսյան'!I23+'Ա. Մխիթարյան'!I23+'Ա. Փիլոսյան'!I23+'Վ. Աբրահամյան'!I23 -> 17 | J23: ='Ա. Սմբատյան'!J23+'Դ. Բալայան'!J23+'Մ. Մելքոնյան'!J23+'Տ. Գրիգորյան'!J23+'Գ. Թորոսյան'!J23+'Ա. Մխիթարյան'!J23+'Ա. Փիլոսյան'!J23+'Վ. Աբրահամյան'!J23 -> 7 | K23: ='Ա. Սմբատյան'!K23+'Դ. Բալայան'!K23+'Մ. Մելքոնյան'!K23+'Տ. Գրիգորյան'!K23+'Գ. Թորոսյան'!K23+'Ա. Մխիթարյան'!K23+'Ա. Փիլոսյան'!K23+'Վ. Աբրահամյան'!K23 -> 559 | ... S23: ='Ա. Սմբատյան'!S23+'Դ. Բալայան'!S23+'Մ. Մելքոնյան'!S23+'Տ. Գրիգորյան'!S23+'Գ. Թորոսյան'!S23+'Ա. Մխիթարյան'!S23+'Ա. Փիլոսյան'!S23+'Վ. Աբրահամյան'!S23 -> 0 | T23: =SUM(T7:T16,T18:T22) -> 595 | U23: =F23+K23+L23 -> 595 | V23: =SUM(V7:V16,V18:V22) -> 559 | W23: =SUM(W7:W16,W18:W22) -> 559

Sheet Ա. Սմբատյան
A1: 2015Ã. | D1: Ð²ÞìºîìàôÂÚàôÜ | P1: Ð³í»Éí³Í Ð³Û³ëï³ÝÇ Ð³Ýñ³å»ïáõÃÛ³Ý ¸³ï³ñ³ÝÝ»ñÇ Ý³Ë³·³ÑÝ»ñÇ ËáñÑñ¹Ç 01.02.2016Ã. ÃÇí 11È áñáßÙ³Ý
A2: ØÇÝã¹³ï³Ï³Ý í³ñáõÛÃÇ ÝÏ³ïÙ³Ùµ ¹³ï³Ï³Ý í»ñ³ÑëÏáÕáõÃÛ³ÝÁ, ¹³ï³Ï³Ý ³Ïï»ñÇ ¨ ¹³ï³Ï³Ý Ñ³ÝÓÝ³ñ³ñáõÃÛáõÝÝ»ñÇ Ï³ï³ñÙ³ÝÁ Ñ»ï Ï³åí³Í ÙÇçÝáñ¹áõÃÛáõÝÝ»ñÇ í»ñ³µ»ñÛ³É ¹³ï³Ï³Ý ·áñÍ»ñáí ºñ¨³Ý ù³Õ³ùÇ ²ç³÷ÝÛ³Ï ¨ ¸³íÃ³ß»Ý í³ñã³Ï³Ý ßñç³ÝÝ»ñÇ ÁÝ¹Ñ³Ýáõñ Çñ³í³ëáõÃÛ³Ý ³é³çÇÝ ³ïÛ³ÝÇ ¹³ï³ñ³ÝÇ ¹³ï³íáñ ².êØ´²îÚ²ÜÆ ·áñÍáõÝ»áõÃÛ³Ý í»ñ³µ»ñÛ³É
A3: êïáõ·Çã Ñ³í³ë³ñáõÙ` 1+2=3+8+9, 8=4+5+6+7, | D3: Ð³ßí»ïáõ Å³Ù³Ý³Ï³Ñ³ïí³ÍÇ ëÏ½µáõÙ Ý³Ëáñ¹ Ñ³ßí»ïáõ Å³Ù³Ý³Ï³Ñ³ïí³ÍÇó ÷áË³Ýóí³Í ·áñÍ»ñÇ ÁÝ¹Ñ³Ýáõñ ÃÇíÁ | E3: Ð³ßí»ïáõ Å³Ù³Ý³Ï³Ñ³ïí³ÍáõÙ ëï³óí³Í ·áñÍ»ñÇ ÁÝ¹Ñ³Ýáõñ ÃÇíÁ | F3: öáË³Ýóí»É ¿ ³ÛÉ ¹³ï³íáñÇ Ï³Ù ³ÛÉ ¹³ï³ñ³Ý (Ï³½ÙÇ ÷á÷áËáõÃÛáõÝ, ÁÝ¹¹³ïáõÃÛáõÝ) | G3: Ð³ßí»ïáõ Å³Ù³Ý³Ï³Ñ³ïí³ÍáõÙ ³í³ñïí³Í ·áñÍ»ñÇ ÁÝ¹Ñ³Ýáõñ ÃÇíÁ | L3: Ð³ßí»ïáõ Å³Ù³Ý³Ï³Ñ³ïí³ÍáõÙ ³Ý³í³ñï ·áñÍ»ñÇ ÁÝ¹Ñ³Ýáõñ ÃÇíÁ | M3: ØÇçÝáñ¹áõÃÛáõÝÝ»ñáí Ï³Û³óí³Í ¹³ï³Ï³Ý ³Ïï»ñÇó µáÕáù³ñÏí³ÍÝ»ñÇ ù³Ý³ÏÁ | O3: ²Ý³í³ñï µáÕáùÝ»ñ | P3: ØÇçÝáñ¹áõÃÛáõÝÝ»ñáí Ï³Û³óí³Í ¨ µáÕáù³ñÏí³Í ¹³ï³Ï³Ý ³Ïï»ñÇó µ»Ï³Ýí³ÍÝ»ñÇ ù³Ý³ÏÁ | R3: ÙÇçÝáñ¹áõÃÛáõÝÝ»ñáí Ï³Û³óí³Í ¨ µáÕáù³ñÏí³Í ¹³ï³Ï³Ý ³Ïï»ñÇó ³Ý÷á÷áË ÃáÕÝí³ÍÝ»ñÇ ù³Ý³ÏÁ
G4: Ù»ñÅí»É ¿ | H4: µ³í³ñ³ñí»É ¿ | I4: µ³í³ñ³ñí»É ¿ Ù³ëÝ³ÏÇ | J4: ÃáÕÝí»É ¿ ³é³Ýó ùÝÝáõÃÛ³Ý | K4: ÀÝ¹³Ù»ÝÁ
M5: Ý³Ëáñ¹ ï³ñÇÝ»ñÇÝ Ï³Û³óí³Í ³Ïï»ñÇ ¹»Ù | N5: Ñ³ßí»ïáõ Å³Ù³Ý³Ï³ßñç³ÝáõÙ Ï³Û³óí³Í ³Ïï»ñÇ ¹»Ù | P5: Ý³Ëáñ¹ ï³ñÇÝ»ñÇÝ Ï³Û³óí³Í ³Ïï»ñÇ µ»Ï³ÝáõÙÝ»ñÁ | Q5: Ñ³ßí»ïáõ Å³Ù³Ý³Ï³ßñç³ÝáõÙ Ï³Û³óí³Í ³Ïï»ñÇ µ»Ï³ÝáõÙÝ»ñÁ
A6: 1. ØÇÝã¹³ï³Ï³Ý í³ñáõÛÃÇ ÝÏ³ïÙ³Ùµ ¹³ï³Ï³Ý í»ñ³ÑëÏáÕáõÃÛ³Ý áÉáñï | D6: 1 | E6: 2 | F6: 3 | G6: 4 | H6: 5 | I6: 6 | J6: 7 | K6: 8 | L6: 9 | M6: 10 | N6: 11 | O6: 12 | P6: 13 | Q6: 14 | R6: 15 | T6: 1+2=3+8+9 | V6: 8=4+5+6+7
A7: 1 | B7: Ï³É³ÝùÁ áñå»ë Ë³÷³ÝÙ³Ý ÙÇçáó ÏÇñ³é»Éáõ Ù³ëÇÝ ÙÇçÝáñ¹áõÃÛáõÝÝ»ñ | D7: 0 | E7: 5 | F7: 0 | H7: 5 | K7: 5 | L7: 0 | T7: =D7+E7 -> 5 | U7: =F7+K7+L7 -> 5 | V7: =K7 -> 5 | W7: =G7+H7+I7+J7 -> 5
A8: 2 | B8: Ï³É³ÝùÇ Å³ÙÏ»ïÁ »ñÏ³ñ³óÝ»Éáõ Ù³ëÇÝ ÙÇçÝáñ¹áõÃÛáõÝÝ»ñ | D8: 0 | E8: 4 | F8: 0 | H8: 4 | K8: 4 | L8: 0 | T8: =D8+E8 -> 4 | U8: =F8+K8+L8 -> 4 | V8: =K8 -> 4 | W8: =G8+H8+I8+J8 -> 4
A9: 3 | B9: Ï³É³ÝùÇ í»ñ³Ñ³ëï³ïÙ³Ý Ù³ëÇÝ ÙÇçÝáñ¹áõÃÛáõÝÝ»ñ | D9: 0 | E9: 0 | F9: 0 | H9: 0 | K9: 0 | L9: 0 | T9: =D9+E9 -> 0 | U9: =F9+K9+L9 -> 0 | V9: =K9 -> 0 | W9: =G9+H9+I9+J9 -> 0
A10: 4 | B10: ·ñ³íÁ áñå»ë Ï³É³Ý³íáñÙ³Ý ³ÛÉÁÝïñ³Ýù³ÛÇÝ Ë³÷³ÝÙ³Ý ÙÇçáó ÏÇñ³é»Éáõ Ù³ëÇÝ ÙÇçÝáñ¹áõÃÛáõÝÝ»ñ | D10: 0 | E10: 0 | F10: 0 | K10: 0 | L10: 0 | T10: =D10+E10 -> 0 | U10: =F10+K10+L10 -> 0 | V10: =K10 -> 0 | W10: =G10+H10+I10+J10 -> 0
A11: 5 | B11: Ëáõ½³ñÏáõÃÛ³Ý Ï³ï³ñÙ³Ý Ù³ëÇÝ ÙÇçÝáñ¹áõÃÛáõÝÝ»ñ | D11: 0 | E11: 9 | F11: 0 | G11: 1 | H11: 8 | K11: 9 | L11: 0 | T11: =D11+E11 -> 9 | U11: =F11+K11+L11 -> 9 | V11: =K11 -> 9 | W11: =G11+H11+I11+J11 -> 9
A12: 6 | B12: µ³ÝÏ³ÛÇÝ, ³å³Ñáí³·ñ³Ï³Ý, Ýáï³ñ³Ï³Ý ·³ÕïÝÇù Ï³½ÙáÕ ï»Õ»ÏáõÃÛáõÝÝ»ñÇ ëï³óÙ³Ý Ñ³Ù³ñ Ëáõ½³ñÏáõÃÛ³Ý Ï³Ù ³é·ñ³íÙ³Ý Ï³ï³ñÙ³Ý Ù³ëÇÝ ÙÇçÝáñ¹áõÃÛáõÝÝ»ñ | D12: 0 | E12: 0 | F12: 0 | K12: 0 | L12: 0 | T12: =D12+E12 -> 0 | U12: =F12+K12+L12 -> 0 | V12: =K12 -> 0 | W12: =G12+H12+I12+J12 -> 0
A13: 7 | B13: Ý³Ù³Ï³·ñáõÃÛ³Ý, Ñ»é³·ñ³Ï³Ý, ÷áuï³ÛÇÝ Ñ³Õáñ¹áõÙÝ»ñÇ ÑëÏáÕáõÃÛ³Ý Ù³ëÇÝ ÙÇçÝáñ¹áõÃÛáõÝÝ»ñ | D13: 0 | E13: 0 | F13: 0 | K13: 0 | L13: 0 | T13: =D13+E13 -> 0 | U13: =F13+K13+L13 -> 0 | V13: =K13 -> 0 | W13: =G13+H13+I13+J13 -> 0
A14: 8 | B14: Ñ»é³Ëáu³ÛÇÝ Ï³Ù Ï³åÇ ³ÛÉ ÙÇçáóÝ»ñáí ï³ñíáÕ Ëáu³ÏóáõÃÛáõÝÝ»ñÇ ÉuÙ³Ý ¨ Ó³ÛÝ³·ñ³éÙ³Ý Ù³ëÇÝ ÙÇçÝáñ¹áõÃÛáõÝÝ»ñ | D14: 0 | E14: 0 | F14: 0 | K14: 0 | L14: 0 | T14: =D14+E14 -> 0 | U14: =F14+K14+L14 -> 0 | V14: =K14 -> 0 | W14: =G14+H14+I14+J14 -> 0
A15: 9 | B15: Ñ»é³ËáëÝ»ñÇ Ùáõïù³ÛÇÝ ¨ »Éù³ÛÇÝ í»ñÍ³ÝÙ³Ý ÃáõÛÉïíáõÃÛáõÝ ëï³Ý³Éáõ Ù³ëÇÝ ÙÇçÝáñ¹áõÃÛáõÝÝ»ñ | D15: 0 | E15: 8 | F15: 0 | G15: 1 | H15: 7 | K15: 8 | L15: 0 | T15: =D15+E15 -> 8 | U15: =F15+K15+L15 -> 8 | V15: =K15 -> 8 | W15: =G15+H15+I15+J15 -> 8
A16: 10 | B16: Ñ»ï³ùÝÝáõÃÛ³Ý Ù³ñÙÝÇ ³ßË³ïáÕÇ, ùÝÝÇãÇ, ¹³ï³Ë³½Ç oå»ñ³ïÇí-Ñ»ï³Ëáõ½³Ï³Ý ·áñÍáÕáõÃÛáõÝÝ»ñ Çñ³Ï³Ý³óÝáÕ Ù³ñÙÇÝÝ»ñÇ ³ÝoñÇÝ³Ï³Ý ¨ ³ÝÑÇÙÝ áñáßáõÙÝ»ñÇ ¨ ·áñÍáÕáõÃÛáõÝÝ»ñÇ ¹»Ù µáÕáùÝ»ñ | D16: 0 | E16: 0 | F16: 0 | K16: 0 | L16: 0 | T16: =D16+E16 -> 0 | U16: =F16+K16+L16 -> 0 | V16: =K16 -> 0 | W16: =G16+H16+I16+J16 -> 0
A17: 2. ¸³ï³Ï³Ý ³Ïï»ñÇ ¨ ¹³ï³Ï³Ý Ñ³ÝÓÝ³ñ³ñáõÃÛáõÝÝ»ñÇ Ï³ï³ñÙ³Ý Ñ»ï Ï³åí³Í Ñ³ñó»ñÇ ÉáõÍÙ³Ý áÉáñï
A18: 1 | B18: å³ïÅÇó å³ÛÙ³Ý³Ï³Ý í³Õ³Å³ÙÏ»ï ³½³ï»Éáõ Ù³ëÇÝ ÙÇçÝáñ¹áõÃÛáõÝÝ»ñ | D18: 0 | E18: 0 | F18: 0 | K18: 0 | L18: 0 | T18: =D18+E18 -> 0 | U18: =F18+K18+L18 -> 0 | V18: =K18 -> 0 | W18: =G18+H18+I18+J18 -> 0
A19: 2 | B19: å³ïÇÅÁ ÷á÷áË»Éáõ, Ñ»ï³Ó·»Éáõ ¨ å³ïÅÇó ³½³ï»Éáõ Ù³uÇÝ ÙÇçÝáñ¹áõÃÛáõÝÝ»ñ | D19: 0 | E19: 0 | F19: 0 | K19: 0 | L19: 0 | T19: =D19+E19 -> 0 | U19: =F19+K19+L19 -> 0 | V19: =K19 -> 0 | W19: =G19+H19+I19+J19 -> 0
A20: 3 | B20: Ñ³ñÏ³¹Çñ µáõÅÙ³Ý ï»ë³ÏÇ ÷á÷áËáõÃÛ³Ý Ù³ëÇÝ ÙÇçÝáñ¹áõÃÛáõÝÝ»ñ | T20: =D20+E20 -> 0 | U20: =F20+K20+L20 -> 0 | V20: =K20 -> 0 | W20: =G20+H20+I20+J20 -> 0
A21: 4 | B21: ³ÛÉ ÙÇçÝáñ¹áõÃÛáõÝÝ»ñ | D21: 0 | E21: 0 | F21: 0 | K21: 0 | L21: 0 | T21: =D21+E21 -> 0 | U21: =F21+K21+L21 -> 0 | V21: =K21 -> 0 | W21: =G21+H21+I21+J21 -> 0
A22: 5 | B22: ¹³ï³Ï³Ý Ñ³ÝÓÝ³ñ³ñáõÃÛáõÝÝ»ñ | D22: 5 | E22: 2 | F22: 7 | L22: 0 | T22: =D22+E22 -> 7 | U22: =F22+K22+L22 -> 7 | V22: =K22 -> 0 | W22: =G22+H22+I22+J22 -> 0
A23: ÀÜ¸²ØºÜÀ | D23: =D7+D8+D9+D10+D11+D12+D13+D14+D15+D16+D18+D19+D20+D21+D22 -> 5 | E23: =E7+E8+E9+E10+E11+E12+E13+E14+E15+E16+E18+E19+E20+E21+E22 -> 28 | F23: =F7+F8+F9+F10+F11+F12+F13+F14+F15+F16+F18+F19+F20+F21+F22 -> 7 | G23: =G7+G8+G9+G10+G11+G12+G13+G14+G15+G16+G18+G19+G20+G21+G22 -> 2 | H23: =H7+H8+H9+H10+H11+H12+H13+H14+H15+H16+H18+H19+H20+H21+H22 -> 24 | I23: =I7+I8+I9+I10+I11+I12+I13+I14+I15+I16+I18+I19+I20+I21+I22 -> 0 | J23: =J7+J8+J9+J10+J11+J12+J13+J14+J15+J16+J18+J19+J20+J21+J22 -> 0 | K23: =K7+K8+K9+K10+K11+K12+K13+K14+K15+K16+K18+K19+K20+K21+K22 -> 26 | ... R23: =R7+R8+R9+R10+R11+R12+R13+R14+R15+R16+R18+R19+R20+R21+R22 -> 0 | T23: =SUM(T7:T16,T18:T22) -> 33 | U23: =F23+K23+L23 -> 33 | V23: =SUM(V7:V16,V18:V22) -> 26 | W23: =SUM(W7:W16,W18:W22) -> 26

Sheet Դ. Բալայան
A1: 2015Ã. | D1: Ð²ÞìºîìàôÂÚàôÜ | P1: Ð³í»Éí³Í Ð³Û³ëï³ÝÇ Ð³Ýñ³å»ïáõÃÛ³Ý ¸³ï³ñ³ÝÝ»ñÇ Ý³Ë³·³ÑÝ»ñÇ ËáñÑñ¹Ç 01.02.2016Ã. ÃÇí 11È áñáßÙ³Ý
A2: ØÇÝã¹³ï³Ï³Ý í³ñáõÛÃÇ ÝÏ³ïÙ³Ùµ ¹³ï³Ï³Ý í»ñ³ÑëÏáÕáõÃÛ³ÝÁ, ¹³ï³Ï³Ý ³Ïï»ñÇ ¨ ¹³ï³Ï³Ý Ñ³ÝÓÝ³ñ³ñáõÃÛáõÝÝ»ñÇ Ï³ï³ñÙ³ÝÁ Ñ»ï Ï³åí³Í ÙÇçÝáñ¹áõÃÛáõÝÝ»ñÇ í»ñ³µ»ñÛ³É ¹³ï³Ï³Ý ·áñÍ»ñáí ºñ¨³Ý ù³Õ³ùÇ ²ç³÷ÝÛ³Ï ¨ ¸³íÃ³ß»Ý í³ñã³Ï³Ý ßñç³ÝÝ»ñÇ ÁÝ¹Ñ³Ýáõñ Çñ³í³ëáõÃÛ³Ý ³é³çÇÝ ³ïÛ³ÝÇ ¹³ï³ñ³ÝÇ ¹³ï³íáñ ¸.´²È²Ú²ÜÆ ·áñÍáõÝ»áõÃÛ³Ý í»ñ³µ»ñÛ³É
A3: êïáõ·Çã Ñ³í³ë³ñáõÙ` 1+2=3+8+9, 8=4+5+6+7, | D3: Ð³ßí»ïáõ Å³Ù³Ý³Ï³Ñ³ïí³ÍÇ ëÏ½µáõÙ Ý³Ëáñ¹ Ñ³ßí»ïáõ Å³Ù³Ý³Ï³Ñ³ïí³ÍÇó ÷áË³Ýóí³Í ·áñÍ»ñÇ ÁÝ¹Ñ³Ýáõñ ÃÇíÁ | E3: Ð³ßí»ïáõ Å³Ù³Ý³Ï³Ñ³ïí³ÍáõÙ ëï³óí³Í ·áñÍ»ñÇ ÁÝ¹Ñ³Ýáõñ ÃÇíÁ | F3: öáË³Ýóí»É ¿ ³ÛÉ ¹³ï³íáñÇ Ï³Ù ³ÛÉ ¹³ï³ñ³Ý (Ï³½ÙÇ ÷á÷áËáõÃÛáõÝ, ÁÝ¹¹³ïáõÃÛáõÝ) | G3: Ð³ßí»ïáõ Å³Ù³Ý³Ï³Ñ³ïí³ÍáõÙ ³í³ñïí³Í ·áñÍ»ñÇ ÁÝ¹Ñ³Ýáõñ ÃÇíÁ | L3: Ð³ßí»ïáõ Å³Ù³Ý³Ï³Ñ³ïí³ÍáõÙ ³Ý³í³ñï ·áñÍ»ñÇ ÁÝ¹Ñ³Ýáõñ ÃÇíÁ | M3: ØÇçÝáñ¹áõÃÛáõÝÝ»ñáí Ï³Û³óí³Í ¹³ï³Ï³Ý ³Ïï»ñÇó µáÕáù³ñÏí³ÍÝ»ñÇ ù³Ý³ÏÁ | O3: ²Ý³í³ñï µáÕáùÝ»ñ | P3: ØÇçÝáñ¹áõÃÛáõÝÝ»ñáí Ï³Û³óí³Í ¨ µáÕáù³ñÏí³Í ¹³ï³Ï³Ý ³Ïï»ñÇó µ»Ï³Ýí³ÍÝ»ñÇ ù³Ý³ÏÁ | R3: ÙÇçÝáñ¹áõÃÛáõÝÝ»ñáí Ï³Û³óí³Í ¨ µáÕáù³ñÏí³Í ¹³ï³Ï³Ý ³Ïï»ñÇó ³Ý÷á÷áË ÃáÕÝí³ÍÝ»ñÇ ù³Ý³ÏÁ
G4: Ù»ñÅí»É ¿ | H4: µ³í³ñ³ñí»É ¿ | I4: µ³í³ñ³ñí»É ¿ Ù³ëÝ³ÏÇ | J4: ÃáÕÝí»É ¿ ³é³Ýó ùÝÝáõÃÛ³Ý | K4: ÀÝ¹³Ù»ÝÁ
M5: Ý³Ëáñ¹ ï³ñÇÝ»ñÇÝ Ï³Û³óí³Í ³Ïï»ñÇ ¹»Ù | N5: Ñ³ßí»ïáõ Å³Ù³Ý³Ï³ßñç³ÝáõÙ Ï³Û³óí³Í ³Ïï»ñÇ ¹»Ù | P5: Ý³Ëáñ¹ ï³ñÇÝ»ñÇÝ Ï³Û³óí³Í ³Ïï»ñÇ µ»Ï³ÝáõÙÝ»ñÁ | Q5: Ñ³ßí»ïáõ Å³Ù³Ý³Ï³ßñç³ÝáõÙ Ï³Û³óí³Í ³Ïï»ñÇ µ»Ï³ÝáõÙÝ»ñÁ
A6: 1. ØÇÝã¹³ï³Ï³Ý í³ñáõÛÃÇ ÝÏ³ïÙ³Ùµ ¹³ï³Ï³Ý í»ñ³ÑëÏáÕáõÃÛ³Ý áÉáñï | D6: 1 | E6: 2 | F6: 3 | G6: 4 | H6: 5 | I6: 6 | J6: 7 | K6: 8 | L6: 9 | M6: 10 | N6: 11 | O6: 12 | P6: 13 | Q6: 14 | R6: 15 | T6: 1+2=3+8+9 | V6: 8=4+5+6+7
A7: 1 | B7: Ï³É³ÝùÁ áñå»ë Ë³÷³ÝÙ³Ý ÙÇçáó ÏÇñ³é»Éáõ Ù³ëÇÝ ÙÇçÝáñ¹áõÃÛáõÝÝ»ñ | E7: 3 | G7: 1 | H7: 1 | I7: 1 | K7: 3 | L7: 0 | N7: 2 | O7: 0 | Q7: 1 | R7: 1 | T7: =D7+E7 -> 3 | U7: =F7+K7+L7 -> 3 | V7: =K7 -> 3 | W7: =G7+H7+I7+J7 -> 3
A8: 2 | B8: Ï³É³ÝùÇ Å³ÙÏ»ïÁ »ñÏ³ñ³óÝ»Éáõ Ù³ëÇÝ ÙÇçÝáñ¹áõÃÛáõÝÝ»ñ | E8: 3 | G8: 1 | H8: 1 | I8: 1 | K8: 3 | L8: 0 | N8: 1 | O8: 0 | R8: 1 | T8: =D8+E8 -> 3 | U8: =F8+K8+L8 -> 3 | V8: =K8 -> 3 | W8: =G8+H8+I8+J8 -> 3
A9: 3 | B9: Ï³É³ÝùÇ í»ñ³Ñ³ëï³ïÙ³Ý Ù³ëÇÝ ÙÇçÝáñ¹áõÃÛáõÝÝ»ñ | E9: 1 | H9: 1 | K9: 1 | L9: 0 | T9: =D9+E9 -> 1 | U9: =F9+K9+L9 -> 1 | V9: =K9 -> 1 | W9: =G9+H9+I9+J9 -> 1
A10: 4 | B10: ·ñ³íÁ áñå»ë Ï³É³Ý³íáñÙ³Ý ³ÛÉÁÝïñ³Ýù³ÛÇÝ Ë³÷³ÝÙ³Ý ÙÇçáó ÏÇñ³é»Éáõ Ù³ëÇÝ ÙÇçÝáñ¹áõÃÛáõÝÝ»ñ | E10: 2 | G10: 2 | K10: 2 | L10: 0 | T10: =D10+E10 -> 2 | U10: =F10+K10+L10 -> 2 | V10: =K10 -> 2 | W10: =G10+H10+I10+J10 -> 2
A11: 5 | B11: Ëáõ½³ñÏáõÃÛ³Ý Ï³ï³ñÙ³Ý Ù³ëÇÝ ÙÇçÝáñ¹áõÃÛáõÝÝ»ñ | E11: 2 | H11: 2 | K11: 2 | L11: 0 | T11: =D11+E11 -> 2 | U11: =F11+K11+L11 -> 2 | V11: =K11 -> 2 | W11: =G11+H11+I11+J11 -> 2
A12: 6 | B12: µ³ÝÏ³ÛÇÝ, ³å³Ñáí³·ñ³Ï³Ý, Ýáï³ñ³Ï³Ý ·³ÕïÝÇù Ï³½ÙáÕ ï»Õ»ÏáõÃÛáõÝÝ»ñÇ ëï³óÙ³Ý Ñ³Ù³ñ Ëáõ½³ñÏáõÃÛ³Ý Ï³Ù ³é·ñ³íÙ³Ý Ï³ï³ñÙ³Ý Ù³ëÇÝ ÙÇçÝáñ¹áõÃÛáõÝÝ»ñ | E12: 0 | T12: =D12+E12 -> 0 | U12: =F12+K12+L12 -> 0 | V12: =K12 -> 0 | W12: =G12+H12+I12+J12 -> 0
A13: 7 | B13: Ý³Ù³Ï³·ñáõÃÛ³Ý, Ñ»é³·ñ³Ï³Ý, ÷áuï³ÛÇÝ Ñ³Õáñ¹áõÙÝ»ñÇ ÑëÏáÕáõÃÛ³Ý Ù³ëÇÝ ÙÇçÝáñ¹áõÃÛáõÝÝ»ñ | E13: 0 | T13: =D13+E13 -> 0 | U13: =F13+K13+L13 -> 0 | V13: =K13 -> 0 | W13: =G13+H13+I13+J13 -> 0
A14: 8 | B14: Ñ»é³Ëáu³ÛÇÝ Ï³Ù Ï³åÇ ³ÛÉ ÙÇçáóÝ»ñáí ï³ñíáÕ Ëáu³ÏóáõÃÛáõÝÝ»ñÇ ÉuÙ³Ý ¨ Ó³ÛÝ³·ñ³éÙ³Ý Ù³ëÇÝ ÙÇçÝáñ¹áõÃÛáõÝÝ»ñ | E14: 0 | T14: =D14+E14 -> 0 | U14: =F14+K14+L14 -> 0 | V14: =K14 -> 0 | W14: =G14+H14+I14+J14 -> 0
A15: 9 | B15: Ñ»é³ËáëÝ»ñÇ Ùáõïù³ÛÇÝ ¨ »Éù³ÛÇÝ í»ñÍ³ÝÙ³Ý ÃáõÛÉïíáõÃÛáõÝ ëï³Ý³Éáõ Ù³ëÇÝ ÙÇçÝáñ¹áõÃÛáõÝÝ»ñ | E15: 3 | H15: 3 | K15: 3 | L15: 0 | T15: =D15+E15 -> 3 | U15: =F15+K15+L15 -> 3 | V15: =K15 -> 3 | W15: =G15+H15+I15+J15 -> 3
A16: 10 | B16: Ñ»ï³ùÝÝáõÃÛ³Ý Ù³ñÙÝÇ ³ßË³ïáÕÇ, ùÝÝÇãÇ, ¹³ï³Ë³½Ç oå»ñ³ïÇí-Ñ»ï³Ëáõ½³Ï³Ý ·áñÍáÕáõÃÛáõÝÝ»ñ Çñ³Ï³Ý³óÝáÕ Ù³ñÙÇÝÝ»ñÇ ³ÝoñÇÝ³Ï³Ý ¨ ³ÝÑÇÙÝ áñáßáõÙÝ»ñÇ ¨ ·áñÍáÕáõÃÛáõÝÝ»ñÇ ¹»Ù µáÕáùÝ»ñ | D16: 4 | E16: 2 | F16: 6 | K16: 0 | L16: 0 | T16: =D16+E16 -> 6 | U16: =F16+K16+L16 -> 6 | V16: =K16 -> 0 | W16: =G16+H16+I16+J16 -> 0
A17: 2. ¸³ï³Ï³Ý ³Ïï»ñÇ ¨ ¹³ï³Ï³Ý Ñ³ÝÓÝ³ñ³ñáõÃÛáõÝÝ»ñÇ Ï³ï³ñÙ³Ý Ñ»ï Ï³åí³Í Ñ³ñó»ñÇ ÉáõÍÙ³Ý áÉáñï
A18: 1 | B18: å³ïÅÇó å³ÛÙ³Ý³Ï³Ý í³Õ³Å³ÙÏ»ï ³½³ï»Éáõ Ù³ëÇÝ ÙÇçÝáñ¹áõÃÛáõÝÝ»ñ | T18: =D18+E18 -> 0 | U18: =F18+K18+L18 -> 0 | V18: =K18 -> 0 | W18: =G18+H18+I18+J18 -> 0
A19: 2 | B19: å³ïÇÅÁ ÷á÷áË»Éáõ, Ñ»ï³Ó·»Éáõ ¨ å³ïÅÇó ³½³ï»Éáõ Ù³uÇÝ ÙÇçÝáñ¹áõÃÛáõÝÝ»ñ | D19: 1 | E19: 2 | H19: 1 | I19: 2 | K19: 3 | L19: 0 | T19: =D19+E19 -> 3 | U19: =F19+K19+L19 -> 3 | V19: =K19 -> 3 | W19: =G19+H19+I19+J19 -> 3
A20: 3 | B20: Ñ³ñÏ³¹Çñ µáõÅÙ³Ý ï»ë³ÏÇ ÷á÷áËáõÃÛ³Ý Ù³ëÇÝ ÙÇçÝáñ¹áõÃÛáõÝÝ»ñ | T20: =D20+E20 -> 0 | U20: =F20+K20+L20 -> 0 | V20: =K20 -> 0 | W20: =G20+H20+I20+J20 -> 0
A21: 4 | B21: ³ÛÉ ÙÇçÝáñ¹áõÃÛáõÝÝ»ñ | D21: 0 | T21: =D21+E21 -> 0 | U21: =F21+K21+L21 -> 0 | V21: =K21 -> 0 | W21: =G21+H21+I21+J21 -> 0
A22: 5 | B22: ¹³ï³Ï³Ý Ñ³ÝÓÝ³ñ³ñáõÃÛáõÝÝ»ñ | D22: 1 | I22: 1 | K22: 1 | L22: 0 | T22: =D22+E22 -> 1 | U22: =F22+K22+L22 -> 1 | V22: =K22 -> 1 | W22: =G22+H22+I22+J22 -> 1
A23: ÀÜ¸²ØºÜÀ | D23: =D7+D8+D9+D10+D11+D12+D13+D14+D15+D16+D18+D19+D20+D21+D22 -> 6 | E23: =E7+E8+E9+E10+E11+E12+E13+E14+E15+E16+E18+E19+E20+E21+E22 -> 18 | F23: =F7+F8+F9+F10+F11+F12+F13+F14+F15+F16+F18+F19+F20+F21+F22 -> 6 | G23: =G7+G8+G9+G10+G11+G12+G13+G14+G15+G16+G18+G19+G20+G21+G22 -> 4 | H23: =H7+H8+H9+H10+H11+H12+H13+H14+H15+H16+H18+H19+H20+H21+H22 -> 9 | I23: =I7+I8+I9+I10+I11+I12+I13+I14+I15+I16+I18+I19+I20+I21+I22 -> 5 | J23: =J7+J8+J9+J10+J11+J12+J13+J14+J15+J16+J18+J19+J20+J21+J22 -> 0 | K23: =K7+K8+K9+K10+K11+K12+K13+K14+K15+K16+K18+K19+K20+K21+K22 -> 18 | ... R23: =R7+R8+R9+R10+R11+R12+R13+R14+R15+R16+R18+R19+R20+R21+R22 -> 2 | T23: =SUM(T7:T16,T18:T22) -> 24 | U23: =F23+K23+L23 -> 24 | V23: =SUM(V7:V16,V18:V22) -> 18 | W23: =SUM(W7:W16,W18:W22) -> 18

Sheet Մ. Մելքոնյան
A1: 2015Ã. | D1: Ð²ÞìºîìàôÂÚàôÜ | P1: Ð³í»Éí³Í Ð³Û³ëï³ÝÇ Ð³Ýñ³å»ïáõÃÛ³Ý ¸³ï³ñ³ÝÝ»ñÇ Ý³Ë³·³ÑÝ»ñÇ ËáñÑñ¹Ç 01.02.2016Ã. ÃÇí 11È áñáßÙ³Ý
A2: ØÇÝã¹³ï³Ï³Ý í³ñáõÛÃÇ ÝÏ³ïÙ³Ùµ ¹³ï³Ï³Ý í»ñ³ÑëÏáÕáõÃÛ³ÝÁ, ¹³ï³Ï³Ý ³Ïï»ñÇ ¨ ¹³ï³Ï³Ý Ñ³ÝÓÝ³ñ³ñáõÃÛáõÝÝ»ñÇ Ï³ï³ñÙ³ÝÁ Ñ»ï Ï³åí³Í ÙÇçÝáñ¹áõÃÛáõÝÝ»ñÇ í»ñ³µ»ñÛ³É ¹³ï³Ï³Ý ·áñÍ»ñáí ºñ¨³Ý ù³Õ³ùÇ ²ç³÷ÝÛ³Ï ¨ ¸³íÃ³ß»Ý í³ñã³Ï³Ý ßñç³ÝÝ»ñÇ ÁÝ¹Ñ³Ýáõñ Çñ³í³ëáõÃÛ³Ý ³é³çÇÝ ³ïÛ³ÝÇ ¹³ï³ñ³ÝÇ ¹³ï³íáñ Ø.ØºÈøàÜÚ²ÜÆ ·áñÍáõÝ»áõÃÛ³Ý í»ñ³µ»ñÛ³É
A3: êïáõ·Çã Ñ³í³ë³ñáõÙ` 1+2=3+8+9, 8=4+5+6+7, | D3: Ð³ßí»ïáõ Å³Ù³Ý³Ï³Ñ³ïí³ÍÇ ëÏ½µáõÙ Ý³Ëáñ¹ Ñ³ßí»ïáõ Å³Ù³Ý³Ï³Ñ³ïí³ÍÇó ÷áË³Ýóí³Í ·áñÍ»ñÇ ÁÝ¹Ñ³Ýáõñ ÃÇíÁ | E3: Ð³ßí»ïáõ Å³Ù³Ý³Ï³Ñ³ïí³ÍáõÙ ëï³óí³Í ·áñÍ»ñÇ ÁÝ¹Ñ³Ýáõñ ÃÇíÁ | F3: öáË³Ýóí»É ¿ ³ÛÉ ¹³ï³íáñÇ Ï³Ù ³ÛÉ ¹³ï³ñ³Ý (Ï³½ÙÇ ÷á÷áËáõÃÛáõÝ, ÁÝ¹¹³ïáõÃÛáõÝ) | G3: Ð³ßí»ïáõ Å³Ù³Ý³Ï³Ñ³ïí³ÍáõÙ ³í³ñïí³Í ·áñÍ»ñÇ ÁÝ¹Ñ³Ýáõñ ÃÇíÁ | L3: Ð³ßí»ïáõ Å³Ù³Ý³Ï³Ñ³ïí³ÍáõÙ ³Ý³í³ñï ·áñÍ»ñÇ ÁÝ¹Ñ³Ýáõñ ÃÇíÁ | M3: ØÇçÝáñ¹áõÃÛáõÝÝ»ñáí Ï³Û³óí³Í ¹³ï³Ï³Ý ³Ïï»ñÇó µáÕáù³ñÏí³ÍÝ»ñÇ ù³Ý³ÏÁ | O3: ²Ý³í³ñï µáÕáùÝ»ñ | P3: ØÇçÝáñ¹áõÃÛáõÝÝ»ñáí Ï³Û³óí³Í ¨ µáÕáù³ñÏí³Í ¹³ï³Ï³Ý ³Ïï»ñÇó µ»Ï³Ýí³ÍÝ»ñÇ ù³Ý³ÏÁ | R3: ÙÇçÝáñ¹áõÃÛáõÝÝ»ñáí Ï³Û³óí³Í ¨ µáÕáù³ñÏí³Í ¹³ï³Ï³Ý ³Ïï»ñÇó ³Ý÷á÷áË ÃáÕÝí³ÍÝ»ñÇ ù³Ý³ÏÁ
G4: Ù»ñÅí»É ¿ | H4: µ³í³ñ³ñí»É ¿ | I4: µ³í³ñ³ñí»É ¿ Ù³ëÝ³ÏÇ | J4: ÃáÕÝí»É ¿ ³é³Ýó ùÝÝáõÃÛ³Ý | K4: ÀÝ¹³Ù»ÝÁ
M5: Ý³Ëáñ¹ ï³ñÇÝ»ñÇÝ Ï³Û³óí³Í ³Ïï»ñÇ ¹»Ù | N5: Ñ³ßí»ïáõ Å³Ù³Ý³Ï³ßñç³ÝáõÙ Ï³Û³óí³Í ³Ïï»ñÇ ¹»Ù | P5: Ý³Ëáñ¹ ï³ñÇÝ»ñÇÝ Ï³Û³óí³Í ³Ïï»ñÇ µ»Ï³ÝáõÙÝ»ñÁ | Q5: Ñ³ßí»ïáõ Å³Ù³Ý³Ï³ßñç³ÝáõÙ Ï³Û³óí³Í ³Ïï»ñÇ µ»Ï³ÝáõÙÝ»ñÁ
A6: 1. ØÇÝã¹³ï³Ï³Ý í³ñáõÛÃÇ ÝÏ³ïÙ³Ùµ ¹³ï³Ï³Ý í»ñ³ÑëÏáÕáõÃÛ³Ý áÉáñï | D6: 1 | E6: 2 | F6: 3 | G6: 4 | H6: 5 | I6: 6 | J6: 7 | K6: 8 | L6: 9 | M6: 10 | N6: 11 | O6: 12 | P6: 13 | Q6: 14 | R6: 15 | T6: 1+2=3+8+9 | V6: 8=4+5+6+7
A7: 1 | B7: Ï³É³ÝùÁ áñå»ë Ë³÷³ÝÙ³Ý ÙÇçáó ÏÇñ³é»Éáõ Ù³ëÇÝ ÙÇçÝáñ¹áõÃÛáõÝÝ»ñ | E7: 9 | H7: 8 | J7: 1 | K7: 9 | L7: 0 | N7: 1 | O7: 0 | R7: 1 | T7: =D7+E7 -> 9 | U7: =F7+K7+L7 -> 9 | V7: =K7 -> 9 | W7: =G7+H7+I7+J7 -> 9
A8: 2 | B8: Ï³É³ÝùÇ Å³ÙÏ»ïÁ »ñÏ³ñ³óÝ»Éáõ Ù³ëÇÝ ÙÇçÝáñ¹áõÃÛáõÝÝ»ñ | E8: 5 | H8: 5 | K8: 5 | L8: 0 | N8: 2 | O8: 0 | R8: 2 | T8: =D8+E8 -> 5 | U8: =F8+K8+L8 -> 5 | V8: =K8 -> 5 | W8: =G8+H8+I8+J8 -> 5
A9: 3 | B9: Ï³É³ÝùÇ í»ñ³Ñ³ëï³ïÙ³Ý Ù³ëÇÝ ÙÇçÝáñ¹áõÃÛáõÝÝ»ñ | E9: 2 | H9: 2 | K9: 2 | L9: 0 | N9: 1 | O9: 0 | R9: 1 | T9: =D9+E9 -> 2 | U9: =F9+K9+L9 -> 2 | V9: =K9 -> 2 | W9: =G9+H9+I9+J9 -> 2
A10: 4 | B10: ·ñ³íÁ áñå»ë Ï³É³Ý³íáñÙ³Ý ³ÛÉÁÝïñ³Ýù³ÛÇÝ Ë³÷³ÝÙ³Ý ÙÇçáó ÏÇñ³é»Éáõ Ù³ëÇÝ ÙÇçÝáñ¹áõÃÛáõÝÝ»ñ | E10: 9 | G10: 5 | H10: 3 | J10: 1 | K10: 9 | L10: 0 | N10: 2 | O10: 0 | Q10: 2 | T10: =D10+E10 -> 9 | U10: =F10+K10+L10 -> 9 | V10: =K10 -> 9 | W10: =G10+H10+I10+J10 -> 9
A11: 5 | B11: Ëáõ½³ñÏáõÃÛ³Ý Ï³ï³ñÙ³Ý Ù³ëÇÝ ÙÇçÝáñ¹áõÃÛáõÝÝ»ñ | E11: 37 | G11: 4 | H11: 32 | I11: 1 | K11: 37 | L11: 0 | N11: 1 | O11: 1 | T11: =D11+E11 -> 37 | U11: =F11+K11+L11 -> 37 | V11: =K11 -> 37 | W11: =G11+H11+I11+J11 -> 37
A12: 6 | B12: µ³ÝÏ³ÛÇÝ, ³å³Ñáí³·ñ³Ï³Ý, Ýáï³ñ³Ï³Ý ·³ÕïÝÇù Ï³½ÙáÕ ï»Õ»ÏáõÃÛáõÝÝ»ñÇ ëï³óÙ³Ý Ñ³Ù³ñ Ëáõ½³ñÏáõÃÛ³Ý Ï³Ù ³é·ñ³íÙ³Ý Ï³ï³ñÙ³Ý Ù³ëÇÝ ÙÇçÝáñ¹áõÃÛáõÝÝ»ñ | E12: 1 | H12: 1 | K12: 1 | L12: 0 | T12: =D12+E12 -> 1 | U12: =F12+K12+L12 -> 1 | V12: =K12 -> 1 | W12: =G12+H12+I12+J12 -> 1
A13: 7 | B13: Ý³Ù³Ï³·ñáõÃÛ³Ý, Ñ»é³·ñ³Ï³Ý, ÷áuï³ÛÇÝ Ñ³Õáñ¹áõÙÝ»ñÇ ÑëÏáÕáõÃÛ³Ý Ù³ëÇÝ ÙÇçÝáñ¹áõÃÛáõÝÝ»ñ | E13: 1 | H13: 1 | K13: 1 | L13: 0 | T13: =D13+E13 -> 1 | U13: =F13+K13+L13 -> 1 | V13: =K13 -> 1 | W13: =G13+H13+I13+J13 -> 1
A14: 8 | B14: Ñ»é³Ëáu³ÛÇÝ Ï³Ù Ï³åÇ ³ÛÉ ÙÇçáóÝ»ñáí ï³ñíáÕ Ëáu³ÏóáõÃÛáõÝÝ»ñÇ ÉuÙ³Ý ¨ Ó³ÛÝ³·ñ³éÙ³Ý Ù³ëÇÝ ÙÇçÝáñ¹áõÃÛáõÝÝ»ñ | E14: 2 | H14: 1 | I14: 1 | K14: 2 | L14: 0 | N14: 1 | O14: 0 | R14: 1 | T14: =D14+E14 -> 2 | U14: =F14+K14+L14 -> 2 | V14: =K14 -> 2 | W14: =G14+H14+I14+J14 -> 2
A15: 9 | B15: Ñ»é³ËáëÝ»ñÇ Ùáõïù³ÛÇÝ ¨ »Éù³ÛÇÝ í»ñÍ³ÝÙ³Ý ÃáõÛÉïíáõÃÛáõÝ ëï³Ý³Éáõ Ù³ëÇÝ ÙÇçÝáñ¹áõÃÛáõÝÝ»ñ | E15: 49 | G15: 1 | H15: 46 | I15: 2 | K15: 49 | L15: 0 | T15: =D15+E15 -> 49 | U15: =F15+K15+L15 -> 49 | V15: =K15 -> 49 | W15: =G15+H15+I15+J15 -> 49
A16: 10 | B16: Ñ»ï³ùÝÝáõÃÛ³Ý Ù³ñÙÝÇ ³ßË³ïáÕÇ, ùÝÝÇãÇ, ¹³ï³Ë³½Ç oå»ñ³ïÇí-Ñ»ï³Ëáõ½³Ï³Ý ·áñÍáÕáõÃÛáõÝÝ»ñ Çñ³Ï³Ý³óÝáÕ Ù³ñÙÇÝÝ»ñÇ ³ÝoñÇÝ³Ï³Ý ¨ ³ÝÑÇÙÝ áñáßáõÙÝ»ñÇ ¨ ·áñÍáÕáõÃÛáõÝÝ»ñÇ ¹»Ù µáÕáùÝ»ñ | D16: 1 | E16: 21 | G16: 14 | H16: 2 | K16: 16 | L16: 6 | N16: 6 | O16: 1 | Q16: 1 | R16: 4 | T16: =D16+E16 -> 22 | U16: =F16+K16+L16 -> 22 | V16: =K16 -> 16 | W16: =G16+H16+I16+J16 -> 16
A17: 2. ¸³ï³Ï³Ý ³Ïï»ñÇ ¨ ¹³ï³Ï³Ý Ñ³ÝÓÝ³ñ³ñáõÃÛáõÝÝ»ñÇ Ï³ï³ñÙ³Ý Ñ»ï Ï³åí³Í Ñ³ñó»ñÇ ÉáõÍÙ³Ý áÉáñï
A18: 1 | B18: å³ïÅÇó å³ÛÙ³Ý³Ï³Ý í³Õ³Å³ÙÏ»ï ³½³ï»Éáõ Ù³ëÇÝ ÙÇçÝáñ¹áõÃÛáõÝÝ»ñ | T18: =D18+E18 -> 0 | U18: =F18+K18+L18 -> 0 | V18: =K18 -> 0 | W18: =G18+H18+I18+J18 -> 0
A19: 2 | B19: å³ïÇÅÁ ÷á÷áË»Éáõ, Ñ»ï³Ó·»Éáõ ¨ å³ïÅÇó ³½³ï»Éáõ Ù³uÇÝ ÙÇçÝáñ¹áõÃÛáõÝÝ»ñ | D19: 1 | E19: 1 | H19: 2 | K19: 2 | T19: =D19+E19 -> 2 | U19: =F19+K19+L19 -> 2 | V19: =K19 -> 2 | W19: =G19+H19+I19+J19 -> 2
A20: 3 | B20: Ñ³ñÏ³¹Çñ µáõÅÙ³Ý ï»ë³ÏÇ ÷á÷áËáõÃÛ³Ý Ù³ëÇÝ ÙÇçÝáñ¹áõÃÛáõÝÝ»ñ | T20: =D20+E20 -> 0 | U20: =F20+K20+L20 -> 0 | V20: =K20 -> 0 | W20: =G20+H20+I20+J20 -> 0
A21: 4 | B21: ³ÛÉ ÙÇçÝáñ¹áõÃÛáõÝÝ»ñ | E21: 4 | G21: 1 | H21: 1 | J21: 2 | K21: 4 | T21: =D21+E21 -> 4 | U21: =F21+K21+L21 -> 4 | V21: =K21 -> 4 | W21: =G21+H21+I21+J21 -> 4
A22: 5 | B22: ¹³ï³Ï³Ý Ñ³ÝÓÝ³ñ³ñáõÃÛáõÝÝ»ñ | E22: 4 | G22: 1 | H22: 2 | K22: 3 | L22: 1 | T22: =D22+E22 -> 4 | U22: =F22+K22+L22 -> 4 | V22: =K22 -> 3 | W22: =G22+H22+I22+J22 -> 3
A23: ÀÜ¸²ØºÜÀ | D23: =D7+D8+D9+D10+D11+D12+D13+D14+D15+D16+D18+D19+D20+D21+D22 -> 2 | E23: =E7+E8+E9+E10+E11+E12+E13+E14+E15+E16+E18+E19+E20+E21+E22 -> 145 | F23: =F7+F8+F9+F10+F11+F12+F13+F14+F15+F16+F18+F19+F20+F21+F22 -> 0 | G23: =G7+G8+G9+G10+G11+G12+G13+G14+G15+G16+G18+G19+G20+G21+G22 -> 26 | H23: =H7+H8+H9+H10+H11+H12+H13+H14+H15+H16+H18+H19+H20+H21+H22 -> 106 | I23: =I7+I8+I9+I10+I11+I12+I13+I14+I15+I16+I18+I19+I20+I21+I22 -> 4 | J23: =J7+J8+J9+J10+J11+J12+J13+J14+J15+J16+J18+J19+J20+J21+J22 -> 4 | K23: =K7+K8+K9+K10+K11+K12+K13+K14+K15+K16+K18+K19+K20+K21+K22 -> 140 | ... R23: =R7+R8+R9+R10+R11+R12+R13+R14+R15+R16+R18+R19+R20+R21+R22 -> 9 | T23: =SUM(T7:T16,T18:T22) -> 147 | U23: =F23+K23+L23 -> 147 | V23: =SUM(V7:V16,V18:V22) -> 140 | W23: =SUM(W7:W16,W18:W22) -> 140

Sheet Տ. Գրիգորյան
A1: 2015Ã. | D1: Ð²ÞìºîìàôÂÚàôÜ | P1: Ð³í»Éí³Í Ð³Û³ëï³ÝÇ Ð³Ýñ³å»ïáõÃÛ³Ý ¸³ï³ñ³ÝÝ»ñÇ Ý³Ë³·³ÑÝ»ñÇ ËáñÑñ¹Ç 01.02.2016Ã. ÃÇí 11È áñáßÙ³Ý
A2: ØÇÝã¹³ï³Ï³Ý í³ñáõÛÃÇ ÝÏ³ïÙ³Ùµ ¹³ï³Ï³Ý í»ñ³ÑëÏáÕáõÃÛ³ÝÁ, ¹³ï³Ï³Ý ³Ïï»ñÇ ¨ ¹³ï³Ï³Ý Ñ³ÝÓÝ³ñ³ñáõÃÛáõÝÝ»ñÇ Ï³ï³ñÙ³ÝÁ Ñ»ï Ï³åí³Í ÙÇçÝáñ¹áõÃÛáõÝÝ»ñÇ í»ñ³µ»ñÛ³É ¹³ï³Ï³Ý ·áñÍ»ñáí ºñ¨³Ý ù³Õ³ùÇ ²ç³÷ÝÛ³Ï ¨ ¸³íÃ³ß»Ý í³ñã³Ï³Ý ßñç³ÝÝ»ñÇ ÁÝ¹Ñ³Ýáõñ Çñ³í³ëáõÃÛ³Ý ³é³çÇÝ ³ïÛ³ÝÇ ¹³ï³ñ³ÝÇ ¹³ï³íáñ î.¶ðÆ¶àðÚ²ÜÆ ·áñÍáõÝ»áõÃÛ³Ý í»ñ³µ»ñÛ³É
A3: êïáõ·Çã Ñ³í³ë³ñáõÙ` 1+2=3+8+9, 8=4+5+6+7, | D3: Ð³ßí»ïáõ Å³Ù³Ý³Ï³Ñ³ïí³ÍÇ ëÏ½µáõÙ Ý³Ëáñ¹ Ñ³ßí»ïáõ Å³Ù³Ý³Ï³Ñ³ïí³ÍÇó ÷áË³Ýóí³Í ·áñÍ»ñÇ ÁÝ¹Ñ³Ýáõñ ÃÇíÁ | E3: Ð³ßí»ïáõ Å³Ù³Ý³Ï³Ñ³ïí³ÍáõÙ ëï³óí³Í ·áñÍ»ñÇ ÁÝ¹Ñ³Ýáõñ ÃÇíÁ | F3: öáË³Ýóí»É ¿ ³ÛÉ ¹³ï³íáñÇ Ï³Ù ³ÛÉ ¹³ï³ñ³Ý (Ï³½ÙÇ ÷á÷áËáõÃÛáõÝ, ÁÝ¹¹³ïáõÃÛáõÝ) | G3: Ð³ßí»ïáõ Å³Ù³Ý³Ï³Ñ³ïí³ÍáõÙ ³í³ñïí³Í ·áñÍ»ñÇ ÁÝ¹Ñ³Ýáõñ ÃÇíÁ | L3: Ð³ßí»ïáõ Å³Ù³Ý³Ï³Ñ³ïí³ÍáõÙ ³Ý³í³ñï ·áñÍ»ñÇ ÁÝ¹Ñ³Ýáõñ ÃÇíÁ | M3: ØÇçÝáñ¹áõÃÛáõÝÝ»ñáí Ï³Û³óí³Í ¹³ï³Ï³Ý ³Ïï»ñÇó µáÕáù³ñÏí³ÍÝ»ñÇ ù³Ý³ÏÁ | O3: ²Ý³í³ñï µáÕáùÝ»ñ | P3: ØÇçÝáñ¹áõÃÛáõÝÝ»ñáí Ï³Û³óí³Í ¨ µáÕáù³ñÏí³Í ¹³ï³Ï³Ý ³Ïï»ñÇó µ»Ï³Ýí³ÍÝ»ñÇ ù³Ý³ÏÁ | R3: ÙÇçÝáñ¹áõÃÛáõÝÝ»ñáí Ï³Û³óí³Í ¨ µáÕáù³ñÏí³Í ¹³ï³Ï³Ý ³Ïï»ñÇó ³Ý÷á÷áË ÃáÕÝí³ÍÝ»ñÇ ù³Ý³ÏÁ
G4: Ù»ñÅí»É ¿ | H4: µ³í³ñ³ñí»É ¿ | I4: µ³í³ñ³ñí»É ¿ Ù³ëÝ³ÏÇ | J4: ÃáÕÝí»É ¿ ³é³Ýó ùÝÝáõÃÛ³Ý | K4: ÀÝ¹³Ù»ÝÁ
M5: Ý³Ëáñ¹ ï³ñÇÝ»ñÇÝ Ï³Û³óí³Í ³Ïï»ñÇ ¹»Ù | N5: Ñ³ßí»ïáõ Å³Ù³Ý³Ï³ßñç³ÝáõÙ Ï³Û³óí³Í ³Ïï»ñÇ ¹»Ù | P5: Ý³Ëáñ¹ ï³ñÇÝ»ñÇÝ Ï³Û³óí³Í ³Ïï»ñÇ µ»Ï³ÝáõÙÝ»ñÁ | Q5: Ñ³ßí»ïáõ Å³Ù³Ý³Ï³ßñç³ÝáõÙ Ï³Û³óí³Í ³Ïï»ñÇ µ»Ï³ÝáõÙÝ»ñÁ
A6: 1. ØÇÝã¹³ï³Ï³Ý í³ñáõÛÃÇ ÝÏ³ïÙ³Ùµ ¹³ï³Ï³Ý í»ñ³ÑëÏáÕáõÃÛ³Ý áÉáñï | D6: 1 | E6: 2 | F6: 3 | G6: 4 | H6: 5 | I6: 6 | J6: 7 | K6: 8 | L6: 9 | M6: 10 | N6: 11 | O6: 12 | P6: 13 | Q6: 14 | R6: 15 | T6: 1+2=3+8+9 | V6: 8=4+5+6+7
A7: 1 | B7: Ï³É³ÝùÁ áñå»ë Ë³÷³ÝÙ³Ý ÙÇçáó ÏÇñ³é»Éáõ Ù³ëÇÝ ÙÇçÝáñ¹áõÃÛáõÝÝ»ñ | E7: 8 | G7: 4 | H7: 4 | K7: 8 | L7: 0 | N7: 1 | O7: 0 | R7: 1 | T7: =D7+E7 -> 8 | U7: =F7+K7+L7 -> 8 | V7: =K7 -> 8 | W7: =G7+H7+I7+J7 -> 8
A8: 2 | B8: Ï³É³ÝùÇ Å³ÙÏ»ïÁ »ñÏ³ñ³óÝ»Éáõ Ù³ëÇÝ ÙÇçÝáñ¹áõÃÛáõÝÝ»ñ | E8: 5 | H8: 5 | K8: 5 | L8: 0 | N8: 3 | O8: 1 | R8: 2 | T8: =D8+E8 -> 5 | U8: =F8+K8+L8 -> 5 | V8: =K8 -> 5 | W8: =G8+H8+I8+J8 -> 5
A9: 3 | B9: Ï³É³ÝùÇ í»ñ³Ñ³ëï³ïÙ³Ý Ù³ëÇÝ ÙÇçÝáñ¹áõÃÛáõÝÝ»ñ | E9: 3 | H9: 3 | K9: 3 | L9: 0 | T9: =D9+E9 -> 3 | U9: =F9+K9+L9 -> 3 | V9: =K9 -> 3 | W9: =G9+H9+I9+J9 -> 3
A10: 4 | B10: ·ñ³íÁ áñå»ë Ï³É³Ý³íáñÙ³Ý ³ÛÉÁÝïñ³Ýù³ÛÇÝ Ë³÷³ÝÙ³Ý ÙÇçáó ÏÇñ³é»Éáõ Ù³ëÇÝ ÙÇçÝáñ¹áõÃÛáõÝÝ»ñ | E10: 5 | G10: 3 | H10: 2 | K10: 5 | L10: 0 | N10: 1 | O10: 0 | Q10: 1 | T10: =D10+E10 -> 5 | U10: =F10+K10+L10 -> 5 | V10: =K10 -> 5 | W10: =G10+H10+I10+J10 -> 5
A11: 5 | B11: Ëáõ½³ñÏáõÃÛ³Ý Ï³ï³ñÙ³Ý Ù³ëÇÝ ÙÇçÝáñ¹áõÃÛáõÝÝ»ñ | E11: 20 | G11: 4 | H11: 16 | K11: 20 | L11: 0 | T11: =D11+E11 -> 20 | U11: =F11+K11+L11 -> 20 | V11: =K11 -> 20 | W11: =G11+H11+I11+J11 -> 20
A12: 6 | B12: µ³ÝÏ³ÛÇÝ, ³å³Ñáí³·ñ³Ï³Ý, Ýáï³ñ³Ï³Ý ·³ÕïÝÇù Ï³½ÙáÕ ï»Õ»ÏáõÃÛáõÝÝ»ñÇ ëï³óÙ³Ý Ñ³Ù³ñ Ëáõ½³ñÏáõÃÛ³Ý Ï³Ù ³é·ñ³íÙ³Ý Ï³ï³ñÙ³Ý Ù³ëÇÝ ÙÇçÝáñ¹áõÃÛáõÝÝ»ñ | T12: =D12+E12 -> 0 | U12: =F12+K12+L12 -> 0 | V12: =K12 -> 0 | W12: =G12+H12+I12+J12 -> 0
A13: 7 | B13: Ý³Ù³Ï³·ñáõÃÛ³Ý, Ñ»é³·ñ³Ï³Ý, ÷áuï³ÛÇÝ Ñ³Õáñ¹áõÙÝ»ñÇ ÑëÏáÕáõÃÛ³Ý Ù³ëÇÝ ÙÇçÝáñ¹áõÃÛáõÝÝ»ñ | T13: =D13+E13 -> 0 | U13: =F13+K13+L13 -> 0 | V13: =K13 -> 0 | W13: =G13+H13+I13+J13 -> 0
A14: 8 | B14: Ñ»é³Ëáu³ÛÇÝ Ï³Ù Ï³åÇ ³ÛÉ ÙÇçáóÝ»ñáí ï³ñíáÕ Ëáu³ÏóáõÃÛáõÝÝ»ñÇ ÉuÙ³Ý ¨ Ó³ÛÝ³·ñ³éÙ³Ý Ù³ëÇÝ ÙÇçÝáñ¹áõÃÛáõÝÝ»ñ | E14: 1 | H14: 1 | K14: 1 | L14: 0 | T14: =D14+E14 -> 1 | U14: =F14+K14+L14 -> 1 | V14: =K14 -> 1 | W14: =G14+H14+I14+J14 -> 1
A15: 9 | B15: Ñ»é³ËáëÝ»ñÇ Ùáõïù³ÛÇÝ ¨ »Éù³ÛÇÝ í»ñÍ³ÝÙ³Ý ÃáõÛÉïíáõÃÛáõÝ ëï³Ý³Éáõ Ù³ëÇÝ ÙÇçÝáñ¹áõÃÛáõÝÝ»ñ | E15: 31 | G15: 2 | H15: 29 | K15: 31 | L15: 0 | T15: =D15+E15 -> 31 | U15: =F15+K15+L15 -> 31 | V15: =K15 -> 31 | W15: =G15+H15+I15+J15 -> 31
A16: 10 | B16: Ñ»ï³ùÝÝáõÃÛ³Ý Ù³ñÙÝÇ ³ßË³ïáÕÇ, ùÝÝÇãÇ, ¹³ï³Ë³½Ç oå»ñ³ïÇí-Ñ»ï³Ëáõ½³Ï³Ý ·áñÍáÕáõÃÛáõÝÝ»ñ Çñ³Ï³Ý³óÝáÕ Ù³ñÙÇÝÝ»ñÇ ³ÝoñÇÝ³Ï³Ý ¨ ³ÝÑÇÙÝ áñáßáõÙÝ»ñÇ ¨ ·áñÍáÕáõÃÛáõÝÝ»ñÇ ¹»Ù µáÕáùÝ»ñ | E16: 19 | G16: 17 | H16: 2 | K16: 19 | L16: 0 | N16: 12 | O16: 6 | Q16: 2 | R16: 4 | T16: =D16+E16 -> 19 | U16: =F16+K16+L16 -> 19 | V16: =K16 -> 19 | W16: =G16+H16+I16+J16 -> 19
A17: 2. ¸³ï³Ï³Ý ³Ïï»ñÇ ¨ ¹³ï³Ï³Ý Ñ³ÝÓÝ³ñ³ñáõÃÛáõÝÝ»ñÇ Ï³ï³ñÙ³Ý Ñ»ï Ï³åí³Í Ñ³ñó»ñÇ ÉáõÍÙ³Ý áÉáñï
A18: 1 | B18: å³ïÅÇó å³ÛÙ³Ý³Ï³Ý í³Õ³Å³ÙÏ»ï ³½³ï»Éáõ Ù³ëÇÝ ÙÇçÝáñ¹áõÃÛáõÝÝ»ñ | T18: =D18+E18 -> 0 | U18: =F18+K18+L18 -> 0 | V18: =K18 -> 0 | W18: =G18+H18+I18+J18 -> 0
A19: 2 | B19: å³ïÇÅÁ ÷á÷áË»Éáõ, Ñ»ï³Ó·»Éáõ ¨ å³ïÅÇó ³½³ï»Éáõ Ù³uÇÝ ÙÇçÝáñ¹áõÃÛáõÝÝ»ñ | E19: 4 | G19: 3 | H19: 1 | K19: 4 | L19: 0 | T19: =D19+E19 -> 4 | U19: =F19+K19+L19 -> 4 | V19: =K19 -> 4 | W19: =G19+H19+I19+J19 -> 4
A20: 3 | B20: Ñ³ñÏ³¹Çñ µáõÅÙ³Ý ï»ë³ÏÇ ÷á÷áËáõÃÛ³Ý Ù³ëÇÝ ÙÇçÝáñ¹áõÃÛáõÝÝ»ñ | T20: =D20+E20 -> 0 | U20: =F20+K20+L20 -> 0 | V20: =K20 -> 0 | W20: =G20+H20+I20+J20 -> 0
A21: 4 | B21: ³ÛÉ ÙÇçÝáñ¹áõÃÛáõÝÝ»ñ | E21: 5 | F21: 1 | G21: 2 | H21: 2 | K21: 4 | L21: 0 | T21: =D21+E21 -> 5 | U21: =F21+K21+L21 -> 5 | V21: =K21 -> 4 | W21: =G21+H21+I21+J21 -> 4
A22: 5 | B22: ¹³ï³Ï³Ý Ñ³ÝÓÝ³ñ³ñáõÃÛáõÝÝ»ñ | E22: 2 | J22: 1 | K22: 1 | L22: 1 | T22: =D22+E22 -> 2 | U22: =F22+K22+L22 -> 2 | V22: =K22 -> 1 | W22: =G22+H22+I22+J22 -> 1
A23: ÀÜ¸²ØºÜÀ | D23: =D7+D8+D9+D10+D11+D12+D13+D14+D15+D16+D18+D19+D20+D21+D22 -> 0 | E23: =E7+E8+E9+E10+E11+E12+E13+E14+E15+E16+E18+E19+E20+E21+E22 -> 103 | F23: =F7+F8+F9+F10+F11+F12+F13+F14+F15+F16+F18+F19+F20+F21+F22 -> 1 | G23: =G7+G8+G9+G10+G11+G12+G13+G14+G15+G16+G18+G19+G20+G21+G22 -> 35 | H23: =H7+H8+H9+H10+H11+H12+H13+H14+H15+H16+H18+H19+H20+H21+H22 -> 65 | I23: =I7+I8+I9+I10+I11+I12+I13+I14+I15+I16+I18+I19+I20+I21+I22 -> 0 | J23: =J7+J8+J9+J10+J11+J12+J13+J14+J15+J16+J18+J19+J20+J21+J22 -> 1 | K23: =K7+K8+K9+K10+K11+K12+K13+K14+K15+K16+K18+K19+K20+K21+K22 -> 101 | ... R23: =R7+R8+R9+R10+R11+R12+R13+R14+R15+R16+R18+R19+R20+R21+R22 -> 7 | T23: =SUM(T7:T16,T18:T22) -> 103 | U23: =F23+K23+L23 -> 103 | V23: =SUM(V7:V16,V18:V22) -> 101 | W23: =SUM(W7:W16,W18:W22) -> 101

Sheet Գ. Թորոսյան
A1: 2015Ã. | D1: Ð²ÞìºîìàôÂÚàôÜ | P1: Ð³í»Éí³Í Ð³Û³ëï³ÝÇ Ð³Ýñ³å»ïáõÃÛ³Ý ¸³ï³ñ³ÝÝ»ñÇ Ý³Ë³·³ÑÝ»ñÇ ËáñÑñ¹Ç 01.02.2016Ã. ÃÇí 11È áñáßÙ³Ý
A2: ØÇÝã¹³ï³Ï³Ý í³ñáõÛÃÇ ÝÏ³ïÙ³Ùµ ¹³ï³Ï³Ý í»ñ³ÑëÏáÕáõÃÛ³ÝÁ, ¹³ï³Ï³Ý ³Ïï»ñÇ ¨ ¹³ï³Ï³Ý Ñ³ÝÓÝ³ñ³ñáõÃÛáõÝÝ»ñÇ Ï³ï³ñÙ³ÝÁ Ñ»ï Ï³åí³Í ÙÇçÝáñ¹áõÃÛáõÝÝ»ñÇ í»ñ³µ»ñÛ³É ¹³ï³Ï³Ý ·áñÍ»ñáí ºñ¨³Ý ù³Õ³ùÇ ²ç³÷ÝÛ³Ï ¨ ¸³íÃ³ß»Ý í³ñã³Ï³Ý ßñç³ÝÝ»ñÇ ÁÝ¹Ñ³Ýáõñ Çñ³í³ëáõÃÛ³Ý ³é³çÇÝ ³ïÛ³ÝÇ ¹³ï³ñ³ÝÇ ¹³ï³íáñ ¶.ÂàðàêÚ²ÜÆ ·áñÍáõÝ»áõÃÛ³Ý í»ñ³µ»ñÛ³É
A3: êïáõ·Çã Ñ³í³ë³ñáõÙ` 1+2=3+8+9, 8=4+5+6+7, | D3: Ð³ßí»ïáõ Å³Ù³Ý³Ï³Ñ³ïí³ÍÇ ëÏ½µáõÙ Ý³Ëáñ¹ Ñ³ßí»ïáõ Å³Ù³Ý³Ï³Ñ³ïí³ÍÇó ÷áË³Ýóí³Í ·áñÍ»ñÇ ÁÝ¹Ñ³Ýáõñ ÃÇíÁ | E3: Ð³ßí»ïáõ Å³Ù³Ý³Ï³Ñ³ïí³ÍáõÙ ëï³óí³Í ·áñÍ»ñÇ ÁÝ¹Ñ³Ýáõñ ÃÇíÁ | F3: öáË³Ýóí»É ¿ ³ÛÉ ¹³ï³íáñÇ Ï³Ù ³ÛÉ ¹³ï³ñ³Ý (Ï³½ÙÇ ÷á÷áËáõÃÛáõÝ, ÁÝ¹¹³ïáõÃÛáõÝ) | G3: Ð³ßí»ïáõ Å³Ù³Ý³Ï³Ñ³ïí³ÍáõÙ ³í³ñïí³Í ·áñÍ»ñÇ ÁÝ¹Ñ³Ýáõñ ÃÇíÁ | L3: Ð³ßí»ïáõ Å³Ù³Ý³Ï³Ñ³ïí³ÍáõÙ ³Ý³í³ñï ·áñÍ»ñÇ ÁÝ¹Ñ³Ýáõñ ÃÇíÁ | M3: ØÇçÝáñ¹áõÃÛáõÝÝ»ñáí Ï³Û³óí³Í ¹³ï³Ï³Ý ³Ïï»ñÇó µáÕáù³ñÏí³ÍÝ»ñÇ ù³Ý³ÏÁ | O3: ²Ý³í³ñï µáÕáùÝ»ñ | P3: ØÇçÝáñ¹áõÃÛáõÝÝ»ñáí Ï³Û³óí³Í ¨ µáÕáù³ñÏí³Í ¹³ï³Ï³Ý ³Ïï»ñÇó µ»Ï³Ýí³ÍÝ»ñÇ ù³Ý³ÏÁ | R3: ÙÇçÝáñ¹áõÃÛáõÝÝ»ñáí Ï³Û³óí³Í ¨ µáÕáù³ñÏí³Í ¹³ï³Ï³Ý ³Ïï»ñÇó ³Ý÷á÷áË ÃáÕÝí³ÍÝ»ñÇ ù³Ý³ÏÁ
G4: Ù»ñÅí»É ¿ | H4: µ³í³ñ³ñí»É ¿ | I4: µ³í³ñ³ñí»É ¿ Ù³ëÝ³ÏÇ | J4: ÃáÕÝí»É ¿ ³é³Ýó ùÝÝáõÃÛ³Ý | K4: ÀÝ¹³Ù»ÝÁ
M5: Ý³Ëáñ¹ ï³ñÇÝ»ñÇÝ Ï³Û³óí³Í ³Ïï»ñÇ ¹»Ù | N5: Ñ³ßí»ïáõ Å³Ù³Ý³Ï³ßñç³ÝáõÙ Ï³Û³óí³Í ³Ïï»ñÇ ¹»Ù | P5: Ý³Ëáñ¹ ï³ñÇÝ»ñÇÝ Ï³Û³óí³Í ³Ïï»ñÇ µ»Ï³ÝáõÙÝ»ñÁ | Q5: Ñ³ßí»ïáõ Å³Ù³Ý³Ï³ßñç³ÝáõÙ Ï³Û³óí³Í ³Ïï»ñÇ µ»Ï³ÝáõÙÝ»ñÁ
A6: 1. ØÇÝã¹³ï³Ï³Ý í³ñáõÛÃÇ ÝÏ³ïÙ³Ùµ ¹³ï³Ï³Ý í»ñ³ÑëÏáÕáõÃÛ³Ý áÉáñï | D6: 1 | E6: 2 | F6: 3 | G6: 4 | H6: 5 | I6: 6 | J6: 7 | K6: 8 | L6: 9 | M6: 10 | N6: 11 | O6: 12 | P6: 13 | Q6: 14 | R6: 15 | T6: 1+2=3+8+9 | V6: 8=4+5+6+7
A7: 1 | B7: Ï³É³ÝùÁ áñå»ë Ë³÷³ÝÙ³Ý ÙÇçáó ÏÇñ³é»Éáõ Ù³ëÇÝ ÙÇçÝáñ¹áõÃÛáõÝÝ»ñ | E7: 8 | H7: 8 | K7: 8 | L7: 0 | N7: 1 | T7: =D7+E7 -> 8 | U7: =F7+K7+L7 -> 8 | V7: =K7 -> 8 | W7: =G7+H7+I7+J7 -> 8
A8: 2 | B8: Ï³É³ÝùÇ Å³ÙÏ»ïÁ »ñÏ³ñ³óÝ»Éáõ Ù³ëÇÝ ÙÇçÝáñ¹áõÃÛáõÝÝ»ñ | E8: 12 | H8: 9 | I8: 1 | K8: 10 | L8: 2 | N8: 1 | O8: 0 | R8: 1 | T8: =D8+E8 -> 12 | U8: =F8+K8+L8 -> 12 | V8: =K8 -> 10 | W8: =G8+H8+I8+J8 -> 10
A9: 3 | B9: Ï³É³ÝùÇ í»ñ³Ñ³ëï³ïÙ³Ý Ù³ëÇÝ ÙÇçÝáñ¹áõÃÛáõÝÝ»ñ | E9: 2 | H9: 2 | K9: 2 | L9: 0 | N9: 1 | O9: 0 | R9: 1 | T9: =D9+E9 -> 2 | U9: =F9+K9+L9 -> 2 | V9: =K9 -> 2 | W9: =G9+H9+I9+J9 -> 2
A10: 4 | B10: ·ñ³íÁ áñå»ë Ï³É³Ý³íáñÙ³Ý ³ÛÉÁÝïñ³Ýù³ÛÇÝ Ë³÷³ÝÙ³Ý ÙÇçáó ÏÇñ³é»Éáõ Ù³ëÇÝ ÙÇçÝáñ¹áõÃÛáõÝÝ»ñ | E10: 14 | G10: 10 | H10: 4 | K10: 14 | L10: 0 | N10: 3 | O10: 0 | R10: 3 | T10: =D10+E10 -> 14 | U10: =F10+K10+L10 -> 14 | V10: =K10 -> 14 | W10: =G10+H10+I10+J10 -> 14
A11: 5 | B11: Ëáõ½³ñÏáõÃÛ³Ý Ï³ï³ñÙ³Ý Ù³ëÇÝ ÙÇçÝáñ¹áõÃÛáõÝÝ»ñ | E11: 57 | H11: 57 | K11: 57 | L11: 0 | T11: =D11+E11 -> 57 | U11: =F11+K11+L11 -> 57 | V11: =K11 -> 57 | W11: =G11+H11+I11+J11 -> 57
A12: 6 | B12: µ³ÝÏ³ÛÇÝ, ³å³Ñáí³·ñ³Ï³Ý, Ýáï³ñ³Ï³Ý ·³ÕïÝÇù Ï³½ÙáÕ ï»Õ»ÏáõÃÛáõÝÝ»ñÇ ëï³óÙ³Ý Ñ³Ù³ñ Ëáõ½³ñÏáõÃÛ³Ý Ï³Ù ³é·ñ³íÙ³Ý Ï³ï³ñÙ³Ý Ù³ëÇÝ ÙÇçÝáñ¹áõÃÛáõÝÝ»ñ | E12: 1 | H12: 1 | K12: 1 | L12: 0 | T12: =D12+E12 -> 1 | U12: =F12+K12+L12 -> 1 | V12: =K12 -> 1 | W12: =G12+H12+I12+J12 -> 1
A13: 7 | B13: Ý³Ù³Ï³·ñáõÃÛ³Ý, Ñ»é³·ñ³Ï³Ý, ÷áuï³ÛÇÝ Ñ³Õáñ¹áõÙÝ»ñÇ ÑëÏáÕáõÃÛ³Ý Ù³ëÇÝ ÙÇçÝáñ¹áõÃÛáõÝÝ»ñ | T13: =D13+E13 -> 0 | U13: =F13+K13+L13 -> 0 | V13: =K13 -> 0 | W13: =G13+H13+I13+J13 -> 0
A14: 8 | B14: Ñ»é³Ëáu³ÛÇÝ Ï³Ù Ï³åÇ ³ÛÉ ÙÇçáóÝ»ñáí ï³ñíáÕ Ëáu³ÏóáõÃÛáõÝÝ»ñÇ ÉuÙ³Ý ¨ Ó³ÛÝ³·ñ³éÙ³Ý Ù³ëÇÝ ÙÇçÝáñ¹áõÃÛáõÝÝ»ñ | T14: =D14+E14 -> 0 | U14: =F14+K14+L14 -> 0 | V14: =K14 -> 0 | W14: =G14+H14+I14+J14 -> 0
A15: 9 | B15: Ñ»é³ËáëÝ»ñÇ Ùáõïù³ÛÇÝ ¨ »Éù³ÛÇÝ í»ñÍ³ÝÙ³Ý ÃáõÛÉïíáõÃÛáõÝ ëï³Ý³Éáõ Ù³ëÇÝ ÙÇçÝáñ¹áõÃÛáõÝÝ»ñ | E15: 41 | H15: 39 | I15: 2 | K15: 41 | L15: 0 | T15: =D15+E15 -> 41 | U15: =F15+K15+L15 -> 41 | V15: =K15 -> 41 | W15: =G15+H15+I15+J15 -> 41
A16: 10 | B16: Ñ»ï³ùÝÝáõÃÛ³Ý Ù³ñÙÝÇ ³ßË³ïáÕÇ, ùÝÝÇãÇ, ¹³ï³Ë³½Ç oå»ñ³ïÇí-Ñ»ï³Ëáõ½³Ï³Ý ·áñÍáÕáõÃÛáõÝÝ»ñ Çñ³Ï³Ý³óÝáÕ Ù³ñÙÇÝÝ»ñÇ ³ÝoñÇÝ³Ï³Ý ¨ ³ÝÑÇÙÝ áñáßáõÙÝ»ñÇ ¨ ·áñÍáÕáõÃÛáõÝÝ»ñÇ ¹»Ù µáÕáùÝ»ñ | T16: =D16+E16 -> 0 | U16: =F16+K16+L16 -> 0 | V16: =K16 -> 0 | W16: =G16+H16+I16+J16 -> 0
A17: 2. ¸³ï³Ï³Ý ³Ïï»ñÇ ¨ ¹³ï³Ï³Ý Ñ³ÝÓÝ³ñ³ñáõÃÛáõÝÝ»ñÇ Ï³ï³ñÙ³Ý Ñ»ï Ï³åí³Í Ñ³ñó»ñÇ ÉáõÍÙ³Ý áÉáñï
A18: 1 | B18: å³ïÅÇó å³ÛÙ³Ý³Ï³Ý í³Õ³Å³ÙÏ»ï ³½³ï»Éáõ Ù³ëÇÝ ÙÇçÝáñ¹áõÃÛáõÝÝ»ñ | T18: =D18+E18 -> 0 | U18: =F18+K18+L18 -> 0 | V18: =K18 -> 0 | W18: =G18+H18+I18+J18 -> 0
A19: 2 | B19: å³ïÇÅÁ ÷á÷áË»Éáõ, Ñ»ï³Ó·»Éáõ ¨ å³ïÅÇó ³½³ï»Éáõ Ù³uÇÝ ÙÇçÝáñ¹áõÃÛáõÝÝ»ñ | T19: =D19+E19 -> 0 | U19: =F19+K19+L19 -> 0 | V19: =K19 -> 0 | W19: =G19+H19+I19+J19 -> 0
A20: 3 | B20: Ñ³ñÏ³¹Çñ µáõÅÙ³Ý ï»ë³ÏÇ ÷á÷áËáõÃÛ³Ý Ù³ëÇÝ ÙÇçÝáñ¹áõÃÛáõÝÝ»ñ | T20: =D20+E20 -> 0 | U20: =F20+K20+L20 -> 0 | V20: =K20 -> 0 | W20: =G20+H20+I20+J20 -> 0
A21: 4 | B21: ³ÛÉ ÙÇçÝáñ¹áõÃÛáõÝÝ»ñ | T21: =D21+E21 -> 0 | U21: =F21+K21+L21 -> 0 | V21: =K21 -> 0 | W21: =G21+H21+I21+J21 -> 0
A22: 5 | B22: ¹³ï³Ï³Ý Ñ³ÝÓÝ³ñ³ñáõÃÛáõÝÝ»ñ | E22: 1 | L22: 1 | T22: =D22+E22 -> 1 | U22: =F22+K22+L22 -> 1 | V22: =K22 -> 0 | W22: =G22+H22+I22+J22 -> 0
A23: ÀÜ¸²ØºÜÀ | D23: =D7+D8+D9+D10+D11+D12+D13+D14+D15+D16+D18+D19+D20+D21+D22 -> 0 | E23: =E7+E8+E9+E10+E11+E12+E13+E14+E15+E16+E18+E19+E20+E21+E22 -> 136 | F23: =F7+F8+F9+F10+F11+F12+F13+F14+F15+F16+F18+F19+F20+F21+F22 -> 0 | G23: =G7+G8+G9+G10+G11+G12+G13+G14+G15+G16+G18+G19+G20+G21+G22 -> 10 | H23: =H7+H8+H9+H10+H11+H12+H13+H14+H15+H16+H18+H19+H20+H21+H22 -> 120 | I23: =I7+I8+I9+I10+I11+I12+I13+I14+I15+I16+I18+I19+I20+I21+I22 -> 3 | J23: =J7+J8+J9+J10+J11+J12+J13+J14+J15+J16+J18+J19+J20+J21+J22 -> 0 | K23: =K7+K8+K9+K10+K11+K12+K13+K14+K15+K16+K18+K19+K20+K21+K22 -> 133 | ... R23: =R7+R8+R9+R10+R11+R12+R13+R14+R15+R16+R18+R19+R20+R21+R22 -> 5 | T23: =SUM(T7:T16,T18:T22) -> 136 | U23: =F23+K23+L23 -> 136 | V23: =SUM(V7:V16,V18:V22) -> 133 | W23: =SUM(W7:W16,W18:W22) -> 133

Sheet Ա. Մխիթարյան
A1: 2015Ã. | D1: Ð²ÞìºîìàôÂÚàôÜ | P1: Ð³í»Éí³Í Ð³Û³ëï³ÝÇ Ð³Ýñ³å»ïáõÃÛ³Ý ¸³ï³ñ³ÝÝ»ñÇ Ý³Ë³·³ÑÝ»ñÇ ËáñÑñ¹Ç 01.02.2016Ã. ÃÇí 11È áñáßÙ³Ý
A2: ØÇÝã¹³ï³Ï³Ý í³ñáõÛÃÇ ÝÏ³ïÙ³Ùµ ¹³ï³Ï³Ý í»ñ³ÑëÏáÕáõÃÛ³ÝÁ, ¹³ï³Ï³Ý ³Ïï»ñÇ ¨ ¹³ï³Ï³Ý Ñ³ÝÓÝ³ñ³ñáõÃÛáõÝÝ»ñÇ Ï³ï³ñÙ³ÝÁ Ñ»ï Ï³åí³Í ÙÇçÝáñ¹áõÃÛáõÝÝ»ñÇ í»ñ³µ»ñÛ³É ¹³ï³Ï³Ý ·áñÍ»ñáí ºñ¨³Ý ù³Õ³ùÇ ²ç³÷ÝÛ³Ï ¨ ¸³íÃ³ß»Ý í³ñã³Ï³Ý ßñç³ÝÝ»ñÇ ÁÝ¹Ñ³Ýáõñ Çñ³í³ëáõÃÛ³Ý ³é³çÇÝ ³ïÛ³ÝÇ ¹³ï³ñ³ÝÇ ¹³ï³íáñ ².ØÊÆÂ²ðÚ²ÜÆ ·áñÍáõÝ»áõÃÛ³Ý í»ñ³µ»ñÛ³É
A3: êïáõ·Çã Ñ³í³ë³ñáõÙ` 1+2=3+8+9, 8=4+5+6+7, | D3: Ð³ßí»ïáõ Å³Ù³Ý³Ï³Ñ³ïí³ÍÇ ëÏ½µáõÙ Ý³Ëáñ¹ Ñ³ßí»ïáõ Å³Ù³Ý³Ï³Ñ³ïí³ÍÇó ÷áË³Ýóí³Í ·áñÍ»ñÇ ÁÝ¹Ñ³Ýáõñ ÃÇíÁ | E3: Ð³ßí»ïáõ Å³Ù³Ý³Ï³Ñ³ïí³ÍáõÙ ëï³óí³Í ·áñÍ»ñÇ ÁÝ¹Ñ³Ýáõñ ÃÇíÁ | F3: öáË³Ýóí»É ¿ ³ÛÉ ¹³ï³íáñÇ Ï³Ù ³ÛÉ ¹³ï³ñ³Ý (Ï³½ÙÇ ÷á÷áËáõÃÛáõÝ, ÁÝ¹¹³ïáõÃÛáõÝ) | G3: Ð³ßí»ïáõ Å³Ù³Ý³Ï³Ñ³ïí³ÍáõÙ ³í³ñïí³Í ·áñÍ»ñÇ ÁÝ¹Ñ³Ýáõñ ÃÇíÁ | L3: Ð³ßí»ïáõ Å³Ù³Ý³Ï³Ñ³ïí³ÍáõÙ ³Ý³í³ñï ·áñÍ»ñÇ ÁÝ¹Ñ³Ýáõñ ÃÇíÁ | M3: ØÇçÝáñ¹áõÃÛáõÝÝ»ñáí Ï³Û³óí³Í ¹³ï³Ï³Ý ³Ïï»ñÇó µáÕáù³ñÏí³ÍÝ»ñÇ ù³Ý³ÏÁ | O3: ²Ý³í³ñï µáÕáùÝ»ñ | P3: ØÇçÝáñ¹áõÃÛáõÝÝ»ñáí Ï³Û³óí³Í ¨ µáÕáù³ñÏí³Í ¹³ï³Ï³Ý ³Ïï»ñÇó µ»Ï³Ýí³ÍÝ»ñÇ ù³Ý³ÏÁ | R3: ÙÇçÝáñ¹áõÃÛáõÝÝ»ñáí Ï³Û³óí³Í ¨ µáÕáù³ñÏí³Í ¹³ï³Ï³Ý ³Ïï»ñÇó ³Ý÷á÷áË ÃáÕÝí³ÍÝ»ñÇ ù³Ý³ÏÁ
G4: Ù»ñÅí»É ¿ | H4: µ³í³ñ³ñí»É ¿ | I4: µ³í³ñ³ñí»É ¿ Ù³ëÝ³ÏÇ | J4: ÃáÕÝí»É ¿ ³é³Ýó ùÝÝáõÃÛ³Ý | K4: ÀÝ¹³Ù»ÝÁ
M5: Ý³Ëáñ¹ ï³ñÇÝ»ñÇÝ Ï³Û³óí³Í ³Ïï»ñÇ ¹»Ù | N5: Ñ³ßí»ïáõ Å³Ù³Ý³Ï³ßñç³ÝáõÙ Ï³Û³óí³Í ³Ïï»ñÇ ¹»Ù | P5: Ý³Ëáñ¹ ï³ñÇÝ»ñÇÝ Ï³Û³óí³Í ³Ïï»ñÇ µ»Ï³ÝáõÙÝ»ñÁ | Q5: Ñ³ßí»ïáõ Å³Ù³Ý³Ï³ßñç³ÝáõÙ Ï³Û³óí³Í ³Ïï»ñÇ µ»Ï³ÝáõÙÝ»ñÁ
A6: 1. ØÇÝã¹³ï³Ï³Ý í³ñáõÛÃÇ ÝÏ³ïÙ³Ùµ ¹³ï³Ï³Ý í»ñ³ÑëÏáÕáõÃÛ³Ý áÉáñï | D6: 1 | E6: 2 | F6: 3 | G6: 4 | H6: 5 | I6: 6 | J6: 7 | K6: 8 | L6: 9 | M6: 10 | N6: 11 | O6: 12 | P6: 13 | Q6: 14 | R6: 15 | T6: 1+2=3+8+9 | V6: 8=4+5+6+7
A7: 1 | B7: Ï³É³ÝùÁ áñå»ë Ë³÷³ÝÙ³Ý ÙÇçáó ÏÇñ³é»Éáõ Ù³ëÇÝ ÙÇçÝáñ¹áõÃÛáõÝÝ»ñ | D7: 0 | E7: 6 | H7: 6 | K7: 6 | N7: 2 | O7: 1 | R7: 1 | T7: =D7+E7 -> 6 | U7: =F7+K7+L7 -> 6 | V7: =K7 -> 6 | W7: =G7+H7+I7+J7 -> 6
A8: 2 | B8: Ï³É³ÝùÇ Å³ÙÏ»ïÁ »ñÏ³ñ³óÝ»Éáõ Ù³ëÇÝ ÙÇçÝáñ¹áõÃÛáõÝÝ»ñ | D8: 0 | E8: 11 | H8: 5 | I8: 4 | K8: 9 | L8: 2 | N8: 2 | O8: 0 | R8: 2 | T8: =D8+E8 -> 11 | U8: =F8+K8+L8 -> 11 | V8: =K8 -> 9 | W8: =G8+H8+I8+J8 -> 9
A9: 3 | B9: Ï³É³ÝùÇ í»ñ³Ñ³ëï³ïÙ³Ý Ù³ëÇÝ ÙÇçÝáñ¹áõÃÛáõÝÝ»ñ | D9: 0 | E9: 4 | H9: 4 | K9: 4 | N9: 2 | O9: 1 | R9: 1 | T9: =D9+E9 -> 4 | U9: =F9+K9+L9 -> 4 | V9: =K9 -> 4 | W9: =G9+H9+I9+J9 -> 4
A10: 4 | B10: ·ñ³íÁ áñå»ë Ï³É³Ý³íáñÙ³Ý ³ÛÉÁÝïñ³Ýù³ÛÇÝ Ë³÷³ÝÙ³Ý ÙÇçáó ÏÇñ³é»Éáõ Ù³ëÇÝ ÙÇçÝáñ¹áõÃÛáõÝÝ»ñ | D10: 0 | E10: 8 | G10: 7 | K10: 7 | L10: 1 | T10: =D10+E10 -> 8 | U10: =F10+K10+L10 -> 8 | V10: =K10 -> 7 | W10: =G10+H10+I10+J10 -> 7
A11: 5 | B11: Ëáõ½³ñÏáõÃÛ³Ý Ï³ï³ñÙ³Ý Ù³ëÇÝ ÙÇçÝáñ¹áõÃÛáõÝÝ»ñ | D11: 0 | E11: 20 | H11: 20 | K11: 20 | T11: =D11+E11 -> 20 | U11: =F11+K11+L11 -> 20 | V11: =K11 -> 20 | W11: =G11+H11+I11+J11 -> 20
