Workbook

Sheet Ընդամենը
A1: 2017Ã. 1-ին ÏÇë³ÙÛ³Ï | C1: Ð²ÞìºîìàôÂÚàôÜ | K1: Ð³í»Éí³Í Ð³Û³ëï³ÝÇ Ð³Ýñ³å»ïáõÃÛ³Ý ¸³ï³ñ³ÝÝ»ñÇ Ý³Ë³·³ÑÝ»ñÇ ËáñÑñ¹Ç 25.08.2017Ã. ÃÇí 35-È áñáßÙ³Ý
A2: ØÇÝã¹³ï³Ï³Ý í³ñáõÛÃÇ ÝÏ³ïÙ³Ùµ ¹³ï³Ï³Ý í»ñ³ÑëÏáÕáõÃÛ³Ý, ¹³ï³Ï³Ý ³Ïï»ñÇ ¨ ¹³ï³Ï³Ý Ñ³ÝÓÝ³ñ³ñáõÃÛáõÝÝ»ñÇ Ï³ï³ñÙ³Ý Ñ»ï Ï³åí³Í ÙÇçÝáñ¹áõÃÛáõÝÝ»ñÇ í»ñ³µ»ñÛ³É ¹³ï³Ï³Ý ·áñÍ»ñáí ÐÐ ÁÝ¹Ñ³Ýáõñ Çñ³í³ëáõÃÛ³Ý ³é³çÇÝ ³ïÛ³ÝÇ ¹³ï³ñ³ÝÝ»ñÇ ·áñÍáõÝ»áõÃÛ³Ý í»ñ³µ»ñÛ³É
D3: Ñ³ßí»ïáõ Å³Ù³Ý³Ï³Ñ³ïí³ÍÇ ëÏ½µáõÙ Ý³Ëáñ¹ Ñ³ßí»ïáõ Å³Ù³Ý³Ï³Ñ³ïí³ÍÇó ÷áË³Ýóí³Í ·áñÍ»ñÇ ÁÝ¹Ñ³Ýáõñ ÃÇíÁ | E3: Ñ³ßí»ïáõ Å³Ù³Ý³Ï³Ñ³ïí³ÍáõÙ ëï³óí³Í ·áñÍ»ñÇ ÁÝ¹Ñ³Ýáõñ ÃÇíÁ | F3: Ñ³ßí»ïáõ Å³Ù³Ý³Ï³Ñ³ïí³ÍáõÙ ³í³ñïí³Í ·áñÍ»ñÇ ÁÝ¹Ñ³Ýáõñ ÃÇíÁ | K3: áõÕ³ñÏí»É ¿ Áëï ÁÝ¹¹³ïáõÃÛ³Ý | L3: Ñ³ßí»ïáõ Å³Ù³Ý³Ï³Ñ³ïí³ÍáõÙ ³Ý³í³ñï ·áñÍ»ñÇ ÁÝ¹Ñ³Ýáõñ ÃÇíÁ | M3: µáÕáù³ñÏí»É ¿ í»ñ³ùÝÝÇã ¹³ï³ñ³Ý
F4: Ù»ñÅí»É ¿ | G4: µ³í³ñ³ñí»É ¿ | H4: µ³í³ñ³ñí»É ¿ Ù³ëÝ³ÏÇ | I4: ÃáÕÝí»É ¿ ³é³Ýó ùÝÝáõÃÛ³Ý | J4: ÁÝ¹³Ù»ÝÁ
A5: 1. ØÇÝã¹³ï³Ï³Ý í³ñáõÛÃÇ ÝÏ³ïÙ³Ùµ ¹³ï³Ï³Ý í»ñ³ÑëÏáÕáõÃÛ³Ý áÉáñï | D5: 1 | E5: 2 | F5: 3 | G5: 4 | H5: 5 | I5: 6 | J5: 7 | K5: 8 | L5: 9 | M5: 10 | N5: 1+2=7+8+9 | P5: 7=3+4+5+6
A6: 1 | B6: Ï³É³ÝùÁ áñå»ë Ë³÷³ÝÙ³Ý ÙÇçáó ÏÇñ³é»Éáõ Ù³ëÇÝ ÙÇçÝáñ¹áõÃÛáõÝÝ»ñ | D6: =SUM(Աջափնյակ:Սյունիք!D6) -> 0 | E6: =SUM(Աջափնյակ:Սյունիք!E6) -> 1215 | F6: =SUM(Աջափնյակ:Սյունիք!F6) -> 60 | G6: =SUM(Աջափնյակ:Սյունիք!G6) -> 1150 | H6: =SUM(Աջափնյակ:Սյունիք!H6) -> 3 | I6: =SUM(Աջափնյակ:Սյունիք!I6) -> 1 | J6: =SUM(Աջափնյակ:Սյունիք!J6) -> 1214 | K6: =SUM(Աջափնյակ:Սյունիք!K6) -> 0 | ... M6: =SUM(Աջափնյակ:Սյունիք!M6) -> 182 | N6: =D6+E6 -> 1215 | O6: =J6+K6+L6 -> 1215 | P6: =J6 -> 1214 | Q6: =F6+G6+H6+I6 -> 1214
A7: 2 | B7: Ï³É³ÝùÇ Å³ÙÏ»ïÁ »ñÏ³ñ³óÝ»Éáõ Ù³ëÇÝ ÙÇçÝáñ¹áõÃÛáõÝÝ»ñ | D7: =SUM(Աջափնյակ:Սյունիք!D7) -> 15 | E7: =SUM(Աջափնյակ:Սյունիք!E7) -> 733 | F7: =SUM(Աջափնյակ:Սյունիք!F7) -> 15 | G7: =SUM(Աջափնյակ:Սյունիք!G7) -> 700 | H7: =SUM(Աջափնյակ:Սյունիք!H7) -> 17 | I7: =SUM(Աջափնյակ:Սյունիք!I7) -> 8 | J7: =SUM(Աջափնյակ:Սյունիք!J7) -> 740 | K7: =SUM(Աջափնյակ:Սյունիք!K7) -> 0 | ... M7: =SUM(Աջափնյակ:Սյունիք!M7) -> 192 | N7: =D7+E7 -> 748 | O7: =J7+K7+L7 -> 748 | P7: =J7 -> 740 | Q7: =F7+G7+H7+I7 -> 740
A8: 3 | B8: Ï³É³ÝùÇ í»ñ³Ñ³ëï³ïÙ³Ý Ù³ëÇÝ ÙÇçÝáñ¹áõÃÛáõÝÝ»ñ | D8: =SUM(Աջափնյակ:Սյունիք!D8) -> 0 | E8: =SUM(Աջափնյակ:Սյունիք!E8) -> 124 | F8: =SUM(Աջափնյակ:Սյունիք!F8) -> 11 | G8: =SUM(Աջափնյակ:Սյունիք!G8) -> 113 | H8: =SUM(Աջափնյակ:Սյունիք!H8) -> 0 | I8: =SUM(Աջափնյակ:Սյունիք!I8) -> 0 | J8: =SUM(Աջափնյակ:Սյունիք!J8) -> 124 | K8: =SUM(Աջափնյակ:Սյունիք!K8) -> 0 | ... M8: =SUM(Աջափնյակ:Սյունիք!M8) -> 44 | N8: =D8+E8 -> 124 | O8: =J8+K8+L8 -> 124 | P8: =J8 -> 124 | Q8: =F8+G8+H8+I8 -> 124
A9: 4 | B9: ·ñ³íÁ áñå»ë Ï³É³Ý³íáñÙ³Ý ³ÛÉÁÝïñ³Ýù³ÛÇÝ Ë³÷³ÝÙ³Ý ÙÇçáó ÏÇñ³é»Éáõ Ù³ëÇÝ ÙÇçÝáñ¹áõÃÛáõÝÝ»ñ | D9: =SUM(Աջափնյակ:Սյունիք!D9) -> 3 | E9: =SUM(Աջափնյակ:Սյունիք!E9) -> 352 | F9: =SUM(Աջափնյակ:Սյունիք!F9) -> 295 | G9: =SUM(Աջափնյակ:Սյունիք!G9) -> 49 | H9: =SUM(Աջափնյակ:Սյունիք!H9) -> 2 | I9: =SUM(Աջափնյակ:Սյունիք!I9) -> 7 | J9: =SUM(Աջափնյակ:Սյունիք!J9) -> 353 | K9: =SUM(Աջափնյակ:Սյունիք!K9) -> 0 | ... M9: =SUM(Աջափնյակ:Սյունիք!M9) -> 62 | N9: =D9+E9 -> 355 | O9: =J9+K9+L9 -> 355 | P9: =J9 -> 353 | Q9: =F9+G9+H9+I9 -> 353
A10: 5 | B10: Ëáõ½³ñÏáõÃÛ³Ý Ï³ï³ñÙ³Ý Ù³ëÇÝ ÙÇçÝáñ¹áõÃÛáõÝÝ»ñ | D10: =SUM(Աջափնյակ:Սյունիք!D10) -> 0 | E10: =SUM(Աջափնյակ:Սյունիք!E10) -> 2032 | F10: =SUM(Աջափնյակ:Սյունիք!F10) -> 87 | G10: =SUM(Աջափնյակ:Սյունիք!G10) -> 1918 | H10: =SUM(Աջափնյակ:Սյունիք!H10) -> 22 | I10: =SUM(Աջափնյակ:Սյունիք!I10) -> 5 | J10: =SUM(Աջափնյակ:Սյունիք!J10) -> 2032 | K10: =SUM(Աջափնյակ:Սյունիք!K10) -> 0 | ... M10: =SUM(Աջափնյակ:Սյունիք!M10) -> 15 | N10: =D10+E10 -> 2032 | O10: =J10+K10+L10 -> 2032 | P10: =J10 -> 2032 | Q10: =F10+G10+H10+I10 -> 2032
A11: 6 | B11: µ³ÝÏ³ÛÇÝ, ³å³Ñáí³·ñ³Ï³Ý, Ýáï³ñ³Ï³Ý ·³ÕïÝÇù Ï³½ÙáÕ ï»Õ»ÏáõÃÛáõÝÝ»ñÇ ëï³óÙ³Ý Ñ³Ù³ñ Ëáõ½³ñÏáõÃÛ³Ý Ï³Ù ³é·ñ³íÙ³Ý Ï³ï³ñÙ³Ý Ù³ëÇÝ ÙÇçÝáñ¹áõÃÛáõÝÝ»ñ | D11: =SUM(Աջափնյակ:Սյունիք!D11) -> 0 | E11: =SUM(Աջափնյակ:Սյունիք!E11) -> 136 | F11: =SUM(Աջափնյակ:Սյունիք!F11) -> 7 | G11: =SUM(Աջափնյակ:Սյունիք!G11) -> 129 | H11: =SUM(Աջափնյակ:Սյունիք!H11) -> 0 | I11: =SUM(Աջափնյակ:Սյունիք!I11) -> 0 | J11: =SUM(Աջափնյակ:Սյունիք!J11) -> 136 | K11: =SUM(Աջափնյակ:Սյունիք!K11) -> 0 | ... M11: =SUM(Աջափնյակ:Սյունիք!M11) -> 3 | N11: =D11+E11 -> 136 | O11: =J11+K11+L11 -> 136 | P11: =J11 -> 136 | Q11: =F11+G11+H11+I11 -> 136
A12: 7 | B12: Ý³Ù³Ï³·ñáõÃÛ³Ý, Ñ»é³·ñ³Ï³Ý, ÷áuï³ÛÇÝ Ñ³Õáñ¹áõÙÝ»ñÇ ÑëÏáÕáõÃÛ³Ý Ù³ëÇÝ ÙÇçÝáñ¹áõÃÛáõÝÝ»ñ | D12: =SUM(Աջափնյակ:Սյունիք!D12) -> 0 | E12: =SUM(Աջափնյակ:Սյունիք!E12) -> 90 | F12: =SUM(Աջափնյակ:Սյունիք!F12) -> 6 | G12: =SUM(Աջափնյակ:Սյունիք!G12) -> 84 | H12: =SUM(Աջափնյակ:Սյունիք!H12) -> 0 | I12: =SUM(Աջափնյակ:Սյունիք!I12) -> 0 | J12: =SUM(Աջափնյակ:Սյունիք!J12) -> 90 | K12: =SUM(Աջափնյակ:Սյունիք!K12) -> 0 | ... M12: =SUM(Աջափնյակ:Սյունիք!M12) -> 0 | N12: =D12+E12 -> 90 | O12: =J12+K12+L12 -> 90 | P12: =J12 -> 90 | Q12: =F12+G12+H12+I12 -> 90
A13: 8 | B13: Ñ»é³Ëáu³ÛÇÝ Ï³Ù Ï³åÇ ³ÛÉ ÙÇçáóÝ»ñáí ï³ñíáÕ Ëáu³ÏóáõÃÛáõÝÝ»ñÇ ÉuÙ³Ý ¨ Ó³ÛÝ³·ñ³éÙ³Ý Ù³ëÇÝ ÙÇçÝáñ¹áõÃÛáõÝÝ»ñ | D13: =SUM(Աջափնյակ:Սյունիք!D13) -> 0 | E13: =SUM(Աջափնյակ:Սյունիք!E13) -> 62 | F13: =SUM(Աջափնյակ:Սյունիք!F13) -> 2 | G13: =SUM(Աջափնյակ:Սյունիք!G13) -> 60 | H13: =SUM(Աջափնյակ:Սյունիք!H13) -> 0 | I13: =SUM(Աջափնյակ:Սյունիք!I13) -> 0 | J13: =SUM(Աջափնյակ:Սյունիք!J13) -> 62 | K13: =SUM(Աջափնյակ:Սյունիք!K13) -> 0 | ... M13: =SUM(Աջափնյակ:Սյունիք!M13) -> 1 | N13: =D13+E13 -> 62 | O13: =J13+K13+L13 -> 62 | P13: =J13 -> 62 | Q13: =F13+G13+H13+I13 -> 62
A14: 9 | B14: Ñ»é³ËáëÝ»ñÇ Ùáõïù³ÛÇÝ ¨ »Éù³ÛÇÝ í»ñÍ³ÝÙ³Ý ÃáõÛÉïíáõÃÛáõÝ ëï³Ý³Éáõ Ù³ëÇÝ ÙÇçÝáñ¹áõÃÛáõÝÝ»ñ | D14: =SUM(Աջափնյակ:Սյունիք!D14) -> 0 | E14: =SUM(Աջափնյակ:Սյունիք!E14) -> 2583 | F14: =SUM(Աջափնյակ:Սյունիք!F14) -> 24 | G14: =SUM(Աջափնյակ:Սյունիք!G14) -> 2529 | H14: =SUM(Աջափնյակ:Սյունիք!H14) -> 30 | I14: =SUM(Աջափնյակ:Սյունիք!I14) -> 0 | J14: =SUM(Աջափնյակ:Սյունիք!J14) -> 2583 | K14: =SUM(Աջափնյակ:Սյունիք!K14) -> 0 | ... M14: =SUM(Աջափնյակ:Սյունիք!M14) -> 6 | N14: =D14+E14 -> 2583 | O14: =J14+K14+L14 -> 2583 | P14: =J14 -> 2583 | Q14: =F14+G14+H14+I14 -> 2583
A15: 10 | B15: Ñ»ï³ùÝÝáõÃÛ³Ý Ù³ñÙÝÇ ³ßË³ïáÕÇ, ùÝÝÇãÇ, ¹³ï³Ë³½Ç oå»ñ³ïÇí-Ñ»ï³Ëáõ½³Ï³Ý ·áñÍáÕáõÃÛáõÝÝ»ñ Çñ³Ï³Ý³óÝáÕ Ù³ñÙÇÝÝ»ñÇ ³ÝoñÇÝ³Ï³Ý ¨ ³ÝÑÇÙÝ áñáßáõÙÝ»ñÇ ¨ ·áñÍáÕáõÃÛáõÝÝ»ñÇ ¹»Ù µáÕáùÝ»ñ | D15: =SUM(Աջափնյակ:Սյունիք!D15) -> 215 | E15: =SUM(Աջափնյակ:Սյունիք!E15) -> 420 | F15: =SUM(Աջափնյակ:Սյունիք!F15) -> 373 | G15: =SUM(Աջափնյակ:Սյունիք!G15) -> 55 | H15: =SUM(Աջափնյակ:Սյունիք!H15) -> 5 | I15: =SUM(Աջափնյակ:Սյունիք!I15) -> 11 | J15: =SUM(Աջափնյակ:Սյունիք!J15) -> 444 | K15: =SUM(Աջափնյակ:Սյունիք!K15) -> 29 | ... M15: =SUM(Աջափնյակ:Սյունիք!M15) -> 194 | N15: =D15+E15 -> 635 | O15: =J15+K15+L15 -> 630 | P15: =J15 -> 444 | Q15: =F15+G15+H15+I15 -> 444
A16: 11 | B16: ²½³ïáõÃÛáõÝÇó ½ñÏ»Éáõ Çñ³í³ã³÷áõÃÛ³Ý í»ñ³µ»ñÛ³É µáÕáùÝ»ñáí ·áñÍ»ñ | D16: =SUM(Աջափնյակ:Սյունիք!D16) -> 0 | E16: =SUM(Աջափնյակ:Սյունիք!E16) -> 24 | F16: =SUM(Աջափնյակ:Սյունիք!F16) -> 15 | G16: =SUM(Աջափնյակ:Սյունիք!G16) -> 8 | H16: =SUM(Աջափնյակ:Սյունիք!H16) -> 0 | I16: =SUM(Աջափնյակ:Սյունիք!I16) -> 1 | J16: =SUM(Աջափնյակ:Սյունիք!J16) -> 24 | K16: =SUM(Աջափնյակ:Սյունիք!K16) -> 0 | ... M16: =SUM(Աջափնյակ:Սյունիք!M16) -> 2 | N16: =D16+E16 -> 24 | O16: =J16+K16+L16 -> 24 | P16: =J16 -> 24 | Q16: =F16+G16+H16+I16 -> 24
A17: 2. ¸³ï³Ï³Ý ³Ïï»ñÇ ¨ ¹³ï³Ï³Ý Ñ³ÝÓÝ³ñ³ñáõÃÛáõÝÝ»ñÇ Ï³ï³ñÙ³Ý Ñ»ï Ï³åí³Í Ñ³ñó»ñÇ ÉáõÍÙ³Ý áÉáñï
A18: 1 | B18: å³ïÅÇó å³ÛÙ³Ý³Ï³Ý í³Õ³Å³ÙÏ»ï ³½³ï»Éáõ Ù³ëÇÝ ÙÇçÝáñ¹áõÃÛáõÝÝ»ñ | D18: =SUM(Աջափնյակ:Սյունիք!D18) -> 5 | E18: =SUM(Աջափնյակ:Սյունիք!E18) -> 71 | F18: =SUM(Աջափնյակ:Սյունիք!F18) -> 19 | G18: =SUM(Աջափնյակ:Սյունիք!G18) -> 55 | H18: =SUM(Աջափնյակ:Սյունիք!H18) -> 1 | I18: =SUM(Աջափնյակ:Սյունիք!I18) -> 0 | J18: =SUM(Աջափնյակ:Սյունիք!J18) -> 75 | K18: =SUM(Աջափնյակ:Սյունիք!K18) -> 0 | ... M18: =SUM(Աջափնյակ:Սյունիք!M18) -> 17 | N18: =D18+E18 -> 76 | O18: =J18+K18+L18 -> 76 | P18: =J18 -> 75 | Q18: =F18+G18+H18+I18 -> 75
A19: 2 | B19: å³ïÇÅÁ ÷á÷áË»Éáõ, Ñ»ï³Ó·»Éáõ ¨ å³ïÅÇó ³½³ï»Éáõ Ù³uÇÝ ÙÇçÝáñ¹áõÃÛáõÝÝ»ñ | D19: =SUM(Աջափնյակ:Սյունիք!D19) -> 42 | E19: =SUM(Աջափնյակ:Սյունիք!E19) -> 795 | F19: =SUM(Աջափնյակ:Սյունիք!F19) -> 137 | G19: =SUM(Աջափնյակ:Սյունիք!G19) -> 285 | H19: =SUM(Աջափնյակ:Սյունիք!H19) -> 25 | I19: =SUM(Աջափնյակ:Սյունիք!I19) -> 20 | J19: =SUM(Աջափնյակ:Սյունիք!J19) -> 467 | K19: =SUM(Աջափնյակ:Սյունիք!K19) -> 9 | ... M19: =SUM(Աջափնյակ:Սյունիք!M19) -> 22 | N19: =D19+E19 -> 837 | O19: =J19+K19+L19 -> 834 | P19: =J19 -> 467 | Q19: =F19+G19+H19+I19 -> 467
A20: 3 | B20: Ñ³ñÏ³¹Çñ µáõÅÙ³Ý ï»ë³ÏÇ ÷á÷áËáõÃÛ³Ý Ù³ëÇÝ ÙÇçÝáñ¹áõÃÛáõÝÝ»ñ | D20: =SUM(Աջափնյակ:Սյունիք!D20) -> 7 | E20: =SUM(Աջափնյակ:Սյունիք!E20) -> 96 | F20: =SUM(Աջափնյակ:Սյունիք!F20) -> 12 | G20: =SUM(Աջափնյակ:Սյունիք!G20) -> 79 | H20: =SUM(Աջափնյակ:Սյունիք!H20) -> 1 | I20: =SUM(Աջափնյակ:Սյունիք!I20) -> 0 | J20: =SUM(Աջափնյակ:Սյունիք!J20) -> 92 | K20: =SUM(Աջափնյակ:Սյունիք!K20) -> 1 | ... M20: =SUM(Աջափնյակ:Սյունիք!M20) -> 5 | N20: =D20+E20 -> 103 | O20: =J20+K20+L20 -> 103 | P20: =J20 -> 92 | Q20: =F20+G20+H20+I20 -> 92
A21: 4 | B21: ³ÛÉ ÙÇçÝáñ¹áõÃÛáõÝÝ»ñ | D21: =SUM(Աջափնյակ:Սյունիք!D21) -> 35 | E21: =SUM(Աջափնյակ:Սյունիք!E21) -> 362 | F21: =SUM(Աջափնյակ:Սյունիք!F21) -> 94 | G21: =SUM(Աջափնյակ:Սյունիք!G21) -> 184 | H21: =SUM(Աջափնյակ:Սյունիք!H21) -> 15 | I21: =SUM(Աջափնյակ:Սյունիք!I21) -> 17 | J21: =SUM(Աջափնյակ:Սյունիք!J21) -> 310 | K21: =SUM(Աջափնյակ:Սյունիք!K21) -> 15 | ... M21: =SUM(Աջափնյակ:Սյունիք!M21) -> 21 | N21: =D21+E21 -> 397 | O21: =J21+K21+L21 -> 396 | P21: =J21 -> 310 | Q21: =F21+G21+H21+I21 -> 310
A22: 5 | B22: ¹³ï³Ï³Ý Ñ³ÝÓÝ³ñ³ñáõÃÛáõÝÝ»ñ | D22: =SUM(Աջափնյակ:Սյունիք!D22) -> 95 | E22: =SUM(Աջափնյակ:Սյունիք!E22) -> 92 | F22: =SUM(Աջափնյակ:Սյունիք!F22) -> 10 | G22: =SUM(Աջափնյակ:Սյունիք!G22) -> 66 | H22: =SUM(Աջափնյակ:Սյունիք!H22) -> 1 | I22: =SUM(Աջափնյակ:Սյունիք!I22) -> 3 | J22: =SUM(Աջափնյակ:Սյունիք!J22) -> 80 | K22: =SUM(Աջափնյակ:Սյունիք!K22) -> 5 | ... M22: =SUM(Աջափնյակ:Սյունիք!M22) -> 1 | N22: =D22+E22 -> 187 | O22: =J22+K22+L22 -> 184 | P22: =J22 -> 80 | Q22: =F22+G22+H22+I22 -> 80
A23: ÀÜ¸²ØºÜÀ | D23: =SUM(Աջափնյակ:Սյունիք!D23) -> 417 | E23: =SUM(Աջափնյակ:Սյունիք!E23) -> 9187 | F23: =SUM(Աջափնյակ:Սյունիք!F23) -> 1167 | G23: =SUM(Աջափնյակ:Սյունիք!G23) -> 7464 | H23: =SUM(Աջափնյակ:Սյունիք!H23) -> 122 | I23: =SUM(Աջափնյակ:Սյունիք!I23) -> 73 | J23: =SUM(Աջափնյակ:Սյունիք!J23) -> 8826 | K23: =SUM(Աջափնյակ:Սյունիք!K23) -> 59 | ... M23: =SUM(Աջափնյակ:Սյունիք!M23) -> 767 | N23: =SUM(N6:N16,N18:N22) -> 9604 | O23: =SUM(O6:O16,O18:O22) -> 9592 | P23: =SUM(P6:P16,P18:P22) -> 8826 | Q23: =SUM(Q6:Q16,Q18:Q22) -> 8826
A28: Ծանոթություն. | C28: 8 միջնորդություն միացվել է
C29: 2 միջնորդություն վերադարձվել է
C30: 2 դատական հանձնարարության վերաբերյալ որոշում չի կայացվել

Sheet Աջափնյակ
A1: 2017Ã. 1-ին ÏÇë³ÙÛ³Ï | C1: Ð²ÞìºîìàôÂÚàôÜ | K1: Ð³í»Éí³Í Ð³Û³ëï³ÝÇ Ð³Ýñ³å»ïáõÃÛ³Ý ¸³ï³ñ³ÝÝ»ñÇ Ý³Ë³·³ÑÝ»ñÇ ËáñÑñ¹Ç 25.08.2017Ã. ÃÇí 35-È áñáßÙ³Ý
A2: ØÇÝã¹³ï³Ï³Ý í³ñáõÛÃÇ ÝÏ³ïÙ³Ùµ ¹³ï³Ï³Ý í»ñ³ÑëÏáÕáõÃÛ³Ý, ¹³ï³Ï³Ý ³Ïï»ñÇ ¨ ¹³ï³Ï³Ý Ñ³ÝÓÝ³ñ³ñáõÃÛáõÝÝ»ñÇ Ï³ï³ñÙ³Ý Ñ»ï Ï³åí³Í ÙÇçÝáñ¹áõÃÛáõÝÝ»ñÇ í»ñ³µ»ñÛ³É ¹³ï³Ï³Ý ·áñÍ»ñáí ºñ¨³Ý ù³Õ³ùÇ ²ç³÷ÝÛ³Ï ¨ ¸³íÃ³ß»Ý í³ñã³Ï³Ý ßñç³ÝÝ»ñÇ ÁÝ¹Ñ³Ýáõñ Çñ³í³ëáõÃÛ³Ý ³é³çÇÝ ³ïÛ³ÝÇ ¹³ï³ñ³ÝÇ ·áñÍáõÝ»áõÃÛ³Ý í»ñ³µ»ñÛ³É
D3: Ñ³ßí»ïáõ Å³Ù³Ý³Ï³Ñ³ïí³ÍÇ ëÏ½µáõÙ Ý³Ëáñ¹ Ñ³ßí»ïáõ Å³Ù³Ý³Ï³Ñ³ïí³ÍÇó ÷áË³Ýóí³Í ·áñÍ»ñÇ ÁÝ¹Ñ³Ýáõñ ÃÇíÁ | E3: Ñ³ßí»ïáõ Å³Ù³Ý³Ï³Ñ³ïí³ÍáõÙ ëï³óí³Í ·áñÍ»ñÇ ÁÝ¹Ñ³Ýáõñ ÃÇíÁ | F3: Ñ³ßí»ïáõ Å³Ù³Ý³Ï³Ñ³ïí³ÍáõÙ ³í³ñïí³Í ·áñÍ»ñÇ ÁÝ¹Ñ³Ýáõñ ÃÇíÁ | K3: áõÕ³ñÏí»É ¿ Áëï ÁÝ¹¹³ïáõÃÛ³Ý | L3: Ñ³ßí»ïáõ Å³Ù³Ý³Ï³Ñ³ïí³ÍáõÙ ³Ý³í³ñï ·áñÍ»ñÇ ÁÝ¹Ñ³Ýáõñ ÃÇíÁ | M3: µáÕáù³ñÏí»É ¿ í»ñ³ùÝÝÇã ¹³ï³ñ³Ý
F4: Ù»ñÅí»É ¿ | G4: µ³í³ñ³ñí»É ¿ | H4: µ³í³ñ³ñí»É ¿ Ù³ëÝ³ÏÇ | I4: ÃáÕÝí»É ¿ ³é³Ýó ùÝÝáõÃÛ³Ý | J4: ÁÝ¹³Ù»ÝÁ
A5: 1. ØÇÝã¹³ï³Ï³Ý í³ñáõÛÃÇ ÝÏ³ïÙ³Ùµ ¹³ï³Ï³Ý í»ñ³ÑëÏáÕáõÃÛ³Ý áÉáñï | D5: 1 | E5: 2 | F5: 3 | G5: 4 | H5: 5 | I5: 6 | J5: 7 | K5: 8 | L5: 9 | M5: 10 | N5: 1+2=7+8+9 | P5: 7=3+4+5+6
A6: 1 | B6: Ï³É³ÝùÁ áñå»ë Ë³÷³ÝÙ³Ý ÙÇçáó ÏÇñ³é»Éáõ Ù³ëÇÝ ÙÇçÝáñ¹áõÃÛáõÝÝ»ñ | E6: 13 | F6: 2 | G6: 10 | H6: 1 | J6: 13 | L6: 0 | M6: 6 | N6: =D6+E6 -> 13 | O6: =J6+K6+L6 -> 13 | P6: =J6 -> 13 | Q6: =F6+G6+H6+I6 -> 13
A7: 2 | B7: Ï³É³ÝùÇ Å³ÙÏ»ïÁ »ñÏ³ñ³óÝ»Éáõ Ù³ëÇÝ ÙÇçÝáñ¹áõÃÛáõÝÝ»ñ | E7: 24 | G7: 21 | H7: 2 | I7: 1 | J7: 24 | L7: 0 | M7: 12 | N7: =D7+E7 -> 24 | O7: =J7+K7+L7 -> 24 | P7: =J7 -> 24 | Q7: =F7+G7+H7+I7 -> 24
A8: 3 | B8: Ï³É³ÝùÇ í»ñ³Ñ³ëï³ïÙ³Ý Ù³ëÇÝ ÙÇçÝáñ¹áõÃÛáõÝÝ»ñ | E8: 4 | G8: 4 | J8: 4 | L8: 0 | M8: 1 | N8: =D8+E8 -> 4 | O8: =J8+K8+L8 -> 4 | P8: =J8 -> 4 | Q8: =F8+G8+H8+I8 -> 4
A9: 4 | B9: ·ñ³íÁ áñå»ë Ï³É³Ý³íáñÙ³Ý ³ÛÉÁÝïñ³Ýù³ÛÇÝ Ë³÷³ÝÙ³Ý ÙÇçáó ÏÇñ³é»Éáõ Ù³ëÇÝ ÙÇçÝáñ¹áõÃÛáõÝÝ»ñ | E9: 22 | F9: 20 | G9: 1 | J9: 21 | L9: 1 | M9: 1 | N9: =D9+E9 -> 22 | O9: =J9+K9+L9 -> 22 | P9: =J9 -> 21 | Q9: =F9+G9+H9+I9 -> 21
A10: 5 | B10: Ëáõ½³ñÏáõÃÛ³Ý Ï³ï³ñÙ³Ý Ù³ëÇÝ ÙÇçÝáñ¹áõÃÛáõÝÝ»ñ | E10: 63 | F10: 6 | G10: 57 | J10: 63 | N10: =D10+E10 -> 63 | O10: =J10+K10+L10 -> 63 | P10: =J10 -> 63 | Q10: =F10+G10+H10+I10 -> 63
A11: 6 | B11: µ³ÝÏ³ÛÇÝ, ³å³Ñáí³·ñ³Ï³Ý, Ýáï³ñ³Ï³Ý ·³ÕïÝÇù Ï³½ÙáÕ ï»Õ»ÏáõÃÛáõÝÝ»ñÇ ëï³óÙ³Ý Ñ³Ù³ñ Ëáõ½³ñÏáõÃÛ³Ý Ï³Ù ³é·ñ³íÙ³Ý Ï³ï³ñÙ³Ý Ù³ëÇÝ ÙÇçÝáñ¹áõÃÛáõÝÝ»ñ | E11: 2 | G11: 2 | J11: 2 | L11: 0 | M11: 0 | N11: =D11+E11 -> 2 | O11: =J11+K11+L11 -> 2 | P11: =J11 -> 2 | Q11: =F11+G11+H11+I11 -> 2
A12: 7 | B12: Ý³Ù³Ï³·ñáõÃÛ³Ý, Ñ»é³·ñ³Ï³Ý, ÷áuï³ÛÇÝ Ñ³Õáñ¹áõÙÝ»ñÇ ÑëÏáÕáõÃÛ³Ý Ù³ëÇÝ ÙÇçÝáñ¹áõÃÛáõÝÝ»ñ | N12: =D12+E12 -> 0 | O12: =J12+K12+L12 -> 0 | P12: =J12 -> 0 | Q12: =F12+G12+H12+I12 -> 0
A13: 8 | B13: Ñ»é³Ëáu³ÛÇÝ Ï³Ù Ï³åÇ ³ÛÉ ÙÇçáóÝ»ñáí ï³ñíáÕ Ëáu³ÏóáõÃÛáõÝÝ»ñÇ ÉuÙ³Ý ¨ Ó³ÛÝ³·ñ³éÙ³Ý Ù³ëÇÝ ÙÇçÝáñ¹áõÃÛáõÝÝ»ñ | E13: 1 | G13: 1 | J13: 1 | L13: 0 | N13: =D13+E13 -> 1 | O13: =J13+K13+L13 -> 1 | P13: =J13 -> 1 | Q13: =F13+G13+H13+I13 -> 1
A14: 9 | B14: Ñ»é³ËáëÝ»ñÇ Ùáõïù³ÛÇÝ ¨ »Éù³ÛÇÝ í»ñÍ³ÝÙ³Ý ÃáõÛÉïíáõÃÛáõÝ ëï³Ý³Éáõ Ù³ëÇÝ ÙÇçÝáñ¹áõÃÛáõÝÝ»ñ | E14: 86 | F14: 4 | G14: 79 | H14: 3 | J14: 86 | L14: 0 | N14: =D14+E14 -> 86 | O14: =J14+K14+L14 -> 86 | P14: =J14 -> 86 | Q14: =F14+G14+H14+I14 -> 86
A15: 10 | B15: Ñ»ï³ùÝÝáõÃÛ³Ý Ù³ñÙÝÇ ³ßË³ïáÕÇ, ùÝÝÇãÇ, ¹³ï³Ë³½Ç oå»ñ³ïÇí-Ñ»ï³Ëáõ½³Ï³Ý ·áñÍáÕáõÃÛáõÝÝ»ñ Çñ³Ï³Ý³óÝáÕ Ù³ñÙÇÝÝ»ñÇ ³ÝoñÇÝ³Ï³Ý ¨ ³ÝÑÇÙÝ áñáßáõÙÝ»ñÇ ¨ ·áñÍáÕáõÃÛáõÝÝ»ñÇ ¹»Ù µáÕáùÝ»ñ | D15: 2 | E15: 7 | F15: 5 | I15: 1 | J15: 6 | L15: 2 | M15: 2 | N15: =D15+E15 -> 9 | O15: =J15+K15+L15 -> 8 | P15: =J15 -> 6 | Q15: =F15+G15+H15+I15 -> 6
A16: 11 | B16: ²½³ïáõÃÛáõÝÇó ½ñÏ»Éáõ Çñ³í³ã³÷áõÃÛ³Ý í»ñ³µ»ñÛ³É µáÕáùÝ»ñáí ·áñÍ»ñ | E16: 1 | G16: 1 | J16: 1 | N16: =D16+E16 -> 1 | O16: =J16+K16+L16 -> 1 | P16: =J16 -> 1 | Q16: =F16+G16+H16+I16 -> 1
A17: 2. ¸³ï³Ï³Ý ³Ïï»ñÇ ¨ ¹³ï³Ï³Ý Ñ³ÝÓÝ³ñ³ñáõÃÛáõÝÝ»ñÇ Ï³ï³ñÙ³Ý Ñ»ï Ï³åí³Í Ñ³ñó»ñÇ ÉáõÍÙ³Ý áÉáñï
A18: 1 | B18: å³ïÅÇó å³ÛÙ³Ý³Ï³Ý í³Õ³Å³ÙÏ»ï ³½³ï»Éáõ Ù³ëÇÝ ÙÇçÝáñ¹áõÃÛáõÝÝ»ñ | N18: =D18+E18 -> 0 | O18: =J18+K18+L18 -> 0 | P18: =J18 -> 0 | Q18: =F18+G18+H18+I18 -> 0
A19: 2 | B19: å³ïÇÅÁ ÷á÷áË»Éáõ, Ñ»ï³Ó·»Éáõ ¨ å³ïÅÇó ³½³ï»Éáõ Ù³uÇÝ ÙÇçÝáñ¹áõÃÛáõÝÝ»ñ | E19: 42 | F19: 9 | G19: 9 | H19: 2 | I19: 1 | J19: 21 | L19: 21 | N19: =D19+E19 -> 42 | O19: =J19+K19+L19 -> 42 | P19: =J19 -> 21 | Q19: =F19+G19+H19+I19 -> 21
A20: 3 | B20: Ñ³ñÏ³¹Çñ µáõÅÙ³Ý ï»ë³ÏÇ ÷á÷áËáõÃÛ³Ý Ù³ëÇÝ ÙÇçÝáñ¹áõÃÛáõÝÝ»ñ | N20: =D20+E20 -> 0 | O20: =J20+K20+L20 -> 0 | P20: =J20 -> 0 | Q20: =F20+G20+H20+I20 -> 0
A21: 4 | B21: ³ÛÉ ÙÇçÝáñ¹áõÃÛáõÝÝ»ñ | E21: 21 | F21: 4 | G21: 10 | I21: 1 | J21: 15 | K21: 2 | L21: 4 | M21: 1 | N21: =D21+E21 -> 21 | O21: =J21+K21+L21 -> 21 | P21: =J21 -> 15 | Q21: =F21+G21+H21+I21 -> 15
A22: 5 | B22: ¹³ï³Ï³Ý Ñ³ÝÓÝ³ñ³ñáõÃÛáõÝÝ»ñ | D22: 11 | E22: 4 | F22: 4 | G22: 2 | J22: 6 | L22: 9 | N22: =D22+E22 -> 15 | O22: =J22+K22+L22 -> 15 | P22: =J22 -> 6 | Q22: =F22+G22+H22+I22 -> 6
A23: ÀÜ¸²ØºÜÀ | D23: =SUM(D6:D16,D18:D22) -> 13 | E23: =SUM(E6:E16,E18:E22) -> 290 | F23: =SUM(F6:F16,F18:F22) -> 54 | G23: =SUM(G6:G16,G18:G22) -> 197 | H23: =SUM(H6:H16,H18:H22) -> 8 | I23: =SUM(I6:I16,I18:I22) -> 4 | J23: =SUM(J6:J16,J18:J22) -> 263 | K23: =SUM(K6:K16,K18:K22) -> 2 | ... Q23: =SUM(Q6:Q16,Q18:Q22) -> 263
B27: Ծանոթություն. 1 գործ միացվել է

Sheet Արաբկիր
A1: 2017Ã. 1-ին ÏÇë³ÙÛ³Ï | C1: Ð²ÞìºîìàôÂÚàôÜ | K1: Ð³í»Éí³Í Ð³Û³ëï³ÝÇ Ð³Ýñ³å»ïáõÃÛ³Ý ¸³ï³ñ³ÝÝ»ñÇ Ý³Ë³·³ÑÝ»ñÇ ËáñÑñ¹Ç 25.08.2017Ã. ÃÇí 35-È áñáßÙ³Ý
A2: ØÇÝã¹³ï³Ï³Ý í³ñáõÛÃÇ ÝÏ³ïÙ³Ùµ ¹³ï³Ï³Ý í»ñ³ÑëÏáÕáõÃÛ³Ý, ¹³ï³Ï³Ý ³Ïï»ñÇ ¨ ¹³ï³Ï³Ý Ñ³ÝÓÝ³ñ³ñáõÃÛáõÝÝ»ñÇ Ï³ï³ñÙ³Ý Ñ»ï Ï³åí³Í ÙÇçÝáñ¹áõÃÛáõÝÝ»ñÇ í»ñ³µ»ñÛ³É ¹³ï³Ï³Ý ·áñÍ»ñáí ºñ¨³Ý ù³Õ³ùÇ ²ñ³µÏÇñ ¨ ø³Ý³ù»é-¼»ÛÃáõÝ í³ñã³Ï³Ý ßñç³ÝÝ»ñÇ ÁÝ¹Ñ³Ýáõñ Çñ³í³ëáõÃÛ³Ý ³é³çÇÝ ³ïÛ³ÝÇ ¹³ï³ñ³ÝÇ ·áñÍáõÝ»áõÃÛ³Ý í»ñ³µ»ñÛ³É
D3: Ñ³ßí»ïáõ Å³Ù³Ý³Ï³Ñ³ïí³ÍÇ ëÏ½µáõÙ Ý³Ëáñ¹ Ñ³ßí»ïáõ Å³Ù³Ý³Ï³Ñ³ïí³ÍÇó ÷áË³Ýóí³Í ·áñÍ»ñÇ ÁÝ¹Ñ³Ýáõñ ÃÇíÁ | E3: Ñ³ßí»ïáõ Å³Ù³Ý³Ï³Ñ³ïí³ÍáõÙ ëï³óí³Í ·áñÍ»ñÇ ÁÝ¹Ñ³Ýáõñ ÃÇíÁ | F3: Ñ³ßí»ïáõ Å³Ù³Ý³Ï³Ñ³ïí³ÍáõÙ ³í³ñïí³Í ·áñÍ»ñÇ ÁÝ¹Ñ³Ýáõñ ÃÇíÁ | K3: áõÕ³ñÏí»É ¿ Áëï ÁÝ¹¹³ïáõÃÛ³Ý | L3: Ñ³ßí»ïáõ Å³Ù³Ý³Ï³Ñ³ïí³ÍáõÙ ³Ý³í³ñï ·áñÍ»ñÇ ÁÝ¹Ñ³Ýáõñ ÃÇíÁ | M3: µáÕáù³ñÏí»É ¿ í»ñ³ùÝÝÇã ¹³ï³ñ³Ý
F4: Ù»ñÅí»É ¿ | G4: µ³í³ñ³ñí»É ¿ | H4: µ³í³ñ³ñí»É ¿ Ù³ëÝ³ÏÇ | I4: ÃáÕÝí»É ¿ ³é³Ýó ùÝÝáõÃÛ³Ý | J4: ÁÝ¹³Ù»ÝÁ
A5: 1. ØÇÝã¹³ï³Ï³Ý í³ñáõÛÃÇ ÝÏ³ïÙ³Ùµ ¹³ï³Ï³Ý í»ñ³ÑëÏáÕáõÃÛ³Ý áÉáñï | D5: 1 | E5: 2 | F5: 3 | G5: 4 | H5: 5 | I5: 6 | J5: 7 | K5: 8 | L5: 9 | M5: 10 | N5: 1+2=7+8+9 | P5: 7=3+4+5+6
A6: 1 | B6: Ï³É³ÝùÁ áñå»ë Ë³÷³ÝÙ³Ý ÙÇçáó ÏÇñ³é»Éáõ Ù³ëÇÝ ÙÇçÝáñ¹áõÃÛáõÝÝ»ñ | E6: 468 | F6: 8 | G6: 460 | J6: 468 | M6: 28 | N6: =D6+E6 -> 468 | O6: =J6+K6+L6 -> 468 | P6: =J6 -> 468 | Q6: =F6+G6+H6+I6 -> 468
A7: 2 | B7: Ï³É³ÝùÇ Å³ÙÏ»ïÁ »ñÏ³ñ³óÝ»Éáõ Ù³ëÇÝ ÙÇçÝáñ¹áõÃÛáõÝÝ»ñ | D7: 5 | E7: 242 | G7: 245 | J7: 245 | L7: 2 | M7: 71 | N7: =D7+E7 -> 247 | O7: =J7+K7+L7 -> 247 | P7: =J7 -> 245 | Q7: =F7+G7+H7+I7 -> 245
A8: 3 | B8: Ï³É³ÝùÇ í»ñ³Ñ³ëï³ïÙ³Ý Ù³ëÇÝ ÙÇçÝáñ¹áõÃÛáõÝÝ»ñ | E8: 19 | G8: 19 | J8: 19 | M8: 8 | N8: =D8+E8 -> 19 | O8: =J8+K8+L8 -> 19 | P8: =J8 -> 19 | Q8: =F8+G8+H8+I8 -> 19
A9: 4 | B9: ·ñ³íÁ áñå»ë Ï³É³Ý³íáñÙ³Ý ³ÛÉÁÝïñ³Ýù³ÛÇÝ Ë³÷³ÝÙ³Ý ÙÇçáó ÏÇñ³é»Éáõ Ù³ëÇÝ ÙÇçÝáñ¹áõÃÛáõÝÝ»ñ | D9: 1 | E9: 19 | F9: 12 | G9: 3 | H9: 2 | I9: 3 | J9: 20 | M9: 11 | N9: =D9+E9 -> 20 | O9: =J9+K9+L9 -> 20 | P9: =J9 -> 20 | Q9: =F9+G9+H9+I9 -> 20
A10: 5 | B10: Ëáõ½³ñÏáõÃÛ³Ý Ï³ï³ñÙ³Ý Ù³ëÇÝ ÙÇçÝáñ¹áõÃÛáõÝÝ»ñ | E10: 322 | F10: 5 | G10: 307 | H10: 8 | I10: 2 | J10: 322 | M10: 3 | N10: =D10+E10 -> 322 | O10: =J10+K10+L10 -> 322 | P10: =J10 -> 322 | Q10: =F10+G10+H10+I10 -> 322
A11: 6 | B11: µ³ÝÏ³ÛÇÝ, ³å³Ñáí³·ñ³Ï³Ý, Ýáï³ñ³Ï³Ý ·³ÕïÝÇù Ï³½ÙáÕ ï»Õ»ÏáõÃÛáõÝÝ»ñÇ ëï³óÙ³Ý Ñ³Ù³ñ Ëáõ½³ñÏáõÃÛ³Ý Ï³Ù ³é·ñ³íÙ³Ý Ï³ï³ñÙ³Ý Ù³ëÇÝ ÙÇçÝáñ¹áõÃÛáõÝÝ»ñ | E11: 35 | G11: 35 | J11: 35 | M11: 1 | N11: =D11+E11 -> 35 | O11: =J11+K11+L11 -> 35 | P11: =J11 -> 35 | Q11: =F11+G11+H11+I11 -> 35
A12: 7 | B12: Ý³Ù³Ï³·ñáõÃÛ³Ý, Ñ»é³·ñ³Ï³Ý, ÷áuï³ÛÇÝ Ñ³Õáñ¹áõÙÝ»ñÇ ÑëÏáÕáõÃÛ³Ý Ù³ëÇÝ ÙÇçÝáñ¹áõÃÛáõÝÝ»ñ | E12: 10 | F12: 3 | G12: 7 | J12: 10 | N12: =D12+E12 -> 10 | O12: =J12+K12+L12 -> 10 | P12: =J12 -> 10 | Q12: =F12+G12+H12+I12 -> 10
A13: 8 | B13: Ñ»é³Ëáu³ÛÇÝ Ï³Ù Ï³åÇ ³ÛÉ ÙÇçáóÝ»ñáí ï³ñíáÕ Ëáu³ÏóáõÃÛáõÝÝ»ñÇ ÉuÙ³Ý ¨ Ó³ÛÝ³·ñ³éÙ³Ý Ù³ëÇÝ ÙÇçÝáñ¹áõÃÛáõÝÝ»ñ | E13: 32 | G13: 32 | J13: 32 | N13: =D13+E13 -> 32 | O13: =J13+K13+L13 -> 32 | P13: =J13 -> 32 | Q13: =F13+G13+H13+I13 -> 32
A14: 9 | B14: Ñ»é³ËáëÝ»ñÇ Ùáõïù³ÛÇÝ ¨ »Éù³ÛÇÝ í»ñÍ³ÝÙ³Ý ÃáõÛÉïíáõÃÛáõÝ ëï³Ý³Éáõ Ù³ëÇÝ ÙÇçÝáñ¹áõÃÛáõÝÝ»ñ | E14: 645 | G14: 643 | H14: 2 | J14: 645 | N14: =D14+E14 -> 645 | O14: =J14+K14+L14 -> 645 | P14: =J14 -> 645 | Q14: =F14+G14+H14+I14 -> 645
A15: 10 | B15: Ñ»ï³ùÝÝáõÃÛ³Ý Ù³ñÙÝÇ ³ßË³ïáÕÇ, ùÝÝÇãÇ, ¹³ï³Ë³½Ç oå»ñ³ïÇí-Ñ»ï³Ëáõ½³Ï³Ý ·áñÍáÕáõÃÛáõÝÝ»ñ Çñ³Ï³Ý³óÝáÕ Ù³ñÙÇÝÝ»ñÇ ³ÝoñÇÝ³Ï³Ý ¨ ³ÝÑÇÙÝ áñáßáõÙÝ»ñÇ ¨ ·áñÍáÕáõÃÛáõÝÝ»ñÇ ¹»Ù µáÕáùÝ»ñ | D15: 87 | E15: 119 | F15: 157 | G15: 10 | I15: 2 | J15: 169 | K15: 3 | L15: 34 | M15: 50 | N15: =D15+E15 -> 206 | O15: =J15+K15+L15 -> 206 | P15: =J15 -> 169 | Q15: =F15+G15+H15+I15 -> 169
A16: 11 | B16: ²½³ïáõÃÛáõÝÇó ½ñÏ»Éáõ Çñ³í³ã³÷áõÃÛ³Ý í»ñ³µ»ñÛ³É µáÕáùÝ»ñáí ·áñÍ»ñ | E16: 9 | F16: 5 | G16: 3 | I16: 1 | J16: 9 | N16: =D16+E16 -> 9 | O16: =J16+K16+L16 -> 9 | P16: =J16 -> 9 | Q16: =F16+G16+H16+I16 -> 9
A17: 2. ¸³ï³Ï³Ý ³Ïï»ñÇ ¨ ¹³ï³Ï³Ý Ñ³ÝÓÝ³ñ³ñáõÃÛáõÝÝ»ñÇ Ï³ï³ñÙ³Ý Ñ»ï Ï³åí³Í Ñ³ñó»ñÇ ÉáõÍÙ³Ý áÉáñï
A18: 1 | B18: å³ïÅÇó å³ÛÙ³Ý³Ï³Ý í³Õ³Å³ÙÏ»ï ³½³ï»Éáõ Ù³ëÇÝ ÙÇçÝáñ¹áõÃÛáõÝÝ»ñ | N18: =D18+E18 -> 0 | O18: =J18+K18+L18 -> 0 | P18: =J18 -> 0 | Q18: =F18+G18+H18+I18 -> 0
A19: 2 | B19: å³ïÇÅÁ ÷á÷áË»Éáõ, Ñ»ï³Ó·»Éáõ ¨ å³ïÅÇó ³½³ï»Éáõ Ù³uÇÝ ÙÇçÝáñ¹áõÃÛáõÝÝ»ñ | D19: 1 | E19: 35 | F19: 2 | G19: 11 | H19: 1 | I19: 3 | J19: 17 | L19: 19 | N19: =D19+E19 -> 36 | O19: =J19+K19+L19 -> 36 | P19: =J19 -> 17 | Q19: =F19+G19+H19+I19 -> 17
A20: 3 | B20: Ñ³ñÏ³¹Çñ µáõÅÙ³Ý ï»ë³ÏÇ ÷á÷áËáõÃÛ³Ý Ù³ëÇÝ ÙÇçÝáñ¹áõÃÛáõÝÝ»ñ | E20: 16 | G20: 16 | J20: 16 | N20: =D20+E20 -> 16 | O20: =J20+K20+L20 -> 16 | P20: =J20 -> 16 | Q20: =F20+G20+H20+I20 -> 16
A21: 4 | B21: ³ÛÉ ÙÇçÝáñ¹áõÃÛáõÝÝ»ñ | D21: 4 | E21: 2 | G21: 4 | I21: 1 | J21: 5 | L21: 1 | N21: =D21+E21 -> 6 | O21: =J21+K21+L21 -> 6 | P21: =J21 -> 5 | Q21: =F21+G21+H21+I21 -> 5
A22: 5 | B22: ¹³ï³Ï³Ý Ñ³ÝÓÝ³ñ³ñáõÃÛáõÝÝ»ñ | D22: 11 | E22: 8 | G22: 16 | J22: 16 | L22: 3 | N22: =D22+E22 -> 19 | O22: =J22+K22+L22 -> 19 | P22: =J22 -> 16 | Q22: =F22+G22+H22+I22 -> 16
A23: ÀÜ¸²ØºÜÀ | D23: =SUM(D6:D16,D18:D22) -> 109 | E23: =SUM(E6:E16,E18:E22) -> 1981 | F23: =SUM(F6:F16,F18:F22) -> 192 | G23: =SUM(G6:G16,G18:G22) -> 1811 | H23: =SUM(H6:H16,H18:H22) -> 13 | I23: =SUM(I6:I16,I18:I22) -> 12 | J23: =SUM(J6:J16,J18:J22) -> 2028 | K23: =SUM(K6:K16,K18:K22) -> 3 | ... Q23: =SUM(Q6:Q16,Q18:Q22) -> 2028

Sheet Էրեբունի
A1: 2017Ã. 1-ին ÏÇë³ÙÛ³Ï | C1: Ð²ÞìºîìàôÂÚàôÜ | K1: Ð³í»Éí³Í Ð³Û³ëï³ÝÇ Ð³Ýñ³å»ïáõÃÛ³Ý ¸³ï³ñ³ÝÝ»ñÇ Ý³Ë³·³ÑÝ»ñÇ ËáñÑñ¹Ç 25.08.2017Ã. ÃÇí 35-È áñáßÙ³Ý
A2: ØÇÝã¹³ï³Ï³Ý í³ñáõÛÃÇ ÝÏ³ïÙ³Ùµ ¹³ï³Ï³Ý í»ñ³ÑëÏáÕáõÃÛ³Ý, ¹³ï³Ï³Ý ³Ïï»ñÇ ¨ ¹³ï³Ï³Ý Ñ³ÝÓÝ³ñ³ñáõÃÛáõÝÝ»ñÇ Ï³ï³ñÙ³Ý Ñ»ï Ï³åí³Í ÙÇçÝáñ¹áõÃÛáõÝÝ»ñÇ í»ñ³µ»ñÛ³É ¹³ï³Ï³Ý ·áñÍ»ñáí ºñ¨³Ý ù³Õ³ùÇ ¾ñ»µáõÝÇ ¨ Üáõµ³ñ³ß»Ý í³ñã³Ï³Ý ßñç³ÝÝ»ñÇ ÁÝ¹Ñ³Ýáõñ Çñ³í³ëáõÃÛ³Ý ³é³çÇÝ ³ïÛ³ÝÇ ¹³ï³ñ³ÝÇ ·áñÍáõÝ»áõÃÛ³Ý í»ñ³µ»ñÛ³É
D3: Ñ³ßí»ïáõ Å³Ù³Ý³Ï³Ñ³ïí³ÍÇ ëÏ½µáõÙ Ý³Ëáñ¹ Ñ³ßí»ïáõ Å³Ù³Ý³Ï³Ñ³ïí³ÍÇó ÷áË³Ýóí³Í ·áñÍ»ñÇ ÁÝ¹Ñ³Ýáõñ ÃÇíÁ | E3: Ñ³ßí»ïáõ Å³Ù³Ý³Ï³Ñ³ïí³ÍáõÙ ëï³óí³Í ·áñÍ»ñÇ ÁÝ¹Ñ³Ýáõñ ÃÇíÁ | F3: Ñ³ßí»ïáõ Å³Ù³Ý³Ï³Ñ³ïí³ÍáõÙ ³í³ñïí³Í ·áñÍ»ñÇ ÁÝ¹Ñ³Ýáõñ ÃÇíÁ | K3: áõÕ³ñÏí»É ¿ Áëï ÁÝ¹¹³ïáõÃÛ³Ý | L3: Ñ³ßí»ïáõ Å³Ù³Ý³Ï³Ñ³ïí³ÍáõÙ ³Ý³í³ñï ·áñÍ»ñÇ ÁÝ¹Ñ³Ýáõñ ÃÇíÁ | M3: µáÕáù³ñÏí»É ¿ í»ñ³ùÝÝÇã ¹³ï³ñ³Ý
F4: Ù»ñÅí»É ¿ | G4: µ³í³ñ³ñí»É ¿ | H4: µ³í³ñ³ñí»É ¿ Ù³ëÝ³ÏÇ | I4: ÃáÕÝí»É ¿ ³é³Ýó ùÝÝáõÃÛ³Ý | J4: ÁÝ¹³Ù»ÝÁ
A5: 1. ØÇÝã¹³ï³Ï³Ý í³ñáõÛÃÇ ÝÏ³ïÙ³Ùµ ¹³ï³Ï³Ý í»ñ³ÑëÏáÕáõÃÛ³Ý áÉáñï | D5: 1 | E5: 2 | F5: 3 | G5: 4 | H5: 5 | I5: 6 | J5: 7 | K5: 8 | L5: 9 | M5: 10 | N5: 1+2=7+8+9 | P5: 7=3+4+5+6
A6: 1 | B6: Ï³É³ÝùÁ áñå»ë Ë³÷³ÝÙ³Ý ÙÇçáó ÏÇñ³é»Éáõ Ù³ëÇÝ ÙÇçÝáñ¹áõÃÛáõÝÝ»ñ | E6: 29 | F6: 6 | G6: 23 | J6: 29 | M6: 10 | N6: =D6+E6 -> 29 | O6: =J6+K6+L6 -> 29 | P6: =J6 -> 29 | Q6: =F6+G6+H6+I6 -> 29
A7: 2 | B7: Ï³É³ÝùÇ Å³ÙÏ»ïÁ »ñÏ³ñ³óÝ»Éáõ Ù³ëÇÝ ÙÇçÝáñ¹áõÃÛáõÝÝ»ñ | D7: 2 | E7: 29 | F7: 1 | G7: 29 | J7: 30 | L7: 1 | M7: 9 | N7: =D7+E7 -> 31 | O7: =J7+K7+L7 -> 31 | P7: =J7 -> 30 | Q7: =F7+G7+H7+I7 -> 30
A8: 3 | B8: Ï³É³ÝùÇ í»ñ³Ñ³ëï³ïÙ³Ý Ù³ëÇÝ ÙÇçÝáñ¹áõÃÛáõÝÝ»ñ | E8: 11 | F8: 1 | G8: 10 | J8: 11 | M8: 6 | N8: =D8+E8 -> 11 | O8: =J8+K8+L8 -> 11 | P8: =J8 -> 11 | Q8: =F8+G8+H8+I8 -> 11
A9: 4 | B9: ·ñ³íÁ áñå»ë Ï³É³Ý³íáñÙ³Ý ³ÛÉÁÝïñ³Ýù³ÛÇÝ Ë³÷³ÝÙ³Ý ÙÇçáó ÏÇñ³é»Éáõ Ù³ëÇÝ ÙÇçÝáñ¹áõÃÛáõÝÝ»ñ | E9: 30 | F9: 25 | G9: 5 | J9: 30 | M9: 4 | N9: =D9+E9 -> 30 | O9: =J9+K9+L9 -> 30 | P9: =J9 -> 30 | Q9: =F9+G9+H9+I9 -> 30
A10: 5 | B10: Ëáõ½³ñÏáõÃÛ³Ý Ï³ï³ñÙ³Ý Ù³ëÇÝ ÙÇçÝáñ¹áõÃÛáõÝÝ»ñ | E10: 104 | F10: 8 | G10: 96 | J10: 104 | N10: =D10+E10 -> 104 | O10: =J10+K10+L10 -> 104 | P10: =J10 -> 104 | Q10: =F10+G10+H10+I10 -> 104
A11: 6 | B11: µ³ÝÏ³ÛÇÝ, ³å³Ñáí³·ñ³Ï³Ý, Ýáï³ñ³Ï³Ý ·³ÕïÝÇù Ï³½ÙáÕ ï»Õ»ÏáõÃÛáõÝÝ»ñÇ ëï³óÙ³Ý Ñ³Ù³ñ Ëáõ½³ñÏáõÃÛ³Ý Ï³Ù ³é·ñ³íÙ³Ý Ï³ï³ñÙ³Ý Ù³ëÇÝ ÙÇçÝáñ¹áõÃÛáõÝÝ»ñ | E11: 4 | G11: 4 | J11: 4 | N11: =D11+E11 -> 4 | O11: =J11+K11+L11 -> 4 | P11: =J11 -> 4 | Q11: =F11+G11+H11+I11 -> 4
A12: 7 | B12: Ý³Ù³Ï³·ñáõÃÛ³Ý, Ñ»é³·ñ³Ï³Ý, ÷áuï³ÛÇÝ Ñ³Õáñ¹áõÙÝ»ñÇ ÑëÏáÕáõÃÛ³Ý Ù³ëÇÝ ÙÇçÝáñ¹áõÃÛáõÝÝ»ñ | E12: 3 | G12: 3 | J12: 3 | N12: =D12+E12 -> 3 | O12: =J12+K12+L12 -> 3 | P12: =J12 -> 3 | Q12: =F12+G12+H12+I12 -> 3
A13: 8 | B13: Ñ»é³Ëáu³ÛÇÝ Ï³Ù Ï³åÇ ³ÛÉ ÙÇçáóÝ»ñáí ï³ñíáÕ Ëáu³ÏóáõÃÛáõÝÝ»ñÇ ÉuÙ³Ý ¨ Ó³ÛÝ³·ñ³éÙ³Ý Ù³ëÇÝ ÙÇçÝáñ¹áõÃÛáõÝÝ»ñ | N13: =D13+E13 -> 0 | O13: =J13+K13+L13 -> 0 | P13: =J13 -> 0 | Q13: =F13+G13+H13+I13 -> 0
A14: 9 | B14: Ñ»é³ËáëÝ»ñÇ Ùáõïù³ÛÇÝ ¨ »Éù³ÛÇÝ í»ñÍ³ÝÙ³Ý ÃáõÛÉïíáõÃÛáõÝ ëï³Ý³Éáõ Ù³ëÇÝ ÙÇçÝáñ¹áõÃÛáõÝÝ»ñ | E14: 129 | G14: 129 | J14: 129 | N14: =D14+E14 -> 129 | O14: =J14+K14+L14 -> 129 | P14: =J14 -> 129 | Q14: =F14+G14+H14+I14 -> 129
A15: 10 | B15: Ñ»ï³ùÝÝáõÃÛ³Ý Ù³ñÙÝÇ ³ßË³ïáÕÇ, ùÝÝÇãÇ, ¹³ï³Ë³½Ç oå»ñ³ïÇí-Ñ»ï³Ëáõ½³Ï³Ý ·áñÍáÕáõÃÛáõÝÝ»ñ Çñ³Ï³Ý³óÝáÕ Ù³ñÙÇÝÝ»ñÇ ³ÝoñÇÝ³Ï³Ý ¨ ³ÝÑÇÙÝ áñáßáõÙÝ»ñÇ ¨ ·áñÍáÕáõÃÛáõÝÝ»ñÇ ¹»Ù µáÕáùÝ»ñ | D15: 14 | E15: 16 | F15: 14 | J15: 14 | K15: 4 | L15: 12 | M15: 10 | N15: =D15+E15 -> 30 | O15: =J15+K15+L15 -> 30 | P15: =J15 -> 14 | Q15: =F15+G15+H15+I15 -> 14
A16: 11 | B16: ²½³ïáõÃÛáõÝÇó ½ñÏ»Éáõ Çñ³í³ã³÷áõÃÛ³Ý í»ñ³µ»ñÛ³É µáÕáùÝ»ñáí ·áñÍ»ñ
A17: 2. ¸³ï³Ï³Ý ³Ïï»ñÇ ¨ ¹³ï³Ï³Ý Ñ³ÝÓÝ³ñ³ñáõÃÛáõÝÝ»ñÇ Ï³ï³ñÙ³Ý Ñ»ï Ï³åí³Í Ñ³ñó»ñÇ ÉáõÍÙ³Ý áÉáñï
A18: 1 | B18: å³ïÅÇó å³ÛÙ³Ý³Ï³Ý í³Õ³Å³ÙÏ»ï ³½³ï»Éáõ Ù³ëÇÝ ÙÇçÝáñ¹áõÃÛáõÝÝ»ñ | E18: 9 | F18: 3 | G18: 6 | J18: 9 | N18: =D18+E18 -> 9 | O18: =J18+K18+L18 -> 9 | P18: =J18 -> 9 | Q18: =F18+G18+H18+I18 -> 9
A19: 2 | B19: å³ïÇÅÁ ÷á÷áË»Éáõ, Ñ»ï³Ó·»Éáõ ¨ å³ïÅÇó ³½³ï»Éáõ Ù³uÇÝ ÙÇçÝáñ¹áõÃÛáõÝÝ»ñ | D19: 4 | E19: 64 | F19: 4 | G19: 43 | H19: 1 | J19: 48 | K19: 2 | L19: 18 | M19: 1 | N19: =D19+E19 -> 68 | O19: =J19+K19+L19 -> 68 | P19: =J19 -> 48 | Q19: 48
A20: 3 | B20: Ñ³ñÏ³¹Çñ µáõÅÙ³Ý ï»ë³ÏÇ ÷á÷áËáõÃÛ³Ý Ù³ëÇÝ ÙÇçÝáñ¹áõÃÛáõÝÝ»ñ | E20: 20 | F20: 6 | G20: 9 | J20: 15 | L20: 5 | M20: 1 | N20: =D20+E20 -> 20 | O20: =J20+K20+L20 -> 20 | P20: =J20 -> 15 | Q20: =F20+G20+H20+I20 -> 15
A21: 4 | B21: ³ÛÉ ÙÇçÝáñ¹áõÃÛáõÝÝ»ñ | D21: 8 | E21: 58 | F21: 24 | G21: 33 | H21: 1 | I21: 1 | J21: 59 | K21: 1 | L21: 5 | M21: 5 | N21: =D21+E21 -> 66 | O21: =J21+K21+L21 -> 65 | P21: =J21 -> 59 | Q21: =F21+G21+H21+I21 -> 59
A22: 5 | B22: ¹³ï³Ï³Ý Ñ³ÝÓÝ³ñ³ñáõÃÛáõÝÝ»ñ | D22: 5 | E22: 6 | F22: 1 | G22: 4 | J22: 5 | K22: 2 | L22: 4 | N22: 11 | O22: =J22+K22+L22 -> 11 | P22: =J22 -> 5 | Q22: =F22+G22+H22+I22 -> 5
A23: ÀÜ¸²ØºÜÀ | D23: =SUM(D6:D15,D18:D22) -> 33 | E23: =SUM(E6:E15,E18:E22) -> 512 | F23: =SUM(F6:F15,F18:F22) -> 93 | G23: =SUM(G6:G15,G18:G22) -> 394 | H23: =SUM(H6:H15,H18:H22) -> 2 | I23: =SUM(I6:I15,I18:I22) -> 1 | J23: =SUM(J6:J15,J18:J22) -> 490 | K23: =SUM(K6:K15,K18:K22) -> 9 | ... Q23: =SUM(Q6:Q15,Q18:Q22) -> 490
C26: Ծանոթություն. 1 միջնորդություն վերադարձվել է

Sheet Կենտրոն
A1: 2017Ã. 1-ին ÏÇë³ÙÛ³Ï | C1: Ð²ÞìºîìàôÂÚàôÜ | K1: Ð³í»Éí³Í Ð³Û³ëï³ÝÇ Ð³Ýñ³å»ïáõÃÛ³Ý ¸³ï³ñ³ÝÝ»ñÇ Ý³Ë³·³ÑÝ»ñÇ ËáñÑñ¹Ç 25.08.2017Ã. ÃÇí 35-È áñáßÙ³Ý
A2: ØÇÝã¹³ï³Ï³Ý í³ñáõÛÃÇ ÝÏ³ïÙ³Ùµ ¹³ï³Ï³Ý í»ñ³ÑëÏáÕáõÃÛ³Ý, ¹³ï³Ï³Ý ³Ïï»ñÇ ¨ ¹³ï³Ï³Ý Ñ³ÝÓÝ³ñ³ñáõÃÛáõÝÝ»ñÇ Ï³ï³ñÙ³Ý Ñ»ï Ï³åí³Í ÙÇçÝáñ¹áõÃÛáõÝÝ»ñÇ í»ñ³µ»ñÛ³É ¹³ï³Ï³Ý ·áñÍ»ñáí ºñ¨³Ý ù³Õ³ùÇ Î»ÝïñáÝ ¨ Üáñù-Ø³ñ³ß í³ñã³Ï³Ý ßñç³ÝÝ»ñÇ ÁÝ¹Ñ³Ýáõñ Çñ³í³ëáõÃÛ³Ý ³é³çÇÝ ³ïÛ³ÝÇ ¹³ï³ñ³ÝÇ ·áñÍáõÝ»áõÃÛ³Ý í»ñ³µ»ñÛ³É
D3: Ñ³ßí»ïáõ Å³Ù³Ý³Ï³Ñ³ïí³ÍÇ ëÏ½µáõÙ Ý³Ëáñ¹ Ñ³ßí»ïáõ Å³Ù³Ý³Ï³Ñ³ïí³ÍÇó ÷áË³Ýóí³Í ·áñÍ»ñÇ ÁÝ¹Ñ³Ýáõñ ÃÇíÁ | E3: Ñ³ßí»ïáõ Å³Ù³Ý³Ï³Ñ³ïí³ÍáõÙ ëï³óí³Í ·áñÍ»ñÇ ÁÝ¹Ñ³Ýáõñ ÃÇíÁ | F3: Ñ³ßí»ïáõ Å³Ù³Ý³Ï³Ñ³ïí³ÍáõÙ ³í³ñïí³Í ·áñÍ»ñÇ ÁÝ¹Ñ³Ýáõñ ÃÇíÁ | K3: áõÕ³ñÏí»É ¿ Áëï ÁÝ¹¹³ïáõÃÛ³Ý | L3: Ñ³ßí»ïáõ Å³Ù³Ý³Ï³Ñ³ïí³ÍáõÙ ³Ý³í³ñï ·áñÍ»ñÇ ÁÝ¹Ñ³Ýáõñ ÃÇíÁ | M3: µáÕáù³ñÏí»É ¿ í»ñ³ùÝÝÇã ¹³ï³ñ³Ý
F4: Ù»ñÅí»É ¿ | G4: µ³í³ñ³ñí»É ¿ | H4: µ³í³ñ³ñí»É ¿ Ù³ëÝ³ÏÇ | I4: ÃáÕÝí»É ¿ ³é³Ýó ùÝÝáõÃÛ³Ý | J4: ÁÝ¹³Ù»ÝÁ
A5: 1. ØÇÝã¹³ï³Ï³Ý í³ñáõÛÃÇ ÝÏ³ïÙ³Ùµ ¹³ï³Ï³Ý í»ñ³ÑëÏáÕáõÃÛ³Ý áÉáñï | D5: 1 | E5: 2 | F5: 3 | G5: 4 | H5: 5 | I5: 6 | J5: 7 | K5: 8 | L5: 9 | M5: 10 | N5: 1+2=7+8+9 | P5: 7=3+4+5+6
A6: 1 | B6: Ï³É³ÝùÁ áñå»ë Ë³÷³ÝÙ³Ý ÙÇçáó ÏÇñ³é»Éáõ Ù³ëÇÝ ÙÇçÝáñ¹áõÃÛáõÝÝ»ñ | D6: 0 | E6: 155 | F6: 3 | G6: 151 | H6: 0 | I6: 0 | J6: 154 | K6: 0 | L6: 1 | M6: 62 | N6: =D6+E6 -> 155 | O6: =J6+K6+L6 -> 155 | P6: =J6 -> 154 | Q6: =F6+G6+H6+I6 -> 154
A7: 2 | B7: Ï³É³ÝùÇ Å³ÙÏ»ïÁ »ñÏ³ñ³óÝ»Éáõ Ù³ëÇÝ ÙÇçÝáñ¹áõÃÛáõÝÝ»ñ | D7: 1 | E7: 114 | F7: 2 | G7: 111 | H7: 2 | I7: 0 | J7: 115 | K7: 0 | M7: 34 | N7: =D7+E7 -> 115 | O7: =J7+K7+L7 -> 115 | P7: =J7 -> 115 | Q7: =F7+G7+H7+I7 -> 115
A8: 3 | B8: Ï³É³ÝùÇ í»ñ³Ñ³ëï³ïÙ³Ý Ù³ëÇÝ ÙÇçÝáñ¹áõÃÛáõÝÝ»ñ | D8: 0 | E8: 19 | F8: 0 | G8: 19 | H8: 0 | I8: 0 | J8: 19 | K8: 0 | M8: 10 | N8: =D8+E8 -> 19 | O8: =J8+K8+L8 -> 19 | P8: =J8 -> 19 | Q8: =F8+G8+H8+I8 -> 19
A9: 4 | B9: ·ñ³íÁ áñå»ë Ï³É³Ý³íáñÙ³Ý ³ÛÉÁÝïñ³Ýù³ÛÇÝ Ë³÷³ÝÙ³Ý ÙÇçáó ÏÇñ³é»Éáõ Ù³ëÇÝ ÙÇçÝáñ¹áõÃÛáõÝÝ»ñ | D9: 1 | E9: 18 | F9: 12 | G9: 5 | H9: 0 | I9: 2 | J9: 19 | K9: 0 | M9: 6 | N9: =D9+E9 -> 19 | O9: =J9+K9+L9 -> 19 | P9: =J9 -> 19 | Q9: =F9+G9+H9+I9 -> 19
A10: 5 | B10: Ëáõ½³ñÏáõÃÛ³Ý Ï³ï³ñÙ³Ý Ù³ëÇÝ ÙÇçÝáñ¹áõÃÛáõÝÝ»ñ | D10: 0 | E10: 389 | F10: 18 | G10: 360 | H10: 11 | J10: 389 | M10: 6 | N10: =D10+E10 -> 389 | O10: =J10+K10+L10 -> 389 | P10: =J10 -> 389 | Q10: =F10+G10+H10+I10 -> 389
A11: 6 | B11: µ³ÝÏ³ÛÇÝ, ³å³Ñáí³·ñ³Ï³Ý, Ýáï³ñ³Ï³Ý ·³ÕïÝÇù Ï³½ÙáÕ ï»Õ»ÏáõÃÛáõÝÝ»ñÇ ëï³óÙ³Ý Ñ³Ù³ñ Ëáõ½³ñÏáõÃÛ³Ý Ï³Ù ³é·ñ³íÙ³Ý Ï³ï³ñÙ³Ý Ù³ëÇÝ ÙÇçÝáñ¹áõÃÛáõÝÝ»ñ | D11: 0 | E11: 54 | F11: 1 | G11: 53 | J11: 54 | N11: =D11+E11 -> 54 | O11: =J11+K11+L11 -> 54 | P11: =J11 -> 54 | Q11: =F11+G11+H11+I11 -> 54
A12: 7 | B12: Ý³Ù³Ï³·ñáõÃÛ³Ý, Ñ»é³·ñ³Ï³Ý, ÷áuï³ÛÇÝ Ñ³Õáñ¹áõÙÝ»ñÇ ÑëÏáÕáõÃÛ³Ý Ù³ëÇÝ ÙÇçÝáñ¹áõÃÛáõÝÝ»ñ | D12: 0 | E12: 33 | G12: 33 | J12: 33 | N12: =D12+E12 -> 33 | O12: =J12+K12+L12 -> 33 | P12: =J12 -> 33 | Q12: =F12+G12+H12+I12 -> 33
A13: 8 | B13: Ñ»é³Ëáu³ÛÇÝ Ï³Ù Ï³åÇ ³ÛÉ ÙÇçáóÝ»ñáí ï³ñíáÕ Ëáu³ÏóáõÃÛáõÝÝ»ñÇ ÉuÙ³Ý ¨ Ó³ÛÝ³·ñ³éÙ³Ý Ù³ëÇÝ ÙÇçÝáñ¹áõÃÛáõÝÝ»ñ | D13: 0 | E13: 16 | G13: 16 | J13: 16 | N13: =D13+E13 -> 16 | O13: =J13+K13+L13 -> 16 | P13: =J13 -> 16 | Q13: =F13+G13+H13+I13 -> 16
A14: 9 | B14: Ñ»é³ËáëÝ»ñÇ Ùáõïù³ÛÇÝ ¨ »Éù³ÛÇÝ í»ñÍ³ÝÙ³Ý ÃáõÛÉïíáõÃÛáõÝ ëï³Ý³Éáõ Ù³ëÇÝ ÙÇçÝáñ¹áõÃÛáõÝÝ»ñ | D14: 0 | E14: 537 | F14: 1 | G14: 535 | H14: 1 | J14: 537 | N14: =D14+E14 -> 537 | O14: =J14+K14+L14 -> 537 | P14: =J14 -> 537 | Q14: =F14+G14+H14+I14 -> 537
A15: 10 | B15: Ñ»ï³ùÝÝáõÃÛ³Ý Ù³ñÙÝÇ ³ßË³ïáÕÇ, ùÝÝÇãÇ, ¹³ï³Ë³½Ç oå»ñ³ïÇí-Ñ»ï³Ëáõ½³Ï³Ý ·áñÍáÕáõÃÛáõÝÝ»ñ Çñ³Ï³Ý³óÝáÕ Ù³ñÙÇÝÝ»ñÇ ³ÝoñÇÝ³Ï³Ý ¨ ³ÝÑÇÙÝ áñáßáõÙÝ»ñÇ ¨ ·áñÍáÕáõÃÛáõÝÝ»ñÇ ¹»Ù µáÕáùÝ»ñ | D15: 43 | E15: 130 | F15: 85 | G15: 17 | H15: 1 | I15: 1 | J15: 104 | K15: 21 | L15: 47 | M15: 50 | N15: =D15+E15 -> 173 | O15: =J15+K15+L15 -> 172 | P15: =J15 -> 104 | Q15: =F15+G15+H15+I15 -> 104
A16: 11 | B16: ²½³ïáõÃÛáõÝÇó ½ñÏ»Éáõ Çñ³í³ã³÷áõÃÛ³Ý í»ñ³µ»ñÛ³É µáÕáùÝ»ñáí ·áñÍ»ñ | D16: 0 | E16: 4 | F16: 2 | G16: 2 | J16: 4 | N16: =D16+E16 -> 4 | O16: =J16+K16+L16 -> 4 | P16: =J16 -> 4 | Q16: =F16+G16+H16+I16 -> 4
A17: 2. ¸³ï³Ï³Ý ³Ïï»ñÇ ¨ ¹³ï³Ï³Ý Ñ³ÝÓÝ³ñ³ñáõÃÛáõÝÝ»ñÇ Ï³ï³ñÙ³Ý Ñ»ï Ï³åí³Í Ñ³ñó»ñÇ ÉáõÍÙ³Ý áÉáñï
A18: 1 | B18: å³ïÅÇó å³ÛÙ³Ý³Ï³Ý í³Õ³Å³ÙÏ»ï ³½³ï»Éáõ Ù³ëÇÝ ÙÇçÝáñ¹áõÃÛáõÝÝ»ñ | D18: 0 | E18: 2 | G18: 1 | H18: 1 | J18: 2 | N18: =D18+E18 -> 2 | O18: =J18+K18+L18 -> 2 | P18: =J18 -> 2 | Q18: =F18+G18+H18+I18 -> 2
A19: 2 | B19: å³ïÇÅÁ ÷á÷áË»Éáõ, Ñ»ï³Ó·»Éáõ ¨ å³ïÅÇó ³½³ï»Éáõ Ù³uÇÝ ÙÇçÝáñ¹áõÃÛáõÝÝ»ñ | D19: 2 | E19: 50 | F19: 4 | G19: 20 | H19: 5 | I19: 2 | J19: 31 | K19: 4 | L19: 15 | M19: 3 | N19: =D19+E19 -> 52 | O19: =J19+K19+L19 -> 50 | P19: =J19 -> 31 | Q19: =F19+G19+H19+I19 -> 31
A20: 3 | B20: Ñ³ñÏ³¹Çñ µáõÅÙ³Ý ï»ë³ÏÇ ÷á÷áËáõÃÛ³Ý Ù³ëÇÝ ÙÇçÝáñ¹áõÃÛáõÝÝ»ñ | D20: 0 | E20: 31 | F20: 1 | G20: 28 | J20: 29 | K20: 1 | L20: 1 | N20: =D20+E20 -> 31 | O20: =J20+K20+L20 -> 31 | P20: =J20 -> 29 | Q20: =F20+G20+H20+I20 -> 29
A21: 4 | B21: ³ÛÉ ÙÇçÝáñ¹áõÃÛáõÝÝ»ñ | D21: 7 | E21: 53 | F21: 17 | G21: 20 | H21: 1 | I21: 5 | J21: 43 | K21: 6 | L21: 11 | M21: 3 | N21: =D21+E21 -> 60 | O21: =J21+K21+L21 -> 60 | P21: =J21 -> 43 | Q21: =F21+G21+H21+I21 -> 43
A22: 5 | B22: ¹³ï³Ï³Ý Ñ³ÝÓÝ³ñ³ñáõÃÛáõÝÝ»ñ | D22: 10 | E22: 9 | G22: 10 | I22: 3 | J22: 13 | L22: 6 | N22: =D22+E22 -> 19 | O22: =J22+K22+L22 -> 19 | P22: =J22 -> 13 | Q22: =F22+G22+H22+I22 -> 13
A23: ÀÜ¸²ØºÜÀ | D23: =SUM(D6:D16,D18:D22) -> 64 | E23: =SUM(E6:E16,E18:E22) -> 1614 | F23: =SUM(F6:F16,F18:F22) -> 146 | G23: =SUM(G6:G16,G18:G22) -> 1381 | H23: =SUM(H6:H16,H18:H22) -> 22 | I23: =SUM(I6:I16,I18:I22) -> 13 | J23: =SUM(J6:J16,J18:J22) -> 1562 | K23: =SUM(K6:K16,K18:K22) -> 32 | ... Q23: =SUM(Q6:Q16,Q18:Q22) -> 1562
C26: Ծանոթություն. 3 միջնորդություն միացվել է

Sheet Ավան
A1: 2017Ã. 1-ին ÏÇë³ÙÛ³Ï | C1: Ð²ÞìºîìàôÂÚàôÜ | K1: Ð³í»Éí³Í Ð³Û³ëï³ÝÇ Ð³Ýñ³å»ïáõÃÛ³Ý ¸³ï³ñ³ÝÝ»ñÇ Ý³Ë³·³ÑÝ»ñÇ ËáñÑñ¹Ç 25.08.2017Ã. ÃÇí 35-È áñáßÙ³Ý
A2: ØÇÝã¹³ï³Ï³Ý í³ñáõÛÃÇ ÝÏ³ïÙ³Ùµ ¹³ï³Ï³Ý í»ñ³ÑëÏáÕáõÃÛ³Ý, ¹³ï³Ï³Ý ³Ïï»ñÇ ¨ ¹³ï³Ï³Ý Ñ³ÝÓÝ³ñ³ñáõÃÛáõÝÝ»ñÇ Ï³ï³ñÙ³Ý Ñ»ï Ï³åí³Í ÙÇçÝáñ¹áõÃÛáõÝÝ»ñÇ í»ñ³µ»ñÛ³É ¹³ï³Ï³Ý ·áñÍ»ñáí ºñ¨³Ý ù³Õ³ùÇ ²í³Ý ¨ Üáñ Üáñù í³ñã³Ï³Ý ßñç³ÝÝ»ñÇ ÁÝ¹Ñ³Ýáõñ Çñ³í³ëáõÃÛ³Ý ³é³çÇÝ ³ïÛ³ÝÇ ¹³ï³ñ³ÝÇ ·áñÍáõÝ»áõÃÛ³Ý í»ñ³µ»ñÛ³É
D3: Ñ³ßí»ïáõ Å³Ù³Ý³Ï³Ñ³ïí³ÍÇ ëÏ½µáõÙ Ý³Ëáñ¹ Ñ³ßí»ïáõ Å³Ù³Ý³Ï³Ñ³ïí³ÍÇó ÷áË³Ýóí³Í ·áñÍ»ñÇ ÁÝ¹Ñ³Ýáõñ ÃÇíÁ | E3: Ñ³ßí»ïáõ Å³Ù³Ý³Ï³Ñ³ïí³ÍáõÙ ëï³óí³Í ·áñÍ»ñÇ ÁÝ¹Ñ³Ýáõñ ÃÇíÁ | F3: Ñ³ßí»ïáõ Å³Ù³Ý³Ï³Ñ³ïí³ÍáõÙ ³í³ñïí³Í ·áñÍ»ñÇ ÁÝ¹Ñ³Ýáõñ ÃÇíÁ | K3: áõÕ³ñÏí»É ¿ Áëï ÁÝ¹¹³ïáõÃÛ³Ý | L3: Ñ³ßí»ïáõ Å³Ù³Ý³Ï³Ñ³ïí³ÍáõÙ ³Ý³í³ñï ·áñÍ»ñÇ ÁÝ¹Ñ³Ýáõñ ÃÇíÁ | M3: µáÕáù³ñÏí»É ¿ í»ñ³ùÝÝÇã ¹³ï³ñ³Ý
F4: Ù»ñÅí»É ¿ | G4: µ³í³ñ³ñí»É ¿ | H4: µ³í³ñ³ñí»É ¿ Ù³ëÝ³ÏÇ | I4: ÃáÕÝí»É ¿ ³é³Ýó ùÝÝáõÃÛ³Ý | J4: ÁÝ¹³Ù»ÝÁ
A5: 1. ØÇÝã¹³ï³Ï³Ý í³ñáõÛÃÇ ÝÏ³ïÙ³Ùµ ¹³ï³Ï³Ý í»ñ³ÑëÏáÕáõÃÛ³Ý áÉáñï | D5: 1 | E5: 2 | F5: 3 | G5: 4 | H5: 5 | I5: 6 | J5: 7 | K5: 8 | L5: 9 | M5: 10 | N5: 1+2=7+8+9 | P5: 7=3+4+5+6
A6: 1 | B6: Ï³É³ÝùÁ áñå»ë Ë³÷³ÝÙ³Ý ÙÇçáó ÏÇñ³é»Éáõ Ù³ëÇÝ ÙÇçÝáñ¹áõÃÛáõÝÝ»ñ | E6: 19 | F6: 1 | G6: 18 | J6: 19 | M6: 4 | N6: =D6+E6 -> 19 | O6: =J6+K6+L6 -> 19 | P6: =J6 -> 19 | Q6: =F6+G6+H6+I6 -> 19
A7: 2 | B7: Ï³É³ÝùÇ Å³ÙÏ»ïÁ »ñÏ³ñ³óÝ»Éáõ Ù³ëÇÝ ÙÇçÝáñ¹áõÃÛáõÝÝ»ñ | E7: 20 | G7: 19 | H7: 1 | J7: 20 | M7: 4 | N7: =D7+E7 -> 20 | O7: =J7+K7+L7 -> 20 | P7: =J7 -> 20 | Q7: =F7+G7+H7+I7 -> 20
A8: 3 | B8: Ï³É³ÝùÇ í»ñ³Ñ³ëï³ïÙ³Ý Ù³ëÇÝ ÙÇçÝáñ¹áõÃÛáõÝÝ»ñ | E8: 5 | F8: 1 | G8: 4 | J8: 5 | M8: 1 | N8: =D8+E8 -> 5 | O8: =J8+K8+L8 -> 5 | P8: =J8 -> 5 | Q8: =F8+G8+H8+I8 -> 5
A9: 4 | B9: ·ñ³íÁ áñå»ë Ï³É³Ý³íáñÙ³Ý ³ÛÉÁÝïñ³Ýù³ÛÇÝ Ë³÷³ÝÙ³Ý ÙÇçáó ÏÇñ³é»Éáõ Ù³ëÇÝ ÙÇçÝáñ¹áõÃÛáõÝÝ»ñ | E9: 31 | F9: 24 | G9: 7 | J9: 31 | M9: 6 | N9: =D9+E9 -> 31 | O9: =J9+K9+L9 -> 31 | P9: =J9 -> 31 | Q9: =F9+G9+H9+I9 -> 31
A10: 5 | B10: Ëáõ½³ñÏáõÃÛ³Ý Ï³ï³ñÙ³Ý Ù³ëÇÝ ÙÇçÝáñ¹áõÃÛáõÝÝ»ñ | E10: 114 | F10: 2 | G10: 112 | J10: 114 | N10: =D10+E10 -> 114 | O10: =J10+K10+L10 -> 114 | P10: =J10 -> 114 | Q10: =F10+G10+H10+I10 -> 114
A11: 6 | B11: µ³ÝÏ³ÛÇÝ, ³å³Ñáí³·ñ³Ï³Ý, Ýáï³ñ³Ï³Ý ·³ÕïÝÇù Ï³½ÙáÕ ï»Õ»ÏáõÃÛáõÝÝ»ñÇ ëï³óÙ³Ý Ñ³Ù³ñ Ëáõ½³ñÏáõÃÛ³Ý Ï³Ù ³é·ñ³íÙ³Ý Ï³ï³ñÙ³Ý Ù³ëÇÝ ÙÇçÝáñ¹áõÃÛáõÝÝ»ñ | E11: 2 | F11: 1 | G11: 1 | J11: 2 | N11: =D11+E11 -> 2 | O11: =J11+K11+L11 -> 2 | P11: =J11 -> 2 | Q11: =F11+G11+H11+I11 -> 2
A12: 7 | B12: Ý³Ù³Ï³·ñáõÃÛ³Ý, Ñ»é³·ñ³Ï³Ý, ÷áuï³ÛÇÝ Ñ³Õáñ¹áõÙÝ»ñÇ ÑëÏáÕáõÃÛ³Ý Ù³ëÇÝ ÙÇçÝáñ¹áõÃÛáõÝÝ»ñ | E12: 6 | F12: 2 | G12: 4 | J12: 6 | N12: =D12+E12 -> 6 | O12: =J12+K12+L12 -> 6 | P12: =J12 -> 6 | Q12: =F12+G12+H12+I12 -> 6
A13: 8 | B13: Ñ»é³Ëáu³ÛÇÝ Ï³Ù Ï³åÇ ³ÛÉ ÙÇçáóÝ»ñáí ï³ñíáÕ Ëáu³ÏóáõÃÛáõÝÝ»ñÇ ÉuÙ³Ý ¨ Ó³ÛÝ³·ñ³éÙ³Ý Ù³ëÇÝ ÙÇçÝáñ¹áõÃÛáõÝÝ»ñ | E13: 1 | F13: 1 | J13: 1 | M13: 1 | N13: =D13+E13 -> 1 | O13: =J13+K13+L13 -> 1 | P13: =J13 -> 1 | Q13: =F13+G13+H13+I13 -> 1
A14: 9 | B14: Ñ»é³ËáëÝ»ñÇ Ùáõïù³ÛÇÝ ¨ »Éù³ÛÇÝ í»ñÍ³ÝÙ³Ý ÃáõÛÉïíáõÃÛáõÝ ëï³Ý³Éáõ Ù³ëÇÝ ÙÇçÝáñ¹áõÃÛáõÝÝ»ñ | E14: 88 | F14: 2 | G14: 86 | J14: 88 | M14: 1 | N14: =D14+E14 -> 88 | O14: =J14+K14+L14 -> 88 | P14: =J14 -> 88 | Q14: =F14+G14+H14+I14 -> 88
A15: 10 | B15: Ñ»ï³ùÝÝáõÃÛ³Ý Ù³ñÙÝÇ ³ßË³ïáÕÇ, ùÝÝÇãÇ, ¹³ï³Ë³½Ç oå»ñ³ïÇí-Ñ»ï³Ëáõ½³Ï³Ý ·áñÍáÕáõÃÛáõÝÝ»ñ Çñ³Ï³Ý³óÝáÕ Ù³ñÙÇÝÝ»ñÇ ³ÝoñÇÝ³Ï³Ý ¨ ³ÝÑÇÙÝ áñáßáõÙÝ»ñÇ ¨ ·áñÍáÕáõÃÛáõÝÝ»ñÇ ¹»Ù µáÕáùÝ»ñ | D15: 12 | E15: 14 | F15: 13 | G15: 3 | J15: 16 | L15: 10 | M15: 12 | N15: =D15+E15 -> 26 | O15: =J15+K15+L15 -> 26 | P15: =J15 -> 16 | Q15: =F15+G15+H15+I15 -> 16
A16: 11 | B16: ²½³ïáõÃÛáõÝÇó ½ñÏ»Éáõ Çñ³í³ã³÷áõÃÛ³Ý í»ñ³µ»ñÛ³É µáÕáùÝ»ñáí ·áñÍ»ñ | E16: 1 | F16: 1 | J16: 1 | N16: =D16+E16 -> 1 | O16: =J16+K16+L16 -> 1 | P16: =J16 -> 1 | Q16: =F16+G16+H16+I16 -> 1
A17: 2. ¸³ï³Ï³Ý ³Ïï»ñÇ ¨ ¹³ï³Ï³Ý Ñ³ÝÓÝ³ñ³ñáõÃÛáõÝÝ»ñÇ Ï³ï³ñÙ³Ý Ñ»ï Ï³åí³Í Ñ³ñó»ñÇ ÉáõÍÙ³Ý áÉáñï
A18: 1 | B18: å³ïÅÇó å³ÛÙ³Ý³Ï³Ý í³Õ³Å³ÙÏ»ï ³½³ï»Éáõ Ù³ëÇÝ ÙÇçÝáñ¹áõÃÛáõÝÝ»ñ | N18: =D18+E18 -> 0 | O18: =J18+K18+L18 -> 0 | P18: =J18 -> 0 | Q18: =F18+G18+H18+I18 -> 0
A19: 2 | B19: å³ïÇÅÁ ÷á÷áË»Éáõ, Ñ»ï³Ó·»Éáõ ¨ å³ïÅÇó ³½³ï»Éáõ Ù³uÇÝ ÙÇçÝáñ¹áõÃÛáõÝÝ»ñ | D19: 1 | E19: 59 | F19: 9 | G19: 17 | J19: 26 | L19: 34 | M19: 1 | N19: =D19+E19 -> 60 | O19: =J19+K19+L19 -> 60 | P19: =J19 -> 26 | Q19: =F19+G19+H19+I19 -> 26
A20: 3 | B20: Ñ³ñÏ³¹Çñ µáõÅÙ³Ý ï»ë³ÏÇ ÷á÷áËáõÃÛ³Ý Ù³ëÇÝ ÙÇçÝáñ¹áõÃÛáõÝÝ»ñ | D20: 6 | E20: 5 | F20: 2 | G20: 5 | J20: 7 | L20: 4 | M20: 1 | N20: =D20+E20 -> 11 | O20: =J20+K20+L20 -> 11 | P20: =J20 -> 7 | Q20: =F20+G20+H20+I20 -> 7
A21: 4 | B21: ³ÛÉ ÙÇçÝáñ¹áõÃÛáõÝÝ»ñ | D21: 4 | E21: 4 | F21: 1 | G21: 5 | J21: 6 | L21: 2 | N21: =D21+E21 -> 8 | O21: =J21+K21+L21 -> 8 | P21: =J21 -> 6 | Q21: =F21+G21+H21+I21 -> 6
A22: 5 | B22: ¹³ï³Ï³Ý Ñ³ÝÓÝ³ñ³ñáõÃÛáõÝÝ»ñ | D22: 5 | E22: 3 | G22: 3 | J22: 3 | L22: 5 | N22: =D22+E22 -> 8 | O22: =J22+K22+L22 -> 8 | P22: =J22 -> 3 | Q22: =F22+G22+H22+I22 -> 3
A23: ÀÜ¸²ØºÜÀ | D23: =SUM(D6:D16,D18:D22) -> 28 | E23: =SUM(E6:E16,E18:E22) -> 372 | F23: =SUM(F6:F16,F18:F22) -> 60 | G23: =SUM(G6:G16,G18:G22) -> 284 | H23: =SUM(H6:H16,H18:H22) -> 1 | I23: =SUM(I6:I16,I18:I22) -> 0 | J23: =SUM(J6:J16,J18:J22) -> 345 | K23: =SUM(K6:K16,K18:K22) -> 0 | ... Q23: =SUM(Q6:Q16,Q18:Q22) -> 345

Sheet Շենգավիթ
A1: 2017Ã. 1-ին ÏÇë³ÙÛ³Ï | C1: Ð²ÞìºîìàôÂÚàôÜ | K1: Ð³í»Éí³Í Ð³Û³ëï³ÝÇ Ð³Ýñ³å»ïáõÃÛ³Ý ¸³ï³ñ³ÝÝ»ñÇ Ý³Ë³·³ÑÝ»ñÇ ËáñÑñ¹Ç 25.08.2017Ã. ÃÇí 35-È áñáßÙ³Ý
A2: ØÇÝã¹³ï³Ï³Ý í³ñáõÛÃÇ ÝÏ³ïÙ³Ùµ ¹³ï³Ï³Ý í»ñ³ÑëÏáÕáõÃÛ³Ý, ¹³ï³Ï³Ý ³Ïï»ñÇ ¨ ¹³ï³Ï³Ý Ñ³ÝÓÝ³ñ³ñáõÃÛáõÝÝ»ñÇ Ï³ï³ñÙ³Ý Ñ»ï Ï³åí³Í ÙÇçÝáñ¹áõÃÛáõÝÝ»ñÇ í»ñ³µ»ñÛ³É ¹³ï³Ï³Ý ·áñÍ»ñáí ºñ¨³Ý ù³Õ³ùÇ Þ»Ý·³íÇÃ í³ñã³Ï³Ý ßñç³ÝÇ ÁÝ¹Ñ³Ýáõñ Çñ³í³ëáõÃÛ³Ý ³é³çÇÝ ³ïÛ³ÝÇ ¹³ï³ñ³ÝÇ ·áñÍáõÝ»áõÃÛ³Ý í»ñ³µ»ñÛ³É
D3: Ñ³ßí»ïáõ Å³Ù³Ý³Ï³Ñ³ïí³ÍÇ ëÏ½µáõÙ Ý³Ëáñ¹ Ñ³ßí»ïáõ Å³Ù³Ý³Ï³Ñ³ïí³ÍÇó ÷áË³Ýóí³Í ·áñÍ»ñÇ ÁÝ¹Ñ³Ýáõñ ÃÇíÁ | E3: Ñ³ßí»ïáõ Å³Ù³Ý³Ï³Ñ³ïí³ÍáõÙ ëï³óí³Í ·áñÍ»ñÇ ÁÝ¹Ñ³Ýáõñ ÃÇíÁ | F3: Ñ³ßí»ïáõ Å³Ù³Ý³Ï³Ñ³ïí³ÍáõÙ ³í³ñïí³Í ·áñÍ»ñÇ ÁÝ¹Ñ³Ýáõñ ÃÇíÁ | K3: áõÕ³ñÏí»É ¿ Áëï ÁÝ¹¹³ïáõÃÛ³Ý | L3: Ñ³ßí»ïáõ Å³Ù³Ý³Ï³Ñ³ïí³ÍáõÙ ³Ý³í³ñï ·áñÍ»ñÇ ÁÝ¹Ñ³Ýáõñ ÃÇíÁ | M3: µáÕáù³ñÏí»É ¿ í»ñ³ùÝÝÇã ¹³ï³ñ³Ý
F4: Ù»ñÅí»É ¿ | G4: µ³í³ñ³ñí»É ¿ | H4: µ³í³ñ³ñí»É ¿ Ù³ëÝ³ÏÇ | I4: ÃáÕÝí»É ¿ ³é³Ýó ùÝÝáõÃÛ³Ý | J4: ÁÝ¹³Ù»ÝÁ
A5: 1. ØÇÝã¹³ï³Ï³Ý í³ñáõÛÃÇ ÝÏ³ïÙ³Ùµ ¹³ï³Ï³Ý í»ñ³ÑëÏáÕáõÃÛ³Ý áÉáñï | D5: 1 | E5: 2 | F5: 3 | G5: 4 | H5: 5 | I5: 6 | J5: 7 | K5: 8 | L5: 9 | M5: 10 | N5: 1+2=7+8+9 | P5: 7=3+4+5+6
A6: 1 | B6: Ï³É³ÝùÁ áñå»ë Ë³÷³ÝÙ³Ý ÙÇçáó ÏÇñ³é»Éáõ Ù³ëÇÝ ÙÇçÝáñ¹áõÃÛáõÝÝ»ñ | E6: 29 | F6: 3 | G6: 25 | H6: 1 | J6: 29 | M6: 7 | N6: =D6+E6 -> 29 | O6: =J6+K6+L6 -> 29 | P6: =J6 -> 29 | Q6: =F6+G6+H6+I6 -> 29
A7: 2 | B7: Ï³É³ÝùÇ Å³ÙÏ»ïÁ »ñÏ³ñ³óÝ»Éáõ Ù³ëÇÝ ÙÇçÝáñ¹áõÃÛáõÝÝ»ñ | D7: 1 | E7: 33 | F7: 4 | G7: 27 | H7: 1 | I7: 1 | J7: 33 | L7: 1 | M7: 15 | N7: =D7+E7 -> 34 | O7: =J7+K7+L7 -> 34 | P7: =J7 -> 33 | Q7: =F7+G7+H7+I7 -> 33
A8: 3 | B8: Ï³É³ÝùÇ í»ñ³Ñ³ëï³ïÙ³Ý Ù³ëÇÝ ÙÇçÝáñ¹áõÃÛáõÝÝ»ñ | E8: 5 | G8: 5 | J8: 5 | M8: 1 | N8: =D8+E8 -> 5 | O8: =J8+K8+L8 -> 5 | P8: =J8 -> 5 | Q8: =F8+G8+H8+I8 -> 5
A9: 4 | B9: ·ñ³íÁ áñå»ë Ï³É³Ý³íáñÙ³Ý ³ÛÉÁÝïñ³Ýù³ÛÇÝ Ë³÷³ÝÙ³Ý ÙÇçáó ÏÇñ³é»Éáõ Ù³ëÇÝ ÙÇçÝáñ¹áõÃÛáõÝÝ»ñ | E9: 24 | F9: 22 | G9: 2 | J9: 24 | N9: =D9+E9 -> 24 | O9: =J9+K9+L9 -> 24 | P9: =J9 -> 24 | Q9: =F9+G9+H9+I9 -> 24
A10: 5 | B10: Ëáõ½³ñÏáõÃÛ³Ý Ï³ï³ñÙ³Ý Ù³ëÇÝ ÙÇçÝáñ¹áõÃÛáõÝÝ»ñ | E10: 75 | F10: 6 | G10: 68 | H10: 1 | J10: 75 | N10: =D10+E10 -> 75 | O10: =J10+K10+L10 -> 75 | P10: =J10 -> 75 | Q10: =F10+G10+H10+I10 -> 75
A11: 6 | B11: µ³ÝÏ³ÛÇÝ, ³å³Ñáí³·ñ³Ï³Ý, Ýáï³ñ³Ï³Ý ·³ÕïÝÇù Ï³½ÙáÕ ï»Õ»ÏáõÃÛáõÝÝ»ñÇ ëï³óÙ³Ý Ñ³Ù³ñ Ëáõ½³ñÏáõÃÛ³Ý Ï³Ù ³é·ñ³íÙ³Ý Ï³ï³ñÙ³Ý Ù³ëÇÝ ÙÇçÝáñ¹áõÃÛáõÝÝ»ñ | E11: 6 | G11: 6 | J11: 6 | N11: =D11+E11 -> 6 | O11: =J11+K11+L11 -> 6 | P11: =J11 -> 6 | Q11: =F11+G11+H11+I11 -> 6
A12: 7 | B12: Ý³Ù³Ï³·ñáõÃÛ³Ý, Ñ»é³·ñ³Ï³Ý, ÷áuï³ÛÇÝ Ñ³Õáñ¹áõÙÝ»ñÇ ÑëÏáÕáõÃÛ³Ý Ù³ëÇÝ ÙÇçÝáñ¹áõÃÛáõÝÝ»ñ | N12: =D12+E12 -> 0 | O12: =J12+K12+L12 -> 0 | P12: =J12 -> 0 | Q12: =F12+G12+H12+I12 -> 0
A13: 8 | B13: Ñ»é³Ëáu³ÛÇÝ Ï³Ù Ï³åÇ ³ÛÉ ÙÇçáóÝ»ñáí ï³ñíáÕ Ëáu³ÏóáõÃÛáõÝÝ»ñÇ ÉuÙ³Ý ¨ Ó³ÛÝ³·ñ³éÙ³Ý Ù³ëÇÝ ÙÇçÝáñ¹áõÃÛáõÝÝ»ñ | N13: =D13+E13 -> 0 | O13: =J13+K13+L13 -> 0 | P13: =J13 -> 0 | Q13: =F13+G13+H13+I13 -> 0
A14: 9 | B14: Ñ»é³ËáëÝ»ñÇ Ùáõïù³ÛÇÝ ¨ »Éù³ÛÇÝ í»ñÍ³ÝÙ³Ý ÃáõÛÉïíáõÃÛáõÝ ëï³Ý³Éáõ Ù³ëÇÝ ÙÇçÝáñ¹áõÃÛáõÝÝ»ñ | E14: 104 | G14: 104 | J14: 104 | N14: =D14+E14 -> 104 | O14: =J14+K14+L14 -> 104 | P14: =J14 -> 104 | Q14: =F14+G14+H14+I14 -> 104
A15: 10 | B15: Ñ»ï³ùÝÝáõÃÛ³Ý Ù³ñÙÝÇ ³ßË³ïáÕÇ, ùÝÝÇãÇ, ¹³ï³Ë³½Ç oå»ñ³ïÇí-Ñ»ï³Ëáõ½³Ï³Ý ·áñÍáÕáõÃÛáõÝÝ»ñ Çñ³Ï³Ý³óÝáÕ Ù³ñÙÇÝÝ»ñÇ ³ÝoñÇÝ³Ï³Ý ¨ ³ÝÑÇÙÝ áñáßáõÙÝ»ñÇ ¨ ·áñÍáÕáõÃÛáõÝÝ»ñÇ ¹»Ù µáÕáùÝ»ñ | D15: 13 | E15: 23 | F15: 14 | G15: 6 | H15: 1 | I15: 1 | J15: 22 | K15: 1 | L15: 13 | M15: 9 | N15: =D15+E15 -> 36 | O15: =J15+K15+L15 -> 36 | P15: =J15 -> 22 | Q15: =F15+G15+H15+I15 -> 22
A16: 11 | B16: ²½³ïáõÃÛáõÝÇó ½ñÏ»Éáõ Çñ³í³ã³÷áõÃÛ³Ý í»ñ³µ»ñÛ³É µáÕáùÝ»ñáí ·áñÍ»ñ | E16: 1 | G16: 1 | J16: 1 | N16: =D16+E16 -> 1 | O16: =J16+K16+L16 -> 1 | P16: =J16 -> 1 | Q16: =F16+G16+H16+I16 -> 1
A17: 2. ¸³ï³Ï³Ý ³Ïï»ñÇ ¨ ¹³ï³Ï³Ý Ñ³ÝÓÝ³ñ³ñáõÃÛáõÝÝ»ñÇ Ï³ï³ñÙ³Ý Ñ»ï Ï³åí³Í Ñ³ñó»ñÇ ÉáõÍÙ³Ý áÉáñï
A18: 1 | B18: å³ïÅÇó å³ÛÙ³Ý³Ï³Ý í³Õ³Å³ÙÏ»ï ³½³ï»Éáõ Ù³ëÇÝ ÙÇçÝáñ¹áõÃÛáõÝÝ»ñ | N18: =D18+E18 -> 0 | O18: =J18+K18+L18 -> 0 | P18: =J18 -> 0 | Q18: =F18+G18+H18+I18 -> 0
A19: 2 | B19: å³ïÇÅÁ ÷á÷áË»Éáõ, Ñ»ï³Ó·»Éáõ ¨ å³ïÅÇó ³½³ï»Éáõ Ù³uÇÝ ÙÇçÝáñ¹áõÃÛáõÝÝ»ñ | E19: 9 | F19: 4 | G19: 5 | J19: 9 | M19: 1 | N19: =D19+E19 -> 9 | O19: =J19+K19+L19 -> 9 | P19: =J19 -> 9 | Q19: =F19+G19+H19+I19 -> 9
A20: 3 | B20: Ñ³ñÏ³¹Çñ µáõÅÙ³Ý ï»ë³ÏÇ ÷á÷áËáõÃÛ³Ý Ù³ëÇÝ ÙÇçÝáñ¹áõÃÛáõÝÝ»ñ | N20: =D20+E20 -> 0 | O20: =J20+K20+L20 -> 0 | P20: =J20 -> 0 | Q20: =F20+G20+H20+I20 -> 0
A21: 4 | B21: ³ÛÉ ÙÇçÝáñ¹áõÃÛáõÝÝ»ñ | D21: 1 | E21: 10 | F21: 5 | G21: 6 | J21: 11 | N21: =D21+E21 -> 11 | O21: =J21+K21+L21 -> 11 | P21: =J21 -> 11 | Q21: =F21+G21+H21+I21 -> 11
A22: 5 | B22: ¹³ï³Ï³Ý Ñ³ÝÓÝ³ñ³ñáõÃÛáõÝÝ»ñ | D22: 4 | E22: 8 | F22: 0 | G22: 3 | J22: 3 | L22: 9 | N22: =D22+E22 -> 12 | O22: =J22+K22+L22 -> 12 | P22: =J22 -> 3 | Q22: =F22+G22+H22+I22 -> 3
A23: ÀÜ¸²ØºÜÀ | D23: =SUM(D6:D16,D18:D22) -> 19 | E23: =SUM(E6:E16,E18:E22) -> 327 | F23: =SUM(F6:F16,F18:F22) -> 58 | G23: =SUM(G6:G16,G18:G22) -> 258 | H23: =SUM(H6:H16,H18:H22) -> 4 | I23: =SUM(I6:I16,I18:I22) -> 2 | J23: =SUM(J6:J16,J18:J22) -> 322 | K23: =SUM(K6:K16,K18:K22) -> 1 | ... Q23: =SUM(Q6:Q16,Q18:Q22) -> 322

Sheet Մալաթիա
A1: 2017Ã. 1-ին ÏÇë³ÙÛ³Ï | C1: Ð²ÞìºîìàôÂÚàôÜ | K1: Ð³í»Éí³Í Ð³Û³ëï³ÝÇ Ð³Ýñ³å»ïáõÃÛ³Ý ¸³ï³ñ³ÝÝ»ñÇ Ý³Ë³·³ÑÝ»ñÇ ËáñÑñ¹Ç 25.08.2017Ã. ÃÇí 35-È áñáßÙ³Ý
A2: ØÇÝã¹³ï³Ï³Ý í³ñáõÛÃÇ ÝÏ³ïÙ³Ùµ ¹³ï³Ï³Ý í»ñ³ÑëÏáÕáõÃÛ³Ý, ¹³ï³Ï³Ý ³Ïï»ñÇ ¨ ¹³ï³Ï³Ý Ñ³ÝÓÝ³ñ³ñáõÃÛáõÝÝ»ñÇ Ï³ï³ñÙ³Ý Ñ»ï Ï³åí³Í ÙÇçÝáñ¹áõÃÛáõÝÝ»ñÇ í»ñ³µ»ñÛ³É ¹³ï³Ï³Ý ·áñÍ»ñáí ºñ¨³Ý ù³Õ³ùÇ Ø³É³ÃÇ³-ê»µ³ëïÇ³ í³ñã³Ï³Ý ßñç³ÝÇ ÁÝ¹Ñ³Ýáõñ Çñ³í³ëáõÃÛ³Ý ³é³çÇÝ ³ïÛ³ÝÇ ¹³ï³ñ³ÝÇ ·áñÍáõÝ»áõÃÛ³Ý í»ñ³µ»ñÛ³É
D3: Ñ³ßí»ïáõ Å³Ù³Ý³Ï³Ñ³ïí³ÍÇ ëÏ½µáõÙ Ý³Ëáñ¹ Ñ³ßí»ïáõ Å³Ù³Ý³Ï³Ñ³ïí³ÍÇó ÷áË³Ýóí³Í ·áñÍ»ñÇ ÁÝ¹Ñ³Ýáõñ ÃÇíÁ | E3: Ñ³ßí»ïáõ Å³Ù³Ý³Ï³Ñ³ïí³ÍáõÙ ëï³óí³Í ·áñÍ»ñÇ ÁÝ¹Ñ³Ýáõñ ÃÇíÁ | F3: Ñ³ßí»ïáõ Å³Ù³Ý³Ï³Ñ³ïí³ÍáõÙ ³í³ñïí³Í ·áñÍ»ñÇ ÁÝ¹Ñ³Ýáõñ ÃÇíÁ | K3: áõÕ³ñÏí»É ¿ Áëï ÁÝ¹¹³ïáõÃÛ³Ý | L3: Ñ³ßí»ïáõ Å³Ù³Ý³Ï³Ñ³ïí³ÍáõÙ ³Ý³í³ñï ·áñÍ»ñÇ ÁÝ¹Ñ³Ýáõñ ÃÇíÁ | M3: µáÕáù³ñÏí»É ¿ í»ñ³ùÝÝÇã ¹³ï³ñ³Ý
F4: Ù»ñÅí»É ¿ | G4: µ³í³ñ³ñí»É ¿ | H4: µ³í³ñ³ñí»É ¿ Ù³ëÝ³ÏÇ | I4: ÃáÕÝí»É ¿ ³é³Ýó ùÝÝáõÃÛ³Ý | J4: ÁÝ¹³Ù»ÝÁ
A5: 1. ØÇÝã¹³ï³Ï³Ý í³ñáõÛÃÇ ÝÏ³ïÙ³Ùµ ¹³ï³Ï³Ý í»ñ³ÑëÏáÕáõÃÛ³Ý áÉáñï | D5: 1 | E5: 2 | F5: 3 | G5: 4 | H5: 5 | I5: 6 | J5: 7 | K5: 8 | L5: 9 | M5: 10 | N5: 1+2=7+8+9 | P5: 7=3+4+5+6
A6: 1 | B6: Ï³É³ÝùÁ áñå»ë Ë³÷³ÝÙ³Ý ÙÇçáó ÏÇñ³é»Éáõ Ù³ëÇÝ ÙÇçÝáñ¹áõÃÛáõÝÝ»ñ | E6: 10 | G6: 10 | J6: 10 | M6: 2 | N6: =D6+E6 -> 10 | O6: =J6+K6+L6 -> 10 | P6: =J6 -> 10 | Q6: =F6+G6+H6+I6 -> 10
A7: 2 | B7: Ï³É³ÝùÇ Å³ÙÏ»ïÁ »ñÏ³ñ³óÝ»Éáõ Ù³ëÇÝ ÙÇçÝáñ¹áõÃÛáõÝÝ»ñ | E7: 20 | F7: 1 | G7: 18 | H7: 1 | J7: 20 | M7: 4 | N7: =D7+E7 -> 20 | O7: =J7+K7+L7 -> 20 | P7: =J7 -> 20 | Q7: =F7+G7+H7+I7 -> 20
A8: 3 | B8: Ï³É³ÝùÇ í»ñ³Ñ³ëï³ïÙ³Ý Ù³ëÇÝ ÙÇçÝáñ¹áõÃÛáõÝÝ»ñ | E8: 2 | G8: 2 | J8: 2 | N8: =D8+E8 -> 2 | O8: =J8+K8+L8 -> 2 | P8: =J8 -> 2 | Q8: =F8+G8+H8+I8 -> 2
A9: 4 | B9: ·ñ³íÁ áñå»ë Ï³É³Ý³íáñÙ³Ý ³ÛÉÁÝïñ³Ýù³ÛÇÝ Ë³÷³ÝÙ³Ý ÙÇçáó ÏÇñ³é»Éáõ Ù³ëÇÝ ÙÇçÝáñ¹áõÃÛáõÝÝ»ñ | D9: 1 | E9: 18 | F9: 19 | J9: 19 | M9: 10 | N9: =D9+E9 -> 19 | O9: =J9+K9+L9 -> 19 | P9: =J9 -> 19 | Q9: =F9+G9+H9+I9 -> 19
A10: 5 | B10: Ëáõ½³ñÏáõÃÛ³Ý Ï³ï³ñÙ³Ý Ù³ëÇÝ ÙÇçÝáñ¹áõÃÛáõÝÝ»ñ | E10: 53 | F10: 2 | G10: 51 | J10: 53 | N10: =D10+E10 -> 53 | O10: =J10+K10+L10 -> 53 | P10: =J10 -> 53 | Q10: =F10+G10+H10+I10 -> 53
A11: 6 | B11: µ³ÝÏ³ÛÇÝ, ³å³Ñáí³·ñ³Ï³Ý, Ýáï³ñ³Ï³Ý ·³ÕïÝÇù Ï³½ÙáÕ ï»Õ»ÏáõÃÛáõÝÝ»ñÇ ëï³óÙ³Ý Ñ³Ù³ñ Ëáõ½³ñÏáõÃÛ³Ý Ï³Ù ³é·ñ³íÙ³Ý Ï³ï³ñÙ³Ý Ù³ëÇÝ ÙÇçÝáñ¹áõÃÛáõÝÝ»ñ | E11: 2 | G11: 2 | J11: 2 | N11: =D11+E11 -> 2 | O11: =J11+K11+L11 -> 2 | P11: =J11 -> 2 | Q11: =F11+G11+H11+I11 -> 2
A12: 7 | B12: Ý³Ù³Ï³·ñáõÃÛ³Ý, Ñ»é³·ñ³Ï³Ý, ÷áuï³ÛÇÝ Ñ³Õáñ¹áõÙÝ»ñÇ ÑëÏáÕáõÃÛ³Ý Ù³ëÇÝ ÙÇçÝáñ¹áõÃÛáõÝÝ»ñ | E12: 2 | F12: 1 | G12: 1 | J12: 2 | N12: =D12+E12 -> 2 | O12: =J12+K12+L12 -> 2 | P12: =J12 -> 2 | Q12: =F12+G12+H12+I12 -> 2
A13: 8 | B13: Ñ»é³Ëáu³ÛÇÝ Ï³Ù Ï³åÇ ³ÛÉ ÙÇçáóÝ»ñáí ï³ñíáÕ Ëáu³ÏóáõÃÛáõÝÝ»ñÇ ÉuÙ³Ý ¨ Ó³ÛÝ³·ñ³éÙ³Ý Ù³ëÇÝ ÙÇçÝáñ¹áõÃÛáõÝÝ»ñ | E13: 6 | F13: 1 | G13: 5 | J13: 6 | N13: =D13+E13 -> 6 | O13: =J13+K13+L13 -> 6 | P13: =J13 -> 6 | Q13: =F13+G13+H13+I13 -> 6
A14: 9 | B14: Ñ»é³ËáëÝ»ñÇ Ùáõïù³ÛÇÝ ¨ »Éù³ÛÇÝ í»ñÍ³ÝÙ³Ý ÃáõÛÉïíáõÃÛáõÝ ëï³Ý³Éáõ Ù³ëÇÝ ÙÇçÝáñ¹áõÃÛáõÝÝ»ñ | E14: 80 | F14: 1 | G14: 79 | J14: 80 | N14: =D14+E14 -> 80 | O14: =J14+K14+L14 -> 80 | P14: =J14 -> 80 | Q14: =F14+G14+H14+I14 -> 80
A15: 10 | B15: Ñ»ï³ùÝÝáõÃÛ³Ý Ù³ñÙÝÇ ³ßË³ïáÕÇ, ùÝÝÇãÇ, ¹³ï³Ë³½Ç oå»ñ³ïÇí-Ñ»ï³Ëáõ½³Ï³Ý ·áñÍáÕáõÃÛáõÝÝ»ñ Çñ³Ï³Ý³óÝáÕ Ù³ñÙÇÝÝ»ñÇ ³ÝoñÇÝ³Ï³Ý ¨ ³ÝÑÇÙÝ áñáßáõÙÝ»ñÇ ¨ ·áñÍáÕáõÃÛáõÝÝ»ñÇ ¹»Ù µáÕáùÝ»ñ | D15: 6 | E15: 14 | F15: 13 | G15: 2 | I15: 1 | J15: 16 | L15: 4 | M15: 8 | N15: =D15+E15 -> 20 | O15: =J15+K15+L15 -> 20 | P15: =J15 -> 16 | Q15: =F15+G15+H15+I15 -> 16
A16: 11 | B16: ²½³ïáõÃÛáõÝÇó ½ñÏ»Éáõ Çñ³í³ã³÷áõÃÛ³Ý í»ñ³µ»ñÛ³É µáÕáùÝ»ñáí ·áñÍ»ñ | E16: 2 | F16: 2 | J16: 2 | M16: 2 | N16: =D16+E16 -> 2 | O16: =J16+K16+L16 -> 2 | P16: =J16 -> 2 | Q16: =F16+G16+H16+I16 -> 2
A17: 2. ¸³ï³Ï³Ý ³Ïï»ñÇ ¨ ¹³ï³Ï³Ý Ñ³ÝÓÝ³ñ³ñáõÃÛáõÝÝ»ñÇ Ï³ï³ñÙ³Ý Ñ»ï Ï³åí³Í Ñ³ñó»ñÇ ÉáõÍÙ³Ý áÉáñï
A18: 1 | B18: å³ïÅÇó å³ÛÙ³Ý³Ï³Ý í³Õ³Å³ÙÏ»ï ³½³ï»Éáõ Ù³ëÇÝ ÙÇçÝáñ¹áõÃÛáõÝÝ»ñ | N18: =D18+E18 -> 0 | O18: =J18+K18+L18 -> 0 | P18: =J18 -> 0 | Q18: =F18+G18+H18+I18 -> 0
A19: 2 | B19: å³ïÇÅÁ ÷á÷áË»Éáõ, Ñ»ï³Ó·»Éáõ ¨ å³ïÅÇó ³½³ï»Éáõ Ù³uÇÝ ÙÇçÝáñ¹áõÃÛáõÝÝ»ñ | D19: 8 | E19: 26 | F19: 9 | G19: 20 | J19: 29 | L19: 5 | M19: 1 | N19: =D19+E19 -> 34 | O19: =J19+K19+L19 -> 34 | P19: =J19 -> 29 | Q19: =F19+G19+H19+I19 -> 29
A20: 3 | B20: Ñ³ñÏ³¹Çñ µáõÅÙ³Ý ï»ë³ÏÇ ÷á÷áËáõÃÛ³Ý Ù³ëÇÝ ÙÇçÝáñ¹áõÃÛáõÝÝ»ñ | N20: =D20+E20 -> 0 | O20: =J20+K20+L20 -> 0 | P20: =J20 -> 0 | Q20: =F20+G20+H20+I20 -> 0
A21: 4 | B21: ³ÛÉ ÙÇçÝáñ¹áõÃÛáõÝÝ»ñ | E21: 5 | F21: 1 | G21: 3 | I21: 1 | J21: 5 | N21: =D21+E21 -> 5 | O21: =J21+K21+L21 -> 5 | P21: =J21 -> 5 | Q21: =F21+G21+H21+I21 -> 5
A22: 5 | B22: ¹³ï³Ï³Ý Ñ³ÝÓÝ³ñ³ñáõÃÛáõÝÝ»ñ | D22: 13 | E22: 1 | G22: 3 | J22: 3 | L22: 11 | N22: =D22+E22 -> 14 | O22: =J22+K22+L22 -> 14 | P22: =J22 -> 3 | Q22: =F22+G22+H22+I22 -> 3
A23: ÀÜ¸²ØºÜÀ | D23: =SUM(D6:D16,D18:D22) -> 28 | E23: =SUM(E6:E16,E18:E22) -> 241 | F23: =SUM(F6:F16,F18:F22) -> 50 | G23: =SUM(G6:G16,G18:G22) -> 196 | H23: =SUM(H6:H16,H18:H22) -> 1 | I23: =SUM(I6:I16,I18:I22) -> 2 | J23: =SUM(J6:J16,J18:J22) -> 249 | K23: =SUM(K6:K16,K18:K22) -> 0 | ... Q23: =SUM(Q6:Q16,Q18:Q22) -> 249

Sheet Լոռի
A1: 2017Ã. 1-ին ÏÇë³ÙÛ³Ï | C1: Ð²ÞìºîìàôÂÚàôÜ | K1: Ð³í»Éí³Í Ð³Û³ëï³ÝÇ Ð³Ýñ³å»ïáõÃÛ³Ý ¸³ï³ñ³ÝÝ»ñÇ Ý³Ë³·³ÑÝ»ñÇ ËáñÑñ¹Ç 25.08.2017Ã. ÃÇí 35-È áñáßÙ³Ý
A2: ØÇÝã¹³ï³Ï³Ý í³ñáõÛÃÇ ÝÏ³ïÙ³Ùµ ¹³ï³Ï³Ý í»ñ³ÑëÏáÕáõÃÛ³Ý, ¹³ï³Ï³Ý ³Ïï»ñÇ ¨ ¹³ï³Ï³Ý Ñ³ÝÓÝ³ñ³ñáõÃÛáõÝÝ»ñÇ Ï³ï³ñÙ³Ý Ñ»ï Ï³åí³Í ÙÇçÝáñ¹áõÃÛáõÝÝ»ñÇ í»ñ³µ»ñÛ³É ¹³ï³Ï³Ý ·áñÍ»ñáí ÐÐ Èáéáõ Ù³ñ½Ç ÁÝ¹Ñ³Ýáõñ Çñ³í³ëáõÃÛ³Ý ³é³çÇÝ ³ïÛ³ÝÇ ¹³ï³ñ³ÝÇ ·áñÍáõÝ»áõÃÛ³Ý í»ñ³µ»ñÛ³É
D3: Ñ³ßí»ïáõ Å³Ù³Ý³Ï³Ñ³ïí³ÍÇ ëÏ½µáõÙ Ý³Ëáñ¹ Ñ³ßí»ïáõ Å³Ù³Ý³Ï³Ñ³ïí³ÍÇó ÷áË³Ýóí³Í ·áñÍ»ñÇ ÁÝ¹Ñ³Ýáõñ ÃÇíÁ | E3: Ñ³ßí»ïáõ Å³Ù³Ý³Ï³Ñ³ïí³ÍáõÙ ëï³óí³Í ·áñÍ»ñÇ ÁÝ¹Ñ³Ýáõñ ÃÇíÁ | F3: Ñ³ßí»ïáõ Å³Ù³Ý³Ï³Ñ³ïí³ÍáõÙ ³í³ñïí³Í ·áñÍ»ñÇ ÁÝ¹Ñ³Ýáõñ ÃÇíÁ | K3: áõÕ³ñÏí»É ¿ Áëï ÁÝ¹¹³ïáõÃÛ³Ý | L3: Ñ³ßí»ïáõ Å³Ù³Ý³Ï³Ñ³ïí³ÍáõÙ ³Ý³í³ñï ·áñÍ»ñÇ ÁÝ¹Ñ³Ýáõñ ÃÇíÁ | M3: µáÕáù³ñÏí»É ¿ í»ñ³ùÝÝÇã ¹³ï³ñ³Ý
F4: Ù»ñÅí»É ¿ | G4: µ³í³ñ³ñí»É ¿ | H4: µ³í³ñ³ñí»É ¿ Ù³ëÝ³ÏÇ | I4: ÃáÕÝí»É ¿ ³é³Ýó ùÝÝáõÃÛ³Ý | J4: ÁÝ¹³Ù»ÝÁ
A5: 1. ØÇÝã¹³ï³Ï³Ý í³ñáõÛÃÇ ÝÏ³ïÙ³Ùµ ¹³ï³Ï³Ý í»ñ³ÑëÏáÕáõÃÛ³Ý áÉáñï | D5: 1 | E5: 2 | F5: 3 | G5: 4 | H5: 5 | I5: 6 | J5: 7 | K5: 8 | L5: 9 | M5: 10 | N5: 1+2=7+8+9 | P5: 7=3+4+5+6
A6: 1 | B6: Ï³É³ÝùÁ áñå»ë Ë³÷³ÝÙ³Ý ÙÇçáó ÏÇñ³é»Éáõ Ù³ëÇÝ ÙÇçÝáñ¹áõÃÛáõÝÝ»ñ | E6: 65 | F6: 2 | G6: 63 | J6: =+I6+H6+G6+F6 -> 65 | M6: 4 | N6: =D6+E6 -> 65 | O6: =J6+K6+L6 -> 65 | P6: =J6 -> 65 | Q6: =F6+G6+H6+I6 -> 65
A7: 2 | B7: Ï³É³ÝùÇ Å³ÙÏ»ïÁ »ñÏ³ñ³óÝ»Éáõ Ù³ëÇÝ ÙÇçÝáñ¹áõÃÛáõÝÝ»ñ | D7: 2 | E7: 40 | G7: 40 | H7: 1 | I7: 1 | J7: =+I7+H7+G7+F7 -> 42 | M7: 12 | N7: =D7+E7 -> 42 | O7: =J7+K7+L7 -> 42 | P7: =J7 -> 42 | Q7: =F7+G7+H7+I7 -> 42
A8: 3 | B8: Ï³É³ÝùÇ í»ñ³Ñ³ëï³ïÙ³Ý Ù³ëÇÝ ÙÇçÝáñ¹áõÃÛáõÝÝ»ñ | E8: 6 | G8: 6 | J8: =+I8+H8+G8+F8 -> 6 | M8: 2 | N8: =D8+E8 -> 6 | O8: =J8+K8+L8 -> 6 | P8: =J8 -> 6 | Q8: =F8+G8+H8+I8 -> 6
A9: 4 | B9: ·ñ³íÁ áñå»ë Ï³É³Ý³íáñÙ³Ý ³ÛÉÁÝïñ³Ýù³ÛÇÝ Ë³÷³ÝÙ³Ý ÙÇçáó ÏÇñ³é»Éáõ Ù³ëÇÝ ÙÇçÝáñ¹áõÃÛáõÝÝ»ñ | E9: 33 | F9: 28 | G9: 5 | J9: =+I9+H9+G9+F9 -> 33 | M9: 12 | N9: =D9+E9 -> 33 | O9: =J9+K9+L9 -> 33 | P9: =J9 -> 33 | Q9: =F9+G9+H9+I9 -> 33
A10: 5 | B10: Ëáõ½³ñÏáõÃÛ³Ý Ï³ï³ñÙ³Ý Ù³ëÇÝ ÙÇçÝáñ¹áõÃÛáõÝÝ»ñ | E10: 111 | F10: 8 | G10: 102 | H10: 1 | J10: =+I10+H10+G10+F10 -> 111 | M10: 2 | N10: =D10+E10 -> 111 | O10: =J10+K10+L10 -> 111 | P10: =J10 -> 111 | Q10: =F10+G10+H10+I10 -> 111
A11: 6 | B11: µ³ÝÏ³ÛÇÝ, ³å³Ñáí³·ñ³Ï³Ý, Ýáï³ñ³Ï³Ý ·³ÕïÝÇù Ï³½ÙáÕ ï»Õ»ÏáõÃÛáõÝÝ»ñÇ ëï³óÙ³Ý Ñ³Ù³ñ Ëáõ½³ñÏáõÃÛ³Ý Ï³Ù ³é·ñ³íÙ³Ý Ï³ï³ñÙ³Ý Ù³ëÇÝ ÙÇçÝáñ¹áõÃÛáõÝÝ»ñ | E11: 3 | F11: 3 | J11: =+I11+H11+G11+F11 -> 3 | M11: 2 | N11: =D11+E11 -> 3 | O11: =J11+K11+L11 -> 3 | P11: =J11 -> 3 | Q11: =F11+G11+H11+I11 -> 3
A12: 7 | B12: Ý³Ù³Ï³·ñáõÃÛ³Ý, Ñ»é³·ñ³Ï³Ý, ÷áuï³ÛÇÝ Ñ³Õáñ¹áõÙÝ»ñÇ ÑëÏáÕáõÃÛ³Ý Ù³ëÇÝ ÙÇçÝáñ¹áõÃÛáõÝÝ»ñ | E12: 6 | G12: 6 | J12: =+I12+H12+G12+F12 -> 6 | N12: =D12+E12 -> 6 | O12: =J12+K12+L12 -> 6 | P12: =J12 -> 6 | Q12: =F12+G12+H12+I12 -> 6
A13: 8 | B13: Ñ»é³Ëáu³ÛÇÝ Ï³Ù Ï³åÇ ³ÛÉ ÙÇçáóÝ»ñáí ï³ñíáÕ Ëáu³ÏóáõÃÛáõÝÝ»ñÇ ÉuÙ³Ý ¨ Ó³ÛÝ³·ñ³éÙ³Ý Ù³ëÇÝ ÙÇçÝáñ¹áõÃÛáõÝÝ»ñ | J13: =+I13+H13+G13+F13 -> 0 | N13: =D13+E13 -> 0 | O13: =J13+K13+L13 -> 0 | P13: =J13 -> 0 | Q13: =F13+G13+H13+I13 -> 0
A14: 9 | B14: Ñ»é³ËáëÝ»ñÇ Ùáõïù³ÛÇÝ ¨ »Éù³ÛÇÝ í»ñÍ³ÝÙ³Ý ÃáõÛÉïíáõÃÛáõÝ ëï³Ý³Éáõ Ù³ëÇÝ ÙÇçÝáñ¹áõÃÛáõÝÝ»ñ | E14: 110 | F14: 5 | G14: 104 | H14: 1 | J14: =+I14+H14+G14+F14 -> 110 | N14: =D14+E14 -> 110 | O14: =J14+K14+L14 -> 110 | P14: =J14 -> 110 | Q14: =F14+G14+H14+I14 -> 110
A15: 10 | B15: Ñ»ï³ùÝÝáõÃÛ³Ý Ù³ñÙÝÇ ³ßË³ïáÕÇ, ùÝÝÇãÇ, ¹³ï³Ë³½Ç oå»ñ³ïÇí-Ñ»ï³Ëáõ½³Ï³Ý ·áñÍáÕáõÃÛáõÝÝ»ñ Çñ³Ï³Ý³óÝáÕ Ù³ñÙÇÝÝ»ñÇ ³ÝoñÇÝ³Ï³Ý ¨ ³ÝÑÇÙÝ áñáßáõÙÝ»ñÇ ¨ ·áñÍáÕáõÃÛáõÝÝ»ñÇ ¹»Ù µáÕáùÝ»ñ | D15: 1 | E15: 18 | F15: 12 | G15: 1 | I15: 3 | J15: =+I15+H15+G15+F15 -> 16 | L15: 3 | M15: 6 | N15: =D15+E15 -> 19 | O15: =J15+K15+L15 -> 19 | P15: =J15 -> 16 | Q15: =F15+G15+H15+I15 -> 16
A16: 11 | B16: ²½³ïáõÃÛáõÝÇó ½ñÏ»Éáõ Çñ³í³ã³÷áõÃÛ³Ý í»ñ³µ»ñÛ³É µáÕáùÝ»ñáí ·áñÍ»ñ | E16: 1 | F16: 1 | J16: =+I16+H16+G16+F16 -> 1 | N16: =D16+E16 -> 1 | O16: =J16+K16+L16 -> 1 | P16: =J16 -> 1 | Q16: =F16+G16+H16+I16 -> 1
A17: 2. ¸³ï³Ï³Ý ³Ïï»ñÇ ¨ ¹³ï³Ï³Ý Ñ³ÝÓÝ³ñ³ñáõÃÛáõÝÝ»ñÇ Ï³ï³ñÙ³Ý Ñ»ï Ï³åí³Í Ñ³ñó»ñÇ ÉáõÍÙ³Ý áÉáñï
A18: 1 | B18: å³ïÅÇó å³ÛÙ³Ý³Ï³Ý í³Õ³Å³ÙÏ»ï ³½³ï»Éáõ Ù³ëÇÝ ÙÇçÝáñ¹áõÃÛáõÝÝ»ñ | E18: 2 | G18: 2 | J18: =+I18+H18+G18+F18 -> 2 | N18: =D18+E18 -> 2 | O18: =J18+K18+L18 -> 2 | P18: =J18 -> 2 | Q18: =F18+G18+H18+I18 -> 2
A19: 2 | B19: å³ïÇÅÁ ÷á÷áË»Éáõ, Ñ»ï³Ó·»Éáõ ¨ å³ïÅÇó ³½³ï»Éáõ Ù³uÇÝ ÙÇçÝáñ¹áõÃÛáõÝÝ»ñ | D19: 2 | E19: 78 | F19: 5 | G19: 23 | I19: 4 | J19: =+I19+H19+G19+F19 -> 32 | L19: 47 | M19: 1 | N19: =D19+E19 -> 80 | O19: =J19+K19+L19 -> 79 | P19: =J19 -> 32 | Q19: =F19+G19+H19+I19 -> 32
A20: 3 | B20: Ñ³ñÏ³¹Çñ µáõÅÙ³Ý ï»ë³ÏÇ ÷á÷áËáõÃÛ³Ý Ù³ëÇÝ ÙÇçÝáñ¹áõÃÛáõÝÝ»ñ | D20: 1 | E20: 7 | F20: 2 | G20: 6 | J20: =+I20+H20+G20+F20 -> 8 | M20: 3 | N20: =D20+E20 -> 8 | O20: =J20+K20+L20 -> 8 | P20: =J20 -> 8 | Q20: =F20+G20+H20+I20 -> 8
A21: 4 | B21: ³ÛÉ ÙÇçÝáñ¹áõÃÛáõÝÝ»ñ | E21: 6 | F21: 1 | G21: 3 | J21: =+I21+H21+G21+F21 -> 4 | L21: 2 | N21: =D21+E21 -> 6 | O21: =J21+K21+L21 -> 6 | P21: =J21 -> 4 | Q21: =F21+G21+H21+I21 -> 4
A22: 5 | B22: ¹³ï³Ï³Ý Ñ³ÝÓÝ³ñ³ñáõÃÛáõÝÝ»ñ | D22: 5 | E22: 3 | F22: 1 | G22: 4 | J22: =+I22+H22+G22+F22 -> 5 | L22: 3 | N22: =D22+E22 -> 8 | O22: =J22+K22+L22 -> 8 | P22: =J22 -> 5 | Q22: =F22+G22+H22+I22 -> 5
A23: ÀÜ¸²ØºÜÀ | D23: =SUM(D6:D16,D18:D22) -> 11 | E23: =SUM(E6:E16,E18:E22) -> 489 | F23: =SUM(F6:F16,F18:F22) -> 68 | G23: =SUM(G6:G16,G18:G22) -> 365 | H23: =SUM(H6:H16,H18:H22) -> 3 | I23: =SUM(I6:I16,I18:I22) -> 8 | J23: =SUM(J6:J16,J18:J22) -> 444 | K23: =SUM(K6:K16,K18:K22) -> 0 | ... Q23: =SUM(Q6:Q16,Q18:Q22) -> 444
C28: Ծանոթություն. 1 միջնորդություն միացվել է

Sheet Կոտայք
A1: 2017Ã. 1-ին ÏÇë³ÙÛ³Ï | C1: Ð²ÞìºîìàôÂÚàôÜ | K1: Ð³í»Éí³Í Ð³Û³ëï³ÝÇ Ð³Ýñ³å»ïáõÃÛ³Ý ¸³ï³ñ³ÝÝ»ñÇ Ý³Ë³·³ÑÝ»ñÇ ËáñÑñ¹Ç 25.08.2017Ã. ÃÇí 35-È áñáßÙ³Ý
A2: ØÇÝã¹³ï³Ï³Ý í³ñáõÛÃÇ ÝÏ³ïÙ³Ùµ ¹³ï³Ï³Ý í»ñ³ÑëÏáÕáõÃÛ³Ý, ¹³ï³Ï³Ý ³Ïï»ñÇ ¨ ¹³ï³Ï³Ý Ñ³ÝÓÝ³ñ³ñáõÃÛáõÝÝ»ñÇ Ï³ï³ñÙ³Ý Ñ»ï Ï³åí³Í ÙÇçÝáñ¹áõÃÛáõÝÝ»ñÇ í»ñ³µ»ñÛ³É ¹³ï³Ï³Ý ·áñÍ»ñáí ÐÐ Îáï³ÛùÇ Ù³ñ½Ç ÁÝ¹Ñ³Ýáõñ Çñ³í³ëáõÃÛ³Ý ³é³çÇÝ ³ïÛ³ÝÇ ¹³ï³ñ³ÝÇ ·áñÍáõÝ»áõÃÛ³Ý í»ñ³µ»ñÛ³É
D3: Ñ³ßí»ïáõ Å³Ù³Ý³Ï³Ñ³ïí³ÍÇ ëÏ½µáõÙ Ý³Ëáñ¹ Ñ³ßí»ïáõ Å³Ù³Ý³Ï³Ñ³ïí³ÍÇó ÷áË³Ýóí³Í ·áñÍ»ñÇ ÁÝ¹Ñ³Ýáõñ ÃÇíÁ | E3: Ñ³ßí»ïáõ Å³Ù³Ý³Ï³Ñ³ïí³ÍáõÙ ëï³óí³Í ·áñÍ»ñÇ ÁÝ¹Ñ³Ýáõñ ÃÇíÁ | F3: Ñ³ßí»ïáõ Å³Ù³Ý³Ï³Ñ³ïí³ÍáõÙ ³í³ñïí³Í ·áñÍ»ñÇ ÁÝ¹Ñ³Ýáõñ ÃÇíÁ | K3: áõÕ³ñÏí»É ¿ Áëï ÁÝ¹¹³ïáõÃÛ³Ý | L3: Ñ³ßí»ïáõ Å³Ù³Ý³Ï³Ñ³ïí³ÍáõÙ ³Ý³í³ñï ·áñÍ»ñÇ ÁÝ¹Ñ³Ýáõñ ÃÇíÁ | M3: µáÕáù³ñÏí»É ¿ í»ñ³ùÝÝÇã ¹³ï³ñ³Ý
F4: Ù»ñÅí»É ¿ | G4: µ³í³ñ³ñí»É ¿ | H4: µ³í³ñ³ñí»É ¿ Ù³ëÝ³ÏÇ | I4: ÃáÕÝí»É ¿ ³é³Ýó ùÝÝáõÃÛ³Ý | J4: ÁÝ¹³Ù»ÝÁ
A5: 1. ØÇÝã¹³ï³Ï³Ý í³ñáõÛÃÇ ÝÏ³ïÙ³Ùµ ¹³ï³Ï³Ý í»ñ³ÑëÏáÕáõÃÛ³Ý áÉáñï | D5: 1 | E5: 2 | F5: 3 | G5: 4 | H5: 5 | I5: 6 | J5: 7 | K5: 8 | L5: 9 | M5: 10 | N5: 1+2=7+8+9 | P5: 7=3+4+5+6
A6: 1 | B6: Ï³É³ÝùÁ áñå»ë Ë³÷³ÝÙ³Ý ÙÇçáó ÏÇñ³é»Éáõ Ù³ëÇÝ ÙÇçÝáñ¹áõÃÛáõÝÝ»ñ | E6: 40 | F6: 10 | G6: 30 | J6: 40 | M6: 8 | N6: =D6+E6 -> 40 | O6: =J6+K6+L6 -> 40 | P6: =J6 -> 40 | Q6: =F6+G6+H6+I6 -> 40
A7: 2 | B7: Ï³É³ÝùÇ Å³ÙÏ»ïÁ »ñÏ³ñ³óÝ»Éáõ Ù³ëÇÝ ÙÇçÝáñ¹áõÃÛáõÝÝ»ñ | D7: 1 | E7: 32 | F7: 1 | G7: 29 | I7: 2 | J7: 32 | L7: 1 | M7: 5 | N7: =D7+E7 -> 33 | O7: =J7+K7+L7 -> 33 | P7: =J7 -> 32 | Q7: =F7+G7+H7+I7 -> 32
A8: 3 | B8: Ï³É³ÝùÇ í»ñ³Ñ³ëï³ïÙ³Ý Ù³ëÇÝ ÙÇçÝáñ¹áõÃÛáõÝÝ»ñ | E8: 8 | G8: 8 | J8: 8 | M8: 5 | N8: =D8+E8 -> 8 | O8: =J8+K8+L8 -> 8 | P8: =J8 -> 8 | Q8: =F8+G8+H8+I8 -> 8
A9: 4 | B9: ·ñ³íÁ áñå»ë Ï³É³Ý³íáñÙ³Ý ³ÛÉÁÝïñ³Ýù³ÛÇÝ Ë³÷³ÝÙ³Ý ÙÇçáó ÏÇñ³é»Éáõ Ù³ëÇÝ ÙÇçÝáñ¹áõÃÛáõÝÝ»ñ | E9: 22 | F9: 19 | G9: 3 | J9: 22 | M9: 3 | N9: =D9+E9 -> 22 | O9: =J9+K9+L9 -> 22 | P9: =J9 -> 22 | Q9: =F9+G9+H9+I9 -> 22
A10: 5 | B10: Ëáõ½³ñÏáõÃÛ³Ý Ï³ï³ñÙ³Ý Ù³ëÇÝ ÙÇçÝáñ¹áõÃÛáõÝÝ»ñ | E10: 138 | F10: 10 | G10: 128 | J10: 138 | M10: 3 | N10: =D10+E10 -> 138 | O10: =J10+K10+L10 -> 138 | P10: =J10 -> 138 | Q10: =F10+G10+H10+I10 -> 138
A11: 6 | B11: µ³ÝÏ³ÛÇÝ, ³å³Ñáí³·ñ³Ï³Ý, Ýáï³ñ³Ï³Ý ·³ÕïÝÇù Ï³½ÙáÕ ï»Õ»ÏáõÃÛáõÝÝ»ñÇ ëï³óÙ³Ý Ñ³Ù³ñ Ëáõ½³ñÏáõÃÛ³Ý Ï³Ù ³é·ñ³íÙ³Ý Ï³ï³ñÙ³Ý Ù³ëÇÝ ÙÇçÝáñ¹áõÃÛáõÝÝ»ñ | E11: 3 | G11: 3 | J11: 3 | N11: =D11+E11 -> 3 | O11: =J11+K11+L11 -> 3 | P11: =J11 -> 3 | Q11: =F11+G11+H11+I11 -> 3
A12: 7 | B12: Ý³Ù³Ï³·ñáõÃÛ³Ý, Ñ»é³·ñ³Ï³Ý, ÷áuï³ÛÇÝ Ñ³Õáñ¹áõÙÝ»ñÇ ÑëÏáÕáõÃÛ³Ý Ù³ëÇÝ ÙÇçÝáñ¹áõÃÛáõÝÝ»ñ | E12: 13 | G12: 13 | J12: 13 | N12: =D12+E12 -> 13 | O12: =J12+K12+L12 -> 13 | P12: =J12 -> 13 | Q12: =F12+G12+H12+I12 -> 13
A13: 8 | B13: Ñ»é³Ëáu³ÛÇÝ Ï³Ù Ï³åÇ ³ÛÉ ÙÇçáóÝ»ñáí ï³ñíáÕ Ëáu³ÏóáõÃÛáõÝÝ»ñÇ ÉuÙ³Ý ¨ Ó³ÛÝ³·ñ³éÙ³Ý Ù³ëÇÝ ÙÇçÝáñ¹áõÃÛáõÝÝ»ñ | E13: 1 | G13: 1 | J13: 1 | N13: =D13+E13 -> 1 | O13: =J13+K13+L13 -> 1 | P13: =J13 -> 1 | Q13: =F13+G13+H13+I13 -> 1
A14: 9 | B14: Ñ»é³ËáëÝ»ñÇ Ùáõïù³ÛÇÝ ¨ »Éù³ÛÇÝ í»ñÍ³ÝÙ³Ý ÃáõÛÉïíáõÃÛáõÝ ëï³Ý³Éáõ Ù³ëÇÝ ÙÇçÝáñ¹áõÃÛáõÝÝ»ñ | E14: 186 | F14: 6 | G14: 171 | H14: 9 | J14: 186 | M14: 1 | N14: =D14+E14 -> 186 | O14: =J14+K14+L14 -> 186 | P14: =J14 -> 186 | Q14: =F14+G14+H14+I14 -> 186
A15: 10 | B15: Ñ»ï³ùÝÝáõÃÛ³Ý Ù³ñÙÝÇ ³ßË³ïáÕÇ, ùÝÝÇãÇ, ¹³ï³Ë³½Ç oå»ñ³ïÇí-Ñ»ï³Ëáõ½³Ï³Ý ·áñÍáÕáõÃÛáõÝÝ»ñ Çñ³Ï³Ý³óÝáÕ Ù³ñÙÇÝÝ»ñÇ ³ÝoñÇÝ³Ï³Ý ¨ ³ÝÑÇÙÝ áñáßáõÙÝ»ñÇ ¨ ·áñÍáÕáõÃÛáõÝÝ»ñÇ ¹»Ù µáÕáùÝ»ñ | D15: 12 | E15: 18 | F15: 19 | G15: 2 | H15: 1 | J15: 22 | L15: 5 | M15: 19 | N15: =D15+E15 -> 30 | O15: =J15+K15+L15 -> 27 | P15: =J15 -> 22 | Q15: =F15+G15+H15+I15 -> 22
A16: 11 | B16: ²½³ïáõÃÛáõÝÇó ½ñÏ»Éáõ Çñ³í³ã³÷áõÃÛ³Ý í»ñ³µ»ñÛ³É µáÕáùÝ»ñáí ·áñÍ»ñ | E16: 5 | F16: 4 | G16: 1 | J16: 5 | N16: =D16+E16 -> 5 | O16: =J16+K16+L16 -> 5 | P16: =J16 -> 5 | Q16: =F16+G16+H16+I16 -> 5
A17: 2. ¸³ï³Ï³Ý ³Ïï»ñÇ ¨ ¹³ï³Ï³Ý Ñ³ÝÓÝ³ñ³ñáõÃÛáõÝÝ»ñÇ Ï³ï³ñÙ³Ý Ñ»ï Ï³åí³Í Ñ³ñó»ñÇ ÉáõÍÙ³Ý áÉáñï
A18: 1 | B18: å³ïÅÇó å³ÛÙ³Ý³Ï³Ý í³Õ³Å³ÙÏ»ï ³½³ï»Éáõ Ù³ëÇÝ ÙÇçÝáñ¹áõÃÛáõÝÝ»ñ | D18: 2 | E18: 34 | F18: 10 | G18: 26 | J18: 36 | M18: 7 | N18: =D18+E18 -> 36 | O18: =J18+K18+L18 -> 36 | P18: =J18 -> 36 | Q18: =F18+G18+H18+I18 -> 36
A19: 2 | B19: å³ïÇÅÁ ÷á÷áË»Éáõ, Ñ»ï³Ó·»Éáõ ¨ å³ïÅÇó ³½³ï»Éáõ Ù³uÇÝ ÙÇçÝáñ¹áõÃÛáõÝÝ»ñ | D19: 4 | E19: 90 | F19: 12 | G19: 12 | H19: 2 | I19: 1 | J19: 27 | K19: 1 | L19: 66 | M19: 1 | N19: =D19+E19 -> 94 | O19: =J19+K19+L19 -> 94 | P19: =J19 -> 27 | Q19: =F19+G19+H19+I19 -> 27
A20: 3 | B20: Ñ³ñÏ³¹Çñ µáõÅÙ³Ý ï»ë³ÏÇ ÷á÷áËáõÃÛ³Ý Ù³ëÇÝ ÙÇçÝáñ¹áõÃÛáõÝÝ»ñ | E20: 2 | F20: 1 | G20: 1 | J20: 2 | N20: =D20+E20 -> 2 | O20: =J20+K20+L20 -> 2 | P20: =J20 -> 2 | Q20: =F20+G20+H20+I20 -> 2
A21: 4 | B21: ³ÛÉ ÙÇçÝáñ¹áõÃÛáõÝÝ»ñ | D21: 3 | E21: 45 | F21: 3 | G21: 19 | H21: 5 | I21: 2 | J21: 29 | L21: 19 | N21: =D21+E21 -> 48 | O21: =J21+K21+L21 -> 48 | P21: =J21 -> 29 | Q21: =F21+G21+H21+I21 -> 29
A22: 5 | B22: ¹³ï³Ï³Ý Ñ³ÝÓÝ³ñ³ñáõÃÛáõÝÝ»ñ | D22: 6 | E22: 14 | F22: 1 | G22: 8 | J22: 9 | L22: 10 | N22: =D22+E22 -> 20 | O22: =J22+K22+L22 -> 19 | P22: =J22 -> 9 | Q22: =F22+G22+H22+I22 -> 9
A23: ÀÜ¸²ØºÜÀ | D23: =SUM(D6:D16,D18:D22) -> 28 | E23: =SUM(E6:E16,E18:E22) -> 651 | F23: =SUM(F6:F16,F18:F22) -> 96 | G23: =SUM(G6:G16,G18:G22) -> 455 | H23: =SUM(H6:H16,H18:H22) -> 17 | I23: =SUM(I6:I16,I18:I22) -> 5 | J23: =SUM(J6:J16,J18:J22) -> 573 | K23: =SUM(K6:K16,K18:K22) -> 1 | ... Q23: =SUM(Q6:Q16,Q18:Q22) -> 573
A27: Ծանոթություն. | C27: 3 միջնորդություն միացվել է
C28: 1 միջնորդություն վերադարձվել է

Sheet Գեղարքունիք
A1: 2017Ã. 1-ին ÏÇë³ÙÛ³Ï | C1: Ð²ÞìºîìàôÂÚàôÜ | K1: Ð³í»Éí³Í Ð³Û³ëï³ÝÇ Ð³Ýñ³å»ïáõÃÛ³Ý ¸³ï³ñ³ÝÝ»ñÇ Ý³Ë³·³ÑÝ»ñÇ ËáñÑñ¹Ç 25.08.2017Ã. ÃÇí 35-È áñáßÙ³Ý
A2: ØÇÝã¹³ï³Ï³Ý í³ñáõÛÃÇ ÝÏ³ïÙ³Ùµ ¹³ï³Ï³Ý í»ñ³ÑëÏáÕáõÃÛ³Ý, ¹³ï³Ï³Ý ³Ïï»ñÇ ¨ ¹³ï³Ï³Ý Ñ³ÝÓÝ³ñ³ñáõÃÛáõÝÝ»ñÇ Ï³ï³ñÙ³Ý Ñ»ï Ï³åí³Í ÙÇçÝáñ¹áõÃÛáõÝÝ»ñÇ í»ñ³µ»ñÛ³É ¹³ï³Ï³Ý ·áñÍ»ñáí ÐÐ ¶»Õ³ñùáõÝÇùÇ Ù³ñ½Ç ÁÝ¹Ñ³Ýáõñ Çñ³í³ëáõÃÛ³Ý ³é³çÇÝ ³ïÛ³ÝÇ ¹³ï³ñ³ÝÇ ·áñÍáõÝ»áõÃÛ³Ý í»ñ³µ»ñÛ³É
D3: Ñ³ßí»ïáõ Å³Ù³Ý³Ï³Ñ³ïí³ÍÇ ëÏ½µáõÙ Ý³Ëáñ¹ Ñ³ßí»ïáõ Å³Ù³Ý³Ï³Ñ³ïí³ÍÇó ÷áË³Ýóí³Í ·áñÍ»ñÇ ÁÝ¹Ñ³Ýáõñ ÃÇíÁ | E3: Ñ³ßí»ïáõ Å³Ù³Ý³Ï³Ñ³ïí³ÍáõÙ ëï³óí³Í ·áñÍ»ñÇ ÁÝ¹Ñ³Ýáõñ ÃÇíÁ | F3: Ñ³ßí»ïáõ Å³Ù³Ý³Ï³Ñ³ïí³ÍáõÙ ³í³ñïí³Í ·áñÍ»ñÇ ÁÝ¹Ñ³Ýáõñ ÃÇíÁ | K3: áõÕ³ñÏí»É ¿ Áëï ÁÝ¹¹³ïáõÃÛ³Ý | L3: Ñ³ßí»ïáõ Å³Ù³Ý³Ï³Ñ³ïí³ÍáõÙ ³Ý³í³ñï ·áñÍ»ñÇ ÁÝ¹Ñ³Ýáõñ ÃÇíÁ | M3: µáÕáù³ñÏí»É ¿ í»ñ³ùÝÝÇã ¹³ï³ñ³Ý
F4: Ù»ñÅí»É ¿ | G4: µ³í³ñ³ñí»É ¿ | H4: µ³í³ñ³ñí»É ¿ Ù³ëÝ³ÏÇ | I4: ÃáÕÝí»É ¿ ³é³Ýó ùÝÝáõÃÛ³Ý | J4: ÁÝ¹³Ù»ÝÁ
A5: 1. ØÇÝã¹³ï³Ï³Ý í³ñáõÛÃÇ ÝÏ³ïÙ³Ùµ ¹³ï³Ï³Ý í»ñ³ÑëÏáÕáõÃÛ³Ý áÉáñï | D5: 1 | E5: 2 | F5: 3 | G5: 4 | H5: 5 | I5: 6 | J5: 7 | K5: 8 | L5: 9 | M5: 10 | N5: 1+2=7+8+9 | P5: 7=3+4+5+6
A6: 1 | B6: Ï³É³ÝùÁ áñå»ë Ë³÷³ÝÙ³Ý ÙÇçáó ÏÇñ³é»Éáõ Ù³ëÇÝ ÙÇçÝáñ¹áõÃÛáõÝÝ»ñ | E6: 41 | F6: 2 | G6: 39 | J6: 41 | M6: 3 | N6: =D6+E6 -> 41 | O6: =J6+K6+L6 -> 41 | P6: =J6 -> 41 | Q6: =F6+G6+H6+I6 -> 41
A7: 2 | B7: Ï³É³ÝùÇ Å³ÙÏ»ïÁ »ñÏ³ñ³óÝ»Éáõ Ù³ëÇÝ ÙÇçÝáñ¹áõÃÛáõÝÝ»ñ | E7: 9 | G7: 8 | H7: 1 | J7: 9 | M7: 2 | N7: =D7+E7 -> 9 | O7: =J7+K7+L7 -> 9 | P7: =J7 -> 9 | Q7: =F7+G7+H7+I7 -> 9
A8: 3 | B8: Ï³É³ÝùÇ í»ñ³Ñ³ëï³ïÙ³Ý Ù³ëÇÝ ÙÇçÝáñ¹áõÃÛáõÝÝ»ñ | E8: 2 | G8: 2 | J8: 2 | M8: 1 | N8: =D8+E8 -> 2 | O8: =J8+K8+L8 -> 2 | P8: =J8 -> 2 | Q8: =F8+G8+H8+I8 -> 2
A9: 4 | B9: ·ñ³íÁ áñå»ë Ï³É³Ý³íáñÙ³Ý ³ÛÉÁÝïñ³Ýù³ÛÇÝ Ë³÷³ÝÙ³Ý ÙÇçáó ÏÇñ³é»Éáõ Ù³ëÇÝ ÙÇçÝáñ¹áõÃÛáõÝÝ»ñ | E9: 8 | F9: 7 | G9: 1 | J9: 8 | M9: 2 | N9: =D9+E9 -> 8 | O9: =J9+K9+L9 -> 8 | P9: =J9 -> 8 | Q9: =F9+G9+H9+I9 -> 8
A10: 5 | B10: Ëáõ½³ñÏáõÃÛ³Ý Ï³ï³ñÙ³Ý Ù³ëÇÝ ÙÇçÝáñ¹áõÃÛáõÝÝ»ñ | E10: 113 | F10: 10 | G10: 103 | J10: 113 | N10: =D10+E10 -> 113 | O10: =J10+K10+L10 -> 113 | P10: =J10 -> 113 | Q10: =F10+G10+H10+I10 -> 113
A11: 6 | B11: µ³ÝÏ³ÛÇÝ, ³å³Ñáí³·ñ³Ï³Ý, Ýáï³ñ³Ï³Ý ·³ÕïÝÇù Ï³½ÙáÕ ï»Õ»ÏáõÃÛáõÝÝ»ñÇ ëï³óÙ³Ý Ñ³Ù³ñ Ëáõ½³ñÏáõÃÛ³Ý Ï³Ù ³é·ñ³íÙ³Ý Ï³ï³ñÙ³Ý Ù³ëÇÝ ÙÇçÝáñ¹áõÃÛáõÝÝ»ñ | E11: 7 | G11: 7 | J11: 7 | N11: =D11+E11 -> 7 | O11: =J11+K11+L11 -> 7 | P11: =J11 -> 7 | Q11: =F11+G11+H11+I11 -> 7
A12: 7 | B12: Ý³Ù³Ï³·ñáõÃÛ³Ý, Ñ»é³·ñ³Ï³Ý, ÷áuï³ÛÇÝ Ñ³Õáñ¹áõÙÝ»ñÇ ÑëÏáÕáõÃÛ³Ý Ù³ëÇÝ ÙÇçÝáñ¹áõÃÛáõÝÝ»ñ | N12: =D12+E12 -> 0 | O12: =J12+K12+L12 -> 0 | P12: =J12 -> 0 | Q12: =F12+G12+H12+I12 -> 0
