Workbook

Sheet Ընդհամենը
A1: 2015Ã. | D1: Ð²ÞìºîìàôÂÚàôÜ | P1: Ï³½Ùí³Í` ÐÐ Ï³é³í³ñáõÃÛ³Ý 19.03.2015Ã. ÃÇí 306-Ü áñáßÙ³Ý ÑÇÙ³Ý íñ³
A2: ØÇÝã¹³ï³Ï³Ý í³ñáõÛÃÇ ÝÏ³ïÙ³Ùµ ¹³ï³Ï³Ý í»ñ³ÑëÏáÕáõÃÛ³ÝÁ, ¹³ï³Ï³Ý ³Ïï»ñÇ ¨ ¹³ï³Ï³Ý Ñ³ÝÓÝ³ñ³ñáõÃÛáõÝÝ»ñÇ Ï³ï³ñÙ³Ý Ñ»ï Ï³åí³Í ÙÇçÝáñ¹áõÃÛáõÝÝ»ñÇ í»ñ³µ»ñÛ³É ¹³ï³Ï³Ý ·áñÍ»ñáí ÐÐ êÛáõÝÇùÇ Ù³ñ½Ç ÁÝ¹Ñ³Ýáõñ Çñ³í³ëáõÃÛ³Ý ³é³çÇÝ ³ïÛ³ÝÇ ¹³ï³ñ³ÝÇ ·áñÍáõÝ»áõÃÛ³Ý í»ñ³µ»ñÛ³É
A3: êïáõ·Çã Ñ³í³ë³ñáõÙ` 1+2=3+8+9, 8=4+5+6+7, | D3: Ð³ßí»ïáõ Å³Ù³Ý³Ï³Ñ³ïí³ÍÇ ëÏ½µáõÙ Ý³Ëáñ¹ Ñ³ßí»ïáõ Å³Ù³Ý³Ï³Ñ³ïí³ÍÇó ÷áË³Ýóí³Í ·áñÍ»ñÇ ÁÝ¹Ñ³Ýáõñ ÃÇíÁ | E3: Ð³ßí»ïáõ Å³Ù³Ý³Ï³Ñ³ïí³ÍáõÙ ëï³óí³Í ·áñÍ»ñÇ ÁÝ¹Ñ³Ýáõñ ÃÇíÁ | F3: öáË³Ýóí»É ¿ ³ÛÉ ¹³ï³íáñÇ Ï³Ù ³ÛÉ ¹³ï³ñ³Ý (Ï³½ÙÇ ÷á÷áËáõÃÛáõÝ, ÁÝ¹¹³ïáõÃÛáõÝ) | G3: Ð³ßí»ïáõ Å³Ù³Ý³Ï³Ñ³ïí³ÍáõÙ ³í³ñïí³Í ·áñÍ»ñÇ ÁÝ¹Ñ³Ýáõñ ÃÇíÁ | L3: Ð³ßí»ïáõ Å³Ù³Ý³Ï³Ñ³ïí³ÍáõÙ ³Ý³í³ñï ·áñÍ»ñÇ ÁÝ¹Ñ³Ýáõñ ÃÇíÁ | M3: ØÇçÝáñ¹áõÃÛáõÝÝ»ñáí Ï³Û³óí³Í ¹³ï³Ï³Ý ³Ïï»ñÇó µáÕáù³ñÏí³ÍÝ»ñÇ ù³Ý³ÏÁ | O3: ²Ý³í³ñï µáÕáùÝ»ñ | P3: ØÇçÝáñ¹áõÃÛáõÝÝ»ñáí Ï³Û³óí³Í ¨ µáÕáù³ñÏí³Í ¹³ï³Ï³Ý ³Ïï»ñÇó µ»Ï³Ýí³ÍÝ»ñÇ ù³Ý³ÏÁ | R3: ÙÇçÝáñ¹áõÃÛáõÝÝ»ñáí Ï³Û³óí³Í ¨ µáÕáù³ñÏí³Í ¹³ï³Ï³Ý ³Ïï»ñÇó ³Ý÷á÷áË ÃáÕÝí³ÍÝ»ñÇ ù³Ý³ÏÁ
G4: Ù»ñÅí»É ¿ | H4: µ³í³ñ³ñí»É ¿ | I4: µ³í³ñ³ñí»É ¿ Ù³ëÝ³ÏÇ | J4: ÃáÕÝí»É ¿ ³é³Ýó ùÝÝáõÃÛ³Ý | K4: ÀÝ¹³Ù»ÝÁ
M5: Ý³Ëáñ¹ ï³ñÇÝ»ñÇÝ Ï³Û³óí³Í ³Ïï»ñÇ ¹»Ù | N5: Ñ³ßí»ïáõ Å³Ù³Ý³Ï³ßñç³ÝáõÙ Ï³Û³óí³Í ³Ïï»ñÇ ¹»Ù | P5: Ý³Ëáñ¹ ï³ñÇÝ»ñÇÝ Ï³Û³óí³Í ³Ïï»ñÇ µ»Ï³ÝáõÙÝ»ñÁ | Q5: Ñ³ßí»ïáõ Å³Ù³Ý³Ï³ßñç³ÝáõÙ Ï³Û³óí³Í ³Ïï»ñÇ µ»Ï³ÝáõÙÝ»ñÁ
A6: 1. ØÇÝã¹³ï³Ï³Ý í³ñáõÛÃÇ ÝÏ³ïÙ³Ùµ ¹³ï³Ï³Ý í»ñ³ÑëÏáÕáõÃÛ³Ý áÉáñï | D6: 1 | E6: 2 | F6: 3 | G6: 4 | H6: 5 | I6: 6 | J6: 7 | K6: 8 | L6: 9 | M6: 10 | N6: 11 | O6: 12 | P6: 13 | Q6: 14 | R6: 15 | T6: 1+2=3+8+9 | V6: 8=4+5+6+7
A7: 1 | B7: Ï³É³ÝùÁ áñå»ë Ë³÷³ÝÙ³Ý ÙÇçáó ÏÇñ³é»Éáõ Ù³ëÇÝ ÙÇçÝáñ¹áõÃÛáõÝÝ»ñ | D7: =SUM('Ժ. Ասատրյան:Ա. Մնացականյան'!D7) -> 0 | E7: =SUM('Ժ. Ասատրյան:Ա. Մնացականյան'!E7) -> 78 | F7: =SUM('Ժ. Ասատրյան:Ա. Մնացականյան'!F7) -> 0 | G7: =SUM('Ժ. Ասատրյան:Ա. Մնացականյան'!G7) -> 17 | H7: =SUM('Ժ. Ասատրյան:Ա. Մնացականյան'!H7) -> 60 | I7: =SUM('Ժ. Ասատրյան:Ա. Մնացականյան'!I7) -> 0 | J7: =SUM('Ժ. Ասատրյան:Ա. Մնացականյան'!J7) -> 1 | K7: =SUM('Ժ. Ասատրյան:Ա. Մնացականյան'!K7) -> 78 | ... R7: =SUM('Ժ. Ասատրյան:Ա. Մնացականյան'!R7) -> 9 | S7: ='Ժ. Ասատրյան'!S7+#REF!+Մ.Հովակիմյան!S7+'Ն. Օհանյան'!S7+'Ա. Թումանյան'!S7+'Ա. Սարդարյան'!S7+'Ի. Բեգլարյան'!S7+'Ա. Մնացականյան'!S7+'Ս. Գրիգորյան'!S7 -> #REF! | T7: =D7+E7 -> 78 | U7: =F7+K7+L7 -> 78 | V7: =K7 -> 78 | W7: =G7+H7+I7+J7 -> 78
A8: 2 | B8: Ï³É³ÝùÇ Å³ÙÏ»ïÁ »ñÏ³ñ³óÝ»Éáõ Ù³ëÇÝ ÙÇçÝáñ¹áõÃÛáõÝÝ»ñ | D8: =SUM('Ժ. Ասատրյան:Ա. Մնացականյան'!D8) -> 0 | E8: =SUM('Ժ. Ասատրյան:Ա. Մնացականյան'!E8) -> 48 | F8: =SUM('Ժ. Ասատրյան:Ա. Մնացականյան'!F8) -> 0 | G8: =SUM('Ժ. Ասատրյան:Ա. Մնացականյան'!G8) -> 1 | H8: =SUM('Ժ. Ասատրյան:Ա. Մնացականյան'!H8) -> 45 | I8: =SUM('Ժ. Ասատրյան:Ա. Մնացականյան'!I8) -> 2 | J8: =SUM('Ժ. Ասատրյան:Ա. Մնացականյան'!J8) -> 0 | K8: =SUM('Ժ. Ասատրյան:Ա. Մնացականյան'!K8) -> 48 | ... R8: =SUM('Ժ. Ասատրյան:Ա. Մնացականյան'!R8) -> 6 | S8: ='Ժ. Ասատրյան'!S8+#REF!+Մ.Հովակիմյան!S8+'Ն. Օհանյան'!S8+'Ա. Թումանյան'!S8+'Ա. Սարդարյան'!S8+'Ի. Բեգլարյան'!S8+'Ա. Մնացականյան'!S8 -> #REF! | T8: =D8+E8 -> 48 | U8: =F8+K8+L8 -> 48 | V8: =K8 -> 48 | W8: =G8+H8+I8+J8 -> 48
A9: 3 | B9: Ï³É³ÝùÇ í»ñ³Ñ³ëï³ïÙ³Ý Ù³ëÇÝ ÙÇçÝáñ¹áõÃÛáõÝÝ»ñ | D9: =SUM('Ժ. Ասատրյան:Ա. Մնացականյան'!D9) -> 0 | E9: =SUM('Ժ. Ասատրյան:Ա. Մնացականյան'!E9) -> 4 | F9: =SUM('Ժ. Ասատրյան:Ա. Մնացականյան'!F9) -> 0 | G9: =SUM('Ժ. Ասատրյան:Ա. Մնացականյան'!G9) -> 1 | H9: =SUM('Ժ. Ասատրյան:Ա. Մնացականյան'!H9) -> 3 | I9: =SUM('Ժ. Ասատրյան:Ա. Մնացականյան'!I9) -> 0 | J9: =SUM('Ժ. Ասատրյան:Ա. Մնացականյան'!J9) -> 0 | K9: =SUM('Ժ. Ասատրյան:Ա. Մնացականյան'!K9) -> 4 | ... R9: =SUM('Ժ. Ասատրյան:Ա. Մնացականյան'!R9) -> 1 | S9: ='Ժ. Ասատրյան'!S9+#REF!+Մ.Հովակիմյան!S9+'Ն. Օհանյան'!S9+'Ա. Թումանյան'!S9+'Ա. Սարդարյան'!S9+'Ի. Բեգլարյան'!S9+'Ա. Մնացականյան'!S9 -> #REF! | T9: =D9+E9 -> 4 | U9: =F9+K9+L9 -> 4 | V9: =K9 -> 4 | W9: =G9+H9+I9+J9 -> 4
A10: 4 | B10: ·ñ³íÁ áñå»ë Ï³É³Ý³íáñÙ³Ý ³ÛÉÁÝïñ³Ýù³ÛÇÝ Ë³÷³ÝÙ³Ý ÙÇçáó ÏÇñ³é»Éáõ Ù³ëÇÝ ÙÇçÝáñ¹áõÃÛáõÝÝ»ñ | D10: =SUM('Ժ. Ասատրյան:Ա. Մնացականյան'!D10) -> 0 | E10: =SUM('Ժ. Ասատրյան:Ա. Մնացականյան'!E10) -> 35 | F10: =SUM('Ժ. Ասատրյան:Ա. Մնացականյան'!F10) -> 0 | G10: =SUM('Ժ. Ասատրյան:Ա. Մնացականյան'!G10) -> 32 | H10: =SUM('Ժ. Ասատրյան:Ա. Մնացականյան'!H10) -> 3 | I10: =SUM('Ժ. Ասատրյան:Ա. Մնացականյան'!I10) -> 0 | J10: =SUM('Ժ. Ասատրյան:Ա. Մնացականյան'!J10) -> 0 | K10: =SUM('Ժ. Ասատրյան:Ա. Մնացականյան'!K10) -> 35 | ... R10: =SUM('Ժ. Ասատրյան:Ա. Մնացականյան'!R10) -> 0 | S10: ='Ժ. Ասատրյան'!S10+#REF!+Մ.Հովակիմյան!S10+'Ն. Օհանյան'!S10+'Ա. Թումանյան'!S10+'Ա. Սարդարյան'!S10+'Ի. Բեգլարյան'!S10+'Ա. Մնացականյան'!S10 -> #REF! | T10: =D10+E10 -> 35 | U10: =F10+K10+L10 -> 35 | V10: =K10 -> 35 | W10: =G10+H10+I10+J10 -> 35
A11: 5 | B11: Ëáõ½³ñÏáõÃÛ³Ý Ï³ï³ñÙ³Ý Ù³ëÇÝ ÙÇçÝáñ¹áõÃÛáõÝÝ»ñ | D11: =SUM('Ժ. Ասատրյան:Ա. Մնացականյան'!D11) -> 0 | E11: =SUM('Ժ. Ասատրյան:Ա. Մնացականյան'!E11) -> 45 | F11: =SUM('Ժ. Ասատրյան:Ա. Մնացականյան'!F11) -> 0 | G11: =SUM('Ժ. Ասատրյան:Ա. Մնացականյան'!G11) -> 1 | H11: =SUM('Ժ. Ասատրյան:Ա. Մնացականյան'!H11) -> 44 | I11: =SUM('Ժ. Ասատրյան:Ա. Մնացականյան'!I11) -> 0 | J11: =SUM('Ժ. Ասատրյան:Ա. Մնացականյան'!J11) -> 0 | K11: =SUM('Ժ. Ասատրյան:Ա. Մնացականյան'!K11) -> 45 | ... R11: =SUM('Ժ. Ասատրյան:Ա. Մնացականյան'!R11) -> 0 | S11: ='Ժ. Ասատրյան'!S11+#REF!+Մ.Հովակիմյան!S11+'Ն. Օհանյան'!S11+'Ա. Թումանյան'!S11+'Ա. Սարդարյան'!S11+'Ի. Բեգլարյան'!S11+'Ա. Մնացականյան'!S11 -> #REF! | T11: =D11+E11 -> 45 | U11: =F11+K11+L11 -> 45 | V11: =K11 -> 45 | W11: =G11+H11+I11+J11 -> 45
A12: 6 | B12: µ³ÝÏ³ÛÇÝ, ³å³Ñáí³·ñ³Ï³Ý, Ýáï³ñ³Ï³Ý ·³ÕïÝÇù Ï³½ÙáÕ ï»Õ»ÏáõÃÛáõÝÝ»ñÇ ëï³óÙ³Ý Ñ³Ù³ñ Ëáõ½³ñÏáõÃÛ³Ý Ï³Ù ³é·ñ³íÙ³Ý Ï³ï³ñÙ³Ý Ù³ëÇÝ ÙÇçÝáñ¹áõÃÛáõÝÝ»ñ | D12: =SUM('Ժ. Ասատրյան:Ա. Մնացականյան'!D12) -> 0 | E12: =SUM('Ժ. Ասատրյան:Ա. Մնացականյան'!E12) -> 2 | F12: =SUM('Ժ. Ասատրյան:Ա. Մնացականյան'!F12) -> 0 | G12: =SUM('Ժ. Ասատրյան:Ա. Մնացականյան'!G12) -> 0 | H12: =SUM('Ժ. Ասատրյան:Ա. Մնացականյան'!H12) -> 1 | I12: =SUM('Ժ. Ասատրյան:Ա. Մնացականյան'!I12) -> 1 | J12: =SUM('Ժ. Ասատրյան:Ա. Մնացականյան'!J12) -> 0 | K12: =SUM('Ժ. Ասատրյան:Ա. Մնացականյան'!K12) -> 2 | ... R12: =SUM('Ժ. Ասատրյան:Ա. Մնացականյան'!R12) -> 0 | S12: ='Ժ. Ասատրյան'!S12+#REF!+Մ.Հովակիմյան!S12+'Ն. Օհանյան'!S12+'Ա. Թումանյան'!S12+'Ա. Սարդարյան'!S12+'Ի. Բեգլարյան'!S12+'Ա. Մնացականյան'!S12 -> #REF! | T12: =D12+E12 -> 2 | U12: =F12+K12+L12 -> 2 | V12: =K12 -> 2 | W12: =G12+H12+I12+J12 -> 2
A13: 7 | B13: Ý³Ù³Ï³·ñáõÃÛ³Ý, Ñ»é³·ñ³Ï³Ý, ÷áuï³ÛÇÝ Ñ³Õáñ¹áõÙÝ»ñÇ ÑëÏáÕáõÃÛ³Ý Ù³ëÇÝ ÙÇçÝáñ¹áõÃÛáõÝÝ»ñ | D13: =SUM('Ժ. Ասատրյան:Ա. Մնացականյան'!D13) -> 0 | E13: =SUM('Ժ. Ասատրյան:Ա. Մնացականյան'!E13) -> 0 | F13: =SUM('Ժ. Ասատրյան:Ա. Մնացականյան'!F13) -> 0 | G13: =SUM('Ժ. Ասատրյան:Ա. Մնացականյան'!G13) -> 0 | H13: =SUM('Ժ. Ասատրյան:Ա. Մնացականյան'!H13) -> 0 | I13: =SUM('Ժ. Ասատրյան:Ա. Մնացականյան'!I13) -> 0 | J13: =SUM('Ժ. Ասատրյան:Ա. Մնացականյան'!J13) -> 0 | K13: =SUM('Ժ. Ասատրյան:Ա. Մնացականյան'!K13) -> 0 | ... R13: =SUM('Ժ. Ասատրյան:Ա. Մնացականյան'!R13) -> 0 | S13: ='Ժ. Ասատրյան'!S13+#REF!+Մ.Հովակիմյան!S13+'Ն. Օհանյան'!S13+'Ա. Թումանյան'!S13+'Ա. Սարդարյան'!S13+'Ի. Բեգլարյան'!S13+'Ա. Մնացականյան'!S13 -> #REF! | T13: =D13+E13 -> 0 | U13: =F13+K13+L13 -> 0 | V13: =K13 -> 0 | W13: =G13+H13+I13+J13 -> 0
A14: 8 | B14: Ñ»é³Ëáu³ÛÇÝ Ï³Ù Ï³åÇ ³ÛÉ ÙÇçáóÝ»ñáí ï³ñíáÕ Ëáu³ÏóáõÃÛáõÝÝ»ñÇ ÉuÙ³Ý ¨ Ó³ÛÝ³·ñ³éÙ³Ý Ù³ëÇÝ ÙÇçÝáñ¹áõÃÛáõÝÝ»ñ | D14: =SUM('Ժ. Ասատրյան:Ա. Մնացականյան'!D14) -> 0 | E14: =SUM('Ժ. Ասատրյան:Ա. Մնացականյան'!E14) -> 1 | F14: =SUM('Ժ. Ասատրյան:Ա. Մնացականյան'!F14) -> 0 | G14: =SUM('Ժ. Ասատրյան:Ա. Մնացականյան'!G14) -> 0 | H14: =SUM('Ժ. Ասատրյան:Ա. Մնացականյան'!H14) -> 1 | I14: =SUM('Ժ. Ասատրյան:Ա. Մնացականյան'!I14) -> 0 | J14: =SUM('Ժ. Ասատրյան:Ա. Մնացականյան'!J14) -> 0 | K14: =SUM('Ժ. Ասատրյան:Ա. Մնացականյան'!K14) -> 1 | ... R14: =SUM('Ժ. Ասատրյան:Ա. Մնացականյան'!R14) -> 0 | S14: ='Ժ. Ասատրյան'!S14+#REF!+Մ.Հովակիմյան!S14+'Ն. Օհանյան'!S14+'Ա. Թումանյան'!S14+'Ա. Սարդարյան'!S14+'Ի. Բեգլարյան'!S14+'Ա. Մնացականյան'!S14 -> #REF! | T14: =D14+E14 -> 1 | U14: =F14+K14+L14 -> 1 | V14: =K14 -> 1 | W14: =G14+H14+I14+J14 -> 1
A15: 9 | B15: Ñ»é³ËáëÝ»ñÇ Ùáõïù³ÛÇÝ ¨ »Éù³ÛÇÝ í»ñÍ³ÝÙ³Ý ÃáõÛÉïíáõÃÛáõÝ ëï³Ý³Éáõ Ù³ëÇÝ ÙÇçÝáñ¹áõÃÛáõÝÝ»ñ | D15: =SUM('Ժ. Ասատրյան:Ա. Մնացականյան'!D15) -> 0 | E15: =SUM('Ժ. Ասատրյան:Ա. Մնացականյան'!E15) -> 69 | F15: =SUM('Ժ. Ասատրյան:Ա. Մնացականյան'!F15) -> 0 | G15: =SUM('Ժ. Ասատրյան:Ա. Մնացականյան'!G15) -> 5 | H15: =SUM('Ժ. Ասատրյան:Ա. Մնացականյան'!H15) -> 64 | I15: =SUM('Ժ. Ասատրյան:Ա. Մնացականյան'!I15) -> 0 | J15: =SUM('Ժ. Ասատրյան:Ա. Մնացականյան'!J15) -> 0 | K15: =SUM('Ժ. Ասատրյան:Ա. Մնացականյան'!K15) -> 69 | ... R15: =SUM('Ժ. Ասատրյան:Ա. Մնացականյան'!R15) -> 0 | S15: ='Ժ. Ասատրյան'!S15+#REF!+Մ.Հովակիմյան!S15+'Ն. Օհանյան'!S15+'Ա. Թումանյան'!S15+'Ա. Սարդարյան'!S15+'Ի. Բեգլարյան'!S15+'Ա. Մնացականյան'!S15 -> #REF! | T15: =D15+E15 -> 69 | U15: =F15+K15+L15 -> 69 | V15: =K15 -> 69 | W15: =G15+H15+I15+J15 -> 69
A16: 10 | B16: Ñ»ï³ùÝÝáõÃÛ³Ý Ù³ñÙÝÇ ³ßË³ïáÕÇ, ùÝÝÇãÇ, ¹³ï³Ë³½Ç oå»ñ³ïÇí-Ñ»ï³Ëáõ½³Ï³Ý ·áñÍáÕáõÃÛáõÝÝ»ñ Çñ³Ï³Ý³óÝáÕ Ù³ñÙÇÝÝ»ñÇ ³ÝoñÇÝ³Ï³Ý ¨ ³ÝÑÇÙÝ áñáßáõÙÝ»ñÇ ¨ ·áñÍáÕáõÃÛáõÝÝ»ñÇ ¹»Ù µáÕáùÝ»ñ | D16: =SUM('Ժ. Ասատրյան:Ա. Մնացականյան'!D16) -> 0 | E16: =SUM('Ժ. Ասատրյան:Ա. Մնացականյան'!E16) -> 14 | F16: =SUM('Ժ. Ասատրյան:Ա. Մնացականյան'!F16) -> 1 | G16: =SUM('Ժ. Ասատրյան:Ա. Մնացականյան'!G16) -> 5 | H16: =SUM('Ժ. Ասատրյան:Ա. Մնացականյան'!H16) -> 0 | I16: =SUM('Ժ. Ասատրյան:Ա. Մնացականյան'!I16) -> 0 | J16: =SUM('Ժ. Ասատրյան:Ա. Մնացականյան'!J16) -> 1 | K16: =SUM('Ժ. Ասատրյան:Ա. Մնացականյան'!K16) -> 6 | ... R16: =SUM('Ժ. Ասատրյան:Ա. Մնացականյան'!R16) -> 1 | S16: ='Ժ. Ասատրյան'!S16+#REF!+Մ.Հովակիմյան!S16+'Ն. Օհանյան'!S16+'Ա. Թումանյան'!S16+'Ա. Սարդարյան'!S16+'Ի. Բեգլարյան'!S16+'Ա. Մնացականյան'!S16 -> #REF! | T16: =D16+E16 -> 14 | U16: =F16+K16+L16 -> 14 | V16: =K16 -> 6 | W16: =G16+H16+I16+J16 -> 6
A17: 2. ¸³ï³Ï³Ý ³Ïï»ñÇ ¨ ¹³ï³Ï³Ý Ñ³ÝÓÝ³ñ³ñáõÃÛáõÝÝ»ñÇ Ï³ï³ñÙ³Ý Ñ»ï Ï³åí³Í Ñ³ñó»ñÇ ÉáõÍÙ³Ý áÉáñï | S17: ='Ժ. Ասատրյան'!S17+#REF!+Մ.Հովակիմյան!S17+'Ն. Օհանյան'!S17+'Ա. Թումանյան'!S17+'Ա. Սարդարյան'!S17+'Ի. Բեգլարյան'!S17+'Ա. Մնացականյան'!S17 -> #REF! | T17: =D17+E17 -> 0 | V17: =K17 -> 0 | W17: =G17+H17+I17+J17 -> 0
A18: 1 | B18: å³ïÅÇó å³ÛÙ³Ý³Ï³Ý í³Õ³Å³ÙÏ»ï ³½³ï»Éáõ Ù³ëÇÝ ÙÇçÝáñ¹áõÃÛáõÝÝ»ñ | D18: =SUM('Ժ. Ասատրյան:Ա. Մնացականյան'!D18) -> 0 | E18: =SUM('Ժ. Ասատրյան:Ա. Մնացականյան'!E18) -> 1 | F18: =SUM('Ժ. Ասատրյան:Ա. Մնացականյան'!F18) -> 0 | G18: =SUM('Ժ. Ասատրյան:Ա. Մնացականյան'!G18) -> 1 | H18: =SUM('Ժ. Ասատրյան:Ա. Մնացականյան'!H18) -> 0 | I18: =SUM('Ժ. Ասատրյան:Ա. Մնացականյան'!I18) -> 0 | J18: =SUM('Ժ. Ասատրյան:Ա. Մնացականյան'!J18) -> 0 | K18: =SUM('Ժ. Ասատրյան:Ա. Մնացականյան'!K18) -> 1 | ... R18: =SUM('Ժ. Ասատրյան:Ա. Մնացականյան'!R18) -> 1 | S18: ='Ժ. Ասատրյան'!S18+#REF!+Մ.Հովակիմյան!S18+'Ն. Օհանյան'!S18+'Ա. Թումանյան'!S18+'Ա. Սարդարյան'!S18+'Ի. Բեգլարյան'!S18+'Ա. Մնացականյան'!S18 -> #REF! | T18: =D18+E18 -> 1 | U18: =F18+K18+L18 -> 1 | V18: =K18 -> 1 | W18: =G18+H18+I18+J18 -> 1
A19: 2 | B19: å³ïÇÅÁ ÷á÷áË»Éáõ, Ñ»ï³Ó·»Éáõ ¨ å³ïÅÇó ³½³ï»Éáõ Ù³uÇÝ ÙÇçÝáñ¹áõÃÛáõÝÝ»ñ | D19: =SUM('Ժ. Ասատրյան:Ա. Մնացականյան'!D19) -> 0 | E19: =SUM('Ժ. Ասատրյան:Ա. Մնացականյան'!E19) -> 1 | F19: =SUM('Ժ. Ասատրյան:Ա. Մնացականյան'!F19) -> 0 | G19: =SUM('Ժ. Ասատրյան:Ա. Մնացականյան'!G19) -> 0 | H19: =SUM('Ժ. Ասատրյան:Ա. Մնացականյան'!H19) -> 0 | I19: =SUM('Ժ. Ասատրյան:Ա. Մնացականյան'!I19) -> 0 | J19: =SUM('Ժ. Ասատրյան:Ա. Մնացականյան'!J19) -> 0 | K19: =SUM('Ժ. Ասատրյան:Ա. Մնացականյան'!K19) -> 0 | ... R19: =SUM('Ժ. Ասատրյան:Ա. Մնացականյան'!R19) -> 0 | S19: ='Ժ. Ասատրյան'!S19+#REF!+Մ.Հովակիմյան!S19+'Ն. Օհանյան'!S19+'Ա. Թումանյան'!S19+'Ա. Սարդարյան'!S19+'Ի. Բեգլարյան'!S19+'Ա. Մնացականյան'!S19 -> #REF! | T19: =D19+E19 -> 1 | U19: =F19+K19+L19 -> 1 | V19: =K19 -> 0 | W19: =G19+H19+I19+J19 -> 0
A20: 3 | B20: Ñ³ñÏ³¹Çñ µáõÅÙ³Ý ï»ë³ÏÇ ÷á÷áËáõÃÛ³Ý Ù³ëÇÝ ÙÇçÝáñ¹áõÃÛáõÝÝ»ñ | D20: =SUM('Ժ. Ասատրյան:Ա. Մնացականյան'!D20) -> 0 | E20: =SUM('Ժ. Ասատրյան:Ա. Մնացականյան'!E20) -> 1 | F20: =SUM('Ժ. Ասատրյան:Ա. Մնացականյան'!F20) -> 0 | G20: =SUM('Ժ. Ասատրյան:Ա. Մնացականյան'!G20) -> 1 | H20: =SUM('Ժ. Ասատրյան:Ա. Մնացականյան'!H20) -> 0 | I20: =SUM('Ժ. Ասատրյան:Ա. Մնացականյան'!I20) -> 0 | J20: =SUM('Ժ. Ասատրյան:Ա. Մնացականյան'!J20) -> 0 | K20: =SUM('Ժ. Ասատրյան:Ա. Մնացականյան'!K20) -> 1 | ... R20: =SUM('Ժ. Ասատրյան:Ա. Մնացականյան'!R20) -> 0 | S20: ='Ժ. Ասատրյան'!S20+#REF!+Մ.Հովակիմյան!S20+'Ն. Օհանյան'!S20+'Ա. Թումանյան'!S20+'Ա. Սարդարյան'!S20+'Ի. Բեգլարյան'!S20+'Ա. Մնացականյան'!S20 -> #REF! | T20: =D20+E20 -> 1 | U20: =F20+K20+L20 -> 1 | V20: =K20 -> 1 | W20: =G20+H20+I20+J20 -> 1
A21: 4 | B21: ³ÛÉ ÙÇçÝáñ¹áõÃÛáõÝÝ»ñ | D21: =SUM('Ժ. Ասատրյան:Ա. Մնացականյան'!D21) -> 0 | E21: =SUM('Ժ. Ասատրյան:Ա. Մնացականյան'!E21) -> 6 | F21: =SUM('Ժ. Ասատրյան:Ա. Մնացականյան'!F21) -> 0 | G21: =SUM('Ժ. Ասատրյան:Ա. Մնացականյան'!G21) -> 1 | H21: =SUM('Ժ. Ասատրյան:Ա. Մնացականյան'!H21) -> 4 | I21: =SUM('Ժ. Ասատրյան:Ա. Մնացականյան'!I21) -> 1 | J21: =SUM('Ժ. Ասատրյան:Ա. Մնացականյան'!J21) -> 0 | K21: =SUM('Ժ. Ասատրյան:Ա. Մնացականյան'!K21) -> 6 | ... R21: =SUM('Ժ. Ասատրյան:Ա. Մնացականյան'!R21) -> 0 | S21: ='Ժ. Ասատրյան'!S21+#REF!+Մ.Հովակիմյան!S21+'Ն. Օհանյան'!S21+'Ա. Թումանյան'!S21+'Ա. Սարդարյան'!S21+'Ի. Բեգլարյան'!S21+'Ա. Մնացականյան'!S21 -> #REF! | T21: =D21+E21 -> 6 | U21: =F21+K21+L21 -> 6 | V21: =K21 -> 6 | W21: =G21+H21+I21+J21 -> 6
A22: 5 | B22: ¹³ï³Ï³Ý Ñ³ÝÓÝ³ñ³ñáõÃÛáõÝÝ»ñ | D22: =SUM('Ժ. Ասատրյան:Ա. Մնացականյան'!D22) -> 5 | E22: =SUM('Ժ. Ասատրյան:Ա. Մնացականյան'!E22) -> 3 | F22: =SUM('Ժ. Ասատրյան:Ա. Մնացականյան'!F22) -> 0 | G22: =SUM('Ժ. Ասատրյան:Ա. Մնացականյան'!G22) -> 0 | H22: =SUM('Ժ. Ասատրյան:Ա. Մնացականյան'!H22) -> 3 | I22: =SUM('Ժ. Ասատրյան:Ա. Մնացականյան'!I22) -> 0 | J22: =SUM('Ժ. Ասատրյան:Ա. Մնացականյան'!J22) -> 0 | K22: =SUM('Ժ. Ասատրյան:Ա. Մնացականյան'!K22) -> 3 | ... R22: =SUM('Ժ. Ասատրյան:Ա. Մնացականյան'!R22) -> 0 | S22: ='Ժ. Ասատրյան'!S22+#REF!+Մ.Հովակիմյան!S22+'Ն. Օհանյան'!S22+'Ա. Թումանյան'!S22+'Ա. Սարդարյան'!S22+'Ի. Բեգլարյան'!S22+'Ա. Մնացականյան'!S22 -> #REF! | T22: =D22+E22 -> 8 | U22: =F22+K22+L22 -> 8 | V22: =K22 -> 3 | W22: =G22+H22+I22+J22 -> 3
A23: ÀÜ¸²ØºÜÀ | D23: =SUM('Ժ. Ասատրյան:Ա. Մնացականյան'!D23) -> 5 | E23: =SUM('Ժ. Ասատրյան:Ա. Մնացականյան'!E23) -> 308 | F23: =SUM('Ժ. Ասատրյան:Ա. Մնացականյան'!F23) -> 1 | G23: =SUM('Ժ. Ասատրյան:Ա. Մնացականյան'!G23) -> 65 | H23: =SUM('Ժ. Ասատրյան:Ա. Մնացականյան'!H23) -> 228 | I23: =SUM('Ժ. Ասատրյան:Ա. Մնացականյան'!I23) -> 4 | J23: =SUM('Ժ. Ասատրյան:Ա. Մնացականյան'!J23) -> 2 | K23: =SUM('Ժ. Ասատրյան:Ա. Մնացականյան'!K23) -> 299 | ... R23: =SUM('Ժ. Ասատրյան:Ա. Մնացականյան'!R23) -> 18 | S23: ='Ժ. Ասատրյան'!S23+#REF!+Մ.Հովակիմյան!S23+'Ն. Օհանյան'!S23+'Ա. Թումանյան'!S23+'Ա. Սարդարյան'!S23+'Ի. Բեգլարյան'!S23+'Ա. Մնացականյան'!S23 -> #REF! | T23: =D23+E23 -> 313 | U23: =F23+K23+L23 -> 313 | V23: =K23 -> 299 | W23: =G23+H23+I23+J23 -> 299

Sheet Ժ. Ասատրյան
A1: 2016Ã. 1-ԻՆ ԿԻՍԱՄՅԱԿ | D1: Ð²ÞìºîìàôÂÚàôÜ | P1: Ð³í»Éí³Í Ð³Û³ëï³ÝÇ Ð³Ýñ³å»ïáõÃÛ³Ý ¸³ï³ñ³ÝÝ»ñÇ Ý³Ë³·³ÑÝ»ñÇ ËáñÑñ¹Ç 25.08.2016Ã. ÃÇí 44-È áñáßÙ³Ý
A2: ØÇÝã¹³ï³Ï³Ý í³ñáõÛÃÇ ÝÏ³ïÙ³Ùµ ¹³ï³Ï³Ý í»ñ³ÑëÏáÕáõÃÛ³ÝÁ, ¹³ï³Ï³Ý ³Ïï»ñÇ ¨ ¹³ï³Ï³Ý Ñ³ÝÓÝ³ñ³ñáõÃÛáõÝÝ»ñÇ Ï³ï³ñÙ³Ý Ñ»ï Ï³åí³Í ÙÇçÝáñ¹áõÃÛáõÝÝ»ñÇ í»ñ³µ»ñÛ³É ¹³ï³Ï³Ý ·áñÍ»ñáí ÐÐ êÛáõÝÇùÇ Ù³ñ½Ç ÁÝ¹Ñ³Ýáõñ Çñ³í³ëáõÃÛ³Ý ³é³çÇÝ ³ïÛ³ÝÇ ¹³ï³ñ³ÝÇ ¹³ï³íáñ Ժ. Ասատրյան ·áñÍáõÝ»áõÃÛ³Ý í»ñ³µ»ñÛ³É
A3: êïáõ·Çã Ñ³í³ë³ñáõÙ` 1+2=3+8+9, 8=4+5+6+7, | D3: Ð³ßí»ïáõ Å³Ù³Ý³Ï³Ñ³ïí³ÍÇ ëÏ½µáõÙ Ý³Ëáñ¹ Ñ³ßí»ïáõ Å³Ù³Ý³Ï³Ñ³ïí³ÍÇó ÷áË³Ýóí³Í ·áñÍ»ñÇ ÁÝ¹Ñ³Ýáõñ ÃÇíÁ | E3: Ð³ßí»ïáõ Å³Ù³Ý³Ï³Ñ³ïí³ÍáõÙ ëï³óí³Í ·áñÍ»ñÇ ÁÝ¹Ñ³Ýáõñ ÃÇíÁ | F3: öáË³Ýóí»É ¿ ³ÛÉ ¹³ï³íáñÇ Ï³Ù ³ÛÉ ¹³ï³ñ³Ý (Ï³½ÙÇ ÷á÷áËáõÃÛáõÝ, ÁÝ¹¹³ïáõÃÛáõÝ) | G3: Ð³ßí»ïáõ Å³Ù³Ý³Ï³Ñ³ïí³ÍáõÙ ³í³ñïí³Í ·áñÍ»ñÇ ÁÝ¹Ñ³Ýáõñ ÃÇíÁ | L3: Ð³ßí»ïáõ Å³Ù³Ý³Ï³Ñ³ïí³ÍáõÙ ³Ý³í³ñï ·áñÍ»ñÇ ÁÝ¹Ñ³Ýáõñ ÃÇíÁ | M3: ØÇçÝáñ¹áõÃÛáõÝÝ»ñáí Ï³Û³óí³Í ¹³ï³Ï³Ý ³Ïï»ñÇó µáÕáù³ñÏí³ÍÝ»ñÇ ù³Ý³ÏÁ | O3: ²Ý³í³ñï µáÕáùÝ»ñ | P3: ØÇçÝáñ¹áõÃÛáõÝÝ»ñáí Ï³Û³óí³Í ¨ µáÕáù³ñÏí³Í ¹³ï³Ï³Ý ³Ïï»ñÇó µ»Ï³Ýí³ÍÝ»ñÇ ù³Ý³ÏÁ | R3: ÙÇçÝáñ¹áõÃÛáõÝÝ»ñáí Ï³Û³óí³Í ¨ µáÕáù³ñÏí³Í ¹³ï³Ï³Ý ³Ïï»ñÇó ³Ý÷á÷áË ÃáÕÝí³ÍÝ»ñÇ ù³Ý³ÏÁ
G4: Ù»ñÅí»É ¿ | H4: µ³í³ñ³ñí»É ¿ | I4: µ³í³ñ³ñí»É ¿ Ù³ëÝ³ÏÇ | J4: ÃáÕÝí»É ¿ ³é³Ýó ùÝÝáõÃÛ³Ý | K4: ÀÝ¹³Ù»ÝÁ
M5: Ý³Ëáñ¹ ï³ñÇÝ»ñÇÝ Ï³Û³óí³Í ³Ïï»ñÇ ¹»Ù | N5: Ñ³ßí»ïáõ Å³Ù³Ý³Ï³ßñç³ÝáõÙ Ï³Û³óí³Í ³Ïï»ñÇ ¹»Ù | P5: Ý³Ëáñ¹ ï³ñÇÝ»ñÇÝ Ï³Û³óí³Í ³Ïï»ñÇ µ»Ï³ÝáõÙÝ»ñÁ | Q5: Ñ³ßí»ïáõ Å³Ù³Ý³Ï³ßñç³ÝáõÙ Ï³Û³óí³Í ³Ïï»ñÇ µ»Ï³ÝáõÙÝ»ñÁ
A6: 1. ØÇÝã¹³ï³Ï³Ý í³ñáõÛÃÇ ÝÏ³ïÙ³Ùµ ¹³ï³Ï³Ý í»ñ³ÑëÏáÕáõÃÛ³Ý áÉáñï | D6: 1 | E6: 2 | F6: 3 | G6: 4 | H6: 5 | I6: 6 | J6: 7 | K6: 8 | L6: 9 | M6: 10 | N6: 11 | O6: 12 | P6: 13 | Q6: 14 | R6: 15 | T6: 1+2=3+8+9 | V6: 8=4+5+6+7
A7: 1 | B7: Ï³É³ÝùÁ áñå»ë Ë³÷³ÝÙ³Ý ÙÇçáó ÏÇñ³é»Éáõ Ù³ëÇÝ ÙÇçÝáñ¹áõÃÛáõÝÝ»ñ | E7: 2 | H7: 2 | K7: 2 | N7: 1 | O7: 1 | T7: =D7+E7 -> 2 | U7: =F7+K7+L7 -> 2 | V7: =K7 -> 2 | W7: =G7+H7+I7+J7 -> 2
A8: 2 | B8: Ï³É³ÝùÇ Å³ÙÏ»ïÁ »ñÏ³ñ³óÝ»Éáõ Ù³ëÇÝ ÙÇçÝáñ¹áõÃÛáõÝÝ»ñ | E8: 1 | H8: 1 | K8: 1 | T8: =D8+E8 -> 1 | U8: =F8+K8+L8 -> 1 | V8: =K8 -> 1 | W8: =G8+H8+I8+J8 -> 1
A9: 3 | B9: Ï³É³ÝùÇ í»ñ³Ñ³ëï³ïÙ³Ý Ù³ëÇÝ ÙÇçÝáñ¹áõÃÛáõÝÝ»ñ | T9: =D9+E9 -> 0 | U9: =F9+K9+L9 -> 0 | V9: =K9 -> 0 | W9: =G9+H9+I9+J9 -> 0
A10: 4 | B10: ·ñ³íÁ áñå»ë Ï³É³Ý³íáñÙ³Ý ³ÛÉÁÝïñ³Ýù³ÛÇÝ Ë³÷³ÝÙ³Ý ÙÇçáó ÏÇñ³é»Éáõ Ù³ëÇÝ ÙÇçÝáñ¹áõÃÛáõÝÝ»ñ | E10: 1 | G10: 1 | K10: 1 | T10: =D10+E10 -> 1 | U10: =F10+K10+L10 -> 1 | V10: =K10 -> 1 | W10: =G10+H10+I10+J10 -> 1
A11: 5 | B11: Ëáõ½³ñÏáõÃÛ³Ý Ï³ï³ñÙ³Ý Ù³ëÇÝ ÙÇçÝáñ¹áõÃÛáõÝÝ»ñ | E11: 1 | G11: 0 | H11: 1 | K11: 1 | T11: =D11+E11 -> 1 | U11: =F11+K11+L11 -> 1 | V11: =K11 -> 1 | W11: =G11+H11+I11+J11 -> 1
A12: 6 | B12: µ³ÝÏ³ÛÇÝ, ³å³Ñáí³·ñ³Ï³Ý, Ýáï³ñ³Ï³Ý ·³ÕïÝÇù Ï³½ÙáÕ ï»Õ»ÏáõÃÛáõÝÝ»ñÇ ëï³óÙ³Ý Ñ³Ù³ñ Ëáõ½³ñÏáõÃÛ³Ý Ï³Ù ³é·ñ³íÙ³Ý Ï³ï³ñÙ³Ý Ù³ëÇÝ ÙÇçÝáñ¹áõÃÛáõÝÝ»ñ | T12: =D12+E12 -> 0 | U12: =F12+K12+L12 -> 0 | V12: =K12 -> 0 | W12: =G12+H12+I12+J12 -> 0
A13: 7 | B13: Ý³Ù³Ï³·ñáõÃÛ³Ý, Ñ»é³·ñ³Ï³Ý, ÷áuï³ÛÇÝ Ñ³Õáñ¹áõÙÝ»ñÇ ÑëÏáÕáõÃÛ³Ý Ù³ëÇÝ ÙÇçÝáñ¹áõÃÛáõÝÝ»ñ | T13: =D13+E13 -> 0 | U13: =F13+K13+L13 -> 0 | V13: =K13 -> 0 | W13: =G13+H13+I13+J13 -> 0
A14: 8 | B14: Ñ»é³Ëáu³ÛÇÝ Ï³Ù Ï³åÇ ³ÛÉ ÙÇçáóÝ»ñáí ï³ñíáÕ Ëáu³ÏóáõÃÛáõÝÝ»ñÇ ÉuÙ³Ý ¨ Ó³ÛÝ³·ñ³éÙ³Ý Ù³ëÇÝ ÙÇçÝáñ¹áõÃÛáõÝÝ»ñ | T14: =D14+E14 -> 0 | U14: =F14+K14+L14 -> 0 | V14: =K14 -> 0 | W14: =G14+H14+I14+J14 -> 0
A15: 9 | B15: Ñ»é³ËáëÝ»ñÇ Ùáõïù³ÛÇÝ ¨ »Éù³ÛÇÝ í»ñÍ³ÝÙ³Ý ÃáõÛÉïíáõÃÛáõÝ ëï³Ý³Éáõ Ù³ëÇÝ ÙÇçÝáñ¹áõÃÛáõÝÝ»ñ | E15: 4 | H15: 4 | K15: 4 | T15: =D15+E15 -> 4 | U15: =F15+K15+L15 -> 4 | V15: =K15 -> 4 | W15: =G15+H15+I15+J15 -> 4
A16: 10 | B16: Ñ»ï³ùÝÝáõÃÛ³Ý Ù³ñÙÝÇ ³ßË³ïáÕÇ, ùÝÝÇãÇ, ¹³ï³Ë³½Ç oå»ñ³ïÇí-Ñ»ï³Ëáõ½³Ï³Ý ·áñÍáÕáõÃÛáõÝÝ»ñ Çñ³Ï³Ý³óÝáÕ Ù³ñÙÇÝÝ»ñÇ ³ÝoñÇÝ³Ï³Ý ¨ ³ÝÑÇÙÝ áñáßáõÙÝ»ñÇ ¨ ·áñÍáÕáõÃÛáõÝÝ»ñÇ ¹»Ù µáÕáùÝ»ñ | T16: =D16+E16 -> 0 | U16: =F16+K16+L16 -> 0 | V16: =K16 -> 0 | W16: =G16+H16+I16+J16 -> 0
A17: 2. ¸³ï³Ï³Ý ³Ïï»ñÇ ¨ ¹³ï³Ï³Ý Ñ³ÝÓÝ³ñ³ñáõÃÛáõÝÝ»ñÇ Ï³ï³ñÙ³Ý Ñ»ï Ï³åí³Í Ñ³ñó»ñÇ ÉáõÍÙ³Ý áÉáñï
A18: 1 | B18: å³ïÅÇó å³ÛÙ³Ý³Ï³Ý í³Õ³Å³ÙÏ»ï ³½³ï»Éáõ Ù³ëÇÝ ÙÇçÝáñ¹áõÃÛáõÝÝ»ñ | T18: =J18+K18 -> 0 | U18: =F18+K18+L18 -> 0 | V18: =P18 -> 0 | W18: =L18+M18+N18+O18 -> 0
A19: 2 | B19: å³ïÇÅÁ ÷á÷áË»Éáõ, Ñ»ï³Ó·»Éáõ ¨ å³ïÅÇó ³½³ï»Éáõ Ù³uÇÝ ÙÇçÝáñ¹áõÃÛáõÝÝ»ñ | T19: =J19+K19 -> 0 | U19: =F19+K19+L19 -> 0 | V19: =P19 -> 0 | W19: =L19+M19+N19+O19 -> 0
A20: 3 | B20: Ñ³ñÏ³¹Çñ µáõÅÙ³Ý ï»ë³ÏÇ ÷á÷áËáõÃÛ³Ý Ù³ëÇÝ ÙÇçÝáñ¹áõÃÛáõÝÝ»ñ | T20: =J20+K20 -> 0 | U20: =F20+K20+L20 -> 0 | V20: =P20 -> 0 | W20: =L20+M20+N20+O20 -> 0
A21: 4 | B21: ³ÛÉ ÙÇçÝáñ¹áõÃÛáõÝÝ»ñ | T21: =J21+K21 -> 0 | U21: =F21+K21+L21 -> 0 | V21: =P21 -> 0 | W21: =L21+M21+N21+O21 -> 0
A22: 5 | B22: ¹³ï³Ï³Ý Ñ³ÝÓÝ³ñ³ñáõÃÛáõÝÝ»ñ | D22: 1 | E22: 1 | H22: 1 | K22: 1 | L22: 1 | T22: =J22+K22 -> 1 | U22: =F22+K22+L22 -> 2 | V22: =P22 -> 0 | W22: =L22+M22+N22+O22 -> 1
A23: ÀÜ¸²ØºÜÀ | D23: =D7+D8+D9+D10+D11+D12+D13+D14+D15+D16+D18+D19+D20+D21+D22 -> 1 | E23: =E7+E8+E9+E10+E11+E12+E13+E14+E15+E16+E18+E19+E20+E21+E22 -> 10 | F23: =F7+F8+F9+F10+F11+F12+F13+F14+F15+F16+F18+F19+F20+F21+F22 -> 0 | G23: =G7+G8+G9+G10+G11+G12+G13+G14+G15+G16+G18+G19+G20+G21+G22 -> 1 | H23: =H7+H8+H9+H10+H11+H12+H13+H14+H15+H16+H18+H19+H20+H21+H22 -> 9 | I23: =I7+I8+I9+I10+I11+I12+I13+I14+I15+I16+I18+I19+I20+I21+I22 -> 0 | J23: =J7+J8+J9+J10+J11+J12+J13+J14+J15+J16+J18+J19+J20+J21+J22 -> 0 | K23: =K7+K8+K9+K10+K11+K12+K13+K14+K15+K16+K18+K19+K20+K21+K22 -> 10 | ... R23: =R7+R8+R9+R10+R11+R12+R13+R14+R15+R16+R18+R19+R20+R21+R22 -> 0 | T23: =SUM(T7:T16,T18:T22) -> 10 | U23: =F23+K23+L23 -> 11 | V23: =SUM(V7:V16,V18:V22) -> 9 | W23: =SUM(W7:W16,W18:W22) -> 10

Sheet Մ.Հովակիմյան
A1: 2016Ã. 1-ԻՆ ԿԻՍԱՄՅԱԿ | D1: Ð²ÞìºîìàôÂÚàôÜ | P1: Ð³í»Éí³Í Ð³Û³ëï³ÝÇ Ð³Ýñ³å»ïáõÃÛ³Ý ¸³ï³ñ³ÝÝ»ñÇ Ý³Ë³·³ÑÝ»ñÇ ËáñÑñ¹Ç 25.08.2016Ã. ÃÇí 44-È áñáßÙ³Ý
A2: ØÇÝã¹³ï³Ï³Ý í³ñáõÛÃÇ ÝÏ³ïÙ³Ùµ ¹³ï³Ï³Ý í»ñ³ÑëÏáÕáõÃÛ³ÝÁ, ¹³ï³Ï³Ý ³Ïï»ñÇ ¨ ¹³ï³Ï³Ý Ñ³ÝÓÝ³ñ³ñáõÃÛáõÝÝ»ñÇ Ï³ï³ñÙ³Ý Ñ»ï Ï³åí³Í ÙÇçÝáñ¹áõÃÛáõÝÝ»ñÇ í»ñ³µ»ñÛ³É ¹³ï³Ï³Ý ·áñÍ»ñáí ÐÐ êÛáõÝÇùÇ Ù³ñ½Ç ÁÝ¹Ñ³Ýáõñ Çñ³í³ëáõÃÛ³Ý ³é³çÇÝ ³ïÛ³ÝÇ ¹³ï³ñ³ÝÇ ¹³ï³íáñ Մ.Հովակիմյան ·áñÍáõÝ»áõÃÛ³Ý í»ñ³µ»ñÛ³É
A3: êïáõ·Çã Ñ³í³ë³ñáõÙ` 1+2=3+8+9, 8=4+5+6+7, | D3: Ð³ßí»ïáõ Å³Ù³Ý³Ï³Ñ³ïí³ÍÇ ëÏ½µáõÙ Ý³Ëáñ¹ Ñ³ßí»ïáõ Å³Ù³Ý³Ï³Ñ³ïí³ÍÇó ÷áË³Ýóí³Í ·áñÍ»ñÇ ÁÝ¹Ñ³Ýáõñ ÃÇíÁ | E3: Ð³ßí»ïáõ Å³Ù³Ý³Ï³Ñ³ïí³ÍáõÙ ëï³óí³Í ·áñÍ»ñÇ ÁÝ¹Ñ³Ýáõñ ÃÇíÁ | F3: öáË³Ýóí»É ¿ ³ÛÉ ¹³ï³íáñÇ Ï³Ù ³ÛÉ ¹³ï³ñ³Ý (Ï³½ÙÇ ÷á÷áËáõÃÛáõÝ, ÁÝ¹¹³ïáõÃÛáõÝ) | G3: Ð³ßí»ïáõ Å³Ù³Ý³Ï³Ñ³ïí³ÍáõÙ ³í³ñïí³Í ·áñÍ»ñÇ ÁÝ¹Ñ³Ýáõñ ÃÇíÁ | L3: Ð³ßí»ïáõ Å³Ù³Ý³Ï³Ñ³ïí³ÍáõÙ ³Ý³í³ñï ·áñÍ»ñÇ ÁÝ¹Ñ³Ýáõñ ÃÇíÁ | M3: ØÇçÝáñ¹áõÃÛáõÝÝ»ñáí Ï³Û³óí³Í ¹³ï³Ï³Ý ³Ïï»ñÇó µáÕáù³ñÏí³ÍÝ»ñÇ ù³Ý³ÏÁ | O3: ²Ý³í³ñï µáÕáùÝ»ñ | P3: ØÇçÝáñ¹áõÃÛáõÝÝ»ñáí Ï³Û³óí³Í ¨ µáÕáù³ñÏí³Í ¹³ï³Ï³Ý ³Ïï»ñÇó µ»Ï³Ýí³ÍÝ»ñÇ ù³Ý³ÏÁ | R3: ÙÇçÝáñ¹áõÃÛáõÝÝ»ñáí Ï³Û³óí³Í ¨ µáÕáù³ñÏí³Í ¹³ï³Ï³Ý ³Ïï»ñÇó ³Ý÷á÷áË ÃáÕÝí³ÍÝ»ñÇ ù³Ý³ÏÁ
G4: Ù»ñÅí»É ¿ | H4: µ³í³ñ³ñí»É ¿ | I4: µ³í³ñ³ñí»É ¿ Ù³ëÝ³ÏÇ | J4: ÃáÕÝí»É ¿ ³é³Ýó ùÝÝáõÃÛ³Ý | K4: ÀÝ¹³Ù»ÝÁ
M5: Ý³Ëáñ¹ ï³ñÇÝ»ñÇÝ Ï³Û³óí³Í ³Ïï»ñÇ ¹»Ù | N5: Ñ³ßí»ïáõ Å³Ù³Ý³Ï³ßñç³ÝáõÙ Ï³Û³óí³Í ³Ïï»ñÇ ¹»Ù | P5: Ý³Ëáñ¹ ï³ñÇÝ»ñÇÝ Ï³Û³óí³Í ³Ïï»ñÇ µ»Ï³ÝáõÙÝ»ñÁ | Q5: Ñ³ßí»ïáõ Å³Ù³Ý³Ï³ßñç³ÝáõÙ Ï³Û³óí³Í ³Ïï»ñÇ µ»Ï³ÝáõÙÝ»ñÁ
A6: 1. ØÇÝã¹³ï³Ï³Ý í³ñáõÛÃÇ ÝÏ³ïÙ³Ùµ ¹³ï³Ï³Ý í»ñ³ÑëÏáÕáõÃÛ³Ý áÉáñï | D6: 1 | E6: 2 | F6: 3 | G6: 4 | H6: 5 | I6: 6 | J6: 7 | K6: 8 | L6: 9 | M6: 10 | N6: 11 | O6: 12 | P6: 13 | Q6: 14 | R6: 15 | T6: 1+2=3+8+9 | V6: 8=4+5+6+7
A7: 1 | B7: Ï³É³ÝùÁ áñå»ë Ë³÷³ÝÙ³Ý ÙÇçáó ÏÇñ³é»Éáõ Ù³ëÇÝ ÙÇçÝáñ¹áõÃÛáõÝÝ»ñ | D7: 0 | E7: 8 | G7: 4 | H7: 4 | K7: 8 | N7: 6 | O7: 1 | Q7: 2 | R7: 3 | T7: =D7+E7 -> 8 | U7: =F7+K7+L7 -> 8 | V7: =K7 -> 8 | W7: =G7+H7+I7+J7 -> 8
A8: 2 | B8: Ï³É³ÝùÇ Å³ÙÏ»ïÁ »ñÏ³ñ³óÝ»Éáõ Ù³ëÇÝ ÙÇçÝáñ¹áõÃÛáõÝÝ»ñ | D8: 0 | E8: 1 | G8: 1 | K8: 1 | N8: 1 | O8: 1 | T8: =D8+E8 -> 1 | U8: =F8+K8+L8 -> 1 | V8: =K8 -> 1 | W8: =G8+H8+I8+J8 -> 1
A9: 3 | B9: Ï³É³ÝùÇ í»ñ³Ñ³ëï³ïÙ³Ý Ù³ëÇÝ ÙÇçÝáñ¹áõÃÛáõÝÝ»ñ | D9: 0 | E9: 1 | G9: 1 | K9: 1 | T9: =D9+E9 -> 1 | U9: =F9+K9+L9 -> 1 | V9: =K9 -> 1 | W9: =G9+H9+I9+J9 -> 1
A10: 4 | B10: ·ñ³íÁ áñå»ë Ï³É³Ý³íáñÙ³Ý ³ÛÉÁÝïñ³Ýù³ÛÇÝ Ë³÷³ÝÙ³Ý ÙÇçáó ÏÇñ³é»Éáõ Ù³ëÇÝ ÙÇçÝáñ¹áõÃÛáõÝÝ»ñ | D10: 0 | E10: 5 | G10: 5 | K10: 5 | T10: =D10+E10 -> 5 | U10: =F10+K10+L10 -> 5 | V10: =K10 -> 5 | W10: =G10+H10+I10+J10 -> 5
A11: 5 | B11: Ëáõ½³ñÏáõÃÛ³Ý Ï³ï³ñÙ³Ý Ù³ëÇÝ ÙÇçÝáñ¹áõÃÛáõÝÝ»ñ | D11: 0 | E11: 8 | G11: 1 | H11: 7 | K11: 8 | T11: =D11+E11 -> 8 | U11: =F11+K11+L11 -> 8 | V11: =K11 -> 8 | W11: =G11+H11+I11+J11 -> 8
A12: 6 | B12: µ³ÝÏ³ÛÇÝ, ³å³Ñáí³·ñ³Ï³Ý, Ýáï³ñ³Ï³Ý ·³ÕïÝÇù Ï³½ÙáÕ ï»Õ»ÏáõÃÛáõÝÝ»ñÇ ëï³óÙ³Ý Ñ³Ù³ñ Ëáõ½³ñÏáõÃÛ³Ý Ï³Ù ³é·ñ³íÙ³Ý Ï³ï³ñÙ³Ý Ù³ëÇÝ ÙÇçÝáñ¹áõÃÛáõÝÝ»ñ | T12: =D12+E12 -> 0 | U12: =F12+K12+L12 -> 0 | V12: =K12 -> 0 | W12: =G12+H12+I12+J12 -> 0
A13: 7 | B13: Ý³Ù³Ï³·ñáõÃÛ³Ý, Ñ»é³·ñ³Ï³Ý, ÷áuï³ÛÇÝ Ñ³Õáñ¹áõÙÝ»ñÇ ÑëÏáÕáõÃÛ³Ý Ù³ëÇÝ ÙÇçÝáñ¹áõÃÛáõÝÝ»ñ | T13: =D13+E13 -> 0 | U13: =F13+K13+L13 -> 0 | V13: =K13 -> 0 | W13: =G13+H13+I13+J13 -> 0
A14: 8 | B14: Ñ»é³Ëáu³ÛÇÝ Ï³Ù Ï³åÇ ³ÛÉ ÙÇçáóÝ»ñáí ï³ñíáÕ Ëáu³ÏóáõÃÛáõÝÝ»ñÇ ÉuÙ³Ý ¨ Ó³ÛÝ³·ñ³éÙ³Ý Ù³ëÇÝ ÙÇçÝáñ¹áõÃÛáõÝÝ»ñ | T14: =D14+E14 -> 0 | U14: =F14+K14+L14 -> 0 | V14: =K14 -> 0 | W14: =G14+H14+I14+J14 -> 0
A15: 9 | B15: Ñ»é³ËáëÝ»ñÇ Ùáõïù³ÛÇÝ ¨ »Éù³ÛÇÝ í»ñÍ³ÝÙ³Ý ÃáõÛÉïíáõÃÛáõÝ ëï³Ý³Éáõ Ù³ëÇÝ ÙÇçÝáñ¹áõÃÛáõÝÝ»ñ | D15: 0 | E15: 12 | H15: 12 | K15: 12 | T15: =D15+E15 -> 12 | U15: =F15+K15+L15 -> 12 | V15: =K15 -> 12 | W15: =G15+H15+I15+J15 -> 12
A16: 10 | B16: Ñ»ï³ùÝÝáõÃÛ³Ý Ù³ñÙÝÇ ³ßË³ïáÕÇ, ùÝÝÇãÇ, ¹³ï³Ë³½Ç oå»ñ³ïÇí-Ñ»ï³Ëáõ½³Ï³Ý ·áñÍáÕáõÃÛáõÝÝ»ñ Çñ³Ï³Ý³óÝáÕ Ù³ñÙÇÝÝ»ñÇ ³ÝoñÇÝ³Ï³Ý ¨ ³ÝÑÇÙÝ áñáßáõÙÝ»ñÇ ¨ ·áñÍáÕáõÃÛáõÝÝ»ñÇ ¹»Ù µáÕáùÝ»ñ | T16: =D16+E16 -> 0 | U16: =F16+K16+L16 -> 0 | V16: =K16 -> 0 | W16: =G16+H16+I16+J16 -> 0
A17: 2. ¸³ï³Ï³Ý ³Ïï»ñÇ ¨ ¹³ï³Ï³Ý Ñ³ÝÓÝ³ñ³ñáõÃÛáõÝÝ»ñÇ Ï³ï³ñÙ³Ý Ñ»ï Ï³åí³Í Ñ³ñó»ñÇ ÉáõÍÙ³Ý áÉáñï
A18: 1 | B18: å³ïÅÇó å³ÛÙ³Ý³Ï³Ý í³Õ³Å³ÙÏ»ï ³½³ï»Éáõ Ù³ëÇÝ ÙÇçÝáñ¹áõÃÛáõÝÝ»ñ | T18: =J18+K18 -> 0 | U18: =F18+K18+L18 -> 0 | V18: =P18 -> 0 | W18: =L18+M18+N18+O18 -> 0
A19: 2 | B19: å³ïÇÅÁ ÷á÷áË»Éáõ, Ñ»ï³Ó·»Éáõ ¨ å³ïÅÇó ³½³ï»Éáõ Ù³uÇÝ ÙÇçÝáñ¹áõÃÛáõÝÝ»ñ | T19: =J19+K19 -> 0 | U19: =F19+K19+L19 -> 0 | V19: =P19 -> 0 | W19: =L19+M19+N19+O19 -> 0
A20: 3 | B20: Ñ³ñÏ³¹Çñ µáõÅÙ³Ý ï»ë³ÏÇ ÷á÷áËáõÃÛ³Ý Ù³ëÇÝ ÙÇçÝáñ¹áõÃÛáõÝÝ»ñ | T20: =J20+K20 -> 0 | U20: =F20+K20+L20 -> 0 | V20: =P20 -> 0 | W20: =L20+M20+N20+O20 -> 0
A21: 4 | B21: ³ÛÉ ÙÇçÝáñ¹áõÃÛáõÝÝ»ñ | D21: 0 | E21: 2 | F21: 0 | G21: 0 | H21: 2 | I21: 0 | J21: 0 | K21: 2 | L21: 0 | M21: 0 | N21: 0 | O21: 0 | P21: 0 | Q21: 0 | R21: 0 | T21: =J21+K21 -> 2 | U21: =F21+K21+L21 -> 2 | V21: =P21 -> 0 | W21: =L21+M21+N21+O21 -> 0
A22: 5 | B22: ¹³ï³Ï³Ý Ñ³ÝÓÝ³ñ³ñáõÃÛáõÝÝ»ñ | D22: 2 | E22: 1 | L22: 3 | T22: =J22+K22 -> 0 | U22: =F22+K22+L22 -> 3 | V22: =P22 -> 0 | W22: =L22+M22+N22+O22 -> 3
A23: ÀÜ¸²ØºÜÀ | D23: =D7+D8+D9+D10+D11+D12+D13+D14+D15+D16+D18+D19+D20+D21+D22 -> 2 | E23: =E7+E8+E9+E10+E11+E12+E13+E14+E15+E16+E18+E19+E20+E21+E22 -> 38 | F23: =F7+F8+F9+F10+F11+F12+F13+F14+F15+F16+F18+F19+F20+F21+F22 -> 0 | G23: =G7+G8+G9+G10+G11+G12+G13+G14+G15+G16+G18+G19+G20+G21+G22 -> 12 | H23: =H7+H8+H9+H10+H11+H12+H13+H14+H15+H16+H18+H19+H20+H21+H22 -> 25 | I23: =I7+I8+I9+I10+I11+I12+I13+I14+I15+I16+I18+I19+I20+I21+I22 -> 0 | J23: =J7+J8+J9+J10+J11+J12+J13+J14+J15+J16+J18+J19+J20+J21+J22 -> 0 | K23: =K7+K8+K9+K10+K11+K12+K13+K14+K15+K16+K18+K19+K20+K21+K22 -> 37 | ... R23: =R7+R8+R9+R10+R11+R12+R13+R14+R15+R16+R18+R19+R20+R21+R22 -> 3 | T23: =SUM(T7:T16,T18:T22) -> 37 | U23: =F23+K23+L23 -> 40 | V23: =SUM(V7:V16,V18:V22) -> 35 | W23: =SUM(W7:W16,W18:W22) -> 38

Sheet Ն. Օհանյան
A1: 2016Ã. 1-ԻՆ ԿԻՍԱՄՅԱԿ | D1: Ð²ÞìºîìàôÂÚàôÜ | P1: Ð³í»Éí³Í Ð³Û³ëï³ÝÇ Ð³Ýñ³å»ïáõÃÛ³Ý ¸³ï³ñ³ÝÝ»ñÇ Ý³Ë³·³ÑÝ»ñÇ ËáñÑñ¹Ç 25.08.2016Ã. ÃÇí 44-È áñáßÙ³Ý
A2: ØÇÝã¹³ï³Ï³Ý í³ñáõÛÃÇ ÝÏ³ïÙ³Ùµ ¹³ï³Ï³Ý í»ñ³ÑëÏáÕáõÃÛ³ÝÁ, ¹³ï³Ï³Ý ³Ïï»ñÇ ¨ ¹³ï³Ï³Ý Ñ³ÝÓÝ³ñ³ñáõÃÛáõÝÝ»ñÇ Ï³ï³ñÙ³Ý Ñ»ï Ï³åí³Í ÙÇçÝáñ¹áõÃÛáõÝÝ»ñÇ í»ñ³µ»ñÛ³É ¹³ï³Ï³Ý ·áñÍ»ñáí ÐÐ êÛáõÝÇùÇ Ù³ñ½Ç ÁÝ¹Ñ³Ýáõñ Çñ³í³ëáõÃÛ³Ý ³é³çÇÝ ³ïÛ³ÝÇ ¹³ï³ñ³ÝÇ ¹³ï³íáñ Ն.Օհանյան ·áñÍáõÝ»áõÃÛ³Ý í»ñ³µ»ñÛ³É
A3: êïáõ·Çã Ñ³í³ë³ñáõÙ` 1+2=3+8+9, 8=4+5+6+7, | D3: Ð³ßí»ïáõ Å³Ù³Ý³Ï³Ñ³ïí³ÍÇ ëÏ½µáõÙ Ý³Ëáñ¹ Ñ³ßí»ïáõ Å³Ù³Ý³Ï³Ñ³ïí³ÍÇó ÷áË³Ýóí³Í ·áñÍ»ñÇ ÁÝ¹Ñ³Ýáõñ ÃÇíÁ | E3: Ð³ßí»ïáõ Å³Ù³Ý³Ï³Ñ³ïí³ÍáõÙ ëï³óí³Í ·áñÍ»ñÇ ÁÝ¹Ñ³Ýáõñ ÃÇíÁ | F3: öáË³Ýóí»É ¿ ³ÛÉ ¹³ï³íáñÇ Ï³Ù ³ÛÉ ¹³ï³ñ³Ý (Ï³½ÙÇ ÷á÷áËáõÃÛáõÝ, ÁÝ¹¹³ïáõÃÛáõÝ) | G3: Ð³ßí»ïáõ Å³Ù³Ý³Ï³Ñ³ïí³ÍáõÙ ³í³ñïí³Í ·áñÍ»ñÇ ÁÝ¹Ñ³Ýáõñ ÃÇíÁ | L3: Ð³ßí»ïáõ Å³Ù³Ý³Ï³Ñ³ïí³ÍáõÙ ³Ý³í³ñï ·áñÍ»ñÇ ÁÝ¹Ñ³Ýáõñ ÃÇíÁ | M3: ØÇçÝáñ¹áõÃÛáõÝÝ»ñáí Ï³Û³óí³Í ¹³ï³Ï³Ý ³Ïï»ñÇó µáÕáù³ñÏí³ÍÝ»ñÇ ù³Ý³ÏÁ | O3: ²Ý³í³ñï µáÕáùÝ»ñ | P3: ØÇçÝáñ¹áõÃÛáõÝÝ»ñáí Ï³Û³óí³Í ¨ µáÕáù³ñÏí³Í ¹³ï³Ï³Ý ³Ïï»ñÇó µ»Ï³Ýí³ÍÝ»ñÇ ù³Ý³ÏÁ | R3: ÙÇçÝáñ¹áõÃÛáõÝÝ»ñáí Ï³Û³óí³Í ¨ µáÕáù³ñÏí³Í ¹³ï³Ï³Ý ³Ïï»ñÇó ³Ý÷á÷áË ÃáÕÝí³ÍÝ»ñÇ ù³Ý³ÏÁ
G4: Ù»ñÅí»É ¿ | H4: µ³í³ñ³ñí»É ¿ | I4: µ³í³ñ³ñí»É ¿ Ù³ëÝ³ÏÇ | J4: ÃáÕÝí»É ¿ ³é³Ýó ùÝÝáõÃÛ³Ý | K4: ÀÝ¹³Ù»ÝÁ
M5: Ý³Ëáñ¹ ï³ñÇÝ»ñÇÝ Ï³Û³óí³Í ³Ïï»ñÇ ¹»Ù | N5: Ñ³ßí»ïáõ Å³Ù³Ý³Ï³ßñç³ÝáõÙ Ï³Û³óí³Í ³Ïï»ñÇ ¹»Ù | P5: Ý³Ëáñ¹ ï³ñÇÝ»ñÇÝ Ï³Û³óí³Í ³Ïï»ñÇ µ»Ï³ÝáõÙÝ»ñÁ | Q5: Ñ³ßí»ïáõ Å³Ù³Ý³Ï³ßñç³ÝáõÙ Ï³Û³óí³Í ³Ïï»ñÇ µ»Ï³ÝáõÙÝ»ñÁ
A6: 1. ØÇÝã¹³ï³Ï³Ý í³ñáõÛÃÇ ÝÏ³ïÙ³Ùµ ¹³ï³Ï³Ý í»ñ³ÑëÏáÕáõÃÛ³Ý áÉáñï | D6: 1 | E6: 2 | F6: 3 | G6: 4 | H6: 5 | I6: 6 | J6: 7 | K6: 8 | L6: 9 | M6: 10 | N6: 11 | O6: 12 | P6: 13 | Q6: 14 | R6: 15 | T6: 1+2=3+8+9 | V6: 8=4+5+6+7
A7: 1 | B7: Ï³É³ÝùÁ áñå»ë Ë³÷³ÝÙ³Ý ÙÇçáó ÏÇñ³é»Éáõ Ù³ëÇÝ ÙÇçÝáñ¹áõÃÛáõÝÝ»ñ | D7: 0 | E7: 3 | F7: 0 | G7: 0 | H7: 3 | I7: 0 | J7: 0 | K7: 3 | L7: 0 | M7: 0 | N7: 0 | O7: 0 | P7: 0 | Q7: 0 | R7: 0 | T7: =D7+E7 -> 3 | U7: =F7+K7+L7 -> 3 | V7: =K7 -> 3 | W7: =G7+H7+I7+J7 -> 3
A8: 2 | B8: Ï³É³ÝùÇ Å³ÙÏ»ïÁ »ñÏ³ñ³óÝ»Éáõ Ù³ëÇÝ ÙÇçÝáñ¹áõÃÛáõÝÝ»ñ | D8: 0 | E8: 9 | F8: 0 | G8: 0 | H8: 9 | I8: 0 | J8: 0 | K8: 9 | L8: 0 | M8: 0 | N8: 5 | O8: 1 | P8: 0 | Q8: 1 | R8: 3 | T8: =D8+E8 -> 9 | U8: =F8+K8+L8 -> 9 | V8: =K8 -> 9 | W8: =G8+H8+I8+J8 -> 9
A9: 3 | B9: Ï³É³ÝùÇ í»ñ³Ñ³ëï³ïÙ³Ý Ù³ëÇÝ ÙÇçÝáñ¹áõÃÛáõÝÝ»ñ | D9: 0 | E9: 1 | F9: 0 | G9: 0 | H9: 1 | I9: 0 | J9: 0 | K9: 1 | L9: 0 | M9: 0 | N9: 1 | O9: 0 | P9: 0 | Q9: 0 | R9: 1 | T9: =D9+E9 -> 1 | U9: =F9+K9+L9 -> 1 | V9: =K9 -> 1 | W9: =G9+H9+I9+J9 -> 1
A10: 4 | B10: ·ñ³íÁ áñå»ë Ï³É³Ý³íáñÙ³Ý ³ÛÉÁÝïñ³Ýù³ÛÇÝ Ë³÷³ÝÙ³Ý ÙÇçáó ÏÇñ³é»Éáõ Ù³ëÇÝ ÙÇçÝáñ¹áõÃÛáõÝÝ»ñ | D10: 0 | E10: 2 | F10: 0 | G10: 2 | H10: 0 | I10: 0 | J10: 0 | K10: 2 | L10: 0 | M10: 0 | N10: 0 | O10: 0 | P10: 0 | Q10: 0 | R10: 0 | T10: =D10+E10 -> 2 | U10: =F10+K10+L10 -> 2 | V10: =K10 -> 2 | W10: =G10+H10+I10+J10 -> 2
A11: 5 | B11: Ëáõ½³ñÏáõÃÛ³Ý Ï³ï³ñÙ³Ý Ù³ëÇÝ ÙÇçÝáñ¹áõÃÛáõÝÝ»ñ | D11: 0 | E11: 7 | F11: 0 | G11: 0 | H11: 7 | I11: 0 | J11: 0 | K11: 7 | L11: 0 | M11: 0 | N11: 0 | O11: 0 | P11: 0 | Q11: 0 | R11: 0 | T11: =D11+E11 -> 7 | U11: =F11+K11+L11 -> 7 | V11: =K11 -> 7 | W11: =G11+H11+I11+J11 -> 7
A12: 6 | B12: µ³ÝÏ³ÛÇÝ, ³å³Ñáí³·ñ³Ï³Ý, Ýáï³ñ³Ï³Ý ·³ÕïÝÇù Ï³½ÙáÕ ï»Õ»ÏáõÃÛáõÝÝ»ñÇ ëï³óÙ³Ý Ñ³Ù³ñ Ëáõ½³ñÏáõÃÛ³Ý Ï³Ù ³é·ñ³íÙ³Ý Ï³ï³ñÙ³Ý Ù³ëÇÝ ÙÇçÝáñ¹áõÃÛáõÝÝ»ñ | D12: 0 | E12: 0 | F12: 0 | G12: 0 | H12: 0 | I12: 0 | J12: 0 | K12: 0 | L12: 0 | M12: 0 | N12: 0 | O12: 0 | P12: 0 | Q12: 0 | R12: 0 | T12: =D12+E12 -> 0 | U12: =F12+K12+L12 -> 0 | V12: =K12 -> 0 | W12: =G12+H12+I12+J12 -> 0
A13: 7 | B13: Ý³Ù³Ï³·ñáõÃÛ³Ý, Ñ»é³·ñ³Ï³Ý, ÷áuï³ÛÇÝ Ñ³Õáñ¹áõÙÝ»ñÇ ÑëÏáÕáõÃÛ³Ý Ù³ëÇÝ ÙÇçÝáñ¹áõÃÛáõÝÝ»ñ | D13: 0 | E13: 0 | F13: 0 | G13: 0 | H13: 0 | I13: 0 | J13: 0 | K13: 0 | L13: 0 | M13: 0 | N13: 0 | O13: 0 | P13: 0 | Q13: 0 | R13: 0 | T13: =D13+E13 -> 0 | U13: =F13+K13+L13 -> 0 | V13: =K13 -> 0 | W13: =G13+H13+I13+J13 -> 0
A14: 8 | B14: Ñ»é³Ëáu³ÛÇÝ Ï³Ù Ï³åÇ ³ÛÉ ÙÇçáóÝ»ñáí ï³ñíáÕ Ëáu³ÏóáõÃÛáõÝÝ»ñÇ ÉuÙ³Ý ¨ Ó³ÛÝ³·ñ³éÙ³Ý Ù³ëÇÝ ÙÇçÝáñ¹áõÃÛáõÝÝ»ñ | D14: 0 | E14: 1 | F14: 0 | G14: 0 | H14: 1 | I14: 0 | J14: 0 | K14: 1 | L14: 0 | M14: 0 | N14: 0 | O14: 0 | P14: 0 | Q14: 0 | R14: 0 | T14: =D14+E14 -> 1 | U14: =F14+K14+L14 -> 1 | V14: =K14 -> 1 | W14: =G14+H14+I14+J14 -> 1
A15: 9 | B15: Ñ»é³ËáëÝ»ñÇ Ùáõïù³ÛÇÝ ¨ »Éù³ÛÇÝ í»ñÍ³ÝÙ³Ý ÃáõÛÉïíáõÃÛáõÝ ëï³Ý³Éáõ Ù³ëÇÝ ÙÇçÝáñ¹áõÃÛáõÝÝ»ñ | D15: 0 | E15: 6 | F15: 0 | G15: 0 | H15: 6 | I15: 0 | J15: 0 | K15: 6 | L15: 0 | M15: 0 | N15: 0 | O15: 0 | P15: 0 | Q15: 0 | R15: 0 | T15: =D15+E15 -> 6 | U15: =F15+K15+L15 -> 6 | V15: =K15 -> 6 | W15: =G15+H15+I15+J15 -> 6
A16: 10 | B16: Ñ»ï³ùÝÝáõÃÛ³Ý Ù³ñÙÝÇ ³ßË³ïáÕÇ, ùÝÝÇãÇ, ¹³ï³Ë³½Ç oå»ñ³ïÇí-Ñ»ï³Ëáõ½³Ï³Ý ·áñÍáÕáõÃÛáõÝÝ»ñ Çñ³Ï³Ý³óÝáÕ Ù³ñÙÇÝÝ»ñÇ ³ÝoñÇÝ³Ï³Ý ¨ ³ÝÑÇÙÝ áñáßáõÙÝ»ñÇ ¨ ·áñÍáÕáõÃÛáõÝÝ»ñÇ ¹»Ù µáÕáùÝ»ñ | D16: 0 | E16: 2 | F16: 0 | G16: 1 | H16: 0 | I16: 0 | J16: 1 | K16: 2 | L16: 0 | M16: 1 | N16: 1 | O16: 1 | P16: 0 | Q16: 0 | R16: 1 | T16: =D16+E16 -> 2 | U16: =F16+K16+L16 -> 2 | V16: =K16 -> 2 | W16: =G16+H16+I16+J16 -> 2
A17: 2. ¸³ï³Ï³Ý ³Ïï»ñÇ ¨ ¹³ï³Ï³Ý Ñ³ÝÓÝ³ñ³ñáõÃÛáõÝÝ»ñÇ Ï³ï³ñÙ³Ý Ñ»ï Ï³åí³Í Ñ³ñó»ñÇ ÉáõÍÙ³Ý áÉáñï
A18: 1 | B18: å³ïÅÇó å³ÛÙ³Ý³Ï³Ý í³Õ³Å³ÙÏ»ï ³½³ï»Éáõ Ù³ëÇÝ ÙÇçÝáñ¹áõÃÛáõÝÝ»ñ | D18: 0 | E18: 0 | F18: 0 | G18: 0 | H18: 0 | I18: 0 | J18: 0 | K18: 0 | L18: 0 | M18: 0 | N18: 0 | O18: 0 | P18: 0 | Q18: 0 | R18: 0 | T18: =J18+K18 -> 0 | U18: =F18+K18+L18 -> 0 | V18: =P18 -> 0 | W18: =L18+M18+N18+O18 -> 0
A19: 2 | B19: å³ïÇÅÁ ÷á÷áË»Éáõ, Ñ»ï³Ó·»Éáõ ¨ å³ïÅÇó ³½³ï»Éáõ Ù³uÇÝ ÙÇçÝáñ¹áõÃÛáõÝÝ»ñ | D19: 0 | E19: 0 | F19: 0 | G19: 0 | H19: 0 | I19: 0 | J19: 0 | K19: 0 | L19: 0 | M19: 0 | N19: 0 | O19: 0 | P19: 0 | Q19: 0 | R19: 0 | T19: =J19+K19 -> 0 | U19: =F19+K19+L19 -> 0 | V19: =P19 -> 0 | W19: =L19+M19+N19+O19 -> 0
A20: 3 | B20: Ñ³ñÏ³¹Çñ µáõÅÙ³Ý ï»ë³ÏÇ ÷á÷áËáõÃÛ³Ý Ù³ëÇÝ ÙÇçÝáñ¹áõÃÛáõÝÝ»ñ | D20: 0 | E20: 1 | F20: 0 | G20: 1 | H20: 0 | I20: 0 | J20: 0 | K20: 1 | L20: 0 | M20: 0 | N20: 1 | O20: 0 | P20: 0 | Q20: 1 | R20: 0 | T20: =J20+K20 -> 1 | U20: =F20+K20+L20 -> 1 | V20: =P20 -> 0 | W20: =L20+M20+N20+O20 -> 1
A21: 4 | B21: ³ÛÉ ÙÇçÝáñ¹áõÃÛáõÝÝ»ñ | D21: 0 | E21: 1 | F21: 0 | G21: 0 | H21: 1 | I21: 0 | J21: 0 | K21: 1 | L21: 0 | M21: 0 | N21: 0 | O21: 0 | P21: 0 | Q21: 0 | R21: 0 | T21: =J21+K21 -> 1 | U21: =F21+K21+L21 -> 1 | V21: =P21 -> 0 | W21: =L21+M21+N21+O21 -> 0
A22: 5 | B22: ¹³ï³Ï³Ý Ñ³ÝÓÝ³ñ³ñáõÃÛáõÝÝ»ñ | D22: 0 | E22: 0 | F22: 0 | G22: 0 | H22: 0 | I22: 0 | J22: 0 | K22: 0 | L22: 0 | M22: 0 | N22: 0 | O22: 0 | P22: 0 | Q22: 0 | R22: 0 | T22: =J22+K22 -> 0 | U22: =F22+K22+L22 -> 0 | V22: =P22 -> 0 | W22: =L22+M22+N22+O22 -> 0
A23: ÀÜ¸²ØºÜÀ | D23: =D7+D8+D9+D10+D11+D12+D13+D14+D15+D16+D18+D19+D20+D21+D22 -> 0 | E23: =E7+E8+E9+E10+E11+E12+E13+E14+E15+E16+E18+E19+E20+E21+E22 -> 33 | F23: =F7+F8+F9+F10+F11+F12+F13+F14+F15+F16+F18+F19+F20+F21+F22 -> 0 | G23: =G7+G8+G9+G10+G11+G12+G13+G14+G15+G16+G18+G19+G20+G21+G22 -> 4 | H23: =H7+H8+H9+H10+H11+H12+H13+H14+H15+H16+H18+H19+H20+H21+H22 -> 28 | I23: =I7+I8+I9+I10+I11+I12+I13+I14+I15+I16+I18+I19+I20+I21+I22 -> 0 | J23: =J7+J8+J9+J10+J11+J12+J13+J14+J15+J16+J18+J19+J20+J21+J22 -> 1 | K23: =K7+K8+K9+K10+K11+K12+K13+K14+K15+K16+K18+K19+K20+K21+K22 -> 33 | ... R23: =R7+R8+R9+R10+R11+R12+R13+R14+R15+R16+R18+R19+R20+R21+R22 -> 5 | T23: =SUM(T7:T16,T18:T22) -> 33 | U23: =F23+K23+L23 -> 33 | V23: =SUM(V7:V16,V18:V22) -> 31 | W23: =SUM(W7:W16,W18:W22) -> 32

Sheet Դ. Սարգսյան
A1: 2016Ã. 1-ԻՆ ԿԻՍԱՄՅԱԿ | D1: Ð²ÞìºîìàôÂÚàôÜ | P1: Ð³í»Éí³Í Ð³Û³ëï³ÝÇ Ð³Ýñ³å»ïáõÃÛ³Ý ¸³ï³ñ³ÝÝ»ñÇ Ý³Ë³·³ÑÝ»ñÇ ËáñÑñ¹Ç 25.08.2016Ã. ÃÇí 44-È áñáßÙ³Ý
A2: ØÇÝã¹³ï³Ï³Ý í³ñáõÛÃÇ ÝÏ³ïÙ³Ùµ ¹³ï³Ï³Ý í»ñ³ÑëÏáÕáõÃÛ³ÝÁ, ¹³ï³Ï³Ý ³Ïï»ñÇ ¨ ¹³ï³Ï³Ý Ñ³ÝÓÝ³ñ³ñáõÃÛáõÝÝ»ñÇ Ï³ï³ñÙ³Ý Ñ»ï Ï³åí³Í ÙÇçÝáñ¹áõÃÛáõÝÝ»ñÇ í»ñ³µ»ñÛ³É ¹³ï³Ï³Ý ·áñÍ»ñáí ÐÐ êÛáõÝÇùÇ Ù³ñ½Ç ÁÝ¹Ñ³Ýáõñ Çñ³í³ëáõÃÛ³Ý ³é³çÇÝ ³ïÛ³ÝÇ ¹³ï³ñ³ÝÇ ¹³ï³íáñ ¸. ê³ñ·ëÛ³ÝÇ ·áñÍáõÝ»áõÃÛ³Ý í»ñ³µ»ñÛ³É
A3: êïáõ·Çã Ñ³í³ë³ñáõÙ` 1+2=3+8+9, 8=4+5+6+7, | D3: Ð³ßí»ïáõ Å³Ù³Ý³Ï³Ñ³ïí³ÍÇ ëÏ½µáõÙ Ý³Ëáñ¹ Ñ³ßí»ïáõ Å³Ù³Ý³Ï³Ñ³ïí³ÍÇó ÷áË³Ýóí³Í ·áñÍ»ñÇ ÁÝ¹Ñ³Ýáõñ ÃÇíÁ | E3: Ð³ßí»ïáõ Å³Ù³Ý³Ï³Ñ³ïí³ÍáõÙ ëï³óí³Í ·áñÍ»ñÇ ÁÝ¹Ñ³Ýáõñ ÃÇíÁ | F3: öáË³Ýóí»É ¿ ³ÛÉ ¹³ï³íáñÇ Ï³Ù ³ÛÉ ¹³ï³ñ³Ý (Ï³½ÙÇ ÷á÷áËáõÃÛáõÝ, ÁÝ¹¹³ïáõÃÛáõÝ) | G3: Ð³ßí»ïáõ Å³Ù³Ý³Ï³Ñ³ïí³ÍáõÙ ³í³ñïí³Í ·áñÍ»ñÇ ÁÝ¹Ñ³Ýáõñ ÃÇíÁ | L3: Ð³ßí»ïáõ Å³Ù³Ý³Ï³Ñ³ïí³ÍáõÙ ³Ý³í³ñï ·áñÍ»ñÇ ÁÝ¹Ñ³Ýáõñ ÃÇíÁ | M3: ØÇçÝáñ¹áõÃÛáõÝÝ»ñáí Ï³Û³óí³Í ¹³ï³Ï³Ý ³Ïï»ñÇó µáÕáù³ñÏí³ÍÝ»ñÇ ù³Ý³ÏÁ | O3: ²Ý³í³ñï µáÕáùÝ»ñ | P3: ØÇçÝáñ¹áõÃÛáõÝÝ»ñáí Ï³Û³óí³Í ¨ µáÕáù³ñÏí³Í ¹³ï³Ï³Ý ³Ïï»ñÇó µ»Ï³Ýí³ÍÝ»ñÇ ù³Ý³ÏÁ | R3: ÙÇçÝáñ¹áõÃÛáõÝÝ»ñáí Ï³Û³óí³Í ¨ µáÕáù³ñÏí³Í ¹³ï³Ï³Ý ³Ïï»ñÇó ³Ý÷á÷áË ÃáÕÝí³ÍÝ»ñÇ ù³Ý³ÏÁ
G4: Ù»ñÅí»É ¿ | H4: µ³í³ñ³ñí»É ¿ | I4: µ³í³ñ³ñí»É ¿ Ù³ëÝ³ÏÇ | J4: ÃáÕÝí»É ¿ ³é³Ýó ùÝÝáõÃÛ³Ý | K4: ÀÝ¹³Ù»ÝÁ
M5: Ý³Ëáñ¹ ï³ñÇÝ»ñÇÝ Ï³Û³óí³Í ³Ïï»ñÇ ¹»Ù | N5: Ñ³ßí»ïáõ Å³Ù³Ý³Ï³ßñç³ÝáõÙ Ï³Û³óí³Í ³Ïï»ñÇ ¹»Ù | P5: Ý³Ëáñ¹ ï³ñÇÝ»ñÇÝ Ï³Û³óí³Í ³Ïï»ñÇ µ»Ï³ÝáõÙÝ»ñÁ | Q5: Ñ³ßí»ïáõ Å³Ù³Ý³Ï³ßñç³ÝáõÙ Ï³Û³óí³Í ³Ïï»ñÇ µ»Ï³ÝáõÙÝ»ñÁ
A6: 1. ØÇÝã¹³ï³Ï³Ý í³ñáõÛÃÇ ÝÏ³ïÙ³Ùµ ¹³ï³Ï³Ý í»ñ³ÑëÏáÕáõÃÛ³Ý áÉáñï | D6: 1 | E6: 2 | F6: 3 | G6: 4 | H6: 5 | I6: 6 | J6: 7 | K6: 8 | L6: 9 | M6: 10 | N6: 11 | O6: 12 | P6: 13 | Q6: 14 | R6: 15 | T6: 1+2=3+8+9 | V6: 8=4+5+6+7
A7: 1 | B7: Ï³É³ÝùÁ áñå»ë Ë³÷³ÝÙ³Ý ÙÇçáó ÏÇñ³é»Éáõ Ù³ëÇÝ ÙÇçÝáñ¹áõÃÛáõÝÝ»ñ | E7: 13 | G7: 3 | H7: 10 | K7: 13 | T7: =D7+E7 -> 13 | U7: =F7+K7+L7 -> 13 | V7: =K7 -> 13 | W7: =G7+H7+I7+J7 -> 13
A8: 2 | B8: Ï³É³ÝùÇ Å³ÙÏ»ïÁ »ñÏ³ñ³óÝ»Éáõ Ù³ëÇÝ ÙÇçÝáñ¹áõÃÛáõÝÝ»ñ | E8: 6 | H8: 6 | K8: 6 | N8: 1 | O8: 1 | T8: =D8+E8 -> 6 | U8: =F8+K8+L8 -> 6 | V8: =K8 -> 6 | W8: =G8+H8+I8+J8 -> 6
A9: 3 | B9: Ï³É³ÝùÇ í»ñ³Ñ³ëï³ïÙ³Ý Ù³ëÇÝ ÙÇçÝáñ¹áõÃÛáõÝÝ»ñ | T9: =D9+E9 -> 0 | U9: =F9+K9+L9 -> 0 | V9: =K9 -> 0 | W9: =G9+H9+I9+J9 -> 0
A10: 4 | B10: ·ñ³íÁ áñå»ë Ï³É³Ý³íáñÙ³Ý ³ÛÉÁÝïñ³Ýù³ÛÇÝ Ë³÷³ÝÙ³Ý ÙÇçáó ÏÇñ³é»Éáõ Ù³ëÇÝ ÙÇçÝáñ¹áõÃÛáõÝÝ»ñ | T10: =D10+E10 -> 0 | U10: =F10+K10+L10 -> 0 | V10: =K10 -> 0 | W10: =G10+H10+I10+J10 -> 0
A11: 5 | B11: Ëáõ½³ñÏáõÃÛ³Ý Ï³ï³ñÙ³Ý Ù³ëÇÝ ÙÇçÝáñ¹áõÃÛáõÝÝ»ñ | E11: 2 | H11: 2 | K11: 2 | T11: =D11+E11 -> 2 | U11: =F11+K11+L11 -> 2 | V11: =K11 -> 2 | W11: =G11+H11+I11+J11 -> 2
A12: 6 | B12: µ³ÝÏ³ÛÇÝ, ³å³Ñáí³·ñ³Ï³Ý, Ýáï³ñ³Ï³Ý ·³ÕïÝÇù Ï³½ÙáÕ ï»Õ»ÏáõÃÛáõÝÝ»ñÇ ëï³óÙ³Ý Ñ³Ù³ñ Ëáõ½³ñÏáõÃÛ³Ý Ï³Ù ³é·ñ³íÙ³Ý Ï³ï³ñÙ³Ý Ù³ëÇÝ ÙÇçÝáñ¹áõÃÛáõÝÝ»ñ | E12: 1 | I12: 1 | K12: 1 | T12: =D12+E12 -> 1 | U12: =F12+K12+L12 -> 1 | V12: =K12 -> 1 | W12: =G12+H12+I12+J12 -> 1
A13: 7 | B13: Ý³Ù³Ï³·ñáõÃÛ³Ý, Ñ»é³·ñ³Ï³Ý, ÷áuï³ÛÇÝ Ñ³Õáñ¹áõÙÝ»ñÇ ÑëÏáÕáõÃÛ³Ý Ù³ëÇÝ ÙÇçÝáñ¹áõÃÛáõÝÝ»ñ | T13: =D13+E13 -> 0 | U13: =F13+K13+L13 -> 0 | V13: =K13 -> 0 | W13: =G13+H13+I13+J13 -> 0
A14: 8 | B14: Ñ»é³Ëáu³ÛÇÝ Ï³Ù Ï³åÇ ³ÛÉ ÙÇçáóÝ»ñáí ï³ñíáÕ Ëáu³ÏóáõÃÛáõÝÝ»ñÇ ÉuÙ³Ý ¨ Ó³ÛÝ³·ñ³éÙ³Ý Ù³ëÇÝ ÙÇçÝáñ¹áõÃÛáõÝÝ»ñ | T14: =D14+E14 -> 0 | U14: =F14+K14+L14 -> 0 | V14: =K14 -> 0 | W14: =G14+H14+I14+J14 -> 0
A15: 9 | B15: Ñ»é³ËáëÝ»ñÇ Ùáõïù³ÛÇÝ ¨ »Éù³ÛÇÝ í»ñÍ³ÝÙ³Ý ÃáõÛÉïíáõÃÛáõÝ ëï³Ý³Éáõ Ù³ëÇÝ ÙÇçÝáñ¹áõÃÛáõÝÝ»ñ | E15: 1 | H15: 1 | K15: 1 | T15: =D15+E15 -> 1 | U15: =F15+K15+L15 -> 1 | V15: =K15 -> 1 | W15: =G15+H15+I15+J15 -> 1
A16: 10 | B16: Ñ»ï³ùÝÝáõÃÛ³Ý Ù³ñÙÝÇ ³ßË³ïáÕÇ, ùÝÝÇãÇ, ¹³ï³Ë³½Ç oå»ñ³ïÇí-Ñ»ï³Ëáõ½³Ï³Ý ·áñÍáÕáõÃÛáõÝÝ»ñ Çñ³Ï³Ý³óÝáÕ Ù³ñÙÇÝÝ»ñÇ ³ÝoñÇÝ³Ï³Ý ¨ ³ÝÑÇÙÝ áñáßáõÙÝ»ñÇ ¨ ·áñÍáÕáõÃÛáõÝÝ»ñÇ ¹»Ù µáÕáùÝ»ñ | E16: 1 | L16: 1 | T16: =D16+E16 -> 1 | U16: =F16+K16+L16 -> 1 | V16: =K16 -> 0 | W16: =G16+H16+I16+J16 -> 0
A17: 2. ¸³ï³Ï³Ý ³Ïï»ñÇ ¨ ¹³ï³Ï³Ý Ñ³ÝÓÝ³ñ³ñáõÃÛáõÝÝ»ñÇ Ï³ï³ñÙ³Ý Ñ»ï Ï³åí³Í Ñ³ñó»ñÇ ÉáõÍÙ³Ý áÉáñï
A18: 1 | B18: å³ïÅÇó å³ÛÙ³Ý³Ï³Ý í³Õ³Å³ÙÏ»ï ³½³ï»Éáõ Ù³ëÇÝ ÙÇçÝáñ¹áõÃÛáõÝÝ»ñ | T18: =J18+K18 -> 0 | U18: =F18+K18+L18 -> 0 | V18: =P18 -> 0 | W18: =L18+M18+N18+O18 -> 0
A19: 2 | B19: å³ïÇÅÁ ÷á÷áË»Éáõ, Ñ»ï³Ó·»Éáõ ¨ å³ïÅÇó ³½³ï»Éáõ Ù³uÇÝ ÙÇçÝáñ¹áõÃÛáõÝÝ»ñ | T19: =J19+K19 -> 0 | U19: =F19+K19+L19 -> 0 | V19: =P19 -> 0 | W19: =L19+M19+N19+O19 -> 0
A20: 3 | B20: Ñ³ñÏ³¹Çñ µáõÅÙ³Ý ï»ë³ÏÇ ÷á÷áËáõÃÛ³Ý Ù³ëÇÝ ÙÇçÝáñ¹áõÃÛáõÝÝ»ñ | T20: =J20+K20 -> 0 | U20: =F20+K20+L20 -> 0 | V20: =P20 -> 0 | W20: =L20+M20+N20+O20 -> 0
A21: 4 | B21: ³ÛÉ ÙÇçÝáñ¹áõÃÛáõÝÝ»ñ | T21: =J21+K21 -> 0 | U21: =F21+K21+L21 -> 0 | V21: =P21 -> 0 | W21: =L21+M21+N21+O21 -> 0
A22: 5 | B22: ¹³ï³Ï³Ý Ñ³ÝÓÝ³ñ³ñáõÃÛáõÝÝ»ñ | T22: =J22+K22 -> 0 | U22: =F22+K22+L22 -> 0 | V22: =P22 -> 0 | W22: =L22+M22+N22+O22 -> 0
A23: ÀÜ¸²ØºÜÀ | D23: =D7+D8+D9+D10+D11+D12+D13+D14+D15+D16+D18+D19+D20+D21+D22 -> 0 | E23: =E7+E8+E9+E10+E11+E12+E13+E14+E15+E16+E18+E19+E20+E21+E22 -> 24 | F23: =F7+F8+F9+F10+F11+F12+F13+F14+F15+F16+F18+F19+F20+F21+F22 -> 0 | G23: =G7+G8+G9+G10+G11+G12+G13+G14+G15+G16+G18+G19+G20+G21+G22 -> 3 | H23: =H7+H8+H9+H10+H11+H12+H13+H14+H15+H16+H18+H19+H20+H21+H22 -> 19 | I23: =I7+I8+I9+I10+I11+I12+I13+I14+I15+I16+I18+I19+I20+I21+I22 -> 1 | J23: =J7+J8+J9+J10+J11+J12+J13+J14+J15+J16+J18+J19+J20+J21+J22 -> 0 | K23: =K7+K8+K9+K10+K11+K12+K13+K14+K15+K16+K18+K19+K20+K21+K22 -> 23 | ... R23: =R7+R8+R9+R10+R11+R12+R13+R14+R15+R16+R18+R19+R20+R21+R22 -> 0 | T23: =SUM(T7:T16,T18:T22) -> 24 | U23: =F23+K23+L23 -> 24 | V23: =SUM(V7:V16,V18:V22) -> 23 | W23: =SUM(W7:W16,W18:W22) -> 23

Sheet Ա. Թումանյան
A1: 2016Ã. 1-ԻՆ ԿԻՍԱՄՅԱԿ | D1: Ð²ÞìºîìàôÂÚàôÜ | P1: Ð³í»Éí³Í Ð³Û³ëï³ÝÇ Ð³Ýñ³å»ïáõÃÛ³Ý ¸³ï³ñ³ÝÝ»ñÇ Ý³Ë³·³ÑÝ»ñÇ ËáñÑñ¹Ç 25.08.2016Ã. ÃÇí 44-È áñáßÙ³Ý
A2: ØÇÝã¹³ï³Ï³Ý í³ñáõÛÃÇ ÝÏ³ïÙ³Ùµ ¹³ï³Ï³Ý í»ñ³ÑëÏáÕáõÃÛ³ÝÁ, ¹³ï³Ï³Ý ³Ïï»ñÇ ¨ ¹³ï³Ï³Ý Ñ³ÝÓÝ³ñ³ñáõÃÛáõÝÝ»ñÇ Ï³ï³ñÙ³Ý Ñ»ï Ï³åí³Í ÙÇçÝáñ¹áõÃÛáõÝÝ»ñÇ í»ñ³µ»ñÛ³É ¹³ï³Ï³Ý ·áñÍ»ñáí ÐÐ êÛáõÝÇùÇ Ù³ñ½Ç ÁÝ¹Ñ³Ýáõñ Çñ³í³ëáõÃÛ³Ý ³é³çÇÝ ³ïÛ³ÝÇ ¹³ï³ñ³ÝÇ ¹³ï³íáñ Ա.Թումանյան ·áñÍáõÝ»áõÃÛ³Ý í»ñ³µ»ñÛ³É
A3: êïáõ·Çã Ñ³í³ë³ñáõÙ` 1+2=3+8+9, 8=4+5+6+7, | D3: Ð³ßí»ïáõ Å³Ù³Ý³Ï³Ñ³ïí³ÍÇ ëÏ½µáõÙ Ý³Ëáñ¹ Ñ³ßí»ïáõ Å³Ù³Ý³Ï³Ñ³ïí³ÍÇó ÷áË³Ýóí³Í ·áñÍ»ñÇ ÁÝ¹Ñ³Ýáõñ ÃÇíÁ | E3: Ð³ßí»ïáõ Å³Ù³Ý³Ï³Ñ³ïí³ÍáõÙ ëï³óí³Í ·áñÍ»ñÇ ÁÝ¹Ñ³Ýáõñ ÃÇíÁ | F3: öáË³Ýóí»É ¿ ³ÛÉ ¹³ï³íáñÇ Ï³Ù ³ÛÉ ¹³ï³ñ³Ý (Ï³½ÙÇ ÷á÷áËáõÃÛáõÝ, ÁÝ¹¹³ïáõÃÛáõÝ) | G3: Ð³ßí»ïáõ Å³Ù³Ý³Ï³Ñ³ïí³ÍáõÙ ³í³ñïí³Í ·áñÍ»ñÇ ÁÝ¹Ñ³Ýáõñ ÃÇíÁ | L3: Ð³ßí»ïáõ Å³Ù³Ý³Ï³Ñ³ïí³ÍáõÙ ³Ý³í³ñï ·áñÍ»ñÇ ÁÝ¹Ñ³Ýáõñ ÃÇíÁ | M3: ØÇçÝáñ¹áõÃÛáõÝÝ»ñáí Ï³Û³óí³Í ¹³ï³Ï³Ý ³Ïï»ñÇó µáÕáù³ñÏí³ÍÝ»ñÇ ù³Ý³ÏÁ | O3: ²Ý³í³ñï µáÕáùÝ»ñ | P3: ØÇçÝáñ¹áõÃÛáõÝÝ»ñáí Ï³Û³óí³Í ¨ µáÕáù³ñÏí³Í ¹³ï³Ï³Ý ³Ïï»ñÇó µ»Ï³Ýí³ÍÝ»ñÇ ù³Ý³ÏÁ | R3: ÙÇçÝáñ¹áõÃÛáõÝÝ»ñáí Ï³Û³óí³Í ¨ µáÕáù³ñÏí³Í ¹³ï³Ï³Ý ³Ïï»ñÇó ³Ý÷á÷áË ÃáÕÝí³ÍÝ»ñÇ ù³Ý³ÏÁ
G4: Ù»ñÅí»É ¿ | H4: µ³í³ñ³ñí»É ¿ | I4: µ³í³ñ³ñí»É ¿ Ù³ëÝ³ÏÇ | J4: ÃáÕÝí»É ¿ ³é³Ýó ùÝÝáõÃÛ³Ý | K4: ÀÝ¹³Ù»ÝÁ
M5: Ý³Ëáñ¹ ï³ñÇÝ»ñÇÝ Ï³Û³óí³Í ³Ïï»ñÇ ¹»Ù | N5: Ñ³ßí»ïáõ Å³Ù³Ý³Ï³ßñç³ÝáõÙ Ï³Û³óí³Í ³Ïï»ñÇ ¹»Ù | P5: Ý³Ëáñ¹ ï³ñÇÝ»ñÇÝ Ï³Û³óí³Í ³Ïï»ñÇ µ»Ï³ÝáõÙÝ»ñÁ | Q5: Ñ³ßí»ïáõ Å³Ù³Ý³Ï³ßñç³ÝáõÙ Ï³Û³óí³Í ³Ïï»ñÇ µ»Ï³ÝáõÙÝ»ñÁ
A6: 1. ØÇÝã¹³ï³Ï³Ý í³ñáõÛÃÇ ÝÏ³ïÙ³Ùµ ¹³ï³Ï³Ý í»ñ³ÑëÏáÕáõÃÛ³Ý áÉáñï | D6: 1 | E6: 2 | F6: 3 | G6: 4 | H6: 5 | I6: 6 | J6: 7 | K6: 8 | L6: 9 | M6: 10 | N6: 11 | O6: 12 | P6: 13 | Q6: 14 | R6: 15 | T6: 1+2=3+8+9 | V6: 8=4+5+6+7
A7: 1 | B7: Ï³É³ÝùÁ áñå»ë Ë³÷³ÝÙ³Ý ÙÇçáó ÏÇñ³é»Éáõ Ù³ëÇÝ ÙÇçÝáñ¹áõÃÛáõÝÝ»ñ | E7: 10 | H7: 9 | J7: 1 | K7: 10 | N7: 3 | O7: 1 | R7: 2 | T7: =D7+E7 -> 10 | U7: =F7+K7+L7 -> 10 | V7: =K7 -> 10 | W7: =G7+H7+I7+J7 -> 10
A8: 2 | B8: Ï³É³ÝùÇ Å³ÙÏ»ïÁ »ñÏ³ñ³óÝ»Éáõ Ù³ëÇÝ ÙÇçÝáñ¹áõÃÛáõÝÝ»ñ | E8: 7 | H8: 7 | K8: 7 | N8: 2 | Q8: 1 | R8: 1 | T8: =D8+E8 -> 7 | U8: =F8+K8+L8 -> 7 | V8: =K8 -> 7 | W8: =G8+H8+I8+J8 -> 7
A9: 3 | B9: Ï³É³ÝùÇ í»ñ³Ñ³ëï³ïÙ³Ý Ù³ëÇÝ ÙÇçÝáñ¹áõÃÛáõÝÝ»ñ | T9: =D9+E9 -> 0 | U9: =F9+K9+L9 -> 0 | V9: =K9 -> 0 | W9: =G9+H9+I9+J9 -> 0
A10: 4 | B10: ·ñ³íÁ áñå»ë Ï³É³Ý³íáñÙ³Ý ³ÛÉÁÝïñ³Ýù³ÛÇÝ Ë³÷³ÝÙ³Ý ÙÇçáó ÏÇñ³é»Éáõ Ù³ëÇÝ ÙÇçÝáñ¹áõÃÛáõÝÝ»ñ | E10: 4 | G10: 3 | H10: 1 | K10: 4 | T10: =D10+E10 -> 4 | U10: =F10+K10+L10 -> 4 | V10: =K10 -> 4 | W10: =G10+H10+I10+J10 -> 4
A11: 5 | B11: Ëáõ½³ñÏáõÃÛ³Ý Ï³ï³ñÙ³Ý Ù³ëÇÝ ÙÇçÝáñ¹áõÃÛáõÝÝ»ñ | E11: 17 | H11: 17 | K11: 17 | T11: =D11+E11 -> 17 | U11: =F11+K11+L11 -> 17 | V11: =K11 -> 17 | W11: =G11+H11+I11+J11 -> 17
A12: 6 | B12: µ³ÝÏ³ÛÇÝ, ³å³Ñáí³·ñ³Ï³Ý, Ýáï³ñ³Ï³Ý ·³ÕïÝÇù Ï³½ÙáÕ ï»Õ»ÏáõÃÛáõÝÝ»ñÇ ëï³óÙ³Ý Ñ³Ù³ñ Ëáõ½³ñÏáõÃÛ³Ý Ï³Ù ³é·ñ³íÙ³Ý Ï³ï³ñÙ³Ý Ù³ëÇÝ ÙÇçÝáñ¹áõÃÛáõÝÝ»ñ | T12: =D12+E12 -> 0 | U12: =F12+K12+L12 -> 0 | V12: =K12 -> 0 | W12: =G12+H12+I12+J12 -> 0
A13: 7 | B13: Ý³Ù³Ï³·ñáõÃÛ³Ý, Ñ»é³·ñ³Ï³Ý, ÷áuï³ÛÇÝ Ñ³Õáñ¹áõÙÝ»ñÇ ÑëÏáÕáõÃÛ³Ý Ù³ëÇÝ ÙÇçÝáñ¹áõÃÛáõÝÝ»ñ | T13: =D13+E13 -> 0 | U13: =F13+K13+L13 -> 0 | V13: =K13 -> 0 | W13: =G13+H13+I13+J13 -> 0
A14: 8 | B14: Ñ»é³Ëáu³ÛÇÝ Ï³Ù Ï³åÇ ³ÛÉ ÙÇçáóÝ»ñáí ï³ñíáÕ Ëáu³ÏóáõÃÛáõÝÝ»ñÇ ÉuÙ³Ý ¨ Ó³ÛÝ³·ñ³éÙ³Ý Ù³ëÇÝ ÙÇçÝáñ¹áõÃÛáõÝÝ»ñ | T14: =D14+E14 -> 0 | U14: =F14+K14+L14 -> 0 | V14: =K14 -> 0 | W14: =G14+H14+I14+J14 -> 0
A15: 9 | B15: Ñ»é³ËáëÝ»ñÇ Ùáõïù³ÛÇÝ ¨ »Éù³ÛÇÝ í»ñÍ³ÝÙ³Ý ÃáõÛÉïíáõÃÛáõÝ ëï³Ý³Éáõ Ù³ëÇÝ ÙÇçÝáñ¹áõÃÛáõÝÝ»ñ | E15: 14 | G15: 1 | H15: 13 | K15: 14 | T15: =D15+E15 -> 14 | U15: =F15+K15+L15 -> 14 | V15: =K15 -> 14 | W15: =G15+H15+I15+J15 -> 14
A16: 10 | B16: Ñ»ï³ùÝÝáõÃÛ³Ý Ù³ñÙÝÇ ³ßË³ïáÕÇ, ùÝÝÇãÇ, ¹³ï³Ë³½Ç oå»ñ³ïÇí-Ñ»ï³Ëáõ½³Ï³Ý ·áñÍáÕáõÃÛáõÝÝ»ñ Çñ³Ï³Ý³óÝáÕ Ù³ñÙÇÝÝ»ñÇ ³ÝoñÇÝ³Ï³Ý ¨ ³ÝÑÇÙÝ áñáßáõÙÝ»ñÇ ¨ ·áñÍáÕáõÃÛáõÝÝ»ñÇ ¹»Ù µáÕáùÝ»ñ | E16: 3 | F16: 1 | G16: 2 | K16: 2 | N16: 1 | O16: 1 | T16: =D16+E16 -> 3 | U16: =F16+K16+L16 -> 3 | V16: =K16 -> 2 | W16: =G16+H16+I16+J16 -> 2
A17: 2. ¸³ï³Ï³Ý ³Ïï»ñÇ ¨ ¹³ï³Ï³Ý Ñ³ÝÓÝ³ñ³ñáõÃÛáõÝÝ»ñÇ Ï³ï³ñÙ³Ý Ñ»ï Ï³åí³Í Ñ³ñó»ñÇ ÉáõÍÙ³Ý áÉáñï
A18: 1 | B18: å³ïÅÇó å³ÛÙ³Ý³Ï³Ý í³Õ³Å³ÙÏ»ï ³½³ï»Éáõ Ù³ëÇÝ ÙÇçÝáñ¹áõÃÛáõÝÝ»ñ | T18: =J18+K18 -> 0 | U18: =F18+K18+L18 -> 0 | V18: =P18 -> 0 | W18: =L18+M18+N18+O18 -> 0
A19: 2 | B19: å³ïÇÅÁ ÷á÷áË»Éáõ, Ñ»ï³Ó·»Éáõ ¨ å³ïÅÇó ³½³ï»Éáõ Ù³uÇÝ ÙÇçÝáñ¹áõÃÛáõÝÝ»ñ | T19: =J19+K19 -> 0 | U19: =F19+K19+L19 -> 0 | V19: =P19 -> 0 | W19: =L19+M19+N19+O19 -> 0
A20: 3 | B20: Ñ³ñÏ³¹Çñ µáõÅÙ³Ý ï»ë³ÏÇ ÷á÷áËáõÃÛ³Ý Ù³ëÇÝ ÙÇçÝáñ¹áõÃÛáõÝÝ»ñ | T20: =J20+K20 -> 0 | U20: =F20+K20+L20 -> 0 | V20: =P20 -> 0 | W20: =L20+M20+N20+O20 -> 0
A21: 4 | B21: ³ÛÉ ÙÇçÝáñ¹áõÃÛáõÝÝ»ñ | T21: =J21+K21 -> 0 | U21: =F21+K21+L21 -> 0 | V21: =P21 -> 0 | W21: =L21+M21+N21+O21 -> 0
A22: 5 | B22: ¹³ï³Ï³Ý Ñ³ÝÓÝ³ñ³ñáõÃÛáõÝÝ»ñ | D22: 1 | L22: 1 | T22: =J22+K22 -> 0 | U22: =F22+K22+L22 -> 1 | V22: =P22 -> 0 | W22: =L22+M22+N22+O22 -> 1
A23: ÀÜ¸²ØºÜÀ | D23: =D7+D8+D9+D10+D11+D12+D13+D14+D15+D16+D18+D19+D20+D21+D22 -> 1 | E23: =E7+E8+E9+E10+E11+E12+E13+E14+E15+E16+E18+E19+E20+E21+E22 -> 55 | F23: =F7+F8+F9+F10+F11+F12+F13+F14+F15+F16+F18+F19+F20+F21+F22 -> 1 | G23: =G7+G8+G9+G10+G11+G12+G13+G14+G15+G16+G18+G19+G20+G21+G22 -> 6 | H23: =H7+H8+H9+H10+H11+H12+H13+H14+H15+H16+H18+H19+H20+H21+H22 -> 47 | I23: =I7+I8+I9+I10+I11+I12+I13+I14+I15+I16+I18+I19+I20+I21+I22 -> 0 | J23: =J7+J8+J9+J10+J11+J12+J13+J14+J15+J16+J18+J19+J20+J21+J22 -> 1 | K23: =K7+K8+K9+K10+K11+K12+K13+K14+K15+K16+K18+K19+K20+K21+K22 -> 54 | ... R23: =R7+R8+R9+R10+R11+R12+R13+R14+R15+R16+R18+R19+R20+R21+R22 -> 3 | T23: =SUM(T7:T16,T18:T22) -> 55 | U23: =F23+K23+L23 -> 56 | V23: =SUM(V7:V16,V18:V22) -> 54 | W23: =SUM(W7:W16,W18:W22) -> 55

Sheet Ա. Սարդարյան
A1: 2016Ã. 1-ԻՆ ԿԻՍԱՄՅԱԿ | D1: Ð²ÞìºîìàôÂÚàôÜ | P1: Ð³í»Éí³Í Ð³Û³ëï³ÝÇ Ð³Ýñ³å»ïáõÃÛ³Ý ¸³ï³ñ³ÝÝ»ñÇ Ý³Ë³·³ÑÝ»ñÇ ËáñÑñ¹Ç 25.08.2016Ã. ÃÇí 44-È áñáßÙ³Ý
A2: ØÇÝã¹³ï³Ï³Ý í³ñáõÛÃÇ ÝÏ³ïÙ³Ùµ ¹³ï³Ï³Ý í»ñ³ÑëÏáÕáõÃÛ³ÝÁ, ¹³ï³Ï³Ý ³Ïï»ñÇ ¨ ¹³ï³Ï³Ý Ñ³ÝÓÝ³ñ³ñáõÃÛáõÝÝ»ñÇ Ï³ï³ñÙ³Ý Ñ»ï Ï³åí³Í ÙÇçÝáñ¹áõÃÛáõÝÝ»ñÇ í»ñ³µ»ñÛ³É ¹³ï³Ï³Ý ·áñÍ»ñáí ÐÐ êÛáõÝÇùÇ Ù³ñ½Ç ÁÝ¹Ñ³Ýáõñ Çñ³í³ëáõÃÛ³Ý ³é³çÇÝ ³ïÛ³ÝÇ ¹³ï³ñ³ÝÇ ¹³ï³íáñ ². ê³ñ¹³ñÛ³ÝÇ ·áñÍáõÝ»áõÃÛ³Ý í»ñ³µ»ñÛ³É
A3: êïáõ·Çã Ñ³í³ë³ñáõÙ` 1+2=3+8+9, 8=4+5+6+7, | D3: Ð³ßí»ïáõ Å³Ù³Ý³Ï³Ñ³ïí³ÍÇ ëÏ½µáõÙ Ý³Ëáñ¹ Ñ³ßí»ïáõ Å³Ù³Ý³Ï³Ñ³ïí³ÍÇó ÷áË³Ýóí³Í ·áñÍ»ñÇ ÁÝ¹Ñ³Ýáõñ ÃÇíÁ | E3: Ð³ßí»ïáõ Å³Ù³Ý³Ï³Ñ³ïí³ÍáõÙ ëï³óí³Í ·áñÍ»ñÇ ÁÝ¹Ñ³Ýáõñ ÃÇíÁ | F3: öáË³Ýóí»É ¿ ³ÛÉ ¹³ï³íáñÇ Ï³Ù ³ÛÉ ¹³ï³ñ³Ý (Ï³½ÙÇ ÷á÷áËáõÃÛáõÝ, ÁÝ¹¹³ïáõÃÛáõÝ) | G3: Ð³ßí»ïáõ Å³Ù³Ý³Ï³Ñ³ïí³ÍáõÙ ³í³ñïí³Í ·áñÍ»ñÇ ÁÝ¹Ñ³Ýáõñ ÃÇíÁ | L3: Ð³ßí»ïáõ Å³Ù³Ý³Ï³Ñ³ïí³ÍáõÙ ³Ý³í³ñï ·áñÍ»ñÇ ÁÝ¹Ñ³Ýáõñ ÃÇíÁ | M3: ØÇçÝáñ¹áõÃÛáõÝÝ»ñáí Ï³Û³óí³Í ¹³ï³Ï³Ý ³Ïï»ñÇó µáÕáù³ñÏí³ÍÝ»ñÇ ù³Ý³ÏÁ | O3: ²Ý³í³ñï µáÕáùÝ»ñ | P3: ØÇçÝáñ¹áõÃÛáõÝÝ»ñáí Ï³Û³óí³Í ¨ µáÕáù³ñÏí³Í ¹³ï³Ï³Ý ³Ïï»ñÇó µ»Ï³Ýí³ÍÝ»ñÇ ù³Ý³ÏÁ | R3: ÙÇçÝáñ¹áõÃÛáõÝÝ»ñáí Ï³Û³óí³Í ¨ µáÕáù³ñÏí³Í ¹³ï³Ï³Ý ³Ïï»ñÇó ³Ý÷á÷áË ÃáÕÝí³ÍÝ»ñÇ ù³Ý³ÏÁ
G4: Ù»ñÅí»É ¿ | H4: µ³í³ñ³ñí»É ¿ | I4: µ³í³ñ³ñí»É ¿ Ù³ëÝ³ÏÇ | J4: ÃáÕÝí»É ¿ ³é³Ýó ùÝÝáõÃÛ³Ý | K4: ÀÝ¹³Ù»ÝÁ
M5: Ý³Ëáñ¹ ï³ñÇÝ»ñÇÝ Ï³Û³óí³Í ³Ïï»ñÇ ¹»Ù | N5: Ñ³ßí»ïáõ Å³Ù³Ý³Ï³ßñç³ÝáõÙ Ï³Û³óí³Í ³Ïï»ñÇ ¹»Ù | P5: Ý³Ëáñ¹ ï³ñÇÝ»ñÇÝ Ï³Û³óí³Í ³Ïï»ñÇ µ»Ï³ÝáõÙÝ»ñÁ | Q5: Ñ³ßí»ïáõ Å³Ù³Ý³Ï³ßñç³ÝáõÙ Ï³Û³óí³Í ³Ïï»ñÇ µ»Ï³ÝáõÙÝ»ñÁ
A6: 1. ØÇÝã¹³ï³Ï³Ý í³ñáõÛÃÇ ÝÏ³ïÙ³Ùµ ¹³ï³Ï³Ý í»ñ³ÑëÏáÕáõÃÛ³Ý áÉáñï | D6: 1 | E6: 2 | F6: 3 | G6: 4 | H6: 5 | I6: 6 | J6: 7 | K6: 8 | L6: 9 | M6: 10 | N6: 11 | O6: 12 | P6: 13 | Q6: 14 | R6: 15 | T6: 1+2=3+8+9 | V6: 8=4+5+6+7
A7: 1 | B7: Ï³É³ÝùÁ áñå»ë Ë³÷³ÝÙ³Ý ÙÇçáó ÏÇñ³é»Éáõ Ù³ëÇÝ ÙÇçÝáñ¹áõÃÛáõÝÝ»ñ | E7: 17 | G7: 2 | H7: 15 | K7: 17 | N7: 4 | O7: 3 | Q7: 1 | T7: =D7+E7 -> 17 | U7: =F7+K7+L7 -> 17 | V7: =K7 -> 17 | W7: =G7+H7+I7+J7 -> 17
A8: 2 | B8: Ï³É³ÝùÇ Å³ÙÏ»ïÁ »ñÏ³ñ³óÝ»Éáõ Ù³ëÇÝ ÙÇçÝáñ¹áõÃÛáõÝÝ»ñ | E8: 12 | H8: 12 | K8: 12 | N8: 1 | R8: 1 | T8: =D8+E8 -> 12 | U8: =F8+K8+L8 -> 12 | V8: =K8 -> 12 | W8: =G8+H8+I8+J8 -> 12
A9: 3 | B9: Ï³É³ÝùÇ í»ñ³Ñ³ëï³ïÙ³Ý Ù³ëÇÝ ÙÇçÝáñ¹áõÃÛáõÝÝ»ñ | E9: 1 | H9: 1 | K9: 1 | T9: =D9+E9 -> 1 | U9: =F9+K9+L9 -> 1 | V9: =K9 -> 1 | W9: =G9+H9+I9+J9 -> 1
A10: 4 | B10: ·ñ³íÁ áñå»ë Ï³É³Ý³íáñÙ³Ý ³ÛÉÁÝïñ³Ýù³ÛÇÝ Ë³÷³ÝÙ³Ý ÙÇçáó ÏÇñ³é»Éáõ Ù³ëÇÝ ÙÇçÝáñ¹áõÃÛáõÝÝ»ñ | E10: 8 | G10: 8 | K10: 8 | T10: =D10+E10 -> 8 | U10: =F10+K10+L10 -> 8 | V10: =K10 -> 8 | W10: =G10+H10+I10+J10 -> 8
A11: 5 | B11: Ëáõ½³ñÏáõÃÛ³Ý Ï³ï³ñÙ³Ý Ù³ëÇÝ ÙÇçÝáñ¹áõÃÛáõÝÝ»ñ | E11: 0 | H11: 0 | K11: 0 | T11: =D11+E11 -> 0 | U11: =F11+K11+L11 -> 0 | V11: =K11 -> 0 | W11: =G11+H11+I11+J11 -> 0
A12: 6 | B12: µ³ÝÏ³ÛÇÝ, ³å³Ñáí³·ñ³Ï³Ý, Ýáï³ñ³Ï³Ý ·³ÕïÝÇù Ï³½ÙáÕ ï»Õ»ÏáõÃÛáõÝÝ»ñÇ ëï³óÙ³Ý Ñ³Ù³ñ Ëáõ½³ñÏáõÃÛ³Ý Ï³Ù ³é·ñ³íÙ³Ý Ï³ï³ñÙ³Ý Ù³ëÇÝ ÙÇçÝáñ¹áõÃÛáõÝÝ»ñ | T12: =D12+E12 -> 0 | U12: =F12+K12+L12 -> 0 | V12: =K12 -> 0 | W12: =G12+H12+I12+J12 -> 0
A13: 7 | B13: Ý³Ù³Ï³·ñáõÃÛ³Ý, Ñ»é³·ñ³Ï³Ý, ÷áuï³ÛÇÝ Ñ³Õáñ¹áõÙÝ»ñÇ ÑëÏáÕáõÃÛ³Ý Ù³ëÇÝ ÙÇçÝáñ¹áõÃÛáõÝÝ»ñ | T13: =D13+E13 -> 0 | U13: =F13+K13+L13 -> 0 | V13: =K13 -> 0 | W13: =G13+H13+I13+J13 -> 0
A14: 8 | B14: Ñ»é³Ëáu³ÛÇÝ Ï³Ù Ï³åÇ ³ÛÉ ÙÇçáóÝ»ñáí ï³ñíáÕ Ëáu³ÏóáõÃÛáõÝÝ»ñÇ ÉuÙ³Ý ¨ Ó³ÛÝ³·ñ³éÙ³Ý Ù³ëÇÝ ÙÇçÝáñ¹áõÃÛáõÝÝ»ñ | T14: =D14+E14 -> 0 | U14: =F14+K14+L14 -> 0 | V14: =K14 -> 0 | W14: =G14+H14+I14+J14 -> 0
A15: 9 | B15: Ñ»é³ËáëÝ»ñÇ Ùáõïù³ÛÇÝ ¨ »Éù³ÛÇÝ í»ñÍ³ÝÙ³Ý ÃáõÛÉïíáõÃÛáõÝ ëï³Ý³Éáõ Ù³ëÇÝ ÙÇçÝáñ¹áõÃÛáõÝÝ»ñ | E15: 3 | G15: 1 | H15: 2 | K15: 3 | T15: =D15+E15 -> 3 | U15: =F15+K15+L15 -> 3 | V15: =K15 -> 3 | W15: =G15+H15+I15+J15 -> 3
A16: 10 | B16: Ñ»ï³ùÝÝáõÃÛ³Ý Ù³ñÙÝÇ ³ßË³ïáÕÇ, ùÝÝÇãÇ, ¹³ï³Ë³½Ç oå»ñ³ïÇí-Ñ»ï³Ëáõ½³Ï³Ý ·áñÍáÕáõÃÛáõÝÝ»ñ Çñ³Ï³Ý³óÝáÕ Ù³ñÙÇÝÝ»ñÇ ³ÝoñÇÝ³Ï³Ý ¨ ³ÝÑÇÙÝ áñáßáõÙÝ»ñÇ ¨ ·áñÍáÕáõÃÛáõÝÝ»ñÇ ¹»Ù µáÕáùÝ»ñ | E16: 1 | L16: 1 | T16: =D16+E16 -> 1 | U16: =F16+K16+L16 -> 1 | V16: =K16 -> 0 | W16: =G16+H16+I16+J16 -> 0
A17: 2. ¸³ï³Ï³Ý ³Ïï»ñÇ ¨ ¹³ï³Ï³Ý Ñ³ÝÓÝ³ñ³ñáõÃÛáõÝÝ»ñÇ Ï³ï³ñÙ³Ý Ñ»ï Ï³åí³Í Ñ³ñó»ñÇ ÉáõÍÙ³Ý áÉáñï
A18: 1 | B18: å³ïÅÇó å³ÛÙ³Ý³Ï³Ý í³Õ³Å³ÙÏ»ï ³½³ï»Éáõ Ù³ëÇÝ ÙÇçÝáñ¹áõÃÛáõÝÝ»ñ | T18: =J18+K18 -> 0 | U18: =F18+K18+L18 -> 0 | V18: =P18 -> 0 | W18: =L18+M18+N18+O18 -> 0
A19: 2 | B19: å³ïÇÅÁ ÷á÷áË»Éáõ, Ñ»ï³Ó·»Éáõ ¨ å³ïÅÇó ³½³ï»Éáõ Ù³uÇÝ ÙÇçÝáñ¹áõÃÛáõÝÝ»ñ | T19: =J19+K19 -> 0 | U19: =F19+K19+L19 -> 0 | V19: =P19 -> 0 | W19: =L19+M19+N19+O19 -> 0
A20: 3 | B20: Ñ³ñÏ³¹Çñ µáõÅÙ³Ý ï»ë³ÏÇ ÷á÷áËáõÃÛ³Ý Ù³ëÇÝ ÙÇçÝáñ¹áõÃÛáõÝÝ»ñ | T20: =J20+K20 -> 0 | U20: =F20+K20+L20 -> 0 | V20: =P20 -> 0 | W20: =L20+M20+N20+O20 -> 0
A21: 4 | B21: ³ÛÉ ÙÇçÝáñ¹áõÃÛáõÝÝ»ñ | E21: 1 | H21: 1 | K21: 1 | T21: =J21+K21 -> 1 | U21: =F21+K21+L21 -> 1 | V21: =P21 -> 0 | W21: =L21+M21+N21+O21 -> 0
A22: 5 | B22: ¹³ï³Ï³Ý Ñ³ÝÓÝ³ñ³ñáõÃÛáõÝÝ»ñ | T22: =J22+K22 -> 0 | U22: =F22+K22+L22 -> 0 | V22: =P22 -> 0 | W22: =L22+M22+N22+O22 -> 0
A23: ÀÜ¸²ØºÜÀ | D23: =D7+D8+D9+D10+D11+D12+D13+D14+D15+D16+D18+D19+D20+D21+D22 -> 0 | E23: =E7+E8+E9+E10+E11+E12+E13+E14+E15+E16+E18+E19+E20+E21+E22 -> 43 | F23: =F7+F8+F9+F10+F11+F12+F13+F14+F15+F16+F18+F19+F20+F21+F22 -> 0 | G23: =G7+G8+G9+G10+G11+G12+G13+G14+G15+G16+G18+G19+G20+G21+G22 -> 11 | H23: =H7+H8+H9+H10+H11+H12+H13+H14+H15+H16+H18+H19+H20+H21+H22 -> 31 | I23: =I7+I8+I9+I10+I11+I12+I13+I14+I15+I16+I18+I19+I20+I21+I22 -> 0 | J23: =J7+J8+J9+J10+J11+J12+J13+J14+J15+J16+J18+J19+J20+J21+J22 -> 0 | K23: =K7+K8+K9+K10+K11+K12+K13+K14+K15+K16+K18+K19+K20+K21+K22 -> 42 | ... R23: =R7+R8+R9+R10+R11+R12+R13+R14+R15+R16+R18+R19+R20+R21+R22 -> 1 | T23: =SUM(T7:T16,T18:T22) -> 43 | U23: =F23+K23+L23 -> 43 | V23: =SUM(V7:V16,V18:V22) -> 41 | W23: =SUM(W7:W16,W18:W22) -> 41

Sheet Ի. Բեգլարյան
A1: 2016Ã. 1-ԻՆ ԿԻՍԱՄՅԱԿ | D1: Ð²ÞìºîìàôÂÚàôÜ | P1: Ð³í»Éí³Í Ð³Û³ëï³ÝÇ Ð³Ýñ³å»ïáõÃÛ³Ý ¸³ï³ñ³ÝÝ»ñÇ Ý³Ë³·³ÑÝ»ñÇ ËáñÑñ¹Ç 25.08.2016Ã. ÃÇí 44-È áñáßÙ³Ý
A2: ØÇÝã¹³ï³Ï³Ý í³ñáõÛÃÇ ÝÏ³ïÙ³Ùµ ¹³ï³Ï³Ý í»ñ³ÑëÏáÕáõÃÛ³ÝÁ, ¹³ï³Ï³Ý ³Ïï»ñÇ ¨ ¹³ï³Ï³Ý Ñ³ÝÓÝ³ñ³ñáõÃÛáõÝÝ»ñÇ Ï³ï³ñÙ³Ý Ñ»ï Ï³åí³Í ÙÇçÝáñ¹áõÃÛáõÝÝ»ñÇ í»ñ³µ»ñÛ³É ¹³ï³Ï³Ý ·áñÍ»ñáí ÐÐ êÛáõÝÇùÇ Ù³ñ½Ç ÁÝ¹Ñ³Ýáõñ Çñ³í³ëáõÃÛ³Ý ³é³çÇÝ ³ïÛ³ÝÇ ¹³ï³ñ³ÝÇ ¹³ï³íáñ Ի.Բեգլարյան ·áñÍáõÝ»áõÃÛ³Ý í»ñ³µ»ñÛ³É
A3: êïáõ·Çã Ñ³í³ë³ñáõÙ` 1+2=3+8+9, 8=4+5+6+7, | D3: Ð³ßí»ïáõ Å³Ù³Ý³Ï³Ñ³ïí³ÍÇ ëÏ½µáõÙ Ý³Ëáñ¹ Ñ³ßí»ïáõ Å³Ù³Ý³Ï³Ñ³ïí³ÍÇó ÷áË³Ýóí³Í ·áñÍ»ñÇ ÁÝ¹Ñ³Ýáõñ ÃÇíÁ | E3: Ð³ßí»ïáõ Å³Ù³Ý³Ï³Ñ³ïí³ÍáõÙ ëï³óí³Í ·áñÍ»ñÇ ÁÝ¹Ñ³Ýáõñ ÃÇíÁ | F3: öáË³Ýóí»É ¿ ³ÛÉ ¹³ï³íáñÇ Ï³Ù ³ÛÉ ¹³ï³ñ³Ý (Ï³½ÙÇ ÷á÷áËáõÃÛáõÝ, ÁÝ¹¹³ïáõÃÛáõÝ) | G3: Ð³ßí»ïáõ Å³Ù³Ý³Ï³Ñ³ïí³ÍáõÙ ³í³ñïí³Í ·áñÍ»ñÇ ÁÝ¹Ñ³Ýáõñ ÃÇíÁ | L3: Ð³ßí»ïáõ Å³Ù³Ý³Ï³Ñ³ïí³ÍáõÙ ³Ý³í³ñï ·áñÍ»ñÇ ÁÝ¹Ñ³Ýáõñ ÃÇíÁ | M3: ØÇçÝáñ¹áõÃÛáõÝÝ»ñáí Ï³Û³óí³Í ¹³ï³Ï³Ý ³Ïï»ñÇó µáÕáù³ñÏí³ÍÝ»ñÇ ù³Ý³ÏÁ | O3: ²Ý³í³ñï µáÕáùÝ»ñ | P3: ØÇçÝáñ¹áõÃÛáõÝÝ»ñáí Ï³Û³óí³Í ¨ µáÕáù³ñÏí³Í ¹³ï³Ï³Ý ³Ïï»ñÇó µ»Ï³Ýí³ÍÝ»ñÇ ù³Ý³ÏÁ | R3: ÙÇçÝáñ¹áõÃÛáõÝÝ»ñáí Ï³Û³óí³Í ¨ µáÕáù³ñÏí³Í ¹³ï³Ï³Ý ³Ïï»ñÇó ³Ý÷á÷áË ÃáÕÝí³ÍÝ»ñÇ ù³Ý³ÏÁ
G4: Ù»ñÅí»É ¿ | H4: µ³í³ñ³ñí»É ¿ | I4: µ³í³ñ³ñí»É ¿ Ù³ëÝ³ÏÇ | J4: ÃáÕÝí»É ¿ ³é³Ýó ùÝÝáõÃÛ³Ý | K4: ÀÝ¹³Ù»ÝÁ
M5: Ý³Ëáñ¹ ï³ñÇÝ»ñÇÝ Ï³Û³óí³Í ³Ïï»ñÇ ¹»Ù | N5: Ñ³ßí»ïáõ Å³Ù³Ý³Ï³ßñç³ÝáõÙ Ï³Û³óí³Í ³Ïï»ñÇ ¹»Ù | P5: Ý³Ëáñ¹ ï³ñÇÝ»ñÇÝ Ï³Û³óí³Í ³Ïï»ñÇ µ»Ï³ÝáõÙÝ»ñÁ | Q5: Ñ³ßí»ïáõ Å³Ù³Ý³Ï³ßñç³ÝáõÙ Ï³Û³óí³Í ³Ïï»ñÇ µ»Ï³ÝáõÙÝ»ñÁ
A6: 1. ØÇÝã¹³ï³Ï³Ý í³ñáõÛÃÇ ÝÏ³ïÙ³Ùµ ¹³ï³Ï³Ý í»ñ³ÑëÏáÕáõÃÛ³Ý áÉáñï | D6: 1 | E6: 2 | F6: 3 | G6: 4 | H6: 5 | I6: 6 | J6: 7 | K6: 8 | L6: 9 | M6: 10 | N6: 11 | O6: 12 | P6: 13 | Q6: 14 | R6: 15 | T6: 1+2=3+8+9 | V6: 8=4+5+6+7
A7: 1 | B7: Ï³É³ÝùÁ áñå»ë Ë³÷³ÝÙ³Ý ÙÇçáó ÏÇñ³é»Éáõ Ù³ëÇÝ ÙÇçÝáñ¹áõÃÛáõÝÝ»ñ | E7: 10 | G7: 2 | H7: 8 | K7: 10 | N7: 3 | O7: 2 | R7: 1 | T7: =D7+E7 -> 10 | U7: =F7+K7+L7 -> 10 | V7: =K7 -> 10 | W7: =G7+H7+I7+J7 -> 10
A8: 2 | B8: Ï³É³ÝùÇ Å³ÙÏ»ïÁ »ñÏ³ñ³óÝ»Éáõ Ù³ëÇÝ ÙÇçÝáñ¹áõÃÛáõÝÝ»ñ | E8: 3 | H8: 3 | K8: 3 | T8: =D8+E8 -> 3 | U8: =F8+K8+L8 -> 3 | V8: =K8 -> 3 | W8: =G8+H8+I8+J8 -> 3
A9: 3 | B9: Ï³É³ÝùÇ í»ñ³Ñ³ëï³ïÙ³Ý Ù³ëÇÝ ÙÇçÝáñ¹áõÃÛáõÝÝ»ñ | E9: 1 | H9: 1 | K9: 1 | N9: 1 | O9: 1 | T9: =D9+E9 -> 1 | U9: =F9+K9+L9 -> 1 | V9: =K9 -> 1 | W9: =G9+H9+I9+J9 -> 1
A10: 4 | B10: ·ñ³íÁ áñå»ë Ï³É³Ý³íáñÙ³Ý ³ÛÉÁÝïñ³Ýù³ÛÇÝ Ë³÷³ÝÙ³Ý ÙÇçáó ÏÇñ³é»Éáõ Ù³ëÇÝ ÙÇçÝáñ¹áõÃÛáõÝÝ»ñ | E10: 5 | G10: 3 | H10: 2 | K10: 5 | T10: =D10+E10 -> 5 | U10: =F10+K10+L10 -> 5 | V10: =K10 -> 5 | W10: =G10+H10+I10+J10 -> 5
A11: 5 | B11: Ëáõ½³ñÏáõÃÛ³Ý Ï³ï³ñÙ³Ý Ù³ëÇÝ ÙÇçÝáñ¹áõÃÛáõÝÝ»ñ | E11: 5 | H11: 5 | K11: 5 | T11: =D11+E11 -> 5 | U11: =F11+K11+L11 -> 5 | V11: =K11 -> 5 | W11: =G11+H11+I11+J11 -> 5
A12: 6 | B12: µ³ÝÏ³ÛÇÝ, ³å³Ñáí³·ñ³Ï³Ý, Ýáï³ñ³Ï³Ý ·³ÕïÝÇù Ï³½ÙáÕ ï»Õ»ÏáõÃÛáõÝÝ»ñÇ ëï³óÙ³Ý Ñ³Ù³ñ Ëáõ½³ñÏáõÃÛ³Ý Ï³Ù ³é·ñ³íÙ³Ý Ï³ï³ñÙ³Ý Ù³ëÇÝ ÙÇçÝáñ¹áõÃÛáõÝÝ»ñ | T12: =D12+E12 -> 0 | U12: =F12+K12+L12 -> 0 | V12: =K12 -> 0 | W12: =G12+H12+I12+J12 -> 0
A13: 7 | B13: Ý³Ù³Ï³·ñáõÃÛ³Ý, Ñ»é³·ñ³Ï³Ý, ÷áuï³ÛÇÝ Ñ³Õáñ¹áõÙÝ»ñÇ ÑëÏáÕáõÃÛ³Ý Ù³ëÇÝ ÙÇçÝáñ¹áõÃÛáõÝÝ»ñ | T13: =D13+E13 -> 0 | U13: =F13+K13+L13 -> 0 | V13: =K13 -> 0 | W13: =G13+H13+I13+J13 -> 0
A14: 8 | B14: Ñ»é³Ëáu³ÛÇÝ Ï³Ù Ï³åÇ ³ÛÉ ÙÇçáóÝ»ñáí ï³ñíáÕ Ëáu³ÏóáõÃÛáõÝÝ»ñÇ ÉuÙ³Ý ¨ Ó³ÛÝ³·ñ³éÙ³Ý Ù³ëÇÝ ÙÇçÝáñ¹áõÃÛáõÝÝ»ñ | T14: =D14+E14 -> 0 | U14: =F14+K14+L14 -> 0 | V14: =K14 -> 0 | W14: =G14+H14+I14+J14 -> 0
A15: 9 | B15: Ñ»é³ËáëÝ»ñÇ Ùáõïù³ÛÇÝ ¨ »Éù³ÛÇÝ í»ñÍ³ÝÙ³Ý ÃáõÛÉïíáõÃÛáõÝ ëï³Ý³Éáõ Ù³ëÇÝ ÙÇçÝáñ¹áõÃÛáõÝÝ»ñ | E15: 13 | H15: 13 | K15: 13 | T15: =D15+E15 -> 13 | U15: =F15+K15+L15 -> 13 | V15: =K15 -> 13 | W15: =G15+H15+I15+J15 -> 13
A16: 10 | B16: Ñ»ï³ùÝÝáõÃÛ³Ý Ù³ñÙÝÇ ³ßË³ïáÕÇ, ùÝÝÇãÇ, ¹³ï³Ë³½Ç oå»ñ³ïÇí-Ñ»ï³Ëáõ½³Ï³Ý ·áñÍáÕáõÃÛáõÝÝ»ñ Çñ³Ï³Ý³óÝáÕ Ù³ñÙÇÝÝ»ñÇ ³ÝoñÇÝ³Ï³Ý ¨ ³ÝÑÇÙÝ áñáßáõÙÝ»ñÇ ¨ ·áñÍáÕáõÃÛáõÝÝ»ñÇ ¹»Ù µáÕáùÝ»ñ | T16: =D16+E16 -> 0 | U16: =F16+K16+L16 -> 0 | V16: =K16 -> 0 | W16: =G16+H16+I16+J16 -> 0
A17: 2. ¸³ï³Ï³Ý ³Ïï»ñÇ ¨ ¹³ï³Ï³Ý Ñ³ÝÓÝ³ñ³ñáõÃÛáõÝÝ»ñÇ Ï³ï³ñÙ³Ý Ñ»ï Ï³åí³Í Ñ³ñó»ñÇ ÉáõÍÙ³Ý áÉáñï
A18: 1 | B18: å³ïÅÇó å³ÛÙ³Ý³Ï³Ý í³Õ³Å³ÙÏ»ï ³½³ï»Éáõ Ù³ëÇÝ ÙÇçÝáñ¹áõÃÛáõÝÝ»ñ | T18: =J18+K18 -> 0 | U18: =F18+K18+L18 -> 0 | V18: =P18 -> 0 | W18: =L18+M18+N18+O18 -> 0
A19: 2 | B19: å³ïÇÅÁ ÷á÷áË»Éáõ, Ñ»ï³Ó·»Éáõ ¨ å³ïÅÇó ³½³ï»Éáõ Ù³uÇÝ ÙÇçÝáñ¹áõÃÛáõÝÝ»ñ | T19: =J19+K19 -> 0 | U19: =F19+K19+L19 -> 0 | V19: =P19 -> 0 | W19: =L19+M19+N19+O19 -> 0
A20: 3 | B20: Ñ³ñÏ³¹Çñ µáõÅÙ³Ý ï»ë³ÏÇ ÷á÷áËáõÃÛ³Ý Ù³ëÇÝ ÙÇçÝáñ¹áõÃÛáõÝÝ»ñ | T20: =J20+K20 -> 0 | U20: =F20+K20+L20 -> 0 | V20: =P20 -> 0 | W20: =L20+M20+N20+O20 -> 0
A21: 4 | B21: ³ÛÉ ÙÇçÝáñ¹áõÃÛáõÝÝ»ñ | T21: =J21+K21 -> 0 | U21: =F21+K21+L21 -> 0 | V21: =P21 -> 0 | W21: =L21+M21+N21+O21 -> 0
A22: 5 | B22: ¹³ï³Ï³Ý Ñ³ÝÓÝ³ñ³ñáõÃÛáõÝÝ»ñ | D22: 1 | E22: 1 | H22: 2 | K22: 2 | T22: =J22+K22 -> 2 | U22: =F22+K22+L22 -> 2 | V22: =P22 -> 0 | W22: =L22+M22+N22+O22 -> 0
A23: ÀÜ¸²ØºÜÀ | D23: =D7+D8+D9+D10+D11+D12+D13+D14+D15+D16+D18+D19+D20+D21+D22 -> 1 | E23: =E7+E8+E9+E10+E11+E12+E13+E14+E15+E16+E18+E19+E20+E21+E22 -> 38 | F23: =F7+F8+F9+F10+F11+F12+F13+F14+F15+F16+F18+F19+F20+F21+F22 -> 0 | G23: =G7+G8+G9+G10+G11+G12+G13+G14+G15+G16+G18+G19+G20+G21+G22 -> 5 | H23: =H7+H8+H9+H10+H11+H12+H13+H14+H15+H16+H18+H19+H20+H21+H22 -> 34 | I23: =I7+I8+I9+I10+I11+I12+I13+I14+I15+I16+I18+I19+I20+I21+I22 -> 0 | J23: =J7+J8+J9+J10+J11+J12+J13+J14+J15+J16+J18+J19+J20+J21+J22 -> 0 | K23: =K7+K8+K9+K10+K11+K12+K13+K14+K15+K16+K18+K19+K20+K21+K22 -> 39 | ... R23: =R7+R8+R9+R10+R11+R12+R13+R14+R15+R16+R18+R19+R20+R21+R22 -> 1 | T23: =SUM(T7:T16,T18:T22) -> 39 | U23: =F23+K23+L23 -> 39 | V23: =SUM(V7:V16,V18:V22) -> 37 | W23: =SUM(W7:W16,W18:W22) -> 37

Sheet Ս. Գրիգորյան
A1: 2016Ã. 1-ԻՆ ԿԻՍԱՄՅԱԿ | D1: Ð²ÞìºîìàôÂÚàôÜ | P1: Ð³í»Éí³Í Ð³Û³ëï³ÝÇ Ð³Ýñ³å»ïáõÃÛ³Ý ¸³ï³ñ³ÝÝ»ñÇ Ý³Ë³·³ÑÝ»ñÇ ËáñÑñ¹Ç 25.08.2016Ã. ÃÇí 44-È áñáßÙ³Ý
A2: ØÇÝã¹³ï³Ï³Ý í³ñáõÛÃÇ ÝÏ³ïÙ³Ùµ ¹³ï³Ï³Ý í»ñ³ÑëÏáÕáõÃÛ³ÝÁ, ¹³ï³Ï³Ý ³Ïï»ñÇ ¨ ¹³ï³Ï³Ý Ñ³ÝÓÝ³ñ³ñáõÃÛáõÝÝ»ñÇ Ï³ï³ñÙ³Ý Ñ»ï Ï³åí³Í ÙÇçÝáñ¹áõÃÛáõÝÝ»ñÇ í»ñ³µ»ñÛ³É ¹³ï³Ï³Ý ·áñÍ»ñáí ÐÐ êÛáõÝÇùÇ Ù³ñ½Ç ÁÝ¹Ñ³Ýáõñ Çñ³í³ëáõÃÛ³Ý ³é³çÇÝ ³ïÛ³ÝÇ ¹³ï³ñ³ÝÇ ¹³ï³íáñ Ս.Գրիգորյան ·áñÍáõÝ»áõÃÛ³Ý í»ñ³µ»ñÛ³É
A3: êïáõ·Çã Ñ³í³ë³ñáõÙ` 1+2=3+8+9, 8=4+5+6+7, | D3: Ð³ßí»ïáõ Å³Ù³Ý³Ï³Ñ³ïí³ÍÇ ëÏ½µáõÙ Ý³Ëáñ¹ Ñ³ßí»ïáõ Å³Ù³Ý³Ï³Ñ³ïí³ÍÇó ÷áË³Ýóí³Í ·áñÍ»ñÇ ÁÝ¹Ñ³Ýáõñ ÃÇíÁ | E3: Ð³ßí»ïáõ Å³Ù³Ý³Ï³Ñ³ïí³ÍáõÙ ëï³óí³Í ·áñÍ»ñÇ ÁÝ¹Ñ³Ýáõñ ÃÇíÁ | F3: öáË³Ýóí»É ¿ ³ÛÉ ¹³ï³íáñÇ Ï³Ù ³ÛÉ ¹³ï³ñ³Ý (Ï³½ÙÇ ÷á÷áËáõÃÛáõÝ, ÁÝ¹¹³ïáõÃÛáõÝ) | G3: Ð³ßí»ïáõ Å³Ù³Ý³Ï³Ñ³ïí³ÍáõÙ ³í³ñïí³Í ·áñÍ»ñÇ ÁÝ¹Ñ³Ýáõñ ÃÇíÁ | L3: Ð³ßí»ïáõ Å³Ù³Ý³Ï³Ñ³ïí³ÍáõÙ ³Ý³í³ñï ·áñÍ»ñÇ ÁÝ¹Ñ³Ýáõñ ÃÇíÁ | M3: ØÇçÝáñ¹áõÃÛáõÝÝ»ñáí Ï³Û³óí³Í ¹³ï³Ï³Ý ³Ïï»ñÇó µáÕáù³ñÏí³ÍÝ»ñÇ ù³Ý³ÏÁ | O3: ²Ý³í³ñï µáÕáùÝ»ñ | P3: ØÇçÝáñ¹áõÃÛáõÝÝ»ñáí Ï³Û³óí³Í ¨ µáÕáù³ñÏí³Í ¹³ï³Ï³Ý ³Ïï»ñÇó µ»Ï³Ýí³ÍÝ»ñÇ ù³Ý³ÏÁ | R3: ÙÇçÝáñ¹áõÃÛáõÝÝ»ñáí Ï³Û³óí³Í ¨ µáÕáù³ñÏí³Í ¹³ï³Ï³Ý ³Ïï»ñÇó ³Ý÷á÷áË ÃáÕÝí³ÍÝ»ñÇ ù³Ý³ÏÁ
G4: Ù»ñÅí»É ¿ | H4: µ³í³ñ³ñí»É ¿ | I4: µ³í³ñ³ñí»É ¿ Ù³ëÝ³ÏÇ | J4: ÃáÕÝí»É ¿ ³é³Ýó ùÝÝáõÃÛ³Ý | K4: ÀÝ¹³Ù»ÝÁ
M5: Ý³Ëáñ¹ ï³ñÇÝ»ñÇÝ Ï³Û³óí³Í ³Ïï»ñÇ ¹»Ù | N5: Ñ³ßí»ïáõ Å³Ù³Ý³Ï³ßñç³ÝáõÙ Ï³Û³óí³Í ³Ïï»ñÇ ¹»Ù | P5: Ý³Ëáñ¹ ï³ñÇÝ»ñÇÝ Ï³Û³óí³Í ³Ïï»ñÇ µ»Ï³ÝáõÙÝ»ñÁ | Q5: Ñ³ßí»ïáõ Å³Ù³Ý³Ï³ßñç³ÝáõÙ Ï³Û³óí³Í ³Ïï»ñÇ µ»Ï³ÝáõÙÝ»ñÁ
A6: 1. ØÇÝã¹³ï³Ï³Ý í³ñáõÛÃÇ ÝÏ³ïÙ³Ùµ ¹³ï³Ï³Ý í»ñ³ÑëÏáÕáõÃÛ³Ý áÉáñï | D6: 1 | E6: 2 | F6: 3 | G6: 4 | H6: 5 | I6: 6 | J6: 7 | K6: 8 | L6: 9 | M6: 10 | N6: 11 | O6: 12 | P6: 13 | Q6: 14 | R6: 15 | T6: 1+2=3+8+9 | V6: 8=4+5+6+7
A7: 1 | B7: Ï³É³ÝùÁ áñå»ë Ë³÷³ÝÙ³Ý ÙÇçáó ÏÇñ³é»Éáõ Ù³ëÇÝ ÙÇçÝáñ¹áõÃÛáõÝÝ»ñ | E7: 1 | G7: 1 | K7: 1 | T7: =D7+E7 -> 1 | U7: =F7+K7+L7 -> 1 | V7: =K7 -> 1 | W7: =G7+H7+I7+J7 -> 1
A8: 2 | B8: Ï³É³ÝùÇ Å³ÙÏ»ïÁ »ñÏ³ñ³óÝ»Éáõ Ù³ëÇÝ ÙÇçÝáñ¹áõÃÛáõÝÝ»ñ | E8: 4 | H8: 2 | I8: 2 | K8: 4 | N8: 1 | O8: 1 | T8: =D8+E8 -> 4 | U8: =F8+K8+L8 -> 4 | V8: =K8 -> 4 | W8: =G8+H8+I8+J8 -> 4
A9: 3 | B9: Ï³É³ÝùÇ í»ñ³Ñ³ëï³ïÙ³Ý Ù³ëÇÝ ÙÇçÝáñ¹áõÃÛáõÝÝ»ñ | T9: =D9+E9 -> 0 | U9: =F9+K9+L9 -> 0 | V9: =K9 -> 0 | W9: =G9+H9+I9+J9 -> 0
A10: 4 | B10: ·ñ³íÁ áñå»ë Ï³É³Ý³íáñÙ³Ý ³ÛÉÁÝïñ³Ýù³ÛÇÝ Ë³÷³ÝÙ³Ý ÙÇçáó ÏÇñ³é»Éáõ Ù³ëÇÝ ÙÇçÝáñ¹áõÃÛáõÝÝ»ñ | E10: 3 | G10: 3 | K10: 3 | T10: =D10+E10 -> 3 | U10: =F10+K10+L10 -> 3 | V10: =K10 -> 3 | W10: =G10+H10+I10+J10 -> 3
A11: 5 | B11: Ëáõ½³ñÏáõÃÛ³Ý Ï³ï³ñÙ³Ý Ù³ëÇÝ ÙÇçÝáñ¹áõÃÛáõÝÝ»ñ | E11: 2 | H11: 2 | K11: 2 | T11: =D11+E11 -> 2 | U11: =F11+K11+L11 -> 2 | V11: =K11 -> 2 | W11: =G11+H11+I11+J11 -> 2
A12: 6 | B12: µ³ÝÏ³ÛÇÝ, ³å³Ñáí³·ñ³Ï³Ý, Ýáï³ñ³Ï³Ý ·³ÕïÝÇù Ï³½ÙáÕ ï»Õ»ÏáõÃÛáõÝÝ»ñÇ ëï³óÙ³Ý Ñ³Ù³ñ Ëáõ½³ñÏáõÃÛ³Ý Ï³Ù ³é·ñ³íÙ³Ý Ï³ï³ñÙ³Ý Ù³ëÇÝ ÙÇçÝáñ¹áõÃÛáõÝÝ»ñ | T12: =D12+E12 -> 0 | U12: =F12+K12+L12 -> 0 | V12: =K12 -> 0 | W12: =G12+H12+I12+J12 -> 0
A13: 7 | B13: Ý³Ù³Ï³·ñáõÃÛ³Ý, Ñ»é³·ñ³Ï³Ý, ÷áuï³ÛÇÝ Ñ³Õáñ¹áõÙÝ»ñÇ ÑëÏáÕáõÃÛ³Ý Ù³ëÇÝ ÙÇçÝáñ¹áõÃÛáõÝÝ»ñ | T13: =D13+E13 -> 0 | U13: =F13+K13+L13 -> 0 | V13: =K13 -> 0 | W13: =G13+H13+I13+J13 -> 0
A14: 8 | B14: Ñ»é³Ëáu³ÛÇÝ Ï³Ù Ï³åÇ ³ÛÉ ÙÇçáóÝ»ñáí ï³ñíáÕ Ëáu³ÏóáõÃÛáõÝÝ»ñÇ ÉuÙ³Ý ¨ Ó³ÛÝ³·ñ³éÙ³Ý Ù³ëÇÝ ÙÇçÝáñ¹áõÃÛáõÝÝ»ñ | T14: =D14+E14 -> 0 | U14: =F14+K14+L14 -> 0 | V14: =K14 -> 0 | W14: =G14+H14+I14+J14 -> 0
A15: 9 | B15: Ñ»é³ËáëÝ»ñÇ Ùáõïù³ÛÇÝ ¨ »Éù³ÛÇÝ í»ñÍ³ÝÙ³Ý ÃáõÛÉïíáõÃÛáõÝ ëï³Ý³Éáõ Ù³ëÇÝ ÙÇçÝáñ¹áõÃÛáõÝÝ»ñ | E15: 2 | H15: 2 | K15: 2 | T15: =D15+E15 -> 2 | U15: =F15+K15+L15 -> 2 | V15: =K15 -> 2 | W15: =G15+H15+I15+J15 -> 2
A16: 10 | B16: Ñ»ï³ùÝÝáõÃÛ³Ý Ù³ñÙÝÇ ³ßË³ïáÕÇ, ùÝÝÇãÇ, ¹³ï³Ë³½Ç oå»ñ³ïÇí-Ñ»ï³Ëáõ½³Ï³Ý ·áñÍáÕáõÃÛáõÝÝ»ñ Çñ³Ï³Ý³óÝáÕ Ù³ñÙÇÝÝ»ñÇ ³ÝoñÇÝ³Ï³Ý ¨ ³ÝÑÇÙÝ áñáßáõÙÝ»ñÇ ¨ ·áñÍáÕáõÃÛáõÝÝ»ñÇ ¹»Ù µáÕáùÝ»ñ | E16: 1 | G16: 1 | K16: 1 | T16: =D16+E16 -> 1 | U16: =F16+K16+L16 -> 1 | V16: =K16 -> 1 | W16: =G16+H16+I16+J16 -> 1
A17: 2. ¸³ï³Ï³Ý ³Ïï»ñÇ ¨ ¹³ï³Ï³Ý Ñ³ÝÓÝ³ñ³ñáõÃÛáõÝÝ»ñÇ Ï³ï³ñÙ³Ý Ñ»ï Ï³åí³Í Ñ³ñó»ñÇ ÉáõÍÙ³Ý áÉáñï
A18: 1 | B18: å³ïÅÇó å³ÛÙ³Ý³Ï³Ý í³Õ³Å³ÙÏ»ï ³½³ï»Éáõ Ù³ëÇÝ ÙÇçÝáñ¹áõÃÛáõÝÝ»ñ | T18: =J18+K18 -> 0 | U18: =F18+K18+L18 -> 0 | V18: =P18 -> 0 | W18: =L18+M18+N18+O18 -> 0
A19: 2 | B19: å³ïÇÅÁ ÷á÷áË»Éáõ, Ñ»ï³Ó·»Éáõ ¨ å³ïÅÇó ³½³ï»Éáõ Ù³uÇÝ ÙÇçÝáñ¹áõÃÛáõÝÝ»ñ | T19: =J19+K19 -> 0 | U19: =F19+K19+L19 -> 0 | V19: =P19 -> 0 | W19: =L19+M19+N19+O19 -> 0
A20: 3 | B20: Ñ³ñÏ³¹Çñ µáõÅÙ³Ý ï»ë³ÏÇ ÷á÷áËáõÃÛ³Ý Ù³ëÇÝ ÙÇçÝáñ¹áõÃÛáõÝÝ»ñ | T20: =J20+K20 -> 0 | U20: =F20+K20+L20 -> 0 | V20: =P20 -> 0 | W20: =L20+M20+N20+O20 -> 0
A21: 4 | B21: ³ÛÉ ÙÇçÝáñ¹áõÃÛáõÝÝ»ñ | T21: =J21+K21 -> 0 | U21: =F21+K21+L21 -> 0 | V21: =P21 -> 0 | W21: =L21+M21+N21+O21 -> 0
A22: 5 | B22: ¹³ï³Ï³Ý Ñ³ÝÓÝ³ñ³ñáõÃÛáõÝÝ»ñ | T22: =J22+K22 -> 0 | U22: =F22+K22+L22 -> 0 | V22: =P22 -> 0 | W22: =L22+M22+N22+O22 -> 0
