Workbook

Sheet Ընդանուր
A1: 2016Ã. | C1: Ð²ÞìºîìàôÂÚàôÜ | K1: Ð³í»Éí³Í Ð³Û³ëï³ÝÇ Ð³Ýñ³å»ïáõÃÛ³Ý ¸³ï³ñ³ÝÝ»ñÇ Ý³Ë³·³ÑÝ»ñÇ ËáñÑñ¹Ç 27.01.2017Ã. ÃÇí 01-È áñáßÙ³Ý
A2: ØÇÝã¹³ï³Ï³Ý í³ñáõÛÃÇ ÝÏ³ïÙ³Ùµ ¹³ï³Ï³Ý í»ñ³ÑëÏáÕáõÃÛ³ÝÁ, ¹³ï³Ï³Ý ³Ïï»ñÇ ¨ ¹³ï³Ï³Ý Ñ³ÝÓÝ³ñ³ñáõÃÛáõÝÝ»ñÇ Ï³ï³ñÙ³ÝÁ Ñ»ï Ï³åí³Í ÙÇçÝáñ¹áõÃÛáõÝÝ»ñÇ í»ñ³µ»ñÛ³É ¹³ï³Ï³Ý ·áñÍ»ñáí ՀՀ ÁÝ¹Ñ³Ýáõñ Çñ³í³ëáõÃÛ³Ý ³é³çÇÝ ³ïÛ³ÝÇ ¹³ï³ñ³ÝներÇ ·áñÍáõÝ»áõÃÛ³Ý í»ñ³µ»ñÛ³É
A3: êïáõ·Çã Ñ³í³ë³ñáõÙ` 1+2=7+8+9, 7=3+4+5+6, | D3: Ñ³ßí»ïáõ Å³Ù³Ý³Ï³Ñ³ïí³ÍÇ ëÏ½µáõÙ Ý³Ëáñ¹ Ñ³ßí»ïáõ Å³Ù³Ý³Ï³Ñ³ïí³ÍÇó ÷áË³Ýóí³Í ·áñÍ»ñÇ ÁÝ¹Ñ³Ýáõñ ÃÇíÁ | E3: Ñ³ßí»ïáõ Å³Ù³Ý³Ï³Ñ³ïí³ÍáõÙ ëï³óí³Í ·áñÍ»ñÇ ÁÝ¹Ñ³Ýáõñ ÃÇíÁ | F3: Ñ³ßí»ïáõ Å³Ù³Ý³Ï³Ñ³ïí³ÍáõÙ ³í³ñïí³Í ·áñÍ»ñÇ ÁÝ¹Ñ³Ýáõñ ÃÇíÁ | K3: áõÕ³ñÏí»É ¿ Áëï ÁÝ¹¹³ïáõÃÛ³Ý | L3: Ñ³ßí»ïáõ Å³Ù³Ý³Ï³Ñ³ïí³ÍáõÙ ³Ý³í³ñï ·áñÍ»ñÇ ÁÝ¹Ñ³Ýáõñ ÃÇíÁ | M3: µáÕáù³ñÏí»É ¿ í»ñ³ùÝÝÇã ¹³ï³ñ³Ý
F4: Ù»ñÅí»É ¿ | G4: µ³í³ñ³ñí»É ¿ | H4: µ³í³ñ³ñí»É ¿ Ù³ëÝ³ÏÇ | I4: ÃáÕÝí»É ¿ ³é³Ýó ùÝÝáõÃÛ³Ý | J4: ÁÝ¹³Ù»ÝÁ
A5: 1. ØÇÝã¹³ï³Ï³Ý í³ñáõÛÃÇ ÝÏ³ïÙ³Ùµ ¹³ï³Ï³Ý í»ñ³ÑëÏáÕáõÃÛ³Ý áÉáñï | D5: 1 | E5: 2 | F5: 3 | G5: 4 | H5: 5 | I5: 6 | J5: 7 | K5: 8 | L5: 9 | M5: 10 | N5: 1+2=7+8+9 | P5: 7=3+4+5+6
A6: 1 | B6: Ï³É³ÝùÁ áñå»ë Ë³÷³ÝÙ³Ý ÙÇçáó ÏÇñ³é»Éáõ Ù³ëÇÝ ÙÇçÝáñ¹áõÃÛáõÝÝ»ñ | D6: =SUM(Ajapnyak:Shirak!D6) -> 0 | E6: =SUM(Ajapnyak:Shirak!E6) -> 2563 | F6: =SUM(Ajapnyak:Shirak!F6) -> 163 | G6: =SUM(Ajapnyak:Shirak!G6) -> 2379 | H6: =SUM(Ajapnyak:Shirak!H6) -> 13 | I6: =SUM(Ajapnyak:Shirak!I6) -> 8 | J6: =SUM(Ajapnyak:Shirak!J6) -> 2563 | K6: =SUM(Ajapnyak:Shirak!K6) -> 0 | ... M6: =SUM(Ajapnyak:Shirak!M6) -> 499 | N6: =D6+E6 -> 2563 | O6: =J6+K6+L6 -> 2563 | P6: =J6 -> 2563 | Q6: =F6+G6+H6+I6 -> 2563
A7: 2 | B7: Ï³É³ÝùÇ Å³ÙÏ»ïÁ »ñÏ³ñ³óÝ»Éáõ Ù³ëÇÝ ÙÇçÝáñ¹áõÃÛáõÝÝ»ñ | D7: =SUM(Ajapnyak:Shirak!D7) -> 25 | E7: =SUM(Ajapnyak:Shirak!E7) -> 1795 | F7: =SUM(Ajapnyak:Shirak!F7) -> 36 | G7: =SUM(Ajapnyak:Shirak!G7) -> 1691 | H7: =SUM(Ajapnyak:Shirak!H7) -> 67 | I7: =SUM(Ajapnyak:Shirak!I7) -> 11 | J7: =SUM(Ajapnyak:Shirak!J7) -> 1805 | K7: =SUM(Ajapnyak:Shirak!K7) -> 0 | ... M7: =SUM(Ajapnyak:Shirak!M7) -> 522 | N7: =D7+E7 -> 1820 | O7: =J7+K7+L7 -> 1820 | P7: =J7 -> 1805 | Q7: =F7+G7+H7+I7 -> 1805
A8: 3 | B8: Ï³É³ÝùÇ í»ñ³Ñ³ëï³ïÙ³Ý Ù³ëÇÝ ÙÇçÝáñ¹áõÃÛáõÝÝ»ñ | D8: =SUM(Ajapnyak:Shirak!D8) -> 0 | E8: =SUM(Ajapnyak:Shirak!E8) -> 207 | F8: =SUM(Ajapnyak:Shirak!F8) -> 15 | G8: =SUM(Ajapnyak:Shirak!G8) -> 191 | H8: =SUM(Ajapnyak:Shirak!H8) -> 1 | I8: =SUM(Ajapnyak:Shirak!I8) -> 0 | J8: =SUM(Ajapnyak:Shirak!J8) -> 207 | K8: =SUM(Ajapnyak:Shirak!K8) -> 0 | ... M8: =SUM(Ajapnyak:Shirak!M8) -> 47 | N8: =D8+E8 -> 207 | O8: =J8+K8+L8 -> 207 | P8: =J8 -> 207 | Q8: =F8+G8+H8+I8 -> 207
A9: 4 | B9: ·ñ³íÁ áñå»ë Ï³É³Ý³íáñÙ³Ý ³ÛÉÁÝïñ³Ýù³ÛÇÝ Ë³÷³ÝÙ³Ý ÙÇçáó ÏÇñ³é»Éáõ Ù³ëÇÝ ÙÇçÝáñ¹áõÃÛáõÝÝ»ñ | D9: =SUM(Ajapnyak:Shirak!D9) -> 5 | E9: =SUM(Ajapnyak:Shirak!E9) -> 772 | F9: =SUM(Ajapnyak:Shirak!F9) -> 588 | G9: =SUM(Ajapnyak:Shirak!G9) -> 161 | H9: =SUM(Ajapnyak:Shirak!H9) -> 8 | I9: =SUM(Ajapnyak:Shirak!I9) -> 12 | J9: =SUM(Ajapnyak:Shirak!J9) -> 769 | K9: =SUM(Ajapnyak:Shirak!K9) -> 5 | ... M9: =SUM(Ajapnyak:Shirak!M9) -> 145 | N9: =D9+E9 -> 777 | O9: =J9+K9+L9 -> 777 | P9: =J9 -> 769 | Q9: =F9+G9+H9+I9 -> 769
A10: 5 | B10: Ëáõ½³ñÏáõÃÛ³Ý Ï³ï³ñÙ³Ý Ù³ëÇÝ ÙÇçÝáñ¹áõÃÛáõÝÝ»ñ | D10: =SUM(Ajapnyak:Shirak!D10) -> 0 | E10: =SUM(Ajapnyak:Shirak!E10) -> 4247 | F10: =SUM(Ajapnyak:Shirak!F10) -> 252 | G10: =SUM(Ajapnyak:Shirak!G10) -> 3927 | H10: =SUM(Ajapnyak:Shirak!H10) -> 59 | I10: =SUM(Ajapnyak:Shirak!I10) -> 9 | J10: =SUM(Ajapnyak:Shirak!J10) -> 4247 | K10: =SUM(Ajapnyak:Shirak!K10) -> 0 | ... M10: =SUM(Ajapnyak:Shirak!M10) -> 38 | N10: =D10+E10 -> 4247 | O10: =J10+K10+L10 -> 4247 | P10: =J10 -> 4247 | Q10: =F10+G10+H10+I10 -> 4247
A11: 6 | B11: µ³ÝÏ³ÛÇÝ, ³å³Ñáí³·ñ³Ï³Ý, Ýáï³ñ³Ï³Ý ·³ÕïÝÇù Ï³½ÙáÕ ï»Õ»ÏáõÃÛáõÝÝ»ñÇ ëï³óÙ³Ý Ñ³Ù³ñ Ëáõ½³ñÏáõÃÛ³Ý Ï³Ù ³é·ñ³íÙ³Ý Ï³ï³ñÙ³Ý Ù³ëÇÝ ÙÇçÝáñ¹áõÃÛáõÝÝ»ñ | D11: =SUM(Ajapnyak:Shirak!D11) -> 0 | E11: =SUM(Ajapnyak:Shirak!E11) -> 238 | F11: =SUM(Ajapnyak:Shirak!F11) -> 19 | G11: =SUM(Ajapnyak:Shirak!G11) -> 208 | H11: =SUM(Ajapnyak:Shirak!H11) -> 11 | I11: =SUM(Ajapnyak:Shirak!I11) -> 0 | J11: =SUM(Ajapnyak:Shirak!J11) -> 238 | K11: =SUM(Ajapnyak:Shirak!K11) -> 0 | ... M11: =SUM(Ajapnyak:Shirak!M11) -> 4 | N11: =D11+E11 -> 238 | O11: =J11+K11+L11 -> 238 | P11: =J11 -> 238 | Q11: =F11+G11+H11+I11 -> 238
A12: 7 | B12: Ý³Ù³Ï³·ñáõÃÛ³Ý, Ñ»é³·ñ³Ï³Ý, ÷áuï³ÛÇÝ Ñ³Õáñ¹áõÙÝ»ñÇ ÑëÏáÕáõÃÛ³Ý Ù³ëÇÝ ÙÇçÝáñ¹áõÃÛáõÝÝ»ñ | D12: =SUM(Ajapnyak:Shirak!D12) -> 0 | E12: =SUM(Ajapnyak:Shirak!E12) -> 146 | F12: =SUM(Ajapnyak:Shirak!F12) -> 5 | G12: =SUM(Ajapnyak:Shirak!G12) -> 137 | H12: =SUM(Ajapnyak:Shirak!H12) -> 1 | I12: =SUM(Ajapnyak:Shirak!I12) -> 3 | J12: =SUM(Ajapnyak:Shirak!J12) -> 146 | K12: =SUM(Ajapnyak:Shirak!K12) -> 0 | ... M12: =SUM(Ajapnyak:Shirak!M12) -> 0 | N12: =D12+E12 -> 146 | O12: =J12+K12+L12 -> 146 | P12: =J12 -> 146 | Q12: =F12+G12+H12+I12 -> 146
A13: 8 | B13: Ñ»é³Ëáu³ÛÇÝ Ï³Ù Ï³åÇ ³ÛÉ ÙÇçáóÝ»ñáí ï³ñíáÕ Ëáu³ÏóáõÃÛáõÝÝ»ñÇ ÉuÙ³Ý ¨ Ó³ÛÝ³·ñ³éÙ³Ý Ù³ëÇÝ ÙÇçÝáñ¹áõÃÛáõÝÝ»ñ | D13: =SUM(Ajapnyak:Shirak!D13) -> 0 | E13: =SUM(Ajapnyak:Shirak!E13) -> 105 | F13: =SUM(Ajapnyak:Shirak!F13) -> 2 | G13: =SUM(Ajapnyak:Shirak!G13) -> 101 | H13: =SUM(Ajapnyak:Shirak!H13) -> 0 | I13: =SUM(Ajapnyak:Shirak!I13) -> 2 | J13: =SUM(Ajapnyak:Shirak!J13) -> 105 | K13: =SUM(Ajapnyak:Shirak!K13) -> 0 | ... M13: =SUM(Ajapnyak:Shirak!M13) -> 1 | N13: =D13+E13 -> 105 | O13: =J13+K13+L13 -> 105 | P13: =J13 -> 105 | Q13: =F13+G13+H13+I13 -> 105
A14: 9 | B14: Ñ»é³ËáëÝ»ñÇ Ùáõïù³ÛÇÝ ¨ »Éù³ÛÇÝ í»ñÍ³ÝÙ³Ý ÃáõÛÉïíáõÃÛáõÝ ëï³Ý³Éáõ Ù³ëÇÝ ÙÇçÝáñ¹áõÃÛáõÝÝ»ñ | D14: =SUM(Ajapnyak:Shirak!D14) -> 0 | E14: =SUM(Ajapnyak:Shirak!E14) -> 5051 | F14: =SUM(Ajapnyak:Shirak!F14) -> 79 | G14: =SUM(Ajapnyak:Shirak!G14) -> 4884 | H14: =SUM(Ajapnyak:Shirak!H14) -> 84 | I14: =SUM(Ajapnyak:Shirak!I14) -> 3 | J14: =SUM(Ajapnyak:Shirak!J14) -> 5050 | K14: =SUM(Ajapnyak:Shirak!K14) -> 1 | ... M14: =SUM(Ajapnyak:Shirak!M14) -> 14 | N14: =D14+E14 -> 5051 | O14: =J14+K14+L14 -> 5051 | P14: =J14 -> 5050 | Q14: =F14+G14+H14+I14 -> 5050
A15: 10 | B15: Ñ»ï³ùÝÝáõÃÛ³Ý Ù³ñÙÝÇ ³ßË³ïáÕÇ, ùÝÝÇãÇ, ¹³ï³Ë³½Ç oå»ñ³ïÇí-Ñ»ï³Ëáõ½³Ï³Ý ·áñÍáÕáõÃÛáõÝÝ»ñ Çñ³Ï³Ý³óÝáÕ Ù³ñÙÇÝÝ»ñÇ ³ÝoñÇÝ³Ï³Ý ¨ ³ÝÑÇÙÝ áñáßáõÙÝ»ñÇ ¨ ·áñÍáÕáõÃÛáõÝÝ»ñÇ ¹»Ù µáÕáùÝ»ñ | D15: =SUM(Ajapnyak:Shirak!D15) -> 130 | E15: =SUM(Ajapnyak:Shirak!E15) -> 958 | F15: =SUM(Ajapnyak:Shirak!F15) -> 628 | G15: =SUM(Ajapnyak:Shirak!G15) -> 116 | H15: =SUM(Ajapnyak:Shirak!H15) -> 10 | I15: =SUM(Ajapnyak:Shirak!I15) -> 38 | J15: =SUM(Ajapnyak:Shirak!J15) -> 792 | K15: =SUM(Ajapnyak:Shirak!K15) -> 63 | ... M15: =SUM(Ajapnyak:Shirak!M15) -> 425 | N15: =D15+E15 -> 1088 | O15: =J15+K15+L15 -> 1078 | P15: =J15 -> 792 | Q15: =F15+G15+H15+I15 -> 792
A16: 11 | B16: ²½³ïáõÃÛáõÝÇó ½ñÏ»Éáõ Çñ³í³ã³÷áõÃÛ³Ý í»ñ³µ»ñÛ³É µáÕáùÝ»ñáí ·áñÍ»ñ | D16: =SUM(Ajapnyak:Shirak!D16) -> 0 | E16: =SUM(Ajapnyak:Shirak!E16) -> 34 | F16: =SUM(Ajapnyak:Shirak!F16) -> 20 | G16: =SUM(Ajapnyak:Shirak!G16) -> 11 | H16: =SUM(Ajapnyak:Shirak!H16) -> 0 | I16: =SUM(Ajapnyak:Shirak!I16) -> 3 | J16: =SUM(Ajapnyak:Shirak!J16) -> 34 | K16: =SUM(Ajapnyak:Shirak!K16) -> 0 | ... M16: =SUM(Ajapnyak:Shirak!M16) -> 14 | N16: =D16+E16 -> 34 | O16: =J16+K16+L16 -> 34 | P16: =J16 -> 34 | Q16: =F16+G16+H16+I16 -> 34
A17: 2. ¸³ï³Ï³Ý ³Ïï»ñÇ ¨ ¹³ï³Ï³Ý Ñ³ÝÓÝ³ñ³ñáõÃÛáõÝÝ»ñÇ Ï³ï³ñÙ³Ý Ñ»ï Ï³åí³Í Ñ³ñó»ñÇ ÉáõÍÙ³Ý áÉáñï | D17: =SUM(Ajapnyak:Shirak!D17) -> 0 | E17: =SUM(Ajapnyak:Shirak!E17) -> 0 | F17: =SUM(Ajapnyak:Shirak!F17) -> 0 | G17: =SUM(Ajapnyak:Shirak!G17) -> 0 | H17: =SUM(Ajapnyak:Shirak!H17) -> 0 | I17: =SUM(Ajapnyak:Shirak!I17) -> 0 | J17: =SUM(Ajapnyak:Shirak!J17) -> 0 | K17: =SUM(Ajapnyak:Shirak!K17) -> 0 | ... M17: =SUM(Ajapnyak:Shirak!M17) -> 0
A18: 1 | B18: å³ïÅÇó å³ÛÙ³Ý³Ï³Ý í³Õ³Å³ÙÏ»ï ³½³ï»Éáõ Ù³ëÇÝ ÙÇçÝáñ¹áõÃÛáõÝÝ»ñ | D18: =SUM(Ajapnyak:Shirak!D18) -> 1 | E18: =SUM(Ajapnyak:Shirak!E18) -> 167 | F18: =SUM(Ajapnyak:Shirak!F18) -> 42 | G18: =SUM(Ajapnyak:Shirak!G18) -> 120 | H18: =SUM(Ajapnyak:Shirak!H18) -> 0 | I18: =SUM(Ajapnyak:Shirak!I18) -> 1 | J18: =SUM(Ajapnyak:Shirak!J18) -> 163 | K18: =SUM(Ajapnyak:Shirak!K18) -> 0 | ... M18: =SUM(Ajapnyak:Shirak!M18) -> 66 | N18: =D18+E18 -> 168 | O18: =J18+K18+L18 -> 168 | P18: =J18 -> 163 | Q18: =F18+G18+H18+I18 -> 163
A19: 2 | B19: å³ïÇÅÁ ÷á÷áË»Éáõ, Ñ»ï³Ó·»Éáõ ¨ å³ïÅÇó ³½³ï»Éáõ Ù³uÇÝ ÙÇçÝáñ¹áõÃÛáõÝÝ»ñ | D19: =SUM(Ajapnyak:Shirak!D19) -> 25 | E19: =SUM(Ajapnyak:Shirak!E19) -> 362 | F19: =SUM(Ajapnyak:Shirak!F19) -> 75 | G19: =SUM(Ajapnyak:Shirak!G19) -> 218 | H19: =SUM(Ajapnyak:Shirak!H19) -> 15 | I19: =SUM(Ajapnyak:Shirak!I19) -> 12 | J19: =SUM(Ajapnyak:Shirak!J19) -> 320 | K19: =SUM(Ajapnyak:Shirak!K19) -> 21 | ... M19: =SUM(Ajapnyak:Shirak!M19) -> 33 | N19: =D19+E19 -> 387 | O19: =J19+K19+L19 -> 383 | P19: =J19 -> 320 | Q19: =F19+G19+H19+I19 -> 320
A20: 3 | B20: Ñ³ñÏ³¹Çñ µáõÅÙ³Ý ï»ë³ÏÇ ÷á÷áËáõÃÛ³Ý Ù³ëÇÝ ÙÇçÝáñ¹áõÃÛáõÝÝ»ñ | D20: =SUM(Ajapnyak:Shirak!D20) -> 5 | E20: =SUM(Ajapnyak:Shirak!E20) -> 209 | F20: =SUM(Ajapnyak:Shirak!F20) -> 37 | G20: =SUM(Ajapnyak:Shirak!G20) -> 166 | H20: =SUM(Ajapnyak:Shirak!H20) -> 1 | I20: =SUM(Ajapnyak:Shirak!I20) -> 1 | J20: =SUM(Ajapnyak:Shirak!J20) -> 205 | K20: =SUM(Ajapnyak:Shirak!K20) -> 0 | ... M20: =SUM(Ajapnyak:Shirak!M20) -> 13 | N20: =D20+E20 -> 214 | O20: =J20+K20+L20 -> 213 | P20: =J20 -> 205 | Q20: =F20+G20+H20+I20 -> 205
A21: 4 | B21: ³ÛÉ ÙÇçÝáñ¹áõÃÛáõÝÝ»ñ | D21: =SUM(Ajapnyak:Shirak!D21) -> 12 | E21: =SUM(Ajapnyak:Shirak!E21) -> 443 | F21: =SUM(Ajapnyak:Shirak!F21) -> 138 | G21: =SUM(Ajapnyak:Shirak!G21) -> 235 | H21: =SUM(Ajapnyak:Shirak!H21) -> 10 | I21: =SUM(Ajapnyak:Shirak!I21) -> 22 | J21: =SUM(Ajapnyak:Shirak!J21) -> 405 | K21: =SUM(Ajapnyak:Shirak!K21) -> 12 | ... M21: =SUM(Ajapnyak:Shirak!M21) -> 54 | N21: =D21+E21 -> 455 | O21: =J21+K21+L21 -> 449 | P21: =J21 -> 405 | Q21: =F21+G21+H21+I21 -> 405
A22: 5 | B22: ¹³ï³Ï³Ý Ñ³ÝÓÝ³ñ³ñáõÃÛáõÝÝ»ñ | D22: =SUM(Ajapnyak:Shirak!D22) -> 108 | E22: =SUM(Ajapnyak:Shirak!E22) -> 218 | F22: =SUM(Ajapnyak:Shirak!F22) -> 25 | G22: =SUM(Ajapnyak:Shirak!G22) -> 154 | H22: =SUM(Ajapnyak:Shirak!H22) -> 9 | I22: =SUM(Ajapnyak:Shirak!I22) -> 11 | J22: =SUM(Ajapnyak:Shirak!J22) -> 199 | K22: =SUM(Ajapnyak:Shirak!K22) -> 7 | ... M22: =SUM(Ajapnyak:Shirak!M22) -> 0 | N22: =D22+E22 -> 326 | O22: =J22+K22+L22 -> 305 | P22: =J22 -> 199 | Q22: =F22+G22+H22+I22 -> 199
A23: ÀÜ¸²ØºÜÀ | D23: =SUM(Ajapnyak:Shirak!D23) -> 311 | E23: =SUM(Ajapnyak:Shirak!E23) -> 17515 | F23: =SUM(Ajapnyak:Shirak!F23) -> 2124 | G23: =SUM(Ajapnyak:Shirak!G23) -> 14699 | H23: =SUM(Ajapnyak:Shirak!H23) -> 289 | I23: =SUM(Ajapnyak:Shirak!I23) -> 136 | J23: =SUM(Ajapnyak:Shirak!J23) -> 17248 | K23: =SUM(Ajapnyak:Shirak!K23) -> 109 | ... M23: =SUM(Ajapnyak:Shirak!M23) -> 1875 | N23: =SUM(N6:N16,N18:N22) -> 17826 | O23: =SUM(O6:O16,O18:O22) -> 17784 | P23: =SUM(P6:P16,P18:P22) -> 17248 | Q23: =SUM(Q6:Q16,Q18:Q22) -> 17248
B27: ³ÛÉ ÙÇçÝáñ¹áõÃÛáõÝÝ»ñÇ Ù»ç 6 ·áñÍ ÙÇ³óí»É ¿,
B28: Ñ»ï³ùÝÝáõÃÛ³Ý Ù³ñÙÝÇ ³ßË³ïáÕÇ,,,, µáÕáùÝ»ñÇ Ù»ç 10 ·áñÍ ÙÇ³óí»É ¿,
B29: å³ïÇÅÁ ÷á÷áË»Éáõ, Ñ»ï³Ó·»Éáõ ¨ å³ïÅÇó ³½³ï»Éáõ Ù³uÇÝ ÙÇçÝáñ¹áõÃÛáõÝÝ»ñÇ Ù»ç 4 ·áñÍ ÙÇ³óí»É ¿,
B30: Ñ³ñÏ³¹Çñ µáõÅÙ³Ý ï»ë³ÏÇ ÷á÷áËáõÃÛ³Ý Ù³ëÇÝ ÙÇçÝáñ¹áõÃÛáõÝÝ»ñÇ Ù»ç 1 ·áñÍ ÙÇ³óí»É ¿,
B31: Ñ³ñÏ³¹Çñ µáõÅÙ³Ý ï»ë³ÏÇ ÷á÷áËáõÃÛ³Ý Ù³ëÇÝ ÙÇçÝáñ¹áõÃÛáõÝÝ»ñÇ Ù»ç 1 ·áñÍ ÙÇ³óí»É ¿:

Sheet Ajapnyak
A1: 2016Ã. | C1: Ð²ÞìºîìàôÂÚàôÜ | K1: Ð³í»Éí³Í Ð³Û³ëï³ÝÇ Ð³Ýñ³å»ïáõÃÛ³Ý ¸³ï³ñ³ÝÝ»ñÇ Ý³Ë³·³ÑÝ»ñÇ ËáñÑñ¹Ç 27.01.2017Ã. ÃÇí 01-È áñáßÙ³Ý
A2: ØÇÝã¹³ï³Ï³Ý í³ñáõÛÃÇ ÝÏ³ïÙ³Ùµ ¹³ï³Ï³Ý í»ñ³ÑëÏáÕáõÃÛ³ÝÁ, ¹³ï³Ï³Ý ³Ïï»ñÇ ¨ ¹³ï³Ï³Ý Ñ³ÝÓÝ³ñ³ñáõÃÛáõÝÝ»ñÇ Ï³ï³ñÙ³ÝÁ Ñ»ï Ï³åí³Í ÙÇçÝáñ¹áõÃÛáõÝÝ»ñÇ í»ñ³µ»ñÛ³É ¹³ï³Ï³Ý ·áñÍ»ñáí ºñ¨³Ý ù³Õ³ùÇ ²ç³÷ÝÛ³Ï ¨ ¸³íÃ³ß»Ý í³ñã³Ï³Ý ßñç³ÝÝ»ñÇ ÁÝ¹Ñ³Ýáõñ Çñ³í³ëáõÃÛ³Ý ³é³çÇÝ ³ïÛ³ÝÇ ¹³ï³ñ³ÝÇ ·áñÍáõÝ»áõÃÛ³Ý í»ñ³µ»ñÛ³É
A3: êïáõ·Çã Ñ³í³ë³ñáõÙ` 1+2=7+8+9, 7=3+4+5+6, | D3: Ñ³ßí»ïáõ Å³Ù³Ý³Ï³Ñ³ïí³ÍÇ ëÏ½µáõÙ Ý³Ëáñ¹ Ñ³ßí»ïáõ Å³Ù³Ý³Ï³Ñ³ïí³ÍÇó ÷áË³Ýóí³Í ·áñÍ»ñÇ ÁÝ¹Ñ³Ýáõñ ÃÇíÁ | E3: Ñ³ßí»ïáõ Å³Ù³Ý³Ï³Ñ³ïí³ÍáõÙ ëï³óí³Í ·áñÍ»ñÇ ÁÝ¹Ñ³Ýáõñ ÃÇíÁ | F3: Ñ³ßí»ïáõ Å³Ù³Ý³Ï³Ñ³ïí³ÍáõÙ ³í³ñïí³Í ·áñÍ»ñÇ ÁÝ¹Ñ³Ýáõñ ÃÇíÁ | K3: áõÕ³ñÏí»É ¿ Áëï ÁÝ¹¹³ïáõÃÛ³Ý | L3: Ñ³ßí»ïáõ Å³Ù³Ý³Ï³Ñ³ïí³ÍáõÙ ³Ý³í³ñï ·áñÍ»ñÇ ÁÝ¹Ñ³Ýáõñ ÃÇíÁ | M3: µáÕáù³ñÏí»É ¿ í»ñ³ùÝÝÇã ¹³ï³ñ³Ý
F4: Ù»ñÅí»É ¿ | G4: µ³í³ñ³ñí»É ¿ | H4: µ³í³ñ³ñí»É ¿ Ù³ëÝ³ÏÇ | I4: ÃáÕÝí»É ¿ ³é³Ýó ùÝÝáõÃÛ³Ý | J4: ÁÝ¹³Ù»ÝÁ
A5: 1. ØÇÝã¹³ï³Ï³Ý í³ñáõÛÃÇ ÝÏ³ïÙ³Ùµ ¹³ï³Ï³Ý í»ñ³ÑëÏáÕáõÃÛ³Ý áÉáñï | D5: 1 | E5: 2 | F5: 3 | G5: 4 | H5: 5 | I5: 6 | J5: 7 | K5: 8 | L5: 9 | M5: 10 | N5: 1+2=7+8+9 | P5: 7=3+4+5+6
A6: 1 | B6: Ï³É³ÝùÁ áñå»ë Ë³÷³ÝÙ³Ý ÙÇçáó ÏÇñ³é»Éáõ Ù³ëÇÝ ÙÇçÝáñ¹áõÃÛáõÝÝ»ñ | E6: 59 | F6: 3 | G6: 56 | J6: 59 | L6: 0 | M6: 16 | N6: =D6+E6 -> 59 | O6: =J6+K6+L6 -> 59 | P6: =J6 -> 59 | Q6: =F6+G6+H6+I6 -> 59
A7: 2 | B7: Ï³É³ÝùÇ Å³ÙÏ»ïÁ »ñÏ³ñ³óÝ»Éáõ Ù³ëÇÝ ÙÇçÝáñ¹áõÃÛáõÝÝ»ñ | D7: 4 | E7: 39 | G7: 38 | H7: 5 | J7: 43 | L7: 0 | M7: 15 | N7: =D7+E7 -> 43 | O7: =J7+K7+L7 -> 43 | P7: =J7 -> 43 | Q7: =F7+G7+H7+I7 -> 43
A8: 3 | B8: Ï³É³ÝùÇ í»ñ³Ñ³ëï³ïÙ³Ý Ù³ëÇÝ ÙÇçÝáñ¹áõÃÛáõÝÝ»ñ | E8: 5 | G8: 5 | J8: 5 | L8: 0 | M8: 2 | N8: =D8+E8 -> 5 | O8: =J8+K8+L8 -> 5 | P8: =J8 -> 5 | Q8: =F8+G8+H8+I8 -> 5
A9: 4 | B9: ·ñ³íÁ áñå»ë Ï³É³Ý³íáñÙ³Ý ³ÛÉÁÝïñ³Ýù³ÛÇÝ Ë³÷³ÝÙ³Ý ÙÇçáó ÏÇñ³é»Éáõ Ù³ëÇÝ ÙÇçÝáñ¹áõÃÛáõÝÝ»ñ | D9: 1 | E9: 49 | F9: 42 | G9: 8 | J9: 50 | L9: 0 | M9: 8 | N9: =D9+E9 -> 50 | O9: =J9+K9+L9 -> 50 | P9: =J9 -> 50 | Q9: =F9+G9+H9+I9 -> 50
A10: 5 | B10: Ëáõ½³ñÏáõÃÛ³Ý Ï³ï³ñÙ³Ý Ù³ëÇÝ ÙÇçÝáñ¹áõÃÛáõÝÝ»ñ | E10: 199 | F10: 20 | G10: 176 | H10: 1 | I10: 2 | J10: 199 | L10: 0 | M10: 1 | N10: =D10+E10 -> 199 | O10: =J10+K10+L10 -> 199 | P10: =J10 -> 199 | Q10: =F10+G10+H10+I10 -> 199
A11: 6 | B11: µ³ÝÏ³ÛÇÝ, ³å³Ñáí³·ñ³Ï³Ý, Ýáï³ñ³Ï³Ý ·³ÕïÝÇù Ï³½ÙáÕ ï»Õ»ÏáõÃÛáõÝÝ»ñÇ ëï³óÙ³Ý Ñ³Ù³ñ Ëáõ½³ñÏáõÃÛ³Ý Ï³Ù ³é·ñ³íÙ³Ý Ï³ï³ñÙ³Ý Ù³ëÇÝ ÙÇçÝáñ¹áõÃÛáõÝÝ»ñ | E11: 6 | G11: 4 | H11: 2 | J11: 6 | L11: 0 | M11: 0 | N11: =D11+E11 -> 6 | O11: =J11+K11+L11 -> 6 | P11: =J11 -> 6 | Q11: =F11+G11+H11+I11 -> 6
A12: 7 | B12: Ý³Ù³Ï³·ñáõÃÛ³Ý, Ñ»é³·ñ³Ï³Ý, ÷áuï³ÛÇÝ Ñ³Õáñ¹áõÙÝ»ñÇ ÑëÏáÕáõÃÛ³Ý Ù³ëÇÝ ÙÇçÝáñ¹áõÃÛáõÝÝ»ñ | N12: =D12+E12 -> 0 | O12: =J12+K12+L12 -> 0 | P12: =J12 -> 0 | Q12: =F12+G12+H12+I12 -> 0
A13: 8 | B13: Ñ»é³Ëáu³ÛÇÝ Ï³Ù Ï³åÇ ³ÛÉ ÙÇçáóÝ»ñáí ï³ñíáÕ Ëáu³ÏóáõÃÛáõÝÝ»ñÇ ÉuÙ³Ý ¨ Ó³ÛÝ³·ñ³éÙ³Ý Ù³ëÇÝ ÙÇçÝáñ¹áõÃÛáõÝÝ»ñ | E13: 2 | G13: 2 | J13: 2 | L13: 0 | N13: =D13+E13 -> 2 | O13: =J13+K13+L13 -> 2 | P13: =J13 -> 2 | Q13: =F13+G13+H13+I13 -> 2
A14: 9 | B14: Ñ»é³ËáëÝ»ñÇ Ùáõïù³ÛÇÝ ¨ »Éù³ÛÇÝ í»ñÍ³ÝÙ³Ý ÃáõÛÉïíáõÃÛáõÝ ëï³Ý³Éáõ Ù³ëÇÝ ÙÇçÝáñ¹áõÃÛáõÝÝ»ñ | E14: 226 | F14: 5 | G14: 217 | H14: 4 | J14: 226 | L14: 0 | M14: 1 | N14: =D14+E14 -> 226 | O14: =J14+K14+L14 -> 226 | P14: =J14 -> 226 | Q14: =F14+G14+H14+I14 -> 226
A15: 10 | B15: Ñ»ï³ùÝÝáõÃÛ³Ý Ù³ñÙÝÇ ³ßË³ïáÕÇ, ùÝÝÇãÇ, ¹³ï³Ë³½Ç oå»ñ³ïÇí-Ñ»ï³Ëáõ½³Ï³Ý ·áñÍáÕáõÃÛáõÝÝ»ñ Çñ³Ï³Ý³óÝáÕ Ù³ñÙÇÝÝ»ñÇ ³ÝoñÇÝ³Ï³Ý ¨ ³ÝÑÇÙÝ áñáßáõÙÝ»ñÇ ¨ ·áñÍáÕáõÃÛáõÝÝ»ñÇ ¹»Ù µáÕáùÝ»ñ | D15: 6 | E15: 29 | F15: 27 | G15: 4 | I15: 2 | J15: 33 | L15: 2 | M15: 24 | N15: =D15+E15 -> 35 | O15: =J15+K15+L15 -> 35 | P15: =J15 -> 33 | Q15: =F15+G15+H15+I15 -> 33
A16: 11 | B16: ²½³ïáõÃÛáõÝÇó ½ñÏ»Éáõ Çñ³í³ã³÷áõÃÛ³Ý í»ñ³µ»ñÛ³É µáÕáùÝ»ñáí ·áñÍ»ñ | N16: =D16+E16 -> 0 | O16: =J16+K16+L16 -> 0 | P16: =J16 -> 0 | Q16: =F16+G16+H16+I16 -> 0
A17: 2. ¸³ï³Ï³Ý ³Ïï»ñÇ ¨ ¹³ï³Ï³Ý Ñ³ÝÓÝ³ñ³ñáõÃÛáõÝÝ»ñÇ Ï³ï³ñÙ³Ý Ñ»ï Ï³åí³Í Ñ³ñó»ñÇ ÉáõÍÙ³Ý áÉáñï
A18: 1 | B18: å³ïÅÇó å³ÛÙ³Ý³Ï³Ý í³Õ³Å³ÙÏ»ï ³½³ï»Éáõ Ù³ëÇÝ ÙÇçÝáñ¹áõÃÛáõÝÝ»ñ | N18: =D18+E18 -> 0 | O18: =J18+K18+L18 -> 0 | P18: =J18 -> 0 | Q18: =F18+G18+H18+I18 -> 0
A19: 2 | B19: å³ïÇÅÁ ÷á÷áË»Éáõ, Ñ»ï³Ó·»Éáõ ¨ å³ïÅÇó ³½³ï»Éáõ Ù³uÇÝ ÙÇçÝáñ¹áõÃÛáõÝÝ»ñ | E19: 9 | F19: 3 | G19: 4 | H19: 1 | J19: 8 | K19: 1 | L19: 0 | N19: =D19+E19 -> 9 | O19: =J19+K19+L19 -> 9 | P19: =J19 -> 8 | Q19: =F19+G19+H19+I19 -> 8
A20: 3 | B20: Ñ³ñÏ³¹Çñ µáõÅÙ³Ý ï»ë³ÏÇ ÷á÷áËáõÃÛ³Ý Ù³ëÇÝ ÙÇçÝáñ¹áõÃÛáõÝÝ»ñ | N20: =D20+E20 -> 0 | O20: =J20+K20+L20 -> 0 | P20: =J20 -> 0 | Q20: =F20+G20+H20+I20 -> 0
A21: 4 | B21: ³ÛÉ ÙÇçÝáñ¹áõÃÛáõÝÝ»ñ | E21: 11 | F21: 3 | G21: 6 | I21: 2 | J21: 11 | L21: 0 | M21: 1 | N21: =D21+E21 -> 11 | O21: =J21+K21+L21 -> 11 | P21: =J21 -> 11 | Q21: =F21+G21+H21+I21 -> 11
A22: 5 | B22: ¹³ï³Ï³Ý Ñ³ÝÓÝ³ñ³ñáõÃÛáõÝÝ»ñ | D22: 11 | E22: 5 | G22: 3 | I22: 2 | J22: 5 | L22: 11 | N22: =D22+E22 -> 16 | O22: =J22+K22+L22 -> 16 | P22: =J22 -> 5 | Q22: =F22+G22+H22+I22 -> 5
A23: ÀÜ¸²ØºÜÀ | D23: =SUM(D6:D16,D18:D22) -> 22 | E23: =SUM(E6:E16,E18:E22) -> 639 | F23: =SUM(F6:F16,F18:F22) -> 103 | G23: =SUM(G6:G16,G18:G22) -> 523 | H23: =SUM(H6:H16,H18:H22) -> 13 | I23: =SUM(I6:I16,I18:I22) -> 8 | J23: =SUM(J6:J16,J18:J22) -> 647 | K23: =SUM(K6:K16,K18:K22) -> 1 | ... Q23: =SUM(Q6:Q16,Q18:Q22) -> 647

Sheet Shengavit
A1: 2016Ã. | C1: Ð²ÞìºîìàôÂÚàôÜ | K1: Ð³í»Éí³Í Ð³Û³ëï³ÝÇ Ð³Ýñ³å»ïáõÃÛ³Ý ¸³ï³ñ³ÝÝ»ñÇ Ý³Ë³·³ÑÝ»ñÇ ËáñÑñ¹Ç 27.01.2017Ã. ÃÇí 01-È áñáßÙ³Ý
A2: ØÇÝã¹³ï³Ï³Ý í³ñáõÛÃÇ ÝÏ³ïÙ³Ùµ ¹³ï³Ï³Ý í»ñ³ÑëÏáÕáõÃÛ³ÝÁ, ¹³ï³Ï³Ý ³Ïï»ñÇ ¨ ¹³ï³Ï³Ý Ñ³ÝÓÝ³ñ³ñáõÃÛáõÝÝ»ñÇ Ï³ï³ñÙ³ÝÁ Ñ»ï Ï³åí³Í ÙÇçÝáñ¹áõÃÛáõÝÝ»ñÇ í»ñ³µ»ñÛ³É ¹³ï³Ï³Ý ·áñÍ»ñáí Երևան քաղաքի Շենգավիթ վարչական շրջանի ÁÝ¹Ñ³Ýáõñ Çñ³í³ëáõÃÛ³Ý ³é³çÇÝ ³ïÛ³ÝÇ ¹³ï³ñ³ÝÇ ·áñÍáõÝ»áõÃÛ³Ý í»ñ³µ»ñÛ³É
A3: êïáõ·Çã Ñ³í³ë³ñáõÙ` 1+2=7+8+9, 7=3+4+5+6, | D3: Ñ³ßí»ïáõ Å³Ù³Ý³Ï³Ñ³ïí³ÍÇ ëÏ½µáõÙ Ý³Ëáñ¹ Ñ³ßí»ïáõ Å³Ù³Ý³Ï³Ñ³ïí³ÍÇó ÷áË³Ýóí³Í ·áñÍ»ñÇ ÁÝ¹Ñ³Ýáõñ ÃÇíÁ | E3: Ñ³ßí»ïáõ Å³Ù³Ý³Ï³Ñ³ïí³ÍáõÙ ëï³óí³Í ·áñÍ»ñÇ ÁÝ¹Ñ³Ýáõñ ÃÇíÁ | F3: Ñ³ßí»ïáõ Å³Ù³Ý³Ï³Ñ³ïí³ÍáõÙ ³í³ñïí³Í ·áñÍ»ñÇ ÁÝ¹Ñ³Ýáõñ ÃÇíÁ | K3: áõÕ³ñÏí»É ¿ Áëï ÁÝ¹¹³ïáõÃÛ³Ý | L3: Ñ³ßí»ïáõ Å³Ù³Ý³Ï³Ñ³ïí³ÍáõÙ ³Ý³í³ñï ·áñÍ»ñÇ ÁÝ¹Ñ³Ýáõñ ÃÇíÁ | M3: µáÕáù³ñÏí»É ¿ í»ñ³ùÝÝÇã ¹³ï³ñ³Ý
F4: Ù»ñÅí»É ¿ | G4: µ³í³ñ³ñí»É ¿ | H4: µ³í³ñ³ñí»É ¿ Ù³ëÝ³ÏÇ | I4: ÃáÕÝí»É ¿ ³é³Ýó ùÝÝáõÃÛ³Ý | J4: ÁÝ¹³Ù»ÝÁ
A5: 1. ØÇÝã¹³ï³Ï³Ý í³ñáõÛÃÇ ÝÏ³ïÙ³Ùµ ¹³ï³Ï³Ý í»ñ³ÑëÏáÕáõÃÛ³Ý áÉáñï | D5: 1 | E5: 2 | F5: 3 | G5: 4 | H5: 5 | I5: 6 | J5: 7 | K5: 8 | L5: 9 | M5: 10 | N5: 1+2=7+8+9 | P5: 7=3+4+5+6
A6: 1 | B6: Ï³É³ÝùÁ áñå»ë Ë³÷³ÝÙ³Ý ÙÇçáó ÏÇñ³é»Éáõ Ù³ëÇÝ ÙÇçÝáñ¹áõÃÛáõÝÝ»ñ | E6: 43 | F6: 7 | G6: 36 | J6: 43 | M6: 9 | N6: =D6+E6 -> 43 | O6: =J6+K6+L6 -> 43 | P6: =J6 -> 43 | Q6: =F6+G6+H6+I6 -> 43
A7: 2 | B7: Ï³É³ÝùÇ Å³ÙÏ»ïÁ »ñÏ³ñ³óÝ»Éáõ Ù³ëÇÝ ÙÇçÝáñ¹áõÃÛáõÝÝ»ñ | E7: 37 | F7: 1 | G7: 27 | H7: 7 | I7: 1 | J7: 36 | L7: 1 | M7: 3 | N7: =D7+E7 -> 37 | O7: =J7+K7+L7 -> 37 | P7: =J7 -> 36 | Q7: =F7+G7+H7+I7 -> 36
A8: 3 | B8: Ï³É³ÝùÇ í»ñ³Ñ³ëï³ïÙ³Ý Ù³ëÇÝ ÙÇçÝáñ¹áõÃÛáõÝÝ»ñ | E8: 5 | F8: 1 | G8: 4 | J8: 5 | M8: 2 | N8: =D8+E8 -> 5 | O8: =J8+K8+L8 -> 5 | P8: =J8 -> 5 | Q8: =F8+G8+H8+I8 -> 5
A9: 4 | B9: ·ñ³íÁ áñå»ë Ï³É³Ý³íáñÙ³Ý ³ÛÉÁÝïñ³Ýù³ÛÇÝ Ë³÷³ÝÙ³Ý ÙÇçáó ÏÇñ³é»Éáõ Ù³ëÇÝ ÙÇçÝáñ¹áõÃÛáõÝÝ»ñ | E9: 24 | F9: 20 | G9: 4 | J9: 24 | M9: 9 | N9: =D9+E9 -> 24 | O9: =J9+K9+L9 -> 24 | P9: =J9 -> 24 | Q9: =F9+G9+H9+I9 -> 24
A10: 5 | B10: Ëáõ½³ñÏáõÃÛ³Ý Ï³ï³ñÙ³Ý Ù³ëÇÝ ÙÇçÝáñ¹áõÃÛáõÝÝ»ñ | E10: 201 | F10: 26 | G10: 159 | H10: 16 | J10: 201 | M10: 13 | N10: =D10+E10 -> 201 | O10: =J10+K10+L10 -> 201 | P10: =J10 -> 201 | Q10: =F10+G10+H10+I10 -> 201
A11: 6 | B11: µ³ÝÏ³ÛÇÝ, ³å³Ñáí³·ñ³Ï³Ý, Ýáï³ñ³Ï³Ý ·³ÕïÝÇù Ï³½ÙáÕ ï»Õ»ÏáõÃÛáõÝÝ»ñÇ ëï³óÙ³Ý Ñ³Ù³ñ Ëáõ½³ñÏáõÃÛ³Ý Ï³Ù ³é·ñ³íÙ³Ý Ï³ï³ñÙ³Ý Ù³ëÇÝ ÙÇçÝáñ¹áõÃÛáõÝÝ»ñ | E11: 17 | F11: 3 | G11: 13 | H11: 1 | J11: 17 | M11: 2 | N11: =D11+E11 -> 17 | O11: =J11+K11+L11 -> 17 | P11: =J11 -> 17 | Q11: =F11+G11+H11+I11 -> 17
A12: 7 | B12: Ý³Ù³Ï³·ñáõÃÛ³Ý, Ñ»é³·ñ³Ï³Ý, ÷áuï³ÛÇÝ Ñ³Õáñ¹áõÙÝ»ñÇ ÑëÏáÕáõÃÛ³Ý Ù³ëÇÝ ÙÇçÝáñ¹áõÃÛáõÝÝ»ñ | N12: =D12+E12 -> 0 | O12: =J12+K12+L12 -> 0 | P12: =J12 -> 0 | Q12: =F12+G12+H12+I12 -> 0
A13: 8 | B13: Ñ»é³Ëáu³ÛÇÝ Ï³Ù Ï³åÇ ³ÛÉ ÙÇçáóÝ»ñáí ï³ñíáÕ Ëáu³ÏóáõÃÛáõÝÝ»ñÇ ÉuÙ³Ý ¨ Ó³ÛÝ³·ñ³éÙ³Ý Ù³ëÇÝ ÙÇçÝáñ¹áõÃÛáõÝÝ»ñ | N13: =D13+E13 -> 0 | O13: =J13+K13+L13 -> 0 | P13: =J13 -> 0 | Q13: =F13+G13+H13+I13 -> 0
A14: 9 | B14: Ñ»é³ËáëÝ»ñÇ Ùáõïù³ÛÇÝ ¨ »Éù³ÛÇÝ í»ñÍ³ÝÙ³Ý ÃáõÛÉïíáõÃÛáõÝ ëï³Ý³Éáõ Ù³ëÇÝ ÙÇçÝáñ¹áõÃÛáõÝÝ»ñ | E14: 293 | F14: 4 | G14: 287 | H14: 2 | J14: 293 | M14: 1 | N14: =D14+E14 -> 293 | O14: =J14+K14+L14 -> 293 | P14: =J14 -> 293 | Q14: =F14+G14+H14+I14 -> 293
A15: 10 | B15: Ñ»ï³ùÝÝáõÃÛ³Ý Ù³ñÙÝÇ ³ßË³ïáÕÇ, ùÝÝÇãÇ, ¹³ï³Ë³½Ç oå»ñ³ïÇí-Ñ»ï³Ëáõ½³Ï³Ý ·áñÍáÕáõÃÛáõÝÝ»ñ Çñ³Ï³Ý³óÝáÕ Ù³ñÙÇÝÝ»ñÇ ³ÝoñÇÝ³Ï³Ý ¨ ³ÝÑÇÙÝ áñáßáõÙÝ»ñÇ ¨ ·áñÍáÕáõÃÛáõÝÝ»ñÇ ¹»Ù µáÕáùÝ»ñ | D15: 7 | E15: 56 | F15: 41 | G15: 4 | H15: 1 | I15: 1 | J15: 47 | K15: 2 | L15: 13 | M15: 36 | N15: =D15+E15 -> 63 | O15: =J15+K15+L15 -> 62 | P15: =J15 -> 47 | Q15: =F15+G15+H15+I15 -> 47
A16: 11 | B16: ²½³ïáõÃÛáõÝÇó ½ñÏ»Éáõ Çñ³í³ã³÷áõÃÛ³Ý í»ñ³µ»ñÛ³É µáÕáùÝ»ñáí ·áñÍ»ñ | E16: 5 | F16: 3 | G16: 1 | I16: 1 | J16: 5 | M16: 4 | N16: =D16+E16 -> 5 | O16: =J16+K16+L16 -> 5 | P16: =J16 -> 5 | Q16: =F16+G16+H16+I16 -> 5
A17: 2. ¸³ï³Ï³Ý ³Ïï»ñÇ ¨ ¹³ï³Ï³Ý Ñ³ÝÓÝ³ñ³ñáõÃÛáõÝÝ»ñÇ Ï³ï³ñÙ³Ý Ñ»ï Ï³åí³Í Ñ³ñó»ñÇ ÉáõÍÙ³Ý áÉáñï
A18: 1 | B18: å³ïÅÇó å³ÛÙ³Ý³Ï³Ý í³Õ³Å³ÙÏ»ï ³½³ï»Éáõ Ù³ëÇÝ ÙÇçÝáñ¹áõÃÛáõÝÝ»ñ | N18: =D18+E18 -> 0 | O18: =J18+K18+L18 -> 0 | P18: =J18 -> 0 | Q18: =F18+G18+H18+I18 -> 0
A19: 2 | B19: å³ïÇÅÁ ÷á÷áË»Éáõ, Ñ»ï³Ó·»Éáõ ¨ å³ïÅÇó ³½³ï»Éáõ Ù³uÇÝ ÙÇçÝáñ¹áõÃÛáõÝÝ»ñ | D19: 1 | E19: 16 | F19: 2 | G19: 8 | H19: 5 | J19: 15 | K19: 2 | M19: 1 | N19: =D19+E19 -> 17 | O19: =J19+K19+L19 -> 17 | P19: =J19 -> 15 | Q19: =F19+G19+H19+I19 -> 15
A20: 3 | B20: Ñ³ñÏ³¹Çñ µáõÅÙ³Ý ï»ë³ÏÇ ÷á÷áËáõÃÛ³Ý Ù³ëÇÝ ÙÇçÝáñ¹áõÃÛáõÝÝ»ñ | N20: =D20+E20 -> 0 | O20: =J20+K20+L20 -> 0 | P20: =J20 -> 0 | Q20: =F20+G20+H20+I20 -> 0
A21: 4 | B21: ³ÛÉ ÙÇçÝáñ¹áõÃÛáõÝÝ»ñ | E21: 21 | F21: 4 | G21: 14 | I21: 1 | J21: 19 | L21: 1 | M21: 1 | N21: =D21+E21 -> 21 | O21: =J21+K21+L21 -> 20 | P21: =J21 -> 19 | Q21: =F21+G21+H21+I21 -> 19
A22: 5 | B22: ¹³ï³Ï³Ý Ñ³ÝÓÝ³ñ³ñáõÃÛáõÝÝ»ñ | D22: 12 | E22: 10 | G22: 18 | J22: 18 | L22: 4 | N22: =D22+E22 -> 22 | O22: =J22+K22+L22 -> 22 | P22: =J22 -> 18 | Q22: =F22+G22+H22+I22 -> 18
A23: ÀÜ¸²ØºÜÀ | D23: =SUM(D6:D16,D18:D22) -> 20 | E23: =SUM(E6:E16,E18:E22) -> 728 | F23: =SUM(F6:F16,F18:F22) -> 112 | G23: =SUM(G6:G16,G18:G22) -> 575 | H23: =SUM(H6:H16,H18:H22) -> 32 | I23: =SUM(I6:I16,I18:I22) -> 4 | J23: =SUM(J6:J16,J18:J22) -> 723 | K23: =SUM(K6:K16,K18:K22) -> 4 | ... Q23: =SUM(Q6:Q16,Q18:Q22) -> 723
C26: այլ միջնորդությունների մեջ 1 գործ միացվել է,
C27: հետաքննության մարմնի աշխատողի,,,, բողոքների մեջ 1 գործ միացվել է

Sheet Arabkir 
A1: 2016Ã. | C1: Ð²ÞìºîìàôÂÚàôÜ | K1: Ð³í»Éí³Í Ð³Û³ëï³ÝÇ Ð³Ýñ³å»ïáõÃÛ³Ý ¸³ï³ñ³ÝÝ»ñÇ Ý³Ë³·³ÑÝ»ñÇ ËáñÑñ¹Ç 25.08.2016Ã. ÃÇí 44-È áñáßÙ³Ý
A2: ØÇÝã¹³ï³Ï³Ý í³ñáõÛÃÇ ÝÏ³ïÙ³Ùµ ¹³ï³Ï³Ý í»ñ³ÑëÏáÕáõÃÛ³ÝÁ, ¹³ï³Ï³Ý ³Ïï»ñÇ ¨ ¹³ï³Ï³Ý Ñ³ÝÓÝ³ñ³ñáõÃÛáõÝÝ»ñÇ Ï³ï³ñÙ³ÝÁ Ñ»ï Ï³åí³Í ÙÇçÝáñ¹áõÃÛáõÝÝ»ñÇ í»ñ³µ»ñÛ³É ¹³ï³Ï³Ý ·áñÍ»ñáí Երևան քաղաքի Արաբկիր և Քանաքեռ-Զեյթուն վարչական ßñç³ÝÝ»ñÇ ÁÝ¹Ñ³Ýáõñ Çñ³í³ëáõÃÛ³Ý ³é³çÇÝ ³ïÛ³ÝÇ ¹³ï³ñ³ÝÇ ·áñÍáõÝ»áõÃÛ³Ý í»ñ³µ»ñÛ³É
A3: êïáõ·Çã Ñ³í³ë³ñáõÙ` 1+2=7+8+9, 7=3+4+5+6, | D3: Ñ³ßí»ïáõ Å³Ù³Ý³Ï³Ñ³ïí³ÍÇ ëÏ½µáõÙ Ý³Ëáñ¹ Ñ³ßí»ïáõ Å³Ù³Ý³Ï³Ñ³ïí³ÍÇó ÷áË³Ýóí³Í ·áñÍ»ñÇ ÁÝ¹Ñ³Ýáõñ ÃÇíÁ | E3: Ñ³ßí»ïáõ Å³Ù³Ý³Ï³Ñ³ïí³ÍáõÙ ëï³óí³Í ·áñÍ»ñÇ ÁÝ¹Ñ³Ýáõñ ÃÇíÁ | F3: Ñ³ßí»ïáõ Å³Ù³Ý³Ï³Ñ³ïí³ÍáõÙ ³í³ñïí³Í ·áñÍ»ñÇ ÁÝ¹Ñ³Ýáõñ ÃÇíÁ | K3: áõÕ³ñÏí»É ¿ Áëï ÁÝ¹¹³ïáõÃÛ³Ý | L3: Ñ³ßí»ïáõ Å³Ù³Ý³Ï³Ñ³ïí³ÍáõÙ ³Ý³í³ñï ·áñÍ»ñÇ ÁÝ¹Ñ³Ýáõñ ÃÇíÁ | M3: µáÕáù³ñÏí»É ¿ í»ñ³ùÝÝÇã ¹³ï³ñ³Ý
F4: Ù»ñÅí»É ¿ | G4: µ³í³ñ³ñí»É ¿ | H4: µ³í³ñ³ñí»É ¿ Ù³ëÝ³ÏÇ | I4: ÃáÕÝí»É ¿ ³é³Ýó ùÝÝáõÃÛ³Ý | J4: ÁÝ¹³Ù»ÝÁ
A5: 1. ØÇÝã¹³ï³Ï³Ý í³ñáõÛÃÇ ÝÏ³ïÙ³Ùµ ¹³ï³Ï³Ý í»ñ³ÑëÏáÕáõÃÛ³Ý áÉáñï | D5: 1 | E5: 2 | F5: 3 | G5: 4 | H5: 5 | I5: 6 | J5: 7 | K5: 8 | L5: 9 | M5: 10 | N5: 1+2=7+8+9 | P5: 7=3+4+5+6
A6: 1 | B6: Ï³É³ÝùÁ áñå»ë Ë³÷³ÝÙ³Ý ÙÇçáó ÏÇñ³é»Éáõ Ù³ëÇÝ ÙÇçÝáñ¹áõÃÛáõÝÝ»ñ | E6: 993 | F6: 22 | G6: 968 | H6: 3 | J6: 993 | M6: 158 | N6: =D6+E6 -> 993 | O6: =J6+K6+L6 -> 993 | P6: =J6 -> 993 | Q6: =F6+G6+H6+I6 -> 993
A7: 2 | B7: Ï³É³ÝùÇ Å³ÙÏ»ïÁ »ñÏ³ñ³óÝ»Éáõ Ù³ëÇÝ ÙÇçÝáñ¹áõÃÛáõÝÝ»ñ | E7: 450 | F7: 2 | G7: 439 | H7: 1 | I7: 3 | J7: 445 | L7: 5 | M7: 183 | N7: =D7+E7 -> 450 | O7: =J7+K7+L7 -> 450 | P7: =J7 -> 445 | Q7: =F7+G7+H7+I7 -> 445
A8: 3 | B8: Ï³É³ÝùÇ í»ñ³Ñ³ëï³ïÙ³Ý Ù³ëÇÝ ÙÇçÝáñ¹áõÃÛáõÝÝ»ñ | E8: 33 | F8: 1 | G8: 32 | J8: 33 | M8: 8 | N8: =D8+E8 -> 33 | O8: =J8+K8+L8 -> 33 | P8: =J8 -> 33 | Q8: =F8+G8+H8+I8 -> 33
A9: 4 | B9: ·ñ³íÁ áñå»ë Ï³É³Ý³íáñÙ³Ý ³ÛÉÁÝïñ³Ýù³ÛÇÝ Ë³÷³ÝÙ³Ý ÙÇçáó ÏÇñ³é»Éáõ Ù³ëÇÝ ÙÇçÝáñ¹áõÃÛáõÝÝ»ñ | D9: 1 | E9: 38 | F9: 27 | G9: 5 | I9: 5 | J9: 37 | K9: 1 | L9: 1 | M9: 20 | N9: =D9+E9 -> 39 | O9: =J9+K9+L9 -> 39 | P9: =J9 -> 37 | Q9: =F9+G9+H9+I9 -> 37
A10: 5 | B10: Ëáõ½³ñÏáõÃÛ³Ý Ï³ï³ñÙ³Ý Ù³ëÇÝ ÙÇçÝáñ¹áõÃÛáõÝÝ»ñ | E10: 601 | F10: 34 | G10: 553 | H10: 13 | I10: 1 | J10: 601 | M10: 9 | N10: =D10+E10 -> 601 | O10: =J10+K10+L10 -> 601 | P10: =J10 -> 601 | Q10: =F10+G10+H10+I10 -> 601
A11: 6 | B11: µ³ÝÏ³ÛÇÝ, ³å³Ñáí³·ñ³Ï³Ý, Ýáï³ñ³Ï³Ý ·³ÕïÝÇù Ï³½ÙáÕ ï»Õ»ÏáõÃÛáõÝÝ»ñÇ ëï³óÙ³Ý Ñ³Ù³ñ Ëáõ½³ñÏáõÃÛ³Ý Ï³Ù ³é·ñ³íÙ³Ý Ï³ï³ñÙ³Ý Ù³ëÇÝ ÙÇçÝáñ¹áõÃÛáõÝÝ»ñ | E11: 19 | G11: 15 | H11: 4 | J11: 19 | N11: =D11+E11 -> 19 | O11: =J11+K11+L11 -> 19 | P11: =J11 -> 19 | Q11: =F11+G11+H11+I11 -> 19
A12: 7 | B12: Ý³Ù³Ï³·ñáõÃÛ³Ý, Ñ»é³·ñ³Ï³Ý, ÷áuï³ÛÇÝ Ñ³Õáñ¹áõÙÝ»ñÇ ÑëÏáÕáõÃÛ³Ý Ù³ëÇÝ ÙÇçÝáñ¹áõÃÛáõÝÝ»ñ | E12: 3 | G12: 3 | J12: 3 | N12: =D12+E12 -> 3 | O12: =J12+K12+L12 -> 3 | P12: =J12 -> 3 | Q12: =F12+G12+H12+I12 -> 3
A13: 8 | B13: Ñ»é³Ëáu³ÛÇÝ Ï³Ù Ï³åÇ ³ÛÉ ÙÇçáóÝ»ñáí ï³ñíáÕ Ëáu³ÏóáõÃÛáõÝÝ»ñÇ ÉuÙ³Ý ¨ Ó³ÛÝ³·ñ³éÙ³Ý Ù³ëÇÝ ÙÇçÝáñ¹áõÃÛáõÝÝ»ñ | E13: 50 | F13: 2 | G13: 47 | I13: 1 | J13: 50 | N13: =D13+E13 -> 50 | O13: =J13+K13+L13 -> 50 | P13: =J13 -> 50 | Q13: =F13+G13+H13+I13 -> 50
A14: 9 | B14: Ñ»é³ËáëÝ»ñÇ Ùáõïù³ÛÇÝ ¨ »Éù³ÛÇÝ í»ñÍ³ÝÙ³Ý ÃáõÛÉïíáõÃÛáõÝ ëï³Ý³Éáõ Ù³ëÇÝ ÙÇçÝáñ¹áõÃÛáõÝÝ»ñ | E14: 1353 | F14: 12 | G14: 1316 | H14: 25 | J14: 1353 | M14: 8 | N14: =D14+E14 -> 1353 | O14: =J14+K14+L14 -> 1353 | P14: =J14 -> 1353 | Q14: =F14+G14+H14+I14 -> 1353
A15: 10 | B15: Ñ»ï³ùÝÝáõÃÛ³Ý Ù³ñÙÝÇ ³ßË³ïáÕÇ, ùÝÝÇãÇ, ¹³ï³Ë³½Ç oå»ñ³ïÇí-Ñ»ï³Ëáõ½³Ï³Ý ·áñÍáÕáõÃÛáõÝÝ»ñ Çñ³Ï³Ý³óÝáÕ Ù³ñÙÇÝÝ»ñÇ ³ÝoñÇÝ³Ï³Ý ¨ ³ÝÑÇÙÝ áñáßáõÙÝ»ñÇ ¨ ·áñÍáÕáõÃÛáõÝÝ»ñÇ ¹»Ù µáÕáùÝ»ñ | D15: 40 | E15: 291 | F15: 201 | G15: 24 | I15: 6 | J15: 231 | K15: 5 | L15: 95 | M15: 100 | N15: =D15+E15 -> 331 | O15: =J15+K15+L15 -> 331 | P15: =J15 -> 231 | Q15: =F15+G15+H15+I15 -> 231
A16: 11 | B16: ²½³ïáõÃÛáõÝÇó ½ñÏ»Éáõ Çñ³í³ã³÷áõÃÛ³Ý í»ñ³µ»ñÛ³É µáÕáùÝ»ñáí ·áñÍ»ñ | E16: 6 | F16: 5 | I16: 1 | J16: 6 | M16: 1 | N16: =D16+E16 -> 6 | O16: =J16+K16+L16 -> 6 | P16: =J16 -> 6 | Q16: =F16+G16+H16+I16 -> 6
A17: 2. ¸³ï³Ï³Ý ³Ïï»ñÇ ¨ ¹³ï³Ï³Ý Ñ³ÝÓÝ³ñ³ñáõÃÛáõÝÝ»ñÇ Ï³ï³ñÙ³Ý Ñ»ï Ï³åí³Í Ñ³ñó»ñÇ ÉáõÍÙ³Ý áÉáñï
A18: 1 | B18: å³ïÅÇó å³ÛÙ³Ý³Ï³Ý í³Õ³Å³ÙÏ»ï ³½³ï»Éáõ Ù³ëÇÝ ÙÇçÝáñ¹áõÃÛáõÝÝ»ñ | N18: =D18+E18 -> 0 | O18: =J18+K18+L18 -> 0 | P18: =J18 -> 0 | Q18: =F18+G18+H18+I18 -> 0
A19: 2 | B19: å³ïÇÅÁ ÷á÷áË»Éáõ, Ñ»ï³Ó·»Éáõ ¨ å³ïÅÇó ³½³ï»Éáõ Ù³uÇÝ ÙÇçÝáñ¹áõÃÛáõÝÝ»ñ | E19: 22 | F19: 5 | G19: 14 | I19: 1 | J19: 20 | K19: 1 | L19: 1 | M19: 1 | N19: =D19+E19 -> 22 | O19: =J19+K19+L19 -> 22 | P19: =J19 -> 20 | Q19: =F19+G19+H19+I19 -> 20
A20: 3 | B20: Ñ³ñÏ³¹Çñ µáõÅÙ³Ý ï»ë³ÏÇ ÷á÷áËáõÃÛ³Ý Ù³ëÇÝ ÙÇçÝáñ¹áõÃÛáõÝÝ»ñ | E20: 24 | F20: 4 | G20: 19 | J20: 23 | L20: 1 | M20: 1 | N20: =D20+E20 -> 24 | O20: =J20+K20+L20 -> 24 | P20: =J20 -> 23 | Q20: =F20+G20+H20+I20 -> 23
A21: 4 | B21: ³ÛÉ ÙÇçÝáñ¹áõÃÛáõÝÝ»ñ | E21: 22 | F21: 13 | G21: 6 | I21: 1 | J21: 20 | L21: 2 | M21: 6 | N21: =D21+E21 -> 22 | O21: =J21+K21+L21 -> 22 | P21: =J21 -> 20 | Q21: =F21+G21+H21+I21 -> 20
A22: 5 | B22: ¹³ï³Ï³Ý Ñ³ÝÓÝ³ñ³ñáõÃÛáõÝÝ»ñ | D22: 7 | E22: 25 | G22: 15 | I22: 3 | J22: 18 | L22: 14 | N22: =D22+E22 -> 32 | O22: =J22+K22+L22 -> 32 | P22: =J22 -> 18 | Q22: =F22+G22+H22+I22 -> 18
A23: ÀÜ¸²ØºÜÀ | D23: =SUM(D6:D16,D18:D22) -> 48 | E23: =SUM(E6:E16,E18:E22) -> 3930 | F23: =SUM(F6:F16,F18:F22) -> 328 | G23: =SUM(G6:G16,G18:G22) -> 3456 | H23: =SUM(H6:H16,H18:H22) -> 46 | I23: =SUM(I6:I16,I18:I22) -> 22 | J23: =SUM(J6:J16,J18:J22) -> 3852 | K23: =SUM(K6:K16,K18:K22) -> 7 | ... Q23: =SUM(Q6:Q16,Q18:Q22) -> 3852

Sheet Malatia
A1: 2016Ã. | C1: Ð²ÞìºîìàôÂÚàôÜ | K1: Ð³í»Éí³Í Ð³Û³ëï³ÝÇ Ð³Ýñ³å»ïáõÃÛ³Ý ¸³ï³ñ³ÝÝ»ñÇ Ý³Ë³·³ÑÝ»ñÇ ËáñÑñ¹Ç 27.01.2017Ã. ÃÇí 01-È áñáßÙ³Ý
A2: ØÇÝã¹³ï³Ï³Ý í³ñáõÛÃÇ ÝÏ³ïÙ³Ùµ ¹³ï³Ï³Ý í»ñ³ÑëÏáÕáõÃÛ³ÝÁ, ¹³ï³Ï³Ý ³Ïï»ñÇ ¨ ¹³ï³Ï³Ý Ñ³ÝÓÝ³ñ³ñáõÃÛáõÝÝ»ñÇ Ï³ï³ñÙ³ÝÁ Ñ»ï Ï³åí³Í ÙÇçÝáñ¹áõÃÛáõÝÝ»ñÇ í»ñ³µ»ñÛ³É ¹³ï³Ï³Ý ·áñÍ»ñáí Երևան քաղաքի Մալաթիա-Սեբաստիա վարչական ßñç³ÝÇ ÁÝ¹Ñ³Ýáõñ Çñ³í³ëáõÃÛ³Ý ³é³çÇÝ ³ïÛ³ÝÇ ¹³ï³ñ³ÝÇ ·áñÍáõÝ»áõÃÛ³Ý í»ñ³µ»ñÛ³É
A3: êïáõ·Çã Ñ³í³ë³ñáõÙ` 1+2=7+8+9, 7=3+4+5+6, | D3: Ñ³ßí»ïáõ Å³Ù³Ý³Ï³Ñ³ïí³ÍÇ ëÏ½µáõÙ Ý³Ëáñ¹ Ñ³ßí»ïáõ Å³Ù³Ý³Ï³Ñ³ïí³ÍÇó ÷áË³Ýóí³Í ·áñÍ»ñÇ ÁÝ¹Ñ³Ýáõñ ÃÇíÁ | E3: Ñ³ßí»ïáõ Å³Ù³Ý³Ï³Ñ³ïí³ÍáõÙ ëï³óí³Í ·áñÍ»ñÇ ÁÝ¹Ñ³Ýáõñ ÃÇíÁ | F3: Ñ³ßí»ïáõ Å³Ù³Ý³Ï³Ñ³ïí³ÍáõÙ ³í³ñïí³Í ·áñÍ»ñÇ ÁÝ¹Ñ³Ýáõñ ÃÇíÁ | K3: áõÕ³ñÏí»É ¿ Áëï ÁÝ¹¹³ïáõÃÛ³Ý | L3: Ñ³ßí»ïáõ Å³Ù³Ý³Ï³Ñ³ïí³ÍáõÙ ³Ý³í³ñï ·áñÍ»ñÇ ÁÝ¹Ñ³Ýáõñ ÃÇíÁ | M3: µáÕáù³ñÏí»É ¿ í»ñ³ùÝÝÇã ¹³ï³ñ³Ý
F4: Ù»ñÅí»É ¿ | G4: µ³í³ñ³ñí»É ¿ | H4: µ³í³ñ³ñí»É ¿ Ù³ëÝ³ÏÇ | I4: ÃáÕÝí»É ¿ ³é³Ýó ùÝÝáõÃÛ³Ý | J4: ÁÝ¹³Ù»ÝÁ
A5: 1. ØÇÝã¹³ï³Ï³Ý í³ñáõÛÃÇ ÝÏ³ïÙ³Ùµ ¹³ï³Ï³Ý í»ñ³ÑëÏáÕáõÃÛ³Ý áÉáñï | D5: 1 | E5: 2 | F5: 3 | G5: 4 | H5: 5 | I5: 6 | J5: 7 | K5: 8 | L5: 9 | M5: 10 | N5: 1+2=7+8+9 | P5: 7=3+4+5+6
A6: 1 | B6: Ï³É³ÝùÁ áñå»ë Ë³÷³ÝÙ³Ý ÙÇçáó ÏÇñ³é»Éáõ Ù³ëÇÝ ÙÇçÝáñ¹áõÃÛáõÝÝ»ñ | E6: 60 | F6: 4 | G6: 56 | J6: 60 | M6: 6 | N6: =D6+E6 -> 60 | O6: =J6+K6+L6 -> 60 | P6: =J6 -> 60 | Q6: =F6+G6+H6+I6 -> 60
A7: 2 | B7: Ï³É³ÝùÇ Å³ÙÏ»ïÁ »ñÏ³ñ³óÝ»Éáõ Ù³ëÇÝ ÙÇçÝáñ¹áõÃÛáõÝÝ»ñ | D7: 2 | E7: 58 | F7: 1 | G7: 54 | H7: 4 | I7: 1 | J7: 60 | M7: 6 | N7: =D7+E7 -> 60 | O7: =J7+K7+L7 -> 60 | P7: =J7 -> 60 | Q7: =F7+G7+H7+I7 -> 60
A8: 3 | B8: Ï³É³ÝùÇ í»ñ³Ñ³ëï³ïÙ³Ý Ù³ëÇÝ ÙÇçÝáñ¹áõÃÛáõÝÝ»ñ | E8: 13 | G8: 13 | J8: 13 | M8: 1 | N8: =D8+E8 -> 13 | O8: =J8+K8+L8 -> 13 | P8: =J8 -> 13 | Q8: =F8+G8+H8+I8 -> 13
A9: 4 | B9: ·ñ³íÁ áñå»ë Ï³É³Ý³íáñÙ³Ý ³ÛÉÁÝïñ³Ýù³ÛÇÝ Ë³÷³ÝÙ³Ý ÙÇçáó ÏÇñ³é»Éáõ Ù³ëÇÝ ÙÇçÝáñ¹áõÃÛáõÝÝ»ñ | E9: 63 | F9: 53 | G9: 9 | J9: 62 | L9: 1 | M9: 20 | N9: =D9+E9 -> 63 | O9: =J9+K9+L9 -> 63 | P9: =J9 -> 62 | Q9: =F9+G9+H9+I9 -> 62
A10: 5 | B10: Ëáõ½³ñÏáõÃÛ³Ý Ï³ï³ñÙ³Ý Ù³ëÇÝ ÙÇçÝáñ¹áõÃÛáõÝÝ»ñ | E10: 188 | F10: 1 | G10: 187 | J10: 188 | M10: 1 | N10: =D10+E10 -> 188 | O10: =J10+K10+L10 -> 188 | P10: =J10 -> 188 | Q10: =F10+G10+H10+I10 -> 188
A11: 6 | B11: µ³ÝÏ³ÛÇÝ, ³å³Ñáí³·ñ³Ï³Ý, Ýáï³ñ³Ï³Ý ·³ÕïÝÇù Ï³½ÙáÕ ï»Õ»ÏáõÃÛáõÝÝ»ñÇ ëï³óÙ³Ý Ñ³Ù³ñ Ëáõ½³ñÏáõÃÛ³Ý Ï³Ù ³é·ñ³íÙ³Ý Ï³ï³ñÙ³Ý Ù³ëÇÝ ÙÇçÝáñ¹áõÃÛáõÝÝ»ñ | E11: 9 | G11: 9 | J11: 9 | N11: =D11+E11 -> 9 | O11: =J11+K11+L11 -> 9 | P11: =J11 -> 9 | Q11: =F11+G11+H11+I11 -> 9
A12: 7 | B12: Ý³Ù³Ï³·ñáõÃÛ³Ý, Ñ»é³·ñ³Ï³Ý, ÷áuï³ÛÇÝ Ñ³Õáñ¹áõÙÝ»ñÇ ÑëÏáÕáõÃÛ³Ý Ù³ëÇÝ ÙÇçÝáñ¹áõÃÛáõÝÝ»ñ | E12: 4 | F12: 1 | G12: 3 | J12: 4 | N12: =D12+E12 -> 4 | O12: =J12+K12+L12 -> 4 | P12: =J12 -> 4 | Q12: =F12+G12+H12+I12 -> 4
A13: 8 | B13: Ñ»é³Ëáu³ÛÇÝ Ï³Ù Ï³åÇ ³ÛÉ ÙÇçáóÝ»ñáí ï³ñíáÕ Ëáu³ÏóáõÃÛáõÝÝ»ñÇ ÉuÙ³Ý ¨ Ó³ÛÝ³·ñ³éÙ³Ý Ù³ëÇÝ ÙÇçÝáñ¹áõÃÛáõÝÝ»ñ | E13: 22 | G13: 21 | I13: 1 | J13: 22 | N13: =D13+E13 -> 22 | O13: =J13+K13+L13 -> 22 | P13: =J13 -> 22 | Q13: =F13+G13+H13+I13 -> 22
A14: 9 | B14: Ñ»é³ËáëÝ»ñÇ Ùáõïù³ÛÇÝ ¨ »Éù³ÛÇÝ í»ñÍ³ÝÙ³Ý ÃáõÛÉïíáõÃÛáõÝ ëï³Ý³Éáõ Ù³ëÇÝ ÙÇçÝáñ¹áõÃÛáõÝÝ»ñ | E14: 190 | F14: 1 | G14: 189 | J14: 190 | N14: =D14+E14 -> 190 | O14: =J14+K14+L14 -> 190 | P14: =J14 -> 190 | Q14: =F14+G14+H14+I14 -> 190
A15: 10 | B15: Ñ»ï³ùÝÝáõÃÛ³Ý Ù³ñÙÝÇ ³ßË³ïáÕÇ, ùÝÝÇãÇ, ¹³ï³Ë³½Ç oå»ñ³ïÇí-Ñ»ï³Ëáõ½³Ï³Ý ·áñÍáÕáõÃÛáõÝÝ»ñ Çñ³Ï³Ý³óÝáÕ Ù³ñÙÇÝÝ»ñÇ ³ÝoñÇÝ³Ï³Ý ¨ ³ÝÑÇÙÝ áñáßáõÙÝ»ñÇ ¨ ·áñÍáÕáõÃÛáõÝÝ»ñÇ ¹»Ù µáÕáùÝ»ñ | D15: 4 | E15: 27 | F15: 18 | G15: 3 | H15: 2 | J15: 23 | K15: 2 | L15: 6 | M15: 16 | N15: =D15+E15 -> 31 | O15: =J15+K15+L15 -> 31 | P15: =J15 -> 23 | Q15: =F15+G15+H15+I15 -> 23
A16: 11 | B16: ²½³ïáõÃÛáõÝÇó ½ñÏ»Éáõ Çñ³í³ã³÷áõÃÛ³Ý í»ñ³µ»ñÛ³É µáÕáùÝ»ñáí ·áñÍ»ñ | E16: 3 | F16: 3 | J16: 3 | M16: 3 | N16: =D16+E16 -> 3 | O16: =J16+K16+L16 -> 3 | P16: =J16 -> 3 | Q16: =F16+G16+H16+I16 -> 3
A17: 2. ¸³ï³Ï³Ý ³Ïï»ñÇ ¨ ¹³ï³Ï³Ý Ñ³ÝÓÝ³ñ³ñáõÃÛáõÝÝ»ñÇ Ï³ï³ñÙ³Ý Ñ»ï Ï³åí³Í Ñ³ñó»ñÇ ÉáõÍÙ³Ý áÉáñï | N17: =D17+E17 -> 0
A18: 1 | B18: å³ïÅÇó å³ÛÙ³Ý³Ï³Ý í³Õ³Å³ÙÏ»ï ³½³ï»Éáõ Ù³ëÇÝ ÙÇçÝáñ¹áõÃÛáõÝÝ»ñ | N18: =D18+E18 -> 0 | O18: =J18+K18+L18 -> 0 | P18: =J18 -> 0 | Q18: =F18+G18+H18+I18 -> 0
A19: 2 | B19: å³ïÇÅÁ ÷á÷áË»Éáõ, Ñ»ï³Ó·»Éáõ ¨ å³ïÅÇó ³½³ï»Éáõ Ù³uÇÝ ÙÇçÝáñ¹áõÃÛáõÝÝ»ñ | D19: 1 | E19: 49 | F19: 8 | G19: 28 | H19: 1 | I19: 2 | J19: 39 | K19: 3 | L19: 8 | M19: 6 | N19: =D19+E19 -> 50 | O19: =J19+K19+L19 -> 50 | P19: =J19 -> 39 | Q19: =F19+G19+H19+I19 -> 39
A20: 3 | B20: Ñ³ñÏ³¹Çñ µáõÅÙ³Ý ï»ë³ÏÇ ÷á÷áËáõÃÛ³Ý Ù³ëÇÝ ÙÇçÝáñ¹áõÃÛáõÝÝ»ñ | E20: 7 | G20: 7 | J20: 7 | N20: =D20+E20 -> 7 | O20: =J20+K20+L20 -> 7 | P20: =J20 -> 7 | Q20: =F20+G20+H20+I20 -> 7
A21: 4 | B21: ³ÛÉ ÙÇçÝáñ¹áõÃÛáõÝÝ»ñ | E21: 4 | G21: 4 | J21: 4 | N21: =D21+E21 -> 4 | O21: =J21+K21+L21 -> 4 | P21: =J21 -> 4 | Q21: =F21+G21+H21+I21 -> 4
A22: 5 | B22: ¹³ï³Ï³Ý Ñ³ÝÓÝ³ñ³ñáõÃÛáõÝÝ»ñ | D22: 7 | E22: 20 | G22: 10 | I22: 2 | J22: 12 | K22: 2 | L22: 13 | N22: =D22+E22 -> 27 | O22: =J22+K22+L22 -> 27 | P22: =J22 -> 12 | Q22: =F22+G22+H22+I22 -> 12
A23: ÀÜ¸²ØºÜÀ | D23: =SUM(D6:D16,D18:D22) -> 14 | E23: =SUM(E6:E16,E18:E22) -> 717 | F23: =SUM(F6:F16,F18:F22) -> 90 | G23: =SUM(G6:G16,G18:G22) -> 593 | H23: =SUM(H6:H16,H18:H22) -> 7 | I23: =SUM(I6:I16,I18:I22) -> 6 | J23: =SUM(J6:J16,J18:J22) -> 696 | K23: =SUM(K6:K16,K18:K22) -> 7 | ... M23: =SUM(M6:M16,M18:M22) -> 59 | N23: =D23+E23 -> 731 | O23: =SUM(O6:O16,O18:O22) -> 731 | P23: =SUM(P6:P16,P18:P22) -> 696 | Q23: =SUM(Q6:Q16,Q18:Q22) -> 696

Sheet Kentron
A1: 2016Ã. | C1: Ð²ÞìºîìàôÂÚàôÜ | K1: Ð³í»Éí³Í Ð³Û³ëï³ÝÇ Ð³Ýñ³å»ïáõÃÛ³Ý ¸³ï³ñ³ÝÝ»ñÇ Ý³Ë³·³ÑÝ»ñÇ ËáñÑñ¹Ç 27.01.2017Ã. ÃÇí 01-È áñáßÙ³Ý
A2: ØÇÝã¹³ï³Ï³Ý í³ñáõÛÃÇ ÝÏ³ïÙ³Ùµ ¹³ï³Ï³Ý í»ñ³ÑëÏáÕáõÃÛ³ÝÁ, ¹³ï³Ï³Ý ³Ïï»ñÇ ¨ ¹³ï³Ï³Ý Ñ³ÝÓÝ³ñ³ñáõÃÛáõÝÝ»ñÇ Ï³ï³ñÙ³ÝÁ Ñ»ï Ï³åí³Í ÙÇçÝáñ¹áõÃÛáõÝÝ»ñÇ í»ñ³µ»ñÛ³É ¹³ï³Ï³Ý ·áñÍ»ñáí ºñ¨³Ý ù³Õ³ùÇ Î»ÝïñáÝ ¨ Üáñù-Ø³ñ³ß í³ñã³Ï³Ý ßñç³ÝÝ»ñÇ ÁÝ¹Ñ³Ýáõñ Çñ³í³ëáõÃÛ³Ý ³é³çÇÝ ³ïÛ³ÝÇ ¹³ï³ñ³ÝÇ ·áñÍáõÝ»áõÃÛ³Ý í»ñ³µ»ñÛ³É
A3: êïáõ·Çã Ñ³í³ë³ñáõÙ` 1+2=7+8+9, 7=3+4+5+6, | D3: Ñ³ßí»ïáõ Å³Ù³Ý³Ï³Ñ³ïí³ÍÇ ëÏ½µáõÙ Ý³Ëáñ¹ Ñ³ßí»ïáõ Å³Ù³Ý³Ï³Ñ³ïí³ÍÇó ÷áË³Ýóí³Í ·áñÍ»ñÇ ÁÝ¹Ñ³Ýáõñ ÃÇíÁ | E3: Ñ³ßí»ïáõ Å³Ù³Ý³Ï³Ñ³ïí³ÍáõÙ ëï³óí³Í ·áñÍ»ñÇ ÁÝ¹Ñ³Ýáõñ ÃÇíÁ | F3: Ñ³ßí»ïáõ Å³Ù³Ý³Ï³Ñ³ïí³ÍáõÙ ³í³ñïí³Í ·áñÍ»ñÇ ÁÝ¹Ñ³Ýáõñ ÃÇíÁ | K3: áõÕ³ñÏí»É ¿ Áëï ÁÝ¹¹³ïáõÃÛ³Ý | L3: Ñ³ßí»ïáõ Å³Ù³Ý³Ï³Ñ³ïí³ÍáõÙ ³Ý³í³ñï ·áñÍ»ñÇ ÁÝ¹Ñ³Ýáõñ ÃÇíÁ | M3: µáÕáù³ñÏí»É ¿ í»ñ³ùÝÝÇã ¹³ï³ñ³Ý
F4: Ù»ñÅí»É ¿ | G4: µ³í³ñ³ñí»É ¿ | H4: µ³í³ñ³ñí»É ¿ Ù³ëÝ³ÏÇ | I4: ÃáÕÝí»É ¿ ³é³Ýó ùÝÝáõÃÛ³Ý | J4: ÁÝ¹³Ù»ÝÁ
A5: 1. ØÇÝã¹³ï³Ï³Ý í³ñáõÛÃÇ ÝÏ³ïÙ³Ùµ ¹³ï³Ï³Ý í»ñ³ÑëÏáÕáõÃÛ³Ý áÉáñï | D5: 1 | E5: 2 | F5: 3 | G5: 4 | H5: 5 | I5: 6 | J5: 7 | K5: 8 | L5: 9 | M5: 10 | N5: 1+2=7+8+9 | P5: 7=3+4+5+6
A6: 1 | B6: Ï³É³ÝùÁ áñå»ë Ë³÷³ÝÙ³Ý ÙÇçáó ÏÇñ³é»Éáõ Ù³ëÇÝ ÙÇçÝáñ¹áõÃÛáõÝÝ»ñ | D6: 0 | E6: 268 | F6: 16 | G6: 247 | H6: 0 | I6: 5 | J6: 268 | K6: 0 | L6: 0 | M6: 109 | N6: =D6+E6 -> 268 | O6: =J6+K6+L6 -> 268 | P6: =J6 -> 268 | Q6: =F6+G6+H6+I6 -> 268
A7: 2 | B7: Ï³É³ÝùÇ Å³ÙÏ»ïÁ »ñÏ³ñ³óÝ»Éáõ Ù³ëÇÝ ÙÇçÝáñ¹áõÃÛáõÝÝ»ñ | D7: 9 | E7: 497 | F7: 6 | G7: 494 | H7: 4 | I7: 1 | J7: 505 | K7: 0 | L7: 1 | M7: 152 | N7: =D7+E7 -> 506 | O7: =J7+K7+L7 -> 506 | P7: =J7 -> 505 | Q7: =F7+G7+H7+I7 -> 505
A8: 3 | B8: Ï³É³ÝùÇ í»ñ³Ñ³ëï³ïÙ³Ý Ù³ëÇÝ ÙÇçÝáñ¹áõÃÛáõÝÝ»ñ | D8: 0 | E8: 37 | F8: 3 | G8: 34 | H8: 0 | I8: 0 | J8: 37 | K8: 0 | L8: 0 | M8: 7 | N8: =D8+E8 -> 37 | O8: =J8+K8+L8 -> 37 | P8: =J8 -> 37 | Q8: =F8+G8+H8+I8 -> 37
A9: 4 | B9: ·ñ³íÁ áñå»ë Ï³É³Ý³íáñÙ³Ý ³ÛÉÁÝïñ³Ýù³ÛÇÝ Ë³÷³ÝÙ³Ý ÙÇçáó ÏÇñ³é»Éáõ Ù³ëÇÝ ÙÇçÝáñ¹áõÃÛáõÝÝ»ñ | D9: 1 | E9: 49 | F9: 26 | G9: 18 | H9: 0 | I9: 3 | J9: 47 | K9: 2 | L9: 1 | M9: 11 | N9: =D9+E9 -> 50 | O9: =J9+K9+L9 -> 50 | P9: =J9 -> 47 | Q9: =F9+G9+H9+I9 -> 47
A10: 5 | B10: Ëáõ½³ñÏáõÃÛ³Ý Ï³ï³ñÙ³Ý Ù³ëÇÝ ÙÇçÝáñ¹áõÃÛáõÝÝ»ñ | D10: 0 | E10: 752 | F10: 25 | G10: 709 | H10: 18 | I10: 0 | J10: 752 | K10: 0 | L10: 0 | M10: 0 | N10: =D10+E10 -> 752 | O10: =J10+K10+L10 -> 752 | P10: =J10 -> 752 | Q10: =F10+G10+H10+I10 -> 752
A11: 6 | B11: µ³ÝÏ³ÛÇÝ, ³å³Ñáí³·ñ³Ï³Ý, Ýáï³ñ³Ï³Ý ·³ÕïÝÇù Ï³½ÙáÕ ï»Õ»ÏáõÃÛáõÝÝ»ñÇ ëï³óÙ³Ý Ñ³Ù³ñ Ëáõ½³ñÏáõÃÛ³Ý Ï³Ù ³é·ñ³íÙ³Ý Ï³ï³ñÙ³Ý Ù³ëÇÝ ÙÇçÝáñ¹áõÃÛáõÝÝ»ñ | D11: 0 | E11: 116 | F11: 2 | G11: 113 | H11: 1 | I11: 0 | J11: 116 | K11: 0 | L11: 0 | M11: 0 | N11: =D11+E11 -> 116 | O11: =J11+K11+L11 -> 116 | P11: =J11 -> 116 | Q11: =F11+G11+H11+I11 -> 116
A12: 7 | B12: Ý³Ù³Ï³·ñáõÃÛ³Ý, Ñ»é³·ñ³Ï³Ý, ÷áuï³ÛÇÝ Ñ³Õáñ¹áõÙÝ»ñÇ ÑëÏáÕáõÃÛ³Ý Ù³ëÇÝ ÙÇçÝáñ¹áõÃÛáõÝÝ»ñ | D12: 0 | E12: 46 | F12: 0 | G12: 44 | H12: 0 | I12: 2 | J12: 46 | K12: 0 | L12: 0 | M12: 0 | N12: =D12+E12 -> 46 | O12: =J12+K12+L12 -> 46 | P12: =J12 -> 46 | Q12: =F12+G12+H12+I12 -> 46
A13: 8 | B13: Ñ»é³Ëáu³ÛÇÝ Ï³Ù Ï³åÇ ³ÛÉ ÙÇçáóÝ»ñáí ï³ñíáÕ Ëáu³ÏóáõÃÛáõÝÝ»ñÇ ÉuÙ³Ý ¨ Ó³ÛÝ³·ñ³éÙ³Ý Ù³ëÇÝ ÙÇçÝáñ¹áõÃÛáõÝÝ»ñ | D13: 0 | E13: 17 | F13: 0 | G13: 17 | H13: 0 | I13: 0 | J13: 17 | K13: 0 | L13: 0 | M13: 1 | N13: =D13+E13 -> 17 | O13: =J13+K13+L13 -> 17 | P13: =J13 -> 17 | Q13: =F13+G13+H13+I13 -> 17
A14: 9 | B14: Ñ»é³ËáëÝ»ñÇ Ùáõïù³ÛÇÝ ¨ »Éù³ÛÇÝ í»ñÍ³ÝÙ³Ý ÃáõÛÉïíáõÃÛáõÝ ëï³Ý³Éáõ Ù³ëÇÝ ÙÇçÝáñ¹áõÃÛáõÝÝ»ñ | D14: 0 | E14: 877 | F14: 0 | G14: 875 | H14: 0 | I14: 2 | J14: 877 | K14: 0 | L14: 0 | M14: 0 | N14: =D14+E14 -> 877 | O14: =J14+K14+L14 -> 877 | P14: =J14 -> 877 | Q14: =F14+G14+H14+I14 -> 877
A15: 10 | B15: Ñ»ï³ùÝÝáõÃÛ³Ý Ù³ñÙÝÇ ³ßË³ïáÕÇ, ùÝÝÇãÇ, ¹³ï³Ë³½Ç oå»ñ³ïÇí-Ñ»ï³Ëáõ½³Ï³Ý ·áñÍáÕáõÃÛáõÝÝ»ñ Çñ³Ï³Ý³óÝáÕ Ù³ñÙÇÝÝ»ñÇ ³ÝoñÇÝ³Ï³Ý ¨ ³ÝÑÇÙÝ áñáßáõÙÝ»ñÇ ¨ ·áñÍáÕáõÃÛáõÝÝ»ñÇ ¹»Ù µáÕáùÝ»ñ | D15: 36 | E15: 252 | F15: 129 | G15: 43 | H15: 5 | I15: 12 | J15: 189 | K15: 52 | L15: 44 | M15: 121 | N15: =D15+E15 -> 288 | O15: =J15+K15+L15 -> 285 | P15: =J15 -> 189 | Q15: =F15+G15+H15+I15 -> 189
A16: 11 | B16: ²½³ïáõÃÛáõÝÇó ½ñÏ»Éáõ Çñ³í³ã³÷áõÃÛ³Ý í»ñ³µ»ñÛ³É µáÕáùÝ»ñáí ·áñÍ»ñ | D16: 0 | E16: 9 | F16: 6 | G16: 2 | H16: 0 | I16: 1 | J16: 9 | K16: 0 | L16: 0 | M16: 2 | N16: =D16+E16 -> 9 | O16: =J16+K16+L16 -> 9 | P16: =J16 -> 9 | Q16: =F16+G16+H16+I16 -> 9
A17: 2. ¸³ï³Ï³Ý ³Ïï»ñÇ ¨ ¹³ï³Ï³Ý Ñ³ÝÓÝ³ñ³ñáõÃÛáõÝÝ»ñÇ Ï³ï³ñÙ³Ý Ñ»ï Ï³åí³Í Ñ³ñó»ñÇ ÉáõÍÙ³Ý áÉáñï
A18: 1 | B18: å³ïÅÇó å³ÛÙ³Ý³Ï³Ý í³Õ³Å³ÙÏ»ï ³½³ï»Éáõ Ù³ëÇÝ ÙÇçÝáñ¹áõÃÛáõÝÝ»ñ | D18: 0 | E18: 5 | F18: 0 | G18: 5 | H18: 0 | I18: 0 | J18: 5 | K18: 0 | L18: 0 | M18: 5 | N18: =D18+E18 -> 5 | O18: =J18+K18+L18 -> 5 | P18: =J18 -> 5 | Q18: =F18+G18+H18+I18 -> 5
A19: 2 | B19: å³ïÇÅÁ ÷á÷áË»Éáõ, Ñ»ï³Ó·»Éáõ ¨ å³ïÅÇó ³½³ï»Éáõ Ù³uÇÝ ÙÇçÝáñ¹áõÃÛáõÝÝ»ñ | D19: 1 | E19: 56 | F19: 9 | G19: 40 | H19: 0 | I19: 2 | J19: 51 | K19: 4 | L19: 2 | M19: 5 | N19: =D19+E19 -> 57 | O19: =J19+K19+L19 -> 57 | P19: =J19 -> 51 | Q19: =F19+G19+H19+I19 -> 51
A20: 3 | B20: Ñ³ñÏ³¹Çñ µáõÅÙ³Ý ï»ë³ÏÇ ÷á÷áËáõÃÛ³Ý Ù³ëÇÝ ÙÇçÝáñ¹áõÃÛáõÝÝ»ñ | D20: 1 | E20: 50 | F20: 2 | G20: 49 | H20: 0 | I20: 0 | J20: 51 | K20: 0 | L20: 0 | M20: 1 | N20: =D20+E20 -> 51 | O20: =J20+K20+L20 -> 51 | P20: =J20 -> 51 | Q20: =F20+G20+H20+I20 -> 51
A21: 4 | B21: ³ÛÉ ÙÇçÝáñ¹áõÃÛáõÝÝ»ñ | D21: 1 | E21: 70 | F21: 15 | G21: 38 | H21: 4 | I21: 4 | J21: 61 | K21: 3 | L21: 6 | M21: 5 | N21: =D21+E21 -> 71 | O21: =J21+K21+L21 -> 70 | P21: =J21 -> 61 | Q21: =F21+G21+H21+I21 -> 61
A22: 5 | B22: ¹³ï³Ï³Ý Ñ³ÝÓÝ³ñ³ñáõÃÛáõÝÝ»ñ | D22: 10 | E22: 29 | F22: 3 | G22: 25 | H22: 0 | I22: 0 | J22: 28 | K22: 1 | L22: 10 | M22: 0 | N22: =D22+E22 -> 39 | O22: =J22+K22+L22 -> 39 | P22: =J22 -> 28 | Q22: =F22+G22+H22+I22 -> 28
A23: ÀÜ¸²ØºÜÀ | D23: =SUM(D6:D16,D18:D22) -> 59 | E23: =SUM(E6:E16,E18:E22) -> 3130 | F23: =SUM(F6:F16,F18:F22) -> 242 | G23: =SUM(G6:G16,G18:G22) -> 2753 | H23: =SUM(H6:H16,H18:H22) -> 32 | I23: =SUM(I6:I16,I18:I22) -> 32 | J23: =SUM(J6:J16,J18:J22) -> 3059 | K23: =SUM(K6:K16,K18:K22) -> 62 | ... Q23: =SUM(Q6:Q16,Q18:Q22) -> 3059
B26: այլ միջնորդությունների մեջ 1 գործ միացվել է,
B27: հետաքննության մարմնի աշխատողի,,,, բողոքների մեջ 3 գործ միացվել է

Sheet Erebuni
A1: 2016Ã. | C1: Ð²ÞìºîìàôÂÚàôÜ | K1: Ð³í»Éí³Í Ð³Û³ëï³ÝÇ Ð³Ýñ³å»ïáõÃÛ³Ý ¸³ï³ñ³ÝÝ»ñÇ Ý³Ë³·³ÑÝ»ñÇ ËáñÑñ¹Ç 27.01.2017Ã. ÃÇí 01-È áñáßÙ³Ý
A2: ØÇÝã¹³ï³Ï³Ý í³ñáõÛÃÇ ÝÏ³ïÙ³Ùµ ¹³ï³Ï³Ý í»ñ³ÑëÏáÕáõÃÛ³ÝÁ, ¹³ï³Ï³Ý ³Ïï»ñÇ ¨ ¹³ï³Ï³Ý Ñ³ÝÓÝ³ñ³ñáõÃÛáõÝÝ»ñÇ Ï³ï³ñÙ³ÝÁ Ñ»ï Ï³åí³Í ÙÇçÝáñ¹áõÃÛáõÝÝ»ñÇ í»ñ³µ»ñÛ³É ¹³ï³Ï³Ý ·áñÍ»ñáí ºñ¨³Ý ù³Õ³ùÇ ¾ñ»µáõÝÇ ¨ Üáõµ³ñ³ß»Ý í³ñã³Ï³Ý ßñç³ÝÝ»ñÇ ÁÝ¹Ñ³Ýáõñ Çñ³í³ëáõÃÛ³Ý ³é³çÇÝ ³ïÛ³ÝÇ ¹³ï³ñ³ÝÇ ·áñÍáõÝ»áõÃÛ³Ý í»ñ³µ»ñÛ³É
A3: êïáõ·Çã Ñ³í³ë³ñáõÙ` 1+2=7+8+9, 7=3+4+5+6, | D3: Ñ³ßí»ïáõ Å³Ù³Ý³Ï³Ñ³ïí³ÍÇ ëÏ½µáõÙ Ý³Ëáñ¹ Ñ³ßí»ïáõ Å³Ù³Ý³Ï³Ñ³ïí³ÍÇó ÷áË³Ýóí³Í ·áñÍ»ñÇ ÁÝ¹Ñ³Ýáõñ ÃÇíÁ | E3: Ñ³ßí»ïáõ Å³Ù³Ý³Ï³Ñ³ïí³ÍáõÙ ëï³óí³Í ·áñÍ»ñÇ ÁÝ¹Ñ³Ýáõñ ÃÇíÁ | F3: Ñ³ßí»ïáõ Å³Ù³Ý³Ï³Ñ³ïí³ÍáõÙ ³í³ñïí³Í ·áñÍ»ñÇ ÁÝ¹Ñ³Ýáõñ ÃÇíÁ | K3: áõÕ³ñÏí»É ¿ Áëï ÁÝ¹¹³ïáõÃÛ³Ý | L3: Ñ³ßí»ïáõ Å³Ù³Ý³Ï³Ñ³ïí³ÍáõÙ ³Ý³í³ñï ·áñÍ»ñÇ ÁÝ¹Ñ³Ýáõñ ÃÇíÁ | M3: µáÕáù³ñÏí»É ¿ í»ñ³ùÝÝÇã ¹³ï³ñ³Ý
F4: Ù»ñÅí»É ¿ | G4: µ³í³ñ³ñí»É ¿ | H4: µ³í³ñ³ñí»É ¿ Ù³ëÝ³ÏÇ | I4: ÃáÕÝí»É ¿ ³é³Ýó ùÝÝáõÃÛ³Ý | J4: ÁÝ¹³Ù»ÝÁ
A5: 1. ØÇÝã¹³ï³Ï³Ý í³ñáõÛÃÇ ÝÏ³ïÙ³Ùµ ¹³ï³Ï³Ý í»ñ³ÑëÏáÕáõÃÛ³Ý áÉáñï | D5: 1 | E5: 2 | F5: 3 | G5: 4 | H5: 5 | I5: 6 | J5: 7 | K5: 8 | L5: 9 | M5: 10 | N5: 1+2=7+8+9 | P5: 7=3+4+5+6
A6: 1 | B6: Ï³É³ÝùÁ áñå»ë Ë³÷³ÝÙ³Ý ÙÇçáó ÏÇñ³é»Éáõ Ù³ëÇÝ ÙÇçÝáñ¹áõÃÛáõÝÝ»ñ | E6: 49 | F6: 7 | G6: 42 | J6: 49 | M6: 14 | N6: =D6+E6 -> 49 | O6: =J6+K6+L6 -> 49 | P6: =J6 -> 49 | Q6: =F6+G6+H6+I6 -> 49
A7: 2 | B7: Ï³É³ÝùÇ Å³ÙÏ»ïÁ »ñÏ³ñ³óÝ»Éáõ Ù³ëÇÝ ÙÇçÝáñ¹áõÃÛáõÝÝ»ñ | E7: 46 | F7: 1 | G7: 40 | H7: 3 | J7: 44 | L7: 2 | M7: 11 | N7: =D7+E7 -> 46 | O7: =J7+K7+L7 -> 46 | P7: =J7 -> 44 | Q7: =F7+G7+H7+I7 -> 44
A8: 3 | B8: Ï³É³ÝùÇ í»ñ³Ñ³ëï³ïÙ³Ý Ù³ëÇÝ ÙÇçÝáñ¹áõÃÛáõÝÝ»ñ | E8: 11 | F8: 1 | G8: 10 | J8: 11 | M8: 3 | N8: =D8+E8 -> 11 | O8: =J8+K8+L8 -> 11 | P8: =J8 -> 11 | Q8: =F8+G8+H8+I8 -> 11
A9: 4 | B9: ·ñ³íÁ áñå»ë Ï³É³Ý³íáñÙ³Ý ³ÛÉÁÝïñ³Ýù³ÛÇÝ Ë³÷³ÝÙ³Ý ÙÇçáó ÏÇñ³é»Éáõ Ù³ëÇÝ ÙÇçÝáñ¹áõÃÛáõÝÝ»ñ | E9: 39 | F9: 35 | G9: 3 | I9: 1 | J9: 39 | M9: 4 | N9: =D9+E9 -> 39 | O9: =J9+K9+L9 -> 39 | P9: =J9 -> 39 | Q9: =F9+G9+H9+I9 -> 39
A10: 5 | B10: Ëáõ½³ñÏáõÃÛ³Ý Ï³ï³ñÙ³Ý Ù³ëÇÝ ÙÇçÝáñ¹áõÃÛáõÝÝ»ñ | E10: 165 | F10: 13 | G10: 152 | J10: 165 | M10: 1 | N10: =D10+E10 -> 165 | O10: =J10+K10+L10 -> 165 | P10: =J10 -> 165 | Q10: =F10+G10+H10+I10 -> 165
A11: 6 | B11: µ³ÝÏ³ÛÇÝ, ³å³Ñáí³·ñ³Ï³Ý, Ýáï³ñ³Ï³Ý ·³ÕïÝÇù Ï³½ÙáÕ ï»Õ»ÏáõÃÛáõÝÝ»ñÇ ëï³óÙ³Ý Ñ³Ù³ñ Ëáõ½³ñÏáõÃÛ³Ý Ï³Ù ³é·ñ³íÙ³Ý Ï³ï³ñÙ³Ý Ù³ëÇÝ ÙÇçÝáñ¹áõÃÛáõÝÝ»ñ | E11: 6 | G11: 6 | J11: 6 | N11: =D11+E11 -> 6 | O11: =J11+K11+L11 -> 6 | P11: =J11 -> 6 | Q11: =F11+G11+H11+I11 -> 6
A12: 7 | B12: Ý³Ù³Ï³·ñáõÃÛ³Ý, Ñ»é³·ñ³Ï³Ý, ÷áuï³ÛÇÝ Ñ³Õáñ¹áõÙÝ»ñÇ ÑëÏáÕáõÃÛ³Ý Ù³ëÇÝ ÙÇçÝáñ¹áõÃÛáõÝÝ»ñ | E12: 8 | F12: 1 | G12: 6 | H12: 1 | J12: 8 | N12: =D12+E12 -> 8 | O12: =J12+K12+L12 -> 8 | P12: =J12 -> 8 | Q12: =F12+G12+H12+I12 -> 8
A13: 8 | B13: Ñ»é³Ëáu³ÛÇÝ Ï³Ù Ï³åÇ ³ÛÉ ÙÇçáóÝ»ñáí ï³ñíáÕ Ëáu³ÏóáõÃÛáõÝÝ»ñÇ ÉuÙ³Ý ¨ Ó³ÛÝ³·ñ³éÙ³Ý Ù³ëÇÝ ÙÇçÝáñ¹áõÃÛáõÝÝ»ñ | N13: =D13+E13 -> 0 | O13: =J13+K13+L13 -> 0 | P13: =J13 -> 0 | Q13: =F13+G13+H13+I13 -> 0
A14: 9 | B14: Ñ»é³ËáëÝ»ñÇ Ùáõïù³ÛÇÝ ¨ »Éù³ÛÇÝ í»ñÍ³ÝÙ³Ý ÃáõÛÉïíáõÃÛáõÝ ëï³Ý³Éáõ Ù³ëÇÝ ÙÇçÝáñ¹áõÃÛáõÝÝ»ñ | E14: 266 | G14: 266 | J14: 266 | N14: =D14+E14 -> 266 | O14: =J14+K14+L14 -> 266 | P14: =J14 -> 266 | Q14: =F14+G14+H14+I14 -> 266
A15: 10 | B15: Ñ»ï³ùÝÝáõÃÛ³Ý Ù³ñÙÝÇ ³ßË³ïáÕÇ, ùÝÝÇãÇ, ¹³ï³Ë³½Ç oå»ñ³ïÇí-Ñ»ï³Ëáõ½³Ï³Ý ·áñÍáÕáõÃÛáõÝÝ»ñ Çñ³Ï³Ý³óÝáÕ Ù³ñÙÇÝÝ»ñÇ ³ÝoñÇÝ³Ï³Ý ¨ ³ÝÑÇÙÝ áñáßáõÙÝ»ñÇ ¨ ·áñÍáÕáõÃÛáõÝÝ»ñÇ ¹»Ù µáÕáùÝ»ñ | D15: 10 | E15: 34 | F15: 22 | G15: 5 | I15: 2 | J15: 29 | K15: 1 | L15: 14 | M15: 16 | N15: =D15+E15 -> 44 | O15: =J15+K15+L15 -> 44 | P15: =J15 -> 29 | Q15: =F15+G15+H15+I15 -> 29
A16: 11 | B16: ²½³ïáõÃÛáõÝÇó ½ñÏ»Éáõ Çñ³í³ã³÷áõÃÛ³Ý í»ñ³µ»ñÛ³É µáÕáùÝ»ñáí ·áñÍ»ñ | E16: 1 | G16: 1 | J16: 1 | N16: =D16+E16 -> 1 | O16: =J16+K16+L16 -> 1 | P16: =J16 -> 1 | Q16: =F16+G16+H16+I16 -> 1
A17: 2. ¸³ï³Ï³Ý ³Ïï»ñÇ ¨ ¹³ï³Ï³Ý Ñ³ÝÓÝ³ñ³ñáõÃÛáõÝÝ»ñÇ Ï³ï³ñÙ³Ý Ñ»ï Ï³åí³Í Ñ³ñó»ñÇ ÉáõÍÙ³Ý áÉáñï
A18: 1 | B18: å³ïÅÇó å³ÛÙ³Ý³Ï³Ý í³Õ³Å³ÙÏ»ï ³½³ï»Éáõ Ù³ëÇÝ ÙÇçÝáñ¹áõÃÛáõÝÝ»ñ | D18: 1 | E18: 14 | F18: 3 | G18: 12 | J18: 15 | M18: 2 | N18: =D18+E18 -> 15 | O18: =J18+K18+L18 -> 15 | P18: =J18 -> 15 | Q18: =F18+G18+H18+I18 -> 15
A19: 2 | B19: å³ïÇÅÁ ÷á÷áË»Éáõ, Ñ»ï³Ó·»Éáõ ¨ å³ïÅÇó ³½³ï»Éáõ Ù³uÇÝ ÙÇçÝáñ¹áõÃÛáõÝÝ»ñ | D19: 2 | E19: 63 | F19: 8 | G19: 50 | J19: 58 | K19: 2 | L19: 4 | M19: 7 | N19: =D19+E19 -> 65 | O19: =J19+K19+L19 -> 64 | P19: =J19 -> 58 | Q19: =F19+G19+H19+I19 -> 58
A20: 3 | B20: Ñ³ñÏ³¹Çñ µáõÅÙ³Ý ï»ë³ÏÇ ÷á÷áËáõÃÛ³Ý Ù³ëÇÝ ÙÇçÝáñ¹áõÃÛáõÝÝ»ñ | D20: 1 | E20: 44 | F20: 17 | G20: 28 | J20: 45 | M20: 6 | N20: =D20+E20 -> 45 | O20: =J20+K20+L20 -> 45 | P20: =J20 -> 45 | Q20: =F20+G20+H20+I20 -> 45
A21: 4 | B21: ³ÛÉ ÙÇçÝáñ¹áõÃÛáõÝÝ»ñ | D21: 1 | E21: 63 | F21: 27 | G21: 26 | I21: 1 | J21: 54 | K21: 1 | L21: 8 | M21: 12 | N21: =D21+E21 -> 64 | O21: =J21+K21+L21 -> 63 | P21: =J21 -> 54 | Q21: =F21+G21+H21+I21 -> 54
A22: 5 | B22: ¹³ï³Ï³Ý Ñ³ÝÓÝ³ñ³ñáõÃÛáõÝÝ»ñ | D22: 4 | E22: 21 | F22: 1 | G22: 18 | J22: 19 | K22: 1 | L22: 5 | N22: =D22+E22 -> 25 | O22: =J22+K22+L22 -> 25 | P22: =J22 -> 19 | Q22: =F22+G22+H22+I22 -> 19
A23: ÀÜ¸²ØºÜÀ | D23: =SUM(D6:D16,D18:D22) -> 19 | E23: =SUM(E6:E16,E18:E22) -> 830 | F23: =SUM(F6:F16,F18:F22) -> 136 | G23: =SUM(G6:G16,G18:G22) -> 665 | H23: =SUM(H6:H16,H18:H22) -> 4 | I23: =SUM(I6:I16,I18:I22) -> 4 | J23: =SUM(J6:J16,J18:J22) -> 809 | K23: =SUM(K6:K16,K18:K22) -> 5 | ... Q23: =SUM(Q6:Q16,Q18:Q22) -> 809
B25: այլ միջնորդությունների մեջ 1 գործ միացվել է,
B26: å³ïÇÅÁ ÷á÷áË»Éáõ, Ñ»ï³Ó·»Éáõ ¨ å³ïÅÇó ³½³ï»Éáõ Ù³uÇÝ ÙÇçÝáñ¹áõÃÛáõÝÝ»ñի մեջ 1 գործ միացվել է

Sheet Avan
A1: 2016Ã. | C1: Ð²ÞìºîìàôÂÚàôÜ | K1: Ð³í»Éí³Í Ð³Û³ëï³ÝÇ Ð³Ýñ³å»ïáõÃÛ³Ý ¸³ï³ñ³ÝÝ»ñÇ Ý³Ë³·³ÑÝ»ñÇ ËáñÑñ¹Ç 27.01.2017Ã. ÃÇí 01-È áñáßÙ³Ý
A2: ØÇÝã¹³ï³Ï³Ý í³ñáõÛÃÇ ÝÏ³ïÙ³Ùµ ¹³ï³Ï³Ý í»ñ³ÑëÏáÕáõÃÛ³ÝÁ, ¹³ï³Ï³Ý ³Ïï»ñÇ ¨ ¹³ï³Ï³Ý Ñ³ÝÓÝ³ñ³ñáõÃÛáõÝÝ»ñÇ Ï³ï³ñÙ³ÝÁ Ñ»ï Ï³åí³Í ÙÇçÝáñ¹áõÃÛáõÝÝ»ñÇ í»ñ³µ»ñÛ³É ¹³ï³Ï³Ý ·áñÍ»ñáí ºñ¨³Ý ù³Õ³ùÇ ²í³Ý ¨ Üáñ Üáñù í³ñã³Ï³Ý ßñç³ÝÝ»ñÇ ÁÝ¹Ñ³Ýáõñ Çñ³í³ëáõÃÛ³Ý ³é³çÇÝ ³ïÛ³ÝÇ ¹³ï³ñ³ÝÇ ·áñÍáõÝ»áõÃÛ³Ý í»ñ³µ»ñÛ³É
A3: êïáõ·Çã Ñ³í³ë³ñáõÙ` 1+2=7+8+9, 7=3+4+5+6, | D3: Ñ³ßí»ïáõ Å³Ù³Ý³Ï³Ñ³ïí³ÍÇ ëÏ½µáõÙ Ý³Ëáñ¹ Ñ³ßí»ïáõ Å³Ù³Ý³Ï³Ñ³ïí³ÍÇó ÷áË³Ýóí³Í ·áñÍ»ñÇ ÁÝ¹Ñ³Ýáõñ ÃÇíÁ | E3: Ñ³ßí»ïáõ Å³Ù³Ý³Ï³Ñ³ïí³ÍáõÙ ëï³óí³Í ·áñÍ»ñÇ ÁÝ¹Ñ³Ýáõñ ÃÇíÁ | F3: Ñ³ßí»ïáõ Å³Ù³Ý³Ï³Ñ³ïí³ÍáõÙ ³í³ñïí³Í ·áñÍ»ñÇ ÁÝ¹Ñ³Ýáõñ ÃÇíÁ | K3: áõÕ³ñÏí»É ¿ Áëï ÁÝ¹¹³ïáõÃÛ³Ý | L3: Ñ³ßí»ïáõ Å³Ù³Ý³Ï³Ñ³ïí³ÍáõÙ ³Ý³í³ñï ·áñÍ»ñÇ ÁÝ¹Ñ³Ýáõñ ÃÇíÁ | M3: µáÕáù³ñÏí»É ¿ í»ñ³ùÝÝÇã ¹³ï³ñ³Ý
F4: Ù»ñÅí»É ¿ | G4: µ³í³ñ³ñí»É ¿ | H4: µ³í³ñ³ñí»É ¿ Ù³ëÝ³ÏÇ | I4: ÃáÕÝí»É ¿ ³é³Ýó ùÝÝáõÃÛ³Ý | J4: ÁÝ¹³Ù»ÝÁ
A5: 1. ØÇÝã¹³ï³Ï³Ý í³ñáõÛÃÇ ÝÏ³ïÙ³Ùµ ¹³ï³Ï³Ý í»ñ³ÑëÏáÕáõÃÛ³Ý áÉáñï | D5: 1 | E5: 2 | F5: 3 | G5: 4 | H5: 5 | I5: 6 | J5: 7 | K5: 8 | L5: 9 | M5: 10 | N5: 1+2=7+8+9 | P5: 7=3+4+5+6
A6: 1 | B6: Ï³É³ÝùÁ áñå»ë Ë³÷³ÝÙ³Ý ÙÇçáó ÏÇñ³é»Éáõ Ù³ëÇÝ ÙÇçÝáñ¹áõÃÛáõÝÝ»ñ | E6: 22 | F6: 3 | G6: 19 | J6: 22 | M6: 8 | N6: =D6+E6 -> 22 | O6: =J6+K6+L6 -> 22 | P6: =J6 -> 22 | Q6: =F6+G6+H6+I6 -> 22
A7: 2 | B7: Ï³É³ÝùÇ Å³ÙÏ»ïÁ »ñÏ³ñ³óÝ»Éáõ Ù³ëÇÝ ÙÇçÝáñ¹áõÃÛáõÝÝ»ñ | D7: 3 | E7: 56 | F7: 1 | G7: 57 | H7: 1 | J7: 59 | M7: 13 | N7: =D7+E7 -> 59 | O7: =J7+K7+L7 -> 59 | P7: =J7 -> 59 | Q7: =F7+G7+H7+I7 -> 59
A8: 3 | B8: Ï³É³ÝùÇ í»ñ³Ñ³ëï³ïÙ³Ý Ù³ëÇÝ ÙÇçÝáñ¹áõÃÛáõÝÝ»ñ | E8: 3 | F8: 1 | G8: 2 | J8: 3 | M8: 1 | N8: =D8+E8 -> 3 | O8: =J8+K8+L8 -> 3 | P8: =J8 -> 3 | Q8: =F8+G8+H8+I8 -> 3
A9: 4 | B9: ·ñ³íÁ áñå»ë Ï³É³Ý³íáñÙ³Ý ³ÛÉÁÝïñ³Ýù³ÛÇÝ Ë³÷³ÝÙ³Ý ÙÇçáó ÏÇñ³é»Éáõ Ù³ëÇÝ ÙÇçÝáñ¹áõÃÛáõÝÝ»ñ | D9: 1 | E9: 43 | F9: 41 | G9: 3 | J9: 44 | M9: 3 | N9: =D9+E9 -> 44 | O9: =J9+K9+L9 -> 44 | P9: =J9 -> 44 | Q9: =F9+G9+H9+I9 -> 44
A10: 5 | B10: Ëáõ½³ñÏáõÃÛ³Ý Ï³ï³ñÙ³Ý Ù³ëÇÝ ÙÇçÝáñ¹áõÃÛáõÝÝ»ñ | E10: 171 | F10: 8 | G10: 162 | I10: 1 | J10: 171 | N10: =D10+E10 -> 171 | O10: =J10+K10+L10 -> 171 | P10: =J10 -> 171 | Q10: =F10+G10+H10+I10 -> 171
A11: 6 | B11: µ³ÝÏ³ÛÇÝ, ³å³Ñáí³·ñ³Ï³Ý, Ýáï³ñ³Ï³Ý ·³ÕïÝÇù Ï³½ÙáÕ ï»Õ»ÏáõÃÛáõÝÝ»ñÇ ëï³óÙ³Ý Ñ³Ù³ñ Ëáõ½³ñÏáõÃÛ³Ý Ï³Ù ³é·ñ³íÙ³Ý Ï³ï³ñÙ³Ý Ù³ëÇÝ ÙÇçÝáñ¹áõÃÛáõÝÝ»ñ | E11: 6 | F11: 4 | G11: 2 | J11: 6 | M11: 1 | N11: =D11+E11 -> 6 | O11: =J11+K11+L11 -> 6 | P11: =J11 -> 6 | Q11: =F11+G11+H11+I11 -> 6
A12: 7 | B12: Ý³Ù³Ï³·ñáõÃÛ³Ý, Ñ»é³·ñ³Ï³Ý, ÷áuï³ÛÇÝ Ñ³Õáñ¹áõÙÝ»ñÇ ÑëÏáÕáõÃÛ³Ý Ù³ëÇÝ ÙÇçÝáñ¹áõÃÛáõÝÝ»ñ | N12: =D12+E12 -> 0 | O12: =J12+K12+L12 -> 0 | P12: =J12 -> 0 | Q12: =F12+G12+H12+I12 -> 0
A13: 8 | B13: Ñ»é³Ëáu³ÛÇÝ Ï³Ù Ï³åÇ ³ÛÉ ÙÇçáóÝ»ñáí ï³ñíáÕ Ëáu³ÏóáõÃÛáõÝÝ»ñÇ ÉuÙ³Ý ¨ Ó³ÛÝ³·ñ³éÙ³Ý Ù³ëÇÝ ÙÇçÝáñ¹áõÃÛáõÝÝ»ñ | N13: =D13+E13 -> 0 | O13: =J13+K13+L13 -> 0 | P13: =J13 -> 0 | Q13: =F13+G13+H13+I13 -> 0
A14: 9 | B14: Ñ»é³ËáëÝ»ñÇ Ùáõïù³ÛÇÝ ¨ »Éù³ÛÇÝ í»ñÍ³ÝÙ³Ý ÃáõÛÉïíáõÃÛáõÝ ëï³Ý³Éáõ Ù³ëÇÝ ÙÇçÝáñ¹áõÃÛáõÝÝ»ñ | E14: 146 | G14: 146 | J14: 146 | N14: =D14+E14 -> 146 | O14: =J14+K14+L14 -> 146 | P14: =J14 -> 146 | Q14: =F14+G14+H14+I14 -> 146
A15: 10 | B15: Ñ»ï³ùÝÝáõÃÛ³Ý Ù³ñÙÝÇ ³ßË³ïáÕÇ, ùÝÝÇãÇ, ¹³ï³Ë³½Ç oå»ñ³ïÇí-Ñ»ï³Ëáõ½³Ï³Ý ·áñÍáÕáõÃÛáõÝÝ»ñ Çñ³Ï³Ý³óÝáÕ Ù³ñÙÇÝÝ»ñÇ ³ÝoñÇÝ³Ï³Ý ¨ ³ÝÑÇÙÝ áñáßáõÙÝ»ñÇ ¨ ·áñÍáÕáõÃÛáõÝÝ»ñÇ ¹»Ù µáÕáùÝ»ñ | D15: 6 | E15: 36 | F15: 27 | G15: 3 | J15: 30 | L15: 12 | M15: 19 | N15: =D15+E15 -> 42 | O15: =J15+K15+L15 -> 42 | P15: =J15 -> 30 | Q15: =F15+G15+H15+I15 -> 30
A16: 11 | B16: ²½³ïáõÃÛáõÝÇó ½ñÏ»Éáõ Çñ³í³ã³÷áõÃÛ³Ý í»ñ³µ»ñÛ³É µáÕáùÝ»ñáí ·áñÍ»ñ | E16: 1 | F16: 1 | J16: 1 | N16: =D16+E16 -> 1 | O16: =J16+K16+L16 -> 1 | P16: =J16 -> 1 | Q16: =F16+G16+H16+I16 -> 1
A17: 2. ¸³ï³Ï³Ý ³Ïï»ñÇ ¨ ¹³ï³Ï³Ý Ñ³ÝÓÝ³ñ³ñáõÃÛáõÝÝ»ñÇ Ï³ï³ñÙ³Ý Ñ»ï Ï³åí³Í Ñ³ñó»ñÇ ÉáõÍÙ³Ý áÉáñï
A18: 1 | B18: å³ïÅÇó å³ÛÙ³Ý³Ï³Ý í³Õ³Å³ÙÏ»ï ³½³ï»Éáõ Ù³ëÇÝ ÙÇçÝáñ¹áõÃÛáõÝÝ»ñ | N18: =D18+E18 -> 0 | O18: =J18+K18+L18 -> 0 | P18: =J18 -> 0 | Q18: =F18+G18+H18+I18 -> 0
A19: 2 | B19: å³ïÇÅÁ ÷á÷áË»Éáõ, Ñ»ï³Ó·»Éáõ ¨ å³ïÅÇó ³½³ï»Éáõ Ù³uÇÝ ÙÇçÝáñ¹áõÃÛáõÝÝ»ñ | E19: 13 | F19: 5 | G19: 6 | I19: 1 | J19: 12 | L19: 1 | N19: =D19+E19 -> 13 | O19: =J19+K19+L19 -> 13 | P19: =J19 -> 12 | Q19: =F19+G19+H19+I19 -> 12
A20: 3 | B20: Ñ³ñÏ³¹Çñ µáõÅÙ³Ý ï»ë³ÏÇ ÷á÷áËáõÃÛ³Ý Ù³ëÇÝ ÙÇçÝáñ¹áõÃÛáõÝÝ»ñ | D20: 3 | E20: 27 | F20: 8 | G20: 14 | I20: 1 | J20: 23 | L20: 6 | N20: =D20+E20 -> 30 | O20: =J20+K20+L20 -> 29 | P20: =J20 -> 23 | Q20: =F20+G20+H20+I20 -> 23
A21: 4 | B21: ³ÛÉ ÙÇçÝáñ¹áõÃÛáõÝÝ»ñ | E21: 21 | F21: 6 | G21: 11 | J21: 17 | L21: 4 | M21: 1 | N21: =D21+E21 -> 21 | O21: =J21+K21+L21 -> 21 | P21: =J21 -> 17 | Q21: =F21+G21+H21+I21 -> 17
A22: 5 | B22: ¹³ï³Ï³Ý Ñ³ÝÓÝ³ñ³ñáõÃÛáõÝÝ»ñ | D22: 5 | E22: 16 | F22: 1 | G22: 6 | J22: 7 | K22: 1 | L22: 5 | N22: =D22+E22 -> 21 | O22: =J22+K22+L22 -> 13 | P22: =J22 -> 7 | Q22: =F22+G22+H22+I22 -> 7
A23: ÀÜ¸²ØºÜÀ | D23: =SUM(D6:D16,D18:D22) -> 18 | E23: =SUM(E6:E16,E18:E22) -> 561 | F23: =SUM(F6:F16,F18:F22) -> 106 | G23: =SUM(G6:G16,G18:G22) -> 431 | H23: =SUM(H6:H16,H18:H22) -> 1 | I23: =SUM(I6:I16,I18:I22) -> 3 | J23: =SUM(J6:J16,J18:J22) -> 541 | K23: =SUM(K6:K16,K18:K22) -> 1 | ... Q23: =SUM(Q6:Q16,Q18:Q22) -> 541
B26: դատական հանձնարարությունների մեջ 8 գործ հետ է վերադարձվել,
B27: Ñ³ñÏ³¹Çñ µáõÅÙ³Ý ï»ë³ÏÇ ÷á÷áËáõÃÛ³Ý Ù³ëÇÝ ÙÇçÝáñ¹áõÃÛáõÝÝ»ñի մեջ 1 գործ միացվել է

Sheet Syuniq
A1: 2016Ã. | C1: Ð²ÞìºîìàôÂÚàôÜ | K1: Ð³í»Éí³Í Ð³Û³ëï³ÝÇ Ð³Ýñ³å»ïáõÃÛ³Ý ¸³ï³ñ³ÝÝ»ñÇ Ý³Ë³·³ÑÝ»ñÇ ËáñÑñ¹Ç 27.01.2017Ã. ÃÇí 01-È áñáßÙ³Ý
A2: ØÇÝã¹³ï³Ï³Ý í³ñáõÛÃÇ ÝÏ³ïÙ³Ùµ ¹³ï³Ï³Ý í»ñ³ÑëÏáÕáõÃÛ³ÝÁ, ¹³ï³Ï³Ý ³Ïï»ñÇ ¨ ¹³ï³Ï³Ý Ñ³ÝÓÝ³ñ³ñáõÃÛáõÝÝ»ñÇ Ï³ï³ñÙ³ÝÁ Ñ»ï Ï³åí³Í ÙÇçÝáñ¹áõÃÛáõÝÝ»ñÇ í»ñ³µ»ñÛ³É ¹³ï³Ï³Ý ·áñÍ»ñáí ÐÐ Սյունիքի մարզի ÁÝ¹Ñ³Ýáõñ Çñ³í³ëáõÃÛ³Ý ³é³çÇÝ ³ïÛ³ÝÇ ¹³ï³ñ³ÝÇ ·áñÍáõÝ»áõÃÛ³Ý í»ñ³µ»ñÛ³É
A3: êïáõ·Çã Ñ³í³ë³ñáõÙ` 1+2=7+8+9, 7=3+4+5+6, | D3: Ñ³ßí»ïáõ Å³Ù³Ý³Ï³Ñ³ïí³ÍÇ ëÏ½µáõÙ Ý³Ëáñ¹ Ñ³ßí»ïáõ Å³Ù³Ý³Ï³Ñ³ïí³ÍÇó ÷áË³Ýóí³Í ·áñÍ»ñÇ ÁÝ¹Ñ³Ýáõñ ÃÇíÁ | E3: Ñ³ßí»ïáõ Å³Ù³Ý³Ï³Ñ³ïí³ÍáõÙ ëï³óí³Í ·áñÍ»ñÇ ÁÝ¹Ñ³Ýáõñ ÃÇíÁ | F3: Ñ³ßí»ïáõ Å³Ù³Ý³Ï³Ñ³ïí³ÍáõÙ ³í³ñïí³Í ·áñÍ»ñÇ ÁÝ¹Ñ³Ýáõñ ÃÇíÁ | K3: áõÕ³ñÏí»É ¿ Áëï ÁÝ¹¹³ïáõÃÛ³Ý | L3: Ñ³ßí»ïáõ Å³Ù³Ý³Ï³Ñ³ïí³ÍáõÙ ³Ý³í³ñï ·áñÍ»ñÇ ÁÝ¹Ñ³Ýáõñ ÃÇíÁ | M3: µáÕáù³ñÏí»É ¿ í»ñ³ùÝÝÇã ¹³ï³ñ³Ý
F4: Ù»ñÅí»É ¿ | G4: µ³í³ñ³ñí»É ¿ | H4: µ³í³ñ³ñí»É ¿ Ù³ëÝ³ÏÇ | I4: ÃáÕÝí»É ¿ ³é³Ýó ùÝÝáõÃÛ³Ý | J4: ÁÝ¹³Ù»ÝÁ
A5: 1. ØÇÝã¹³ï³Ï³Ý í³ñáõÛÃÇ ÝÏ³ïÙ³Ùµ ¹³ï³Ï³Ý í»ñ³ÑëÏáÕáõÃÛ³Ý áÉáñï | D5: 1 | E5: 2 | F5: 3 | G5: 4 | H5: 5 | I5: 6 | J5: 7 | K5: 8 | L5: 9 | M5: 10 | N5: 1+2=7+8+9 | P5: 7=3+4+5+6
A6: 1 | B6: Ï³É³ÝùÁ áñå»ë Ë³÷³ÝÙ³Ý ÙÇçáó ÏÇñ³é»Éáõ Ù³ëÇÝ ÙÇçÝáñ¹áõÃÛáõÝÝ»ñ | D6: 0 | E6: 136 | F6: 26 | G6: 109 | H6: 0 | I6: 1 | J6: 136 | K6: 0 | L6: 0 | M6: 47 | N6: =D6+E6 -> 136 | O6: =J6+K6+L6 -> 136 | P6: =J6 -> 136 | Q6: =F6+G6+H6+I6 -> 136
A7: 2 | B7: Ï³É³ÝùÇ Å³ÙÏ»ïÁ »ñÏ³ñ³óÝ»Éáõ Ù³ëÇÝ ÙÇçÝáñ¹áõÃÛáõÝÝ»ñ | D7: 0 | E7: 107 | F7: 3 | G7: 100 | H7: 4 | I7: 0 | J7: 107 | K7: 0 | L7: 0 | M7: 24 | N7: =D7+E7 -> 107 | O7: =J7+K7+L7 -> 107 | P7: =J7 -> 107 | Q7: =F7+G7+H7+I7 -> 107
A8: 3 | B8: Ï³É³ÝùÇ í»ñ³Ñ³ëï³ïÙ³Ý Ù³ëÇÝ ÙÇçÝáñ¹áõÃÛáõÝÝ»ñ | D8: 0 | E8: 8 | F8: 2 | G8: 6 | H8: 0 | I8: 0 | J8: 8 | K8: 0 | L8: 0 | M8: 2 | N8: =D8+E8 -> 8 | O8: =J8+K8+L8 -> 8 | P8: =J8 -> 8 | Q8: =F8+G8+H8+I8 -> 8
A9: 4 | B9: ·ñ³íÁ áñå»ë Ï³É³Ý³íáñÙ³Ý ³ÛÉÁÝïñ³Ýù³ÛÇÝ Ë³÷³ÝÙ³Ý ÙÇçáó ÏÇñ³é»Éáõ Ù³ëÇÝ ÙÇçÝáñ¹áõÃÛáõÝÝ»ñ | D9: 0 | E9: 73 | F9: 66 | G9: 7 | H9: 0 | I9: 0 | J9: 73 | K9: 0 | L9: 0 | M9: 3 | N9: =D9+E9 -> 73 | O9: =J9+K9+L9 -> 73 | P9: =J9 -> 73 | Q9: =F9+G9+H9+I9 -> 73
A10: 5 | B10: Ëáõ½³ñÏáõÃÛ³Ý Ï³ï³ñÙ³Ý Ù³ëÇÝ ÙÇçÝáñ¹áõÃÛáõÝÝ»ñ | D10: 0 | E10: 85 | F10: 2 | G10: 82 | H10: 1 | I10: 0 | J10: 85 | K10: 0 | L10: 0 | M10: 0 | N10: =D10+E10 -> 85 | O10: =J10+K10+L10 -> 85 | P10: =J10 -> 85 | Q10: =F10+G10+H10+I10 -> 85
A11: 6 | B11: µ³ÝÏ³ÛÇÝ, ³å³Ñáí³·ñ³Ï³Ý, Ýáï³ñ³Ï³Ý ·³ÕïÝÇù Ï³½ÙáÕ ï»Õ»ÏáõÃÛáõÝÝ»ñÇ ëï³óÙ³Ý Ñ³Ù³ñ Ëáõ½³ñÏáõÃÛ³Ý Ï³Ù ³é·ñ³íÙ³Ý Ï³ï³ñÙ³Ý Ù³ëÇÝ ÙÇçÝáñ¹áõÃÛáõÝÝ»ñ | D11: 0 | E11: 4 | F11: 0 | G11: 2 | H11: 2 | I11: 0 | J11: 4 | K11: 0 | L11: 0 | M11: 0 | N11: =D11+E11 -> 4 | O11: =J11+K11+L11 -> 4 | P11: =J11 -> 4 | Q11: =F11+G11+H11+I11 -> 4
A12: 7 | B12: Ý³Ù³Ï³·ñáõÃÛ³Ý, Ñ»é³·ñ³Ï³Ý, ÷áuï³ÛÇÝ Ñ³Õáñ¹áõÙÝ»ñÇ ÑëÏáÕáõÃÛ³Ý Ù³ëÇÝ ÙÇçÝáñ¹áõÃÛáõÝÝ»ñ | N12: =D12+E12 -> 0 | O12: =J12+K12+L12 -> 0 | P12: =J12 -> 0 | Q12: =F12+G12+H12+I12 -> 0
A13: 8 | B13: Ñ»é³Ëáu³ÛÇÝ Ï³Ù Ï³åÇ ³ÛÉ ÙÇçáóÝ»ñáí ï³ñíáÕ Ëáu³ÏóáõÃÛáõÝÝ»ñÇ ÉuÙ³Ý ¨ Ó³ÛÝ³·ñ³éÙ³Ý Ù³ëÇÝ ÙÇçÝáñ¹áõÃÛáõÝÝ»ñ | D13: 0 | E13: 2 | F13: 0 | G13: 2 | H13: 0 | I13: 0 | J13: 2 | K13: 0 | L13: 0 | M13: 0 | N13: =D13+E13 -> 2 | O13: =J13+K13+L13 -> 2 | P13: =J13 -> 2 | Q13: =F13+G13+H13+I13 -> 2
A14: 9 | B14: Ñ»é³ËáëÝ»ñÇ Ùáõïù³ÛÇÝ ¨ »Éù³ÛÇÝ í»ñÍ³ÝÙ³Ý ÃáõÛÉïíáõÃÛáõÝ ëï³Ý³Éáõ Ù³ëÇÝ ÙÇçÝáñ¹áõÃÛáõÝÝ»ñ | D14: 0 | E14: 124 | F14: 6 | G14: 117 | H14: 1 | I14: 0 | J14: 124 | K14: 0 | L14: 0 | M14: 2 | N14: =D14+E14 -> 124 | O14: =J14+K14+L14 -> 124 | P14: =J14 -> 124 | Q14: =F14+G14+H14+I14 -> 124
A15: 10 | B15: Ñ»ï³ùÝÝáõÃÛ³Ý Ù³ñÙÝÇ ³ßË³ïáÕÇ, ùÝÝÇãÇ, ¹³ï³Ë³½Ç oå»ñ³ïÇí-Ñ»ï³Ëáõ½³Ï³Ý ·áñÍáÕáõÃÛáõÝÝ»ñ Çñ³Ï³Ý³óÝáÕ Ù³ñÙÇÝÝ»ñÇ ³ÝoñÇÝ³Ï³Ý ¨ ³ÝÑÇÙÝ áñáßáõÙÝ»ñÇ ¨ ·áñÍáÕáõÃÛáõÝÝ»ñÇ ¹»Ù µáÕáùÝ»ñ | E15: 24 | F15: 15 | G15: 1 | H15: 1 | J15: 17 | L15: 7 | M15: 10 | N15: =D15+E15 -> 24 | O15: =J15+K15+L15 -> 24 | P15: =J15 -> 17 | Q15: =F15+G15+H15+I15 -> 17
A16: 11 | B16: ²½³ïáõÃÛáõÝÇó ½ñÏ»Éáõ Çñ³í³ã³÷áõÃÛ³Ý í»ñ³µ»ñÛ³É µáÕáùÝ»ñáí ·áñÍ»ñ | N16: =D16+E16 -> 0 | O16: =J16+K16+L16 -> 0 | P16: =J16 -> 0 | Q16: =F16+G16+H16+I16 -> 0
A17: 2. ¸³ï³Ï³Ý ³Ïï»ñÇ ¨ ¹³ï³Ï³Ý Ñ³ÝÓÝ³ñ³ñáõÃÛáõÝÝ»ñÇ Ï³ï³ñÙ³Ý Ñ»ï Ï³åí³Í Ñ³ñó»ñÇ ÉáõÍÙ³Ý áÉáñï
A18: 1 | B18: å³ïÅÇó å³ÛÙ³Ý³Ï³Ý í³Õ³Å³ÙÏ»ï ³½³ï»Éáõ Ù³ëÇÝ ÙÇçÝáñ¹áõÃÛáõÝÝ»ñ | D18: 0 | E18: 4 | F18: 1 | G18: 3 | H18: 0 | I18: 0 | J18: 4 | K18: 0 | L18: 0 | M18: 4 | N18: =D18+E18 -> 4 | O18: =J18+K18+L18 -> 4 | P18: =J18 -> 4 | Q18: =F18+G18+H18+I18 -> 4
A19: 2 | B19: å³ïÇÅÁ ÷á÷áË»Éáõ, Ñ»ï³Ó·»Éáõ ¨ å³ïÅÇó ³½³ï»Éáõ Ù³uÇÝ ÙÇçÝáñ¹áõÃÛáõÝÝ»ñ | D19: 0 | E19: 5 | F19: 2 | G19: 0 | H19: 1 | I19: 0 | J19: 3 | K19: 1 | L19: 1 | M19: 2 | N19: =D19+E19 -> 5 | O19: =J19+K19+L19 -> 5 | P19: =J19 -> 3 | Q19: =F19+G19+H19+I19 -> 3
A20: 3 | B20: Ñ³ñÏ³¹Çñ µáõÅÙ³Ý ï»ë³ÏÇ ÷á÷áËáõÃÛ³Ý Ù³ëÇÝ ÙÇçÝáñ¹áõÃÛáõÝÝ»ñ | D20: 0 | E20: 4 | F20: 1 | G20: 3 | H20: 0 | I20: 0 | J20: 4 | K20: 0 | L20: 0 | M20: 2 | N20: =D20+E20 -> 4 | O20: =J20+K20+L20 -> 4 | P20: =J20 -> 4 | Q20: =F20+G20+H20+I20 -> 4
A21: 4 | B21: ³ÛÉ ÙÇçÝáñ¹áõÃÛáõÝÝ»ñ | D21: 0 | E21: 13 | F21: 5 | G21: 6 | I21: 2 | J21: 13 | K21: 0 | L21: 0 | M21: 2 | N21: =D21+E21 -> 13 | O21: =J21+K21+L21 -> 13 | P21: =J21 -> 13 | Q21: =F21+G21+H21+I21 -> 13
A22: 5 | B22: ¹³ï³Ï³Ý Ñ³ÝÓÝ³ñ³ñáõÃÛáõÝÝ»ñ | D22: 5 | E22: 3 | F22: 0 | G22: 3 | H22: 0 | I22: 0 | J22: 3 | K22: 0 | L22: 5 | M22: 0 | N22: =D22+E22 -> 8 | O22: =J22+K22+L22 -> 8 | P22: =J22 -> 3 | Q22: =F22+G22+H22+I22 -> 3
A23: ÀÜ¸²ØºÜÀ | D23: =SUM(D6:D16,D18:D22) -> 5 | E23: =SUM(E6:E16,E18:E22) -> 592 | F23: =SUM(F6:F16,F18:F22) -> 129 | G23: =SUM(G6:G16,G18:G22) -> 441 | H23: =SUM(H6:H16,H18:H22) -> 10 | I23: =SUM(I6:I16,I18:I22) -> 3 | J23: =SUM(J6:J16,J18:J22) -> 583 | K23: =SUM(K6:K16,K18:K22) -> 1 | ... Q23: =SUM(Q6:Q16,Q18:Q22) -> 583

Sheet Ararat
A1: 2016Ã. | C1: Ð²ÞìºîìàôÂÚàôÜ | K1: Ð³í»Éí³Í Ð³Û³ëï³ÝÇ Ð³Ýñ³å»ïáõÃÛ³Ý ¸³ï³ñ³ÝÝ»ñÇ Ý³Ë³·³ÑÝ»ñÇ ËáñÑñ¹Ç 27.01.2017Ã. ÃÇí 01-È áñáßÙ³Ý
A2: ØÇÝã¹³ï³Ï³Ý í³ñáõÛÃÇ ÝÏ³ïÙ³Ùµ ¹³ï³Ï³Ý í»ñ³ÑëÏáÕáõÃÛ³ÝÁ, ¹³ï³Ï³Ý ³Ïï»ñÇ ¨ ¹³ï³Ï³Ý Ñ³ÝÓÝ³ñ³ñáõÃÛáõÝÝ»ñÇ Ï³ï³ñÙ³ÝÁ Ñ»ï Ï³åí³Í ÙÇçÝáñ¹áõÃÛáõÝÝ»ñÇ í»ñ³µ»ñÛ³É ¹³ï³Ï³Ý ·áñÍ»ñáí ÐÐ Արարատի և Վայոց ձորի մարզերի ÁÝ¹Ñ³Ýáõñ Çñ³í³ëáõÃÛ³Ý ³é³çÇÝ ³ïÛ³ÝÇ ¹³ï³ñ³ÝÇ ·áñÍáõÝ»áõÃÛ³Ý í»ñ³µ»ñÛ³É
A3: êïáõ·Çã Ñ³í³ë³ñáõÙ` 1+2=7+8+9, 7=3+4+5+6, | D3: Ñ³ßí»ïáõ Å³Ù³Ý³Ï³Ñ³ïí³ÍÇ ëÏ½µáõÙ Ý³Ëáñ¹ Ñ³ßí»ïáõ Å³Ù³Ý³Ï³Ñ³ïí³ÍÇó ÷áË³Ýóí³Í ·áñÍ»ñÇ ÁÝ¹Ñ³Ýáõñ ÃÇíÁ | E3: Ñ³ßí»ïáõ Å³Ù³Ý³Ï³Ñ³ïí³ÍáõÙ ëï³óí³Í ·áñÍ»ñÇ ÁÝ¹Ñ³Ýáõñ ÃÇíÁ | F3: Ñ³ßí»ïáõ Å³Ù³Ý³Ï³Ñ³ïí³ÍáõÙ ³í³ñïí³Í ·áñÍ»ñÇ ÁÝ¹Ñ³Ýáõñ ÃÇíÁ | K3: áõÕ³ñÏí»É ¿ Áëï ÁÝ¹¹³ïáõÃÛ³Ý | L3: Ñ³ßí»ïáõ Å³Ù³Ý³Ï³Ñ³ïí³ÍáõÙ ³Ý³í³ñï ·áñÍ»ñÇ ÁÝ¹Ñ³Ýáõñ ÃÇíÁ | M3: µáÕáù³ñÏí»É ¿ í»ñ³ùÝÝÇã ¹³ï³ñ³Ý
F4: Ù»ñÅí»É ¿ | G4: µ³í³ñ³ñí»É ¿ | H4: µ³í³ñ³ñí»É ¿ Ù³ëÝ³ÏÇ | I4: ÃáÕÝí»É ¿ ³é³Ýó ùÝÝáõÃÛ³Ý | J4: ÁÝ¹³Ù»ÝÁ
A5: 1. ØÇÝã¹³ï³Ï³Ý í³ñáõÛÃÇ ÝÏ³ïÙ³Ùµ ¹³ï³Ï³Ý í»ñ³ÑëÏáÕáõÃÛ³Ý áÉáñï | D5: 1 | E5: 2 | F5: 3 | G5: 4 | H5: 5 | I5: 6 | J5: 7 | K5: 8 | L5: 9 | M5: 10 | N5: 1+2=7+8+9 | P5: 7=3+4+5+6
A6: 1 | B6: Ï³É³ÝùÁ áñå»ë Ë³÷³ÝÙ³Ý ÙÇçáó ÏÇñ³é»Éáõ Ù³ëÇÝ ÙÇçÝáñ¹áõÃÛáõÝÝ»ñ | E6: 182 | F6: 2 | G6: 179 | I6: 1 | J6: 182 | M6: 19 | N6: =D6+E6 -> 182 | O6: =J6+K6+L6 -> 182 | P6: =J6 -> 182 | Q6: =F6+G6+H6+I6 -> 182
A7: 2 | B7: Ï³É³ÝùÇ Å³ÙÏ»ïÁ »ñÏ³ñ³óÝ»Éáõ Ù³ëÇÝ ÙÇçÝáñ¹áõÃÛáõÝÝ»ñ | E7: 95 | F7: 1 | G7: 88 | H7: 6 | J7: 95 | M7: 29 | N7: =D7+E7 -> 95 | O7: =J7+K7+L7 -> 95 | P7: =J7 -> 95 | Q7: =F7+G7+H7+I7 -> 95
A8: 3 | B8: Ï³É³ÝùÇ í»ñ³Ñ³ëï³ïÙ³Ý Ù³ëÇÝ ÙÇçÝáñ¹áõÃÛáõÝÝ»ñ | E8: 20 | F8: 3 | G8: 17 | J8: 20 | M8: 6 | N8: =D8+E8 -> 20 | O8: =J8+K8+L8 -> 20 | P8: =J8 -> 20 | Q8: =F8+G8+H8+I8 -> 20
A9: 4 | B9: ·ñ³íÁ áñå»ë Ï³É³Ý³íáñÙ³Ý ³ÛÉÁÝïñ³Ýù³ÛÇÝ Ë³÷³ÝÙ³Ý ÙÇçáó ÏÇñ³é»Éáõ Ù³ëÇÝ ÙÇçÝáñ¹áõÃÛáõÝÝ»ñ | E9: 68 | F9: 56 | G9: 10 | I9: 2 | J9: 68 | M9: 10 | N9: =D9+E9 -> 68 | O9: =J9+K9+L9 -> 68 | P9: =J9 -> 68 | Q9: =F9+G9+H9+I9 -> 68
A10: 5 | B10: Ëáõ½³ñÏáõÃÛ³Ý Ï³ï³ñÙ³Ý Ù³ëÇÝ ÙÇçÝáñ¹áõÃÛáõÝÝ»ñ | E10: 264 | F10: 5 | G10: 254 | I10: 5 | J10: 264 | N10: =D10+E10 -> 264 | O10: =J10+K10+L10 -> 264 | P10: =J10 -> 264 | Q10: =F10+G10+H10+I10 -> 264
A11: 6 | B11: µ³ÝÏ³ÛÇÝ, ³å³Ñáí³·ñ³Ï³Ý, Ýáï³ñ³Ï³Ý ·³ÕïÝÇù Ï³½ÙáÕ ï»Õ»ÏáõÃÛáõÝÝ»ñÇ ëï³óÙ³Ý Ñ³Ù³ñ Ëáõ½³ñÏáõÃÛ³Ý Ï³Ù ³é·ñ³íÙ³Ý Ï³ï³ñÙ³Ý Ù³ëÇÝ ÙÇçÝáñ¹áõÃÛáõÝÝ»ñ | E11: 5 | G11: 5 | J11: 5 | N11: =D11+E11 -> 5 | O11: =J11+K11+L11 -> 5 | P11: =J11 -> 5 | Q11: =F11+G11+H11+I11 -> 5
A12: 7 | B12: Ý³Ù³Ï³·ñáõÃÛ³Ý, Ñ»é³·ñ³Ï³Ý, ÷áuï³ÛÇÝ Ñ³Õáñ¹áõÙÝ»ñÇ ÑëÏáÕáõÃÛ³Ý Ù³ëÇÝ ÙÇçÝáñ¹áõÃÛáõÝÝ»ñ | E12: 5 | G12: 4 | I12: 1 | J12: 5 | N12: =D12+E12 -> 5 | O12: =J12+K12+L12 -> 5 | P12: =J12 -> 5 | Q12: =F12+G12+H12+I12 -> 5
A13: 8 | B13: Ñ»é³Ëáu³ÛÇÝ Ï³Ù Ï³åÇ ³ÛÉ ÙÇçáóÝ»ñáí ï³ñíáÕ Ëáu³ÏóáõÃÛáõÝÝ»ñÇ ÉuÙ³Ý ¨ Ó³ÛÝ³·ñ³éÙ³Ý Ù³ëÇÝ ÙÇçÝáñ¹áõÃÛáõÝÝ»ñ | E13: 5 | G13: 5 | J13: 5 | N13: =D13+E13 -> 5 | O13: =J13+K13+L13 -> 5 | P13: =J13 -> 5 | Q13: =F13+G13+H13+I13 -> 5
A14: 9 | B14: Ñ»é³ËáëÝ»ñÇ Ùáõïù³ÛÇÝ ¨ »Éù³ÛÇÝ í»ñÍ³ÝÙ³Ý ÃáõÛÉïíáõÃÛáõÝ ëï³Ý³Éáõ Ù³ëÇÝ ÙÇçÝáñ¹áõÃÛáõÝÝ»ñ | E14: 208 | F14: 2 | G14: 206 | J14: 208 | N14: =D14+E14 -> 208 | O14: =J14+K14+L14 -> 208 | P14: =J14 -> 208 | Q14: =F14+G14+H14+I14 -> 208
A15: 10 | B15: Ñ»ï³ùÝÝáõÃÛ³Ý Ù³ñÙÝÇ ³ßË³ïáÕÇ, ùÝÝÇãÇ, ¹³ï³Ë³½Ç oå»ñ³ïÇí-Ñ»ï³Ëáõ½³Ï³Ý ·áñÍáÕáõÃÛáõÝÝ»ñ Çñ³Ï³Ý³óÝáÕ Ù³ñÙÇÝÝ»ñÇ ³ÝoñÇÝ³Ï³Ý ¨ ³ÝÑÇÙÝ áñáßáõÙÝ»ñÇ ¨ ·áñÍáÕáõÃÛáõÝÝ»ñÇ ¹»Ù µáÕáùÝ»ñ | D15: 2 | E15: 24 | F15: 15 | G15: 5 | I15: 5 | J15: 25 | L15: 1 | M15: 10 | N15: =D15+E15 -> 26 | O15: =J15+K15+L15 -> 26 | P15: =J15 -> 25 | Q15: =F15+G15+H15+I15 -> 25
A16: 11 | B16: ²½³ïáõÃÛáõÝÇó ½ñÏ»Éáõ Çñ³í³ã³÷áõÃÛ³Ý í»ñ³µ»ñÛ³É µáÕáùÝ»ñáí ·áñÍ»ñ | N16: =D16+E16 -> 0 | O16: =J16+K16+L16 -> 0 | P16: =J16 -> 0 | Q16: =F16+G16+H16+I16 -> 0
A17: 2. ¸³ï³Ï³Ý ³Ïï»ñÇ ¨ ¹³ï³Ï³Ý Ñ³ÝÓÝ³ñ³ñáõÃÛáõÝÝ»ñÇ Ï³ï³ñÙ³Ý Ñ»ï Ï³åí³Í Ñ³ñó»ñÇ ÉáõÍÙ³Ý áÉáñï
A18: 1 | B18: å³ïÅÇó å³ÛÙ³Ý³Ï³Ý í³Õ³Å³ÙÏ»ï ³½³ï»Éáõ Ù³ëÇÝ ÙÇçÝáñ¹áõÃÛáõÝÝ»ñ | N18: =D18+E18 -> 0 | O18: =J18+K18+L18 -> 0 | P18: =J18 -> 0 | Q18: =F18+G18+H18+I18 -> 0
A19: 2 | B19: å³ïÇÅÁ ÷á÷áË»Éáõ, Ñ»ï³Ó·»Éáõ ¨ å³ïÅÇó ³½³ï»Éáõ Ù³uÇÝ ÙÇçÝáñ¹áõÃÛáõÝÝ»ñ | D19: 4 | E19: 21 | F19: 5 | G19: 10 | J19: 15 | K19: 1 | L19: 9 | M19: 2 | N19: =D19+E19 -> 25 | O19: =J19+K19+L19 -> 25 | P19: =J19 -> 15 | Q19: =F19+G19+H19+I19 -> 15
A20: 3 | B20: Ñ³ñÏ³¹Çñ µáõÅÙ³Ý ï»ë³ÏÇ ÷á÷áËáõÃÛ³Ý Ù³ëÇÝ ÙÇçÝáñ¹áõÃÛáõÝÝ»ñ | E20: 5 | G20: 5 | J20: 5 | N20: =D20+E20 -> 5 | O20: =J20+K20+L20 -> 5 | P20: =J20 -> 5 | Q20: =F20+G20+H20+I20 -> 5
A21: 4 | B21: ³ÛÉ ÙÇçÝáñ¹áõÃÛáõÝÝ»ñ | D21: 3 | E21: 11 | G21: 11 | I21: 1 | J21: 12 | K21: 1 | L21: 1 | N21: =D21+E21 -> 14 | O21: =J21+K21+L21 -> 14 | P21: =J21 -> 12 | Q21: =F21+G21+H21+I21 -> 12
A22: 5 | B22: ¹³ï³Ï³Ý Ñ³ÝÓÝ³ñ³ñáõÃÛáõÝÝ»ñ | D22: 16 | E22: 12 | F22: 1 | G22: 11 | I22: 4 | J22: 16 | L22: 12 | N22: =D22+E22 -> 28 | O22: =J22+K22+L22 -> 28 | P22: =J22 -> 16 | Q22: =F22+G22+H22+I22 -> 16
A23: ÀÜ¸²ØºÜÀ | D23: =SUM(D6:D16,D18:D22) -> 25 | E23: =SUM(E6:E16,E18:E22) -> 925 | F23: =SUM(F6:F16,F18:F22) -> 90 | G23: =SUM(G6:G16,G18:G22) -> 810 | H23: =SUM(H6:H16,H18:H22) -> 6 | I23: =SUM(I6:I16,I18:I22) -> 19 | J23: =SUM(J6:J16,J18:J22) -> 925 | K23: =SUM(K6:K16,K18:K22) -> 2 | ... Q23: =SUM(Q6:Q16,Q18:Q22) -> 925

Sheet Tavush
A1: 2016Ã. | C1: Ð²ÞìºîìàôÂÚàôÜ | K1: Ð³í»Éí³Í Ð³Û³ëï³ÝÇ Ð³Ýñ³å»ïáõÃÛ³Ý ¸³ï³ñ³ÝÝ»ñÇ Ý³Ë³·³ÑÝ»ñÇ ËáñÑñ¹Ç 27.01.2017Ã. ÃÇí 01-È áñáßÙ³Ý
