Workbook

Sheet Ընդամենը
B1: Ð²ÞìºîìàôÂÚàôÜ
A2: ÐÐ ÁÝ¹Ñ³Ýáõñ Çñ³í³ëáõÃÛ³Ý ³é³çÇÝ ³ïÛ³ÝÇ ¹³ï³ñ³ÝÝ»ñÇ ÏáÕÙÇó í×³ñÙ³Ý Ï³ñ·³¹ñáõÃÛáõÝ ³ñÓ³Ï»Éáõ í³ñáõÛÃÝ»ñÇ ÁÝÃ³óùÇ Ù³ëÇÝ
B4: 2017Ã. 1-ÇÝ ÏÇë³ÙÛ³Ï
C6: Ð³ßí»ïáõ Å³Ù³Ý³Ï³ßñç³ÝÇ ëÏ½áõÙ ³Ý³í³ñï í³ñáõÛÃÝ»ñÇ ÙÝ³óáñ¹Á | D6: êï³óí»É ¿ í×³ñÙ³Ý Ï³ñ·³¹ñáõÃÛáõÝ ³ñÓ³Ï»Éáõ Ù³ëÇÝ ¹ÇÙáõÙ | E6: êï³óí»É ¿ ¹ÇÙáõÙ ÁÝÃ³óù ãï³Éáõ Ù³ëÇÝ | F6: Ø»ñÅí»É ¿ | G6: Ø»ñÅí»É ¿ Ù³ëáí | H6: âÇ ³ñÓ³Ïí»É Ñ³ßí»ïáõ Å³Ù³Ý³Ï³ßñç³ÝáõÙ | I6: ²ñÓ³Ïí»É ¿ í×³ñÙ³Ý Ï³ñ·³¹ñáõÃÛáõÝ | J6: êï³óí»É ¿ ³é³ñÏáõÃÛáõÝ | K6: êï³ó»É ¿ ûñÇÝ³Ï³Ý áõÅ | L6: ÂáÕÝí»É ¿ ³ÝÑ»ï¨³Ýù ¨ ûñÇÝ³Ï³Ý áõÅÇ Ù»ç Ùï³Í í×éÇ Ñ»ï¨³Ýù ãÇ ³é³ç³óñ»É | M6: Ð³ßí»ïáõ Å³Ù³Ý³Ï³ßñç³ÝÇ í»ñçáõÙ ³Ý³í³ñï í³ñáõÛÃÝ»ñÇ ÙÝ³óáñ¹Á
C7: 1 | D7: 2 | E7: 3 | F7: 4 | G7: 5 | H7: 6 | I7: 7 | J7: 8 | K7: 9 | L7: 10 | M7: 11
B8: ÀÝ¹³Ù»ÝÁ | C8: =SUM(Աջափնյակ:Արագածոտն!C19) -> 2773 | D8: =SUM(Աջափնյակ:Արագածոտն!D19) -> 40381 | E8: =SUM(Աջափնյակ:Արագածոտն!E19) -> 33 | F8: =SUM(Աջափնյակ:Արագածոտն!F19) -> 3144 | G8: =SUM(Աջափնյակ:Արագածոտն!G19) -> 3131 | H8: =SUM(Աջափնյակ:Արագածոտն!H19) -> 4454 | I8: =SUM(Աջափնյակ:Արագածոտն!I19) -> 32392 | J8: =SUM(Աջափնյակ:Արագածոտն!J19) -> 897 | ... M8: =SUM(Աջափնյակ:Արագածոտն!M19) -> 12338

Sheet Աջափնյակ
B1: Ð²ÞìºîìàôÂÚàôÜ
B2: ²ç³÷ÝÛ³Ï ¨ ¸³íÃ³ß»Ý í³ñã³Ï³Ý ßñç³ÝÝ»ñÇ ÁÝ¹Ñ³Ýáõñ Çñ³í³ëáõÃÛ³Ý ³é³çÇÝ ³ïÛ³ÝÇ ¹³ï³ñ³ÝÇ ÏáÕÙÇó í×³ñÙ³Ý Ï³ñ·³¹ñáõÃÛáõÝ ³ñÓ³Ï»Éáõ í³ñáõÛÃÝ»ñÇ ÁÝÃ³óùÇ Ù³ëÇÝ
B3: 2017թ. 1-ÇÝ կիսամյակ
A4: êïáõ·Çã Ñ³í³ë³ñáõÙ` 1+2=3+4+5+6+7, 7=8+9+10+11
A5: Ð/Ñ | B5: ¸³ï³íáñÇ ³ÝáõÝ, ³½·³ÝáõÝ | C5: Ð³ßí»ïáõ Å³Ù³Ý³Ï³ßñç³ÝÇ ëÏ½áõÙ ³Ý³í³ñï í³ñáõÛÃÝ»ñÇ ÙÝ³óáñ¹Á | D5: êï³óí»É ¿ í×³ñÙ³Ý Ï³ñ·³¹ñáõÃÛáõÝ ³ñÓ³Ï»Éáõ Ù³ëÇÝ ¹ÇÙáõÙ | E5: êï³óí»É ¿ ¹ÇÙáõÙ ÁÝÃ³óù ãï³Éáõ Ù³ëÇÝ | F5: Ø»ñÅí»É ¿ | G5: Ø»ñÅí»É ¿ Ù³ëáí | H5: âÇ ³ñÓ³Ïí»É Ñ³ßí»ïáõ Å³Ù³Ý³Ï³ßñç³ÝáõÙ | I5: ²ñÓ³Ïí»É ¿ í×³ñÙ³Ý Ï³ñ·³¹ñáõÃÛáõÝ | J5: êï³óí»É ¿ ³é³ñÏáõÃÛáõÝ | K5: êï³ó»É ¿ ûñÇÝ³Ï³Ý áõÅ | L5: ÂáÕÝí»É ¿ ³ÝÑ»ï¨³Ýù ¨ ûñÇÝ³Ï³Ý áõÅÇ Ù»ç Ùï³Í í×éÇ Ñ»ï¨³Ýù ãÇ ³é³ç³óñ»É | M5: Ð³ßí»ïáõ Å³Ù³Ý³Ï³ßñç³ÝÇ í»ñçáõÙ ³Ý³í³ñï í³ñáõÛÃÝ»ñÇ ÙÝ³óáñ¹Á
C6: 1 | D6: 2 | E6: 3 | F6: 4 | G6: 5 | H6: 6 | I6: 7 | J6: 8 | K6: 9 | L6: 10 | M6: 11
A7: 1 | B7: ². ØËÇÃ³ñÛ³Ý | C7: 73 | D7: 448 | E7: 0 | F7: 37 | G7: 110 | H7: 76 | I7: 298 | J7: 2 | K7: 50 | L7: 93 | M7: 153
A8: 2 | B8: Գ. Թորոսյան | C8: 0 | D8: 274 | E8: 0 | F8: 62 | G8: 31 | H8: 0 | I8: 181 | J8: 3 | K8: 68 | L8: 108 | M8: 2
A9: 3 | B9: Ա. Փիլոսյան | C9: 20 | D9: 272 | E9: 0 | F9: 58 | G9: 92 | H9: 0 | I9: 142 | J9: 0 | K9: 0 | L9: 0 | M9: 142
A10: 4 | B10: Ն. Ավետիսյան | C10: 54 | D10: 464 | E10: 0 | F10: 24 | G10: 1 | H10: 60 | I10: 433 | J10: 6 | K10: 120 | L10: 145 | M10: 162
A11: 5 | B11: Ս. Երիցյան | C11: 46 | D11: 455 | E11: 1 | F11: 205 | G11: 61 | H11: 49 | I11: 185 | J11: 3 | K11: 60 | L11: 92 | M11: 30
B19: ÀÝ¹³Ù»ÝÁ | C19: =SUM(C7:C18) -> 193 | D19: =SUM(D7:D18) -> 1913 | E19: =SUM(E7:E18) -> 1 | F19: =SUM(F7:F18) -> 386 | G19: =SUM(G7:G18) -> 295 | H19: =SUM(H7:H18) -> 185 | I19: =SUM(I7:I18) -> 1239 | J19: =SUM(J7:J18) -> 14 | ... M19: =SUM(M7:M18) -> 489

Sheet Մալաթիա
B1: Ð²ÞìºîìàôÂÚàôÜ
B2: Մալաթիա-Սեբաստիա վարչական շրջանի ÁÝ¹Ñ³Ýáõñ Çñ³í³ëáõÃÛ³Ý ¹³ï³ñ³ÝÇ ÏáÕÙÇó í×³ñÙ³Ý Ï³ñ·³¹ñáõÃÛáõÝ ³ñÓ³Ï»Éáõ í³ñáõÛÃÝ»ñÇ ÁÝÃ³óùÇ Ù³ëÇÝ
B3: 2017թ. 1-ÇÝ կիսամյակ
A4: êïáõ·Çã Ñ³í³ë³ñáõÙ` 1+2=3+4+5+6+7, 7=8+9+10+11
A5: Ð/Ñ | B5: ¸³ï³íáñÇ ³ÝáõÝ, ³½·³ÝáõÝ | C5: Ð³ßí»ïáõ Å³Ù³Ý³Ï³ßñç³ÝÇ ëÏ½áõÙ ³Ý³í³ñï í³ñáõÛÃÝ»ñÇ ÙÝ³óáñ¹Á | D5: êï³óí»É ¿ í×³ñÙ³Ý Ï³ñ·³¹ñáõÃÛáõÝ ³ñÓ³Ï»Éáõ Ù³ëÇÝ ¹ÇÙáõÙ | E5: êï³óí»É ¿ ¹ÇÙáõÙ ÁÝÃ³óù ãï³Éáõ Ù³ëÇÝ | F5: Ø»ñÅí»É ¿ | G5: Ø»ñÅí»É ¿ Ù³ëáí | H5: âÇ ³ñÓ³Ïí»É Ñ³ßí»ïáõ Å³Ù³Ý³Ï³ßñç³ÝáõÙ | I5: ²ñÓ³Ïí»É ¿ í×³ñÙ³Ý Ï³ñ·³¹ñáõÃÛáõÝ | J5: êï³óí»É ¿ ³é³ñÏáõÃÛáõÝ | K5: êï³ó»É ¿ ûñÇÝ³Ï³Ý áõÅ | L5: ÂáÕÝí»É ¿ ³ÝÑ»ï¨³Ýù ¨ ûñÇÝ³Ï³Ý áõÅÇ Ù»ç Ùï³Í í×éÇ Ñ»ï¨³Ýù ãÇ ³é³ç³óñ»É | M5: Ð³ßí»ïáõ Å³Ù³Ý³Ï³ßñç³ÝÇ í»ñçáõÙ ³Ý³í³ñï í³ñáõÛÃÝ»ñÇ ÙÝ³óáñ¹Á
C6: 1 | D6: 2 | E6: 3 | F6: 4 | G6: 5 | H6: 6 | I6: 7 | J6: 8 | K6: 9 | L6: 10 | M6: 11
A7: 1 | B7: Գ. Ավագյան | D7: 38 | F7: 3 | H7: 5 | I7: 30 | K7: 6 | L7: 10 | M7: 14
A8: 2 | B8: Լ. ՍարգսÛ³Ý | D8: 532 | F8: 150 | H8: 33 | I8: 349 | J8: 4 | K8: 86 | L8: 175 | M8: 84
A9: 3 | B9: Ն. Կարապետյան | D9: 627 | F9: 415 | I9: 212 | L9: 76 | M9: 136
A10: 4 | B10: ². ØÏñïãÛ³Ý | D10: 602 | I10: 602 | J10: 14 | K10: 256 | L10: 298 | M10: 34
A11: 5 | B11: Լ. Կատվալյան | D11: 622 | F11: 153 | I11: 469 | J11: 1 | L11: 42 | M11: 426
B19: ÀÝ¹³Ù»ÝÁ | D19: =SUM(D7:D18) -> 2421 | F19: =SUM(F7:F18) -> 721 | H19: =SUM(H7:H18) -> 38 | I19: =SUM(I7:I18) -> 1662 | J19: =SUM(J7:J18) -> 19 | K19: =SUM(K7:K18) -> 348 | L19: =SUM(L7:L18) -> 601 | M19: =SUM(M7:M18) -> 694

Sheet Ավան
B1: Ð²ÞìºîìàôÂÚàôÜ
B2: Ավան և Նոր Նորք վարչական շրջանների ÁÝ¹Ñ³Ýáõñ Çñ³í³ëáõÃÛ³Ý ¹³ï³ñ³ÝÇ ÏáÕÙÇó í×³ñÙ³Ý Ï³ñ·³¹ñáõÃÛáõÝ ³ñÓ³Ï»Éáõ í³ñáõÛÃÝ»ñÇ ÁÝÃ³óùÇ Ù³ëÇÝ
B3: 2017թ. 1-ÇÝ կիսամյակ
A4: êïáõ·Çã Ñ³í³ë³ñáõÙ` 1+2=3+4+5+6+7, 7=8+9+10+11
A5: Ð/Ñ | B5: ¸³ï³íáñÇ ³ÝáõÝ, ³½·³ÝáõÝ | C5: Ð³ßí»ïáõ Å³Ù³Ý³Ï³ßñç³ÝÇ ëÏ½áõÙ ³Ý³í³ñï í³ñáõÛÃÝ»ñÇ ÙÝ³óáñ¹Á | D5: êï³óí»É ¿ í×³ñÙ³Ý Ï³ñ·³¹ñáõÃÛáõÝ ³ñÓ³Ï»Éáõ Ù³ëÇÝ ¹ÇÙáõÙ | E5: êï³óí»É ¿ ¹ÇÙáõÙ ÁÝÃ³óù ãï³Éáõ Ù³ëÇÝ | F5: Ø»ñÅí»É ¿ | G5: Ø»ñÅí»É ¿ Ù³ëáí | H5: âÇ ³ñÓ³Ïí»É Ñ³ßí»ïáõ Å³Ù³Ý³Ï³ßñç³ÝáõÙ | I5: ²ñÓ³Ïí»É ¿ í×³ñÙ³Ý Ï³ñ·³¹ñáõÃÛáõÝ | J5: êï³óí»É ¿ ³é³ñÏáõÃÛáõÝ | K5: êï³ó»É ¿ ûñÇÝ³Ï³Ý áõÅ | L5: ÂáÕÝí»É ¿ ³ÝÑ»ï¨³Ýù ¨ ûñÇÝ³Ï³Ý áõÅÇ Ù»ç Ùï³Í í×éÇ Ñ»ï¨³Ýù ãÇ ³é³ç³óñ»É | M5: Ð³ßí»ïáõ Å³Ù³Ý³Ï³ßñç³ÝÇ í»ñçáõÙ ³Ý³í³ñï í³ñáõÛÃÝ»ñÇ ÙÝ³óáñ¹Á
C6: 1 | D6: 2 | E6: 3 | F6: 4 | G6: 5 | H6: 6 | I6: 7 | J6: 8 | K6: 9 | L6: 10 | M6: 11
A7: 1 | B7: Ø³ñ·³ñÛ³Ý | C7: 71 | D7: 396 | F7: 10 | H7: 39 | I7: 418 | J7: 8 | K7: 179 | L7: 154 | M7: 77
A8: 2 | B8: ¾¹. ²Ù³ÉÛ³Ý | C8: 3 | D8: 280 | F8: 23 | G8: 43 | H8: 41 | I8: 176 | J8: 4 | K8: 77 | L8: 45 | M8: 50
A9: 3 | B9: ². ´³¹ÇñÛ³Ý | C9: 27 | D9: 336 | E9: 2 | F9: 14 | G9: 4 | H9: 42 | I9: 301 | J9: 17 | K9: 115 | L9: 116 | M9: 53
A10: 4 | B10: ². ¸³íÃÛ³Ý | C10: 77 | D10: 355 | F10: 18 | G10: 52 | H10: 44 | I10: 318 | J10: 11 | K10: 142 | L10: 113 | M10: 52
A11: 5 | B11: ². ´³µ³Û³Ý | D11: 174 | F11: 10 | I11: 164 | J11: 4 | K11: 52 | L11: 60 | M11: 48
A12: 6 | B12: ². ä»ïñáëÛ³Ý | C12: 92 | D12: 245 | F12: 10 | H12: 51 | I12: 276 | J12: 2 | K12: 129 | L12: 90 | M12: 55
A13: 7 | B13: ¾. ê»¹ñ³ÏÛ³Ý | C13: 20 | D13: 379 | E13: 1 | F13: 20 | H13: 2 | I13: 376 | J13: 6 | K13: 176 | L13: 123 | M13: 71
B19: ÀÝ¹³Ù»ÝÁ | C19: =SUM(C7:C18) -> 290 | D19: =SUM(D7:D18) -> 2165 | E19: =SUM(E7:E18) -> 3 | F19: =SUM(F7:F18) -> 105 | G19: =SUM(G7:G18) -> 99 | H19: =SUM(H7:H18) -> 219 | I19: =SUM(I7:I18) -> 2029 | J19: =SUM(J7:J18) -> 52 | ... M19: =SUM(M7:M18) -> 406

Sheet Կենտրոն
B1: Ð²ÞìºîìàôÂÚàôÜ
A2: Կենտրոն և Նորք-Մարշ վարչական շրջանների ÁÝ¹Ñ³Ýáõñ Çñ³í³ëáõÃÛ³Ý ³é³çÇÝ ³ïÛ³ÝÇ ¹³ï³ñ³ÝÇ ÏáÕÙÇó վճ³ñÙ³Ý Ï³ñ·³¹ñáõÃÛáõÝ ³ñÓ³Ï»Éáõ í³ñáõÛÃÝ»ñÇ ÁÝÃ³óùÇ Ù³ëÇÝ
B3: 2017թ. 1-ÇÝ կիսամյակ
A5: êïáõ·Çã Ñ³í³ë³ñáõÙ` 1+2=3+4+5+6+7, 7=8+9+10+11
A6: Ð/Ñ | B6: ¸³ï³íáñÇ ³ÝáõÝ, ³½·³ÝáõÝ | C6: Ð³ßí»ïáõ Å³Ù³Ý³Ï³ßñç³ÝÇ ëÏ½áõÙ ³Ý³í³ñï í³ñáõÛÃÝ»ñÇ ÙÝ³óáñ¹Á | D6: êï³óí»É ¿ í×³ñÙ³Ý Ï³ñ·³¹ñáõÃÛáõÝ ³ñÓ³Ï»Éáõ Ù³ëÇÝ ¹ÇÙáõÙ | E6: êï³óí»É ¿ ¹ÇÙáõÙ ÁÝÃ³óù ãï³Éáõ Ù³ëÇÝ | F6: Ø»ñÅí»É ¿ | G6: Ø»ñÅí»É ¿ Ù³ëáí | H6: âÇ ³ñÓ³Ïí»É Ñ³ßí»ïáõ Å³Ù³Ý³Ï³ßñç³ÝáõÙ | I6: ²ñÓ³Ïí»É ¿ í×³ñÙ³Ý Ï³ñ·³¹ñáõÃÛáõÝ | J6: êï³óí»É ¿ ³é³ñÏáõÃÛáõÝ | K6: êï³ó»É ¿ ûñÇÝ³Ï³Ý áõÅ | L6: ÂáÕÝí»É ¿ ³ÝÑ»ï¨³Ýù ¨ ûñÇÝ³Ï³Ý áõÅÇ Ù»ç Ùï³Í í×éÇ Ñ»ï¨³Ýù ãÇ ³é³ç³óñ»É | M6: Ð³ßí»ïáõ Å³Ù³Ý³Ï³ßñç³ÝÇ í»ñçáõÙ ³Ý³í³ñï í³ñáõÛÃÝ»ñÇ ÙÝ³óáñ¹Á
C7: 1 | D7: 2 | E7: 3 | F7: 4 | G7: 5 | H7: 6 | I7: 7 | J7: 8 | K7: 9 | L7: 10 | M7: 11
A8: 1 | B8: Ա.Մելքումյան | C8: 540 | D8: 222 | F8: 66 | H8: 544 | I8: 152 | K8: 1 | M8: 151
A9: 2 | B9: Հ. Զարգարյան | C9: 64 | D9: 284 | F9: 17 | G9: 40 | H9: 93 | I9: 198 | K9: 11 | M9: 187
A10: 3 | B10: Ռ.Ներսիսյան | C10: 70 | D10: 321 | E10: 1 | F10: 47 | H10: 62 | I10: 281 | J10: 14 | K10: 111 | M10: 156
A11: 4 | B11: Էդ.Ավետիսյան | C11: 409 | D11: 321 | F11: 8 | G11: 1 | H11: 390 | I11: 331 | J11: 10 | K11: 134 | L11: 134 | M11: 53
A12: 5 | B12: Ռ.Ափինյան | C12: 399 | D12: 282 | F12: 7 | H12: 444 | I12: 230 | K12: 38 | M12: 192
A13: 6 | B13: Կ. Պետրոսյան | C13: 14 | D13: 192 | F13: 3 | H13: 22 | I13: 181 | K13: 8 | M13: 173
A14: 7 | B14: Գ.Մազմանյան | C14: 15 | D14: 320 | E14: 1 | F14: 22 | G14: 42 | H14: 38 | I14: 232 | J14: 9 | K14: 122 | M14: 101
A15: 8 | B15: Ա. Սուքոյան | C15: 162 | D15: 202 | F15: 20 | G15: 14 | H15: 244 | I15: 86 | J15: 1 | M15: 85
A16: 9 | B16: Ռ Վարդազարյան | D16: 4 | I16: 4 | M16: 4
A17: 10
A18: 11
B19: ÀÝ¹³Ù»ÝÁ | C19: =SUM(C8:C18) -> 1673 | D19: =SUM(D8:D18) -> 2148 | E19: =SUM(E8:E18) -> 2 | F19: =SUM(F8:F18) -> 190 | G19: =SUM(G8:G18) -> 97 | H19: =SUM(H8:H18) -> 1837 | I19: =SUM(I8:I18) -> 1695 | J19: =SUM(J8:J18) -> 34 | ... M19: =SUM(M8:M18) -> 1102

Sheet Շենգավիթ
B1: Ð²ÞìºîìàôÂÚàôÜ
B2: Շենգավիթ վարչական շրջանի ÁÝ¹Ñ³Ýáõñ Çñ³í³ëáõÃÛ³Ý ¹³ï³ñ³ÝÇ ÏáÕÙÇó í×³ñÙ³Ý Ï³ñ·³¹ñáõÃÛáõÝ ³ñÓ³Ï»Éáõ í³ñáõÛÃÝ»ñÇ ÁÝÃ³óùÇ Ù³ëÇÝ
B3: 2017թ. 1-ÇÝ կիսամյակ
A4: êïáõ·Çã Ñ³í³ë³ñáõÙ` 1+2=3+4+5+6+7, 7=8+9+10+11
A5: Ð/Ñ | B5: ¸³ï³íáñÇ ³ÝáõÝ, ³½·³ÝáõÝ | C5: Ð³ßí»ïáõ Å³Ù³Ý³Ï³ßñç³ÝÇ ëÏ½áõÙ ³Ý³í³ñï í³ñáõÛÃÝ»ñÇ ÙÝ³óáñ¹Á | D5: êï³óí»É ¿ í×³ñÙ³Ý Ï³ñ·³¹ñáõÃÛáõÝ ³ñÓ³Ï»Éáõ Ù³ëÇÝ ¹ÇÙáõÙ | E5: êï³óí»É ¿ ¹ÇÙáõÙ ÁÝÃ³óù ãï³Éáõ Ù³ëÇÝ | F5: Ø»ñÅí»É ¿ | G5: Ø»ñÅí»É ¿ Ù³ëáí | H5: âÇ ³ñÓ³Ïí»É Ñ³ßí»ïáõ Å³Ù³Ý³Ï³ßñç³ÝáõÙ | I5: ²ñÓ³Ïí»É ¿ í×³ñÙ³Ý Ï³ñ·³¹ñáõÃÛáõÝ | J5: êï³óí»É ¿ ³é³ñÏáõÃÛáõÝ | K5: êï³ó»É ¿ ûñÇÝ³Ï³Ý áõÅ | L5: ÂáÕÝí»É ¿ ³ÝÑ»ï¨³Ýù ¨ ûñÇÝ³Ï³Ý áõÅÇ Ù»ç Ùï³Í í×éÇ Ñ»ï¨³Ýù ãÇ ³é³ç³óñ»É | M5: Ð³ßí»ïáõ Å³Ù³Ý³Ï³ßñç³ÝÇ í»ñçáõÙ ³Ý³í³ñï í³ñáõÛÃÝ»ñÇ ÙÝ³óáñ¹Á
C6: 1 | D6: 2 | E6: 3 | F6: 4 | G6: 5 | H6: 6 | I6: 7 | J6: 8 | K6: 9 | L6: 10 | M6: 11
A7: 1 | B7: Ն. Հովսեփյան | C7: 0 | D7: 687 | F7: 3 | H7: 121 | I7: 563 | J7: 2 | K7: 21 | L7: 252 | M7: 288
A8: 2 | B8: Ա. Չիչոյան | C8: 0 | D8: 675 | F8: 261 | H8: 2 | I8: 412 | J8: 11 | K8: 117 | L8: 219 | M8: 65
A9: 3 | B9: Ա. Կուբանյան | C9: 0 | D9: 637 | F9: 83 | H9: 2 | I9: 552 | J9: 13 | K9: 159 | L9: 221 | M9: 159
A10: 4 | B10: Գ.Նարինյան | C10: 83 | D10: 393 | F10: 45 | G10: 93 | H10: 0 | I10: 338 | J10: 6 | K10: 168 | L10: 164 | M10: 0
A11: 5
A12: 6
A13: 7
A14: 8
A15: 9
A16: 10
A17: 11
A18: 12
B19: ÀÝ¹³Ù»ÝÁ | C19: =SUM(C7:C18) -> 83 | D19: =SUM(D7:D18) -> 2392 | F19: =SUM(F7:F18) -> 392 | G19: =SUM(G7:G18) -> 93 | H19: =SUM(H7:H18) -> 125 | I19: =SUM(I7:I18) -> 1865 | J19: =SUM(J7:J18) -> 32 | K19: =SUM(K7:K18) -> 465 | L19: =SUM(L7:L18) -> 856 | M19: =SUM(M7:M18) -> 512

Sheet Արաբկիր
B1: Ð²ÞìºîìàôÂÚàôÜ
B2: ºñ¨³ÝÇ ²ñ³µÏÇñ ¨ ø³Ý³ù»é-¼»ÛÃáõÝ í³ñã³Ï³Ý ßñç³ÝÝ»ñÇ ÁÝ¹Ñ³Ýáõñ Çñ³í³ëáõÃÛ³Ý ¹³ï³ñ³ÝÇ ÏáÕÙÇó í×³ñÙ³Ý Ï³ñ·³¹ñáõÃÛáõÝ ³ñÓ³Ï»Éáõ í³ñáõÛÃÝ»ñÇ ÁÝÃ³óùÇ Ù³ëÇÝ
B3: 2017թ. 1-ÇÝ կիսամյակ
A4: êïáõ·Çã Ñ³í³ë³ñáõÙ` 1+2=3+4+5+6+7, 7=8+9+10+11
A5: Ð/Ñ | B5: ¸³ï³íáñÇ ³ÝáõÝ, ³½·³ÝáõÝ | C5: Ð³ßí»ïáõ Å³Ù³Ý³Ï³ßñç³ÝÇ ëÏ½µáõÙ ³Ý³í³ñï í³ñáõÛÃÝ»ñÇ ÙÝ³óáñ¹Á | D5: êï³óí»É ¿ í×³ñÙ³Ý Ï³ñ·³¹ñáõÃÛáõÝ ³ñÓ³Ï»Éáõ Ù³ëÇÝ ¹ÇÙáõÙ | E5: êï³óí»É ¿ ¹ÇÙáõÙ ÁÝÃ³óù ãï³Éáõ Ù³ëÇÝ | F5: Ø»ñÅí»É ¿ | G5: Ø»ñÅí»É ¿ Ù³ëáí | H5: âÇ ³ñÓ³Ïí»É Ñ³ßí»ïáõ Å³Ù³Ý³Ï³ßñç³ÝáõÙ | I5: ²ñÓ³Ïí»É ¿ í×³ñÙ³Ý Ï³ñ·³¹ñáõÃÛáõÝ | J5: êï³óí»É ¿ ³é³ñÏáõÃÛáõÝ | K5: êï³ó»É ¿ ûñÇÝ³Ï³Ý áõÅ | L5: ÂáÕÝí»É ¿ ³ÝÑ»ï¨³Ýù ¨ ûñÇÝ³Ï³Ý áõÅÇ Ù»ç Ùï³Í í×éÇ Ñ»ï¨³Ýù ãÇ ³é³ç³óñ»É | M5: Ð³ßí»ïáõ Å³Ù³Ý³Ï³ßñç³ÝÇ í»ñçáõÙ ³Ý³í³ñï í³ñáõÛÃÝ»ñÇ ÙÝ³óáñ¹Á
C6: 1 | D6: 2 | E6: 3 | F6: 4 | G6: 5 | H6: 6 | I6: 7 | J6: 8 | K6: 9 | L6: 10 | M6: 11
A7: 1 | B7: Ա.Դանիելյան | D7: 1 | I7: 1 | K7: 1
A8: 2 | B8: Ռ.Բունիաթյան | D8: 221 | F8: 10 | I8: 211 | J8: 1 | K8: 7 | L8: 117 | M8: 86
A9: 3 | B9: Ս.Հովսեփյան | D9: 516 | F9: 20 | I9: 496 | J9: 10 | K9: 270 | L9: 150 | M9: 66
A10: 4 | B10: Զ.Նախշքարյան | C10: 18 | D10: 514 | F10: 36 | I10: 496 | J10: 9 | K10: 152 | L10: 103 | M10: 232
A11: 5 | B11: Ս. Թադևոսյան | D11: 117 | E11: 2 | I11: 115 | J11: 6 | K11: 53 | L11: 56
A12: 6 | B12: Ա.Ստեփանյան | D12: 548 | E12: 1 | F12: 11 | G12: 60 | I12: 476 | J12: 11 | K12: 81 | L12: 181 | M12: 203
A13: 7 | B13: Հ.Շահնազարյան | D13: 552 | E13: 1 | F13: 41 | G13: 223 | H13: 0 | I13: 287 | J13: 9 | K13: 234 | L13: 44
B19: ÀÝ¹³Ù»ÝÁ | C19: =SUM(C7:C13) -> 18 | D19: =SUM(D7:D13) -> 2469 | E19: =SUM(E7:E13) -> 4 | F19: =SUM(F7:F13) -> 118 | G19: =SUM(G7:G13) -> 283 | I19: =SUM(I7:I13) -> 2082 | J19: =SUM(J7:J13) -> 46 | K19: =SUM(K7:K13) -> 798 | L19: =SUM(L7:L13) -> 651 | M19: =SUM(M7:M13) -> 587

Sheet Էրեբունի
B1: Ð²ÞìºîìàôÂÚàôÜ
A2: Հավելված 2 Հայաստանի Հանրապետության Դատարանների նախագահների խորհրդի 2007թ. դեկտեմբերի 21-ի թիվ 23Լ որոշման
B3: ÐÐԷրեբունի և Նուբարաշեն վարչական շրջանների ընդհանուր Çñ³í³ëáõÃÛ³Ý ³é³çÇÝ ³ïÛ³ÝÇ ¹³ï³ñ³ÝÇ ÏáÕÙÇó í×³ñÙ³Ý Ï³ñ·³¹ñáõÃÛáõÝ ³ñÓ³Ï»Éáõ í³ñáõÛÃÝ»ñÇ ÁÝÃ³óùÇ Ù³ëÇÝ
B4: 01-01-2017 - 30-06-2017թ դրությամբ
A5: êïáõ·Çã Ñ³í³ë³ñáõÙ` 1+2=3+4+5+6+7, 7=8+9+10+11
A6: Ð/Ñ | B6: ¸³ï³íáñÇ ³ÝáõÝ, ³½·³ÝáõÝ | C6: Ð³ßí»ïáõ Å³Ù³Ý³Ï³ßñç³ÝÇ ëÏ½áõÙ ³Ý³í³ñï í³ñáõÛÃÝ»ñÇ ÙÝ³óáñ¹Á | D6: êï³óí»É ¿ í×³ñÙ³Ý Ï³ñ·³¹ñáõÃÛáõÝ ³ñÓ³Ï»Éáõ Ù³ëÇÝ ¹ÇÙáõÙ | E6: êï³óí»É ¿ ¹ÇÙáõÙ ÁÝÃ³óù ãï³Éáõ Ù³ëÇÝ | F6: Ø»ñÅí»É ¿ | G6: Ø»ñÅí»É ¿ Ù³ëáí | H6: âÇ ³ñÓ³Ïí»É Ñ³ßí»ïáõ Å³Ù³Ý³Ï³ßñç³ÝáõÙ | I6: ²ñÓ³Ïí»É ¿ í×³ñÙ³Ý Ï³ñ·³¹ñáõÃÛáõÝ | J6: êï³óí»É ¿ ³é³ñÏáõÃÛáõÝ | K6: êï³ó»É ¿ ûñÇÝ³Ï³Ý áõÅ | L6: ÂáÕÝí»É ¿ ³ÝÑ»ï¨³Ýù ¨ ûñÇÝ³Ï³Ý áõÅÇ Ù»ç Ùï³Í í×éÇ Ñ»ï¨³Ýù ãÇ ³é³ç³óñ»É | M6: Ð³ßí»ïáõ Å³Ù³Ý³Ï³ßñç³ÝÇ í»ñçáõÙ ³Ý³í³ñï í³ñáõÛÃÝ»ñÇ ÙÝ³óáñ¹Á
C7: 1 | D7: 2 | E7: 3 | F7: 4 | G7: 5 | H7: 6 | I7: 7 | J7: 8 | K7: 9 | L7: 10 | M7: 11
A8: 1 | B8: Լ. Գրիգորյան | D8: 510 | E8: 1 | F8: 33 | G8: 99 | I8: 377 | J8: 15 | K8: 131 | L8: 170 | M8: 61
A9: 2 | B9: Տ. Ստեփանյան | D9: 670 | F9: 39 | G9: 116 | I9: 515 | J9: 7 | K9: 133 | L9: 91 | M9: 284
A10: 3 | B10: Ե.Եսոյան | D10: 466 | F10: 42 | I10: 424 | J10: 9 | K10: 170 | L10: 166 | M10: 79
A11: 4 | B11: Գ.Խաչատրյան | D11: 628 | E11: 1 | F11: 18 | I11: 609 | J11: 10 | K11: 223 | L11: 176 | M11: 200
B19: ÀÝ¹³Ù»ÝÁ | D19: =SUM(D8:D18) -> 2274 | E19: 2 | F19: =SUM(F8:F18) -> 132 | G19: =SUM(G8:G18) -> 215 | I19: 1925 | J19: =SUM(J8:J18) -> 41 | K19: =SUM(K8:K18) -> 657 | L19: 603 | M19: =SUM(M8:M18) -> 624

Sheet Գեղարքունիք
B1: Ð²ÞìºîìàôÂÚàôÜ
A2: ÐÐ ¶»Õ³ñùáõÝÇùÇ Ù³ñ½Ç ÁÝ¹Ñ³Ýáõñ Çñ³í³ëáõÃÛ³Ý ³é³çÇÝ ³ïÛ³ÝÇ ¹³ï³ñ³ÝÇ ÏáÕÙÇó í×³ñÙ³Ý Ï³ñ·³¹ñáõÃÛáõÝ ³ñÓ³Ï»Éáõ í³ñáõÛÃÝ»ñÇ ÁÝÃ³óùÇ Ù³ëÇÝ
B4: 2017Ã.1-ին կիսամյակ
A5: êïáõ·Çã Ñ³í³ë³ñáõÙ` 1+2=3+4+5+6+7, 7=8+9+10+11
A6: Ð/Ñ | B6: ¸³ï³íáñÇ ³ÝáõÝ, ³½·³ÝáõÝ | C6: Ð³ßí»ïáõ Å³Ù³Ý³Ï³ßñç³ÝÇ ëÏ½áõÙ ³Ý³í³ñï í³ñáõÛÃÝ»ñÇ ÙÝ³óáñ¹Á | D6: êï³óí»É ¿ í×³ñÙ³Ý Ï³ñ·³¹ñáõÃÛáõÝ ³ñÓ³Ï»Éáõ Ù³ëÇÝ ¹ÇÙáõÙ | E6: êï³óí»É ¿ ¹ÇÙáõÙ ÁÝÃ³óù ãï³Éáõ Ù³ëÇÝ | F6: Ø»ñÅí»É ¿ | G6: Ø»ñÅí»É ¿ Ù³ëáí | H6: âÇ ³ñÓ³Ïí»É Ñ³ßí»ïáõ Å³Ù³Ý³Ï³ßñç³ÝáõÙ | I6: ²ñÓ³Ïí»É ¿ í×³ñÙ³Ý Ï³ñ·³¹ñáõÃÛáõÝ | J6: êï³óí»É ¿ ³é³ñÏáõÃÛáõÝ | K6: êï³ó»É ¿ ûñÇÝ³Ï³Ý áõÅ | L6: ÂáÕÝí»É ¿ ³ÝÑ»ï¨³Ýù ¨ ûñÇÝ³Ï³Ý áõÅÇ Ù»ç Ùï³Í í×éÇ Ñ»ï¨³Ýù ãÇ ³é³ç³óñ»É | M6: Ð³ßí»ïáõ Å³Ù³Ý³Ï³ßñç³ÝÇ í»ñçáõÙ ³Ý³í³ñï í³ñáõÛÃÝ»ñÇ ÙÝ³óáñ¹Á
C7: 1 | D7: 2 | E7: 3 | F7: 4 | G7: 5 | H7: 6 | I7: 7 | J7: 8 | K7: 9 | L7: 10 | M7: 11
A8: 1 | B8: Ա. Թամրազյան | D8: 635 | E8: 1 | F8: 1 | G8: 1 | I8: 632 | J8: 20 | K8: 143 | L8: 209 | M8: 260
A9: 2 | B9: Վ. Հարությունյան
A10: 3 | B10: Յու. Իսկոյան
A11: 4 | B11: Ա. Գաբրիելյան | C11: 2 | D11: 256 | F11: 11 | H11: 1 | I11: 246 | J11: 9 | K11: 137 | L11: 12 | M11: 88
A12: 5 | B12: Ս. Մանուկյան | D12: 253 | I12: 253 | J12: 2 | K12: 140 | L12: 100 | M12: 11
A13: 6 | B13: Վ. Մելիքյան
A14: 7 | B14: Վ. Վարդանյան | D14: 342 | F14: 2 | I14: 340 | J14: 16 | K14: 115 | L14: 86 | M14: 123
A15: 8
A16: 9
B19: ÀÝ¹³Ù»ÝÁ | C19: =SUM(C8:C18) -> 2 | D19: =SUM(D8:D18) -> 1486 | E19: =SUM(E8:E18) -> 1 | F19: =SUM(F8:F18) -> 14 | G19: =SUM(G8:G18) -> 1 | H19: =SUM(H8:H18) -> 1 | I19: =SUM(I8:I18) -> 1471 | J19: =SUM(J8:J18) -> 47 | ... M19: =SUM(M8:M18) -> 482

Sheet Սյունիք
B1: Ð²ÞìºîìàôÂÚàôÜ
A2: ÐÐ Սյունիքի մարզի ÁÝ¹Ñ³Ýáõñ Çñ³í³ëáõÃÛ³Ý ³é³çÇÝ ³ïÛ³ÝÇ ¹³ï³ñ³ÝÇ ÏáÕÙÇó í×³ñÙ³Ý Ï³ñ·³¹ñáõÃÛáõÝ ³ñÓ³Ï»Éáõ í³ñáõÛÃÝ»ñÇ ÁÝÃ³óùÇ Ù³ëÇÝ
B4: 2017թ.1-ին կիսամյակ
A5: êïáõ·Çã Ñ³í³ë³ñáõÙ` 1+2=3+4+5+6+7, 7=8+9+10+11
A6: Ð/Ñ | B6: ¸³ï³íáñÇ ³ÝáõÝ, ³½·³ÝáõÝ | C6: Ð³ßí»ïáõ Å³Ù³Ý³Ï³ßñç³ÝÇ ëÏ½áõÙ ³Ý³í³ñï í³ñáõÛÃÝ»ñÇ ÙÝ³óáñ¹Á | D6: êï³óí»É ¿ í×³ñÙ³Ý Ï³ñ·³¹ñáõÃÛáõÝ ³ñÓ³Ï»Éáõ Ù³ëÇÝ ¹ÇÙáõÙ | E6: êï³óí»É ¿ ¹ÇÙáõÙ ÁÝÃ³óù ãï³Éáõ Ù³ëÇÝ | F6: Ø»ñÅí»É ¿ | G6: Ø»ñÅí»É ¿ Ù³ëáí | H6: âÇ ³ñÓ³Ïí»É Ñ³ßí»ïáõ Å³Ù³Ý³Ï³ßñç³ÝáõÙ | I6: ²ñÓ³Ïí»É ¿ í×³ñÙ³Ý Ï³ñ·³¹ñáõÃÛáõÝ | J6: êï³óí»É ¿ ³é³ñÏáõÃÛáõÝ | K6: êï³ó»É ¿ ûñÇÝ³Ï³Ý áõÅ | L6: ÂáÕÝí»É ¿ ³ÝÑ»ï¨³Ýù ¨ ûñÇÝ³Ï³Ý áõÅÇ Ù»ç Ùï³Í í×éÇ Ñ»ï¨³Ýù ãÇ ³é³ç³óñ»É | M6: Ð³ßí»ïáõ Å³Ù³Ý³Ï³ßñç³ÝÇ í»ñçáõÙ ³Ý³í³ñï í³ñáõÛÃÝ»ñÇ ÙÝ³óáñ¹Á
C7: 1 | D7: 2 | E7: 3 | F7: 4 | G7: 5 | H7: 6 | I7: 7 | J7: 8 | K7: 9 | L7: 10 | M7: 11
A8: 1 | B8: Ս.Գրիգորյան | C8: 0 | D8: 46 | E8: 0 | F8: 2 | G8: 15 | H8: 0 | I8: 29 | J8: 3 | K8: 26 | L8: 0 | M8: 0
A9: 2 | B9: Ա.Թումանյան | C9: 35 | D9: 431 | E9: 0 | F9: 5 | G9: 80 | H9: 23 | I9: 358 | J9: 20 | K9: 315 | L9: 0 | M9: 23
A10: 3 | B10: Մ.Հովակիմյան | C10: 0 | D10: 500 | E10: 0 | F10: 25 | G10: 112 | H10: 0 | I10: 363 | J10: 3 | K10: 69 | L10: 46 | M10: 245
A11: 4 | B11: Ի.Բեգլարյան | C11: 0 | D11: 382 | E11: 0 | F11: 3 | G11: 96 | H11: 20 | I11: 263 | J11: 38 | K11: 149 | L11: 59 | M11: 17
A12: 5 | B12: Ժ.Ասատրյան | C12: 0 | D12: 409 | E12: 0 | F12: 15 | G12: 0 | H12: 61 | I12: 333 | J12: 12 | K12: 179 | L12: 106 | M12: 36
B19: ÀÝ¹³Ù»ÝÁ | C19: 35 | D19: 1768 | E19: 0 | F19: 50 | G19: 303 | H19: 104 | I19: 1346 | J19: 76 | K19: 738 | L19: 211 | M19: 321

Sheet Կոտայք
B1: Ð²ÞìºîìàôÂÚàôÜ
A2: ÐÐ Կոտայքի մարզի ÁÝ¹Ñ³Ýáõñ Çñ³í³ëáõÃÛ³Ý ³é³çÇÝ ³ïÛ³ÝÇ ¹³ï³ñ³ÝÇ ÏáÕÙÇó í×³ñÙ³Ý Ï³ñ·³¹ñáõÃÛáõÝ ³ñÓ³Ï»Éáõ í³ñáõÛÃÝ»ñÇ ÁÝÃ³óùÇ Ù³ëÇÝ
B4: 2017թ.1-ին կիսամյակ
A5: êïáõ·Çã Ñ³í³ë³ñáõÙ` 1+2=3+4+5+6+7, 7=8+9+10+11
A6: Ð/Ñ | B6: ¸³ï³íáñÇ ³ÝáõÝ, ³½·³ÝáõÝ | C6: Ð³ßí»ïáõ Å³Ù³Ý³Ï³ßñç³ÝÇ ëÏ½áõÙ ³Ý³í³ñï í³ñáõÛÃÝ»ñÇ ÙÝ³óáñ¹Á | D6: êï³óí»É ¿ í×³ñÙ³Ý Ï³ñ·³¹ñáõÃÛáõÝ ³ñÓ³Ï»Éáõ Ù³ëÇÝ ¹ÇÙáõÙ | E6: êï³óí»É ¿ ¹ÇÙáõÙ ÁÝÃ³óù ãï³Éáõ Ù³ëÇÝ | F6: Ø»ñÅí»É ¿ | G6: Ø»ñÅí»É ¿ Ù³ëáí | H6: âÇ ³ñÓ³Ïí»É Ñ³ßí»ïáõ Å³Ù³Ý³Ï³ßñç³ÝáõÙ | I6: ²ñÓ³Ïí»É ¿ í×³ñÙ³Ý Ï³ñ·³¹ñáõÃÛáõÝ | J6: êï³óí»É ¿ ³é³ñÏáõÃÛáõÝ | K6: êï³ó»É ¿ ûñÇÝ³Ï³Ý áõÅ | L6: ÂáÕÝí»É ¿ ³ÝÑ»ï¨³Ýù ¨ ûñÇÝ³Ï³Ý áõÅÇ Ù»ç Ùï³Í í×éÇ Ñ»ï¨³Ýù ãÇ ³é³ç³óñ»É | M6: Ð³ßí»ïáõ Å³Ù³Ý³Ï³ßñç³ÝÇ í»ñçáõÙ ³Ý³í³ñï í³ñáõÛÃÝ»ñÇ ÙÝ³óáñ¹Á
C7: 1 | D7: 2 | E7: 3 | F7: 4 | G7: 5 | H7: 6 | I7: 7 | J7: 8 | K7: 9 | L7: 10 | M7: 11
A8: 1 | B8: Ա. Սիսակյան | C8: 2 | D8: 585 | E8: 2 | H8: 13 | I8: 572 | J8: 3 | K8: 164 | L8: 405
A9: 2 | B9: Տ.Փոլադյան | C9: 93 | D9: 351 | I9: 444 | J9: 3 | K9: 378 | M9: 63
A10: 3 | B10: Ա.Արզումանյան | C10: 7 | D10: 777 | F10: 183 | G10: 239 | I10: 362 | J10: 41 | K10: 114 | L10: 91 | M10: 116
A11: 4 | B11: Ն. Գալստյան | D11: 1244 | I11: 1244 | J11: 118 | K11: 201 | L11: 204 | M11: 721
A12: 5 | B12: Գ. Հեբոյան | C12: 0 | D12: 1022 | F12: 10 | H12: 255 | I12: 757 | J12: 30 | K12: 97 | L12: 67 | M12: 563
A13: 6 | B13: Էդ.Սեդրակյան
A14: 7 | B14: Ա.Խաչիկյան | D14: 786 | F14: 112 | I14: 674 | J14: 41 | K14: 309 | L14: 190 | M14: 134
B19: ÀÝ¹³Ù»ÝÁ | C19: 102 | D19: 4765 | E19: 2 | F19: =SUM(F8:F18) -> 305 | G19: 239 | H19: =SUM(H8:H18) -> 268 | I19: =SUM(I8:I18) -> 4053 | J19: =SUM(J8:J18) -> 236 | K19: =SUM(K8:K18) -> 1263 | L19: =SUM(L8:L18) -> 957 | M19: =SUM(M8:M18) -> 1597

Sheet Տավուշ
B1: Ð²ÞìºîìàôÂÚàôÜ
B2: ÐÐ Տավուշի մարզի ÁÝ¹Ñ³Ýáõñ Çñ³í³ëáõÃÛ³Ý ¹³ï³ñ³ÝÇ ÏáÕÙÇó í×³ñÙ³Ý Ï³ñ·³¹ñáõÃÛáõÝ ³ñÓ³Ï»Éáõ í³ñáõÛÃÝ»ñÇ ÁÝÃ³óùÇ Ù³ëÇÝ
B3: 2017Ã. 1-ÇÝ ÏÇë³ÙÛ³Ï
A4: êïáõ·Çã Ñ³í³ë³ñáõÙ` 1+2=3+4+5+6+7, 7=8+9+10+11
A5: Ð/Ñ | B5: ¸³ï³íáñÇ ³ÝáõÝ, ³½·³ÝáõÝ | C5: Ð³ßí»ïáõ Å³Ù³Ý³Ï³ßñç³ÝÇ ëÏ½áõÙ ³Ý³í³ñï í³ñáõÛÃÝ»ñÇ ÙÝ³óáñ¹Á | D5: êï³óí»É ¿ í×³ñÙ³Ý Ï³ñ·³¹ñáõÃÛáõÝ ³ñÓ³Ï»Éáõ Ù³ëÇÝ ¹ÇÙáõÙ | E5: êï³óí»É ¿ ¹ÇÙáõÙ ÁÝÃ³óù ãï³Éáõ Ù³ëÇÝ | F5: Ø»ñÅí»É ¿ | G5: Ø»ñÅí»É ¿ Ù³ëáí | H5: âÇ ³ñÓ³Ïí»É Ñ³ßí»ïáõ Å³Ù³Ý³Ï³ßñç³ÝáõÙ | I5: ²ñÓ³Ïí»É ¿ í×³ñÙ³Ý Ï³ñ·³¹ñáõÃÛáõÝ | J5: êï³óí»É ¿ ³é³ñÏáõÃÛáõÝ | K5: êï³ó»É ¿ ûñÇÝ³Ï³Ý áõÅ | L5: ÂáÕÝí»É ¿ ³ÝÑ»ï¨³Ýù ¨ ûñÇÝ³Ï³Ý áõÅÇ Ù»ç Ùï³Í í×éÇ Ñ»ï¨³Ýù ãÇ ³é³ç³óñ»É | M5: Ð³ßí»ïáõ Å³Ù³Ý³Ï³ßñç³ÝÇ í»ñçáõÙ ³Ý³í³ñï í³ñáõÛÃÝ»ñÇ ÙÝ³óáñ¹Á
C6: 1 | D6: 2 | E6: 3 | F6: 4 | G6: 5 | H6: 6 | I6: 7 | J6: 8 | K6: 9 | L6: 10 | M6: 11
A7: 1 | B7: Ա.Կուրեխյան | C7: 78 | D7: 370 | F7: 3 | G7: 11 | H7: 50 | I7: 384 | J7: 16 | K7: 208 | L7: 108 | M7: 52
A8: 2 | B8: Ս.Իսկանդարյան | D8: 382 | F8: 13 | G8: 54 | H8: 45 | I8: 270 | J8: 6 | K8: 131 | L8: 77 | M8: 56
A9: 3 | B9: Ա.Օհանյան | C9: 1 | D9: 242 | G9: 14 | H9: 28 | I9: 201 | J9: 11 | K9: 117 | L9: 73
A10: 4
A11: 5
A12: 6
A13: 7
A14: 8
A15: 9
A16: 10
A17: 11
A18: 12
B19: ÀÝ¹³Ù»ÝÁ | C19: =SUM(C7:C18) -> 79 | D19: =SUM(D7:D18) -> 994 | E19: =SUM(E7:E18) -> 0 | F19: =SUM(F7:F18) -> 16 | G19: =SUM(G7:G18) -> 79 | H19: =SUM(H7:H18) -> 123 | I19: =SUM(I7:I18) -> 855 | J19: =SUM(J7:J18) -> 33 | ... M19: =SUM(M7:M18) -> 108

Sheet Շիրակ
B1: Ð²ÞìºîìàôÂÚàôÜ
B2: ÁÝ¹Ñ³Ýáõñ Çñ³í³ëáõÃÛ³Ý ¹³ï³ñ³ÝÇ ÏáÕÙÇó í×³ñÙ³Ý Ï³ñ·³¹ñáõÃÛáõÝ ³ñÓ³Ï»Éáõ í³ñáõÛÃÝ»ñÇ ÁÝÃ³óùÇ Ù³ëÇÝ
B3: 2017 Ã. 1 կիսամյակ
A4: êïáõ·Çã Ñ³í³ë³ñáõÙ` 1+2=3+4+5+6+7, 7=8+9+10+11
A5: Ð/Ñ | B5: ¸³ï³íáñÇ ³ÝáõÝ, ³½·³ÝáõÝ | C5: Ð³ßí»ïáõ Å³Ù³Ý³Ï³ßñç³ÝÇ ëÏ½áõÙ ³Ý³í³ñï í³ñáõÛÃÝ»ñÇ ÙÝ³óáñ¹Á | D5: êï³óí»É ¿ í×³ñÙ³Ý Ï³ñ·³¹ñáõÃÛáõÝ ³ñÓ³Ï»Éáõ Ù³ëÇÝ ¹ÇÙáõÙ | E5: ëï³óí»É ¿ ¹ÇÙáõÙ ÁÝÃ³óù ãï³Éáõ Ù³ëÇÝ | F5: Ø»ñÅí»É ¿ | G5: Ø»ñÅí»É ¿ Ù³ëáí | H5: âÇ ³ñÓ³Ïí»É Ñ³ßí»ïáõ Å³Ù³Ý³Ï³ßñç³ÝáõÙ | I5: ²ñÓ³Ïí»É ¿ í×³ñÙ³Ý Ï³ñ·³¹ñáõÃÛáõÝ | J5: êï³óí»É ¿ ³é³ñÏáõÃÛáõÝ | K5: êï³ó»É ¿ ûñÇÝ³Ï³Ý áõÅ | L5: ÂáÕÝí»É ¿ ³ÝÑ»ï¨³Ýù ¨ ûñÇÝ³Ï³Ý áõÅÇ Ù»ç Ùï³Í í×éÇ Ñ»ï¨³Ýù ãÇ ³é³ç³óñ»É | M5: Ð³ßí»ïáõ Å³Ù³Ý³Ï³ßñç³ÝÇ í»ñçáõÙ ³Ý³í³ñï í³ñáõÛÃÝ»ñÇ ÙÝ³óáñ¹Á
C6: 1 | D6: 2 | E6: 3 | F6: 4 | G6: 5 | H6: 6 | I6: 7 | J6: 8 | K6: 9 | L6: 10 | M6: 11
A7: 1 | B7: Գ. Հովհաննիսյան | C7: 0 | D7: 18 | F7: 0 | G7: 0 | H7: 0 | I7: 18 | J7: 0 | K7: 11 | L7: 5 | M7: 2
A8: 2 | B8: Ա. Խաչատրյան | C8: 15 | D8: 120 | E8: 0 | F8: 7 | G8: 0 | H8: 24 | I8: 104 | J8: 9 | K8: 38 | L8: 23 | M8: 34
A9: 3 | B9: Հ. Միքայելյան | C9: 77 | D9: 439 | F9: 6 | G9: 93 | H9: 57 | I9: 360 | J9: 17 | K9: 241 | L9: 63 | M9: 39
A10: 4 | B10: Լ. Խաչատրյան | C10: 47 | D10: 388 | E10: 0 | F10: 3 | G10: 0 | H10: 14 | I10: 418 | J10: 5 | K10: 122 | L10: 94 | M10: 197
A11: 5 | B11: Հ. Ղազարյան | D11: 472 | F11: 2 | G11: 0 | H11: 75 | I11: 395 | J11: 1 | K11: 10 | L11: 3 | M11: 381
A12: 6 | B12: Մ. Գևորգյան | C12: 69 | D12: 492 | F12: 2 | G12: 0 | H12: 65 | I12: 494 | J12: 14 | K12: 163 | L12: 6 | M12: 311
A13: 7 | B13: Բ. Մկրտչյան | C13: 0 | D13: 331 | E13: 0 | F13: 0 | G13: 36 | H13: 118 | I13: 177 | J13: 4 | K13: 66 | L13: 0 | M13: 107
A14: 8 | B14: Ս. Մնացյան | C14: 0 | D14: 381 | E14: 0 | F14: 0 | G14: 0 | H14: 6 | I14: 375 | J14: 11 | K14: 159 | L14: 98 | M14: 107
A15: 9 | B15: Լ. Հովհաննիսյան | D15: 317 | F15: 40 | I15: 277 | J15: 3 | K15: 87 | L15: 34 | M15: 153
B19: ÀÝ¹³Ù»ÝÁ | C19: =SUM(C7:C18) -> 208 | D19: =SUM(D7:D18) -> 2958 | E19: =SUM(E7:E18) -> 0 | F19: =SUM(F7:F18) -> 60 | G19: =SUM(G7:G18) -> 129 | H19: =SUM(H7:H18) -> 359 | I19: =SUM(I7:I18) -> 2618 | J19: =SUM(J7:J18) -> 64 | ... M19: =SUM(M7:M18) -> 1331

Sheet Լոռի
B1: Ð²ÞìºîìàôÂÚàôÜ
B2: ÐÐ Լոռու մարզի ÁÝ¹Ñ³Ýáõñ Çñ³í³ëáõÃÛ³Ý ¹³ï³ñ³ÝÇ ÏáÕÙÇó í×³ñÙ³Ý Ï³ñ·³¹ñáõÃÛáõÝ ³ñÓ³Ï»Éáõ í³ñáõÛÃÝ»ñÇ ÁÝÃ³óùÇ Ù³ëÇÝ
B3: 2017Ã. 1-ին կիսամյակ
A4: êïáõ·Çã Ñ³í³ë³ñáõÙ` 1+2=3+4+5+6+7, 7=8+9+10+11
A5: Ð/Ñ | B5: ¸³ï³íáñÇ ³ÝáõÝ, ³½·³ÝáõÝ | C5: Ð³ßí»ïáõ Å³Ù³Ý³Ï³ßñç³ÝÇ ëÏ½áõÙ ³Ý³í³ñï í³ñáõÛÃÝ»ñÇ ÙÝ³óáñ¹Á | D5: êï³óí»É ¿ í×³ñÙ³Ý Ï³ñ·³¹ñáõÃÛáõÝ ³ñÓ³Ï»Éáõ Ù³ëÇÝ ¹ÇÙáõÙ | E5: êï³óí»É ¿ ¹ÇÙáõÙ ÁÝÃ³óù ãï³Éáõ Ù³ëÇÝ | F5: Ø»ñÅí»É ¿ | G5: Ø»ñÅí»É ¿ Ù³ëáí | H5: âÇ ³ñÓ³Ïí»É Ñ³ßí»ïáõ Å³Ù³Ý³Ï³ßñç³ÝáõÙ | I5: ²ñÓ³Ïí»É ¿ í×³ñÙ³Ý Ï³ñ·³¹ñáõÃÛáõÝ | J5: êï³óí»É ¿ ³é³ñÏáõÃÛáõÝ | K5: êï³ó»É ¿ ûñÇÝ³Ï³Ý áõÅ | L5: ÂáÕÝí»É ¿ ³ÝÑ»ï¨³Ýù ¨ ûñÇÝ³Ï³Ý áõÅÇ Ù»ç Ùï³Í í×éÇ Ñ»ï¨³Ýù ãÇ ³é³ç³óñ»É | M5: Ð³ßí»ïáõ Å³Ù³Ý³Ï³ßñç³ÝÇ í»ñçáõÙ ³Ý³í³ñï í³ñáõÛÃÝ»ñÇ ÙÝ³óáñ¹Á
C6: 1 | D6: 2 | E6: 3 | F6: 4 | G6: 5 | H6: 6 | I6: 7 | J6: 8 | K6: 9 | L6: 10 | M6: 11
A7: 1 | B7: Գ. Զաքարյան | C7: 14 | D7: 515 | E7: 1 | G7: =89+10 -> 99 | H7: 55 | I7: =370+4 -> 374 | J7: 5 | K7: =77+2 -> 79 | L7: =43+2 -> 45 | M7: 245
A8: 2 | B8: ´. Գրիգորյան
A9: 3 | B9: ì. Հովնանյան | D9: 499 | F9: 79 | G9: 102 | I9: 318 | J9: 9 | K9: 130 | L9: 30 | M9: 149
A10: 4 | B10: Ա. Աթաբեկյան | D10: 441 | E10: 1 | F10: 20 | G10: 44 | H10: 152 | I10: 224 | J10: 8 | K10: 102 | L10: 93 | M10: 21
A11: 5 | B11: Ա. Մկոյան | D11: 300 | F11: 21 | G11: 52 | I11: 227 | J11: 7 | K11: 105 | L11: 97 | M11: 18
A12: 6 | B12: ¶. Գագիկյան | D12: 337 | F12: 3 | G12: 50 | H12: 10 | I12: 274 | J12: 14 | K12: 101 | L12: 105 | M12: 54
A13: 7 | B13: Գ. Վարդանյան | C13: 47 | D13: 374 | F13: =46+11 -> 57 | G13: =44+34 -> 78 | H13: 111 | I13: =173+2 -> 175 | J13: 10 | K13: =69+2 -> 71 | L13: 60 | M13: 34
A14: 8 | B14: Տ. Գրիգորյան | C14: 29 | D14: 447 | E14: 1 | F14: 49 | G14: =78+20 -> 98 | H14: 28 | I14: =291+9 -> 300 | J14: 9 | K14: =93+4 -> 97 | L14: =78+5 -> 83 | M14: 111
A15: 9 | B15: Ü. ØËÇÃ³ñÛ³Ý | D15: 27 | F15: 1 | H15: 24 | I15: 2 | M15: 2
B19: ÀÝ¹³Ù»ÝÁ | C19: =SUM(C7:C18) -> 90 | D19: =SUM(D7:D18) -> 2940 | E19: =SUM(E7:E18) -> 3 | F19: =SUM(F7:F18) -> 230 | G19: =SUM(G7:G18) -> 523 | H19: =SUM(H7:H18) -> 380 | I19: =SUM(I7:I18) -> 1894 | J19: =SUM(J7:J18) -> 62 | ... M19: =SUM(M7:M18) -> 634

Sheet Արմավիր
B1: Ð²ÞìºîìàôÂÚàôÜ
B2: ÐÐ Արմավիրի մարզի ÁÝ¹Ñ³Ýáõñ Çñ³í³ëáõÃÛ³Ý ¹³ï³ñ³ÝÇ ÏáÕÙÇó í×³ñÙ³Ý Ï³ñ·³¹ñáõÃÛáõÝ ³ñÓ³Ï»Éáõ í³ñáõÛÃÝ»ñÇ ÁÝÃ³óùÇ Ù³ëÇÝ
B3: 2017Ã. Ïիսամյակ
A4: êïáõ·Çã Ñ³í³ë³ñáõÙ` 1+2=3+4+5+6+7, 7=8+9+10+11
A5: Ð/Ñ | B5: ¸³ï³íáñÇ ³ÝáõÝ, ³½·³ÝáõÝ | C5: Ð³ßí»ïáõ Å³Ù³Ý³Ï³ßñç³ÝÇ ëÏ½áõÙ ³Ý³í³ñï í³ñáõÛÃÝ»ñÇ ÙÝ³óáñ¹Á | D5: êï³óí»É ¿ í×³ñÙ³Ý Ï³ñ·³¹ñáõÃÛáõÝ ³ñÓ³Ï»Éáõ Ù³ëÇÝ ¹ÇÙáõÙ | E5: êï³óí»É ¿ ¹ÇÙáõÙ ÁÝÃ³óù ãï³Éáõ Ù³ëÇÝ | F5: Ø»ñÅí»É ¿ | G5: Ø»ñÅí»É ¿ Ù³ëáí | H5: âÇ ³ñÓ³Ïí»É Ñ³ßí»ïáõ Å³Ù³Ý³Ï³ßñç³ÝáõÙ | I5: ²ñÓ³Ïí»É ¿ í×³ñÙ³Ý Ï³ñ·³¹ñáõÃÛáõÝ | J5: êï³óí»É ¿ ³é³ñÏáõÃÛáõÝ | K5: êï³ó»É ¿ ûñÇÝ³Ï³Ý áõÅ | L5: ÂáÕÝí»É ¿ ³ÝÑ»ï¨³Ýù ¨ ûñÇÝ³Ï³Ý áõÅÇ Ù»ç Ùï³Í í×éÇ Ñ»ï¨³Ýù ãÇ ³é³ç³óñ»É | M5: Ð³ßí»ïáõ Å³Ù³Ý³Ï³ßñç³ÝÇ í»ñçáõÙ ³Ý³í³ñï í³ñáõÛÃÝ»ñÇ ÙÝ³óáñ¹Á
C6: 1 | D6: 2 | E6: 3 | F6: 4 | G6: 5 | H6: 6 | I6: 7 | J6: 8 | K6: 9 | L6: 10 | M6: 11
A7: 1 | B7: Ø. Սիմոնյան | D7: 783 | F7: 21 | G7: 38 | H7: 54 | I7: 670 | J7: 27 | K7: 364 | L7: 163 | M7: 116
A8: 2 | B8: ¶. Ֆիդանյան | D8: 668 | F8: 20 | G8: 62 | I8: 586 | J8: 15 | K8: 391 | L8: 110 | M8: 70
A9: 3 | B9: ¾. ÐáíÑ³ÝÝÇëյան | D9: 680 | F9: 17 | I9: 663 | J9: 17 | K9: 254 | L9: 95 | M9: 297
A10: 4 | B10: Ð. Մելքոնյան | D10: 1522 | F10: 175 | G10: 165 | I10: 1182 | J10: 20 | K10: 496 | L10: 4 | M10: 662
A11: 5 | B11: Ü. Գրիգորյան | D11: 380 | E11: 1 | F11: 2 | G11: 94 | H11: 17 | I11: 266 | J11: 9 | K11: 96 | L11: 60 | M11: 101
B19: ÀÝ¹³Ù»ÝÁ | D19: =SUM(D7:D18) -> 4033 | E19: =SUM(E7:E18) -> 1 | F19: =SUM(F7:F18) -> 235 | G19: =SUM(G7:G18) -> 359 | H19: =SUM(H7:H18) -> 71 | I19: =SUM(I7:I18) -> 3367 | J19: =SUM(J7:J18) -> 88 | K19: =SUM(K7:K18) -> 1601 | ... M19: =SUM(M7:M18) -> 1246

Sheet Արարատ
B1: Ð²ÞìºîìàôÂÚàôÜ
B2: ÐÐ Արարատի և Վայոց ձորի մարզ»ñի ÁÝ¹Ñ³Ýáõñ Çñ³í³ëáõÃÛ³Ý ¹³ï³ñ³ÝÇ ÏáÕÙÇó í×³ñÙ³Ý Ï³ñ·³¹ñáõÃÛáõÝ ³ñÓ³Ï»Éáõ í³ñáõÛÃÝ»ñÇ ÁÝÃ³óùÇ Ù³ëÇÝ
B3: 2017Ã. 1-ÇÝ կիսամյակ
A4: êïáõ·Çã Ñ³í³ë³ñáõÙ` 1+2=3+4+5+6+7, 7=8+9+10+11
A5: Ð/Ñ | B5: ¸³ï³íáñÇ ³ÝáõÝ, ³½·³ÝáõÝ | C5: Ð³ßí»ïáõ Å³Ù³Ý³Ï³ßñç³ÝÇ ëÏ½áõÙ ³Ý³í³ñï í³ñáõÛÃÝ»ñÇ ÙÝ³óáñ¹Á | D5: êï³óí»É ¿ í×³ñÙ³Ý Ï³ñ·³¹ñáõÃÛáõÝ ³ñÓ³Ï»Éáõ Ù³ëÇÝ ¹ÇÙáõÙ | E5: êï³óí»É ¿ ¹ÇÙáõÙ ÁÝÃ³óù ãï³Éáõ Ù³ëÇÝ | F5: Ø»ñÅí»É ¿ | G5: Ø»ñÅí»É ¿ Ù³ëáí | H5: âÇ ³ñÓ³Ïí»É Ñ³ßí»ïáõ Å³Ù³Ý³Ï³ßñç³ÝáõÙ | I5: ²ñÓ³Ïí»É ¿ í×³ñÙ³Ý Ï³ñ·³¹ñáõÃÛáõÝ | J5: êï³óí»É ¿ ³é³ñÏáõÃÛáõÝ | K5: êï³ó»É ¿ ûñÇÝ³Ï³Ý áõÅ | L5: ÂáÕÝí»É ¿ ³ÝÑ»ï¨³Ýù ¨ ûñÇÝ³Ï³Ý áõÅÇ Ù»ç Ùï³Í í×éÇ Ñ»ï¨³Ýù ãÇ ³é³ç³óñ»É | M5: Ð³ßí»ïáõ Å³Ù³Ý³Ï³ßñç³ÝÇ í»ñçáõÙ ³Ý³í³ñï í³ñáõÛÃÝ»ñÇ ÙÝ³óáñ¹Á
C6: 1 | D6: 2 | E6: 3 | F6: 4 | G6: 5 | H6: 6 | I6: 7 | J6: 8 | K6: 9 | L6: 10 | M6: 11
A7: 1 | B7: Ե. Քոչարյան | D7: 408 | E7: 1 | F7: 27 | I7: 380 | J7: 5 | K7: 155 | L7: 85 | M7: 135
A8: 2 | B8: Ս. Մատինյան | D8: 419 | G8: 76 | H8: 31 | I8: 312 | J8: 8 | K8: 169 | L8: 38 | M8: 97
A9: 3 | B9: Ս. Սահակյան | D9: 1110 | E9: 3 | F9: 6 | G9: 76 | H9: 181 | I9: 844 | J9: 7 | K9: 149 | L9: 71 | M9: 617
A10: 4 | B10: Գ. Բալյան | D10: 483 | F10: 3 | H10: 35 | I10: 445 | J10: 8 | K10: 149 | L10: 108 | M10: 180
A11: 5 | B11: Ա. Հովհաննիսյան | D11: 2 | I11: 2 | J11: 1 | K11: 1
A12: 6 | B12: Հ. Դարբինյան | D12: 1426 | E12: 4 | H12: 362 | I12: 1060 | J12: 3 | K12: 141 | L12: 154 | M12: 762
B19: ÀÝ¹³Ù»ÝÁ | C19: =SUM(C7:C18) -> 0 | D19: =SUM(D7:D18) -> 3848 | E19: =SUM(E7:E18) -> 8 | F19: =SUM(F7:F18) -> 36 | G19: =SUM(G7:G18) -> 152 | H19: =SUM(H7:H18) -> 609 | I19: =SUM(I7:I18) -> 3043 | J19: =SUM(J7:J18) -> 32 | ... M19: =SUM(M7:M18) -> 1791

Sheet Արագածոտն
B1: Ð²ÞìºîìàôÂÚàôÜ
B2: ÐÐ Արագածոտնի մարզի ÁÝ¹Ñ³Ýáõñ Çñ³í³ëáõÃÛ³Ý ¹³ï³ñ³ÝÇ ÏáÕÙÇó í×³ñÙ³Ý Ï³ñ·³¹ñáõÃÛáõÝ ³ñÓ³Ï»Éáõ í³ñáõÛÃÝ»ñÇ ÁÝÃ³óùÇ Ù³ëÇÝ
B3: 2017Ã. 1-ÇÝ կիսամյակ
A4: êïáõ·Çã Ñ³í³ë³ñáõÙ` 1+2=3+4+5+6+7, 7=8+9+10+11
A5: Ð/Ñ | B5: ¸³ï³íáñÇ ³ÝáõÝ, ³½·³ÝáõÝ | C5: Ð³ßí»ïáõ Å³Ù³Ý³Ï³ßñç³ÝÇ ëÏ½áõÙ ³Ý³í³ñï í³ñáõÛÃÝ»ñÇ ÙÝ³óáñ¹Á | D5: êï³óí»É ¿ í×³ñÙ³Ý Ï³ñ·³¹ñáõÃÛáõÝ ³ñÓ³Ï»Éáõ Ù³ëÇÝ ¹ÇÙáõÙ | E5: êï³óí»É ¿ ¹ÇÙáõÙ ÁÝÃ³óù ãï³Éáõ Ù³ëÇÝ | F5: Ø»ñÅí»É ¿ | G5: Ø»ñÅí»É ¿ Ù³ëáí | H5: âÇ ³ñÓ³Ïí»É Ñ³ßí»ïáõ Å³Ù³Ý³Ï³ßñç³ÝáõÙ | I5: ²ñÓ³Ïí»É ¿ í×³ñÙ³Ý Ï³ñ·³¹ñáõÃÛáõÝ | J5: êï³óí»É ¿ ³é³ñÏáõÃÛáõÝ | K5: êï³ó»É ¿ ûñÇÝ³Ï³Ý áõÅ | L5: ÂáÕÝí»É ¿ ³ÝÑ»ï¨³Ýù ¨ ûñÇÝ³Ï³Ý áõÅÇ Ù»ç Ùï³Í í×éÇ Ñ»ï¨³Ýù ãÇ ³é³ç³óñ»É | M5: Ð³ßí»ïáõ Å³Ù³Ý³Ï³ßñç³ÝÇ í»ñçáõÙ ³Ý³í³ñï í³ñáõÛÃÝ»ñÇ ÙÝ³óáñ¹Á
C6: 1 | D6: 2 | E6: 3 | F6: 4 | G6: 5 | H6: 6 | I6: 7 | J6: 8 | K6: 9 | L6: 10 | M6: 11
A7: 1 | B7: Մ. Մարգարյան | D7: 662 | E7: 0 | F7: 61 | G7: 95 | H7: 71 | I7: 435 | J7: 1 | K7: 181 | L7: 71 | M7: 182
A8: 2 | B8: Ա. Մարգարյան | D8: 400 | E8: 0 | F8: 14 | G8: 60 | H8: 5 | I8: 321 | J8: 10 | K8: 146 | L8: 88 | M8: 77
A9: 3 | B9: Գ. Խաչատրյան | D9: 745 | E9: 6 | F9: 79 | G9: 109 | H9: 59 | I9: 492 | J9: 10 | K9: 213 | L9: 114 | M9: 155
A10: 4 | B10: Գ. Նարինյան
A11: 5
A12: 6
A13: 7
A14: 8
A15: 9
A16: 10
A17: 11
A18: 12
B19: ÀÝ¹³Ù»ÝÁ | C19: =SUM(C7:C18) -> 0 | D19: =SUM(D7:D18) -> 1807 | E19: =SUM(E7:E18) -> 6 | F19: =SUM(F7:F18) -> 154 | G19: =SUM(G7:G18) -> 264 | H19: =SUM(H7:H18) -> 135 | I19: =SUM(I7:I18) -> 1248 | J19: =SUM(J7:J18) -> 21 | ... M19: =SUM(M7:M18) -> 414
