Workbook

Sheet @ndhanur
B1: Ð²ÞìºîìàôÂÚàôÜ
A2: Հավելված 2 Հայաստանի Հանրապետության Դատարանների նախագահների խորհրդի 2007թ. դեկտեմբերի 21-ի թիվ 23Լ որոշման
B3: ÐÐ ÁÝ¹Ñ³Ýáõñ Çñ³í³ëáõÃÛ³Ý ³é³çÇÝ ³ïÛ³ÝÇ ¹³ï³ñ³ÝÇ ÏáÕÙÇó í×³ñÙ³Ý Ï³ñ·³¹ñáõÃÛáõÝ ³ñÓ³Ï»Éáõ í³ñáõÛÃÝ»ñÇ ÁÝÃ³óùÇ Ù³ëÇÝ
A5: êïáõ·Çã Ñ³í³ë³ñáõÙ` 1+2=3+4+5+6+7, 7=8+9+10+11
A6: Ð/Ñ | B6: ¸³ï³íáñÇ ³ÝáõÝ, ³½·³ÝáõÝ | C6: Ð³ßí»ïáõ Å³Ù³Ý³Ï³ßñç³ÝÇ ëÏ½áõÙ ³Ý³í³ñï í³ñáõÛÃÝ»ñÇ ÙÝ³óáñ¹Á | D6: êï³óí»É ¿ í×³ñÙ³Ý Ï³ñ·³¹ñáõÃÛáõÝ ³ñÓ³Ï»Éáõ Ù³ëÇÝ ¹ÇÙáõÙ | E6: ëï³óí»É ¿ ¹ÇÙáõÙ ÁÝÃ³óù ãï³Éáõ Ù³ëÇÝ | F6: Ø»ñÅí»É ¿ | G6: Ø»ñÅí»É ¿ Ù³ëáí | H6: âÇ ³ñÓ³Ïí»É Ñ³ßí»ïáõ Å³Ù³Ý³Ï³ßñç³ÝáõÙ | I6: ²ñÓ³Ïí»É ¿ í×³ñÙ³Ý Ï³ñ·³¹ñáõÃÛáõÝ | J6: êï³óí»É ¿ ³é³ñÏáõÃÛáõÝ | K6: êï³ó»É ¿ ûñÇÝ³Ï³Ý áõÅ | L6: ÂáÕÝí»É ¿ ³ÝÑ»ï¨³Ýù ¨ ûñÇÝ³Ï³Ý áõÅÇ Ù»ç Ùï³Í í×éÇ Ñ»ï¨³Ýù ãÇ ³é³ç³óñ»É | M6: Ð³ßí»ïáõ Å³Ù³Ý³Ï³ßñç³ÝÇ í»ñçáõÙ ³Ý³í³ñï í³ñáõÛÃÝ»ñÇ ÙÝ³óáñ¹Á
C7: 1 | D7: 2 | E7: 3 | F7: 4 | G7: 5 | H7: 6 | I7: 7 | J7: 8 | K7: 9 | L7: 10 | M7: 11
A8: 1
A9: 2
A10: 3
A11: 4
A12: 5
A13: 6
A14: 7
A15: 8
A16: 9
A17: 10
A18: 11
A19: 12
B20: ÁÝ¹³Ù»ÝÁ | C20: =Kentron!C20+Arabkir!C20+Ajapnyak!C20+Avan!C20+Shengavit!C20+Erebuni!C20+Malacia!C20+Armavir!C20+Aragacotn!C20+Ararat!C20+Kotaeq!C20+Gexarquniq!C20+Lori!C19+Syuniq!C20+Shirak!C20+Tavush!C20 -> 5587 | D20: =Kentron!D20+Arabkir!D20+Ajapnyak!D20+Avan!D20+Shengavit!D20+Erebuni!D20+Malacia!D20+Armavir!D20+Aragacotn!D20+Ararat!D20+Kotaeq!D20+Gexarquniq!D20+Lori!D19+Syuniq!D20+Shirak!D20+Tavush!D20 -> 28869 | E20: =Kentron!E20+Arabkir!E20+Ajapnyak!E20+Avan!E20+Shengavit!E20+Erebuni!E20+Malacia!E20+Armavir!E20+Aragacotn!E20+Ararat!E20+Kotaeq!E20+Gexarquniq!E20+Lori!E19+Syuniq!E20+Shirak!E20+Tavush!E20 -> 186 | F20: =Kentron!F20+Arabkir!F20+Ajapnyak!F20+Avan!F20+Shengavit!F20+Erebuni!F20+Malacia!F20+Armavir!F20+Aragacotn!F20+Ararat!F20+Kotaeq!F20+Gexarquniq!F20+Lori!F19+Syuniq!F20+Shirak!F20+Tavush!F20 -> 1692 | G20: =Kentron!G20+Arabkir!G20+Ajapnyak!G20+Avan!G20+Shengavit!G20+Erebuni!G20+Malacia!G20+Armavir!G20+Aragacotn!G20+Ararat!G20+Kotaeq!G20+Gexarquniq!G20+Lori!G19+Syuniq!G20+Shirak!G20+Tavush!G20 -> 292 | H20: =Kentron!H20+Arabkir!H20+Ajapnyak!H20+Avan!H20+Shengavit!H20+Erebuni!H20+Malacia!H20+Armavir!H20+Aragacotn!H20+Ararat!H20+Kotaeq!H20+Gexarquniq!H20+Lori!H19+Syuniq!H20+Shirak!H20+Tavush!H20 -> 6022 | I20: =Kentron!I20+Arabkir!I20+Ajapnyak!I20+Avan!I20+Shengavit!I20+Erebuni!I20+Malacia!I20+Armavir!I20+Aragacotn!I20+Ararat!I20+Kotaeq!I20+Gexarquniq!I20+Lori!I19+Syuniq!I20+Shirak!I20+Tavush!I20 -> 26233 | J20: =Kentron!J20+Arabkir!J20+Ajapnyak!J20+Avan!J20+Shengavit!J20+Erebuni!J20+Malacia!J20+Armavir!J20+Aragacotn!J20+Ararat!J20+Kotaeq!J20+Gexarquniq!J20+Lori!J19+Syuniq!J20+Shirak!J20+Tavush!J20 -> 1442 | ... M20: =Kentron!M20+Arabkir!M20+Ajapnyak!M20+Avan!M20+Shengavit!M20+Erebuni!M20+Malacia!M20+Armavir!M20+Aragacotn!M20+Ararat!M20+Kotaeq!M20+Gexarquniq!M20+Lori!M19+Syuniq!M20+Shirak!M20+Tavush!M20 -> 4585

Sheet Kentron
B1: Ð²ÞìºîìàôÂÚàôÜ
A2: Հավելված 2 Հայաստանի Հանրապետության Դատարանների նախագահների խորհրդի 2007թ. դեկտեմբերի 21-ի թիվ 23Լ որոշման
B3: ÐÐ ÁÝ¹Ñ³Ýáõñ Çñ³í³ëáõÃÛ³Ý ³é³çÇÝ ³ïÛ³ÝÇ ¹³ï³ñ³ÝÇ ÏáÕÙÇó í×³ñÙ³Ý Ï³ñ·³¹ñáõÃÛáõÝ ³ñÓ³Ï»Éáõ í³ñáõÛÃÝ»ñÇ ÁÝÃ³óùÇ Ù³ëÇÝ
A5: êïáõ·Çã Ñ³í³ë³ñáõÙ` 1+2=3+4+5+6+7, 7=8+9+10+11
A6: Ð/Ñ | B6: ¸³ï³íáñÇ ³ÝáõÝ, ³½·³ÝáõÝ | C6: Ð³ßí»ïáõ Å³Ù³Ý³Ï³ßñç³ÝÇ ëÏ½áõÙ ³Ý³í³ñï í³ñáõÛÃÝ»ñÇ ÙÝ³óáñ¹Á | D6: êï³óí»É ¿ í×³ñÙ³Ý Ï³ñ·³¹ñáõÃÛáõÝ ³ñÓ³Ï»Éáõ Ù³ëÇÝ ¹ÇÙáõÙ | E6: ëï³óí»É ¿ ¹ÇÙáõÙ ÁÝÃ³óù ãï³Éáõ Ù³ëÇÝ | F6: Ø»ñÅí»É ¿ | G6: Ø»ñÅí»É ¿ Ù³ëáí | H6: âÇ ³ñÓ³Ïí»É Ñ³ßí»ïáõ Å³Ù³Ý³Ï³ßñç³ÝáõÙ | I6: ²ñÓ³Ïí»É ¿ í×³ñÙ³Ý Ï³ñ·³¹ñáõÃÛáõÝ | J6: êï³óí»É ¿ ³é³ñÏáõÃÛáõÝ | K6: êï³ó»É ¿ ûñÇÝ³Ï³Ý áõÅ | L6: ÂáÕÝí»É ¿ ³ÝÑ»ï¨³Ýù ¨ ûñÇÝ³Ï³Ý áõÅÇ Ù»ç Ùï³Í í×éÇ Ñ»ï¨³Ýù ãÇ ³é³ç³óñ»É | M6: Ð³ßí»ïáõ Å³Ù³Ý³Ï³ßñç³ÝÇ í»ñçáõÙ ³Ý³í³ñï í³ñáõÛÃÝ»ñÇ ÙÝ³óáñ¹Á
C7: 1 | D7: 2 | E7: 3 | F7: 4 | G7: 5 | H7: 6 | I7: 7 | J7: 8 | K7: 9 | L7: 10 | M7: 11
A8: 1 | B8: Ա.Մելքումյան | C8: 266 | D8: 422 | F8: 11 | G8: 14 | H8: 456 | I8: 207 | K8: 110 | M8: 97
A9: 2 | B9: Կ.Պետրոսյան
A10: 3 | B10: Ա.Սուքոյան
A11: 4 | B11: Էդ.Ավետիսյան | C11: 312 | D11: 346 | F11: 60 | H11: 314 | I11: 284 | J11: 26 | K11: 240 | M11: 18
A12: 5 | B12: Ռ.Ափինյան | C12: 164 | D12: 412 | F12: 2 | G12: 1 | H12: 256 | I12: 317 | J12: 21 | K12: 194 | M12: 102
A13: 6 | B13: Ս.Թադևոսյան | C13: 68 | D13: 422 | G13: 4 | H13: 118 | I13: 368 | J13: 9 | K13: 214 | M13: 145
A14: 7 | B14: Գ.Խանդանյան | C14: 204 | D14: 342 | E14: 3 | F14: 22 | H14: 206 | I14: 315 | J14: 18 | K14: 67 | L14: 13 | M14: 217
A15: 8 | B15: Գ.Կարախանյան | C15: 63 | D15: 345 | E15: 8 | H15: 78 | I15: 322 | J15: 10 | K15: 215 | L15: 87 | M15: 10
A16: 9 | B16: Ռ.Ներսիսյան | C16: 54 | D16: 337 | F16: 8 | H16: 132 | I16: 251 | J16: 12 | K16: 191 | L16: 13 | M16: 35
A17: 10
A18: 11
A19: 12
B20: ÁÝ¹³Ù»ÝÁ | C20: =SUM(C8:C19) -> 1131 | D20: =SUM(D8:D19) -> 2626 | E20: =SUM(E8:E19) -> 11 | F20: =SUM(F8:F19) -> 103 | G20: =SUM(G8:G19) -> 19 | H20: =SUM(H8:H19) -> 1560 | I20: =SUM(I8:I19) -> 2064 | J20: =SUM(J8:J19) -> 96 | ... M20: =SUM(M8:M19) -> 624

Sheet Arabkir
B1: Ð²ÞìºîìàôÂÚàôÜ
A2: Հավելված 2 Հայաստանի Հանրապետության Դատարանների նախագահների խորհրդի 2007թ. դեկտեմբերի 21-ի թիվ 23Լ որոշման
B3: ÐÐ ÁÝ¹Ñ³Ýáõñ Çñ³í³ëáõÃÛ³Ý ³é³çÇÝ ³ïÛ³ÝÇ ¹³ï³ñ³ÝÇ ÏáÕÙÇó í×³ñÙ³Ý Ï³ñ·³¹ñáõÃÛáõÝ ³ñÓ³Ï»Éáõ í³ñáõÛÃÝ»ñÇ ÁÝÃ³óùÇ Ù³ëÇÝ
A5: êïáõ·Çã Ñ³í³ë³ñáõÙ` 1+2=3+4+5+6+7, 7=8+9+10+11
A6: Ð/Ñ | B6: ¸³ï³íáñÇ ³ÝáõÝ, ³½·³ÝáõÝ | C6: Ð³ßí»ïáõ Å³Ù³Ý³Ï³ßñç³ÝÇ ëÏ½áõÙ ³Ý³í³ñï í³ñáõÛÃÝ»ñÇ ÙÝ³óáñ¹Á | D6: êï³óí»É ¿ í×³ñÙ³Ý Ï³ñ·³¹ñáõÃÛáõÝ ³ñÓ³Ï»Éáõ Ù³ëÇÝ ¹ÇÙáõÙ | E6: ëï³óí»É ¿ ¹ÇÙáõÙ ÁÝÃ³óù ãï³Éáõ Ù³ëÇÝ | F6: Ø»ñÅí»É ¿ | G6: Ø»ñÅí»É ¿ Ù³ëáí | H6: âÇ ³ñÓ³Ïí»É Ñ³ßí»ïáõ Å³Ù³Ý³Ï³ßñç³ÝáõÙ | I6: ²ñÓ³Ïí»É ¿ í×³ñÙ³Ý Ï³ñ·³¹ñáõÃÛáõÝ | J6: êï³óí»É ¿ ³é³ñÏáõÃÛáõÝ | K6: êï³ó»É ¿ ûñÇÝ³Ï³Ý áõÅ | L6: ÂáÕÝí»É ¿ ³ÝÑ»ï¨³Ýù ¨ ûñÇÝ³Ï³Ý áõÅÇ Ù»ç Ùï³Í í×éÇ Ñ»ï¨³Ýù ãÇ ³é³ç³óñ»É | M6: Ð³ßí»ïáõ Å³Ù³Ý³Ï³ßñç³ÝÇ í»ñçáõÙ ³Ý³í³ñï í³ñáõÛÃÝ»ñÇ ÙÝ³óáñ¹Á
C7: 1 | D7: 2 | E7: 3 | F7: 4 | G7: 5 | H7: 6 | I7: 7 | J7: 8 | K7: 9 | L7: 10 | M7: 11
A8: 1 | B8: Ս. Հովսեփյան | C8: 47 | D8: 615 | E8: 63 | F8: 1 | I8: 598 | J8: 20 | K8: 277 | L8: 5 | M8: 296
A9: 2 | B9: Ա.Հունանյան | C9: 309 | D9: 589 | E9: 3 | G9: 1 | H9: 617 | I9: 277 | J9: 23 | K9: 234 | M9: 20
A10: 3 | B10: Ս.Արամյան | C10: 38 | D10: 642 | H10: 279 | I10: 401 | J10: 4 | K10: 92 | M10: 305
A11: 4 | B11: Ա.Դանիելյան | C11: 0 | D11: 0 | E11: 0 | F11: 0 | G11: 0 | H11: 0 | I11: 0 | J11: 0 | K11: 0 | L11: 0 | M11: 0
A12: 5 | B12: Ռ.Բունիաթյան | C12: 81 | D12: 659 | E12: 4 | F12: 22 | G12: 1 | H12: 135 | I12: 578 | J12: 37 | K12: 271 | M12: 270
A13: 6 | B13: Գ.Ավագյան | C13: 0 | D13: 0 | E13: 0 | F13: 0 | G13: 0 | H13: 0 | I13: 0 | J13: 0 | K13: 0 | L13: 0 | M13: 0
A14: 7
A15: 8
A16: 9
A17: 10
A18: 11
A19: 12
B20: ÁÝ¹³Ù»ÝÁ | C20: =SUM(C8:C19) -> 475 | D20: =SUM(D8:D19) -> 2505 | E20: =SUM(E8:E19) -> 70 | F20: =SUM(F8:F19) -> 23 | G20: =SUM(G8:G19) -> 2 | H20: =SUM(H8:H19) -> 1031 | I20: =SUM(I8:I19) -> 1854 | J20: =SUM(J8:J19) -> 84 | ... M20: =SUM(M8:M19) -> 0

Sheet Ajapnyak
B1: Ð²ÞìºîìàôÂÚàôÜ
A2: Հավելված 2 Հայաստանի Հանրապետության Դատարանների նախագահների խորհրդի 2007թ. դեկտեմբերի 21-ի թիվ 23Լ որոշման
B3: ÐÐ ÁÝ¹Ñ³Ýáõñ Çñ³í³ëáõÃÛ³Ý ³é³çÇÝ ³ïÛ³ÝÇ ¹³ï³ñ³ÝÇ ÏáÕÙÇó í×³ñÙ³Ý Ï³ñ·³¹ñáõÃÛáõÝ ³ñÓ³Ï»Éáõ í³ñáõÛÃÝ»ñÇ ÁÝÃ³óùÇ Ù³ëÇÝ
A5: êïáõ·Çã Ñ³í³ë³ñáõÙ` 1+2=3+4+5+6+7, 7=8+9+10+11
A6: Ð/Ñ | B6: ¸³ï³íáñÇ ³ÝáõÝ, ³½·³ÝáõÝ | C6: Ð³ßí»ïáõ Å³Ù³Ý³Ï³ßñç³ÝÇ ëÏ½áõÙ ³Ý³í³ñï í³ñáõÛÃÝ»ñÇ ÙÝ³óáñ¹Á | D6: êï³óí»É ¿ í×³ñÙ³Ý Ï³ñ·³¹ñáõÃÛáõÝ ³ñÓ³Ï»Éáõ Ù³ëÇÝ ¹ÇÙáõÙ | E6: ëï³óí»É ¿ ¹ÇÙáõÙ ÁÝÃ³óù ãï³Éáõ Ù³ëÇÝ | F6: Ø»ñÅí»É ¿ | G6: Ø»ñÅí»É ¿ Ù³ëáí | H6: âÇ ³ñÓ³Ïí»É Ñ³ßí»ïáõ Å³Ù³Ý³Ï³ßñç³ÝáõÙ | I6: ²ñÓ³Ïí»É ¿ í×³ñÙ³Ý Ï³ñ·³¹ñáõÃÛáõÝ | J6: êï³óí»É ¿ ³é³ñÏáõÃÛáõÝ | K6: êï³ó»É ¿ ûñÇÝ³Ï³Ý áõÅ | L6: ÂáÕÝí»É ¿ ³ÝÑ»ï¨³Ýù ¨ ûñÇÝ³Ï³Ý áõÅÇ Ù»ç Ùï³Í í×éÇ Ñ»ï¨³Ýù ãÇ ³é³ç³óñ»É | M6: Ð³ßí»ïáõ Å³Ù³Ý³Ï³ßñç³ÝÇ í»ñçáõÙ ³Ý³í³ñï í³ñáõÛÃÝ»ñÇ ÙÝ³óáñ¹Á
C7: 1 | D7: 2 | E7: 3 | F7: 4 | G7: 5 | H7: 6 | I7: 7 | J7: 8 | K7: 9 | L7: 10 | M7: 11
A8: 1 | B8: ²ñÃáõñ êÙµ³ïÛ³Ý | C8: 84 | D8: 429 | E8: 0 | F8: 11 | G8: 2 | H8: 155 | I8: 345 | J8: 12 | K8: 343 | L8: 53 | M8: 92
A9: 2 | B9: Ø³ñ·³ñÇï³ Ð³ñÃ»ÝÛ³Ý | C9: 323 | D9: 352 | E9: 0 | F9: 4 | G9: 0 | H9: 349 | I9: 322 | J9: 7 | K9: 395 | L9: 133 | M9: 136
A10: 3 | B10: ²ÝÇ ØËÇÃ³ñÛ³Ý | C10: 225 | D10: 370 | E10: 0 | F10: 11 | G10: 1 | H10: 229 | I10: 354 | J10: 17 | K10: 347 | L10: 158 | M10: 61
A11: 4 | B11: Ü³Çñ³ ²í»ïÇëÛ³Ý | C11: 170 | D11: 184 | E11: 1 | F11: 3 | G11: 2 | H11: 122 | I11: 226 | J11: 16 | K11: 254 | L11: 78 | M11: 0
A12: 5 | B12: ²ñÃáõñ ²Ã³µ»ÏÛ³Ý | C12: 0 | D12: 111 | E12: 0 | F12: 2 | G12: 0 | H12: 50 | I12: 59 | J12: 1 | K12: 3 | L12: 0 | M12: 105
A13: 6
A14: 7
A15: 8
A16: 9
A17: 10
A18: 11
A19: 12
B20: ÁÝ¹³Ù»ÝÁ | C20: =SUM(C8:C19) -> 802 | D20: =SUM(D8:D19) -> 1446 | E20: =SUM(E8:E19) -> 1 | F20: =SUM(F8:F19) -> 31 | G20: =SUM(G8:G19) -> 5 | H20: =SUM(H8:H19) -> 905 | I20: =SUM(I8:I19) -> 1306 | J20: =SUM(J8:J19) -> 53 | ... M20: =SUM(M8:M19) -> 394

Sheet Avan
B1: Ð²ÞìºîìàôÂÚàôÜ
A2: Հավելված 2 Հայաստանի Հանրապետության Դատարանների նախագահների խորհրդի 2007թ. դեկտեմբերի 21-ի թիվ 23Լ որոշման
B3: ÐÐ ÁÝ¹Ñ³Ýáõñ Çñ³í³ëáõÃÛ³Ý ³é³çÇÝ ³ïÛ³ÝÇ ¹³ï³ñ³ÝÇ ÏáÕÙÇó í×³ñÙ³Ý Ï³ñ·³¹ñáõÃÛáõÝ ³ñÓ³Ï»Éáõ í³ñáõÛÃÝ»ñÇ ÁÝÃ³óùÇ Ù³ëÇÝ
A5: êïáõ·Çã Ñ³í³ë³ñáõÙ` 1+2=3+4+5+6+7, 7=8+9+10+11
A6: Ð/Ñ | B6: ¸³ï³íáñÇ ³ÝáõÝ, ³½·³ÝáõÝ | C6: Ð³ßí»ïáõ Å³Ù³Ý³Ï³ßñç³ÝÇ ëÏ½áõÙ ³Ý³í³ñï í³ñáõÛÃÝ»ñÇ ÙÝ³óáñ¹Á | D6: êï³óí»É ¿ í×³ñÙ³Ý Ï³ñ·³¹ñáõÃÛáõÝ ³ñÓ³Ï»Éáõ Ù³ëÇÝ ¹ÇÙáõÙ | E6: ëï³óí»É ¿ ¹ÇÙáõÙ ÁÝÃ³óù ãï³Éáõ Ù³ëÇÝ | F6: Ø»ñÅí»É ¿ | G6: Ø»ñÅí»É ¿ Ù³ëáí | H6: âÇ ³ñÓ³Ïí»É Ñ³ßí»ïáõ Å³Ù³Ý³Ï³ßñç³ÝáõÙ | I6: ²ñÓ³Ïí»É ¿ í×³ñÙ³Ý Ï³ñ·³¹ñáõÃÛáõÝ | J6: êï³óí»É ¿ ³é³ñÏáõÃÛáõÝ | K6: êï³ó»É ¿ ûñÇÝ³Ï³Ý áõÅ | L6: ÂáÕÝí»É ¿ ³ÝÑ»ï¨³Ýù ¨ ûñÇÝ³Ï³Ý áõÅÇ Ù»ç Ùï³Í í×éÇ Ñ»ï¨³Ýù ãÇ ³é³ç³óñ»É | M6: Ð³ßí»ïáõ Å³Ù³Ý³Ï³ßñç³ÝÇ í»ñçáõÙ ³Ý³í³ñï í³ñáõÛÃÝ»ñÇ ÙÝ³óáñ¹Á
C7: 1 | D7: 2 | E7: 3 | F7: 4 | G7: 5 | H7: 6 | I7: 7 | J7: 8 | K7: 9 | L7: 10 | M7: 11
A8: 1 | B8: Մազմանյան | C8: 20 | D8: 439 | F8: 14 | G8: 1 | H8: 104 | I8: 340 | J8: 10 | K8: 217 | L8: 73 | M8: 40
A9: 2 | B9: Մարգարյան | C9: 19 | D9: 442 | E9: 3 | F9: 10 | H9: 81 | I9: 367 | J9: 14 | K9: 263 | L9: 90
A10: 3 | B10: Պետրոսյան
A11: 4 | B11: Բաբայան
A12: 5 | B12: Ամալյան | C12: 22 | D12: 278 | F12: 11 | G12: 1 | I12: 288 | J12: 12 | K12: 167 | L12: 67 | M12: 42
A13: 6 | B13: Բադիրյան | C13: 31 | D13: 337 | E13: 1 | F13: 11 | G13: 1 | I13: 355 | J13: 8 | K13: 190 | L13: 100 | M13: 57
A14: 7 | B14: Դավթյան | C14: 33 | D14: 406 | E14: 1 | F14: 5 | H14: 105 | I14: 328 | J14: 14 | K14: 194 | L14: 70 | M14: 50
A15: 8
A16: 9
A17: 10
A18: 11
A19: 12
B20: ÁÝ¹³Ù»ÝÁ | C20: =SUM(C8:C19) -> 125 | D20: =SUM(D8:D19) -> 1902 | E20: =SUM(E8:E19) -> 5 | F20: =SUM(F8:F19) -> 51 | G20: =SUM(G8:G19) -> 3 | H20: =SUM(H8:H19) -> 290 | I20: =SUM(I8:I19) -> 1678 | J20: =SUM(J8:J19) -> 58 | ... M20: =SUM(M8:M19) -> 189

Sheet Shengavit
B1: Ð²ÞìºîìàôÂÚàôÜ
A2: Հավելված 2 Հայաստանի Հանրապետության Դատարանների նախագահների խորհրդի 2007թ. դեկտեմբերի 21-ի թիվ 23Լ որոշման
B3: ÐÐ ÁÝ¹Ñ³Ýáõñ Çñ³í³ëáõÃÛ³Ý ³é³çÇÝ ³ïÛ³ÝÇ ¹³ï³ñ³ÝÇ ÏáÕÙÇó í×³ñÙ³Ý Ï³ñ·³¹ñáõÃÛáõÝ ³ñÓ³Ï»Éáõ í³ñáõÛÃÝ»ñÇ ÁÝÃ³óùÇ Ù³ëÇÝ
A5: êïáõ·Çã Ñ³í³ë³ñáõÙ` 1+2=3+4+5+6+7, 7=8+9+10+11
A6: Ð/Ñ | B6: ¸³ï³íáñÇ ³ÝáõÝ, ³½·³ÝáõÝ | C6: Ð³ßí»ïáõ Å³Ù³Ý³Ï³ßñç³ÝÇ ëÏ½áõÙ ³Ý³í³ñï í³ñáõÛÃÝ»ñÇ ÙÝ³óáñ¹Á | D6: êï³óí»É ¿ í×³ñÙ³Ý Ï³ñ·³¹ñáõÃÛáõÝ ³ñÓ³Ï»Éáõ Ù³ëÇÝ ¹ÇÙáõÙ | E6: ëï³óí»É ¿ ¹ÇÙáõÙ ÁÝÃ³óù ãï³Éáõ Ù³ëÇÝ | F6: Ø»ñÅí»É ¿ | G6: Ø»ñÅí»É ¿ Ù³ëáí | H6: âÇ ³ñÓ³Ïí»É Ñ³ßí»ïáõ Å³Ù³Ý³Ï³ßñç³ÝáõÙ | I6: ²ñÓ³Ïí»É ¿ í×³ñÙ³Ý Ï³ñ·³¹ñáõÃÛáõÝ | J6: êï³óí»É ¿ ³é³ñÏáõÃÛáõÝ | K6: êï³ó»É ¿ ûñÇÝ³Ï³Ý áõÅ | L6: ÂáÕÝí»É ¿ ³ÝÑ»ï¨³Ýù ¨ ûñÇÝ³Ï³Ý áõÅÇ Ù»ç Ùï³Í í×éÇ Ñ»ï¨³Ýù ãÇ ³é³ç³óñ»É | M6: Ð³ßí»ïáõ Å³Ù³Ý³Ï³ßñç³ÝÇ í»ñçáõÙ ³Ý³í³ñï í³ñáõÛÃÝ»ñÇ ÙÝ³óáñ¹Á
C7: 1 | D7: 2 | E7: 3 | F7: 4 | G7: 5 | H7: 6 | I7: 7 | J7: 8 | K7: 9 | L7: 10 | M7: 11
A8: 1 | B8: Ն. Հովսեփյան | C8: 0 | D8: 422 | E8: 3 | F8: 0 | G8: 0 | H8: 0 | I8: 419 | J8: 17 | K8: 268 | L8: 83 | M8: 51
A9: 2 | B9: Ա. Չիչոյան | C9: 16 | D9: 555 | E9: 0 | F9: 1 | G9: 0 | H9: 52 | I9: 518 | J9: 21 | K9: 216 | L9: 187 | M9: 94
A10: 3 | B10: Ա. Կուբանյան | C10: 2 | D10: 524 | E10: 0 | F10: 5 | G10: 0 | H10: 0 | I10: 521 | J10: 32 | K10: 218 | L10: 156 | M10: 115
A11: 4 | B11: Ի. Բարսեղյան | C11: 2 | D11: 507 | E11: 3 | F11: 0 | G11: 0 | H11: 0 | I11: 506 | J11: 32 | K11: 309 | L11: 91 | M11: 74
A12: 5
A13: 6
A14: 7
A15: 8
A16: 9
A17: 10
A18: 11
A19: 12
B20: ÁÝ¹³Ù»ÝÁ | C20: =SUM(C8:C19) -> 20 | D20: =SUM(D8:D19) -> 2008 | E20: =SUM(E8:E19) -> 6 | F20: =SUM(F8:F19) -> 6 | G20: =SUM(G8:G19) -> 0 | H20: =SUM(H8:H19) -> 52 | I20: =SUM(I8:I19) -> 1964 | J20: =SUM(J8:J19) -> 102 | ... M20: =SUM(M8:M19) -> 334

Sheet Erebuni
B1: Ð²ÞìºîìàôÂÚàôÜ
A2: Հավելված 2 Հայաստանի Հանրապետության Դատարանների նախագահների խորհրդի 2007թ. դեկտեմբերի 21-ի թիվ 23Լ որոշման
B3: ÐÐ ÁÝ¹Ñ³Ýáõñ Çñ³í³ëáõÃÛ³Ý ³é³çÇÝ ³ïÛ³ÝÇ ¹³ï³ñ³ÝÇ ÏáÕÙÇó í×³ñÙ³Ý Ï³ñ·³¹ñáõÃÛáõÝ ³ñÓ³Ï»Éáõ í³ñáõÛÃÝ»ñÇ ÁÝÃ³óùÇ Ù³ëÇÝ
A5: êïáõ·Çã Ñ³í³ë³ñáõÙ` 1+2=3+4+5+6+7, 7=8+9+10+11
A6: Ð/Ñ | B6: ¸³ï³íáñÇ ³ÝáõÝ, ³½·³ÝáõÝ | C6: Ð³ßí»ïáõ Å³Ù³Ý³Ï³ßñç³ÝÇ ëÏ½áõÙ ³Ý³í³ñï í³ñáõÛÃÝ»ñÇ ÙÝ³óáñ¹Á | D6: êï³óí»É ¿ í×³ñÙ³Ý Ï³ñ·³¹ñáõÃÛáõÝ ³ñÓ³Ï»Éáõ Ù³ëÇÝ ¹ÇÙáõÙ | E6: ëï³óí»É ¿ ¹ÇÙáõÙ ÁÝÃ³óù ãï³Éáõ Ù³ëÇÝ | F6: Ø»ñÅí»É ¿ | G6: Ø»ñÅí»É ¿ Ù³ëáí | H6: âÇ ³ñÓ³Ïí»É Ñ³ßí»ïáõ Å³Ù³Ý³Ï³ßñç³ÝáõÙ | I6: ²ñÓ³Ïí»É ¿ í×³ñÙ³Ý Ï³ñ·³¹ñáõÃÛáõÝ | J6: êï³óí»É ¿ ³é³ñÏáõÃÛáõÝ | K6: êï³ó»É ¿ ûñÇÝ³Ï³Ý áõÅ | L6: ÂáÕÝí»É ¿ ³ÝÑ»ï¨³Ýù ¨ ûñÇÝ³Ï³Ý áõÅÇ Ù»ç Ùï³Í í×éÇ Ñ»ï¨³Ýù ãÇ ³é³ç³óñ»É | M6: Ð³ßí»ïáõ Å³Ù³Ý³Ï³ßñç³ÝÇ í»ñçáõÙ ³Ý³í³ñï í³ñáõÛÃÝ»ñÇ ÙÝ³óáñ¹Á
C7: 1 | D7: 2 | E7: 3 | F7: 4 | G7: 5 | H7: 6 | I7: 7 | J7: 8 | K7: 9 | L7: 10 | M7: 11
A8: 1 | B8: Ա.Մերանգուլյան | D8: 117 | I8: 117 | J8: 5 | K8: 76 | L8: 33 | M8: 3
A9: 2 | B9: Վ.Ասլանյան | D9: 416 | F9: 15 | I9: 401 | J9: 7 | K9: 218 | L9: 101 | M9: 75
A10: 3 | B10: Ե.Եսոյան | D10: 450 | F10: 18 | G10: 2 | H10: 13 | I10: 417 | J10: 11 | K10: 241 | L10: 94 | M10: 71
A11: 4 | B11: Գ.Խաչատրյան | D11: 405 | E11: 2 | F11: 2 | H11: 21 | I11: 380 | J11: 14 | K11: 196 | L11: 124 | M11: 46
A12: 5 | B12: Լ. Գրիգորյան | D12: 172 | F12: 2 | G12: 19 | H12: 61 | I12: 90 | J12: 1 | K12: 27 | L12: 24 | M12: 38
A13: 6
A14: 7
A15: 8
A16: 9
A17: 10
A18: 11
A19: 12
B20: ÁÝ¹³Ù»ÝÁ | C20: =SUM(C8:C19) -> 0 | D20: =SUM(D8:D19) -> 1560 | E20: =SUM(E8:E19) -> 2 | F20: =SUM(F8:F19) -> 37 | G20: =SUM(G8:G19) -> 21 | H20: =SUM(H8:H19) -> 95 | I20: =SUM(I8:I19) -> 1405 | J20: =SUM(J8:J19) -> 38 | ... M20: =SUM(M8:M19) -> 233

Sheet Malacia
B1: Ð²ÞìºîìàôÂÚàôÜ
A2: Հավելված 2 Հայաստանի Հանրապետության Դատարանների նախագահների խորհրդի 2007թ. դեկտեմբերի 21-ի թիվ 23Լ որոշման
B3: ÐÐ ÁÝ¹Ñ³Ýáõñ Çñ³í³ëáõÃÛ³Ý ³é³çÇÝ ³ïÛ³ÝÇ ¹³ï³ñ³ÝÇ ÏáÕÙÇó í×³ñÙ³Ý Ï³ñ·³¹ñáõÃÛáõÝ ³ñÓ³Ï»Éáõ í³ñáõÛÃÝ»ñÇ ÁÝÃ³óùÇ Ù³ëÇÝ
A5: êïáõ·Çã Ñ³í³ë³ñáõÙ` 1+2=3+4+5+6+7, 7=8+9+10+11
A6: Ð/Ñ | B6: ¸³ï³íáñÇ ³ÝáõÝ, ³½·³ÝáõÝ | C6: Ð³ßí»ïáõ Å³Ù³Ý³Ï³ßñç³ÝÇ ëÏ½áõÙ ³Ý³í³ñï í³ñáõÛÃÝ»ñÇ ÙÝ³óáñ¹Á | D6: êï³óí»É ¿ í×³ñÙ³Ý Ï³ñ·³¹ñáõÃÛáõÝ ³ñÓ³Ï»Éáõ Ù³ëÇÝ ¹ÇÙáõÙ | E6: ëï³óí»É ¿ ¹ÇÙáõÙ ÁÝÃ³óù ãï³Éáõ Ù³ëÇÝ | F6: Ø»ñÅí»É ¿ | G6: Ø»ñÅí»É ¿ Ù³ëáí | H6: âÇ ³ñÓ³Ïí»É Ñ³ßí»ïáõ Å³Ù³Ý³Ï³ßñç³ÝáõÙ | I6: ²ñÓ³Ïí»É ¿ í×³ñÙ³Ý Ï³ñ·³¹ñáõÃÛáõÝ | J6: êï³óí»É ¿ ³é³ñÏáõÃÛáõÝ | K6: êï³ó»É ¿ ûñÇÝ³Ï³Ý áõÅ | L6: ÂáÕÝí»É ¿ ³ÝÑ»ï¨³Ýù ¨ ûñÇÝ³Ï³Ý áõÅÇ Ù»ç Ùï³Í í×éÇ Ñ»ï¨³Ýù ãÇ ³é³ç³óñ»É | M6: Ð³ßí»ïáõ Å³Ù³Ý³Ï³ßñç³ÝÇ í»ñçáõÙ ³Ý³í³ñï í³ñáõÛÃÝ»ñÇ ÙÝ³óáñ¹Á
C7: 1 | D7: 2 | E7: 3 | F7: 4 | G7: 5 | H7: 6 | I7: 7 | J7: 8 | K7: 9 | L7: 10 | M7: 11
A8: 1 | B8: Ð.ÐáíÑ³ÝÝÇëÛ³Ý | C8: 85 | D8: 629 | E8: 4 | H8: 115 | I8: 595 | J8: 8 | K8: 250 | L8: 187 | M8: 150
A9: 2 | B9: Ն. Կարապետյան | C9: 93 | D9: 83 | E9: 3 | F9: 14 | I9: 159 | J9: 8 | K9: 114 | L9: 37
A10: 3 | B10: ².ØÏñïãÛ³Ý | C10: 88 | D10: 603 | E10: 13 | F10: 374 | H10: 66 | I10: 238 | J10: 3 | K10: 63 | L10: 40 | M10: 132
A11: 4 | B11: Լ. Կատվալյան | C11: 0 | D11: 620 | F11: 37 | H11: 162 | I11: 421 | J11: 13 | K11: 203 | L11: 122 | M11: 83
A12: 5
A13: 6
A14: 7
A15: 8
A16: 9
A17: 10
A18: 11
A19: 12
B20: ÁÝ¹³Ù»ÝÁ | C20: =SUM(C8:C19) -> 266 | D20: =SUM(D8:D19) -> 1935 | E20: =SUM(E8:E19) -> 20 | F20: =SUM(F8:F19) -> 425 | G20: =SUM(G8:G19) -> 0 | H20: =SUM(H8:H19) -> 343 | I20: =SUM(I8:I19) -> 1413 | J20: =SUM(J8:J19) -> 32 | ... M20: =SUM(M8:M19) -> 365

Sheet Armavir
B1: Ð²ÞìºîìàôÂÚàôÜ
A2: Հավելված 2 Հայաստանի Հանրապետության Դատարանների նախագահների խորհրդի 2007թ. դեկտեմբերի 21-ի թիվ 23Լ որոշման
B3: ÐÐ ÁÝ¹Ñ³Ýáõñ Çñ³í³ëáõÃÛ³Ý ³é³çÇÝ ³ïÛ³ÝÇ ¹³ï³ñ³ÝÇ ÏáÕÙÇó í×³ñÙ³Ý Ï³ñ·³¹ñáõÃÛáõÝ ³ñÓ³Ï»Éáõ í³ñáõÛÃÝ»ñÇ ÁÝÃ³óùÇ Ù³ëÇÝ
A5: êïáõ·Çã Ñ³í³ë³ñáõÙ` 1+2=3+4+5+6+7, 7=8+9+10+11
A6: Ð/Ñ | B6: ¸³ï³íáñÇ ³ÝáõÝ, ³½·³ÝáõÝ | C6: Ð³ßí»ïáõ Å³Ù³Ý³Ï³ßñç³ÝÇ ëÏ½áõÙ ³Ý³í³ñï í³ñáõÛÃÝ»ñÇ ÙÝ³óáñ¹Á | D6: êï³óí»É ¿ í×³ñÙ³Ý Ï³ñ·³¹ñáõÃÛáõÝ ³ñÓ³Ï»Éáõ Ù³ëÇÝ ¹ÇÙáõÙ | E6: ëï³óí»É ¿ ¹ÇÙáõÙ ÁÝÃ³óù ãï³Éáõ Ù³ëÇÝ | F6: Ø»ñÅí»É ¿ | G6: Ø»ñÅí»É ¿ Ù³ëáí | H6: âÇ ³ñÓ³Ïí»É Ñ³ßí»ïáõ Å³Ù³Ý³Ï³ßñç³ÝáõÙ | I6: ²ñÓ³Ïí»É ¿ í×³ñÙ³Ý Ï³ñ·³¹ñáõÃÛáõÝ | J6: êï³óí»É ¿ ³é³ñÏáõÃÛáõÝ | K6: êï³ó»É ¿ ûñÇÝ³Ï³Ý áõÅ | L6: ÂáÕÝí»É ¿ ³ÝÑ»ï¨³Ýù ¨ ûñÇÝ³Ï³Ý áõÅÇ Ù»ç Ùï³Í í×éÇ Ñ»ï¨³Ýù ãÇ ³é³ç³óñ»É | M6: Ð³ßí»ïáõ Å³Ù³Ý³Ï³ßñç³ÝÇ í»ñçáõÙ ³Ý³í³ñï í³ñáõÛÃÝ»ñÇ ÙÝ³óáñ¹Á
C7: 1 | D7: 2 | E7: 3 | F7: 4 | G7: 5 | H7: 6 | I7: 7 | J7: 8 | K7: 9 | L7: 10 | M7: 11
A8: 1 | B8: Մելքոնյան Հովհաննես | C8: 21 | D8: 407 | E8: 0 | F8: 18 | G8: 51 | H8: 0 | I8: 359 | J8: 8 | K8: 190 | L8: 98 | M8: 63
A9: 2 | B9: Նարինյան Գևորգ | D9: 171 | E9: 0 | F9: 62 | G9: 0 | H9: 35 | I9: 74 | J9: 2 | K9: 28 | L9: 14 | M9: 30
A10: 3 | B10: Գրիգորյան Նաիրա | C10: 22 | D10: 361 | E10: 0 | F10: 0 | G10: 0 | H10: 85 | I10: 298 | J10: 12 | K10: 133 | L10: 76 | M10: 77
A11: 4 | B11: Հովսեփյան Արամ | D11: 197 | E11: 0 | F11: 0 | G11: 0 | I11: 197 | J11: 3 | K11: 155 | L11: 39 | M11: 0
A12: 5 | B12: Սիմոնյան Մանվել | D12: 501 | E12: 0 | F12: 0 | G12: 0 | I12: 501 | J12: 20 | K12: 416 | L12: 32 | M12: 33
A13: 6 | B13: Ֆիդանյան Գոհար | D13: 290 | E13: 0 | F13: 0 | G13: 0 | I13: 290 | J13: 10 | K13: 205 | L13: 35 | M13: 40
A14: 7
A15: 8
A16: 9
A17: 10
A18: 11
A19: 12
B20: ÁÝ¹³Ù»ÝÁ | C20: =SUM(C8:C19) -> 43 | D20: =SUM(D8:D19) -> 1927 | E20: =SUM(E8:E19) -> 0 | F20: =SUM(F8:F19) -> 80 | G20: =SUM(G8:G19) -> 51 | H20: =SUM(H8:H19) -> 120 | I20: =SUM(I8:I19) -> 1719 | J20: =SUM(J8:J19) -> 55 | ... M20: =SUM(M8:M19) -> 243

Sheet Aragacotn
B1: Ð²ÞìºîìàôÂÚàôÜ
A2: Հավելված 2 Հայաստանի Հանրապետության Դատարանների նախագահների խորհրդի 2007թ. դեկտեմբերի 21-ի թիվ 23Լ որոշման
B3: ÐÐ ÁÝ¹Ñ³Ýáõñ Çñ³í³ëáõÃÛ³Ý ³é³çÇÝ ³ïÛ³ÝÇ ¹³ï³ñ³ÝÇ ÏáÕÙÇó í×³ñÙ³Ý Ï³ñ·³¹ñáõÃÛáõÝ ³ñÓ³Ï»Éáõ í³ñáõÛÃÝ»ñÇ ÁÝÃ³óùÇ Ù³ëÇÝ
A5: êïáõ·Çã Ñ³í³ë³ñáõÙ` 1+2=3+4+5+6+7, 7=8+9+10+11
A6: Ð/Ñ | B6: ¸³ï³íáñÇ ³ÝáõÝ, ³½·³ÝáõÝ | C6: Ð³ßí»ïáõ Å³Ù³Ý³Ï³ßñç³ÝÇ ëÏ½áõÙ ³Ý³í³ñï í³ñáõÛÃÝ»ñÇ ÙÝ³óáñ¹Á | D6: êï³óí»É ¿ í×³ñÙ³Ý Ï³ñ·³¹ñáõÃÛáõÝ ³ñÓ³Ï»Éáõ Ù³ëÇÝ ¹ÇÙáõÙ | E6: ëï³óí»É ¿ ¹ÇÙáõÙ ÁÝÃ³óù ãï³Éáõ Ù³ëÇÝ | F6: Ø»ñÅí»É ¿ | G6: Ø»ñÅí»É ¿ Ù³ëáí | H6: âÇ ³ñÓ³Ïí»É Ñ³ßí»ïáõ Å³Ù³Ý³Ï³ßñç³ÝáõÙ | I6: ²ñÓ³Ïí»É ¿ í×³ñÙ³Ý Ï³ñ·³¹ñáõÃÛáõÝ | J6: êï³óí»É ¿ ³é³ñÏáõÃÛáõÝ | K6: êï³ó»É ¿ ûñÇÝ³Ï³Ý áõÅ | L6: ÂáÕÝí»É ¿ ³ÝÑ»ï¨³Ýù ¨ ûñÇÝ³Ï³Ý áõÅÇ Ù»ç Ùï³Í í×éÇ Ñ»ï¨³Ýù ãÇ ³é³ç³óñ»É | M6: Ð³ßí»ïáõ Å³Ù³Ý³Ï³ßñç³ÝÇ í»ñçáõÙ ³Ý³í³ñï í³ñáõÛÃÝ»ñÇ ÙÝ³óáñ¹Á
C7: 1 | D7: 2 | E7: 3 | F7: 4 | G7: 5 | H7: 6 | I7: 7 | J7: 8 | K7: 9 | L7: 10 | M7: 11
A8: 1 | B8: Մանուկ Մարգարյան | D8: 217 | F8: 61 | H8: 16 | I8: 140 | J8: 2 | K8: 71 | L8: 51 | M8: 16
A9: 2 | B9: Արթուր Մարգարյան | D9: 88 | F9: 7 | G9: 3 | I9: 78 | J9: 1 | K9: 45 | L9: 32
A10: 3 | B10: Գոհարիկ Խաչատրյան | C10: 38 | D10: 204 | F10: 29 | G10: 1 | H10: 29 | I10: 183 | J10: 8 | K10: 146 | M10: 29
A11: 4 | B11: Հայկ Խաչատրյան | D11: 214 | H11: 16 | I11: 198 | J11: 10 | K11: 116 | L11: 56 | M11: 16
A12: 5
A13: 6
A14: 7
A15: 8
A16: 9
A17: 10
A18: 11
A19: 12
B20: ÁÝ¹³Ù»ÝÁ | C20: =SUM(C8:C19) -> 38 | D20: =SUM(D8:D19) -> 723 | E20: =SUM(E8:E19) -> 0 | F20: =SUM(F8:F19) -> 97 | G20: =SUM(G8:G19) -> 4 | H20: =SUM(H8:H19) -> 61 | I20: =SUM(I8:I19) -> 599 | J20: =SUM(J8:J19) -> 21 | ... M20: =SUM(M8:M19) -> 61

Sheet Ararat
B1: Ð²ÞìºîìàôÂÚàôÜ
A2: Հավելված 2 Հայաստանի Հանրապետության Դատարանների նախագահների խորհրդի 2007թ. դեկտեմբերի 21-ի թիվ 23Լ որոշման
B3: ÐÐ ÁÝ¹Ñ³Ýáõñ Çñ³í³ëáõÃÛ³Ý ³é³çÇÝ ³ïÛ³ÝÇ ¹³ï³ñ³ÝÇ ÏáÕÙÇó í×³ñÙ³Ý Ï³ñ·³¹ñáõÃÛáõÝ ³ñÓ³Ï»Éáõ í³ñáõÛÃÝ»ñÇ ÁÝÃ³óùÇ Ù³ëÇÝ
A5: êïáõ·Çã Ñ³í³ë³ñáõÙ` 1+2=3+4+5+6+7, 7=8+9+10+11
A6: Ð/Ñ | B6: ¸³ï³íáñÇ ³ÝáõÝ, ³½·³ÝáõÝ | C6: Ð³ßí»ïáõ Å³Ù³Ý³Ï³ßñç³ÝÇ ëÏ½áõÙ ³Ý³í³ñï í³ñáõÛÃÝ»ñÇ ÙÝ³óáñ¹Á | D6: êï³óí»É ¿ í×³ñÙ³Ý Ï³ñ·³¹ñáõÃÛáõÝ ³ñÓ³Ï»Éáõ Ù³ëÇÝ ¹ÇÙáõÙ | E6: ëï³óí»É ¿ ¹ÇÙáõÙ ÁÝÃ³óù ãï³Éáõ Ù³ëÇÝ | F6: Ø»ñÅí»É ¿ | G6: Ø»ñÅí»É ¿ Ù³ëáí | H6: âÇ ³ñÓ³Ïí»É Ñ³ßí»ïáõ Å³Ù³Ý³Ï³ßñç³ÝáõÙ | I6: ²ñÓ³Ïí»É ¿ í×³ñÙ³Ý Ï³ñ·³¹ñáõÃÛáõÝ | J6: êï³óí»É ¿ ³é³ñÏáõÃÛáõÝ | K6: êï³ó»É ¿ ûñÇÝ³Ï³Ý áõÅ | L6: ÂáÕÝí»É ¿ ³ÝÑ»ï¨³Ýù ¨ ûñÇÝ³Ï³Ý áõÅÇ Ù»ç Ùï³Í í×éÇ Ñ»ï¨³Ýù ãÇ ³é³ç³óñ»É | M6: Ð³ßí»ïáõ Å³Ù³Ý³Ï³ßñç³ÝÇ í»ñçáõÙ ³Ý³í³ñï í³ñáõÛÃÝ»ñÇ ÙÝ³óáñ¹Á
C7: 1 | D7: 2 | E7: 3 | F7: 4 | G7: 5 | H7: 6 | I7: 7 | J7: 8 | K7: 9 | L7: 10 | M7: 11
A8: 1 | B8: Լևոն Արազյան | C8: 16 | D8: 271 | E8: 1 | F8: 114 | I8: 172 | J8: 3 | K8: 91 | L8: 38 | M8: 40
A9: 2 | B9: Հարություն Ենոքյան | C9: 189 | D9: 600 | E9: 23 | H9: 24 | I9: 742 | J9: 36 | K9: 465 | L9: 114 | M9: 127
A10: 3 | B10: Ելենա Քոչարյան | C10: 9 | D10: 450 | E10: 6 | F10: 2 | H10: 34 | I10: 417 | J10: 4 | K10: 238 | L10: 101 | M10: 74
A11: 4 | B11: Գևորգ Բալյան | C11: 80 | D11: 538 | E11: 24 | I11: 594 | J11: 9 | K11: 399 | L11: 118 | M11: 68
A12: 5 | B12: Արտաշես Հովհաննիսյան | C12: 113 | D12: 586 | I12: 699 | J12: 119 | K12: 387 | L12: 117 | M12: 76
A13: 6 | B13: Հենրիկ Դարբինյան | C13: 43 | D13: 399 | H13: 23 | I13: 419 | J13: 8 | K13: 226 | L13: 94 | M13: 91
A14: 7
A15: 8
A16: 9
A17: 10
A18: 11
A19: 12
B20: ÁÝ¹³Ù»ÝÁ | C20: =SUM(C8:C19) -> 450 | D20: =SUM(D8:D19) -> 2844 | E20: =SUM(E8:E19) -> 54 | F20: =SUM(F8:F19) -> 116 | G20: =SUM(G8:G19) -> 0 | H20: =SUM(H8:H19) -> 81 | I20: =SUM(I8:I19) -> 3043 | J20: =SUM(J8:J19) -> 179 | ... M20: =SUM(M8:M19) -> 476

Sheet Kotaeq
B1: Ð²ÞìºîìàôÂÚàôÜ
A2: Հավելված 2 Հայաստանի Հանրապետության Դատարանների նախագահների խորհրդի 2007թ. դեկտեմբերի 21-ի թիվ 23Լ որոշման
B3: ÐÐ ÁÝ¹Ñ³Ýáõñ Çñ³í³ëáõÃÛ³Ý ³é³çÇÝ ³ïÛ³ÝÇ ¹³ï³ñ³ÝÇ ÏáÕÙÇó í×³ñÙ³Ý Ï³ñ·³¹ñáõÃÛáõÝ ³ñÓ³Ï»Éáõ í³ñáõÛÃÝ»ñÇ ÁÝÃ³óùÇ Ù³ëÇÝ
A5: êïáõ·Çã Ñ³í³ë³ñáõÙ` 1+2=3+4+5+6+7, 7=8+9+10+11
A6: Ð/Ñ | B6: ¸³ï³íáñÇ ³ÝáõÝ, ³½·³ÝáõÝ | C6: Ð³ßí»ïáõ Å³Ù³Ý³Ï³ßñç³ÝÇ ëÏ½áõÙ ³Ý³í³ñï í³ñáõÛÃÝ»ñÇ ÙÝ³óáñ¹Á | D6: êï³óí»É ¿ í×³ñÙ³Ý Ï³ñ·³¹ñáõÃÛáõÝ ³ñÓ³Ï»Éáõ Ù³ëÇÝ ¹ÇÙáõÙ | E6: ëï³óí»É ¿ ¹ÇÙáõÙ ÁÝÃ³óù ãï³Éáõ Ù³ëÇÝ | F6: Ø»ñÅí»É ¿ | G6: Ø»ñÅí»É ¿ Ù³ëáí | H6: âÇ ³ñÓ³Ïí»É Ñ³ßí»ïáõ Å³Ù³Ý³Ï³ßñç³ÝáõÙ | I6: ²ñÓ³Ïí»É ¿ í×³ñÙ³Ý Ï³ñ·³¹ñáõÃÛáõÝ | J6: êï³óí»É ¿ ³é³ñÏáõÃÛáõÝ | K6: êï³ó»É ¿ ûñÇÝ³Ï³Ý áõÅ | L6: ÂáÕÝí»É ¿ ³ÝÑ»ï¨³Ýù ¨ ûñÇÝ³Ï³Ý áõÅÇ Ù»ç Ùï³Í í×éÇ Ñ»ï¨³Ýù ãÇ ³é³ç³óñ»É | M6: Ð³ßí»ïáõ Å³Ù³Ý³Ï³ßñç³ÝÇ í»ñçáõÙ ³Ý³í³ñï í³ñáõÛÃÝ»ñÇ ÙÝ³óáñ¹Á
C7: 1 | D7: 2 | E7: 3 | F7: 4 | G7: 5 | H7: 6 | I7: 7 | J7: 8 | K7: 9 | L7: 10 | M7: 11
A8: 1 | B8: Ա. Սիսակյան | C8: 156 | D8: 290 | G8: 1 | H8: 187 | I8: 258 | J8: 46 | K8: 130 | L8: 11 | M8: 71
A9: 2 | B9: Տ.Փոլադյան | C9: 86 | D9: 288 | E9: 1 | F9: 9 | G9: 58 | H9: 93 | I9: 213 | J9: 10 | K9: 100 | L9: 10 | M9: 93
A10: 3 | B10: Ս. Թորոսյան | C10: 108 | D10: 865 | E10: 2 | F10: 179 | G10: 119 | I10: 673 | J10: 3 | K10: 468 | L10: 123 | M10: 79
A11: 4 | B11: Յու. Բաղդասարյան
A12: 5 | B12: Ն. Գալստյան | C12: 377 | D12: 558 | E12: 5 | F12: 1 | H12: 417 | I12: 512 | J12: 11 | K12: 286 | L12: 116 | M12: 99
A13: 6 | B13: Գ. Հեբոյան | C13: 313 | D13: 1646 | E13: 2 | F13: 80 | H13: 400 | I13: 1477 | J13: 132 | K13: 1025 | L13: 295 | M13: 25
A14: 7 | B14: Էդ.Սեդրակյան | C14: 38 | D14: 381 | F14: 3 | H14: 38 | I14: 378 | J14: 42 | K14: 216 | L14: 60 | M14: 60
A15: 8
A16: 9
A17: 10
A18: 11
A19: 12
B20: ÁÝ¹³Ù»ÝÁ | C20: =SUM(C8:C19) -> 1078 | D20: =SUM(D8:D19) -> 4028 | E20: =SUM(E8:E19) -> 10 | F20: =SUM(F8:F19) -> 272 | G20: =SUM(G8:G19) -> 178 | H20: =SUM(H8:H19) -> 1135 | I20: =SUM(I8:I19) -> 3511 | J20: =SUM(J8:J19) -> 244 | ... M20: =SUM(M8:M19) -> 427

Sheet Gexarquniq
B1: Ð²ÞìºîìàôÂÚàôÜ
A2: Հավելված 2 Հայաստանի Հանրապետության Դատարանների նախագահների խորհրդի 2007թ. դեկտեմբերի 21-ի թիվ 23Լ որոշման
B3: ÐÐ ÁÝ¹Ñ³Ýáõñ Çñ³í³ëáõÃÛ³Ý ³é³çÇÝ ³ïÛ³ÝÇ ¹³ï³ñ³ÝÇ ÏáÕÙÇó í×³ñÙ³Ý Ï³ñ·³¹ñáõÃÛáõÝ ³ñÓ³Ï»Éáõ í³ñáõÛÃÝ»ñÇ ÁÝÃ³óùÇ Ù³ëÇÝ
A5: êïáõ·Çã Ñ³í³ë³ñáõÙ` 1+2=3+4+5+6+7, 7=8+9+10+11
A6: Ð/Ñ | B6: ¸³ï³íáñÇ ³ÝáõÝ, ³½·³ÝáõÝ | C6: Ð³ßí»ïáõ Å³Ù³Ý³Ï³ßñç³ÝÇ ëÏ½áõÙ ³Ý³í³ñï í³ñáõÛÃÝ»ñÇ ÙÝ³óáñ¹Á | D6: êï³óí»É ¿ í×³ñÙ³Ý Ï³ñ·³¹ñáõÃÛáõÝ ³ñÓ³Ï»Éáõ Ù³ëÇÝ ¹ÇÙáõÙ | E6: ëï³óí»É ¿ ¹ÇÙáõÙ ÁÝÃ³óù ãï³Éáõ Ù³ëÇÝ | F6: Ø»ñÅí»É ¿ | G6: Ø»ñÅí»É ¿ Ù³ëáí | H6: âÇ ³ñÓ³Ïí»É Ñ³ßí»ïáõ Å³Ù³Ý³Ï³ßñç³ÝáõÙ | I6: ²ñÓ³Ïí»É ¿ í×³ñÙ³Ý Ï³ñ·³¹ñáõÃÛáõÝ | J6: êï³óí»É ¿ ³é³ñÏáõÃÛáõÝ | K6: êï³ó»É ¿ ûñÇÝ³Ï³Ý áõÅ | L6: ÂáÕÝí»É ¿ ³ÝÑ»ï¨³Ýù ¨ ûñÇÝ³Ï³Ý áõÅÇ Ù»ç Ùï³Í í×éÇ Ñ»ï¨³Ýù ãÇ ³é³ç³óñ»É | M6: Ð³ßí»ïáõ Å³Ù³Ý³Ï³ßñç³ÝÇ í»ñçáõÙ ³Ý³í³ñï í³ñáõÛÃÝ»ñÇ ÙÝ³óáñ¹Á
C7: 1 | D7: 2 | E7: 3 | F7: 4 | G7: 5 | H7: 6 | I7: 7 | J7: 8 | K7: 9 | L7: 10 | M7: 11
A8: 1 | B8: Արթուր Թամրազյան | C8: 124 | D8: 289 | I8: 413 | J8: 18 | K8: 183 | L8: 162 | M8: 50
A9: 2 | B9: Սամվել Ասատրյան
A10: 3 | B10: Սամվել Հովակիմյան
A11: 4 | B11: Ավագ Գաբրիելյան | C11: 71 | D11: 218 | F11: 1 | I11: 288 | J11: 4 | K11: 198 | L11: 61 | M11: 25
A12: 5 | B12: Վահագն Մելիքյան
A13: 6 | B13: Սերոբ Մանուկյան | D13: 242 | I13: 242 | J13: 15 | K13: 127 | L13: 45 | M13: 55
A14: 7 | B14: Վանիկ Վարդանյան | C14: 213 | D14: 491 | E14: 3 | F14: 2 | I14: 699 | J14: 68 | K14: 461 | L14: 114 | M14: 56
A15: 8 | B15: Յուրիկ Իսկոյան
A16: 9
A17: 10
A18: 11
A19: 12
B20: ÁÝ¹³Ù»ÝÁ | C20: =SUM(C8:C19) -> 408 | D20: =SUM(D8:D19) -> 1240 | E20: =SUM(E8:E19) -> 3 | F20: =SUM(F8:F19) -> 3 | G20: =SUM(G8:G19) -> 0 | H20: =SUM(H8:H19) -> 0 | I20: =SUM(I8:I19) -> 1642 | J20: =SUM(J8:J19) -> 105 | ... M20: =SUM(M8:M19) -> 186

Sheet Lori
B1: Ð²ÞìºîìàôÂÚàôÜ
A2: Հավելված 2 Հայաստանի Հանրապետության Դատարանների նախագահների խորհրդի 2007թ. դեկտեմբերի 21-ի թիվ 23Լ որոշման
B3: ÐÐ ÁÝ¹Ñ³Ýáõñ Çñ³í³ëáõÃÛ³Ý ³é³çÇÝ ³ïÛ³ÝÇ ¹³ï³ñ³ÝÇ ÏáÕÙÇó í×³ñÙ³Ý Ï³ñ·³¹ñáõÃÛáõÝ ³ñÓ³Ï»Éáõ í³ñáõÛÃÝ»ñÇ ÁÝÃ³óùÇ Ù³ëÇÝ
A5: êïáõ·Çã Ñ³í³ë³ñáõÙ` 1+2=3+4+5+6+7, 7=8+9+10+11
A6: Ð/Ñ | B6: ¸³ï³íáñÇ ³ÝáõÝ, ³½·³ÝáõÝ | C6: Ð³ßí»ïáõ Å³Ù³Ý³Ï³ßñç³ÝÇ ëÏ½áõÙ ³Ý³í³ñï í³ñáõÛÃÝ»ñÇ ÙÝ³óáñ¹Á | D6: êï³óí»É ¿ í×³ñÙ³Ý Ï³ñ·³¹ñáõÃÛáõÝ ³ñÓ³Ï»Éáõ Ù³ëÇÝ ¹ÇÙáõÙ | E6: ëï³óí»É ¿ ¹ÇÙáõÙ ÁÝÃ³óù ãï³Éáõ Ù³ëÇÝ | F6: Ø»ñÅí»É ¿ | G6: Ø»ñÅí»É ¿ Ù³ëáí | H6: âÇ ³ñÓ³Ïí»É Ñ³ßí»ïáõ Å³Ù³Ý³Ï³ßñç³ÝáõÙ | I6: ²ñÓ³Ïí»É ¿ í×³ñÙ³Ý Ï³ñ·³¹ñáõÃÛáõÝ | J6: êï³óí»É ¿ ³é³ñÏáõÃÛáõÝ | K6: êï³ó»É ¿ ûñÇÝ³Ï³Ý áõÅ | L6: ÂáÕÝí»É ¿ ³ÝÑ»ï¨³Ýù ¨ ûñÇÝ³Ï³Ý áõÅÇ Ù»ç Ùï³Í í×éÇ Ñ»ï¨³Ýù ãÇ ³é³ç³óñ»É | M6: Ð³ßí»ïáõ Å³Ù³Ý³Ï³ßñç³ÝÇ í»ñçáõÙ ³Ý³í³ñï í³ñáõÛÃÝ»ñÇ ÙÝ³óáñ¹Á
C7: 1 | D7: 2 | E7: 3 | F7: 4 | G7: 5 | H7: 6 | I7: 7 | J7: 8 | K7: 9 | L7: 10 | M7: 11
A8: 1 | B8: ¶³·ÇÏ Հովհաննիսյան | D8: 49 | I8: 49 | J8: 6 | K8: 25 | M8: 18
A9: 2 | B9: Ê³ã³ïáõñ Խաչատրյան | C9: 97 | D9: 832 | F9: 1 | H9: 112 | I9: 816 | J9: 73 | K9: 398 | L9: 35 | M9: 310
A10: 3 | B10: ´áñÇÏ Գրիգորյան | C10: 45 | D10: 61 | I10: 106 | J10: 12 | K10: 12 | L10: 46 | M10: 36
A11: 4 | B11: ì³ñ¹áõÑÇ Հովնանյան | C11: 14 | D11: 60 | F11: 60 | I11: 14 | J11: 1 | K11: 3 | L11: 10
A12: 5 | B12: Ü³Çñ³ Ավետիսյան | D12: 5 | I12: 5 | M12: 5
A13: 6 | B13: ê³ñ·Çë Երիցյան /Վանաձոր/ | D13: 42 | F13: 30 | I13: 12 | J13: 10 | K13: 2
A14: 7 | B14: ¶áõñ·»Ý Գագիկյան | D14: 41 | I14: 41 | J14: 1 | K14: 18 | L14: 22
A15: 8 | B15: ²ñÃáõñ Աթաբեկյան | C15: 57 | D15: 170 | F15: 123 | I15: 104 | J15: 2 | K15: 53 | L15: 46 | M15: 3
A16: 10 | B16: ê³ñ·Çë Երիցյան /Ստեփանավան/ | C16: 5 | D16: 129 | E16: 0 | F16: 87 | I16: 47 | J16: 2 | K16: 22 | L16: 13 | M16: 10
A17: 11 | B17: ²Õ³ëÇ Մկոյան | C17: 11 | D17: 176 | I17: 187 | J17: 67 | K17: 86 | L17: 24 | M17: 10
A18: 12
B19: ÁÝ¹³Ù»ÝÁ | C19: =SUM(C8:C18) -> 229 | D19: =SUM(D8:D18) -> 1565 | E19: =SUM(E8:E18) -> 0 | F19: =SUM(F8:F18) -> 301 | G19: =SUM(G8:G18) -> 0 | H19: =SUM(H8:H18) -> 112 | I19: =SUM(I8:I18) -> 1381 | J19: =SUM(J8:J18) -> 174 | ... M19: =SUM(M8:M18) -> 392

Sheet Syuniq
B1: Ð²ÞìºîìàôÂÚàôÜ
A2: Հավելված 2 Հայաստանի Հանրապետության Դատարանների նախագահների խորհրդի 2007թ. դեկտեմբերի 21-ի թիվ 23Լ որոշման
B3: ÐÐ ÁÝ¹Ñ³Ýáõñ Çñ³í³ëáõÃÛ³Ý ³é³çÇÝ ³ïÛ³ÝÇ ¹³ï³ñ³ÝÇ ÏáÕÙÇó í×³ñÙ³Ý Ï³ñ·³¹ñáõÃÛáõÝ ³ñÓ³Ï»Éáõ í³ñáõÛÃÝ»ñÇ ÁÝÃ³óùÇ Ù³ëÇÝ
A5: êïáõ·Çã Ñ³í³ë³ñáõÙ` 1+2=3+4+5+6+7, 7=8+9+10+11
A6: Ð/Ñ | B6: ¸³ï³íáñÇ ³ÝáõÝ, ³½·³ÝáõÝ | C6: Ð³ßí»ïáõ Å³Ù³Ý³Ï³ßñç³ÝÇ ëÏ½áõÙ ³Ý³í³ñï í³ñáõÛÃÝ»ñÇ ÙÝ³óáñ¹Á | D6: êï³óí»É ¿ í×³ñÙ³Ý Ï³ñ·³¹ñáõÃÛáõÝ ³ñÓ³Ï»Éáõ Ù³ëÇÝ ¹ÇÙáõÙ | E6: ëï³óí»É ¿ ¹ÇÙáõÙ ÁÝÃ³óù ãï³Éáõ Ù³ëÇÝ | F6: Ø»ñÅí»É ¿ | G6: Ø»ñÅí»É ¿ Ù³ëáí | H6: âÇ ³ñÓ³Ïí»É Ñ³ßí»ïáõ Å³Ù³Ý³Ï³ßñç³ÝáõÙ | I6: ²ñÓ³Ïí»É ¿ í×³ñÙ³Ý Ï³ñ·³¹ñáõÃÛáõÝ | J6: êï³óí»É ¿ ³é³ñÏáõÃÛáõÝ | K6: êï³ó»É ¿ ûñÇÝ³Ï³Ý áõÅ | L6: ÂáÕÝí»É ¿ ³ÝÑ»ï¨³Ýù ¨ ûñÇÝ³Ï³Ý áõÅÇ Ù»ç Ùï³Í í×éÇ Ñ»ï¨³Ýù ãÇ ³é³ç³óñ»É | M6: Ð³ßí»ïáõ Å³Ù³Ý³Ï³ßñç³ÝÇ í»ñçáõÙ ³Ý³í³ñï í³ñáõÛÃÝ»ñÇ ÙÝ³óáñ¹Á
C7: 1 | D7: 2 | E7: 3 | F7: 4 | G7: 5 | H7: 6 | I7: 7 | J7: 8 | K7: 9 | L7: 10 | M7: 11
A8: 1 | B8: Ս.Գրիգորյան | C8: 0 | D8: 58 | E8: 0 | F8: 8 | G8: 0 | H8: 24 | I8: 26 | J8: 0 | K8: 18 | L8: 8 | M8: 0
A9: 2 | B9: Ա.Թումանյան | C9: 36 | D9: 185 | E9: 0 | F9: 18 | G9: 6 | H9: 0 | I9: 197 | J9: 22 | K9: 113 | L9: 32 | M9: 30
A10: 3 | B10: Մ.Հովակիմյան | C10: 6 | D10: 117 | E10: 0 | F10: 0 | G10: 0 | H10: 24 | I10: 99 | J10: 3 | K10: 54 | L10: 29 | M10: 13
A11: 4 | B11: Ի.Բեգլարյան | C11: 77 | D11: 92 | E11: 0 | F11: 1 | G11: 0 | H11: 77 | I11: 91 | J11: 16 | K11: 51 | L11: 14 | M11: 10
A12: 5 | B12: Է.Հովհաննիսյան | C12: 2 | D12: 40 | E12: 0 | F12: 0 | G12: 3 | H12: 0 | I12: 39 | J12: 0 | K12: 28 | L12: 6 | M12: 5
A13: 6
A14: 7
A15: 8
A16: 9
A17: 10
A18: 11
A19: 12
B20: ÁÝ¹³Ù»ÝÁ | C20: =SUM(C8:C19) -> 121 | D20: =SUM(D8:D19) -> 492 | E20: =SUM(E8:E19) -> 0 | F20: =SUM(F8:F19) -> 27 | G20: =SUM(G8:G19) -> 9 | H20: =SUM(H8:H19) -> 125 | I20: =SUM(I8:I19) -> 452 | J20: =SUM(J8:J19) -> 41 | ... M20: =SUM(M8:M19) -> 58

Sheet Shirak
B1: Ð²ÞìºîìàôÂÚàôÜ
A2: Հավելված 2 Հայաստանի Հանրապետության Դատարանների նախագահների խորհրդի 2007թ. դեկտեմբերի 21-ի թիվ 23Լ որոշման
B3: ÐÐ ÁÝ¹Ñ³Ýáõñ Çñ³í³ëáõÃÛ³Ý ³é³çÇÝ ³ïÛ³ÝÇ ¹³ï³ñ³ÝÇ ÏáÕÙÇó í×³ñÙ³Ý Ï³ñ·³¹ñáõÃÛáõÝ ³ñÓ³Ï»Éáõ í³ñáõÛÃÝ»ñÇ ÁÝÃ³óùÇ Ù³ëÇÝ
A5: êïáõ·Çã Ñ³í³ë³ñáõÙ` 1+2=3+4+5+6+7, 7=8+9+10+11
A6: Ð/Ñ | B6: ¸³ï³íáñÇ ³ÝáõÝ, ³½·³ÝáõÝ | C6: Ð³ßí»ïáõ Å³Ù³Ý³Ï³ßñç³ÝÇ ëÏ½áõÙ ³Ý³í³ñï í³ñáõÛÃÝ»ñÇ ÙÝ³óáñ¹Á | D6: êï³óí»É ¿ í×³ñÙ³Ý Ï³ñ·³¹ñáõÃÛáõÝ ³ñÓ³Ï»Éáõ Ù³ëÇÝ ¹ÇÙáõÙ | E6: ëï³óí»É ¿ ¹ÇÙáõÙ ÁÝÃ³óù ãï³Éáõ Ù³ëÇÝ | F6: Ø»ñÅí»É ¿ | G6: Ø»ñÅí»É ¿ Ù³ëáí | H6: âÇ ³ñÓ³Ïí»É Ñ³ßí»ïáõ Å³Ù³Ý³Ï³ßñç³ÝáõÙ | I6: ²ñÓ³Ïí»É ¿ í×³ñÙ³Ý Ï³ñ·³¹ñáõÃÛáõÝ | J6: êï³óí»É ¿ ³é³ñÏáõÃÛáõÝ | K6: êï³ó»É ¿ ûñÇÝ³Ï³Ý áõÅ | L6: ÂáÕÝí»É ¿ ³ÝÑ»ï¨³Ýù ¨ ûñÇÝ³Ï³Ý áõÅÇ Ù»ç Ùï³Í í×éÇ Ñ»ï¨³Ýù ãÇ ³é³ç³óñ»É | M6: Ð³ßí»ïáõ Å³Ù³Ý³Ï³ßñç³ÝÇ í»ñçáõÙ ³Ý³í³ñï í³ñáõÛÃÝ»ñÇ ÙÝ³óáñ¹Á
C7: 1 | D7: 2 | E7: 3 | F7: 4 | G7: 5 | H7: 6 | I7: 7 | J7: 8 | K7: 9 | L7: 10 | M7: 11
A8: 1 | B8: Մ.Գևորգյան | C8: 35 | D8: 165 | F8: 5 | H8: 28 | I8: 167 | J8: 17 | K8: 60 | L8: 52 | M8: 38
A9: 2 | B9: Սուրեն Մնացյան | C9: 24 | D9: 191 | E9: 0 | F9: 0 | G9: 0 | H9: 0 | I9: 215 | J9: 10 | K9: 133 | L9: 23 | M9: 49
A10: 3 | B10: Հ. Միքայելյան | C10: 14 | D10: 209 | E10: 2 | G10: 0 | H10: 20 | I10: 201 | J10: 17 | K10: 89 | L10: 44 | M10: 51
A11: 4 | B11: Գ.Նարինյան | C11: 18 | D11: 58 | E11: 0 | F11: 6 | G11: 0 | H11: 0 | I11: 70 | J11: 0 | K11: 39 | L11: 31 | M11: 0
A12: 5 | B12: Հ.Ղազարյան | C12: 57 | D12: 174 | H12: 16 | I12: 215 | J12: 13 | K12: 75 | L12: 61 | M12: 66
A13: 6 | B13: Ա.Խաչատրյան | C13: 41 | D13: 236 | F13: 5 | I13: 272 | J13: 27 | K13: 104 | L13: 61 | M13: 80
A14: 7 | B14: Մ.Մարտիրոսյան | C14: 54 | D14: 176 | I14: 230 | J14: 17 | K14: 108 | L14: 30 | M14: 75
A15: 8 | B15: L.Խաչատրյան | C15: 52 | D15: 235 | E15: 2 | F15: 0 | G15: 0 | H15: 39 | I15: 246 | J15: 20 | K15: 95 | L15: 82 | M15: 49
A16: 9 | B16: Բ. Մկրտչյան | C16: 31 | D16: 0 | E16: 0 | F16: 0 | G16: 0 | H16: 0 | J16: 0 | K16: 14 | L16: 17 | M16: 0
A17: 10
A18: 11
A19: 12
B20: ÁÝ¹³Ù»ÝÁ | C20: =SUM(C8:C19) -> 326 | D20: =SUM(D8:D19) -> 1444 | E20: =SUM(E8:E19) -> 4 | F20: =SUM(F8:F19) -> 16 | G20: =SUM(G8:G19) -> 0 | H20: =SUM(H8:H19) -> 103 | I20: =SUM(I8:I19) -> 1616 | J20: =SUM(J8:J19) -> 121 | ... M20: =SUM(M8:M19) -> 408
C22: Ծանոթություն- դատ. Բ.Մկրտչյանի 31 վ/կ-ը արձակվել են նախորդ ՝2012 թ,ուստի 7-րդ սյունակում չի տեղադրվել 31 թիվը

Sheet Tavush
B1: Ð²ÞìºîìàôÂÚàôÜ
A2: Հավելված 2 Հայաստանի Հանրապետության Դատարանների նախագահների խորհրդի 2007թ. դեկտեմբերի 21-ի թիվ 23Լ որոշման
B3: ÐÐ ÁÝ¹Ñ³Ýáõñ Çñ³í³ëáõÃÛ³Ý ³é³çÇÝ ³ïÛ³ÝÇ ¹³ï³ñ³ÝÇ ÏáÕÙÇó í×³ñÙ³Ý Ï³ñ·³¹ñáõÃÛáõÝ ³ñÓ³Ï»Éáõ í³ñáõÛÃÝ»ñÇ ÁÝÃ³óùÇ Ù³ëÇÝ
A5: êïáõ·Çã Ñ³í³ë³ñáõÙ` 1+2=3+4+5+6+7, 7=8+9+10+11
A6: Ð/Ñ | B6: ¸³ï³íáñÇ ³ÝáõÝ, ³½·³ÝáõÝ | C6: Ð³ßí»ïáõ Å³Ù³Ý³Ï³ßñç³ÝÇ ëÏ½áõÙ ³Ý³í³ñï í³ñáõÛÃÝ»ñÇ ÙÝ³óáñ¹Á | D6: êï³óí»É ¿ í×³ñÙ³Ý Ï³ñ·³¹ñáõÃÛáõÝ ³ñÓ³Ï»Éáõ Ù³ëÇÝ ¹ÇÙáõÙ | E6: ëï³óí»É ¿ ¹ÇÙáõÙ ÁÝÃ³óù ãï³Éáõ Ù³ëÇÝ | F6: Ø»ñÅí»É ¿ | G6: Ø»ñÅí»É ¿ Ù³ëáí | H6: âÇ ³ñÓ³Ïí»É Ñ³ßí»ïáõ Å³Ù³Ý³Ï³ßñç³ÝáõÙ | I6: ²ñÓ³Ïí»É ¿ í×³ñÙ³Ý Ï³ñ·³¹ñáõÃÛáõÝ | J6: êï³óí»É ¿ ³é³ñÏáõÃÛáõÝ | K6: êï³ó»É ¿ ûñÇÝ³Ï³Ý áõÅ | L6: ÂáÕÝí»É ¿ ³ÝÑ»ï¨³Ýù ¨ ûñÇÝ³Ï³Ý áõÅÇ Ù»ç Ùï³Í í×éÇ Ñ»ï¨³Ýù ãÇ ³é³ç³óñ»É | M6: Ð³ßí»ïáõ Å³Ù³Ý³Ï³ßñç³ÝÇ í»ñçáõÙ ³Ý³í³ñï í³ñáõÛÃÝ»ñÇ ÙÝ³óáñ¹Á
C7: 1 | D7: 2 | E7: 3 | F7: 4 | G7: 5 | H7: 6 | I7: 7 | J7: 8 | K7: 9 | L7: 10 | M7: 11
A8: 1 | B8: ²ñÙ³Ý Îáõñ»ËÛ³Ý | C8: 30 | D8: 388 | F8: 104 | H8: 9 | I8: 305 | J8: 19 | K8: 84 | L8: 45 | M8: 157
A9: 2 | B9: ²ßáï Ê³ãÇÏÛ³Ý | C9: 45 | D9: 236 | I9: 281 | J9: 20 | K9: 146 | L9: 77 | M9: 38
A10: 3
A11: 4
A12: 5
A13: 6
A14: 7
A15: 8
A16: 9
A17: 10
A18: 11
A19: 12
B20: ÁÝ¹³Ù»ÝÁ | C20: =SUM(C8:C19) -> 75 | D20: =SUM(D8:D19) -> 624 | E20: =SUM(E8:E19) -> 0 | F20: =SUM(F8:F19) -> 104 | G20: =SUM(G8:G19) -> 0 | H20: =SUM(H8:H19) -> 9 | I20: =SUM(I8:I19) -> 586 | J20: =SUM(J8:J19) -> 39 | ... M20: =SUM(M8:M19) -> 195
