Workbook

Sheet Ընդամենը
A1: Ð²ÞìºîìàôÂÚàôÜ
A2: Èàèàô Ø²ð¼Æ ÀÜ¸Ð²Üàôð Æð²ì²êàôÂÚ²Ü ²è²æÆÜ ²îÚ²ÜÆ ¸²î²ð²ÜÆ
H3: ¶àðÌàôÜºàôÂÚ²Ü ìºð²´ºðÚ²È êÜ²ÜÎàôÂÚ²Ü ¶àðÌºðՈՎ 2017թ.
A4: ìÇ×³Ï³·ñ³Ï³Ý ïáÕÇ Ñ³Ù³ñÁ | E4: ²Ý³í³ñï ·áñÍ»ñÇ ÙÝ³óáñ¹Á Ñ³ßí»ïáõ Å³Ù³Ý³Ï³ßñç³ÝÇ ëÏ½µáõÙ | F4: êï³óí³Í ¹ÇÙáõÙÝ»ñÇ (·áñÍ»ñ) ù³Ý³ÏÁ | L4: öáË³Ýóí»É ¿ ³ÛÉ ¹³ï³íáñÇ (Ï³½ÙÇ ÷á÷áËáõÃÛáõÝ) | M4: ì³ñáõÛÃ ÁÝ¹áõÝí³Í ¹ÇÙáõÙÝ»ñáí Ï³Û³óí³Í ¹³ï³Ï³Ý ³Ïï»ñ | Q4: Ü»ñÏ³Û³óí»É ¿ ýÇÝ³Ýë³Ï³Ý ³éáÕç³óÙ³Ý Íñ³·Çñ | T4: ²í³ñïí»É »Ý ·áñÍ»ñ Ñ³ßí»ïáõ Å³Ù³Ý³Ï³ßñç³ÝáõÙ | U4: ²Ý³í³ñï ·áñÍ»ñÇ ÙÝ³óáñ¹Á Ñ³ßí»ïáõ Å³Ù³Ý³Ï³ßñç³ÝÇ í»ñçáõÙ | V4: ´áÕáù³ñÏí»É »Ý í»ñ³ùÝÝÇã ¹³ï³ñ³Ý
F6: ÀÝ¹³Ù»ÝÁ | G6: ³Û¹ ÃíáõÙ Ñ³ñÏ³¹ñí³Í ëÝ³ÝÏáõÃÛáõÝ | H6: ³Û¹ ÃíáõÙ Ï³Ù³íáñ ëÝ³ÝÏáõÃÛáõÝ | I6: ëï³óí³Í ¹ÇÙáõÙÝ»ñÇ ÁÝÃ³óùÁ | M6: Ï³Û³óí»É ¿ å³ñï³å³ÝÇÝ ëÝ³ÝÏ ×³Ý³ã»Éáõ Ù³ëÇÝ í×Çé | N6: å³ñï³å³ÝÇÝ ëÝ³ÝÏ ×³Ý³ã»Éáõ ¹ÇÙáõÙÁ Ù»ñÅí»É ¿ | O6: ¹ÇÙáõÙÁ ÃáÕÝí»É ¿ ³é³Ýó ùÝÝáõÃÛ³Ý | P6: ³Ý³í³ñï (³Û¹ ÃíáõÙ Ï³ë»óí³Í) | Q6: ÀÝ¹³Ù»ÝÁ | R6: ÃáÕÝí»É ¿ ³é³Ýó ùÝÝ³ñÏÙ³Ý | S6: Ñ³ëï³ïí»É ¿
I8: ¸ÇÙáõÙÇ ÁÝ¹áõÝáõÙÁ Ù»ñÅí»É ¿ | J8: ¸ÇÙáõÙÁ í»ñ³¹³ñÓí»É ¿ | K8: ÀÝ¹áõÝí»É ¿ í³ñáõÛÃ
E18: 1 | F18: 2 | G18: 3 | H18: 4 | I18: 5 | J18: 6 | K18: 7 | L18: 8 | M18: 9 | N18: 10 | O18: 11 | P18: 12 | Q18: 13 | R18: 14 | S18: 15 | T18: 16 | U18: 17 | V18: 18
A19: 1 | B19: Æñ³í³µ³Ý³Ï³Ý ³ÝÓÇ ëÝ³ÝÏáõÃÛ³Ý í»ñ³µ»ñÛ³É | E19: =Գ.Զաքարյան!E19+'---'!E19+Ա.Աթաբեկյան!E19+Ա.Մկոյան!E19+'-'!E19 -> 152 | F19: =Գ.Զաքարյան!F19+'---'!F19+Ա.Աթաբեկյան!F19+Ա.Մկոյան!F19+'-'!F19 -> 32 | G19: =Գ.Զաքարյան!G19+'---'!G19+Ա.Աթաբեկյան!G19+Ա.Մկոյան!G19+'-'!G19 -> 30 | H19: =Գ.Զաքարյան!H19+'---'!H19+Ա.Աթաբեկյան!H19+Ա.Մկոյան!H19+'-'!H19 -> 2 | I19: =Գ.Զաքարյան!I19+'---'!I19+Ա.Աթաբեկյան!I19+Ա.Մկոյան!I19+'-'!I19 -> 0 | J19: =Գ.Զաքարյան!J19+'---'!J19+Ա.Աթաբեկյան!J19+Ա.Մկոյան!J19+'-'!J19 -> 1 | K19: =Գ.Զաքարյան!K19+'---'!K19+Ա.Աթաբեկյան!K19+Ա.Մկոյան!K19+'-'!K19 -> 31 | L19: =Գ.Զաքարյան!L19+'---'!L19+Ա.Աթաբեկյան!L19+Ա.Մկոյան!L19+'-'!L19 -> 0 | ... V19: =Գ.Զաքարյան!V19+'---'!V19+Ա.Աթաբեկյան!V19+Ա.Մկոյան!V19+'-'!V19 -> 12
A20: 2 | B20: ²ÝÑ³ï Ó»éÝ»ñ»óÇ ëÝ³ÝÏáõÃÛ³Ý í»ñ³µ»ñÛ³É | E20: =Գ.Զաքարյան!E20+'---'!E20+Ա.Աթաբեկյան!E20+Ա.Մկոյան!E20+'-'!E20 -> 40 | F20: =Գ.Զաքարյան!F20+'---'!F20+Ա.Աթաբեկյան!F20+Ա.Մկոյան!F20+'-'!F20 -> 16 | G20: =Գ.Զաքարյան!G20+'---'!G20+Ա.Աթաբեկյան!G20+Ա.Մկոյան!G20+'-'!G20 -> 16 | H20: =Գ.Զաքարյան!H20+'---'!H20+Ա.Աթաբեկյան!H20+Ա.Մկոյան!H20+'-'!H20 -> 0 | I20: =Գ.Զաքարյան!I20+'---'!I20+Ա.Աթաբեկյան!I20+Ա.Մկոյան!I20+'-'!I20 -> 0 | J20: =Գ.Զաքարյան!J20+'---'!J20+Ա.Աթաբեկյան!J20+Ա.Մկոյան!J20+'-'!J20 -> 1 | K20: =Գ.Զաքարյան!K20+'---'!K20+Ա.Աթաբեկյան!K20+Ա.Մկոյան!K20+'-'!K20 -> 15 | L20: =Գ.Զաքարյան!L20+'---'!L20+Ա.Աթաբեկյան!L20+Ա.Մկոյան!L20+'-'!L20 -> 0 | ... V20: =Գ.Զաքարյան!V20+'---'!V20+Ա.Աթաբեկյան!V20+Ա.Մկոյան!V20+'-'!V20 -> 1
A21: 3 | B21: üÇ½ÇÏ³Ï³Ý ³ÝÓ³Ýó ëÝ³ÝÏáõÃÛ³Ý í»ñ³µ»ñÛ³É | E21: =Գ.Զաքարյան!E21+'---'!E21+Ա.Աթաբեկյան!E21+Ա.Մկոյան!E21+'-'!E21 -> 133 | F21: =Գ.Զաքարյան!F21+'---'!F21+Ա.Աթաբեկյան!F21+Ա.Մկոյան!F21+'-'!F21 -> 96 | G21: =Գ.Զաքարյան!G21+'---'!G21+Ա.Աթաբեկյան!G21+Ա.Մկոյան!G21+'-'!G21 -> 43 | H21: =Գ.Զաքարյան!H21+'---'!H21+Ա.Աթաբեկյան!H21+Ա.Մկոյան!H21+'-'!H21 -> 53 | I21: =Գ.Զաքարյան!I21+'---'!I21+Ա.Աթաբեկյան!I21+Ա.Մկոյան!I21+'-'!I21 -> 0 | J21: =Գ.Զաքարյան!J21+'---'!J21+Ա.Աթաբեկյան!J21+Ա.Մկոյան!J21+'-'!J21 -> 41 | K21: =Գ.Զաքարյան!K21+'---'!K21+Ա.Աթաբեկյան!K21+Ա.Մկոյան!K21+'-'!K21 -> 55 | L21: =Գ.Զաքարյան!L21+'---'!L21+Ա.Աթաբեկյան!L21+Ա.Մկոյան!L21+'-'!L21 -> 0 | ... V21: =Գ.Զաքարյան!V21+'---'!V21+Ա.Աթաբեկյան!V21+Ա.Մկոյան!V21+'-'!V21 -> 5
A22: 4 | B22: ԸՆԴԱՄԵՆԸ | E22: =Գ.Զաքարյան!E22+'---'!E22+Ա.Աթաբեկյան!E22+Ա.Մկոյան!E22+'-'!E22 -> 325 | F22: =Գ.Զաքարյան!F22+'---'!F22+Ա.Աթաբեկյան!F22+Ա.Մկոյան!F22+'-'!F22 -> 144 | G22: =Գ.Զաքարյան!G22+'---'!G22+Ա.Աթաբեկյան!G22+Ա.Մկոյան!G22+'-'!G22 -> 89 | H22: =Գ.Զաքարյան!H22+'---'!H22+Ա.Աթաբեկյան!H22+Ա.Մկոյան!H22+'-'!H22 -> 55 | I22: =Գ.Զաքարյան!I22+'---'!I22+Ա.Աթաբեկյան!I22+Ա.Մկոյան!I22+'-'!I22 -> 0 | J22: =Գ.Զաքարյան!J22+'---'!J22+Ա.Աթաբեկյան!J22+Ա.Մկոյան!J22+'-'!J22 -> 43 | K22: =Գ.Զաքարյան!K22+'---'!K22+Ա.Աթաբեկյան!K22+Ա.Մկոյան!K22+'-'!K22 -> 101 | L22: =Գ.Զաքարյան!L22+'---'!L22+Ա.Աթաբեկյան!L22+Ա.Մկոյան!L22+'-'!L22 -> 0 | ... V22: =Գ.Զաքարյան!V22+'---'!V22+Ա.Աթաբեկյան!V22+Ա.Մկոյան!V22+'-'!V22 -> 18

Sheet Գ.Զաքարյան
A1: Ð²ÞìºîìàôÂÚàôÜ
A2: Èàèàô Ø²ð¼Æ ÀÜ¸Ð²Üàôð Æð²ì²êàôÂÚ²Ü ²è²æÆÜ ²îÚ²ÜÆ ¸²î²ð²ÜÆ ¸²î²ìàð
A3: ¶. ¼²ø²ðÚ²ÜÆ | H3: ¶àðÌàôÜºàôÂÚ²Ü ìºð²´ºðÚ²È êÜ²ÜÎàôÂÚ²Ü ¶àðÌºðՈՎ 2017թ.
A4: ìÇ×³Ï³·ñ³Ï³Ý ïáÕÇ Ñ³Ù³ñÁ | E4: ²Ý³í³ñï ·áñÍ»ñÇ ÙÝ³óáñ¹Á Ñ³ßí»ïáõ Å³Ù³Ý³Ï³ßñç³ÝÇ ëÏ½µáõÙ | F4: êï³óí³Í ¹ÇÙáõÙÝ»ñÇ (·áñÍ»ñ) ù³Ý³ÏÁ | L4: öáË³Ýóí»É ¿ ³ÛÉ ¹³ï³íáñÇ (Ï³½ÙÇ ÷á÷áËáõÃÛáõÝ) | M4: ì³ñáõÛÃ ÁÝ¹áõÝí³Í ¹ÇÙáõÙÝ»ñáí Ï³Û³óí³Í ¹³ï³Ï³Ý ³Ïï»ñ | Q4: Ü»ñÏ³Û³óí»É ¿ ýÇÝ³Ýë³Ï³Ý ³éáÕç³óÙ³Ý Íñ³·Çñ | T4: ²í³ñïí»É »Ý ·áñÍ»ñ Ñ³ßí»ïáõ Å³Ù³Ý³Ï³ßñç³ÝáõÙ | U4: ²Ý³í³ñï ·áñÍ»ñÇ ÙÝ³óáñ¹Á Ñ³ßí»ïáõ Å³Ù³Ý³Ï³ßñç³ÝÇ í»ñçáõÙ | V4: ´áÕáù³ñÏí»É »Ý í»ñ³ùÝÝÇã ¹³ï³ñ³Ý
F6: ÀÝ¹³Ù»ÝÁ | G6: ³Û¹ ÃíáõÙ Ñ³ñÏ³¹ñí³Í ëÝ³ÝÏáõÃÛáõÝ | H6: ³Û¹ ÃíáõÙ Ï³Ù³íáñ ëÝ³ÝÏáõÃÛáõÝ | I6: ëï³óí³Í ¹ÇÙáõÙÝ»ñÇ ÁÝÃ³óùÁ | M6: Ï³Û³óí»É ¿ å³ñï³å³ÝÇÝ ëÝ³ÝÏ ×³Ý³ã»Éáõ Ù³ëÇÝ í×Çé | N6: å³ñï³å³ÝÇÝ ëÝ³ÝÏ ×³Ý³ã»Éáõ ¹ÇÙáõÙÁ Ù»ñÅí»É ¿ | O6: ¹ÇÙáõÙÁ ÃáÕÝí»É ¿ ³é³Ýó ùÝÝáõÃÛ³Ý | P6: ³Ý³í³ñï (³Û¹ ÃíáõÙ Ï³ë»óí³Í) | Q6: ÀÝ¹³Ù»ÝÁ | R6: ÃáÕÝí»É ¿ ³é³Ýó ùÝÝ³ñÏÙ³Ý | S6: Ñ³ëï³ïí»É ¿
I8: ¸ÇÙáõÙÇ ÁÝ¹áõÝáõÙÁ Ù»ñÅí»É ¿ | J8: ¸ÇÙáõÙÁ í»ñ³¹³ñÓí»É ¿ | K8: ÀÝ¹áõÝí»É ¿ í³ñáõÛÃ
E18: 1 | F18: 2 | G18: 3 | H18: 4 | I18: 5 | J18: 6 | K18: 7 | L18: 8 | M18: 9 | N18: 10 | O18: 11 | P18: 12 | Q18: 13 | R18: 14 | S18: 15 | T18: 16 | U18: 17 | V18: 18
A19: 1 | B19: Æñ³í³µ³Ý³Ï³Ý ³ÝÓÇ ëÝ³ÝÏáõÃÛ³Ý í»ñ³µ»ñÛ³É | E19: 7 | F19: =+G19+H19 -> 0 | K19: =+M19+N19+O19+P19 -> 0 | T19: 2 | U19: 5 | V19: 1
A20: 2 | B20: ²ÝÑ³ï Ó»éÝ»ñ»óÇ ëÝ³ÝÏáõÃÛ³Ý í»ñ³µ»ñÛ³É | E20: 4 | F20: =+G20+H20 -> 0 | K20: =+M20+N20+O20+P20 -> 0 | U20: 4
A21: 3 | B21: üÇ½ÇÏ³Ï³Ý ³ÝÓ³Ýó ëÝ³ÝÏáõÃÛ³Ý í»ñ³µ»ñÛ³É | E21: 7 | F21: =+G21+H21 -> 0 | K21: =+M21+N21+O21+P21 -> 0 | T21: 1 | U21: 6
A22: 4 | B22: ԸՆԴԱՄԵՆԸ | E22: =+E19+E20+E21 -> 18 | F22: =+F19+F20+F21 -> 0 | G22: =+G19+G20+G21 -> 0 | H22: =+H19+H20+H21 -> 0 | I22: =+I19+I20+I21 -> 0 | J22: =+J19+J20+J21 -> 0 | K22: =+K19+K20+K21 -> 0 | L22: =+L19+L20+L21 -> 0 | ... V22: =+V19+V20+V21 -> 1

Sheet ---
A1: Ð²ÞìºîìàôÂÚàôÜ
A2: Èàèàô Ø²ð¼Æ ÀÜ¸Ð²Üàôð Æð²ì²êàôÂÚ²Ü ²è²æÆÜ ²îÚ²ÜÆ ¸²î²ð²ÜÆ ¸²î²ìàð
H3: ¶àðÌàôÜºàôÂÚ²Ü ìºð²´ºðÚ²È êÜ²ÜÎàôÂÚ²Ü ¶àðÌºðàì
A4: ìÇ×³Ï³·ñ³Ï³Ý ïáÕÇ Ñ³Ù³ñÁ | E4: ²Ý³í³ñï ·áñÍ»ñÇ ÙÝ³óáñ¹Á Ñ³ßí»ïáõ Å³Ù³Ý³Ï³ßñç³ÝÇ ëÏ½µáõÙ | F4: êï³óí³Í ¹ÇÙáõÙÝ»ñÇ (·áñÍ»ñ) ù³Ý³ÏÁ | L4: öáË³Ýóí»É ¿ ³ÛÉ ¹³ï³íáñÇ (Ï³½ÙÇ ÷á÷áËáõÃÛáõÝ) | M4: ì³ñáõÛÃ ÁÝ¹áõÝí³Í ¹ÇÙáõÙÝ»ñáí Ï³Û³óí³Í ¹³ï³Ï³Ý ³Ïï»ñ | Q4: Ü»ñÏ³Û³óí»É ¿ ýÇÝ³Ýë³Ï³Ý ³éáÕç³óÙ³Ý Íñ³·Çñ | T4: ²í³ñïí»É »Ý ·áñÍ»ñ Ñ³ßí»ïáõ Å³Ù³Ý³Ï³ßñç³ÝáõÙ | U4: ²Ý³í³ñï ·áñÍ»ñÇ ÙÝ³óáñ¹Á Ñ³ßí»ïáõ Å³Ù³Ý³Ï³ßñç³ÝÇ í»ñçáõÙ | V4: ´áÕáù³ñÏí»É »Ý í»ñ³ùÝÝÇã ¹³ï³ñ³Ý
F6: ÀÝ¹³Ù»ÝÁ | G6: ³Û¹ ÃíáõÙ Ñ³ñÏ³¹ñí³Í ëÝ³ÝÏáõÃÛáõÝ | H6: ³Û¹ ÃíáõÙ Ï³Ù³íáñ ëÝ³ÝÏáõÃÛáõÝ | I6: ëï³óí³Í ¹ÇÙáõÙÝ»ñÇ ÁÝÃ³óùÁ | M6: Ï³Û³óí»É ¿ å³ñï³å³ÝÇÝ ëÝ³ÝÏ ×³Ý³ã»Éáõ Ù³ëÇÝ í×Çé | N6: å³ñï³å³ÝÇÝ ëÝ³ÝÏ ×³Ý³ã»Éáõ ¹ÇÙáõÙÁ Ù»ñÅí»É ¿ | O6: ¹ÇÙáõÙÁ ÃáÕÝí»É ¿ ³é³Ýó ùÝÝáõÃÛ³Ý | P6: ³Ý³í³ñï (³Û¹ ÃíáõÙ Ï³ë»óí³Í) | Q6: ÀÝ¹³Ù»ÝÁ | R6: ÃáÕÝí»É ¿ ³é³Ýó ùÝÝ³ñÏÙ³Ý | S6: Ñ³ëï³ïí»É ¿
I8: ¸ÇÙáõÙÇ ÁÝ¹áõÝáõÙÁ Ù»ñÅí»É ¿ | J8: ¸ÇÙáõÙÁ í»ñ³¹³ñÓí»É ¿ | K8: ÀÝ¹áõÝí»É ¿ í³ñáõÛÃ
E18: 1 | F18: 2 | G18: 3 | H18: 4 | I18: 5 | J18: 6 | K18: 7 | L18: 8 | M18: 9 | N18: 10 | O18: 11 | P18: 12 | Q18: 13 | R18: 14 | S18: 15 | T18: 16 | U18: 17 | V18: 18 | W18: 1+7=8+16+17 | Y18: 2=3+4 | AA18: 2=5+6+7 | AC18: 7=9+10+11+12
A19: 1 | B19: Æñ³í³µ³Ý³Ï³Ý ³ÝÓÇ ëÝ³ÝÏáõÃÛ³Ý í»ñ³µ»ñÛ³É | W19: =E19+K19 -> 0 | X19: =L19+T19+U19 -> 0 | Y19: =F19 -> 0 | Z19: =G19+H19 -> 0 | AA19: =F19 -> 0 | AB19: =I19+J19+K19 -> 0 | AC19: =K19 -> 0 | AD19: =M19+N19+O19+P19 -> 0
A20: 2 | B20: ²ÝÑ³ï Ó»éÝ»ñ»óÇ ëÝ³ÝÏáõÃÛ³Ý í»ñ³µ»ñÛ³É | W20: =E20+K20 -> 0 | X20: =L20+T20+U20 -> 0 | Y20: =F20 -> 0 | Z20: =G20+H20 -> 0 | AA20: =F20 -> 0 | AB20: =I20+J20+K20 -> 0 | AC20: =K20 -> 0 | AD20: =M20+N20+O20+P20 -> 0
A21: 3 | B21: üÇ½ÇÏ³Ï³Ý ³ÝÓ³Ýó ëÝ³ÝÏáõÃÛ³Ý í»ñ³µ»ñÛ³É | W21: =E21+K21 -> 0 | X21: =L21+T21+U21 -> 0 | Y21: =F21 -> 0 | Z21: =G21+H21 -> 0 | AA21: =F21 -> 0 | AB21: =I21+J21+K21 -> 0 | AC21: =K21 -> 0 | AD21: =M21+N21+O21+P21 -> 0
A22: 4 | B22: ԸՆԴԱՄԵՆԸ | E22: =+E19+E20+E21 -> 0 | F22: =+F19+F20+F21 -> 0 | G22: =+G19+G20+G21 -> 0 | H22: =+H19+H20+H21 -> 0 | I22: =+I19+I20+I21 -> 0 | J22: =+J19+J20+J21 -> 0 | K22: =+K19+K20+K21 -> 0 | L22: =+L19+L20+L21 -> 0 | ... V22: =+V19+V20+V21 -> 0 | W22: =E22+K22 -> 0 | X22: =L22+T22+U22 -> 0 | Y22: =F22 -> 0 | Z22: =G22+H22 -> 0 | AA22: =F22 -> 0 | AB22: =I22+J22+K22 -> 0 | AC22: =K22 -> 0 | AD22: =M22+N22+O22+P22 -> 0

Sheet Ա.Մկոյան
A1: Ð²ÞìºîìàôÂÚàôÜ
A2: Èàèàô Ø²ð¼Æ ÀÜ¸Ð²Üàôð Æð²ì²êàôÂÚ²Ü ²è²æÆÜ ²îÚ²ÜÆ ¸²î²ð²ÜÆ ¸²î²ìàð
A3: Ա. ՄԿՈՅԱՆԻ | H3: ¶àðÌàôÜºàôÂÚ²Ü ìºð²´ºðÚ²È êÜ²ÜÎàôÂÚ²Ü ¶àðÌºðՈՎ 2017թ.
A4: ìÇ×³Ï³·ñ³Ï³Ý ïáÕÇ Ñ³Ù³ñÁ | E4: ²Ý³í³ñï ·áñÍ»ñÇ ÙÝ³óáñ¹Á Ñ³ßí»ïáõ Å³Ù³Ý³Ï³ßñç³ÝÇ ëÏ½µáõÙ | F4: êï³óí³Í ¹ÇÙáõÙÝ»ñÇ (·áñÍ»ñ) ù³Ý³ÏÁ | L4: öáË³Ýóí»É ¿ ³ÛÉ ¹³ï³íáñÇ (Ï³½ÙÇ ÷á÷áËáõÃÛáõÝ) | M4: ì³ñáõÛÃ ÁÝ¹áõÝí³Í ¹ÇÙáõÙÝ»ñáí Ï³Û³óí³Í ¹³ï³Ï³Ý ³Ïï»ñ | Q4: Ü»ñÏ³Û³óí»É ¿ ýÇÝ³Ýë³Ï³Ý ³éáÕç³óÙ³Ý Íñ³·Çñ | T4: ²í³ñïí»É »Ý ·áñÍ»ñ Ñ³ßí»ïáõ Å³Ù³Ý³Ï³ßñç³ÝáõÙ | U4: ²Ý³í³ñï ·áñÍ»ñÇ ÙÝ³óáñ¹Á Ñ³ßí»ïáõ Å³Ù³Ý³Ï³ßñç³ÝÇ í»ñçáõÙ | V4: ´áÕáù³ñÏí»É »Ý í»ñ³ùÝÝÇã ¹³ï³ñ³Ý
F6: ÀÝ¹³Ù»ÝÁ | G6: ³Û¹ ÃíáõÙ Ñ³ñÏ³¹ñí³Í ëÝ³ÝÏáõÃÛáõÝ | H6: ³Û¹ ÃíáõÙ Ï³Ù³íáñ ëÝ³ÝÏáõÃÛáõÝ | I6: ëï³óí³Í ¹ÇÙáõÙÝ»ñÇ ÁÝÃ³óùÁ | M6: Ï³Û³óí»É ¿ å³ñï³å³ÝÇÝ ëÝ³ÝÏ ×³Ý³ã»Éáõ Ù³ëÇÝ í×Çé | N6: å³ñï³å³ÝÇÝ ëÝ³ÝÏ ×³Ý³ã»Éáõ ¹ÇÙáõÙÁ Ù»ñÅí»É ¿ | O6: ¹ÇÙáõÙÁ ÃáÕÝí»É ¿ ³é³Ýó ùÝÝáõÃÛ³Ý | P6: ³Ý³í³ñï (³Û¹ ÃíáõÙ Ï³ë»óí³Í) | Q6: ÀÝ¹³Ù»ÝÁ | R6: ÃáÕÝí»É ¿ ³é³Ýó ùÝÝ³ñÏÙ³Ý | S6: Ñ³ëï³ïí»É ¿
I8: ¸ÇÙáõÙÇ ÁÝ¹áõÝáõÙÁ Ù»ñÅí»É ¿ | J8: ¸ÇÙáõÙÁ í»ñ³¹³ñÓí»É ¿ | K8: ÀÝ¹áõÝí»É ¿ í³ñáõÛÃ
E18: 1 | F18: 2 | G18: 3 | H18: 4 | I18: 5 | J18: 6 | K18: 7 | L18: 8 | M18: 9 | N18: 10 | O18: 11 | P18: 12 | Q18: 13 | R18: 14 | S18: 15 | T18: 16 | U18: 17 | V18: 18
A19: 1 | B19: Æñ³í³µ³Ý³Ï³Ý ³ÝÓÇ ëÝ³ÝÏáõÃÛ³Ý í»ñ³µ»ñÛ³É | F19: =+G19+H19 -> 12 | G19: 11 | H19: 1 | J19: 1 | K19: 11 | M19: 9 | Q19: 1 | S19: 1 | T19: 4 | U19: 7 | V19: 1
A20: 2 | B20: ²ÝÑ³ï Ó»éÝ»ñ»óÇ ëÝ³ÝÏáõÃÛ³Ý í»ñ³µ»ñÛ³É | F20: =+G20+H20 -> 11 | G20: 11 | K20: 11 | M20: 10 | P20: 1 | Q20: 1 | S20: 1 | U20: 11
A21: 3 | B21: üÇ½ÇÏ³Ï³Ý ³ÝÓ³Ýó ëÝ³ÝÏáõÃÛ³Ý í»ñ³µ»ñÛ³É | F21: =+G21+H21 -> 47 | G21: 20 | H21: 27 | J21: 18 | K21: 29 | M21: 24 | N21: 1 | P21: 3 | T21: 3 | U21: 26 | V21: 3
A22: 4 | B22: ԸՆԴԱՄԵՆԸ | F22: =+F19+F20+F21 -> 70 | G22: =+G19+G20+G21 -> 42 | H22: =+H19+H20+H21 -> 28 | I22: =+I19+I20+I21 -> 0 | J22: =+J19+J20+J21 -> 19 | K22: =+K19+K20+K21 -> 51 | L22: =+L19+L20+L21 -> 0 | M22: =+M19+M20+M21 -> 43 | ... V22: =+V19+V20+V21 -> 4
D26: Ծանոթություն. 3 գործ կարճվել է

Sheet -
A1: Ð²ÞìºîìàôÂÚàôÜ
A2: Èàèàô Ø²ð¼Æ ÀÜ¸Ð²Üàôð Æð²ì²êàôÂÚ²Ü ²è²æÆÜ ²îÚ²ÜÆ ¸²î²ð²ÜÆ ¸²î²ìàð
H3: ¶àðÌàôÜºàôÂÚ²Ü ìºð²´ºðÚ²È êÜ²ÜÎàôÂÚ²Ü ¶àðÌºðàì
A4: ìÇ×³Ï³·ñ³Ï³Ý ïáÕÇ Ñ³Ù³ñÁ | E4: ²Ý³í³ñï ·áñÍ»ñÇ ÙÝ³óáñ¹Á Ñ³ßí»ïáõ Å³Ù³Ý³Ï³ßñç³ÝÇ ëÏ½µáõÙ | F4: êï³óí³Í ¹ÇÙáõÙÝ»ñÇ (·áñÍ»ñ) ù³Ý³ÏÁ | L4: öáË³Ýóí»É ¿ ³ÛÉ ¹³ï³íáñÇ (Ï³½ÙÇ ÷á÷áËáõÃÛáõÝ) | M4: ì³ñáõÛÃ ÁÝ¹áõÝí³Í ¹ÇÙáõÙÝ»ñáí Ï³Û³óí³Í ¹³ï³Ï³Ý ³Ïï»ñ | Q4: Ü»ñÏ³Û³óí»É ¿ ýÇÝ³Ýë³Ï³Ý ³éáÕç³óÙ³Ý Íñ³·Çñ | T4: ²í³ñïí»É »Ý ·áñÍ»ñ Ñ³ßí»ïáõ Å³Ù³Ý³Ï³ßñç³ÝáõÙ | U4: ²Ý³í³ñï ·áñÍ»ñÇ ÙÝ³óáñ¹Á Ñ³ßí»ïáõ Å³Ù³Ý³Ï³ßñç³ÝÇ í»ñçáõÙ | V4: ´áÕáù³ñÏí»É »Ý í»ñ³ùÝÝÇã ¹³ï³ñ³Ý
F6: ÀÝ¹³Ù»ÝÁ | G6: ³Û¹ ÃíáõÙ Ñ³ñÏ³¹ñí³Í ëÝ³ÝÏáõÃÛáõÝ | H6: ³Û¹ ÃíáõÙ Ï³Ù³íáñ ëÝ³ÝÏáõÃÛáõÝ | I6: ëï³óí³Í ¹ÇÙáõÙÝ»ñÇ ÁÝÃ³óùÁ | M6: Ï³Û³óí»É ¿ å³ñï³å³ÝÇÝ ëÝ³ÝÏ ×³Ý³ã»Éáõ Ù³ëÇÝ í×Çé | N6: å³ñï³å³ÝÇÝ ëÝ³ÝÏ ×³Ý³ã»Éáõ ¹ÇÙáõÙÁ Ù»ñÅí»É ¿ | O6: ¹ÇÙáõÙÁ ÃáÕÝí»É ¿ ³é³Ýó ùÝÝáõÃÛ³Ý | P6: ³Ý³í³ñï (³Û¹ ÃíáõÙ Ï³ë»óí³Í) | Q6: ÀÝ¹³Ù»ÝÁ | R6: ÃáÕÝí»É ¿ ³é³Ýó ùÝÝ³ñÏÙ³Ý | S6: Ñ³ëï³ïí»É ¿
I8: ¸ÇÙáõÙÇ ÁÝ¹áõÝáõÙÁ Ù»ñÅí»É ¿ | J8: ¸ÇÙáõÙÁ í»ñ³¹³ñÓí»É ¿ | K8: ÀÝ¹áõÝí»É ¿ í³ñáõÛÃ
E18: 1 | F18: 2 | G18: 3 | H18: 4 | I18: 5 | J18: 6 | K18: 7 | L18: 8 | M18: 9 | N18: 10 | O18: 11 | P18: 12 | Q18: 13 | R18: 14 | S18: 15 | T18: 16 | U18: 17 | V18: 18 | W18: 1+7=8+16+17 | Y18: 2=3+4 | AA18: 2=5+6+7 | AC18: 7=9+10+11+12
A19: 1 | B19: Æñ³í³µ³Ý³Ï³Ý ³ÝÓÇ ëÝ³ÝÏáõÃÛ³Ý í»ñ³µ»ñÛ³É | W19: =E19+K19 -> 0 | X19: =L19+T19+U19 -> 0 | Y19: =F19 -> 0 | Z19: =G19+H19 -> 0 | AA19: =F19 -> 0 | AB19: =I19+J19+K19 -> 0 | AC19: =K19 -> 0 | AD19: =M19+N19+O19+P19 -> 0
A20: 2 | B20: ²ÝÑ³ï Ó»éÝ»ñ»óÇ ëÝ³ÝÏáõÃÛ³Ý í»ñ³µ»ñÛ³É | W20: =E20+K20 -> 0 | X20: =L20+T20+U20 -> 0 | Y20: =F20 -> 0 | Z20: =G20+H20 -> 0 | AA20: =F20 -> 0 | AB20: =I20+J20+K20 -> 0 | AC20: =K20 -> 0 | AD20: =M20+N20+O20+P20 -> 0
A21: 3 | B21: üÇ½ÇÏ³Ï³Ý ³ÝÓ³Ýó ëÝ³ÝÏáõÃÛ³Ý í»ñ³µ»ñÛ³É | W21: =E21+K21 -> 0 | X21: =L21+T21+U21 -> 0 | Y21: =F21 -> 0 | Z21: =G21+H21 -> 0 | AA21: =F21 -> 0 | AB21: =I21+J21+K21 -> 0 | AC21: =K21 -> 0 | AD21: =M21+N21+O21+P21 -> 0
A22: 4 | B22: ԸՆԴԱՄԵՆԸ | F22: =+F19+F20+F21 -> 0 | G22: =+G19+G20+G21 -> 0 | H22: =+H19+H20+H21 -> 0 | I22: =+I19+I20+I21 -> 0 | J22: =+J19+J20+J21 -> 0 | K22: =+K19+K20+K21 -> 0 | L22: =+L19+L20+L21 -> 0 | M22: =+M19+M20+M21 -> 0 | ... V22: =+V19+V20+V21 -> 0 | W22: =E22+K22 -> 0 | X22: =L22+T22+U22 -> 0 | Y22: =F22 -> 0 | Z22: =G22+H22 -> 0 | AA22: =F22 -> 0 | AB22: =I22+J22+K22 -> 0 | AC22: =K22 -> 0 | AD22: =M22+N22+O22+P22 -> 0

Sheet Ա.Աթաբեկյան
A1: Ð²ÞìºîìàôÂÚàôÜ
A2: Èàèàô Ø²ð¼Æ ÀÜ¸Ð²Üàôð Æð²ì²êàôÂÚ²Ü ²è²æÆÜ ²îÚ²ÜÆ ¸²î²ð²ÜÆ ¸²î²ìàð
A3: ². ²Â²´ºÎÚ²ÜÆ | H3: ¶àðÌàôÜºàôÂÚ²Ü ìºð²´ºðÚ²È êÜ²ÜÎàôÂÚ²Ü ¶àðÌºðՈՎ 2017թ.
A4: ìÇ×³Ï³·ñ³Ï³Ý ïáÕÇ Ñ³Ù³ñÁ | E4: ²Ý³í³ñï ·áñÍ»ñÇ ÙÝ³óáñ¹Á Ñ³ßí»ïáõ Å³Ù³Ý³Ï³ßñç³ÝÇ ëÏ½µáõÙ | F4: êï³óí³Í ¹ÇÙáõÙÝ»ñÇ (·áñÍ»ñ) ù³Ý³ÏÁ | L4: öáË³Ýóí»É ¿ ³ÛÉ ¹³ï³íáñÇ (Ï³½ÙÇ ÷á÷áËáõÃÛáõÝ) | M4: ì³ñáõÛÃ ÁÝ¹áõÝí³Í ¹ÇÙáõÙÝ»ñáí Ï³Û³óí³Í ¹³ï³Ï³Ý ³Ïï»ñ | Q4: Ü»ñÏ³Û³óí»É ¿ ýÇÝ³Ýë³Ï³Ý ³éáÕç³óÙ³Ý Íñ³·Çñ | T4: ²í³ñïí»É »Ý ·áñÍ»ñ Ñ³ßí»ïáõ Å³Ù³Ý³Ï³ßñç³ÝáõÙ | U4: ²Ý³í³ñï ·áñÍ»ñÇ ÙÝ³óáñ¹Á Ñ³ßí»ïáõ Å³Ù³Ý³Ï³ßñç³ÝÇ í»ñçáõÙ | V4: ´áÕáù³ñÏí»É »Ý í»ñ³ùÝÝÇã ¹³ï³ñ³Ý
F6: ÀÝ¹³Ù»ÝÁ | G6: ³Û¹ ÃíáõÙ Ñ³ñÏ³¹ñí³Í ëÝ³ÝÏáõÃÛáõÝ | H6: ³Û¹ ÃíáõÙ Ï³Ù³íáñ ëÝ³ÝÏáõÃÛáõÝ | I6: ëï³óí³Í ¹ÇÙáõÙÝ»ñÇ ÁÝÃ³óùÁ | M6: Ï³Û³óí»É ¿ å³ñï³å³ÝÇÝ ëÝ³ÝÏ ×³Ý³ã»Éáõ Ù³ëÇÝ í×Çé | N6: å³ñï³å³ÝÇÝ ëÝ³ÝÏ ×³Ý³ã»Éáõ ¹ÇÙáõÙÁ Ù»ñÅí»É ¿ | O6: ¹ÇÙáõÙÁ ÃáÕÝí»É ¿ ³é³Ýó ùÝÝáõÃÛ³Ý | P6: ³Ý³í³ñï (³Û¹ ÃíáõÙ Ï³ë»óí³Í) | Q6: ÀÝ¹³Ù»ÝÁ | R6: ÃáÕÝí»É ¿ ³é³Ýó ùÝÝ³ñÏÙ³Ý | S6: Ñ³ëï³ïí»É ¿
I8: ¸ÇÙáõÙÇ ÁÝ¹áõÝáõÙÁ Ù»ñÅí»É ¿ | J8: ¸ÇÙáõÙÁ í»ñ³¹³ñÓí»É ¿ | K8: ÀÝ¹áõÝí»É ¿ í³ñáõÛÃ
E18: 1 | F18: 2 | G18: 3 | H18: 4 | I18: 5 | J18: 6 | K18: 7 | L18: 8 | M18: 9 | N18: 10 | O18: 11 | P18: 12 | Q18: 13 | R18: 14 | S18: 15 | T18: 16 | U18: 17 | V18: 18
A19: 1 | B19: Æñ³í³µ³Ý³Ï³Ý ³ÝÓÇ ëÝ³ÝÏáõÃÛ³Ý í»ñ³µ»ñÛ³É | E19: 145 | F19: =+G19+H19 -> 20 | G19: 19 | H19: 1 | K19: 20 | M19: 19 | N19: 1 | Q19: 2 | S19: 2 | T19: 23 | U19: 142 | V19: 10
A20: 2 | B20: ²ÝÑ³ï Ó»éÝ»ñ»óÇ ëÝ³ÝÏáõÃÛ³Ý í»ñ³µ»ñÛ³É | E20: 36 | F20: =+G20+H20 -> 5 | G20: 5 | J20: 1 | K20: 4 | M20: 3 | P20: 1 | T20: 9 | U20: 31 | V20: 1
A21: 3 | B21: üÇ½ÇÏ³Ï³Ý ³ÝÓ³Ýó ëÝ³ÝÏáõÃÛ³Ý í»ñ³µ»ñÛ³É | E21: 126 | F21: =+G21+H21 -> 49 | G21: 23 | H21: 26 | J21: 23 | K21: 26 | M21: 19 | N21: 1 | P21: 6 | Q21: 1 | S21: 1 | T21: 23 | U21: 129 | V21: 2
A22: 4 | B22: ԸՆԴԱՄԵՆԸ | E22: =+E21+E20+E19 -> 307 | F22: =+F21+F20+F19 -> 74 | G22: =+G21+G20+G19 -> 47 | H22: =+H21+H20+H19 -> 27 | I22: =+I21+I20+I19 -> 0 | J22: =+J21+J20+J19 -> 24 | K22: =+K21+K20+K19 -> 50 | L22: =+L21+L20+L19 -> 0 | ... V22: =+V21+V20+V19 -> 13
