Workbook

Sheet Ընդամենը
A1: 2017Ã. 1-ÇÝ ÏÇë³ÙÛ³Ï | D1: Ð²ÞìºîìàôÂÚàôÜ | P1: Ð³í»Éí³Í Ð³Û³ëï³ÝÇ Ð³Ýñ³å»ïáõÃÛ³Ý ¸³ï³ñ³ÝÝ»ñÇ Ý³Ë³·³ÑÝ»ñÇ ËáñÑñ¹Ç 25.08.2017Ã. ÃÇí 35-È áñáßÙ³Ý
A2: ØÇÝã¹³ï³Ï³Ý í³ñáõÛÃÇ ÝÏ³ïÙ³Ùµ ¹³ï³Ï³Ý í»ñ³ÑëÏáÕáõÃÛ³Ý, ¹³ï³Ï³Ý ³Ïï»ñÇ ¨ ¹³ï³Ï³Ý Ñ³ÝÓÝ³ñ³ñáõÃÛáõÝÝ»ñÇ Ï³ï³ñÙ³Ý Ñ»ï Ï³åí³Í ÙÇçÝáñ¹áõÃÛáõÝÝ»ñÇ í»ñ³µ»ñÛ³É ¹³ï³Ï³Ý ·áñÍ»ñáí ÐÐ ÞÇñ³ÏÇ Ù³ñ½Ç ÁÝ¹Ñ³Ýáõñ Çñ³í³ëáõÃÛ³Ý ³é³çÇÝ ³ïÛ³ÝÇ ¹³ï³ñ³ÝÇ ·áñÍáõÝ»áõÃÛ³Ý í»ñ³µ»ñÛ³É
A3: êïáõ·Çã Ñ³í³ë³ñáõÙ` 1+2=3+8+9, 8=4+5+6+7, | D3: Ð³ßí»ïáõ Å³Ù³Ý³Ï³Ñ³ïí³ÍÇ ëÏ½µáõÙ Ý³Ëáñ¹ Ñ³ßí»ïáõ Å³Ù³Ý³Ï³Ñ³ïí³ÍÇó ÷áË³Ýóí³Í ·áñÍ»ñÇ ÁÝ¹Ñ³Ýáõñ ÃÇíÁ | E3: Ð³ßí»ïáõ Å³Ù³Ý³Ï³Ñ³ïí³ÍáõÙ ëï³óí³Í ·áñÍ»ñÇ ÁÝ¹Ñ³Ýáõñ ÃÇíÁ | F3: öáË³Ýóí»É ¿ ³ÛÉ ¹³ï³íáñÇ Ï³Ù ³ÛÉ ¹³ï³ñ³Ý (Ï³½ÙÇ ÷á÷áËáõÃÛáõÝ, ÁÝ¹¹³ïáõÃÛáõÝ) | G3: Ð³ßí»ïáõ Å³Ù³Ý³Ï³Ñ³ïí³ÍáõÙ ³í³ñïí³Í ·áñÍ»ñÇ ÁÝ¹Ñ³Ýáõñ ÃÇíÁ | L3: Ð³ßí»ïáõ Å³Ù³Ý³Ï³Ñ³ïí³ÍáõÙ ³Ý³í³ñï ·áñÍ»ñÇ ÁÝ¹Ñ³Ýáõñ ÃÇíÁ | M3: ØÇçÝáñ¹áõÃÛáõÝÝ»ñáí Ï³Û³óí³Í ¹³ï³Ï³Ý ³Ïï»ñÇó µáÕáù³ñÏí³ÍÝ»ñÇ ù³Ý³ÏÁ | O3: ²Ý³í³ñï µáÕáùÝ»ñ | P3: ØÇçÝáñ¹áõÃÛáõÝÝ»ñáí Ï³Û³óí³Í ¨ µáÕáù³ñÏí³Í ¹³ï³Ï³Ý ³Ïï»ñÇó µ»Ï³Ýí³ÍÝ»ñÇ ù³Ý³ÏÁ | R3: ÙÇçÝáñ¹áõÃÛáõÝÝ»ñáí Ï³Û³óí³Í ¨ µáÕáù³ñÏí³Í ¹³ï³Ï³Ý ³Ïï»ñÇó ³Ý÷á÷áË ÃáÕÝí³ÍÝ»ñÇ ù³Ý³ÏÁ
G4: Ù»ñÅí»É ¿ | H4: µ³í³ñ³ñí»É ¿ | I4: µ³í³ñ³ñí»É ¿ Ù³ëÝ³ÏÇ | J4: ÃáÕÝí»É ¿ ³é³Ýó ùÝÝáõÃÛ³Ý | K4: ÀÝ¹³Ù»ÝÁ
M5: Ý³Ëáñ¹ ï³ñÇÝ»ñÇÝ Ï³Û³óí³Í ³Ïï»ñÇ ¹»Ù | N5: Ñ³ßí»ïáõ Å³Ù³Ý³Ï³ßñç³ÝáõÙ Ï³Û³óí³Í ³Ïï»ñÇ ¹»Ù | P5: Ý³Ëáñ¹ ï³ñÇÝ»ñÇÝ Ï³Û³óí³Í ³Ïï»ñÇ µ»Ï³ÝáõÙÝ»ñÁ | Q5: Ñ³ßí»ïáõ Å³Ù³Ý³Ï³ßñç³ÝáõÙ Ï³Û³óí³Í ³Ïï»ñÇ µ»Ï³ÝáõÙÝ»ñÁ
A6: 1. ØÇÝã¹³ï³Ï³Ý í³ñáõÛÃÇ ÝÏ³ïÙ³Ùµ ¹³ï³Ï³Ý í»ñ³ÑëÏáÕáõÃÛ³Ý áÉáñï | D6: 1 | E6: 2 | F6: 3 | G6: 4 | H6: 5 | I6: 6 | J6: 7 | K6: 8 | L6: 9 | M6: 10 | N6: 11 | O6: 12 | P6: 13 | Q6: 14 | R6: 15 | T6: 1+2=3+8+9 | V6: 8=4+5+6+7
A7: 1 | B7: Ï³É³ÝùÁ áñå»ë Ë³÷³ÝÙ³Ý ÙÇçáó ÏÇñ³é»Éáõ Ù³ëÇÝ ÙÇçÝáñ¹áõÃÛáõÝÝ»ñ | D7: =+'Մ. Գևորգյան'!D7+'Ա. Թադևոսյան'!D7+'Ա. Մանուկյան'!D7+Հ.Մովսեսյան!D7+'Ս. Մնացյան '!D7+Մ.Մարտիրոսյան!D7+'Վ. Գրիգորյան'!D7+'Ա. Խաչատրյան'!D7+'Գ. Հովհաննիսյան'!D7+'Հ. Ղազարյան'!D7+'Բ. Մկրտչյան'!D7+'Մ. Սարոյան'!D7+Լ.Խաչատրյան!D7+'Հ. Միքայելյան'!D7 -> 0 | E7: =+'Մ. Գևորգյան'!E7+'Ա. Թադևոսյան'!E7+'Ա. Մանուկյան'!E7+Հ.Մովսեսյան!E7+'Ս. Մնացյան '!E7+Մ.Մարտիրոսյան!E7+'Վ. Գրիգորյան'!E7+'Ա. Խաչատրյան'!E7+'Գ. Հովհաննիսյան'!E7+'Հ. Ղազարյան'!E7+'Բ. Մկրտչյան'!E7+'Մ. Սարոյան'!E7+Լ.Խաչատրյան!E7+'Հ. Միքայելյան'!E7 -> 124 | F7: =+'Մ. Գևորգյան'!F7+'Ա. Թադևոսյան'!F7+'Ա. Մանուկյան'!F7+Հ.Մովսեսյան!F7+'Ս. Մնացյան '!F7+Մ.Մարտիրոսյան!F7+'Վ. Գրիգորյան'!F7+'Ա. Խաչատրյան'!F7+'Գ. Հովհաննիսյան'!F7+'Հ. Ղազարյան'!F7+'Բ. Մկրտչյան'!F7+'Մ. Սարոյան'!F7+Լ.Խաչատրյան!F7+'Հ. Միքայելյան'!F7 -> 0 | G7: =+'Մ. Գևորգյան'!G7+'Ա. Թադևոսյան'!G7+'Ա. Մանուկյան'!G7+Հ.Մովսեսյան!G7+'Ս. Մնացյան '!G7+Մ.Մարտիրոսյան!G7+'Վ. Գրիգորյան'!G7+'Ա. Խաչատրյան'!G7+'Գ. Հովհաննիսյան'!G7+'Հ. Ղազարյան'!G7+'Բ. Մկրտչյան'!G7+'Մ. Սարոյան'!G7+Լ.Խաչատրյան!G7+'Հ. Միքայելյան'!G7 -> 2 | H7: =+'Մ. Գևորգյան'!H7+'Ա. Թադևոսյան'!H7+'Ա. Մանուկյան'!H7+Հ.Մովսեսյան!H7+'Ս. Մնացյան '!H7+Մ.Մարտիրոսյան!H7+'Վ. Գրիգորյան'!H7+'Ա. Խաչատրյան'!H7+'Գ. Հովհաննիսյան'!H7+'Հ. Ղազարյան'!H7+'Բ. Մկրտչյան'!H7+'Մ. Սարոյան'!H7+Լ.Խաչատրյան!H7+'Հ. Միքայելյան'!H7 -> 122 | I7: =+'Մ. Գևորգյան'!I7+'Ա. Թադևոսյան'!I7+'Ա. Մանուկյան'!I7+Հ.Մովսեսյան!I7+'Ս. Մնացյան '!I7+Մ.Մարտիրոսյան!I7+'Վ. Գրիգորյան'!I7+'Ա. Խաչատրյան'!I7+'Գ. Հովհաննիսյան'!I7+'Հ. Ղազարյան'!I7+'Բ. Մկրտչյան'!I7+'Մ. Սարոյան'!I7+Լ.Խաչատրյան!I7+'Հ. Միքայելյան'!I7 -> 0 | J7: =+'Մ. Գևորգյան'!J7+'Ա. Թադևոսյան'!J7+'Ա. Մանուկյան'!J7+Հ.Մովսեսյան!J7+'Ս. Մնացյան '!J7+Մ.Մարտիրոսյան!J7+'Վ. Գրիգորյան'!J7+'Ա. Խաչատրյան'!J7+'Գ. Հովհաննիսյան'!J7+'Հ. Ղազարյան'!J7+'Բ. Մկրտչյան'!J7+'Մ. Սարոյան'!J7+Լ.Խաչատրյան!J7+'Հ. Միքայելյան'!J7 -> 0 | K7: =+'Մ. Գևորգյան'!K7+'Ա. Թադևոսյան'!K7+'Ա. Մանուկյան'!K7+Հ.Մովսեսյան!K7+'Ս. Մնացյան '!K7+Մ.Մարտիրոսյան!K7+'Վ. Գրիգորյան'!K7+'Ա. Խաչատրյան'!K7+'Գ. Հովհաննիսյան'!K7+'Հ. Ղազարյան'!K7+'Բ. Մկրտչյան'!K7+'Մ. Սարոյան'!K7+Լ.Խաչատրյան!K7+'Հ. Միքայելյան'!K7 -> 124 | ... S7: =+'Մ. Գևորգյան'!S7+'Ա. Թադևոսյան'!S7+'Ա. Մանուկյան'!S7+Հ.Մովսեսյան!S7+'Ս. Մնացյան '!S7+Մ.Մարտիրոսյան!S7+'Վ. Գրիգորյան'!S7+'Ա. Խաչատրյան'!S7+'Գ. Հովհաննիսյան'!S7+'Հ. Ղազարյան'!S7+'Բ. Մկրտչյան'!S7+'Մ. Սարոյան'!S7+Լ.Խաչատրյան!S7+'Հ. Միքայելյան'!S7 -> 0 | T7: =D7+E7 -> 124 | U7: =F7+K7+L7 -> 124 | V7: =K7 -> 124 | W7: =G7+H7+I7+J7 -> 124
A8: 2 | B8: Ï³É³ÝùÇ Å³ÙÏ»ïÁ »ñÏ³ñ³óÝ»Éáõ Ù³ëÇÝ ÙÇçÝáñ¹áõÃÛáõÝÝ»ñ | D8: =+'Մ. Գևորգյան'!D8+'Ա. Թադևոսյան'!D8+'Ա. Մանուկյան'!D8+Հ.Մովսեսյան!D8+'Ս. Մնացյան '!D8+Մ.Մարտիրոսյան!D8+'Վ. Գրիգորյան'!D8+'Ա. Խաչատրյան'!D8+'Գ. Հովհաննիսյան'!D8+'Հ. Ղազարյան'!D8+'Բ. Մկրտչյան'!D8+'Մ. Սարոյան'!D8+Լ.Խաչատրյան!D8+'Հ. Միքայելյան'!D8 -> 2 | E8: =+'Մ. Գևորգյան'!E8+'Ա. Թադևոսյան'!E8+'Ա. Մանուկյան'!E8+Հ.Մովսեսյան!E8+'Ս. Մնացյան '!E8+Մ.Մարտիրոսյան!E8+'Վ. Գրիգորյան'!E8+'Ա. Խաչատրյան'!E8+'Գ. Հովհաննիսյան'!E8+'Հ. Ղազարյան'!E8+'Բ. Մկրտչյան'!E8+'Մ. Սարոյան'!E8+Լ.Խաչատրյան!E8+'Հ. Միքայելյան'!E8 -> 45 | F8: =+'Մ. Գևորգյան'!F8+'Ա. Թադևոսյան'!F8+'Ա. Մանուկյան'!F8+Հ.Մովսեսյան!F8+'Ս. Մնացյան '!F8+Մ.Մարտիրոսյան!F8+'Վ. Գրիգորյան'!F8+'Ա. Խաչատրյան'!F8+'Գ. Հովհաննիսյան'!F8+'Հ. Ղազարյան'!F8+'Բ. Մկրտչյան'!F8+'Մ. Սարոյան'!F8+Լ.Խաչատրյան!F8+'Հ. Միքայելյան'!F8 -> 0 | G8: =+'Մ. Գևորգյան'!G8+'Ա. Թադևոսյան'!G8+'Ա. Մանուկյան'!G8+Հ.Մովսեսյան!G8+'Ս. Մնացյան '!G8+Մ.Մարտիրոսյան!G8+'Վ. Գրիգորյան'!G8+'Ա. Խաչատրյան'!G8+'Գ. Հովհաննիսյան'!G8+'Հ. Ղազարյան'!G8+'Բ. Մկրտչյան'!G8+'Մ. Սարոյան'!G8+Լ.Խաչատրյան!G8+'Հ. Միքայելյան'!G8 -> 1 | H8: =+'Մ. Գևորգյան'!H8+'Ա. Թադևոսյան'!H8+'Ա. Մանուկյան'!H8+Հ.Մովսեսյան!H8+'Ս. Մնացյան '!H8+Մ.Մարտիրոսյան!H8+'Վ. Գրիգորյան'!H8+'Ա. Խաչատրյան'!H8+'Գ. Հովհաննիսյան'!H8+'Հ. Ղազարյան'!H8+'Բ. Մկրտչյան'!H8+'Մ. Սարոյան'!H8+Լ.Խաչատրյան!H8+'Հ. Միքայելյան'!H8 -> 43 | I8: =+'Մ. Գևորգյան'!I8+'Ա. Թադևոսյան'!I8+'Ա. Մանուկյան'!I8+Հ.Մովսեսյան!I8+'Ս. Մնացյան '!I8+Մ.Մարտիրոսյան!I8+'Վ. Գրիգորյան'!I8+'Ա. Խաչատրյան'!I8+'Գ. Հովհաննիսյան'!I8+'Հ. Ղազարյան'!I8+'Բ. Մկրտչյան'!I8+'Մ. Սարոյան'!I8+Լ.Խաչատրյան!I8+'Հ. Միքայելյան'!I8 -> 2 | J8: =+'Մ. Գևորգյան'!J8+'Ա. Թադևոսյան'!J8+'Ա. Մանուկյան'!J8+Հ.Մովսեսյան!J8+'Ս. Մնացյան '!J8+Մ.Մարտիրոսյան!J8+'Վ. Գրիգորյան'!J8+'Ա. Խաչատրյան'!J8+'Գ. Հովհաննիսյան'!J8+'Հ. Ղազարյան'!J8+'Բ. Մկրտչյան'!J8+'Մ. Սարոյան'!J8+Լ.Խաչատրյան!J8+'Հ. Միքայելյան'!J8 -> 1 | K8: =+'Մ. Գևորգյան'!K8+'Ա. Թադևոսյան'!K8+'Ա. Մանուկյան'!K8+Հ.Մովսեսյան!K8+'Ս. Մնացյան '!K8+Մ.Մարտիրոսյան!K8+'Վ. Գրիգորյան'!K8+'Ա. Խաչատրյան'!K8+'Գ. Հովհաննիսյան'!K8+'Հ. Ղազարյան'!K8+'Բ. Մկրտչյան'!K8+'Մ. Սարոյան'!K8+Լ.Խաչատրյան!K8+'Հ. Միքայելյան'!K8 -> 47 | ... S8: =+'Մ. Գևորգյան'!S8+'Ա. Թադևոսյան'!S8+'Ա. Մանուկյան'!S8+Հ.Մովսեսյան!S8+'Ս. Մնացյան '!S8+Մ.Մարտիրոսյան!S8+'Վ. Գրիգորյան'!S8+'Ա. Խաչատրյան'!S8+'Գ. Հովհաննիսյան'!S8+'Հ. Ղազարյան'!S8+'Բ. Մկրտչյան'!S8+'Մ. Սարոյան'!S8+Լ.Խաչատրյան!S8+'Հ. Միքայելյան'!S8 -> 0 | T8: =D8+E8 -> 47 | U8: =F8+K8+L8 -> 47 | V8: =K8 -> 47 | W8: =G8+H8+I8+J8 -> 47
A9: 3 | B9: Ï³É³ÝùÇ í»ñ³Ñ³ëï³ïÙ³Ý Ù³ëÇÝ ÙÇçÝáñ¹áõÃÛáõÝÝ»ñ | D9: =+'Մ. Գևորգյան'!D9+'Ա. Թադևոսյան'!D9+'Ա. Մանուկյան'!D9+Հ.Մովսեսյան!D9+'Ս. Մնացյան '!D9+Մ.Մարտիրոսյան!D9+'Վ. Գրիգորյան'!D9+'Ա. Խաչատրյան'!D9+'Գ. Հովհաննիսյան'!D9+'Հ. Ղազարյան'!D9+'Բ. Մկրտչյան'!D9+'Մ. Սարոյան'!D9+Լ.Խաչատրյան!D9+'Հ. Միքայելյան'!D9 -> 0 | E9: =+'Մ. Գևորգյան'!E9+'Ա. Թադևոսյան'!E9+'Ա. Մանուկյան'!E9+Հ.Մովսեսյան!E9+'Ս. Մնացյան '!E9+Մ.Մարտիրոսյան!E9+'Վ. Գրիգորյան'!E9+'Ա. Խաչատրյան'!E9+'Գ. Հովհաննիսյան'!E9+'Հ. Ղազարյան'!E9+'Բ. Մկրտչյան'!E9+'Մ. Սարոյան'!E9+Լ.Խաչատրյան!E9+'Հ. Միքայելյան'!E9 -> 10 | F9: =+'Մ. Գևորգյան'!F9+'Ա. Թադևոսյան'!F9+'Ա. Մանուկյան'!F9+Հ.Մովսեսյան!F9+'Ս. Մնացյան '!F9+Մ.Մարտիրոսյան!F9+'Վ. Գրիգորյան'!F9+'Ա. Խաչատրյան'!F9+'Գ. Հովհաննիսյան'!F9+'Հ. Ղազարյան'!F9+'Բ. Մկրտչյան'!F9+'Մ. Սարոյան'!F9+Լ.Խաչատրյան!F9+'Հ. Միքայելյան'!F9 -> 1 | G9: =+'Մ. Գևորգյան'!G9+'Ա. Թադևոսյան'!G9+'Ա. Մանուկյան'!G9+Հ.Մովսեսյան!G9+'Ս. Մնացյան '!G9+Մ.Մարտիրոսյան!G9+'Վ. Գրիգորյան'!G9+'Ա. Խաչատրյան'!G9+'Գ. Հովհաննիսյան'!G9+'Հ. Ղազարյան'!G9+'Բ. Մկրտչյան'!G9+'Մ. Սարոյան'!G9+Լ.Խաչատրյան!G9+'Հ. Միքայելյան'!G9 -> 6 | H9: =+'Մ. Գևորգյան'!H9+'Ա. Թադևոսյան'!H9+'Ա. Մանուկյան'!H9+Հ.Մովսեսյան!H9+'Ս. Մնացյան '!H9+Մ.Մարտիրոսյան!H9+'Վ. Գրիգորյան'!H9+'Ա. Խաչատրյան'!H9+'Գ. Հովհաննիսյան'!H9+'Հ. Ղազարյան'!H9+'Բ. Մկրտչյան'!H9+'Մ. Սարոյան'!H9+Լ.Խաչատրյան!H9+'Հ. Միքայելյան'!H9 -> 3 | I9: =+'Մ. Գևորգյան'!I9+'Ա. Թադևոսյան'!I9+'Ա. Մանուկյան'!I9+Հ.Մովսեսյան!I9+'Ս. Մնացյան '!I9+Մ.Մարտիրոսյան!I9+'Վ. Գրիգորյան'!I9+'Ա. Խաչատրյան'!I9+'Գ. Հովհաննիսյան'!I9+'Հ. Ղազարյան'!I9+'Բ. Մկրտչյան'!I9+'Մ. Սարոյան'!I9+Լ.Խաչատրյան!I9+'Հ. Միքայելյան'!I9 -> 0 | J9: =+'Մ. Գևորգյան'!J9+'Ա. Թադևոսյան'!J9+'Ա. Մանուկյան'!J9+Հ.Մովսեսյան!J9+'Ս. Մնացյան '!J9+Մ.Մարտիրոսյան!J9+'Վ. Գրիգորյան'!J9+'Ա. Խաչատրյան'!J9+'Գ. Հովհաննիսյան'!J9+'Հ. Ղազարյան'!J9+'Բ. Մկրտչյան'!J9+'Մ. Սարոյան'!J9+Լ.Խաչատրյան!J9+'Հ. Միքայելյան'!J9 -> 0 | K9: =+'Մ. Գևորգյան'!K9+'Ա. Թադևոսյան'!K9+'Ա. Մանուկյան'!K9+Հ.Մովսեսյան!K9+'Ս. Մնացյան '!K9+Մ.Մարտիրոսյան!K9+'Վ. Գրիգորյան'!K9+'Ա. Խաչատրյան'!K9+'Գ. Հովհաննիսյան'!K9+'Հ. Ղազարյան'!K9+'Բ. Մկրտչյան'!K9+'Մ. Սարոյան'!K9+Լ.Խաչատրյան!K9+'Հ. Միքայելյան'!K9 -> 9 | ... S9: =+'Մ. Գևորգյան'!S9+'Ա. Թադևոսյան'!S9+'Ա. Մանուկյան'!S9+Հ.Մովսեսյան!S9+'Ս. Մնացյան '!S9+Մ.Մարտիրոսյան!S9+'Վ. Գրիգորյան'!S9+'Ա. Խաչատրյան'!S9+'Գ. Հովհաննիսյան'!S9+'Հ. Ղազարյան'!S9+'Բ. Մկրտչյան'!S9+'Մ. Սարոյան'!S9+Լ.Խաչատրյան!S9+'Հ. Միքայելյան'!S9 -> 0 | T9: =D9+E9 -> 10 | U9: =F9+K9+L9 -> 10 | V9: =K9 -> 9 | W9: =G9+H9+I9+J9 -> 9
A10: 4 | B10: ·ñ³íÁ áñå»ë Ï³É³Ý³íáñÙ³Ý ³ÛÉÁÝïñ³Ýù³ÛÇÝ Ë³÷³ÝÙ³Ý ÙÇçáó ÏÇñ³é»Éáõ Ù³ëÇÝ ÙÇçÝáñ¹áõÃÛáõÝÝ»ñ | D10: =+'Մ. Գևորգյան'!D10+'Ա. Թադևոսյան'!D10+'Ա. Մանուկյան'!D10+Հ.Մովսեսյան!D10+'Ս. Մնացյան '!D10+Մ.Մարտիրոսյան!D10+'Վ. Գրիգորյան'!D10+'Ա. Խաչատրյան'!D10+'Գ. Հովհաննիսյան'!D10+'Հ. Ղազարյան'!D10+'Բ. Մկրտչյան'!D10+'Մ. Սարոյան'!D10+Լ.Խաչատրյան!D10+'Հ. Միքայելյան'!D10 -> 0 | E10: =+'Մ. Գևորգյան'!E10+'Ա. Թադևոսյան'!E10+'Ա. Մանուկյան'!E10+Հ.Մովսեսյան!E10+'Ս. Մնացյան '!E10+Մ.Մարտիրոսյան!E10+'Վ. Գրիգորյան'!E10+'Ա. Խաչատրյան'!E10+'Գ. Հովհաննիսյան'!E10+'Հ. Ղազարյան'!E10+'Բ. Մկրտչյան'!E10+'Մ. Սարոյան'!E10+Լ.Խաչատրյան!E10+'Հ. Միքայելյան'!E10 -> 32 | F10: =+'Մ. Գևորգյան'!F10+'Ա. Թադևոսյան'!F10+'Ա. Մանուկյան'!F10+Հ.Մովսեսյան!F10+'Ս. Մնացյան '!F10+Մ.Մարտիրոսյան!F10+'Վ. Գրիգորյան'!F10+'Ա. Խաչատրյան'!F10+'Գ. Հովհաննիսյան'!F10+'Հ. Ղազարյան'!F10+'Բ. Մկրտչյան'!F10+'Մ. Սարոյան'!F10+Լ.Խաչատրյան!F10+'Հ. Միքայելյան'!F10 -> 0 | G10: =+'Մ. Գևորգյան'!G10+'Ա. Թադևոսյան'!G10+'Ա. Մանուկյան'!G10+Հ.Մովսեսյան!G10+'Ս. Մնացյան '!G10+Մ.Մարտիրոսյան!G10+'Վ. Գրիգորյան'!G10+'Ա. Խաչատրյան'!G10+'Գ. Հովհաննիսյան'!G10+'Հ. Ղազարյան'!G10+'Բ. Մկրտչյան'!G10+'Մ. Սարոյան'!G10+Լ.Խաչատրյան!G10+'Հ. Միքայելյան'!G10 -> 28 | H10: =+'Մ. Գևորգյան'!H10+'Ա. Թադևոսյան'!H10+'Ա. Մանուկյան'!H10+Հ.Մովսեսյան!H10+'Ս. Մնացյան '!H10+Մ.Մարտիրոսյան!H10+'Վ. Գրիգորյան'!H10+'Ա. Խաչատրյան'!H10+'Գ. Հովհաննիսյան'!H10+'Հ. Ղազարյան'!H10+'Բ. Մկրտչյան'!H10+'Մ. Սարոյան'!H10+Լ.Խաչատրյան!H10+'Հ. Միքայելյան'!H10 -> 4 | I10: =+'Մ. Գևորգյան'!I10+'Ա. Թադևոսյան'!I10+'Ա. Մանուկյան'!I10+Հ.Մովսեսյան!I10+'Ս. Մնացյան '!I10+Մ.Մարտիրոսյան!I10+'Վ. Գրիգորյան'!I10+'Ա. Խաչատրյան'!I10+'Գ. Հովհաննիսյան'!I10+'Հ. Ղազարյան'!I10+'Բ. Մկրտչյան'!I10+'Մ. Սարոյան'!I10+Լ.Խաչատրյան!I10+'Հ. Միքայելյան'!I10 -> 0 | J10: =+'Մ. Գևորգյան'!J10+'Ա. Թադևոսյան'!J10+'Ա. Մանուկյան'!J10+Հ.Մովսեսյան!J10+'Ս. Մնացյան '!J10+Մ.Մարտիրոսյան!J10+'Վ. Գրիգորյան'!J10+'Ա. Խաչատրյան'!J10+'Գ. Հովհաննիսյան'!J10+'Հ. Ղազարյան'!J10+'Բ. Մկրտչյան'!J10+'Մ. Սարոյան'!J10+Լ.Խաչատրյան!J10+'Հ. Միքայելյան'!J10 -> 0 | K10: =+'Մ. Գևորգյան'!K10+'Ա. Թադևոսյան'!K10+'Ա. Մանուկյան'!K10+Հ.Մովսեսյան!K10+'Ս. Մնացյան '!K10+Մ.Մարտիրոսյան!K10+'Վ. Գրիգորյան'!K10+'Ա. Խաչատրյան'!K10+'Գ. Հովհաննիսյան'!K10+'Հ. Ղազարյան'!K10+'Բ. Մկրտչյան'!K10+'Մ. Սարոյան'!K10+Լ.Խաչատրյան!K10+'Հ. Միքայելյան'!K10 -> 32 | ... S10: =+'Մ. Գևորգյան'!S10+'Ա. Թադևոսյան'!S10+'Ա. Մանուկյան'!S10+Հ.Մովսեսյան!S10+'Ս. Մնացյան '!S10+Մ.Մարտիրոսյան!S10+'Վ. Գրիգորյան'!S10+'Ա. Խաչատրյան'!S10+'Գ. Հովհաննիսյան'!S10+'Հ. Ղազարյան'!S10+'Բ. Մկրտչյան'!S10+'Մ. Սարոյան'!S10+Լ.Խաչատրյան!S10+'Հ. Միքայելյան'!S10 -> 0 | T10: =D10+E10 -> 32 | U10: =F10+K10+L10 -> 32 | V10: =K10 -> 32 | W10: =G10+H10+I10+J10 -> 32
A11: 5 | B11: Ëáõ½³ñÏáõÃÛ³Ý Ï³ï³ñÙ³Ý Ù³ëÇÝ ÙÇçÝáñ¹áõÃÛáõÝÝ»ñ | D11: =+'Մ. Գևորգյան'!D11+'Ա. Թադևոսյան'!D11+'Ա. Մանուկյան'!D11+Հ.Մովսեսյան!D11+'Ս. Մնացյան '!D11+Մ.Մարտիրոսյան!D11+'Վ. Գրիգորյան'!D11+'Ա. Խաչատրյան'!D11+'Գ. Հովհաննիսյան'!D11+'Հ. Ղազարյան'!D11+'Բ. Մկրտչյան'!D11+'Մ. Սարոյան'!D11+Լ.Խաչատրյան!D11+'Հ. Միքայելյան'!D11 -> 0 | E11: =+'Մ. Գևորգյան'!E11+'Ա. Թադևոսյան'!E11+'Ա. Մանուկյան'!E11+Հ.Մովսեսյան!E11+'Ս. Մնացյան '!E11+Մ.Մարտիրոսյան!E11+'Վ. Գրիգորյան'!E11+'Ա. Խաչատրյան'!E11+'Գ. Հովհաննիսյան'!E11+'Հ. Ղազարյան'!E11+'Բ. Մկրտչյան'!E11+'Մ. Սարոյան'!E11+Լ.Խաչատրյան!E11+'Հ. Միքայելյան'!E11 -> 221 | F11: =+'Մ. Գևորգյան'!F11+'Ա. Թադևոսյան'!F11+'Ա. Մանուկյան'!F11+Հ.Մովսեսյան!F11+'Ս. Մնացյան '!F11+Մ.Մարտիրոսյան!F11+'Վ. Գրիգորյան'!F11+'Ա. Խաչատրյան'!F11+'Գ. Հովհաննիսյան'!F11+'Հ. Ղազարյան'!F11+'Բ. Մկրտչյան'!F11+'Մ. Սարոյան'!F11+Լ.Խաչատրյան!F11+'Հ. Միքայելյան'!F11 -> 0 | G11: =+'Մ. Գևորգյան'!G11+'Ա. Թադևոսյան'!G11+'Ա. Մանուկյան'!G11+Հ.Մովսեսյան!G11+'Ս. Մնացյան '!G11+Մ.Մարտիրոսյան!G11+'Վ. Գրիգորյան'!G11+'Ա. Խաչատրյան'!G11+'Գ. Հովհաննիսյան'!G11+'Հ. Ղազարյան'!G11+'Բ. Մկրտչյան'!G11+'Մ. Սարոյան'!G11+Լ.Խաչատրյան!G11+'Հ. Միքայելյան'!G11 -> 5 | H11: =+'Մ. Գևորգյան'!H11+'Ա. Թադևոսյան'!H11+'Ա. Մանուկյան'!H11+Հ.Մովսեսյան!H11+'Ս. Մնացյան '!H11+Մ.Մարտիրոսյան!H11+'Վ. Գրիգորյան'!H11+'Ա. Խաչատրյան'!H11+'Գ. Հովհաննիսյան'!H11+'Հ. Ղազարյան'!H11+'Բ. Մկրտչյան'!H11+'Մ. Սարոյան'!H11+Լ.Խաչատրյան!H11+'Հ. Միքայելյան'!H11 -> 215 | I11: =+'Մ. Գևորգյան'!I11+'Ա. Թադևոսյան'!I11+'Ա. Մանուկյան'!I11+Հ.Մովսեսյան!I11+'Ս. Մնացյան '!I11+Մ.Մարտիրոսյան!I11+'Վ. Գրիգորյան'!I11+'Ա. Խաչատրյան'!I11+'Գ. Հովհաննիսյան'!I11+'Հ. Ղազարյան'!I11+'Բ. Մկրտչյան'!I11+'Մ. Սարոյան'!I11+Լ.Խաչատրյան!I11+'Հ. Միքայելյան'!I11 -> 1 | J11: =+'Մ. Գևորգյան'!J11+'Ա. Թադևոսյան'!J11+'Ա. Մանուկյան'!J11+Հ.Մովսեսյան!J11+'Ս. Մնացյան '!J11+Մ.Մարտիրոսյան!J11+'Վ. Գրիգորյան'!J11+'Ա. Խաչատրյան'!J11+'Գ. Հովհաննիսյան'!J11+'Հ. Ղազարյան'!J11+'Բ. Մկրտչյան'!J11+'Մ. Սարոյան'!J11+Լ.Խաչատրյան!J11+'Հ. Միքայելյան'!J11 -> 0 | K11: =+'Մ. Գևորգյան'!K11+'Ա. Թադևոսյան'!K11+'Ա. Մանուկյան'!K11+Հ.Մովսեսյան!K11+'Ս. Մնացյան '!K11+Մ.Մարտիրոսյան!K11+'Վ. Գրիգորյան'!K11+'Ա. Խաչատրյան'!K11+'Գ. Հովհաննիսյան'!K11+'Հ. Ղազարյան'!K11+'Բ. Մկրտչյան'!K11+'Մ. Սարոյան'!K11+Լ.Խաչատրյան!K11+'Հ. Միքայելյան'!K11 -> 221 | ... S11: =+'Մ. Գևորգյան'!S11+'Ա. Թադևոսյան'!S11+'Ա. Մանուկյան'!S11+Հ.Մովսեսյան!S11+'Ս. Մնացյան '!S11+Մ.Մարտիրոսյան!S11+'Վ. Գրիգորյան'!S11+'Ա. Խաչատրյան'!S11+'Գ. Հովհաննիսյան'!S11+'Հ. Ղազարյան'!S11+'Բ. Մկրտչյան'!S11+'Մ. Սարոյան'!S11+Լ.Խաչատրյան!S11+'Հ. Միքայելյան'!S11 -> 0 | T11: =D11+E11 -> 221 | U11: =F11+K11+L11 -> 221 | V11: =K11 -> 221 | W11: =G11+H11+I11+J11 -> 221
A12: 6 | B12: µ³ÝÏ³ÛÇÝ, ³å³Ñáí³·ñ³Ï³Ý, Ýáï³ñ³Ï³Ý ·³ÕïÝÇù Ï³½ÙáÕ ï»Õ»ÏáõÃÛáõÝÝ»ñÇ ëï³óÙ³Ý Ñ³Ù³ñ Ëáõ½³ñÏáõÃÛ³Ý Ï³Ù ³é·ñ³íÙ³Ý Ï³ï³ñÙ³Ý Ù³ëÇÝ ÙÇçÝáñ¹áõÃÛáõÝÝ»ñ | D12: =+'Մ. Գևորգյան'!D12+'Ա. Թադևոսյան'!D12+'Ա. Մանուկյան'!D12+Հ.Մովսեսյան!D12+'Ս. Մնացյան '!D12+Մ.Մարտիրոսյան!D12+'Վ. Գրիգորյան'!D12+'Ա. Խաչատրյան'!D12+'Գ. Հովհաննիսյան'!D12+'Հ. Ղազարյան'!D12+'Բ. Մկրտչյան'!D12+'Մ. Սարոյան'!D12+Լ.Խաչատրյան!D12+'Հ. Միքայելյան'!D12 -> 0 | E12: =+'Մ. Գևորգյան'!E12+'Ա. Թադևոսյան'!E12+'Ա. Մանուկյան'!E12+Հ.Մովսեսյան!E12+'Ս. Մնացյան '!E12+Մ.Մարտիրոսյան!E12+'Վ. Գրիգորյան'!E12+'Ա. Խաչատրյան'!E12+'Գ. Հովհաննիսյան'!E12+'Հ. Ղազարյան'!E12+'Բ. Մկրտչյան'!E12+'Մ. Սարոյան'!E12+Լ.Խաչատրյան!E12+'Հ. Միքայելյան'!E12 -> 11 | F12: =+'Մ. Գևորգյան'!F12+'Ա. Թադևոսյան'!F12+'Ա. Մանուկյան'!F12+Հ.Մովսեսյան!F12+'Ս. Մնացյան '!F12+Մ.Մարտիրոսյան!F12+'Վ. Գրիգորյան'!F12+'Ա. Խաչատրյան'!F12+'Գ. Հովհաննիսյան'!F12+'Հ. Ղազարյան'!F12+'Բ. Մկրտչյան'!F12+'Մ. Սարոյան'!F12+Լ.Խաչատրյան!F12+'Հ. Միքայելյան'!F12 -> 0 | G12: =+'Մ. Գևորգյան'!G12+'Ա. Թադևոսյան'!G12+'Ա. Մանուկյան'!G12+Հ.Մովսեսյան!G12+'Ս. Մնացյան '!G12+Մ.Մարտիրոսյան!G12+'Վ. Գրիգորյան'!G12+'Ա. Խաչատրյան'!G12+'Գ. Հովհաննիսյան'!G12+'Հ. Ղազարյան'!G12+'Բ. Մկրտչյան'!G12+'Մ. Սարոյան'!G12+Լ.Խաչատրյան!G12+'Հ. Միքայելյան'!G12 -> 1 | H12: =+'Մ. Գևորգյան'!H12+'Ա. Թադևոսյան'!H12+'Ա. Մանուկյան'!H12+Հ.Մովսեսյան!H12+'Ս. Մնացյան '!H12+Մ.Մարտիրոսյան!H12+'Վ. Գրիգորյան'!H12+'Ա. Խաչատրյան'!H12+'Գ. Հովհաննիսյան'!H12+'Հ. Ղազարյան'!H12+'Բ. Մկրտչյան'!H12+'Մ. Սարոյան'!H12+Լ.Խաչատրյան!H12+'Հ. Միքայելյան'!H12 -> 10 | I12: =+'Մ. Գևորգյան'!I12+'Ա. Թադևոսյան'!I12+'Ա. Մանուկյան'!I12+Հ.Մովսեսյան!I12+'Ս. Մնացյան '!I12+Մ.Մարտիրոսյան!I12+'Վ. Գրիգորյան'!I12+'Ա. Խաչատրյան'!I12+'Գ. Հովհաննիսյան'!I12+'Հ. Ղազարյան'!I12+'Բ. Մկրտչյան'!I12+'Մ. Սարոյան'!I12+Լ.Խաչատրյան!I12+'Հ. Միքայելյան'!I12 -> 0 | J12: =+'Մ. Գևորգյան'!J12+'Ա. Թադևոսյան'!J12+'Ա. Մանուկյան'!J12+Հ.Մովսեսյան!J12+'Ս. Մնացյան '!J12+Մ.Մարտիրոսյան!J12+'Վ. Գրիգորյան'!J12+'Ա. Խաչատրյան'!J12+'Գ. Հովհաննիսյան'!J12+'Հ. Ղազարյան'!J12+'Բ. Մկրտչյան'!J12+'Մ. Սարոյան'!J12+Լ.Խաչատրյան!J12+'Հ. Միքայելյան'!J12 -> 0 | K12: =+'Մ. Գևորգյան'!K12+'Ա. Թադևոսյան'!K12+'Ա. Մանուկյան'!K12+Հ.Մովսեսյան!K12+'Ս. Մնացյան '!K12+Մ.Մարտիրոսյան!K12+'Վ. Գրիգորյան'!K12+'Ա. Խաչատրյան'!K12+'Գ. Հովհաննիսյան'!K12+'Հ. Ղազարյան'!K12+'Բ. Մկրտչյան'!K12+'Մ. Սարոյան'!K12+Լ.Խաչատրյան!K12+'Հ. Միքայելյան'!K12 -> 11 | ... S12: =+'Մ. Գևորգյան'!S12+'Ա. Թադևոսյան'!S12+'Ա. Մանուկյան'!S12+Հ.Մովսեսյան!S12+'Ս. Մնացյան '!S12+Մ.Մարտիրոսյան!S12+'Վ. Գրիգորյան'!S12+'Ա. Խաչատրյան'!S12+'Գ. Հովհաննիսյան'!S12+'Հ. Ղազարյան'!S12+'Բ. Մկրտչյան'!S12+'Մ. Սարոյան'!S12+Լ.Խաչատրյան!S12+'Հ. Միքայելյան'!S12 -> 0 | T12: =D12+E12 -> 11 | U12: =F12+K12+L12 -> 11 | V12: =K12 -> 11 | W12: =G12+H12+I12+J12 -> 11
A13: 7 | B13: Ý³Ù³Ï³·ñáõÃÛ³Ý, Ñ»é³·ñ³Ï³Ý, ÷áuï³ÛÇÝ Ñ³Õáñ¹áõÙÝ»ñÇ ÑëÏáÕáõÃÛ³Ý Ù³ëÇÝ ÙÇçÝáñ¹áõÃÛáõÝÝ»ñ | D13: =+'Մ. Գևորգյան'!D13+'Ա. Թադևոսյան'!D13+'Ա. Մանուկյան'!D13+Հ.Մովսեսյան!D13+'Ս. Մնացյան '!D13+Մ.Մարտիրոսյան!D13+'Վ. Գրիգորյան'!D13+'Ա. Խաչատրյան'!D13+'Գ. Հովհաննիսյան'!D13+'Հ. Ղազարյան'!D13+'Բ. Մկրտչյան'!D13+'Մ. Սարոյան'!D13+Լ.Խաչատրյան!D13+'Հ. Միքայելյան'!D13 -> 0 | E13: =+'Մ. Գևորգյան'!E13+'Ա. Թադևոսյան'!E13+'Ա. Մանուկյան'!E13+Հ.Մովսեսյան!E13+'Ս. Մնացյան '!E13+Մ.Մարտիրոսյան!E13+'Վ. Գրիգորյան'!E13+'Ա. Խաչատրյան'!E13+'Գ. Հովհաննիսյան'!E13+'Հ. Ղազարյան'!E13+'Բ. Մկրտչյան'!E13+'Մ. Սարոյան'!E13+Լ.Խաչատրյան!E13+'Հ. Միքայելյան'!E13 -> 12 | F13: =+'Մ. Գևորգյան'!F13+'Ա. Թադևոսյան'!F13+'Ա. Մանուկյան'!F13+Հ.Մովսեսյան!F13+'Ս. Մնացյան '!F13+Մ.Մարտիրոսյան!F13+'Վ. Գրիգորյան'!F13+'Ա. Խաչատրյան'!F13+'Գ. Հովհաննիսյան'!F13+'Հ. Ղազարյան'!F13+'Բ. Մկրտչյան'!F13+'Մ. Սարոյան'!F13+Լ.Խաչատրյան!F13+'Հ. Միքայելյան'!F13 -> 0 | G13: =+'Մ. Գևորգյան'!G13+'Ա. Թադևոսյան'!G13+'Ա. Մանուկյան'!G13+Հ.Մովսեսյան!G13+'Ս. Մնացյան '!G13+Մ.Մարտիրոսյան!G13+'Վ. Գրիգորյան'!G13+'Ա. Խաչատրյան'!G13+'Գ. Հովհաննիսյան'!G13+'Հ. Ղազարյան'!G13+'Բ. Մկրտչյան'!G13+'Մ. Սարոյան'!G13+Լ.Խաչատրյան!G13+'Հ. Միքայելյան'!G13 -> 0 | H13: =+'Մ. Գևորգյան'!H13+'Ա. Թադևոսյան'!H13+'Ա. Մանուկյան'!H13+Հ.Մովսեսյան!H13+'Ս. Մնացյան '!H13+Մ.Մարտիրոսյան!H13+'Վ. Գրիգորյան'!H13+'Ա. Խաչատրյան'!H13+'Գ. Հովհաննիսյան'!H13+'Հ. Ղազարյան'!H13+'Բ. Մկրտչյան'!H13+'Մ. Սարոյան'!H13+Լ.Խաչատրյան!H13+'Հ. Միքայելյան'!H13 -> 12 | I13: =+'Մ. Գևորգյան'!I13+'Ա. Թադևոսյան'!I13+'Ա. Մանուկյան'!I13+Հ.Մովսեսյան!I13+'Ս. Մնացյան '!I13+Մ.Մարտիրոսյան!I13+'Վ. Գրիգորյան'!I13+'Ա. Խաչատրյան'!I13+'Գ. Հովհաննիսյան'!I13+'Հ. Ղազարյան'!I13+'Բ. Մկրտչյան'!I13+'Մ. Սարոյան'!I13+Լ.Խաչատրյան!I13+'Հ. Միքայելյան'!I13 -> 0 | J13: =+'Մ. Գևորգյան'!J13+'Ա. Թադևոսյան'!J13+'Ա. Մանուկյան'!J13+Հ.Մովսեսյան!J13+'Ս. Մնացյան '!J13+Մ.Մարտիրոսյան!J13+'Վ. Գրիգորյան'!J13+'Ա. Խաչատրյան'!J13+'Գ. Հովհաննիսյան'!J13+'Հ. Ղազարյան'!J13+'Բ. Մկրտչյան'!J13+'Մ. Սարոյան'!J13+Լ.Խաչատրյան!J13+'Հ. Միքայելյան'!J13 -> 0 | K13: =+'Մ. Գևորգյան'!K13+'Ա. Թադևոսյան'!K13+'Ա. Մանուկյան'!K13+Հ.Մովսեսյան!K13+'Ս. Մնացյան '!K13+Մ.Մարտիրոսյան!K13+'Վ. Գրիգորյան'!K13+'Ա. Խաչատրյան'!K13+'Գ. Հովհաննիսյան'!K13+'Հ. Ղազարյան'!K13+'Բ. Մկրտչյան'!K13+'Մ. Սարոյան'!K13+Լ.Խաչատրյան!K13+'Հ. Միքայելյան'!K13 -> 12 | ... S13: =+'Մ. Գևորգյան'!S13+'Ա. Թադևոսյան'!S13+'Ա. Մանուկյան'!S13+Հ.Մովսեսյան!S13+'Ս. Մնացյան '!S13+Մ.Մարտիրոսյան!S13+'Վ. Գրիգորյան'!S13+'Ա. Խաչատրյան'!S13+'Գ. Հովհաննիսյան'!S13+'Հ. Ղազարյան'!S13+'Բ. Մկրտչյան'!S13+'Մ. Սարոյան'!S13+Լ.Խաչատրյան!S13+'Հ. Միքայելյան'!S13 -> 0 | T13: =D13+E13 -> 12 | U13: =F13+K13+L13 -> 12 | V13: =K13 -> 12 | W13: =G13+H13+I13+J13 -> 12
A14: 8 | B14: Ñ»é³Ëáu³ÛÇÝ Ï³Ù Ï³åÇ ³ÛÉ ÙÇçáóÝ»ñáí ï³ñíáÕ Ëáu³ÏóáõÃÛáõÝÝ»ñÇ ÉuÙ³Ý ¨ Ó³ÛÝ³·ñ³éÙ³Ý Ù³ëÇÝ ÙÇçÝáñ¹áõÃÛáõÝÝ»ñ | D14: =+'Մ. Գևորգյան'!D14+'Ա. Թադևոսյան'!D14+'Ա. Մանուկյան'!D14+Հ.Մովսեսյան!D14+'Ս. Մնացյան '!D14+Մ.Մարտիրոսյան!D14+'Վ. Գրիգորյան'!D14+'Ա. Խաչատրյան'!D14+'Գ. Հովհաննիսյան'!D14+'Հ. Ղազարյան'!D14+'Բ. Մկրտչյան'!D14+'Մ. Սարոյան'!D14+Լ.Խաչատրյան!D14+'Հ. Միքայելյան'!D14 -> 0 | E14: =+'Մ. Գևորգյան'!E14+'Ա. Թադևոսյան'!E14+'Ա. Մանուկյան'!E14+Հ.Մովսեսյան!E14+'Ս. Մնացյան '!E14+Մ.Մարտիրոսյան!E14+'Վ. Գրիգորյան'!E14+'Ա. Խաչատրյան'!E14+'Գ. Հովհաննիսյան'!E14+'Հ. Ղազարյան'!E14+'Բ. Մկրտչյան'!E14+'Մ. Սարոյան'!E14+Լ.Խաչատրյան!E14+'Հ. Միքայելյան'!E14 -> 0 | F14: =+'Մ. Գևորգյան'!F14+'Ա. Թադևոսյան'!F14+'Ա. Մանուկյան'!F14+Հ.Մովսեսյան!F14+'Ս. Մնացյան '!F14+Մ.Մարտիրոսյան!F14+'Վ. Գրիգորյան'!F14+'Ա. Խաչատրյան'!F14+'Գ. Հովհաննիսյան'!F14+'Հ. Ղազարյան'!F14+'Բ. Մկրտչյան'!F14+'Մ. Սարոյան'!F14+Լ.Խաչատրյան!F14+'Հ. Միքայելյան'!F14 -> 0 | G14: =+'Մ. Գևորգյան'!G14+'Ա. Թադևոսյան'!G14+'Ա. Մանուկյան'!G14+Հ.Մովսեսյան!G14+'Ս. Մնացյան '!G14+Մ.Մարտիրոսյան!G14+'Վ. Գրիգորյան'!G14+'Ա. Խաչատրյան'!G14+'Գ. Հովհաննիսյան'!G14+'Հ. Ղազարյան'!G14+'Բ. Մկրտչյան'!G14+'Մ. Սարոյան'!G14+Լ.Խաչատրյան!G14+'Հ. Միքայելյան'!G14 -> 0 | H14: =+'Մ. Գևորգյան'!H14+'Ա. Թադևոսյան'!H14+'Ա. Մանուկյան'!H14+Հ.Մովսեսյան!H14+'Ս. Մնացյան '!H14+Մ.Մարտիրոսյան!H14+'Վ. Գրիգորյան'!H14+'Ա. Խաչատրյան'!H14+'Գ. Հովհաննիսյան'!H14+'Հ. Ղազարյան'!H14+'Բ. Մկրտչյան'!H14+'Մ. Սարոյան'!H14+Լ.Խաչատրյան!H14+'Հ. Միքայելյան'!H14 -> 0 | I14: =+'Մ. Գևորգյան'!I14+'Ա. Թադևոսյան'!I14+'Ա. Մանուկյան'!I14+Հ.Մովսեսյան!I14+'Ս. Մնացյան '!I14+Մ.Մարտիրոսյան!I14+'Վ. Գրիգորյան'!I14+'Ա. Խաչատրյան'!I14+'Գ. Հովհաննիսյան'!I14+'Հ. Ղազարյան'!I14+'Բ. Մկրտչյան'!I14+'Մ. Սարոյան'!I14+Լ.Խաչատրյան!I14+'Հ. Միքայելյան'!I14 -> 0 | J14: =+'Մ. Գևորգյան'!J14+'Ա. Թադևոսյան'!J14+'Ա. Մանուկյան'!J14+Հ.Մովսեսյան!J14+'Ս. Մնացյան '!J14+Մ.Մարտիրոսյան!J14+'Վ. Գրիգորյան'!J14+'Ա. Խաչատրյան'!J14+'Գ. Հովհաննիսյան'!J14+'Հ. Ղազարյան'!J14+'Բ. Մկրտչյան'!J14+'Մ. Սարոյան'!J14+Լ.Խաչատրյան!J14+'Հ. Միքայելյան'!J14 -> 0 | K14: =+'Մ. Գևորգյան'!K14+'Ա. Թադևոսյան'!K14+'Ա. Մանուկյան'!K14+Հ.Մովսեսյան!K14+'Ս. Մնացյան '!K14+Մ.Մարտիրոսյան!K14+'Վ. Գրիգորյան'!K14+'Ա. Խաչատրյան'!K14+'Գ. Հովհաննիսյան'!K14+'Հ. Ղազարյան'!K14+'Բ. Մկրտչյան'!K14+'Մ. Սարոյան'!K14+Լ.Խաչատրյան!K14+'Հ. Միքայելյան'!K14 -> 0 | ... S14: =+'Մ. Գևորգյան'!S14+'Ա. Թադևոսյան'!S14+'Ա. Մանուկյան'!S14+Հ.Մովսեսյան!S14+'Ս. Մնացյան '!S14+Մ.Մարտիրոսյան!S14+'Վ. Գրիգորյան'!S14+'Ա. Խաչատրյան'!S14+'Գ. Հովհաննիսյան'!S14+'Հ. Ղազարյան'!S14+'Բ. Մկրտչյան'!S14+'Մ. Սարոյան'!S14+Լ.Խաչատրյան!S14+'Հ. Միքայելյան'!S14 -> 0 | T14: =D14+E14 -> 0 | U14: =F14+K14+L14 -> 0 | V14: =K14 -> 0 | W14: =G14+H14+I14+J14 -> 0
A15: 9 | B15: Ñ»é³ËáëÝ»ñÇ Ùáõïù³ÛÇÝ ¨ »Éù³ÛÇÝ í»ñÍ³ÝÙ³Ý ÃáõÛÉïíáõÃÛáõÝ ëï³Ý³Éáõ Ù³ëÇÝ ÙÇçÝáñ¹áõÃÛáõÝÝ»ñ | D15: =+'Մ. Գևորգյան'!D15+'Ա. Թադևոսյան'!D15+'Ա. Մանուկյան'!D15+Հ.Մովսեսյան!D15+'Ս. Մնացյան '!D15+Մ.Մարտիրոսյան!D15+'Վ. Գրիգորյան'!D15+'Ա. Խաչատրյան'!D15+'Գ. Հովհաննիսյան'!D15+'Հ. Ղազարյան'!D15+'Բ. Մկրտչյան'!D15+'Մ. Սարոյան'!D15+Լ.Խաչատրյան!D15+'Հ. Միքայելյան'!D15 -> 0 | E15: =+'Մ. Գևորգյան'!E15+'Ա. Թադևոսյան'!E15+'Ա. Մանուկյան'!E15+Հ.Մովսեսյան!E15+'Ս. Մնացյան '!E15+Մ.Մարտիրոսյան!E15+'Վ. Գրիգորյան'!E15+'Ա. Խաչատրյան'!E15+'Գ. Հովհաննիսյան'!E15+'Հ. Ղազարյան'!E15+'Բ. Մկրտչյան'!E15+'Մ. Սարոյան'!E15+Լ.Խաչատրյան!E15+'Հ. Միքայելյան'!E15 -> 121 | F15: =+'Մ. Գևորգյան'!F15+'Ա. Թադևոսյան'!F15+'Ա. Մանուկյան'!F15+Հ.Մովսեսյան!F15+'Ս. Մնացյան '!F15+Մ.Մարտիրոսյան!F15+'Վ. Գրիգորյան'!F15+'Ա. Խաչատրյան'!F15+'Գ. Հովհաննիսյան'!F15+'Հ. Ղազարյան'!F15+'Բ. Մկրտչյան'!F15+'Մ. Սարոյան'!F15+Լ.Խաչատրյան!F15+'Հ. Միքայելյան'!F15 -> 0 | G15: =+'Մ. Գևորգյան'!G15+'Ա. Թադևոսյան'!G15+'Ա. Մանուկյան'!G15+Հ.Մովսեսյան!G15+'Ս. Մնացյան '!G15+Մ.Մարտիրոսյան!G15+'Վ. Գրիգորյան'!G15+'Ա. Խաչատրյան'!G15+'Գ. Հովհաննիսյան'!G15+'Հ. Ղազարյան'!G15+'Բ. Մկրտչյան'!G15+'Մ. Սարոյան'!G15+Լ.Խաչատրյան!G15+'Հ. Միքայելյան'!G15 -> 1 | H15: =+'Մ. Գևորգյան'!H15+'Ա. Թադևոսյան'!H15+'Ա. Մանուկյան'!H15+Հ.Մովսեսյան!H15+'Ս. Մնացյան '!H15+Մ.Մարտիրոսյան!H15+'Վ. Գրիգորյան'!H15+'Ա. Խաչատրյան'!H15+'Գ. Հովհաննիսյան'!H15+'Հ. Ղազարյան'!H15+'Բ. Մկրտչյան'!H15+'Մ. Սարոյան'!H15+Լ.Խաչատրյան!H15+'Հ. Միքայելյան'!H15 -> 113 | I15: =+'Մ. Գևորգյան'!I15+'Ա. Թադևոսյան'!I15+'Ա. Մանուկյան'!I15+Հ.Մովսեսյան!I15+'Ս. Մնացյան '!I15+Մ.Մարտիրոսյան!I15+'Վ. Գրիգորյան'!I15+'Ա. Խաչատրյան'!I15+'Գ. Հովհաննիսյան'!I15+'Հ. Ղազարյան'!I15+'Բ. Մկրտչյան'!I15+'Մ. Սարոյան'!I15+Լ.Խաչատրյան!I15+'Հ. Միքայելյան'!I15 -> 7 | J15: =+'Մ. Գևորգյան'!J15+'Ա. Թադևոսյան'!J15+'Ա. Մանուկյան'!J15+Հ.Մովսեսյան!J15+'Ս. Մնացյան '!J15+Մ.Մարտիրոսյան!J15+'Վ. Գրիգորյան'!J15+'Ա. Խաչատրյան'!J15+'Գ. Հովհաննիսյան'!J15+'Հ. Ղազարյան'!J15+'Բ. Մկրտչյան'!J15+'Մ. Սարոյան'!J15+Լ.Խաչատրյան!J15+'Հ. Միքայելյան'!J15 -> 0 | K15: =+'Մ. Գևորգյան'!K15+'Ա. Թադևոսյան'!K15+'Ա. Մանուկյան'!K15+Հ.Մովսեսյան!K15+'Ս. Մնացյան '!K15+Մ.Մարտիրոսյան!K15+'Վ. Գրիգորյան'!K15+'Ա. Խաչատրյան'!K15+'Գ. Հովհաննիսյան'!K15+'Հ. Ղազարյան'!K15+'Բ. Մկրտչյան'!K15+'Մ. Սարոյան'!K15+Լ.Խաչատրյան!K15+'Հ. Միքայելյան'!K15 -> 121 | ... S15: =+'Մ. Գևորգյան'!S15+'Ա. Թադևոսյան'!S15+'Ա. Մանուկյան'!S15+Հ.Մովսեսյան!S15+'Ս. Մնացյան '!S15+Մ.Մարտիրոսյան!S15+'Վ. Գրիգորյան'!S15+'Ա. Խաչատրյան'!S15+'Գ. Հովհաննիսյան'!S15+'Հ. Ղազարյան'!S15+'Բ. Մկրտչյան'!S15+'Մ. Սարոյան'!S15+Լ.Խաչատրյան!S15+'Հ. Միքայելյան'!S15 -> 0 | T15: =D15+E15 -> 121 | U15: =F15+K15+L15 -> 121 | V15: =K15 -> 121 | W15: =G15+H15+I15+J15 -> 121
A16: 10 | B16: Ñ»ï³ùÝÝáõÃÛ³Ý Ù³ñÙÝÇ ³ßË³ïáÕÇ, ùÝÝÇãÇ, ¹³ï³Ë³½Ç oå»ñ³ïÇí-Ñ»ï³Ëáõ½³Ï³Ý ·áñÍáÕáõÃÛáõÝÝ»ñ Çñ³Ï³Ý³óÝáÕ Ù³ñÙÇÝÝ»ñÇ ³ÝoñÇÝ³Ï³Ý ¨ ³ÝÑÇÙÝ áñáßáõÙÝ»ñÇ ¨ ·áñÍáÕáõÃÛáõÝÝ»ñÇ ¹»Ù µáÕáùÝ»ñ | D16: =+'Մ. Գևորգյան'!D16+'Ա. Թադևոսյան'!D16+'Ա. Մանուկյան'!D16+Հ.Մովսեսյան!D16+'Ս. Մնացյան '!D16+Մ.Մարտիրոսյան!D16+'Վ. Գրիգորյան'!D16+'Ա. Խաչատրյան'!D16+'Գ. Հովհաննիսյան'!D16+'Հ. Ղազարյան'!D16+'Բ. Մկրտչյան'!D16+'Մ. Սարոյան'!D16+Լ.Խաչատրյան!D16+'Հ. Միքայելյան'!D16 -> 2 | E16: =+'Մ. Գևորգյան'!E16+'Ա. Թադևոսյան'!E16+'Ա. Մանուկյան'!E16+Հ.Մովսեսյան!E16+'Ս. Մնացյան '!E16+Մ.Մարտիրոսյան!E16+'Վ. Գրիգորյան'!E16+'Ա. Խաչատրյան'!E16+'Գ. Հովհաննիսյան'!E16+'Հ. Ղազարյան'!E16+'Բ. Մկրտչյան'!E16+'Մ. Սարոյան'!E16+Լ.Խաչատրյան!E16+'Հ. Միքայելյան'!E16 -> 6 | F16: =+'Մ. Գևորգյան'!F16+'Ա. Թադևոսյան'!F16+'Ա. Մանուկյան'!F16+Հ.Մովսեսյան!F16+'Ս. Մնացյան '!F16+Մ.Մարտիրոսյան!F16+'Վ. Գրիգորյան'!F16+'Ա. Խաչատրյան'!F16+'Գ. Հովհաննիսյան'!F16+'Հ. Ղազարյան'!F16+'Բ. Մկրտչյան'!F16+'Մ. Սարոյան'!F16+Լ.Խաչատրյան!F16+'Հ. Միքայելյան'!F16 -> 0 | G16: =+'Մ. Գևորգյան'!G16+'Ա. Թադևոսյան'!G16+'Ա. Մանուկյան'!G16+Հ.Մովսեսյան!G16+'Ս. Մնացյան '!G16+Մ.Մարտիրոսյան!G16+'Վ. Գրիգորյան'!G16+'Ա. Խաչատրյան'!G16+'Գ. Հովհաննիսյան'!G16+'Հ. Ղազարյան'!G16+'Բ. Մկրտչյան'!G16+'Մ. Սարոյան'!G16+Լ.Խաչատրյան!G16+'Հ. Միքայելյան'!G16 -> 3 | H16: =+'Մ. Գևորգյան'!H16+'Ա. Թադևոսյան'!H16+'Ա. Մանուկյան'!H16+Հ.Մովսեսյան!H16+'Ս. Մնացյան '!H16+Մ.Մարտիրոսյան!H16+'Վ. Գրիգորյան'!H16+'Ա. Խաչատրյան'!H16+'Գ. Հովհաննիսյան'!H16+'Հ. Ղազարյան'!H16+'Բ. Մկրտչյան'!H16+'Մ. Սարոյան'!H16+Լ.Խաչատրյան!H16+'Հ. Միքայելյան'!H16 -> 0 | I16: =+'Մ. Գևորգյան'!I16+'Ա. Թադևոսյան'!I16+'Ա. Մանուկյան'!I16+Հ.Մովսեսյան!I16+'Ս. Մնացյան '!I16+Մ.Մարտիրոսյան!I16+'Վ. Գրիգորյան'!I16+'Ա. Խաչատրյան'!I16+'Գ. Հովհաննիսյան'!I16+'Հ. Ղազարյան'!I16+'Բ. Մկրտչյան'!I16+'Մ. Սարոյան'!I16+Լ.Խաչատրյան!I16+'Հ. Միքայելյան'!I16 -> 2 | J16: =+'Մ. Գևորգյան'!J16+'Ա. Թադևոսյան'!J16+'Ա. Մանուկյան'!J16+Հ.Մովսեսյան!J16+'Ս. Մնացյան '!J16+Մ.Մարտիրոսյան!J16+'Վ. Գրիգորյան'!J16+'Ա. Խաչատրյան'!J16+'Գ. Հովհաննիսյան'!J16+'Հ. Ղազարյան'!J16+'Բ. Մկրտչյան'!J16+'Մ. Սարոյան'!J16+Լ.Խաչատրյան!J16+'Հ. Միքայելյան'!J16 -> 0 | K16: =+'Մ. Գևորգյան'!K16+'Ա. Թադևոսյան'!K16+'Ա. Մանուկյան'!K16+Հ.Մովսեսյան!K16+'Ս. Մնացյան '!K16+Մ.Մարտիրոսյան!K16+'Վ. Գրիգորյան'!K16+'Ա. Խաչատրյան'!K16+'Գ. Հովհաննիսյան'!K16+'Հ. Ղազարյան'!K16+'Բ. Մկրտչյան'!K16+'Մ. Սարոյան'!K16+Լ.Խաչատրյան!K16+'Հ. Միքայելյան'!K16 -> 5 | ... S16: =+'Մ. Գևորգյան'!S16+'Ա. Թադևոսյան'!S16+'Ա. Մանուկյան'!S16+Հ.Մովսեսյան!S16+'Ս. Մնացյան '!S16+Մ.Մարտիրոսյան!S16+'Վ. Գրիգորյան'!S16+'Ա. Խաչատրյան'!S16+'Գ. Հովհաննիսյան'!S16+'Հ. Ղազարյան'!S16+'Բ. Մկրտչյան'!S16+'Մ. Սարոյան'!S16+Լ.Խաչատրյան!S16+'Հ. Միքայելյան'!S16 -> 0 | T16: =D16+E16 -> 8 | U16: =F16+K16+L16 -> 8 | V16: =K16 -> 5 | W16: =G16+H16+I16+J16 -> 5
A17: 11 | B17: ²½³ïáõÃÛáõÝÇó ½ñÏ»Éáõ Çñ³í³ã³÷áõÃÛ³Ý í»ñ³µ»ñÛ³É µáÕáùÝ»ñáí ·áñÍ»ñ | D17: =+'Մ. Գևորգյան'!D17+'Ա. Թադևոսյան'!D17+'Ա. Մանուկյան'!D17+Հ.Մովսեսյան!D17+'Ս. Մնացյան '!D17+Մ.Մարտիրոսյան!D17+'Վ. Գրիգորյան'!D17+'Ա. Խաչատրյան'!D17+'Գ. Հովհաննիսյան'!D17+'Հ. Ղազարյան'!D17+'Բ. Մկրտչյան'!D17+'Մ. Սարոյան'!D17+Լ.Խաչատրյան!D17+'Հ. Միքայելյան'!D17 -> 0 | E17: =+'Մ. Գևորգյան'!E17+'Ա. Թադևոսյան'!E17+'Ա. Մանուկյան'!E17+Հ.Մովսեսյան!E17+'Ս. Մնացյան '!E17+Մ.Մարտիրոսյան!E17+'Վ. Գրիգորյան'!E17+'Ա. Խաչատրյան'!E17+'Գ. Հովհաննիսյան'!E17+'Հ. Ղազարյան'!E17+'Բ. Մկրտչյան'!E17+'Մ. Սարոյան'!E17+Լ.Խաչատրյան!E17+'Հ. Միքայելյան'!E17 -> 0 | F17: =+'Մ. Գևորգյան'!F17+'Ա. Թադևոսյան'!F17+'Ա. Մանուկյան'!F17+Հ.Մովսեսյան!F17+'Ս. Մնացյան '!F17+Մ.Մարտիրոսյան!F17+'Վ. Գրիգորյան'!F17+'Ա. Խաչատրյան'!F17+'Գ. Հովհաննիսյան'!F17+'Հ. Ղազարյան'!F17+'Բ. Մկրտչյան'!F17+'Մ. Սարոյան'!F17+Լ.Խաչատրյան!F17+'Հ. Միքայելյան'!F17 -> 0 | G17: =+'Մ. Գևորգյան'!G17+'Ա. Թադևոսյան'!G17+'Ա. Մանուկյան'!G17+Հ.Մովսեսյան!G17+'Ս. Մնացյան '!G17+Մ.Մարտիրոսյան!G17+'Վ. Գրիգորյան'!G17+'Ա. Խաչատրյան'!G17+'Գ. Հովհաննիսյան'!G17+'Հ. Ղազարյան'!G17+'Բ. Մկրտչյան'!G17+'Մ. Սարոյան'!G17+Լ.Խաչատրյան!G17+'Հ. Միքայելյան'!G17 -> 0 | H17: =+'Մ. Գևորգյան'!H17+'Ա. Թադևոսյան'!H17+'Ա. Մանուկյան'!H17+Հ.Մովսեսյան!H17+'Ս. Մնացյան '!H17+Մ.Մարտիրոսյան!H17+'Վ. Գրիգորյան'!H17+'Ա. Խաչատրյան'!H17+'Գ. Հովհաննիսյան'!H17+'Հ. Ղազարյան'!H17+'Բ. Մկրտչյան'!H17+'Մ. Սարոյան'!H17+Լ.Խաչատրյան!H17+'Հ. Միքայելյան'!H17 -> 0 | I17: =+'Մ. Գևորգյան'!I17+'Ա. Թադևոսյան'!I17+'Ա. Մանուկյան'!I17+Հ.Մովսեսյան!I17+'Ս. Մնացյան '!I17+Մ.Մարտիրոսյան!I17+'Վ. Գրիգորյան'!I17+'Ա. Խաչատրյան'!I17+'Գ. Հովհաննիսյան'!I17+'Հ. Ղազարյան'!I17+'Բ. Մկրտչյան'!I17+'Մ. Սարոյան'!I17+Լ.Խաչատրյան!I17+'Հ. Միքայելյան'!I17 -> 0 | J17: =+'Մ. Գևորգյան'!J17+'Ա. Թադևոսյան'!J17+'Ա. Մանուկյան'!J17+Հ.Մովսեսյան!J17+'Ս. Մնացյան '!J17+Մ.Մարտիրոսյան!J17+'Վ. Գրիգորյան'!J17+'Ա. Խաչատրյան'!J17+'Գ. Հովհաննիսյան'!J17+'Հ. Ղազարյան'!J17+'Բ. Մկրտչյան'!J17+'Մ. Սարոյան'!J17+Լ.Խաչատրյան!J17+'Հ. Միքայելյան'!J17 -> 0 | K17: =+'Մ. Գևորգյան'!K17+'Ա. Թադևոսյան'!K17+'Ա. Մանուկյան'!K17+Հ.Մովսեսյան!K17+'Ս. Մնացյան '!K17+Մ.Մարտիրոսյան!K17+'Վ. Գրիգորյան'!K17+'Ա. Խաչատրյան'!K17+'Գ. Հովհաննիսյան'!K17+'Հ. Ղազարյան'!K17+'Բ. Մկրտչյան'!K17+'Մ. Սարոյան'!K17+Լ.Խաչատրյան!K17+'Հ. Միքայելյան'!K17 -> 0 | ... S17: =+'Մ. Գևորգյան'!S17+'Ա. Թադևոսյան'!S17+'Ա. Մանուկյան'!S17+Հ.Մովսեսյան!S17+'Ս. Մնացյան '!S17+Մ.Մարտիրոսյան!S17+'Վ. Գրիգորյան'!S17+'Ա. Խաչատրյան'!S17+'Գ. Հովհաննիսյան'!S17+'Հ. Ղազարյան'!S17+'Բ. Մկրտչյան'!S17+'Մ. Սարոյան'!S17+Լ.Խաչատրյան!S17+'Հ. Միքայելյան'!S17 -> 0 | T17: =D17+E17 -> 0 | U17: =F17+K17+L17 -> 0 | V17: =K17 -> 0 | W17: =G17+H17+I17+J17 -> 0
A18: 2. ¸³ï³Ï³Ý ³Ïï»ñÇ ¨ ¹³ï³Ï³Ý Ñ³ÝÓÝ³ñ³ñáõÃÛáõÝÝ»ñÇ Ï³ï³ñÙ³Ý Ñ»ï Ï³åí³Í Ñ³ñó»ñÇ ÉáõÍÙ³Ý áÉáñï
A19: 1 | B19: å³ïÅÇó å³ÛÙ³Ý³Ï³Ý í³Õ³Å³ÙÏ»ï ³½³ï»Éáõ Ù³ëÇÝ ÙÇçÝáñ¹áõÃÛáõÝÝ»ñ | D19: =+'Մ. Գևորգյան'!D19+'Ա. Թադևոսյան'!D19+'Ա. Մանուկյան'!D19+Հ.Մովսեսյան!D19+'Ս. Մնացյան '!D19+Մ.Մարտիրոսյան!D19+'Վ. Գրիգորյան'!D19+'Ա. Խաչատրյան'!D19+'Գ. Հովհաննիսյան'!D19+'Հ. Ղազարյան'!D19+'Բ. Մկրտչյան'!D19+'Մ. Սարոյան'!D19+Լ.Խաչատրյան!D19+'Հ. Միքայելյան'!D19 -> 2 | E19: =+'Մ. Գևորգյան'!E19+'Ա. Թադևոսյան'!E19+'Ա. Մանուկյան'!E19+Հ.Մովսեսյան!E19+'Ս. Մնացյան '!E19+Մ.Մարտիրոսյան!E19+'Վ. Գրիգորյան'!E19+'Ա. Խաչատրյան'!E19+'Գ. Հովհաննիսյան'!E19+'Հ. Ղազարյան'!E19+'Բ. Մկրտչյան'!E19+'Մ. Սարոյան'!E19+Լ.Խաչատրյան!E19+'Հ. Միքայելյան'!E19 -> 10 | F19: =+'Մ. Գևորգյան'!F19+'Ա. Թադևոսյան'!F19+'Ա. Մանուկյան'!F19+Հ.Մովսեսյան!F19+'Ս. Մնացյան '!F19+Մ.Մարտիրոսյան!F19+'Վ. Գրիգորյան'!F19+'Ա. Խաչատրյան'!F19+'Գ. Հովհաննիսյան'!F19+'Հ. Ղազարյան'!F19+'Բ. Մկրտչյան'!F19+'Մ. Սարոյան'!F19+Լ.Խաչատրյան!F19+'Հ. Միքայելյան'!F19 -> 0 | G19: =+'Մ. Գևորգյան'!G19+'Ա. Թադևոսյան'!G19+'Ա. Մանուկյան'!G19+Հ.Մովսեսյան!G19+'Ս. Մնացյան '!G19+Մ.Մարտիրոսյան!G19+'Վ. Գրիգորյան'!G19+'Ա. Խաչատրյան'!G19+'Գ. Հովհաննիսյան'!G19+'Հ. Ղազարյան'!G19+'Բ. Մկրտչյան'!G19+'Մ. Սարոյան'!G19+Լ.Խաչատրյան!G19+'Հ. Միքայելյան'!G19 -> 5 | H19: =+'Մ. Գևորգյան'!H19+'Ա. Թադևոսյան'!H19+'Ա. Մանուկյան'!H19+Հ.Մովսեսյան!H19+'Ս. Մնացյան '!H19+Մ.Մարտիրոսյան!H19+'Վ. Գրիգորյան'!H19+'Ա. Խաչատրյան'!H19+'Գ. Հովհաննիսյան'!H19+'Հ. Ղազարյան'!H19+'Բ. Մկրտչյան'!H19+'Մ. Սարոյան'!H19+Լ.Խաչատրյան!H19+'Հ. Միքայելյան'!H19 -> 7 | I19: =+'Մ. Գևորգյան'!I19+'Ա. Թադևոսյան'!I19+'Ա. Մանուկյան'!I19+Հ.Մովսեսյան!I19+'Ս. Մնացյան '!I19+Մ.Մարտիրոսյան!I19+'Վ. Գրիգորյան'!I19+'Ա. Խաչատրյան'!I19+'Գ. Հովհաննիսյան'!I19+'Հ. Ղազարյան'!I19+'Բ. Մկրտչյան'!I19+'Մ. Սարոյան'!I19+Լ.Խաչատրյան!I19+'Հ. Միքայելյան'!I19 -> 0 | J19: =+'Մ. Գևորգյան'!J19+'Ա. Թադևոսյան'!J19+'Ա. Մանուկյան'!J19+Հ.Մովսեսյան!J19+'Ս. Մնացյան '!J19+Մ.Մարտիրոսյան!J19+'Վ. Գրիգորյան'!J19+'Ա. Խաչատրյան'!J19+'Գ. Հովհաննիսյան'!J19+'Հ. Ղազարյան'!J19+'Բ. Մկրտչյան'!J19+'Մ. Սարոյան'!J19+Լ.Խաչատրյան!J19+'Հ. Միքայելյան'!J19 -> 0 | K19: =+'Մ. Գևորգյան'!K19+'Ա. Թադևոսյան'!K19+'Ա. Մանուկյան'!K19+Հ.Մովսեսյան!K19+'Ս. Մնացյան '!K19+Մ.Մարտիրոսյան!K19+'Վ. Գրիգորյան'!K19+'Ա. Խաչատրյան'!K19+'Գ. Հովհաննիսյան'!K19+'Հ. Ղազարյան'!K19+'Բ. Մկրտչյան'!K19+'Մ. Սարոյան'!K19+Լ.Խաչատրյան!K19+'Հ. Միքայելյան'!K19 -> 12 | ... S19: =+'Մ. Գևորգյան'!S19+'Ա. Թադևոսյան'!S19+'Ա. Մանուկյան'!S19+Հ.Մովսեսյան!S19+'Ս. Մնացյան '!S19+Մ.Մարտիրոսյան!S19+'Վ. Գրիգորյան'!S19+'Ա. Խաչատրյան'!S19+'Գ. Հովհաննիսյան'!S19+'Հ. Ղազարյան'!S19+'Բ. Մկրտչյան'!S19+'Մ. Սարոյան'!S19+Լ.Խաչատրյան!S19+'Հ. Միքայելյան'!S19 -> 0 | T19: =D19+E19 -> 12 | U19: =F19+K19+L19 -> 12 | V19: =K19 -> 12 | W19: =G19+H19+I19+J19 -> 12
A20: 2 | B20: å³ïÇÅÁ ÷á÷áË»Éáõ, Ñ»ï³Ó·»Éáõ ¨ å³ïÅÇó ³½³ï»Éáõ Ù³uÇÝ ÙÇçÝáñ¹áõÃÛáõÝÝ»ñ | D20: =+'Մ. Գևորգյան'!D20+'Ա. Թադևոսյան'!D20+'Ա. Մանուկյան'!D20+Հ.Մովսեսյան!D20+'Ս. Մնացյան '!D20+Մ.Մարտիրոսյան!D20+'Վ. Գրիգորյան'!D20+'Ա. Խաչատրյան'!D20+'Գ. Հովհաննիսյան'!D20+'Հ. Ղազարյան'!D20+'Բ. Մկրտչյան'!D20+'Մ. Սարոյան'!D20+Լ.Խաչատրյան!D20+'Հ. Միքայելյան'!D20 -> 1 | E20: =+'Մ. Գևորգյան'!E20+'Ա. Թադևոսյան'!E20+'Ա. Մանուկյան'!E20+Հ.Մովսեսյան!E20+'Ս. Մնացյան '!E20+Մ.Մարտիրոսյան!E20+'Վ. Գրիգորյան'!E20+'Ա. Խաչատրյան'!E20+'Գ. Հովհաննիսյան'!E20+'Հ. Ղազարյան'!E20+'Բ. Մկրտչյան'!E20+'Մ. Սարոյան'!E20+Լ.Խաչատրյան!E20+'Հ. Միքայելյան'!E20 -> 36 | F20: =+'Մ. Գևորգյան'!F20+'Ա. Թադևոսյան'!F20+'Ա. Մանուկյան'!F20+Հ.Մովսեսյան!F20+'Ս. Մնացյան '!F20+Մ.Մարտիրոսյան!F20+'Վ. Գրիգորյան'!F20+'Ա. Խաչատրյան'!F20+'Գ. Հովհաննիսյան'!F20+'Հ. Ղազարյան'!F20+'Բ. Մկրտչյան'!F20+'Մ. Սարոյան'!F20+Լ.Խաչատրյան!F20+'Հ. Միքայելյան'!F20 -> 0 | G20: =+'Մ. Գևորգյան'!G20+'Ա. Թադևոսյան'!G20+'Ա. Մանուկյան'!G20+Հ.Մովսեսյան!G20+'Ս. Մնացյան '!G20+Մ.Մարտիրոսյան!G20+'Վ. Գրիգորյան'!G20+'Ա. Խաչատրյան'!G20+'Գ. Հովհաննիսյան'!G20+'Հ. Ղազարյան'!G20+'Բ. Մկրտչյան'!G20+'Մ. Սարոյան'!G20+Լ.Խաչատրյան!G20+'Հ. Միքայելյան'!G20 -> 11 | H20: =+'Մ. Գևորգյան'!H20+'Ա. Թադևոսյան'!H20+'Ա. Մանուկյան'!H20+Հ.Մովսեսյան!H20+'Ս. Մնացյան '!H20+Մ.Մարտիրոսյան!H20+'Վ. Գրիգորյան'!H20+'Ա. Խաչատրյան'!H20+'Գ. Հովհաննիսյան'!H20+'Հ. Ղազարյան'!H20+'Բ. Մկրտչյան'!H20+'Մ. Սարոյան'!H20+Լ.Խաչատրյան!H20+'Հ. Միքայելյան'!H20 -> 14 | I20: =+'Մ. Գևորգյան'!I20+'Ա. Թադևոսյան'!I20+'Ա. Մանուկյան'!I20+Հ.Մովսեսյան!I20+'Ս. Մնացյան '!I20+Մ.Մարտիրոսյան!I20+'Վ. Գրիգորյան'!I20+'Ա. Խաչատրյան'!I20+'Գ. Հովհաննիսյան'!I20+'Հ. Ղազարյան'!I20+'Բ. Մկրտչյան'!I20+'Մ. Սարոյան'!I20+Լ.Խաչատրյան!I20+'Հ. Միքայելյան'!I20 -> 1 | J20: =+'Մ. Գևորգյան'!J20+'Ա. Թադևոսյան'!J20+'Ա. Մանուկյան'!J20+Հ.Մովսեսյան!J20+'Ս. Մնացյան '!J20+Մ.Մարտիրոսյան!J20+'Վ. Գրիգորյան'!J20+'Ա. Խաչատրյան'!J20+'Գ. Հովհաննիսյան'!J20+'Հ. Ղազարյան'!J20+'Բ. Մկրտչյան'!J20+'Մ. Սարոյան'!J20+Լ.Խաչատրյան!J20+'Հ. Միքայելյան'!J20 -> 0 | K20: =+'Մ. Գևորգյան'!K20+'Ա. Թադևոսյան'!K20+'Ա. Մանուկյան'!K20+Հ.Մովսեսյան!K20+'Ս. Մնացյան '!K20+Մ.Մարտիրոսյան!K20+'Վ. Գրիգորյան'!K20+'Ա. Խաչատրյան'!K20+'Գ. Հովհաննիսյան'!K20+'Հ. Ղազարյան'!K20+'Բ. Մկրտչյան'!K20+'Մ. Սարոյան'!K20+Լ.Խաչատրյան!K20+'Հ. Միքայելյան'!K20 -> 26 | ... S20: =+'Մ. Գևորգյան'!S20+'Ա. Թադևոսյան'!S20+'Ա. Մանուկյան'!S20+Հ.Մովսեսյան!S20+'Ս. Մնացյան '!S20+Մ.Մարտիրոսյան!S20+'Վ. Գրիգորյան'!S20+'Ա. Խաչատրյան'!S20+'Գ. Հովհաննիսյան'!S20+'Հ. Ղազարյան'!S20+'Բ. Մկրտչյան'!S20+'Մ. Սարոյան'!S20+Լ.Խաչատրյան!S20+'Հ. Միքայելյան'!S20 -> 0 | T20: =D20+E20 -> 37 | U20: =F20+K20+L20 -> 37 | V20: =K20 -> 26 | W20: =G20+H20+I20+J20 -> 26
A21: 3 | B21: Ñ³ñÏ³¹Çñ µáõÅÙ³Ý ï»ë³ÏÇ ÷á÷áËáõÃÛ³Ý Ù³ëÇÝ ÙÇçÝáñ¹áõÃÛáõÝÝ»ñ | D21: =+'Մ. Գևորգյան'!D21+'Ա. Թադևոսյան'!D21+'Ա. Մանուկյան'!D21+Հ.Մովսեսյան!D21+'Ս. Մնացյան '!D21+Մ.Մարտիրոսյան!D21+'Վ. Գրիգորյան'!D21+'Ա. Խաչատրյան'!D21+'Գ. Հովհաննիսյան'!D21+'Հ. Ղազարյան'!D21+'Բ. Մկրտչյան'!D21+'Մ. Սարոյան'!D21+Լ.Խաչատրյան!D21+'Հ. Միքայելյան'!D21 -> 0 | E21: =+'Մ. Գևորգյան'!E21+'Ա. Թադևոսյան'!E21+'Ա. Մանուկյան'!E21+Հ.Մովսեսյան!E21+'Ս. Մնացյան '!E21+Մ.Մարտիրոսյան!E21+'Վ. Գրիգորյան'!E21+'Ա. Խաչատրյան'!E21+'Գ. Հովհաննիսյան'!E21+'Հ. Ղազարյան'!E21+'Բ. Մկրտչյան'!E21+'Մ. Սարոյան'!E21+Լ.Խաչատրյան!E21+'Հ. Միքայելյան'!E21 -> 4 | F21: =+'Մ. Գևորգյան'!F21+'Ա. Թադևոսյան'!F21+'Ա. Մանուկյան'!F21+Հ.Մովսեսյան!F21+'Ս. Մնացյան '!F21+Մ.Մարտիրոսյան!F21+'Վ. Գրիգորյան'!F21+'Ա. Խաչատրյան'!F21+'Գ. Հովհաննիսյան'!F21+'Հ. Ղազարյան'!F21+'Բ. Մկրտչյան'!F21+'Մ. Սարոյան'!F21+Լ.Խաչատրյան!F21+'Հ. Միքայելյան'!F21 -> 0 | G21: =+'Մ. Գևորգյան'!G21+'Ա. Թադևոսյան'!G21+'Ա. Մանուկյան'!G21+Հ.Մովսեսյան!G21+'Ս. Մնացյան '!G21+Մ.Մարտիրոսյան!G21+'Վ. Գրիգորյան'!G21+'Ա. Խաչատրյան'!G21+'Գ. Հովհաննիսյան'!G21+'Հ. Ղազարյան'!G21+'Բ. Մկրտչյան'!G21+'Մ. Սարոյան'!G21+Լ.Խաչատրյան!G21+'Հ. Միքայելյան'!G21 -> 0 | H21: =+'Մ. Գևորգյան'!H21+'Ա. Թադևոսյան'!H21+'Ա. Մանուկյան'!H21+Հ.Մովսեսյան!H21+'Ս. Մնացյան '!H21+Մ.Մարտիրոսյան!H21+'Վ. Գրիգորյան'!H21+'Ա. Խաչատրյան'!H21+'Գ. Հովհաննիսյան'!H21+'Հ. Ղազարյան'!H21+'Բ. Մկրտչյան'!H21+'Մ. Սարոյան'!H21+Լ.Խաչատրյան!H21+'Հ. Միքայելյան'!H21 -> 3 | I21: =+'Մ. Գևորգյան'!I21+'Ա. Թադևոսյան'!I21+'Ա. Մանուկյան'!I21+Հ.Մովսեսյան!I21+'Ս. Մնացյան '!I21+Մ.Մարտիրոսյան!I21+'Վ. Գրիգորյան'!I21+'Ա. Խաչատրյան'!I21+'Գ. Հովհաննիսյան'!I21+'Հ. Ղազարյան'!I21+'Բ. Մկրտչյան'!I21+'Մ. Սարոյան'!I21+Լ.Խաչատրյան!I21+'Հ. Միքայելյան'!I21 -> 1 | J21: =+'Մ. Գևորգյան'!J21+'Ա. Թադևոսյան'!J21+'Ա. Մանուկյան'!J21+Հ.Մովսեսյան!J21+'Ս. Մնացյան '!J21+Մ.Մարտիրոսյան!J21+'Վ. Գրիգորյան'!J21+'Ա. Խաչատրյան'!J21+'Գ. Հովհաննիսյան'!J21+'Հ. Ղազարյան'!J21+'Բ. Մկրտչյան'!J21+'Մ. Սարոյան'!J21+Լ.Խաչատրյան!J21+'Հ. Միքայելյան'!J21 -> 0 | K21: =+'Մ. Գևորգյան'!K21+'Ա. Թադևոսյան'!K21+'Ա. Մանուկյան'!K21+Հ.Մովսեսյան!K21+'Ս. Մնացյան '!K21+Մ.Մարտիրոսյան!K21+'Վ. Գրիգորյան'!K21+'Ա. Խաչատրյան'!K21+'Գ. Հովհաննիսյան'!K21+'Հ. Ղազարյան'!K21+'Բ. Մկրտչյան'!K21+'Մ. Սարոյան'!K21+Լ.Խաչատրյան!K21+'Հ. Միքայելյան'!K21 -> 4 | ... S21: =+'Մ. Գևորգյան'!S21+'Ա. Թադևոսյան'!S21+'Ա. Մանուկյան'!S21+Հ.Մովսեսյան!S21+'Ս. Մնացյան '!S21+Մ.Մարտիրոսյան!S21+'Վ. Գրիգորյան'!S21+'Ա. Խաչատրյան'!S21+'Գ. Հովհաննիսյան'!S21+'Հ. Ղազարյան'!S21+'Բ. Մկրտչյան'!S21+'Մ. Սարոյան'!S21+Լ.Խաչատրյան!S21+'Հ. Միքայելյան'!S21 -> 0 | T21: =D21+E21 -> 4 | U21: =F21+K21+L21 -> 4 | V21: =K21 -> 4 | W21: =G21+H21+I21+J21 -> 4
A22: 4 | B22: ³ÛÉ ÙÇçÝáñ¹áõÃÛáõÝÝ»ñ | D22: =+'Մ. Գևորգյան'!D22+'Ա. Թադևոսյան'!D22+'Ա. Մանուկյան'!D22+Հ.Մովսեսյան!D22+'Ս. Մնացյան '!D22+Մ.Մարտիրոսյան!D22+'Վ. Գրիգորյան'!D22+'Ա. Խաչատրյան'!D22+'Գ. Հովհաննիսյան'!D22+'Հ. Ղազարյան'!D22+'Բ. Մկրտչյան'!D22+'Մ. Սարոյան'!D22+Լ.Խաչատրյան!D22+'Հ. Միքայելյան'!D22 -> 1 | E22: =+'Մ. Գևորգյան'!E22+'Ա. Թադևոսյան'!E22+'Ա. Մանուկյան'!E22+Հ.Մովսեսյան!E22+'Ս. Մնացյան '!E22+Մ.Մարտիրոսյան!E22+'Վ. Գրիգորյան'!E22+'Ա. Խաչատրյան'!E22+'Գ. Հովհաննիսյան'!E22+'Հ. Ղազարյան'!E22+'Բ. Մկրտչյան'!E22+'Մ. Սարոյան'!E22+Լ.Խաչատրյան!E22+'Հ. Միքայելյան'!E22 -> 27 | F22: =+'Մ. Գևորգյան'!F22+'Ա. Թադևոսյան'!F22+'Ա. Մանուկյան'!F22+Հ.Մովսեսյան!F22+'Ս. Մնացյան '!F22+Մ.Մարտիրոսյան!F22+'Վ. Գրիգորյան'!F22+'Ա. Խաչատրյան'!F22+'Գ. Հովհաննիսյան'!F22+'Հ. Ղազարյան'!F22+'Բ. Մկրտչյան'!F22+'Մ. Սարոյան'!F22+Լ.Խաչատրյան!F22+'Հ. Միքայելյան'!F22 -> 0 | G22: =+'Մ. Գևորգյան'!G22+'Ա. Թադևոսյան'!G22+'Ա. Մանուկյան'!G22+Հ.Մովսեսյան!G22+'Ս. Մնացյան '!G22+Մ.Մարտիրոսյան!G22+'Վ. Գրիգորյան'!G22+'Ա. Խաչատրյան'!G22+'Գ. Հովհաննիսյան'!G22+'Հ. Ղազարյան'!G22+'Բ. Մկրտչյան'!G22+'Մ. Սարոյան'!G22+Լ.Խաչատրյան!G22+'Հ. Միքայելյան'!G22 -> 9 | H22: =+'Մ. Գևորգյան'!H22+'Ա. Թադևոսյան'!H22+'Ա. Մանուկյան'!H22+Հ.Մովսեսյան!H22+'Ս. Մնացյան '!H22+Մ.Մարտիրոսյան!H22+'Վ. Գրիգորյան'!H22+'Ա. Խաչատրյան'!H22+'Գ. Հովհաննիսյան'!H22+'Հ. Ղազարյան'!H22+'Բ. Մկրտչյան'!H22+'Մ. Սարոյան'!H22+Լ.Խաչատրյան!H22+'Հ. Միքայելյան'!H22 -> 12 | I22: =+'Մ. Գևորգյան'!I22+'Ա. Թադևոսյան'!I22+'Ա. Մանուկյան'!I22+Հ.Մովսեսյան!I22+'Ս. Մնացյան '!I22+Մ.Մարտիրոսյան!I22+'Վ. Գրիգորյան'!I22+'Ա. Խաչատրյան'!I22+'Գ. Հովհաննիսյան'!I22+'Հ. Ղազարյան'!I22+'Բ. Մկրտչյան'!I22+'Մ. Սարոյան'!I22+Լ.Խաչատրյան!I22+'Հ. Միքայելյան'!I22 -> 2 | J22: =+'Մ. Գևորգյան'!J22+'Ա. Թադևոսյան'!J22+'Ա. Մանուկյան'!J22+Հ.Մովսեսյան!J22+'Ս. Մնացյան '!J22+Մ.Մարտիրոսյան!J22+'Վ. Գրիգորյան'!J22+'Ա. Խաչատրյան'!J22+'Գ. Հովհաննիսյան'!J22+'Հ. Ղազարյան'!J22+'Բ. Մկրտչյան'!J22+'Մ. Սարոյան'!J22+Լ.Խաչատրյան!J22+'Հ. Միքայելյան'!J22 -> 0 | K22: =+'Մ. Գևորգյան'!K22+'Ա. Թադևոսյան'!K22+'Ա. Մանուկյան'!K22+Հ.Մովսեսյան!K22+'Ս. Մնացյան '!K22+Մ.Մարտիրոսյան!K22+'Վ. Գրիգորյան'!K22+'Ա. Խաչատրյան'!K22+'Գ. Հովհաննիսյան'!K22+'Հ. Ղազարյան'!K22+'Բ. Մկրտչյան'!K22+'Մ. Սարոյան'!K22+Լ.Խաչատրյան!K22+'Հ. Միքայելյան'!K22 -> 23 | ... S22: =+'Մ. Գևորգյան'!S22+'Ա. Թադևոսյան'!S22+'Ա. Մանուկյան'!S22+Հ.Մովսեսյան!S22+'Ս. Մնացյան '!S22+Մ.Մարտիրոսյան!S22+'Վ. Գրիգորյան'!S22+'Ա. Խաչատրյան'!S22+'Գ. Հովհաննիսյան'!S22+'Հ. Ղազարյան'!S22+'Բ. Մկրտչյան'!S22+'Մ. Սարոյան'!S22+Լ.Խաչատրյան!S22+'Հ. Միքայելյան'!S22 -> 0 | T22: =D22+E22 -> 28 | U22: =F22+K22+L22 -> 28 | V22: =K22 -> 23 | W22: =G22+H22+I22+J22 -> 23
A23: 5 | B23: ¹³ï³Ï³Ý Ñ³ÝÓÝ³ñ³ñáõÃÛáõÝÝ»ñ | D23: =+'Մ. Գևորգյան'!D23+'Ա. Թադևոսյան'!D23+'Ա. Մանուկյան'!D23+Հ.Մովսեսյան!D23+'Ս. Մնացյան '!D23+Մ.Մարտիրոսյան!D23+'Վ. Գրիգորյան'!D23+'Ա. Խաչատրյան'!D23+'Գ. Հովհաննիսյան'!D23+'Հ. Ղազարյան'!D23+'Բ. Մկրտչյան'!D23+'Մ. Սարոյան'!D23+Լ.Խաչատրյան!D23+'Հ. Միքայելյան'!D23 -> 1 | E23: =+'Մ. Գևորգյան'!E23+'Ա. Թադևոսյան'!E23+'Ա. Մանուկյան'!E23+Հ.Մովսեսյան!E23+'Ս. Մնացյան '!E23+Մ.Մարտիրոսյան!E23+'Վ. Գրիգորյան'!E23+'Ա. Խաչատրյան'!E23+'Գ. Հովհաննիսյան'!E23+'Հ. Ղազարյան'!E23+'Բ. Մկրտչյան'!E23+'Մ. Սարոյան'!E23+Լ.Խաչատրյան!E23+'Հ. Միքայելյան'!E23 -> 9 | F23: =+'Մ. Գևորգյան'!F23+'Ա. Թադևոսյան'!F23+'Ա. Մանուկյան'!F23+Հ.Մովսեսյան!F23+'Ս. Մնացյան '!F23+Մ.Մարտիրոսյան!F23+'Վ. Գրիգորյան'!F23+'Ա. Խաչատրյան'!F23+'Գ. Հովհաննիսյան'!F23+'Հ. Ղազարյան'!F23+'Բ. Մկրտչյան'!F23+'Մ. Սարոյան'!F23+Լ.Խաչատրյան!F23+'Հ. Միքայելյան'!F23 -> 0 | G23: =+'Մ. Գևորգյան'!G23+'Ա. Թադևոսյան'!G23+'Ա. Մանուկյան'!G23+Հ.Մովսեսյան!G23+'Ս. Մնացյան '!G23+Մ.Մարտիրոսյան!G23+'Վ. Գրիգորյան'!G23+'Ա. Խաչատրյան'!G23+'Գ. Հովհաննիսյան'!G23+'Հ. Ղազարյան'!G23+'Բ. Մկրտչյան'!G23+'Մ. Սարոյան'!G23+Լ.Խաչատրյան!G23+'Հ. Միքայելյան'!G23 -> 1 | H23: =+'Մ. Գևորգյան'!H23+'Ա. Թադևոսյան'!H23+'Ա. Մանուկյան'!H23+Հ.Մովսեսյան!H23+'Ս. Մնացյան '!H23+Մ.Մարտիրոսյան!H23+'Վ. Գրիգորյան'!H23+'Ա. Խաչատրյան'!H23+'Գ. Հովհաննիսյան'!H23+'Հ. Ղազարյան'!H23+'Բ. Մկրտչյան'!H23+'Մ. Սարոյան'!H23+Լ.Խաչատրյան!H23+'Հ. Միքայելյան'!H23 -> 2 | I23: =+'Մ. Գևորգյան'!I23+'Ա. Թադևոսյան'!I23+'Ա. Մանուկյան'!I23+Հ.Մովսեսյան!I23+'Ս. Մնացյան '!I23+Մ.Մարտիրոսյան!I23+'Վ. Գրիգորյան'!I23+'Ա. Խաչատրյան'!I23+'Գ. Հովհաննիսյան'!I23+'Հ. Ղազարյան'!I23+'Բ. Մկրտչյան'!I23+'Մ. Սարոյան'!I23+Լ.Խաչատրյան!I23+'Հ. Միքայելյան'!I23 -> 0 | J23: =+'Մ. Գևորգյան'!J23+'Ա. Թադևոսյան'!J23+'Ա. Մանուկյան'!J23+Հ.Մովսեսյան!J23+'Ս. Մնացյան '!J23+Մ.Մարտիրոսյան!J23+'Վ. Գրիգորյան'!J23+'Ա. Խաչատրյան'!J23+'Գ. Հովհաննիսյան'!J23+'Հ. Ղազարյան'!J23+'Բ. Մկրտչյան'!J23+'Մ. Սարոյան'!J23+Լ.Խաչատրյան!J23+'Հ. Միքայելյան'!J23 -> 0 | K23: =+'Մ. Գևորգյան'!K23+'Ա. Թադևոսյան'!K23+'Ա. Մանուկյան'!K23+Հ.Մովսեսյան!K23+'Ս. Մնացյան '!K23+Մ.Մարտիրոսյան!K23+'Վ. Գրիգորյան'!K23+'Ա. Խաչատրյան'!K23+'Գ. Հովհաննիսյան'!K23+'Հ. Ղազարյան'!K23+'Բ. Մկրտչյան'!K23+'Մ. Սարոյան'!K23+Լ.Խաչատրյան!K23+'Հ. Միքայելյան'!K23 -> 3 | ... S23: =+'Մ. Գևորգյան'!S23+'Ա. Թադևոսյան'!S23+'Ա. Մանուկյան'!S23+Հ.Մովսեսյան!S23+'Ս. Մնացյան '!S23+Մ.Մարտիրոսյան!S23+'Վ. Գրիգորյան'!S23+'Ա. Խաչատրյան'!S23+'Գ. Հովհաննիսյան'!S23+'Հ. Ղազարյան'!S23+'Բ. Մկրտչյան'!S23+'Մ. Սարոյան'!S23+Լ.Խաչատրյան!S23+'Հ. Միքայելյան'!S23 -> 0 | T23: =D23+E23 -> 10 | U23: =F23+K23+L23 -> 8 | V23: =K23 -> 3 | W23: =G23+H23+I23+J23 -> 3
A24: ÀÜ¸²ØºÜÀ | D24: =+'Մ. Գևորգյան'!D24+'Ա. Թադևոսյան'!D24+'Ա. Մանուկյան'!D24+Հ.Մովսեսյան!D24+'Ս. Մնացյան '!D24+Մ.Մարտիրոսյան!D24+'Վ. Գրիգորյան'!D24+'Ա. Խաչատրյան'!D24+'Գ. Հովհաննիսյան'!D24+'Հ. Ղազարյան'!D24+'Բ. Մկրտչյան'!D24+'Մ. Սարոյան'!D24+Լ.Խաչատրյան!D24+'Հ. Միքայելյան'!D24 -> 9 | E24: =+'Մ. Գևորգյան'!E24+'Ա. Թադևոսյան'!E24+'Ա. Մանուկյան'!E24+Հ.Մովսեսյան!E24+'Ս. Մնացյան '!E24+Մ.Մարտիրոսյան!E24+'Վ. Գրիգորյան'!E24+'Ա. Խաչատրյան'!E24+'Գ. Հովհաննիսյան'!E24+'Հ. Ղազարյան'!E24+'Բ. Մկրտչյան'!E24+'Մ. Սարոյան'!E24+Լ.Խաչատրյան!E24+'Հ. Միքայելյան'!E24 -> 668 | F24: =+'Մ. Գևորգյան'!F24+'Ա. Թադևոսյան'!F24+'Ա. Մանուկյան'!F24+Հ.Մովսեսյան!F24+'Ս. Մնացյան '!F24+Մ.Մարտիրոսյան!F24+'Վ. Գրիգորյան'!F24+'Ա. Խաչատրյան'!F24+'Գ. Հովհաննիսյան'!F24+'Հ. Ղազարյան'!F24+'Բ. Մկրտչյան'!F24+'Մ. Սարոյան'!F24+Լ.Խաչատրյան!F24+'Հ. Միքայելյան'!F24 -> 1 | G24: =+'Մ. Գևորգյան'!G24+'Ա. Թադևոսյան'!G24+'Ա. Մանուկյան'!G24+Հ.Մովսեսյան!G24+'Ս. Մնացյան '!G24+Մ.Մարտիրոսյան!G24+'Վ. Գրիգորյան'!G24+'Ա. Խաչատրյան'!G24+'Գ. Հովհաննիսյան'!G24+'Հ. Ղազարյան'!G24+'Բ. Մկրտչյան'!G24+'Մ. Սարոյան'!G24+Լ.Խաչատրյան!G24+'Հ. Միքայելյան'!G24 -> 73 | H24: =+'Մ. Գևորգյան'!H24+'Ա. Թադևոսյան'!H24+'Ա. Մանուկյան'!H24+Հ.Մովսեսյան!H24+'Ս. Մնացյան '!H24+Մ.Մարտիրոսյան!H24+'Վ. Գրիգորյան'!H24+'Ա. Խաչատրյան'!H24+'Գ. Հովհաննիսյան'!H24+'Հ. Ղազարյան'!H24+'Բ. Մկրտչյան'!H24+'Մ. Սարոյան'!H24+Լ.Խաչատրյան!H24+'Հ. Միքայելյան'!H24 -> 560 | I24: =+'Մ. Գևորգյան'!I24+'Ա. Թադևոսյան'!I24+'Ա. Մանուկյան'!I24+Հ.Մովսեսյան!I24+'Ս. Մնացյան '!I24+Մ.Մարտիրոսյան!I24+'Վ. Գրիգորյան'!I24+'Ա. Խաչատրյան'!I24+'Գ. Հովհաննիսյան'!I24+'Հ. Ղազարյան'!I24+'Բ. Մկրտչյան'!I24+'Մ. Սարոյան'!I24+Լ.Խաչատրյան!I24+'Հ. Միքայելյան'!I24 -> 16 | J24: =+'Մ. Գևորգյան'!J24+'Ա. Թադևոսյան'!J24+'Ա. Մանուկյան'!J24+Հ.Մովսեսյան!J24+'Ս. Մնացյան '!J24+Մ.Մարտիրոսյան!J24+'Վ. Գրիգորյան'!J24+'Ա. Խաչատրյան'!J24+'Գ. Հովհաննիսյան'!J24+'Հ. Ղազարյան'!J24+'Բ. Մկրտչյան'!J24+'Մ. Սարոյան'!J24+Լ.Խաչատրյան!J24+'Հ. Միքայելյան'!J24 -> 1 | K24: =+'Մ. Գևորգյան'!K24+'Ա. Թադևոսյան'!K24+'Ա. Մանուկյան'!K24+Հ.Մովսեսյան!K24+'Ս. Մնացյան '!K24+Մ.Մարտիրոսյան!K24+'Վ. Գրիգորյան'!K24+'Ա. Խաչատրյան'!K24+'Գ. Հովհաննիսյան'!K24+'Հ. Ղազարյան'!K24+'Բ. Մկրտչյան'!K24+'Մ. Սարոյան'!K24+Լ.Խաչատրյան!K24+'Հ. Միքայելյան'!K24 -> 650 | ... S24: =+'Մ. Գևորգյան'!S24+'Ա. Թադևոսյան'!S24+'Ա. Մանուկյան'!S24+Հ.Մովսեսյան!S24+'Ս. Մնացյան '!S24+Մ.Մարտիրոսյան!S24+'Վ. Գրիգորյան'!S24+'Ա. Խաչատրյան'!S24+'Գ. Հովհաննիսյան'!S24+'Հ. Ղազարյան'!S24+'Բ. Մկրտչյան'!S24+'Մ. Սարոյան'!S24+Լ.Խաչատրյան!S24+'Հ. Միքայելյան'!S24 -> 0 | T24: =D24+E24 -> 677 | U24: =F24+K24+L24 -> 675 | V24: =K24 -> 650 | W24: =G24+H24+I24+J24 -> 650

Sheet Մ. Գևորգյան
A1: 2016Ã. | D1: Ð²ÞìºîìàôÂÚàôÜ | P1: Ð³í»Éí³Í Ð³Û³ëï³ÝÇ Ð³Ýñ³å»ïáõÃÛ³Ý ¸³ï³ñ³ÝÝ»ñÇ Ý³Ë³·³ÑÝ»ñÇ ËáñÑñ¹Ç 25.08.2016Ã. ÃÇí 44-È áñáßÙ³Ý
A2: ØÇÝã¹³ï³Ï³Ý í³ñáõÛÃÇ ÝÏ³ïÙ³Ùµ ¹³ï³Ï³Ý í»ñ³ÑëÏáÕáõÃÛ³ÝÁ, ¹³ï³Ï³Ý ³Ïï»ñÇ ¨ ¹³ï³Ï³Ý Ñ³ÝÓÝ³ñ³ñáõÃÛáõÝÝ»ñÇ Ï³ï³ñÙ³Ý Ñ»ï Ï³åí³Í ÙÇçÝáñ¹áõÃÛáõÝÝ»ñÇ í»ñ³µ»ñÛ³É ¹³ï³Ï³Ý ·áñÍ»ñáí ÐÐ ÞÇñ³ÏÇ Ù³ñ½Ç ÁÝ¹Ñ³Ýáõñ Çñ³í³ëáõÃÛ³Ý ³é³çÇÝ ³ïÛ³ÝÇ ¹³ï³ñ³ÝÇ ¹³ï³íáñ Մ. Գևորգյան ·áñÍáõÝ»áõÃÛ³Ý í»ñ³µ»ñÛ³É
A3: êïáõ·Çã Ñ³í³ë³ñáõÙ` 1+2=3+8+9, 8=4+5+6+7, | D3: Ð³ßí»ïáõ Å³Ù³Ý³Ï³Ñ³ïí³ÍÇ ëÏ½µáõÙ Ý³Ëáñ¹ Ñ³ßí»ïáõ Å³Ù³Ý³Ï³Ñ³ïí³ÍÇó ÷áË³Ýóí³Í ·áñÍ»ñÇ ÁÝ¹Ñ³Ýáõñ ÃÇíÁ | E3: Ð³ßí»ïáõ Å³Ù³Ý³Ï³Ñ³ïí³ÍáõÙ ëï³óí³Í ·áñÍ»ñÇ ÁÝ¹Ñ³Ýáõñ ÃÇíÁ | F3: öáË³Ýóí»É ¿ ³ÛÉ ¹³ï³íáñÇ Ï³Ù ³ÛÉ ¹³ï³ñ³Ý (Ï³½ÙÇ ÷á÷áËáõÃÛáõÝ, ÁÝ¹¹³ïáõÃÛáõÝ) | G3: Ð³ßí»ïáõ Å³Ù³Ý³Ï³Ñ³ïí³ÍáõÙ ³í³ñïí³Í ·áñÍ»ñÇ ÁÝ¹Ñ³Ýáõñ ÃÇíÁ | L3: Ð³ßí»ïáõ Å³Ù³Ý³Ï³Ñ³ïí³ÍáõÙ ³Ý³í³ñï ·áñÍ»ñÇ ÁÝ¹Ñ³Ýáõñ ÃÇíÁ | M3: ØÇçÝáñ¹áõÃÛáõÝÝ»ñáí Ï³Û³óí³Í ¹³ï³Ï³Ý ³Ïï»ñÇó µáÕáù³ñÏí³ÍÝ»ñÇ ù³Ý³ÏÁ | O3: ²Ý³í³ñï µáÕáùÝ»ñ | P3: ØÇçÝáñ¹áõÃÛáõÝÝ»ñáí Ï³Û³óí³Í ¨ µáÕáù³ñÏí³Í ¹³ï³Ï³Ý ³Ïï»ñÇó µ»Ï³Ýí³ÍÝ»ñÇ ù³Ý³ÏÁ | R3: ÙÇçÝáñ¹áõÃÛáõÝÝ»ñáí Ï³Û³óí³Í ¨ µáÕáù³ñÏí³Í ¹³ï³Ï³Ý ³Ïï»ñÇó ³Ý÷á÷áË ÃáÕÝí³ÍÝ»ñÇ ù³Ý³ÏÁ
G4: Ù»ñÅí»É ¿ | H4: µ³í³ñ³ñí»É ¿ | I4: µ³í³ñ³ñí»É ¿ Ù³ëÝ³ÏÇ | J4: ÃáÕÝí»É ¿ ³é³Ýó ùÝÝáõÃÛ³Ý | K4: ÀÝ¹³Ù»ÝÁ
M5: Ý³Ëáñ¹ ï³ñÇÝ»ñÇÝ Ï³Û³óí³Í ³Ïï»ñÇ ¹»Ù | N5: Ñ³ßí»ïáõ Å³Ù³Ý³Ï³ßñç³ÝáõÙ Ï³Û³óí³Í ³Ïï»ñÇ ¹»Ù | P5: Ý³Ëáñ¹ ï³ñÇÝ»ñÇÝ Ï³Û³óí³Í ³Ïï»ñÇ µ»Ï³ÝáõÙÝ»ñÁ | Q5: Ñ³ßí»ïáõ Å³Ù³Ý³Ï³ßñç³ÝáõÙ Ï³Û³óí³Í ³Ïï»ñÇ µ»Ï³ÝáõÙÝ»ñÁ
A6: 1. ØÇÝã¹³ï³Ï³Ý í³ñáõÛÃÇ ÝÏ³ïÙ³Ùµ ¹³ï³Ï³Ý í»ñ³ÑëÏáÕáõÃÛ³Ý áÉáñï | D6: 1 | E6: 2 | F6: 3 | G6: 4 | H6: 5 | I6: 6 | J6: 7 | K6: 8 | L6: 9 | M6: 10 | N6: 11 | O6: 12 | P6: 13 | Q6: 14 | R6: 15 | T6: 1+2=3+8+9 | V6: 8=4+5+6+7
A7: 1 | B7: Ï³É³ÝùÁ áñå»ë Ë³÷³ÝÙ³Ý ÙÇçáó ÏÇñ³é»Éáõ Ù³ëÇÝ ÙÇçÝáñ¹áõÃÛáõÝÝ»ñ | T7: =D7+E7 -> 0 | U7: =F7+K7+L7 -> 0 | V7: =K7 -> 0 | W7: =G7+H7+I7+J7 -> 0
A8: 2 | B8: Ï³É³ÝùÇ Å³ÙÏ»ïÁ »ñÏ³ñ³óÝ»Éáõ Ù³ëÇÝ ÙÇçÝáñ¹áõÃÛáõÝÝ»ñ | T8: =D8+E8 -> 0 | U8: =F8+K8+L8 -> 0 | V8: =K8 -> 0 | W8: =G8+H8+I8+J8 -> 0
A9: 3 | B9: Ï³É³ÝùÇ í»ñ³Ñ³ëï³ïÙ³Ý Ù³ëÇÝ ÙÇçÝáñ¹áõÃÛáõÝÝ»ñ | T9: =D9+E9 -> 0 | U9: =F9+K9+L9 -> 0 | V9: =K9 -> 0 | W9: =G9+H9+I9+J9 -> 0
A10: 4 | B10: ·ñ³íÁ áñå»ë Ï³É³Ý³íáñÙ³Ý ³ÛÉÁÝïñ³Ýù³ÛÇÝ Ë³÷³ÝÙ³Ý ÙÇçáó ÏÇñ³é»Éáõ Ù³ëÇÝ ÙÇçÝáñ¹áõÃÛáõÝÝ»ñ | T10: =D10+E10 -> 0 | U10: =F10+K10+L10 -> 0 | V10: =K10 -> 0 | W10: =G10+H10+I10+J10 -> 0
A11: 5 | B11: Ëáõ½³ñÏáõÃÛ³Ý Ï³ï³ñÙ³Ý Ù³ëÇÝ ÙÇçÝáñ¹áõÃÛáõÝÝ»ñ | T11: =D11+E11 -> 0 | U11: =F11+K11+L11 -> 0 | V11: =K11 -> 0 | W11: =G11+H11+I11+J11 -> 0
A12: 6 | B12: µ³ÝÏ³ÛÇÝ, ³å³Ñáí³·ñ³Ï³Ý, Ýáï³ñ³Ï³Ý ·³ÕïÝÇù Ï³½ÙáÕ ï»Õ»ÏáõÃÛáõÝÝ»ñÇ ëï³óÙ³Ý Ñ³Ù³ñ Ëáõ½³ñÏáõÃÛ³Ý Ï³Ù ³é·ñ³íÙ³Ý Ï³ï³ñÙ³Ý Ù³ëÇÝ ÙÇçÝáñ¹áõÃÛáõÝÝ»ñ | T12: =D12+E12 -> 0 | U12: =F12+K12+L12 -> 0 | V12: =K12 -> 0 | W12: =G12+H12+I12+J12 -> 0
A13: 7 | B13: Ý³Ù³Ï³·ñáõÃÛ³Ý, Ñ»é³·ñ³Ï³Ý, ÷áuï³ÛÇÝ Ñ³Õáñ¹áõÙÝ»ñÇ ÑëÏáÕáõÃÛ³Ý Ù³ëÇÝ ÙÇçÝáñ¹áõÃÛáõÝÝ»ñ | T13: =D13+E13 -> 0 | U13: =F13+K13+L13 -> 0 | V13: =K13 -> 0 | W13: =G13+H13+I13+J13 -> 0
A14: 8 | B14: Ñ»é³Ëáu³ÛÇÝ Ï³Ù Ï³åÇ ³ÛÉ ÙÇçáóÝ»ñáí ï³ñíáÕ Ëáu³ÏóáõÃÛáõÝÝ»ñÇ ÉuÙ³Ý ¨ Ó³ÛÝ³·ñ³éÙ³Ý Ù³ëÇÝ ÙÇçÝáñ¹áõÃÛáõÝÝ»ñ | T14: =D14+E14 -> 0 | U14: =F14+K14+L14 -> 0 | V14: =K14 -> 0 | W14: =G14+H14+I14+J14 -> 0
A15: 9 | B15: Ñ»é³ËáëÝ»ñÇ Ùáõïù³ÛÇÝ ¨ »Éù³ÛÇÝ í»ñÍ³ÝÙ³Ý ÃáõÛÉïíáõÃÛáõÝ ëï³Ý³Éáõ Ù³ëÇÝ ÙÇçÝáñ¹áõÃÛáõÝÝ»ñ | T15: =D15+E15 -> 0 | U15: =F15+K15+L15 -> 0 | V15: =K15 -> 0 | W15: =G15+H15+I15+J15 -> 0
A16: 10 | B16: Ñ»ï³ùÝÝáõÃÛ³Ý Ù³ñÙÝÇ ³ßË³ïáÕÇ, ùÝÝÇãÇ, ¹³ï³Ë³½Ç oå»ñ³ïÇí-Ñ»ï³Ëáõ½³Ï³Ý ·áñÍáÕáõÃÛáõÝÝ»ñ Çñ³Ï³Ý³óÝáÕ Ù³ñÙÇÝÝ»ñÇ ³ÝoñÇÝ³Ï³Ý ¨ ³ÝÑÇÙÝ áñáßáõÙÝ»ñÇ ¨ ·áñÍáÕáõÃÛáõÝÝ»ñÇ ¹»Ù µáÕáùÝ»ñ | T16: =D16+E16 -> 0 | U16: =F16+K16+L16 -> 0 | V16: =K16 -> 0 | W16: =G16+H16+I16+J16 -> 0
A17: 11 | B17: ²½³ïáõÃÛáõÝÇó ½ñÏ»Éáõ Çñ³í³ã³÷áõÃÛ³Ý í»ñ³µ»ñÛ³É µáÕáùÝ»ñáí ·áñÍ»ñ | T17: =D17+E17 -> 0 | U17: =F17+K17+L17 -> 0 | V17: =K17 -> 0 | W17: =G17+H17+I17+J17 -> 0
A18: 2. ¸³ï³Ï³Ý ³Ïï»ñÇ ¨ ¹³ï³Ï³Ý Ñ³ÝÓÝ³ñ³ñáõÃÛáõÝÝ»ñÇ Ï³ï³ñÙ³Ý Ñ»ï Ï³åí³Í Ñ³ñó»ñÇ ÉáõÍÙ³Ý áÉáñï
A19: 1 | B19: å³ïÅÇó å³ÛÙ³Ý³Ï³Ý í³Õ³Å³ÙÏ»ï ³½³ï»Éáõ Ù³ëÇÝ ÙÇçÝáñ¹áõÃÛáõÝÝ»ñ | T19: =D19+E19 -> 0 | U19: =F19+K19+L19 -> 0 | V19: =K19 -> 0 | W19: =G19+H19+I19+J19 -> 0
A20: 2 | B20: å³ïÇÅÁ ÷á÷áË»Éáõ, Ñ»ï³Ó·»Éáõ ¨ å³ïÅÇó ³½³ï»Éáõ Ù³uÇÝ ÙÇçÝáñ¹áõÃÛáõÝÝ»ñ | T20: =D20+E20 -> 0 | U20: =F20+K20+L20 -> 0 | V20: =K20 -> 0 | W20: =G20+H20+I20+J20 -> 0
A21: 3 | B21: Ñ³ñÏ³¹Çñ µáõÅÙ³Ý ï»ë³ÏÇ ÷á÷áËáõÃÛ³Ý Ù³ëÇÝ ÙÇçÝáñ¹áõÃÛáõÝÝ»ñ | T21: =D21+E21 -> 0 | U21: =F21+K21+L21 -> 0 | V21: =K21 -> 0 | W21: =G21+H21+I21+J21 -> 0
A22: 4 | B22: ³ÛÉ ÙÇçÝáñ¹áõÃÛáõÝÝ»ñ | T22: =D22+E22 -> 0 | U22: =F22+K22+L22 -> 0 | V22: =K22 -> 0 | W22: =G22+H22+I22+J22 -> 0
A23: 5 | B23: ¹³ï³Ï³Ý Ñ³ÝÓÝ³ñ³ñáõÃÛáõÝÝ»ñ | T23: =D23+E23 -> 0 | U23: =F23+K23+L23 -> 0 | V23: =K23 -> 0 | W23: =G23+H23+I23+J23 -> 0
A24: ÀÜ¸²ØºÜÀ | D24: =D7+D8+D9+D10+D11+D12+D13+D14+D15+D17+D19+D20+D21+D22+D23+D16 -> 0 | E24: =E7+E8+E9+E10+E11+E12+E13+E14+E15+E17+E19+E20+E21+E22+E23+E16 -> 0 | F24: =F7+F8+F9+F10+F11+F12+F13+F14+F15+F17+F19+F20+F21+F22+F23+F16 -> 0 | G24: =G7+G8+G9+G10+G11+G12+G13+G14+G15+G17+G19+G20+G21+G22+G23+G16 -> 0 | H24: =H7+H8+H9+H10+H11+H12+H13+H14+H15+H17+H19+H20+H21+H22+H23+H16 -> 0 | I24: =I7+I8+I9+I10+I11+I12+I13+I14+I15+I17+I19+I20+I21+I22+I23+I16 -> 0 | J24: =J7+J8+J9+J10+J11+J12+J13+J14+J15+J17+J19+J20+J21+J22+J23+J16 -> 0 | K24: =K7+K8+K9+K10+K11+K12+K13+K14+K15+K17+K19+K20+K21+K22+K23+K16 -> 0 | ... R24: =R7+R8+R9+R10+R11+R12+R13+R14+R15+R17+R19+R20+R21+R22+R23+R16 -> 0 | T24: =D24+E24 -> 0 | U24: =F24+K24+L24 -> 0 | V24: =K24 -> 0 | W24: =G24+H24+I24+J24 -> 0

Sheet Ա. Թադևոսյան
A1: 2017Ã. 1-ÇÝ ÏÇë³ÙÛ³Ï | D1: Ð²ÞìºîìàôÂÚàôÜ | P1: Ð³í»Éí³Í Ð³Û³ëï³ÝÇ Ð³Ýñ³å»ïáõÃÛ³Ý ¸³ï³ñ³ÝÝ»ñÇ Ý³Ë³·³ÑÝ»ñÇ ËáñÑñ¹Ç 25.08.2017Ã. ÃÇí 35-È áñáßÙ³Ý
A2: ØÇÝã¹³ï³Ï³Ý í³ñáõÛÃÇ ÝÏ³ïÙ³Ùµ ¹³ï³Ï³Ý í»ñ³ÑëÏáÕáõÃÛ³Ý, ¹³ï³Ï³Ý ³Ïï»ñÇ ¨ ¹³ï³Ï³Ý Ñ³ÝÓÝ³ñ³ñáõÃÛáõÝÝ»ñÇ Ï³ï³ñÙ³Ý Ñ»ï Ï³åí³Í ÙÇçÝáñ¹áõÃÛáõÝÝ»ñÇ í»ñ³µ»ñÛ³É ¹³ï³Ï³Ý ·áñÍ»ñáí ÐÐ ÞÇñ³ÏÇ Ù³ñ½Ç ÁÝ¹Ñ³Ýáõñ Çñ³í³ëáõÃÛ³Ý ³é³çÇÝ ³ïÛ³ÝÇ ¹³ï³ñ³ÝÇ ¹³ï³íáñ Ա. Թադևոսյանի ·áñÍáõÝ»áõÃÛ³Ý í»ñ³µ»ñÛ³É
A3: êïáõ·Çã Ñ³í³ë³ñáõÙ` 1+2=3+8+9, 8=4+5+6+7, | D3: Ð³ßí»ïáõ Å³Ù³Ý³Ï³Ñ³ïí³ÍÇ ëÏ½µáõÙ Ý³Ëáñ¹ Ñ³ßí»ïáõ Å³Ù³Ý³Ï³Ñ³ïí³ÍÇó ÷áË³Ýóí³Í ·áñÍ»ñÇ ÁÝ¹Ñ³Ýáõñ ÃÇíÁ | E3: Ð³ßí»ïáõ Å³Ù³Ý³Ï³Ñ³ïí³ÍáõÙ ëï³óí³Í ·áñÍ»ñÇ ÁÝ¹Ñ³Ýáõñ ÃÇíÁ | F3: öáË³Ýóí»É ¿ ³ÛÉ ¹³ï³íáñÇ Ï³Ù ³ÛÉ ¹³ï³ñ³Ý (Ï³½ÙÇ ÷á÷áËáõÃÛáõÝ, ÁÝ¹¹³ïáõÃÛáõÝ) | G3: Ð³ßí»ïáõ Å³Ù³Ý³Ï³Ñ³ïí³ÍáõÙ ³í³ñïí³Í ·áñÍ»ñÇ ÁÝ¹Ñ³Ýáõñ ÃÇíÁ | L3: Ð³ßí»ïáõ Å³Ù³Ý³Ï³Ñ³ïí³ÍáõÙ ³Ý³í³ñï ·áñÍ»ñÇ ÁÝ¹Ñ³Ýáõñ ÃÇíÁ | M3: ØÇçÝáñ¹áõÃÛáõÝÝ»ñáí Ï³Û³óí³Í ¹³ï³Ï³Ý ³Ïï»ñÇó µáÕáù³ñÏí³ÍÝ»ñÇ ù³Ý³ÏÁ | O3: ²Ý³í³ñï µáÕáùÝ»ñ | P3: ØÇçÝáñ¹áõÃÛáõÝÝ»ñáí Ï³Û³óí³Í ¨ µáÕáù³ñÏí³Í ¹³ï³Ï³Ý ³Ïï»ñÇó µ»Ï³Ýí³ÍÝ»ñÇ ù³Ý³ÏÁ | R3: ÙÇçÝáñ¹áõÃÛáõÝÝ»ñáí Ï³Û³óí³Í ¨ µáÕáù³ñÏí³Í ¹³ï³Ï³Ý ³Ïï»ñÇó ³Ý÷á÷áË ÃáÕÝí³ÍÝ»ñÇ ù³Ý³ÏÁ
G4: Ù»ñÅí»É ¿ | H4: µ³í³ñ³ñí»É ¿ | I4: µ³í³ñ³ñí»É ¿ Ù³ëÝ³ÏÇ | J4: ÃáÕÝí»É ¿ ³é³Ýó ùÝÝáõÃÛ³Ý | K4: ÀÝ¹³Ù»ÝÁ
M5: Ý³Ëáñ¹ ï³ñÇÝ»ñÇÝ Ï³Û³óí³Í ³Ïï»ñÇ ¹»Ù | N5: Ñ³ßí»ïáõ Å³Ù³Ý³Ï³ßñç³ÝáõÙ Ï³Û³óí³Í ³Ïï»ñÇ ¹»Ù | P5: Ý³Ëáñ¹ ï³ñÇÝ»ñÇÝ Ï³Û³óí³Í ³Ïï»ñÇ µ»Ï³ÝáõÙÝ»ñÁ | Q5: Ñ³ßí»ïáõ Å³Ù³Ý³Ï³ßñç³ÝáõÙ Ï³Û³óí³Í ³Ïï»ñÇ µ»Ï³ÝáõÙÝ»ñÁ
A6: 1. ØÇÝã¹³ï³Ï³Ý í³ñáõÛÃÇ ÝÏ³ïÙ³Ùµ ¹³ï³Ï³Ý í»ñ³ÑëÏáÕáõÃÛ³Ý áÉáñï | D6: 1 | E6: 2 | F6: 3 | G6: 4 | H6: 5 | I6: 6 | J6: 7 | K6: 8 | L6: 9 | M6: 10 | N6: 11 | O6: 12 | P6: 13 | Q6: 14 | R6: 15 | T6: 1+2=3+8+9 | V6: 8=4+5+6+7
A7: 1 | B7: Ï³É³ÝùÁ áñå»ë Ë³÷³ÝÙ³Ý ÙÇçáó ÏÇñ³é»Éáõ Ù³ëÇÝ ÙÇçÝáñ¹áõÃÛáõÝÝ»ñ | E7: 33 | H7: 33 | K7: 33 | T7: =+D7+E7 -> 33 | U7: =+F7+K7+L7 -> 33 | V7: =+K7 -> 33 | W7: =G7+H7+I7+J7 -> 33
A8: 2 | B8: Ï³É³ÝùÇ Å³ÙÏ»ïÁ »ñÏ³ñ³óÝ»Éáõ Ù³ëÇÝ ÙÇçÝáñ¹áõÃÛáõÝÝ»ñ | E8: 3 | H8: 3 | K8: 3 | T8: =+D8+E8 -> 3 | U8: =+F8+K8+L8 -> 3 | V8: =+K8 -> 3 | W8: =G8+H8+I8+J8 -> 3
A9: 3 | B9: Ï³É³ÝùÇ í»ñ³Ñ³ëï³ïÙ³Ý Ù³ëÇÝ ÙÇçÝáñ¹áõÃÛáõÝÝ»ñ | E9: 2 | G9: 2 | K9: 2 | N9: 1 | O9: 1 | T9: =+D9+E9 -> 2 | U9: =+F9+K9+L9 -> 2 | V9: =+K9 -> 2 | W9: =G9+H9+I9+J9 -> 2
A10: 4 | B10: ·ñ³íÁ áñå»ë Ï³É³Ý³íáñÙ³Ý ³ÛÉÁÝïñ³Ýù³ÛÇÝ Ë³÷³ÝÙ³Ý ÙÇçáó ÏÇñ³é»Éáõ Ù³ëÇÝ ÙÇçÝáñ¹áõÃÛáõÝÝ»ñ | E10: 2 | G10: 2 | K10: 2 | T10: =+D10+E10 -> 2 | U10: =+F10+K10+L10 -> 2 | V10: =+K10 -> 2 | W10: =G10+H10+I10+J10 -> 2
A11: 5 | B11: Ëáõ½³ñÏáõÃÛ³Ý Ï³ï³ñÙ³Ý Ù³ëÇÝ ÙÇçÝáñ¹áõÃÛáõÝÝ»ñ | E11: 27 | H11: 26 | I11: 1 | K11: 27 | N11: 1 | R11: 1 | T11: =+D11+E11 -> 27 | U11: =+F11+K11+L11 -> 27 | V11: =+K11 -> 27 | W11: =G11+H11+I11+J11 -> 27
A12: 6 | B12: µ³ÝÏ³ÛÇÝ, ³å³Ñáí³·ñ³Ï³Ý, Ýáï³ñ³Ï³Ý ·³ÕïÝÇù Ï³½ÙáÕ ï»Õ»ÏáõÃÛáõÝÝ»ñÇ ëï³óÙ³Ý Ñ³Ù³ñ Ëáõ½³ñÏáõÃÛ³Ý Ï³Ù ³é·ñ³íÙ³Ý Ï³ï³ñÙ³Ý Ù³ëÇÝ ÙÇçÝáñ¹áõÃÛáõÝÝ»ñ | E12: 2 | G12: 1 | H12: 1 | K12: 2 | T12: =+D12+E12 -> 2 | U12: =+F12+K12+L12 -> 2 | V12: =+K12 -> 2 | W12: =G12+H12+I12+J12 -> 2
A13: 7 | B13: Ý³Ù³Ï³·ñáõÃÛ³Ý, Ñ»é³·ñ³Ï³Ý, ÷áuï³ÛÇÝ Ñ³Õáñ¹áõÙÝ»ñÇ ÑëÏáÕáõÃÛ³Ý Ù³ëÇÝ ÙÇçÝáñ¹áõÃÛáõÝÝ»ñ | E13: 2 | H13: 2 | K13: 2 | T13: =+D13+E13 -> 2 | U13: =+F13+K13+L13 -> 2 | V13: =+K13 -> 2 | W13: =G13+H13+I13+J13 -> 2
A14: 8 | B14: Ñ»é³Ëáu³ÛÇÝ Ï³Ù Ï³åÇ ³ÛÉ ÙÇçáóÝ»ñáí ï³ñíáÕ Ëáu³ÏóáõÃÛáõÝÝ»ñÇ ÉuÙ³Ý ¨ Ó³ÛÝ³·ñ³éÙ³Ý Ù³ëÇÝ ÙÇçÝáñ¹áõÃÛáõÝÝ»ñ | T14: =+D14+E14 -> 0 | U14: =+F14+K14+L14 -> 0 | V14: =+K14 -> 0 | W14: =G14+H14+I14+J14 -> 0
A15: 9 | B15: Ñ»é³ËáëÝ»ñÇ Ùáõïù³ÛÇÝ ¨ »Éù³ÛÇÝ í»ñÍ³ÝÙ³Ý ÃáõÛÉïíáõÃÛáõÝ ëï³Ý³Éáõ Ù³ëÇÝ ÙÇçÝáñ¹áõÃÛáõÝÝ»ñ | E15: 12 | H15: 12 | K15: 12 | T15: =+D15+E15 -> 12 | U15: =+F15+K15+L15 -> 12 | V15: =+K15 -> 12 | W15: =G15+H15+I15+J15 -> 12
A16: 10 | B16: Ñ»ï³ùÝÝáõÃÛ³Ý Ù³ñÙÝÇ ³ßË³ïáÕÇ, ùÝÝÇãÇ, ¹³ï³Ë³½Ç oå»ñ³ïÇí-Ñ»ï³Ëáõ½³Ï³Ý ·áñÍáÕáõÃÛáõÝÝ»ñ Çñ³Ï³Ý³óÝáÕ Ù³ñÙÇÝÝ»ñÇ ³ÝoñÇÝ³Ï³Ý ¨ ³ÝÑÇÙÝ áñáßáõÙÝ»ñÇ ¨ ·áñÍáÕáõÃÛáõÝÝ»ñÇ ¹»Ù µáÕáùÝ»ñ | E16: 2 | G16: 1 | I16: 1 | K16: 2 | N16: 2 | O16: 2 | T16: =+D16+E16 -> 2 | U16: =+F16+K16+L16 -> 2 | V16: =+K16 -> 2 | W16: =G16+H16+I16+J16 -> 2
A17: 11 | B17: ²½³ïáõÃÛáõÝÇó ½ñÏ»Éáõ Çñ³í³ã³÷áõÃÛ³Ý í»ñ³µ»ñÛ³É µáÕáùÝ»ñáí ·áñÍ»ñ | T17: =+D17+E17 -> 0 | U17: =+F17+K17+L17 -> 0 | V17: =+K17 -> 0 | W17: =G17+H17+I17+J17 -> 0
A18: 2. ¸³ï³Ï³Ý ³Ïï»ñÇ ¨ ¹³ï³Ï³Ý Ñ³ÝÓÝ³ñ³ñáõÃÛáõÝÝ»ñÇ Ï³ï³ñÙ³Ý Ñ»ï Ï³åí³Í Ñ³ñó»ñÇ ÉáõÍÙ³Ý áÉáñï | T18: =+D18+E18 -> 0 | U18: =+F18+K18+L18 -> 0 | V18: =+K18 -> 0 | W18: =G18+H18+I18+J18 -> 0
A19: 1 | B19: å³ïÅÇó å³ÛÙ³Ý³Ï³Ý í³Õ³Å³ÙÏ»ï ³½³ï»Éáõ Ù³ëÇÝ ÙÇçÝáñ¹áõÃÛáõÝÝ»ñ | T19: =+D19+E19 -> 0 | U19: =+F19+K19+L19 -> 0 | V19: =+K19 -> 0 | W19: =G19+H19+I19+J19 -> 0
A20: 2 | B20: å³ïÇÅÁ ÷á÷áË»Éáõ, Ñ»ï³Ó·»Éáõ ¨ å³ïÅÇó ³½³ï»Éáõ Ù³uÇÝ ÙÇçÝáñ¹áõÃÛáõÝÝ»ñ | E20: 8 | G20: 1 | H20: 5 | K20: 6 | L20: 2 | T20: =+D20+E20 -> 8 | U20: =+F20+K20+L20 -> 8 | V20: =+K20 -> 6 | W20: =G20+H20+I20+J20 -> 6
A21: 3 | B21: Ñ³ñÏ³¹Çñ µáõÅÙ³Ý ï»ë³ÏÇ ÷á÷áËáõÃÛ³Ý Ù³ëÇÝ ÙÇçÝáñ¹áõÃÛáõÝÝ»ñ | T21: =+D21+E21 -> 0 | U21: =+F21+K21+L21 -> 0 | V21: =+K21 -> 0 | W21: =G21+H21+I21+J21 -> 0
A22: 4 | B22: ³ÛÉ ÙÇçÝáñ¹áõÃÛáõÝÝ»ñ | E22: 7 | G22: 1 | H22: 4 | I22: 1 | K22: 6 | L22: 1 | T22: =+D22+E22 -> 7 | U22: =+F22+K22+L22 -> 7 | V22: =+K22 -> 6 | W22: =G22+H22+I22+J22 -> 6
A23: 5 | B23: ¹³ï³Ï³Ý Ñ³ÝÓÝ³ñ³ñáõÃÛáõÝÝ»ñ | E23: 3 | G23: 1 | K23: 1 | L23: 1 | T23: =+D23+E23 -> 3 | U23: =+F23+K23+L23 -> 2 | V23: =+K23 -> 1 | W23: =G23+H23+I23+J23 -> 1
A24: ÀÜ¸²ØºÜÀ | D24: =D7+D8+D9+D10+D11+D12+D13+D14+D15+D17+D19+D20+D21+D22+D23+D16 -> 0 | E24: =E7+E8+E9+E10+E11+E12+E13+E14+E15+E17+E19+E20+E21+E22+E23+E16 -> 103 | F24: =F7+F8+F9+F10+F11+F12+F13+F14+F15+F17+F19+F20+F21+F22+F23+F16 -> 0 | G24: =G7+G8+G9+G10+G11+G12+G13+G14+G15+G17+G19+G20+G21+G22+G23+G16 -> 9 | H24: =H7+H8+H9+H10+H11+H12+H13+H14+H15+H17+H19+H20+H21+H22+H23+H16 -> 86 | I24: =I7+I8+I9+I10+I11+I12+I13+I14+I15+I17+I19+I20+I21+I22+I23+I16 -> 3 | J24: =J7+J8+J9+J10+J11+J12+J13+J14+J15+J17+J19+J20+J21+J22+J23+J16 -> 0 | K24: =K7+K8+K9+K10+K11+K12+K13+K14+K15+K17+K19+K20+K21+K22+K23+K16 -> 98 | ... R24: =R7+R8+R9+R10+R11+R12+R13+R14+R15+R17+R19+R20+R21+R22+R23+R16 -> 1 | T24: =+D24+E24 -> 103 | U24: =+F24+K24+L24 -> 102 | V24: =+K24 -> 98 | W24: =G24+H24+I24+J24 -> 98
T25: =+T24-U24 -> 1 | V25: =+V24-W24 -> 0
C26: 1 դատական հանձնարարությունով որոշում չի կայացվել

Sheet Ա. Մանուկյան
A1: 2017Ã. 1-ÇÝ ÏÇë³ÙÛ³Ï | D1: Ð²ÞìºîìàôÂÚàôÜ | P1: Ð³í»Éí³Í Ð³Û³ëï³ÝÇ Ð³Ýñ³å»ïáõÃÛ³Ý ¸³ï³ñ³ÝÝ»ñÇ Ý³Ë³·³ÑÝ»ñÇ ËáñÑñ¹Ç 25.08.2017Ã. ÃÇí 35-È áñáßÙ³Ý
A2: ØÇÝã¹³ï³Ï³Ý í³ñáõÛÃÇ ÝÏ³ïÙ³Ùµ ¹³ï³Ï³Ý í»ñ³ÑëÏáÕáõÃÛ³Ý, ¹³ï³Ï³Ý ³Ïï»ñÇ ¨ ¹³ï³Ï³Ý Ñ³ÝÓÝ³ñ³ñáõÃÛáõÝÝ»ñÇ Ï³ï³ñÙ³Ý Ñ»ï Ï³åí³Í ÙÇçÝáñ¹áõÃÛáõÝÝ»ñÇ í»ñ³µ»ñÛ³É ¹³ï³Ï³Ý ·áñÍ»ñáí ÐÐ ÞÇñ³ÏÇ Ù³ñ½Ç ÁÝ¹Ñ³Ýáõñ Çñ³í³ëáõÃÛ³Ý ³é³çÇÝ ³ïÛ³ÝÇ ¹³ï³ñ³ÝÇ ¹³ï³íáñ Ա.Մանուկյանի ·áñÍáõÝ»áõÃÛ³Ý í»ñ³µ»ñÛ³É
A3: êïáõ·Çã Ñ³í³ë³ñáõÙ` 1+2=3+8+9, 8=4+5+6+7, | D3: Ð³ßí»ïáõ Å³Ù³Ý³Ï³Ñ³ïí³ÍÇ ëÏ½µáõÙ Ý³Ëáñ¹ Ñ³ßí»ïáõ Å³Ù³Ý³Ï³Ñ³ïí³ÍÇó ÷áË³Ýóí³Í ·áñÍ»ñÇ ÁÝ¹Ñ³Ýáõñ ÃÇíÁ | E3: Ð³ßí»ïáõ Å³Ù³Ý³Ï³Ñ³ïí³ÍáõÙ ëï³óí³Í ·áñÍ»ñÇ ÁÝ¹Ñ³Ýáõñ ÃÇíÁ | F3: öáË³Ýóí»É ¿ ³ÛÉ ¹³ï³íáñÇ Ï³Ù ³ÛÉ ¹³ï³ñ³Ý (Ï³½ÙÇ ÷á÷áËáõÃÛáõÝ, ÁÝ¹¹³ïáõÃÛáõÝ) | G3: Ð³ßí»ïáõ Å³Ù³Ý³Ï³Ñ³ïí³ÍáõÙ ³í³ñïí³Í ·áñÍ»ñÇ ÁÝ¹Ñ³Ýáõñ ÃÇíÁ | L3: Ð³ßí»ïáõ Å³Ù³Ý³Ï³Ñ³ïí³ÍáõÙ ³Ý³í³ñï ·áñÍ»ñÇ ÁÝ¹Ñ³Ýáõñ ÃÇíÁ | M3: ØÇçÝáñ¹áõÃÛáõÝÝ»ñáí Ï³Û³óí³Í ¹³ï³Ï³Ý ³Ïï»ñÇó µáÕáù³ñÏí³ÍÝ»ñÇ ù³Ý³ÏÁ | O3: ²Ý³í³ñï µáÕáùÝ»ñ | P3: ØÇçÝáñ¹áõÃÛáõÝÝ»ñáí Ï³Û³óí³Í ¨ µáÕáù³ñÏí³Í ¹³ï³Ï³Ý ³Ïï»ñÇó µ»Ï³Ýí³ÍÝ»ñÇ ù³Ý³ÏÁ | R3: ÙÇçÝáñ¹áõÃÛáõÝÝ»ñáí Ï³Û³óí³Í ¨ µáÕáù³ñÏí³Í ¹³ï³Ï³Ý ³Ïï»ñÇó ³Ý÷á÷áË ÃáÕÝí³ÍÝ»ñÇ ù³Ý³ÏÁ
G4: Ù»ñÅí»É ¿ | H4: µ³í³ñ³ñí»É ¿ | I4: µ³í³ñ³ñí»É ¿ Ù³ëÝ³ÏÇ | J4: ÃáÕÝí»É ¿ ³é³Ýó ùÝÝáõÃÛ³Ý | K4: ÀÝ¹³Ù»ÝÁ
M5: Ý³Ëáñ¹ ï³ñÇÝ»ñÇÝ Ï³Û³óí³Í ³Ïï»ñÇ ¹»Ù | N5: Ñ³ßí»ïáõ Å³Ù³Ý³Ï³ßñç³ÝáõÙ Ï³Û³óí³Í ³Ïï»ñÇ ¹»Ù | P5: Ý³Ëáñ¹ ï³ñÇÝ»ñÇÝ Ï³Û³óí³Í ³Ïï»ñÇ µ»Ï³ÝáõÙÝ»ñÁ | Q5: Ñ³ßí»ïáõ Å³Ù³Ý³Ï³ßñç³ÝáõÙ Ï³Û³óí³Í ³Ïï»ñÇ µ»Ï³ÝáõÙÝ»ñÁ
A6: 1. ØÇÝã¹³ï³Ï³Ý í³ñáõÛÃÇ ÝÏ³ïÙ³Ùµ ¹³ï³Ï³Ý í»ñ³ÑëÏáÕáõÃÛ³Ý áÉáñï | D6: 1 | E6: 2 | F6: 3 | G6: 4 | H6: 5 | I6: 6 | J6: 7 | K6: 8 | L6: 9 | M6: 10 | N6: 11 | O6: 12 | P6: 13 | Q6: 14 | R6: 15 | T6: 1+2=3+8+9 | V6: 8=4+5+6+7
A7: 1 | B7: Ï³É³ÝùÁ áñå»ë Ë³÷³ÝÙ³Ý ÙÇçáó ÏÇñ³é»Éáõ Ù³ëÇÝ ÙÇçÝáñ¹áõÃÛáõÝÝ»ñ | E7: 17 | H7: 17 | K7: 17 | T7: =D7+E7 -> 17 | U7: =F7+K7+L7 -> 17 | V7: =K7 -> 17 | W7: =G7+H7+I7+J7 -> 17
A8: 2 | B8: Ï³É³ÝùÇ Å³ÙÏ»ïÁ »ñÏ³ñ³óÝ»Éáõ Ù³ëÇÝ ÙÇçÝáñ¹áõÃÛáõÝÝ»ñ | E8: 6 | H8: 6 | K8: 6 | N8: 1 | O8: 1 | T8: =D8+E8 -> 6 | U8: =F8+K8+L8 -> 6 | V8: =K8 -> 6 | W8: =G8+H8+I8+J8 -> 6
A9: 3 | B9: Ï³É³ÝùÇ í»ñ³Ñ³ëï³ïÙ³Ý Ù³ëÇÝ ÙÇçÝáñ¹áõÃÛáõÝÝ»ñ | E9: 1 | H9: 1 | K9: 1 | T9: =D9+E9 -> 1 | U9: =F9+K9+L9 -> 1 | V9: =K9 -> 1 | W9: =G9+H9+I9+J9 -> 1
A10: 4 | B10: ·ñ³íÁ áñå»ë Ï³É³Ý³íáñÙ³Ý ³ÛÉÁÝïñ³Ýù³ÛÇÝ Ë³÷³ÝÙ³Ý ÙÇçáó ÏÇñ³é»Éáõ Ù³ëÇÝ ÙÇçÝáñ¹áõÃÛáõÝÝ»ñ | E10: 4 | G10: 4 | K10: 4 | N10: 2 | R10: 2 | T10: =D10+E10 -> 4 | U10: =F10+K10+L10 -> 4 | V10: =K10 -> 4 | W10: =G10+H10+I10+J10 -> 4
A11: 5 | B11: Ëáõ½³ñÏáõÃÛ³Ý Ï³ï³ñÙ³Ý Ù³ëÇÝ ÙÇçÝáñ¹áõÃÛáõÝÝ»ñ | E11: 43 | G11: 1 | H11: 42 | K11: 43 | T11: =D11+E11 -> 43 | U11: =F11+K11+L11 -> 43 | V11: =K11 -> 43 | W11: =G11+H11+I11+J11 -> 43
A12: 6 | B12: µ³ÝÏ³ÛÇÝ, ³å³Ñáí³·ñ³Ï³Ý, Ýáï³ñ³Ï³Ý ·³ÕïÝÇù Ï³½ÙáÕ ï»Õ»ÏáõÃÛáõÝÝ»ñÇ ëï³óÙ³Ý Ñ³Ù³ñ Ëáõ½³ñÏáõÃÛ³Ý Ï³Ù ³é·ñ³íÙ³Ý Ï³ï³ñÙ³Ý Ù³ëÇÝ ÙÇçÝáñ¹áõÃÛáõÝÝ»ñ | E12: 2 | H12: 2 | K12: 2 | T12: =D12+E12 -> 2 | U12: =F12+K12+L12 -> 2 | V12: =K12 -> 2 | W12: =G12+H12+I12+J12 -> 2
A13: 7 | B13: Ý³Ù³Ï³·ñáõÃÛ³Ý, Ñ»é³·ñ³Ï³Ý, ÷áuï³ÛÇÝ Ñ³Õáñ¹áõÙÝ»ñÇ ÑëÏáÕáõÃÛ³Ý Ù³ëÇÝ ÙÇçÝáñ¹áõÃÛáõÝÝ»ñ | E13: 2 | H13: 2 | K13: 2 | T13: =D13+E13 -> 2 | U13: =F13+K13+L13 -> 2 | V13: =K13 -> 2 | W13: =G13+H13+I13+J13 -> 2
A14: 8 | B14: Ñ»é³Ëáu³ÛÇÝ Ï³Ù Ï³åÇ ³ÛÉ ÙÇçáóÝ»ñáí ï³ñíáÕ Ëáu³ÏóáõÃÛáõÝÝ»ñÇ ÉuÙ³Ý ¨ Ó³ÛÝ³·ñ³éÙ³Ý Ù³ëÇÝ ÙÇçÝáñ¹áõÃÛáõÝÝ»ñ | T14: =D14+E14 -> 0 | U14: =F14+K14+L14 -> 0 | V14: =K14 -> 0 | W14: =G14+H14+I14+J14 -> 0
A15: 9 | B15: Ñ»é³ËáëÝ»ñÇ Ùáõïù³ÛÇÝ ¨ »Éù³ÛÇÝ í»ñÍ³ÝÙ³Ý ÃáõÛÉïíáõÃÛáõÝ ëï³Ý³Éáõ Ù³ëÇÝ ÙÇçÝáñ¹áõÃÛáõÝÝ»ñ | E15: 24 | H15: 22 | I15: 2 | K15: 24 | T15: =D15+E15 -> 24 | U15: =F15+K15+L15 -> 24 | V15: =K15 -> 24 | W15: =G15+H15+I15+J15 -> 24
A16: 10 | B16: Ñ»ï³ùÝÝáõÃÛ³Ý Ù³ñÙÝÇ ³ßË³ïáÕÇ, ùÝÝÇãÇ, ¹³ï³Ë³½Ç oå»ñ³ïÇí-Ñ»ï³Ëáõ½³Ï³Ý ·áñÍáÕáõÃÛáõÝÝ»ñ Çñ³Ï³Ý³óÝáÕ Ù³ñÙÇÝÝ»ñÇ ³ÝoñÇÝ³Ï³Ý ¨ ³ÝÑÇÙÝ áñáßáõÙÝ»ñÇ ¨ ·áñÍáÕáõÃÛáõÝÝ»ñÇ ¹»Ù µáÕáùÝ»ñ | D16: 1 | E16: 2 | G16: 1 | I16: 1 | K16: 2 | L16: 1 | N16: 1 | R16: 1 | T16: =D16+E16 -> 3 | U16: =F16+K16+L16 -> 3 | V16: =K16 -> 2 | W16: =G16+H16+I16+J16 -> 2
A17: 11 | B17: ²½³ïáõÃÛáõÝÇó ½ñÏ»Éáõ Çñ³í³ã³÷áõÃÛ³Ý í»ñ³µ»ñÛ³É µáÕáùÝ»ñáí ·áñÍ»ñ | T17: =D17+E17 -> 0 | U17: =F17+K17+L17 -> 0 | V17: =K17 -> 0 | W17: =G17+H17+I17+J17 -> 0
A18: 2. ¸³ï³Ï³Ý ³Ïï»ñÇ ¨ ¹³ï³Ï³Ý Ñ³ÝÓÝ³ñ³ñáõÃÛáõÝÝ»ñÇ Ï³ï³ñÙ³Ý Ñ»ï Ï³åí³Í Ñ³ñó»ñÇ ÉáõÍÙ³Ý áÉáñï
A19: 1 | B19: å³ïÅÇó å³ÛÙ³Ý³Ï³Ý í³Õ³Å³ÙÏ»ï ³½³ï»Éáõ Ù³ëÇÝ ÙÇçÝáñ¹áõÃÛáõÝÝ»ñ | D19: 2 | E19: 9 | G19: 5 | H19: 6 | K19: 11 | N19: 6 | O19: 4 | Q19: 1 | R19: 1 | T19: =D19+E19 -> 11 | U19: =F19+K19+L19 -> 11 | V19: =K19 -> 11 | W19: =G19+H19+I19+J19 -> 11
A20: 2 | B20: å³ïÇÅÁ ÷á÷áË»Éáõ, Ñ»ï³Ó·»Éáõ ¨ å³ïÅÇó ³½³ï»Éáõ Ù³uÇÝ ÙÇçÝáñ¹áõÃÛáõÝÝ»ñ | E20: 15 | G20: 2 | H20: 7 | K20: 9 | L20: 6 | N20: 1 | O20: 1 | T20: =D20+E20 -> 15 | U20: =F20+K20+L20 -> 15 | V20: =K20 -> 9 | W20: =G20+H20+I20+J20 -> 9
A21: 3 | B21: Ñ³ñÏ³¹Çñ µáõÅÙ³Ý ï»ë³ÏÇ ÷á÷áËáõÃÛ³Ý Ù³ëÇÝ ÙÇçÝáñ¹áõÃÛáõÝÝ»ñ | E21: 1 | I21: 1 | K21: 1 | T21: =D21+E21 -> 1 | U21: =F21+K21+L21 -> 1 | V21: =K21 -> 1 | W21: =G21+H21+I21+J21 -> 1
A22: 4 | B22: ³ÛÉ ÙÇçÝáñ¹áõÃÛáõÝÝ»ñ | E22: 7 | G22: 3 | H22: 1 | I22: 1 | K22: 5 | L22: 2 | T22: =D22+E22 -> 7 | U22: =F22+K22+L22 -> 7 | V22: =K22 -> 5 | W22: =G22+H22+I22+J22 -> 5
A23: 5 | B23: ¹³ï³Ï³Ý Ñ³ÝÓÝ³ñ³ñáõÃÛáõÝÝ»ñ | T23: =D23+E23 -> 0 | U23: =F23+K23+L23 -> 0 | V23: =K23 -> 0 | W23: =G23+H23+I23+J23 -> 0
A24: ÀÜ¸²ØºÜÀ | D24: =D7+D8+D9+D10+D11+D12+D13+D14+D15+D17+D19+D20+D21+D22+D23+D16 -> 3 | E24: =E7+E8+E9+E10+E11+E12+E13+E14+E15+E17+E19+E20+E21+E22+E23+E16 -> 133 | F24: =F7+F8+F9+F10+F11+F12+F13+F14+F15+F17+F19+F20+F21+F22+F23+F16 -> 0 | G24: =G7+G8+G9+G10+G11+G12+G13+G14+G15+G17+G19+G20+G21+G22+G23+G16 -> 16 | H24: =H7+H8+H9+H10+H11+H12+H13+H14+H15+H17+H19+H20+H21+H22+H23+H16 -> 106 | I24: =I7+I8+I9+I10+I11+I12+I13+I14+I15+I17+I19+I20+I21+I22+I23+I16 -> 5 | J24: =J7+J8+J9+J10+J11+J12+J13+J14+J15+J17+J19+J20+J21+J22+J23+J16 -> 0 | K24: =K7+K8+K9+K10+K11+K12+K13+K14+K15+K17+K19+K20+K21+K22+K23+K16 -> 127 | ... P24: =P7+P8+P9+P10+P11+P12+P13+P14+P15+P17+P19+P20+P21+P22+P23+P16 -> 0 | Q24: =SUM(Q10:Q23) -> 1 | R24: =SUM(R10:R23) -> 4 | T24: =D24+E24 -> 136 | U24: =F24+K24+L24 -> 136 | V24: =K24 -> 127 | W24: =G24+H24+I24+J24 -> 127

Sheet Հ.Մովսեսյան
A1: 2017Ã. 1-ÇÝ ÏÇë³ÙÛ³Ï | D1: Ð²ÞìºîìàôÂÚàôÜ | P1: Ð³í»Éí³Í Ð³Û³ëï³ÝÇ Ð³Ýñ³å»ïáõÃÛ³Ý ¸³ï³ñ³ÝÝ»ñÇ Ý³Ë³·³ÑÝ»ñÇ ËáñÑñ¹Ç 25.08.2017Ã. ÃÇí 35-È áñáßÙ³Ý
A2: ØÇÝã¹³ï³Ï³Ý í³ñáõÛÃÇ ÝÏ³ïÙ³Ùµ ¹³ï³Ï³Ý í»ñ³ÑëÏáÕáõÃÛ³Ý, ¹³ï³Ï³Ý ³Ïï»ñÇ ¨ ¹³ï³Ï³Ý Ñ³ÝÓÝ³ñ³ñáõÃÛáõÝÝ»ñÇ Ï³ï³ñÙ³Ý Ñ»ï Ï³åí³Í ÙÇçÝáñ¹áõÃÛáõÝÝ»ñÇ í»ñ³µ»ñÛ³É ¹³ï³Ï³Ý ·áñÍ»ñáí ÐÐ ÞÇñ³ÏÇ Ù³ñ½Ç ÁÝ¹Ñ³Ýáõñ Çñ³í³ëáõÃÛ³Ý ³é³çÇÝ ³ïÛ³ÝÇ ¹³ï³ñ³ÝÇ ¹³ï³íáñ Հ.Մովսեսյանի ·áñÍáõÝ»áõÃÛ³Ý í»ñ³µ»ñÛ³É
A3: êïáõ·Çã Ñ³í³ë³ñáõÙ` 1+2=3+8+9, 8=4+5+6+7, | D3: Ð³ßí»ïáõ Å³Ù³Ý³Ï³Ñ³ïí³ÍÇ ëÏ½µáõÙ Ý³Ëáñ¹ Ñ³ßí»ïáõ Å³Ù³Ý³Ï³Ñ³ïí³ÍÇó ÷áË³Ýóí³Í ·áñÍ»ñÇ ÁÝ¹Ñ³Ýáõñ ÃÇíÁ | E3: Ð³ßí»ïáõ Å³Ù³Ý³Ï³Ñ³ïí³ÍáõÙ ëï³óí³Í ·áñÍ»ñÇ ÁÝ¹Ñ³Ýáõñ ÃÇíÁ | F3: öáË³Ýóí»É ¿ ³ÛÉ ¹³ï³íáñÇ Ï³Ù ³ÛÉ ¹³ï³ñ³Ý (Ï³½ÙÇ ÷á÷áËáõÃÛáõÝ, ÁÝ¹¹³ïáõÃÛáõÝ) | G3: Ð³ßí»ïáõ Å³Ù³Ý³Ï³Ñ³ïí³ÍáõÙ ³í³ñïí³Í ·áñÍ»ñÇ ÁÝ¹Ñ³Ýáõñ ÃÇíÁ | L3: Ð³ßí»ïáõ Å³Ù³Ý³Ï³Ñ³ïí³ÍáõÙ ³Ý³í³ñï ·áñÍ»ñÇ ÁÝ¹Ñ³Ýáõñ ÃÇíÁ | M3: ØÇçÝáñ¹áõÃÛáõÝÝ»ñáí Ï³Û³óí³Í ¹³ï³Ï³Ý ³Ïï»ñÇó µáÕáù³ñÏí³ÍÝ»ñÇ ù³Ý³ÏÁ | O3: ²Ý³í³ñï µáÕáùÝ»ñ | P3: ØÇçÝáñ¹áõÃÛáõÝÝ»ñáí Ï³Û³óí³Í ¨ µáÕáù³ñÏí³Í ¹³ï³Ï³Ý ³Ïï»ñÇó µ»Ï³Ýí³ÍÝ»ñÇ ù³Ý³ÏÁ | R3: ÙÇçÝáñ¹áõÃÛáõÝÝ»ñáí Ï³Û³óí³Í ¨ µáÕáù³ñÏí³Í ¹³ï³Ï³Ý ³Ïï»ñÇó ³Ý÷á÷áË ÃáÕÝí³ÍÝ»ñÇ ù³Ý³ÏÁ
G4: Ù»ñÅí»É ¿ | H4: µ³í³ñ³ñí»É ¿ | I4: µ³í³ñ³ñí»É ¿ Ù³ëÝ³ÏÇ | J4: ÃáÕÝí»É ¿ ³é³Ýó ùÝÝáõÃÛ³Ý | K4: ÀÝ¹³Ù»ÝÁ
M5: Ý³Ëáñ¹ ï³ñÇÝ»ñÇÝ Ï³Û³óí³Í ³Ïï»ñÇ ¹»Ù | N5: Ñ³ßí»ïáõ Å³Ù³Ý³Ï³ßñç³ÝáõÙ Ï³Û³óí³Í ³Ïï»ñÇ ¹»Ù | P5: Ý³Ëáñ¹ ï³ñÇÝ»ñÇÝ Ï³Û³óí³Í ³Ïï»ñÇ µ»Ï³ÝáõÙÝ»ñÁ | Q5: Ñ³ßí»ïáõ Å³Ù³Ý³Ï³ßñç³ÝáõÙ Ï³Û³óí³Í ³Ïï»ñÇ µ»Ï³ÝáõÙÝ»ñÁ
A6: 1. ØÇÝã¹³ï³Ï³Ý í³ñáõÛÃÇ ÝÏ³ïÙ³Ùµ ¹³ï³Ï³Ý í»ñ³ÑëÏáÕáõÃÛ³Ý áÉáñï | D6: 1 | E6: 2 | F6: 3 | G6: 4 | H6: 5 | I6: 6 | J6: 7 | K6: 8 | L6: 9 | M6: 10 | N6: 11 | O6: 12 | P6: 13 | Q6: 14 | R6: 15 | T6: 1+2=3+8+9 | V6: 8=4+5+6+7
A7: 1 | B7: Ï³É³ÝùÁ áñå»ë Ë³÷³ÝÙ³Ý ÙÇçáó ÏÇñ³é»Éáõ Ù³ëÇÝ ÙÇçÝáñ¹áõÃÛáõÝÝ»ñ | E7: 35 | G7: 1 | H7: 34 | K7: 35 | N7: 1 | R7: 1 | T7: =D7+E7 -> 35 | U7: =F7+K7+L7 -> 35 | V7: =K7 -> 35 | W7: =G7+H7+I7+J7 -> 35
A8: 2 | B8: Ï³É³ÝùÇ Å³ÙÏ»ïÁ »ñÏ³ñ³óÝ»Éáõ Ù³ëÇÝ ÙÇçÝáñ¹áõÃÛáõÝÝ»ñ | E8: 14 | H8: 14 | K8: 14 | N8: 1 | O8: 1 | T8: =D8+E8 -> 14 | U8: =F8+K8+L8 -> 14 | V8: =K8 -> 14 | W8: =G8+H8+I8+J8 -> 14
A9: 3 | B9: Ï³É³ÝùÇ í»ñ³Ñ³ëï³ïÙ³Ý Ù³ëÇÝ ÙÇçÝáñ¹áõÃÛáõÝÝ»ñ | E9: 1 | H9: 1 | K9: 1 | T9: =D9+E9 -> 1 | U9: =F9+K9+L9 -> 1 | V9: =K9 -> 1 | W9: =G9+H9+I9+J9 -> 1
A10: 4 | B10: ·ñ³íÁ áñå»ë Ï³É³Ý³íáñÙ³Ý ³ÛÉÁÝïñ³Ýù³ÛÇÝ Ë³÷³ÝÙ³Ý ÙÇçáó ÏÇñ³é»Éáõ Ù³ëÇÝ ÙÇçÝáñ¹áõÃÛáõÝÝ»ñ | E10: 5 | G10: 3 | H10: 2 | K10: 5 | T10: =D10+E10 -> 5 | U10: =F10+K10+L10 -> 5 | V10: =K10 -> 5 | W10: =G10+H10+I10+J10 -> 5
A11: 5 | B11: Ëáõ½³ñÏáõÃÛ³Ý Ï³ï³ñÙ³Ý Ù³ëÇÝ ÙÇçÝáñ¹áõÃÛáõÝÝ»ñ | E11: 56 | G11: 3 | H11: 53 | K11: 56 | T11: =D11+E11 -> 56 | U11: =F11+K11+L11 -> 56 | V11: =K11 -> 56 | W11: =G11+H11+I11+J11 -> 56
A12: 6 | B12: µ³ÝÏ³ÛÇÝ, ³å³Ñáí³·ñ³Ï³Ý, Ýáï³ñ³Ï³Ý ·³ÕïÝÇù Ï³½ÙáÕ ï»Õ»ÏáõÃÛáõÝÝ»ñÇ ëï³óÙ³Ý Ñ³Ù³ñ Ëáõ½³ñÏáõÃÛ³Ý Ï³Ù ³é·ñ³íÙ³Ý Ï³ï³ñÙ³Ý Ù³ëÇÝ ÙÇçÝáñ¹áõÃÛáõÝÝ»ñ | E12: 1 | H12: 1 | K12: 1 | T12: =D12+E12 -> 1 | U12: =F12+K12+L12 -> 1 | V12: =K12 -> 1 | W12: =G12+H12+I12+J12 -> 1
A13: 7 | B13: Ý³Ù³Ï³·ñáõÃÛ³Ý, Ñ»é³·ñ³Ï³Ý, ÷áuï³ÛÇÝ Ñ³Õáñ¹áõÙÝ»ñÇ ÑëÏáÕáõÃÛ³Ý Ù³ëÇÝ ÙÇçÝáñ¹áõÃÛáõÝÝ»ñ | E13: 4 | H13: 4 | K13: 4 | T13: =D13+E13 -> 4 | U13: =F13+K13+L13 -> 4 | V13: =K13 -> 4 | W13: =G13+H13+I13+J13 -> 4
A14: 8 | B14: Ñ»é³Ëáu³ÛÇÝ Ï³Ù Ï³åÇ ³ÛÉ ÙÇçáóÝ»ñáí ï³ñíáÕ Ëáu³ÏóáõÃÛáõÝÝ»ñÇ ÉuÙ³Ý ¨ Ó³ÛÝ³·ñ³éÙ³Ý Ù³ëÇÝ ÙÇçÝáñ¹áõÃÛáõÝÝ»ñ | T14: =D14+E14 -> 0 | U14: =F14+K14+L14 -> 0 | V14: =K14 -> 0 | W14: =G14+H14+I14+J14 -> 0
A15: 9 | B15: Ñ»é³ËáëÝ»ñÇ Ùáõïù³ÛÇÝ ¨ »Éù³ÛÇÝ í»ñÍ³ÝÙ³Ý ÃáõÛÉïíáõÃÛáõÝ ëï³Ý³Éáõ Ù³ëÇÝ ÙÇçÝáñ¹áõÃÛáõÝÝ»ñ | E15: 46 | H15: 46 | K15: 46 | T15: =D15+E15 -> 46 | U15: =F15+K15+L15 -> 46 | V15: =K15 -> 46 | W15: =G15+H15+I15+J15 -> 46
A16: 10 | B16: Ñ»ï³ùÝÝáõÃÛ³Ý Ù³ñÙÝÇ ³ßË³ïáÕÇ, ùÝÝÇãÇ, ¹³ï³Ë³½Ç oå»ñ³ïÇí-Ñ»ï³Ëáõ½³Ï³Ý ·áñÍáÕáõÃÛáõÝÝ»ñ Çñ³Ï³Ý³óÝáÕ Ù³ñÙÇÝÝ»ñÇ ³ÝoñÇÝ³Ï³Ý ¨ ³ÝÑÇÙÝ áñáßáõÙÝ»ñÇ ¨ ·áñÍáÕáõÃÛáõÝÝ»ñÇ ¹»Ù µáÕáùÝ»ñ | E16: 1 | L16: 1 | T16: =D16+E16 -> 1 | U16: =F16+K16+L16 -> 1 | V16: =K16 -> 0 | W16: =G16+H16+I16+J16 -> 0
A17: 11 | B17: ²½³ïáõÃÛáõÝÇó ½ñÏ»Éáõ Çñ³í³ã³÷áõÃÛ³Ý í»ñ³µ»ñÛ³É µáÕáùÝ»ñáí ·áñÍ»ñ | T17: =D17+E17 -> 0 | U17: =F17+K17+L17 -> 0 | V17: =K17 -> 0 | W17: =G17+H17+I17+J17 -> 0
A18: 2. ¸³ï³Ï³Ý ³Ïï»ñÇ ¨ ¹³ï³Ï³Ý Ñ³ÝÓÝ³ñ³ñáõÃÛáõÝÝ»ñÇ Ï³ï³ñÙ³Ý Ñ»ï Ï³åí³Í Ñ³ñó»ñÇ ÉáõÍÙ³Ý áÉáñï
A19: 1 | B19: å³ïÅÇó å³ÛÙ³Ý³Ï³Ý í³Õ³Å³ÙÏ»ï ³½³ï»Éáõ Ù³ëÇÝ ÙÇçÝáñ¹áõÃÛáõÝÝ»ñ | T19: =D19+E19 -> 0 | U19: =F19+K19+L19 -> 0 | V19: =K19 -> 0 | W19: =G19+H19+I19+J19 -> 0
A20: 2 | B20: å³ïÇÅÁ ÷á÷áË»Éáõ, Ñ»ï³Ó·»Éáõ ¨ å³ïÅÇó ³½³ï»Éáõ Ù³uÇÝ ÙÇçÝáñ¹áõÃÛáõÝÝ»ñ | D20: 1 | E20: 5 | G20: 2 | H20: 1 | I20: 1 | K20: 4 | L20: 2 | N20: 1 | O20: 1 | T20: =D20+E20 -> 6 | U20: =F20+K20+L20 -> 6 | V20: =K20 -> 4 | W20: =G20+H20+I20+J20 -> 4
A21: 3 | B21: Ñ³ñÏ³¹Çñ µáõÅÙ³Ý ï»ë³ÏÇ ÷á÷áËáõÃÛ³Ý Ù³ëÇÝ ÙÇçÝáñ¹áõÃÛáõÝÝ»ñ | E21: 1 | H21: 1 | K21: 1 | T21: =D21+E21 -> 1 | U21: =F21+K21+L21 -> 1 | V21: =K21 -> 1 | W21: =G21+H21+I21+J21 -> 1
A22: 4 | B22: ³ÛÉ ÙÇçÝáñ¹áõÃÛáõÝÝ»ñ | E22: 5 | G22: 1 | H22: 4 | K22: 5 | T22: =D22+E22 -> 5 | U22: =F22+K22+L22 -> 5 | V22: =K22 -> 5 | W22: =G22+H22+I22+J22 -> 5
A23: 5 | B23: ¹³ï³Ï³Ý Ñ³ÝÓÝ³ñ³ñáõÃÛáõÝÝ»ñ | T23: =D23+E23 -> 0 | U23: =F23+K23+L23 -> 0 | V23: =K23 -> 0 | W23: =G23+H23+I23+J23 -> 0
A24: ÀÜ¸²ØºÜÀ | D24: =D7+D8+D9+D10+D11+D12+D13+D14+D15+D17+D19+D20+D21+D22+D23+D16 -> 1 | E24: =E7+E8+E9+E10+E11+E12+E13+E14+E15+E17+E19+E20+E21+E22+E23+E16 -> 174 | F24: =F7+F8+F9+F10+F11+F12+F13+F14+F15+F17+F19+F20+F21+F22+F23+F16 -> 0 | G24: =G7+G8+G9+G10+G11+G12+G13+G14+G15+G17+G19+G20+G21+G22+G23+G16 -> 10 | H24: =H7+H8+H9+H10+H11+H12+H13+H14+H15+H17+H19+H20+H21+H22+H23+H16 -> 161 | I24: =I7+I8+I9+I10+I11+I12+I13+I14+I15+I17+I19+I20+I21+I22+I23+I16 -> 1 | J24: =J7+J8+J9+J10+J11+J12+J13+J14+J15+J17+J19+J20+J21+J22+J23+J16 -> 0 | K24: =K7+K8+K9+K10+K11+K12+K13+K14+K15+K17+K19+K20+K21+K22+K23+K16 -> 172 | ... R24: =R7+R8+R9+R10+R11+R12+R13+R14+R15+R17+R19+R20+R21+R22+R23+R16 -> 1 | T24: =D24+E24 -> 175 | U24: =F24+K24+L24 -> 175 | V24: =K24 -> 172 | W24: =G24+H24+I24+J24 -> 172

Sheet Ս. Մնացյան 
A1: 2017Ã. 1-ÇÝ ÏÇë³ÙÛ³Ï | D1: Ð²ÞìºîìàôÂÚàôÜ | P1: Ð³í»Éí³Í Ð³Û³ëï³ÝÇ Ð³Ýñ³å»ïáõÃÛ³Ý ¸³ï³ñ³ÝÝ»ñÇ Ý³Ë³·³ÑÝ»ñÇ ËáñÑñ¹Ç 25.08.2017Ã. ÃÇí 35-È áñáßÙ³Ý
A2: ØÇÝã¹³ï³Ï³Ý í³ñáõÛÃÇ ÝÏ³ïÙ³Ùµ ¹³ï³Ï³Ý í»ñ³ÑëÏáÕáõÃÛ³Ý, ¹³ï³Ï³Ý ³Ïï»ñÇ ¨ ¹³ï³Ï³Ý Ñ³ÝÓÝ³ñ³ñáõÃÛáõÝÝ»ñÇ Ï³ï³ñÙ³Ý Ñ»ï Ï³åí³Í ÙÇçÝáñ¹áõÃÛáõÝÝ»ñÇ í»ñ³µ»ñÛ³É ¹³ï³Ï³Ý ·áñÍ»ñáí ÐÐ ÞÇñ³ÏÇ Ù³ñ½Ç ÁÝ¹Ñ³Ýáõñ Çñ³í³ëáõÃÛ³Ý ³é³çÇÝ ³ïÛ³ÝÇ ¹³ï³ñ³ÝÇ ¹³ï³íáñ Ս.Մնացյանի ·áñÍáõÝ»áõÃÛ³Ý í»ñ³µ»ñÛ³É
A3: êïáõ·Çã Ñ³í³ë³ñáõÙ` 1+2=3+8+9, 8=4+5+6+7, | D3: Ð³ßí»ïáõ Å³Ù³Ý³Ï³Ñ³ïí³ÍÇ ëÏ½µáõÙ Ý³Ëáñ¹ Ñ³ßí»ïáõ Å³Ù³Ý³Ï³Ñ³ïí³ÍÇó ÷áË³Ýóí³Í ·áñÍ»ñÇ ÁÝ¹Ñ³Ýáõñ ÃÇíÁ | E3: Ð³ßí»ïáõ Å³Ù³Ý³Ï³Ñ³ïí³ÍáõÙ ëï³óí³Í ·áñÍ»ñÇ ÁÝ¹Ñ³Ýáõñ ÃÇíÁ | F3: öáË³Ýóí»É ¿ ³ÛÉ ¹³ï³íáñÇ Ï³Ù ³ÛÉ ¹³ï³ñ³Ý (Ï³½ÙÇ ÷á÷áËáõÃÛáõÝ, ÁÝ¹¹³ïáõÃÛáõÝ) | G3: Ð³ßí»ïáõ Å³Ù³Ý³Ï³Ñ³ïí³ÍáõÙ ³í³ñïí³Í ·áñÍ»ñÇ ÁÝ¹Ñ³Ýáõñ ÃÇíÁ | L3: Ð³ßí»ïáõ Å³Ù³Ý³Ï³Ñ³ïí³ÍáõÙ ³Ý³í³ñï ·áñÍ»ñÇ ÁÝ¹Ñ³Ýáõñ ÃÇíÁ | M3: ØÇçÝáñ¹áõÃÛáõÝÝ»ñáí Ï³Û³óí³Í ¹³ï³Ï³Ý ³Ïï»ñÇó µáÕáù³ñÏí³ÍÝ»ñÇ ù³Ý³ÏÁ | O3: ²Ý³í³ñï µáÕáùÝ»ñ | P3: ØÇçÝáñ¹áõÃÛáõÝÝ»ñáí Ï³Û³óí³Í ¨ µáÕáù³ñÏí³Í ¹³ï³Ï³Ý ³Ïï»ñÇó µ»Ï³Ýí³ÍÝ»ñÇ ù³Ý³ÏÁ | R3: ÙÇçÝáñ¹áõÃÛáõÝÝ»ñáí Ï³Û³óí³Í ¨ µáÕáù³ñÏí³Í ¹³ï³Ï³Ý ³Ïï»ñÇó ³Ý÷á÷áË ÃáÕÝí³ÍÝ»ñÇ ù³Ý³ÏÁ
G4: Ù»ñÅí»É ¿ | H4: µ³í³ñ³ñí»É ¿ | I4: µ³í³ñ³ñí»É ¿ Ù³ëÝ³ÏÇ | J4: ÃáÕÝí»É ¿ ³é³Ýó ùÝÝáõÃÛ³Ý | K4: ÀÝ¹³Ù»ÝÁ
M5: Ý³Ëáñ¹ ï³ñÇÝ»ñÇÝ Ï³Û³óí³Í ³Ïï»ñÇ ¹»Ù | N5: Ñ³ßí»ïáõ Å³Ù³Ý³Ï³ßñç³ÝáõÙ Ï³Û³óí³Í ³Ïï»ñÇ ¹»Ù | P5: Ý³Ëáñ¹ ï³ñÇÝ»ñÇÝ Ï³Û³óí³Í ³Ïï»ñÇ µ»Ï³ÝáõÙÝ»ñÁ | Q5: Ñ³ßí»ïáõ Å³Ù³Ý³Ï³ßñç³ÝáõÙ Ï³Û³óí³Í ³Ïï»ñÇ µ»Ï³ÝáõÙÝ»ñÁ
A6: 1. ØÇÝã¹³ï³Ï³Ý í³ñáõÛÃÇ ÝÏ³ïÙ³Ùµ ¹³ï³Ï³Ý í»ñ³ÑëÏáÕáõÃÛ³Ý áÉáñï | D6: 1 | E6: 2 | F6: 3 | G6: 4 | H6: 5 | I6: 6 | J6: 7 | K6: 8 | L6: 9 | M6: 10 | N6: 11 | O6: 12 | P6: 13 | Q6: 14 | R6: 15 | T6: 1+2=3+8+9 | V6: 8=4+5+6+7
A7: 1 | B7: Ï³É³ÝùÁ áñå»ë Ë³÷³ÝÙ³Ý ÙÇçáó ÏÇñ³é»Éáõ Ù³ëÇÝ ÙÇçÝáñ¹áõÃÛáõÝÝ»ñ | T7: =D7+E7 -> 0 | U7: =F7+K7+L7 -> 0 | V7: =K7 -> 0 | W7: =G7+H7+I7+J7 -> 0
A8: 2 | B8: Ï³É³ÝùÇ Å³ÙÏ»ïÁ »ñÏ³ñ³óÝ»Éáõ Ù³ëÇÝ ÙÇçÝáñ¹áõÃÛáõÝÝ»ñ | D8: 1 | H8: 1 | K8: 1 | T8: =D8+E8 -> 1 | U8: =F8+K8+L8 -> 1 | V8: =K8 -> 1 | W8: =G8+H8+I8+J8 -> 1
A9: 3 | B9: Ï³É³ÝùÇ í»ñ³Ñ³ëï³ïÙ³Ý Ù³ëÇÝ ÙÇçÝáñ¹áõÃÛáõÝÝ»ñ | T9: =D9+E9 -> 0 | U9: =F9+K9+L9 -> 0 | V9: =K9 -> 0 | W9: =G9+H9+I9+J9 -> 0
A10: 4 | B10: ·ñ³íÁ áñå»ë Ï³É³Ý³íáñÙ³Ý ³ÛÉÁÝïñ³Ýù³ÛÇÝ Ë³÷³ÝÙ³Ý ÙÇçáó ÏÇñ³é»Éáõ Ù³ëÇÝ ÙÇçÝáñ¹áõÃÛáõÝÝ»ñ | E10: 1 | G10: 1 | K10: 1 | T10: =D10+E10 -> 1 | U10: =F10+K10+L10 -> 1 | V10: =K10 -> 1 | W10: =G10+H10+I10+J10 -> 1
A11: 5 | B11: Ëáõ½³ñÏáõÃÛ³Ý Ï³ï³ñÙ³Ý Ù³ëÇÝ ÙÇçÝáñ¹áõÃÛáõÝÝ»ñ | T11: =D11+E11 -> 0 | U11: =F11+K11+L11 -> 0 | V11: =K11 -> 0 | W11: =G11+H11+I11+J11 -> 0
A12: 6 | B12: µ³ÝÏ³ÛÇÝ, ³å³Ñáí³·ñ³Ï³Ý, Ýáï³ñ³Ï³Ý ·³ÕïÝÇù Ï³½ÙáÕ ï»Õ»ÏáõÃÛáõÝÝ»ñÇ ëï³óÙ³Ý Ñ³Ù³ñ Ëáõ½³ñÏáõÃÛ³Ý Ï³Ù ³é·ñ³íÙ³Ý Ï³ï³ñÙ³Ý Ù³ëÇÝ ÙÇçÝáñ¹áõÃÛáõÝÝ»ñ | T12: =D12+E12 -> 0 | U12: =F12+K12+L12 -> 0 | V12: =K12 -> 0 | W12: =G12+H12+I12+J12 -> 0
A13: 7 | B13: Ý³Ù³Ï³·ñáõÃÛ³Ý, Ñ»é³·ñ³Ï³Ý, ÷áuï³ÛÇÝ Ñ³Õáñ¹áõÙÝ»ñÇ ÑëÏáÕáõÃÛ³Ý Ù³ëÇÝ ÙÇçÝáñ¹áõÃÛáõÝÝ»ñ | T13: =D13+E13 -> 0 | U13: =F13+K13+L13 -> 0 | V13: =K13 -> 0 | W13: =G13+H13+I13+J13 -> 0
A14: 8 | B14: Ñ»é³Ëáu³ÛÇÝ Ï³Ù Ï³åÇ ³ÛÉ ÙÇçáóÝ»ñáí ï³ñíáÕ Ëáu³ÏóáõÃÛáõÝÝ»ñÇ ÉuÙ³Ý ¨ Ó³ÛÝ³·ñ³éÙ³Ý Ù³ëÇÝ ÙÇçÝáñ¹áõÃÛáõÝÝ»ñ | T14: =D14+E14 -> 0 | U14: =F14+K14+L14 -> 0 | V14: =K14 -> 0 | W14: =G14+H14+I14+J14 -> 0
A15: 9 | B15: Ñ»é³ËáëÝ»ñÇ Ùáõïù³ÛÇÝ ¨ »Éù³ÛÇÝ í»ñÍ³ÝÙ³Ý ÃáõÛÉïíáõÃÛáõÝ ëï³Ý³Éáõ Ù³ëÇÝ ÙÇçÝáñ¹áõÃÛáõÝÝ»ñ | T15: =D15+E15 -> 0 | U15: =F15+K15+L15 -> 0 | V15: =K15 -> 0 | W15: =G15+H15+I15+J15 -> 0
A16: 10 | B16: Ñ»ï³ùÝÝáõÃÛ³Ý Ù³ñÙÝÇ ³ßË³ïáÕÇ, ùÝÝÇãÇ, ¹³ï³Ë³½Ç oå»ñ³ïÇí-Ñ»ï³Ëáõ½³Ï³Ý ·áñÍáÕáõÃÛáõÝÝ»ñ Çñ³Ï³Ý³óÝáÕ Ù³ñÙÇÝÝ»ñÇ ³ÝoñÇÝ³Ï³Ý ¨ ³ÝÑÇÙÝ áñáßáõÙÝ»ñÇ ¨ ·áñÍáÕáõÃÛáõÝÝ»ñÇ ¹»Ù µáÕáùÝ»ñ | T16: =D16+E16 -> 0 | U16: =F16+K16+L16 -> 0 | V16: =K16 -> 0 | W16: =G16+H16+I16+J16 -> 0
A17: 11 | B17: ²½³ïáõÃÛáõÝÇó ½ñÏ»Éáõ Çñ³í³ã³÷áõÃÛ³Ý í»ñ³µ»ñÛ³É µáÕáùÝ»ñáí ·áñÍ»ñ | T17: =D17+E17 -> 0 | U17: =F17+K17+L17 -> 0 | V17: =K17 -> 0 | W17: =G17+H17+I17+J17 -> 0
A18: 2. ¸³ï³Ï³Ý ³Ïï»ñÇ ¨ ¹³ï³Ï³Ý Ñ³ÝÓÝ³ñ³ñáõÃÛáõÝÝ»ñÇ Ï³ï³ñÙ³Ý Ñ»ï Ï³åí³Í Ñ³ñó»ñÇ ÉáõÍÙ³Ý áÉáñï
A19: 1 | B19: å³ïÅÇó å³ÛÙ³Ý³Ï³Ý í³Õ³Å³ÙÏ»ï ³½³ï»Éáõ Ù³ëÇÝ ÙÇçÝáñ¹áõÃÛáõÝÝ»ñ | T19: =D19+E19 -> 0 | U19: =F19+K19+L19 -> 0 | V19: =K19 -> 0 | W19: =G19+H19+I19+J19 -> 0
A20: 2 | B20: å³ïÇÅÁ ÷á÷áË»Éáõ, Ñ»ï³Ó·»Éáõ ¨ å³ïÅÇó ³½³ï»Éáõ Ù³uÇÝ ÙÇçÝáñ¹áõÃÛáõÝÝ»ñ | T20: =D20+E20 -> 0 | U20: =F20+K20+L20 -> 0 | V20: =K20 -> 0 | W20: =G20+H20+I20+J20 -> 0
A21: 3 | B21: Ñ³ñÏ³¹Çñ µáõÅÙ³Ý ï»ë³ÏÇ ÷á÷áËáõÃÛ³Ý Ù³ëÇÝ ÙÇçÝáñ¹áõÃÛáõÝÝ»ñ | T21: =D21+E21 -> 0 | U21: =F21+K21+L21 -> 0 | V21: =K21 -> 0 | W21: =G21+H21+I21+J21 -> 0
A22: 4 | B22: ³ÛÉ ÙÇçÝáñ¹áõÃÛáõÝÝ»ñ | T22: =D22+E22 -> 0 | U22: =F22+K22+L22 -> 0 | V22: =K22 -> 0 | W22: =G22+H22+I22+J22 -> 0
A23: 5 | B23: ¹³ï³Ï³Ý Ñ³ÝÓÝ³ñ³ñáõÃÛáõÝÝ»ñ | E23: 1 | H23: 1 | K23: 1 | T23: =D23+E23 -> 1 | U23: =F23+K23+L23 -> 1 | V23: =K23 -> 1 | W23: =G23+H23+I23+J23 -> 1
A24: ÀÜ¸²ØºÜÀ | D24: =D7+D8+D9+D10+D11+D12+D13+D14+D15+D17+D19+D20+D21+D22+D23+D16 -> 1 | E24: =E7+E8+E9+E10+E11+E12+E13+E14+E15+E17+E19+E20+E21+E22+E23+E16 -> 2 | F24: =F7+F8+F9+F10+F11+F12+F13+F14+F15+F17+F19+F20+F21+F22+F23+F16 -> 0 | G24: =G7+G8+G9+G10+G11+G12+G13+G14+G15+G17+G19+G20+G21+G22+G23+G16 -> 1 | H24: =H7+H8+H9+H10+H11+H12+H13+H14+H15+H17+H19+H20+H21+H22+H23+H16 -> 2 | I24: =I7+I8+I9+I10+I11+I12+I13+I14+I15+I17+I19+I20+I21+I22+I23+I16 -> 0 | J24: =J7+J8+J9+J10+J11+J12+J13+J14+J15+J17+J19+J20+J21+J22+J23+J16 -> 0 | K24: =K7+K8+K9+K10+K11+K12+K13+K14+K15+K17+K19+K20+K21+K22+K23+K16 -> 3 | ... R24: =R7+R8+R9+R10+R11+R12+R13+R14+R15+R17+R19+R20+R21+R22+R23+R16 -> 0 | T24: =D24+E24 -> 3 | U24: =F24+K24+L24 -> 3 | V24: =K24 -> 3 | W24: =G24+H24+I24+J24 -> 3

Sheet Մ.Մարտիրոսյան
A1: 2016Ã. | D1: Ð²ÞìºîìàôÂÚàôÜ | P1: Ð³í»Éí³Í Ð³Û³ëï³ÝÇ Ð³Ýñ³å»ïáõÃÛ³Ý ¸³ï³ñ³ÝÝ»ñÇ Ý³Ë³·³ÑÝ»ñÇ ËáñÑñ¹Ç 25.08.2016Ã. ÃÇí 44-È áñáßÙ³Ý
A2: ØÇÝã¹³ï³Ï³Ý í³ñáõÛÃÇ ÝÏ³ïÙ³Ùµ ¹³ï³Ï³Ý í»ñ³ÑëÏáÕáõÃÛ³ÝÁ, ¹³ï³Ï³Ý ³Ïï»ñÇ ¨ ¹³ï³Ï³Ý Ñ³ÝÓÝ³ñ³ñáõÃÛáõÝÝ»ñÇ Ï³ï³ñÙ³Ý Ñ»ï Ï³åí³Í ÙÇçÝáñ¹áõÃÛáõÝÝ»ñÇ í»ñ³µ»ñÛ³É ¹³ï³Ï³Ý ·áñÍ»ñáí ÐÐ ÞÇñ³ÏÇ Ù³ñ½Ç ÁÝ¹Ñ³Ýáõñ Çñ³í³ëáõÃÛ³Ý ³é³çÇÝ ³ïÛ³ÝÇ ¹³ï³ñ³ÝÇ ¹³ï³íáñ Մ.Մարտիրոսյանի-- ·áñÍáõÝ»áõÃÛ³Ý í»ñ³µ»ñÛ³É
A3: êïáõ·Çã Ñ³í³ë³ñáõÙ` 1+2=3+8+9, 8=4+5+6+7, | D3: Ð³ßí»ïáõ Å³Ù³Ý³Ï³Ñ³ïí³ÍÇ ëÏ½µáõÙ Ý³Ëáñ¹ Ñ³ßí»ïáõ Å³Ù³Ý³Ï³Ñ³ïí³ÍÇó ÷áË³Ýóí³Í ·áñÍ»ñÇ ÁÝ¹Ñ³Ýáõñ ÃÇíÁ | E3: Ð³ßí»ïáõ Å³Ù³Ý³Ï³Ñ³ïí³ÍáõÙ ëï³óí³Í ·áñÍ»ñÇ ÁÝ¹Ñ³Ýáõñ ÃÇíÁ | F3: öáË³Ýóí»É ¿ ³ÛÉ ¹³ï³íáñÇ Ï³Ù ³ÛÉ ¹³ï³ñ³Ý (Ï³½ÙÇ ÷á÷áËáõÃÛáõÝ, ÁÝ¹¹³ïáõÃÛáõÝ) | G3: Ð³ßí»ïáõ Å³Ù³Ý³Ï³Ñ³ïí³ÍáõÙ ³í³ñïí³Í ·áñÍ»ñÇ ÁÝ¹Ñ³Ýáõñ ÃÇíÁ | L3: Ð³ßí»ïáõ Å³Ù³Ý³Ï³Ñ³ïí³ÍáõÙ ³Ý³í³ñï ·áñÍ»ñÇ ÁÝ¹Ñ³Ýáõñ ÃÇíÁ | M3: ØÇçÝáñ¹áõÃÛáõÝÝ»ñáí Ï³Û³óí³Í ¹³ï³Ï³Ý ³Ïï»ñÇó µáÕáù³ñÏí³ÍÝ»ñÇ ù³Ý³ÏÁ | O3: ²Ý³í³ñï µáÕáùÝ»ñ | P3: ØÇçÝáñ¹áõÃÛáõÝÝ»ñáí Ï³Û³óí³Í ¨ µáÕáù³ñÏí³Í ¹³ï³Ï³Ý ³Ïï»ñÇó µ»Ï³Ýí³ÍÝ»ñÇ ù³Ý³ÏÁ | R3: ÙÇçÝáñ¹áõÃÛáõÝÝ»ñáí Ï³Û³óí³Í ¨ µáÕáù³ñÏí³Í ¹³ï³Ï³Ý ³Ïï»ñÇó ³Ý÷á÷áË ÃáÕÝí³ÍÝ»ñÇ ù³Ý³ÏÁ
G4: Ù»ñÅí»É ¿ | H4: µ³í³ñ³ñí»É ¿ | I4: µ³í³ñ³ñí»É ¿ Ù³ëÝ³ÏÇ | J4: ÃáÕÝí»É ¿ ³é³Ýó ùÝÝáõÃÛ³Ý | K4: ÀÝ¹³Ù»ÝÁ
M5: Ý³Ëáñ¹ ï³ñÇÝ»ñÇÝ Ï³Û³óí³Í ³Ïï»ñÇ ¹»Ù | N5: Ñ³ßí»ïáõ Å³Ù³Ý³Ï³ßñç³ÝáõÙ Ï³Û³óí³Í ³Ïï»ñÇ ¹»Ù | P5: Ý³Ëáñ¹ ï³ñÇÝ»ñÇÝ Ï³Û³óí³Í ³Ïï»ñÇ µ»Ï³ÝáõÙÝ»ñÁ | Q5: Ñ³ßí»ïáõ Å³Ù³Ý³Ï³ßñç³ÝáõÙ Ï³Û³óí³Í ³Ïï»ñÇ µ»Ï³ÝáõÙÝ»ñÁ
A6: 1. ØÇÝã¹³ï³Ï³Ý í³ñáõÛÃÇ ÝÏ³ïÙ³Ùµ ¹³ï³Ï³Ý í»ñ³ÑëÏáÕáõÃÛ³Ý áÉáñï | D6: 1 | E6: 2 | F6: 3 | G6: 4 | H6: 5 | I6: 6 | J6: 7 | K6: 8 | L6: 9 | M6: 10 | N6: 11 | O6: 12 | P6: 13 | Q6: 14 | R6: 15 | T6: 1+2=3+8+9 | V6: 8=4+5+6+7
A7: 1 | B7: Ï³É³ÝùÁ áñå»ë Ë³÷³ÝÙ³Ý ÙÇçáó ÏÇñ³é»Éáõ Ù³ëÇÝ ÙÇçÝáñ¹áõÃÛáõÝÝ»ñ | T7: =D7+E7 -> 0 | U7: =F7+K7+L7 -> 0 | V7: =K7 -> 0 | W7: =G7+H7+I7+J7 -> 0
A8: 2 | B8: Ï³É³ÝùÇ Å³ÙÏ»ïÁ »ñÏ³ñ³óÝ»Éáõ Ù³ëÇÝ ÙÇçÝáñ¹áõÃÛáõÝÝ»ñ | T8: =D8+E8 -> 0 | U8: =F8+K8+L8 -> 0 | V8: =K8 -> 0 | W8: =G8+H8+I8+J8 -> 0
A9: 3 | B9: Ï³É³ÝùÇ í»ñ³Ñ³ëï³ïÙ³Ý Ù³ëÇÝ ÙÇçÝáñ¹áõÃÛáõÝÝ»ñ | T9: =D9+E9 -> 0 | U9: =F9+K9+L9 -> 0 | V9: =K9 -> 0 | W9: =G9+H9+I9+J9 -> 0
A10: 4 | B10: ·ñ³íÁ áñå»ë Ï³É³Ý³íáñÙ³Ý ³ÛÉÁÝïñ³Ýù³ÛÇÝ Ë³÷³ÝÙ³Ý ÙÇçáó ÏÇñ³é»Éáõ Ù³ëÇÝ ÙÇçÝáñ¹áõÃÛáõÝÝ»ñ | T10: =D10+E10 -> 0 | U10: =F10+K10+L10 -> 0 | V10: =K10 -> 0 | W10: =G10+H10+I10+J10 -> 0
A11: 5 | B11: Ëáõ½³ñÏáõÃÛ³Ý Ï³ï³ñÙ³Ý Ù³ëÇÝ ÙÇçÝáñ¹áõÃÛáõÝÝ»ñ | T11: =D11+E11 -> 0 | U11: =F11+K11+L11 -> 0 | V11: =K11 -> 0 | W11: =G11+H11+I11+J11 -> 0
A12: 6 | B12: µ³ÝÏ³ÛÇÝ, ³å³Ñáí³·ñ³Ï³Ý, Ýáï³ñ³Ï³Ý ·³ÕïÝÇù Ï³½ÙáÕ ï»Õ»ÏáõÃÛáõÝÝ»ñÇ ëï³óÙ³Ý Ñ³Ù³ñ Ëáõ½³ñÏáõÃÛ³Ý Ï³Ù ³é·ñ³íÙ³Ý Ï³ï³ñÙ³Ý Ù³ëÇÝ ÙÇçÝáñ¹áõÃÛáõÝÝ»ñ | T12: =D12+E12 -> 0 | U12: =F12+K12+L12 -> 0 | V12: =K12 -> 0 | W12: =G12+H12+I12+J12 -> 0
A13: 7 | B13: Ý³Ù³Ï³·ñáõÃÛ³Ý, Ñ»é³·ñ³Ï³Ý, ÷áuï³ÛÇÝ Ñ³Õáñ¹áõÙÝ»ñÇ ÑëÏáÕáõÃÛ³Ý Ù³ëÇÝ ÙÇçÝáñ¹áõÃÛáõÝÝ»ñ | T13: =D13+E13 -> 0 | U13: =F13+K13+L13 -> 0 | V13: =K13 -> 0 | W13: =G13+H13+I13+J13 -> 0
A14: 8 | B14: Ñ»é³Ëáu³ÛÇÝ Ï³Ù Ï³åÇ ³ÛÉ ÙÇçáóÝ»ñáí ï³ñíáÕ Ëáu³ÏóáõÃÛáõÝÝ»ñÇ ÉuÙ³Ý ¨ Ó³ÛÝ³·ñ³éÙ³Ý Ù³ëÇÝ ÙÇçÝáñ¹áõÃÛáõÝÝ»ñ | T14: =D14+E14 -> 0 | U14: =F14+K14+L14 -> 0 | V14: =K14 -> 0 | W14: =G14+H14+I14+J14 -> 0
A15: 9 | B15: Ñ»é³ËáëÝ»ñÇ Ùáõïù³ÛÇÝ ¨ »Éù³ÛÇÝ í»ñÍ³ÝÙ³Ý ÃáõÛÉïíáõÃÛáõÝ ëï³Ý³Éáõ Ù³ëÇÝ ÙÇçÝáñ¹áõÃÛáõÝÝ»ñ | T15: =D15+E15 -> 0 | U15: =F15+K15+L15 -> 0 | V15: =K15 -> 0 | W15: =G15+H15+I15+J15 -> 0
A16: 10 | B16: Ñ»ï³ùÝÝáõÃÛ³Ý Ù³ñÙÝÇ ³ßË³ïáÕÇ, ùÝÝÇãÇ, ¹³ï³Ë³½Ç oå»ñ³ïÇí-Ñ»ï³Ëáõ½³Ï³Ý ·áñÍáÕáõÃÛáõÝÝ»ñ Çñ³Ï³Ý³óÝáÕ Ù³ñÙÇÝÝ»ñÇ ³ÝoñÇÝ³Ï³Ý ¨ ³ÝÑÇÙÝ áñáßáõÙÝ»ñÇ ¨ ·áñÍáÕáõÃÛáõÝÝ»ñÇ ¹»Ù µáÕáùÝ»ñ | T16: =D16+E16 -> 0 | U16: =F16+K16+L16 -> 0 | V16: =K16 -> 0 | W16: =G16+H16+I16+J16 -> 0
A17: 11 | B17: ²½³ïáõÃÛáõÝÇó ½ñÏ»Éáõ Çñ³í³ã³÷áõÃÛ³Ý í»ñ³µ»ñÛ³É µáÕáùÝ»ñáí ·áñÍ»ñ | T17: =D17+E17 -> 0 | U17: =F17+K17+L17 -> 0 | V17: =K17 -> 0 | W17: =G17+H17+I17+J17 -> 0
A18: 2. ¸³ï³Ï³Ý ³Ïï»ñÇ ¨ ¹³ï³Ï³Ý Ñ³ÝÓÝ³ñ³ñáõÃÛáõÝÝ»ñÇ Ï³ï³ñÙ³Ý Ñ»ï Ï³åí³Í Ñ³ñó»ñÇ ÉáõÍÙ³Ý áÉáñï
A19: 1 | B19: å³ïÅÇó å³ÛÙ³Ý³Ï³Ý í³Õ³Å³ÙÏ»ï ³½³ï»Éáõ Ù³ëÇÝ ÙÇçÝáñ¹áõÃÛáõÝÝ»ñ | T19: =D19+E19 -> 0 | U19: =F19+K19+L19 -> 0 | V19: =K19 -> 0 | W19: =G19+H19+I19+J19 -> 0
A20: 2 | B20: å³ïÇÅÁ ÷á÷áË»Éáõ, Ñ»ï³Ó·»Éáõ ¨ å³ïÅÇó ³½³ï»Éáõ Ù³uÇÝ ÙÇçÝáñ¹áõÃÛáõÝÝ»ñ | T20: =D20+E20 -> 0 | U20: =F20+K20+L20 -> 0 | V20: =K20 -> 0 | W20: =G20+H20+I20+J20 -> 0
A21: 3 | B21: Ñ³ñÏ³¹Çñ µáõÅÙ³Ý ï»ë³ÏÇ ÷á÷áËáõÃÛ³Ý Ù³ëÇÝ ÙÇçÝáñ¹áõÃÛáõÝÝ»ñ | T21: =D21+E21 -> 0 | U21: =F21+K21+L21 -> 0 | V21: =K21 -> 0 | W21: =G21+H21+I21+J21 -> 0
A22: 4 | B22: ³ÛÉ ÙÇçÝáñ¹áõÃÛáõÝÝ»ñ | T22: =D22+E22 -> 0 | U22: =F22+K22+L22 -> 0 | V22: =K22 -> 0 | W22: =G22+H22+I22+J22 -> 0
A23: 5 | B23: ¹³ï³Ï³Ý Ñ³ÝÓÝ³ñ³ñáõÃÛáõÝÝ»ñ | T23: =D23+E23 -> 0 | U23: =F23+K23+L23 -> 0 | V23: =K23 -> 0 | W23: =G23+H23+I23+J23 -> 0
A24: ÀÜ¸²ØºÜÀ | D24: =D7+D8+D9+D10+D11+D12+D13+D14+D15+D17+D19+D20+D21+D22+D23+D16 -> 0 | E24: =E7+E8+E9+E10+E11+E12+E13+E14+E15+E17+E19+E20+E21+E22+E23+E16 -> 0 | F24: =F7+F8+F9+F10+F11+F12+F13+F14+F15+F17+F19+F20+F21+F22+F23+F16 -> 0 | G24: =G7+G8+G9+G10+G11+G12+G13+G14+G15+G17+G19+G20+G21+G22+G23+G16 -> 0 | H24: =H7+H8+H9+H10+H11+H12+H13+H14+H15+H17+H19+H20+H21+H22+H23+H16 -> 0 | I24: =I7+I8+I9+I10+I11+I12+I13+I14+I15+I17+I19+I20+I21+I22+I23+I16 -> 0 | J24: =J7+J8+J9+J10+J11+J12+J13+J14+J15+J17+J19+J20+J21+J22+J23+J16 -> 0 | K24: =K7+K8+K9+K10+K11+K12+K13+K14+K15+K17+K19+K20+K21+K22+K23+K16 -> 0 | ... R24: =R7+R8+R9+R10+R11+R12+R13+R14+R15+R17+R19+R20+R21+R22+R23+R16 -> 0 | T24: =D24+E24 -> 0 | U24: =F24+K24+L24 -> 0 | V24: =K24 -> 0 | W24: =G24+H24+I24+J24 -> 0
B25: 1 դատկանա հանձնարարությամբ որոշում չի կայացվել

Sheet Վ. Գրիգորյան
A1: 2017Ã. 1-ÇÝ ÏÇë³ÙÛ³Ï | D1: Ð²ÞìºîìàôÂÚàôÜ | P1: Ð³í»Éí³Í Ð³Û³ëï³ÝÇ Ð³Ýñ³å»ïáõÃÛ³Ý ¸³ï³ñ³ÝÝ»ñÇ Ý³Ë³·³ÑÝ»ñÇ ËáñÑñ¹Ç 25.08.2017Ã. ÃÇí 35-È áñáßÙ³Ý
A2: ØÇÝã¹³ï³Ï³Ý í³ñáõÛÃÇ ÝÏ³ïÙ³Ùµ ¹³ï³Ï³Ý í»ñ³ÑëÏáÕáõÃÛ³Ý, ¹³ï³Ï³Ý ³Ïï»ñÇ ¨ ¹³ï³Ï³Ý Ñ³ÝÓÝ³ñ³ñáõÃÛáõÝÝ»ñÇ Ï³ï³ñÙ³Ý Ñ»ï Ï³åí³Í ÙÇçÝáñ¹áõÃÛáõÝÝ»ñÇ í»ñ³µ»ñÛ³É ¹³ï³Ï³Ý ·áñÍ»ñáí ÐÐ ÞÇñ³ÏÇ Ù³ñ½Ç ÁÝ¹Ñ³Ýáõñ Çñ³í³ëáõÃÛ³Ý ³é³çÇÝ ³ïÛ³ÝÇ ¹³ï³ñ³ÝÇ ¹³ï³íáñ Վ.Գրիգորյանի ·áñÍáõÝ»áõÃÛ³Ý í»ñ³µ»ñÛ³É
A3: êïáõ·Çã Ñ³í³ë³ñáõÙ` 1+2=3+8+9, 8=4+5+6+7, | D3: Ð³ßí»ïáõ Å³Ù³Ý³Ï³Ñ³ïí³ÍÇ ëÏ½µáõÙ Ý³Ëáñ¹ Ñ³ßí»ïáõ Å³Ù³Ý³Ï³Ñ³ïí³ÍÇó ÷áË³Ýóí³Í ·áñÍ»ñÇ ÁÝ¹Ñ³Ýáõñ ÃÇíÁ | E3: Ð³ßí»ïáõ Å³Ù³Ý³Ï³Ñ³ïí³ÍáõÙ ëï³óí³Í ·áñÍ»ñÇ ÁÝ¹Ñ³Ýáõñ ÃÇíÁ | F3: öáË³Ýóí»É ¿ ³ÛÉ ¹³ï³íáñÇ Ï³Ù ³ÛÉ ¹³ï³ñ³Ý (Ï³½ÙÇ ÷á÷áËáõÃÛáõÝ, ÁÝ¹¹³ïáõÃÛáõÝ) | G3: Ð³ßí»ïáõ Å³Ù³Ý³Ï³Ñ³ïí³ÍáõÙ ³í³ñïí³Í ·áñÍ»ñÇ ÁÝ¹Ñ³Ýáõñ ÃÇíÁ | L3: Ð³ßí»ïáõ Å³Ù³Ý³Ï³Ñ³ïí³ÍáõÙ ³Ý³í³ñï ·áñÍ»ñÇ ÁÝ¹Ñ³Ýáõñ ÃÇíÁ | M3: ØÇçÝáñ¹áõÃÛáõÝÝ»ñáí Ï³Û³óí³Í ¹³ï³Ï³Ý ³Ïï»ñÇó µáÕáù³ñÏí³ÍÝ»ñÇ ù³Ý³ÏÁ | O3: ²Ý³í³ñï µáÕáùÝ»ñ | P3: ØÇçÝáñ¹áõÃÛáõÝÝ»ñáí Ï³Û³óí³Í ¨ µáÕáù³ñÏí³Í ¹³ï³Ï³Ý ³Ïï»ñÇó µ»Ï³Ýí³ÍÝ»ñÇ ù³Ý³ÏÁ | R3: ÙÇçÝáñ¹áõÃÛáõÝÝ»ñáí Ï³Û³óí³Í ¨ µáÕáù³ñÏí³Í ¹³ï³Ï³Ý ³Ïï»ñÇó ³Ý÷á÷áË ÃáÕÝí³ÍÝ»ñÇ ù³Ý³ÏÁ
G4: Ù»ñÅí»É ¿ | H4: µ³í³ñ³ñí»É ¿ | I4: µ³í³ñ³ñí»É ¿ Ù³ëÝ³ÏÇ | J4: ÃáÕÝí»É ¿ ³é³Ýó ùÝÝáõÃÛ³Ý | K4: ÀÝ¹³Ù»ÝÁ
M5: Ý³Ëáñ¹ ï³ñÇÝ»ñÇÝ Ï³Û³óí³Í ³Ïï»ñÇ ¹»Ù | N5: Ñ³ßí»ïáõ Å³Ù³Ý³Ï³ßñç³ÝáõÙ Ï³Û³óí³Í ³Ïï»ñÇ ¹»Ù | P5: Ý³Ëáñ¹ ï³ñÇÝ»ñÇÝ Ï³Û³óí³Í ³Ïï»ñÇ µ»Ï³ÝáõÙÝ»ñÁ | Q5: Ñ³ßí»ïáõ Å³Ù³Ý³Ï³ßñç³ÝáõÙ Ï³Û³óí³Í ³Ïï»ñÇ µ»Ï³ÝáõÙÝ»ñÁ
A6: 1. ØÇÝã¹³ï³Ï³Ý í³ñáõÛÃÇ ÝÏ³ïÙ³Ùµ ¹³ï³Ï³Ý í»ñ³ÑëÏáÕáõÃÛ³Ý áÉáñï | D6: 1 | E6: 2 | F6: 3 | G6: 4 | H6: 5 | I6: 6 | J6: 7 | K6: 8 | L6: 9 | M6: 10 | N6: 11 | O6: 12 | P6: 13 | Q6: 14 | R6: 15 | T6: 1+2=3+8+9 | V6: 8=4+5+6+7
A7: 1 | B7: Ï³É³ÝùÁ áñå»ë Ë³÷³ÝÙ³Ý ÙÇçáó ÏÇñ³é»Éáõ Ù³ëÇÝ ÙÇçÝáñ¹áõÃÛáõÝÝ»ñ | E7: 29 | G7: 1 | H7: 28 | K7: =+G7+H7+I7+J7 -> 29 | M7: 1 | N7: 2 | O7: 2 | R7: 1 | T7: =D7+E7 -> 29 | U7: =F7+K7+L7 -> 29 | V7: =K7 -> 29 | W7: =G7+H7+I7+J7 -> 29
A8: 2 | B8: Ï³É³ÝùÇ Å³ÙÏ»ïÁ »ñÏ³ñ³óÝ»Éáõ Ù³ëÇÝ ÙÇçÝáñ¹áõÃÛáõÝÝ»ñ | D8: 1 | E8: 19 | G8: 1 | H8: 17 | I8: 1 | J8: 1 | K8: =+G8+H8+I8+J8 -> 20 | N8: 3 | O8: 1 | R8: 2 | T8: =D8+E8 -> 20 | U8: =F8+K8+L8 -> 20 | V8: =K8 -> 20 | W8: =G8+H8+I8+J8 -> 20
A9: 3 | B9: Ï³É³ÝùÇ í»ñ³Ñ³ëï³ïÙ³Ý Ù³ëÇÝ ÙÇçÝáñ¹áõÃÛáõÝÝ»ñ | E9: 4 | G9: 3 | H9: 1 | K9: =+G9+H9+I9+J9 -> 4 | N9: 1 | Q9: 1 | T9: =D9+E9 -> 4 | U9: =F9+K9+L9 -> 4 | V9: =K9 -> 4 | W9: =G9+H9+I9+J9 -> 4
A10: 4 | B10: ·ñ³íÁ áñå»ë Ï³É³Ý³íáñÙ³Ý ³ÛÉÁÝïñ³Ýù³ÛÇÝ Ë³÷³ÝÙ³Ý ÙÇçáó ÏÇñ³é»Éáõ Ù³ëÇÝ ÙÇçÝáñ¹áõÃÛáõÝÝ»ñ | E10: 18 | G10: 16 | H10: 2 | K10: =+G10+H10+I10+J10 -> 18 | N10: 2 | Q10: 1 | R10: 1 | T10: =D10+E10 -> 18 | U10: =F10+K10+L10 -> 18 | V10: =K10 -> 18 | W10: =G10+H10+I10+J10 -> 18
A11: 5 | B11: Ëáõ½³ñÏáõÃÛ³Ý Ï³ï³ñÙ³Ý Ù³ëÇÝ ÙÇçÝáñ¹áõÃÛáõÝÝ»ñ | E11: 49 | G11: 1 | H11: 48 | K11: =+G11+H11+I11+J11 -> 49 | T11: =D11+E11 -> 49 | U11: =F11+K11+L11 -> 49 | V11: =K11 -> 49 | W11: =G11+H11+I11+J11 -> 49
A12: 6 | B12: µ³ÝÏ³ÛÇÝ, ³å³Ñáí³·ñ³Ï³Ý, Ýáï³ñ³Ï³Ý ·³ÕïÝÇù Ï³½ÙáÕ ï»Õ»ÏáõÃÛáõÝÝ»ñÇ ëï³óÙ³Ý Ñ³Ù³ñ Ëáõ½³ñÏáõÃÛ³Ý Ï³Ù ³é·ñ³íÙ³Ý Ï³ï³ñÙ³Ý Ù³ëÇÝ ÙÇçÝáñ¹áõÃÛáõÝÝ»ñ | E12: 6 | H12: 6 | K12: =+G12+H12+I12+J12 -> 6 | T12: =D12+E12 -> 6 | U12: =F12+K12+L12 -> 6 | V12: =K12 -> 6 | W12: =G12+H12+I12+J12 -> 6
A13: 7 | B13: Ý³Ù³Ï³·ñáõÃÛ³Ý, Ñ»é³·ñ³Ï³Ý, ÷áuï³ÛÇÝ Ñ³Õáñ¹áõÙÝ»ñÇ ÑëÏáÕáõÃÛ³Ý Ù³ëÇÝ ÙÇçÝáñ¹áõÃÛáõÝÝ»ñ | E13: 4 | H13: 4 | K13: =+G13+H13+I13+J13 -> 4 | T13: =D13+E13 -> 4 | U13: =F13+K13+L13 -> 4 | V13: =K13 -> 4 | W13: =G13+H13+I13+J13 -> 4
A14: 8 | B14: Ñ»é³Ëáu³ÛÇÝ Ï³Ù Ï³åÇ ³ÛÉ ÙÇçáóÝ»ñáí ï³ñíáÕ Ëáu³ÏóáõÃÛáõÝÝ»ñÇ ÉuÙ³Ý ¨ Ó³ÛÝ³·ñ³éÙ³Ý Ù³ëÇÝ ÙÇçÝáñ¹áõÃÛáõÝÝ»ñ | K14: =+G14+H14+I14+J14 -> 0 | T14: =D14+E14 -> 0 | U14: =F14+K14+L14 -> 0 | V14: =K14 -> 0 | W14: =G14+H14+I14+J14 -> 0
A15: 9 | B15: Ñ»é³ËáëÝ»ñÇ Ùáõïù³ÛÇÝ ¨ »Éù³ÛÇÝ í»ñÍ³ÝÙ³Ý ÃáõÛÉïíáõÃÛáõÝ ëï³Ý³Éáõ Ù³ëÇÝ ÙÇçÝáñ¹áõÃÛáõÝÝ»ñ | E15: 36 | G15: 1 | H15: 30 | I15: 5 | K15: =+G15+H15+I15+J15 -> 36 | T15: =D15+E15 -> 36 | U15: =F15+K15+L15 -> 36 | V15: =K15 -> 36 | W15: =G15+H15+I15+J15 -> 36
A16: 10 | B16: Ñ»ï³ùÝÝáõÃÛ³Ý Ù³ñÙÝÇ ³ßË³ïáÕÇ, ùÝÝÇãÇ, ¹³ï³Ë³½Ç oå»ñ³ïÇí-Ñ»ï³Ëáõ½³Ï³Ý ·áñÍáÕáõÃÛáõÝÝ»ñ Çñ³Ï³Ý³óÝáÕ Ù³ñÙÇÝÝ»ñÇ ³ÝoñÇÝ³Ï³Ý ¨ ³ÝÑÇÙÝ áñáßáõÙÝ»ñÇ ¨ ·áñÍáÕáõÃÛáõÝÝ»ñÇ ¹»Ù µáÕáùÝ»ñ | D16: 1 | E16: 1 | G16: 1 | K16: =+G16+H16+I16+J16 -> 1 | L16: 1 | M16: 1 | R16: 1 | T16: =D16+E16 -> 2 | U16: =F16+K16+L16 -> 2 | V16: =K16 -> 1 | W16: =G16+H16+I16+J16 -> 1
A17: 11 | B17: ²½³ïáõÃÛáõÝÇó ½ñÏ»Éáõ Çñ³í³ã³÷áõÃÛ³Ý í»ñ³µ»ñÛ³É µáÕáùÝ»ñáí ·áñÍ»ñ | K17: =+G17+H17+I17+J17 -> 0 | T17: =D17+E17 -> 0 | U17: =F17+K17+L17 -> 0 | V17: =K17 -> 0 | W17: =G17+H17+I17+J17 -> 0
A18: 2. ¸³ï³Ï³Ý ³Ïï»ñÇ ¨ ¹³ï³Ï³Ý Ñ³ÝÓÝ³ñ³ñáõÃÛáõÝÝ»ñÇ Ï³ï³ñÙ³Ý Ñ»ï Ï³åí³Í Ñ³ñó»ñÇ ÉáõÍÙ³Ý áÉáñï
A19: 1 | B19: å³ïÅÇó å³ÛÙ³Ý³Ï³Ý í³Õ³Å³ÙÏ»ï ³½³ï»Éáõ Ù³ëÇÝ ÙÇçÝáñ¹áõÃÛáõÝÝ»ñ | E19: 1 | H19: 1 | K19: =+G19+H19+I19+J19 -> 1 | N19: 1 | R19: 1 | T19: =D19+E19 -> 1 | U19: =F19+K19+L19 -> 1 | V19: =K19 -> 1 | W19: =G19+H19+I19+J19 -> 1
A20: 2 | B20: å³ïÇÅÁ ÷á÷áË»Éáõ, Ñ»ï³Ó·»Éáõ ¨ å³ïÅÇó ³½³ï»Éáõ Ù³uÇÝ ÙÇçÝáñ¹áõÃÛáõÝÝ»ñ | E20: 8 | G20: 6 | H20: 1 | K20: =+G20+H20+I20+J20 -> 7 | L20: 1 | N20: 6 | O20: 6 | T20: =D20+E20 -> 8 | U20: =F20+K20+L20 -> 8 | V20: =K20 -> 7 | W20: =G20+H20+I20+J20 -> 7
A21: 3 | B21: Ñ³ñÏ³¹Çñ µáõÅÙ³Ý ï»ë³ÏÇ ÷á÷áËáõÃÛ³Ý Ù³ëÇÝ ÙÇçÝáñ¹áõÃÛáõÝÝ»ñ | E21: 2 | H21: 2 | K21: =+G21+H21+I21+J21 -> 2 | T21: =D21+E21 -> 2 | U21: =F21+K21+L21 -> 2 | V21: =K21 -> 2 | W21: =G21+H21+I21+J21 -> 2
A22: 4 | B22: ³ÛÉ ÙÇçÝáñ¹áõÃÛáõÝÝ»ñ | D22: 1 | E22: 8 | G22: 4 | H22: 3 | K22: =+G22+H22+I22+J22 -> 7 | L22: 2 | N22: 2 | O22: 1 | R22: 1 | T22: =D22+E22 -> 9 | U22: =F22+K22+L22 -> 9 | V22: =K22 -> 7 | W22: =G22+H22+I22+J22 -> 7
A23: 5 | B23: ¹³ï³Ï³Ý Ñ³ÝÓÝ³ñ³ñáõÃÛáõÝÝ»ñ | E23: 3 | K23: =+G23+H23+I23+J23 -> 0 | L23: 3 | T23: =D23+E23 -> 3 | U23: =F23+K23+L23 -> 3 | V23: =K23 -> 0 | W23: =G23+H23+I23+J23 -> 0
A24: ÀÜ¸²ØºÜÀ | D24: =D7+D8+D9+D10+D11+D12+D13+D14+D15+D17+D19+D20+D21+D22+D23+D16 -> 3 | E24: =E7+E8+E9+E10+E11+E12+E13+E14+E15+E17+E19+E20+E21+E22+E23+E16 -> 188 | F24: =F7+F8+F9+F10+F11+F12+F13+F14+F15+F17+F19+F20+F21+F22+F23+F16 -> 0 | G24: =G7+G8+G9+G10+G11+G12+G13+G14+G15+G17+G19+G20+G21+G22+G23+G16 -> 34 | H24: =H7+H8+H9+H10+H11+H12+H13+H14+H15+H17+H19+H20+H21+H22+H23+H16 -> 143 | I24: =I7+I8+I9+I10+I11+I12+I13+I14+I15+I17+I19+I20+I21+I22+I23+I16 -> 6 | J24: =J7+J8+J9+J10+J11+J12+J13+J14+J15+J17+J19+J20+J21+J22+J23+J16 -> 1 | K24: =K7+K8+K9+K10+K11+K12+K13+K14+K15+K17+K19+K20+K21+K22+K23+K16 -> 184 | ... R24: =R7+R8+R9+R10+R11+R12+R13+R14+R15+R17+R19+R20+R21+R22+R23+R16 -> 7 | T24: =D24+E24 -> 191 | U24: =F24+K24+L24 -> 191 | V24: =K24 -> 184 | W24: =G24+H24+I24+J24 -> 184
T25: =+T24-U24 -> 0 | V25: =+V24-W24 -> 0

Sheet Ա. Խաչատրյան
A1: 2017Ã. 1-ÇÝ ÏÇë³ÙÛ³Ï | D1: Ð²ÞìºîìàôÂÚàôÜ | P1: Ð³í»Éí³Í Ð³Û³ëï³ÝÇ Ð³Ýñ³å»ïáõÃÛ³Ý ¸³ï³ñ³ÝÝ»ñÇ Ý³Ë³·³ÑÝ»ñÇ ËáñÑñ¹Ç 25.08.2017Ã. ÃÇí 35-È áñáßÙ³Ý
A2: ØÇÝã¹³ï³Ï³Ý í³ñáõÛÃÇ ÝÏ³ïÙ³Ùµ ¹³ï³Ï³Ý í»ñ³ÑëÏáÕáõÃÛ³Ý, ¹³ï³Ï³Ý ³Ïï»ñÇ ¨ ¹³ï³Ï³Ý Ñ³ÝÓÝ³ñ³ñáõÃÛáõÝÝ»ñÇ Ï³ï³ñÙ³Ý Ñ»ï Ï³åí³Í ÙÇçÝáñ¹áõÃÛáõÝÝ»ñÇ í»ñ³µ»ñÛ³É ¹³ï³Ï³Ý ·áñÍ»ñáí ÐÐ ÞÇñ³ÏÇ Ù³ñ½Ç ÁÝ¹Ñ³Ýáõñ Çñ³í³ëáõÃÛ³Ý ³é³çÇÝ ³ïÛ³ÝÇ ¹³ï³ñ³ÝÇ ¹³ï³íáñ Ա.Խաչատրյանի ·áñÍáõÝ»áõÃÛ³Ý í»ñ³µ»ñÛ³É
A3: êïáõ·Çã Ñ³í³ë³ñáõÙ` 1+2=3+8+9, 8=4+5+6+7, | D3: Ð³ßí»ïáõ Å³Ù³Ý³Ï³Ñ³ïí³ÍÇ ëÏ½µáõÙ Ý³Ëáñ¹ Ñ³ßí»ïáõ Å³Ù³Ý³Ï³Ñ³ïí³ÍÇó ÷áË³Ýóí³Í ·áñÍ»ñÇ ÁÝ¹Ñ³Ýáõñ ÃÇíÁ | E3: Ð³ßí»ïáõ Å³Ù³Ý³Ï³Ñ³ïí³ÍáõÙ ëï³óí³Í ·áñÍ»ñÇ ÁÝ¹Ñ³Ýáõñ ÃÇíÁ | F3: öáË³Ýóí»É ¿ ³ÛÉ ¹³ï³íáñÇ Ï³Ù ³ÛÉ ¹³ï³ñ³Ý (Ï³½ÙÇ ÷á÷áËáõÃÛáõÝ, ÁÝ¹¹³ïáõÃÛáõÝ) | G3: Ð³ßí»ïáõ Å³Ù³Ý³Ï³Ñ³ïí³ÍáõÙ ³í³ñïí³Í ·áñÍ»ñÇ ÁÝ¹Ñ³Ýáõñ ÃÇíÁ | L3: Ð³ßí»ïáõ Å³Ù³Ý³Ï³Ñ³ïí³ÍáõÙ ³Ý³í³ñï ·áñÍ»ñÇ ÁÝ¹Ñ³Ýáõñ ÃÇíÁ | M3: ØÇçÝáñ¹áõÃÛáõÝÝ»ñáí Ï³Û³óí³Í ¹³ï³Ï³Ý ³Ïï»ñÇó µáÕáù³ñÏí³ÍÝ»ñÇ ù³Ý³ÏÁ | O3: ²Ý³í³ñï µáÕáùÝ»ñ | P3: ØÇçÝáñ¹áõÃÛáõÝÝ»ñáí Ï³Û³óí³Í ¨ µáÕáù³ñÏí³Í ¹³ï³Ï³Ý ³Ïï»ñÇó µ»Ï³Ýí³ÍÝ»ñÇ ù³Ý³ÏÁ | R3: ÙÇçÝáñ¹áõÃÛáõÝÝ»ñáí Ï³Û³óí³Í ¨ µáÕáù³ñÏí³Í ¹³ï³Ï³Ý ³Ïï»ñÇó ³Ý÷á÷áË ÃáÕÝí³ÍÝ»ñÇ ù³Ý³ÏÁ
G4: Ù»ñÅí»É ¿ | H4: µ³í³ñ³ñí»É ¿ | I4: µ³í³ñ³ñí»É ¿ Ù³ëÝ³ÏÇ | J4: ÃáÕÝí»É ¿ ³é³Ýó ùÝÝáõÃÛ³Ý | K4: ÀÝ¹³Ù»ÝÁ
M5: Ý³Ëáñ¹ ï³ñÇÝ»ñÇÝ Ï³Û³óí³Í ³Ïï»ñÇ ¹»Ù | N5: Ñ³ßí»ïáõ Å³Ù³Ý³Ï³ßñç³ÝáõÙ Ï³Û³óí³Í ³Ïï»ñÇ ¹»Ù | P5: Ý³Ëáñ¹ ï³ñÇÝ»ñÇÝ Ï³Û³óí³Í ³Ïï»ñÇ µ»Ï³ÝáõÙÝ»ñÁ | Q5: Ñ³ßí»ïáõ Å³Ù³Ý³Ï³ßñç³ÝáõÙ Ï³Û³óí³Í ³Ïï»ñÇ µ»Ï³ÝáõÙÝ»ñÁ
A6: 1. ØÇÝã¹³ï³Ï³Ý í³ñáõÛÃÇ ÝÏ³ïÙ³Ùµ ¹³ï³Ï³Ý í»ñ³ÑëÏáÕáõÃÛ³Ý áÉáñï | D6: 1 | E6: 2 | F6: 3 | G6: 4 | H6: 5 | I6: 6 | J6: 7 | K6: 8 | L6: 9 | M6: 10 | N6: 11 | O6: 12 | P6: 13 | Q6: 14 | R6: 15 | T6: 1+2=3+8+9 | V6: 8=4+5+6+7
A7: 1 | B7: Ï³É³ÝùÁ áñå»ë Ë³÷³ÝÙ³Ý ÙÇçáó ÏÇñ³é»Éáõ Ù³ëÇÝ ÙÇçÝáñ¹áõÃÛáõÝÝ»ñ | T7: =D7+E7 -> 0 | U7: =F7+K7+L7 -> 0 | V7: =K7 -> 0 | W7: =G7+H7+I7+J7 -> 0
A8: 2 | B8: Ï³É³ÝùÇ Å³ÙÏ»ïÁ »ñÏ³ñ³óÝ»Éáõ Ù³ëÇÝ ÙÇçÝáñ¹áõÃÛáõÝÝ»ñ | T8: =D8+E8 -> 0 | U8: =F8+K8+L8 -> 0 | V8: =K8 -> 0 | W8: =G8+H8+I8+J8 -> 0
A9: 3 | B9: Ï³É³ÝùÇ í»ñ³Ñ³ëï³ïÙ³Ý Ù³ëÇÝ ÙÇçÝáñ¹áõÃÛáõÝÝ»ñ | T9: =D9+E9 -> 0 | U9: =F9+K9+L9 -> 0 | V9: =K9 -> 0 | W9: =G9+H9+I9+J9 -> 0
A10: 4 | B10: ·ñ³íÁ áñå»ë Ï³É³Ý³íáñÙ³Ý ³ÛÉÁÝïñ³Ýù³ÛÇÝ Ë³÷³ÝÙ³Ý ÙÇçáó ÏÇñ³é»Éáõ Ù³ëÇÝ ÙÇçÝáñ¹áõÃÛáõÝÝ»ñ | T10: =D10+E10 -> 0 | U10: =F10+K10+L10 -> 0 | V10: =K10 -> 0 | W10: =G10+H10+I10+J10 -> 0
A11: 5 | B11: Ëáõ½³ñÏáõÃÛ³Ý Ï³ï³ñÙ³Ý Ù³ëÇÝ ÙÇçÝáñ¹áõÃÛáõÝÝ»ñ | T11: =D11+E11 -> 0 | U11: =F11+K11+L11 -> 0 | V11: =K11 -> 0 | W11: =G11+H11+I11+J11 -> 0
A12: 6 | B12: µ³ÝÏ³ÛÇÝ, ³å³Ñáí³·ñ³Ï³Ý, Ýáï³ñ³Ï³Ý ·³ÕïÝÇù Ï³½ÙáÕ ï»Õ»ÏáõÃÛáõÝÝ»ñÇ ëï³óÙ³Ý Ñ³Ù³ñ Ëáõ½³ñÏáõÃÛ³Ý Ï³Ù ³é·ñ³íÙ³Ý Ï³ï³ñÙ³Ý Ù³ëÇÝ ÙÇçÝáñ¹áõÃÛáõÝÝ»ñ | T12: =D12+E12 -> 0 | U12: =F12+K12+L12 -> 0 | V12: =K12 -> 0 | W12: =G12+H12+I12+J12 -> 0
A13: 7 | B13: Ý³Ù³Ï³·ñáõÃÛ³Ý, Ñ»é³·ñ³Ï³Ý, ÷áuï³ÛÇÝ Ñ³Õáñ¹áõÙÝ»ñÇ ÑëÏáÕáõÃÛ³Ý Ù³ëÇÝ ÙÇçÝáñ¹áõÃÛáõÝÝ»ñ | T13: =D13+E13 -> 0 | U13: =F13+K13+L13 -> 0 | V13: =K13 -> 0 | W13: =G13+H13+I13+J13 -> 0
A14: 8 | B14: Ñ»é³Ëáu³ÛÇÝ Ï³Ù Ï³åÇ ³ÛÉ ÙÇçáóÝ»ñáí ï³ñíáÕ Ëáu³ÏóáõÃÛáõÝÝ»ñÇ ÉuÙ³Ý ¨ Ó³ÛÝ³·ñ³éÙ³Ý Ù³ëÇÝ ÙÇçÝáñ¹áõÃÛáõÝÝ»ñ | T14: =D14+E14 -> 0 | U14: =F14+K14+L14 -> 0 | V14: =K14 -> 0 | W14: =G14+H14+I14+J14 -> 0
A15: 9 | B15: Ñ»é³ËáëÝ»ñÇ Ùáõïù³ÛÇÝ ¨ »Éù³ÛÇÝ í»ñÍ³ÝÙ³Ý ÃáõÛÉïíáõÃÛáõÝ ëï³Ý³Éáõ Ù³ëÇÝ ÙÇçÝáñ¹áõÃÛáõÝÝ»ñ | T15: =D15+E15 -> 0 | U15: =F15+K15+L15 -> 0 | V15: =K15 -> 0 | W15: =G15+H15+I15+J15 -> 0
A16: 10 | B16: Ñ»ï³ùÝÝáõÃÛ³Ý Ù³ñÙÝÇ ³ßË³ïáÕÇ, ùÝÝÇãÇ, ¹³ï³Ë³½Ç oå»ñ³ïÇí-Ñ»ï³Ëáõ½³Ï³Ý ·áñÍáÕáõÃÛáõÝÝ»ñ Çñ³Ï³Ý³óÝáÕ Ù³ñÙÇÝÝ»ñÇ ³ÝoñÇÝ³Ï³Ý ¨ ³ÝÑÇÙÝ áñáßáõÙÝ»ñÇ ¨ ·áñÍáÕáõÃÛáõÝÝ»ñÇ ¹»Ù µáÕáùÝ»ñ | T16: =D16+E16 -> 0 | U16: =F16+K16+L16 -> 0 | V16: =K16 -> 0 | W16: =G16+H16+I16+J16 -> 0
A17: 11 | B17: ²½³ïáõÃÛáõÝÇó ½ñÏ»Éáõ Çñ³í³ã³÷áõÃÛ³Ý í»ñ³µ»ñÛ³É µáÕáùÝ»ñáí ·áñÍ»ñ | T17: =D17+E17 -> 0 | U17: =F17+K17+L17 -> 0 | V17: =K17 -> 0 | W17: =G17+H17+I17+J17 -> 0
A18: 2. ¸³ï³Ï³Ý ³Ïï»ñÇ ¨ ¹³ï³Ï³Ý Ñ³ÝÓÝ³ñ³ñáõÃÛáõÝÝ»ñÇ Ï³ï³ñÙ³Ý Ñ»ï Ï³åí³Í Ñ³ñó»ñÇ ÉáõÍÙ³Ý áÉáñï
A19: 1 | B19: å³ïÅÇó å³ÛÙ³Ý³Ï³Ý í³Õ³Å³ÙÏ»ï ³½³ï»Éáõ Ù³ëÇÝ ÙÇçÝáñ¹áõÃÛáõÝÝ»ñ | T19: =D19+E19 -> 0 | U19: =F19+K19+L19 -> 0 | V19: =K19 -> 0 | W19: =G19+H19+I19+J19 -> 0
A20: 2 | B20: å³ïÇÅÁ ÷á÷áË»Éáõ, Ñ»ï³Ó·»Éáõ ¨ å³ïÅÇó ³½³ï»Éáõ Ù³uÇÝ ÙÇçÝáñ¹áõÃÛáõÝÝ»ñ | T20: =D20+E20 -> 0 | U20: =F20+K20+L20 -> 0 | V20: =K20 -> 0 | W20: =G20+H20+I20+J20 -> 0
A21: 3 | B21: Ñ³ñÏ³¹Çñ µáõÅÙ³Ý ï»ë³ÏÇ ÷á÷áËáõÃÛ³Ý Ù³ëÇÝ ÙÇçÝáñ¹áõÃÛáõÝÝ»ñ | T21: =D21+E21 -> 0 | U21: =F21+K21+L21 -> 0 | V21: =K21 -> 0 | W21: =G21+H21+I21+J21 -> 0
A22: 4 | B22: ³ÛÉ ÙÇçÝáñ¹áõÃÛáõÝÝ»ñ | T22: =D22+E22 -> 0 | U22: =F22+K22+L22 -> 0 | V22: =K22 -> 0 | W22: =G22+H22+I22+J22 -> 0
A23: 5 | B23: ¹³ï³Ï³Ý Ñ³ÝÓÝ³ñ³ñáõÃÛáõÝÝ»ñ | E23: 2 | H23: 1 | K23: 1 | L23: 1 | T23: =D23+E23 -> 2 | U23: =F23+K23+L23 -> 2 | V23: =K23 -> 1 | W23: =G23+H23+I23+J23 -> 1
A24: ÀÜ¸²ØºÜÀ | D24: =D7+D8+D9+D10+D11+D12+D13+D14+D15+D17+D19+D20+D21+D22+D23+D16 -> 0 | E24: =E7+E8+E9+E10+E11+E12+E13+E14+E15+E17+E19+E20+E21+E22+E23+E16 -> 2 | F24: =F7+F8+F9+F10+F11+F12+F13+F14+F15+F17+F19+F20+F21+F22+F23+F16 -> 0 | G24: =G7+G8+G9+G10+G11+G12+G13+G14+G15+G17+G19+G20+G21+G22+G23+G16 -> 0 | H24: =H7+H8+H9+H10+H11+H12+H13+H14+H15+H17+H19+H20+H21+H22+H23+H16 -> 1 | I24: =I7+I8+I9+I10+I11+I12+I13+I14+I15+I17+I19+I20+I21+I22+I23+I16 -> 0 | J24: =J7+J8+J9+J10+J11+J12+J13+J14+J15+J17+J19+J20+J21+J22+J23+J16 -> 0 | K24: =K7+K8+K9+K10+K11+K12+K13+K14+K15+K17+K19+K20+K21+K22+K23+K16 -> 1 | ... R24: =R7+R8+R9+R10+R11+R12+R13+R14+R15+R17+R19+R20+R21+R22+R23+R16 -> 0 | T24: =D24+E24 -> 2 | U24: =F24+K24+L24 -> 2 | V24: =K24 -> 1 | W24: =G24+H24+I24+J24 -> 1

Sheet Գ. Հովհաննիսյան
A1: 2017Ã. 1-ÇÝ ÏÇë³ÙÛ³Ï | D1: Ð²ÞìºîìàôÂÚàôÜ | P1: Ð³í»Éí³Í Ð³Û³ëï³ÝÇ Ð³Ýñ³å»ïáõÃÛ³Ý ¸³ï³ñ³ÝÝ»ñÇ Ý³Ë³·³ÑÝ»ñÇ ËáñÑñ¹Ç 25.08.2017Ã. ÃÇí 35-È áñáßÙ³Ý
A2: ØÇÝã¹³ï³Ï³Ý í³ñáõÛÃÇ ÝÏ³ïÙ³Ùµ ¹³ï³Ï³Ý í»ñ³ÑëÏáÕáõÃÛ³Ý, ¹³ï³Ï³Ý ³Ïï»ñÇ ¨ ¹³ï³Ï³Ý Ñ³ÝÓÝ³ñ³ñáõÃÛáõÝÝ»ñÇ Ï³ï³ñÙ³Ý Ñ»ï Ï³åí³Í ÙÇçÝáñ¹áõÃÛáõÝÝ»ñÇ í»ñ³µ»ñÛ³É ¹³ï³Ï³Ý ·áñÍ»ñáí ÐÐ ÞÇñ³ÏÇ Ù³ñ½Ç ÁÝ¹Ñ³Ýáõñ Çñ³í³ëáõÃÛ³Ý ³é³çÇÝ ³ïÛ³ÝÇ ¹³ï³ñ³ÝÇ ¹³ï³íáñ Գ. Հովհաննիսյանի ·áñÍáõÝ»áõÃÛ³Ý í»ñ³µ»ñÛ³É
A3: êïáõ·Çã Ñ³í³ë³ñáõÙ` 1+2=3+8+9, 8=4+5+6+7, | D3: Ð³ßí»ïáõ Å³Ù³Ý³Ï³Ñ³ïí³ÍÇ ëÏ½µáõÙ Ý³Ëáñ¹ Ñ³ßí»ïáõ Å³Ù³Ý³Ï³Ñ³ïí³ÍÇó ÷áË³Ýóí³Í ·áñÍ»ñÇ ÁÝ¹Ñ³Ýáõñ ÃÇíÁ | E3: Ð³ßí»ïáõ Å³Ù³Ý³Ï³Ñ³ïí³ÍáõÙ ëï³óí³Í ·áñÍ»ñÇ ÁÝ¹Ñ³Ýáõñ ÃÇíÁ | F3: öáË³Ýóí»É ¿ ³ÛÉ ¹³ï³íáñÇ Ï³Ù ³ÛÉ ¹³ï³ñ³Ý (Ï³½ÙÇ ÷á÷áËáõÃÛáõÝ, ÁÝ¹¹³ïáõÃÛáõÝ) | G3: Ð³ßí»ïáõ Å³Ù³Ý³Ï³Ñ³ïí³ÍáõÙ ³í³ñïí³Í ·áñÍ»ñÇ ÁÝ¹Ñ³Ýáõñ ÃÇíÁ | L3: Ð³ßí»ïáõ Å³Ù³Ý³Ï³Ñ³ïí³ÍáõÙ ³Ý³í³ñï ·áñÍ»ñÇ ÁÝ¹Ñ³Ýáõñ ÃÇíÁ | M3: ØÇçÝáñ¹áõÃÛáõÝÝ»ñáí Ï³Û³óí³Í ¹³ï³Ï³Ý ³Ïï»ñÇó µáÕáù³ñÏí³ÍÝ»ñÇ ù³Ý³ÏÁ | O3: ²Ý³í³ñï µáÕáùÝ»ñ | P3: ØÇçÝáñ¹áõÃÛáõÝÝ»ñáí Ï³Û³óí³Í ¨ µáÕáù³ñÏí³Í ¹³ï³Ï³Ý ³Ïï»ñÇó µ»Ï³Ýí³ÍÝ»ñÇ ù³Ý³ÏÁ | R3: ÙÇçÝáñ¹áõÃÛáõÝÝ»ñáí Ï³Û³óí³Í ¨ µáÕáù³ñÏí³Í ¹³ï³Ï³Ý ³Ïï»ñÇó ³Ý÷á÷áË ÃáÕÝí³ÍÝ»ñÇ ù³Ý³ÏÁ
G4: Ù»ñÅí»É ¿ | H4: µ³í³ñ³ñí»É ¿ | I4: µ³í³ñ³ñí»É ¿ Ù³ëÝ³ÏÇ | J4: ÃáÕÝí»É ¿ ³é³Ýó ùÝÝáõÃÛ³Ý | K4: ÀÝ¹³Ù»ÝÁ
M5: Ý³Ëáñ¹ ï³ñÇÝ»ñÇÝ Ï³Û³óí³Í ³Ïï»ñÇ ¹»Ù | N5: Ñ³ßí»ïáõ Å³Ù³Ý³Ï³ßñç³ÝáõÙ Ï³Û³óí³Í ³Ïï»ñÇ ¹»Ù | P5: Ý³Ëáñ¹ ï³ñÇÝ»ñÇÝ Ï³Û³óí³Í ³Ïï»ñÇ µ»Ï³ÝáõÙÝ»ñÁ | Q5: Ñ³ßí»ïáõ Å³Ù³Ý³Ï³ßñç³ÝáõÙ Ï³Û³óí³Í ³Ïï»ñÇ µ»Ï³ÝáõÙÝ»ñÁ
A6: 1. ØÇÝã¹³ï³Ï³Ý í³ñáõÛÃÇ ÝÏ³ïÙ³Ùµ ¹³ï³Ï³Ý í»ñ³ÑëÏáÕáõÃÛ³Ý áÉáñï | D6: 1 | E6: 2 | F6: 3 | G6: 4 | H6: 5 | I6: 6 | J6: 7 | K6: 8 | L6: 9 | M6: 10 | N6: 11 | O6: 12 | P6: 13 | Q6: 14 | R6: 15 | T6: 1+2=3+8+9 | V6: 8=4+5+6+7
A7: 1 | B7: Ï³É³ÝùÁ áñå»ë Ë³÷³ÝÙ³Ý ÙÇçáó ÏÇñ³é»Éáõ Ù³ëÇÝ ÙÇçÝáñ¹áõÃÛáõÝÝ»ñ | E7: 10 | H7: 10 | K7: =+G7+H7+I7+J7 -> 10 | N7: 1 | R7: 1 | T7: =D7+E7 -> 10 | U7: =F7+K7+L7 -> 10 | V7: =K7 -> 10 | W7: =G7+H7+I7+J7 -> 10
A8: 2 | B8: Ï³É³ÝùÇ Å³ÙÏ»ïÁ »ñÏ³ñ³óÝ»Éáõ Ù³ëÇÝ ÙÇçÝáñ¹áõÃÛáõÝÝ»ñ | E8: 2 | H8: 2 | K8: =+G8+H8+I8+J8 -> 2 | T8: =D8+E8 -> 2 | U8: =F8+K8+L8 -> 2 | V8: =K8 -> 2 | W8: =G8+H8+I8+J8 -> 2
A9: 3 | B9: Ï³É³ÝùÇ í»ñ³Ñ³ëï³ïÙ³Ý Ù³ëÇÝ ÙÇçÝáñ¹áõÃÛáõÝÝ»ñ | E9: 2 | F9: 1 | G9: 1 | K9: =+G9+H9+I9+J9 -> 1 | T9: =D9+E9 -> 2 | U9: =F9+K9+L9 -> 2 | V9: =K9 -> 1 | W9: =G9+H9+I9+J9 -> 1
A10: 4 | B10: ·ñ³íÁ áñå»ë Ï³É³Ý³íáñÙ³Ý ³ÛÉÁÝïñ³Ýù³ÛÇÝ Ë³÷³ÝÙ³Ý ÙÇçáó ÏÇñ³é»Éáõ Ù³ëÇÝ ÙÇçÝáñ¹áõÃÛáõÝÝ»ñ | K10: =+G10+H10+I10+J10 -> 0 | T10: =D10+E10 -> 0 | U10: =F10+K10+L10 -> 0 | V10: =K10 -> 0 | W10: =G10+H10+I10+J10 -> 0
A11: 5 | B11: Ëáõ½³ñÏáõÃÛ³Ý Ï³ï³ñÙ³Ý Ù³ëÇÝ ÙÇçÝáñ¹áõÃÛáõÝÝ»ñ | E11: 46 | H11: 46 | K11: =+G11+H11+I11+J11 -> 46 | T11: =D11+E11 -> 46 | U11: =F11+K11+L11 -> 46 | V11: =K11 -> 46 | W11: =G11+H11+I11+J11 -> 46
A12: 6 | B12: µ³ÝÏ³ÛÇÝ, ³å³Ñáí³·ñ³Ï³Ý, Ýáï³ñ³Ï³Ý ·³ÕïÝÇù Ï³½ÙáÕ ï»Õ»ÏáõÃÛáõÝÝ»ñÇ ëï³óÙ³Ý Ñ³Ù³ñ Ëáõ½³ñÏáõÃÛ³Ý Ï³Ù ³é·ñ³íÙ³Ý Ï³ï³ñÙ³Ý Ù³ëÇÝ ÙÇçÝáñ¹áõÃÛáõÝÝ»ñ | K12: =+G12+H12+I12+J12 -> 0 | T12: =D12+E12 -> 0 | U12: =F12+K12+L12 -> 0 | V12: =K12 -> 0 | W12: =G12+H12+I12+J12 -> 0
A13: 7 | B13: Ý³Ù³Ï³·ñáõÃÛ³Ý, Ñ»é³·ñ³Ï³Ý, ÷áuï³ÛÇÝ Ñ³Õáñ¹áõÙÝ»ñÇ ÑëÏáÕáõÃÛ³Ý Ù³ëÇÝ ÙÇçÝáñ¹áõÃÛáõÝÝ»ñ | K13: =+G13+H13+I13+J13 -> 0 | T13: =D13+E13 -> 0 | U13: =F13+K13+L13 -> 0 | V13: =K13 -> 0 | W13: =G13+H13+I13+J13 -> 0
A14: 8 | B14: Ñ»é³Ëáu³ÛÇÝ Ï³Ù Ï³åÇ ³ÛÉ ÙÇçáóÝ»ñáí ï³ñíáÕ Ëáu³ÏóáõÃÛáõÝÝ»ñÇ ÉuÙ³Ý ¨ Ó³ÛÝ³·ñ³éÙ³Ý Ù³ëÇÝ ÙÇçÝáñ¹áõÃÛáõÝÝ»ñ | K14: =+G14+H14+I14+J14 -> 0 | T14: =D14+E14 -> 0 | U14: =F14+K14+L14 -> 0 | V14: =K14 -> 0 | W14: =G14+H14+I14+J14 -> 0
A15: 9 | B15: Ñ»é³ËáëÝ»ñÇ Ùáõïù³ÛÇÝ ¨ »Éù³ÛÇÝ í»ñÍ³ÝÙ³Ý ÃáõÛÉïíáõÃÛáõÝ ëï³Ý³Éáõ Ù³ëÇÝ ÙÇçÝáñ¹áõÃÛáõÝÝ»ñ | E15: 3 | H15: 3 | K15: =+G15+H15+I15+J15 -> 3 | T15: =D15+E15 -> 3 | U15: =F15+K15+L15 -> 3 | V15: =K15 -> 3 | W15: =G15+H15+I15+J15 -> 3
A16: 10 | B16: Ñ»ï³ùÝÝáõÃÛ³Ý Ù³ñÙÝÇ ³ßË³ïáÕÇ, ùÝÝÇãÇ, ¹³ï³Ë³½Ç oå»ñ³ïÇí-Ñ»ï³Ëáõ½³Ï³Ý ·áñÍáÕáõÃÛáõÝÝ»ñ Çñ³Ï³Ý³óÝáÕ Ù³ñÙÇÝÝ»ñÇ ³ÝoñÇÝ³Ï³Ý ¨ ³ÝÑÇÙÝ áñáßáõÙÝ»ñÇ ¨ ·áñÍáÕáõÃÛáõÝÝ»ñÇ ¹»Ù µáÕáùÝ»ñ | K16: =+G16+H16+I16+J16 -> 0 | T16: =D16+E16 -> 0 | U16: =F16+K16+L16 -> 0 | V16: =K16 -> 0 | W16: =G16+H16+I16+J16 -> 0
A17: 11 | B17: ²½³ïáõÃÛáõÝÇó ½ñÏ»Éáõ Çñ³í³ã³÷áõÃÛ³Ý í»ñ³µ»ñÛ³É µáÕáùÝ»ñáí ·áñÍ»ñ | K17: =+G17+H17+I17+J17 -> 0 | T17: =D17+E17 -> 0 | U17: =F17+K17+L17 -> 0 | V17: =K17 -> 0 | W17: =G17+H17+I17+J17 -> 0
A18: 2. ¸³ï³Ï³Ý ³Ïï»ñÇ ¨ ¹³ï³Ï³Ý Ñ³ÝÓÝ³ñ³ñáõÃÛáõÝÝ»ñÇ Ï³ï³ñÙ³Ý Ñ»ï Ï³åí³Í Ñ³ñó»ñÇ ÉáõÍÙ³Ý áÉáñï
A19: 1 | B19: å³ïÅÇó å³ÛÙ³Ý³Ï³Ý í³Õ³Å³ÙÏ»ï ³½³ï»Éáõ Ù³ëÇÝ ÙÇçÝáñ¹áõÃÛáõÝÝ»ñ | T19: =D19+E19 -> 0 | U19: =F19+K19+L19 -> 0 | V19: =K19 -> 0 | W19: =G19+H19+I19+J19 -> 0
A20: 2 | B20: å³ïÇÅÁ ÷á÷áË»Éáõ, Ñ»ï³Ó·»Éáõ ¨ å³ïÅÇó ³½³ï»Éáõ Ù³uÇÝ ÙÇçÝáñ¹áõÃÛáõÝÝ»ñ | T20: =D20+E20 -> 0 | U20: =F20+K20+L20 -> 0 | V20: =K20 -> 0 | W20: =G20+H20+I20+J20 -> 0
A21: 3 | B21: Ñ³ñÏ³¹Çñ µáõÅÙ³Ý ï»ë³ÏÇ ÷á÷áËáõÃÛ³Ý Ù³ëÇÝ ÙÇçÝáñ¹áõÃÛáõÝÝ»ñ | T21: =D21+E21 -> 0 | U21: =F21+K21+L21 -> 0 | V21: =K21 -> 0 | W21: =G21+H21+I21+J21 -> 0
A22: 4 | B22: ³ÛÉ ÙÇçÝáñ¹áõÃÛáõÝÝ»ñ | T22: =D22+E22 -> 0 | U22: =F22+K22+L22 -> 0 | V22: =K22 -> 0 | W22: =G22+H22+I22+J22 -> 0
A23: 5 | B23: ¹³ï³Ï³Ý Ñ³ÝÓÝ³ñ³ñáõÃÛáõÝÝ»ñ | T23: =D23+E23 -> 0 | U23: =F23+K23+L23 -> 0 | V23: =K23 -> 0 | W23: =G23+H23+I23+J23 -> 0
A24: ÀÜ¸²ØºÜÀ | D24: =D7+D8+D9+D10+D11+D12+D13+D14+D15+D17+D19+D20+D21+D22+D23+D16 -> 0 | E24: =E7+E8+E9+E10+E11+E12+E13+E14+E15+E17+E19+E20+E21+E22+E23+E16 -> 63 | F24: =F7+F8+F9+F10+F11+F12+F13+F14+F15+F17+F19+F20+F21+F22+F23+F16 -> 1 | G24: =G7+G8+G9+G10+G11+G12+G13+G14+G15+G17+G19+G20+G21+G22+G23+G16 -> 1 | H24: =H7+H8+H9+H10+H11+H12+H13+H14+H15+H17+H19+H20+H21+H22+H23+H16 -> 61 | I24: =I7+I8+I9+I10+I11+I12+I13+I14+I15+I17+I19+I20+I21+I22+I23+I16 -> 0 | J24: =J7+J8+J9+J10+J11+J12+J13+J14+J15+J17+J19+J20+J21+J22+J23+J16 -> 0 | K24: =K7+K8+K9+K10+K11+K12+K13+K14+K15+K17+K19+K20+K21+K22+K23+K16 -> 62 | ... R24: =R7+R8+R9+R10+R11+R12+R13+R14+R15+R17+R19+R20+R21+R22+R23+R16 -> 1 | T24: =D24+E24 -> 63 | U24: =F24+K24+L24 -> 63 | V24: =K24 -> 62 | W24: =G24+H24+I24+J24 -> 62

Sheet Հ. Ղազարյան
A1: 2017Ã. 1-ÇÝ ÏÇë³ÙÛ³Ï | D1: Ð²ÞìºîìàôÂÚàôÜ | P1: Ð³í»Éí³Í Ð³Û³ëï³ÝÇ Ð³Ýñ³å»ïáõÃÛ³Ý ¸³ï³ñ³ÝÝ»ñÇ Ý³Ë³·³ÑÝ»ñÇ ËáñÑñ¹Ç 25.08.2017Ã. ÃÇí 35-È áñáßÙ³Ý
A2: ØÇÝã¹³ï³Ï³Ý í³ñáõÛÃÇ ÝÏ³ïÙ³Ùµ ¹³ï³Ï³Ý í»ñ³ÑëÏáÕáõÃÛ³Ý, ¹³ï³Ï³Ý ³Ïï»ñÇ ¨ ¹³ï³Ï³Ý Ñ³ÝÓÝ³ñ³ñáõÃÛáõÝÝ»ñÇ Ï³ï³ñÙ³Ý Ñ»ï Ï³åí³Í ÙÇçÝáñ¹áõÃÛáõÝÝ»ñÇ í»ñ³µ»ñÛ³É ¹³ï³Ï³Ý ·áñÍ»ñáí ÐÐ ÞÇñ³ÏÇ Ù³ñ½Ç ÁÝ¹Ñ³Ýáõñ Çñ³í³ëáõÃÛ³Ý ³é³çÇÝ ³ïÛ³ÝÇ ¹³ï³ñ³ÝÇ ¹³ï³íáñ Հ. Ղազարյանի ·áñÍáõÝ»áõÃÛ³Ý í»ñ³µ»ñÛ³É
A3: êïáõ·Çã Ñ³í³ë³ñáõÙ` 1+2=3+8+9, 8=4+5+6+7, | D3: Ð³ßí»ïáõ Å³Ù³Ý³Ï³Ñ³ïí³ÍÇ ëÏ½µáõÙ Ý³Ëáñ¹ Ñ³ßí»ïáõ Å³Ù³Ý³Ï³Ñ³ïí³ÍÇó ÷áË³Ýóí³Í ·áñÍ»ñÇ ÁÝ¹Ñ³Ýáõñ ÃÇíÁ | E3: Ð³ßí»ïáõ Å³Ù³Ý³Ï³Ñ³ïí³ÍáõÙ ëï³óí³Í ·áñÍ»ñÇ ÁÝ¹Ñ³Ýáõñ ÃÇíÁ | F3: öáË³Ýóí»É ¿ ³ÛÉ ¹³ï³íáñÇ Ï³Ù ³ÛÉ ¹³ï³ñ³Ý (Ï³½ÙÇ ÷á÷áËáõÃÛáõÝ, ÁÝ¹¹³ïáõÃÛáõÝ) | G3: Ð³ßí»ïáõ Å³Ù³Ý³Ï³Ñ³ïí³ÍáõÙ ³í³ñïí³Í ·áñÍ»ñÇ ÁÝ¹Ñ³Ýáõñ ÃÇíÁ | L3: Ð³ßí»ïáõ Å³Ù³Ý³Ï³Ñ³ïí³ÍáõÙ ³Ý³í³ñï ·áñÍ»ñÇ ÁÝ¹Ñ³Ýáõñ ÃÇíÁ | M3: ØÇçÝáñ¹áõÃÛáõÝÝ»ñáí Ï³Û³óí³Í ¹³ï³Ï³Ý ³Ïï»ñÇó µáÕáù³ñÏí³ÍÝ»ñÇ ù³Ý³ÏÁ | O3: ²Ý³í³ñï µáÕáùÝ»ñ | P3: ØÇçÝáñ¹áõÃÛáõÝÝ»ñáí Ï³Û³óí³Í ¨ µáÕáù³ñÏí³Í ¹³ï³Ï³Ý ³Ïï»ñÇó µ»Ï³Ýí³ÍÝ»ñÇ ù³Ý³ÏÁ | R3: ÙÇçÝáñ¹áõÃÛáõÝÝ»ñáí Ï³Û³óí³Í ¨ µáÕáù³ñÏí³Í ¹³ï³Ï³Ý ³Ïï»ñÇó ³Ý÷á÷áË ÃáÕÝí³ÍÝ»ñÇ ù³Ý³ÏÁ
G4: Ù»ñÅí»É ¿ | H4: µ³í³ñ³ñí»É ¿ | I4: µ³í³ñ³ñí»É ¿ Ù³ëÝ³ÏÇ | J4: ÃáÕÝí»É ¿ ³é³Ýó ùÝÝáõÃÛ³Ý | K4: ÀÝ¹³Ù»ÝÁ
M5: Ý³Ëáñ¹ ï³ñÇÝ»ñÇÝ Ï³Û³óí³Í ³Ïï»ñÇ ¹»Ù | N5: Ñ³ßí»ïáõ Å³Ù³Ý³Ï³ßñç³ÝáõÙ Ï³Û³óí³Í ³Ïï»ñÇ ¹»Ù | P5: Ý³Ëáñ¹ ï³ñÇÝ»ñÇÝ Ï³Û³óí³Í ³Ïï»ñÇ µ»Ï³ÝáõÙÝ»ñÁ | Q5: Ñ³ßí»ïáõ Å³Ù³Ý³Ï³ßñç³ÝáõÙ Ï³Û³óí³Í ³Ïï»ñÇ µ»Ï³ÝáõÙÝ»ñÁ
A6: 1. ØÇÝã¹³ï³Ï³Ý í³ñáõÛÃÇ ÝÏ³ïÙ³Ùµ ¹³ï³Ï³Ý í»ñ³ÑëÏáÕáõÃÛ³Ý áÉáñï | D6: 1 | E6: 2 | F6: 3 | G6: 4 | H6: 5 | I6: 6 | J6: 7 | K6: 8 | L6: 9 | M6: 10 | N6: 11 | O6: 12 | P6: 13 | Q6: 14 | R6: 15 | T6: 1+2=3+8+9 | V6: 8=4+5+6+7
A7: 1 | B7: Ï³É³ÝùÁ áñå»ë Ë³÷³ÝÙ³Ý ÙÇçáó ÏÇñ³é»Éáõ Ù³ëÇÝ ÙÇçÝáñ¹áõÃÛáõÝÝ»ñ | T7: =D7+E7 -> 0 | U7: =F7+K7+L7 -> 0 | V7: =K7 -> 0 | W7: =G7+H7+I7+J7 -> 0
A8: 2 | B8: Ï³É³ÝùÇ Å³ÙÏ»ïÁ »ñÏ³ñ³óÝ»Éáõ Ù³ëÇÝ ÙÇçÝáñ¹áõÃÛáõÝÝ»ñ | E8: 1 | I8: 1 | K8: 1 | N8: 1 | R8: 1 | T8: =D8+E8 -> 1 | U8: =F8+K8+L8 -> 1 | V8: =K8 -> 1 | W8: =G8+H8+I8+J8 -> 1
A9: 3 | B9: Ï³É³ÝùÇ í»ñ³Ñ³ëï³ïÙ³Ý Ù³ëÇÝ ÙÇçÝáñ¹áõÃÛáõÝÝ»ñ | T9: =D9+E9 -> 0 | U9: =F9+K9+L9 -> 0 | V9: =K9 -> 0 | W9: =G9+H9+I9+J9 -> 0
A10: 4 | B10: ·ñ³íÁ áñå»ë Ï³É³Ý³íáñÙ³Ý ³ÛÉÁÝïñ³Ýù³ÛÇÝ Ë³÷³ÝÙ³Ý ÙÇçáó ÏÇñ³é»Éáõ Ù³ëÇÝ ÙÇçÝáñ¹áõÃÛáõÝÝ»ñ | E10: 2 | G10: 2 | K10: 2 | T10: =D10+E10 -> 2 | U10: =F10+K10+L10 -> 2 | V10: =K10 -> 2 | W10: =G10+H10+I10+J10 -> 2
A11: 5 | B11: Ëáõ½³ñÏáõÃÛ³Ý Ï³ï³ñÙ³Ý Ù³ëÇÝ ÙÇçÝáñ¹áõÃÛáõÝÝ»ñ | T11: =D11+E11 -> 0 | U11: =F11+K11+L11 -> 0 | V11: =K11 -> 0 | W11: =G11+H11+I11+J11 -> 0
A12: 6 | B12: µ³ÝÏ³ÛÇÝ, ³å³Ñáí³·ñ³Ï³Ý, Ýáï³ñ³Ï³Ý ·³ÕïÝÇù Ï³½ÙáÕ ï»Õ»ÏáõÃÛáõÝÝ»ñÇ ëï³óÙ³Ý Ñ³Ù³ñ Ëáõ½³ñÏáõÃÛ³Ý Ï³Ù ³é·ñ³íÙ³Ý Ï³ï³ñÙ³Ý Ù³ëÇÝ ÙÇçÝáñ¹áõÃÛáõÝÝ»ñ | T12: =D12+E12 -> 0 | U12: =F12+K12+L12 -> 0 | V12: =K12 -> 0 | W12: =G12+H12+I12+J12 -> 0
A13: 7 | B13: Ý³Ù³Ï³·ñáõÃÛ³Ý, Ñ»é³·ñ³Ï³Ý, ÷áuï³ÛÇÝ Ñ³Õáñ¹áõÙÝ»ñÇ ÑëÏáÕáõÃÛ³Ý Ù³ëÇÝ ÙÇçÝáñ¹áõÃÛáõÝÝ»ñ | T13: =D13+E13 -> 0 | U13: =F13+K13+L13 -> 0 | V13: =K13 -> 0 | W13: =G13+H13+I13+J13 -> 0
A14: 8 | B14: Ñ»é³Ëáu³ÛÇÝ Ï³Ù Ï³åÇ ³ÛÉ ÙÇçáóÝ»ñáí ï³ñíáÕ Ëáu³ÏóáõÃÛáõÝÝ»ñÇ ÉuÙ³Ý ¨ Ó³ÛÝ³·ñ³éÙ³Ý Ù³ëÇÝ ÙÇçÝáñ¹áõÃÛáõÝÝ»ñ | T14: =D14+E14 -> 0 | U14: =F14+K14+L14 -> 0 | V14: =K14 -> 0 | W14: =G14+H14+I14+J14 -> 0
A15: 9 | B15: Ñ»é³ËáëÝ»ñÇ Ùáõïù³ÛÇÝ ¨ »Éù³ÛÇÝ í»ñÍ³ÝÙ³Ý ÃáõÛÉïíáõÃÛáõÝ ëï³Ý³Éáõ Ù³ëÇÝ ÙÇçÝáñ¹áõÃÛáõÝÝ»ñ | T15: =D15+E15 -> 0 | U15: =F15+K15+L15 -> 0 | V15: =K15 -> 0 | W15: =G15+H15+I15+J15 -> 0
A16: 10 | B16: Ñ»ï³ùÝÝáõÃÛ³Ý Ù³ñÙÝÇ ³ßË³ïáÕÇ, ùÝÝÇãÇ, ¹³ï³Ë³½Ç oå»ñ³ïÇí-Ñ»ï³Ëáõ½³Ï³Ý ·áñÍáÕáõÃÛáõÝÝ»ñ Çñ³Ï³Ý³óÝáÕ Ù³ñÙÇÝÝ»ñÇ ³ÝoñÇÝ³Ï³Ý ¨ ³ÝÑÇÙÝ áñáßáõÙÝ»ñÇ ¨ ·áñÍáÕáõÃÛáõÝÝ»ñÇ ¹»Ù µáÕáùÝ»ñ | T16: =D16+E16 -> 0 | U16: =F16+K16+L16 -> 0 | V16: =K16 -> 0 | W16: =G16+H16+I16+J16 -> 0
A17: 11 | B17: ²½³ïáõÃÛáõÝÇó ½ñÏ»Éáõ Çñ³í³ã³÷áõÃÛ³Ý í»ñ³µ»ñÛ³É µáÕáùÝ»ñáí ·áñÍ»ñ | T17: =D17+E17 -> 0 | U17: =F17+K17+L17 -> 0 | V17: =K17 -> 0 | W17: =G17+H17+I17+J17 -> 0
A18: 2. ¸³ï³Ï³Ý ³Ïï»ñÇ ¨ ¹³ï³Ï³Ý Ñ³ÝÓÝ³ñ³ñáõÃÛáõÝÝ»ñÇ Ï³ï³ñÙ³Ý Ñ»ï Ï³åí³Í Ñ³ñó»ñÇ ÉáõÍÙ³Ý áÉáñï
A19: 1 | B19: å³ïÅÇó å³ÛÙ³Ý³Ï³Ý í³Õ³Å³ÙÏ»ï ³½³ï»Éáõ Ù³ëÇÝ ÙÇçÝáñ¹áõÃÛáõÝÝ»ñ | T19: =D19+E19 -> 0 | U19: =F19+K19+L19 -> 0 | V19: =K19 -> 0 | W19: =G19+H19+I19+J19 -> 0
A20: 2 | B20: å³ïÇÅÁ ÷á÷áË»Éáõ, Ñ»ï³Ó·»Éáõ ¨ å³ïÅÇó ³½³ï»Éáõ Ù³uÇÝ ÙÇçÝáñ¹áõÃÛáõÝÝ»ñ | T20: =D20+E20 -> 0 | U20: =F20+K20+L20 -> 0 | V20: =K20 -> 0 | W20: =G20+H20+I20+J20 -> 0
A21: 3 | B21: Ñ³ñÏ³¹Çñ µáõÅÙ³Ý ï»ë³ÏÇ ÷á÷áËáõÃÛ³Ý Ù³ëÇÝ ÙÇçÝáñ¹áõÃÛáõÝÝ»ñ | T21: =D21+E21 -> 0 | U21: =F21+K21+L21 -> 0 | V21: =K21 -> 0 | W21: =G21+H21+I21+J21 -> 0
A22: 4 | B22: ³ÛÉ ÙÇçÝáñ¹áõÃÛáõÝÝ»ñ | T22: =D22+E22 -> 0 | U22: =F22+K22+L22 -> 0 | V22: =K22 -> 0 | W22: =G22+H22+I22+J22 -> 0
A23: 5 | B23: ¹³ï³Ï³Ý Ñ³ÝÓÝ³ñ³ñáõÃÛáõÝÝ»ñ | T23: =D23+E23 -> 0 | U23: =F23+K23+L23 -> 0 | V23: =K23 -> 0 | W23: =G23+H23+I23+J23 -> 0
A24: ÀÜ¸²ØºÜÀ | D24: =D7+D8+D9+D10+D11+D12+D13+D14+D15+D17+D19+D20+D21+D22+D23+D16 -> 0 | E24: =E7+E8+E9+E10+E11+E12+E13+E14+E15+E17+E19+E20+E21+E22+E23+E16 -> 3 | F24: =F7+F8+F9+F10+F11+F12+F13+F14+F15+F17+F19+F20+F21+F22+F23+F16 -> 0 | G24: =G7+G8+G9+G10+G11+G12+G13+G14+G15+G17+G19+G20+G21+G22+G23+G16 -> 2 | H24: =H7+H8+H9+H10+H11+H12+H13+H14+H15+H17+H19+H20+H21+H22+H23+H16 -> 0 | I24: =I7+I8+I9+I10+I11+I12+I13+I14+I15+I17+I19+I20+I21+I22+I23+I16 -> 1 | J24: =J7+J8+J9+J10+J11+J12+J13+J14+J15+J17+J19+J20+J21+J22+J23+J16 -> 0 | K24: =K7+K8+K9+K10+K11+K12+K13+K14+K15+K17+K19+K20+K21+K22+K23+K16 -> 3 | ... R24: =R7+R8+R9+R10+R11+R12+R13+R14+R15+R17+R19+R20+R21+R22+R23+R16 -> 1 | T24: =D24+E24 -> 3 | U24: =F24+K24+L24 -> 3 | V24: =K24 -> 3 | W24: =G24+H24+I24+J24 -> 3

Sheet Բ. Մկրտչյան
A1: 2017Ã. 1-ÇÝ ÏÇë³ÙÛ³Ï | D1: Ð²ÞìºîìàôÂÚàôÜ | P1: Ð³í»Éí³Í Ð³Û³ëï³ÝÇ Ð³Ýñ³å»ïáõÃÛ³Ý ¸³ï³ñ³ÝÝ»ñÇ Ý³Ë³·³ÑÝ»ñÇ ËáñÑñ¹Ç 25.08.2017Ã. ÃÇí 35-È áñáßÙ³Ý
A2: ØÇÝã¹³ï³Ï³Ý í³ñáõÛÃÇ ÝÏ³ïÙ³Ùµ ¹³ï³Ï³Ý í»ñ³ÑëÏáÕáõÃÛ³Ý, ¹³ï³Ï³Ý ³Ïï»ñÇ ¨ ¹³ï³Ï³Ý Ñ³ÝÓÝ³ñ³ñáõÃÛáõÝÝ»ñÇ Ï³ï³ñÙ³Ý Ñ»ï Ï³åí³Í ÙÇçÝáñ¹áõÃÛáõÝÝ»ñÇ í»ñ³µ»ñÛ³É ¹³ï³Ï³Ý ·áñÍ»ñáí ÐÐ ÞÇñ³ÏÇ Ù³ñ½Ç ÁÝ¹Ñ³Ýáõñ Çñ³í³ëáõÃÛ³Ý ³é³çÇÝ ³ïÛ³ÝÇ ¹³ï³ñ³ÝÇ ¹³ï³íáñ Բ.Մկրտչյանի ·áñÍáõÝ»áõÃÛ³Ý í»ñ³µ»ñÛ³É
A3: êïáõ·Çã Ñ³í³ë³ñáõÙ` 1+2=3+8+9, 8=4+5+6+7, | D3: Ð³ßí»ïáõ Å³Ù³Ý³Ï³Ñ³ïí³ÍÇ ëÏ½µáõÙ Ý³Ëáñ¹ Ñ³ßí»ïáõ Å³Ù³Ý³Ï³Ñ³ïí³ÍÇó ÷áË³Ýóí³Í ·áñÍ»ñÇ ÁÝ¹Ñ³Ýáõñ ÃÇíÁ | E3: Ð³ßí»ïáõ Å³Ù³Ý³Ï³Ñ³ïí³ÍáõÙ ëï³óí³Í ·áñÍ»ñÇ ÁÝ¹Ñ³Ýáõñ ÃÇíÁ | F3: öáË³Ýóí»É ¿ ³ÛÉ ¹³ï³íáñÇ Ï³Ù ³ÛÉ ¹³ï³ñ³Ý (Ï³½ÙÇ ÷á÷áËáõÃÛáõÝ, ÁÝ¹¹³ïáõÃÛáõÝ) | G3: Ð³ßí»ïáõ Å³Ù³Ý³Ï³Ñ³ïí³ÍáõÙ ³í³ñïí³Í ·áñÍ»ñÇ ÁÝ¹Ñ³Ýáõñ ÃÇíÁ | L3: Ð³ßí»ïáõ Å³Ù³Ý³Ï³Ñ³ïí³ÍáõÙ ³Ý³í³ñï ·áñÍ»ñÇ ÁÝ¹Ñ³Ýáõñ ÃÇíÁ | M3: ØÇçÝáñ¹áõÃÛáõÝÝ»ñáí Ï³Û³óí³Í ¹³ï³Ï³Ý ³Ïï»ñÇó µáÕáù³ñÏí³ÍÝ»ñÇ ù³Ý³ÏÁ | O3: ²Ý³í³ñï µáÕáùÝ»ñ | P3: ØÇçÝáñ¹áõÃÛáõÝÝ»ñáí Ï³Û³óí³Í ¨ µáÕáù³ñÏí³Í ¹³ï³Ï³Ý ³Ïï»ñÇó µ»Ï³Ýí³ÍÝ»ñÇ ù³Ý³ÏÁ | R3: ÙÇçÝáñ¹áõÃÛáõÝÝ»ñáí Ï³Û³óí³Í ¨ µáÕáù³ñÏí³Í ¹³ï³Ï³Ý ³Ïï»ñÇó ³Ý÷á÷áË ÃáÕÝí³ÍÝ»ñÇ ù³Ý³ÏÁ
G4: Ù»ñÅí»É ¿ | H4: µ³í³ñ³ñí»É ¿ | I4: µ³í³ñ³ñí»É ¿ Ù³ëÝ³ÏÇ | J4: ÃáÕÝí»É ¿ ³é³Ýó ùÝÝáõÃÛ³Ý | K4: ÀÝ¹³Ù»ÝÁ
M5: Ý³Ëáñ¹ ï³ñÇÝ»ñÇÝ Ï³Û³óí³Í ³Ïï»ñÇ ¹»Ù | N5: Ñ³ßí»ïáõ Å³Ù³Ý³Ï³ßñç³ÝáõÙ Ï³Û³óí³Í ³Ïï»ñÇ ¹»Ù | P5: Ý³Ëáñ¹ ï³ñÇÝ»ñÇÝ Ï³Û³óí³Í ³Ïï»ñÇ µ»Ï³ÝáõÙÝ»ñÁ | Q5: Ñ³ßí»ïáõ Å³Ù³Ý³Ï³ßñç³ÝáõÙ Ï³Û³óí³Í ³Ïï»ñÇ µ»Ï³ÝáõÙÝ»ñÁ
A6: 1. ØÇÝã¹³ï³Ï³Ý í³ñáõÛÃÇ ÝÏ³ïÙ³Ùµ ¹³ï³Ï³Ý í»ñ³ÑëÏáÕáõÃÛ³Ý áÉáñï | D6: 1 | E6: 2 | F6: 3 | G6: 4 | H6: 5 | I6: 6 | J6: 7 | K6: 8 | L6: 9 | M6: 10 | N6: 11 | O6: 12 | P6: 13 | Q6: 14 | R6: 15 | T6: 1+2=3+8+9 | V6: 8=4+5+6+7
A7: 1 | B7: Ï³É³ÝùÁ áñå»ë Ë³÷³ÝÙ³Ý ÙÇçáó ÏÇñ³é»Éáõ Ù³ëÇÝ ÙÇçÝáñ¹áõÃÛáõÝÝ»ñ | T7: =D7+E7 -> 0 | U7: =F7+K7+L7 -> 0 | V7: =K7 -> 0 | W7: =G7+H7+I7+J7 -> 0
A8: 2 | B8: Ï³É³ÝùÇ Å³ÙÏ»ïÁ »ñÏ³ñ³óÝ»Éáõ Ù³ëÇÝ ÙÇçÝáñ¹áõÃÛáõÝÝ»ñ | T8: =D8+E8 -> 0 | U8: =F8+K8+L8 -> 0 | V8: =K8 -> 0 | W8: =G8+H8+I8+J8 -> 0
A9: 3 | B9: Ï³É³ÝùÇ í»ñ³Ñ³ëï³ïÙ³Ý Ù³ëÇÝ ÙÇçÝáñ¹áõÃÛáõÝÝ»ñ | T9: =D9+E9 -> 0 | U9: =F9+K9+L9 -> 0 | V9: =K9 -> 0 | W9: =G9+H9+I9+J9 -> 0
A10: 4 | B10: ·ñ³íÁ áñå»ë Ï³É³Ý³íáñÙ³Ý ³ÛÉÁÝïñ³Ýù³ÛÇÝ Ë³÷³ÝÙ³Ý ÙÇçáó ÏÇñ³é»Éáõ Ù³ëÇÝ ÙÇçÝáñ¹áõÃÛáõÝÝ»ñ | T10: =D10+E10 -> 0 | U10: =F10+K10+L10 -> 0 | V10: =K10 -> 0 | W10: =G10+H10+I10+J10 -> 0
A11: 5 | B11: Ëáõ½³ñÏáõÃÛ³Ý Ï³ï³ñÙ³Ý Ù³ëÇÝ ÙÇçÝáñ¹áõÃÛáõÝÝ»ñ | T11: =D11+E11 -> 0 | U11: =F11+K11+L11 -> 0 | V11: =K11 -> 0 | W11: =G11+H11+I11+J11 -> 0
A12: 6 | B12: µ³ÝÏ³ÛÇÝ, ³å³Ñáí³·ñ³Ï³Ý, Ýáï³ñ³Ï³Ý ·³ÕïÝÇù Ï³½ÙáÕ ï»Õ»ÏáõÃÛáõÝÝ»ñÇ ëï³óÙ³Ý Ñ³Ù³ñ Ëáõ½³ñÏáõÃÛ³Ý Ï³Ù ³é·ñ³íÙ³Ý Ï³ï³ñÙ³Ý Ù³ëÇÝ ÙÇçÝáñ¹áõÃÛáõÝÝ»ñ | T12: =D12+E12 -> 0 | U12: =F12+K12+L12 -> 0 | V12: =K12 -> 0 | W12: =G12+H12+I12+J12 -> 0
A13: 7 | B13: Ý³Ù³Ï³·ñáõÃÛ³Ý, Ñ»é³·ñ³Ï³Ý, ÷áuï³ÛÇÝ Ñ³Õáñ¹áõÙÝ»ñÇ ÑëÏáÕáõÃÛ³Ý Ù³ëÇÝ ÙÇçÝáñ¹áõÃÛáõÝÝ»ñ | T13: =D13+E13 -> 0 | U13: =F13+K13+L13 -> 0 | V13: =K13 -> 0 | W13: =G13+H13+I13+J13 -> 0
A14: 8 | B14: Ñ»é³Ëáu³ÛÇÝ Ï³Ù Ï³åÇ ³ÛÉ ÙÇçáóÝ»ñáí ï³ñíáÕ Ëáu³ÏóáõÃÛáõÝÝ»ñÇ ÉuÙ³Ý ¨ Ó³ÛÝ³·ñ³éÙ³Ý Ù³ëÇÝ ÙÇçÝáñ¹áõÃÛáõÝÝ»ñ | T14: =D14+E14 -> 0 | U14: =F14+K14+L14 -> 0 | V14: =K14 -> 0 | W14: =G14+H14+I14+J14 -> 0
A15: 9 | B15: Ñ»é³ËáëÝ»ñÇ Ùáõïù³ÛÇÝ ¨ »Éù³ÛÇÝ í»ñÍ³ÝÙ³Ý ÃáõÛÉïíáõÃÛáõÝ ëï³Ý³Éáõ Ù³ëÇÝ ÙÇçÝáñ¹áõÃÛáõÝÝ»ñ | T15: =D15+E15 -> 0 | U15: =F15+K15+L15 -> 0 | V15: =K15 -> 0 | W15: =G15+H15+I15+J15 -> 0
A16: 10 | B16: Ñ»ï³ùÝÝáõÃÛ³Ý Ù³ñÙÝÇ ³ßË³ïáÕÇ, ùÝÝÇãÇ, ¹³ï³Ë³½Ç oå»ñ³ïÇí-Ñ»ï³Ëáõ½³Ï³Ý ·áñÍáÕáõÃÛáõÝÝ»ñ Çñ³Ï³Ý³óÝáÕ Ù³ñÙÇÝÝ»ñÇ ³ÝoñÇÝ³Ï³Ý ¨ ³ÝÑÇÙÝ áñáßáõÙÝ»ñÇ ¨ ·áñÍáÕáõÃÛáõÝÝ»ñÇ ¹»Ù µáÕáùÝ»ñ | T16: =D16+E16 -> 0 | U16: =F16+K16+L16 -> 0 | V16: =K16 -> 0 | W16: =G16+H16+I16+J16 -> 0
A17: 11 | B17: ²½³ïáõÃÛáõÝÇó ½ñÏ»Éáõ Çñ³í³ã³÷áõÃÛ³Ý í»ñ³µ»ñÛ³É µáÕáùÝ»ñáí ·áñÍ»ñ | T17: =D17+E17 -> 0 | U17: =F17+K17+L17 -> 0 | V17: =K17 -> 0 | W17: =G17+H17+I17+J17 -> 0
A18: 2. ¸³ï³Ï³Ý ³Ïï»ñÇ ¨ ¹³ï³Ï³Ý Ñ³ÝÓÝ³ñ³ñáõÃÛáõÝÝ»ñÇ Ï³ï³ñÙ³Ý Ñ»ï Ï³åí³Í Ñ³ñó»ñÇ ÉáõÍÙ³Ý áÉáñï
A19: 1 | B19: å³ïÅÇó å³ÛÙ³Ý³Ï³Ý í³Õ³Å³ÙÏ»ï ³½³ï»Éáõ Ù³ëÇÝ ÙÇçÝáñ¹áõÃÛáõÝÝ»ñ | T19: =D19+E19 -> 0 | U19: =F19+K19+L19 -> 0 | V19: =K19 -> 0 | W19: =G19+H19+I19+J19 -> 0
A20: 2 | B20: å³ïÇÅÁ ÷á÷áË»Éáõ, Ñ»ï³Ó·»Éáõ ¨ å³ïÅÇó ³½³ï»Éáõ Ù³uÇÝ ÙÇçÝáñ¹áõÃÛáõÝÝ»ñ | T20: =D20+E20 -> 0 | U20: =F20+K20+L20 -> 0 | V20: =K20 -> 0 | W20: =G20+H20+I20+J20 -> 0
A21: 3 | B21: Ñ³ñÏ³¹Çñ µáõÅÙ³Ý ï»ë³ÏÇ ÷á÷áËáõÃÛ³Ý Ù³ëÇÝ ÙÇçÝáñ¹áõÃÛáõÝÝ»ñ | T21: =D21+E21 -> 0 | U21: =F21+K21+L21 -> 0 | V21: =K21 -> 0 | W21: =G21+H21+I21+J21 -> 0
A22: 4 | B22: ³ÛÉ ÙÇçÝáñ¹áõÃÛáõÝÝ»ñ | T22: =D22+E22 -> 0 | U22: =F22+K22+L22 -> 0 | V22: =K22 -> 0 | W22: =G22+H22+I22+J22 -> 0
A23: 5 | B23: ¹³ï³Ï³Ý Ñ³ÝÓÝ³ñ³ñáõÃÛáõÝÝ»ñ | M23: 1 | O23: 1 | T23: =D23+E23 -> 0 | U23: =F23+K23+L23 -> 0 | V23: =K23 -> 0 | W23: =G23+H23+I23+J23 -> 0
A24: ÀÜ¸²ØºÜÀ | D24: =D7+D8+D9+D10+D11+D12+D13+D14+D15+D17+D19+D20+D21+D22+D23+D16 -> 0 | E24: =E7+E8+E9+E10+E11+E12+E13+E14+E15+E17+E19+E20+E21+E22+E23+E16 -> 0 | F24: =F7+F8+F9+F10+F11+F12+F13+F14+F15+F17+F19+F20+F21+F22+F23+F16 -> 0 | G24: =G7+G8+G9+G10+G11+G12+G13+G14+G15+G17+G19+G20+G21+G22+G23+G16 -> 0 | H24: =H7+H8+H9+H10+H11+H12+H13+H14+H15+H17+H19+H20+H21+H22+H23+H16 -> 0 | I24: =I7+I8+I9+I10+I11+I12+I13+I14+I15+I17+I19+I20+I21+I22+I23+I16 -> 0 | J24: =J7+J8+J9+J10+J11+J12+J13+J14+J15+J17+J19+J20+J21+J22+J23+J16 -> 0 | K24: =K7+K8+K9+K10+K11+K12+K13+K14+K15+K17+K19+K20+K21+K22+K23+K16 -> 0 | ... R24: =R7+R8+R9+R10+R11+R12+R13+R14+R15+R17+R19+R20+R21+R22+R23+R16 -> 0 | T24: =D24+E24 -> 0 | U24: =F24+K24+L24 -> 0 | V24: =K24 -> 0 | W24: =G24+H24+I24+J24 -> 0

Sheet Մ. Սարոյան
A1: 2016Ã. | D1: Ð²ÞìºîìàôÂÚàôÜ | P1: Ð³í»Éí³Í Ð³Û³ëï³ÝÇ Ð³Ýñ³å»ïáõÃÛ³Ý ¸³ï³ñ³ÝÝ»ñÇ Ý³Ë³·³ÑÝ»ñÇ ËáñÑñ¹Ç 25.08.2016Ã. ÃÇí 44-È áñáßÙ³Ý
A2: ØÇÝã¹³ï³Ï³Ý í³ñáõÛÃÇ ÝÏ³ïÙ³Ùµ ¹³ï³Ï³Ý í»ñ³ÑëÏáÕáõÃÛ³ÝÁ, ¹³ï³Ï³Ý ³Ïï»ñÇ ¨ ¹³ï³Ï³Ý Ñ³ÝÓÝ³ñ³ñáõÃÛáõÝÝ»ñÇ Ï³ï³ñÙ³Ý Ñ»ï Ï³åí³Í ÙÇçÝáñ¹áõÃÛáõÝÝ»ñÇ í»ñ³µ»ñÛ³É ¹³ï³Ï³Ý ·áñÍ»ñáí ÐÐ ÞÇñ³ÏÇ Ù³ñ½Ç ÁÝ¹Ñ³Ýáõñ Çñ³í³ëáõÃÛ³Ý ³é³çÇÝ ³ïÛ³ÝÇ ¹³ï³ñ³ÝÇ ¹³ï³íáñ Մ.Սարոյանի ·áñÍáõÝ»áõÃÛ³Ý í»ñ³µ»ñÛ³É
A3: êïáõ·Çã Ñ³í³ë³ñáõÙ` 1+2=3+8+9, 8=4+5+6+7, | D3: Ð³ßí»ïáõ Å³Ù³Ý³Ï³Ñ³ïí³ÍÇ ëÏ½µáõÙ Ý³Ëáñ¹ Ñ³ßí»ïáõ Å³Ù³Ý³Ï³Ñ³ïí³ÍÇó ÷áË³Ýóí³Í ·áñÍ»ñÇ ÁÝ¹Ñ³Ýáõñ ÃÇíÁ | E3: Ð³ßí»ïáõ Å³Ù³Ý³Ï³Ñ³ïí³ÍáõÙ ëï³óí³Í ·áñÍ»ñÇ ÁÝ¹Ñ³Ýáõñ ÃÇíÁ | F3: öáË³Ýóí»É ¿ ³ÛÉ ¹³ï³íáñÇ Ï³Ù ³ÛÉ ¹³ï³ñ³Ý (Ï³½ÙÇ ÷á÷áËáõÃÛáõÝ, ÁÝ¹¹³ïáõÃÛáõÝ) | G3: Ð³ßí»ïáõ Å³Ù³Ý³Ï³Ñ³ïí³ÍáõÙ ³í³ñïí³Í ·áñÍ»ñÇ ÁÝ¹Ñ³Ýáõñ ÃÇíÁ | L3: Ð³ßí»ïáõ Å³Ù³Ý³Ï³Ñ³ïí³ÍáõÙ ³Ý³í³ñï ·áñÍ»ñÇ ÁÝ¹Ñ³Ýáõñ ÃÇíÁ | M3: ØÇçÝáñ¹áõÃÛáõÝÝ»ñáí Ï³Û³óí³Í ¹³ï³Ï³Ý ³Ïï»ñÇó µáÕáù³ñÏí³ÍÝ»ñÇ ù³Ý³ÏÁ | O3: ²Ý³í³ñï µáÕáùÝ»ñ | P3: ØÇçÝáñ¹áõÃÛáõÝÝ»ñáí Ï³Û³óí³Í ¨ µáÕáù³ñÏí³Í ¹³ï³Ï³Ý ³Ïï»ñÇó µ»Ï³Ýí³ÍÝ»ñÇ ù³Ý³ÏÁ | R3: ÙÇçÝáñ¹áõÃÛáõÝÝ»ñáí Ï³Û³óí³Í ¨ µáÕáù³ñÏí³Í ¹³ï³Ï³Ý ³Ïï»ñÇó ³Ý÷á÷áË ÃáÕÝí³ÍÝ»ñÇ ù³Ý³ÏÁ
G4: Ù»ñÅí»É ¿ | H4: µ³í³ñ³ñí»É ¿ | I4: µ³í³ñ³ñí»É ¿ Ù³ëÝ³ÏÇ | J4: ÃáÕÝí»É ¿ ³é³Ýó ùÝÝáõÃÛ³Ý | K4: ÀÝ¹³Ù»ÝÁ
M5: Ý³Ëáñ¹ ï³ñÇÝ»ñÇÝ Ï³Û³óí³Í ³Ïï»ñÇ ¹»Ù | N5: Ñ³ßí»ïáõ Å³Ù³Ý³Ï³ßñç³ÝáõÙ Ï³Û³óí³Í ³Ïï»ñÇ ¹»Ù | P5: Ý³Ëáñ¹ ï³ñÇÝ»ñÇÝ Ï³Û³óí³Í ³Ïï»ñÇ µ»Ï³ÝáõÙÝ»ñÁ | Q5: Ñ³ßí»ïáõ Å³Ù³Ý³Ï³ßñç³ÝáõÙ Ï³Û³óí³Í ³Ïï»ñÇ µ»Ï³ÝáõÙÝ»ñÁ
A6: 1. ØÇÝã¹³ï³Ï³Ý í³ñáõÛÃÇ ÝÏ³ïÙ³Ùµ ¹³ï³Ï³Ý í»ñ³ÑëÏáÕáõÃÛ³Ý áÉáñï | D6: 1 | E6: 2 | F6: 3 | G6: 4 | H6: 5 | I6: 6 | J6: 7 | K6: 8 | L6: 9 | M6: 10 | N6: 11 | O6: 12 | P6: 13 | Q6: 14 | R6: 15 | T6: 1+2=3+8+9 | V6: 8=4+5+6+7
A7: 1 | B7: Ï³É³ÝùÁ áñå»ë Ë³÷³ÝÙ³Ý ÙÇçáó ÏÇñ³é»Éáõ Ù³ëÇÝ ÙÇçÝáñ¹áõÃÛáõÝÝ»ñ | T7: =D7+E7 -> 0 | U7: =F7+K7+L7 -> 0 | V7: =K7 -> 0 | W7: =G7+H7+I7+J7 -> 0
A8: 2 | B8: Ï³É³ÝùÇ Å³ÙÏ»ïÁ »ñÏ³ñ³óÝ»Éáõ Ù³ëÇÝ ÙÇçÝáñ¹áõÃÛáõÝÝ»ñ | T8: =D8+E8 -> 0 | U8: =F8+K8+L8 -> 0 | V8: =K8 -> 0 | W8: =G8+H8+I8+J8 -> 0
A9: 3 | B9: Ï³É³ÝùÇ í»ñ³Ñ³ëï³ïÙ³Ý Ù³ëÇÝ ÙÇçÝáñ¹áõÃÛáõÝÝ»ñ | T9: =D9+E9 -> 0 | U9: =F9+K9+L9 -> 0 | V9: =K9 -> 0 | W9: =G9+H9+I9+J9 -> 0
A10: 4 | B10: ·ñ³íÁ áñå»ë Ï³É³Ý³íáñÙ³Ý ³ÛÉÁÝïñ³Ýù³ÛÇÝ Ë³÷³ÝÙ³Ý ÙÇçáó ÏÇñ³é»Éáõ Ù³ëÇÝ ÙÇçÝáñ¹áõÃÛáõÝÝ»ñ | T10: =D10+E10 -> 0 | U10: =F10+K10+L10 -> 0 | V10: =K10 -> 0 | W10: =G10+H10+I10+J10 -> 0
A11: 5 | B11: Ëáõ½³ñÏáõÃÛ³Ý Ï³ï³ñÙ³Ý Ù³ëÇÝ ÙÇçÝáñ¹áõÃÛáõÝÝ»ñ | T11: =D11+E11 -> 0 | U11: =F11+K11+L11 -> 0 | V11: =K11 -> 0 | W11: =G11+H11+I11+J11 -> 0
A12: 6 | B12: µ³ÝÏ³ÛÇÝ, ³å³Ñáí³·ñ³Ï³Ý, Ýáï³ñ³Ï³Ý ·³ÕïÝÇù Ï³½ÙáÕ ï»Õ»ÏáõÃÛáõÝÝ»ñÇ ëï³óÙ³Ý Ñ³Ù³ñ Ëáõ½³ñÏáõÃÛ³Ý Ï³Ù ³é·ñ³íÙ³Ý Ï³ï³ñÙ³Ý Ù³ëÇÝ ÙÇçÝáñ¹áõÃÛáõÝÝ»ñ | T12: =D12+E12 -> 0 | U12: =F12+K12+L12 -> 0 | V12: =K12 -> 0 | W12: =G12+H12+I12+J12 -> 0
A13: 7 | B13: Ý³Ù³Ï³·ñáõÃÛ³Ý, Ñ»é³·ñ³Ï³Ý, ÷áuï³ÛÇÝ Ñ³Õáñ¹áõÙÝ»ñÇ ÑëÏáÕáõÃÛ³Ý Ù³ëÇÝ ÙÇçÝáñ¹áõÃÛáõÝÝ»ñ | T13: =D13+E13 -> 0 | U13: =F13+K13+L13 -> 0 | V13: =K13 -> 0 | W13: =G13+H13+I13+J13 -> 0
A14: 8 | B14: Ñ»é³Ëáu³ÛÇÝ Ï³Ù Ï³åÇ ³ÛÉ ÙÇçáóÝ»ñáí ï³ñíáÕ Ëáu³ÏóáõÃÛáõÝÝ»ñÇ ÉuÙ³Ý ¨ Ó³ÛÝ³·ñ³éÙ³Ý Ù³ëÇÝ ÙÇçÝáñ¹áõÃÛáõÝÝ»ñ | T14: =D14+E14 -> 0 | U14: =F14+K14+L14 -> 0 | V14: =K14 -> 0 | W14: =G14+H14+I14+J14 -> 0
A15: 9 | B15: Ñ»é³ËáëÝ»ñÇ Ùáõïù³ÛÇÝ ¨ »Éù³ÛÇÝ í»ñÍ³ÝÙ³Ý ÃáõÛÉïíáõÃÛáõÝ ëï³Ý³Éáõ Ù³ëÇÝ ÙÇçÝáñ¹áõÃÛáõÝÝ»ñ | T15: =D15+E15 -> 0 | U15: =F15+K15+L15 -> 0 | V15: =K15 -> 0 | W15: =G15+H15+I15+J15 -> 0
A16: 10 | B16: Ñ»ï³ùÝÝáõÃÛ³Ý Ù³ñÙÝÇ ³ßË³ïáÕÇ, ùÝÝÇãÇ, ¹³ï³Ë³½Ç oå»ñ³ïÇí-Ñ»ï³Ëáõ½³Ï³Ý ·áñÍáÕáõÃÛáõÝÝ»ñ Çñ³Ï³Ý³óÝáÕ Ù³ñÙÇÝÝ»ñÇ ³ÝoñÇÝ³Ï³Ý ¨ ³ÝÑÇÙÝ áñáßáõÙÝ»ñÇ ¨ ·áñÍáÕáõÃÛáõÝÝ»ñÇ ¹»Ù µáÕáùÝ»ñ | T16: =D16+E16 -> 0 | U16: =F16+K16+L16 -> 0 | V16: =K16 -> 0 | W16: =G16+H16+I16+J16 -> 0
A17: 11 | B17: ²½³ïáõÃÛáõÝÇó ½ñÏ»Éáõ Çñ³í³ã³÷áõÃÛ³Ý í»ñ³µ»ñÛ³É µáÕáùÝ»ñáí ·áñÍ»ñ | T17: =D17+E17 -> 0 | U17: =F17+K17+L17 -> 0 | V17: =K17 -> 0 | W17: =G17+H17+I17+J17 -> 0
A18: 2. ¸³ï³Ï³Ý ³Ïï»ñÇ ¨ ¹³ï³Ï³Ý Ñ³ÝÓÝ³ñ³ñáõÃÛáõÝÝ»ñÇ Ï³ï³ñÙ³Ý Ñ»ï Ï³åí³Í Ñ³ñó»ñÇ ÉáõÍÙ³Ý áÉáñï
A19: 1 | B19: å³ïÅÇó å³ÛÙ³Ý³Ï³Ý í³Õ³Å³ÙÏ»ï ³½³ï»Éáõ Ù³ëÇÝ ÙÇçÝáñ¹áõÃÛáõÝÝ»ñ | T19: =D19+E19 -> 0 | U19: =F19+K19+L19 -> 0 | V19: =K19 -> 0 | W19: =G19+H19+I19+J19 -> 0
A20: 2 | B20: å³ïÇÅÁ ÷á÷áË»Éáõ, Ñ»ï³Ó·»Éáõ ¨ å³ïÅÇó ³½³ï»Éáõ Ù³uÇÝ ÙÇçÝáñ¹áõÃÛáõÝÝ»ñ | T20: =D20+E20 -> 0 | U20: =F20+K20+L20 -> 0 | V20: =K20 -> 0 | W20: =G20+H20+I20+J20 -> 0
A21: 3 | B21: Ñ³ñÏ³¹Çñ µáõÅÙ³Ý ï»ë³ÏÇ ÷á÷áËáõÃÛ³Ý Ù³ëÇÝ ÙÇçÝáñ¹áõÃÛáõÝÝ»ñ | T21: =D21+E21 -> 0 | U21: =F21+K21+L21 -> 0 | V21: =K21 -> 0 | W21: =G21+H21+I21+J21 -> 0
A22: 4 | B22: ³ÛÉ ÙÇçÝáñ¹áõÃÛáõÝÝ»ñ | T22: =D22+E22 -> 0 | U22: =F22+K22+L22 -> 0 | V22: =K22 -> 0 | W22: =G22+H22+I22+J22 -> 0
A23: 5 | B23: ¹³ï³Ï³Ý Ñ³ÝÓÝ³ñ³ñáõÃÛáõÝÝ»ñ | T23: =D23+E23 -> 0 | U23: =F23+K23+L23 -> 0 | V23: =K23 -> 0 | W23: =G23+H23+I23+J23 -> 0
A24: ÀÜ¸²ØºÜÀ | D24: =D7+D8+D9+D10+D11+D12+D13+D14+D15+D17+D19+D20+D21+D22+D23+D16 -> 0 | E24: =E7+E8+E9+E10+E11+E12+E13+E14+E15+E17+E19+E20+E21+E22+E23+E16 -> 0 | F24: =F7+F8+F9+F10+F11+F12+F13+F14+F15+F17+F19+F20+F21+F22+F23+F16 -> 0 | G24: =G7+G8+G9+G10+G11+G12+G13+G14+G15+G17+G19+G20+G21+G22+G23+G16 -> 0 | H24: =H7+H8+H9+H10+H11+H12+H13+H14+H15+H17+H19+H20+H21+H22+H23+H16 -> 0 | I24: =I7+I8+I9+I10+I11+I12+I13+I14+I15+I17+I19+I20+I21+I22+I23+I16 -> 0 | J24: =J7+J8+J9+J10+J11+J12+J13+J14+J15+J17+J19+J20+J21+J22+J23+J16 -> 0 | K24: =K7+K8+K9+K10+K11+K12+K13+K14+K15+K17+K19+K20+K21+K22+K23+K16 -> 0 | ... R24: =R7+R8+R9+R10+R11+R12+R13+R14+R15+R17+R19+R20+R21+R22+R23+R16 -> 0 | T24: =D24+E24 -> 0 | U24: =F24+K24+L24 -> 0 | V24: =K24 -> 0 | W24: =G24+H24+I24+J24 -> 0

Sheet Լ.Խաչատրյան
A1: 2017Ã. 1-ÇÝ ÏÇë³ÙÛ³Ï | D1: Ð²ÞìºîìàôÂÚàôÜ | P1: Ð³í»Éí³Í Ð³Û³ëï³ÝÇ Ð³Ýñ³å»ïáõÃÛ³Ý ¸³ï³ñ³ÝÝ»ñÇ Ý³Ë³·³ÑÝ»ñÇ ËáñÑñ¹Ç 25.08.2017Ã. ÃÇí 35-È áñáßÙ³Ý
A2: ØÇÝã¹³ï³Ï³Ý í³ñáõÛÃÇ ÝÏ³ïÙ³Ùµ ¹³ï³Ï³Ý í»ñ³ÑëÏáÕáõÃÛ³Ý, ¹³ï³Ï³Ý ³Ïï»ñÇ ¨ ¹³ï³Ï³Ý Ñ³ÝÓÝ³ñ³ñáõÃÛáõÝÝ»ñÇ Ï³ï³ñÙ³Ý Ñ»ï Ï³åí³Í ÙÇçÝáñ¹áõÃÛáõÝÝ»ñÇ í»ñ³µ»ñÛ³É ¹³ï³Ï³Ý ·áñÍ»ñáí ÐÐ ÞÇñ³ÏÇ Ù³ñ½Ç ÁÝ¹Ñ³Ýáõñ Çñ³í³ëáõÃÛ³Ý ³é³çÇÝ ³ïÛ³ÝÇ ¹³ï³ñ³ÝÇ ¹³ï³íáñ Լ.Խաչատրյանի ·áñÍáõÝ»áõÃÛ³Ý í»ñ³µ»ñÛ³É
A3: êïáõ·Çã Ñ³í³ë³ñáõÙ` 1+2=3+8+9, 8=4+5+6+7, | D3: Ð³ßí»ïáõ Å³Ù³Ý³Ï³Ñ³ïí³ÍÇ ëÏ½µáõÙ Ý³Ëáñ¹ Ñ³ßí»ïáõ Å³Ù³Ý³Ï³Ñ³ïí³ÍÇó ÷áË³Ýóí³Í ·áñÍ»ñÇ ÁÝ¹Ñ³Ýáõñ ÃÇíÁ | E3: Ð³ßí»ïáõ Å³Ù³Ý³Ï³Ñ³ïí³ÍáõÙ ëï³óí³Í ·áñÍ»ñÇ ÁÝ¹Ñ³Ýáõñ ÃÇíÁ | F3: öáË³Ýóí»É ¿ ³ÛÉ ¹³ï³íáñÇ Ï³Ù ³ÛÉ ¹³ï³ñ³Ý (Ï³½ÙÇ ÷á÷áËáõÃÛáõÝ, ÁÝ¹¹³ïáõÃÛáõÝ) | G3: Ð³ßí»ïáõ Å³Ù³Ý³Ï³Ñ³ïí³ÍáõÙ ³í³ñïí³Í ·áñÍ»ñÇ ÁÝ¹Ñ³Ýáõñ ÃÇíÁ | L3: Ð³ßí»ïáõ Å³Ù³Ý³Ï³Ñ³ïí³ÍáõÙ ³Ý³í³ñï ·áñÍ»ñÇ ÁÝ¹Ñ³Ýáõñ ÃÇíÁ | M3: ØÇçÝáñ¹áõÃÛáõÝÝ»ñáí Ï³Û³óí³Í ¹³ï³Ï³Ý ³Ïï»ñÇó µáÕáù³ñÏí³ÍÝ»ñÇ ù³Ý³ÏÁ | O3: ²Ý³í³ñï µáÕáùÝ»ñ | P3: ØÇçÝáñ¹áõÃÛáõÝÝ»ñáí Ï³Û³óí³Í ¨ µáÕáù³ñÏí³Í ¹³ï³Ï³Ý ³Ïï»ñÇó µ»Ï³Ýí³ÍÝ»ñÇ ù³Ý³ÏÁ | R3: ÙÇçÝáñ¹áõÃÛáõÝÝ»ñáí Ï³Û³óí³Í ¨ µáÕáù³ñÏí³Í ¹³ï³Ï³Ý ³Ïï»ñÇó ³Ý÷á÷áË ÃáÕÝí³ÍÝ»ñÇ ù³Ý³ÏÁ
G4: Ù»ñÅí»É ¿ | H4: µ³í³ñ³ñí»É ¿ | I4: µ³í³ñ³ñí»É ¿ Ù³ëÝ³ÏÇ | J4: ÃáÕÝí»É ¿ ³é³Ýó ùÝÝáõÃÛ³Ý | K4: ÀÝ¹³Ù»ÝÁ
M5: Ý³Ëáñ¹ ï³ñÇÝ»ñÇÝ Ï³Û³óí³Í ³Ïï»ñÇ ¹»Ù | N5: Ñ³ßí»ïáõ Å³Ù³Ý³Ï³ßñç³ÝáõÙ Ï³Û³óí³Í ³Ïï»ñÇ ¹»Ù | P5: Ý³Ëáñ¹ ï³ñÇÝ»ñÇÝ Ï³Û³óí³Í ³Ïï»ñÇ µ»Ï³ÝáõÙÝ»ñÁ | Q5: Ñ³ßí»ïáõ Å³Ù³Ý³Ï³ßñç³ÝáõÙ Ï³Û³óí³Í ³Ïï»ñÇ µ»Ï³ÝáõÙÝ»ñÁ
A6: 1. ØÇÝã¹³ï³Ï³Ý í³ñáõÛÃÇ ÝÏ³ïÙ³Ùµ ¹³ï³Ï³Ý í»ñ³ÑëÏáÕáõÃÛ³Ý áÉáñï | D6: 1 | E6: 2 | F6: 3 | G6: 4 | H6: 5 | I6: 6 | J6: 7 | K6: 8 | L6: 9 | M6: 10 | N6: 11 | O6: 12 | P6: 13 | Q6: 14 | R6: 15 | T6: 1+2=3+8+9 | V6: 8=4+5+6+7
A7: 1 | B7: Ï³É³ÝùÁ áñå»ë Ë³÷³ÝÙ³Ý ÙÇçáó ÏÇñ³é»Éáõ Ù³ëÇÝ ÙÇçÝáñ¹áõÃÛáõÝÝ»ñ | T7: =D7+E7 -> 0 | U7: =F7+K7+L7 -> 0 | V7: =K7 -> 0 | W7: =G7+H7+I7+J7 -> 0
A8: 2 | B8: Ï³É³ÝùÇ Å³ÙÏ»ïÁ »ñÏ³ñ³óÝ»Éáõ Ù³ëÇÝ ÙÇçÝáñ¹áõÃÛáõÝÝ»ñ | T8: =D8+E8 -> 0 | U8: =F8+K8+L8 -> 0 | V8: =K8 -> 0 | W8: =G8+H8+I8+J8 -> 0
A9: 3 | B9: Ï³É³ÝùÇ í»ñ³Ñ³ëï³ïÙ³Ý Ù³ëÇÝ ÙÇçÝáñ¹áõÃÛáõÝÝ»ñ | T9: =D9+E9 -> 0 | U9: =F9+K9+L9 -> 0 | V9: =K9 -> 0 | W9: =G9+H9+I9+J9 -> 0
A10: 4 | B10: ·ñ³íÁ áñå»ë Ï³É³Ý³íáñÙ³Ý ³ÛÉÁÝïñ³Ýù³ÛÇÝ Ë³÷³ÝÙ³Ý ÙÇçáó ÏÇñ³é»Éáõ Ù³ëÇÝ ÙÇçÝáñ¹áõÃÛáõÝÝ»ñ | T10: =D10+E10 -> 0 | U10: =F10+K10+L10 -> 0 | V10: =K10 -> 0 | W10: =G10+H10+I10+J10 -> 0
A11: 5 | B11: Ëáõ½³ñÏáõÃÛ³Ý Ï³ï³ñÙ³Ý Ù³ëÇÝ ÙÇçÝáñ¹áõÃÛáõÝÝ»ñ | T11: =D11+E11 -> 0 | U11: =F11+K11+L11 -> 0 | V11: =K11 -> 0 | W11: =G11+H11+I11+J11 -> 0
A12: 6 | B12: µ³ÝÏ³ÛÇÝ, ³å³Ñáí³·ñ³Ï³Ý, Ýáï³ñ³Ï³Ý ·³ÕïÝÇù Ï³½ÙáÕ ï»Õ»ÏáõÃÛáõÝÝ»ñÇ ëï³óÙ³Ý Ñ³Ù³ñ Ëáõ½³ñÏáõÃÛ³Ý Ï³Ù ³é·ñ³íÙ³Ý Ï³ï³ñÙ³Ý Ù³ëÇÝ ÙÇçÝáñ¹áõÃÛáõÝÝ»ñ | T12: =D12+E12 -> 0 | U12: =F12+K12+L12 -> 0 | V12: =K12 -> 0 | W12: =G12+H12+I12+J12 -> 0
A13: 7 | B13: Ý³Ù³Ï³·ñáõÃÛ³Ý, Ñ»é³·ñ³Ï³Ý, ÷áuï³ÛÇÝ Ñ³Õáñ¹áõÙÝ»ñÇ ÑëÏáÕáõÃÛ³Ý Ù³ëÇÝ ÙÇçÝáñ¹áõÃÛáõÝÝ»ñ | T13: =D13+E13 -> 0 | U13: =F13+K13+L13 -> 0 | V13: =K13 -> 0 | W13: =G13+H13+I13+J13 -> 0
A14: 8 | B14: Ñ»é³Ëáu³ÛÇÝ Ï³Ù Ï³åÇ ³ÛÉ ÙÇçáóÝ»ñáí ï³ñíáÕ Ëáu³ÏóáõÃÛáõÝÝ»ñÇ ÉuÙ³Ý ¨ Ó³ÛÝ³·ñ³éÙ³Ý Ù³ëÇÝ ÙÇçÝáñ¹áõÃÛáõÝÝ»ñ | T14: =D14+E14 -> 0 | U14: =F14+K14+L14 -> 0 | V14: =K14 -> 0 | W14: =G14+H14+I14+J14 -> 0
A15: 9 | B15: Ñ»é³ËáëÝ»ñÇ Ùáõïù³ÛÇÝ ¨ »Éù³ÛÇÝ í»ñÍ³ÝÙ³Ý ÃáõÛÉïíáõÃÛáõÝ ëï³Ý³Éáõ Ù³ëÇÝ ÙÇçÝáñ¹áõÃÛáõÝÝ»ñ | T15: =D15+E15 -> 0 | U15: =F15+K15+L15 -> 0 | V15: =K15 -> 0 | W15: =G15+H15+I15+J15 -> 0
A16: 10 | B16: Ñ»ï³ùÝÝáõÃÛ³Ý Ù³ñÙÝÇ ³ßË³ïáÕÇ, ùÝÝÇãÇ, ¹³ï³Ë³½Ç oå»ñ³ïÇí-Ñ»ï³Ëáõ½³Ï³Ý ·áñÍáÕáõÃÛáõÝÝ»ñ Çñ³Ï³Ý³óÝáÕ Ù³ñÙÇÝÝ»ñÇ ³ÝoñÇÝ³Ï³Ý ¨ ³ÝÑÇÙÝ áñáßáõÙÝ»ñÇ ¨ ·áñÍáÕáõÃÛáõÝÝ»ñÇ ¹»Ù µáÕáùÝ»ñ | T16: =D16+E16 -> 0 | U16: =F16+K16+L16 -> 0 | V16: =K16 -> 0 | W16: =G16+H16+I16+J16 -> 0
A17: 11 | B17: ²½³ïáõÃÛáõÝÇó ½ñÏ»Éáõ Çñ³í³ã³÷áõÃÛ³Ý í»ñ³µ»ñÛ³É µáÕáùÝ»ñáí ·áñÍ»ñ | T17: =D17+E17 -> 0 | U17: =F17+K17+L17 -> 0 | V17: =K17 -> 0 | W17: =G17+H17+I17+J17 -> 0
A18: 2. ¸³ï³Ï³Ý ³Ïï»ñÇ ¨ ¹³ï³Ï³Ý Ñ³ÝÓÝ³ñ³ñáõÃÛáõÝÝ»ñÇ Ï³ï³ñÙ³Ý Ñ»ï Ï³åí³Í Ñ³ñó»ñÇ ÉáõÍÙ³Ý áÉáñï
A19: 1 | B19: å³ïÅÇó å³ÛÙ³Ý³Ï³Ý í³Õ³Å³ÙÏ»ï ³½³ï»Éáõ Ù³ëÇÝ ÙÇçÝáñ¹áõÃÛáõÝÝ»ñ | T19: =D19+E19 -> 0 | U19: =F19+K19+L19 -> 0 | V19: =K19 -> 0 | W19: =G19+H19+I19+J19 -> 0
A20: 2 | B20: å³ïÇÅÁ ÷á÷áË»Éáõ, Ñ»ï³Ó·»Éáõ ¨ å³ïÅÇó ³½³ï»Éáõ Ù³uÇÝ ÙÇçÝáñ¹áõÃÛáõÝÝ»ñ | T20: =D20+E20 -> 0 | U20: =F20+K20+L20 -> 0 | V20: =K20 -> 0 | W20: =G20+H20+I20+J20 -> 0
A21: 3 | B21: Ñ³ñÏ³¹Çñ µáõÅÙ³Ý ï»ë³ÏÇ ÷á÷áËáõÃÛ³Ý Ù³ëÇÝ ÙÇçÝáñ¹áõÃÛáõÝÝ»ñ | T21: =D21+E21 -> 0 | U21: =F21+K21+L21 -> 0 | V21: =K21 -> 0 | W21: =G21+H21+I21+J21 -> 0
A22: 4 | B22: ³ÛÉ ÙÇçÝáñ¹áõÃÛáõÝÝ»ñ | T22: =D22+E22 -> 0 | U22: =F22+K22+L22 -> 0 | V22: =K22 -> 0 | W22: =G22+H22+I22+J22 -> 0
A23: 5 | B23: ¹³ï³Ï³Ý Ñ³ÝÓÝ³ñ³ñáõÃÛáõÝÝ»ñ | D23: 1 | T23: =D23+E23 -> 1 | U23: =F23+K23+L23 -> 0 | V23: =K23 -> 0 | W23: =G23+H23+I23+J23 -> 0
A24: ÀÜ¸²ØºÜÀ | D24: =D7+D8+D9+D10+D11+D12+D13+D14+D15+D17+D19+D20+D21+D22+D23+D16 -> 1 | E24: =E7+E8+E9+E10+E11+E12+E13+E14+E15+E17+E19+E20+E21+E22+E23+E16 -> 0 | F24: =F7+F8+F9+F10+F11+F12+F13+F14+F15+F17+F19+F20+F21+F22+F23+F16 -> 0 | G24: =G7+G8+G9+G10+G11+G12+G13+G14+G15+G17+G19+G20+G21+G22+G23+G16 -> 0 | H24: =H7+H8+H9+H10+H11+H12+H13+H14+H15+H17+H19+H20+H21+H22+H23+H16 -> 0 | I24: =I7+I8+I9+I10+I11+I12+I13+I14+I15+I17+I19+I20+I21+I22+I23+I16 -> 0 | J24: =J7+J8+J9+J10+J11+J12+J13+J14+J15+J17+J19+J20+J21+J22+J23+J16 -> 0 | K24: =K7+K8+K9+K10+K11+K12+K13+K14+K15+K17+K19+K20+K21+K22+K23+K16 -> 0 | ... R24: =R7+R8+R9+R10+R11+R12+R13+R14+R15+R17+R19+R20+R21+R22+R23+R16 -> 0 | T24: =D24+E24 -> 1 | U24: =F24+K24+L24 -> 0 | V24: =K24 -> 0 | W24: =G24+H24+I24+J24 -> 0
C28: 1 դատական հանձնարարությամբ որոշում չի կայացվել

Sheet Հ. Միքայելյան
A1: 2016Ã. | D1: Ð²ÞìºîìàôÂÚàôÜ | P1: Ð³í»Éí³Í Ð³Û³ëï³ÝÇ Ð³Ýñ³å»ïáõÃÛ³Ý ¸³ï³ñ³ÝÝ»ñÇ Ý³Ë³·³ÑÝ»ñÇ ËáñÑñ¹Ç 25.08.2016Ã. ÃÇí 44-È áñáßÙ³Ý
A2: ØÇÝã¹³ï³Ï³Ý í³ñáõÛÃÇ ÝÏ³ïÙ³Ùµ ¹³ï³Ï³Ý í»ñ³ÑëÏáÕáõÃÛ³ÝÁ, ¹³ï³Ï³Ý ³Ïï»ñÇ ¨ ¹³ï³Ï³Ý Ñ³ÝÓÝ³ñ³ñáõÃÛáõÝÝ»ñÇ Ï³ï³ñÙ³Ý Ñ»ï Ï³åí³Í ÙÇçÝáñ¹áõÃÛáõÝÝ»ñÇ í»ñ³µ»ñÛ³É ¹³ï³Ï³Ý ·áñÍ»ñáí ÐÐ ÞÇñ³ÏÇ Ù³ñ½Ç ÁÝ¹Ñ³Ýáõñ Çñ³í³ëáõÃÛ³Ý ³é³çÇÝ ³ïÛ³ÝÇ ¹³ï³ñ³ÝÇ ¹³ï³íáñ Հ.Միքայելյանի- ·áñÍáõÝ»áõÃÛ³Ý í»ñ³µ»ñÛ³É
A3: êïáõ·Çã Ñ³í³ë³ñáõÙ` 1+2=3+8+9, 8=4+5+6+7, | D3: Ð³ßí»ïáõ Å³Ù³Ý³Ï³Ñ³ïí³ÍÇ ëÏ½µáõÙ Ý³Ëáñ¹ Ñ³ßí»ïáõ Å³Ù³Ý³Ï³Ñ³ïí³ÍÇó ÷áË³Ýóí³Í ·áñÍ»ñÇ ÁÝ¹Ñ³Ýáõñ ÃÇíÁ | E3: Ð³ßí»ïáõ Å³Ù³Ý³Ï³Ñ³ïí³ÍáõÙ ëï³óí³Í ·áñÍ»ñÇ ÁÝ¹Ñ³Ýáõñ ÃÇíÁ | F3: öáË³Ýóí»É ¿ ³ÛÉ ¹³ï³íáñÇ Ï³Ù ³ÛÉ ¹³ï³ñ³Ý (Ï³½ÙÇ ÷á÷áËáõÃÛáõÝ, ÁÝ¹¹³ïáõÃÛáõÝ) | G3: Ð³ßí»ïáõ Å³Ù³Ý³Ï³Ñ³ïí³ÍáõÙ ³í³ñïí³Í ·áñÍ»ñÇ ÁÝ¹Ñ³Ýáõñ ÃÇíÁ | L3: Ð³ßí»ïáõ Å³Ù³Ý³Ï³Ñ³ïí³ÍáõÙ ³Ý³í³ñï ·áñÍ»ñÇ ÁÝ¹Ñ³Ýáõñ ÃÇíÁ | M3: ØÇçÝáñ¹áõÃÛáõÝÝ»ñáí Ï³Û³óí³Í ¹³ï³Ï³Ý ³Ïï»ñÇó µáÕáù³ñÏí³ÍÝ»ñÇ ù³Ý³ÏÁ | O3: ²Ý³í³ñï µáÕáùÝ»ñ | P3: ØÇçÝáñ¹áõÃÛáõÝÝ»ñáí Ï³Û³óí³Í ¨ µáÕáù³ñÏí³Í ¹³ï³Ï³Ý ³Ïï»ñÇó µ»Ï³Ýí³ÍÝ»ñÇ ù³Ý³ÏÁ | R3: ÙÇçÝáñ¹áõÃÛáõÝÝ»ñáí Ï³Û³óí³Í ¨ µáÕáù³ñÏí³Í ¹³ï³Ï³Ý ³Ïï»ñÇó ³Ý÷á÷áË ÃáÕÝí³ÍÝ»ñÇ ù³Ý³ÏÁ
G4: Ù»ñÅí»É ¿ | H4: µ³í³ñ³ñí»É ¿ | I4: µ³í³ñ³ñí»É ¿ Ù³ëÝ³ÏÇ | J4: ÃáÕÝí»É ¿ ³é³Ýó ùÝÝáõÃÛ³Ý | K4: ÀÝ¹³Ù»ÝÁ
M5: Ý³Ëáñ¹ ï³ñÇÝ»ñÇÝ Ï³Û³óí³Í ³Ïï»ñÇ ¹»Ù | N5: Ñ³ßí»ïáõ Å³Ù³Ý³Ï³ßñç³ÝáõÙ Ï³Û³óí³Í ³Ïï»ñÇ ¹»Ù | P5: Ý³Ëáñ¹ ï³ñÇÝ»ñÇÝ Ï³Û³óí³Í ³Ïï»ñÇ µ»Ï³ÝáõÙÝ»ñÁ | Q5: Ñ³ßí»ïáõ Å³Ù³Ý³Ï³ßñç³ÝáõÙ Ï³Û³óí³Í ³Ïï»ñÇ µ»Ï³ÝáõÙÝ»ñÁ
A6: 1. ØÇÝã¹³ï³Ï³Ý í³ñáõÛÃÇ ÝÏ³ïÙ³Ùµ ¹³ï³Ï³Ý í»ñ³ÑëÏáÕáõÃÛ³Ý áÉáñï | D6: 1 | E6: 2 | F6: 3 | G6: 4 | H6: 5 | I6: 6 | J6: 7 | K6: 8 | L6: 9 | M6: 10 | N6: 11 | O6: 12 | P6: 13 | Q6: 14 | R6: 15 | T6: 1+2=3+8+9 | V6: 8=4+5+6+7
A7: 1 | B7: Ï³É³ÝùÁ áñå»ë Ë³÷³ÝÙ³Ý ÙÇçáó ÏÇñ³é»Éáõ Ù³ëÇÝ ÙÇçÝáñ¹áõÃÛáõÝÝ»ñ | T7: =D7+E7 -> 0 | U7: =F7+K7+L7 -> 0 | V7: =K7 -> 0 | W7: =G7+H7+I7+J7 -> 0
A8: 2 | B8: Ï³É³ÝùÇ Å³ÙÏ»ïÁ »ñÏ³ñ³óÝ»Éáõ Ù³ëÇÝ ÙÇçÝáñ¹áõÃÛáõÝÝ»ñ | T8: =D8+E8 -> 0 | U8: =F8+K8+L8 -> 0 | V8: =K8 -> 0 | W8: =G8+H8+I8+J8 -> 0
A9: 3 | B9: Ï³É³ÝùÇ í»ñ³Ñ³ëï³ïÙ³Ý Ù³ëÇÝ ÙÇçÝáñ¹áõÃÛáõÝÝ»ñ | T9: =D9+E9 -> 0 | U9: =F9+K9+L9 -> 0 | V9: =K9 -> 0 | W9: =G9+H9+I9+J9 -> 0
A10: 4 | B10: ·ñ³íÁ áñå»ë Ï³É³Ý³íáñÙ³Ý ³ÛÉÁÝïñ³Ýù³ÛÇÝ Ë³÷³ÝÙ³Ý ÙÇçáó ÏÇñ³é»Éáõ Ù³ëÇÝ ÙÇçÝáñ¹áõÃÛáõÝÝ»ñ | T10: =D10+E10 -> 0 | U10: =F10+K10+L10 -> 0 | V10: =K10 -> 0 | W10: =G10+H10+I10+J10 -> 0
A11: 5 | B11: Ëáõ½³ñÏáõÃÛ³Ý Ï³ï³ñÙ³Ý Ù³ëÇÝ ÙÇçÝáñ¹áõÃÛáõÝÝ»ñ | T11: =D11+E11 -> 0 | U11: =F11+K11+L11 -> 0 | V11: =K11 -> 0 | W11: =G11+H11+I11+J11 -> 0
A12: 6 | B12: µ³ÝÏ³ÛÇÝ, ³å³Ñáí³·ñ³Ï³Ý, Ýáï³ñ³Ï³Ý ·³ÕïÝÇù Ï³½ÙáÕ ï»Õ»ÏáõÃÛáõÝÝ»ñÇ ëï³óÙ³Ý Ñ³Ù³ñ Ëáõ½³ñÏáõÃÛ³Ý Ï³Ù ³é·ñ³íÙ³Ý Ï³ï³ñÙ³Ý Ù³ëÇÝ ÙÇçÝáñ¹áõÃÛáõÝÝ»ñ | T12: =D12+E12 -> 0 | U12: =F12+K12+L12 -> 0 | V12: =K12 -> 0 | W12: =G12+H12+I12+J12 -> 0
A13: 7 | B13: Ý³Ù³Ï³·ñáõÃÛ³Ý, Ñ»é³·ñ³Ï³Ý, ÷áuï³ÛÇÝ Ñ³Õáñ¹áõÙÝ»ñÇ ÑëÏáÕáõÃÛ³Ý Ù³ëÇÝ ÙÇçÝáñ¹áõÃÛáõÝÝ»ñ | T13: =D13+E13 -> 0 | U13: =F13+K13+L13 -> 0 | V13: =K13 -> 0 | W13: =G13+H13+I13+J13 -> 0
A14: 8 | B14: Ñ»é³Ëáu³ÛÇÝ Ï³Ù Ï³åÇ ³ÛÉ ÙÇçáóÝ»ñáí ï³ñíáÕ Ëáu³ÏóáõÃÛáõÝÝ»ñÇ ÉuÙ³Ý ¨ Ó³ÛÝ³·ñ³éÙ³Ý Ù³ëÇÝ ÙÇçÝáñ¹áõÃÛáõÝÝ»ñ | T14: =D14+E14 -> 0 | U14: =F14+K14+L14 -> 0 | V14: =K14 -> 0 | W14: =G14+H14+I14+J14 -> 0
A15: 9 | B15: Ñ»é³ËáëÝ»ñÇ Ùáõïù³ÛÇÝ ¨ »Éù³ÛÇÝ í»ñÍ³ÝÙ³Ý ÃáõÛÉïíáõÃÛáõÝ ëï³Ý³Éáõ Ù³ëÇÝ ÙÇçÝáñ¹áõÃÛáõÝÝ»ñ | T15: =D15+E15 -> 0 | U15: =F15+K15+L15 -> 0 | V15: =K15 -> 0 | W15: =G15+H15+I15+J15 -> 0
A16: 10 | B16: Ñ»ï³ùÝÝáõÃÛ³Ý Ù³ñÙÝÇ ³ßË³ïáÕÇ, ùÝÝÇãÇ, ¹³ï³Ë³½Ç oå»ñ³ïÇí-Ñ»ï³Ëáõ½³Ï³Ý ·áñÍáÕáõÃÛáõÝÝ»ñ Çñ³Ï³Ý³óÝáÕ Ù³ñÙÇÝÝ»ñÇ ³ÝoñÇÝ³Ï³Ý ¨ ³ÝÑÇÙÝ áñáßáõÙÝ»ñÇ ¨ ·áñÍáÕáõÃÛáõÝÝ»ñÇ ¹»Ù µáÕáùÝ»ñ | T16: =D16+E16 -> 0 | U16: =F16+K16+L16 -> 0 | V16: =K16 -> 0 | W16: =G16+H16+I16+J16 -> 0
A17: 11 | B17: ²½³ïáõÃÛáõÝÇó ½ñÏ»Éáõ Çñ³í³ã³÷áõÃÛ³Ý í»ñ³µ»ñÛ³É µáÕáùÝ»ñáí ·áñÍ»ñ | T17: =D17+E17 -> 0 | U17: =F17+K17+L17 -> 0 | V17: =K17 -> 0 | W17: =G17+H17+I17+J17 -> 0
A18: 2. ¸³ï³Ï³Ý ³Ïï»ñÇ ¨ ¹³ï³Ï³Ý Ñ³ÝÓÝ³ñ³ñáõÃÛáõÝÝ»ñÇ Ï³ï³ñÙ³Ý Ñ»ï Ï³åí³Í Ñ³ñó»ñÇ ÉáõÍÙ³Ý áÉáñï
A19: 1 | B19: å³ïÅÇó å³ÛÙ³Ý³Ï³Ý í³Õ³Å³ÙÏ»ï ³½³ï»Éáõ Ù³ëÇÝ ÙÇçÝáñ¹áõÃÛáõÝÝ»ñ | T19: =D19+E19 -> 0 | U19: =F19+K19+L19 -> 0 | V19: =K19 -> 0 | W19: =G19+H19+I19+J19 -> 0
A20: 2 | B20: å³ïÇÅÁ ÷á÷áË»Éáõ, Ñ»ï³Ó·»Éáõ ¨ å³ïÅÇó ³½³ï»Éáõ Ù³uÇÝ ÙÇçÝáñ¹áõÃÛáõÝÝ»ñ | T20: =D20+E20 -> 0 | U20: =F20+K20+L20 -> 0 | V20: =K20 -> 0 | W20: =G20+H20+I20+J20 -> 0
A21: 3 | B21: Ñ³ñÏ³¹Çñ µáõÅÙ³Ý ï»ë³ÏÇ ÷á÷áËáõÃÛ³Ý Ù³ëÇÝ ÙÇçÝáñ¹áõÃÛáõÝÝ»ñ | T21: =D21+E21 -> 0 | U21: =F21+K21+L21 -> 0 | V21: =K21 -> 0 | W21: =G21+H21+I21+J21 -> 0
A22: 4 | B22: ³ÛÉ ÙÇçÝáñ¹áõÃÛáõÝÝ»ñ | T22: =D22+E22 -> 0 | U22: =F22+K22+L22 -> 0 | V22: =K22 -> 0 | W22: =G22+H22+I22+J22 -> 0
A23: 5 | B23: ¹³ï³Ï³Ý Ñ³ÝÓÝ³ñ³ñáõÃÛáõÝÝ»ñ | T23: =D23+E23 -> 0 | U23: =F23+K23+L23 -> 0 | V23: =K23 -> 0 | W23: =G23+H23+I23+J23 -> 0
A24: ÀÜ¸²ØºÜÀ | D24: =D7+D8+D9+D10+D11+D12+D13+D14+D15+D17+D19+D20+D21+D22+D23+D16 -> 0 | E24: =E7+E8+E9+E10+E11+E12+E13+E14+E15+E17+E19+E20+E21+E22+E23+E16 -> 0 | F24: =F7+F8+F9+F10+F11+F12+F13+F14+F15+F17+F19+F20+F21+F22+F23+F16 -> 0 | G24: =G7+G8+G9+G10+G11+G12+G13+G14+G15+G17+G19+G20+G21+G22+G23+G16 -> 0 | H24: =H7+H8+H9+H10+H11+H12+H13+H14+H15+H17+H19+H20+H21+H22+H23+H16 -> 0 | I24: =I7+I8+I9+I10+I11+I12+I13+I14+I15+I17+I19+I20+I21+I22+I23+I16 -> 0 | J24: =J7+J8+J9+J10+J11+J12+J13+J14+J15+J17+J19+J20+J21+J22+J23+J16 -> 0 | K24: =K7+K8+K9+K10+K11+K12+K13+K14+K15+K17+K19+K20+K21+K22+K23+K16 -> 0 | ... R24: =R7+R8+R9+R10+R11+R12+R13+R14+R15+R17+R19+R20+R21+R22+R23+R16 -> 0 | T24: =D24+E24 -> 0 | U24: =F24+K24+L24 -> 0 | V24: =K24 -> 0 | W24: =G24+H24+I24+J24 -> 0
