Workbook

Sheet Ընդհանուր
A1: 2017թ. | D1: ՀԱՇՎԵՏՎՈՒԹՅՈՒՆ | N1: Հավելված Հայաստանի Հանրապետության Դատարանների նախագահների խորհրդի 29.01.2018թ. թիվ 10-Լ որոշման
A2: ՀՀ ԸՆԴՀԱՆՈՒՐ ԻՐԱՎԱՍՈՒԹՅԱՆ ԱՌԱՋԻՆ ԱՏՅԱՆԻ ԴԱՏԱՐԱՆՆԵՐՈՒՄ ՔՐԵԱԿԱՆ ԳՈՐԾԵՐԻ ՔՆՆՈՒԹՅԱՆ ՎԵՐԱԲԵՐՅԱԼ
C4: ՀՀ քրեական օրենսգրքի հոդվածներ | D4: Հաշվետու ժամանակահատվածի սկզբում նախորդ հաշվետու ժամանակահատվածից փոխանցված գործերի ընդհանուր թիվը | E4: Այդ թվում` կասեցված վիճակում փոխանցված | F4: Հաշվետու ժամանակահատվածում ստացված գործերի ընդհանուր թիվը | G4: Հաշվետու ժամանակահատվածում ավարտված գործերի ընդհանուր թիվը | K4: Ուղարկվել է ըստ ընդդատության | L4: Հաշվետու ժամանակահատվածում կասեցված վարույթներով գործերի ընդհանուր թիվը | M4: Հաշվետու ժամանակահատվածում անավարտ գործերի ընդհանուր թիվը | N4: Այդ թվում՝ կասեցված | O4: Բողոքարկված դատական ակտերի թիվը` ըստ տեսակների | R4: Բեկանված դատական ակտերի թիվը` ըստ տեսակների
G5: Քննվել է ըստ էության և դատավճիռ կայացվել | H5: Որոշում է կայացվել քրեական գործի վարույթը կարճելու և քրեական հետապնդումը դադարեցնելու մասին | I5: Որոշում է կայացվել անմեղսունակների նկատմամբ բժշկական բնույթի հարկադրական միջոցներ կիրառելու մասին | J5: Ընդամենը ավարտվել են գործեր | O5: Այդ թվում` գործն ըստ էության լուծող դատական ակտերը | P5: Այդ թվում` միջանկյալ դատական ակտերը | Q5: Ընդամենը | R5: Այդ թվում` գործն ըստ էության լուծող դատական ակտերը | S5: Այդ թվում` միջանկյալ դատական ակտերը | T5: Ընդամենը
D6: 1 | E6: 2 | F6: 3 | G6: 4 | H6: 5 | I6: 6 | J6: 7 | K6: 8 | L6: 9 | M6: 10 | N6: 11 | O6: 12 | P6: 13 | Q6: 14 | R6: 15 | S6: 16 | T6: 17
A7: 1. | B7: Ընդամենը կյանքի և առողջության դեմ ուղղված հանցագործությունները | D7: =SUM(Աջափնյակ:Սյունիք!D7) -> 291 | E7: =SUM(Աջափնյակ:Սյունիք!E7) -> 7 | F7: =SUM(Աջափնյակ:Սյունիք!F7) -> 447 | G7: =SUM(Աջափնյակ:Սյունիք!G7) -> 290 | H7: =SUM(Աջափնյակ:Սյունիք!H7) -> 91 | I7: =SUM(Աջափնյակ:Սյունիք!I7) -> 20 | J7: =SUM(Աջափնյակ:Սյունիք!J7) -> 401 | K7: =SUM(Աջափնյակ:Սյունիք!K7) -> 1 | ... T7: =SUM(Աջափնյակ:Սյունիք!T7) -> 14
A8: 1.1 | B8: Սպանությունը | C8: 104 | D8: =SUM(Աջափնյակ:Սյունիք!D8) -> 93 | E8: =SUM(Աջափնյակ:Սյունիք!E8) -> 1 | F8: =SUM(Աջափնյակ:Սյունիք!F8) -> 67 | G8: =SUM(Աջափնյակ:Սյունիք!G8) -> 51 | H8: =SUM(Աջափնյակ:Սյունիք!H8) -> 0 | I8: =SUM(Աջափնյակ:Սյունիք!I8) -> 10 | J8: =SUM(Աջափնյակ:Սյունիք!J8) -> 61 | K8: =SUM(Աջափնյակ:Սյունիք!K8) -> 1 | ... T8: =SUM(Աջափնյակ:Սյունիք!T8) -> 4
A9: 1.2 | B9: Հոգեկան խիստ հուզմունքի վիճակում կատարված սպանությունը | C9: 105 | D9: =SUM(Աջափնյակ:Սյունիք!D9) -> 1 | E9: =SUM(Աջափնյակ:Սյունիք!E9) -> 0 | F9: =SUM(Աջափնյակ:Սյունիք!F9) -> 0 | G9: =SUM(Աջափնյակ:Սյունիք!G9) -> 0 | H9: =SUM(Աջափնյակ:Սյունիք!H9) -> 0 | I9: =SUM(Աջափնյակ:Սյունիք!I9) -> 0 | J9: =SUM(Աջափնյակ:Սյունիք!J9) -> 0 | K9: =SUM(Աջափնյակ:Սյունիք!K9) -> 0 | ... T9: =SUM(Աջափնյակ:Սյունիք!T9) -> 0
A10: 1.3 | B10: Մոր կողմից նորածին երեխայի սպանությունը | C10: 106 | D10: =SUM(Աջափնյակ:Սյունիք!D10) -> 0 | E10: =SUM(Աջափնյակ:Սյունիք!E10) -> 0 | F10: =SUM(Աջափնյակ:Սյունիք!F10) -> 1 | G10: =SUM(Աջափնյակ:Սյունիք!G10) -> 1 | H10: =SUM(Աջափնյակ:Սյունիք!H10) -> 0 | I10: =SUM(Աջափնյակ:Սյունիք!I10) -> 0 | J10: =SUM(Աջափնյակ:Սյունիք!J10) -> 1 | K10: =SUM(Աջափնյակ:Սյունիք!K10) -> 0 | ... T10: =SUM(Աջափնյակ:Սյունիք!T10) -> 0
A11: 1.4 | B11: Հանցանք կատարած անձին բռնելու համար անհրաժեշտ միջոցների սահմանազանցմամբ սպանությունը | C11: 107 | D11: =SUM(Աջափնյակ:Սյունիք!D11) -> 0 | E11: =SUM(Աջափնյակ:Սյունիք!E11) -> 0 | F11: =SUM(Աջափնյակ:Սյունիք!F11) -> 0 | G11: =SUM(Աջափնյակ:Սյունիք!G11) -> 0 | H11: =SUM(Աջափնյակ:Սյունիք!H11) -> 0 | I11: =SUM(Աջափնյակ:Սյունիք!I11) -> 0 | J11: =SUM(Աջափնյակ:Սյունիք!J11) -> 0 | K11: =SUM(Աջափնյակ:Սյունիք!K11) -> 0 | ... T11: =SUM(Աջափնյակ:Սյունիք!T11) -> 0
A12: 1.5 | B12: Անհրաժեշտ պաշտպանության սահմանազանցմամբ սպանությունը | C12: 108 | D12: =SUM(Աջափնյակ:Սյունիք!D12) -> 0 | E12: =SUM(Աջափնյակ:Սյունիք!E12) -> 0 | F12: =SUM(Աջափնյակ:Սյունիք!F12) -> 0 | G12: =SUM(Աջափնյակ:Սյունիք!G12) -> 0 | H12: =SUM(Աջափնյակ:Սյունիք!H12) -> 0 | I12: =SUM(Աջափնյակ:Սյունիք!I12) -> 0 | J12: =SUM(Աջափնյակ:Սյունիք!J12) -> 0 | K12: =SUM(Աջափնյակ:Սյունիք!K12) -> 0 | ... T12: =SUM(Աջափնյակ:Սյունիք!T12) -> 0
A13: 1.6 | B13: Անզգուշությամբ մահ պատճառելը | C13: 109 | D13: =SUM(Աջափնյակ:Սյունիք!D13) -> 3 | E13: =SUM(Աջափնյակ:Սյունիք!E13) -> 0 | F13: =SUM(Աջափնյակ:Սյունիք!F13) -> 5 | G13: =SUM(Աջափնյակ:Սյունիք!G13) -> 4 | H13: =SUM(Աջափնյակ:Սյունիք!H13) -> 1 | I13: =SUM(Աջափնյակ:Սյունիք!I13) -> 1 | J13: =SUM(Աջափնյակ:Սյունիք!J13) -> 6 | K13: =SUM(Աջափնյակ:Սյունիք!K13) -> 0 | ... T13: =SUM(Աջափնյակ:Սյունիք!T13) -> 0
A14: 1.7 | B14: Ինքնասպանության հասցնելը | C14: 110 | D14: =SUM(Աջափնյակ:Սյունիք!D14) -> 1 | E14: =SUM(Աջափնյակ:Սյունիք!E14) -> 0 | F14: =SUM(Աջափնյակ:Սյունիք!F14) -> 1 | G14: =SUM(Աջափնյակ:Սյունիք!G14) -> 1 | H14: =SUM(Աջափնյակ:Սյունիք!H14) -> 0 | I14: =SUM(Աջափնյակ:Սյունիք!I14) -> 0 | J14: =SUM(Աջափնյակ:Սյունիք!J14) -> 1 | K14: =SUM(Աջափնյակ:Սյունիք!K14) -> 0 | ... T14: =SUM(Աջափնյակ:Սյունիք!T14) -> 1
A15: 1.8 | B15: Ինքնասպանության հակելը | C15: 111 | D15: =SUM(Աջափնյակ:Սյունիք!D15) -> 0 | E15: =SUM(Աջափնյակ:Սյունիք!E15) -> 0 | F15: =SUM(Աջափնյակ:Սյունիք!F15) -> 0 | G15: =SUM(Աջափնյակ:Սյունիք!G15) -> 0 | H15: =SUM(Աջափնյակ:Սյունիք!H15) -> 0 | I15: =SUM(Աջափնյակ:Սյունիք!I15) -> 0 | J15: =SUM(Աջափնյակ:Սյունիք!J15) -> 0 | K15: =SUM(Աջափնյակ:Սյունիք!K15) -> 0 | ... T15: =SUM(Աջափնյակ:Սյունիք!T15) -> 0
A16: 1.9 | B16: Դիտավորությամբ առողջությանը ծանր վնաս պատճառելը | C16: 112 | D16: =SUM(Աջափնյակ:Սյունիք!D16) -> 83 | E16: =SUM(Աջափնյակ:Սյունիք!E16) -> 1 | F16: =SUM(Աջափնյակ:Սյունիք!F16) -> 130 | G16: =SUM(Աջափնյակ:Սյունիք!G16) -> 108 | H16: =SUM(Աջափնյակ:Սյունիք!H16) -> 2 | I16: =SUM(Աջափնյակ:Սյունիք!I16) -> 3 | J16: =SUM(Աջափնյակ:Սյունիք!J16) -> 113 | K16: =SUM(Աջափնյակ:Սյունիք!K16) -> 0 | ... T16: =SUM(Աջափնյակ:Սյունիք!T16) -> 7
A17: 1.10 | B17: Դիտավորությամբ առողջությանը միջին ծանրության վնաս պատճառելը | C17: 113 | D17: =SUM(Աջափնյակ:Սյունիք!D17) -> 20 | E17: =SUM(Աջափնյակ:Սյունիք!E17) -> 0 | F17: =SUM(Աջափնյակ:Սյունիք!F17) -> 39 | G17: =SUM(Աջափնյակ:Սյունիք!G17) -> 23 | H17: =SUM(Աջափնյակ:Սյունիք!H17) -> 11 | I17: =SUM(Աջափնյակ:Սյունիք!I17) -> 2 | J17: =SUM(Աջափնյակ:Սյունիք!J17) -> 36 | K17: =SUM(Աջափնյակ:Սյունիք!K17) -> 0 | ... T17: =SUM(Աջափնյակ:Սյունիք!T17) -> 0
A18: 1.11 | B18: Հոգեկան խիստ հուզմունքի վիճակում առողջությանը ծանր կամ միջին ծանրության վնաս պատճառելը | C18: 114 | D18: =SUM(Աջափնյակ:Սյունիք!D18) -> 1 | E18: =SUM(Աջափնյակ:Սյունիք!E18) -> 1 | F18: =SUM(Աջափնյակ:Սյունիք!F18) -> 2 | G18: =SUM(Աջափնյակ:Սյունիք!G18) -> 2 | H18: =SUM(Աջափնյակ:Սյունիք!H18) -> 1 | I18: =SUM(Աջափնյակ:Սյունիք!I18) -> 0 | J18: =SUM(Աջափնյակ:Սյունիք!J18) -> 3 | K18: =SUM(Աջափնյակ:Սյունիք!K18) -> 0 | ... T18: =SUM(Աջափնյակ:Սյունիք!T18) -> 0
A19: 1.12 | B19: Հանցանք կատարած անձին բռնելու համար անհրաժեշտ միջոցների սահմանզանցմամբ առողջությանը ծանր կամ միջին ծանրության վնաս պատճառելը | C19: 115 | D19: =SUM(Աջափնյակ:Սյունիք!D19) -> 0 | E19: =SUM(Աջափնյակ:Սյունիք!E19) -> 0 | F19: =SUM(Աջափնյակ:Սյունիք!F19) -> 0 | G19: =SUM(Աջափնյակ:Սյունիք!G19) -> 0 | H19: =SUM(Աջափնյակ:Սյունիք!H19) -> 0 | I19: =SUM(Աջափնյակ:Սյունիք!I19) -> 0 | J19: =SUM(Աջափնյակ:Սյունիք!J19) -> 0 | K19: =SUM(Աջափնյակ:Սյունիք!K19) -> 0 | ... T19: =SUM(Աջափնյակ:Սյունիք!T19) -> 0
... A33: 1.27 | B33: Բժշկական օգնություն և սպասարկում իրականացնողների կողմից մասնագիտական պարտականությունները չկատարելը կամ ոչ պատշաճ կատարելը | C33: 130 | D33: =SUM(Աջափնյակ:Սյունիք!D33) -> 6 | E33: =SUM(Աջափնյակ:Սյունիք!E33) -> 0 | F33: =SUM(Աջափնյակ:Սյունիք!F33) -> 7 | G33: =SUM(Աջափնյակ:Սյունիք!G33) -> 1 | H33: =SUM(Աջափնյակ:Սյունիք!H33) -> 0 | I33: =SUM(Աջափնյակ:Սյունիք!I33) -> 0 | J33: =SUM(Աջափնյակ:Սյունիք!J33) -> 1 | K33: =SUM(Աջափնյակ:Սյունիք!K33) -> 0 | ... T33: =SUM(Աջափնյակ:Սյունիք!T33) -> 0
A34: 1.28 | B34: Այլ հանցագործություններ | D34: =SUM(Աջափնյակ:Սյունիք!D34) -> 1 | E34: =SUM(Աջափնյակ:Սյունիք!E34) -> 1 | F34: =SUM(Աջափնյակ:Սյունիք!F34) -> 0 | G34: =SUM(Աջափնյակ:Սյունիք!G34) -> 0 | H34: =SUM(Աջափնյակ:Սյունիք!H34) -> 0 | I34: =SUM(Աջափնյակ:Սյունիք!I34) -> 0 | J34: =SUM(Աջափնյակ:Սյունիք!J34) -> 0 | K34: =SUM(Աջափնյակ:Սյունիք!K34) -> 0 | ... T34: =SUM(Աջափնյակ:Սյունիք!T34) -> 0
A35: 2. | B35: Ընդամենը անձի ազատության, պատվի և արժանապատվության դեմ ուղղված հանցագործությունները | D35: =SUM(Աջափնյակ:Սյունիք!D35) -> 39 | E35: =SUM(Աջափնյակ:Սյունիք!E35) -> 0 | F35: =SUM(Աջափնյակ:Սյունիք!F35) -> 48 | G35: =SUM(Աջափնյակ:Սյունիք!G35) -> 46 | H35: =SUM(Աջափնյակ:Սյունիք!H35) -> 4 | I35: =SUM(Աջափնյակ:Սյունիք!I35) -> 7 | J35: =SUM(Աջափնյակ:Սյունիք!J35) -> 57 | K35: =SUM(Աջափնյակ:Սյունիք!K35) -> 0 | ... T35: =SUM(Աջափնյակ:Սյունիք!T35) -> 4
A36: 2.1 | B36: Մարդուն առևանգելը | C36: 131 | D36: =SUM(Աջափնյակ:Սյունիք!D36) -> 25 | E36: =SUM(Աջափնյակ:Սյունիք!E36) -> 0 | F36: =SUM(Աջափնյակ:Սյունիք!F36) -> 26 | G36: =SUM(Աջափնյակ:Սյունիք!G36) -> 35 | H36: =SUM(Աջափնյակ:Սյունիք!H36) -> 0 | I36: =SUM(Աջափնյակ:Սյունիք!I36) -> 0 | J36: =SUM(Աջափնյակ:Սյունիք!J36) -> 35 | K36: =SUM(Աջափնյակ:Սյունիք!K36) -> 0 | ... T36: =SUM(Աջափնյակ:Սյունիք!T36) -> 4
A37: 2.2 | B37: Մարդու թրաֆիքինգը կամ շահագործումը | C37: 132 | D37: =SUM(Աջափնյակ:Սյունիք!D37) -> 1 | E37: =SUM(Աջափնյակ:Սյունիք!E37) -> 0 | F37: =SUM(Աջափնյակ:Սյունիք!F37) -> 1 | G37: =SUM(Աջափնյակ:Սյունիք!G37) -> 1 | H37: =SUM(Աջափնյակ:Սյունիք!H37) -> 0 | I37: =SUM(Աջափնյակ:Սյունիք!I37) -> 0 | J37: =SUM(Աջափնյակ:Սյունիք!J37) -> 1 | K37: =SUM(Աջափնյակ:Սյունիք!K37) -> 0 | ... T37: =SUM(Աջափնյակ:Սյունիք!T37) -> 0
A38: 2.2.2 | B38: Երեխայի կամ հոգեկան խանգարման հետևանքով իր արարքի բնույթն ու նշանակությունը գիտակցելու կամ դա ղեկավարելու հնարավորությունից զրկված անձի թրաֆիքինգը կամ շահագործումը | C38: 132.2 | D38: =SUM(Աջափնյակ:Սյունիք!D38) -> 0 | E38: =SUM(Աջափնյակ:Սյունիք!E38) -> 0 | F38: =SUM(Աջափնյակ:Սյունիք!F38) -> 2 | G38: =SUM(Աջափնյակ:Սյունիք!G38) -> 0 | H38: =SUM(Աջափնյակ:Սյունիք!H38) -> 0 | I38: =SUM(Աջափնյակ:Սյունիք!I38) -> 0 | J38: =SUM(Աջափնյակ:Սյունիք!J38) -> 0 | K38: =SUM(Աջափնյակ:Սյունիք!K38) -> 0 | ... T38: =SUM(Աջափնյակ:Սյունիք!T38) -> 0
A39: 2.2.3 | B39: Շահագործման վիճակում գտնվող անձի ծառայությունից օգտվելը | C39: 132.3 | D39: =SUM(Աջափնյակ:Սյունիք!D39) -> 0 | E39: =SUM(Աջափնյակ:Սյունիք!E39) -> 0 | F39: =SUM(Աջափնյակ:Սյունիք!F39) -> 0 | G39: =SUM(Աջափնյակ:Սյունիք!G39) -> 0 | H39: =SUM(Աջափնյակ:Սյունիք!H39) -> 0 | I39: =SUM(Աջափնյակ:Սյունիք!I39) -> 0 | J39: =SUM(Աջափնյակ:Սյունիք!J39) -> 0 | K39: =SUM(Աջափնյակ:Սյունիք!K39) -> 0 | ... T39: =SUM(Աջափնյակ:Սյունիք!T39) -> 0
A40: 2.3 | B40: Ազատությունից ապօրինի զրկելը | C40: 133 | D40: =SUM(Աջափնյակ:Սյունիք!D40) -> 1 | E40: =SUM(Աջափնյակ:Սյունիք!E40) -> 0 | F40: =SUM(Աջափնյակ:Սյունիք!F40) -> 4 | G40: =SUM(Աջափնյակ:Սյունիք!G40) -> 1 | H40: =SUM(Աջափնյակ:Սյունիք!H40) -> 0 | I40: =SUM(Աջափնյակ:Սյունիք!I40) -> 1 | J40: =SUM(Աջափնյակ:Սյունիք!J40) -> 2 | K40: =SUM(Աջափնյակ:Սյունիք!K40) -> 0 | ... T40: =SUM(Աջափնյակ:Սյունիք!T40) -> 0
A41: 2.4 | B41: Հոգեբուժական հիվանդանոցում ապօրինի տեղավորելը կամ պահելը | C41: 134 | D41: =SUM(Աջափնյակ:Սյունիք!D41) -> 0 | E41: =SUM(Աջափնյակ:Սյունիք!E41) -> 0 | F41: =SUM(Աջափնյակ:Սյունիք!F41) -> 0 | G41: =SUM(Աջափնյակ:Սյունիք!G41) -> 0 | H41: =SUM(Աջափնյակ:Սյունիք!H41) -> 0 | I41: =SUM(Աջափնյակ:Սյունիք!I41) -> 0 | J41: =SUM(Աջափնյակ:Սյունիք!J41) -> 0 | K41: =SUM(Աջափնյակ:Սյունիք!K41) -> 0 | ... T41: =SUM(Աջափնյակ:Սյունիք!T41) -> 0
A42: 2.7 | B42: Սպանության, առողջությանը ծանր վնաս պատճառելու կամ գույք ոչնչացնելու սպառնալիքը | C42: 137 | D42: =SUM(Աջափնյակ:Սյունիք!D42) -> 12 | E42: =SUM(Աջափնյակ:Սյունիք!E42) -> 0 | F42: =SUM(Աջափնյակ:Սյունիք!F42) -> 15 | G42: =SUM(Աջափնյակ:Սյունիք!G42) -> 9 | H42: =SUM(Աջափնյակ:Սյունիք!H42) -> 4 | I42: =SUM(Աջափնյակ:Սյունիք!I42) -> 6 | J42: =SUM(Աջափնյակ:Սյունիք!J42) -> 19 | K42: =SUM(Աջափնյակ:Սյունիք!K42) -> 0 | ... T42: =SUM(Աջափնյակ:Սյունիք!T42) -> 0
A43: 2.8 | B43: Այլ հանցագործություններ | D43: =SUM(Աջափնյակ:Սյունիք!D43) -> 0 | E43: =SUM(Աջափնյակ:Սյունիք!E43) -> 0 | F43: =SUM(Աջափնյակ:Սյունիք!F43) -> 0 | G43: =SUM(Աջափնյակ:Սյունիք!G43) -> 0 | H43: =SUM(Աջափնյակ:Սյունիք!H43) -> 0 | I43: =SUM(Աջափնյակ:Սյունիք!I43) -> 0 | J43: =SUM(Աջափնյակ:Սյունիք!J43) -> 0 | K43: =SUM(Աջափնյակ:Սյունիք!K43) -> 0 | ... T43: =SUM(Աջափնյակ:Սյունիք!T43) -> 0
A44: 3. | B44: Ընդամենը սեռական անձեռնմխելիության և սեռական ազատության դեմ ուղղված հանցագործությունները | D44: =SUM(Աջափնյակ:Սյունիք!D44) -> 30 | E44: =SUM(Աջափնյակ:Սյունիք!E44) -> 2 | F44: =SUM(Աջափնյակ:Սյունիք!F44) -> 56 | G44: =SUM(Աջափնյակ:Սյունիք!G44) -> 52 | H44: =SUM(Աջափնյակ:Սյունիք!H44) -> 0 | I44: =SUM(Աջափնյակ:Սյունիք!I44) -> 2 | J44: =SUM(Աջափնյակ:Սյունիք!J44) -> 54 | K44: =SUM(Աջափնյակ:Սյունիք!K44) -> 0 | ... T44: =SUM(Աջափնյակ:Սյունիք!T44) -> 1
A45: 3.1 | B45: Բռնաբարությունը | C45: 138 | D45: =SUM(Աջափնյակ:Սյունիք!D45) -> 6 | E45: =SUM(Աջափնյակ:Սյունիք!E45) -> 0 | F45: =SUM(Աջափնյակ:Սյունիք!F45) -> 9 | G45: =SUM(Աջափնյակ:Սյունիք!G45) -> 7 | H45: =SUM(Աջափնյակ:Սյունիք!H45) -> 0 | I45: =SUM(Աջափնյակ:Սյունիք!I45) -> 1 | J45: =SUM(Աջափնյակ:Սյունիք!J45) -> 8 | K45: =SUM(Աջափնյակ:Սյունիք!K45) -> 0 | ... T45: =SUM(Աջափնյակ:Սյունիք!T45) -> 0
A46: 3.2 | B46: Սեքսուալ բնույթի բռնի գործողությունները | C46: 139 | D46: =SUM(Աջափնյակ:Սյունիք!D46) -> 10 | E46: =SUM(Աջափնյակ:Սյունիք!E46) -> 1 | F46: =SUM(Աջափնյակ:Սյունիք!F46) -> 7 | G46: =SUM(Աջափնյակ:Սյունիք!G46) -> 9 | H46: =SUM(Աջափնյակ:Սյունիք!H46) -> 0 | I46: =SUM(Աջափնյակ:Սյունիք!I46) -> 0 | J46: =SUM(Աջափնյակ:Սյունիք!J46) -> 9 | K46: =SUM(Աջափնյակ:Սյունիք!K46) -> 0 | ... T46: =SUM(Աջափնյակ:Սյունիք!T46) -> 0
A47: 3.3 | B47: Սեռական հարաբերության կամ սեքսուալ բնույթի գործողություններին հարկադրելը | C47: 140 | D47: =SUM(Աջափնյակ:Սյունիք!D47) -> 2 | E47: =SUM(Աջափնյակ:Սյունիք!E47) -> 0 | F47: =SUM(Աջափնյակ:Սյունիք!F47) -> 0 | G47: =SUM(Աջափնյակ:Սյունիք!G47) -> 1 | H47: =SUM(Աջափնյակ:Սյունիք!H47) -> 0 | I47: =SUM(Աջափնյակ:Սյունիք!I47) -> 0 | J47: =SUM(Աջափնյակ:Սյունիք!J47) -> 1 | K47: =SUM(Աջափնյակ:Սյունիք!K47) -> 0 | ... T47: =SUM(Աջափնյակ:Սյունիք!T47) -> 0
A48: 3.4 | B48: Սեռական հարաբերությունը տասնվեց տարին չլրացած անձի հետ կամ սեքսուալ բնույթի գործողություններ կատարելը տասնվեց տարին չլրացած անձի նկատմամբ | C48: 141 | D48: =SUM(Աջափնյակ:Սյունիք!D48) -> 7 | E48: =SUM(Աջափնյակ:Սյունիք!E48) -> 1 | F48: =SUM(Աջափնյակ:Սյունիք!F48) -> 36 | G48: =SUM(Աջափնյակ:Սյունիք!G48) -> 30 | H48: =SUM(Աջափնյակ:Սյունիք!H48) -> 0 | I48: =SUM(Աջափնյակ:Սյունիք!I48) -> 0 | J48: =SUM(Աջափնյակ:Սյունիք!J48) -> 30 | K48: =SUM(Աջափնյակ:Սյունիք!K48) -> 0 | ... T48: =SUM(Աջափնյակ:Սյունիք!T48) -> 1
A49: 3.5 | B49: Անառակաբարո գործողությունները | C49: 142 | D49: =SUM(Աջափնյակ:Սյունիք!D49) -> 5 | E49: =SUM(Աջափնյակ:Սյունիք!E49) -> 0 | F49: =SUM(Աջափնյակ:Սյունիք!F49) -> 4 | G49: =SUM(Աջափնյակ:Սյունիք!G49) -> 5 | H49: =SUM(Աջափնյակ:Սյունիք!H49) -> 0 | I49: =SUM(Աջափնյակ:Սյունիք!I49) -> 1 | J49: =SUM(Աջափնյակ:Սյունիք!J49) -> 6 | K49: =SUM(Աջափնյակ:Սյունիք!K49) -> 0 | ... T49: =SUM(Աջափնյակ:Սյունիք!T49) -> 0
A50: 3.6 | B50: Այլ հանցագործություններ | D50: =SUM(Աջափնյակ:Սյունիք!D50) -> 0 | E50: =SUM(Աջափնյակ:Սյունիք!E50) -> 0 | F50: =SUM(Աջափնյակ:Սյունիք!F50) -> 0 | G50: =SUM(Աջափնյակ:Սյունիք!G50) -> 0 | H50: =SUM(Աջափնյակ:Սյունիք!H50) -> 0 | I50: =SUM(Աջափնյակ:Սյունիք!I50) -> 0 | J50: =SUM(Աջափնյակ:Սյունիք!J50) -> 0 | K50: =SUM(Աջափնյակ:Սյունիք!K50) -> 0 | ... T50: =SUM(Աջափնյակ:Սյունիք!T50) -> 0
A51: 4. | B51: Ընդամենը մարդու և քաղաքացու սահմանադրական իրավունքների և ազատությունների դեմ ուղղված հանցագործությունները | D51: =SUM(Աջափնյակ:Սյունիք!D51) -> 23 | E51: =SUM(Աջափնյակ:Սյունիք!E51) -> 1 | F51: =SUM(Աջափնյակ:Սյունիք!F51) -> 56 | G51: =SUM(Աջափնյակ:Սյունիք!G51) -> 57 | H51: =SUM(Աջափնյակ:Սյունիք!H51) -> 1 | I51: =SUM(Աջափնյակ:Սյունիք!I51) -> 1 | J51: =SUM(Աջափնյակ:Սյունիք!J51) -> 59 | K51: =SUM(Աջափնյակ:Սյունիք!K51) -> 1 | ... T51: =SUM(Աջափնյակ:Սյունիք!T51) -> 1
A52: 4.1 | B52: Մարդու և քաղաքացու իրավահավասարությունը խախտելը | C52: 143 | D52: =SUM(Աջափնյակ:Սյունիք!D52) -> 0 | E52: =SUM(Աջափնյակ:Սյունիք!E52) -> 0 | F52: =SUM(Աջափնյակ:Սյունիք!F52) -> 0 | G52: =SUM(Աջափնյակ:Սյունիք!G52) -> 0 | H52: =SUM(Աջափնյակ:Սյունիք!H52) -> 0 | I52: =SUM(Աջափնյակ:Սյունիք!I52) -> 0 | J52: =SUM(Աջափնյակ:Սյունիք!J52) -> 0 | K52: =SUM(Աջափնյակ:Սյունիք!K52) -> 0 | ... T52: =SUM(Աջափնյակ:Սյունիք!T52) -> 0
A53: 4.2 | B53: Անձնական կամ ընտանեկան կյանքի մասին տեղեկություններ ապօրինի հավաքելը, պահելը, օգտագործելը կամ տարածելը | C53: 144 | D53: =SUM(Աջափնյակ:Սյունիք!D53) -> 2 | E53: =SUM(Աջափնյակ:Սյունիք!E53) -> 0 | F53: =SUM(Աջափնյակ:Սյունիք!F53) -> 2 | G53: =SUM(Աջափնյակ:Սյունիք!G53) -> 2 | H53: =SUM(Աջափնյակ:Սյունիք!H53) -> 0 | I53: =SUM(Աջափնյակ:Սյունիք!I53) -> 0 | J53: =SUM(Աջափնյակ:Սյունիք!J53) -> 2 | K53: =SUM(Աջափնյակ:Սյունիք!K53) -> 0 | ... T53: =SUM(Աջափնյակ:Սյունիք!T53) -> 0
A54: 4.3 | B54: Բժշկական գաղտնիքը հրապարակելը | C54: 145 | D54: =SUM(Աջափնյակ:Սյունիք!D54) -> 0 | E54: =SUM(Աջափնյակ:Սյունիք!E54) -> 0 | F54: =SUM(Աջափնյակ:Սյունիք!F54) -> 0 | G54: =SUM(Աջափնյակ:Սյունիք!G54) -> 0 | H54: =SUM(Աջափնյակ:Սյունիք!H54) -> 0 | I54: =SUM(Աջափնյակ:Սյունիք!I54) -> 0 | J54: =SUM(Աջափնյակ:Սյունիք!J54) -> 0 | K54: =SUM(Աջափնյակ:Սյունիք!K54) -> 0 | ... T54: =SUM(Աջափնյակ:Սյունիք!T54) -> 0
A55: 4.4 | B55: Նամակագրության, հեռախոսային խոսակցությունների, փոստային, հեռագրական կամ այլ հաղորդումների գաղտնիությունը խախտելը | C55: 146 | D55: =SUM(Աջափնյակ:Սյունիք!D55) -> 0 | E55: =SUM(Աջափնյակ:Սյունիք!E55) -> 0 | F55: =SUM(Աջափնյակ:Սյունիք!F55) -> 0 | G55: =SUM(Աջափնյակ:Սյունիք!G55) -> 0 | H55: =SUM(Աջափնյակ:Սյունիք!H55) -> 0 | I55: =SUM(Աջափնյակ:Սյունիք!I55) -> 0 | J55: =SUM(Աջափնյակ:Սյունիք!J55) -> 0 | K55: =SUM(Աջափնյակ:Սյունիք!K55) -> 0 | ... T55: =SUM(Աջափնյակ:Սյունիք!T55) -> 0
A56: 4.5 | B56: Բնակարանի անձեռնմխելիությունը խախտելը | C56: 147 | D56: =SUM(Աջափնյակ:Սյունիք!D56) -> 8 | E56: =SUM(Աջափնյակ:Սյունիք!E56) -> 1 | F56: =SUM(Աջափնյակ:Սյունիք!F56) -> 23 | G56: =SUM(Աջափնյակ:Սյունիք!G56) -> 26 | H56: =SUM(Աջափնյակ:Սյունիք!H56) -> 0 | I56: =SUM(Աջափնյակ:Սյունիք!I56) -> 0 | J56: =SUM(Աջափնյակ:Սյունիք!J56) -> 26 | K56: =SUM(Աջափնյակ:Սյունիք!K56) -> 0 | ... T56: =SUM(Աջափնյակ:Սյունիք!T56) -> 1
A57: 4.6 | B57: Անձին տեղեկություն ներկայացնելուց հրաժարվելը | C57: 148 | D57: =SUM(Աջափնյակ:Սյունիք!D57) -> 0 | E57: =SUM(Աջափնյակ:Սյունիք!E57) -> 0 | F57: =SUM(Աջափնյակ:Սյունիք!F57) -> 0 | G57: =SUM(Աջափնյակ:Սյունիք!G57) -> 0 | H57: =SUM(Աջափնյակ:Սյունիք!H57) -> 0 | I57: =SUM(Աջափնյակ:Սյունիք!I57) -> 0 | J57: =SUM(Աջափնյակ:Սյունիք!J57) -> 0 | K57: =SUM(Աջափնյակ:Սյունիք!K57) -> 0 | ... T57: =SUM(Աջափնյակ:Սյունիք!T57) -> 0
A58: 4.7 | B58: Ընտրական իրավունքի իրականացմանը, ընտրական հանձնաժողովների աշխատանքներին կամ ընտրությանը մասնակցող անձանց լիազորությունների իրականացմանը խոչընդոտելը | C58: 149 | D58: =SUM(Աջափնյակ:Սյունիք!D58) -> 2 | E58: =SUM(Աջափնյակ:Սյունիք!E58) -> 0 | F58: =SUM(Աջափնյակ:Սյունիք!F58) -> 4 | G58: =SUM(Աջափնյակ:Սյունիք!G58) -> 3 | H58: =SUM(Աջափնյակ:Սյունիք!H58) -> 0 | I58: =SUM(Աջափնյակ:Սյունիք!I58) -> 0 | J58: =SUM(Աջափնյակ:Սյունիք!J58) -> 3 | K58: =SUM(Աջափնյակ:Սյունիք!K58) -> 0 | ... T58: =SUM(Աջափնյակ:Սյունիք!T58) -> 0
A59: 4.8 | B59: Ընտրությունների կամ քվեարկության արդյունքները կեղծելը | C59: 150 | D59: =SUM(Աջափնյակ:Սյունիք!D59) -> 0 | E59: =SUM(Աջափնյակ:Սյունիք!E59) -> 0 | F59: =SUM(Աջափնյակ:Սյունիք!F59) -> 0 | G59: =SUM(Աջափնյակ:Սյունիք!G59) -> 0 | H59: =SUM(Աջափնյակ:Սյունիք!H59) -> 0 | I59: =SUM(Աջափնյակ:Սյունիք!I59) -> 0 | J59: =SUM(Աջափնյակ:Սյունիք!J59) -> 0 | K59: =SUM(Աջափնյակ:Սյունիք!K59) -> 0 | ... T59: =SUM(Աջափնյակ:Սյունիք!T59) -> 0
A60: 4.10 | B60: Ընտրողների ցուցակները կազմելու, դրանք քաղաքացիներին և կուսակցություններին տրամադրելու կամ հրապարակելու կարգը խախտելը | C60: 152 | D60: =SUM(Աջափնյակ:Սյունիք!D60) -> 0 | E60: =SUM(Աջափնյակ:Սյունիք!E60) -> 0 | F60: =SUM(Աջափնյակ:Սյունիք!F60) -> 0 | G60: =SUM(Աջափնյակ:Սյունիք!G60) -> 0 | H60: =SUM(Աջափնյակ:Սյունիք!H60) -> 0 | I60: =SUM(Աջափնյակ:Սյունիք!I60) -> 0 | J60: =SUM(Աջափնյակ:Սյունիք!J60) -> 0 | K60: =SUM(Աջափնյակ:Սյունիք!K60) -> 0 | ... T60: =SUM(Աջափնյակ:Սյունիք!T60) -> 0
A61: 4.11 | B61: Մեկից ավելի անգամ կամ այլ անձի փոխարեն քվեարկելը | C61: 153 | D61: =SUM(Աջափնյակ:Սյունիք!D61) -> 0 | E61: =SUM(Աջափնյակ:Սյունիք!E61) -> 0 | F61: =SUM(Աջափնյակ:Սյունիք!F61) -> 12 | G61: =SUM(Աջափնյակ:Սյունիք!G61) -> 10 | H61: =SUM(Աջափնյակ:Սյունիք!H61) -> 0 | I61: =SUM(Աջափնյակ:Սյունիք!I61) -> 1 | J61: =SUM(Աջափնյակ:Սյունիք!J61) -> 11 | K61: =SUM(Աջափնյակ:Սյունիք!K61) -> 0 | ... T61: =SUM(Աջափնյակ:Սյունիք!T61) -> 0
A62: 4.12 | B62: Քվեարկության գաղտնիությունը խախտելը | C62: 154 | D62: =SUM(Աջափնյակ:Սյունիք!D62) -> 0 | E62: =SUM(Աջափնյակ:Սյունիք!E62) -> 0 | F62: =SUM(Աջափնյակ:Սյունիք!F62) -> 1 | G62: =SUM(Աջափնյակ:Սյունիք!G62) -> 1 | H62: =SUM(Աջափնյակ:Սյունիք!H62) -> 0 | I62: =SUM(Աջափնյակ:Սյունիք!I62) -> 0 | J62: =SUM(Աջափնյակ:Սյունիք!J62) -> 1 | K62: =SUM(Աջափնյակ:Սյունիք!K62) -> 0 | ... T62: =SUM(Աջափնյակ:Սյունիք!T62) -> 0
A63: 4.13 | B63: Կեղծ ընտրական քվեաթերթիկներ կամ քվեարկության ծրարներ, դրոշմանիշեր, կտրոններ պատրաստելը կամ ակնհայտ կեղծ ընտրական քվեաթերթիկներ կամ քվեարկության ծրարներ, դրոշմանիշեր, կտրոններ հանձնելը կամ իրացնելը | C63: 154.1 | D63: =SUM(Աջափնյակ:Սյունիք!D63) -> 0 | E63: =SUM(Աջափնյակ:Սյունիք!E63) -> 0 | F63: =SUM(Աջափնյակ:Սյունիք!F63) -> 0 | G63: =SUM(Աջափնյակ:Սյունիք!G63) -> 0 | H63: =SUM(Աջափնյակ:Սյունիք!H63) -> 0 | I63: =SUM(Աջափնյակ:Սյունիք!I63) -> 0 | J63: =SUM(Աջափնյակ:Սյունիք!J63) -> 0 | K63: =SUM(Աջափնյակ:Սյունիք!K63) -> 0 | ... T63: =SUM(Աջափնյակ:Սյունիք!T63) -> 0
... A79: 4.27 | B79: Լրագրողի մասնագիտական օրինական գործողությանը խոչընդոտելը | C79: 164 | D79: =SUM(Աջափնյակ:Սյունիք!D79) -> 2 | E79: =SUM(Աջափնյակ:Սյունիք!E79) -> 0 | F79: =SUM(Աջափնյակ:Սյունիք!F79) -> 1 | G79: =SUM(Աջափնյակ:Սյունիք!G79) -> 3 | H79: =SUM(Աջափնյակ:Սյունիք!H79) -> 0 | I79: =SUM(Աջափնյակ:Սյունիք!I79) -> 0 | J79: =SUM(Աջափնյակ:Սյունիք!J79) -> 3 | K79: =SUM(Աջափնյակ:Սյունիք!K79) -> 0 | ... T79: =SUM(Աջափնյակ:Սյունիք!T79) -> 0
A80: 4.28 | B80: Այլ հանցագործություններ | D80: =SUM(Աջափնյակ:Սյունիք!D80) -> 0 | E80: =SUM(Աջափնյակ:Սյունիք!E80) -> 0 | F80: =SUM(Աջափնյակ:Սյունիք!F80) -> 0 | G80: =SUM(Աջափնյակ:Սյունիք!G80) -> 0 | H80: =SUM(Աջափնյակ:Սյունիք!H80) -> 0 | I80: =SUM(Աջափնյակ:Սյունիք!I80) -> 0 | J80: =SUM(Աջափնյակ:Սյունիք!J80) -> 0 | K80: =SUM(Աջափնյակ:Սյունիք!K80) -> 0 | ... T80: =SUM(Աջափնյակ:Սյունիք!T80) -> 0
A81: 5. | B81: Ընդամենը ընտանիքի և երեխայի շահերի դեմ ուղղված հանցագործությունները | D81: =SUM(Աջափնյակ:Սյունիք!D81) -> 2 | E81: =SUM(Աջափնյակ:Սյունիք!E81) -> 0 | F81: =SUM(Աջափնյակ:Սյունիք!F81) -> 7 | G81: =SUM(Աջափնյակ:Սյունիք!G81) -> 6 | H81: =SUM(Աջափնյակ:Սյունիք!H81) -> 0 | I81: =SUM(Աջափնյակ:Սյունիք!I81) -> 0 | J81: =SUM(Աջափնյակ:Սյունիք!J81) -> 6 | K81: =SUM(Աջափնյակ:Սյունիք!K81) -> 0 | ... T81: =SUM(Աջափնյակ:Սյունիք!T81) -> 1
A82: 5.1 | B82: Անչափահասին հանցանքի կատարմանը ներգրավելը | C82: 165 | D82: =SUM(Աջափնյակ:Սյունիք!D82) -> 1 | E82: =SUM(Աջափնյակ:Սյունիք!E82) -> 0 | F82: =SUM(Աջափնյակ:Սյունիք!F82) -> 2 | G82: =SUM(Աջափնյակ:Սյունիք!G82) -> 1 | H82: =SUM(Աջափնյակ:Սյունիք!H82) -> 0 | I82: =SUM(Աջափնյակ:Սյունիք!I82) -> 0 | J82: =SUM(Աջափնյակ:Սյունիք!J82) -> 1 | K82: =SUM(Աջափնյակ:Սյունիք!K82) -> 0 | ... T82: =SUM(Աջափնյակ:Սյունիք!T82) -> 0
A83: 5.2 | B83: Երեխային պոռնկության կամ պոռնկագրական բնույթի նյութեր կամ առարկաներ պատրաստելու հետ կապված գործողություններ կատարելուն ներգրավելը | C83: 166 | D83: =SUM(Աջափնյակ:Սյունիք!D83) -> 0 | E83: =SUM(Աջափնյակ:Սյունիք!E83) -> 0 | F83: =SUM(Աջափնյակ:Սյունիք!F83) -> 0 | G83: =SUM(Աջափնյակ:Սյունիք!G83) -> 0 | H83: =SUM(Աջափնյակ:Սյունիք!H83) -> 0 | I83: =SUM(Աջափնյակ:Սյունիք!I83) -> 0 | J83: =SUM(Աջափնյակ:Սյունիք!J83) -> 0 | K83: =SUM(Աջափնյակ:Սյունիք!K83) -> 0 | ... T83: =SUM(Աջափնյակ:Սյունիք!T83) -> 0
A84: 5.2.1 | B84: Երեխային ոգելից խմիչքների օգտագործմանը, ուժեղ ներգործող կամ այլ թմրեցնող նյութերի ոչ բժշկական օգտագործմանը, թափառաշրջիկությանը ներգրավելը կամ մուրացկանության հետ կապված գործողություններ կատարելուն ներգրավելը | C84: 166.1 | D84: =SUM(Աջափնյակ:Սյունիք!D84) -> 0 | E84: =SUM(Աջափնյակ:Սյունիք!E84) -> 0 | F84: =SUM(Աջափնյակ:Սյունիք!F84) -> 0 | G84: =SUM(Աջափնյակ:Սյունիք!G84) -> 0 | H84: =SUM(Աջափնյակ:Սյունիք!H84) -> 0 | I84: =SUM(Աջափնյակ:Սյունիք!I84) -> 0 | J84: =SUM(Աջափնյակ:Սյունիք!J84) -> 0 | K84: =SUM(Աջափնյակ:Սյունիք!K84) -> 0 | ... T84: =SUM(Աջափնյակ:Սյունիք!T84) -> 0
A85: 5.3 | B85: Ծնողներից երեխային ապօրինի բաժանելը կամ երեխային փոխելը | C85: 167 | D85: =SUM(Աջափնյակ:Սյունիք!D85) -> 0 | E85: =SUM(Աջափնյակ:Սյունիք!E85) -> 0 | F85: =SUM(Աջափնյակ:Սյունիք!F85) -> 0 | G85: =SUM(Աջափնյակ:Սյունիք!G85) -> 0 | H85: =SUM(Աջափնյակ:Սյունիք!H85) -> 0 | I85: =SUM(Աջափնյակ:Սյունիք!I85) -> 0 | J85: =SUM(Աջափնյակ:Սյունիք!J85) -> 0 | K85: =SUM(Աջափնյակ:Սյունիք!K85) -> 0 | ... T85: =SUM(Աջափնյակ:Սյունիք!T85) -> 0
A86: 5.4 | B86: Խնամքը ստանձնելու նպատակով երեխայի առքը կամ ստանձնողի խնամքին հանձնելու նպատակով երեխայի վաճառքը | C86: 168 | D86: =SUM(Աջափնյակ:Սյունիք!D86) -> 1 | E86: =SUM(Աջափնյակ:Սյունիք!E86) -> 0 | F86: =SUM(Աջափնյակ:Սյունիք!F86) -> 0 | G86: =SUM(Աջափնյակ:Սյունիք!G86) -> 1 | H86: =SUM(Աջափնյակ:Սյունիք!H86) -> 0 | I86: =SUM(Աջափնյակ:Սյունիք!I86) -> 0 | J86: =SUM(Աջափնյակ:Սյունիք!J86) -> 1 | K86: =SUM(Աջափնյակ:Սյունիք!K86) -> 0 | ... T86: =SUM(Աջափնյակ:Սյունիք!T86) -> 1
A87: 5.5 | B87: Որդեգրման գաղտնիքը հրապարակելը կամ որդեգրման համաձայնություն տալուն հակելը կամ հարկադրելը | C87: 169 | D87: =SUM(Աջափնյակ:Սյունիք!D87) -> 0 | E87: =SUM(Աջափնյակ:Սյունիք!E87) -> 0 | F87: =SUM(Աջափնյակ:Սյունիք!F87) -> 0 | G87: =SUM(Աջափնյակ:Սյունիք!G87) -> 0 | H87: =SUM(Աջափնյակ:Սյունիք!H87) -> 0 | I87: =SUM(Աջափնյակ:Սյունիք!I87) -> 0 | J87: =SUM(Աջափնյակ:Սյունիք!J87) -> 0 | K87: =SUM(Աջափնյակ:Սյունիք!K87) -> 0 | ... T87: =SUM(Աջափնյակ:Սյունիք!T87) -> 0
A88: 5.6 | B88: Քաղաքացիական կացության ակտերի գրանցման մարմիններին սուտ տեղեկություններ հաղորդելը | C88: 169.1 | D88: =SUM(Աջափնյակ:Սյունիք!D88) -> 0 | E88: =SUM(Աջափնյակ:Սյունիք!E88) -> 0 | F88: =SUM(Աջափնյակ:Սյունիք!F88) -> 0 | G88: =SUM(Աջափնյակ:Սյունիք!G88) -> 0 | H88: =SUM(Աջափնյակ:Սյունիք!H88) -> 0 | I88: =SUM(Աջափնյակ:Սյունիք!I88) -> 0 | J88: =SUM(Աջափնյակ:Սյունիք!J88) -> 0 | K88: =SUM(Աջափնյակ:Սյունիք!K88) -> 0 | ... T88: =SUM(Աջափնյակ:Սյունիք!T88) -> 0
A89: 5.7 | B89: Երեխային դաստիարակելու պարտականությունը չկատարելը | C89: 170 | D89: =SUM(Աջափնյակ:Սյունիք!D89) -> 0 | E89: =SUM(Աջափնյակ:Սյունիք!E89) -> 0 | F89: =SUM(Աջափնյակ:Սյունիք!F89) -> 0 | G89: =SUM(Աջափնյակ:Սյունիք!G89) -> 0 | H89: =SUM(Աջափնյակ:Սյունիք!H89) -> 0 | I89: =SUM(Աջափնյակ:Սյունիք!I89) -> 0 | J89: =SUM(Աջափնյակ:Սյունիք!J89) -> 0 | K89: =SUM(Աջափնյակ:Սյունիք!K89) -> 0 | ... T89: =SUM(Աջափնյակ:Սյունիք!T89) -> 0
A90: 5.8 | B90: Երեխայի կյանքի անվտանգության ապահովման կամ առողջության պահպանման պարտականությունը չկատարելը կամ ոչ պատշաճ կատարելը | C90: 171 | D90: =SUM(Աջափնյակ:Սյունիք!D90) -> 0 | E90: =SUM(Աջափնյակ:Սյունիք!E90) -> 0 | F90: =SUM(Աջափնյակ:Սյունիք!F90) -> 0 | G90: =SUM(Աջափնյակ:Սյունիք!G90) -> 0 | H90: =SUM(Աջափնյակ:Սյունիք!H90) -> 0 | I90: =SUM(Աջափնյակ:Սյունիք!I90) -> 0 | J90: =SUM(Աջափնյակ:Սյունիք!J90) -> 0 | K90: =SUM(Աջափնյակ:Սյունիք!K90) -> 0 | ... T90: =SUM(Աջափնյակ:Սյունիք!T90) -> 0
A91: 5.8.1 | B91: Վերարտադրողականության օժանդակ տեխնոլոգիաներից օգտվելու կանոնները խախտելը | C91: 171.1 | D91: =SUM(Աջափնյակ:Սյունիք!D91) -> 0 | E91: =SUM(Աջափնյակ:Սյունիք!E91) -> 0 | F91: =SUM(Աջափնյակ:Սյունիք!F91) -> 0 | G91: =SUM(Աջափնյակ:Սյունիք!G91) -> 0 | H91: =SUM(Աջափնյակ:Սյունիք!H91) -> 0 | I91: =SUM(Աջափնյակ:Սյունիք!I91) -> 0 | J91: =SUM(Աջափնյակ:Սյունիք!J91) -> 0 | K91: =SUM(Աջափնյակ:Սյունիք!K91) -> 0 | ... T91: =SUM(Աջափնյակ:Սյունիք!T91) -> 0
A92: 5.9 | B92: Խնամակալի կամ հոգաբարձուի իրավունքները չարաշահելը | C92: 172 | D92: =SUM(Աջափնյակ:Սյունիք!D92) -> 0 | E92: =SUM(Աջափնյակ:Սյունիք!E92) -> 0 | F92: =SUM(Աջափնյակ:Սյունիք!F92) -> 0 | G92: =SUM(Աջափնյակ:Սյունիք!G92) -> 0 | H92: =SUM(Աջափնյակ:Սյունիք!H92) -> 0 | I92: =SUM(Աջափնյակ:Սյունիք!I92) -> 0 | J92: =SUM(Աջափնյակ:Սյունիք!J92) -> 0 | K92: =SUM(Աջափնյակ:Սյունիք!K92) -> 0 | ... T92: =SUM(Աջափնյակ:Սյունիք!T92) -> 0
A93: 5.10 | B93: Ծնողի կողմից երեխային պահելուց չարամտորեն խուսափելը | C93: 173 | D93: =SUM(Աջափնյակ:Սյունիք!D93) -> 0 | E93: =SUM(Աջափնյակ:Սյունիք!E93) -> 0 | F93: =SUM(Աջափնյակ:Սյունիք!F93) -> 5 | G93: =SUM(Աջափնյակ:Սյունիք!G93) -> 4 | H93: =SUM(Աջափնյակ:Սյունիք!H93) -> 0 | I93: =SUM(Աջափնյակ:Սյունիք!I93) -> 0 | J93: =SUM(Աջափնյակ:Սյունիք!J93) -> 4 | K93: =SUM(Աջափնյակ:Սյունիք!K93) -> 0 | ... T93: =SUM(Աջափնյակ:Սյունիք!T93) -> 0
A94: 5.11 | B94: Զավակի կողմից անաշխատունակ ծնողին պահելուց չարամտորեն խուսափելը | C94: 174 | D94: =SUM(Աջափնյակ:Սյունիք!D94) -> 0 | E94: =SUM(Աջափնյակ:Սյունիք!E94) -> 0 | F94: =SUM(Աջափնյակ:Սյունիք!F94) -> 0 | G94: =SUM(Աջափնյակ:Սյունիք!G94) -> 0 | H94: =SUM(Աջափնյակ:Սյունիք!H94) -> 0 | I94: =SUM(Աջափնյակ:Սյունիք!I94) -> 0 | J94: =SUM(Աջափնյակ:Սյունիք!J94) -> 0 | K94: =SUM(Աջափնյակ:Սյունիք!K94) -> 0 | ... T94: =SUM(Աջափնյակ:Սյունիք!T94) -> 0
A95: 5.12 | B95: Այլ հանցագործություններ | D95: =SUM(Աջափնյակ:Սյունիք!D95) -> 0 | E95: =SUM(Աջափնյակ:Սյունիք!E95) -> 0 | F95: =SUM(Աջափնյակ:Սյունիք!F95) -> 0 | G95: =SUM(Աջափնյակ:Սյունիք!G95) -> 0 | H95: =SUM(Աջափնյակ:Սյունիք!H95) -> 0 | I95: =SUM(Աջափնյակ:Սյունիք!I95) -> 0 | J95: =SUM(Աջափնյակ:Սյունիք!J95) -> 0 | K95: =SUM(Աջափնյակ:Սյունիք!K95) -> 0 | ... T95: =SUM(Աջափնյակ:Սյունիք!T95) -> 0
A96: 6. | B96: Ընդամենը սեփականության դեմ ուղղված հանցագործությունները | D96: =SUM(Աջափնյակ:Սյունիք!D96) -> 498 | E96: =SUM(Աջափնյակ:Սյունիք!E96) -> 43 | F96: =SUM(Աջափնյակ:Սյունիք!F96) -> 914 | G96: =SUM(Աջափնյակ:Սյունիք!G96) -> 714 | H96: =SUM(Աջափնյակ:Սյունիք!H96) -> 62 | I96: =SUM(Աջափնյակ:Սյունիք!I96) -> 11 | J96: =SUM(Աջափնյակ:Սյունիք!J96) -> 787 | K96: =SUM(Աջափնյակ:Սյունիք!K96) -> 19 | ... T96: =SUM(Աջափնյակ:Սյունիք!T96) -> 20
A97: 6.1 | B97: Ավազակությունը | C97: 175 | D97: =SUM(Աջափնյակ:Սյունիք!D97) -> 24 | E97: =SUM(Աջափնյակ:Սյունիք!E97) -> 0 | F97: =SUM(Աջափնյակ:Սյունիք!F97) -> 22 | G97: =SUM(Աջափնյակ:Սյունիք!G97) -> 18 | H97: =SUM(Աջափնյակ:Սյունիք!H97) -> 0 | I97: =SUM(Աջափնյակ:Սյունիք!I97) -> 0 | J97: =SUM(Աջափնյակ:Սյունիք!J97) -> 18 | K97: =SUM(Աջափնյակ:Սյունիք!K97) -> 0 | ... T97: =SUM(Աջափնյակ:Սյունիք!T97) -> 0
A98: 6.2 | B98: Կողոպուտը | C98: 176 | D98: =SUM(Աջափնյակ:Սյունիք!D98) -> 28 | E98: =SUM(Աջափնյակ:Սյունիք!E98) -> 3 | F98: =SUM(Աջափնյակ:Սյունիք!F98) -> 61 | G98: =SUM(Աջափնյակ:Սյունիք!G98) -> 48 | H98: =SUM(Աջափնյակ:Սյունիք!H98) -> 0 | I98: =SUM(Աջափնյակ:Սյունիք!I98) -> 0 | J98: =SUM(Աջափնյակ:Սյունիք!J98) -> 48 | K98: =SUM(Աջափնյակ:Սյունիք!K98) -> 0 | ... T98: =SUM(Աջափնյակ:Սյունիք!T98) -> 3
A99: 6.3 | B99: Գողությունը | C99: 177 | D99: =SUM(Աջափնյակ:Սյունիք!D99) -> 215 | E99: =SUM(Աջափնյակ:Սյունիք!E99) -> 14 | F99: =SUM(Աջափնյակ:Սյունիք!F99) -> 516 | G99: =SUM(Աջափնյակ:Սյունիք!G99) -> 416 | H99: =SUM(Աջափնյակ:Սյունիք!H99) -> 31 | I99: =SUM(Աջափնյակ:Սյունիք!I99) -> 7 | J99: =SUM(Աջափնյակ:Սյունիք!J99) -> 454 | K99: =SUM(Աջափնյակ:Սյունիք!K99) -> 3 | ... T99: =SUM(Աջափնյակ:Սյունիք!T99) -> 14
A100: 6.4 | B100: Խարդախությունը | C100: 178 | D100: =SUM(Աջափնյակ:Սյունիք!D100) -> 139 | E100: =SUM(Աջափնյակ:Սյունիք!E100) -> 17 | F100: =SUM(Աջափնյակ:Սյունիք!F100) -> 178 | G100: =SUM(Աջափնյակ:Սյունիք!G100) -> 122 | H100: =SUM(Աջափնյակ:Սյունիք!H100) -> 19 | I100: =SUM(Աջափնյակ:Սյունիք!I100) -> 0 | J100: =SUM(Աջափնյակ:Սյունիք!J100) -> 141 | K100: =SUM(Աջափնյակ:Սյունիք!K100) -> 11 | ... T100: =SUM(Աջափնյակ:Սյունիք!T100) -> 3
A101: 6.5 | B101: Յուրացնելը կամ վատնելը | C101: 179 | D101: =SUM(Աջափնյակ:Սյունիք!D101) -> 50 | E101: =SUM(Աջափնյակ:Սյունիք!E101) -> 6 | F101: =SUM(Աջափնյակ:Սյունիք!F101) -> 73 | G101: =SUM(Աջափնյակ:Սյունիք!G101) -> 57 | H101: =SUM(Աջափնյակ:Սյունիք!H101) -> 3 | I101: =SUM(Աջափնյակ:Սյունիք!I101) -> 0 | J101: =SUM(Աջափնյակ:Սյունիք!J101) -> 60 | K101: =SUM(Աջափնյակ:Սյունիք!K101) -> 2 | ... T101: =SUM(Աջափնյակ:Սյունիք!T101) -> 0
A102: 6.6 | B102: Առանձնակի արժեք ունեցող առարկաներ հափշտակելը | C102: 180 | D102: =SUM(Աջափնյակ:Սյունիք!D102) -> 0 | E102: =SUM(Աջափնյակ:Սյունիք!E102) -> 0 | F102: =SUM(Աջափնյակ:Սյունիք!F102) -> 0 | G102: =SUM(Աջափնյակ:Սյունիք!G102) -> 0 | H102: =SUM(Աջափնյակ:Սյունիք!H102) -> 0 | I102: =SUM(Աջափնյակ:Սյունիք!I102) -> 0 | J102: =SUM(Աջափնյակ:Սյունիք!J102) -> 0 | K102: =SUM(Աջափնյակ:Սյունիք!K102) -> 0 | ... T102: =SUM(Աջափնյակ:Սյունիք!T102) -> 0
A103: 6.7 | B103: Հափշտակությունը, որը կատարվել է համակարգչային տեխնիկայի օգտագործմամբ | C103: 181 | D103: =SUM(Աջափնյակ:Սյունիք!D103) -> 1 | E103: =SUM(Աջափնյակ:Սյունիք!E103) -> 0 | F103: =SUM(Աջափնյակ:Սյունիք!F103) -> 3 | G103: =SUM(Աջափնյակ:Սյունիք!G103) -> 2 | H103: =SUM(Աջափնյակ:Սյունիք!H103) -> 0 | I103: =SUM(Աջափնյակ:Սյունիք!I103) -> 0 | J103: =SUM(Աջափնյակ:Սյունիք!J103) -> 2 | K103: =SUM(Աջափնյակ:Սյունիք!K103) -> 0 | ... T103: =SUM(Աջափնյակ:Սյունիք!T103) -> 0
A104: 6.8 | B104: Շորթումը | C104: 182 | D104: =SUM(Աջափնյակ:Սյունիք!D104) -> 16 | E104: =SUM(Աջափնյակ:Սյունիք!E104) -> 1 | F104: =SUM(Աջափնյակ:Սյունիք!F104) -> 14 | G104: =SUM(Աջափնյակ:Սյունիք!G104) -> 17 | H104: =SUM(Աջափնյակ:Սյունիք!H104) -> 0 | I104: =SUM(Աջափնյակ:Սյունիք!I104) -> 0 | J104: =SUM(Աջափնյակ:Սյունիք!J104) -> 17 | K104: =SUM(Աջափնյակ:Սյունիք!K104) -> 2 | ... T104: =SUM(Աջափնյակ:Սյունիք!T104) -> 0
A105: 6.9 | B105: Ավտոմեքենային կամ տրանսպորտային այլ միջոցին ապօրինաբար տիրանալն առանց հափշտակելու նպատակի | C105: 183 | D105: =SUM(Աջափնյակ:Սյունիք!D105) -> 3 | E105: =SUM(Աջափնյակ:Սյունիք!E105) -> 2 | F105: =SUM(Աջափնյակ:Սյունիք!F105) -> 2 | G105: =SUM(Աջափնյակ:Սյունիք!G105) -> 3 | H105: =SUM(Աջափնյակ:Սյունիք!H105) -> 0 | I105: =SUM(Աջափնյակ:Սյունիք!I105) -> 0 | J105: =SUM(Աջափնյակ:Սյունիք!J105) -> 3 | K105: =SUM(Աջափնյակ:Սյունիք!K105) -> 0 | ... T105: =SUM(Աջափնյակ:Սյունիք!T105) -> 0
A106: 6.10 | B106: Գույքային վնաս պատճառելը խաբեության կամ վստահությունը չարաշահելու եղանակով | C106: 184 | D106: =SUM(Աջափնյակ:Սյունիք!D106) -> 2 | E106: =SUM(Աջափնյակ:Սյունիք!E106) -> 0 | F106: =SUM(Աջափնյակ:Սյունիք!F106) -> 4 | G106: =SUM(Աջափնյակ:Սյունիք!G106) -> 2 | H106: =SUM(Աջափնյակ:Սյունիք!H106) -> 0 | I106: =SUM(Աջափնյակ:Սյունիք!I106) -> 0 | J106: =SUM(Աջափնյակ:Սյունիք!J106) -> 2 | K106: =SUM(Աջափնյակ:Սյունիք!K106) -> 0 | ... T106: =SUM(Աջափնյակ:Սյունիք!T106) -> 0
A107: 6.10.1 | B107: Գրավառուին վնաս պատճառելը | C107: 184.1 | D107: =SUM(Աջափնյակ:Սյունիք!D107) -> 0 | E107: =SUM(Աջափնյակ:Սյունիք!E107) -> 0 | F107: =SUM(Աջափնյակ:Սյունիք!F107) -> 0 | G107: =SUM(Աջափնյակ:Սյունիք!G107) -> 0 | H107: =SUM(Աջափնյակ:Սյունիք!H107) -> 0 | I107: =SUM(Աջափնյակ:Սյունիք!I107) -> 0 | J107: =SUM(Աջափնյակ:Սյունիք!J107) -> 0 | K107: =SUM(Աջափնյակ:Սյունիք!K107) -> 0 | ... T107: =SUM(Աջափնյակ:Սյունիք!T107) -> 0
A108: 6.11 | B108: Գույքը դիտավորությամբ ոչնչացնելը կամ վնասելը | C108: 185 | D108: =SUM(Աջափնյակ:Սյունիք!D108) -> 18 | E108: =SUM(Աջափնյակ:Սյունիք!E108) -> 0 | F108: =SUM(Աջափնյակ:Սյունիք!F108) -> 39 | G108: =SUM(Աջափնյակ:Սյունիք!G108) -> 26 | H108: =SUM(Աջափնյակ:Սյունիք!H108) -> 9 | I108: =SUM(Աջափնյակ:Սյունիք!I108) -> 4 | J108: =SUM(Աջափնյակ:Սյունիք!J108) -> 39 | K108: =SUM(Աջափնյակ:Սյունիք!K108) -> 1 | ... T108: =SUM(Աջափնյակ:Սյունիք!T108) -> 0
... A110: 6.13 | B110: Գուքի պահպանության պարտականություններն անփույթ կամ անբարեխիղճ կատարելը | C110: 186.1 | D110: =SUM(Աջափնյակ:Սյունիք!D110) -> 1 | E110: =SUM(Աջափնյակ:Սյունիք!E110) -> 0 | F110: =SUM(Աջափնյակ:Սյունիք!F110) -> 1 | G110: =SUM(Աջափնյակ:Սյունիք!G110) -> 2 | H110: =SUM(Աջափնյակ:Սյունիք!H110) -> 0 | I110: =SUM(Աջափնյակ:Սյունիք!I110) -> 0 | J110: =SUM(Աջափնյակ:Սյունիք!J110) -> 2 | K110: =SUM(Աջափնյակ:Սյունիք!K110) -> 0 | ... T110: =SUM(Աջափնյակ:Սյունիք!T110) -> 0
A111: 6.14 | B111: Այլ հանցագործություններ | D111: =SUM(Աջափնյակ:Սյունիք!D111) -> 0 | E111: =SUM(Աջափնյակ:Սյունիք!E111) -> 0 | F111: =SUM(Աջափնյակ:Սյունիք!F111) -> 0 | G111: =SUM(Աջափնյակ:Սյունիք!G111) -> 0 | H111: =SUM(Աջափնյակ:Սյունիք!H111) -> 0 | I111: =SUM(Աջափնյակ:Սյունիք!I111) -> 0 | J111: =SUM(Աջափնյակ:Սյունիք!J111) -> 0 | K111: =SUM(Աջափնյակ:Սյունիք!K111) -> 0 | ... T111: =SUM(Աջափնյակ:Սյունիք!T111) -> 0
A112: 7. | B112: Ընդամենը տնտեսական գործունեության դեմ ուղղված հանցագործությունները | D112: =SUM(Աջափնյակ:Սյունիք!D112) -> 51 | E112: =SUM(Աջափնյակ:Սյունիք!E112) -> 12 | F112: =SUM(Աջափնյակ:Սյունիք!F112) -> 60 | G112: =SUM(Աջափնյակ:Սյունիք!G112) -> 48 | H112: =SUM(Աջափնյակ:Սյունիք!H112) -> 4 | I112: =SUM(Աջափնյակ:Սյունիք!I112) -> 1 | J112: =SUM(Աջափնյակ:Սյունիք!J112) -> 53 | K112: =SUM(Աջափնյակ:Սյունիք!K112) -> 2 | ... T112: =SUM(Աջափնյակ:Սյունիք!T112) -> 3
A113: 7.1 | B113: Օրինական ձեռնարկատիրական և այլ տնտեսական գործունեությանը խոչընդոտելը | C113: 187 | D113: =SUM(Աջափնյակ:Սյունիք!D113) -> 0 | E113: =SUM(Աջափնյակ:Սյունիք!E113) -> 0 | F113: =SUM(Աջափնյակ:Սյունիք!F113) -> 0 | G113: =SUM(Աջափնյակ:Սյունիք!G113) -> 0 | H113: =SUM(Աջափնյակ:Սյունիք!H113) -> 0 | I113: =SUM(Աջափնյակ:Սյունիք!I113) -> 0 | J113: =SUM(Աջափնյակ:Սյունիք!J113) -> 0 | K113: =SUM(Աջափնյակ:Սյունիք!K113) -> 0 | ... T113: =SUM(Աջափնյակ:Սյունիք!T113) -> 0
A114: 7.2 | B114: Ապօրինի ձեռնարկատիրությունը | C114: 188 | D114: =SUM(Աջափնյակ:Սյունիք!D114) -> 8 | E114: =SUM(Աջափնյակ:Սյունիք!E114) -> 3 | F114: =SUM(Աջափնյակ:Սյունիք!F114) -> 4 | G114: =SUM(Աջափնյակ:Սյունիք!G114) -> 3 | H114: =SUM(Աջափնյակ:Սյունիք!H114) -> 0 | I114: =SUM(Աջափնյակ:Սյունիք!I114) -> 0 | J114: =SUM(Աջափնյակ:Սյունիք!J114) -> 3 | K114: =SUM(Աջափնյակ:Սյունիք!K114) -> 0 | ... T114: =SUM(Աջափնյակ:Սյունիք!T114) -> 0
A115: 7.3 | B115: Առանց լիցենազիայի արտարժույթի վաճառքի իրականացումը | C115: 188.1 | D115: =SUM(Աջափնյակ:Սյունիք!D115) -> 1 | E115: =SUM(Աջափնյակ:Սյունիք!E115) -> 0 | F115: =SUM(Աջափնյակ:Սյունիք!F115) -> 7 | G115: =SUM(Աջափնյակ:Սյունիք!G115) -> 7 | H115: =SUM(Աջափնյակ:Սյունիք!H115) -> 0 | I115: =SUM(Աջափնյակ:Սյունիք!I115) -> 0 | J115: =SUM(Աջափնյակ:Սյունիք!J115) -> 7 | K115: =SUM(Աջափնյակ:Սյունիք!K115) -> 0 | ... T115: =SUM(Աջափնյակ:Սյունիք!T115) -> 1
A116: 7.4 | B116: Կեղծ ձեռնարկատիրությունը | C116: 189 | D116: =SUM(Աջափնյակ:Սյունիք!D116) -> 3 | E116: =SUM(Աջափնյակ:Սյունիք!E116) -> 2 | F116: =SUM(Աջափնյակ:Սյունիք!F116) -> 2 | G116: =SUM(Աջափնյակ:Սյունիք!G116) -> 0 | H116: =SUM(Աջափնյակ:Սյունիք!H116) -> 0 | I116: =SUM(Աջափնյակ:Սյունիք!I116) -> 0 | J116: =SUM(Աջափնյակ:Սյունիք!J116) -> 0 | K116: =SUM(Աջափնյակ:Սյունիք!K116) -> 1 | ... T116: =SUM(Աջափնյակ:Սյունիք!T116) -> 0
A117: 7.4.1 | B117: Ֆինանսական բուրգ ստեղծելը, կազմակերպելը կամ ղեկավարելը | C117: 189.1 | D117: =SUM(Աջափնյակ:Սյունիք!D117) -> 0 | E117: =SUM(Աջափնյակ:Սյունիք!E117) -> 0 | F117: =SUM(Աջափնյակ:Սյունիք!F117) -> 0 | G117: =SUM(Աջափնյակ:Սյունիք!G117) -> 0 | H117: =SUM(Աջափնյակ:Սյունիք!H117) -> 0 | I117: =SUM(Աջափնյակ:Սյունիք!I117) -> 0 | J117: =SUM(Աջափնյակ:Սյունիք!J117) -> 0 | K117: =SUM(Աջափնյակ:Սյունիք!K117) -> 0 | ... T117: =SUM(Աջափնյակ:Սյունիք!T117) -> 0
A118: 7.5 | B118: Հանցավոր ճանապարհով ստացված գույքն օրինականացնելը (փողերի լվացումը) | C118: 190 | D118: =SUM(Աջափնյակ:Սյունիք!D118) -> 6 | E118: =SUM(Աջափնյակ:Սյունիք!E118) -> 1 | F118: =SUM(Աջափնյակ:Սյունիք!F118) -> 0 | G118: =SUM(Աջափնյակ:Սյունիք!G118) -> 4 | H118: =SUM(Աջափնյակ:Սյունիք!H118) -> 0 | I118: =SUM(Աջափնյակ:Սյունիք!I118) -> 0 | J118: =SUM(Աջափնյակ:Սյունիք!J118) -> 4 | K118: =SUM(Աջափնյակ:Սյունիք!K118) -> 0 | ... T118: =SUM(Աջափնյակ:Սյունիք!T118) -> 0
A119: 7.5.1 | B119: Ներքին տեղեկությունների անբարեխիղճ օգտագործումը | C119: 190.1 | D119: =SUM(Աջափնյակ:Սյունիք!D119) -> 0 | E119: =SUM(Աջափնյակ:Սյունիք!E119) -> 0 | F119: =SUM(Աջափնյակ:Սյունիք!F119) -> 0 | G119: =SUM(Աջափնյակ:Սյունիք!G119) -> 0 | H119: =SUM(Աջափնյակ:Սյունիք!H119) -> 0 | I119: =SUM(Աջափնյակ:Սյունիք!I119) -> 0 | J119: =SUM(Աջափնյակ:Սյունիք!J119) -> 0 | K119: =SUM(Աջափնյակ:Սյունիք!K119) -> 0 | ... T119: =SUM(Աջափնյակ:Սյունիք!T119) -> 0
A120: 7.5.2 | B120: Գնային չարաշահումը | C120: 190.2 | D120: =SUM(Աջափնյակ:Սյունիք!D120) -> 0 | E120: =SUM(Աջափնյակ:Սյունիք!E120) -> 0 | F120: =SUM(Աջափնյակ:Սյունիք!F120) -> 0 | G120: =SUM(Աջափնյակ:Սյունիք!G120) -> 0 | H120: =SUM(Աջափնյակ:Սյունիք!H120) -> 0 | I120: =SUM(Աջափնյակ:Սյունիք!I120) -> 0 | J120: =SUM(Աջափնյակ:Սյունիք!J120) -> 0 | K120: =SUM(Աջափնյակ:Սյունիք!K120) -> 0 | ... T120: =SUM(Աջափնյակ:Սյունիք!T120) -> 0
A121: 7.6 | B121: Վարկը ոչ նպատակային օգտագործելը | C121: 191 | D121: =SUM(Աջափնյակ:Սյունիք!D121) -> 0 | E121: =SUM(Աջափնյակ:Սյունիք!E121) -> 0 | F121: =SUM(Աջափնյակ:Սյունիք!F121) -> 3 | G121: =SUM(Աջափնյակ:Սյունիք!G121) -> 0 | H121: =SUM(Աջափնյակ:Սյունիք!H121) -> 0 | I121: =SUM(Աջափնյակ:Սյունիք!I121) -> 0 | J121: =SUM(Աջափնյակ:Սյունիք!J121) -> 0 | K121: =SUM(Աջափնյակ:Սյունիք!K121) -> 0 | ... T121: =SUM(Աջափնյակ:Սյունիք!T121) -> 0
A122: 7.7 | B122: Անօրինական գործողությունները սնանկության ընթացքում | C122: 192 | D122: =SUM(Աջափնյակ:Սյունիք!D122) -> 0 | E122: =SUM(Աջափնյակ:Սյունիք!E122) -> 0 | F122: =SUM(Աջափնյակ:Սյունիք!F122) -> 1 | G122: =SUM(Աջափնյակ:Սյունիք!G122) -> 1 | H122: =SUM(Աջափնյակ:Սյունիք!H122) -> 0 | I122: =SUM(Աջափնյակ:Սյունիք!I122) -> 0 | J122: =SUM(Աջափնյակ:Սյունիք!J122) -> 1 | K122: =SUM(Աջափնյակ:Սյունիք!K122) -> 0 | ... T122: =SUM(Աջափնյակ:Սյունիք!T122) -> 0
A123: 7.8 | B123: Կանխամտածված սնանկությունը | C123: 193 | D123: =SUM(Աջափնյակ:Սյունիք!D123) -> 4 | E123: =SUM(Աջափնյակ:Սյունիք!E123) -> 1 | F123: =SUM(Աջափնյակ:Սյունիք!F123) -> 1 | G123: =SUM(Աջափնյակ:Սյունիք!G123) -> 3 | H123: =SUM(Աջափնյակ:Սյունիք!H123) -> 0 | I123: =SUM(Աջափնյակ:Սյունիք!I123) -> 0 | J123: =SUM(Աջափնյակ:Սյունիք!J123) -> 3 | K123: =SUM(Աջափնյակ:Սյունիք!K123) -> 0 | ... T123: =SUM(Աջափնյակ:Սյունիք!T123) -> 0
A124: 7.9 | B124: Կեղծ սնանկությունը | C124: 194 | D124: =SUM(Աջափնյակ:Սյունիք!D124) -> 0 | E124: =SUM(Աջափնյակ:Սյունիք!E124) -> 0 | F124: =SUM(Աջափնյակ:Սյունիք!F124) -> 0 | G124: =SUM(Աջափնյակ:Սյունիք!G124) -> 0 | H124: =SUM(Աջափնյակ:Սյունիք!H124) -> 0 | I124: =SUM(Աջափնյակ:Սյունիք!I124) -> 0 | J124: =SUM(Աջափնյակ:Սյունիք!J124) -> 0 | K124: =SUM(Աջափնյակ:Սյունիք!K124) -> 0 | ... T124: =SUM(Աջափնյակ:Սյունիք!T124) -> 0
... A147: 7.31 | B147: Ակնհայտ հանցավոր ճանապարհով ձեռք բերված գույք ձեռք բերելը կամ իրացնելը | C147: 216 | D147: =SUM(Աջափնյակ:Սյունիք!D147) -> 1 | E147: =SUM(Աջափնյակ:Սյունիք!E147) -> 0 | F147: =SUM(Աջափնյակ:Սյունիք!F147) -> 3 | G147: =SUM(Աջափնյակ:Սյունիք!G147) -> 3 | H147: =SUM(Աջափնյակ:Սյունիք!H147) -> 0 | I147: =SUM(Աջափնյակ:Սյունիք!I147) -> 0 | J147: =SUM(Աջափնյակ:Սյունիք!J147) -> 3 | K147: =SUM(Աջափնյակ:Սյունիք!K147) -> 0 | ... T147: =SUM(Աջափնյակ:Սյունիք!T147) -> 0
A148: 7.32 | B148: Այլ հանցագործություններ | D148: =SUM(Աջափնյակ:Սյունիք!D148) -> 1 | E148: =SUM(Աջափնյակ:Սյունիք!E148) -> 0 | F148: =SUM(Աջափնյակ:Սյունիք!F148) -> 0 | G148: =SUM(Աջափնյակ:Սյունիք!G148) -> 1 | H148: =SUM(Աջափնյակ:Սյունիք!H148) -> 0 | I148: =SUM(Աջափնյակ:Սյունիք!I148) -> 0 | J148: =SUM(Աջափնյակ:Սյունիք!J148) -> 1 | K148: =SUM(Աջափնյակ:Սյունիք!K148) -> 0 | ... T148: =SUM(Աջափնյակ:Սյունիք!T148) -> 0
A149: 8. | B149: Ընդամենը հասարակական անվտանգության դեմ ուղղված հանցագործությունները | D149: =SUM(Աջափնյակ:Սյունիք!D149) -> 123 | E149: =SUM(Աջափնյակ:Սյունիք!E149) -> 3 | F149: =SUM(Աջափնյակ:Սյունիք!F149) -> 405 | G149: =SUM(Աջափնյակ:Սյունիք!G149) -> 348 | H149: =SUM(Աջափնյակ:Սյունիք!H149) -> 18 | I149: =SUM(Աջափնյակ:Սյունիք!I149) -> 1 | J149: =SUM(Աջափնյակ:Սյունիք!J149) -> 367 | K149: =SUM(Աջափնյակ:Սյունիք!K149) -> 6 | ... T149: =SUM(Աջափնյակ:Սյունիք!T149) -> 17
A150: 8.1 | B150: Ահաբեկչությունը | C150: 217 | D150: =SUM(Աջափնյակ:Սյունիք!D150) -> 0 | E150: =SUM(Աջափնյակ:Սյունիք!E150) -> 0 | F150: =SUM(Աջափնյակ:Սյունիք!F150) -> 0 | G150: =SUM(Աջափնյակ:Սյունիք!G150) -> 0 | H150: =SUM(Աջափնյակ:Սյունիք!H150) -> 0 | I150: =SUM(Աջափնյակ:Սյունիք!I150) -> 0 | J150: =SUM(Աջափնյակ:Սյունիք!J150) -> 0 | K150: =SUM(Աջափնյակ:Սյունիք!K150) -> 0 | ... T150: =SUM(Աջափնյակ:Սյունիք!T150) -> 0
A151: 8.2 | B151: Ահաբեկչության ֆինանսավորումը | C151: 217.1 | D151: =SUM(Աջափնյակ:Սյունիք!D151) -> 0 | E151: =SUM(Աջափնյակ:Սյունիք!E151) -> 0 | F151: =SUM(Աջափնյակ:Սյունիք!F151) -> 0 | G151: =SUM(Աջափնյակ:Սյունիք!G151) -> 0 | H151: =SUM(Աջափնյակ:Սյունիք!H151) -> 0 | I151: =SUM(Աջափնյակ:Սյունիք!I151) -> 0 | J151: =SUM(Աջափնյակ:Սյունիք!J151) -> 0 | K151: =SUM(Աջափնյակ:Սյունիք!K151) -> 0 | ... T151: =SUM(Աջափնյակ:Սյունիք!T151) -> 0
A152: 8.3 | B152: Պատանդ վերցնելը | C152: 218 | D152: =SUM(Աջափնյակ:Սյունիք!D152) -> 0 | E152: =SUM(Աջափնյակ:Սյունիք!E152) -> 0 | F152: =SUM(Աջափնյակ:Սյունիք!F152) -> 4 | G152: =SUM(Աջափնյակ:Սյունիք!G152) -> 0 | H152: =SUM(Աջափնյակ:Սյունիք!H152) -> 0 | I152: =SUM(Աջափնյակ:Սյունիք!I152) -> 0 | J152: =SUM(Աջափնյակ:Սյունիք!J152) -> 0 | K152: =SUM(Աջափնյակ:Սյունիք!K152) -> 0 | ... T152: =SUM(Աջափնյակ:Սյունիք!T152) -> 0
...

Sheet Աջափնյակ
A1: 2017թ. | D1: ՀԱՇՎԵՏՎՈՒԹՅՈՒՆ | N1: Հավելված Հայաստանի Հանրապետության Դատարանների նախագահների խորհրդի 29.01.2018թ. թիվ 10-Լ որոշման
A2: ԵՐԵՎԱՆ ՔԱՂԱՔԻ ԱՋԱՓՆՅԱԿ և ԴԱՎԹԱՇԵՆ ՎԱՐՉԱԿԱՆ ՇՐՋԱՆՆԵՐԻ ԸՆԴՀԱՆՈՒՐ ԻՐԱՎԱՍՈՒԹՅԱՆ ԱՌԱՋԻՆ ԱՏՅԱՆԻ ԴԱՏԱՐԱՆՈՒՄ ՔՐԵԱԿԱՆ ԳՈՐԾԵՐԻ ՔՆՆՈՒԹՅԱՆ ՎԵՐԱԲԵՐՅԱԼ
A3: Երևան քաղաքի Աջափնյակ և Դավթաշեն վարչական շրջանների ընդհանուր իրավասության առաջին ատյանի դատարանում քրեական մասնագիտացում ունեցող դատավորների հաստիքների քանակը` 3
C4: ՀՀ քրեական օրենսգրքի հոդվածներ | D4: Հաշվետու ժամանակահատվածի սկզբում նախորդ հաշվետու ժամանակահատվածից փոխանցված գործերի ընդհանուր թիվը | E4: Այդ թվում` կասեցված վիճակում փոխանցված | F4: Հաշվետու ժամանակահատվածում ստացված գործերի ընդհանուր թիվը | G4: Հաշվետու ժամանակահատվածում ավարտված գործերի ընդհանուր թիվը | K4: Ուղարկվել է ըստ ընդդատության | L4: Հաշվետու ժամանակահատվածում կասեցված վարույթներով գործերի ընդհանուր թիվը | M4: Հաշվետու ժամանակահատվածում անավարտ գործերի ընդհանուր թիվը | N4: Այդ թվում՝ կասեցված | O4: Բողոքարկված դատական ակտերի թիվը` ըստ տեսակների | R4: Բեկանված դատական ակտերի թիվը` ըստ տեսակների
G5: Քննվել է ըստ էության և դատավճիռ կայացվել | H5: Որոշում է կայացվել քրեական գործի վարույթը կարճելու և քրեական հետապնդումը դադարեցնելու մասին | I5: Որոշում է կայացվել անմեղսունակների նկատմամբ բժշկական բնույթի հարկադրական միջոցներ կիրառելու մասին | J5: Ընդամենը ավարտվել են գործեր | O5: Այդ թվում` գործն ըստ էության լուծող դատական ակտերը | P5: Այդ թվում` միջանկյալ դատական ակտերը | Q5: Ընդամենը | R5: Այդ թվում` գործն ըստ էության լուծող դատական ակտերը | S5: Այդ թվում` միջանկյալ դատական ակտերը | T5: Ընդամենը
D6: 1 | E6: 2 | F6: 3 | G6: 4 | H6: 5 | I6: 6 | J6: 7 | K6: 8 | L6: 9 | M6: 10 | N6: 11 | O6: 12 | P6: 13 | Q6: 14 | R6: 15 | S6: 16 | T6: 17
A7: 1. | B7: Ընդամենը կյանքի և առողջության դեմ ուղղված հանցագործությունները | D7: =SUM(D8:D34) -> 25 | E7: =SUM(E8:E34) -> 2 | F7: =SUM(F8:F34) -> 32 | G7: =SUM(G8:G34) -> 28 | H7: =SUM(H8:H34) -> 5 | I7: =SUM(I8:I34) -> 0 | J7: =SUM(J8:J34) -> 33 | K7: =SUM(K8:K34) -> 0 | ... T7: =SUM(T8:T34) -> 0
A8: 1.1 | B8: Սպանությունը | C8: 104 | D8: 8 | F8: 4 | G8: 7 | J8: 7 | M8: 5 | O8: 7 | Q8: 7
A9: 1.2 | B9: Հոգեկան խիստ հուզմունքի վիճակում կատարված սպանությունը | C9: 105 | M9: 0
A10: 1.3 | B10: Մոր կողմից նորածին երեխայի սպանությունը | C10: 106 | M10: 0
A11: 1.4 | B11: Հանցանք կատարած անձին բռնելու համար անհրաժեշտ միջոցների սահմանազանցմամբ սպանությունը | C11: 107 | M11: 0
A12: 1.5 | B12: Անհրաժեշտ պաշտպանության սահմանազանցմամբ սպանությունը | C12: 108 | M12: 0
A13: 1.6 | B13: Անզգուշությամբ մահ պատճառելը | C13: 109 | D13: 1 | F13: 1 | G13: 1 | J13: 1 | M13: 1 | O13: 1 | Q13: 1
A14: 1.7 | B14: Ինքնասպանության հասցնելը | C14: 110 | M14: 0
A15: 1.8 | B15: Ինքնասպանության հակելը | C15: 111 | M15: 0
A16: 1.9 | B16: Դիտավորությամբ առողջությանը ծանր վնաս պատճառելը | C16: 112 | D16: 6 | F16: 7 | G16: 7 | J16: 7 | M16: 6 | O16: 6 | Q16: 6
A17: 1.10 | B17: Դիտավորությամբ առողջությանը միջին ծանրության վնաս պատճառելը | C17: 113 | D17: 2 | F17: 4 | G17: 3 | H17: 1 | J17: 4 | M17: 2 | O17: 2 | Q17: 2
A18: 1.11 | B18: Հոգեկան խիստ հուզմունքի վիճակում առողջությանը ծանր կամ միջին ծանրության վնաս պատճառելը | C18: 114 | M18: 0
A19: 1.12 | B19: Հանցանք կատարած անձին բռնելու համար անհրաժեշտ միջոցների սահմանզանցմամբ առողջությանը ծանր կամ միջին ծանրության վնաս պատճառելը | C19: 115 | M19: 0
A20: 1.13 | B20: Առողջությանը ծանր կամ միջին ծանրության վնաս պատճառելը անհրաժեշտ պաշտպանության սահմանանազանցմամբ | C20: 116 | M20: 0
A21: 1.14 | B21: Դիտավորությամբ առողջությանը թեթև վնաս պատճառելը | C21: 117 | D21: 3 | F21: 7 | G21: 5 | H21: 4 | J21: 9 | M21: 1 | O21: 2 | Q21: 2
A22: 1.15 | B22: Ծեծը | C22: 118 | D22: 4 | E22: 1 | F22: 8 | G22: 5 | J22: 5 | M22: 7 | N22: 1 | O22: 2 | Q22: 2
A23: 1.16 | B23: Ֆիզիկական ուժեղ ցավ կամ հոգեկան ուժեղ տառապանք պատճառելը | C23: 119 | M23: 0
A24: 1.17 | B24: Անզգուշությամբ առողջությանը ծանր վնաս պատճառելը | C24: 120 | M24: 0
A25: 1.18 | B25: Անզգուշությամբ առողջությանը միջին ծանրության վնաս պատճառելը | C25: 121 | M25: 0
A26: 1.19 | B26: Ապօրինի աբորտ կատարելը | C26: 122 | M26: 0
A27: 1.20 | B27: Մարդու իմունային անբավարարության վիրուսի հարուցիչով վարակելը | C27: 123 | M27: 0
A28: 1.21 | B28: Վեներական հիվանդությամբ կամ այլ սեռավարակներով վարակելը | C28: 124 | M28: 0
A29: 1.22 | B29: Փոխպատվաստման վիրահատություն կատարելու կանոնները խախտելը | C29: 125 | M29: 0
A30: 1.24 | B30: Անձին առանց իր հանձնարարության բժշկական կամ գիտական փորձերի ենթարկելը | C30: 127 | M30: 0
A31: 1.25 | B31: Վտանգի մեջ թողնելը | C31: 128 | M31: 0
A32: 1.26 | B32: Հիվանդին օգնություն ցույց չտալը | C32: 129 | M32: 0
A33: 1.27 | B33: Բժշկական օգնություն և սպասարկում իրականացնողների կողմից մասնագիտական պարտականությունները չկատարելը կամ ոչ պատշաճ կատարելը | C33: 130 | F33: 1 | M33: 1
A34: 1.28 | B34: Այլ հանցագործություններ | D34: 1 | E34: 1 | M34: 1 | N34: 1
A35: 2. | B35: Ընդամենը անձի ազատության, պատվի և արժանապատվության դեմ ուղղված հանցագործությունները | D35: =SUM(D36:D43) -> 3 | E35: =SUM(E36:E43) -> 0 | F35: =SUM(F36:F43) -> 1 | G35: =SUM(G36:G43) -> 2 | H35: =SUM(H36:H43) -> 1 | I35: =SUM(I36:I43) -> 0 | J35: =SUM(J36:J43) -> 3 | K35: =SUM(K36:K43) -> 0 | ... T35: =SUM(T36:T43) -> 0
A36: 2.1 | B36: Մարդուն առևանգելը | C36: 131 | D36: 2 | G36: 2 | J36: 2 | M36: 0 | O36: 2 | Q36: 2
A37: 2.2 | B37: Մարդու թրաֆիքինգը կամ շահագործումը | C37: 132 | F37: 1 | M37: 1
A38: 2.2.2 | B38: Երեխայի կամ հոգեկան խանգարման հետևանքով իր արարքի բնույթն ու նշանակությունը գիտակցելու կամ դա ղեկավարելու հնարավորությունից զրկված անձի թրաֆիքինգը կամ շահագործումը | C38: 132.2 | M38: 0
A39: 2.2.3 | B39: Շահագործման վիճակում գտնվող անձի ծառայությունից օգտվելը | C39: 132.3 | M39: 0
A40: 2.3 | B40: Ազատությունից ապօրինի զրկելը | C40: 133 | M40: 0
A41: 2.4 | B41: Հոգեբուժական հիվանդանոցում ապօրինի տեղավորելը կամ պահելը | C41: 134 | M41: 0
A42: 2.7 | B42: Սպանության, առողջությանը ծանր վնաս պատճառելու կամ գույք ոչնչացնելու սպառնալիքը | C42: 137 | D42: 1 | H42: 1 | J42: 1 | M42: 0
A43: 2.8 | B43: Այլ հանցագործություններ
A44: 3. | B44: Ընդամենը սեռական անձեռնմխելիության և սեռական ազատության դեմ ուղղված հանցագործությունները | D44: =SUM(D45:D50) -> 0 | E44: =SUM(E45:E50) -> 0 | F44: =SUM(F45:F50) -> 1 | G44: =SUM(G45:G50) -> 0 | H44: =SUM(H45:H50) -> 0 | I44: =SUM(I45:I50) -> 0 | J44: =SUM(J45:J50) -> 0 | K44: =SUM(K45:K50) -> 0 | ... T44: =SUM(T45:T50) -> 0
A45: 3.1 | B45: Բռնաբարությունը | C45: 138 | M45: 0
A46: 3.2 | B46: Սեքսուալ բնույթի բռնի գործողությունները | C46: 139 | F46: 1 | M46: 1
A47: 3.3 | B47: Սեռական հարաբերության կամ սեքսուալ բնույթի գործողություններին հարկադրելը | C47: 140 | M47: 0
A48: 3.4 | B48: Սեռական հարաբերությունը տասնվեց տարին չլրացած անձի հետ կամ սեքսուալ բնույթի գործողություններ կատարելը տասնվեց տարին չլրացած անձի նկատմամբ | C48: 141 | M48: 0
A49: 3.5 | B49: Անառակաբարո գործողությունները | C49: 142 | M49: 0
A50: 3.6 | B50: Այլ հանցագործություններ | M50: 0
A51: 4. | B51: Ընդամենը մարդու և քաղաքացու սահմանադրական իրավունքների և ազատությունների դեմ ուղղված հանցագործությունները | D51: =SUM(D52:D80) -> 2 | E51: =SUM(E52:E80) -> 0 | F51: =SUM(F52:F80) -> 1 | G51: =SUM(G52:G80) -> 2 | H51: =SUM(H52:H80) -> 0 | I51: =SUM(I52:I80) -> 0 | J51: =SUM(J52:J80) -> 2 | K51: =SUM(K52:K80) -> 0 | ... T51: =SUM(T52:T80) -> 0
A52: 4.1 | B52: Մարդու և քաղաքացու իրավահավասարությունը խախտելը | C52: 143 | M52: 0
A53: 4.2 | B53: Անձնական կամ ընտանեկան կյանքի մասին տեղեկություններ ապօրինի հավաքելը, պահելը, օգտագործելը կամ տարածելը | C53: 144 | M53: 0
A54: 4.3 | B54: Բժշկական գաղտնիքը հրապարակելը | C54: 145 | M54: 0
A55: 4.4 | B55: Նամակագրության, հեռախոսային խոսակցությունների, փոստային, հեռագրական կամ այլ հաղորդումների գաղտնիությունը խախտելը | C55: 146 | M55: 0
A56: 4.5 | B56: Բնակարանի անձեռնմխելիությունը խախտելը | C56: 147 | D56: 1 | F56: 1 | G56: 1 | J56: 1 | M56: 1
A57: 4.6 | B57: Անձին տեղեկություն ներկայացնելուց հրաժարվելը | C57: 148 | M57: 0
A58: 4.7 | B58: Ընտրական իրավունքի իրականացմանը, ընտրական հանձնաժողովների աշխատանքներին կամ ընտրությանը մասնակցող անձանց լիազորությունների իրականացմանը խոչընդոտելը | C58: 149 | M58: 0
A59: 4.8 | B59: Ընտրությունների կամ քվեարկության արդյունքները կեղծելը | C59: 150 | M59: 0
A60: 4.10 | B60: Ընտրողների ցուցակները կազմելու, դրանք քաղաքացիներին և կուսակցություններին տրամադրելու կամ հրապարակելու կարգը խախտելը | C60: 152 | M60: 0
A61: 4.11 | B61: Մեկից ավելի անգամ կամ այլ անձի փոխարեն քվեարկելը | C61: 153 | M61: 0
A62: 4.12 | B62: Քվեարկության գաղտնիությունը խախտելը | C62: 154 | M62: 0
A63: 4.13 | B63: Կեղծ ընտրական քվեաթերթիկներ կամ քվեարկության ծրարներ, դրոշմանիշեր, կտրոններ պատրաստելը կամ ակնհայտ կեղծ ընտրական քվեաթերթիկներ կամ քվեարկության ծրարներ, դրոշմանիշեր, կտրոններ հանձնելը կամ իրացնելը | C63: 154.1 | M63: 0
A64: 4.14 | B64: Ընտրողի կողմից թեկնածուներից, կուսակցություններից (կուսակցությունների դաշինքներից), հանրաքվեի քարոզչական նախաձեռնություններից կաշառք ստանալը կամ թեկնածուների, կուսակցությունների (կուսակցությունների դաշինքների), հանրաքվեի քարոզչական նախաձեռնությունների կողմից ընտրողներին կաշառք տալը կամ ընտրողի ազատ կամքի իրականացմանը խոչընդոտելը | C64: 154.2 | M64: 0
A65: 4.16 | B65: Զենքով՝ տեղամասային կենտրոն մուտք գործելը | C65: 154.4 | M65: 0
A66: 4.17 | B66: Վստահված անձին,ընտրական հանձնաժողովի անդամին,դիտորդին կամ զանգվածային լրատվության միջոցի ներկայացուցչին ընտրական փաստաթղթերին ծանոթանալուն խոչընդոտելը, ընտրական հանձնաժողովի արձանագրությունների պատճեններ չտալը | C66: 154.5 | M66: 0
A67: 4.17.1 | B67: Ընտրական հանձնաժողովի նախագահի լիազորությունները չկատարելը կամ ոչ պատշաճ կատարելը | C67: 154.6 | M67: 0
A68: 4.17.2 | B68: Քվեատուփը, ընտրողների ստորագրած ցուցակը, տեղամասային ընտրական հանձնաժողովի գրանցամատյանը, հանձնաժողովի կնիքը, տեղամասային ընտրական հանձնաժողովի անդամի անհատական կնիքը, ինքնասոսնձվող դրոշմանիշը, ընտրողի վերաբերյալ տվյալներ պարունակող քվեարկության կտրոնը կամ համարակալված կտրոնը, ընտրողների էլեկտրոնային գրանցման տեխնիկական սարքավորումը, կառավարության կողմից ընտրված մասնագիտացված կազմակերպության կողմից տեղադրված տեսախցիկը, ընտրական փաստաթղթերի մեկանգամյա օգտագործման պարկը կամ ընտրական փաստաթղթերի փաթեթը հափշտակելը | C68: 154.7 | M68: 0
... A71: 4.19 | B71: Հղի կնոջը կամ մինչև երեք տարեկան երեխա ունեցող անձին աշխատանքի ընդունելոււց հրաժարվելը կամ աշխատանքից անհիմն ազատելը | C71: 156 | M71: 0
A72: 4.20 | B72: Աշխատանքի պաշտպանության կանոնները խախտելը | C72: 157 | D72: 1 | G72: 1 | J72: 1 | M72: 0 | O72: 1 | Q72: 1
A73: 4.21 | B73: Հեղինակային և հարակից իրավունքները խախտելը | C73: 158 | M73: 0
A74: 4.22 | B74: Արտոնագրային իրավունքը խախտելը | C74: 159 | M74: 0
A75: 4.23 | B75: Խղճի կամ դավանանքի ազատության իրավունքի իրականացմանը խոչընդոտելը | C75: 160 | M75: 0
A76: 4.24 | B76: Միավորումներ (հասարակական կամ արհեստակցական միություններ) կազմելու կամ կուսակցություններ ստեղծելու իրավունքի իրականացմանը կամ դրանց գործողությանը խոչընդոտելը | C76: 161 | M76: 0
A77: 4.25 | B77: Անձանց իրավունքների կամ անձի դեմ ոտնձգող միավորումներ կազմելը կամ ղեկավարելը | C77: 162 | M77: 0
A78: 4.26 | B78: Հավաքներ անցկացնելուն կամ դրանց մասնակցելուն խոչընդոտելը | C78: 163 | M78: 0
A79: 4.27 | B79: Լրագրողի մասնագիտական օրինական գործողությանը խոչընդոտելը | C79: 164 | M79: 0
A80: 4.28 | B80: Այլ հանցագործություններ | M80: 0
A81: 5. | B81: Ընդամենը ընտանիքի և երեխայի շահերի դեմ ուղղված հանցագործությունները | D81: =SUM(D82:D95) -> 1 | E81: =SUM(E82:E95) -> 0 | F81: =SUM(F82:F95) -> 0 | G81: =SUM(G82:G95) -> 1 | H81: =SUM(H82:H95) -> 0 | I81: =SUM(I82:I95) -> 0 | J81: =SUM(J82:J95) -> 1 | K81: =SUM(K82:K95) -> 0 | ... T81: =SUM(T82:T95) -> 1
A82: 5.1 | B82: Անչափահասին հանցանքի կատարմանը ներգրավելը | C82: 165 | M82: 0
A83: 5.2 | B83: Երեխային պոռնկության կամ պոռնկագրական բնույթի նյութեր կամ առարկաներ պատրաստելու հետ կապված գործողություններ կատարելուն ներգրավելը | C83: 166 | M83: 0
A84: 5.2.1 | B84: Երեխային ոգելից խմիչքների օգտագործմանը, ուժեղ ներգործող կամ այլ թմրեցնող նյութերի ոչ բժշկական օգտագործմանը, թափառաշրջիկությանը ներգրավելը կամ մուրացկանության հետ կապված գործողություններ կատարելուն ներգրավելը | C84: 166.1 | M84: 0
A85: 5.3 | B85: Ծնողներից երեխային ապօրինի բաժանելը կամ երեխային փոխելը | C85: 167 | M85: 0
A86: 5.4 | B86: Խնամքը ստանձնելու նպատակով երեխայի առքը կամ ստանձնողի խնամքին հանձնելու նպատակով երեխայի վաճառքը | C86: 168 | D86: 1 | G86: 1 | J86: 1 | M86: 0 | O86: 1 | Q86: 1 | R86: 1 | T86: 1
A87: 5.5 | B87: Որդեգրման գաղտնիքը հրապարակելը կամ որդեգրման համաձայնություն տալուն հակելը կամ հարկադրելը | C87: 169 | M87: 0
A88: 5.6 | B88: Քաղաքացիական կացության ակտերի գրանցման մարմիններին սուտ տեղեկություններ հաղորդելը | C88: 169.1 | M88: 0
A89: 5.7 | B89: Երեխային դաստիարակելու պարտականությունը չկատարելը | C89: 170 | M89: 0
A90: 5.8 | B90: Երեխայի կյանքի անվտանգության ապահովման կամ առողջության պահպանման պարտականությունը չկատարելը կամ ոչ պատշաճ կատարելը | C90: 171 | M90: 0
A91: 5.8.1 | B91: Վերարտադրողականության օժանդակ տեխնոլոգիաներից օգտվելու կանոնները խախտելը | C91: 171.1 | M91: 0
A92: 5.9 | B92: Խնամակալի կամ հոգաբարձուի իրավունքները չարաշահելը | C92: 172 | M92: 0
A93: 5.10 | B93: Ծնողի կողմից երեխային պահելուց չարամտորեն խուսափելը | C93: 173 | M93: 0
A94: 5.11 | B94: Զավակի կողմից անաշխատունակ ծնողին պահելուց չարամտորեն խուսափելը | C94: 174 | M94: 0
A95: 5.12 | B95: Այլ հանցագործություններ | M95: 0
A96: 6. | B96: Ընդամենը սեփականության դեմ ուղղված հանցագործությունները | D96: =SUM(D97:D111) -> 20 | E96: =SUM(E97:E111) -> 2 | F96: =SUM(F97:F111) -> 42 | G96: =SUM(G97:G111) -> 30 | H96: =SUM(H97:H111) -> 1 | I96: =SUM(I97:I111) -> 1 | J96: =SUM(J97:J111) -> 32 | K96: =SUM(K97:K111) -> 2 | ... T96: =SUM(T97:T111) -> 0
A97: 6.1 | B97: Ավազակությունը | C97: 175 | F97: 2 | G97: 2 | J97: 2 | M97: 0 | O97: 2 | Q97: 2
A98: 6.2 | B98: Կողոպուտը | C98: 176 | F98: 6 | G98: 1 | J98: 1 | M98: 5 | O98: 1 | Q98: 1
A99: 6.3 | B99: Գողությունը | C99: 177 | D99: 7 | E99: 1 | F99: 19 | G99: 13 | H99: 1 | J99: 14 | M99: 11 | N99: 1 | O99: 9 | Q99: 9
A100: 6.4 | B100: Խարդախությունը | C100: 178 | D100: 10 | E100: 1 | F100: 12 | G100: 10 | J100: 10 | K100: 2 | M100: 9 | N100: 1 | O100: 8 | Q100: 8
A101: 6.5 | B101: Յուրացնելը կամ վատնելը | C101: 179 | F101: 2 | G101: 1 | J101: 1 | M101: 1 | O101: 1 | Q101: 1
A102: 6.6 | B102: Առանձնակի արժեք ունեցող առարկաներ հափշտակելը | C102: 180 | M102: 0
...

Sheet Կենտրոն
A1: 2017թ. | D1: ՀԱՇՎԵՏՎՈՒԹՅՈՒՆ | N1: Հավելված Հայաստանի Հանրապետության Դատարանների նախագահների խորհրդի 29.01.2018թ. թիվ 10-Լ որոշման
A2: ԵՐԵՎԱՆ ՔԱՂԱՔԻ ԿԵՆՏՐՈՆ ԵՎ ՆՈՐՔ-ՄԱՐԱՇ ՎԱՐՉԱԿԱՆ ՇՐՋԱՆՆԵՐԻ ԸՆԴՀԱՆՈՒՐ ԻՐԱՎԱՍՈՒԹՅԱՆ ԱՌԱՋԻՆ ԱՏՅԱՆԻ ԴԱՏԱՐԱՆՈՒՄ ՔՐԵԱԿԱՆ ԳՈՐԾԵՐԻ ՔՆՆՈՒԹՅԱՆ ՎԵՐԱԲԵՐՅԱԼ
A3: Երևան քաղաքի ԿԵնտրոն և Նորք-Մարաշ վարչական շրջանների ընդհանուր իրավասության առաջին ատյանի դատարանում քրեական մասնագիտացում ունեցող դատավորների հաստիքների քանակը` 5
C4: ՀՀ քրեական օրենսգրքի հոդվածներ | D4: Հաշվետու ժամանակահատվածի սկզբում նախորդ հաշվետու ժամանակահատվածից փոխանցված գործերի ընդհանուր թիվը | E4: Այդ թվում` կասեցված վիճակում փոխանցված | F4: Հաշվետու ժամանակահատվածում ստացված գործերի ընդհանուր թիվը | G4: Հաշվետու ժամանակահատվածում ավարտված գործերի ընդհանուր թիվը | K4: Ուղարկվել է ըստ ընդդատության | L4: Հաշվետու ժամանակահատվածում կասեցված վարույթներով գործերի ընդհանուր թիվը | M4: Հաշվետու ժամանակահատվածում անավարտ գործերի ընդհանուր թիվը | N4: Այդ թվում՝ կասեցված | O4: Բողոքարկված դատական ակտերի թիվը` ըստ տեսակների | R4: Բեկանված դատական ակտերի թիվը` ըստ տեսակների
G5: Քննվել է ըստ էության և դատավճիռ կայացվել | H5: Որոշում է կայացվել քրեական գործի վարույթը կարճելու և քրեական հետապնդումը դադարեցնելու մասին | I5: Որոշում է կայացվել անմեղսունակների նկատմամբ բժշկական բնույթի հարկադրական միջոցներ կիրառելու մասին | J5: Ընդամենը ավարտվել են գործեր | O5: Այդ թվում` գործն ըստ էության լուծող դատական ակտերը | P5: Այդ թվում` միջանկյալ դատական ակտերը | Q5: Ընդամենը | R5: Այդ թվում` գործն ըստ էության լուծող դատական ակտերը | S5: Այդ թվում` միջանկյալ դատական ակտերը | T5: Ընդամենը
D6: 1 | E6: 2 | F6: 3 | G6: 4 | H6: 5 | I6: 6 | J6: 7 | K6: 8 | L6: 9 | M6: 10 | N6: 11 | O6: 12 | P6: 13 | Q6: 14 | R6: 15 | S6: 16 | T6: 17
A7: 1. | B7: Ընդամենը կյանքի և առողջության դեմ ուղղված հանցագործությունները | D7: =SUM(D8:D34) -> 32 | E7: =SUM(E8:E34) -> 0 | F7: =SUM(F8:F34) -> 27 | G7: =SUM(G8:G34) -> 28 | H7: =SUM(H8:H34) -> 8 | I7: =SUM(I8:I34) -> 1 | J7: =SUM(J8:J34) -> 37 | K7: =SUM(K8:K34) -> 0 | ... T7: =SUM(T8:T34) -> 3
A8: 1.1 | B8: Սպանությունը | C8: 104 | D8: 10 | F8: 5 | G8: 8 | J8: 8 | M8: 7 | O8: 6 | Q8: 6 | R8: 1 | T8: 1
A9: 1.2 | B9: Հոգեկան խիստ հուզմունքի վիճակում կատարված սպանությունը | C9: 105
A10: 1.3 | B10: Մոր կողմից նորածին երեխայի սպանությունը | C10: 106
A11: 1.4 | B11: Հանցանք կատարած անձին բռնելու համար անհրաժեշտ միջոցների սահմանազանցմամբ սպանությունը | C11: 107
A12: 1.5 | B12: Անհրաժեշտ պաշտպանության սահմանազանցմամբ սպանությունը | C12: 108
A13: 1.6 | B13: Անզգուշությամբ մահ պատճառելը | C13: 109
A14: 1.7 | B14: Ինքնասպանության հասցնելը | C14: 110 | D14: 1 | G14: 1 | J14: 1 | O14: 1 | Q14: 1
A15: 1.8 | B15: Ինքնասպանության հակելը | C15: 111
A16: 1.9 | B16: Դիտավորությամբ առողջությանը ծանր վնաս պատճառելը | C16: 112 | D16: 7 | F16: 5 | G16: 9 | J16: 9 | M16: 3 | O16: 5 | Q16: 5 | R16: 1 | T16: 1
A17: 1.10 | B17: Դիտավորությամբ առողջությանը միջին ծանրության վնաս պատճառելը | C17: 113 | D17: 1 | F17: 8 | G17: 2 | H17: 2 | I17: 1 | J17: 5 | M17: 4 | O17: 1 | Q17: 1
A18: 1.11 | B18: Հոգեկան խիստ հուզմունքի վիճակում առողջությանը ծանր կամ միջին ծանրության վնաս պատճառելը | C18: 114
A19: 1.12 | B19: Հանցանք կատարած անձին բռնելու համար անհրաժեշտ միջոցների սահմանզանցմամբ առողջությանը ծանր կամ միջին ծանրության վնաս պատճառելը | C19: 115
A20: 1.13 | B20: Առողջությանը ծանր կամ միջին ծանրության վնաս պատճառելը անհրաժեշտ պաշտպանության սահմանանազանցմամբ | C20: 116
A21: 1.14 | B21: Դիտավորությամբ առողջությանը թեթև վնաս պատճառելը | C21: 117 | D21: 5 | F21: 3 | G21: 4 | H21: 1 | J21: 5 | M21: 3 | O21: 1 | Q21: 1 | R21: 1 | T21: 1
A22: 1.15 | B22: Ծեծը | C22: 118 | D22: 8 | F22: 5 | G22: 4 | H22: 5 | J22: 9 | M22: 4 | O22: 1 | P22: 1 | Q22: 2
A23: 1.16 | B23: Ֆիզիկական ուժեղ ցավ կամ հոգեկան ուժեղ տառապանք պատճառելը | C23: 119
A24: 1.17 | B24: Անզգուշությամբ առողջությանը ծանր վնաս պատճառելը | C24: 120
A25: 1.18 | B25: Անզգուշությամբ առողջությանը միջին ծանրության վնաս պատճառելը | C25: 121
A26: 1.19 | B26: Ապօրինի աբորտ կատարելը | C26: 122
A27: 1.20 | B27: Մարդու իմունային անբավարարության վիրուսի հարուցիչով վարակելը | C27: 123
A28: 1.21 | B28: Վեներական հիվանդությամբ կամ այլ սեռավարակներով վարակելը | C28: 124
A29: 1.22 | B29: Փոխպատվաստման վիրահատություն կատարելու կանոնները խախտելը | C29: 125
A30: 1.24 | B30: Անձին առանց իր հանձնարարության բժշկական կամ գիտական փորձերի ենթարկելը | C30: 127
A31: 1.25 | B31: Վտանգի մեջ թողնելը | C31: 128
A32: 1.26 | B32: Հիվանդին օգնություն ցույց չտալը | C32: 129
A33: 1.27 | B33: Բժշկական օգնություն և սպասարկում իրականացնողների կողմից մասնագիտական պարտականությունները չկատարելը կամ ոչ պատշաճ կատարելը | C33: 130 | F33: 1 | M33: 1
A34: 1.28 | B34: Այլ հանցագործություններ
A35: 2. | B35: Ընդամենը անձի ազատության, պատվի և արժանապատվության դեմ ուղղված հանցագործությունները | D35: =SUM(D36:D43) -> 6 | E35: =SUM(E36:E43) -> 0 | F35: =SUM(F36:F43) -> 2 | G35: =SUM(G36:G43) -> 4 | H35: =SUM(H36:H43) -> 1 | I35: =SUM(I36:I43) -> 0 | J35: =SUM(J36:J43) -> 5 | K35: =SUM(K36:K43) -> 0 | ... T35: =SUM(T36:T43) -> 1
A36: 2.1 | B36: Մարդուն առևանգելը | C36: 131 | D36: 4 | F36: 1 | G36: 4 | J36: 4 | M36: 1 | O36: 4 | Q36: 4 | R36: 1 | T36: 1
A37: 2.2 | B37: Մարդու թրաֆիքինգը կամ շահագործումը | C37: 132
A38: 2.2.2 | B38: Երեխայի կամ հոգեկան խանգարման հետևանքով իր արարքի բնույթն ու նշանակությունը գիտակցելու կամ դա ղեկավարելու հնարավորությունից զրկված անձի թրաֆիքինգը կամ շահագործումը | C38: 132.2
A39: 2.2.3 | B39: Շահագործման վիճակում գտնվող անձի ծառայությունից օգտվելը | C39: 132.3
A40: 2.3 | B40: Ազատությունից ապօրինի զրկելը | C40: 133
A41: 2.4 | B41: Հոգեբուժական հիվանդանոցում ապօրինի տեղավորելը կամ պահելը | C41: 134
A42: 2.7 | B42: Սպանության, առողջությանը ծանր վնաս պատճառելու կամ գույք ոչնչացնելու սպառնալիքը | C42: 137 | D42: 2 | F42: 1 | H42: 1 | J42: 1 | M42: 2
A43: 2.8 | B43: Այլ հանցագործություններ
A44: 3. | B44: Ընդամենը սեռական անձեռնմխելիության և սեռական ազատության դեմ ուղղված հանցագործությունները | D44: =SUM(D45:D50) -> 3 | E44: =SUM(E45:E50) -> 0 | F44: =SUM(F45:F50) -> 3 | G44: =SUM(G45:G50) -> 4 | H44: =SUM(H45:H50) -> 0 | I44: =SUM(I45:I50) -> 0 | J44: =SUM(J45:J50) -> 4 | K44: =SUM(K45:K50) -> 0 | ... T44: =SUM(T45:T50) -> 0
A45: 3.1 | B45: Բռնաբարությունը | C45: 138
A46: 3.2 | B46: Սեքսուալ բնույթի բռնի գործողությունները | C46: 139 | D46: 2 | G46: 2 | J46: 2 | O46: 2 | Q46: 2
A47: 3.3 | B47: Սեռական հարաբերության կամ սեքսուալ բնույթի գործողություններին հարկադրելը | C47: 140 | D47: 1 | M47: 1
A48: 3.4 | B48: Սեռական հարաբերությունը տասնվեց տարին չլրացած անձի հետ կամ սեքսուալ բնույթի գործողություններ կատարելը տասնվեց տարին չլրացած անձի նկատմամբ | C48: 141 | F48: 3 | G48: 2 | J48: 2 | M48: 1
A49: 3.5 | B49: Անառակաբարո գործողությունները | C49: 142
A50: 3.6 | B50: Այլ հանցագործություններ
A51: 4. | B51: Ընդամենը մարդու և քաղաքացու սահմանադրական իրավունքների և ազատությունների դեմ ուղղված հանցագործությունները | D51: =SUM(D52:D80) -> 3 | E51: =SUM(E52:E80) -> 0 | F51: =SUM(F52:F80) -> 5 | G51: =SUM(G52:G80) -> 3 | H51: =SUM(H52:H80) -> 1 | I51: =SUM(I52:I80) -> 0 | J51: =SUM(J52:J80) -> 4 | K51: =SUM(K52:K80) -> 0 | ... T51: =SUM(T52:T80) -> 0
A52: 4.1 | B52: Մարդու և քաղաքացու իրավահավասարությունը խախտելը | C52: 143
A53: 4.2 | B53: Անձնական կամ ընտանեկան կյանքի մասին տեղեկություններ ապօրինի հավաքելը, պահելը, օգտագործելը կամ տարածելը | C53: 144 | F53: 1 | M53: 1
A54: 4.3 | B54: Բժշկական գաղտնիքը հրապարակելը | C54: 145
A55: 4.4 | B55: Նամակագրության, հեռախոսային խոսակցությունների, փոստային, հեռագրական կամ այլ հաղորդումների գաղտնիությունը խախտելը | C55: 146
A56: 4.5 | B56: Բնակարանի անձեռնմխելիությունը խախտելը | C56: 147 | D56: 1 | G56: 1 | J56: 1 | O56: 1 | Q56: 1
A57: 4.6 | B57: Անձին տեղեկություն ներկայացնելուց հրաժարվելը | C57: 148
A58: 4.7 | B58: Ընտրական իրավունքի իրականացմանը, ընտրական հանձնաժողովների աշխատանքներին կամ ընտրությանը մասնակցող անձանց լիազորությունների իրականացմանը խոչընդոտելը | C58: 149 | F58: 1 | M58: 1
A59: 4.8 | B59: Ընտրությունների կամ քվեարկության արդյունքները կեղծելը | C59: 150
A60: 4.10 | B60: Ընտրողների ցուցակները կազմելու, դրանք քաղաքացիներին և կուսակցություններին տրամադրելու կամ հրապարակելու կարգը խախտելը | C60: 152
A61: 4.11 | B61: Մեկից ավելի անգամ կամ այլ անձի փոխարեն քվեարկելը | C61: 153 | F61: 1 | M61: 1
A62: 4.12 | B62: Քվեարկության գաղտնիությունը խախտելը | C62: 154
A63: 4.13 | B63: Կեղծ ընտրական քվեաթերթիկներ կամ քվեարկության ծրարներ, դրոշմանիշեր, կտրոններ պատրաստելը կամ ակնհայտ կեղծ ընտրական քվեաթերթիկներ կամ քվեարկության ծրարներ, դրոշմանիշեր, կտրոններ հանձնելը կամ իրացնելը | C63: 154.1
A64: 4.14 | B64: Ընտրողի կողմից թեկնածուներից, կուսակցություններից (կուսակցությունների դաշինքներից), հանրաքվեի քարոզչական նախաձեռնություններից կաշառք ստանալը կամ թեկնածուների, կուսակցությունների (կուսակցությունների դաշինքների), հանրաքվեի քարոզչական նախաձեռնությունների կողմից ընտրողներին կաշառք տալը կամ ընտրողի ազատ կամքի իրականացմանը խոչընդոտելը | C64: 154.2
A65: 4.16 | B65: Զենքով՝ տեղամասային կենտրոն մուտք գործելը | C65: 154.4
A66: 4.17 | B66: Վստահված անձին,ընտրական հանձնաժողովի անդամին,դիտորդին կամ զանգվածային լրատվության միջոցի ներկայացուցչին ընտրական փաստաթղթերին ծանոթանալուն խոչընդոտելը, ընտրական հանձնաժողովի արձանագրությունների պատճեններ չտալը | C66: 154.5
A67: 4.17.1 | B67: Ընտրական հանձնաժողովի նախագահի լիազորությունները չկատարելը կամ ոչ պատշաճ կատարելը | C67: 154.6
A68: 4.17.2 | B68: Քվեատուփը, ընտրողների ստորագրած ցուցակը, տեղամասային ընտրական հանձնաժողովի գրանցամատյանը, հանձնաժողովի կնիքը, տեղամասային ընտրական հանձնաժողովի անդամի անհատական կնիքը, ինքնասոսնձվող դրոշմանիշը, ընտրողի վերաբերյալ տվյալներ պարունակող քվեարկության կտրոնը կամ համարակալված կտրոնը, ընտրողների էլեկտրոնային գրանցման տեխնիկական սարքավորումը, կառավարության կողմից ընտրված մասնագիտացված կազմակերպության կողմից տեղադրված տեսախցիկը, ընտրական փաստաթղթերի մեկանգամյա օգտագործման պարկը կամ ընտրական փաստաթղթերի փաթեթը հափշտակելը | C68: 154.7
A69: 4.17.3 | B69: Այլ անձի փոխարեն քվեարկելու վերաբերյալ սուտ հայտարարություն տալը կամ կեղծ ստորագրությամբ հայտարարություն դիմումին կից ներկայացնելը | C69: 154.8
A70: 4.18 | B70: Գործադուլի մասնակցելուն կամ գործադուլի մասնակցելուց հրաժարվելուն հարկադրելը | C70: 155
A71: 4.19 | B71: Հղի կնոջը կամ մինչև երեք տարեկան երեխա ունեցող անձին աշխատանքի ընդունելոււց հրաժարվելը կամ աշխատանքից անհիմն ազատելը | C71: 156
A72: 4.20 | B72: Աշխատանքի պաշտպանության կանոնները խախտելը | C72: 157 | D72: 1 | F72: 2 | G72: 1 | H72: 1 | J72: 2 | M72: 1 | O72: 1 | Q72: 1
A73: 4.21 | B73: Հեղինակային և հարակից իրավունքները խախտելը | C73: 158
A74: 4.22 | B74: Արտոնագրային իրավունքը խախտելը | C74: 159
A75: 4.23 | B75: Խղճի կամ դավանանքի ազատության իրավունքի իրականացմանը խոչընդոտելը | C75: 160
A76: 4.24 | B76: Միավորումներ (հասարակական կամ արհեստակցական միություններ) կազմելու կամ կուսակցություններ ստեղծելու իրավունքի իրականացմանը կամ դրանց գործողությանը խոչընդոտելը | C76: 161
A77: 4.25 | B77: Անձանց իրավունքների կամ անձի դեմ ոտնձգող միավորումներ կազմելը կամ ղեկավարելը | C77: 162
A78: 4.26 | B78: Հավաքներ անցկացնելուն կամ դրանց մասնակցելուն խոչընդոտելը | C78: 163
A79: 4.27 | B79: Լրագրողի մասնագիտական օրինական գործողությանը խոչընդոտելը | C79: 164 | D79: 1 | G79: 1 | J79: 1 | O79: 1 | Q79: 1
A80: 4.28 | B80: Այլ հանցագործություններ
A81: 5. | B81: Ընդամենը ընտանիքի և երեխայի շահերի դեմ ուղղված հանցագործությունները | D81: =SUM(D82:D95) -> 0 | E81: =SUM(E82:E95) -> 0 | F81: =SUM(F82:F95) -> 0 | G81: =SUM(G82:G95) -> 0 | H81: =SUM(H82:H95) -> 0 | I81: =SUM(I82:I95) -> 0 | J81: =SUM(J82:J95) -> 0 | K81: =SUM(K82:K95) -> 0 | ... T81: =SUM(T82:T95) -> 0
A82: 5.1 | B82: Անչափահասին հանցանքի կատարմանը ներգրավելը | C82: 165
A83: 5.2 | B83: Երեխային պոռնկության կամ պոռնկագրական բնույթի նյութեր կամ առարկաներ պատրաստելու հետ կապված գործողություններ կատարելուն ներգրավելը | C83: 166
A84: 5.2.1 | B84: Երեխային ոգելից խմիչքների օգտագործմանը, ուժեղ ներգործող կամ այլ թմրեցնող նյութերի ոչ բժշկական օգտագործմանը, թափառաշրջիկությանը ներգրավելը կամ մուրացկանության հետ կապված գործողություններ կատարելուն ներգրավելը | C84: 166.1
A85: 5.3 | B85: Ծնողներից երեխային ապօրինի բաժանելը կամ երեխային փոխելը | C85: 167
A86: 5.4 | B86: Խնամքը ստանձնելու նպատակով երեխայի առքը կամ ստանձնողի խնամքին հանձնելու նպատակով երեխայի վաճառքը | C86: 168
A87: 5.5 | B87: Որդեգրման գաղտնիքը հրապարակելը կամ որդեգրման համաձայնություն տալուն հակելը կամ հարկադրելը | C87: 169
A88: 5.6 | B88: Քաղաքացիական կացության ակտերի գրանցման մարմիններին սուտ տեղեկություններ հաղորդելը | C88: 169.1
A89: 5.7 | B89: Երեխային դաստիարակելու պարտականությունը չկատարելը | C89: 170
A90: 5.8 | B90: Երեխայի կյանքի անվտանգության ապահովման կամ առողջության պահպանման պարտականությունը չկատարելը կամ ոչ պատշաճ կատարելը | C90: 171
A91: 5.8.1 | B91: Վերարտադրողականության օժանդակ տեխնոլոգիաներից օգտվելու կանոնները խախտելը | C91: 171.1
A92: 5.9 | B92: Խնամակալի կամ հոգաբարձուի իրավունքները չարաշահելը | C92: 172
A93: 5.10 | B93: Ծնողի կողմից երեխային պահելուց չարամտորեն խուսափելը | C93: 173
A94: 5.11 | B94: Զավակի կողմից անաշխատունակ ծնողին պահելուց չարամտորեն խուսափելը | C94: 174
A95: 5.12 | B95: Այլ հանցագործություններ
A96: 6. | B96: Ընդամենը սեփականության դեմ ուղղված հանցագործությունները | D96: =SUM(D97:D111) -> 71 | E96: =SUM(E97:E111) -> 14 | F96: =SUM(F97:F111) -> 115 | G96: =SUM(G97:G111) -> 66 | H96: =SUM(H97:H111) -> 9 | I96: =SUM(I97:I111) -> 0 | J96: =SUM(J97:J111) -> 75 | K96: =SUM(K97:K111) -> 6 | ... T96: =SUM(T97:T111) -> 3
A97: 6.1 | B97: Ավազակությունը | C97: 175 | D97: 5 | F97: 4 | G97: 2 | J97: 2 | M97: 7 | N97: 1 | O97: 1 | P97: 1 | Q97: 2
A98: 6.2 | B98: Կողոպուտը | C98: 176 | D98: 3 | E98: 1 | F98: 4 | M98: 7 | N98: 3
A99: 6.3 | B99: Գողությունը | C99: 177 | D99: 17 | E99: 3 | F99: 49 | G99: 27 | H99: 3 | J99: 30 | K99: 1 | M99: 33 | N99: 11 | O99: 10 | P99: 2 | Q99: 12 | R99: 1 | T99: 1
A100: 6.4 | B100: Խարդախությունը | C100: 178 | D100: 30 | E100: 9 | F100: 40 | G100: 20 | H100: 5 | J100: 25 | K100: 4 | L100: 2 | M100: 39 | N100: 1 | O100: 13 | P100: 3 | Q100: 16 | R100: 2 | T100: 2
...

Sheet Ավան
A1: 2017թ. | D1: ՀԱՇՎԵՏՎՈՒԹՅՈՒՆ | N1: Հավելված Հայաստանի Հանրապետության Դատարանների նախագահների խորհրդի 29.01.2018թ. թիվ 10-Լ որոշման
A2: ԵՐԵՎԱՆ ՔԱՂԱՔԻ ԱՎԱՆ ԵՎ ՆՈՐ ՆՈՐՔ ՎԱՐՉԱԿԱՆ ՇՐՋԱՆՆԵՐԻ ԸՆԴՀԱՆՈՒՐ ԻՐԱՎԱՍՈՒԹՅԱՆ ԱՌԱՋԻՆ ԱՏՅԱՆԻ ԴԱՏԱՐԱՆՈՒՄ ՔՐԵԱԿԱՆ ԳՈՐԾԵՐԻ ՔՆՆՈՒԹՅԱՆ ՎԵՐԱԲԵՐՅԱԼ
A3: Երևան քաղաքի Ավան և Նոր Նորք վարչական շրջանների ընդհանուր իրավասության առաջին ատյանի դատարանում քրեական մասնագիտացում ունեցող դատավորների հաստիքների քանակը` 3
C4: ՀՀ քրեական օրենսգրքի հոդվածներ | D4: Հաշվետու ժամանակահատվածի սկզբում նախորդ հաշվետու ժամանակահատվածից փոխանցված գործերի ընդհանուր թիվը | E4: Այդ թվում` կասեցված վիճակում փոխանցված | F4: Հաշվետու ժամանակահատվածում ստացված գործերի ընդհանուր թիվը | G4: Հաշվետու ժամանակահատվածում ավարտված գործերի ընդհանուր թիվը | K4: Ուղարկվել է ըստ ընդդատության | L4: Հաշվետու ժամանակահատվածում կասեցված վարույթներով գործերի ընդհանուր թիվը | M4: Հաշվետու ժամանակահատվածում անավարտ գործերի ընդհանուր թիվը | N4: Այդ թվում՝ կասեցված | O4: Բողոքարկված դատական ակտերի թիվը` ըստ տեսակների | R4: Բեկանված դատական ակտերի թիվը` ըստ տեսակների
G5: Քննվել է ըստ էության և դատավճիռ կայացվել | H5: Որոշում է կայացվել քրեական գործի վարույթը կարճելու և քրեական հետապնդումը դադարեցնելու մասին | I5: Որոշում է կայացվել անմեղսունակների նկատմամբ բժշկական բնույթի հարկադրական միջոցներ կիրառելու մասին | J5: Ընդամենը ավարտվել են գործեր | O5: Այդ թվում` գործն ըստ էության լուծող դատական ակտերը | P5: Այդ թվում` միջանկյալ դատական ակտերը | Q5: Ընդամենը | R5: Այդ թվում` գործն ըստ էության լուծող դատական ակտերը | S5: Այդ թվում` միջանկյալ դատական ակտերը | T5: Ընդամենը
D6: 1 | E6: 2 | F6: 3 | G6: 4 | H6: 5 | I6: 6 | J6: 7 | K6: 8 | L6: 9 | M6: 10 | N6: 11 | O6: 12 | P6: 13 | Q6: 14 | R6: 15 | S6: 16 | T6: 17
A7: 1. | B7: Ընդամենը կյանքի և առողջության դեմ ուղղված հանցագործությունները | D7: =SUM(D8:D34) -> 12 | E7: =SUM(E8:E34) -> 0 | F7: =SUM(F8:F34) -> 15 | G7: =SUM(G8:G34) -> 7 | H7: =SUM(H8:H34) -> 2 | I7: =SUM(I8:I34) -> 0 | J7: =SUM(J8:J34) -> 9 | K7: =SUM(K8:K34) -> 0 | ... T7: =SUM(T8:T34) -> 0
A8: 1.1 | B8: Սպանությունը | C8: 104 | D8: 7 | F8: 2 | G8: 3 | J8: 3 | M8: 6 | O8: 1 | Q8: 1
A9: 1.2 | B9: Հոգեկան խիստ հուզմունքի վիճակում կատարված սպանությունը | C9: 105
A10: 1.3 | B10: Մոր կողմից նորածին երեխայի սպանությունը | C10: 106
A11: 1.4 | B11: Հանցանք կատարած անձին բռնելու համար անհրաժեշտ միջոցների սահմանազանցմամբ սպանությունը | C11: 107
A12: 1.5 | B12: Անհրաժեշտ պաշտպանության սահմանազանցմամբ սպանությունը | C12: 108
A13: 1.6 | B13: Անզգուշությամբ մահ պատճառելը | C13: 109
A14: 1.7 | B14: Ինքնասպանության հասցնելը | C14: 110
A15: 1.8 | B15: Ինքնասպանության հակելը | C15: 111
A16: 1.9 | B16: Դիտավորությամբ առողջությանը ծանր վնաս պատճառելը | C16: 112 | D16: 1 | F16: 8 | G16: 1 | J16: 1 | M16: 8
A17: 1.10 | B17: Դիտավորությամբ առողջությանը միջին ծանրության վնաս պատճառելը | C17: 113 | D17: 2 | F17: 1 | G17: 1 | J17: 1 | M17: 2
A18: 1.11 | B18: Հոգեկան խիստ հուզմունքի վիճակում առողջությանը ծանր կամ միջին ծանրության վնաս պատճառելը | C18: 114
A19: 1.12 | B19: Հանցանք կատարած անձին բռնելու համար անհրաժեշտ միջոցների սահմանզանցմամբ առողջությանը ծանր կամ միջին ծանրության վնաս պատճառելը | C19: 115
A20: 1.13 | B20: Առողջությանը ծանր կամ միջին ծանրության վնաս պատճառելը անհրաժեշտ պաշտպանության սահմանանազանցմամբ | C20: 116
A21: 1.14 | B21: Դիտավորությամբ առողջությանը թեթև վնաս պատճառելը | C21: 117 | F21: 1 | M21: 1
A22: 1.15 | B22: Ծեծը | C22: 118 | D22: 2 | F22: 3 | G22: 2 | H22: 2 | J22: 4 | M22: 1 | O22: 1 | Q22: 1
A23: 1.16 | B23: Ֆիզիկական ուժեղ ցավ կամ հոգեկան ուժեղ տառապանք պատճառելը | C23: 119
A24: 1.17 | B24: Անզգուշությամբ առողջությանը ծանր վնաս պատճառելը | C24: 120
A25: 1.18 | B25: Անզգուշությամբ առողջությանը միջին ծանրության վնաս պատճառելը | C25: 121
A26: 1.19 | B26: Ապօրինի աբորտ կատարելը | C26: 122
A27: 1.20 | B27: Մարդու իմունային անբավարարության վիրուսի հարուցիչով վարակելը | C27: 123
A28: 1.21 | B28: Վեներական հիվանդությամբ կամ այլ սեռավարակներով վարակելը | C28: 124
A29: 1.22 | B29: Փոխպատվաստման վիրահատություն կատարելու կանոնները խախտելը | C29: 125
A30: 1.24 | B30: Անձին առանց իր հանձնարարության բժշկական կամ գիտական փորձերի ենթարկելը | C30: 127
A31: 1.25 | B31: Վտանգի մեջ թողնելը | C31: 128
A32: 1.26 | B32: Հիվանդին օգնություն ցույց չտալը | C32: 129
A33: 1.27 | B33: Բժշկական օգնություն և սպասարկում իրականացնողների կողմից մասնագիտական պարտականությունները չկատարելը կամ ոչ պատշաճ կատարելը | C33: 130
A34: 1.28 | B34: Այլ հանցագործություններ
A35: 2. | B35: Ընդամենը անձի ազատության, պատվի և արժանապատվության դեմ ուղղված հանցագործությունները | D35: =SUM(D36:D43) -> 2 | E35: =SUM(E36:E43) -> 0 | F35: =SUM(F36:F43) -> 2 | G35: =SUM(G36:G43) -> 2 | H35: =SUM(H36:H43) -> 0 | I35: =SUM(I36:I43) -> 0 | J35: =SUM(J36:J43) -> 2 | K35: =SUM(K36:K43) -> 0 | ... T35: =SUM(T36:T43) -> 0
A36: 2.1 | B36: Մարդուն առևանգելը | C36: 131 | D36: 2 | F36: 1 | G36: 2 | J36: 2 | M36: 1 | P36: 1 | Q36: 1
A37: 2.2 | B37: Մարդու թրաֆիքինգը կամ շահագործումը | C37: 132
A38: 2.2.2 | B38: Երեխայի կամ հոգեկան խանգարման հետևանքով իր արարքի բնույթն ու նշանակությունը գիտակցելու կամ դա ղեկավարելու հնարավորությունից զրկված անձի թրաֆիքինգը կամ շահագործումը | C38: 132.2
A39: 2.2.3 | B39: Շահագործման վիճակում գտնվող անձի ծառայությունից օգտվելը | C39: 132.3
A40: 2.3 | B40: Ազատությունից ապօրինի զրկելը | C40: 133
A41: 2.4 | B41: Հոգեբուժական հիվանդանոցում ապօրինի տեղավորելը կամ պահելը | C41: 134
A42: 2.7 | B42: Սպանության, առողջությանը ծանր վնաս պատճառելու կամ գույք ոչնչացնելու սպառնալիքը | C42: 137 | F42: 1 | M42: 1
A43: 2.8 | B43: Այլ հանցագործություններ
A44: 3. | B44: Ընդամենը սեռական անձեռնմխելիության և սեռական ազատության դեմ ուղղված հանցագործությունները | D44: =SUM(D45:D50) -> 2 | E44: =SUM(E45:E50) -> 0 | F44: =SUM(F45:F50) -> 1 | G44: =SUM(G45:G50) -> 2 | H44: =SUM(H45:H50) -> 0 | I44: =SUM(I45:I50) -> 0 | J44: =SUM(J45:J50) -> 2 | K44: =SUM(K45:K50) -> 0 | ... T44: =SUM(T45:T50) -> 0
A45: 3.1 | B45: Բռնաբարությունը | C45: 138 | D45: 1 | F45: 1 | G45: 2 | J45: 2 | O45: 1 | Q45: 1
A46: 3.2 | B46: Սեքսուալ բնույթի բռնի գործողությունները | C46: 139
A47: 3.3 | B47: Սեռական հարաբերության կամ սեքսուալ բնույթի գործողություններին հարկադրելը | C47: 140
A48: 3.4 | B48: Սեռական հարաբերությունը տասնվեց տարին չլրացած անձի հետ կամ սեքսուալ բնույթի գործողություններ կատարելը տասնվեց տարին չլրացած անձի նկատմամբ | C48: 141
A49: 3.5 | B49: Անառակաբարո գործողությունները | C49: 142 | D49: 1 | M49: 1 | P49: 1 | Q49: 1
A50: 3.6 | B50: Այլ հանցագործություններ
A51: 4. | B51: Ընդամենը մարդու և քաղաքացու սահմանադրական իրավունքների և ազատությունների դեմ ուղղված հանցագործությունները | D51: =SUM(D52:D80) -> 0 | E51: =SUM(E52:E80) -> 0 | F51: =SUM(F52:F80) -> 2 | G51: =SUM(G52:G80) -> 2 | H51: =SUM(H52:H80) -> 0 | I51: =SUM(I52:I80) -> 0 | J51: =SUM(J52:J80) -> 2 | K51: =SUM(K52:K80) -> 0 | ... T51: =SUM(T52:T80) -> 0
A52: 4.1 | B52: Մարդու և քաղաքացու իրավահավասարությունը խախտելը | C52: 143
A53: 4.2 | B53: Անձնական կամ ընտանեկան կյանքի մասին տեղեկություններ ապօրինի հավաքելը, պահելը, օգտագործելը կամ տարածելը | C53: 144
A54: 4.3 | B54: Բժշկական գաղտնիքը հրապարակելը | C54: 145
A55: 4.4 | B55: Նամակագրության, հեռախոսային խոսակցությունների, փոստային, հեռագրական կամ այլ հաղորդումների գաղտնիությունը խախտելը | C55: 146
A56: 4.5 | B56: Բնակարանի անձեռնմխելիությունը խախտելը | C56: 147 | F56: 1 | G56: 1 | J56: 1
A57: 4.6 | B57: Անձին տեղեկություն ներկայացնելուց հրաժարվելը | C57: 148
A58: 4.7 | B58: Ընտրական իրավունքի իրականացմանը, ընտրական հանձնաժողովների աշխատանքներին կամ ընտրությանը մասնակցող անձանց լիազորությունների իրականացմանը խոչընդոտելը | C58: 149
A59: 4.8 | B59: Ընտրությունների կամ քվեարկության արդյունքները կեղծելը | C59: 150
A60: 4.10 | B60: Ընտրողների ցուցակները կազմելու, դրանք քաղաքացիներին և կուսակցություններին տրամադրելու կամ հրապարակելու կարգը խախտելը | C60: 152
A61: 4.11 | B61: Մեկից ավելի անգամ կամ այլ անձի փոխարեն քվեարկելը | C61: 153 | F61: 1 | G61: 1 | J61: 1 | O61: 1 | Q61: 1
A62: 4.12 | B62: Քվեարկության գաղտնիությունը խախտելը | C62: 154
A63: 4.13 | B63: Կեղծ ընտրական քվեաթերթիկներ կամ քվեարկության ծրարներ, դրոշմանիշեր, կտրոններ պատրաստելը կամ ակնհայտ կեղծ ընտրական քվեաթերթիկներ կամ քվեարկության ծրարներ, դրոշմանիշեր, կտրոններ հանձնելը կամ իրացնելը | C63: 154.1
A64: 4.14 | B64: Ընտրողի կողմից թեկնածուներից, կուսակցություններից (կուսակցությունների դաշինքներից), հանրաքվեի քարոզչական նախաձեռնություններից կաշառք ստանալը կամ թեկնածուների, կուսակցությունների (կուսակցությունների դաշինքների), հանրաքվեի քարոզչական նախաձեռնությունների կողմից ընտրողներին կաշառք տալը կամ ընտրողի ազատ կամքի իրականացմանը խոչընդոտելը | C64: 154.2
A65: 4.16 | B65: Զենքով՝ տեղամասային կենտրոն մուտք գործելը | C65: 154.4
A66: 4.17 | B66: Վստահված անձին,ընտրական հանձնաժողովի անդամին,դիտորդին կամ զանգվածային լրատվության միջոցի ներկայացուցչին ընտրական փաստաթղթերին ծանոթանալուն խոչընդոտելը, ընտրական հանձնաժողովի արձանագրությունների պատճեններ չտալը | C66: 154.5
A67: 4.17.1 | B67: Ընտրական հանձնաժողովի նախագահի լիազորությունները չկատարելը կամ ոչ պատշաճ կատարելը | C67: 154.6
A68: 4.17.2 | B68: Քվեատուփը, ընտրողների ստորագրած ցուցակը, տեղամասային ընտրական հանձնաժողովի գրանցամատյանը, հանձնաժողովի կնիքը, տեղամասային ընտրական հանձնաժողովի անդամի անհատական կնիքը, ինքնասոսնձվող դրոշմանիշը, ընտրողի վերաբերյալ տվյալներ պարունակող քվեարկության կտրոնը կամ համարակալված կտրոնը, ընտրողների էլեկտրոնային գրանցման տեխնիկական սարքավորումը, կառավարության կողմից ընտրված մասնագիտացված կազմակերպության կողմից տեղադրված տեսախցիկը, ընտրական փաստաթղթերի մեկանգամյա օգտագործման պարկը կամ ընտրական փաստաթղթերի փաթեթը հափշտակելը | C68: 154.7
A69: 4.17.3 | B69: Այլ անձի փոխարեն քվեարկելու վերաբերյալ սուտ հայտարարություն տալը կամ կեղծ ստորագրությամբ հայտարարություն դիմումին կից ներկայացնելը | C69: 154.8
A70: 4.18 | B70: Գործադուլի մասնակցելուն կամ գործադուլի մասնակցելուց հրաժարվելուն հարկադրելը | C70: 155
A71: 4.19 | B71: Հղի կնոջը կամ մինչև երեք տարեկան երեխա ունեցող անձին աշխատանքի ընդունելոււց հրաժարվելը կամ աշխատանքից անհիմն ազատելը | C71: 156
A72: 4.20 | B72: Աշխատանքի պաշտպանության կանոնները խախտելը | C72: 157
A73: 4.21 | B73: Հեղինակային և հարակից իրավունքները խախտելը | C73: 158
... A79: 4.27 | B79: Լրագրողի մասնագիտական օրինական գործողությանը խոչընդոտելը | C79: 164
A80: 4.28 | B80: Այլ հանցագործություններ
A81: 5. | B81: Ընդամենը ընտանիքի և երեխայի շահերի դեմ ուղղված հանցագործությունները | D81: =SUM(D82:D95) -> 0 | E81: =SUM(E82:E95) -> 0 | F81: =SUM(F82:F95) -> 0 | G81: =SUM(G82:G95) -> 0 | H81: =SUM(H82:H95) -> 0 | I81: =SUM(I82:I95) -> 0 | J81: =SUM(J82:J95) -> 0 | K81: =SUM(K82:K95) -> 0 | ... T81: =SUM(T82:T95) -> 0
A82: 5.1 | B82: Անչափահասին հանցանքի կատարմանը ներգրավելը | C82: 165
A83: 5.2 | B83: Երեխային պոռնկության կամ պոռնկագրական բնույթի նյութեր կամ առարկաներ պատրաստելու հետ կապված գործողություններ կատարելուն ներգրավելը | C83: 166
A84: 5.2.1 | B84: Երեխային ոգելից խմիչքների օգտագործմանը, ուժեղ ներգործող կամ այլ թմրեցնող նյութերի ոչ բժշկական օգտագործմանը, թափառաշրջիկությանը ներգրավելը կամ մուրացկանության հետ կապված գործողություններ կատարելուն ներգրավելը | C84: 166.1
A85: 5.3 | B85: Ծնողներից երեխային ապօրինի բաժանելը կամ երեխային փոխելը | C85: 167
A86: 5.4 | B86: Խնամքը ստանձնելու նպատակով երեխայի առքը կամ ստանձնողի խնամքին հանձնելու նպատակով երեխայի վաճառքը | C86: 168
A87: 5.5 | B87: Որդեգրման գաղտնիքը հրապարակելը կամ որդեգրման համաձայնություն տալուն հակելը կամ հարկադրելը | C87: 169
A88: 5.6 | B88: Քաղաքացիական կացության ակտերի գրանցման մարմիններին սուտ տեղեկություններ հաղորդելը | C88: 169.1
A89: 5.7 | B89: Երեխային դաստիարակելու պարտականությունը չկատարելը | C89: 170
A90: 5.8 | B90: Երեխայի կյանքի անվտանգության ապահովման կամ առողջության պահպանման պարտականությունը չկատարելը կամ ոչ պատշաճ կատարելը | C90: 171
A91: 5.8.1 | B91: Վերարտադրողականության օժանդակ տեխնոլոգիաներից օգտվելու կանոնները խախտելը | C91: 171.1
A92: 5.9 | B92: Խնամակալի կամ հոգաբարձուի իրավունքները չարաշահելը | C92: 172
A93: 5.10 | B93: Ծնողի կողմից երեխային պահելուց չարամտորեն խուսափելը | C93: 173
A94: 5.11 | B94: Զավակի կողմից անաշխատունակ ծնողին պահելուց չարամտորեն խուսափելը | C94: 174
A95: 5.12 | B95: Այլ հանցագործություններ
A96: 6. | B96: Ընդամենը սեփականության դեմ ուղղված հանցագործությունները | D96: =SUM(D97:D111) -> 21 | E96: =SUM(E97:E111) -> 3 | F96: =SUM(F97:F111) -> 31 | G96: =SUM(G97:G111) -> 19 | H96: =SUM(H97:H111) -> 1 | I96: =SUM(I97:I111) -> 0 | J96: =SUM(J97:J111) -> 20 | K96: =SUM(K97:K111) -> 0 | ... T96: =SUM(T97:T111) -> 0
A97: 6.1 | B97: Ավազակությունը | C97: 175 | D97: 1 | F97: 2 | G97: 1 | J97: 1 | M97: 2 | O97: 1 | Q97: 1
A98: 6.2 | B98: Կողոպուտը | C98: 176 | D98: 3 | F98: 7 | G98: 4 | J98: 4 | M98: 5 | O98: 2 | Q98: 2
A99: 6.3 | B99: Գողությունը | C99: 177 | D99: 10 | E99: 2 | F99: 14 | G99: 8 | J99: 8 | L99: 1 | M99: 16 | N99: 3 | O99: 5 | P99: 1 | Q99: 6
A100: 6.4 | B100: Խարդախությունը | C100: 178 | D100: 6 | E100: 1 | F100: 4 | G100: 4 | H100: 1 | J100: 5 | M100: 5 | N100: 1 | O100: 2 | Q100: 2
A101: 6.5 | B101: Յուրացնելը կամ վատնելը | C101: 179 | D101: 1 | F101: 3 | G101: 2 | J101: 2 | M101: 2
A102: 6.6 | B102: Առանձնակի արժեք ունեցող առարկաներ հափշտակելը | C102: 180
A103: 6.7 | B103: Հափշտակությունը, որը կատարվել է համակարգչային տեխնիկայի օգտագործմամբ | C103: 181
A104: 6.8 | B104: Շորթումը | C104: 182
A105: 6.9 | B105: Ավտոմեքենային կամ տրանսպորտային այլ միջոցին ապօրինաբար տիրանալն առանց հափշտակելու նպատակի | C105: 183
...

Sheet Մալաթիա
A1: 2017թ. | D1: ՀԱՇՎԵՏՎՈՒԹՅՈՒՆ | N1: Հավելված Հայաստանի Հանրապետության Դատարանների նախագահների խորհրդի 29.01.2018թ. թիվ 10-Լ որոշման
A2: ԵՐԵՎԱՆ ՔԱՂԱՔԻ ՄԱԼԱԹԻԱ-ՍԵԲԱՍՏԻԱ ՎԱՐՉԱԿԱՆ ՇՐՋԱՆԻ ԸՆԴՀԱՆՈՒՐ ԻՐԱՎԱՍՈՒԹՅԱՆ ԱՌԱՋԻՆ ԱՏՅԱՆԻ ԴԱՏԱՐԱՆՈՒՄ ՔՐԵԱԿԱՆ ԳՈՐԾԵՐԻ ՔՆՆՈՒԹՅԱՆ ՎԵՐԱԲԵՐՅԱԼ
A3: Երևան քաղաքի Մալաթիա-Սեբաստիա վարչական շրջանի ընդհանուր իրավասության առաջին ատյանի դատարանում քրեական մասնագիտացում ունեցող դատավորների հաստիքների քանակը` 2
C4: ՀՀ քրեական օրենսգրքի հոդվածներ | D4: Հաշվետու ժամանակահատվածի սկզբում նախորդ հաշվետու ժամանակահատվածից փոխանցված գործերի ընդհանուր թիվը | E4: Այդ թվում` կասեցված վիճակում փոխանցված | F4: Հաշվետու ժամանակահատվածում ստացված գործերի ընդհանուր թիվը | G4: Հաշվետու ժամանակահատվածում ավարտված գործերի ընդհանուր թիվը | K4: Ուղարկվել է ըստ ընդդատության | L4: Հաշվետու ժամանակահատվածում կասեցված վարույթներով գործերի ընդհանուր թիվը | M4: Հաշվետու ժամանակահատվածում անավարտ գործերի ընդհանուր թիվը | N4: Այդ թվում՝ կասեցված | O4: Բողոքարկված դատական ակտերի թիվը` ըստ տեսակների | R4: Բեկանված դատական ակտերի թիվը` ըստ տեսակների
G5: Քննվել է ըստ էության և դատավճիռ կայացվել | H5: Որոշում է կայացվել քրեական գործի վարույթը կարճելու և քրեական հետապնդումը դադարեցնելու մասին | I5: Որոշում է կայացվել անմեղսունակների նկատմամբ բժշկական բնույթի հարկադրական միջոցներ կիրառելու մասին | J5: Ընդամենը ավարտվել են գործեր | O5: Այդ թվում` գործն ըստ էության լուծող դատական ակտերը | P5: Այդ թվում` միջանկյալ դատական ակտերը | Q5: Ընդամենը | R5: Այդ թվում` գործն ըստ էության լուծող դատական ակտերը | S5: Այդ թվում` միջանկյալ դատական ակտերը | T5: Ընդամենը
D6: 1 | E6: 2 | F6: 3 | G6: 4 | H6: 5 | I6: 6 | J6: 7 | K6: 8 | L6: 9 | M6: 10 | N6: 11 | O6: 12 | P6: 13 | Q6: 14 | R6: 15 | S6: 16 | T6: 17
A7: 1. | B7: Ընդամենը կյանքի և առողջության դեմ ուղղված հանցագործությունները | D7: =SUM(D8:D34) -> 8 | E7: =SUM(E8:E34) -> 1 | F7: =SUM(F8:F34) -> 8 | G7: =SUM(G8:G34) -> 5 | H7: =SUM(H8:H34) -> 2 | I7: =SUM(I8:I34) -> 0 | J7: =SUM(J8:J34) -> 7 | K7: =SUM(K8:K34) -> 0 | ... T7: =SUM(T8:T34) -> 1
A8: 1.1 | B8: Սպանությունը | C8: 104 | D8: 4 | E8: 1 | F8: 1 | G8: 2 | J8: 2 | M8: 3 | N8: 1 | O8: 2 | Q8: 2 | R8: 1 | T8: 1
A9: 1.2 | B9: Հոգեկան խիստ հուզմունքի վիճակում կատարված սպանությունը | C9: 105
A10: 1.3 | B10: Մոր կողմից նորածին երեխայի սպանությունը | C10: 106
A11: 1.4 | B11: Հանցանք կատարած անձին բռնելու համար անհրաժեշտ միջոցների սահմանազանցմամբ սպանությունը | C11: 107
A12: 1.5 | B12: Անհրաժեշտ պաշտպանության սահմանազանցմամբ սպանությունը | C12: 108
A13: 1.6 | B13: Անզգուշությամբ մահ պատճառելը | C13: 109
A14: 1.7 | B14: Ինքնասպանության հասցնելը | C14: 110
A15: 1.8 | B15: Ինքնասպանության հակելը | C15: 111
A16: 1.9 | B16: Դիտավորությամբ առողջությանը ծանր վնաս պատճառելը | C16: 112 | D16: 2 | F16: 3 | G16: 1 | J16: 1 | M16: 4 | O16: 2 | Q16: 2
A17: 1.10 | B17: Դիտավորությամբ առողջությանը միջին ծանրության վնաս պատճառելը | C17: 113 | D17: 1 | F17: 1 | H17: 1 | J17: 1 | M17: 1
A18: 1.11 | B18: Հոգեկան խիստ հուզմունքի վիճակում առողջությանը ծանր կամ միջին ծանրության վնաս պատճառելը | C18: 114
A19: 1.12 | B19: Հանցանք կատարած անձին բռնելու համար անհրաժեշտ միջոցների սահմանզանցմամբ առողջությանը ծանր կամ միջին ծանրության վնաս պատճառելը | C19: 115
A20: 1.13 | B20: Առողջությանը ծանր կամ միջին ծանրության վնաս պատճառելը անհրաժեշտ պաշտպանության սահմանանազանցմամբ | C20: 116
A21: 1.14 | B21: Դիտավորությամբ առողջությանը թեթև վնաս պատճառելը | C21: 117
A22: 1.15 | B22: Ծեծը | C22: 118 | D22: 1 | F22: 3 | G22: 2 | H22: 1 | J22: 3 | M22: 1
A23: 1.16 | B23: Ֆիզիկական ուժեղ ցավ կամ հոգեկան ուժեղ տառապանք պատճառելը | C23: 119
A24: 1.17 | B24: Անզգուշությամբ առողջությանը ծանր վնաս պատճառելը | C24: 120
A25: 1.18 | B25: Անզգուշությամբ առողջությանը միջին ծանրության վնաս պատճառելը | C25: 121
A26: 1.19 | B26: Ապօրինի աբորտ կատարելը | C26: 122
A27: 1.20 | B27: Մարդու իմունային անբավարարության վիրուսի հարուցիչով վարակելը | C27: 123
A28: 1.21 | B28: Վեներական հիվանդությամբ կամ այլ սեռավարակներով վարակելը | C28: 124
A29: 1.22 | B29: Փոխպատվաստման վիրահատություն կատարելու կանոնները խախտելը | C29: 125
A30: 1.24 | B30: Անձին առանց իր հանձնարարության բժշկական կամ գիտական փորձերի ենթարկելը | C30: 127
A31: 1.25 | B31: Վտանգի մեջ թողնելը | C31: 128
A32: 1.26 | B32: Հիվանդին օգնություն ցույց չտալը | C32: 129
A33: 1.27 | B33: Բժշկական օգնություն և սպասարկում իրականացնողների կողմից մասնագիտական պարտականությունները չկատարելը կամ ոչ պատշաճ կատարելը | C33: 130
A34: 1.28 | B34: Այլ հանցագործություններ
A35: 2. | B35: Ընդամենը անձի ազատության, պատվի և արժանապատվության դեմ ուղղված հանցագործությունները | D35: =SUM(D36:D43) -> 2 | E35: =SUM(E36:E43) -> 0 | F35: =SUM(F36:F43) -> 1 | G35: =SUM(G36:G43) -> 2 | H35: =SUM(H36:H43) -> 0 | I35: =SUM(I36:I43) -> 0 | J35: =SUM(J36:J43) -> 2 | K35: =SUM(K36:K43) -> 0 | ... T35: =SUM(T36:T43) -> 0
A36: 2.1 | B36: Մարդուն առևանգելը | C36: 131 | D36: 2 | G36: 2 | J36: 2 | O36: 2 | Q36: 2
A37: 2.2 | B37: Մարդու թրաֆիքինգը կամ շահագործումը | C37: 132
A38: 2.2.2 | B38: Երեխայի կամ հոգեկան խանգարման հետևանքով իր արարքի բնույթն ու նշանակությունը գիտակցելու կամ դա ղեկավարելու հնարավորությունից զրկված անձի թրաֆիքինգը կամ շահագործումը | C38: 132.2 | F38: 1 | M38: 1
A39: 2.2.3 | B39: Շահագործման վիճակում գտնվող անձի ծառայությունից օգտվելը | C39: 132.3
A40: 2.3 | B40: Ազատությունից ապօրինի զրկելը | C40: 133
A41: 2.4 | B41: Հոգեբուժական հիվանդանոցում ապօրինի տեղավորելը կամ պահելը | C41: 134
A42: 2.7 | B42: Սպանության, առողջությանը ծանր վնաս պատճառելու կամ գույք ոչնչացնելու սպառնալիքը | C42: 137
A43: 2.8 | B43: Այլ հանցագործություններ
A44: 3. | B44: Ընդամենը սեռական անձեռնմխելիության և սեռական ազատության դեմ ուղղված հանցագործությունները | D44: =SUM(D45:D50) -> 2 | E44: =SUM(E45:E50) -> 0 | F44: =SUM(F45:F50) -> 0 | G44: =SUM(G45:G50) -> 2 | H44: =SUM(H45:H50) -> 0 | I44: =SUM(I45:I50) -> 0 | J44: =SUM(J45:J50) -> 2 | K44: =SUM(K45:K50) -> 0 | ... T44: =SUM(T45:T50) -> 0
A45: 3.1 | B45: Բռնաբարությունը | C45: 138
A46: 3.2 | B46: Սեքսուալ բնույթի բռնի գործողությունները | C46: 139 | D46: 1 | G46: 1 | J46: 1 | O46: 1 | Q46: 1
A47: 3.3 | B47: Սեռական հարաբերության կամ սեքսուալ բնույթի գործողություններին հարկադրելը | C47: 140
A48: 3.4 | B48: Սեռական հարաբերությունը տասնվեց տարին չլրացած անձի հետ կամ սեքսուալ բնույթի գործողություններ կատարելը տասնվեց տարին չլրացած անձի նկատմամբ | C48: 141
A49: 3.5 | B49: Անառակաբարո գործողությունները | C49: 142 | D49: 1 | G49: 1 | J49: 1
A50: 3.6 | B50: Այլ հանցագործություններ
A51: 4. | B51: Ընդամենը մարդու և քաղաքացու սահմանադրական իրավունքների և ազատությունների դեմ ուղղված հանցագործությունները | D51: =SUM(D52:D80) -> 1 | E51: =SUM(E52:E80) -> 0 | F51: =SUM(F52:F80) -> 1 | G51: =SUM(G52:G80) -> 2 | H51: =SUM(H52:H80) -> 0 | I51: =SUM(I52:I80) -> 0 | J51: =SUM(J52:J80) -> 2 | K51: =SUM(K52:K80) -> 0 | ... T51: =SUM(T52:T80) -> 0
A52: 4.1 | B52: Մարդու և քաղաքացու իրավահավասարությունը խախտելը | C52: 143
A53: 4.2 | B53: Անձնական կամ ընտանեկան կյանքի մասին տեղեկություններ ապօրինի հավաքելը, պահելը, օգտագործելը կամ տարածելը | C53: 144 | D53: 1 | G53: 1 | J53: 1 | O53: 1 | Q53: 1
A54: 4.3 | B54: Բժշկական գաղտնիքը հրապարակելը | C54: 145
A55: 4.4 | B55: Նամակագրության, հեռախոսային խոսակցությունների, փոստային, հեռագրական կամ այլ հաղորդումների գաղտնիությունը խախտելը | C55: 146
A56: 4.5 | B56: Բնակարանի անձեռնմխելիությունը խախտելը | C56: 147
A57: 4.6 | B57: Անձին տեղեկություն ներկայացնելուց հրաժարվելը | C57: 148
A58: 4.7 | B58: Ընտրական իրավունքի իրականացմանը, ընտրական հանձնաժողովների աշխատանքներին կամ ընտրությանը մասնակցող անձանց լիազորությունների իրականացմանը խոչընդոտելը | C58: 149
A59: 4.8 | B59: Ընտրությունների կամ քվեարկության արդյունքները կեղծելը | C59: 150
A60: 4.10 | B60: Ընտրողների ցուցակները կազմելու, դրանք քաղաքացիներին և կուսակցություններին տրամադրելու կամ հրապարակելու կարգը խախտելը | C60: 152
A61: 4.11 | B61: Մեկից ավելի անգամ կամ այլ անձի փոխարեն քվեարկելը | C61: 153
A62: 4.12 | B62: Քվեարկության գաղտնիությունը խախտելը | C62: 154
A63: 4.13 | B63: Կեղծ ընտրական քվեաթերթիկներ կամ քվեարկության ծրարներ, դրոշմանիշեր, կտրոններ պատրաստելը կամ ակնհայտ կեղծ ընտրական քվեաթերթիկներ կամ քվեարկության ծրարներ, դրոշմանիշեր, կտրոններ հանձնելը կամ իրացնելը | C63: 154.1
A64: 4.14 | B64: Ընտրողի կողմից թեկնածուներից, կուսակցություններից (կուսակցությունների դաշինքներից), հանրաքվեի քարոզչական նախաձեռնություններից կաշառք ստանալը կամ թեկնածուների, կուսակցությունների (կուսակցությունների դաշինքների), հանրաքվեի քարոզչական նախաձեռնությունների կողմից ընտրողներին կաշառք տալը կամ ընտրողի ազատ կամքի իրականացմանը խոչընդոտելը | C64: 154.2
A65: 4.16 | B65: Զենքով՝ տեղամասային կենտրոն մուտք գործելը | C65: 154.4
... A71: 4.19 | B71: Հղի կնոջը կամ մինչև երեք տարեկան երեխա ունեցող անձին աշխատանքի ընդունելոււց հրաժարվելը կամ աշխատանքից անհիմն ազատելը | C71: 156
A72: 4.20 | B72: Աշխատանքի պաշտպանության կանոնները խախտելը | C72: 157 | F72: 1 | G72: 1 | J72: 1
A73: 4.21 | B73: Հեղինակային և հարակից իրավունքները խախտելը | C73: 158
A74: 4.22 | B74: Արտոնագրային իրավունքը խախտելը | C74: 159
A75: 4.23 | B75: Խղճի կամ դավանանքի ազատության իրավունքի իրականացմանը խոչընդոտելը | C75: 160
A76: 4.24 | B76: Միավորումներ (հասարակական կամ արհեստակցական միություններ) կազմելու կամ կուսակցություններ ստեղծելու իրավունքի իրականացմանը կամ դրանց գործողությանը խոչընդոտելը | C76: 161
A77: 4.25 | B77: Անձանց իրավունքների կամ անձի դեմ ոտնձգող միավորումներ կազմելը կամ ղեկավարելը | C77: 162
A78: 4.26 | B78: Հավաքներ անցկացնելուն կամ դրանց մասնակցելուն խոչընդոտելը | C78: 163
A79: 4.27 | B79: Լրագրողի մասնագիտական օրինական գործողությանը խոչընդոտելը | C79: 164
A80: 4.28 | B80: Այլ հանցագործություններ
A81: 5. | B81: Ընդամենը ընտանիքի և երեխայի շահերի դեմ ուղղված հանցագործությունները | D81: =SUM(D82:D95) -> 0 | E81: =SUM(E82:E95) -> 0 | F81: =SUM(F82:F95) -> 0 | G81: =SUM(G82:G95) -> 0 | H81: =SUM(H82:H95) -> 0 | I81: =SUM(I82:I95) -> 0 | J81: =SUM(J82:J95) -> 0 | K81: =SUM(K82:K95) -> 0 | ... T81: =SUM(T82:T95) -> 0
A82: 5.1 | B82: Անչափահասին հանցանքի կատարմանը ներգրավելը | C82: 165
A83: 5.2 | B83: Երեխային պոռնկության կամ պոռնկագրական բնույթի նյութեր կամ առարկաներ պատրաստելու հետ կապված գործողություններ կատարելուն ներգրավելը | C83: 166
A84: 5.2.1 | B84: Երեխային ոգելից խմիչքների օգտագործմանը, ուժեղ ներգործող կամ այլ թմրեցնող նյութերի ոչ բժշկական օգտագործմանը, թափառաշրջիկությանը ներգրավելը կամ մուրացկանության հետ կապված գործողություններ կատարելուն ներգրավելը | C84: 166.1
A85: 5.3 | B85: Ծնողներից երեխային ապօրինի բաժանելը կամ երեխային փոխելը | C85: 167
A86: 5.4 | B86: Խնամքը ստանձնելու նպատակով երեխայի առքը կամ ստանձնողի խնամքին հանձնելու նպատակով երեխայի վաճառքը | C86: 168
A87: 5.5 | B87: Որդեգրման գաղտնիքը հրապարակելը կամ որդեգրման համաձայնություն տալուն հակելը կամ հարկադրելը | C87: 169
A88: 5.6 | B88: Քաղաքացիական կացության ակտերի գրանցման մարմիններին սուտ տեղեկություններ հաղորդելը | C88: 169.1
A89: 5.7 | B89: Երեխային դաստիարակելու պարտականությունը չկատարելը | C89: 170
A90: 5.8 | B90: Երեխայի կյանքի անվտանգության ապահովման կամ առողջության պահպանման պարտականությունը չկատարելը կամ ոչ պատշաճ կատարելը | C90: 171
A91: 5.8.1 | B91: Վերարտադրողականության օժանդակ տեխնոլոգիաներից օգտվելու կանոնները խախտելը | C91: 171.1
A92: 5.9 | B92: Խնամակալի կամ հոգաբարձուի իրավունքները չարաշահելը | C92: 172
A93: 5.10 | B93: Ծնողի կողմից երեխային պահելուց չարամտորեն խուսափելը | C93: 173
A94: 5.11 | B94: Զավակի կողմից անաշխատունակ ծնողին պահելուց չարամտորեն խուսափելը | C94: 174
A95: 5.12 | B95: Այլ հանցագործություններ
A96: 6. | B96: Ընդամենը սեփականության դեմ ուղղված հանցագործությունները | D96: =SUM(D97:D111) -> 29 | E96: =SUM(E97:E111) -> 1 | F96: =SUM(F97:F111) -> 55 | G96: =SUM(G97:G111) -> 54 | H96: =SUM(H97:H111) -> 9 | I96: =SUM(I97:I111) -> 0 | J96: =SUM(J97:J111) -> 63 | K96: =SUM(K97:K111) -> 0 | ... T96: =SUM(T97:T111) -> 0
A97: 6.1 | B97: Ավազակությունը | C97: 175 | D97: 1 | G97: 1 | J97: 1 | O97: 1 | P97: 1 | Q97: 2
A98: 6.2 | B98: Կողոպուտը | C98: 176 | D98: 2 | F98: 5 | G98: 6 | J98: 6 | M98: 1 | O98: 2 | Q98: 2
A99: 6.3 | B99: Գողությունը | C99: 177 | D99: 11 | F99: 41 | G99: 37 | H99: 3 | J99: 40 | M99: 11 | O99: 3 | Q99: 3
A100: 6.4 | B100: Խարդախությունը | C100: 178 | D100: 11 | F100: 7 | G100: 9 | H100: 3 | J100: 12 | M100: 6 | O100: 4 | Q100: 4
A101: 6.5 | B101: Յուրացնելը կամ վատնելը | C101: 179 | D101: 3 | E101: 1 | G101: 1 | J101: 1 | M101: 2 | N101: 1 | O101: 1 | Q101: 1
A102: 6.6 | B102: Առանձնակի արժեք ունեցող առարկաներ հափշտակելը | C102: 180
A103: 6.7 | B103: Հափշտակությունը, որը կատարվել է համակարգչային տեխնիկայի օգտագործմամբ | C103: 181
A104: 6.8 | B104: Շորթումը | C104: 182
A105: 6.9 | B105: Ավտոմեքենային կամ տրանսպորտային այլ միջոցին ապօրինաբար տիրանալն առանց հափշտակելու նպատակի | C105: 183
...

Sheet Էրեբունի
A1: 2017թ. | D1: ՀԱՇՎԵՏՎՈՒԹՅՈՒՆ | N1: Հավելված Հայաստանի Հանրապետության Դատարանների նախագահների խորհրդի 29.01.2018թ. թիվ 10-Լ որոշման
A2: ԵՐԵՎԱՆ ՔԱՂԱՔԻ ԷՐԵԲՈւՆԻ ԵՎ ՆՈւԲԱՐԱՇԵՆ ՎԱՐՉԱԿԱՆ ՇՐՋԱՆՆԵՐԻ ԸՆԴՀԱՆՈՒՐ ԻՐԱՎԱՍՈՒԹՅԱՆ ԱՌԱՋԻՆ ԱՏՅԱՆԻ ԴԱՏԱՐԱՆՈՒՄ ՔՐԵԱԿԱՆ ԳՈՐԾԵՐԻ ՔՆՆՈՒԹՅԱՆ ՎԵՐԱԲԵՐՅԱԼ
A3: Երևան քաղաքի Էրեբունի և Նուբարաշեն վարչական շրջանների ընդհանուր իրավասության առաջին ատյանի դատարանում քրեական մասնագիտացում ունեցող դատավորների հաստիքների քանակը` 4
C4: ՀՀ քրեական օրենսգրքի հոդվածներ | D4: Հաշվետու ժամանակահատվածի սկզբում նախորդ հաշվետու ժամանակահատվածից փոխանցված գործերի ընդհանուր թիվը | E4: Այդ թվում` կասեցված վիճակում փոխանցված | F4: Հաշվետու ժամանակահատվածում ստացված գործերի ընդհանուր թիվը | G4: Հաշվետու ժամանակահատվածում ավարտված գործերի ընդհանուր թիվը | K4: Ուղարկվել է ըստ ընդդատության | L4: Հաշվետու ժամանակահատվածում կասեցված վարույթներով գործերի ընդհանուր թիվը | M4: Հաշվետու ժամանակահատվածում անավարտ գործերի ընդհանուր թիվը | N4: Այդ թվում՝ կասեցված | O4: Բողոքարկված դատական ակտերի թիվը` ըստ տեսակների | R4: Բեկանված դատական ակտերի թիվը` ըստ տեսակների
G5: Քննվել է ըստ էության և դատավճիռ կայացվել | H5: Որոշում է կայացվել քրեական գործի վարույթը կարճելու և քրեական հետապնդումը դադարեցնելու մասին | I5: Որոշում է կայացվել անմեղսունակների նկատմամբ բժշկական բնույթի հարկադրական միջոցներ կիրառելու մասին | J5: Ընդամենը ավարտվել են գործեր | O5: Այդ թվում` գործն ըստ էության լուծող դատական ակտերը | P5: Այդ թվում` միջանկյալ դատական ակտերը | Q5: Ընդամենը | R5: Այդ թվում` գործն ըստ էության լուծող դատական ակտերը | S5: Այդ թվում` միջանկյալ դատական ակտերը | T5: Ընդամենը
D6: 1 | E6: 2 | F6: 3 | G6: 4 | H6: 5 | I6: 6 | J6: 7 | K6: 8 | L6: 9 | M6: 10 | N6: 11 | O6: 12 | P6: 13 | Q6: 14 | R6: 15 | S6: 16 | T6: 17
A7: 1. | B7: Ընդամենը կյանքի և առողջության դեմ ուղղված հանցագործությունները | D7: =SUM(D8:D34) -> 7 | E7: =SUM(E8:E34) -> 0 | F7: =SUM(F8:F34) -> 21 | G7: =SUM(G8:G34) -> 8 | H7: =SUM(H8:H34) -> 0 | I7: =SUM(I8:I34) -> 1 | J7: =SUM(J8:J34) -> 9 | K7: =SUM(K8:K34) -> 1 | ... T7: =SUM(T8:T34) -> 0
A8: 1.1 | B8: Սպանությունը | C8: 104 | D8: 4 | F8: 1 | G8: 1 | J8: 1 | K8: 1 | M8: 3 | O8: 1 | Q8: 1
A9: 1.2 | B9: Հոգեկան խիստ հուզմունքի վիճակում կատարված սպանությունը | C9: 105
A10: 1.3 | B10: Մոր կողմից նորածին երեխայի սպանությունը | C10: 106
A11: 1.4 | B11: Հանցանք կատարած անձին բռնելու համար անհրաժեշտ միջոցների սահմանազանցմամբ սպանությունը | C11: 107
A12: 1.5 | B12: Անհրաժեշտ պաշտպանության սահմանազանցմամբ սպանությունը | C12: 108
A13: 1.6 | B13: Անզգուշությամբ մահ պատճառելը | C13: 109
A14: 1.7 | B14: Ինքնասպանության հասցնելը | C14: 110
A15: 1.8 | B15: Ինքնասպանության հակելը | C15: 111
A16: 1.9 | B16: Դիտավորությամբ առողջությանը ծանր վնաս պատճառելը | C16: 112 | D16: 2 | F16: 12 | G16: 5 | J16: 5 | M16: 9 | O16: 3 | P16: 1 | Q16: 4
A17: 1.10 | B17: Դիտավորությամբ առողջությանը միջին ծանրության վնաս պատճառելը | C17: 113
A18: 1.11 | B18: Հոգեկան խիստ հուզմունքի վիճակում առողջությանը ծանր կամ միջին ծանրության վնաս պատճառելը | C18: 114
A19: 1.12 | B19: Հանցանք կատարած անձին բռնելու համար անհրաժեշտ միջոցների սահմանզանցմամբ առողջությանը ծանր կամ միջին ծանրության վնաս պատճառելը | C19: 115
A20: 1.13 | B20: Առողջությանը ծանր կամ միջին ծանրության վնաս պատճառելը անհրաժեշտ պաշտպանության սահմանանազանցմամբ | C20: 116
A21: 1.14 | B21: Դիտավորությամբ առողջությանը թեթև վնաս պատճառելը | C21: 117 | F21: 3 | G21: 2 | J21: 2 | M21: 1
A22: 1.15 | B22: Ծեծը | C22: 118 | F22: 4 | M22: 4
A23: 1.16 | B23: Ֆիզիկական ուժեղ ցավ կամ հոգեկան ուժեղ տառապանք պատճառելը | C23: 119
A24: 1.17 | B24: Անզգուշությամբ առողջությանը ծանր վնաս պատճառելը | C24: 120 | F24: 1 | I24: 1 | J24: 1
A25: 1.18 | B25: Անզգուշությամբ առողջությանը միջին ծանրության վնաս պատճառելը | C25: 121
A26: 1.19 | B26: Ապօրինի աբորտ կատարելը | C26: 122
A27: 1.20 | B27: Մարդու իմունային անբավարարության վիրուսի հարուցիչով վարակելը | C27: 123
A28: 1.21 | B28: Վեներական հիվանդությամբ կամ այլ սեռավարակներով վարակելը | C28: 124
A29: 1.22 | B29: Փոխպատվաստման վիրահատություն կատարելու կանոնները խախտելը | C29: 125
A30: 1.24 | B30: Անձին առանց իր հանձնարարության բժշկական կամ գիտական փորձերի ենթարկելը | C30: 127
A31: 1.25 | B31: Վտանգի մեջ թողնելը | C31: 128
A32: 1.26 | B32: Հիվանդին օգնություն ցույց չտալը | C32: 129
A33: 1.27 | B33: Բժշկական օգնություն և սպասարկում իրականացնողների կողմից մասնագիտական պարտականությունները չկատարելը կամ ոչ պատշաճ կատարելը | C33: 130 | D33: 1 | M33: 1
A34: 1.28 | B34: Այլ հանցագործություններ
A35: 2. | B35: Ընդամենը անձի ազատության, պատվի և արժանապատվության դեմ ուղղված հանցագործությունները | D35: =SUM(D36:D43) -> 1 | E35: =SUM(E36:E43) -> 0 | F35: =SUM(F36:F43) -> 4 | G35: =SUM(G36:G43) -> 1 | H35: =SUM(H36:H43) -> 0 | I35: =SUM(I36:I43) -> 0 | J35: =SUM(J36:J43) -> 1 | K35: =SUM(K36:K43) -> 0 | ... T35: =SUM(T36:T43) -> 0
A36: 2.1 | B36: Մարդուն առևանգելը | C36: 131 | D36: 1 | F36: 2 | G36: 1 | J36: 1 | M36: 2 | O36: 1 | P36: 1 | Q36: 2
A37: 2.2 | B37: Մարդու թրաֆիքինգը կամ շահագործումը | C37: 132
A38: 2.2.2 | B38: Երեխայի կամ հոգեկան խանգարման հետևանքով իր արարքի բնույթն ու նշանակությունը գիտակցելու կամ դա ղեկավարելու հնարավորությունից զրկված անձի թրաֆիքինգը կամ շահագործումը | C38: 132.2
A39: 2.2.3 | B39: Շահագործման վիճակում գտնվող անձի ծառայությունից օգտվելը | C39: 132.3
A40: 2.3 | B40: Ազատությունից ապօրինի զրկելը | C40: 133
A41: 2.4 | B41: Հոգեբուժական հիվանդանոցում ապօրինի տեղավորելը կամ պահելը | C41: 134
A42: 2.7 | B42: Սպանության, առողջությանը ծանր վնաս պատճառելու կամ գույք ոչնչացնելու սպառնալիքը | C42: 137 | F42: 2 | M42: 2
A43: 2.8 | B43: Այլ հանցագործություններ
A44: 3. | B44: Ընդամենը սեռական անձեռնմխելիության և սեռական ազատության դեմ ուղղված հանցագործությունները | D44: =SUM(D45:D50) -> 0 | E44: =SUM(E45:E50) -> 0 | F44: =SUM(F45:F50) -> 3 | G44: =SUM(G45:G50) -> 2 | H44: =SUM(H45:H50) -> 0 | I44: =SUM(I45:I50) -> 0 | J44: =SUM(J45:J50) -> 2 | K44: =SUM(K45:K50) -> 0 | ... T44: =SUM(T45:T50) -> 0
A45: 3.1 | B45: Բռնաբարությունը | C45: 138 | F45: 1 | G45: 1 | J45: 1 | O45: 1 | Q45: 1
A46: 3.2 | B46: Սեքսուալ բնույթի բռնի գործողությունները | C46: 139
A47: 3.3 | B47: Սեռական հարաբերության կամ սեքսուալ բնույթի գործողություններին հարկադրելը | C47: 140
A48: 3.4 | B48: Սեռական հարաբերությունը տասնվեց տարին չլրացած անձի հետ կամ սեքսուալ բնույթի գործողություններ կատարելը տասնվեց տարին չլրացած անձի նկատմամբ | C48: 141 | F48: 1 | M48: 1
A49: 3.5 | B49: Անառակաբարո գործողությունները | C49: 142 | F49: 1 | G49: 1 | J49: 1 | O49: 1 | Q49: 1
A50: 3.6 | B50: Այլ հանցագործություններ
A51: 4. | B51: Ընդամենը մարդու և քաղաքացու սահմանադրական իրավունքների և ազատությունների դեմ ուղղված հանցագործությունները | D51: =SUM(D52:D80) -> 1 | E51: =SUM(E52:E80) -> 0 | F51: =SUM(F52:F80) -> 2 | G51: =SUM(G52:G80) -> 2 | H51: =SUM(H52:H80) -> 0 | I51: =SUM(I52:I80) -> 0 | J51: =SUM(J52:J80) -> 2 | K51: =SUM(K52:K80) -> 1 | ... T51: =SUM(T52:T80) -> 1
A52: 4.1 | B52: Մարդու և քաղաքացու իրավահավասարությունը խախտելը | C52: 143
A53: 4.2 | B53: Անձնական կամ ընտանեկան կյանքի մասին տեղեկություններ ապօրինի հավաքելը, պահելը, օգտագործելը կամ տարածելը | C53: 144
A54: 4.3 | B54: Բժշկական գաղտնիքը հրապարակելը | C54: 145
A55: 4.4 | B55: Նամակագրության, հեռախոսային խոսակցությունների, փոստային, հեռագրական կամ այլ հաղորդումների գաղտնիությունը խախտելը | C55: 146
A56: 4.5 | B56: Բնակարանի անձեռնմխելիությունը խախտելը | C56: 147 | R56: 1 | T56: 1
A57: 4.6 | B57: Անձին տեղեկություն ներկայացնելուց հրաժարվելը | C57: 148
A58: 4.7 | B58: Ընտրական իրավունքի իրականացմանը, ընտրական հանձնաժողովների աշխատանքներին կամ ընտրությանը մասնակցող անձանց լիազորությունների իրականացմանը խոչընդոտելը | C58: 149 | F58: 1 | G58: 1 | J58: 1
A59: 4.8 | B59: Ընտրությունների կամ քվեարկության արդյունքները կեղծելը | C59: 150
A60: 4.10 | B60: Ընտրողների ցուցակները կազմելու, դրանք քաղաքացիներին և կուսակցություններին տրամադրելու կամ հրապարակելու կարգը խախտելը | C60: 152
A61: 4.11 | B61: Մեկից ավելի անգամ կամ այլ անձի փոխարեն քվեարկելը | C61: 153
A62: 4.12 | B62: Քվեարկության գաղտնիությունը խախտելը | C62: 154
A63: 4.13 | B63: Կեղծ ընտրական քվեաթերթիկներ կամ քվեարկության ծրարներ, դրոշմանիշեր, կտրոններ պատրաստելը կամ ակնհայտ կեղծ ընտրական քվեաթերթիկներ կամ քվեարկության ծրարներ, դրոշմանիշեր, կտրոններ հանձնելը կամ իրացնելը | C63: 154.1
A64: 4.14 | B64: Ընտրողի կողմից թեկնածուներից, կուսակցություններից (կուսակցությունների դաշինքներից), հանրաքվեի քարոզչական նախաձեռնություններից կաշառք ստանալը կամ թեկնածուների, կուսակցությունների (կուսակցությունների դաշինքների), հանրաքվեի քարոզչական նախաձեռնությունների կողմից ընտրողներին կաշառք տալը կամ ընտրողի ազատ կամքի իրականացմանը խոչընդոտելը | C64: 154.2
A65: 4.16 | B65: Զենքով՝ տեղամասային կենտրոն մուտք գործելը | C65: 154.4
A66: 4.17 | B66: Վստահված անձին,ընտրական հանձնաժողովի անդամին,դիտորդին կամ զանգվածային լրատվության միջոցի ներկայացուցչին ընտրական փաստաթղթերին ծանոթանալուն խոչընդոտելը, ընտրական հանձնաժողովի արձանագրությունների պատճեններ չտալը | C66: 154.5
A67: 4.17.1 | B67: Ընտրական հանձնաժողովի նախագահի լիազորությունները չկատարելը կամ ոչ պատշաճ կատարելը | C67: 154.6
A68: 4.17.2 | B68: Քվեատուփը, ընտրողների ստորագրած ցուցակը, տեղամասային ընտրական հանձնաժողովի գրանցամատյանը, հանձնաժողովի կնիքը, տեղամասային ընտրական հանձնաժողովի անդամի անհատական կնիքը, ինքնասոսնձվող դրոշմանիշը, ընտրողի վերաբերյալ տվյալներ պարունակող քվեարկության կտրոնը կամ համարակալված կտրոնը, ընտրողների էլեկտրոնային գրանցման տեխնիկական սարքավորումը, կառավարության կողմից ընտրված մասնագիտացված կազմակերպության կողմից տեղադրված տեսախցիկը, ընտրական փաստաթղթերի մեկանգամյա օգտագործման պարկը կամ ընտրական փաստաթղթերի փաթեթը հափշտակելը | C68: 154.7
A69: 4.17.3 | B69: Այլ անձի փոխարեն քվեարկելու վերաբերյալ սուտ հայտարարություն տալը կամ կեղծ ստորագրությամբ հայտարարություն դիմումին կից ներկայացնելը | C69: 154.8
A70: 4.18 | B70: Գործադուլի մասնակցելուն կամ գործադուլի մասնակցելուց հրաժարվելուն հարկադրելը | C70: 155
A71: 4.19 | B71: Հղի կնոջը կամ մինչև երեք տարեկան երեխա ունեցող անձին աշխատանքի ընդունելոււց հրաժարվելը կամ աշխատանքից անհիմն ազատելը | C71: 156
A72: 4.20 | B72: Աշխատանքի պաշտպանության կանոնները խախտելը | C72: 157 | F72: 1 | K72: 1
A73: 4.21 | B73: Հեղինակային և հարակից իրավունքները խախտելը | C73: 158
A74: 4.22 | B74: Արտոնագրային իրավունքը խախտելը | C74: 159
A75: 4.23 | B75: Խղճի կամ դավանանքի ազատության իրավունքի իրականացմանը խոչընդոտելը | C75: 160
A76: 4.24 | B76: Միավորումներ (հասարակական կամ արհեստակցական միություններ) կազմելու կամ կուսակցություններ ստեղծելու իրավունքի իրականացմանը կամ դրանց գործողությանը խոչընդոտելը | C76: 161
A77: 4.25 | B77: Անձանց իրավունքների կամ անձի դեմ ոտնձգող միավորումներ կազմելը կամ ղեկավարելը | C77: 162
A78: 4.26 | B78: Հավաքներ անցկացնելուն կամ դրանց մասնակցելուն խոչընդոտելը | C78: 163
A79: 4.27 | B79: Լրագրողի մասնագիտական օրինական գործողությանը խոչընդոտելը | C79: 164 | D79: 1 | G79: 1 | J79: 1 | O79: 1 | Q79: 1
A80: 4.28 | B80: Այլ հանցագործություններ
A81: 5. | B81: Ընդամենը ընտանիքի և երեխայի շահերի դեմ ուղղված հանցագործությունները | D81: =SUM(D82:D95) -> 0 | E81: =SUM(E82:E95) -> 0 | F81: =SUM(F82:F95) -> 1 | G81: =SUM(G82:G95) -> 1 | H81: =SUM(H82:H95) -> 0 | I81: =SUM(I82:I95) -> 0 | J81: =SUM(J82:J95) -> 1 | K81: =SUM(K82:K95) -> 0 | ... T81: =SUM(T82:T95) -> 0
A82: 5.1 | B82: Անչափահասին հանցանքի կատարմանը ներգրավելը | C82: 165
A83: 5.2 | B83: Երեխային պոռնկության կամ պոռնկագրական բնույթի նյութեր կամ առարկաներ պատրաստելու հետ կապված գործողություններ կատարելուն ներգրավելը | C83: 166
A84: 5.2.1 | B84: Երեխային ոգելից խմիչքների օգտագործմանը, ուժեղ ներգործող կամ այլ թմրեցնող նյութերի ոչ բժշկական օգտագործմանը, թափառաշրջիկությանը ներգրավելը կամ մուրացկանության հետ կապված գործողություններ կատարելուն ներգրավելը | C84: 166.1
A85: 5.3 | B85: Ծնողներից երեխային ապօրինի բաժանելը կամ երեխային փոխելը | C85: 167
A86: 5.4 | B86: Խնամքը ստանձնելու նպատակով երեխայի առքը կամ ստանձնողի խնամքին հանձնելու նպատակով երեխայի վաճառքը | C86: 168
A87: 5.5 | B87: Որդեգրման գաղտնիքը հրապարակելը կամ որդեգրման համաձայնություն տալուն հակելը կամ հարկադրելը | C87: 169
A88: 5.6 | B88: Քաղաքացիական կացության ակտերի գրանցման մարմիններին սուտ տեղեկություններ հաղորդելը | C88: 169.1
A89: 5.7 | B89: Երեխային դաստիարակելու պարտականությունը չկատարելը | C89: 170
A90: 5.8 | B90: Երեխայի կյանքի անվտանգության ապահովման կամ առողջության պահպանման պարտականությունը չկատարելը կամ ոչ պատշաճ կատարելը | C90: 171
A91: 5.8.1 | B91: Վերարտադրողականության օժանդակ տեխնոլոգիաներից օգտվելու կանոնները խախտելը | C91: 171.1
A92: 5.9 | B92: Խնամակալի կամ հոգաբարձուի իրավունքները չարաշահելը | C92: 172
A93: 5.10 | B93: Ծնողի կողմից երեխային պահելուց չարամտորեն խուսափելը | C93: 173 | F93: 1 | G93: 1 | J93: 1
A94: 5.11 | B94: Զավակի կողմից անաշխատունակ ծնողին պահելուց չարամտորեն խուսափելը | C94: 174
A95: 5.12 | B95: Այլ հանցագործություններ
A96: 6. | B96: Ընդամենը սեփականության դեմ ուղղված հանցագործությունները | D96: =SUM(D97:D111) -> 19 | E96: =SUM(E97:E111) -> 2 | F96: =SUM(F97:F111) -> 37 | G96: =SUM(G97:G111) -> 25 | H96: =SUM(H97:H111) -> 3 | I96: =SUM(I97:I111) -> 0 | J96: =SUM(J97:J111) -> 28 | K96: =SUM(K97:K111) -> 1 | ... T96: =SUM(T97:T111) -> 3
A97: 6.1 | B97: Ավազակությունը | C97: 175 | D97: 2 | G97: 1 | J97: 1 | M97: 1 | P97: 1 | Q97: 1
A98: 6.2 | B98: Կողոպուտը | C98: 176 | D98: 1 | F98: 4 | G98: 5 | J98: 5 | O98: 1 | Q98: 1 | R98: 1 | T98: 1
A99: 6.3 | B99: Գողությունը | C99: 177 | D99: 6 | F99: 18 | G99: 12 | H99: 2 | J99: 14 | L99: 1 | M99: 10 | N99: 1 | O99: 4 | Q99: 4 | R99: 2 | T99: 2
A100: 6.4 | B100: Խարդախությունը | C100: 178 | D100: 8 | E100: 2 | F100: 8 | G100: 5 | H100: 1 | J100: 6 | M100: 10 | N100: 2 | O100: 5 | P100: 1 | Q100: 6
...

Sheet Շենգավիթ
A1: 2017թ. | D1: ՀԱՇՎԵՏՎՈՒԹՅՈՒՆ | N1: Հավելված Հայաստանի Հանրապետության Դատարանների նախագահների խորհրդի 29.01.2018թ. թիվ 10-Լ որոշման
A2: ԵՐԵՎԱՆ ՔԱՂԱՔԻ ՇԵՆԳԱՎԻԹ ՎԱՐՉԱԿԱՆ ՇՐՋԱՆԻ ԸՆԴՀԱՆՈՒՐ ԻՐԱՎԱՍՈՒԹՅԱՆ ԱՌԱՋԻՆ ԱՏՅԱՆԻ ԴԱՏԱՐԱՆՈՒՄ ՔՐԵԱԿԱՆ ԳՈՐԾԵՐԻ ՔՆՆՈՒԹՅԱՆ ՎԵՐԱԲԵՐՅԱԼ
A3: Երևան քաղաքի Շենգավիթ վարչական շրջանների ընդհանուր իրավասության առաջին ատյանի դատարանում քրեական մասնագիտացում ունեցող դատավորների հաստիքների քանակը` 3
C4: ՀՀ քրեական օրենսգրքի հոդվածներ | D4: Հաշվետու ժամանակահատվածի սկզբում նախորդ հաշվետու ժամանակահատվածից փոխանցված գործերի ընդհանուր թիվը | E4: Այդ թվում` կասեցված վիճակում փոխանցված | F4: Հաշվետու ժամանակահատվածում ստացված գործերի ընդհանուր թիվը | G4: Հաշվետու ժամանակահատվածում ավարտված գործերի ընդհանուր թիվը | K4: Ուղարկվել է ըստ ընդդատության | L4: Հաշվետու ժամանակահատվածում կասեցված վարույթներով գործերի ընդհանուր թիվը | M4: Հաշվետու ժամանակահատվածում անավարտ գործերի ընդհանուր թիվը | N4: Այդ թվում՝ կասեցված | O4: Բողոքարկված դատական ակտերի թիվը` ըստ տեսակների | R4: Բեկանված դատական ակտերի թիվը` ըստ տեսակների
G5: Քննվել է ըստ էության և դատավճիռ կայացվել | H5: Որոշում է կայացվել քրեական գործի վարույթը կարճելու և քրեական հետապնդումը դադարեցնելու մասին | I5: Որոշում է կայացվել անմեղսունակների նկատմամբ բժշկական բնույթի հարկադրական միջոցներ կիրառելու մասին | J5: Ընդամենը ավարտվել են գործեր | O5: Այդ թվում` գործն ըստ էության լուծող դատական ակտերը | P5: Այդ թվում` միջանկյալ դատական ակտերը | Q5: Ընդամենը | R5: Այդ թվում` գործն ըստ էության լուծող դատական ակտերը | S5: Այդ թվում` միջանկյալ դատական ակտերը | T5: Ընդամենը
D6: 1 | E6: 2 | F6: 3 | G6: 4 | H6: 5 | I6: 6 | J6: 7 | K6: 8 | L6: 9 | M6: 10 | N6: 11 | O6: 12 | P6: 13 | Q6: 14 | R6: 15 | S6: 16 | T6: 17
A7: 1. | B7: Ընդամենը կյանքի և առողջության դեմ ուղղված հանցագործությունները | D7: =SUM(D8:D34) -> 20 | E7: =SUM(E8:E34) -> 0 | F7: =SUM(F8:F34) -> 26 | G7: =SUM(G8:G34) -> 20 | H7: =SUM(H8:H34) -> 6 | I7: =SUM(I8:I34) -> 0 | J7: =SUM(J8:J34) -> 26 | K7: =SUM(K8:K34) -> 0 | ... T7: =SUM(T8:T34) -> 3
A8: 1.1 | B8: Սպանությունը | C8: 104 | D8: 3 | F8: 1 | G8: 1 | J8: 1 | M8: 3
A9: 1.2 | B9: Հոգեկան խիստ հուզմունքի վիճակում կատարված սպանությունը | C9: 105
A10: 1.3 | B10: Մոր կողմից նորածին երեխայի սպանությունը | C10: 106
A11: 1.4 | B11: Հանցանք կատարած անձին բռնելու համար անհրաժեշտ միջոցների սահմանազանցմամբ սպանությունը | C11: 107
A12: 1.5 | B12: Անհրաժեշտ պաշտպանության սահմանազանցմամբ սպանությունը | C12: 108
A13: 1.6 | B13: Անզգուշությամբ մահ պատճառելը | C13: 109 | F13: 1 | M13: 1
A14: 1.7 | B14: Ինքնասպանության հասցնելը | C14: 110
A15: 1.8 | B15: Ինքնասպանության հակելը | C15: 111
A16: 1.9 | B16: Դիտավորությամբ առողջությանը ծանր վնաս պատճառելը | C16: 112 | D16: 9 | F16: 9 | G16: 13 | J16: 13 | M16: 5 | O16: 8 | Q16: 8 | R16: 3 | T16: 3
A17: 1.10 | B17: Դիտավորությամբ առողջությանը միջին ծանրության վնաս պատճառելը | C17: 113 | F17: 3 | H17: 1 | J17: 1 | M17: 2
A18: 1.11 | B18: Հոգեկան խիստ հուզմունքի վիճակում առողջությանը ծանր կամ միջին ծանրության վնաս պատճառելը | C18: 114
A19: 1.12 | B19: Հանցանք կատարած անձին բռնելու համար անհրաժեշտ միջոցների սահմանզանցմամբ առողջությանը ծանր կամ միջին ծանրության վնաս պատճառելը | C19: 115
A20: 1.13 | B20: Առողջությանը ծանր կամ միջին ծանրության վնաս պատճառելը անհրաժեշտ պաշտպանության սահմանանազանցմամբ | C20: 116
A21: 1.14 | B21: Դիտավորությամբ առողջությանը թեթև վնաս պատճառելը | C21: 117 | D21: 1 | F21: 6 | G21: 1 | H21: 3 | J21: 4 | M21: 3
A22: 1.15 | B22: Ծեծը | C22: 118 | D22: 5 | F22: 5 | G22: 4 | H22: 2 | J22: 6 | M22: 3 | O22: 1 | Q22: 1
A23: 1.16 | B23: Ֆիզիկական ուժեղ ցավ կամ հոգեկան ուժեղ տառապանք պատճառելը | C23: 119 | F23: 1 | G23: 1 | J23: 1 | O23: 1 | Q23: 1
A24: 1.17 | B24: Անզգուշությամբ առողջությանը ծանր վնաս պատճառելը | C24: 120
A25: 1.18 | B25: Անզգուշությամբ առողջությանը միջին ծանրության վնաս պատճառելը | C25: 121
A26: 1.19 | B26: Ապօրինի աբորտ կատարելը | C26: 122
A27: 1.20 | B27: Մարդու իմունային անբավարարության վիրուսի հարուցիչով վարակելը | C27: 123
A28: 1.21 | B28: Վեներական հիվանդությամբ կամ այլ սեռավարակներով վարակելը | C28: 124
A29: 1.22 | B29: Փոխպատվաստման վիրահատություն կատարելու կանոնները խախտելը | C29: 125
A30: 1.24 | B30: Անձին առանց իր հանձնարարության բժշկական կամ գիտական փորձերի ենթարկելը | C30: 127
A31: 1.25 | B31: Վտանգի մեջ թողնելը | C31: 128
A32: 1.26 | B32: Հիվանդին օգնություն ցույց չտալը | C32: 129
A33: 1.27 | B33: Բժշկական օգնություն և սպասարկում իրականացնողների կողմից մասնագիտական պարտականությունները չկատարելը կամ ոչ պատշաճ կատարելը | C33: 130 | D33: 2 | M33: 2
A34: 1.28 | B34: Այլ հանցագործություններ
A35: 2. | B35: Ընդամենը անձի ազատության, պատվի և արժանապատվության դեմ ուղղված հանցագործությունները | D35: =SUM(D36:D43) -> 2 | E35: =SUM(E36:E43) -> 0 | F35: =SUM(F36:F43) -> 0 | G35: =SUM(G36:G43) -> 1 | H35: =SUM(H36:H43) -> 0 | I35: =SUM(I36:I43) -> 1 | J35: =SUM(J36:J43) -> 2 | K35: =SUM(K36:K43) -> 0 | ... T35: =SUM(T36:T43) -> 0
A36: 2.1 | B36: Մարդուն առևանգելը | C36: 131 | D36: 1 | G36: 1 | J36: 1 | O36: 1 | Q36: 1
A37: 2.2 | B37: Մարդու թրաֆիքինգը կամ շահագործումը | C37: 132
A38: 2.2.2 | B38: Երեխայի կամ հոգեկան խանգարման հետևանքով իր արարքի բնույթն ու նշանակությունը գիտակցելու կամ դա ղեկավարելու հնարավորությունից զրկված անձի թրաֆիքինգը կամ շահագործումը | C38: 132.2
A39: 2.2.3 | B39: Շահագործման վիճակում գտնվող անձի ծառայությունից օգտվելը | C39: 132.3
A40: 2.3 | B40: Ազատությունից ապօրինի զրկելը | C40: 133
A41: 2.4 | B41: Հոգեբուժական հիվանդանոցում ապօրինի տեղավորելը կամ պահելը | C41: 134
A42: 2.7 | B42: Սպանության, առողջությանը ծանր վնաս պատճառելու կամ գույք ոչնչացնելու սպառնալիքը | C42: 137 | D42: 1 | I42: 1 | J42: 1
A43: 2.8 | B43: Այլ հանցագործություններ
A44: 3. | B44: Ընդամենը սեռական անձեռնմխելիության և սեռական ազատության դեմ ուղղված հանցագործությունները | D44: =SUM(D45:D50) -> 0 | E44: =SUM(E45:E50) -> 0 | F44: =SUM(F45:F50) -> 0 | G44: =SUM(G45:G50) -> 0 | H44: =SUM(H45:H50) -> 0 | I44: =SUM(I45:I50) -> 0 | J44: =SUM(J45:J50) -> 0 | K44: =SUM(K45:K50) -> 0 | ... T44: =SUM(T45:T50) -> 0
A45: 3.1 | B45: Բռնաբարությունը | C45: 138
A46: 3.2 | B46: Սեքսուալ բնույթի բռնի գործողությունները | C46: 139
A47: 3.3 | B47: Սեռական հարաբերության կամ սեքսուալ բնույթի գործողություններին հարկադրելը | C47: 140
A48: 3.4 | B48: Սեռական հարաբերությունը տասնվեց տարին չլրացած անձի հետ կամ սեքսուալ բնույթի գործողություններ կատարելը տասնվեց տարին չլրացած անձի նկատմամբ | C48: 141
A49: 3.5 | B49: Անառակաբարո գործողությունները | C49: 142
A50: 3.6 | B50: Այլ հանցագործություններ
A51: 4. | B51: Ընդամենը մարդու և քաղաքացու սահմանադրական իրավունքների և ազատությունների դեմ ուղղված հանցագործությունները | D51: =SUM(D52:D80) -> 0 | E51: =SUM(E52:E80) -> 0 | F51: =SUM(F52:F80) -> 1 | G51: =SUM(G52:G80) -> 1 | H51: =SUM(H52:H80) -> 0 | I51: =SUM(I52:I80) -> 0 | J51: =SUM(J52:J80) -> 1 | K51: =SUM(K52:K80) -> 0 | ... T51: =SUM(T52:T80) -> 0
A52: 4.1 | B52: Մարդու և քաղաքացու իրավահավասարությունը խախտելը | C52: 143
A53: 4.2 | B53: Անձնական կամ ընտանեկան կյանքի մասին տեղեկություններ ապօրինի հավաքելը, պահելը, օգտագործելը կամ տարածելը | C53: 144
A54: 4.3 | B54: Բժշկական գաղտնիքը հրապարակելը | C54: 145
A55: 4.4 | B55: Նամակագրության, հեռախոսային խոսակցությունների, փոստային, հեռագրական կամ այլ հաղորդումների գաղտնիությունը խախտելը | C55: 146
A56: 4.5 | B56: Բնակարանի անձեռնմխելիությունը խախտելը | C56: 147
A57: 4.6 | B57: Անձին տեղեկություն ներկայացնելուց հրաժարվելը | C57: 148
A58: 4.7 | B58: Ընտրական իրավունքի իրականացմանը, ընտրական հանձնաժողովների աշխատանքներին կամ ընտրությանը մասնակցող անձանց լիազորությունների իրականացմանը խոչընդոտելը | C58: 149 | F58: 1 | G58: 1 | J58: 1 | O58: 1 | Q58: 1
A59: 4.8 | B59: Ընտրությունների կամ քվեարկության արդյունքները կեղծելը | C59: 150
A60: 4.10 | B60: Ընտրողների ցուցակները կազմելու, դրանք քաղաքացիներին և կուսակցություններին տրամադրելու կամ հրապարակելու կարգը խախտելը | C60: 152
A61: 4.11 | B61: Մեկից ավելի անգամ կամ այլ անձի փոխարեն քվեարկելը | C61: 153
A62: 4.12 | B62: Քվեարկության գաղտնիությունը խախտելը | C62: 154
A63: 4.13 | B63: Կեղծ ընտրական քվեաթերթիկներ կամ քվեարկության ծրարներ, դրոշմանիշեր, կտրոններ պատրաստելը կամ ակնհայտ կեղծ ընտրական քվեաթերթիկներ կամ քվեարկության ծրարներ, դրոշմանիշեր, կտրոններ հանձնելը կամ իրացնելը | C63: 154.1
A64: 4.14 | B64: Ընտրողի կողմից թեկնածուներից, կուսակցություններից (կուսակցությունների դաշինքներից), հանրաքվեի քարոզչական նախաձեռնություններից կաշառք ստանալը կամ թեկնածուների, կուսակցությունների (կուսակցությունների դաշինքների), հանրաքվեի քարոզչական նախաձեռնությունների կողմից ընտրողներին կաշառք տալը կամ ընտրողի ազատ կամքի իրականացմանը խոչընդոտելը | C64: 154.2
A65: 4.16 | B65: Զենքով՝ տեղամասային կենտրոն մուտք գործելը | C65: 154.4
A66: 4.17 | B66: Վստահված անձին,ընտրական հանձնաժողովի անդամին,դիտորդին կամ զանգվածային լրատվության միջոցի ներկայացուցչին ընտրական փաստաթղթերին ծանոթանալուն խոչընդոտելը, ընտրական հանձնաժողովի արձանագրությունների պատճեններ չտալը | C66: 154.5
A67: 4.17.1 | B67: Ընտրական հանձնաժողովի նախագահի լիազորությունները չկատարելը կամ ոչ պատշաճ կատարելը | C67: 154.6
A68: 4.17.2 | B68: Քվեատուփը, ընտրողների ստորագրած ցուցակը, տեղամասային ընտրական հանձնաժողովի գրանցամատյանը, հանձնաժողովի կնիքը, տեղամասային ընտրական հանձնաժողովի անդամի անհատական կնիքը, ինքնասոսնձվող դրոշմանիշը, ընտրողի վերաբերյալ տվյալներ պարունակող քվեարկության կտրոնը կամ համարակալված կտրոնը, ընտրողների էլեկտրոնային գրանցման տեխնիկական սարքավորումը, կառավարության կողմից ընտրված մասնագիտացված կազմակերպության կողմից տեղադրված տեսախցիկը, ընտրական փաստաթղթերի մեկանգամյա օգտագործման պարկը կամ ընտրական փաստաթղթերի փաթեթը հափշտակելը | C68: 154.7
A69: 4.17.3 | B69: Այլ անձի փոխարեն քվեարկելու վերաբերյալ սուտ հայտարարություն տալը կամ կեղծ ստորագրությամբ հայտարարություն դիմումին կից ներկայացնելը | C69: 154.8
A70: 4.18 | B70: Գործադուլի մասնակցելուն կամ գործադուլի մասնակցելուց հրաժարվելուն հարկադրելը | C70: 155
... A79: 4.27 | B79: Լրագրողի մասնագիտական օրինական գործողությանը խոչընդոտելը | C79: 164
A80: 4.28 | B80: Այլ հանցագործություններ
A81: 5. | B81: Ընդամենը ընտանիքի և երեխայի շահերի դեմ ուղղված հանցագործությունները | D81: =SUM(D82:D95) -> 0 | E81: =SUM(E82:E95) -> 0 | F81: =SUM(F82:F95) -> 1 | G81: =SUM(G82:G95) -> 1 | H81: =SUM(H82:H95) -> 0 | I81: =SUM(I82:I95) -> 0 | J81: =SUM(J82:J95) -> 1 | K81: =SUM(K82:K95) -> 0 | ... T81: =SUM(T82:T95) -> 0
A82: 5.1 | B82: Անչափահասին հանցանքի կատարմանը ներգրավելը | C82: 165
A83: 5.2 | B83: Երեխային պոռնկության կամ պոռնկագրական բնույթի նյութեր կամ առարկաներ պատրաստելու հետ կապված գործողություններ կատարելուն ներգրավելը | C83: 166
A84: 5.2.1 | B84: Երեխային ոգելից խմիչքների օգտագործմանը, ուժեղ ներգործող կամ այլ թմրեցնող նյութերի ոչ բժշկական օգտագործմանը, թափառաշրջիկությանը ներգրավելը կամ մուրացկանության հետ կապված գործողություններ կատարելուն ներգրավելը | C84: 166.1
A85: 5.3 | B85: Ծնողներից երեխային ապօրինի բաժանելը կամ երեխային փոխելը | C85: 167
A86: 5.4 | B86: Խնամքը ստանձնելու նպատակով երեխայի առքը կամ ստանձնողի խնամքին հանձնելու նպատակով երեխայի վաճառքը | C86: 168
A87: 5.5 | B87: Որդեգրման գաղտնիքը հրապարակելը կամ որդեգրման համաձայնություն տալուն հակելը կամ հարկադրելը | C87: 169
A88: 5.6 | B88: Քաղաքացիական կացության ակտերի գրանցման մարմիններին սուտ տեղեկություններ հաղորդելը | C88: 169.1
A89: 5.7 | B89: Երեխային դաստիարակելու պարտականությունը չկատարելը | C89: 170
A90: 5.8 | B90: Երեխայի կյանքի անվտանգության ապահովման կամ առողջության պահպանման պարտականությունը չկատարելը կամ ոչ պատշաճ կատարելը | C90: 171
A91: 5.8.1 | B91: Վերարտադրողականության օժանդակ տեխնոլոգիաներից օգտվելու կանոնները խախտելը | C91: 171.1
A92: 5.9 | B92: Խնամակալի կամ հոգաբարձուի իրավունքները չարաշահելը | C92: 172
A93: 5.10 | B93: Ծնողի կողմից երեխային պահելուց չարամտորեն խուսափելը | C93: 173 | F93: 1 | G93: 1 | J93: 1
A94: 5.11 | B94: Զավակի կողմից անաշխատունակ ծնողին պահելուց չարամտորեն խուսափելը | C94: 174
A95: 5.12 | B95: Այլ հանցագործություններ
A96: 6. | B96: Ընդամենը սեփականության դեմ ուղղված հանցագործությունները | D96: =SUM(D97:D111) -> 49 | E96: =SUM(E97:E111) -> 1 | F96: =SUM(F97:F111) -> 97 | G96: =SUM(G97:G111) -> 81 | H96: =SUM(H97:H111) -> 7 | I96: =SUM(I97:I111) -> 4 | J96: =SUM(J97:J111) -> 92 | K96: =SUM(K97:K111) -> 0 | ... T96: =SUM(T97:T111) -> 4
A97: 6.1 | B97: Ավազակությունը | C97: 175 | D97: 2 | F97: 1 | G97: 1 | J97: 1 | M97: 2 | O97: 1 | Q97: 1
A98: 6.2 | B98: Կողոպուտը | C98: 176 | D98: 1 | F98: 5 | G98: 5 | J98: 5 | M98: 1 | O98: 3 | Q98: 3 | R98: 1 | T98: 1
A99: 6.3 | B99: Գողությունը | C99: 177 | D99: 26 | E99: 1 | F99: 59 | G99: 52 | H99: 5 | I99: 1 | J99: 58 | L99: 1 | M99: 23 | N99: 1 | O99: 15 | P99: 1 | Q99: 16 | R99: 2 | T99: 2
A100: 6.4 | B100: Խարդախությունը | C100: 178 | D100: 13 | F100: 21 | G100: 14 | H100: 1 | J100: 15 | L100: 1 | M100: 19 | N100: 1 | O100: 7 | Q100: 7 | R100: 1 | T100: 1
A101: 6.5 | B101: Յուրացնելը կամ վատնելը | C101: 179 | D101: 5 | F101: 4 | G101: 4 | H101: 1 | J101: 5 | M101: 4 | O101: 3 | Q101: 3
A102: 6.6 | B102: Առանձնակի արժեք ունեցող առարկաներ հափշտակելը | C102: 180
A103: 6.7 | B103: Հափշտակությունը, որը կատարվել է համակարգչային տեխնիկայի օգտագործմամբ | C103: 181
A104: 6.8 | B104: Շորթումը | C104: 182 | F104: 4 | G104: 3 | J104: 3 | M104: 1 | O104: 1 | Q104: 1
A105: 6.9 | B105: Ավտոմեքենային կամ տրանսպորտային այլ միջոցին ապօրինաբար տիրանալն առանց հափշտակելու նպատակի | C105: 183
A106: 6.10 | B106: Գույքային վնաս պատճառելը խաբեության կամ վստահությունը չարաշահելու եղանակով | C106: 184
A107: 6.10.1 | B107: Գրավառուին վնաս պատճառելը | C107: 184.1
A108: 6.11 | B108: Գույքը դիտավորությամբ ոչնչացնելը կամ վնասելը | C108: 185 | D108: 2 | F108: 3 | G108: 2 | I108: 3 | J108: 5 | O108: 1 | Q108: 1
...

Sheet Արաբկիր
A1: 2017թ. | D1: ՀԱՇՎԵՏՎՈՒԹՅՈՒՆ | N1: Հավելված Հայաստանի Հանրապետության Դատարանների նախագահների խորհրդի 29.01.2018թ. թիվ 10-Լ որոշման
A2: ԵՐԵՎԱՆ ՔԱՂԱՔԻ ԱՐԱԲԿԻՐ ԵՎ ՔԱՆԱՔԵՌ-ԶԵՅԹՈՒՆ ՎԱՐՉԱԿԱՆ ՇՐՋԱՆՆԵՐԻ ԸՆԴՀԱՆՈՒՐ ԻՐԱՎԱՍՈՒԹՅԱՆ ԱՌԱՋԻՆ ԱՏՅԱՆԻ ԴԱՏԱՐԱՆՈՒՄ ՔՐԵԱԿԱՆ ԳՈՐԾԵՐԻ ՔՆՆՈՒԹՅԱՆ ՎԵՐԱԲԵՐՅԱԼ
A3: Երևան քաղաքի Արաբկիր և Քանաքեռ-Զեյթուն վարչական շրջանների ընդհանուր իրավասության առաջին ատյանի դատարանում քրեական մասնագիտացում ունեցող դատավորների հաստիքների քանակը` 5
C4: ՀՀ քրեական օրենսգրքի հոդվածներ | D4: Հաշվետու ժամանակահատվածի սկզբում նախորդ հաշվետու ժամանակահատվածից փոխանցված գործերի ընդհանուր թիվը | E4: Այդ թվում` կասեցված վիճակում փոխանցված | F4: Հաշվետու ժամանակահատվածում ստացված գործերի ընդհանուր թիվը | G4: Հաշվետու ժամանակահատվածում ավարտված գործերի ընդհանուր թիվը | K4: Ուղարկվել է ըստ ընդդատության | L4: Հաշվետու ժամանակահատվածում կասեցված վարույթներով գործերի ընդհանուր թիվը | M4: Հաշվետու ժամանակահատվածում անավարտ գործերի ընդհանուր թիվը | N4: Այդ թվում՝ կասեցված | O4: Բողոքարկված դատական ակտերի թիվը` ըստ տեսակների | R4: Բեկանված դատական ակտերի թիվը` ըստ տեսակների
G5: Քննվել է ըստ էության և դատավճիռ կայացվել | H5: Որոշում է կայացվել քրեական գործի վարույթը կարճելու և քրեական հետապնդումը դադարեցնելու մասին | I5: Որոշում է կայացվել անմեղսունակների նկատմամբ բժշկական բնույթի հարկադրական միջոցներ կիրառելու մասին | J5: Ընդամենը ավարտվել են գործեր | O5: Այդ թվում` գործն ըստ էության լուծող դատական ակտերը | P5: Այդ թվում` միջանկյալ դատական ակտերը | Q5: Ընդամենը | R5: Այդ թվում` գործն ըստ էության լուծող դատական ակտերը | S5: Այդ թվում` միջանկյալ դատական ակտերը | T5: Ընդամենը
D6: 1 | E6: 2 | F6: 3 | G6: 4 | H6: 5 | I6: 6 | J6: 7 | K6: 8 | L6: 9 | M6: 10 | N6: 11 | O6: 12 | P6: 13 | Q6: 14 | R6: 15 | S6: 16 | T6: 17
A7: 1. | B7: Ընդամենը կյանքի և առողջության դեմ ուղղված հանցագործությունները | D7: =SUM(D8:D34) -> 31 | E7: =SUM(E8:E34) -> 0 | F7: =SUM(F8:F34) -> 29 | G7: =SUM(G8:G34) -> 25 | H7: =SUM(H8:H34) -> 4 | I7: =SUM(I8:I34) -> 2 | J7: =SUM(J8:J34) -> 31 | K7: =SUM(K8:K34) -> 0 | ... T7: =SUM(T8:T34) -> 0
A8: 1.1 | B8: Սպանությունը | C8: 104 | D8: 11 | F8: 3 | G8: 4 | I8: 1 | J8: 5 | M8: 9 | O8: 4 | Q8: 4
A9: 1.2 | B9: Հոգեկան խիստ հուզմունքի վիճակում կատարված սպանությունը | C9: 105
A10: 1.3 | B10: Մոր կողմից նորածին երեխայի սպանությունը | C10: 106
A11: 1.4 | B11: Հանցանք կատարած անձին բռնելու համար անհրաժեշտ միջոցների սահմանազանցմամբ սպանությունը | C11: 107
A12: 1.5 | B12: Անհրաժեշտ պաշտպանության սահմանազանցմամբ սպանությունը | C12: 108
A13: 1.6 | B13: Անզգուշությամբ մահ պատճառելը | C13: 109
A14: 1.7 | B14: Ինքնասպանության հասցնելը | C14: 110
A15: 1.8 | B15: Ինքնասպանության հակելը | C15: 111
A16: 1.9 | B16: Դիտավորությամբ առողջությանը ծանր վնաս պատճառելը | C16: 112 | D16: 8 | F16: 7 | G16: 9 | J16: 9 | M16: 6 | O16: 3 | Q16: 3
A17: 1.10 | B17: Դիտավորությամբ առողջությանը միջին ծանրության վնաս պատճառելը | C17: 113 | D17: 2 | F17: 3 | G17: 2 | J17: 2 | M17: 3 | O17: 1 | Q17: 1
A18: 1.11 | B18: Հոգեկան խիստ հուզմունքի վիճակում առողջությանը ծանր կամ միջին ծանրության վնաս պատճառելը | C18: 114
A19: 1.12 | B19: Հանցանք կատարած անձին բռնելու համար անհրաժեշտ միջոցների սահմանզանցմամբ առողջությանը ծանր կամ միջին ծանրության վնաս պատճառելը | C19: 115
A20: 1.13 | B20: Առողջությանը ծանր կամ միջին ծանրության վնաս պատճառելը անհրաժեշտ պաշտպանության սահմանանազանցմամբ | C20: 116
A21: 1.14 | B21: Դիտավորությամբ առողջությանը թեթև վնաս պատճառելը | C21: 117 | D21: 3 | F21: 9 | G21: 6 | H21: 2 | I21: 1 | J21: 9 | M21: 3 | O21: 2 | Q21: 2
A22: 1.15 | B22: Ծեծը | C22: 118 | D22: 6 | F22: 4 | G22: 3 | H22: 2 | J22: 5 | M22: 5 | O22: 2 | Q22: 2
A23: 1.16 | B23: Ֆիզիկական ուժեղ ցավ կամ հոգեկան ուժեղ տառապանք պատճառելը | C23: 119 | F23: 1 | M23: 1
A24: 1.17 | B24: Անզգուշությամբ առողջությանը ծանր վնաս պատճառելը | C24: 120 | F24: 1 | G24: 1 | J24: 1
A25: 1.18 | B25: Անզգուշությամբ առողջությանը միջին ծանրության վնաս պատճառելը | C25: 121
A26: 1.19 | B26: Ապօրինի աբորտ կատարելը | C26: 122
A27: 1.20 | B27: Մարդու իմունային անբավարարության վիրուսի հարուցիչով վարակելը | C27: 123
A28: 1.21 | B28: Վեներական հիվանդությամբ կամ այլ սեռավարակներով վարակելը | C28: 124
A29: 1.22 | B29: Փոխպատվաստման վիրահատություն կատարելու կանոնները խախտելը | C29: 125
A30: 1.24 | B30: Անձին առանց իր հանձնարարության բժշկական կամ գիտական փորձերի ենթարկելը | C30: 127
A31: 1.25 | B31: Վտանգի մեջ թողնելը | C31: 128
A32: 1.26 | B32: Հիվանդին օգնություն ցույց չտալը | C32: 129
A33: 1.27 | B33: Բժշկական օգնություն և սպասարկում իրականացնողների կողմից մասնագիտական պարտականությունները չկատարելը կամ ոչ պատշաճ կատարելը | C33: 130 | D33: 1 | F33: 1 | M33: 2
A34: 1.28 | B34: Այլ հանցագործություններ
A35: 2. | B35: Ընդամենը անձի ազատության, պատվի և արժանապատվության դեմ ուղղված հանցագործությունները | D35: =SUM(D36:D43) -> 5 | E35: =SUM(E36:E43) -> 0 | F35: =SUM(F36:F43) -> 7 | G35: =SUM(G36:G43) -> 5 | H35: =SUM(H36:H43) -> 0 | I35: =SUM(I36:I43) -> 4 | J35: =SUM(J36:J43) -> 9 | K35: =SUM(K36:K43) -> 0 | ... T35: =SUM(T36:T43) -> 0
A36: 2.1 | B36: Մարդուն առևանգելը | C36: 131 | F36: 4 | G36: 2 | J36: 2 | M36: 2 | O36: 1 | Q36: 1
A37: 2.2 | B37: Մարդու թրաֆիքինգը կամ շահագործումը | C37: 132
A38: 2.2.2 | B38: Երեխայի կամ հոգեկան խանգարման հետևանքով իր արարքի բնույթն ու նշանակությունը գիտակցելու կամ դա ղեկավարելու հնարավորությունից զրկված անձի թրաֆիքինգը կամ շահագործումը | C38: 132.2
A39: 2.2.3 | B39: Շահագործման վիճակում գտնվող անձի ծառայությունից օգտվելը | C39: 132.3
A40: 2.3 | B40: Ազատությունից ապօրինի զրկելը | C40: 133 | D40: 1 | I40: 1 | J40: 1
A41: 2.4 | B41: Հոգեբուժական հիվանդանոցում ապօրինի տեղավորելը կամ պահելը | C41: 134
A42: 2.7 | B42: Սպանության, առողջությանը ծանր վնաս պատճառելու կամ գույք ոչնչացնելու սպառնալիքը | C42: 137 | D42: 4 | F42: 3 | G42: 3 | I42: 3 | J42: 6 | M42: 1 | O42: 3 | Q42: 3
A43: 2.8 | B43: Այլ հանցագործություններ
A44: 3. | B44: Ընդամենը սեռական անձեռնմխելիության և սեռական ազատության դեմ ուղղված հանցագործությունները | D44: =SUM(D45:D50) -> 3 | E44: =SUM(E45:E50) -> 0 | F44: =SUM(F45:F50) -> 3 | G44: =SUM(G45:G50) -> 3 | H44: =SUM(H45:H50) -> 0 | I44: =SUM(I45:I50) -> 0 | J44: =SUM(J45:J50) -> 3 | K44: =SUM(K45:K50) -> 0 | ... T44: =SUM(T45:T50) -> 0
A45: 3.1 | B45: Բռնաբարությունը | C45: 138 | D45: 1 | M45: 1
A46: 3.2 | B46: Սեքսուալ բնույթի բռնի գործողությունները | C46: 139 | D46: 2 | F46: 1 | G46: 2 | J46: 2 | M46: 1 | O46: 2 | Q46: 2
A47: 3.3 | B47: Սեռական հարաբերության կամ սեքսուալ բնույթի գործողություններին հարկադրելը | C47: 140
A48: 3.4 | B48: Սեռական հարաբերությունը տասնվեց տարին չլրացած անձի հետ կամ սեքսուալ բնույթի գործողություններ կատարելը տասնվեց տարին չլրացած անձի նկատմամբ | C48: 141 | F48: 1 | G48: 1 | J48: 1 | O48: 1 | Q48: 1
A49: 3.5 | B49: Անառակաբարո գործողությունները | C49: 142 | F49: 1 | M49: 1
A50: 3.6 | B50: Այլ հանցագործություններ
A51: 4. | B51: Ընդամենը մարդու և քաղաքացու սահմանադրական իրավունքների և ազատությունների դեմ ուղղված հանցագործությունները | D51: =SUM(D52:D80) -> 7 | E51: =SUM(E52:E80) -> 0 | F51: =SUM(F52:F80) -> 7 | G51: =SUM(G52:G80) -> 7 | H51: =SUM(H52:H80) -> 0 | I51: =SUM(I52:I80) -> 1 | J51: =SUM(J52:J80) -> 8 | K51: =SUM(K52:K80) -> 0 | ... T51: =SUM(T52:T80) -> 0
A52: 4.1 | B52: Մարդու և քաղաքացու իրավահավասարությունը խախտելը | C52: 143
A53: 4.2 | B53: Անձնական կամ ընտանեկան կյանքի մասին տեղեկություններ ապօրինի հավաքելը, պահելը, օգտագործելը կամ տարածելը | C53: 144 | D53: 1 | G53: 1 | J53: 1 | O53: 1 | Q53: 1
A54: 4.3 | B54: Բժշկական գաղտնիքը հրապարակելը | C54: 145
A55: 4.4 | B55: Նամակագրության, հեռախոսային խոսակցությունների, փոստային, հեռագրական կամ այլ հաղորդումների գաղտնիությունը խախտելը | C55: 146
A56: 4.5 | B56: Բնակարանի անձեռնմխելիությունը խախտելը | C56: 147 | F56: 3 | G56: 2 | J56: 2 | M56: 1 | O56: 1 | Q56: 1
A57: 4.6 | B57: Անձին տեղեկություն ներկայացնելուց հրաժարվելը | C57: 148
A58: 4.7 | B58: Ընտրական իրավունքի իրականացմանը, ընտրական հանձնաժողովների աշխատանքներին կամ ընտրությանը մասնակցող անձանց լիազորությունների իրականացմանը խոչընդոտելը | C58: 149 | D58: 2 | G58: 1 | J58: 1 | M58: 1 | O58: 1 | Q58: 1
A59: 4.8 | B59: Ընտրությունների կամ քվեարկության արդյունքները կեղծելը | C59: 150
A60: 4.10 | B60: Ընտրողների ցուցակները կազմելու, դրանք քաղաքացիներին և կուսակցություններին տրամադրելու կամ հրապարակելու կարգը խախտելը | C60: 152
A61: 4.11 | B61: Մեկից ավելի անգամ կամ այլ անձի փոխարեն քվեարկելը | C61: 153 | F61: 1 | I61: 1 | J61: 1
A62: 4.12 | B62: Քվեարկության գաղտնիությունը խախտելը | C62: 154
A63: 4.13 | B63: Կեղծ ընտրական քվեաթերթիկներ կամ քվեարկության ծրարներ, դրոշմանիշեր, կտրոններ պատրաստելը կամ ակնհայտ կեղծ ընտրական քվեաթերթիկներ կամ քվեարկության ծրարներ, դրոշմանիշեր, կտրոններ հանձնելը կամ իրացնելը | C63: 154.1
A64: 4.14 | B64: Ընտրողի կողմից թեկնածուներից, կուսակցություններից (կուսակցությունների դաշինքներից), հանրաքվեի քարոզչական նախաձեռնություններից կաշառք ստանալը կամ թեկնածուների, կուսակցությունների (կուսակցությունների դաշինքների), հանրաքվեի քարոզչական նախաձեռնությունների կողմից ընտրողներին կաշառք տալը կամ ընտրողի ազատ կամքի իրականացմանը խոչընդոտելը | C64: 154.2
A65: 4.16 | B65: Զենքով՝ տեղամասային կենտրոն մուտք գործելը | C65: 154.4
A66: 4.17 | B66: Վստահված անձին,ընտրական հանձնաժողովի անդամին,դիտորդին կամ զանգվածային լրատվության միջոցի ներկայացուցչին ընտրական փաստաթղթերին ծանոթանալուն խոչընդոտելը, ընտրական հանձնաժողովի արձանագրությունների պատճեններ չտալը | C66: 154.5
A67: 4.17.1 | B67: Ընտրական հանձնաժողովի նախագահի լիազորությունները չկատարելը կամ ոչ պատշաճ կատարելը | C67: 154.6
A68: 4.17.2 | B68: Քվեատուփը, ընտրողների ստորագրած ցուցակը, տեղամասային ընտրական հանձնաժողովի գրանցամատյանը, հանձնաժողովի կնիքը, տեղամասային ընտրական հանձնաժողովի անդամի անհատական կնիքը, ինքնասոսնձվող դրոշմանիշը, ընտրողի վերաբերյալ տվյալներ պարունակող քվեարկության կտրոնը կամ համարակալված կտրոնը, ընտրողների էլեկտրոնային գրանցման տեխնիկական սարքավորումը, կառավարության կողմից ընտրված մասնագիտացված կազմակերպության կողմից տեղադրված տեսախցիկը, ընտրական փաստաթղթերի մեկանգամյա օգտագործման պարկը կամ ընտրական փաստաթղթերի փաթեթը հափշտակելը | C68: 154.7
A69: 4.17.3 | B69: Այլ անձի փոխարեն քվեարկելու վերաբերյալ սուտ հայտարարություն տալը կամ կեղծ ստորագրությամբ հայտարարություն դիմումին կից ներկայացնելը | C69: 154.8
A70: 4.18 | B70: Գործադուլի մասնակցելուն կամ գործադուլի մասնակցելուց հրաժարվելուն հարկադրելը | C70: 155
A71: 4.19 | B71: Հղի կնոջը կամ մինչև երեք տարեկան երեխա ունեցող անձին աշխատանքի ընդունելոււց հրաժարվելը կամ աշխատանքից անհիմն ազատելը | C71: 156
A72: 4.20 | B72: Աշխատանքի պաշտպանության կանոնները խախտելը | C72: 157 | D72: 4 | F72: 3 | G72: 3 | J72: 3 | M72: 4 | P72: 1 | Q72: 1
A73: 4.21 | B73: Հեղինակային և հարակից իրավունքները խախտելը | C73: 158
A74: 4.22 | B74: Արտոնագրային իրավունքը խախտելը | C74: 159
A75: 4.23 | B75: Խղճի կամ դավանանքի ազատության իրավունքի իրականացմանը խոչընդոտելը | C75: 160
A76: 4.24 | B76: Միավորումներ (հասարակական կամ արհեստակցական միություններ) կազմելու կամ կուսակցություններ ստեղծելու իրավունքի իրականացմանը կամ դրանց գործողությանը խոչընդոտելը | C76: 161
A77: 4.25 | B77: Անձանց իրավունքների կամ անձի դեմ ոտնձգող միավորումներ կազմելը կամ ղեկավարելը | C77: 162
A78: 4.26 | B78: Հավաքներ անցկացնելուն կամ դրանց մասնակցելուն խոչընդոտելը | C78: 163
A79: 4.27 | B79: Լրագրողի մասնագիտական օրինական գործողությանը խոչընդոտելը | C79: 164
A80: 4.28 | B80: Այլ հանցագործություններ
A81: 5. | B81: Ընդամենը ընտանիքի և երեխայի շահերի դեմ ուղղված հանցագործությունները | D81: =SUM(D82:D95) -> 0 | E81: =SUM(E82:E95) -> 0 | F81: =SUM(F82:F95) -> 0 | G81: =SUM(G82:G95) -> 0 | H81: =SUM(H82:H95) -> 0 | I81: =SUM(I82:I95) -> 0 | J81: =SUM(J82:J95) -> 0 | K81: =SUM(K82:K95) -> 0 | ... T81: =SUM(T82:T95) -> 0
A82: 5.1 | B82: Անչափահասին հանցանքի կատարմանը ներգրավելը | C82: 165
A83: 5.2 | B83: Երեխային պոռնկության կամ պոռնկագրական բնույթի նյութեր կամ առարկաներ պատրաստելու հետ կապված գործողություններ կատարելուն ներգրավելը | C83: 166
A84: 5.2.1 | B84: Երեխային ոգելից խմիչքների օգտագործմանը, ուժեղ ներգործող կամ այլ թմրեցնող նյութերի ոչ բժշկական օգտագործմանը, թափառաշրջիկությանը ներգրավելը կամ մուրացկանության հետ կապված գործողություններ կատարելուն ներգրավելը | C84: 166.1
A85: 5.3 | B85: Ծնողներից երեխային ապօրինի բաժանելը կամ երեխային փոխելը | C85: 167
A86: 5.4 | B86: Խնամքը ստանձնելու նպատակով երեխայի առքը կամ ստանձնողի խնամքին հանձնելու նպատակով երեխայի վաճառքը | C86: 168
A87: 5.5 | B87: Որդեգրման գաղտնիքը հրապարակելը կամ որդեգրման համաձայնություն տալուն հակելը կամ հարկադրելը | C87: 169
A88: 5.6 | B88: Քաղաքացիական կացության ակտերի գրանցման մարմիններին սուտ տեղեկություններ հաղորդելը | C88: 169.1
A89: 5.7 | B89: Երեխային դաստիարակելու պարտականությունը չկատարելը | C89: 170
A90: 5.8 | B90: Երեխայի կյանքի անվտանգության ապահովման կամ առողջության պահպանման պարտականությունը չկատարելը կամ ոչ պատշաճ կատարելը | C90: 171
A91: 5.8.1 | B91: Վերարտադրողականության օժանդակ տեխնոլոգիաներից օգտվելու կանոնները խախտելը | C91: 171.1
A92: 5.9 | B92: Խնամակալի կամ հոգաբարձուի իրավունքները չարաշահելը | C92: 172
A93: 5.10 | B93: Ծնողի կողմից երեխային պահելուց չարամտորեն խուսափելը | C93: 173
A94: 5.11 | B94: Զավակի կողմից անաշխատունակ ծնողին պահելուց չարամտորեն խուսափելը | C94: 174
A95: 5.12 | B95: Այլ հանցագործություններ
A96: 6. | B96: Ընդամենը սեփականության դեմ ուղղված հանցագործությունները | D96: =SUM(D97:D111) -> 68 | E96: =SUM(E97:E111) -> 5 | F96: =SUM(F97:F111) -> 93 | G96: =SUM(G97:G111) -> 56 | H96: =SUM(H97:H111) -> 9 | I96: =SUM(I97:I111) -> 0 | J96: =SUM(J97:J111) -> 65 | K96: =SUM(K97:K111) -> 7 | ... T96: =SUM(T97:T111) -> 0
A97: 6.1 | B97: Ավազակությունը | C97: 175 | D97: 4 | F97: 5 | G97: 2 | J97: 2 | M97: 7
A98: 6.2 | B98: Կողոպուտը | C98: 176 | D98: 6 | E98: 1 | F98: 10 | G98: 7 | J98: 7 | L98: 1 | M98: 9 | O98: 4 | Q98: 4
A99: 6.3 | B99: Գողությունը | C99: 177 | D99: 22 | E99: 1 | F99: 41 | G99: 25 | H99: 7 | J99: 32 | K99: 2 | L99: 1 | M99: 23 | O99: 10 | Q99: 10
A100: 6.4 | B100: Խարդախությունը | C100: 178 | D100: 26 | E100: 1 | F100: 23 | G100: 16 | H100: 2 | J100: 18 | K100: 3 | L100: 1 | M100: 27 | O100: 8 | Q100: 8
...

Sheet Կոտայք
A1: 2017թ. | D1: ՀԱՇՎԵՏՎՈՒԹՅՈՒՆ | N1: Հավելված Հայաստանի Հանրապետության Դատարանների նախագահների խորհրդի 29.01.2018թ. թիվ 10-Լ որոշման
A2: ՀՀ ԿՈՏԱՅՔԻ ՄԱՐԶԻ ԸՆԴՀԱՆՈՒՐ ԻՐԱՎԱՍՈՒԹՅԱՆ ԱՌԱՋԻՆ ԱՏՅԱՆԻ ԴԱՏԱՐԱՆՈՒՄ ՔՐԵԱԿԱՆ ԳՈՐԾԵՐԻ ՔՆՆՈՒԹՅԱՆ ՎԵՐԱԲԵՐՅԱԼ
A3: ՀՀ Կոտայքի մարզի ընդհանուր իրավասության առաջին ատյանի դատարանում քրեական մասնագիտացում ունեցող դատավորների հաստիքների քանակը` 4
C4: ՀՀ քրեական օրենսգրքի հոդվածներ | D4: Հաշվետու ժամանակահատվածի սկզբում նախորդ հաշվետու ժամանակահատվածից փոխանցված գործերի ընդհանուր թիվը | E4: Այդ թվում` կասեցված վիճակում փոխանցված | F4: Հաշվետու ժամանակահատվածում ստացված գործերի ընդհանուր թիվը | G4: Հաշվետու ժամանակահատվածում ավարտված գործերի ընդհանուր թիվը | K4: Ուղարկվել է ըստ ընդդատության | L4: Հաշվետու ժամանակահատվածում կասեցված վարույթներով գործերի ընդհանուր թիվը | M4: Հաշվետու ժամանակահատվածում անավարտ գործերի ընդհանուր թիվը | N4: Այդ թվում՝ կասեցված | O4: Բողոքարկված դատական ակտերի թիվը` ըստ տեսակների | R4: Բեկանված դատական ակտերի թիվը` ըստ տեսակների
G5: Քննվել է ըստ էության և դատավճիռ կայացվել | H5: Որոշում է կայացվել քրեական գործի վարույթը կարճելու և քրեական հետապնդումը դադարեցնելու մասին | I5: Որոշում է կայացվել անմեղսունակների նկատմամբ բժշկական բնույթի հարկադրական միջոցներ կիրառելու մասին | J5: Ընդամենը ավարտվել են գործեր | O5: Այդ թվում` գործն ըստ էության լուծող դատական ակտերը | P5: Այդ թվում` միջանկյալ դատական ակտերը | Q5: Ընդամենը | R5: Այդ թվում` գործն ըստ էության լուծող դատական ակտերը | S5: Այդ թվում` միջանկյալ դատական ակտերը | T5: Ընդամենը
D6: 1 | E6: 2 | F6: 3 | G6: 4 | H6: 5 | I6: 6 | J6: 7 | K6: 8 | L6: 9 | M6: 10 | N6: 11 | O6: 12 | P6: 13 | Q6: 14 | R6: 15 | S6: 16 | T6: 17
A7: 1. | B7: Ընդամենը կյանքի և առողջության դեմ ուղղված հանցագործությունները | D7: =SUM(D8:D34) -> 21 | E7: =SUM(E8:E34) -> 1 | F7: =SUM(F8:F34) -> 42 | G7: =SUM(G8:G34) -> 23 | H7: =SUM(H8:H34) -> 11 | I7: =SUM(I8:I34) -> 2 | J7: =SUM(J8:J34) -> 36 | K7: =SUM(K8:K34) -> 0 | ... T7: =SUM(T8:T34) -> 2
A8: 1.1 | B8: Սպանությունը | C8: 104 | D8: 8 | F8: 4 | G8: 4 | I8: 1 | J8: 5 | M8: 7 | O8: 3 | Q8: 3
A9: 1.2 | B9: Հոգեկան խիստ հուզմունքի վիճակում կատարված սպանությունը | C9: 105
A10: 1.3 | B10: Մոր կողմից նորածին երեխայի սպանությունը | C10: 106 | F10: 1 | G10: 1 | J10: 1
A11: 1.4 | B11: Հանցանք կատարած անձին բռնելու համար անհրաժեշտ միջոցների սահմանազանցմամբ սպանությունը | C11: 107
A12: 1.5 | B12: Անհրաժեշտ պաշտպանության սահմանազանցմամբ սպանությունը | C12: 108
A13: 1.6 | B13: Անզգուշությամբ մահ պատճառելը | C13: 109 | F13: 1 | H13: 1 | J13: 1
A14: 1.7 | B14: Ինքնասպանության հասցնելը | C14: 110
A15: 1.8 | B15: Ինքնասպանության հակելը | C15: 111
A16: 1.9 | B16: Դիտավորությամբ առողջությանը ծանր վնաս պատճառելը | C16: 112 | D16: 5 | F16: 13 | G16: 8 | J16: 8 | M16: 10 | O16: 8 | Q16: 8 | R16: 2 | T16: 2
A17: 1.10 | B17: Դիտավորությամբ առողջությանը միջին ծանրության վնաս պատճառելը | C17: 113 | D17: 1 | F17: 3 | G17: 1 | H17: 2 | J17: 3 | O17: 1 | Q17: 1
A18: 1.11 | B18: Հոգեկան խիստ հուզմունքի վիճակում առողջությանը ծանր կամ միջին ծանրության վնաս պատճառելը | C18: 114
A19: 1.12 | B19: Հանցանք կատարած անձին բռնելու համար անհրաժեշտ միջոցների սահմանզանցմամբ առողջությանը ծանր կամ միջին ծանրության վնաս պատճառելը | C19: 115
A20: 1.13 | B20: Առողջությանը ծանր կամ միջին ծանրության վնաս պատճառելը անհրաժեշտ պաշտպանության սահմանանազանցմամբ | C20: 116
A21: 1.14 | B21: Դիտավորությամբ առողջությանը թեթև վնաս պատճառելը | C21: 117 | D21: 2 | E21: 1 | F21: 2 | G21: 1 | H21: 1 | J21: 2 | M21: 2 | N21: 1
A22: 1.15 | B22: Ծեծը | C22: 118 | D22: 5 | F22: 16 | G22: 8 | H22: 7 | I22: 1 | J22: 16 | M22: 5
A23: 1.16 | B23: Ֆիզիկական ուժեղ ցավ կամ հոգեկան ուժեղ տառապանք պատճառելը | C23: 119 | F23: 1 | M23: 1
A24: 1.17 | B24: Անզգուշությամբ առողջությանը ծանր վնաս պատճառելը | C24: 120 | F24: 1 | M24: 1
A25: 1.18 | B25: Անզգուշությամբ առողջությանը միջին ծանրության վնաս պատճառելը | C25: 121
A26: 1.19 | B26: Ապօրինի աբորտ կատարելը | C26: 122
A27: 1.20 | B27: Մարդու իմունային անբավարարության վիրուսի հարուցիչով վարակելը | C27: 123
A28: 1.21 | B28: Վեներական հիվանդությամբ կամ այլ սեռավարակներով վարակելը | C28: 124
A29: 1.22 | B29: Փոխպատվաստման վիրահատություն կատարելու կանոնները խախտելը | C29: 125
A30: 1.24 | B30: Անձին առանց իր հանձնարարության բժշկական կամ գիտական փորձերի ենթարկելը | C30: 127
A31: 1.25 | B31: Վտանգի մեջ թողնելը | C31: 128
A32: 1.26 | B32: Հիվանդին օգնություն ցույց չտալը | C32: 129
A33: 1.27 | B33: Բժշկական օգնություն և սպասարկում իրականացնողների կողմից մասնագիտական պարտականությունները չկատարելը կամ ոչ պատշաճ կատարելը | C33: 130
A34: 1.28 | B34: Այլ հանցագործություններ
A35: 2. | B35: Ընդամենը անձի ազատության, պատվի և արժանապատվության դեմ ուղղված հանցագործությունները | D35: =SUM(D36:D43) -> 3 | E35: =SUM(E36:E43) -> 0 | F35: =SUM(F36:F43) -> 4 | G35: =SUM(G36:G43) -> 2 | H35: =SUM(H36:H43) -> 0 | I35: =SUM(I36:I43) -> 1 | J35: =SUM(J36:J43) -> 3 | K35: =SUM(K36:K43) -> 0 | ... T35: =SUM(T36:T43) -> 0
A36: 2.1 | B36: Մարդուն առևանգելը | C36: 131 | D36: 1 | F36: 1 | G36: 1 | J36: 1 | M36: 1
A37: 2.2 | B37: Մարդու թրաֆիքինգը կամ շահագործումը | C37: 132 | D37: 1 | G37: 1 | J37: 1 | O37: 1 | Q37: 1
A38: 2.2.2 | B38: Երեխայի կամ հոգեկան խանգարման հետևանքով իր արարքի բնույթն ու նշանակությունը գիտակցելու կամ դա ղեկավարելու հնարավորությունից զրկված անձի թրաֆիքինգը կամ շահագործումը | C38: 132.2
A39: 2.2.3 | B39: Շահագործման վիճակում գտնվող անձի ծառայությունից օգտվելը | C39: 132.3
A40: 2.3 | B40: Ազատությունից ապօրինի զրկելը | C40: 133 | F40: 3 | M40: 3
A41: 2.4 | B41: Հոգեբուժական հիվանդանոցում ապօրինի տեղավորելը կամ պահելը | C41: 134
A42: 2.7 | B42: Սպանության, առողջությանը ծանր վնաս պատճառելու կամ գույք ոչնչացնելու սպառնալիքը | C42: 137 | D42: 1 | I42: 1 | J42: 1
A43: 2.8 | B43: Այլ հանցագործություններ
A44: 3. | B44: Ընդամենը սեռական անձեռնմխելիության և սեռական ազատության դեմ ուղղված հանցագործությունները | D44: =SUM(D45:D50) -> 2 | E44: =SUM(E45:E50) -> 0 | F44: =SUM(F45:F50) -> 6 | G44: =SUM(G45:G50) -> 6 | H44: =SUM(H45:H50) -> 0 | I44: =SUM(I45:I50) -> 0 | J44: =SUM(J45:J50) -> 6 | K44: =SUM(K45:K50) -> 0 | ... T44: =SUM(T45:T50) -> 0
A45: 3.1 | B45: Բռնաբարությունը | C45: 138 | D45: 1 | G45: 1 | J45: 1
A46: 3.2 | B46: Սեքսուալ բնույթի բռնի գործողությունները | C46: 139 | F46: 2 | G46: 1 | J46: 1 | M46: 1 | O46: 1 | Q46: 1
A47: 3.3 | B47: Սեռական հարաբերության կամ սեքսուալ բնույթի գործողություններին հարկադրելը | C47: 140
A48: 3.4 | B48: Սեռական հարաբերությունը տասնվեց տարին չլրացած անձի հետ կամ սեքսուալ բնույթի գործողություններ կատարելը տասնվեց տարին չլրացած անձի նկատմամբ | C48: 141 | F48: 4 | G48: 3 | J48: 3 | M48: 1
A49: 3.5 | B49: Անառակաբարո գործողությունները | C49: 142 | D49: 1 | G49: 1 | J49: 1 | O49: 1 | Q49: 1
A50: 3.6 | B50: Այլ հանցագործություններ
A51: 4. | B51: Ընդամենը մարդու և քաղաքացու սահմանադրական իրավունքների և ազատությունների դեմ ուղղված հանցագործությունները | D51: =SUM(D52:D80) -> 4 | E51: =SUM(E52:E80) -> 0 | F51: =SUM(F52:F80) -> 4 | G51: =SUM(G52:G80) -> 6 | H51: =SUM(H52:H80) -> 0 | I51: =SUM(I52:I80) -> 0 | J51: =SUM(J52:J80) -> 6 | K51: =SUM(K52:K80) -> 0 | ... T51: =SUM(T52:T80) -> 0
A52: 4.1 | B52: Մարդու և քաղաքացու իրավահավասարությունը խախտելը | C52: 143
A53: 4.2 | B53: Անձնական կամ ընտանեկան կյանքի մասին տեղեկություններ ապօրինի հավաքելը, պահելը, օգտագործելը կամ տարածելը | C53: 144
A54: 4.3 | B54: Բժշկական գաղտնիքը հրապարակելը | C54: 145
A55: 4.4 | B55: Նամակագրության, հեռախոսային խոսակցությունների, փոստային, հեռագրական կամ այլ հաղորդումների գաղտնիությունը խախտելը | C55: 146
A56: 4.5 | B56: Բնակարանի անձեռնմխելիությունը խախտելը | C56: 147 | D56: 2 | F56: 2 | G56: 3 | J56: 3 | M56: 1
A57: 4.6 | B57: Անձին տեղեկություն ներկայացնելուց հրաժարվելը | C57: 148
A58: 4.7 | B58: Ընտրական իրավունքի իրականացմանը, ընտրական հանձնաժողովների աշխատանքներին կամ ընտրությանը մասնակցող անձանց լիազորությունների իրականացմանը խոչընդոտելը | C58: 149
A59: 4.8 | B59: Ընտրությունների կամ քվեարկության արդյունքները կեղծելը | C59: 150
A60: 4.10 | B60: Ընտրողների ցուցակները կազմելու, դրանք քաղաքացիներին և կուսակցություններին տրամադրելու կամ հրապարակելու կարգը խախտելը | C60: 152
A61: 4.11 | B61: Մեկից ավելի անգամ կամ այլ անձի փոխարեն քվեարկելը | C61: 153
A62: 4.12 | B62: Քվեարկության գաղտնիությունը խախտելը | C62: 154
A63: 4.13 | B63: Կեղծ ընտրական քվեաթերթիկներ կամ քվեարկության ծրարներ, դրոշմանիշեր, կտրոններ պատրաստելը կամ ակնհայտ կեղծ ընտրական քվեաթերթիկներ կամ քվեարկության ծրարներ, դրոշմանիշեր, կտրոններ հանձնելը կամ իրացնելը | C63: 154.1
A64: 4.14 | B64: Ընտրողի կողմից թեկնածուներից, կուսակցություններից (կուսակցությունների դաշինքներից), հանրաքվեի քարոզչական նախաձեռնություններից կաշառք ստանալը կամ թեկնածուների, կուսակցությունների (կուսակցությունների դաշինքների), հանրաքվեի քարոզչական նախաձեռնությունների կողմից ընտրողներին կաշառք տալը կամ ընտրողի ազատ կամքի իրականացմանը խոչընդոտելը | C64: 154.2
A65: 4.16 | B65: Զենքով՝ տեղամասային կենտրոն մուտք գործելը | C65: 154.4
A66: 4.17 | B66: Վստահված անձին,ընտրական հանձնաժողովի անդամին,դիտորդին կամ զանգվածային լրատվության միջոցի ներկայացուցչին ընտրական փաստաթղթերին ծանոթանալուն խոչընդոտելը, ընտրական հանձնաժողովի արձանագրությունների պատճեններ չտալը | C66: 154.5
A67: 4.17.1 | B67: Ընտրական հանձնաժողովի նախագահի լիազորությունները չկատարելը կամ ոչ պատշաճ կատարելը | C67: 154.6
A68: 4.17.2 | B68: Քվեատուփը, ընտրողների ստորագրած ցուցակը, տեղամասային ընտրական հանձնաժողովի գրանցամատյանը, հանձնաժողովի կնիքը, տեղամասային ընտրական հանձնաժողովի անդամի անհատական կնիքը, ինքնասոսնձվող դրոշմանիշը, ընտրողի վերաբերյալ տվյալներ պարունակող քվեարկության կտրոնը կամ համարակալված կտրոնը, ընտրողների էլեկտրոնային գրանցման տեխնիկական սարքավորումը, կառավարության կողմից ընտրված մասնագիտացված կազմակերպության կողմից տեղադրված տեսախցիկը, ընտրական փաստաթղթերի մեկանգամյա օգտագործման պարկը կամ ընտրական փաստաթղթերի փաթեթը հափշտակելը | C68: 154.7
... A71: 4.19 | B71: Հղի կնոջը կամ մինչև երեք տարեկան երեխա ունեցող անձին աշխատանքի ընդունելոււց հրաժարվելը կամ աշխատանքից անհիմն ազատելը | C71: 156
A72: 4.20 | B72: Աշխատանքի պաշտպանության կանոնները խախտելը | C72: 157 | D72: 2 | F72: 2 | G72: 3 | J72: 3 | M72: 1
A73: 4.21 | B73: Հեղինակային և հարակից իրավունքները խախտելը | C73: 158
A74: 4.22 | B74: Արտոնագրային իրավունքը խախտելը | C74: 159
A75: 4.23 | B75: Խղճի կամ դավանանքի ազատության իրավունքի իրականացմանը խոչընդոտելը | C75: 160
A76: 4.24 | B76: Միավորումներ (հասարակական կամ արհեստակցական միություններ) կազմելու կամ կուսակցություններ ստեղծելու իրավունքի իրականացմանը կամ դրանց գործողությանը խոչընդոտելը | C76: 161
A77: 4.25 | B77: Անձանց իրավունքների կամ անձի դեմ ոտնձգող միավորումներ կազմելը կամ ղեկավարելը | C77: 162
A78: 4.26 | B78: Հավաքներ անցկացնելուն կամ դրանց մասնակցելուն խոչընդոտելը | C78: 163
A79: 4.27 | B79: Լրագրողի մասնագիտական օրինական գործողությանը խոչընդոտելը | C79: 164
A80: 4.28 | B80: Այլ հանցագործություններ
A81: 5. | B81: Ընդամենը ընտանիքի և երեխայի շահերի դեմ ուղղված հանցագործությունները | D81: =SUM(D82:D95) -> 0 | E81: =SUM(E82:E95) -> 0 | F81: =SUM(F82:F95) -> 1 | G81: =SUM(G82:G95) -> 1 | H81: =SUM(H82:H95) -> 0 | I81: =SUM(I82:I95) -> 0 | J81: =SUM(J82:J95) -> 1 | K81: =SUM(K82:K95) -> 0 | ... T81: =SUM(T82:T95) -> 0
A82: 5.1 | B82: Անչափահասին հանցանքի կատարմանը ներգրավելը | C82: 165 | F82: 1 | G82: 1 | J82: 1
A83: 5.2 | B83: Երեխային պոռնկության կամ պոռնկագրական բնույթի նյութեր կամ առարկաներ պատրաստելու հետ կապված գործողություններ կատարելուն ներգրավելը | C83: 166
A84: 5.2.1 | B84: Երեխային ոգելից խմիչքների օգտագործմանը, ուժեղ ներգործող կամ այլ թմրեցնող նյութերի ոչ բժշկական օգտագործմանը, թափառաշրջիկությանը ներգրավելը կամ մուրացկանության հետ կապված գործողություններ կատարելուն ներգրավելը | C84: 166.1
A85: 5.3 | B85: Ծնողներից երեխային ապօրինի բաժանելը կամ երեխային փոխելը | C85: 167
A86: 5.4 | B86: Խնամքը ստանձնելու նպատակով երեխայի առքը կամ ստանձնողի խնամքին հանձնելու նպատակով երեխայի վաճառքը | C86: 168
A87: 5.5 | B87: Որդեգրման գաղտնիքը հրապարակելը կամ որդեգրման համաձայնություն տալուն հակելը կամ հարկադրելը | C87: 169
A88: 5.6 | B88: Քաղաքացիական կացության ակտերի գրանցման մարմիններին սուտ տեղեկություններ հաղորդելը | C88: 169.1
A89: 5.7 | B89: Երեխային դաստիարակելու պարտականությունը չկատարելը | C89: 170
A90: 5.8 | B90: Երեխայի կյանքի անվտանգության ապահովման կամ առողջության պահպանման պարտականությունը չկատարելը կամ ոչ պատշաճ կատարելը | C90: 171
A91: 5.8.1 | B91: Վերարտադրողականության օժանդակ տեխնոլոգիաներից օգտվելու կանոնները խախտելը | C91: 171.1
A92: 5.9 | B92: Խնամակալի կամ հոգաբարձուի իրավունքները չարաշահելը | C92: 172
A93: 5.10 | B93: Ծնողի կողմից երեխային պահելուց չարամտորեն խուսափելը | C93: 173
A94: 5.11 | B94: Զավակի կողմից անաշխատունակ ծնողին պահելուց չարամտորեն խուսափելը | C94: 174
A95: 5.12 | B95: Այլ հանցագործություններ
A96: 6. | B96: Ընդամենը սեփականության դեմ ուղղված հանցագործությունները | D96: =SUM(D97:D111) -> 42 | E96: =SUM(E97:E111) -> 1 | F96: =SUM(F97:F111) -> 67 | G96: =SUM(G97:G111) -> 56 | H96: =SUM(H97:H111) -> 9 | I96: =SUM(I97:I111) -> 0 | J96: =SUM(J97:J111) -> 65 | K96: =SUM(K97:K111) -> 1 | ... T96: =SUM(T97:T111) -> 2
A97: 6.1 | B97: Ավազակությունը | C97: 175 | D97: 1 | F97: 2 | G97: 1 | J97: 1 | M97: 2 | O97: 1 | Q97: 1
A98: 6.2 | B98: Կողոպուտը | C98: 176 | D98: 1 | F98: 4 | G98: 4 | J98: 4 | M98: 1 | O98: 1 | Q98: 1
A99: 6.3 | B99: Գողությունը | C99: 177 | D99: 27 | F99: 39 | G99: 36 | H99: 6 | J99: 42 | M99: 24 | O99: 9 | Q99: 9 | R99: 2 | T99: 2
A100: 6.4 | B100: Խարդախությունը | C100: 178 | D100: 6 | E100: 1 | F100: 14 | G100: 7 | H100: 2 | J100: 9 | K100: 1 | M100: 10 | O100: 2 | Q100: 2
A101: 6.5 | B101: Յուրացնելը կամ վատնելը | C101: 179 | D101: 4 | F101: 6 | G101: 5 | H101: 1 | J101: 6 | M101: 4 | O101: 3 | Q101: 3
A102: 6.6 | B102: Առանձնակի արժեք ունեցող առարկաներ հափշտակելը | C102: 180
...

Sheet Գեղարքունիք
A1: 2017թ. | D1: ՀԱՇՎԵՏՎՈՒԹՅՈՒՆ | N1: Հավելված Հայաստանի Հանրապետության Դատարանների նախագահների խորհրդի 29.01.2018թ. թիվ 10-Լ որոշման
A2: ՀՀ ԳԵՂԱՐՔՈՒՆԻՔԻ ՄԱՐԶԻ ԸՆԴՀԱՆՈՒՐ ԻՐԱՎԱՍՈՒԹՅԱՆ ԱՌԱՋԻՆ ԱՏՅԱՆԻ ԴԱՏԱՐԱՆՈՒՄ ՔՐԵԱԿԱՆ ԳՈՐԾԵՐԻ ՔՆՆՈՒԹՅԱՆ ՎԵՐԱԲԵՐՅԱԼ
A3: ՀՀ Գեղարքունիքի մարզի ընդհանուր իրավասության առաջին ատյանի դատարանում քրեական մասնագիտացում ունեցող դատավորների հաստիքների քանակը` 5
C4: ՀՀ քրեական օրենսգրքի հոդվածներ | D4: Հաշվետու ժամանակահատվածի սկզբում նախորդ հաշվետու ժամանակահատվածից փոխանցված գործերի ընդհանուր թիվը | E4: Այդ թվում` կասեցված վիճակում փոխանցված | F4: Հաշվետու ժամանակահատվածում ստացված գործերի ընդհանուր թիվը | G4: Հաշվետու ժամանակահատվածում ավարտված գործերի ընդհանուր թիվը | K4: Ուղարկվել է ըստ ընդդատության | L4: Հաշվետու ժամանակահատվածում կասեցված վարույթներով գործերի ընդհանուր թիվը | M4: Հաշվետու ժամանակահատվածում անավարտ գործերի ընդհանուր թիվը | N4: Այդ թվում՝ կասեցված | O4: Բողոքարկված դատական ակտերի թիվը` ըստ տեսակների | R4: Բեկանված դատական ակտերի թիվը` ըստ տեսակների
G5: Քննվել է ըստ էության և դատավճիռ կայացվել | H5: Որոշում է կայացվել քրեական գործի վարույթը կարճելու և քրեական հետապնդումը դադարեցնելու մասին | I5: Որոշում է կայացվել անմեղսունակների նկատմամբ բժշկական բնույթի հարկադրական միջոցներ կիրառելու մասին | J5: Ընդամենը ավարտվել են գործեր | O5: Այդ թվում` գործն ըստ էության լուծող դատական ակտերը | P5: Այդ թվում` միջանկյալ դատական ակտերը | Q5: Ընդամենը | R5: Այդ թվում` գործն ըստ էության լուծող դատական ակտերը | S5: Այդ թվում` միջանկյալ դատական ակտերը | T5: Ընդամենը
D6: 1 | E6: 2 | F6: 3 | G6: 4 | H6: 5 | I6: 6 | J6: 7 | K6: 8 | L6: 9 | M6: 10 | N6: 11 | O6: 12 | P6: 13 | Q6: 14 | R6: 15 | S6: 16 | T6: 17
A7: 1. | B7: Ընդամենը կյանքի և առողջության դեմ ուղղված հանցագործությունները | D7: =SUM(D8:D34) -> 22 | E7: =SUM(E8:E34) -> 0 | F7: =SUM(F8:F34) -> 25 | G7: =SUM(G8:G34) -> 21 | H7: =SUM(H8:H34) -> 5 | I7: =SUM(I8:I34) -> 4 | J7: =SUM(J8:J34) -> 30 | K7: =SUM(K8:K34) -> 0 | ... T7: =SUM(T8:T34) -> 1
A8: 1.1 | B8: Սպանությունը | C8: 104 | D8: 11 | F8: 6 | G8: 4 | I8: 4 | J8: 8 | M8: 9 | O8: 5 | Q8: 5 | R8: 1 | T8: 1
A9: 1.2 | B9: Հոգեկան խիստ հուզմունքի վիճակում կատարված սպանությունը | C9: 105
A10: 1.3 | B10: Մոր կողմից նորածին երեխայի սպանությունը | C10: 106
A11: 1.4 | B11: Հանցանք կատարած անձին բռնելու համար անհրաժեշտ միջոցների սահմանազանցմամբ սպանությունը | C11: 107
A12: 1.5 | B12: Անհրաժեշտ պաշտպանության սահմանազանցմամբ սպանությունը | C12: 108
A13: 1.6 | B13: Անզգուշությամբ մահ պատճառելը | C13: 109
A14: 1.7 | B14: Ինքնասպանության հասցնելը | C14: 110
A15: 1.8 | B15: Ինքնասպանության հակելը | C15: 111
A16: 1.9 | B16: Դիտավորությամբ առողջությանը ծանր վնաս պատճառելը | C16: 112 | D16: 3 | F16: 2 | G16: 4 | J16: 4 | M16: 1 | O16: 2 | Q16: 2
A17: 1.10 | B17: Դիտավորությամբ առողջությանը միջին ծանրության վնաս պատճառելը | C17: 113 | D17: 1 | F17: 5 | G17: 3 | H17: 1 | J17: 4 | M17: 2
A18: 1.11 | B18: Հոգեկան խիստ հուզմունքի վիճակում առողջությանը ծանր կամ միջին ծանրության վնաս պատճառելը | C18: 114
A19: 1.12 | B19: Հանցանք կատարած անձին բռնելու համար անհրաժեշտ միջոցների սահմանզանցմամբ առողջությանը ծանր կամ միջին ծանրության վնաս պատճառելը | C19: 115
A20: 1.13 | B20: Առողջությանը ծանր կամ միջին ծանրության վնաս պատճառելը անհրաժեշտ պաշտպանության սահմանանազանցմամբ | C20: 116
A21: 1.14 | B21: Դիտավորությամբ առողջությանը թեթև վնաս պատճառելը | C21: 117 | F21: 2 | M21: 2
A22: 1.15 | B22: Ծեծը | C22: 118 | D22: 7 | F22: 7 | G22: 9 | H22: 4 | J22: 13 | M22: 1 | O22: 3 | Q22: 3
A23: 1.16 | B23: Ֆիզիկական ուժեղ ցավ կամ հոգեկան ուժեղ տառապանք պատճառելը | C23: 119
A24: 1.17 | B24: Անզգուշությամբ առողջությանը ծանր վնաս պատճառելը | C24: 120 | F24: 2 | G24: 1 | J24: 1 | M24: 1 | O24: 1 | Q24: 1
A25: 1.18 | B25: Անզգուշությամբ առողջությանը միջին ծանրության վնաս պատճառելը | C25: 121
A26: 1.19 | B26: Ապօրինի աբորտ կատարելը | C26: 122
A27: 1.20 | B27: Մարդու իմունային անբավարարության վիրուսի հարուցիչով վարակելը | C27: 123
A28: 1.21 | B28: Վեներական հիվանդությամբ կամ այլ սեռավարակներով վարակելը | C28: 124
A29: 1.22 | B29: Փոխպատվաստման վիրահատություն կատարելու կանոնները խախտելը | C29: 125
A30: 1.24 | B30: Անձին առանց իր հանձնարարության բժշկական կամ գիտական փորձերի ենթարկելը | C30: 127
A31: 1.25 | B31: Վտանգի մեջ թողնելը | C31: 128
A32: 1.26 | B32: Հիվանդին օգնություն ցույց չտալը | C32: 129
A33: 1.27 | B33: Բժշկական օգնություն և սպասարկում իրականացնողների կողմից մասնագիտական պարտականությունները չկատարելը կամ ոչ պատշաճ կատարելը | C33: 130 | F33: 1 | M33: 1
A34: 1.28 | B34: Այլ հանցագործություններ
A35: 2. | B35: Ընդամենը անձի ազատության, պատվի և արժանապատվության դեմ ուղղված հանցագործությունները | D35: =SUM(D36:D43) -> 1 | E35: =SUM(E36:E43) -> 0 | F35: =SUM(F36:F43) -> 1 | G35: =SUM(G36:G43) -> 2 | H35: =SUM(H36:H43) -> 0 | I35: =SUM(I36:I43) -> 0 | J35: =SUM(J36:J43) -> 2 | K35: =SUM(K36:K43) -> 0 | ... T35: =SUM(T36:T43) -> 0
A36: 2.1 | B36: Մարդուն առևանգելը | C36: 131 | D36: 1 | F36: 1 | G36: 2 | J36: 2 | O36: 1 | Q36: 1
A37: 2.2 | B37: Մարդու թրաֆիքինգը կամ շահագործումը | C37: 132
A38: 2.2.2 | B38: Երեխայի կամ հոգեկան խանգարման հետևանքով իր արարքի բնույթն ու նշանակությունը գիտակցելու կամ դա ղեկավարելու հնարավորությունից զրկված անձի թրաֆիքինգը կամ շահագործումը | C38: 132.2
A39: 2.2.3 | B39: Շահագործման վիճակում գտնվող անձի ծառայությունից օգտվելը | C39: 132.3
A40: 2.3 | B40: Ազատությունից ապօրինի զրկելը | C40: 133
A41: 2.4 | B41: Հոգեբուժական հիվանդանոցում ապօրինի տեղավորելը կամ պահելը | C41: 134
A42: 2.7 | B42: Սպանության, առողջությանը ծանր վնաս պատճառելու կամ գույք ոչնչացնելու սպառնալիքը | C42: 137
A43: 2.8 | B43: Այլ հանցագործություններ
A44: 3. | B44: Ընդամենը սեռական անձեռնմխելիության և սեռական ազատության դեմ ուղղված հանցագործությունները | D44: =SUM(D45:D50) -> 1 | E44: =SUM(E45:E50) -> 0 | F44: =SUM(F45:F50) -> 0 | G44: =SUM(G45:G50) -> 1 | H44: =SUM(H45:H50) -> 0 | I44: =SUM(I45:I50) -> 0 | J44: =SUM(J45:J50) -> 1 | K44: =SUM(K45:K50) -> 0 | ... T44: =SUM(T45:T50) -> 0
A45: 3.1 | B45: Բռնաբարությունը | C45: 138
A46: 3.2 | B46: Սեքսուալ բնույթի բռնի գործողությունները | C46: 139
A47: 3.3 | B47: Սեռական հարաբերության կամ սեքսուալ բնույթի գործողություններին հարկադրելը | C47: 140
A48: 3.4 | B48: Սեռական հարաբերությունը տասնվեց տարին չլրացած անձի հետ կամ սեքսուալ բնույթի գործողություններ կատարելը տասնվեց տարին չլրացած անձի նկատմամբ | C48: 141 | D48: 1 | G48: 1 | J48: 1
A49: 3.5 | B49: Անառակաբարո գործողությունները | C49: 142
A50: 3.6 | B50: Այլ հանցագործություններ
A51: 4. | B51: Ընդամենը մարդու և քաղաքացու սահմանադրական իրավունքների և ազատությունների դեմ ուղղված հանցագործությունները | D51: =SUM(D52:D80) -> 0 | E51: =SUM(E52:E80) -> 0 | F51: =SUM(F52:F80) -> 4 | G51: =SUM(G52:G80) -> 4 | H51: =SUM(H52:H80) -> 0 | I51: =SUM(I52:I80) -> 0 | J51: =SUM(J52:J80) -> 4 | K51: =SUM(K52:K80) -> 0 | ... T51: =SUM(T52:T80) -> 0
A52: 4.1 | B52: Մարդու և քաղաքացու իրավահավասարությունը խախտելը | C52: 143
A53: 4.2 | B53: Անձնական կամ ընտանեկան կյանքի մասին տեղեկություններ ապօրինի հավաքելը, պահելը, օգտագործելը կամ տարածելը | C53: 144
A54: 4.3 | B54: Բժշկական գաղտնիքը հրապարակելը | C54: 145
A55: 4.4 | B55: Նամակագրության, հեռախոսային խոսակցությունների, փոստային, հեռագրական կամ այլ հաղորդումների գաղտնիությունը խախտելը | C55: 146
A56: 4.5 | B56: Բնակարանի անձեռնմխելիությունը խախտելը | C56: 147 | F56: 3 | G56: 3 | J56: 3
A57: 4.6 | B57: Անձին տեղեկություն ներկայացնելուց հրաժարվելը | C57: 148
A58: 4.7 | B58: Ընտրական իրավունքի իրականացմանը, ընտրական հանձնաժողովների աշխատանքներին կամ ընտրությանը մասնակցող անձանց լիազորությունների իրականացմանը խոչընդոտելը | C58: 149
A59: 4.8 | B59: Ընտրությունների կամ քվեարկության արդյունքները կեղծելը | C59: 150
A60: 4.10 | B60: Ընտրողների ցուցակները կազմելու, դրանք քաղաքացիներին և կուսակցություններին տրամադրելու կամ հրապարակելու կարգը խախտելը | C60: 152
A61: 4.11 | B61: Մեկից ավելի անգամ կամ այլ անձի փոխարեն քվեարկելը | C61: 153
A62: 4.12 | B62: Քվեարկության գաղտնիությունը խախտելը | C62: 154 | F62: 1 | G62: 1 | J62: 1
A63: 4.13 | B63: Կեղծ ընտրական քվեաթերթիկներ կամ քվեարկության ծրարներ, դրոշմանիշեր, կտրոններ պատրաստելը կամ ակնհայտ կեղծ ընտրական քվեաթերթիկներ կամ քվեարկության ծրարներ, դրոշմանիշեր, կտրոններ հանձնելը կամ իրացնելը | C63: 154.1
A64: 4.14 | B64: Ընտրողի կողմից թեկնածուներից, կուսակցություններից (կուսակցությունների դաշինքներից), հանրաքվեի քարոզչական նախաձեռնություններից կաշառք ստանալը կամ թեկնածուների, կուսակցությունների (կուսակցությունների դաշինքների), հանրաքվեի քարոզչական նախաձեռնությունների կողմից ընտրողներին կաշառք տալը կամ ընտրողի ազատ կամքի իրականացմանը խոչընդոտելը | C64: 154.2
A65: 4.16 | B65: Զենքով՝ տեղամասային կենտրոն մուտք գործելը | C65: 154.4
A66: 4.17 | B66: Վստահված անձին,ընտրական հանձնաժողովի անդամին,դիտորդին կամ զանգվածային լրատվության միջոցի ներկայացուցչին ընտրական փաստաթղթերին ծանոթանալուն խոչընդոտելը, ընտրական հանձնաժողովի արձանագրությունների պատճեններ չտալը | C66: 154.5
A67: 4.17.1 | B67: Ընտրական հանձնաժողովի նախագահի լիազորությունները չկատարելը կամ ոչ պատշաճ կատարելը | C67: 154.6
A68: 4.17.2 | B68: Քվեատուփը, ընտրողների ստորագրած ցուցակը, տեղամասային ընտրական հանձնաժողովի գրանցամատյանը, հանձնաժողովի կնիքը, տեղամասային ընտրական հանձնաժողովի անդամի անհատական կնիքը, ինքնասոսնձվող դրոշմանիշը, ընտրողի վերաբերյալ տվյալներ պարունակող քվեարկության կտրոնը կամ համարակալված կտրոնը, ընտրողների էլեկտրոնային գրանցման տեխնիկական սարքավորումը, կառավարության կողմից ընտրված մասնագիտացված կազմակերպության կողմից տեղադրված տեսախցիկը, ընտրական փաստաթղթերի մեկանգամյա օգտագործման պարկը կամ ընտրական փաստաթղթերի փաթեթը հափշտակելը | C68: 154.7
A69: 4.17.3 | B69: Այլ անձի փոխարեն քվեարկելու վերաբերյալ սուտ հայտարարություն տալը կամ կեղծ ստորագրությամբ հայտարարություն դիմումին կից ներկայացնելը | C69: 154.8
A70: 4.18 | B70: Գործադուլի մասնակցելուն կամ գործադուլի մասնակցելուց հրաժարվելուն հարկադրելը | C70: 155
A71: 4.19 | B71: Հղի կնոջը կամ մինչև երեք տարեկան երեխա ունեցող անձին աշխատանքի ընդունելոււց հրաժարվելը կամ աշխատանքից անհիմն ազատելը | C71: 156
A72: 4.20 | B72: Աշխատանքի պաշտպանության կանոնները խախտելը | C72: 157
A73: 4.21 | B73: Հեղինակային և հարակից իրավունքները խախտելը | C73: 158
A74: 4.22 | B74: Արտոնագրային իրավունքը խախտելը | C74: 159
... A79: 4.27 | B79: Լրագրողի մասնագիտական օրինական գործողությանը խոչընդոտելը | C79: 164
A80: 4.28 | B80: Այլ հանցագործություններ
A81: 5. | B81: Ընդամենը ընտանիքի և երեխայի շահերի դեմ ուղղված հանցագործությունները | D81: =SUM(D82:D95) -> 0 | E81: =SUM(E82:E95) -> 0 | F81: =SUM(F82:F95) -> 1 | G81: =SUM(G82:G95) -> 0 | H81: =SUM(H82:H95) -> 0 | I81: =SUM(I82:I95) -> 0 | J81: =SUM(J82:J95) -> 0 | K81: =SUM(K82:K95) -> 0 | ... T81: =SUM(T82:T95) -> 0
A82: 5.1 | B82: Անչափահասին հանցանքի կատարմանը ներգրավելը | C82: 165
A83: 5.2 | B83: Երեխային պոռնկության կամ պոռնկագրական բնույթի նյութեր կամ առարկաներ պատրաստելու հետ կապված գործողություններ կատարելուն ներգրավելը | C83: 166
A84: 5.2.1 | B84: Երեխային ոգելից խմիչքների օգտագործմանը, ուժեղ ներգործող կամ այլ թմրեցնող նյութերի ոչ բժշկական օգտագործմանը, թափառաշրջիկությանը ներգրավելը կամ մուրացկանության հետ կապված գործողություններ կատարելուն ներգրավելը | C84: 166.1
A85: 5.3 | B85: Ծնողներից երեխային ապօրինի բաժանելը կամ երեխային փոխելը | C85: 167
A86: 5.4 | B86: Խնամքը ստանձնելու նպատակով երեխայի առքը կամ ստանձնողի խնամքին հանձնելու նպատակով երեխայի վաճառքը | C86: 168
A87: 5.5 | B87: Որդեգրման գաղտնիքը հրապարակելը կամ որդեգրման համաձայնություն տալուն հակելը կամ հարկադրելը | C87: 169
A88: 5.6 | B88: Քաղաքացիական կացության ակտերի գրանցման մարմիններին սուտ տեղեկություններ հաղորդելը | C88: 169.1
A89: 5.7 | B89: Երեխային դաստիարակելու պարտականությունը չկատարելը | C89: 170
A90: 5.8 | B90: Երեխայի կյանքի անվտանգության ապահովման կամ առողջության պահպանման պարտականությունը չկատարելը կամ ոչ պատշաճ կատարելը | C90: 171
A91: 5.8.1 | B91: Վերարտադրողականության օժանդակ տեխնոլոգիաներից օգտվելու կանոնները խախտելը | C91: 171.1
A92: 5.9 | B92: Խնամակալի կամ հոգաբարձուի իրավունքները չարաշահելը | C92: 172
A93: 5.10 | B93: Ծնողի կողմից երեխային պահելուց չարամտորեն խուսափելը | C93: 173 | F93: 1 | M93: 1
A94: 5.11 | B94: Զավակի կողմից անաշխատունակ ծնողին պահելուց չարամտորեն խուսափելը | C94: 174
A95: 5.12 | B95: Այլ հանցագործություններ
A96: 6. | B96: Ընդամենը սեփականության դեմ ուղղված հանցագործությունները | D96: =SUM(D97:D111) -> 26 | E96: =SUM(E97:E111) -> 3 | F96: =SUM(F97:F111) -> 35 | G96: =SUM(G97:G111) -> 32 | H96: =SUM(H97:H111) -> 1 | I96: =SUM(I97:I111) -> 0 | J96: =SUM(J97:J111) -> 33 | K96: =SUM(K97:K111) -> 0 | ... T96: =SUM(T97:T111) -> 0
A97: 6.1 | B97: Ավազակությունը | C97: 175 | D97: 2 | G97: 1 | J97: 1 | M97: 1
A98: 6.2 | B98: Կողոպուտը | C98: 176
A99: 6.3 | B99: Գողությունը | C99: 177 | D99: 15 | E99: 2 | F99: 20 | G99: 21 | J99: 21 | M99: 13 | N99: 2 | O99: 6 | Q99: 6
A100: 6.4 | B100: Խարդախությունը | C100: 178 | D100: 4 | F100: 3 | G100: 4 | J100: 4 | M100: 3 | O100: 1 | Q100: 1
A101: 6.5 | B101: Յուրացնելը կամ վատնելը | C101: 179 | D101: 3 | E101: 1 | F101: 3 | G101: 4 | J101: 4 | M101: 2 | N101: 1 | O101: 1 | Q101: 1
A102: 6.6 | B102: Առանձնակի արժեք ունեցող առարկաներ հափշտակելը | C102: 180
A103: 6.7 | B103: Հափշտակությունը, որը կատարվել է համակարգչային տեխնիկայի օգտագործմամբ | C103: 181
A104: 6.8 | B104: Շորթումը | C104: 182 | F104: 1 | M104: 1
...

Sheet Արմավիր
A1: 2017թ. | D1: ՀԱՇՎԵՏՎՈՒԹՅՈՒՆ | N1: Հավելված Հայաստանի Հանրապետության Դատարանների նախագահների խորհրդի 29.01.2018թ. թիվ 10-Լ որոշման
A2: ՀՀ ԱՐՄԱՎԻՐԻ ՄԱՐԶԻ ԸՆԴՀԱՆՈՒՐ ԻՐԱՎԱՍՈՒԹՅԱՆ ԱՌԱՋԻՆ ԱՏՅԱՆԻ ԴԱՏԱՐԱՆՈՒՄ ՔՐԵԱԿԱՆ ԳՈՐԾԵՐԻ ՔՆՆՈՒԹՅԱՆ ՎԵՐԱԲԵՐՅԱԼ
A3: ՀՀ Արմավիրի մարզի ընդհանուր իրավասության առաջին ատյանի դատարանում քրեական մասնագիտացում ունեցող դատավորների հաստիքների քանակը` 3
C4: ՀՀ քրեական օրենսգրքի հոդվածներ | D4: Հաշվետու ժամանակահատվածի սկզբում նախորդ հաշվետու ժամանակահատվածից փոխանցված գործերի ընդհանուր թիվը | E4: Այդ թվում` կասեցված վիճակում փոխանցված | F4: Հաշվետու ժամանակահատվածում ստացված գործերի ընդհանուր թիվը | G4: Հաշվետու ժամանակահատվածում ավարտված գործերի ընդհանուր թիվը | K4: Ուղարկվել է ըստ ընդդատության | L4: Հաշվետու ժամանակահատվածում կասեցված վարույթներով գործերի ընդհանուր թիվը | M4: Հաշվետու ժամանակահատվածում անավարտ գործերի ընդհանուր թիվը | N4: Այդ թվում՝ կասեցված | O4: Բողոքարկված դատական ակտերի թիվը` ըստ տեսակների | R4: Բեկանված դատական ակտերի թիվը` ըստ տեսակների
G5: Քննվել է ըստ էության և դատավճիռ կայացվել | H5: Որոշում է կայացվել քրեական գործի վարույթը կարճելու և քրեական հետապնդումը դադարեցնելու մասին | I5: Որոշում է կայացվել անմեղսունակների նկատմամբ բժշկական բնույթի հարկադրական միջոցներ կիրառելու մասին | J5: Ընդամենը ավարտվել են գործեր | O5: Այդ թվում` գործն ըստ էության լուծող դատական ակտերը | P5: Այդ թվում` միջանկյալ դատական ակտերը | Q5: Ընդամենը | R5: Այդ թվում` գործն ըստ էության լուծող դատական ակտերը | S5: Այդ թվում` միջանկյալ դատական ակտերը | T5: Ընդամենը
D6: 1 | E6: 2 | F6: 3 | G6: 4 | H6: 5 | I6: 6 | J6: 7 | K6: 8 | L6: 9 | M6: 10 | N6: 11 | O6: 12 | P6: 13 | Q6: 14 | R6: 15 | S6: 16 | T6: 17
A7: 1. | B7: Ընդամենը կյանքի և առողջության դեմ ուղղված հանցագործությունները | D7: =SUM(D8:D34) -> 21 | E7: =SUM(E8:E34) -> 1 | F7: =SUM(F8:F34) -> 48 | G7: =SUM(G8:G34) -> 19 | H7: =SUM(H8:H34) -> 8 | I7: =SUM(I8:I34) -> 0 | J7: =SUM(J8:J34) -> 27 | K7: =SUM(K8:K34) -> 0 | ... T7: =SUM(T8:T34) -> 0
A8: 1.1 | B8: Սպանությունը | C8: 104 | D8: 4 | F8: 7 | G8: 4 | J8: 4 | M8: 7 | O8: 4 | Q8: 4
A9: 1.2 | B9: Հոգեկան խիստ հուզմունքի վիճակում կատարված սպանությունը | C9: 105 | D9: 1 | M9: 1
A10: 1.3 | B10: Մոր կողմից նորածին երեխայի սպանությունը | C10: 106
A11: 1.4 | B11: Հանցանք կատարած անձին բռնելու համար անհրաժեշտ միջոցների սահմանազանցմամբ սպանությունը | C11: 107
A12: 1.5 | B12: Անհրաժեշտ պաշտպանության սահմանազանցմամբ սպանությունը | C12: 108
A13: 1.6 | B13: Անզգուշությամբ մահ պատճառելը | C13: 109
A14: 1.7 | B14: Ինքնասպանության հասցնելը | C14: 110
A15: 1.8 | B15: Ինքնասպանության հակելը | C15: 111
A16: 1.9 | B16: Դիտավորությամբ առողջությանը ծանր վնաս պատճառելը | C16: 112 | D16: 8 | F16: 14 | G16: 8 | J16: 8 | M16: 14 | O16: 2 | P16: 1 | Q16: 3
A17: 1.10 | B17: Դիտավորությամբ առողջությանը միջին ծանրության վնաս պատճառելը | C17: 113 | D17: 2 | F17: 2 | M17: 4 | O17: 1 | Q17: 1
A18: 1.11 | B18: Հոգեկան խիստ հուզմունքի վիճակում առողջությանը ծանր կամ միջին ծանրության վնաս պատճառելը | C18: 114 | D18: 1 | E18: 1 | H18: 1 | J18: 1
A19: 1.12 | B19: Հանցանք կատարած անձին բռնելու համար անհրաժեշտ միջոցների սահմանզանցմամբ առողջությանը ծանր կամ միջին ծանրության վնաս պատճառելը | C19: 115
A20: 1.13 | B20: Առողջությանը ծանր կամ միջին ծանրության վնաս պատճառելը անհրաժեշտ պաշտպանության սահմանանազանցմամբ | C20: 116
A21: 1.14 | B21: Դիտավորությամբ առողջությանը թեթև վնաս պատճառելը | C21: 117 | D21: 1 | F21: 4 | G21: 1 | H21: 1 | J21: 2 | M21: 3
A22: 1.15 | B22: Ծեծը | C22: 118 | D22: 4 | F22: 20 | G22: 6 | H22: 6 | J22: 12 | M22: 11
A23: 1.16 | B23: Ֆիզիկական ուժեղ ցավ կամ հոգեկան ուժեղ տառապանք պատճառելը | C23: 119
A24: 1.17 | B24: Անզգուշությամբ առողջությանը ծանր վնաս պատճառելը | C24: 120
A25: 1.18 | B25: Անզգուշությամբ առողջությանը միջին ծանրության վնաս պատճառելը | C25: 121
A26: 1.19 | B26: Ապօրինի աբորտ կատարելը | C26: 122
A27: 1.20 | B27: Մարդու իմունային անբավարարության վիրուսի հարուցիչով վարակելը | C27: 123
A28: 1.21 | B28: Վեներական հիվանդությամբ կամ այլ սեռավարակներով վարակելը | C28: 124
A29: 1.22 | B29: Փոխպատվաստման վիրահատություն կատարելու կանոնները խախտելը | C29: 125
A30: 1.24 | B30: Անձին առանց իր հանձնարարության բժշկական կամ գիտական փորձերի ենթարկելը | C30: 127
A31: 1.25 | B31: Վտանգի մեջ թողնելը | C31: 128
A32: 1.26 | B32: Հիվանդին օգնություն ցույց չտալը | C32: 129
A33: 1.27 | B33: Բժշկական օգնություն և սպասարկում իրականացնողների կողմից մասնագիտական պարտականությունները չկատարելը կամ ոչ պատշաճ կատարելը | C33: 130 | F33: 1 | M33: 1
A34: 1.28 | B34: Այլ հանցագործություններ
A35: 2. | B35: Ընդամենը անձի ազատության, պատվի և արժանապատվության դեմ ուղղված հանցագործությունները | D35: =SUM(D36:D43) -> 1 | E35: =SUM(E36:E43) -> 0 | F35: =SUM(F36:F43) -> 5 | G35: =SUM(G36:G43) -> 4 | H35: =SUM(H36:H43) -> 1 | I35: =SUM(I36:I43) -> 0 | J35: =SUM(J36:J43) -> 5 | K35: =SUM(K36:K43) -> 0 | ... T35: =SUM(T36:T43) -> 0
A36: 2.1 | B36: Մարդուն առևանգելը | C36: 131 | D36: 1 | F36: 1 | G36: 2 | J36: 2
A37: 2.2 | B37: Մարդու թրաֆիքինգը կամ շահագործումը | C37: 132
A38: 2.2.2 | B38: Երեխայի կամ հոգեկան խանգարման հետևանքով իր արարքի բնույթն ու նշանակությունը գիտակցելու կամ դա ղեկավարելու հնարավորությունից զրկված անձի թրաֆիքինգը կամ շահագործումը | C38: 132.2 | F38: 1 | M38: 1
A39: 2.2.3 | B39: Շահագործման վիճակում գտնվող անձի ծառայությունից օգտվելը | C39: 132.3
A40: 2.3 | B40: Ազատությունից ապօրինի զրկելը | C40: 133 | F40: 1 | G40: 1 | J40: 1
A41: 2.4 | B41: Հոգեբուժական հիվանդանոցում ապօրինի տեղավորելը կամ պահելը | C41: 134
A42: 2.7 | B42: Սպանության, առողջությանը ծանր վնաս պատճառելու կամ գույք ոչնչացնելու սպառնալիքը | C42: 137 | F42: 2 | G42: 1 | H42: 1 | J42: 2
A43: 2.8 | B43: Այլ հանցագործություններ
A44: 3. | B44: Ընդամենը սեռական անձեռնմխելիության և սեռական ազատության դեմ ուղղված հանցագործությունները | D44: =SUM(D45:D50) -> 4 | E44: =SUM(E45:E50) -> 0 | F44: =SUM(F45:F50) -> 9 | G44: =SUM(G45:G50) -> 6 | H44: =SUM(H45:H50) -> 0 | I44: =SUM(I45:I50) -> 1 | J44: =SUM(J45:J50) -> 7 | K44: =SUM(K45:K50) -> 0 | ... T44: =SUM(T45:T50) -> 0
A45: 3.1 | B45: Բռնաբարությունը | C45: 138
A46: 3.2 | B46: Սեքսուալ բնույթի բռնի գործողությունները | C46: 139 | D46: 2 | F46: 1 | M46: 3
A47: 3.3 | B47: Սեռական հարաբերության կամ սեքսուալ բնույթի գործողություններին հարկադրելը | C47: 140 | D47: 1 | G47: 1 | J47: 1
A48: 3.4 | B48: Սեռական հարաբերությունը տասնվեց տարին չլրացած անձի հետ կամ սեքսուալ բնույթի գործողություններ կատարելը տասնվեց տարին չլրացած անձի նկատմամբ | C48: 141 | F48: 7 | G48: 5 | J48: 5 | M48: 2
A49: 3.5 | B49: Անառակաբարո գործողությունները | C49: 142 | D49: 1 | F49: 1 | I49: 1 | J49: 1 | M49: 1 | P49: 1 | Q49: 1
A50: 3.6 | B50: Այլ հանցագործություններ
A51: 4. | B51: Ընդամենը մարդու և քաղաքացու սահմանադրական իրավունքների և ազատությունների դեմ ուղղված հանցագործությունները | D51: =SUM(D52:D80) -> 3 | E51: =SUM(E52:E80) -> 0 | F51: =SUM(F52:F80) -> 5 | G51: =SUM(G52:G80) -> 5 | H51: =SUM(H52:H80) -> 0 | I51: =SUM(I52:I80) -> 0 | J51: =SUM(J52:J80) -> 5 | K51: =SUM(K52:K80) -> 0 | ... T51: =SUM(T52:T80) -> 0
A52: 4.1 | B52: Մարդու և քաղաքացու իրավահավասարությունը խախտելը | C52: 143 | O52: 1 | Q52: 1
A53: 4.2 | B53: Անձնական կամ ընտանեկան կյանքի մասին տեղեկություններ ապօրինի հավաքելը, պահելը, օգտագործելը կամ տարածելը | C53: 144
A54: 4.3 | B54: Բժշկական գաղտնիքը հրապարակելը | C54: 145
A55: 4.4 | B55: Նամակագրության, հեռախոսային խոսակցությունների, փոստային, հեռագրական կամ այլ հաղորդումների գաղտնիությունը խախտելը | C55: 146
A56: 4.5 | B56: Բնակարանի անձեռնմխելիությունը խախտելը | C56: 147 | D56: 2 | F56: 2 | G56: 3 | J56: 3 | M56: 1
A57: 4.6 | B57: Անձին տեղեկություն ներկայացնելուց հրաժարվելը | C57: 148
A58: 4.7 | B58: Ընտրական իրավունքի իրականացմանը, ընտրական հանձնաժողովների աշխատանքներին կամ ընտրությանը մասնակցող անձանց լիազորությունների իրականացմանը խոչընդոտելը | C58: 149
A59: 4.8 | B59: Ընտրությունների կամ քվեարկության արդյունքները կեղծելը | C59: 150
A60: 4.10 | B60: Ընտրողների ցուցակները կազմելու, դրանք քաղաքացիներին և կուսակցություններին տրամադրելու կամ հրապարակելու կարգը խախտելը | C60: 152
A61: 4.11 | B61: Մեկից ավելի անգամ կամ այլ անձի փոխարեն քվեարկելը | C61: 153 | F61: 1 | G61: 1 | J61: 1
A62: 4.12 | B62: Քվեարկության գաղտնիությունը խախտելը | C62: 154
A63: 4.13 | B63: Կեղծ ընտրական քվեաթերթիկներ կամ քվեարկության ծրարներ, դրոշմանիշեր, կտրոններ պատրաստելը կամ ակնհայտ կեղծ ընտրական քվեաթերթիկներ կամ քվեարկության ծրարներ, դրոշմանիշեր, կտրոններ հանձնելը կամ իրացնելը | C63: 154.1
A64: 4.14 | B64: Ընտրողի կողմից թեկնածուներից, կուսակցություններից (կուսակցությունների դաշինքներից), հանրաքվեի քարոզչական նախաձեռնություններից կաշառք ստանալը կամ թեկնածուների, կուսակցությունների (կուսակցությունների դաշինքների), հանրաքվեի քարոզչական նախաձեռնությունների կողմից ընտրողներին կաշառք տալը կամ ընտրողի ազատ կամքի իրականացմանը խոչընդոտելը | C64: 154.2
A65: 4.16 | B65: Զենքով՝ տեղամասային կենտրոն մուտք գործելը | C65: 154.4
A66: 4.17 | B66: Վստահված անձին,ընտրական հանձնաժողովի անդամին,դիտորդին կամ զանգվածային լրատվության միջոցի ներկայացուցչին ընտրական փաստաթղթերին ծանոթանալուն խոչընդոտելը, ընտրական հանձնաժողովի արձանագրությունների պատճեններ չտալը | C66: 154.5
A67: 4.17.1 | B67: Ընտրական հանձնաժողովի նախագահի լիազորությունները չկատարելը կամ ոչ պատշաճ կատարելը | C67: 154.6
A68: 4.17.2 | B68: Քվեատուփը, ընտրողների ստորագրած ցուցակը, տեղամասային ընտրական հանձնաժողովի գրանցամատյանը, հանձնաժողովի կնիքը, տեղամասային ընտրական հանձնաժողովի անդամի անհատական կնիքը, ինքնասոսնձվող դրոշմանիշը, ընտրողի վերաբերյալ տվյալներ պարունակող քվեարկության կտրոնը կամ համարակալված կտրոնը, ընտրողների էլեկտրոնային գրանցման տեխնիկական սարքավորումը, կառավարության կողմից ընտրված մասնագիտացված կազմակերպության կողմից տեղադրված տեսախցիկը, ընտրական փաստաթղթերի մեկանգամյա օգտագործման պարկը կամ ընտրական փաստաթղթերի փաթեթը հափշտակելը | C68: 154.7
A69: 4.17.3 | B69: Այլ անձի փոխարեն քվեարկելու վերաբերյալ սուտ հայտարարություն տալը կամ կեղծ ստորագրությամբ հայտարարություն դիմումին կից ներկայացնելը | C69: 154.8
A70: 4.18 | B70: Գործադուլի մասնակցելուն կամ գործադուլի մասնակցելուց հրաժարվելուն հարկադրելը | C70: 155
A71: 4.19 | B71: Հղի կնոջը կամ մինչև երեք տարեկան երեխա ունեցող անձին աշխատանքի ընդունելոււց հրաժարվելը կամ աշխատանքից անհիմն ազատելը | C71: 156
A72: 4.20 | B72: Աշխատանքի պաշտպանության կանոնները խախտելը | C72: 157 | D72: 1 | F72: 1 | G72: 1 | J72: 1 | M72: 1
A73: 4.21 | B73: Հեղինակային և հարակից իրավունքները խախտելը | C73: 158 | F73: 1 | M73: 1
A74: 4.22 | B74: Արտոնագրային իրավունքը խախտելը | C74: 159
A75: 4.23 | B75: Խղճի կամ դավանանքի ազատության իրավունքի իրականացմանը խոչընդոտելը | C75: 160
A76: 4.24 | B76: Միավորումներ (հասարակական կամ արհեստակցական միություններ) կազմելու կամ կուսակցություններ ստեղծելու իրավունքի իրականացմանը կամ դրանց գործողությանը խոչընդոտելը | C76: 161
A77: 4.25 | B77: Անձանց իրավունքների կամ անձի դեմ ոտնձգող միավորումներ կազմելը կամ ղեկավարելը | C77: 162
A78: 4.26 | B78: Հավաքներ անցկացնելուն կամ դրանց մասնակցելուն խոչընդոտելը | C78: 163
A79: 4.27 | B79: Լրագրողի մասնագիտական օրինական գործողությանը խոչընդոտելը | C79: 164
A80: 4.28 | B80: Այլ հանցագործություններ
A81: 5. | B81: Ընդամենը ընտանիքի և երեխայի շահերի դեմ ուղղված հանցագործությունները | D81: =SUM(D82:D95) -> 0 | E81: =SUM(E82:E95) -> 0 | F81: =SUM(F82:F95) -> 0 | G81: =SUM(G82:G95) -> 0 | H81: =SUM(H82:H95) -> 0 | I81: =SUM(I82:I95) -> 0 | J81: =SUM(J82:J95) -> 0 | K81: =SUM(K82:K95) -> 0 | ... T81: =SUM(T82:T95) -> 0
A82: 5.1 | B82: Անչափահասին հանցանքի կատարմանը ներգրավելը | C82: 165
A83: 5.2 | B83: Երեխային պոռնկության կամ պոռնկագրական բնույթի նյութեր կամ առարկաներ պատրաստելու հետ կապված գործողություններ կատարելուն ներգրավելը | C83: 166
A84: 5.2.1 | B84: Երեխային ոգելից խմիչքների օգտագործմանը, ուժեղ ներգործող կամ այլ թմրեցնող նյութերի ոչ բժշկական օգտագործմանը, թափառաշրջիկությանը ներգրավելը կամ մուրացկանության հետ կապված գործողություններ կատարելուն ներգրավելը | C84: 166.1
A85: 5.3 | B85: Ծնողներից երեխային ապօրինի բաժանելը կամ երեխային փոխելը | C85: 167
A86: 5.4 | B86: Խնամքը ստանձնելու նպատակով երեխայի առքը կամ ստանձնողի խնամքին հանձնելու նպատակով երեխայի վաճառքը | C86: 168
A87: 5.5 | B87: Որդեգրման գաղտնիքը հրապարակելը կամ որդեգրման համաձայնություն տալուն հակելը կամ հարկադրելը | C87: 169
A88: 5.6 | B88: Քաղաքացիական կացության ակտերի գրանցման մարմիններին սուտ տեղեկություններ հաղորդելը | C88: 169.1
A89: 5.7 | B89: Երեխային դաստիարակելու պարտականությունը չկատարելը | C89: 170
A90: 5.8 | B90: Երեխայի կյանքի անվտանգության ապահովման կամ առողջության պահպանման պարտականությունը չկատարելը կամ ոչ պատշաճ կատարելը | C90: 171
A91: 5.8.1 | B91: Վերարտադրողականության օժանդակ տեխնոլոգիաներից օգտվելու կանոնները խախտելը | C91: 171.1
A92: 5.9 | B92: Խնամակալի կամ հոգաբարձուի իրավունքները չարաշահելը | C92: 172
A93: 5.10 | B93: Ծնողի կողմից երեխային պահելուց չարամտորեն խուսափելը | C93: 173
A94: 5.11 | B94: Զավակի կողմից անաշխատունակ ծնողին պահելուց չարամտորեն խուսափելը | C94: 174
A95: 5.12 | B95: Այլ հանցագործություններ
A96: 6. | B96: Ընդամենը սեփականության դեմ ուղղված հանցագործությունները | D96: =SUM(D97:D111) -> 25 | E96: =SUM(E97:E111) -> 1 | F96: =SUM(F97:F111) -> 43 | G96: =SUM(G97:G111) -> 39 | H96: =SUM(H97:H111) -> 1 | I96: =SUM(I97:I111) -> 0 | J96: =SUM(J97:J111) -> 40 | K96: =SUM(K97:K111) -> 0 | ... T96: =SUM(T97:T111) -> 0
A97: 6.1 | B97: Ավազակությունը | C97: 175 | F97: 2 | M97: 2
A98: 6.2 | B98: Կողոպուտը | C98: 176 | F98: 4 | G98: 2 | J98: 2 | M98: 2 | O98: 1 | Q98: 1
A99: 6.3 | B99: Գողությունը | C99: 177 | D99: 15 | E99: 1 | F99: 23 | G99: 23 | H99: 1 | J99: 24 | M99: 14 | N99: 1 | O99: 16 | Q99: 16
A100: 6.4 | B100: Խարդախությունը | C100: 178 | D100: 2 | F100: 9 | G100: 4 | J100: 4 | M100: 7 | O100: 2 | Q100: 2
...

Sheet Արագածոտն
A1: 2017թ. | D1: ՀԱՇՎԵՏՎՈՒԹՅՈՒՆ | N1: Հավելված Հայաստանի Հանրապետության Դատարանների նախագահների խորհրդի 29.01.2018թ. թիվ 10-Լ որոշման
A2: ՀՀ ԱՐԱԳԱԾՈՏՆԻ ՄԱՐԶԻ ԸՆԴՀԱՆՈՒՐ ԻՐԱՎԱՍՈՒԹՅԱՆ ԱՌԱՋԻՆ ԱՏՅԱՆԻ ԴԱՏԱՐԱՆՈՒՄ ՔՐԵԱԿԱՆ ԳՈՐԾԵՐԻ ՔՆՆՈՒԹՅԱՆ ՎԵՐԱԲԵՐՅԱԼ
A3: ՀՀ Արագածոտնի մարզի ընդհանուր իրավասության առաջին ատյանի դատարանում քրեական մասնագիտացում ունեցող դատավորների հաստիքների քանակը` 2
C4: ՀՀ քրեական օրենսգրքի հոդվածներ | D4: Հաշվետու ժամանակահատվածի սկզբում նախորդ հաշվետու ժամանակահատվածից փոխանցված գործերի ընդհանուր թիվը | E4: Այդ թվում` կասեցված վիճակում փոխանցված | F4: Հաշվետու ժամանակահատվածում ստացված գործերի ընդհանուր թիվը | G4: Հաշվետու ժամանակահատվածում ավարտված գործերի ընդհանուր թիվը | K4: Ուղարկվել է ըստ ընդդատության | L4: Հաշվետու ժամանակահատվածում կասեցված վարույթներով գործերի ընդհանուր թիվը | M4: Հաշվետու ժամանակահատվածում անավարտ գործերի ընդհանուր թիվը | N4: Այդ թվում՝ կասեցված | O4: Բողոքարկված դատական ակտերի թիվը` ըստ տեսակների | R4: Բեկանված դատական ակտերի թիվը` ըստ տեսակների
G5: Քննվել է ըստ էության և դատավճիռ կայացվել | H5: Որոշում է կայացվել քրեական գործի վարույթը կարճելու և քրեական հետապնդումը դադարեցնելու մասին | I5: Որոշում է կայացվել անմեղսունակների նկատմամբ բժշկական բնույթի հարկադրական միջոցներ կիրառելու մասին | J5: Ընդամենը ավարտվել են գործեր | O5: Այդ թվում` գործն ըստ էության լուծող դատական ակտերը | P5: Այդ թվում` միջանկյալ դատական ակտերը | Q5: Ընդամենը | R5: Այդ թվում` գործն ըստ էության լուծող դատական ակտերը | S5: Այդ թվում` միջանկյալ դատական ակտերը | T5: Ընդամենը
D6: 1 | E6: 2 | F6: 3 | G6: 4 | H6: 5 | I6: 6 | J6: 7 | K6: 8 | L6: 9 | M6: 10 | N6: 11 | O6: 12 | P6: 13 | Q6: 14 | R6: 15 | S6: 16 | T6: 17
A7: 1. | B7: Ընդամենը կյանքի և առողջության դեմ ուղղված հանցագործությունները | D7: =SUM(D8:D34) -> 10 | E7: =SUM(E8:E34) -> 0 | F7: =SUM(F8:F34) -> 15 | G7: =SUM(G8:G34) -> 7 | H7: =SUM(H8:H34) -> 4 | I7: =SUM(I8:I34) -> 2 | J7: =SUM(J8:J34) -> 13 | K7: =SUM(K8:K34) -> 0 | ... T7: =SUM(T8:T34) -> 0
A8: 1.1 | B8: Սպանությունը | C8: 104 | D8: 2 | F8: 2 | I8: 1 | J8: 1 | M8: 3
A9: 1.2 | B9: Հոգեկան խիստ հուզմունքի վիճակում կատարված սպանությունը | C9: 105
A10: 1.3 | B10: Մոր կողմից նորածին երեխայի սպանությունը | C10: 106
A11: 1.4 | B11: Հանցանք կատարած անձին բռնելու համար անհրաժեշտ միջոցների սահմանազանցմամբ սպանությունը | C11: 107
A12: 1.5 | B12: Անհրաժեշտ պաշտպանության սահմանազանցմամբ սպանությունը | C12: 108
A13: 1.6 | B13: Անզգուշությամբ մահ պատճառելը | C13: 109 | O13: 1 | Q13: 1
A14: 1.7 | B14: Ինքնասպանության հասցնելը | C14: 110
A15: 1.8 | B15: Ինքնասպանության հակելը | C15: 111
A16: 1.9 | B16: Դիտավորությամբ առողջությանը ծանր վնաս պատճառելը | C16: 112 | D16: 4 | F16: 5 | G16: 4 | H16: 1 | I16: 1 | J16: 6 | M16: 3 | O16: 1 | Q16: 1
A17: 1.10 | B17: Դիտավորությամբ առողջությանը միջին ծանրության վնաս պատճառելը | C17: 113 | D17: 1 | G17: 1 | J17: 1
A18: 1.11 | B18: Հոգեկան խիստ հուզմունքի վիճակում առողջությանը ծանր կամ միջին ծանրության վնաս պատճառելը | C18: 114
A19: 1.12 | B19: Հանցանք կատարած անձին բռնելու համար անհրաժեշտ միջոցների սահմանզանցմամբ առողջությանը ծանր կամ միջին ծանրության վնաս պատճառելը | C19: 115
A20: 1.13 | B20: Առողջությանը ծանր կամ միջին ծանրության վնաս պատճառելը անհրաժեշտ պաշտպանության սահմանանազանցմամբ | C20: 116 | D20: 1 | M20: 1
A21: 1.14 | B21: Դիտավորությամբ առողջությանը թեթև վնաս պատճառելը | C21: 117 | D21: 1 | F21: 4 | G21: 1 | H21: 1 | J21: 2 | M21: 3
A22: 1.15 | B22: Ծեծը | C22: 118 | F22: 3 | G22: 1 | H22: 2 | J22: 3 | O22: 1 | Q22: 1
A23: 1.16 | B23: Ֆիզիկական ուժեղ ցավ կամ հոգեկան ուժեղ տառապանք պատճառելը | C23: 119
A24: 1.17 | B24: Անզգուշությամբ առողջությանը ծանր վնաս պատճառելը | C24: 120
A25: 1.18 | B25: Անզգուշությամբ առողջությանը միջին ծանրության վնաս պատճառելը | C25: 121
A26: 1.19 | B26: Ապօրինի աբորտ կատարելը | C26: 122
A27: 1.20 | B27: Մարդու իմունային անբավարարության վիրուսի հարուցիչով վարակելը | C27: 123
A28: 1.21 | B28: Վեներական հիվանդությամբ կամ այլ սեռավարակներով վարակելը | C28: 124
A29: 1.22 | B29: Փոխպատվաստման վիրահատություն կատարելու կանոնները խախտելը | C29: 125
A30: 1.24 | B30: Անձին առանց իր հանձնարարության բժշկական կամ գիտական փորձերի ենթարկելը | C30: 127
A31: 1.25 | B31: Վտանգի մեջ թողնելը | C31: 128
A32: 1.26 | B32: Հիվանդին օգնություն ցույց չտալը | C32: 129
A33: 1.27 | B33: Բժշկական օգնություն և սպասարկում իրականացնողների կողմից մասնագիտական պարտականությունները չկատարելը կամ ոչ պատշաճ կատարելը | C33: 130 | D33: 1 | F33: 1 | M33: 2
A34: 1.28 | B34: Այլ հանցագործություններ
A35: 2. | B35: Ընդամենը անձի ազատության, պատվի և արժանապատվության դեմ ուղղված հանցագործությունները | D35: =SUM(D36:D43) -> 1 | E35: =SUM(E36:E43) -> 0 | F35: =SUM(F36:F43) -> 3 | G35: =SUM(G36:G43) -> 1 | H35: =SUM(H36:H43) -> 0 | I35: =SUM(I36:I43) -> 0 | J35: =SUM(J36:J43) -> 1 | K35: =SUM(K36:K43) -> 0 | ... T35: =SUM(T36:T43) -> 1
A36: 2.1 | B36: Մարդուն առևանգելը | C36: 131 | D36: 1 | F36: 3 | G36: 1 | J36: 1 | M36: 3 | O36: 2 | Q36: 2 | R36: 1 | T36: 1
A37: 2.2 | B37: Մարդու թրաֆիքինգը կամ շահագործումը | C37: 132
A38: 2.2.2 | B38: Երեխայի կամ հոգեկան խանգարման հետևանքով իր արարքի բնույթն ու նշանակությունը գիտակցելու կամ դա ղեկավարելու հնարավորությունից զրկված անձի թրաֆիքինգը կամ շահագործումը | C38: 132.2
A39: 2.2.3 | B39: Շահագործման վիճակում գտնվող անձի ծառայությունից օգտվելը | C39: 132.3
A40: 2.3 | B40: Ազատությունից ապօրինի զրկելը | C40: 133
A41: 2.4 | B41: Հոգեբուժական հիվանդանոցում ապօրինի տեղավորելը կամ պահելը | C41: 134
A42: 2.7 | B42: Սպանության, առողջությանը ծանր վնաս պատճառելու կամ գույք ոչնչացնելու սպառնալիքը | C42: 137
A43: 2.8 | B43: Այլ հանցագործություններ
A44: 3. | B44: Ընդամենը սեռական անձեռնմխելիության և սեռական ազատության դեմ ուղղված հանցագործությունները | D44: =SUM(D45:D50) -> 3 | E44: =SUM(E45:E50) -> 1 | F44: =SUM(F45:F50) -> 3 | G44: =SUM(G45:G50) -> 2 | H44: =SUM(H45:H50) -> 0 | I44: =SUM(I45:I50) -> 0 | J44: =SUM(J45:J50) -> 2 | K44: =SUM(K45:K50) -> 0 | ... T44: =SUM(T45:T50) -> 0
A45: 3.1 | B45: Բռնաբարությունը | C45: 138 | D45: 1 | F45: 1 | M45: 2
A46: 3.2 | B46: Սեքսուալ բնույթի բռնի գործողությունները | C46: 139 | D46: 1 | E46: 1 | M46: 1 | N46: 1
A47: 3.3 | B47: Սեռական հարաբերության կամ սեքսուալ բնույթի գործողություններին հարկադրելը | C47: 140
A48: 3.4 | B48: Սեռական հարաբերությունը տասնվեց տարին չլրացած անձի հետ կամ սեքսուալ բնույթի գործողություններ կատարելը տասնվեց տարին չլրացած անձի նկատմամբ | C48: 141 | F48: 2 | G48: 1 | J48: 1 | M48: 1
A49: 3.5 | B49: Անառակաբարո գործողությունները | C49: 142 | D49: 1 | G49: 1 | J49: 1
A50: 3.6 | B50: Այլ հանցագործություններ
A51: 4. | B51: Ընդամենը մարդու և քաղաքացու սահմանադրական իրավունքների և ազատությունների դեմ ուղղված հանցագործությունները | D51: =SUM(D52:D80) -> 0 | E51: =SUM(E52:E80) -> 0 | F51: =SUM(F52:F80) -> 2 | G51: =SUM(G52:G80) -> 1 | H51: =SUM(H52:H80) -> 0 | I51: =SUM(I52:I80) -> 0 | J51: =SUM(J52:J80) -> 1 | K51: =SUM(K52:K80) -> 0 | ... T51: =SUM(T52:T80) -> 0
A52: 4.1 | B52: Մարդու և քաղաքացու իրավահավասարությունը խախտելը | C52: 143
A53: 4.2 | B53: Անձնական կամ ընտանեկան կյանքի մասին տեղեկություններ ապօրինի հավաքելը, պահելը, օգտագործելը կամ տարածելը | C53: 144
A54: 4.3 | B54: Բժշկական գաղտնիքը հրապարակելը | C54: 145
A55: 4.4 | B55: Նամակագրության, հեռախոսային խոսակցությունների, փոստային, հեռագրական կամ այլ հաղորդումների գաղտնիությունը խախտելը | C55: 146
A56: 4.5 | B56: Բնակարանի անձեռնմխելիությունը խախտելը | C56: 147 | F56: 1 | M56: 1
A57: 4.6 | B57: Անձին տեղեկություն ներկայացնելուց հրաժարվելը | C57: 148
A58: 4.7 | B58: Ընտրական իրավունքի իրականացմանը, ընտրական հանձնաժողովների աշխատանքներին կամ ընտրությանը մասնակցող անձանց լիազորությունների իրականացմանը խոչընդոտելը | C58: 149
A59: 4.8 | B59: Ընտրությունների կամ քվեարկության արդյունքները կեղծելը | C59: 150
A60: 4.10 | B60: Ընտրողների ցուցակները կազմելու, դրանք քաղաքացիներին և կուսակցություններին տրամադրելու կամ հրապարակելու կարգը խախտելը | C60: 152
A61: 4.11 | B61: Մեկից ավելի անգամ կամ այլ անձի փոխարեն քվեարկելը | C61: 153 | F61: 1 | G61: 1 | J61: 1
A62: 4.12 | B62: Քվեարկության գաղտնիությունը խախտելը | C62: 154
A63: 4.13 | B63: Կեղծ ընտրական քվեաթերթիկներ կամ քվեարկության ծրարներ, դրոշմանիշեր, կտրոններ պատրաստելը կամ ակնհայտ կեղծ ընտրական քվեաթերթիկներ կամ քվեարկության ծրարներ, դրոշմանիշեր, կտրոններ հանձնելը կամ իրացնելը | C63: 154.1
A64: 4.14 | B64: Ընտրողի կողմից թեկնածուներից, կուսակցություններից (կուսակցությունների դաշինքներից), հանրաքվեի քարոզչական նախաձեռնություններից կաշառք ստանալը կամ թեկնածուների, կուսակցությունների (կուսակցությունների դաշինքների), հանրաքվեի քարոզչական նախաձեռնությունների կողմից ընտրողներին կաշառք տալը կամ ընտրողի ազատ կամքի իրականացմանը խոչընդոտելը | C64: 154.2
A65: 4.16 | B65: Զենքով՝ տեղամասային կենտրոն մուտք գործելը | C65: 154.4
A66: 4.17 | B66: Վստահված անձին,ընտրական հանձնաժողովի անդամին,դիտորդին կամ զանգվածային լրատվության միջոցի ներկայացուցչին ընտրական փաստաթղթերին ծանոթանալուն խոչընդոտելը, ընտրական հանձնաժողովի արձանագրությունների պատճեններ չտալը | C66: 154.5
A67: 4.17.1 | B67: Ընտրական հանձնաժողովի նախագահի լիազորությունները չկատարելը կամ ոչ պատշաճ կատարելը | C67: 154.6
A68: 4.17.2 | B68: Քվեատուփը, ընտրողների ստորագրած ցուցակը, տեղամասային ընտրական հանձնաժողովի գրանցամատյանը, հանձնաժողովի կնիքը, տեղամասային ընտրական հանձնաժողովի անդամի անհատական կնիքը, ինքնասոսնձվող դրոշմանիշը, ընտրողի վերաբերյալ տվյալներ պարունակող քվեարկության կտրոնը կամ համարակալված կտրոնը, ընտրողների էլեկտրոնային գրանցման տեխնիկական սարքավորումը, կառավարության կողմից ընտրված մասնագիտացված կազմակերպության կողմից տեղադրված տեսախցիկը, ընտրական փաստաթղթերի մեկանգամյա օգտագործման պարկը կամ ընտրական փաստաթղթերի փաթեթը հափշտակելը | C68: 154.7
A69: 4.17.3 | B69: Այլ անձի փոխարեն քվեարկելու վերաբերյալ սուտ հայտարարություն տալը կամ կեղծ ստորագրությամբ հայտարարություն դիմումին կից ներկայացնելը | C69: 154.8
A70: 4.18 | B70: Գործադուլի մասնակցելուն կամ գործադուլի մասնակցելուց հրաժարվելուն հարկադրելը | C70: 155
A71: 4.19 | B71: Հղի կնոջը կամ մինչև երեք տարեկան երեխա ունեցող անձին աշխատանքի ընդունելոււց հրաժարվելը կամ աշխատանքից անհիմն ազատելը | C71: 156
A72: 4.20 | B72: Աշխատանքի պաշտպանության կանոնները խախտելը | C72: 157
A73: 4.21 | B73: Հեղինակային և հարակից իրավունքները խախտելը | C73: 158
... A79: 4.27 | B79: Լրագրողի մասնագիտական օրինական գործողությանը խոչընդոտելը | C79: 164
A80: 4.28 | B80: Այլ հանցագործություններ
A81: 5. | B81: Ընդամենը ընտանիքի և երեխայի շահերի դեմ ուղղված հանցագործությունները | D81: =SUM(D82:D95) -> 0 | E81: =SUM(E82:E95) -> 0 | F81: =SUM(F82:F95) -> 0 | G81: =SUM(G82:G95) -> 0 | H81: =SUM(H82:H95) -> 0 | I81: =SUM(I82:I95) -> 0 | J81: =SUM(J82:J95) -> 0 | K81: =SUM(K82:K95) -> 0 | ... T81: =SUM(T82:T95) -> 0
A82: 5.1 | B82: Անչափահասին հանցանքի կատարմանը ներգրավելը | C82: 165
A83: 5.2 | B83: Երեխային պոռնկության կամ պոռնկագրական բնույթի նյութեր կամ առարկաներ պատրաստելու հետ կապված գործողություններ կատարելուն ներգրավելը | C83: 166
A84: 5.2.1 | B84: Երեխային ոգելից խմիչքների օգտագործմանը, ուժեղ ներգործող կամ այլ թմրեցնող նյութերի ոչ բժշկական օգտագործմանը, թափառաշրջիկությանը ներգրավելը կամ մուրացկանության հետ կապված գործողություններ կատարելուն ներգրավելը | C84: 166.1
A85: 5.3 | B85: Ծնողներից երեխային ապօրինի բաժանելը կամ երեխային փոխելը | C85: 167
A86: 5.4 | B86: Խնամքը ստանձնելու նպատակով երեխայի առքը կամ ստանձնողի խնամքին հանձնելու նպատակով երեխայի վաճառքը | C86: 168
A87: 5.5 | B87: Որդեգրման գաղտնիքը հրապարակելը կամ որդեգրման համաձայնություն տալուն հակելը կամ հարկադրելը | C87: 169
A88: 5.6 | B88: Քաղաքացիական կացության ակտերի գրանցման մարմիններին սուտ տեղեկություններ հաղորդելը | C88: 169.1
A89: 5.7 | B89: Երեխային դաստիարակելու պարտականությունը չկատարելը | C89: 170
A90: 5.8 | B90: Երեխայի կյանքի անվտանգության ապահովման կամ առողջության պահպանման պարտականությունը չկատարելը կամ ոչ պատշաճ կատարելը | C90: 171
A91: 5.8.1 | B91: Վերարտադրողականության օժանդակ տեխնոլոգիաներից օգտվելու կանոնները խախտելը | C91: 171.1
A92: 5.9 | B92: Խնամակալի կամ հոգաբարձուի իրավունքները չարաշահելը | C92: 172
A93: 5.10 | B93: Ծնողի կողմից երեխային պահելուց չարամտորեն խուսափելը | C93: 173
A94: 5.11 | B94: Զավակի կողմից անաշխատունակ ծնողին պահելուց չարամտորեն խուսափելը | C94: 174
A95: 5.12 | B95: Այլ հանցագործություններ
A96: 6. | B96: Ընդամենը սեփականության դեմ ուղղված հանցագործությունները | D96: =SUM(D97:D111) -> 13 | E96: =SUM(E97:E111) -> 1 | F96: =SUM(F97:F111) -> 30 | G96: =SUM(G97:G111) -> 12 | H96: =SUM(H97:H111) -> 0 | I96: =SUM(I97:I111) -> 0 | J96: =SUM(J97:J111) -> 12 | K96: =SUM(K97:K111) -> 0 | ... T96: =SUM(T97:T111) -> 1
A97: 6.1 | B97: Ավազակությունը | C97: 175 | D97: 1 | F97: 1 | G97: 1 | J97: 1 | M97: 1
A98: 6.2 | B98: Կողոպուտը | C98: 176 | D98: 1 | F98: 2 | M98: 3
A99: 6.3 | B99: Գողությունը | C99: 177 | D99: 7 | F99: 17 | G99: 10 | J99: 10 | M99: 14 | O99: 5 | Q99: 5 | R99: 1 | T99: 1
A100: 6.4 | B100: Խարդախությունը | C100: 178 | F100: 8 | G100: 1 | J100: 1 | M100: 7
A101: 6.5 | B101: Յուրացնելը կամ վատնելը | C101: 179 | D101: 2 | E101: 1 | F101: 1 | M101: 3 | N101: 1
A102: 6.6 | B102: Առանձնակի արժեք ունեցող առարկաներ հափշտակելը | C102: 180
A103: 6.7 | B103: Հափշտակությունը, որը կատարվել է համակարգչային տեխնիկայի օգտագործմամբ | C103: 181
A104: 6.8 | B104: Շորթումը | C104: 182 | F104: 1 | M104: 1
A105: 6.9 | B105: Ավտոմեքենային կամ տրանսպորտային այլ միջոցին ապօրինաբար տիրանալն առանց հափշտակելու նպատակի | C105: 183
...

Sheet Լոռի
A1: 2017թ. | D1: ՀԱՇՎԵՏՎՈՒԹՅՈՒՆ | N1: Հավելված Հայաստանի Հանրապետության Դատարանների նախագահների խորհրդի 29.01.2018թ. թիվ 10-Լ որոշման
A2: ՀՀ ԼՈՌՈՒ ՄԱՐԶԻ ԸՆԴՀԱՆՈՒՐ ԻՐԱՎԱՍՈՒԹՅԱՆ ԱՌԱՋԻՆ ԱՏՅԱՆԻ ԴԱՏԱՐԱՆՈՒՄ ՔՐԵԱԿԱՆ ԳՈՐԾԵՐԻ ՔՆՆՈՒԹՅԱՆ ՎԵՐԱԲԵՐՅԱԼ
A3: ՀՀ Լոռու մարզի ընդհանուր իրավասության առաջին ատյանի դատարանում քրեական մասնագիտացում ունեցող դատավորների հաստիքների քանակը` 4
C4: ՀՀ քրեական օրենսգրքի հոդվածներ | D4: Հաշվետու ժամանակահատվածի սկզբում նախորդ հաշվետու ժամանակահատվածից փոխանցված գործերի ընդհանուր թիվը | E4: Այդ թվում` կասեցված վիճակում փոխանցված | F4: Հաշվետու ժամանակահատվածում ստացված գործերի ընդհանուր թիվը | G4: Հաշվետու ժամանակահատվածում ավարտված գործերի ընդհանուր թիվը | K4: Ուղարկվել է ըստ ընդդատության | L4: Հաշվետու ժամանակահատվածում կասեցված վարույթներով գործերի ընդհանուր թիվը | M4: Հաշվետու ժամանակահատվածում անավարտ գործերի ընդհանուր թիվը | N4: Այդ թվում՝ կասեցված | O4: Բողոքարկված դատական ակտերի թիվը` ըստ տեսակների | R4: Բեկանված դատական ակտերի թիվը` ըստ տեսակների
G5: Քննվել է ըստ էության և դատավճիռ կայացվել | H5: Որոշում է կայացվել քրեական գործի վարույթը կարճելու և քրեական հետապնդումը դադարեցնելու մասին | I5: Որոշում է կայացվել անմեղսունակների նկատմամբ բժշկական բնույթի հարկադրական միջոցներ կիրառելու մասին | J5: Ընդամենը ավարտվել են գործեր | O5: Այդ թվում` գործն ըստ էության լուծող դատական ակտերը | P5: Այդ թվում` միջանկյալ դատական ակտերը | Q5: Ընդամենը | R5: Այդ թվում` գործն ըստ էության լուծող դատական ակտերը | S5: Այդ թվում` միջանկյալ դատական ակտերը | T5: Ընդամենը
D6: 1 | E6: 2 | F6: 3 | G6: 4 | H6: 5 | I6: 6 | J6: 7 | K6: 8 | L6: 9 | M6: 10 | N6: 11 | O6: 12 | P6: 13 | Q6: 14 | R6: 15 | S6: 16 | T6: 17
A7: 1. | B7: Ընդամենը կյանքի և առողջության դեմ ուղղված հանցագործությունները | D7: =SUM(D8:D34) -> 20 | E7: =SUM(E8:E34) -> 0 | F7: =SUM(F8:F34) -> 42 | G7: =SUM(G8:G34) -> 21 | H7: =SUM(H8:H34) -> 12 | I7: =SUM(I8:I34) -> 0 | J7: =SUM(J8:J34) -> 33 | K7: =SUM(K8:K34) -> 0 | ... T7: =SUM(T8:T34) -> 2
A8: 1.1 | B8: Սպանությունը | C8: 104 | D8: 5 | F8: 9 | G8: 2 | J8: =+I8+H8+G8 -> 2 | M8: 12 | O8: 1 | Q8: =+O8+P8 -> 1 | R8: 1 | T8: =+R8+S8 -> 1
A9: 1.2 | B9: Հոգեկան խիստ հուզմունքի վիճակում կատարված սպանությունը | C9: 105 | J9: =+I9+H9+G9 -> 0 | Q9: =+O9+P9 -> 0 | T9: =+R9+S9 -> 0
A10: 1.3 | B10: Մոր կողմից նորածին երեխայի սպանությունը | C10: 106 | J10: =+I10+H10+G10 -> 0 | Q10: =+O10+P10 -> 0 | T10: =+R10+S10 -> 0
A11: 1.4 | B11: Հանցանք կատարած անձին բռնելու համար անհրաժեշտ միջոցների սահմանազանցմամբ սպանությունը | C11: 107 | J11: =+I11+H11+G11 -> 0 | Q11: =+O11+P11 -> 0 | T11: =+R11+S11 -> 0
A12: 1.5 | B12: Անհրաժեշտ պաշտպանության սահմանազանցմամբ սպանությունը | C12: 108 | J12: =+I12+H12+G12 -> 0 | Q12: =+O12+P12 -> 0 | T12: =+R12+S12 -> 0
A13: 1.6 | B13: Անզգուշությամբ մահ պատճառելը | C13: 109 | F13: 1 | G13: 1 | J13: =+I13+H13+G13 -> 1 | Q13: =+O13+P13 -> 0 | T13: =+R13+S13 -> 0
A14: 1.7 | B14: Ինքնասպանության հասցնելը | C14: 110 | J14: =+I14+H14+G14 -> 0 | Q14: =+O14+P14 -> 0 | R14: 1 | T14: =+R14+S14 -> 1
A15: 1.8 | B15: Ինքնասպանության հակելը | C15: 111 | J15: =+I15+H15+G15 -> 0 | Q15: =+O15+P15 -> 0 | T15: =+R15+S15 -> 0
A16: 1.9 | B16: Դիտավորությամբ առողջությանը ծանր վնաս պատճառելը | C16: 112 | D16: 10 | F16: 12 | G16: 13 | J16: =+I16+H16+G16 -> 13 | M16: 9 | O16: 4 | Q16: =+O16+P16 -> 4 | T16: =+R16+S16 -> 0
A17: 1.10 | B17: Դիտավորությամբ առողջությանը միջին ծանրության վնաս պատճառելը | C17: 113 | F17: 1 | G17: 1 | J17: =+I17+H17+G17 -> 1 | Q17: =+O17+P17 -> 0 | T17: =+R17+S17 -> 0
A18: 1.11 | B18: Հոգեկան խիստ հուզմունքի վիճակում առողջությանը ծանր կամ միջին ծանրության վնաս պատճառելը | C18: 114 | J18: =+I18+H18+G18 -> 0 | Q18: =+O18+P18 -> 0 | T18: =+R18+S18 -> 0
A19: 1.12 | B19: Հանցանք կատարած անձին բռնելու համար անհրաժեշտ միջոցների սահմանզանցմամբ առողջությանը ծանր կամ միջին ծանրության վնաս պատճառելը | C19: 115 | J19: =+I19+H19+G19 -> 0 | Q19: =+O19+P19 -> 0 | T19: =+R19+S19 -> 0
A20: 1.13 | B20: Առողջությանը ծանր կամ միջին ծանրության վնաս պատճառելը անհրաժեշտ պաշտպանության սահմանանազանցմամբ | C20: 116 | J20: =+I20+H20+G20 -> 0 | Q20: =+O20+P20 -> 0 | T20: =+R20+S20 -> 0
A21: 1.14 | B21: Դիտավորությամբ առողջությանը թեթև վնաս պատճառելը | C21: 117 | D21: 2 | F21: 4 | G21: 2 | H21: 2 | J21: =+I21+H21+G21 -> 4 | M21: 2 | Q21: =+O21+P21 -> 0 | T21: =+R21+S21 -> 0
A22: 1.15 | B22: Ծեծը | C22: 118 | D22: 2 | F22: 13 | G22: 2 | H22: 9 | J22: =+I22+H22+G22 -> 11 | M22: 4 | Q22: =+O22+P22 -> 0 | T22: =+R22+S22 -> 0
A23: 1.16 | B23: Ֆիզիկական ուժեղ ցավ կամ հոգեկան ուժեղ տառապանք պատճառելը | C23: 119 | D23: 1 | J23: =+I23+H23+G23 -> 0 | M23: 1 | Q23: =+O23+P23 -> 0 | T23: =+R23+S23 -> 0
A24: 1.17 | B24: Անզգուշությամբ առողջությանը ծանր վնաս պատճառելը | C24: 120 | F24: 2 | H24: 1 | J24: =+I24+H24+G24 -> 1 | M24: 1 | Q24: =+O24+P24 -> 0 | T24: =+R24+S24 -> 0
A25: 1.18 | B25: Անզգուշությամբ առողջությանը միջին ծանրության վնաս պատճառելը | C25: 121 | J25: =+I25+H25+G25 -> 0 | Q25: =+O25+P25 -> 0 | T25: =+R25+S25 -> 0
A26: 1.19 | B26: Ապօրինի աբորտ կատարելը | C26: 122 | J26: =+I26+H26+G26 -> 0 | Q26: =+O26+P26 -> 0 | T26: =+R26+S26 -> 0
A27: 1.20 | B27: Մարդու իմունային անբավարարության վիրուսի հարուցիչով վարակելը | C27: 123 | J27: =+I27+H27+G27 -> 0 | Q27: =+O27+P27 -> 0 | T27: =+R27+S27 -> 0
A28: 1.21 | B28: Վեներական հիվանդությամբ կամ այլ սեռավարակներով վարակելը | C28: 124 | J28: =+I28+H28+G28 -> 0 | Q28: =+O28+P28 -> 0 | T28: =+R28+S28 -> 0
A29: 1.22 | B29: Փոխպատվաստման վիրահատություն կատարելու կանոնները խախտելը | C29: 125 | J29: =+I29+H29+G29 -> 0 | Q29: =+O29+P29 -> 0 | T29: =+R29+S29 -> 0
A30: 1.24 | B30: Անձին առանց իր հանձնարարության բժշկական կամ գիտական փորձերի ենթարկելը | C30: 127 | J30: =+I30+H30+G30 -> 0 | Q30: =+O30+P30 -> 0 | T30: =+R30+S30 -> 0
A31: 1.25 | B31: Վտանգի մեջ թողնելը | C31: 128 | J31: =+I31+H31+G31 -> 0 | Q31: =+O31+P31 -> 0 | T31: =+R31+S31 -> 0
A32: 1.26 | B32: Հիվանդին օգնություն ցույց չտալը | C32: 129 | J32: =+I32+H32+G32 -> 0 | Q32: =+O32+P32 -> 0 | T32: =+R32+S32 -> 0
A33: 1.27 | B33: Բժշկական օգնություն և սպասարկում իրականացնողների կողմից մասնագիտական պարտականությունները չկատարելը կամ ոչ պատշաճ կատարելը | C33: 130 | J33: =+I33+H33+G33 -> 0 | Q33: =+O33+P33 -> 0 | T33: =+R33+S33 -> 0
A34: 1.28 | B34: Այլ հանցագործություններ | J34: =+I34+H34+G34 -> 0 | Q34: =+O34+P34 -> 0 | T34: =+R34+S34 -> 0
A35: 2. | B35: Ընդամենը անձի ազատության, պատվի և արժանապատվության դեմ ուղղված հանցագործությունները | D35: =SUM(D36:D43) -> 2 | E35: =SUM(E36:E43) -> 0 | F35: =SUM(F36:F43) -> 4 | G35: =SUM(G36:G43) -> 3 | H35: =SUM(H36:H43) -> 0 | I35: =SUM(I36:I43) -> 0 | J35: =SUM(J36:J43) -> 3 | K35: =SUM(K36:K43) -> 0 | ... T35: =SUM(T36:T43) -> 0
A36: 2.1 | B36: Մարդուն առևանգելը | C36: 131 | D36: 1 | F36: 1 | G36: 1 | J36: =+I36+H36+G36 -> 1 | M36: 1 | O36: 1 | P36: 2 | Q36: =+O36+P36 -> 3 | T36: =+R36+S36 -> 0
A37: 2.2 | B37: Մարդու թրաֆիքինգը կամ շահագործումը | C37: 132 | J37: =+I37+H37+G37 -> 0 | Q37: =+O37+P37 -> 0 | T37: =+R37+S37 -> 0
A38: 2.2.2 | B38: Երեխայի կամ հոգեկան խանգարման հետևանքով իր արարքի բնույթն ու նշանակությունը գիտակցելու կամ դա ղեկավարելու հնարավորությունից զրկված անձի թրաֆիքինգը կամ շահագործումը | C38: 132.2 | J38: =+I38+H38+G38 -> 0 | Q38: =+O38+P38 -> 0 | T38: =+R38+S38 -> 0
A39: 2.2.3 | B39: Շահագործման վիճակում գտնվող անձի ծառայությունից օգտվելը | C39: 132.3 | J39: =+I39+H39+G39 -> 0 | Q39: =+O39+P39 -> 0 | T39: =+R39+S39 -> 0
A40: 2.3 | B40: Ազատությունից ապօրինի զրկելը | C40: 133 | J40: =+I40+H40+G40 -> 0 | Q40: =+O40+P40 -> 0 | T40: =+R40+S40 -> 0
A41: 2.4 | B41: Հոգեբուժական հիվանդանոցում ապօրինի տեղավորելը կամ պահելը | C41: 134 | J41: =+I41+H41+G41 -> 0 | Q41: =+O41+P41 -> 0 | T41: =+R41+S41 -> 0
A42: 2.7 | B42: Սպանության, առողջությանը ծանր վնաս պատճառելու կամ գույք ոչնչացնելու սպառնալիքը | C42: 137 | D42: 1 | F42: 3 | G42: 2 | J42: =+I42+H42+G42 -> 2 | M42: 2 | O42: 1 | Q42: =+O42+P42 -> 1 | T42: =+R42+S42 -> 0
A43: 2.8 | B43: Այլ հանցագործություններ | J43: =+I43+H43+G43 -> 0 | Q43: =+O43+P43 -> 0 | T43: =+R43+S43 -> 0
