Workbook

Sheet Ընդհանուր
A1: 2017թ. | D1: ՀԱՇՎԵՏՎՈՒԹՅՈՒՆ | N1: Հավելված Հայաստանի Հանրապետության Դատարանների նախագահների խորհրդի 29.01.2018թ. թիվ 10-Լ որոշման
A2: ՀՀ ԸՆԴՀԱՆՈՒՐ ԻՐԱՎԱՍՈՒԹՅԱՆ ԱՌԱՋԻՆ ԱՏՅԱՆԻ ԴԱՏԱՐԱՆՆԵՐՈՒՄ ՔՐԵԱԿԱՆ ԳՈՐԾԵՐԻ ՔՆՆՈՒԹՅԱՆ ՎԵՐԱԲԵՐՅԱԼ
C4: ՀՀ քրեական օրենսգրքի հոդվածներ | D4: Հաշվետու ժամանակահատվածի սկզբում նախորդ հաշվետու ժամանակահատվածից փոխանցված գործերի ընդհանուր թիվը | E4: Այդ թվում` կասեցված վիճակում փոխանցված | F4: Հաշվետու ժամանակահատվածում ստացված գործերի ընդհանուր թիվը | G4: Հաշվետու ժամանակահատվածում ավարտված գործերի ընդհանուր թիվը | K4: Ուղարկվել է ըստ ընդդատության | L4: Հաշվետու ժամանակահատվածում կասեցված վարույթներով գործերի ընդհանուր թիվը | M4: Հաշվետու ժամանակահատվածում անավարտ գործերի ընդհանուր թիվը | N4: Այդ թվում՝ կասեցված | O4: Բողոքարկված դատական ակտերի թիվը` ըստ տեսակների | R4: Բեկանված դատական ակտերի թիվը` ըստ տեսակների
G5: Քննվել է ըստ էության և դատավճիռ կայացվել | H5: Որոշում է կայացվել քրեական գործի վարույթը կարճելու և քրեական հետապնդումը դադարեցնելու մասին | I5: Որոշում է կայացվել անմեղսունակների նկատմամբ բժշկական բնույթի հարկադրական միջոցներ կիրառելու մասին | J5: Ընդամենը ավարտվել են գործեր | O5: Այդ թվում` գործն ըստ էության լուծող դատական ակտերը | P5: Այդ թվում` միջանկյալ դատական ակտերը | Q5: Ընդամենը | R5: Այդ թվում` գործն ըստ էության լուծող դատական ակտերը | S5: Այդ թվում` միջանկյալ դատական ակտերը | T5: Ընդամենը
D6: 1 | E6: 2 | F6: 3 | G6: 4 | H6: 5 | I6: 6 | J6: 7 | K6: 8 | L6: 9 | M6: 10 | N6: 11 | O6: 12 | P6: 13 | Q6: 14 | R6: 15 | S6: 16 | T6: 17
A7: 1. | B7: Ընդամենը կյանքի և առողջության դեմ ուղղված հանցագործությունները | D7: =SUM(Աջափնյակ:Սյունիք!D7) -> 291 | E7: =SUM(Աջափնյակ:Սյունիք!E7) -> 7 | F7: =SUM(Աջափնյակ:Սյունիք!F7) -> 447 | G7: =SUM(Աջափնյակ:Սյունիք!G7) -> 290 | H7: =SUM(Աջափնյակ:Սյունիք!H7) -> 91 | I7: =SUM(Աջափնյակ:Սյունիք!I7) -> 20 | J7: =SUM(Աջափնյակ:Սյունիք!J7) -> 401 | K7: =SUM(Աջափնյակ:Սյունիք!K7) -> 1 | ... T7: =SUM(Աջափնյակ:Սյունիք!T7) -> 14
A8: 1.1 | B8: Սպանությունը | C8: 104 | D8: =SUM(Աջափնյակ:Սյունիք!D8) -> 93 | E8: =SUM(Աջափնյակ:Սյունիք!E8) -> 1 | F8: =SUM(Աջափնյակ:Սյունիք!F8) -> 67 | G8: =SUM(Աջափնյակ:Սյունիք!G8) -> 51 | H8: =SUM(Աջափնյակ:Սյունիք!H8) -> 0 | I8: =SUM(Աջափնյակ:Սյունիք!I8) -> 10 | J8: =SUM(Աջափնյակ:Սյունիք!J8) -> 61 | K8: =SUM(Աջափնյակ:Սյունիք!K8) -> 1 | ... T8: =SUM(Աջափնյակ:Սյունիք!T8) -> 4
A9: 1.2 | B9: Հոգեկան խիստ հուզմունքի վիճակում կատարված սպանությունը | C9: 105 | D9: =SUM(Աջափնյակ:Սյունիք!D9) -> 1 | E9: =SUM(Աջափնյակ:Սյունիք!E9) -> 0 | F9: =SUM(Աջափնյակ:Սյունիք!F9) -> 0 | G9: =SUM(Աջափնյակ:Սյունիք!G9) -> 0 | H9: =SUM(Աջափնյակ:Սյունիք!H9) -> 0 | I9: =SUM(Աջափնյակ:Սյունիք!I9) -> 0 | J9: =SUM(Աջափնյակ:Սյունիք!J9) -> 0 | K9: =SUM(Աջափնյակ:Սյունիք!K9) -> 0 | ... T9: =SUM(Աջափնյակ:Սյունիք!T9) -> 0
A10: 1.3 | B10: Մոր կողմից նորածին երեխայի սպանությունը | C10: 106 | D10: =SUM(Աջափնյակ:Սյունիք!D10) -> 0 | E10: =SUM(Աջափնյակ:Սյունիք!E10) -> 0 | F10: =SUM(Աջափնյակ:Սյունիք!F10) -> 1 | G10: =SUM(Աջափնյակ:Սյունիք!G10) -> 1 | H10: =SUM(Աջափնյակ:Սյունիք!H10) -> 0 | I10: =SUM(Աջափնյակ:Սյունիք!I10) -> 0 | J10: =SUM(Աջափնյակ:Սյունիք!J10) -> 1 | K10: =SUM(Աջափնյակ:Սյունիք!K10) -> 0 | ... T10: =SUM(Աջափնյակ:Սյունիք!T10) -> 0
A11: 1.4 | B11: Հանցանք կատարած անձին բռնելու համար անհրաժեշտ միջոցների սահմանազանցմամբ սպանությունը | C11: 107 | D11: =SUM(Աջափնյակ:Սյունիք!D11) -> 0 | E11: =SUM(Աջափնյակ:Սյունիք!E11) -> 0 | F11: =SUM(Աջափնյակ:Սյունիք!F11) -> 0 | G11: =SUM(Աջափնյակ:Սյունիք!G11) -> 0 | H11: =SUM(Աջափնյակ:Սյունիք!H11) -> 0 | I11: =SUM(Աջափնյակ:Սյունիք!I11) -> 0 | J11: =SUM(Աջափնյակ:Սյունիք!J11) -> 0 | K11: =SUM(Աջափնյակ:Սյունիք!K11) -> 0 | ... T11: =SUM(Աջափնյակ:Սյունիք!T11) -> 0
A12: 1.5 | B12: Անհրաժեշտ պաշտպանության սահմանազանցմամբ սպանությունը | C12: 108 | D12: =SUM(Աջափնյակ:Սյունիք!D12) -> 0 | E12: =SUM(Աջափնյակ:Սյունիք!E12) -> 0 | F12: =SUM(Աջափնյակ:Սյունիք!F12) -> 0 | G12: =SUM(Աջափնյակ:Սյունիք!G12) -> 0 | H12: =SUM(Աջափնյակ:Սյունիք!H12) -> 0 | I12: =SUM(Աջափնյակ:Սյունիք!I12) -> 0 | J12: =SUM(Աջափնյակ:Սյունիք!J12) -> 0 | K12: =SUM(Աջափնյակ:Սյունիք!K12) -> 0 | ... T12: =SUM(Աջափնյակ:Սյունիք!T12) -> 0
A13: 1.6 | B13: Անզգուշությամբ մահ պատճառելը | C13: 109 | D13: =SUM(Աջափնյակ:Սյունիք!D13) -> 3 | E13: =SUM(Աջափնյակ:Սյունիք!E13) -> 0 | F13: =SUM(Աջափնյակ:Սյունիք!F13) -> 5 | G13: =SUM(Աջափնյակ:Սյունիք!G13) -> 4 | H13: =SUM(Աջափնյակ:Սյունիք!H13) -> 1 | I13: =SUM(Աջափնյակ:Սյունիք!I13) -> 1 | J13: =SUM(Աջափնյակ:Սյունիք!J13) -> 6 | K13: =SUM(Աջափնյակ:Սյունիք!K13) -> 0 | ... T13: =SUM(Աջափնյակ:Սյունիք!T13) -> 0
A14: 1.7 | B14: Ինքնասպանության հասցնելը | C14: 110 | D14: =SUM(Աջափնյակ:Սյունիք!D14) -> 1 | E14: =SUM(Աջափնյակ:Սյունիք!E14) -> 0 | F14: =SUM(Աջափնյակ:Սյունիք!F14) -> 1 | G14: =SUM(Աջափնյակ:Սյունիք!G14) -> 1 | H14: =SUM(Աջափնյակ:Սյունիք!H14) -> 0 | I14: =SUM(Աջափնյակ:Սյունիք!I14) -> 0 | J14: =SUM(Աջափնյակ:Սյունիք!J14) -> 1 | K14: =SUM(Աջափնյակ:Սյունիք!K14) -> 0 | ... T14: =SUM(Աջափնյակ:Սյունիք!T14) -> 1
A15: 1.8 | B15: Ինքնասպանության հակելը | C15: 111 | D15: =SUM(Աջափնյակ:Սյունիք!D15) -> 0 | E15: =SUM(Աջափնյակ:Սյունիք!E15) -> 0 | F15: =SUM(Աջափնյակ:Սյունիք!F15) -> 0 | G15: =SUM(Աջափնյակ:Սյունիք!G15) -> 0 | H15: =SUM(Աջափնյակ:Սյունիք!H15) -> 0 | I15: =SUM(Աջափնյակ:Սյունիք!I15) -> 0 | J15: =SUM(Աջափնյակ:Սյունիք!J15) -> 0 | K15: =SUM(Աջափնյակ:Սյունիք!K15) -> 0 | ... T15: =SUM(Աջափնյակ:Սյունիք!T15) -> 0
A16: 1.9 | B16: Դիտավորությամբ առողջությանը ծանր վնաս պատճառելը | C16: 112 | D16: =SUM(Աջափնյակ:Սյունիք!D16) -> 83 | E16: =SUM(Աջափնյակ:Սյունիք!E16) -> 1 | F16: =SUM(Աջափնյակ:Սյունիք!F16) -> 130 | G16: =SUM(Աջափնյակ:Սյունիք!G16) -> 108 | H16: =SUM(Աջափնյակ:Սյունիք!H16) -> 2 | I16: =SUM(Աջափնյակ:Սյունիք!I16) -> 3 | J16: =SUM(Աջափնյակ:Սյունիք!J16) -> 113 | K16: =SUM(Աջափնյակ:Սյունիք!K16) -> 0 | ... T16: =SUM(Աջափնյակ:Սյունիք!T16) -> 7
A17: 1.10 | B17: Դիտավորությամբ առողջությանը միջին ծանրության վնաս պատճառելը | C17: 113 | D17: =SUM(Աջափնյակ:Սյունիք!D17) -> 20 | E17: =SUM(Աջափնյակ:Սյունիք!E17) -> 0 | F17: =SUM(Աջափնյակ:Սյունիք!F17) -> 39 | G17: =SUM(Աջափնյակ:Սյունիք!G17) -> 23 | H17: =SUM(Աջափնյակ:Սյունիք!H17) -> 11 | I17: =SUM(Աջափնյակ:Սյունիք!I17) -> 2 | J17: =SUM(Աջափնյակ:Սյունիք!J17) -> 36 | K17: =SUM(Աջափնյակ:Սյունիք!K17) -> 0 | ... T17: =SUM(Աջափնյակ:Սյունիք!T17) -> 0
A18: 1.11 | B18: Հոգեկան խիստ հուզմունքի վիճակում առողջությանը ծանր կամ միջին ծանրության վնաս պատճառելը | C18: 114 | D18: =SUM(Աջափնյակ:Սյունիք!D18) -> 1 | E18: =SUM(Աջափնյակ:Սյունիք!E18) -> 1 | F18: =SUM(Աջափնյակ:Սյունիք!F18) -> 2 | G18: =SUM(Աջափնյակ:Սյունիք!G18) -> 2 | H18: =SUM(Աջափնյակ:Սյունիք!H18) -> 1 | I18: =SUM(Աջափնյակ:Սյունիք!I18) -> 0 | J18: =SUM(Աջափնյակ:Սյունիք!J18) -> 3 | K18: =SUM(Աջափնյակ:Սյունիք!K18) -> 0 | ... T18: =SUM(Աջափնյակ:Սյունիք!T18) -> 0
A19: 1.12 | B19: Հանցանք կատարած անձին բռնելու համար անհրաժեշտ միջոցների սահմանզանցմամբ առողջությանը ծանր կամ միջին ծանրության վնաս պատճառելը | C19: 115 | D19: =SUM(Աջափնյակ:Սյունիք!D19) -> 0 | E19: =SUM(Աջափնյակ:Սյունիք!E19) -> 0 | F19: =SUM(Աջափնյակ:Սյունիք!F19) -> 0 | G19: =SUM(Աջափնյակ:Սյունիք!G19) -> 0 | H19: =SUM(Աջափնյակ:Սյունիք!H19) -> 0 | I19: =SUM(Աջափնյակ:Սյունիք!I19) -> 0 | J19: =SUM(Աջափնյակ:Սյունիք!J19) -> 0 | K19: =SUM(Աջափնյակ:Սյունիք!K19) -> 0 | ... T19: =SUM(Աջափնյակ:Սյունիք!T19) -> 0
... A33: 1.27 | B33: Բժշկական օգնություն և սպասարկում իրականացնողների կողմից մասնագիտական պարտականությունները չկատարելը կամ ոչ պատշաճ կատարելը | C33: 130 | D33: =SUM(Աջափնյակ:Սյունիք!D33) -> 6 | E33: =SUM(Աջափնյակ:Սյունիք!E33) -> 0 | F33: =SUM(Աջափնյակ:Սյունիք!F33) -> 7 | G33: =SUM(Աջափնյակ:Սյունիք!G33) -> 1 | H33: =SUM(Աջափնյակ:Սյունիք!H33) -> 0 | I33: =SUM(Աջափնյակ:Սյունիք!I33) -> 0 | J33: =SUM(Աջափնյակ:Սյունիք!J33) -> 1 | K33: =SUM(Աջափնյակ:Սյունիք!K33) -> 0 | ... T33: =SUM(Աջափնյակ:Սյունիք!T33) -> 0
A34: 1.28 | B34: Այլ հանցագործություններ | D34: =SUM(Աջափնյակ:Սյունիք!D34) -> 1 | E34: =SUM(Աջափնյակ:Սյունիք!E34) -> 1 | F34: =SUM(Աջափնյակ:Սյունիք!F34) -> 0 | G34: =SUM(Աջափնյակ:Սյունիք!G34) -> 0 | H34: =SUM(Աջափնյակ:Սյունիք!H34) -> 0 | I34: =SUM(Աջափնյակ:Սյունիք!I34) -> 0 | J34: =SUM(Աջափնյակ:Սյունիք!J34) -> 0 | K34: =SUM(Աջափնյակ:Սյունիք!K34) -> 0 | ... T34: =SUM(Աջափնյակ:Սյունիք!T34) -> 0
A35: 2. | B35: Ընդամենը անձի ազատության, պատվի և արժանապատվության դեմ ուղղված հանցագործությունները | D35: =SUM(Աջափնյակ:Սյունիք!D35) -> 39 | E35: =SUM(Աջափնյակ:Սյունիք!E35) -> 0 | F35: =SUM(Աջափնյակ:Սյունիք!F35) -> 48 | G35: =SUM(Աջափնյակ:Սյունիք!G35) -> 46 | H35: =SUM(Աջափնյակ:Սյունիք!H35) -> 4 | I35: =SUM(Աջափնյակ:Սյունիք!I35) -> 7 | J35: =SUM(Աջափնյակ:Սյունիք!J35) -> 57 | K35: =SUM(Աջափնյակ:Սյունիք!K35) -> 0 | ... T35: =SUM(Աջափնյակ:Սյունիք!T35) -> 4
A36: 2.1 | B36: Մարդուն առևանգելը | C36: 131 | D36: =SUM(Աջափնյակ:Սյունիք!D36) -> 25 | E36: =SUM(Աջափնյակ:Սյունիք!E36) -> 0 | F36: =SUM(Աջափնյակ:Սյունիք!F36) -> 26 | G36: =SUM(Աջափնյակ:Սյունիք!G36) -> 35 | H36: =SUM(Աջափնյակ:Սյունիք!H36) -> 0 | I36: =SUM(Աջափնյակ:Սյունիք!I36) -> 0 | J36: =SUM(Աջափնյակ:Սյունիք!J36) -> 35 | K36: =SUM(Աջափնյակ:Սյունիք!K36) -> 0 | ... T36: =SUM(Աջափնյակ:Սյունիք!T36) -> 4
A37: 2.2 | B37: Մարդու թրաֆիքինգը կամ շահագործումը | C37: 132 | D37: =SUM(Աջափնյակ:Սյունիք!D37) -> 1 | E37: =SUM(Աջափնյակ:Սյունիք!E37) -> 0 | F37: =SUM(Աջափնյակ:Սյունիք!F37) -> 1 | G37: =SUM(Աջափնյակ:Սյունիք!G37) -> 1 | H37: =SUM(Աջափնյակ:Սյունիք!H37) -> 0 | I37: =SUM(Աջափնյակ:Սյունիք!I37) -> 0 | J37: =SUM(Աջափնյակ:Սյունիք!J37) -> 1 | K37: =SUM(Աջափնյակ:Սյունիք!K37) -> 0 | ... T37: =SUM(Աջափնյակ:Սյունիք!T37) -> 0
A38: 2.2.2 | B38: Երեխայի կամ հոգեկան խանգարման հետևանքով իր արարքի բնույթն ու նշանակությունը գիտակցելու կամ դա ղեկավարելու հնարավորությունից զրկված անձի թրաֆիքինգը կամ շահագործումը | C38: 132.2 | D38: =SUM(Աջափնյակ:Սյունիք!D38) -> 0 | E38: =SUM(Աջափնյակ:Սյունիք!E38) -> 0 | F38: =SUM(Աջափնյակ:Սյունիք!F38) -> 2 | G38: =SUM(Աջափնյակ:Սյունիք!G38) -> 0 | H38: =SUM(Աջափնյակ:Սյունիք!H38) -> 0 | I38: =SUM(Աջափնյակ:Սյունիք!I38) -> 0 | J38: =SUM(Աջափնյակ:Սյունիք!J38) -> 0 | K38: =SUM(Աջափնյակ:Սյունիք!K38) -> 0 | ... T38: =SUM(Աջափնյակ:Սյունիք!T38) -> 0
A39: 2.2.3 | B39: Շահագործման վիճակում գտնվող անձի ծառայությունից օգտվելը | C39: 132.3 | D39: =SUM(Աջափնյակ:Սյունիք!D39) -> 0 | E39: =SUM(Աջափնյակ:Սյունիք!E39) -> 0 | F39: =SUM(Աջափնյակ:Սյունիք!F39) -> 0 | G39: =SUM(Աջափնյակ:Սյունիք!G39) -> 0 | H39: =SUM(Աջափնյակ:Սյունիք!H39) -> 0 | I39: =SUM(Աջափնյակ:Սյունիք!I39) -> 0 | J39: =SUM(Աջափնյակ:Սյունիք!J39) -> 0 | K39: =SUM(Աջափնյակ:Սյունիք!K39) -> 0 | ... T39: =SUM(Աջափնյակ:Սյունիք!T39) -> 0
A40: 2.3 | B40: Ազատությունից ապօրինի զրկելը | C40: 133 | D40: =SUM(Աջափնյակ:Սյունիք!D40) -> 1 | E40: =SUM(Աջափնյակ:Սյունիք!E40) -> 0 | F40: =SUM(Աջափնյակ:Սյունիք!F40) -> 4 | G40: =SUM(Աջափնյակ:Սյունիք!G40) -> 1 | H40: =SUM(Աջափնյակ:Սյունիք!H40) -> 0 | I40: =SUM(Աջափնյակ:Սյունիք!I40) -> 1 | J40: =SUM(Աջափնյակ:Սյունիք!J40) -> 2 | K40: =SUM(Աջափնյակ:Սյունիք!K40) -> 0 | ... T40: =SUM(Աջափնյակ:Սյունիք!T40) -> 0
A41: 2.4 | B41: Հոգեբուժական հիվանդանոցում ապօրինի տեղավորելը կամ պահելը | C41: 134 | D41: =SUM(Աջափնյակ:Սյունիք!D41) -> 0 | E41: =SUM(Աջափնյակ:Սյունիք!E41) -> 0 | F41: =SUM(Աջափնյակ:Սյունիք!F41) -> 0 | G41: =SUM(Աջափնյակ:Սյունիք!G41) -> 0 | H41: =SUM(Աջափնյակ:Սյունիք!H41) -> 0 | I41: =SUM(Աջափնյակ:Սյունիք!I41) -> 0 | J41: =SUM(Աջափնյակ:Սյունիք!J41) -> 0 | K41: =SUM(Աջափնյակ:Սյունիք!K41) -> 0 | ... T41: =SUM(Աջափնյակ:Սյունիք!T41) -> 0
A42: 2.7 | B42: Սպանության, առողջությանը ծանր վնաս պատճառելու կամ գույք ոչնչացնելու սպառնալիքը | C42: 137 | D42: =SUM(Աջափնյակ:Սյունիք!D42) -> 12 | E42: =SUM(Աջափնյակ:Սյունիք!E42) -> 0 | F42: =SUM(Աջափնյակ:Սյունիք!F42) -> 15 | G42: =SUM(Աջափնյակ:Սյունիք!G42) -> 9 | H42: =SUM(Աջափնյակ:Սյունիք!H42) -> 4 | I42: =SUM(Աջափնյակ:Սյունիք!I42) -> 6 | J42: =SUM(Աջափնյակ:Սյունիք!J42) -> 19 | K42: =SUM(Աջափնյակ:Սյունիք!K42) -> 0 | ... T42: =SUM(Աջափնյակ:Սյունիք!T42) -> 0
A43: 2.8 | B43: Այլ հանցագործություններ | D43: =SUM(Աջափնյակ:Սյունիք!D43) -> 0 | E43: =SUM(Աջափնյակ:Սյունիք!E43) -> 0 | F43: =SUM(Աջափնյակ:Սյունիք!F43) -> 0 | G43: =SUM(Աջափնյակ:Սյունիք!G43) -> 0 | H43: =SUM(Աջափնյակ:Սյունիք!H43) -> 0 | I43: =SUM(Աջափնյակ:Սյունիք!I43) -> 0 | J43: =SUM(Աջափնյակ:Սյունիք!J43) -> 0 | K43: =SUM(Աջափնյակ:Սյունիք!K43) -> 0 | ... T43: =SUM(Աջափնյակ:Սյունիք!T43) -> 0
A44: 3. | B44: Ընդամենը սեռական անձեռնմխելիության և սեռական ազատության դեմ ուղղված հանցագործությունները | D44: =SUM(Աջափնյակ:Սյունիք!D44) -> 30 | E44: =SUM(Աջափնյակ:Սյունիք!E44) -> 2 | F44: =SUM(Աջափնյակ:Սյունիք!F44) -> 56 | G44: =SUM(Աջափնյակ:Սյունիք!G44) -> 52 | H44: =SUM(Աջափնյակ:Սյունիք!H44) -> 0 | I44: =SUM(Աջափնյակ:Սյունիք!I44) -> 2 | J44: =SUM(Աջափնյակ:Սյունիք!J44) -> 54 | K44: =SUM(Աջափնյակ:Սյունիք!K44) -> 0 | ... T44: =SUM(Աջափնյակ:Սյունիք!T44) -> 1
A45: 3.1 | B45: Բռնաբարությունը | C45: 138 | D45: =SUM(Աջափնյակ:Սյունիք!D45) -> 6 | E45: =SUM(Աջափնյակ:Սյունիք!E45) -> 0 | F45: =SUM(Աջափնյակ:Սյունիք!F45) -> 9 | G45: =SUM(Աջափնյակ:Սյունիք!G45) -> 7 | H45: =SUM(Աջափնյակ:Սյունիք!H45) -> 0 | I45: =SUM(Աջափնյակ:Սյունիք!I45) -> 1 | J45: =SUM(Աջափնյակ:Սյունիք!J45) -> 8 | K45: =SUM(Աջափնյակ:Սյունիք!K45) -> 0 | ... T45: =SUM(Աջափնյակ:Սյունիք!T45) -> 0
A46: 3.2 | B46: Սեքսուալ բնույթի բռնի գործողությունները | C46: 139 | D46: =SUM(Աջափնյակ:Սյունիք!D46) -> 10 | E46: =SUM(Աջափնյակ:Սյունիք!E46) -> 1 | F46: =SUM(Աջափնյակ:Սյունիք!F46) -> 7 | G46: =SUM(Աջափնյակ:Սյունիք!G46) -> 9 | H46: =SUM(Աջափնյակ:Սյունիք!H46) -> 0 | I46: =SUM(Աջափնյակ:Սյունիք!I46) -> 0 | J46: =SUM(Աջափնյակ:Սյունիք!J46) -> 9 | K46: =SUM(Աջափնյակ:Սյունիք!K46) -> 0 | ... T46: =SUM(Աջափնյակ:Սյունիք!T46) -> 0
A47: 3.3 | B47: Սեռական հարաբերության կամ սեքսուալ բնույթի գործողություններին հարկադրելը | C47: 140 | D47: =SUM(Աջափնյակ:Սյունիք!D47) -> 2 | E47: =SUM(Աջափնյակ:Սյունիք!E47) -> 0 | F47: =SUM(Աջափնյակ:Սյունիք!F47) -> 0 | G47: =SUM(Աջափնյակ:Սյունիք!G47) -> 1 | H47: =SUM(Աջափնյակ:Սյունիք!H47) -> 0 | I47: =SUM(Աջափնյակ:Սյունիք!I47) -> 0 | J47: =SUM(Աջափնյակ:Սյունիք!J47) -> 1 | K47: =SUM(Աջափնյակ:Սյունիք!K47) -> 0 | ... T47: =SUM(Աջափնյակ:Սյունիք!T47) -> 0
A48: 3.4 | B48: Սեռական հարաբերությունը տասնվեց տարին չլրացած անձի հետ կամ սեքսուալ բնույթի գործողություններ կատարելը տասնվեց տարին չլրացած անձի նկատմամբ | C48: 141 | D48: =SUM(Աջափնյակ:Սյունիք!D48) -> 7 | E48: =SUM(Աջափնյակ:Սյունիք!E48) -> 1 | F48: =SUM(Աջափնյակ:Սյունիք!F48) -> 36 | G48: =SUM(Աջափնյակ:Սյունիք!G48) -> 30 | H48: =SUM(Աջափնյակ:Սյունիք!H48) -> 0 | I48: =SUM(Աջափնյակ:Սյունիք!I48) -> 0 | J48: =SUM(Աջափնյակ:Սյունիք!J48) -> 30 | K48: =SUM(Աջափնյակ:Սյունիք!K48) -> 0 | ... T48: =SUM(Աջափնյակ:Սյունիք!T48) -> 1
A49: 3.5 | B49: Անառակաբարո գործողությունները | C49: 142 | D49: =SUM(Աջափնյակ:Սյունիք!D49) -> 5 | E49: =SUM(Աջափնյակ:Սյունիք!E49) -> 0 | F49: =SUM(Աջափնյակ:Սյունիք!F49) -> 4 | G49: =SUM(Աջափնյակ:Սյունիք!G49) -> 5 | H49: =SUM(Աջափնյակ:Սյունիք!H49) -> 0 | I49: =SUM(Աջափնյակ:Սյունիք!I49) -> 1 | J49: =SUM(Աջափնյակ:Սյունիք!J49) -> 6 | K49: =SUM(Աջափնյակ:Սյունիք!K49) -> 0 | ... T49: =SUM(Աջափնյակ:Սյունիք!T49) -> 0
A50: 3.6 | B50: Այլ հանցագործություններ | D50: =SUM(Աջափնյակ:Սյունիք!D50) -> 0 | E50: =SUM(Աջափնյակ:Սյունիք!E50) -> 0 | F50: =SUM(Աջափնյակ:Սյունիք!F50) -> 0 | G50: =SUM(Աջափնյակ:Սյունիք!G50) -> 0 | H50: =SUM(Աջափնյակ:Սյունիք!H50) -> 0 | I50: =SUM(Աջափնյակ:Սյունիք!I50) -> 0 | J50: =SUM(Աջափնյակ:Սյունիք!J50) -> 0 | K50: =SUM(Աջափնյակ:Սյունիք!K50) -> 0 | ... T50: =SUM(Աջափնյակ:Սյունիք!T50) -> 0
A51: 4. | B51: Ընդամենը մարդու և քաղաքացու սահմանադրական իրավունքների և ազատությունների դեմ ուղղված հանցագործությունները | D51: =SUM(Աջափնյակ:Սյունիք!D51) -> 23 | E51: =SUM(Աջափնյակ:Սյունիք!E51) -> 1 | F51: =SUM(Աջափնյակ:Սյունիք!F51) -> 56 | G51: =SUM(Աջափնյակ:Սյունիք!G51) -> 57 | H51: =SUM(Աջափնյակ:Սյունիք!H51) -> 1 | I51: =SUM(Աջափնյակ:Սյունիք!I51) -> 1 | J51: =SUM(Աջափնյակ:Սյունիք!J51) -> 59 | K51: =SUM(Աջափնյակ:Սյունիք!K51) -> 1 | ... T51: =SUM(Աջափնյակ:Սյունիք!T51) -> 1
A52: 4.1 | B52: Մարդու և քաղաքացու իրավահավասարությունը խախտելը | C52: 143 | D52: =SUM(Աջափնյակ:Սյունիք!D52) -> 0 | E52: =SUM(Աջափնյակ:Սյունիք!E52) -> 0 | F52: =SUM(Աջափնյակ:Սյունիք!F52) -> 0 | G52: =SUM(Աջափնյակ:Սյունիք!G52) -> 0 | H52: =SUM(Աջափնյակ:Սյունիք!H52) -> 0 | I52: =SUM(Աջափնյակ:Սյունիք!I52) -> 0 | J52: =SUM(Աջափնյակ:Սյունիք!J52) -> 0 | K52: =SUM(Աջափնյակ:Սյունիք!K52) -> 0 | ... T52: =SUM(Աջափնյակ:Սյունիք!T52) -> 0
A53: 4.2 | B53: Անձնական կամ ընտանեկան կյանքի մասին տեղեկություններ ապօրինի հավաքելը, պահելը, օգտագործելը կամ տարածելը | C53: 144 | D53: =SUM(Աջափնյակ:Սյունիք!D53) -> 2 | E53: =SUM(Աջափնյակ:Սյունիք!E53) -> 0 | F53: =SUM(Աջափնյակ:Սյունիք!F53) -> 2 | G53: =SUM(Աջափնյակ:Սյունիք!G53) -> 2 | H53: =SUM(Աջափնյակ:Սյունիք!H53) -> 0 | I53: =SUM(Աջափնյակ:Սյունիք!I53) -> 0 | J53: =SUM(Աջափնյակ:Սյունիք!J53) -> 2 | K53: =SUM(Աջափնյակ:Սյունիք!K53) -> 0 | ... T53: =SUM(Աջափնյակ:Սյունիք!T53) -> 0
A54: 4.3 | B54: Բժշկական գաղտնիքը հրապարակելը | C54: 145 | D54: =SUM(Աջափնյակ:Սյունիք!D54) -> 0 | E54: =SUM(Աջափնյակ:Սյունիք!E54) -> 0 | F54: =SUM(Աջափնյակ:Սյունիք!F54) -> 0 | G54: =SUM(Աջափնյակ:Սյունիք!G54) -> 0 | H54: =SUM(Աջափնյակ:Սյունիք!H54) -> 0 | I54: =SUM(Աջափնյակ:Սյունիք!I54) -> 0 | J54: =SUM(Աջափնյակ:Սյունիք!J54) -> 0 | K54: =SUM(Աջափնյակ:Սյունիք!K54) -> 0 | ... T54: =SUM(Աջափնյակ:Սյունիք!T54) -> 0
...

Sheet Աջափնյակ
A1: 2017թ. | D1: ՀԱՇՎԵՏՎՈՒԹՅՈՒՆ | N1: Հավելված Հայաստանի Հանրապետության Դատարանների նախագահների խորհրդի 29.01.2018թ. թիվ 10-Լ որոշման
A2: ԵՐԵՎԱՆ ՔԱՂԱՔԻ ԱՋԱՓՆՅԱԿ և ԴԱՎԹԱՇԵՆ ՎԱՐՉԱԿԱՆ ՇՐՋԱՆՆԵՐԻ ԸՆԴՀԱՆՈՒՐ ԻՐԱՎԱՍՈՒԹՅԱՆ ԱՌԱՋԻՆ ԱՏՅԱՆԻ ԴԱՏԱՐԱՆՈՒՄ ՔՐԵԱԿԱՆ ԳՈՐԾԵՐԻ ՔՆՆՈՒԹՅԱՆ ՎԵՐԱԲԵՐՅԱԼ
A3: Երևան քաղաքի Աջափնյակ և Դավթաշեն վարչական շրջանների ընդհանուր իրավասության առաջին ատյանի դատարանում քրեական մասնագիտացում ունեցող դատավորների հաստիքների քանակը` 3
C4: ՀՀ քրեական օրենսգրքի հոդվածներ | D4: Հաշվետու ժամանակահատվածի սկզբում նախորդ հաշվետու ժամանակահատվածից փոխանցված գործերի ընդհանուր թիվը | E4: Այդ թվում` կասեցված վիճակում փոխանցված | F4: Հաշվետու ժամանակահատվածում ստացված գործերի ընդհանուր թիվը | G4: Հաշվետու ժամանակահատվածում ավարտված գործերի ընդհանուր թիվը | K4: Ուղարկվել է ըստ ընդդատության | L4: Հաշվետու ժամանակահատվածում կասեցված վարույթներով գործերի ընդհանուր թիվը | M4: Հաշվետու ժամանակահատվածում անավարտ գործերի ընդհանուր թիվը | N4: Այդ թվում՝ կասեցված | O4: Բողոքարկված դատական ակտերի թիվը` ըստ տեսակների | R4: Բեկանված դատական ակտերի թիվը` ըստ տեսակների
G5: Քննվել է ըստ էության և դատավճիռ կայացվել | H5: Որոշում է կայացվել քրեական գործի վարույթը կարճելու և քրեական հետապնդումը դադարեցնելու մասին | I5: Որոշում է կայացվել անմեղսունակների նկատմամբ բժշկական բնույթի հարկադրական միջոցներ կիրառելու մասին | J5: Ընդամենը ավարտվել են գործեր | O5: Այդ թվում` գործն ըստ էության լուծող դատական ակտերը | P5: Այդ թվում` միջանկյալ դատական ակտերը | Q5: Ընդամենը | R5: Այդ թվում` գործն ըստ էության լուծող դատական ակտերը | S5: Այդ թվում` միջանկյալ դատական ակտերը | T5: Ընդամենը
D6: 1 | E6: 2 | F6: 3 | G6: 4 | H6: 5 | I6: 6 | J6: 7 | K6: 8 | L6: 9 | M6: 10 | N6: 11 | O6: 12 | P6: 13 | Q6: 14 | R6: 15 | S6: 16 | T6: 17
A7: 1. | B7: Ընդամենը կյանքի և առողջության դեմ ուղղված հանցագործությունները | D7: =SUM(D8:D34) -> 25 | E7: =SUM(E8:E34) -> 2 | F7: =SUM(F8:F34) -> 32 | G7: =SUM(G8:G34) -> 28 | H7: =SUM(H8:H34) -> 5 | I7: =SUM(I8:I34) -> 0 | J7: =SUM(J8:J34) -> 33 | K7: =SUM(K8:K34) -> 0 | ... T7: =SUM(T8:T34) -> 0
A8: 1.1 | B8: Սպանությունը | C8: 104 | D8: 8 | F8: 4 | G8: 7 | J8: 7 | M8: 5 | O8: 7 | Q8: 7
A9: 1.2 | B9: Հոգեկան խիստ հուզմունքի վիճակում կատարված սպանությունը | C9: 105 | M9: 0
A10: 1.3 | B10: Մոր կողմից նորածին երեխայի սպանությունը | C10: 106 | M10: 0
A11: 1.4 | B11: Հանցանք կատարած անձին բռնելու համար անհրաժեշտ միջոցների սահմանազանցմամբ սպանությունը | C11: 107 | M11: 0
A12: 1.5 | B12: Անհրաժեշտ պաշտպանության սահմանազանցմամբ սպանությունը | C12: 108 | M12: 0
A13: 1.6 | B13: Անզգուշությամբ մահ պատճառելը | C13: 109 | D13: 1 | F13: 1 | G13: 1 | J13: 1 | M13: 1 | O13: 1 | Q13: 1
A14: 1.7 | B14: Ինքնասպանության հասցնելը | C14: 110 | M14: 0
A15: 1.8 | B15: Ինքնասպանության հակելը | C15: 111 | M15: 0
A16: 1.9 | B16: Դիտավորությամբ առողջությանը ծանր վնաս պատճառելը | C16: 112 | D16: 6 | F16: 7 | G16: 7 | J16: 7 | M16: 6 | O16: 6 | Q16: 6
A17: 1.10 | B17: Դիտավորությամբ առողջությանը միջին ծանրության վնաս պատճառելը | C17: 113 | D17: 2 | F17: 4 | G17: 3 | H17: 1 | J17: 4 | M17: 2 | O17: 2 | Q17: 2
A18: 1.11 | B18: Հոգեկան խիստ հուզմունքի վիճակում առողջությանը ծանր կամ միջին ծանրության վնաս պատճառելը | C18: 114 | M18: 0
A19: 1.12 | B19: Հանցանք կատարած անձին բռնելու համար անհրաժեշտ միջոցների սահմանզանցմամբ առողջությանը ծանր կամ միջին ծանրության վնաս պատճառելը | C19: 115 | M19: 0
A20: 1.13 | B20: Առողջությանը ծանր կամ միջին ծանրության վնաս պատճառելը անհրաժեշտ պաշտպանության սահմանանազանցմամբ | C20: 116 | M20: 0
A21: 1.14 | B21: Դիտավորությամբ առողջությանը թեթև վնաս պատճառելը | C21: 117 | D21: 3 | F21: 7 | G21: 5 | H21: 4 | J21: 9 | M21: 1 | O21: 2 | Q21: 2
A22: 1.15 | B22: Ծեծը | C22: 118 | D22: 4 | E22: 1 | F22: 8 | G22: 5 | J22: 5 | M22: 7 | N22: 1 | O22: 2 | Q22: 2
A23: 1.16 | B23: Ֆիզիկական ուժեղ ցավ կամ հոգեկան ուժեղ տառապանք պատճառելը | C23: 119 | M23: 0
A24: 1.17 | B24: Անզգուշությամբ առողջությանը ծանր վնաս պատճառելը | C24: 120 | M24: 0
A25: 1.18 | B25: Անզգուշությամբ առողջությանը միջին ծանրության վնաս պատճառելը | C25: 121 | M25: 0
A26: 1.19 | B26: Ապօրինի աբորտ կատարելը | C26: 122 | M26: 0
A27: 1.20 | B27: Մարդու իմունային անբավարարության վիրուսի հարուցիչով վարակելը | C27: 123 | M27: 0
A28: 1.21 | B28: Վեներական հիվանդությամբ կամ այլ սեռավարակներով վարակելը | C28: 124 | M28: 0
A29: 1.22 | B29: Փոխպատվաստման վիրահատություն կատարելու կանոնները խախտելը | C29: 125 | M29: 0
A30: 1.24 | B30: Անձին առանց իր հանձնարարության բժշկական կամ գիտական փորձերի ենթարկելը | C30: 127 | M30: 0
A31: 1.25 | B31: Վտանգի մեջ թողնելը | C31: 128 | M31: 0
A32: 1.26 | B32: Հիվանդին օգնություն ցույց չտալը | C32: 129 | M32: 0
A33: 1.27 | B33: Բժշկական օգնություն և սպասարկում իրականացնողների կողմից մասնագիտական պարտականությունները չկատարելը կամ ոչ պատշաճ կատարելը | C33: 130 | F33: 1 | M33: 1
A34: 1.28 | B34: Այլ հանցագործություններ | D34: 1 | E34: 1 | M34: 1 | N34: 1
A35: 2. | B35: Ընդամենը անձի ազատության, պատվի և արժանապատվության դեմ ուղղված հանցագործությունները | D35: =SUM(D36:D43) -> 3 | E35: =SUM(E36:E43) -> 0 | F35: =SUM(F36:F43) -> 1 | G35: =SUM(G36:G43) -> 2 | H35: =SUM(H36:H43) -> 1 | I35: =SUM(I36:I43) -> 0 | J35: =SUM(J36:J43) -> 3 | K35: =SUM(K36:K43) -> 0 | ... T35: =SUM(T36:T43) -> 0
A36: 2.1 | B36: Մարդուն առևանգելը | C36: 131 | D36: 2 | G36: 2 | J36: 2 | M36: 0 | O36: 2 | Q36: 2
A37: 2.2 | B37: Մարդու թրաֆիքինգը կամ շահագործումը | C37: 132 | F37: 1 | M37: 1
A38: 2.2.2 | B38: Երեխայի կամ հոգեկան խանգարման հետևանքով իր արարքի բնույթն ու նշանակությունը գիտակցելու կամ դա ղեկավարելու հնարավորությունից զրկված անձի թրաֆիքինգը կամ շահագործումը | C38: 132.2 | M38: 0
A39: 2.2.3 | B39: Շահագործման վիճակում գտնվող անձի ծառայությունից օգտվելը | C39: 132.3 | M39: 0
A40: 2.3 | B40: Ազատությունից ապօրինի զրկելը | C40: 133 | M40: 0
...

Sheet Կենտրոն
A1: 2017թ. | D1: ՀԱՇՎԵՏՎՈՒԹՅՈՒՆ | N1: Հավելված Հայաստանի Հանրապետության Դատարանների նախագահների խորհրդի 29.01.2018թ. թիվ 10-Լ որոշման
A2: ԵՐԵՎԱՆ ՔԱՂԱՔԻ ԿԵՆՏՐՈՆ ԵՎ ՆՈՐՔ-ՄԱՐԱՇ ՎԱՐՉԱԿԱՆ ՇՐՋԱՆՆԵՐԻ ԸՆԴՀԱՆՈՒՐ ԻՐԱՎԱՍՈՒԹՅԱՆ ԱՌԱՋԻՆ ԱՏՅԱՆԻ ԴԱՏԱՐԱՆՈՒՄ ՔՐԵԱԿԱՆ ԳՈՐԾԵՐԻ ՔՆՆՈՒԹՅԱՆ ՎԵՐԱԲԵՐՅԱԼ
A3: Երևան քաղաքի ԿԵնտրոն և Նորք-Մարաշ վարչական շրջանների ընդհանուր իրավասության առաջին ատյանի դատարանում քրեական մասնագիտացում ունեցող դատավորների հաստիքների քանակը` 5
C4: ՀՀ քրեական օրենսգրքի հոդվածներ | D4: Հաշվետու ժամանակահատվածի սկզբում նախորդ հաշվետու ժամանակահատվածից փոխանցված գործերի ընդհանուր թիվը | E4: Այդ թվում` կասեցված վիճակում փոխանցված | F4: Հաշվետու ժամանակահատվածում ստացված գործերի ընդհանուր թիվը | G4: Հաշվետու ժամանակահատվածում ավարտված գործերի ընդհանուր թիվը | K4: Ուղարկվել է ըստ ընդդատության | L4: Հաշվետու ժամանակահատվածում կասեցված վարույթներով գործերի ընդհանուր թիվը | M4: Հաշվետու ժամանակահատվածում անավարտ գործերի ընդհանուր թիվը | N4: Այդ թվում՝ կասեցված | O4: Բողոքարկված դատական ակտերի թիվը` ըստ տեսակների | R4: Բեկանված դատական ակտերի թիվը` ըստ տեսակների
G5: Քննվել է ըստ էության և դատավճիռ կայացվել | H5: Որոշում է կայացվել քրեական գործի վարույթը կարճելու և քրեական հետապնդումը դադարեցնելու մասին | I5: Որոշում է կայացվել անմեղսունակների նկատմամբ բժշկական բնույթի հարկադրական միջոցներ կիրառելու մասին | J5: Ընդամենը ավարտվել են գործեր | O5: Այդ թվում` գործն ըստ էության լուծող դատական ակտերը | P5: Այդ թվում` միջանկյալ դատական ակտերը | Q5: Ընդամենը | R5: Այդ թվում` գործն ըստ էության լուծող դատական ակտերը | S5: Այդ թվում` միջանկյալ դատական ակտերը | T5: Ընդամենը
D6: 1 | E6: 2 | F6: 3 | G6: 4 | H6: 5 | I6: 6 | J6: 7 | K6: 8 | L6: 9 | M6: 10 | N6: 11 | O6: 12 | P6: 13 | Q6: 14 | R6: 15 | S6: 16 | T6: 17
A7: 1. | B7: Ընդամենը կյանքի և առողջության դեմ ուղղված հանցագործությունները | D7: =SUM(D8:D34) -> 32 | E7: =SUM(E8:E34) -> 0 | F7: =SUM(F8:F34) -> 27 | G7: =SUM(G8:G34) -> 28 | H7: =SUM(H8:H34) -> 8 | I7: =SUM(I8:I34) -> 1 | J7: =SUM(J8:J34) -> 37 | K7: =SUM(K8:K34) -> 0 | ... T7: =SUM(T8:T34) -> 3
A8: 1.1 | B8: Սպանությունը | C8: 104 | D8: 10 | F8: 5 | G8: 8 | J8: 8 | M8: 7 | O8: 6 | Q8: 6 | R8: 1 | T8: 1
A9: 1.2 | B9: Հոգեկան խիստ հուզմունքի վիճակում կատարված սպանությունը | C9: 105
A10: 1.3 | B10: Մոր կողմից նորածին երեխայի սպանությունը | C10: 106
A11: 1.4 | B11: Հանցանք կատարած անձին բռնելու համար անհրաժեշտ միջոցների սահմանազանցմամբ սպանությունը | C11: 107
A12: 1.5 | B12: Անհրաժեշտ պաշտպանության սահմանազանցմամբ սպանությունը | C12: 108
A13: 1.6 | B13: Անզգուշությամբ մահ պատճառելը | C13: 109
A14: 1.7 | B14: Ինքնասպանության հասցնելը | C14: 110 | D14: 1 | G14: 1 | J14: 1 | O14: 1 | Q14: 1
A15: 1.8 | B15: Ինքնասպանության հակելը | C15: 111
A16: 1.9 | B16: Դիտավորությամբ առողջությանը ծանր վնաս պատճառելը | C16: 112 | D16: 7 | F16: 5 | G16: 9 | J16: 9 | M16: 3 | O16: 5 | Q16: 5 | R16: 1 | T16: 1
A17: 1.10 | B17: Դիտավորությամբ առողջությանը միջին ծանրության վնաս պատճառելը | C17: 113 | D17: 1 | F17: 8 | G17: 2 | H17: 2 | I17: 1 | J17: 5 | M17: 4 | O17: 1 | Q17: 1
A18: 1.11 | B18: Հոգեկան խիստ հուզմունքի վիճակում առողջությանը ծանր կամ միջին ծանրության վնաս պատճառելը | C18: 114
A19: 1.12 | B19: Հանցանք կատարած անձին բռնելու համար անհրաժեշտ միջոցների սահմանզանցմամբ առողջությանը ծանր կամ միջին ծանրության վնաս պատճառելը | C19: 115
A20: 1.13 | B20: Առողջությանը ծանր կամ միջին ծանրության վնաս պատճառելը անհրաժեշտ պաշտպանության սահմանանազանցմամբ | C20: 116
A21: 1.14 | B21: Դիտավորությամբ առողջությանը թեթև վնաս պատճառելը | C21: 117 | D21: 5 | F21: 3 | G21: 4 | H21: 1 | J21: 5 | M21: 3 | O21: 1 | Q21: 1 | R21: 1 | T21: 1
A22: 1.15 | B22: Ծեծը | C22: 118 | D22: 8 | F22: 5 | G22: 4 | H22: 5 | J22: 9 | M22: 4 | O22: 1 | P22: 1 | Q22: 2
A23: 1.16 | B23: Ֆիզիկական ուժեղ ցավ կամ հոգեկան ուժեղ տառապանք պատճառելը | C23: 119
A24: 1.17 | B24: Անզգուշությամբ առողջությանը ծանր վնաս պատճառելը | C24: 120
A25: 1.18 | B25: Անզգուշությամբ առողջությանը միջին ծանրության վնաս պատճառելը | C25: 121
A26: 1.19 | B26: Ապօրինի աբորտ կատարելը | C26: 122
A27: 1.20 | B27: Մարդու իմունային անբավարարության վիրուսի հարուցիչով վարակելը | C27: 123
A28: 1.21 | B28: Վեներական հիվանդությամբ կամ այլ սեռավարակներով վարակելը | C28: 124
A29: 1.22 | B29: Փոխպատվաստման վիրահատություն կատարելու կանոնները խախտելը | C29: 125
A30: 1.24 | B30: Անձին առանց իր հանձնարարության բժշկական կամ գիտական փորձերի ենթարկելը | C30: 127
A31: 1.25 | B31: Վտանգի մեջ թողնելը | C31: 128
A32: 1.26 | B32: Հիվանդին օգնություն ցույց չտալը | C32: 129
A33: 1.27 | B33: Բժշկական օգնություն և սպասարկում իրականացնողների կողմից մասնագիտական պարտականությունները չկատարելը կամ ոչ պատշաճ կատարելը | C33: 130 | F33: 1 | M33: 1
A34: 1.28 | B34: Այլ հանցագործություններ
A35: 2. | B35: Ընդամենը անձի ազատության, պատվի և արժանապատվության դեմ ուղղված հանցագործությունները | D35: =SUM(D36:D43) -> 6 | E35: =SUM(E36:E43) -> 0 | F35: =SUM(F36:F43) -> 2 | G35: =SUM(G36:G43) -> 4 | H35: =SUM(H36:H43) -> 1 | I35: =SUM(I36:I43) -> 0 | J35: =SUM(J36:J43) -> 5 | K35: =SUM(K36:K43) -> 0 | ... T35: =SUM(T36:T43) -> 1
A36: 2.1 | B36: Մարդուն առևանգելը | C36: 131 | D36: 4 | F36: 1 | G36: 4 | J36: 4 | M36: 1 | O36: 4 | Q36: 4 | R36: 1 | T36: 1
A37: 2.2 | B37: Մարդու թրաֆիքինգը կամ շահագործումը | C37: 132
A38: 2.2.2 | B38: Երեխայի կամ հոգեկան խանգարման հետևանքով իր արարքի բնույթն ու նշանակությունը գիտակցելու կամ դա ղեկավարելու հնարավորությունից զրկված անձի թրաֆիքինգը կամ շահագործումը | C38: 132.2
A39: 2.2.3 | B39: Շահագործման վիճակում գտնվող անձի ծառայությունից օգտվելը | C39: 132.3
A40: 2.3 | B40: Ազատությունից ապօրինի զրկելը | C40: 133
...

Sheet Ավան
A1: 2017թ. | D1: ՀԱՇՎԵՏՎՈՒԹՅՈՒՆ | N1: Հավելված Հայաստանի Հանրապետության Դատարանների նախագահների խորհրդի 29.01.2018թ. թիվ 10-Լ որոշման
A2: ԵՐԵՎԱՆ ՔԱՂԱՔԻ ԱՎԱՆ ԵՎ ՆՈՐ ՆՈՐՔ ՎԱՐՉԱԿԱՆ ՇՐՋԱՆՆԵՐԻ ԸՆԴՀԱՆՈՒՐ ԻՐԱՎԱՍՈՒԹՅԱՆ ԱՌԱՋԻՆ ԱՏՅԱՆԻ ԴԱՏԱՐԱՆՈՒՄ ՔՐԵԱԿԱՆ ԳՈՐԾԵՐԻ ՔՆՆՈՒԹՅԱՆ ՎԵՐԱԲԵՐՅԱԼ
A3: Երևան քաղաքի Ավան և Նոր Նորք վարչական շրջանների ընդհանուր իրավասության առաջին ատյանի դատարանում քրեական մասնագիտացում ունեցող դատավորների հաստիքների քանակը` 3
C4: ՀՀ քրեական օրենսգրքի հոդվածներ | D4: Հաշվետու ժամանակահատվածի սկզբում նախորդ հաշվետու ժամանակահատվածից փոխանցված գործերի ընդհանուր թիվը | E4: Այդ թվում` կասեցված վիճակում փոխանցված | F4: Հաշվետու ժամանակահատվածում ստացված գործերի ընդհանուր թիվը | G4: Հաշվետու ժամանակահատվածում ավարտված գործերի ընդհանուր թիվը | K4: Ուղարկվել է ըստ ընդդատության | L4: Հաշվետու ժամանակահատվածում կասեցված վարույթներով գործերի ընդհանուր թիվը | M4: Հաշվետու ժամանակահատվածում անավարտ գործերի ընդհանուր թիվը | N4: Այդ թվում՝ կասեցված | O4: Բողոքարկված դատական ակտերի թիվը` ըստ տեսակների | R4: Բեկանված դատական ակտերի թիվը` ըստ տեսակների
G5: Քննվել է ըստ էության և դատավճիռ կայացվել | H5: Որոշում է կայացվել քրեական գործի վարույթը կարճելու և քրեական հետապնդումը դադարեցնելու մասին | I5: Որոշում է կայացվել անմեղսունակների նկատմամբ բժշկական բնույթի հարկադրական միջոցներ կիրառելու մասին | J5: Ընդամենը ավարտվել են գործեր | O5: Այդ թվում` գործն ըստ էության լուծող դատական ակտերը | P5: Այդ թվում` միջանկյալ դատական ակտերը | Q5: Ընդամենը | R5: Այդ թվում` գործն ըստ էության լուծող դատական ակտերը | S5: Այդ թվում` միջանկյալ դատական ակտերը | T5: Ընդամենը
D6: 1 | E6: 2 | F6: 3 | G6: 4 | H6: 5 | I6: 6 | J6: 7 | K6: 8 | L6: 9 | M6: 10 | N6: 11 | O6: 12 | P6: 13 | Q6: 14 | R6: 15 | S6: 16 | T6: 17
A7: 1. | B7: Ընդամենը կյանքի և առողջության դեմ ուղղված հանցագործությունները | D7: =SUM(D8:D34) -> 12 | E7: =SUM(E8:E34) -> 0 | F7: =SUM(F8:F34) -> 15 | G7: =SUM(G8:G34) -> 7 | H7: =SUM(H8:H34) -> 2 | I7: =SUM(I8:I34) -> 0 | J7: =SUM(J8:J34) -> 9 | K7: =SUM(K8:K34) -> 0 | ... T7: =SUM(T8:T34) -> 0
A8: 1.1 | B8: Սպանությունը | C8: 104 | D8: 7 | F8: 2 | G8: 3 | J8: 3 | M8: 6 | O8: 1 | Q8: 1
A9: 1.2 | B9: Հոգեկան խիստ հուզմունքի վիճակում կատարված սպանությունը | C9: 105
A10: 1.3 | B10: Մոր կողմից նորածին երեխայի սպանությունը | C10: 106
A11: 1.4 | B11: Հանցանք կատարած անձին բռնելու համար անհրաժեշտ միջոցների սահմանազանցմամբ սպանությունը | C11: 107
A12: 1.5 | B12: Անհրաժեշտ պաշտպանության սահմանազանցմամբ սպանությունը | C12: 108
A13: 1.6 | B13: Անզգուշությամբ մահ պատճառելը | C13: 109
A14: 1.7 | B14: Ինքնասպանության հասցնելը | C14: 110
A15: 1.8 | B15: Ինքնասպանության հակելը | C15: 111
A16: 1.9 | B16: Դիտավորությամբ առողջությանը ծանր վնաս պատճառելը | C16: 112 | D16: 1 | F16: 8 | G16: 1 | J16: 1 | M16: 8
A17: 1.10 | B17: Դիտավորությամբ առողջությանը միջին ծանրության վնաս պատճառելը | C17: 113 | D17: 2 | F17: 1 | G17: 1 | J17: 1 | M17: 2
A18: 1.11 | B18: Հոգեկան խիստ հուզմունքի վիճակում առողջությանը ծանր կամ միջին ծանրության վնաս պատճառելը | C18: 114
A19: 1.12 | B19: Հանցանք կատարած անձին բռնելու համար անհրաժեշտ միջոցների սահմանզանցմամբ առողջությանը ծանր կամ միջին ծանրության վնաս պատճառելը | C19: 115
A20: 1.13 | B20: Առողջությանը ծանր կամ միջին ծանրության վնաս պատճառելը անհրաժեշտ պաշտպանության սահմանանազանցմամբ | C20: 116
A21: 1.14 | B21: Դիտավորությամբ առողջությանը թեթև վնաս պատճառելը | C21: 117 | F21: 1 | M21: 1
A22: 1.15 | B22: Ծեծը | C22: 118 | D22: 2 | F22: 3 | G22: 2 | H22: 2 | J22: 4 | M22: 1 | O22: 1 | Q22: 1
A23: 1.16 | B23: Ֆիզիկական ուժեղ ցավ կամ հոգեկան ուժեղ տառապանք պատճառելը | C23: 119
A24: 1.17 | B24: Անզգուշությամբ առողջությանը ծանր վնաս պատճառելը | C24: 120
A25: 1.18 | B25: Անզգուշությամբ առողջությանը միջին ծանրության վնաս պատճառելը | C25: 121
A26: 1.19 | B26: Ապօրինի աբորտ կատարելը | C26: 122
A27: 1.20 | B27: Մարդու իմունային անբավարարության վիրուսի հարուցիչով վարակելը | C27: 123
A28: 1.21 | B28: Վեներական հիվանդությամբ կամ այլ սեռավարակներով վարակելը | C28: 124
A29: 1.22 | B29: Փոխպատվաստման վիրահատություն կատարելու կանոնները խախտելը | C29: 125
A30: 1.24 | B30: Անձին առանց իր հանձնարարության բժշկական կամ գիտական փորձերի ենթարկելը | C30: 127
A31: 1.25 | B31: Վտանգի մեջ թողնելը | C31: 128
A32: 1.26 | B32: Հիվանդին օգնություն ցույց չտալը | C32: 129
A33: 1.27 | B33: Բժշկական օգնություն և սպասարկում իրականացնողների կողմից մասնագիտական պարտականությունները չկատարելը կամ ոչ պատշաճ կատարելը | C33: 130
A34: 1.28 | B34: Այլ հանցագործություններ
A35: 2. | B35: Ընդամենը անձի ազատության, պատվի և արժանապատվության դեմ ուղղված հանցագործությունները | D35: =SUM(D36:D43) -> 2 | E35: =SUM(E36:E43) -> 0 | F35: =SUM(F36:F43) -> 2 | G35: =SUM(G36:G43) -> 2 | H35: =SUM(H36:H43) -> 0 | I35: =SUM(I36:I43) -> 0 | J35: =SUM(J36:J43) -> 2 | K35: =SUM(K36:K43) -> 0 | ... T35: =SUM(T36:T43) -> 0
A36: 2.1 | B36: Մարդուն առևանգելը | C36: 131 | D36: 2 | F36: 1 | G36: 2 | J36: 2 | M36: 1 | P36: 1 | Q36: 1
A37: 2.2 | B37: Մարդու թրաֆիքինգը կամ շահագործումը | C37: 132
A38: 2.2.2 | B38: Երեխայի կամ հոգեկան խանգարման հետևանքով իր արարքի բնույթն ու նշանակությունը գիտակցելու կամ դա ղեկավարելու հնարավորությունից զրկված անձի թրաֆիքինգը կամ շահագործումը | C38: 132.2
A39: 2.2.3 | B39: Շահագործման վիճակում գտնվող անձի ծառայությունից օգտվելը | C39: 132.3
A40: 2.3 | B40: Ազատությունից ապօրինի զրկելը | C40: 133
...

Sheet Մալաթիա
A1: 2017թ. | D1: ՀԱՇՎԵՏՎՈՒԹՅՈՒՆ | N1: Հավելված Հայաստանի Հանրապետության Դատարանների նախագահների խորհրդի 29.01.2018թ. թիվ 10-Լ որոշման
A2: ԵՐԵՎԱՆ ՔԱՂԱՔԻ ՄԱԼԱԹԻԱ-ՍԵԲԱՍՏԻԱ ՎԱՐՉԱԿԱՆ ՇՐՋԱՆԻ ԸՆԴՀԱՆՈՒՐ ԻՐԱՎԱՍՈՒԹՅԱՆ ԱՌԱՋԻՆ ԱՏՅԱՆԻ ԴԱՏԱՐԱՆՈՒՄ ՔՐԵԱԿԱՆ ԳՈՐԾԵՐԻ ՔՆՆՈՒԹՅԱՆ ՎԵՐԱԲԵՐՅԱԼ
A3: Երևան քաղաքի Մալաթիա-Սեբաստիա վարչական շրջանի ընդհանուր իրավասության առաջին ատյանի դատարանում քրեական մասնագիտացում ունեցող դատավորների հաստիքների քանակը` 2
C4: ՀՀ քրեական օրենսգրքի հոդվածներ | D4: Հաշվետու ժամանակահատվածի սկզբում նախորդ հաշվետու ժամանակահատվածից փոխանցված գործերի ընդհանուր թիվը | E4: Այդ թվում` կասեցված վիճակում փոխանցված | F4: Հաշվետու ժամանակահատվածում ստացված գործերի ընդհանուր թիվը | G4: Հաշվետու ժամանակահատվածում ավարտված գործերի ընդհանուր թիվը | K4: Ուղարկվել է ըստ ընդդատության | L4: Հաշվետու ժամանակահատվածում կասեցված վարույթներով գործերի ընդհանուր թիվը | M4: Հաշվետու ժամանակահատվածում անավարտ գործերի ընդհանուր թիվը | N4: Այդ թվում՝ կասեցված | O4: Բողոքարկված դատական ակտերի թիվը` ըստ տեսակների | R4: Բեկանված դատական ակտերի թիվը` ըստ տեսակների
G5: Քննվել է ըստ էության և դատավճիռ կայացվել | H5: Որոշում է կայացվել քրեական գործի վարույթը կարճելու և քրեական հետապնդումը դադարեցնելու մասին | I5: Որոշում է կայացվել անմեղսունակների նկատմամբ բժշկական բնույթի հարկադրական միջոցներ կիրառելու մասին | J5: Ընդամենը ավարտվել են գործեր | O5: Այդ թվում` գործն ըստ էության լուծող դատական ակտերը | P5: Այդ թվում` միջանկյալ դատական ակտերը | Q5: Ընդամենը | R5: Այդ թվում` գործն ըստ էության լուծող դատական ակտերը | S5: Այդ թվում` միջանկյալ դատական ակտերը | T5: Ընդամենը
D6: 1 | E6: 2 | F6: 3 | G6: 4 | H6: 5 | I6: 6 | J6: 7 | K6: 8 | L6: 9 | M6: 10 | N6: 11 | O6: 12 | P6: 13 | Q6: 14 | R6: 15 | S6: 16 | T6: 17
A7: 1. | B7: Ընդամենը կյանքի և առողջության դեմ ուղղված հանցագործությունները | D7: =SUM(D8:D34) -> 8 | E7: =SUM(E8:E34) -> 1 | F7: =SUM(F8:F34) -> 8 | G7: =SUM(G8:G34) -> 5 | H7: =SUM(H8:H34) -> 2 | I7: =SUM(I8:I34) -> 0 | J7: =SUM(J8:J34) -> 7 | K7: =SUM(K8:K34) -> 0 | ... T7: =SUM(T8:T34) -> 1
A8: 1.1 | B8: Սպանությունը | C8: 104 | D8: 4 | E8: 1 | F8: 1 | G8: 2 | J8: 2 | M8: 3 | N8: 1 | O8: 2 | Q8: 2 | R8: 1 | T8: 1
A9: 1.2 | B9: Հոգեկան խիստ հուզմունքի վիճակում կատարված սպանությունը | C9: 105
A10: 1.3 | B10: Մոր կողմից նորածին երեխայի սպանությունը | C10: 106
A11: 1.4 | B11: Հանցանք կատարած անձին բռնելու համար անհրաժեշտ միջոցների սահմանազանցմամբ սպանությունը | C11: 107
A12: 1.5 | B12: Անհրաժեշտ պաշտպանության սահմանազանցմամբ սպանությունը | C12: 108
A13: 1.6 | B13: Անզգուշությամբ մահ պատճառելը | C13: 109
A14: 1.7 | B14: Ինքնասպանության հասցնելը | C14: 110
A15: 1.8 | B15: Ինքնասպանության հակելը | C15: 111
A16: 1.9 | B16: Դիտավորությամբ առողջությանը ծանր վնաս պատճառելը | C16: 112 | D16: 2 | F16: 3 | G16: 1 | J16: 1 | M16: 4 | O16: 2 | Q16: 2
A17: 1.10 | B17: Դիտավորությամբ առողջությանը միջին ծանրության վնաս պատճառելը | C17: 113 | D17: 1 | F17: 1 | H17: 1 | J17: 1 | M17: 1
A18: 1.11 | B18: Հոգեկան խիստ հուզմունքի վիճակում առողջությանը ծանր կամ միջին ծանրության վնաս պատճառելը | C18: 114
A19: 1.12 | B19: Հանցանք կատարած անձին բռնելու համար անհրաժեշտ միջոցների սահմանզանցմամբ առողջությանը ծանր կամ միջին ծանրության վնաս պատճառելը | C19: 115
A20: 1.13 | B20: Առողջությանը ծանր կամ միջին ծանրության վնաս պատճառելը անհրաժեշտ պաշտպանության սահմանանազանցմամբ | C20: 116
A21: 1.14 | B21: Դիտավորությամբ առողջությանը թեթև վնաս պատճառելը | C21: 117
A22: 1.15 | B22: Ծեծը | C22: 118 | D22: 1 | F22: 3 | G22: 2 | H22: 1 | J22: 3 | M22: 1
A23: 1.16 | B23: Ֆիզիկական ուժեղ ցավ կամ հոգեկան ուժեղ տառապանք պատճառելը | C23: 119
A24: 1.17 | B24: Անզգուշությամբ առողջությանը ծանր վնաս պատճառելը | C24: 120
A25: 1.18 | B25: Անզգուշությամբ առողջությանը միջին ծանրության վնաս պատճառելը | C25: 121
A26: 1.19 | B26: Ապօրինի աբորտ կատարելը | C26: 122
A27: 1.20 | B27: Մարդու իմունային անբավարարության վիրուսի հարուցիչով վարակելը | C27: 123
A28: 1.21 | B28: Վեներական հիվանդությամբ կամ այլ սեռավարակներով վարակելը | C28: 124
A29: 1.22 | B29: Փոխպատվաստման վիրահատություն կատարելու կանոնները խախտելը | C29: 125
A30: 1.24 | B30: Անձին առանց իր հանձնարարության բժշկական կամ գիտական փորձերի ենթարկելը | C30: 127
A31: 1.25 | B31: Վտանգի մեջ թողնելը | C31: 128
A32: 1.26 | B32: Հիվանդին օգնություն ցույց չտալը | C32: 129
A33: 1.27 | B33: Բժշկական օգնություն և սպասարկում իրականացնողների կողմից մասնագիտական պարտականությունները չկատարելը կամ ոչ պատշաճ կատարելը | C33: 130
A34: 1.28 | B34: Այլ հանցագործություններ
A35: 2. | B35: Ընդամենը անձի ազատության, պատվի և արժանապատվության դեմ ուղղված հանցագործությունները | D35: =SUM(D36:D43) -> 2 | E35: =SUM(E36:E43) -> 0 | F35: =SUM(F36:F43) -> 1 | G35: =SUM(G36:G43) -> 2 | H35: =SUM(H36:H43) -> 0 | I35: =SUM(I36:I43) -> 0 | J35: =SUM(J36:J43) -> 2 | K35: =SUM(K36:K43) -> 0 | ... T35: =SUM(T36:T43) -> 0
A36: 2.1 | B36: Մարդուն առևանգելը | C36: 131 | D36: 2 | G36: 2 | J36: 2 | O36: 2 | Q36: 2
A37: 2.2 | B37: Մարդու թրաֆիքինգը կամ շահագործումը | C37: 132
A38: 2.2.2 | B38: Երեխայի կամ հոգեկան խանգարման հետևանքով իր արարքի բնույթն ու նշանակությունը գիտակցելու կամ դա ղեկավարելու հնարավորությունից զրկված անձի թրաֆիքինգը կամ շահագործումը | C38: 132.2 | F38: 1 | M38: 1
A39: 2.2.3 | B39: Շահագործման վիճակում գտնվող անձի ծառայությունից օգտվելը | C39: 132.3
A40: 2.3 | B40: Ազատությունից ապօրինի զրկելը | C40: 133
...

Sheet Էրեբունի
A1: 2017թ. | D1: ՀԱՇՎԵՏՎՈՒԹՅՈՒՆ | N1: Հավելված Հայաստանի Հանրապետության Դատարանների նախագահների խորհրդի 29.01.2018թ. թիվ 10-Լ որոշման
A2: ԵՐԵՎԱՆ ՔԱՂԱՔԻ ԷՐԵԲՈւՆԻ ԵՎ ՆՈւԲԱՐԱՇԵՆ ՎԱՐՉԱԿԱՆ ՇՐՋԱՆՆԵՐԻ ԸՆԴՀԱՆՈՒՐ ԻՐԱՎԱՍՈՒԹՅԱՆ ԱՌԱՋԻՆ ԱՏՅԱՆԻ ԴԱՏԱՐԱՆՈՒՄ ՔՐԵԱԿԱՆ ԳՈՐԾԵՐԻ ՔՆՆՈՒԹՅԱՆ ՎԵՐԱԲԵՐՅԱԼ
A3: Երևան քաղաքի Էրեբունի և Նուբարաշեն վարչական շրջանների ընդհանուր իրավասության առաջին ատյանի դատարանում քրեական մասնագիտացում ունեցող դատավորների հաստիքների քանակը` 4
C4: ՀՀ քրեական օրենսգրքի հոդվածներ | D4: Հաշվետու ժամանակահատվածի սկզբում նախորդ հաշվետու ժամանակահատվածից փոխանցված գործերի ընդհանուր թիվը | E4: Այդ թվում` կասեցված վիճակում փոխանցված | F4: Հաշվետու ժամանակահատվածում ստացված գործերի ընդհանուր թիվը | G4: Հաշվետու ժամանակահատվածում ավարտված գործերի ընդհանուր թիվը | K4: Ուղարկվել է ըստ ընդդատության | L4: Հաշվետու ժամանակահատվածում կասեցված վարույթներով գործերի ընդհանուր թիվը | M4: Հաշվետու ժամանակահատվածում անավարտ գործերի ընդհանուր թիվը | N4: Այդ թվում՝ կասեցված | O4: Բողոքարկված դատական ակտերի թիվը` ըստ տեսակների | R4: Բեկանված դատական ակտերի թիվը` ըստ տեսակների
G5: Քննվել է ըստ էության և դատավճիռ կայացվել | H5: Որոշում է կայացվել քրեական գործի վարույթը կարճելու և քրեական հետապնդումը դադարեցնելու մասին | I5: Որոշում է կայացվել անմեղսունակների նկատմամբ բժշկական բնույթի հարկադրական միջոցներ կիրառելու մասին | J5: Ընդամենը ավարտվել են գործեր | O5: Այդ թվում` գործն ըստ էության լուծող դատական ակտերը | P5: Այդ թվում` միջանկյալ դատական ակտերը | Q5: Ընդամենը | R5: Այդ թվում` գործն ըստ էության լուծող դատական ակտերը | S5: Այդ թվում` միջանկյալ դատական ակտերը | T5: Ընդամենը
D6: 1 | E6: 2 | F6: 3 | G6: 4 | H6: 5 | I6: 6 | J6: 7 | K6: 8 | L6: 9 | M6: 10 | N6: 11 | O6: 12 | P6: 13 | Q6: 14 | R6: 15 | S6: 16 | T6: 17
A7: 1. | B7: Ընդամենը կյանքի և առողջության դեմ ուղղված հանցագործությունները | D7: =SUM(D8:D34) -> 7 | E7: =SUM(E8:E34) -> 0 | F7: =SUM(F8:F34) -> 21 | G7: =SUM(G8:G34) -> 8 | H7: =SUM(H8:H34) -> 0 | I7: =SUM(I8:I34) -> 1 | J7: =SUM(J8:J34) -> 9 | K7: =SUM(K8:K34) -> 1 | ... T7: =SUM(T8:T34) -> 0
A8: 1.1 | B8: Սպանությունը | C8: 104 | D8: 4 | F8: 1 | G8: 1 | J8: 1 | K8: 1 | M8: 3 | O8: 1 | Q8: 1
A9: 1.2 | B9: Հոգեկան խիստ հուզմունքի վիճակում կատարված սպանությունը | C9: 105
A10: 1.3 | B10: Մոր կողմից նորածին երեխայի սպանությունը | C10: 106
A11: 1.4 | B11: Հանցանք կատարած անձին բռնելու համար անհրաժեշտ միջոցների սահմանազանցմամբ սպանությունը | C11: 107
A12: 1.5 | B12: Անհրաժեշտ պաշտպանության սահմանազանցմամբ սպանությունը | C12: 108
A13: 1.6 | B13: Անզգուշությամբ մահ պատճառելը | C13: 109
A14: 1.7 | B14: Ինքնասպանության հասցնելը | C14: 110
A15: 1.8 | B15: Ինքնասպանության հակելը | C15: 111
A16: 1.9 | B16: Դիտավորությամբ առողջությանը ծանր վնաս պատճառելը | C16: 112 | D16: 2 | F16: 12 | G16: 5 | J16: 5 | M16: 9 | O16: 3 | P16: 1 | Q16: 4
A17: 1.10 | B17: Դիտավորությամբ առողջությանը միջին ծանրության վնաս պատճառելը | C17: 113
A18: 1.11 | B18: Հոգեկան խիստ հուզմունքի վիճակում առողջությանը ծանր կամ միջին ծանրության վնաս պատճառելը | C18: 114
A19: 1.12 | B19: Հանցանք կատարած անձին բռնելու համար անհրաժեշտ միջոցների սահմանզանցմամբ առողջությանը ծանր կամ միջին ծանրության վնաս պատճառելը | C19: 115
A20: 1.13 | B20: Առողջությանը ծանր կամ միջին ծանրության վնաս պատճառելը անհրաժեշտ պաշտպանության սահմանանազանցմամբ | C20: 116
A21: 1.14 | B21: Դիտավորությամբ առողջությանը թեթև վնաս պատճառելը | C21: 117 | F21: 3 | G21: 2 | J21: 2 | M21: 1
A22: 1.15 | B22: Ծեծը | C22: 118 | F22: 4 | M22: 4
A23: 1.16 | B23: Ֆիզիկական ուժեղ ցավ կամ հոգեկան ուժեղ տառապանք պատճառելը | C23: 119
A24: 1.17 | B24: Անզգուշությամբ առողջությանը ծանր վնաս պատճառելը | C24: 120 | F24: 1 | I24: 1 | J24: 1
A25: 1.18 | B25: Անզգուշությամբ առողջությանը միջին ծանրության վնաս պատճառելը | C25: 121
A26: 1.19 | B26: Ապօրինի աբորտ կատարելը | C26: 122
A27: 1.20 | B27: Մարդու իմունային անբավարարության վիրուսի հարուցիչով վարակելը | C27: 123
A28: 1.21 | B28: Վեներական հիվանդությամբ կամ այլ սեռավարակներով վարակելը | C28: 124
A29: 1.22 | B29: Փոխպատվաստման վիրահատություն կատարելու կանոնները խախտելը | C29: 125
A30: 1.24 | B30: Անձին առանց իր հանձնարարության բժշկական կամ գիտական փորձերի ենթարկելը | C30: 127
A31: 1.25 | B31: Վտանգի մեջ թողնելը | C31: 128
A32: 1.26 | B32: Հիվանդին օգնություն ցույց չտալը | C32: 129
A33: 1.27 | B33: Բժշկական օգնություն և սպասարկում իրականացնողների կողմից մասնագիտական պարտականությունները չկատարելը կամ ոչ պատշաճ կատարելը | C33: 130 | D33: 1 | M33: 1
A34: 1.28 | B34: Այլ հանցագործություններ
A35: 2. | B35: Ընդամենը անձի ազատության, պատվի և արժանապատվության դեմ ուղղված հանցագործությունները | D35: =SUM(D36:D43) -> 1 | E35: =SUM(E36:E43) -> 0 | F35: =SUM(F36:F43) -> 4 | G35: =SUM(G36:G43) -> 1 | H35: =SUM(H36:H43) -> 0 | I35: =SUM(I36:I43) -> 0 | J35: =SUM(J36:J43) -> 1 | K35: =SUM(K36:K43) -> 0 | ... T35: =SUM(T36:T43) -> 0
A36: 2.1 | B36: Մարդուն առևանգելը | C36: 131 | D36: 1 | F36: 2 | G36: 1 | J36: 1 | M36: 2 | O36: 1 | P36: 1 | Q36: 2
A37: 2.2 | B37: Մարդու թրաֆիքինգը կամ շահագործումը | C37: 132
A38: 2.2.2 | B38: Երեխայի կամ հոգեկան խանգարման հետևանքով իր արարքի բնույթն ու նշանակությունը գիտակցելու կամ դա ղեկավարելու հնարավորությունից զրկված անձի թրաֆիքինգը կամ շահագործումը | C38: 132.2
A39: 2.2.3 | B39: Շահագործման վիճակում գտնվող անձի ծառայությունից օգտվելը | C39: 132.3
A40: 2.3 | B40: Ազատությունից ապօրինի զրկելը | C40: 133
...

Sheet Շենգավիթ
A1: 2017թ. | D1: ՀԱՇՎԵՏՎՈՒԹՅՈՒՆ | N1: Հավելված Հայաստանի Հանրապետության Դատարանների նախագահների խորհրդի 29.01.2018թ. թիվ 10-Լ որոշման
A2: ԵՐԵՎԱՆ ՔԱՂԱՔԻ ՇԵՆԳԱՎԻԹ ՎԱՐՉԱԿԱՆ ՇՐՋԱՆԻ ԸՆԴՀԱՆՈՒՐ ԻՐԱՎԱՍՈՒԹՅԱՆ ԱՌԱՋԻՆ ԱՏՅԱՆԻ ԴԱՏԱՐԱՆՈՒՄ ՔՐԵԱԿԱՆ ԳՈՐԾԵՐԻ ՔՆՆՈՒԹՅԱՆ ՎԵՐԱԲԵՐՅԱԼ
A3: Երևան քաղաքի Շենգավիթ վարչական շրջանների ընդհանուր իրավասության առաջին ատյանի դատարանում քրեական մասնագիտացում ունեցող դատավորների հաստիքների քանակը` 3
C4: ՀՀ քրեական օրենսգրքի հոդվածներ | D4: Հաշվետու ժամանակահատվածի սկզբում նախորդ հաշվետու ժամանակահատվածից փոխանցված գործերի ընդհանուր թիվը | E4: Այդ թվում` կասեցված վիճակում փոխանցված | F4: Հաշվետու ժամանակահատվածում ստացված գործերի ընդհանուր թիվը | G4: Հաշվետու ժամանակահատվածում ավարտված գործերի ընդհանուր թիվը | K4: Ուղարկվել է ըստ ընդդատության | L4: Հաշվետու ժամանակահատվածում կասեցված վարույթներով գործերի ընդհանուր թիվը | M4: Հաշվետու ժամանակահատվածում անավարտ գործերի ընդհանուր թիվը | N4: Այդ թվում՝ կասեցված | O4: Բողոքարկված դատական ակտերի թիվը` ըստ տեսակների | R4: Բեկանված դատական ակտերի թիվը` ըստ տեսակների
G5: Քննվել է ըստ էության և դատավճիռ կայացվել | H5: Որոշում է կայացվել քրեական գործի վարույթը կարճելու և քրեական հետապնդումը դադարեցնելու մասին | I5: Որոշում է կայացվել անմեղսունակների նկատմամբ բժշկական բնույթի հարկադրական միջոցներ կիրառելու մասին | J5: Ընդամենը ավարտվել են գործեր | O5: Այդ թվում` գործն ըստ էության լուծող դատական ակտերը | P5: Այդ թվում` միջանկյալ դատական ակտերը | Q5: Ընդամենը | R5: Այդ թվում` գործն ըստ էության լուծող դատական ակտերը | S5: Այդ թվում` միջանկյալ դատական ակտերը | T5: Ընդամենը
D6: 1 | E6: 2 | F6: 3 | G6: 4 | H6: 5 | I6: 6 | J6: 7 | K6: 8 | L6: 9 | M6: 10 | N6: 11 | O6: 12 | P6: 13 | Q6: 14 | R6: 15 | S6: 16 | T6: 17
A7: 1. | B7: Ընդամենը կյանքի և առողջության դեմ ուղղված հանցագործությունները | D7: =SUM(D8:D34) -> 20 | E7: =SUM(E8:E34) -> 0 | F7: =SUM(F8:F34) -> 26 | G7: =SUM(G8:G34) -> 20 | H7: =SUM(H8:H34) -> 6 | I7: =SUM(I8:I34) -> 0 | J7: =SUM(J8:J34) -> 26 | K7: =SUM(K8:K34) -> 0 | ... T7: =SUM(T8:T34) -> 3
A8: 1.1 | B8: Սպանությունը | C8: 104 | D8: 3 | F8: 1 | G8: 1 | J8: 1 | M8: 3
A9: 1.2 | B9: Հոգեկան խիստ հուզմունքի վիճակում կատարված սպանությունը | C9: 105
A10: 1.3 | B10: Մոր կողմից նորածին երեխայի սպանությունը | C10: 106
A11: 1.4 | B11: Հանցանք կատարած անձին բռնելու համար անհրաժեշտ միջոցների սահմանազանցմամբ սպանությունը | C11: 107
A12: 1.5 | B12: Անհրաժեշտ պաշտպանության սահմանազանցմամբ սպանությունը | C12: 108
A13: 1.6 | B13: Անզգուշությամբ մահ պատճառելը | C13: 109 | F13: 1 | M13: 1
A14: 1.7 | B14: Ինքնասպանության հասցնելը | C14: 110
A15: 1.8 | B15: Ինքնասպանության հակելը | C15: 111
A16: 1.9 | B16: Դիտավորությամբ առողջությանը ծանր վնաս պատճառելը | C16: 112 | D16: 9 | F16: 9 | G16: 13 | J16: 13 | M16: 5 | O16: 8 | Q16: 8 | R16: 3 | T16: 3
A17: 1.10 | B17: Դիտավորությամբ առողջությանը միջին ծանրության վնաս պատճառելը | C17: 113 | F17: 3 | H17: 1 | J17: 1 | M17: 2
A18: 1.11 | B18: Հոգեկան խիստ հուզմունքի վիճակում առողջությանը ծանր կամ միջին ծանրության վնաս պատճառելը | C18: 114
A19: 1.12 | B19: Հանցանք կատարած անձին բռնելու համար անհրաժեշտ միջոցների սահմանզանցմամբ առողջությանը ծանր կամ միջին ծանրության վնաս պատճառելը | C19: 115
A20: 1.13 | B20: Առողջությանը ծանր կամ միջին ծանրության վնաս պատճառելը անհրաժեշտ պաշտպանության սահմանանազանցմամբ | C20: 116
A21: 1.14 | B21: Դիտավորությամբ առողջությանը թեթև վնաս պատճառելը | C21: 117 | D21: 1 | F21: 6 | G21: 1 | H21: 3 | J21: 4 | M21: 3
A22: 1.15 | B22: Ծեծը | C22: 118 | D22: 5 | F22: 5 | G22: 4 | H22: 2 | J22: 6 | M22: 3 | O22: 1 | Q22: 1
A23: 1.16 | B23: Ֆիզիկական ուժեղ ցավ կամ հոգեկան ուժեղ տառապանք պատճառելը | C23: 119 | F23: 1 | G23: 1 | J23: 1 | O23: 1 | Q23: 1
A24: 1.17 | B24: Անզգուշությամբ առողջությանը ծանր վնաս պատճառելը | C24: 120
A25: 1.18 | B25: Անզգուշությամբ առողջությանը միջին ծանրության վնաս պատճառելը | C25: 121
A26: 1.19 | B26: Ապօրինի աբորտ կատարելը | C26: 122
A27: 1.20 | B27: Մարդու իմունային անբավարարության վիրուսի հարուցիչով վարակելը | C27: 123
A28: 1.21 | B28: Վեներական հիվանդությամբ կամ այլ սեռավարակներով վարակելը | C28: 124
A29: 1.22 | B29: Փոխպատվաստման վիրահատություն կատարելու կանոնները խախտելը | C29: 125
A30: 1.24 | B30: Անձին առանց իր հանձնարարության բժշկական կամ գիտական փորձերի ենթարկելը | C30: 127
A31: 1.25 | B31: Վտանգի մեջ թողնելը | C31: 128
A32: 1.26 | B32: Հիվանդին օգնություն ցույց չտալը | C32: 129
A33: 1.27 | B33: Բժշկական օգնություն և սպասարկում իրականացնողների կողմից մասնագիտական պարտականությունները չկատարելը կամ ոչ պատշաճ կատարելը | C33: 130 | D33: 2 | M33: 2
A34: 1.28 | B34: Այլ հանցագործություններ
A35: 2. | B35: Ընդամենը անձի ազատության, պատվի և արժանապատվության դեմ ուղղված հանցագործությունները | D35: =SUM(D36:D43) -> 2 | E35: =SUM(E36:E43) -> 0 | F35: =SUM(F36:F43) -> 0 | G35: =SUM(G36:G43) -> 1 | H35: =SUM(H36:H43) -> 0 | I35: =SUM(I36:I43) -> 1 | J35: =SUM(J36:J43) -> 2 | K35: =SUM(K36:K43) -> 0 | ... T35: =SUM(T36:T43) -> 0
A36: 2.1 | B36: Մարդուն առևանգելը | C36: 131 | D36: 1 | G36: 1 | J36: 1 | O36: 1 | Q36: 1
A37: 2.2 | B37: Մարդու թրաֆիքինգը կամ շահագործումը | C37: 132
A38: 2.2.2 | B38: Երեխայի կամ հոգեկան խանգարման հետևանքով իր արարքի բնույթն ու նշանակությունը գիտակցելու կամ դա ղեկավարելու հնարավորությունից զրկված անձի թրաֆիքինգը կամ շահագործումը | C38: 132.2
A39: 2.2.3 | B39: Շահագործման վիճակում գտնվող անձի ծառայությունից օգտվելը | C39: 132.3
A40: 2.3 | B40: Ազատությունից ապօրինի զրկելը | C40: 133
...

Sheet Արաբկիր
A1: 2017թ. | D1: ՀԱՇՎԵՏՎՈՒԹՅՈՒՆ | N1: Հավելված Հայաստանի Հանրապետության Դատարանների նախագահների խորհրդի 29.01.2018թ. թիվ 10-Լ որոշման
A2: ԵՐԵՎԱՆ ՔԱՂԱՔԻ ԱՐԱԲԿԻՐ ԵՎ ՔԱՆԱՔԵՌ-ԶԵՅԹՈՒՆ ՎԱՐՉԱԿԱՆ ՇՐՋԱՆՆԵՐԻ ԸՆԴՀԱՆՈՒՐ ԻՐԱՎԱՍՈՒԹՅԱՆ ԱՌԱՋԻՆ ԱՏՅԱՆԻ ԴԱՏԱՐԱՆՈՒՄ ՔՐԵԱԿԱՆ ԳՈՐԾԵՐԻ ՔՆՆՈՒԹՅԱՆ ՎԵՐԱԲԵՐՅԱԼ
A3: Երևան քաղաքի Արաբկիր և Քանաքեռ-Զեյթուն վարչական շրջանների ընդհանուր իրավասության առաջին ատյանի դատարանում քրեական մասնագիտացում ունեցող դատավորների հաստիքների քանակը` 5
C4: ՀՀ քրեական օրենսգրքի հոդվածներ | D4: Հաշվետու ժամանակահատվածի սկզբում նախորդ հաշվետու ժամանակահատվածից փոխանցված գործերի ընդհանուր թիվը | E4: Այդ թվում` կասեցված վիճակում փոխանցված | F4: Հաշվետու ժամանակահատվածում ստացված գործերի ընդհանուր թիվը | G4: Հաշվետու ժամանակահատվածում ավարտված գործերի ընդհանուր թիվը | K4: Ուղարկվել է ըստ ընդդատության | L4: Հաշվետու ժամանակահատվածում կասեցված վարույթներով գործերի ընդհանուր թիվը | M4: Հաշվետու ժամանակահատվածում անավարտ գործերի ընդհանուր թիվը | N4: Այդ թվում՝ կասեցված | O4: Բողոքարկված դատական ակտերի թիվը` ըստ տեսակների | R4: Բեկանված դատական ակտերի թիվը` ըստ տեսակների
G5: Քննվել է ըստ էության և դատավճիռ կայացվել | H5: Որոշում է կայացվել քրեական գործի վարույթը կարճելու և քրեական հետապնդումը դադարեցնելու մասին | I5: Որոշում է կայացվել անմեղսունակների նկատմամբ բժշկական բնույթի հարկադրական միջոցներ կիրառելու մասին | J5: Ընդամենը ավարտվել են գործեր | O5: Այդ թվում` գործն ըստ էության լուծող դատական ակտերը | P5: Այդ թվում` միջանկյալ դատական ակտերը | Q5: Ընդամենը | R5: Այդ թվում` գործն ըստ էության լուծող դատական ակտերը | S5: Այդ թվում` միջանկյալ դատական ակտերը | T5: Ընդամենը
D6: 1 | E6: 2 | F6: 3 | G6: 4 | H6: 5 | I6: 6 | J6: 7 | K6: 8 | L6: 9 | M6: 10 | N6: 11 | O6: 12 | P6: 13 | Q6: 14 | R6: 15 | S6: 16 | T6: 17
A7: 1. | B7: Ընդամենը կյանքի և առողջության դեմ ուղղված հանցագործությունները | D7: =SUM(D8:D34) -> 31 | E7: =SUM(E8:E34) -> 0 | F7: =SUM(F8:F34) -> 29 | G7: =SUM(G8:G34) -> 25 | H7: =SUM(H8:H34) -> 4 | I7: =SUM(I8:I34) -> 2 | J7: =SUM(J8:J34) -> 31 | K7: =SUM(K8:K34) -> 0 | ... T7: =SUM(T8:T34) -> 0
A8: 1.1 | B8: Սպանությունը | C8: 104 | D8: 11 | F8: 3 | G8: 4 | I8: 1 | J8: 5 | M8: 9 | O8: 4 | Q8: 4
A9: 1.2 | B9: Հոգեկան խիստ հուզմունքի վիճակում կատարված սպանությունը | C9: 105
A10: 1.3 | B10: Մոր կողմից նորածին երեխայի սպանությունը | C10: 106
A11: 1.4 | B11: Հանցանք կատարած անձին բռնելու համար անհրաժեշտ միջոցների սահմանազանցմամբ սպանությունը | C11: 107
A12: 1.5 | B12: Անհրաժեշտ պաշտպանության սահմանազանցմամբ սպանությունը | C12: 108
A13: 1.6 | B13: Անզգուշությամբ մահ պատճառելը | C13: 109
A14: 1.7 | B14: Ինքնասպանության հասցնելը | C14: 110
A15: 1.8 | B15: Ինքնասպանության հակելը | C15: 111
A16: 1.9 | B16: Դիտավորությամբ առողջությանը ծանր վնաս պատճառելը | C16: 112 | D16: 8 | F16: 7 | G16: 9 | J16: 9 | M16: 6 | O16: 3 | Q16: 3
A17: 1.10 | B17: Դիտավորությամբ առողջությանը միջին ծանրության վնաս պատճառելը | C17: 113 | D17: 2 | F17: 3 | G17: 2 | J17: 2 | M17: 3 | O17: 1 | Q17: 1
A18: 1.11 | B18: Հոգեկան խիստ հուզմունքի վիճակում առողջությանը ծանր կամ միջին ծանրության վնաս պատճառելը | C18: 114
A19: 1.12 | B19: Հանցանք կատարած անձին բռնելու համար անհրաժեշտ միջոցների սահմանզանցմամբ առողջությանը ծանր կամ միջին ծանրության վնաս պատճառելը | C19: 115
A20: 1.13 | B20: Առողջությանը ծանր կամ միջին ծանրության վնաս պատճառելը անհրաժեշտ պաշտպանության սահմանանազանցմամբ | C20: 116
A21: 1.14 | B21: Դիտավորությամբ առողջությանը թեթև վնաս պատճառելը | C21: 117 | D21: 3 | F21: 9 | G21: 6 | H21: 2 | I21: 1 | J21: 9 | M21: 3 | O21: 2 | Q21: 2
A22: 1.15 | B22: Ծեծը | C22: 118 | D22: 6 | F22: 4 | G22: 3 | H22: 2 | J22: 5 | M22: 5 | O22: 2 | Q22: 2
A23: 1.16 | B23: Ֆիզիկական ուժեղ ցավ կամ հոգեկան ուժեղ տառապանք պատճառելը | C23: 119 | F23: 1 | M23: 1
A24: 1.17 | B24: Անզգուշությամբ առողջությանը ծանր վնաս պատճառելը | C24: 120 | F24: 1 | G24: 1 | J24: 1
A25: 1.18 | B25: Անզգուշությամբ առողջությանը միջին ծանրության վնաս պատճառելը | C25: 121
A26: 1.19 | B26: Ապօրինի աբորտ կատարելը | C26: 122
A27: 1.20 | B27: Մարդու իմունային անբավարարության վիրուսի հարուցիչով վարակելը | C27: 123
A28: 1.21 | B28: Վեներական հիվանդությամբ կամ այլ սեռավարակներով վարակելը | C28: 124
A29: 1.22 | B29: Փոխպատվաստման վիրահատություն կատարելու կանոնները խախտելը | C29: 125
A30: 1.24 | B30: Անձին առանց իր հանձնարարության բժշկական կամ գիտական փորձերի ենթարկելը | C30: 127
A31: 1.25 | B31: Վտանգի մեջ թողնելը | C31: 128
A32: 1.26 | B32: Հիվանդին օգնություն ցույց չտալը | C32: 129
A33: 1.27 | B33: Բժշկական օգնություն և սպասարկում իրականացնողների կողմից մասնագիտական պարտականությունները չկատարելը կամ ոչ պատշաճ կատարելը | C33: 130 | D33: 1 | F33: 1 | M33: 2
A34: 1.28 | B34: Այլ հանցագործություններ
A35: 2. | B35: Ընդամենը անձի ազատության, պատվի և արժանապատվության դեմ ուղղված հանցագործությունները | D35: =SUM(D36:D43) -> 5 | E35: =SUM(E36:E43) -> 0 | F35: =SUM(F36:F43) -> 7 | G35: =SUM(G36:G43) -> 5 | H35: =SUM(H36:H43) -> 0 | I35: =SUM(I36:I43) -> 4 | J35: =SUM(J36:J43) -> 9 | K35: =SUM(K36:K43) -> 0 | ... T35: =SUM(T36:T43) -> 0
A36: 2.1 | B36: Մարդուն առևանգելը | C36: 131 | F36: 4 | G36: 2 | J36: 2 | M36: 2 | O36: 1 | Q36: 1
A37: 2.2 | B37: Մարդու թրաֆիքինգը կամ շահագործումը | C37: 132
A38: 2.2.2 | B38: Երեխայի կամ հոգեկան խանգարման հետևանքով իր արարքի բնույթն ու նշանակությունը գիտակցելու կամ դա ղեկավարելու հնարավորությունից զրկված անձի թրաֆիքինգը կամ շահագործումը | C38: 132.2
A39: 2.2.3 | B39: Շահագործման վիճակում գտնվող անձի ծառայությունից օգտվելը | C39: 132.3
A40: 2.3 | B40: Ազատությունից ապօրինի զրկելը | C40: 133 | D40: 1 | I40: 1 | J40: 1
...

Sheet Կոտայք
A1: 2017թ. | D1: ՀԱՇՎԵՏՎՈՒԹՅՈՒՆ | N1: Հավելված Հայաստանի Հանրապետության Դատարանների նախագահների խորհրդի 29.01.2018թ. թիվ 10-Լ որոշման
A2: ՀՀ ԿՈՏԱՅՔԻ ՄԱՐԶԻ ԸՆԴՀԱՆՈՒՐ ԻՐԱՎԱՍՈՒԹՅԱՆ ԱՌԱՋԻՆ ԱՏՅԱՆԻ ԴԱՏԱՐԱՆՈՒՄ ՔՐԵԱԿԱՆ ԳՈՐԾԵՐԻ ՔՆՆՈՒԹՅԱՆ ՎԵՐԱԲԵՐՅԱԼ
A3: ՀՀ Կոտայքի մարզի ընդհանուր իրավասության առաջին ատյանի դատարանում քրեական մասնագիտացում ունեցող դատավորների հաստիքների քանակը` 4
C4: ՀՀ քրեական օրենսգրքի հոդվածներ | D4: Հաշվետու ժամանակահատվածի սկզբում նախորդ հաշվետու ժամանակահատվածից փոխանցված գործերի ընդհանուր թիվը | E4: Այդ թվում` կասեցված վիճակում փոխանցված | F4: Հաշվետու ժամանակահատվածում ստացված գործերի ընդհանուր թիվը | G4: Հաշվետու ժամանակահատվածում ավարտված գործերի ընդհանուր թիվը | K4: Ուղարկվել է ըստ ընդդատության | L4: Հաշվետու ժամանակահատվածում կասեցված վարույթներով գործերի ընդհանուր թիվը | M4: Հաշվետու ժամանակահատվածում անավարտ գործերի ընդհանուր թիվը | N4: Այդ թվում՝ կասեցված | O4: Բողոքարկված դատական ակտերի թիվը` ըստ տեսակների | R4: Բեկանված դատական ակտերի թիվը` ըստ տեսակների
G5: Քննվել է ըստ էության և դատավճիռ կայացվել | H5: Որոշում է կայացվել քրեական գործի վարույթը կարճելու և քրեական հետապնդումը դադարեցնելու մասին | I5: Որոշում է կայացվել անմեղսունակների նկատմամբ բժշկական բնույթի հարկադրական միջոցներ կիրառելու մասին | J5: Ընդամենը ավարտվել են գործեր | O5: Այդ թվում` գործն ըստ էության լուծող դատական ակտերը | P5: Այդ թվում` միջանկյալ դատական ակտերը | Q5: Ընդամենը | R5: Այդ թվում` գործն ըստ էության լուծող դատական ակտերը | S5: Այդ թվում` միջանկյալ դատական ակտերը | T5: Ընդամենը
D6: 1 | E6: 2 | F6: 3 | G6: 4 | H6: 5 | I6: 6 | J6: 7 | K6: 8 | L6: 9 | M6: 10 | N6: 11 | O6: 12 | P6: 13 | Q6: 14 | R6: 15 | S6: 16 | T6: 17
A7: 1. | B7: Ընդամենը կյանքի և առողջության դեմ ուղղված հանցագործությունները | D7: =SUM(D8:D34) -> 21 | E7: =SUM(E8:E34) -> 1 | F7: =SUM(F8:F34) -> 42 | G7: =SUM(G8:G34) -> 23 | H7: =SUM(H8:H34) -> 11 | I7: =SUM(I8:I34) -> 2 | J7: =SUM(J8:J34) -> 36 | K7: =SUM(K8:K34) -> 0 | ... T7: =SUM(T8:T34) -> 2
A8: 1.1 | B8: Սպանությունը | C8: 104 | D8: 8 | F8: 4 | G8: 4 | I8: 1 | J8: 5 | M8: 7 | O8: 3 | Q8: 3
A9: 1.2 | B9: Հոգեկան խիստ հուզմունքի վիճակում կատարված սպանությունը | C9: 105
A10: 1.3 | B10: Մոր կողմից նորածին երեխայի սպանությունը | C10: 106 | F10: 1 | G10: 1 | J10: 1
A11: 1.4 | B11: Հանցանք կատարած անձին բռնելու համար անհրաժեշտ միջոցների սահմանազանցմամբ սպանությունը | C11: 107
A12: 1.5 | B12: Անհրաժեշտ պաշտպանության սահմանազանցմամբ սպանությունը | C12: 108
A13: 1.6 | B13: Անզգուշությամբ մահ պատճառելը | C13: 109 | F13: 1 | H13: 1 | J13: 1
A14: 1.7 | B14: Ինքնասպանության հասցնելը | C14: 110
A15: 1.8 | B15: Ինքնասպանության հակելը | C15: 111
A16: 1.9 | B16: Դիտավորությամբ առողջությանը ծանր վնաս պատճառելը | C16: 112 | D16: 5 | F16: 13 | G16: 8 | J16: 8 | M16: 10 | O16: 8 | Q16: 8 | R16: 2 | T16: 2
A17: 1.10 | B17: Դիտավորությամբ առողջությանը միջին ծանրության վնաս պատճառելը | C17: 113 | D17: 1 | F17: 3 | G17: 1 | H17: 2 | J17: 3 | O17: 1 | Q17: 1
A18: 1.11 | B18: Հոգեկան խիստ հուզմունքի վիճակում առողջությանը ծանր կամ միջին ծանրության վնաս պատճառելը | C18: 114
A19: 1.12 | B19: Հանցանք կատարած անձին բռնելու համար անհրաժեշտ միջոցների սահմանզանցմամբ առողջությանը ծանր կամ միջին ծանրության վնաս պատճառելը | C19: 115
A20: 1.13 | B20: Առողջությանը ծանր կամ միջին ծանրության վնաս պատճառելը անհրաժեշտ պաշտպանության սահմանանազանցմամբ | C20: 116
A21: 1.14 | B21: Դիտավորությամբ առողջությանը թեթև վնաս պատճառելը | C21: 117 | D21: 2 | E21: 1 | F21: 2 | G21: 1 | H21: 1 | J21: 2 | M21: 2 | N21: 1
A22: 1.15 | B22: Ծեծը | C22: 118 | D22: 5 | F22: 16 | G22: 8 | H22: 7 | I22: 1 | J22: 16 | M22: 5
A23: 1.16 | B23: Ֆիզիկական ուժեղ ցավ կամ հոգեկան ուժեղ տառապանք պատճառելը | C23: 119 | F23: 1 | M23: 1
A24: 1.17 | B24: Անզգուշությամբ առողջությանը ծանր վնաս պատճառելը | C24: 120 | F24: 1 | M24: 1
A25: 1.18 | B25: Անզգուշությամբ առողջությանը միջին ծանրության վնաս պատճառելը | C25: 121
A26: 1.19 | B26: Ապօրինի աբորտ կատարելը | C26: 122
A27: 1.20 | B27: Մարդու իմունային անբավարարության վիրուսի հարուցիչով վարակելը | C27: 123
A28: 1.21 | B28: Վեներական հիվանդությամբ կամ այլ սեռավարակներով վարակելը | C28: 124
A29: 1.22 | B29: Փոխպատվաստման վիրահատություն կատարելու կանոնները խախտելը | C29: 125
A30: 1.24 | B30: Անձին առանց իր հանձնարարության բժշկական կամ գիտական փորձերի ենթարկելը | C30: 127
A31: 1.25 | B31: Վտանգի մեջ թողնելը | C31: 128
A32: 1.26 | B32: Հիվանդին օգնություն ցույց չտալը | C32: 129
A33: 1.27 | B33: Բժշկական օգնություն և սպասարկում իրականացնողների կողմից մասնագիտական պարտականությունները չկատարելը կամ ոչ պատշաճ կատարելը | C33: 130
A34: 1.28 | B34: Այլ հանցագործություններ
A35: 2. | B35: Ընդամենը անձի ազատության, պատվի և արժանապատվության դեմ ուղղված հանցագործությունները | D35: =SUM(D36:D43) -> 3 | E35: =SUM(E36:E43) -> 0 | F35: =SUM(F36:F43) -> 4 | G35: =SUM(G36:G43) -> 2 | H35: =SUM(H36:H43) -> 0 | I35: =SUM(I36:I43) -> 1 | J35: =SUM(J36:J43) -> 3 | K35: =SUM(K36:K43) -> 0 | ... T35: =SUM(T36:T43) -> 0
A36: 2.1 | B36: Մարդուն առևանգելը | C36: 131 | D36: 1 | F36: 1 | G36: 1 | J36: 1 | M36: 1
A37: 2.2 | B37: Մարդու թրաֆիքինգը կամ շահագործումը | C37: 132 | D37: 1 | G37: 1 | J37: 1 | O37: 1 | Q37: 1
