Workbook

Sheet Ընդամենը
A1: 2017Ã. 1-ÇÝ Ïë³ÙÛ³Ï | D1: Ð²ÞìºîìàôÂÚàôÜ | P1: Ð³í»Éí³Í Ð³Û³ëï³ÝÇ Ð³Ýñ³å»ïáõÃÛ³Ý ¸³ï³ñ³ÝÝ»ñÇ Ý³Ë³·³ÑÝ»ñÇ ËáñÑñ¹Ç 25.08.2017Ã. ÃÇí 35-È áñáßÙ³Ý
A2: ØÇÝã¹³ï³Ï³Ý í³ñáõÛÃÇ ÝÏ³ïÙ³Ùµ ¹³ï³Ï³Ý í»ñ³ÑëÏáÕáõÃÛ³ÝÁ, ¹³ï³Ï³Ý ³Ïï»ñÇ ¨ ¹³ï³Ï³Ý Ñ³ÝÓÝ³ñ³ñáõÃÛáõÝÝ»ñÇ Ï³ï³ñÙ³Ý Ñ»ï Ï³åí³Í ÙÇçÝáñ¹áõÃÛáõÝÝ»ñÇ í»ñ³µ»ñÛ³É ¹³ï³Ï³Ý ·áñÍ»ñáí ÐÐ ²ñ³ñ³ïÇ ¨ ì³Ûáó ÓáñÇ Ù³ñ½»ñÇ ÁÝ¹Ñ³Ýáõñ Çñ³í³ëáõÃÛ³Ý ³é³çÇÝ ³ïÛ³ÝÇ ¹³ï³ñ³ÝÇ ·áñÍáõÝ»áõÃÛ³Ý í»ñ³µ»ñÛ³É
D3: Ð³ßí»ïáõ Å³Ù³Ý³Ï³Ñ³ïí³ÍÇ ëÏ½µáõÙ Ý³Ëáñ¹ Ñ³ßí»ïáõ Å³Ù³Ý³Ï³Ñ³ïí³ÍÇó ÷áË³Ýóí³Í ·áñÍ»ñÇ ÁÝ¹Ñ³Ýáõñ ÃÇíÁ | E3: Ð³ßí»ïáõ Å³Ù³Ý³Ï³Ñ³ïí³ÍáõÙ ëï³óí³Í ·áñÍ»ñÇ ÁÝ¹Ñ³Ýáõñ ÃÇíÁ | F3: öáË³Ýóí»É ¿ ³ÛÉ ¹³ï³íáñÇ Ï³Ù ³ÛÉ ¹³ï³ñ³Ý (Ï³½ÙÇ ÷á÷áËáõÃÛáõÝ, ÁÝ¹¹³ïáõÃÛáõÝ) | G3: Ð³ßí»ïáõ Å³Ù³Ý³Ï³Ñ³ïí³ÍáõÙ ³í³ñïí³Í ·áñÍ»ñÇ ÁÝ¹Ñ³Ýáõñ ÃÇíÁ | L3: Ð³ßí»ïáõ Å³Ù³Ý³Ï³Ñ³ïí³ÍáõÙ ³Ý³í³ñï ·áñÍ»ñÇ ÁÝ¹Ñ³Ýáõñ ÃÇíÁ | M3: ØÇçÝáñ¹áõÃÛáõÝÝ»ñáí Ï³Û³óí³Í ¹³ï³Ï³Ý ³Ïï»ñÇó µáÕáù³ñÏí³ÍÝ»ñÇ ù³Ý³ÏÁ | O3: ²Ý³í³ñï µáÕáùÝ»ñ | P3: ØÇçÝáñ¹áõÃÛáõÝÝ»ñáí Ï³Û³óí³Í ¨ µáÕáù³ñÏí³Í ¹³ï³Ï³Ý ³Ïï»ñÇó µ»Ï³Ýí³ÍÝ»ñÇ ù³Ý³ÏÁ | R3: ÙÇçÝáñ¹áõÃÛáõÝÝ»ñáí Ï³Û³óí³Í ¨ µáÕáù³ñÏí³Í ¹³ï³Ï³Ý ³Ïï»ñÇó ³Ý÷á÷áË ÃáÕÝí³ÍÝ»ñÇ ù³Ý³ÏÁ
G4: Ù»ñÅí»É ¿ | H4: µ³í³ñ³ñí»É ¿ | I4: µ³í³ñ³ñí»É ¿ Ù³ëÝ³ÏÇ | J4: ÃáÕÝí»É ¿ ³é³Ýó ùÝÝáõÃÛ³Ý | K4: ÀÝ¹³Ù»ÝÁ
M5: Ý³Ëáñ¹ ï³ñÇÝ»ñÇÝ Ï³Û³óí³Í ³Ïï»ñÇ ¹»Ù | N5: Ñ³ßí»ïáõ Å³Ù³Ý³Ï³ßñç³ÝáõÙ Ï³Û³óí³Í ³Ïï»ñÇ ¹»Ù | P5: Ý³Ëáñ¹ ï³ñÇÝ»ñÇÝ Ï³Û³óí³Í ³Ïï»ñÇ µ»Ï³ÝáõÙÝ»ñÁ | Q5: Ñ³ßí»ïáõ Å³Ù³Ý³Ï³ßñç³ÝáõÙ Ï³Û³óí³Í ³Ïï»ñÇ µ»Ï³ÝáõÙÝ»ñÁ
A6: 1. ØÇÝã¹³ï³Ï³Ý í³ñáõÛÃÇ ÝÏ³ïÙ³Ùµ ¹³ï³Ï³Ý í»ñ³ÑëÏáÕáõÃÛ³Ý áÉáñï | D6: 1 | E6: 2 | F6: 3 | G6: 4 | H6: 5 | I6: 6 | J6: 7 | K6: 8 | L6: 9 | M6: 10 | N6: 11 | O6: 12 | P6: 13 | Q6: 14 | R6: 15 | T6: 1+2=3+8+9 | V6: 8=4+5+6+7
A7: 1 | B7: Ï³É³ÝùÁ áñå»ë Ë³÷³ÝÙ³Ý ÙÇçáó ÏÇñ³é»Éáõ Ù³ëÇÝ ÙÇçÝáñ¹áõÃÛáõÝÝ»ñ | D7: ='Հ. ՊԵՏՐՈՍՅԱՆ'!D7+'Լ. ԱՐԱԶՅԱՆ'!D7+'Թ. ՊՈՂՈՍՅԱՆ'!D7+'Ռ. ՄԽԻԹԱՐՅԱՆ'!D7+'Գ. ՍԱՐԳՍՅԱՆ'!D7+'Ա. ՀՈՎՀԱՆՆԻՍՅԱՆ'!D7+'Հ. ԴԱՐԲԻՆՅԱՆ'!D7+'Գ. ԲԱԼՅԱՆ'!D7+'Ե. ՔՈՉԱՐՅԱՆ'!D7+'Գ. ՀՈՎՀԱՆՆԻՍՅԱՆ'!D7+'Ս. ՍԱՀԱԿՅԱՆ'!D7+'Ս. ՄԱՏԻՆՅԱՆ'!D7 -> 0 | E7: ='Հ. ՊԵՏՐՈՍՅԱՆ'!E7+'Լ. ԱՐԱԶՅԱՆ'!E7+'Թ. ՊՈՂՈՍՅԱՆ'!E7+'Ռ. ՄԽԻԹԱՐՅԱՆ'!E7+'Գ. ՍԱՐԳՍՅԱՆ'!E7+'Ա. ՀՈՎՀԱՆՆԻՍՅԱՆ'!E7+'Հ. ԴԱՐԲԻՆՅԱՆ'!E7+'Գ. ԲԱԼՅԱՆ'!E7+'Ե. ՔՈՉԱՐՅԱՆ'!E7+'Գ. ՀՈՎՀԱՆՆԻՍՅԱՆ'!E7+'Ս. ՍԱՀԱԿՅԱՆ'!E7+'Ս. ՄԱՏԻՆՅԱՆ'!E7 -> 65 | F7: ='Հ. ՊԵՏՐՈՍՅԱՆ'!F7+'Լ. ԱՐԱԶՅԱՆ'!F7+'Թ. ՊՈՂՈՍՅԱՆ'!F7+'Ռ. ՄԽԻԹԱՐՅԱՆ'!F7+'Գ. ՍԱՐԳՍՅԱՆ'!F7+'Ա. ՀՈՎՀԱՆՆԻՍՅԱՆ'!F7+'Հ. ԴԱՐԲԻՆՅԱՆ'!F7+'Գ. ԲԱԼՅԱՆ'!F7+'Ե. ՔՈՉԱՐՅԱՆ'!F7+'Գ. ՀՈՎՀԱՆՆԻՍՅԱՆ'!F7+'Ս. ՍԱՀԱԿՅԱՆ'!F7+'Ս. ՄԱՏԻՆՅԱՆ'!F7 -> 0 | G7: ='Հ. ՊԵՏՐՈՍՅԱՆ'!G7+'Լ. ԱՐԱԶՅԱՆ'!G7+'Թ. ՊՈՂՈՍՅԱՆ'!G7+'Ռ. ՄԽԻԹԱՐՅԱՆ'!G7+'Գ. ՍԱՐԳՍՅԱՆ'!G7+'Ա. ՀՈՎՀԱՆՆԻՍՅԱՆ'!G7+'Հ. ԴԱՐԲԻՆՅԱՆ'!G7+'Գ. ԲԱԼՅԱՆ'!G7+'Ե. ՔՈՉԱՐՅԱՆ'!G7+'Գ. ՀՈՎՀԱՆՆԻՍՅԱՆ'!G7+'Ս. ՍԱՀԱԿՅԱՆ'!G7+'Ս. ՄԱՏԻՆՅԱՆ'!G7 -> 0 | H7: ='Հ. ՊԵՏՐՈՍՅԱՆ'!H7+'Լ. ԱՐԱԶՅԱՆ'!H7+'Թ. ՊՈՂՈՍՅԱՆ'!H7+'Ռ. ՄԽԻԹԱՐՅԱՆ'!H7+'Գ. ՍԱՐԳՍՅԱՆ'!H7+'Ա. ՀՈՎՀԱՆՆԻՍՅԱՆ'!H7+'Հ. ԴԱՐԲԻՆՅԱՆ'!H7+'Գ. ԲԱԼՅԱՆ'!H7+'Ե. ՔՈՉԱՐՅԱՆ'!H7+'Գ. ՀՈՎՀԱՆՆԻՍՅԱՆ'!H7+'Ս. ՍԱՀԱԿՅԱՆ'!H7+'Ս. ՄԱՏԻՆՅԱՆ'!H7 -> 65 | I7: ='Հ. ՊԵՏՐՈՍՅԱՆ'!I7+'Լ. ԱՐԱԶՅԱՆ'!I7+'Թ. ՊՈՂՈՍՅԱՆ'!I7+'Ռ. ՄԽԻԹԱՐՅԱՆ'!I7+'Գ. ՍԱՐԳՍՅԱՆ'!I7+'Ա. ՀՈՎՀԱՆՆԻՍՅԱՆ'!I7+'Հ. ԴԱՐԲԻՆՅԱՆ'!I7+'Գ. ԲԱԼՅԱՆ'!I7+'Ե. ՔՈՉԱՐՅԱՆ'!I7+'Գ. ՀՈՎՀԱՆՆԻՍՅԱՆ'!I7+'Ս. ՍԱՀԱԿՅԱՆ'!I7+'Ս. ՄԱՏԻՆՅԱՆ'!I7 -> 0 | J7: ='Հ. ՊԵՏՐՈՍՅԱՆ'!J7+'Լ. ԱՐԱԶՅԱՆ'!J7+'Թ. ՊՈՂՈՍՅԱՆ'!J7+'Ռ. ՄԽԻԹԱՐՅԱՆ'!J7+'Գ. ՍԱՐԳՍՅԱՆ'!J7+'Ա. ՀՈՎՀԱՆՆԻՍՅԱՆ'!J7+'Հ. ԴԱՐԲԻՆՅԱՆ'!J7+'Գ. ԲԱԼՅԱՆ'!J7+'Ե. ՔՈՉԱՐՅԱՆ'!J7+'Գ. ՀՈՎՀԱՆՆԻՍՅԱՆ'!J7+'Ս. ՍԱՀԱԿՅԱՆ'!J7+'Ս. ՄԱՏԻՆՅԱՆ'!J7 -> 0 | K7: ='Հ. ՊԵՏՐՈՍՅԱՆ'!K7+'Լ. ԱՐԱԶՅԱՆ'!K7+'Թ. ՊՈՂՈՍՅԱՆ'!K7+'Ռ. ՄԽԻԹԱՐՅԱՆ'!K7+'Գ. ՍԱՐԳՍՅԱՆ'!K7+'Ա. ՀՈՎՀԱՆՆԻՍՅԱՆ'!K7+'Հ. ԴԱՐԲԻՆՅԱՆ'!K7+'Գ. ԲԱԼՅԱՆ'!K7+'Ե. ՔՈՉԱՐՅԱՆ'!K7+'Գ. ՀՈՎՀԱՆՆԻՍՅԱՆ'!K7+'Ս. ՍԱՀԱԿՅԱՆ'!K7+'Ս. ՄԱՏԻՆՅԱՆ'!K7 -> 65 | ... S7: ='Հ. ՊԵՏՐՈՍՅԱՆ'!S7+'Լ. ԱՐԱԶՅԱՆ'!S7+'Թ. ՊՈՂՈՍՅԱՆ'!S7+'Ռ. ՄԽԻԹԱՐՅԱՆ'!S7+'Գ. ՍԱՐԳՍՅԱՆ'!S7+'Ա. ՀՈՎՀԱՆՆԻՍՅԱՆ'!S7+'Հ. ԴԱՐԲԻՆՅԱՆ'!S7+'Գ. ԲԱԼՅԱՆ'!S7+'Ե. ՔՈՉԱՐՅԱՆ'!S7+'Գ. ՀՈՎՀԱՆՆԻՍՅԱՆ'!S7+'Ս. ՍԱՀԱԿՅԱՆ'!S7+'Ս. ՄԱՏԻՆՅԱՆ'!S7 -> 0 | T7: =D7+E7 -> 65 | U7: =F7+K7+L7 -> 65 | V7: =K7 -> 65 | W7: =G7+H7+I7+J7 -> 65
A8: 2 | B8: Ï³É³ÝùÇ Å³ÙÏ»ïÁ »ñÏ³ñ³óÝ»Éáõ Ù³ëÇÝ ÙÇçÝáñ¹áõÃÛáõÝÝ»ñ | D8: ='Հ. ՊԵՏՐՈՍՅԱՆ'!D8+'Լ. ԱՐԱԶՅԱՆ'!D8+'Թ. ՊՈՂՈՍՅԱՆ'!D8+'Ռ. ՄԽԻԹԱՐՅԱՆ'!D8+'Գ. ՍԱՐԳՍՅԱՆ'!D8+'Ա. ՀՈՎՀԱՆՆԻՍՅԱՆ'!D8+'Հ. ԴԱՐԲԻՆՅԱՆ'!D8+'Գ. ԲԱԼՅԱՆ'!D8+'Ե. ՔՈՉԱՐՅԱՆ'!D8+'Գ. ՀՈՎՀԱՆՆԻՍՅԱՆ'!D8+'Ս. ՍԱՀԱԿՅԱՆ'!D8+'Ս. ՄԱՏԻՆՅԱՆ'!D8 -> 0 | E8: ='Հ. ՊԵՏՐՈՍՅԱՆ'!E8+'Լ. ԱՐԱԶՅԱՆ'!E8+'Թ. ՊՈՂՈՍՅԱՆ'!E8+'Ռ. ՄԽԻԹԱՐՅԱՆ'!E8+'Գ. ՍԱՐԳՍՅԱՆ'!E8+'Ա. ՀՈՎՀԱՆՆԻՍՅԱՆ'!E8+'Հ. ԴԱՐԲԻՆՅԱՆ'!E8+'Գ. ԲԱԼՅԱՆ'!E8+'Ե. ՔՈՉԱՐՅԱՆ'!E8+'Գ. ՀՈՎՀԱՆՆԻՍՅԱՆ'!E8+'Ս. ՍԱՀԱԿՅԱՆ'!E8+'Ս. ՄԱՏԻՆՅԱՆ'!E8 -> 15 | F8: ='Հ. ՊԵՏՐՈՍՅԱՆ'!F8+'Լ. ԱՐԱԶՅԱՆ'!F8+'Թ. ՊՈՂՈՍՅԱՆ'!F8+'Ռ. ՄԽԻԹԱՐՅԱՆ'!F8+'Գ. ՍԱՐԳՍՅԱՆ'!F8+'Ա. ՀՈՎՀԱՆՆԻՍՅԱՆ'!F8+'Հ. ԴԱՐԲԻՆՅԱՆ'!F8+'Գ. ԲԱԼՅԱՆ'!F8+'Ե. ՔՈՉԱՐՅԱՆ'!F8+'Գ. ՀՈՎՀԱՆՆԻՍՅԱՆ'!F8+'Ս. ՍԱՀԱԿՅԱՆ'!F8+'Ս. ՄԱՏԻՆՅԱՆ'!F8 -> 1 | G8: ='Հ. ՊԵՏՐՈՍՅԱՆ'!G8+'Լ. ԱՐԱԶՅԱՆ'!G8+'Թ. ՊՈՂՈՍՅԱՆ'!G8+'Ռ. ՄԽԻԹԱՐՅԱՆ'!G8+'Գ. ՍԱՐԳՍՅԱՆ'!G8+'Ա. ՀՈՎՀԱՆՆԻՍՅԱՆ'!G8+'Հ. ԴԱՐԲԻՆՅԱՆ'!G8+'Գ. ԲԱԼՅԱՆ'!G8+'Ե. ՔՈՉԱՐՅԱՆ'!G8+'Գ. ՀՈՎՀԱՆՆԻՍՅԱՆ'!G8+'Ս. ՍԱՀԱԿՅԱՆ'!G8+'Ս. ՄԱՏԻՆՅԱՆ'!G8 -> 0 | H8: ='Հ. ՊԵՏՐՈՍՅԱՆ'!H8+'Լ. ԱՐԱԶՅԱՆ'!H8+'Թ. ՊՈՂՈՍՅԱՆ'!H8+'Ռ. ՄԽԻԹԱՐՅԱՆ'!H8+'Գ. ՍԱՐԳՍՅԱՆ'!H8+'Ա. ՀՈՎՀԱՆՆԻՍՅԱՆ'!H8+'Հ. ԴԱՐԲԻՆՅԱՆ'!H8+'Գ. ԲԱԼՅԱՆ'!H8+'Ե. ՔՈՉԱՐՅԱՆ'!H8+'Գ. ՀՈՎՀԱՆՆԻՍՅԱՆ'!H8+'Ս. ՍԱՀԱԿՅԱՆ'!H8+'Ս. ՄԱՏԻՆՅԱՆ'!H8 -> 14 | I8: ='Հ. ՊԵՏՐՈՍՅԱՆ'!I8+'Լ. ԱՐԱԶՅԱՆ'!I8+'Թ. ՊՈՂՈՍՅԱՆ'!I8+'Ռ. ՄԽԻԹԱՐՅԱՆ'!I8+'Գ. ՍԱՐԳՍՅԱՆ'!I8+'Ա. ՀՈՎՀԱՆՆԻՍՅԱՆ'!I8+'Հ. ԴԱՐԲԻՆՅԱՆ'!I8+'Գ. ԲԱԼՅԱՆ'!I8+'Ե. ՔՈՉԱՐՅԱՆ'!I8+'Գ. ՀՈՎՀԱՆՆԻՍՅԱՆ'!I8+'Ս. ՍԱՀԱԿՅԱՆ'!I8+'Ս. ՄԱՏԻՆՅԱՆ'!I8 -> 0 | J8: ='Հ. ՊԵՏՐՈՍՅԱՆ'!J8+'Լ. ԱՐԱԶՅԱՆ'!J8+'Թ. ՊՈՂՈՍՅԱՆ'!J8+'Ռ. ՄԽԻԹԱՐՅԱՆ'!J8+'Գ. ՍԱՐԳՍՅԱՆ'!J8+'Ա. ՀՈՎՀԱՆՆԻՍՅԱՆ'!J8+'Հ. ԴԱՐԲԻՆՅԱՆ'!J8+'Գ. ԲԱԼՅԱՆ'!J8+'Ե. ՔՈՉԱՐՅԱՆ'!J8+'Գ. ՀՈՎՀԱՆՆԻՍՅԱՆ'!J8+'Ս. ՍԱՀԱԿՅԱՆ'!J8+'Ս. ՄԱՏԻՆՅԱՆ'!J8 -> 0 | K8: ='Հ. ՊԵՏՐՈՍՅԱՆ'!K8+'Լ. ԱՐԱԶՅԱՆ'!K8+'Թ. ՊՈՂՈՍՅԱՆ'!K8+'Ռ. ՄԽԻԹԱՐՅԱՆ'!K8+'Գ. ՍԱՐԳՍՅԱՆ'!K8+'Ա. ՀՈՎՀԱՆՆԻՍՅԱՆ'!K8+'Հ. ԴԱՐԲԻՆՅԱՆ'!K8+'Գ. ԲԱԼՅԱՆ'!K8+'Ե. ՔՈՉԱՐՅԱՆ'!K8+'Գ. ՀՈՎՀԱՆՆԻՍՅԱՆ'!K8+'Ս. ՍԱՀԱԿՅԱՆ'!K8+'Ս. ՄԱՏԻՆՅԱՆ'!K8 -> 14 | ... R8: ='Հ. ՊԵՏՐՈՍՅԱՆ'!R8+'Լ. ԱՐԱԶՅԱՆ'!R8+'Թ. ՊՈՂՈՍՅԱՆ'!R8+'Ռ. ՄԽԻԹԱՐՅԱՆ'!R8+'Գ. ՍԱՐԳՍՅԱՆ'!R8+'Ա. ՀՈՎՀԱՆՆԻՍՅԱՆ'!R8+'Հ. ԴԱՐԲԻՆՅԱՆ'!R8+'Գ. ԲԱԼՅԱՆ'!R8+'Ե. ՔՈՉԱՐՅԱՆ'!R8+'Գ. ՀՈՎՀԱՆՆԻՍՅԱՆ'!R8+'Ս. ՍԱՀԱԿՅԱՆ'!R8+'Ս. ՄԱՏԻՆՅԱՆ'!R8 -> 0 | S8: ='Հ. ՊԵՏՐՈՍՅԱՆ'!S8+'Լ. ԱՐԱԶՅԱՆ'!S8+'Թ. ՊՈՂՈՍՅԱՆ'!S8+'Ռ. ՄԽԻԹԱՐՅԱՆ'!S8+'Գ. ՍԱՐԳՍՅԱՆ'!S8+'Ա. ՀՈՎՀԱՆՆԻՍՅԱՆ'!S8+'Հ. ԴԱՐԲԻՆՅԱՆ'!S8+'Գ. ԲԱԼՅԱՆ'!S8 -> 0 | T8: =D8+E8 -> 15 | U8: =F8+K8+L8 -> 15 | V8: =K8 -> 14 | W8: =G8+H8+I8+J8 -> 14
A9: 3 | B9: Ï³É³ÝùÇ í»ñ³Ñ³ëï³ïÙ³Ý Ù³ëÇÝ ÙÇçÝáñ¹áõÃÛáõÝÝ»ñ | D9: ='Հ. ՊԵՏՐՈՍՅԱՆ'!D9+'Լ. ԱՐԱԶՅԱՆ'!D9+'Թ. ՊՈՂՈՍՅԱՆ'!D9+'Ռ. ՄԽԻԹԱՐՅԱՆ'!D9+'Գ. ՍԱՐԳՍՅԱՆ'!D9+'Ա. ՀՈՎՀԱՆՆԻՍՅԱՆ'!D9+'Հ. ԴԱՐԲԻՆՅԱՆ'!D9+'Գ. ԲԱԼՅԱՆ'!D9+'Ե. ՔՈՉԱՐՅԱՆ'!D9+'Գ. ՀՈՎՀԱՆՆԻՍՅԱՆ'!D9+'Ս. ՍԱՀԱԿՅԱՆ'!D9+'Ս. ՄԱՏԻՆՅԱՆ'!D9 -> 0 | E9: ='Հ. ՊԵՏՐՈՍՅԱՆ'!E9+'Լ. ԱՐԱԶՅԱՆ'!E9+'Թ. ՊՈՂՈՍՅԱՆ'!E9+'Ռ. ՄԽԻԹԱՐՅԱՆ'!E9+'Գ. ՍԱՐԳՍՅԱՆ'!E9+'Ա. ՀՈՎՀԱՆՆԻՍՅԱՆ'!E9+'Հ. ԴԱՐԲԻՆՅԱՆ'!E9+'Գ. ԲԱԼՅԱՆ'!E9+'Ե. ՔՈՉԱՐՅԱՆ'!E9+'Գ. ՀՈՎՀԱՆՆԻՍՅԱՆ'!E9+'Ս. ՍԱՀԱԿՅԱՆ'!E9+'Ս. ՄԱՏԻՆՅԱՆ'!E9 -> 11 | F9: ='Հ. ՊԵՏՐՈՍՅԱՆ'!F9+'Լ. ԱՐԱԶՅԱՆ'!F9+'Թ. ՊՈՂՈՍՅԱՆ'!F9+'Ռ. ՄԽԻԹԱՐՅԱՆ'!F9+'Գ. ՍԱՐԳՍՅԱՆ'!F9+'Ա. ՀՈՎՀԱՆՆԻՍՅԱՆ'!F9+'Հ. ԴԱՐԲԻՆՅԱՆ'!F9+'Գ. ԲԱԼՅԱՆ'!F9+'Ե. ՔՈՉԱՐՅԱՆ'!F9+'Գ. ՀՈՎՀԱՆՆԻՍՅԱՆ'!F9+'Ս. ՍԱՀԱԿՅԱՆ'!F9+'Ս. ՄԱՏԻՆՅԱՆ'!F9 -> 0 | G9: ='Հ. ՊԵՏՐՈՍՅԱՆ'!G9+'Լ. ԱՐԱԶՅԱՆ'!G9+'Թ. ՊՈՂՈՍՅԱՆ'!G9+'Ռ. ՄԽԻԹԱՐՅԱՆ'!G9+'Գ. ՍԱՐԳՍՅԱՆ'!G9+'Ա. ՀՈՎՀԱՆՆԻՍՅԱՆ'!G9+'Հ. ԴԱՐԲԻՆՅԱՆ'!G9+'Գ. ԲԱԼՅԱՆ'!G9+'Ե. ՔՈՉԱՐՅԱՆ'!G9+'Գ. ՀՈՎՀԱՆՆԻՍՅԱՆ'!G9+'Ս. ՍԱՀԱԿՅԱՆ'!G9+'Ս. ՄԱՏԻՆՅԱՆ'!G9 -> 1 | H9: ='Հ. ՊԵՏՐՈՍՅԱՆ'!H9+'Լ. ԱՐԱԶՅԱՆ'!H9+'Թ. ՊՈՂՈՍՅԱՆ'!H9+'Ռ. ՄԽԻԹԱՐՅԱՆ'!H9+'Գ. ՍԱՐԳՍՅԱՆ'!H9+'Ա. ՀՈՎՀԱՆՆԻՍՅԱՆ'!H9+'Հ. ԴԱՐԲԻՆՅԱՆ'!H9+'Գ. ԲԱԼՅԱՆ'!H9+'Ե. ՔՈՉԱՐՅԱՆ'!H9+'Գ. ՀՈՎՀԱՆՆԻՍՅԱՆ'!H9+'Ս. ՍԱՀԱԿՅԱՆ'!H9+'Ս. ՄԱՏԻՆՅԱՆ'!H9 -> 10 | I9: ='Հ. ՊԵՏՐՈՍՅԱՆ'!I9+'Լ. ԱՐԱԶՅԱՆ'!I9+'Թ. ՊՈՂՈՍՅԱՆ'!I9+'Ռ. ՄԽԻԹԱՐՅԱՆ'!I9+'Գ. ՍԱՐԳՍՅԱՆ'!I9+'Ա. ՀՈՎՀԱՆՆԻՍՅԱՆ'!I9+'Հ. ԴԱՐԲԻՆՅԱՆ'!I9+'Գ. ԲԱԼՅԱՆ'!I9+'Ե. ՔՈՉԱՐՅԱՆ'!I9+'Գ. ՀՈՎՀԱՆՆԻՍՅԱՆ'!I9+'Ս. ՍԱՀԱԿՅԱՆ'!I9+'Ս. ՄԱՏԻՆՅԱՆ'!I9 -> 0 | J9: ='Հ. ՊԵՏՐՈՍՅԱՆ'!J9+'Լ. ԱՐԱԶՅԱՆ'!J9+'Թ. ՊՈՂՈՍՅԱՆ'!J9+'Ռ. ՄԽԻԹԱՐՅԱՆ'!J9+'Գ. ՍԱՐԳՍՅԱՆ'!J9+'Ա. ՀՈՎՀԱՆՆԻՍՅԱՆ'!J9+'Հ. ԴԱՐԲԻՆՅԱՆ'!J9+'Գ. ԲԱԼՅԱՆ'!J9+'Ե. ՔՈՉԱՐՅԱՆ'!J9+'Գ. ՀՈՎՀԱՆՆԻՍՅԱՆ'!J9+'Ս. ՍԱՀԱԿՅԱՆ'!J9+'Ս. ՄԱՏԻՆՅԱՆ'!J9 -> 0 | K9: ='Հ. ՊԵՏՐՈՍՅԱՆ'!K9+'Լ. ԱՐԱԶՅԱՆ'!K9+'Թ. ՊՈՂՈՍՅԱՆ'!K9+'Ռ. ՄԽԻԹԱՐՅԱՆ'!K9+'Գ. ՍԱՐԳՍՅԱՆ'!K9+'Ա. ՀՈՎՀԱՆՆԻՍՅԱՆ'!K9+'Հ. ԴԱՐԲԻՆՅԱՆ'!K9+'Գ. ԲԱԼՅԱՆ'!K9+'Ե. ՔՈՉԱՐՅԱՆ'!K9+'Գ. ՀՈՎՀԱՆՆԻՍՅԱՆ'!K9+'Ս. ՍԱՀԱԿՅԱՆ'!K9+'Ս. ՄԱՏԻՆՅԱՆ'!K9 -> 11 | ... R9: ='Հ. ՊԵՏՐՈՍՅԱՆ'!R9+'Լ. ԱՐԱԶՅԱՆ'!R9+'Թ. ՊՈՂՈՍՅԱՆ'!R9+'Ռ. ՄԽԻԹԱՐՅԱՆ'!R9+'Գ. ՍԱՐԳՍՅԱՆ'!R9+'Ա. ՀՈՎՀԱՆՆԻՍՅԱՆ'!R9+'Հ. ԴԱՐԲԻՆՅԱՆ'!R9+'Գ. ԲԱԼՅԱՆ'!R9+'Ե. ՔՈՉԱՐՅԱՆ'!R9+'Գ. ՀՈՎՀԱՆՆԻՍՅԱՆ'!R9+'Ս. ՍԱՀԱԿՅԱՆ'!R9+'Ս. ՄԱՏԻՆՅԱՆ'!R9 -> 4 | S9: ='Հ. ՊԵՏՐՈՍՅԱՆ'!S9+'Լ. ԱՐԱԶՅԱՆ'!S9+'Թ. ՊՈՂՈՍՅԱՆ'!S9+'Ռ. ՄԽԻԹԱՐՅԱՆ'!S9+'Գ. ՍԱՐԳՍՅԱՆ'!S9+'Ա. ՀՈՎՀԱՆՆԻՍՅԱՆ'!S9+'Հ. ԴԱՐԲԻՆՅԱՆ'!S9+'Գ. ԲԱԼՅԱՆ'!S9 -> 0 | T9: =D9+E9 -> 11 | U9: =F9+K9+L9 -> 11 | V9: =K9 -> 11 | W9: =G9+H9+I9+J9 -> 11
A10: 4 | B10: ·ñ³íÁ áñå»ë Ï³É³Ý³íáñÙ³Ý ³ÛÉÁÝïñ³Ýù³ÛÇÝ Ë³÷³ÝÙ³Ý ÙÇçáó ÏÇñ³é»Éáõ Ù³ëÇÝ ÙÇçÝáñ¹áõÃÛáõÝÝ»ñ | D10: ='Հ. ՊԵՏՐՈՍՅԱՆ'!D10+'Լ. ԱՐԱԶՅԱՆ'!D10+'Թ. ՊՈՂՈՍՅԱՆ'!D10+'Ռ. ՄԽԻԹԱՐՅԱՆ'!D10+'Գ. ՍԱՐԳՍՅԱՆ'!D10+'Ա. ՀՈՎՀԱՆՆԻՍՅԱՆ'!D10+'Հ. ԴԱՐԲԻՆՅԱՆ'!D10+'Գ. ԲԱԼՅԱՆ'!D10+'Ե. ՔՈՉԱՐՅԱՆ'!D10+'Գ. ՀՈՎՀԱՆՆԻՍՅԱՆ'!D10+'Ս. ՍԱՀԱԿՅԱՆ'!D10+'Ս. ՄԱՏԻՆՅԱՆ'!D10 -> 0 | E10: ='Հ. ՊԵՏՐՈՍՅԱՆ'!E10+'Լ. ԱՐԱԶՅԱՆ'!E10+'Թ. ՊՈՂՈՍՅԱՆ'!E10+'Ռ. ՄԽԻԹԱՐՅԱՆ'!E10+'Գ. ՍԱՐԳՍՅԱՆ'!E10+'Ա. ՀՈՎՀԱՆՆԻՍՅԱՆ'!E10+'Հ. ԴԱՐԲԻՆՅԱՆ'!E10+'Գ. ԲԱԼՅԱՆ'!E10+'Ե. ՔՈՉԱՐՅԱՆ'!E10+'Գ. ՀՈՎՀԱՆՆԻՍՅԱՆ'!E10+'Ս. ՍԱՀԱԿՅԱՆ'!E10+'Ս. ՄԱՏԻՆՅԱՆ'!E10 -> 8 | F10: ='Հ. ՊԵՏՐՈՍՅԱՆ'!F10+'Լ. ԱՐԱԶՅԱՆ'!F10+'Թ. ՊՈՂՈՍՅԱՆ'!F10+'Ռ. ՄԽԻԹԱՐՅԱՆ'!F10+'Գ. ՍԱՐԳՍՅԱՆ'!F10+'Ա. ՀՈՎՀԱՆՆԻՍՅԱՆ'!F10+'Հ. ԴԱՐԲԻՆՅԱՆ'!F10+'Գ. ԲԱԼՅԱՆ'!F10+'Ե. ՔՈՉԱՐՅԱՆ'!F10+'Գ. ՀՈՎՀԱՆՆԻՍՅԱՆ'!F10+'Ս. ՍԱՀԱԿՅԱՆ'!F10+'Ս. ՄԱՏԻՆՅԱՆ'!F10 -> 0 | G10: ='Հ. ՊԵՏՐՈՍՅԱՆ'!G10+'Լ. ԱՐԱԶՅԱՆ'!G10+'Թ. ՊՈՂՈՍՅԱՆ'!G10+'Ռ. ՄԽԻԹԱՐՅԱՆ'!G10+'Գ. ՍԱՐԳՍՅԱՆ'!G10+'Ա. ՀՈՎՀԱՆՆԻՍՅԱՆ'!G10+'Հ. ԴԱՐԲԻՆՅԱՆ'!G10+'Գ. ԲԱԼՅԱՆ'!G10+'Ե. ՔՈՉԱՐՅԱՆ'!G10+'Գ. ՀՈՎՀԱՆՆԻՍՅԱՆ'!G10+'Ս. ՍԱՀԱԿՅԱՆ'!G10+'Ս. ՄԱՏԻՆՅԱՆ'!G10 -> 6 | H10: ='Հ. ՊԵՏՐՈՍՅԱՆ'!H10+'Լ. ԱՐԱԶՅԱՆ'!H10+'Թ. ՊՈՂՈՍՅԱՆ'!H10+'Ռ. ՄԽԻԹԱՐՅԱՆ'!H10+'Գ. ՍԱՐԳՍՅԱՆ'!H10+'Ա. ՀՈՎՀԱՆՆԻՍՅԱՆ'!H10+'Հ. ԴԱՐԲԻՆՅԱՆ'!H10+'Գ. ԲԱԼՅԱՆ'!H10+'Ե. ՔՈՉԱՐՅԱՆ'!H10+'Գ. ՀՈՎՀԱՆՆԻՍՅԱՆ'!H10+'Ս. ՍԱՀԱԿՅԱՆ'!H10+'Ս. ՄԱՏԻՆՅԱՆ'!H10 -> 2 | I10: ='Հ. ՊԵՏՐՈՍՅԱՆ'!I10+'Լ. ԱՐԱԶՅԱՆ'!I10+'Թ. ՊՈՂՈՍՅԱՆ'!I10+'Ռ. ՄԽԻԹԱՐՅԱՆ'!I10+'Գ. ՍԱՐԳՍՅԱՆ'!I10+'Ա. ՀՈՎՀԱՆՆԻՍՅԱՆ'!I10+'Հ. ԴԱՐԲԻՆՅԱՆ'!I10+'Գ. ԲԱԼՅԱՆ'!I10+'Ե. ՔՈՉԱՐՅԱՆ'!I10+'Գ. ՀՈՎՀԱՆՆԻՍՅԱՆ'!I10+'Ս. ՍԱՀԱԿՅԱՆ'!I10+'Ս. ՄԱՏԻՆՅԱՆ'!I10 -> 0 | J10: ='Հ. ՊԵՏՐՈՍՅԱՆ'!J10+'Լ. ԱՐԱԶՅԱՆ'!J10+'Թ. ՊՈՂՈՍՅԱՆ'!J10+'Ռ. ՄԽԻԹԱՐՅԱՆ'!J10+'Գ. ՍԱՐԳՍՅԱՆ'!J10+'Ա. ՀՈՎՀԱՆՆԻՍՅԱՆ'!J10+'Հ. ԴԱՐԲԻՆՅԱՆ'!J10+'Գ. ԲԱԼՅԱՆ'!J10+'Ե. ՔՈՉԱՐՅԱՆ'!J10+'Գ. ՀՈՎՀԱՆՆԻՍՅԱՆ'!J10+'Ս. ՍԱՀԱԿՅԱՆ'!J10+'Ս. ՄԱՏԻՆՅԱՆ'!J10 -> 0 | K10: ='Հ. ՊԵՏՐՈՍՅԱՆ'!K10+'Լ. ԱՐԱԶՅԱՆ'!K10+'Թ. ՊՈՂՈՍՅԱՆ'!K10+'Ռ. ՄԽԻԹԱՐՅԱՆ'!K10+'Գ. ՍԱՐԳՍՅԱՆ'!K10+'Ա. ՀՈՎՀԱՆՆԻՍՅԱՆ'!K10+'Հ. ԴԱՐԲԻՆՅԱՆ'!K10+'Գ. ԲԱԼՅԱՆ'!K10+'Ե. ՔՈՉԱՐՅԱՆ'!K10+'Գ. ՀՈՎՀԱՆՆԻՍՅԱՆ'!K10+'Ս. ՍԱՀԱԿՅԱՆ'!K10+'Ս. ՄԱՏԻՆՅԱՆ'!K10 -> 8 | ... R10: ='Հ. ՊԵՏՐՈՍՅԱՆ'!R10+'Լ. ԱՐԱԶՅԱՆ'!R10+'Թ. ՊՈՂՈՍՅԱՆ'!R10+'Ռ. ՄԽԻԹԱՐՅԱՆ'!R10+'Գ. ՍԱՐԳՍՅԱՆ'!R10+'Ա. ՀՈՎՀԱՆՆԻՍՅԱՆ'!R10+'Հ. ԴԱՐԲԻՆՅԱՆ'!R10+'Գ. ԲԱԼՅԱՆ'!R10+'Ե. ՔՈՉԱՐՅԱՆ'!R10+'Գ. ՀՈՎՀԱՆՆԻՍՅԱՆ'!R10+'Ս. ՍԱՀԱԿՅԱՆ'!R10+'Ս. ՄԱՏԻՆՅԱՆ'!R10 -> 0 | S10: ='Հ. ՊԵՏՐՈՍՅԱՆ'!S10+'Լ. ԱՐԱԶՅԱՆ'!S10+'Թ. ՊՈՂՈՍՅԱՆ'!S10+'Ռ. ՄԽԻԹԱՐՅԱՆ'!S10+'Գ. ՍԱՐԳՍՅԱՆ'!S10+'Ա. ՀՈՎՀԱՆՆԻՍՅԱՆ'!S10+'Հ. ԴԱՐԲԻՆՅԱՆ'!S10+'Գ. ԲԱԼՅԱՆ'!S10 -> 0 | T10: =D10+E10 -> 8 | U10: =F10+K10+L10 -> 8 | V10: =K10 -> 8 | W10: =G10+H10+I10+J10 -> 8
A11: 5 | B11: Ëáõ½³ñÏáõÃÛ³Ý Ï³ï³ñÙ³Ý Ù³ëÇÝ ÙÇçÝáñ¹áõÃÛáõÝÝ»ñ | D11: ='Հ. ՊԵՏՐՈՍՅԱՆ'!D11+'Լ. ԱՐԱԶՅԱՆ'!D11+'Թ. ՊՈՂՈՍՅԱՆ'!D11+'Ռ. ՄԽԻԹԱՐՅԱՆ'!D11+'Գ. ՍԱՐԳՍՅԱՆ'!D11+'Ա. ՀՈՎՀԱՆՆԻՍՅԱՆ'!D11+'Հ. ԴԱՐԲԻՆՅԱՆ'!D11+'Գ. ԲԱԼՅԱՆ'!D11+'Ե. ՔՈՉԱՐՅԱՆ'!D11+'Գ. ՀՈՎՀԱՆՆԻՍՅԱՆ'!D11+'Ս. ՍԱՀԱԿՅԱՆ'!D11+'Ս. ՄԱՏԻՆՅԱՆ'!D11 -> 0 | E11: ='Հ. ՊԵՏՐՈՍՅԱՆ'!E11+'Լ. ԱՐԱԶՅԱՆ'!E11+'Թ. ՊՈՂՈՍՅԱՆ'!E11+'Ռ. ՄԽԻԹԱՐՅԱՆ'!E11+'Գ. ՍԱՐԳՍՅԱՆ'!E11+'Ա. ՀՈՎՀԱՆՆԻՍՅԱՆ'!E11+'Հ. ԴԱՐԲԻՆՅԱՆ'!E11+'Գ. ԲԱԼՅԱՆ'!E11+'Ե. ՔՈՉԱՐՅԱՆ'!E11+'Գ. ՀՈՎՀԱՆՆԻՍՅԱՆ'!E11+'Ս. ՍԱՀԱԿՅԱՆ'!E11+'Ս. ՄԱՏԻՆՅԱՆ'!E11 -> 99 | F11: ='Հ. ՊԵՏՐՈՍՅԱՆ'!F11+'Լ. ԱՐԱԶՅԱՆ'!F11+'Թ. ՊՈՂՈՍՅԱՆ'!F11+'Ռ. ՄԽԻԹԱՐՅԱՆ'!F11+'Գ. ՍԱՐԳՍՅԱՆ'!F11+'Ա. ՀՈՎՀԱՆՆԻՍՅԱՆ'!F11+'Հ. ԴԱՐԲԻՆՅԱՆ'!F11+'Գ. ԲԱԼՅԱՆ'!F11+'Ե. ՔՈՉԱՐՅԱՆ'!F11+'Գ. ՀՈՎՀԱՆՆԻՍՅԱՆ'!F11+'Ս. ՍԱՀԱԿՅԱՆ'!F11+'Ս. ՄԱՏԻՆՅԱՆ'!F11 -> 0 | G11: ='Հ. ՊԵՏՐՈՍՅԱՆ'!G11+'Լ. ԱՐԱԶՅԱՆ'!G11+'Թ. ՊՈՂՈՍՅԱՆ'!G11+'Ռ. ՄԽԻԹԱՐՅԱՆ'!G11+'Գ. ՍԱՐԳՍՅԱՆ'!G11+'Ա. ՀՈՎՀԱՆՆԻՍՅԱՆ'!G11+'Հ. ԴԱՐԲԻՆՅԱՆ'!G11+'Գ. ԲԱԼՅԱՆ'!G11+'Ե. ՔՈՉԱՐՅԱՆ'!G11+'Գ. ՀՈՎՀԱՆՆԻՍՅԱՆ'!G11+'Ս. ՍԱՀԱԿՅԱՆ'!G11+'Ս. ՄԱՏԻՆՅԱՆ'!G11 -> 3 | H11: ='Հ. ՊԵՏՐՈՍՅԱՆ'!H11+'Լ. ԱՐԱԶՅԱՆ'!H11+'Թ. ՊՈՂՈՍՅԱՆ'!H11+'Ռ. ՄԽԻԹԱՐՅԱՆ'!H11+'Գ. ՍԱՐԳՍՅԱՆ'!H11+'Ա. ՀՈՎՀԱՆՆԻՍՅԱՆ'!H11+'Հ. ԴԱՐԲԻՆՅԱՆ'!H11+'Գ. ԲԱԼՅԱՆ'!H11+'Ե. ՔՈՉԱՐՅԱՆ'!H11+'Գ. ՀՈՎՀԱՆՆԻՍՅԱՆ'!H11+'Ս. ՍԱՀԱԿՅԱՆ'!H11+'Ս. ՄԱՏԻՆՅԱՆ'!H11 -> 94 | I11: ='Հ. ՊԵՏՐՈՍՅԱՆ'!I11+'Լ. ԱՐԱԶՅԱՆ'!I11+'Թ. ՊՈՂՈՍՅԱՆ'!I11+'Ռ. ՄԽԻԹԱՐՅԱՆ'!I11+'Գ. ՍԱՐԳՍՅԱՆ'!I11+'Ա. ՀՈՎՀԱՆՆԻՍՅԱՆ'!I11+'Հ. ԴԱՐԲԻՆՅԱՆ'!I11+'Գ. ԲԱԼՅԱՆ'!I11+'Ե. ՔՈՉԱՐՅԱՆ'!I11+'Գ. ՀՈՎՀԱՆՆԻՍՅԱՆ'!I11+'Ս. ՍԱՀԱԿՅԱՆ'!I11+'Ս. ՄԱՏԻՆՅԱՆ'!I11 -> 0 | J11: ='Հ. ՊԵՏՐՈՍՅԱՆ'!J11+'Լ. ԱՐԱԶՅԱՆ'!J11+'Թ. ՊՈՂՈՍՅԱՆ'!J11+'Ռ. ՄԽԻԹԱՐՅԱՆ'!J11+'Գ. ՍԱՐԳՍՅԱՆ'!J11+'Ա. ՀՈՎՀԱՆՆԻՍՅԱՆ'!J11+'Հ. ԴԱՐԲԻՆՅԱՆ'!J11+'Գ. ԲԱԼՅԱՆ'!J11+'Ե. ՔՈՉԱՐՅԱՆ'!J11+'Գ. ՀՈՎՀԱՆՆԻՍՅԱՆ'!J11+'Ս. ՍԱՀԱԿՅԱՆ'!J11+'Ս. ՄԱՏԻՆՅԱՆ'!J11 -> 2 | K11: ='Հ. ՊԵՏՐՈՍՅԱՆ'!K11+'Լ. ԱՐԱԶՅԱՆ'!K11+'Թ. ՊՈՂՈՍՅԱՆ'!K11+'Ռ. ՄԽԻԹԱՐՅԱՆ'!K11+'Գ. ՍԱՐԳՍՅԱՆ'!K11+'Ա. ՀՈՎՀԱՆՆԻՍՅԱՆ'!K11+'Հ. ԴԱՐԲԻՆՅԱՆ'!K11+'Գ. ԲԱԼՅԱՆ'!K11+'Ե. ՔՈՉԱՐՅԱՆ'!K11+'Գ. ՀՈՎՀԱՆՆԻՍՅԱՆ'!K11+'Ս. ՍԱՀԱԿՅԱՆ'!K11+'Ս. ՄԱՏԻՆՅԱՆ'!K11 -> 99 | ... R11: ='Հ. ՊԵՏՐՈՍՅԱՆ'!R11+'Լ. ԱՐԱԶՅԱՆ'!R11+'Թ. ՊՈՂՈՍՅԱՆ'!R11+'Ռ. ՄԽԻԹԱՐՅԱՆ'!R11+'Գ. ՍԱՐԳՍՅԱՆ'!R11+'Ա. ՀՈՎՀԱՆՆԻՍՅԱՆ'!R11+'Հ. ԴԱՐԲԻՆՅԱՆ'!R11+'Գ. ԲԱԼՅԱՆ'!R11+'Ե. ՔՈՉԱՐՅԱՆ'!R11+'Գ. ՀՈՎՀԱՆՆԻՍՅԱՆ'!R11+'Ս. ՍԱՀԱԿՅԱՆ'!R11+'Ս. ՄԱՏԻՆՅԱՆ'!R11 -> 0 | S11: ='Հ. ՊԵՏՐՈՍՅԱՆ'!S11+'Լ. ԱՐԱԶՅԱՆ'!S11+'Թ. ՊՈՂՈՍՅԱՆ'!S11+'Ռ. ՄԽԻԹԱՐՅԱՆ'!S11+'Գ. ՍԱՐԳՍՅԱՆ'!S11+'Ա. ՀՈՎՀԱՆՆԻՍՅԱՆ'!S11+'Հ. ԴԱՐԲԻՆՅԱՆ'!S11+'Գ. ԲԱԼՅԱՆ'!S11 -> 0 | T11: =D11+E11 -> 99 | U11: =F11+K11+L11 -> 99 | V11: =K11 -> 99 | W11: =G11+H11+I11+J11 -> 99
A12: 6 | B12: µ³ÝÏ³ÛÇÝ, ³å³Ñáí³·ñ³Ï³Ý, Ýáï³ñ³Ï³Ý ·³ÕïÝÇù Ï³½ÙáÕ ï»Õ»ÏáõÃÛáõÝÝ»ñÇ ëï³óÙ³Ý Ñ³Ù³ñ Ëáõ½³ñÏáõÃÛ³Ý Ï³Ù ³é·ñ³íÙ³Ý Ï³ï³ñÙ³Ý Ù³ëÇÝ ÙÇçÝáñ¹áõÃÛáõÝÝ»ñ | D12: ='Հ. ՊԵՏՐՈՍՅԱՆ'!D12+'Լ. ԱՐԱԶՅԱՆ'!D12+'Թ. ՊՈՂՈՍՅԱՆ'!D12+'Ռ. ՄԽԻԹԱՐՅԱՆ'!D12+'Գ. ՍԱՐԳՍՅԱՆ'!D12+'Ա. ՀՈՎՀԱՆՆԻՍՅԱՆ'!D12+'Հ. ԴԱՐԲԻՆՅԱՆ'!D12+'Գ. ԲԱԼՅԱՆ'!D12+'Ե. ՔՈՉԱՐՅԱՆ'!D12+'Գ. ՀՈՎՀԱՆՆԻՍՅԱՆ'!D12+'Ս. ՍԱՀԱԿՅԱՆ'!D12+'Ս. ՄԱՏԻՆՅԱՆ'!D12 -> 0 | E12: ='Հ. ՊԵՏՐՈՍՅԱՆ'!E12+'Լ. ԱՐԱԶՅԱՆ'!E12+'Թ. ՊՈՂՈՍՅԱՆ'!E12+'Ռ. ՄԽԻԹԱՐՅԱՆ'!E12+'Գ. ՍԱՐԳՍՅԱՆ'!E12+'Ա. ՀՈՎՀԱՆՆԻՍՅԱՆ'!E12+'Հ. ԴԱՐԲԻՆՅԱՆ'!E12+'Գ. ԲԱԼՅԱՆ'!E12+'Ե. ՔՈՉԱՐՅԱՆ'!E12+'Գ. ՀՈՎՀԱՆՆԻՍՅԱՆ'!E12+'Ս. ՍԱՀԱԿՅԱՆ'!E12+'Ս. ՄԱՏԻՆՅԱՆ'!E12 -> 2 | F12: ='Հ. ՊԵՏՐՈՍՅԱՆ'!F12+'Լ. ԱՐԱԶՅԱՆ'!F12+'Թ. ՊՈՂՈՍՅԱՆ'!F12+'Ռ. ՄԽԻԹԱՐՅԱՆ'!F12+'Գ. ՍԱՐԳՍՅԱՆ'!F12+'Ա. ՀՈՎՀԱՆՆԻՍՅԱՆ'!F12+'Հ. ԴԱՐԲԻՆՅԱՆ'!F12+'Գ. ԲԱԼՅԱՆ'!F12+'Ե. ՔՈՉԱՐՅԱՆ'!F12+'Գ. ՀՈՎՀԱՆՆԻՍՅԱՆ'!F12+'Ս. ՍԱՀԱԿՅԱՆ'!F12+'Ս. ՄԱՏԻՆՅԱՆ'!F12 -> 0 | G12: ='Հ. ՊԵՏՐՈՍՅԱՆ'!G12+'Լ. ԱՐԱԶՅԱՆ'!G12+'Թ. ՊՈՂՈՍՅԱՆ'!G12+'Ռ. ՄԽԻԹԱՐՅԱՆ'!G12+'Գ. ՍԱՐԳՍՅԱՆ'!G12+'Ա. ՀՈՎՀԱՆՆԻՍՅԱՆ'!G12+'Հ. ԴԱՐԲԻՆՅԱՆ'!G12+'Գ. ԲԱԼՅԱՆ'!G12+'Ե. ՔՈՉԱՐՅԱՆ'!G12+'Գ. ՀՈՎՀԱՆՆԻՍՅԱՆ'!G12+'Ս. ՍԱՀԱԿՅԱՆ'!G12+'Ս. ՄԱՏԻՆՅԱՆ'!G12 -> 1 | H12: ='Հ. ՊԵՏՐՈՍՅԱՆ'!H12+'Լ. ԱՐԱԶՅԱՆ'!H12+'Թ. ՊՈՂՈՍՅԱՆ'!H12+'Ռ. ՄԽԻԹԱՐՅԱՆ'!H12+'Գ. ՍԱՐԳՍՅԱՆ'!H12+'Ա. ՀՈՎՀԱՆՆԻՍՅԱՆ'!H12+'Հ. ԴԱՐԲԻՆՅԱՆ'!H12+'Գ. ԲԱԼՅԱՆ'!H12+'Ե. ՔՈՉԱՐՅԱՆ'!H12+'Գ. ՀՈՎՀԱՆՆԻՍՅԱՆ'!H12+'Ս. ՍԱՀԱԿՅԱՆ'!H12+'Ս. ՄԱՏԻՆՅԱՆ'!H12 -> 1 | I12: ='Հ. ՊԵՏՐՈՍՅԱՆ'!I12+'Լ. ԱՐԱԶՅԱՆ'!I12+'Թ. ՊՈՂՈՍՅԱՆ'!I12+'Ռ. ՄԽԻԹԱՐՅԱՆ'!I12+'Գ. ՍԱՐԳՍՅԱՆ'!I12+'Ա. ՀՈՎՀԱՆՆԻՍՅԱՆ'!I12+'Հ. ԴԱՐԲԻՆՅԱՆ'!I12+'Գ. ԲԱԼՅԱՆ'!I12+'Ե. ՔՈՉԱՐՅԱՆ'!I12+'Գ. ՀՈՎՀԱՆՆԻՍՅԱՆ'!I12+'Ս. ՍԱՀԱԿՅԱՆ'!I12+'Ս. ՄԱՏԻՆՅԱՆ'!I12 -> 0 | J12: ='Հ. ՊԵՏՐՈՍՅԱՆ'!J12+'Լ. ԱՐԱԶՅԱՆ'!J12+'Թ. ՊՈՂՈՍՅԱՆ'!J12+'Ռ. ՄԽԻԹԱՐՅԱՆ'!J12+'Գ. ՍԱՐԳՍՅԱՆ'!J12+'Ա. ՀՈՎՀԱՆՆԻՍՅԱՆ'!J12+'Հ. ԴԱՐԲԻՆՅԱՆ'!J12+'Գ. ԲԱԼՅԱՆ'!J12+'Ե. ՔՈՉԱՐՅԱՆ'!J12+'Գ. ՀՈՎՀԱՆՆԻՍՅԱՆ'!J12+'Ս. ՍԱՀԱԿՅԱՆ'!J12+'Ս. ՄԱՏԻՆՅԱՆ'!J12 -> 0 | K12: ='Հ. ՊԵՏՐՈՍՅԱՆ'!K12+'Լ. ԱՐԱԶՅԱՆ'!K12+'Թ. ՊՈՂՈՍՅԱՆ'!K12+'Ռ. ՄԽԻԹԱՐՅԱՆ'!K12+'Գ. ՍԱՐԳՍՅԱՆ'!K12+'Ա. ՀՈՎՀԱՆՆԻՍՅԱՆ'!K12+'Հ. ԴԱՐԲԻՆՅԱՆ'!K12+'Գ. ԲԱԼՅԱՆ'!K12+'Ե. ՔՈՉԱՐՅԱՆ'!K12+'Գ. ՀՈՎՀԱՆՆԻՍՅԱՆ'!K12+'Ս. ՍԱՀԱԿՅԱՆ'!K12+'Ս. ՄԱՏԻՆՅԱՆ'!K12 -> 2 | ... R12: ='Հ. ՊԵՏՐՈՍՅԱՆ'!R12+'Լ. ԱՐԱԶՅԱՆ'!R12+'Թ. ՊՈՂՈՍՅԱՆ'!R12+'Ռ. ՄԽԻԹԱՐՅԱՆ'!R12+'Գ. ՍԱՐԳՍՅԱՆ'!R12+'Ա. ՀՈՎՀԱՆՆԻՍՅԱՆ'!R12+'Հ. ԴԱՐԲԻՆՅԱՆ'!R12+'Գ. ԲԱԼՅԱՆ'!R12+'Ե. ՔՈՉԱՐՅԱՆ'!R12+'Գ. ՀՈՎՀԱՆՆԻՍՅԱՆ'!R12+'Ս. ՍԱՀԱԿՅԱՆ'!R12+'Ս. ՄԱՏԻՆՅԱՆ'!R12 -> 0 | S12: ='Հ. ՊԵՏՐՈՍՅԱՆ'!S12+'Լ. ԱՐԱԶՅԱՆ'!S12+'Թ. ՊՈՂՈՍՅԱՆ'!S12+'Ռ. ՄԽԻԹԱՐՅԱՆ'!S12+'Գ. ՍԱՐԳՍՅԱՆ'!S12+'Ա. ՀՈՎՀԱՆՆԻՍՅԱՆ'!S12+'Հ. ԴԱՐԲԻՆՅԱՆ'!S12+'Գ. ԲԱԼՅԱՆ'!S12 -> 0 | T12: =D12+E12 -> 2 | U12: =F12+K12+L12 -> 2 | V12: =K12 -> 2 | W12: =G12+H12+I12+J12 -> 2
A13: 7 | B13: Ý³Ù³Ï³·ñáõÃÛ³Ý, Ñ»é³·ñ³Ï³Ý, ÷áuï³ÛÇÝ Ñ³Õáñ¹áõÙÝ»ñÇ ÑëÏáÕáõÃÛ³Ý Ù³ëÇÝ ÙÇçÝáñ¹áõÃÛáõÝÝ»ñ | D13: ='Հ. ՊԵՏՐՈՍՅԱՆ'!D13+'Լ. ԱՐԱԶՅԱՆ'!D13+'Թ. ՊՈՂՈՍՅԱՆ'!D13+'Ռ. ՄԽԻԹԱՐՅԱՆ'!D13+'Գ. ՍԱՐԳՍՅԱՆ'!D13+'Ա. ՀՈՎՀԱՆՆԻՍՅԱՆ'!D13+'Հ. ԴԱՐԲԻՆՅԱՆ'!D13+'Գ. ԲԱԼՅԱՆ'!D13+'Ե. ՔՈՉԱՐՅԱՆ'!D13+'Գ. ՀՈՎՀԱՆՆԻՍՅԱՆ'!D13+'Ս. ՍԱՀԱԿՅԱՆ'!D13+'Ս. ՄԱՏԻՆՅԱՆ'!D13 -> 0 | E13: ='Հ. ՊԵՏՐՈՍՅԱՆ'!E13+'Լ. ԱՐԱԶՅԱՆ'!E13+'Թ. ՊՈՂՈՍՅԱՆ'!E13+'Ռ. ՄԽԻԹԱՐՅԱՆ'!E13+'Գ. ՍԱՐԳՍՅԱՆ'!E13+'Ա. ՀՈՎՀԱՆՆԻՍՅԱՆ'!E13+'Հ. ԴԱՐԲԻՆՅԱՆ'!E13+'Գ. ԲԱԼՅԱՆ'!E13+'Ե. ՔՈՉԱՐՅԱՆ'!E13+'Գ. ՀՈՎՀԱՆՆԻՍՅԱՆ'!E13+'Ս. ՍԱՀԱԿՅԱՆ'!E13+'Ս. ՄԱՏԻՆՅԱՆ'!E13 -> 3 | F13: ='Հ. ՊԵՏՐՈՍՅԱՆ'!F13+'Լ. ԱՐԱԶՅԱՆ'!F13+'Թ. ՊՈՂՈՍՅԱՆ'!F13+'Ռ. ՄԽԻԹԱՐՅԱՆ'!F13+'Գ. ՍԱՐԳՍՅԱՆ'!F13+'Ա. ՀՈՎՀԱՆՆԻՍՅԱՆ'!F13+'Հ. ԴԱՐԲԻՆՅԱՆ'!F13+'Գ. ԲԱԼՅԱՆ'!F13+'Ե. ՔՈՉԱՐՅԱՆ'!F13+'Գ. ՀՈՎՀԱՆՆԻՍՅԱՆ'!F13+'Ս. ՍԱՀԱԿՅԱՆ'!F13+'Ս. ՄԱՏԻՆՅԱՆ'!F13 -> 0 | G13: ='Հ. ՊԵՏՐՈՍՅԱՆ'!G13+'Լ. ԱՐԱԶՅԱՆ'!G13+'Թ. ՊՈՂՈՍՅԱՆ'!G13+'Ռ. ՄԽԻԹԱՐՅԱՆ'!G13+'Գ. ՍԱՐԳՍՅԱՆ'!G13+'Ա. ՀՈՎՀԱՆՆԻՍՅԱՆ'!G13+'Հ. ԴԱՐԲԻՆՅԱՆ'!G13+'Գ. ԲԱԼՅԱՆ'!G13+'Ե. ՔՈՉԱՐՅԱՆ'!G13+'Գ. ՀՈՎՀԱՆՆԻՍՅԱՆ'!G13+'Ս. ՍԱՀԱԿՅԱՆ'!G13+'Ս. ՄԱՏԻՆՅԱՆ'!G13 -> 0 | H13: ='Հ. ՊԵՏՐՈՍՅԱՆ'!H13+'Լ. ԱՐԱԶՅԱՆ'!H13+'Թ. ՊՈՂՈՍՅԱՆ'!H13+'Ռ. ՄԽԻԹԱՐՅԱՆ'!H13+'Գ. ՍԱՐԳՍՅԱՆ'!H13+'Ա. ՀՈՎՀԱՆՆԻՍՅԱՆ'!H13+'Հ. ԴԱՐԲԻՆՅԱՆ'!H13+'Գ. ԲԱԼՅԱՆ'!H13+'Ե. ՔՈՉԱՐՅԱՆ'!H13+'Գ. ՀՈՎՀԱՆՆԻՍՅԱՆ'!H13+'Ս. ՍԱՀԱԿՅԱՆ'!H13+'Ս. ՄԱՏԻՆՅԱՆ'!H13 -> 3 | I13: ='Հ. ՊԵՏՐՈՍՅԱՆ'!I13+'Լ. ԱՐԱԶՅԱՆ'!I13+'Թ. ՊՈՂՈՍՅԱՆ'!I13+'Ռ. ՄԽԻԹԱՐՅԱՆ'!I13+'Գ. ՍԱՐԳՍՅԱՆ'!I13+'Ա. ՀՈՎՀԱՆՆԻՍՅԱՆ'!I13+'Հ. ԴԱՐԲԻՆՅԱՆ'!I13+'Գ. ԲԱԼՅԱՆ'!I13+'Ե. ՔՈՉԱՐՅԱՆ'!I13+'Գ. ՀՈՎՀԱՆՆԻՍՅԱՆ'!I13+'Ս. ՍԱՀԱԿՅԱՆ'!I13+'Ս. ՄԱՏԻՆՅԱՆ'!I13 -> 0 | J13: ='Հ. ՊԵՏՐՈՍՅԱՆ'!J13+'Լ. ԱՐԱԶՅԱՆ'!J13+'Թ. ՊՈՂՈՍՅԱՆ'!J13+'Ռ. ՄԽԻԹԱՐՅԱՆ'!J13+'Գ. ՍԱՐԳՍՅԱՆ'!J13+'Ա. ՀՈՎՀԱՆՆԻՍՅԱՆ'!J13+'Հ. ԴԱՐԲԻՆՅԱՆ'!J13+'Գ. ԲԱԼՅԱՆ'!J13+'Ե. ՔՈՉԱՐՅԱՆ'!J13+'Գ. ՀՈՎՀԱՆՆԻՍՅԱՆ'!J13+'Ս. ՍԱՀԱԿՅԱՆ'!J13+'Ս. ՄԱՏԻՆՅԱՆ'!J13 -> 0 | K13: ='Հ. ՊԵՏՐՈՍՅԱՆ'!K13+'Լ. ԱՐԱԶՅԱՆ'!K13+'Թ. ՊՈՂՈՍՅԱՆ'!K13+'Ռ. ՄԽԻԹԱՐՅԱՆ'!K13+'Գ. ՍԱՐԳՍՅԱՆ'!K13+'Ա. ՀՈՎՀԱՆՆԻՍՅԱՆ'!K13+'Հ. ԴԱՐԲԻՆՅԱՆ'!K13+'Գ. ԲԱԼՅԱՆ'!K13+'Ե. ՔՈՉԱՐՅԱՆ'!K13+'Գ. ՀՈՎՀԱՆՆԻՍՅԱՆ'!K13+'Ս. ՍԱՀԱԿՅԱՆ'!K13+'Ս. ՄԱՏԻՆՅԱՆ'!K13 -> 3 | ... R13: ='Հ. ՊԵՏՐՈՍՅԱՆ'!R13+'Լ. ԱՐԱԶՅԱՆ'!R13+'Թ. ՊՈՂՈՍՅԱՆ'!R13+'Ռ. ՄԽԻԹԱՐՅԱՆ'!R13+'Գ. ՍԱՐԳՍՅԱՆ'!R13+'Ա. ՀՈՎՀԱՆՆԻՍՅԱՆ'!R13+'Հ. ԴԱՐԲԻՆՅԱՆ'!R13+'Գ. ԲԱԼՅԱՆ'!R13+'Ե. ՔՈՉԱՐՅԱՆ'!R13+'Գ. ՀՈՎՀԱՆՆԻՍՅԱՆ'!R13+'Ս. ՍԱՀԱԿՅԱՆ'!R13+'Ս. ՄԱՏԻՆՅԱՆ'!R13 -> 0 | S13: ='Հ. ՊԵՏՐՈՍՅԱՆ'!S13+'Լ. ԱՐԱԶՅԱՆ'!S13+'Թ. ՊՈՂՈՍՅԱՆ'!S13+'Ռ. ՄԽԻԹԱՐՅԱՆ'!S13+'Գ. ՍԱՐԳՍՅԱՆ'!S13+'Ա. ՀՈՎՀԱՆՆԻՍՅԱՆ'!S13+'Հ. ԴԱՐԲԻՆՅԱՆ'!S13+'Գ. ԲԱԼՅԱՆ'!S13 -> 0 | T13: =D13+E13 -> 3 | U13: =F13+K13+L13 -> 3 | V13: =K13 -> 3 | W13: =G13+H13+I13+J13 -> 3
A14: 8 | B14: Ñ»é³Ëáu³ÛÇÝ Ï³Ù Ï³åÇ ³ÛÉ ÙÇçáóÝ»ñáí ï³ñíáÕ Ëáu³ÏóáõÃÛáõÝÝ»ñÇ ÉuÙ³Ý ¨ Ó³ÛÝ³·ñ³éÙ³Ý Ù³ëÇÝ ÙÇçÝáñ¹áõÃÛáõÝÝ»ñ | D14: ='Հ. ՊԵՏՐՈՍՅԱՆ'!D14+'Լ. ԱՐԱԶՅԱՆ'!D14+'Թ. ՊՈՂՈՍՅԱՆ'!D14+'Ռ. ՄԽԻԹԱՐՅԱՆ'!D14+'Գ. ՍԱՐԳՍՅԱՆ'!D14+'Ա. ՀՈՎՀԱՆՆԻՍՅԱՆ'!D14+'Հ. ԴԱՐԲԻՆՅԱՆ'!D14+'Գ. ԲԱԼՅԱՆ'!D14+'Ե. ՔՈՉԱՐՅԱՆ'!D14+'Գ. ՀՈՎՀԱՆՆԻՍՅԱՆ'!D14+'Ս. ՍԱՀԱԿՅԱՆ'!D14+'Ս. ՄԱՏԻՆՅԱՆ'!D14 -> 0 | E14: ='Հ. ՊԵՏՐՈՍՅԱՆ'!E14+'Լ. ԱՐԱԶՅԱՆ'!E14+'Թ. ՊՈՂՈՍՅԱՆ'!E14+'Ռ. ՄԽԻԹԱՐՅԱՆ'!E14+'Գ. ՍԱՐԳՍՅԱՆ'!E14+'Ա. ՀՈՎՀԱՆՆԻՍՅԱՆ'!E14+'Հ. ԴԱՐԲԻՆՅԱՆ'!E14+'Գ. ԲԱԼՅԱՆ'!E14+'Ե. ՔՈՉԱՐՅԱՆ'!E14+'Գ. ՀՈՎՀԱՆՆԻՍՅԱՆ'!E14+'Ս. ՍԱՀԱԿՅԱՆ'!E14+'Ս. ՄԱՏԻՆՅԱՆ'!E14 -> 0 | F14: ='Հ. ՊԵՏՐՈՍՅԱՆ'!F14+'Լ. ԱՐԱԶՅԱՆ'!F14+'Թ. ՊՈՂՈՍՅԱՆ'!F14+'Ռ. ՄԽԻԹԱՐՅԱՆ'!F14+'Գ. ՍԱՐԳՍՅԱՆ'!F14+'Ա. ՀՈՎՀԱՆՆԻՍՅԱՆ'!F14+'Հ. ԴԱՐԲԻՆՅԱՆ'!F14+'Գ. ԲԱԼՅԱՆ'!F14+'Ե. ՔՈՉԱՐՅԱՆ'!F14+'Գ. ՀՈՎՀԱՆՆԻՍՅԱՆ'!F14+'Ս. ՍԱՀԱԿՅԱՆ'!F14+'Ս. ՄԱՏԻՆՅԱՆ'!F14 -> 0 | G14: ='Հ. ՊԵՏՐՈՍՅԱՆ'!G14+'Լ. ԱՐԱԶՅԱՆ'!G14+'Թ. ՊՈՂՈՍՅԱՆ'!G14+'Ռ. ՄԽԻԹԱՐՅԱՆ'!G14+'Գ. ՍԱՐԳՍՅԱՆ'!G14+'Ա. ՀՈՎՀԱՆՆԻՍՅԱՆ'!G14+'Հ. ԴԱՐԲԻՆՅԱՆ'!G14+'Գ. ԲԱԼՅԱՆ'!G14+'Ե. ՔՈՉԱՐՅԱՆ'!G14+'Գ. ՀՈՎՀԱՆՆԻՍՅԱՆ'!G14+'Ս. ՍԱՀԱԿՅԱՆ'!G14+'Ս. ՄԱՏԻՆՅԱՆ'!G14 -> 0 | H14: ='Հ. ՊԵՏՐՈՍՅԱՆ'!H14+'Լ. ԱՐԱԶՅԱՆ'!H14+'Թ. ՊՈՂՈՍՅԱՆ'!H14+'Ռ. ՄԽԻԹԱՐՅԱՆ'!H14+'Գ. ՍԱՐԳՍՅԱՆ'!H14+'Ա. ՀՈՎՀԱՆՆԻՍՅԱՆ'!H14+'Հ. ԴԱՐԲԻՆՅԱՆ'!H14+'Գ. ԲԱԼՅԱՆ'!H14+'Ե. ՔՈՉԱՐՅԱՆ'!H14+'Գ. ՀՈՎՀԱՆՆԻՍՅԱՆ'!H14+'Ս. ՍԱՀԱԿՅԱՆ'!H14+'Ս. ՄԱՏԻՆՅԱՆ'!H14 -> 0 | I14: ='Հ. ՊԵՏՐՈՍՅԱՆ'!I14+'Լ. ԱՐԱԶՅԱՆ'!I14+'Թ. ՊՈՂՈՍՅԱՆ'!I14+'Ռ. ՄԽԻԹԱՐՅԱՆ'!I14+'Գ. ՍԱՐԳՍՅԱՆ'!I14+'Ա. ՀՈՎՀԱՆՆԻՍՅԱՆ'!I14+'Հ. ԴԱՐԲԻՆՅԱՆ'!I14+'Գ. ԲԱԼՅԱՆ'!I14+'Ե. ՔՈՉԱՐՅԱՆ'!I14+'Գ. ՀՈՎՀԱՆՆԻՍՅԱՆ'!I14+'Ս. ՍԱՀԱԿՅԱՆ'!I14+'Ս. ՄԱՏԻՆՅԱՆ'!I14 -> 0 | J14: ='Հ. ՊԵՏՐՈՍՅԱՆ'!J14+'Լ. ԱՐԱԶՅԱՆ'!J14+'Թ. ՊՈՂՈՍՅԱՆ'!J14+'Ռ. ՄԽԻԹԱՐՅԱՆ'!J14+'Գ. ՍԱՐԳՍՅԱՆ'!J14+'Ա. ՀՈՎՀԱՆՆԻՍՅԱՆ'!J14+'Հ. ԴԱՐԲԻՆՅԱՆ'!J14+'Գ. ԲԱԼՅԱՆ'!J14+'Ե. ՔՈՉԱՐՅԱՆ'!J14+'Գ. ՀՈՎՀԱՆՆԻՍՅԱՆ'!J14+'Ս. ՍԱՀԱԿՅԱՆ'!J14+'Ս. ՄԱՏԻՆՅԱՆ'!J14 -> 0 | K14: ='Հ. ՊԵՏՐՈՍՅԱՆ'!K14+'Լ. ԱՐԱԶՅԱՆ'!K14+'Թ. ՊՈՂՈՍՅԱՆ'!K14+'Ռ. ՄԽԻԹԱՐՅԱՆ'!K14+'Գ. ՍԱՐԳՍՅԱՆ'!K14+'Ա. ՀՈՎՀԱՆՆԻՍՅԱՆ'!K14+'Հ. ԴԱՐԲԻՆՅԱՆ'!K14+'Գ. ԲԱԼՅԱՆ'!K14+'Ե. ՔՈՉԱՐՅԱՆ'!K14+'Գ. ՀՈՎՀԱՆՆԻՍՅԱՆ'!K14+'Ս. ՍԱՀԱԿՅԱՆ'!K14+'Ս. ՄԱՏԻՆՅԱՆ'!K14 -> 0 | ... R14: ='Հ. ՊԵՏՐՈՍՅԱՆ'!R14+'Լ. ԱՐԱԶՅԱՆ'!R14+'Թ. ՊՈՂՈՍՅԱՆ'!R14+'Ռ. ՄԽԻԹԱՐՅԱՆ'!R14+'Գ. ՍԱՐԳՍՅԱՆ'!R14+'Ա. ՀՈՎՀԱՆՆԻՍՅԱՆ'!R14+'Հ. ԴԱՐԲԻՆՅԱՆ'!R14+'Գ. ԲԱԼՅԱՆ'!R14+'Ե. ՔՈՉԱՐՅԱՆ'!R14+'Գ. ՀՈՎՀԱՆՆԻՍՅԱՆ'!R14+'Ս. ՍԱՀԱԿՅԱՆ'!R14+'Ս. ՄԱՏԻՆՅԱՆ'!R14 -> 0 | S14: ='Հ. ՊԵՏՐՈՍՅԱՆ'!S14+'Լ. ԱՐԱԶՅԱՆ'!S14+'Թ. ՊՈՂՈՍՅԱՆ'!S14+'Ռ. ՄԽԻԹԱՐՅԱՆ'!S14+'Գ. ՍԱՐԳՍՅԱՆ'!S14+'Ա. ՀՈՎՀԱՆՆԻՍՅԱՆ'!S14+'Հ. ԴԱՐԲԻՆՅԱՆ'!S14+'Գ. ԲԱԼՅԱՆ'!S14 -> 0 | T14: =D14+E14 -> 0 | U14: =F14+K14+L14 -> 0 | V14: =K14 -> 0 | W14: =G14+H14+I14+J14 -> 0
A15: 9 | B15: Ñ»é³ËáëÝ»ñÇ Ùáõïù³ÛÇÝ ¨ »Éù³ÛÇÝ í»ñÍ³ÝÙ³Ý ÃáõÛÉïíáõÃÛáõÝ ëï³Ý³Éáõ Ù³ëÇÝ ÙÇçÝáñ¹áõÃÛáõÝÝ»ñ | D15: ='Հ. ՊԵՏՐՈՍՅԱՆ'!D15+'Լ. ԱՐԱԶՅԱՆ'!D15+'Թ. ՊՈՂՈՍՅԱՆ'!D15+'Ռ. ՄԽԻԹԱՐՅԱՆ'!D15+'Գ. ՍԱՐԳՍՅԱՆ'!D15+'Ա. ՀՈՎՀԱՆՆԻՍՅԱՆ'!D15+'Հ. ԴԱՐԲԻՆՅԱՆ'!D15+'Գ. ԲԱԼՅԱՆ'!D15+'Ե. ՔՈՉԱՐՅԱՆ'!D15+'Գ. ՀՈՎՀԱՆՆԻՍՅԱՆ'!D15+'Ս. ՍԱՀԱԿՅԱՆ'!D15+'Ս. ՄԱՏԻՆՅԱՆ'!D15 -> 0 | E15: ='Հ. ՊԵՏՐՈՍՅԱՆ'!E15+'Լ. ԱՐԱԶՅԱՆ'!E15+'Թ. ՊՈՂՈՍՅԱՆ'!E15+'Ռ. ՄԽԻԹԱՐՅԱՆ'!E15+'Գ. ՍԱՐԳՍՅԱՆ'!E15+'Ա. ՀՈՎՀԱՆՆԻՍՅԱՆ'!E15+'Հ. ԴԱՐԲԻՆՅԱՆ'!E15+'Գ. ԲԱԼՅԱՆ'!E15+'Ե. ՔՈՉԱՐՅԱՆ'!E15+'Գ. ՀՈՎՀԱՆՆԻՍՅԱՆ'!E15+'Ս. ՍԱՀԱԿՅԱՆ'!E15+'Ս. ՄԱՏԻՆՅԱՆ'!E15 -> 89 | F15: ='Հ. ՊԵՏՐՈՍՅԱՆ'!F15+'Լ. ԱՐԱԶՅԱՆ'!F15+'Թ. ՊՈՂՈՍՅԱՆ'!F15+'Ռ. ՄԽԻԹԱՐՅԱՆ'!F15+'Գ. ՍԱՐԳՍՅԱՆ'!F15+'Ա. ՀՈՎՀԱՆՆԻՍՅԱՆ'!F15+'Հ. ԴԱՐԲԻՆՅԱՆ'!F15+'Գ. ԲԱԼՅԱՆ'!F15+'Ե. ՔՈՉԱՐՅԱՆ'!F15+'Գ. ՀՈՎՀԱՆՆԻՍՅԱՆ'!F15+'Ս. ՍԱՀԱԿՅԱՆ'!F15+'Ս. ՄԱՏԻՆՅԱՆ'!F15 -> 0 | G15: ='Հ. ՊԵՏՐՈՍՅԱՆ'!G15+'Լ. ԱՐԱԶՅԱՆ'!G15+'Թ. ՊՈՂՈՍՅԱՆ'!G15+'Ռ. ՄԽԻԹԱՐՅԱՆ'!G15+'Գ. ՍԱՐԳՍՅԱՆ'!G15+'Ա. ՀՈՎՀԱՆՆԻՍՅԱՆ'!G15+'Հ. ԴԱՐԲԻՆՅԱՆ'!G15+'Գ. ԲԱԼՅԱՆ'!G15+'Ե. ՔՈՉԱՐՅԱՆ'!G15+'Գ. ՀՈՎՀԱՆՆԻՍՅԱՆ'!G15+'Ս. ՍԱՀԱԿՅԱՆ'!G15+'Ս. ՄԱՏԻՆՅԱՆ'!G15 -> 1 | H15: ='Հ. ՊԵՏՐՈՍՅԱՆ'!H15+'Լ. ԱՐԱԶՅԱՆ'!H15+'Թ. ՊՈՂՈՍՅԱՆ'!H15+'Ռ. ՄԽԻԹԱՐՅԱՆ'!H15+'Գ. ՍԱՐԳՍՅԱՆ'!H15+'Ա. ՀՈՎՀԱՆՆԻՍՅԱՆ'!H15+'Հ. ԴԱՐԲԻՆՅԱՆ'!H15+'Գ. ԲԱԼՅԱՆ'!H15+'Ե. ՔՈՉԱՐՅԱՆ'!H15+'Գ. ՀՈՎՀԱՆՆԻՍՅԱՆ'!H15+'Ս. ՍԱՀԱԿՅԱՆ'!H15+'Ս. ՄԱՏԻՆՅԱՆ'!H15 -> 88 | I15: ='Հ. ՊԵՏՐՈՍՅԱՆ'!I15+'Լ. ԱՐԱԶՅԱՆ'!I15+'Թ. ՊՈՂՈՍՅԱՆ'!I15+'Ռ. ՄԽԻԹԱՐՅԱՆ'!I15+'Գ. ՍԱՐԳՍՅԱՆ'!I15+'Ա. ՀՈՎՀԱՆՆԻՍՅԱՆ'!I15+'Հ. ԴԱՐԲԻՆՅԱՆ'!I15+'Գ. ԲԱԼՅԱՆ'!I15+'Ե. ՔՈՉԱՐՅԱՆ'!I15+'Գ. ՀՈՎՀԱՆՆԻՍՅԱՆ'!I15+'Ս. ՍԱՀԱԿՅԱՆ'!I15+'Ս. ՄԱՏԻՆՅԱՆ'!I15 -> 0 | J15: ='Հ. ՊԵՏՐՈՍՅԱՆ'!J15+'Լ. ԱՐԱԶՅԱՆ'!J15+'Թ. ՊՈՂՈՍՅԱՆ'!J15+'Ռ. ՄԽԻԹԱՐՅԱՆ'!J15+'Գ. ՍԱՐԳՍՅԱՆ'!J15+'Ա. ՀՈՎՀԱՆՆԻՍՅԱՆ'!J15+'Հ. ԴԱՐԲԻՆՅԱՆ'!J15+'Գ. ԲԱԼՅԱՆ'!J15+'Ե. ՔՈՉԱՐՅԱՆ'!J15+'Գ. ՀՈՎՀԱՆՆԻՍՅԱՆ'!J15+'Ս. ՍԱՀԱԿՅԱՆ'!J15+'Ս. ՄԱՏԻՆՅԱՆ'!J15 -> 0 | K15: ='Հ. ՊԵՏՐՈՍՅԱՆ'!K15+'Լ. ԱՐԱԶՅԱՆ'!K15+'Թ. ՊՈՂՈՍՅԱՆ'!K15+'Ռ. ՄԽԻԹԱՐՅԱՆ'!K15+'Գ. ՍԱՐԳՍՅԱՆ'!K15+'Ա. ՀՈՎՀԱՆՆԻՍՅԱՆ'!K15+'Հ. ԴԱՐԲԻՆՅԱՆ'!K15+'Գ. ԲԱԼՅԱՆ'!K15+'Ե. ՔՈՉԱՐՅԱՆ'!K15+'Գ. ՀՈՎՀԱՆՆԻՍՅԱՆ'!K15+'Ս. ՍԱՀԱԿՅԱՆ'!K15+'Ս. ՄԱՏԻՆՅԱՆ'!K15 -> 89 | ... R15: ='Հ. ՊԵՏՐՈՍՅԱՆ'!R15+'Լ. ԱՐԱԶՅԱՆ'!R15+'Թ. ՊՈՂՈՍՅԱՆ'!R15+'Ռ. ՄԽԻԹԱՐՅԱՆ'!R15+'Գ. ՍԱՐԳՍՅԱՆ'!R15+'Ա. ՀՈՎՀԱՆՆԻՍՅԱՆ'!R15+'Հ. ԴԱՐԲԻՆՅԱՆ'!R15+'Գ. ԲԱԼՅԱՆ'!R15+'Ե. ՔՈՉԱՐՅԱՆ'!R15+'Գ. ՀՈՎՀԱՆՆԻՍՅԱՆ'!R15+'Ս. ՍԱՀԱԿՅԱՆ'!R15+'Ս. ՄԱՏԻՆՅԱՆ'!R15 -> 0 | S15: ='Հ. ՊԵՏՐՈՍՅԱՆ'!S15+'Լ. ԱՐԱԶՅԱՆ'!S15+'Թ. ՊՈՂՈՍՅԱՆ'!S15+'Ռ. ՄԽԻԹԱՐՅԱՆ'!S15+'Գ. ՍԱՐԳՍՅԱՆ'!S15+'Ա. ՀՈՎՀԱՆՆԻՍՅԱՆ'!S15+'Հ. ԴԱՐԲԻՆՅԱՆ'!S15+'Գ. ԲԱԼՅԱՆ'!S15 -> 0 | T15: =D15+E15 -> 89 | U15: =F15+K15+L15 -> 89 | V15: =K15 -> 89 | W15: =G15+H15+I15+J15 -> 89
A16: 10 | B16: Ñ»ï³ùÝÝáõÃÛ³Ý Ù³ñÙÝÇ ³ßË³ïáÕÇ, ùÝÝÇãÇ, ¹³ï³Ë³½Ç oå»ñ³ïÇí-Ñ»ï³Ëáõ½³Ï³Ý ·áñÍáÕáõÃÛáõÝÝ»ñ Çñ³Ï³Ý³óÝáÕ Ù³ñÙÇÝÝ»ñÇ ³ÝoñÇÝ³Ï³Ý ¨ ³ÝÑÇÙÝ áñáßáõÙÝ»ñÇ ¨ ·áñÍáÕáõÃÛáõÝÝ»ñÇ ¹»Ù µáÕáùÝ»ñ | D16: ='Հ. ՊԵՏՐՈՍՅԱՆ'!D16+'Լ. ԱՐԱԶՅԱՆ'!D16+'Թ. ՊՈՂՈՍՅԱՆ'!D16+'Ռ. ՄԽԻԹԱՐՅԱՆ'!D16+'Գ. ՍԱՐԳՍՅԱՆ'!D16+'Ա. ՀՈՎՀԱՆՆԻՍՅԱՆ'!D16+'Հ. ԴԱՐԲԻՆՅԱՆ'!D16+'Գ. ԲԱԼՅԱՆ'!D16+'Ե. ՔՈՉԱՐՅԱՆ'!D16+'Գ. ՀՈՎՀԱՆՆԻՍՅԱՆ'!D16+'Ս. ՍԱՀԱԿՅԱՆ'!D16+'Ս. ՄԱՏԻՆՅԱՆ'!D16 -> 1 | E16: ='Հ. ՊԵՏՐՈՍՅԱՆ'!E16+'Լ. ԱՐԱԶՅԱՆ'!E16+'Թ. ՊՈՂՈՍՅԱՆ'!E16+'Ռ. ՄԽԻԹԱՐՅԱՆ'!E16+'Գ. ՍԱՐԳՍՅԱՆ'!E16+'Ա. ՀՈՎՀԱՆՆԻՍՅԱՆ'!E16+'Հ. ԴԱՐԲԻՆՅԱՆ'!E16+'Գ. ԲԱԼՅԱՆ'!E16+'Ե. ՔՈՉԱՐՅԱՆ'!E16+'Գ. ՀՈՎՀԱՆՆԻՍՅԱՆ'!E16+'Ս. ՍԱՀԱԿՅԱՆ'!E16+'Ս. ՄԱՏԻՆՅԱՆ'!E16 -> 18 | F16: ='Հ. ՊԵՏՐՈՍՅԱՆ'!F16+'Լ. ԱՐԱԶՅԱՆ'!F16+'Թ. ՊՈՂՈՍՅԱՆ'!F16+'Ռ. ՄԽԻԹԱՐՅԱՆ'!F16+'Գ. ՍԱՐԳՍՅԱՆ'!F16+'Ա. ՀՈՎՀԱՆՆԻՍՅԱՆ'!F16+'Հ. ԴԱՐԲԻՆՅԱՆ'!F16+'Գ. ԲԱԼՅԱՆ'!F16+'Ե. ՔՈՉԱՐՅԱՆ'!F16+'Գ. ՀՈՎՀԱՆՆԻՍՅԱՆ'!F16+'Ս. ՍԱՀԱԿՅԱՆ'!F16+'Ս. ՄԱՏԻՆՅԱՆ'!F16 -> 3 | G16: ='Հ. ՊԵՏՐՈՍՅԱՆ'!G16+'Լ. ԱՐԱԶՅԱՆ'!G16+'Թ. ՊՈՂՈՍՅԱՆ'!G16+'Ռ. ՄԽԻԹԱՐՅԱՆ'!G16+'Գ. ՍԱՐԳՍՅԱՆ'!G16+'Ա. ՀՈՎՀԱՆՆԻՍՅԱՆ'!G16+'Հ. ԴԱՐԲԻՆՅԱՆ'!G16+'Գ. ԲԱԼՅԱՆ'!G16+'Ե. ՔՈՉԱՐՅԱՆ'!G16+'Գ. ՀՈՎՀԱՆՆԻՍՅԱՆ'!G16+'Ս. ՍԱՀԱԿՅԱՆ'!G16+'Ս. ՄԱՏԻՆՅԱՆ'!G16 -> 9 | H16: ='Հ. ՊԵՏՐՈՍՅԱՆ'!H16+'Լ. ԱՐԱԶՅԱՆ'!H16+'Թ. ՊՈՂՈՍՅԱՆ'!H16+'Ռ. ՄԽԻԹԱՐՅԱՆ'!H16+'Գ. ՍԱՐԳՍՅԱՆ'!H16+'Ա. ՀՈՎՀԱՆՆԻՍՅԱՆ'!H16+'Հ. ԴԱՐԲԻՆՅԱՆ'!H16+'Գ. ԲԱԼՅԱՆ'!H16+'Ե. ՔՈՉԱՐՅԱՆ'!H16+'Գ. ՀՈՎՀԱՆՆԻՍՅԱՆ'!H16+'Ս. ՍԱՀԱԿՅԱՆ'!H16+'Ս. ՄԱՏԻՆՅԱՆ'!H16 -> 0 | I16: ='Հ. ՊԵՏՐՈՍՅԱՆ'!I16+'Լ. ԱՐԱԶՅԱՆ'!I16+'Թ. ՊՈՂՈՍՅԱՆ'!I16+'Ռ. ՄԽԻԹԱՐՅԱՆ'!I16+'Գ. ՍԱՐԳՍՅԱՆ'!I16+'Ա. ՀՈՎՀԱՆՆԻՍՅԱՆ'!I16+'Հ. ԴԱՐԲԻՆՅԱՆ'!I16+'Գ. ԲԱԼՅԱՆ'!I16+'Ե. ՔՈՉԱՐՅԱՆ'!I16+'Գ. ՀՈՎՀԱՆՆԻՍՅԱՆ'!I16+'Ս. ՍԱՀԱԿՅԱՆ'!I16+'Ս. ՄԱՏԻՆՅԱՆ'!I16 -> 0 | J16: ='Հ. ՊԵՏՐՈՍՅԱՆ'!J16+'Լ. ԱՐԱԶՅԱՆ'!J16+'Թ. ՊՈՂՈՍՅԱՆ'!J16+'Ռ. ՄԽԻԹԱՐՅԱՆ'!J16+'Գ. ՍԱՐԳՍՅԱՆ'!J16+'Ա. ՀՈՎՀԱՆՆԻՍՅԱՆ'!J16+'Հ. ԴԱՐԲԻՆՅԱՆ'!J16+'Գ. ԲԱԼՅԱՆ'!J16+'Ե. ՔՈՉԱՐՅԱՆ'!J16+'Գ. ՀՈՎՀԱՆՆԻՍՅԱՆ'!J16+'Ս. ՍԱՀԱԿՅԱՆ'!J16+'Ս. ՄԱՏԻՆՅԱՆ'!J16 -> 0 | K16: ='Հ. ՊԵՏՐՈՍՅԱՆ'!K16+'Լ. ԱՐԱԶՅԱՆ'!K16+'Թ. ՊՈՂՈՍՅԱՆ'!K16+'Ռ. ՄԽԻԹԱՐՅԱՆ'!K16+'Գ. ՍԱՐԳՍՅԱՆ'!K16+'Ա. ՀՈՎՀԱՆՆԻՍՅԱՆ'!K16+'Հ. ԴԱՐԲԻՆՅԱՆ'!K16+'Գ. ԲԱԼՅԱՆ'!K16+'Ե. ՔՈՉԱՐՅԱՆ'!K16+'Գ. ՀՈՎՀԱՆՆԻՍՅԱՆ'!K16+'Ս. ՍԱՀԱԿՅԱՆ'!K16+'Ս. ՄԱՏԻՆՅԱՆ'!K16 -> 9 | ... S16: ='Հ. ՊԵՏՐՈՍՅԱՆ'!S16+'Լ. ԱՐԱԶՅԱՆ'!S16+'Թ. ՊՈՂՈՍՅԱՆ'!S16+'Ռ. ՄԽԻԹԱՐՅԱՆ'!S16+'Գ. ՍԱՐԳՍՅԱՆ'!S16+'Ա. ՀՈՎՀԱՆՆԻՍՅԱՆ'!S16+'Հ. ԴԱՐԲԻՆՅԱՆ'!S16+'Գ. ԲԱԼՅԱՆ'!S16+'Ե. ՔՈՉԱՐՅԱՆ'!S16+'Գ. ՀՈՎՀԱՆՆԻՍՅԱՆ'!S16+'Ս. ՍԱՀԱԿՅԱՆ'!S16+'Ս. ՄԱՏԻՆՅԱՆ'!S16 -> 0 | T16: =D16+E16 -> 19 | U16: =F16+K16+L16 -> 19 | V16: =K16 -> 9 | W16: =G16+H16+I16+J16 -> 9
A17: 11 | B17: ²½³ïáõÃÛáõÝÇó ½ñÏ»Éáõ Çñ³í³ã³÷áõÃÛ³Ý í»ñ³µ»ñÛ³É µáÕáùÝ»ñáí ·áñÍ»ñ | D17: ='Հ. ՊԵՏՐՈՍՅԱՆ'!D17+'Լ. ԱՐԱԶՅԱՆ'!D17+'Թ. ՊՈՂՈՍՅԱՆ'!D17+'Ռ. ՄԽԻԹԱՐՅԱՆ'!D17+'Գ. ՍԱՐԳՍՅԱՆ'!D17+'Ա. ՀՈՎՀԱՆՆԻՍՅԱՆ'!D17+'Հ. ԴԱՐԲԻՆՅԱՆ'!D17+'Գ. ԲԱԼՅԱՆ'!D17+'Ե. ՔՈՉԱՐՅԱՆ'!D17+'Գ. ՀՈՎՀԱՆՆԻՍՅԱՆ'!D17+'Ս. ՍԱՀԱԿՅԱՆ'!D17+'Ս. ՄԱՏԻՆՅԱՆ'!D17 -> 0 | E17: ='Հ. ՊԵՏՐՈՍՅԱՆ'!E17+'Լ. ԱՐԱԶՅԱՆ'!E17+'Թ. ՊՈՂՈՍՅԱՆ'!E17+'Ռ. ՄԽԻԹԱՐՅԱՆ'!E17+'Գ. ՍԱՐԳՍՅԱՆ'!E17+'Ա. ՀՈՎՀԱՆՆԻՍՅԱՆ'!E17+'Հ. ԴԱՐԲԻՆՅԱՆ'!E17+'Գ. ԲԱԼՅԱՆ'!E17+'Ե. ՔՈՉԱՐՅԱՆ'!E17+'Գ. ՀՈՎՀԱՆՆԻՍՅԱՆ'!E17+'Ս. ՍԱՀԱԿՅԱՆ'!E17+'Ս. ՄԱՏԻՆՅԱՆ'!E17 -> 0 | F17: ='Հ. ՊԵՏՐՈՍՅԱՆ'!F17+'Լ. ԱՐԱԶՅԱՆ'!F17+'Թ. ՊՈՂՈՍՅԱՆ'!F17+'Ռ. ՄԽԻԹԱՐՅԱՆ'!F17+'Գ. ՍԱՐԳՍՅԱՆ'!F17+'Ա. ՀՈՎՀԱՆՆԻՍՅԱՆ'!F17+'Հ. ԴԱՐԲԻՆՅԱՆ'!F17+'Գ. ԲԱԼՅԱՆ'!F17+'Ե. ՔՈՉԱՐՅԱՆ'!F17+'Գ. ՀՈՎՀԱՆՆԻՍՅԱՆ'!F17+'Ս. ՍԱՀԱԿՅԱՆ'!F17+'Ս. ՄԱՏԻՆՅԱՆ'!F17 -> 0 | G17: ='Հ. ՊԵՏՐՈՍՅԱՆ'!G17+'Լ. ԱՐԱԶՅԱՆ'!G17+'Թ. ՊՈՂՈՍՅԱՆ'!G17+'Ռ. ՄԽԻԹԱՐՅԱՆ'!G17+'Գ. ՍԱՐԳՍՅԱՆ'!G17+'Ա. ՀՈՎՀԱՆՆԻՍՅԱՆ'!G17+'Հ. ԴԱՐԲԻՆՅԱՆ'!G17+'Գ. ԲԱԼՅԱՆ'!G17+'Ե. ՔՈՉԱՐՅԱՆ'!G17+'Գ. ՀՈՎՀԱՆՆԻՍՅԱՆ'!G17+'Ս. ՍԱՀԱԿՅԱՆ'!G17+'Ս. ՄԱՏԻՆՅԱՆ'!G17 -> 0 | H17: ='Հ. ՊԵՏՐՈՍՅԱՆ'!H17+'Լ. ԱՐԱԶՅԱՆ'!H17+'Թ. ՊՈՂՈՍՅԱՆ'!H17+'Ռ. ՄԽԻԹԱՐՅԱՆ'!H17+'Գ. ՍԱՐԳՍՅԱՆ'!H17+'Ա. ՀՈՎՀԱՆՆԻՍՅԱՆ'!H17+'Հ. ԴԱՐԲԻՆՅԱՆ'!H17+'Գ. ԲԱԼՅԱՆ'!H17+'Ե. ՔՈՉԱՐՅԱՆ'!H17+'Գ. ՀՈՎՀԱՆՆԻՍՅԱՆ'!H17+'Ս. ՍԱՀԱԿՅԱՆ'!H17+'Ս. ՄԱՏԻՆՅԱՆ'!H17 -> 0 | I17: ='Հ. ՊԵՏՐՈՍՅԱՆ'!I17+'Լ. ԱՐԱԶՅԱՆ'!I17+'Թ. ՊՈՂՈՍՅԱՆ'!I17+'Ռ. ՄԽԻԹԱՐՅԱՆ'!I17+'Գ. ՍԱՐԳՍՅԱՆ'!I17+'Ա. ՀՈՎՀԱՆՆԻՍՅԱՆ'!I17+'Հ. ԴԱՐԲԻՆՅԱՆ'!I17+'Գ. ԲԱԼՅԱՆ'!I17+'Ե. ՔՈՉԱՐՅԱՆ'!I17+'Գ. ՀՈՎՀԱՆՆԻՍՅԱՆ'!I17+'Ս. ՍԱՀԱԿՅԱՆ'!I17+'Ս. ՄԱՏԻՆՅԱՆ'!I17 -> 0 | J17: ='Հ. ՊԵՏՐՈՍՅԱՆ'!J17+'Լ. ԱՐԱԶՅԱՆ'!J17+'Թ. ՊՈՂՈՍՅԱՆ'!J17+'Ռ. ՄԽԻԹԱՐՅԱՆ'!J17+'Գ. ՍԱՐԳՍՅԱՆ'!J17+'Ա. ՀՈՎՀԱՆՆԻՍՅԱՆ'!J17+'Հ. ԴԱՐԲԻՆՅԱՆ'!J17+'Գ. ԲԱԼՅԱՆ'!J17+'Ե. ՔՈՉԱՐՅԱՆ'!J17+'Գ. ՀՈՎՀԱՆՆԻՍՅԱՆ'!J17+'Ս. ՍԱՀԱԿՅԱՆ'!J17+'Ս. ՄԱՏԻՆՅԱՆ'!J17 -> 0 | K17: ='Հ. ՊԵՏՐՈՍՅԱՆ'!K17+'Լ. ԱՐԱԶՅԱՆ'!K17+'Թ. ՊՈՂՈՍՅԱՆ'!K17+'Ռ. ՄԽԻԹԱՐՅԱՆ'!K17+'Գ. ՍԱՐԳՍՅԱՆ'!K17+'Ա. ՀՈՎՀԱՆՆԻՍՅԱՆ'!K17+'Հ. ԴԱՐԲԻՆՅԱՆ'!K17+'Գ. ԲԱԼՅԱՆ'!K17+'Ե. ՔՈՉԱՐՅԱՆ'!K17+'Գ. ՀՈՎՀԱՆՆԻՍՅԱՆ'!K17+'Ս. ՍԱՀԱԿՅԱՆ'!K17+'Ս. ՄԱՏԻՆՅԱՆ'!K17 -> 0 | ... R17: ='Հ. ՊԵՏՐՈՍՅԱՆ'!R17+'Լ. ԱՐԱԶՅԱՆ'!R17+'Թ. ՊՈՂՈՍՅԱՆ'!R17+'Ռ. ՄԽԻԹԱՐՅԱՆ'!R17+'Գ. ՍԱՐԳՍՅԱՆ'!R17+'Ա. ՀՈՎՀԱՆՆԻՍՅԱՆ'!R17+'Հ. ԴԱՐԲԻՆՅԱՆ'!R17+'Գ. ԲԱԼՅԱՆ'!R17+'Ե. ՔՈՉԱՐՅԱՆ'!R17+'Գ. ՀՈՎՀԱՆՆԻՍՅԱՆ'!R17+'Ս. ՍԱՀԱԿՅԱՆ'!R17+'Ս. ՄԱՏԻՆՅԱՆ'!R17 -> 0 | S17: ='Հ. ՊԵՏՐՈՍՅԱՆ'!S17+'Լ. ԱՐԱԶՅԱՆ'!S17+'Թ. ՊՈՂՈՍՅԱՆ'!S17+'Ռ. ՄԽԻԹԱՐՅԱՆ'!S17+'Գ. ՍԱՐԳՍՅԱՆ'!S17+'Ա. ՀՈՎՀԱՆՆԻՍՅԱՆ'!S17+'Հ. ԴԱՐԲԻՆՅԱՆ'!S17+'Գ. ԲԱԼՅԱՆ'!S17 -> 0 | T17: =D17+E17 -> 0 | U17: =F17+K17+L17 -> 0 | V17: =K17 -> 0 | W17: =G17+H17+I17+J17 -> 0
A18: 2. ¸³ï³Ï³Ý ³Ïï»ñÇ ¨ ¹³ï³Ï³Ý Ñ³ÝÓÝ³ñ³ñáõÃÛáõÝÝ»ñÇ Ï³ï³ñÙ³Ý Ñ»ï Ï³åí³Í Ñ³ñó»ñÇ ÉáõÍÙ³Ý áÉáñï | S18: ='Հ. ՊԵՏՐՈՍՅԱՆ'!S18+'Լ. ԱՐԱԶՅԱՆ'!S18+'Թ. ՊՈՂՈՍՅԱՆ'!S18+'Ռ. ՄԽԻԹԱՐՅԱՆ'!S18+'Գ. ՍԱՐԳՍՅԱՆ'!S18+'Ա. ՀՈՎՀԱՆՆԻՍՅԱՆ'!S18+'Հ. ԴԱՐԲԻՆՅԱՆ'!S18+'Գ. ԲԱԼՅԱՆ'!S18 -> 0
A19: 1 | B19: å³ïÅÇó å³ÛÙ³Ý³Ï³Ý í³Õ³Å³ÙÏ»ï ³½³ï»Éáõ Ù³ëÇÝ ÙÇçÝáñ¹áõÃÛáõÝÝ»ñ | D19: ='Հ. ՊԵՏՐՈՍՅԱՆ'!D19+'Լ. ԱՐԱԶՅԱՆ'!D19+'Թ. ՊՈՂՈՍՅԱՆ'!D19+'Ռ. ՄԽԻԹԱՐՅԱՆ'!D19+'Գ. ՍԱՐԳՍՅԱՆ'!D19+'Ա. ՀՈՎՀԱՆՆԻՍՅԱՆ'!D19+'Հ. ԴԱՐԲԻՆՅԱՆ'!D19+'Գ. ԲԱԼՅԱՆ'!D19+'Ե. ՔՈՉԱՐՅԱՆ'!D19+'Գ. ՀՈՎՀԱՆՆԻՍՅԱՆ'!D19+'Ս. ՍԱՀԱԿՅԱՆ'!D19+'Ս. ՄԱՏԻՆՅԱՆ'!D19 -> 0 | E19: ='Հ. ՊԵՏՐՈՍՅԱՆ'!E19+'Լ. ԱՐԱԶՅԱՆ'!E19+'Թ. ՊՈՂՈՍՅԱՆ'!E19+'Ռ. ՄԽԻԹԱՐՅԱՆ'!E19+'Գ. ՍԱՐԳՍՅԱՆ'!E19+'Ա. ՀՈՎՀԱՆՆԻՍՅԱՆ'!E19+'Հ. ԴԱՐԲԻՆՅԱՆ'!E19+'Գ. ԲԱԼՅԱՆ'!E19+'Ե. ՔՈՉԱՐՅԱՆ'!E19+'Գ. ՀՈՎՀԱՆՆԻՍՅԱՆ'!E19+'Ս. ՍԱՀԱԿՅԱՆ'!E19+'Ս. ՄԱՏԻՆՅԱՆ'!E19 -> 0 | F19: ='Հ. ՊԵՏՐՈՍՅԱՆ'!F19+'Լ. ԱՐԱԶՅԱՆ'!F19+'Թ. ՊՈՂՈՍՅԱՆ'!F19+'Ռ. ՄԽԻԹԱՐՅԱՆ'!F19+'Գ. ՍԱՐԳՍՅԱՆ'!F19+'Ա. ՀՈՎՀԱՆՆԻՍՅԱՆ'!F19+'Հ. ԴԱՐԲԻՆՅԱՆ'!F19+'Գ. ԲԱԼՅԱՆ'!F19+'Ե. ՔՈՉԱՐՅԱՆ'!F19+'Գ. ՀՈՎՀԱՆՆԻՍՅԱՆ'!F19+'Ս. ՍԱՀԱԿՅԱՆ'!F19+'Ս. ՄԱՏԻՆՅԱՆ'!F19 -> 0 | G19: ='Հ. ՊԵՏՐՈՍՅԱՆ'!G19+'Լ. ԱՐԱԶՅԱՆ'!G19+'Թ. ՊՈՂՈՍՅԱՆ'!G19+'Ռ. ՄԽԻԹԱՐՅԱՆ'!G19+'Գ. ՍԱՐԳՍՅԱՆ'!G19+'Ա. ՀՈՎՀԱՆՆԻՍՅԱՆ'!G19+'Հ. ԴԱՐԲԻՆՅԱՆ'!G19+'Գ. ԲԱԼՅԱՆ'!G19+'Ե. ՔՈՉԱՐՅԱՆ'!G19+'Գ. ՀՈՎՀԱՆՆԻՍՅԱՆ'!G19+'Ս. ՍԱՀԱԿՅԱՆ'!G19+'Ս. ՄԱՏԻՆՅԱՆ'!G19 -> 0 | H19: ='Հ. ՊԵՏՐՈՍՅԱՆ'!H19+'Լ. ԱՐԱԶՅԱՆ'!H19+'Թ. ՊՈՂՈՍՅԱՆ'!H19+'Ռ. ՄԽԻԹԱՐՅԱՆ'!H19+'Գ. ՍԱՐԳՍՅԱՆ'!H19+'Ա. ՀՈՎՀԱՆՆԻՍՅԱՆ'!H19+'Հ. ԴԱՐԲԻՆՅԱՆ'!H19+'Գ. ԲԱԼՅԱՆ'!H19+'Ե. ՔՈՉԱՐՅԱՆ'!H19+'Գ. ՀՈՎՀԱՆՆԻՍՅԱՆ'!H19+'Ս. ՍԱՀԱԿՅԱՆ'!H19+'Ս. ՄԱՏԻՆՅԱՆ'!H19 -> 0 | I19: ='Հ. ՊԵՏՐՈՍՅԱՆ'!I19+'Լ. ԱՐԱԶՅԱՆ'!I19+'Թ. ՊՈՂՈՍՅԱՆ'!I19+'Ռ. ՄԽԻԹԱՐՅԱՆ'!I19+'Գ. ՍԱՐԳՍՅԱՆ'!I19+'Ա. ՀՈՎՀԱՆՆԻՍՅԱՆ'!I19+'Հ. ԴԱՐԲԻՆՅԱՆ'!I19+'Գ. ԲԱԼՅԱՆ'!I19+'Ե. ՔՈՉԱՐՅԱՆ'!I19+'Գ. ՀՈՎՀԱՆՆԻՍՅԱՆ'!I19+'Ս. ՍԱՀԱԿՅԱՆ'!I19+'Ս. ՄԱՏԻՆՅԱՆ'!I19 -> 0 | J19: ='Հ. ՊԵՏՐՈՍՅԱՆ'!J19+'Լ. ԱՐԱԶՅԱՆ'!J19+'Թ. ՊՈՂՈՍՅԱՆ'!J19+'Ռ. ՄԽԻԹԱՐՅԱՆ'!J19+'Գ. ՍԱՐԳՍՅԱՆ'!J19+'Ա. ՀՈՎՀԱՆՆԻՍՅԱՆ'!J19+'Հ. ԴԱՐԲԻՆՅԱՆ'!J19+'Գ. ԲԱԼՅԱՆ'!J19+'Ե. ՔՈՉԱՐՅԱՆ'!J19+'Գ. ՀՈՎՀԱՆՆԻՍՅԱՆ'!J19+'Ս. ՍԱՀԱԿՅԱՆ'!J19+'Ս. ՄԱՏԻՆՅԱՆ'!J19 -> 0 | K19: ='Հ. ՊԵՏՐՈՍՅԱՆ'!K19+'Լ. ԱՐԱԶՅԱՆ'!K19+'Թ. ՊՈՂՈՍՅԱՆ'!K19+'Ռ. ՄԽԻԹԱՐՅԱՆ'!K19+'Գ. ՍԱՐԳՍՅԱՆ'!K19+'Ա. ՀՈՎՀԱՆՆԻՍՅԱՆ'!K19+'Հ. ԴԱՐԲԻՆՅԱՆ'!K19+'Գ. ԲԱԼՅԱՆ'!K19+'Ե. ՔՈՉԱՐՅԱՆ'!K19+'Գ. ՀՈՎՀԱՆՆԻՍՅԱՆ'!K19+'Ս. ՍԱՀԱԿՅԱՆ'!K19+'Ս. ՄԱՏԻՆՅԱՆ'!K19 -> 0 | ... R19: ='Հ. ՊԵՏՐՈՍՅԱՆ'!R19+'Լ. ԱՐԱԶՅԱՆ'!R19+'Թ. ՊՈՂՈՍՅԱՆ'!R19+'Ռ. ՄԽԻԹԱՐՅԱՆ'!R19+'Գ. ՍԱՐԳՍՅԱՆ'!R19+'Ա. ՀՈՎՀԱՆՆԻՍՅԱՆ'!R19+'Հ. ԴԱՐԲԻՆՅԱՆ'!R19+'Գ. ԲԱԼՅԱՆ'!R19+'Ե. ՔՈՉԱՐՅԱՆ'!R19+'Գ. ՀՈՎՀԱՆՆԻՍՅԱՆ'!R19+'Ս. ՍԱՀԱԿՅԱՆ'!R19+'Ս. ՄԱՏԻՆՅԱՆ'!R19 -> 0 | S19: ='Հ. ՊԵՏՐՈՍՅԱՆ'!S19+'Լ. ԱՐԱԶՅԱՆ'!S19+'Թ. ՊՈՂՈՍՅԱՆ'!S19+'Ռ. ՄԽԻԹԱՐՅԱՆ'!S19+'Գ. ՍԱՐԳՍՅԱՆ'!S19+'Ա. ՀՈՎՀԱՆՆԻՍՅԱՆ'!S19+'Հ. ԴԱՐԲԻՆՅԱՆ'!S19+'Գ. ԲԱԼՅԱՆ'!S19 -> 0 | T19: =D19+E19 -> 0 | U19: =F19+K19+L19 -> 0 | V19: =K19 -> 0 | W19: =G19+H19+I19+J19 -> 0
A20: 2 | B20: å³ïÇÅÁ ÷á÷áË»Éáõ, Ñ»ï³Ó·»Éáõ ¨ å³ïÅÇó ³½³ï»Éáõ Ù³uÇÝ ÙÇçÝáñ¹áõÃÛáõÝÝ»ñ | D20: ='Հ. ՊԵՏՐՈՍՅԱՆ'!D20+'Լ. ԱՐԱԶՅԱՆ'!D20+'Թ. ՊՈՂՈՍՅԱՆ'!D20+'Ռ. ՄԽԻԹԱՐՅԱՆ'!D20+'Գ. ՍԱՐԳՍՅԱՆ'!D20+'Ա. ՀՈՎՀԱՆՆԻՍՅԱՆ'!D20+'Հ. ԴԱՐԲԻՆՅԱՆ'!D20+'Գ. ԲԱԼՅԱՆ'!D20+'Ե. ՔՈՉԱՐՅԱՆ'!D20+'Գ. ՀՈՎՀԱՆՆԻՍՅԱՆ'!D20+'Ս. ՍԱՀԱԿՅԱՆ'!D20+'Ս. ՄԱՏԻՆՅԱՆ'!D20 -> 9 | E20: ='Հ. ՊԵՏՐՈՍՅԱՆ'!E20+'Լ. ԱՐԱԶՅԱՆ'!E20+'Թ. ՊՈՂՈՍՅԱՆ'!E20+'Ռ. ՄԽԻԹԱՐՅԱՆ'!E20+'Գ. ՍԱՐԳՍՅԱՆ'!E20+'Ա. ՀՈՎՀԱՆՆԻՍՅԱՆ'!E20+'Հ. ԴԱՐԲԻՆՅԱՆ'!E20+'Գ. ԲԱԼՅԱՆ'!E20+'Ե. ՔՈՉԱՐՅԱՆ'!E20+'Գ. ՀՈՎՀԱՆՆԻՍՅԱՆ'!E20+'Ս. ՍԱՀԱԿՅԱՆ'!E20+'Ս. ՄԱՏԻՆՅԱՆ'!E20 -> 91 | F20: ='Հ. ՊԵՏՐՈՍՅԱՆ'!F20+'Լ. ԱՐԱԶՅԱՆ'!F20+'Թ. ՊՈՂՈՍՅԱՆ'!F20+'Ռ. ՄԽԻԹԱՐՅԱՆ'!F20+'Գ. ՍԱՐԳՍՅԱՆ'!F20+'Ա. ՀՈՎՀԱՆՆԻՍՅԱՆ'!F20+'Հ. ԴԱՐԲԻՆՅԱՆ'!F20+'Գ. ԲԱԼՅԱՆ'!F20+'Ե. ՔՈՉԱՐՅԱՆ'!F20+'Գ. ՀՈՎՀԱՆՆԻՍՅԱՆ'!F20+'Ս. ՍԱՀԱԿՅԱՆ'!F20+'Ս. ՄԱՏԻՆՅԱՆ'!F20 -> 6 | G20: ='Հ. ՊԵՏՐՈՍՅԱՆ'!G20+'Լ. ԱՐԱԶՅԱՆ'!G20+'Թ. ՊՈՂՈՍՅԱՆ'!G20+'Ռ. ՄԽԻԹԱՐՅԱՆ'!G20+'Գ. ՍԱՐԳՍՅԱՆ'!G20+'Ա. ՀՈՎՀԱՆՆԻՍՅԱՆ'!G20+'Հ. ԴԱՐԲԻՆՅԱՆ'!G20+'Գ. ԲԱԼՅԱՆ'!G20+'Ե. ՔՈՉԱՐՅԱՆ'!G20+'Գ. ՀՈՎՀԱՆՆԻՍՅԱՆ'!G20+'Ս. ՍԱՀԱԿՅԱՆ'!G20+'Ս. ՄԱՏԻՆՅԱՆ'!G20 -> 15 | H20: ='Հ. ՊԵՏՐՈՍՅԱՆ'!H20+'Լ. ԱՐԱԶՅԱՆ'!H20+'Թ. ՊՈՂՈՍՅԱՆ'!H20+'Ռ. ՄԽԻԹԱՐՅԱՆ'!H20+'Գ. ՍԱՐԳՍՅԱՆ'!H20+'Ա. ՀՈՎՀԱՆՆԻՍՅԱՆ'!H20+'Հ. ԴԱՐԲԻՆՅԱՆ'!H20+'Գ. ԲԱԼՅԱՆ'!H20+'Ե. ՔՈՉԱՐՅԱՆ'!H20+'Գ. ՀՈՎՀԱՆՆԻՍՅԱՆ'!H20+'Ս. ՍԱՀԱԿՅԱՆ'!H20+'Ս. ՄԱՏԻՆՅԱՆ'!H20 -> 23 | I20: ='Հ. ՊԵՏՐՈՍՅԱՆ'!I20+'Լ. ԱՐԱԶՅԱՆ'!I20+'Թ. ՊՈՂՈՍՅԱՆ'!I20+'Ռ. ՄԽԻԹԱՐՅԱՆ'!I20+'Գ. ՍԱՐԳՍՅԱՆ'!I20+'Ա. ՀՈՎՀԱՆՆԻՍՅԱՆ'!I20+'Հ. ԴԱՐԲԻՆՅԱՆ'!I20+'Գ. ԲԱԼՅԱՆ'!I20+'Ե. ՔՈՉԱՐՅԱՆ'!I20+'Գ. ՀՈՎՀԱՆՆԻՍՅԱՆ'!I20+'Ս. ՍԱՀԱԿՅԱՆ'!I20+'Ս. ՄԱՏԻՆՅԱՆ'!I20 -> 10 | J20: ='Հ. ՊԵՏՐՈՍՅԱՆ'!J20+'Լ. ԱՐԱԶՅԱՆ'!J20+'Թ. ՊՈՂՈՍՅԱՆ'!J20+'Ռ. ՄԽԻԹԱՐՅԱՆ'!J20+'Գ. ՍԱՐԳՍՅԱՆ'!J20+'Ա. ՀՈՎՀԱՆՆԻՍՅԱՆ'!J20+'Հ. ԴԱՐԲԻՆՅԱՆ'!J20+'Գ. ԲԱԼՅԱՆ'!J20+'Ե. ՔՈՉԱՐՅԱՆ'!J20+'Գ. ՀՈՎՀԱՆՆԻՍՅԱՆ'!J20+'Ս. ՍԱՀԱԿՅԱՆ'!J20+'Ս. ՄԱՏԻՆՅԱՆ'!J20 -> 3 | K20: ='Հ. ՊԵՏՐՈՍՅԱՆ'!K20+'Լ. ԱՐԱԶՅԱՆ'!K20+'Թ. ՊՈՂՈՍՅԱՆ'!K20+'Ռ. ՄԽԻԹԱՐՅԱՆ'!K20+'Գ. ՍԱՐԳՍՅԱՆ'!K20+'Ա. ՀՈՎՀԱՆՆԻՍՅԱՆ'!K20+'Հ. ԴԱՐԲԻՆՅԱՆ'!K20+'Գ. ԲԱԼՅԱՆ'!K20+'Ե. ՔՈՉԱՐՅԱՆ'!K20+'Գ. ՀՈՎՀԱՆՆԻՍՅԱՆ'!K20+'Ս. ՍԱՀԱԿՅԱՆ'!K20+'Ս. ՄԱՏԻՆՅԱՆ'!K20 -> 51 | ... R20: ='Հ. ՊԵՏՐՈՍՅԱՆ'!R20+'Լ. ԱՐԱԶՅԱՆ'!R20+'Թ. ՊՈՂՈՍՅԱՆ'!R20+'Ռ. ՄԽԻԹԱՐՅԱՆ'!R20+'Գ. ՍԱՐԳՍՅԱՆ'!R20+'Ա. ՀՈՎՀԱՆՆԻՍՅԱՆ'!R20+'Հ. ԴԱՐԲԻՆՅԱՆ'!R20+'Գ. ԲԱԼՅԱՆ'!R20+'Ե. ՔՈՉԱՐՅԱՆ'!R20+'Գ. ՀՈՎՀԱՆՆԻՍՅԱՆ'!R20+'Ս. ՍԱՀԱԿՅԱՆ'!R20+'Ս. ՄԱՏԻՆՅԱՆ'!R20 -> 0 | S20: ='Հ. ՊԵՏՐՈՍՅԱՆ'!S20+'Լ. ԱՐԱԶՅԱՆ'!S20+'Թ. ՊՈՂՈՍՅԱՆ'!S20+'Ռ. ՄԽԻԹԱՐՅԱՆ'!S20+'Գ. ՍԱՐԳՍՅԱՆ'!S20+'Ա. ՀՈՎՀԱՆՆԻՍՅԱՆ'!S20+'Հ. ԴԱՐԲԻՆՅԱՆ'!S20+'Գ. ԲԱԼՅԱՆ'!S20 -> 0 | T20: =D20+E20 -> 100 | U20: =F20+K20+L20 -> 100 | V20: =K20 -> 51 | W20: =G20+H20+I20+J20 -> 51
A21: 3 | B21: Ñ³ñÏ³¹Çñ µáõÅÙ³Ý ï»ë³ÏÇ ÷á÷áËáõÃÛ³Ý Ù³ëÇÝ ÙÇçÝáñ¹áõÃÛáõÝÝ»ñ | D21: ='Հ. ՊԵՏՐՈՍՅԱՆ'!D21+'Լ. ԱՐԱԶՅԱՆ'!D21+'Թ. ՊՈՂՈՍՅԱՆ'!D21+'Ռ. ՄԽԻԹԱՐՅԱՆ'!D21+'Գ. ՍԱՐԳՍՅԱՆ'!D21+'Ա. ՀՈՎՀԱՆՆԻՍՅԱՆ'!D21+'Հ. ԴԱՐԲԻՆՅԱՆ'!D21+'Գ. ԲԱԼՅԱՆ'!D21+'Ե. ՔՈՉԱՐՅԱՆ'!D21+'Գ. ՀՈՎՀԱՆՆԻՍՅԱՆ'!D21+'Ս. ՍԱՀԱԿՅԱՆ'!D21+'Ս. ՄԱՏԻՆՅԱՆ'!D21 -> 0 | E21: ='Հ. ՊԵՏՐՈՍՅԱՆ'!E21+'Լ. ԱՐԱԶՅԱՆ'!E21+'Թ. ՊՈՂՈՍՅԱՆ'!E21+'Ռ. ՄԽԻԹԱՐՅԱՆ'!E21+'Գ. ՍԱՐԳՍՅԱՆ'!E21+'Ա. ՀՈՎՀԱՆՆԻՍՅԱՆ'!E21+'Հ. ԴԱՐԲԻՆՅԱՆ'!E21+'Գ. ԲԱԼՅԱՆ'!E21+'Ե. ՔՈՉԱՐՅԱՆ'!E21+'Գ. ՀՈՎՀԱՆՆԻՍՅԱՆ'!E21+'Ս. ՍԱՀԱԿՅԱՆ'!E21+'Ս. ՄԱՏԻՆՅԱՆ'!E21 -> 2 | F21: ='Հ. ՊԵՏՐՈՍՅԱՆ'!F21+'Լ. ԱՐԱԶՅԱՆ'!F21+'Թ. ՊՈՂՈՍՅԱՆ'!F21+'Ռ. ՄԽԻԹԱՐՅԱՆ'!F21+'Գ. ՍԱՐԳՍՅԱՆ'!F21+'Ա. ՀՈՎՀԱՆՆԻՍՅԱՆ'!F21+'Հ. ԴԱՐԲԻՆՅԱՆ'!F21+'Գ. ԲԱԼՅԱՆ'!F21+'Ե. ՔՈՉԱՐՅԱՆ'!F21+'Գ. ՀՈՎՀԱՆՆԻՍՅԱՆ'!F21+'Ս. ՍԱՀԱԿՅԱՆ'!F21+'Ս. ՄԱՏԻՆՅԱՆ'!F21 -> 0 | G21: ='Հ. ՊԵՏՐՈՍՅԱՆ'!G21+'Լ. ԱՐԱԶՅԱՆ'!G21+'Թ. ՊՈՂՈՍՅԱՆ'!G21+'Ռ. ՄԽԻԹԱՐՅԱՆ'!G21+'Գ. ՍԱՐԳՍՅԱՆ'!G21+'Ա. ՀՈՎՀԱՆՆԻՍՅԱՆ'!G21+'Հ. ԴԱՐԲԻՆՅԱՆ'!G21+'Գ. ԲԱԼՅԱՆ'!G21+'Ե. ՔՈՉԱՐՅԱՆ'!G21+'Գ. ՀՈՎՀԱՆՆԻՍՅԱՆ'!G21+'Ս. ՍԱՀԱԿՅԱՆ'!G21+'Ս. ՄԱՏԻՆՅԱՆ'!G21 -> 0 | H21: ='Հ. ՊԵՏՐՈՍՅԱՆ'!H21+'Լ. ԱՐԱԶՅԱՆ'!H21+'Թ. ՊՈՂՈՍՅԱՆ'!H21+'Ռ. ՄԽԻԹԱՐՅԱՆ'!H21+'Գ. ՍԱՐԳՍՅԱՆ'!H21+'Ա. ՀՈՎՀԱՆՆԻՍՅԱՆ'!H21+'Հ. ԴԱՐԲԻՆՅԱՆ'!H21+'Գ. ԲԱԼՅԱՆ'!H21+'Ե. ՔՈՉԱՐՅԱՆ'!H21+'Գ. ՀՈՎՀԱՆՆԻՍՅԱՆ'!H21+'Ս. ՍԱՀԱԿՅԱՆ'!H21+'Ս. ՄԱՏԻՆՅԱՆ'!H21 -> 2 | I21: ='Հ. ՊԵՏՐՈՍՅԱՆ'!I21+'Լ. ԱՐԱԶՅԱՆ'!I21+'Թ. ՊՈՂՈՍՅԱՆ'!I21+'Ռ. ՄԽԻԹԱՐՅԱՆ'!I21+'Գ. ՍԱՐԳՍՅԱՆ'!I21+'Ա. ՀՈՎՀԱՆՆԻՍՅԱՆ'!I21+'Հ. ԴԱՐԲԻՆՅԱՆ'!I21+'Գ. ԲԱԼՅԱՆ'!I21+'Ե. ՔՈՉԱՐՅԱՆ'!I21+'Գ. ՀՈՎՀԱՆՆԻՍՅԱՆ'!I21+'Ս. ՍԱՀԱԿՅԱՆ'!I21+'Ս. ՄԱՏԻՆՅԱՆ'!I21 -> 0 | J21: ='Հ. ՊԵՏՐՈՍՅԱՆ'!J21+'Լ. ԱՐԱԶՅԱՆ'!J21+'Թ. ՊՈՂՈՍՅԱՆ'!J21+'Ռ. ՄԽԻԹԱՐՅԱՆ'!J21+'Գ. ՍԱՐԳՍՅԱՆ'!J21+'Ա. ՀՈՎՀԱՆՆԻՍՅԱՆ'!J21+'Հ. ԴԱՐԲԻՆՅԱՆ'!J21+'Գ. ԲԱԼՅԱՆ'!J21+'Ե. ՔՈՉԱՐՅԱՆ'!J21+'Գ. ՀՈՎՀԱՆՆԻՍՅԱՆ'!J21+'Ս. ՍԱՀԱԿՅԱՆ'!J21+'Ս. ՄԱՏԻՆՅԱՆ'!J21 -> 0 | K21: ='Հ. ՊԵՏՐՈՍՅԱՆ'!K21+'Լ. ԱՐԱԶՅԱՆ'!K21+'Թ. ՊՈՂՈՍՅԱՆ'!K21+'Ռ. ՄԽԻԹԱՐՅԱՆ'!K21+'Գ. ՍԱՐԳՍՅԱՆ'!K21+'Ա. ՀՈՎՀԱՆՆԻՍՅԱՆ'!K21+'Հ. ԴԱՐԲԻՆՅԱՆ'!K21+'Գ. ԲԱԼՅԱՆ'!K21+'Ե. ՔՈՉԱՐՅԱՆ'!K21+'Գ. ՀՈՎՀԱՆՆԻՍՅԱՆ'!K21+'Ս. ՍԱՀԱԿՅԱՆ'!K21+'Ս. ՄԱՏԻՆՅԱՆ'!K21 -> 2 | ... R21: ='Հ. ՊԵՏՐՈՍՅԱՆ'!R21+'Լ. ԱՐԱԶՅԱՆ'!R21+'Թ. ՊՈՂՈՍՅԱՆ'!R21+'Ռ. ՄԽԻԹԱՐՅԱՆ'!R21+'Գ. ՍԱՐԳՍՅԱՆ'!R21+'Ա. ՀՈՎՀԱՆՆԻՍՅԱՆ'!R21+'Հ. ԴԱՐԲԻՆՅԱՆ'!R21+'Գ. ԲԱԼՅԱՆ'!R21+'Ե. ՔՈՉԱՐՅԱՆ'!R21+'Գ. ՀՈՎՀԱՆՆԻՍՅԱՆ'!R21+'Ս. ՍԱՀԱԿՅԱՆ'!R21+'Ս. ՄԱՏԻՆՅԱՆ'!R21 -> 0 | S21: ='Հ. ՊԵՏՐՈՍՅԱՆ'!S21+'Լ. ԱՐԱԶՅԱՆ'!S21+'Թ. ՊՈՂՈՍՅԱՆ'!S21+'Ռ. ՄԽԻԹԱՐՅԱՆ'!S21+'Գ. ՍԱՐԳՍՅԱՆ'!S21+'Ա. ՀՈՎՀԱՆՆԻՍՅԱՆ'!S21+'Հ. ԴԱՐԲԻՆՅԱՆ'!S21+'Գ. ԲԱԼՅԱՆ'!S21 -> 0 | T21: =D21+E21 -> 2 | U21: =F21+K21+L21 -> 2 | V21: =K21 -> 2 | W21: =G21+H21+I21+J21 -> 2
A22: 4 | B22: ³ÛÉ ÙÇçÝáñ¹áõÃÛáõÝÝ»ñ | D22: ='Հ. ՊԵՏՐՈՍՅԱՆ'!D22+'Լ. ԱՐԱԶՅԱՆ'!D22+'Թ. ՊՈՂՈՍՅԱՆ'!D22+'Ռ. ՄԽԻԹԱՐՅԱՆ'!D22+'Գ. ՍԱՐԳՍՅԱՆ'!D22+'Ա. ՀՈՎՀԱՆՆԻՍՅԱՆ'!D22+'Հ. ԴԱՐԲԻՆՅԱՆ'!D22+'Գ. ԲԱԼՅԱՆ'!D22+'Ե. ՔՈՉԱՐՅԱՆ'!D22+'Գ. ՀՈՎՀԱՆՆԻՍՅԱՆ'!D22+'Ս. ՍԱՀԱԿՅԱՆ'!D22+'Ս. ՄԱՏԻՆՅԱՆ'!D22 -> 1 | E22: ='Հ. ՊԵՏՐՈՍՅԱՆ'!E22+'Լ. ԱՐԱԶՅԱՆ'!E22+'Թ. ՊՈՂՈՍՅԱՆ'!E22+'Ռ. ՄԽԻԹԱՐՅԱՆ'!E22+'Գ. ՍԱՐԳՍՅԱՆ'!E22+'Ա. ՀՈՎՀԱՆՆԻՍՅԱՆ'!E22+'Հ. ԴԱՐԲԻՆՅԱՆ'!E22+'Գ. ԲԱԼՅԱՆ'!E22+'Ե. ՔՈՉԱՐՅԱՆ'!E22+'Գ. ՀՈՎՀԱՆՆԻՍՅԱՆ'!E22+'Ս. ՍԱՀԱԿՅԱՆ'!E22+'Ս. ՄԱՏԻՆՅԱՆ'!E22 -> 75 | F22: ='Հ. ՊԵՏՐՈՍՅԱՆ'!F22+'Լ. ԱՐԱԶՅԱՆ'!F22+'Թ. ՊՈՂՈՍՅԱՆ'!F22+'Ռ. ՄԽԻԹԱՐՅԱՆ'!F22+'Գ. ՍԱՐԳՍՅԱՆ'!F22+'Ա. ՀՈՎՀԱՆՆԻՍՅԱՆ'!F22+'Հ. ԴԱՐԲԻՆՅԱՆ'!F22+'Գ. ԲԱԼՅԱՆ'!F22+'Ե. ՔՈՉԱՐՅԱՆ'!F22+'Գ. ՀՈՎՀԱՆՆԻՍՅԱՆ'!F22+'Ս. ՍԱՀԱԿՅԱՆ'!F22+'Ս. ՄԱՏԻՆՅԱՆ'!F22 -> 17 | G22: ='Հ. ՊԵՏՐՈՍՅԱՆ'!G22+'Լ. ԱՐԱԶՅԱՆ'!G22+'Թ. ՊՈՂՈՍՅԱՆ'!G22+'Ռ. ՄԽԻԹԱՐՅԱՆ'!G22+'Գ. ՍԱՐԳՍՅԱՆ'!G22+'Ա. ՀՈՎՀԱՆՆԻՍՅԱՆ'!G22+'Հ. ԴԱՐԲԻՆՅԱՆ'!G22+'Գ. ԲԱԼՅԱՆ'!G22+'Ե. ՔՈՉԱՐՅԱՆ'!G22+'Գ. ՀՈՎՀԱՆՆԻՍՅԱՆ'!G22+'Ս. ՍԱՀԱԿՅԱՆ'!G22+'Ս. ՄԱՏԻՆՅԱՆ'!G22 -> 7 | H22: ='Հ. ՊԵՏՐՈՍՅԱՆ'!H22+'Լ. ԱՐԱԶՅԱՆ'!H22+'Թ. ՊՈՂՈՍՅԱՆ'!H22+'Ռ. ՄԽԻԹԱՐՅԱՆ'!H22+'Գ. ՍԱՐԳՍՅԱՆ'!H22+'Ա. ՀՈՎՀԱՆՆԻՍՅԱՆ'!H22+'Հ. ԴԱՐԲԻՆՅԱՆ'!H22+'Գ. ԲԱԼՅԱՆ'!H22+'Ե. ՔՈՉԱՐՅԱՆ'!H22+'Գ. ՀՈՎՀԱՆՆԻՍՅԱՆ'!H22+'Ս. ՍԱՀԱԿՅԱՆ'!H22+'Ս. ՄԱՏԻՆՅԱՆ'!H22 -> 33 | I22: ='Հ. ՊԵՏՐՈՍՅԱՆ'!I22+'Լ. ԱՐԱԶՅԱՆ'!I22+'Թ. ՊՈՂՈՍՅԱՆ'!I22+'Ռ. ՄԽԻԹԱՐՅԱՆ'!I22+'Գ. ՍԱՐԳՍՅԱՆ'!I22+'Ա. ՀՈՎՀԱՆՆԻՍՅԱՆ'!I22+'Հ. ԴԱՐԲԻՆՅԱՆ'!I22+'Գ. ԲԱԼՅԱՆ'!I22+'Ե. ՔՈՉԱՐՅԱՆ'!I22+'Գ. ՀՈՎՀԱՆՆԻՍՅԱՆ'!I22+'Ս. ՍԱՀԱԿՅԱՆ'!I22+'Ս. ՄԱՏԻՆՅԱՆ'!I22 -> 3 | J22: ='Հ. ՊԵՏՐՈՍՅԱՆ'!J22+'Լ. ԱՐԱԶՅԱՆ'!J22+'Թ. ՊՈՂՈՍՅԱՆ'!J22+'Ռ. ՄԽԻԹԱՐՅԱՆ'!J22+'Գ. ՍԱՐԳՍՅԱՆ'!J22+'Ա. ՀՈՎՀԱՆՆԻՍՅԱՆ'!J22+'Հ. ԴԱՐԲԻՆՅԱՆ'!J22+'Գ. ԲԱԼՅԱՆ'!J22+'Ե. ՔՈՉԱՐՅԱՆ'!J22+'Գ. ՀՈՎՀԱՆՆԻՍՅԱՆ'!J22+'Ս. ՍԱՀԱԿՅԱՆ'!J22+'Ս. ՄԱՏԻՆՅԱՆ'!J22 -> 2 | K22: ='Հ. ՊԵՏՐՈՍՅԱՆ'!K22+'Լ. ԱՐԱԶՅԱՆ'!K22+'Թ. ՊՈՂՈՍՅԱՆ'!K22+'Ռ. ՄԽԻԹԱՐՅԱՆ'!K22+'Գ. ՍԱՐԳՍՅԱՆ'!K22+'Ա. ՀՈՎՀԱՆՆԻՍՅԱՆ'!K22+'Հ. ԴԱՐԲԻՆՅԱՆ'!K22+'Գ. ԲԱԼՅԱՆ'!K22+'Ե. ՔՈՉԱՐՅԱՆ'!K22+'Գ. ՀՈՎՀԱՆՆԻՍՅԱՆ'!K22+'Ս. ՍԱՀԱԿՅԱՆ'!K22+'Ս. ՄԱՏԻՆՅԱՆ'!K22 -> 45 | ... R22: ='Հ. ՊԵՏՐՈՍՅԱՆ'!R22+'Լ. ԱՐԱԶՅԱՆ'!R22+'Թ. ՊՈՂՈՍՅԱՆ'!R22+'Ռ. ՄԽԻԹԱՐՅԱՆ'!R22+'Գ. ՍԱՐԳՍՅԱՆ'!R22+'Ա. ՀՈՎՀԱՆՆԻՍՅԱՆ'!R22+'Հ. ԴԱՐԲԻՆՅԱՆ'!R22+'Գ. ԲԱԼՅԱՆ'!R22+'Ե. ՔՈՉԱՐՅԱՆ'!R22+'Գ. ՀՈՎՀԱՆՆԻՍՅԱՆ'!R22+'Ս. ՍԱՀԱԿՅԱՆ'!R22+'Ս. ՄԱՏԻՆՅԱՆ'!R22 -> 1 | S22: ='Հ. ՊԵՏՐՈՍՅԱՆ'!S22+'Լ. ԱՐԱԶՅԱՆ'!S22+'Թ. ՊՈՂՈՍՅԱՆ'!S22+'Ռ. ՄԽԻԹԱՐՅԱՆ'!S22+'Գ. ՍԱՐԳՍՅԱՆ'!S22+'Ա. ՀՈՎՀԱՆՆԻՍՅԱՆ'!S22+'Հ. ԴԱՐԲԻՆՅԱՆ'!S22+'Գ. ԲԱԼՅԱՆ'!S22 -> 0 | T22: =D22+E22 -> 76 | U22: =F22+K22+L22 -> 76 | V22: =K22 -> 45 | W22: =G22+H22+I22+J22 -> 45
A23: 5 | B23: ¹³ï³Ï³Ý Ñ³ÝÓÝ³ñ³ñáõÃÛáõÝÝ»ñ | D23: ='Հ. ՊԵՏՐՈՍՅԱՆ'!D23+'Լ. ԱՐԱԶՅԱՆ'!D23+'Թ. ՊՈՂՈՍՅԱՆ'!D23+'Ռ. ՄԽԻԹԱՐՅԱՆ'!D23+'Գ. ՍԱՐԳՍՅԱՆ'!D23+'Ա. ՀՈՎՀԱՆՆԻՍՅԱՆ'!D23+'Հ. ԴԱՐԲԻՆՅԱՆ'!D23+'Գ. ԲԱԼՅԱՆ'!D23+'Ե. ՔՈՉԱՐՅԱՆ'!D23+'Գ. ՀՈՎՀԱՆՆԻՍՅԱՆ'!D23+'Ս. ՍԱՀԱԿՅԱՆ'!D23+'Ս. ՄԱՏԻՆՅԱՆ'!D23 -> 12 | E23: ='Հ. ՊԵՏՐՈՍՅԱՆ'!E23+'Լ. ԱՐԱԶՅԱՆ'!E23+'Թ. ՊՈՂՈՍՅԱՆ'!E23+'Ռ. ՄԽԻԹԱՐՅԱՆ'!E23+'Գ. ՍԱՐԳՍՅԱՆ'!E23+'Ա. ՀՈՎՀԱՆՆԻՍՅԱՆ'!E23+'Հ. ԴԱՐԲԻՆՅԱՆ'!E23+'Գ. ԲԱԼՅԱՆ'!E23+'Ե. ՔՈՉԱՐՅԱՆ'!E23+'Գ. ՀՈՎՀԱՆՆԻՍՅԱՆ'!E23+'Ս. ՍԱՀԱԿՅԱՆ'!E23+'Ս. ՄԱՏԻՆՅԱՆ'!E23 -> 8 | F23: ='Հ. ՊԵՏՐՈՍՅԱՆ'!F23+'Լ. ԱՐԱԶՅԱՆ'!F23+'Թ. ՊՈՂՈՍՅԱՆ'!F23+'Ռ. ՄԽԻԹԱՐՅԱՆ'!F23+'Գ. ՍԱՐԳՍՅԱՆ'!F23+'Ա. ՀՈՎՀԱՆՆԻՍՅԱՆ'!F23+'Հ. ԴԱՐԲԻՆՅԱՆ'!F23+'Գ. ԲԱԼՅԱՆ'!F23+'Ե. ՔՈՉԱՐՅԱՆ'!F23+'Գ. ՀՈՎՀԱՆՆԻՍՅԱՆ'!F23+'Ս. ՍԱՀԱԿՅԱՆ'!F23+'Ս. ՄԱՏԻՆՅԱՆ'!F23 -> 0 | G23: ='Հ. ՊԵՏՐՈՍՅԱՆ'!G23+'Լ. ԱՐԱԶՅԱՆ'!G23+'Թ. ՊՈՂՈՍՅԱՆ'!G23+'Ռ. ՄԽԻԹԱՐՅԱՆ'!G23+'Գ. ՍԱՐԳՍՅԱՆ'!G23+'Ա. ՀՈՎՀԱՆՆԻՍՅԱՆ'!G23+'Հ. ԴԱՐԲԻՆՅԱՆ'!G23+'Գ. ԲԱԼՅԱՆ'!G23+'Ե. ՔՈՉԱՐՅԱՆ'!G23+'Գ. ՀՈՎՀԱՆՆԻՍՅԱՆ'!G23+'Ս. ՍԱՀԱԿՅԱՆ'!G23+'Ս. ՄԱՏԻՆՅԱՆ'!G23 -> 0 | H23: ='Հ. ՊԵՏՐՈՍՅԱՆ'!H23+'Լ. ԱՐԱԶՅԱՆ'!H23+'Թ. ՊՈՂՈՍՅԱՆ'!H23+'Ռ. ՄԽԻԹԱՐՅԱՆ'!H23+'Գ. ՍԱՐԳՍՅԱՆ'!H23+'Ա. ՀՈՎՀԱՆՆԻՍՅԱՆ'!H23+'Հ. ԴԱՐԲԻՆՅԱՆ'!H23+'Գ. ԲԱԼՅԱՆ'!H23+'Ե. ՔՈՉԱՐՅԱՆ'!H23+'Գ. ՀՈՎՀԱՆՆԻՍՅԱՆ'!H23+'Ս. ՍԱՀԱԿՅԱՆ'!H23+'Ս. ՄԱՏԻՆՅԱՆ'!H23 -> 6 | I23: ='Հ. ՊԵՏՐՈՍՅԱՆ'!I23+'Լ. ԱՐԱԶՅԱՆ'!I23+'Թ. ՊՈՂՈՍՅԱՆ'!I23+'Ռ. ՄԽԻԹԱՐՅԱՆ'!I23+'Գ. ՍԱՐԳՍՅԱՆ'!I23+'Ա. ՀՈՎՀԱՆՆԻՍՅԱՆ'!I23+'Հ. ԴԱՐԲԻՆՅԱՆ'!I23+'Գ. ԲԱԼՅԱՆ'!I23+'Ե. ՔՈՉԱՐՅԱՆ'!I23+'Գ. ՀՈՎՀԱՆՆԻՍՅԱՆ'!I23+'Ս. ՍԱՀԱԿՅԱՆ'!I23+'Ս. ՄԱՏԻՆՅԱՆ'!I23 -> 0 | J23: ='Հ. ՊԵՏՐՈՍՅԱՆ'!J23+'Լ. ԱՐԱԶՅԱՆ'!J23+'Թ. ՊՈՂՈՍՅԱՆ'!J23+'Ռ. ՄԽԻԹԱՐՅԱՆ'!J23+'Գ. ՍԱՐԳՍՅԱՆ'!J23+'Ա. ՀՈՎՀԱՆՆԻՍՅԱՆ'!J23+'Հ. ԴԱՐԲԻՆՅԱՆ'!J23+'Գ. ԲԱԼՅԱՆ'!J23+'Ե. ՔՈՉԱՐՅԱՆ'!J23+'Գ. ՀՈՎՀԱՆՆԻՍՅԱՆ'!J23+'Ս. ՍԱՀԱԿՅԱՆ'!J23+'Ս. ՄԱՏԻՆՅԱՆ'!J23 -> 0 | K23: ='Հ. ՊԵՏՐՈՍՅԱՆ'!K23+'Լ. ԱՐԱԶՅԱՆ'!K23+'Թ. ՊՈՂՈՍՅԱՆ'!K23+'Ռ. ՄԽԻԹԱՐՅԱՆ'!K23+'Գ. ՍԱՐԳՍՅԱՆ'!K23+'Ա. ՀՈՎՀԱՆՆԻՍՅԱՆ'!K23+'Հ. ԴԱՐԲԻՆՅԱՆ'!K23+'Գ. ԲԱԼՅԱՆ'!K23+'Ե. ՔՈՉԱՐՅԱՆ'!K23+'Գ. ՀՈՎՀԱՆՆԻՍՅԱՆ'!K23+'Ս. ՍԱՀԱԿՅԱՆ'!K23+'Ս. ՄԱՏԻՆՅԱՆ'!K23 -> 6 | ... R23: ='Հ. ՊԵՏՐՈՍՅԱՆ'!R23+'Լ. ԱՐԱԶՅԱՆ'!R23+'Թ. ՊՈՂՈՍՅԱՆ'!R23+'Ռ. ՄԽԻԹԱՐՅԱՆ'!R23+'Գ. ՍԱՐԳՍՅԱՆ'!R23+'Ա. ՀՈՎՀԱՆՆԻՍՅԱՆ'!R23+'Հ. ԴԱՐԲԻՆՅԱՆ'!R23+'Գ. ԲԱԼՅԱՆ'!R23+'Ե. ՔՈՉԱՐՅԱՆ'!R23+'Գ. ՀՈՎՀԱՆՆԻՍՅԱՆ'!R23+'Ս. ՍԱՀԱԿՅԱՆ'!R23+'Ս. ՄԱՏԻՆՅԱՆ'!R23 -> 0 | S23: ='Հ. ՊԵՏՐՈՍՅԱՆ'!S23+'Լ. ԱՐԱԶՅԱՆ'!S23+'Թ. ՊՈՂՈՍՅԱՆ'!S23+'Ռ. ՄԽԻԹԱՐՅԱՆ'!S23+'Գ. ՍԱՐԳՍՅԱՆ'!S23+'Ա. ՀՈՎՀԱՆՆԻՍՅԱՆ'!S23+'Հ. ԴԱՐԲԻՆՅԱՆ'!S23+'Գ. ԲԱԼՅԱՆ'!S23 -> 0 | T23: =D23+E23 -> 20 | U23: =F23+K23+L23 -> 20 | V23: =K23 -> 6 | W23: =G23+H23+I23+J23 -> 6
A24: ÀÜ¸²ØºÜÀ | D24: ='Հ. ՊԵՏՐՈՍՅԱՆ'!D24+'Լ. ԱՐԱԶՅԱՆ'!D24+'Թ. ՊՈՂՈՍՅԱՆ'!D24+'Ռ. ՄԽԻԹԱՐՅԱՆ'!D24+'Գ. ՍԱՐԳՍՅԱՆ'!D24+'Ա. ՀՈՎՀԱՆՆԻՍՅԱՆ'!D24+'Հ. ԴԱՐԲԻՆՅԱՆ'!D24+'Գ. ԲԱԼՅԱՆ'!D24+'Ե. ՔՈՉԱՐՅԱՆ'!D24+'Գ. ՀՈՎՀԱՆՆԻՍՅԱՆ'!D24+'Ս. ՍԱՀԱԿՅԱՆ'!D24+'Ս. ՄԱՏԻՆՅԱՆ'!D24 -> 23 | E24: ='Հ. ՊԵՏՐՈՍՅԱՆ'!E24+'Լ. ԱՐԱԶՅԱՆ'!E24+'Թ. ՊՈՂՈՍՅԱՆ'!E24+'Ռ. ՄԽԻԹԱՐՅԱՆ'!E24+'Գ. ՍԱՐԳՍՅԱՆ'!E24+'Ա. ՀՈՎՀԱՆՆԻՍՅԱՆ'!E24+'Հ. ԴԱՐԲԻՆՅԱՆ'!E24+'Գ. ԲԱԼՅԱՆ'!E24+'Ե. ՔՈՉԱՐՅԱՆ'!E24+'Գ. ՀՈՎՀԱՆՆԻՍՅԱՆ'!E24+'Ս. ՍԱՀԱԿՅԱՆ'!E24+'Ս. ՄԱՏԻՆՅԱՆ'!E24 -> 486 | F24: ='Հ. ՊԵՏՐՈՍՅԱՆ'!F24+'Լ. ԱՐԱԶՅԱՆ'!F24+'Թ. ՊՈՂՈՍՅԱՆ'!F24+'Ռ. ՄԽԻԹԱՐՅԱՆ'!F24+'Գ. ՍԱՐԳՍՅԱՆ'!F24+'Ա. ՀՈՎՀԱՆՆԻՍՅԱՆ'!F24+'Հ. ԴԱՐԲԻՆՅԱՆ'!F24+'Գ. ԲԱԼՅԱՆ'!F24+'Ե. ՔՈՉԱՐՅԱՆ'!F24+'Գ. ՀՈՎՀԱՆՆԻՍՅԱՆ'!F24+'Ս. ՍԱՀԱԿՅԱՆ'!F24+'Ս. ՄԱՏԻՆՅԱՆ'!F24 -> 27 | G24: ='Հ. ՊԵՏՐՈՍՅԱՆ'!G24+'Լ. ԱՐԱԶՅԱՆ'!G24+'Թ. ՊՈՂՈՍՅԱՆ'!G24+'Ռ. ՄԽԻԹԱՐՅԱՆ'!G24+'Գ. ՍԱՐԳՍՅԱՆ'!G24+'Ա. ՀՈՎՀԱՆՆԻՍՅԱՆ'!G24+'Հ. ԴԱՐԲԻՆՅԱՆ'!G24+'Գ. ԲԱԼՅԱՆ'!G24+'Ե. ՔՈՉԱՐՅԱՆ'!G24+'Գ. ՀՈՎՀԱՆՆԻՍՅԱՆ'!G24+'Ս. ՍԱՀԱԿՅԱՆ'!G24+'Ս. ՄԱՏԻՆՅԱՆ'!G24 -> 43 | H24: ='Հ. ՊԵՏՐՈՍՅԱՆ'!H24+'Լ. ԱՐԱԶՅԱՆ'!H24+'Թ. ՊՈՂՈՍՅԱՆ'!H24+'Ռ. ՄԽԻԹԱՐՅԱՆ'!H24+'Գ. ՍԱՐԳՍՅԱՆ'!H24+'Ա. ՀՈՎՀԱՆՆԻՍՅԱՆ'!H24+'Հ. ԴԱՐԲԻՆՅԱՆ'!H24+'Գ. ԲԱԼՅԱՆ'!H24+'Ե. ՔՈՉԱՐՅԱՆ'!H24+'Գ. ՀՈՎՀԱՆՆԻՍՅԱՆ'!H24+'Ս. ՍԱՀԱԿՅԱՆ'!H24+'Ս. ՄԱՏԻՆՅԱՆ'!H24 -> 341 | I24: ='Հ. ՊԵՏՐՈՍՅԱՆ'!I24+'Լ. ԱՐԱԶՅԱՆ'!I24+'Թ. ՊՈՂՈՍՅԱՆ'!I24+'Ռ. ՄԽԻԹԱՐՅԱՆ'!I24+'Գ. ՍԱՐԳՍՅԱՆ'!I24+'Ա. ՀՈՎՀԱՆՆԻՍՅԱՆ'!I24+'Հ. ԴԱՐԲԻՆՅԱՆ'!I24+'Գ. ԲԱԼՅԱՆ'!I24+'Ե. ՔՈՉԱՐՅԱՆ'!I24+'Գ. ՀՈՎՀԱՆՆԻՍՅԱՆ'!I24+'Ս. ՍԱՀԱԿՅԱՆ'!I24+'Ս. ՄԱՏԻՆՅԱՆ'!I24 -> 13 | J24: ='Հ. ՊԵՏՐՈՍՅԱՆ'!J24+'Լ. ԱՐԱԶՅԱՆ'!J24+'Թ. ՊՈՂՈՍՅԱՆ'!J24+'Ռ. ՄԽԻԹԱՐՅԱՆ'!J24+'Գ. ՍԱՐԳՍՅԱՆ'!J24+'Ա. ՀՈՎՀԱՆՆԻՍՅԱՆ'!J24+'Հ. ԴԱՐԲԻՆՅԱՆ'!J24+'Գ. ԲԱԼՅԱՆ'!J24+'Ե. ՔՈՉԱՐՅԱՆ'!J24+'Գ. ՀՈՎՀԱՆՆԻՍՅԱՆ'!J24+'Ս. ՍԱՀԱԿՅԱՆ'!J24+'Ս. ՄԱՏԻՆՅԱՆ'!J24 -> 7 | K24: ='Հ. ՊԵՏՐՈՍՅԱՆ'!K24+'Լ. ԱՐԱԶՅԱՆ'!K24+'Թ. ՊՈՂՈՍՅԱՆ'!K24+'Ռ. ՄԽԻԹԱՐՅԱՆ'!K24+'Գ. ՍԱՐԳՍՅԱՆ'!K24+'Ա. ՀՈՎՀԱՆՆԻՍՅԱՆ'!K24+'Հ. ԴԱՐԲԻՆՅԱՆ'!K24+'Գ. ԲԱԼՅԱՆ'!K24+'Ե. ՔՈՉԱՐՅԱՆ'!K24+'Գ. ՀՈՎՀԱՆՆԻՍՅԱՆ'!K24+'Ս. ՍԱՀԱԿՅԱՆ'!K24+'Ս. ՄԱՏԻՆՅԱՆ'!K24 -> 404 | ... R24: ='Հ. ՊԵՏՐՈՍՅԱՆ'!R24+'Լ. ԱՐԱԶՅԱՆ'!R24+'Թ. ՊՈՂՈՍՅԱՆ'!R24+'Ռ. ՄԽԻԹԱՐՅԱՆ'!R24+'Գ. ՍԱՐԳՍՅԱՆ'!R24+'Ա. ՀՈՎՀԱՆՆԻՍՅԱՆ'!R24+'Հ. ԴԱՐԲԻՆՅԱՆ'!R24+'Գ. ԲԱԼՅԱՆ'!R24+'Ե. ՔՈՉԱՐՅԱՆ'!R24+'Գ. ՀՈՎՀԱՆՆԻՍՅԱՆ'!R24+'Ս. ՍԱՀԱԿՅԱՆ'!R24+'Ս. ՄԱՏԻՆՅԱՆ'!R24 -> 9 | S24: ='Հ. ՊԵՏՐՈՍՅԱՆ'!S24+'Լ. ԱՐԱԶՅԱՆ'!S24+'Թ. ՊՈՂՈՍՅԱՆ'!S24+'Ռ. ՄԽԻԹԱՐՅԱՆ'!S24+'Գ. ՍԱՐԳՍՅԱՆ'!S24+'Ա. ՀՈՎՀԱՆՆԻՍՅԱՆ'!S24+'Հ. ԴԱՐԲԻՆՅԱՆ'!S24+'Գ. ԲԱԼՅԱՆ'!S24 -> 0 | T24: =D24+E24 -> 509 | U24: =F24+K24+L24 -> 509 | V24: =K24 -> 404 | W24: =G24+H24+I24+J24 -> 404

Sheet Հ. ՊԵՏՐՈՍՅԱՆ
A1: 2017Ã. 1-ÇÝ Ïë³ÙÛ³Ï | D1: Ð²ÞìºîìàôÂÚàôÜ | P1: Ð³í»Éí³Í Ð³Û³ëï³ÝÇ Ð³Ýñ³å»ïáõÃÛ³Ý ¸³ï³ñ³ÝÝ»ñÇ Ý³Ë³·³ÑÝ»ñÇ ËáñÑñ¹Ç 25.08.2017Ã. ÃÇí 35-È áñáßÙ³Ý
A2: ØÇÝã¹³ï³Ï³Ý í³ñáõÛÃÇ ÝÏ³ïÙ³Ùµ ¹³ï³Ï³Ý í»ñ³ÑëÏáÕáõÃÛ³Ý, ¹³ï³Ï³Ý ³Ïï»ñÇ ¨ ¹³ï³Ï³Ý Ñ³ÝÓÝ³ñ³ñáõÃÛáõÝÝ»ñÇ Ï³ï³ñÙ³Ý Ñ»ï Ï³åí³Í ÙÇçÝáñ¹áõÃÛáõÝÝ»ñÇ í»ñ³µ»ñÛ³É ¹³ï³Ï³Ý ·áñÍ»ñáí ÐÐ ²ñ³ñ³ïÇ ¨ ì³Ûáó ÓáñÇ Ù³ñ½»ñÇ ÁÝ¹Ñ³Ýáõñ Çñ³í³ëáõÃÛ³Ý ³é³çÇÝ ³ïÛ³ÝÇ ¹³ï³ñ³ÝÇ ¹³ï³íáñ Հ.Պ»ïñáëÛ³ÝÇ ·áñÍáõÝ»áõÃÛ³Ý í»ñ³µ»ñÛ³É
D3: Ð³ßí»ïáõ Å³Ù³Ý³Ï³Ñ³ïí³ÍÇ ëÏ½µáõÙ Ý³Ëáñ¹ Ñ³ßí»ïáõ Å³Ù³Ý³Ï³Ñ³ïí³ÍÇó ÷áË³Ýóí³Í ·áñÍ»ñÇ ÁÝ¹Ñ³Ýáõñ ÃÇíÁ | E3: Ð³ßí»ïáõ Å³Ù³Ý³Ï³Ñ³ïí³ÍáõÙ ëï³óí³Í ·áñÍ»ñÇ ÁÝ¹Ñ³Ýáõñ ÃÇíÁ | F3: öáË³Ýóí»É ¿ ³ÛÉ ¹³ï³íáñÇ Ï³Ù ³ÛÉ ¹³ï³ñ³Ý (Ï³½ÙÇ ÷á÷áËáõÃÛáõÝ, ÁÝ¹¹³ïáõÃÛáõÝ) | G3: Ð³ßí»ïáõ Å³Ù³Ý³Ï³Ñ³ïí³ÍáõÙ ³í³ñïí³Í ·áñÍ»ñÇ ÁÝ¹Ñ³Ýáõñ ÃÇíÁ | L3: Ð³ßí»ïáõ Å³Ù³Ý³Ï³Ñ³ïí³ÍáõÙ ³Ý³í³ñï ·áñÍ»ñÇ ÁÝ¹Ñ³Ýáõñ ÃÇíÁ | M3: ØÇçÝáñ¹áõÃÛáõÝÝ»ñáí Ï³Û³óí³Í ¹³ï³Ï³Ý ³Ïï»ñÇó µáÕáù³ñÏí³ÍÝ»ñÇ ù³Ý³ÏÁ | O3: ²Ý³í³ñï µáÕáùÝ»ñ | P3: ØÇçÝáñ¹áõÃÛáõÝÝ»ñáí Ï³Û³óí³Í ¨ µáÕáù³ñÏí³Í ¹³ï³Ï³Ý ³Ïï»ñÇó µ»Ï³Ýí³ÍÝ»ñÇ ù³Ý³ÏÁ | R3: ÙÇçÝáñ¹áõÃÛáõÝÝ»ñáí Ï³Û³óí³Í ¨ µáÕáù³ñÏí³Í ¹³ï³Ï³Ý ³Ïï»ñÇó ³Ý÷á÷áË ÃáÕÝí³ÍÝ»ñÇ ù³Ý³ÏÁ
G4: Ù»ñÅí»É ¿ | H4: µ³í³ñ³ñí»É ¿ | I4: µ³í³ñ³ñí»É ¿ Ù³ëÝ³ÏÇ | J4: ÃáÕÝí»É ¿ ³é³Ýó ùÝÝáõÃÛ³Ý | K4: ÀÝ¹³Ù»ÝÁ
M5: Ý³Ëáñ¹ ï³ñÇÝ»ñÇÝ Ï³Û³óí³Í ³Ïï»ñÇ ¹»Ù | N5: Ñ³ßí»ïáõ Å³Ù³Ý³Ï³ßñç³ÝáõÙ Ï³Û³óí³Í ³Ïï»ñÇ ¹»Ù | P5: Ý³Ëáñ¹ ï³ñÇÝ»ñÇÝ Ï³Û³óí³Í ³Ïï»ñÇ µ»Ï³ÝáõÙÝ»ñÁ | Q5: Ñ³ßí»ïáõ Å³Ù³Ý³Ï³ßñç³ÝáõÙ Ï³Û³óí³Í ³Ïï»ñÇ µ»Ï³ÝáõÙÝ»ñÁ
A6: 1. ØÇÝã¹³ï³Ï³Ý í³ñáõÛÃÇ ÝÏ³ïÙ³Ùµ ¹³ï³Ï³Ý í»ñ³ÑëÏáÕáõÃÛ³Ý áÉáñï | D6: 1 | E6: 2 | F6: 3 | G6: 4 | H6: 5 | I6: 6 | J6: 7 | K6: 8 | L6: 9 | M6: 10 | N6: 11 | O6: 12 | P6: 13 | Q6: 14 | R6: 15 | T6: 1+2=3+8+9 | V6: 8=4+5+6+7
A7: 1 | B7: Ï³É³ÝùÁ áñå»ë Ë³÷³ÝÙ³Ý ÙÇçáó ÏÇñ³é»Éáõ Ù³ëÇÝ ÙÇçÝáñ¹áõÃÛáõÝÝ»ñ | E7: 16 | H7: 16 | K7: 16 | N7: 1 | O7: 1 | T7: =D7+E7 -> 16 | U7: =F7+K7+L7 -> 16 | V7: =K7 -> 16 | W7: =G7+H7+I7+J7 -> 16
A8: 2 | B8: Ï³É³ÝùÇ Å³ÙÏ»ïÁ »ñÏ³ñ³óÝ»Éáõ Ù³ëÇÝ ÙÇçÝáñ¹áõÃÛáõÝÝ»ñ | E8: 3 | H8: 3 | K8: 3 | T8: =D8+E8 -> 3 | U8: =F8+K8+L8 -> 3 | V8: =K8 -> 3 | W8: =G8+H8+I8+J8 -> 3
A9: 3 | B9: Ï³É³ÝùÇ í»ñ³Ñ³ëï³ïÙ³Ý Ù³ëÇÝ ÙÇçÝáñ¹áõÃÛáõÝÝ»ñ | E9: 4 | H9: 4 | K9: 4 | N9: 3 | R9: 3 | T9: =D9+E9 -> 4 | U9: =F9+K9+L9 -> 4 | V9: =K9 -> 4 | W9: =G9+H9+I9+J9 -> 4
A10: 4 | B10: ·ñ³íÁ áñå»ë Ï³É³Ý³íáñÙ³Ý ³ÛÉÁÝïñ³Ýù³ÛÇÝ Ë³÷³ÝÙ³Ý ÙÇçáó ÏÇñ³é»Éáõ Ù³ëÇÝ ÙÇçÝáñ¹áõÃÛáõÝÝ»ñ | E10: 1 | G10: 1 | K10: 1 | T10: =D10+E10 -> 1 | U10: =F10+K10+L10 -> 1 | V10: =K10 -> 1 | W10: =G10+H10+I10+J10 -> 1
A11: 5 | B11: Ëáõ½³ñÏáõÃÛ³Ý Ï³ï³ñÙ³Ý Ù³ëÇÝ ÙÇçÝáñ¹áõÃÛáõÝÝ»ñ | E11: 23 | G11: 1 | H11: 22 | K11: 23 | T11: =D11+E11 -> 23 | U11: =F11+K11+L11 -> 23 | V11: =K11 -> 23 | W11: =G11+H11+I11+J11 -> 23
A12: 6 | B12: µ³ÝÏ³ÛÇÝ, ³å³Ñáí³·ñ³Ï³Ý, Ýáï³ñ³Ï³Ý ·³ÕïÝÇù Ï³½ÙáÕ ï»Õ»ÏáõÃÛáõÝÝ»ñÇ ëï³óÙ³Ý Ñ³Ù³ñ Ëáõ½³ñÏáõÃÛ³Ý Ï³Ù ³é·ñ³íÙ³Ý Ï³ï³ñÙ³Ý Ù³ëÇÝ ÙÇçÝáñ¹áõÃÛáõÝÝ»ñ | E12: 2 | G12: 1 | H12: 1 | K12: 2 | T12: =D12+E12 -> 2 | U12: =F12+K12+L12 -> 2 | V12: =K12 -> 2 | W12: =G12+H12+I12+J12 -> 2
A13: 7 | B13: Ý³Ù³Ï³·ñáõÃÛ³Ý, Ñ»é³·ñ³Ï³Ý, ÷áuï³ÛÇÝ Ñ³Õáñ¹áõÙÝ»ñÇ ÑëÏáÕáõÃÛ³Ý Ù³ëÇÝ ÙÇçÝáñ¹áõÃÛáõÝÝ»ñ | T13: =D13+E13 -> 0 | U13: =F13+K13+L13 -> 0 | V13: =K13 -> 0 | W13: =G13+H13+I13+J13 -> 0
A14: 8 | B14: Ñ»é³Ëáu³ÛÇÝ Ï³Ù Ï³åÇ ³ÛÉ ÙÇçáóÝ»ñáí ï³ñíáÕ Ëáu³ÏóáõÃÛáõÝÝ»ñÇ ÉuÙ³Ý ¨ Ó³ÛÝ³·ñ³éÙ³Ý Ù³ëÇÝ ÙÇçÝáñ¹áõÃÛáõÝÝ»ñ | T14: =D14+E14 -> 0 | U14: =F14+K14+L14 -> 0 | V14: =K14 -> 0 | W14: =G14+H14+I14+J14 -> 0
A15: 9 | B15: Ñ»é³ËáëÝ»ñÇ Ùáõïù³ÛÇÝ ¨ »Éù³ÛÇÝ í»ñÍ³ÝÙ³Ý ÃáõÛÉïíáõÃÛáõÝ ëï³Ý³Éáõ Ù³ëÇÝ ÙÇçÝáñ¹áõÃÛáõÝÝ»ñ | E15: 29 | G15: 1 | H15: 28 | K15: 29 | T15: =D15+E15 -> 29 | U15: =F15+K15+L15 -> 29 | V15: =K15 -> 29 | W15: =G15+H15+I15+J15 -> 29
A16: 10 | B16: Ñ»ï³ùÝÝáõÃÛ³Ý Ù³ñÙÝÇ ³ßË³ïáÕÇ, ùÝÝÇãÇ, ¹³ï³Ë³½Ç oå»ñ³ïÇí-Ñ»ï³Ëáõ½³Ï³Ý ·áñÍáÕáõÃÛáõÝÝ»ñ Çñ³Ï³Ý³óÝáÕ Ù³ñÙÇÝÝ»ñÇ ³ÝoñÇÝ³Ï³Ý ¨ ³ÝÑÇÙÝ áñáßáõÙÝ»ñÇ ¨ ·áñÍáÕáõÃÛáõÝÝ»ñÇ ¹»Ù µáÕáùÝ»ñ | D16: 1 | E16: 6 | G16: 3 | K16: 3 | L16: 4 | N16: 2 | O16: 2 | T16: =D16+E16 -> 7 | U16: =F16+K16+L16 -> 7 | V16: =K16 -> 3 | W16: =G16+H16+I16+J16 -> 3
A17: 11 | B17: ²½³ïáõÃÛáõÝÇó ½ñÏ»Éáõ Çñ³í³ã³÷áõÃÛ³Ý í»ñ³µ»ñÛ³É µáÕáùÝ»ñáí ·áñÍ»ñ | T17: =D17+E17 -> 0 | U17: =F17+K17+L17 -> 0 | V17: =K17 -> 0 | W17: =G17+H17+I17+J17 -> 0
A18: 2. ¸³ï³Ï³Ý ³Ïï»ñÇ ¨ ¹³ï³Ï³Ý Ñ³ÝÓÝ³ñ³ñáõÃÛáõÝÝ»ñÇ Ï³ï³ñÙ³Ý Ñ»ï Ï³åí³Í Ñ³ñó»ñÇ ÉáõÍÙ³Ý áÉáñï
A19: 1 | B19: å³ïÅÇó å³ÛÙ³Ý³Ï³Ý í³Õ³Å³ÙÏ»ï ³½³ï»Éáõ Ù³ëÇÝ ÙÇçÝáñ¹áõÃÛáõÝÝ»ñ | T19: =D19+E19 -> 0 | U19: =F19+K19+L19 -> 0 | V19: =K19 -> 0 | W19: =G19+H19+I19+J19 -> 0
A20: 2 | B20: å³ïÇÅÁ ÷á÷áË»Éáõ, Ñ»ï³Ó·»Éáõ ¨ å³ïÅÇó ³½³ï»Éáõ Ù³uÇÝ ÙÇçÝáñ¹áõÃÛáõÝÝ»ñ | D20: 1 | E20: 18 | H20: 7 | J20: 1 | K20: 8 | L20: 11 | T20: =D20+E20 -> 19 | U20: =F20+K20+L20 -> 19 | V20: =K20 -> 8 | W20: =G20+H20+I20+J20 -> 8
A21: 3 | B21: Ñ³ñÏ³¹Çñ µáõÅÙ³Ý ï»ë³ÏÇ ÷á÷áËáõÃÛ³Ý Ù³ëÇÝ ÙÇçÝáñ¹áõÃÛáõÝÝ»ñ | T21: =D21+E21 -> 0 | U21: =F21+K21+L21 -> 0 | V21: =K21 -> 0 | W21: =G21+H21+I21+J21 -> 0
A22: 4 | B22: ³ÛÉ ÙÇçÝáñ¹áõÃÛáõÝÝ»ñ | E22: 22 | H22: 11 | J22: 2 | K22: 13 | L22: 9 | N22: 1 | R22: 1 | T22: =D22+E22 -> 22 | U22: =F22+K22+L22 -> 22 | V22: =K22 -> 13 | W22: =G22+H22+I22+J22 -> 13
A23: 5 | B23: ¹³ï³Ï³Ý Ñ³ÝÓÝ³ñ³ñáõÃÛáõÝÝ»ñ | T23: =D23+E23 -> 0 | U23: =F23+K23+L23 -> 0 | V23: =K23 -> 0 | W23: =G23+H23+I23+J23 -> 0
A24: ÀÜ¸²ØºÜÀ | D24: =D7+D8+D9+D10+D11+D12+D13+D14+D15+D17+D19+D20+D21+D22+D23+D16 -> 2 | E24: =E7+E8+E9+E10+E11+E12+E13+E14+E15+E17+E19+E20+E21+E22+E23+E16 -> 124 | F24: =F7+F8+F9+F10+F11+F12+F13+F14+F15+F17+F19+F20+F21+F22+F23+F16 -> 0 | G24: =G7+G8+G9+G10+G11+G12+G13+G14+G15+G17+G19+G20+G21+G22+G23+G16 -> 7 | H24: =H7+H8+H9+H10+H11+H12+H13+H14+H15+H17+H19+H20+H21+H22+H23+H16 -> 92 | I24: =I7+I8+I9+I10+I11+I12+I13+I14+I15+I17+I19+I20+I21+I22+I23+I16 -> 0 | J24: =J7+J8+J9+J10+J11+J12+J13+J14+J15+J17+J19+J20+J21+J22+J23+J16 -> 3 | K24: =K7+K8+K9+K10+K11+K12+K13+K14+K15+K17+K19+K20+K21+K22+K23+K16 -> 102 | ... R24: =R7+R8+R9+R10+R11+R12+R13+R14+R15+R17+R19+R20+R21+R22+R23+R16 -> 4 | T24: =D24+E24 -> 126 | U24: =F24+K24+L24 -> 126 | V24: =K24 -> 102 | W24: =G24+H24+I24+J24 -> 102

Sheet Լ. ԱՐԱԶՅԱՆ
A1: 2017Ã. 1-ÇÝ Ïë³ÙÛ³Ï | D1: Ð²ÞìºîìàôÂÚàôÜ | P1: Ð³í»Éí³Í Ð³Û³ëï³ÝÇ Ð³Ýñ³å»ïáõÃÛ³Ý ¸³ï³ñ³ÝÝ»ñÇ Ý³Ë³·³ÑÝ»ñÇ ËáñÑñ¹Ç 25.08.2017Ã. ÃÇí 35-È áñáßÙ³Ý
A2: ØÇÝã¹³ï³Ï³Ý í³ñáõÛÃÇ ÝÏ³ïÙ³Ùµ ¹³ï³Ï³Ý í»ñ³ÑëÏáÕáõÃÛ³Ý, ¹³ï³Ï³Ý ³Ïï»ñÇ ¨ ¹³ï³Ï³Ý Ñ³ÝÓÝ³ñ³ñáõÃÛáõÝÝ»ñÇ Ï³ï³ñÙ³Ý Ñ»ï Ï³åí³Í ÙÇçÝáñ¹áõÃÛáõÝÝ»ñÇ í»ñ³µ»ñÛ³É ¹³ï³Ï³Ý ·áñÍ»ñáí ÐÐ ²ñ³ñ³ïÇ ¨ ì³Ûáó ÓáñÇ Ù³ñ½»ñÇ ÁÝ¹Ñ³Ýáõñ Çñ³í³ëáõÃÛ³Ý ³é³çÇÝ ³ïÛ³ÝÇ ¹³ï³ñ³ÝÇ ¹³ï³íáñ Լ.Աñ³½Û³ÝÇ ·áñÍáõÝ»áõÃÛ³Ý í»ñ³µ»ñÛ³É
D3: Ð³ßí»ïáõ Å³Ù³Ý³Ï³Ñ³ïí³ÍÇ ëÏ½µáõÙ Ý³Ëáñ¹ Ñ³ßí»ïáõ Å³Ù³Ý³Ï³Ñ³ïí³ÍÇó ÷áË³Ýóí³Í ·áñÍ»ñÇ ÁÝ¹Ñ³Ýáõñ ÃÇíÁ | E3: Ð³ßí»ïáõ Å³Ù³Ý³Ï³Ñ³ïí³ÍáõÙ ëï³óí³Í ·áñÍ»ñÇ ÁÝ¹Ñ³Ýáõñ ÃÇíÁ | F3: öáË³Ýóí»É ¿ ³ÛÉ ¹³ï³íáñÇ Ï³Ù ³ÛÉ ¹³ï³ñ³Ý (Ï³½ÙÇ ÷á÷áËáõÃÛáõÝ, ÁÝ¹¹³ïáõÃÛáõÝ) | G3: Ð³ßí»ïáõ Å³Ù³Ý³Ï³Ñ³ïí³ÍáõÙ ³í³ñïí³Í ·áñÍ»ñÇ ÁÝ¹Ñ³Ýáõñ ÃÇíÁ | L3: Ð³ßí»ïáõ Å³Ù³Ý³Ï³Ñ³ïí³ÍáõÙ ³Ý³í³ñï ·áñÍ»ñÇ ÁÝ¹Ñ³Ýáõñ ÃÇíÁ | M3: ØÇçÝáñ¹áõÃÛáõÝÝ»ñáí Ï³Û³óí³Í ¹³ï³Ï³Ý ³Ïï»ñÇó µáÕáù³ñÏí³ÍÝ»ñÇ ù³Ý³ÏÁ | O3: ²Ý³í³ñï µáÕáùÝ»ñ | P3: ØÇçÝáñ¹áõÃÛáõÝÝ»ñáí Ï³Û³óí³Í ¨ µáÕáù³ñÏí³Í ¹³ï³Ï³Ý ³Ïï»ñÇó µ»Ï³Ýí³ÍÝ»ñÇ ù³Ý³ÏÁ | R3: ÙÇçÝáñ¹áõÃÛáõÝÝ»ñáí Ï³Û³óí³Í ¨ µáÕáù³ñÏí³Í ¹³ï³Ï³Ý ³Ïï»ñÇó ³Ý÷á÷áË ÃáÕÝí³ÍÝ»ñÇ ù³Ý³ÏÁ
G4: Ù»ñÅí»É ¿ | H4: µ³í³ñ³ñí»É ¿ | I4: µ³í³ñ³ñí»É ¿ Ù³ëÝ³ÏÇ | J4: ÃáÕÝí»É ¿ ³é³Ýó ùÝÝáõÃÛ³Ý | K4: ÀÝ¹³Ù»ÝÁ
M5: Ý³Ëáñ¹ ï³ñÇÝ»ñÇÝ Ï³Û³óí³Í ³Ïï»ñÇ ¹»Ù | N5: Ñ³ßí»ïáõ Å³Ù³Ý³Ï³ßñç³ÝáõÙ Ï³Û³óí³Í ³Ïï»ñÇ ¹»Ù | P5: Ý³Ëáñ¹ ï³ñÇÝ»ñÇÝ Ï³Û³óí³Í ³Ïï»ñÇ µ»Ï³ÝáõÙÝ»ñÁ | Q5: Ñ³ßí»ïáõ Å³Ù³Ý³Ï³ßñç³ÝáõÙ Ï³Û³óí³Í ³Ïï»ñÇ µ»Ï³ÝáõÙÝ»ñÁ
A6: 1. ØÇÝã¹³ï³Ï³Ý í³ñáõÛÃÇ ÝÏ³ïÙ³Ùµ ¹³ï³Ï³Ý í»ñ³ÑëÏáÕáõÃÛ³Ý áÉáñï | D6: 1 | E6: 2 | F6: 3 | G6: 4 | H6: 5 | I6: 6 | J6: 7 | K6: 8 | L6: 9 | M6: 10 | N6: 11 | O6: 12 | P6: 13 | Q6: 14 | R6: 15 | T6: 1+2=3+8+9 | V6: 8=4+5+6+7
A7: 1 | B7: Ï³É³ÝùÁ áñå»ë Ë³÷³ÝÙ³Ý ÙÇçáó ÏÇñ³é»Éáõ Ù³ëÇÝ ÙÇçÝáñ¹áõÃÛáõÝÝ»ñ | E7: 11 | H7: 11 | K7: 11 | N7: 1 | Q7: 1 | T7: =D7+E7 -> 11 | U7: =F7+K7+L7 -> 11 | V7: =K7 -> 11 | W7: =G7+H7+I7+J7 -> 11
A8: 2 | B8: Ï³É³ÝùÇ Å³ÙÏ»ïÁ »ñÏ³ñ³óÝ»Éáõ Ù³ëÇÝ ÙÇçÝáñ¹áõÃÛáõÝÝ»ñ | E8: 2 | F8: 1 | H8: 1 | K8: 1 | T8: =D8+E8 -> 2 | U8: =F8+K8+L8 -> 2 | V8: =K8 -> 1 | W8: =G8+H8+I8+J8 -> 1
A9: 3 | B9: Ï³É³ÝùÇ í»ñ³Ñ³ëï³ïÙ³Ý Ù³ëÇÝ ÙÇçÝáñ¹áõÃÛáõÝÝ»ñ | T9: =D9+E9 -> 0 | U9: =F9+K9+L9 -> 0 | V9: =K9 -> 0 | W9: =G9+H9+I9+J9 -> 0
A10: 4 | B10: ·ñ³íÁ áñå»ë Ï³É³Ý³íáñÙ³Ý ³ÛÉÁÝïñ³Ýù³ÛÇÝ Ë³÷³ÝÙ³Ý ÙÇçáó ÏÇñ³é»Éáõ Ù³ëÇÝ ÙÇçÝáñ¹áõÃÛáõÝÝ»ñ | T10: =D10+E10 -> 0 | U10: =F10+K10+L10 -> 0 | V10: =K10 -> 0 | W10: =G10+H10+I10+J10 -> 0
A11: 5 | B11: Ëáõ½³ñÏáõÃÛ³Ý Ï³ï³ñÙ³Ý Ù³ëÇÝ ÙÇçÝáñ¹áõÃÛáõÝÝ»ñ | E11: 5 | H11: 5 | K11: 5 | T11: =D11+E11 -> 5 | U11: =F11+K11+L11 -> 5 | V11: =K11 -> 5 | W11: =G11+H11+I11+J11 -> 5
A12: 6 | B12: µ³ÝÏ³ÛÇÝ, ³å³Ñáí³·ñ³Ï³Ý, Ýáï³ñ³Ï³Ý ·³ÕïÝÇù Ï³½ÙáÕ ï»Õ»ÏáõÃÛáõÝÝ»ñÇ ëï³óÙ³Ý Ñ³Ù³ñ Ëáõ½³ñÏáõÃÛ³Ý Ï³Ù ³é·ñ³íÙ³Ý Ï³ï³ñÙ³Ý Ù³ëÇÝ ÙÇçÝáñ¹áõÃÛáõÝÝ»ñ | T12: =D12+E12 -> 0 | U12: =F12+K12+L12 -> 0 | V12: =K12 -> 0 | W12: =G12+H12+I12+J12 -> 0
A13: 7 | B13: Ý³Ù³Ï³·ñáõÃÛ³Ý, Ñ»é³·ñ³Ï³Ý, ÷áuï³ÛÇÝ Ñ³Õáñ¹áõÙÝ»ñÇ ÑëÏáÕáõÃÛ³Ý Ù³ëÇÝ ÙÇçÝáñ¹áõÃÛáõÝÝ»ñ | E13: 2 | H13: 2 | K13: 2 | T13: =D13+E13 -> 2 | U13: =F13+K13+L13 -> 2 | V13: =K13 -> 2 | W13: =G13+H13+I13+J13 -> 2
A14: 8 | B14: Ñ»é³Ëáu³ÛÇÝ Ï³Ù Ï³åÇ ³ÛÉ ÙÇçáóÝ»ñáí ï³ñíáÕ Ëáu³ÏóáõÃÛáõÝÝ»ñÇ ÉuÙ³Ý ¨ Ó³ÛÝ³·ñ³éÙ³Ý Ù³ëÇÝ ÙÇçÝáñ¹áõÃÛáõÝÝ»ñ | T14: =D14+E14 -> 0 | U14: =F14+K14+L14 -> 0 | V14: =K14 -> 0 | W14: =G14+H14+I14+J14 -> 0
A15: 9 | B15: Ñ»é³ËáëÝ»ñÇ Ùáõïù³ÛÇÝ ¨ »Éù³ÛÇÝ í»ñÍ³ÝÙ³Ý ÃáõÛÉïíáõÃÛáõÝ ëï³Ý³Éáõ Ù³ëÇÝ ÙÇçÝáñ¹áõÃÛáõÝÝ»ñ | E15: 14 | H15: 14 | K15: 14 | T15: =D15+E15 -> 14 | U15: =F15+K15+L15 -> 14 | V15: =K15 -> 14 | W15: =G15+H15+I15+J15 -> 14
A16: 10 | B16: Ñ»ï³ùÝÝáõÃÛ³Ý Ù³ñÙÝÇ ³ßË³ïáÕÇ, ùÝÝÇãÇ, ¹³ï³Ë³½Ç oå»ñ³ïÇí-Ñ»ï³Ëáõ½³Ï³Ý ·áñÍáÕáõÃÛáõÝÝ»ñ Çñ³Ï³Ý³óÝáÕ Ù³ñÙÇÝÝ»ñÇ ³ÝoñÇÝ³Ï³Ý ¨ ³ÝÑÇÙÝ áñáßáõÙÝ»ñÇ ¨ ·áñÍáÕáõÃÛáõÝÝ»ñÇ ¹»Ù µáÕáùÝ»ñ | E16: 5 | F16: 3 | G16: 2 | K16: 2 | N16: 1 | R16: 1 | T16: =D16+E16 -> 5 | U16: =F16+K16+L16 -> 5 | V16: =K16 -> 2 | W16: =G16+H16+I16+J16 -> 2
A17: 11 | B17: ²½³ïáõÃÛáõÝÇó ½ñÏ»Éáõ Çñ³í³ã³÷áõÃÛ³Ý í»ñ³µ»ñÛ³É µáÕáùÝ»ñáí ·áñÍ»ñ | T17: =D17+E17 -> 0 | U17: =F17+K17+L17 -> 0 | V17: =K17 -> 0 | W17: =G17+H17+I17+J17 -> 0
A18: 2. ¸³ï³Ï³Ý ³Ïï»ñÇ ¨ ¹³ï³Ï³Ý Ñ³ÝÓÝ³ñ³ñáõÃÛáõÝÝ»ñÇ Ï³ï³ñÙ³Ý Ñ»ï Ï³åí³Í Ñ³ñó»ñÇ ÉáõÍÙ³Ý áÉáñï
A19: 1 | B19: å³ïÅÇó å³ÛÙ³Ý³Ï³Ý í³Õ³Å³ÙÏ»ï ³½³ï»Éáõ Ù³ëÇÝ ÙÇçÝáñ¹áõÃÛáõÝÝ»ñ | T19: =D19+E19 -> 0 | U19: =F19+K19+L19 -> 0 | V19: =K19 -> 0 | W19: =G19+H19+I19+J19 -> 0
A20: 2 | B20: å³ïÇÅÁ ÷á÷áË»Éáõ, Ñ»ï³Ó·»Éáõ ¨ å³ïÅÇó ³½³ï»Éáõ Ù³uÇÝ ÙÇçÝáñ¹áõÃÛáõÝÝ»ñ | D20: 1 | E20: 7 | F20: 6 | H20: 2 | K20: 2 | T20: =D20+E20 -> 8 | U20: =F20+K20+L20 -> 8 | V20: =K20 -> 2 | W20: =G20+H20+I20+J20 -> 2
A21: 3 | B21: Ñ³ñÏ³¹Çñ µáõÅÙ³Ý ï»ë³ÏÇ ÷á÷áËáõÃÛ³Ý Ù³ëÇÝ ÙÇçÝáñ¹áõÃÛáõÝÝ»ñ | E21: 2 | H21: 2 | K21: 2 | T21: =D21+E21 -> 2 | U21: =F21+K21+L21 -> 2 | V21: =K21 -> 2 | W21: =G21+H21+I21+J21 -> 2
A22: 4 | B22: ³ÛÉ ÙÇçÝáñ¹áõÃÛáõÝÝ»ñ | D22: 1 | E22: 16 | F22: 17 | T22: =D22+E22 -> 17 | U22: =F22+K22+L22 -> 17 | V22: =K22 -> 0 | W22: =G22+H22+I22+J22 -> 0
A23: 5 | B23: ¹³ï³Ï³Ý Ñ³ÝÓÝ³ñ³ñáõÃÛáõÝÝ»ñ | T23: =D23+E23 -> 0 | U23: =F23+K23+L23 -> 0 | V23: =K23 -> 0 | W23: =G23+H23+I23+J23 -> 0
A24: ÀÜ¸²ØºÜÀ | D24: =D7+D8+D9+D10+D11+D12+D13+D14+D15+D17+D19+D20+D21+D22+D23+D16 -> 2 | E24: =E7+E8+E9+E10+E11+E12+E13+E14+E15+E17+E19+E20+E21+E22+E23+E16 -> 64 | F24: =F7+F8+F9+F10+F11+F12+F13+F14+F15+F17+F19+F20+F21+F22+F23+F16 -> 27 | G24: =G7+G8+G9+G10+G11+G12+G13+G14+G15+G17+G19+G20+G21+G22+G23+G16 -> 2 | H24: =H7+H8+H9+H10+H11+H12+H13+H14+H15+H17+H19+H20+H21+H22+H23+H16 -> 37 | I24: =I7+I8+I9+I10+I11+I12+I13+I14+I15+I17+I19+I20+I21+I22+I23+I16 -> 0 | J24: =J7+J8+J9+J10+J11+J12+J13+J14+J15+J17+J19+J20+J21+J22+J23+J16 -> 0 | K24: =K7+K8+K9+K10+K11+K12+K13+K14+K15+K17+K19+K20+K21+K22+K23+K16 -> 39 | ... R24: =R7+R8+R9+R10+R11+R12+R13+R14+R15+R17+R19+R20+R21+R22+R23+R16 -> 1 | T24: =D24+E24 -> 66 | U24: =F24+K24+L24 -> 66 | V24: =K24 -> 39 | W24: =G24+H24+I24+J24 -> 39

Sheet Թ. ՊՈՂՈՍՅԱՆ
A1: 2017Ã. 1-ÇÝ Ïë³ÙÛ³Ï | D1: Ð²ÞìºîìàôÂÚàôÜ | P1: Ð³í»Éí³Í Ð³Û³ëï³ÝÇ Ð³Ýñ³å»ïáõÃÛ³Ý ¸³ï³ñ³ÝÝ»ñÇ Ý³Ë³·³ÑÝ»ñÇ ËáñÑñ¹Ç 25.08.2017Ã. ÃÇí 35-È áñáßÙ³Ý
A2: ØÇÝã¹³ï³Ï³Ý í³ñáõÛÃÇ ÝÏ³ïÙ³Ùµ ¹³ï³Ï³Ý í»ñ³ÑëÏáÕáõÃÛ³Ý, ¹³ï³Ï³Ý ³Ïï»ñÇ ¨ ¹³ï³Ï³Ý Ñ³ÝÓÝ³ñ³ñáõÃÛáõÝÝ»ñÇ Ï³ï³ñÙ³Ý Ñ»ï Ï³åí³Í ÙÇçÝáñ¹áõÃÛáõÝÝ»ñÇ í»ñ³µ»ñÛ³É ¹³ï³Ï³Ý ·áñÍ»ñáí ÐÐ ²ñ³ñ³ïÇ ¨ ì³Ûáó ÓáñÇ Ù³ñ½»ñÇ ÁÝ¹Ñ³Ýáõñ Çñ³í³ëáõÃÛ³Ý ³é³çÇÝ ³ïÛ³ÝÇ ¹³ï³ñ³ÝÇ ¹³ï³íáñ Թ.äáÕáëÛ³ÝÇ ·áñÍáõÝ»áõÃÛ³Ý í»ñ³µ»ñÛ³É
D3: Ð³ßí»ïáõ Å³Ù³Ý³Ï³Ñ³ïí³ÍÇ ëÏ½µáõÙ Ý³Ëáñ¹ Ñ³ßí»ïáõ Å³Ù³Ý³Ï³Ñ³ïí³ÍÇó ÷áË³Ýóí³Í ·áñÍ»ñÇ ÁÝ¹Ñ³Ýáõñ ÃÇíÁ | E3: Ð³ßí»ïáõ Å³Ù³Ý³Ï³Ñ³ïí³ÍáõÙ ëï³óí³Í ·áñÍ»ñÇ ÁÝ¹Ñ³Ýáõñ ÃÇíÁ | F3: öáË³Ýóí»É ¿ ³ÛÉ ¹³ï³íáñÇ Ï³Ù ³ÛÉ ¹³ï³ñ³Ý (Ï³½ÙÇ ÷á÷áËáõÃÛáõÝ, ÁÝ¹¹³ïáõÃÛáõÝ) | G3: Ð³ßí»ïáõ Å³Ù³Ý³Ï³Ñ³ïí³ÍáõÙ ³í³ñïí³Í ·áñÍ»ñÇ ÁÝ¹Ñ³Ýáõñ ÃÇíÁ | L3: Ð³ßí»ïáõ Å³Ù³Ý³Ï³Ñ³ïí³ÍáõÙ ³Ý³í³ñï ·áñÍ»ñÇ ÁÝ¹Ñ³Ýáõñ ÃÇíÁ | M3: ØÇçÝáñ¹áõÃÛáõÝÝ»ñáí Ï³Û³óí³Í ¹³ï³Ï³Ý ³Ïï»ñÇó µáÕáù³ñÏí³ÍÝ»ñÇ ù³Ý³ÏÁ | O3: ²Ý³í³ñï µáÕáùÝ»ñ | P3: ØÇçÝáñ¹áõÃÛáõÝÝ»ñáí Ï³Û³óí³Í ¨ µáÕáù³ñÏí³Í ¹³ï³Ï³Ý ³Ïï»ñÇó µ»Ï³Ýí³ÍÝ»ñÇ ù³Ý³ÏÁ | R3: ÙÇçÝáñ¹áõÃÛáõÝÝ»ñáí Ï³Û³óí³Í ¨ µáÕáù³ñÏí³Í ¹³ï³Ï³Ý ³Ïï»ñÇó ³Ý÷á÷áË ÃáÕÝí³ÍÝ»ñÇ ù³Ý³ÏÁ
G4: Ù»ñÅí»É ¿ | H4: µ³í³ñ³ñí»É ¿ | I4: µ³í³ñ³ñí»É ¿ Ù³ëÝ³ÏÇ | J4: ÃáÕÝí»É ¿ ³é³Ýó ùÝÝáõÃÛ³Ý | K4: ÀÝ¹³Ù»ÝÁ
M5: Ý³Ëáñ¹ ï³ñÇÝ»ñÇÝ Ï³Û³óí³Í ³Ïï»ñÇ ¹»Ù | N5: Ñ³ßí»ïáõ Å³Ù³Ý³Ï³ßñç³ÝáõÙ Ï³Û³óí³Í ³Ïï»ñÇ ¹»Ù | P5: Ý³Ëáñ¹ ï³ñÇÝ»ñÇÝ Ï³Û³óí³Í ³Ïï»ñÇ µ»Ï³ÝáõÙÝ»ñÁ | Q5: Ñ³ßí»ïáõ Å³Ù³Ý³Ï³ßñç³ÝáõÙ Ï³Û³óí³Í ³Ïï»ñÇ µ»Ï³ÝáõÙÝ»ñÁ
A6: 1. ØÇÝã¹³ï³Ï³Ý í³ñáõÛÃÇ ÝÏ³ïÙ³Ùµ ¹³ï³Ï³Ý í»ñ³ÑëÏáÕáõÃÛ³Ý áÉáñï | D6: 1 | E6: 2 | F6: 3 | G6: 4 | H6: 5 | I6: 6 | J6: 7 | K6: 8 | L6: 9 | M6: 10 | N6: 11 | O6: 12 | P6: 13 | Q6: 14 | R6: 15 | T6: 1+2=3+8+9 | V6: 8=4+5+6+7
A7: 1 | B7: Ï³É³ÝùÁ áñå»ë Ë³÷³ÝÙ³Ý ÙÇçáó ÏÇñ³é»Éáõ Ù³ëÇÝ ÙÇçÝáñ¹áõÃÛáõÝÝ»ñ | E7: 15 | H7: 15 | K7: 15 | N7: 1 | O7: 1 | T7: =D7+E7 -> 15 | U7: =F7+K7+L7 -> 15 | V7: =K7 -> 15 | W7: =G7+H7+I7+J7 -> 15
A8: 2 | B8: Ï³É³ÝùÇ Å³ÙÏ»ïÁ »ñÏ³ñ³óÝ»Éáõ Ù³ëÇÝ ÙÇçÝáñ¹áõÃÛáõÝÝ»ñ | E8: 6 | H8: 6 | K8: 6 | T8: =D8+E8 -> 6 | U8: =F8+K8+L8 -> 6 | V8: =K8 -> 6 | W8: =G8+H8+I8+J8 -> 6
A9: 3 | B9: Ï³É³ÝùÇ í»ñ³Ñ³ëï³ïÙ³Ý Ù³ëÇÝ ÙÇçÝáñ¹áõÃÛáõÝÝ»ñ | E9: 3 | H9: 3 | K9: 3 | T9: =D9+E9 -> 3 | U9: =F9+K9+L9 -> 3 | V9: =K9 -> 3 | W9: =G9+H9+I9+J9 -> 3
A10: 4 | B10: ·ñ³íÁ áñå»ë Ï³É³Ý³íáñÙ³Ý ³ÛÉÁÝïñ³Ýù³ÛÇÝ Ë³÷³ÝÙ³Ý ÙÇçáó ÏÇñ³é»Éáõ Ù³ëÇÝ ÙÇçÝáñ¹áõÃÛáõÝÝ»ñ | E10: 1 | H10: 1 | K10: 1 | T10: =D10+E10 -> 1 | U10: =F10+K10+L10 -> 1 | V10: =K10 -> 1 | W10: =G10+H10+I10+J10 -> 1
A11: 5 | B11: Ëáõ½³ñÏáõÃÛ³Ý Ï³ï³ñÙ³Ý Ù³ëÇÝ ÙÇçÝáñ¹áõÃÛáõÝÝ»ñ | E11: 33 | H11: 33 | K11: 33 | T11: =D11+E11 -> 33 | U11: =F11+K11+L11 -> 33 | V11: =K11 -> 33 | W11: =G11+H11+I11+J11 -> 33
A12: 6 | B12: µ³ÝÏ³ÛÇÝ, ³å³Ñáí³·ñ³Ï³Ý, Ýáï³ñ³Ï³Ý ·³ÕïÝÇù Ï³½ÙáÕ ï»Õ»ÏáõÃÛáõÝÝ»ñÇ ëï³óÙ³Ý Ñ³Ù³ñ Ëáõ½³ñÏáõÃÛ³Ý Ï³Ù ³é·ñ³íÙ³Ý Ï³ï³ñÙ³Ý Ù³ëÇÝ ÙÇçÝáñ¹áõÃÛáõÝÝ»ñ | T12: =D12+E12 -> 0 | U12: =F12+K12+L12 -> 0 | V12: =K12 -> 0 | W12: =G12+H12+I12+J12 -> 0
A13: 7 | B13: Ý³Ù³Ï³·ñáõÃÛ³Ý, Ñ»é³·ñ³Ï³Ý, ÷áuï³ÛÇÝ Ñ³Õáñ¹áõÙÝ»ñÇ ÑëÏáÕáõÃÛ³Ý Ù³ëÇÝ ÙÇçÝáñ¹áõÃÛáõÝÝ»ñ | T13: =D13+E13 -> 0 | U13: =F13+K13+L13 -> 0 | V13: =K13 -> 0 | W13: =G13+H13+I13+J13 -> 0
A14: 8 | B14: Ñ»é³Ëáu³ÛÇÝ Ï³Ù Ï³åÇ ³ÛÉ ÙÇçáóÝ»ñáí ï³ñíáÕ Ëáu³ÏóáõÃÛáõÝÝ»ñÇ ÉuÙ³Ý ¨ Ó³ÛÝ³·ñ³éÙ³Ý Ù³ëÇÝ ÙÇçÝáñ¹áõÃÛáõÝÝ»ñ | T14: =D14+E14 -> 0 | U14: =F14+K14+L14 -> 0 | V14: =K14 -> 0 | W14: =G14+H14+I14+J14 -> 0
A15: 9 | B15: Ñ»é³ËáëÝ»ñÇ Ùáõïù³ÛÇÝ ¨ »Éù³ÛÇÝ í»ñÍ³ÝÙ³Ý ÃáõÛÉïíáõÃÛáõÝ ëï³Ý³Éáõ Ù³ëÇÝ ÙÇçÝáñ¹áõÃÛáõÝÝ»ñ | E15: 20 | H15: 20 | K15: 20 | T15: =D15+E15 -> 20 | U15: =F15+K15+L15 -> 20 | V15: =K15 -> 20 | W15: =G15+H15+I15+J15 -> 20
A16: 10 | B16: Ñ»ï³ùÝÝáõÃÛ³Ý Ù³ñÙÝÇ ³ßË³ïáÕÇ, ùÝÝÇãÇ, ¹³ï³Ë³½Ç oå»ñ³ïÇí-Ñ»ï³Ëáõ½³Ï³Ý ·áñÍáÕáõÃÛáõÝÝ»ñ Çñ³Ï³Ý³óÝáÕ Ù³ñÙÇÝÝ»ñÇ ³ÝoñÇÝ³Ï³Ý ¨ ³ÝÑÇÙÝ áñáßáõÙÝ»ñÇ ¨ ·áñÍáÕáõÃÛáõÝÝ»ñÇ ¹»Ù µáÕáùÝ»ñ | E16: 3 | G16: 3 | K16: 3 | N16: 1 | R16: 1 | T16: =D16+E16 -> 3 | U16: =F16+K16+L16 -> 3 | V16: =K16 -> 3 | W16: =G16+H16+I16+J16 -> 3
A17: 11 | B17: ²½³ïáõÃÛáõÝÇó ½ñÏ»Éáõ Çñ³í³ã³÷áõÃÛ³Ý í»ñ³µ»ñÛ³É µáÕáùÝ»ñáí ·áñÍ»ñ | T17: =D17+E17 -> 0 | U17: =F17+K17+L17 -> 0 | V17: =K17 -> 0 | W17: =G17+H17+I17+J17 -> 0
A18: 2. ¸³ï³Ï³Ý ³Ïï»ñÇ ¨ ¹³ï³Ï³Ý Ñ³ÝÓÝ³ñ³ñáõÃÛáõÝÝ»ñÇ Ï³ï³ñÙ³Ý Ñ»ï Ï³åí³Í Ñ³ñó»ñÇ ÉáõÍÙ³Ý áÉáñï
A19: 1 | B19: å³ïÅÇó å³ÛÙ³Ý³Ï³Ý í³Õ³Å³ÙÏ»ï ³½³ï»Éáõ Ù³ëÇÝ ÙÇçÝáñ¹áõÃÛáõÝÝ»ñ | T19: =D19+E19 -> 0 | U19: =F19+K19+L19 -> 0 | V19: =K19 -> 0 | W19: =G19+H19+I19+J19 -> 0
A20: 2 | B20: å³ïÇÅÁ ÷á÷áË»Éáõ, Ñ»ï³Ó·»Éáõ ¨ å³ïÅÇó ³½³ï»Éáõ Ù³uÇÝ ÙÇçÝáñ¹áõÃÛáõÝÝ»ñ | D20: 3 | E20: 30 | G20: 10 | H20: 6 | I20: 7 | K20: 23 | L20: 10 | M20: 2 | O20: 2 | T20: =D20+E20 -> 33 | U20: =F20+K20+L20 -> 33 | V20: =K20 -> 23 | W20: =G20+H20+I20+J20 -> 23
A21: 3 | B21: Ñ³ñÏ³¹Çñ µáõÅÙ³Ý ï»ë³ÏÇ ÷á÷áËáõÃÛ³Ý Ù³ëÇÝ ÙÇçÝáñ¹áõÃÛáõÝÝ»ñ | T21: =D21+E21 -> 0 | U21: =F21+K21+L21 -> 0 | V21: =K21 -> 0 | W21: =G21+H21+I21+J21 -> 0
A22: 4 | B22: ³ÛÉ ÙÇçÝáñ¹áõÃÛáõÝÝ»ñ | E22: 12 | G22: 2 | H22: 6 | I22: 3 | K22: 11 | L22: 1 | T22: =D22+E22 -> 12 | U22: =F22+K22+L22 -> 12 | V22: =K22 -> 11 | W22: =G22+H22+I22+J22 -> 11
A23: 5 | B23: ¹³ï³Ï³Ý Ñ³ÝÓÝ³ñ³ñáõÃÛáõÝÝ»ñ | T23: =D23+E23 -> 0 | U23: =F23+K23+L23 -> 0 | V23: =K23 -> 0 | W23: =G23+H23+I23+J23 -> 0
A24: ÀÜ¸²ØºÜÀ | D24: =D7+D8+D9+D10+D11+D12+D13+D14+D15+D17+D19+D20+D21+D22+D23+D16 -> 3 | E24: =E7+E8+E9+E10+E11+E12+E13+E14+E15+E17+E19+E20+E21+E22+E23+E16 -> 123 | F24: =F7+F8+F9+F10+F11+F12+F13+F14+F15+F17+F19+F20+F21+F22+F23+F16 -> 0 | G24: =G7+G8+G9+G10+G11+G12+G13+G14+G15+G17+G19+G20+G21+G22+G23+G16 -> 15 | H24: =H7+H8+H9+H10+H11+H12+H13+H14+H15+H17+H19+H20+H21+H22+H23+H16 -> 90 | I24: =I7+I8+I9+I10+I11+I12+I13+I14+I15+I17+I19+I20+I21+I22+I23+I16 -> 10 | J24: =J7+J8+J9+J10+J11+J12+J13+J14+J15+J17+J19+J20+J21+J22+J23+J16 -> 0 | K24: =K7+K8+K9+K10+K11+K12+K13+K14+K15+K17+K19+K20+K21+K22+K23+K16 -> 115 | ... R24: =R7+R8+R9+R10+R11+R12+R13+R14+R15+R17+R19+R20+R21+R22+R23+R16 -> 1 | T24: =D24+E24 -> 126 | U24: =F24+K24+L24 -> 126 | V24: =K24 -> 115 | W24: =G24+H24+I24+J24 -> 115

Sheet Ռ. ՄԽԻԹԱՐՅԱՆ
A1: 2017Ã. 1-ÇÝ Ïë³ÙÛ³Ï | D1: Ð²ÞìºîìàôÂÚàôÜ | P1: Ð³í»Éí³Í Ð³Û³ëï³ÝÇ Ð³Ýñ³å»ïáõÃÛ³Ý ¸³ï³ñ³ÝÝ»ñÇ Ý³Ë³·³ÑÝ»ñÇ ËáñÑñ¹Ç 25.08.2016Ã. ÃÇí 44-È áñáßÙ³Ý
A2: ØÇÝã¹³ï³Ï³Ý í³ñáõÛÃÇ ÝÏ³ïÙ³Ùµ ¹³ï³Ï³Ý í»ñ³ÑëÏáÕáõÃÛ³ÝÁ, ¹³ï³Ï³Ý ³Ïï»ñÇ ¨ ¹³ï³Ï³Ý Ñ³ÝÓÝ³ñ³ñáõÃÛáõÝÝ»ñÇ Ï³ï³ñÙ³Ý Ñ»ï Ï³åí³Í ÙÇçÝáñ¹áõÃÛáõÝÝ»ñÇ í»ñ³µ»ñÛ³É ¹³ï³Ï³Ý ·áñÍ»ñáí ÐÐ ²ñ³ñ³ïÇ ¨ ì³Ûáó ÓáñÇ Ù³ñ½»ñÇ ÁÝ¹Ñ³Ýáõñ Çñ³í³ëáõÃÛ³Ý ³é³çÇÝ ³ïÛ³ÝÇ ¹³ï³ñ³ÝÇ ¹³ï³íáñ Ռ. ØËÇÃ³ñÛ³ÝÇ ·áñÍáõÝ»áõÃÛ³Ý í»ñ³µ»ñÛ³É
A3: êïáõ·Çã Ñ³í³ë³ñáõÙ` 1+2=3+8+9, 8=4+5+6+7, | D3: Ð³ßí»ïáõ Å³Ù³Ý³Ï³Ñ³ïí³ÍÇ ëÏ½µáõÙ Ý³Ëáñ¹ Ñ³ßí»ïáõ Å³Ù³Ý³Ï³Ñ³ïí³ÍÇó ÷áË³Ýóí³Í ·áñÍ»ñÇ ÁÝ¹Ñ³Ýáõñ ÃÇíÁ | E3: Ð³ßí»ïáõ Å³Ù³Ý³Ï³Ñ³ïí³ÍáõÙ ëï³óí³Í ·áñÍ»ñÇ ÁÝ¹Ñ³Ýáõñ ÃÇíÁ | F3: öáË³Ýóí»É ¿ ³ÛÉ ¹³ï³íáñÇ Ï³Ù ³ÛÉ ¹³ï³ñ³Ý (Ï³½ÙÇ ÷á÷áËáõÃÛáõÝ, ÁÝ¹¹³ïáõÃÛáõÝ) | G3: Ð³ßí»ïáõ Å³Ù³Ý³Ï³Ñ³ïí³ÍáõÙ ³í³ñïí³Í ·áñÍ»ñÇ ÁÝ¹Ñ³Ýáõñ ÃÇíÁ | L3: Ð³ßí»ïáõ Å³Ù³Ý³Ï³Ñ³ïí³ÍáõÙ ³Ý³í³ñï ·áñÍ»ñÇ ÁÝ¹Ñ³Ýáõñ ÃÇíÁ | M3: ØÇçÝáñ¹áõÃÛáõÝÝ»ñáí Ï³Û³óí³Í ¹³ï³Ï³Ý ³Ïï»ñÇó µáÕáù³ñÏí³ÍÝ»ñÇ ù³Ý³ÏÁ | O3: ²Ý³í³ñï µáÕáùÝ»ñ | P3: ØÇçÝáñ¹áõÃÛáõÝÝ»ñáí Ï³Û³óí³Í ¨ µáÕáù³ñÏí³Í ¹³ï³Ï³Ý ³Ïï»ñÇó µ»Ï³Ýí³ÍÝ»ñÇ ù³Ý³ÏÁ | R3: ÙÇçÝáñ¹áõÃÛáõÝÝ»ñáí Ï³Û³óí³Í ¨ µáÕáù³ñÏí³Í ¹³ï³Ï³Ý ³Ïï»ñÇó ³Ý÷á÷áË ÃáÕÝí³ÍÝ»ñÇ ù³Ý³ÏÁ
G4: Ù»ñÅí»É ¿ | H4: µ³í³ñ³ñí»É ¿ | I4: µ³í³ñ³ñí»É ¿ Ù³ëÝ³ÏÇ | J4: ÃáÕÝí»É ¿ ³é³Ýó ùÝÝáõÃÛ³Ý | K4: ÀÝ¹³Ù»ÝÁ
M5: Ý³Ëáñ¹ ï³ñÇÝ»ñÇÝ Ï³Û³óí³Í ³Ïï»ñÇ ¹»Ù | N5: Ñ³ßí»ïáõ Å³Ù³Ý³Ï³ßñç³ÝáõÙ Ï³Û³óí³Í ³Ïï»ñÇ ¹»Ù | P5: Ý³Ëáñ¹ ï³ñÇÝ»ñÇÝ Ï³Û³óí³Í ³Ïï»ñÇ µ»Ï³ÝáõÙÝ»ñÁ | Q5: Ñ³ßí»ïáõ Å³Ù³Ý³Ï³ßñç³ÝáõÙ Ï³Û³óí³Í ³Ïï»ñÇ µ»Ï³ÝáõÙÝ»ñÁ
A6: 1. ØÇÝã¹³ï³Ï³Ý í³ñáõÛÃÇ ÝÏ³ïÙ³Ùµ ¹³ï³Ï³Ý í»ñ³ÑëÏáÕáõÃÛ³Ý áÉáñï | D6: 1 | E6: 2 | F6: 3 | G6: 4 | H6: 5 | I6: 6 | J6: 7 | K6: 8 | L6: 9 | M6: 10 | N6: 11 | O6: 12 | P6: 13 | Q6: 14 | R6: 15 | T6: 1+2=3+8+9 | V6: 8=4+5+6+7
A7: 1 | B7: Ï³É³ÝùÁ áñå»ë Ë³÷³ÝÙ³Ý ÙÇçáó ÏÇñ³é»Éáõ Ù³ëÇÝ ÙÇçÝáñ¹áõÃÛáõÝÝ»ñ | T7: =D7+E7 -> 0 | U7: =F7+K7+L7 -> 0 | V7: =K7 -> 0 | W7: =G7+H7+I7+J7 -> 0
A8: 2 | B8: Ï³É³ÝùÇ Å³ÙÏ»ïÁ »ñÏ³ñ³óÝ»Éáõ Ù³ëÇÝ ÙÇçÝáñ¹áõÃÛáõÝÝ»ñ | T8: =D8+E8 -> 0 | U8: =F8+K8+L8 -> 0 | V8: =K8 -> 0 | W8: =G8+H8+I8+J8 -> 0
A9: 3 | B9: Ï³É³ÝùÇ í»ñ³Ñ³ëï³ïÙ³Ý Ù³ëÇÝ ÙÇçÝáñ¹áõÃÛáõÝÝ»ñ | T9: =D9+E9 -> 0 | U9: =F9+K9+L9 -> 0 | V9: =K9 -> 0 | W9: =G9+H9+I9+J9 -> 0
A10: 4 | B10: ·ñ³íÁ áñå»ë Ï³É³Ý³íáñÙ³Ý ³ÛÉÁÝïñ³Ýù³ÛÇÝ Ë³÷³ÝÙ³Ý ÙÇçáó ÏÇñ³é»Éáõ Ù³ëÇÝ ÙÇçÝáñ¹áõÃÛáõÝÝ»ñ | T10: =D10+E10 -> 0 | U10: =F10+K10+L10 -> 0 | V10: =K10 -> 0 | W10: =G10+H10+I10+J10 -> 0
A11: 5 | B11: Ëáõ½³ñÏáõÃÛ³Ý Ï³ï³ñÙ³Ý Ù³ëÇÝ ÙÇçÝáñ¹áõÃÛáõÝÝ»ñ | T11: =D11+E11 -> 0 | U11: =F11+K11+L11 -> 0 | V11: =K11 -> 0 | W11: =G11+H11+I11+J11 -> 0
A12: 6 | B12: µ³ÝÏ³ÛÇÝ, ³å³Ñáí³·ñ³Ï³Ý, Ýáï³ñ³Ï³Ý ·³ÕïÝÇù Ï³½ÙáÕ ï»Õ»ÏáõÃÛáõÝÝ»ñÇ ëï³óÙ³Ý Ñ³Ù³ñ Ëáõ½³ñÏáõÃÛ³Ý Ï³Ù ³é·ñ³íÙ³Ý Ï³ï³ñÙ³Ý Ù³ëÇÝ ÙÇçÝáñ¹áõÃÛáõÝÝ»ñ | T12: =D12+E12 -> 0 | U12: =F12+K12+L12 -> 0 | V12: =K12 -> 0 | W12: =G12+H12+I12+J12 -> 0
A13: 7 | B13: Ý³Ù³Ï³·ñáõÃÛ³Ý, Ñ»é³·ñ³Ï³Ý, ÷áuï³ÛÇÝ Ñ³Õáñ¹áõÙÝ»ñÇ ÑëÏáÕáõÃÛ³Ý Ù³ëÇÝ ÙÇçÝáñ¹áõÃÛáõÝÝ»ñ | T13: =D13+E13 -> 0 | U13: =F13+K13+L13 -> 0 | V13: =K13 -> 0 | W13: =G13+H13+I13+J13 -> 0
A14: 8 | B14: Ñ»é³Ëáu³ÛÇÝ Ï³Ù Ï³åÇ ³ÛÉ ÙÇçáóÝ»ñáí ï³ñíáÕ Ëáu³ÏóáõÃÛáõÝÝ»ñÇ ÉuÙ³Ý ¨ Ó³ÛÝ³·ñ³éÙ³Ý Ù³ëÇÝ ÙÇçÝáñ¹áõÃÛáõÝÝ»ñ | T14: =D14+E14 -> 0 | U14: =F14+K14+L14 -> 0 | V14: =K14 -> 0 | W14: =G14+H14+I14+J14 -> 0
A15: 9 | B15: Ñ»é³ËáëÝ»ñÇ Ùáõïù³ÛÇÝ ¨ »Éù³ÛÇÝ í»ñÍ³ÝÙ³Ý ÃáõÛÉïíáõÃÛáõÝ ëï³Ý³Éáõ Ù³ëÇÝ ÙÇçÝáñ¹áõÃÛáõÝÝ»ñ | T15: =D15+E15 -> 0 | U15: =F15+K15+L15 -> 0 | V15: =K15 -> 0 | W15: =G15+H15+I15+J15 -> 0
A16: 10 | B16: Ñ»ï³ùÝÝáõÃÛ³Ý Ù³ñÙÝÇ ³ßË³ïáÕÇ, ùÝÝÇãÇ, ¹³ï³Ë³½Ç oå»ñ³ïÇí-Ñ»ï³Ëáõ½³Ï³Ý ·áñÍáÕáõÃÛáõÝÝ»ñ Çñ³Ï³Ý³óÝáÕ Ù³ñÙÇÝÝ»ñÇ ³ÝoñÇÝ³Ï³Ý ¨ ³ÝÑÇÙÝ áñáßáõÙÝ»ñÇ ¨ ·áñÍáÕáõÃÛáõÝÝ»ñÇ ¹»Ù µáÕáùÝ»ñ | T16: =D16+E16 -> 0 | U16: =F16+K16+L16 -> 0 | V16: =K16 -> 0 | W16: =G16+H16+I16+J16 -> 0
A17: 11 | B17: ²½³ïáõÃÛáõÝÇó ½ñÏ»Éáõ Çñ³í³ã³÷áõÃÛ³Ý í»ñ³µ»ñÛ³É µáÕáùÝ»ñáí ·áñÍ»ñ | T17: =D17+E17 -> 0 | U17: =F17+K17+L17 -> 0 | V17: =K17 -> 0 | W17: =G17+H17+I17+J17 -> 0
A18: 2. ¸³ï³Ï³Ý ³Ïï»ñÇ ¨ ¹³ï³Ï³Ý Ñ³ÝÓÝ³ñ³ñáõÃÛáõÝÝ»ñÇ Ï³ï³ñÙ³Ý Ñ»ï Ï³åí³Í Ñ³ñó»ñÇ ÉáõÍÙ³Ý áÉáñï
A19: 1 | B19: å³ïÅÇó å³ÛÙ³Ý³Ï³Ý í³Õ³Å³ÙÏ»ï ³½³ï»Éáõ Ù³ëÇÝ ÙÇçÝáñ¹áõÃÛáõÝÝ»ñ | T19: =D19+E19 -> 0 | U19: =F19+K19+L19 -> 0 | V19: =K19 -> 0 | W19: =G19+H19+I19+J19 -> 0
A20: 2 | B20: å³ïÇÅÁ ÷á÷áË»Éáõ, Ñ»ï³Ó·»Éáõ ¨ å³ïÅÇó ³½³ï»Éáõ Ù³uÇÝ ÙÇçÝáñ¹áõÃÛáõÝÝ»ñ | T20: =D20+E20 -> 0 | U20: =F20+K20+L20 -> 0 | V20: =K20 -> 0 | W20: =G20+H20+I20+J20 -> 0
A21: 3 | B21: Ñ³ñÏ³¹Çñ µáõÅÙ³Ý ï»ë³ÏÇ ÷á÷áËáõÃÛ³Ý Ù³ëÇÝ ÙÇçÝáñ¹áõÃÛáõÝÝ»ñ | T21: =D21+E21 -> 0 | U21: =F21+K21+L21 -> 0 | V21: =K21 -> 0 | W21: =G21+H21+I21+J21 -> 0
A22: 4 | B22: ³ÛÉ ÙÇçÝáñ¹áõÃÛáõÝÝ»ñ | T22: =D22+E22 -> 0 | U22: =F22+K22+L22 -> 0 | V22: =K22 -> 0 | W22: =G22+H22+I22+J22 -> 0
A23: 5 | B23: ¹³ï³Ï³Ý Ñ³ÝÓÝ³ñ³ñáõÃÛáõÝÝ»ñ | T23: =D23+E23 -> 0 | U23: =F23+K23+L23 -> 0 | V23: =K23 -> 0 | W23: =G23+H23+I23+J23 -> 0
A24: ÀÜ¸²ØºÜÀ | D24: =D7+D8+D9+D10+D11+D12+D13+D14+D15+D17+D19+D20+D21+D22+D23+D16 -> 0 | E24: =E7+E8+E9+E10+E11+E12+E13+E14+E15+E17+E19+E20+E21+E22+E23+E16 -> 0 | F24: =F7+F8+F9+F10+F11+F12+F13+F14+F15+F17+F19+F20+F21+F22+F23+F16 -> 0 | G24: =G7+G8+G9+G10+G11+G12+G13+G14+G15+G17+G19+G20+G21+G22+G23+G16 -> 0 | H24: =H7+H8+H9+H10+H11+H12+H13+H14+H15+H17+H19+H20+H21+H22+H23+H16 -> 0 | I24: =I7+I8+I9+I10+I11+I12+I13+I14+I15+I17+I19+I20+I21+I22+I23+I16 -> 0 | J24: =J7+J8+J9+J10+J11+J12+J13+J14+J15+J17+J19+J20+J21+J22+J23+J16 -> 0 | K24: =K7+K8+K9+K10+K11+K12+K13+K14+K15+K17+K19+K20+K21+K22+K23+K16 -> 0 | ... R24: =R7+R8+R9+R10+R11+R12+R13+R14+R15+R17+R19+R20+R21+R22+R23+R16 -> 0 | T24: =D24+E24 -> 0 | U24: =F24+K24+L24 -> 0 | V24: =K24 -> 0 | W24: =G24+H24+I24+J24 -> 0

Sheet Գ. ՍԱՐԳՍՅԱՆ
A1: 2017Ã. 1-ÇÝ Ïë³ÙÛ³Ï | D1: Ð²ÞìºîìàôÂÚàôÜ | P1: Ð³í»Éí³Í Ð³Û³ëï³ÝÇ Ð³Ýñ³å»ïáõÃÛ³Ý ¸³ï³ñ³ÝÝ»ñÇ Ý³Ë³·³ÑÝ»ñÇ ËáñÑñ¹Ç 25.08.2017Ã. ÃÇí 35-È áñáßÙ³Ý
A2: ØÇÝã¹³ï³Ï³Ý í³ñáõÛÃÇ ÝÏ³ïÙ³Ùµ ¹³ï³Ï³Ý í»ñ³ÑëÏáÕáõÃÛ³Ý, ¹³ï³Ï³Ý ³Ïï»ñÇ ¨ ¹³ï³Ï³Ý Ñ³ÝÓÝ³ñ³ñáõÃÛáõÝÝ»ñÇ Ï³ï³ñÙ³Ý Ñ»ï Ï³åí³Í ÙÇçÝáñ¹áõÃÛáõÝÝ»ñÇ í»ñ³µ»ñÛ³É ¹³ï³Ï³Ý ·áñÍ»ñáí ÐÐ ²ñ³ñ³ïÇ ¨ ì³Ûáó ÓáñÇ Ù³ñ½»ñÇ ÁÝ¹Ñ³Ýáõñ Çñ³í³ëáõÃÛ³Ý ³é³çÇÝ ³ïÛ³ÝÇ ¹³ï³ñ³ÝÇ ¹³ï³íáñ Գ. ê³ñ·ëÛ³ÝÇ ·áñÍáõÝ»áõÃÛ³Ý í»ñ³µ»ñÛ³É
D3: Ð³ßí»ïáõ Å³Ù³Ý³Ï³Ñ³ïí³ÍÇ ëÏ½µáõÙ Ý³Ëáñ¹ Ñ³ßí»ïáõ Å³Ù³Ý³Ï³Ñ³ïí³ÍÇó ÷áË³Ýóí³Í ·áñÍ»ñÇ ÁÝ¹Ñ³Ýáõñ ÃÇíÁ | E3: Ð³ßí»ïáõ Å³Ù³Ý³Ï³Ñ³ïí³ÍáõÙ ëï³óí³Í ·áñÍ»ñÇ ÁÝ¹Ñ³Ýáõñ ÃÇíÁ | F3: öáË³Ýóí»É ¿ ³ÛÉ ¹³ï³íáñÇ Ï³Ù ³ÛÉ ¹³ï³ñ³Ý (Ï³½ÙÇ ÷á÷áËáõÃÛáõÝ, ÁÝ¹¹³ïáõÃÛáõÝ) | G3: Ð³ßí»ïáõ Å³Ù³Ý³Ï³Ñ³ïí³ÍáõÙ ³í³ñïí³Í ·áñÍ»ñÇ ÁÝ¹Ñ³Ýáõñ ÃÇíÁ | L3: Ð³ßí»ïáõ Å³Ù³Ý³Ï³Ñ³ïí³ÍáõÙ ³Ý³í³ñï ·áñÍ»ñÇ ÁÝ¹Ñ³Ýáõñ ÃÇíÁ | M3: ØÇçÝáñ¹áõÃÛáõÝÝ»ñáí Ï³Û³óí³Í ¹³ï³Ï³Ý ³Ïï»ñÇó µáÕáù³ñÏí³ÍÝ»ñÇ ù³Ý³ÏÁ | O3: ²Ý³í³ñï µáÕáùÝ»ñ | P3: ØÇçÝáñ¹áõÃÛáõÝÝ»ñáí Ï³Û³óí³Í ¨ µáÕáù³ñÏí³Í ¹³ï³Ï³Ý ³Ïï»ñÇó µ»Ï³Ýí³ÍÝ»ñÇ ù³Ý³ÏÁ | R3: ÙÇçÝáñ¹áõÃÛáõÝÝ»ñáí Ï³Û³óí³Í ¨ µáÕáù³ñÏí³Í ¹³ï³Ï³Ý ³Ïï»ñÇó ³Ý÷á÷áË ÃáÕÝí³ÍÝ»ñÇ ù³Ý³ÏÁ
G4: Ù»ñÅí»É ¿ | H4: µ³í³ñ³ñí»É ¿ | I4: µ³í³ñ³ñí»É ¿ Ù³ëÝ³ÏÇ | J4: ÃáÕÝí»É ¿ ³é³Ýó ùÝÝáõÃÛ³Ý | K4: ÀÝ¹³Ù»ÝÁ
M5: Ý³Ëáñ¹ ï³ñÇÝ»ñÇÝ Ï³Û³óí³Í ³Ïï»ñÇ ¹»Ù | N5: Ñ³ßí»ïáõ Å³Ù³Ý³Ï³ßñç³ÝáõÙ Ï³Û³óí³Í ³Ïï»ñÇ ¹»Ù | P5: Ý³Ëáñ¹ ï³ñÇÝ»ñÇÝ Ï³Û³óí³Í ³Ïï»ñÇ µ»Ï³ÝáõÙÝ»ñÁ | Q5: Ñ³ßí»ïáõ Å³Ù³Ý³Ï³ßñç³ÝáõÙ Ï³Û³óí³Í ³Ïï»ñÇ µ»Ï³ÝáõÙÝ»ñÁ
A6: 1. ØÇÝã¹³ï³Ï³Ý í³ñáõÛÃÇ ÝÏ³ïÙ³Ùµ ¹³ï³Ï³Ý í»ñ³ÑëÏáÕáõÃÛ³Ý áÉáñï | D6: 1 | E6: 2 | F6: 3 | G6: 4 | H6: 5 | I6: 6 | J6: 7 | K6: 8 | L6: 9 | M6: 10 | N6: 11 | O6: 12 | P6: 13 | Q6: 14 | R6: 15 | T6: 1+2=3+8+9 | V6: 8=4+5+6+7
A7: 1 | B7: Ï³É³ÝùÁ áñå»ë Ë³÷³ÝÙ³Ý ÙÇçáó ÏÇñ³é»Éáõ Ù³ëÇÝ ÙÇçÝáñ¹áõÃÛáõÝÝ»ñ | E7: 7 | H7: 7 | K7: 7 | T7: =D7+E7 -> 7 | U7: =F7+K7+L7 -> 7 | V7: =K7 -> 7 | W7: =G7+H7+I7+J7 -> 7
A8: 2 | B8: Ï³É³ÝùÇ Å³ÙÏ»ïÁ »ñÏ³ñ³óÝ»Éáõ Ù³ëÇÝ ÙÇçÝáñ¹áõÃÛáõÝÝ»ñ | E8: 2 | H8: 2 | K8: 2 | N8: 1 | O8: 1 | T8: =D8+E8 -> 2 | U8: =F8+K8+L8 -> 2 | V8: =K8 -> 2 | W8: =G8+H8+I8+J8 -> 2
A9: 3 | B9: Ï³É³ÝùÇ í»ñ³Ñ³ëï³ïÙ³Ý Ù³ëÇÝ ÙÇçÝáñ¹áõÃÛáõÝÝ»ñ | T9: =D9+E9 -> 0 | U9: =F9+K9+L9 -> 0 | V9: =K9 -> 0 | W9: =G9+H9+I9+J9 -> 0
A10: 4 | B10: ·ñ³íÁ áñå»ë Ï³É³Ý³íáñÙ³Ý ³ÛÉÁÝïñ³Ýù³ÛÇÝ Ë³÷³ÝÙ³Ý ÙÇçáó ÏÇñ³é»Éáõ Ù³ëÇÝ ÙÇçÝáñ¹áõÃÛáõÝÝ»ñ | E10: 1 | G10: 1 | K10: 1 | T10: =D10+E10 -> 1 | U10: =F10+K10+L10 -> 1 | V10: =K10 -> 1 | W10: =G10+H10+I10+J10 -> 1
A11: 5 | B11: Ëáõ½³ñÏáõÃÛ³Ý Ï³ï³ñÙ³Ý Ù³ëÇÝ ÙÇçÝáñ¹áõÃÛáõÝÝ»ñ | E11: 23 | H11: 21 | J11: 2 | K11: 23 | T11: =D11+E11 -> 23 | U11: =F11+K11+L11 -> 23 | V11: =K11 -> 23 | W11: =G11+H11+I11+J11 -> 23
A12: 6 | B12: µ³ÝÏ³ÛÇÝ, ³å³Ñáí³·ñ³Ï³Ý, Ýáï³ñ³Ï³Ý ·³ÕïÝÇù Ï³½ÙáÕ ï»Õ»ÏáõÃÛáõÝÝ»ñÇ ëï³óÙ³Ý Ñ³Ù³ñ Ëáõ½³ñÏáõÃÛ³Ý Ï³Ù ³é·ñ³íÙ³Ý Ï³ï³ñÙ³Ý Ù³ëÇÝ ÙÇçÝáñ¹áõÃÛáõÝÝ»ñ | T12: =D12+E12 -> 0 | U12: =F12+K12+L12 -> 0 | V12: =K12 -> 0 | W12: =G12+H12+I12+J12 -> 0
A13: 7 | B13: Ý³Ù³Ï³·ñáõÃÛ³Ý, Ñ»é³·ñ³Ï³Ý, ÷áuï³ÛÇÝ Ñ³Õáñ¹áõÙÝ»ñÇ ÑëÏáÕáõÃÛ³Ý Ù³ëÇÝ ÙÇçÝáñ¹áõÃÛáõÝÝ»ñ | T13: =D13+E13 -> 0 | U13: =F13+K13+L13 -> 0 | V13: =K13 -> 0 | W13: =G13+H13+I13+J13 -> 0
A14: 8 | B14: Ñ»é³Ëáu³ÛÇÝ Ï³Ù Ï³åÇ ³ÛÉ ÙÇçáóÝ»ñáí ï³ñíáÕ Ëáu³ÏóáõÃÛáõÝÝ»ñÇ ÉuÙ³Ý ¨ Ó³ÛÝ³·ñ³éÙ³Ý Ù³ëÇÝ ÙÇçÝáñ¹áõÃÛáõÝÝ»ñ | T14: =D14+E14 -> 0 | U14: =F14+K14+L14 -> 0 | V14: =K14 -> 0 | W14: =G14+H14+I14+J14 -> 0
A15: 9 | B15: Ñ»é³ËáëÝ»ñÇ Ùáõïù³ÛÇÝ ¨ »Éù³ÛÇÝ í»ñÍ³ÝÙ³Ý ÃáõÛÉïíáõÃÛáõÝ ëï³Ý³Éáõ Ù³ëÇÝ ÙÇçÝáñ¹áõÃÛáõÝÝ»ñ | E15: 15 | H15: 15 | K15: 15 | T15: =D15+E15 -> 15 | U15: =F15+K15+L15 -> 15 | V15: =K15 -> 15 | W15: =G15+H15+I15+J15 -> 15
A16: 10 | B16: Ñ»ï³ùÝÝáõÃÛ³Ý Ù³ñÙÝÇ ³ßË³ïáÕÇ, ùÝÝÇãÇ, ¹³ï³Ë³½Ç oå»ñ³ïÇí-Ñ»ï³Ëáõ½³Ï³Ý ·áñÍáÕáõÃÛáõÝÝ»ñ Çñ³Ï³Ý³óÝáÕ Ù³ñÙÇÝÝ»ñÇ ³ÝoñÇÝ³Ï³Ý ¨ ³ÝÑÇÙÝ áñáßáõÙÝ»ñÇ ¨ ·áñÍáÕáõÃÛáõÝÝ»ñÇ ¹»Ù µáÕáùÝ»ñ | T16: =D16+E16 -> 0 | U16: =F16+K16+L16 -> 0 | V16: =K16 -> 0 | W16: =G16+H16+I16+J16 -> 0
A17: 11 | B17: ²½³ïáõÃÛáõÝÇó ½ñÏ»Éáõ Çñ³í³ã³÷áõÃÛ³Ý í»ñ³µ»ñÛ³É µáÕáùÝ»ñáí ·áñÍ»ñ | T17: =D17+E17 -> 0 | U17: =F17+K17+L17 -> 0 | V17: =K17 -> 0 | W17: =G17+H17+I17+J17 -> 0
A18: 2. ¸³ï³Ï³Ý ³Ïï»ñÇ ¨ ¹³ï³Ï³Ý Ñ³ÝÓÝ³ñ³ñáõÃÛáõÝÝ»ñÇ Ï³ï³ñÙ³Ý Ñ»ï Ï³åí³Í Ñ³ñó»ñÇ ÉáõÍÙ³Ý áÉáñï
A19: 1 | B19: å³ïÅÇó å³ÛÙ³Ý³Ï³Ý í³Õ³Å³ÙÏ»ï ³½³ï»Éáõ Ù³ëÇÝ ÙÇçÝáñ¹áõÃÛáõÝÝ»ñ | T19: =D19+E19 -> 0 | U19: =F19+K19+L19 -> 0 | V19: =K19 -> 0 | W19: =G19+H19+I19+J19 -> 0
A20: 2 | B20: å³ïÇÅÁ ÷á÷áË»Éáõ, Ñ»ï³Ó·»Éáõ ¨ å³ïÅÇó ³½³ï»Éáõ Ù³uÇÝ ÙÇçÝáñ¹áõÃÛáõÝÝ»ñ | D20: 3 | E20: 18 | G20: 1 | H20: 4 | I20: 1 | J20: 2 | K20: 8 | L20: 13 | T20: =D20+E20 -> 21 | U20: =F20+K20+L20 -> 21 | V20: =K20 -> 8 | W20: =G20+H20+I20+J20 -> 8
A21: 3 | B21: Ñ³ñÏ³¹Çñ µáõÅÙ³Ý ï»ë³ÏÇ ÷á÷áËáõÃÛ³Ý Ù³ëÇÝ ÙÇçÝáñ¹áõÃÛáõÝÝ»ñ | T21: =D21+E21 -> 0 | U21: =F21+K21+L21 -> 0 | V21: =K21 -> 0 | W21: =G21+H21+I21+J21 -> 0
A22: 4 | B22: ³ÛÉ ÙÇçÝáñ¹áõÃÛáõÝÝ»ñ | E22: 12 | G22: 1 | H22: 7 | K22: 8 | L22: 4 | T22: =D22+E22 -> 12 | U22: =F22+K22+L22 -> 12 | V22: =K22 -> 8 | W22: =G22+H22+I22+J22 -> 8
A23: 5 | B23: ¹³ï³Ï³Ý Ñ³ÝÓÝ³ñ³ñáõÃÛáõÝÝ»ñ | T23: =D23+E23 -> 0 | U23: =F23+K23+L23 -> 0 | V23: =K23 -> 0 | W23: =G23+H23+I23+J23 -> 0
A24: ÀÜ¸²ØºÜÀ | D24: =D7+D8+D9+D10+D11+D12+D13+D14+D15+D17+D19+D20+D21+D22+D23+D16 -> 3 | E24: =E7+E8+E9+E10+E11+E12+E13+E14+E15+E17+E19+E20+E21+E22+E23+E16 -> 78 | F24: =F7+F8+F9+F10+F11+F12+F13+F14+F15+F17+F19+F20+F21+F22+F23+F16 -> 0 | G24: =G7+G8+G9+G10+G11+G12+G13+G14+G15+G17+G19+G20+G21+G22+G23+G16 -> 3 | H24: =H7+H8+H9+H10+H11+H12+H13+H14+H15+H17+H19+H20+H21+H22+H23+H16 -> 56 | I24: =I7+I8+I9+I10+I11+I12+I13+I14+I15+I17+I19+I20+I21+I22+I23+I16 -> 1 | J24: =J7+J8+J9+J10+J11+J12+J13+J14+J15+J17+J19+J20+J21+J22+J23+J16 -> 4 | K24: =K7+K8+K9+K10+K11+K12+K13+K14+K15+K17+K19+K20+K21+K22+K23+K16 -> 64 | ... R24: =R7+R8+R9+R10+R11+R12+R13+R14+R15+R17+R19+R20+R21+R22+R23+R16 -> 0 | T24: =D24+E24 -> 81 | U24: =F24+K24+L24 -> 81 | V24: =K24 -> 64 | W24: =G24+H24+I24+J24 -> 64

Sheet Ա. ՀՈՎՀԱՆՆԻՍՅԱՆ
A1: 2017Ã. 1-ÇÝ Ïë³ÙÛ³Ï | D1: Ð²ÞìºîìàôÂÚàôÜ | P1: Ð³í»Éí³Í Ð³Û³ëï³ÝÇ Ð³Ýñ³å»ïáõÃÛ³Ý ¸³ï³ñ³ÝÝ»ñÇ Ý³Ë³·³ÑÝ»ñÇ ËáñÑñ¹Ç 25.08.2017Ã. ÃÇí 35-È áñáßÙ³Ý
A2: ØÇÝã¹³ï³Ï³Ý í³ñáõÛÃÇ ÝÏ³ïÙ³Ùµ ¹³ï³Ï³Ý í»ñ³ÑëÏáÕáõÃÛ³Ý, ¹³ï³Ï³Ý ³Ïï»ñÇ ¨ ¹³ï³Ï³Ý Ñ³ÝÓÝ³ñ³ñáõÃÛáõÝÝ»ñÇ Ï³ï³ñÙ³Ý Ñ»ï Ï³åí³Í ÙÇçÝáñ¹áõÃÛáõÝÝ»ñÇ í»ñ³µ»ñÛ³É ¹³ï³Ï³Ý ·áñÍ»ñáí ÐÐ ²ñ³ñ³ïÇ ¨ ì³Ûáó ÓáñÇ Ù³ñ½»ñÇ ÁÝ¹Ñ³Ýáõñ Çñ³í³ëáõÃÛ³Ý ³é³çÇÝ ³ïÛ³ÝÇ ¹³ï³ñ³ÝÇ ¹³ï³íáñ Ա. ÐáíÑ³ÝÝÇëÛ³ÝÇ ·áñÍáõÝ»áõÃÛ³Ý í»ñ³µ»ñÛ³É
D3: Ð³ßí»ïáõ Å³Ù³Ý³Ï³Ñ³ïí³ÍÇ ëÏ½µáõÙ Ý³Ëáñ¹ Ñ³ßí»ïáõ Å³Ù³Ý³Ï³Ñ³ïí³ÍÇó ÷áË³Ýóí³Í ·áñÍ»ñÇ ÁÝ¹Ñ³Ýáõñ ÃÇíÁ | E3: Ð³ßí»ïáõ Å³Ù³Ý³Ï³Ñ³ïí³ÍáõÙ ëï³óí³Í ·áñÍ»ñÇ ÁÝ¹Ñ³Ýáõñ ÃÇíÁ | F3: öáË³Ýóí»É ¿ ³ÛÉ ¹³ï³íáñÇ Ï³Ù ³ÛÉ ¹³ï³ñ³Ý (Ï³½ÙÇ ÷á÷áËáõÃÛáõÝ, ÁÝ¹¹³ïáõÃÛáõÝ) | G3: Ð³ßí»ïáõ Å³Ù³Ý³Ï³Ñ³ïí³ÍáõÙ ³í³ñïí³Í ·áñÍ»ñÇ ÁÝ¹Ñ³Ýáõñ ÃÇíÁ | L3: Ð³ßí»ïáõ Å³Ù³Ý³Ï³Ñ³ïí³ÍáõÙ ³Ý³í³ñï ·áñÍ»ñÇ ÁÝ¹Ñ³Ýáõñ ÃÇíÁ | M3: ØÇçÝáñ¹áõÃÛáõÝÝ»ñáí Ï³Û³óí³Í ¹³ï³Ï³Ý ³Ïï»ñÇó µáÕáù³ñÏí³ÍÝ»ñÇ ù³Ý³ÏÁ | O3: ²Ý³í³ñï µáÕáùÝ»ñ | P3: ØÇçÝáñ¹áõÃÛáõÝÝ»ñáí Ï³Û³óí³Í ¨ µáÕáù³ñÏí³Í ¹³ï³Ï³Ý ³Ïï»ñÇó µ»Ï³Ýí³ÍÝ»ñÇ ù³Ý³ÏÁ | R3: ÙÇçÝáñ¹áõÃÛáõÝÝ»ñáí Ï³Û³óí³Í ¨ µáÕáù³ñÏí³Í ¹³ï³Ï³Ý ³Ïï»ñÇó ³Ý÷á÷áË ÃáÕÝí³ÍÝ»ñÇ ù³Ý³ÏÁ
G4: Ù»ñÅí»É ¿ | H4: µ³í³ñ³ñí»É ¿ | I4: µ³í³ñ³ñí»É ¿ Ù³ëÝ³ÏÇ | J4: ÃáÕÝí»É ¿ ³é³Ýó ùÝÝáõÃÛ³Ý | K4: ÀÝ¹³Ù»ÝÁ
M5: Ý³Ëáñ¹ ï³ñÇÝ»ñÇÝ Ï³Û³óí³Í ³Ïï»ñÇ ¹»Ù | N5: Ñ³ßí»ïáõ Å³Ù³Ý³Ï³ßñç³ÝáõÙ Ï³Û³óí³Í ³Ïï»ñÇ ¹»Ù | P5: Ý³Ëáñ¹ ï³ñÇÝ»ñÇÝ Ï³Û³óí³Í ³Ïï»ñÇ µ»Ï³ÝáõÙÝ»ñÁ | Q5: Ñ³ßí»ïáõ Å³Ù³Ý³Ï³ßñç³ÝáõÙ Ï³Û³óí³Í ³Ïï»ñÇ µ»Ï³ÝáõÙÝ»ñÁ
A6: 1. ØÇÝã¹³ï³Ï³Ý í³ñáõÛÃÇ ÝÏ³ïÙ³Ùµ ¹³ï³Ï³Ý í»ñ³ÑëÏáÕáõÃÛ³Ý áÉáñï | D6: 1 | E6: 2 | F6: 3 | G6: 4 | H6: 5 | I6: 6 | J6: 7 | K6: 8 | L6: 9 | M6: 10 | N6: 11 | O6: 12 | P6: 13 | Q6: 14 | R6: 15 | T6: 1+2=3+8+9 | V6: 8=4+5+6+7
A7: 1 | B7: Ï³É³ÝùÁ áñå»ë Ë³÷³ÝÙ³Ý ÙÇçáó ÏÇñ³é»Éáõ Ù³ëÇÝ ÙÇçÝáñ¹áõÃÛáõÝÝ»ñ | E7: 1 | H7: 1 | K7: 1 | T7: =D7+E7 -> 1 | U7: =F7+K7+L7 -> 1 | V7: =K7 -> 1 | W7: =G7+H7+I7+J7 -> 1
A8: 2 | B8: Ï³É³ÝùÇ Å³ÙÏ»ïÁ »ñÏ³ñ³óÝ»Éáõ Ù³ëÇÝ ÙÇçÝáñ¹áõÃÛáõÝÝ»ñ | T8: =D8+E8 -> 0 | U8: =F8+K8+L8 -> 0 | V8: =K8 -> 0 | W8: =G8+H8+I8+J8 -> 0
A9: 3 | B9: Ï³É³ÝùÇ í»ñ³Ñ³ëï³ïÙ³Ý Ù³ëÇÝ ÙÇçÝáñ¹áõÃÛáõÝÝ»ñ | E9: 1 | G9: 1 | K9: 1 | N9: 1 | R9: 1 | T9: =D9+E9 -> 1 | U9: =F9+K9+L9 -> 1 | V9: =K9 -> 1 | W9: =G9+H9+I9+J9 -> 1
A10: 4 | B10: ·ñ³íÁ áñå»ë Ï³É³Ý³íáñÙ³Ý ³ÛÉÁÝïñ³Ýù³ÛÇÝ Ë³÷³ÝÙ³Ý ÙÇçáó ÏÇñ³é»Éáõ Ù³ëÇÝ ÙÇçÝáñ¹áõÃÛáõÝÝ»ñ | T10: =D10+E10 -> 0 | U10: =F10+K10+L10 -> 0 | V10: =K10 -> 0 | W10: =G10+H10+I10+J10 -> 0
A11: 5 | B11: Ëáõ½³ñÏáõÃÛ³Ý Ï³ï³ñÙ³Ý Ù³ëÇÝ ÙÇçÝáñ¹áõÃÛáõÝÝ»ñ | E11: 1 | H11: 1 | K11: 1 | T11: =D11+E11 -> 1 | U11: =F11+K11+L11 -> 1 | V11: =K11 -> 1 | W11: =G11+H11+I11+J11 -> 1
A12: 6 | B12: µ³ÝÏ³ÛÇÝ, ³å³Ñáí³·ñ³Ï³Ý, Ýáï³ñ³Ï³Ý ·³ÕïÝÇù Ï³½ÙáÕ ï»Õ»ÏáõÃÛáõÝÝ»ñÇ ëï³óÙ³Ý Ñ³Ù³ñ Ëáõ½³ñÏáõÃÛ³Ý Ï³Ù ³é·ñ³íÙ³Ý Ï³ï³ñÙ³Ý Ù³ëÇÝ ÙÇçÝáñ¹áõÃÛáõÝÝ»ñ | T12: =D12+E12 -> 0 | U12: =F12+K12+L12 -> 0 | V12: =K12 -> 0 | W12: =G12+H12+I12+J12 -> 0
A13: 7 | B13: Ý³Ù³Ï³·ñáõÃÛ³Ý, Ñ»é³·ñ³Ï³Ý, ÷áuï³ÛÇÝ Ñ³Õáñ¹áõÙÝ»ñÇ ÑëÏáÕáõÃÛ³Ý Ù³ëÇÝ ÙÇçÝáñ¹áõÃÛáõÝÝ»ñ | T13: =D13+E13 -> 0 | U13: =F13+K13+L13 -> 0 | V13: =K13 -> 0 | W13: =G13+H13+I13+J13 -> 0
A14: 8 | B14: Ñ»é³Ëáu³ÛÇÝ Ï³Ù Ï³åÇ ³ÛÉ ÙÇçáóÝ»ñáí ï³ñíáÕ Ëáu³ÏóáõÃÛáõÝÝ»ñÇ ÉuÙ³Ý ¨ Ó³ÛÝ³·ñ³éÙ³Ý Ù³ëÇÝ ÙÇçÝáñ¹áõÃÛáõÝÝ»ñ | T14: =D14+E14 -> 0 | U14: =F14+K14+L14 -> 0 | V14: =K14 -> 0 | W14: =G14+H14+I14+J14 -> 0
A15: 9 | B15: Ñ»é³ËáëÝ»ñÇ Ùáõïù³ÛÇÝ ¨ »Éù³ÛÇÝ í»ñÍ³ÝÙ³Ý ÃáõÛÉïíáõÃÛáõÝ ëï³Ý³Éáõ Ù³ëÇÝ ÙÇçÝáñ¹áõÃÛáõÝÝ»ñ | T15: =D15+E15 -> 0 | U15: =F15+K15+L15 -> 0 | V15: =K15 -> 0 | W15: =G15+H15+I15+J15 -> 0
A16: 10 | B16: Ñ»ï³ùÝÝáõÃÛ³Ý Ù³ñÙÝÇ ³ßË³ïáÕÇ, ùÝÝÇãÇ, ¹³ï³Ë³½Ç oå»ñ³ïÇí-Ñ»ï³Ëáõ½³Ï³Ý ·áñÍáÕáõÃÛáõÝÝ»ñ Çñ³Ï³Ý³óÝáÕ Ù³ñÙÇÝÝ»ñÇ ³ÝoñÇÝ³Ï³Ý ¨ ³ÝÑÇÙÝ áñáßáõÙÝ»ñÇ ¨ ·áñÍáÕáõÃÛáõÝÝ»ñÇ ¹»Ù µáÕáùÝ»ñ | T16: =D16+E16 -> 0 | U16: =F16+K16+L16 -> 0 | V16: =K16 -> 0 | W16: =G16+H16+I16+J16 -> 0
A17: 11 | B17: ²½³ïáõÃÛáõÝÇó ½ñÏ»Éáõ Çñ³í³ã³÷áõÃÛ³Ý í»ñ³µ»ñÛ³É µáÕáùÝ»ñáí ·áñÍ»ñ | T17: =D17+E17 -> 0 | U17: =F17+K17+L17 -> 0 | V17: =K17 -> 0 | W17: =G17+H17+I17+J17 -> 0
A18: 2. ¸³ï³Ï³Ý ³Ïï»ñÇ ¨ ¹³ï³Ï³Ý Ñ³ÝÓÝ³ñ³ñáõÃÛáõÝÝ»ñÇ Ï³ï³ñÙ³Ý Ñ»ï Ï³åí³Í Ñ³ñó»ñÇ ÉáõÍÙ³Ý áÉáñï
A19: 1 | B19: å³ïÅÇó å³ÛÙ³Ý³Ï³Ý í³Õ³Å³ÙÏ»ï ³½³ï»Éáõ Ù³ëÇÝ ÙÇçÝáñ¹áõÃÛáõÝÝ»ñ | T19: =D19+E19 -> 0 | U19: =F19+K19+L19 -> 0 | V19: =K19 -> 0 | W19: =G19+H19+I19+J19 -> 0
A20: 2 | B20: å³ïÇÅÁ ÷á÷áË»Éáõ, Ñ»ï³Ó·»Éáõ ¨ å³ïÅÇó ³½³ï»Éáõ Ù³uÇÝ ÙÇçÝáñ¹áõÃÛáõÝÝ»ñ | T20: =D20+E20 -> 0 | U20: =F20+K20+L20 -> 0 | V20: =K20 -> 0 | W20: =G20+H20+I20+J20 -> 0
A21: 3 | B21: Ñ³ñÏ³¹Çñ µáõÅÙ³Ý ï»ë³ÏÇ ÷á÷áËáõÃÛ³Ý Ù³ëÇÝ ÙÇçÝáñ¹áõÃÛáõÝÝ»ñ | T21: =D21+E21 -> 0 | U21: =F21+K21+L21 -> 0 | V21: =K21 -> 0 | W21: =G21+H21+I21+J21 -> 0
A22: 4 | B22: ³ÛÉ ÙÇçÝáñ¹áõÃÛáõÝÝ»ñ | T22: =D22+E22 -> 0 | U22: =F22+K22+L22 -> 0 | V22: =K22 -> 0 | W22: =G22+H22+I22+J22 -> 0
A23: 5 | B23: ¹³ï³Ï³Ý Ñ³ÝÓÝ³ñ³ñáõÃÛáõÝÝ»ñ | D23: 5 | E23: 3 | H23: 1 | K23: 1 | L23: 7 | T23: =D23+E23 -> 8 | U23: =F23+K23+L23 -> 8 | V23: =K23 -> 1 | W23: =G23+H23+I23+J23 -> 1
A24: ÀÜ¸²ØºÜÀ | D24: =D7+D8+D9+D10+D11+D12+D13+D14+D15+D17+D19+D20+D21+D22+D23+D16 -> 5 | E24: =E7+E8+E9+E10+E11+E12+E13+E14+E15+E17+E19+E20+E21+E22+E23+E16 -> 6 | F24: =F7+F8+F9+F10+F11+F12+F13+F14+F15+F17+F19+F20+F21+F22+F23+F16 -> 0 | G24: =G7+G8+G9+G10+G11+G12+G13+G14+G15+G17+G19+G20+G21+G22+G23+G16 -> 1 | H24: =H7+H8+H9+H10+H11+H12+H13+H14+H15+H17+H19+H20+H21+H22+H23+H16 -> 3 | I24: =I7+I8+I9+I10+I11+I12+I13+I14+I15+I17+I19+I20+I21+I22+I23+I16 -> 0 | J24: =J7+J8+J9+J10+J11+J12+J13+J14+J15+J17+J19+J20+J21+J22+J23+J16 -> 0 | K24: =K7+K8+K9+K10+K11+K12+K13+K14+K15+K17+K19+K20+K21+K22+K23+K16 -> 4 | ... R24: =R7+R8+R9+R10+R11+R12+R13+R14+R15+R17+R19+R20+R21+R22+R23+R16 -> 1 | T24: =D24+E24 -> 11 | U24: =F24+K24+L24 -> 11 | V24: =K24 -> 4 | W24: =G24+H24+I24+J24 -> 4

Sheet Հ. ԴԱՐԲԻՆՅԱՆ
A1: 2017Ã. 1-ÇÝ Ïë³ÙÛ³Ï | D1: Ð²ÞìºîìàôÂÚàôÜ | P1: Ð³í»Éí³Í Ð³Û³ëï³ÝÇ Ð³Ýñ³å»ïáõÃÛ³Ý ¸³ï³ñ³ÝÝ»ñÇ Ý³Ë³·³ÑÝ»ñÇ ËáñÑñ¹Ç 25.08.2017Ã. ÃÇí 35-È áñáßÙ³Ý
A2: ØÇÝã¹³ï³Ï³Ý í³ñáõÛÃÇ ÝÏ³ïÙ³Ùµ ¹³ï³Ï³Ý í»ñ³ÑëÏáÕáõÃÛ³Ý, ¹³ï³Ï³Ý ³Ïï»ñÇ ¨ ¹³ï³Ï³Ý Ñ³ÝÓÝ³ñ³ñáõÃÛáõÝÝ»ñÇ Ï³ï³ñÙ³Ý Ñ»ï Ï³åí³Í ÙÇçÝáñ¹áõÃÛáõÝÝ»ñÇ í»ñ³µ»ñÛ³É ¹³ï³Ï³Ý ·áñÍ»ñáí ÐÐ ²ñ³ñ³ïÇ ¨ ì³Ûáó ÓáñÇ Ù³ñ½»ñÇ ÁÝ¹Ñ³Ýáõñ Çñ³í³ëáõÃÛ³Ý ³é³çÇÝ ³ïÛ³ÝÇ ¹³ï³ñ³ÝÇ ¹³ï³íáñ Հ. ¸³ñµÇÝÛ³ÝÇ ·áñÍáõÝ»áõÃÛ³Ý í»ñ³µ»ñÛ³É
D3: Ð³ßí»ïáõ Å³Ù³Ý³Ï³Ñ³ïí³ÍÇ ëÏ½µáõÙ Ý³Ëáñ¹ Ñ³ßí»ïáõ Å³Ù³Ý³Ï³Ñ³ïí³ÍÇó ÷áË³Ýóí³Í ·áñÍ»ñÇ ÁÝ¹Ñ³Ýáõñ ÃÇíÁ | E3: Ð³ßí»ïáõ Å³Ù³Ý³Ï³Ñ³ïí³ÍáõÙ ëï³óí³Í ·áñÍ»ñÇ ÁÝ¹Ñ³Ýáõñ ÃÇíÁ | F3: öáË³Ýóí»É ¿ ³ÛÉ ¹³ï³íáñÇ Ï³Ù ³ÛÉ ¹³ï³ñ³Ý (Ï³½ÙÇ ÷á÷áËáõÃÛáõÝ, ÁÝ¹¹³ïáõÃÛáõÝ) | G3: Ð³ßí»ïáõ Å³Ù³Ý³Ï³Ñ³ïí³ÍáõÙ ³í³ñïí³Í ·áñÍ»ñÇ ÁÝ¹Ñ³Ýáõñ ÃÇíÁ | L3: Ð³ßí»ïáõ Å³Ù³Ý³Ï³Ñ³ïí³ÍáõÙ ³Ý³í³ñï ·áñÍ»ñÇ ÁÝ¹Ñ³Ýáõñ ÃÇíÁ | M3: ØÇçÝáñ¹áõÃÛáõÝÝ»ñáí Ï³Û³óí³Í ¹³ï³Ï³Ý ³Ïï»ñÇó µáÕáù³ñÏí³ÍÝ»ñÇ ù³Ý³ÏÁ | O3: ²Ý³í³ñï µáÕáùÝ»ñ | P3: ØÇçÝáñ¹áõÃÛáõÝÝ»ñáí Ï³Û³óí³Í ¨ µáÕáù³ñÏí³Í ¹³ï³Ï³Ý ³Ïï»ñÇó µ»Ï³Ýí³ÍÝ»ñÇ ù³Ý³ÏÁ | R3: ÙÇçÝáñ¹áõÃÛáõÝÝ»ñáí Ï³Û³óí³Í ¨ µáÕáù³ñÏí³Í ¹³ï³Ï³Ý ³Ïï»ñÇó ³Ý÷á÷áË ÃáÕÝí³ÍÝ»ñÇ ù³Ý³ÏÁ
G4: Ù»ñÅí»É ¿ | H4: µ³í³ñ³ñí»É ¿ | I4: µ³í³ñ³ñí»É ¿ Ù³ëÝ³ÏÇ | J4: ÃáÕÝí»É ¿ ³é³Ýó ùÝÝáõÃÛ³Ý | K4: ÀÝ¹³Ù»ÝÁ
M5: Ý³Ëáñ¹ ï³ñÇÝ»ñÇÝ Ï³Û³óí³Í ³Ïï»ñÇ ¹»Ù | N5: Ñ³ßí»ïáõ Å³Ù³Ý³Ï³ßñç³ÝáõÙ Ï³Û³óí³Í ³Ïï»ñÇ ¹»Ù | P5: Ý³Ëáñ¹ ï³ñÇÝ»ñÇÝ Ï³Û³óí³Í ³Ïï»ñÇ µ»Ï³ÝáõÙÝ»ñÁ | Q5: Ñ³ßí»ïáõ Å³Ù³Ý³Ï³ßñç³ÝáõÙ Ï³Û³óí³Í ³Ïï»ñÇ µ»Ï³ÝáõÙÝ»ñÁ
A6: 1. ØÇÝã¹³ï³Ï³Ý í³ñáõÛÃÇ ÝÏ³ïÙ³Ùµ ¹³ï³Ï³Ý í»ñ³ÑëÏáÕáõÃÛ³Ý áÉáñï | D6: 1 | E6: 2 | F6: 3 | G6: 4 | H6: 5 | I6: 6 | J6: 7 | K6: 8 | L6: 9 | M6: 10 | N6: 11 | O6: 12 | P6: 13 | Q6: 14 | R6: 15 | T6: 1+2=3+8+9 | V6: 8=4+5+6+7
A7: 1 | B7: Ï³É³ÝùÁ áñå»ë Ë³÷³ÝÙ³Ý ÙÇçáó ÏÇñ³é»Éáõ Ù³ëÇÝ ÙÇçÝáñ¹áõÃÛáõÝÝ»ñ | T7: =D7+E7 -> 0 | U7: =F7+K7+L7 -> 0 | V7: =K7 -> 0 | W7: =G7+H7+I7+J7 -> 0
A8: 2 | B8: Ï³É³ÝùÇ Å³ÙÏ»ïÁ »ñÏ³ñ³óÝ»Éáõ Ù³ëÇÝ ÙÇçÝáñ¹áõÃÛáõÝÝ»ñ | T8: =D8+E8 -> 0 | U8: =F8+K8+L8 -> 0 | V8: =K8 -> 0 | W8: =G8+H8+I8+J8 -> 0
A9: 3 | B9: Ï³É³ÝùÇ í»ñ³Ñ³ëï³ïÙ³Ý Ù³ëÇÝ ÙÇçÝáñ¹áõÃÛáõÝÝ»ñ | T9: =D9+E9 -> 0 | U9: =F9+K9+L9 -> 0 | V9: =K9 -> 0 | W9: =G9+H9+I9+J9 -> 0
A10: 4 | B10: ·ñ³íÁ áñå»ë Ï³É³Ý³íáñÙ³Ý ³ÛÉÁÝïñ³Ýù³ÛÇÝ Ë³÷³ÝÙ³Ý ÙÇçáó ÏÇñ³é»Éáõ Ù³ëÇÝ ÙÇçÝáñ¹áõÃÛáõÝÝ»ñ | T10: =D10+E10 -> 0 | U10: =F10+K10+L10 -> 0 | V10: =K10 -> 0 | W10: =G10+H10+I10+J10 -> 0
A11: 5 | B11: Ëáõ½³ñÏáõÃÛ³Ý Ï³ï³ñÙ³Ý Ù³ëÇÝ ÙÇçÝáñ¹áõÃÛáõÝÝ»ñ | T11: =D11+E11 -> 0 | U11: =F11+K11+L11 -> 0 | V11: =K11 -> 0 | W11: =G11+H11+I11+J11 -> 0
A12: 6 | B12: µ³ÝÏ³ÛÇÝ, ³å³Ñáí³·ñ³Ï³Ý, Ýáï³ñ³Ï³Ý ·³ÕïÝÇù Ï³½ÙáÕ ï»Õ»ÏáõÃÛáõÝÝ»ñÇ ëï³óÙ³Ý Ñ³Ù³ñ Ëáõ½³ñÏáõÃÛ³Ý Ï³Ù ³é·ñ³íÙ³Ý Ï³ï³ñÙ³Ý Ù³ëÇÝ ÙÇçÝáñ¹áõÃÛáõÝÝ»ñ | T12: =D12+E12 -> 0 | U12: =F12+K12+L12 -> 0 | V12: =K12 -> 0 | W12: =G12+H12+I12+J12 -> 0
A13: 7 | B13: Ý³Ù³Ï³·ñáõÃÛ³Ý, Ñ»é³·ñ³Ï³Ý, ÷áuï³ÛÇÝ Ñ³Õáñ¹áõÙÝ»ñÇ ÑëÏáÕáõÃÛ³Ý Ù³ëÇÝ ÙÇçÝáñ¹áõÃÛáõÝÝ»ñ | T13: =D13+E13 -> 0 | U13: =F13+K13+L13 -> 0 | V13: =K13 -> 0 | W13: =G13+H13+I13+J13 -> 0
A14: 8 | B14: Ñ»é³Ëáu³ÛÇÝ Ï³Ù Ï³åÇ ³ÛÉ ÙÇçáóÝ»ñáí ï³ñíáÕ Ëáu³ÏóáõÃÛáõÝÝ»ñÇ ÉuÙ³Ý ¨ Ó³ÛÝ³·ñ³éÙ³Ý Ù³ëÇÝ ÙÇçÝáñ¹áõÃÛáõÝÝ»ñ | T14: =D14+E14 -> 0 | U14: =F14+K14+L14 -> 0 | V14: =K14 -> 0 | W14: =G14+H14+I14+J14 -> 0
A15: 9 | B15: Ñ»é³ËáëÝ»ñÇ Ùáõïù³ÛÇÝ ¨ »Éù³ÛÇÝ í»ñÍ³ÝÙ³Ý ÃáõÛÉïíáõÃÛáõÝ ëï³Ý³Éáõ Ù³ëÇÝ ÙÇçÝáñ¹áõÃÛáõÝÝ»ñ | T15: =D15+E15 -> 0 | U15: =F15+K15+L15 -> 0 | V15: =K15 -> 0 | W15: =G15+H15+I15+J15 -> 0
A16: 10 | B16: Ñ»ï³ùÝÝáõÃÛ³Ý Ù³ñÙÝÇ ³ßË³ïáÕÇ, ùÝÝÇãÇ, ¹³ï³Ë³½Ç oå»ñ³ïÇí-Ñ»ï³Ëáõ½³Ï³Ý ·áñÍáÕáõÃÛáõÝÝ»ñ Çñ³Ï³Ý³óÝáÕ Ù³ñÙÇÝÝ»ñÇ ³ÝoñÇÝ³Ï³Ý ¨ ³ÝÑÇÙÝ áñáßáõÙÝ»ñÇ ¨ ·áñÍáÕáõÃÛáõÝÝ»ñÇ ¹»Ù µáÕáùÝ»ñ | T16: =D16+E16 -> 0 | U16: =F16+K16+L16 -> 0 | V16: =K16 -> 0 | W16: =G16+H16+I16+J16 -> 0
A17: 11 | B17: ²½³ïáõÃÛáõÝÇó ½ñÏ»Éáõ Çñ³í³ã³÷áõÃÛ³Ý í»ñ³µ»ñÛ³É µáÕáùÝ»ñáí ·áñÍ»ñ | T17: =D17+E17 -> 0 | U17: =F17+K17+L17 -> 0 | V17: =K17 -> 0 | W17: =G17+H17+I17+J17 -> 0
A18: 2. ¸³ï³Ï³Ý ³Ïï»ñÇ ¨ ¹³ï³Ï³Ý Ñ³ÝÓÝ³ñ³ñáõÃÛáõÝÝ»ñÇ Ï³ï³ñÙ³Ý Ñ»ï Ï³åí³Í Ñ³ñó»ñÇ ÉáõÍÙ³Ý áÉáñï
A19: 1 | B19: å³ïÅÇó å³ÛÙ³Ý³Ï³Ý í³Õ³Å³ÙÏ»ï ³½³ï»Éáõ Ù³ëÇÝ ÙÇçÝáñ¹áõÃÛáõÝÝ»ñ | T19: =D19+E19 -> 0 | U19: =F19+K19+L19 -> 0 | V19: =K19 -> 0 | W19: =G19+H19+I19+J19 -> 0
A20: 2 | B20: å³ïÇÅÁ ÷á÷áË»Éáõ, Ñ»ï³Ó·»Éáõ ¨ å³ïÅÇó ³½³ï»Éáõ Ù³uÇÝ ÙÇçÝáñ¹áõÃÛáõÝÝ»ñ | T20: =D20+E20 -> 0 | U20: =F20+K20+L20 -> 0 | V20: =K20 -> 0 | W20: =G20+H20+I20+J20 -> 0
A21: 3 | B21: Ñ³ñÏ³¹Çñ µáõÅÙ³Ý ï»ë³ÏÇ ÷á÷áËáõÃÛ³Ý Ù³ëÇÝ ÙÇçÝáñ¹áõÃÛáõÝÝ»ñ | T21: =D21+E21 -> 0 | U21: =F21+K21+L21 -> 0 | V21: =K21 -> 0 | W21: =G21+H21+I21+J21 -> 0
A22: 4 | B22: ³ÛÉ ÙÇçÝáñ¹áõÃÛáõÝÝ»ñ | T22: =D22+E22 -> 0 | U22: =F22+K22+L22 -> 0 | V22: =K22 -> 0 | W22: =G22+H22+I22+J22 -> 0
A23: 5 | B23: ¹³ï³Ï³Ý Ñ³ÝÓÝ³ñ³ñáõÃÛáõÝÝ»ñ | D23: 1 | E23: 1 | L23: 2 | T23: =D23+E23 -> 2 | U23: =F23+K23+L23 -> 2 | V23: =K23 -> 0 | W23: =G23+H23+I23+J23 -> 0
A24: ÀÜ¸²ØºÜÀ | D24: =D7+D8+D9+D10+D11+D12+D13+D14+D15+D17+D19+D20+D21+D22+D23+D16 -> 1 | E24: =E7+E8+E9+E10+E11+E12+E13+E14+E15+E17+E19+E20+E21+E22+E23+E16 -> 1 | F24: =F7+F8+F9+F10+F11+F12+F13+F14+F15+F17+F19+F20+F21+F22+F23+F16 -> 0 | G24: =G7+G8+G9+G10+G11+G12+G13+G14+G15+G17+G19+G20+G21+G22+G23+G16 -> 0 | H24: =H7+H8+H9+H10+H11+H12+H13+H14+H15+H17+H19+H20+H21+H22+H23+H16 -> 0 | I24: =I7+I8+I9+I10+I11+I12+I13+I14+I15+I17+I19+I20+I21+I22+I23+I16 -> 0 | J24: =J7+J8+J9+J10+J11+J12+J13+J14+J15+J17+J19+J20+J21+J22+J23+J16 -> 0 | K24: =K7+K8+K9+K10+K11+K12+K13+K14+K15+K17+K19+K20+K21+K22+K23+K16 -> 0 | ... R24: =R7+R8+R9+R10+R11+R12+R13+R14+R15+R17+R19+R20+R21+R22+R23+R16 -> 0 | T24: =D24+E24 -> 2 | U24: =F24+K24+L24 -> 2 | V24: =K24 -> 0 | W24: =G24+H24+I24+J24 -> 0

Sheet Ե. ՔՈՉԱՐՅԱՆ
A1: 2017Ã. 1-ÇÝ Ïë³ÙÛ³Ï | D1: Ð²ÞìºîìàôÂÚàôÜ | P1: Ð³í»Éí³Í Ð³Û³ëï³ÝÇ Ð³Ýñ³å»ïáõÃÛ³Ý ¸³ï³ñ³ÝÝ»ñÇ Ý³Ë³·³ÑÝ»ñÇ ËáñÑñ¹Ç 25.08.2017Ã. ÃÇí 35-È áñáßÙ³Ý
A2: ØÇÝã¹³ï³Ï³Ý í³ñáõÛÃÇ ÝÏ³ïÙ³Ùµ ¹³ï³Ï³Ý í»ñ³ÑëÏáÕáõÃÛ³Ý, ¹³ï³Ï³Ý ³Ïï»ñÇ ¨ ¹³ï³Ï³Ý Ñ³ÝÓÝ³ñ³ñáõÃÛáõÝÝ»ñÇ Ï³ï³ñÙ³Ý Ñ»ï Ï³åí³Í ÙÇçÝáñ¹áõÃÛáõÝÝ»ñÇ í»ñ³µ»ñÛ³É ¹³ï³Ï³Ý ·áñÍ»ñáí ÐÐ ²ñ³ñ³ïÇ ¨ ì³Ûáó ÓáñÇ Ù³ñ½»ñÇ ÁÝ¹Ñ³Ýáõñ Çñ³í³ëáõÃÛ³Ý ³é³çÇÝ ³ïÛ³ÝÇ ¹³ï³ñ³ÝÇ ¹³ï³íáñ Ե. øáã³ñÛ³ÝÇ ·áñÍáõÝ»áõÃÛ³Ý í»ñ³µ»ñÛ³É
D3: Ð³ßí»ïáõ Å³Ù³Ý³Ï³Ñ³ïí³ÍÇ ëÏ½µáõÙ Ý³Ëáñ¹ Ñ³ßí»ïáõ Å³Ù³Ý³Ï³Ñ³ïí³ÍÇó ÷áË³Ýóí³Í ·áñÍ»ñÇ ÁÝ¹Ñ³Ýáõñ ÃÇíÁ | E3: Ð³ßí»ïáõ Å³Ù³Ý³Ï³Ñ³ïí³ÍáõÙ ëï³óí³Í ·áñÍ»ñÇ ÁÝ¹Ñ³Ýáõñ ÃÇíÁ | F3: öáË³Ýóí»É ¿ ³ÛÉ ¹³ï³íáñÇ Ï³Ù ³ÛÉ ¹³ï³ñ³Ý (Ï³½ÙÇ ÷á÷áËáõÃÛáõÝ, ÁÝ¹¹³ïáõÃÛáõÝ) | G3: Ð³ßí»ïáõ Å³Ù³Ý³Ï³Ñ³ïí³ÍáõÙ ³í³ñïí³Í ·áñÍ»ñÇ ÁÝ¹Ñ³Ýáõñ ÃÇíÁ | L3: Ð³ßí»ïáõ Å³Ù³Ý³Ï³Ñ³ïí³ÍáõÙ ³Ý³í³ñï ·áñÍ»ñÇ ÁÝ¹Ñ³Ýáõñ ÃÇíÁ | M3: ØÇçÝáñ¹áõÃÛáõÝÝ»ñáí Ï³Û³óí³Í ¹³ï³Ï³Ý ³Ïï»ñÇó µáÕáù³ñÏí³ÍÝ»ñÇ ù³Ý³ÏÁ | O3: ²Ý³í³ñï µáÕáùÝ»ñ | P3: ØÇçÝáñ¹áõÃÛáõÝÝ»ñáí Ï³Û³óí³Í ¨ µáÕáù³ñÏí³Í ¹³ï³Ï³Ý ³Ïï»ñÇó µ»Ï³Ýí³ÍÝ»ñÇ ù³Ý³ÏÁ | R3: ÙÇçÝáñ¹áõÃÛáõÝÝ»ñáí Ï³Û³óí³Í ¨ µáÕáù³ñÏí³Í ¹³ï³Ï³Ý ³Ïï»ñÇó ³Ý÷á÷áË ÃáÕÝí³ÍÝ»ñÇ ù³Ý³ÏÁ
G4: Ù»ñÅí»É ¿ | H4: µ³í³ñ³ñí»É ¿ | I4: µ³í³ñ³ñí»É ¿ Ù³ëÝ³ÏÇ | J4: ÃáÕÝí»É ¿ ³é³Ýó ùÝÝáõÃÛ³Ý | K4: ÀÝ¹³Ù»ÝÁ
M5: Ý³Ëáñ¹ ï³ñÇÝ»ñÇÝ Ï³Û³óí³Í ³Ïï»ñÇ ¹»Ù | N5: Ñ³ßí»ïáõ Å³Ù³Ý³Ï³ßñç³ÝáõÙ Ï³Û³óí³Í ³Ïï»ñÇ ¹»Ù | P5: Ý³Ëáñ¹ ï³ñÇÝ»ñÇÝ Ï³Û³óí³Í ³Ïï»ñÇ µ»Ï³ÝáõÙÝ»ñÁ | Q5: Ñ³ßí»ïáõ Å³Ù³Ý³Ï³ßñç³ÝáõÙ Ï³Û³óí³Í ³Ïï»ñÇ µ»Ï³ÝáõÙÝ»ñÁ
A6: 1. ØÇÝã¹³ï³Ï³Ý í³ñáõÛÃÇ ÝÏ³ïÙ³Ùµ ¹³ï³Ï³Ý í»ñ³ÑëÏáÕáõÃÛ³Ý áÉáñï | D6: 1 | E6: 2 | F6: 3 | G6: 4 | H6: 5 | I6: 6 | J6: 7 | K6: 8 | L6: 9 | M6: 10 | N6: 11 | O6: 12 | P6: 13 | Q6: 14 | R6: 15 | T6: 1+2=3+8+9 | V6: 8=4+5+6+7
A7: 1 | B7: Ï³É³ÝùÁ áñå»ë Ë³÷³ÝÙ³Ý ÙÇçáó ÏÇñ³é»Éáõ Ù³ëÇÝ ÙÇçÝáñ¹áõÃÛáõÝÝ»ñ | T7: =D7+E7 -> 0 | U7: =F7+K7+L7 -> 0 | V7: =K7 -> 0 | W7: =G7+H7+I7+J7 -> 0
A8: 2 | B8: Ï³É³ÝùÇ Å³ÙÏ»ïÁ »ñÏ³ñ³óÝ»Éáõ Ù³ëÇÝ ÙÇçÝáñ¹áõÃÛáõÝÝ»ñ | T8: =D8+E8 -> 0 | U8: =F8+K8+L8 -> 0 | V8: =K8 -> 0 | W8: =G8+H8+I8+J8 -> 0
A9: 3 | B9: Ï³É³ÝùÇ í»ñ³Ñ³ëï³ïÙ³Ý Ù³ëÇÝ ÙÇçÝáñ¹áõÃÛáõÝÝ»ñ | T9: =D9+E9 -> 0 | U9: =F9+K9+L9 -> 0 | V9: =K9 -> 0 | W9: =G9+H9+I9+J9 -> 0
A10: 4 | B10: ·ñ³íÁ áñå»ë Ï³É³Ý³íáñÙ³Ý ³ÛÉÁÝïñ³Ýù³ÛÇÝ Ë³÷³ÝÙ³Ý ÙÇçáó ÏÇñ³é»Éáõ Ù³ëÇÝ ÙÇçÝáñ¹áõÃÛáõÝÝ»ñ | T10: =D10+E10 -> 0 | U10: =F10+K10+L10 -> 0 | V10: =K10 -> 0 | W10: =G10+H10+I10+J10 -> 0
A11: 5 | B11: Ëáõ½³ñÏáõÃÛ³Ý Ï³ï³ñÙ³Ý Ù³ëÇÝ ÙÇçÝáñ¹áõÃÛáõÝÝ»ñ | T11: =D11+E11 -> 0 | U11: =F11+K11+L11 -> 0 | V11: =K11 -> 0 | W11: =G11+H11+I11+J11 -> 0
A12: 6 | B12: µ³ÝÏ³ÛÇÝ, ³å³Ñáí³·ñ³Ï³Ý, Ýáï³ñ³Ï³Ý ·³ÕïÝÇù Ï³½ÙáÕ ï»Õ»ÏáõÃÛáõÝÝ»ñÇ ëï³óÙ³Ý Ñ³Ù³ñ Ëáõ½³ñÏáõÃÛ³Ý Ï³Ù ³é·ñ³íÙ³Ý Ï³ï³ñÙ³Ý Ù³ëÇÝ ÙÇçÝáñ¹áõÃÛáõÝÝ»ñ | T12: =D12+E12 -> 0 | U12: =F12+K12+L12 -> 0 | V12: =K12 -> 0 | W12: =G12+H12+I12+J12 -> 0
A13: 7 | B13: Ý³Ù³Ï³·ñáõÃÛ³Ý, Ñ»é³·ñ³Ï³Ý, ÷áuï³ÛÇÝ Ñ³Õáñ¹áõÙÝ»ñÇ ÑëÏáÕáõÃÛ³Ý Ù³ëÇÝ ÙÇçÝáñ¹áõÃÛáõÝÝ»ñ | T13: =D13+E13 -> 0 | U13: =F13+K13+L13 -> 0 | V13: =K13 -> 0 | W13: =G13+H13+I13+J13 -> 0
A14: 8 | B14: Ñ»é³Ëáu³ÛÇÝ Ï³Ù Ï³åÇ ³ÛÉ ÙÇçáóÝ»ñáí ï³ñíáÕ Ëáu³ÏóáõÃÛáõÝÝ»ñÇ ÉuÙ³Ý ¨ Ó³ÛÝ³·ñ³éÙ³Ý Ù³ëÇÝ ÙÇçÝáñ¹áõÃÛáõÝÝ»ñ | T14: =D14+E14 -> 0 | U14: =F14+K14+L14 -> 0 | V14: =K14 -> 0 | W14: =G14+H14+I14+J14 -> 0
A15: 9 | B15: Ñ»é³ËáëÝ»ñÇ Ùáõïù³ÛÇÝ ¨ »Éù³ÛÇÝ í»ñÍ³ÝÙ³Ý ÃáõÛÉïíáõÃÛáõÝ ëï³Ý³Éáõ Ù³ëÇÝ ÙÇçÝáñ¹áõÃÛáõÝÝ»ñ | T15: =D15+E15 -> 0 | U15: =F15+K15+L15 -> 0 | V15: =K15 -> 0 | W15: =G15+H15+I15+J15 -> 0
A16: 10 | B16: Ñ»ï³ùÝÝáõÃÛ³Ý Ù³ñÙÝÇ ³ßË³ïáÕÇ, ùÝÝÇãÇ, ¹³ï³Ë³½Ç oå»ñ³ïÇí-Ñ»ï³Ëáõ½³Ï³Ý ·áñÍáÕáõÃÛáõÝÝ»ñ Çñ³Ï³Ý³óÝáÕ Ù³ñÙÇÝÝ»ñÇ ³ÝoñÇÝ³Ï³Ý ¨ ³ÝÑÇÙÝ áñáßáõÙÝ»ñÇ ¨ ·áñÍáÕáõÃÛáõÝÝ»ñÇ ¹»Ù µáÕáùÝ»ñ | T16: =D16+E16 -> 0 | U16: =F16+K16+L16 -> 0 | V16: =K16 -> 0 | W16: =G16+H16+I16+J16 -> 0
A17: 11 | B17: ²½³ïáõÃÛáõÝÇó ½ñÏ»Éáõ Çñ³í³ã³÷áõÃÛ³Ý í»ñ³µ»ñÛ³É µáÕáùÝ»ñáí ·áñÍ»ñ | T17: =D17+E17 -> 0 | U17: =F17+K17+L17 -> 0 | V17: =K17 -> 0 | W17: =G17+H17+I17+J17 -> 0
A18: 2. ¸³ï³Ï³Ý ³Ïï»ñÇ ¨ ¹³ï³Ï³Ý Ñ³ÝÓÝ³ñ³ñáõÃÛáõÝÝ»ñÇ Ï³ï³ñÙ³Ý Ñ»ï Ï³åí³Í Ñ³ñó»ñÇ ÉáõÍÙ³Ý áÉáñï
A19: 1 | B19: å³ïÅÇó å³ÛÙ³Ý³Ï³Ý í³Õ³Å³ÙÏ»ï ³½³ï»Éáõ Ù³ëÇÝ ÙÇçÝáñ¹áõÃÛáõÝÝ»ñ | T19: =D19+E19 -> 0 | U19: =F19+K19+L19 -> 0 | V19: =K19 -> 0 | W19: =G19+H19+I19+J19 -> 0
A20: 2 | B20: å³ïÇÅÁ ÷á÷áË»Éáõ, Ñ»ï³Ó·»Éáõ ¨ å³ïÅÇó ³½³ï»Éáõ Ù³uÇÝ ÙÇçÝáñ¹áõÃÛáõÝÝ»ñ | T20: =D20+E20 -> 0 | U20: =F20+K20+L20 -> 0 | V20: =K20 -> 0 | W20: =G20+H20+I20+J20 -> 0
A21: 3 | B21: Ñ³ñÏ³¹Çñ µáõÅÙ³Ý ï»ë³ÏÇ ÷á÷áËáõÃÛ³Ý Ù³ëÇÝ ÙÇçÝáñ¹áõÃÛáõÝÝ»ñ | T21: =D21+E21 -> 0 | U21: =F21+K21+L21 -> 0 | V21: =K21 -> 0 | W21: =G21+H21+I21+J21 -> 0
A22: 4 | B22: ³ÛÉ ÙÇçÝáñ¹áõÃÛáõÝÝ»ñ | T22: =D22+E22 -> 0 | U22: =F22+K22+L22 -> 0 | V22: =K22 -> 0 | W22: =G22+H22+I22+J22 -> 0
A23: 5 | B23: ¹³ï³Ï³Ý Ñ³ÝÓÝ³ñ³ñáõÃÛáõÝÝ»ñ | D23: 3 | L23: 3 | T23: =D23+E23 -> 3 | U23: =F23+K23+L23 -> 3 | V23: =K23 -> 0 | W23: =G23+H23+I23+J23 -> 0
A24: ÀÜ¸²ØºÜÀ | D24: =D7+D8+D9+D10+D11+D12+D13+D14+D15+D17+D19+D20+D21+D22+D23+D16 -> 3 | E24: =E7+E8+E9+E10+E11+E12+E13+E14+E15+E17+E19+E20+E21+E22+E23+E16 -> 0 | F24: =F7+F8+F9+F10+F11+F12+F13+F14+F15+F17+F19+F20+F21+F22+F23+F16 -> 0 | G24: =G7+G8+G9+G10+G11+G12+G13+G14+G15+G17+G19+G20+G21+G22+G23+G16 -> 0 | H24: =H7+H8+H9+H10+H11+H12+H13+H14+H15+H17+H19+H20+H21+H22+H23+H16 -> 0 | I24: =I7+I8+I9+I10+I11+I12+I13+I14+I15+I17+I19+I20+I21+I22+I23+I16 -> 0 | J24: =J7+J8+J9+J10+J11+J12+J13+J14+J15+J17+J19+J20+J21+J22+J23+J16 -> 0 | K24: =K7+K8+K9+K10+K11+K12+K13+K14+K15+K17+K19+K20+K21+K22+K23+K16 -> 0 | ... R24: =R7+R8+R9+R10+R11+R12+R13+R14+R15+R17+R19+R20+R21+R22+R23+R16 -> 0 | T24: =D24+E24 -> 3 | U24: =F24+K24+L24 -> 3 | V24: =K24 -> 0 | W24: =G24+H24+I24+J24 -> 0

Sheet Գ. ՀՈՎՀԱՆՆԻՍՅԱՆ
A1: 2017Ã. 1-ÇÝ Ïë³ÙÛ³Ï | D1: Ð²ÞìºîìàôÂÚàôÜ | P1: Ð³í»Éí³Í Ð³Û³ëï³ÝÇ Ð³Ýñ³å»ïáõÃÛ³Ý ¸³ï³ñ³ÝÝ»ñÇ Ý³Ë³·³ÑÝ»ñÇ ËáñÑñ¹Ç 25.08.2017Ã. ÃÇí 35-È áñáßÙ³Ý
A2: ØÇÝã¹³ï³Ï³Ý í³ñáõÛÃÇ ÝÏ³ïÙ³Ùµ ¹³ï³Ï³Ý í»ñ³ÑëÏáÕáõÃÛ³Ý, ¹³ï³Ï³Ý ³Ïï»ñÇ ¨ ¹³ï³Ï³Ý Ñ³ÝÓÝ³ñ³ñáõÃÛáõÝÝ»ñÇ Ï³ï³ñÙ³Ý Ñ»ï Ï³åí³Í ÙÇçÝáñ¹áõÃÛáõÝÝ»ñÇ í»ñ³µ»ñÛ³É ¹³ï³Ï³Ý ·áñÍ»ñáí ÐÐ ²ñ³ñ³ïÇ ¨ ì³Ûáó ÓáñÇ Ù³ñ½»ñÇ ÁÝ¹Ñ³Ýáõñ Çñ³í³ëáõÃÛ³Ý ³é³çÇÝ ³ïÛ³ÝÇ ¹³ï³ñ³ÝÇ ¹³ï³íáñ ¶. ÐáíÑ³ÝÝÇëÛ³ÝÇ ·áñÍáõÝ»áõÃÛ³Ý í»ñ³µ»ñÛ³É
D3: Ð³ßí»ïáõ Å³Ù³Ý³Ï³Ñ³ïí³ÍÇ ëÏ½µáõÙ Ý³Ëáñ¹ Ñ³ßí»ïáõ Å³Ù³Ý³Ï³Ñ³ïí³ÍÇó ÷áË³Ýóí³Í ·áñÍ»ñÇ ÁÝ¹Ñ³Ýáõñ ÃÇíÁ | E3: Ð³ßí»ïáõ Å³Ù³Ý³Ï³Ñ³ïí³ÍáõÙ ëï³óí³Í ·áñÍ»ñÇ ÁÝ¹Ñ³Ýáõñ ÃÇíÁ | F3: öáË³Ýóí»É ¿ ³ÛÉ ¹³ï³íáñÇ Ï³Ù ³ÛÉ ¹³ï³ñ³Ý (Ï³½ÙÇ ÷á÷áËáõÃÛáõÝ, ÁÝ¹¹³ïáõÃÛáõÝ) | G3: Ð³ßí»ïáõ Å³Ù³Ý³Ï³Ñ³ïí³ÍáõÙ ³í³ñïí³Í ·áñÍ»ñÇ ÁÝ¹Ñ³Ýáõñ ÃÇíÁ | L3: Ð³ßí»ïáõ Å³Ù³Ý³Ï³Ñ³ïí³ÍáõÙ ³Ý³í³ñï ·áñÍ»ñÇ ÁÝ¹Ñ³Ýáõñ ÃÇíÁ | M3: ØÇçÝáñ¹áõÃÛáõÝÝ»ñáí Ï³Û³óí³Í ¹³ï³Ï³Ý ³Ïï»ñÇó µáÕáù³ñÏí³ÍÝ»ñÇ ù³Ý³ÏÁ | O3: ²Ý³í³ñï µáÕáùÝ»ñ | P3: ØÇçÝáñ¹áõÃÛáõÝÝ»ñáí Ï³Û³óí³Í ¨ µáÕáù³ñÏí³Í ¹³ï³Ï³Ý ³Ïï»ñÇó µ»Ï³Ýí³ÍÝ»ñÇ ù³Ý³ÏÁ | R3: ÙÇçÝáñ¹áõÃÛáõÝÝ»ñáí Ï³Û³óí³Í ¨ µáÕáù³ñÏí³Í ¹³ï³Ï³Ý ³Ïï»ñÇó ³Ý÷á÷áË ÃáÕÝí³ÍÝ»ñÇ ù³Ý³ÏÁ
G4: Ù»ñÅí»É ¿ | H4: µ³í³ñ³ñí»É ¿ | I4: µ³í³ñ³ñí»É ¿ Ù³ëÝ³ÏÇ | J4: ÃáÕÝí»É ¿ ³é³Ýó ùÝÝáõÃÛ³Ý | K4: ÀÝ¹³Ù»ÝÁ
M5: Ý³Ëáñ¹ ï³ñÇÝ»ñÇÝ Ï³Û³óí³Í ³Ïï»ñÇ ¹»Ù | N5: Ñ³ßí»ïáõ Å³Ù³Ý³Ï³ßñç³ÝáõÙ Ï³Û³óí³Í ³Ïï»ñÇ ¹»Ù | P5: Ý³Ëáñ¹ ï³ñÇÝ»ñÇÝ Ï³Û³óí³Í ³Ïï»ñÇ µ»Ï³ÝáõÙÝ»ñÁ | Q5: Ñ³ßí»ïáõ Å³Ù³Ý³Ï³ßñç³ÝáõÙ Ï³Û³óí³Í ³Ïï»ñÇ µ»Ï³ÝáõÙÝ»ñÁ
A6: 1. ØÇÝã¹³ï³Ï³Ý í³ñáõÛÃÇ ÝÏ³ïÙ³Ùµ ¹³ï³Ï³Ý í»ñ³ÑëÏáÕáõÃÛ³Ý áÉáñï | D6: 1 | E6: 2 | F6: 3 | G6: 4 | H6: 5 | I6: 6 | J6: 7 | K6: 8 | L6: 9 | M6: 10 | N6: 11 | O6: 12 | P6: 13 | Q6: 14 | R6: 15 | T6: 1+2=3+8+9 | V6: 8=4+5+6+7
A7: 1 | B7: Ï³É³ÝùÁ áñå»ë Ë³÷³ÝÙ³Ý ÙÇçáó ÏÇñ³é»Éáõ Ù³ëÇÝ ÙÇçÝáñ¹áõÃÛáõÝÝ»ñ | E7: 13 | H7: 13 | K7: 13 | N7: 1 | O7: 1 | T7: =D7+E7 -> 13 | U7: =F7+K7+L7 -> 13 | V7: =K7 -> 13 | W7: =G7+H7+I7+J7 -> 13
A8: 2 | B8: Ï³É³ÝùÇ Å³ÙÏ»ïÁ »ñÏ³ñ³óÝ»Éáõ Ù³ëÇÝ ÙÇçÝáñ¹áõÃÛáõÝÝ»ñ | E8: 2 | H8: 2 | K8: 2 | T8: =D8+E8 -> 2 | U8: =F8+K8+L8 -> 2 | V8: =K8 -> 2 | W8: =G8+H8+I8+J8 -> 2
A9: 3 | B9: Ï³É³ÝùÇ í»ñ³Ñ³ëï³ïÙ³Ý Ù³ëÇÝ ÙÇçÝáñ¹áõÃÛáõÝÝ»ñ | E9: 2 | H9: 2 | K9: 2 | T9: =D9+E9 -> 2 | U9: =F9+K9+L9 -> 2 | V9: =K9 -> 2 | W9: =G9+H9+I9+J9 -> 2
A10: 4 | B10: ·ñ³íÁ áñå»ë Ï³É³Ý³íáñÙ³Ý ³ÛÉÁÝïñ³Ýù³ÛÇÝ Ë³÷³ÝÙ³Ý ÙÇçáó ÏÇñ³é»Éáõ Ù³ëÇÝ ÙÇçÝáñ¹áõÃÛáõÝÝ»ñ | E10: 4 | G10: 3 | H10: 1 | K10: 4 | T10: =D10+E10 -> 4 | U10: =F10+K10+L10 -> 4 | V10: =K10 -> 4 | W10: =G10+H10+I10+J10 -> 4
A11: 5 | B11: Ëáõ½³ñÏáõÃÛ³Ý Ï³ï³ñÙ³Ý Ù³ëÇÝ ÙÇçÝáñ¹áõÃÛáõÝÝ»ñ | E11: 14 | G11: 2 | H11: 12 | K11: 14 | T11: =D11+E11 -> 14 | U11: =F11+K11+L11 -> 14 | V11: =K11 -> 14 | W11: =G11+H11+I11+J11 -> 14
A12: 6 | B12: µ³ÝÏ³ÛÇÝ, ³å³Ñáí³·ñ³Ï³Ý, Ýáï³ñ³Ï³Ý ·³ÕïÝÇù Ï³½ÙáÕ ï»Õ»ÏáõÃÛáõÝÝ»ñÇ ëï³óÙ³Ý Ñ³Ù³ñ Ëáõ½³ñÏáõÃÛ³Ý Ï³Ù ³é·ñ³íÙ³Ý Ï³ï³ñÙ³Ý Ù³ëÇÝ ÙÇçÝáñ¹áõÃÛáõÝÝ»ñ | T12: =D12+E12 -> 0 | U12: =F12+K12+L12 -> 0 | V12: =K12 -> 0 | W12: =G12+H12+I12+J12 -> 0
A13: 7 | B13: Ý³Ù³Ï³·ñáõÃÛ³Ý, Ñ»é³·ñ³Ï³Ý, ÷áuï³ÛÇÝ Ñ³Õáñ¹áõÙÝ»ñÇ ÑëÏáÕáõÃÛ³Ý Ù³ëÇÝ ÙÇçÝáñ¹áõÃÛáõÝÝ»ñ | E13: 1 | H13: 1 | K13: 1 | T13: =D13+E13 -> 1 | U13: =F13+K13+L13 -> 1 | V13: =K13 -> 1 | W13: =G13+H13+I13+J13 -> 1
A14: 8 | B14: Ñ»é³Ëáu³ÛÇÝ Ï³Ù Ï³åÇ ³ÛÉ ÙÇçáóÝ»ñáí ï³ñíáÕ Ëáu³ÏóáõÃÛáõÝÝ»ñÇ ÉuÙ³Ý ¨ Ó³ÛÝ³·ñ³éÙ³Ý Ù³ëÇÝ ÙÇçÝáñ¹áõÃÛáõÝÝ»ñ | T14: =D14+E14 -> 0 | U14: =F14+K14+L14 -> 0 | V14: =K14 -> 0 | W14: =G14+H14+I14+J14 -> 0
A15: 9 | B15: Ñ»é³ËáëÝ»ñÇ Ùáõïù³ÛÇÝ ¨ »Éù³ÛÇÝ í»ñÍ³ÝÙ³Ý ÃáõÛÉïíáõÃÛáõÝ ëï³Ý³Éáõ Ù³ëÇÝ ÙÇçÝáñ¹áõÃÛáõÝÝ»ñ | E15: 10 | H15: 10 | K15: 10 | T15: =D15+E15 -> 10 | U15: =F15+K15+L15 -> 10 | V15: =K15 -> 10 | W15: =G15+H15+I15+J15 -> 10
A16: 10 | B16: Ñ»ï³ùÝÝáõÃÛ³Ý Ù³ñÙÝÇ ³ßË³ïáÕÇ, ùÝÝÇãÇ, ¹³ï³Ë³½Ç oå»ñ³ïÇí-Ñ»ï³Ëáõ½³Ï³Ý ·áñÍáÕáõÃÛáõÝÝ»ñ Çñ³Ï³Ý³óÝáÕ Ù³ñÙÇÝÝ»ñÇ ³ÝoñÇÝ³Ï³Ý ¨ ³ÝÑÇÙÝ áñáßáõÙÝ»ñÇ ¨ ·áñÍáÕáõÃÛáõÝÝ»ñÇ ¹»Ù µáÕáùÝ»ñ | E16: 4 | G16: 1 | K16: 1 | L16: 3 | M16: 1 | N16: 1 | R16: 2 | T16: =D16+E16 -> 4 | U16: =F16+K16+L16 -> 4 | V16: =K16 -> 1 | W16: =G16+H16+I16+J16 -> 1
A17: 11 | B17: ²½³ïáõÃÛáõÝÇó ½ñÏ»Éáõ Çñ³í³ã³÷áõÃÛ³Ý í»ñ³µ»ñÛ³É µáÕáùÝ»ñáí ·áñÍ»ñ | T17: =D17+E17 -> 0 | U17: =F17+K17+L17 -> 0 | V17: =K17 -> 0 | W17: =G17+H17+I17+J17 -> 0
A18: 2. ¸³ï³Ï³Ý ³Ïï»ñÇ ¨ ¹³ï³Ï³Ý Ñ³ÝÓÝ³ñ³ñáõÃÛáõÝÝ»ñÇ Ï³ï³ñÙ³Ý Ñ»ï Ï³åí³Í Ñ³ñó»ñÇ ÉáõÍÙ³Ý áÉáñï
A19: 1 | B19: å³ïÅÇó å³ÛÙ³Ý³Ï³Ý í³Õ³Å³ÙÏ»ï ³½³ï»Éáõ Ù³ëÇÝ ÙÇçÝáñ¹áõÃÛáõÝÝ»ñ | T19: =D19+E19 -> 0 | U19: =F19+K19+L19 -> 0 | V19: =K19 -> 0 | W19: =G19+H19+I19+J19 -> 0
A20: 2 | B20: å³ïÇÅÁ ÷á÷áË»Éáõ, Ñ»ï³Ó·»Éáõ ¨ å³ïÅÇó ³½³ï»Éáõ Ù³uÇÝ ÙÇçÝáñ¹áõÃÛáõÝÝ»ñ | D20: 1 | E20: 18 | G20: 4 | H20: 4 | I20: 2 | K20: 10 | L20: 9 | T20: =D20+E20 -> 19 | U20: =F20+K20+L20 -> 19 | V20: =K20 -> 10 | W20: =G20+H20+I20+J20 -> 10
A21: 3 | B21: Ñ³ñÏ³¹Çñ µáõÅÙ³Ý ï»ë³ÏÇ ÷á÷áËáõÃÛ³Ý Ù³ëÇÝ ÙÇçÝáñ¹áõÃÛáõÝÝ»ñ | T21: =D21+E21 -> 0 | U21: =F21+K21+L21 -> 0 | V21: =K21 -> 0 | W21: =G21+H21+I21+J21 -> 0
A22: 4 | B22: ³ÛÉ ÙÇçÝáñ¹áõÃÛáõÝÝ»ñ | E22: 13 | G22: 4 | H22: 9 | K22: 13 | T22: =D22+E22 -> 13 | U22: =F22+K22+L22 -> 13 | V22: =K22 -> 13 | W22: =G22+H22+I22+J22 -> 13
A23: 5 | B23: ¹³ï³Ï³Ý Ñ³ÝÓÝ³ñ³ñáõÃÛáõÝÝ»ñ | E23: 1 | H23: 1 | K23: 1 | T23: =D23+E23 -> 1 | U23: =F23+K23+L23 -> 1 | V23: =K23 -> 1 | W23: =G23+H23+I23+J23 -> 1
A24: ÀÜ¸²ØºÜÀ | D24: =D7+D8+D9+D10+D11+D12+D13+D14+D15+D17+D19+D20+D21+D22+D23+D16 -> 1 | E24: =E7+E8+E9+E10+E11+E12+E13+E14+E15+E17+E19+E20+E21+E22+E23+E16 -> 82 | F24: =F7+F8+F9+F10+F11+F12+F13+F14+F15+F17+F19+F20+F21+F22+F23+F16 -> 0 | G24: =G7+G8+G9+G10+G11+G12+G13+G14+G15+G17+G19+G20+G21+G22+G23+G16 -> 14 | H24: =H7+H8+H9+H10+H11+H12+H13+H14+H15+H17+H19+H20+H21+H22+H23+H16 -> 55 | I24: =I7+I8+I9+I10+I11+I12+I13+I14+I15+I17+I19+I20+I21+I22+I23+I16 -> 2 | J24: =J7+J8+J9+J10+J11+J12+J13+J14+J15+J17+J19+J20+J21+J22+J23+J16 -> 0 | K24: =K7+K8+K9+K10+K11+K12+K13+K14+K15+K17+K19+K20+K21+K22+K23+K16 -> 71 | ... R24: =R7+R8+R9+R10+R11+R12+R13+R14+R15+R17+R19+R20+R21+R22+R23+R16 -> 2 | T24: =D24+E24 -> 83 | U24: =F24+K24+L24 -> 83 | V24: =K24 -> 71 | W24: =G24+H24+I24+J24 -> 71

Sheet Ս. ՍԱՀԱԿՅԱՆ
A1: 2017Ã. 1-ÇÝ Ïë³ÙÛ³Ï | D1: Ð²ÞìºîìàôÂÚàôÜ | P1: Ð³í»Éí³Í Ð³Û³ëï³ÝÇ Ð³Ýñ³å»ïáõÃÛ³Ý ¸³ï³ñ³ÝÝ»ñÇ Ý³Ë³·³ÑÝ»ñÇ ËáñÑñ¹Ç 25.08.2017Ã. ÃÇí 35-È áñáßÙ³Ý
A2: ØÇÝã¹³ï³Ï³Ý í³ñáõÛÃÇ ÝÏ³ïÙ³Ùµ ¹³ï³Ï³Ý í»ñ³ÑëÏáÕáõÃÛ³ÝÁ, ¹³ï³Ï³Ý ³Ïï»ñÇ ¨ ¹³ï³Ï³Ý Ñ³ÝÓÝ³ñ³ñáõÃÛáõÝÝ»ñÇ Ï³ï³ñÙ³Ý Ñ»ï Ï³åí³Í ÙÇçÝáñ¹áõÃÛáõÝÝ»ñÇ í»ñ³µ»ñÛ³É ¹³ï³Ï³Ý ·áñÍ»ñáí ÐÐ ²ñ³ñ³ïÇ ¨ ì³Ûáó ÓáñÇ Ù³ñ½»ñÇ ÁÝ¹Ñ³Ýáõñ Çñ³í³ëáõÃÛ³Ý ³é³çÇÝ ³ïÛ³ÝÇ ¹³ï³ñ³ÝÇ ¹³ï³íáñ Ս. Ս³Ñ³ÏÛ³ÝÇ ·áñÍáõÝ»áõÃÛ³Ý í»ñ³µ»ñÛ³É
D3: Ð³ßí»ïáõ Å³Ù³Ý³Ï³Ñ³ïí³ÍÇ ëÏ½µáõÙ Ý³Ëáñ¹ Ñ³ßí»ïáõ Å³Ù³Ý³Ï³Ñ³ïí³ÍÇó ÷áË³Ýóí³Í ·áñÍ»ñÇ ÁÝ¹Ñ³Ýáõñ ÃÇíÁ | E3: Ð³ßí»ïáõ Å³Ù³Ý³Ï³Ñ³ïí³ÍáõÙ ëï³óí³Í ·áñÍ»ñÇ ÁÝ¹Ñ³Ýáõñ ÃÇíÁ | F3: öáË³Ýóí»É ¿ ³ÛÉ ¹³ï³íáñÇ Ï³Ù ³ÛÉ ¹³ï³ñ³Ý (Ï³½ÙÇ ÷á÷áËáõÃÛáõÝ, ÁÝ¹¹³ïáõÃÛáõÝ) | G3: Ð³ßí»ïáõ Å³Ù³Ý³Ï³Ñ³ïí³ÍáõÙ ³í³ñïí³Í ·áñÍ»ñÇ ÁÝ¹Ñ³Ýáõñ ÃÇíÁ | L3: Ð³ßí»ïáõ Å³Ù³Ý³Ï³Ñ³ïí³ÍáõÙ ³Ý³í³ñï ·áñÍ»ñÇ ÁÝ¹Ñ³Ýáõñ ÃÇíÁ | M3: ØÇçÝáñ¹áõÃÛáõÝÝ»ñáí Ï³Û³óí³Í ¹³ï³Ï³Ý ³Ïï»ñÇó µáÕáù³ñÏí³ÍÝ»ñÇ ù³Ý³ÏÁ | O3: ²Ý³í³ñï µáÕáùÝ»ñ | P3: ØÇçÝáñ¹áõÃÛáõÝÝ»ñáí Ï³Û³óí³Í ¨ µáÕáù³ñÏí³Í ¹³ï³Ï³Ý ³Ïï»ñÇó µ»Ï³Ýí³ÍÝ»ñÇ ù³Ý³ÏÁ | R3: ÙÇçÝáñ¹áõÃÛáõÝÝ»ñáí Ï³Û³óí³Í ¨ µáÕáù³ñÏí³Í ¹³ï³Ï³Ý ³Ïï»ñÇó ³Ý÷á÷áË ÃáÕÝí³ÍÝ»ñÇ ù³Ý³ÏÁ
G4: Ù»ñÅí»É ¿ | H4: µ³í³ñ³ñí»É ¿ | I4: µ³í³ñ³ñí»É ¿ Ù³ëÝ³ÏÇ | J4: ÃáÕÝí»É ¿ ³é³Ýó ùÝÝáõÃÛ³Ý | K4: ÀÝ¹³Ù»ÝÁ
M5: Ý³Ëáñ¹ ï³ñÇÝ»ñÇÝ Ï³Û³óí³Í ³Ïï»ñÇ ¹»Ù | N5: Ñ³ßí»ïáõ Å³Ù³Ý³Ï³ßñç³ÝáõÙ Ï³Û³óí³Í ³Ïï»ñÇ ¹»Ù | P5: Ý³Ëáñ¹ ï³ñÇÝ»ñÇÝ Ï³Û³óí³Í ³Ïï»ñÇ µ»Ï³ÝáõÙÝ»ñÁ | Q5: Ñ³ßí»ïáõ Å³Ù³Ý³Ï³ßñç³ÝáõÙ Ï³Û³óí³Í ³Ïï»ñÇ µ»Ï³ÝáõÙÝ»ñÁ
A6: 1. ØÇÝã¹³ï³Ï³Ý í³ñáõÛÃÇ ÝÏ³ïÙ³Ùµ ¹³ï³Ï³Ý í»ñ³ÑëÏáÕáõÃÛ³Ý áÉáñï | D6: 1 | E6: 2 | F6: 3 | G6: 4 | H6: 5 | I6: 6 | J6: 7 | K6: 8 | L6: 9 | M6: 10 | N6: 11 | O6: 12 | P6: 13 | Q6: 14 | R6: 15 | T6: 1+2=3+8+9 | V6: 8=4+5+6+7
A7: 1 | B7: Ï³É³ÝùÁ áñå»ë Ë³÷³ÝÙ³Ý ÙÇçáó ÏÇñ³é»Éáõ Ù³ëÇÝ ÙÇçÝáñ¹áõÃÛáõÝÝ»ñ | T7: =D7+E7 -> 0 | U7: =F7+K7+L7 -> 0 | V7: =K7 -> 0 | W7: =G7+H7+I7+J7 -> 0
A8: 2 | B8: Ï³É³ÝùÇ Å³ÙÏ»ïÁ »ñÏ³ñ³óÝ»Éáõ Ù³ëÇÝ ÙÇçÝáñ¹áõÃÛáõÝÝ»ñ | T8: =D8+E8 -> 0 | U8: =F8+K8+L8 -> 0 | V8: =K8 -> 0 | W8: =G8+H8+I8+J8 -> 0
A9: 3 | B9: Ï³É³ÝùÇ í»ñ³Ñ³ëï³ïÙ³Ý Ù³ëÇÝ ÙÇçÝáñ¹áõÃÛáõÝÝ»ñ | E9: 1 | H9: 1 | K9: 1 | N9: 1 | O9: 1 | T9: =D9+E9 -> 1 | U9: =F9+K9+L9 -> 1 | V9: =K9 -> 1 | W9: =G9+H9+I9+J9 -> 1
A10: 4 | B10: ·ñ³íÁ áñå»ë Ï³É³Ý³íáñÙ³Ý ³ÛÉÁÝïñ³Ýù³ÛÇÝ Ë³÷³ÝÙ³Ý ÙÇçáó ÏÇñ³é»Éáõ Ù³ëÇÝ ÙÇçÝáñ¹áõÃÛáõÝÝ»ñ | E10: 1 | G10: 1 | K10: 1 | T10: =D10+E10 -> 1 | U10: =F10+K10+L10 -> 1 | V10: =K10 -> 1 | W10: =G10+H10+I10+J10 -> 1
A11: 5 | B11: Ëáõ½³ñÏáõÃÛ³Ý Ï³ï³ñÙ³Ý Ù³ëÇÝ ÙÇçÝáñ¹áõÃÛáõÝÝ»ñ | T11: =D11+E11 -> 0 | U11: =F11+K11+L11 -> 0 | V11: =K11 -> 0 | W11: =G11+H11+I11+J11 -> 0
A12: 6 | B12: µ³ÝÏ³ÛÇÝ, ³å³Ñáí³·ñ³Ï³Ý, Ýáï³ñ³Ï³Ý ·³ÕïÝÇù Ï³½ÙáÕ ï»Õ»ÏáõÃÛáõÝÝ»ñÇ ëï³óÙ³Ý Ñ³Ù³ñ Ëáõ½³ñÏáõÃÛ³Ý Ï³Ù ³é·ñ³íÙ³Ý Ï³ï³ñÙ³Ý Ù³ëÇÝ ÙÇçÝáñ¹áõÃÛáõÝÝ»ñ | T12: =D12+E12 -> 0 | U12: =F12+K12+L12 -> 0 | V12: =K12 -> 0 | W12: =G12+H12+I12+J12 -> 0
A13: 7 | B13: Ý³Ù³Ï³·ñáõÃÛ³Ý, Ñ»é³·ñ³Ï³Ý, ÷áuï³ÛÇÝ Ñ³Õáñ¹áõÙÝ»ñÇ ÑëÏáÕáõÃÛ³Ý Ù³ëÇÝ ÙÇçÝáñ¹áõÃÛáõÝÝ»ñ | T13: =D13+E13 -> 0 | U13: =F13+K13+L13 -> 0 | V13: =K13 -> 0 | W13: =G13+H13+I13+J13 -> 0
A14: 8 | B14: Ñ»é³Ëáu³ÛÇÝ Ï³Ù Ï³åÇ ³ÛÉ ÙÇçáóÝ»ñáí ï³ñíáÕ Ëáu³ÏóáõÃÛáõÝÝ»ñÇ ÉuÙ³Ý ¨ Ó³ÛÝ³·ñ³éÙ³Ý Ù³ëÇÝ ÙÇçÝáñ¹áõÃÛáõÝÝ»ñ | T14: =D14+E14 -> 0 | U14: =F14+K14+L14 -> 0 | V14: =K14 -> 0 | W14: =G14+H14+I14+J14 -> 0
A15: 9 | B15: Ñ»é³ËáëÝ»ñÇ Ùáõïù³ÛÇÝ ¨ »Éù³ÛÇÝ í»ñÍ³ÝÙ³Ý ÃáõÛÉïíáõÃÛáõÝ ëï³Ý³Éáõ Ù³ëÇÝ ÙÇçÝáñ¹áõÃÛáõÝÝ»ñ | T15: =D15+E15 -> 0 | U15: =F15+K15+L15 -> 0 | V15: =K15 -> 0 | W15: =G15+H15+I15+J15 -> 0
A16: 10 | B16: Ñ»ï³ùÝÝáõÃÛ³Ý Ù³ñÙÝÇ ³ßË³ïáÕÇ, ùÝÝÇãÇ, ¹³ï³Ë³½Ç oå»ñ³ïÇí-Ñ»ï³Ëáõ½³Ï³Ý ·áñÍáÕáõÃÛáõÝÝ»ñ Çñ³Ï³Ý³óÝáÕ Ù³ñÙÇÝÝ»ñÇ ³ÝoñÇÝ³Ï³Ý ¨ ³ÝÑÇÙÝ áñáßáõÙÝ»ñÇ ¨ ·áñÍáÕáõÃÛáõÝÝ»ñÇ ¹»Ù µáÕáùÝ»ñ | T16: =D16+E16 -> 0 | U16: =F16+K16+L16 -> 0 | V16: =K16 -> 0 | W16: =G16+H16+I16+J16 -> 0
A17: 11 | B17: ²½³ïáõÃÛáõÝÇó ½ñÏ»Éáõ Çñ³í³ã³÷áõÃÛ³Ý í»ñ³µ»ñÛ³É µáÕáùÝ»ñáí ·áñÍ»ñ | T17: =D17+E17 -> 0 | U17: =F17+K17+L17 -> 0 | V17: =K17 -> 0 | W17: =G17+H17+I17+J17 -> 0
A18: 2. ¸³ï³Ï³Ý ³Ïï»ñÇ ¨ ¹³ï³Ï³Ý Ñ³ÝÓÝ³ñ³ñáõÃÛáõÝÝ»ñÇ Ï³ï³ñÙ³Ý Ñ»ï Ï³åí³Í Ñ³ñó»ñÇ ÉáõÍÙ³Ý áÉáñï
A19: 1 | B19: å³ïÅÇó å³ÛÙ³Ý³Ï³Ý í³Õ³Å³ÙÏ»ï ³½³ï»Éáõ Ù³ëÇÝ ÙÇçÝáñ¹áõÃÛáõÝÝ»ñ | T19: =D19+E19 -> 0 | U19: =F19+K19+L19 -> 0 | V19: =K19 -> 0 | W19: =G19+H19+I19+J19 -> 0
A20: 2 | B20: å³ïÇÅÁ ÷á÷áË»Éáõ, Ñ»ï³Ó·»Éáõ ¨ å³ïÅÇó ³½³ï»Éáõ Ù³uÇÝ ÙÇçÝáñ¹áõÃÛáõÝÝ»ñ | T20: =D20+E20 -> 0 | U20: =F20+K20+L20 -> 0 | V20: =K20 -> 0 | W20: =G20+H20+I20+J20 -> 0
A21: 3 | B21: Ñ³ñÏ³¹Çñ µáõÅÙ³Ý ï»ë³ÏÇ ÷á÷áËáõÃÛ³Ý Ù³ëÇÝ ÙÇçÝáñ¹áõÃÛáõÝÝ»ñ | T21: =D21+E21 -> 0 | U21: =F21+K21+L21 -> 0 | V21: =K21 -> 0 | W21: =G21+H21+I21+J21 -> 0
A22: 4 | B22: ³ÛÉ ÙÇçÝáñ¹áõÃÛáõÝÝ»ñ | T22: =D22+E22 -> 0 | U22: =F22+K22+L22 -> 0 | V22: =K22 -> 0 | W22: =G22+H22+I22+J22 -> 0
A23: 5 | B23: ¹³ï³Ï³Ý Ñ³ÝÓÝ³ñ³ñáõÃÛáõÝÝ»ñ | D23: 1 | H23: 1 | K23: 1 | T23: =D23+E23 -> 1 | U23: =F23+K23+L23 -> 1 | V23: =K23 -> 1 | W23: =G23+H23+I23+J23 -> 1
A24: ÀÜ¸²ØºÜÀ | D24: =D7+D8+D9+D10+D11+D12+D13+D14+D15+D17+D19+D20+D21+D22+D23+D16 -> 1 | E24: =E7+E8+E9+E10+E11+E12+E13+E14+E15+E17+E19+E20+E21+E22+E23+E16 -> 2 | F24: =F7+F8+F9+F10+F11+F12+F13+F14+F15+F17+F19+F20+F21+F22+F23+F16 -> 0 | G24: =G7+G8+G9+G10+G11+G12+G13+G14+G15+G17+G19+G20+G21+G22+G23+G16 -> 1 | H24: =H7+H8+H9+H10+H11+H12+H13+H14+H15+H17+H19+H20+H21+H22+H23+H16 -> 2 | I24: =I7+I8+I9+I10+I11+I12+I13+I14+I15+I17+I19+I20+I21+I22+I23+I16 -> 0 | J24: =J7+J8+J9+J10+J11+J12+J13+J14+J15+J17+J19+J20+J21+J22+J23+J16 -> 0 | K24: =K7+K8+K9+K10+K11+K12+K13+K14+K15+K17+K19+K20+K21+K22+K23+K16 -> 3 | ... R24: =R7+R8+R9+R10+R11+R12+R13+R14+R15+R17+R19+R20+R21+R22+R23+R16 -> 0 | T24: =D24+E24 -> 3 | U24: =F24+K24+L24 -> 3 | V24: =K24 -> 3 | W24: =G24+H24+I24+J24 -> 3

Sheet Ս. ՄԱՏԻՆՅԱՆ
A1: 2017Ã. 1-ÇÝ Ïë³ÙÛ³Ï | D1: Ð²ÞìºîìàôÂÚàôÜ | P1: Ð³í»Éí³Í Ð³Û³ëï³ÝÇ Ð³Ýñ³å»ïáõÃÛ³Ý ¸³ï³ñ³ÝÝ»ñÇ Ý³Ë³·³ÑÝ»ñÇ ËáñÑñ¹Ç 25.08.2017Ã. ÃÇí 35-È áñáßÙ³Ý
A2: ØÇÝã¹³ï³Ï³Ý í³ñáõÛÃÇ ÝÏ³ïÙ³Ùµ ¹³ï³Ï³Ý í»ñ³ÑëÏáÕáõÃÛ³ÝÁ, ¹³ï³Ï³Ý ³Ïï»ñÇ ¨ ¹³ï³Ï³Ý Ñ³ÝÓÝ³ñ³ñáõÃÛáõÝÝ»ñÇ Ï³ï³ñÙ³Ý Ñ»ï Ï³åí³Í ÙÇçÝáñ¹áõÃÛáõÝÝ»ñÇ í»ñ³µ»ñÛ³É ¹³ï³Ï³Ý ·áñÍ»ñáí ÐÐ ²ñ³ñ³ïÇ ¨ ì³Ûáó ÓáñÇ Ù³ñ½»ñÇ ÁÝ¹Ñ³Ýáõñ Çñ³í³ëáõÃÛ³Ý ³é³çÇÝ ³ïÛ³ÝÇ ¹³ï³ñ³ÝÇ ¹³ï³íáñ Ս. Ø³ïÇÝÛ³ÝÇ գործունեության í»ñ³µ»ñÛ³É
D3: Ð³ßí»ïáõ Å³Ù³Ý³Ï³Ñ³ïí³ÍÇ ëÏ½µáõÙ Ý³Ëáñ¹ Ñ³ßí»ïáõ Å³Ù³Ý³Ï³Ñ³ïí³ÍÇó ÷áË³Ýóí³Í ·áñÍ»ñÇ ÁÝ¹Ñ³Ýáõñ ÃÇíÁ | E3: Ð³ßí»ïáõ Å³Ù³Ý³Ï³Ñ³ïí³ÍáõÙ ëï³óí³Í ·áñÍ»ñÇ ÁÝ¹Ñ³Ýáõñ ÃÇíÁ | F3: öáË³Ýóí»É ¿ ³ÛÉ ¹³ï³íáñÇ Ï³Ù ³ÛÉ ¹³ï³ñ³Ý (Ï³½ÙÇ ÷á÷áËáõÃÛáõÝ, ÁÝ¹¹³ïáõÃÛáõÝ) | G3: Ð³ßí»ïáõ Å³Ù³Ý³Ï³Ñ³ïí³ÍáõÙ ³í³ñïí³Í ·áñÍ»ñÇ ÁÝ¹Ñ³Ýáõñ ÃÇíÁ | L3: Ð³ßí»ïáõ Å³Ù³Ý³Ï³Ñ³ïí³ÍáõÙ ³Ý³í³ñï ·áñÍ»ñÇ ÁÝ¹Ñ³Ýáõñ ÃÇíÁ | M3: ØÇçÝáñ¹áõÃÛáõÝÝ»ñáí Ï³Û³óí³Í ¹³ï³Ï³Ý ³Ïï»ñÇó µáÕáù³ñÏí³ÍÝ»ñÇ ù³Ý³ÏÁ | O3: ²Ý³í³ñï µáÕáùÝ»ñ | P3: ØÇçÝáñ¹áõÃÛáõÝÝ»ñáí Ï³Û³óí³Í ¨ µáÕáù³ñÏí³Í ¹³ï³Ï³Ý ³Ïï»ñÇó µ»Ï³Ýí³ÍÝ»ñÇ ù³Ý³ÏÁ | R3: ÙÇçÝáñ¹áõÃÛáõÝÝ»ñáí Ï³Û³óí³Í ¨ µáÕáù³ñÏí³Í ¹³ï³Ï³Ý ³Ïï»ñÇó ³Ý÷á÷áË ÃáÕÝí³ÍÝ»ñÇ ù³Ý³ÏÁ
G4: Ù»ñÅí»É ¿ | H4: µ³í³ñ³ñí»É ¿ | I4: µ³í³ñ³ñí»É ¿ Ù³ëÝ³ÏÇ | J4: ÃáÕÝí»É ¿ ³é³Ýó ùÝÝáõÃÛ³Ý | K4: ÀÝ¹³Ù»ÝÁ
M5: Ý³Ëáñ¹ ï³ñÇÝ»ñÇÝ Ï³Û³óí³Í ³Ïï»ñÇ ¹»Ù | N5: Ñ³ßí»ïáõ Å³Ù³Ý³Ï³ßñç³ÝáõÙ Ï³Û³óí³Í ³Ïï»ñÇ ¹»Ù | P5: Ý³Ëáñ¹ ï³ñÇÝ»ñÇÝ Ï³Û³óí³Í ³Ïï»ñÇ µ»Ï³ÝáõÙÝ»ñÁ | Q5: Ñ³ßí»ïáõ Å³Ù³Ý³Ï³ßñç³ÝáõÙ Ï³Û³óí³Í ³Ïï»ñÇ µ»Ï³ÝáõÙÝ»ñÁ
A6: 1. ØÇÝã¹³ï³Ï³Ý í³ñáõÛÃÇ ÝÏ³ïÙ³Ùµ ¹³ï³Ï³Ý í»ñ³ÑëÏáÕáõÃÛ³Ý áÉáñï | D6: 1 | E6: 2 | F6: 3 | G6: 4 | H6: 5 | I6: 6 | J6: 7 | K6: 8 | L6: 9 | M6: 10 | N6: 11 | O6: 12 | P6: 13 | Q6: 14 | R6: 15 | T6: 1+2=3+8+9 | V6: 8=4+5+6+7
A7: 1 | B7: Ï³É³ÝùÁ áñå»ë Ë³÷³ÝÙ³Ý ÙÇçáó ÏÇñ³é»Éáõ Ù³ëÇÝ ÙÇçÝáñ¹áõÃÛáõÝÝ»ñ | E7: 1 | H7: 1 | K7: 1 | T7: =D7+E7 -> 1 | U7: =F7+K7+L7 -> 1 | V7: =K7 -> 1 | W7: =G7+H7+I7+J7 -> 1
A8: 2 | B8: Ï³É³ÝùÇ Å³ÙÏ»ïÁ »ñÏ³ñ³óÝ»Éáõ Ù³ëÇÝ ÙÇçÝáñ¹áõÃÛáõÝÝ»ñ | T8: =D8+E8 -> 0 | U8: =F8+K8+L8 -> 0 | V8: =K8 -> 0 | W8: =G8+H8+I8+J8 -> 0
A9: 3 | B9: Ï³É³ÝùÇ í»ñ³Ñ³ëï³ïÙ³Ý Ù³ëÇÝ ÙÇçÝáñ¹áõÃÛáõÝÝ»ñ | T9: =D9+E9 -> 0 | U9: =F9+K9+L9 -> 0 | V9: =K9 -> 0 | W9: =G9+H9+I9+J9 -> 0
A10: 4 | B10: ·ñ³íÁ áñå»ë Ï³É³Ý³íáñÙ³Ý ³ÛÉÁÝïñ³Ýù³ÛÇÝ Ë³÷³ÝÙ³Ý ÙÇçáó ÏÇñ³é»Éáõ Ù³ëÇÝ ÙÇçÝáñ¹áõÃÛáõÝÝ»ñ | T10: =D10+E10 -> 0 | U10: =F10+K10+L10 -> 0 | V10: =K10 -> 0 | W10: =G10+H10+I10+J10 -> 0
A11: 5 | B11: Ëáõ½³ñÏáõÃÛ³Ý Ï³ï³ñÙ³Ý Ù³ëÇÝ ÙÇçÝáñ¹áõÃÛáõÝÝ»ñ | T11: =D11+E11 -> 0 | U11: =F11+K11+L11 -> 0 | V11: =K11 -> 0 | W11: =G11+H11+I11+J11 -> 0
A12: 6 | B12: µ³ÝÏ³ÛÇÝ, ³å³Ñáí³·ñ³Ï³Ý, Ýáï³ñ³Ï³Ý ·³ÕïÝÇù Ï³½ÙáÕ ï»Õ»ÏáõÃÛáõÝÝ»ñÇ ëï³óÙ³Ý Ñ³Ù³ñ Ëáõ½³ñÏáõÃÛ³Ý Ï³Ù ³é·ñ³íÙ³Ý Ï³ï³ñÙ³Ý Ù³ëÇÝ ÙÇçÝáñ¹áõÃÛáõÝÝ»ñ | T12: =D12+E12 -> 0 | U12: =F12+K12+L12 -> 0 | V12: =K12 -> 0 | W12: =G12+H12+I12+J12 -> 0
A13: 7 | B13: Ý³Ù³Ï³·ñáõÃÛ³Ý, Ñ»é³·ñ³Ï³Ý, ÷áuï³ÛÇÝ Ñ³Õáñ¹áõÙÝ»ñÇ ÑëÏáÕáõÃÛ³Ý Ù³ëÇÝ ÙÇçÝáñ¹áõÃÛáõÝÝ»ñ | T13: =D13+E13 -> 0 | U13: =F13+K13+L13 -> 0 | V13: =K13 -> 0 | W13: =G13+H13+I13+J13 -> 0
A14: 8 | B14: Ñ»é³Ëáu³ÛÇÝ Ï³Ù Ï³åÇ ³ÛÉ ÙÇçáóÝ»ñáí ï³ñíáÕ Ëáu³ÏóáõÃÛáõÝÝ»ñÇ ÉuÙ³Ý ¨ Ó³ÛÝ³·ñ³éÙ³Ý Ù³ëÇÝ ÙÇçÝáñ¹áõÃÛáõÝÝ»ñ | T14: =D14+E14 -> 0 | U14: =F14+K14+L14 -> 0 | V14: =K14 -> 0 | W14: =G14+H14+I14+J14 -> 0
A15: 9 | B15: Ñ»é³ËáëÝ»ñÇ Ùáõïù³ÛÇÝ ¨ »Éù³ÛÇÝ í»ñÍ³ÝÙ³Ý ÃáõÛÉïíáõÃÛáõÝ ëï³Ý³Éáõ Ù³ëÇÝ ÙÇçÝáñ¹áõÃÛáõÝÝ»ñ | E15: 1 | H15: 1 | K15: 1 | T15: =D15+E15 -> 1 | U15: =F15+K15+L15 -> 1 | V15: =K15 -> 1 | W15: =G15+H15+I15+J15 -> 1
A16: 10 | B16: Ñ»ï³ùÝÝáõÃÛ³Ý Ù³ñÙÝÇ ³ßË³ïáÕÇ, ùÝÝÇãÇ, ¹³ï³Ë³½Ç oå»ñ³ïÇí-Ñ»ï³Ëáõ½³Ï³Ý ·áñÍáÕáõÃÛáõÝÝ»ñ Çñ³Ï³Ý³óÝáÕ Ù³ñÙÇÝÝ»ñÇ ³ÝoñÇÝ³Ï³Ý ¨ ³ÝÑÇÙÝ áñáßáõÙÝ»ñÇ ¨ ·áñÍáÕáõÃÛáõÝÝ»ñÇ ¹»Ù µáÕáùÝ»ñ | T16: =D16+E16 -> 0 | U16: =F16+K16+L16 -> 0 | V16: =K16 -> 0 | W16: =G16+H16+I16+J16 -> 0
A17: 11 | B17: ²½³ïáõÃÛáõÝÇó ½ñÏ»Éáõ Çñ³í³ã³÷áõÃÛ³Ý í»ñ³µ»ñÛ³É µáÕáùÝ»ñáí ·áñÍ»ñ | T17: =D17+E17 -> 0 | U17: =F17+K17+L17 -> 0 | V17: =K17 -> 0 | W17: =G17+H17+I17+J17 -> 0
A18: 2. ¸³ï³Ï³Ý ³Ïï»ñÇ ¨ ¹³ï³Ï³Ý Ñ³ÝÓÝ³ñ³ñáõÃÛáõÝÝ»ñÇ Ï³ï³ñÙ³Ý Ñ»ï Ï³åí³Í Ñ³ñó»ñÇ ÉáõÍÙ³Ý áÉáñï
A19: 1 | B19: å³ïÅÇó å³ÛÙ³Ý³Ï³Ý í³Õ³Å³ÙÏ»ï ³½³ï»Éáõ Ù³ëÇÝ ÙÇçÝáñ¹áõÃÛáõÝÝ»ñ | T19: =D19+E19 -> 0 | U19: =F19+K19+L19 -> 0 | V19: =K19 -> 0 | W19: =G19+H19+I19+J19 -> 0
A20: 2 | B20: å³ïÇÅÁ ÷á÷áË»Éáõ, Ñ»ï³Ó·»Éáõ ¨ å³ïÅÇó ³½³ï»Éáõ Ù³uÇÝ ÙÇçÝáñ¹áõÃÛáõÝÝ»ñ | T20: =D20+E20 -> 0 | U20: =F20+K20+L20 -> 0 | V20: =K20 -> 0 | W20: =G20+H20+I20+J20 -> 0
A21: 3 | B21: Ñ³ñÏ³¹Çñ µáõÅÙ³Ý ï»ë³ÏÇ ÷á÷áËáõÃÛ³Ý Ù³ëÇÝ ÙÇçÝáñ¹áõÃÛáõÝÝ»ñ | T21: =D21+E21 -> 0 | U21: =F21+K21+L21 -> 0 | V21: =K21 -> 0 | W21: =G21+H21+I21+J21 -> 0
A22: 4 | B22: ³ÛÉ ÙÇçÝáñ¹áõÃÛáõÝÝ»ñ | T22: =D22+E22 -> 0 | U22: =F22+K22+L22 -> 0 | V22: =K22 -> 0 | W22: =G22+H22+I22+J22 -> 0
A23: 5 | B23: ¹³ï³Ï³Ý Ñ³ÝÓÝ³ñ³ñáõÃÛáõÝÝ»ñ | E23: 2 | H23: 1 | K23: 1 | L23: 1 | T23: =D23+E23 -> 2 | U23: =F23+K23+L23 -> 2 | V23: =K23 -> 1 | W23: =G23+H23+I23+J23 -> 1
A24: ÀÜ¸²ØºÜÀ | D24: =D7+D8+D9+D10+D11+D12+D13+D14+D15+D17+D19+D20+D21+D22+D23+D16 -> 0 | E24: =E7+E8+E9+E10+E11+E12+E13+E14+E15+E17+E19+E20+E21+E22+E23+E16 -> 4 | F24: =F7+F8+F9+F10+F11+F12+F13+F14+F15+F17+F19+F20+F21+F22+F23+F16 -> 0 | G24: =G7+G8+G9+G10+G11+G12+G13+G14+G15+G17+G19+G20+G21+G22+G23+G16 -> 0 | H24: =H7+H8+H9+H10+H11+H12+H13+H14+H15+H17+H19+H20+H21+H22+H23+H16 -> 3 | I24: =I7+I8+I9+I10+I11+I12+I13+I14+I15+I17+I19+I20+I21+I22+I23+I16 -> 0 | J24: =J7+J8+J9+J10+J11+J12+J13+J14+J15+J17+J19+J20+J21+J22+J23+J16 -> 0 | K24: =K7+K8+K9+K10+K11+K12+K13+K14+K15+K17+K19+K20+K21+K22+K23+K16 -> 3 | ... R24: =R7+R8+R9+R10+R11+R12+R13+R14+R15+R17+R19+R20+R21+R22+R23+R16 -> 0 | T24: =D24+E24 -> 4 | U24: =F24+K24+L24 -> 4 | V24: =K24 -> 3 | W24: =G24+H24+I24+J24 -> 3

Sheet Գ. ԲԱԼՅԱՆ
A1: 2017Ã. 1-ÇÝ Ïë³ÙÛ³Ï | D1: Ð²ÞìºîìàôÂÚàôÜ | P1: Ð³í»Éí³Í Ð³Û³ëï³ÝÇ Ð³Ýñ³å»ïáõÃÛ³Ý ¸³ï³ñ³ÝÝ»ñÇ Ý³Ë³·³ÑÝ»ñÇ ËáñÑñ¹Ç 25.08.2017Ã. ÃÇí 35-È áñáßÙ³Ý
A2: ØÇÝã¹³ï³Ï³Ý í³ñáõÛÃÇ ÝÏ³ïÙ³Ùµ ¹³ï³Ï³Ý í»ñ³ÑëÏáÕáõÃÛ³ÝÁ, ¹³ï³Ï³Ý ³Ïï»ñÇ ¨ ¹³ï³Ï³Ý Ñ³ÝÓÝ³ñ³ñáõÃÛáõÝÝ»ñÇ Ï³ï³ñÙ³Ý Ñ»ï Ï³åí³Í ÙÇçÝáñ¹áõÃÛáõÝÝ»ñÇ í»ñ³µ»ñÛ³É ¹³ï³Ï³Ý ·áñÍ»ñáí ÐÐ ²ñ³ñ³ïÇ ¨ ì³Ûáó ÓáñÇ Ù³ñ½»ñÇ ÁÝ¹Ñ³Ýáõñ Çñ³í³ëáõÃÛ³Ý ³é³çÇÝ ³ïÛ³ÝÇ ¹³ï³ñ³ÝÇ ¹³ï³íáñ Գ. ´³ÉÛ³ÝÇ ·áñÍáõÝ»áõÃÛ³Ý í»ñ³µ»ñÛ³É
D3: Ð³ßí»ïáõ Å³Ù³Ý³Ï³Ñ³ïí³ÍÇ ëÏ½µáõÙ Ý³Ëáñ¹ Ñ³ßí»ïáõ Å³Ù³Ý³Ï³Ñ³ïí³ÍÇó ÷áË³Ýóí³Í ·áñÍ»ñÇ ÁÝ¹Ñ³Ýáõñ ÃÇíÁ | E3: Ð³ßí»ïáõ Å³Ù³Ý³Ï³Ñ³ïí³ÍáõÙ ëï³óí³Í ·áñÍ»ñÇ ÁÝ¹Ñ³Ýáõñ ÃÇíÁ | F3: öáË³Ýóí»É ¿ ³ÛÉ ¹³ï³íáñÇ Ï³Ù ³ÛÉ ¹³ï³ñ³Ý (Ï³½ÙÇ ÷á÷áËáõÃÛáõÝ, ÁÝ¹¹³ïáõÃÛáõÝ) | G3: Ð³ßí»ïáõ Å³Ù³Ý³Ï³Ñ³ïí³ÍáõÙ ³í³ñïí³Í ·áñÍ»ñÇ ÁÝ¹Ñ³Ýáõñ ÃÇíÁ | L3: Ð³ßí»ïáõ Å³Ù³Ý³Ï³Ñ³ïí³ÍáõÙ ³Ý³í³ñï ·áñÍ»ñÇ ÁÝ¹Ñ³Ýáõñ ÃÇíÁ | M3: ØÇçÝáñ¹áõÃÛáõÝÝ»ñáí Ï³Û³óí³Í ¹³ï³Ï³Ý ³Ïï»ñÇó µáÕáù³ñÏí³ÍÝ»ñÇ ù³Ý³ÏÁ | O3: ²Ý³í³ñï µáÕáùÝ»ñ | P3: ØÇçÝáñ¹áõÃÛáõÝÝ»ñáí Ï³Û³óí³Í ¨ µáÕáù³ñÏí³Í ¹³ï³Ï³Ý ³Ïï»ñÇó µ»Ï³Ýí³ÍÝ»ñÇ ù³Ý³ÏÁ | R3: ÙÇçÝáñ¹áõÃÛáõÝÝ»ñáí Ï³Û³óí³Í ¨ µáÕáù³ñÏí³Í ¹³ï³Ï³Ý ³Ïï»ñÇó ³Ý÷á÷áË ÃáÕÝí³ÍÝ»ñÇ ù³Ý³ÏÁ
G4: Ù»ñÅí»É ¿ | H4: µ³í³ñ³ñí»É ¿ | I4: µ³í³ñ³ñí»É ¿ Ù³ëÝ³ÏÇ | J4: ÃáÕÝí»É ¿ ³é³Ýó ùÝÝáõÃÛ³Ý | K4: ÀÝ¹³Ù»ÝÁ
M5: Ý³Ëáñ¹ ï³ñÇÝ»ñÇÝ Ï³Û³óí³Í ³Ïï»ñÇ ¹»Ù | N5: Ñ³ßí»ïáõ Å³Ù³Ý³Ï³ßñç³ÝáõÙ Ï³Û³óí³Í ³Ïï»ñÇ ¹»Ù | P5: Ý³Ëáñ¹ ï³ñÇÝ»ñÇÝ Ï³Û³óí³Í ³Ïï»ñÇ µ»Ï³ÝáõÙÝ»ñÁ | Q5: Ñ³ßí»ïáõ Å³Ù³Ý³Ï³ßñç³ÝáõÙ Ï³Û³óí³Í ³Ïï»ñÇ µ»Ï³ÝáõÙÝ»ñÁ
A6: 1. ØÇÝã¹³ï³Ï³Ý í³ñáõÛÃÇ ÝÏ³ïÙ³Ùµ ¹³ï³Ï³Ý í»ñ³ÑëÏáÕáõÃÛ³Ý áÉáñï | D6: 1 | E6: 2 | F6: 3 | G6: 4 | H6: 5 | I6: 6 | J6: 7 | K6: 8 | L6: 9 | M6: 10 | N6: 11 | O6: 12 | P6: 13 | Q6: 14 | R6: 15 | T6: 1+2=3+8+9 | V6: 8=4+5+6+7
A7: 1 | B7: Ï³É³ÝùÁ áñå»ë Ë³÷³ÝÙ³Ý ÙÇçáó ÏÇñ³é»Éáõ Ù³ëÇÝ ÙÇçÝáñ¹áõÃÛáõÝÝ»ñ | E7: 1 | H7: 1 | K7: 1 | T7: =D7+E7 -> 1 | U7: =F7+K7+L7 -> 1 | V7: =K7 -> 1 | W7: =G7+H7+I7+J7 -> 1
A8: 2 | B8: Ï³É³ÝùÇ Å³ÙÏ»ïÁ »ñÏ³ñ³óÝ»Éáõ Ù³ëÇÝ ÙÇçÝáñ¹áõÃÛáõÝÝ»ñ | T8: =D8+E8 -> 0 | U8: =F8+K8+L8 -> 0 | V8: =K8 -> 0 | W8: =G8+H8+I8+J8 -> 0
A9: 3 | B9: Ï³É³ÝùÇ í»ñ³Ñ³ëï³ïÙ³Ý Ù³ëÇÝ ÙÇçÝáñ¹áõÃÛáõÝÝ»ñ | T9: =D9+E9 -> 0 | U9: =F9+K9+L9 -> 0 | V9: =K9 -> 0 | W9: =G9+H9+I9+J9 -> 0
A10: 4 | B10: ·ñ³íÁ áñå»ë Ï³É³Ý³íáñÙ³Ý ³ÛÉÁÝïñ³Ýù³ÛÇÝ Ë³÷³ÝÙ³Ý ÙÇçáó ÏÇñ³é»Éáõ Ù³ëÇÝ ÙÇçÝáñ¹áõÃÛáõÝÝ»ñ | T10: =D10+E10 -> 0 | U10: =F10+K10+L10 -> 0 | V10: =K10 -> 0 | W10: =G10+H10+I10+J10 -> 0
A11: 5 | B11: Ëáõ½³ñÏáõÃÛ³Ý Ï³ï³ñÙ³Ý Ù³ëÇÝ ÙÇçÝáñ¹áõÃÛáõÝÝ»ñ | T11: =D11+E11 -> 0 | U11: =F11+K11+L11 -> 0 | V11: =K11 -> 0 | W11: =G11+H11+I11+J11 -> 0
A12: 6 | B12: µ³ÝÏ³ÛÇÝ, ³å³Ñáí³·ñ³Ï³Ý, Ýáï³ñ³Ï³Ý ·³ÕïÝÇù Ï³½ÙáÕ ï»Õ»ÏáõÃÛáõÝÝ»ñÇ ëï³óÙ³Ý Ñ³Ù³ñ Ëáõ½³ñÏáõÃÛ³Ý Ï³Ù ³é·ñ³íÙ³Ý Ï³ï³ñÙ³Ý Ù³ëÇÝ ÙÇçÝáñ¹áõÃÛáõÝÝ»ñ | T12: =D12+E12 -> 0 | U12: =F12+K12+L12 -> 0 | V12: =K12 -> 0 | W12: =G12+H12+I12+J12 -> 0
A13: 7 | B13: Ý³Ù³Ï³·ñáõÃÛ³Ý, Ñ»é³·ñ³Ï³Ý, ÷áuï³ÛÇÝ Ñ³Õáñ¹áõÙÝ»ñÇ ÑëÏáÕáõÃÛ³Ý Ù³ëÇÝ ÙÇçÝáñ¹áõÃÛáõÝÝ»ñ | T13: =D13+E13 -> 0 | U13: =F13+K13+L13 -> 0 | V13: =K13 -> 0 | W13: =G13+H13+I13+J13 -> 0
A14: 8 | B14: Ñ»é³Ëáu³ÛÇÝ Ï³Ù Ï³åÇ ³ÛÉ ÙÇçáóÝ»ñáí ï³ñíáÕ Ëáu³ÏóáõÃÛáõÝÝ»ñÇ ÉuÙ³Ý ¨ Ó³ÛÝ³·ñ³éÙ³Ý Ù³ëÇÝ ÙÇçÝáñ¹áõÃÛáõÝÝ»ñ | T14: =D14+E14 -> 0 | U14: =F14+K14+L14 -> 0 | V14: =K14 -> 0 | W14: =G14+H14+I14+J14 -> 0
A15: 9 | B15: Ñ»é³ËáëÝ»ñÇ Ùáõïù³ÛÇÝ ¨ »Éù³ÛÇÝ í»ñÍ³ÝÙ³Ý ÃáõÛÉïíáõÃÛáõÝ ëï³Ý³Éáõ Ù³ëÇÝ ÙÇçÝáñ¹áõÃÛáõÝÝ»ñ | T15: =D15+E15 -> 0 | U15: =F15+K15+L15 -> 0 | V15: =K15 -> 0 | W15: =G15+H15+I15+J15 -> 0
A16: 10 | B16: Ñ»ï³ùÝÝáõÃÛ³Ý Ù³ñÙÝÇ ³ßË³ïáÕÇ, ùÝÝÇãÇ, ¹³ï³Ë³½Ç oå»ñ³ïÇí-Ñ»ï³Ëáõ½³Ï³Ý ·áñÍáÕáõÃÛáõÝÝ»ñ Çñ³Ï³Ý³óÝáÕ Ù³ñÙÇÝÝ»ñÇ ³ÝoñÇÝ³Ï³Ý ¨ ³ÝÑÇÙÝ áñáßáõÙÝ»ñÇ ¨ ·áñÍáÕáõÃÛáõÝÝ»ñÇ ¹»Ù µáÕáùÝ»ñ | T16: =D16+E16 -> 0 | U16: =F16+K16+L16 -> 0 | V16: =K16 -> 0 | W16: =G16+H16+I16+J16 -> 0
A17: 11 | B17: ²½³ïáõÃÛáõÝÇó ½ñÏ»Éáõ Çñ³í³ã³÷áõÃÛ³Ý í»ñ³µ»ñÛ³É µáÕáùÝ»ñáí ·áñÍ»ñ | T17: =D17+E17 -> 0 | U17: =F17+K17+L17 -> 0 | V17: =K17 -> 0 | W17: =G17+H17+I17+J17 -> 0
A18: 2. ¸³ï³Ï³Ý ³Ïï»ñÇ ¨ ¹³ï³Ï³Ý Ñ³ÝÓÝ³ñ³ñáõÃÛáõÝÝ»ñÇ Ï³ï³ñÙ³Ý Ñ»ï Ï³åí³Í Ñ³ñó»ñÇ ÉáõÍÙ³Ý áÉáñï
A19: 1 | B19: å³ïÅÇó å³ÛÙ³Ý³Ï³Ý í³Õ³Å³ÙÏ»ï ³½³ï»Éáõ Ù³ëÇÝ ÙÇçÝáñ¹áõÃÛáõÝÝ»ñ | T19: =D19+E19 -> 0 | U19: =F19+K19+L19 -> 0 | V19: =K19 -> 0 | W19: =G19+H19+I19+J19 -> 0
A20: 2 | B20: å³ïÇÅÁ ÷á÷áË»Éáõ, Ñ»ï³Ó·»Éáõ ¨ å³ïÅÇó ³½³ï»Éáõ Ù³uÇÝ ÙÇçÝáñ¹áõÃÛáõÝÝ»ñ | T20: =D20+E20 -> 0 | U20: =F20+K20+L20 -> 0 | V20: =K20 -> 0 | W20: =G20+H20+I20+J20 -> 0
A21: 3 | B21: Ñ³ñÏ³¹Çñ µáõÅÙ³Ý ï»ë³ÏÇ ÷á÷áËáõÃÛ³Ý Ù³ëÇÝ ÙÇçÝáñ¹áõÃÛáõÝÝ»ñ | T21: =D21+E21 -> 0 | U21: =F21+K21+L21 -> 0 | V21: =K21 -> 0 | W21: =G21+H21+I21+J21 -> 0
A22: 4 | B22: ³ÛÉ ÙÇçÝáñ¹áõÃÛáõÝÝ»ñ | T22: =D22+E22 -> 0 | U22: =F22+K22+L22 -> 0 | V22: =K22 -> 0 | W22: =G22+H22+I22+J22 -> 0
A23: 5 | B23: ¹³ï³Ï³Ý Ñ³ÝÓÝ³ñ³ñáõÃÛáõÝÝ»ñ | D23: 2 | E23: 1 | H23: 2 | K23: 2 | L23: 1 | T23: =D23+E23 -> 3 | U23: =F23+K23+L23 -> 3 | V23: =K23 -> 2 | W23: =G23+H23+I23+J23 -> 2
A24: ÀÜ¸²ØºÜÀ | D24: =D7+D8+D9+D10+D11+D12+D13+D14+D15+D17+D19+D20+D21+D22+D23+D16 -> 2 | E24: =E7+E8+E9+E10+E11+E12+E13+E14+E15+E17+E19+E20+E21+E22+E23+E16 -> 2 | F24: =F7+F8+F9+F10+F11+F12+F13+F14+F15+F17+F19+F20+F21+F22+F23+F16 -> 0 | G24: =G7+G8+G9+G10+G11+G12+G13+G14+G15+G17+G19+G20+G21+G22+G23+G16 -> 0 | H24: =H7+H8+H9+H10+H11+H12+H13+H14+H15+H17+H19+H20+H21+H22+H23+H16 -> 3 | I24: =I7+I8+I9+I10+I11+I12+I13+I14+I15+I17+I19+I20+I21+I22+I23+I16 -> 0 | J24: =J7+J8+J9+J10+J11+J12+J13+J14+J15+J17+J19+J20+J21+J22+J23+J16 -> 0 | K24: =K7+K8+K9+K10+K11+K12+K13+K14+K15+K17+K19+K20+K21+K22+K23+K16 -> 3 | ... R24: =R7+R8+R9+R10+R11+R12+R13+R14+R15+R17+R19+R20+R21+R22+R23+R16 -> 0 | T24: =D24+E24 -> 4 | U24: =F24+K24+L24 -> 4 | V24: =K24 -> 3 | W24: =G24+H24+I24+J24 -> 3
